BOTTLE,20220818CCHSIOAMB
EXPOCODE,SECT_ID,STNNBR,CASTNO,SAMPNO,BTLNBR,BTLNBR_FLAG_W,DATE,TIME,LATITUDE,LONGITUDE,DEPTH,CTDPRS,CTDTMP,CTDSAL,CTDSAL_FLAG_W,SALNTY,SALNTY_FLAG_W,CTDOXY,CTDOXY_FLAG_W,OXYGEN,OXYGEN_FLAG_W,SILCAT,SILCAT_FLAG_W,NITRAT,NITRAT_FLAG_W,NITRIT,NITRIT_FLAG_W,PHSPHT,PHSPHT_FLAG_W,CFC-11,CFC-11_FLAG_W,CFC-12,CFC-12_FLAG_W,SF6,SF6_FLAG_W,TCARBN,TCARBN_FLAG_W,ALKALI,ALKALI_FLAG_W,FCO2,FCO2_FLAG_W,FCO2TMP,PH_SWS,PH_SWS_FLAG_W,PH_TMP,TRITUM,TRITUM_FLAG_W,HELIUM,HELIUM_FLAG_W,DELHE3,DELHE3_FLAG_W,DELC13,DELC13_FLAG_W,DELC14,DELC14_FLAG_W,NEON,NEON_FLAG_W,NEONER,CCL4,CCL4_FLAG_W,POC,POC_FLAG_W,DOC,DOC_FLAG_W,TDN,TDN_FLAG_W,DON,DON_FLAG_W,CHLORA,CHLORA_FLAG_W,ARGON,ARGON_FLAG_W,TRITER,CDOM325,CDOM325_FLAG_W,CDOM340,CDOM340_FLAG_W,CDOM380,CDOM380_FLAG_W,CDOM412,CDOM412_FLAG_W,CDOM443,CDOM443_FLAG_W,CDOM490,CDOM490_FLAG_W,CDOM555,CDOM555_FLAG_W,CDOMSL,CDOMSL_FLAG_W,CDOMSN,CDOMSN_FLAG_W,THETA,D18O_NO3,D18O_NO3_FLAG_W,CDOM2C,CDOM2C_FLAG_W,CDOM3C,CDOM3C_FLAG_W,LAB_DEN,LAB_DEN_FLAG_W,DELSI30,DELSI30_FLAG_W,N2,N2_FLAG_W,D15N_NO3,D15N_NO3_FLAG_W,HELIER,DELHER
,,,,,,,,,,,METERS,DBAR,ITS-90,PSS-78,,PSS-78,,UMOL/KG,,UMOL/KG,,UMOL/KG,,UMOL/KG,,UMOL/KG,,UMOL/KG,,PMOL/KG,,PMOL/KG,,FMOL/KG,,UMOL/KG,,UMOL/KG,,UATM,,DEG C,,,DEG C,TU,,NMOL/KG,,PERCNT,,/MILLE,,/MILLE,,NMOL/KG,,NMOL/KG,PMOL/KG,,UG/KG,,UMOL/KG,,UMOL/KG,,UMOL/KG,,UG/KG,,UMOL/KG,,TU,1/M,,1/M,,1/M,,1/M,,1/M,,1/M,,1/M,,1/NM,,1/NM,,DEG C,/MILLE,,,,,,,,/MILLE,,UMOL/KG,,/MILLE,,NMOL/KG,PERCNT
33RO20071215,        P18,     112,          1,         11,      12003,2,20080126,       1643,   -36.2498,  -102.9997,       2464,  1399.1,   3.1275,  34.5063,2,  34.5068,2,    132.5,2,   132.3,2,   79.00,2,   37.70,2,    0.00,2,    2.67,2,   0.072,2,   0.043,2,   0.0020,2,  2275.0,6,  2345.0,2,   -999.0,9,  -999.00,   7.5019,2,    25.00,-999.000,9,-999.0000,9, -999.00,9, -999.00,9,  -999.0,9,-999.000,9,-999.000,-999.000,9,-999.000,9,   36.91,2,   39.24,2, -999.00,9, -999.00,9, -999.00,9,-999.000,   0.1191,2,   0.0796,2,   0.0418,2,   0.0293,2,   0.0185,2,   0.0074,2,   0.0021,2,   0.0149,2,   0.0169,2,   3.0268,     -999.0,9,     -999.0,9,     -999.0,9,     -999.0,9,     -999.0,9,     -999.0,9,     -999.0,9,-999.0000, -999.00
33RO20071215,        P18,     112,          1,         10,      12032,2,20080126,       1643,   -36.2498,  -102.9997,       2464,  1498.6,   2.9371,  34.5431,2,  34.5429,2,    130.0,2,   130.3,2,   87.70,2,   37.70,2,    0.00,2,    2.67,2,   0.013,2,   0.006,2,   0.0000,2,  -999.0,9,  -999.0,9,   -999.0,9,  -999.00,-999.0000,9,  -999.00,-999.000,9,-999.0000,9, -999.00,9,    0.24,2,  -999.0,1,-999.000,9,-999.000,-999.000,9,-999.000,9,   36.60,2,   39.08,2, -999.00,9, -999.00,9, -999.00,9,-999.000,   0.1215,2,   0.0814,2,   0.0426,2,   0.0295,2,   0.0191,2,   0.0079,2,   0.0026,2,   0.0148,2,   0.0169,2,   2.8302,     -999.0,9,     -999.0,9,     -999.0,9,     -999.0,9,     -999.0,9,     -999.0,9,     -999.0,9,-999.0000, -999.00
33RO20071215,        P18,     112,          1,          9,      12002,2,20080126,       1643,   -36.2498,  -102.9997,       2464,  1599.3,   2.7460,  34.5617,2,  34.5621,2,    138.6,2,   139.0,2,   90.70,2,   36.90,2,    0.00,2,    2.61,2,   0.011,2,   0.005,2,   0.0000,2,  2280.7,2,  -999.0,9,   -999.0,9,  -999.00,   7.5319,2,    25.00,-999.000,9,-999.0000,9, -999.00,9, -999.00,9,  -999.0,9,-999.000,9,-999.000,-999.000,9,-999.000,9,   37.27,2,   37.93,2, -999.00,9, -999.00,9, -999.00,9,-999.000,   0.1133,2,   0.0741,2,   0.0368,2,   0.0244,2,   0.0143,2,   0.0045,2,   0.0004,3,   0.0164,2,   0.0189,2,   2.6330,     -999.0,9,     -999.0,9,     -999.0,9,     -999.0,9,     -999.0,9,     -999.0,9,     -999.0,9,-999.0000, -999.00
33RO20071215,        P18,     112,          1,          8,      12021,2,20080126,       1643,   -36.2498,  -102.9997,       2464,  1698.9,   2.5793,  34.5819,2,  34.5836,2,    143.3,2,   144.9,2,   94.50,2,   36.50,2,    0.00,2,    2.55,2,   0.013,2,   0.008,2,   0.0000,2,  -999.0,9,  -999.0,9,   -999.0,9,  -999.00,-999.0000,9,  -999.00,-999.000,9,-999.0000,9, -999.00,9, -999.00,9,  -999.0,9,-999.000,9,-999.000,-999.000,9,-999.000,9,   38.06,2,   37.67,2, -999.00,9, -999.00,9, -999.00,9,-999.000,   0.1128,2,   0.0737,2,   0.0361,2,   0.0235,2,   0.0138,2,   0.0043,2,   0.0005,3,   0.0167,2,   0.0193,2,   2.4600,     -999.0,9,     -999.0,9,     -999.0,9,     -999.0,9,     -999.0,9,     -999.0,9,     -999.0,9,-999.0000, -999.00
33RO20071215,        P18,     112,          1,          7,      12001,2,20080126,       1643,   -36.2498,  -102.9997,       2464,  1799.4,   2.4264,  34.6032,2,  34.6040,2,    146.6,2,   146.9,2,   99.60,2,   36.20,2,    0.00,2,    2.53,2,   0.009,2,   0.004,2,   0.0000,2,  2285.2,2,  2362.3,2,   -999.0,9,  -999.00,   7.5563,2,    25.00,-999.000,9,-999.0000,9, -999.00,9, -999.00,9,  -999.0,9,-999.000,9,-999.000,-999.000,9,-999.000,9,   37.55,2,   37.34,2, -999.00,9, -999.00,9, -999.00,9,-999.000,   0.1146,2,   0.0753,2,   0.0374,2,   0.0247,2,   0.0147,2,   0.0048,2,   0.0008,2,   0.0163,2,   0.0188,2,   2.3007,     -999.0,9,     -999.0,9,     -999.0,9,     -999.0,9,     -999.0,9,     -999.0,9,     -999.0,9,-999.0000, -999.00
33RO20071215,        P18,     112,          1,          6,      12033,2,20080126,       1643,   -36.2498,  -102.9997,       2464,  1898.4,   2.3206,  34.6180,2,  34.6188,2,    151.3,2,   151.6,2,  101.00,2,   35.70,2,    0.00,2,    2.50,2,   0.012,2,   0.006,2,   0.0000,2,  -999.0,9,  -999.0,9,   -999.0,9,  -999.00,-999.0000,9,  -999.00,-999.000,9,-999.0000,9, -999.00,9, -999.00,9,  -999.0,9,-999.000,9,-999.000,-999.000,9,-999.000,9,   37.06,2,   36.78,2, -999.00,9, -999.00,9, -999.00,9,-999.000,   0.1166,2,   0.0768,2,   0.0380,2,   0.0252,2,   0.0151,2,   0.0052,2,   0.0011,2,   0.0163,2,   0.0188,2,   2.1880,     -999.0,9,     -999.0,9,     -999.0,9,     -999.0,9,     -999.0,9,     -999.0,9,     -999.0,9,-999.0000, -999.00
33RO20071215,        P18,     112,          1,          5,      12008,2,20080126,       1643,   -36.2498,  -102.9997,       2464,  1949.1,   2.2703,  34.6241,2,  34.6252,2,    152.6,2,   153.1,2,  102.50,2,   35.50,2,    0.00,2,    2.48,2,   0.017,2,   0.008,2,   0.0000,2,  2281.4,2,  2364.3,2,   -999.0,9,  -999.00,   7.5606,2,    25.00,-999.000,9,-999.0000,9, -999.00,9,     0.3,2,  -999.0,1,-999.000,9,-999.000,-999.000,9,-999.000,9,   37.26,2,   36.71,2, -999.00,9, -999.00,9, -999.00,9,-999.000,   0.1126,2,   0.0732,2,   0.0356,2,   0.0232,2,   0.0134,2,   0.0042,2,   0.0004,3,   0.0169,2,   0.0195,2,   2.1341,     -999.0,9,     -999.0,9,     -999.0,9,     -999.0,9,     -999.0,9,     -999.0,9,     -999.0,9,-999.0000, -999.00
33RO20071215,        P18,     112,          1,          4,      12009,2,20080126,       1643,   -36.2498,  -102.9997,       2464,  2000.3,   2.2244,  34.6323,2,  34.6324,2,    155.5,2,   156.2,2,  103.10,6,   35.30,6,    0.00,6,    2.46,2,   0.013,2,   0.007,2,   0.0000,2,  -999.0,9,  -999.0,9,   -999.0,9,  -999.00,-999.0000,9,  -999.00,-999.000,9,-999.0000,9, -999.00,9, -999.00,9,  -999.0,9,-999.000,9,-999.000,   0.036,3,-999.000,9,   38.34,2,   36.26,2, -999.00,9, -999.00,9, -999.00,9,-999.000,   0.1154,2,   0.0760,2,   0.0371,2,   0.0242,2,   0.0143,2,   0.0049,2,   0.0009,2,   0.0166,2,   0.0192,2,   2.0845,     -999.0,9,     -999.0,9,     -999.0,9,     -999.0,9,     -999.0,9,     -999.0,9,     -999.0,9,-999.0000, -999.00
33RO20071215,        P18,     112,          1,          3,      12006,2,20080126,       1643,   -36.2498,  -102.9997,       2464,  2200.0,   2.0146,  34.6640,2,  34.6647,2,    162.0,2,   162.2,2,  108.30,6,   34.70,6,    0.00,6,    2.40,2,   0.015,2,   0.008,2,   0.0000,2,  2282.1,2,  -999.0,9,   -999.0,9,  -999.00,   7.5688,2,    25.00,-999.000,9,-999.0000,9, -999.00,9, -999.00,9,  -999.0,9,-999.000,9,-999.000,   0.036,3,-999.000,9,   38.20,2,   35.63,2, -999.00,9, -999.00,9, -999.00,9,-999.000,   0.1146,2,   0.0751,2,   0.0365,2,   0.0235,2,   0.0137,2,   0.0044,2,   0.0006,3,   0.0169,2,   0.0195,2,   1.8607,     -999.0,9,     -999.0,9,     -999.0,9,     -999.0,9,     -999.0,9,     -999.0,9,     -999.0,9,-999.0000, -999.00
33RO20071215,        P18,     112,          1,          2,      12007,2,20080126,       1643,   -36.2498,  -102.9997,       2464,  2398.9,   1.9232,  34.6744,2,  34.6742,2,    163.4,2,   164.1,2,  112.00,6,   34.50,6,    0.00,6,    2.40,2,-999.000,9,-999.000,9,-999.0000,9,  -999.0,9,  -999.0,9,   -999.0,9,  -999.00,-999.0000,9,  -999.00,-999.000,9,-999.0000,9, -999.00,9,    0.31,2,  -999.0,1,-999.000,9,-999.000,-999.000,9,-999.000,9,   37.89,2,   35.88,2, -999.00,9, -999.00,9, -999.00,9,-999.000,   0.1116,2,   0.0723,2,   0.0342,2,   0.0216,2,   0.0123,2,   0.0037,2,   0.0002,3,   0.0175,2,   0.0203,2,   1.7534,     -999.0,9,     -999.0,9,     -999.0,9,     -999.0,9,     -999.0,9,     -999.0,9,     -999.0,9,-999.0000, -999.00
33RO20071215,        P18,     112,          1,          1,      12035,2,20080126,       1643,   -36.2498,  -102.9997,       2464,  2466.6,   1.9067,  34.6760,2,  34.6765,2,    164.1,2,   163.9,2,  113.10,2,   34.60,2,    0.01,2,    2.40,2,   0.036,3,   0.050,3,   0.4476,3,  2287.7,6,  2378.6,2,   -999.0,9,  -999.00,   7.5730,2,    25.00,-999.000,9,-999.0000,9, -999.00,9,     0.3,2,  -999.0,1,-999.000,9,-999.000,   0.038,3,-999.000,9,   38.22,2,   36.12,2, -999.00,9, -999.00,9, -999.00,9,-999.000,   0.1133,2,   0.0737,2,   0.0350,2,   0.0219,2,   0.0123,2,   0.0035,2,  -0.0001,4,   0.0177,2,   0.0204,2,   1.7311,     -999.0,9,     -999.0,9,     -999.0,9,     -999.0,9,     -999.0,9,     -999.0,9,     -999.0,9,-999.0000, -999.00