BOTTLE,20220818CCHSIOAMB
EXPOCODE,SECT_ID,STNNBR,CASTNO,SAMPNO,BTLNBR,BTLNBR_FLAG_W,DATE,TIME,LATITUDE,LONGITUDE,DEPTH,CTDPRS,CTDTMP,CTDSAL,CTDSAL_FLAG_W,SALNTY,SALNTY_FLAG_W,CTDOXY,CTDOXY_FLAG_W,OXYGEN,OXYGEN_FLAG_W,SILCAT,SILCAT_FLAG_W,NITRAT,NITRAT_FLAG_W,NITRIT,NITRIT_FLAG_W,PHSPHT,PHSPHT_FLAG_W,CFC-11,CFC-11_FLAG_W,CFC-12,CFC-12_FLAG_W,SF6,SF6_FLAG_W,TCARBN,TCARBN_FLAG_W,ALKALI,ALKALI_FLAG_W,FCO2,FCO2_FLAG_W,FCO2TMP,PH_SWS,PH_SWS_FLAG_W,PH_TMP,TRITUM,TRITUM_FLAG_W,HELIUM,HELIUM_FLAG_W,DELHE3,DELHE3_FLAG_W,DELC13,DELC13_FLAG_W,DELC14,DELC14_FLAG_W,NEON,NEON_FLAG_W,NEONER,CCL4,CCL4_FLAG_W,POC,POC_FLAG_W,DOC,DOC_FLAG_W,TDN,TDN_FLAG_W,DON,DON_FLAG_W,CHLORA,CHLORA_FLAG_W,ARGON,ARGON_FLAG_W,TRITER,CDOM325,CDOM325_FLAG_W,CDOM340,CDOM340_FLAG_W,CDOM380,CDOM380_FLAG_W,CDOM412,CDOM412_FLAG_W,CDOM443,CDOM443_FLAG_W,CDOM490,CDOM490_FLAG_W,CDOM555,CDOM555_FLAG_W,CDOMSL,CDOMSL_FLAG_W,CDOMSN,CDOMSN_FLAG_W,THETA,D18O_NO3,D18O_NO3_FLAG_W,CDOM2C,CDOM2C_FLAG_W,CDOM3C,CDOM3C_FLAG_W,LAB_DEN,LAB_DEN_FLAG_W,DELSI30,DELSI30_FLAG_W,N2,N2_FLAG_W,D15N_NO3,D15N_NO3_FLAG_W,HELIER,DELHER
,,,,,,,,,,,METERS,DBAR,ITS-90,PSS-78,,PSS-78,,UMOL/KG,,UMOL/KG,,UMOL/KG,,UMOL/KG,,UMOL/KG,,UMOL/KG,,PMOL/KG,,PMOL/KG,,FMOL/KG,,UMOL/KG,,UMOL/KG,,UATM,,DEG C,,,DEG C,TU,,NMOL/KG,,PERCNT,,/MILLE,,/MILLE,,NMOL/KG,,NMOL/KG,PMOL/KG,,UG/KG,,UMOL/KG,,UMOL/KG,,UMOL/KG,,UG/KG,,UMOL/KG,,TU,1/M,,1/M,,1/M,,1/M,,1/M,,1/M,,1/M,,1/NM,,1/NM,,DEG C,/MILLE,,,,,,,,/MILLE,,UMOL/KG,,/MILLE,,NMOL/KG,PERCNT
33RO20071215,        P18,      79,          1,         11,      12003,2,20080110,       1859,   -16.9997,  -103.0002,       3920,  1867.1,   2.4370,  34.6267,2,  34.6265,2,    113.8,2,  -999.0,5,  122.00,2,   39.40,2,    0.00,2,    2.74,2,-999.000,9,-999.000,9,-999.0000,9,  -999.0,9,  -999.0,9,   -999.0,9,  -999.00,-999.0000,9,  -999.00,-999.000,9,-999.0000,9, -999.00,9, -999.00,9,  -999.0,9,-999.000,9,-999.000,-999.000,9,-999.000,9,   37.97,2,   40.56,2, -999.00,9, -999.00,9, -999.00,9,-999.000,   0.1365,2,   0.0925,2,   0.0477,2,   0.0328,2,   0.0200,2,   0.0073,2,   0.0020,2,   0.0156,2,   0.0172,2,   2.3054,     -999.0,9,     -999.0,9,     -999.0,9,     -999.0,9,     -999.0,9,     -999.0,9,     -999.0,9,-999.0000, -999.00
33RO20071215,        P18,      79,          1,         10,      12032,2,20080110,       1859,   -16.9997,  -103.0002,       3920,  2067.1,   2.1862,  34.6427,2,  34.6411,2,    130.2,2,  -999.0,5,  123.20,2,   38.10,2,    0.00,2,    2.62,2,-999.000,9,-999.000,9,-999.0000,9,  2315.3,2,  2394.7,2,   -999.0,9,  -999.00,   7.5383,2,    25.00,-999.000,9,-999.0000,9, -999.00,9,    0.08,2,  -999.0,1,-999.000,9,-999.000,-999.000,9,-999.000,9,   37.61,2,   39.50,2, -999.00,9, -999.00,9, -999.00,9,-999.000,   0.1389,2,   0.0948,2,   0.0477,2,   0.0323,2,   0.0199,2,   0.0077,2,   0.0023,2,   0.0158,2,   0.0176,2,   2.0411,     -999.0,9,     -999.0,9,     -999.0,9,     -999.0,9,     -999.0,9,     -999.0,9,     -999.0,9,-999.0000, -999.00
33RO20071215,        P18,      79,          1,          9,      12002,2,20080110,       1859,   -16.9997,  -103.0002,       3920,  2268.1,   1.9710,  34.6583,2,  34.6582,2,    146.4,2,   147.0,2,  123.00,2,   36.80,2,    0.00,2,    2.54,2,-999.000,9,-999.000,9,-999.0000,9,  2306.7,6,  -999.0,9,   -999.0,9,  -999.00,-999.0000,9,  -999.00,-999.000,9,-999.0000,9, -999.00,9, -999.00,9,  -999.0,9,-999.000,9,-999.000,-999.000,9,-999.000,9,   38.06,2,   37.96,2, -999.00,9, -999.00,9, -999.00,9,-999.000,   0.1166,2,   0.0762,2,   0.0363,2,   0.0228,2,   0.0133,2,   0.0046,2,   0.0008,2,   0.0172,2,   0.0200,2,   1.8119,     -999.0,9,     -999.0,9,     -999.0,9,     -999.0,9,     -999.0,9,     -999.0,9,     -999.0,9,-999.0000, -999.00
33RO20071215,        P18,      79,          1,          8,      12021,4,20080110,       1859,   -16.9997,  -103.0002,       3920,  2467.6,   1.8728,  34.6689,2,  35.6766,4,    150.1,2,   214.8,4,    1.40,3,    1.70,3,    0.67,3,    0.44,3,-999.000,9,-999.000,9,-999.0000,9,  -999.0,9,  -999.0,9,   -999.0,9,  -999.00,-999.0000,9,  -999.00,-999.000,9,-999.0000,9, -999.00,9, -999.00,9,  -999.0,9,-999.000,9,-999.000,-999.000,9,-999.000,9,   65.51,4,    6.00,4, -999.00,9, -999.00,9, -999.00,9,-999.000,-999.0000,5,-999.0000,5,-999.0000,5,-999.0000,5,-999.0000,5,-999.0000,5,-999.0000,5,-999.0000,5,-999.0000,5,   1.6977,     -999.0,9,     -999.0,9,     -999.0,9,     -999.0,9,     -999.0,9,     -999.0,9,     -999.0,9,-999.0000, -999.00
33RO20071215,        P18,      79,          1,          7,      12001,2,20080110,       1859,   -16.9997,  -103.0002,       3920,  2667.0,   1.8291,  34.6754,2,  34.6749,2,    152.4,2,   153.0,2,  127.10,2,   36.40,2,    0.00,2,    2.47,2,-999.000,9,-999.000,9,-999.0000,9,  2307.6,2,  -999.0,9,   -999.0,9,  -999.00,-999.0000,9,  -999.00,-999.000,9,-999.0000,9, -999.00,9,    0.15,2,  -999.0,1,-999.000,9,-999.000,-999.000,9,-999.000,9,   37.63,2,   37.17,2, -999.00,9, -999.00,9, -999.00,9,-999.000,   0.1221,2,   0.0814,2,   0.0406,2,   0.0260,2,   0.0161,2,   0.0065,2,   0.0019,2,   0.0162,2,   0.0185,2,   1.6366,     -999.0,9,     -999.0,9,     -999.0,9,     -999.0,9,     -999.0,9,     -999.0,9,     -999.0,9,-999.0000, -999.00
33RO20071215,        P18,      79,          1,          6,      12033,2,20080110,       1859,   -16.9997,  -103.0002,       3920,  2866.4,   1.8081,  34.6807,2,  34.6806,2,    150.5,2,   150.4,2,  130.90,2,   36.40,2,    0.00,2,    2.49,2,-999.000,9,-999.000,9,-999.0000,9,  -999.0,9,  -999.0,9,   -999.0,9,  -999.00,-999.0000,9,  -999.00,-999.000,9,-999.0000,9, -999.00,9, -999.00,9,  -999.0,9,-999.000,9,-999.000,-999.000,9,-999.000,9,   37.86,2,   37.44,2, -999.00,9, -999.00,9, -999.00,9,-999.000,-999.0000,5,-999.0000,5,-999.0000,5,-999.0000,5,-999.0000,5,-999.0000,5,-999.0000,5,-999.0000,5,-999.0000,5,   1.5973,     -999.0,9,     -999.0,9,     -999.0,9,     -999.0,9,     -999.0,9,     -999.0,9,     -999.0,9,-999.0000, -999.00
33RO20071215,        P18,      79,          1,          5,      12008,2,20080110,       1859,   -16.9997,  -103.0002,       3920,  3083.9,   1.7953,  34.6824,2,  34.6816,2,    145.6,2,   146.7,2,  136.20,2,   36.80,2,    0.00,2,    2.52,2,-999.000,9,-999.000,9,-999.0000,9,  2321.9,2,  2418.8,2,   -999.0,9,  -999.00,   7.5805,2,    25.00,-999.000,9,-999.0000,9, -999.00,9,    0.11,2,  -999.0,1,-999.000,9,-999.000,-999.000,9,-999.000,9,   37.44,2,   37.87,2, -999.00,9, -999.00,9, -999.00,9,-999.000,   0.1275,2,   0.0857,2,   0.0430,2,   0.0272,2,   0.0162,2,   0.0058,2,   0.0011,2,   0.0167,2,   0.0186,2,   1.5637,     -999.0,9,     -999.0,9,     -999.0,9,     -999.0,9,     -999.0,9,     -999.0,9,     -999.0,9,-999.0000, -999.00
33RO20071215,        P18,      79,          1,          4,      12009,2,20080110,       1859,   -16.9997,  -103.0002,       3920,  3332.7,   1.8003,  34.6841,2,  34.6837,2,    146.2,2,   147.1,2,  136.70,6,   36.70,6,    0.00,6,    2.51,2,-999.000,9,-999.000,9,-999.0000,9,  -999.0,9,  -999.0,9,   -999.0,9,  -999.00,-999.0000,9,  -999.00,-999.000,9,-999.0000,9, -999.00,9, -999.00,9,  -999.0,9,-999.000,9,-999.000,-999.000,9,-999.000,9,   39.07,2,   37.55,2, -999.00,9, -999.00,9, -999.00,9,-999.000,   0.1284,2,   0.0863,2,   0.0433,2,   0.0273,2,   0.0165,2,   0.0060,2,   0.0013,2,   0.0166,2,   0.0185,2,   1.5437,     -999.0,9,     -999.0,9,     -999.0,9,     -999.0,9,     -999.0,9,     -999.0,9,     -999.0,9,-999.0000, -999.00
33RO20071215,        P18,      79,          1,          3,      12006,2,20080110,       1859,   -16.9997,  -103.0002,       3920,  3580.9,   1.8110,  34.6864,2,  34.6857,2,    148.7,2,   148.6,2,  134.50,6,   36.50,6,    0.00,6,    2.50,2,-999.000,9,-999.000,9,-999.0000,9,  -999.0,9,  -999.0,9,   -999.0,9,  -999.00,-999.0000,9,  -999.00,-999.000,9,-999.0000,9, -999.00,9, -999.00,9,  -999.0,9,-999.000,9,-999.000,-999.000,9,-999.000,9,   39.26,2,   37.72,2, -999.00,9, -999.00,9, -999.00,9,-999.000,   0.1272,2,   0.0855,2,   0.0429,2,   0.0267,2,   0.0161,2,   0.0059,2,   0.0013,2,   0.0167,2,   0.0186,2,   1.5285,     -999.0,9,     -999.0,9,     -999.0,9,     -999.0,9,     -999.0,9,     -999.0,9,     -999.0,9,-999.0000, -999.00
33RO20071215,        P18,      79,          1,          2,      12007,2,20080110,       1859,   -16.9997,  -103.0002,       3920,  3832.9,   1.8221,  34.6879,2,  34.6879,2,    149.9,2,   149.8,2,  133.60,6,   36.40,6,    0.00,6,    2.49,2,-999.000,9,-999.000,9,-999.0000,9,  2320.2,2,  2417.6,4,   -999.0,9,  -999.00,   7.5822,2,    25.00,-999.000,9,-999.0000,9, -999.00,9,    0.11,2,  -999.0,1,-999.000,9,-999.000,-999.000,9,-999.000,9,   39.07,2,   37.31,2, -999.00,9, -999.00,9, -999.00,9,-999.000,   0.1270,2,   0.0853,2,   0.0425,2,   0.0263,2,   0.0156,2,   0.0053,2,   0.0009,2,   0.0170,2,   0.0188,2,   1.5123,     -999.0,9,     -999.0,9,     -999.0,9,     -999.0,9,     -999.0,9,     -999.0,9,     -999.0,9,-999.0000, -999.00
33RO20071215,        P18,      79,          1,          1,      12035,2,20080110,       1859,   -16.9997,  -103.0002,       3920,  3969.5,   1.8302,  34.6884,2,  34.6876,2,    150.4,2,   149.8,2,  133.50,2,   36.50,2,    0.00,2,    2.49,2,-999.000,9,-999.000,9,-999.0000,9,  2320.9,6,  2419.1,4,   -999.0,9,  -999.00,   7.5724,2,    25.00,-999.000,9,-999.0000,9, -999.00,9,    0.12,2,  -999.0,1,-999.000,9,-999.000,-999.000,9,-999.000,9,   38.48,2,   38.02,2, -999.00,9, -999.00,9, -999.00,9,-999.000,   0.1275,2,   0.0849,2,   0.0412,2,   0.0252,2,   0.0144,2,   0.0043,2,   0.0002,3,   0.0176,2,   0.0197,2,   1.5053,     -999.0,9,     -999.0,9,     -999.0,9,     -999.0,9,     -999.0,9,     -999.0,9,     -999.0,9,-999.0000, -999.00