BOTTLE,20220818CCHSIOAMB
EXPOCODE,SECT_ID,STNNBR,CASTNO,SAMPNO,BTLNBR,BTLNBR_FLAG_W,DATE,TIME,LATITUDE,LONGITUDE,DEPTH,CTDPRS,CTDTMP,CTDSAL,CTDSAL_FLAG_W,SALNTY,SALNTY_FLAG_W,CTDOXY,CTDOXY_FLAG_W,OXYGEN,OXYGEN_FLAG_W,SILCAT,SILCAT_FLAG_W,NITRAT,NITRAT_FLAG_W,NITRIT,NITRIT_FLAG_W,PHSPHT,PHSPHT_FLAG_W,CFC-11,CFC-11_FLAG_W,CFC-12,CFC-12_FLAG_W,SF6,SF6_FLAG_W,TCARBN,TCARBN_FLAG_W,ALKALI,ALKALI_FLAG_W,FCO2,FCO2_FLAG_W,FCO2TMP,PH_SWS,PH_SWS_FLAG_W,PH_TMP,TRITUM,TRITUM_FLAG_W,HELIUM,HELIUM_FLAG_W,DELHE3,DELHE3_FLAG_W,DELC13,DELC13_FLAG_W,DELC14,DELC14_FLAG_W,NEON,NEON_FLAG_W,NEONER,CCL4,CCL4_FLAG_W,POC,POC_FLAG_W,DOC,DOC_FLAG_W,TDN,TDN_FLAG_W,DON,DON_FLAG_W,CHLORA,CHLORA_FLAG_W,ARGON,ARGON_FLAG_W,TRITER,CDOM325,CDOM325_FLAG_W,CDOM340,CDOM340_FLAG_W,CDOM380,CDOM380_FLAG_W,CDOM412,CDOM412_FLAG_W,CDOM443,CDOM443_FLAG_W,CDOM490,CDOM490_FLAG_W,CDOM555,CDOM555_FLAG_W,CDOMSL,CDOMSL_FLAG_W,CDOMSN,CDOMSN_FLAG_W,THETA,D18O_NO3,D18O_NO3_FLAG_W,CDOM2C,CDOM2C_FLAG_W,CDOM3C,CDOM3C_FLAG_W,LAB_DEN,LAB_DEN_FLAG_W,DELSI30,DELSI30_FLAG_W,N2,N2_FLAG_W,D15N_NO3,D15N_NO3_FLAG_W,HELIER,DELHER
,,,,,,,,,,,METERS,DBAR,ITS-90,PSS-78,,PSS-78,,UMOL/KG,,UMOL/KG,,UMOL/KG,,UMOL/KG,,UMOL/KG,,UMOL/KG,,PMOL/KG,,PMOL/KG,,FMOL/KG,,UMOL/KG,,UMOL/KG,,UATM,,DEG C,,,DEG C,TU,,NMOL/KG,,PERCNT,,/MILLE,,/MILLE,,NMOL/KG,,NMOL/KG,PMOL/KG,,UG/KG,,UMOL/KG,,UMOL/KG,,UMOL/KG,,UG/KG,,UMOL/KG,,TU,1/M,,1/M,,1/M,,1/M,,1/M,,1/M,,1/M,,1/NM,,1/NM,,DEG C,/MILLE,,,,,,,,/MILLE,,UMOL/KG,,/MILLE,,NMOL/KG,PERCNT
33RO20071215,        P18,      30,          1,         24,      11024,2,20071225,       1004,     7.4167,  -109.9998,       3924,     4.6,  27.0249,  33.7791,2,  33.7819,2,    204.5,2,   203.1,2,    1.00,2,    0.00,2,    0.00,2,    0.10,2,   1.636,6,   1.050,6,   0.9807,6,  1905.0,6,  2236.2,2,   -999.0,9,  -999.00,   8.1113,2,    25.00,   0.507,2,   1.6989,2,   -1.36,2, -999.00,9,  -999.0,9,   6.619,2,   0.022,-999.000,9,-999.000,9,   69.86,2,    4.16,2, -999.00,1, -999.00,9, -999.00,9,   0.007,-999.0000,9,-999.0000,9,-999.0000,9,-999.0000,9,-999.0000,9,-999.0000,9,-999.0000,9,-999.0000,9,-999.0000,9,  27.0239,     -999.0,9,     -999.0,9,     -999.0,9,     -999.0,9,     -999.0,9,     -999.0,9,     -999.0,9,   0.0048,    0.15
33RO20071215,        P18,      30,          1,         23,      11023,2,20071225,       1004,     7.4167,  -109.9998,       3924,    20.8,  27.0757,  33.8140,2,  33.8168,2,    204.9,2,   201.3,2,    1.00,2,    0.10,2,    0.00,2,    0.13,2,   1.613,2,   1.037,2,   1.0199,2,  1906.6,2,  2218.5,2,   -999.0,9,  -999.00,   8.0887,2,    25.00,-999.000,9,-999.0000,9, -999.00,9, -999.00,9,  -999.0,9,-999.000,9,-999.000,-999.000,9,-999.000,9,   68.79,2,    5.42,2, -999.00,1, -999.00,9, -999.00,9,-999.000,-999.0000,9,-999.0000,9,-999.0000,9,-999.0000,9,-999.0000,9,-999.0000,9,-999.0000,9,-999.0000,9,-999.0000,9,  27.0709,     -999.0,9,     -999.0,9,     -999.0,9,     -999.0,9,     -999.0,9,     -999.0,9,     -999.0,9,-999.0000, -999.00
33RO20071215,        P18,      30,          1,         22,      11022,2,20071225,       1004,     7.4167,  -109.9998,       3924,    41.7,  24.7436,  34.6660,2,  34.6727,2,    203.4,2,   199.7,2,    2.40,2,    2.10,2,    0.26,2,    0.32,2,   1.839,2,   1.142,2,   0.9783,2,  2011.4,2,  2284.7,2,   -999.0,9,  -999.00,   8.0051,2,    25.00,   0.541,2,   1.7182,2,   -0.57,2, -999.00,9,  -999.0,9,   6.793,2,   0.023,-999.000,9,-999.000,9, -999.00,9, -999.00,9, -999.00,1, -999.00,9, -999.00,9,   0.007,-999.0000,9,-999.0000,9,-999.0000,9,-999.0000,9,-999.0000,9,-999.0000,9,-999.0000,9,-999.0000,9,-999.0000,9,  24.7346,     -999.0,9,     -999.0,9,     -999.0,9,     -999.0,9,     -999.0,9,     -999.0,9,     -999.0,9,   0.0048,    0.15
33RO20071215,        P18,      30,          1,         21,      11021,2,20071225,       1004,     7.4167,  -109.9998,       3924,    66.8,  16.5505,  34.7103,2,  34.7171,2,     45.8,2,    41.9,2,   17.50,2,   26.30,2,    0.33,2,    1.94,2,   1.402,2,   0.811,2,   0.4724,2,  2196.2,2,  2285.0,2,   -999.0,9,  -999.00,   7.5774,2,    25.00,-999.000,9,-999.0000,9, -999.00,9, -999.00,9,  -999.0,9,-999.000,9,-999.000,-999.000,9,-999.000,9,   52.06,2,   29.58,2, -999.00,1, -999.00,9, -999.00,9,-999.000,-999.0000,9,-999.0000,9,-999.0000,9,-999.0000,9,-999.0000,9,-999.0000,9,-999.0000,9,-999.0000,9,-999.0000,9,  16.5398,     -999.0,9,     -999.0,9,     -999.0,9,     -999.0,9,     -999.0,9,     -999.0,9,     -999.0,9,-999.0000, -999.00
33RO20071215,        P18,      30,          1,         20,      11020,2,20071225,       1004,     7.4167,  -109.9998,       3924,    91.1,  13.3806,  34.7805,2,  34.7814,2,     11.5,2,    13.5,2,   24.10,2,   31.80,2,    0.02,2,    2.30,2,   1.016,6,   0.569,6,   0.2401,6,  2235.5,2,  2306.7,4,   -999.0,9,  -999.00,   7.4737,2,    25.00,-999.000,9,   1.8605,2,    6.22,2, -999.00,9,  -999.0,9,   7.736,2,   0.026,-999.000,9,-999.000,9, -999.00,9, -999.00,9, -999.00,1, -999.00,9, -999.00,9,-999.000,-999.0000,9,-999.0000,9,-999.0000,9,-999.0000,9,-999.0000,9,-999.0000,9,-999.0000,9,-999.0000,9,-999.0000,9,  13.3679,     -999.0,9,     -999.0,9,     -999.0,9,     -999.0,9,     -999.0,9,     -999.0,9,     -999.0,9,   0.0052,    0.15
33RO20071215,        P18,      30,          1,         19,      11019,2,20071225,       1004,     7.4167,  -109.9998,       3924,   117.0,  12.1244,  34.7308,2,  34.7317,2,     49.8,2,    53.6,2,   25.40,2,   29.10,2,    0.00,2,    2.03,2,   1.049,2,   0.577,2,   0.2685,2,  2213.5,2,  2313.8,4,   -999.0,9,  -999.00,   7.5541,2,    25.00,-999.000,9,-999.0000,9, -999.00,9, -999.00,9,  -999.0,9,-999.000,9,-999.000,-999.000,9,-999.000,9,   49.69,2,   32.17,2, -999.00,1, -999.00,9, -999.00,9,-999.000,-999.0000,9,-999.0000,9,-999.0000,9,-999.0000,9,-999.0000,9,-999.0000,9,-999.0000,9,-999.0000,9,-999.0000,9,  12.1091,     -999.0,9,     -999.0,9,     -999.0,9,     -999.0,9,     -999.0,9,     -999.0,9,     -999.0,9,-999.0000, -999.00
33RO20071215,        P18,      30,          1,         18,      11018,2,20071225,       1004,     7.4167,  -109.9998,       3924,   142.3,  11.4963,  34.7212,2,  34.7168,2,     46.1,2,    44.5,2,   27.80,2,   30.90,2,    0.00,2,    2.16,2,   0.848,2,   0.467,2,   0.1917,2,  2225.2,2,  2316.8,4,   -999.0,9,  -999.00,   7.5248,2,    25.00,   0.266,2,   1.8171,2,    6.33,2, -999.00,9,  -999.0,9,   7.588,2,   0.026,-999.000,9,-999.000,9,   47.98,2,   33.53,2, -999.00,1, -999.00,9, -999.00,9,   0.007,-999.0000,9,-999.0000,9,-999.0000,9,-999.0000,9,-999.0000,9,-999.0000,9,-999.0000,9,-999.0000,9,-999.0000,9,  11.4784,     -999.0,9,     -999.0,9,     -999.0,9,     -999.0,9,     -999.0,9,     -999.0,9,     -999.0,9,   0.0051,    0.15
33RO20071215,        P18,      30,          1,         17,      11017,2,20071225,       1004,     7.4167,  -109.9998,       3924,   183.4,  11.1124,  34.7482,2,  34.7509,2,     31.5,2,    33.3,2,   28.80,2,   32.20,2,    0.00,2,    2.24,2,   0.660,2,   0.364,2,   0.0955,2,  2237.5,2,  2318.1,4,   -999.0,9,  -999.00,   7.4928,2,    25.00,   0.208,2,   1.7857,2,    6.21,2, -999.00,9,  -999.0,9,   7.464,2,   0.025,-999.000,9,-999.000,9,   44.65,2,   34.63,2, -999.00,1, -999.00,9, -999.00,9,   0.006,-999.0000,9,-999.0000,9,-999.0000,9,-999.0000,9,-999.0000,9,-999.0000,9,-999.0000,9,-999.0000,9,-999.0000,9,  11.0897,     -999.0,9,     -999.0,9,     -999.0,9,     -999.0,9,     -999.0,9,     -999.0,9,     -999.0,9,   0.0050,    0.15
33RO20071215,        P18,      30,          1,         16,      11016,2,20071225,       1004,     7.4167,  -109.9998,       3924,   249.0,  10.5841,  34.7277,2,  34.7271,2,     28.6,2,    29.7,2,   31.00,2,   33.20,2,    0.00,2,    2.35,2,   0.510,2,   0.285,2,   0.0791,2,  2245.6,2,  2299.5,2,   -999.0,9,  -999.00,   7.4720,2,    25.00,-999.000,9,   1.7810,2,    6.73,2, -999.00,9,  -999.0,9,   7.480,2,   0.025,-999.000,9,-999.000,9,   43.62,2,   34.96,2, -999.00,1, -999.00,9, -999.00,9,-999.000,-999.0000,9,-999.0000,9,-999.0000,9,-999.0000,9,-999.0000,9,-999.0000,9,-999.0000,9,-999.0000,9,-999.0000,9,  10.5541,     -999.0,9,     -999.0,9,     -999.0,9,     -999.0,9,     -999.0,9,     -999.0,9,     -999.0,9,   0.0050,    0.15
33RO20071215,        P18,      30,          1,         15,      11015,2,20071225,       1004,     7.4167,  -109.9998,       3924,   324.8,   9.9138,  34.6972,2,  34.6961,2,     18.5,2,    22.0,2,   35.20,2,   34.60,2,    0.01,2,    2.52,2,   0.309,2,   0.174,2,   0.0183,2,  2261.1,2,  2302.5,2,   -999.0,9,  -999.00,   7.4390,2,    25.00,   0.122,2,   1.8398,2,    5.35,2, -999.00,9,  -999.0,9,   7.790,2,   0.026,-999.000,9,-999.000,9,   42.49,2,   36.25,2, -999.00,1, -999.00,9, -999.00,9,   0.006,-999.0000,9,-999.0000,9,-999.0000,9,-999.0000,9,-999.0000,9,-999.0000,9,-999.0000,9,-999.0000,9,-999.0000,9,   9.8762,     -999.0,9,     -999.0,9,     -999.0,9,     -999.0,9,     -999.0,9,     -999.0,9,     -999.0,9,   0.0052,    0.15
33RO20071215,        P18,      30,          1,         14,      11014,2,20071225,       1004,     7.4167,  -109.9998,       3924,   399.8,   9.0127,  34.6514,2,  34.6517,2,      4.6,2,     5.7,2,   44.50,2,   34.80,2,    0.00,2,    2.88,2,   0.069,2,   0.042,2,   0.0000,2,  2287.6,2,  2310.4,2,   -999.0,9,  -999.00,   7.3771,2,    25.00,   0.055,2,   1.8031,2,    6.42,2, -999.00,9,  -999.0,9,   7.656,2,   0.026,-999.000,9,-999.000,9,   41.24,2,   36.45,2, -999.00,1, -999.00,9, -999.00,9,   0.006,-999.0000,9,-999.0000,9,-999.0000,9,-999.0000,9,-999.0000,9,-999.0000,9,-999.0000,9,-999.0000,9,-999.0000,9,   8.9689,     -999.0,9,     -999.0,9,     -999.0,9,     -999.0,9,     -999.0,9,     -999.0,9,     -999.0,9,   0.0050,    0.15
33RO20071215,        P18,      30,          1,         13,      11013,2,20071225,       1004,     7.4167,  -109.9998,       3924,   475.2,   8.1404,  34.6140,2,  34.6136,2,      3.8,2,     4.9,2,   52.20,2,   36.50,2,    0.01,2,    3.05,2,   0.019,2,   0.013,2,   0.0000,2,  2298.2,6,  2318.5,2,   -999.0,9,  -999.00,   7.3628,2,    25.00,-999.000,9,-999.0000,9, -999.00,9, -999.00,9,  -999.0,9,-999.000,9,-999.000,-999.000,9,-999.000,9,   40.34,2,   38.03,2, -999.00,1, -999.00,9, -999.00,9,-999.000,-999.0000,9,-999.0000,9,-999.0000,9,-999.0000,9,-999.0000,9,-999.0000,9,-999.0000,9,-999.0000,9,-999.0000,9,   8.0913,     -999.0,9,     -999.0,9,     -999.0,9,     -999.0,9,     -999.0,9,     -999.0,9,     -999.0,9,-999.0000, -999.00
33RO20071215,        P18,      30,          1,         12,      11012,2,20071225,       1004,     7.4167,  -109.9998,       3924,   600.5,   6.8556,  34.5758,2,  34.5757,2,      5.0,2,     6.5,2,   62.60,2,   41.70,2,    0.01,2,    3.21,2,   0.003,2,   0.002,2,   0.0224,2,  2311.7,2,  2328.9,2,   -999.0,9,  -999.00,   7.3473,2,    25.00,-999.000,9,-999.0000,9, -999.00,9, -999.00,9,  -999.0,9,-999.000,9,-999.000,-999.000,9,-999.000,9,   39.80,2,   43.29,2, -999.00,1, -999.00,9, -999.00,9,-999.000,-999.0000,9,-999.0000,9,-999.0000,9,-999.0000,9,-999.0000,9,-999.0000,9,-999.0000,9,-999.0000,9,-999.0000,9,   6.7987,     -999.0,9,     -999.0,9,     -999.0,9,     -999.0,9,     -999.0,9,     -999.0,9,     -999.0,9,-999.0000, -999.00
33RO20071215,        P18,      30,          1,         11,      11010,2,20071225,       1004,     7.4167,  -109.9998,       3924,   750.5,   5.7694,  34.5622,2,  34.5628,2,     10.6,2,    13.3,2,   75.90,2,   44.10,2,    0.00,2,    3.26,2,   0.001,2,   0.002,2,   0.0000,2,  2325.0,2,  2355.2,4,   -999.0,9,  -999.00,   7.3462,2,    25.00,-999.000,9,-999.0000,9, -999.00,9, -999.00,9,  -999.0,9,-999.000,9,-999.000,-999.000,9,-999.000,9,   39.31,2,   45.09,2, -999.00,1, -999.00,9, -999.00,9,-999.000,-999.0000,9,-999.0000,9,-999.0000,9,-999.0000,9,-999.0000,9,-999.0000,9,-999.0000,9,-999.0000,9,-999.0000,9,   5.7038,     -999.0,9,     -999.0,9,     -999.0,9,     -999.0,9,     -999.0,9,     -999.0,9,     -999.0,9,-999.0000, -999.00
33RO20071215,        P18,      30,          1,         10,      11011,2,20071225,       1004,     7.4167,  -109.9998,       3924,   899.3,   5.0311,  34.5613,2,  34.5618,2,     20.7,2,    20.7,2,   88.20,2,   44.50,2,    0.00,2,    3.26,2,   0.001,2,   0.002,2,   0.0287,2,  2334.8,2,  2364.1,4,   -999.0,9,  -999.00,   7.3375,2,    25.00,-999.000,9,-999.0000,9, -999.00,9, -999.00,9,  -999.0,9,-999.000,9,-999.000,-999.000,9,-999.000,9,   38.82,2,   45.92,2, -999.00,1, -999.00,9, -999.00,9,-999.000,-999.0000,9,-999.0000,9,-999.0000,9,-999.0000,9,-999.0000,9,-999.0000,9,-999.0000,9,-999.0000,9,-999.0000,9,   4.9565,     -999.0,9,     -999.0,9,     -999.0,9,     -999.0,9,     -999.0,9,     -999.0,9,     -999.0,9,-999.0000, -999.00
33RO20071215,        P18,      30,          1,          9,      11009,2,20071225,       1004,     7.4167,  -109.9998,       3924,  1050.5,   4.3047,  34.5731,2,  34.5736,2,     26.5,4,    33.6,2,  102.00,2,   44.10,2,    0.01,2,    3.26,2,   0.001,2,   0.000,2,   0.0248,2,  2343.7,2,  2387.5,4,   -999.0,9,  -999.00,   7.3775,2,    25.00,-999.000,9,-999.0000,9, -999.00,9, -999.00,9,  -999.0,9,-999.000,9,-999.000,-999.000,9,-999.000,9,   38.51,2,   45.17,2, -999.00,1, -999.00,9, -999.00,9,-999.000,-999.0000,9,-999.0000,9,-999.0000,9,-999.0000,9,-999.0000,9,-999.0000,9,-999.0000,9,-999.0000,9,-999.0000,9,   4.2222,     -999.0,9,     -999.0,9,     -999.0,9,     -999.0,9,     -999.0,9,     -999.0,9,     -999.0,9,-999.0000, -999.00
33RO20071215,        P18,      30,          1,          8,      11008,2,20071225,       1004,     7.4167,  -109.9998,       3924,  1233.6,   3.6520,  34.5880,2,  34.5882,2,     44.9,4,    54.8,2,  114.80,2,   42.80,2,    0.00,2,    3.15,2,   0.002,2,   0.002,2,   0.0000,2,  2347.0,2,  2400.3,4,   -999.0,9,  -999.00,   7.4132,2,    25.00,-999.000,9,-999.0000,9, -999.00,9, -999.00,9,  -999.0,9,-999.000,9,-999.000,-999.000,9,-999.000,9,   38.02,2,   43.80,2, -999.00,1, -999.00,9, -999.00,9,-999.000,-999.0000,9,-999.0000,9,-999.0000,9,-999.0000,9,-999.0000,9,-999.0000,9,-999.0000,9,-999.0000,9,-999.0000,9,   3.5596,     -999.0,9,     -999.0,9,     -999.0,9,     -999.0,9,     -999.0,9,     -999.0,9,     -999.0,9,-999.0000, -999.00
33RO20071215,        P18,      30,          1,          7,      11007,2,20071225,       1004,     7.4167,  -109.9998,       3924,  1499.6,   3.0718,  34.6075,2,  34.6074,2,     65.6,4,    72.8,2,  126.60,2,   41.50,2,    0.00,2,    2.99,2,   0.001,2,   0.001,2,   0.0000,2,  2349.3,2,  2414.2,4,   -999.0,9,  -999.00,   7.4478,2,    25.00,-999.000,9,-999.0000,9, -999.00,9, -999.00,9,  -999.0,9,-999.000,9,-999.000,-999.000,9,-999.000,9,   37.30,2,   43.18,2, -999.00,1, -999.00,9, -999.00,9,-999.000,-999.0000,9,-999.0000,9,-999.0000,9,-999.0000,9,-999.0000,9,-999.0000,9,-999.0000,9,-999.0000,9,-999.0000,9,   2.9630,     -999.0,9,     -999.0,9,     -999.0,9,     -999.0,9,     -999.0,9,     -999.0,9,     -999.0,9,-999.0000, -999.00
33RO20071215,        P18,      30,          1,          6,      11006,2,20071225,       1004,     7.4167,  -109.9998,       3924,  1865.9,   2.4020,  34.6372,2,  34.6376,2,     80.5,4,    92.2,2,  141.80,2,   40.10,2,    0.00,2,    2.85,2,   0.001,2,   0.001,2,   0.0000,2,  2353.6,2,  2412.7,2,   -999.0,9,  -999.00,   7.4846,2,    25.00,-999.000,9,-999.0000,9, -999.00,9, -999.00,9,  -999.0,9,-999.000,9,-999.000,-999.000,9,-999.000,9,   36.90,2,   41.81,2, -999.00,1, -999.00,9, -999.00,9,-999.000,-999.0000,9,-999.0000,9,-999.0000,9,-999.0000,9,-999.0000,9,-999.0000,9,-999.0000,9,-999.0000,9,-999.0000,9,   2.2709,     -999.0,9,     -999.0,9,     -999.0,9,     -999.0,9,     -999.0,9,     -999.0,9,     -999.0,9,-999.0000, -999.00
33RO20071215,        P18,      30,          1,          5,      11005,2,20071225,       1004,     7.4167,  -109.9998,       3924,  2266.4,   2.0007,  34.6593,2,  34.6602,2,     97.6,4,   101.2,2,  152.30,2,   39.30,2,    0.00,2,    2.75,2,   0.001,2,   0.002,2,   0.0000,2,  2358.4,2,  2426.4,2,   -999.0,9,  -999.00,   7.5096,2,    25.00,-999.000,9,-999.0000,9, -999.00,9, -999.00,9,  -999.0,9,-999.000,9,-999.000,   0.007,3,-999.000,9,   36.47,2,   40.50,2, -999.00,1, -999.00,9, -999.00,9,-999.000,-999.0000,9,-999.0000,9,-999.0000,9,-999.0000,9,-999.0000,9,-999.0000,9,-999.0000,9,-999.0000,9,-999.0000,9,   1.8413,     -999.0,9,     -999.0,9,     -999.0,9,     -999.0,9,     -999.0,9,     -999.0,9,     -999.0,9,-999.0000, -999.00
33RO20071215,        P18,      30,          1,          4,      11004,2,20071225,       1004,     7.4167,  -109.9998,       3924,  2665.7,   1.8415,  34.6699,2,  34.6702,2,    106.2,4,   111.5,2,  157.20,6,   38.70,6,    0.00,6,    2.67,2,   0.001,2,   0.001,2,   0.0184,2,  2359.6,2,  2433.2,2,   -999.0,9,  -999.00,   7.4895,2,    25.00,-999.000,9,-999.0000,9, -999.00,9, -999.00,9,  -999.0,9,-999.000,9,-999.000,   0.008,3,-999.000,9,   36.01,2,   40.11,2, -999.00,1, -999.00,9, -999.00,9,-999.000,-999.0000,9,-999.0000,9,-999.0000,9,-999.0000,9,-999.0000,9,-999.0000,9,-999.0000,9,-999.0000,9,-999.0000,9,   1.6489,     -999.0,9,     -999.0,9,     -999.0,9,     -999.0,9,     -999.0,9,     -999.0,9,     -999.0,9,-999.0000, -999.00
33RO20071215,        P18,      30,          1,          3,      11003,2,20071225,       1004,     7.4167,  -109.9998,       3924,  3066.4,   1.7150,  34.6770,2,  34.6752,2,    117.9,4,   124.4,2,  155.40,6,   37.90,6,    0.00,6,    2.62,2,   0.001,2,   0.001,2,   0.0248,2,  2351.6,2,  2431.5,2,   -999.0,9,  -999.00,   7.5412,2,    25.00,-999.000,9,-999.0000,9, -999.00,9, -999.00,9,  -999.0,9,-999.000,9,-999.000,   0.004,3,-999.000,9,   36.80,2,   39.04,2, -999.00,1, -999.00,9, -999.00,9,-999.000,-999.0000,9,-999.0000,9,-999.0000,9,-999.0000,9,-999.0000,9,-999.0000,9,-999.0000,9,-999.0000,9,-999.0000,9,   1.4870,     -999.0,9,     -999.0,9,     -999.0,9,     -999.0,9,     -999.0,9,     -999.0,9,     -999.0,9,-999.0000, -999.00
33RO20071215,        P18,      30,          1,          2,      11002,2,20071225,       1004,     7.4167,  -109.9998,       3924,  3513.1,   1.5595,  34.6855,2,  34.6841,2,    130.4,4,   139.3,2,  153.30,6,   37.10,6,    0.00,6,    2.52,2,   0.000,2,   0.000,2,   0.0000,2,  2342.5,2,  2433.2,2,   -999.0,9,  -999.00,   7.5472,2,    25.00,-999.000,9,-999.0000,9, -999.00,9, -999.00,9,  -999.0,9,-999.000,9,-999.000,   0.003,3,-999.000,9,   35.94,2,   38.19,2, -999.00,1, -999.00,9, -999.00,9,-999.000,-999.0000,9,-999.0000,9,-999.0000,9,-999.0000,9,-999.0000,9,-999.0000,9,-999.0000,9,-999.0000,9,-999.0000,9,   1.2905,     -999.0,9,     -999.0,9,     -999.0,9,     -999.0,9,     -999.0,9,     -999.0,9,     -999.0,9,-999.0000, -999.00
33RO20071215,        P18,      30,          1,          1,      11001,2,20071225,       1004,     7.4167,  -109.9998,       3924,  3961.6,   1.5349,  34.6884,2,  34.6896,2,    128.3,4,   136.5,3,  152.60,2,   36.70,2,    0.00,2,    2.49,2,   0.001,6,   0.000,6,   0.0203,6,  2338.7,6,  2435.5,2,   -999.0,9,  -999.00,   7.5699,2,    25.00,-999.000,9,-999.0000,9, -999.00,9, -999.00,9,  -999.0,9,-999.000,9,-999.000,   0.004,3,-999.000,9,   37.36,2,   37.94,2, -999.00,1, -999.00,9, -999.00,9,-999.000,-999.0000,9,-999.0000,9,-999.0000,9,-999.0000,9,-999.0000,9,-999.0000,9,-999.0000,9,-999.0000,9,-999.0000,9,   1.2191,     -999.0,9,     -999.0,9,     -999.0,9,     -999.0,9,     -999.0,9,     -999.0,9,     -999.0,9,-999.0000, -999.00