BOTTLE,20220818CCHSIOAMB
EXPOCODE,SECT_ID,STNNBR,CASTNO,SAMPNO,BTLNBR,BTLNBR_FLAG_W,DATE,TIME,LATITUDE,LONGITUDE,DEPTH,CTDPRS,CTDTMP,CTDSAL,CTDSAL_FLAG_W,SALNTY,SALNTY_FLAG_W,CTDOXY,CTDOXY_FLAG_W,OXYGEN,OXYGEN_FLAG_W,SILCAT,SILCAT_FLAG_W,NITRAT,NITRAT_FLAG_W,NITRIT,NITRIT_FLAG_W,PHSPHT,PHSPHT_FLAG_W,CFC-11,CFC-11_FLAG_W,CFC-12,CFC-12_FLAG_W,SF6,SF6_FLAG_W,TCARBN,TCARBN_FLAG_W,ALKALI,ALKALI_FLAG_W,FCO2,FCO2_FLAG_W,FCO2TMP,PH_SWS,PH_SWS_FLAG_W,PH_TMP,TRITUM,TRITUM_FLAG_W,HELIUM,HELIUM_FLAG_W,DELHE3,DELHE3_FLAG_W,DELC13,DELC13_FLAG_W,DELC14,DELC14_FLAG_W,NEON,NEON_FLAG_W,NEONER,CCL4,CCL4_FLAG_W,POC,POC_FLAG_W,DOC,DOC_FLAG_W,TDN,TDN_FLAG_W,DON,DON_FLAG_W,CHLORA,CHLORA_FLAG_W,ARGON,ARGON_FLAG_W,TRITER,CDOM325,CDOM325_FLAG_W,CDOM340,CDOM340_FLAG_W,CDOM380,CDOM380_FLAG_W,CDOM412,CDOM412_FLAG_W,CDOM443,CDOM443_FLAG_W,CDOM490,CDOM490_FLAG_W,CDOM555,CDOM555_FLAG_W,CDOMSL,CDOMSL_FLAG_W,CDOMSN,CDOMSN_FLAG_W,THETA,D18O_NO3,D18O_NO3_FLAG_W,CDOM2C,CDOM2C_FLAG_W,CDOM3C,CDOM3C_FLAG_W,LAB_DEN,LAB_DEN_FLAG_W,DELSI30,DELSI30_FLAG_W,N2,N2_FLAG_W,D15N_NO3,D15N_NO3_FLAG_W,HELIER,DELHER
,,,,,,,,,,,METERS,DBAR,ITS-90,PSS-78,,PSS-78,,UMOL/KG,,UMOL/KG,,UMOL/KG,,UMOL/KG,,UMOL/KG,,UMOL/KG,,PMOL/KG,,PMOL/KG,,FMOL/KG,,UMOL/KG,,UMOL/KG,,UATM,,DEG C,,,DEG C,TU,,NMOL/KG,,PERCNT,,/MILLE,,/MILLE,,NMOL/KG,,NMOL/KG,PMOL/KG,,UG/KG,,UMOL/KG,,UMOL/KG,,UMOL/KG,,UG/KG,,UMOL/KG,,TU,1/M,,1/M,,1/M,,1/M,,1/M,,1/M,,1/M,,1/NM,,1/NM,,DEG C,/MILLE,,,,,,,,/MILLE,,UMOL/KG,,/MILLE,,NMOL/KG,PERCNT
33RO20071215,        P18,     153,          1,         36,      12017,2,20080208,       1337,   -59.7507,  -102.9993,       4895,     4.5,   4.8548,  33.9448,2,  33.9440,2,    312.4,2,   312.4,2,    3.70,2,   23.00,2,    0.22,2,    1.58,2,   4.770,2,   2.648,2,   1.9722,2,  2118.4,6,  2275.7,2,    687.6,2,    20.00,   7.7600,2,    25.00,-999.000,9,-999.0000,9, -999.00,9, -999.00,9,  -999.0,9,-999.000,9,-999.000,-999.000,9,-999.000,9,   46.50,2,   27.52,2, -999.00,1,    0.22,2, -999.00,9,-999.000,   0.0976,2,   0.0657,2,   0.0271,2,   0.0200,2,   0.0107,2,   0.0029,2,  -0.0019,4,   0.0112,2,   0.0216,2,   4.8545,     -999.0,9,     -999.0,9,     -999.0,9,     -999.0,9,     -999.0,9,     -999.0,9,     -999.0,9,-999.0000, -999.00
33RO20071215,        P18,     153,          1,         35,      12029,2,20080208,       1337,   -59.7507,  -102.9993,       4895,     9.9,   4.8473,  33.9448,2,  33.9449,2,    312.3,2,   312.3,2,    3.60,2,   22.90,2,    0.21,2,    1.58,2,   4.823,2,   2.669,2,   2.0426,2,  2118.8,2,  2275.0,2,   -999.0,9,  -999.00,   7.7567,2,    25.00,-999.000,9,-999.0000,9, -999.00,9,    1.61,2,  -999.0,1,-999.000,9,-999.000,-999.000,9,-999.000,9,   45.85,2,   27.14,2, -999.00,1,    0.22,2, -999.00,1,-999.000,   0.0940,2,   0.0639,2,   0.0305,2,   0.0232,2,   0.0138,2,   0.0050,2,  -0.0005,4,   0.0148,2,   0.0180,2,   4.8466,     -999.0,1,     -999.0,9,     -999.0,9,     -999.0,9,     -999.0,9,     -999.0,1,     -999.0,9,-999.0000, -999.00
33RO20071215,        P18,     153,          1,         34,      12049,2,20080208,       1337,   -59.7507,  -102.9993,       4895,    19.4,   4.8444,  33.9449,2,  33.9457,2,    311.5,2,   312.1,2,    3.70,2,   22.80,2,    0.22,2,    1.58,2,   4.842,2,   2.694,2,   2.0412,2,  2119.3,2,  2277.0,2,   -999.0,9,  -999.00,   7.7580,2,    25.00,-999.000,9,-999.0000,9, -999.00,9, -999.00,9,  -999.0,9,-999.000,9,-999.000,-999.000,9,-999.000,1,   45.71,2,   27.26,2, -999.00,1,    0.22,2, -999.00,9,-999.000,   0.0811,2,   0.0523,2,   0.0232,2,   0.0167,2,   0.0082,2,   0.0012,3,  -0.0026,4,   0.0170,2,   0.0217,2,   4.8430,     -999.0,9,     -999.0,9,     -999.0,9,     -999.0,9,     -999.0,9,     -999.0,9,     -999.0,9,-999.0000, -999.00
33RO20071215,        P18,     153,          1,         33,      12027,2,20080208,       1337,   -59.7507,  -102.9993,       4895,    41.4,   4.8006,  33.9475,2,  33.9467,2,    312.1,2,   312.2,2,    3.70,2,   22.90,2,    0.21,2,    1.59,2,   4.918,2,   2.731,2,   2.1105,2,  2119.4,2,  2277.6,2,    689.5,6,    20.00,   7.7543,2,    25.00,-999.000,9,-999.0000,9, -999.00,9, -999.00,9,  -999.0,9,-999.000,9,-999.000,-999.000,9,-999.000,9,   45.24,2,   27.33,2, -999.00,1,    0.23,2, -999.00,9,-999.000,   0.0816,2,   0.0530,2,   0.0241,2,   0.0176,2,   0.0090,2,   0.0019,2,  -0.0022,4,   0.0101,2,   0.0208,2,   4.7976,     -999.0,9,     -999.0,9,     -999.0,9,     -999.0,9,     -999.0,9,     -999.0,9,     -999.0,9,-999.0000, -999.00
33RO20071215,        P18,     153,          1,         32,      12023,2,20080208,       1337,   -59.7507,  -102.9993,       4895,    66.5,   4.7763,  33.9493,2,  33.9514,2,    311.7,2,   311.6,2,    3.70,2,   22.90,2,    0.21,2,    1.60,2,   4.946,2,   2.728,2,   2.0668,2,  2119.6,2,  2274.8,2,   -999.0,9,  -999.00,   7.7584,2,    25.00,-999.000,9,-999.0000,9, -999.00,9, -999.00,9,  -999.0,9,-999.000,9,-999.000,-999.000,9,-999.000,9,   45.02,2,   26.64,2, -999.00,1,    0.24,2, -999.00,9,-999.000,   0.0616,2,   0.0331,2,   0.0070,2,   0.0051,2,   0.0011,2,   0.0010,3,   0.0004,4,   0.0449,2,   0.0433,2,   4.7713,     -999.0,9,     -999.0,9,     -999.0,9,     -999.0,9,     -999.0,9,     -999.0,9,     -999.0,9,-999.0000, -999.00
33RO20071215,        P18,     153,          1,         31,      12037,2,20080208,       1337,   -59.7507,  -102.9993,       4895,    90.3,   4.2027,  33.9835,2,  33.9851,2,    312.3,2,   311.9,2,    6.50,2,   23.40,2,    0.22,2,    1.72,2,   4.999,2,   2.772,2,   2.1245,2,  2128.9,2,  2277.4,2,    723.5,2,    20.00,   7.7392,2,    25.00,-999.000,9,-999.0000,9, -999.00,9, -999.00,9,  -999.0,9,-999.000,9,-999.000,-999.000,9,-999.000,9,   43.20,2,   26.60,2, -999.00,1,    0.22,2, -999.00,9,-999.000,   0.0659,2,   0.0378,2,   0.0137,2,   0.0105,2,   0.0048,2,   0.0027,3,   0.0010,4,   0.0215,2,   0.0296,2,   4.1964,     -999.0,9,     -999.0,9,     -999.0,9,     -999.0,9,     -999.0,9,     -999.0,9,     -999.0,9,-999.0000, -999.00
33RO20071215,        P18,     153,          1,         30,      12036,2,20080208,       1337,   -59.7507,  -102.9993,       4895,   116.7,   3.9940,  33.9938,2,  33.9976,2,    310.7,2,   309.0,2,    9.00,2,   23.90,2,    0.26,2,    1.78,2,   4.972,2,   2.758,2,   2.0427,2,  2132.1,2,  2276.0,2,   -999.0,9,  -999.00,   7.7271,2,    25.00,-999.000,9,-999.0000,9, -999.00,9, -999.00,9,  -999.0,9,-999.000,9,-999.000,-999.000,9,-999.000,9,   42.00,2,   26.93,2, -999.00,1,    0.16,2, -999.00,9,-999.000,   0.0617,2,   0.0347,2,   0.0124,2,   0.0095,2,   0.0040,2,   0.0020,3,   0.0007,3,   0.0245,2,   0.0317,2,   3.9861,     -999.0,9,     -999.0,9,     -999.0,9,     -999.0,9,     -999.0,9,     -999.0,9,     -999.0,9,-999.0000, -999.00
33RO20071215,        P18,     153,          1,         29,      12044,2,20080208,       1337,   -59.7507,  -102.9993,       4895,   142.5,   3.4440,  34.0043,2,  34.0086,2,    306.3,2,   305.3,2,   12.70,2,   26.00,2,    0.22,2,    1.84,2,   5.019,2,   2.765,2,   2.0724,2,  2141.3,2,  2277.6,2,   -999.0,9,  -999.00,   7.6984,2,    25.00,-999.000,9,-999.0000,9, -999.00,9, -999.00,9,  -999.0,9,-999.000,9,-999.000,-999.000,9,-999.000,9,   42.37,2,   28.72,2, -999.00,1,    0.08,2, -999.00,9,-999.000,   0.0591,2,   0.0320,2,   0.0112,2,   0.0090,2,   0.0039,2,   0.0026,3,   0.0030,2,   0.0291,2,   0.0355,2,   3.4349,     -999.0,9,     -999.0,9,     -999.0,9,     -999.0,9,     -999.0,9,     -999.0,9,     -999.0,9,-999.0000, -999.00
33RO20071215,        P18,     153,          1,         28,      12057,2,20080208,       1337,   -59.7507,  -102.9993,       4895,   182.9,   3.0048,  34.0287,2,  34.0289,2,    303.3,2,   301.6,2,   14.80,2,   26.90,2,    0.01,2,    1.87,2,   4.875,2,   2.702,2,   1.9609,2,  2147.6,2,  2279.0,2,    822.0,2,    20.00,   7.6964,2,    25.00,-999.000,9,-999.0000,9, -999.00,9, -999.00,9,  -999.0,9,-999.000,9,-999.000,-999.000,9,-999.000,9,   42.67,2,   29.35,2, -999.00,1,    0.03,2, -999.00,9,-999.000,   0.0599,2,   0.0324,2,   0.0124,2,   0.0101,2,   0.0046,2,   0.0026,3,   0.0025,2,   0.0211,2,   0.0312,2,   2.9937,     -999.0,9,     -999.0,9,     -999.0,9,     -999.0,9,     -999.0,9,     -999.0,9,     -999.0,9,-999.0000, -999.00
33RO20071215,        P18,     153,          1,         27,      12026,2,20080208,       1337,   -59.7507,  -102.9993,       4895,   233.4,   2.8412,  34.0379,2,  34.0381,2,    292.1,2,   295.5,2,   17.10,2,   27.50,2,    0.01,2,    1.91,2,   4.766,6,   2.609,6,   1.8608,6,  2151.5,2,  2281.1,2,   -999.0,9,  -999.00,   7.6771,2,    25.00,-999.000,9,-999.0000,9, -999.00,9, -999.00,9,  -999.0,9,-999.000,9,-999.000,-999.000,9,-999.000,9,   42.31,2,   29.48,2, -999.00,1,    0.01,2, -999.00,9,-999.000,   0.0766,2,   0.0468,2,   0.0223,2,   0.0184,2,   0.0110,2,   0.0066,2,   0.0046,2,   0.0141,2,   0.0194,2,   2.8273,     -999.0,9,     -999.0,9,     -999.0,9,     -999.0,9,     -999.0,9,     -999.0,9,     -999.0,9,-999.0000, -999.00
33RO20071215,        P18,     153,          1,         26,      12030,2,20080208,       1337,   -59.7507,  -102.9993,       4895,   282.8,   2.6592,  34.0465,2,  34.0492,2,    285.6,2,   290.1,2,   19.80,2,   28.30,2,    0.01,2,    1.96,2,   4.734,2,   2.576,2,   1.8136,2,  2160.1,2,  2280.9,2,    871.1,2,    20.00,   7.6711,2,    25.00,-999.000,9,-999.0000,9, -999.00,9, -999.00,9,  -999.0,9,-999.000,9,-999.000,-999.000,9,-999.000,9,   41.93,2,   29.49,2, -999.00,1, -999.00,9, -999.00,9,-999.000,   0.0755,2,   0.0467,2,   0.0231,2,   0.0177,2,   0.0091,3,   0.0027,3,   0.0002,4,   0.0152,4,   0.0197,4,   2.6426,     -999.0,9,     -999.0,9,     -999.0,9,     -999.0,9,     -999.0,9,     -999.0,9,     -999.0,9,-999.0000, -999.00
33RO20071215,        P18,     153,          1,         25,      12024,2,20080208,       1337,   -59.7507,  -102.9993,       4895,   367.0,   2.7842,  34.1142,2,  34.1149,2,    266.6,2,   267.8,2,   25.20,2,   29.60,2,    0.01,2,    2.04,2,   4.112,2,   2.195,2,   1.4432,2,  2172.6,2,  2285.1,2,    929.6,2,    20.00,   7.6444,2,    25.00,-999.000,9,-999.0000,9, -999.00,9, -999.00,9,  -999.0,9,-999.000,9,-999.000,-999.000,9,-999.000,9,   41.47,2,   31.05,2, -999.00,1, -999.00,9, -999.00,9,-999.000,   0.0731,2,   0.0430,2,   0.0189,2,   0.0144,2,   0.0074,2,   0.0035,2,   0.0027,2,   0.0171,2,   0.0239,2,   2.7620,     -999.0,9,     -999.0,9,     -999.0,9,     -999.0,9,     -999.0,9,     -999.0,9,     -999.0,9,-999.0000, -999.00
33RO20071215,        P18,     153,          1,         24,      12019,2,20080208,       1337,   -59.7507,  -102.9993,       4895,   465.8,   2.8738,  34.1932,2,  34.1943,2,    243.2,2,   242.9,2,   33.50,2,   31.30,2,    0.01,2,    2.17,2,-999.000,5,-999.000,5,-999.0000,5,  2190.1,2,  2292.2,2,   1007.8,2,    20.00,   7.6170,2,    25.00,-999.000,9,-999.0000,9, -999.00,9, -999.00,9,  -999.0,9,-999.000,9,-999.000,-999.000,9,-999.000,1,   40.93,2,   32.71,2, -999.00,1, -999.00,9, -999.00,9,-999.000,   0.0968,2,   0.0630,2,   0.0330,2,   0.0269,2,   0.0169,2,   0.0084,2,   0.0051,2,   0.0130,2,   0.0158,2,   2.8449,     -999.0,9,     -999.0,9,     -999.0,9,     -999.0,9,     -999.0,9,     -999.0,9,     -999.0,9,-999.0000, -999.00
33RO20071215,        P18,     153,          1,         23,      12022,2,20080208,       1337,   -59.7507,  -102.9993,       4895,   565.6,   2.9771,  34.2924,2,  34.2969,2,    222.6,2,   213.2,2,   43.10,2,   32.90,2,    0.00,2,    2.27,2,   2.386,2,   1.220,2,   0.6291,2,  2207.9,2,  2305.2,2,   1084.8,2,    20.00,   7.5868,2,    25.00,-999.000,9,-999.0000,9, -999.00,9, -999.00,9,  -999.0,9,-999.000,9,-999.000,-999.000,9,-999.000,9,   40.35,2,   33.93,2, -999.00,1, -999.00,9, -999.00,9,-999.000,   0.0931,2,   0.0593,2,   0.0289,2,   0.0217,2,   0.0121,2,   0.0052,2,   0.0018,2,   0.0154,2,   0.0190,2,   2.9409,     -999.0,9,     -999.0,9,     -999.0,9,     -999.0,9,     -999.0,9,     -999.0,9,     -999.0,9,-999.0000, -999.00
33RO20071215,        P18,     153,          1,         22,      12015,2,20080208,       1337,   -59.7507,  -102.9993,       4895,   667.7,   2.9837,  34.3686,2,  34.3707,2,    199.1,2,   195.5,2,   51.30,2,   33.80,2,    0.00,2,    2.34,2,   1.674,2,   0.843,2,   0.3593,2,  2221.5,2,  2313.3,4,   1139.6,2,    20.00,   7.5769,2,    25.00,-999.000,9,-999.0000,9, -999.00,9, -999.00,9,  -999.0,9,-999.000,9,-999.000,-999.000,9,-999.000,9,   39.39,2,   34.98,2, -999.00,1, -999.00,9, -999.00,9,-999.000,   0.0999,2,   0.0648,2,   0.0320,2,   0.0233,2,   0.0128,2,   0.0050,2,   0.0010,2,   0.0157,2,   0.0186,2,   2.9403,     -999.0,9,     -999.0,9,     -999.0,9,     -999.0,9,     -999.0,9,     -999.0,9,     -999.0,9,-999.0000, -999.00
33RO20071215,        P18,     153,          1,         21,      12020,2,20080208,       1337,   -59.7507,  -102.9993,       4895,   767.4,   2.7978,  34.4176,2,  34.4191,2,    188.1,2,   186.9,2,   58.10,2,   34.30,2,    0.00,2,    2.38,2,   1.320,2,   0.665,2,   0.3198,2,  2230.0,2,  2320.5,2,   1166.2,2,    20.00,   7.5602,2,    25.00,-999.000,9,-999.0000,9, -999.00,9, -999.00,9,  -999.0,9,-999.000,9,-999.000,-999.000,9,-999.000,9,   39.63,2,   35.52,2, -999.00,1, -999.00,9, -999.00,9,-999.000,   0.1042,2,   0.0682,2,   0.0342,2,   0.0249,2,   0.0140,2,   0.0060,2,   0.0026,2,   0.0143,4,   0.0181,4,   2.7485,     -999.0,9,     -999.0,9,     -999.0,9,     -999.0,9,     -999.0,9,     -999.0,9,     -999.0,9,-999.0000, -999.00
33RO20071215,        P18,     153,          1,         20,      12055,2,20080208,       1337,   -59.7507,  -102.9993,       4895,   859.3,   2.6298,  34.4508,2,  34.4498,2,    183.4,2,   183.0,2,   62.80,2,   34.50,2,    0.00,2,    2.40,2,   1.159,2,   0.583,2,   0.2745,2,  2236.4,2,  2323.0,2,   1189.5,2,    20.00,   7.5517,2,    25.00,-999.000,9,-999.0000,9, -999.00,9, -999.00,9,  -999.0,9,-999.000,9,-999.000,-999.000,9,-999.000,9,   39.44,2,   35.54,2, -999.00,1, -999.00,9, -999.00,9,-999.000,   0.1053,2,   0.0692,2,   0.0343,2,   0.0242,2,   0.0128,2,   0.0043,2,   0.0000,4,   0.0163,2,   0.0187,2,   2.5750,     -999.0,9,     -999.0,9,     -999.0,9,     -999.0,9,     -999.0,9,     -999.0,9,     -999.0,9,-999.0000, -999.00
33RO20071215,        P18,     153,          1,         19,      12018,2,20080208,       1337,   -59.7507,  -102.9993,       4895,   967.0,   2.5488,  34.5099,2,  34.5092,2,    176.4,2,   176.2,2,   68.80,2,   34.60,2,    0.00,2,    2.41,2,   0.803,2,   0.404,2,   0.1711,2,  2243.6,2,  2329.8,2,   -999.0,9,  -999.00,   7.5511,2,    25.00,-999.000,9,-999.0000,9, -999.00,9, -999.00,9,  -999.0,9,-999.000,9,-999.000,-999.000,9,-999.000,1,   39.31,2,   35.73,2, -999.00,1, -999.00,9, -999.00,9,-999.000,   0.1122,2,   0.0744,2,   0.0378,2,   0.0265,2,   0.0150,2,   0.0061,2,   0.0022,2,   0.0158,2,   0.0180,2,   2.4868,     -999.0,9,     -999.0,9,     -999.0,9,     -999.0,9,     -999.0,9,     -999.0,9,     -999.0,9,-999.0000, -999.00
33RO20071215,        P18,     153,          1,         18,      12025,2,20080208,       1337,   -59.7507,  -102.9993,       4895,  1132.0,   2.3998,  34.5772,2,  34.5787,2,    173.7,2,   173.1,2,   75.10,2,   34.30,2,    0.00,2,    2.38,2,   0.558,2,   0.281,2,   0.0988,2,  2250.2,6,  2335.3,2,   1195.2,2,    20.00,   7.5538,2,    25.00,-999.000,9,-999.0000,9, -999.00,9, -999.00,9,  -999.0,9,-999.000,9,-999.000,-999.000,9,-999.000,9,   39.03,2,   35.76,2, -999.00,1, -999.00,9, -999.00,9,-999.000,   0.1203,2,   0.0813,2,   0.0424,2,   0.0295,2,   0.0170,2,   0.0067,2,   0.0028,2,   0.0156,2,   0.0173,2,   2.3269,     -999.0,9,     -999.0,9,     -999.0,9,     -999.0,9,     -999.0,9,     -999.0,9,     -999.0,9,-999.0000, -999.00
33RO20071215,        P18,     153,          1,         17,      12016,2,20080208,       1337,   -59.7507,  -102.9993,       4895,  1332.2,   2.2775,  34.6410,2,  34.6413,2,    174.4,2,   174.8,2,   79.70,2,   33.60,2,    0.00,2,    2.33,2,   0.366,2,   0.186,2,   0.0841,2,  2251.4,2,  2343.1,2,   -999.0,9,  -999.00,   7.5699,2,    25.00,-999.000,9,-999.0000,9, -999.00,9, -999.00,9,  -999.0,9,-999.000,9,-999.000,-999.000,9,-999.000,9,   39.42,2,   35.12,2, -999.00,1, -999.00,9, -999.00,9,-999.000,   0.1177,2,   0.0790,2,   0.0397,2,   0.0267,2,   0.0143,2,   0.0044,2,   0.0000,4,   0.0167,2,   0.0185,2,   2.1907,     -999.0,9,     -999.0,9,     -999.0,9,     -999.0,9,     -999.0,9,     -999.0,9,     -999.0,9,-999.0000, -999.00
33RO20071215,        P18,     153,          1,         16,      12051,2,20080208,       1337,   -59.7507,  -102.9993,       4895,  1532.4,   2.1650,  34.6889,2,  34.6891,2,    178.0,2,   178.5,2,   83.60,2,   32.70,2,    0.00,2,    2.27,2,   0.243,2,   0.156,2,   0.6066,3,  2250.5,2,  2349.0,2,   1134.6,2,    20.00,   7.5778,2,    25.00,-999.000,9,-999.0000,9, -999.00,9, -999.00,9,  -999.0,9,-999.000,9,-999.000,-999.000,9,-999.000,9,   39.59,2,   33.63,2, -999.00,9, -999.00,9, -999.00,9,-999.000,   0.1196,2,   0.0807,2,   0.0408,2,   0.0275,2,   0.0149,2,   0.0046,3,  -0.0007,4,   0.0166,2,   0.0182,2,   2.0640,     -999.0,9,     -999.0,9,     -999.0,9,     -999.0,9,     -999.0,9,     -999.0,9,     -999.0,9,-999.0000, -999.00
33RO20071215,        P18,     153,          1,         15,      12014,2,20080208,       1337,   -59.7507,  -102.9993,       4895,  1732.8,   2.0454,  34.7136,2,  34.7144,2,    182.7,2,   183.1,2,   86.60,2,   32.20,2,    0.00,2,    2.23,2,   0.177,2,   0.087,2,   0.0000,2,  2249.7,2,  2350.3,2,   -999.0,9,  -999.00,   7.5865,2,    25.00,-999.000,9,-999.0000,9, -999.00,9, -999.00,9,  -999.0,9,-999.000,9,-999.000,-999.000,9,-999.000,9,   39.68,2,   33.44,2, -999.00,9, -999.00,9, -999.00,9,-999.000,   0.1200,2,   0.0807,2,   0.0405,2,   0.0270,2,   0.0150,2,   0.0051,2,   0.0005,4,   0.0166,2,   0.0184,2,   1.9300,     -999.0,9,     -999.0,9,     -999.0,9,     -999.0,9,     -999.0,9,     -999.0,9,     -999.0,9,-999.0000, -999.00
33RO20071215,        P18,     153,          1,         14,      12013,2,20080208,       1337,   -59.7507,  -102.9993,       4895,  1933.5,   1.8989,  34.7273,2,  34.7273,2,    186.6,2,   186.9,2,   90.90,2,   31.80,2,    0.00,2,    2.21,2,   0.138,6,   0.067,6,   0.0000,6,  2249.6,2,  2352.4,2,   1087.9,2,    20.00,   7.5921,2,    25.00,-999.000,9,-999.0000,9, -999.00,9, -999.00,9,  -999.0,9,-999.000,9,-999.000,-999.000,9,-999.000,9,   39.14,2,   32.98,2, -999.00,9, -999.00,9, -999.00,9,-999.000,   0.1188,2,   0.0794,2,   0.0394,2,   0.0262,2,   0.0146,2,   0.0051,2,   0.0012,2,   0.0167,2,   0.0188,2,   1.7692,     -999.0,9,     -999.0,9,     -999.0,9,     -999.0,9,     -999.0,9,     -999.0,9,     -999.0,9,-999.0000, -999.00
33RO20071215,        P18,     153,          1,         13,      12012,2,20080208,       1337,   -59.7507,  -102.9993,       4895,  2167.3,   1.7108,  34.7303,2,  34.7301,2,    189.3,2,   190.1,2,   97.40,2,   31.90,2,    0.00,2,    2.21,2,   0.108,2,   0.054,2,   0.0000,2,  2252.4,2,  2356.8,2,   -999.0,9,  -999.00,   7.6015,2,    25.00,-999.000,9,-999.0000,9, -999.00,9, -999.00,9,  -999.0,9,-999.000,9,-999.000,   0.105,3,-999.000,9,   39.37,2,   33.18,2, -999.00,9, -999.00,9, -999.00,9,-999.000,   0.1193,2,   0.0798,2,   0.0399,2,   0.0265,2,   0.0154,2,   0.0060,2,   0.0025,2,   0.0164,2,   0.0185,2,   1.5645,     -999.0,9,     -999.0,9,     -999.0,9,     -999.0,9,     -999.0,9,     -999.0,9,     -999.0,9,-999.0000, -999.00
33RO20071215,        P18,     153,          1,         12,      12031,2,20080208,       1337,   -59.7507,  -102.9993,       4895,  2416.9,   1.4973,  34.7253,2,  34.7251,2,    191.0,2,   191.5,2,  106.20,2,   32.40,2,    0.00,2,    2.24,2,   0.063,3,   0.031,3,   0.0000,2,  2259.2,2,  2364.1,2,   1077.4,2,    20.00,   7.6037,2,    25.00,-999.000,9,-999.0000,9, -999.00,9, -999.00,9,  -999.0,9,-999.000,9,-999.000,   0.073,3,-999.000,9,   39.04,2,   33.94,2, -999.00,9, -999.00,9, -999.00,9,-999.000,   0.1158,2,   0.0768,2,   0.0378,2,   0.0247,2,   0.0138,2,   0.0043,2,   0.0006,2,   0.0169,2,   0.0191,2,   1.3334,     -999.0,9,     -999.0,9,     -999.0,9,     -999.0,9,     -999.0,9,     -999.0,9,     -999.0,9,-999.0000, -999.00