BOTTLE,20220818CCHSIOAMB
EXPOCODE,SECT_ID,STNNBR,CASTNO,SAMPNO,BTLNBR,BTLNBR_FLAG_W,DATE,TIME,LATITUDE,LONGITUDE,DEPTH,CTDPRS,CTDTMP,CTDSAL,CTDSAL_FLAG_W,SALNTY,SALNTY_FLAG_W,CTDOXY,CTDOXY_FLAG_W,OXYGEN,OXYGEN_FLAG_W,SILCAT,SILCAT_FLAG_W,NITRAT,NITRAT_FLAG_W,NITRIT,NITRIT_FLAG_W,PHSPHT,PHSPHT_FLAG_W,CFC-11,CFC-11_FLAG_W,CFC-12,CFC-12_FLAG_W,SF6,SF6_FLAG_W,TCARBN,TCARBN_FLAG_W,ALKALI,ALKALI_FLAG_W,FCO2,FCO2_FLAG_W,FCO2TMP,PH_SWS,PH_SWS_FLAG_W,PH_TMP,TRITUM,TRITUM_FLAG_W,HELIUM,HELIUM_FLAG_W,DELHE3,DELHE3_FLAG_W,DELC13,DELC13_FLAG_W,DELC14,DELC14_FLAG_W,NEON,NEON_FLAG_W,NEONER,CCL4,CCL4_FLAG_W,POC,POC_FLAG_W,DOC,DOC_FLAG_W,TDN,TDN_FLAG_W,DON,DON_FLAG_W,CHLORA,CHLORA_FLAG_W,ARGON,ARGON_FLAG_W,TRITER,CDOM325,CDOM325_FLAG_W,CDOM340,CDOM340_FLAG_W,CDOM380,CDOM380_FLAG_W,CDOM412,CDOM412_FLAG_W,CDOM443,CDOM443_FLAG_W,CDOM490,CDOM490_FLAG_W,CDOM555,CDOM555_FLAG_W,CDOMSL,CDOMSL_FLAG_W,CDOMSN,CDOMSN_FLAG_W,THETA,D18O_NO3,D18O_NO3_FLAG_W,CDOM2C,CDOM2C_FLAG_W,CDOM3C,CDOM3C_FLAG_W,LAB_DEN,LAB_DEN_FLAG_W,DELSI30,DELSI30_FLAG_W,N2,N2_FLAG_W,D15N_NO3,D15N_NO3_FLAG_W,HELIER,DELHER
,,,,,,,,,,,METERS,DBAR,ITS-90,PSS-78,,PSS-78,,UMOL/KG,,UMOL/KG,,UMOL/KG,,UMOL/KG,,UMOL/KG,,UMOL/KG,,PMOL/KG,,PMOL/KG,,FMOL/KG,,UMOL/KG,,UMOL/KG,,UATM,,DEG C,,,DEG C,TU,,NMOL/KG,,PERCNT,,/MILLE,,/MILLE,,NMOL/KG,,NMOL/KG,PMOL/KG,,UG/KG,,UMOL/KG,,UMOL/KG,,UMOL/KG,,UG/KG,,UMOL/KG,,TU,1/M,,1/M,,1/M,,1/M,,1/M,,1/M,,1/M,,1/NM,,1/NM,,DEG C,/MILLE,,,,,,,,/MILLE,,UMOL/KG,,/MILLE,,NMOL/KG,PERCNT
33RO20071215,        P18,     147,          1,         36,      12017,2,20080206,       1753,   -56.6668,  -102.9987,       4131,     5.0,   6.6956,  34.0652,2,  34.0640,2,    300.4,2,   301.1,2,    2.30,2,   20.00,2,    0.21,2,    1.40,2,   4.432,2,   2.495,2,   1.8819,2,  2110.6,6,  2276.0,2,   -999.0,9,  -999.00,   7.8041,2,    25.00,-999.000,9,-999.0000,9, -999.00,9, -999.00,9,  -999.0,9,-999.000,9,-999.000,-999.000,9,-999.000,9,   49.13,2,   24.69,2, -999.00,9,    0.23,2, -999.00,9,-999.000,   0.0750,2,   0.0485,2,   0.0165,2,   0.0114,2,   0.0055,2,   0.0003,3,  -0.0012,4,   0.0218,2,   0.0278,2,   6.6952,     -999.0,9,     -999.0,9,     -999.0,9,     -999.0,9,     -999.0,9,     -999.0,9,     -999.0,9,-999.0000, -999.00
33RO20071215,        P18,     147,          1,         35,      12029,2,20080206,       1753,   -56.6668,  -102.9987,       4131,    10.1,   6.6792,  34.0649,2,  34.0655,2,    300.8,2,   301.2,2,    2.30,2,   19.90,2,    0.21,2,    1.40,2,   4.424,2,   2.484,2,   1.9181,2,  2110.0,2,  2276.8,2,   -999.0,9,  -999.00,   7.7995,2,    25.00,-999.000,9,-999.0000,9, -999.00,9,    1.61,2,  -999.0,1,-999.000,9,-999.000,-999.000,9,-999.000,9,   48.85,2,   24.75,2, -999.00,9,    0.20,2, -999.00,1,-999.000,   0.0786,2,   0.0517,2,   0.0195,2,   0.0140,2,   0.0076,2,   0.0017,2,  -0.0004,4,   0.0188,2,   0.0247,2,   6.6783,     -999.0,1,     -999.0,9,     -999.0,9,     -999.0,9,     -999.0,9,     -999.0,1,     -999.0,9,-999.0000, -999.00
33RO20071215,        P18,     147,          1,         34,      12049,2,20080206,       1753,   -56.6668,  -102.9987,       4131,    20.3,   6.5518,  34.0635,2,  34.0645,2,    301.0,2,   304.4,3,    2.20,2,   19.90,2,    0.19,2,    1.40,2,   4.423,2,   2.495,2,   1.9135,2,  2108.5,2,  2275.8,2,   -999.0,9,  -999.00,   7.8051,2,    25.00,-999.000,9,-999.0000,9, -999.00,9, -999.00,9,  -999.0,9,-999.000,9,-999.000,-999.000,9,-999.000,9,   47.89,2,   24.15,2, -999.00,9,    0.22,2, -999.00,9,-999.000,-999.0000,5,-999.0000,5,-999.0000,5,-999.0000,5,-999.0000,5,-999.0000,5,-999.0000,5,-999.0000,5,-999.0000,5,   6.5501,     -999.0,9,     -999.0,9,     -999.0,9,     -999.0,9,     -999.0,9,     -999.0,9,     -999.0,9,-999.0000, -999.00
33RO20071215,        P18,     147,          1,         33,      12027,2,20080206,       1753,   -56.6668,  -102.9987,       4131,    42.2,   6.5197,  34.0635,2,  34.0631,2,    299.0,2,   301.0,2,    2.20,2,   19.90,2,    0.19,2,    1.40,2,   4.411,2,   2.472,2,   1.9273,2,  2108.7,2,  2274.9,2,   -999.0,9,  -999.00,   7.8090,2,    25.00,-999.000,9,-999.0000,9, -999.00,9, -999.00,9,  -999.0,9,-999.000,9,-999.000,-999.000,9,-999.000,9,   47.82,2,   23.95,2, -999.00,9,    0.25,2, -999.00,9,-999.000,   0.0689,2,   0.0423,2,   0.0167,2,   0.0114,2,   0.0054,2,   0.0001,3,  -0.0013,4,   0.0204,2,   0.0260,2,   6.5160,     -999.0,9,     -999.0,9,     -999.0,1,     -999.0,9,     -999.0,9,     -999.0,9,     -999.0,9,-999.0000, -999.00
33RO20071215,        P18,     147,          1,         32,      12023,2,20080206,       1753,   -56.6668,  -102.9987,       4131,    66.4,   6.5061,  34.0634,2,  34.0656,2,    299.7,2,   300.3,2,    2.40,2,   20.00,2,    0.20,2,    1.42,2,   4.420,2,   2.483,2,   1.8658,2,  2111.4,2,  2276.3,2,   -999.0,9,  -999.00,   7.8073,2,    25.00,-999.000,9,-999.0000,9, -999.00,9, -999.00,9,  -999.0,9,-999.000,9,-999.000,-999.000,9,-999.000,9,   47.29,2,   23.28,2, -999.00,9,    0.28,2, -999.00,9,-999.000,   0.0749,2,   0.0481,2,   0.0225,2,   0.0163,2,   0.0095,2,   0.0028,2,   0.0004,4,   0.0160,2,   0.0202,2,   6.5003,     -999.0,9,     -999.0,9,     -999.0,9,     -999.0,9,     -999.0,9,     -999.0,9,     -999.0,9,-999.0000, -999.00
33RO20071215,        P18,     147,          1,         31,      12037,2,20080206,       1753,   -56.6668,  -102.9987,       4131,    91.5,   5.9617,  34.0629,2,  34.0628,2,    299.9,2,   299.8,2,    3.50,2,   20.60,2,    0.20,2,    1.50,2,   4.532,2,   2.539,2,   2.0263,2,  2115.9,2,  2277.3,2,   -999.0,9,  -999.00,   7.7912,2,    25.00,-999.000,9,-999.0000,9, -999.00,9, -999.00,9,  -999.0,9,-999.000,9,-999.000,-999.000,9,-999.000,9,   47.00,2,   23.36,2, -999.00,9,    0.28,2, -999.00,9,-999.000,   0.0739,2,   0.0471,2,   0.0223,2,   0.0159,2,   0.0087,2,   0.0020,2,  -0.0001,4,   0.0163,2,   0.0203,2,   5.9540,     -999.0,9,     -999.0,9,     -999.0,9,     -999.0,9,     -999.0,9,     -999.0,9,     -999.0,9,-999.0000, -999.00
33RO20071215,        P18,     147,          1,         30,      12036,2,20080206,       1753,   -56.6668,  -102.9987,       4131,   118.2,   5.2877,  34.0736,2,  34.0760,2,    302.5,2,   300.6,2,    6.70,2,   21.80,2,    0.30,2,    1.61,2,   4.666,2,   2.598,2,   2.0180,2,  2125.6,2,  2278.1,2,   -999.0,9,  -999.00,   7.7625,2,    25.00,-999.000,9,-999.0000,9, -999.00,9, -999.00,9,  -999.0,9,-999.000,9,-999.000,-999.000,9,-999.000,9,   45.66,2,   24.32,2, -999.00,9,    0.16,2, -999.00,9,-999.000,   0.0707,2,   0.0442,2,   0.0206,2,   0.0146,2,   0.0074,2,   0.0009,2,  -0.0008,4,   0.0169,2,   0.0212,2,   5.2785,     -999.0,9,     -999.0,9,     -999.0,9,     -999.0,9,     -999.0,9,     -999.0,9,     -999.0,9,-999.0000, -999.00
33RO20071215,        P18,     147,          1,         29,      12044,2,20080206,       1753,   -56.6668,  -102.9987,       4131,   142.2,   4.7792,  34.0637,2,  34.0724,2,    298.4,2,   300.1,2,    8.20,2,   23.10,2,    0.29,2,    1.66,2,   4.725,2,   2.626,2,   1.9728,2,  2130.7,2,  2277.0,2,   -999.0,9,  -999.00,   7.7537,2,    25.00,-999.000,9,-999.0000,9, -999.00,9, -999.00,9,  -999.0,9,-999.000,9,-999.000,-999.000,9,-999.000,9,   45.11,2,   26.18,2, -999.00,9,    0.08,2, -999.00,9,-999.000,   0.0693,2,   0.0428,2,   0.0198,2,   0.0139,2,   0.0068,2,   0.0007,2,  -0.0008,4,   0.0173,2,   0.0218,2,   4.7686,     -999.0,9,     -999.0,9,     -999.0,9,     -999.0,9,     -999.0,9,     -999.0,9,     -999.0,9,-999.0000, -999.00
33RO20071215,        P18,     147,          1,         28,      12057,2,20080206,       1753,   -56.6668,  -102.9987,       4131,   167.4,   4.8402,  34.1233,2,  34.1263,2,    292.2,2,   289.2,2,    9.20,2,   23.70,2,    0.01,2,    1.66,2,   4.482,2,   2.493,2,   1.7693,2,  2134.2,2,  2276.7,2,   -999.0,9,  -999.00,   7.7470,2,    25.00,-999.000,9,-999.0000,9, -999.00,9, -999.00,9,  -999.0,9,-999.000,9,-999.000,-999.000,9,-999.000,9,   44.60,2,   26.23,2, -999.00,9,    0.03,2, -999.00,9,-999.000,   0.0664,2,   0.0399,2,   0.0184,2,   0.0134,2,   0.0061,2,   0.0002,3,  -0.0011,4,   0.0173,2,   0.0227,2,   4.8276,     -999.0,9,     -999.0,9,     -999.0,9,     -999.0,9,     -999.0,9,     -999.0,9,     -999.0,9,-999.0000, -999.00
33RO20071215,        P18,     147,          1,         27,      12026,2,20080206,       1753,   -56.6668,  -102.9987,       4131,   191.7,   4.7307,  34.1272,2,  34.1237,2,    291.2,2,   289.9,2,   10.10,2,   24.20,2,    0.01,2,    1.69,2,   4.393,2,   2.425,2,   1.7200,2,  2137.3,2,  2276.8,2,   -999.0,9,  -999.00,   7.7359,2,    25.00,-999.000,9,-999.0000,9, -999.00,9, -999.00,9,  -999.0,9,-999.000,9,-999.000,-999.000,9,-999.000,9,   44.08,2,   26.34,2, -999.00,9,    0.01,2, -999.00,9,-999.000,   0.0701,2,   0.0431,2,   0.0204,2,   0.0149,2,   0.0076,2,   0.0013,2,  -0.0005,4,   0.0164,2,   0.0211,2,   4.7164,     -999.0,9,     -999.0,9,     -999.0,9,     -999.0,9,     -999.0,9,     -999.0,9,     -999.0,9,-999.0000, -999.00
33RO20071215,        P18,     147,          1,         26,      12030,2,20080206,       1753,   -56.6668,  -102.9987,       4131,   232.4,   4.5162,  34.1225,2,  34.1237,2,    288.0,2,   284.9,2,   11.40,2,   24.90,2,    0.01,2,    1.74,2,   4.350,2,   2.406,2,   1.7678,2,  2141.9,2,  2276.7,2,   -999.0,9,  -999.00,   7.7269,2,    25.00,-999.000,9,-999.0000,9, -999.00,9, -999.00,9,  -999.0,9,-999.000,9,-999.000,-999.000,9,-999.000,9,   43.22,2,   27.22,2, -999.00,9,    0.01,2, -999.00,9,-999.000,   0.0696,2,   0.0424,2,   0.0200,2,   0.0143,2,   0.0071,2,   0.0009,2,  -0.0007,4,   0.0168,2,   0.0217,2,   4.4992,     -999.0,9,     -999.0,9,     -999.0,9,     -999.0,9,     -999.0,9,     -999.0,9,     -999.0,9,-999.0000, -999.00
33RO20071215,        P18,     147,          1,         25,      12024,2,20080206,       1753,   -56.6668,  -102.9987,       4131,   282.6,   4.1295,  34.0969,2,  34.0964,2,    291.2,2,   288.3,2,   12.20,2,   25.40,2,    0.01,2,    1.77,2,   4.500,2,   2.473,2,   1.7774,2,  2143.9,2,  2279.0,2,   -999.0,9,  -999.00,   7.7231,2,    25.00,-999.000,9,-999.0000,9, -999.00,9, -999.00,9,  -999.0,9,-999.000,9,-999.000,-999.000,9,-999.000,9,   42.65,2,   27.14,2, -999.00,9, -999.00,9, -999.00,9,-999.000,   0.0698,2,   0.0424,2,   0.0199,2,   0.0143,2,   0.0070,2,   0.0007,3,  -0.0008,4,   0.0168,2,   0.0218,2,   4.1096,     -999.0,9,     -999.0,9,     -999.0,9,     -999.0,9,     -999.0,9,     -999.0,9,     -999.0,9,-999.0000, -999.00
33RO20071215,        P18,     147,          1,         24,      12019,2,20080206,       1753,   -56.6668,  -102.9987,       4131,   332.7,   3.8864,  34.0913,2,  34.0944,2,    281.8,2,   283.1,2,   14.20,2,   26.30,2,    0.01,2,    1.84,2,   4.424,2,   2.420,2,   1.6489,2,  2150.3,2,  2281.1,2,   -999.0,9,  -999.00,   7.7131,2,    25.00,-999.000,9,-999.0000,9, -999.00,9, -999.00,9,  -999.0,9,-999.000,9,-999.000,-999.000,9,-999.000,9,   42.60,2,   27.42,2, -999.00,9, -999.00,9, -999.00,9,-999.000,   0.0711,2,   0.0434,2,   0.0202,2,   0.0145,2,   0.0071,2,   0.0007,2,  -0.0009,4,   0.0169,2,   0.0218,2,   3.8634,     -999.0,9,     -999.0,9,     -999.0,9,     -999.0,9,     -999.0,9,     -999.0,9,     -999.0,9,-999.0000, -999.00
33RO20071215,        P18,     147,          1,         23,      12022,2,20080206,       1753,   -56.6668,  -102.9987,       4131,   382.8,   3.8528,  34.1204,2,  34.1197,2,    271.6,2,   270.8,2,   17.10,2,   27.30,2,    0.01,2,    1.91,2,   4.167,2,   2.244,2,   1.5178,2,  2159.6,2,  2283.0,2,   -999.0,9,  -999.00,   7.6933,2,    25.00,-999.000,9,-999.0000,9, -999.00,9, -999.00,9,  -999.0,9,-999.000,9,-999.000,-999.000,9,-999.000,9,   42.31,2,   29.03,2, -999.00,9, -999.00,9, -999.00,9,-999.000,   0.0746,2,   0.0460,2,   0.0217,2,   0.0153,2,   0.0074,2,   0.0008,2,  -0.0009,4,   0.0169,2,   0.0215,2,   3.8263,     -999.0,9,     -999.0,9,     -999.0,9,     -999.0,9,     -999.0,9,     -999.0,9,     -999.0,9,-999.0000, -999.00
33RO20071215,        P18,     147,          1,         22,      12015,2,20080206,       1753,   -56.6668,  -102.9987,       4131,   466.8,   3.6808,  34.1589,2,  34.1594,2,    259.2,2,   252.6,2,   22.90,2,   29.20,2,    0.01,2,    2.02,2,   3.791,6,   2.010,6,   1.2695,6,  2173.8,2,  2287.3,2,   -999.0,9,  -999.00,   7.6697,2,    25.00,-999.000,9,-999.0000,9, -999.00,9, -999.00,9,  -999.0,9,-999.000,9,-999.000,-999.000,9,-999.000,9,   42.05,2,   30.42,2, -999.00,9, -999.00,9, -999.00,9,-999.000,   0.0795,2,   0.0495,2,   0.0237,2,   0.0167,2,   0.0084,2,   0.0011,2,  -0.0007,4,   0.0167,2,   0.0208,2,   3.6488,     -999.0,9,     -999.0,9,     -999.0,1,     -999.0,9,     -999.0,9,     -999.0,9,     -999.0,9,-999.0000, -999.00
33RO20071215,        P18,     147,          1,         21,      12020,2,20080206,       1753,   -56.6668,  -102.9987,       4131,   566.2,   3.5002,  34.2129,2,  34.2134,2,    235.7,2,   235.2,2,   29.70,2,   30.70,2,    0.01,2,    2.13,2,   3.221,2,   1.663,2,   1.0149,2,  2188.2,2,  2292.0,2,   -999.0,9,  -999.00,   7.6379,2,    25.00,-999.000,9,-999.0000,9, -999.00,9, -999.00,9,  -999.0,9,-999.000,9,-999.000,-999.000,9,-999.000,9,   41.54,2,   32.30,2, -999.00,9, -999.00,9, -999.00,9,-999.000,   0.0867,2,   0.0550,2,   0.0269,2,   0.0188,2,   0.0099,2,   0.0019,2,  -0.0004,4,   0.0163,2,   0.0198,2,   3.4617,     -999.0,9,     -999.0,9,     -999.0,9,     -999.0,9,     -999.0,9,     -999.0,9,     -999.0,9,-999.0000, -999.00
33RO20071215,        P18,     147,          1,         20,      12055,2,20080206,       1753,   -56.6668,  -102.9987,       4131,   664.2,   3.2963,  34.2619,2,  34.2642,2,    222.2,2,   221.9,2,   36.60,2,   32.00,2,    0.00,2,    2.22,2,   2.740,2,   1.399,2,   0.7528,2,  2201.4,2,  2299.8,2,   -999.0,9,  -999.00,   7.6232,2,    25.00,-999.000,9,-999.0000,9, -999.00,9, -999.00,9,  -999.0,9,-999.000,9,-999.000,-999.000,9,-999.000,9,   40.71,2,   33.29,2, -999.00,9, -999.00,9, -999.00,9,-999.000,   0.0922,2,   0.0594,2,   0.0291,2,   0.0199,2,   0.0105,2,   0.0023,2,  -0.0002,4,   0.0166,2,   0.0196,2,   3.2517,     -999.0,9,     -999.0,9,     -999.0,9,     -999.0,9,     -999.0,9,     -999.0,9,     -999.0,9,-999.0000, -999.00
33RO20071215,        P18,     147,          1,         19,      12018,2,20080206,       1753,   -56.6668,  -102.9987,       4131,   766.1,   3.0130,  34.3034,2,  34.3060,2,    209.4,2,   210.6,2,   44.10,2,   33.20,2,    0.00,2,    2.29,2,   2.259,2,   1.148,2,   0.5626,2,  2213.4,2,  2306.1,2,   -999.0,9,  -999.00,   7.6000,2,    25.00,-999.000,9,-999.0000,9, -999.00,9, -999.00,9,  -999.0,9,-999.000,9,-999.000,-999.000,9,-999.000,9,   40.14,2,   34.64,2, -999.00,9, -999.00,9, -999.00,9,-999.000,   0.0994,2,   0.0648,2,   0.0324,2,   0.0223,2,   0.0122,2,   0.0034,2,   0.0003,3,   0.0162,2,   0.0188,2,   2.9625,     -999.0,9,     -999.0,9,     -999.0,9,     -999.0,9,     -999.0,9,     -999.0,9,     -999.0,9,-999.0000, -999.00
33RO20071215,        P18,     147,          1,         18,      12025,2,20080206,       1753,   -56.6668,  -102.9987,       4131,   867.3,   2.9307,  34.3766,2,  34.3771,2,    195.8,2,   195.0,2,   52.70,2,   34.00,2,    0.00,2,    2.35,2,   1.582,2,   0.801,2,   0.4008,2,  2226.0,2,  2315.1,2,   -999.0,9,  -999.00,   7.5876,2,    25.00,-999.000,9,-999.0000,9, -999.00,9, -999.00,9,  -999.0,9,-999.000,9,-999.000,-999.000,9,-999.000,9,   40.17,2,   35.28,2, -999.00,9, -999.00,9, -999.00,9,-999.000,   0.1082,2,   0.0721,2,   0.0369,2,   0.0260,2,   0.0147,2,   0.0046,2,   0.0000,4,   0.0157,2,   0.0178,2,   2.8734,     -999.0,9,     -999.0,9,     -999.0,9,     -999.0,9,     -999.0,9,     -999.0,9,     -999.0,9,-999.0000, -999.00
33RO20071215,        P18,     147,          1,         17,      12016,2,20080206,       1753,   -56.6668,  -102.9987,       4131,   966.4,   2.7914,  34.4262,2,  34.4274,2,    186.5,2,   185.6,2,   59.20,2,   34.50,2,    0.00,2,    2.39,2,   1.204,2,   0.617,2,   0.2281,2,  2236.1,2,  2322.1,2,   -999.0,9,  -999.00,   7.5748,2,    25.00,-999.000,9,-999.0000,9, -999.00,9, -999.00,9,  -999.0,9,-999.000,9,-999.000,-999.000,9,-999.000,9,   39.35,2,   36.08,2, -999.00,9, -999.00,9, -999.00,9,-999.000,   0.1167,2,   0.0791,2,   0.0415,2,   0.0293,2,   0.0172,2,   0.0062,2,   0.0009,2,   0.0154,2,   0.0169,2,   2.7278,     -999.0,9,     -999.0,9,     -999.0,1,     -999.0,9,     -999.0,9,     -999.0,9,     -999.0,9,-999.0000, -999.00
33RO20071215,        P18,     147,          1,         16,      12051,2,20080206,       1753,   -56.6668,  -102.9987,       4131,  1132.6,   2.6018,  34.5072,2,  34.5081,2,    176.5,2,   176.0,2,   68.50,2,   34.70,2,    0.00,2,    2.41,2,   0.743,2,   0.385,2,   0.1603,2,  2247.3,2,  2331.1,2,   -999.0,9,  -999.00,   7.5685,2,    25.00,-999.000,9,-999.0000,9, -999.00,9, -999.00,9,  -999.0,9,-999.000,9,-999.000,-999.000,9,-999.000,9,   39.27,2,   36.16,2, -999.00,9, -999.00,9, -999.00,9,-999.000,   0.1157,2,   0.0773,2,   0.0390,2,   0.0266,2,   0.0149,2,   0.0044,2,  -0.0003,4,   0.0163,2,   0.0182,2,   2.5272,     -999.0,9,     -999.0,9,     -999.0,9,     -999.0,9,     -999.0,9,     -999.0,9,     -999.0,9,-999.0000, -999.00
33RO20071215,        P18,     147,          1,         15,      12014,2,20080206,       1753,   -56.6668,  -102.9987,       4131,  1333.4,   2.4334,  34.5841,2,  34.5850,2,    172.6,2,   172.8,2,   75.70,2,   34.30,2,    0.00,2,    2.38,2,   0.460,2,   0.243,2,   0.0979,2,  2257.1,6,  2337.6,2,   -999.0,9,  -999.00,   7.5815,2,    25.00,-999.000,9,-999.0000,9, -999.00,9, -999.00,9,  -999.0,9,-999.000,9,-999.000,-999.000,9,-999.000,9,   38.99,2,   35.95,2, -999.00,9, -999.00,9, -999.00,9,-999.000,   0.1206,2,   0.0814,2,   0.0411,2,   0.0279,2,   0.0159,2,   0.0051,2,   0.0001,4,   0.0163,2,   0.0181,2,   2.3451,     -999.0,9,     -999.0,9,     -999.0,9,     -999.0,9,     -999.0,9,     -999.0,9,     -999.0,9,-999.0000, -999.00
33RO20071215,        P18,     147,          1,         14,      12013,2,20080206,       1753,   -56.6668,  -102.9987,       4131,  1532.7,   2.2931,  34.6450,2,  34.6460,2,    174.7,2,   174.8,2,   79.60,2,   33.60,2,    0.00,2,    2.33,2,   0.319,2,   0.169,2,   0.0760,2,  2256.4,2,  2344.2,2,   -999.0,9,  -999.00,   7.5840,2,    25.00,-999.000,9,-999.0000,9, -999.00,9, -999.00,9,  -999.0,9,-999.000,9,-999.000,-999.000,9,-999.000,9,   39.40,2,   34.79,2, -999.00,9, -999.00,9, -999.00,9,-999.000,   0.1226,2,   0.0827,2,   0.0412,2,   0.0276,2,   0.0155,2,   0.0046,2,  -0.0001,4,   0.0166,2,   0.0184,2,   2.1907,     -999.0,9,     -999.0,9,     -999.0,9,     -999.0,9,     -999.0,9,     -999.0,9,     -999.0,9,-999.0000, -999.00
33RO20071215,        P18,     147,          1,         13,      12012,2,20080206,       1753,   -56.6668,  -102.9987,       4131,  1732.5,   2.1949,  34.6857,2,  34.6869,2,    177.8,2,   177.7,2,   83.40,2,   32.90,2,    0.00,2,    2.28,2,   0.199,2,   0.105,2,   0.0000,2,  2256.3,2,  2350.3,2,   -999.0,9,  -999.00,   7.5948,2,    25.00,-999.000,9,-999.0000,9, -999.00,9, -999.00,9,  -999.0,9,-999.000,9,-999.000,-999.000,9,-999.000,9,   39.19,2,   34.05,2, -999.00,9, -999.00,9, -999.00,9,-999.000,   0.1229,2,   0.0830,2,   0.0412,2,   0.0274,2,   0.0154,2,   0.0047,2,   0.0000,4,   0.0167,2,   0.0185,2,   2.0775,     -999.0,9,     -999.0,9,     -999.0,9,     -999.0,9,     -999.0,9,     -999.0,9,     -999.0,9,-999.0000, -999.00
33RO20071215,        P18,     147,          1,         12,      12031,2,20080206,       1753,   -56.6668,  -102.9987,       4131,  1932.9,   2.0598,  34.7112,2,  34.7127,2,    181.6,2,   181.6,2,   87.90,2,   32.40,2,    0.00,2,    2.25,2,   0.134,2,   0.074,2,   0.0000,2,  2258.0,2,  2353.4,2,   -999.0,9,  -999.00,   7.6031,2,    25.00,-999.000,9,-999.0000,9, -999.00,9, -999.00,9,  -999.0,9,-999.000,9,-999.000,-999.000,9,-999.000,9,   39.24,2,   33.67,2, -999.00,9, -999.00,9, -999.00,9,-999.000,   0.1229,2,   0.0829,2,   0.0411,2,   0.0270,2,   0.0152,2,   0.0047,2,   0.0001,4,   0.0168,2,   0.0186,2,   1.9278,     -999.0,9,     -999.0,9,     -999.0,9,     -999.0,9,     -999.0,9,     -999.0,9,     -999.0,9,-999.0000, -999.00