BOTTLE,20220818CCHSIOAMB
EXPOCODE,SECT_ID,STNNBR,CASTNO,SAMPNO,BTLNBR,BTLNBR_FLAG_W,DATE,TIME,LATITUDE,LONGITUDE,DEPTH,CTDPRS,CTDTMP,CTDSAL,CTDSAL_FLAG_W,SALNTY,SALNTY_FLAG_W,CTDOXY,CTDOXY_FLAG_W,OXYGEN,OXYGEN_FLAG_W,SILCAT,SILCAT_FLAG_W,NITRAT,NITRAT_FLAG_W,NITRIT,NITRIT_FLAG_W,PHSPHT,PHSPHT_FLAG_W,CFC-11,CFC-11_FLAG_W,CFC-12,CFC-12_FLAG_W,SF6,SF6_FLAG_W,TCARBN,TCARBN_FLAG_W,ALKALI,ALKALI_FLAG_W,FCO2,FCO2_FLAG_W,FCO2TMP,PH_SWS,PH_SWS_FLAG_W,PH_TMP,TRITUM,TRITUM_FLAG_W,HELIUM,HELIUM_FLAG_W,DELHE3,DELHE3_FLAG_W,DELC13,DELC13_FLAG_W,DELC14,DELC14_FLAG_W,NEON,NEON_FLAG_W,NEONER,CCL4,CCL4_FLAG_W,POC,POC_FLAG_W,DOC,DOC_FLAG_W,TDN,TDN_FLAG_W,DON,DON_FLAG_W,CHLORA,CHLORA_FLAG_W,ARGON,ARGON_FLAG_W,TRITER,CDOM325,CDOM325_FLAG_W,CDOM340,CDOM340_FLAG_W,CDOM380,CDOM380_FLAG_W,CDOM412,CDOM412_FLAG_W,CDOM443,CDOM443_FLAG_W,CDOM490,CDOM490_FLAG_W,CDOM555,CDOM555_FLAG_W,CDOMSL,CDOMSL_FLAG_W,CDOMSN,CDOMSN_FLAG_W,THETA,D18O_NO3,D18O_NO3_FLAG_W,CDOM2C,CDOM2C_FLAG_W,CDOM3C,CDOM3C_FLAG_W,LAB_DEN,LAB_DEN_FLAG_W,DELSI30,DELSI30_FLAG_W,N2,N2_FLAG_W,D15N_NO3,D15N_NO3_FLAG_W,HELIER,DELHER
,,,,,,,,,,,METERS,DBAR,ITS-90,PSS-78,,PSS-78,,UMOL/KG,,UMOL/KG,,UMOL/KG,,UMOL/KG,,UMOL/KG,,UMOL/KG,,PMOL/KG,,PMOL/KG,,FMOL/KG,,UMOL/KG,,UMOL/KG,,UATM,,DEG C,,,DEG C,TU,,NMOL/KG,,PERCNT,,/MILLE,,/MILLE,,NMOL/KG,,NMOL/KG,PMOL/KG,,UG/KG,,UMOL/KG,,UMOL/KG,,UMOL/KG,,UG/KG,,UMOL/KG,,TU,1/M,,1/M,,1/M,,1/M,,1/M,,1/M,,1/M,,1/NM,,1/NM,,DEG C,/MILLE,,,,,,,,/MILLE,,UMOL/KG,,/MILLE,,NMOL/KG,PERCNT
33RO20071215,        P18,      69,          1,         11,      12003,2,20080107,       1550,   -11.1663,  -103.0003,       4133,  2001.0,   2.2239,  34.6441,2,  34.6459,2,    119.7,2,   119.9,2,  131.70,2,   38.20,2,    0.00,2,    2.67,2,   0.004,3,   0.001,3,   0.0000,2,  -999.0,9,  -999.0,9,   -999.0,9,  -999.00,-999.0000,9,  -999.00,-999.000,9,-999.0000,9, -999.00,9, -999.00,9,  -999.0,9,-999.000,9,-999.000,   0.008,3,-999.000,9,   36.22,2,   39.72,2, -999.00,9, -999.00,9, -999.00,9,-999.000,   0.1734,2,   0.1276,2,   0.0763,2,   0.0544,2,   0.0360,2,   0.0143,2,   0.0043,2,   0.0144,2,   0.0138,2,   2.0839,     -999.0,9,     -999.0,9,     -999.0,9,     -999.0,9,     -999.0,9,     -999.0,9,     -999.0,9,-999.0000, -999.00
33RO20071215,        P18,      69,          1,         10,      12032,2,20080107,       1550,   -11.1663,  -103.0003,       4133,  2200.5,   2.0378,  34.6574,2,  34.6624,2,    126.2,2,   126.0,2,  135.50,2,   37.70,2,    0.00,2,    2.63,2,  -0.001,2,   0.000,2,   0.0000,2,  2330.5,2,  2410.1,3,   -999.0,9,  -999.00,   7.5431,2,    25.00,-999.000,9,-999.0000,9, -999.00,9,    0.04,2,  -999.0,1,-999.000,9,-999.000,   0.005,3,-999.000,9,   36.56,3,   39.40,3, -999.00,9, -999.00,9, -999.00,9,-999.000,   0.1523,2,   0.1075,2,   0.0600,2,   0.0429,2,   0.0300,2,   0.0156,2,   0.0081,2,   0.0126,2,   0.0142,2,   1.8835,     -999.0,9,     -999.0,9,     -999.0,9,     -999.0,9,     -999.0,9,     -999.0,9,     -999.0,9,-999.0000, -999.00
33RO20071215,        P18,      69,          1,          9,      12002,2,20080107,       1550,   -11.1663,  -103.0003,       4133,  2400.8,   1.9071,  34.6671,2,  34.6670,2,    133.5,2,   134.1,2,  136.30,2,   37.10,2,    0.00,2,    2.58,2,   0.001,2,   0.000,2,   0.0000,2,  -999.0,9,  -999.0,9,   -999.0,9,  -999.00,-999.0000,9,  -999.00,-999.000,9,-999.0000,9, -999.00,9, -999.00,9,  -999.0,9,-999.000,9,-999.000,   0.006,3,-999.000,9,   36.33,2,   38.73,2, -999.00,9, -999.00,9, -999.00,9,-999.000,   0.1605,2,   0.1148,2,   0.0658,2,   0.0478,2,   0.0344,2,   0.0192,2,   0.0103,2,   0.0115,2,   0.0132,2,   1.7374,     -999.0,9,     -999.0,9,     -999.0,9,     -999.0,9,     -999.0,9,     -999.0,9,     -999.0,9,-999.0000, -999.00
33RO20071215,        P18,      69,          1,          8,      12021,2,20080107,       1550,   -11.1663,  -103.0003,       4133,  2601.1,   1.8180,  34.6742,2,  34.6749,2,    138.3,2,   136.7,2,  139.50,2,   37.00,2,    0.00,2,    2.56,2,  -0.002,2,   0.000,2,   0.0000,2,  2330.4,2,  -999.0,9,   1239.1,6,    20.00,-999.0000,9,  -999.00,-999.000,9,-999.0000,9, -999.00,9,    0.08,2,  -999.0,1,-999.000,9,-999.000,   0.004,3,-999.000,9,   36.61,2,   38.48,2, -999.00,9, -999.00,9, -999.00,9,-999.000,   0.1660,2,   0.1192,2,   0.0679,2,   0.0491,2,   0.0349,2,   0.0187,3,   0.0098,3,   0.0120,4,   0.0135,4,   1.6318,     -999.0,9,     -999.0,9,     -999.0,9,     -999.0,9,     -999.0,9,     -999.0,9,     -999.0,9,-999.0000, -999.00
33RO20071215,        P18,      69,          1,          7,      12001,2,20080107,       1550,   -11.1663,  -103.0003,       4133,  2800.5,   1.7738,  34.6749,2,  34.6753,2,    132.9,2,   133.0,2,  147.20,2,   37.40,2,    0.00,2,    2.58,2,   0.000,2,   0.000,2,   0.0000,2,  -999.0,9,  -999.0,9,   -999.0,9,  -999.00,-999.0000,9,  -999.00,-999.000,9,-999.0000,9, -999.00,9, -999.00,9,  -999.0,9,-999.000,9,-999.000,   0.005,3,-999.000,9,   37.04,2,   38.37,2, -999.00,9, -999.00,9, -999.00,9,-999.000,   0.1621,2,   0.1156,2,   0.0652,2,   0.0472,2,   0.0320,2,   0.0162,2,   0.0075,2,   0.0131,2,   0.0142,2,   1.5700,     -999.0,9,     -999.0,9,     -999.0,9,     -999.0,9,     -999.0,9,     -999.0,9,     -999.0,9,-999.0000, -999.00
33RO20071215,        P18,      69,          1,          6,      12033,4,20080107,       1550,   -11.1663,  -103.0003,       4133,  2996.9,   1.7638,  34.6775,2,  34.6209,4,    136.7,2,   108.7,4,  123.30,3,   39.20,3,    0.00,3,    2.76,3,  -0.001,2,   0.000,2,   0.0000,2,  2327.5,2,  2393.4,4,   -999.0,9,  -999.00,   7.5002,2,    25.00,-999.000,9,-999.0000,9, -999.00,9,    0.02,2,  -999.0,1,-999.000,9,-999.000,   0.006,3,-999.000,9,   37.48,4,   40.53,4, -999.00,9, -999.00,9, -999.00,9,-999.000,   0.1519,2,   0.1064,2,   0.0581,2,   0.0420,2,   0.0277,2,   0.0127,2,   0.0054,2,   0.0140,2,   0.0151,2,   1.5414,     -999.0,9,     -999.0,9,     -999.0,9,     -999.0,9,     -999.0,9,     -999.0,9,     -999.0,9,-999.0000, -999.00
33RO20071215,        P18,      69,          1,          5,      12008,2,20080107,       1550,   -11.1663,  -103.0003,       4133,  3250.5,   1.7697,  34.6791,2,  34.6793,2,    137.7,2,   137.9,2,  146.10,2,   37.10,2,    0.00,2,    2.55,2,   0.000,2,   0.000,2,   0.0000,2,  -999.0,9,  -999.0,9,   -999.0,9,  -999.00,-999.0000,9,  -999.00,-999.000,9,-999.0000,9, -999.00,9, -999.00,9,  -999.0,9,-999.000,9,-999.000,   0.005,3,-999.000,9,   38.57,2,   38.31,2, -999.00,9, -999.00,9, -999.00,9,-999.000,   0.1640,2,   0.1171,2,   0.0655,2,   0.0469,2,   0.0325,2,   0.0171,2,   0.0083,2,   0.0127,2,   0.0141,2,   1.5222,     -999.0,9,     -999.0,9,     -999.0,9,     -999.0,9,     -999.0,9,     -999.0,9,     -999.0,9,-999.0000, -999.00
33RO20071215,        P18,      69,          1,          4,      12009,2,20080107,       1550,   -11.1663,  -103.0003,       4133,  3500.7,   1.7740,  34.6789,2,  34.6806,2,    137.4,2,   137.4,2,  148.40,6,   37.20,6,    0.00,6,    2.56,2,  -0.001,2,   0.000,2,   0.0000,2,  2337.7,2,  -999.0,9,   1217.0,2,    20.00,-999.0000,9,  -999.00,-999.000,9,-999.0000,9, -999.00,9,    0.01,2,  -999.0,1,-999.000,9,-999.000,   0.005,3,-999.000,9,   38.85,2,   38.67,2, -999.00,9, -999.00,9, -999.00,9,-999.000,   0.1557,2,   0.1105,2,   0.0618,2,   0.0438,2,   0.0294,2,   0.0145,2,   0.0066,2,   0.0135,2,   0.0146,2,   1.5008,     -999.0,9,     -999.0,9,     -999.0,9,     -999.0,9,     -999.0,9,     -999.0,9,     -999.0,9,-999.0000, -999.00
33RO20071215,        P18,      69,          1,          3,      12006,2,20080107,       1550,   -11.1663,  -103.0003,       4133,  3748.8,   1.7913,  34.6788,2,  34.6800,2,    137.7,2,   137.7,2,  149.30,6,   37.10,6,    0.00,6,    2.56,2,   0.001,2,   0.000,2,   0.0000,2,  -999.0,9,  -999.0,9,   -999.0,9,  -999.00,-999.0000,9,  -999.00,-999.000,9,-999.0000,9, -999.00,9, -999.00,9,  -999.0,9,-999.000,9,-999.000,   0.005,3,-999.000,9,   37.24,2,   38.67,2, -999.00,9, -999.00,9, -999.00,9,-999.000,   0.1377,2,   0.0941,2,   0.0487,2,   0.0330,2,   0.0206,2,   0.0083,2,   0.0029,2,   0.0154,2,   0.0171,2,   1.4915,     -999.0,9,     -999.0,9,     -999.0,9,     -999.0,9,     -999.0,9,     -999.0,9,     -999.0,9,-999.0000, -999.00
33RO20071215,        P18,      69,          1,          2,      12007,2,20080107,       1550,   -11.1663,  -103.0003,       4133,  3999.7,   1.8146,  34.6788,2,  34.6785,2,    137.3,2,   137.7,2,  149.40,6,   37.10,6,    0.00,6,    2.56,2,   0.000,2,   0.000,2,   0.0000,2,  2338.8,2,  2426.6,2,   -999.0,9,  -999.00,   7.5829,2,    25.00,-999.000,9,-999.0000,9, -999.00,9, -999.00,9,  -999.0,9,-999.000,9,-999.000,   0.006,3,-999.000,9,   38.31,2,   38.63,2, -999.00,9, -999.00,9, -999.00,9,-999.000,   0.1452,2,   0.1008,2,   0.0534,2,   0.0362,2,   0.0230,2,   0.0096,2,   0.0035,2,   0.0151,2,   0.0164,2,   1.4868,     -999.0,9,     -999.0,9,     -999.0,9,     -999.0,9,     -999.0,9,     -999.0,9,     -999.0,9,-999.0000, -999.00
33RO20071215,        P18,      69,          1,          1,      12035,2,20080107,       1550,   -11.1663,  -103.0003,       4133,  4226.0,   1.8351,  34.6789,2,  34.6815,2,    137.8,2,   137.9,2,  149.50,2,   37.20,2,    0.00,2,    2.56,2,   0.000,6,   0.000,6,   0.0000,6,  2338.1,6,  2432.2,2,   1219.8,2,    20.00,   7.5746,2,    25.00,-999.000,9,-999.0000,9, -999.00,9,    0.08,2,  -999.0,1,-999.000,9,-999.000,   0.006,3,-999.000,9,   39.13,2,   38.32,2, -999.00,9, -999.00,9, -999.00,9,-999.000,   0.1510,2,   0.1065,2,   0.0584,2,   0.0407,2,   0.0263,2,   0.0116,2,   0.0044,2,   0.0145,2,   0.0154,2,   1.4813,     -999.0,9,     -999.0,9,     -999.0,9,     -999.0,9,     -999.0,9,     -999.0,9,     -999.0,9,-999.0000, -999.00