BOTTLE,20220818CCHSIOAMB
EXPOCODE,SECT_ID,STNNBR,CASTNO,SAMPNO,BTLNBR,BTLNBR_FLAG_W,DATE,TIME,LATITUDE,LONGITUDE,DEPTH,CTDPRS,CTDTMP,CTDSAL,CTDSAL_FLAG_W,SALNTY,SALNTY_FLAG_W,CTDOXY,CTDOXY_FLAG_W,OXYGEN,OXYGEN_FLAG_W,SILCAT,SILCAT_FLAG_W,NITRAT,NITRAT_FLAG_W,NITRIT,NITRIT_FLAG_W,PHSPHT,PHSPHT_FLAG_W,CFC-11,CFC-11_FLAG_W,CFC-12,CFC-12_FLAG_W,SF6,SF6_FLAG_W,TCARBN,TCARBN_FLAG_W,ALKALI,ALKALI_FLAG_W,FCO2,FCO2_FLAG_W,FCO2TMP,PH_SWS,PH_SWS_FLAG_W,PH_TMP,TRITUM,TRITUM_FLAG_W,HELIUM,HELIUM_FLAG_W,DELHE3,DELHE3_FLAG_W,DELC13,DELC13_FLAG_W,DELC14,DELC14_FLAG_W,NEON,NEON_FLAG_W,NEONER,CCL4,CCL4_FLAG_W,POC,POC_FLAG_W,DOC,DOC_FLAG_W,TDN,TDN_FLAG_W,DON,DON_FLAG_W,CHLORA,CHLORA_FLAG_W,ARGON,ARGON_FLAG_W,TRITER,CDOM325,CDOM325_FLAG_W,CDOM340,CDOM340_FLAG_W,CDOM380,CDOM380_FLAG_W,CDOM412,CDOM412_FLAG_W,CDOM443,CDOM443_FLAG_W,CDOM490,CDOM490_FLAG_W,CDOM555,CDOM555_FLAG_W,CDOMSL,CDOMSL_FLAG_W,CDOMSN,CDOMSN_FLAG_W,THETA,D18O_NO3,D18O_NO3_FLAG_W,CDOM2C,CDOM2C_FLAG_W,CDOM3C,CDOM3C_FLAG_W,LAB_DEN,LAB_DEN_FLAG_W,DELSI30,DELSI30_FLAG_W,N2,N2_FLAG_W,D15N_NO3,D15N_NO3_FLAG_W,HELIER,DELHER
,,,,,,,,,,,METERS,DBAR,ITS-90,PSS-78,,PSS-78,,UMOL/KG,,UMOL/KG,,UMOL/KG,,UMOL/KG,,UMOL/KG,,UMOL/KG,,PMOL/KG,,PMOL/KG,,FMOL/KG,,UMOL/KG,,UMOL/KG,,UATM,,DEG C,,,DEG C,TU,,NMOL/KG,,PERCNT,,/MILLE,,/MILLE,,NMOL/KG,,NMOL/KG,PMOL/KG,,UG/KG,,UMOL/KG,,UMOL/KG,,UMOL/KG,,UG/KG,,UMOL/KG,,TU,1/M,,1/M,,1/M,,1/M,,1/M,,1/M,,1/M,,1/NM,,1/NM,,DEG C,/MILLE,,,,,,,,/MILLE,,UMOL/KG,,/MILLE,,NMOL/KG,PERCNT
33RO20071215,        P18,      70,          1,         36,      12017,2,20080107,       2335,   -11.7497,  -103.0008,       4153,     4.9,  22.7178,  35.7144,2,  35.7143,2,    221.1,2,   221.6,2,    1.40,2,    6.50,2,    0.18,2,    0.64,2,   2.003,6,   1.241,6,   1.0224,6,  2065.6,6,  2358.7,2,   -999.0,9,  -999.00,   8.0005,2,    25.00,   0.349,2,-999.0000,9, -999.00,9, -999.00,9,  -999.0,9,-999.000,9,-999.000,-999.000,9,-999.000,9, -999.00,9, -999.00,9, -999.00,9, -999.00,9, -999.00,9,   0.006,-999.0000,9,-999.0000,9,-999.0000,9,-999.0000,9,-999.0000,9,-999.0000,9,-999.0000,9,-999.0000,9,-999.0000,9,  22.7169,     -999.0,9,     -999.0,9,     -999.0,9,     -999.0,9,     -999.0,1,     -999.0,9,     -999.0,9,-999.0000, -999.00
33RO20071215,        P18,      70,          1,         35,      12029,2,20080107,       2335,   -11.7497,  -103.0008,       4153,    14.7,  22.5474,  35.7076,2,  35.7091,2,    221.5,2,   222.5,2,    1.40,2,    6.50,2,    0.18,2,    0.65,2,-999.000,9,-999.000,9,-999.0000,9,  2065.6,2,  2356.6,2,   -999.0,9,  -999.00,   7.9922,2,    25.00,-999.000,9,-999.0000,9, -999.00,9, -999.00,9,  -999.0,9,-999.000,9,-999.000,-999.000,9,-999.000,9, -999.00,9, -999.00,9, -999.00,9, -999.00,9, -999.00,9,-999.000,-999.0000,9,-999.0000,9,-999.0000,9,-999.0000,9,-999.0000,9,-999.0000,9,-999.0000,9,-999.0000,9,-999.0000,9,  22.5444,     -999.0,9,     -999.0,9,     -999.0,9,     -999.0,9,     -999.0,9,     -999.0,9,     -999.0,9,-999.0000, -999.00
33RO20071215,        P18,      70,          1,         34,      12049,2,20080107,       2335,   -11.7497,  -103.0008,       4153,    33.3,  22.4592,  35.6969,2,  35.7004,2,    215.1,2,   221.0,2,    1.50,2,    6.60,2,    0.18,2,    0.67,2,-999.000,9,-999.000,9,-999.0000,9,  2068.2,2,  2354.9,2,   -999.0,9,  -999.00,   7.9994,2,    25.00,-999.000,9,-999.0000,9, -999.00,9, -999.00,9,  -999.0,9,-999.000,9,-999.000,-999.000,9,-999.000,9, -999.00,9, -999.00,9, -999.00,9, -999.00,9, -999.00,9,-999.000,-999.0000,9,-999.0000,9,-999.0000,9,-999.0000,9,-999.0000,9,-999.0000,9,-999.0000,9,-999.0000,9,-999.0000,9,  22.4525,     -999.0,9,     -999.0,9,     -999.0,9,     -999.0,9,     -999.0,1,     -999.0,9,     -999.0,9,-999.0000, -999.00
33RO20071215,        P18,      70,          1,         33,      12027,2,20080107,       2335,   -11.7497,  -103.0008,       4153,    58.2,  22.0184,  35.6730,2,  35.6762,2,    209.9,2,   218.2,2,    1.90,2,    6.80,2,    0.23,2,    0.72,2,   2.050,2,   1.260,2,   1.1085,2,  2076.3,2,  2356.3,2,   -999.0,9,  -999.00,   7.9768,2,    25.00,   0.328,2,   1.7243,2,   -2.20,3, -999.00,9,  -999.0,9,   6.918,2,   0.024,-999.000,9,-999.000,9, -999.00,9, -999.00,9, -999.00,9, -999.00,9, -999.00,9,   0.006,-999.0000,9,-999.0000,9,-999.0000,9,-999.0000,9,-999.0000,9,-999.0000,9,-999.0000,9,-999.0000,9,-999.0000,9,  22.0069,     -999.0,9,     -999.0,9,     -999.0,9,     -999.0,9,     -999.0,9,     -999.0,9,     -999.0,9,   0.0048,    0.15
33RO20071215,        P18,      70,          1,         32,      12023,2,20080107,       2335,   -11.7497,  -103.0008,       4153,    83.6,  20.6542,  35.7532,2,  35.7635,2,    216.2,2,   213.9,2,    2.00,2,    4.10,2,    0.34,2,    0.67,2,   2.152,2,   1.318,2,   1.1209,2,  2091.6,2,  2339.3,4,   -999.0,9,  -999.00,   7.9573,2,    25.00,   0.366,2,   1.7159,2,   -1.46,2, -999.00,9,  -999.0,9,   6.900,2,   0.024,-999.000,9,-999.000,9, -999.00,9, -999.00,9, -999.00,9, -999.00,9, -999.00,9,   0.011,-999.0000,9,-999.0000,9,-999.0000,9,-999.0000,9,-999.0000,9,-999.0000,9,-999.0000,9,-999.0000,9,-999.0000,9,  20.6384,     -999.0,9,     -999.0,9,     -999.0,9,     -999.0,9,     -999.0,1,     -999.0,9,     -999.0,9,   0.0048,    0.15
33RO20071215,        P18,      70,          1,         31,      12037,2,20080107,       2335,   -11.7497,  -103.0008,       4153,   106.6,  20.3050,  35.7635,2,  35.7632,2,    206.7,2,   206.9,2,    1.80,2,    3.40,2,    1.02,2,    0.65,2,-999.000,9,-999.000,9,-999.0000,9,  2095.5,2,  2363.8,2,   -999.0,9,  -999.00,   7.9659,2,    25.00,-999.000,9,-999.0000,9, -999.00,9, -999.00,9,  -999.0,9,-999.000,9,-999.000,-999.000,9,-999.000,9, -999.00,9, -999.00,9, -999.00,9, -999.00,9, -999.00,9,-999.000,-999.0000,9,-999.0000,9,-999.0000,9,-999.0000,9,-999.0000,9,-999.0000,9,-999.0000,9,-999.0000,9,-999.0000,9,  20.2850,     -999.0,9,     -999.0,9,     -999.0,9,     -999.0,9,     -999.0,9,     -999.0,9,     -999.0,9,-999.0000, -999.00
33RO20071215,        P18,      70,          1,         30,      12036,2,20080107,       2335,   -11.7497,  -103.0008,       4153,   133.6,  19.0599,  35.5228,2,  35.4825,2,    187.8,2,   181.8,2,    2.60,2,    7.20,2,    0.82,2,    0.84,2,   2.308,2,   1.384,2,   1.0727,2,  2112.7,2,  2343.4,2,   -999.0,9,  -999.00,   7.8928,2,    25.00,   0.358,2,   1.7334,2,   -1.30,2, -999.00,9,  -999.0,9,   7.034,2,   0.024,-999.000,9,-999.000,9, -999.00,9, -999.00,9, -999.00,9, -999.00,9, -999.00,9,   0.010,-999.0000,9,-999.0000,9,-999.0000,9,-999.0000,9,-999.0000,9,-999.0000,9,-999.0000,9,-999.0000,9,-999.0000,9,  19.0360,     -999.0,9,     -999.0,9,     -999.0,9,     -999.0,9,     -999.0,1,     -999.0,9,     -999.0,9,   0.0049,    0.15
33RO20071215,        P18,      70,          1,         29,      12044,2,20080107,       2335,   -11.7497,  -103.0008,       4153,   159.9,  14.2719,  34.8313,2,  34.8263,2,     78.1,2,    74.5,2,    9.60,2,   20.80,2,    0.02,2,    1.87,2,-999.000,9,-999.000,9,-999.0000,9,  2198.4,2,  2298.6,2,   -999.0,9,  -999.00,   7.6023,2,    25.00,-999.000,9,-999.0000,9, -999.00,9, -999.00,9,  -999.0,9,-999.000,9,-999.000,-999.000,9,-999.000,9, -999.00,9, -999.00,9, -999.00,9, -999.00,9, -999.00,9,-999.000,-999.0000,9,-999.0000,9,-999.0000,9,-999.0000,9,-999.0000,9,-999.0000,9,-999.0000,9,-999.0000,9,-999.0000,9,  14.2485,     -999.0,9,     -999.0,9,     -999.0,9,     -999.0,9,     -999.0,9,     -999.0,9,     -999.0,9,-999.0000, -999.00
33RO20071215,        P18,      70,          1,         28,      12057,2,20080107,       2335,   -11.7497,  -103.0008,       4153,   182.9,  13.1046,  34.8008,2,  34.8038,2,     15.2,2,     8.5,2,   18.60,2,   24.50,2,    0.01,2,    2.53,2,   1.378,2,   0.774,2,   0.3521,2,  2251.2,6,  2297.2,2,   -999.0,9,  -999.00,   7.4321,2,    25.00,   0.200,2,   1.7636,2,    2.53,2, -999.00,9,  -999.0,9,   7.290,2,   0.025,-999.000,9,-999.000,9, -999.00,9, -999.00,9, -999.00,9, -999.00,9, -999.00,9,   0.006,-999.0000,9,-999.0000,9,-999.0000,9,-999.0000,9,-999.0000,9,-999.0000,9,-999.0000,9,-999.0000,9,-999.0000,9,  13.0793,     -999.0,9,     -999.0,9,     -999.0,9,     -999.0,9,     -999.0,1,     -999.0,9,     -999.0,9,   0.0049,    0.15
33RO20071215,        P18,      70,          1,         27,      12026,2,20080107,       2335,   -11.7497,  -103.0008,       4153,   216.2,  11.7131,  34.8023,2,  34.8027,2,     12.0,2,    13.8,2,   23.60,2,   28.90,2,    0.01,2,    2.53,2,   0.636,2,   0.356,2,   0.1215,2,  2254.6,2,  2302.8,2,   -999.0,9,  -999.00,   7.4380,2,    25.00,   0.102,2,   1.7837,2,    3.18,2, -999.00,9,  -999.0,9,   7.441,2,   0.025,-999.000,9,-999.000,9, -999.00,9, -999.00,9, -999.00,9, -999.00,9, -999.00,9,   0.006,-999.0000,9,-999.0000,9,-999.0000,9,-999.0000,9,-999.0000,9,-999.0000,9,-999.0000,9,-999.0000,9,-999.0000,9,  11.6854,     -999.0,9,     -999.0,9,     -999.0,9,     -999.0,9,     -999.0,1,     -999.0,9,     -999.0,9,   0.0050,    0.15
33RO20071215,        P18,      70,          1,         26,      12030,2,20080107,       2335,   -11.7497,  -103.0008,       4153,   266.4,  10.8155,  34.7906,2,  34.7902,2,     28.5,2,  -999.0,5,   26.30,2,   32.50,2,    0.00,2,    2.42,2,-999.000,9,-999.000,9,-999.0000,9,  2247.1,2,  2304.3,2,   -999.0,9,  -999.00,   7.4723,2,    25.00,-999.000,9,-999.0000,9, -999.00,9, -999.00,9,  -999.0,9,-999.000,9,-999.000,-999.000,9,-999.000,9, -999.00,9, -999.00,9, -999.00,9, -999.00,9, -999.00,9,-999.000,-999.0000,9,-999.0000,9,-999.0000,9,-999.0000,9,-999.0000,9,-999.0000,9,-999.0000,9,-999.0000,9,-999.0000,9,  10.7830,     -999.0,9,     -999.0,9,     -999.0,9,     -999.0,9,     -999.0,1,     -999.0,9,     -999.0,9,-999.0000, -999.00
33RO20071215,        P18,      70,          1,         25,      12024,2,20080107,       2335,   -11.7497,  -103.0008,       4153,   316.3,  10.1896,  34.7579,2,  34.7583,2,     20.7,2,    20.4,2,   30.50,2,   34.70,2,    0.00,2,    2.54,2,   0.250,2,   0.143,2,   0.0266,2,  2258.5,2,  2303.8,2,   -999.0,9,  -999.00,   7.4394,2,    25.00,   0.089,2,   1.7938,2,    4.29,2, -999.00,9,  -999.0,9,   7.540,2,   0.026,-999.000,9,-999.000,9, -999.00,9, -999.00,9, -999.00,9, -999.00,9, -999.00,9,   0.008,-999.0000,9,-999.0000,9,-999.0000,9,-999.0000,9,-999.0000,9,-999.0000,9,-999.0000,9,-999.0000,9,-999.0000,9,  10.1523,     -999.0,9,     -999.0,9,     -999.0,9,     -999.0,9,     -999.0,1,     -999.0,9,     -999.0,9,   0.0050,    0.15
33RO20071215,        P18,      70,          1,         24,      12019,2,20080107,       2335,   -11.7497,  -103.0008,       4153,   366.9,   9.7050,  34.7267,2,  34.7300,2,     18.0,2,    19.0,2,   32.40,2,   36.20,2,    0.00,2,    2.61,2,   0.166,2,   0.095,2,   0.0000,2,  2262.3,2,  2300.6,2,   -999.0,9,  -999.00,   7.4187,2,    25.00,-999.000,9,   1.7743,2,    4.95,2, -999.00,9,  -999.0,9,   7.515,2,   0.026,-999.000,9,-999.000,9, -999.00,9, -999.00,9, -999.00,9, -999.00,9, -999.00,9,-999.000,-999.0000,9,-999.0000,9,-999.0000,9,-999.0000,9,-999.0000,9,-999.0000,9,-999.0000,9,-999.0000,9,-999.0000,9,   9.6630,     -999.0,9,     -999.0,9,     -999.0,9,     -999.0,9,     -999.0,9,     -999.0,9,     -999.0,9,   0.0050,    0.15
33RO20071215,        P18,      70,          1,         23,      12022,2,20080107,       2335,   -11.7497,  -103.0008,       4153,   432.9,   9.0042,  34.6800,2,  34.6760,2,     23.7,2,    22.8,2,   34.60,2,   37.80,2,    0.00,2,    2.68,2,-999.000,9,-999.000,9,-999.0000,9,  2265.0,2,  2307.3,2,   -999.0,9,  -999.00,   7.4119,2,    25.00,-999.000,9,-999.0000,9, -999.00,9, -999.00,9,  -999.0,9,-999.000,9,-999.000,-999.000,9,-999.000,9, -999.00,9, -999.00,9, -999.00,9, -999.00,9, -999.00,9,-999.000,-999.0000,9,-999.0000,9,-999.0000,9,-999.0000,9,-999.0000,9,-999.0000,9,-999.0000,9,-999.0000,9,-999.0000,9,   8.9567,     -999.0,9,     -999.0,9,     -999.0,9,     -999.0,9,     -999.0,1,     -999.0,9,     -999.0,9,-999.0000, -999.00
33RO20071215,        P18,      70,          1,         22,      12015,2,20080107,       2335,   -11.7497,  -103.0008,       4153,   532.4,   7.9733,  34.6220,2,  34.6229,2,     20.0,2,  -999.0,5,   39.80,2,   40.60,2,    0.00,2,    2.86,2,   0.023,2,   0.014,2,   0.0000,2,  2275.9,2,  2305.8,2,   -999.0,9,  -999.00,   7.3907,2,    25.00,-999.000,9,-999.0000,9, -999.00,9, -999.00,9,  -999.0,9,-999.000,9,-999.000,-999.000,9,-999.000,9, -999.00,9, -999.00,9, -999.00,9, -999.00,9, -999.00,9,-999.000,-999.0000,9,-999.0000,9,-999.0000,9,-999.0000,9,-999.0000,9,-999.0000,9,-999.0000,9,-999.0000,9,-999.0000,9,   7.9186,     -999.0,9,     -999.0,9,     -999.0,9,     -999.0,9,     -999.0,9,     -999.0,9,     -999.0,9,-999.0000, -999.00
33RO20071215,        P18,      70,          1,         21,      12020,2,20080107,       2335,   -11.7497,  -103.0008,       4153,   629.2,   7.0189,  34.5719,2,  34.5724,2,     27.9,2,    26.8,2,   45.20,2,   42.60,2,    0.00,2,    2.97,2,-999.000,9,-999.000,9,-999.0000,9,  2281.9,2,  2312.1,2,   -999.0,9,  -999.00,   7.3809,2,    25.00,-999.000,9,-999.0000,9, -999.00,9, -999.00,9,  -999.0,9,-999.000,9,-999.000,-999.000,9,-999.000,9, -999.00,9, -999.00,9, -999.00,9, -999.00,9, -999.00,9,-999.000,-999.0000,9,-999.0000,9,-999.0000,9,-999.0000,9,-999.0000,9,-999.0000,9,-999.0000,9,-999.0000,9,-999.0000,9,   6.9585,     -999.0,9,     -999.0,9,     -999.0,9,     -999.0,9,     -999.0,1,     -999.0,9,     -999.0,9,-999.0000, -999.00
33RO20071215,        P18,      70,          1,         20,      12055,2,20080107,       2335,   -11.7497,  -103.0008,       4153,   713.5,   6.2804,  34.5446,2,  34.5444,2,     33.0,2,    32.2,2,   51.60,2,   43.60,2,    0.00,2,    3.04,2,   0.001,2,   0.001,2,   0.0000,2,  2287.4,2,  2317.6,2,   -999.0,9,  -999.00,   7.3775,2,    25.00,-999.000,9,-999.0000,9, -999.00,9, -999.00,9,  -999.0,9,-999.000,9,-999.000,-999.000,9,-999.000,9, -999.00,9, -999.00,9, -999.00,9, -999.00,9, -999.00,9,-999.000,-999.0000,9,-999.0000,9,-999.0000,9,-999.0000,9,-999.0000,9,-999.0000,9,-999.0000,9,-999.0000,9,-999.0000,9,   6.2154,     -999.0,9,     -999.0,9,     -999.0,9,     -999.0,9,     -999.0,9,     -999.0,9,     -999.0,9,-999.0000, -999.00
33RO20071215,        P18,      70,          1,         19,      12018,2,20080107,       2335,   -11.7497,  -103.0008,       4153,   830.0,   5.4703,  34.5264,2,  34.5273,2,     46.8,2,    47.7,2,   61.10,2,   43.60,2,    0.00,2,    3.05,2,-999.000,9,-999.000,9,-999.0000,9,  2291.0,2,  2325.8,2,   -999.0,9,  -999.00,   7.4011,2,    25.00,-999.000,9,-999.0000,9, -999.00,9, -999.00,9,  -999.0,9,-999.000,9,-999.000,-999.000,9,-999.000,9, -999.00,9, -999.00,9, -999.00,9, -999.00,9, -999.00,9,-999.000,-999.0000,9,-999.0000,9,-999.0000,9,-999.0000,9,-999.0000,9,-999.0000,9,-999.0000,9,-999.0000,9,-999.0000,9,   5.3991,     -999.0,9,     -999.0,9,     -999.0,9,     -999.0,9,     -999.0,1,     -999.0,9,     -999.0,9,-999.0000, -999.00
33RO20071215,        P18,      70,          1,         18,      12025,2,20080107,       2335,   -11.7497,  -103.0008,       4153,   932.9,   4.9153,  34.5274,2,  34.5297,2,     54.5,2,    55.5,2,   69.90,2,   43.50,2,    0.00,2,    3.05,2,-999.000,9,-999.000,9,-999.0000,9,  2296.7,2,  2334.9,2,   -999.0,9,  -999.00,   7.4025,2,    25.00,-999.000,9,-999.0000,9, -999.00,9, -999.00,9,  -999.0,9,-999.000,9,-999.000,-999.000,9,-999.000,9, -999.00,9, -999.00,9, -999.00,9, -999.00,9, -999.00,9,-999.000,-999.0000,9,-999.0000,9,-999.0000,9,-999.0000,9,-999.0000,9,-999.0000,9,-999.0000,9,-999.0000,9,-999.0000,9,   4.8386,     -999.0,9,     -999.0,9,     -999.0,9,     -999.0,9,     -999.0,9,     -999.0,9,     -999.0,9,-999.0000, -999.00
33RO20071215,        P18,      70,          1,         17,      12016,2,20080107,       2335,   -11.7497,  -103.0008,       4153,  1032.1,   4.3612,  34.5385,2,  34.5387,2,     73.2,2,    72.4,2,   80.40,2,   42.10,2,    0.00,2,    2.97,2,-999.000,9,-999.000,9,-999.0000,9,  2299.2,2,  2343.9,2,   -999.0,9,  -999.00,   7.4422,2,    25.00,-999.000,9,-999.0000,9, -999.00,9, -999.00,9,  -999.0,9,-999.000,9,-999.000,-999.000,9,-999.000,9, -999.00,9, -999.00,9, -999.00,9, -999.00,9, -999.00,9,-999.000,-999.0000,9,-999.0000,9,-999.0000,9,-999.0000,9,-999.0000,9,-999.0000,9,-999.0000,9,-999.0000,9,-999.0000,9,   4.2799,     -999.0,9,     -999.0,9,     -999.0,9,     -999.0,9,     -999.0,1,     -999.0,9,     -999.0,9,-999.0000, -999.00
33RO20071215,        P18,      70,          1,         16,      12051,2,20080107,       2335,   -11.7497,  -103.0008,       4153,  1125.4,   4.0239,  34.5490,2,  34.5490,2,     79.5,2,    79.7,2,   87.70,2,   41.50,2,    0.00,2,    2.94,2,-999.000,9,-999.000,9,-999.0000,9,  2303.1,2,  2354.9,2,   -999.0,9,  -999.00,   7.4492,2,    25.00,-999.000,9,-999.0000,9, -999.00,9, -999.00,9,  -999.0,9,-999.000,9,-999.000,-999.000,9,-999.000,9, -999.00,9, -999.00,9, -999.00,9, -999.00,9, -999.00,9,-999.000,-999.0000,9,-999.0000,9,-999.0000,9,-999.0000,9,-999.0000,9,-999.0000,9,-999.0000,9,-999.0000,9,-999.0000,9,   3.9374,     -999.0,9,     -999.0,9,     -999.0,9,     -999.0,9,     -999.0,9,     -999.0,9,     -999.0,9,-999.0000, -999.00
33RO20071215,        P18,      70,          1,         15,      12014,2,20080107,       2335,   -11.7497,  -103.0008,       4153,  1181.9,   3.8516,  34.5558,2,  34.5566,2,     83.0,2,    83.4,2,   91.50,2,   41.30,2,    0.00,2,    2.92,2,-999.000,9,-999.000,9,-999.0000,9,  2309.3,2,  2359.2,2,   -999.0,9,  -999.00,   7.4482,2,    25.00,-999.000,9,-999.0000,9, -999.00,9, -999.00,9,  -999.0,9,-999.000,9,-999.000,-999.000,9,-999.000,9, -999.00,9, -999.00,9, -999.00,9, -999.00,9, -999.00,9,-999.000,-999.0000,9,-999.0000,9,-999.0000,9,-999.0000,9,-999.0000,9,-999.0000,9,-999.0000,9,-999.0000,9,-999.0000,9,   3.7618,     -999.0,9,     -999.0,9,     -999.0,9,     -999.0,9,     -999.0,1,     -999.0,9,     -999.0,9,-999.0000, -999.00
33RO20071215,        P18,      70,          1,         14,      12013,2,20080107,       2335,   -11.7497,  -103.0008,       4153,  1255.5,   3.6012,  34.5660,2,  34.5656,2,     85.9,2,    86.2,2,   97.60,2,   40.90,2,    0.00,2,    2.91,2,-999.000,9,-999.000,9,-999.0000,9,  2313.9,2,  2365.3,2,   -999.0,9,  -999.00,   7.4579,2,    25.00,-999.000,9,-999.0000,9, -999.00,9, -999.00,9,  -999.0,9,-999.000,9,-999.000,-999.000,9,-999.000,9, -999.00,9, -999.00,9, -999.00,9, -999.00,9, -999.00,9,-999.000,-999.0000,9,-999.0000,9,-999.0000,9,-999.0000,9,-999.0000,9,-999.0000,9,-999.0000,9,-999.0000,9,-999.0000,9,   3.5075,     -999.0,9,     -999.0,9,     -999.0,9,     -999.0,9,     -999.0,9,     -999.0,9,     -999.0,9,-999.0000, -999.00
33RO20071215,        P18,      70,          1,         13,      12012,2,20080107,       2335,   -11.7497,  -103.0008,       4153,  1467.1,   3.0632,  34.5928,2,  34.5934,2,     94.8,2,    95.0,2,  111.70,2,   40.30,2,    0.00,2,    2.86,2,-999.000,9,-999.000,9,-999.0000,9,  2323.6,2,  2381.0,2,   -999.0,9,  -999.00,   7.4858,2,    25.00,-999.000,9,-999.0000,9, -999.00,9, -999.00,9,  -999.0,9,-999.000,9,-999.000,-999.000,9,-999.000,9, -999.00,9, -999.00,9, -999.00,9, -999.00,9, -999.00,9,-999.000,-999.0000,9,-999.0000,9,-999.0000,9,-999.0000,9,-999.0000,9,-999.0000,9,-999.0000,9,-999.0000,9,-999.0000,9,   2.9573,     -999.0,9,     -999.0,9,     -999.0,9,     -999.0,9,     -999.0,1,     -999.0,9,     -999.0,9,-999.0000, -999.00
33RO20071215,        P18,      70,          1,         12,      12031,2,20080107,       2335,   -11.7497,  -103.0008,       4153,  1665.5,   2.7028,  34.6137,2,  34.6132,2,    103.0,2,   102.4,2,  121.30,2,   39.70,2,    0.00,2,    2.80,2,-999.000,9,-999.000,9,-999.0000,9,  2330.1,2,  2393.4,2,   -999.0,9,  -999.00,   7.4750,2,    25.00,-999.000,9,-999.0000,9, -999.00,9, -999.00,9,  -999.0,9,-999.000,9,-999.000,-999.000,9,-999.000,9, -999.00,9, -999.00,9, -999.00,9, -999.00,9, -999.00,9,-999.000,-999.0000,9,-999.0000,9,-999.0000,9,-999.0000,9,-999.0000,9,-999.0000,9,-999.0000,9,-999.0000,9,-999.0000,9,   2.5846,     -999.0,9,     -999.0,9,     -999.0,9,     -999.0,9,     -999.0,9,     -999.0,9,     -999.0,9,-999.0000, -999.00