BOTTLE,20220818CCHSIOAMB
EXPOCODE,SECT_ID,STNNBR,CASTNO,SAMPNO,BTLNBR,BTLNBR_FLAG_W,DATE,TIME,LATITUDE,LONGITUDE,DEPTH,CTDPRS,CTDTMP,CTDSAL,CTDSAL_FLAG_W,SALNTY,SALNTY_FLAG_W,CTDOXY,CTDOXY_FLAG_W,OXYGEN,OXYGEN_FLAG_W,SILCAT,SILCAT_FLAG_W,NITRAT,NITRAT_FLAG_W,NITRIT,NITRIT_FLAG_W,PHSPHT,PHSPHT_FLAG_W,CFC-11,CFC-11_FLAG_W,CFC-12,CFC-12_FLAG_W,SF6,SF6_FLAG_W,TCARBN,TCARBN_FLAG_W,ALKALI,ALKALI_FLAG_W,FCO2,FCO2_FLAG_W,FCO2TMP,PH_SWS,PH_SWS_FLAG_W,PH_TMP,TRITUM,TRITUM_FLAG_W,HELIUM,HELIUM_FLAG_W,DELHE3,DELHE3_FLAG_W,DELC13,DELC13_FLAG_W,DELC14,DELC14_FLAG_W,NEON,NEON_FLAG_W,NEONER,CCL4,CCL4_FLAG_W,POC,POC_FLAG_W,DOC,DOC_FLAG_W,TDN,TDN_FLAG_W,DON,DON_FLAG_W,CHLORA,CHLORA_FLAG_W,ARGON,ARGON_FLAG_W,TRITER,CDOM325,CDOM325_FLAG_W,CDOM340,CDOM340_FLAG_W,CDOM380,CDOM380_FLAG_W,CDOM412,CDOM412_FLAG_W,CDOM443,CDOM443_FLAG_W,CDOM490,CDOM490_FLAG_W,CDOM555,CDOM555_FLAG_W,CDOMSL,CDOMSL_FLAG_W,CDOMSN,CDOMSN_FLAG_W,THETA,D18O_NO3,D18O_NO3_FLAG_W,CDOM2C,CDOM2C_FLAG_W,CDOM3C,CDOM3C_FLAG_W,LAB_DEN,LAB_DEN_FLAG_W,DELSI30,DELSI30_FLAG_W,N2,N2_FLAG_W,D15N_NO3,D15N_NO3_FLAG_W,HELIER,DELHER
,,,,,,,,,,,METERS,DBAR,ITS-90,PSS-78,,PSS-78,,UMOL/KG,,UMOL/KG,,UMOL/KG,,UMOL/KG,,UMOL/KG,,UMOL/KG,,PMOL/KG,,PMOL/KG,,FMOL/KG,,UMOL/KG,,UMOL/KG,,UATM,,DEG C,,,DEG C,TU,,NMOL/KG,,PERCNT,,/MILLE,,/MILLE,,NMOL/KG,,NMOL/KG,PMOL/KG,,UG/KG,,UMOL/KG,,UMOL/KG,,UMOL/KG,,UG/KG,,UMOL/KG,,TU,1/M,,1/M,,1/M,,1/M,,1/M,,1/M,,1/M,,1/NM,,1/NM,,DEG C,/MILLE,,,,,,,,/MILLE,,UMOL/KG,,/MILLE,,NMOL/KG,PERCNT
33RO20071215,        P18,      40,          1,         36,      12017,2,20071228,       0733,     2.0417,  -110.0322,       3766,     5.4,  24.5253,  33.8642,2,-999.0000,9,    212.1,2,   212.2,2,    1.90,2,    1.10,2,    0.03,2,    0.15,2,   1.796,6,   1.131,6,   1.0090,6,  1938.5,6,  2234.6,2,    304.3,2,    20.00,   8.0544,2,    25.00,   0.514,2,   1.7329,2,   -1.41,2,    1.23,2,  -999.0,1,   6.788,2,   0.023,-999.000,9,-999.000,9,   73.16,2,    6.19,2, -999.00,1, -999.00,9, -999.00,9,   0.007,-999.0000,9,-999.0000,9,-999.0000,9,-999.0000,9,-999.0000,9,-999.0000,9,-999.0000,9,-999.0000,9,-999.0000,9,  24.5242,     -999.0,9,     -999.0,9,     -999.0,9,     -999.0,9,     -999.0,9,     -999.0,9,     -999.0,9,   0.0049,    0.15
33RO20071215,        P18,      40,          1,         35,      12029,2,20071228,       0733,     2.0417,  -110.0322,       3766,     9.8,  24.5346,  33.8639,2,  33.8729,2,    212.2,2,   211.9,2,    1.90,2,    1.10,2,    0.03,2,    0.16,2,   1.781,2,   1.117,2,   0.9402,2,  1938.5,2,  2233.9,2,   -999.0,9,  -999.00,   8.0512,2,    25.00,-999.000,9,-999.0000,9, -999.00,9, -999.00,9,  -999.0,9,-999.000,9,-999.000,-999.000,9,-999.000,9, -999.00,9, -999.00,9, -999.00,1, -999.00,9, -999.00,9,-999.000,-999.0000,9,-999.0000,9,-999.0000,9,-999.0000,9,-999.0000,9,-999.0000,9,-999.0000,9,-999.0000,9,-999.0000,9,  24.5325,     -999.0,9,     -999.0,9,     -999.0,9,     -999.0,9,     -999.0,9,     -999.0,9,     -999.0,9,-999.0000, -999.00
33RO20071215,        P18,      40,          1,         34,      12049,2,20071228,       0733,     2.0417,  -110.0322,       3766,    25.9,  24.5346,  33.8644,2,  33.8667,2,    212.7,2,   211.7,2,    2.00,2,    1.30,2,    0.03,2,    0.16,2,   1.791,2,   1.130,2,   0.9572,2,  1937.9,2,  2228.8,2,    305.6,2,    20.00,   8.0454,2,    25.00,   0.526,2,   1.7095,2,   -1.22,2, -999.00,9,  -999.0,9,   6.767,2,   0.023,-999.000,9,-999.000,9,   72.58,2,    5.69,2, -999.00,1, -999.00,9, -999.00,9,   0.007,-999.0000,9,-999.0000,9,-999.0000,9,-999.0000,9,-999.0000,9,-999.0000,9,-999.0000,9,-999.0000,9,-999.0000,9,  24.5291,     -999.0,9,     -999.0,9,     -999.0,9,     -999.0,9,     -999.0,9,     -999.0,9,     -999.0,9,   0.0048,    0.15
33RO20071215,        P18,      40,          1,         33,      12027,2,20071228,       0733,     2.0417,  -110.0322,       3766,    49.1,  22.6337,  34.2096,2,  34.3788,2,    202.9,2,   186.0,2,    6.90,2,    9.40,2,    0.20,2,    0.65,2,   1.830,2,   1.116,2,   0.9133,2,  2040.1,2,  2265.9,2,    451.3,2,    20.00,   7.9235,2,    25.00,-999.000,9,-999.0000,9, -999.00,9, -999.00,1,  -999.0,1,-999.000,9,-999.000,-999.000,9,-999.000,9, -999.00,9, -999.00,9, -999.00,1, -999.00,9, -999.00,9,-999.000,-999.0000,9,-999.0000,9,-999.0000,9,-999.0000,9,-999.0000,9,-999.0000,9,-999.0000,9,-999.0000,9,-999.0000,9,  22.6238,     -999.0,9,     -999.0,9,     -999.0,9,     -999.0,9,     -999.0,9,     -999.0,9,     -999.0,9,-999.0000, -999.00
33RO20071215,        P18,      40,          1,         32,      12023,2,20071228,       0733,     2.0417,  -110.0322,       3766,    73.9,  15.7446,  34.9179,2,  34.9342,2,     94.7,2,    87.2,2,   15.70,2,   22.20,2,    0.59,2,    1.48,2,   1.517,2,   0.860,2,   0.4307,2,  2173.3,2,  2297.9,2,    870.5,2,    20.00,   7.6874,2,    25.00,   0.341,2,   1.7492,2,    3.17,2, -999.00,9,  -999.0,9,   7.178,2,   0.024,-999.000,9,-999.000,9,   48.60,2,   26.45,2, -999.00,1, -999.00,9, -999.00,9,   0.007,-999.0000,9,-999.0000,9,-999.0000,9,-999.0000,9,-999.0000,9,-999.0000,9,-999.0000,9,-999.0000,9,-999.0000,9,  15.7331,     -999.0,9,     -999.0,9,     -999.0,9,     -999.0,9,     -999.0,9,     -999.0,9,     -999.0,9,   0.0049,    0.15
33RO20071215,        P18,      40,          1,         31,      12037,2,20071228,       0733,     2.0417,  -110.0322,       3766,    99.9,  13.7820,  34.9574,2,  34.9551,2,     62.4,2,    61.8,2,   18.80,2,   26.40,2,    0.02,2,    1.70,2,   1.325,2,   0.737,2,   0.3437,2,  2197.1,2,  2302.6,2,   1023.8,2,    20.00,   7.6176,2,    25.00,-999.000,9,-999.0000,9, -999.00,9, -999.00,1,  -999.0,1,-999.000,9,-999.000,-999.000,9,-999.000,9, -999.00,9, -999.00,9, -999.00,1, -999.00,9, -999.00,9,-999.000,-999.0000,9,-999.0000,9,-999.0000,9,-999.0000,9,-999.0000,9,-999.0000,9,-999.0000,9,-999.0000,9,-999.0000,9,  13.7678,     -999.0,9,     -999.0,9,     -999.0,9,     -999.0,9,     -999.0,9,     -999.0,9,     -999.0,9,-999.0000, -999.00
33RO20071215,        P18,      40,          1,         30,      12036,2,20071228,       0733,     2.0417,  -110.0322,       3766,   124.4,  13.5087,  34.9428,2,  34.9413,2,     57.2,2,    55.9,2,   20.00,2,   27.40,2,    0.01,2,    1.75,2,   1.232,2,   0.689,2,   0.2982,2,  2204.0,2,  -999.0,5,   -999.0,9,  -999.00,   7.6002,2,    25.00,   0.164,2,   1.7598,2,    4.55,2, -999.00,9,  -999.0,9,   7.267,2,   0.025,-999.000,9,-999.000,9,   47.80,2,   30.55,2, -999.00,1, -999.00,9, -999.00,9,   0.007,-999.0000,9,-999.0000,9,-999.0000,9,-999.0000,9,-999.0000,9,-999.0000,9,-999.0000,9,-999.0000,9,-999.0000,9,  13.4912,     -999.0,9,     -999.0,9,     -999.0,9,     -999.0,9,     -999.0,9,     -999.0,9,     -999.0,9,   0.0049,    0.15
33RO20071215,        P18,      40,          1,         29,      12044,2,20071228,       0733,     2.0417,  -110.0322,       3766,   149.3,  12.9028,  34.9074,2,  34.9055,2,     40.0,2,    38.5,2,   22.40,2,   29.80,2,    0.01,2,    1.94,2,   1.034,2,   0.578,2,   0.2219,2,  2219.8,2,  2301.7,2,   1225.2,2,    20.00,   7.5443,2,    25.00,-999.000,9,-999.0000,9, -999.00,9, -999.00,1,  -999.0,1,-999.000,9,-999.000,-999.000,9,-999.000,9, -999.00,9, -999.00,9, -999.00,1, -999.00,9, -999.00,9,-999.000,-999.0000,9,-999.0000,9,-999.0000,9,-999.0000,9,-999.0000,9,-999.0000,9,-999.0000,9,-999.0000,9,-999.0000,9,  12.8824,     -999.0,9,     -999.0,9,     -999.0,9,     -999.0,9,     -999.0,9,     -999.0,9,     -999.0,9,-999.0000, -999.00
33RO20071215,        P18,      40,          1,         28,      12057,2,20071228,       0733,     2.0417,  -110.0322,       3766,   173.9,  12.6730,  34.8906,2,  34.8887,2,     32.2,2,    31.4,2,   23.60,2,   30.90,2,    0.01,2,    2.01,2,   0.943,2,   0.525,2,   0.2308,2,  2227.6,2,  2301.1,2,   -999.0,9,  -999.00,   7.5281,2,    25.00,   0.263,2,   1.7684,2,    5.26,2, -999.00,9,  -999.0,9,   7.328,2,   0.025,-999.000,9,-999.000,9,   46.06,2,   32.82,2, -999.00,1, -999.00,9, -999.00,9,   0.006,-999.0000,9,-999.0000,9,-999.0000,9,-999.0000,9,-999.0000,9,-999.0000,9,-999.0000,9,-999.0000,9,-999.0000,9,  12.6495,     -999.0,9,     -999.0,9,     -999.0,9,     -999.0,9,     -999.0,9,     -999.0,9,     -999.0,9,   0.0050,    0.15
33RO20071215,        P18,      40,          1,         27,      12026,2,20071228,       0733,     2.0417,  -110.0322,       3766,   199.7,  12.3991,  34.8663,2,  34.8748,2,     25.1,2,    25.6,2,   25.10,2,   31.90,2,    0.01,2,    2.09,2,   0.849,2,   0.475,2,   0.1850,2,  2233.9,2,  2300.8,2,   1373.1,6,    20.00,   7.5077,2,    25.00,-999.000,9,-999.0000,9, -999.00,9, -999.00,1,  -999.0,1,-999.000,9,-999.000,-999.000,9,-999.000,9,   45.09,2, -999.00,9, -999.00,1, -999.00,9, -999.00,9,-999.000,-999.0000,9,-999.0000,9,-999.0000,9,-999.0000,9,-999.0000,9,-999.0000,9,-999.0000,9,-999.0000,9,-999.0000,9,  12.3725,     -999.0,9,     -999.0,9,     -999.0,9,     -999.0,9,     -999.0,9,     -999.0,9,     -999.0,9,-999.0000, -999.00
33RO20071215,        P18,      40,          1,         26,      12030,2,20071228,       0733,     2.0417,  -110.0322,       3766,   249.9,  11.6271,  34.8148,2,  34.8120,2,     26.2,2,    26.4,2,   27.50,2,   32.70,2,    0.01,2,    2.15,2,   0.703,2,   0.393,2,   0.1564,2,  2242.1,2,  2302.2,2,   -999.0,9,  -999.00,   7.4802,2,    25.00,   0.224,2,   1.7736,2,    5.62,2, -999.00,1,  -999.0,1,   7.326,2,   0.025,-999.000,9,-999.000,9,   44.17,2,   34.29,2, -999.00,1, -999.00,9, -999.00,9,   0.006,-999.0000,9,-999.0000,9,-999.0000,9,-999.0000,9,-999.0000,9,-999.0000,9,-999.0000,9,-999.0000,9,-999.0000,9,  11.5952,     -999.0,9,     -999.0,9,     -999.0,9,     -999.0,9,     -999.0,9,     -999.0,9,     -999.0,9,   0.0050,    0.15
33RO20071215,        P18,      40,          1,         25,      12024,2,20071228,       0733,     2.0417,  -110.0322,       3766,   299.7,  11.0804,  34.7766,2,  34.7777,2,     30.4,2,    31.0,2,   29.10,2,   33.20,2,    0.01,2,    2.19,2,   0.619,2,   0.348,2,   0.1055,2,  2243.2,2,  2302.0,2,   1440.9,2,    20.00,   7.4692,2,    25.00,   0.215,2,   1.7734,2,    6.04,2, -999.00,1,  -999.0,1,   7.391,2,   0.025,-999.000,9,-999.000,9,   42.29,2,   34.60,2, -999.00,1, -999.00,9, -999.00,9,   0.006,-999.0000,9,-999.0000,9,-999.0000,9,-999.0000,9,-999.0000,9,-999.0000,9,-999.0000,9,-999.0000,9,-999.0000,9,  11.0432,     -999.0,9,     -999.0,9,     -999.0,9,     -999.0,9,     -999.0,9,     -999.0,9,     -999.0,9,   0.0050,    0.15
33RO20071215,        P18,      40,          1,         24,      12019,2,20071228,       0733,     2.0417,  -110.0322,       3766,   350.6,  10.1613,  34.7245,2,  34.7222,2,     26.4,2,    26.4,2,   33.10,2,   35.10,2,    0.00,2,    2.34,2,   0.413,2,   0.235,2,   0.0894,2,  2254.4,6,  2304.2,2,   -999.0,9,  -999.00,   7.4513,2,    25.00,   0.144,2,   1.7959,2,    5.60,2, -999.00,9,  -999.0,9,   7.534,2,   0.026,-999.000,9,-999.000,9,   41.97,2,   36.03,2, -999.00,1, -999.00,9, -999.00,9,   0.006,-999.0000,9,-999.0000,9,-999.0000,9,-999.0000,9,-999.0000,9,-999.0000,9,-999.0000,9,-999.0000,9,-999.0000,9,  10.1200,     -999.0,9,     -999.0,9,     -999.0,9,     -999.0,9,     -999.0,9,     -999.0,9,     -999.0,9,   0.0050,    0.15
33RO20071215,        P18,      40,          1,         23,      12022,2,20071228,       0733,     2.0417,  -110.0322,       3766,   399.7,   9.2510,  34.6798,2,  34.6829,2,     22.3,2,    23.7,2,   37.30,2,   37.40,2,    0.00,2,    2.50,2,   0.232,2,   0.133,2,   0.0201,2,  2264.7,2,  2305.9,2,   1664.1,2,    20.00,   7.4287,2,    25.00,   0.114,2,   1.7927,2,    6.57,2, -999.00,1,  -999.0,1,   7.634,2,   0.026,-999.000,9,-999.000,9,   41.36,2,   38.49,2, -999.00,1, -999.00,9, -999.00,9,   0.006,-999.0000,9,-999.0000,9,-999.0000,9,-999.0000,9,-999.0000,9,-999.0000,9,-999.0000,9,-999.0000,9,-999.0000,9,   9.2065,     -999.0,9,     -999.0,9,     -999.0,9,     -999.0,9,     -999.0,9,     -999.0,9,     -999.0,9,   0.0050,    0.15
33RO20071215,        P18,      40,          1,         22,      12015,2,20071228,       0733,     2.0417,  -110.0322,       3766,   499.0,   8.4882,  34.6412,2,  34.6415,2,     30.9,2,    30.4,2,   41.00,2,   38.20,2,    0.00,2,    2.58,2,   0.141,2,   0.081,2,   0.0445,2,  2268.6,2,  2310.7,2,   -999.0,9,  -999.00,   7.4233,2,    25.00,   0.077,6,   1.8070,2,    7.30,2, -999.00,1,  -999.0,1,   7.640,2,   0.026,-999.000,9,-999.000,9,   40.65,2,   39.46,2, -999.00,1, -999.00,9, -999.00,9,   0.004,-999.0000,9,-999.0000,9,-999.0000,9,-999.0000,9,-999.0000,9,-999.0000,9,-999.0000,9,-999.0000,9,-999.0000,9,   8.4351,     -999.0,9,     -999.0,9,     -999.0,9,     -999.0,9,     -999.0,9,     -999.0,9,     -999.0,9,   0.0051,    0.15
33RO20071215,        P18,      40,          1,         21,      12020,2,20071228,       0733,     2.0417,  -110.0322,       3766,   600.4,   7.3706,  34.5896,2,  34.5891,2,     47.9,2,    47.2,2,   47.70,2,   38.90,2,    0.00,2,    2.65,2,   0.076,2,   0.045,2,   0.0000,2,  2269.9,2,  2315.9,2,   1618.6,2,    20.00,   7.4399,2,    25.00,   0.023,2,   1.8422,2,    8.13,2, -999.00,1,  -999.0,1,   7.740,2,   0.026,-999.000,9,-999.000,9,   39.93,2,   40.21,2, -999.00,1, -999.00,9, -999.00,9,   0.006,-999.0000,9,-999.0000,9,-999.0000,9,-999.0000,9,-999.0000,9,-999.0000,9,-999.0000,9,-999.0000,9,-999.0000,9,   7.3115,     -999.0,9,     -999.0,9,     -999.0,9,     -999.0,9,     -999.0,9,     -999.0,9,     -999.0,9,   0.0052,    0.15
33RO20071215,        P18,      40,          1,         20,      12055,2,20071228,       0733,     2.0417,  -110.0322,       3766,   700.3,   6.5451,  34.5746,2,  34.5732,2,     40.0,2,    40.5,2,   58.40,2,   41.20,2,    0.00,2,    2.82,2,   0.021,2,   0.013,2,   0.0000,2,  2287.4,2,  2322.5,2,   -999.0,9,  -999.00,   7.4133,2,    25.00,   0.037,2,   1.8334,2,   10.20,2, -999.00,9,  -999.0,9,   7.736,2,   0.026,-999.000,9,-999.000,9,   39.47,2,   42.74,2, -999.00,1, -999.00,9, -999.00,9,   0.006,-999.0000,9,-999.0000,9,-999.0000,9,-999.0000,9,-999.0000,9,-999.0000,9,-999.0000,9,-999.0000,9,-999.0000,9,   6.4800,     -999.0,9,     -999.0,9,     -999.0,9,     -999.0,9,     -999.0,9,     -999.0,9,     -999.0,9,   0.0051,    0.15
33RO20071215,        P18,      40,          1,         19,      12018,2,20071228,       0733,     2.0417,  -110.0322,       3766,   800.0,   5.7812,  34.5565,2,  34.5550,2,     58.0,2,    58.4,2,   66.30,2, -999.00,9,    0.00,2, -999.00,9,   0.011,2,   0.008,2,   0.0000,2,  2289.2,2,  2323.7,2,   1647.8,2,    20.00,   7.4380,2,    25.00,   0.002,2,   1.8497,2,   12.69,2, -999.00,1,  -999.0,1,   7.752,2,   0.026,-999.000,9,-999.000,9,   39.02,2,   42.03,2, -999.00,1, -999.00,9, -999.00,9,   0.006,-999.0000,9,-999.0000,9,-999.0000,9,-999.0000,9,-999.0000,9,-999.0000,9,-999.0000,9,-999.0000,9,-999.0000,9,   5.7109,     -999.0,9,     -999.0,9,     -999.0,9,     -999.0,9,     -999.0,9,     -999.0,9,     -999.0,9,   0.0052,    0.15
33RO20071215,        P18,      40,          1,         18,      12025,4,20071228,       0733,     2.0417,  -110.0322,       3766,   899.9,   5.1420,  34.5527,2,  33.8650,4,     69.1,2,   211.6,4,    2.20,3,    1.60,3,    0.03,3,    0.14,3,   1.796,4,   1.127,4,   1.0348,4,  -999.0,5,  2229.8,4,   -999.0,9,  -999.00,-999.0000,5,  -999.00,-999.000,9,-999.0000,9, -999.00,9, -999.00,9,  -999.0,9,-999.000,9,-999.000,-999.000,9,-999.000,9, -999.00,9, -999.00,9, -999.00,1, -999.00,9, -999.00,9,-999.000,-999.0000,9,-999.0000,9,-999.0000,9,-999.0000,9,-999.0000,9,-999.0000,9,-999.0000,9,-999.0000,9,-999.0000,9,   5.0666,     -999.0,9,     -999.0,9,     -999.0,9,     -999.0,9,     -999.0,9,     -999.0,9,     -999.0,9,-999.0000, -999.00
33RO20071215,        P18,      40,          1,         17,      12016,2,20071228,       0733,     2.0417,  -110.0322,       3766,   999.9,   4.6557,  34.5600,2,  34.5595,2,     72.6,2,    72.2,2,   85.40,2,   40.70,2,    0.00,2,    2.80,2,   0.002,2,   0.002,2,   0.0000,2,  2303.5,2,  2354.7,2,   -999.0,9,  -999.00,   7.4494,2,    25.00,   0.028,2,   1.8706,2,   17.26,2, -999.00,1,  -999.0,1,   7.844,2,   0.027,-999.000,9,-999.000,9,   38.68,2,   41.78,2, -999.00,1, -999.00,9, -999.00,9,   0.006,-999.0000,9,-999.0000,9,-999.0000,9,-999.0000,9,-999.0000,9,-999.0000,9,-999.0000,9,-999.0000,9,-999.0000,9,   4.5749,     -999.0,9,     -999.0,9,     -999.0,9,     -999.0,9,     -999.0,9,     -999.0,9,     -999.0,9,   0.0052,    0.15
33RO20071215,        P18,      40,          1,         16,      12051,2,20071228,       0733,     2.0417,  -110.0322,       3766,  1099.7,   4.3074,  34.5710,2,  34.5705,2,     68.4,2,    68.1,2,   94.80,2,   41.40,2,    0.00,2,    2.86,2,   0.000,2,   0.001,2,   0.0000,2,  2315.9,2,  2362.0,2,   1629.4,2,    20.00,   7.4422,2,    25.00,-999.000,9,-999.0000,9, -999.00,9, -999.00,9,  -999.0,9,-999.000,9,-999.000,-999.000,9,-999.000,9,   38.22,2,   42.67,2, -999.00,9, -999.00,9, -999.00,9,-999.000,-999.0000,9,-999.0000,9,-999.0000,9,-999.0000,9,-999.0000,9,-999.0000,9,-999.0000,9,-999.0000,9,-999.0000,9,   4.2206,     -999.0,9,     -999.0,9,     -999.0,9,     -999.0,9,     -999.0,9,     -999.0,9,     -999.0,9,-999.0000, -999.00
33RO20071215,        P18,      40,          1,         15,      12014,2,20071228,       0733,     2.0417,  -110.0322,       3766,  1199.5,   3.9118,  34.5766,2,  34.5763,2,     78.7,2,    79.5,2,  101.40,2,   40.80,2,    0.00,2,    2.81,2,   0.001,2,   0.001,2,   0.0000,2,  2318.2,2,  2372.9,2,   -999.0,9,  -999.00,   7.4631,2,    25.00,   0.036,2,   1.8861,2,   19.98,2, -999.00,9,  -999.0,9,   7.953,2,   0.027,-999.000,9,-999.000,9,   38.21,2,   42.03,2, -999.00,9, -999.00,9, -999.00,9,   0.006,-999.0000,9,-999.0000,9,-999.0000,9,-999.0000,9,-999.0000,9,-999.0000,9,-999.0000,9,-999.0000,9,-999.0000,9,   3.8199,     -999.0,9,     -999.0,9,     -999.0,9,     -999.0,9,     -999.0,9,     -999.0,9,     -999.0,9,   0.0053,    0.15
33RO20071215,        P18,      40,          1,         14,      12013,2,20071228,       0733,     2.0417,  -110.0322,       3766,  1300.9,   3.8376,  34.5793,2,  34.5794,2,     79.2,2,    79.1,2,  103.80,2,   40.70,2,    0.00,2,    2.81,2,   0.000,2,   0.001,2,   0.0263,2,  2322.0,2,  2374.5,2,   -999.0,9,  -999.00,   7.4616,2,    25.00,-999.000,9,-999.0000,9, -999.00,9, -999.00,9,  -999.0,9,-999.000,9,-999.000,-999.000,9,-999.000,9,   37.77,2,   41.68,2, -999.00,9, -999.00,9, -999.00,9,-999.000,-999.0000,9,-999.0000,9,-999.0000,9,-999.0000,9,-999.0000,9,-999.0000,9,-999.0000,9,-999.0000,9,-999.0000,9,   3.7377,     -999.0,9,     -999.0,9,     -999.0,9,     -999.0,9,     -999.0,9,     -999.0,9,     -999.0,9,-999.0000, -999.00
33RO20071215,        P18,      40,          1,         13,      12012,2,20071228,       0733,     2.0417,  -110.0322,       3766,  1401.6,   3.5718,  34.5943,2,  34.5939,2,     74.0,2,    73.5,2,  113.40,2,   41.30,2,    0.00,2,    2.85,2,   0.000,2,   0.001,2,   0.0000,2,  2335.4,2,  2384.4,2,   1608.2,2,    20.00,   7.4538,2,    25.00,-999.000,9,-999.0000,9, -999.00,9, -999.00,9,  -999.0,9,-999.000,9,-999.000,-999.000,9,-999.000,9,   37.04,2,   42.49,2, -999.00,9, -999.00,9, -999.00,9,-999.000,-999.0000,9,-999.0000,9,-999.0000,9,-999.0000,9,-999.0000,9,-999.0000,9,-999.0000,9,-999.0000,9,-999.0000,9,   3.4659,     -999.0,9,     -999.0,9,     -999.0,9,     -999.0,9,     -999.0,9,     -999.0,9,     -999.0,9,-999.0000, -999.00
33RO20071215,        P18,      40,          1,         12,      12031,2,20071228,       0733,     2.0417,  -110.0322,       3766,  1600.7,   3.0622,  34.6111,2,  34.6102,2,     82.5,2,    82.4,2,  125.00,2,   40.90,2,    0.00,2,    2.80,2,   0.000,2,   0.001,2,   0.0255,2,  2343.0,2,  2397.0,2,   -999.0,9,  -999.00,   7.4672,2,    25.00,-999.000,9,-999.0000,9, -999.00,9, -999.00,9,  -999.0,9,-999.000,9,-999.000,-999.000,9,-999.000,9,   37.21,2,   42.20,2, -999.00,9, -999.00,9, -999.00,9,-999.000,-999.0000,9,-999.0000,9,-999.0000,9,-999.0000,9,-999.0000,9,-999.0000,9,-999.0000,9,-999.0000,9,-999.0000,9,   2.9450,     -999.0,9,     -999.0,9,     -999.0,9,     -999.0,9,     -999.0,9,     -999.0,9,     -999.0,9,-999.0000, -999.00