BOTTLE,20220818CCHSIOAMB
EXPOCODE,SECT_ID,STNNBR,CASTNO,SAMPNO,BTLNBR,BTLNBR_FLAG_W,DATE,TIME,LATITUDE,LONGITUDE,DEPTH,CTDPRS,CTDTMP,CTDSAL,CTDSAL_FLAG_W,SALNTY,SALNTY_FLAG_W,CTDOXY,CTDOXY_FLAG_W,OXYGEN,OXYGEN_FLAG_W,SILCAT,SILCAT_FLAG_W,NITRAT,NITRAT_FLAG_W,NITRIT,NITRIT_FLAG_W,PHSPHT,PHSPHT_FLAG_W,CFC-11,CFC-11_FLAG_W,CFC-12,CFC-12_FLAG_W,SF6,SF6_FLAG_W,TCARBN,TCARBN_FLAG_W,ALKALI,ALKALI_FLAG_W,FCO2,FCO2_FLAG_W,FCO2TMP,PH_SWS,PH_SWS_FLAG_W,PH_TMP,TRITUM,TRITUM_FLAG_W,HELIUM,HELIUM_FLAG_W,DELHE3,DELHE3_FLAG_W,DELC13,DELC13_FLAG_W,DELC14,DELC14_FLAG_W,NEON,NEON_FLAG_W,NEONER,CCL4,CCL4_FLAG_W,POC,POC_FLAG_W,DOC,DOC_FLAG_W,TDN,TDN_FLAG_W,DON,DON_FLAG_W,CHLORA,CHLORA_FLAG_W,ARGON,ARGON_FLAG_W,TRITER,CDOM325,CDOM325_FLAG_W,CDOM340,CDOM340_FLAG_W,CDOM380,CDOM380_FLAG_W,CDOM412,CDOM412_FLAG_W,CDOM443,CDOM443_FLAG_W,CDOM490,CDOM490_FLAG_W,CDOM555,CDOM555_FLAG_W,CDOMSL,CDOMSL_FLAG_W,CDOMSN,CDOMSN_FLAG_W,THETA,D18O_NO3,D18O_NO3_FLAG_W,CDOM2C,CDOM2C_FLAG_W,CDOM3C,CDOM3C_FLAG_W,LAB_DEN,LAB_DEN_FLAG_W,DELSI30,DELSI30_FLAG_W,N2,N2_FLAG_W,D15N_NO3,D15N_NO3_FLAG_W,HELIER,DELHER
,,,,,,,,,,,METERS,DBAR,ITS-90,PSS-78,,PSS-78,,UMOL/KG,,UMOL/KG,,UMOL/KG,,UMOL/KG,,UMOL/KG,,UMOL/KG,,PMOL/KG,,PMOL/KG,,FMOL/KG,,UMOL/KG,,UMOL/KG,,UATM,,DEG C,,,DEG C,TU,,NMOL/KG,,PERCNT,,/MILLE,,/MILLE,,NMOL/KG,,NMOL/KG,PMOL/KG,,UG/KG,,UMOL/KG,,UMOL/KG,,UMOL/KG,,UG/KG,,UMOL/KG,,TU,1/M,,1/M,,1/M,,1/M,,1/M,,1/M,,1/M,,1/NM,,1/NM,,DEG C,/MILLE,,,,,,,,/MILLE,,UMOL/KG,,/MILLE,,NMOL/KG,PERCNT
33RO20071215,        P18,     115,          1,         36,      12017,2,20080127,       1200,   -38.0007,  -103.0002,       4134,     5.4,  20.1445,  34.1110,2,  34.1120,2,    231.9,2,   231.8,2,    0.00,2,    4.90,2,    0.13,2,    0.40,2,   2.382,4,   1.447,4,   1.2648,4,  2027.0,6,  2292.4,2,    422.4,2,    20.00,   7.9433,2,    25.00,-999.000,9,-999.0000,9, -999.00,9, -999.00,9,  -999.0,9,-999.000,9,-999.000,-999.000,9,-999.000,9, -999.00,9, -999.00,9, -999.00,9, -999.00,9, -999.00,9,-999.000,-999.0000,9,-999.0000,9,-999.0000,9,-999.0000,9,-999.0000,9,-999.0000,9,-999.0000,9,-999.0000,9,-999.0000,9,  20.1435,     -999.0,9,     -999.0,9,     -999.0,9,     -999.0,9,     -999.0,9,     -999.0,9,     -999.0,9,-999.0000, -999.00
33RO20071215,        P18,     115,          1,         35,      12029,2,20080127,       1200,   -38.0007,  -103.0002,       4134,     9.1,  20.1387,  34.1125,2,  34.1111,2,    232.0,2,   231.7,2,    0.00,2,    4.90,2,    0.13,2,    0.41,2,-999.000,9,-999.000,9,-999.0000,9,  2026.2,2,  2283.6,2,   -999.0,9,  -999.00,   7.9812,2,    25.00,-999.000,9,-999.0000,9, -999.00,9, -999.00,9,  -999.0,9,-999.000,9,-999.000,-999.000,9,-999.000,9, -999.00,9, -999.00,9, -999.00,9, -999.00,9, -999.00,9,-999.000,-999.0000,9,-999.0000,9,-999.0000,9,-999.0000,9,-999.0000,9,-999.0000,9,-999.0000,9,-999.0000,9,-999.0000,9,  20.1370,     -999.0,9,     -999.0,9,     -999.0,9,     -999.0,9,     -999.0,9,     -999.0,9,     -999.0,9,-999.0000, -999.00
33RO20071215,        P18,     115,          1,         34,      12049,2,20080127,       1200,   -38.0007,  -103.0002,       4134,    24.8,  20.0785,  34.1210,2,  34.1253,2,    233.9,2,   234.2,2,    0.00,2,    4.90,2,    0.12,2,    0.41,2,   2.345,2,   1.414,2,   1.3274,2,  2027.9,2,  2283.4,2,    424.5,2,    20.00,   7.9412,2,    25.00,-999.000,9,-999.0000,9, -999.00,9, -999.00,9,  -999.0,9,-999.000,9,-999.000,-999.000,9,-999.000,9, -999.00,9, -999.00,9, -999.00,9, -999.00,9, -999.00,9,-999.000,-999.0000,9,-999.0000,9,-999.0000,9,-999.0000,9,-999.0000,9,-999.0000,9,-999.0000,9,-999.0000,9,-999.0000,9,  20.0739,     -999.0,9,     -999.0,9,     -999.0,9,     -999.0,9,     -999.0,9,     -999.0,9,     -999.0,9,-999.0000, -999.00
33RO20071215,        P18,     115,          1,         33,      12027,2,20080127,       1200,   -38.0007,  -103.0002,       4134,    49.3,  14.0255,  34.0802,2,  34.0856,2,    280.2,2,   280.0,2,    0.30,2,    6.80,2,    0.08,2,    0.52,2,   3.248,2,   1.881,2,   1.4720,2,  2041.8,2,  2284.7,2,   -999.0,9,  -999.00,   7.9074,2,    25.00,-999.000,9,-999.0000,9, -999.00,9, -999.00,9,  -999.0,9,-999.000,9,-999.000,-999.000,9,-999.000,9, -999.00,9, -999.00,9, -999.00,9, -999.00,9, -999.00,9,-999.000,-999.0000,9,-999.0000,9,-999.0000,9,-999.0000,9,-999.0000,9,-999.0000,9,-999.0000,9,-999.0000,9,-999.0000,9,  14.0185,     -999.0,9,     -999.0,9,     -999.0,9,     -999.0,9,     -999.0,9,     -999.0,9,     -999.0,9,-999.0000, -999.00
33RO20071215,        P18,     115,          1,         32,      12023,2,20080127,       1200,   -38.0007,  -103.0002,       4134,    75.0,  12.4813,  34.1079,2,  34.1147,2,    274.2,2,   270.7,2,    0.40,2,    7.60,2,    0.18,2,    0.58,2,   3.283,2,   1.903,2,   1.5187,2,  2051.9,2,  2266.3,2,    490.4,2,    20.00,   7.8745,2,    25.00,-999.000,9,-999.0000,9, -999.00,9, -999.00,9,  -999.0,9,-999.000,9,-999.000,-999.000,9,-999.000,9, -999.00,9, -999.00,9, -999.00,9, -999.00,9, -999.00,9,-999.000,-999.0000,9,-999.0000,9,-999.0000,9,-999.0000,9,-999.0000,9,-999.0000,9,-999.0000,9,-999.0000,9,-999.0000,9,  12.4714,     -999.0,9,     -999.0,9,     -999.0,9,     -999.0,9,     -999.0,9,     -999.0,9,     -999.0,9,-999.0000, -999.00
33RO20071215,        P18,     115,          1,         31,      12037,2,20080127,       1200,   -38.0007,  -103.0002,       4134,    99.7,  11.8092,  34.1231,2,  34.1217,2,    268.1,2,   264.1,2,    0.50,2,    8.90,2,    0.35,2,    0.67,2,   3.401,2,   1.954,2,   1.6166,2,  2062.2,2,  -999.0,5,    521.6,2,    20.00,   7.8664,2,    25.00,-999.000,9,-999.0000,9, -999.00,9, -999.00,9,  -999.0,9,-999.000,9,-999.000,-999.000,9,-999.000,9, -999.00,9, -999.00,9, -999.00,9, -999.00,9, -999.00,9,-999.000,-999.0000,9,-999.0000,9,-999.0000,9,-999.0000,9,-999.0000,9,-999.0000,9,-999.0000,9,-999.0000,9,-999.0000,9,  11.7965,     -999.0,9,     -999.0,9,     -999.0,9,     -999.0,9,     -999.0,9,     -999.0,9,     -999.0,9,-999.0000, -999.00
33RO20071215,        P18,     115,          1,         30,      12036,2,20080127,       1200,   -38.0007,  -103.0002,       4134,   125.1,  11.0924,  34.1432,2,  34.1437,2,    258.6,2,   258.6,2,    0.70,2,   10.30,2,    0.54,2,    0.78,2,-999.000,5,-999.000,5,-999.0000,5,  2073.3,2,  -999.0,5,    556.6,2,    20.00,   7.8566,2,    25.00,-999.000,9,-999.0000,9, -999.00,9, -999.00,9,  -999.0,9,-999.000,9,-999.000,-999.000,9,-999.000,9, -999.00,9, -999.00,9, -999.00,9, -999.00,9, -999.00,9,-999.000,-999.0000,9,-999.0000,9,-999.0000,9,-999.0000,9,-999.0000,9,-999.0000,9,-999.0000,9,-999.0000,9,-999.0000,9,  11.0771,     -999.0,9,     -999.0,9,     -999.0,9,     -999.0,9,     -999.0,9,     -999.0,9,     -999.0,9,-999.0000, -999.00
33RO20071215,        P18,     115,          1,         29,      12044,2,20080127,       1200,   -38.0007,  -103.0002,       4134,   149.1,  10.4607,  34.1771,2,  34.1815,2,    251.8,2,   249.5,2,    1.10,2,   13.10,2,    0.24,2,    0.91,2,   3.599,2,   2.026,2,   1.4434,2,  2087.8,2,  -999.0,5,    605.7,2,    20.00,   7.8125,2,    25.00,-999.000,9,-999.0000,9, -999.00,9, -999.00,9,  -999.0,9,-999.000,9,-999.000,-999.000,9,-999.000,9, -999.00,9, -999.00,9, -999.00,9, -999.00,9, -999.00,9,-999.000,-999.0000,9,-999.0000,9,-999.0000,9,-999.0000,9,-999.0000,9,-999.0000,9,-999.0000,9,-999.0000,9,-999.0000,9,  10.4431,     -999.0,9,     -999.0,9,     -999.0,9,     -999.0,9,     -999.0,9,     -999.0,9,     -999.0,9,-999.0000, -999.00
33RO20071215,        P18,     115,          1,         28,      12057,2,20080127,       1200,   -38.0007,  -103.0002,       4134,   174.1,   9.6213,  34.1874,2,  34.1888,2,    248.9,2,   248.1,2,    1.40,2,   15.20,2,    0.03,2,    1.02,2,-999.000,9,-999.000,9,-999.0000,9,  2098.1,2,  2265.6,2,    640.2,2,    20.00,   7.7879,2,    25.00,-999.000,9,-999.0000,9, -999.00,9, -999.00,9,  -999.0,9,-999.000,9,-999.000,-999.000,9,-999.000,9, -999.00,9, -999.00,9, -999.00,9, -999.00,9, -999.00,9,-999.000,-999.0000,9,-999.0000,9,-999.0000,9,-999.0000,9,-999.0000,9,-999.0000,9,-999.0000,9,-999.0000,9,-999.0000,9,   9.6018,     -999.0,9,     -999.0,9,     -999.0,9,     -999.0,9,     -999.0,9,     -999.0,9,     -999.0,9,-999.0000, -999.00
33RO20071215,        P18,     115,          1,         27,      12026,2,20080127,       1200,   -38.0007,  -103.0002,       4134,   200.4,   9.0537,  34.2220,2,  34.2225,2,    244.5,2,   244.1,2,    1.90,2,   16.80,2,    0.01,2,    1.12,2,   3.825,2,   2.108,2,   1.3109,2,  2108.4,2,  2264.2,2,   -999.0,9,  -999.00,   7.7837,2,    25.00,-999.000,9,-999.0000,9, -999.00,9, -999.00,9,  -999.0,9,-999.000,9,-999.000,-999.000,9,-999.000,9, -999.00,9, -999.00,9, -999.00,9, -999.00,9, -999.00,1,-999.000,-999.0000,9,-999.0000,9,-999.0000,9,-999.0000,9,-999.0000,9,-999.0000,9,-999.0000,9,-999.0000,9,-999.0000,9,   9.0321,     -999.0,1,     -999.0,9,     -999.0,9,     -999.0,9,     -999.0,9,     -999.0,1,     -999.0,9,-999.0000, -999.00
33RO20071215,        P18,     115,          1,         26,      12030,2,20080127,       1200,   -38.0007,  -103.0002,       4134,   249.4,   7.8033,  34.2567,2,  34.2525,2,    242.0,2,   241.7,2,    3.40,2,   20.10,2,    0.01,2,    1.32,2,-999.000,9,-999.000,9,-999.0000,9,  2124.9,2,  2268.7,2,    740.9,2,    20.00,   7.7330,2,    25.00,-999.000,9,-999.0000,9, -999.00,9, -999.00,9,  -999.0,9,-999.000,9,-999.000,-999.000,9,-999.000,9, -999.00,9, -999.00,9, -999.00,9, -999.00,9, -999.00,1,-999.000,-999.0000,9,-999.0000,9,-999.0000,9,-999.0000,9,-999.0000,9,-999.0000,9,-999.0000,9,-999.0000,9,-999.0000,9,   7.7786,     -999.0,1,     -999.0,9,     -999.0,9,     -999.0,9,     -999.0,9,     -999.0,1,     -999.0,9,-999.0000, -999.00
33RO20071215,        P18,     115,          1,         25,      12024,2,20080127,       1200,   -38.0007,  -103.0002,       4134,   300.5,   7.2183,  34.2891,2,  34.2903,2,    242.0,2,   241.7,2,    5.00,2,   21.80,2,    0.00,2,    1.44,2,   3.954,2,   2.057,2,   1.0795,2,  2134.3,2,  2296.0,4,   -999.0,9,  -999.00,   7.7158,2,    25.00,-999.000,9,-999.0000,9, -999.00,9, -999.00,9,  -999.0,9,-999.000,9,-999.000,-999.000,9,-999.000,9, -999.00,9, -999.00,9, -999.00,9, -999.00,9, -999.00,1,-999.000,-999.0000,9,-999.0000,9,-999.0000,9,-999.0000,9,-999.0000,9,-999.0000,9,-999.0000,9,-999.0000,9,-999.0000,9,   7.1897,     -999.0,1,     -999.0,9,     -999.0,9,     -999.0,9,     -999.0,9,     -999.0,1,     -999.0,9,-999.0000, -999.00
33RO20071215,        P18,     115,          1,         24,      12019,2,20080127,       1200,   -38.0007,  -103.0002,       4134,   349.0,   6.8184,  34.3114,2,  34.3107,2,    245.1,2,   244.5,2,    6.10,2,   22.40,2,    0.00,2,    1.48,2,-999.000,9,-999.000,9,-999.0000,9,  2138.0,2,  -999.0,5,    781.6,2,    20.00,   7.7179,2,    25.00,-999.000,9,-999.0000,9, -999.00,9, -999.00,9,  -999.0,9,-999.000,9,-999.000,-999.000,9,-999.000,9, -999.00,9, -999.00,9, -999.00,9, -999.00,9, -999.00,1,-999.000,-999.0000,9,-999.0000,9,-999.0000,9,-999.0000,9,-999.0000,9,-999.0000,9,-999.0000,9,-999.0000,9,-999.0000,9,   6.7862,     -999.0,1,     -999.0,9,     -999.0,9,     -999.0,9,     -999.0,9,     -999.0,1,     -999.0,9,-999.0000, -999.00
33RO20071215,        P18,     115,          1,         23,      12022,2,20080127,       1200,   -38.0007,  -103.0002,       4134,   399.9,   6.6346,  34.3245,2,  34.3257,2,    245.9,2,   245.1,2,    7.00,2,   23.00,2,    0.00,2,    1.52,2,   3.741,2,   1.895,2,   0.9173,2,  -999.0,9,  -999.0,9,   -999.0,9,  -999.00,-999.0000,9,  -999.00,-999.000,9,-999.0000,9, -999.00,9, -999.00,9,  -999.0,9,-999.000,9,-999.000,-999.000,9,-999.000,9, -999.00,9, -999.00,9, -999.00,9, -999.00,9, -999.00,1,-999.000,-999.0000,9,-999.0000,9,-999.0000,9,-999.0000,9,-999.0000,9,-999.0000,9,-999.0000,9,-999.0000,9,-999.0000,9,   6.5981,     -999.0,1,     -999.0,9,     -999.0,9,     -999.0,9,     -999.0,9,     -999.0,1,     -999.0,9,-999.0000, -999.00
33RO20071215,        P18,     115,          1,         22,      12015,2,20080127,       1200,   -38.0007,  -103.0002,       4134,   498.7,   6.2647,  34.3120,2,  34.3121,2,    249.4,2,   248.6,2,    8.10,2,   23.60,2,    0.00,2,    1.55,2,-999.000,9,-999.000,9,-999.0000,9,  2140.9,2,  2275.6,2,    782.5,2,    20.00,   7.7147,2,    25.00,-999.000,9,-999.0000,9, -999.00,9, -999.00,9,  -999.0,9,-999.000,9,-999.000,-999.000,9,-999.000,9, -999.00,9, -999.00,9, -999.00,9, -999.00,9, -999.00,9,-999.000,-999.0000,9,-999.0000,9,-999.0000,9,-999.0000,9,-999.0000,9,-999.0000,9,-999.0000,9,-999.0000,9,-999.0000,9,   6.2203,     -999.0,9,     -999.0,9,     -999.0,9,     -999.0,9,     -999.0,9,     -999.0,9,     -999.0,9,-999.0000, -999.00
33RO20071215,        P18,     115,          1,         21,      12020,2,20080127,       1200,   -38.0007,  -103.0002,       4134,   600.3,   5.9223,  34.2925,2,  34.2918,2,    249.4,2,   249.2,2,    9.50,2,   24.40,2,    0.00,2,    1.62,2,   3.261,2,   1.625,2,   0.6615,2,  -999.0,9,  -999.0,9,   -999.0,9,  -999.00,-999.0000,9,  -999.00,-999.000,9,-999.0000,9, -999.00,9, -999.00,9,  -999.0,9,-999.000,9,-999.000,-999.000,9,-999.000,9, -999.00,9, -999.00,9, -999.00,9, -999.00,9, -999.00,9,-999.000,-999.0000,9,-999.0000,9,-999.0000,9,-999.0000,9,-999.0000,9,-999.0000,9,-999.0000,9,-999.0000,9,-999.0000,9,   5.8700,     -999.0,9,     -999.0,9,     -999.0,9,     -999.0,9,     -999.0,9,     -999.0,9,     -999.0,9,-999.0000, -999.00
33RO20071215,        P18,     115,          1,         20,      12055,2,20080127,       1200,   -38.0007,  -103.0002,       4134,   699.2,   5.5708,  34.2753,2,  34.2757,2,    244.7,2,   243.9,2,   11.60,2,   25.60,2,    0.00,2,    1.71,2,-999.000,9,-999.000,9,-999.0000,9,  2148.6,2,  2276.6,2,    816.9,2,    20.00,   7.6979,2,    25.00,-999.000,9,-999.0000,9, -999.00,9, -999.00,9,  -999.0,9,-999.000,9,-999.000,-999.000,9,-999.000,9, -999.00,9, -999.00,9, -999.00,9, -999.00,9, -999.00,9,-999.000,-999.0000,9,-999.0000,9,-999.0000,9,-999.0000,9,-999.0000,9,-999.0000,9,-999.0000,9,-999.0000,9,-999.0000,9,   5.5112,     -999.0,9,     -999.0,9,     -999.0,9,     -999.0,9,     -999.0,9,     -999.0,9,     -999.0,9,-999.0000, -999.00
33RO20071215,        P18,     115,          1,         19,      12018,2,20080127,       1200,   -38.0007,  -103.0002,       4134,   800.1,   5.0915,  34.2648,2,  34.2650,2,    231.6,2,   231.9,2,   16.20,2,   27.80,2,    0.00,2,    1.86,2,   2.168,2,   1.081,2,   0.3460,2,  -999.0,9,  -999.0,9,   -999.0,9,  -999.00,-999.0000,9,  -999.00,-999.000,9,-999.0000,9, -999.00,9, -999.00,9,  -999.0,9,-999.000,9,-999.000,-999.000,9,-999.000,9, -999.00,9, -999.00,9, -999.00,9, -999.00,9, -999.00,9,-999.000,-999.0000,9,-999.0000,9,-999.0000,9,-999.0000,9,-999.0000,9,-999.0000,9,-999.0000,9,-999.0000,9,-999.0000,9,   5.0257,     -999.0,9,     -999.0,9,     -999.0,9,     -999.0,9,     -999.0,9,     -999.0,9,     -999.0,9,-999.0000, -999.00
33RO20071215,        P18,     115,          1,         18,      12025,2,20080127,       1200,   -38.0007,  -103.0002,       4134,   899.3,   4.5986,  34.2800,2,  34.2798,2,    213.9,2,   214.4,2,   23.50,2,   30.00,2,    0.00,2,    2.04,2,-999.000,9,-999.000,9,-999.0000,9,  2178.3,2,  2287.4,2,    953.2,2,    20.00,   7.6367,2,    25.00,-999.000,9,-999.0000,9, -999.00,9, -999.00,9,  -999.0,9,-999.000,9,-999.000,-999.000,9,-999.000,9, -999.00,9, -999.00,9, -999.00,9, -999.00,9, -999.00,9,-999.000,-999.0000,9,-999.0000,9,-999.0000,9,-999.0000,9,-999.0000,9,-999.0000,9,-999.0000,9,-999.0000,9,-999.0000,9,   4.5274,     -999.0,9,     -999.0,9,     -999.0,9,     -999.0,9,     -999.0,9,     -999.0,9,     -999.0,9,-999.0000, -999.00
33RO20071215,        P18,     115,          1,         17,      12016,2,20080127,       1200,   -38.0007,  -103.0002,       4134,   999.4,   4.1377,  34.3101,2,  34.3103,2,    195.3,2,   195.1,2,   33.20,2,   32.40,2,    0.00,2,    2.21,2,   0.558,2,   0.297,2,   0.0550,2,  -999.0,9,  -999.0,9,   -999.0,9,  -999.00,-999.0000,9,  -999.00,-999.000,9,-999.0000,9, -999.00,9, -999.00,9,  -999.0,9,-999.000,9,-999.000,-999.000,9,-999.000,9, -999.00,9, -999.00,9, -999.00,9, -999.00,9, -999.00,9,-999.000,-999.0000,9,-999.0000,9,-999.0000,9,-999.0000,9,-999.0000,9,-999.0000,9,-999.0000,9,-999.0000,9,-999.0000,9,   4.0613,     -999.0,9,     -999.0,9,     -999.0,9,     -999.0,9,     -999.0,9,     -999.0,9,     -999.0,9,-999.0000, -999.00
33RO20071215,        P18,     115,          1,         16,      12051,2,20080127,       1200,   -38.0007,  -103.0002,       4134,  1098.4,   3.7434,  34.3530,2,  34.3526,2,    177.4,2,   177.0,2,   43.80,2,   34.20,2,    0.00,2,    2.37,2,-999.000,9,-999.000,9,-999.0000,9,  2217.9,2,  2326.3,4,   1132.3,6,    20.00,   7.5853,2,    25.00,-999.000,9,-999.0000,9, -999.00,9, -999.00,9,  -999.0,9,-999.000,9,-999.000,-999.000,9,-999.000,9, -999.00,9, -999.00,9, -999.00,9, -999.00,9, -999.00,9,-999.000,-999.0000,9,-999.0000,9,-999.0000,9,-999.0000,9,-999.0000,9,-999.0000,9,-999.0000,9,-999.0000,9,-999.0000,9,   3.6619,     -999.0,9,     -999.0,9,     -999.0,9,     -999.0,9,     -999.0,9,     -999.0,9,     -999.0,9,-999.0000, -999.00
33RO20071215,        P18,     115,          1,         15,      12014,2,20080127,       1200,   -38.0007,  -103.0002,       4134,  1200.4,   3.4755,  34.4101,2,  34.4106,2,    155.1,2,   154.4,2,   57.10,2,   36.20,2,    0.00,2,    2.52,2,   0.059,2,   0.036,2,   0.0000,2,  -999.0,9,  -999.0,9,   -999.0,9,  -999.00,-999.0000,9,  -999.00,-999.000,9,-999.0000,9, -999.00,9, -999.00,9,  -999.0,9,-999.000,9,-999.000,-999.000,9,-999.000,9, -999.00,9, -999.00,9, -999.00,9, -999.00,9, -999.00,9,-999.000,-999.0000,9,-999.0000,9,-999.0000,9,-999.0000,9,-999.0000,9,-999.0000,9,-999.0000,9,-999.0000,9,-999.0000,9,   3.3879,     -999.0,9,     -999.0,9,     -999.0,9,     -999.0,9,     -999.0,9,     -999.0,9,     -999.0,9,-999.0000, -999.00
33RO20071215,        P18,     115,          1,         14,      12013,2,20080127,       1200,   -38.0007,  -103.0002,       4134,  1399.3,   3.1290,  34.5081,2,  34.5084,2,    131.0,2,   130.4,2,   79.40,2,   37.70,2,    0.00,2,    2.67,2,-999.000,9,-999.000,9,-999.0000,9,  2275.5,6,  2362.3,4,   1334.3,2,    20.00,   7.5161,2,    25.00,-999.000,9,-999.0000,9, -999.00,9, -999.00,9,  -999.0,9,-999.000,9,-999.000,-999.000,9,-999.000,9, -999.00,9, -999.00,9, -999.00,9, -999.00,9, -999.00,9,-999.000,-999.0000,9,-999.0000,9,-999.0000,9,-999.0000,9,-999.0000,9,-999.0000,9,-999.0000,9,-999.0000,9,-999.0000,9,   3.0283,     -999.0,9,     -999.0,9,     -999.0,9,     -999.0,9,     -999.0,9,     -999.0,9,     -999.0,9,-999.0000, -999.00
33RO20071215,        P18,     115,          1,         13,      12012,2,20080127,       1200,   -38.0007,  -103.0002,       4134,  1599.6,   2.7815,  34.5605,2,  34.5600,2,    135.4,2,   137.9,3,   91.20,2,   37.10,2,    0.00,2,    2.62,2,   0.014,4,   0.009,4,   0.0000,2,  -999.0,9,  -999.0,9,   -999.0,9,  -999.00,-999.0000,9,  -999.00,-999.000,9,-999.0000,9, -999.00,9, -999.00,9,  -999.0,9,-999.000,9,-999.000,-999.000,9,-999.000,9, -999.00,9, -999.00,9, -999.00,9, -999.00,9, -999.00,9,-999.000,-999.0000,9,-999.0000,9,-999.0000,9,-999.0000,9,-999.0000,9,-999.0000,9,-999.0000,9,-999.0000,9,-999.0000,9,   2.6680,     -999.0,9,     -999.0,9,     -999.0,9,     -999.0,9,     -999.0,9,     -999.0,9,     -999.0,9,-999.0000, -999.00
33RO20071215,        P18,     115,          1,         12,      12031,2,20080127,       1200,   -38.0007,  -103.0002,       4134,  1801.1,   2.4893,  34.5956,2,  34.5952,2,    144.3,2,   144.6,2,   97.90,2,   36.30,2,    0.00,2,    2.55,2,-999.000,9,-999.000,9,-999.0000,9,  2285.7,2,  2361.5,2,   1251.6,2,    20.00,   7.5473,2,    25.00,-999.000,9,-999.0000,9, -999.00,9, -999.00,9,  -999.0,9,-999.000,9,-999.000,-999.000,9,-999.000,9, -999.00,9, -999.00,9, -999.00,9, -999.00,9, -999.00,9,-999.000,-999.0000,9,-999.0000,9,-999.0000,9,-999.0000,9,-999.0000,9,-999.0000,9,-999.0000,9,-999.0000,9,-999.0000,9,   2.3626,     -999.0,9,     -999.0,9,     -999.0,9,     -999.0,9,     -999.0,9,     -999.0,9,     -999.0,9,-999.0000, -999.00