BOTTLE,20220818CCHSIOAMB
EXPOCODE,SECT_ID,STNNBR,CASTNO,SAMPNO,BTLNBR,BTLNBR_FLAG_W,DATE,TIME,LATITUDE,LONGITUDE,DEPTH,CTDPRS,CTDTMP,CTDSAL,CTDSAL_FLAG_W,SALNTY,SALNTY_FLAG_W,CTDOXY,CTDOXY_FLAG_W,OXYGEN,OXYGEN_FLAG_W,SILCAT,SILCAT_FLAG_W,NITRAT,NITRAT_FLAG_W,NITRIT,NITRIT_FLAG_W,PHSPHT,PHSPHT_FLAG_W,CFC-11,CFC-11_FLAG_W,CFC-12,CFC-12_FLAG_W,SF6,SF6_FLAG_W,TCARBN,TCARBN_FLAG_W,ALKALI,ALKALI_FLAG_W,FCO2,FCO2_FLAG_W,FCO2TMP,PH_SWS,PH_SWS_FLAG_W,PH_TMP,TRITUM,TRITUM_FLAG_W,HELIUM,HELIUM_FLAG_W,DELHE3,DELHE3_FLAG_W,DELC13,DELC13_FLAG_W,DELC14,DELC14_FLAG_W,NEON,NEON_FLAG_W,NEONER,CCL4,CCL4_FLAG_W,POC,POC_FLAG_W,DOC,DOC_FLAG_W,TDN,TDN_FLAG_W,DON,DON_FLAG_W,CHLORA,CHLORA_FLAG_W,ARGON,ARGON_FLAG_W,TRITER,CDOM325,CDOM325_FLAG_W,CDOM340,CDOM340_FLAG_W,CDOM380,CDOM380_FLAG_W,CDOM412,CDOM412_FLAG_W,CDOM443,CDOM443_FLAG_W,CDOM490,CDOM490_FLAG_W,CDOM555,CDOM555_FLAG_W,CDOMSL,CDOMSL_FLAG_W,CDOMSN,CDOMSN_FLAG_W,THETA,D18O_NO3,D18O_NO3_FLAG_W,CDOM2C,CDOM2C_FLAG_W,CDOM3C,CDOM3C_FLAG_W,LAB_DEN,LAB_DEN_FLAG_W,DELSI30,DELSI30_FLAG_W,N2,N2_FLAG_W,D15N_NO3,D15N_NO3_FLAG_W,HELIER,DELHER
,,,,,,,,,,,METERS,DBAR,ITS-90,PSS-78,,PSS-78,,UMOL/KG,,UMOL/KG,,UMOL/KG,,UMOL/KG,,UMOL/KG,,UMOL/KG,,PMOL/KG,,PMOL/KG,,FMOL/KG,,UMOL/KG,,UMOL/KG,,UATM,,DEG C,,,DEG C,TU,,NMOL/KG,,PERCNT,,/MILLE,,/MILLE,,NMOL/KG,,NMOL/KG,PMOL/KG,,UG/KG,,UMOL/KG,,UMOL/KG,,UMOL/KG,,UG/KG,,UMOL/KG,,TU,1/M,,1/M,,1/M,,1/M,,1/M,,1/M,,1/M,,1/NM,,1/NM,,DEG C,/MILLE,,,,,,,,/MILLE,,UMOL/KG,,/MILLE,,NMOL/KG,PERCNT
33RO20071215,        P18,     150,          1,         11,      12003,2,20080207,       1540,   -58.2502,  -103.0002,       4574,  2533.0,   1.5719,  34.7262,2,  34.7256,2,    190.4,2,   190.7,2,  104.30,2,   32.40,2,    0.00,2,    2.23,2,-999.000,9,-999.000,9,-999.0000,9,  2264.2,2,  2362.8,2,   -999.0,9,  -999.00,   7.6148,2,    25.00,-999.000,9,-999.0000,9, -999.00,9, -999.00,9,  -999.0,9,-999.000,9,-999.000,-999.000,9,-999.000,9, -999.00,9, -999.00,9, -999.00,9, -999.00,9, -999.00,9,-999.000,-999.0000,9,-999.0000,9,-999.0000,9,-999.0000,9,-999.0000,9,-999.0000,9,-999.0000,9,-999.0000,9,-999.0000,9,   1.3964,     -999.0,9,     -999.0,9,     -999.0,9,     -999.0,9,     -999.0,9,     -999.0,9,     -999.0,9,-999.0000, -999.00
33RO20071215,        P18,     150,          1,         10,      12032,2,20080207,       1540,   -58.2502,  -103.0002,       4574,  2731.8,   1.4648,  34.7273,2,  34.7273,2,    194.0,2,   194.0,2,  106.30,2,   32.30,2,    0.00,2,    2.23,2,-999.000,9,-999.000,9,-999.0000,9,  2262.0,2,  2360.7,2,   1084.0,2,    20.00,   7.6223,2,    25.00,-999.000,9,-999.0000,9, -999.00,9, -999.00,9,  -999.0,9,-999.000,9,-999.000,-999.000,9,-999.000,9, -999.00,9, -999.00,9, -999.00,9, -999.00,9, -999.00,9,-999.000,-999.0000,9,-999.0000,9,-999.0000,9,-999.0000,9,-999.0000,9,-999.0000,9,-999.0000,9,-999.0000,9,-999.0000,9,   1.2735,     -999.0,9,     -999.0,9,     -999.0,9,     -999.0,9,     -999.0,9,     -999.0,9,     -999.0,9,-999.0000, -999.00
33RO20071215,        P18,     150,          1,          9,      12002,2,20080207,       1540,   -58.2502,  -103.0002,       4574,  2932.1,   1.3579,  34.7258,2,  34.7255,2,    196.6,2,   196.5,2,  109.50,2,   32.30,2,    0.00,2,    2.23,2,-999.000,9,-999.000,9,-999.0000,9,  2263.1,2,  2359.6,2,   -999.0,9,  -999.00,   7.6164,2,    25.00,-999.000,9,-999.0000,9, -999.00,9, -999.00,9,  -999.0,9,-999.000,9,-999.000,-999.000,9,-999.000,9, -999.00,9, -999.00,9, -999.00,9, -999.00,9, -999.00,9,-999.000,-999.0000,9,-999.0000,9,-999.0000,9,-999.0000,9,-999.0000,9,-999.0000,9,-999.0000,9,-999.0000,9,-999.0000,9,   1.1503,     -999.0,9,     -999.0,9,     -999.0,9,     -999.0,9,     -999.0,9,     -999.0,9,     -999.0,9,-999.0000, -999.00
33RO20071215,        P18,     150,          1,          8,      12021,2,20080207,       1540,   -58.2502,  -103.0002,       4574,  3166.0,   1.2229,  34.7224,2,  34.7217,2,    199.7,2,   199.2,2,  113.70,2,   32.40,2,    0.00,2,    2.24,2,-999.000,9,-999.000,9,-999.0000,9,  2263.3,6,  2360.6,2,   -999.0,9,  -999.00,   7.6159,2,    25.00,-999.000,9,-999.0000,9, -999.00,9, -999.00,9,  -999.0,9,-999.000,9,-999.000,-999.000,9,-999.000,9, -999.00,9, -999.00,9, -999.00,9, -999.00,9, -999.00,9,-999.000,-999.0000,9,-999.0000,9,-999.0000,9,-999.0000,9,-999.0000,9,-999.0000,9,-999.0000,9,-999.0000,9,-999.0000,9,   0.9963,     -999.0,9,     -999.0,9,     -999.0,9,     -999.0,9,     -999.0,9,     -999.0,9,     -999.0,9,-999.0000, -999.00
33RO20071215,        P18,     150,          1,          7,      12001,2,20080207,       1540,   -58.2502,  -103.0002,       4574,  3416.7,   1.0598,  34.7174,2,  34.7174,2,    202.0,2,   201.6,2,  119.60,2,   32.50,2,    0.00,2,    2.25,2,-999.000,9,-999.000,9,-999.0000,9,  2264.2,2,  2364.1,2,   1087.7,2,    20.00,   7.6245,2,    25.00,-999.000,9,-999.0000,9, -999.00,9, -999.00,9,  -999.0,9,-999.000,9,-999.000,-999.000,9,-999.000,9, -999.00,9, -999.00,9, -999.00,9, -999.00,9, -999.00,9,-999.000,-999.0000,9,-999.0000,9,-999.0000,9,-999.0000,9,-999.0000,9,-999.0000,9,-999.0000,9,-999.0000,9,-999.0000,9,   0.8128,     -999.0,9,     -999.0,9,     -999.0,9,     -999.0,9,     -999.0,9,     -999.0,9,     -999.0,9,-999.0000, -999.00
33RO20071215,        P18,     150,          1,          6,      12033,2,20080207,       1540,   -58.2502,  -103.0002,       4574,  3665.8,   0.8878,  34.7128,2,  34.7127,2,    205.2,2,   205.1,2,  125.20,2,   32.80,2,    0.00,2,    2.26,2,-999.000,9,-999.000,9,-999.0000,9,  2264.9,2,  2366.6,2,   -999.0,9,  -999.00,   7.6264,2,    25.00,-999.000,9,-999.0000,9, -999.00,9, -999.00,9,  -999.0,9,-999.000,9,-999.000,-999.000,9,-999.000,9, -999.00,9, -999.00,9, -999.00,9, -999.00,9, -999.00,9,-999.000,-999.0000,9,-999.0000,9,-999.0000,9,-999.0000,9,-999.0000,9,-999.0000,9,-999.0000,9,-999.0000,9,-999.0000,9,   0.6204,     -999.0,9,     -999.0,9,     -999.0,9,     -999.0,9,     -999.0,9,     -999.0,9,     -999.0,9,-999.0000, -999.00
33RO20071215,        P18,     150,          1,          5,      12008,2,20080207,       1540,   -58.2502,  -103.0002,       4574,  3915.4,   0.7153,  34.7089,2,  34.7098,2,    208.7,2,   209.2,2,  129.90,2,   33.00,2,    0.00,2,    2.27,2,-999.000,9,-999.000,9,-999.0000,9,  2266.8,2,  2366.3,2,   -999.0,9,  -999.00,   7.6160,2,    25.00,-999.000,9,-999.0000,9, -999.00,9, -999.00,9,  -999.0,9,-999.000,9,-999.000,-999.000,9,-999.000,9, -999.00,9, -999.00,9, -999.00,9, -999.00,9, -999.00,9,-999.000,-999.0000,9,-999.0000,9,-999.0000,9,-999.0000,9,-999.0000,9,-999.0000,9,-999.0000,9,-999.0000,9,-999.0000,9,   0.4272,     -999.0,9,     -999.0,9,     -999.0,9,     -999.0,9,     -999.0,9,     -999.0,9,     -999.0,9,-999.0000, -999.00
33RO20071215,        P18,     150,          1,          4,      12009,2,20080207,       1540,   -58.2502,  -103.0002,       4574,  4166.1,   0.6244,  34.7069,2,  34.7077,2,    210.6,2,   210.7,2,  133.70,6,   33.10,6,    0.00,6,    2.28,2,-999.000,9,-999.000,9,-999.0000,9,  2266.5,2,  2365.3,2,   1089.5,2,    20.00,   7.6142,2,    25.00,-999.000,9,-999.0000,9, -999.00,9, -999.00,9,  -999.0,9,-999.000,9,-999.000,-999.000,9,-999.000,9, -999.00,9, -999.00,9, -999.00,9, -999.00,9, -999.00,9,-999.000,-999.0000,9,-999.0000,9,-999.0000,9,-999.0000,9,-999.0000,9,-999.0000,9,-999.0000,9,-999.0000,9,-999.0000,9,   0.3127,     -999.0,9,     -999.0,9,     -999.0,9,     -999.0,9,     -999.0,9,     -999.0,9,     -999.0,9,-999.0000, -999.00
33RO20071215,        P18,     150,          1,          3,      12006,2,20080207,       1540,   -58.2502,  -103.0002,       4574,  4416.4,   0.5559,  34.7055,2,  34.7054,2,    212.8,2,   212.6,2,  135.50,6,   33.00,6,    0.00,6,    2.28,2,-999.000,9,-999.000,9,-999.0000,9,  2265.2,2,  2363.8,2,   -999.0,9,  -999.00,   7.6153,2,    25.00,-999.000,9,-999.0000,9, -999.00,9, -999.00,9,  -999.0,9,-999.000,9,-999.000,-999.000,9,-999.000,9, -999.00,9, -999.00,9, -999.00,9, -999.00,9, -999.00,9,-999.000,-999.0000,9,-999.0000,9,-999.0000,9,-999.0000,9,-999.0000,9,-999.0000,9,-999.0000,9,-999.0000,9,-999.0000,9,   0.2194,     -999.0,9,     -999.0,9,     -999.0,9,     -999.0,9,     -999.0,9,     -999.0,9,     -999.0,9,-999.0000, -999.00
33RO20071215,        P18,     150,          1,          2,      12007,2,20080207,       1540,   -58.2502,  -103.0002,       4574,  4534.4,   0.5388,  34.7049,2,  34.7062,2,    213.5,2,   213.1,2,  136.60,6,   33.10,6,    0.01,6,    2.28,2,-999.000,9,-999.000,9,-999.0000,9,  2265.4,2,  2365.2,2,   -999.0,9,  -999.00,   7.6098,2,    25.00,-999.000,9,-999.0000,9, -999.00,9, -999.00,9,  -999.0,9,-999.000,9,-999.000,-999.000,9,-999.000,9, -999.00,9, -999.00,9, -999.00,9, -999.00,9, -999.00,9,-999.000,-999.0000,9,-999.0000,9,-999.0000,9,-999.0000,9,-999.0000,9,-999.0000,9,-999.0000,9,-999.0000,9,-999.0000,9,   0.1899,     -999.0,9,     -999.0,9,     -999.0,9,     -999.0,9,     -999.0,9,     -999.0,9,     -999.0,9,-999.0000, -999.00
33RO20071215,        P18,     150,          1,          1,      12035,2,20080207,       1540,   -58.2502,  -103.0002,       4574,  4654.1,   0.5462,  34.7047,2,  34.7057,2,    215.0,2,   213.1,2,  136.20,2,   33.00,2,    0.01,2,    2.27,2,-999.000,9,-999.000,9,-999.0000,9,  2263.9,6,  2361.8,2,   1098.2,2,    20.00,   7.6062,2,    25.00,-999.000,9,-999.0000,9, -999.00,9, -999.00,9,  -999.0,9,-999.000,9,-999.000,-999.000,9,-999.000,9, -999.00,9, -999.00,9, -999.00,9, -999.00,9, -999.00,9,-999.000,-999.0000,9,-999.0000,9,-999.0000,9,-999.0000,9,-999.0000,9,-999.0000,9,-999.0000,9,-999.0000,9,-999.0000,9,   0.1837,     -999.0,9,     -999.0,9,     -999.0,9,     -999.0,9,     -999.0,9,     -999.0,9,     -999.0,9,-999.0000, -999.00