BOTTLE,20220818CCHSIOAMB
EXPOCODE,SECT_ID,STNNBR,CASTNO,SAMPNO,BTLNBR,BTLNBR_FLAG_W,DATE,TIME,LATITUDE,LONGITUDE,DEPTH,CTDPRS,CTDTMP,CTDSAL,CTDSAL_FLAG_W,SALNTY,SALNTY_FLAG_W,CTDOXY,CTDOXY_FLAG_W,OXYGEN,OXYGEN_FLAG_W,SILCAT,SILCAT_FLAG_W,NITRAT,NITRAT_FLAG_W,NITRIT,NITRIT_FLAG_W,PHSPHT,PHSPHT_FLAG_W,CFC-11,CFC-11_FLAG_W,CFC-12,CFC-12_FLAG_W,SF6,SF6_FLAG_W,TCARBN,TCARBN_FLAG_W,ALKALI,ALKALI_FLAG_W,FCO2,FCO2_FLAG_W,FCO2TMP,PH_SWS,PH_SWS_FLAG_W,PH_TMP,TRITUM,TRITUM_FLAG_W,HELIUM,HELIUM_FLAG_W,DELHE3,DELHE3_FLAG_W,DELC13,DELC13_FLAG_W,DELC14,DELC14_FLAG_W,NEON,NEON_FLAG_W,NEONER,CCL4,CCL4_FLAG_W,POC,POC_FLAG_W,DOC,DOC_FLAG_W,TDN,TDN_FLAG_W,DON,DON_FLAG_W,CHLORA,CHLORA_FLAG_W,ARGON,ARGON_FLAG_W,TRITER,CDOM325,CDOM325_FLAG_W,CDOM340,CDOM340_FLAG_W,CDOM380,CDOM380_FLAG_W,CDOM412,CDOM412_FLAG_W,CDOM443,CDOM443_FLAG_W,CDOM490,CDOM490_FLAG_W,CDOM555,CDOM555_FLAG_W,CDOMSL,CDOMSL_FLAG_W,CDOMSN,CDOMSN_FLAG_W,THETA,D18O_NO3,D18O_NO3_FLAG_W,CDOM2C,CDOM2C_FLAG_W,CDOM3C,CDOM3C_FLAG_W,LAB_DEN,LAB_DEN_FLAG_W,DELSI30,DELSI30_FLAG_W,N2,N2_FLAG_W,D15N_NO3,D15N_NO3_FLAG_W,HELIER,DELHER
,,,,,,,,,,,METERS,DBAR,ITS-90,PSS-78,,PSS-78,,UMOL/KG,,UMOL/KG,,UMOL/KG,,UMOL/KG,,UMOL/KG,,UMOL/KG,,PMOL/KG,,PMOL/KG,,FMOL/KG,,UMOL/KG,,UMOL/KG,,UATM,,DEG C,,,DEG C,TU,,NMOL/KG,,PERCNT,,/MILLE,,/MILLE,,NMOL/KG,,NMOL/KG,PMOL/KG,,UG/KG,,UMOL/KG,,UMOL/KG,,UMOL/KG,,UG/KG,,UMOL/KG,,TU,1/M,,1/M,,1/M,,1/M,,1/M,,1/M,,1/M,,1/NM,,1/NM,,DEG C,/MILLE,,,,,,,,/MILLE,,UMOL/KG,,/MILLE,,NMOL/KG,PERCNT
33RO20071215,        P18,      58,          1,         36,      12017,2,20080104,       1041,    -6.2500,  -108.2578,       2942,     4.8,  23.5223,  35.1662,2,  35.1671,2,    215.6,2,   217.1,2,    4.60,2,   11.10,2,    0.29,2,    0.84,2,   1.899,2,   1.189,2,   1.0436,2,  2068.0,6,  2327.6,4,   -999.0,9,  -999.00,   7.9369,2,    25.00,-999.000,9,-999.0000,9, -999.00,9,    1.09,2,  -999.0,1,-999.000,9,-999.000,-999.000,9,-999.000,9, -999.00,9, -999.00,9, -999.00,9, -999.00,9, -999.00,9,-999.000,-999.0000,9,-999.0000,9,-999.0000,9,-999.0000,9,-999.0000,9,-999.0000,9,-999.0000,9,-999.0000,9,-999.0000,9,  23.5212,     -999.0,9,     -999.0,9,     -999.0,9,     -999.0,9,     -999.0,9,     -999.0,9,     -999.0,9,-999.0000, -999.00
33RO20071215,        P18,      58,          1,         35,      12029,2,20080104,       1041,    -6.2500,  -108.2578,       2942,    12.9,  23.5260,  35.1664,2,  35.1686,2,    215.9,2,   216.9,2,    4.80,2,   11.10,2,    0.29,2,    0.85,2,   1.902,6,   1.186,6,   1.0865,6,  2069.8,2,  -999.0,5,   -999.0,9,  -999.00,   7.9527,2,    25.00,-999.000,9,-999.0000,9, -999.00,9, -999.00,9,  -999.0,9,-999.000,9,-999.000,-999.000,9,-999.000,9, -999.00,9, -999.00,9, -999.00,9, -999.00,9, -999.00,9,-999.000,-999.0000,9,-999.0000,9,-999.0000,9,-999.0000,9,-999.0000,9,-999.0000,9,-999.0000,9,-999.0000,9,-999.0000,9,  23.5233,     -999.0,9,     -999.0,9,     -999.0,9,     -999.0,9,     -999.0,9,     -999.0,9,     -999.0,9,-999.0000, -999.00
33RO20071215,        P18,      58,          1,         34,      12049,2,20080104,       1041,    -6.2500,  -108.2578,       2942,    26.9,  23.5354,  35.1682,2,  35.1686,2,    216.3,2,   216.4,2,    4.60,2,   11.10,2,    0.28,2,    0.84,2,   1.909,2,   1.197,2,   1.0852,2,  2067.8,2,  1399.3,4,   -999.0,9,  -999.00,   7.9461,2,    25.00,-999.000,9,-999.0000,9, -999.00,9, -999.00,9,  -999.0,9,-999.000,9,-999.000,-999.000,9,-999.000,9, -999.00,9, -999.00,9, -999.00,9, -999.00,9, -999.00,9,-999.000,-999.0000,9,-999.0000,9,-999.0000,9,-999.0000,9,-999.0000,9,-999.0000,9,-999.0000,9,-999.0000,9,-999.0000,9,  23.5298,     -999.0,9,     -999.0,9,     -999.0,9,     -999.0,9,     -999.0,9,     -999.0,9,     -999.0,9,-999.0000, -999.00
33RO20071215,        P18,      58,          1,         33,      12027,2,20080104,       1041,    -6.2500,  -108.2578,       2942,    47.9,  23.5251,  35.2016,2,  35.2008,2,    215.9,2,   216.5,2,    4.00,2,   10.80,2,    0.27,2,    0.85,2,   1.909,2,   1.188,2,   1.0858,2,  2066.4,2,  2274.2,4,   -999.0,9,  -999.00,   7.9516,2,    25.00,-999.000,9,-999.0000,9, -999.00,9, -999.00,9,  -999.0,9,-999.000,9,-999.000,-999.000,9,-999.000,9, -999.00,9, -999.00,9, -999.00,9, -999.00,9, -999.00,9,-999.000,-999.0000,9,-999.0000,9,-999.0000,9,-999.0000,9,-999.0000,9,-999.0000,9,-999.0000,9,-999.0000,9,-999.0000,9,  23.5151,     -999.0,9,     -999.0,9,     -999.0,9,     -999.0,9,     -999.0,9,     -999.0,9,     -999.0,9,-999.0000, -999.00
33RO20071215,        P18,      58,          1,         32,      12023,2,20080104,       1041,    -6.2500,  -108.2578,       2942,    67.4,  21.1723,  35.1475,2,  35.1569,2,    194.1,2,   197.8,2,    5.20,2,   11.60,2,    0.49,2,    1.03,2,   2.011,2,   1.234,2,   1.1045,2,  2098.7,2,  2328.7,4,   -999.0,9,  -999.00,   7.8877,2,    25.00,-999.000,9,-999.0000,9, -999.00,9, -999.00,9,  -999.0,9,-999.000,9,-999.000,-999.000,9,-999.000,9, -999.00,9, -999.00,9, -999.00,9, -999.00,9, -999.00,9,-999.000,-999.0000,9,-999.0000,9,-999.0000,9,-999.0000,9,-999.0000,9,-999.0000,9,-999.0000,9,-999.0000,9,-999.0000,9,  21.1594,     -999.0,9,     -999.0,9,     -999.0,9,     -999.0,9,     -999.0,9,     -999.0,9,     -999.0,9,-999.0000, -999.00
33RO20071215,        P18,      58,          1,         31,      12037,2,20080104,       1041,    -6.2500,  -108.2578,       2942,    87.2,  20.1523,  35.2614,2,  35.3094,2,    169.5,2,   161.2,2,    4.80,2,   10.60,2,    1.33,2,    1.09,2,   2.112,2,   1.289,2,   1.0056,2,  2126.8,2,  2336.7,4,   -999.0,9,  -999.00,   7.8475,2,    25.00,-999.000,9,-999.0000,9, -999.00,9, -999.00,9,  -999.0,9,-999.000,9,-999.000,-999.000,9,-999.000,9, -999.00,9, -999.00,9, -999.00,9, -999.00,9, -999.00,9,-999.000,-999.0000,9,-999.0000,9,-999.0000,9,-999.0000,9,-999.0000,9,-999.0000,9,-999.0000,9,-999.0000,9,-999.0000,9,  20.1361,     -999.0,9,     -999.0,9,     -999.0,9,     -999.0,9,     -999.0,9,     -999.0,9,     -999.0,9,-999.0000, -999.00
33RO20071215,        P18,      58,          1,         30,      12036,2,20080104,       1041,    -6.2500,  -108.2578,       2942,   107.5,  16.1506,  35.1225,2,  35.1261,2,     66.0,2,    64.3,2,    8.80,2,   21.40,2,    0.24,2,    1.80,2,   2.039,2,   1.195,2,   0.7578,2,  2197.9,2,  2318.3,2,   -999.0,9,  -999.00,   7.6418,2,    25.00,-999.000,9,-999.0000,9, -999.00,9, -999.00,9,  -999.0,9,-999.000,9,-999.000,-999.000,9,-999.000,9, -999.00,9, -999.00,9, -999.00,9, -999.00,9, -999.00,9,-999.000,-999.0000,9,-999.0000,9,-999.0000,9,-999.0000,9,-999.0000,9,-999.0000,9,-999.0000,9,-999.0000,9,-999.0000,9,  16.1335,     -999.0,9,     -999.0,9,     -999.0,9,     -999.0,9,     -999.0,9,     -999.0,9,     -999.0,9,-999.0000, -999.00
33RO20071215,        P18,      58,          1,         29,      12044,2,20080104,       1041,    -6.2500,  -108.2578,       2942,   132.8,  13.8633,  34.9606,2,  34.9615,2,     19.8,2,    19.9,2,   15.00,2,   26.50,2,    0.03,2,    2.24,2,   1.489,2,   0.847,2,   0.4198,2,  2232.8,2,  2308.2,2,   -999.0,9,  -999.00,   7.5030,2,    25.00,-999.000,9,-999.0000,9, -999.00,9, -999.00,9,  -999.0,9,-999.000,9,-999.000,-999.000,9,-999.000,9, -999.00,9, -999.00,9, -999.00,9, -999.00,9, -999.00,9,-999.000,-999.0000,9,-999.0000,9,-999.0000,9,-999.0000,9,-999.0000,9,-999.0000,9,-999.0000,9,-999.0000,9,-999.0000,9,  13.8443,     -999.0,9,     -999.0,9,     -999.0,9,     -999.0,9,     -999.0,9,     -999.0,9,     -999.0,9,-999.0000, -999.00
33RO20071215,        P18,      58,          1,         28,      12057,2,20080104,       1041,    -6.2500,  -108.2578,       2942,   157.2,  13.0038,  34.9188,2,  34.9207,2,     12.3,2,    12.0,2,   19.60,2,   29.00,2,    0.01,2,    2.38,2,   1.006,2,   0.573,2,   0.2416,2,  2243.0,2,  1493.4,4,   -999.0,9,  -999.00,   7.4741,2,    25.00,-999.000,9,-999.0000,9, -999.00,9, -999.00,9,  -999.0,9,-999.000,9,-999.000,-999.000,9,-999.000,9, -999.00,9, -999.00,9, -999.00,9, -999.00,9, -999.00,9,-999.000,-999.0000,9,-999.0000,9,-999.0000,9,-999.0000,9,-999.0000,9,-999.0000,9,-999.0000,9,-999.0000,9,-999.0000,9,  12.9822,     -999.0,9,     -999.0,9,     -999.0,9,     -999.0,9,     -999.0,9,     -999.0,9,     -999.0,9,-999.0000, -999.00
33RO20071215,        P18,      58,          1,         27,      12026,2,20080104,       1041,    -6.2500,  -108.2578,       2942,   183.4,  12.5671,  34.9080,2,  34.9061,2,     12.0,2,    12.6,2,   22.20,2,   30.40,2,    0.01,2,    2.39,2,-999.000,9,-999.000,9,-999.0000,9,  2244.8,2,  -999.0,9,   -999.0,9,  -999.00,-999.0000,9,  -999.00,-999.000,9,-999.0000,9, -999.00,9, -999.00,9,  -999.0,9,-999.000,9,-999.000,-999.000,9,-999.000,9, -999.00,9, -999.00,9, -999.00,9, -999.00,9, -999.00,9,-999.000,-999.0000,9,-999.0000,9,-999.0000,9,-999.0000,9,-999.0000,9,-999.0000,9,-999.0000,9,-999.0000,9,-999.0000,9,  12.5425,     -999.0,9,     -999.0,9,     -999.0,9,     -999.0,9,     -999.0,9,     -999.0,9,     -999.0,9,-999.0000, -999.00
33RO20071215,        P18,      58,          1,         26,      12030,2,20080104,       1041,    -6.2500,  -108.2578,       2942,   208.0,  11.8951,  34.8775,2,  34.8764,2,     20.7,2,    21.0,2,   24.20,2,   32.00,2,    0.01,2,    2.35,2,   0.586,2,   0.336,2,   0.1151,2,  2242.3,2,  2294.7,2,   -999.0,9,  -999.00,   7.4891,2,    25.00,-999.000,9,-999.0000,9, -999.00,9, -999.00,9,  -999.0,9,-999.000,9,-999.000,-999.000,9,-999.000,9, -999.00,9, -999.00,9, -999.00,9, -999.00,9, -999.00,9,-999.000,-999.0000,9,-999.0000,9,-999.0000,9,-999.0000,9,-999.0000,9,-999.0000,9,-999.0000,9,-999.0000,9,-999.0000,9,  11.8682,     -999.0,9,     -999.0,9,     -999.0,9,     -999.0,9,     -999.0,9,     -999.0,9,     -999.0,9,-999.0000, -999.00
33RO20071215,        P18,      58,          1,         25,      12024,2,20080104,       1041,    -6.2500,  -108.2578,       2942,   233.0,  11.4969,  34.8523,2,  34.8496,2,     25.1,2,    29.1,2,   25.30,2,   32.10,2,    0.01,2,    2.33,2,-999.000,9,-999.000,9,-999.0000,9,  2241.0,2,  -999.0,9,   -999.0,9,  -999.00,-999.0000,9,  -999.00,-999.000,9,-999.0000,9, -999.00,9, -999.00,9,  -999.0,9,-999.000,9,-999.000,-999.000,9,-999.000,9, -999.00,9, -999.00,9, -999.00,9, -999.00,9, -999.00,9,-999.000,-999.0000,9,-999.0000,9,-999.0000,9,-999.0000,9,-999.0000,9,-999.0000,9,-999.0000,9,-999.0000,9,-999.0000,9,  11.4674,     -999.0,9,     -999.0,9,     -999.0,9,     -999.0,9,     -999.0,9,     -999.0,9,     -999.0,9,-999.0000, -999.00
33RO20071215,        P18,      58,          1,         24,      12019,2,20080104,       1041,    -6.2500,  -108.2578,       2942,   267.1,  11.0101,  34.8183,2,  34.8159,2,     34.3,2,    35.3,2,   26.90,2,   32.30,2,    0.01,2,    2.33,2,   0.495,2,   0.282,2,   0.0804,2,  2240.6,2,  2311.7,4,   -999.0,9,  -999.00,   7.4854,2,    25.00,-999.000,9,-999.0000,9, -999.00,9, -999.00,9,  -999.0,9,-999.000,9,-999.000,-999.000,9,-999.000,9, -999.00,9, -999.00,9, -999.00,9, -999.00,9, -999.00,9,-999.000,-999.0000,9,-999.0000,9,-999.0000,9,-999.0000,9,-999.0000,9,-999.0000,9,-999.0000,9,-999.0000,9,-999.0000,9,  10.9771,     -999.0,9,     -999.0,9,     -999.0,9,     -999.0,9,     -999.0,9,     -999.0,9,     -999.0,9,-999.0000, -999.00
33RO20071215,        P18,      58,          1,         23,      12022,2,20080104,       1041,    -6.2500,  -108.2578,       2942,   316.3,  10.4639,  34.7794,2,  34.7802,2,     19.2,2,    19.8,2,   30.60,2,   34.60,2,    0.01,2,    2.51,2,-999.000,9,-999.000,9,-999.0000,9,  2256.6,2,  -999.0,9,   -999.0,9,  -999.00,-999.0000,9,  -999.00,-999.000,9,-999.0000,9, -999.00,9, -999.00,9,  -999.0,9,-999.000,9,-999.000,-999.000,9,-999.000,9, -999.00,9, -999.00,9, -999.00,9, -999.00,9, -999.00,9,-999.000,-999.0000,9,-999.0000,9,-999.0000,9,-999.0000,9,-999.0000,9,-999.0000,9,-999.0000,9,-999.0000,9,-999.0000,9,  10.4260,     -999.0,9,     -999.0,9,     -999.0,9,     -999.0,9,     -999.0,9,     -999.0,9,     -999.0,9,-999.0000, -999.00
33RO20071215,        P18,      58,          1,         22,      12015,2,20080104,       1041,    -6.2500,  -108.2578,       2942,   365.8,   9.8222,  34.7365,2,  34.7362,2,      9.1,2,     9.4,2,   34.40,2,   36.80,2,    0.00,2,    2.68,2,   0.152,2,   0.091,2,   0.0264,2,  2269.4,2,  2298.2,2,   -999.0,9,  -999.00,   7.3971,2,    25.00,-999.000,9,-999.0000,9, -999.00,9, -999.00,9,  -999.0,9,-999.000,9,-999.000,-999.000,9,-999.000,9, -999.00,9, -999.00,9, -999.00,9, -999.00,9, -999.00,9,-999.000,-999.0000,9,-999.0000,9,-999.0000,9,-999.0000,9,-999.0000,9,-999.0000,9,-999.0000,9,-999.0000,9,-999.0000,9,   9.7800,     -999.0,9,     -999.0,9,     -999.0,9,     -999.0,9,     -999.0,9,     -999.0,9,     -999.0,9,-999.0000, -999.00
33RO20071215,        P18,      58,          1,         21,      12020,2,20080104,       1041,    -6.2500,  -108.2578,       2942,   432.3,   8.9772,  34.6840,2,  34.6790,2,     12.6,2,    14.1,2,   37.50,2,   38.90,2,    0.00,2,    2.76,2,-999.000,9,-999.000,9,-999.0000,9,  -999.0,9,  -999.0,9,   -999.0,9,  -999.00,-999.0000,9,  -999.00,-999.000,9,-999.0000,9, -999.00,9, -999.00,9,  -999.0,9,-999.000,9,-999.000,-999.000,9,-999.000,9, -999.00,9, -999.00,9, -999.00,9, -999.00,9, -999.00,9,-999.000,-999.0000,9,-999.0000,9,-999.0000,9,-999.0000,9,-999.0000,9,-999.0000,9,-999.0000,9,-999.0000,9,-999.0000,9,   8.9299,     -999.0,9,     -999.0,9,     -999.0,9,     -999.0,9,     -999.0,9,     -999.0,9,     -999.0,9,-999.0000, -999.00
33RO20071215,        P18,      58,          1,         20,      12055,2,20080104,       1041,    -6.2500,  -108.2578,       2942,   532.2,   7.7232,  34.6196,2,  34.6178,2,     11.7,2,    10.9,2,   45.50,2,   42.60,2,    0.00,2,    3.01,2,   0.020,2,   0.013,2,   0.0000,2,  2287.9,2,  -999.0,9,   -999.0,9,  -999.00,-999.0000,9,  -999.00,-999.000,9,-999.0000,9, -999.00,9, -999.00,9,  -999.0,9,-999.000,9,-999.000,-999.000,9,-999.000,9, -999.00,9, -999.00,9, -999.00,9, -999.00,9, -999.00,9,-999.000,-999.0000,9,-999.0000,9,-999.0000,9,-999.0000,9,-999.0000,9,-999.0000,9,-999.0000,9,-999.0000,9,-999.0000,9,   7.6696,     -999.0,9,     -999.0,9,     -999.0,9,     -999.0,9,     -999.0,9,     -999.0,9,     -999.0,9,-999.0000, -999.00
33RO20071215,        P18,      58,          1,         19,      12018,2,20080104,       1041,    -6.2500,  -108.2578,       2942,   633.3,   6.7242,  34.5785,2,  34.5783,2,     29.0,2,    29.1,2,   52.70,2,   43.30,2,    0.00,2,    2.99,2,-999.000,9,-999.000,9,-999.0000,9,  -999.0,9,  -999.0,9,   -999.0,9,  -999.00,-999.0000,9,  -999.00,-999.000,9,-999.0000,9, -999.00,9, -999.00,9,  -999.0,9,-999.000,9,-999.000,-999.000,9,-999.000,9, -999.00,9, -999.00,9, -999.00,9, -999.00,9, -999.00,9,-999.000,-999.0000,9,-999.0000,9,-999.0000,9,-999.0000,9,-999.0000,9,-999.0000,9,-999.0000,9,-999.0000,9,-999.0000,9,   6.6647,     -999.0,9,     -999.0,9,     -999.0,9,     -999.0,9,     -999.0,9,     -999.0,9,     -999.0,9,-999.0000, -999.00
33RO20071215,        P18,      58,          1,         18,      12025,2,20080104,       1041,    -6.2500,  -108.2578,       2942,   732.7,   5.9371,  34.5560,2,  34.5556,2,     49.6,2,    50.6,2,   60.70,2,   42.20,2,    0.00,2,    2.95,2,   0.006,2,   0.004,2,   0.0000,2,  2284.6,2,  2329.8,2,   -999.0,9,  -999.00,   7.4167,2,    25.00,-999.000,9,-999.0000,9, -999.00,9, -999.00,9,  -999.0,9,-999.000,9,-999.000,-999.000,9,-999.000,9, -999.00,9, -999.00,9, -999.00,9, -999.00,9, -999.00,9,-999.000,-999.0000,9,-999.0000,9,-999.0000,9,-999.0000,9,-999.0000,9,-999.0000,9,-999.0000,9,-999.0000,9,-999.0000,9,   5.8721,     -999.0,9,     -999.0,9,     -999.0,9,     -999.0,9,     -999.0,9,     -999.0,9,     -999.0,9,-999.0000, -999.00
33RO20071215,        P18,      58,          1,         17,      12016,2,20080104,       1041,    -6.2500,  -108.2578,       2942,   833.2,   5.5048,  34.5467,2,  34.5465,2,     68.1,2,    67.5,2,   65.30,2,   41.10,2,    0.00,2,    2.88,2,-999.000,9,-999.000,9,-999.0000,9,  -999.0,9,  -999.0,9,   -999.0,9,  -999.00,-999.0000,9,  -999.00,-999.000,9,-999.0000,9, -999.00,9, -999.00,9,  -999.0,9,-999.000,9,-999.000,-999.000,9,-999.000,9, -999.00,9, -999.00,9, -999.00,9, -999.00,9, -999.00,9,-999.000,-999.0000,9,-999.0000,9,-999.0000,9,-999.0000,9,-999.0000,9,-999.0000,9,-999.0000,9,-999.0000,9,-999.0000,9,   5.4331,     -999.0,9,     -999.0,9,     -999.0,9,     -999.0,9,     -999.0,9,     -999.0,9,     -999.0,9,-999.0000, -999.00
33RO20071215,        P18,      58,          1,         16,      12051,2,20080104,       1041,    -6.2500,  -108.2578,       2942,   932.7,   5.0318,  34.5433,2,  34.5427,2,     83.5,2,    83.2,2,   71.40,2,   39.90,2,    0.00,2,    2.81,2,   0.008,2,   0.005,2,   0.0000,2,  2281.1,2,  -999.0,9,   -999.0,9,  -999.00,-999.0000,9,  -999.00,-999.000,9,-999.0000,9, -999.00,9, -999.00,9,  -999.0,9,-999.000,9,-999.000,-999.000,9,-999.000,9, -999.00,9, -999.00,9, -999.00,9, -999.00,9, -999.00,9,-999.000,-999.0000,9,-999.0000,9,-999.0000,9,-999.0000,9,-999.0000,9,-999.0000,9,-999.0000,9,-999.0000,9,-999.0000,9,   4.9542,     -999.0,9,     -999.0,9,     -999.0,9,     -999.0,9,     -999.0,9,     -999.0,9,     -999.0,9,-999.0000, -999.00
33RO20071215,        P18,      58,          1,         15,      12014,2,20080104,       1041,    -6.2500,  -108.2578,       2942,  1032.3,   4.5976,  34.5448,2,  34.5449,2,     90.0,2,    89.8,2,   78.20,2,   39.80,2,    0.00,2,    2.81,2,-999.000,9,-999.000,9,-999.0000,9,  -999.0,9,  -999.0,9,   -999.0,9,  -999.00,-999.0000,9,  -999.00,-999.000,9,-999.0000,9, -999.00,9, -999.00,9,  -999.0,9,-999.000,9,-999.000,-999.000,9,-999.000,9, -999.00,9, -999.00,9, -999.00,9, -999.00,9, -999.00,9,-999.000,-999.0000,9,-999.0000,9,-999.0000,9,-999.0000,9,-999.0000,9,-999.0000,9,-999.0000,9,-999.0000,9,-999.0000,9,   4.5144,     -999.0,9,     -999.0,9,     -999.0,9,     -999.0,9,     -999.0,9,     -999.0,9,     -999.0,9,-999.0000, -999.00
33RO20071215,        P18,      58,          1,         14,      12013,2,20080104,       1041,    -6.2500,  -108.2578,       2942,  1132.0,   4.1725,  34.5532,2,  34.5537,2,     97.7,2,    98.4,2,   86.20,2,   39.50,2,    0.00,2,    2.79,2,   0.002,2,   0.003,2,   0.0000,2,  2290.3,2,  2362.2,2,   -999.0,9,  -999.00,   7.4929,2,    25.00,-999.000,9,-999.0000,9, -999.00,9, -999.00,9,  -999.0,9,-999.000,9,-999.000,-999.000,9,-999.000,9, -999.00,9, -999.00,9, -999.00,9, -999.00,9, -999.00,9,-999.000,-999.0000,9,-999.0000,9,-999.0000,9,-999.0000,9,-999.0000,9,-999.0000,9,-999.0000,9,-999.0000,9,-999.0000,9,   4.0841,     -999.0,9,     -999.0,9,     -999.0,9,     -999.0,9,     -999.0,9,     -999.0,9,     -999.0,9,-999.0000, -999.00
33RO20071215,        P18,      58,          1,         13,      12012,2,20080104,       1041,    -6.2500,  -108.2578,       2942,  1232.2,   3.7982,  34.5637,2,  34.5632,2,    103.7,2,   102.9,2,   93.50,2,   39.20,2,    0.00,2,    2.77,2,-999.000,9,-999.000,9,-999.0000,9,  -999.0,9,  -999.0,9,   -999.0,9,  -999.00,-999.0000,9,  -999.00,-999.000,9,-999.0000,9, -999.00,9, -999.00,9,  -999.0,9,-999.000,9,-999.000,-999.000,9,-999.000,9, -999.00,9, -999.00,9, -999.00,9, -999.00,9, -999.00,9,-999.000,-999.0000,9,-999.0000,9,-999.0000,9,-999.0000,9,-999.0000,9,-999.0000,9,-999.0000,9,-999.0000,9,-999.0000,9,   3.7046,     -999.0,9,     -999.0,9,     -999.0,9,     -999.0,9,     -999.0,9,     -999.0,9,     -999.0,9,-999.0000, -999.00
33RO20071215,        P18,      58,          1,         12,      12031,2,20080104,       1041,    -6.2500,  -108.2578,       2942,  1332.5,   3.3767,  34.5812,2,  34.5807,2,    105.0,2,   104.7,2,  104.40,2,   39.30,2,    0.00,2,    2.78,2,   0.000,2,   0.001,2,   0.0000,2,  2306.8,2,  -999.0,9,   -999.0,9,  -999.00,-999.0000,9,  -999.00,-999.000,9,-999.0000,9, -999.00,9, -999.00,9,  -999.0,9,-999.000,9,-999.000,-999.000,9,-999.000,9, -999.00,9, -999.00,9, -999.00,9, -999.00,9, -999.00,9,-999.000,-999.0000,9,-999.0000,9,-999.0000,9,-999.0000,9,-999.0000,9,-999.0000,9,-999.0000,9,-999.0000,9,-999.0000,9,   3.2787,     -999.0,9,     -999.0,9,     -999.0,9,     -999.0,9,     -999.0,9,     -999.0,9,     -999.0,9,-999.0000, -999.00