BOTTLE,20220818CCHSIOAMB
EXPOCODE,SECT_ID,STNNBR,CASTNO,SAMPNO,BTLNBR,BTLNBR_FLAG_W,DATE,TIME,LATITUDE,LONGITUDE,DEPTH,CTDPRS,CTDTMP,CTDSAL,CTDSAL_FLAG_W,SALNTY,SALNTY_FLAG_W,CTDOXY,CTDOXY_FLAG_W,OXYGEN,OXYGEN_FLAG_W,SILCAT,SILCAT_FLAG_W,NITRAT,NITRAT_FLAG_W,NITRIT,NITRIT_FLAG_W,PHSPHT,PHSPHT_FLAG_W,CFC-11,CFC-11_FLAG_W,CFC-12,CFC-12_FLAG_W,SF6,SF6_FLAG_W,TCARBN,TCARBN_FLAG_W,ALKALI,ALKALI_FLAG_W,FCO2,FCO2_FLAG_W,FCO2TMP,PH_SWS,PH_SWS_FLAG_W,PH_TMP,TRITUM,TRITUM_FLAG_W,HELIUM,HELIUM_FLAG_W,DELHE3,DELHE3_FLAG_W,DELC13,DELC13_FLAG_W,DELC14,DELC14_FLAG_W,NEON,NEON_FLAG_W,NEONER,CCL4,CCL4_FLAG_W,POC,POC_FLAG_W,DOC,DOC_FLAG_W,TDN,TDN_FLAG_W,DON,DON_FLAG_W,CHLORA,CHLORA_FLAG_W,ARGON,ARGON_FLAG_W,TRITER,CDOM325,CDOM325_FLAG_W,CDOM340,CDOM340_FLAG_W,CDOM380,CDOM380_FLAG_W,CDOM412,CDOM412_FLAG_W,CDOM443,CDOM443_FLAG_W,CDOM490,CDOM490_FLAG_W,CDOM555,CDOM555_FLAG_W,CDOMSL,CDOMSL_FLAG_W,CDOMSN,CDOMSN_FLAG_W,THETA,D18O_NO3,D18O_NO3_FLAG_W,CDOM2C,CDOM2C_FLAG_W,CDOM3C,CDOM3C_FLAG_W,LAB_DEN,LAB_DEN_FLAG_W,DELSI30,DELSI30_FLAG_W,N2,N2_FLAG_W,D15N_NO3,D15N_NO3_FLAG_W,HELIER,DELHER
,,,,,,,,,,,METERS,DBAR,ITS-90,PSS-78,,PSS-78,,UMOL/KG,,UMOL/KG,,UMOL/KG,,UMOL/KG,,UMOL/KG,,UMOL/KG,,PMOL/KG,,PMOL/KG,,FMOL/KG,,UMOL/KG,,UMOL/KG,,UATM,,DEG C,,,DEG C,TU,,NMOL/KG,,PERCNT,,/MILLE,,/MILLE,,NMOL/KG,,NMOL/KG,PMOL/KG,,UG/KG,,UMOL/KG,,UMOL/KG,,UMOL/KG,,UG/KG,,UMOL/KG,,TU,1/M,,1/M,,1/M,,1/M,,1/M,,1/M,,1/M,,1/NM,,1/NM,,DEG C,/MILLE,,,,,,,,/MILLE,,UMOL/KG,,/MILLE,,NMOL/KG,PERCNT
33RO20071215,        P18,       4,          1,         24,      11024,3,20071218,       0643,    22.4998,  -110.0002,       3053,    15.3,  24.2583,  34.7144,2,  34.7161,2,    209.7,2,  -999.0,9,    2.00,2,    0.00,2,    0.02,2,    0.27,2,   1.787,2,   1.132,2,   1.1409,2,  2016.7,6,  2311.5,2,   -999.0,9,  -999.00,   8.0241,2,    25.00,-999.000,9,-999.0000,9, -999.00,9, -999.00,9,  -999.0,9,-999.000,9,-999.000,-999.000,9,-999.000,9, -999.00,9, -999.00,9, -999.00,9, -999.00,9, -999.00,9,-999.000,-999.0000,9,-999.0000,9,-999.0000,9,-999.0000,9,-999.0000,9,-999.0000,9,-999.0000,9,-999.0000,9,-999.0000,9,  24.2550,     -999.0,9,     -999.0,9,     -999.0,9,     -999.0,9,     -999.0,9,     -999.0,9,     -999.0,9,-999.0000, -999.00
33RO20071215,        P18,       4,          1,         23,      11023,2,20071218,       0643,    22.4998,  -110.0002,       3053,    29.2,  24.2286,  34.7049,2,  34.7079,2,    209.9,2,   207.4,2,    2.10,2,    0.10,2,    0.02,2,    0.28,2,   1.806,6,   1.145,6,   1.1077,6,  2016.2,2,  2311.3,2,   -999.0,9,  -999.00,   8.0252,2,    25.00,-999.000,9,-999.0000,9, -999.00,9, -999.00,9,  -999.0,9,-999.000,9,-999.000,-999.000,9,-999.000,9, -999.00,9, -999.00,9, -999.00,9, -999.00,9, -999.00,9,-999.000,-999.0000,9,-999.0000,9,-999.0000,9,-999.0000,9,-999.0000,9,-999.0000,9,-999.0000,9,-999.0000,9,-999.0000,9,  24.2224,     -999.0,9,     -999.0,9,     -999.0,9,     -999.0,9,     -999.0,9,     -999.0,9,     -999.0,9,-999.0000, -999.00
33RO20071215,        P18,       4,          1,         22,      11022,2,20071218,       0643,    22.4998,  -110.0002,       3053,    54.3,  18.3565,  34.2240,2,  34.2303,2,    163.7,2,   163.9,2,    7.60,2,    6.10,2,    0.43,2,    0.85,2,   2.305,2,   1.381,2,   1.2197,2,  2101.1,2,  2279.6,2,   -999.0,9,  -999.00,   7.8077,2,    25.00,-999.000,9,-999.0000,9, -999.00,9, -999.00,9,  -999.0,9,-999.000,9,-999.000,-999.000,9,-999.000,9, -999.00,9, -999.00,9, -999.00,9, -999.00,9, -999.00,9,-999.000,-999.0000,9,-999.0000,9,-999.0000,9,-999.0000,9,-999.0000,9,-999.0000,9,-999.0000,9,-999.0000,9,-999.0000,9,  18.3471,     -999.0,9,     -999.0,9,     -999.0,9,     -999.0,9,     -999.0,9,     -999.0,9,     -999.0,9,-999.0000, -999.00
33RO20071215,        P18,       4,          1,         21,      11021,2,20071218,       0643,    22.4998,  -110.0002,       3053,    79.5,  15.2421,  34.3671,2,  34.3516,2,     72.9,2,    71.9,2,   19.40,2,   19.90,2,    0.05,2,    1.84,2,   2.110,2,   1.239,2,   0.8791,2,  2197.0,2,  2280.5,2,   -999.0,9,  -999.00,   7.5661,2,    25.00,-999.000,9,-999.0000,9, -999.00,9, -999.00,9,  -999.0,9,-999.000,9,-999.000,-999.000,9,-999.000,9, -999.00,9, -999.00,9, -999.00,9, -999.00,9, -999.00,9,-999.000,-999.0000,9,-999.0000,9,-999.0000,9,-999.0000,9,-999.0000,9,-999.0000,9,-999.0000,9,-999.0000,9,-999.0000,9,  15.2301,     -999.0,9,     -999.0,9,     -999.0,9,     -999.0,9,     -999.0,9,     -999.0,9,     -999.0,9,-999.0000, -999.00
33RO20071215,        P18,       4,          1,         20,      11020,2,20071218,       0643,    22.4998,  -110.0002,       3053,   105.2,  13.5218,  34.4292,2,  34.4393,2,     39.9,2,    39.4,2,   26.00,2,   24.40,2,    0.03,2,    2.21,2,   1.840,2,   1.066,2,   0.7044,2,  2233.4,2,  2284.3,2,   -999.0,9,  -999.00,   7.4678,2,    25.00,-999.000,9,-999.0000,9, -999.00,9, -999.00,9,  -999.0,9,-999.000,9,-999.000,-999.000,9,-999.000,9, -999.00,9, -999.00,9, -999.00,9, -999.00,9, -999.00,9,-999.000,-999.0000,9,-999.0000,9,-999.0000,9,-999.0000,9,-999.0000,9,-999.0000,9,-999.0000,9,-999.0000,9,-999.0000,9,  13.5070,     -999.0,9,     -999.0,9,     -999.0,9,     -999.0,9,     -999.0,9,     -999.0,9,     -999.0,9,-999.0000, -999.00
33RO20071215,        P18,       4,          1,         19,      11019,2,20071218,       0643,    22.4998,  -110.0002,       3053,   130.4,  12.7532,  34.5180,2,  34.5206,2,     25.5,2,    27.2,2,   29.20,2,   25.60,2,    0.02,2,    2.33,2,   1.538,2,   0.881,2,   0.5342,2,  2245.9,2,  2294.6,2,   -999.0,9,  -999.00,   7.4437,2,    25.00,-999.000,9,-999.0000,9, -999.00,9, -999.00,9,  -999.0,9,-999.000,9,-999.000,-999.000,9,-999.000,9, -999.00,9, -999.00,9, -999.00,9, -999.00,9, -999.00,9,-999.000,-999.0000,9,-999.0000,9,-999.0000,9,-999.0000,9,-999.0000,9,-999.0000,9,-999.0000,9,-999.0000,9,-999.0000,9,  12.7357,     -999.0,9,     -999.0,9,     -999.0,9,     -999.0,9,     -999.0,9,     -999.0,9,     -999.0,9,-999.0000, -999.00
33RO20071215,        P18,       4,          1,         18,      11018,2,20071218,       0643,    22.4998,  -110.0002,       3053,   159.7,  12.0952,  34.6208,2,  34.6054,2,     13.7,2,    17.2,2,   32.50,2,   26.20,2,    0.02,2,    2.44,2,   1.123,2,   0.630,2,   0.3371,2,  2256.1,2,  2301.1,2,   -999.0,9,  -999.00,   7.4233,2,    25.00,-999.000,9,-999.0000,9, -999.00,9, -999.00,9,  -999.0,9,-999.000,9,-999.000,-999.000,9,-999.000,9, -999.00,9, -999.00,9, -999.00,9, -999.00,9, -999.00,9,-999.000,-999.0000,9,-999.0000,9,-999.0000,9,-999.0000,9,-999.0000,9,-999.0000,9,-999.0000,9,-999.0000,9,-999.0000,9,  12.0744,     -999.0,9,     -999.0,9,     -999.0,9,     -999.0,9,     -999.0,9,     -999.0,9,     -999.0,9,-999.0000, -999.00
33RO20071215,        P18,       4,          1,         17,      11017,2,20071218,       0643,    22.4998,  -110.0002,       3053,   209.6,  11.3893,  34.6651,2,  34.6639,2,      8.1,2,     6.8,2,   36.60,2,   26.00,2,    0.02,2,    2.56,2,   0.628,2,   0.360,2,   0.2125,2,  2272.4,2,  2307.9,2,   -999.0,9,  -999.00,   7.3982,2,    25.00,-999.000,9,-999.0000,9, -999.00,9, -999.00,9,  -999.0,9,-999.000,9,-999.000,-999.000,9,-999.000,9, -999.00,9, -999.00,9, -999.00,9, -999.00,9, -999.00,9,-999.000,-999.0000,9,-999.0000,9,-999.0000,9,-999.0000,9,-999.0000,9,-999.0000,9,-999.0000,9,-999.0000,9,-999.0000,9,  11.3629,     -999.0,9,     -999.0,9,     -999.0,9,     -999.0,9,     -999.0,9,     -999.0,9,     -999.0,9,-999.0000, -999.00
33RO20071215,        P18,       4,          1,         16,      11016,2,20071218,       0643,    22.4998,  -110.0002,       3053,   270.2,  10.6212,  34.6493,2,  34.6471,2,      4.3,2,     3.6,2,   40.40,2,   26.10,2,    0.02,2,    2.63,2,   0.384,2,   0.224,2,   0.1060,2,  2282.8,2,  2311.3,2,   -999.0,9,  -999.00,   7.3788,2,    25.00,-999.000,9,-999.0000,9, -999.00,9, -999.00,9,  -999.0,9,-999.000,9,-999.000,-999.000,9,-999.000,9, -999.00,9, -999.00,9, -999.00,9, -999.00,9, -999.00,9,-999.000,-999.0000,9,-999.0000,9,-999.0000,9,-999.0000,9,-999.0000,9,-999.0000,9,-999.0000,9,-999.0000,9,-999.0000,9,  10.5886,     -999.0,9,     -999.0,9,     -999.0,9,     -999.0,9,     -999.0,9,     -999.0,9,     -999.0,9,-999.0000, -999.00
33RO20071215,        P18,       4,          1,         15,      11015,2,20071218,       0643,    22.4998,  -110.0002,       3053,   345.5,   9.4879,  34.5850,2,  34.5835,2,      4.3,2,     4.2,2,   47.30,2,   29.00,2,    0.02,2,    2.75,2,   0.222,2,   0.129,2,   0.0708,2,  2291.8,2,  2314.4,2,   -999.0,9,  -999.00,   7.3651,2,    25.00,-999.000,9,-999.0000,9, -999.00,9, -999.00,9,  -999.0,9,-999.000,9,-999.000,-999.000,9,-999.000,9, -999.00,9, -999.00,9, -999.00,9, -999.00,9, -999.00,9,-999.000,-999.0000,9,-999.0000,9,-999.0000,9,-999.0000,9,-999.0000,9,-999.0000,9,-999.0000,9,-999.0000,9,-999.0000,9,   9.4490,     -999.0,9,     -999.0,9,     -999.0,9,     -999.0,9,     -999.0,9,     -999.0,9,     -999.0,9,-999.0000, -999.00
33RO20071215,        P18,       4,          1,         14,      11014,2,20071218,       0643,    22.4998,  -110.0002,       3053,   419.3,   8.2633,  34.5033,2,  34.5041,2,      5.1,2,     6.0,2,   56.20,2,   32.90,2,    0.02,2,    2.84,2,   0.142,2,   0.079,2,   0.0598,2,  2298.6,2,  2318.4,2,   -999.0,9,  -999.00,   7.3504,2,    25.00,-999.000,9,-999.0000,9, -999.00,9, -999.00,9,  -999.0,9,-999.000,9,-999.000,-999.000,9,-999.000,9, -999.00,9, -999.00,9, -999.00,9, -999.00,9, -999.00,9,-999.000,-999.0000,9,-999.0000,9,-999.0000,9,-999.0000,9,-999.0000,9,-999.0000,9,-999.0000,9,-999.0000,9,-999.0000,9,   8.2197,     -999.0,9,     -999.0,9,     -999.0,9,     -999.0,9,     -999.0,9,     -999.0,9,     -999.0,9,-999.0000, -999.00
33RO20071215,        P18,       4,          1,         13,      11013,2,20071218,       0643,    22.4998,  -110.0002,       3053,   493.9,   7.4201,  34.4888,2,  34.4879,2,      4.5,2,     5.0,2,   65.10,2,   35.50,2,    0.02,2,    2.95,2,   0.068,2,   0.038,2,   0.0553,2,  2310.5,6,  2326.6,2,   -999.0,9,  -999.00,   7.3398,2,    25.00,-999.000,9,-999.0000,9, -999.00,9, -999.00,9,  -999.0,9,-999.000,9,-999.000,-999.000,9,-999.000,9, -999.00,9, -999.00,9, -999.00,9, -999.00,9, -999.00,9,-999.000,-999.0000,9,-999.0000,9,-999.0000,9,-999.0000,9,-999.0000,9,-999.0000,9,-999.0000,9,-999.0000,9,-999.0000,9,   7.3717,     -999.0,9,     -999.0,9,     -999.0,9,     -999.0,9,     -999.0,9,     -999.0,9,     -999.0,9,-999.0000, -999.00
33RO20071215,        P18,       4,          1,         12,      11012,2,20071218,       0643,    22.4998,  -110.0002,       3053,   574.6,   6.6877,  34.4715,2,  34.4705,2,      5.6,2,     5.5,2,   72.70,2,   38.00,2,    0.02,2,    3.02,2,   0.034,2,   0.019,2,   0.0412,2,  2319.5,2,  2334.6,2,   -999.0,9,  -999.00,   7.3267,2,    25.00,-999.000,9,-999.0000,9, -999.00,9, -999.00,9,  -999.0,9,-999.000,9,-999.000,-999.000,9,-999.000,9, -999.00,9, -999.00,9, -999.00,9, -999.00,9, -999.00,9,-999.000,-999.0000,9,-999.0000,9,-999.0000,9,-999.0000,9,-999.0000,9,-999.0000,9,-999.0000,9,-999.0000,9,-999.0000,9,   6.6342,     -999.0,9,     -999.0,9,     -999.0,9,     -999.0,9,     -999.0,9,     -999.0,9,     -999.0,9,-999.0000, -999.00
33RO20071215,        P18,       4,          1,         11,      11010,2,20071218,       0643,    22.4998,  -110.0002,       3053,   624.3,   6.3776,  34.4729,2,  34.4733,2,      5.4,2,     5.1,2, -999.00,5, -999.00,5, -999.00,5, -999.00,5,   0.029,2,   0.016,2,   0.0297,2,  2325.1,2,  2333.8,2,   -999.0,9,  -999.00,   7.3329,2,    25.00,-999.000,9,-999.0000,9, -999.00,9, -999.00,9,  -999.0,9,-999.000,9,-999.000,-999.000,9,-999.000,9, -999.00,9, -999.00,9, -999.00,9, -999.00,9, -999.00,9,-999.000,-999.0000,9,-999.0000,9,-999.0000,9,-999.0000,9,-999.0000,9,-999.0000,9,-999.0000,9,-999.0000,9,-999.0000,9,   6.3207,     -999.0,9,     -999.0,9,     -999.0,9,     -999.0,9,     -999.0,9,     -999.0,9,     -999.0,9,-999.0000, -999.00
33RO20071215,        P18,       4,          1,         10,      11011,2,20071218,       0643,    22.4998,  -110.0002,       3053,   789.5,   5.3343,  34.4899,2,  34.4900,2,      8.1,2,     7.9,2,   91.80,2,   42.20,2,    0.02,2,    3.14,2,   0.010,2,   0.006,2,   0.0695,2,  2341.3,2,  2349.8,2,   -999.0,9,  -999.00,   7.3469,2,    25.00,-999.000,9,-999.0000,9, -999.00,9, -999.00,9,  -999.0,9,-999.000,9,-999.000,-999.000,9,-999.000,9, -999.00,9, -999.00,9, -999.00,9, -999.00,9, -999.00,9,-999.000,-999.0000,9,-999.0000,9,-999.0000,9,-999.0000,9,-999.0000,9,-999.0000,9,-999.0000,9,-999.0000,9,-999.0000,9,   5.2677,     -999.0,9,     -999.0,9,     -999.0,9,     -999.0,9,     -999.0,9,     -999.0,9,     -999.0,9,-999.0000, -999.00
33RO20071215,        P18,       4,          1,          9,      11009,2,20071218,       0643,    22.4998,  -110.0002,       3053,   938.7,   4.7261,  34.5235,2,  34.5232,2,     10.1,2,    10.6,2,  104.00,2,   43.40,2,    0.02,2,    3.21,2,   0.012,2,   0.005,2,   0.0183,2,  2355.8,2,  2363.0,2,   -999.0,9,  -999.00,   7.3284,2,    25.00,-999.000,9,-999.0000,9, -999.00,9, -999.00,9,  -999.0,9,-999.000,9,-999.000,-999.000,9,-999.000,9, -999.00,9, -999.00,9, -999.00,9, -999.00,9, -999.00,9,-999.000,-999.0000,9,-999.0000,9,-999.0000,9,-999.0000,9,-999.0000,9,-999.0000,9,-999.0000,9,-999.0000,9,-999.0000,9,   4.6502,     -999.0,9,     -999.0,9,     -999.0,9,     -999.0,9,     -999.0,9,     -999.0,9,     -999.0,9,-999.0000, -999.00
33RO20071215,        P18,       4,          1,          8,      11008,2,20071218,       0643,    22.4998,  -110.0002,       3053,  1089.4,   4.2525,  34.5449,2,  34.5454,2,     15.4,2,    15.4,2,  112.90,2,   44.00,2,    0.02,2,    3.22,2,   0.011,2,   0.002,2,   0.0000,2,  2362.5,2,  2373.5,2,   -999.0,9,  -999.00,   7.3356,2,    25.00,-999.000,9,-999.0000,9, -999.00,9, -999.00,9,  -999.0,9,-999.000,9,-999.000,-999.000,9,-999.000,9, -999.00,9, -999.00,9, -999.00,9, -999.00,9, -999.00,9,-999.000,-999.0000,9,-999.0000,9,-999.0000,9,-999.0000,9,-999.0000,9,-999.0000,9,-999.0000,9,-999.0000,9,-999.0000,9,   4.1671,     -999.0,9,     -999.0,9,     -999.0,9,     -999.0,9,     -999.0,9,     -999.0,9,     -999.0,9,-999.0000, -999.00
33RO20071215,        P18,       4,          1,          7,      11007,2,20071218,       0643,    22.4998,  -110.0002,       3053,  1239.8,   3.7097,  34.5660,2,  34.5672,2,     26.6,2,    28.0,2,  123.70,2,   43.90,2,    0.02,2,    3.14,2,   0.014,2,   0.004,2,   0.0000,2,  2368.8,2,  2387.1,2,   -999.0,9,  -999.00,   7.3648,2,    25.00,-999.000,9,-999.0000,9, -999.00,9, -999.00,9,  -999.0,9,-999.000,9,-999.000,-999.000,9,-999.000,9, -999.00,9, -999.00,9, -999.00,9, -999.00,9, -999.00,9,-999.000,-999.0000,9,-999.0000,9,-999.0000,9,-999.0000,9,-999.0000,9,-999.0000,9,-999.0000,9,-999.0000,9,-999.0000,9,   3.6163,     -999.0,9,     -999.0,9,     -999.0,9,     -999.0,9,     -999.0,9,     -999.0,9,     -999.0,9,-999.0000, -999.00
33RO20071215,        P18,       4,          1,          6,      11006,2,20071218,       0643,    22.4998,  -110.0002,       3053,  1409.7,   3.2853,  34.5848,2,  34.5859,2,     37.9,2,    37.8,2,  133.70,2,   43.20,2,    0.02,2,    3.07,2,   0.010,2,   0.003,2,   0.0000,2,  2371.7,2,  2401.5,2,   -999.0,9,  -999.00,   7.3627,2,    25.00,-999.000,9,-999.0000,9, -999.00,9, -999.00,9,  -999.0,9,-999.000,9,-999.000,-999.000,9,-999.000,9, -999.00,9, -999.00,9, -999.00,9, -999.00,9, -999.00,9,-999.000,-999.0000,9,-999.0000,9,-999.0000,9,-999.0000,9,-999.0000,9,-999.0000,9,-999.0000,9,-999.0000,9,-999.0000,9,   3.1818,     -999.0,9,     -999.0,9,     -999.0,9,     -999.0,9,     -999.0,9,     -999.0,9,     -999.0,9,-999.0000, -999.00
33RO20071215,        P18,       4,          1,          5,      11005,2,20071218,       0643,    22.4998,  -110.0002,       3053,  1700.4,   2.7096,  34.6152,2,  34.6166,2,     59.5,2,    59.0,2,  145.50,2,   42.00,2,    0.02,2,    2.91,2,   0.016,2,   0.003,2,   0.0614,2,  2372.9,2,  2413.0,2,   -999.0,9,  -999.00,   7.4262,2,    25.00,-999.000,9,-999.0000,9, -999.00,9, -999.00,9,  -999.0,9,-999.000,9,-999.000,-999.000,9,-999.000,9, -999.00,9, -999.00,9, -999.00,9, -999.00,9, -999.00,9,-999.000,-999.0000,9,-999.0000,9,-999.0000,9,-999.0000,9,-999.0000,9,-999.0000,9,-999.0000,9,-999.0000,9,-999.0000,9,   2.5884,     -999.0,9,     -999.0,9,     -999.0,9,     -999.0,9,     -999.0,9,     -999.0,9,     -999.0,9,-999.0000, -999.00
33RO20071215,        P18,       4,          1,          4,      11004,2,20071218,       0643,    22.4998,  -110.0002,       3053,  2100.5,   2.1224,  34.6445,2,  34.6453,2,     87.0,2,    87.4,2,  156.10,6,   40.20,6,    0.02,6,    2.71,2,   0.012,2,   0.006,2,   0.0420,2,  2367.9,2,  2425.4,2,   -999.0,9,  -999.00,   7.4609,2,    25.00,-999.000,9,-999.0000,9, -999.00,9, -999.00,9,  -999.0,9,-999.000,9,-999.000,   0.009,3,-999.000,9, -999.00,9, -999.00,9, -999.00,9, -999.00,9, -999.00,9,-999.000,-999.0000,9,-999.0000,9,-999.0000,9,-999.0000,9,-999.0000,9,-999.0000,9,-999.0000,9,-999.0000,9,-999.0000,9,   1.9754,     -999.0,9,     -999.0,9,     -999.0,9,     -999.0,9,     -999.0,9,     -999.0,9,     -999.0,9,-999.0000, -999.00
33RO20071215,        P18,       4,          1,          3,      11003,2,20071218,       0643,    22.4998,  -110.0002,       3053,  2500.5,   1.8762,  34.6587,2,  34.6602,2,    103.2,2,   102.3,2,  159.70,6,   39.30,6,    0.02,6,    2.61,2,   0.003,2,   0.003,2,   0.0488,2,  2362.3,2,  2431.5,4,   -999.0,9,  -999.00,   7.4857,2,    25.00,-999.000,9,-999.0000,9, -999.00,9, -999.00,9,  -999.0,9,-999.000,9,-999.000,   0.003,3,-999.000,9, -999.00,9, -999.00,9, -999.00,9, -999.00,9, -999.00,9,-999.000,-999.0000,9,-999.0000,9,-999.0000,9,-999.0000,9,-999.0000,9,-999.0000,9,-999.0000,9,-999.0000,9,-999.0000,9,   1.6982,     -999.0,9,     -999.0,9,     -999.0,9,     -999.0,9,     -999.0,9,     -999.0,9,     -999.0,9,-999.0000, -999.00
33RO20071215,        P18,       4,          1,          2,      11002,2,20071218,       0643,    22.4998,  -110.0002,       3053,  2901.2,   1.7138,  34.6688,2,  34.6703,2,    115.1,2,   115.0,2,  163.40,6,   38.70,6,    0.02,6,    2.53,2,   0.007,2,   0.007,2,   0.1380,2,  2357.2,2,  2435.1,2,   -999.0,9,  -999.00,   7.5227,2,    25.00,-999.000,9,-999.0000,9, -999.00,9, -999.00,9,  -999.0,9,-999.000,9,-999.000,   0.003,3,-999.000,9, -999.00,9, -999.00,9, -999.00,9, -999.00,9, -999.00,9,-999.000,-999.0000,9,-999.0000,9,-999.0000,9,-999.0000,9,-999.0000,9,-999.0000,9,-999.0000,9,-999.0000,9,-999.0000,9,   1.5017,     -999.0,9,     -999.0,9,     -999.0,9,     -999.0,9,     -999.0,9,     -999.0,9,     -999.0,9,-999.0000, -999.00
33RO20071215,        P18,       4,          1,          1,      11001,2,20071218,       0643,    22.4998,  -110.0002,       3053,  3009.5,   1.6976,  34.6699,2,  34.6709,2,    115.5,2,   114.7,2,  164.80,2,   38.60,2,    0.02,2,    2.52,2,   0.009,6,   0.010,6,   0.0329,6,  2359.4,6,  2436.7,2,   -999.0,9,  -999.00,   7.5321,2,    25.00,-999.000,9,-999.0000,9, -999.00,9, -999.00,9,  -999.0,9,-999.000,9,-999.000,   0.004,3,-999.000,9, -999.00,9, -999.00,9, -999.00,9, -999.00,9, -999.00,9,-999.000,-999.0000,9,-999.0000,9,-999.0000,9,-999.0000,9,-999.0000,9,-999.0000,9,-999.0000,9,-999.0000,9,-999.0000,9,   1.4755,     -999.0,9,     -999.0,9,     -999.0,9,     -999.0,9,     -999.0,9,     -999.0,9,     -999.0,9,-999.0000, -999.00