BOTTLE,20220818CCHSIOAMB
EXPOCODE,SECT_ID,STNNBR,CASTNO,SAMPNO,BTLNBR,BTLNBR_FLAG_W,DATE,TIME,LATITUDE,LONGITUDE,DEPTH,CTDPRS,CTDTMP,CTDSAL,CTDSAL_FLAG_W,SALNTY,SALNTY_FLAG_W,CTDOXY,CTDOXY_FLAG_W,OXYGEN,OXYGEN_FLAG_W,SILCAT,SILCAT_FLAG_W,NITRAT,NITRAT_FLAG_W,NITRIT,NITRIT_FLAG_W,PHSPHT,PHSPHT_FLAG_W,CFC-11,CFC-11_FLAG_W,CFC-12,CFC-12_FLAG_W,SF6,SF6_FLAG_W,TCARBN,TCARBN_FLAG_W,ALKALI,ALKALI_FLAG_W,FCO2,FCO2_FLAG_W,FCO2TMP,PH_SWS,PH_SWS_FLAG_W,PH_TMP,TRITUM,TRITUM_FLAG_W,HELIUM,HELIUM_FLAG_W,DELHE3,DELHE3_FLAG_W,DELC13,DELC13_FLAG_W,DELC14,DELC14_FLAG_W,NEON,NEON_FLAG_W,NEONER,CCL4,CCL4_FLAG_W,POC,POC_FLAG_W,DOC,DOC_FLAG_W,TDN,TDN_FLAG_W,DON,DON_FLAG_W,CHLORA,CHLORA_FLAG_W,ARGON,ARGON_FLAG_W,TRITER,CDOM325,CDOM325_FLAG_W,CDOM340,CDOM340_FLAG_W,CDOM380,CDOM380_FLAG_W,CDOM412,CDOM412_FLAG_W,CDOM443,CDOM443_FLAG_W,CDOM490,CDOM490_FLAG_W,CDOM555,CDOM555_FLAG_W,CDOMSL,CDOMSL_FLAG_W,CDOMSN,CDOMSN_FLAG_W,THETA,D18O_NO3,D18O_NO3_FLAG_W,CDOM2C,CDOM2C_FLAG_W,CDOM3C,CDOM3C_FLAG_W,LAB_DEN,LAB_DEN_FLAG_W,DELSI30,DELSI30_FLAG_W,N2,N2_FLAG_W,D15N_NO3,D15N_NO3_FLAG_W,HELIER,DELHER
,,,,,,,,,,,METERS,DBAR,ITS-90,PSS-78,,PSS-78,,UMOL/KG,,UMOL/KG,,UMOL/KG,,UMOL/KG,,UMOL/KG,,UMOL/KG,,PMOL/KG,,PMOL/KG,,FMOL/KG,,UMOL/KG,,UMOL/KG,,UATM,,DEG C,,,DEG C,TU,,NMOL/KG,,PERCNT,,/MILLE,,/MILLE,,NMOL/KG,,NMOL/KG,PMOL/KG,,UG/KG,,UMOL/KG,,UMOL/KG,,UMOL/KG,,UG/KG,,UMOL/KG,,TU,1/M,,1/M,,1/M,,1/M,,1/M,,1/M,,1/M,,1/NM,,1/NM,,DEG C,/MILLE,,,,,,,,/MILLE,,UMOL/KG,,/MILLE,,NMOL/KG,PERCNT
33RO20071215,        P18,      46,          1,         11,      12003,2,20071230,       1713,    -0.6677,  -110.0008,       3875,  1599.9,   2.8798,  34.6135,2,  34.6147,2,     55.7,3,    94.6,2,  126.50,2,   40.50,2,    0.00,2,    2.85,2,-999.000,9,-999.000,9,-999.0000,9,  -999.0,9,  2405.9,4,   -999.0,9,  -999.00,   7.4896,2,    25.00,-999.000,9,-999.0000,9, -999.00,9, -999.00,9,  -999.0,9,-999.000,9,-999.000,-999.000,9,-999.000,9, -999.00,9, -999.00,9, -999.00,9, -999.00,9, -999.00,9,-999.000,   0.1683,2,   0.1189,2,   0.0662,2,   0.0482,2,   0.0300,2,   0.0108,2,   0.0028,2,   0.0151,2,   0.0151,2,   2.7649,     -999.0,9,     -999.0,9,     -999.0,9,     -999.0,9,     -999.0,9,     -999.0,9,     -999.0,9,-999.0000, -999.00
33RO20071215,        P18,      46,          1,         10,      12032,2,20071230,       1713,    -0.6677,  -110.0008,       3875,  1800.0,   2.5129,  34.6318,2,  34.6324,2,     86.7,3,    99.1,2,  137.00,2,   40.10,2,    0.00,2,    2.81,2,-999.000,9,-999.000,9,-999.0000,9,  -999.0,9,  2417.0,4,   -999.0,9,  -999.00,   7.4810,2,    25.00,-999.000,9,-999.0000,9, -999.00,9, -999.00,9,  -999.0,9,-999.000,9,-999.000,-999.000,9,-999.000,9, -999.00,9, -999.00,9, -999.00,9, -999.00,9, -999.00,9,-999.000,   0.1666,2,   0.1182,2,   0.0657,2,   0.0470,2,   0.0294,2,   0.0112,2,   0.0032,2,   0.0151,2,   0.0152,2,   2.3858,     -999.0,9,     -999.0,9,     -999.0,9,     -999.0,9,     -999.0,9,     -999.0,9,     -999.0,9,-999.0000, -999.00
33RO20071215,        P18,      46,          1,          9,      12002,2,20071230,       1713,    -0.6677,  -110.0008,       3875,  2001.5,   2.2974,  34.6445,2,  34.6450,2,    102.5,3,   102.9,2,  143.70,2,   39.90,2,    0.00,2,    2.79,2,-999.000,9,-999.000,9,-999.0000,9,  -999.0,9,  2422.7,4,   -999.0,9,  -999.00,   7.4967,2,    25.00,-999.000,9,-999.0000,9, -999.00,9, -999.00,9,  -999.0,9,-999.000,9,-999.000,-999.000,9,-999.000,9, -999.00,9, -999.00,9, -999.00,9, -999.00,9, -999.00,9,-999.000,   0.1858,2,   0.1336,2,   0.0752,2,   0.0541,2,   0.0346,2,   0.0149,2,   0.0053,2,   0.0146,2,   0.0147,2,   2.1563,     -999.0,9,     -999.0,9,     -999.0,9,     -999.0,9,     -999.0,9,     -999.0,9,     -999.0,9,-999.0000, -999.00
33RO20071215,        P18,      46,          1,          8,      12021,2,20071230,       1713,    -0.6677,  -110.0008,       3875,  2200.3,   2.0889,  34.6538,2,  34.6557,2,    105.8,3,   111.3,2,  146.80,2,   39.30,2,    0.00,2,    2.73,2,-999.000,9,-999.000,9,-999.0000,9,  -999.0,9,  2428.5,2,   -999.0,9,  -999.00,   7.5211,2,    25.00,-999.000,9,-999.0000,9, -999.00,9, -999.00,9,  -999.0,9,-999.000,9,-999.000,-999.000,9,-999.000,9, -999.00,9, -999.00,9, -999.00,9, -999.00,9, -999.00,9,-999.000,   0.1873,2,   0.1335,2,   0.0711,2,   0.0484,2,   0.0292,2,   0.0111,2,   0.0026,2,   0.0160,2,   0.0162,2,   1.9338,     -999.0,9,     -999.0,9,     -999.0,9,     -999.0,9,     -999.0,9,     -999.0,9,     -999.0,9,-999.0000, -999.00
33RO20071215,        P18,      46,          1,          7,      12001,2,20071230,       1713,    -0.6677,  -110.0008,       3875,  2400.9,   1.9690,  34.6601,2,  34.6604,2,    117.3,2,   117.2,2,  148.30,2,   38.90,2,    0.00,2,    2.69,2,-999.000,9,-999.000,9,-999.0000,9,  -999.0,9,  2418.4,2,   -999.0,9,  -999.00,   7.5292,2,    25.00,-999.000,9,-999.0000,9, -999.00,9, -999.00,9,  -999.0,9,-999.000,9,-999.000,-999.000,9,-999.000,9, -999.00,9, -999.00,9, -999.00,9, -999.00,9, -999.00,9,-999.000,   0.2084,2,   0.1514,2,   0.0803,2,   0.0538,2,   0.0330,2,   0.0140,2,   0.0042,2,   0.0158,2,   0.0161,2,   1.7982,     -999.0,9,     -999.0,9,     -999.0,9,     -999.0,9,     -999.0,9,     -999.0,9,     -999.0,9,-999.0000, -999.00
33RO20071215,        P18,      46,          1,          6,      12033,2,20071230,       1713,    -0.6677,  -110.0008,       3875,  2600.9,   1.8702,  34.6664,2,  34.6675,2,    122.3,2,   122.5,2,  149.80,2,   38.60,2,    0.00,2,    2.66,2,-999.000,9,-999.000,9,-999.0000,9,  -999.0,9,  2420.6,2,   -999.0,9,  -999.00,   7.5388,2,    25.00,-999.000,9,-999.0000,9, -999.00,9, -999.00,9,  -999.0,9,-999.000,9,-999.000,-999.000,9,-999.000,9, -999.00,9, -999.00,9, -999.00,9, -999.00,9, -999.00,9,-999.000,   0.1856,2,   0.1324,2,   0.0726,2,   0.0513,2,   0.0335,2,   0.0164,2,   0.0067,2,   0.0138,2,   0.0149,2,   1.6830,     -999.0,9,     -999.0,9,     -999.0,9,     -999.0,9,     -999.0,9,     -999.0,9,     -999.0,9,-999.0000, -999.00
33RO20071215,        P18,      46,          1,          5,      12008,2,20071230,       1713,    -0.6677,  -110.0008,       3875,  2800.6,   1.7993,  34.6713,2,  34.6737,2,    128.3,2,   128.0,2,  150.30,2,   38.20,2,    0.00,2,    2.63,2,-999.000,9,-999.000,9,-999.0000,9,  -999.0,9,  2421.7,2,   -999.0,9,  -999.00,   7.5460,2,    25.00,-999.000,9,-999.0000,9, -999.00,9, -999.00,9,  -999.0,9,-999.000,9,-999.000,-999.000,9,-999.000,9, -999.00,9, -999.00,9, -999.00,9, -999.00,9, -999.00,9,-999.000,-999.0000,5,-999.0000,5,-999.0000,5,-999.0000,5,-999.0000,5,-999.0000,5,-999.0000,5,-999.0000,5,-999.0000,5,   1.5949,     -999.0,9,     -999.0,9,     -999.0,9,     -999.0,9,     -999.0,9,     -999.0,9,     -999.0,9,-999.0000, -999.00
33RO20071215,        P18,      46,          1,          4,      12009,2,20071230,       1713,    -0.6677,  -110.0008,       3875,  3000.6,   1.6949,  34.6764,2,  34.6763,2,    134.1,2,   134.0,2,  150.60,6,   37.70,6,    0.00,6,    2.59,2,-999.000,9,-999.000,9,-999.0000,9,  -999.0,9,  2432.9,2,   -999.0,9,  -999.00,   7.5574,2,    25.00,-999.000,9,-999.0000,9, -999.00,9, -999.00,9,  -999.0,9,-999.000,9,-999.000,-999.000,9,-999.000,9, -999.00,9, -999.00,9, -999.00,9, -999.00,9, -999.00,9,-999.000,   0.1428,2,   0.0967,2,   0.0489,2,   0.0326,2,   0.0191,2,   0.0062,2,   0.0009,2,   0.0164,2,   0.0180,2,   1.4737,     -999.0,9,     -999.0,9,     -999.0,9,     -999.0,9,     -999.0,9,     -999.0,9,     -999.0,9,-999.0000, -999.00
33RO20071215,        P18,      46,          1,          3,      12006,2,20071230,       1713,    -0.6677,  -110.0008,       3875,  3249.5,   1.6098,  34.6817,2,  34.6850,2,    140.6,2,   140.6,2,  151.20,6,   37.30,6,    0.00,6,    2.55,2,-999.000,9,-999.000,9,-999.0000,9,  -999.0,9,  2433.8,2,   -999.0,9,  -999.00,   7.5684,2,    25.00,-999.000,9,-999.0000,9, -999.00,9, -999.00,9,  -999.0,9,-999.000,9,-999.000,-999.000,9,-999.000,9, -999.00,9, -999.00,9, -999.00,9, -999.00,9, -999.00,9,-999.000,   0.1471,2,   0.0988,2,   0.0486,2,   0.0328,2,   0.0203,2,   0.0091,2,   0.0035,2,   0.0156,2,   0.0181,2,   1.3662,     -999.0,9,     -999.0,9,     -999.0,9,     -999.0,9,     -999.0,9,     -999.0,9,     -999.0,9,-999.0000, -999.00
33RO20071215,        P18,      46,          1,          2,      12007,2,20071230,       1713,    -0.6677,  -110.0008,       3875,  3499.8,   1.5352,  34.6881,2,  34.6919,2,    146.7,2,   147.1,2,  152.80,6,   36.90,6,    0.00,6,    2.52,2,-999.000,9,-999.000,9,-999.0000,9,  -999.0,9,  2439.2,2,   -999.0,9,  -999.00,   7.5852,2,    25.00,-999.000,9,-999.0000,9, -999.00,9, -999.00,9,  -999.0,9,-999.000,9,-999.000,-999.000,9,-999.000,9, -999.00,9, -999.00,9, -999.00,9, -999.00,9, -999.00,9,-999.000,   0.1465,2,   0.0989,2,   0.0497,2,   0.0335,2,   0.0205,2,   0.0085,2,   0.0028,2,   0.0158,2,   0.0178,2,   1.2681,     -999.0,9,     -999.0,9,     -999.0,9,     -999.0,9,     -999.0,9,     -999.0,9,     -999.0,9,-999.0000, -999.00
33RO20071215,        P18,      46,          1,          1,      12035,2,20071230,       1713,    -0.6677,  -110.0008,       3875,  3871.1,   1.4697,  34.6940,2,  34.6938,2,    156.3,2,   156.5,2,  150.40,2,   36.40,2,    0.01,2,    2.46,2,-999.000,9,-999.000,9,-999.0000,9,  2329.4,6,  2442.0,4,   -999.0,9,  -999.00,   7.6014,2,    25.00,-999.000,9,-999.0000,9, -999.00,9, -999.00,9,  -999.0,9,-999.000,9,-999.000,-999.000,9,-999.000,9, -999.00,9, -999.00,9, -999.00,9, -999.00,9, -999.00,9,-999.000,   0.1951,2,   0.1402,2,   0.0740,2,   0.0490,2,   0.0310,2,   0.0147,2,   0.0054,2,   0.0151,2,   0.0161,2,   1.1655,     -999.0,9,     -999.0,9,     -999.0,9,     -999.0,9,     -999.0,9,     -999.0,9,     -999.0,9,-999.0000, -999.00