BOTTLE,20220818CCHSIOAMB
EXPOCODE,SECT_ID,STNNBR,CASTNO,SAMPNO,BTLNBR,BTLNBR_FLAG_W,DATE,TIME,LATITUDE,LONGITUDE,DEPTH,CTDPRS,CTDTMP,CTDSAL,CTDSAL_FLAG_W,SALNTY,SALNTY_FLAG_W,CTDOXY,CTDOXY_FLAG_W,OXYGEN,OXYGEN_FLAG_W,SILCAT,SILCAT_FLAG_W,NITRAT,NITRAT_FLAG_W,NITRIT,NITRIT_FLAG_W,PHSPHT,PHSPHT_FLAG_W,CFC-11,CFC-11_FLAG_W,CFC-12,CFC-12_FLAG_W,SF6,SF6_FLAG_W,TCARBN,TCARBN_FLAG_W,ALKALI,ALKALI_FLAG_W,FCO2,FCO2_FLAG_W,FCO2TMP,PH_SWS,PH_SWS_FLAG_W,PH_TMP,TRITUM,TRITUM_FLAG_W,HELIUM,HELIUM_FLAG_W,DELHE3,DELHE3_FLAG_W,DELC13,DELC13_FLAG_W,DELC14,DELC14_FLAG_W,NEON,NEON_FLAG_W,NEONER,CCL4,CCL4_FLAG_W,POC,POC_FLAG_W,DOC,DOC_FLAG_W,TDN,TDN_FLAG_W,DON,DON_FLAG_W,CHLORA,CHLORA_FLAG_W,ARGON,ARGON_FLAG_W,TRITER,CDOM325,CDOM325_FLAG_W,CDOM340,CDOM340_FLAG_W,CDOM380,CDOM380_FLAG_W,CDOM412,CDOM412_FLAG_W,CDOM443,CDOM443_FLAG_W,CDOM490,CDOM490_FLAG_W,CDOM555,CDOM555_FLAG_W,CDOMSL,CDOMSL_FLAG_W,CDOMSN,CDOMSN_FLAG_W,THETA,D18O_NO3,D18O_NO3_FLAG_W,CDOM2C,CDOM2C_FLAG_W,CDOM3C,CDOM3C_FLAG_W,LAB_DEN,LAB_DEN_FLAG_W,DELSI30,DELSI30_FLAG_W,N2,N2_FLAG_W,D15N_NO3,D15N_NO3_FLAG_W,HELIER,DELHER
,,,,,,,,,,,METERS,DBAR,ITS-90,PSS-78,,PSS-78,,UMOL/KG,,UMOL/KG,,UMOL/KG,,UMOL/KG,,UMOL/KG,,UMOL/KG,,PMOL/KG,,PMOL/KG,,FMOL/KG,,UMOL/KG,,UMOL/KG,,UATM,,DEG C,,,DEG C,TU,,NMOL/KG,,PERCNT,,/MILLE,,/MILLE,,NMOL/KG,,NMOL/KG,PMOL/KG,,UG/KG,,UMOL/KG,,UMOL/KG,,UMOL/KG,,UG/KG,,UMOL/KG,,TU,1/M,,1/M,,1/M,,1/M,,1/M,,1/M,,1/M,,1/NM,,1/NM,,DEG C,/MILLE,,,,,,,,/MILLE,,UMOL/KG,,/MILLE,,NMOL/KG,PERCNT
33RO20071215,        P18,      84,          1,         11,      12003,2,20080112,       1106,   -19.9153,  -103.0010,       4091,  1931.5,   2.3476,  34.6268,2,  34.6287,2,    126.6,2,   128.3,2,  118.00,2,   38.00,2,    0.00,2,    2.63,2,-999.000,9,-999.000,9,-999.0000,9,  2312.9,2,  2388.9,2,   1318.5,2,    20.00,   7.5346,2,    25.00,-999.000,9,-999.0000,9, -999.00,9, -999.00,9,  -999.0,9,-999.000,9,-999.000,-999.000,9,-999.000,9, -999.00,9, -999.00,9, -999.00,9, -999.00,9, -999.00,9,-999.000,-999.0000,9,-999.0000,9,-999.0000,9,-999.0000,9,-999.0000,9,-999.0000,9,-999.0000,9,-999.0000,9,-999.0000,9,   2.2118,     -999.0,9,     -999.0,9,     -999.0,9,     -999.0,9,     -999.0,9,     -999.0,9,     -999.0,9,-999.0000, -999.00
33RO20071215,        P18,      84,          1,         10,      12032,2,20080112,       1106,   -19.9153,  -103.0010,       4091,  2131.4,   2.0833,  34.6447,2,  34.6458,2,    147.5,2,   148.0,2,  117.50,2,   36.50,2,    0.00,2,    2.50,2,-999.000,9,-999.000,9,-999.0000,9,  2302.0,2,  2389.3,2,   -999.0,9,  -999.00,   7.5598,2,    25.00,-999.000,9,-999.0000,9, -999.00,9, -999.00,9,  -999.0,9,-999.000,9,-999.000,-999.000,9,-999.000,9, -999.00,9, -999.00,9, -999.00,9, -999.00,9, -999.00,9,-999.000,-999.0000,9,-999.0000,9,-999.0000,9,-999.0000,9,-999.0000,9,-999.0000,9,-999.0000,9,-999.0000,9,-999.0000,9,   1.9343,     -999.0,9,     -999.0,9,     -999.0,9,     -999.0,9,     -999.0,9,     -999.0,9,     -999.0,9,-999.0000, -999.00
33RO20071215,        P18,      84,          1,          9,      12002,2,20080112,       1106,   -19.9153,  -103.0010,       4091,  2332.4,   1.9495,  34.6594,2,  34.6610,2,    151.8,2,   152.6,2,  120.90,2,   36.10,2,    0.00,2,    2.46,2,   0.000,2,   0.001,2,   0.0101,3,  2301.9,2,  2393.8,2,   -999.0,9,  -999.00,   7.5906,2,    25.00,-999.000,9,-999.0000,9, -999.00,9, -999.00,9,  -999.0,9,-999.000,9,-999.000,   0.005,3,-999.000,9, -999.00,9, -999.00,9, -999.00,9, -999.00,9, -999.00,9,-999.000,-999.0000,9,-999.0000,9,-999.0000,9,-999.0000,9,-999.0000,9,-999.0000,9,-999.0000,9,-999.0000,9,-999.0000,9,   1.7852,     -999.0,9,     -999.0,9,     -999.0,9,     -999.0,9,     -999.0,9,     -999.0,9,     -999.0,9,-999.0000, -999.00
33RO20071215,        P18,      84,          1,          8,      12021,2,20080112,       1106,   -19.9153,  -103.0010,       4091,  2533.2,   1.8605,  34.6706,2,  34.6718,2,    154.0,2,   154.8,2,  123.30,2,   35.90,2,    0.00,2,    2.45,2,-999.000,9,-999.000,9,-999.0000,9,  2304.1,2,  2397.3,2,   1175.9,2,    20.00,   7.5738,2,    25.00,-999.000,9,-999.0000,9, -999.00,9, -999.00,9,  -999.0,9,-999.000,9,-999.000,-999.000,9,-999.000,9, -999.00,9, -999.00,9, -999.00,9, -999.00,9, -999.00,9,-999.000,-999.0000,9,-999.0000,9,-999.0000,9,-999.0000,9,-999.0000,9,-999.0000,9,-999.0000,9,-999.0000,9,-999.0000,9,   1.6797,     -999.0,9,     -999.0,9,     -999.0,9,     -999.0,9,     -999.0,9,     -999.0,9,     -999.0,9,-999.0000, -999.00
33RO20071215,        P18,      84,          1,          7,      12001,2,20080112,       1106,   -19.9153,  -103.0010,       4091,  2731.2,   1.8171,  34.6771,2,  34.6784,2,    153.3,2,   153.7,2,  126.80,2,   36.00,2,    0.00,2,    2.45,2,-999.000,9,-999.000,9,-999.0000,9,  2307.1,2,  2400.3,2,   -999.0,9,  -999.00,   7.5865,2,    25.00,-999.000,9,-999.0000,9, -999.00,9, -999.00,9,  -999.0,9,-999.000,9,-999.000,-999.000,9,-999.000,9, -999.00,9, -999.00,9, -999.00,9, -999.00,9, -999.00,9,-999.000,-999.0000,9,-999.0000,9,-999.0000,9,-999.0000,9,-999.0000,9,-999.0000,9,-999.0000,9,-999.0000,9,-999.0000,9,   1.6189,     -999.0,9,     -999.0,9,     -999.0,9,     -999.0,9,     -999.0,9,     -999.0,9,     -999.0,9,-999.0000, -999.00
33RO20071215,        P18,      84,          1,          6,      12033,2,20080112,       1106,   -19.9153,  -103.0010,       4091,  2931.3,   1.7893,  34.6814,2,  34.6821,2,    152.4,2,   152.7,2,  129.50,2,   36.10,2,    0.00,2,    2.46,2,   0.001,2,   0.000,2,   0.0000,2,  2314.3,6,  2402.5,2,   -999.0,9,  -999.00,   7.5688,2,    25.00,-999.000,9,-999.0000,9, -999.00,9, -999.00,9,  -999.0,9,-999.000,9,-999.000,   0.003,3,-999.000,9, -999.00,9, -999.00,9, -999.00,9, -999.00,9, -999.00,9,-999.000,-999.0000,9,-999.0000,9,-999.0000,9,-999.0000,9,-999.0000,9,-999.0000,9,-999.0000,9,-999.0000,9,-999.0000,9,   1.5727,     -999.0,9,     -999.0,9,     -999.0,9,     -999.0,1,     -999.0,9,     -999.0,9,     -999.0,9,-999.0000, -999.00
33RO20071215,        P18,      84,          1,          5,      12008,2,20080112,       1106,   -19.9153,  -103.0010,       4091,  3169.0,   1.7763,  34.6852,2,  34.6865,2,    150.9,2,   151.6,2,  131.80,2,   36.20,2,    0.00,2,    2.47,2,-999.000,9,-999.000,9,-999.0000,9,  2316.7,2,  2406.0,2,   1171.7,2,    20.00,   7.5781,2,    25.00,-999.000,9,-999.0000,9, -999.00,9, -999.00,9,  -999.0,9,-999.000,9,-999.000,-999.000,9,-999.000,9, -999.00,9, -999.00,9, -999.00,9, -999.00,9, -999.00,9,-999.000,-999.0000,9,-999.0000,9,-999.0000,9,-999.0000,9,-999.0000,9,-999.0000,9,-999.0000,9,-999.0000,9,-999.0000,9,   1.5367,     -999.0,9,     -999.0,9,     -999.0,9,     -999.0,9,     -999.0,9,     -999.0,9,     -999.0,9,-999.0000, -999.00
33RO20071215,        P18,      84,          1,          4,      12009,2,20080112,       1106,   -19.9153,  -103.0010,       4091,  3416.0,   1.7810,  34.6876,2,  34.6887,2,    151.0,2,   150.8,2,  132.90,6,   36.10,6,    0.00,6,    2.47,2,-999.000,9,-999.000,9,-999.0000,9,  2318.8,2,  2407.8,2,   -999.0,9,  -999.00,   7.5758,2,    25.00,-999.000,9,-999.0000,9, -999.00,9, -999.00,9,  -999.0,9,-999.000,9,-999.000,-999.000,9,-999.000,9, -999.00,9, -999.00,9, -999.00,9, -999.00,9, -999.00,9,-999.000,-999.0000,9,-999.0000,9,-999.0000,9,-999.0000,9,-999.0000,9,-999.0000,9,-999.0000,9,-999.0000,9,-999.0000,9,   1.5164,     -999.0,9,     -999.0,9,     -999.0,9,     -999.0,1,     -999.0,9,     -999.0,9,     -999.0,9,-999.0000, -999.00
33RO20071215,        P18,      84,          1,          3,      12006,2,20080112,       1106,   -19.9153,  -103.0010,       4091,  3659.6,   1.7951,  34.6888,2,  34.6902,2,    150.9,2,   150.5,2,  133.50,6,   36.10,6,    0.00,6,    2.48,2,   0.000,2,   0.001,2,   0.0221,3,  2319.8,2,  2412.3,2,   -999.0,9,  -999.00,   7.5834,2,    25.00,-999.000,9,-999.0000,9, -999.00,9, -999.00,9,  -999.0,9,-999.000,9,-999.000,   0.004,3,-999.000,9, -999.00,9, -999.00,9, -999.00,9, -999.00,9, -999.00,9,-999.000,-999.0000,9,-999.0000,9,-999.0000,9,-999.0000,9,-999.0000,9,-999.0000,9,-999.0000,9,-999.0000,9,-999.0000,9,   1.5047,     -999.0,9,     -999.0,9,     -999.0,9,     -999.0,9,     -999.0,9,     -999.0,9,     -999.0,9,-999.0000, -999.00
33RO20071215,        P18,      84,          1,          2,      12007,2,20080112,       1106,   -19.9153,  -103.0010,       4091,  3904.2,   1.8143,  34.6891,2,  34.6935,2,    151.3,2,   150.1,2,  133.60,6,   36.00,6,    0.00,6,    2.48,2,-999.000,9,-999.000,9,-999.0000,9,  2321.1,2,  2406.8,4,   -999.0,9,  -999.00,   7.5860,2,    25.00,-999.000,9,-999.0000,9, -999.00,9, -999.00,9,  -999.0,9,-999.000,9,-999.000,-999.000,9,-999.000,9, -999.00,9, -999.00,9, -999.00,9, -999.00,9, -999.00,9,-999.000,-999.0000,9,-999.0000,9,-999.0000,9,-999.0000,9,-999.0000,9,-999.0000,9,-999.0000,9,-999.0000,9,-999.0000,9,   1.4970,     -999.0,9,     -999.0,9,     -999.0,9,     -999.0,1,     -999.0,9,     -999.0,9,     -999.0,9,-999.0000, -999.00
33RO20071215,        P18,      84,          1,          1,      12035,2,20080112,       1106,   -19.9153,  -103.0010,       4091,  4180.7,   1.8450,  34.6890,2,  34.6905,2,    150.7,2,   150.1,2,  133.90,2,   36.20,2,    0.01,2,    2.48,2,   0.001,6,   0.000,6,   0.0000,6,  2321.8,6,  2420.0,2,   1169.1,2,    20.00,   7.5699,2,    25.00,   0.010,2,-999.0000,9, -999.00,9, -999.00,9,  -999.0,9,-999.000,9,-999.000,   0.005,3,-999.000,9, -999.00,9, -999.00,9, -999.00,9, -999.00,9, -999.00,9,   0.005,-999.0000,9,-999.0000,9,-999.0000,9,-999.0000,9,-999.0000,9,-999.0000,9,-999.0000,9,-999.0000,9,-999.0000,9,   1.4960,     -999.0,9,     -999.0,9,     -999.0,9,     -999.0,1,     -999.0,9,     -999.0,9,     -999.0,9,-999.0000, -999.00