BOTTLE,20220818CCHSIOAMB
EXPOCODE,SECT_ID,STNNBR,CASTNO,SAMPNO,BTLNBR,BTLNBR_FLAG_W,DATE,TIME,LATITUDE,LONGITUDE,DEPTH,CTDPRS,CTDTMP,CTDSAL,CTDSAL_FLAG_W,SALNTY,SALNTY_FLAG_W,CTDOXY,CTDOXY_FLAG_W,OXYGEN,OXYGEN_FLAG_W,SILCAT,SILCAT_FLAG_W,NITRAT,NITRAT_FLAG_W,NITRIT,NITRIT_FLAG_W,PHSPHT,PHSPHT_FLAG_W,CFC-11,CFC-11_FLAG_W,CFC-12,CFC-12_FLAG_W,SF6,SF6_FLAG_W,TCARBN,TCARBN_FLAG_W,ALKALI,ALKALI_FLAG_W,FCO2,FCO2_FLAG_W,FCO2TMP,PH_SWS,PH_SWS_FLAG_W,PH_TMP,TRITUM,TRITUM_FLAG_W,HELIUM,HELIUM_FLAG_W,DELHE3,DELHE3_FLAG_W,DELC13,DELC13_FLAG_W,DELC14,DELC14_FLAG_W,NEON,NEON_FLAG_W,NEONER,CCL4,CCL4_FLAG_W,POC,POC_FLAG_W,DOC,DOC_FLAG_W,TDN,TDN_FLAG_W,DON,DON_FLAG_W,CHLORA,CHLORA_FLAG_W,ARGON,ARGON_FLAG_W,TRITER,CDOM325,CDOM325_FLAG_W,CDOM340,CDOM340_FLAG_W,CDOM380,CDOM380_FLAG_W,CDOM412,CDOM412_FLAG_W,CDOM443,CDOM443_FLAG_W,CDOM490,CDOM490_FLAG_W,CDOM555,CDOM555_FLAG_W,CDOMSL,CDOMSL_FLAG_W,CDOMSN,CDOMSN_FLAG_W,THETA,D18O_NO3,D18O_NO3_FLAG_W,CDOM2C,CDOM2C_FLAG_W,CDOM3C,CDOM3C_FLAG_W,LAB_DEN,LAB_DEN_FLAG_W,DELSI30,DELSI30_FLAG_W,N2,N2_FLAG_W,D15N_NO3,D15N_NO3_FLAG_W,HELIER,DELHER
,,,,,,,,,,,METERS,DBAR,ITS-90,PSS-78,,PSS-78,,UMOL/KG,,UMOL/KG,,UMOL/KG,,UMOL/KG,,UMOL/KG,,UMOL/KG,,PMOL/KG,,PMOL/KG,,FMOL/KG,,UMOL/KG,,UMOL/KG,,UATM,,DEG C,,,DEG C,TU,,NMOL/KG,,PERCNT,,/MILLE,,/MILLE,,NMOL/KG,,NMOL/KG,PMOL/KG,,UG/KG,,UMOL/KG,,UMOL/KG,,UMOL/KG,,UG/KG,,UMOL/KG,,TU,1/M,,1/M,,1/M,,1/M,,1/M,,1/M,,1/M,,1/NM,,1/NM,,DEG C,/MILLE,,,,,,,,/MILLE,,UMOL/KG,,/MILLE,,NMOL/KG,PERCNT
33RO20071215,        P18,     145,          1,         11,      12003,2,20080206,       0221,   -55.4998,  -103.0005,       4664,  2401.2,   1.8037,  34.7217,2,  34.7208,2,    184.4,2,   185.0,2,   98.90,2,   32.40,2,    0.00,2,    2.24,2,   0.069,2,   0.037,2,   0.0000,2,  2264.3,2,  2355.1,2,   1104.0,2,    20.00,   7.6032,2,    25.00,-999.000,9,-999.0000,9, -999.00,9, -999.00,9,  -999.0,9,-999.000,9,-999.000,   0.085,3,-999.000,9, -999.00,9, -999.00,9, -999.00,9, -999.00,9, -999.00,9,-999.000,-999.0000,9,-999.0000,9,-999.0000,9,-999.0000,9,-999.0000,9,-999.0000,9,-999.0000,9,-999.0000,9,-999.0000,9,   1.6355,     -999.0,9,     -999.0,9,     -999.0,9,     -999.0,9,     -999.0,9,     -999.0,9,     -999.0,9,-999.0000, -999.00
33RO20071215,        P18,     145,          1,         10,      12032,2,20080206,       0221,   -55.4998,  -103.0005,       4664,  2599.3,   1.6525,  34.7204,2,  34.7193,2,    186.2,2,   185.6,2,  105.40,2,   32.50,2,    0.00,2,    2.26,2,   0.117,3,   0.068,3,   0.0000,2,  2268.9,2,  2362.7,2,   -999.0,9,  -999.00,   7.5997,2,    25.00,-999.000,9,-999.0000,9, -999.00,9, -999.00,9,  -999.0,9,-999.000,9,-999.000,   0.119,3,-999.000,9, -999.00,9, -999.00,9, -999.00,9, -999.00,9, -999.00,9,-999.000,-999.0000,9,-999.0000,9,-999.0000,9,-999.0000,9,-999.0000,9,-999.0000,9,-999.0000,9,-999.0000,9,-999.0000,9,   1.4695,     -999.0,9,     -999.0,9,     -999.0,9,     -999.0,9,     -999.0,9,     -999.0,9,     -999.0,9,-999.0000, -999.00
33RO20071215,        P18,     145,          1,          9,      12002,2,20080206,       0221,   -55.4998,  -103.0005,       4664,  2800.0,   1.5550,  34.7226,2,  34.7219,2,    189.4,2,   189.3,2,  107.30,2,   32.40,2,    0.00,2,    2.25,2,   0.047,2,   0.024,2,   0.0000,2,  2266.5,2,  2359.9,2,   1093.5,2,    20.00,   7.6094,2,    25.00,-999.000,9,-999.0000,9, -999.00,9, -999.00,9,  -999.0,9,-999.000,9,-999.000,   0.064,3,-999.000,9, -999.00,9, -999.00,9, -999.00,9, -999.00,9, -999.00,9,-999.000,-999.0000,9,-999.0000,9,-999.0000,9,-999.0000,9,-999.0000,9,-999.0000,9,-999.0000,9,-999.0000,9,-999.0000,9,   1.3556,     -999.0,9,     -999.0,9,     -999.0,9,     -999.0,9,     -999.0,9,     -999.0,9,     -999.0,9,-999.0000, -999.00
33RO20071215,        P18,     145,          1,          8,      12021,2,20080206,       0221,   -55.4998,  -103.0005,       4664,  2999.9,   1.4728,  34.7250,2,  34.7252,2,    193.7,2,   193.4,2,  107.60,2,   32.20,2,    0.00,2,    2.23,2,   0.061,2,   0.034,2,   0.0000,2,  2264.6,6,  2364.2,2,   -999.0,9,  -999.00,   7.6108,2,    25.00,-999.000,9,-999.0000,9, -999.00,9, -999.00,9,  -999.0,9,-999.000,9,-999.000,   0.075,3,-999.000,9, -999.00,9, -999.00,9, -999.00,9, -999.00,9, -999.00,9,-999.000,-999.0000,9,-999.0000,9,-999.0000,9,-999.0000,9,-999.0000,9,-999.0000,9,-999.0000,9,-999.0000,9,-999.0000,9,   1.2564,     -999.0,9,     -999.0,9,     -999.0,9,     -999.0,9,     -999.0,9,     -999.0,9,     -999.0,9,-999.0000, -999.00
33RO20071215,        P18,     145,          1,          7,      12001,2,20080206,       0221,   -55.4998,  -103.0005,       4664,  3245.7,   1.3138,  34.7226,2,  34.7224,2,    196.7,2,   196.5,2,  112.50,2,   32.40,2,    0.00,2,    2.24,2,   0.062,2,   0.034,2,   0.0000,6,  2263.5,2,  2365.1,2,   -999.0,9,  -999.00,   7.6073,2,    25.00,-999.000,9,-999.0000,9, -999.00,9, -999.00,9,  -999.0,9,-999.000,9,-999.000,   0.081,3,-999.000,9, -999.00,9, -999.00,9, -999.00,9, -999.00,9, -999.00,9,-999.000,-999.0000,9,-999.0000,9,-999.0000,9,-999.0000,9,-999.0000,9,-999.0000,9,-999.0000,9,-999.0000,9,-999.0000,9,   1.0773,     -999.0,9,     -999.0,9,     -999.0,9,     -999.0,9,     -999.0,9,     -999.0,9,     -999.0,9,-999.0000, -999.00
33RO20071215,        P18,     145,          1,          6,      12033,2,20080206,       0221,   -55.4998,  -103.0005,       4664,  3499.8,   1.1108,  34.7178,2,  34.7180,2,    199.9,2,   201.7,2,  119.00,2,   32.50,2,    0.00,2,    2.25,2,   0.077,2,   0.042,2,   0.0000,2,  2264.4,2,  2365.9,2,   1084.8,6,    20.00,   7.6078,2,    25.00,-999.000,9,-999.0000,9, -999.00,9, -999.00,9,  -999.0,9,-999.000,9,-999.000,   0.100,3,-999.000,9, -999.00,9, -999.00,9, -999.00,9, -999.00,9, -999.00,9,-999.000,-999.0000,9,-999.0000,9,-999.0000,9,-999.0000,9,-999.0000,9,-999.0000,9,-999.0000,9,-999.0000,9,-999.0000,9,   0.8543,     -999.0,9,     -999.0,9,     -999.0,9,     -999.0,9,     -999.0,9,     -999.0,9,     -999.0,9,-999.0000, -999.00
33RO20071215,        P18,     145,          1,          5,      12008,2,20080206,       0221,   -55.4998,  -103.0005,       4664,  3749.9,   0.9392,  34.7137,2,  34.7134,2,    203.4,2,   205.1,2,  125.00,2,   32.80,2,    0.00,2,    2.26,2,   0.090,6,   0.049,6,   0.0000,6,  2266.1,2,  2361.2,2,   -999.0,9,  -999.00,   7.6077,2,    25.00,-999.000,9,-999.0000,9, -999.00,9, -999.00,9,  -999.0,9,-999.000,9,-999.000,   0.121,3,-999.000,9, -999.00,9, -999.00,9, -999.00,9, -999.00,9, -999.00,9,-999.000,-999.0000,9,-999.0000,9,-999.0000,9,-999.0000,9,-999.0000,9,-999.0000,9,-999.0000,9,-999.0000,9,-999.0000,9,   0.6619,     -999.0,9,     -999.0,9,     -999.0,9,     -999.0,9,     -999.0,9,     -999.0,9,     -999.0,9,-999.0000, -999.00
33RO20071215,        P18,     145,          1,          4,      12009,2,20080206,       0221,   -55.4998,  -103.0005,       4664,  3999.0,   0.7734,  34.7100,2,  34.7100,2,    206.9,2,   207.4,2,  130.30,6,   32.80,6,    0.00,6,    2.27,2,   0.114,2,   0.063,2,   0.0000,2,  2266.3,2,  2364.4,2,   1073.1,2,    20.00,   7.6053,2,    25.00,-999.000,9,-999.0000,9, -999.00,9, -999.00,9,  -999.0,9,-999.000,9,-999.000,   0.138,3,-999.000,9, -999.00,9, -999.00,9, -999.00,9, -999.00,9, -999.00,9,-999.000,-999.0000,9,-999.0000,9,-999.0000,9,-999.0000,9,-999.0000,9,-999.0000,9,-999.0000,9,-999.0000,9,-999.0000,9,   0.4750,     -999.0,9,     -999.0,9,     -999.0,9,     -999.0,9,     -999.0,9,     -999.0,9,     -999.0,9,-999.0000, -999.00
33RO20071215,        P18,     145,          1,          3,      12006,2,20080206,       0221,   -55.4998,  -103.0005,       4664,  4249.4,   0.6973,  34.7082,2,  34.7076,2,    209.5,2,   209.3,2,  132.40,6,   32.90,6,    0.00,6,    2.27,2,   0.140,6,   0.076,6,   0.0000,6,  2266.0,2,  2343.3,4,   -999.0,9,  -999.00,   7.6078,2,    25.00,-999.000,9,-999.0000,9, -999.00,9, -999.00,9,  -999.0,9,-999.000,9,-999.000,   0.168,3,-999.000,9, -999.00,9, -999.00,9, -999.00,9, -999.00,9, -999.00,9,-999.000,-999.0000,9,-999.0000,9,-999.0000,9,-999.0000,9,-999.0000,9,-999.0000,9,-999.0000,9,-999.0000,9,-999.0000,9,   0.3746,     -999.0,9,     -999.0,9,     -999.0,9,     -999.0,9,     -999.0,9,     -999.0,9,     -999.0,9,-999.0000, -999.00
33RO20071215,        P18,     145,          1,          2,      12007,2,20080206,       0221,   -55.4998,  -103.0005,       4664,  4499.7,   0.6819,  34.7074,2,  34.7081,2,    210.2,2,   210.0,2,  133.80,6,   32.90,6,    0.00,6,    2.27,2,   0.151,2,   0.082,2,   0.0000,2,  2265.5,2,  2367.1,2,   -999.0,9,  -999.00,   7.6052,2,    25.00,-999.000,9,-999.0000,9, -999.00,9, -999.00,9,  -999.0,9,-999.000,9,-999.000,   0.174,3,-999.000,9, -999.00,9, -999.00,9, -999.00,9, -999.00,9, -999.00,9,-999.000,-999.0000,9,-999.0000,9,-999.0000,9,-999.0000,9,-999.0000,9,-999.0000,9,-999.0000,9,-999.0000,9,-999.0000,9,   0.3323,     -999.0,9,     -999.0,9,     -999.0,9,     -999.0,9,     -999.0,9,     -999.0,9,     -999.0,9,-999.0000, -999.00
33RO20071215,        P18,     145,          1,          1,      12035,2,20080206,       0221,   -55.4998,  -103.0005,       4664,  4725.8,   0.6747,  34.7065,2,  34.7066,2,    211.5,2,   211.0,2,  134.40,2,   32.90,2,    0.01,2,    2.28,2,   0.166,6,   0.090,6,   0.0000,6,  2265.8,6,  2366.9,2,   1076.7,2,    20.00,   7.5942,2,    25.00,-999.000,9,-999.0000,9, -999.00,9, -999.00,9,  -999.0,9,-999.000,9,-999.000,   0.186,3,-999.000,9, -999.00,9, -999.00,9, -999.00,9, -999.00,9, -999.00,9,-999.000,-999.0000,9,-999.0000,9,-999.0000,9,-999.0000,9,-999.0000,9,-999.0000,9,-999.0000,9,-999.0000,9,-999.0000,9,   0.3000,     -999.0,9,     -999.0,9,     -999.0,9,     -999.0,9,     -999.0,9,     -999.0,9,     -999.0,9,-999.0000, -999.00