BOTTLE,20220818CCHSIOAMB
EXPOCODE,SECT_ID,STNNBR,CASTNO,SAMPNO,BTLNBR,BTLNBR_FLAG_W,DATE,TIME,LATITUDE,LONGITUDE,DEPTH,CTDPRS,CTDTMP,CTDSAL,CTDSAL_FLAG_W,SALNTY,SALNTY_FLAG_W,CTDOXY,CTDOXY_FLAG_W,OXYGEN,OXYGEN_FLAG_W,SILCAT,SILCAT_FLAG_W,NITRAT,NITRAT_FLAG_W,NITRIT,NITRIT_FLAG_W,PHSPHT,PHSPHT_FLAG_W,CFC-11,CFC-11_FLAG_W,CFC-12,CFC-12_FLAG_W,SF6,SF6_FLAG_W,TCARBN,TCARBN_FLAG_W,ALKALI,ALKALI_FLAG_W,FCO2,FCO2_FLAG_W,FCO2TMP,PH_SWS,PH_SWS_FLAG_W,PH_TMP,TRITUM,TRITUM_FLAG_W,HELIUM,HELIUM_FLAG_W,DELHE3,DELHE3_FLAG_W,DELC13,DELC13_FLAG_W,DELC14,DELC14_FLAG_W,NEON,NEON_FLAG_W,NEONER,CCL4,CCL4_FLAG_W,POC,POC_FLAG_W,DOC,DOC_FLAG_W,TDN,TDN_FLAG_W,DON,DON_FLAG_W,CHLORA,CHLORA_FLAG_W,ARGON,ARGON_FLAG_W,TRITER,CDOM325,CDOM325_FLAG_W,CDOM340,CDOM340_FLAG_W,CDOM380,CDOM380_FLAG_W,CDOM412,CDOM412_FLAG_W,CDOM443,CDOM443_FLAG_W,CDOM490,CDOM490_FLAG_W,CDOM555,CDOM555_FLAG_W,CDOMSL,CDOMSL_FLAG_W,CDOMSN,CDOMSN_FLAG_W,THETA,D18O_NO3,D18O_NO3_FLAG_W,CDOM2C,CDOM2C_FLAG_W,CDOM3C,CDOM3C_FLAG_W,LAB_DEN,LAB_DEN_FLAG_W,DELSI30,DELSI30_FLAG_W,N2,N2_FLAG_W,D15N_NO3,D15N_NO3_FLAG_W,HELIER,DELHER
,,,,,,,,,,,METERS,DBAR,ITS-90,PSS-78,,PSS-78,,UMOL/KG,,UMOL/KG,,UMOL/KG,,UMOL/KG,,UMOL/KG,,UMOL/KG,,PMOL/KG,,PMOL/KG,,FMOL/KG,,UMOL/KG,,UMOL/KG,,UATM,,DEG C,,,DEG C,TU,,NMOL/KG,,PERCNT,,/MILLE,,/MILLE,,NMOL/KG,,NMOL/KG,PMOL/KG,,UG/KG,,UMOL/KG,,UMOL/KG,,UMOL/KG,,UG/KG,,UMOL/KG,,TU,1/M,,1/M,,1/M,,1/M,,1/M,,1/M,,1/M,,1/NM,,1/NM,,DEG C,/MILLE,,,,,,,,/MILLE,,UMOL/KG,,/MILLE,,NMOL/KG,PERCNT
33RO20071215,        P18,      44,          1,         36,      12017,2,20071230,       0543,     0.0005,  -109.9775,       3812,     6.0,  23.1963,  33.9762,2,  33.9787,2,    211.2,2,   209.6,2,    3.70,2,    4.30,2,    0.09,2,    0.41,2,   1.930,2,   1.170,2,   0.9940,2,  1976.3,6,  2242.4,2,    354.6,6,    20.00,   7.9922,2,    25.00,   0.461,2,   1.7326,2,   -1.79,2,    1.12,2,  -999.0,1,   6.823,2,   0.023,-999.000,9,-999.000,9,   68.91,2,    8.47,2, -999.00,1, -999.00,9, -999.00,9,   0.007,-999.0000,9,-999.0000,9,-999.0000,9,-999.0000,9,-999.0000,9,-999.0000,9,-999.0000,9,-999.0000,9,-999.0000,9,  23.1951,     -999.0,9,     -999.0,9,     -999.0,9,     -999.0,1,     -999.0,9,     -999.0,9,     -999.0,9,   0.0049,    0.15
33RO20071215,        P18,      44,          1,         35,      12029,2,20071230,       0543,     0.0005,  -109.9775,       3812,    12.8,  23.1416,  33.9877,2,  33.9877,2,    210.5,2,   208.7,2,    3.80,2,    4.40,2,    0.09,2,    0.42,2,   1.891,6,   1.158,6,   1.0132,6,  1977.5,2,  2244.2,2,    355.6,2,    20.00,   7.9992,2,    25.00,-999.000,9,-999.0000,9, -999.00,9, -999.00,9,  -999.0,9,-999.000,9,-999.000,-999.000,9,-999.000,9, -999.00,9, -999.00,9, -999.00,1, -999.00,9, -999.00,9,-999.000,-999.0000,9,-999.0000,9,-999.0000,9,-999.0000,9,-999.0000,9,-999.0000,9,-999.0000,9,-999.0000,9,-999.0000,9,  23.1390,     -999.0,9,     -999.0,9,     -999.0,9,     -999.0,1,     -999.0,9,     -999.0,9,     -999.0,9,-999.0000, -999.00
33RO20071215,        P18,      44,          1,         34,      12049,2,20071230,       0543,     0.0005,  -109.9775,       3812,    26.2,  19.0543,  34.5863,2,  34.5768,2,    154.7,2,   153.8,2,   10.00,2,   14.10,2,    0.30,2,    1.03,2,   1.799,2,   1.050,2,   0.7537,2,  2088.1,2,  2282.2,2,    561.5,2,    20.00,   7.8436,2,    25.00,-999.000,9,-999.0000,9, -999.00,9, -999.00,9,  -999.0,9,-999.000,9,-999.000,-999.000,9,-999.000,9,   57.13,2,   17.55,2, -999.00,1, -999.00,9, -999.00,9,-999.000,-999.0000,9,-999.0000,9,-999.0000,9,-999.0000,9,-999.0000,9,-999.0000,9,-999.0000,9,-999.0000,9,-999.0000,9,  19.0497,     -999.0,9,     -999.0,9,     -999.0,9,     -999.0,1,     -999.0,9,     -999.0,9,     -999.0,9,-999.0000, -999.00
33RO20071215,        P18,      44,          1,         33,      12027,2,20071230,       0543,     0.0005,  -109.9775,       3812,    55.1,  13.9855,  34.9053,2,  34.9058,2,     94.0,2,    94.7,2,   17.90,2,   22.60,2,    0.06,2,    1.52,2,   1.600,2,   0.854,2,   0.4121,2,  2172.1,2,  2304.5,2,    855.0,2,    20.00,   7.6792,2,    25.00,   0.347,2,   1.7648,2,    3.93,2,    0.25,2,  -999.0,1,   7.288,2,   0.025,-999.000,9,-999.000,9, -999.00,9, -999.00,9, -999.00,1, -999.00,9, -999.00,9,   0.007,-999.0000,9,-999.0000,9,-999.0000,9,-999.0000,9,-999.0000,9,-999.0000,9,-999.0000,9,-999.0000,9,-999.0000,9,  13.9776,     -999.0,9,     -999.0,9,     -999.0,9,     -999.0,1,     -999.0,9,     -999.0,9,     -999.0,9,   0.0049,    0.15
33RO20071215,        P18,      44,          1,         32,      12023,2,20071230,       0543,     0.0005,  -109.9775,       3812,    68.2,  13.8907,  34.9048,2,  34.9050,2,    110.0,2,   108.5,2,   17.50,2,   21.10,2,    0.04,2,    1.44,2,   1.578,6,   0.878,6,   0.4252,6,  2163.2,2,  2303.6,2,    796.6,2,    20.00,   7.7127,2,    25.00,-999.000,9,-999.0000,9, -999.00,9, -999.00,9,  -999.0,9,-999.000,9,-999.000,-999.000,9,-999.000,9,   48.18,2,   23.18,2, -999.00,1, -999.00,9, -999.00,9,-999.000,-999.0000,9,-999.0000,9,-999.0000,9,-999.0000,9,-999.0000,9,-999.0000,9,-999.0000,9,-999.0000,9,-999.0000,9,  13.8809,     -999.0,9,     -999.0,9,     -999.0,9,     -999.0,1,     -999.0,9,     -999.0,9,     -999.0,9,-999.0000, -999.00
33RO20071215,        P18,      44,          1,         31,      12037,2,20071230,       0543,     0.0005,  -109.9775,       3812,    90.0,  13.8374,  34.9491,2,  34.9485,2,    121.4,2,   120.4,2,   16.00,2,   19.90,2,    0.03,2,    1.36,2,   1.555,2,   0.885,2,   0.4362,2,  2157.0,2,  2305.4,2,    746.4,2,    20.00,   7.7320,2,    25.00,   0.340,2,   1.7744,2,    3.52,2, -999.00,9,  -999.0,9,   7.316,2,   0.025,-999.000,9,-999.000,9, -999.00,9, -999.00,9, -999.00,1, -999.00,9, -999.00,9,   0.007,-999.0000,9,-999.0000,9,-999.0000,9,-999.0000,9,-999.0000,9,-999.0000,9,-999.0000,9,-999.0000,9,-999.0000,9,  13.8245,     -999.0,9,     -999.0,9,     -999.0,9,     -999.0,1,     -999.0,9,     -999.0,9,     -999.0,9,   0.0050,    0.15
33RO20071215,        P18,      44,          1,         30,      12036,2,20071230,       0543,     0.0005,  -109.9775,       3812,   108.0,  13.5742,  34.9277,2,  34.9291,2,    118.6,2,   117.9,2,   16.80,2,   20.50,2,    0.02,2,    1.41,2,   1.631,2,   0.880,2,   0.3604,2,  2159.5,2,  2306.9,2,    767.5,2,    20.00,   7.7249,2,    25.00,-999.000,9,-999.0000,9, -999.00,9,    0.48,2,  -999.0,1,-999.000,9,-999.000,-999.000,9,-999.000,9,   46.91,2,   22.73,2, -999.00,1, -999.00,9, -999.00,9,-999.000,-999.0000,9,-999.0000,9,-999.0000,9,-999.0000,9,-999.0000,9,-999.0000,9,-999.0000,9,-999.0000,9,-999.0000,9,  13.5590,     -999.0,9,     -999.0,9,     -999.0,9,     -999.0,1,     -999.0,9,     -999.0,9,     -999.0,9,-999.0000, -999.00
33RO20071215,        P18,      44,          1,         29,      12044,2,20071230,       0543,     0.0005,  -109.9775,       3812,   129.5,  13.2406,  34.9287,2,  34.9274,2,    111.5,2,   107.3,2,   17.50,2,   21.90,2,    0.01,2,    1.50,2,   1.419,2,   0.800,2,   0.4133,2,  2168.1,2,  2305.3,2,    821.4,2,    20.00,   7.7355,2,    25.00,   0.247,2,   1.7703,2,    3.61,2, -999.00,9,  -999.0,9,   7.424,2,   0.025,-999.000,9,-999.000,9, -999.00,9, -999.00,9, -999.00,1, -999.00,9, -999.00,9,   0.006,-999.0000,9,-999.0000,9,-999.0000,9,-999.0000,9,-999.0000,9,-999.0000,9,-999.0000,9,-999.0000,9,-999.0000,9,  13.2226,     -999.0,9,     -999.0,9,     -999.0,9,     -999.0,1,     -999.0,9,     -999.0,9,     -999.0,9,   0.0050,    0.15
33RO20071215,        P18,      44,          1,         28,      12057,2,20071230,       0543,     0.0005,  -109.9775,       3812,   158.2,  13.0361,  34.9113,2,  34.9101,2,    103.2,2,    99.8,2,   18.80,2,   23.20,2,    0.01,2,    1.59,2,   1.332,2,   0.745,2,   0.3106,2,  2176.8,6,  2307.6,2,    875.9,2,    20.00,   7.6828,2,    25.00,-999.000,9,-999.0000,9, -999.00,9,    0.19,2,  -999.0,1,-999.000,9,-999.000,-999.000,9,-999.000,9,   46.31,2,   25.71,2, -999.00,1, -999.00,9, -999.00,9,-999.000,-999.0000,9,-999.0000,9,-999.0000,9,-999.0000,9,-999.0000,9,-999.0000,9,-999.0000,9,-999.0000,9,-999.0000,9,  13.0143,     -999.0,9,     -999.0,9,     -999.0,9,     -999.0,9,     -999.0,9,     -999.0,9,     -999.0,9,-999.0000, -999.00
33RO20071215,        P18,      44,          1,         27,      12026,2,20071230,       0543,     0.0005,  -109.9775,       3812,   183.7,  12.6838,  34.8946,2,  34.8946,2,     88.0,2,    87.2,2,   20.20,2,   25.10,2,    0.01,2,    1.72,2,   1.205,2,   0.672,2,   0.2800,2,  2189.0,2,  2308.4,2,   -999.0,9,  -999.00,   7.6420,2,    25.00,   0.251,2,   1.7778,2,    4.22,2, -999.00,9,  -999.0,9,   7.377,2,   0.025,-999.000,9,-999.000,9, -999.00,9, -999.00,9, -999.00,1, -999.00,9, -999.00,9,   0.006,-999.0000,9,-999.0000,9,-999.0000,9,-999.0000,9,-999.0000,9,-999.0000,9,-999.0000,9,-999.0000,9,-999.0000,9,  12.6589,     -999.0,9,     -999.0,9,     -999.0,9,     -999.0,1,     -999.0,9,     -999.0,9,     -999.0,9,   0.0050,    0.15
33RO20071215,        P18,      44,          1,         26,      12030,2,20071230,       0543,     0.0005,  -109.9775,       3812,   215.4,  12.3265,  34.8813,2,  34.8814,2,     65.0,2,    65.1,2,   22.50,2,   27.90,2,    0.01,2,    1.90,2,   1.066,2,   0.576,2,   0.2146,2,  2208.1,2,  2306.0,2,   1089.1,2,    20.00,   7.5926,2,    25.00,   0.217,2,   1.7666,2,    4.59,2,    0.16,2,  -999.0,1,   7.388,2,   0.025,-999.000,9,-999.000,9,   45.96,2,   30.31,2, -999.00,1, -999.00,9, -999.00,9,   0.007,-999.0000,9,-999.0000,9,-999.0000,9,-999.0000,9,-999.0000,9,-999.0000,9,-999.0000,9,-999.0000,9,-999.0000,9,  12.2979,     -999.0,9,     -999.0,9,     -999.0,9,     -999.0,9,     -999.0,9,     -999.0,9,     -999.0,9,   0.0049,    0.15
33RO20071215,        P18,      44,          1,         25,      12024,2,20071230,       0543,     0.0005,  -109.9775,       3812,   267.6,  12.2551,  34.8752,2,  34.8766,2,     53.1,2,    53.0,2,   23.70,2,   29.30,2,    0.01,2,    2.00,2,   0.956,2,   0.529,2,   0.2175,2,  2218.7,2,  2306.3,2,   -999.0,9,  -999.00,   7.5792,2,    25.00,-999.000,9,-999.0000,9, -999.00,9,    0.15,2,  -999.0,1,-999.000,9,-999.000,-999.000,9,-999.000,9,   45.52,2,   31.34,2, -999.00,1, -999.00,9, -999.00,9,-999.000,-999.0000,9,-999.0000,9,-999.0000,9,-999.0000,9,-999.0000,9,-999.0000,9,-999.0000,9,-999.0000,9,-999.0000,9,  12.2196,     -999.0,9,     -999.0,9,     -999.0,9,     -999.0,1,     -999.0,9,     -999.0,9,     -999.0,9,-999.0000, -999.00
33RO20071215,        P18,      44,          1,         24,      12019,2,20071230,       0543,     0.0005,  -109.9775,       3812,   316.4,  12.1004,  34.8631,2,  34.8647,2,     35.9,2,    38.4,2,   25.20,2,   30.90,2,    0.01,2,    2.11,2,   0.883,2,   0.484,2,   0.1996,2,  2228.6,2,  2291.0,4,   1291.3,2,    20.00,   7.5265,2,    25.00,   0.199,2,   1.7770,2,    5.05,2,    0.05,3,  -999.0,1,   7.469,2,   0.025,-999.000,9,-999.000,9,   44.91,2,   32.00,2, -999.00,1, -999.00,9, -999.00,9,   0.006,-999.0000,9,-999.0000,9,-999.0000,9,-999.0000,9,-999.0000,9,-999.0000,9,-999.0000,9,-999.0000,9,-999.0000,9,  12.0587,     -999.0,9,     -999.0,9,     -999.0,9,     -999.0,1,     -999.0,9,     -999.0,9,     -999.0,9,   0.0050,    0.15
33RO20071215,        P18,      44,          1,         23,      12022,2,20071230,       0543,     0.0005,  -109.9775,       3812,   366.9,  10.6917,  34.7728,2,  34.7736,2,     15.4,2,    16.1,2,   31.90,2,   35.20,2,    0.01,2,    2.45,2,   0.470,2,   0.251,2,   0.0609,2,  2256.6,2,  -999.0,5,   -999.0,9,  -999.00,   7.4456,2,    25.00,-999.000,9,-999.0000,9, -999.00,9, -999.00,9,  -999.0,9,-999.000,9,-999.000,-999.000,9,-999.000,9,   44.65,2,   36.17,2, -999.00,1, -999.00,9, -999.00,9,-999.000,-999.0000,9,-999.0000,9,-999.0000,9,-999.0000,9,-999.0000,9,-999.0000,9,-999.0000,9,-999.0000,9,-999.0000,9,  10.6471,     -999.0,9,     -999.0,9,     -999.0,9,     -999.0,9,     -999.0,9,     -999.0,9,     -999.0,9,-999.0000, -999.00
33RO20071215,        P18,      44,          1,         22,      12015,2,20071230,       0543,     0.0005,  -109.9775,       3812,   432.9,   9.2236,  34.6877,2,  34.6877,2,     18.2,2,    18.5,2,   38.40,2,   38.10,2,    0.00,2,    2.62,2,   0.224,2,   0.122,2,   0.0000,2,  2268.6,6,  2301.2,2,   1723.2,2,    20.00,   7.4136,2,    25.00,   0.062,2,   1.8019,2,    6.23,2,   -0.06,2,  -999.0,1,   7.465,2,   0.025,-999.000,9,-999.000,9,   44.13,2,   39.67,2, -999.00,1, -999.00,9, -999.00,9,   0.006,-999.0000,9,-999.0000,9,-999.0000,9,-999.0000,9,-999.0000,9,-999.0000,9,-999.0000,9,-999.0000,9,-999.0000,9,   9.1754,     -999.0,9,     -999.0,9,     -999.0,9,     -999.0,9,     -999.0,9,     -999.0,9,     -999.0,9,   0.0050,    0.15
33RO20071215,        P18,      44,          1,         21,      12020,2,20071230,       0543,     0.0005,  -109.9775,       3812,   533.5,   8.3388,  34.6409,2,  34.6408,2,     33.3,2,    31.6,2,   41.80,2,   38.80,2,    0.00,2,    2.68,2,   0.141,2,   0.077,2,   0.0000,2,  2267.6,2,  2305.7,2,   -999.0,9,  -999.00,   7.4294,2,    25.00,   0.057,2,   1.8118,2,    6.99,2,   -0.46,4,  -999.0,1,   7.523,2,   0.026,-999.000,9,-999.000,9,   43.04,2,   40.44,2, -999.00,1, -999.00,9, -999.00,9,   0.006,-999.0000,9,-999.0000,9,-999.0000,9,-999.0000,9,-999.0000,9,-999.0000,9,-999.0000,9,-999.0000,9,-999.0000,9,   8.2826,     -999.0,9,     -999.0,9,     -999.0,9,     -999.0,9,     -999.0,9,     -999.0,9,     -999.0,9,   0.0051,    0.15
33RO20071215,        P18,      44,          1,         20,      12055,2,20071230,       0543,     0.0005,  -109.9775,       3812,   628.5,   7.1353,  34.5851,2,  34.5856,2,     51.6,2,    53.2,2,   49.50,2,   39.40,2,    0.00,2,    2.75,2,   0.072,2,   0.037,2,   0.0000,2,  2269.1,2,  2310.8,2,   1609.6,2,    20.00,   7.4448,2,    25.00,   0.011,2,   1.8227,2,    8.74,2,    0.14,2,  -999.0,1,   7.584,2,   0.026,-999.000,9,-999.000,9,   42.50,2,   40.67,2, -999.00,1, -999.00,9, -999.00,9,   0.006,-999.0000,9,-999.0000,9,-999.0000,9,-999.0000,9,-999.0000,9,-999.0000,9,-999.0000,9,-999.0000,9,-999.0000,9,   7.0743,     -999.0,9,     -999.0,9,     -999.0,9,     -999.0,1,     -999.0,9,     -999.0,9,     -999.0,9,   0.0051,    0.15
33RO20071215,        P18,      44,          1,         19,      12018,2,20071230,       0543,     0.0005,  -109.9775,       3812,   732.7,   6.3279,  34.5617,2,  34.5615,2,     62.6,2,    63.5,2,   57.30,2,   39.70,2,    0.00,2,    2.78,2,   0.042,2,   0.024,2,   0.0375,2,  2273.0,2,  2320.7,2,   -999.0,9,  -999.00,   7.4539,2,    25.00,   0.018,2,   1.8425,2,   10.68,2, -999.00,9,  -999.0,9,   7.651,2,   0.026,-999.000,9,-999.000,9,   41.28,2,   40.71,2, -999.00,1, -999.00,9, -999.00,9,   0.006,-999.0000,9,-999.0000,9,-999.0000,9,-999.0000,9,-999.0000,9,-999.0000,9,-999.0000,9,-999.0000,9,-999.0000,9,   6.2608,     -999.0,9,     -999.0,9,     -999.0,9,     -999.0,9,     -999.0,9,     -999.0,9,     -999.0,9,   0.0052,    0.15
33RO20071215,        P18,      44,          1,         18,      12025,2,20071230,       0543,     0.0005,  -109.9775,       3812,   832.7,   5.6361,  34.5520,2,  34.5529,2,     70.0,2,    69.9,2,   66.90,2,   39.90,2,    0.00,2,    2.82,2,   0.018,2,   0.011,2,   0.0000,2,  2281.5,2,  2330.1,2,   1564.9,2,    20.00,   7.4559,2,    25.00,   0.016,6,   1.8400,2,   12.79,2,    0.19,2,  -999.0,1,   7.775,2,   0.026,-999.000,9,-999.000,9,   40.42,2,   40.87,2, -999.00,1, -999.00,9, -999.00,9,   0.005,-999.0000,9,-999.0000,9,-999.0000,9,-999.0000,9,-999.0000,9,-999.0000,9,-999.0000,9,-999.0000,9,-999.0000,9,   5.5637,     -999.0,9,     -999.0,9,     -999.0,9,     -999.0,9,     -999.0,9,     -999.0,9,     -999.0,9,   0.0052,    0.15
33RO20071215,        P18,      44,          1,         17,      12016,2,20071230,       0543,     0.0005,  -109.9775,       3812,   932.4,   5.1190,  34.5527,2,  34.5539,2,     73.3,2,    73.0,2,   76.00,2,   40.20,2,    0.00,2,    2.84,2,   0.009,2,   0.006,2,   0.0000,2,  2290.9,2,  2342.6,2,   -999.0,9,  -999.00,   7.4584,2,    25.00,-999.000,9,   1.8538,2,   14.88,2, -999.00,9,  -999.0,9,   7.761,2,   0.026,-999.000,9,-999.000,9,   39.59,2,   41.92,2, -999.00,1, -999.00,9, -999.00,9,-999.000,-999.0000,9,-999.0000,9,-999.0000,9,-999.0000,9,-999.0000,9,-999.0000,9,-999.0000,9,-999.0000,9,-999.0000,9,   5.0408,     -999.0,9,     -999.0,9,     -999.0,9,     -999.0,9,     -999.0,9,     -999.0,9,     -999.0,9,   0.0052,    0.15
33RO20071215,        P18,      44,          1,         16,      12051,2,20071230,       0543,     0.0005,  -109.9775,       3812,  1033.6,   4.7222,  34.5544,2,  34.5558,2,     79.2,2,    77.5,2,   82.80,2,   40.00,2,    0.00,2,    2.84,2,   0.004,2,   0.003,2,   0.0000,2,  2296.6,2,  2350.2,2,   1538.9,2,    20.00,   7.4642,2,    25.00,  -0.004,2,   1.8854,2,   16.19,2,    0.07,2,  -999.0,1,   7.875,2,   0.027,-999.000,9,-999.000,9,   39.02,2,   41.66,2, -999.00,9, -999.00,9, -999.00,9,   0.006,-999.0000,9,-999.0000,9,-999.0000,9,-999.0000,9,-999.0000,9,-999.0000,9,-999.0000,9,-999.0000,9,-999.0000,9,   4.6379,     -999.0,9,     -999.0,9,     -999.0,9,     -999.0,1,     -999.0,9,     -999.0,9,     -999.0,9,   0.0053,    0.15
33RO20071215,        P18,      44,          1,         15,      12014,2,20071230,       0543,     0.0005,  -109.9775,       3812,  1133.5,   4.3322,  34.5605,2,  34.5616,2,     84.9,2,    84.9,2,   90.20,2,   39.80,2,    0.00,2,    2.83,2,   0.003,2,   0.002,2,   0.0000,2,  2302.4,2,  2359.4,2,   -999.0,9,  -999.00,   7.4742,2,    25.00,   0.015,2,   1.8793,2,   18.01,2, -999.00,9,  -999.0,9,   7.866,2,   0.027,-999.000,9,-999.000,9,   38.54,2,   40.85,2, -999.00,9, -999.00,9, -999.00,9,   0.006,-999.0000,9,-999.0000,9,-999.0000,9,-999.0000,9,-999.0000,9,-999.0000,9,-999.0000,9,-999.0000,9,-999.0000,9,   4.2423,     -999.0,9,     -999.0,9,     -999.0,9,     -999.0,9,     -999.0,9,     -999.0,9,     -999.0,9,   0.0053,    0.15
33RO20071215,        P18,      44,          1,         14,      12013,2,20071230,       0543,     0.0005,  -109.9775,       3812,  1233.4,   3.9563,  34.5748,2,  34.5763,2,     80.8,2,    79.6,2,  101.40,2,   40.60,2,    0.00,2,    2.89,2,   0.001,2,   0.001,2,   0.0000,2,  2318.2,2,  2370.8,2,   1555.9,2,    20.00,   7.4619,2,    25.00,-999.000,9,-999.0000,9, -999.00,9, -999.00,9,  -999.0,9,-999.000,9,-999.000,-999.000,9,-999.000,9,   37.95,2,   41.98,2, -999.00,9, -999.00,9, -999.00,9,-999.000,-999.0000,9,-999.0000,9,-999.0000,9,-999.0000,9,-999.0000,9,-999.0000,9,-999.0000,9,-999.0000,9,-999.0000,9,   3.8610,     -999.0,9,     -999.0,9,     -999.0,9,     -999.0,9,     -999.0,9,     -999.0,9,     -999.0,9,-999.0000, -999.00
33RO20071215,        P18,      44,          1,         13,      12012,2,20071230,       0543,     0.0005,  -109.9775,       3812,  1334.2,   3.6379,  34.5835,2,  34.5856,2,     85.0,2,    84.6,2,  108.50,2,   40.30,2,    0.00,2,    2.88,2,  -0.001,2,   0.000,2,   0.0000,2,  2322.0,2,  2377.0,2,   -999.0,9,  -999.00,   7.4732,2,    25.00,-999.000,9,-999.0000,9, -999.00,9, -999.00,9,  -999.0,9,-999.000,9,-999.000,-999.000,9,-999.000,9,   37.42,2,   41.52,2, -999.00,9, -999.00,9, -999.00,9,-999.000,-999.0000,9,-999.0000,9,-999.0000,9,-999.0000,9,-999.0000,9,-999.0000,9,-999.0000,9,-999.0000,9,-999.0000,9,   3.5371,     -999.0,9,     -999.0,9,     -999.0,9,     -999.0,9,     -999.0,9,     -999.0,9,     -999.0,9,-999.0000, -999.00
33RO20071215,        P18,      44,          1,         12,      12031,2,20071230,       0543,     0.0005,  -109.9775,       3812,  1467.2,   3.3030,  34.5965,2,  34.5978,2,     86.4,2,    86.5,2,  116.80,2,   40.30,2,    0.00,2,    2.88,2,  -0.001,2,   0.000,2,   0.0000,2,  2330.1,2,  2388.4,2,   1524.1,2,    20.00,   7.4653,2,    25.00,-999.000,9,-999.0000,9, -999.00,9, -999.00,9,  -999.0,9,-999.000,9,-999.000,-999.000,9,-999.000,9,   37.24,2,   41.45,2, -999.00,9, -999.00,9, -999.00,9,-999.000,-999.0000,9,-999.0000,9,-999.0000,9,-999.0000,9,-999.0000,9,-999.0000,9,-999.0000,9,-999.0000,9,-999.0000,9,   3.1944,     -999.0,9,     -999.0,9,     -999.0,9,     -999.0,1,     -999.0,9,     -999.0,9,     -999.0,9,-999.0000, -999.00