BOTTLE,20220818CCHSIOAMB
EXPOCODE,SECT_ID,STNNBR,CASTNO,SAMPNO,BTLNBR,BTLNBR_FLAG_W,DATE,TIME,LATITUDE,LONGITUDE,DEPTH,CTDPRS,CTDTMP,CTDSAL,CTDSAL_FLAG_W,SALNTY,SALNTY_FLAG_W,CTDOXY,CTDOXY_FLAG_W,OXYGEN,OXYGEN_FLAG_W,SILCAT,SILCAT_FLAG_W,NITRAT,NITRAT_FLAG_W,NITRIT,NITRIT_FLAG_W,PHSPHT,PHSPHT_FLAG_W,CFC-11,CFC-11_FLAG_W,CFC-12,CFC-12_FLAG_W,SF6,SF6_FLAG_W,TCARBN,TCARBN_FLAG_W,ALKALI,ALKALI_FLAG_W,FCO2,FCO2_FLAG_W,FCO2TMP,PH_SWS,PH_SWS_FLAG_W,PH_TMP,TRITUM,TRITUM_FLAG_W,HELIUM,HELIUM_FLAG_W,DELHE3,DELHE3_FLAG_W,DELC13,DELC13_FLAG_W,DELC14,DELC14_FLAG_W,NEON,NEON_FLAG_W,NEONER,CCL4,CCL4_FLAG_W,POC,POC_FLAG_W,DOC,DOC_FLAG_W,TDN,TDN_FLAG_W,DON,DON_FLAG_W,CHLORA,CHLORA_FLAG_W,ARGON,ARGON_FLAG_W,TRITER,CDOM325,CDOM325_FLAG_W,CDOM340,CDOM340_FLAG_W,CDOM380,CDOM380_FLAG_W,CDOM412,CDOM412_FLAG_W,CDOM443,CDOM443_FLAG_W,CDOM490,CDOM490_FLAG_W,CDOM555,CDOM555_FLAG_W,CDOMSL,CDOMSL_FLAG_W,CDOMSN,CDOMSN_FLAG_W,THETA,D18O_NO3,D18O_NO3_FLAG_W,CDOM2C,CDOM2C_FLAG_W,CDOM3C,CDOM3C_FLAG_W,LAB_DEN,LAB_DEN_FLAG_W,DELSI30,DELSI30_FLAG_W,N2,N2_FLAG_W,D15N_NO3,D15N_NO3_FLAG_W,HELIER,DELHER
,,,,,,,,,,,METERS,DBAR,ITS-90,PSS-78,,PSS-78,,UMOL/KG,,UMOL/KG,,UMOL/KG,,UMOL/KG,,UMOL/KG,,UMOL/KG,,PMOL/KG,,PMOL/KG,,FMOL/KG,,UMOL/KG,,UMOL/KG,,UATM,,DEG C,,,DEG C,TU,,NMOL/KG,,PERCNT,,/MILLE,,/MILLE,,NMOL/KG,,NMOL/KG,PMOL/KG,,UG/KG,,UMOL/KG,,UMOL/KG,,UMOL/KG,,UG/KG,,UMOL/KG,,TU,1/M,,1/M,,1/M,,1/M,,1/M,,1/M,,1/M,,1/NM,,1/NM,,DEG C,/MILLE,,,,,,,,/MILLE,,UMOL/KG,,/MILLE,,NMOL/KG,PERCNT
33RO20071215,        P18,     151,          1,         36,      12017,2,20080207,       2304,   -58.7560,  -102.9900,       4471,     5.8,   5.8528,  34.0314,2,  34.0305,2,    304.4,2,   305.5,2,    3.90,2,   21.50,2,    0.22,2,    1.52,2,   4.656,2,   2.580,2,   1.9609,2,  2114.8,6,  2274.5,2,   -999.0,9,  -999.00,   7.7741,2,    25.00,-999.000,9,-999.0000,9, -999.00,9, -999.00,9,  -999.0,9,-999.000,9,-999.000,-999.000,9,-999.000,9,   47.23,2,   26.03,2, -999.00,9,    0.13,2, -999.00,9,-999.000,   0.0710,2,   0.0448,2,   0.0188,2,   0.0137,2,   0.0073,2,   0.0017,2,  -0.0014,4,   0.0176,2,   0.0232,2,   5.8523,     -999.0,9,     -999.0,9,     -999.0,9,     -999.0,9,     -999.0,9,     -999.0,9,     -999.0,9,-999.0000, -999.00
33RO20071215,        P18,     151,          1,         35,      12029,2,20080207,       2304,   -58.7560,  -102.9900,       4471,     9.8,   5.8372,  34.0318,2,  34.0323,2,    304.0,2,   305.5,2,    4.00,2,   21.50,2,    0.21,2,    1.52,2,   4.615,2,   2.558,2,   2.0105,2,  2115.0,2,  2274.5,2,   -999.0,9,  -999.00,   7.7676,2,    25.00,-999.000,9,-999.0000,9, -999.00,9,    1.58,2,  -999.0,1,-999.000,9,-999.000,-999.000,9,-999.000,9,   45.87,2,   25.57,2, -999.00,9,    0.13,2, -999.00,1,-999.000,   0.0775,2,   0.0502,2,   0.0237,2,   0.0181,2,   0.0110,2,   0.0042,2,   0.0002,4,   0.0149,2,   0.0191,2,   5.8364,     -999.0,1,     -999.0,9,     -999.0,9,     -999.0,9,     -999.0,9,     -999.0,1,     -999.0,9,-999.0000, -999.00
33RO20071215,        P18,     151,          1,         34,      12049,2,20080207,       2304,   -58.7560,  -102.9900,       4471,    25.1,   5.8194,  34.0359,2,  34.0376,2,    303.8,2,   304.9,2,    4.00,2,   21.40,2,    0.20,2,    1.52,2,   4.647,2,   2.572,2,   2.0139,2,  2114.9,2,  2275.8,2,   -999.0,9,  -999.00,   7.7816,2,    25.00,-999.000,9,-999.0000,9, -999.00,9, -999.00,9,  -999.0,9,-999.000,9,-999.000,-999.000,9,-999.000,9,   45.29,2,   25.43,2, -999.00,9,    0.14,2, -999.00,9,-999.000,-999.0000,5,-999.0000,5,-999.0000,5,-999.0000,5,-999.0000,5,-999.0000,5,-999.0000,5,-999.0000,5,-999.0000,5,   5.8174,     -999.0,9,     -999.0,9,     -999.0,9,     -999.0,9,     -999.0,9,     -999.0,9,     -999.0,9,-999.0000, -999.00
33RO20071215,        P18,     151,          1,         33,      12027,2,20080207,       2304,   -58.7560,  -102.9900,       4471,    49.6,   5.7733,  34.0372,2,  34.0364,2,    303.4,2,   304.8,2,    4.00,2,   21.40,2,    0.20,2,    1.51,2,   4.629,2,   2.566,2,   2.0180,2,  2113.8,2,  2291.1,2,   -999.0,9,  -999.00,   7.7813,2,    25.00,-999.000,9,-999.0000,9, -999.00,9, -999.00,9,  -999.0,9,-999.000,9,-999.000,-999.000,9,-999.000,9,   45.14,2,   25.60,2, -999.00,9,    0.17,2, -999.00,9,-999.000,   0.0661,2,   0.0398,2,   0.0167,2,   0.0118,2,   0.0056,2,   0.0005,3,  -0.0020,4,   0.0190,2,   0.0249,2,   5.7693,     -999.0,9,     -999.0,9,     -999.0,9,     -999.0,9,     -999.0,9,     -999.0,9,     -999.0,9,-999.0000, -999.00
33RO20071215,        P18,     151,          1,         32,      12023,2,20080207,       2304,   -58.7560,  -102.9900,       4471,    74.5,   5.7662,  34.0369,2,  34.0367,2,    303.0,2,   304.0,2,    4.00,2,   21.50,2,    0.20,2,    1.52,2,   4.623,2,   2.567,2,   2.0140,2,  2114.0,2,  2279.9,2,   -999.0,9,  -999.00,   7.7753,2,    25.00,-999.000,9,-999.0000,9, -999.00,9, -999.00,9,  -999.0,9,-999.000,9,-999.000,-999.000,9,-999.000,9,   45.13,2,   25.21,2, -999.00,9,    0.19,2, -999.00,9,-999.000,   0.0694,2,   0.0428,2,   0.0189,2,   0.0135,2,   0.0070,2,   0.0013,2,  -0.0015,4,   0.0175,2,   0.0228,2,   5.7601,     -999.0,9,     -999.0,9,     -999.0,9,     -999.0,9,     -999.0,9,     -999.0,9,     -999.0,9,-999.0000, -999.00
33RO20071215,        P18,     151,          1,         31,      12037,2,20080207,       2304,   -58.7560,  -102.9900,       4471,   100.0,   5.4759,  34.0399,2,  34.0398,2,    303.1,2,   303.9,2,    5.00,2,   21.80,2,    0.21,2,    1.57,2,   4.644,2,   2.578,2,   1.9526,2,  2118.8,2,  2275.3,2,   -999.0,9,  -999.00,   7.7699,2,    25.00,-999.000,9,-999.0000,9, -999.00,9, -999.00,9,  -999.0,9,-999.000,9,-999.000,-999.000,9,-999.000,9,   45.05,2,   25.19,2, -999.00,9,    0.18,2, -999.00,9,-999.000,   0.0751,2,   0.0477,2,   0.0229,2,   0.0168,2,   0.0092,2,   0.0027,2,  -0.0008,4,   0.0157,2,   0.0198,2,   5.4679,     -999.0,9,     -999.0,9,     -999.0,9,     -999.0,9,     -999.0,9,     -999.0,9,     -999.0,9,-999.0000, -999.00
33RO20071215,        P18,     151,          1,         30,      12036,2,20080207,       2304,   -58.7560,  -102.9900,       4471,   125.0,   4.7148,  34.0861,2,  34.0879,2,    296.9,2,   297.9,2,    8.90,2,   23.70,2,    0.30,2,    1.68,2,   4.706,2,   2.589,2,   1.9804,2,  2134.9,2,  2275.0,2,   -999.0,9,  -999.00,   7.7312,2,    25.00,-999.000,9,-999.0000,9, -999.00,9, -999.00,9,  -999.0,9,-999.000,9,-999.000,-999.000,9,-999.000,9,   44.88,2,   27.04,2, -999.00,9,    0.15,2, -999.00,9,-999.000,-999.0000,5,-999.0000,5,-999.0000,5,-999.0000,5,-999.0000,5,-999.0000,5,-999.0000,5,-999.0000,5,-999.0000,5,   4.7055,     -999.0,9,     -999.0,9,     -999.0,9,     -999.0,9,     -999.0,9,     -999.0,9,     -999.0,9,-999.0000, -999.00
33RO20071215,        P18,     151,          1,         29,      12044,2,20080207,       2304,   -58.7560,  -102.9900,       4471,   150.1,   4.6150,  34.1289,2,  34.1296,2,    285.1,2,   287.4,2,   10.90,2,   24.80,2,    0.01,2,    1.72,2,   4.460,2,   2.448,2,   1.7736,2,  2142.5,2,  2275.7,2,   -999.0,9,  -999.00,   7.7225,2,    25.00,-999.000,9,-999.0000,9, -999.00,9, -999.00,9,  -999.0,9,-999.000,9,-999.000,-999.000,9,-999.000,9,   44.74,2,   27.57,2, -999.00,9,    0.06,2, -999.00,9,-999.000,   0.0710,2,   0.0434,2,   0.0202,2,   0.0149,2,   0.0071,2,   0.0013,2,  -0.0014,4,   0.0166,2,   0.0216,2,   4.6040,     -999.0,9,     -999.0,9,     -999.0,9,     -999.0,9,     -999.0,9,     -999.0,9,     -999.0,9,-999.0000, -999.00
33RO20071215,        P18,     151,          1,         28,      12057,2,20080207,       2304,   -58.7560,  -102.9900,       4471,   200.3,   4.2060,  34.1205,2,  34.1183,2,    283.9,2,   281.7,2,   13.30,2,   26.10,2,    0.01,2,    1.80,2,   4.328,2,   2.349,2,   1.6317,2,  2149.8,2,  2281.3,2,   -999.0,9,  -999.00,   7.7076,2,    25.00,-999.000,9,-999.0000,9, -999.00,9, -999.00,9,  -999.0,9,-999.000,9,-999.000,-999.000,9,-999.000,9,   44.60,2,   28.24,2, -999.00,9,    0.01,2, -999.00,9,-999.000,   0.0775,2,   0.0488,2,   0.0245,2,   0.0182,2,   0.0097,2,   0.0029,2,  -0.0006,4,   0.0153,2,   0.0190,2,   4.1919,     -999.0,9,     -999.0,9,     -999.0,9,     -999.0,9,     -999.0,9,     -999.0,9,     -999.0,9,-999.0000, -999.00
33RO20071215,        P18,     151,          1,         27,      12026,2,20080207,       2304,   -58.7560,  -102.9900,       4471,   250.0,   3.9703,  34.1188,2,  34.1184,2,    277.5,2,   275.9,2,   15.30,2,   26.90,2,    0.01,2,    1.85,2,   4.254,2,   2.301,2,   1.5206,2,  2154.2,2,  2283.0,2,   -999.0,9,  -999.00,   7.7035,2,    25.00,-999.000,9,-999.0000,9, -999.00,9, -999.00,9,  -999.0,9,-999.000,9,-999.000,-999.000,9,-999.000,9,   44.20,2,   28.36,2, -999.00,9,    0.01,2, -999.00,9,-999.000,   0.0769,2,   0.0479,2,   0.0234,2,   0.0171,2,   0.0087,2,   0.0021,2,  -0.0011,4,   0.0159,2,   0.0201,2,   3.9531,     -999.0,9,     -999.0,9,     -999.0,9,     -999.0,9,     -999.0,9,     -999.0,9,     -999.0,9,-999.0000, -999.00
33RO20071215,        P18,     151,          1,         26,      12030,2,20080207,       2304,   -58.7560,  -102.9900,       4471,   296.6,   3.8738,  34.1369,2,  34.1376,2,    277.2,2,   266.9,2,   17.80,2,   27.80,2,    0.01,2,    1.91,2,   4.062,2,   2.175,2,   1.4602,2,  2161.2,2,  2286.4,2,   -999.0,9,  -999.00,   7.6852,2,    25.00,-999.000,9,-999.0000,9, -999.00,9, -999.00,9,  -999.0,9,-999.000,9,-999.000,-999.000,9,-999.000,9,   44.16,2,   29.19,2, -999.00,9, -999.00,9, -999.00,9,-999.000,-999.0000,5,-999.0000,5,-999.0000,5,-999.0000,5,-999.0000,5,-999.0000,5,-999.0000,5,-999.0000,5,-999.0000,5,   3.8534,     -999.0,9,     -999.0,9,     -999.0,9,     -999.0,9,     -999.0,9,     -999.0,9,     -999.0,9,-999.0000, -999.00
33RO20071215,        P18,     151,          1,         25,      12024,2,20080207,       2304,   -58.7560,  -102.9900,       4471,   350.5,   3.4627,  34.1131,2,  34.1134,2,    270.6,2,   271.7,2,   19.20,2,   28.30,2,    0.01,2,    1.94,2,   4.197,2,   2.242,2,   1.5014,2,  2162.4,2,  2280.9,2,   -999.0,9,  -999.00,   7.6816,2,    25.00,-999.000,9,-999.0000,9, -999.00,9, -999.00,9,  -999.0,9,-999.000,9,-999.000,-999.000,9,-999.000,9,   43.34,2,   29.29,2, -999.00,9, -999.00,9, -999.00,9,-999.000,   0.0757,2,   0.0465,2,   0.0221,2,   0.0158,2,   0.0075,2,   0.0010,2,  -0.0018,4,   0.0167,2,   0.0213,2,   3.4396,     -999.0,9,     -999.0,9,     -999.0,9,     -999.0,9,     -999.0,9,     -999.0,9,     -999.0,9,-999.0000, -999.00
33RO20071215,        P18,     151,          1,         24,      12019,2,20080207,       2304,   -58.7560,  -102.9900,       4471,   399.2,   3.5667,  34.1572,2,  34.1558,2,    257.8,2,   256.6,2,   22.50,2,   29.10,2,    0.01,2,    2.00,2,   3.806,2,   2.019,2,   1.2963,2,  2171.6,2,  2283.6,2,   -999.0,9,  -999.00,   7.6668,2,    25.00,-999.000,9,-999.0000,9, -999.00,9, -999.00,9,  -999.0,9,-999.000,9,-999.000,-999.000,9,-999.000,9,   42.52,2,   30.57,2, -999.00,9, -999.00,9, -999.00,9,-999.000,   0.0896,2,   0.0580,2,   0.0300,2,   0.0222,2,   0.0124,2,   0.0041,2,  -0.0001,4,   0.0150,2,   0.0178,2,   3.5400,     -999.0,9,     -999.0,9,     -999.0,9,     -999.0,9,     -999.0,9,     -999.0,9,     -999.0,9,-999.0000, -999.00
33RO20071215,        P18,     151,          1,         23,      12022,2,20080207,       2304,   -58.7560,  -102.9900,       4471,   500.5,   3.4602,  34.2197,2,  34.2222,2,    230.7,2,   235.3,2,   30.20,2,   31.00,2,    0.01,2,    2.12,2,   3.183,2,   1.655,2,   0.9082,2,  2187.4,2,  2290.9,2,   -999.0,9,  -999.00,   7.6357,2,    25.00,-999.000,9,-999.0000,9, -999.00,9, -999.00,9,  -999.0,9,-999.000,9,-999.000,-999.000,9,-999.000,9,   41.69,2,   32.14,2, -999.00,9, -999.00,9, -999.00,9,-999.000,   0.1086,2,   0.0736,2,   0.0400,2,   0.0302,2,   0.0187,2,   0.0082,2,   0.0023,2,   0.0139,2,   0.0155,2,   3.4266,     -999.0,9,     -999.0,9,     -999.0,9,     -999.0,9,     -999.0,9,     -999.0,9,     -999.0,9,-999.0000, -999.00
33RO20071215,        P18,     151,          1,         22,      12015,2,20080207,       2304,   -58.7560,  -102.9900,       4471,   600.4,   3.4558,  34.2969,2,  34.3001,2,    216.6,2,   212.1,2,   38.70,2,   32.30,2,    0.01,2,    2.22,2,   2.298,2,   1.165,2,   0.5683,2,  2202.2,2,  2307.0,2,   -999.0,9,  -999.00,   7.6113,2,    25.00,-999.000,9,-999.0000,9, -999.00,9, -999.00,9,  -999.0,9,-999.000,9,-999.000,-999.000,9,-999.000,9,   41.07,2,   33.38,2, -999.00,9, -999.00,9, -999.00,9,-999.000,   0.0990,2,   0.0647,2,   0.0327,2,   0.0230,2,   0.0126,2,   0.0037,2,  -0.0004,4,   0.0159,2,   0.0184,2,   3.4149,     -999.0,9,     -999.0,9,     -999.0,9,     -999.0,9,     -999.0,9,     -999.0,9,     -999.0,9,-999.0000, -999.00
33RO20071215,        P18,     151,          1,         21,      12020,2,20080207,       2304,   -58.7560,  -102.9900,       4471,   699.5,   3.2758,  34.3473,2,  34.3470,2,    201.4,2,   200.5,2,   46.00,2,   33.20,2,    0.00,2,    2.29,2,   1.802,2,   0.901,2,   0.4251,2,  2213.2,2,  2311.4,2,   -999.0,9,  -999.00,   7.5956,2,    25.00,-999.000,9,-999.0000,9, -999.00,9, -999.00,9,  -999.0,9,-999.000,9,-999.000,-999.000,9,-999.000,9,   40.94,2,   34.46,2, -999.00,9, -999.00,9, -999.00,9,-999.000,   0.0987,2,   0.0639,2,   0.0316,2,   0.0219,2,   0.0116,2,   0.0029,2,  -0.0010,4,   0.0165,2,   0.0192,2,   3.2286,     -999.0,9,     -999.0,9,     -999.0,9,     -999.0,9,     -999.0,9,     -999.0,9,     -999.0,9,-999.0000, -999.00
33RO20071215,        P18,     151,          1,         20,      12055,2,20080207,       2304,   -58.7560,  -102.9900,       4471,   800.8,   3.0731,  34.3947,2,  34.3966,2,    191.1,2,   191.7,2,   53.40,2,   34.00,2,    0.00,2,    2.35,2,   1.346,2,   0.674,2,   0.2529,2,  2225.3,2,  2321.3,2,   -999.0,9,  -999.00,   7.5880,2,    25.00,-999.000,9,-999.0000,9, -999.00,9, -999.00,9,  -999.0,9,-999.000,9,-999.000,-999.000,9,-999.000,9,   40.35,2,   35.31,2, -999.00,9, -999.00,9, -999.00,9,-999.000,   0.1027,2,   0.0669,2,   0.0329,2,   0.0224,2,   0.0118,2,   0.0029,2,  -0.0010,4,   0.0168,2,   0.0193,2,   3.0196,     -999.0,9,     -999.0,9,     -999.0,9,     -999.0,9,     -999.0,9,     -999.0,9,     -999.0,9,-999.0000, -999.00
33RO20071215,        P18,     151,          1,         19,      12018,2,20080207,       2304,   -58.7560,  -102.9900,       4471,   898.8,   2.8706,  34.4384,2,  34.4384,2,    183.5,2,   184.1,2,   59.80,2,   34.50,2,    0.00,2,    2.38,2,   1.110,2,   0.566,2,   0.2356,2,  2234.2,2,  2320.4,2,   -999.0,9,  -999.00,   7.5736,2,    25.00,-999.000,9,-999.0000,9, -999.00,9, -999.00,9,  -999.0,9,-999.000,9,-999.000,-999.000,9,-999.000,9,   40.00,2,   35.89,2, -999.00,9, -999.00,9, -999.00,9,-999.000,   0.1095,2,   0.0723,2,   0.0361,2,   0.0247,2,   0.0133,2,   0.0039,2,  -0.0005,4,   0.0165,2,   0.0187,2,   2.8113,     -999.0,9,     -999.0,9,     -999.0,9,     -999.0,9,     -999.0,9,     -999.0,9,     -999.0,9,-999.0000, -999.00
33RO20071215,        P18,     151,          1,         18,      12025,2,20080207,       2304,   -58.7560,  -102.9900,       4471,   999.8,   2.6854,  34.4771,2,  34.4791,2,    179.1,2,   178.9,2,   65.10,2,   34.80,2,    0.00,2,    2.41,2,   0.918,2,   0.464,2,   0.1612,2,  2240.1,2,  2325.9,2,   -999.0,9,  -999.00,   7.5572,2,    25.00,-999.000,9,-999.0000,9, -999.00,9, -999.00,9,  -999.0,9,-999.000,9,-999.000,-999.000,9,-999.000,9,   39.62,2,   35.88,2, -999.00,9, -999.00,9, -999.00,9,-999.000,   0.1146,2,   0.0764,2,   0.0386,2,   0.0266,2,   0.0148,2,   0.0046,2,   0.0000,4,   0.0162,2,   0.0182,2,   2.6200,     -999.0,9,     -999.0,9,     -999.0,9,     -999.0,9,     -999.0,9,     -999.0,9,     -999.0,9,-999.0000, -999.00
33RO20071215,        P18,     151,          1,         17,      12016,2,20080207,       2304,   -58.7560,  -102.9900,       4471,  1199.4,   2.4940,  34.5606,2,  34.5602,2,    173.0,2,   173.0,2,   73.70,2,   34.50,2,    0.00,2,    2.38,2,   0.542,2,   0.277,2,   0.1370,2,  2249.2,2,  2335.6,2,   -999.0,9,  -999.00,   7.5861,2,    25.00,-999.000,9,-999.0000,9, -999.00,9, -999.00,9,  -999.0,9,-999.000,9,-999.000,-999.000,9,-999.000,9,   39.30,2,   35.67,2, -999.00,9, -999.00,9, -999.00,9,-999.000,   0.1230,2,   0.0831,2,   0.0428,2,   0.0296,2,   0.0173,2,   0.0062,2,   0.0009,2,   0.0158,2,   0.0174,2,   2.4153,     -999.0,9,     -999.0,9,     -999.0,9,     -999.0,9,     -999.0,9,     -999.0,9,     -999.0,9,-999.0000, -999.00
33RO20071215,        P18,     151,          1,         16,      12051,2,20080207,       2304,   -58.7560,  -102.9900,       4471,  1399.6,   2.3376,  34.6240,2,  34.6246,2,    173.8,2,   174.1,2,   78.80,2,   33.80,2,    0.00,2,    2.34,2,   0.371,2,   0.190,2,   0.0923,2,  2254.7,2,  2343.7,2,   -999.0,9,  -999.00,   7.5785,2,    25.00,-999.000,9,-999.0000,9, -999.00,9, -999.00,9,  -999.0,9,-999.000,9,-999.000,-999.000,9,-999.000,9,   38.70,2,   35.55,2, -999.00,9, -999.00,9, -999.00,9,-999.000,   0.1194,2,   0.0798,2,   0.0395,2,   0.0266,2,   0.0148,2,   0.0043,2,  -0.0002,4,   0.0167,2,   0.0186,2,   2.2451,     -999.0,9,     -999.0,9,     -999.0,9,     -999.0,9,     -999.0,9,     -999.0,9,     -999.0,9,-999.0000, -999.00
33RO20071215,        P18,     151,          1,         15,      12014,2,20080207,       2304,   -58.7560,  -102.9900,       4471,  1597.7,   2.2333,  34.6716,2,  34.6718,2,    176.4,2,   176.8,2,   82.50,2,   33.00,2,    0.00,2,    2.29,2,   0.247,2,   0.123,2,   0.0000,2,  2254.3,6,  2347.5,2,   -999.0,9,  -999.00,   7.5810,2,    25.00,-999.000,9,-999.0000,9, -999.00,9, -999.00,9,  -999.0,9,-999.000,9,-999.000,-999.000,9,-999.000,9,   39.46,2,   34.41,2, -999.00,9, -999.00,9, -999.00,9,-999.000,   0.1228,2,   0.0824,2,   0.0407,2,   0.0275,2,   0.0153,2,   0.0047,2,  -0.0001,4,   0.0167,2,   0.0186,2,   2.1263,     -999.0,9,     -999.0,9,     -999.0,9,     -999.0,9,     -999.0,9,     -999.0,9,     -999.0,9,-999.0000, -999.00
33RO20071215,        P18,     151,          1,         14,      12013,2,20080207,       2304,   -58.7560,  -102.9900,       4471,  1799.6,   2.1251,  34.7020,2,  34.7078,2,    180.5,2,   180.7,2,   85.60,2,   32.50,2,    0.00,2,    2.25,2,   0.182,2,   0.092,2,   0.0490,2,  2255.2,2,  2350.9,2,   -999.0,9,  -999.00,   7.5965,2,    25.00,-999.000,9,-999.0000,9, -999.00,9, -999.00,9,  -999.0,9,-999.000,9,-999.000,-999.000,9,-999.000,9,   39.80,3,   33.64,3, -999.00,9, -999.00,9, -999.00,9,-999.000,   0.1224,2,   0.0820,2,   0.0403,2,   0.0268,2,   0.0149,2,   0.0046,2,   0.0000,4,   0.0168,2,   0.0188,2,   2.0032,     -999.0,9,     -999.0,9,     -999.0,9,     -999.0,9,     -999.0,9,     -999.0,9,     -999.0,9,-999.0000, -999.00
33RO20071215,        P18,     151,          1,         13,      12012,2,20080207,       2304,   -58.7560,  -102.9900,       4471,  2000.4,   1.9838,  34.7208,2,  34.7206,2,    184.5,2,   184.9,2,   89.60,2,   31.90,2,    0.00,2,    2.22,2,   0.138,2,   0.070,2,   0.0000,2,  2255.3,2,  2350.2,2,   -999.0,9,  -999.00,   7.6029,2,    25.00,-999.000,9,-999.0000,9, -999.00,9, -999.00,9,  -999.0,9,-999.000,9,-999.000,   0.153,3,-999.000,9,   39.73,2,   33.30,2, -999.00,9, -999.00,9, -999.00,9,-999.000,   0.1247,2,   0.0843,2,   0.0422,2,   0.0282,2,   0.0163,2,   0.0057,2,   0.0007,2,   0.0164,2,   0.0182,2,   1.8473,     -999.0,9,     -999.0,9,     -999.0,9,     -999.0,9,     -999.0,9,     -999.0,9,     -999.0,9,-999.0000, -999.00
33RO20071215,        P18,     151,          1,         12,      12031,2,20080207,       2304,   -58.7560,  -102.9900,       4471,  2200.1,   1.8289,  34.7302,2,  34.7296,2,    188.4,2,   188.6,2,   93.60,2,   31.60,2,    0.00,2,    2.20,2,   0.131,2,   0.066,2,   0.0000,2,  2255.1,2,  2351.9,2,   -999.0,9,  -999.00,   7.6058,2,    25.00,-999.000,9,-999.0000,9, -999.00,9, -999.00,9,  -999.0,9,-999.000,9,-999.000,   0.136,3,-999.000,9,   39.96,2,   33.31,2, -999.00,9, -999.00,9, -999.00,9,-999.000,   0.1197,2,   0.0800,2,   0.0391,2,   0.0256,2,   0.0142,2,   0.0041,2,  -0.0001,4,   0.0170,2,   0.0191,2,   1.6778,     -999.0,9,     -999.0,9,     -999.0,9,     -999.0,9,     -999.0,9,     -999.0,9,     -999.0,9,-999.0000, -999.00