BOTTLE,20220818CCHSIOAMB
EXPOCODE,SECT_ID,STNNBR,CASTNO,SAMPNO,BTLNBR,BTLNBR_FLAG_W,DATE,TIME,LATITUDE,LONGITUDE,DEPTH,CTDPRS,CTDTMP,CTDSAL,CTDSAL_FLAG_W,SALNTY,SALNTY_FLAG_W,CTDOXY,CTDOXY_FLAG_W,OXYGEN,OXYGEN_FLAG_W,SILCAT,SILCAT_FLAG_W,NITRAT,NITRAT_FLAG_W,NITRIT,NITRIT_FLAG_W,PHSPHT,PHSPHT_FLAG_W,CFC-11,CFC-11_FLAG_W,CFC-12,CFC-12_FLAG_W,SF6,SF6_FLAG_W,TCARBN,TCARBN_FLAG_W,ALKALI,ALKALI_FLAG_W,FCO2,FCO2_FLAG_W,FCO2TMP,PH_SWS,PH_SWS_FLAG_W,PH_TMP,TRITUM,TRITUM_FLAG_W,HELIUM,HELIUM_FLAG_W,DELHE3,DELHE3_FLAG_W,DELC13,DELC13_FLAG_W,DELC14,DELC14_FLAG_W,NEON,NEON_FLAG_W,NEONER,CCL4,CCL4_FLAG_W,POC,POC_FLAG_W,DOC,DOC_FLAG_W,TDN,TDN_FLAG_W,DON,DON_FLAG_W,CHLORA,CHLORA_FLAG_W,ARGON,ARGON_FLAG_W,TRITER,CDOM325,CDOM325_FLAG_W,CDOM340,CDOM340_FLAG_W,CDOM380,CDOM380_FLAG_W,CDOM412,CDOM412_FLAG_W,CDOM443,CDOM443_FLAG_W,CDOM490,CDOM490_FLAG_W,CDOM555,CDOM555_FLAG_W,CDOMSL,CDOMSL_FLAG_W,CDOMSN,CDOMSN_FLAG_W,THETA,D18O_NO3,D18O_NO3_FLAG_W,CDOM2C,CDOM2C_FLAG_W,CDOM3C,CDOM3C_FLAG_W,LAB_DEN,LAB_DEN_FLAG_W,DELSI30,DELSI30_FLAG_W,N2,N2_FLAG_W,D15N_NO3,D15N_NO3_FLAG_W,HELIER,DELHER
,,,,,,,,,,,METERS,DBAR,ITS-90,PSS-78,,PSS-78,,UMOL/KG,,UMOL/KG,,UMOL/KG,,UMOL/KG,,UMOL/KG,,UMOL/KG,,PMOL/KG,,PMOL/KG,,FMOL/KG,,UMOL/KG,,UMOL/KG,,UATM,,DEG C,,,DEG C,TU,,NMOL/KG,,PERCNT,,/MILLE,,/MILLE,,NMOL/KG,,NMOL/KG,PMOL/KG,,UG/KG,,UMOL/KG,,UMOL/KG,,UMOL/KG,,UG/KG,,UMOL/KG,,TU,1/M,,1/M,,1/M,,1/M,,1/M,,1/M,,1/M,,1/NM,,1/NM,,DEG C,/MILLE,,,,,,,,/MILLE,,UMOL/KG,,/MILLE,,NMOL/KG,PERCNT
33RO20071215,        P18,      17,          1,         36,      12017,2,20071221,       1341,    15.0000,  -110.0005,       3895,     5.5,  27.2102,  33.8524,2,  33.8544,2,    201.1,2,   200.8,2,    1.20,2,    0.00,2,    0.00,2,    0.13,2,-999.000,9,-999.000,9,-999.0000,9,  1930.0,6,  2247.0,2,    283.7,2,    20.00,   8.0712,2,    25.00,-999.000,9,-999.0000,9, -999.00,9, -999.00,9,  -999.0,1,-999.000,9,-999.000,-999.000,9,-999.000,9,   77.84,2,    6.34,2, -999.00,1, -999.00,9, -999.00,9,-999.000,-999.0000,9,-999.0000,9,-999.0000,9,-999.0000,9,-999.0000,9,-999.0000,9,-999.0000,9,-999.0000,9,-999.0000,9,  27.2089,     -999.0,9,     -999.0,9,     -999.0,9,     -999.0,1,     -999.0,9,     -999.0,9,     -999.0,9,-999.0000, -999.00
33RO20071215,        P18,      17,          1,         35,      12029,2,20071221,       1341,    15.0000,  -110.0005,       3895,    13.6,  27.2166,  33.8577,2,  33.8591,2,    201.4,2,   200.9,2,    1.30,2,    0.10,2,    0.00,2,    0.15,2,-999.000,9,-999.000,9,-999.0000,9,  1929.6,2,  2242.8,2,    284.0,2,    20.00,   8.0733,2,    25.00,-999.000,9,-999.0000,9, -999.00,9,    1.37,2,  -999.0,9,-999.000,9,-999.000,-999.000,9,-999.000,9, -999.00,9, -999.00,9, -999.00,1, -999.00,9, -999.00,9,-999.000,-999.0000,9,-999.0000,9,-999.0000,9,-999.0000,9,-999.0000,9,-999.0000,9,-999.0000,9,-999.0000,9,-999.0000,9,  27.2134,     -999.0,9,     -999.0,9,     -999.0,9,     -999.0,1,     -999.0,9,     -999.0,9,     -999.0,9,-999.0000, -999.00
33RO20071215,        P18,      17,          1,         34,      12049,2,20071221,       1341,    15.0000,  -110.0005,       3895,    28.1,  27.2106,  33.8637,2,  33.8748,2,    201.2,2,   198.7,2,    1.40,2,    0.30,2,    0.01,2,    0.17,2,-999.000,9,-999.000,9,-999.0000,9,  1933.5,2,  2244.9,2,    287.7,2,    20.00,   8.0734,2,    25.00,-999.000,9,-999.0000,9, -999.00,9, -999.00,9,  -999.0,9,-999.000,9,-999.000,-999.000,9,-999.000,9, -999.00,9, -999.00,9, -999.00,1, -999.00,9, -999.00,9,-999.000,-999.0000,9,-999.0000,9,-999.0000,9,-999.0000,9,-999.0000,9,-999.0000,9,-999.0000,9,-999.0000,9,-999.0000,9,  27.2041,     -999.0,9,     -999.0,9,     -999.0,9,     -999.0,1,     -999.0,9,     -999.0,9,     -999.0,9,-999.0000, -999.00
33RO20071215,        P18,      17,          1,         33,      12027,2,20071221,       1341,    15.0000,  -110.0005,       3895,    47.8,  21.3031,  34.3955,2,  34.4261,2,    104.1,2,    85.4,2,    8.80,2,   14.60,2,    0.41,2,    1.38,2,-999.000,9,-999.000,9,-999.0000,9,  2131.7,2,  2281.6,2,    750.8,2,    20.00,   7.4944,2,    25.00,-999.000,9,-999.0000,9, -999.00,9, -999.00,9,  -999.0,9,-999.000,9,-999.000,-999.000,9,-999.000,9,   63.63,2,   18.76,2, -999.00,1, -999.00,9, -999.00,9,-999.000,-999.0000,9,-999.0000,9,-999.0000,9,-999.0000,9,-999.0000,9,-999.0000,9,-999.0000,9,-999.0000,9,-999.0000,9,  21.2939,     -999.0,9,     -999.0,9,     -999.0,9,     -999.0,1,     -999.0,9,     -999.0,9,     -999.0,9,-999.0000, -999.00
33RO20071215,        P18,      17,          1,         32,      12023,2,20071221,       1341,    15.0000,  -110.0005,       3895,    67.6,  16.5162,  34.6160,2,  34.6362,2,     13.5,2,     7.3,2,   19.20,2,   25.40,2,    0.17,2,    2.25,2,-999.000,9,-999.000,9,-999.0000,9,  2228.2,2,  2291.5,2,   1399.5,2,    20.00,   7.4982,2,    25.00,-999.000,9,-999.0000,9, -999.00,9, -999.00,9,  -999.0,9,-999.000,9,-999.000,-999.000,9,-999.000,9, -999.00,9, -999.00,9, -999.00,1, -999.00,9, -999.00,9,-999.000,-999.0000,9,-999.0000,9,-999.0000,9,-999.0000,9,-999.0000,9,-999.0000,9,-999.0000,9,-999.0000,9,-999.0000,9,  16.5054,     -999.0,9,     -999.0,9,     -999.0,9,     -999.0,1,     -999.0,9,     -999.0,9,     -999.0,9,-999.0000, -999.00
33RO20071215,        P18,      17,          1,         31,      12037,2,20071221,       1341,    15.0000,  -110.0005,       3895,    88.2,  14.3382,  34.7534,2,  34.7493,2,      3.5,2,     2.3,2,   24.00,2,   25.90,2,    0.14,2,    2.39,2,-999.000,9,-999.000,9,-999.0000,9,  2246.0,2,  2295.2,2,   1525.7,2,    20.00,   7.4642,2,    25.00,-999.000,9,-999.0000,9, -999.00,9, -999.00,9,  -999.0,9,-999.000,9,-999.000,-999.000,9,-999.000,9,   50.65,2,   28.49,2, -999.00,1, -999.00,9, -999.00,9,-999.000,-999.0000,9,-999.0000,9,-999.0000,9,-999.0000,9,-999.0000,9,-999.0000,9,-999.0000,9,-999.0000,9,-999.0000,9,  14.3253,     -999.0,9,     -999.0,9,     -999.0,9,     -999.0,1,     -999.0,9,     -999.0,9,     -999.0,9,-999.0000, -999.00
33RO20071215,        P18,      17,          1,         30,      12036,2,20071221,       1341,    15.0000,  -110.0005,       3895,   108.8,  13.6528,  34.7793,2,  34.7766,2,      3.2,2,     2.1,2,   25.60,2,   25.80,2,    0.22,2,    2.41,2,-999.000,9,-999.000,9,-999.0000,9,  2251.0,2,  2298.8,2,   1533.6,2,    20.00,   7.4588,2,    25.00,-999.000,9,-999.0000,9, -999.00,9, -999.00,9,  -999.0,9,-999.000,9,-999.000,-999.000,9,-999.000,9, -999.00,9, -999.00,9, -999.00,1, -999.00,9, -999.00,9,-999.000,-999.0000,9,-999.0000,9,-999.0000,9,-999.0000,9,-999.0000,9,-999.0000,9,-999.0000,9,-999.0000,9,-999.0000,9,  13.6374,     -999.0,9,     -999.0,9,     -999.0,9,     -999.0,1,     -999.0,9,     -999.0,9,     -999.0,9,-999.0000, -999.00
33RO20071215,        P18,      17,          1,         29,      12044,2,20071221,       1341,    15.0000,  -110.0005,       3895,   134.0,  13.0043,  34.7750,2,  34.7736,2,      2.9,2,     2.1,2,   27.40,2,   24.80,2,    1.60,2,    2.44,2,-999.000,9,-999.000,9,-999.0000,9,  2255.7,2,  2301.5,2,   1584.3,2,    20.00,   7.4490,2,    25.00,-999.000,9,-999.0000,9, -999.00,9, -999.00,9,  -999.0,9,-999.000,9,-999.000,-999.000,9,-999.000,9,   46.47,2,   29.06,2, -999.00,1, -999.00,9, -999.00,9,-999.000,-999.0000,9,-999.0000,9,-999.0000,9,-999.0000,9,-999.0000,9,-999.0000,9,-999.0000,9,-999.0000,9,-999.0000,9,  12.9859,     -999.0,9,     -999.0,9,     -999.0,9,     -999.0,1,     -999.0,9,     -999.0,9,     -999.0,9,-999.0000, -999.00
33RO20071215,        P18,      17,          1,         28,      12057,2,20071221,       1341,    15.0000,  -110.0005,       3895,   158.2,  12.3069,  34.7661,2,  34.7633,2,      2.7,2,     3.7,2,   29.40,2,   24.30,2,    2.82,2,    2.46,2,-999.000,9,-999.000,9,-999.0000,9,  2261.6,2,  2301.4,2,   1635.4,2,    20.00,   7.4377,2,    25.00,-999.000,9,-999.0000,9, -999.00,9, -999.00,9,  -999.0,9,-999.000,9,-999.000,-999.000,9,-999.000,9, -999.00,9, -999.00,9, -999.00,1, -999.00,9, -999.00,9,-999.000,-999.0000,9,-999.0000,9,-999.0000,9,-999.0000,9,-999.0000,9,-999.0000,9,-999.0000,9,-999.0000,9,-999.0000,9,  12.2860,     -999.0,9,     -999.0,9,     -999.0,9,     -999.0,1,     -999.0,9,     -999.0,9,     -999.0,9,-999.0000, -999.00
33RO20071215,        P18,      17,          1,         27,      12026,2,20071221,       1341,    15.0000,  -110.0005,       3895,   183.3,  11.8852,  34.7541,2,  34.7533,2,      2.6,2,     2.8,2,   30.70,2,   25.10,2,    2.30,2,    2.49,2,-999.000,9,-999.000,9,-999.0000,9,  2265.9,2,  2303.4,2,   1682.7,2,    20.00,   7.4286,2,    25.00,-999.000,9,-999.0000,9, -999.00,9, -999.00,9,  -999.0,9,-999.000,9,-999.000,-999.000,9,-999.000,9,   45.06,2,   29.94,2, -999.00,1, -999.00,9, -999.00,9,-999.000,-999.0000,9,-999.0000,9,-999.0000,9,-999.0000,9,-999.0000,9,-999.0000,9,-999.0000,9,-999.0000,9,-999.0000,9,  11.8616,     -999.0,9,     -999.0,9,     -999.0,9,     -999.0,1,     -999.0,9,     -999.0,9,     -999.0,9,-999.0000, -999.00
33RO20071215,        P18,      17,          1,         26,      12030,2,20071221,       1341,    15.0000,  -110.0005,       3895,   217.8,  11.3696,  34.7319,2,  34.7304,2,      2.5,2,     2.8,2,   32.00,2,   26.40,2,    2.03,2,    2.51,2,-999.000,9,-999.000,9,-999.0000,9,  2269.8,2,  2303.3,2,   -999.0,9,  -999.00,   7.4154,2,    25.00,-999.000,9,-999.0000,9, -999.00,9, -999.00,9,  -999.0,9,-999.000,9,-999.000,-999.000,9,-999.000,9,   44.85,2,   30.46,2, -999.00,1, -999.00,9, -999.00,9,-999.000,-999.0000,9,-999.0000,9,-999.0000,9,-999.0000,9,-999.0000,9,-999.0000,9,-999.0000,9,-999.0000,9,-999.0000,9,  11.3422,     -999.0,9,     -999.0,9,     -999.0,9,     -999.0,1,     -999.0,9,     -999.0,9,     -999.0,9,-999.0000, -999.00
33RO20071215,        P18,      17,          1,         25,      12024,2,20071221,       1341,    15.0000,  -110.0005,       3895,   267.7,  10.7908,  34.7016,2,  34.7057,2,      2.4,2,     3.6,2,   33.90,2,   26.60,2,    2.57,2,    2.56,2,-999.000,9,-999.000,9,-999.0000,9,  2276.5,2,  2304.6,2,   -999.0,9,  -999.00,   7.3996,2,    25.00,-999.000,9,-999.0000,9, -999.00,9, -999.00,9,  -999.0,9,-999.000,9,-999.000,-999.000,9,-999.000,9,   43.86,2,   30.84,2, -999.00,1, -999.00,9, -999.00,9,-999.000,-999.0000,9,-999.0000,9,-999.0000,9,-999.0000,9,-999.0000,9,-999.0000,9,-999.0000,9,-999.0000,9,-999.0000,9,  10.7582,     -999.0,9,     -999.0,9,     -999.0,9,     -999.0,1,     -999.0,9,     -999.0,9,     -999.0,9,-999.0000, -999.00
33RO20071215,        P18,      17,          1,         24,      12019,2,20071221,       1341,    15.0000,  -110.0005,       3895,   317.2,  10.2612,  34.6690,2,  34.6672,2,      2.4,2,     2.5,2,   36.60,2,   28.70,2,    1.39,2,    2.61,2,-999.000,9,-999.000,9,-999.0000,9,  2281.4,2,  2309.1,2,   -999.0,9,  -999.00,   7.3856,2,    25.00,-999.000,9,-999.0000,9, -999.00,9, -999.00,9,  -999.0,9,-999.000,9,-999.000,-999.000,9,-999.000,9,   43.10,2,   31.14,2, -999.00,1, -999.00,9, -999.00,9,-999.000,-999.0000,9,-999.0000,9,-999.0000,9,-999.0000,9,-999.0000,9,-999.0000,9,-999.0000,9,-999.0000,9,-999.0000,9,  10.2237,     -999.0,9,     -999.0,9,     -999.0,9,     -999.0,1,     -999.0,9,     -999.0,9,     -999.0,9,-999.0000, -999.00
33RO20071215,        P18,      17,          1,         23,      12022,2,20071221,       1341,    15.0000,  -110.0005,       3895,   368.3,   9.7465,  34.6419,2,  34.6407,2,      2.3,2,     2.3,2,   40.10,2,   30.70,2,    0.44,2,    2.69,2,-999.000,9,-999.000,9,-999.0000,9,  -999.0,9,  -999.0,9,   -999.0,9,  -999.00,-999.0000,9,  -999.00,-999.000,9,-999.0000,9, -999.00,9, -999.00,9,  -999.0,9,-999.000,9,-999.000,-999.000,9,-999.000,9,   42.84,2,   32.45,2, -999.00,1, -999.00,9, -999.00,9,-999.000,-999.0000,9,-999.0000,9,-999.0000,9,-999.0000,9,-999.0000,9,-999.0000,9,-999.0000,9,-999.0000,9,-999.0000,9,   9.7042,     -999.0,9,     -999.0,9,     -999.0,9,     -999.0,9,     -999.0,9,     -999.0,9,     -999.0,9,-999.0000, -999.00
33RO20071215,        P18,      17,          1,         22,      12015,2,20071221,       1341,    15.0000,  -110.0005,       3895,   433.8,   8.9738,  34.6084,2,  34.6099,2,      2.3,2,     3.0,2,   47.70,2,   30.80,2,    0.22,2,    2.84,2,-999.000,9,-999.000,9,-999.0000,9,  2295.1,2,  2315.5,2,   1939.9,2,    20.00,   7.3703,2,    25.00,-999.000,9,-999.0000,9, -999.00,9, -999.00,9,  -999.0,9,-999.000,9,-999.000,-999.000,9,-999.000,9,   42.51,2,   32.15,2, -999.00,1, -999.00,9, -999.00,9,-999.000,-999.0000,9,-999.0000,9,-999.0000,9,-999.0000,9,-999.0000,9,-999.0000,9,-999.0000,9,-999.0000,9,-999.0000,9,   8.9264,     -999.0,9,     -999.0,9,     -999.0,9,     -999.0,1,     -999.0,9,     -999.0,9,     -999.0,9,-999.0000, -999.00
33RO20071215,        P18,      17,          1,         21,      12020,2,20071221,       1341,    15.0000,  -110.0005,       3895,   533.4,   7.6684,  34.5632,2,  34.5620,2,      2.2,2,     2.3,2,   60.40,2,   35.10,2,    0.01,2,    3.03,2,-999.000,9,-999.000,9,-999.0000,9,  -999.0,9,  -999.0,9,   -999.0,9,  -999.00,-999.0000,9,  -999.00,-999.000,9,-999.0000,9, -999.00,9, -999.00,9,  -999.0,9,-999.000,9,-999.000,-999.000,9,-999.000,9,   41.58,2,   36.84,2, -999.00,1, -999.00,9, -999.00,9,-999.000,-999.0000,9,-999.0000,9,-999.0000,9,-999.0000,9,-999.0000,9,-999.0000,9,-999.0000,9,-999.0000,9,-999.0000,9,   7.6149,     -999.0,9,     -999.0,9,     -999.0,9,     -999.0,9,     -999.0,9,     -999.0,9,     -999.0,9,-999.0000, -999.00
33RO20071215,        P18,      17,          1,         20,      12055,2,20071221,       1341,    15.0000,  -110.0005,       3895,   633.7,   6.6195,  34.5490,2,  34.5477,2,      2.2,2,     2.5,2,   72.10,2,   38.80,2,    0.00,2,    3.15,2,-999.000,9,-999.000,9,-999.0000,9,  2325.8,2,  2338.5,2,   -999.0,9,  -999.00,   7.3477,2,    25.00,-999.000,9,-999.0000,9, -999.00,9, -999.00,9,  -999.0,9,-999.000,9,-999.000,-999.000,9,-999.000,9,   40.94,2,   40.28,2, -999.00,1, -999.00,9, -999.00,9,-999.000,-999.0000,9,-999.0000,9,-999.0000,9,-999.0000,9,-999.0000,9,-999.0000,9,-999.0000,9,-999.0000,9,-999.0000,9,   6.5605,     -999.0,9,     -999.0,9,     -999.0,9,     -999.0,1,     -999.0,9,     -999.0,9,     -999.0,9,-999.0000, -999.00
33RO20071215,        P18,      17,          1,         19,      12018,2,20071221,       1341,    15.0000,  -110.0005,       3895,   733.5,   5.9792,  34.5456,2,  34.5460,2,      2.2,2,     3.0,2,   80.20,2,   41.70,2,    0.00,2,    3.24,2,-999.000,9,-999.000,9,-999.0000,9,  -999.0,9,  -999.0,9,   -999.0,9,  -999.00,-999.0000,9,  -999.00,-999.000,9,-999.0000,9, -999.00,9, -999.00,9,  -999.0,9,-999.000,9,-999.000,-999.000,9,-999.000,9,   40.07,2,   42.60,2, -999.00,1, -999.00,9, -999.00,9,-999.000,-999.0000,9,-999.0000,9,-999.0000,9,-999.0000,9,-999.0000,9,-999.0000,9,-999.0000,9,-999.0000,9,-999.0000,9,   5.9139,     -999.0,9,     -999.0,9,     -999.0,9,     -999.0,9,     -999.0,9,     -999.0,9,     -999.0,9,-999.0000, -999.00
33RO20071215,        P18,      17,          1,         18,      12025,2,20071221,       1341,    15.0000,  -110.0005,       3895,   833.8,   5.3263,  34.5417,2,  34.5421,2,      4.4,2,     4.8,2,   88.80,2,   43.90,2,    0.00,2,    3.27,2,-999.000,9,-999.000,9,-999.0000,9,  2344.0,2,  2338.4,4,   -999.0,9,  -999.00,   7.3190,2,    25.00,-999.000,9,-999.0000,9, -999.00,9, -999.00,9,  -999.0,9,-999.000,9,-999.000,-999.000,9,-999.000,9,   39.14,2,   44.83,2, -999.00,1, -999.00,9, -999.00,9,-999.000,-999.0000,9,-999.0000,9,-999.0000,9,-999.0000,9,-999.0000,9,-999.0000,9,-999.0000,9,-999.0000,9,-999.0000,9,   5.2557,     -999.0,9,     -999.0,9,     -999.0,9,     -999.0,1,     -999.0,9,     -999.0,9,     -999.0,9,-999.0000, -999.00
33RO20071215,        P18,      17,          1,         17,      12016,2,20071221,       1341,    15.0000,  -110.0005,       3895,   934.8,   4.8482,  34.5450,2,  34.5454,2,      9.8,2,     9.6,2,   96.70,2,   44.80,2,    0.00,2,    3.27,2,-999.000,9,-999.000,9,-999.0000,9,  -999.0,9,  -999.0,9,   -999.0,9,  -999.00,-999.0000,9,  -999.00,-999.000,9,-999.0000,9, -999.00,9, -999.00,9,  -999.0,9,-999.000,9,-999.000,-999.000,9,-999.000,9,   38.29,2,   45.71,2, -999.00,1, -999.00,9, -999.00,9,-999.000,-999.0000,9,-999.0000,9,-999.0000,9,-999.0000,9,-999.0000,9,-999.0000,9,-999.0000,9,-999.0000,9,-999.0000,9,   4.7718,     -999.0,9,     -999.0,9,     -999.0,9,     -999.0,9,     -999.0,9,     -999.0,9,     -999.0,9,-999.0000, -999.00
33RO20071215,        P18,      17,          1,         16,      12051,2,20071221,       1341,    15.0000,  -110.0005,       3895,  1033.0,   4.5400,  34.5518,2,  34.5527,2,     13.0,2,    14.4,2,  102.40,2,   45.10,2,    0.00,2,    3.28,2,-999.000,9,-999.000,9,-999.0000,9,  2354.7,2,  2371.6,4,   2145.2,2,    20.00,   7.3392,2,    25.00,-999.000,9,-999.0000,9, -999.00,9, -999.00,9,  -999.0,9,-999.000,9,-999.000,-999.000,9,-999.000,9,   37.56,2,   46.28,2, -999.00,9, -999.00,9, -999.00,9,-999.000,-999.0000,9,-999.0000,9,-999.0000,9,-999.0000,9,-999.0000,9,-999.0000,9,-999.0000,9,-999.0000,9,-999.0000,9,   4.4572,     -999.0,9,     -999.0,9,     -999.0,9,     -999.0,1,     -999.0,9,     -999.0,9,     -999.0,9,-999.0000, -999.00
33RO20071215,        P18,      17,          1,         15,      12014,2,20071221,       1341,    15.0000,  -110.0005,       3895,  1133.9,   4.1326,  34.5621,2,  34.5616,2,     21.1,2,    22.1,2,  109.90,2,   44.80,2,    0.00,2,    3.25,2,-999.000,9,-999.000,9,-999.0000,9,  -999.0,9,  -999.0,9,   -999.0,9,  -999.00,-999.0000,9,  -999.00,-999.000,9,-999.0000,9, -999.00,9, -999.00,9,  -999.0,9,-999.000,9,-999.000,-999.000,9,-999.000,9,   37.04,2,   46.12,2, -999.00,9, -999.00,9, -999.00,9,-999.000,-999.0000,9,-999.0000,9,-999.0000,9,-999.0000,9,-999.0000,9,-999.0000,9,-999.0000,9,-999.0000,9,-999.0000,9,   4.0444,     -999.0,9,     -999.0,9,     -999.0,9,     -999.0,9,     -999.0,9,     -999.0,9,     -999.0,9,-999.0000, -999.00
33RO20071215,        P18,      17,          1,         14,      12013,2,20071221,       1341,    15.0000,  -110.0005,       3895,  1234.0,   3.8096,  34.5733,2,  34.5731,2,     27.8,2,    29.4,2,  116.80,2,   44.50,2,    0.00,2,    3.19,2,-999.000,9,-999.000,9,-999.0000,9,  2361.9,2,  2388.5,4,   -999.0,9,  -999.00,   7.3667,2,    25.00,-999.000,9,-999.0000,9, -999.00,9, -999.00,9,  -999.0,9,-999.000,9,-999.000,-999.000,9,-999.000,9,   37.09,2,   45.38,2, -999.00,9, -999.00,9, -999.00,9,-999.000,-999.0000,9,-999.0000,9,-999.0000,9,-999.0000,9,-999.0000,9,-999.0000,9,-999.0000,9,-999.0000,9,-999.0000,9,   3.7157,     -999.0,9,     -999.0,9,     -999.0,9,     -999.0,1,     -999.0,9,     -999.0,9,     -999.0,9,-999.0000, -999.00
33RO20071215,        P18,      17,          1,         13,      12012,2,20071221,       1341,    15.0000,  -110.0005,       3895,  1332.9,   3.5161,  34.5843,2,  34.5854,2,     36.2,2,    37.3,2,  122.90,2,   44.20,2,    0.00,2,    3.16,2,-999.000,9,-999.000,9,-999.0000,9,  -999.0,9,  -999.0,9,   -999.0,9,  -999.00,-999.0000,9,  -999.00,-999.000,9,-999.0000,9, -999.00,9, -999.00,9,  -999.0,9,-999.000,9,-999.000,-999.000,9,-999.000,9,   37.03,2,   45.59,2, -999.00,9, -999.00,9, -999.00,9,-999.000,-999.0000,9,-999.0000,9,-999.0000,9,-999.0000,9,-999.0000,9,-999.0000,9,-999.0000,9,-999.0000,9,-999.0000,9,   3.4166,     -999.0,9,     -999.0,9,     -999.0,9,     -999.0,9,     -999.0,9,     -999.0,9,     -999.0,9,-999.0000, -999.00
33RO20071215,        P18,      17,          1,         12,      12031,2,20071221,       1341,    15.0000,  -110.0005,       3895,  1466.9,   3.1784,  34.5984,2,  34.5974,2,     46.8,2,    49.7,3,  129.90,2,   43.50,2,    0.00,2,    3.07,2,-999.000,9,-999.000,9,-999.0000,9,  2366.2,2,  2402.9,4,   1866.8,2,    20.00,   7.4001,2,    25.00,-999.000,9,-999.0000,9, -999.00,9, -999.00,9,  -999.0,9,-999.000,9,-999.000,-999.000,9,-999.000,9,   37.31,2,   44.91,2, -999.00,9, -999.00,9, -999.00,9,-999.000,-999.0000,9,-999.0000,9,-999.0000,9,-999.0000,9,-999.0000,9,-999.0000,9,-999.0000,9,-999.0000,9,-999.0000,9,   3.0713,     -999.0,9,     -999.0,9,     -999.0,9,     -999.0,1,     -999.0,9,     -999.0,9,     -999.0,9,-999.0000, -999.00