BOTTLE,20220818CCHSIOAMB
EXPOCODE,SECT_ID,STNNBR,CASTNO,SAMPNO,BTLNBR,BTLNBR_FLAG_W,DATE,TIME,LATITUDE,LONGITUDE,DEPTH,CTDPRS,CTDTMP,CTDSAL,CTDSAL_FLAG_W,SALNTY,SALNTY_FLAG_W,CTDOXY,CTDOXY_FLAG_W,OXYGEN,OXYGEN_FLAG_W,SILCAT,SILCAT_FLAG_W,NITRAT,NITRAT_FLAG_W,NITRIT,NITRIT_FLAG_W,PHSPHT,PHSPHT_FLAG_W,CFC-11,CFC-11_FLAG_W,CFC-12,CFC-12_FLAG_W,SF6,SF6_FLAG_W,TCARBN,TCARBN_FLAG_W,ALKALI,ALKALI_FLAG_W,FCO2,FCO2_FLAG_W,FCO2TMP,PH_SWS,PH_SWS_FLAG_W,PH_TMP,TRITUM,TRITUM_FLAG_W,HELIUM,HELIUM_FLAG_W,DELHE3,DELHE3_FLAG_W,DELC13,DELC13_FLAG_W,DELC14,DELC14_FLAG_W,NEON,NEON_FLAG_W,NEONER,CCL4,CCL4_FLAG_W,POC,POC_FLAG_W,DOC,DOC_FLAG_W,TDN,TDN_FLAG_W,DON,DON_FLAG_W,CHLORA,CHLORA_FLAG_W,ARGON,ARGON_FLAG_W,TRITER,CDOM325,CDOM325_FLAG_W,CDOM340,CDOM340_FLAG_W,CDOM380,CDOM380_FLAG_W,CDOM412,CDOM412_FLAG_W,CDOM443,CDOM443_FLAG_W,CDOM490,CDOM490_FLAG_W,CDOM555,CDOM555_FLAG_W,CDOMSL,CDOMSL_FLAG_W,CDOMSN,CDOMSN_FLAG_W,THETA,D18O_NO3,D18O_NO3_FLAG_W,CDOM2C,CDOM2C_FLAG_W,CDOM3C,CDOM3C_FLAG_W,LAB_DEN,LAB_DEN_FLAG_W,DELSI30,DELSI30_FLAG_W,N2,N2_FLAG_W,D15N_NO3,D15N_NO3_FLAG_W,HELIER,DELHER
,,,,,,,,,,,METERS,DBAR,ITS-90,PSS-78,,PSS-78,,UMOL/KG,,UMOL/KG,,UMOL/KG,,UMOL/KG,,UMOL/KG,,UMOL/KG,,PMOL/KG,,PMOL/KG,,FMOL/KG,,UMOL/KG,,UMOL/KG,,UATM,,DEG C,,,DEG C,TU,,NMOL/KG,,PERCNT,,/MILLE,,/MILLE,,NMOL/KG,,NMOL/KG,PMOL/KG,,UG/KG,,UMOL/KG,,UMOL/KG,,UMOL/KG,,UG/KG,,UMOL/KG,,TU,1/M,,1/M,,1/M,,1/M,,1/M,,1/M,,1/M,,1/NM,,1/NM,,DEG C,/MILLE,,,,,,,,/MILLE,,UMOL/KG,,/MILLE,,NMOL/KG,PERCNT
33RO20071215,        P18,     159,          1,         24,      11024,2,20080210,       0620,   -62.7502,  -103.0010,       5049,     5.5,   3.6445,  33.8798,2,  33.8812,2,    321.0,2,   320.9,2,   10.70,2,   25.00,2,    0.23,2,    1.73,2,   5.200,2,   2.921,2,   2.1332,2,  2137.2,6,  2281.9,2,   -999.0,9,  -999.00,   7.7436,2,    25.00,-999.000,9,-999.0000,9, -999.00,9, -999.00,9,  -999.0,9,-999.000,9,-999.000,-999.000,9,-999.000,9,   46.90,2,   29.20,2, -999.00,1, -999.00,9, -999.00,9,-999.000,-999.0000,9,-999.0000,9,-999.0000,9,-999.0000,9,-999.0000,9,-999.0000,9,-999.0000,9,-999.0000,9,-999.0000,9,   3.6442,     -999.0,9,     -999.0,9,     -999.0,9,     -999.0,9,     -999.0,9,     -999.0,9,     -999.0,9,-999.0000, -999.00
33RO20071215,        P18,     159,          1,         23,      11023,2,20080210,       0620,   -62.7502,  -103.0010,       5049,    20.0,   3.6458,  33.8799,2,  33.8810,2,    321.6,2,   320.9,2,   10.80,2,   25.00,2,    0.23,2,    1.74,2,-999.000,9,-999.000,9,-999.0000,9,  2140.2,2,  2280.6,2,   -999.0,9,  -999.00,   7.7416,2,    25.00,-999.000,9,-999.0000,9, -999.00,9, -999.00,9,  -999.0,9,-999.000,9,-999.000,-999.000,9,-999.000,9,   46.50,2,   29.29,2, -999.00,1, -999.00,9, -999.00,9,-999.000,-999.0000,9,-999.0000,9,-999.0000,9,-999.0000,9,-999.0000,9,-999.0000,9,-999.0000,9,-999.0000,9,-999.0000,9,   3.6445,     -999.0,9,     -999.0,9,     -999.0,9,     -999.0,9,     -999.0,9,     -999.0,9,     -999.0,9,-999.0000, -999.00
33RO20071215,        P18,     159,          1,         22,      11022,2,20080210,       0620,   -62.7502,  -103.0010,       5049,    42.4,   3.6066,  33.8816,2,  33.8994,2,    321.9,2,   324.9,2,   11.80,2,   25.30,2,    0.21,2,    1.77,2,   5.390,2,   3.038,2,   2.1868,2,  2141.3,2,  2281.5,2,   -999.0,9,  -999.00,   7.7365,2,    25.00,-999.000,9,-999.0000,9, -999.00,9, -999.00,9,  -999.0,9,-999.000,9,-999.000,-999.000,9,-999.000,9,   46.60,2,   29.09,2, -999.00,1, -999.00,9, -999.00,9,-999.000,-999.0000,9,-999.0000,9,-999.0000,9,-999.0000,9,-999.0000,9,-999.0000,9,-999.0000,9,-999.0000,9,-999.0000,9,   3.6039,     -999.0,9,     -999.0,9,     -999.0,9,     -999.0,9,     -999.0,9,     -999.0,9,     -999.0,9,-999.0000, -999.00
33RO20071215,        P18,     159,          1,         21,      11021,2,20080210,       0620,   -62.7502,  -103.0010,       5049,    66.8,   1.5618,  33.9486,2,  33.9482,2,    333.7,2,   333.4,2,   17.60,2,   26.40,2,    0.17,2,    1.94,2,-999.000,9,-999.000,9,-999.0000,9,  2152.1,2,  2284.5,2,   -999.0,9,  -999.00,   7.7214,2,    25.00,-999.000,9,-999.0000,9, -999.00,9, -999.00,9,  -999.0,9,-999.000,9,-999.000,-999.000,9,-999.000,9,   46.14,2,   30.08,2, -999.00,1, -999.00,9, -999.00,9,-999.000,-999.0000,9,-999.0000,9,-999.0000,9,-999.0000,9,-999.0000,9,-999.0000,9,-999.0000,9,-999.0000,9,-999.0000,9,   1.5586,     -999.0,9,     -999.0,9,     -999.0,9,     -999.0,9,     -999.0,9,     -999.0,9,     -999.0,9,-999.0000, -999.00
33RO20071215,        P18,     159,          1,         20,      11020,2,20080210,       0620,   -62.7502,  -103.0010,       5049,    91.9,   0.9633,  33.9797,2,  33.9835,2,    330.5,2,   327.9,2,   23.50,2,   27.80,2,    0.21,2,    2.01,2,   5.714,2,   3.154,2,   2.2084,2,  2162.6,2,  2285.2,2,   -999.0,9,  -999.00,   7.6954,2,    25.00,-999.000,9,-999.0000,9, -999.00,9, -999.00,9,  -999.0,9,-999.000,9,-999.000,-999.000,9,-999.000,9,   44.91,2,   30.98,2, -999.00,1, -999.00,9, -999.00,9,-999.000,-999.0000,9,-999.0000,9,-999.0000,9,-999.0000,9,-999.0000,9,-999.0000,9,-999.0000,9,-999.0000,9,-999.0000,9,   0.9593,     -999.0,9,     -999.0,9,     -999.0,9,     -999.0,9,     -999.0,9,     -999.0,9,     -999.0,9,-999.0000, -999.00
33RO20071215,        P18,     159,          1,         19,      11019,2,20080210,       0620,   -62.7502,  -103.0010,       5049,   132.8,   1.0711,  34.0507,2,  34.0534,2,    320.5,2,   303.2,2,   31.50,2,   30.40,2,    0.12,2,    2.11,2,-999.000,9,-999.000,9,-999.0000,9,  2177.7,2,  2289.0,2,   -999.0,9,  -999.00,   7.6562,2,    25.00,-999.000,9,-999.0000,9, -999.00,9, -999.00,9,  -999.0,9,-999.000,9,-999.000,-999.000,9,-999.000,9,   44.62,2,   33.21,2, -999.00,1, -999.00,9, -999.00,9,-999.000,-999.0000,9,-999.0000,9,-999.0000,9,-999.0000,9,-999.0000,9,-999.0000,9,-999.0000,9,-999.0000,9,-999.0000,9,   1.0653,     -999.0,9,     -999.0,9,     -999.0,9,     -999.0,9,     -999.0,9,     -999.0,9,     -999.0,9,-999.0000, -999.00
33RO20071215,        P18,     159,          1,         18,      11018,2,20080210,       0620,   -62.7502,  -103.0010,       5049,   200.1,   0.5997,  34.0645,2,  34.0683,2,    304.5,2,   303.4,2,   35.20,2,   30.80,2,    0.02,2,    2.13,2,   5.087,2,   2.834,2,   1.8533,2,  2183.6,2,  2291.7,2,   -999.0,9,  -999.00,   7.6529,2,    25.00,-999.000,9,-999.0000,9, -999.00,9, -999.00,9,  -999.0,9,-999.000,9,-999.000,-999.000,9,-999.000,9,   44.05,2,   33.24,2, -999.00,1, -999.00,9, -999.00,9,-999.000,-999.0000,9,-999.0000,9,-999.0000,9,-999.0000,9,-999.0000,9,-999.0000,9,-999.0000,9,-999.0000,9,-999.0000,9,   0.5915,     -999.0,9,     -999.0,9,     -999.0,9,     -999.0,9,     -999.0,9,     -999.0,9,     -999.0,9,-999.0000, -999.00
33RO20071215,        P18,     159,          1,         17,      11017,2,20080210,       0620,   -62.7502,  -103.0010,       5049,   274.5,   1.5882,  34.2085,2,  34.2155,2,    251.1,2,   249.8,2,   45.60,2,   32.90,2,    0.01,2,    2.27,2,   3.575,2,   1.928,2,   1.1933,2,  2206.6,2,  2300.1,2,   -999.0,9,  -999.00,   7.5996,2,    25.00,-999.000,9,-999.0000,9, -999.00,9, -999.00,9,  -999.0,9,-999.000,9,-999.000,-999.000,9,-999.000,9,   42.93,2,   34.77,2, -999.00,1, -999.00,9, -999.00,9,-999.000,-999.0000,9,-999.0000,9,-999.0000,9,-999.0000,9,-999.0000,9,-999.0000,9,-999.0000,9,-999.0000,9,-999.0000,9,   1.5745,     -999.0,9,     -999.0,9,     -999.0,9,     -999.0,9,     -999.0,9,     -999.0,9,     -999.0,9,-999.0000, -999.00
33RO20071215,        P18,     159,          1,         16,      11016,2,20080210,       0620,   -62.7502,  -103.0010,       5049,   367.5,   2.2828,  34.3699,2,  34.3725,2,    204.3,2,   200.8,2,   58.10,2,   34.70,2,    0.00,2,    2.39,2,   1.974,2,   1.007,2,   0.5402,2,  2235.6,2,  2314.5,4,   -999.0,9,  -999.00,   7.5666,2,    25.00,-999.000,9,-999.0000,9, -999.00,9, -999.00,9,  -999.0,9,-999.000,9,-999.000,-999.000,9,-999.000,9,   42.52,2,   35.93,2, -999.00,1, -999.00,9, -999.00,9,-999.000,-999.0000,9,-999.0000,9,-999.0000,9,-999.0000,9,-999.0000,9,-999.0000,9,-999.0000,9,-999.0000,9,-999.0000,9,   2.2619,     -999.0,9,     -999.0,9,     -999.0,9,     -999.0,9,     -999.0,9,     -999.0,9,     -999.0,9,-999.0000, -999.00
33RO20071215,        P18,     159,          1,         15,      11015,2,20080210,       0620,   -62.7502,  -103.0010,       5049,   465.3,   2.2442,  34.4459,2,  34.4488,2,    188.6,2,   186.8,2,   65.90,2,   35.20,2,    0.00,2,    2.42,2,-999.000,9,-999.000,9,-999.0000,9,  2244.2,2,  2322.3,2,   -999.0,9,  -999.00,   7.5554,2,    25.00,-999.000,9,-999.0000,9, -999.00,9, -999.00,9,  -999.0,9,-999.000,9,-999.000,-999.000,9,-999.000,9,   41.80,2,   36.09,2, -999.00,1, -999.00,9, -999.00,9,-999.000,-999.0000,9,-999.0000,9,-999.0000,9,-999.0000,9,-999.0000,9,-999.0000,9,-999.0000,9,-999.0000,9,-999.0000,9,   2.2174,     -999.0,9,     -999.0,9,     -999.0,9,     -999.0,9,     -999.0,9,     -999.0,9,     -999.0,9,-999.0000, -999.00
33RO20071215,        P18,     159,          1,         14,      11014,2,20080210,       0620,   -62.7502,  -103.0010,       5049,   599.4,   2.2714,  34.5429,2,  34.5453,2,    175.6,2,   176.9,2,   72.90,2,   34.90,2,    0.00,2,    2.40,2,   0.833,2,   0.419,2,   0.1708,2,  2251.8,2,  2331.0,2,   -999.0,9,  -999.00,   7.5599,2,    25.00,-999.000,9,-999.0000,9, -999.00,9, -999.00,9,  -999.0,9,-999.000,9,-999.000,-999.000,9,-999.000,9,   40.50,2,   36.08,2, -999.00,1, -999.00,9, -999.00,9,-999.000,-999.0000,9,-999.0000,9,-999.0000,9,-999.0000,9,-999.0000,9,-999.0000,9,-999.0000,9,-999.0000,9,-999.0000,9,   2.2360,     -999.0,9,     -999.0,9,     -999.0,9,     -999.0,9,     -999.0,9,     -999.0,9,     -999.0,9,-999.0000, -999.00
33RO20071215,        P18,     159,          1,         13,      11013,2,20080210,       0620,   -62.7502,  -103.0010,       5049,   750.5,   2.2395,  34.6100,2,  34.6136,2,    174.4,2,   175.1,2,   77.50,2,   34.30,2,    0.00,2,    2.36,2,   0.511,2,   0.257,2,   0.0973,2,  2254.5,2,  2338.9,2,   -999.0,9,  -999.00,   7.5663,2,    25.00,-999.000,9,-999.0000,9, -999.00,9, -999.00,9,  -999.0,9,-999.000,9,-999.000,-999.000,9,-999.000,9,   40.17,2,   35.76,2, -999.00,1, -999.00,9, -999.00,9,-999.000,-999.0000,9,-999.0000,9,-999.0000,9,-999.0000,9,-999.0000,9,-999.0000,9,-999.0000,9,-999.0000,9,-999.0000,9,   2.1944,     -999.0,9,     -999.0,9,     -999.0,9,     -999.0,9,     -999.0,9,     -999.0,9,     -999.0,9,-999.0000, -999.00
33RO20071215,        P18,     159,          1,         12,      11012,2,20080210,       0620,   -62.7502,  -103.0010,       5049,   901.3,   2.1874,  34.6520,2,  34.6535,2,    175.7,2,   175.8,2,   80.20,2,   33.60,2,    0.00,2,    2.32,2,   0.392,2,   0.198,2,   0.0422,2,  2255.0,2,  2342.5,2,   -999.0,9,  -999.00,   7.5708,2,    25.00,-999.000,9,-999.0000,9, -999.00,9, -999.00,9,  -999.0,9,-999.000,9,-999.000,-999.000,9,-999.000,9,   39.79,2,   34.82,2, -999.00,1, -999.00,9, -999.00,9,-999.000,-999.0000,9,-999.0000,9,-999.0000,9,-999.0000,9,-999.0000,9,-999.0000,9,-999.0000,9,-999.0000,9,-999.0000,9,   2.1324,     -999.0,9,     -999.0,9,     -999.0,9,     -999.0,9,     -999.0,9,     -999.0,9,     -999.0,9,-999.0000, -999.00
33RO20071215,        P18,     159,          1,         11,      11010,2,20080210,       0620,   -62.7502,  -103.0010,       5049,  1025.3,   2.1317,  34.6813,2,  34.6815,2,    178.0,2,   178.3,2,   82.40,2,   33.10,2,    0.00,2,    2.28,2,-999.000,9,-999.000,9,-999.0000,9,  2254.9,2,  2342.8,2,   -999.0,9,  -999.00,   7.5818,2,    25.00,-999.000,9,-999.0000,9, -999.00,9, -999.00,9,  -999.0,9,-999.000,9,-999.000,-999.000,9,-999.000,9,   39.47,2,   34.59,2, -999.00,1, -999.00,9, -999.00,9,-999.000,-999.0000,9,-999.0000,9,-999.0000,9,-999.0000,9,-999.0000,9,-999.0000,9,-999.0000,9,-999.0000,9,-999.0000,9,   2.0685,     -999.0,9,     -999.0,9,     -999.0,9,     -999.0,9,     -999.0,9,     -999.0,9,     -999.0,9,-999.0000, -999.00
33RO20071215,        P18,     159,          1,         10,      11011,2,20080210,       0620,   -62.7502,  -103.0010,       5049,  1233.0,   2.0070,  34.7121,2,  34.7160,2,    182.2,2,   182.6,2,   85.90,2,   32.40,2,    0.00,2,    2.24,2,   0.216,2,   0.108,2,   0.0743,2,  2252.7,2,  2347.7,2,   -999.0,9,  -999.00,   7.5935,2,    25.00,-999.000,9,-999.0000,9, -999.00,9, -999.00,9,  -999.0,9,-999.000,9,-999.000,-999.000,9,-999.000,9,   39.10,3,   33.76,3, -999.00,1, -999.00,9, -999.00,9,-999.000,-999.0000,9,-999.0000,9,-999.0000,9,-999.0000,9,-999.0000,9,-999.0000,9,-999.0000,9,-999.0000,9,-999.0000,9,   1.9302,     -999.0,9,     -999.0,9,     -999.0,9,     -999.0,9,     -999.0,9,     -999.0,9,     -999.0,9,-999.0000, -999.00
33RO20071215,        P18,     159,          1,          9,      11009,2,20080210,       0620,   -62.7502,  -103.0010,       5049,  1500.9,   1.7923,  34.7310,2,  34.7299,2,    188.0,2,   188.8,2,   92.20,2,   32.00,2,    0.00,2,    2.21,2,   0.160,2,   0.078,2,   0.0000,2,  2253.8,2,  2350.4,2,   -999.0,9,  -999.00,   7.6003,2,    25.00,-999.000,9,-999.0000,9, -999.00,9, -999.00,9,  -999.0,9,-999.000,9,-999.000,-999.000,9,-999.000,9,   39.48,2,   33.71,2, -999.00,1, -999.00,9, -999.00,9,-999.000,-999.0000,9,-999.0000,9,-999.0000,9,-999.0000,9,-999.0000,9,-999.0000,9,-999.0000,9,-999.0000,9,-999.0000,9,   1.6979,     -999.0,9,     -999.0,9,     -999.0,9,     -999.0,9,     -999.0,9,     -999.0,9,     -999.0,9,-999.0000, -999.00
33RO20071215,        P18,     159,          1,          8,      11008,2,20080210,       0620,   -62.7502,  -103.0010,       5049,  1867.0,   1.5057,  34.7334,2,  34.7338,2,    193.2,2,   193.8,2,  101.00,2,   31.90,2,    0.00,2,    2.22,2,   0.113,2,   0.055,2,   0.1369,3,  2255.8,2,  2356.3,2,   -999.0,9,  -999.00,   7.6074,2,    25.00,-999.000,9,-999.0000,9, -999.00,9, -999.00,9,  -999.0,9,-999.000,9,-999.000,-999.000,9,-999.000,9,   39.59,2,   33.37,2, -999.00,1, -999.00,9, -999.00,9,-999.000,-999.0000,9,-999.0000,9,-999.0000,9,-999.0000,9,-999.0000,9,-999.0000,9,-999.0000,9,-999.0000,9,-999.0000,9,   1.3871,     -999.0,9,     -999.0,9,     -999.0,9,     -999.0,9,     -999.0,9,     -999.0,9,     -999.0,9,-999.0000, -999.00
33RO20071215,        P18,     159,          1,          7,      11007,2,20080210,       0620,   -62.7502,  -103.0010,       5049,  2333.9,   1.2188,  34.7265,2,  34.7265,2,    198.4,2,   198.2,2,  110.80,2,   32.30,2,    0.00,2,    2.23,2,   0.082,2,   0.041,2,   0.0000,2,  2258.2,2,  2359.5,2,   -999.0,9,  -999.00,   7.6104,2,    25.00,-999.000,9,-999.0000,9, -999.00,9, -999.00,9,  -999.0,9,-999.000,9,-999.000,   0.108,3,-999.000,9,   39.78,2,   33.66,2, -999.00,1, -999.00,9, -999.00,9,-999.000,-999.0000,9,-999.0000,9,-999.0000,9,-999.0000,9,-999.0000,9,-999.0000,9,-999.0000,9,-999.0000,9,-999.0000,9,   1.0669,     -999.0,9,     -999.0,9,     -999.0,9,     -999.0,9,     -999.0,9,     -999.0,9,     -999.0,9,-999.0000, -999.00
33RO20071215,        P18,     159,          1,          6,      11006,2,20080210,       0620,   -62.7502,  -103.0010,       5049,  2832.8,   0.9648,  34.7178,2,  34.7172,2,    202.3,2,   203.0,2,  119.30,2,   32.50,2,    0.00,2,    2.25,2,   0.100,6,   0.049,6,   0.0000,6,  2261.1,6,  2358.9,2,   -999.0,9,  -999.00,   7.6070,2,    25.00,-999.000,9,-999.0000,9, -999.00,9, -999.00,9,  -999.0,9,-999.000,9,-999.000,   0.131,3,-999.000,9,   39.33,2,   33.80,2, -999.00,1, -999.00,9, -999.00,9,-999.000,-999.0000,9,-999.0000,9,-999.0000,9,-999.0000,9,-999.0000,9,-999.0000,9,-999.0000,9,-999.0000,9,-999.0000,9,   0.7747,     -999.0,9,     -999.0,9,     -999.0,9,     -999.0,9,     -999.0,9,     -999.0,9,     -999.0,9,-999.0000, -999.00
33RO20071215,        P18,     159,          1,          5,      11005,2,20080210,       0620,   -62.7502,  -103.0010,       5049,  3332.8,   0.7560,  34.7109,2,  34.7091,2,    206.9,2,   207.0,2,  126.10,2,   32.80,2,    0.00,2,    2.27,2,-999.000,9,-999.000,9,-999.0000,9,  2258.9,2,  2359.9,2,   -999.0,9,  -999.00,   7.6055,2,    25.00,-999.000,9,-999.0000,9, -999.00,9, -999.00,9,  -999.0,9,-999.000,9,-999.000,-999.000,9,-999.000,9,   39.55,2,   33.86,2, -999.00,1, -999.00,9, -999.00,9,-999.000,-999.0000,9,-999.0000,9,-999.0000,9,-999.0000,9,-999.0000,9,-999.0000,9,-999.0000,9,-999.0000,9,-999.0000,9,   0.5246,     -999.0,9,     -999.0,9,     -999.0,9,     -999.0,9,     -999.0,9,     -999.0,9,     -999.0,9,-999.0000, -999.00
33RO20071215,        P18,     159,          1,          4,      11004,2,20080210,       0620,   -62.7502,  -103.0010,       5049,  3820.6,   0.5502,  34.7066,2,  34.7068,2,    211.7,2,   212.1,2,  130.50,6,   33.00,6,    0.00,6,    2.28,2,   0.209,2,   0.102,2,   0.1129,3,  2260.6,2,  2359.5,2,   -999.0,9,  -999.00,   7.6081,2,    25.00,-999.000,9,-999.0000,9, -999.00,9, -999.00,9,  -999.0,9,-999.000,9,-999.000,   0.212,3,-999.000,9,   40.22,2,   34.22,2, -999.00,9, -999.00,9, -999.00,9,-999.000,-999.0000,9,-999.0000,9,-999.0000,9,-999.0000,9,-999.0000,9,-999.0000,9,-999.0000,9,-999.0000,9,-999.0000,9,   0.2763,     -999.0,9,     -999.0,9,     -999.0,9,     -999.0,9,     -999.0,9,     -999.0,9,     -999.0,9,-999.0000, -999.00
33RO20071215,        P18,     159,          1,          3,      11003,2,20080210,       0620,   -62.7502,  -103.0010,       5049,  4332.6,   0.4273,  34.7050,2,  34.7075,2,    215.1,2,   214.9,2,  135.50,6,   33.10,6,    0.00,6,    2.29,2,   0.243,2,   0.121,2,   0.1201,2,  2261.2,2,  2360.7,2,   -999.0,9,  -999.00,   7.6034,2,    25.00,-999.000,9,-999.0000,9, -999.00,9, -999.00,9,  -999.0,9,-999.000,9,-999.000,   0.260,3,-999.000,9,   39.34,2,   34.73,2, -999.00,9, -999.00,9, -999.00,9,-999.000,-999.0000,9,-999.0000,9,-999.0000,9,-999.0000,9,-999.0000,9,-999.0000,9,-999.0000,9,-999.0000,9,-999.0000,9,   0.1038,     -999.0,9,     -999.0,9,     -999.0,9,     -999.0,9,     -999.0,9,     -999.0,9,     -999.0,9,-999.0000, -999.00
33RO20071215,        P18,     159,          1,          2,      11002,2,20080210,       0620,   -62.7502,  -103.0010,       5049,  4832.2,   0.4143,  34.7038,2,  34.7041,2,    216.5,2,   216.7,2,  139.40,6,   33.10,6,    0.00,6,    2.29,2,-999.000,9,-999.000,9,-999.0000,9,  2261.7,2,  2362.8,2,   -999.0,9,  -999.00,   7.6030,2,    25.00,-999.000,9,-999.0000,9, -999.00,9, -999.00,9,  -999.0,9,-999.000,9,-999.000,-999.000,9,-999.000,9,   39.04,2,   34.25,2, -999.00,9, -999.00,9, -999.00,9,-999.000,-999.0000,9,-999.0000,9,-999.0000,9,-999.0000,9,-999.0000,9,-999.0000,9,-999.0000,9,-999.0000,9,-999.0000,9,   0.0361,     -999.0,9,     -999.0,9,     -999.0,9,     -999.0,9,     -999.0,9,     -999.0,9,     -999.0,9,-999.0000, -999.00
33RO20071215,        P18,     159,          1,          1,      11001,2,20080210,       0620,   -62.7502,  -103.0010,       5049,  5119.8,   0.4243,  34.7029,2,  34.7040,2,    216.9,2,   216.6,2,  144.70,2,   33.10,2,    0.01,2,    2.29,2,   0.353,2,   0.174,2,   0.0640,2,  2263.7,6,  2365.6,2,   -999.0,9,  -999.00,   7.5901,2,    25.00,-999.000,9,-999.0000,9, -999.00,9, -999.00,9,  -999.0,9,-999.000,9,-999.000,   0.292,3,-999.000,9,   39.76,2,   34.46,2, -999.00,9, -999.00,9, -999.00,9,-999.000,-999.0000,9,-999.0000,9,-999.0000,9,-999.0000,9,-999.0000,9,-999.0000,9,-999.0000,9,-999.0000,9,-999.0000,9,   0.0125,     -999.0,9,     -999.0,9,     -999.0,9,     -999.0,9,     -999.0,9,     -999.0,9,     -999.0,9,-999.0000, -999.00