BOTTLE,20220818CCHSIOAMB
EXPOCODE,SECT_ID,STNNBR,CASTNO,SAMPNO,BTLNBR,BTLNBR_FLAG_W,DATE,TIME,LATITUDE,LONGITUDE,DEPTH,CTDPRS,CTDTMP,CTDSAL,CTDSAL_FLAG_W,SALNTY,SALNTY_FLAG_W,CTDOXY,CTDOXY_FLAG_W,OXYGEN,OXYGEN_FLAG_W,SILCAT,SILCAT_FLAG_W,NITRAT,NITRAT_FLAG_W,NITRIT,NITRIT_FLAG_W,PHSPHT,PHSPHT_FLAG_W,CFC-11,CFC-11_FLAG_W,CFC-12,CFC-12_FLAG_W,SF6,SF6_FLAG_W,TCARBN,TCARBN_FLAG_W,ALKALI,ALKALI_FLAG_W,FCO2,FCO2_FLAG_W,FCO2TMP,PH_SWS,PH_SWS_FLAG_W,PH_TMP,TRITUM,TRITUM_FLAG_W,HELIUM,HELIUM_FLAG_W,DELHE3,DELHE3_FLAG_W,DELC13,DELC13_FLAG_W,DELC14,DELC14_FLAG_W,NEON,NEON_FLAG_W,NEONER,CCL4,CCL4_FLAG_W,POC,POC_FLAG_W,DOC,DOC_FLAG_W,TDN,TDN_FLAG_W,DON,DON_FLAG_W,CHLORA,CHLORA_FLAG_W,ARGON,ARGON_FLAG_W,TRITER,CDOM325,CDOM325_FLAG_W,CDOM340,CDOM340_FLAG_W,CDOM380,CDOM380_FLAG_W,CDOM412,CDOM412_FLAG_W,CDOM443,CDOM443_FLAG_W,CDOM490,CDOM490_FLAG_W,CDOM555,CDOM555_FLAG_W,CDOMSL,CDOMSL_FLAG_W,CDOMSN,CDOMSN_FLAG_W,THETA,D18O_NO3,D18O_NO3_FLAG_W,CDOM2C,CDOM2C_FLAG_W,CDOM3C,CDOM3C_FLAG_W,LAB_DEN,LAB_DEN_FLAG_W,DELSI30,DELSI30_FLAG_W,N2,N2_FLAG_W,D15N_NO3,D15N_NO3_FLAG_W,HELIER,DELHER
,,,,,,,,,,,METERS,DBAR,ITS-90,PSS-78,,PSS-78,,UMOL/KG,,UMOL/KG,,UMOL/KG,,UMOL/KG,,UMOL/KG,,UMOL/KG,,PMOL/KG,,PMOL/KG,,FMOL/KG,,UMOL/KG,,UMOL/KG,,UATM,,DEG C,,,DEG C,TU,,NMOL/KG,,PERCNT,,/MILLE,,/MILLE,,NMOL/KG,,NMOL/KG,PMOL/KG,,UG/KG,,UMOL/KG,,UMOL/KG,,UMOL/KG,,UG/KG,,UMOL/KG,,TU,1/M,,1/M,,1/M,,1/M,,1/M,,1/M,,1/M,,1/NM,,1/NM,,DEG C,/MILLE,,,,,,,,/MILLE,,UMOL/KG,,/MILLE,,NMOL/KG,PERCNT
33RO20071215,        P18,     116,          1,         36,      12017,2,20080127,       1845,   -38.5835,  -102.9993,       4031,     5.2,  19.7910,  34.0249,2,  34.0250,2,    234.2,2,   234.9,2,    0.00,2,    5.60,2,    0.15,2,    0.44,2,-999.000,9,-999.000,9,-999.0000,9,  2027.1,6,  2264.5,2,   -999.0,9,  -999.00,   7.9326,2,    25.00,-999.000,9,-999.0000,9, -999.00,9, -999.00,9,  -999.0,9,-999.000,9,-999.000,-999.000,9,-999.000,9,   59.34,2,   10.09,2, -999.00,1,    0.05,2, -999.00,9,-999.000,   0.0436,2,   0.0227,3,  -0.0009,4,  -0.0027,4,  -0.0023,4,  -0.0014,4,  -0.0008,4,   0.0506,2,   0.0449,2,  19.7901,     -999.0,9,     -999.0,9,     -999.0,9,     -999.0,9,     -999.0,9,     -999.0,9,     -999.0,9,-999.0000, -999.00
33RO20071215,        P18,     116,          1,         35,      12029,2,20080127,       1845,   -38.5835,  -102.9993,       4031,    15.5,  19.5396,  34.0435,2,  34.0432,2,    234.3,2,   235.8,2,    0.10,2,    5.60,2,    0.14,2,    0.45,2,  -0.001,4,  -0.001,4,   0.0000,2,  2028.4,2,  -999.0,5,   -999.0,9,  -999.00,   7.9331,2,    25.00,-999.000,9,-999.0000,9, -999.00,9,    1.31,4,  -999.0,1,-999.000,9,-999.000,-999.000,9,-999.000,9,   58.15,2,    9.70,2, -999.00,1,    0.06,2, -999.00,1,-999.000,   0.0443,2,   0.0213,3,  -0.0039,4,  -0.0062,4,  -0.0044,4,  -0.0027,4,  -0.0012,4,   0.0543,2,   0.0482,2,  19.5368,     -999.0,1,     -999.0,9,     -999.0,9,     -999.0,9,     -999.0,9,     -999.0,1,     -999.0,9,-999.0000, -999.00
33RO20071215,        P18,     116,          1,         34,      12049,2,20080127,       1845,   -38.5835,  -102.9993,       4031,    33.0,  16.7491,  34.0853,2,  34.0947,2,    264.6,2,   262.9,2,    0.20,2,    5.20,2,    0.07,2,    0.41,2,-999.000,9,-999.000,9,-999.0000,9,  2032.7,2,  2267.0,2,   -999.0,9,  -999.00,   7.9334,2,    25.00,-999.000,9,-999.0000,9, -999.00,9, -999.00,9,  -999.0,9,-999.000,9,-999.000,-999.000,9,-999.000,9,   59.01,2,    9.19,2, -999.00,1,    0.08,2, -999.00,9,-999.000,   0.0474,2,   0.0239,2,  -0.0002,4,  -0.0057,4,  -0.0035,4,  -0.0020,4,  -0.0008,4,   0.0472,2,   0.0459,2,  16.7437,     -999.0,9,     -999.0,9,     -999.0,9,     -999.0,9,     -999.0,9,     -999.0,9,     -999.0,9,-999.0000, -999.00
33RO20071215,        P18,     116,          1,         33,      12027,2,20080127,       1845,   -38.5835,  -102.9993,       4031,    58.3,  13.4946,  34.0800,2,  34.0820,2,    277.9,2,   277.3,2,    0.20,2,    6.20,2,    0.09,2,    0.49,2,   3.190,4,   1.856,4,   1.4635,4,  2041.2,2,  2266.8,2,   -999.0,9,  -999.00,   7.9152,2,    25.00,-999.000,9,-999.0000,9, -999.00,9, -999.00,9,  -999.0,9,-999.000,9,-999.000,-999.000,9,-999.000,9,   56.00,2,    8.89,2, -999.00,1,    0.12,2, -999.00,9,-999.000,   0.0784,2,   0.0488,2,   0.0164,2,   0.0043,2,   0.0025,2,  -0.0011,4,  -0.0021,4,   0.0283,2,   0.0288,2,  13.4865,     -999.0,9,     -999.0,9,     -999.0,9,     -999.0,9,     -999.0,9,     -999.0,9,     -999.0,9,-999.0000, -999.00
33RO20071215,        P18,     116,          1,         32,      12023,2,20080127,       1845,   -38.5835,  -102.9993,       4031,    82.6,  12.7303,  34.0871,2,  34.0879,2,    275.2,2,   272.5,2,    0.30,2,    7.10,2,    0.14,2,    0.54,2,-999.000,9,-999.000,9,-999.0000,9,  2050.3,2,  2265.4,2,   -999.0,9,  -999.00,   7.9231,2,    25.00,-999.000,9,-999.0000,9, -999.00,9, -999.00,9,  -999.0,9,-999.000,9,-999.000,-999.000,9,-999.000,9,   55.34,2,    9.79,2, -999.00,1,    0.18,2, -999.00,9,-999.000,   0.0616,2,   0.0331,2,   0.0027,3,  -0.0058,4,  -0.0035,4,  -0.0014,4,   0.0005,4,   0.0407,2,   0.0406,2,  12.7193,     -999.0,9,     -999.0,9,     -999.0,9,     -999.0,9,     -999.0,9,     -999.0,9,     -999.0,9,-999.0000, -999.00
33RO20071215,        P18,     116,          1,         31,      12037,2,20080127,       1845,   -38.5835,  -102.9993,       4031,   108.3,  11.7949,  34.0721,2,  34.0708,2,    265.9,2,   264.4,2,    0.50,2,    9.50,2,    0.34,2,    0.73,2,   3.408,6,   1.969,6,   1.5324,6,  2065.5,2,  2264.3,2,   -999.0,9,  -999.00,   7.8636,2,    25.00,-999.000,9,-999.0000,9, -999.00,9, -999.00,9,  -999.0,9,-999.000,9,-999.000,-999.000,9,-999.000,9,   51.20,2,   12.65,2, -999.00,1,    0.16,2, -999.00,9,-999.000,   0.0619,2,   0.0354,2,   0.0063,3,  -0.0034,4,  -0.0024,4,  -0.0026,4,  -0.0009,4,   0.0353,2,   0.0357,2,  11.7811,     -999.0,9,     -999.0,9,     -999.0,9,     -999.0,9,     -999.0,9,     -999.0,9,     -999.0,9,-999.0000, -999.00
33RO20071215,        P18,     116,          1,         30,      12036,2,20080127,       1845,   -38.5835,  -102.9993,       4031,   132.2,  10.8755,  34.1040,2,  34.1120,2,    256.9,2,   256.8,2,    0.80,2,   11.60,2,    0.74,2,    0.85,2,-999.000,9,-999.000,9,-999.0000,9,  2081.0,2,  2262.3,2,   -999.0,9,  -999.00,   7.8128,2,    25.00,-999.000,9,-999.0000,9, -999.00,9, -999.00,9,  -999.0,9,-999.000,9,-999.000,-999.000,9,-999.000,9,   48.30,2,   15.16,2, -999.00,1,    0.13,2, -999.00,9,-999.000,   0.0665,2,   0.0400,2,   0.0101,3,   0.0008,3,   0.0012,4,   0.0013,3,   0.0023,3,   0.0317,2,   0.0315,2,  10.8595,     -999.0,9,     -999.0,9,     -999.0,9,     -999.0,9,     -999.0,9,     -999.0,9,     -999.0,9,-999.0000, -999.00
33RO20071215,        P18,     116,          1,         29,      12044,2,20080127,       1845,   -38.5835,  -102.9993,       4031,   158.2,   9.9329,  34.1266,2,  34.1298,2,    253.0,2,   251.9,2,    1.10,2,   14.40,2,    0.15,2,    0.98,2,   3.728,2,   2.099,2,   1.5722,2,  2092.9,2,  2265.6,2,   -999.0,9,  -999.00,   7.7946,2,    25.00,-999.000,9,-999.0000,9, -999.00,9, -999.00,9,  -999.0,9,-999.000,9,-999.000,-999.000,9,-999.000,9,   46.46,2,   16.71,2, -999.00,1,    0.08,2, -999.00,9,-999.000,   0.0628,2,   0.0362,2,   0.0095,2,   0.0011,3,   0.0001,4,  -0.0012,4,  -0.0003,4,   0.0324,2,   0.0336,2,   9.9149,     -999.0,9,     -999.0,9,     -999.0,9,     -999.0,9,     -999.0,9,     -999.0,9,     -999.0,9,-999.0000, -999.00
33RO20071215,        P18,     116,          1,         28,      12057,2,20080127,       1845,   -38.5835,  -102.9993,       4031,   183.2,   9.2791,  34.1598,2,  34.1605,2,    249.3,2,   249.0,2,    1.50,2,   16.00,2,    0.03,2,    1.07,2,-999.000,9,-999.000,9,-999.0000,9,  2104.3,2,  2267.3,2,   -999.0,9,  -999.00,   7.7753,2,    25.00,-999.000,9,-999.0000,9, -999.00,9, -999.00,9,  -999.0,9,-999.000,9,-999.000,-999.000,9,-999.000,9,   44.75,2,   18.40,2, -999.00,1,    0.06,2, -999.00,1,-999.000,   0.0683,2,   0.0420,2,   0.0156,2,   0.0058,2,   0.0024,2,  -0.0019,4,  -0.0022,4,   0.0257,2,   0.0275,2,   9.2590,     -999.0,1,     -999.0,9,     -999.0,9,     -999.0,9,     -999.0,9,     -999.0,1,     -999.0,9,-999.0000, -999.00
33RO20071215,        P18,     116,          1,         27,      12026,2,20080127,       1845,   -38.5835,  -102.9993,       4031,   218.0,   8.2846,  34.2347,2,  34.2334,2,    241.4,2,   241.8,2,    2.70,2,   19.00,2,    0.01,2,    1.26,2,   3.947,2,   2.138,2,   1.3597,2,  2119.7,2,  2271.2,2,   -999.0,9,  -999.00,   7.7458,2,    25.00,-999.000,9,-999.0000,9, -999.00,9, -999.00,9,  -999.0,9,-999.000,9,-999.000,-999.000,9,-999.000,9,   43.97,2,   21.27,2, -999.00,1,    0.01,2, -999.00,1,-999.000,   0.0722,2,   0.0450,2,   0.0179,2,   0.0074,2,   0.0033,2,  -0.0017,4,  -0.0025,4,   0.0242,2,   0.0259,2,   8.2623,     -999.0,1,     -999.0,9,     -999.0,9,     -999.0,9,     -999.0,9,     -999.0,1,     -999.0,9,-999.0000, -999.00
33RO20071215,        P18,     116,          1,         26,      12030,2,20080127,       1845,   -38.5835,  -102.9993,       4031,   267.1,   7.6277,  34.2691,2,  34.2696,2,    241.8,2,   242.1,2,    4.10,2,   20.80,2,    0.00,2,    1.38,2,-999.000,9,-999.000,9,-999.0000,9,  2131.5,2,  2275.1,2,   -999.0,9,  -999.00,   7.7209,2,    25.00,-999.000,9,-999.0000,9, -999.00,9, -999.00,9,  -999.0,9,-999.000,9,-999.000,-999.000,9,-999.000,9,   43.02,2,   23.12,2, -999.00,1,    0.00,2, -999.00,1,-999.000,   0.0769,2,   0.0490,2,   0.0214,2,   0.0099,2,   0.0054,2,  -0.0005,4,  -0.0021,4,   0.0223,2,   0.0238,2,   7.6016,     -999.0,1,     -999.0,9,     -999.0,9,     -999.0,9,     -999.0,9,     -999.0,1,     -999.0,9,-999.0000, -999.00
33RO20071215,        P18,     116,          1,         25,      12024,2,20080127,       1845,   -38.5835,  -102.9993,       4031,   318.5,   6.9542,  34.2832,2,  34.2828,2,    243.2,2,   243.6,2,    5.50,2,   22.30,2,    0.00,2,    1.48,2,   4.009,2,   2.090,2,   1.0540,2,  2138.4,2,  2274.4,2,   -999.0,9,  -999.00,   7.7158,2,    25.00,-999.000,9,-999.0000,9, -999.00,9, -999.00,9,  -999.0,9,-999.000,9,-999.000,-999.000,9,-999.000,9,   42.63,2,   23.67,2, -999.00,1, -999.00,9, -999.00,1,-999.000,   0.0830,2,   0.0540,2,   0.0253,2,   0.0134,2,   0.0080,2,   0.0007,3,  -0.0018,4,   0.0198,2,   0.0215,2,   6.9246,     -999.0,1,     -999.0,9,     -999.0,9,     -999.0,9,     -999.0,9,     -999.0,1,     -999.0,9,-999.0000, -999.00
33RO20071215,        P18,     116,          1,         24,      12019,2,20080127,       1845,   -38.5835,  -102.9993,       4031,   367.2,   6.6345,  34.3011,2,  34.2992,2,    246.5,2,   246.2,2,    6.50,2,   22.80,2,    0.00,2,    1.50,2,-999.000,9,-999.000,9,-999.0000,9,  2140.5,2,  2269.3,2,   -999.0,9,  -999.00,   7.7085,2,    25.00,-999.000,9,-999.0000,9, -999.00,9, -999.00,9,  -999.0,9,-999.000,9,-999.000,-999.000,9,-999.000,9,   41.87,2,   24.48,2, -999.00,1, -999.00,9, -999.00,1,-999.000,   0.0737,2,   0.0472,2,   0.0216,2,   0.0103,2,   0.0055,2,  -0.0008,4,  -0.0028,4,   0.0213,2,   0.0230,2,   6.6011,     -999.0,1,     -999.0,9,     -999.0,9,     -999.0,9,     -999.0,9,     -999.0,1,     -999.0,9,-999.0000, -999.00
33RO20071215,        P18,     116,          1,         23,      12022,2,20080127,       1845,   -38.5835,  -102.9993,       4031,   431.3,   6.4073,  34.3105,2,  34.3088,2,    250.4,2,   250.8,2,    7.50,2,   23.10,2,    0.00,2,    1.52,2,   3.904,2,   1.986,2,   0.9314,2,  2140.8,2,  2276.6,2,   -999.0,9,  -999.00,   7.7142,2,    25.00,-999.000,9,-999.0000,9, -999.00,9, -999.00,9,  -999.0,9,-999.000,9,-999.000,-999.000,9,-999.000,9,   41.16,2,   24.91,2, -999.00,1, -999.00,9, -999.00,9,-999.000,   0.0697,2,   0.0435,2,   0.0190,2,   0.0083,2,   0.0038,2,  -0.0019,4,  -0.0035,4,   0.0224,2,   0.0245,2,   6.3686,     -999.0,9,     -999.0,9,     -999.0,9,     -999.0,9,     -999.0,9,     -999.0,9,     -999.0,9,-999.0000, -999.00
33RO20071215,        P18,     116,          1,         22,      12015,2,20080127,       1845,   -38.5835,  -102.9993,       4031,   533.8,   6.0620,  34.2939,2,  34.2936,2,    253.1,2,   252.7,2,    8.50,2,   23.80,2,    0.00,2,    1.56,2,-999.000,9,-999.000,9,-999.0000,9,  2142.1,2,  2279.0,2,   -999.0,9,  -999.00,   7.7141,2,    25.00,-999.000,9,-999.0000,9, -999.00,9, -999.00,9,  -999.0,9,-999.000,9,-999.000,-999.000,9,-999.000,9,   40.90,2,   24.97,2, -999.00,1, -999.00,9, -999.00,9,-999.000,   0.0632,2,   0.0366,2,   0.0133,2,   0.0051,2,   0.0025,2,  -0.0001,4,  -0.0011,4,   0.0274,2,   0.0304,2,   6.0152,     -999.0,9,     -999.0,9,     -999.0,9,     -999.0,9,     -999.0,9,     -999.0,9,     -999.0,9,-999.0000, -999.00
33RO20071215,        P18,     116,          1,         21,      12020,2,20080127,       1845,   -38.5835,  -102.9993,       4031,   633.3,   5.7346,  34.2768,2,  34.2771,2,    250.4,2,   250.2,2,   10.10,2,   24.80,2,    0.00,2,    1.64,2,   3.322,2,   1.648,2,   0.6016,2,  2146.7,2,  2277.6,2,   -999.0,9,  -999.00,   7.7091,2,    25.00,-999.000,9,-999.0000,9, -999.00,9, -999.00,9,  -999.0,9,-999.000,9,-999.000,-999.000,9,-999.000,9,   39.77,2,   26.28,2, -999.00,1, -999.00,9, -999.00,9,-999.000,   0.0540,2,   0.0281,2,   0.0064,2,   0.0001,4,  -0.0010,4,  -0.0011,4,  -0.0007,4,   0.0375,2,   0.0404,2,   5.6802,     -999.0,9,     -999.0,9,     -999.0,9,     -999.0,9,     -999.0,9,     -999.0,9,     -999.0,9,-999.0000, -999.00
33RO20071215,        P18,     116,          1,         20,      12055,2,20080127,       1845,   -38.5835,  -102.9993,       4031,   733.3,   5.3609,  34.2700,2,  34.2699,2,    239.1,2,   239.0,2,   13.40,2,   26.40,2,    0.00,2,    1.76,2,-999.000,9,-999.000,9,-999.0000,9,  2155.2,2,  2281.9,2,   -999.0,9,  -999.00,   7.6921,2,    25.00,-999.000,9,-999.0000,9, -999.00,9, -999.00,9,  -999.0,9,-999.000,9,-999.000,-999.000,9,-999.000,9,   39.29,2,   27.65,2, -999.00,1, -999.00,9, -999.00,9,-999.000,   0.0591,2,   0.0322,2,   0.0091,2,   0.0024,2,   0.0005,3,  -0.0004,4,  -0.0005,4,   0.0336,2,   0.0367,2,   5.2995,     -999.0,9,     -999.0,9,     -999.0,9,     -999.0,9,     -999.0,9,     -999.0,9,     -999.0,9,-999.0000, -999.00
33RO20071215,        P18,     116,          1,         19,      12018,2,20080127,       1845,   -38.5835,  -102.9993,       4031,   833.2,   4.9723,  34.2727,2,  34.2729,2,    225.9,2,   224.7,2,   18.70,2,   28.50,2,    0.00,2,    1.91,2,   1.755,2,   0.877,2,   0.3007,2,  2169.5,2,  2288.2,2,   -999.0,9,  -999.00,   7.6649,2,    25.00,-999.000,9,-999.0000,9, -999.00,9, -999.00,9,  -999.0,9,-999.000,9,-999.000,-999.000,9,-999.000,9,   38.95,2,   29.78,2, -999.00,1, -999.00,9, -999.00,9,-999.000,   0.0656,2,   0.0377,2,   0.0145,2,   0.0049,3,   0.0015,3,  -0.0002,4,  -0.0008,4,   0.0266,2,   0.0298,2,   4.9044,     -999.0,9,     -999.0,9,     -999.0,9,     -999.0,9,     -999.0,9,     -999.0,9,     -999.0,9,-999.0000, -999.00
33RO20071215,        P18,     116,          1,         18,      12025,2,20080127,       1845,   -38.5835,  -102.9993,       4031,   932.5,   4.4745,  34.2862,2,  34.2857,2,    209.9,2,   210.2,2,   25.90,2,   30.60,2,    0.00,2,    2.08,2,-999.000,9,-999.000,9,-999.0000,9,  2185.3,2,  2292.7,2,   -999.0,9,  -999.00,   7.6222,2,    25.00,-999.000,9,-999.0000,9, -999.00,9, -999.00,9,  -999.0,9,-999.000,9,-999.000,-999.000,9,-999.000,9,   38.83,2,   31.67,2, -999.00,1, -999.00,9, -999.00,9,-999.000,   0.0813,2,   0.0511,2,   0.0243,2,   0.0167,2,   0.0089,2,   0.0029,2,  -0.0005,4,   0.0168,2,   0.0208,2,   4.4014,     -999.0,9,     -999.0,9,     -999.0,9,     -999.0,9,     -999.0,9,     -999.0,9,     -999.0,9,-999.0000, -999.00
33RO20071215,        P18,     116,          1,         17,      12016,2,20080127,       1845,   -38.5835,  -102.9993,       4031,  1032.4,   4.0495,  34.3141,2,  34.3137,2,    194.8,2,   195.1,2,   34.70,2,   32.50,2,    0.00,2,    2.23,2,   0.595,2,   0.319,2,   0.0000,2,  2202.0,2,  2302.7,2,   -999.0,9,  -999.00,   7.6076,2,    25.00,-999.000,9,-999.0000,9, -999.00,9, -999.00,9,  -999.0,9,-999.000,9,-999.000,-999.000,9,-999.000,9,   38.80,2,   33.75,2, -999.00,1, -999.00,9, -999.00,9,-999.000,   0.0857,2,   0.0540,2,   0.0258,2,   0.0176,2,   0.0094,2,   0.0028,2,  -0.0004,4,   0.0168,2,   0.0206,2,   3.9711,     -999.0,9,     -999.0,9,     -999.0,9,     -999.0,9,     -999.0,9,     -999.0,9,     -999.0,9,-999.0000, -999.00
33RO20071215,        P18,     116,          1,         16,      12051,2,20080127,       1845,   -38.5835,  -102.9993,       4031,  1133.3,   3.6640,  34.3683,2,  34.3683,2,    173.1,2,   169.7,2,   47.70,2,   34.90,2,    0.00,2,    2.42,2,-999.000,9,-999.000,9,-999.0000,9,  2228.1,2,  2313.4,2,   -999.0,9,  -999.00,   7.5604,2,    25.00,-999.000,9,-999.0000,9, -999.00,9, -999.00,9,  -999.0,9,-999.000,9,-999.000,-999.000,9,-999.000,9,   38.20,2,   36.36,2, -999.00,9, -999.00,9, -999.00,9,-999.000,   0.1020,2,   0.0669,2,   0.0344,2,   0.0241,2,   0.0143,2,   0.0055,2,   0.0010,2,   0.0153,2,   0.0178,2,   3.5803,     -999.0,9,     -999.0,9,     -999.0,9,     -999.0,9,     -999.0,9,     -999.0,9,     -999.0,9,-999.0000, -999.00
33RO20071215,        P18,     116,          1,         15,      12014,2,20080127,       1845,   -38.5835,  -102.9993,       4031,  1234.2,   3.4078,  34.4302,2,  34.4307,2,    149.3,2,   149.0,2,   61.30,2,   36.60,2,    0.00,2,    2.56,2,   0.130,2,   0.081,2,   0.0000,2,  2251.9,2,  2328.6,4,   -999.0,9,  -999.00,   7.5332,2,    25.00,-999.000,9,-999.0000,9, -999.00,9, -999.00,9,  -999.0,9,-999.000,9,-999.000,-999.000,9,-999.000,9,   37.71,2,   38.12,2, -999.00,9, -999.00,9, -999.00,9,-999.000,   0.1163,2,   0.0793,2,   0.0436,2,   0.0299,2,   0.0176,2,   0.0050,2,  -0.0008,4,   0.0153,2,   0.0164,2,   3.3180,     -999.0,9,     -999.0,9,     -999.0,9,     -999.0,9,     -999.0,9,     -999.0,9,     -999.0,9,-999.0000, -999.00
33RO20071215,        P18,     116,          1,         14,      12013,2,20080127,       1845,   -38.5835,  -102.9993,       4031,  1333.1,   3.2366,  34.4789,2,  34.4776,2,    136.5,2,   136.5,2,   72.00,2,   37.50,2,    0.00,2,    2.63,2,-999.000,9,-999.000,9,-999.0000,9,  2268.3,6,  2340.1,2,   -999.0,9,  -999.00,   7.5241,2,    25.00,-999.000,9,-999.0000,9, -999.00,9, -999.00,9,  -999.0,9,-999.000,9,-999.000,-999.000,9,-999.000,9,   37.51,2,   38.78,2, -999.00,9, -999.00,9, -999.00,9,-999.000,   0.1274,2,   0.0888,2,   0.0503,2,   0.0345,2,   0.0205,2,   0.0056,3,  -0.0012,4,   0.0152,2,   0.0157,2,   3.1403,     -999.0,9,     -999.0,9,     -999.0,9,     -999.0,9,     -999.0,9,     -999.0,9,     -999.0,9,-999.0000, -999.00
33RO20071215,        P18,     116,          1,         13,      12012,2,20080127,       1845,   -38.5835,  -102.9993,       4031,  1467.7,   3.0058,  34.5255,2,  34.5261,2,    134.8,2,   134.2,2,   82.60,2,   37.50,2,    0.00,2,    2.65,2,   0.015,2,   0.009,2,   0.0000,2,  2279.7,2,  2351.8,2,   -999.0,9,  -999.00,   7.5147,2,    25.00,-999.000,9,-999.0000,9, -999.00,9, -999.00,9,  -999.0,9,-999.000,9,-999.000,-999.000,9,-999.000,9,   36.80,2,   38.41,2, -999.00,9, -999.00,9, -999.00,9,-999.000,   0.1147,2,   0.0761,2,   0.0388,2,   0.0263,2,   0.0158,2,   0.0058,2,   0.0011,2,   0.0157,2,   0.0179,2,   2.9007,     -999.0,9,     -999.0,9,     -999.0,9,     -999.0,9,     -999.0,9,     -999.0,9,     -999.0,9,-999.0000, -999.00
33RO20071215,        P18,     116,          1,         12,      12031,2,20080127,       1845,   -38.5835,  -102.9993,       4031,  1666.4,   2.6657,  34.5702,2,  34.5694,2,    110.6,3,   143.3,2,   91.30,2,   36.60,2,    0.00,2,    2.57,2,-999.000,9,-999.000,9,-999.0000,9,  2283.2,2,  2362.5,2,   -999.0,9,  -999.00,   7.5412,2,    25.00,-999.000,9,-999.0000,9, -999.00,9, -999.00,9,  -999.0,9,-999.000,9,-999.000,-999.000,9,-999.000,9,   36.52,2,   37.76,2, -999.00,9, -999.00,9, -999.00,9,-999.000,   0.1209,2,   0.0817,2,   0.0432,2,   0.0297,2,   0.0186,3,   0.0076,3,   0.0023,3,   0.0150,2,   0.0168,4,   2.5480,     -999.0,9,     -999.0,9,     -999.0,9,     -999.0,9,     -999.0,9,     -999.0,9,     -999.0,9,-999.0000, -999.00