BOTTLE,20220818CCHSIOAMB
EXPOCODE,SECT_ID,STNNBR,CASTNO,SAMPNO,BTLNBR,BTLNBR_FLAG_W,DATE,TIME,LATITUDE,LONGITUDE,DEPTH,CTDPRS,CTDTMP,CTDSAL,CTDSAL_FLAG_W,SALNTY,SALNTY_FLAG_W,CTDOXY,CTDOXY_FLAG_W,OXYGEN,OXYGEN_FLAG_W,SILCAT,SILCAT_FLAG_W,NITRAT,NITRAT_FLAG_W,NITRIT,NITRIT_FLAG_W,PHSPHT,PHSPHT_FLAG_W,CFC-11,CFC-11_FLAG_W,CFC-12,CFC-12_FLAG_W,SF6,SF6_FLAG_W,TCARBN,TCARBN_FLAG_W,ALKALI,ALKALI_FLAG_W,FCO2,FCO2_FLAG_W,FCO2TMP,PH_SWS,PH_SWS_FLAG_W,PH_TMP,TRITUM,TRITUM_FLAG_W,HELIUM,HELIUM_FLAG_W,DELHE3,DELHE3_FLAG_W,DELC13,DELC13_FLAG_W,DELC14,DELC14_FLAG_W,NEON,NEON_FLAG_W,NEONER,CCL4,CCL4_FLAG_W,POC,POC_FLAG_W,DOC,DOC_FLAG_W,TDN,TDN_FLAG_W,DON,DON_FLAG_W,CHLORA,CHLORA_FLAG_W,ARGON,ARGON_FLAG_W,TRITER,CDOM325,CDOM325_FLAG_W,CDOM340,CDOM340_FLAG_W,CDOM380,CDOM380_FLAG_W,CDOM412,CDOM412_FLAG_W,CDOM443,CDOM443_FLAG_W,CDOM490,CDOM490_FLAG_W,CDOM555,CDOM555_FLAG_W,CDOMSL,CDOMSL_FLAG_W,CDOMSN,CDOMSN_FLAG_W,THETA,D18O_NO3,D18O_NO3_FLAG_W,CDOM2C,CDOM2C_FLAG_W,CDOM3C,CDOM3C_FLAG_W,LAB_DEN,LAB_DEN_FLAG_W,DELSI30,DELSI30_FLAG_W,N2,N2_FLAG_W,D15N_NO3,D15N_NO3_FLAG_W,HELIER,DELHER
,,,,,,,,,,,METERS,DBAR,ITS-90,PSS-78,,PSS-78,,UMOL/KG,,UMOL/KG,,UMOL/KG,,UMOL/KG,,UMOL/KG,,UMOL/KG,,PMOL/KG,,PMOL/KG,,FMOL/KG,,UMOL/KG,,UMOL/KG,,UATM,,DEG C,,,DEG C,TU,,NMOL/KG,,PERCNT,,/MILLE,,/MILLE,,NMOL/KG,,NMOL/KG,PMOL/KG,,UG/KG,,UMOL/KG,,UMOL/KG,,UMOL/KG,,UG/KG,,UMOL/KG,,TU,1/M,,1/M,,1/M,,1/M,,1/M,,1/M,,1/M,,1/NM,,1/NM,,DEG C,/MILLE,,,,,,,,/MILLE,,UMOL/KG,,/MILLE,,NMOL/KG,PERCNT
33RO20071215,        P18,     155,          1,         24,      11024,2,20080209,       0347,   -60.7517,  -102.9992,       5187,     5.6,   4.3997,  33.9100,2,  33.9099,2,    317.9,2,   317.9,2,    3.70,2,   23.40,2,    0.22,2,    1.57,2,   5.010,2,   2.813,2,   2.1049,2,  2123.0,6,  2276.8,2,    691.2,2,    20.00,   7.7546,2,    25.00,-999.000,9,-999.0000,9, -999.00,9,    1.34,4,  -999.0,1,-999.000,9,-999.000,-999.000,9,-999.000,9,   47.19,2,   27.62,2, -999.00,1, -999.00,9, -999.00,1,-999.000,-999.0000,9,-999.0000,9,-999.0000,9,-999.0000,9,-999.0000,9,-999.0000,9,-999.0000,9,-999.0000,9,-999.0000,9,   4.3994,     -999.0,1,     -999.0,9,     -999.0,9,     -999.0,9,     -999.0,9,     -999.0,1,     -999.0,9,-999.0000, -999.00
33RO20071215,        P18,     155,          1,         23,      11023,2,20080209,       0347,   -60.7517,  -102.9992,       5187,    33.2,   4.3918,  33.9103,2,  33.9105,2,    319.0,2,   317.6,2,    3.70,2,   23.50,2,    0.22,2,    1.60,2,-999.000,9,-999.000,9,-999.0000,9,  2122.8,2,  2248.1,4,   -999.0,9,  -999.00,   7.7557,2,    25.00,-999.000,9,-999.0000,9, -999.00,9, -999.00,9,  -999.0,9,-999.000,9,-999.000,-999.000,9,-999.000,9,   45.53,2,   27.47,2, -999.00,1, -999.00,9, -999.00,9,-999.000,-999.0000,9,-999.0000,9,-999.0000,9,-999.0000,9,-999.0000,9,-999.0000,9,-999.0000,9,-999.0000,9,-999.0000,9,   4.3895,     -999.0,9,     -999.0,9,     -999.0,9,     -999.0,9,     -999.0,9,     -999.0,9,     -999.0,9,-999.0000, -999.00
33RO20071215,        P18,     155,          1,         22,      11022,2,20080209,       0347,   -60.7517,  -102.9992,       5187,    57.3,   4.1565,  33.9140,2,  33.9157,2,    317.4,2,   317.4,2,    4.30,2,   23.60,2,    0.21,2,    1.64,2,-999.000,9,-999.000,9,-999.0000,9,  2125.5,2,  2268.8,2,    699.4,6,    20.00,   7.7602,2,    25.00,-999.000,9,-999.0000,9, -999.00,9, -999.00,9,  -999.0,9,-999.000,9,-999.000,-999.000,9,-999.000,9,   45.70,2,   27.84,2, -999.00,1, -999.00,9, -999.00,9,-999.000,-999.0000,9,-999.0000,9,-999.0000,9,-999.0000,9,-999.0000,9,-999.0000,9,-999.0000,9,-999.0000,9,-999.0000,9,   4.1526,     -999.0,9,     -999.0,9,     -999.0,9,     -999.0,9,     -999.0,9,     -999.0,9,     -999.0,9,-999.0000, -999.00
33RO20071215,        P18,     155,          1,         21,      11021,2,20080209,       0347,   -60.7517,  -102.9992,       5187,    83.1,   2.8649,  33.9509,2,  33.9531,2,    316.9,2,   317.4,2,   12.70,2,   25.20,2,    0.22,2,    1.92,2,   5.294,2,   2.932,2,   2.1526,2,  2141.7,2,  2272.8,2,   -999.0,9,  -999.00,   7.7195,2,    25.00,-999.000,9,-999.0000,9, -999.00,9, -999.00,9,  -999.0,9,-999.000,9,-999.000,-999.000,9,-999.000,9,   44.77,2,   28.81,2, -999.00,1, -999.00,9, -999.00,9,-999.000,-999.0000,9,-999.0000,9,-999.0000,9,-999.0000,9,-999.0000,9,-999.0000,9,-999.0000,9,-999.0000,9,-999.0000,9,   2.8600,     -999.0,9,     -999.0,9,     -999.0,9,     -999.0,9,     -999.0,9,     -999.0,9,     -999.0,9,-999.0000, -999.00
33RO20071215,        P18,     155,          1,         20,      11020,2,20080209,       0347,   -60.7517,  -102.9992,       5187,   116.3,   2.3727,  33.9799,2,  33.9784,2,    316.3,2,   312.9,2,   16.70,2,   27.10,2,    0.25,2,    1.93,2,-999.000,9,-999.000,9,-999.0000,9,  2150.5,2,  2279.0,2,    817.5,2,    20.00,   7.6892,2,    25.00,-999.000,9,-999.0000,9, -999.00,9, -999.00,9,  -999.0,9,-999.000,9,-999.000,-999.000,9,-999.000,9,   44.27,2,   30.46,2, -999.00,1, -999.00,9, -999.00,9,-999.000,-999.0000,9,-999.0000,9,-999.0000,9,-999.0000,9,-999.0000,9,-999.0000,9,-999.0000,9,-999.0000,9,-999.0000,9,   2.3664,     -999.0,9,     -999.0,9,     -999.0,9,     -999.0,9,     -999.0,9,     -999.0,9,     -999.0,9,-999.0000, -999.00
33RO20071215,        P18,     155,          1,         19,      11019,2,20080209,       0347,   -60.7517,  -102.9992,       5187,   174.4,   1.9581,  34.0062,2,  34.0074,2,    303.4,2,   307.3,2,   20.90,2,   28.40,2,    0.01,2,    1.98,2,   5.053,2,   2.787,2,   1.9973,2,  2158.7,2,  2281.3,2,    856.8,2,    20.00,   7.6742,2,    25.00,-999.000,9,-999.0000,9, -999.00,9, -999.00,9,  -999.0,9,-999.000,9,-999.000,-999.000,9,-999.000,9,   43.78,2,   31.03,2, -999.00,1, -999.00,9, -999.00,9,-999.000,-999.0000,9,-999.0000,9,-999.0000,9,-999.0000,9,-999.0000,9,-999.0000,9,-999.0000,9,-999.0000,9,-999.0000,9,   1.9491,     -999.0,9,     -999.0,9,     -999.0,9,     -999.0,9,     -999.0,9,     -999.0,9,     -999.0,9,-999.0000, -999.00
33RO20071215,        P18,     155,          1,         18,      11018,2,20080209,       0347,   -60.7517,  -102.9992,       5187,   249.7,   2.1893,  34.0759,2,  34.0760,2,    291.4,2,   283.7,2,   26.80,2,   29.80,2,    0.01,2,    2.07,2,   4.547,2,   2.481,2,   1.6143,2,  2173.4,2,  2285.9,2,    920.8,2,    20.00,   7.6486,2,    25.00,-999.000,9,-999.0000,9, -999.00,9, -999.00,9,  -999.0,9,-999.000,9,-999.000,-999.000,9,-999.000,9,   43.14,2,   32.01,2, -999.00,1, -999.00,9, -999.00,9,-999.000,-999.0000,9,-999.0000,9,-999.0000,9,-999.0000,9,-999.0000,9,-999.0000,9,-999.0000,9,-999.0000,9,-999.0000,9,   2.1756,     -999.0,9,     -999.0,9,     -999.0,9,     -999.0,9,     -999.0,9,     -999.0,9,     -999.0,9,-999.0000, -999.00
33RO20071215,        P18,     155,          1,         17,      11017,2,20080209,       0347,   -60.7517,  -102.9992,       5187,   332.9,   1.9002,  34.1043,2,  34.1056,2,    290.2,2,   278.2,2,   32.10,2,   30.70,2,    0.01,2,    2.12,2,   4.383,2,   2.396,2,   1.5649,2,  2182.0,2,  2289.8,2,    953.0,2,    20.00,   7.6355,2,    25.00,-999.000,9,-999.0000,9, -999.00,9, -999.00,9,  -999.0,9,-999.000,9,-999.000,-999.000,9,-999.000,9,   42.65,2,   32.28,2, -999.00,1, -999.00,9, -999.00,9,-999.000,-999.0000,9,-999.0000,9,-999.0000,9,-999.0000,9,-999.0000,9,-999.0000,9,-999.0000,9,-999.0000,9,-999.0000,9,   1.8826,     -999.0,9,     -999.0,9,     -999.0,9,     -999.0,9,     -999.0,9,     -999.0,9,     -999.0,9,-999.0000, -999.00
33RO20071215,        P18,     155,          1,         16,      11016,2,20080209,       0347,   -60.7517,  -102.9992,       5187,   432.3,   2.5078,  34.2564,2,  34.2539,2,    226.7,2,   227.5,2,   43.40,2,   32.90,2,    0.00,2,    2.27,2,   2.905,2,   1.515,2,   0.8233,2,  2207.3,2,  2302.5,4,   1075.2,2,    20.00,   7.5934,2,    25.00,-999.000,9,-999.0000,9, -999.00,9, -999.00,9,  -999.0,9,-999.000,9,-999.000,-999.000,9,-999.000,9,   42.16,2,   34.22,2, -999.00,1, -999.00,9, -999.00,9,-999.000,-999.0000,9,-999.0000,9,-999.0000,9,-999.0000,9,-999.0000,9,-999.0000,9,-999.0000,9,-999.0000,9,-999.0000,9,   2.4823,     -999.0,9,     -999.0,9,     -999.0,9,     -999.0,9,     -999.0,9,     -999.0,9,     -999.0,9,-999.0000, -999.00
33RO20071215,        P18,     155,          1,         15,      11015,2,20080209,       0347,   -60.7517,  -102.9992,       5187,   550.0,   2.5723,  34.3617,2,  34.3617,2,    200.9,2,   200.9,2,   54.70,2,   34.20,2,    0.00,2,    2.37,2,   1.900,2,   0.950,2,   0.4708,2,  2228.0,2,  2314.7,2,   1153.5,2,    20.00,   7.5703,2,    25.00,-999.000,9,-999.0000,9, -999.00,9, -999.00,9,  -999.0,9,-999.000,9,-999.000,-999.000,9,-999.000,9,   41.42,2,   35.86,2, -999.00,1, -999.00,9, -999.00,9,-999.000,-999.0000,9,-999.0000,9,-999.0000,9,-999.0000,9,-999.0000,9,-999.0000,9,-999.0000,9,-999.0000,9,-999.0000,9,   2.5389,     -999.0,9,     -999.0,9,     -999.0,9,     -999.0,9,     -999.0,9,     -999.0,9,     -999.0,9,-999.0000, -999.00
33RO20071215,        P18,     155,          1,         14,      11014,2,20080209,       0347,   -60.7517,  -102.9992,       5187,   699.0,   2.4778,  34.4545,2,  34.4543,2,    183.9,2,   184.1,2,   64.60,2,   34.80,2,    0.00,2,    2.42,2,   1.214,2,   0.608,2,   0.2951,2,  2239.0,2,  2317.0,2,   1203.5,2,    20.00,   7.5520,2,    25.00,-999.000,9,-999.0000,9, -999.00,9, -999.00,9,  -999.0,9,-999.000,9,-999.000,-999.000,9,-999.000,9,   41.11,2,   36.02,2, -999.00,1, -999.00,9, -999.00,9,-999.000,-999.0000,9,-999.0000,9,-999.0000,9,-999.0000,9,-999.0000,9,-999.0000,9,-999.0000,9,-999.0000,9,-999.0000,9,   2.4350,     -999.0,9,     -999.0,9,     -999.0,9,     -999.0,9,     -999.0,9,     -999.0,9,     -999.0,9,-999.0000, -999.00
33RO20071215,        P18,     155,          1,         13,      11013,2,20080209,       0347,   -60.7517,  -102.9992,       5187,   850.5,   2.3917,  34.5330,2,  34.5324,2,    176.1,2,   177.2,2,   71.70,2,   34.80,2,    0.00,2,    2.40,2,   0.792,2,   0.396,2,   0.2054,2,  2249.4,2,  2324.9,2,   1213.2,2,    20.00,   7.5493,2,    25.00,-999.000,9,-999.0000,9, -999.00,9, -999.00,9,  -999.0,9,-999.000,9,-999.000,-999.000,9,-999.000,9,   40.75,2,   36.39,2, -999.00,1, -999.00,9, -999.00,9,-999.000,-999.0000,9,-999.0000,9,-999.0000,9,-999.0000,9,-999.0000,9,-999.0000,9,-999.0000,9,-999.0000,9,-999.0000,9,   2.3390,     -999.0,9,     -999.0,9,     -999.0,9,     -999.0,9,     -999.0,9,     -999.0,9,     -999.0,9,-999.0000, -999.00
33RO20071215,        P18,     155,          1,         12,      11012,2,20080209,       0347,   -60.7517,  -102.9992,       5187,   999.4,   2.3244,  34.5940,2,  34.5940,2,    174.4,2,   173.8,2,   76.50,2,   34.10,2,    0.00,2,    2.37,2,   0.528,2,   0.265,2,   0.0609,2,  2252.9,6,  2337.2,2,   -999.0,9,  -999.00,   7.5542,2,    25.00,-999.000,9,-999.0000,9, -999.00,9, -999.00,9,  -999.0,9,-999.000,9,-999.000,-999.000,9,-999.000,9,   40.10,2,   35.92,2, -999.00,1, -999.00,9, -999.00,9,-999.000,-999.0000,9,-999.0000,9,-999.0000,9,-999.0000,9,-999.0000,9,-999.0000,9,-999.0000,9,-999.0000,9,-999.0000,9,   2.2617,     -999.0,9,     -999.0,9,     -999.0,9,     -999.0,9,     -999.0,9,     -999.0,9,     -999.0,9,-999.0000, -999.00
33RO20071215,        P18,     155,          1,         11,      11010,2,20080209,       0347,   -60.7517,  -102.9992,       5187,  1167.1,   2.2260,  34.6481,2,  34.6477,2,    175.9,2,   176.0,2,   80.20,2,   33.50,2,    0.00,2,    2.32,2,   0.377,2,   0.185,2,   0.1064,2,  2253.6,2,  2314.5,4,   1177.9,2,    20.00,   7.5638,2,    25.00,-999.000,9,-999.0000,9, -999.00,9, -999.00,9,  -999.0,9,-999.000,9,-999.000,-999.000,9,-999.000,9,   39.77,2,   34.69,2, -999.00,1, -999.00,9, -999.00,9,-999.000,-999.0000,9,-999.0000,9,-999.0000,9,-999.0000,9,-999.0000,9,-999.0000,9,-999.0000,9,-999.0000,9,-999.0000,9,   2.1520,     -999.0,9,     -999.0,9,     -999.0,9,     -999.0,9,     -999.0,9,     -999.0,9,     -999.0,9,-999.0000, -999.00
33RO20071215,        P18,     155,          1,         10,      11011,2,20080209,       0347,   -60.7517,  -102.9992,       5187,  1400.7,   2.1192,  34.6972,2,  34.6966,2,    180.4,2,   180.7,2,   84.60,2,   32.60,2,    0.00,2,    2.26,2,   0.202,2,   0.099,2,   0.0000,2,  2254.4,2,  2338.4,2,   1098.9,2,    20.00,   7.5789,2,    25.00,-999.000,9,-999.0000,9, -999.00,9, -999.00,9,  -999.0,9,-999.000,9,-999.000,-999.000,9,-999.000,9,   39.82,2,   34.10,2, -999.00,1, -999.00,9, -999.00,9,-999.000,-999.0000,9,-999.0000,9,-999.0000,9,-999.0000,9,-999.0000,9,-999.0000,9,-999.0000,9,-999.0000,9,-999.0000,9,   2.0288,     -999.0,9,     -999.0,9,     -999.0,9,     -999.0,9,     -999.0,9,     -999.0,9,     -999.0,9,-999.0000, -999.00
33RO20071215,        P18,     155,          1,          9,      11009,2,20080209,       0347,   -60.7517,  -102.9992,       5187,  1733.4,   1.8921,  34.7275,2,  34.7250,2,    187.5,2,   187.7,2,   90.40,2,   31.90,2,    0.00,2,    2.22,2,   0.154,2,   0.076,2,   0.0000,2,  2252.4,2,  2340.8,2,   1079.3,2,    20.00,   7.5929,2,    25.00,-999.000,9,-999.0000,9, -999.00,9, -999.00,9,  -999.0,9,-999.000,9,-999.000,-999.000,9,-999.000,9,   40.39,2,   33.53,2, -999.00,1, -999.00,9, -999.00,9,-999.000,-999.0000,9,-999.0000,9,-999.0000,9,-999.0000,9,-999.0000,9,-999.0000,9,-999.0000,9,-999.0000,9,-999.0000,9,   1.7787,     -999.0,9,     -999.0,9,     -999.0,9,     -999.0,9,     -999.0,9,     -999.0,9,     -999.0,9,-999.0000, -999.00
33RO20071215,        P18,     155,          1,          8,      11008,2,20080209,       0347,   -60.7517,  -102.9992,       5187,  2166.2,   1.5116,  34.7299,2,  34.7281,2,    192.7,2,   193.1,2,  103.60,2,   32.10,2,    0.00,2,    2.23,2,   0.080,2,   0.040,2,   0.0000,2,  2258.7,2,  2359.8,2,   1075.6,2,    20.00,   7.5959,2,    25.00,-999.000,9,-999.0000,9, -999.00,9, -999.00,9,  -999.0,9,-999.000,9,-999.000,   0.090,3,-999.000,9,   40.10,2,   33.08,2, -999.00,1, -999.00,9, -999.00,9,-999.000,-999.0000,9,-999.0000,9,-999.0000,9,-999.0000,9,-999.0000,9,-999.0000,9,-999.0000,9,-999.0000,9,-999.0000,9,   1.3687,     -999.0,9,     -999.0,9,     -999.0,9,     -999.0,9,     -999.0,9,     -999.0,9,     -999.0,9,-999.0000, -999.00
33RO20071215,        P18,     155,          1,          7,      11007,2,20080209,       0347,   -60.7517,  -102.9992,       5187,  2664.9,   1.2261,  34.7255,2,  34.7265,2,    197.8,2,   198.8,2,  111.90,2,   32.20,2,    0.00,2,    2.24,2,   0.082,2,   0.041,2,   0.0000,2,  2259.0,2,  2360.5,2,   1074.7,2,    20.00,   7.6019,2,    25.00,-999.000,9,-999.0000,9, -999.00,9, -999.00,9,  -999.0,9,-999.000,9,-999.000,   0.098,3,-999.000,9,   40.15,2,   33.41,2, -999.00,1, -999.00,9, -999.00,9,-999.000,-999.0000,9,-999.0000,9,-999.0000,9,-999.0000,9,-999.0000,9,-999.0000,9,-999.0000,9,-999.0000,9,-999.0000,9,   1.0456,     -999.0,9,     -999.0,9,     -999.0,9,     -999.0,9,     -999.0,9,     -999.0,9,     -999.0,9,-999.0000, -999.00
33RO20071215,        P18,     155,          1,          6,      11006,2,20080209,       0347,   -60.7517,  -102.9992,       5187,  3167.3,   0.9492,  34.7165,2,  34.7161,2,    203.7,2,   204.5,2,  121.00,2,   32.50,2,    0.00,2,    2.25,2,   0.109,2,   0.054,2,   0.0000,2,  2259.6,2,  2360.4,2,   -999.0,9,  -999.00,   7.6019,2,    25.00,-999.000,9,-999.0000,9, -999.00,9, -999.00,9,  -999.0,9,-999.000,9,-999.000,   0.126,3,-999.000,9,   39.33,2,   33.98,2, -999.00,1, -999.00,9, -999.00,9,-999.000,-999.0000,9,-999.0000,9,-999.0000,9,-999.0000,9,-999.0000,9,-999.0000,9,-999.0000,9,-999.0000,9,-999.0000,9,   0.7288,     -999.0,9,     -999.0,9,     -999.0,9,     -999.0,9,     -999.0,9,     -999.0,9,     -999.0,9,-999.0000, -999.00
33RO20071215,        P18,     155,          1,          5,      11005,2,20080209,       0347,   -60.7517,  -102.9992,       5187,  3666.9,   0.7112,  34.7095,2,  34.7087,2,    208.5,2,   208.5,2,  127.80,2,   32.70,2,    0.00,2,    2.27,2,   0.165,2,   0.082,2,   0.0000,2,  2261.5,2,  2360.3,2,   1083.6,6,    20.00,   7.6027,2,    25.00,-999.000,9,-999.0000,9, -999.00,9, -999.00,9,  -999.0,9,-999.000,9,-999.000,   0.185,3,-999.000,9,   39.14,2,   34.22,2, -999.00,1, -999.00,9, -999.00,9,-999.000,-999.0000,9,-999.0000,9,-999.0000,9,-999.0000,9,-999.0000,9,-999.0000,9,-999.0000,9,-999.0000,9,-999.0000,9,   0.4484,     -999.0,9,     -999.0,9,     -999.0,9,     -999.0,9,     -999.0,9,     -999.0,9,     -999.0,9,-999.0000, -999.00
33RO20071215,        P18,     155,          1,          4,      11004,2,20080209,       0347,   -60.7517,  -102.9992,       5187,  4167.7,   0.5194,  34.7064,2,  34.7044,2,    213.0,2,   213.1,2,  134.00,6,   32.90,6,    0.00,6,    2.28,2,   0.205,2,   0.102,2,   0.0000,6,  2259.6,2,  2362.3,2,   -999.0,9,  -999.00,   7.5973,2,    25.00,-999.000,9,-999.0000,9, -999.00,9, -999.00,9,  -999.0,9,-999.000,9,-999.000,   0.212,3,-999.000,9,   39.17,2,   33.95,2, -999.00,1, -999.00,9, -999.00,9,-999.000,-999.0000,9,-999.0000,9,-999.0000,9,-999.0000,9,-999.0000,9,-999.0000,9,-999.0000,9,-999.0000,9,-999.0000,9,   0.2106,     -999.0,9,     -999.0,9,     -999.0,9,     -999.0,9,     -999.0,9,     -999.0,9,     -999.0,9,-999.0000, -999.00
33RO20071215,        P18,     155,          1,          3,      11003,2,20080209,       0347,   -60.7517,  -102.9992,       5187,  4664.9,   0.4518,  34.7048,2,  34.7034,2,    214.9,2,   215.0,2,  138.30,6,   32.90,6,    0.00,6,    2.29,2,   0.242,2,   0.122,2,   0.0000,2,  2261.0,2,  2363.4,2,   1076.6,2,    20.00,   7.5913,2,    25.00,-999.000,9,-999.0000,9, -999.00,9, -999.00,9,  -999.0,9,-999.000,9,-999.000,   0.244,3,-999.000,9,   40.07,2,   34.75,2, -999.00,1, -999.00,9, -999.00,9,-999.000,-999.0000,9,-999.0000,9,-999.0000,9,-999.0000,9,-999.0000,9,-999.0000,9,-999.0000,9,-999.0000,9,-999.0000,9,   0.0912,     -999.0,9,     -999.0,9,     -999.0,9,     -999.0,9,     -999.0,9,     -999.0,9,     -999.0,9,-999.0000, -999.00
33RO20071215,        P18,     155,          1,          2,      11002,2,20080209,       0347,   -60.7517,  -102.9992,       5187,  5165.6,   0.4756,  34.7038,2,  34.7026,2,    217.1,2,   216.0,2,  140.50,6,   33.00,6,    0.00,6,    2.29,2,   0.271,2,   0.136,2,   0.0000,2,  2261.7,2,  2352.2,4,   -999.0,9,  -999.00,   7.5930,2,    25.00,-999.000,9,-999.0000,9, -999.00,9, -999.00,9,  -999.0,9,-999.000,9,-999.000,   0.256,3,-999.000,9,   40.31,2,   34.43,2, -999.00,1, -999.00,9, -999.00,9,-999.000,-999.0000,9,-999.0000,9,-999.0000,9,-999.0000,9,-999.0000,9,-999.0000,9,-999.0000,9,-999.0000,9,-999.0000,9,   0.0566,     -999.0,9,     -999.0,9,     -999.0,9,     -999.0,9,     -999.0,9,     -999.0,9,     -999.0,9,-999.0000, -999.00
33RO20071215,        P18,     155,          1,          1,      11001,2,20080209,       0347,   -60.7517,  -102.9992,       5187,  5276.4,   0.4780,  34.7034,2,  34.7013,2,    215.8,2,   217.1,2,  141.30,2,   33.00,2,    0.01,2,    2.29,2,   0.290,2,   0.143,2,   0.0000,2,  2262.8,6,  2354.5,4,   1073.6,2,    20.00,   7.5914,2,    25.00,-999.000,9,-999.0000,9, -999.00,9, -999.00,9,  -999.0,9,-999.000,9,-999.000,   0.281,3,-999.000,9,   39.51,2,   34.29,2, -999.00,1, -999.00,9, -999.00,9,-999.000,-999.0000,9,-999.0000,9,-999.0000,9,-999.0000,9,-999.0000,9,-999.0000,9,-999.0000,9,-999.0000,9,-999.0000,9,   0.0458,     -999.0,9,     -999.0,9,     -999.0,9,     -999.0,9,     -999.0,9,     -999.0,9,     -999.0,9,-999.0000, -999.00