BOTTLE,20220818CCHSIOAMB
EXPOCODE,SECT_ID,STNNBR,CASTNO,SAMPNO,BTLNBR,BTLNBR_FLAG_W,DATE,TIME,LATITUDE,LONGITUDE,DEPTH,CTDPRS,CTDTMP,CTDSAL,CTDSAL_FLAG_W,SALNTY,SALNTY_FLAG_W,CTDOXY,CTDOXY_FLAG_W,OXYGEN,OXYGEN_FLAG_W,SILCAT,SILCAT_FLAG_W,NITRAT,NITRAT_FLAG_W,NITRIT,NITRIT_FLAG_W,PHSPHT,PHSPHT_FLAG_W,CFC-11,CFC-11_FLAG_W,CFC-12,CFC-12_FLAG_W,SF6,SF6_FLAG_W,TCARBN,TCARBN_FLAG_W,ALKALI,ALKALI_FLAG_W,FCO2,FCO2_FLAG_W,FCO2TMP,PH_SWS,PH_SWS_FLAG_W,PH_TMP,TRITUM,TRITUM_FLAG_W,HELIUM,HELIUM_FLAG_W,DELHE3,DELHE3_FLAG_W,DELC13,DELC13_FLAG_W,DELC14,DELC14_FLAG_W,NEON,NEON_FLAG_W,NEONER,CCL4,CCL4_FLAG_W,POC,POC_FLAG_W,DOC,DOC_FLAG_W,TDN,TDN_FLAG_W,DON,DON_FLAG_W,CHLORA,CHLORA_FLAG_W,ARGON,ARGON_FLAG_W,TRITER,CDOM325,CDOM325_FLAG_W,CDOM340,CDOM340_FLAG_W,CDOM380,CDOM380_FLAG_W,CDOM412,CDOM412_FLAG_W,CDOM443,CDOM443_FLAG_W,CDOM490,CDOM490_FLAG_W,CDOM555,CDOM555_FLAG_W,CDOMSL,CDOMSL_FLAG_W,CDOMSN,CDOMSN_FLAG_W,THETA,D18O_NO3,D18O_NO3_FLAG_W,CDOM2C,CDOM2C_FLAG_W,CDOM3C,CDOM3C_FLAG_W,LAB_DEN,LAB_DEN_FLAG_W,DELSI30,DELSI30_FLAG_W,N2,N2_FLAG_W,D15N_NO3,D15N_NO3_FLAG_W,HELIER,DELHER
,,,,,,,,,,,METERS,DBAR,ITS-90,PSS-78,,PSS-78,,UMOL/KG,,UMOL/KG,,UMOL/KG,,UMOL/KG,,UMOL/KG,,UMOL/KG,,PMOL/KG,,PMOL/KG,,FMOL/KG,,UMOL/KG,,UMOL/KG,,UATM,,DEG C,,,DEG C,TU,,NMOL/KG,,PERCNT,,/MILLE,,/MILLE,,NMOL/KG,,NMOL/KG,PMOL/KG,,UG/KG,,UMOL/KG,,UMOL/KG,,UMOL/KG,,UG/KG,,UMOL/KG,,TU,1/M,,1/M,,1/M,,1/M,,1/M,,1/M,,1/M,,1/NM,,1/NM,,DEG C,/MILLE,,,,,,,,/MILLE,,UMOL/KG,,/MILLE,,NMOL/KG,PERCNT
33RO20071215,        P18,     149,          1,         11,      12003,2,20080207,       0831,   -57.7502,  -102.9995,       4657,  2468.4,   1.6042,  34.7227,2,  34.7226,2,    187.3,2,   187.7,2,  105.10,2,   32.50,2,    0.00,2,    2.25,2,   0.054,3,   0.026,3,   0.0000,2,  2266.4,2,  2366.3,2,   -999.0,9,  -999.00,   7.6142,2,    25.00,-999.000,9,-999.0000,9, -999.00,9,    0.38,2,  -999.0,1,-999.000,9,-999.000,   0.070,3,-999.000,9,   39.64,2,   33.83,2, -999.00,9, -999.00,9, -999.00,9,-999.000,-999.0000,9,-999.0000,9,-999.0000,9,-999.0000,9,-999.0000,9,-999.0000,9,-999.0000,9,-999.0000,9,-999.0000,9,   1.4338,     -999.0,9,     -999.0,9,     -999.0,9,     -999.0,9,     -999.0,9,     -999.0,9,     -999.0,9,-999.0000, -999.00
33RO20071215,        P18,     149,          1,         10,      12032,2,20080207,       0831,   -57.7502,  -102.9995,       4657,  2666.9,   1.4978,  34.7246,2,  34.7240,2,    190.9,2,   191.6,2, -999.00,5, -999.00,5, -999.00,5, -999.00,5,   0.059,3,   0.029,3,   0.0000,2,  2265.4,2,  2365.5,2,   -999.0,9,  -999.00,-999.0000,9,  -999.00,-999.000,9,-999.0000,9, -999.00,9, -999.00,9,  -999.0,9,-999.000,9,-999.000,   0.082,3,-999.000,9,   39.97,2,   34.02,2, -999.00,9, -999.00,9, -999.00,9,-999.000,-999.0000,9,-999.0000,9,-999.0000,9,-999.0000,9,-999.0000,9,-999.0000,9,-999.0000,9,-999.0000,9,-999.0000,9,   1.3117,     -999.0,9,     -999.0,9,     -999.0,9,     -999.0,9,     -999.0,9,     -999.0,9,     -999.0,9,-999.0000, -999.00
33RO20071215,        P18,     149,          1,          9,      12002,2,20080207,       0831,   -57.7502,  -102.9995,       4657,  2867.4,   1.3966,  34.7254,2,  34.7246,2,    194.6,2,   194.8,2,  108.90,2,   32.30,2,    0.00,2,    2.23,2,   0.076,2,   0.038,2,   0.0000,2,  2264.5,2,  2365.9,2,   -999.0,9,  -999.00,   7.6105,2,    25.00,-999.000,9,-999.0000,9, -999.00,9,    0.36,2,  -999.0,9,-999.000,9,-999.000,   0.070,3,-999.000,9,   39.90,2,   33.57,2, -999.00,9, -999.00,9, -999.00,9,-999.000,-999.0000,9,-999.0000,9,-999.0000,9,-999.0000,9,-999.0000,9,-999.0000,9,-999.0000,9,-999.0000,9,-999.0000,9,   1.1942,     -999.0,9,     -999.0,9,     -999.0,9,     -999.0,9,     -999.0,9,     -999.0,9,     -999.0,9,-999.0000, -999.00
33RO20071215,        P18,     149,          1,          8,      12021,2,20080207,       0831,   -57.7502,  -102.9995,       4657,  3082.8,   1.2670,  34.7228,2,  34.7231,2,    197.7,2,   197.7,2,  112.60,2,   32.40,2,    0.00,2,    2.23,2,   0.188,3,   0.038,2,   0.0000,2,  2262.8,6,  2366.8,2,   -999.0,9,  -999.00,   7.6186,2,    25.00,-999.000,9,-999.0000,9, -999.00,9, -999.00,9,  -999.0,1,-999.000,9,-999.000,   0.335,3,-999.000,9,   40.20,2,   33.70,2, -999.00,9, -999.00,9, -999.00,9,-999.000,-999.0000,9,-999.0000,9,-999.0000,9,-999.0000,9,-999.0000,9,-999.0000,9,-999.0000,9,-999.0000,9,-999.0000,9,   1.0473,     -999.0,9,     -999.0,9,     -999.0,9,     -999.0,9,     -999.0,9,     -999.0,9,     -999.0,9,-999.0000, -999.00
33RO20071215,        P18,     149,          1,          7,      12001,2,20080207,       0831,   -57.7502,  -102.9995,       4657,  3332.4,   1.1183,  34.7188,2,  34.7190,2,    200.5,2,   200.5,2,  117.70,2,   32.50,2,    0.00,2,    2.24,2,   0.081,3,   0.044,2,   0.0000,2,  2264.9,2,  2368.6,2,   -999.0,9,  -999.00,   7.6197,2,    25.00,-999.000,9,-999.0000,9, -999.00,9, -999.00,9,  -999.0,9,-999.000,9,-999.000,   0.108,3,-999.000,9,   40.29,2,   33.63,2, -999.00,9, -999.00,9, -999.00,9,-999.000,-999.0000,9,-999.0000,9,-999.0000,9,-999.0000,9,-999.0000,9,-999.0000,9,-999.0000,9,-999.0000,9,-999.0000,9,   0.8781,     -999.0,9,     -999.0,9,     -999.0,9,     -999.0,9,     -999.0,9,     -999.0,9,     -999.0,9,-999.0000, -999.00
33RO20071215,        P18,     149,          1,          6,      12033,2,20080207,       0831,   -57.7502,  -102.9995,       4657,  3583.0,   0.9522,  34.7143,2,  34.7149,2,    204.0,2,   204.2,2,  122.50,2,   32.60,2,    0.00,2,    2.25,2,   0.105,2,   0.056,2,   0.0000,2,  2265.9,2,  2371.1,4,   -999.0,9,  -999.00,   7.6136,2,    25.00,-999.000,9,-999.0000,9, -999.00,9,    0.36,2,  -999.0,1,-999.000,9,-999.000,   0.134,3,-999.000,9,   39.80,2,   34.31,2, -999.00,9, -999.00,9, -999.00,9,-999.000,-999.0000,9,-999.0000,9,-999.0000,9,-999.0000,9,-999.0000,9,-999.0000,9,-999.0000,9,-999.0000,9,-999.0000,9,   0.6914,     -999.0,9,     -999.0,9,     -999.0,9,     -999.0,9,     -999.0,9,     -999.0,9,     -999.0,9,-999.0000, -999.00
33RO20071215,        P18,     149,          1,          5,      12008,2,20080207,       0831,   -57.7502,  -102.9995,       4657,  3833.1,   0.8035,  34.7105,2,  34.7093,2,    207.2,2,   207.6,2,  127.40,2,   32.80,2,    0.00,2,    2.26,2,  -0.002,2,   0.069,4,   0.0000,2,  2266.4,2,  2365.3,2,   -999.0,9,  -999.00,   7.6134,2,    25.00,-999.000,9,-999.0000,9, -999.00,9, -999.00,9,  -999.0,9,-999.000,9,-999.000,   0.000,3,-999.000,9,   40.17,2,   33.92,2, -999.00,9, -999.00,9, -999.00,9,-999.000,-999.0000,9,-999.0000,9,-999.0000,9,-999.0000,9,-999.0000,9,-999.0000,9,-999.0000,9,-999.0000,9,-999.0000,9,   0.5214,     -999.0,9,     -999.0,9,     -999.0,9,     -999.0,9,     -999.0,9,     -999.0,9,     -999.0,9,-999.0000, -999.00
33RO20071215,        P18,     149,          1,          4,      12009,2,20080207,       0831,   -57.7502,  -102.9995,       4657,  4082.3,   0.6669,  34.7078,2,  34.7076,2,    209.6,2,   210.0,2,  131.40,6,   32.80,6,    0.00,6,    2.27,2,   0.151,2,   0.081,2,   0.0000,2,  2267.0,2,  2364.5,2,   -999.0,9,  -999.00,   7.6129,2,    25.00,-999.000,9,-999.0000,9, -999.00,9,    0.38,2,  -999.0,1,-999.000,9,-999.000,   0.181,3,-999.000,9,   39.33,2,   34.15,2, -999.00,9, -999.00,9, -999.00,9,-999.000,-999.0000,9,-999.0000,9,-999.0000,9,-999.0000,9,-999.0000,9,-999.0000,9,-999.0000,9,-999.0000,9,-999.0000,9,   0.3628,     -999.0,9,     -999.0,9,     -999.0,9,     -999.0,9,     -999.0,9,     -999.0,9,     -999.0,9,-999.0000, -999.00
33RO20071215,        P18,     149,          1,          3,      12006,2,20080207,       0831,   -57.7502,  -102.9995,       4657,  4333.2,   0.5990,  34.7062,2,  34.7054,2,    212.1,2,   212.0,2,  134.00,6,   32.90,6,    0.00,6,    2.27,2,   0.176,6,   0.095,6,   0.0000,6,  2266.3,2,  2365.2,2,   -999.0,9,  -999.00,   7.6133,2,    25.00,-999.000,9,-999.0000,9, -999.00,9, -999.00,9,  -999.0,9,-999.000,9,-999.000,   0.207,3,-999.000,9,   39.80,2,   34.24,2, -999.00,9, -999.00,9, -999.00,9,-999.000,-999.0000,9,-999.0000,9,-999.0000,9,-999.0000,9,-999.0000,9,-999.0000,9,-999.0000,9,-999.0000,9,-999.0000,9,   0.2701,     -999.0,9,     -999.0,9,     -999.0,9,     -999.0,9,     -999.0,9,     -999.0,9,     -999.0,9,-999.0000, -999.00
33RO20071215,        P18,     149,          1,          2,      12007,2,20080207,       0831,   -57.7502,  -102.9995,       4657,  4529.2,   0.5786,  34.7055,2,  34.7060,2,    212.8,2,   212.3,2,  135.20,6,   32.90,6,    0.01,6,    2.27,2,   0.186,2,   0.100,2,   0.0000,2,  2265.6,2,  2364.7,2,   -999.0,9,  -999.00,   7.6109,2,    25.00,-999.000,9,-999.0000,9, -999.00,9, -999.00,9,  -999.0,9,-999.000,9,-999.000,   0.210,3,-999.000,9,   39.80,2,   34.34,2, -999.00,9, -999.00,9, -999.00,9,-999.000,-999.0000,9,-999.0000,9,-999.0000,9,-999.0000,9,-999.0000,9,-999.0000,9,-999.0000,9,-999.0000,9,-999.0000,9,   0.2290,     -999.0,9,     -999.0,9,     -999.0,9,     -999.0,9,     -999.0,9,     -999.0,9,     -999.0,9,-999.0000, -999.00
33RO20071215,        P18,     149,          1,          1,      12035,2,20080207,       0831,   -57.7502,  -102.9995,       4657,  4725.6,   0.5846,  34.7051,2,  34.7043,2,    213.9,2,   213.3,2,  136.00,2,   33.00,2,    0.01,2,    2.27,2,   0.198,2,   0.105,2,   0.0000,2,  2266.5,6,  2365.1,2,   -999.0,9,  -999.00,   7.6151,2,    25.00,-999.000,9,-999.0000,9, -999.00,9, -999.00,9,  -999.0,9,-999.000,9,-999.000,   0.227,3,-999.000,9,   40.45,2,   34.55,2, -999.00,9, -999.00,9, -999.00,9,-999.000,-999.0000,9,-999.0000,9,-999.0000,9,-999.0000,9,-999.0000,9,-999.0000,9,-999.0000,9,-999.0000,9,-999.0000,9,   0.2128,     -999.0,9,     -999.0,9,     -999.0,9,     -999.0,9,     -999.0,9,     -999.0,9,     -999.0,9,-999.0000, -999.00