BOTTLE,20220818CCHSIOAMB
EXPOCODE,SECT_ID,STNNBR,CASTNO,SAMPNO,BTLNBR,BTLNBR_FLAG_W,DATE,TIME,LATITUDE,LONGITUDE,DEPTH,CTDPRS,CTDTMP,CTDSAL,CTDSAL_FLAG_W,SALNTY,SALNTY_FLAG_W,CTDOXY,CTDOXY_FLAG_W,OXYGEN,OXYGEN_FLAG_W,SILCAT,SILCAT_FLAG_W,NITRAT,NITRAT_FLAG_W,NITRIT,NITRIT_FLAG_W,PHSPHT,PHSPHT_FLAG_W,CFC-11,CFC-11_FLAG_W,CFC-12,CFC-12_FLAG_W,SF6,SF6_FLAG_W,TCARBN,TCARBN_FLAG_W,ALKALI,ALKALI_FLAG_W,FCO2,FCO2_FLAG_W,FCO2TMP,PH_SWS,PH_SWS_FLAG_W,PH_TMP,TRITUM,TRITUM_FLAG_W,HELIUM,HELIUM_FLAG_W,DELHE3,DELHE3_FLAG_W,DELC13,DELC13_FLAG_W,DELC14,DELC14_FLAG_W,NEON,NEON_FLAG_W,NEONER,CCL4,CCL4_FLAG_W,POC,POC_FLAG_W,DOC,DOC_FLAG_W,TDN,TDN_FLAG_W,DON,DON_FLAG_W,CHLORA,CHLORA_FLAG_W,ARGON,ARGON_FLAG_W,TRITER,CDOM325,CDOM325_FLAG_W,CDOM340,CDOM340_FLAG_W,CDOM380,CDOM380_FLAG_W,CDOM412,CDOM412_FLAG_W,CDOM443,CDOM443_FLAG_W,CDOM490,CDOM490_FLAG_W,CDOM555,CDOM555_FLAG_W,CDOMSL,CDOMSL_FLAG_W,CDOMSN,CDOMSN_FLAG_W,THETA,D18O_NO3,D18O_NO3_FLAG_W,CDOM2C,CDOM2C_FLAG_W,CDOM3C,CDOM3C_FLAG_W,LAB_DEN,LAB_DEN_FLAG_W,DELSI30,DELSI30_FLAG_W,N2,N2_FLAG_W,D15N_NO3,D15N_NO3_FLAG_W,HELIER,DELHER
,,,,,,,,,,,METERS,DBAR,ITS-90,PSS-78,,PSS-78,,UMOL/KG,,UMOL/KG,,UMOL/KG,,UMOL/KG,,UMOL/KG,,UMOL/KG,,PMOL/KG,,PMOL/KG,,FMOL/KG,,UMOL/KG,,UMOL/KG,,UATM,,DEG C,,,DEG C,TU,,NMOL/KG,,PERCNT,,/MILLE,,/MILLE,,NMOL/KG,,NMOL/KG,PMOL/KG,,UG/KG,,UMOL/KG,,UMOL/KG,,UMOL/KG,,UG/KG,,UMOL/KG,,TU,1/M,,1/M,,1/M,,1/M,,1/M,,1/M,,1/M,,1/NM,,1/NM,,DEG C,/MILLE,,,,,,,,/MILLE,,UMOL/KG,,/MILLE,,NMOL/KG,PERCNT
33RO20071215,        P18,      24,          1,         11,      12003,2,20071223,       1644,    10.9175,  -110.0005,       3841,  1734.5,   2.6708,  34.6227,2,  34.6231,2,     75.7,2,    83.7,3,  137.30,2,   41.60,2,    0.00,2,    2.85,2,-999.000,9,-999.000,9,-999.0000,9,  2359.5,2,  2406.9,2,   -999.0,9,  -999.00,   7.4566,2,    25.00,-999.000,9,-999.0000,9, -999.00,9, -999.00,9,  -999.0,9,-999.000,9,-999.000,-999.000,9,-999.000,9,   36.51,2,   42.95,2, -999.00,9, -999.00,9, -999.00,9,-999.000,   0.1699,2,   0.1209,2,   0.0686,2,   0.0518,2,   0.0332,2,   0.0125,2,   0.0042,2,   0.0146,2,   0.0144,2,   2.5471,     -999.0,9,     -999.0,9,     -999.0,9,     -999.0,9,     -999.0,9,     -999.0,9,     -999.0,9,-999.0000, -999.00
33RO20071215,        P18,      24,          1,         10,      12032,2,20071223,       1644,    10.9175,  -110.0005,       3841,  1933.4,   2.3374,  34.6404,2,  34.6422,2,     85.8,2,    85.3,2,  145.60,2,   41.00,2,    0.00,2,    2.77,2,   0.004,2,   0.002,2,   0.0000,2,  2361.3,6,  2420.9,2,   -999.0,9,  -999.00,   7.4691,2,    25.00,-999.000,9,-999.0000,9, -999.00,9, -999.00,9,  -999.0,9,-999.000,9,-999.000,-999.000,9,-999.000,9,   36.26,2,   42.02,2, -999.00,9, -999.00,9, -999.00,9,-999.000,   0.1779,2,   0.1275,2,   0.0728,2,   0.0546,2,   0.0355,2,   0.0148,2,   0.0056,2,   0.0143,2,   0.0142,2,   2.2015,     -999.0,9,     -999.0,9,     -999.0,9,     -999.0,9,     -999.0,9,     -999.0,9,     -999.0,9,-999.0000, -999.00
33RO20071215,        P18,      24,          1,          9,      12002,2,20071223,       1644,    10.9175,  -110.0005,       3841,  2132.7,   2.0895,  34.6535,2,  34.6525,2,     95.9,2,    95.8,2,  151.20,2,   40.20,2,    0.00,2,    2.71,2,   0.001,2,   0.001,2,   0.0147,2,  2361.5,2,  2426.8,2,   -999.0,9,  -999.00,   7.4949,2,    25.00,-999.000,9,-999.0000,9, -999.00,9, -999.00,9,  -999.0,9,-999.000,9,-999.000,   0.007,3,-999.000,9,   36.20,2,   41.86,2, -999.00,9, -999.00,9, -999.00,9,-999.000,   0.1873,2,   0.1347,2,   0.0761,2,   0.0561,2,   0.0368,2,   0.0165,2,   0.0068,2,   0.0141,2,   0.0143,2,   1.9403,     -999.0,9,     -999.0,9,     -999.0,9,     -999.0,9,     -999.0,9,     -999.0,9,     -999.0,9,-999.0000, -999.00
33RO20071215,        P18,      24,          1,          8,      12021,2,20071223,       1644,    10.9175,  -110.0005,       3841,  2333.1,   1.9478,  34.6611,2,  34.6611,2,    104.1,2,   103.3,2,  153.80,2,   39.60,2,    0.00,2,    2.67,2,   0.003,2,   0.002,2,   0.0000,2,  2360.3,2,  2431.5,2,   -999.0,9,  -999.00,   7.5070,2,    25.00,-999.000,9,-999.0000,9, -999.00,9, -999.00,9,  -999.0,9,-999.000,9,-999.000,   0.009,3,-999.000,9,   36.77,2,   41.32,2, -999.00,9, -999.00,9, -999.00,9,-999.000,   0.1650,2,   0.1154,2,   0.0623,2,   0.0446,2,   0.0281,2,   0.0109,2,   0.0036,2,   0.0151,2,   0.0157,2,   1.7834,     -999.0,9,     -999.0,9,     -999.0,9,     -999.0,9,     -999.0,9,     -999.0,9,     -999.0,9,-999.0000, -999.00
33RO20071215,        P18,      24,          1,          7,      12001,2,20071223,       1644,    10.9175,  -110.0005,       3841,  2533.9,   1.8622,  34.6663,2,  34.6675,2,    109.3,2,   108.6,2,  155.30,2,   39.20,2,    0.00,2,    2.62,2,-999.000,9,-999.000,9,-999.0000,9,  2359.7,2,  2432.3,2,   -999.0,9,  -999.00,   7.5143,2,    25.00,-999.000,9,-999.0000,9, -999.00,9, -999.00,9,  -999.0,9,-999.000,9,-999.000,-999.000,9,-999.000,9,   35.85,2,   40.65,2, -999.00,9, -999.00,9, -999.00,9,-999.000,   0.1546,2,   0.1068,2,   0.0564,2,   0.0397,2,   0.0247,2,   0.0092,2,   0.0028,2,   0.0152,2,   0.0164,2,   1.6813,     -999.0,9,     -999.0,9,     -999.0,9,     -999.0,9,     -999.0,9,     -999.0,9,     -999.0,9,-999.0000, -999.00
33RO20071215,        P18,      24,          1,          6,      12033,2,20071223,       1644,    10.9175,  -110.0005,       3841,  2733.9,   1.8093,  34.6699,2,  34.6703,2,    113.6,2,   112.5,2,  156.10,2,   39.00,2,    0.00,2,    2.56,2,   0.003,2,   0.002,2,   0.0000,2,  2359.1,2,  2434.6,2,   -999.0,9,  -999.00,   7.5110,2,    25.00,-999.000,9,-999.0000,9, -999.00,9, -999.00,9,  -999.0,9,-999.000,9,-999.000,   0.008,3,-999.000,9,   35.36,2,   40.52,2, -999.00,9, -999.00,9, -999.00,9,-999.000,   0.1566,2,   0.1087,2,   0.0574,2,   0.0400,2,   0.0252,2,   0.0100,2,   0.0034,2,   0.0152,2,   0.0163,2,   1.6110,     -999.0,9,     -999.0,9,     -999.0,9,     -999.0,9,     -999.0,9,     -999.0,9,     -999.0,9,-999.0000, -999.00
33RO20071215,        P18,      24,          1,          5,      12008,2,20071223,       1644,    10.9175,  -110.0005,       3841,  2933.4,   1.7553,  34.6730,2,  34.6733,2,    118.4,2,   118.1,2,  156.20,2,   38.70,2,    0.00,2,    2.53,2,   0.002,2,   0.002,2,   0.0000,2,  2355.3,2,  2428.7,2,   -999.0,9,  -999.00,   7.5300,2,    25.00,-999.000,9,-999.0000,9, -999.00,9, -999.00,9,  -999.0,9,-999.000,9,-999.000,   0.006,3,-999.000,9,   35.37,2,   39.53,2, -999.00,9, -999.00,9, -999.00,9,-999.000,   0.1520,2,   0.1054,2,   0.0558,2,   0.0389,2,   0.0246,2,   0.0102,2,   0.0037,2,   0.0151,2,   0.0162,2,   1.5393,     -999.0,9,     -999.0,9,     -999.0,9,     -999.0,9,     -999.0,9,     -999.0,9,     -999.0,9,-999.0000, -999.00
33RO20071215,        P18,      24,          1,          4,      12009,2,20071223,       1644,    10.9175,  -110.0005,       3841,  3167.8,   1.6947,  34.6764,2,  34.6748,2,    123.9,2,   124.2,2,  156.00,6,   38.30,6,    0.00,6,    2.51,2,-999.000,9,-999.000,9,-999.0000,9,  2351.7,2,  2423.7,2,   -999.0,9,  -999.00,   7.5458,2,    25.00,-999.000,9,-999.0000,9, -999.00,9, -999.00,9,  -999.0,9,-999.000,9,-999.000,-999.000,9,-999.000,9,   37.10,2,   39.94,2, -999.00,9, -999.00,9, -999.00,9,-999.000,   0.1530,2,   0.1057,2,   0.0556,2,   0.0388,2,   0.0251,2,   0.0109,2,   0.0042,2,   0.0148,2,   0.0162,2,   1.4572,     -999.0,9,     -999.0,9,     -999.0,9,     -999.0,9,     -999.0,9,     -999.0,9,     -999.0,9,-999.0000, -999.00
33RO20071215,        P18,      24,          1,          3,      12006,2,20071223,       1644,    10.9175,  -110.0005,       3841,  3417.1,   1.6317,  34.6797,2,  34.6799,2,    130.1,2,   130.3,2,  155.70,6,   37.90,6,    0.00,6,    2.49,2,   0.004,2,   0.002,2,   0.0000,2,  2346.3,2,  2418.8,4,   -999.0,9,  -999.00,   7.5476,2,    25.00,-999.000,9,-999.0000,9, -999.00,9, -999.00,9,  -999.0,9,-999.000,9,-999.000,   0.009,3,-999.000,9,   38.07,2,   39.29,2, -999.00,9, -999.00,9, -999.00,9,-999.000,   0.1455,2,   0.1009,2,   0.0539,2,   0.0365,2,   0.0225,2,   0.0080,2,   0.0020,2,   0.0156,2,   0.0165,2,   1.3707,     -999.0,9,     -999.0,9,     -999.0,9,     -999.0,9,     -999.0,9,     -999.0,9,     -999.0,9,-999.0000, -999.00
33RO20071215,        P18,      24,          1,          2,      12007,2,20071223,       1644,    10.9175,  -110.0005,       3841,  3668.2,   1.6197,  34.6812,2,  34.6826,2,    133.4,2,   133.4,2,  155.50,6,   37.60,6,    0.00,6,    2.47,2,   0.004,2,   0.002,2,   0.0000,2,  2344.1,2,  2412.1,4,   -999.0,9,  -999.00,   7.5617,2,    25.00,-999.000,9,-999.0000,9, -999.00,9, -999.00,9,  -999.0,9,-999.000,9,-999.000,   0.006,3,-999.000,9,   37.54,2,   39.31,2, -999.00,9, -999.00,9, -999.00,9,-999.000,   0.1511,2,   0.1058,2,   0.0571,2,   0.0393,2,   0.0247,2,   0.0095,2,   0.0026,2,   0.0152,2,   0.0160,2,   1.3330,     -999.0,9,     -999.0,9,     -999.0,9,     -999.0,9,     -999.0,9,     -999.0,9,     -999.0,9,-999.0000, -999.00
33RO20071215,        P18,      24,          1,          1,      12035,2,20071223,       1644,    10.9175,  -110.0005,       3841,  3874.7,   1.6061,  34.6825,2,  34.6838,2,    136.5,2,   133.8,3,  155.50,2,   37.50,2,    0.00,2,    2.45,2,   0.004,6,   0.002,6,   0.0000,6,  2342.2,6,  2413.5,4,   -999.0,9,  -999.00,   7.5778,2,    25.00,-999.000,9,-999.0000,9, -999.00,9, -999.00,9,  -999.0,9,-999.000,9,-999.000,   0.006,3,-999.000,9,   38.61,2,   37.33,2, -999.00,9, -999.00,9, -999.00,9,-999.000,   0.1602,2,   0.1128,2,   0.0606,2,   0.0421,2,   0.0268,2,   0.0114,2,   0.0039,2,   0.0150,2,   0.0159,2,   1.2978,     -999.0,9,     -999.0,9,     -999.0,9,     -999.0,9,     -999.0,9,     -999.0,9,     -999.0,9,-999.0000, -999.00