BOTTLE,20220818CCHSIOAMB
EXPOCODE,SECT_ID,STNNBR,CASTNO,SAMPNO,BTLNBR,BTLNBR_FLAG_W,DATE,TIME,LATITUDE,LONGITUDE,DEPTH,CTDPRS,CTDTMP,CTDSAL,CTDSAL_FLAG_W,SALNTY,SALNTY_FLAG_W,CTDOXY,CTDOXY_FLAG_W,OXYGEN,OXYGEN_FLAG_W,SILCAT,SILCAT_FLAG_W,NITRAT,NITRAT_FLAG_W,NITRIT,NITRIT_FLAG_W,PHSPHT,PHSPHT_FLAG_W,CFC-11,CFC-11_FLAG_W,CFC-12,CFC-12_FLAG_W,SF6,SF6_FLAG_W,TCARBN,TCARBN_FLAG_W,ALKALI,ALKALI_FLAG_W,FCO2,FCO2_FLAG_W,FCO2TMP,PH_SWS,PH_SWS_FLAG_W,PH_TMP,TRITUM,TRITUM_FLAG_W,HELIUM,HELIUM_FLAG_W,DELHE3,DELHE3_FLAG_W,DELC13,DELC13_FLAG_W,DELC14,DELC14_FLAG_W,NEON,NEON_FLAG_W,NEONER,CCL4,CCL4_FLAG_W,POC,POC_FLAG_W,DOC,DOC_FLAG_W,TDN,TDN_FLAG_W,DON,DON_FLAG_W,CHLORA,CHLORA_FLAG_W,ARGON,ARGON_FLAG_W,TRITER,CDOM325,CDOM325_FLAG_W,CDOM340,CDOM340_FLAG_W,CDOM380,CDOM380_FLAG_W,CDOM412,CDOM412_FLAG_W,CDOM443,CDOM443_FLAG_W,CDOM490,CDOM490_FLAG_W,CDOM555,CDOM555_FLAG_W,CDOMSL,CDOMSL_FLAG_W,CDOMSN,CDOMSN_FLAG_W,THETA,D18O_NO3,D18O_NO3_FLAG_W,CDOM2C,CDOM2C_FLAG_W,CDOM3C,CDOM3C_FLAG_W,LAB_DEN,LAB_DEN_FLAG_W,DELSI30,DELSI30_FLAG_W,N2,N2_FLAG_W,D15N_NO3,D15N_NO3_FLAG_W,HELIER,DELHER
,,,,,,,,,,,METERS,DBAR,ITS-90,PSS-78,,PSS-78,,UMOL/KG,,UMOL/KG,,UMOL/KG,,UMOL/KG,,UMOL/KG,,UMOL/KG,,PMOL/KG,,PMOL/KG,,FMOL/KG,,UMOL/KG,,UMOL/KG,,UATM,,DEG C,,,DEG C,TU,,NMOL/KG,,PERCNT,,/MILLE,,/MILLE,,NMOL/KG,,NMOL/KG,PMOL/KG,,UG/KG,,UMOL/KG,,UMOL/KG,,UMOL/KG,,UG/KG,,UMOL/KG,,TU,1/M,,1/M,,1/M,,1/M,,1/M,,1/M,,1/M,,1/NM,,1/NM,,DEG C,/MILLE,,,,,,,,/MILLE,,UMOL/KG,,/MILLE,,NMOL/KG,PERCNT
33RO20071215,        P18,     107,          1,         36,      12017,2,20080125,       0907,   -33.3340,  -103.0010,       3542,     5.9,  22.8758,  35.1176,2,  35.1255,2,    218.6,2,   219.5,2,    0.60,2,    0.00,2,    0.00,2,    0.07,2,-999.000,9,-999.000,9,-999.0000,9,  2041.9,6,  2314.5,2,   -999.0,9,  -999.00,   7.9648,2,    25.00,-999.000,9,-999.0000,9, -999.00,9, -999.00,9,  -999.0,9,-999.000,9,-999.000,-999.000,9,-999.000,9, -999.00,9, -999.00,9, -999.00,9, -999.00,9, -999.00,9,-999.000,-999.0000,9,-999.0000,9,-999.0000,9,-999.0000,9,-999.0000,9,-999.0000,9,-999.0000,9,-999.0000,9,-999.0000,9,  22.8746,     -999.0,9,     -999.0,9,     -999.0,9,     -999.0,9,     -999.0,9,     -999.0,9,     -999.0,9,-999.0000, -999.00
33RO20071215,        P18,     107,          1,         35,      12029,2,20080125,       0907,   -33.3340,  -103.0010,       3542,    13.2,  23.1083,  35.3193,2,  35.3103,2,    218.3,2,   219.3,2,    0.60,2,    0.00,2,    0.00,2,    0.07,2,-999.000,9,-999.000,9,-999.0000,9,  2047.6,2,  2324.6,2,   -999.0,9,  -999.00,   7.9755,2,    25.00,-999.000,9,-999.0000,9, -999.00,9,    1.25,3,  -999.0,9,-999.000,9,-999.000,-999.000,9,-999.000,9, -999.00,9, -999.00,9, -999.00,9, -999.00,9, -999.00,9,-999.000,-999.0000,9,-999.0000,9,-999.0000,9,-999.0000,9,-999.0000,9,-999.0000,9,-999.0000,9,-999.0000,9,-999.0000,9,  23.1056,     -999.0,9,     -999.0,9,     -999.0,9,     -999.0,9,     -999.0,9,     -999.0,9,     -999.0,9,-999.0000, -999.00
33RO20071215,        P18,     107,          1,         34,      12049,2,20080125,       0907,   -33.3340,  -103.0010,       3542,    27.2,  21.2485,  35.3838,2,  35.3797,2,    232.6,2,   233.8,2,    0.70,2,    0.00,2,    0.00,2,    0.07,2,-999.000,9,-999.000,9,-999.0000,9,  2048.0,2,  -999.0,5,   -999.0,9,  -999.00,   7.9924,2,    25.00,-999.000,9,-999.0000,9, -999.00,9, -999.00,9,  -999.0,9,-999.000,9,-999.000,-999.000,9,-999.000,9, -999.00,9, -999.00,9, -999.00,9, -999.00,9, -999.00,9,-999.000,-999.0000,9,-999.0000,9,-999.0000,9,-999.0000,9,-999.0000,9,-999.0000,9,-999.0000,9,-999.0000,9,-999.0000,9,  21.2432,     -999.0,9,     -999.0,9,     -999.0,9,     -999.0,9,     -999.0,9,     -999.0,9,     -999.0,9,-999.0000, -999.00
33RO20071215,        P18,     107,          1,         33,      12027,2,20080125,       0907,   -33.3340,  -103.0010,       3542,    46.0,  19.9260,  35.2525,2,  35.1897,2,    240.1,2,   242.5,2,    0.60,2,    0.00,2,    0.00,2,    0.07,2,-999.000,9,-999.000,9,-999.0000,9,  2041.1,2,  2315.9,2,   -999.0,9,  -999.00,   7.9663,2,    25.00,-999.000,9,-999.0000,9, -999.00,9, -999.00,9,  -999.0,9,-999.000,9,-999.000,-999.000,9,-999.000,9, -999.00,9, -999.00,9, -999.00,9, -999.00,9, -999.00,9,-999.000,-999.0000,9,-999.0000,9,-999.0000,9,-999.0000,9,-999.0000,9,-999.0000,9,-999.0000,9,-999.0000,9,-999.0000,9,  19.9175,     -999.0,9,     -999.0,9,     -999.0,9,     -999.0,9,     -999.0,9,     -999.0,9,     -999.0,9,-999.0000, -999.00
33RO20071215,        P18,     107,          1,         32,      12023,2,20080125,       0907,   -33.3340,  -103.0010,       3542,    65.3,  17.8871,  34.9826,2,  34.9960,2,    249.4,2,   250.0,2,    0.60,2,    0.00,2,    0.00,2,    0.08,2,-999.000,9,-999.000,9,-999.0000,9,  2036.0,2,  2309.4,2,   -999.0,9,  -999.00,   7.9702,2,    25.00,-999.000,9,-999.0000,9, -999.00,9, -999.00,9,  -999.0,9,-999.000,9,-999.000,-999.000,9,-999.000,9, -999.00,9, -999.00,9, -999.00,9, -999.00,9, -999.00,9,-999.000,-999.0000,9,-999.0000,9,-999.0000,9,-999.0000,9,-999.0000,9,-999.0000,9,-999.0000,9,-999.0000,9,-999.0000,9,  17.8760,     -999.0,9,     -999.0,9,     -999.0,9,     -999.0,9,     -999.0,9,     -999.0,9,     -999.0,9,-999.0000, -999.00
33RO20071215,        P18,     107,          1,         31,      12037,2,20080125,       0907,   -33.3340,  -103.0010,       3542,    86.4,  17.4749,  35.0360,2,  35.0319,2,    248.6,2,   247.8,2,    0.60,2,    0.00,2,    0.00,2,    0.08,2,-999.000,9,-999.000,9,-999.0000,9,  2037.5,2,  2312.1,2,   -999.0,9,  -999.00,   7.9821,2,    25.00,-999.000,9,-999.0000,9, -999.00,9, -999.00,9,  -999.0,9,-999.000,9,-999.000,-999.000,9,-999.000,9, -999.00,9, -999.00,9, -999.00,9, -999.00,9, -999.00,9,-999.000,-999.0000,9,-999.0000,9,-999.0000,9,-999.0000,9,-999.0000,9,-999.0000,9,-999.0000,9,-999.0000,9,-999.0000,9,  17.4604,     -999.0,9,     -999.0,9,     -999.0,9,     -999.0,9,     -999.0,9,     -999.0,9,     -999.0,9,-999.0000, -999.00
33RO20071215,        P18,     107,          1,         30,      12036,2,20080125,       0907,   -33.3340,  -103.0010,       3542,   108.0,  17.0435,  35.0170,2,  35.0328,2,    244.2,2,   245.5,2,    0.60,2,    0.00,2,    0.00,2,    0.09,2,-999.000,9,-999.000,9,-999.0000,9,  2041.2,2,  2313.1,2,   -999.0,9,  -999.00,   7.9672,2,    25.00,-999.000,9,-999.0000,9, -999.00,9, -999.00,9,  -999.0,9,-999.000,9,-999.000,-999.000,9,-999.000,9, -999.00,9, -999.00,9, -999.00,9, -999.00,9, -999.00,9,-999.000,-999.0000,9,-999.0000,9,-999.0000,9,-999.0000,9,-999.0000,9,-999.0000,9,-999.0000,9,-999.0000,9,-999.0000,9,  17.0257,     -999.0,9,     -999.0,9,     -999.0,9,     -999.0,9,     -999.0,9,     -999.0,9,     -999.0,9,-999.0000, -999.00
33RO20071215,        P18,     107,          1,         29,      12044,2,20080125,       0907,   -33.3340,  -103.0010,       3542,   131.5,  15.9472,  34.8174,2,  34.8154,2,    246.8,2,   245.1,2,    0.60,2,    0.20,2,    0.03,2,    0.13,2,-999.000,9,-999.000,9,-999.0000,9,  2043.8,2,  2300.6,2,   -999.0,9,  -999.00,   7.9612,2,    25.00,-999.000,9,-999.0000,9, -999.00,9, -999.00,9,  -999.0,9,-999.000,9,-999.000,-999.000,9,-999.000,9, -999.00,9, -999.00,9, -999.00,9, -999.00,9, -999.00,9,-999.000,-999.0000,9,-999.0000,9,-999.0000,9,-999.0000,9,-999.0000,9,-999.0000,9,-999.0000,9,-999.0000,9,-999.0000,9,  15.9265,     -999.0,9,     -999.0,9,     -999.0,9,     -999.0,9,     -999.0,9,     -999.0,9,     -999.0,9,-999.0000, -999.00
33RO20071215,        P18,     107,          1,         28,      12057,2,20080125,       0907,   -33.3340,  -103.0010,       3542,   158.2,  15.6443,  34.7740,2,  34.7732,2,    240.2,2,   239.8,2,    0.60,2,    0.80,2,    0.22,2,    0.18,2,-999.000,9,-999.000,9,-999.0000,9,  2048.6,2,  2299.9,2,   -999.0,9,  -999.00,   7.9324,2,    25.00,-999.000,9,-999.0000,9, -999.00,9, -999.00,9,  -999.0,9,-999.000,9,-999.000,-999.000,9,-999.000,9, -999.00,9, -999.00,9, -999.00,9, -999.00,9, -999.00,9,-999.000,-999.0000,9,-999.0000,9,-999.0000,9,-999.0000,9,-999.0000,9,-999.0000,9,-999.0000,9,-999.0000,9,-999.0000,9,  15.6198,     -999.0,9,     -999.0,9,     -999.0,9,     -999.0,9,     -999.0,9,     -999.0,9,     -999.0,9,-999.0000, -999.00
33RO20071215,        P18,     107,          1,         27,      12026,2,20080125,       0907,   -33.3340,  -103.0010,       3542,   183.5,  14.8934,  34.6558,2,  34.6627,2,    235.4,2,   236.1,2,    0.70,2,    2.20,2,    0.44,2,    0.27,2,-999.000,9,-999.000,9,-999.0000,9,  2053.5,2,  2292.1,2,   -999.0,9,  -999.00,   7.9198,2,    25.00,-999.000,9,-999.0000,9, -999.00,9, -999.00,9,  -999.0,9,-999.000,9,-999.000,-999.000,9,-999.000,9, -999.00,9, -999.00,9, -999.00,9, -999.00,9, -999.00,9,-999.000,-999.0000,9,-999.0000,9,-999.0000,9,-999.0000,9,-999.0000,9,-999.0000,9,-999.0000,9,-999.0000,9,-999.0000,9,  14.8659,     -999.0,9,     -999.0,9,     -999.0,9,     -999.0,9,     -999.0,9,     -999.0,9,     -999.0,9,-999.0000, -999.00
33RO20071215,        P18,     107,          1,         26,      12030,2,20080125,       0907,   -33.3340,  -103.0010,       3542,   215.7,  13.5181,  34.4820,2,  34.4864,2,    227.3,2,   227.4,2,    0.90,2,    6.10,2,    0.04,2,    0.46,2,-999.000,9,-999.000,9,-999.0000,9,  2068.1,2,  2275.3,2,   -999.0,9,  -999.00,   7.8709,2,    25.00,-999.000,9,-999.0000,9, -999.00,9, -999.00,9,  -999.0,9,-999.000,9,-999.000,-999.000,9,-999.000,9, -999.00,9, -999.00,9, -999.00,9, -999.00,9, -999.00,9,-999.000,-999.0000,9,-999.0000,9,-999.0000,9,-999.0000,9,-999.0000,9,-999.0000,9,-999.0000,9,-999.0000,9,-999.0000,9,  13.4877,     -999.0,9,     -999.0,9,     -999.0,9,     -999.0,9,     -999.0,9,     -999.0,9,     -999.0,9,-999.0000, -999.00
33RO20071215,        P18,     107,          1,         25,      12024,2,20080125,       0907,   -33.3340,  -103.0010,       3542,   267.0,  11.7792,  34.4393,2,  34.4350,2,    215.7,2,   216.5,2,    1.70,2,   12.00,2,    0.01,2,    0.81,2,-999.000,9,-999.000,9,-999.0000,9,  -999.0,9,  -999.0,9,   -999.0,9,  -999.00,-999.0000,9,  -999.00,-999.000,9,-999.0000,9, -999.00,9, -999.00,9,  -999.0,9,-999.000,9,-999.000,-999.000,9,-999.000,9, -999.00,9, -999.00,9, -999.00,9, -999.00,9, -999.00,1,-999.000,-999.0000,9,-999.0000,9,-999.0000,9,-999.0000,9,-999.0000,9,-999.0000,9,-999.0000,9,-999.0000,9,-999.0000,9,  11.7449,     -999.0,1,     -999.0,9,     -999.0,9,     -999.0,9,     -999.0,9,     -999.0,1,     -999.0,9,-999.0000, -999.00
33RO20071215,        P18,     107,          1,         24,      12019,2,20080125,       0907,   -33.3340,  -103.0010,       3542,   316.8,   9.8655,  34.3636,2,  34.3601,2,    216.8,2,   216.3,2,    3.10,2,   16.70,2,    0.00,2,    1.12,2,-999.000,9,-999.000,9,-999.0000,9,  2116.2,2,  2270.0,2,   -999.0,9,  -999.00,   7.7602,2,    25.00,-999.000,9,-999.0000,9, -999.00,9, -999.00,9,  -999.0,9,-999.000,9,-999.000,-999.000,9,-999.000,9, -999.00,9, -999.00,9, -999.00,9, -999.00,9, -999.00,1,-999.000,-999.0000,9,-999.0000,9,-999.0000,9,-999.0000,9,-999.0000,9,-999.0000,9,-999.0000,9,-999.0000,9,-999.0000,9,   9.8291,     -999.0,1,     -999.0,9,     -999.0,9,     -999.0,9,     -999.0,9,     -999.0,1,     -999.0,9,-999.0000, -999.00
33RO20071215,        P18,     107,          1,         23,      12022,2,20080125,       0907,   -33.3340,  -103.0010,       3542,   367.5,   8.1735,  34.3079,2,  34.3087,2,    228.3,2,   228.3,2,    4.50,2,   20.30,2,    0.00,2,    1.33,2,-999.000,9,-999.000,9,-999.0000,9,  -999.0,9,  -999.0,9,   -999.0,9,  -999.00,-999.0000,9,  -999.00,-999.000,9,-999.0000,9, -999.00,9, -999.00,9,  -999.0,9,-999.000,9,-999.000,-999.000,9,-999.000,9, -999.00,9, -999.00,9, -999.00,9, -999.00,9, -999.00,1,-999.000,-999.0000,9,-999.0000,9,-999.0000,9,-999.0000,9,-999.0000,9,-999.0000,9,-999.0000,9,-999.0000,9,-999.0000,9,   8.1358,     -999.0,1,     -999.0,9,     -999.0,9,     -999.0,9,     -999.0,9,     -999.0,1,     -999.0,9,-999.0000, -999.00
33RO20071215,        P18,     107,          1,         22,      12015,2,20080125,       0907,   -33.3340,  -103.0010,       3542,   433.1,   7.0526,  34.3161,2,  34.3161,2,    237.7,2,   237.7,2,    6.30,2,   22.40,2,    0.00,2,    1.46,2,-999.000,9,-999.000,9,-999.0000,9,  2136.9,2,  2272.7,2,   -999.0,9,  -999.00,   7.6865,2,    25.00,-999.000,9,-999.0000,9, -999.00,9, -999.00,9,  -999.0,9,-999.000,9,-999.000,-999.000,9,-999.000,9, -999.00,9, -999.00,9, -999.00,9, -999.00,9, -999.00,1,-999.000,-999.0000,9,-999.0000,9,-999.0000,9,-999.0000,9,-999.0000,9,-999.0000,9,-999.0000,9,-999.0000,9,-999.0000,9,   7.0116,     -999.0,1,     -999.0,9,     -999.0,9,     -999.0,9,     -999.0,9,     -999.0,1,     -999.0,9,-999.0000, -999.00
33RO20071215,        P18,     107,          1,         21,      12020,2,20080125,       0907,   -33.3340,  -103.0010,       3542,   532.1,   6.4995,  34.3216,2,  34.3219,2,    247.0,2,   246.4,2,    7.90,2,   23.20,2,    0.00,2,    1.51,2,-999.000,9,-999.000,9,-999.0000,9,  -999.0,9,  -999.0,9,   -999.0,9,  -999.00,-999.0000,9,  -999.00,-999.000,9,-999.0000,9, -999.00,9, -999.00,9,  -999.0,9,-999.000,9,-999.000,-999.000,9,-999.000,9, -999.00,9, -999.00,9, -999.00,9, -999.00,9, -999.00,1,-999.000,-999.0000,9,-999.0000,9,-999.0000,9,-999.0000,9,-999.0000,9,-999.0000,9,-999.0000,9,-999.0000,9,-999.0000,9,   6.4511,     -999.0,1,     -999.0,9,     -999.0,9,     -999.0,9,     -999.0,9,     -999.0,1,     -999.0,9,-999.0000, -999.00
33RO20071215,        P18,     107,          1,         20,      12055,2,20080125,       0907,   -33.3340,  -103.0010,       3542,   631.9,   6.0092,  34.2958,2,  34.2978,2,    248.1,2,   248.2,2,    9.40,2,   24.20,2,    0.00,2,    1.57,2,-999.000,9,-999.000,9,-999.0000,9,  2141.0,2,  2275.8,2,   -999.0,9,  -999.00,   7.7068,2,    25.00,-999.000,9,-999.0000,9, -999.00,9, -999.00,9,  -999.0,9,-999.000,9,-999.000,-999.000,9,-999.000,9, -999.00,9, -999.00,9, -999.00,9, -999.00,9, -999.00,9,-999.000,-999.0000,9,-999.0000,9,-999.0000,9,-999.0000,9,-999.0000,9,-999.0000,9,-999.0000,9,-999.0000,9,-999.0000,9,   5.9535,     -999.0,9,     -999.0,9,     -999.0,9,     -999.0,9,     -999.0,9,     -999.0,9,     -999.0,9,-999.0000, -999.00
33RO20071215,        P18,     107,          1,         19,      12018,2,20080125,       0907,   -33.3340,  -103.0010,       3542,   735.2,   5.5537,  34.2753,2,  34.2757,2,    240.6,2,   241.2,2,   12.00,2,   26.00,2,    0.00,2,    1.70,2,-999.000,9,-999.000,9,-999.0000,9,  -999.0,9,  -999.0,9,   -999.0,9,  -999.00,-999.0000,9,  -999.00,-999.000,9,-999.0000,9, -999.00,9, -999.00,9,  -999.0,9,-999.000,9,-999.000,-999.000,9,-999.000,9, -999.00,9, -999.00,9, -999.00,9, -999.00,9, -999.00,9,-999.000,-999.0000,9,-999.0000,9,-999.0000,9,-999.0000,9,-999.0000,9,-999.0000,9,-999.0000,9,-999.0000,9,-999.0000,9,   5.4910,     -999.0,9,     -999.0,9,     -999.0,9,     -999.0,9,     -999.0,9,     -999.0,9,     -999.0,9,-999.0000, -999.00
33RO20071215,        P18,     107,          1,         18,      12025,2,20080125,       0907,   -33.3340,  -103.0010,       3542,   833.7,   5.0667,  34.2685,2,  34.2704,2,    227.5,2,   227.8,2,   16.90,2,   28.20,2,    0.00,2,    1.87,2,-999.000,9,-999.000,9,-999.0000,9,  2161.3,2,  2281.9,2,   -999.0,9,  -999.00,   7.7074,2,    25.00,-999.000,9,-999.0000,9, -999.00,9, -999.00,9,  -999.0,9,-999.000,9,-999.000,-999.000,9,-999.000,9, -999.00,9, -999.00,9, -999.00,9, -999.00,9, -999.00,9,-999.000,-999.0000,9,-999.0000,9,-999.0000,9,-999.0000,9,-999.0000,9,-999.0000,9,-999.0000,9,-999.0000,9,-999.0000,9,   4.9981,     -999.0,9,     -999.0,9,     -999.0,9,     -999.0,9,     -999.0,9,     -999.0,9,     -999.0,9,-999.0000, -999.00
33RO20071215,        P18,     107,          1,         17,      12016,2,20080125,       0907,   -33.3340,  -103.0010,       3542,   933.0,   4.6156,  34.2820,2,  34.2834,2,    211.1,2,   211.8,2,   24.10,2,   30.30,2,    0.00,2,    2.05,2,-999.000,9,-999.000,9,-999.0000,9,  -999.0,9,  -999.0,9,   -999.0,9,  -999.00,-999.0000,9,  -999.00,-999.000,9,-999.0000,9, -999.00,9, -999.00,9,  -999.0,9,-999.000,9,-999.000,-999.000,9,-999.000,9, -999.00,9, -999.00,9, -999.00,9, -999.00,9, -999.00,9,-999.000,-999.0000,9,-999.0000,9,-999.0000,9,-999.0000,9,-999.0000,9,-999.0000,9,-999.0000,9,-999.0000,9,-999.0000,9,   4.5414,     -999.0,9,     -999.0,9,     -999.0,9,     -999.0,9,     -999.0,9,     -999.0,9,     -999.0,9,-999.0000, -999.00
33RO20071215,        P18,     107,          1,         16,      12051,2,20080125,       0907,   -33.3340,  -103.0010,       3542,  1031.7,   4.1039,  34.3252,2,  34.3271,2,    182.7,2,   180.3,2,   37.40,2,   33.70,2,    0.00,2,    2.32,2,-999.000,9,-999.000,9,-999.0000,9,  2209.4,2,  2301.7,2,   -999.0,9,  -999.00,   7.5813,2,    25.00,-999.000,9,-999.0000,9, -999.00,9, -999.00,9,  -999.0,9,-999.000,9,-999.000,-999.000,9,-999.000,9, -999.00,9, -999.00,9, -999.00,9, -999.00,9, -999.00,9,-999.000,-999.0000,9,-999.0000,9,-999.0000,9,-999.0000,9,-999.0000,9,-999.0000,9,-999.0000,9,-999.0000,9,-999.0000,9,   4.0251,     -999.0,9,     -999.0,9,     -999.0,9,     -999.0,9,     -999.0,9,     -999.0,9,     -999.0,9,-999.0000, -999.00
33RO20071215,        P18,     107,          1,         15,      12014,2,20080125,       0907,   -33.3340,  -103.0010,       3542,  1133.9,   3.7234,  34.3832,2,  34.3841,2,    157.5,2,   156.8,2,   51.20,2,   35.90,2,    0.00,2,    2.49,2,-999.000,9,-999.000,9,-999.0000,9,  -999.0,9,  -999.0,9,   -999.0,9,  -999.00,-999.0000,9,  -999.00,-999.000,9,-999.0000,9, -999.00,9, -999.00,9,  -999.0,9,-999.000,9,-999.000,-999.000,9,-999.000,9, -999.00,9, -999.00,9, -999.00,9, -999.00,9, -999.00,9,-999.000,-999.0000,9,-999.0000,9,-999.0000,9,-999.0000,9,-999.0000,9,-999.0000,9,-999.0000,9,-999.0000,9,-999.0000,9,   3.6391,     -999.0,9,     -999.0,9,     -999.0,9,     -999.0,9,     -999.0,9,     -999.0,9,     -999.0,9,-999.0000, -999.00
33RO20071215,        P18,     107,          1,         14,      12013,2,20080125,       0907,   -33.3340,  -103.0010,       3542,  1232.5,   3.5332,  34.4453,2,  34.4456,2,    134.2,2,   134.5,2,   64.90,2,   37.40,2,    0.00,2,    2.65,2,-999.000,9,-999.000,9,-999.0000,9,  2258.1,2,  2332.1,2,   -999.0,9,  -999.00,   7.5118,2,    25.00,-999.000,9,-999.0000,9, -999.00,9, -999.00,9,  -999.0,9,-999.000,9,-999.000,-999.000,9,-999.000,9, -999.00,9, -999.00,9, -999.00,9, -999.00,9, -999.00,9,-999.000,-999.0000,9,-999.0000,9,-999.0000,9,-999.0000,9,-999.0000,9,-999.0000,9,-999.0000,9,-999.0000,9,-999.0000,9,   3.4423,     -999.0,9,     -999.0,9,     -999.0,9,     -999.0,9,     -999.0,9,     -999.0,9,     -999.0,9,-999.0000, -999.00
33RO20071215,        P18,     107,          1,         13,      12012,2,20080125,       0907,   -33.3340,  -103.0010,       3542,  1331.7,   3.3722,  34.4918,2,  34.4926,2,    125.2,2,   124.3,2,   75.80,2,   38.00,2,    0.00,2,    2.69,2,-999.000,9,-999.000,9,-999.0000,9,  2274.0,6,  2344.7,2,   -999.0,9,  -999.00,   7.5037,2,    25.00,-999.000,9,-999.0000,9, -999.00,9, -999.00,9,  -999.0,9,-999.000,9,-999.000,-999.000,9,-999.000,9, -999.00,9, -999.00,9, -999.00,9, -999.00,9, -999.00,9,-999.000,-999.0000,9,-999.0000,9,-999.0000,9,-999.0000,9,-999.0000,9,-999.0000,9,-999.0000,9,-999.0000,9,-999.0000,9,   3.2745,     -999.0,9,     -999.0,9,     -999.0,9,     -999.0,9,     -999.0,9,     -999.0,9,     -999.0,9,-999.0000, -999.00
33RO20071215,        P18,     107,          1,         12,      12031,2,20080125,       0907,   -33.3340,  -103.0010,       3542,  1468.5,   3.0769,  34.5350,2,  34.5347,2,    126.1,2,   125.5,2,   86.70,2,   37.80,2,    0.00,2,    2.70,2,-999.000,9,-999.000,9,-999.0000,9,  2283.9,2,  2358.8,2,   -999.0,9,  -999.00,   7.5116,2,    25.00,-999.000,9,-999.0000,9, -999.00,9, -999.00,9,  -999.0,9,-999.000,9,-999.000,-999.000,9,-999.000,9, -999.00,9, -999.00,9, -999.00,9, -999.00,9, -999.00,9,-999.000,-999.0000,9,-999.0000,9,-999.0000,9,-999.0000,9,-999.0000,9,-999.0000,9,-999.0000,9,-999.0000,9,-999.0000,9,   2.9709,     -999.0,9,     -999.0,9,     -999.0,9,     -999.0,9,     -999.0,9,     -999.0,9,     -999.0,9,-999.0000, -999.00