BOTTLE,20220818CCHSIOAMB
EXPOCODE,SECT_ID,STNNBR,CASTNO,SAMPNO,BTLNBR,BTLNBR_FLAG_W,DATE,TIME,LATITUDE,LONGITUDE,DEPTH,CTDPRS,CTDTMP,CTDSAL,CTDSAL_FLAG_W,SALNTY,SALNTY_FLAG_W,CTDOXY,CTDOXY_FLAG_W,OXYGEN,OXYGEN_FLAG_W,SILCAT,SILCAT_FLAG_W,NITRAT,NITRAT_FLAG_W,NITRIT,NITRIT_FLAG_W,PHSPHT,PHSPHT_FLAG_W,CFC-11,CFC-11_FLAG_W,CFC-12,CFC-12_FLAG_W,SF6,SF6_FLAG_W,TCARBN,TCARBN_FLAG_W,ALKALI,ALKALI_FLAG_W,FCO2,FCO2_FLAG_W,FCO2TMP,PH_SWS,PH_SWS_FLAG_W,PH_TMP,TRITUM,TRITUM_FLAG_W,HELIUM,HELIUM_FLAG_W,DELHE3,DELHE3_FLAG_W,DELC13,DELC13_FLAG_W,DELC14,DELC14_FLAG_W,NEON,NEON_FLAG_W,NEONER,CCL4,CCL4_FLAG_W,POC,POC_FLAG_W,DOC,DOC_FLAG_W,TDN,TDN_FLAG_W,DON,DON_FLAG_W,CHLORA,CHLORA_FLAG_W,ARGON,ARGON_FLAG_W,TRITER,CDOM325,CDOM325_FLAG_W,CDOM340,CDOM340_FLAG_W,CDOM380,CDOM380_FLAG_W,CDOM412,CDOM412_FLAG_W,CDOM443,CDOM443_FLAG_W,CDOM490,CDOM490_FLAG_W,CDOM555,CDOM555_FLAG_W,CDOMSL,CDOMSL_FLAG_W,CDOMSN,CDOMSN_FLAG_W,THETA,D18O_NO3,D18O_NO3_FLAG_W,CDOM2C,CDOM2C_FLAG_W,CDOM3C,CDOM3C_FLAG_W,LAB_DEN,LAB_DEN_FLAG_W,DELSI30,DELSI30_FLAG_W,N2,N2_FLAG_W,D15N_NO3,D15N_NO3_FLAG_W,HELIER,DELHER
,,,,,,,,,,,METERS,DBAR,ITS-90,PSS-78,,PSS-78,,UMOL/KG,,UMOL/KG,,UMOL/KG,,UMOL/KG,,UMOL/KG,,UMOL/KG,,PMOL/KG,,PMOL/KG,,FMOL/KG,,UMOL/KG,,UMOL/KG,,UATM,,DEG C,,,DEG C,TU,,NMOL/KG,,PERCNT,,/MILLE,,/MILLE,,NMOL/KG,,NMOL/KG,PMOL/KG,,UG/KG,,UMOL/KG,,UMOL/KG,,UMOL/KG,,UG/KG,,UMOL/KG,,TU,1/M,,1/M,,1/M,,1/M,,1/M,,1/M,,1/M,,1/NM,,1/NM,,DEG C,/MILLE,,,,,,,,/MILLE,,UMOL/KG,,/MILLE,,NMOL/KG,PERCNT
33RO20071215,        P18,     144,          1,         36,      12017,2,20080205,       1805,   -54.9168,  -102.9980,       4279,     5.7,   7.8047,  34.1470,2,  34.1461,2,    293.1,2,   292.8,2,    1.00,2,   17.00,2,    0.20,2,    1.14,2,-999.000,9,-999.000,9,-999.0000,9,  2103.2,6,  2276.7,2,   -999.0,9,  -999.00,   7.8069,2,    25.00,-999.000,9,-999.0000,9, -999.00,9, -999.00,9,  -999.0,9,-999.000,9,-999.000,-999.000,9,-999.000,9,   51.28,2,   21.66,2, -999.00,1,    0.23,2, -999.00,9,-999.000,   0.0882,2,   0.0606,2,   0.0273,2,   0.0205,2,   0.0129,2,   0.0065,2,   0.0015,2,   0.0147,2,   0.0185,2,   7.8042,     -999.0,9,     -999.0,9,     -999.0,9,     -999.0,9,     -999.0,9,     -999.0,9,     -999.0,9,-999.0000, -999.00
33RO20071215,        P18,     144,          1,         35,      12029,2,20080205,       1805,   -54.9168,  -102.9980,       4279,    10.8,   7.7064,  34.1457,2,  34.1446,2,    293.3,2,   292.7,2,    1.00,2,   17.10,2,    0.20,2,    1.20,2,-999.000,9,-999.000,9,-999.0000,9,  2103.6,2,  2276.3,2,   -999.0,9,  -999.00,   7.8099,2,    25.00,-999.000,9,-999.0000,9, -999.00,9, -999.00,9,  -999.0,9,-999.000,9,-999.000,-999.000,9,-999.000,9,   50.68,2,   21.63,2, -999.00,1,    0.23,2, -999.00,9,-999.000,   0.0775,2,   0.0510,2,   0.0210,2,   0.0154,2,   0.0088,2,   0.0039,2,   0.0002,4,   0.0171,2,   0.0223,2,   7.7053,     -999.0,9,     -999.0,9,     -999.0,9,     -999.0,9,     -999.0,9,     -999.0,9,     -999.0,9,-999.0000, -999.00
33RO20071215,        P18,     144,          1,         34,      12049,2,20080205,       1805,   -54.9168,  -102.9980,       4279,    20.2,   7.6581,  34.1460,2,  34.1438,2,    292.2,2,   293.1,2,    1.00,2,   17.10,2,    0.19,2,    1.21,2,-999.000,9,-999.000,9,-999.0000,9,  2104.9,2,  2277.1,2,   -999.0,9,  -999.00,-999.0000,9,  -999.00,-999.000,9,-999.0000,9, -999.00,9, -999.00,9,  -999.0,9,-999.000,9,-999.000,-999.000,9,-999.000,9,   50.51,2,   21.67,2, -999.00,1,    0.23,2, -999.00,9,-999.000,   0.0768,2,   0.0511,2,   0.0234,2,   0.0165,2,   0.0081,2,   0.0009,3,  -0.0033,4,   0.0167,2,   0.0204,2,   7.6561,     -999.0,9,     -999.0,9,     -999.0,9,     -999.0,9,     -999.0,9,     -999.0,9,     -999.0,9,-999.0000, -999.00
33RO20071215,        P18,     144,          1,         33,      12027,2,20080205,       1805,   -54.9168,  -102.9980,       4279,    41.1,   7.5709,  34.1471,2,  34.1497,2,    290.5,2,   293.7,2,    1.20,2,   17.20,2,    0.19,2,    1.23,2,-999.000,9,-999.000,9,-999.0000,9,  2106.3,2,  2268.9,2,   -999.0,9,  -999.00,   7.8061,2,    25.00,-999.000,9,-999.0000,9, -999.00,9, -999.00,9,  -999.0,9,-999.000,9,-999.000,-999.000,9,-999.000,1,   50.23,2,   21.70,2, -999.00,1,    0.20,2, -999.00,9,-999.000,   0.0667,2,   0.0417,2,   0.0161,2,   0.0113,2,   0.0049,2,   0.0007,2,  -0.0020,4,   0.0202,2,   0.0261,2,   7.5670,     -999.0,9,     -999.0,9,     -999.0,9,     -999.0,9,     -999.0,9,     -999.0,9,     -999.0,9,-999.0000, -999.00
33RO20071215,        P18,     144,          1,         32,      12023,2,20080205,       1805,   -54.9168,  -102.9980,       4279,    67.0,   7.5287,  34.1474,2,  34.1467,2,    291.4,2,   293.8,2,    1.30,2,   17.30,2,    0.19,2,    1.24,2,-999.000,9,-999.000,9,-999.0000,9,  2105.5,2,  2271.2,2,   -999.0,9,  -999.00,   7.8087,2,    25.00,-999.000,9,-999.0000,9, -999.00,9, -999.00,9,  -999.0,9,-999.000,9,-999.000,-999.000,9,-999.000,9,   48.75,2,   21.57,2, -999.00,1,    0.22,2, -999.00,9,-999.000,   0.0763,2,   0.0499,2,   0.0228,2,   0.0167,2,   0.0095,2,   0.0036,2,  -0.0004,4,   0.0160,2,   0.0202,2,   7.5223,     -999.0,9,     -999.0,9,     -999.0,9,     -999.0,9,     -999.0,9,     -999.0,9,     -999.0,9,-999.0000, -999.00
33RO20071215,        P18,     144,          1,         31,      12037,2,20080205,       1805,   -54.9168,  -102.9980,       4279,    91.3,   7.3184,  34.1493,2,  34.1516,2,    290.9,2,   291.0,2,    1.80,2,   17.30,2,    0.21,2,    1.30,2,-999.000,9,-999.000,9,-999.0000,9,  2110.5,2,  2270.6,2,   -999.0,9,  -999.00,   7.8037,2,    25.00,-999.000,9,-999.0000,9, -999.00,9, -999.00,9,  -999.0,9,-999.000,9,-999.000,-999.000,9,-999.000,9,   48.36,2,   20.95,2, -999.00,1,    0.26,2, -999.00,9,-999.000,-999.0000,5,-999.0000,5,-999.0000,5,-999.0000,5,-999.0000,5,-999.0000,5,-999.0000,5,-999.0000,5,-999.0000,5,   7.3099,     -999.0,9,     -999.0,9,     -999.0,9,     -999.0,9,     -999.0,9,     -999.0,9,     -999.0,9,-999.0000, -999.00
33RO20071215,        P18,     144,          1,         30,      12036,2,20080205,       1805,   -54.9168,  -102.9980,       4279,   116.6,   6.5000,  34.1655,2,  34.1667,2,    290.8,2,   291.2,2,    4.60,2,   18.60,2,    0.29,2,    1.45,2,-999.000,9,-999.000,9,-999.0000,9,  2121.1,2,  2276.7,2,   -999.0,9,  -999.00,   7.7693,2,    25.00,-999.000,9,-999.0000,9, -999.00,9, -999.00,9,  -999.0,9,-999.000,9,-999.000,-999.000,9,-999.000,9,   47.22,2,   21.89,2, -999.00,1,    0.16,2, -999.00,9,-999.000,   0.0693,2,   0.0447,2,   0.0211,2,   0.0154,2,   0.0072,2,   0.0010,2,  -0.0020,4,   0.0163,2,   0.0203,2,   6.4898,     -999.0,9,     -999.0,9,     -999.0,9,     -999.0,9,     -999.0,9,     -999.0,9,     -999.0,9,-999.0000, -999.00
33RO20071215,        P18,     144,          1,         29,      12044,2,20080205,       1805,   -54.9168,  -102.9980,       4279,   141.1,   6.0086,  34.1994,2,-999.0000,9,    288.9,2,   288.2,2,    6.30,2,   20.80,2,    0.02,2,    1.48,2,-999.000,9,-999.000,9,-999.0000,9,  2128.8,2,  2275.5,2,   -999.0,9,  -999.00,   7.7532,2,    25.00,-999.000,9,-999.0000,9, -999.00,9, -999.00,9,  -999.0,9,-999.000,9,-999.000,-999.000,9,-999.000,9,   46.72,2,   23.70,2, -999.00,1,    0.04,2, -999.00,9,-999.000,   0.0662,2,   0.0414,2,   0.0202,2,   0.0152,2,   0.0071,2,   0.0017,2,  -0.0016,4,   0.0156,2,   0.0203,2,   5.9966,     -999.0,9,     -999.0,9,     -999.0,9,     -999.0,9,     -999.0,9,     -999.0,9,     -999.0,9,-999.0000, -999.00
33RO20071215,        P18,     144,          1,         28,      12057,2,20080205,       1805,   -54.9168,  -102.9980,       4279,   166.4,   5.9476,  34.2038,2,  34.2033,2,    289.1,2,   287.4,2,    6.50,2,   21.00,2,    0.02,2,    1.49,2,-999.000,9,-999.000,9,-999.0000,9,  2129.3,2,  2275.4,2,   -999.0,9,  -999.00,   7.7510,2,    25.00,-999.000,9,-999.0000,9, -999.00,9, -999.00,9,  -999.0,9,-999.000,9,-999.000,-999.000,9,-999.000,9,   46.70,2,   23.28,2, -999.00,1,    0.02,2, -999.00,9,-999.000,   0.0648,2,   0.0400,2,   0.0191,2,   0.0145,2,   0.0067,2,   0.0014,2,  -0.0018,4,   0.0160,2,   0.0210,2,   5.9336,     -999.0,9,     -999.0,9,     -999.0,9,     -999.0,9,     -999.0,9,     -999.0,9,     -999.0,9,-999.0000, -999.00
33RO20071215,        P18,     144,          1,         27,      12026,2,20080205,       1805,   -54.9168,  -102.9980,       4279,   191.6,   5.8666,  34.2057,2,  34.2054,2,    288.0,2,   285.8,2,    6.90,2,   21.20,2,    0.01,2,    1.51,2,-999.000,9,-999.000,9,-999.0000,9,  2131.7,2,  2269.3,2,   -999.0,9,  -999.00,   7.7503,2,    25.00,-999.000,9,-999.0000,9, -999.00,9, -999.00,9,  -999.0,9,-999.000,9,-999.000,-999.000,9,-999.000,9,   46.01,2,   23.84,2, -999.00,1,    0.01,2, -999.00,9,-999.000,-999.0000,5,-999.0000,5,-999.0000,5,-999.0000,5,-999.0000,5,-999.0000,5,-999.0000,5,-999.0000,5,-999.0000,5,   5.8506,     -999.0,9,     -999.0,9,     -999.0,9,     -999.0,9,     -999.0,9,     -999.0,9,     -999.0,9,-999.0000, -999.00
33RO20071215,        P18,     144,          1,         26,      12030,2,20080205,       1805,   -54.9168,  -102.9980,       4279,   232.8,   5.6903,  34.2019,2,  34.2029,2,    283.2,2,   284.8,2,    7.50,2,   21.70,2,    0.01,2,    1.55,2,-999.000,9,-999.000,9,-999.0000,9,  2133.1,2,  2271.7,2,   -999.0,9,  -999.00,   7.7406,2,    25.00,-999.000,9,-999.0000,9, -999.00,9, -999.00,9,  -999.0,9,-999.000,9,-999.000,-999.000,9,-999.000,9,   45.73,2,   23.89,2, -999.00,1,    0.01,2, -999.00,9,-999.000,   0.0643,2,   0.0393,2,   0.0186,2,   0.0140,2,   0.0063,2,   0.0012,2,  -0.0018,4,   0.0163,2,   0.0215,2,   5.6711,     -999.0,9,     -999.0,9,     -999.0,9,     -999.0,9,     -999.0,9,     -999.0,9,     -999.0,9,-999.0000, -999.00
33RO20071215,        P18,     144,          1,         25,      12024,2,20080205,       1805,   -54.9168,  -102.9980,       4279,   282.9,   5.5591,  34.1918,2,  34.1902,2,    282.9,2,   285.7,2,    7.80,2,   22.00,2,    0.01,2,    1.57,2,-999.000,9,-999.000,9,-999.0000,9,  -999.0,9,  -999.0,9,   -999.0,9,  -999.00,-999.0000,9,  -999.00,-999.000,9,-999.0000,9, -999.00,9, -999.00,9,  -999.0,9,-999.000,9,-999.000,-999.000,9,-999.000,9,   44.62,2,   23.35,2, -999.00,1, -999.00,9, -999.00,9,-999.000,   0.0634,2,   0.0387,2,   0.0182,2,   0.0135,2,   0.0059,2,   0.0009,2,  -0.0020,4,   0.0166,2,   0.0220,2,   5.5359,     -999.0,9,     -999.0,9,     -999.0,9,     -999.0,9,     -999.0,9,     -999.0,9,     -999.0,9,-999.0000, -999.00
33RO20071215,        P18,     144,          1,         24,      12019,2,20080205,       1805,   -54.9168,  -102.9980,       4279,   331.9,   5.3872,  34.1805,2,  34.1800,2,    286.0,2,   285.0,2,    8.20,2,   22.40,2,    0.01,2,    1.59,2,-999.000,9,-999.000,9,-999.0000,9,  2136.1,2,  2270.9,2,   -999.0,9,  -999.00,   7.7331,2,    25.00,-999.000,9,-999.0000,9, -999.00,9, -999.00,9,  -999.0,9,-999.000,9,-999.000,-999.000,9,-999.000,9,   44.21,2,   24.09,2, -999.00,1, -999.00,9, -999.00,9,-999.000,-999.0000,5,-999.0000,5,-999.0000,5,-999.0000,5,-999.0000,5,-999.0000,5,-999.0000,5,-999.0000,5,-999.0000,5,   5.3603,     -999.0,9,     -999.0,9,     -999.0,9,     -999.0,9,     -999.0,9,     -999.0,9,     -999.0,9,-999.0000, -999.00
33RO20071215,        P18,     144,          1,         23,      12022,2,20080205,       1805,   -54.9168,  -102.9980,       4279,   382.0,   5.3263,  34.1873,2,  34.1878,2,    291.7,2,   281.1,2,    9.20,2,   22.90,2,    0.01,2,    1.62,2,-999.000,9,-999.000,9,-999.0000,9,  -999.0,9,  -999.0,9,   -999.0,9,  -999.00,-999.0000,9,  -999.00,-999.000,9,-999.0000,9, -999.00,9, -999.00,9,  -999.0,9,-999.000,9,-999.000,-999.000,9,-999.000,9,   43.41,2,   24.46,2, -999.00,1, -999.00,9, -999.00,9,-999.000,   0.0698,2,   0.0436,2,   0.0213,2,   0.0160,2,   0.0077,2,   0.0019,2,  -0.0015,4,   0.0157,2,   0.0200,2,   5.2954,     -999.0,9,     -999.0,9,     -999.0,9,     -999.0,9,     -999.0,9,     -999.0,9,     -999.0,9,-999.0000, -999.00
33RO20071215,        P18,     144,          1,         22,      12015,2,20080205,       1805,   -54.9168,  -102.9980,       4279,   467.3,   4.9201,  34.1569,2,  34.1618,2,    287.1,2,   279.0,2,   10.70,2,   24.10,2,    0.01,2,    1.70,2,-999.000,9,-999.000,9,-999.0000,9,  2144.1,2,  2277.7,2,   -999.0,9,  -999.00,   7.7193,2,    25.00,-999.000,9,-999.0000,9, -999.00,9, -999.00,9,  -999.0,9,-999.000,9,-999.000,-999.000,9,-999.000,1,   42.79,2,   25.39,2, -999.00,1, -999.00,9, -999.00,9,-999.000,   0.0667,2,   0.0410,2,   0.0195,2,   0.0145,2,   0.0064,2,   0.0010,2,  -0.0021,4,   0.0164,2,   0.0214,2,   4.8836,     -999.0,9,     -999.0,9,     -999.0,9,     -999.0,9,     -999.0,9,     -999.0,9,     -999.0,9,-999.0000, -999.00
33RO20071215,        P18,     144,          1,         21,      12020,2,20080205,       1805,   -54.9168,  -102.9980,       4279,   567.5,   4.7700,  34.1948,2,  34.1945,2,    255.0,2,   255.0,2,   15.70,2,   26.40,2,    0.01,2,    1.85,2,-999.000,9,-999.000,9,-999.0000,9,  -999.0,9,  -999.0,9,   -999.0,9,  -999.00,-999.0000,9,  -999.00,-999.000,9,-999.0000,9, -999.00,9, -999.00,9,  -999.0,9,-999.000,9,-999.000,-999.000,9,-999.000,9,   42.19,2,   28.19,2, -999.00,1, -999.00,9, -999.00,9,-999.000,   0.0787,2,   0.0503,2,   0.0248,2,   0.0180,2,   0.0090,2,   0.0023,2,  -0.0015,4,   0.0159,2,   0.0195,2,   4.7258,     -999.0,9,     -999.0,9,     -999.0,9,     -999.0,9,     -999.0,9,     -999.0,9,     -999.0,9,-999.0000, -999.00
33RO20071215,        P18,     144,          1,         20,      12055,2,20080205,       1805,   -54.9168,  -102.9980,       4279,   663.5,   4.6197,  34.2412,2,  34.2406,2,    237.0,2,   234.3,2,   21.40,2,   28.30,2,    0.00,2,    1.97,2,-999.000,9,-999.000,9,-999.0000,9,  2174.5,2,  2288.1,2,   -999.0,9,  -999.00,   7.6527,2,    25.00,-999.000,9,-999.0000,9, -999.00,9, -999.00,9,  -999.0,9,-999.000,9,-999.000,-999.000,9,-999.000,9,   41.74,2,   29.58,2, -999.00,1, -999.00,9, -999.00,9,-999.000,   0.0833,2,   0.0537,2,   0.0268,2,   0.0193,2,   0.0098,2,   0.0027,2,  -0.0013,4,   0.0159,2,   0.0190,2,   4.5683,     -999.0,9,     -999.0,9,     -999.0,9,     -999.0,9,     -999.0,9,     -999.0,9,     -999.0,9,-999.0000, -999.00
33RO20071215,        P18,     144,          1,         19,      12018,2,20080205,       1805,   -54.9168,  -102.9980,       4279,   766.5,   4.2095,  34.2695,2,  34.2696,2,    224.3,2,   221.9,2,   28.20,2,   30.10,2,    0.00,2,    2.09,2,-999.000,9,-999.000,9,-999.0000,9,  -999.0,9,  -999.0,9,   -999.0,9,  -999.00,-999.0000,9,  -999.00,-999.000,9,-999.0000,9, -999.00,9, -999.00,9,  -999.0,9,-999.000,9,-999.000,-999.000,9,-999.000,9,   41.00,2,   31.39,2, -999.00,1, -999.00,9, -999.00,9,-999.000,   0.0881,2,   0.0572,2,   0.0290,2,   0.0206,2,   0.0106,2,   0.0031,2,  -0.0012,4,   0.0159,2,   0.0187,2,   4.1519,     -999.0,9,     -999.0,9,     -999.0,9,     -999.0,9,     -999.0,9,     -999.0,9,     -999.0,9,-999.0000, -999.00
33RO20071215,        P18,     144,          1,         18,      12025,2,20080205,       1805,   -54.9168,  -102.9980,       4279,   867.1,   3.8057,  34.2947,2,  34.2966,2,    214.8,2,   213.9,2,   34.80,2,   31.30,2,    0.00,2,    2.18,2,-999.000,9,-999.000,9,-999.0000,9,  2199.1,2,  2298.7,2,   -999.0,9,  -999.00,   7.6033,2,    25.00,-999.000,9,-999.0000,9, -999.00,9, -999.00,9,  -999.0,9,-999.000,9,-999.000,-999.000,9,-999.000,9,   40.52,2,   32.74,2, -999.00,1, -999.00,9, -999.00,9,-999.000,-999.0000,5,-999.0000,5,-999.0000,5,-999.0000,5,-999.0000,5,-999.0000,5,-999.0000,5,-999.0000,5,-999.0000,5,   3.7426,     -999.0,9,     -999.0,9,     -999.0,9,     -999.0,9,     -999.0,9,     -999.0,9,     -999.0,9,-999.0000, -999.00
33RO20071215,        P18,     144,          1,         17,      12016,2,20080205,       1805,   -54.9168,  -102.9980,       4279,   967.3,   3.4397,  34.3145,2,  34.3145,2,    209.2,2,   208.2,2,   40.90,2,   32.30,2,    0.00,2,    2.25,2,-999.000,9,-999.000,9,-999.0000,9,  -999.0,9,  -999.0,9,   -999.0,9,  -999.00,-999.0000,9,  -999.00,-999.000,9,-999.0000,9, -999.00,9, -999.00,9,  -999.0,9,-999.000,9,-999.000,-999.000,9,-999.000,1,   40.10,2,   33.34,2, -999.00,1, -999.00,9, -999.00,9,-999.000,   0.0996,2,   0.0661,2,   0.0344,2,   0.0245,2,   0.0137,2,   0.0043,2,  -0.0003,4,   0.0154,2,   0.0175,2,   3.3712,     -999.0,9,     -999.0,9,     -999.0,9,     -999.0,9,     -999.0,9,     -999.0,9,     -999.0,9,-999.0000, -999.00
33RO20071215,        P18,     144,          1,         16,      12051,2,20080205,       1805,   -54.9168,  -102.9980,       4279,  1132.4,   3.0280,  34.3871,2,  34.3871,2,    193.2,2,   192.5,2,   53.00,2,   33.80,2,    0.00,2,    2.35,2,-999.000,9,-999.000,9,-999.0000,9,  2227.7,2,  2308.9,4,   -999.0,9,  -999.00,   7.5822,2,    25.00,-999.000,9,-999.0000,9, -999.00,9, -999.00,9,  -999.0,9,-999.000,9,-999.000,-999.000,9,-999.000,9,   39.58,2,   34.99,2, -999.00,9, -999.00,9, -999.00,9,-999.000,   0.1041,2,   0.0687,2,   0.0352,2,   0.0247,2,   0.0138,2,   0.0042,2,  -0.0002,4,   0.0157,2,   0.0180,2,   2.9499,     -999.0,9,     -999.0,9,     -999.0,9,     -999.0,9,     -999.0,9,     -999.0,9,     -999.0,9,-999.0000, -999.00
33RO20071215,        P18,     144,          1,         15,      12014,2,20080205,       1805,   -54.9168,  -102.9980,       4279,  1333.0,   2.6832,  34.4798,2,  34.4814,2,    179.3,2,   178.4,2,   65.50,2,   34.50,2,    0.00,2,    2.40,2,-999.000,9,-999.000,9,-999.0000,9,  -999.0,9,  -999.0,9,   -999.0,9,  -999.00,-999.0000,9,  -999.00,-999.000,9,-999.0000,9, -999.00,9, -999.00,9,  -999.0,9,-999.000,9,-999.000,-999.000,9,-999.000,9,   39.40,2,   36.18,2, -999.00,9, -999.00,9, -999.00,9,-999.000,   0.1117,2,   0.0746,2,   0.0381,2,   0.0263,2,   0.0148,2,   0.0046,2,  -0.0001,4,   0.0160,2,   0.0179,2,   2.5925,     -999.0,9,     -999.0,9,     -999.0,9,     -999.0,9,     -999.0,9,     -999.0,9,     -999.0,9,-999.0000, -999.00
33RO20071215,        P18,     144,          1,         14,      12013,2,20080205,       1805,   -54.9168,  -102.9980,       4279,  1533.0,   2.4973,  34.5623,2,  34.5642,2,    173.5,2,   172.7,2,   73.90,2,   34.30,2,    0.00,2,    2.39,2,-999.000,9,-999.000,9,-999.0000,9,  2253.8,6,  2329.4,2,   -999.0,9,  -999.00,   7.5597,2,    25.00,-999.000,9,-999.0000,9, -999.00,9, -999.00,9,  -999.0,9,-999.000,9,-999.000,-999.000,9,-999.000,9,   39.50,2,   35.42,2, -999.00,9, -999.00,9, -999.00,9,-999.000,   0.1187,2,   0.0800,2,   0.0411,2,   0.0284,2,   0.0166,2,   0.0061,2,   0.0011,2,   0.0157,2,   0.0176,2,   2.3926,     -999.0,9,     -999.0,9,     -999.0,9,     -999.0,9,     -999.0,9,     -999.0,9,     -999.0,9,-999.0000, -999.00
33RO20071215,        P18,     144,          1,         13,      12012,2,20080205,       1805,   -54.9168,  -102.9980,       4279,  1732.5,   2.3622,  34.6306,2,  34.6320,2,    173.2,2,   174.0,2,   79.50,2,   33.60,2,    0.00,2,    2.34,2,-999.000,9,-999.000,9,-999.0000,9,  -999.0,9,  -999.0,9,   -999.0,9,  -999.00,-999.0000,9,  -999.00,-999.000,9,-999.0000,9, -999.00,9, -999.00,9,  -999.0,9,-999.000,9,-999.000,-999.000,9,-999.000,9,   39.26,2,   35.34,2, -999.00,9, -999.00,9, -999.00,9,-999.000,   0.1202,2,   0.0811,2,   0.0407,2,   0.0279,2,   0.0162,2,   0.0060,2,   0.0011,2,   0.0160,2,   0.0180,2,   2.2428,     -999.0,9,     -999.0,9,     -999.0,9,     -999.0,9,     -999.0,9,     -999.0,9,     -999.0,9,-999.0000, -999.00
33RO20071215,        P18,     144,          1,         12,      12031,2,20080205,       1805,   -54.9168,  -102.9980,       4279,  1933.0,   2.2411,  34.6723,2,  34.6721,2,    173.1,2,   173.1,2,   86.90,2,   33.30,2,    0.00,2,    2.32,2,-999.000,9,-999.000,9,-999.0000,9,  2260.7,2,  2351.8,2,   -999.0,9,  -999.00,   7.5773,2,    25.00,-999.000,9,-999.0000,9, -999.00,9, -999.00,9,  -999.0,9,-999.000,9,-999.000,-999.000,9,-999.000,9,   39.39,2,   34.57,2, -999.00,9, -999.00,9, -999.00,9,-999.000,   0.1169,2,   0.0780,2,   0.0384,2,   0.0256,2,   0.0146,2,   0.0049,2,   0.0005,3,   0.0165,2,   0.0188,2,   2.1065,     -999.0,9,     -999.0,9,     -999.0,9,     -999.0,9,     -999.0,9,     -999.0,9,     -999.0,9,-999.0000, -999.00