BOTTLE,20220818CCHSIOAMB
EXPOCODE,SECT_ID,STNNBR,CASTNO,SAMPNO,BTLNBR,BTLNBR_FLAG_W,DATE,TIME,LATITUDE,LONGITUDE,DEPTH,CTDPRS,CTDTMP,CTDSAL,CTDSAL_FLAG_W,SALNTY,SALNTY_FLAG_W,CTDOXY,CTDOXY_FLAG_W,OXYGEN,OXYGEN_FLAG_W,SILCAT,SILCAT_FLAG_W,NITRAT,NITRAT_FLAG_W,NITRIT,NITRIT_FLAG_W,PHSPHT,PHSPHT_FLAG_W,CFC-11,CFC-11_FLAG_W,CFC-12,CFC-12_FLAG_W,SF6,SF6_FLAG_W,TCARBN,TCARBN_FLAG_W,ALKALI,ALKALI_FLAG_W,FCO2,FCO2_FLAG_W,FCO2TMP,PH_SWS,PH_SWS_FLAG_W,PH_TMP,TRITUM,TRITUM_FLAG_W,HELIUM,HELIUM_FLAG_W,DELHE3,DELHE3_FLAG_W,DELC13,DELC13_FLAG_W,DELC14,DELC14_FLAG_W,NEON,NEON_FLAG_W,NEONER,CCL4,CCL4_FLAG_W,POC,POC_FLAG_W,DOC,DOC_FLAG_W,TDN,TDN_FLAG_W,DON,DON_FLAG_W,CHLORA,CHLORA_FLAG_W,ARGON,ARGON_FLAG_W,TRITER,CDOM325,CDOM325_FLAG_W,CDOM340,CDOM340_FLAG_W,CDOM380,CDOM380_FLAG_W,CDOM412,CDOM412_FLAG_W,CDOM443,CDOM443_FLAG_W,CDOM490,CDOM490_FLAG_W,CDOM555,CDOM555_FLAG_W,CDOMSL,CDOMSL_FLAG_W,CDOMSN,CDOMSN_FLAG_W,THETA,D18O_NO3,D18O_NO3_FLAG_W,CDOM2C,CDOM2C_FLAG_W,CDOM3C,CDOM3C_FLAG_W,LAB_DEN,LAB_DEN_FLAG_W,DELSI30,DELSI30_FLAG_W,N2,N2_FLAG_W,D15N_NO3,D15N_NO3_FLAG_W,HELIER,DELHER
,,,,,,,,,,,METERS,DBAR,ITS-90,PSS-78,,PSS-78,,UMOL/KG,,UMOL/KG,,UMOL/KG,,UMOL/KG,,UMOL/KG,,UMOL/KG,,PMOL/KG,,PMOL/KG,,FMOL/KG,,UMOL/KG,,UMOL/KG,,UATM,,DEG C,,,DEG C,TU,,NMOL/KG,,PERCNT,,/MILLE,,/MILLE,,NMOL/KG,,NMOL/KG,PMOL/KG,,UG/KG,,UMOL/KG,,UMOL/KG,,UMOL/KG,,UG/KG,,UMOL/KG,,TU,1/M,,1/M,,1/M,,1/M,,1/M,,1/M,,1/M,,1/NM,,1/NM,,DEG C,/MILLE,,,,,,,,/MILLE,,UMOL/KG,,/MILLE,,NMOL/KG,PERCNT
33RO20071215,        P18,      72,          1,         36,      12017,2,20080108,       1444,   -12.9155,  -102.9997,       4353,     5.0,  22.5911,  35.6190,2,  35.6176,2,    218.6,2,   221.0,2,    1.90,2,    7.50,2,    0.21,2,    0.69,2,   1.982,6,   1.227,6,   0.9959,6,  2063.6,6,  2353.7,2,    375.7,2,    20.00,   7.9864,2,    25.00,-999.000,9,-999.0000,9, -999.00,9,    1.33,2,  -999.0,1,-999.000,9,-999.000,-999.000,9,-999.000,9, -999.00,9, -999.00,9, -999.00,9, -999.00,9, -999.00,9,-999.000,-999.0000,9,-999.0000,9,-999.0000,9,-999.0000,9,-999.0000,9,-999.0000,9,-999.0000,9,-999.0000,9,-999.0000,9,  22.5901,     -999.0,9,     -999.0,9,     -999.0,9,     -999.0,9,     -999.0,9,     -999.0,9,     -999.0,9,-999.0000, -999.00
33RO20071215,        P18,      72,          1,         35,      12029,2,20080108,       1444,   -12.9155,  -102.9997,       4353,    10.6,  22.6023,  35.6192,2,  35.6212,2,    218.7,2,   221.3,2,    1.90,2,    7.50,2,    0.21,2,    0.69,2,-999.000,9,-999.000,9,-999.0000,9,  2062.8,2,  2348.5,2,   -999.0,9,  -999.00,   7.9926,2,    25.00,-999.000,9,-999.0000,9, -999.00,9, -999.00,9,  -999.0,9,-999.000,9,-999.000,-999.000,9,-999.000,9, -999.00,9, -999.00,9, -999.00,9, -999.00,9, -999.00,9,-999.000,-999.0000,9,-999.0000,9,-999.0000,9,-999.0000,9,-999.0000,9,-999.0000,9,-999.0000,9,-999.0000,9,-999.0000,9,  22.6001,     -999.0,9,     -999.0,9,     -999.0,9,     -999.0,9,     -999.0,9,     -999.0,9,     -999.0,9,-999.0000, -999.00
33RO20071215,        P18,      72,          1,         34,      12049,2,20080108,       1444,   -12.9155,  -102.9997,       4353,    24.6,  22.5786,  35.6194,2,  35.6232,2,    219.1,2,   220.7,2,    1.90,2,    7.50,2,    0.21,2,    0.69,2,-999.000,9,-999.000,9,-999.0000,9,  2064.2,2,  2349.3,2,    377.9,2,    20.00,   7.9909,2,    25.00,-999.000,9,-999.0000,9, -999.00,9, -999.00,9,  -999.0,9,-999.000,9,-999.000,-999.000,9,-999.000,9, -999.00,9, -999.00,9, -999.00,9, -999.00,9, -999.00,9,-999.000,-999.0000,9,-999.0000,9,-999.0000,9,-999.0000,9,-999.0000,9,-999.0000,9,-999.0000,9,-999.0000,9,-999.0000,9,  22.5736,     -999.0,9,     -999.0,9,     -999.0,9,     -999.0,9,     -999.0,9,     -999.0,9,     -999.0,9,-999.0000, -999.00
33RO20071215,        P18,      72,          1,         33,      12027,2,20080108,       1444,   -12.9155,  -102.9997,       4353,    50.0,  21.8631,  35.6346,2,  35.6511,2,    214.6,2,   216.9,2,    2.10,2,    7.30,2,    0.26,2,    0.75,2,   2.064,2,   1.270,2,   1.0824,2,  2075.9,2,  2354.7,2,    395.4,6,    20.00,   7.9734,2,    25.00,-999.000,9,-999.0000,9, -999.00,9, -999.00,9,  -999.0,9,-999.000,9,-999.000,-999.000,9,-999.000,9, -999.00,9, -999.00,9, -999.00,9, -999.00,9, -999.00,9,-999.000,-999.0000,9,-999.0000,9,-999.0000,9,-999.0000,9,-999.0000,9,-999.0000,9,-999.0000,9,-999.0000,9,-999.0000,9,  21.8532,     -999.0,9,     -999.0,9,     -999.0,9,     -999.0,9,     -999.0,9,     -999.0,9,     -999.0,9,-999.0000, -999.00
33RO20071215,        P18,      72,          1,         32,      12023,2,20080108,       1444,   -12.9155,  -102.9997,       4353,    75.1,  21.0229,  35.7133,2,  35.7303,2,    207.8,2,   209.3,2,    2.30,2,    5.30,2,    0.34,2,    0.72,2,   2.115,2,   1.298,2,   1.0491,2,  2087.2,2,  2359.7,2,    408.2,2,    20.00,   7.9616,2,    25.00,-999.000,9,-999.0000,9, -999.00,9, -999.00,9,  -999.0,9,-999.000,9,-999.000,-999.000,9,-999.000,9, -999.00,9, -999.00,9, -999.00,9, -999.00,9, -999.00,9,-999.000,-999.0000,9,-999.0000,9,-999.0000,9,-999.0000,9,-999.0000,9,-999.0000,9,-999.0000,9,-999.0000,9,-999.0000,9,  21.0084,     -999.0,9,     -999.0,9,     -999.0,9,     -999.0,9,     -999.0,9,     -999.0,9,     -999.0,9,-999.0000, -999.00
33RO20071215,        P18,      72,          1,         31,      12037,2,20080108,       1444,   -12.9155,  -102.9997,       4353,   100.1,  20.5552,  35.7503,2,  35.7544,2,    210.8,2,   214.6,2,    2.10,2,    4.60,2,    0.24,2,    0.70,2,-999.000,9,-999.000,9,-999.0000,9,  2088.6,2,  2365.7,2,   -999.0,9,  -999.00,   7.9792,2,    25.00,-999.000,9,-999.0000,9, -999.00,9, -999.00,9,  -999.0,9,-999.000,9,-999.000,-999.000,9,-999.000,9, -999.00,9, -999.00,9, -999.00,9, -999.00,9, -999.00,9,-999.000,-999.0000,9,-999.0000,9,-999.0000,9,-999.0000,9,-999.0000,9,-999.0000,9,-999.0000,9,-999.0000,9,-999.0000,9,  20.5363,     -999.0,9,     -999.0,9,     -999.0,9,     -999.0,9,     -999.0,9,     -999.0,9,     -999.0,9,-999.0000, -999.00
33RO20071215,        P18,      72,          1,         30,      12036,2,20080108,       1444,   -12.9155,  -102.9997,       4353,   124.2,  20.2604,  35.7377,2,  35.7345,2,    198.7,2,   204.4,2,    1.90,2,    4.00,2,    1.36,2,    0.68,2,   2.171,2,   1.329,2,   1.0895,2,  2093.6,2,  2361.3,4,    424.0,2,    20.00,   7.9530,2,    25.00,-999.000,9,-999.0000,9, -999.00,9, -999.00,9,  -999.0,9,-999.000,9,-999.000,-999.000,9,-999.000,9, -999.00,9, -999.00,9, -999.00,9, -999.00,9, -999.00,9,-999.000,-999.0000,9,-999.0000,9,-999.0000,9,-999.0000,9,-999.0000,9,-999.0000,9,-999.0000,9,-999.0000,9,-999.0000,9,  20.2372,     -999.0,9,     -999.0,9,     -999.0,9,     -999.0,9,     -999.0,9,     -999.0,9,     -999.0,9,-999.0000, -999.00
33RO20071215,        P18,      72,          1,         29,      12044,2,20080108,       1444,   -12.9155,  -102.9997,       4353,   150.0,  17.1901,  35.1680,2,  35.1505,2,    159.0,2,   160.4,2,    3.00,2,   11.20,2,    0.10,2,    1.06,2,-999.000,9,-999.000,9,-999.0000,9,  2126.3,2,  2315.7,2,   -999.0,9,  -999.00,   7.8321,2,    25.00,-999.000,9,-999.0000,9, -999.00,9, -999.00,9,  -999.0,9,-999.000,9,-999.000,-999.000,9,-999.000,9, -999.00,9, -999.00,9, -999.00,9, -999.00,9, -999.00,9,-999.000,-999.0000,9,-999.0000,9,-999.0000,9,-999.0000,9,-999.0000,9,-999.0000,9,-999.0000,9,-999.0000,9,-999.0000,9,  17.1651,     -999.0,9,     -999.0,9,     -999.0,9,     -999.0,9,     -999.0,9,     -999.0,9,     -999.0,9,-999.0000, -999.00
33RO20071215,        P18,      72,          1,         28,      12057,2,20080108,       1444,   -12.9155,  -102.9997,       4353,   174.6,  14.9488,  34.8213,2,  34.8234,2,    165.0,2,   170.5,2,    3.40,2,   11.60,2,    0.02,2,    1.03,2,   2.666,2,   1.530,2,   0.9462,2,  2121.4,2,  2299.2,2,    634.2,2,    20.00,   7.8048,2,    25.00,-999.000,9,-999.0000,9, -999.00,9, -999.00,9,  -999.0,9,-999.000,9,-999.000,-999.000,9,-999.000,9, -999.00,9, -999.00,9, -999.00,9, -999.00,9, -999.00,9,-999.000,-999.0000,9,-999.0000,9,-999.0000,9,-999.0000,9,-999.0000,9,-999.0000,9,-999.0000,9,-999.0000,9,-999.0000,9,  14.9225,     -999.0,9,     -999.0,9,     -999.0,9,     -999.0,9,     -999.0,9,     -999.0,9,     -999.0,9,-999.0000, -999.00
33RO20071215,        P18,      72,          1,         27,      12026,2,20080108,       1444,   -12.9155,  -102.9997,       4353,   200.9,  13.3363,  34.6768,2,  34.6623,2,    114.2,2,   112.7,2,    8.50,2,   17.60,2,    0.01,2,    1.60,2,   2.406,2,   1.335,2,   0.7243,2,  2169.0,2,  2290.6,2,   -999.0,9,  -999.00,   7.6555,2,    25.00,-999.000,9,-999.0000,9, -999.00,9, -999.00,9,  -999.0,9,-999.000,9,-999.000,-999.000,9,-999.000,9, -999.00,9, -999.00,9, -999.00,9, -999.00,9, -999.00,9,-999.000,-999.0000,9,-999.0000,9,-999.0000,9,-999.0000,9,-999.0000,9,-999.0000,9,-999.0000,9,-999.0000,9,-999.0000,9,  13.3083,     -999.0,9,     -999.0,9,     -999.0,9,     -999.0,9,     -999.0,9,     -999.0,9,     -999.0,9,-999.0000, -999.00
33RO20071215,        P18,      72,          1,         26,      12030,2,20080108,       1444,   -12.9155,  -102.9997,       4353,   250.2,  11.6572,  34.7245,2,  34.7261,2,     13.9,2,    12.8,2,   21.90,2,   26.60,2,    0.01,2,    2.60,2,-999.000,9,-999.000,9,-999.0000,9,  2255.6,6,  2296.9,2,   -999.0,9,  -999.00,   7.4124,2,    25.00,-999.000,9,-999.0000,9, -999.00,9, -999.00,9,  -999.0,9,-999.000,9,-999.000,-999.000,9,-999.000,9, -999.00,9, -999.00,9, -999.00,9, -999.00,9, -999.00,9,-999.000,-999.0000,9,-999.0000,9,-999.0000,9,-999.0000,9,-999.0000,9,-999.0000,9,-999.0000,9,-999.0000,9,-999.0000,9,  11.6252,     -999.0,9,     -999.0,9,     -999.0,9,     -999.0,9,     -999.0,9,     -999.0,9,     -999.0,9,-999.0000, -999.00
33RO20071215,        P18,      72,          1,         25,      12024,2,20080108,       1444,   -12.9155,  -102.9997,       4353,   300.8,  10.1647,  34.6461,2,  34.6432,2,     22.0,2,    27.4,2,   24.10,2,   31.50,2,    0.01,2,    2.60,2,   0.649,2,   0.348,2,   0.0688,2,  2256.1,2,  2294.8,2,   1738.3,2,    20.00,   7.4205,2,    25.00,-999.000,9,-999.0000,9, -999.00,9, -999.00,9,  -999.0,9,-999.000,9,-999.000,-999.000,9,-999.000,9, -999.00,9, -999.00,9, -999.00,9, -999.00,9, -999.00,9,-999.000,-999.0000,9,-999.0000,9,-999.0000,9,-999.0000,9,-999.0000,9,-999.0000,9,-999.0000,9,-999.0000,9,-999.0000,9,  10.1294,     -999.0,9,     -999.0,9,     -999.0,9,     -999.0,9,     -999.0,9,     -999.0,9,     -999.0,9,-999.0000, -999.00
33RO20071215,        P18,      72,          1,         24,      12019,2,20080108,       1444,   -12.9155,  -102.9997,       4353,   350.0,   9.4170,  34.6790,2,  34.6810,2,     18.3,2,    20.5,2,   29.90,2,   36.30,2,    0.01,2,    2.67,2,   0.161,2,   0.091,2,   0.0000,2,  2264.1,2,  2302.5,2,   -999.0,9,  -999.00,   7.4100,2,    25.00,-999.000,9,-999.0000,9, -999.00,9, -999.00,9,  -999.0,9,-999.000,9,-999.000,-999.000,9,-999.000,9, -999.00,9, -999.00,9, -999.00,9, -999.00,9, -999.00,9,-999.000,-999.0000,9,-999.0000,9,-999.0000,9,-999.0000,9,-999.0000,9,-999.0000,9,-999.0000,9,-999.0000,9,-999.0000,9,   9.3778,     -999.0,9,     -999.0,9,     -999.0,9,     -999.0,9,     -999.0,9,     -999.0,9,     -999.0,9,-999.0000, -999.00
33RO20071215,        P18,      72,          1,         23,      12022,2,20080108,       1444,   -12.9155,  -102.9997,       4353,   400.1,   8.7126,  34.6446,2,  34.6458,2,     33.1,2,    32.8,2,   32.20,2,   37.40,2,    0.01,2,    2.65,2,-999.000,9,-999.000,9,-999.0000,9,  2260.3,2,  2303.5,2,   -999.0,9,  -999.00,   7.4268,2,    25.00,-999.000,9,-999.0000,9, -999.00,9, -999.00,9,  -999.0,9,-999.000,9,-999.000,-999.000,9,-999.000,9, -999.00,9, -999.00,9, -999.00,9, -999.00,9, -999.00,9,-999.000,-999.0000,9,-999.0000,9,-999.0000,9,-999.0000,9,-999.0000,9,-999.0000,9,-999.0000,9,-999.0000,9,-999.0000,9,   8.6697,     -999.0,9,     -999.0,9,     -999.0,9,     -999.0,9,     -999.0,9,     -999.0,9,     -999.0,9,-999.0000, -999.00
33RO20071215,        P18,      72,          1,         22,      12015,2,20080108,       1444,   -12.9155,  -102.9997,       4353,   500.6,   7.5530,  34.5876,2,  34.5848,2,     49.7,2,    51.0,2,   37.50,2,   38.70,2,    0.01,2,    2.68,2,   0.039,2,   0.024,2,   0.0000,2,  2259.0,2,  -999.0,5,   1614.2,2,    20.00,   7.4414,2,    25.00,-999.000,9,-999.0000,9, -999.00,9, -999.00,9,  -999.0,9,-999.000,9,-999.000,-999.000,9,-999.000,9, -999.00,9, -999.00,9, -999.00,9, -999.00,9, -999.00,9,-999.000,-999.0000,9,-999.0000,9,-999.0000,9,-999.0000,9,-999.0000,9,-999.0000,9,-999.0000,9,-999.0000,9,-999.0000,9,   7.5033,     -999.0,9,     -999.0,9,     -999.0,9,     -999.0,9,     -999.0,9,     -999.0,9,     -999.0,9,-999.0000, -999.00
33RO20071215,        P18,      72,          1,         21,      12020,2,20080108,       1444,   -12.9155,  -102.9997,       4353,   600.5,   6.6767,  34.5488,2,  34.5484,2,     45.2,2,    43.1,2,   45.00,2,   41.60,2,    0.01,2,    2.90,2,-999.000,9,-999.000,9,-999.0000,9,  2273.9,2,  2311.6,2,   -999.0,9,  -999.00,   7.4090,2,    25.00,-999.000,9,-999.0000,9, -999.00,9, -999.00,9,  -999.0,9,-999.000,9,-999.000,-999.000,9,-999.000,9, -999.00,9, -999.00,9, -999.00,9, -999.00,9, -999.00,9,-999.000,-999.0000,9,-999.0000,9,-999.0000,9,-999.0000,9,-999.0000,9,-999.0000,9,-999.0000,9,-999.0000,9,-999.0000,9,   6.6207,     -999.0,9,     -999.0,9,     -999.0,9,     -999.0,9,     -999.0,9,     -999.0,9,     -999.0,9,-999.0000, -999.00
33RO20071215,        P18,      72,          1,         20,      12055,2,20080108,       1444,   -12.9155,  -102.9997,       4353,   700.2,   5.9651,  34.5285,2,  34.5287,2,     41.1,2,    41.5,2,   52.60,2,   43.30,2,    0.01,2,    3.04,2,   0.002,2,   0.002,2,   0.0000,2,  2285.2,2,  2318.3,2,   -999.0,9,  -999.00,   7.3930,2,    25.00,-999.000,9,-999.0000,9, -999.00,9, -999.00,9,  -999.0,9,-999.000,9,-999.000,-999.000,9,-999.000,9, -999.00,9, -999.00,9, -999.00,9, -999.00,9, -999.00,9,-999.000,-999.0000,9,-999.0000,9,-999.0000,9,-999.0000,9,-999.0000,9,-999.0000,9,-999.0000,9,-999.0000,9,-999.0000,9,   5.9031,     -999.0,9,     -999.0,9,     -999.0,9,     -999.0,9,     -999.0,9,     -999.0,9,     -999.0,9,-999.0000, -999.00
33RO20071215,        P18,      72,          1,         19,      12018,2,20080108,       1444,   -12.9155,  -102.9997,       4353,   799.2,   5.2508,  34.5221,2,  34.5215,2,     47.3,2,    47.7,2,   62.90,2,   43.90,2,    0.01,2,    3.09,2,-999.000,9,-999.000,9,-999.0000,9,  2294.7,2,  2328.7,2,   -999.0,9,  -999.00,   7.3912,2,    25.00,-999.000,9,-999.0000,9, -999.00,9, -999.00,9,  -999.0,9,-999.000,9,-999.000,-999.000,9,-999.000,9, -999.00,9, -999.00,9, -999.00,9, -999.00,9, -999.00,9,-999.000,-999.0000,9,-999.0000,9,-999.0000,9,-999.0000,9,-999.0000,9,-999.0000,9,-999.0000,9,-999.0000,9,-999.0000,9,   5.1839,     -999.0,9,     -999.0,9,     -999.0,9,     -999.0,9,     -999.0,9,     -999.0,9,     -999.0,9,-999.0000, -999.00
33RO20071215,        P18,      72,          1,         18,      12025,2,20080108,       1444,   -12.9155,  -102.9997,       4353,   899.0,   4.7832,  34.5271,2,  34.5318,2,     54.9,2,    55.1,2,   72.10,2,   43.50,2,    0.01,2,    3.08,2,  -0.001,2,   0.000,2,   0.0000,2,  2301.0,2,  2337.6,2,   1803.1,2,    20.00,   7.4036,2,    25.00,-999.000,9,-999.0000,9, -999.00,9, -999.00,9,  -999.0,9,-999.000,9,-999.000,-999.000,9,-999.000,9, -999.00,9, -999.00,9, -999.00,9, -999.00,9, -999.00,9,-999.000,-999.0000,9,-999.0000,9,-999.0000,9,-999.0000,9,-999.0000,9,-999.0000,9,-999.0000,9,-999.0000,9,-999.0000,9,   4.7104,     -999.0,9,     -999.0,9,     -999.0,9,     -999.0,9,     -999.0,9,     -999.0,9,     -999.0,9,-999.0000, -999.00
33RO20071215,        P18,      72,          1,         17,      12016,2,20080108,       1444,   -12.9155,  -102.9997,       4353,  1000.0,   4.2792,  34.5391,2,  34.5406,2,     69.1,2,    70.7,2,   82.10,2,   42.40,2,    0.01,2,    3.01,2,-999.000,9,-999.000,9,-999.0000,9,  2303.7,2,  2349.3,2,   -999.0,9,  -999.00,   7.4309,2,    25.00,-999.000,9,-999.0000,9, -999.00,9, -999.00,9,  -999.0,9,-999.000,9,-999.000,-999.000,9,-999.000,9, -999.00,9, -999.00,9, -999.00,9, -999.00,9, -999.00,9,-999.000,-999.0000,9,-999.0000,9,-999.0000,9,-999.0000,9,-999.0000,9,-999.0000,9,-999.0000,9,-999.0000,9,-999.0000,9,   4.2013,     -999.0,9,     -999.0,9,     -999.0,9,     -999.0,9,     -999.0,9,     -999.0,9,     -999.0,9,-999.0000, -999.00
33RO20071215,        P18,      72,          1,         16,      12051,2,20080108,       1444,   -12.9155,  -102.9997,       4353,  1199.2,   3.5873,  34.5651,2,  34.5659,2,     82.4,2,    83.2,2,   98.10,2,   41.30,2,    0.01,2,    2.94,2,-999.000,9,-999.000,9,-999.0000,9,  2313.5,2,  2365.5,2,   -999.0,9,  -999.00,   7.4576,2,    25.00,-999.000,9,-999.0000,9, -999.00,9, -999.00,9,  -999.0,9,-999.000,9,-999.000,-999.000,9,-999.000,9, -999.00,9, -999.00,9, -999.00,9, -999.00,9, -999.00,9,-999.000,-999.0000,9,-999.0000,9,-999.0000,9,-999.0000,9,-999.0000,9,-999.0000,9,-999.0000,9,-999.0000,9,-999.0000,9,   3.4985,     -999.0,9,     -999.0,9,     -999.0,9,     -999.0,9,     -999.0,9,     -999.0,9,     -999.0,9,-999.0000, -999.00
33RO20071215,        P18,      72,          1,         15,      12014,2,20080108,       1444,   -12.9155,  -102.9997,       4353,  1399.4,   3.0761,  34.5915,2,  34.5929,2,     91.6,2,    92.8,2,  111.30,2,   40.60,2,    0.01,2,    2.89,2,-999.000,9,-999.000,9,-999.0000,9,  2323.0,2,  2381.6,2,   1537.6,2,    20.00,   7.4745,2,    25.00,-999.000,9,-999.0000,9, -999.00,9, -999.00,9,  -999.0,9,-999.000,9,-999.000,-999.000,9,-999.000,9, -999.00,9, -999.00,9, -999.00,9, -999.00,9, -999.00,9,-999.000,-999.0000,9,-999.0000,9,-999.0000,9,-999.0000,9,-999.0000,9,-999.0000,9,-999.0000,9,-999.0000,9,-999.0000,9,   2.9757,     -999.0,9,     -999.0,9,     -999.0,9,     -999.0,9,     -999.0,9,     -999.0,9,     -999.0,9,-999.0000, -999.00
33RO20071215,        P18,      72,          1,         14,      12013,2,20080108,       1444,   -12.9155,  -102.9997,       4353,  1600.2,   2.7449,  34.6101,2,  34.6110,2,    102.7,2,   103.5,2,  118.90,2,   39.70,2,    0.01,2,    2.81,2,-999.000,9,-999.000,9,-999.0000,9,  2326.8,2,  2389.8,2,   -999.0,9,  -999.00,   7.4940,2,    25.00,-999.000,9,-999.0000,9, -999.00,9, -999.00,9,  -999.0,9,-999.000,9,-999.000,-999.000,9,-999.000,9, -999.00,9, -999.00,9, -999.00,9, -999.00,9, -999.00,9,-999.000,-999.0000,9,-999.0000,9,-999.0000,9,-999.0000,9,-999.0000,9,-999.0000,9,-999.0000,9,-999.0000,9,-999.0000,9,   2.6317,     -999.0,9,     -999.0,9,     -999.0,9,     -999.0,9,     -999.0,9,     -999.0,9,     -999.0,9,-999.0000, -999.00
33RO20071215,        P18,      72,          1,         13,      12012,2,20080108,       1444,   -12.9155,  -102.9997,       4353,  1799.0,   2.4593,  34.6276,2,  34.6322,2,    112.2,2,   113.3,2,  125.40,2,   38.90,2,    0.01,2,    2.73,2,-999.000,9,-999.000,9,-999.0000,9,  2327.5,2,  2397.3,2,   1402.7,2,    20.00,   7.5385,2,    25.00,-999.000,9,-999.0000,9, -999.00,9, -999.00,9,  -999.0,9,-999.000,9,-999.000,-999.000,9,-999.000,9, -999.00,9, -999.00,9, -999.00,9, -999.00,9, -999.00,9,-999.000,-999.0000,9,-999.0000,9,-999.0000,9,-999.0000,9,-999.0000,9,-999.0000,9,-999.0000,9,-999.0000,9,-999.0000,9,   2.3331,     -999.0,9,     -999.0,9,     -999.0,9,     -999.0,9,     -999.0,9,     -999.0,9,     -999.0,9,-999.0000, -999.00
33RO20071215,        P18,      72,          1,         12,      12031,2,20080108,       1444,   -12.9155,  -102.9997,       4353,  1999.4,   2.2160,  34.6436,2,  34.6441,2,    121.9,2,   122.9,2,  129.80,2,   38.20,2,    0.00,2,    2.67,2,-999.000,9,-999.000,9,-999.0000,9,  2327.5,2,  2402.9,2,   -999.0,9,  -999.00,   7.5459,2,    25.00,-999.000,9,-999.0000,9, -999.00,9, -999.00,9,  -999.0,9,-999.000,9,-999.000,-999.000,9,-999.000,9, -999.00,9, -999.00,9, -999.00,9, -999.00,9, -999.00,9,-999.000,-999.0000,9,-999.0000,9,-999.0000,9,-999.0000,9,-999.0000,9,-999.0000,9,-999.0000,9,-999.0000,9,-999.0000,9,   2.0762,     -999.0,9,     -999.0,9,     -999.0,9,     -999.0,9,     -999.0,9,     -999.0,9,     -999.0,9,-999.0000, -999.00