BOTTLE,20220818CCHSIOAMB
EXPOCODE,SECT_ID,STNNBR,CASTNO,SAMPNO,BTLNBR,BTLNBR_FLAG_W,DATE,TIME,LATITUDE,LONGITUDE,DEPTH,CTDPRS,CTDTMP,CTDSAL,CTDSAL_FLAG_W,SALNTY,SALNTY_FLAG_W,CTDOXY,CTDOXY_FLAG_W,OXYGEN,OXYGEN_FLAG_W,SILCAT,SILCAT_FLAG_W,NITRAT,NITRAT_FLAG_W,NITRIT,NITRIT_FLAG_W,PHSPHT,PHSPHT_FLAG_W,CFC-11,CFC-11_FLAG_W,CFC-12,CFC-12_FLAG_W,SF6,SF6_FLAG_W,TCARBN,TCARBN_FLAG_W,ALKALI,ALKALI_FLAG_W,FCO2,FCO2_FLAG_W,FCO2TMP,PH_SWS,PH_SWS_FLAG_W,PH_TMP,TRITUM,TRITUM_FLAG_W,HELIUM,HELIUM_FLAG_W,DELHE3,DELHE3_FLAG_W,DELC13,DELC13_FLAG_W,DELC14,DELC14_FLAG_W,NEON,NEON_FLAG_W,NEONER,CCL4,CCL4_FLAG_W,POC,POC_FLAG_W,DOC,DOC_FLAG_W,TDN,TDN_FLAG_W,DON,DON_FLAG_W,CHLORA,CHLORA_FLAG_W,ARGON,ARGON_FLAG_W,TRITER,CDOM325,CDOM325_FLAG_W,CDOM340,CDOM340_FLAG_W,CDOM380,CDOM380_FLAG_W,CDOM412,CDOM412_FLAG_W,CDOM443,CDOM443_FLAG_W,CDOM490,CDOM490_FLAG_W,CDOM555,CDOM555_FLAG_W,CDOMSL,CDOMSL_FLAG_W,CDOMSN,CDOMSN_FLAG_W,THETA,D18O_NO3,D18O_NO3_FLAG_W,CDOM2C,CDOM2C_FLAG_W,CDOM3C,CDOM3C_FLAG_W,LAB_DEN,LAB_DEN_FLAG_W,DELSI30,DELSI30_FLAG_W,N2,N2_FLAG_W,D15N_NO3,D15N_NO3_FLAG_W,HELIER,DELHER
,,,,,,,,,,,METERS,DBAR,ITS-90,PSS-78,,PSS-78,,UMOL/KG,,UMOL/KG,,UMOL/KG,,UMOL/KG,,UMOL/KG,,UMOL/KG,,PMOL/KG,,PMOL/KG,,FMOL/KG,,UMOL/KG,,UMOL/KG,,UATM,,DEG C,,,DEG C,TU,,NMOL/KG,,PERCNT,,/MILLE,,/MILLE,,NMOL/KG,,NMOL/KG,PMOL/KG,,UG/KG,,UMOL/KG,,UMOL/KG,,UMOL/KG,,UG/KG,,UMOL/KG,,TU,1/M,,1/M,,1/M,,1/M,,1/M,,1/M,,1/M,,1/NM,,1/NM,,DEG C,/MILLE,,,,,,,,/MILLE,,UMOL/KG,,/MILLE,,NMOL/KG,PERCNT
33RO20071215,        P18,      74,          1,         11,      12003,2,20080109,       0541,   -14.0835,  -103.0000,       4068,  1932.4,   2.3445,  34.6344,2,  34.6364,2,    119.7,2,   120.4,2,  125.80,2,   38.40,2,    0.00,2,    2.64,2,-999.000,9,-999.000,9,-999.0000,9,  2325.6,2,  -999.0,5,   -999.0,9,  -999.00,   7.5278,2,    25.00,-999.000,9,-999.0000,9, -999.00,9, -999.00,9,  -999.0,9,-999.000,9,-999.000,-999.000,9,-999.000,9, -999.00,9, -999.00,9, -999.00,9, -999.00,9, -999.00,9,-999.000,-999.0000,9,-999.0000,9,-999.0000,9,-999.0000,9,-999.0000,9,-999.0000,9,-999.0000,9,-999.0000,9,-999.0000,9,   2.2086,     -999.0,9,     -999.0,9,     -999.0,9,     -999.0,9,     -999.0,9,     -999.0,9,     -999.0,9,-999.0000, -999.00
33RO20071215,        P18,      74,          1,         10,      12032,2,20080109,       0541,   -14.0835,  -103.0000,       4068,  2132.9,   2.0964,  34.6518,2,  34.6519,2,    129.6,2,   129.6,2,  129.50,2,   37.80,2,    0.00,2,    2.58,2,  -0.001,2,   0.000,2,   0.0000,2,  2323.2,2,  2352.6,4,   -999.0,9,  -999.00,   7.5329,2,    25.00,-999.000,9,-999.0000,9, -999.00,9, -999.00,9,  -999.0,9,-999.000,9,-999.000,   0.003,3,-999.000,9, -999.00,9, -999.00,9, -999.00,9, -999.00,9, -999.00,9,-999.000,-999.0000,9,-999.0000,9,-999.0000,9,-999.0000,9,-999.0000,9,-999.0000,9,-999.0000,9,-999.0000,9,-999.0000,9,   1.9470,     -999.0,9,     -999.0,9,     -999.0,9,     -999.0,9,     -999.0,9,     -999.0,9,     -999.0,9,-999.0000, -999.00
33RO20071215,        P18,      74,          1,          9,      12002,2,20080109,       0541,   -14.0835,  -103.0000,       4068,  2333.4,   1.9297,  34.6646,2,  34.6662,2,    138.6,2,   139.0,2,  131.00,2,   37.10,2,    0.00,2,    2.50,2,-999.000,9,-999.000,9,-999.0000,9,  2321.1,2,  2371.1,4,   1252.5,2,    20.00,-999.0000,5,  -999.00,-999.000,9,-999.0000,9, -999.00,9, -999.00,9,  -999.0,9,-999.000,9,-999.000,-999.000,9,-999.000,9, -999.00,9, -999.00,9, -999.00,9, -999.00,9, -999.00,9,-999.000,-999.0000,9,-999.0000,9,-999.0000,9,-999.0000,9,-999.0000,9,-999.0000,9,-999.0000,9,-999.0000,9,-999.0000,9,   1.7656,     -999.0,9,     -999.0,9,     -999.0,9,     -999.0,9,     -999.0,9,     -999.0,9,     -999.0,9,-999.0000, -999.00
33RO20071215,        P18,      74,          1,          8,      12021,2,20080109,       0541,   -14.0835,  -103.0000,       4068,  2532.1,   1.8416,  34.6726,2,  34.6736,2,    142.0,2,   142.7,2,  134.10,2,   36.80,2,    0.00,2,    2.49,2,-999.000,9,-999.000,9,-999.0000,9,  2323.7,2,  2356.8,4,   -999.0,9,  -999.00,   7.5592,2,    25.00,-999.000,9,-999.0000,9, -999.00,9, -999.00,9,  -999.0,9,-999.000,9,-999.000,-999.000,9,-999.000,9, -999.00,9, -999.00,9, -999.00,9, -999.00,9, -999.00,9,-999.000,-999.0000,9,-999.0000,9,-999.0000,9,-999.0000,9,-999.0000,9,-999.0000,9,-999.0000,9,-999.0000,9,-999.0000,9,   1.6612,     -999.0,9,     -999.0,9,     -999.0,9,     -999.0,9,     -999.0,9,     -999.0,9,     -999.0,9,-999.0000, -999.00
33RO20071215,        P18,      74,          1,          7,      12001,2,20080109,       0541,   -14.0835,  -103.0000,       4068,  2732.4,   1.8070,  34.6770,2,  34.6778,2,    143.1,2,   156.4,3,  136.40,2,   36.70,2,    0.00,2,    2.48,2,   0.001,2,   0.000,2,   0.0000,2,  2326.0,2,  2330.9,4,   -999.0,9,  -999.00,   7.5846,2,    25.00,-999.000,9,-999.0000,9, -999.00,9, -999.00,9,  -999.0,9,-999.000,9,-999.000,   0.004,3,-999.000,9, -999.00,9, -999.00,9, -999.00,9, -999.00,9, -999.00,9,-999.000,-999.0000,9,-999.0000,9,-999.0000,9,-999.0000,9,-999.0000,9,-999.0000,9,-999.0000,9,-999.0000,9,-999.0000,9,   1.6089,     -999.0,9,     -999.0,9,     -999.0,9,     -999.0,9,     -999.0,9,     -999.0,9,     -999.0,9,-999.0000, -999.00
33RO20071215,        P18,      74,          1,          6,      12033,2,20080109,       0541,   -14.0835,  -103.0000,       4068,  2932.4,   1.7913,  34.6793,2,  34.6794,2,    142.6,2,   142.6,2,  138.80,2,   36.90,2,    0.00,2,    2.49,2,-999.000,9,-999.000,9,-999.0000,9,  2328.3,6,  2412.7,4,   1205.2,2,    20.00,   7.5566,2,    25.00,-999.000,9,-999.0000,9, -999.00,9, -999.00,9,  -999.0,9,-999.000,9,-999.000,-999.000,9,-999.000,9, -999.00,9, -999.00,9, -999.00,9, -999.00,9, -999.00,9,-999.000,-999.0000,9,-999.0000,9,-999.0000,9,-999.0000,9,-999.0000,9,-999.0000,9,-999.0000,9,-999.0000,9,-999.0000,9,   1.5745,     -999.0,9,     -999.0,9,     -999.0,9,     -999.0,9,     -999.0,9,     -999.0,9,     -999.0,9,-999.0000, -999.00
33RO20071215,        P18,      74,          1,          5,      12008,2,20080109,       0541,   -14.0835,  -103.0000,       4068,  3165.5,   1.7888,  34.6796,2,  34.6803,2,    140.7,2,   140.7,2,  142.20,2,   37.00,2,    0.00,2,    2.50,2,-999.000,9,-999.000,9,-999.0000,9,  2331.9,2,  2414.3,4,   -999.0,9,  -999.00,   7.5759,2,    25.00,-999.000,9,-999.0000,9, -999.00,9, -999.00,9,  -999.0,9,-999.000,9,-999.000,-999.000,9,-999.000,9, -999.00,9, -999.00,9, -999.00,9, -999.00,9, -999.00,9,-999.000,-999.0000,9,-999.0000,9,-999.0000,9,-999.0000,9,-999.0000,9,-999.0000,9,-999.0000,9,-999.0000,9,-999.0000,9,   1.5493,     -999.0,9,     -999.0,9,     -999.0,9,     -999.0,9,     -999.0,9,     -999.0,9,     -999.0,9,-999.0000, -999.00
33RO20071215,        P18,      74,          1,          4,      12009,2,20080109,       0541,   -14.0835,  -103.0000,       4068,  3416.3,   1.7896,  34.6793,2,  34.6806,2,    139.0,2,   138.5,2,  146.00,6,   37.20,6,    0.00,6,    2.52,2,   0.002,2,   0.002,2,   0.0000,2,  2334.7,2,  2417.8,2,   -999.0,9,  -999.00,   7.5676,2,    25.00,-999.000,9,-999.0000,9, -999.00,9, -999.00,9,  -999.0,9,-999.000,9,-999.000,   0.007,3,-999.000,9, -999.00,9, -999.00,9, -999.00,9, -999.00,9, -999.00,9,-999.000,-999.0000,9,-999.0000,9,-999.0000,9,-999.0000,9,-999.0000,9,-999.0000,9,-999.0000,9,-999.0000,9,-999.0000,9,   1.5248,     -999.0,9,     -999.0,9,     -999.0,9,     -999.0,9,     -999.0,9,     -999.0,9,     -999.0,9,-999.0000, -999.00
33RO20071215,        P18,      74,          1,          3,      12006,2,20080109,       0541,   -14.0835,  -103.0000,       4068,  3666.4,   1.8033,  34.6791,2,  34.6800,2,    138.4,2,   137.3,2,  147.90,6,   37.20,6,    0.00,6,    2.53,2,-999.000,9,-999.000,9,-999.0000,9,  2336.7,2,  2430.8,2,   1202.1,2,    20.00,   7.5491,2,    25.00,-999.000,9,-999.0000,9, -999.00,9, -999.00,9,  -999.0,9,-999.000,9,-999.000,-999.000,9,-999.000,9, -999.00,9, -999.00,9, -999.00,9, -999.00,9, -999.00,9,-999.000,-999.0000,9,-999.0000,9,-999.0000,9,-999.0000,9,-999.0000,9,-999.0000,9,-999.0000,9,-999.0000,9,-999.0000,9,   1.5120,     -999.0,9,     -999.0,9,     -999.0,9,     -999.0,9,     -999.0,9,     -999.0,9,     -999.0,9,-999.0000, -999.00
33RO20071215,        P18,      74,          1,          2,      12007,2,20080109,       0541,   -14.0835,  -103.0000,       4068,  3907.9,   1.8263,  34.6788,2,  34.6796,2,    137.2,2,   137.4,2,  148.20,6,   37.20,6,    0.01,6,    2.53,2,-999.000,9,-999.000,9,-999.0000,9,  2338.4,2,  2431.1,2,   -999.0,9,  -999.00,   7.5658,2,    25.00,-999.000,9,-999.0000,9, -999.00,9, -999.00,9,  -999.0,9,-999.000,9,-999.000,-999.000,9,-999.000,9, -999.00,9, -999.00,9, -999.00,9, -999.00,9, -999.00,9,-999.000,-999.0000,9,-999.0000,9,-999.0000,9,-999.0000,9,-999.0000,9,-999.0000,9,-999.0000,9,-999.0000,9,-999.0000,9,   1.5083,     -999.0,9,     -999.0,9,     -999.0,9,     -999.0,9,     -999.0,9,     -999.0,9,     -999.0,9,-999.0000, -999.00
33RO20071215,        P18,      74,          1,          1,      12035,2,20080109,       0541,   -14.0835,  -103.0000,       4068,  4119.6,   1.8493,  34.6788,2,  34.6817,2,    137.3,2,   137.4,2,  149.10,2,   37.40,2,    0.01,2,    2.54,2,   0.000,6,   0.000,6,   0.0000,6,  2338.7,6,  2432.2,2,   1199.7,2,    20.00,   7.5657,2,    25.00,  -0.001,2,-999.0000,9, -999.00,9, -999.00,9,  -999.0,9,-999.000,9,-999.000,   0.003,3,-999.000,9, -999.00,9, -999.00,9, -999.00,9, -999.00,9, -999.00,9,   0.006,-999.0000,9,-999.0000,9,-999.0000,9,-999.0000,9,-999.0000,9,-999.0000,9,-999.0000,9,-999.0000,9,-999.0000,9,   1.5071,     -999.0,9,     -999.0,9,     -999.0,9,     -999.0,9,     -999.0,9,     -999.0,9,     -999.0,9,-999.0000, -999.00