BOTTLE,20220818CCHSIOAMB
EXPOCODE,SECT_ID,STNNBR,CASTNO,SAMPNO,BTLNBR,BTLNBR_FLAG_W,DATE,TIME,LATITUDE,LONGITUDE,DEPTH,CTDPRS,CTDTMP,CTDSAL,CTDSAL_FLAG_W,SALNTY,SALNTY_FLAG_W,CTDOXY,CTDOXY_FLAG_W,OXYGEN,OXYGEN_FLAG_W,SILCAT,SILCAT_FLAG_W,NITRAT,NITRAT_FLAG_W,NITRIT,NITRIT_FLAG_W,PHSPHT,PHSPHT_FLAG_W,CFC-11,CFC-11_FLAG_W,CFC-12,CFC-12_FLAG_W,SF6,SF6_FLAG_W,TCARBN,TCARBN_FLAG_W,ALKALI,ALKALI_FLAG_W,FCO2,FCO2_FLAG_W,FCO2TMP,PH_SWS,PH_SWS_FLAG_W,PH_TMP,TRITUM,TRITUM_FLAG_W,HELIUM,HELIUM_FLAG_W,DELHE3,DELHE3_FLAG_W,DELC13,DELC13_FLAG_W,DELC14,DELC14_FLAG_W,NEON,NEON_FLAG_W,NEONER,CCL4,CCL4_FLAG_W,POC,POC_FLAG_W,DOC,DOC_FLAG_W,TDN,TDN_FLAG_W,DON,DON_FLAG_W,CHLORA,CHLORA_FLAG_W,ARGON,ARGON_FLAG_W,TRITER,CDOM325,CDOM325_FLAG_W,CDOM340,CDOM340_FLAG_W,CDOM380,CDOM380_FLAG_W,CDOM412,CDOM412_FLAG_W,CDOM443,CDOM443_FLAG_W,CDOM490,CDOM490_FLAG_W,CDOM555,CDOM555_FLAG_W,CDOMSL,CDOMSL_FLAG_W,CDOMSN,CDOMSN_FLAG_W,THETA,D18O_NO3,D18O_NO3_FLAG_W,CDOM2C,CDOM2C_FLAG_W,CDOM3C,CDOM3C_FLAG_W,LAB_DEN,LAB_DEN_FLAG_W,DELSI30,DELSI30_FLAG_W,N2,N2_FLAG_W,D15N_NO3,D15N_NO3_FLAG_W,HELIER,DELHER
,,,,,,,,,,,METERS,DBAR,ITS-90,PSS-78,,PSS-78,,UMOL/KG,,UMOL/KG,,UMOL/KG,,UMOL/KG,,UMOL/KG,,UMOL/KG,,PMOL/KG,,PMOL/KG,,FMOL/KG,,UMOL/KG,,UMOL/KG,,UATM,,DEG C,,,DEG C,TU,,NMOL/KG,,PERCNT,,/MILLE,,/MILLE,,NMOL/KG,,NMOL/KG,PMOL/KG,,UG/KG,,UMOL/KG,,UMOL/KG,,UMOL/KG,,UG/KG,,UMOL/KG,,TU,1/M,,1/M,,1/M,,1/M,,1/M,,1/M,,1/M,,1/NM,,1/NM,,DEG C,/MILLE,,,,,,,,/MILLE,,UMOL/KG,,/MILLE,,NMOL/KG,PERCNT
33RO20071215,        P18,      76,          1,         11,      12003,2,20080109,       2047,   -15.2498,  -103.0002,       4051,  1867.8,   2.3280,  34.6351,2,  34.6351,2,    117.0,2,   118.0,2,  125.60,2,   38.80,2,    0.00,2,    2.72,2,   0.001,2,   0.001,2,   0.0000,2,  2327.5,2,  -999.0,9,   -999.0,9,  -999.00,   7.5108,2,    25.00,-999.000,9,-999.0000,9, -999.00,9, -999.00,9,  -999.0,9,-999.000,9,-999.000,-999.000,9,-999.000,9, -999.00,9, -999.00,9, -999.00,9, -999.00,9, -999.00,9,-999.000,   0.1246,2,   0.0819,2,   0.0395,2,   0.0277,2,   0.0175,2,   0.0083,3,   0.0040,3,   0.0150,4,   0.0183,4,   2.1978,     -999.0,9,     -999.0,9,     -999.0,9,     -999.0,9,     -999.0,9,     -999.0,9,     -999.0,9,-999.0000, -999.00
33RO20071215,        P18,      76,          1,         10,      12032,2,20080109,       2047,   -15.2498,  -103.0002,       4051,  2067.2,   2.0909,  34.6514,2,  34.6515,2,    130.6,2,   131.1,2,  127.70,2,   37.70,2,    0.00,2,    2.63,2,-999.000,9,-999.000,9,-999.0000,9,  2321.1,2,  2403.4,2,   -999.0,9,  -999.00,   7.5278,2,    25.00,-999.000,9,-999.0000,9, -999.00,9, -999.00,9,  -999.0,9,-999.000,9,-999.000,-999.000,9,-999.000,9, -999.00,9, -999.00,9, -999.00,9, -999.00,9, -999.00,9,-999.000,   0.1230,2,   0.0817,2,   0.0405,2,   0.0275,2,   0.0171,2,   0.0073,2,   0.0029,2,   0.0155,2,   0.0181,2,   1.9473,     -999.0,9,     -999.0,9,     -999.0,9,     -999.0,9,     -999.0,9,     -999.0,9,     -999.0,9,-999.0000, -999.00
33RO20071215,        P18,      76,          1,          9,      12002,2,20080109,       2047,   -15.2498,  -103.0002,       4051,  2265.2,   1.9227,  34.6642,2,  34.6638,2,    142.7,2,   143.4,2,  128.20,2,   36.80,2,    0.00,2,    2.54,2,-999.000,9,-999.000,9,-999.0000,9,  2316.7,2,  -999.0,9,   -999.0,9,  -999.00,   7.5627,2,    25.00,-999.000,9,-999.0000,9, -999.00,9, -999.00,9,  -999.0,9,-999.000,9,-999.000,-999.000,9,-999.000,9, -999.00,9, -999.00,9, -999.00,9, -999.00,9, -999.00,9,-999.000,-999.0000,5,-999.0000,5,-999.0000,5,-999.0000,5,-999.0000,5,-999.0000,5,-999.0000,5,-999.0000,5,-999.0000,5,   1.7647,     -999.0,9,     -999.0,9,     -999.0,9,     -999.0,9,     -999.0,9,     -999.0,9,     -999.0,9,-999.0000, -999.00
33RO20071215,        P18,      76,          1,          8,      12021,2,20080109,       2047,   -15.2498,  -103.0002,       4051,  2461.4,   1.8516,  34.6713,2,  34.6740,2,    146.5,2,   146.8,2,  130.00,2,   36.40,2,    0.00,2,    2.52,2,   0.000,2,   0.000,2,   0.0000,2,  2317.0,2,  2409.1,2,   1195.6,2,    20.00,   7.5679,2,    25.00,-999.000,9,-999.0000,9, -999.00,9, -999.00,9,  -999.0,9,-999.000,9,-999.000,   0.001,3,-999.000,9, -999.00,9, -999.00,9, -999.00,9, -999.00,9, -999.00,9,-999.000,   0.1347,2,   0.0911,2,   0.0461,2,   0.0307,2,   0.0197,2,   0.0092,2,   0.0036,2,   0.0152,2,   0.0175,2,   1.6774,     -999.0,9,     -999.0,9,     -999.0,9,     -999.0,9,     -999.0,9,     -999.0,9,     -999.0,9,-999.0000, -999.00
33RO20071215,        P18,      76,          1,          7,      12001,2,20080109,       2047,   -15.2498,  -103.0002,       4051,  2666.5,   1.8213,  34.6758,2,  34.6762,2,    145.9,2,   146.7,2,  133.10,2,   36.60,2,    0.00,2,    2.52,2,-999.000,9,-999.000,9,-999.0000,9,  2319.7,2,  -999.0,9,   -999.0,9,  -999.00,   7.5760,2,    25.00,-999.000,9,-999.0000,9, -999.00,9, -999.00,9,  -999.0,9,-999.000,9,-999.000,-999.000,9,-999.000,9, -999.00,9, -999.00,9, -999.00,9, -999.00,9, -999.00,9,-999.000,   0.1169,2,   0.0768,2,   0.0372,2,   0.0236,2,   0.0138,2,   0.0046,2,   0.0007,2,   0.0171,2,   0.0196,2,   1.6290,     -999.0,9,     -999.0,9,     -999.0,9,     -999.0,9,     -999.0,9,     -999.0,9,     -999.0,9,-999.0000, -999.00
33RO20071215,        P18,      76,          1,          6,      12033,2,20080109,       2047,   -15.2498,  -103.0002,       4051,  2865.9,   1.8088,  34.6783,2,  34.6785,2,    145.7,2,   145.7,2,  135.40,2,   36.60,2,    0.00,2,    2.52,2,-999.000,9,-999.000,9,-999.0000,9,  2322.7,2,  2414.5,2,   -999.0,9,  -999.00,   7.5744,2,    25.00,-999.000,9,-999.0000,9, -999.00,9, -999.00,9,  -999.0,9,-999.000,9,-999.000,-999.000,9,-999.000,9, -999.00,9, -999.00,9, -999.00,9, -999.00,9, -999.00,9,-999.000,   0.1256,2,   0.0843,2,   0.0420,2,   0.0271,2,   0.0165,2,   0.0061,2,   0.0015,2,   0.0164,2,   0.0184,2,   1.5980,     -999.0,9,     -999.0,9,     -999.0,9,     -999.0,1,     -999.0,9,     -999.0,9,     -999.0,9,-999.0000, -999.00
33RO20071215,        P18,      76,          1,          5,      12008,2,20080109,       2047,   -15.2498,  -103.0002,       4051,  3084.4,   1.8046,  34.6798,2,  34.6800,2,    143.7,2,   144.3,2,  138.40,2,   36.90,2,    0.00,2,    2.54,2,   0.000,2,   0.000,2,   0.0000,2,  2326.8,2,  -999.0,9,   -999.0,9,  -999.00,   7.5795,2,    25.00,-999.000,9,-999.0000,9, -999.00,9, -999.00,9,  -999.0,9,-999.000,9,-999.000,   0.003,3,-999.000,9, -999.00,9, -999.00,9, -999.00,9, -999.00,9, -999.00,9,-999.000,   0.1285,2,   0.0872,2,   0.0451,2,   0.0297,2,   0.0185,2,   0.0074,2,   0.0021,2,   0.0157,2,   0.0175,2,   1.5728,     -999.0,9,     -999.0,9,     -999.0,9,     -999.0,9,     -999.0,9,     -999.0,9,     -999.0,9,-999.0000, -999.00
33RO20071215,        P18,      76,          1,          4,      12009,2,20080109,       2047,   -15.2498,  -103.0002,       4051,  3332.5,   1.8087,  34.6801,2,  34.6813,2,    142.0,2,   141.7,2,  141.90,6,   37.00,6,    0.00,6,    2.55,2,-999.000,9,-999.000,9,-999.0000,9,  2330.9,2,  2425.0,2,   1193.2,2,    20.00,   7.5634,2,    25.00,-999.000,9,-999.0000,9, -999.00,9, -999.00,9,  -999.0,9,-999.000,9,-999.000,-999.000,9,-999.000,9, -999.00,9, -999.00,9, -999.00,9, -999.00,9, -999.00,9,-999.000,   0.1278,2,   0.0862,2,   0.0441,2,   0.0287,2,   0.0175,2,   0.0064,2,   0.0016,2,   0.0161,2,   0.0179,2,   1.5520,     -999.0,9,     -999.0,9,     -999.0,9,     -999.0,1,     -999.0,9,     -999.0,9,     -999.0,9,-999.0000, -999.00
33RO20071215,        P18,      76,          1,          3,      12006,2,20080109,       2047,   -15.2498,  -103.0002,       4051,  3581.8,   1.8144,  34.6795,2,  34.6801,2,    139.8,2,   138.9,2,  145.40,6,   37.20,6,    0.00,6,    2.56,2,-999.000,9,-999.000,9,-999.0000,9,  2334.7,2,  -999.0,9,   -999.0,9,  -999.00,   7.5601,2,    25.00,-999.000,9,-999.0000,9, -999.00,9, -999.00,9,  -999.0,9,-999.000,9,-999.000,-999.000,9,-999.000,9, -999.00,9, -999.00,9, -999.00,9, -999.00,9, -999.00,9,-999.000,   0.1428,2,   0.0984,2,   0.0516,2,   0.0345,2,   0.0216,2,   0.0088,2,   0.0028,2,   0.0155,2,   0.0169,2,   1.5317,     -999.0,9,     -999.0,9,     -999.0,9,     -999.0,9,     -999.0,9,     -999.0,9,     -999.0,9,-999.0000, -999.00
33RO20071215,        P18,      76,          1,          2,      12007,2,20080109,       2047,   -15.2498,  -103.0002,       4051,  3833.1,   1.8281,  34.6793,2,  34.6804,2,    137.8,2,   138.2,2,  147.50,6,   37.20,6,    0.00,6,    2.58,2,  -0.001,2,  -0.001,2,   0.0000,2,  2337.0,2,  2430.3,2,   -999.0,9,  -999.00,   7.5740,2,    25.00,-999.000,9,-999.0000,9, -999.00,9, -999.00,9,  -999.0,9,-999.000,9,-999.000,   0.004,3,-999.000,9, -999.00,9, -999.00,9, -999.00,9, -999.00,9, -999.00,9,-999.000,   0.1541,2,   0.1077,2,   0.0582,2,   0.0398,2,   0.0255,2,   0.0111,2,   0.0039,2,   0.0149,2,   0.0159,2,   1.5182,     -999.0,9,     -999.0,9,     -999.0,9,     -999.0,1,     -999.0,9,     -999.0,9,     -999.0,9,-999.0000, -999.00
33RO20071215,        P18,      76,          1,          1,      12035,2,20080109,       2047,   -15.2498,  -103.0002,       4051,  4068.3,   1.8516,  34.6792,2,  34.6799,2,    137.6,2,   137.2,2,  148.40,2,   37.50,2,    0.00,2,    2.58,2,   0.000,6,   0.000,6,   0.0000,6,  2338.6,6,  2433.9,2,   1209.9,2,    20.00,   7.5730,2,    25.00,-999.000,9,-999.0000,9, -999.00,9, -999.00,9,  -999.0,9,-999.000,9,-999.000,   0.004,3,-999.000,9, -999.00,9, -999.00,9, -999.00,9, -999.00,9, -999.00,9,-999.000,   0.1339,2,   0.0908,2,   0.0463,2,   0.0304,2,   0.0180,2,   0.0060,2,   0.0010,2,   0.0163,2,   0.0179,2,   1.5151,     -999.0,9,     -999.0,9,     -999.0,9,     -999.0,1,     -999.0,9,     -999.0,9,     -999.0,9,-999.0000, -999.00