BOTTLE,20220818CCHSIOAMB
EXPOCODE,SECT_ID,STNNBR,CASTNO,SAMPNO,BTLNBR,BTLNBR_FLAG_W,DATE,TIME,LATITUDE,LONGITUDE,DEPTH,CTDPRS,CTDTMP,CTDSAL,CTDSAL_FLAG_W,SALNTY,SALNTY_FLAG_W,CTDOXY,CTDOXY_FLAG_W,OXYGEN,OXYGEN_FLAG_W,SILCAT,SILCAT_FLAG_W,NITRAT,NITRAT_FLAG_W,NITRIT,NITRIT_FLAG_W,PHSPHT,PHSPHT_FLAG_W,CFC-11,CFC-11_FLAG_W,CFC-12,CFC-12_FLAG_W,SF6,SF6_FLAG_W,TCARBN,TCARBN_FLAG_W,ALKALI,ALKALI_FLAG_W,FCO2,FCO2_FLAG_W,FCO2TMP,PH_SWS,PH_SWS_FLAG_W,PH_TMP,TRITUM,TRITUM_FLAG_W,HELIUM,HELIUM_FLAG_W,DELHE3,DELHE3_FLAG_W,DELC13,DELC13_FLAG_W,DELC14,DELC14_FLAG_W,NEON,NEON_FLAG_W,NEONER,CCL4,CCL4_FLAG_W,POC,POC_FLAG_W,DOC,DOC_FLAG_W,TDN,TDN_FLAG_W,DON,DON_FLAG_W,CHLORA,CHLORA_FLAG_W,ARGON,ARGON_FLAG_W,TRITER,CDOM325,CDOM325_FLAG_W,CDOM340,CDOM340_FLAG_W,CDOM380,CDOM380_FLAG_W,CDOM412,CDOM412_FLAG_W,CDOM443,CDOM443_FLAG_W,CDOM490,CDOM490_FLAG_W,CDOM555,CDOM555_FLAG_W,CDOMSL,CDOMSL_FLAG_W,CDOMSN,CDOMSN_FLAG_W,THETA,D18O_NO3,D18O_NO3_FLAG_W,CDOM2C,CDOM2C_FLAG_W,CDOM3C,CDOM3C_FLAG_W,LAB_DEN,LAB_DEN_FLAG_W,DELSI30,DELSI30_FLAG_W,N2,N2_FLAG_W,D15N_NO3,D15N_NO3_FLAG_W,HELIER,DELHER
,,,,,,,,,,,METERS,DBAR,ITS-90,PSS-78,,PSS-78,,UMOL/KG,,UMOL/KG,,UMOL/KG,,UMOL/KG,,UMOL/KG,,UMOL/KG,,PMOL/KG,,PMOL/KG,,FMOL/KG,,UMOL/KG,,UMOL/KG,,UATM,,DEG C,,,DEG C,TU,,NMOL/KG,,PERCNT,,/MILLE,,/MILLE,,NMOL/KG,,NMOL/KG,PMOL/KG,,UG/KG,,UMOL/KG,,UMOL/KG,,UMOL/KG,,UG/KG,,UMOL/KG,,TU,1/M,,1/M,,1/M,,1/M,,1/M,,1/M,,1/M,,1/NM,,1/NM,,DEG C,/MILLE,,,,,,,,/MILLE,,UMOL/KG,,/MILLE,,NMOL/KG,PERCNT
33RO20071215,        P18,      86,          1,         11,      12003,2,20080113,       0233,   -21.0835,  -103.0000,       3989,  1867.6,   2.3513,  34.6199,2,  34.6198,2,    137.7,2,   137.7,2,  112.40,2,   37.40,2,    0.00,2,    2.57,2,  -0.001,2,   0.000,2,   0.0000,2,  2303.1,2,  2383.0,2,   -999.0,9,  -999.00,   7.5403,2,    25.00,-999.000,9,-999.0000,9, -999.00,9, -999.00,9,  -999.0,9,-999.000,9,-999.000,-999.000,9,-999.000,9, -999.00,9, -999.00,9, -999.00,9, -999.00,9, -999.00,9,-999.000,-999.0000,9,-999.0000,9,-999.0000,9,-999.0000,9,-999.0000,9,-999.0000,9,-999.0000,9,-999.0000,9,-999.0000,9,   2.2209,     -999.0,9,     -999.0,9,     -999.0,9,     -999.0,9,     -999.0,9,     -999.0,9,     -999.0,9,-999.0000, -999.00
33RO20071215,        P18,      86,          1,         10,      12032,2,20080113,       0233,   -21.0835,  -103.0000,       3989,  2067.0,   2.1258,  34.6392,2,  34.6386,2,    148.8,2,   148.6,2,  115.10,2,   36.50,2,    0.00,2,    2.49,2,-999.000,9,-999.000,9,-999.0000,9,  2299.8,2,  2387.1,4,   1213.3,2,    20.00,   7.5612,2,    25.00,-999.000,9,-999.0000,9, -999.00,9,    0.24,2,  -999.0,1,-999.000,9,-999.000,-999.000,9,-999.000,9, -999.00,9, -999.00,9, -999.00,9, -999.00,9, -999.00,9,-999.000,-999.0000,9,-999.0000,9,-999.0000,9,-999.0000,9,-999.0000,9,-999.0000,9,-999.0000,9,-999.0000,9,-999.0000,9,   1.9817,     -999.0,9,     -999.0,9,     -999.0,9,     -999.0,9,     -999.0,9,     -999.0,9,     -999.0,9,-999.0000, -999.00
33RO20071215,        P18,      86,          1,          9,      12002,2,20080113,       0233,   -21.0835,  -103.0000,       3989,  2265.9,   1.9717,  34.6561,2,  34.6554,2,    153.1,2,   152.1,2,  119.30,2,   36.10,2,    0.00,2,    2.46,2,-999.000,9,-999.000,9,-999.0000,9,  2302.1,2,  2379.2,4,   -999.0,9,  -999.00,   7.5612,2,    25.00,-999.000,9,-999.0000,9, -999.00,9, -999.00,9,  -999.0,9,-999.000,9,-999.000,-999.000,9,-999.000,9, -999.00,9, -999.00,9, -999.00,9, -999.00,9, -999.00,9,-999.000,-999.0000,9,-999.0000,9,-999.0000,9,-999.0000,9,-999.0000,9,-999.0000,9,-999.0000,9,-999.0000,9,-999.0000,9,   1.8128,     -999.0,9,     -999.0,9,     -999.0,9,     -999.0,9,     -999.0,9,     -999.0,9,     -999.0,9,-999.0000, -999.00
33RO20071215,        P18,      86,          1,          8,      12021,2,20080113,       0233,   -21.0835,  -103.0000,       3989,  2466.1,   1.8830,  34.6670,2,  34.6662,2,    155.8,2,   156.2,2,  121.70,2,   36.00,2,    0.00,2,    2.44,2,   0.000,2,  -0.001,2,   0.0000,2,  2302.3,6,  2376.8,4,   -999.0,9,  -999.00,   7.5732,2,    25.00,-999.000,9,-999.0000,9, -999.00,9,    0.19,3,  -999.0,1,-999.000,9,-999.000,   0.003,3,-999.000,9, -999.00,9, -999.00,9, -999.00,9, -999.00,9, -999.00,9,-999.000,-999.0000,9,-999.0000,9,-999.0000,9,-999.0000,9,-999.0000,9,-999.0000,9,-999.0000,9,-999.0000,9,-999.0000,9,   1.7079,     -999.0,9,     -999.0,9,     -999.0,9,     -999.0,9,     -999.0,9,     -999.0,9,     -999.0,9,-999.0000, -999.00
33RO20071215,        P18,      86,          1,          7,      12001,2,20080113,       0233,   -21.0835,  -103.0000,       3989,  2665.3,   1.8309,  34.6747,2,  34.6744,2,    156.8,2,   156.9,2,  123.60,2,   35.90,2,    0.00,2,    2.44,2,-999.000,9,-999.000,9,-999.0000,9,  2303.9,2,  2396.6,2,   1169.0,6,    20.00,   7.5756,2,    25.00,-999.000,9,-999.0000,9, -999.00,9, -999.00,9,  -999.0,9,-999.000,9,-999.000,-999.000,9,-999.000,9, -999.00,9, -999.00,9, -999.00,9, -999.00,9, -999.00,9,-999.000,-999.0000,9,-999.0000,9,-999.0000,9,-999.0000,9,-999.0000,9,-999.0000,9,-999.0000,9,-999.0000,9,-999.0000,9,   1.6385,     -999.0,9,     -999.0,9,     -999.0,9,     -999.0,9,     -999.0,9,     -999.0,9,     -999.0,9,-999.0000, -999.00
33RO20071215,        P18,      86,          1,          6,      12033,2,20080113,       0233,   -21.0835,  -103.0000,       3989,  2867.1,   1.8006,  34.6800,2,  34.6794,2,    155.6,2,   155.4,2,  126.40,2,   36.10,2,    0.00,2,    2.45,2,-999.000,9,-999.000,9,-999.0000,9,  2309.3,2,  2401.8,2,   -999.0,9,  -999.00,   7.5814,2,    25.00,-999.000,9,-999.0000,9, -999.00,9, -999.00,9,  -999.0,9,-999.000,9,-999.000,-999.000,9,-999.000,9, -999.00,9, -999.00,9, -999.00,9, -999.00,9, -999.00,9,-999.000,-999.0000,9,-999.0000,9,-999.0000,9,-999.0000,9,-999.0000,9,-999.0000,9,-999.0000,9,-999.0000,9,-999.0000,9,   1.5899,     -999.0,9,     -999.0,9,     -999.0,9,     -999.0,9,     -999.0,9,     -999.0,9,     -999.0,9,-999.0000, -999.00
33RO20071215,        P18,      86,          1,          5,      12008,2,20080113,       0233,   -21.0835,  -103.0000,       3989,  3068.8,   1.7862,  34.6836,2,  34.6829,2,    153.6,2,   153.9,2,  129.10,2,   36.10,2,    0.00,2,    2.46,2,  -0.001,2,  -0.001,2,   0.0000,2,  2313.3,2,  2410.1,2,   -999.0,9,  -999.00,   7.5767,2,    25.00,-999.000,9,-999.0000,9, -999.00,9,    0.16,2,  -999.0,1,-999.000,9,-999.000,   0.004,3,-999.000,9, -999.00,9, -999.00,9, -999.00,9, -999.00,9, -999.00,9,-999.000,-999.0000,9,-999.0000,9,-999.0000,9,-999.0000,9,-999.0000,9,-999.0000,9,-999.0000,9,-999.0000,9,-999.0000,9,   1.5563,     -999.0,9,     -999.0,9,     -999.0,9,     -999.0,9,     -999.0,9,     -999.0,9,     -999.0,9,-999.0000, -999.00
33RO20071215,        P18,      86,          1,          4,      12009,2,20080113,       0233,   -21.0835,  -103.0000,       3989,  3331.2,   1.7839,  34.6867,2,  34.6862,2,    151.8,2,   151.5,2,  132.00,6,   36.20,6,    0.00,6,    2.48,2,-999.000,9,-999.000,9,-999.0000,9,  2318.3,2,  2408.5,2,   1159.2,2,    20.00,   7.5739,2,    25.00,-999.000,9,-999.0000,9, -999.00,9, -999.00,9,  -999.0,9,-999.000,9,-999.000,-999.000,9,-999.000,9, -999.00,9, -999.00,9, -999.00,9, -999.00,9, -999.00,9,-999.000,-999.0000,9,-999.0000,9,-999.0000,9,-999.0000,9,-999.0000,9,-999.0000,9,-999.0000,9,-999.0000,9,-999.0000,9,   1.5279,     -999.0,9,     -999.0,9,     -999.0,9,     -999.0,9,     -999.0,9,     -999.0,9,     -999.0,9,-999.0000, -999.00
33RO20071215,        P18,      86,          1,          3,      12006,2,20080113,       0233,   -21.0835,  -103.0000,       3989,  3573.8,   1.7971,  34.6882,2,  34.6873,2,    151.0,2,   150.2,2,  133.20,6,   36.20,6,    0.00,6,    2.48,2,   0.000,2,  -0.001,2,   0.0000,2,  2320.4,2,  2398.8,4,   -999.0,9,  -999.00,   7.5835,2,    25.00,-999.000,9,-999.0000,9, -999.00,9,    0.16,2,  -999.0,1,-999.000,9,-999.000,   0.005,3,-999.000,9, -999.00,9, -999.00,9, -999.00,9, -999.00,9, -999.00,9,-999.000,-999.0000,9,-999.0000,9,-999.0000,9,-999.0000,9,-999.0000,9,-999.0000,9,-999.0000,9,-999.0000,9,-999.0000,9,   1.5157,     -999.0,9,     -999.0,9,     -999.0,9,     -999.0,9,     -999.0,9,     -999.0,9,     -999.0,9,-999.0000, -999.00
33RO20071215,        P18,      86,          1,          2,      12007,2,20080113,       0233,   -21.0835,  -103.0000,       3989,  3834.8,   1.8167,  34.6888,2,  34.6886,2,    151.3,2,   150.3,2,  133.50,6,   36.10,6,    0.00,6,    2.48,2,   0.001,2,   0.000,2,   0.0000,2,  2321.9,2,  2378.6,4,   -999.0,9,  -999.00,   7.5843,2,    25.00,-999.000,9,-999.0000,9, -999.00,9, -999.00,9,  -999.0,9,-999.000,9,-999.000,   0.003,3,-999.000,9, -999.00,9, -999.00,9, -999.00,9, -999.00,9, -999.00,9,-999.000,-999.0000,9,-999.0000,9,-999.0000,9,-999.0000,9,-999.0000,9,-999.0000,9,-999.0000,9,-999.0000,9,-999.0000,9,   1.5069,     -999.0,9,     -999.0,9,     -999.0,9,     -999.0,9,     -999.0,9,     -999.0,9,     -999.0,9,-999.0000, -999.00
33RO20071215,        P18,      86,          1,          1,      12035,2,20080113,       0233,   -21.0835,  -103.0000,       3989,  4039.7,   1.8365,  34.6888,2,  34.6864,2,    150.5,2,   150.2,2,  133.70,2,   36.40,2,    0.01,2,    2.48,2,  -0.001,6,   0.000,6,   0.0000,6,  2323.0,6,  2379.4,4,   1152.4,2,    20.00,   7.5700,2,    25.00,-999.000,9,-999.0000,9, -999.00,9,    0.16,2,  -999.0,1,-999.000,9,-999.000,   0.003,3,-999.000,9, -999.00,9, -999.00,9, -999.00,9, -999.00,9, -999.00,9,-999.000,-999.0000,9,-999.0000,9,-999.0000,9,-999.0000,9,-999.0000,9,-999.0000,9,-999.0000,9,-999.0000,9,-999.0000,9,   1.5036,     -999.0,9,     -999.0,9,     -999.0,9,     -999.0,9,     -999.0,9,     -999.0,9,     -999.0,9,-999.0000, -999.00