BOTTLE,20220818CCHSIOAMB
EXPOCODE,SECT_ID,STNNBR,CASTNO,SAMPNO,BTLNBR,BTLNBR_FLAG_W,DATE,TIME,LATITUDE,LONGITUDE,DEPTH,CTDPRS,CTDTMP,CTDSAL,CTDSAL_FLAG_W,SALNTY,SALNTY_FLAG_W,CTDOXY,CTDOXY_FLAG_W,OXYGEN,OXYGEN_FLAG_W,SILCAT,SILCAT_FLAG_W,NITRAT,NITRAT_FLAG_W,NITRIT,NITRIT_FLAG_W,PHSPHT,PHSPHT_FLAG_W,CFC-11,CFC-11_FLAG_W,CFC-12,CFC-12_FLAG_W,SF6,SF6_FLAG_W,TCARBN,TCARBN_FLAG_W,ALKALI,ALKALI_FLAG_W,FCO2,FCO2_FLAG_W,FCO2TMP,PH_SWS,PH_SWS_FLAG_W,PH_TMP,TRITUM,TRITUM_FLAG_W,HELIUM,HELIUM_FLAG_W,DELHE3,DELHE3_FLAG_W,DELC13,DELC13_FLAG_W,DELC14,DELC14_FLAG_W,NEON,NEON_FLAG_W,NEONER,CCL4,CCL4_FLAG_W,POC,POC_FLAG_W,DOC,DOC_FLAG_W,TDN,TDN_FLAG_W,DON,DON_FLAG_W,CHLORA,CHLORA_FLAG_W,ARGON,ARGON_FLAG_W,TRITER,CDOM325,CDOM325_FLAG_W,CDOM340,CDOM340_FLAG_W,CDOM380,CDOM380_FLAG_W,CDOM412,CDOM412_FLAG_W,CDOM443,CDOM443_FLAG_W,CDOM490,CDOM490_FLAG_W,CDOM555,CDOM555_FLAG_W,CDOMSL,CDOMSL_FLAG_W,CDOMSN,CDOMSN_FLAG_W,THETA,D18O_NO3,D18O_NO3_FLAG_W,CDOM2C,CDOM2C_FLAG_W,CDOM3C,CDOM3C_FLAG_W,LAB_DEN,LAB_DEN_FLAG_W,DELSI30,DELSI30_FLAG_W,N2,N2_FLAG_W,D15N_NO3,D15N_NO3_FLAG_W,HELIER,DELHER
,,,,,,,,,,,METERS,DBAR,ITS-90,PSS-78,,PSS-78,,UMOL/KG,,UMOL/KG,,UMOL/KG,,UMOL/KG,,UMOL/KG,,UMOL/KG,,PMOL/KG,,PMOL/KG,,FMOL/KG,,UMOL/KG,,UMOL/KG,,UATM,,DEG C,,,DEG C,TU,,NMOL/KG,,PERCNT,,/MILLE,,/MILLE,,NMOL/KG,,NMOL/KG,PMOL/KG,,UG/KG,,UMOL/KG,,UMOL/KG,,UMOL/KG,,UG/KG,,UMOL/KG,,TU,1/M,,1/M,,1/M,,1/M,,1/M,,1/M,,1/M,,1/NM,,1/NM,,DEG C,/MILLE,,,,,,,,/MILLE,,UMOL/KG,,/MILLE,,NMOL/KG,PERCNT
33RO20071215,        P18,      57,          1,         36,      12017,2,20080102,       2316,    -5.8330,  -108.8400,       3430,     5.2,  23.5033,  35.0766,2,  35.0785,2,    218.5,2,   218.2,2,    5.40,2,   11.30,2,    0.26,2,    0.86,2,   1.933,6,   1.202,6,   1.0612,6,  2068.3,6,  2205.7,4,    437.8,2,    20.00,   7.9264,2,    25.00,   0.350,2,   1.7166,2,   -1.66,2,    0.95,2,  -999.0,1,   6.876,2,   0.023,-999.000,9,-999.000,9,   56.45,2,   16.02,2, -999.00,1, -999.00,9, -999.00,9,   0.007,-999.0000,9,-999.0000,9,-999.0000,9,-999.0000,9,-999.0000,9,-999.0000,9,-999.0000,9,-999.0000,9,-999.0000,9,  23.5022,     -999.0,9,     -999.0,9,     -999.0,9,     -999.0,9,     -999.0,9,     -999.0,9,     -999.0,9,   0.0048,    0.15
33RO20071215,        P18,      57,          1,         35,      12029,2,20080102,       2316,    -5.8330,  -108.8400,       3430,    11.0,  23.4963,  35.0756,2,  35.0767,2,    218.7,2,   219.0,2,    5.40,2,   11.30,2,    0.26,2,    0.86,2,-999.000,9,-999.000,9,-999.0000,9,  2068.6,2,  2303.0,4,   -999.0,9,  -999.00,   7.9337,2,    25.00,-999.000,9,-999.0000,9, -999.00,9, -999.00,9,  -999.0,9,-999.000,9,-999.000,-999.000,9,-999.000,9, -999.00,9, -999.00,9, -999.00,1, -999.00,9, -999.00,9,-999.000,-999.0000,9,-999.0000,9,-999.0000,9,-999.0000,9,-999.0000,9,-999.0000,9,-999.0000,9,-999.0000,9,-999.0000,9,  23.4940,     -999.0,9,     -999.0,9,     -999.0,9,     -999.0,9,     -999.0,9,     -999.0,9,     -999.0,9,-999.0000, -999.00
33RO20071215,        P18,      57,          1,         34,      12049,2,20080102,       2316,    -5.8330,  -108.8400,       3430,    17.3,  23.4802,  35.0736,2,  35.0748,2,    218.8,2,   218.8,2,    5.50,2,   11.30,2,    0.26,2,    0.87,2,   1.928,2,   1.206,2,   1.0504,2,  2068.4,2,  2313.2,4,    437.8,2,    20.00,   7.9339,2,    25.00,-999.000,9,-999.0000,9, -999.00,9, -999.00,9,  -999.0,9,-999.000,9,-999.000,-999.000,9,-999.000,9,   56.26,2,   16.28,2, -999.00,1, -999.00,9, -999.00,9,-999.000,-999.0000,9,-999.0000,9,-999.0000,9,-999.0000,9,-999.0000,9,-999.0000,9,-999.0000,9,-999.0000,9,-999.0000,9,  23.4766,     -999.0,9,     -999.0,9,     -999.0,9,     -999.0,9,     -999.0,9,     -999.0,9,     -999.0,9,-999.0000, -999.00
33RO20071215,        P18,      57,          1,         33,      12027,2,20080102,       2316,    -5.8330,  -108.8400,       3430,    33.6,  23.2323,  35.0427,2,  35.0448,2,    218.7,2,   219.1,2,    5.90,2,   11.50,2,    0.25,2,    0.88,2,   1.941,2,   1.208,2,   1.0378,2,  2069.0,2,  2310.6,4,   -999.0,9,  -999.00,   7.9383,2,    25.00,   0.340,2,   1.7463,2,   -1.60,2, -999.00,9,  -999.0,9,   6.977,2,   0.024,-999.000,9,-999.000,9, -999.00,9, -999.00,9, -999.00,1, -999.00,9, -999.00,9,   0.007,-999.0000,9,-999.0000,9,-999.0000,9,-999.0000,9,-999.0000,9,-999.0000,9,-999.0000,9,-999.0000,9,-999.0000,9,  23.2254,     -999.0,9,     -999.0,9,     -999.0,9,     -999.0,9,     -999.0,9,     -999.0,9,     -999.0,9,   0.0049,    0.15
33RO20071215,        P18,      57,          1,         32,      12023,2,20080102,       2316,    -5.8330,  -108.8400,       3430,    53.0,  23.0341,  35.0099,2,  35.0138,2,    219.2,2,   218.5,2,    6.20,2,   11.90,2,    0.25,2,    0.92,2,   1.967,2,   1.222,2,   1.0588,2,  2073.0,2,  2310.4,4,    457.3,6,    20.00,   7.9231,2,    25.00,-999.000,9,-999.0000,9, -999.00,9, -999.00,9,  -999.0,9,-999.000,9,-999.000,-999.000,9,-999.000,9,   54.96,2,   16.03,2, -999.00,1, -999.00,9, -999.00,9,-999.000,-999.0000,9,-999.0000,9,-999.0000,9,-999.0000,9,-999.0000,9,-999.0000,9,-999.0000,9,-999.0000,9,-999.0000,9,  23.0233,     -999.0,9,     -999.0,9,     -999.0,9,     -999.0,9,     -999.0,9,     -999.0,9,     -999.0,9,-999.0000, -999.00
33RO20071215,        P18,      57,          1,         31,      12037,2,20080102,       2316,    -5.8330,  -108.8400,       3430,    73.2,  22.9137,  35.7663,2,  35.7482,2,    213.7,2,   209.1,2,    2.50,2,    4.00,2,    0.20,2,    0.58,2,   1.947,2,   1.220,2,   0.9852,2,  2067.4,2,  2360.1,4,   -999.0,9,  -999.00,   7.9926,2,    25.00,   0.331,2,   1.7210,2,   -1.41,2, -999.00,9,  -999.0,9,   6.891,2,   0.023,-999.000,9,-999.000,9, -999.00,9, -999.00,9, -999.00,1, -999.00,9, -999.00,9,   0.007,-999.0000,9,-999.0000,9,-999.0000,9,-999.0000,9,-999.0000,9,-999.0000,9,-999.0000,9,-999.0000,9,-999.0000,9,  22.8988,     -999.0,9,     -999.0,9,     -999.0,9,     -999.0,9,     -999.0,9,     -999.0,9,     -999.0,9,   0.0048,    0.15
33RO20071215,        P18,      57,          1,         30,      12036,2,20080102,       2316,    -5.8330,  -108.8400,       3430,    93.9,  16.4544,  35.1291,2,  35.1277,2,     92.1,2,    85.0,2,    7.90,2,   18.80,2,    0.52,2,    1.65,2,   2.139,2,   1.261,2,   0.8361,2,  2183.8,2,  2312.3,4,    878.4,2,    20.00,   7.6804,2,    25.00,-999.000,9,-999.0000,9, -999.00,9, -999.00,9,  -999.0,9,-999.000,9,-999.000,-999.000,9,-999.000,9,   51.04,2,   23.08,2, -999.00,1, -999.00,9, -999.00,9,-999.000,-999.0000,9,-999.0000,9,-999.0000,9,-999.0000,9,-999.0000,9,-999.0000,9,-999.0000,9,-999.0000,9,-999.0000,9,  16.4392,     -999.0,9,     -999.0,9,     -999.0,9,     -999.0,9,     -999.0,9,     -999.0,9,     -999.0,9,-999.0000, -999.00
33RO20071215,        P18,      57,          1,         29,      12044,2,20080102,       2316,    -5.8330,  -108.8400,       3430,   117.0,  13.9210,  34.9735,2,  34.9720,2,     25.0,2,    22.6,2,   15.20,2,   26.20,2,    0.02,2,    2.22,2,   1.480,2,   0.836,2,   0.4166,2,  2230.8,2,  2302.9,4,   -999.0,9,  -999.00,   7.5098,2,    25.00,   0.214,2,   1.7607,2,    2.09,2, -999.00,9,  -999.0,9,   7.242,2,   0.025,-999.000,9,-999.000,9, -999.00,9, -999.00,9, -999.00,1, -999.00,9, -999.00,9,   0.006,-999.0000,9,-999.0000,9,-999.0000,9,-999.0000,9,-999.0000,9,-999.0000,9,-999.0000,9,-999.0000,9,-999.0000,9,  13.9042,     -999.0,9,     -999.0,9,     -999.0,9,     -999.0,9,     -999.0,9,     -999.0,9,     -999.0,9,   0.0049,    0.15
33RO20071215,        P18,      57,          1,         28,      12057,2,20080102,       2316,    -5.8330,  -108.8400,       3430,   142.7,  12.6320,  34.9180,2,  34.9179,2,     18.6,2,    18.2,2,   21.10,2,   29.80,2,    0.01,2,    2.35,2,   0.843,2,   0.474,2,   0.1867,2,  2239.9,2,  2299.8,4,   1432.0,2,    20.00,   7.4905,2,    25.00,-999.000,9,-999.0000,9, -999.00,9, -999.00,9,  -999.0,9,-999.000,9,-999.000,-999.000,9,-999.000,9,   44.65,2,   32.45,2, -999.00,1, -999.00,9, -999.00,9,-999.000,-999.0000,9,-999.0000,9,-999.0000,9,-999.0000,9,-999.0000,9,-999.0000,9,-999.0000,9,-999.0000,9,-999.0000,9,  12.6128,     -999.0,9,     -999.0,9,     -999.0,9,     -999.0,9,     -999.0,9,     -999.0,9,     -999.0,9,-999.0000, -999.00
33RO20071215,        P18,      57,          1,         27,      12026,2,20080102,       2316,    -5.8330,  -108.8400,       3430,   166.5,  12.1303,  34.8976,2,  34.8983,2,     29.9,2,    29.0,2,   22.70,2,   30.50,2,    0.00,2,    2.28,2,   0.711,2,   0.401,2,   0.1621,2,  2234.9,2,  2300.8,4,   -999.0,9,  -999.00,   7.5033,2,    25.00,   0.143,2,-999.0000,9, -999.00,9, -999.00,9,  -999.0,9,-999.000,9,-999.000,-999.000,9,-999.000,9, -999.00,9, -999.00,9, -999.00,1, -999.00,9, -999.00,9,   0.006,-999.0000,9,-999.0000,9,-999.0000,9,-999.0000,9,-999.0000,9,-999.0000,9,-999.0000,9,-999.0000,9,-999.0000,9,  12.1085,     -999.0,9,     -999.0,9,     -999.0,9,     -999.0,9,     -999.0,9,     -999.0,9,     -999.0,9,-999.0000, -999.00
33RO20071215,        P18,      57,          1,         26,      12030,2,20080102,       2316,    -5.8330,  -108.8400,       3430,   192.4,  11.8928,  34.8829,2,  34.8825,2,     34.5,2,    34.1,2,   23.40,2,   30.60,2,    0.01,2,    2.26,2,   0.665,2,   0.376,2,   0.1111,2,  2233.4,2,  2299.0,4,   1313.1,2,    20.00,   7.5030,2,    25.00,-999.000,9,-999.0000,9, -999.00,9, -999.00,9,  -999.0,9,-999.000,9,-999.000,-999.000,9,-999.000,9,   44.32,2,   33.43,2, -999.00,1, -999.00,9, -999.00,9,-999.000,-999.0000,9,-999.0000,9,-999.0000,9,-999.0000,9,-999.0000,9,-999.0000,9,-999.0000,9,-999.0000,9,-999.0000,9,  11.8679,     -999.0,9,     -999.0,9,     -999.0,9,     -999.0,9,     -999.0,9,     -999.0,9,     -999.0,9,-999.0000, -999.00
33RO20071215,        P18,      57,          1,         25,      12024,2,20080102,       2316,    -5.8330,  -108.8400,       3430,   233.8,  11.2869,  34.8398,2,  34.8394,2,     39.1,2,    39.2,2,   25.60,2,   31.40,2,    0.00,2,    2.28,2,   0.554,2,   0.312,2,   0.0571,2,  2235.3,2,  2298.3,4,   -999.0,9,  -999.00,   7.5047,2,    25.00,   0.118,2,   1.7799,2,    4.29,2, -999.00,9,  -999.0,9,   7.494,2,   0.026,-999.000,9,-999.000,9, -999.00,9, -999.00,9, -999.00,1, -999.00,9, -999.00,9,   0.006,-999.0000,9,-999.0000,9,-999.0000,9,-999.0000,9,-999.0000,9,-999.0000,9,-999.0000,9,-999.0000,9,-999.0000,9,  11.2576,     -999.0,9,     -999.0,9,     -999.0,9,     -999.0,9,     -999.0,9,     -999.0,9,     -999.0,9,   0.0050,    0.15
33RO20071215,        P18,      57,          1,         24,      12019,2,20080102,       2316,    -5.8330,  -108.8400,       3430,   283.1,  10.5945,  34.7873,2,  34.7868,2,     19.6,2,    19.9,2,   30.90,2,   33.90,2,    0.00,2,    2.51,2,   0.341,2,   0.194,2,   0.0000,2,  2256.3,2,  2296.5,4,   1563.6,2,    20.00,   7.4427,2,    25.00,   0.094,2,   1.7818,2,    4.74,2, -999.00,9,  -999.0,9,   7.484,2,   0.025,-999.000,9,-999.000,9,   44.12,2,   34.67,2, -999.00,1, -999.00,9, -999.00,9,   0.006,-999.0000,9,-999.0000,9,-999.0000,9,-999.0000,9,-999.0000,9,-999.0000,9,-999.0000,9,-999.0000,9,-999.0000,9,  10.5603,     -999.0,9,     -999.0,9,     -999.0,9,     -999.0,9,     -999.0,9,     -999.0,9,     -999.0,9,   0.0050,    0.15
33RO20071215,        P18,      57,          1,         23,      12022,2,20080102,       2316,    -5.8330,  -108.8400,       3430,   331.9,  10.1125,  34.7563,2,  34.7558,2,     16.7,2,    16.9,2,   32.90,2,   35.30,2,    0.00,2,    2.60,2,   0.236,2,   0.136,2,   0.0397,2,  2261.5,2,  2296.0,4,   -999.0,9,  -999.00,   7.4279,2,    25.00,-999.000,9,-999.0000,9, -999.00,9, -999.00,9,  -999.0,9,-999.000,9,-999.000,-999.000,9,-999.000,9,   43.54,2,   36.98,2, -999.00,1, -999.00,9, -999.00,9,-999.000,-999.0000,9,-999.0000,9,-999.0000,9,-999.0000,9,-999.0000,9,-999.0000,9,-999.0000,9,-999.0000,9,-999.0000,9,  10.0735,     -999.0,9,     -999.0,9,     -999.0,9,     -999.0,9,     -999.0,9,     -999.0,9,     -999.0,9,-999.0000, -999.00
33RO20071215,        P18,      57,          1,         22,      12015,2,20080102,       2316,    -5.8330,  -108.8400,       3430,   381.9,   9.4407,  34.7131,2,  34.7139,2,     10.5,2,    11.3,2,   36.10,2,   37.50,2,    0.00,2,    2.72,2,   0.119,2,   0.069,2,   0.0330,2,  2271.2,2,  2293.9,4,   -999.0,9,  -999.00,   7.3948,2,    25.00,   0.045,2,   1.7906,2,    5.24,2, -999.00,9,  -999.0,9,   7.596,2,   0.026,-999.000,9,-999.000,9,   43.30,2,   38.85,2, -999.00,1, -999.00,9, -999.00,9,   0.006,-999.0000,9,-999.0000,9,-999.0000,9,-999.0000,9,-999.0000,9,-999.0000,9,-999.0000,9,-999.0000,9,-999.0000,9,   9.3977,     -999.0,9,     -999.0,9,     -999.0,9,     -999.0,9,     -999.0,9,     -999.0,9,     -999.0,9,   0.0050,    0.15
33RO20071215,        P18,      57,          1,         21,      12020,2,20080102,       2316,    -5.8330,  -108.8400,       3430,   465.5,   8.1800,  34.6424,2,  34.6413,2,     13.8,2,    11.7,2,   43.30,2,   40.80,2,    0.00,2,    2.94,2,   0.035,2,   0.021,2,   0.0000,2,  2282.4,2,  2293.9,4,   1905.9,2,    20.00,   7.3720,2,    25.00,   0.021,2,   1.7995,2,    6.33,2, -999.00,9,  -999.0,9,   7.664,2,   0.026,-999.000,9,-999.000,9,   42.97,2,   42.22,2, -999.00,1, -999.00,9, -999.00,9,   0.006,-999.0000,9,-999.0000,9,-999.0000,9,-999.0000,9,-999.0000,9,-999.0000,9,-999.0000,9,-999.0000,9,-999.0000,9,   8.1317,     -999.0,9,     -999.0,9,     -999.0,9,     -999.0,9,     -999.0,9,     -999.0,9,     -999.0,9,   0.0050,    0.15
33RO20071215,        P18,      57,          1,         20,      12055,2,20080102,       2316,    -5.8330,  -108.8400,       3430,   565.3,   6.9048,  34.5876,2,  34.5881,2,     16.2,2,    17.3,2,   53.20,2,   43.80,2,    0.00,2,    3.09,2,   0.012,2,   0.005,2,   0.0000,2,  2293.8,6,  2310.0,4,   -999.0,9,  -999.00,   7.3600,2,    25.00,   0.012,2,   1.8144,2,    8.59,2, -999.00,9,  -999.0,9,   7.618,2,   0.026,-999.000,9,-999.000,9,   41.90,2,   44.99,2, -999.00,1, -999.00,9, -999.00,9,   0.006,-999.0000,9,-999.0000,9,-999.0000,9,-999.0000,9,-999.0000,9,-999.0000,9,-999.0000,9,-999.0000,9,-999.0000,9,   6.8512,     -999.0,9,     -999.0,9,     -999.0,9,     -999.0,9,     -999.0,9,     -999.0,9,     -999.0,9,   0.0051,    0.15
33RO20071215,        P18,      57,          1,         19,      12018,2,20080102,       2316,    -5.8330,  -108.8400,       3430,   667.7,   6.2053,  34.5637,2,  34.5640,2,     40.2,2,    41.2,2,   58.70,2,   42.50,2,    0.00,2,    3.00,2,   0.008,2,   0.005,2,   0.0000,2,  2287.4,2,  2308.9,4,   -999.0,9,  -999.00,   7.4024,2,    25.00,-999.000,9,-999.0000,9, -999.00,9, -999.00,9,  -999.0,9,-999.000,9,-999.000,-999.000,9,-999.000,9,   40.99,2,   44.17,2, -999.00,1, -999.00,9, -999.00,9,-999.000,-999.0000,9,-999.0000,9,-999.0000,9,-999.0000,9,-999.0000,9,-999.0000,9,-999.0000,9,-999.0000,9,-999.0000,9,   6.1451,     -999.0,9,     -999.0,9,     -999.0,9,     -999.0,9,     -999.0,9,     -999.0,9,     -999.0,9,-999.0000, -999.00
33RO20071215,        P18,      57,          1,         18,      12025,2,20080102,       2316,    -5.8330,  -108.8400,       3430,   767.7,   5.6625,  34.5510,2,  34.5515,2,     58.8,2,    59.1,2,   64.60,2,   41.50,2,    0.00,2,    2.95,2,   0.007,2,   0.004,2,   0.0429,2,  2284.6,2,  2315.3,4,   1670.8,2,    20.00,   7.4346,2,    25.00,  -0.005,2,   1.8447,2,   11.99,2, -999.00,9,  -999.0,9,   7.874,2,   0.027,-999.000,9,-999.000,9,   39.62,2,   42.98,2, -999.00,1, -999.00,9, -999.00,9,   0.005,-999.0000,9,-999.0000,9,-999.0000,9,-999.0000,9,-999.0000,9,-999.0000,9,-999.0000,9,-999.0000,9,-999.0000,9,   5.5959,     -999.0,9,     -999.0,9,     -999.0,9,     -999.0,9,     -999.0,9,     -999.0,9,     -999.0,9,   0.0052,    0.15
33RO20071215,        P18,      57,          1,         17,      12016,2,20080102,       2316,    -5.8330,  -108.8400,       3430,   861.3,   5.2555,  34.5433,2,  34.5448,2,     76.6,2,    75.8,2,   68.30,2,   40.30,2,    0.00,2,    2.86,2,   0.009,2,   0.005,2,   0.0000,2,  2281.4,2,  2300.4,4,   -999.0,9,  -999.00,   7.4737,2,    25.00,  -0.003,2,   1.8517,2,   12.92,2, -999.00,9,  -999.0,9,   7.788,2,   0.026,-999.000,9,-999.000,9,   38.44,2,   41.28,2, -999.00,1, -999.00,9, -999.00,9,   0.005,-999.0000,9,-999.0000,9,-999.0000,9,-999.0000,9,-999.0000,9,-999.0000,9,-999.0000,9,-999.0000,9,-999.0000,9,   5.1829,     -999.0,9,     -999.0,9,     -999.0,9,     -999.0,9,     -999.0,9,     -999.0,9,     -999.0,9,   0.0052,    0.15
33RO20071215,        P18,      57,          1,         16,      12051,2,20080102,       2316,    -5.8330,  -108.8400,       3430,   967.3,   4.6899,  34.5444,2,  34.5517,2,     88.9,2,    88.4,2,   77.30,2,   39.70,2,    0.00,2,    2.82,2,   0.005,2,   0.003,2,   0.0000,2,  2285.4,2,  2326.6,4,   -999.0,9,  -999.00,   7.4843,2,    25.00,  -0.005,2,   1.8566,2,   15.90,2, -999.00,9,  -999.0,9,   7.830,2,   0.027,-999.000,9,-999.000,9,   38.13,2,   40.57,2, -999.00,9, -999.00,9, -999.00,9,   0.006,-999.0000,9,-999.0000,9,-999.0000,9,-999.0000,9,-999.0000,9,-999.0000,9,-999.0000,9,-999.0000,9,-999.0000,9,   4.6117,     -999.0,9,     -999.0,9,     -999.0,9,     -999.0,9,     -999.0,9,     -999.0,9,     -999.0,9,   0.0052,    0.15
33RO20071215,        P18,      57,          1,         15,      12014,2,20080102,       2316,    -5.8330,  -108.8400,       3430,  1066.2,   4.2507,  34.5516,2,  34.5537,2,     95.8,2,    96.6,2,   85.50,2,   39.20,2,    0.00,2,    2.81,2,   0.005,2,   0.003,2,   0.0000,2,  2290.7,2,  2317.9,4,   -999.0,9,  -999.00,   7.4641,2,    25.00,  -0.001,2,   1.8913,2,   17.27,2, -999.00,9,  -999.0,9,   7.928,2,   0.027,-999.000,9,-999.000,9,   37.80,2,   40.34,2, -999.00,9, -999.00,9, -999.00,9,   0.006,-999.0000,9,-999.0000,9,-999.0000,9,-999.0000,9,-999.0000,9,-999.0000,9,-999.0000,9,-999.0000,9,-999.0000,9,   4.1673,     -999.0,9,     -999.0,9,     -999.0,9,     -999.0,9,     -999.0,9,     -999.0,9,     -999.0,9,   0.0053,    0.15
33RO20071215,        P18,      57,          1,         14,      12013,2,20080102,       2316,    -5.8330,  -108.8400,       3430,  1166.9,   3.8459,  34.5636,2,  34.5642,2,    100.8,2,   100.9,2,   94.00,2,   38.90,2,    0.00,2,    2.80,2,   0.003,2,   0.003,2,   0.0000,2,  2297.3,2,  2321.0,4,   1429.3,2,    20.00,   7.4985,2,    25.00,  -0.010,2,   1.8767,2,   19.77,2, -999.00,9,  -999.0,9,   7.908,2,   0.027,-999.000,9,-999.000,9,   37.82,2,   39.89,2, -999.00,9, -999.00,9, -999.00,9,   0.006,-999.0000,9,-999.0000,9,-999.0000,9,-999.0000,9,-999.0000,9,-999.0000,9,-999.0000,9,-999.0000,9,-999.0000,9,   3.7574,     -999.0,9,     -999.0,9,     -999.0,9,     -999.0,9,     -999.0,9,     -999.0,9,     -999.0,9,   0.0053,    0.15
33RO20071215,        P18,      57,          1,         13,      12012,2,20080102,       2316,    -5.8330,  -108.8400,       3430,  1264.0,   3.6012,  34.5719,2,  34.5723,2,    103.7,2,   103.7,2,   99.30,2,   38.90,2,    0.00,2,    2.78,2,-999.000,9,-999.000,9,-999.0000,9,  2301.4,2,  2316.0,4,   -999.0,9,  -999.00,   7.5002,2,    25.00,-999.000,9,-999.0000,9, -999.00,9, -999.00,9,  -999.0,9,-999.000,9,-999.000,-999.000,9,-999.000,9,   37.59,2,   40.25,2, -999.00,9, -999.00,9, -999.00,9,-999.000,-999.0000,9,-999.0000,9,-999.0000,9,-999.0000,9,-999.0000,9,-999.0000,9,-999.0000,9,-999.0000,9,-999.0000,9,   3.5068,     -999.0,9,     -999.0,9,     -999.0,9,     -999.0,9,     -999.0,9,     -999.0,9,     -999.0,9,-999.0000, -999.00
33RO20071215,        P18,      57,          1,         12,      12031,2,20080102,       2316,    -5.8330,  -108.8400,       3430,  1362.8,   3.3125,  34.5853,2,  34.5858,2,    103.3,2,   103.7,2,  107.40,2,   39.10,2,    0.00,2,    2.81,2,   0.001,2,   0.000,2,   0.0000,2,  2311.0,2,  2328.6,4,   -999.0,9,  -999.00,   7.4948,2,    25.00,-999.000,9,-999.0000,9, -999.00,9, -999.00,9,  -999.0,9,-999.000,9,-999.000,-999.000,9,-999.000,9,   37.34,2,   40.34,2, -999.00,9, -999.00,9, -999.00,9,-999.000,-999.0000,9,-999.0000,9,-999.0000,9,-999.0000,9,-999.0000,9,-999.0000,9,-999.0000,9,-999.0000,9,-999.0000,9,   3.2127,     -999.0,9,     -999.0,9,     -999.0,9,     -999.0,9,     -999.0,9,     -999.0,9,     -999.0,9,-999.0000, -999.00