BOTTLE,20220818CCHSIOAMB
EXPOCODE,SECT_ID,STNNBR,CASTNO,SAMPNO,BTLNBR,BTLNBR_FLAG_W,DATE,TIME,LATITUDE,LONGITUDE,DEPTH,CTDPRS,CTDTMP,CTDSAL,CTDSAL_FLAG_W,SALNTY,SALNTY_FLAG_W,CTDOXY,CTDOXY_FLAG_W,OXYGEN,OXYGEN_FLAG_W,SILCAT,SILCAT_FLAG_W,NITRAT,NITRAT_FLAG_W,NITRIT,NITRIT_FLAG_W,PHSPHT,PHSPHT_FLAG_W,CFC-11,CFC-11_FLAG_W,CFC-12,CFC-12_FLAG_W,SF6,SF6_FLAG_W,TCARBN,TCARBN_FLAG_W,ALKALI,ALKALI_FLAG_W,FCO2,FCO2_FLAG_W,FCO2TMP,PH_SWS,PH_SWS_FLAG_W,PH_TMP,TRITUM,TRITUM_FLAG_W,HELIUM,HELIUM_FLAG_W,DELHE3,DELHE3_FLAG_W,DELC13,DELC13_FLAG_W,DELC14,DELC14_FLAG_W,NEON,NEON_FLAG_W,NEONER,CCL4,CCL4_FLAG_W,POC,POC_FLAG_W,DOC,DOC_FLAG_W,TDN,TDN_FLAG_W,DON,DON_FLAG_W,CHLORA,CHLORA_FLAG_W,ARGON,ARGON_FLAG_W,TRITER,CDOM325,CDOM325_FLAG_W,CDOM340,CDOM340_FLAG_W,CDOM380,CDOM380_FLAG_W,CDOM412,CDOM412_FLAG_W,CDOM443,CDOM443_FLAG_W,CDOM490,CDOM490_FLAG_W,CDOM555,CDOM555_FLAG_W,CDOMSL,CDOMSL_FLAG_W,CDOMSN,CDOMSN_FLAG_W,THETA,D18O_NO3,D18O_NO3_FLAG_W,CDOM2C,CDOM2C_FLAG_W,CDOM3C,CDOM3C_FLAG_W,LAB_DEN,LAB_DEN_FLAG_W,DELSI30,DELSI30_FLAG_W,N2,N2_FLAG_W,D15N_NO3,D15N_NO3_FLAG_W,HELIER,DELHER
,,,,,,,,,,,METERS,DBAR,ITS-90,PSS-78,,PSS-78,,UMOL/KG,,UMOL/KG,,UMOL/KG,,UMOL/KG,,UMOL/KG,,UMOL/KG,,PMOL/KG,,PMOL/KG,,FMOL/KG,,UMOL/KG,,UMOL/KG,,UATM,,DEG C,,,DEG C,TU,,NMOL/KG,,PERCNT,,/MILLE,,/MILLE,,NMOL/KG,,NMOL/KG,PMOL/KG,,UG/KG,,UMOL/KG,,UMOL/KG,,UMOL/KG,,UG/KG,,UMOL/KG,,TU,1/M,,1/M,,1/M,,1/M,,1/M,,1/M,,1/M,,1/NM,,1/NM,,DEG C,/MILLE,,,,,,,,/MILLE,,UMOL/KG,,/MILLE,,NMOL/KG,PERCNT
33RO20071215,        S4P,     174,          1,         24,      11024,2,20080216,       2111,   -67.0007,  -105.5497,       4708,     4.2,   1.8453,  33.9183,2,  33.9182,2,    326.9,2,   327.0,2,    8.60,2,   25.10,2,    0.21,2,    1.70,2,   5.715,2,   3.179,2,   2.1676,2,  2145.5,6,  2284.0,2,   -999.0,9,  -999.00,   7.7315,2,    25.00,-999.000,9,-999.0000,9, -999.00,9,    1.49,2,  -999.0,1,-999.000,9,-999.000,-999.000,9,-999.000,9, -999.00,9, -999.00,9, -999.00,9, -999.00,9, -999.00,9,-999.000,-999.0000,9,-999.0000,9,-999.0000,9,-999.0000,9,-999.0000,9,-999.0000,9,-999.0000,9,-999.0000,9,-999.0000,9,   1.8450,     -999.0,9,     -999.0,9,     -999.0,9,     -999.0,9,     -999.0,9,     -999.0,9,     -999.0,9,-999.0000, -999.00
33RO20071215,        S4P,     174,          1,         23,      11023,2,20080216,       2111,   -67.0007,  -105.5497,       4708,    20.3,   1.8375,  33.9185,2,  33.9188,2,    327.6,2,   326.6,2,    8.60,2,   25.10,2,    0.21,2,    1.70,2,-999.000,9,-999.000,9,-999.0000,9,  2145.5,2,  2283.9,2,   -999.0,9,  -999.00,   7.7361,2,    25.00,-999.000,9,-999.0000,9, -999.00,9, -999.00,9,  -999.0,9,-999.000,9,-999.000,-999.000,9,-999.000,9, -999.00,9, -999.00,9, -999.00,9, -999.00,9, -999.00,1,-999.000,-999.0000,9,-999.0000,9,-999.0000,9,-999.0000,9,-999.0000,9,-999.0000,9,-999.0000,9,-999.0000,9,-999.0000,9,   1.8365,     -999.0,1,     -999.0,9,     -999.0,9,     -999.0,9,     -999.0,9,     -999.0,1,     -999.0,9,-999.0000, -999.00
33RO20071215,        S4P,     174,          1,         22,      11022,2,20080216,       2111,   -67.0007,  -105.5497,       4708,    40.9,   1.8384,  33.9185,2,  33.9186,2,    328.6,2,   326.4,2,    8.70,2,   25.00,2,    0.21,2,    1.70,2,-999.000,9,-999.000,9,-999.0000,9,  2144.9,2,  2283.3,2,   -999.0,9,  -999.00,   7.7383,2,    25.00,-999.000,9,-999.0000,9, -999.00,9, -999.00,9,  -999.0,9,-999.000,9,-999.000,-999.000,9,-999.000,9, -999.00,9, -999.00,9, -999.00,9, -999.00,9, -999.00,9,-999.000,-999.0000,9,-999.0000,9,-999.0000,9,-999.0000,9,-999.0000,9,-999.0000,9,-999.0000,9,-999.0000,9,-999.0000,9,   1.8363,     -999.0,9,     -999.0,9,     -999.0,9,     -999.0,9,     -999.0,9,     -999.0,9,     -999.0,9,-999.0000, -999.00
33RO20071215,        S4P,     174,          1,         21,      11021,2,20080216,       2111,   -67.0007,  -105.5497,       4708,    66.8,   1.7469,  33.9189,2,  33.9209,2,    325.3,2,   327.0,2,    9.50,2,   25.10,2,    0.21,2,    1.73,2,   5.782,2,   3.212,2,   2.1963,2,  2146.6,2,  2284.0,2,   -999.0,9,  -999.00,   7.7350,2,    25.00,-999.000,9,-999.0000,9, -999.00,9, -999.00,9,  -999.0,9,-999.000,9,-999.000,-999.000,9,-999.000,9, -999.00,9, -999.00,9, -999.00,9, -999.00,9, -999.00,9,-999.000,-999.0000,9,-999.0000,9,-999.0000,9,-999.0000,9,-999.0000,9,-999.0000,9,-999.0000,9,-999.0000,9,-999.0000,9,   1.7436,     -999.0,9,     -999.0,9,     -999.0,9,     -999.0,9,     -999.0,9,     -999.0,9,     -999.0,9,-999.0000, -999.00
33RO20071215,        S4P,     174,          1,         20,      11020,2,20080216,       2111,   -67.0007,  -105.5497,       4708,    91.0,   0.3807,  33.9631,2,  33.9674,2,    332.5,2,   333.1,2,   26.30,2,   27.30,2,    0.18,2,    2.03,2,   6.082,2,   3.328,2,   2.2377,2,  2164.2,2,  2284.2,2,   -999.0,9,  -999.00,   7.6967,2,    25.00,-999.000,9,-999.0000,9, -999.00,9, -999.00,9,  -999.0,9,-999.000,9,-999.000,-999.000,9,-999.000,9, -999.00,9, -999.00,9, -999.00,9, -999.00,9, -999.00,9,-999.000,-999.0000,9,-999.0000,9,-999.0000,9,-999.0000,9,-999.0000,9,-999.0000,9,-999.0000,9,-999.0000,9,-999.0000,9,   0.3773,     -999.0,9,     -999.0,9,     -999.0,9,     -999.0,9,     -999.0,9,     -999.0,9,     -999.0,9,-999.0000, -999.00
33RO20071215,        S4P,     174,          1,         19,      11019,2,20080216,       2111,   -67.0007,  -105.5497,       4708,   132.3,   0.1015,  34.0112,2,  34.0126,2,    324.8,2,   324.8,2,   33.10,2,   29.60,2,    0.21,2,    2.08,2,   5.809,2,   3.206,2,   2.1907,2,  2173.0,2,  2284.5,2,   -999.0,9,  -999.00,   7.6688,2,    25.00,-999.000,9,-999.0000,9, -999.00,9, -999.00,9,  -999.0,9,-999.000,9,-999.000,-999.000,9,-999.000,9, -999.00,9, -999.00,9, -999.00,9, -999.00,9, -999.00,9,-999.000,-999.0000,9,-999.0000,9,-999.0000,9,-999.0000,9,-999.0000,9,-999.0000,9,-999.0000,9,-999.0000,9,-999.0000,9,   0.0967,     -999.0,9,     -999.0,9,     -999.0,9,     -999.0,9,     -999.0,9,     -999.0,9,     -999.0,9,-999.0000, -999.00
33RO20071215,        S4P,     174,          1,         18,      11018,2,20080216,       2111,   -67.0007,  -105.5497,       4708,   199.9,   0.1051,  34.0536,2,  34.0560,2,    314.5,2,   312.2,2,   38.10,2,   30.60,2,    0.02,2,    2.11,2,   5.493,2,   3.041,2,   2.0185,2,  2182.6,2,  2288.1,2,   -999.0,9,  -999.00,   7.6533,2,    25.00,-999.000,9,-999.0000,9, -999.00,9, -999.00,9,  -999.0,9,-999.000,9,-999.000,-999.000,9,-999.000,9, -999.00,9, -999.00,9, -999.00,9, -999.00,9, -999.00,9,-999.000,-999.0000,9,-999.0000,9,-999.0000,9,-999.0000,9,-999.0000,9,-999.0000,9,-999.0000,9,-999.0000,9,-999.0000,9,   0.0977,     -999.0,9,     -999.0,9,     -999.0,9,     -999.0,9,     -999.0,9,     -999.0,9,     -999.0,9,-999.0000, -999.00
33RO20071215,        S4P,     174,          1,         17,      11017,2,20080216,       2111,   -67.0007,  -105.5497,       4708,   275.6,   1.6349,  34.2808,2,  34.2782,2,    233.2,2,   229.0,2,   53.50,2,   33.80,2,    0.01,2,    2.32,2,   3.043,2,   1.617,2,   0.8695,2,  2219.0,2,  2306.9,2,   -999.0,9,  -999.00,   7.5684,2,    25.00,-999.000,9,-999.0000,9, -999.00,9, -999.00,9,  -999.0,9,-999.000,9,-999.000,-999.000,9,-999.000,9, -999.00,9, -999.00,9, -999.00,9, -999.00,9, -999.00,9,-999.000,-999.0000,9,-999.0000,9,-999.0000,9,-999.0000,9,-999.0000,9,-999.0000,9,-999.0000,9,-999.0000,9,-999.0000,9,   1.6210,     -999.0,9,     -999.0,9,     -999.0,9,     -999.0,9,     -999.0,9,     -999.0,9,     -999.0,9,-999.0000, -999.00
33RO20071215,        S4P,     174,          1,         16,      11016,2,20080216,       2111,   -67.0007,  -105.5497,       4708,   366.0,   2.1139,  34.4207,2,  34.4198,2,    193.6,2,   192.7,2,   63.90,2,   34.90,2,    0.01,2,    2.39,2,   1.707,2,   0.865,2,   0.4784,2,  2239.2,2,  2351.0,4,   -999.0,9,  -999.00,   7.5588,2,    25.00,-999.000,9,-999.0000,9, -999.00,9, -999.00,9,  -999.0,9,-999.000,9,-999.000,-999.000,9,-999.000,9, -999.00,9, -999.00,9, -999.00,9, -999.00,9, -999.00,9,-999.000,-999.0000,9,-999.0000,9,-999.0000,9,-999.0000,9,-999.0000,9,-999.0000,9,-999.0000,9,-999.0000,9,-999.0000,9,   2.0936,     -999.0,9,     -999.0,9,     -999.0,9,     -999.0,9,     -999.0,9,     -999.0,9,     -999.0,9,-999.0000, -999.00
33RO20071215,        S4P,     174,          1,         15,      11015,2,20080216,       2111,   -67.0007,  -105.5497,       4708,   467.3,   2.1846,  34.5089,2,  34.5065,2,    179.9,2,   180.0,2,   70.40,2,   34.90,2,    0.01,2,    2.40,2,   1.107,2,   0.555,2,   0.2723,2,  2247.9,2,  2327.0,2,   -999.0,9,  -999.00,   7.5548,2,    25.00,-999.000,9,-999.0000,9, -999.00,9, -999.00,9,  -999.0,9,-999.000,9,-999.000,-999.000,9,-999.000,9, -999.00,9, -999.00,9, -999.00,9, -999.00,9, -999.00,9,-999.000,-999.0000,9,-999.0000,9,-999.0000,9,-999.0000,9,-999.0000,9,-999.0000,9,-999.0000,9,-999.0000,9,-999.0000,9,   2.1579,     -999.0,9,     -999.0,9,     -999.0,9,     -999.0,9,     -999.0,9,     -999.0,9,     -999.0,9,-999.0000, -999.00
33RO20071215,        S4P,     174,          1,         14,      11014,2,20080216,       2111,   -67.0007,  -105.5497,       4708,   599.8,   2.0970,  34.5734,2,  34.5734,2,    177.0,2,   177.4,2,   75.50,2,   34.40,2,    0.00,2,    2.37,2,   0.846,2,   0.425,2,   0.2517,2,  2253.6,6,  2328.7,2,   -999.0,9,  -999.00,   7.5579,2,    25.00,-999.000,9,-999.0000,9, -999.00,9, -999.00,9,  -999.0,9,-999.000,9,-999.000,-999.000,9,-999.000,9, -999.00,9, -999.00,9, -999.00,9, -999.00,9, -999.00,9,-999.000,-999.0000,9,-999.0000,9,-999.0000,9,-999.0000,9,-999.0000,9,-999.0000,9,-999.0000,9,-999.0000,9,-999.0000,9,   2.0624,     -999.0,9,     -999.0,9,     -999.0,9,     -999.0,9,     -999.0,9,     -999.0,9,     -999.0,9,-999.0000, -999.00
33RO20071215,        S4P,     174,          1,         13,      11013,2,20080216,       2111,   -67.0007,  -105.5497,       4708,   750.7,   2.1363,  34.6500,2,  34.6497,2,    175.4,2,   176.0,2,   79.70,2,   33.50,2,    0.00,2,    2.30,2,   0.433,2,   0.214,2,   0.1008,2,  2253.7,2,  2336.8,2,   -999.0,9,  -999.00,   7.5728,2,    25.00,-999.000,9,-999.0000,9, -999.00,9, -999.00,9,  -999.0,9,-999.000,9,-999.000,-999.000,9,-999.000,9, -999.00,9, -999.00,9, -999.00,9, -999.00,9, -999.00,9,-999.000,-999.0000,9,-999.0000,9,-999.0000,9,-999.0000,9,-999.0000,9,-999.0000,9,-999.0000,9,-999.0000,9,-999.0000,9,   2.0917,     -999.0,9,     -999.0,9,     -999.0,9,     -999.0,9,     -999.0,9,     -999.0,9,     -999.0,9,-999.0000, -999.00
33RO20071215,        S4P,     174,          1,         12,      11012,2,20080216,       2111,   -67.0007,  -105.5497,       4708,   900.9,   2.0724,  34.6894,2,  34.6875,2,    177.7,2,   178.0,2,   82.70,2,   32.80,2,    0.00,2,    2.26,2,-999.000,9,-999.000,9,-999.0000,9,  2254.5,2,  2338.7,2,   -999.0,9,  -999.00,   7.5829,2,    25.00,-999.000,9,-999.0000,9, -999.00,9, -999.00,9,  -999.0,9,-999.000,9,-999.000,-999.000,9,-999.000,9, -999.00,9, -999.00,9, -999.00,9, -999.00,9, -999.00,9,-999.000,-999.0000,9,-999.0000,9,-999.0000,9,-999.0000,9,-999.0000,9,-999.0000,9,-999.0000,9,-999.0000,9,-999.0000,9,   2.0182,     -999.0,9,     -999.0,9,     -999.0,9,     -999.0,9,     -999.0,9,     -999.0,9,     -999.0,9,-999.0000, -999.00
33RO20071215,        S4P,     174,          1,         11,      11010,2,20080216,       2111,   -67.0007,  -105.5497,       4708,  1050.7,   1.9890,  34.7127,2,  34.7115,2,    181.3,2,   181.9,2,   85.40,6,   32.30,6,    0.00,6,    2.22,2,   0.214,2,   0.103,2,   0.0000,2,  2253.9,2,  2346.5,2,   -999.0,9,  -999.00,   7.5939,2,    25.00,-999.000,9,-999.0000,9, -999.00,9, -999.00,9,  -999.0,9,-999.000,9,-999.000,-999.000,9,-999.000,9, -999.00,9, -999.00,9, -999.00,9, -999.00,9, -999.00,9,-999.000,-999.0000,9,-999.0000,9,-999.0000,9,-999.0000,9,-999.0000,9,-999.0000,9,-999.0000,9,-999.0000,9,-999.0000,9,   1.9252,     -999.0,9,     -999.0,9,     -999.0,9,     -999.0,9,     -999.0,9,     -999.0,9,     -999.0,9,-999.0000, -999.00
33RO20071215,        S4P,     174,          1,         10,      11011,2,20080216,       2111,   -67.0007,  -105.5497,       4708,  1233.4,   1.8629,  34.7268,2,  34.7251,2,    185.4,2,   186.0,2,   89.10,2,   31.90,2,    0.00,2,    2.20,2,   0.192,2,   0.090,2,   0.0493,2,  2254.6,2,  2327.0,4,   -999.0,9,  -999.00,   7.5983,2,    25.00,-999.000,9,-999.0000,9, -999.00,9, -999.00,9,  -999.0,9,-999.000,9,-999.000,-999.000,9,-999.000,9, -999.00,9, -999.00,9, -999.00,9, -999.00,9, -999.00,9,-999.000,-999.0000,9,-999.0000,9,-999.0000,9,-999.0000,9,-999.0000,9,-999.0000,9,-999.0000,9,-999.0000,9,-999.0000,9,   1.7873,     -999.0,9,     -999.0,9,     -999.0,9,     -999.0,9,     -999.0,9,     -999.0,9,     -999.0,9,-999.0000, -999.00
33RO20071215,        S4P,     174,          1,          9,      11009,2,20080216,       2111,   -67.0007,  -105.5497,       4708,  1499.1,   1.6434,  34.7347,2,  34.7329,2,    190.1,2,   191.1,2,   95.20,2,   31.80,2,    0.00,2,    2.18,2,   0.151,2,   0.074,2,   0.0000,2,  2255.5,2,  2351.0,2,   -999.0,9,  -999.00,   7.6070,2,    25.00,-999.000,9,-999.0000,9, -999.00,9, -999.00,9,  -999.0,9,-999.000,9,-999.000,-999.000,9,-999.000,9, -999.00,9, -999.00,9, -999.00,9, -999.00,9, -999.00,9,-999.000,-999.0000,9,-999.0000,9,-999.0000,9,-999.0000,9,-999.0000,9,-999.0000,9,-999.0000,9,-999.0000,9,-999.0000,9,   1.5509,     -999.0,9,     -999.0,9,     -999.0,9,     -999.0,9,     -999.0,9,     -999.0,9,     -999.0,9,-999.0000, -999.00
33RO20071215,        S4P,     174,          1,          8,      11008,2,20080216,       2111,   -67.0007,  -105.5497,       4708,  1865.7,   1.3736,  34.7321,2,  34.7304,2,    194.0,2,   194.3,2,  104.00,2,   32.00,2,    0.00,2,    2.21,2,   0.104,2,   0.051,2,   0.0000,2,  2258.2,2,  2352.1,2,   -999.0,9,  -999.00,   7.6132,2,    25.00,-999.000,9,-999.0000,9, -999.00,9, -999.00,9,  -999.0,9,-999.000,9,-999.000,-999.000,9,-999.000,9, -999.00,9, -999.00,9, -999.00,9, -999.00,9, -999.00,9,-999.000,-999.0000,9,-999.0000,9,-999.0000,9,-999.0000,9,-999.0000,9,-999.0000,9,-999.0000,9,-999.0000,9,-999.0000,9,   1.2569,     -999.0,9,     -999.0,9,     -999.0,9,     -999.0,9,     -999.0,9,     -999.0,9,     -999.0,9,-999.0000, -999.00
33RO20071215,        S4P,     174,          1,          7,      11007,2,20080216,       2111,   -67.0007,  -105.5497,       4708,  2266.5,   1.1456,  34.7251,2,  34.7239,2,    198.6,2,   198.3,2,  111.80,2,   32.30,2,    0.00,2,    2.22,2,   0.080,2,   0.041,2,   0.0419,2,  2259.9,2,  2354.7,2,   -999.0,9,  -999.00,   7.6020,2,    25.00,-999.000,9,-999.0000,9, -999.00,9, -999.00,9,  -999.0,9,-999.000,9,-999.000,   0.092,3,-999.000,9, -999.00,9, -999.00,9, -999.00,9, -999.00,9, -999.00,9,-999.000,-999.0000,9,-999.0000,9,-999.0000,9,-999.0000,9,-999.0000,9,-999.0000,9,-999.0000,9,-999.0000,9,-999.0000,9,   1.0006,     -999.0,9,     -999.0,9,     -999.0,9,     -999.0,9,     -999.0,9,     -999.0,9,     -999.0,9,-999.0000, -999.00
33RO20071215,        S4P,     174,          1,          6,      11006,2,20080216,       2111,   -67.0007,  -105.5497,       4708,  2667.1,   0.9288,  34.7173,2,  34.7160,2,    202.4,2,   202.4,2,  119.10,2,   32.50,2,    0.00,2,    2.24,2,   0.100,2,   0.050,2,   0.0000,2,  2261.1,6,  2355.3,2,   -999.0,9,  -999.00,   7.6046,2,    25.00,-999.000,9,-999.0000,9, -999.00,9, -999.00,9,  -999.0,9,-999.000,9,-999.000,   0.136,3,-999.000,9, -999.00,9, -999.00,9, -999.00,9, -999.00,9, -999.00,9,-999.000,-999.0000,9,-999.0000,9,-999.0000,9,-999.0000,9,-999.0000,9,-999.0000,9,-999.0000,9,-999.0000,9,-999.0000,9,   0.7540,     -999.0,9,     -999.0,9,     -999.0,9,     -999.0,9,     -999.0,9,     -999.0,9,     -999.0,9,-999.0000, -999.00
33RO20071215,        S4P,     174,          1,          5,      11005,2,20080216,       2111,   -67.0007,  -105.5497,       4708,  3132.9,   0.7546,  34.7112,2,  34.7095,2,    206.3,2,   205.7,2,  125.00,2,   32.70,2,    0.00,2,    2.25,2,   0.131,6,   0.066,6,   0.0148,6,  2261.2,2,  2355.2,2,   -999.0,9,  -999.00,   7.6101,2,    25.00,-999.000,9,-999.0000,9, -999.00,9, -999.00,9,  -999.0,9,-999.000,9,-999.000,   0.132,3,-999.000,9, -999.00,9, -999.00,9, -999.00,9, -999.00,9, -999.00,9,-999.000,-999.0000,9,-999.0000,9,-999.0000,9,-999.0000,9,-999.0000,9,-999.0000,9,-999.0000,9,-999.0000,9,-999.0000,9,   0.5420,     -999.0,9,     -999.0,9,     -999.0,9,     -999.0,9,     -999.0,9,     -999.0,9,     -999.0,9,-999.0000, -999.00
33RO20071215,        S4P,     174,          1,          4,      11004,2,20080216,       2111,   -67.0007,  -105.5497,       4708,  3637.6,   0.5442,  34.7074,2,  34.7062,2,    210.6,2,   210.5,2,  129.90,2,   32.90,2,    0.01,2,    2.27,2,-999.000,9,-999.000,9,-999.0000,9,  2261.4,2,  2284.0,4,   -999.0,9,  -999.00,   7.5962,2,    25.00,-999.000,9,-999.0000,9, -999.00,9, -999.00,9,  -999.0,9,-999.000,9,-999.000,-999.000,9,-999.000,9, -999.00,9, -999.00,9, -999.00,9, -999.00,9, -999.00,9,-999.000,-999.0000,9,-999.0000,9,-999.0000,9,-999.0000,9,-999.0000,9,-999.0000,9,-999.0000,9,-999.0000,9,-999.0000,9,   0.2887,     -999.0,9,     -999.0,9,     -999.0,9,     -999.0,9,     -999.0,9,     -999.0,9,     -999.0,9,-999.0000, -999.00
33RO20071215,        S4P,     174,          1,          3,      11003,2,20080216,       2111,   -67.0007,  -105.5497,       4708,  4132.1,   0.4308,  34.7058,2,  34.7051,2,    213.9,2,   213.2,2,  134.60,6,   33.00,6,    0.00,6,    2.27,2,   0.188,2,   0.095,2,   0.0000,2,  2262.1,2,  2283.3,4,   -999.0,9,  -999.00,   7.6007,2,    25.00,-999.000,9,-999.0000,9, -999.00,9, -999.00,9,  -999.0,9,-999.000,9,-999.000,   0.195,3,-999.000,9, -999.00,9, -999.00,9, -999.00,9, -999.00,9, -999.00,9,-999.000,-999.0000,9,-999.0000,9,-999.0000,9,-999.0000,9,-999.0000,9,-999.0000,9,-999.0000,9,-999.0000,9,-999.0000,9,   0.1284,     -999.0,9,     -999.0,9,     -999.0,9,     -999.0,9,     -999.0,9,     -999.0,9,     -999.0,9,-999.0000, -999.00
33RO20071215,        S4P,     174,          1,          2,      11002,2,20080216,       2111,   -67.0007,  -105.5497,       4708,  4633.9,   0.3920,  34.7044,2,  34.7031,2,    215.5,2,   215.6,2,  139.70,6,   33.00,6,    0.01,6,    2.28,2,   0.270,2,   0.134,2,   0.0336,2,  2261.5,2,  2359.8,2,   -999.0,9,  -999.00,   7.5964,2,    25.00,-999.000,9,-999.0000,9, -999.00,9, -999.00,9,  -999.0,9,-999.000,9,-999.000,   0.238,3,-999.000,9, -999.00,9, -999.00,9, -999.00,9, -999.00,9, -999.00,9,-999.000,-999.0000,9,-999.0000,9,-999.0000,9,-999.0000,9,-999.0000,9,-999.0000,9,-999.0000,9,-999.0000,9,-999.0000,9,   0.0368,     -999.0,9,     -999.0,9,     -999.0,9,     -999.0,9,     -999.0,9,     -999.0,9,     -999.0,9,-999.0000, -999.00
33RO20071215,        S4P,     174,          1,          1,      11001,2,20080216,       2111,   -67.0007,  -105.5497,       4708,  4791.6,   0.3938,  34.7038,2,  34.7030,2,    216.3,2,   214.4,2,  145.90,2,   33.10,2,    0.02,2,    2.28,2,   0.320,2,   0.158,2,   0.0377,2,  2263.6,6,  2363.0,2,   -999.0,9,  -999.00,   7.6020,2,    25.00,-999.000,9,-999.0000,9, -999.00,9, -999.00,9,  -999.0,9,-999.000,9,-999.000,   0.249,3,-999.000,9, -999.00,9, -999.00,9, -999.00,9, -999.00,9, -999.00,9,-999.000,-999.0000,9,-999.0000,9,-999.0000,9,-999.0000,9,-999.0000,9,-999.0000,9,-999.0000,9,-999.0000,9,-999.0000,9,   0.0209,     -999.0,9,     -999.0,9,     -999.0,9,     -999.0,9,     -999.0,9,     -999.0,9,     -999.0,9,-999.0000, -999.00