BOTTLE,20220818CCHSIOAMB
EXPOCODE,SECT_ID,STNNBR,CASTNO,SAMPNO,BTLNBR,BTLNBR_FLAG_W,DATE,TIME,LATITUDE,LONGITUDE,DEPTH,CTDPRS,CTDTMP,CTDSAL,CTDSAL_FLAG_W,SALNTY,SALNTY_FLAG_W,CTDOXY,CTDOXY_FLAG_W,OXYGEN,OXYGEN_FLAG_W,SILCAT,SILCAT_FLAG_W,NITRAT,NITRAT_FLAG_W,NITRIT,NITRIT_FLAG_W,PHSPHT,PHSPHT_FLAG_W,CFC-11,CFC-11_FLAG_W,CFC-12,CFC-12_FLAG_W,SF6,SF6_FLAG_W,TCARBN,TCARBN_FLAG_W,ALKALI,ALKALI_FLAG_W,FCO2,FCO2_FLAG_W,FCO2TMP,PH_SWS,PH_SWS_FLAG_W,PH_TMP,TRITUM,TRITUM_FLAG_W,HELIUM,HELIUM_FLAG_W,DELHE3,DELHE3_FLAG_W,DELC13,DELC13_FLAG_W,DELC14,DELC14_FLAG_W,NEON,NEON_FLAG_W,NEONER,CCL4,CCL4_FLAG_W,POC,POC_FLAG_W,DOC,DOC_FLAG_W,TDN,TDN_FLAG_W,DON,DON_FLAG_W,CHLORA,CHLORA_FLAG_W,ARGON,ARGON_FLAG_W,TRITER,CDOM325,CDOM325_FLAG_W,CDOM340,CDOM340_FLAG_W,CDOM380,CDOM380_FLAG_W,CDOM412,CDOM412_FLAG_W,CDOM443,CDOM443_FLAG_W,CDOM490,CDOM490_FLAG_W,CDOM555,CDOM555_FLAG_W,CDOMSL,CDOMSL_FLAG_W,CDOMSN,CDOMSN_FLAG_W,THETA,D18O_NO3,D18O_NO3_FLAG_W,CDOM2C,CDOM2C_FLAG_W,CDOM3C,CDOM3C_FLAG_W,LAB_DEN,LAB_DEN_FLAG_W,DELSI30,DELSI30_FLAG_W,N2,N2_FLAG_W,D15N_NO3,D15N_NO3_FLAG_W,HELIER,DELHER
,,,,,,,,,,,METERS,DBAR,ITS-90,PSS-78,,PSS-78,,UMOL/KG,,UMOL/KG,,UMOL/KG,,UMOL/KG,,UMOL/KG,,UMOL/KG,,PMOL/KG,,PMOL/KG,,FMOL/KG,,UMOL/KG,,UMOL/KG,,UATM,,DEG C,,,DEG C,TU,,NMOL/KG,,PERCNT,,/MILLE,,/MILLE,,NMOL/KG,,NMOL/KG,PMOL/KG,,UG/KG,,UMOL/KG,,UMOL/KG,,UMOL/KG,,UG/KG,,UMOL/KG,,TU,1/M,,1/M,,1/M,,1/M,,1/M,,1/M,,1/M,,1/NM,,1/NM,,DEG C,/MILLE,,,,,,,,/MILLE,,UMOL/KG,,/MILLE,,NMOL/KG,PERCNT
33RO20071215,        P18,     157,          1,         24,      11024,2,20080209,       1632,   -61.7503,  -103.0003,       4900,     5.0,   3.7763,  33.9229,2,  33.9258,2,    321.0,2,   320.9,2,    5.10,2,   24.30,2,    0.22,2,    1.60,2,   5.183,2,   2.939,2,   2.0622,2,  2132.3,6,  2280.6,2,   -999.0,9,  -999.00,   7.7483,2,    25.00,-999.000,9,-999.0000,9, -999.00,9, -999.00,9,  -999.0,9,-999.000,9,-999.000,-999.000,9,-999.000,9,   46.11,2,   28.84,2, -999.00,9,    0.17,2, -999.00,9,-999.000,   0.0770,2,   0.0486,2,   0.0223,2,   0.0157,2,   0.0077,2,   0.0014,2,  -0.0019,4,   0.0171,2,   0.0217,2,   3.7760,     -999.0,9,     -999.0,1,     -999.0,9,     -999.0,1,     -999.0,9,     -999.0,9,     -999.0,9,-999.0000, -999.00
33RO20071215,        P18,     157,          1,         23,      11023,2,20080209,       1632,   -61.7503,  -103.0003,       4900,    24.5,   3.7529,  33.9284,2,  33.9299,2,    320.4,2,   321.1,2,    5.10,2,   24.30,2,    0.22,2,    1.61,2,-999.000,9,-999.000,9,-999.0000,9,  2133.2,2,  2281.6,2,   -999.0,9,  -999.00,   7.7497,2,    25.00,-999.000,9,-999.0000,9, -999.00,9, -999.00,9,  -999.0,9,-999.000,9,-999.000,-999.000,9,-999.000,9,   44.93,2,   28.59,2, -999.00,9,    0.16,2, -999.00,9,-999.000,   0.0785,2,   0.0500,2,   0.0236,2,   0.0169,2,   0.0088,2,   0.0020,2,  -0.0017,4,   0.0164,2,   0.0207,2,   3.7513,     -999.0,9,     -999.0,1,     -999.0,9,     -999.0,1,     -999.0,9,     -999.0,9,     -999.0,9,-999.0000, -999.00
33RO20071215,        P18,     157,          1,         22,      11022,2,20080209,       1632,   -61.7503,  -103.0003,       4900,    50.3,   3.7364,  33.9274,2,  33.9315,2,    319.8,2,   320.9,2,    5.30,2,   24.40,2,    0.22,2,    1.62,2,   5.178,2,   2.920,2,   2.1181,2,  2131.7,2,  2281.2,2,   -999.0,9,  -999.00,   7.7510,2,    25.00,-999.000,9,-999.0000,9, -999.00,9, -999.00,9,  -999.0,9,-999.000,9,-999.000,-999.000,9,-999.000,9,   44.41,2,   28.85,2, -999.00,9,    0.18,2, -999.00,9,-999.000,   0.0825,2,   0.0532,2,   0.0261,2,   0.0187,2,   0.0101,2,   0.0027,2,  -0.0012,4,   0.0158,2,   0.0194,2,   3.7331,     -999.0,9,     -999.0,1,     -999.0,1,     -999.0,9,     -999.0,9,     -999.0,9,     -999.0,9,-999.0000, -999.00
33RO20071215,        P18,     157,          1,         21,      11021,2,20080209,       1632,   -61.7503,  -103.0003,       4900,    72.3,   2.1716,  33.9513,2,  33.9537,2,    324.1,2,   326.3,2,   14.10,2,   25.70,2,    0.19,2,    1.91,2,-999.000,9,-999.000,9,-999.0000,9,  2147.0,2,  2283.4,2,   -999.0,9,  -999.00,   7.7209,2,    25.00,-999.000,9,-999.0000,9, -999.00,9, -999.00,9,  -999.0,9,-999.000,9,-999.000,-999.000,9,-999.000,9,   44.21,2,   29.37,2, -999.00,9,    0.20,2, -999.00,9,-999.000,   0.0887,2,   0.0583,2,   0.0298,2,   0.0214,2,   0.0115,2,   0.0031,2,  -0.0010,4,   0.0155,2,   0.0181,2,   2.1678,     -999.0,9,     -999.0,1,     -999.0,9,     -999.0,1,     -999.0,9,     -999.0,9,     -999.0,9,-999.0000, -999.00
33RO20071215,        P18,     157,          1,         20,      11020,2,20080209,       1632,   -61.7503,  -103.0003,       4900,    99.8,   1.7835,  33.9577,2,  33.9599,2,    324.8,2,   324.0,2,   18.50,2,   26.90,2,    0.30,2,    1.96,2,   5.456,2,   3.075,2,   2.1857,2,  2151.5,2,  2281.9,2,   -999.0,9,  -999.00,   7.7017,2,    25.00,-999.000,9,-999.0000,9, -999.00,9, -999.00,9,  -999.0,9,-999.000,9,-999.000,-999.000,9,-999.000,9,   43.93,2,   30.35,2, -999.00,9,    0.10,2, -999.00,9,-999.000,   0.0751,2,   0.0472,2,   0.0220,2,   0.0161,2,   0.0080,2,   0.0020,2,  -0.0007,4,   0.0165,2,   0.0211,2,   1.7785,     -999.0,9,     -999.0,1,     -999.0,9,     -999.0,1,     -999.0,9,     -999.0,9,     -999.0,9,-999.0000, -999.00
33RO20071215,        P18,     157,          1,         19,      11019,2,20080209,       1632,   -61.7503,  -103.0003,       4900,   148.0,   1.4027,  33.9824,2,  33.9838,2,    320.2,2,   317.6,2,   21.30,2,   28.70,2,    0.04,2,    1.99,2,-999.000,9,-999.000,9,-999.0000,9,  2158.0,2,  2282.3,2,   -999.0,9,  -999.00,   7.6813,2,    25.00,-999.000,9,-999.0000,9, -999.00,9, -999.00,9,  -999.0,9,-999.000,9,-999.000,-999.000,9,-999.000,9,   43.68,2,   31.08,2, -999.00,9,    0.04,2, -999.00,9,-999.000,   0.0736,2,   0.0450,2,   0.0213,2,   0.0161,2,   0.0080,2,   0.0022,2,  -0.0004,4,   0.0160,2,   0.0212,2,   1.3957,     -999.0,9,     -999.0,1,     -999.0,9,     -999.0,1,     -999.0,9,     -999.0,9,     -999.0,9,-999.0000, -999.00
33RO20071215,        P18,     157,          1,         18,      11018,2,20080209,       1632,   -61.7503,  -103.0003,       4900,   224.8,   1.2425,  34.0211,2,  34.0221,2,    312.8,2,   311.7,2,   27.00,2,   29.50,2,    0.01,2,    2.04,2,   5.140,2,   2.870,2,   1.9614,2,  2168.4,2,  2286.2,2,   -999.0,9,  -999.00,   7.6698,2,    25.00,-999.000,9,-999.0000,9, -999.00,9, -999.00,9,  -999.0,9,-999.000,9,-999.000,-999.000,9,-999.000,9,   43.12,2,   31.46,2, -999.00,9,    0.01,2, -999.00,9,-999.000,   0.0774,2,   0.0476,2,   0.0225,2,   0.0168,2,   0.0086,2,   0.0025,2,  -0.0005,4,   0.0160,2,   0.0210,2,   1.2321,     -999.0,9,     -999.0,1,     -999.0,9,     -999.0,9,     -999.0,9,     -999.0,9,     -999.0,9,-999.0000, -999.00
33RO20071215,        P18,     157,          1,         17,      11017,2,20080209,       1632,   -61.7503,  -103.0003,       4900,   300.4,   1.5798,  34.0977,2,  34.0987,2,    285.1,2,   282.8,2,   33.60,2,   31.00,2,    0.01,2,    2.14,2,   4.463,2,   2.466,2,   1.5569,2,  2182.9,2,  2292.5,2,   -999.0,9,  -999.00,   7.6334,2,    25.00,-999.000,9,-999.0000,9, -999.00,9, -999.00,9,  -999.0,9,-999.000,9,-999.000,-999.000,9,-999.000,9,   42.77,2,   32.19,2, -999.00,9, -999.00,9, -999.00,9,-999.000,   0.0815,2,   0.0506,2,   0.0243,2,   0.0178,2,   0.0090,2,   0.0024,2,  -0.0006,4,   0.0161,2,   0.0205,2,   1.5648,     -999.0,9,     -999.0,1,     -999.0,9,     -999.0,1,     -999.0,9,     -999.0,9,     -999.0,9,-999.0000, -999.00
33RO20071215,        P18,     157,          1,         16,      11016,2,20080209,       1632,   -61.7503,  -103.0003,       4900,   399.2,   1.8946,  34.2108,2,  34.2134,2,    250.4,2,   246.3,2,   43.80,2,   32.70,2,    0.00,2,    2.25,2,   3.363,2,   1.770,2,   1.1112,2,  2204.8,2,  2301.8,2,   -999.0,9,  -999.00,   7.6027,2,    25.00,-999.000,9,-999.0000,9, -999.00,9, -999.00,9,  -999.0,9,-999.000,9,-999.000,-999.000,9,-999.000,9,   42.32,2,   33.93,2, -999.00,9, -999.00,9, -999.00,9,-999.000,   0.0923,2,   0.0592,2,   0.0288,2,   0.0208,2,   0.0109,2,   0.0033,2,  -0.0004,4,   0.0160,2,   0.0194,2,   1.8732,     -999.0,9,     -999.0,1,     -999.0,9,     -999.0,1,     -999.0,9,     -999.0,9,     -999.0,9,-999.0000, -999.00
33RO20071215,        P18,     157,          1,         15,      11015,2,20080209,       1632,   -61.7503,  -103.0003,       4900,   499.7,   2.3764,  34.3502,2,  34.3493,2,    204.1,2,   204.9,2,   55.00,2,   34.50,2,    0.00,2,    2.37,2,   2.079,2,   1.069,2,   0.6107,2,  2227.3,2,  2313.1,2,   -999.0,9,  -999.00,   7.5674,2,    25.00,-999.000,9,-999.0000,9, -999.00,9, -999.00,9,  -999.0,9,-999.000,9,-999.000,-999.000,9,-999.000,9,   41.58,2,   35.33,2, -999.00,9, -999.00,9, -999.00,9,-999.000,   0.1028,2,   0.0673,2,   0.0332,2,   0.0234,2,   0.0125,2,   0.0037,2,  -0.0004,4,   0.0162,2,   0.0189,2,   2.3471,     -999.0,9,     -999.0,1,     -999.0,1,     -999.0,9,     -999.0,9,     -999.0,9,     -999.0,9,-999.0000, -999.00
33RO20071215,        P18,     157,          1,         14,      11014,2,20080209,       1632,   -61.7503,  -103.0003,       4900,   647.8,   2.4031,  34.4667,2,  34.4654,2,    182.6,2,   182.7,2,   66.00,2,   35.00,2,    0.00,2,    2.41,2,   1.170,2,   0.589,2,   0.3290,2,  2244.2,2,  2325.8,2,   -999.0,9,  -999.00,   7.5520,2,    25.00,-999.000,9,-999.0000,9, -999.00,9, -999.00,9,  -999.0,9,-999.000,9,-999.000,-999.000,9,-999.000,9,   40.53,2,   36.04,2, -999.00,9, -999.00,9, -999.00,9,-999.000,   0.1119,2,   0.0745,2,   0.0379,2,   0.0265,2,   0.0145,2,   0.0047,2,  -0.0001,4,   0.0160,2,   0.0181,2,   2.3641,     -999.0,9,     -999.0,1,     -999.0,9,     -999.0,1,     -999.0,9,     -999.0,9,     -999.0,9,-999.0000, -999.00
33RO20071215,        P18,     157,          1,         13,      11013,2,20080209,       1632,   -61.7503,  -103.0003,       4900,   800.0,   2.3363,  34.5552,2,  34.5541,2,    174.8,2,   175.2,2,   73.40,2,   34.80,2,    0.00,2,    2.39,2,   0.714,2,   0.356,2,   0.1534,2,  2253.1,6,  2334.1,2,   -999.0,9,  -999.00,   7.5569,2,    25.00,-999.000,9,-999.0000,9, -999.00,9, -999.00,9,  -999.0,9,-999.000,9,-999.000,-999.000,9,-999.000,9,   39.95,2,   36.21,2, -999.00,9, -999.00,9, -999.00,9,-999.000,   0.1149,2,   0.0767,2,   0.0381,2,   0.0260,2,   0.0140,2,   0.0043,2,  -0.0003,4,   0.0166,2,   0.0186,2,   2.2874,     -999.0,9,     -999.0,1,     -999.0,9,     -999.0,1,     -999.0,9,     -999.0,9,     -999.0,9,-999.0000, -999.00
33RO20071215,        P18,     157,          1,         12,      11012,2,20080209,       1632,   -61.7503,  -103.0003,       4900,   950.0,   2.2527,  34.6151,2,  34.6142,2,    174.3,2,   174.1,2,   77.80,2,   34.20,2,    0.00,2,    2.35,2,   0.486,2,   0.243,2,   0.1023,2,  2255.5,2,  2339.7,2,   -999.0,9,  -999.00,   7.5567,2,    25.00,-999.000,9,-999.0000,9, -999.00,9, -999.00,9,  -999.0,9,-999.000,9,-999.000,-999.000,9,-999.000,9,   39.54,2,   35.95,2, -999.00,9, -999.00,9, -999.00,9,-999.000,   0.1209,2,   0.0818,2,   0.0416,2,   0.0285,2,   0.0159,2,   0.0053,2,   0.0002,4,   0.0162,2,   0.0179,2,   2.1939,     -999.0,9,     -999.0,9,     -999.0,1,     -999.0,9,     -999.0,9,     -999.0,9,     -999.0,9,-999.0000, -999.00
33RO20071215,        P18,     157,          1,         11,      11010,2,20080209,       1632,   -61.7503,  -103.0003,       4900,  1100.1,   2.1950,  34.6589,2,  34.6576,2,    176.0,2,   175.8,2,   80.80,2,   33.50,2,    0.00,2,    2.31,2,   0.339,2,   0.168,2,   0.1269,2,  2255.7,2,  2344.0,2,   -999.0,9,  -999.00,   7.5669,2,    25.00,-999.000,9,-999.0000,9, -999.00,9, -999.00,9,  -999.0,9,-999.000,9,-999.000,-999.000,9,-999.000,9,   40.17,2,   35.10,2, -999.00,9, -999.00,9, -999.00,9,-999.000,   0.1205,2,   0.0812,2,   0.0406,2,   0.0274,2,   0.0152,2,   0.0051,2,   0.0003,4,   0.0165,2,   0.0183,2,   2.1261,     -999.0,9,     -999.0,9,     -999.0,9,     -999.0,1,     -999.0,9,     -999.0,9,     -999.0,9,-999.0000, -999.00
33RO20071215,        P18,     157,          1,         10,      11011,2,20080209,       1632,   -61.7503,  -103.0003,       4900,  1299.4,   2.0908,  34.6992,2,  34.6979,2,    180.0,2,   180.6,2,   84.20,2,   32.60,2,    0.00,2,    2.25,2,   0.225,2,   0.113,2,   0.0000,2,  2254.5,2,  2348.1,2,   -999.0,9,  -999.00,   7.5841,2,    25.00,-999.000,9,-999.0000,9, -999.00,9, -999.00,9,  -999.0,9,-999.000,9,-999.000,-999.000,9,-999.000,9,   39.63,2,   34.16,2, -999.00,9, -999.00,9, -999.00,9,-999.000,   0.1195,2,   0.0802,2,   0.0395,2,   0.0267,2,   0.0145,2,   0.0048,2,   0.0002,3,   0.0167,2,   0.0187,2,   2.0083,     -999.0,9,     -999.0,9,     -999.0,9,     -999.0,1,     -999.0,9,     -999.0,9,     -999.0,9,-999.0000, -999.00
33RO20071215,        P18,     157,          1,          9,      11009,2,20080209,       1632,   -61.7503,  -103.0003,       4900,  1598.7,   1.8852,  34.7275,2,  34.7263,2,    186.9,2,   187.6,2,   89.70,2,   32.00,2,    0.00,2,    2.20,2,-999.000,9,-999.000,9,-999.0000,9,  2254.6,2,  2351.6,2,   -999.0,9,  -999.00,   7.5963,2,    25.00,-999.000,9,-999.0000,9, -999.00,9, -999.00,9,  -999.0,9,-999.000,9,-999.000,-999.000,9,-999.000,9,   39.79,2,   33.49,2, -999.00,9, -999.00,9, -999.00,9,-999.000,   0.1182,2,   0.0790,2,   0.0382,2,   0.0252,2,   0.0139,2,   0.0046,2,   0.0003,3,   0.0170,2,   0.0192,2,   1.7824,     -999.0,9,     -999.0,9,     -999.0,9,     -999.0,1,     -999.0,9,     -999.0,9,     -999.0,9,-999.0000, -999.00
33RO20071215,        P18,     157,          1,          8,      11008,2,20080209,       1632,   -61.7503,  -103.0003,       4900,  1999.7,   1.5482,  34.7343,2,  34.7330,2,    192.9,2,   193.3,2,   99.80,2,   31.90,2,    0.00,2,    2.21,2,   0.112,2,   0.055,2,   0.0000,2,  2256.5,2,  2356.0,2,   -999.0,9,  -999.00,   7.5919,2,    25.00,-999.000,9,-999.0000,9, -999.00,9, -999.00,9,  -999.0,9,-999.000,9,-999.000,-999.000,9,-999.000,9,   39.74,2,   33.30,2, -999.00,9, -999.00,9, -999.00,9,-999.000,   0.1245,2,   0.0846,2,   0.0425,2,   0.0290,2,   0.0170,2,   0.0066,2,   0.0015,2,   0.0160,2,   0.0178,2,   1.4183,     -999.0,9,     -999.0,9,     -999.0,9,     -999.0,9,     -999.0,9,     -999.0,9,     -999.0,9,-999.0000, -999.00
33RO20071215,        P18,     157,          1,          7,      11007,2,20080209,       1632,   -61.7503,  -103.0003,       4900,  2400.0,   1.2718,  34.7281,2,  34.7258,2,    197.0,2,   197.8,2,  108.90,2,   32.10,2,    0.00,2,    2.22,2,   0.087,2,   0.043,2,   0.0000,2,  2260.1,2,  2360.1,2,   -999.0,9,  -999.00,   7.6030,2,    25.00,-999.000,9,-999.0000,9, -999.00,9, -999.00,9,  -999.0,9,-999.000,9,-999.000,   0.099,3,-999.000,9,   39.66,2,   33.26,2, -999.00,9, -999.00,9, -999.00,9,-999.000,   0.1192,2,   0.0799,2,   0.0392,2,   0.0261,2,   0.0149,2,   0.0055,2,   0.0011,2,   0.0166,2,   0.0187,2,   1.1134,     -999.0,9,     -999.0,9,     -999.0,9,     -999.0,1,     -999.0,9,     -999.0,9,     -999.0,9,-999.0000, -999.00
33RO20071215,        P18,     157,          1,          6,      11006,2,20080209,       1632,   -61.7503,  -103.0003,       4900,  2899.9,   1.0116,  34.7191,2,  34.7170,2,    201.8,2,   202.9,2,  117.90,2,   32.40,2,    0.00,2,    2.31,2,-999.000,9,-999.000,9,-999.0000,9,  2260.6,6,  2361.3,2,   -999.0,9,  -999.00,   7.5997,2,    25.00,-999.000,9,-999.0000,9, -999.00,9, -999.00,9,  -999.0,9,-999.000,9,-999.000,-999.000,9,-999.000,9,   39.72,2,   34.00,2, -999.00,9, -999.00,9, -999.00,9,-999.000,   0.1183,2,   0.0792,2,   0.0393,2,   0.0261,2,   0.0146,2,   0.0041,2,  -0.0003,4,   0.0167,2,   0.0187,2,   0.8144,     -999.0,9,     -999.0,9,     -999.0,9,     -999.0,9,     -999.0,9,     -999.0,9,     -999.0,9,-999.0000, -999.00
33RO20071215,        P18,     157,          1,          5,      11005,2,20080209,       1632,   -61.7503,  -103.0003,       4900,  3399.0,   0.7905,  34.7115,2,  34.7084,2,    206.3,2,   206.9,2,  125.40,2,   32.70,2,    0.00,2,    2.26,2,   0.138,2,   0.068,2,   0.0000,2,  2260.3,2,  2362.5,2,   -999.0,9,  -999.00,   7.6054,2,    25.00,-999.000,9,-999.0000,9, -999.00,9, -999.00,9,  -999.0,9,-999.000,9,-999.000,   0.145,3,-999.000,9,   39.88,2,   33.96,2, -999.00,9, -999.00,9, -999.00,9,-999.000,   0.1152,2,   0.0764,2,   0.0369,2,   0.0240,2,   0.0134,2,   0.0043,2,   0.0004,3,   0.0170,2,   0.0194,2,   0.5519,     -999.0,9,     -999.0,9,     -999.0,9,     -999.0,1,     -999.0,9,     -999.0,9,     -999.0,9,-999.0000, -999.00
33RO20071215,        P18,     157,          1,          4,      11004,2,20080209,       1632,   -61.7503,  -103.0003,       4900,  3899.5,   0.5742,  34.7067,2,  34.7039,2,    210.4,2,   211.6,2,  129.90,6,   32.90,6,    0.00,6,    2.27,2,   0.207,2,   0.103,2,   0.0467,2,  2260.6,2,  2362.4,2,   -999.0,9,  -999.00,   7.5871,2,    25.00,-999.000,9,-999.0000,9, -999.00,9, -999.00,9,  -999.0,9,-999.000,9,-999.000,   0.180,3,-999.000,9,   38.89,2,   34.15,2, -999.00,9, -999.00,9, -999.00,9,-999.000,   0.1144,2,   0.0755,2,   0.0363,2,   0.0237,2,   0.0133,2,   0.0043,2,   0.0004,3,   0.0171,2,   0.0195,2,   0.2916,     -999.0,9,     -999.0,9,     -999.0,9,     -999.0,1,     -999.0,9,     -999.0,9,     -999.0,9,-999.0000, -999.00
33RO20071215,        P18,     157,          1,          3,      11003,2,20080209,       1632,   -61.7503,  -103.0003,       4900,  4399.6,   0.4298,  34.7047,2,  34.7024,2,    215.1,2,   215.4,2,  135.60,6,   33.00,6,    0.00,6,    2.28,2,   0.251,6,   0.123,6,   0.0235,6,  2262.4,2,  2363.9,2,   -999.0,9,  -999.00,   7.5958,2,    25.00,-999.000,9,-999.0000,9, -999.00,9, -999.00,9,  -999.0,9,-999.000,9,-999.000,   0.244,3,-999.000,9,   39.66,2,   34.20,2, -999.00,9, -999.00,9, -999.00,9,-999.000,   0.1146,2,   0.0756,2,   0.0365,2,   0.0240,2,   0.0135,2,   0.0044,2,   0.0006,3,   0.0169,2,   0.0194,2,   0.0990,     -999.0,9,     -999.0,9,     -999.0,9,     -999.0,1,     -999.0,9,     -999.0,9,     -999.0,9,-999.0000, -999.00
33RO20071215,        P18,     157,          1,          2,      11002,2,20080209,       1632,   -61.7503,  -103.0003,       4900,  4898.3,   0.4092,  34.7032,2,  34.7004,2,    217.0,2,   216.6,2,  141.10,6,   33.00,6,    0.00,6,    2.28,2,   0.332,2,   0.165,2,   0.0000,2,  2263.0,2,  2363.7,2,   -999.0,9,  -999.00,   7.5968,2,    25.00,-999.000,9,-999.0000,9, -999.00,9, -999.00,9,  -999.0,9,-999.000,9,-999.000,   0.276,3,-999.000,9,   39.71,2,   34.67,2, -999.00,9, -999.00,9, -999.00,9,-999.000,   0.1138,2,   0.0747,2,   0.0359,2,   0.0236,2,   0.0130,2,   0.0038,2,   0.0001,3,   0.0171,2,   0.0197,2,   0.0236,     -999.0,9,     -999.0,9,     -999.0,9,     -999.0,1,     -999.0,9,     -999.0,9,     -999.0,9,-999.0000, -999.00
33RO20071215,        P18,     157,          1,          1,      11001,2,20080209,       1632,   -61.7503,  -103.0003,       4900,  4978.2,   0.4178,  34.7030,2,  34.7010,2,    216.5,2,   216.7,2,  141.40,2,   33.00,2,    0.01,2,    2.28,2,   0.324,2,   0.164,2,   0.0000,2,  2263.3,6,  2363.6,2,   -999.0,9,  -999.00,   7.5909,2,    25.00,-999.000,9,-999.0000,9, -999.00,9, -999.00,9,  -999.0,9,-999.000,9,-999.000,   0.264,3,-999.000,9,   38.57,2,   34.48,2, -999.00,9, -999.00,9, -999.00,9,-999.000,   0.1168,2,   0.0769,2,   0.0368,2,   0.0239,2,   0.0132,2,   0.0041,2,   0.0002,3,   0.0173,2,   0.0198,2,   0.0227,     -999.0,9,     -999.0,9,     -999.0,9,     -999.0,1,     -999.0,9,     -999.0,9,     -999.0,9,-999.0000, -999.00