BOTTLE,20220818CCHSIOAMB
EXPOCODE,SECT_ID,STNNBR,CASTNO,SAMPNO,BTLNBR,BTLNBR_FLAG_W,DATE,TIME,LATITUDE,LONGITUDE,DEPTH,CTDPRS,CTDTMP,CTDSAL,CTDSAL_FLAG_W,SALNTY,SALNTY_FLAG_W,CTDOXY,CTDOXY_FLAG_W,OXYGEN,OXYGEN_FLAG_W,SILCAT,SILCAT_FLAG_W,NITRAT,NITRAT_FLAG_W,NITRIT,NITRIT_FLAG_W,PHSPHT,PHSPHT_FLAG_W,CFC-11,CFC-11_FLAG_W,CFC-12,CFC-12_FLAG_W,SF6,SF6_FLAG_W,TCARBN,TCARBN_FLAG_W,ALKALI,ALKALI_FLAG_W,FCO2,FCO2_FLAG_W,FCO2TMP,PH_SWS,PH_SWS_FLAG_W,PH_TMP,TRITUM,TRITUM_FLAG_W,HELIUM,HELIUM_FLAG_W,DELHE3,DELHE3_FLAG_W,DELC13,DELC13_FLAG_W,DELC14,DELC14_FLAG_W,NEON,NEON_FLAG_W,NEONER,CCL4,CCL4_FLAG_W,POC,POC_FLAG_W,DOC,DOC_FLAG_W,TDN,TDN_FLAG_W,DON,DON_FLAG_W,CHLORA,CHLORA_FLAG_W,ARGON,ARGON_FLAG_W,TRITER,CDOM325,CDOM325_FLAG_W,CDOM340,CDOM340_FLAG_W,CDOM380,CDOM380_FLAG_W,CDOM412,CDOM412_FLAG_W,CDOM443,CDOM443_FLAG_W,CDOM490,CDOM490_FLAG_W,CDOM555,CDOM555_FLAG_W,CDOMSL,CDOMSL_FLAG_W,CDOMSN,CDOMSN_FLAG_W,THETA,D18O_NO3,D18O_NO3_FLAG_W,CDOM2C,CDOM2C_FLAG_W,CDOM3C,CDOM3C_FLAG_W,LAB_DEN,LAB_DEN_FLAG_W,DELSI30,DELSI30_FLAG_W,N2,N2_FLAG_W,D15N_NO3,D15N_NO3_FLAG_W,HELIER,DELHER
,,,,,,,,,,,METERS,DBAR,ITS-90,PSS-78,,PSS-78,,UMOL/KG,,UMOL/KG,,UMOL/KG,,UMOL/KG,,UMOL/KG,,UMOL/KG,,PMOL/KG,,PMOL/KG,,FMOL/KG,,UMOL/KG,,UMOL/KG,,UATM,,DEG C,,,DEG C,TU,,NMOL/KG,,PERCNT,,/MILLE,,/MILLE,,NMOL/KG,,NMOL/KG,PMOL/KG,,UG/KG,,UMOL/KG,,UMOL/KG,,UMOL/KG,,UG/KG,,UMOL/KG,,TU,1/M,,1/M,,1/M,,1/M,,1/M,,1/M,,1/M,,1/NM,,1/NM,,DEG C,/MILLE,,,,,,,,/MILLE,,UMOL/KG,,/MILLE,,NMOL/KG,PERCNT
33RO20071215,        P18,      91,          1,         11,      12003,2,20080114,       1535,   -23.9997,  -103.0002,       3833,  1799.9,   2.3627,  34.6134,2,  34.6154,2,    145.0,2,   145.2,2,  108.00,2,   36.40,2,    0.00,2,    2.56,2,-999.000,9,-999.000,9,-999.0000,9,  2293.3,2,  -999.0,9,   -999.0,9,  -999.00,-999.0000,9,  -999.00,-999.000,9,-999.0000,9, -999.00,9, -999.00,9,  -999.0,9,-999.000,9,-999.000,-999.000,9,-999.000,9,   36.98,2,   37.72,2, -999.00,9, -999.00,9, -999.00,9,-999.000,   0.1173,2,   0.0772,2,   0.0376,2,   0.0241,2,   0.0143,2,   0.0049,2,   0.0008,2,   0.0168,2,   0.0193,2,   2.2378,     -999.0,9,     -999.0,9,     -999.0,9,     -999.0,9,     -999.0,9,     -999.0,9,     -999.0,9,-999.0000, -999.00
33RO20071215,        P18,      91,          1,         10,      12032,2,20080114,       1535,   -23.9997,  -103.0002,       3833,  2001.3,   2.1284,  34.6370,2,  34.6543,4,    150.9,2,   151.1,2,  113.80,2,   36.00,2,    0.00,2,    2.52,2,-999.000,9,-999.000,9,-999.0000,9,  2295.6,2,  2381.5,2,   -999.0,9,  -999.00,   7.5656,2,    25.00,-999.000,9,-999.0000,9, -999.00,9, -999.00,9,  -999.0,9,-999.000,9,-999.000,-999.000,9,-999.000,9,   36.01,3,   37.00,3, -999.00,9, -999.00,9, -999.00,9,-999.000,   0.1207,2,   0.0804,2,   0.0401,2,   0.0260,2,   0.0159,2,   0.0060,2,   0.0014,2,   0.0163,2,   0.0185,2,   1.9898,     -999.0,9,     -999.0,9,     -999.0,9,     -999.0,9,     -999.0,9,     -999.0,9,     -999.0,9,-999.0000, -999.00
33RO20071215,        P18,      91,          1,          9,      12002,2,20080114,       1535,   -23.9997,  -103.0002,       3833,  2200.2,   1.9880,  34.6532,2,  34.6527,2,    154.1,2,   155.0,2,  117.80,2,   35.70,2,    0.00,2,    2.50,2,-999.000,9,-999.000,9,-999.0000,9,  2297.6,2,  -999.0,9,   -999.0,9,  -999.00,-999.0000,9,  -999.00,-999.000,9,-999.0000,9, -999.00,9, -999.00,9,  -999.0,9,-999.000,9,-999.000,-999.000,9,-999.000,9,   36.81,2,   36.75,2, -999.00,9, -999.00,9, -999.00,9,-999.000,   0.1173,2,   0.0773,2,   0.0381,2,   0.0244,2,   0.0145,2,   0.0051,2,   0.0010,2,   0.0167,2,   0.0192,2,   1.8346,     -999.0,9,     -999.0,9,     -999.0,9,     -999.0,9,     -999.0,9,     -999.0,9,     -999.0,9,-999.0000, -999.00
33RO20071215,        P18,      91,          1,          8,      12021,2,20080114,       1535,   -23.9997,  -103.0002,       3833,  2400.9,   1.9098,  34.6630,2,  34.6631,2,    156.9,2,   157.4,2,  120.10,2,   35.50,2,    0.00,2,    2.48,2,-999.000,9,-999.000,9,-999.0000,9,  2298.9,2,  -999.0,9,   -999.0,9,  -999.00,-999.0000,9,  -999.00,-999.000,9,-999.0000,9, -999.00,9, -999.00,9,  -999.0,9,-999.000,9,-999.000,-999.000,9,-999.000,9,   37.24,2,   37.08,2, -999.00,9, -999.00,9, -999.00,9,-999.000,   0.1192,2,   0.0791,2,   0.0392,2,   0.0249,2,   0.0152,2,   0.0056,2,   0.0013,2,   0.0165,2,   0.0188,2,   1.7401,     -999.0,9,     -999.0,9,     -999.0,9,     -999.0,9,     -999.0,9,     -999.0,9,     -999.0,9,-999.0000, -999.00
33RO20071215,        P18,      91,          1,          7,      12001,2,20080114,       1535,   -23.9997,  -103.0002,       3833,  2599.9,   1.8666,  34.6700,2,  34.6711,2,    157.7,2,   157.9,2,  122.20,2,   35.40,2,    0.00,2,    2.46,2,-999.000,9,-999.000,9,-999.0000,9,  2300.2,2,  -999.0,9,   -999.0,9,  -999.00,-999.0000,9,  -999.00,-999.000,9,-999.0000,9, -999.00,9, -999.00,9,  -999.0,9,-999.000,9,-999.000,-999.000,9,-999.000,9,   36.53,2,   37.08,2, -999.00,9, -999.00,9, -999.00,9,-999.000,   0.1194,2,   0.0797,2,   0.0398,2,   0.0254,2,   0.0156,2,   0.0061,2,   0.0016,2,   0.0164,2,   0.0186,2,   1.6796,     -999.0,9,     -999.0,9,     -999.0,9,     -999.0,9,     -999.0,9,     -999.0,9,     -999.0,9,-999.0000, -999.00
33RO20071215,        P18,      91,          1,          6,      12033,2,20080114,       1535,   -23.9997,  -103.0002,       3833,  2800.9,   1.8429,  34.6750,2,  34.6755,2,    157.4,2,   157.5,2,  123.70,2,   35.40,2,    0.00,2,    2.47,2,-999.000,9,-999.000,9,-999.0000,9,  2303.1,2,  2399.7,2,   -999.0,9,  -999.00,   7.5827,2,    25.00,-999.000,9,-999.0000,9, -999.00,9, -999.00,9,  -999.0,9,-999.000,9,-999.000,-999.000,9,-999.000,9,   36.15,2,   37.17,2, -999.00,9, -999.00,9, -999.00,9,-999.000,   0.1142,2,   0.0750,2,   0.0361,2,   0.0222,2,   0.0131,2,   0.0043,2,   0.0007,3,   0.0174,2,   0.0199,2,   1.6376,     -999.0,9,     -999.0,9,     -999.0,9,     -999.0,9,     -999.0,9,     -999.0,9,     -999.0,9,-999.0000, -999.00
33RO20071215,        P18,      91,          1,          5,      12008,2,20080114,       1535,   -23.9997,  -103.0002,       3833,  2998.9,   1.8231,  34.6795,2,  34.6820,2,    156.0,2,   156.5,2,  126.20,2,   35.50,2,    0.00,2,    2.49,2,-999.000,9,-999.000,9,-999.0000,9,  2308.3,6,  -999.0,9,   -999.0,9,  -999.00,-999.0000,9,  -999.00,-999.000,9,-999.0000,9, -999.00,9, -999.00,9,  -999.0,9,-999.000,9,-999.000,-999.000,9,-999.000,9,   36.24,2,   36.89,2, -999.00,9, -999.00,9, -999.00,9,-999.000,   0.1304,2,   0.0888,2,   0.0454,2,   0.0291,2,   0.0182,2,   0.0077,2,   0.0024,2,   0.0159,2,   0.0178,2,   1.5992,     -999.0,9,     -999.0,9,     -999.0,9,     -999.0,9,     -999.0,9,     -999.0,9,     -999.0,9,-999.0000, -999.00
33RO20071215,        P18,      91,          1,          4,      12009,2,20080114,       1535,   -23.9997,  -103.0002,       3833,  3250.9,   1.8137,  34.6839,2,  34.6850,2,    153.6,2,   138.3,3,  129.30,6,   35.70,6,    0.00,6,    2.50,2,-999.000,9,-999.000,9,-999.0000,9,  2312.7,2,  -999.0,9,   -999.0,9,  -999.00,-999.0000,9,  -999.00,-999.000,9,-999.0000,9, -999.00,9, -999.00,9,  -999.0,9,-999.000,9,-999.000,-999.000,9,-999.000,9,   36.13,2,   37.11,2, -999.00,9, -999.00,9, -999.00,9,-999.000,   0.1268,2,   0.0848,2,   0.0419,2,   0.0261,2,   0.0154,2,   0.0055,2,   0.0011,2,   0.0170,2,   0.0190,2,   1.5651,     -999.0,9,     -999.0,9,     -999.0,9,     -999.0,9,     -999.0,9,     -999.0,9,     -999.0,9,-999.0000, -999.00
33RO20071215,        P18,      91,          1,          3,      12006,2,20080114,       1535,   -23.9997,  -103.0002,       3833,  3500.1,   1.8211,  34.6864,2,  34.6878,2,    152.4,2,   151.6,2,  131.20,2,   35.80,6,    0.00,6,    2.52,2,-999.000,9,-999.000,9,-999.0000,9,  2317.0,2,  -999.0,9,   -999.0,9,  -999.00,-999.0000,9,  -999.00,-999.000,9,-999.0000,9, -999.00,9, -999.00,9,  -999.0,9,-999.000,9,-999.000,-999.000,9,-999.000,9,   38.15,2,   36.79,2, -999.00,9, -999.00,9, -999.00,9,-999.000,   0.1253,2,   0.0838,2,   0.0416,2,   0.0256,2,   0.0152,2,   0.0055,3,   0.0012,3,   0.0171,2,   0.0190,2,   1.5468,     -999.0,9,     -999.0,9,     -999.0,9,     -999.0,9,     -999.0,9,     -999.0,9,     -999.0,9,-999.0000, -999.00
33RO20071215,        P18,      91,          1,          2,      12007,2,20080114,       1535,   -23.9997,  -103.0002,       3833,  3751.1,   1.8395,  34.6875,2,  34.6873,2,    151.6,2,   151.5,2,  132.20,6,   35.90,6,    0.00,6,    2.52,2,-999.000,9,-999.000,9,-999.0000,9,  2319.0,2,  2416.9,2,   -999.0,9,  -999.00,   7.5882,2,    25.00,-999.000,9,-999.0000,9, -999.00,9, -999.00,9,  -999.0,9,-999.000,9,-999.000,-999.000,9,-999.000,9,   38.17,2,   37.04,2, -999.00,9, -999.00,9, -999.00,9,-999.000,   0.1125,2,   0.0721,2,   0.0288,2,   0.0095,2,   0.0016,2,  -0.0009,4,  -0.0037,4,   0.0076,4,   0.0260,2,   1.5381,     -999.0,9,     -999.0,9,     -999.0,9,     -999.0,9,     -999.0,9,     -999.0,9,     -999.0,9,-999.0000, -999.00
33RO20071215,        P18,      91,          1,          1,      12035,2,20080114,       1535,   -23.9997,  -103.0002,       3833,  3888.1,   1.8530,  34.6877,2,  34.6915,2,    151.3,2,   153.5,3,  132.50,2,   36.00,2,    0.01,2,    2.53,2,-999.000,9,-999.000,9,-999.0000,9,  2319.7,6,  2423.7,2,   -999.0,9,  -999.00,   7.5825,2,    25.00,-999.000,9,-999.0000,9, -999.00,9, -999.00,9,  -999.0,9,-999.000,9,-999.000,-999.000,9,-999.000,9,   38.61,2,   37.66,2, -999.00,9, -999.00,9, -999.00,9,-999.000,   0.1201,2,   0.0794,2,   0.0384,2,   0.0229,2,   0.0131,2,   0.0040,2,   0.0003,3,   0.0180,2,   0.0200,2,   1.5364,     -999.0,9,     -999.0,9,     -999.0,9,     -999.0,9,     -999.0,9,     -999.0,9,     -999.0,9,-999.0000, -999.00