BOTTLE,20220818CCHSIOAMB
EXPOCODE,SECT_ID,STNNBR,CASTNO,SAMPNO,BTLNBR,BTLNBR_FLAG_W,DATE,TIME,LATITUDE,LONGITUDE,DEPTH,CTDPRS,CTDTMP,CTDSAL,CTDSAL_FLAG_W,SALNTY,SALNTY_FLAG_W,CTDOXY,CTDOXY_FLAG_W,OXYGEN,OXYGEN_FLAG_W,SILCAT,SILCAT_FLAG_W,NITRAT,NITRAT_FLAG_W,NITRIT,NITRIT_FLAG_W,PHSPHT,PHSPHT_FLAG_W,CFC-11,CFC-11_FLAG_W,CFC-12,CFC-12_FLAG_W,SF6,SF6_FLAG_W,TCARBN,TCARBN_FLAG_W,ALKALI,ALKALI_FLAG_W,FCO2,FCO2_FLAG_W,FCO2TMP,PH_SWS,PH_SWS_FLAG_W,PH_TMP,TRITUM,TRITUM_FLAG_W,HELIUM,HELIUM_FLAG_W,DELHE3,DELHE3_FLAG_W,DELC13,DELC13_FLAG_W,DELC14,DELC14_FLAG_W,NEON,NEON_FLAG_W,NEONER,CCL4,CCL4_FLAG_W,POC,POC_FLAG_W,DOC,DOC_FLAG_W,TDN,TDN_FLAG_W,DON,DON_FLAG_W,CHLORA,CHLORA_FLAG_W,ARGON,ARGON_FLAG_W,TRITER,CDOM325,CDOM325_FLAG_W,CDOM340,CDOM340_FLAG_W,CDOM380,CDOM380_FLAG_W,CDOM412,CDOM412_FLAG_W,CDOM443,CDOM443_FLAG_W,CDOM490,CDOM490_FLAG_W,CDOM555,CDOM555_FLAG_W,CDOMSL,CDOMSL_FLAG_W,CDOMSN,CDOMSN_FLAG_W,THETA,D18O_NO3,D18O_NO3_FLAG_W,CDOM2C,CDOM2C_FLAG_W,CDOM3C,CDOM3C_FLAG_W,LAB_DEN,LAB_DEN_FLAG_W,DELSI30,DELSI30_FLAG_W,N2,N2_FLAG_W,D15N_NO3,D15N_NO3_FLAG_W,HELIER,DELHER
,,,,,,,,,,,METERS,DBAR,ITS-90,PSS-78,,PSS-78,,UMOL/KG,,UMOL/KG,,UMOL/KG,,UMOL/KG,,UMOL/KG,,UMOL/KG,,PMOL/KG,,PMOL/KG,,FMOL/KG,,UMOL/KG,,UMOL/KG,,UATM,,DEG C,,,DEG C,TU,,NMOL/KG,,PERCNT,,/MILLE,,/MILLE,,NMOL/KG,,NMOL/KG,PMOL/KG,,UG/KG,,UMOL/KG,,UMOL/KG,,UMOL/KG,,UG/KG,,UMOL/KG,,TU,1/M,,1/M,,1/M,,1/M,,1/M,,1/M,,1/M,,1/NM,,1/NM,,DEG C,/MILLE,,,,,,,,/MILLE,,UMOL/KG,,/MILLE,,NMOL/KG,PERCNT
33RO20071215,        P18,     164,          1,         24,      11024,2,20080211,       2222,   -65.2488,  -102.9987,       4922,     4.5,   2.4451,  33.8764,2,  33.8775,2,    330.6,2,   329.4,2,    3.60,2,   24.40,2,    0.17,2,    1.45,2,   5.592,2,   3.119,2,   2.2671,2,  2135.5,6,  2280.4,2,   -999.0,9,  -999.00,   7.7565,2,    25.00,-999.000,9,-999.0000,9, -999.00,9,    1.61,2,  -999.0,1,-999.000,9,-999.000,-999.000,9,-999.000,9, -999.00,9, -999.00,9, -999.00,9, -999.00,9, -999.00,9,-999.000,-999.0000,9,-999.0000,9,-999.0000,9,-999.0000,9,-999.0000,9,-999.0000,9,-999.0000,9,-999.0000,9,-999.0000,9,   2.4449,     -999.0,9,     -999.0,9,     -999.0,9,     -999.0,9,     -999.0,9,     -999.0,9,     -999.0,9,-999.0000, -999.00
33RO20071215,        P18,     164,          1,         23,      11023,2,20080211,       2222,   -65.2488,  -102.9987,       4922,    32.7,   2.4457,  33.8759,2,  33.8774,2,    331.9,2,   329.3,2,    3.60,2,   24.40,2,    0.17,2,    1.46,2,   5.524,2,   3.119,2,   2.2334,2,  2135.2,2,  2283.5,2,   -999.0,9,  -999.00,   7.7536,2,    25.00,-999.000,9,-999.0000,9, -999.00,9, -999.00,9,  -999.0,9,-999.000,9,-999.000,-999.000,9,-999.000,9, -999.00,9, -999.00,9, -999.00,9, -999.00,9, -999.00,9,-999.000,-999.0000,9,-999.0000,9,-999.0000,9,-999.0000,9,-999.0000,9,-999.0000,9,-999.0000,9,-999.0000,9,-999.0000,9,   2.4439,     -999.0,9,     -999.0,9,     -999.0,9,     -999.0,9,     -999.0,9,     -999.0,9,     -999.0,9,-999.0000, -999.00
33RO20071215,        P18,     164,          1,         22,      11022,2,20080211,       2222,   -65.2488,  -102.9987,       4922,    58.5,   2.1955,  33.8787,2,  33.8871,2,    329.9,2,   332.7,2,    5.80,2,   24.80,2,    0.16,2,    1.57,2,-999.000,9,-999.000,9,-999.0000,9,  2138.7,2,  2283.8,2,   -999.0,9,  -999.00,   7.7408,2,    25.00,-999.000,9,-999.0000,9, -999.00,9, -999.00,9,  -999.0,9,-999.000,9,-999.000,-999.000,9,-999.000,9, -999.00,9, -999.00,9, -999.00,9, -999.00,9, -999.00,9,-999.000,-999.0000,9,-999.0000,9,-999.0000,9,-999.0000,9,-999.0000,9,-999.0000,9,-999.0000,9,-999.0000,9,-999.0000,9,   2.1924,     -999.0,9,     -999.0,9,     -999.0,9,     -999.0,9,     -999.0,9,     -999.0,9,     -999.0,9,-999.0000, -999.00
33RO20071215,        P18,     164,          1,         21,      11021,2,20080211,       2222,   -65.2488,  -102.9987,       4922,    81.2,   0.5700,  33.9521,2,  33.9546,2,    335.5,2,   335.8,2,   22.10,2,   27.00,2,    0.15,2,    2.01,2,   6.016,2,   3.307,2,   2.4249,2,  2157.6,2,  2287.0,2,   -999.0,9,  -999.00,   7.7015,2,    25.00,-999.000,9,-999.0000,9, -999.00,9, -999.00,9,  -999.0,9,-999.000,9,-999.000,-999.000,9,-999.000,9, -999.00,9, -999.00,9, -999.00,9, -999.00,9, -999.00,9,-999.000,-999.0000,9,-999.0000,9,-999.0000,9,-999.0000,9,-999.0000,9,-999.0000,9,-999.0000,9,-999.0000,9,-999.0000,9,   0.5668,     -999.0,9,     -999.0,9,     -999.0,9,     -999.0,9,     -999.0,9,     -999.0,9,     -999.0,9,-999.0000, -999.00
33RO20071215,        P18,     164,          1,         20,      11020,2,20080211,       2222,   -65.2488,  -102.9987,       4922,   118.8,  -0.0836,  33.9635,2,  33.9663,2,    335.3,2,   335.6,2,   27.60,2,   28.50,2,    0.22,2,    2.06,2,-999.000,9,-999.000,9,-999.0000,9,  2166.4,2,  2286.2,2,   -999.0,9,  -999.00,   7.6787,2,    25.00,-999.000,9,-999.0000,9, -999.00,9, -999.00,9,  -999.0,9,-999.000,9,-999.000,-999.000,9,-999.000,9, -999.00,9, -999.00,9, -999.00,9, -999.00,9, -999.00,9,-999.000,-999.0000,9,-999.0000,9,-999.0000,9,-999.0000,9,-999.0000,9,-999.0000,9,-999.0000,9,-999.0000,9,-999.0000,9,  -0.0876,     -999.0,9,     -999.0,9,     -999.0,9,     -999.0,9,     -999.0,9,     -999.0,9,     -999.0,9,-999.0000, -999.00
33RO20071215,        P18,     164,          1,         19,      11019,2,20080211,       2222,   -65.2488,  -102.9987,       4922,   174.0,  -0.2737,  33.9945,2,  33.9956,2,    328.5,2,   328.8,2,   30.60,2,   30.00,2,    0.05,2,    2.08,2,   5.841,2,   3.221,2,   2.1594,2,  2172.9,2,  2285.4,2,   -999.0,9,  -999.00,   7.6657,2,    25.00,-999.000,9,-999.0000,9, -999.00,9, -999.00,9,  -999.0,9,-999.000,9,-999.000,-999.000,9,-999.000,9, -999.00,9, -999.00,9, -999.00,9, -999.00,9, -999.00,9,-999.000,-999.0000,9,-999.0000,9,-999.0000,9,-999.0000,9,-999.0000,9,-999.0000,9,-999.0000,9,-999.0000,9,-999.0000,9,  -0.2795,     -999.0,9,     -999.0,9,     -999.0,9,     -999.0,9,     -999.0,9,     -999.0,9,     -999.0,9,-999.0000, -999.00
33RO20071215,        P18,     164,          1,         18,      11018,2,20080211,       2222,   -65.2488,  -102.9987,       4922,   249.4,   1.5907,  34.2203,2,  34.2244,2,    245.0,2,   245.6,2,   47.40,2,   33.20,2,    0.01,2,    2.29,2,   3.464,2,   1.869,2,   1.0876,2,  2210.5,2,  2268.2,4,   -999.0,9,  -999.00,   7.6032,2,    25.00,-999.000,9,-999.0000,9, -999.00,9, -999.00,9,  -999.0,9,-999.000,9,-999.000,-999.000,9,-999.000,9, -999.00,9, -999.00,9, -999.00,9, -999.00,9, -999.00,9,-999.000,-999.0000,9,-999.0000,9,-999.0000,9,-999.0000,9,-999.0000,9,-999.0000,9,-999.0000,9,-999.0000,9,-999.0000,9,   1.5783,     -999.0,9,     -999.0,9,     -999.0,9,     -999.0,9,     -999.0,9,     -999.0,9,     -999.0,9,-999.0000, -999.00
33RO20071215,        P18,     164,          1,         17,      11017,2,20080211,       2222,   -65.2488,  -102.9987,       4922,   334.3,   2.1332,  34.3574,2,  34.3575,2,    207.0,2,   206.1,2,   58.30,2,   34.70,2,    0.00,2,    2.38,2,   2.157,2,   1.116,2,   0.6719,2,  2231.1,2,  2314.3,2,   -999.0,9,  -999.00,   7.5701,2,    25.00,-999.000,9,-999.0000,9, -999.00,9, -999.00,9,  -999.0,9,-999.000,9,-999.000,-999.000,9,-999.000,9, -999.00,9, -999.00,9, -999.00,9, -999.00,9, -999.00,9,-999.000,-999.0000,9,-999.0000,9,-999.0000,9,-999.0000,9,-999.0000,9,-999.0000,9,-999.0000,9,-999.0000,9,-999.0000,9,   2.1147,     -999.0,9,     -999.0,9,     -999.0,9,     -999.0,9,     -999.0,9,     -999.0,9,     -999.0,9,-999.0000, -999.00
33RO20071215,        P18,     164,          1,         16,      11016,2,20080211,       2222,   -65.2488,  -102.9987,       4922,   432.3,   2.2465,  34.4499,2,  34.4505,2,    186.3,2,   184.9,2,   66.20,2,   35.20,2,    0.00,2,    2.43,2,-999.000,9,-999.000,9,-999.0000,9,  2243.3,2,  2324.1,2,   -999.0,9,  -999.00,   7.5569,2,    25.00,-999.000,9,-999.0000,9, -999.00,9, -999.00,9,  -999.0,9,-999.000,9,-999.000,-999.000,9,-999.000,9, -999.00,9, -999.00,9, -999.00,9, -999.00,9, -999.00,9,-999.000,-999.0000,9,-999.0000,9,-999.0000,9,-999.0000,9,-999.0000,9,-999.0000,9,-999.0000,9,-999.0000,9,-999.0000,9,   2.2217,     -999.0,9,     -999.0,9,     -999.0,9,     -999.0,9,     -999.0,9,     -999.0,9,     -999.0,9,-999.0000, -999.00
33RO20071215,        P18,     164,          1,         15,      11015,2,20080211,       2222,   -65.2488,  -102.9987,       4922,   549.8,   2.2378,  34.5310,2,  34.5304,2,    177.3,2,   176.6,2,   72.50,2,   35.10,2,    0.00,2,    2.42,2,   0.914,2,   0.469,2,   0.2119,2,  2250.2,2,  2336.5,2,   -999.0,9,  -999.00,   7.5527,2,    25.00,-999.000,9,-999.0000,9, -999.00,9, -999.00,9,  -999.0,9,-999.000,9,-999.000,-999.000,9,-999.000,9, -999.00,9, -999.00,9, -999.00,9, -999.00,9, -999.00,9,-999.000,-999.0000,9,-999.0000,9,-999.0000,9,-999.0000,9,-999.0000,9,-999.0000,9,-999.0000,9,-999.0000,9,-999.0000,9,   2.2057,     -999.0,9,     -999.0,9,     -999.0,9,     -999.0,9,     -999.0,9,     -999.0,9,     -999.0,9,-999.0000, -999.00
33RO20071215,        P18,     164,          1,         14,      11014,2,20080211,       2222,   -65.2488,  -102.9987,       4922,   699.9,   2.2108,  34.6052,2,  34.6067,2,    173.3,2,   173.6,2,   77.60,2,   34.40,2,    0.00,2,    2.37,2,-999.000,5,-999.000,5,-999.0000,5,  2253.9,2,  2337.2,2,   -999.0,9,  -999.00,   7.5585,2,    25.00,-999.000,9,-999.0000,9, -999.00,9, -999.00,9,  -999.0,9,-999.000,9,-999.000,-999.000,9,-999.000,9, -999.00,9, -999.00,9, -999.00,9, -999.00,9, -999.00,9,-999.000,-999.0000,9,-999.0000,9,-999.0000,9,-999.0000,9,-999.0000,9,-999.0000,9,-999.0000,9,-999.0000,9,-999.0000,9,   2.1692,     -999.0,9,     -999.0,9,     -999.0,9,     -999.0,9,     -999.0,9,     -999.0,9,     -999.0,9,-999.0000, -999.00
33RO20071215,        P18,     164,          1,         13,      11013,2,20080211,       2222,   -65.2488,  -102.9987,       4922,   850.1,   2.1657,  34.6500,2,  34.6493,2,    174.7,2,   175.0,2,   80.40,2,   33.70,2,    0.00,2,    2.32,2,   0.386,2,   0.197,2,   0.0352,2,  2254.7,6,  2339.6,2,   -999.0,9,  -999.00,   7.5696,2,    25.00,-999.000,9,-999.0000,9, -999.00,9, -999.00,9,  -999.0,9,-999.000,9,-999.000,-999.000,9,-999.000,9, -999.00,9, -999.00,9, -999.00,9, -999.00,9, -999.00,9,-999.000,-999.0000,9,-999.0000,9,-999.0000,9,-999.0000,9,-999.0000,9,-999.0000,9,-999.0000,9,-999.0000,9,-999.0000,9,   2.1143,     -999.0,9,     -999.0,9,     -999.0,9,     -999.0,9,     -999.0,9,     -999.0,9,     -999.0,9,-999.0000, -999.00
33RO20071215,        P18,     164,          1,         12,      11012,2,20080211,       2222,   -65.2488,  -102.9987,       4922,  1000.3,   2.0999,  34.6893,2,  34.6893,2,    178.2,2,   178.3,2,   83.60,2,   32.90,2,    0.00,2,    2.27,2,-999.000,9,-999.000,9,-999.0000,9,  2253.1,2,  2344.4,2,   -999.0,9,  -999.00,   7.5885,2,    25.00,-999.000,9,-999.0000,9, -999.00,9, -999.00,9,  -999.0,9,-999.000,9,-999.000,-999.000,9,-999.000,9, -999.00,9, -999.00,9, -999.00,9, -999.00,9, -999.00,9,-999.000,-999.0000,9,-999.0000,9,-999.0000,9,-999.0000,9,-999.0000,9,-999.0000,9,-999.0000,9,-999.0000,9,-999.0000,9,   2.0387,     -999.0,9,     -999.0,9,     -999.0,9,     -999.0,9,     -999.0,9,     -999.0,9,     -999.0,9,-999.0000, -999.00
33RO20071215,        P18,     164,          1,         11,      11010,2,20080211,       2222,   -65.2488,  -102.9987,       4922,  1167.2,   1.9885,  34.7143,2,  34.7131,2,    182.3,2,   183.1,2,   86.40,2,   32.30,2,    0.00,2,    2.23,2,   0.192,2,   0.097,2,   0.0495,2,  2253.0,2,  2347.4,2,   -999.0,9,  -999.00,   7.5940,2,    25.00,-999.000,9,-999.0000,9, -999.00,9, -999.00,9,  -999.0,9,-999.000,9,-999.000,-999.000,9,-999.000,9, -999.00,9, -999.00,9, -999.00,9, -999.00,9, -999.00,9,-999.000,-999.0000,9,-999.0000,9,-999.0000,9,-999.0000,9,-999.0000,9,-999.0000,9,-999.0000,9,-999.0000,9,-999.0000,9,   1.9165,     -999.0,9,     -999.0,9,     -999.0,9,     -999.0,9,     -999.0,9,     -999.0,9,     -999.0,9,-999.0000, -999.00
33RO20071215,        P18,     164,          1,         10,      11011,2,20080211,       2222,   -65.2488,  -102.9987,       4922,  1400.0,   1.8298,  34.7291,2,  34.7290,2,    187.5,2,   188.6,2,   90.90,2,   31.90,2,    0.00,2,    2.21,2,   0.153,2,   0.078,2,   0.0000,2,  2253.9,2,  2351.2,4,   -999.0,9,  -999.00,   7.6029,2,    25.00,-999.000,9,-999.0000,9, -999.00,9, -999.00,9,  -999.0,9,-999.000,9,-999.000,-999.000,9,-999.000,9, -999.00,9, -999.00,9, -999.00,9, -999.00,9, -999.00,1,-999.000,-999.0000,9,-999.0000,9,-999.0000,9,-999.0000,9,-999.0000,9,-999.0000,9,-999.0000,9,-999.0000,9,-999.0000,9,   1.7425,     -999.0,1,     -999.0,9,     -999.0,9,     -999.0,9,     -999.0,9,     -999.0,1,     -999.0,9,-999.0000, -999.00
33RO20071215,        P18,     164,          1,          9,      11009,2,20080211,       2222,   -65.2488,  -102.9987,       4922,  1732.6,   1.5601,  34.7339,2,  34.7333,2,    192.3,2,   192.7,2,   99.30,2,   31.90,2,    0.00,2,    2.21,2,   0.103,2,   0.053,2,   0.0000,2,  2255.0,2,  2356.2,2,   -999.0,9,  -999.00,   7.6072,2,    25.00,-999.000,9,-999.0000,9, -999.00,9, -999.00,9,  -999.0,9,-999.000,9,-999.000,-999.000,9,-999.000,9, -999.00,9, -999.00,9, -999.00,9, -999.00,9, -999.00,9,-999.000,-999.0000,9,-999.0000,9,-999.0000,9,-999.0000,9,-999.0000,9,-999.0000,9,-999.0000,9,-999.0000,9,-999.0000,9,   1.4511,     -999.0,9,     -999.0,9,     -999.0,9,     -999.0,9,     -999.0,9,     -999.0,9,     -999.0,9,-999.0000, -999.00
33RO20071215,        P18,     164,          1,          8,      11008,2,20080211,       2222,   -65.2488,  -102.9987,       4922,  2133.0,   1.2934,  34.7291,2,  34.7286,2,    196.2,2,   196.6,2,  108.00,2,   32.10,2,    0.00,2,    2.23,2,   0.079,2,   0.043,2,   0.0000,2,  2257.2,2,  2357.2,2,   -999.0,9,  -999.00,   7.6116,2,    25.00,-999.000,9,-999.0000,9, -999.00,9, -999.00,9,  -999.0,9,-999.000,9,-999.000,   0.109,3,-999.000,9, -999.00,9, -999.00,9, -999.00,9, -999.00,9, -999.00,9,-999.000,-999.0000,9,-999.0000,9,-999.0000,9,-999.0000,9,-999.0000,9,-999.0000,9,-999.0000,9,-999.0000,9,-999.0000,9,   1.1567,     -999.0,9,     -999.0,9,     -999.0,9,     -999.0,9,     -999.0,9,     -999.0,9,     -999.0,9,-999.0000, -999.00
33RO20071215,        P18,     164,          1,          7,      11007,2,20080211,       2222,   -65.2488,  -102.9987,       4922,  2533.5,   1.0865,  34.7226,2,  34.7211,2,    201.0,2,   200.6,2,  115.00,2,   32.30,2,    0.00,2,    2.24,2,   0.080,2,   0.041,2,   0.0453,2,  2258.0,2,  2358.6,2,   -999.0,9,  -999.00,   7.6085,2,    25.00,-999.000,9,-999.0000,9, -999.00,9, -999.00,9,  -999.0,9,-999.000,9,-999.000,   0.122,3,-999.000,9, -999.00,9, -999.00,9, -999.00,9, -999.00,9, -999.00,1,-999.000,-999.0000,9,-999.0000,9,-999.0000,9,-999.0000,9,-999.0000,9,-999.0000,9,-999.0000,9,-999.0000,9,-999.0000,9,   0.9202,     -999.0,1,     -999.0,9,     -999.0,9,     -999.0,9,     -999.0,9,     -999.0,1,     -999.0,9,-999.0000, -999.00
33RO20071215,        P18,     164,          1,          6,      11006,2,20080211,       2222,   -65.2488,  -102.9987,       4922,  2967.1,   0.8877,  34.7152,2,  34.7175,2,    204.6,2,   205.3,2,  122.00,2,   32.40,2,    0.00,2,    2.25,2,   0.096,2,   0.055,2,   0.0000,2,  2260.2,6,  2360.1,2,   -999.0,9,  -999.00,   7.6131,2,    25.00,-999.000,9,-999.0000,9, -999.00,9, -999.00,9,  -999.0,9,-999.000,9,-999.000,   0.131,3,-999.000,9, -999.00,9, -999.00,9, -999.00,9, -999.00,9, -999.00,9,-999.000,-999.0000,9,-999.0000,9,-999.0000,9,-999.0000,9,-999.0000,9,-999.0000,9,-999.0000,9,-999.0000,9,-999.0000,9,   0.6872,     -999.0,9,     -999.0,9,     -999.0,9,     -999.0,9,     -999.0,9,     -999.0,9,     -999.0,9,-999.0000, -999.00
33RO20071215,        P18,     164,          1,          5,      11005,2,20080211,       2222,   -65.2488,  -102.9987,       4922,  3464.7,   0.6766,  34.7093,2,  34.7077,2,    209.3,2,   208.6,2,  127.80,2,   32.60,2,    0.00,2,    2.27,2,   0.159,2,   0.080,2,   0.0000,2,  2258.8,2,  2358.7,2,   -999.0,9,  -999.00,   7.6198,2,    25.00,-999.000,9,-999.0000,9, -999.00,9, -999.00,9,  -999.0,9,-999.000,9,-999.000,   0.210,3,-999.000,9, -999.00,9, -999.00,9, -999.00,9, -999.00,9, -999.00,1,-999.000,-999.0000,9,-999.0000,9,-999.0000,9,-999.0000,9,-999.0000,9,-999.0000,9,-999.0000,9,-999.0000,9,-999.0000,9,   0.4346,     -999.0,1,     -999.0,9,     -999.0,9,     -999.0,9,     -999.0,9,     -999.0,1,     -999.0,9,-999.0000, -999.00
33RO20071215,        P18,     164,          1,          4,      11004,2,20080211,       2222,   -65.2488,  -102.9987,       4922,  3967.9,   0.4979,  34.7067,2,  34.7060,2,    213.8,2,   212.8,2,  132.80,6,   32.90,6,    0.00,6,    2.28,2,-999.000,9,-999.000,9,-999.0000,9,  2260.3,2,  2361.4,2,   -999.0,9,  -999.00,   7.6097,2,    25.00,-999.000,9,-999.0000,9, -999.00,9, -999.00,9,  -999.0,9,-999.000,9,-999.000,-999.000,9,-999.000,9, -999.00,9, -999.00,9, -999.00,9, -999.00,9, -999.00,9,-999.000,-999.0000,9,-999.0000,9,-999.0000,9,-999.0000,9,-999.0000,9,-999.0000,9,-999.0000,9,-999.0000,9,-999.0000,9,   0.2105,     -999.0,9,     -999.0,9,     -999.0,9,     -999.0,9,     -999.0,9,     -999.0,9,     -999.0,9,-999.0000, -999.00
33RO20071215,        P18,     164,          1,          3,      11003,2,20080211,       2222,   -65.2488,  -102.9987,       4922,  4466.8,   0.4289,  34.7054,2,  34.7043,2,    215.2,2,   215.0,2,  137.50,6,   33.00,6,    0.00,6,    2.28,2,   0.201,2,   0.102,2,   0.0000,2,  2260.8,2,  2362.3,2,   -999.0,9,  -999.00,   7.6106,2,    25.00,-999.000,9,-999.0000,9, -999.00,9, -999.00,9,  -999.0,9,-999.000,9,-999.000,   0.269,3,-999.000,9, -999.00,9, -999.00,9, -999.00,9, -999.00,9, -999.00,9,-999.000,-999.0000,9,-999.0000,9,-999.0000,9,-999.0000,9,-999.0000,9,-999.0000,9,-999.0000,9,-999.0000,9,-999.0000,9,   0.0908,     -999.0,9,     -999.0,9,     -999.0,9,     -999.0,9,     -999.0,9,     -999.0,9,     -999.0,9,-999.0000, -999.00
33RO20071215,        P18,     164,          1,          2,      11002,2,20080211,       2222,   -65.2488,  -102.9987,       4922,  4968.0,   0.4134,  34.7035,2,  34.7042,2,    217.2,2,   215.8,2,  144.70,6,   33.10,6,    0.00,6,    2.29,2,   0.325,2,   0.166,2,   0.0000,2,  2261.6,2,  2363.6,2,   -999.0,9,  -999.00,   7.6057,2,    25.00,-999.000,9,-999.0000,9, -999.00,9, -999.00,9,  -999.0,9,-999.000,9,-999.000,   0.358,3,-999.000,9, -999.00,9, -999.00,9, -999.00,9, -999.00,9, -999.00,1,-999.000,-999.0000,9,-999.0000,9,-999.0000,9,-999.0000,9,-999.0000,9,-999.0000,9,-999.0000,9,-999.0000,9,-999.0000,9,   0.0197,     -999.0,1,     -999.0,9,     -999.0,9,     -999.0,9,     -999.0,9,     -999.0,1,     -999.0,9,-999.0000, -999.00
33RO20071215,        P18,     164,          1,          1,      11001,2,20080211,       2222,   -65.2488,  -102.9987,       4922,  4996.1,   0.4162,  34.7034,2,  34.7044,2,    217.9,2,   216.4,2,  146.40,2,   33.10,2,    0.01,2,    2.29,2,   0.330,2,   0.165,2,   0.0000,2,  2262.9,6,  2364.4,2,   -999.0,9,  -999.00,   7.6049,2,    25.00,-999.000,9,-999.0000,9, -999.00,9, -999.00,9,  -999.0,9,-999.000,9,-999.000,   0.311,3,-999.000,9, -999.00,9, -999.00,9, -999.00,9, -999.00,9, -999.00,1,-999.000,-999.0000,9,-999.0000,9,-999.0000,9,-999.0000,9,-999.0000,9,-999.0000,9,-999.0000,9,-999.0000,9,-999.0000,9,   0.0191,     -999.0,1,     -999.0,9,     -999.0,9,     -999.0,9,     -999.0,9,     -999.0,1,     -999.0,9,-999.0000, -999.00