BOTTLE,20220818CCHSIOAMB
EXPOCODE,SECT_ID,STNNBR,CASTNO,SAMPNO,BTLNBR,BTLNBR_FLAG_W,DATE,TIME,LATITUDE,LONGITUDE,DEPTH,CTDPRS,CTDTMP,CTDSAL,CTDSAL_FLAG_W,SALNTY,SALNTY_FLAG_W,CTDOXY,CTDOXY_FLAG_W,OXYGEN,OXYGEN_FLAG_W,SILCAT,SILCAT_FLAG_W,NITRAT,NITRAT_FLAG_W,NITRIT,NITRIT_FLAG_W,PHSPHT,PHSPHT_FLAG_W,CFC-11,CFC-11_FLAG_W,CFC-12,CFC-12_FLAG_W,SF6,SF6_FLAG_W,TCARBN,TCARBN_FLAG_W,ALKALI,ALKALI_FLAG_W,FCO2,FCO2_FLAG_W,FCO2TMP,PH_SWS,PH_SWS_FLAG_W,PH_TMP,TRITUM,TRITUM_FLAG_W,HELIUM,HELIUM_FLAG_W,DELHE3,DELHE3_FLAG_W,DELC13,DELC13_FLAG_W,DELC14,DELC14_FLAG_W,NEON,NEON_FLAG_W,NEONER,CCL4,CCL4_FLAG_W,POC,POC_FLAG_W,DOC,DOC_FLAG_W,TDN,TDN_FLAG_W,DON,DON_FLAG_W,CHLORA,CHLORA_FLAG_W,ARGON,ARGON_FLAG_W,TRITER,CDOM325,CDOM325_FLAG_W,CDOM340,CDOM340_FLAG_W,CDOM380,CDOM380_FLAG_W,CDOM412,CDOM412_FLAG_W,CDOM443,CDOM443_FLAG_W,CDOM490,CDOM490_FLAG_W,CDOM555,CDOM555_FLAG_W,CDOMSL,CDOMSL_FLAG_W,CDOMSN,CDOMSN_FLAG_W,THETA,D18O_NO3,D18O_NO3_FLAG_W,CDOM2C,CDOM2C_FLAG_W,CDOM3C,CDOM3C_FLAG_W,LAB_DEN,LAB_DEN_FLAG_W,DELSI30,DELSI30_FLAG_W,N2,N2_FLAG_W,D15N_NO3,D15N_NO3_FLAG_W,HELIER,DELHER
,,,,,,,,,,,METERS,DBAR,ITS-90,PSS-78,,PSS-78,,UMOL/KG,,UMOL/KG,,UMOL/KG,,UMOL/KG,,UMOL/KG,,UMOL/KG,,PMOL/KG,,PMOL/KG,,FMOL/KG,,UMOL/KG,,UMOL/KG,,UATM,,DEG C,,,DEG C,TU,,NMOL/KG,,PERCNT,,/MILLE,,/MILLE,,NMOL/KG,,NMOL/KG,PMOL/KG,,UG/KG,,UMOL/KG,,UMOL/KG,,UMOL/KG,,UG/KG,,UMOL/KG,,TU,1/M,,1/M,,1/M,,1/M,,1/M,,1/M,,1/M,,1/NM,,1/NM,,DEG C,/MILLE,,,,,,,,/MILLE,,UMOL/KG,,/MILLE,,NMOL/KG,PERCNT
33RO20071215,        P18,      91,          1,         36,      12017,2,20080114,       1535,   -23.9997,  -103.0002,       3833,     5.1,  23.5347,  36.1160,2,  36.1154,2,    215.3,2,   216.5,2,    0.70,2,    0.00,2,    0.00,2,    0.20,2,   1.956,6,   1.209,6,   0.9985,6,  2082.4,6,  2385.3,2,   -999.0,9,  -999.00,   8.0055,2,    25.00,   0.395,2,   1.7191,2,   -1.66,2,    1.43,2,  -999.0,1,   6.828,2,   0.023,-999.000,9,-999.000,9,   70.25,2,    3.83,2, -999.00,1,    0.02,2, -999.00,9,   0.007,   0.0446,2,   0.0276,2,   0.0074,2,   0.0042,2,   0.0024,2,   0.0003,3,  -0.0010,4,   0.0341,2,   0.0333,2,  23.5336,     -999.0,9,     -999.0,9,     -999.0,9,     -999.0,9,     -999.0,9,     -999.0,9,     -999.0,9,   0.0048,    0.15
33RO20071215,        P18,      91,          1,         35,      12029,2,20080114,       1535,   -23.9997,  -103.0002,       3833,    10.0,  23.5450,  36.1152,2,  36.1187,2,    215.4,2,   216.5,2,    0.70,2,    0.00,2,    0.00,2,    0.20,2,-999.000,9,-999.000,9,-999.0000,9,  2082.1,2,  2391.1,2,   -999.0,9,  -999.00,   8.0205,2,    25.00,-999.000,9,-999.0000,9, -999.00,9, -999.00,9,  -999.0,9,-999.000,9,-999.000,-999.000,9,-999.000,9,   70.02,2,    4.02,2, -999.00,1,    0.02,2, -999.00,9,-999.000,   0.0376,2,   0.0225,2,   0.0053,2,   0.0026,2,   0.0009,3,  -0.0010,4,  -0.0017,4,   0.0376,2,   0.0357,2,  23.5430,     -999.0,9,     -999.0,9,     -999.0,9,     -999.0,9,     -999.0,9,     -999.0,9,     -999.0,9,-999.0000, -999.00
33RO20071215,        P18,      91,          1,         34,      12049,2,20080114,       1535,   -23.9997,  -103.0002,       3833,    24.1,  22.9451,  36.0919,2,  36.0993,2,    217.8,2,   218.3,2,    0.70,2,    0.00,2,    0.00,2,    0.20,2,   1.977,2,   1.218,2,   1.0312,2,  2081.4,2,  2390.8,2,   -999.0,9,  -999.00,   7.9725,2,    25.00,   0.392,2,   1.7170,2,   -1.51,2, -999.00,9,  -999.0,9,   6.887,2,   0.023,-999.000,9,-999.000,9,   69.26,2,    3.90,2, -999.00,1,    0.02,2, -999.00,9,   0.007,   0.0579,2,   0.0421,2,   0.0177,2,   0.0106,2,   0.0065,2,   0.0018,3,  -0.0009,4,   0.0199,2,   0.0208,2,  22.9402,     -999.0,9,     -999.0,9,     -999.0,9,     -999.0,9,     -999.0,9,     -999.0,9,     -999.0,9,   0.0048,    0.15
33RO20071215,        P18,      91,          1,         33,      12027,2,20080114,       1535,   -23.9997,  -103.0002,       3833,    49.7,  21.5885,  35.9751,2,  35.9800,2,    226.9,2,   227.1,2,    0.70,2,    0.00,2,    0.00,2,    0.21,2,-999.000,9,-999.000,9,-999.0000,9,  2076.9,2,  2383.2,2,   -999.0,9,  -999.00,   7.9974,2,    25.00,-999.000,9,-999.0000,9, -999.00,9, -999.00,9,  -999.0,9,-999.000,9,-999.000,-999.000,9,-999.000,9,   68.84,2,    4.59,2, -999.00,1,    0.03,2, -999.00,9,-999.000,   0.0501,2,   0.0326,2,   0.0129,2,   0.0076,2,   0.0040,2,   0.0000,4,  -0.0020,4,   0.0233,2,   0.0253,2,  21.5788,     -999.0,9,     -999.0,9,     -999.0,9,     -999.0,9,     -999.0,9,     -999.0,9,     -999.0,9,-999.0000, -999.00
33RO20071215,        P18,      91,          1,         32,      12023,2,20080114,       1535,   -23.9997,  -103.0002,       3833,    74.6,  21.0273,  35.9311,2,  35.9417,2,    228.8,2,   229.3,2,    0.70,2,    0.00,2,    0.00,2,    0.21,2,   2.144,2,   1.314,2,   1.0894,2,  2075.1,2,  2385.0,2,   -999.0,9,  -999.00,   8.0114,2,    25.00,   0.355,2,   1.7285,2,   -1.49,2, -999.00,9,  -999.0,9,   6.934,2,   0.024,-999.000,9,-999.000,9,   67.66,2,    3.94,2, -999.00,1,    0.05,2, -999.00,9,   0.007,   0.0725,2,   0.0494,2,   0.0214,2,   0.0131,2,   0.0078,2,   0.0021,3,  -0.0008,4,   0.0188,2,   0.0212,2,  21.0129,     -999.0,9,     -999.0,9,     -999.0,9,     -999.0,9,     -999.0,9,     -999.0,9,     -999.0,9,   0.0048,    0.15
33RO20071215,        P18,      91,          1,         31,      12037,2,20080114,       1535,   -23.9997,  -103.0002,       3833,   100.6,  20.6405,  35.9043,2,  35.9071,2,    228.1,2,   228.8,2,    0.70,2,    0.00,2,    0.00,2,    0.21,2,-999.000,9,-999.000,9,-999.0000,9,  2074.8,2,  2374.8,2,   -999.0,9,  -999.00,   7.9998,2,    25.00,-999.000,9,-999.0000,9, -999.00,9, -999.00,9,  -999.0,9,-999.000,9,-999.000,-999.000,9,-999.000,9,   66.88,2,    4.04,2, -999.00,1,    0.07,2, -999.00,9,-999.000,   0.0812,2,   0.0565,2,   0.0263,2,   0.0173,2,   0.0106,2,   0.0036,2,   0.0000,4,   0.0165,2,   0.0190,2,  20.6215,     -999.0,9,     -999.0,9,     -999.0,9,     -999.0,9,     -999.0,9,     -999.0,9,     -999.0,9,-999.0000, -999.00
33RO20071215,        P18,      91,          1,         30,      12036,2,20080114,       1535,   -23.9997,  -103.0002,       3833,   124.6,  20.6525,  35.9621,2,  35.9557,2,    224.2,2,   224.9,2,    0.70,2,    0.00,2,    0.00,2,    0.19,2,   2.156,2,   1.315,2,   1.0862,2,  2074.7,2,  2374.9,2,   -999.0,9,  -999.00,   8.0149,2,    25.00,   0.378,2,   1.7302,2,   -1.32,2, -999.00,9,  -999.0,9,   6.983,2,   0.024,-999.000,9,-999.000,9,   65.21,2,    3.59,2, -999.00,1,    0.07,2, -999.00,9,   0.007,   0.0841,2,   0.0604,2,   0.0285,2,   0.0189,2,   0.0115,2,   0.0039,2,   0.0001,4,   0.0163,2,   0.0181,2,  20.6289,     -999.0,9,     -999.0,9,     -999.0,9,     -999.0,9,     -999.0,9,     -999.0,9,     -999.0,9,   0.0048,    0.15
33RO20071215,        P18,      91,          1,         29,      12044,2,20080114,       1535,   -23.9997,  -103.0002,       3833,   147.1,  20.3224,  35.8908,2,  35.8833,2,    222.9,2,   222.9,2,    0.70,2,    0.00,2,    0.01,2,    0.21,2,-999.000,9,-999.000,9,-999.0000,9,  2077.0,2,  2372.8,2,   -999.0,9,  -999.00,   8.0105,2,    25.00,-999.000,9,-999.0000,9, -999.00,9, -999.00,9,  -999.0,9,-999.000,9,-999.000,-999.000,9,-999.000,9,   65.15,2,    3.72,2, -999.00,1,    0.10,2, -999.00,9,-999.000,   0.0700,2,   0.0488,2,   0.0234,2,   0.0166,2,   0.0100,2,   0.0038,2,   0.0006,3,   0.0154,2,   0.0180,2,  20.2948,     -999.0,9,     -999.0,9,     -999.0,9,     -999.0,9,     -999.0,9,     -999.0,9,     -999.0,9,-999.0000, -999.00
33RO20071215,        P18,      91,          1,         28,      12057,2,20080114,       1535,   -23.9997,  -103.0002,       3833,   173.5,  20.0969,  35.8434,2,  35.8447,2,    219.7,2,   220.0,2,    0.70,2,    0.10,2,    0.10,2,    0.22,2,   2.200,2,   1.340,2,   1.0812,2,  2077.4,2,  2366.9,2,   -999.0,9,  -999.00,   7.9928,2,    25.00,   0.379,2,   1.7501,2,   -1.25,2, -999.00,9,  -999.0,9,   6.948,2,   0.024,-999.000,9,-999.000,9,   64.98,2,    4.33,2, -999.00,1,    0.12,2, -999.00,1,   0.007,   0.0670,2,   0.0470,2,   0.0216,2,   0.0148,2,   0.0082,2,   0.0019,3,  -0.0008,4,   0.0166,2,   0.0190,2,  20.0645,     -999.0,1,     -999.0,9,     -999.0,9,     -999.0,9,     -999.0,9,     -999.0,1,     -999.0,9,   0.0049,    0.15
33RO20071215,        P18,      91,          1,         27,      12026,2,20080114,       1535,   -23.9997,  -103.0002,       3833,   200.1,  19.9442,  35.8162,2,  35.8122,2,    217.9,2,   220.2,2,    0.80,2,    0.20,2,    0.14,2,    0.21,2,-999.000,9,-999.000,9,-999.0000,9,  2075.2,2,  2366.2,2,   -999.0,9,  -999.00,   8.0209,2,    25.00,-999.000,9,-999.0000,9, -999.00,9, -999.00,9,  -999.0,9,-999.000,9,-999.000,-999.000,9,-999.000,9,   62.41,2,    4.08,2, -999.00,1,    0.06,2, -999.00,1,-999.000,   0.0651,2,   0.0459,2,   0.0199,2,   0.0126,2,   0.0064,2,   0.0007,3,  -0.0014,4,   0.0188,2,   0.0205,2,  19.9071,     -999.0,1,     -999.0,9,     -999.0,9,     -999.0,9,     -999.0,9,     -999.0,1,     -999.0,9,-999.0000, -999.00
33RO20071215,        P18,      91,          1,         26,      12030,2,20080114,       1535,   -23.9997,  -103.0002,       3833,   249.9,  18.6938,  35.5217,2,  35.4539,2,    214.6,2,   214.4,2,    0.80,2,    1.60,2,    0.11,2,    0.29,2,   2.391,2,   1.428,2,   1.1152,2,  2071.9,2,  -999.0,9,   -999.0,9,  -999.00,-999.0000,9,  -999.00,   0.408,2,   1.7527,2,   -1.22,2, -999.00,9,  -999.0,9,   7.046,2,   0.024,-999.000,9,-999.000,9,   58.65,2,    4.95,2, -999.00,1,    0.02,2, -999.00,1,   0.007,   0.0688,2,   0.0476,2,   0.0217,2,   0.0151,2,   0.0077,2,   0.0011,3,  -0.0012,4,   0.0169,2,   0.0194,2,  18.6495,     -999.0,1,     -999.0,9,     -999.0,9,     -999.0,9,     -999.0,9,     -999.0,1,     -999.0,9,   0.0049,    0.15
33RO20071215,        P18,      91,          1,         25,      12024,2,20080114,       1535,   -23.9997,  -103.0002,       3833,   301.0,  14.6221,  34.7362,2,  34.7374,2,    199.1,2,   198.7,2,    1.70,2,    7.60,2,    0.01,2,    0.67,2,-999.000,9,-999.000,9,-999.0000,9,  2086.5,2,  2297.2,2,   -999.0,9,  -999.00,   7.8773,2,    25.00,-999.000,9,-999.0000,9, -999.00,9, -999.00,9,  -999.0,9,-999.000,9,-999.000,-999.000,9,-999.000,9,   48.73,2,    9.41,2, -999.00,1, -999.00,9, -999.00,1,-999.000,   0.0883,2,   0.0614,2,   0.0286,2,   0.0204,2,   0.0103,2,   0.0020,2,  -0.0008,4,   0.0165,2,   0.0187,2,  14.5772,     -999.0,1,     -999.0,9,     -999.0,9,     -999.0,9,     -999.0,9,     -999.0,1,     -999.0,9,-999.0000, -999.00
33RO20071215,        P18,      91,          1,         24,      12019,2,20080114,       1535,   -23.9997,  -103.0002,       3833,   350.2,  11.8204,  34.4878,2,  34.4811,2,    189.9,2,   187.3,2,    4.10,2,   14.50,2,    0.00,2,    1.15,2,   3.037,2,   1.635,2,   0.7993,2,  2119.4,2,  -999.0,9,   -999.0,9,  -999.00,-999.0000,9,  -999.00,   0.261,2,   1.7799,2,   -0.12,2, -999.00,9,  -999.0,9,   7.343,2,   0.025,-999.000,9,-999.000,9,   43.80,2,   16.13,2, -999.00,1, -999.00,9, -999.00,1,   0.007,   0.1027,2,   0.0718,2,   0.0344,2,   0.0244,2,   0.0143,2,   0.0061,2,   0.0022,2,   0.0157,2,   0.0178,2,  11.7751,     -999.0,1,     -999.0,9,     -999.0,9,     -999.0,9,     -999.0,9,     -999.0,1,     -999.0,9,   0.0050,    0.15
33RO20071215,        P18,      91,          1,         23,      12022,2,20080114,       1535,   -23.9997,  -103.0002,       3833,   400.1,   9.7342,  34.3927,2,  34.3923,2,    151.8,2,   151.5,2,    9.70,2,   22.30,2,    0.00,2,    1.76,2,-999.000,9,-999.000,9,-999.0000,9,  2167.1,6,  2280.6,2,   -999.0,9,  -999.00,   7.6346,2,    25.00,   0.195,2,   1.7929,2,    0.46,2, -999.00,9,  -999.0,9,   7.450,2,   0.025,-999.000,9,-999.000,9,   42.79,2,   23.78,2, -999.00,1, -999.00,9, -999.00,1,   0.007,   0.1129,2,   0.0780,2,   0.0397,2,   0.0301,2,   0.0179,2,   0.0073,2,   0.0026,2,   0.0147,2,   0.0164,2,   9.6884,     -999.0,1,     -999.0,9,     -999.0,9,     -999.0,9,     -999.0,9,     -999.0,1,     -999.0,9,   0.0050,    0.15
33RO20071215,        P18,      91,          1,         22,      12015,2,20080114,       1535,   -23.9997,  -103.0002,       3833,   500.4,   7.4416,  34.3920,2,  34.3913,2,    131.8,2,   130.9,2,   16.70,2,   30.80,2,    0.00,2,    2.26,2,   1.719,2,   0.857,2,   0.2359,2,  2205.9,2,  2287.6,2,   -999.0,9,  -999.00,   7.5378,2,    25.00,-999.000,9,-999.0000,9, -999.00,9, -999.00,9,  -999.0,9,-999.000,9,-999.000,-999.000,9,-999.000,9,   41.84,2,   31.70,2, -999.00,1, -999.00,9, -999.00,1,-999.000,   0.1196,2,   0.0821,2,   0.0435,2,   0.0329,2,   0.0199,2,   0.0076,2,   0.0023,2,   0.0145,2,   0.0159,2,   7.3925,     -999.0,1,     -999.0,9,     -999.0,9,     -999.0,9,     -999.0,9,     -999.0,1,     -999.0,9,-999.0000, -999.00
33RO20071215,        P18,      91,          1,         21,      12020,2,20080114,       1535,   -23.9997,  -103.0002,       3833,   601.2,   6.1695,  34.3362,2,  34.3352,2,    180.7,2,   177.4,2,   16.80,2,   30.30,2,    0.00,2,    2.12,2,-999.000,9,-999.000,9,-999.0000,9,  2186.7,2,  -999.0,9,   -999.0,9,  -999.00,-999.0000,9,  -999.00,-999.000,9,-999.0000,9, -999.00,9, -999.00,9,  -999.0,9,-999.000,9,-999.000,-999.000,9,-999.000,9,   40.73,2,   31.55,2, -999.00,1, -999.00,9, -999.00,1,-999.000,   0.1132,2,   0.0769,2,   0.0403,2,   0.0300,2,   0.0191,2,   0.0082,2,   0.0029,2,   0.0142,2,   0.0161,2,   6.1159,     -999.0,1,     -999.0,9,     -999.0,9,     -999.0,9,     -999.0,9,     -999.0,1,     -999.0,9,-999.0000, -999.00
33RO20071215,        P18,      91,          1,         20,      12055,2,20080114,       1535,   -23.9997,  -103.0002,       3833,   699.9,   5.5512,  34.3300,2,  34.3343,2,    174.3,2,   172.8,2,   22.50,2,   32.20,2,    0.00,2,    2.25,2,   1.138,2,   0.570,2,   0.1330,2,  2195.8,2,  -999.0,9,   -999.0,9,  -999.00,-999.0000,9,  -999.00,-999.000,9,-999.0000,9, -999.00,9, -999.00,9,  -999.0,9,-999.000,9,-999.000,-999.000,9,-999.000,9,   39.49,2,   33.63,2, -999.00,1, -999.00,9, -999.00,1,-999.000,   0.1062,2,   0.0700,2,   0.0346,2,   0.0249,2,   0.0148,2,   0.0050,2,   0.0009,2,   0.0154,2,   0.0181,2,   5.4916,     -999.0,1,     -999.0,9,     -999.0,9,     -999.0,9,     -999.0,9,     -999.0,1,     -999.0,9,-999.0000, -999.00
33RO20071215,        P18,      91,          1,         19,      12018,2,20080114,       1535,   -23.9997,  -103.0002,       3833,   799.9,   5.0222,  34.3549,2,  34.3527,2,    154.8,2,   154.5,2,   32.70,2,   34.80,2,    0.00,2,    2.44,2,-999.000,9,-999.000,9,-999.0000,9,  2216.0,2,  -999.0,9,   -999.0,9,  -999.00,-999.0000,9,  -999.00,-999.000,9,-999.0000,9, -999.00,9, -999.00,9,  -999.0,9,-999.000,9,-999.000,-999.000,9,-999.000,9,   38.83,2,   35.75,2, -999.00,1, -999.00,9, -999.00,1,-999.000,   0.1055,2,   0.0680,2,   0.0327,2,   0.0229,2,   0.0131,2,   0.0038,2,   0.0002,4,   0.0162,2,   0.0194,2,   4.9568,     -999.0,1,     -999.0,9,     -999.0,9,     -999.0,9,     -999.0,9,     -999.0,1,     -999.0,9,-999.0000, -999.00
33RO20071215,        P18,      91,          1,         18,      12025,2,20080114,       1535,   -23.9997,  -103.0002,       3833,   899.4,   4.4908,  34.3982,2,  34.3989,2,    136.2,2,   135.4,2,   47.30,2,   37.00,2,    0.00,2,    2.61,2,-999.000,9,-999.000,9,-999.0000,9,  2240.3,2,  2310.3,2,   -999.0,9,  -999.00,   7.5296,2,    25.00,-999.000,9,-999.0000,9, -999.00,9, -999.00,9,  -999.0,9,-999.000,9,-999.000,-999.000,9,-999.000,9,   38.21,2,   38.67,2, -999.00,1, -999.00,9, -999.00,9,-999.000,   0.1255,2,   0.0852,2,   0.0453,2,   0.0324,2,   0.0209,2,   0.0088,2,   0.0030,2,   0.0145,2,   0.0162,2,   4.4202,     -999.0,9,     -999.0,9,     -999.0,9,     -999.0,9,     -999.0,9,     -999.0,9,     -999.0,9,-999.0000, -999.00
33RO20071215,        P18,      91,          1,         17,      12016,2,20080114,       1535,   -23.9997,  -103.0002,       3833,  1000.4,   4.0442,  34.4538,2,  34.4554,2,    131.5,2,   131.4,2,   61.70,2,   37.40,2,    0.00,2,    2.65,2,-999.000,9,-999.000,9,-999.0000,9,  2255.0,2,  -999.0,9,   -999.0,9,  -999.00,-999.0000,9,  -999.00,-999.000,9,-999.0000,9, -999.00,9, -999.00,9,  -999.0,9,-999.000,9,-999.000,-999.000,9,-999.000,9,   37.79,2,   38.71,2, -999.00,1, -999.00,9, -999.00,9,-999.000,   0.1236,2,   0.0830,2,   0.0428,2,   0.0303,2,   0.0192,2,   0.0078,3,   0.0025,3,   0.0149,2,   0.0169,2,   3.9683,     -999.0,9,     -999.0,9,     -999.0,9,     -999.0,9,     -999.0,9,     -999.0,9,     -999.0,9,-999.0000, -999.00
33RO20071215,        P18,      91,          1,         16,      12051,2,20080114,       1535,   -23.9997,  -103.0002,       3833,  1100.6,   3.8050,  34.4989,2,  34.4987,2,    129.7,2,   130.0,2,   72.60,2,   37.40,2,    0.00,2,    2.65,2,-999.000,9,-999.000,9,-999.0000,9,  2266.5,2,  -999.0,9,   -999.0,9,  -999.00,-999.0000,9,  -999.00,-999.000,9,-999.0000,9, -999.00,9, -999.00,9,  -999.0,9,-999.000,9,-999.000,-999.000,9,-999.000,9,   37.77,2,   38.88,2, -999.00,9, -999.00,9, -999.00,9,-999.000,   0.1176,2,   0.0778,2,   0.0393,2,   0.0270,2,   0.0167,2,   0.0060,2,   0.0013,2,   0.0156,2,   0.0179,2,   3.7225,     -999.0,9,     -999.0,9,     -999.0,9,     -999.0,9,     -999.0,9,     -999.0,9,     -999.0,9,-999.0000, -999.00
33RO20071215,        P18,      91,          1,         15,      12014,2,20080114,       1535,   -23.9997,  -103.0002,       3833,  1199.8,   3.5457,  34.5204,2,  34.5202,2,    131.6,2,   131.9,2,   79.70,2,   37.30,2,    0.00,2,    2.65,2,-999.000,9,-999.000,9,-999.0000,9,  2272.5,2,  -999.0,9,   -999.0,9,  -999.00,-999.0000,9,  -999.00,-999.000,9,-999.0000,9, -999.00,9, -999.00,9,  -999.0,9,-999.000,9,-999.000,-999.000,9,-999.000,9,   37.67,2,   39.12,2, -999.00,9, -999.00,9, -999.00,9,-999.000,   0.1169,2,   0.0775,2,   0.0390,2,   0.0263,2,   0.0162,2,   0.0056,2,   0.0011,2,   0.0158,2,   0.0181,2,   3.4573,     -999.0,9,     -999.0,9,     -999.0,9,     -999.0,9,     -999.0,9,     -999.0,9,     -999.0,9,-999.0000, -999.00
33RO20071215,        P18,      91,          1,         14,      12013,2,20080114,       1535,   -23.9997,  -103.0002,       3833,  1300.9,   3.2862,  34.5389,2,  34.5390,2,    136.0,2,   135.9,2,   85.70,2,   37.00,2,    0.00,2,    2.62,2,-999.000,9,-999.000,9,-999.0000,9,  2276.4,2,  2347.7,2,   -999.0,9,  -999.00,   7.5434,2,    25.00,-999.000,9,-999.0000,9, -999.00,9, -999.00,9,  -999.0,9,-999.000,9,-999.000,-999.000,9,-999.000,9,   37.65,2,   38.46,2, -999.00,9, -999.00,9, -999.00,9,-999.000,   0.1199,2,   0.0797,2,   0.0405,2,   0.0272,2,   0.0169,2,   0.0062,2,   0.0014,2,   0.0157,2,   0.0179,2,   3.1919,     -999.0,9,     -999.0,9,     -999.0,9,     -999.0,9,     -999.0,9,     -999.0,9,     -999.0,9,-999.0000, -999.00
33RO20071215,        P18,      91,          1,         13,      12012,2,20080114,       1535,   -23.9997,  -103.0002,       3833,  1401.4,   3.0602,  34.5584,2,  34.5576,2,    134.0,2,   134.0,2,   92.50,2,   37.20,2,    0.00,2,    2.64,2,-999.000,9,-999.000,9,-999.0000,9,  2284.5,2,  -999.0,9,   -999.0,9,  -999.00,-999.0000,9,  -999.00,-999.000,9,-999.0000,9, -999.00,9, -999.00,9,  -999.0,9,-999.000,9,-999.000,-999.000,9,-999.000,9,   37.56,2,   38.83,2, -999.00,9, -999.00,9, -999.00,9,-999.000,   0.1431,2,   0.0991,2,   0.0533,2,   0.0373,2,   0.0248,2,   0.0120,2,   0.0049,2,   0.0140,2,   0.0156,2,   2.9599,     -999.0,9,     -999.0,9,     -999.0,9,     -999.0,9,     -999.0,9,     -999.0,9,     -999.0,9,-999.0000, -999.00
33RO20071215,        P18,      91,          1,         12,      12031,2,20080114,       1535,   -23.9997,  -103.0002,       3833,  1599.9,   2.6931,  34.5853,2,  34.5850,2,    136.2,2,   137.2,2,  101.20,2,   37.20,2,    0.00,2,    2.61,2,-999.000,9,-999.000,9,-999.0000,9,  2291.8,2,  -999.0,9,   -999.0,9,  -999.00,-999.0000,9,  -999.00,-999.000,9,-999.0000,9, -999.00,9, -999.00,9,  -999.0,9,-999.000,9,-999.000,-999.000,9,-999.000,9,   37.20,2,   38.32,2, -999.00,9, -999.00,9, -999.00,9,-999.000,   0.1279,2,   0.0862,2,   0.0436,2,   0.0294,2,   0.0185,2,   0.0077,2,   0.0024,2,   0.0155,2,   0.0176,2,   2.5805,     -999.0,9,     -999.0,9,     -999.0,9,     -999.0,9,     -999.0,9,     -999.0,9,     -999.0,9,-999.0000, -999.00