BOTTLE,20220818CCHSIOAMB
EXPOCODE,SECT_ID,STNNBR,CASTNO,SAMPNO,BTLNBR,BTLNBR_FLAG_W,DATE,TIME,LATITUDE,LONGITUDE,DEPTH,CTDPRS,CTDTMP,CTDSAL,CTDSAL_FLAG_W,SALNTY,SALNTY_FLAG_W,CTDOXY,CTDOXY_FLAG_W,OXYGEN,OXYGEN_FLAG_W,SILCAT,SILCAT_FLAG_W,NITRAT,NITRAT_FLAG_W,NITRIT,NITRIT_FLAG_W,PHSPHT,PHSPHT_FLAG_W,CFC-11,CFC-11_FLAG_W,CFC-12,CFC-12_FLAG_W,SF6,SF6_FLAG_W,TCARBN,TCARBN_FLAG_W,ALKALI,ALKALI_FLAG_W,FCO2,FCO2_FLAG_W,FCO2TMP,PH_SWS,PH_SWS_FLAG_W,PH_TMP,TRITUM,TRITUM_FLAG_W,HELIUM,HELIUM_FLAG_W,DELHE3,DELHE3_FLAG_W,DELC13,DELC13_FLAG_W,DELC14,DELC14_FLAG_W,NEON,NEON_FLAG_W,NEONER,CCL4,CCL4_FLAG_W,POC,POC_FLAG_W,DOC,DOC_FLAG_W,TDN,TDN_FLAG_W,DON,DON_FLAG_W,CHLORA,CHLORA_FLAG_W,ARGON,ARGON_FLAG_W,TRITER,CDOM325,CDOM325_FLAG_W,CDOM340,CDOM340_FLAG_W,CDOM380,CDOM380_FLAG_W,CDOM412,CDOM412_FLAG_W,CDOM443,CDOM443_FLAG_W,CDOM490,CDOM490_FLAG_W,CDOM555,CDOM555_FLAG_W,CDOMSL,CDOMSL_FLAG_W,CDOMSN,CDOMSN_FLAG_W,THETA,D18O_NO3,D18O_NO3_FLAG_W,CDOM2C,CDOM2C_FLAG_W,CDOM3C,CDOM3C_FLAG_W,LAB_DEN,LAB_DEN_FLAG_W,DELSI30,DELSI30_FLAG_W,N2,N2_FLAG_W,D15N_NO3,D15N_NO3_FLAG_W,HELIER,DELHER
,,,,,,,,,,,METERS,DBAR,ITS-90,PSS-78,,PSS-78,,UMOL/KG,,UMOL/KG,,UMOL/KG,,UMOL/KG,,UMOL/KG,,UMOL/KG,,PMOL/KG,,PMOL/KG,,FMOL/KG,,UMOL/KG,,UMOL/KG,,UATM,,DEG C,,,DEG C,TU,,NMOL/KG,,PERCNT,,/MILLE,,/MILLE,,NMOL/KG,,NMOL/KG,PMOL/KG,,UG/KG,,UMOL/KG,,UMOL/KG,,UMOL/KG,,UG/KG,,UMOL/KG,,TU,1/M,,1/M,,1/M,,1/M,,1/M,,1/M,,1/M,,1/NM,,1/NM,,DEG C,/MILLE,,,,,,,,/MILLE,,UMOL/KG,,/MILLE,,NMOL/KG,PERCNT
33RO20071215,        P18,      18,          1,         36,      12017,2,20071221,       2129,    14.4165,  -110.0002,       4430,     4.8,  27.2712,  33.8210,2,  33.8224,2,    203.5,2,   202.0,2,    1.40,2,    0.00,2,    0.00,2,    0.11,2,   1.593,6,   1.021,6,   0.9854,6,  1926.7,6,  2235.5,2,   -999.0,9,  -999.00,   8.0742,2,    25.00,-999.000,9,-999.0000,9, -999.00,9, -999.00,9,  -999.0,9,-999.000,9,-999.000,-999.000,9,-999.000,9, -999.00,9, -999.00,9, -999.00,9,    0.12,2, -999.00,9,-999.000,   0.0855,2,   0.0566,2,   0.0245,2,   0.0162,2,   0.0086,2,   0.0034,2,  -0.0001,4,   0.0181,2,   0.0216,2,  27.2700,     -999.0,9,     -999.0,9,     -999.0,9,     -999.0,9,     -999.0,9,     -999.0,9,     -999.0,9,-999.0000, -999.00
33RO20071215,        P18,      18,          1,         35,      12029,2,20071221,       2129,    14.4165,  -110.0002,       4430,    11.3,  27.2233,  33.8239,2,  33.8264,2,    203.4,2,   202.8,2,    1.30,2,    0.10,2,    0.00,2,    0.12,2,   1.584,2,   1.006,2,   0.9877,2,  1927.8,2,  2237.0,2,   -999.0,9,  -999.00,   8.0747,2,    25.00,-999.000,9,-999.0000,9, -999.00,9, -999.00,9,  -999.0,9,-999.000,9,-999.000,-999.000,9,-999.000,9, -999.00,9, -999.00,9, -999.00,9,    0.14,2, -999.00,9,-999.000,   0.0952,2,   0.0648,2,   0.0309,2,   0.0207,2,   0.0121,2,   0.0057,2,   0.0011,2,   0.0163,2,   0.0189,2,  27.2207,     -999.0,9,     -999.0,9,     -999.0,9,     -999.0,9,     -999.0,9,     -999.0,9,     -999.0,9,-999.0000, -999.00
33RO20071215,        P18,      18,          1,         34,      12049,2,20071221,       2129,    14.4165,  -110.0002,       4430,    19.9,  27.1523,  33.8260,2,  33.8281,2,    203.5,2,   201.8,2,    1.20,2,    0.10,2,    0.00,2,    0.14,2,   1.565,2,   1.013,2,   1.0168,2,  1928.7,2,  2237.7,2,   -999.0,9,  -999.00,   8.0690,2,    25.00,-999.000,9,-999.0000,9, -999.00,9, -999.00,9,  -999.0,9,-999.000,9,-999.000,-999.000,9,-999.000,1, -999.00,9, -999.00,9, -999.00,9,    0.15,2, -999.00,9,-999.000,   0.0895,2,   0.0595,2,   0.0268,2,   0.0191,2,   0.0105,2,   0.0043,2,   0.0004,3,   0.0167,2,   0.0201,2,  27.1477,     -999.0,9,     -999.0,9,     -999.0,9,     -999.0,9,     -999.0,9,     -999.0,9,     -999.0,9,-999.0000, -999.00
33RO20071215,        P18,      18,          1,         33,      12027,2,20071221,       2129,    14.4165,  -110.0002,       4430,    42.3,  25.4936,  34.1451,2,  34.1841,2,    185.5,2,   171.4,2,    3.10,2,    2.70,2,    0.09,2,    0.44,2,   1.703,2,   1.055,2,   0.9798,2,  2017.4,2,  2285.4,2,   -999.0,9,  -999.00,   7.9653,2,    25.00,-999.000,9,-999.0000,9, -999.00,9, -999.00,9,  -999.0,9,-999.000,9,-999.000,-999.000,9,-999.000,9, -999.00,9, -999.00,9, -999.00,9,    0.44,2, -999.00,9,-999.000,   0.2322,2,   0.1667,2,   0.0856,2,   0.0602,2,   0.0358,2,   0.0177,2,   0.0072,2,   0.0149,2,   0.0161,2,  25.4843,     -999.0,9,     -999.0,9,     -999.0,9,     -999.0,9,     -999.0,9,     -999.0,9,     -999.0,9,-999.0000, -999.00
33RO20071215,        P18,      18,          1,         32,      12023,2,20071221,       2129,    14.4165,  -110.0002,       4430,    66.7,  17.6654,  34.5414,2,  34.5632,2,     23.2,2,    21.2,2,   15.90,2,   23.80,2,    0.49,2,    2.03,2,   1.496,2,   0.848,2,   0.5608,2,  2203.8,2,  2292.7,2,   -999.0,9,  -999.00,   7.5421,2,    25.00,-999.000,9,-999.0000,9, -999.00,9, -999.00,9,  -999.0,9,-999.000,9,-999.000,-999.000,9,-999.000,9, -999.00,9, -999.00,9, -999.00,9,    0.19,2, -999.00,9,-999.000,   0.2877,2,   0.2156,2,   0.1205,2,   0.0928,2,   0.0549,2,   0.0253,2,   0.0110,2,   0.0141,2,   0.0140,2,  17.6541,     -999.0,9,     -999.0,9,     -999.0,9,     -999.0,9,     -999.0,9,     -999.0,9,     -999.0,9,-999.0000, -999.00
33RO20071215,        P18,      18,          1,         31,      12037,2,20071221,       2129,    14.4165,  -110.0002,       4430,    92.3,  14.3259,  34.7408,2,  34.7428,2,      4.2,2,     3.1,2,   23.90,2,   27.30,2,    0.19,2,    2.35,2,   1.088,2,   0.584,2,   0.2716,2,  2241.8,2,  2311.2,2,   -999.0,9,  -999.00,   7.4591,2,    25.00,-999.000,9,-999.0000,9, -999.00,9, -999.00,9,  -999.0,9,-999.000,9,-999.000,-999.000,9,-999.000,9, -999.00,9, -999.00,9, -999.00,9,    0.02,2, -999.00,9,-999.000,   0.2415,2,   0.1828,2,   0.1102,2,   0.0911,2,   0.0548,2,   0.0247,2,   0.0099,2,   0.0139,2,   0.0126,2,  14.3124,     -999.0,9,     -999.0,9,     -999.0,9,     -999.0,9,     -999.0,9,     -999.0,9,     -999.0,9,-999.0000, -999.00
33RO20071215,        P18,      18,          1,         30,      12036,2,20071221,       2129,    14.4165,  -110.0002,       4430,   115.4,  13.3918,  34.7780,2,  34.7764,2,      3.4,2,     2.9,2,   26.20,2,   27.20,2,    0.14,2,    2.38,2,   0.944,2,   0.499,2,   0.2083,2,  2247.5,2,  2294.8,3,   -999.0,9,  -999.00,   7.4517,2,    25.00,-999.000,9,-999.0000,9, -999.00,9, -999.00,9,  -999.0,9,-999.000,9,-999.000,-999.000,9,-999.000,9, -999.00,9, -999.00,9, -999.00,9,    0.01,2, -999.00,9,-999.000,   0.2180,2,   0.1654,2,   0.1007,2,   0.0846,2,   0.0492,2,   0.0207,2,   0.0081,2,   0.0143,2,   0.0126,2,  13.3757,     -999.0,9,     -999.0,9,     -999.0,9,     -999.0,9,     -999.0,9,     -999.0,9,     -999.0,9,-999.0000, -999.00
33RO20071215,        P18,      18,          1,         29,      12044,2,20071221,       2129,    14.4165,  -110.0002,       4430,   141.3,  12.5525,  34.7917,2,  34.7902,2,      3.0,2,     2.3,2,   27.80,2,   28.80,2,    1.02,2,    2.38,2,   0.690,2,   0.393,2,   0.1319,2,  2252.8,2,  2303.1,2,   -999.0,9,  -999.00,   7.4368,2,    25.00,-999.000,9,-999.0000,9, -999.00,9, -999.00,9,  -999.0,9,-999.000,9,-999.000,-999.000,9,-999.000,9, -999.00,9, -999.00,9, -999.00,9,    0.00,2, -999.00,9,-999.000,   0.2013,2,   0.1535,2,   0.0932,2,   0.0760,2,   0.0434,2,   0.0169,2,   0.0061,2,   0.0149,2,   0.0129,2,  12.5336,     -999.0,9,     -999.0,9,     -999.0,9,     -999.0,9,     -999.0,9,     -999.0,9,     -999.0,9,-999.0000, -999.00
33RO20071215,        P18,      18,          1,         28,      12057,2,20071221,       2129,    14.4165,  -110.0002,       4430,   166.6,  12.1930,  34.7844,2,  34.7845,2,      2.9,2,     2.5,2,   28.20,2,   31.10,2,    0.13,2,    2.38,2,   0.666,2,   0.361,2,   0.1342,2,  2251.9,2,  2304.2,2,   -999.0,9,  -999.00,   7.4384,2,    25.00,-999.000,9,-999.0000,9, -999.00,9, -999.00,9,  -999.0,9,-999.000,9,-999.000,-999.000,9,-999.000,9, -999.00,9, -999.00,9, -999.00,9,    0.01,2, -999.00,9,-999.000,   0.2040,2,   0.1544,2,   0.0955,2,   0.0804,2,   0.0473,2,   0.0190,2,   0.0073,2,   0.0143,2,   0.0124,2,  12.1711,     -999.0,9,     -999.0,9,     -999.0,9,     -999.0,9,     -999.0,9,     -999.0,9,     -999.0,9,-999.0000, -999.00
33RO20071215,        P18,      18,          1,         27,      12026,2,20071221,       2129,    14.4165,  -110.0002,       4430,   191.6,  11.9441,  34.7679,2,  34.7680,2,      2.7,2,     2.4,2,   29.30,2,   30.50,2,    0.50,2,    2.40,2,   0.568,6,   0.311,6,   0.1048,6,  2256.4,2,  2299.3,2,   -999.0,9,  -999.00,   7.4292,2,    25.00,-999.000,9,-999.0000,9, -999.00,9, -999.00,9,  -999.0,9,-999.000,9,-999.000,-999.000,9,-999.000,9, -999.00,9, -999.00,9, -999.00,9,    0.00,2, -999.00,9,-999.000,   0.2082,2,   0.1581,2,   0.0984,2,   0.0827,2,   0.0489,2,   0.0187,2,   0.0067,2,   0.0146,2,   0.0124,2,  11.9193,     -999.0,9,     -999.0,9,     -999.0,9,     -999.0,9,     -999.0,9,     -999.0,9,     -999.0,9,-999.0000, -999.00
33RO20071215,        P18,      18,          1,         26,      12030,2,20071221,       2129,    14.4165,  -110.0002,       4430,   232.2,  11.5546,  34.7546,2,  34.7555,2,      2.5,2,     3.0,2,   30.70,2,   28.10,2,    1.63,2,    2.45,2,   0.417,2,   0.231,2,   0.0541,2,  2261.4,2,  2302.1,2,   -999.0,9,  -999.00,-999.0000,5,  -999.00,-999.000,9,-999.0000,9, -999.00,9, -999.00,9,  -999.0,9,-999.000,9,-999.000,-999.000,9,-999.000,9, -999.00,9, -999.00,9, -999.00,9,    0.01,2, -999.00,9,-999.000,   0.2070,2,   0.1605,2,   0.0981,2,   0.0817,2,   0.0473,2,   0.0178,2,   0.0063,2,   0.0148,2,   0.0126,2,  11.5251,     -999.0,9,     -999.0,9,     -999.0,9,     -999.0,9,     -999.0,9,     -999.0,9,     -999.0,9,-999.0000, -999.00
33RO20071215,        P18,      18,          1,         25,      12024,2,20071221,       2129,    14.4165,  -110.0002,       4430,   282.4,  11.0454,  34.7240,2,  34.7233,2,      2.4,2,     3.6,2,   33.10,2,   26.00,2,    2.29,2,    2.52,2,   0.292,2,   0.161,2,   0.0348,2,  2271.2,2,  2305.6,2,   -999.0,9,  -999.00,   7.4059,2,    25.00,-999.000,9,-999.0000,9, -999.00,9, -999.00,9,  -999.0,9,-999.000,9,-999.000,-999.000,9,-999.000,9, -999.00,9, -999.00,9, -999.00,9, -999.00,9, -999.00,9,-999.000,   0.2207,2,   0.1747,2,   0.1076,2,   0.0889,2,   0.0531,2,   0.0220,2,   0.0087,2,   0.0143,2,   0.0123,2,  11.0105,     -999.0,9,     -999.0,9,     -999.0,9,     -999.0,9,     -999.0,9,     -999.0,9,     -999.0,9,-999.0000, -999.00
33RO20071215,        P18,      18,          1,         24,      12019,2,20071221,       2129,    14.4165,  -110.0002,       4430,   333.9,  10.2492,  34.6729,2,  34.6719,2,      2.4,2,     2.2,2,   38.00,2,   27.20,2,    0.79,2,    2.66,2,   0.161,2,   0.080,2,   0.0000,2,  2281.6,2,  2317.2,2,   -999.0,9,  -999.00,   7.3808,2,    25.00,-999.000,9,-999.0000,9, -999.00,9, -999.00,9,  -999.0,9,-999.000,9,-999.000,-999.000,9,-999.000,9, -999.00,9, -999.00,9, -999.00,9, -999.00,9, -999.00,9,-999.000,   0.2168,2,   0.1681,2,   0.1057,2,   0.0912,2,   0.0546,2,   0.0211,2,   0.0076,2,   0.0144,2,   0.0120,2,  10.2098,     -999.0,9,     -999.0,9,     -999.0,9,     -999.0,9,     -999.0,9,     -999.0,9,     -999.0,9,-999.0000, -999.00
33RO20071215,        P18,      18,          1,         23,      12022,2,20071221,       2129,    14.4165,  -110.0002,       4430,   382.8,   9.5879,  34.6476,2,  34.6458,2,      2.3,2,     2.2,2,   43.60,2,   27.90,2,    0.54,2,    2.77,2,   0.083,2,   0.047,2,   0.0140,2,  2290.2,2,  2322.3,2,   -999.0,9,  -999.00,   7.3743,2,    25.00,-999.000,9,-999.0000,9, -999.00,9, -999.00,9,  -999.0,9,-999.000,9,-999.000,-999.000,9,-999.000,9, -999.00,9, -999.00,9, -999.00,9, -999.00,9, -999.00,9,-999.000,   0.2210,2,   0.1709,2,   0.1075,2,   0.0913,2,   0.0552,2,   0.0217,2,   0.0079,2,   0.0143,2,   0.0120,2,   9.5444,     -999.0,9,     -999.0,9,     -999.0,9,     -999.0,9,     -999.0,9,     -999.0,9,     -999.0,9,-999.0000, -999.00
33RO20071215,        P18,      18,          1,         22,      12015,2,20071221,       2129,    14.4165,  -110.0002,       4430,   467.8,   8.5745,  34.6062,2,  34.6079,2,      2.3,2,     2.4,2,   52.50,2,   30.90,2,    0.43,2,    2.94,2,   0.032,2,   0.021,2,   0.0000,2,  2300.6,2,  2330.3,4,   -999.0,9,  -999.00,   7.3654,2,    25.00,-999.000,9,-999.0000,9, -999.00,9, -999.00,9,  -999.0,9,-999.000,9,-999.000,-999.000,9,-999.000,1, -999.00,9, -999.00,9, -999.00,9, -999.00,9, -999.00,9,-999.000,   0.2491,2,   0.1940,2,   0.1240,2,   0.1045,2,   0.0660,2,   0.0290,2,   0.0120,2,   0.0131,4,   0.0116,4,   8.5246,     -999.0,9,     -999.0,9,     -999.0,9,     -999.0,9,     -999.0,9,     -999.0,9,     -999.0,9,-999.0000, -999.00
33RO20071215,        P18,      18,          1,         21,      12020,2,20071221,       2129,    14.4165,  -110.0002,       4430,   567.5,   7.2188,  34.5621,2,  34.5645,2,      2.2,2,     2.1,2,   65.00,2,   36.40,2,    0.06,2,    3.10,2,   0.013,2,   0.004,2,   0.0000,2,  2315.6,2,  2324.3,3,   -999.0,9,  -999.00,   7.3446,2,    25.00,-999.000,9,-999.0000,9, -999.00,9, -999.00,9,  -999.0,9,-999.000,9,-999.000,-999.000,9,-999.000,9, -999.00,9, -999.00,9, -999.00,9, -999.00,9, -999.00,9,-999.000,   0.2363,2,   0.1807,2,   0.1145,2,   0.0966,2,   0.0615,2,   0.0258,2,   0.0100,2,   0.0138,2,   0.0118,2,   7.1636,     -999.0,9,     -999.0,9,     -999.0,9,     -999.0,9,     -999.0,9,     -999.0,9,     -999.0,9,-999.0000, -999.00
33RO20071215,        P18,      18,          1,         20,      12055,2,20071221,       2129,    14.4165,  -110.0002,       4430,   664.5,   6.4112,  34.5457,2,  34.5470,2,      2.4,2,     2.5,2,   73.70,2,   40.00,2,    0.00,2,    3.16,2,   0.006,2,   0.002,2,   0.0000,2,  2325.7,2,  2325.9,3,   -999.0,9,  -999.00,   7.3362,2,    25.00,-999.000,9,-999.0000,9, -999.00,9, -999.00,9,  -999.0,9,-999.000,9,-999.000,-999.000,9,-999.000,9, -999.00,9, -999.00,9, -999.00,9, -999.00,9, -999.00,9,-999.000,   0.2192,2,   0.1660,2,   0.1050,2,   0.0877,2,   0.0560,2,   0.0227,2,   0.0083,2,   0.0140,2,   0.0120,2,   6.3502,     -999.0,9,     -999.0,9,     -999.0,9,     -999.0,9,     -999.0,9,     -999.0,9,     -999.0,9,-999.0000, -999.00
33RO20071215,        P18,      18,          1,         19,      12018,2,20071221,       2129,    14.4165,  -110.0002,       4430,   766.9,   5.8120,  34.5410,2,  34.5414,2,      3.0,2,     3.7,2,   81.60,2,   42.60,2,    0.00,2,    3.23,2,   0.004,2,   0.002,2,   0.0000,2,  2335.1,2,  -999.0,9,   -999.0,9,  -999.00,   7.3277,2,    25.00,-999.000,9,-999.0000,9, -999.00,9, -999.00,9,  -999.0,9,-999.000,9,-999.000,-999.000,9,-999.000,9, -999.00,9, -999.00,9, -999.00,9, -999.00,9, -999.00,9,-999.000,   0.2131,2,   0.1586,2,   0.0979,2,   0.0799,2,   0.0510,2,   0.0202,2,   0.0070,2,   0.0142,2,   0.0125,2,   5.7446,     -999.0,9,     -999.0,9,     -999.0,9,     -999.0,9,     -999.0,9,     -999.0,9,     -999.0,9,-999.0000, -999.00
33RO20071215,        P18,      18,          1,         18,      12025,4,20071221,       2129,    14.4165,  -110.0002,       4430,   867.7,   5.0550,  34.5441,2,  34.7803,4,      7.5,2,     2.6,4,   28.60,3,   30.90,3,    0.22,3,    2.40,3,-999.000,5,-999.000,5,-999.0000,5,  2253.6,4,  2298.3,4,   -999.0,9,  -999.00,-999.0000,5,  -999.00,-999.000,9,-999.0000,9, -999.00,9, -999.00,9,  -999.0,9,-999.000,9,-999.000,-999.000,9,-999.000,9, -999.00,9, -999.00,9, -999.00,9, -999.00,9, -999.00,9,-999.000,   0.2214,2,   0.1678,2,   0.1028,2,   0.0853,2,   0.0521,2,   0.0228,2,   0.0096,2,   0.0137,2,   0.0124,2,   4.9831,     -999.0,9,     -999.0,9,     -999.0,9,     -999.0,9,     -999.0,9,     -999.0,9,     -999.0,9,-999.0000, -999.00
33RO20071215,        P18,      18,          1,         17,      12016,2,20071221,       2129,    14.4165,  -110.0002,       4430,   966.8,   4.6739,  34.5506,2,  34.5514,2,     11.5,2,    11.8,2,   99.60,2,   45.00,2,    0.00,2,    3.29,2,   0.002,2,   0.001,2,   0.0000,2,  2350.5,2,  2363.8,4,   -999.0,9,  -999.00,   7.3352,2,    25.00,-999.000,9,-999.0000,9, -999.00,9, -999.00,9,  -999.0,9,-999.000,9,-999.000,-999.000,9,-999.000,1, -999.00,9, -999.00,9, -999.00,9, -999.00,9, -999.00,9,-999.000,   0.2256,2,   0.1686,2,   0.1047,2,   0.0840,2,   0.0555,2,   0.0229,2,   0.0085,2,   0.0139,2,   0.0124,2,   4.5959,     -999.0,9,     -999.0,9,     -999.0,9,     -999.0,9,     -999.0,9,     -999.0,9,     -999.0,9,-999.0000, -999.00
33RO20071215,        P18,      18,          1,         16,      12051,2,20071221,       2129,    14.4165,  -110.0002,       4430,  1132.9,   4.1526,  34.5621,2,  34.5621,2,     21.2,2,    21.9,2,  109.30,2,   44.90,2,    0.00,2,    3.24,2,   0.005,2,   0.002,2,   0.0000,2,  2355.7,2,  -999.0,9,   -999.0,9,  -999.00,   7.3496,2,    25.00,-999.000,9,-999.0000,9, -999.00,9, -999.00,9,  -999.0,9,-999.000,9,-999.000,-999.000,9,-999.000,9, -999.00,9, -999.00,9, -999.00,9, -999.00,9, -999.00,9,-999.000,   0.2044,2,   0.1506,2,   0.0919,2,   0.0725,2,   0.0470,2,   0.0177,2,   0.0055,2,   0.0144,2,   0.0129,2,   4.0643,     -999.0,9,     -999.0,9,     -999.0,9,     -999.0,9,     -999.0,9,     -999.0,9,     -999.0,9,-999.0000, -999.00
33RO20071215,        P18,      18,          1,         15,      12014,2,20071221,       2129,    14.4165,  -110.0002,       4430,  1334.5,   3.5325,  34.5823,2,  34.5825,2,     37.9,2,    38.0,2,  121.80,2,   43.90,2,    0.00,2,    3.14,2,   0.004,2,   0.003,2,   0.0000,2,  2359.2,2,  2387.1,4,   -999.0,9,  -999.00,   7.3751,2,    25.00,-999.000,9,-999.0000,9, -999.00,9, -999.00,9,  -999.0,9,-999.000,9,-999.000,-999.000,9,-999.000,9, -999.00,9, -999.00,9, -999.00,9, -999.00,9, -999.00,9,-999.000,   0.2099,2,   0.1551,2,   0.0940,2,   0.0734,2,   0.0482,2,   0.0194,2,   0.0067,2,   0.0142,2,   0.0129,2,   3.4327,     -999.0,9,     -999.0,9,     -999.0,9,     -999.0,9,     -999.0,9,     -999.0,9,     -999.0,9,-999.0000, -999.00
33RO20071215,        P18,      18,          1,         14,      12013,2,20071221,       2129,    14.4165,  -110.0002,       4430,  1532.3,   3.0474,  34.6030,2,  34.6062,2,     53.3,2,    53.7,2,  132.00,2,   43.00,2,    0.00,2,    3.03,2,   0.004,2,   0.002,2,   0.0000,2,  2363.7,6,  2410.3,4,   -999.0,9,  -999.00,   7.4064,2,    25.00,-999.000,9,-999.0000,9, -999.00,9, -999.00,9,  -999.0,9,-999.000,9,-999.000,-999.000,9,-999.000,9, -999.00,9, -999.00,9, -999.00,9, -999.00,9, -999.00,9,-999.000,   0.2025,2,   0.1486,2,   0.0888,2,   0.0684,2,   0.0446,2,   0.0178,2,   0.0060,2,   0.0144,2,   0.0133,2,   2.9362,     -999.0,9,     -999.0,9,     -999.0,9,     -999.0,9,     -999.0,9,     -999.0,9,     -999.0,9,-999.0000, -999.00
33RO20071215,        P18,      18,          1,         13,      12012,2,20071221,       2129,    14.4165,  -110.0002,       4430,  1733.5,   2.6417,  34.6219,2,  34.6225,2,     69.4,2,    70.4,2,  140.60,2,   41.90,2,    0.00,2,    2.92,2,   0.003,2,   0.001,2,   0.0000,2,  2363.4,2,  -999.0,9,   -999.0,9,  -999.00,   7.4378,2,    25.00,-999.000,9,-999.0000,9, -999.00,9, -999.00,9,  -999.0,9,-999.000,9,-999.000,-999.000,9,-999.000,9, -999.00,9, -999.00,9, -999.00,9, -999.00,9, -999.00,9,-999.000,   0.2034,2,   0.1494,2,   0.0888,2,   0.0676,2,   0.0446,2,   0.0190,2,   0.0070,2,   0.0141,2,   0.0133,2,   2.5185,     -999.0,9,     -999.0,9,     -999.0,9,     -999.0,9,     -999.0,9,     -999.0,9,     -999.0,9,-999.0000, -999.00
33RO20071215,        P18,      18,          1,         12,      12031,2,20071221,       2129,    14.4165,  -110.0002,       4430,  1933.2,   2.3479,  34.6361,2,  34.6357,2,     81.6,2,    87.2,3,  146.60,2,   41.00,2,    0.00,2,    2.82,2,   0.001,2,   0.001,2,   0.0000,2,  2362.2,2,  2420.3,2,   -999.0,9,  -999.00,   7.4596,2,    25.00,-999.000,9,-999.0000,9, -999.00,9, -999.00,9,  -999.0,9,-999.000,9,-999.000,-999.000,9,-999.000,9, -999.00,9, -999.00,9, -999.00,9, -999.00,9, -999.00,9,-999.000,   0.1863,2,   0.1344,2,   0.0782,2,   0.0586,2,   0.0379,2,   0.0150,2,   0.0049,2,   0.0145,2,   0.0140,2,   2.2119,     -999.0,9,     -999.0,9,     -999.0,9,     -999.0,9,     -999.0,9,     -999.0,9,     -999.0,9,-999.0000, -999.00