BOTTLE,20220818CCHSIOAMB
EXPOCODE,SECT_ID,STNNBR,CASTNO,SAMPNO,BTLNBR,BTLNBR_FLAG_W,DATE,TIME,LATITUDE,LONGITUDE,DEPTH,CTDPRS,CTDTMP,CTDSAL,CTDSAL_FLAG_W,SALNTY,SALNTY_FLAG_W,CTDOXY,CTDOXY_FLAG_W,OXYGEN,OXYGEN_FLAG_W,SILCAT,SILCAT_FLAG_W,NITRAT,NITRAT_FLAG_W,NITRIT,NITRIT_FLAG_W,PHSPHT,PHSPHT_FLAG_W,CFC-11,CFC-11_FLAG_W,CFC-12,CFC-12_FLAG_W,SF6,SF6_FLAG_W,TCARBN,TCARBN_FLAG_W,ALKALI,ALKALI_FLAG_W,FCO2,FCO2_FLAG_W,FCO2TMP,PH_SWS,PH_SWS_FLAG_W,PH_TMP,TRITUM,TRITUM_FLAG_W,HELIUM,HELIUM_FLAG_W,DELHE3,DELHE3_FLAG_W,DELC13,DELC13_FLAG_W,DELC14,DELC14_FLAG_W,NEON,NEON_FLAG_W,NEONER,CCL4,CCL4_FLAG_W,POC,POC_FLAG_W,DOC,DOC_FLAG_W,TDN,TDN_FLAG_W,DON,DON_FLAG_W,CHLORA,CHLORA_FLAG_W,ARGON,ARGON_FLAG_W,TRITER,CDOM325,CDOM325_FLAG_W,CDOM340,CDOM340_FLAG_W,CDOM380,CDOM380_FLAG_W,CDOM412,CDOM412_FLAG_W,CDOM443,CDOM443_FLAG_W,CDOM490,CDOM490_FLAG_W,CDOM555,CDOM555_FLAG_W,CDOMSL,CDOMSL_FLAG_W,CDOMSN,CDOMSN_FLAG_W,THETA,D18O_NO3,D18O_NO3_FLAG_W,CDOM2C,CDOM2C_FLAG_W,CDOM3C,CDOM3C_FLAG_W,LAB_DEN,LAB_DEN_FLAG_W,DELSI30,DELSI30_FLAG_W,N2,N2_FLAG_W,D15N_NO3,D15N_NO3_FLAG_W,HELIER,DELHER
,,,,,,,,,,,METERS,DBAR,ITS-90,PSS-78,,PSS-78,,UMOL/KG,,UMOL/KG,,UMOL/KG,,UMOL/KG,,UMOL/KG,,UMOL/KG,,PMOL/KG,,PMOL/KG,,FMOL/KG,,UMOL/KG,,UMOL/KG,,UATM,,DEG C,,,DEG C,TU,,NMOL/KG,,PERCNT,,/MILLE,,/MILLE,,NMOL/KG,,NMOL/KG,PMOL/KG,,UG/KG,,UMOL/KG,,UMOL/KG,,UMOL/KG,,UG/KG,,UMOL/KG,,TU,1/M,,1/M,,1/M,,1/M,,1/M,,1/M,,1/M,,1/NM,,1/NM,,DEG C,/MILLE,,,,,,,,/MILLE,,UMOL/KG,,/MILLE,,NMOL/KG,PERCNT
33RO20071215,        P18,       8,          1,         24,      11024,2,20071219,       0627,    20.2488,  -109.9988,       3270,     5.0,  24.2077,  34.6124,2,  34.6138,2,    211.1,2,   212.1,2,    1.70,2,    0.00,2,    0.00,2,    0.16,2,   1.850,2,   1.165,2,   1.1497,2,  2003.5,6,  2298.4,2,   -999.0,9,  -999.00,   8.0376,2,    25.00,   0.769,2,   1.7278,2,   -1.35,2,    1.33,2,  -999.0,1,   6.795,2,   0.023,-999.000,9,-999.000,9, -999.00,9, -999.00,9, -999.00,9, -999.00,9, -999.00,9,   0.007,-999.0000,9,-999.0000,9,-999.0000,9,-999.0000,9,-999.0000,9,-999.0000,9,-999.0000,9,-999.0000,9,-999.0000,9,  24.2066,     -999.0,9,     -999.0,9,     -999.0,9,     -999.0,1,     -999.0,9,     -999.0,9,     -999.0,9,   0.0048,    0.15
33RO20071215,        P18,       8,          1,         23,      11023,2,20071219,       0627,    20.2488,  -109.9988,       3270,    19.7,  24.2060,  34.6112,2,  34.6223,2,    211.9,2,   211.8,2,    1.80,2,    0.00,2,    0.00,2,    0.19,2,   1.834,6,   1.159,6,   1.0840,6,  2004.4,2,  2303.7,2,   -999.0,9,  -999.00,   8.0336,2,    25.00,   0.748,2,-999.0000,9, -999.00,9, -999.00,9,  -999.0,9,-999.000,9,-999.000,-999.000,9,-999.000,9, -999.00,9, -999.00,9, -999.00,9, -999.00,9, -999.00,9,   0.008,-999.0000,9,-999.0000,9,-999.0000,9,-999.0000,9,-999.0000,9,-999.0000,9,-999.0000,9,-999.0000,9,-999.0000,9,  24.2018,     -999.0,9,     -999.0,9,     -999.0,9,     -999.0,1,     -999.0,9,     -999.0,9,     -999.0,9,-999.0000, -999.00
33RO20071215,        P18,       8,          1,         22,      11022,2,20071219,       0627,    20.2488,  -109.9988,       3270,    41.0,  23.8357,  34.8239,2,  34.7514,2,    210.4,2,   212.3,2,    2.50,2,    0.10,2,    0.01,2,    0.35,2,   1.901,2,   1.189,2,   1.0844,2,  2025.2,2,  2315.9,2,   -999.0,9,  -999.00,   8.0191,2,    25.00,   0.704,2,   1.7372,2,   -1.01,2, -999.00,9,  -999.0,9,   6.823,2,   0.023,-999.000,9,-999.000,9, -999.00,9, -999.00,9, -999.00,9, -999.00,9, -999.00,9,   0.008,-999.0000,9,-999.0000,9,-999.0000,9,-999.0000,9,-999.0000,9,-999.0000,9,-999.0000,9,-999.0000,9,-999.0000,9,  23.8271,     -999.0,9,     -999.0,9,     -999.0,9,     -999.0,1,     -999.0,9,     -999.0,9,     -999.0,9,   0.0049,    0.15
33RO20071215,        P18,       8,          1,         21,      11021,2,20071219,       0627,    20.2488,  -109.9988,       3270,    66.5,  17.7551,  34.0628,2,  34.0758,2,    194.3,2,   192.9,2,    5.60,2,    3.70,2,    0.20,2,    0.62,2,   2.479,2,   1.470,2,   1.2041,2,  2072.8,2,  2271.0,2,   -999.0,9,  -999.00,   7.8560,2,    25.00,   0.750,2,   1.7557,2,    0.17,2, -999.00,9,  -999.0,9,   7.143,2,   0.024,-999.000,9,-999.000,9, -999.00,9, -999.00,9, -999.00,9, -999.00,9, -999.00,9,   0.007,-999.0000,9,-999.0000,9,-999.0000,9,-999.0000,9,-999.0000,9,-999.0000,9,-999.0000,9,-999.0000,9,-999.0000,9,  17.7439,     -999.0,9,     -999.0,9,     -999.0,9,     -999.0,9,     -999.0,9,     -999.0,9,     -999.0,9,   0.0049,    0.15
33RO20071215,        P18,       8,          1,         20,      11020,2,20071219,       0627,    20.2488,  -109.9988,       3270,    91.9,  14.5748,  34.2901,2,  34.2980,2,     66.3,2,    64.6,2,   18.50,2,   21.00,2,    0.03,2,    1.85,2,-999.000,9,-999.000,9,-999.0000,9,  2193.9,2,  2271.5,2,   -999.0,9,  -999.00,   7.5523,2,    25.00,-999.000,9,-999.0000,9, -999.00,9, -999.00,9,  -999.0,9,-999.000,9,-999.000,-999.000,9,-999.000,9, -999.00,9, -999.00,9, -999.00,9, -999.00,9, -999.00,9,-999.000,-999.0000,9,-999.0000,9,-999.0000,9,-999.0000,9,-999.0000,9,-999.0000,9,-999.0000,9,-999.0000,9,-999.0000,9,  14.5613,     -999.0,9,     -999.0,9,     -999.0,9,     -999.0,1,     -999.0,9,     -999.0,9,     -999.0,9,-999.0000, -999.00
33RO20071215,        P18,       8,          1,         19,      11019,2,20071219,       0627,    20.2488,  -109.9988,       3270,   116.5,  13.8078,  34.5661,2,  34.5804,2,     20.5,2,    19.9,2,   25.80,2,   24.80,2,    0.02,2,    2.33,2,   1.446,2,   0.844,2,   0.5033,2,  2241.2,2,  -999.0,5,   -999.0,9,  -999.00,   7.4592,2,    25.00,   0.407,2,   1.7726,2,    5.33,2, -999.00,9,  -999.0,9,   7.307,2,   0.025,-999.000,9,-999.000,9, -999.00,9, -999.00,9, -999.00,9, -999.00,9, -999.00,9,   0.007,-999.0000,9,-999.0000,9,-999.0000,9,-999.0000,9,-999.0000,9,-999.0000,9,-999.0000,9,-999.0000,9,-999.0000,9,  13.7912,     -999.0,9,     -999.0,9,     -999.0,9,     -999.0,1,     -999.0,9,     -999.0,9,     -999.0,9,   0.0050,    0.15
33RO20071215,        P18,       8,          1,         18,      11018,2,20071219,       0627,    20.2488,  -109.9988,       3270,   141.1,  13.0396,  34.6940,2,  34.6934,2,      5.1,2,     6.4,2,   29.50,2,   25.10,2,    0.01,2,    2.48,2,-999.000,9,-999.000,9,-999.0000,9,  2256.2,2,  2297.8,2,   -999.0,9,  -999.00,   7.4242,2,    25.00,-999.000,9,-999.0000,9, -999.00,9, -999.00,9,  -999.0,9,-999.000,9,-999.000,-999.000,9,-999.000,9, -999.00,9, -999.00,9, -999.00,9, -999.00,9, -999.00,9,-999.000,-999.0000,9,-999.0000,9,-999.0000,9,-999.0000,9,-999.0000,9,-999.0000,9,-999.0000,9,-999.0000,9,-999.0000,9,  13.0202,     -999.0,9,     -999.0,9,     -999.0,9,     -999.0,9,     -999.0,9,     -999.0,9,     -999.0,9,-999.0000, -999.00
33RO20071215,        P18,       8,          1,         17,      11017,2,20071219,       0627,    20.2488,  -109.9988,       3270,   183.2,  12.2616,  34.7475,2,  34.7427,2,      4.2,2,     2.8,2,   32.40,2,   24.60,2,    0.17,2,    2.53,2,   0.635,2,   0.388,2,   0.2277,2,  2265.3,2,  2304.4,2,   -999.0,9,  -999.00,   7.4186,2,    25.00,   0.278,2,   1.8613,2,    5.90,2, -999.00,9,  -999.0,9,   7.595,2,   0.026,-999.000,9,-999.000,9, -999.00,9, -999.00,9, -999.00,9, -999.00,9, -999.00,9,   0.007,-999.0000,9,-999.0000,9,-999.0000,9,-999.0000,9,-999.0000,9,-999.0000,9,-999.0000,9,-999.0000,9,-999.0000,9,  12.2374,     -999.0,9,     -999.0,9,     -999.0,9,     -999.0,1,     -999.0,9,     -999.0,9,     -999.0,9,   0.0052,    0.15
33RO20071215,        P18,       8,          1,         16,      11016,2,20071219,       0627,    20.2488,  -109.9988,       3270,   249.7,  11.2115,  34.7080,2,  34.7068,2,      3.6,2,     3.0,2,   36.20,2,   23.50,2,    0.83,2,    2.60,2,-999.000,9,-999.000,9,-999.0000,9,  2277.0,2,  2310.3,2,   -999.0,9,  -999.00,   7.3970,2,    25.00,-999.000,9,-999.0000,9, -999.00,9, -999.00,9,  -999.0,9,-999.000,9,-999.000,-999.000,9,-999.000,9, -999.00,9, -999.00,9, -999.00,9, -999.00,9, -999.00,9,-999.000,-999.0000,9,-999.0000,9,-999.0000,9,-999.0000,9,-999.0000,9,-999.0000,9,-999.0000,9,-999.0000,9,-999.0000,9,  11.1804,     -999.0,9,     -999.0,9,     -999.0,9,     -999.0,1,     -999.0,9,     -999.0,9,     -999.0,9,-999.0000, -999.00
33RO20071215,        P18,       8,          1,         15,      11015,2,20071219,       0627,    20.2488,  -109.9988,       3270,   324.4,   9.9833,  34.6247,2,  34.6254,2,      3.8,2,     3.8,2,   43.00,2,   27.10,2,    0.01,2,    2.71,2,   0.241,2,   0.143,2,   0.1624,2,  2286.9,2,  2311.4,2,   -999.0,9,  -999.00,   7.3735,2,    25.00,   0.158,2,   1.7907,2,    9.05,2, -999.00,9,  -999.0,9,   7.504,2,   0.026,-999.000,9,-999.000,9, -999.00,9, -999.00,9, -999.00,9, -999.00,9, -999.00,9,   0.006,-999.0000,9,-999.0000,9,-999.0000,9,-999.0000,9,-999.0000,9,-999.0000,9,-999.0000,9,-999.0000,9,-999.0000,9,   9.9456,     -999.0,9,     -999.0,9,     -999.0,9,     -999.0,9,     -999.0,9,     -999.0,9,     -999.0,9,   0.0050,    0.15
33RO20071215,        P18,       8,          1,         14,      11014,2,20071219,       0627,    20.2488,  -109.9988,       3270,   399.0,   8.9369,  34.5699,2,  34.5677,2,      4.0,2,     5.4,2,   49.80,2,   30.70,2,    0.00,2,    2.84,2,   0.119,2,   0.073,2,   0.0661,2,  2293.8,2,  2314.2,2,   -999.0,9,  -999.00,   7.3433,2,    25.00,   0.086,2,   1.8260,2,    8.71,2, -999.00,9,  -999.0,9,   7.655,2,   0.026,-999.000,9,-999.000,9, -999.00,9, -999.00,9, -999.00,9, -999.00,9, -999.00,9,   0.006,-999.0000,9,-999.0000,9,-999.0000,9,-999.0000,9,-999.0000,9,-999.0000,9,-999.0000,9,-999.0000,9,-999.0000,9,   8.8934,     -999.0,9,     -999.0,9,     -999.0,9,     -999.0,1,     -999.0,9,     -999.0,9,     -999.0,9,   0.0051,    0.15
33RO20071215,        P18,       8,          1,         13,      11013,2,20071219,       0627,    20.2488,  -109.9988,       3270,   474.4,   8.1311,  34.5502,2,  34.5492,2,      3.7,2,     3.9,2,   59.50,2,   32.80,2,    0.00,2,    2.98,2,-999.000,9,-999.000,9,-999.0000,9,  2306.0,2,  2319.9,2,   -999.0,9,  -999.00,   7.3524,2,    25.00,-999.000,9,-999.0000,9, -999.00,9, -999.00,9,  -999.0,9,-999.000,9,-999.000,-999.000,9,-999.000,9, -999.00,9, -999.00,9, -999.00,9, -999.00,9, -999.00,9,-999.000,-999.0000,9,-999.0000,9,-999.0000,9,-999.0000,9,-999.0000,9,-999.0000,9,-999.0000,9,-999.0000,9,-999.0000,9,   8.0821,     -999.0,9,     -999.0,9,     -999.0,9,     -999.0,1,     -999.0,9,     -999.0,9,     -999.0,9,-999.0000, -999.00
33RO20071215,        P18,       8,          1,         12,      11012,2,20071219,       0627,    20.2488,  -109.9988,       3270,   567.8,   7.0729,  34.5251,2,  34.5219,2,      3.8,2,     3.7,2,   70.10,2,   36.40,2,    0.00,2,    3.10,2,   0.035,2,   0.019,2,   0.0644,2,  2318.2,2,  2331.7,2,   -999.0,9,  -999.00,   7.3377,2,    25.00,-999.000,9,-999.0000,9, -999.00,9, -999.00,9,  -999.0,9,-999.000,9,-999.000,-999.000,9,-999.000,9, -999.00,9, -999.00,9, -999.00,9, -999.00,9, -999.00,9,-999.000,-999.0000,9,-999.0000,9,-999.0000,9,-999.0000,9,-999.0000,9,-999.0000,9,-999.0000,9,-999.0000,9,-999.0000,9,   7.0184,     -999.0,9,     -999.0,9,     -999.0,9,     -999.0,1,     -999.0,9,     -999.0,9,     -999.0,9,-999.0000, -999.00
33RO20071215,        P18,       8,          1,         11,      11010,2,20071219,       0627,    20.2488,  -109.9988,       3270,   700.9,   6.0932,  34.5122,2,  34.5105,2,      4.6,2,     4.8,2,   80.60,2,   40.50,2,    0.00,2,    3.19,2,-999.000,9,-999.000,9,-999.0000,9,  2330.9,2,  2337.1,2,   -999.0,9,  -999.00,   7.3314,2,    25.00,-999.000,9,-999.0000,9, -999.00,9, -999.00,9,  -999.0,9,-999.000,9,-999.000,-999.000,9,-999.000,9, -999.00,9, -999.00,9, -999.00,9, -999.00,9, -999.00,9,-999.000,-999.0000,9,-999.0000,9,-999.0000,9,-999.0000,9,-999.0000,9,-999.0000,9,-999.0000,9,-999.0000,9,-999.0000,9,   6.0305,     -999.0,9,     -999.0,9,     -999.0,9,     -999.0,1,     -999.0,9,     -999.0,9,     -999.0,9,-999.0000, -999.00
33RO20071215,        P18,       8,          1,         10,      11011,2,20071219,       0627,    20.2488,  -109.9988,       3270,   850.2,   5.2954,  34.5300,2,  34.5290,2,      5.3,2,     4.9,2,   92.20,2,   43.20,2,    0.00,2,    3.27,2,-999.000,9,-999.000,9,-999.0000,9,  2345.4,2,  2349.6,2,   -999.0,9,  -999.00,   7.3283,2,    25.00,-999.000,9,-999.0000,9, -999.00,9, -999.00,9,  -999.0,9,-999.000,9,-999.000,-999.000,9,-999.000,9, -999.00,9, -999.00,9, -999.00,9, -999.00,9, -999.00,9,-999.000,-999.0000,9,-999.0000,9,-999.0000,9,-999.0000,9,-999.0000,9,-999.0000,9,-999.0000,9,-999.0000,9,-999.0000,9,   5.2236,     -999.0,9,     -999.0,9,     -999.0,9,     -999.0,1,     -999.0,9,     -999.0,9,     -999.0,9,-999.0000, -999.00
33RO20071215,        P18,       8,          1,          9,      11009,2,20071219,       0627,    20.2488,  -109.9988,       3270,  1000.0,   4.6038,  34.5413,2,  34.5406,2,     10.7,2,    10.2,2,  103.90,2,   44.70,2,    0.00,2,    3.30,2,-999.000,9,-999.000,9,-999.0000,9,  2355.9,2,  2362.7,2,   -999.0,9,  -999.00,   7.3265,2,    25.00,-999.000,9,-999.0000,9, -999.00,9, -999.00,9,  -999.0,9,-999.000,9,-999.000,-999.000,9,-999.000,9, -999.00,9, -999.00,9, -999.00,9, -999.00,9, -999.00,9,-999.000,-999.0000,9,-999.0000,9,-999.0000,9,-999.0000,9,-999.0000,9,-999.0000,9,-999.0000,9,-999.0000,9,-999.0000,9,   4.5234,     -999.0,9,     -999.0,9,     -999.0,9,     -999.0,9,     -999.0,9,     -999.0,9,     -999.0,9,-999.0000, -999.00
33RO20071215,        P18,       8,          1,          8,      11008,2,20071219,       0627,    20.2488,  -109.9988,       3270,  1151.1,   3.9984,  34.5541,2,  34.5529,2,     20.8,2,    20.5,2,  117.30,2,   44.50,2,    0.00,2,    3.26,2,-999.000,9,-999.000,9,-999.0000,9,  2363.7,2,  2375.5,2,   -999.0,9,  -999.00,   7.3437,2,    25.00,-999.000,9,-999.0000,9, -999.00,9, -999.00,9,  -999.0,9,-999.000,9,-999.000,-999.000,9,-999.000,9, -999.00,9, -999.00,9, -999.00,9, -999.00,9, -999.00,9,-999.000,-999.0000,9,-999.0000,9,-999.0000,9,-999.0000,9,-999.0000,9,-999.0000,9,-999.0000,9,-999.0000,9,-999.0000,9,   3.9100,     -999.0,9,     -999.0,9,     -999.0,9,     -999.0,1,     -999.0,9,     -999.0,9,     -999.0,9,-999.0000, -999.00
33RO20071215,        P18,       8,          1,          7,      11007,2,20071219,       0627,    20.2488,  -109.9988,       3270,  1332.7,   3.4701,  34.5775,2,  34.5773,2,     34.8,2,    35.3,2,  127.10,2,   43.90,2,    0.00,2,    3.16,2,-999.000,9,-999.000,9,-999.0000,9,  2367.3,2,  2390.9,2,   -999.0,9,  -999.00,   7.3664,2,    25.00,-999.000,9,-999.0000,9, -999.00,9, -999.00,9,  -999.0,9,-999.000,9,-999.000,-999.000,9,-999.000,9, -999.00,9, -999.00,9, -999.00,9, -999.00,9, -999.00,9,-999.000,-999.0000,9,-999.0000,9,-999.0000,9,-999.0000,9,-999.0000,9,-999.0000,9,-999.0000,9,-999.0000,9,-999.0000,9,   3.3711,     -999.0,9,     -999.0,9,     -999.0,9,     -999.0,1,     -999.0,9,     -999.0,9,     -999.0,9,-999.0000, -999.00
33RO20071215,        P18,       8,          1,          6,      11006,2,20071219,       0627,    20.2488,  -109.9988,       3270,  1534.3,   3.0674,  34.5974,2,  34.5985,2,     47.5,2,    48.7,2,  135.80,2,   43.30,2,    0.00,2,    3.05,2,-999.000,9,-999.000,9,-999.0000,9,  2368.5,2,  2402.7,2,   -999.0,9,  -999.00,   7.3915,2,    25.00,-999.000,9,-999.0000,9, -999.00,9, -999.00,9,  -999.0,9,-999.000,9,-999.000,-999.000,9,-999.000,9, -999.00,9, -999.00,9, -999.00,9, -999.00,9, -999.00,9,-999.000,-999.0000,9,-999.0000,9,-999.0000,9,-999.0000,9,-999.0000,9,-999.0000,9,-999.0000,9,-999.0000,9,-999.0000,9,   2.9558,     -999.0,9,     -999.0,9,     -999.0,9,     -999.0,9,     -999.0,9,     -999.0,9,     -999.0,9,-999.0000, -999.00
33RO20071215,        P18,       8,          1,          5,      11005,2,20071219,       0627,    20.2488,  -109.9988,       3270,  1860.9,   2.4017,  34.6300,2,  34.6307,2,     74.4,2,    73.7,2,  149.60,2,   41.40,2,    0.00,2,    2.88,2,-999.000,9,-999.000,9,-999.0000,9,  2367.3,2,  2422.1,4,   -999.0,9,  -999.00,   7.4411,2,    25.00,-999.000,9,-999.0000,9, -999.00,9, -999.00,9,  -999.0,9,-999.000,9,-999.000,-999.000,9,-999.000,9, -999.00,9, -999.00,9, -999.00,9, -999.00,9, -999.00,9,-999.000,-999.0000,9,-999.0000,9,-999.0000,9,-999.0000,9,-999.0000,9,-999.0000,9,-999.0000,9,-999.0000,9,-999.0000,9,   2.2711,     -999.0,9,     -999.0,9,     -999.0,9,     -999.0,1,     -999.0,9,     -999.0,9,     -999.0,9,-999.0000, -999.00
33RO20071215,        P18,       8,          1,          4,      11004,2,20071219,       0627,    20.2488,  -109.9988,       3270,  2268.0,   1.9360,  34.6545,2,  34.6551,2,     99.8,2,    99.2,2,  157.50,6,   39.80,6,    0.00,6,    2.70,2,-999.000,9,-999.000,9,-999.0000,9,  2360.3,2,  2429.8,2,   -999.0,9,  -999.00,   7.4935,2,    25.00,-999.000,9,-999.0000,9, -999.00,9, -999.00,9,  -999.0,9,-999.000,9,-999.000,-999.000,9,-999.000,9, -999.00,9, -999.00,9, -999.00,9, -999.00,9, -999.00,9,-999.000,-999.0000,9,-999.0000,9,-999.0000,9,-999.0000,9,-999.0000,9,-999.0000,9,-999.0000,9,-999.0000,9,-999.0000,9,   1.7776,     -999.0,9,     -999.0,9,     -999.0,9,     -999.0,9,     -999.0,9,     -999.0,9,     -999.0,9,-999.0000, -999.00
33RO20071215,        P18,       8,          1,          3,      11003,3,20071219,       0627,    20.2488,  -109.9988,       3270,  2667.5,   1.7592,  34.6668,2,  34.6659,2,    112.9,2,   112.4,2,  160.00,6,   39.00,6,    0.00,6,    2.62,2,-999.000,9,-999.000,9,-999.0000,9,  2356.3,2,  2432.3,2,   -999.0,9,  -999.00,   7.4996,2,    25.00,-999.000,9,-999.0000,9, -999.00,9, -999.00,9,  -999.0,9,-999.000,9,-999.000,-999.000,9,-999.000,9, -999.00,9, -999.00,9, -999.00,9, -999.00,9, -999.00,9,-999.000,-999.0000,9,-999.0000,9,-999.0000,9,-999.0000,9,-999.0000,9,-999.0000,9,-999.0000,9,-999.0000,9,-999.0000,9,   1.5681,     -999.0,9,     -999.0,9,     -999.0,9,     -999.0,1,     -999.0,9,     -999.0,9,     -999.0,9,-999.0000, -999.00
33RO20071215,        P18,       8,          1,          2,      11002,2,20071219,       0627,    20.2488,  -109.9988,       3270,  3066.4,   1.7297,  34.6700,2,  34.6702,2,    116.2,2,   115.4,2,  162.40,6,   38.80,6,    0.00,6,    2.61,2,-999.000,9,-999.000,9,-999.0000,9,  2354.9,2,  2433.0,2,   -999.0,9,  -999.00,   7.5249,2,    25.00,-999.000,9,-999.0000,9, -999.00,9, -999.00,9,  -999.0,9,-999.000,9,-999.000,-999.000,9,-999.000,9, -999.00,9, -999.00,9, -999.00,9, -999.00,9, -999.00,9,-999.000,-999.0000,9,-999.0000,9,-999.0000,9,-999.0000,9,-999.0000,9,-999.0000,9,-999.0000,9,-999.0000,9,-999.0000,9,   1.5014,     -999.0,9,     -999.0,9,     -999.0,9,     -999.0,1,     -999.0,9,     -999.0,9,     -999.0,9,-999.0000, -999.00
33RO20071215,        P18,       8,          1,          1,      11001,2,20071219,       0627,    20.2488,  -109.9988,       3270,  3284.9,   1.7434,  34.6703,2,  34.6698,2,    116.5,2,   115.1,2,  162.90,2,   38.90,2,    0.00,2,    2.60,2,-999.000,9,-999.000,9,-999.0000,9,  2356.2,6,  2434.3,2,   -999.0,9,  -999.00,   7.5242,2,    25.00,-999.000,9,-999.0000,9, -999.00,9, -999.00,9,  -999.0,9,-999.000,9,-999.000,-999.000,9,-999.000,9, -999.00,9, -999.00,9, -999.00,9, -999.00,9, -999.00,9,-999.000,-999.0000,9,-999.0000,9,-999.0000,9,-999.0000,9,-999.0000,9,-999.0000,9,-999.0000,9,-999.0000,9,-999.0000,9,   1.4931,     -999.0,9,     -999.0,9,     -999.0,9,     -999.0,1,     -999.0,9,     -999.0,9,     -999.0,9,-999.0000, -999.00