BOTTLE,20220818CCHSIOAMB
EXPOCODE,SECT_ID,STNNBR,CASTNO,SAMPNO,BTLNBR,BTLNBR_FLAG_W,DATE,TIME,LATITUDE,LONGITUDE,DEPTH,CTDPRS,CTDTMP,CTDSAL,CTDSAL_FLAG_W,SALNTY,SALNTY_FLAG_W,CTDOXY,CTDOXY_FLAG_W,OXYGEN,OXYGEN_FLAG_W,SILCAT,SILCAT_FLAG_W,NITRAT,NITRAT_FLAG_W,NITRIT,NITRIT_FLAG_W,PHSPHT,PHSPHT_FLAG_W,CFC-11,CFC-11_FLAG_W,CFC-12,CFC-12_FLAG_W,SF6,SF6_FLAG_W,TCARBN,TCARBN_FLAG_W,ALKALI,ALKALI_FLAG_W,FCO2,FCO2_FLAG_W,FCO2TMP,PH_SWS,PH_SWS_FLAG_W,PH_TMP,TRITUM,TRITUM_FLAG_W,HELIUM,HELIUM_FLAG_W,DELHE3,DELHE3_FLAG_W,DELC13,DELC13_FLAG_W,DELC14,DELC14_FLAG_W,NEON,NEON_FLAG_W,NEONER,CCL4,CCL4_FLAG_W,POC,POC_FLAG_W,DOC,DOC_FLAG_W,TDN,TDN_FLAG_W,DON,DON_FLAG_W,CHLORA,CHLORA_FLAG_W,ARGON,ARGON_FLAG_W,TRITER,CDOM325,CDOM325_FLAG_W,CDOM340,CDOM340_FLAG_W,CDOM380,CDOM380_FLAG_W,CDOM412,CDOM412_FLAG_W,CDOM443,CDOM443_FLAG_W,CDOM490,CDOM490_FLAG_W,CDOM555,CDOM555_FLAG_W,CDOMSL,CDOMSL_FLAG_W,CDOMSN,CDOMSN_FLAG_W,THETA,D18O_NO3,D18O_NO3_FLAG_W,CDOM2C,CDOM2C_FLAG_W,CDOM3C,CDOM3C_FLAG_W,LAB_DEN,LAB_DEN_FLAG_W,DELSI30,DELSI30_FLAG_W,N2,N2_FLAG_W,D15N_NO3,D15N_NO3_FLAG_W,HELIER,DELHER
,,,,,,,,,,,METERS,DBAR,ITS-90,PSS-78,,PSS-78,,UMOL/KG,,UMOL/KG,,UMOL/KG,,UMOL/KG,,UMOL/KG,,UMOL/KG,,PMOL/KG,,PMOL/KG,,FMOL/KG,,UMOL/KG,,UMOL/KG,,UATM,,DEG C,,,DEG C,TU,,NMOL/KG,,PERCNT,,/MILLE,,/MILLE,,NMOL/KG,,NMOL/KG,PMOL/KG,,UG/KG,,UMOL/KG,,UMOL/KG,,UMOL/KG,,UG/KG,,UMOL/KG,,TU,1/M,,1/M,,1/M,,1/M,,1/M,,1/M,,1/M,,1/NM,,1/NM,,DEG C,/MILLE,,,,,,,,/MILLE,,UMOL/KG,,/MILLE,,NMOL/KG,PERCNT
33RO20071215,        P18,      88,          1,         36,      12017,2,20080113,       1710,   -22.2493,  -102.9997,       3938,     4.7,  22.7385,  35.9862,2,  35.9849,2,    217.8,2,   218.2,2,    0.60,2,    0.20,2,    0.00,2,    0.21,2,   1.998,2,   1.237,2,   0.9978,2,  2081.7,6,  2378.2,2,    360.9,2,    20.00,   8.0009,2,    25.00,   0.377,2,   1.7228,2,   -1.99,2,    1.46,2,  -999.0,1,   6.765,2,   0.023,-999.000,9,-999.000,9, -999.00,9, -999.00,9, -999.00,9, -999.00,5, -999.00,9,   0.007,   0.0419,2,   0.0260,2,   0.0066,2,   0.0034,2,   0.0013,2,   0.0004,4,  -0.0008,4,   0.0351,2,   0.0337,2,  22.7376,     -999.0,9,     -999.0,9,     -999.0,9,     -999.0,9,     -999.0,9,     -999.0,9,     -999.0,9,   0.0048,    0.15
33RO20071215,        P18,      88,          1,         35,      12029,2,20080113,       1710,   -22.2493,  -102.9997,       3938,     9.9,  22.7189,  35.9858,2,  35.9867,2,    218.0,2,   218.2,2,    0.60,2,    0.20,2,    0.00,2,    0.21,2,   1.992,2,   1.234,2,   1.0951,2,  2081.6,2,  2381.4,2,   -999.0,9,  -999.00,   8.0031,2,    25.00,-999.000,9,-999.0000,9, -999.00,9, -999.00,9,  -999.0,9,-999.000,9,-999.000,-999.000,9,-999.000,9, -999.00,9, -999.00,9, -999.00,9,    0.02,2, -999.00,9,-999.000,   0.0366,2,   0.0214,2,   0.0040,2,   0.0017,3,   0.0000,4,  -0.0004,4,  -0.0013,4,   0.0408,2,   0.0376,2,  22.7169,     -999.0,9,     -999.0,9,     -999.0,9,     -999.0,9,     -999.0,9,     -999.0,9,     -999.0,9,-999.0000, -999.00
33RO20071215,        P18,      88,          1,         34,      12049,2,20080113,       1710,   -22.2493,  -102.9997,       3938,    24.7,  22.6935,  35.9849,2,  35.9835,2,    218.4,2,   218.2,2,    0.70,2,    0.20,2,    0.00,2,    0.21,2,   2.006,6,   1.239,6,   1.0625,6,  2081.3,2,  2380.4,2,    361.8,2,    20.00,   8.0123,2,    25.00,   0.353,2,   1.7097,2,   -1.70,2, -999.00,9,  -999.0,9,   6.740,2,   0.023,-999.000,9,-999.000,1, -999.00,9, -999.00,9, -999.00,9,    0.02,2, -999.00,9,   0.007,   0.0428,2,   0.0266,2,   0.0076,2,   0.0043,2,   0.0021,2,   0.0010,2,  -0.0006,4,   0.0348,2,   0.0336,2,  22.6885,     -999.0,9,     -999.0,9,     -999.0,9,     -999.0,9,     -999.0,9,     -999.0,9,     -999.0,9,   0.0048,    0.15
33RO20071215,        P18,      88,          1,         33,      12027,2,20080113,       1710,   -22.2493,  -102.9997,       3938,    49.9,  21.5162,  35.9140,2,  35.9213,2,    226.7,2,   227.7,2,    0.70,2,    0.20,2,    0.00,2,    0.20,2,   2.138,6,   1.309,6,   1.0026,6,  2076.6,2,  2377.0,2,    359.9,2,    20.00,   8.0286,2,    25.00,   0.379,2,   1.7290,2,   -1.87,2, -999.00,9,  -999.0,9,   6.897,2,   0.023,-999.000,9,-999.000,9, -999.00,9, -999.00,9, -999.00,9,    0.03,2, -999.00,9,   0.007,   0.0573,2,   0.0389,2,   0.0162,2,   0.0108,2,   0.0071,2,   0.0045,2,   0.0015,2,   0.0194,2,   0.0223,2,  21.5065,     -999.0,9,     -999.0,9,     -999.0,9,     -999.0,9,     -999.0,9,     -999.0,9,     -999.0,9,   0.0048,    0.15
33RO20071215,        P18,      88,          1,         32,      12023,2,20080113,       1710,   -22.2493,  -102.9997,       3938,    75.0,  21.4643,  36.0359,2,  36.0346,2,    226.2,2,   226.8,2,    0.70,2,    0.20,2,    0.00,2,    0.21,2,   2.108,2,   1.292,2,   1.1452,2,  2078.3,2,  2385.1,2,    353.2,2,    20.00,   7.9898,2,    25.00,-999.000,9,-999.0000,9, -999.00,9, -999.00,9,  -999.0,9,-999.000,9,-999.000,-999.000,9,-999.000,9, -999.00,9, -999.00,9, -999.00,9,    0.03,2, -999.00,9,-999.000,   0.0814,2,   0.0580,2,   0.0283,2,   0.0200,2,   0.0144,2,   0.0092,2,   0.0040,2,   0.0128,2,   0.0161,2,  21.4497,     -999.0,9,     -999.0,9,     -999.0,9,     -999.0,9,     -999.0,9,     -999.0,9,     -999.0,9,-999.0000, -999.00
33RO20071215,        P18,      88,          1,         31,      12037,2,20080113,       1710,   -22.2493,  -102.9997,       3938,   100.4,  20.8467,  35.9580,2,  35.9635,2,    224.1,2,   225.4,2,    0.70,2,    0.20,2,    0.00,2,    0.22,2,   2.137,2,   1.315,2,   1.0044,2,  2078.4,2,  2380.7,2,    359.8,2,    20.00,   8.0087,2,    25.00,   0.386,2,-999.0000,9, -999.00,9, -999.00,9,  -999.0,9,-999.000,9,-999.000,-999.000,9,-999.000,9, -999.00,9, -999.00,9, -999.00,9,    0.04,2, -999.00,9,   0.007,   0.0634,2,   0.0412,2,   0.0157,2,   0.0098,2,   0.0049,2,   0.0019,2,  -0.0002,4,   0.0223,2,   0.0254,2,  20.8275,     -999.0,9,     -999.0,9,     -999.0,9,     -999.0,9,     -999.0,9,     -999.0,9,     -999.0,9,-999.0000, -999.00
33RO20071215,        P18,      88,          1,         30,      12036,2,20080113,       1710,   -22.2493,  -102.9997,       3938,   124.8,  20.6213,  35.9379,2,  35.9408,2,    220.1,2,   222.0,2,    0.70,2,    0.20,2,    0.00,2,    0.23,2,   2.144,2,   1.314,2,   1.0275,2,  2081.2,2,  2372.6,2,    366.6,2,    20.00,   7.9959,2,    25.00,-999.000,9,-999.0000,9, -999.00,9, -999.00,9,  -999.0,9,-999.000,9,-999.000,-999.000,9,-999.000,9, -999.00,9, -999.00,9, -999.00,9,    0.08,2, -999.00,9,-999.000,   0.0646,2,   0.0435,2,   0.0188,2,   0.0130,2,   0.0073,2,   0.0035,2,   0.0007,2,   0.0179,2,   0.0214,2,  20.5977,     -999.0,9,     -999.0,9,     -999.0,9,     -999.0,9,     -999.0,9,     -999.0,9,     -999.0,9,-999.0000, -999.00
33RO20071215,        P18,      88,          1,         29,      12044,2,20080113,       1710,   -22.2493,  -102.9997,       3938,   149.5,  20.3709,  35.8986,2,  35.9053,2,    216.9,2,   218.6,2,    0.60,2,    0.30,2,    0.13,2,    0.23,2,   2.151,2,   1.322,2,   1.0712,2,  2081.2,2,  2370.1,2,    374.2,6,    20.00,   7.9950,2,    25.00,-999.000,9,   1.7315,2,   -1.47,2, -999.00,9,  -999.0,9,   6.933,2,   0.024,-999.000,9,-999.000,9, -999.00,9, -999.00,9, -999.00,9,    0.02,2, -999.00,9,-999.000,   0.0810,2,   0.0594,2,   0.0300,2,   0.0212,2,   0.0135,2,   0.0076,2,   0.0028,2,   0.0142,2,   0.0160,2,  20.3428,     -999.0,9,     -999.0,9,     -999.0,9,     -999.0,9,     -999.0,9,     -999.0,9,     -999.0,9,   0.0048,    0.15
33RO20071215,        P18,      88,          1,         28,      12057,2,20080113,       1710,   -22.2493,  -102.9997,       3938,   174.9,  20.2356,  35.8748,2,  35.8741,2,    217.1,2,   218.1,2,    0.60,2,    0.40,2,    0.18,2,    0.23,2,   2.179,2,   1.332,2,   1.0707,2,  2080.0,6,  2368.4,2,    374.8,2,    20.00,   7.9911,2,    25.00,-999.000,9,-999.0000,9, -999.00,9, -999.00,9,  -999.0,9,-999.000,9,-999.000,-999.000,9,-999.000,9, -999.00,9, -999.00,9, -999.00,9,    0.09,2, -999.00,9,-999.000,   0.0546,2,   0.0365,2,   0.0148,2,   0.0098,2,   0.0048,2,   0.0019,2,   0.0000,4,   0.0206,2,   0.0235,2,  20.2029,     -999.0,9,     -999.0,9,     -999.0,9,     -999.0,9,     -999.0,9,     -999.0,9,     -999.0,9,-999.0000, -999.00
33RO20071215,        P18,      88,          1,         27,      12026,3,20080113,       1710,   -22.2493,  -102.9997,       3938,   199.7,  20.0052,  35.8184,2,-999.0000,9,    217.3,2,  -999.0,9, -999.00,9, -999.00,9, -999.00,9, -999.00,9,-999.000,9,-999.000,9,-999.0000,9,  -999.0,9,  -999.0,9,   -999.0,9,  -999.00,-999.0000,9,  -999.00,-999.000,9,-999.0000,9, -999.00,9, -999.00,9,  -999.0,9,-999.000,9,-999.000,-999.000,9,-999.000,9, -999.00,9, -999.00,9, -999.00,9, -999.00,9, -999.00,9,-999.000,-999.0000,9,-999.0000,9,-999.0000,9,-999.0000,9,-999.0000,9,-999.0000,9,-999.0000,9,-999.0000,9,-999.0000,9,  19.9681,     -999.0,9,     -999.0,9,     -999.0,9,     -999.0,9,     -999.0,9,     -999.0,9,     -999.0,9,-999.0000, -999.00
33RO20071215,        P18,      88,          1,         26,      12030,2,20080113,       1710,   -22.2493,  -102.9997,       3938,   250.4,  17.7901,  35.3374,2,  35.3468,2,    207.7,2,   207.3,2,    0.90,2,    2.90,2,    0.04,2,    0.37,2,   2.440,2,   1.454,2,   1.0508,2,  2079.3,2,  2331.1,2,   -999.0,9,  -999.00,   7.9432,2,    25.00,   0.373,2,   1.7362,2,   -1.41,2, -999.00,9,  -999.0,9,   7.115,2,   0.024,-999.000,9,-999.000,9, -999.00,9, -999.00,9, -999.00,9,    0.01,2, -999.00,9,   0.007,   0.0717,2,   0.0492,2,   0.0213,2,   0.0149,2,   0.0074,2,   0.0026,2,   0.0002,3,   0.0176,2,   0.0207,2,  17.7473,     -999.0,9,     -999.0,9,     -999.0,9,     -999.0,9,     -999.0,9,     -999.0,9,     -999.0,9,   0.0049,    0.15
33RO20071215,        P18,      88,          1,         25,      12024,2,20080113,       1710,   -22.2493,  -102.9997,       3938,   293.8,  14.9758,  34.7986,2,  34.8084,2,    199.7,2,   202.3,2,    1.40,2,    6.40,2,    0.01,2,    0.57,2,   2.781,2,   1.598,2,   0.9924,2,  2081.6,2,  2294.7,2,    505.8,2,    20.00,   7.8773,2,    25.00,   0.372,2,   1.7536,2,   -1.21,2, -999.00,9,  -999.0,9,   7.286,2,   0.025,-999.000,9,-999.000,9, -999.00,9, -999.00,9, -999.00,9, -999.00,9, -999.00,9,   0.007,   0.0774,2,   0.0529,2,   0.0237,2,   0.0171,2,   0.0084,2,   0.0028,2,   0.0001,3,   0.0168,2,   0.0199,2,  14.9313,     -999.0,9,     -999.0,9,     -999.0,9,     -999.0,9,     -999.0,9,     -999.0,9,     -999.0,9,   0.0049,    0.15
33RO20071215,        P18,      88,          1,         24,      12019,2,20080113,       1710,   -22.2493,  -102.9997,       3938,   349.9,  11.7597,  34.4716,2,  34.4749,2,    184.8,2,   126.0,3,    4.20,2,   14.50,2,    0.00,2,    1.14,2,   3.022,2,   1.636,2,   0.8394,2,  2119.8,2,  2273.1,2,   -999.0,9,  -999.00,   7.7606,2,    25.00,-999.000,9,-999.0000,9, -999.00,9, -999.00,9,  -999.0,9,-999.000,9,-999.000,-999.000,9,-999.000,9, -999.00,9, -999.00,9, -999.00,9, -999.00,9, -999.00,9,-999.000,   0.0910,2,   0.0628,2,   0.0312,2,   0.0226,2,   0.0127,2,   0.0051,2,   0.0011,2,   0.0154,2,   0.0175,2,  11.7146,     -999.0,9,     -999.0,9,     -999.0,9,     -999.0,9,     -999.0,9,     -999.0,9,     -999.0,9,-999.0000, -999.00
33RO20071215,        P18,      88,          1,         23,      12022,2,20080113,       1710,   -22.2493,  -102.9997,       3938,   399.4,   9.7570,  34.4193,2,  34.4183,2,    120.7,2,   121.3,2,   12.70,2,   24.50,2,    0.00,2,    1.99,2,   2.260,6,   1.163,6,   0.4870,6,  2190.5,6,  2278.4,2,   1120.1,2,    20.00,   7.5772,2,    25.00,   0.182,2,   1.7781,2,    0.99,2, -999.00,9,  -999.0,9,   7.507,2,   0.026,-999.000,9,-999.000,9, -999.00,9, -999.00,9, -999.00,9, -999.00,9, -999.00,9,   0.007,   0.1380,2,   0.1006,2,   0.0567,2,   0.0438,2,   0.0275,2,   0.0130,2,   0.0052,2,   0.0135,2,   0.0139,2,   9.7112,     -999.0,9,     -999.0,9,     -999.0,9,     -999.0,9,     -999.0,9,     -999.0,9,     -999.0,9,   0.0050,    0.15
33RO20071215,        P18,      88,          1,         22,      12015,2,20080113,       1710,   -22.2493,  -102.9997,       3938,   500.2,   7.4969,  34.4065,2,  34.4072,2,    119.1,2,   119.5,2,   18.10,2,   31.90,2,    0.00,2,    2.32,2,   1.499,2,   0.746,2,   0.2164,2,  2212.7,2,  2284.9,2,   -999.0,9,  -999.00,   7.5211,2,    25.00,   0.083,2,   1.7960,2,    1.81,2, -999.00,9,  -999.0,9,   7.567,2,   0.026,-999.000,9,-999.000,1, -999.00,9, -999.00,9, -999.00,9, -999.00,9, -999.00,9,   0.006,   0.1193,2,   0.0823,2,   0.0445,2,   0.0333,2,   0.0193,2,   0.0069,2,   0.0013,2,   0.0147,2,   0.0158,2,   7.4476,     -999.0,9,     -999.0,9,     -999.0,9,     -999.0,9,     -999.0,9,     -999.0,9,     -999.0,9,   0.0050,    0.15
33RO20071215,        P18,      88,          1,         21,      12020,2,20080113,       1710,   -22.2493,  -102.9997,       3938,   600.9,   6.0600,  34.3379,2,  34.3395,2,    174.4,2,   173.7,2,   18.00,2,   31.10,2,    0.00,2,    2.15,2,   1.544,2,   0.764,2,   0.1770,2,  2188.8,2,  2285.3,2,   1073.0,2,    20.00,   7.5937,2,    25.00,-999.000,9,-999.0000,9, -999.00,9, -999.00,9,  -999.0,9,-999.000,9,-999.000,-999.000,9,-999.000,9, -999.00,9, -999.00,9, -999.00,9, -999.00,9, -999.00,9,-999.000,   0.0983,2,   0.0644,2,   0.0320,2,   0.0231,2,   0.0129,2,   0.0041,2,   0.0002,3,   0.0157,2,   0.0184,2,   6.0070,     -999.0,9,     -999.0,9,     -999.0,9,     -999.0,9,     -999.0,9,     -999.0,9,     -999.0,9,-999.0000, -999.00
33RO20071215,        P18,      88,          1,         20,      12055,2,20080113,       1710,   -22.2493,  -102.9997,       3938,   700.6,   5.3749,  34.3360,2,  34.3372,2,    169.4,2,   166.8,2,   25.70,2,   33.30,2,    0.00,2,    2.31,2,   0.810,2,   0.411,2,   0.1350,2,  2201.6,2,  2293.6,2,   -999.0,9,  -999.00,   7.5752,2,    25.00,   0.047,6,   1.8004,2,    3.04,2, -999.00,9,  -999.0,9,   7.702,2,   0.026,-999.000,9,-999.000,9, -999.00,9, -999.00,9, -999.00,9, -999.00,9, -999.00,9,   0.004,   0.0772,2,   0.0434,2,   0.0143,2,   0.0101,2,   0.0061,2,   0.0053,3,   0.0042,2,   0.0248,2,   0.0321,2,   5.3162,     -999.0,9,     -999.0,9,     -999.0,9,     -999.0,9,     -999.0,9,     -999.0,9,     -999.0,9,   0.0050,    0.15
33RO20071215,        P18,      88,          1,         19,      12018,2,20080113,       1710,   -22.2493,  -102.9997,       3938,   801.5,   4.8306,  34.3869,2,  34.3874,2,    133.4,2,   133.7,2,   40.60,2,   37.10,2,    0.00,2,    2.58,2,   0.172,2,   0.094,2,   0.0000,2,  2237.1,2,  2310.4,2,   1303.4,2,    20.00,   7.5206,2,    25.00,   0.010,2,   1.8073,2,    6.08,2, -999.00,9,  -999.0,9,   7.721,2,   0.026,-999.000,9,-999.000,9, -999.00,9, -999.00,9, -999.00,9, -999.00,9, -999.00,9,   0.006,   0.0959,2,   0.0580,2,   0.0237,2,   0.0167,2,   0.0103,2,   0.0065,2,   0.0041,2,   0.0177,2,   0.0239,2,   4.7662,     -999.0,9,     -999.0,9,     -999.0,9,     -999.0,9,     -999.0,9,     -999.0,9,     -999.0,9,   0.0051,    0.15
33RO20071215,        P18,      88,          1,         18,      12025,2,20080113,       1710,   -22.2493,  -102.9997,       3938,   900.3,   4.3653,  34.4355,2,  34.4347,2,    124.1,2,   124.0,2,   54.70,2,   38.20,2,    0.00,2,    2.68,2,   0.021,2,   0.013,2,   0.0000,2,  2253.8,2,  2326.2,2,   -999.0,9,  -999.00,   7.5064,2,    25.00,   0.000,2,   1.8259,2,    9.69,2, -999.00,9,  -999.0,9,   7.773,2,   0.026,-999.000,9,-999.000,9, -999.00,9, -999.00,9, -999.00,9, -999.00,9, -999.00,9,   0.006,   0.1071,2,   0.0683,2,   0.0319,2,   0.0225,2,   0.0140,2,   0.0075,2,   0.0036,2,   0.0151,2,   0.0194,2,   4.2954,     -999.0,9,     -999.0,9,     -999.0,9,     -999.0,9,     -999.0,9,     -999.0,9,     -999.0,9,   0.0051,    0.15
33RO20071215,        P18,      88,          1,         17,      12016,2,20080113,       1710,   -22.2493,  -102.9997,       3938,  1001.1,   4.0614,  34.4837,2,  34.4832,2,    124.5,2,   124.4,2,   67.20,2,   38.00,2,    0.00,2,    2.67,2,   0.004,2,   0.002,2,   0.0000,2,  2265.0,2,  2329.4,2,   1326.4,2,    20.00,   7.5160,2,    25.00,   0.022,2,   1.8470,2,   14.39,2, -999.00,9,  -999.0,9,   7.832,2,   0.027,-999.000,9,-999.000,1, -999.00,9, -999.00,9, -999.00,9, -999.00,9, -999.00,9,   0.006,   0.1207,2,   0.0807,2,   0.0413,2,   0.0281,2,   0.0170,2,   0.0064,2,   0.0012,2,   0.0156,2,   0.0177,2,   3.9852,     -999.0,9,     -999.0,9,     -999.0,9,     -999.0,9,     -999.0,9,     -999.0,9,     -999.0,9,   0.0052,    0.15
33RO20071215,        P18,      88,          1,         16,      12051,2,20080113,       1710,   -22.2493,  -102.9997,       3938,  1102.0,   3.8602,  34.5154,2,  34.5150,2,    122.5,2,   121.9,2,   75.90,2,   38.20,2,    0.00,2,    2.67,2,   0.002,2,   0.002,2,   0.0000,2,  2275.4,2,  2341.9,2,   -999.0,9,  -999.00,   7.5198,2,    25.00,   0.025,2,   1.8712,2,   17.26,2, -999.00,9,  -999.0,9,   7.892,2,   0.027,-999.000,9,-999.000,9, -999.00,9, -999.00,9, -999.00,9, -999.00,9, -999.00,9,   0.006,   0.1239,2,   0.0836,2,   0.0433,2,   0.0290,2,   0.0176,2,   0.0064,2,   0.0009,2,   0.0158,2,   0.0175,2,   3.7771,     -999.0,9,     -999.0,9,     -999.0,9,     -999.0,9,     -999.0,9,     -999.0,9,     -999.0,9,   0.0052,    0.15
33RO20071215,        P18,      88,          1,         15,      12014,2,20080113,       1710,   -22.2493,  -102.9997,       3938,  1200.2,   3.5475,  34.5344,2,  34.5341,2,    126.6,2,   125.8,2,   83.00,2,   38.00,2,    0.00,2,    2.68,2,-999.000,9,-999.000,9,-999.0000,9,  2280.2,2,  2348.2,2,   1316.5,2,    20.00,   7.5433,2,    25.00,   0.021,2,   1.8997,2,   18.76,2, -999.00,9,  -999.0,9,   7.933,2,   0.027,-999.000,9,-999.000,9, -999.00,9, -999.00,9, -999.00,9, -999.00,9, -999.00,9,   0.006,   0.1288,2,   0.0883,2,   0.0472,2,   0.0319,2,   0.0196,2,   0.0073,2,   0.0012,2,   0.0154,2,   0.0167,2,   3.4590,     -999.0,9,     -999.0,9,     -999.0,9,     -999.0,9,     -999.0,9,     -999.0,9,     -999.0,9,   0.0053,    0.15
33RO20071215,        P18,      88,          1,         14,      12013,2,20080113,       1710,   -22.2493,  -102.9997,       3938,  1299.8,   3.3218,  34.5525,2,  34.5528,2,    120.3,2,   122.8,2,   90.60,2,   38.40,2,    0.00,2,    2.71,2,-999.000,9,-999.000,9,-999.0000,9,  2288.6,2,  2355.9,2,   -999.0,9,  -999.00,   7.5227,2,    25.00,-999.000,9,-999.0000,9, -999.00,9, -999.00,9,  -999.0,9,-999.000,9,-999.000,-999.000,9,-999.000,9, -999.00,9, -999.00,9, -999.00,9, -999.00,9, -999.00,9,-999.000,   0.1224,2,   0.0827,2,   0.0432,2,   0.0285,2,   0.0173,2,   0.0061,2,   0.0008,2,   0.0158,2,   0.0175,2,   3.2272,     -999.0,9,     -999.0,9,     -999.0,9,     -999.0,9,     -999.0,9,     -999.0,9,     -999.0,9,-999.0000, -999.00
33RO20071215,        P18,      88,          1,         13,      12012,2,20080113,       1710,   -22.2493,  -102.9997,       3938,  1401.1,   3.1202,  34.5661,2,  34.5680,2,    123.5,2,   121.5,2,   96.60,2,   38.50,2,    0.00,2,    2.73,2,   0.000,2,   0.000,2,   0.0000,2,  2295.2,2,  2363.4,2,   1354.3,2,    20.00,   7.5187,2,    25.00,-999.000,9,-999.0000,9, -999.00,9, -999.00,9,  -999.0,9,-999.000,9,-999.000,-999.000,9,-999.000,9, -999.00,9, -999.00,9, -999.00,9, -999.00,9, -999.00,9,-999.000,   0.1274,2,   0.0866,2,   0.0456,2,   0.0305,2,   0.0185,2,   0.0064,2,   0.0009,2,   0.0157,2,   0.0172,2,   3.0192,     -999.0,9,     -999.0,9,     -999.0,9,     -999.0,9,     -999.0,9,     -999.0,9,     -999.0,9,-999.0000, -999.00
33RO20071215,        P18,      88,          1,         12,      12031,2,20080113,       1710,   -22.2493,  -102.9997,       3938,  1601.4,   2.7498,  34.5916,2,  34.5914,2,    122.3,2,   122.9,2,  106.50,2,   38.60,2,    0.00,2,    2.73,2,-999.000,9,-999.000,9,-999.0000,9,  2304.3,2,  2372.2,2,   -999.0,9,  -999.00,   7.5122,2,    25.00,-999.000,9,-999.0000,9, -999.00,9, -999.00,9,  -999.0,9,-999.000,9,-999.000,-999.000,9,-999.000,9, -999.00,9, -999.00,9, -999.00,9, -999.00,9, -999.00,9,-999.000,   0.1276,2,   0.0872,2,   0.0462,2,   0.0306,2,   0.0187,2,   0.0066,2,   0.0009,2,   0.0157,2,   0.0171,2,   2.6365,     -999.0,9,     -999.0,9,     -999.0,9,     -999.0,9,     -999.0,9,     -999.0,9,     -999.0,9,-999.0000, -999.00