BOTTLE,20220818CCHSIOAMB
# Change O18-O2 to D18O_NO3, N15-N2 to N15N_NO3, units of N2 to UMOL/KG, units of DELSI30 to /MILLE, Documented CDOM3C and CDOM2C
#BOTTLE,20210915CCHSIOCBG
# Merged parameters: TRITUM, TRITUM_FLAG_W, TRITER
# note: this is a correction of merge from 2016-02-16
#20140107CCHSIOCBG
# Merged parameters: TRITUM, TRITUM_FLAG_W, TRITER, HELIUM, HELIUM_FLAG_W, HELIER, DELHE3, DELHE3_FLAG_W, DELHER, NEON, NEON_FLAG_W, NEONER
#20140106CCHSIOCBG
# Merged parameters: TRITUM, TRITER, TRITUM_FLAG_W
#20131203CCHSIOCBG
# Merged parameters: DELC13, DELC13_FLAG_W
#20111215CCHDOSIOCBG
# remerge SILCAT with corrected units
#BOTTLE,20111214CCHDOSIOCBG
# SILCAT data merged from p18_nutrients.csv received from Eric Wisegarver on 2011-12-12
#BOTTLE,20111130CCHDOSIODM
# parameter name and flag corrections, PCO2 removed, see full note 
#BOTTLE,20110517CCHDOSIOCBG
# PH_SWS, PH_TMP, PH_SWS_FLAG_W
#BOTTLE,20100913CCHDOSIOCBG
# Added FCO2, citations added by A. Barna
#BOTTLE,20090513CCHDOSIODM
# carbon, cfcs, nutrients, cdom added, see full note
#BOTTLE,20090511CCHDOSIODM
#Remove CDOM samples left from shipboard data set but not in Feb 2, 2009 CDOM update.
#BOTTLE,20090317CCHDOSIODM
#CDOM data merged from file ucsb_cdom_p18_s7a_20090130.txt received from Norman Nelson, UCSB, on Feb 2, 2009
#BOTTLE,20090305dm
#Carbon data merged from file p18_2007_DIC_TALK_PH_DOC_TDN_2008 received from Alex Kozyr, ORNL, on Nov 18, 2008
#CFC data merged from file CLIVAR_P18_CFCS_SF6_sentto_CCHDO_12Nov2008.txt received from John Bullister, PMEL, on Nov 11, 2008
#Nutrient data merged from file P18_Nutrients_umol-kg.txt received from Calvin Mordy, PMEL, on Nov 21, 2008
#BOTTLE,20080925WHPSIOdm
#Column heading line corrected from ",POC_FLAG_W.LAB_DEN LAB_DEN_FLAG_W," to ",POC_FLAG_W,LAB_DEN,LAB_DEN_FLAG_W,".
#BOTTLE,20080910WHPSIOdm
#BOTTLE,20080904WHPSIOdm
#
#BOTTLE,20160203PRINUNIVRMK
# SHIP: Ronald H. Brown 
# Cruise: P18.2007; RB-07-11; RB-08-01 
# Region: Eastern Pacific meridional line 
# EXPOCODE: 33RO20071215 
# DATES: 2007-12-15 to 2008-02-23 
# 177 stations with 24 place Rosette 
#
# DATA CITATION
#| CCHDO Citation Information
#|
#| Please cite data downloaded from CCHDO as: 
#| [Data providers of the parameter(s) used]. [Year of file access]. [CTD/Bottle] data from cruise [expocode], 
#| [format version used]. Accessed from CCHDO [url of cruise data page]. Access date [date of download].
#| [Applicable CCHDO cruise DOI if provided].
#|
#| For example: 
#| Swift, J. and Becker, S. 2019. CTD data from Cruise 33RR20160321, exchange version. Accessed from CCHDO 
#| https://cchdo.ucsd.edu/cruise/33RR20160321. Access date 2019-08-21. CCHDO cruise DOI: 10.7942/C2008W
#|
#| Information on the scientists who provided the different parameters can be found in the cruise report. 
#| Additionally, for US GO-SHIP cruises, this information is usually in the comments section in the text headers 
#| of the Exchange bottle files.
#|
#| Users are also encouraged to acknowledge the funding program that supported the data collection in their publication. 
#| For US GO-SHIP data this is the NSF/NOAA funded U.S Repeat Hydrography Program.
#|
#| For data citation, please use the data providers listed below. 
#|
#| Programs and Principal Investigators
#| These data were provided by:
#|
#| PARAMETER/PROGRAM      NAME                       EMAIL ADDRESS
#| -----------------      ----                       --------------
#| Chief Scientist Leg 1  John L. Bullister-PMEL    John.L.Bullister@noaa.gov
#| Chief Scientist Leg 2  Gregory C. Johnson-PMEL   Gregory.D.Johnson@noaa.gov
#|
#| PARAMETER/PROGRAM                   Institution      Principal Investigator  email
#| ----------------------------------  ---------------  ----------------------  --------------------------
#| CTDO/Salinity                       NOAA/PMEL        Gregory C. Johnson      Gregory.C.Johnson@noaa.gov
#|                                     NOAA/AOML        Molly Baringer          Molly.Baringer@noaa.gov
#| Data Management                     UCSD/SIO         James H. Swift          jswift@ucsd.edu
#| Chlorofluorocarbons(CFCs)           NOAA/PMEL        John Bullister          John.L.Bullister@noaa.gov
#|                                     UWashington      Mark Warner             warner@u.washington.edu
#| Helium/Tritium/Neon                 WHOI             William Jenkins         wjenkins@whoi.edu       
#| O2                                  NOAA/AOML        Chris Langdon           clangdon@rsmas.miami.edu
#| Total CO2(DIC)/pCO2                 NOAA/PMEL        Richard Feely           Richard.A.Feely@noaa.gov
#|                                     NOAA/AOML        Rik Wanninkhof          Rik.Wanninkhof@noaa.gov
#| Total Alkalinity/pH/Density         UMiami           Frank Millero           fmillero@rsmas.miami.edu
#| Nutrients                           NOAA/PMEL        Calvin Mordy            Calvin.W.Mordy@noaa.gov
#|                                     NOAA/AOML        Jia-Zhong Zhang         Jia-Zhong.Zhang@noaa.gov
#| CDOM/POC/Chlor.a                    UCSB             Craig Carlson           carlson@lifesci.ucsb.edu
#| 13C/14C                             UWashington      Paul Quay               pdquay@u.washington.edu
#| DOC                                 UMiami           Dennis Hansell          dhansell@rsmas.miami.edu
#| DON                                 UMass            Mark Altabet            maltabet@umassd.edu
#| Noble Gases (ONAR)                  UWashington      Steve Emerson           emerson@u.washington.edu
#| 30Si/28Si                           IGMR/ETH Zurich  Ben Reynolds            reynolds@erdw.ethz.ch
#| Transmissometer                     TAMU             Wilf Gardner            wgardner@ocean.tamu.edu
#| Lowered ADCP                        LDEO             Andreas Thurnherr       ant@ldeo.columbia.edu
#| Shipboard ADCP                      UHawaii          Eric Firing             efiring@hawaii.edu
#| TAO Servicing                       NOAA/NDBC        Lex LeBlanc             Lex.LeBlanc@noaa.gov
#| Argo Float deployments & XBT drops  NOAA/PMEL        Gregory C. Johnson      Gregory.C.Johnson@noaa.gov
#| Drifter Deployment                  NOAA/AOML        Shaun Dolk              Shaun.Dolk@noaa.gov
#| Underway surface ocean,             NOAA             Ship personnel
#| meteorological and bathymetry data
#|
EXPOCODE,SECT_ID,STNNBR,CASTNO,SAMPNO,BTLNBR,BTLNBR_FLAG_W,DATE,TIME,LATITUDE,LONGITUDE,DEPTH,CTDPRS,CTDTMP,CTDSAL,CTDSAL_FLAG_W,SALNTY,SALNTY_FLAG_W,CTDOXY,CTDOXY_FLAG_W,OXYGEN,OXYGEN_FLAG_W,SILCAT,SILCAT_FLAG_W,NITRAT,NITRAT_FLAG_W,NITRIT,NITRIT_FLAG_W,PHSPHT,PHSPHT_FLAG_W,CFC-11,CFC-11_FLAG_W,CFC-12,CFC-12_FLAG_W,SF6,SF6_FLAG_W,TCARBN,TCARBN_FLAG_W,ALKALI,ALKALI_FLAG_W,FCO2,FCO2_FLAG_W,FCO2TMP,PH_SWS,PH_SWS_FLAG_W,PH_TMP,TRITUM,TRITUM_FLAG_W,HELIUM,HELIUM_FLAG_W,DELHE3,DELHE3_FLAG_W,DELC13,DELC13_FLAG_W,DELC14,DELC14_FLAG_W,NEON,NEON_FLAG_W,NEONER,CCL4,CCL4_FLAG_W,POC,POC_FLAG_W,DOC,DOC_FLAG_W,TDN,TDN_FLAG_W,DON,DON_FLAG_W,CHLORA,CHLORA_FLAG_W,ARGON,ARGON_FLAG_W,TRITER,CDOM325,CDOM325_FLAG_W,CDOM340,CDOM340_FLAG_W,CDOM380,CDOM380_FLAG_W,CDOM412,CDOM412_FLAG_W,CDOM443,CDOM443_FLAG_W,CDOM490,CDOM490_FLAG_W,CDOM555,CDOM555_FLAG_W,CDOMSL,CDOMSL_FLAG_W,CDOMSN,CDOMSN_FLAG_W,THETA,D18O_NO3,D18O_NO3_FLAG_W,CDOM2C,CDOM2C_FLAG_W,CDOM3C,CDOM3C_FLAG_W,LAB_DEN,LAB_DEN_FLAG_W,DELSI30,DELSI30_FLAG_W,N2,N2_FLAG_W,D15N_NO3,D15N_NO3_FLAG_W,HELIER,DELHER
,,,,,,,,,,,METERS,DBAR,ITS-90,PSS-78,,PSS-78,,UMOL/KG,,UMOL/KG,,UMOL/KG,,UMOL/KG,,UMOL/KG,,UMOL/KG,,PMOL/KG,,PMOL/KG,,FMOL/KG,,UMOL/KG,,UMOL/KG,,UATM,,DEG C,,,DEG C,TU,,NMOL/KG,,PERCNT,,/MILLE,,/MILLE,,NMOL/KG,,NMOL/KG,PMOL/KG,,UG/KG,,UMOL/KG,,UMOL/KG,,UMOL/KG,,UG/KG,,UMOL/KG,,TU,1/M,,1/M,,1/M,,1/M,,1/M,,1/M,,1/M,,1/NM,,1/NM,,DEG C,/MILLE,,,,,,,,/MILLE,,UMOL/KG,,/MILLE,,NMOL/KG,PERCNT
33RO20071215,       TEST,     998,          1,         24,      11024,2,20071217,       0358,    24.4593,  -112.9065,       2871,    10.1,  19.5549,  33.9443,2,  33.9448,2,    230.9,2,  -999.0,9,    1.50,2,    0.20,2,    0.00,2,    0.16,2,   2.259,2,   1.391,2,   1.2768,2,  -999.0,9,  -999.0,9,   -999.0,9,  -999.00,-999.0000,9,  -999.00,-999.000,9,-999.0000,9, -999.00,9, -999.00,9,  -999.0,1,-999.000,9,-999.000,-999.000,9,-999.000,9, -999.00,9, -999.00,9, -999.00,9, -999.00,9, -999.00,9,-999.000,-999.0000,5,-999.0000,5,-999.0000,5,-999.0000,5,-999.0000,5,-999.0000,5,-999.0000,5,-999.0000,5,-999.0000,5,  19.5531,     -999.0,9,     -999.0,9,     -999.0,9,     -999.0,9,     -999.0,9,     -999.0,9,     -999.0,9,-999.0000, -999.00
33RO20071215,       TEST,     998,          1,         23,      11023,2,20071217,       0358,    24.4593,  -112.9065,       2871,    10.1,  19.5558,  33.9450,2,  33.9423,2,    230.9,2,  -999.0,9,    1.60,2,    0.20,2,    0.00,2,    0.17,2,   2.264,2,   1.398,2,   1.2839,2,  -999.0,9,  -999.0,9,   -999.0,9,  -999.00,-999.0000,9,  -999.00,-999.000,9,-999.0000,9, -999.00,9, -999.00,9,  -999.0,1,-999.000,9,-999.000,-999.000,9,-999.000,9, -999.00,9, -999.00,9, -999.00,9,    0.07,2, -999.00,9,-999.000,-999.0000,5,-999.0000,5,-999.0000,5,-999.0000,5,-999.0000,5,-999.0000,5,-999.0000,5,-999.0000,5,-999.0000,5,  19.5540,     -999.0,9,     -999.0,9,     -999.0,9,     -999.0,9,     -999.0,9,     -999.0,9,     -999.0,9,-999.0000, -999.00
33RO20071215,       TEST,     998,          1,         22,      11022,2,20071217,       0358,    24.4593,  -112.9065,       2871,    50.6,  16.1012,  33.5553,2,  33.6115,2,    242.4,2,  -999.0,9,    2.70,2,    0.40,2,    0.04,2,    0.27,2,   2.840,2,   1.690,2,   1.3823,2,  -999.0,9,  -999.0,9,   -999.0,9,  -999.00,-999.0000,9,  -999.00,-999.000,9,-999.0000,9, -999.00,9, -999.00,9,  -999.0,1,-999.000,9,-999.000,-999.000,9,-999.000,9, -999.00,9, -999.00,9, -999.00,9,    0.14,2, -999.00,9,-999.000,-999.0000,5,-999.0000,5,-999.0000,5,-999.0000,5,-999.0000,5,-999.0000,5,-999.0000,5,-999.0000,5,-999.0000,5,  16.0933,     -999.0,9,     -999.0,9,     -999.0,9,     -999.0,9,     -999.0,9,     -999.0,9,     -999.0,9,-999.0000, -999.00
33RO20071215,       TEST,     998,          1,         21,      11021,2,20071217,       0358,    24.4593,  -112.9065,       2871,    75.2,  13.8164,  33.5928,2,  33.5989,2,    209.1,2,  -999.0,9,    6.30,2,    6.40,2,    0.03,2,    0.61,2,   3.067,2,   1.799,2,   1.3764,2,  -999.0,9,  -999.0,9,   -999.0,9,  -999.00,-999.0000,9,  -999.00,-999.000,9,-999.0000,9, -999.00,9, -999.00,9,  -999.0,1,-999.000,9,-999.000,-999.000,9,-999.000,9, -999.00,9, -999.00,9, -999.00,9,    0.11,2, -999.00,9,-999.000,-999.0000,5,-999.0000,5,-999.0000,5,-999.0000,5,-999.0000,5,-999.0000,5,-999.0000,5,-999.0000,5,-999.0000,5,  13.8058,     -999.0,9,     -999.0,9,     -999.0,9,     -999.0,9,     -999.0,9,     -999.0,9,     -999.0,9,-999.0000, -999.00
33RO20071215,       TEST,     998,          1,         20,      11020,2,20071217,       0358,    24.4593,  -112.9065,       2871,   124.9,  11.5843,  34.0214,2,  34.0094,2,     87.1,2,    96.6,2,   22.60,2,   22.20,2,    0.01,2,    1.81,2,   2.654,2,   1.492,2,   0.9301,2,  -999.0,9,  -999.0,9,   -999.0,9,  -999.00,-999.0000,9,  -999.00,-999.000,9,-999.0000,9, -999.00,9, -999.00,9,  -999.0,1,-999.000,9,-999.000,-999.000,9,-999.000,9, -999.00,9, -999.00,9, -999.00,9,    0.01,2, -999.00,9,-999.000,-999.0000,5,-999.0000,5,-999.0000,5,-999.0000,5,-999.0000,5,-999.0000,5,-999.0000,5,-999.0000,5,-999.0000,5,  11.5686,     -999.0,9,     -999.0,9,     -999.0,9,     -999.0,9,     -999.0,9,     -999.0,9,     -999.0,9,-999.0000, -999.00
33RO20071215,       TEST,     998,          1,         19,      11019,2,20071217,       0358,    24.4593,  -112.9065,       2871,   199.9,  10.7450,  34.4624,2,  34.4645,2,     32.3,2,  -999.0,9,   35.20,2,   27.20,2,    0.01,2,    2.40,2,   1.292,2,   0.702,2,   0.3369,2,  -999.0,9,  -999.0,9,   -999.0,9,  -999.00,-999.0000,9,  -999.00,-999.000,9,-999.0000,9, -999.00,9, -999.00,9,  -999.0,1,-999.000,9,-999.000,-999.000,9,-999.000,9, -999.00,9, -999.00,9, -999.00,9,    0.00,2, -999.00,9,-999.000,-999.0000,5,-999.0000,5,-999.0000,5,-999.0000,5,-999.0000,5,-999.0000,5,-999.0000,5,-999.0000,5,-999.0000,5,  10.7209,     -999.0,9,     -999.0,9,     -999.0,9,     -999.0,9,     -999.0,9,     -999.0,9,     -999.0,9,-999.0000, -999.00
33RO20071215,       TEST,     998,          1,         18,      11018,2,20071217,       0358,    24.4593,  -112.9065,       2871,   302.2,   9.4886,  34.5090,2,  34.5136,2,     12.1,2,  -999.0,9,   44.60,2,   29.50,2,    0.00,2,    2.68,2,-999.000,5,-999.000,5,-999.0000,5,  -999.0,9,  -999.0,9,   -999.0,9,  -999.00,-999.0000,9,  -999.00,-999.000,9,-999.0000,9, -999.00,9, -999.00,9,  -999.0,1,-999.000,9,-999.000,-999.000,9,-999.000,9, -999.00,9, -999.00,9, -999.00,9,    0.00,2, -999.00,9,-999.000,-999.0000,5,-999.0000,5,-999.0000,5,-999.0000,5,-999.0000,5,-999.0000,5,-999.0000,5,-999.0000,5,-999.0000,5,   9.4547,     -999.0,9,     -999.0,9,     -999.0,9,     -999.0,9,     -999.0,9,     -999.0,9,     -999.0,9,-999.0000, -999.00
33RO20071215,       TEST,     998,          1,         15,      11015,3,20071217,       0358,    24.4593,  -112.9065,       2871,   600.3,   6.5950,  34.4820,2,  34.4862,2,      5.2,2,  -999.0,9,   74.90,2,   37.80,2,    0.00,2,    3.11,2,   0.033,2,   0.020,2,   0.0536,2,  -999.0,9,  -999.0,9,   -999.0,9,  -999.00,-999.0000,9,  -999.00,-999.000,9,-999.0000,9, -999.00,9, -999.00,9,  -999.0,1,-999.000,9,-999.000,-999.000,9,-999.000,9, -999.00,9, -999.00,9, -999.00,9, -999.00,9, -999.00,9,-999.000,-999.0000,5,-999.0000,5,-999.0000,5,-999.0000,5,-999.0000,5,-999.0000,5,-999.0000,5,-999.0000,5,-999.0000,5,   6.5395,     -999.0,9,     -999.0,9,     -999.0,9,     -999.0,9,     -999.0,9,     -999.0,9,     -999.0,9,-999.0000, -999.00
33RO20071215,       TEST,     998,          1,         14,      11014,3,20071217,       0358,    24.4593,  -112.9065,       2871,   701.1,   5.8138,  34.4727,2,  34.4753,2,      6.8,2,  -999.0,9,   84.60,2,   40.40,2,    0.00,2,    3.17,2,   0.018,2,   0.011,2,   0.0352,2,  -999.0,9,  -999.0,9,   -999.0,9,  -999.00,-999.0000,9,  -999.00,-999.000,9,-999.0000,9, -999.00,9, -999.00,9,  -999.0,1,-999.000,9,-999.000,-999.000,9,-999.000,9, -999.00,9, -999.00,9, -999.00,9, -999.00,9, -999.00,9,-999.000,-999.0000,5,-999.0000,5,-999.0000,5,-999.0000,5,-999.0000,5,-999.0000,5,-999.0000,5,-999.0000,5,-999.0000,5,   5.7526,     -999.0,9,     -999.0,9,     -999.0,9,     -999.0,9,     -999.0,9,     -999.0,9,     -999.0,9,-999.0000, -999.00
33RO20071215,       TEST,     998,          1,         13,      11013,3,20071217,       0358,    24.4593,  -112.9065,       2871,   799.7,   5.2951,  34.4878,2,  34.4889,2,      8.3,2,  -999.0,9,   93.00,2,   41.90,2,    0.00,2,    3.19,2,   0.012,2,   0.006,2,   0.0649,2,  -999.0,9,  -999.0,9,   -999.0,9,  -999.00,-999.0000,9,  -999.00,-999.000,9,-999.0000,9, -999.00,9, -999.00,9,  -999.0,1,-999.000,9,-999.000,-999.000,9,-999.000,9, -999.00,9, -999.00,9, -999.00,9, -999.00,9, -999.00,9,-999.000,-999.0000,5,-999.0000,5,-999.0000,5,-999.0000,5,-999.0000,5,-999.0000,5,-999.0000,5,-999.0000,5,-999.0000,5,   5.2279,     -999.0,9,     -999.0,9,     -999.0,9,     -999.0,9,     -999.0,9,     -999.0,9,     -999.0,9,-999.0000, -999.00
33RO20071215,       TEST,     998,          1,         12,      11012,3,20071217,       0358,    24.4593,  -112.9065,       2871,   900.9,   4.8114,  34.4928,2,  34.4946,2,     12.3,2,    14.3,2,  100.90,2,   42.60,2,    0.00,2,    3.23,2,   0.013,2,   0.008,2,   0.0319,2,  -999.0,9,  -999.0,9,   -999.0,9,  -999.00,-999.0000,9,  -999.00,-999.000,9,-999.0000,9, -999.00,9, -999.00,9,  -999.0,1,-999.000,9,-999.000,-999.000,9,-999.000,9, -999.00,9, -999.00,9, -999.00,9, -999.00,9, -999.00,9,-999.000,-999.0000,5,-999.0000,5,-999.0000,5,-999.0000,5,-999.0000,5,-999.0000,5,-999.0000,5,-999.0000,5,-999.0000,5,   4.7383,     -999.0,9,     -999.0,9,     -999.0,9,     -999.0,9,     -999.0,9,     -999.0,9,     -999.0,9,-999.0000, -999.00
33RO20071215,       TEST,     998,          1,         11,      11010,3,20071217,       0358,    24.4593,  -112.9065,       2871,  1099.4,   4.0508,  34.5256,2,  34.5267,2,     21.6,2,  -999.0,9,  116.20,2,   43.40,2,    0.00,2,    3.20,2,   0.016,2,   0.007,2,   0.0826,2,  -999.0,9,  -999.0,9,   -999.0,9,  -999.00,-999.0000,9,  -999.00,-999.000,9,-999.0000,9, -999.00,9, -999.00,9,  -999.0,1,-999.000,9,-999.000,-999.000,9,-999.000,9, -999.00,9, -999.00,9, -999.00,9, -999.00,9, -999.00,9,-999.000,-999.0000,5,-999.0000,5,-999.0000,5,-999.0000,5,-999.0000,5,-999.0000,5,-999.0000,5,-999.0000,5,-999.0000,5,   3.9663,     -999.0,9,     -999.0,9,     -999.0,9,     -999.0,9,     -999.0,9,     -999.0,9,     -999.0,9,-999.0000, -999.00
33RO20071215,       TEST,     998,          1,         10,      11011,3,20071217,       0358,    24.4593,  -112.9065,       2871,  1299.5,   3.5614,  34.5616,2,  34.5634,2,     30.9,2,  -999.0,9,  127.00,2,   43.20,2,    0.00,2,    3.17,2,   0.014,2,   0.006,2,   0.0487,2,  -999.0,9,  -999.0,9,   -999.0,9,  -999.00,-999.0000,9,  -999.00,-999.000,9,-999.0000,9, -999.00,9, -999.00,9,  -999.0,1,-999.000,9,-999.000,-999.000,9,-999.000,9, -999.00,9, -999.00,9, -999.00,9, -999.00,9, -999.00,9,-999.000,-999.0000,5,-999.0000,5,-999.0000,5,-999.0000,5,-999.0000,5,-999.0000,5,-999.0000,5,-999.0000,5,-999.0000,5,   3.4644,     -999.0,9,     -999.0,9,     -999.0,9,     -999.0,9,     -999.0,9,     -999.0,9,     -999.0,9,-999.0000, -999.00
33RO20071215,       TEST,     998,          1,         17,      11017,2,20071217,       0358,    24.4593,  -112.9065,       2871,  1595.8,   2.9366,  34.5953,2,  34.5977,2,     49.6,2,  -999.0,9,  140.60,2,   42.30,2,    0.00,2,    3.02,2,   0.008,2,   0.005,2,   0.0522,2,  -999.0,9,  -999.0,9,   -999.0,9,  -999.00,-999.0000,9,  -999.00,-999.000,9,-999.0000,9, -999.00,9, -999.00,9,  -999.0,1,-999.000,9,-999.000,-999.000,9,-999.000,9, -999.00,9, -999.00,9, -999.00,9, -999.00,9, -999.00,9,-999.000,-999.0000,5,-999.0000,5,-999.0000,5,-999.0000,5,-999.0000,5,-999.0000,5,-999.0000,5,-999.0000,5,-999.0000,5,   2.8214,     -999.0,9,     -999.0,9,     -999.0,9,     -999.0,9,     -999.0,9,     -999.0,9,     -999.0,9,-999.0000, -999.00
33RO20071215,       TEST,     998,          1,          9,      11009,3,20071217,       0358,    24.4593,  -112.9065,       2871,  1601.3,   2.9471,  34.5948,2,  34.5963,2,     49.2,2,  -999.0,9,  140.10,2,   42.10,2,    0.00,2,    3.05,2,   0.010,2,   0.006,2,   0.0608,2,  -999.0,9,  -999.0,9,   -999.0,9,  -999.00,-999.0000,9,  -999.00,-999.000,9,-999.0000,9, -999.00,9, -999.00,9,  -999.0,1,-999.000,9,-999.000,-999.000,9,-999.000,9, -999.00,9, -999.00,9, -999.00,9, -999.00,9, -999.00,9,-999.000,-999.0000,5,-999.0000,5,-999.0000,5,-999.0000,5,-999.0000,5,-999.0000,5,-999.0000,5,-999.0000,5,-999.0000,5,   2.8313,     -999.0,9,     -999.0,9,     -999.0,9,     -999.0,9,     -999.0,9,     -999.0,9,     -999.0,9,-999.0000, -999.00
33RO20071215,       TEST,     998,          1,          8,      11008,3,20071217,       0358,    24.4593,  -112.9065,       2871,  1899.1,   2.3999,  34.6242,2,  34.6272,2,     72.3,2,    74.1,2,  151.00,2,   41.00,2,    0.00,2,    2.89,2,   0.023,2,   0.014,2,   0.0462,2,  -999.0,9,  -999.0,9,   -999.0,9,  -999.00,-999.0000,9,  -999.00,-999.000,9,-999.0000,9, -999.00,9, -999.00,9,  -999.0,1,-999.000,9,-999.000,-999.000,9,-999.000,9, -999.00,9, -999.00,9, -999.00,9, -999.00,9, -999.00,9,-999.000,-999.0000,5,-999.0000,5,-999.0000,5,-999.0000,5,-999.0000,5,-999.0000,5,-999.0000,5,-999.0000,5,-999.0000,5,   2.2661,     -999.0,9,     -999.0,9,     -999.0,9,     -999.0,9,     -999.0,9,     -999.0,9,     -999.0,9,-999.0000, -999.00