BOTTLE,20220818CCHSIOAMB
EXPOCODE,SECT_ID,STNNBR,CASTNO,SAMPNO,BTLNBR,BTLNBR_FLAG_W,DATE,TIME,LATITUDE,LONGITUDE,DEPTH,CTDPRS,CTDTMP,CTDSAL,CTDSAL_FLAG_W,SALNTY,SALNTY_FLAG_W,CTDOXY,CTDOXY_FLAG_W,OXYGEN,OXYGEN_FLAG_W,SILCAT,SILCAT_FLAG_W,NITRAT,NITRAT_FLAG_W,NITRIT,NITRIT_FLAG_W,PHSPHT,PHSPHT_FLAG_W,CFC-11,CFC-11_FLAG_W,CFC-12,CFC-12_FLAG_W,SF6,SF6_FLAG_W,TCARBN,TCARBN_FLAG_W,ALKALI,ALKALI_FLAG_W,FCO2,FCO2_FLAG_W,FCO2TMP,PH_SWS,PH_SWS_FLAG_W,PH_TMP,TRITUM,TRITUM_FLAG_W,HELIUM,HELIUM_FLAG_W,DELHE3,DELHE3_FLAG_W,DELC13,DELC13_FLAG_W,DELC14,DELC14_FLAG_W,NEON,NEON_FLAG_W,NEONER,CCL4,CCL4_FLAG_W,POC,POC_FLAG_W,DOC,DOC_FLAG_W,TDN,TDN_FLAG_W,DON,DON_FLAG_W,CHLORA,CHLORA_FLAG_W,ARGON,ARGON_FLAG_W,TRITER,CDOM325,CDOM325_FLAG_W,CDOM340,CDOM340_FLAG_W,CDOM380,CDOM380_FLAG_W,CDOM412,CDOM412_FLAG_W,CDOM443,CDOM443_FLAG_W,CDOM490,CDOM490_FLAG_W,CDOM555,CDOM555_FLAG_W,CDOMSL,CDOMSL_FLAG_W,CDOMSN,CDOMSN_FLAG_W,THETA,D18O_NO3,D18O_NO3_FLAG_W,CDOM2C,CDOM2C_FLAG_W,CDOM3C,CDOM3C_FLAG_W,LAB_DEN,LAB_DEN_FLAG_W,DELSI30,DELSI30_FLAG_W,N2,N2_FLAG_W,D15N_NO3,D15N_NO3_FLAG_W,HELIER,DELHER
,,,,,,,,,,,METERS,DBAR,ITS-90,PSS-78,,PSS-78,,UMOL/KG,,UMOL/KG,,UMOL/KG,,UMOL/KG,,UMOL/KG,,UMOL/KG,,PMOL/KG,,PMOL/KG,,FMOL/KG,,UMOL/KG,,UMOL/KG,,UATM,,DEG C,,,DEG C,TU,,NMOL/KG,,PERCNT,,/MILLE,,/MILLE,,NMOL/KG,,NMOL/KG,PMOL/KG,,UG/KG,,UMOL/KG,,UMOL/KG,,UMOL/KG,,UG/KG,,UMOL/KG,,TU,1/M,,1/M,,1/M,,1/M,,1/M,,1/M,,1/M,,1/NM,,1/NM,,DEG C,/MILLE,,,,,,,,/MILLE,,UMOL/KG,,/MILLE,,NMOL/KG,PERCNT
33RO20071215,        P18,     113,          1,         36,      12017,2,20080126,       2257,   -36.8337,  -102.9998,       3977,     5.4,  20.9354,  34.2745,2,  34.2728,2,    230.3,2,   229.3,2,    0.40,2,    2.20,2,    0.04,2,    0.24,2,   2.219,2,   1.352,2,   1.2276,2,  2023.2,6,  2279.5,2,    400.2,2,    20.00,   7.9529,2,    25.00,-999.000,9,-999.0000,9, -999.00,9, -999.00,9,  -999.0,9,-999.000,9,-999.000,-999.000,9,-999.000,9, -999.00,9, -999.00,9, -999.00,9, -999.00,9, -999.00,9,-999.000,-999.0000,9,-999.0000,9,-999.0000,9,-999.0000,9,-999.0000,9,-999.0000,9,-999.0000,9,-999.0000,9,-999.0000,9,  20.9343,     -999.0,9,     -999.0,9,     -999.0,9,     -999.0,9,     -999.0,9,     -999.0,9,     -999.0,9,-999.0000, -999.00
33RO20071215,        P18,     113,          1,         35,      12029,2,20080126,       2257,   -36.8337,  -102.9998,       3977,    14.8,  20.8614,  34.2692,2,  34.2706,2,    230.6,2,   229.9,2,    0.40,2,    2.20,2,    0.04,2,    0.24,2,-999.000,9,-999.000,9,-999.0000,9,  2021.1,2,  2286.9,2,   -999.0,9,  -999.00,   7.9666,2,    25.00,-999.000,9,-999.0000,9, -999.00,9, -999.00,9,  -999.0,9,-999.000,9,-999.000,-999.000,9,-999.000,9, -999.00,9, -999.00,9, -999.00,9, -999.00,9, -999.00,9,-999.000,-999.0000,9,-999.0000,9,-999.0000,9,-999.0000,9,-999.0000,9,-999.0000,9,-999.0000,9,-999.0000,9,-999.0000,9,  20.8586,     -999.0,9,     -999.0,9,     -999.0,9,     -999.0,9,     -999.0,9,     -999.0,9,     -999.0,9,-999.0000, -999.00
33RO20071215,        P18,     113,          1,         34,      12049,2,20080126,       2257,   -36.8337,  -102.9998,       3977,    32.5,  19.4139,  34.3347,2,  34.3461,2,    243.5,2,   245.3,2,    0.40,2,    1.40,2,    0.03,2,    0.20,2,   2.456,2,   1.474,2,   1.3155,2,  2024.8,2,  -999.0,5,    400.8,2,    20.00,   7.9491,2,    25.00,-999.000,9,-999.0000,9, -999.00,9, -999.00,9,  -999.0,9,-999.000,9,-999.000,-999.000,9,-999.000,9, -999.00,9, -999.00,9, -999.00,9, -999.00,9, -999.00,9,-999.000,-999.0000,9,-999.0000,9,-999.0000,9,-999.0000,9,-999.0000,9,-999.0000,9,-999.0000,9,-999.0000,9,-999.0000,9,  19.4081,     -999.0,9,     -999.0,9,     -999.0,9,     -999.0,9,     -999.0,9,     -999.0,9,     -999.0,9,-999.0000, -999.00
33RO20071215,        P18,     113,          1,         33,      12027,2,20080126,       2257,   -36.8337,  -102.9998,       3977,    57.3,  15.9494,  34.4221,2,  34.4214,2,    267.5,2,   266.8,2,    0.40,2,    0.80,2,    0.03,2,    0.17,2,-999.000,9,-999.000,9,-999.0000,9,  2028.0,2,  2284.4,2,   -999.0,9,  -999.00,   7.9501,2,    25.00,-999.000,9,-999.0000,9, -999.00,9, -999.00,9,  -999.0,9,-999.000,9,-999.000,-999.000,9,-999.000,9, -999.00,9, -999.00,9, -999.00,9, -999.00,9, -999.00,9,-999.000,-999.0000,9,-999.0000,9,-999.0000,9,-999.0000,9,-999.0000,9,-999.0000,9,-999.0000,9,-999.0000,9,-999.0000,9,  15.9404,     -999.0,9,     -999.0,9,     -999.0,9,     -999.0,9,     -999.0,9,     -999.0,9,     -999.0,9,-999.0000, -999.00
33RO20071215,        P18,     113,          1,         32,      12023,2,20080126,       2257,   -36.8337,  -102.9998,       3977,    82.3,  15.1079,  34.4224,2,  34.4443,2,    261.6,2,   259.3,2,    0.50,2,    1.60,2,    0.05,2,    0.22,2,-999.000,9,-999.000,9,-999.0000,9,  2037.3,2,  2273.6,2,    423.2,2,    20.00,   7.9450,2,    25.00,-999.000,9,-999.0000,9, -999.00,9, -999.00,9,  -999.0,9,-999.000,9,-999.000,-999.000,9,-999.000,9, -999.00,9, -999.00,9, -999.00,9, -999.00,9, -999.00,9,-999.000,-999.0000,9,-999.0000,9,-999.0000,9,-999.0000,9,-999.0000,9,-999.0000,9,-999.0000,9,-999.0000,9,-999.0000,9,  15.0955,     -999.0,9,     -999.0,9,     -999.0,9,     -999.0,9,     -999.0,9,     -999.0,9,     -999.0,9,-999.0000, -999.00
33RO20071215,        P18,     113,          1,         31,      12037,2,20080126,       2257,   -36.8337,  -102.9998,       3977,   107.7,  14.4283,  34.4239,2,  34.4152,2,    252.3,2,   252.6,2,    0.50,2,    2.70,2,    0.12,2,    0.31,2,   2.954,2,   1.732,2,   1.3200,2,  -999.0,5,  2274.8,2,   -999.0,9,  -999.00,   7.9257,2,    25.00,-999.000,9,-999.0000,9, -999.00,9, -999.00,9,  -999.0,9,-999.000,9,-999.000,-999.000,9,-999.000,9, -999.00,9, -999.00,9, -999.00,9, -999.00,9, -999.00,9,-999.000,-999.0000,9,-999.0000,9,-999.0000,9,-999.0000,9,-999.0000,9,-999.0000,9,-999.0000,9,-999.0000,9,-999.0000,9,  14.4126,     -999.0,9,     -999.0,9,     -999.0,9,     -999.0,9,     -999.0,9,     -999.0,9,     -999.0,9,-999.0000, -999.00
33RO20071215,        P18,     113,          1,         30,      12036,2,20080126,       2257,   -36.8337,  -102.9998,       3977,   133.6,  13.5378,  34.3221,2,  34.3217,2,    250.7,2,   249.8,2,    0.60,2,    4.20,2,    0.29,2,    0.42,2,-999.000,9,-999.000,9,-999.0000,9,  2053.3,2,  2269.4,2,    472.4,2,    20.00,   7.8977,2,    25.00,-999.000,9,-999.0000,9, -999.00,9, -999.00,9,  -999.0,9,-999.000,9,-999.000,-999.000,9,-999.000,9, -999.00,9, -999.00,9, -999.00,9, -999.00,9, -999.00,9,-999.000,-999.0000,9,-999.0000,9,-999.0000,9,-999.0000,9,-999.0000,9,-999.0000,9,-999.0000,9,-999.0000,9,-999.0000,9,  13.5190,     -999.0,9,     -999.0,9,     -999.0,9,     -999.0,9,     -999.0,9,     -999.0,9,     -999.0,9,-999.0000, -999.00
33RO20071215,        P18,     113,          1,         29,      12044,2,20080126,       2257,   -36.8337,  -102.9998,       3977,   152.3,  12.5597,  34.2979,2,  34.2959,2,    243.0,2,   240.6,2,    0.90,2,    7.20,2,    0.50,2,    0.58,2,-999.000,9,-999.000,9,-999.0000,9,  2070.5,2,  2274.0,2,   -999.0,9,  -999.00,   7.8614,2,    25.00,-999.000,9,-999.0000,9, -999.00,9, -999.00,9,  -999.0,9,-999.000,9,-999.000,-999.000,9,-999.000,9, -999.00,9, -999.00,9, -999.00,9, -999.00,9, -999.00,9,-999.000,-999.0000,9,-999.0000,9,-999.0000,9,-999.0000,9,-999.0000,9,-999.0000,9,-999.0000,9,-999.0000,9,-999.0000,9,  12.5394,     -999.0,9,     -999.0,9,     -999.0,9,     -999.0,9,     -999.0,9,     -999.0,9,     -999.0,9,-999.0000, -999.00
33RO20071215,        P18,     113,          1,         28,      12057,2,20080126,       2257,   -36.8337,  -102.9998,       3977,   183.1,  11.6188,  34.3088,2,  34.3060,2,    234.9,2,   234.6,2,    1.20,2,   10.60,2,    0.03,2,    0.75,2,   3.410,2,   1.925,2,   1.3788,2,  2086.2,2,  2275.3,2,    576.9,2,    20.00,   7.8309,2,    25.00,-999.000,9,-999.0000,9, -999.00,9, -999.00,9,  -999.0,9,-999.000,9,-999.000,-999.000,9,-999.000,9, -999.00,9, -999.00,9, -999.00,9, -999.00,9, -999.00,9,-999.000,-999.0000,9,-999.0000,9,-999.0000,9,-999.0000,9,-999.0000,9,-999.0000,9,-999.0000,9,-999.0000,9,-999.0000,9,  11.5956,     -999.0,9,     -999.0,9,     -999.0,9,     -999.0,9,     -999.0,9,     -999.0,9,     -999.0,9,-999.0000, -999.00
33RO20071215,        P18,     113,          1,         27,      12026,2,20080126,       2257,   -36.8337,  -102.9998,       3977,   216.7,  10.8520,  34.3562,2,  34.3544,2,    224.4,2,   223.4,2,    1.80,2,   13.60,2,    0.01,2,    0.93,2,-999.000,9,-999.000,9,-999.0000,9,  2102.8,2,  2275.2,2,   -999.0,9,  -999.00,   7.7972,2,    25.00,-999.000,9,-999.0000,9, -999.00,9, -999.00,9,  -999.0,9,-999.000,9,-999.000,-999.000,9,-999.000,9, -999.00,9, -999.00,9, -999.00,9, -999.00,9, -999.00,9,-999.000,-999.0000,9,-999.0000,9,-999.0000,9,-999.0000,9,-999.0000,9,-999.0000,9,-999.0000,9,-999.0000,9,-999.0000,9,  10.8257,     -999.0,9,     -999.0,9,     -999.0,9,     -999.0,9,     -999.0,9,     -999.0,9,     -999.0,9,-999.0000, -999.00
33RO20071215,        P18,     113,          1,         26,      12030,2,20080126,       2257,   -36.8337,  -102.9998,       3977,   267.5,   9.2331,  34.3032,2,  34.3045,2,    219.5,2,   219.1,2,    3.30,2,   18.10,2,    0.01,2,    1.22,2,-999.000,9,-999.000,9,-999.0000,9,  2123.9,2,  2277.4,2,    719.0,2,    20.00,   7.7449,2,    25.00,-999.000,9,-999.0000,9, -999.00,9, -999.00,9,  -999.0,9,-999.000,9,-999.000,-999.000,9,-999.000,9, -999.00,9, -999.00,9, -999.00,9, -999.00,9, -999.00,9,-999.000,-999.0000,9,-999.0000,9,-999.0000,9,-999.0000,9,-999.0000,9,-999.0000,9,-999.0000,9,-999.0000,9,-999.0000,9,   9.2037,     -999.0,9,     -999.0,9,     -999.0,9,     -999.0,9,     -999.0,9,     -999.0,9,     -999.0,9,-999.0000, -999.00
33RO20071215,        P18,     113,          1,         25,      12024,2,20080126,       2257,   -36.8337,  -102.9998,       3977,   316.9,   8.2615,  34.2946,2,  34.2950,2,    215.6,2,   214.8,2,    5.20,2,   21.20,2,    0.00,2,    1.44,2,   3.557,2,   1.831,2,   0.9201,2,  2139.6,2,  2277.1,2,   -999.0,9,  -999.00,   7.7033,2,    25.00,-999.000,9,-999.0000,9, -999.00,9, -999.00,9,  -999.0,9,-999.000,9,-999.000,-999.000,9,-999.000,9, -999.00,9, -999.00,9, -999.00,9, -999.00,9, -999.00,9,-999.000,-999.0000,9,-999.0000,9,-999.0000,9,-999.0000,9,-999.0000,9,-999.0000,9,-999.0000,9,-999.0000,9,-999.0000,9,   8.2289,     -999.0,9,     -999.0,9,     -999.0,9,     -999.0,9,     -999.0,9,     -999.0,9,     -999.0,9,-999.0000, -999.00
33RO20071215,        P18,     113,          1,         24,      12019,2,20080126,       2257,   -36.8337,  -102.9998,       3977,   366.7,   7.2694,  34.2960,2,  34.2956,2,    220.9,2,   222.9,2,    6.60,2,   23.10,2,    0.00,2,    1.55,2,-999.000,9,-999.000,9,-999.0000,9,  2148.0,2,  2284.6,4,    818.3,2,    20.00,   7.6861,2,    25.00,-999.000,9,-999.0000,9, -999.00,9, -999.00,9,  -999.0,9,-999.000,9,-999.000,-999.000,9,-999.000,9, -999.00,9, -999.00,9, -999.00,9, -999.00,9, -999.00,9,-999.000,-999.0000,9,-999.0000,9,-999.0000,9,-999.0000,9,-999.0000,9,-999.0000,9,-999.0000,9,-999.0000,9,-999.0000,9,   7.2342,     -999.0,9,     -999.0,9,     -999.0,9,     -999.0,9,     -999.0,9,     -999.0,9,     -999.0,9,-999.0000, -999.00
33RO20071215,        P18,     113,          1,         23,      12022,2,20080126,       2257,   -36.8337,  -102.9998,       3977,   433.0,   6.6860,  34.3158,2,  34.3181,2,    242.8,2,   243.1,2,    7.10,2,   23.00,2,    0.00,2,    1.52,2,-999.000,9,-999.000,9,-999.0000,9,  -999.0,9,  -999.0,9,   -999.0,9,  -999.00,-999.0000,9,  -999.00,-999.000,9,-999.0000,9, -999.00,9, -999.00,9,  -999.0,9,-999.000,9,-999.000,-999.000,9,-999.000,9, -999.00,9, -999.00,9, -999.00,9, -999.00,9, -999.00,9,-999.000,-999.0000,9,-999.0000,9,-999.0000,9,-999.0000,9,-999.0000,9,-999.0000,9,-999.0000,9,-999.0000,9,-999.0000,9,   6.6462,     -999.0,9,     -999.0,9,     -999.0,9,     -999.0,9,     -999.0,9,     -999.0,9,     -999.0,9,-999.0000, -999.00
33RO20071215,        P18,     113,          1,         22,      12015,2,20080126,       2257,   -36.8337,  -102.9998,       3977,   532.3,   6.2197,  34.3055,2,  34.3061,2,    249.0,2,   248.4,2,    8.30,2,   23.70,2,    0.00,2,    1.56,2,   3.636,2,   1.813,2,   0.7261,2,  2143.6,2,  2304.4,4,    776.7,2,    20.00,   7.7144,2,    25.00,-999.000,9,-999.0000,9, -999.00,9, -999.00,9,  -999.0,9,-999.000,9,-999.000,-999.000,9,-999.000,9, -999.00,9, -999.00,9, -999.00,9, -999.00,9, -999.00,9,-999.000,-999.0000,9,-999.0000,9,-999.0000,9,-999.0000,9,-999.0000,9,-999.0000,9,-999.0000,9,-999.0000,9,-999.0000,9,   6.1723,     -999.0,9,     -999.0,9,     -999.0,9,     -999.0,9,     -999.0,9,     -999.0,9,     -999.0,9,-999.0000, -999.00
33RO20071215,        P18,     113,          1,         21,      12020,2,20080126,       2257,   -36.8337,  -102.9998,       3977,   633.4,   5.8409,  34.2859,2,  34.2862,2,    247.5,2,   246.9,2,   10.00,2,   24.70,2,    0.00,2,    1.64,2,-999.000,9,-999.000,9,-999.0000,9,  -999.0,9,  -999.0,9,   -999.0,9,  -999.00,-999.0000,9,  -999.00,-999.000,9,-999.0000,9, -999.00,9, -999.00,9,  -999.0,9,-999.000,9,-999.000,-999.000,9,-999.000,9, -999.00,9, -999.00,9, -999.00,9, -999.00,9, -999.00,9,-999.000,-999.0000,9,-999.0000,9,-999.0000,9,-999.0000,9,-999.0000,9,-999.0000,9,-999.0000,9,-999.0000,9,-999.0000,9,   5.7859,     -999.0,9,     -999.0,9,     -999.0,9,     -999.0,9,     -999.0,9,     -999.0,9,     -999.0,9,-999.0000, -999.00
33RO20071215,        P18,     113,          1,         20,      12055,2,20080126,       2257,   -36.8337,  -102.9998,       3977,   732.6,   5.4219,  34.2675,2,  34.2670,2,    241.3,2,   240.8,2,   12.50,2,   26.30,2,    0.00,2,    1.75,2,   2.641,2,   1.290,2,   0.3123,2,  2153.8,2,  2334.1,4,    829.1,6,    20.00,   7.7173,2,    25.00,-999.000,9,-999.0000,9, -999.00,9, -999.00,9,  -999.0,9,-999.000,9,-999.000,-999.000,9,-999.000,9, -999.00,9, -999.00,9, -999.00,9, -999.00,9, -999.00,9,-999.000,-999.0000,9,-999.0000,9,-999.0000,9,-999.0000,9,-999.0000,9,-999.0000,9,-999.0000,9,-999.0000,9,-999.0000,9,   5.3602,     -999.0,9,     -999.0,9,     -999.0,9,     -999.0,9,     -999.0,9,     -999.0,9,     -999.0,9,-999.0000, -999.00
33RO20071215,        P18,     113,          1,         19,      12018,2,20080126,       2257,   -36.8337,  -102.9998,       3977,   832.8,   4.9856,  34.2688,2,  34.2671,2,    225.1,2,   225.9,2,   17.70,2,   28.50,2,    0.00,2,    1.92,2,-999.000,9,-999.000,9,-999.0000,9,  -999.0,9,  -999.0,9,   -999.0,9,  -999.00,-999.0000,9,  -999.00,-999.000,9,-999.0000,9, -999.00,9, -999.00,9,  -999.0,9,-999.000,9,-999.000,-999.000,9,-999.000,9, -999.00,9, -999.00,9, -999.00,9, -999.00,9, -999.00,9,-999.000,-999.0000,9,-999.0000,9,-999.0000,9,-999.0000,9,-999.0000,9,-999.0000,9,-999.0000,9,-999.0000,9,-999.0000,9,   4.9176,     -999.0,9,     -999.0,9,     -999.0,9,     -999.0,9,     -999.0,9,     -999.0,9,     -999.0,9,-999.0000, -999.00
33RO20071215,        P18,     113,          1,         18,      12025,2,20080126,       2257,   -36.8337,  -102.9998,       3977,   932.4,   4.5583,  34.2846,2,  34.2843,2,    208.5,2,   208.2,2,   25.10,2,   30.70,2,    0.00,2,    2.09,2,-999.000,9,-999.000,9,-999.0000,9,  2184.5,2,  2268.7,4,    969.8,2,    20.00,   7.6312,2,    25.00,-999.000,9,-999.0000,9, -999.00,9, -999.00,9,  -999.0,9,-999.000,9,-999.000,-999.000,9,-999.000,9, -999.00,9, -999.00,9, -999.00,9, -999.00,9, -999.00,9,-999.000,-999.0000,9,-999.0000,9,-999.0000,9,-999.0000,9,-999.0000,9,-999.0000,9,-999.0000,9,-999.0000,9,-999.0000,9,   4.4846,     -999.0,9,     -999.0,9,     -999.0,9,     -999.0,9,     -999.0,9,     -999.0,9,     -999.0,9,-999.0000, -999.00
33RO20071215,        P18,     113,          1,         17,      12016,2,20080126,       2257,   -36.8337,  -102.9998,       3977,  1029.5,   4.1189,  34.3145,2,  34.3147,2,    190.4,2,   191.0,2,   34.30,2,   32.90,2,    0.00,2,    2.25,2,   0.462,2,   0.252,2,   0.0000,2,  -999.0,9,  -999.0,9,   -999.0,9,  -999.00,-999.0000,9,  -999.00,-999.000,9,-999.0000,9, -999.00,9, -999.00,9,  -999.0,9,-999.000,9,-999.000,-999.000,9,-999.000,9, -999.00,9, -999.00,9, -999.00,9, -999.00,9, -999.00,9,-999.000,-999.0000,9,-999.0000,9,-999.0000,9,-999.0000,9,-999.0000,9,-999.0000,9,-999.0000,9,-999.0000,9,-999.0000,9,   4.0402,     -999.0,9,     -999.0,9,     -999.0,9,     -999.0,9,     -999.0,9,     -999.0,9,     -999.0,9,-999.0000, -999.00
33RO20071215,        P18,     113,          1,         16,      12051,2,20080126,       2257,   -36.8337,  -102.9998,       3977,  1133.3,   3.7318,  34.3584,2,  34.3607,2,    174.0,2,   172.8,2,   45.70,2,   34.60,2,    0.00,2,    2.40,2,-999.000,9,-999.000,9,-999.0000,9,  2224.3,2,  2272.8,4,   1147.8,2,    20.00,   7.5704,2,    25.00,-999.000,9,-999.0000,9, -999.00,9, -999.00,9,  -999.0,9,-999.000,9,-999.000,-999.000,9,-999.000,9, -999.00,9, -999.00,9, -999.00,9, -999.00,9, -999.00,9,-999.000,-999.0000,9,-999.0000,9,-999.0000,9,-999.0000,9,-999.0000,9,-999.0000,9,-999.0000,9,-999.0000,9,-999.0000,9,   3.6475,     -999.0,9,     -999.0,9,     -999.0,9,     -999.0,9,     -999.0,9,     -999.0,9,     -999.0,9,-999.0000, -999.00
33RO20071215,        P18,     113,          1,         15,      12014,2,20080126,       2257,   -36.8337,  -102.9998,       3977,  1234.2,   3.4580,  34.4208,2,  34.4192,2,    151.6,2,   151.5,2,   58.60,2,   36.40,2,    0.00,2,    2.54,2,   0.052,2,   0.030,2,   0.0000,2,  -999.0,9,  -999.0,9,   -999.0,9,  -999.00,-999.0000,9,  -999.00,-999.000,9,-999.0000,9, -999.00,9, -999.00,9,  -999.0,9,-999.000,9,-999.000,-999.000,9,-999.000,9, -999.00,9, -999.00,9, -999.00,9, -999.00,9, -999.00,9,-999.000,-999.0000,9,-999.0000,9,-999.0000,9,-999.0000,9,-999.0000,9,-999.0000,9,-999.0000,9,-999.0000,9,-999.0000,9,   3.3677,     -999.0,9,     -999.0,9,     -999.0,9,     -999.0,9,     -999.0,9,     -999.0,9,     -999.0,9,-999.0000, -999.00
33RO20071215,        P18,     113,          1,         14,      12013,2,20080126,       2257,   -36.8337,  -102.9998,       3977,  1333.6,   3.2777,  34.4729,2,  34.4733,2,    136.1,2,   136.4,2,   70.80,2,   37.40,2,    0.00,2,    2.64,2,-999.000,9,-999.000,9,-999.0000,9,  2266.6,6,  2273.0,4,   1307.9,2,    20.00,   7.5235,2,    25.00,-999.000,9,-999.0000,9, -999.00,9, -999.00,9,  -999.0,9,-999.000,9,-999.000,-999.000,9,-999.000,9, -999.00,9, -999.00,9, -999.00,9, -999.00,9, -999.00,9,-999.000,-999.0000,9,-999.0000,9,-999.0000,9,-999.0000,9,-999.0000,9,-999.0000,9,-999.0000,9,-999.0000,9,-999.0000,9,   3.1809,     -999.0,9,     -999.0,9,     -999.0,9,     -999.0,9,     -999.0,9,     -999.0,9,     -999.0,9,-999.0000, -999.00
33RO20071215,        P18,     113,          1,         13,      12012,2,20080126,       2257,   -36.8337,  -102.9998,       3977,  1467.4,   3.0593,  34.5260,2,  34.5258,2,    128.5,2,   128.1,2,   83.60,2,   37.80,2,    0.00,2,    2.69,2,-999.000,9,-999.000,9,-999.0000,9,  -999.0,9,  -999.0,9,   -999.0,9,  -999.00,-999.0000,9,  -999.00,-999.000,9,-999.0000,9, -999.00,9, -999.00,9,  -999.0,9,-999.000,9,-999.000,-999.000,9,-999.000,9, -999.00,9, -999.00,9, -999.00,9, -999.00,9, -999.00,9,-999.000,-999.0000,9,-999.0000,9,-999.0000,9,-999.0000,9,-999.0000,9,-999.0000,9,-999.0000,9,-999.0000,9,-999.0000,9,   2.9536,     -999.0,9,     -999.0,9,     -999.0,9,     -999.0,9,     -999.0,9,     -999.0,9,     -999.0,9,-999.0000, -999.00
33RO20071215,        P18,     113,          1,         12,      12031,2,20080126,       2257,   -36.8337,  -102.9998,       3977,  1667.8,   2.6979,  34.5681,2,  34.5680,2,    139.9,2,   140.2,2,   91.60,2,   36.70,2,    0.00,2,    2.59,2,-999.000,9,-999.000,9,-999.0000,9,  2283.5,2,  2359.8,2,   -999.0,9,  -999.00,   7.5526,2,    25.00,-999.000,9,-999.0000,9, -999.00,9, -999.00,9,  -999.0,9,-999.000,9,-999.000,-999.000,9,-999.000,9, -999.00,9, -999.00,9, -999.00,9, -999.00,9, -999.00,9,-999.000,-999.0000,9,-999.0000,9,-999.0000,9,-999.0000,9,-999.0000,9,-999.0000,9,-999.0000,9,-999.0000,9,-999.0000,9,   2.5797,     -999.0,9,     -999.0,9,     -999.0,9,     -999.0,9,     -999.0,9,     -999.0,9,     -999.0,9,-999.0000, -999.00