BOTTLE,20220818CCHSIOAMB
EXPOCODE,SECT_ID,STNNBR,CASTNO,SAMPNO,BTLNBR,BTLNBR_FLAG_W,DATE,TIME,LATITUDE,LONGITUDE,DEPTH,CTDPRS,CTDTMP,CTDSAL,CTDSAL_FLAG_W,SALNTY,SALNTY_FLAG_W,CTDOXY,CTDOXY_FLAG_W,OXYGEN,OXYGEN_FLAG_W,SILCAT,SILCAT_FLAG_W,NITRAT,NITRAT_FLAG_W,NITRIT,NITRIT_FLAG_W,PHSPHT,PHSPHT_FLAG_W,CFC-11,CFC-11_FLAG_W,CFC-12,CFC-12_FLAG_W,SF6,SF6_FLAG_W,TCARBN,TCARBN_FLAG_W,ALKALI,ALKALI_FLAG_W,FCO2,FCO2_FLAG_W,FCO2TMP,PH_SWS,PH_SWS_FLAG_W,PH_TMP,TRITUM,TRITUM_FLAG_W,HELIUM,HELIUM_FLAG_W,DELHE3,DELHE3_FLAG_W,DELC13,DELC13_FLAG_W,DELC14,DELC14_FLAG_W,NEON,NEON_FLAG_W,NEONER,CCL4,CCL4_FLAG_W,POC,POC_FLAG_W,DOC,DOC_FLAG_W,TDN,TDN_FLAG_W,DON,DON_FLAG_W,CHLORA,CHLORA_FLAG_W,ARGON,ARGON_FLAG_W,TRITER,CDOM325,CDOM325_FLAG_W,CDOM340,CDOM340_FLAG_W,CDOM380,CDOM380_FLAG_W,CDOM412,CDOM412_FLAG_W,CDOM443,CDOM443_FLAG_W,CDOM490,CDOM490_FLAG_W,CDOM555,CDOM555_FLAG_W,CDOMSL,CDOMSL_FLAG_W,CDOMSN,CDOMSN_FLAG_W,THETA,D18O_NO3,D18O_NO3_FLAG_W,CDOM2C,CDOM2C_FLAG_W,CDOM3C,CDOM3C_FLAG_W,LAB_DEN,LAB_DEN_FLAG_W,DELSI30,DELSI30_FLAG_W,N2,N2_FLAG_W,D15N_NO3,D15N_NO3_FLAG_W,HELIER,DELHER
,,,,,,,,,,,METERS,DBAR,ITS-90,PSS-78,,PSS-78,,UMOL/KG,,UMOL/KG,,UMOL/KG,,UMOL/KG,,UMOL/KG,,UMOL/KG,,PMOL/KG,,PMOL/KG,,FMOL/KG,,UMOL/KG,,UMOL/KG,,UATM,,DEG C,,,DEG C,TU,,NMOL/KG,,PERCNT,,/MILLE,,/MILLE,,NMOL/KG,,NMOL/KG,PMOL/KG,,UG/KG,,UMOL/KG,,UMOL/KG,,UMOL/KG,,UG/KG,,UMOL/KG,,TU,1/M,,1/M,,1/M,,1/M,,1/M,,1/M,,1/M,,1/NM,,1/NM,,DEG C,/MILLE,,,,,,,,/MILLE,,UMOL/KG,,/MILLE,,NMOL/KG,PERCNT
33RO20071215,        P18,     137,          1,         24,      11024,2,20080203,       1419,   -50.8348,  -102.9983,       4015,     5.4,   9.2178,  34.1578,2,  34.1601,2,    283.9,2,   283.8,2,    1.60,2,   16.50,2,    0.24,2,    1.18,2,   3.899,2,   2.214,2,   1.7262,2,  2097.3,6,  2272.7,2,   -999.0,9,  -999.00,   7.8243,2,    25.00,-999.000,9,-999.0000,9, -999.00,9,    1.59,2,  -999.0,1,-999.000,9,-999.000,-999.000,9,-999.000,9, -999.00,9, -999.00,9, -999.00,9, -999.00,9, -999.00,9,-999.000,-999.0000,9,-999.0000,9,-999.0000,9,-999.0000,9,-999.0000,9,-999.0000,9,-999.0000,9,-999.0000,9,-999.0000,9,   9.2172,     -999.0,9,     -999.0,9,     -999.0,9,     -999.0,9,     -999.0,9,     -999.0,9,     -999.0,9,-999.0000, -999.00
33RO20071215,        P18,     137,          1,         23,      11023,2,20080203,       1419,   -50.8348,  -102.9983,       4015,    32.8,   9.2110,  34.1579,2,  34.1611,2,    284.9,2,   283.6,2,    1.60,2,   16.50,2,    0.23,2,    1.18,2,-999.000,9,-999.000,9,-999.0000,9,  2096.3,2,  2273.5,2,   -999.0,9,  -999.00,   7.8120,2,    25.00,-999.000,9,-999.0000,9, -999.00,9, -999.00,9,  -999.0,9,-999.000,9,-999.000,-999.000,9,-999.000,9, -999.00,9, -999.00,9, -999.00,9, -999.00,9, -999.00,9,-999.000,-999.0000,9,-999.0000,9,-999.0000,9,-999.0000,9,-999.0000,9,-999.0000,9,-999.0000,9,-999.0000,9,-999.0000,9,   9.2074,     -999.0,9,     -999.0,9,     -999.0,9,     -999.0,9,     -999.0,9,     -999.0,9,     -999.0,9,-999.0000, -999.00
33RO20071215,        P18,     137,          1,         22,      11022,2,20080203,       1419,   -50.8348,  -102.9983,       4015,    58.0,   9.1883,  34.1572,2,  34.1600,2,    283.6,2,   283.7,2,    1.60,2,   16.60,2,    0.23,2,    1.18,2,   3.913,2,   2.214,2,   1.6762,2,  2095.7,2,  2276.1,2,   -999.0,9,  -999.00,   7.7896,2,    25.00,-999.000,9,-999.0000,9, -999.00,9, -999.00,9,  -999.0,9,-999.000,9,-999.000,-999.000,9,-999.000,9, -999.00,9, -999.00,9, -999.00,9, -999.00,9, -999.00,9,-999.000,-999.0000,9,-999.0000,9,-999.0000,9,-999.0000,9,-999.0000,9,-999.0000,9,-999.0000,9,-999.0000,9,-999.0000,9,   9.1820,     -999.0,9,     -999.0,9,     -999.0,9,     -999.0,9,     -999.0,9,     -999.0,9,     -999.0,9,-999.0000, -999.00
33RO20071215,        P18,     137,          1,         21,      11021,2,20080203,       1419,   -50.8348,  -102.9983,       4015,    82.4,   8.3564,  34.1762,2,  34.1783,2,    287.8,2,   288.5,2,    1.80,2,   16.80,2,    0.22,2,    1.23,2,-999.000,9,-999.000,9,-999.0000,9,  2100.8,2,  2274.3,2,   -999.0,9,  -999.00,   7.8157,2,    25.00,-999.000,9,-999.0000,9, -999.00,9, -999.00,9,  -999.0,9,-999.000,9,-999.000,-999.000,9,-999.000,9, -999.00,9, -999.00,9, -999.00,9, -999.00,9, -999.00,9,-999.000,-999.0000,9,-999.0000,9,-999.0000,9,-999.0000,9,-999.0000,9,-999.0000,9,-999.0000,9,-999.0000,9,-999.0000,9,   8.3480,     -999.0,9,     -999.0,9,     -999.0,9,     -999.0,9,     -999.0,9,     -999.0,9,     -999.0,9,-999.0000, -999.00
33RO20071215,        P18,     137,          1,         20,      11020,2,20080203,       1419,   -50.8348,  -102.9983,       4015,   107.4,   6.8024,  34.2177,2,  34.2181,2,    290.8,2,   291.3,2,    3.90,2,   18.10,2,    0.32,2,    1.35,2,   4.312,2,   2.424,2,   1.7713,2,  2114.2,2,  2274.8,2,   -999.0,9,  -999.00,   7.7889,2,    25.00,-999.000,9,-999.0000,9, -999.00,9, -999.00,9,  -999.0,9,-999.000,9,-999.000,-999.000,9,-999.000,9, -999.00,9, -999.00,9, -999.00,9, -999.00,9, -999.00,9,-999.000,-999.0000,9,-999.0000,9,-999.0000,9,-999.0000,9,-999.0000,9,-999.0000,9,-999.0000,9,-999.0000,9,-999.0000,9,   6.7927,     -999.0,9,     -999.0,9,     -999.0,9,     -999.0,9,     -999.0,9,     -999.0,9,     -999.0,9,-999.0000, -999.00
33RO20071215,        P18,     137,          1,         19,      11019,2,20080203,       1419,   -50.8348,  -102.9983,       4015,   132.6,   6.5455,  34.2306,2,  34.2332,2,    289.6,2,   289.2,2,    4.40,2,   19.00,2,    0.41,2,    1.37,2,-999.000,9,-999.000,9,-999.0000,9,  2118.8,2,  2274.4,2,   -999.0,9,  -999.00,   7.7719,2,    25.00,-999.000,9,-999.0000,9, -999.00,9, -999.00,9,  -999.0,9,-999.000,9,-999.000,-999.000,9,-999.000,9, -999.00,9, -999.00,9, -999.00,9, -999.00,9, -999.00,9,-999.000,-999.0000,9,-999.0000,9,-999.0000,9,-999.0000,9,-999.0000,9,-999.0000,9,-999.0000,9,-999.0000,9,-999.0000,9,   6.5338,     -999.0,9,     -999.0,9,     -999.0,9,     -999.0,9,     -999.0,9,     -999.0,9,     -999.0,9,-999.0000, -999.00
33RO20071215,        P18,     137,          1,         18,      11018,2,20080203,       1419,   -50.8348,  -102.9983,       4015,   166.2,   6.3700,  34.2249,2,  34.2273,2,    289.4,2,   289.4,2,    4.80,2,   19.60,2,    0.05,2,    1.40,2,   4.356,2,   2.430,2,   1.7985,2,  2118.6,2,  2275.0,2,   -999.0,9,  -999.00,   7.7619,2,    25.00,-999.000,9,-999.0000,9, -999.00,9, -999.00,9,  -999.0,9,-999.000,9,-999.000,-999.000,9,-999.000,9, -999.00,9, -999.00,9, -999.00,9, -999.00,9, -999.00,9,-999.000,-999.0000,9,-999.0000,9,-999.0000,9,-999.0000,9,-999.0000,9,-999.0000,9,-999.0000,9,-999.0000,9,-999.0000,9,   6.3554,     -999.0,9,     -999.0,9,     -999.0,9,     -999.0,9,     -999.0,9,     -999.0,9,     -999.0,9,-999.0000, -999.00
33RO20071215,        P18,     137,          1,         17,      11017,2,20080203,       1419,   -50.8348,  -102.9983,       4015,   224.4,   6.2150,  34.2185,2,  34.2206,2,    289.7,2,   289.7,2,    4.90,2,   19.90,2,    0.04,2,    1.41,2,-999.000,9,-999.000,9,-999.0000,9,  2119.6,2,  2279.4,2,   -999.0,9,  -999.00,   7.7700,2,    25.00,-999.000,9,-999.0000,9, -999.00,9, -999.00,9,  -999.0,9,-999.000,9,-999.000,-999.000,9,-999.000,9, -999.00,9, -999.00,9, -999.00,9, -999.00,9, -999.00,9,-999.000,-999.0000,9,-999.0000,9,-999.0000,9,-999.0000,9,-999.0000,9,-999.0000,9,-999.0000,9,-999.0000,9,-999.0000,9,   6.1956,     -999.0,9,     -999.0,9,     -999.0,9,     -999.0,9,     -999.0,9,     -999.0,9,     -999.0,9,-999.0000, -999.00
33RO20071215,        P18,     137,          1,         16,      11016,2,20080203,       1419,   -50.8348,  -102.9983,       4015,   300.3,   6.4399,  34.2945,2,  34.2936,2,    275.2,2,   274.7,2,    6.50,2,   21.00,2,    0.01,2,    1.47,2,-999.000,5,-999.000,5,-999.0000,5,  2129.6,2,  2280.2,2,   -999.0,9,  -999.00,   7.7351,2,    25.00,-999.000,9,-999.0000,9, -999.00,9, -999.00,9,  -999.0,9,-999.000,9,-999.000,-999.000,9,-999.000,9, -999.00,9, -999.00,9, -999.00,9, -999.00,9, -999.00,9,-999.000,-999.0000,9,-999.0000,9,-999.0000,9,-999.0000,9,-999.0000,9,-999.0000,9,-999.0000,9,-999.0000,9,-999.0000,9,   6.4131,     -999.0,9,     -999.0,9,     -999.0,9,     -999.0,9,     -999.0,9,     -999.0,9,     -999.0,9,-999.0000, -999.00
33RO20071215,        P18,     137,          1,         15,      11015,2,20080203,       1419,   -50.8348,  -102.9983,       4015,   375.2,   6.2990,  34.2948,2,  34.2931,2,    275.2,2,   275.5,2,    7.10,2,   21.40,2,    0.01,2,    1.49,2,-999.000,9,-999.000,9,-999.0000,9,  2131.7,2,  2280.2,2,   -999.0,9,  -999.00,   7.7434,2,    25.00,-999.000,9,-999.0000,9, -999.00,9, -999.00,9,  -999.0,9,-999.000,9,-999.000,-999.000,9,-999.000,9, -999.00,9, -999.00,9, -999.00,9, -999.00,9, -999.00,9,-999.000,-999.0000,9,-999.0000,9,-999.0000,9,-999.0000,9,-999.0000,9,-999.0000,9,-999.0000,9,-999.0000,9,-999.0000,9,   6.2658,     -999.0,9,     -999.0,9,     -999.0,9,     -999.0,9,     -999.0,9,     -999.0,9,     -999.0,9,-999.0000, -999.00
33RO20071215,        P18,     137,          1,         14,      11014,2,20080203,       1419,   -50.8348,  -102.9983,       4015,   449.6,   6.0648,  34.2717,2,  34.2705,2,    275.4,2,   275.5,2,    7.70,2,   22.00,2,    0.01,2,    1.53,2,   4.265,2,   2.352,2,   1.6032,2,  2133.6,2,  2279.1,2,   -999.0,9,  -999.00,   7.7470,2,    25.00,-999.000,9,-999.0000,9, -999.00,9, -999.00,9,  -999.0,9,-999.000,9,-999.000,-999.000,9,-999.000,9, -999.00,9, -999.00,9, -999.00,9, -999.00,9, -999.00,9,-999.000,-999.0000,9,-999.0000,9,-999.0000,9,-999.0000,9,-999.0000,9,-999.0000,9,-999.0000,9,-999.0000,9,-999.0000,9,   6.0257,     -999.0,9,     -999.0,9,     -999.0,9,     -999.0,9,     -999.0,9,     -999.0,9,     -999.0,9,-999.0000, -999.00
33RO20071215,        P18,     137,          1,         13,      11013,2,20080203,       1419,   -50.8348,  -102.9983,       4015,   549.7,   5.7425,  34.2470,2,  34.2455,2,    268.1,2,   268.8,2,    9.50,2,   23.40,2,    0.00,2,    1.62,2,-999.000,9,-999.000,9,-999.0000,9,  2142.5,2,  2279.4,2,   -999.0,9,  -999.00,   7.7310,2,    25.00,-999.000,9,-999.0000,9, -999.00,9, -999.00,9,  -999.0,9,-999.000,9,-999.000,-999.000,9,-999.000,9, -999.00,9, -999.00,9, -999.00,9, -999.00,9, -999.00,9,-999.000,-999.0000,9,-999.0000,9,-999.0000,9,-999.0000,9,-999.0000,9,-999.0000,9,-999.0000,9,-999.0000,9,-999.0000,9,   5.6956,     -999.0,9,     -999.0,9,     -999.0,9,     -999.0,9,     -999.0,9,     -999.0,9,     -999.0,9,-999.0000, -999.00
33RO20071215,        P18,     137,          1,         12,      11012,2,20080203,       1419,   -50.8348,  -102.9983,       4015,   698.8,   5.2827,  34.2643,2,  34.2617,2,    234.8,2,   235.0,2,   17.10,2,   27.20,2,    0.00,2,    1.87,2,   3.204,2,   1.688,2,   0.8874,2,  2164.0,2,  2285.8,2,   -999.0,9,  -999.00,   7.6788,2,    25.00,-999.000,9,-999.0000,9, -999.00,9, -999.00,9,  -999.0,9,-999.000,9,-999.000,-999.000,9,-999.000,9, -999.00,9, -999.00,9, -999.00,9, -999.00,9, -999.00,9,-999.000,-999.0000,9,-999.0000,9,-999.0000,9,-999.0000,9,-999.0000,9,-999.0000,9,-999.0000,9,-999.0000,9,-999.0000,9,   5.2248,     -999.0,9,     -999.0,9,     -999.0,9,     -999.0,9,     -999.0,9,     -999.0,9,     -999.0,9,-999.0000, -999.00
33RO20071215,        P18,     137,          1,         11,      11010,2,20080203,       1419,   -50.8348,  -102.9983,       4015,   848.8,   4.6566,  34.2965,2,  34.2939,2,    215.2,2,   215.5,2,   26.30,2,   29.90,2,    0.00,2,    2.06,2,-999.000,9,-999.000,9,-999.0000,9,  2183.9,2,  2292.7,2,   -999.0,9,  -999.00,   7.6403,2,    25.00,-999.000,9,-999.0000,9, -999.00,9, -999.00,9,  -999.0,9,-999.000,9,-999.000,-999.000,9,-999.000,9, -999.00,9, -999.00,9, -999.00,9, -999.00,9, -999.00,9,-999.000,-999.0000,9,-999.0000,9,-999.0000,9,-999.0000,9,-999.0000,9,-999.0000,9,-999.0000,9,-999.0000,9,-999.0000,9,   4.5893,     -999.0,9,     -999.0,9,     -999.0,9,     -999.0,9,     -999.0,9,     -999.0,9,     -999.0,9,-999.0000, -999.00
33RO20071215,        P18,     137,          1,         10,      11011,2,20080203,       1419,   -50.8348,  -102.9983,       4015,   999.3,   3.9723,  34.3193,2,  34.3172,2,    206.0,2,   206.4,2,   35.80,2,   31.80,2,    0.00,2,    2.20,2,   1.933,2,   0.975,2,   0.4180,2,  2200.3,2,  2301.5,2,   -999.0,9,  -999.00,   7.6123,2,    25.00,-999.000,9,-999.0000,9, -999.00,9, -999.00,9,  -999.0,9,-999.000,9,-999.000,-999.000,9,-999.000,9, -999.00,9, -999.00,9, -999.00,9, -999.00,9, -999.00,9,-999.000,-999.0000,9,-999.0000,9,-999.0000,9,-999.0000,9,-999.0000,9,-999.0000,9,-999.0000,9,-999.0000,9,-999.0000,9,   3.8973,     -999.0,9,     -999.0,9,     -999.0,9,     -999.0,9,     -999.0,9,     -999.0,9,     -999.0,9,-999.0000, -999.00
33RO20071215,        P18,     137,          1,          9,      11009,2,20080203,       1419,   -50.8348,  -102.9983,       4015,  1167.5,   3.3043,  34.3684,2,  34.3667,2,    194.4,2,   194.4,2,   48.30,2,   33.50,2,    0.00,2,    2.32,2,   1.353,2,   0.682,2,   0.2365,2,  2219.0,2,  2311.9,2,   -999.0,9,  -999.00,   7.5854,2,    25.00,-999.000,9,-999.0000,9, -999.00,9, -999.00,9,  -999.0,9,-999.000,9,-999.000,-999.000,9,-999.000,9, -999.00,9, -999.00,9, -999.00,9, -999.00,9, -999.00,9,-999.000,-999.0000,9,-999.0000,9,-999.0000,9,-999.0000,9,-999.0000,9,-999.0000,9,-999.0000,9,-999.0000,9,-999.0000,9,   3.2210,     -999.0,9,     -999.0,9,     -999.0,9,     -999.0,9,     -999.0,9,     -999.0,9,     -999.0,9,-999.0000, -999.00
33RO20071215,        P18,     137,          1,          8,      11008,2,20080203,       1419,   -50.8348,  -102.9983,       4015,  1399.9,   2.8265,  34.4617,2,  34.4617,2,    179.6,2,   179.4,2,   63.40,2,   34.60,2,    0.00,2,    2.40,2,   0.937,2,   0.499,2,   0.1818,2,  2240.5,2,  2326.3,2,   -999.0,9,  -999.00,   7.5650,2,    25.00,-999.000,9,-999.0000,9, -999.00,9, -999.00,9,  -999.0,9,-999.000,9,-999.000,-999.000,9,-999.000,9, -999.00,9, -999.00,9, -999.00,9, -999.00,9, -999.00,9,-999.000,-999.0000,9,-999.0000,9,-999.0000,9,-999.0000,9,-999.0000,9,-999.0000,9,-999.0000,9,-999.0000,9,-999.0000,9,   2.7291,     -999.0,9,     -999.0,9,     -999.0,9,     -999.0,9,     -999.0,9,     -999.0,9,     -999.0,9,-999.0000, -999.00
33RO20071215,        P18,     137,          1,          7,      11007,2,20080203,       1419,   -50.8348,  -102.9983,       4015,  1732.9,   2.4695,  34.5971,2,  34.5955,2,    169.4,2,   169.2,2,   79.60,2,   34.50,2,    0.00,2,    2.39,2,   0.269,6,   0.141,6,   0.0486,6,  2258.8,6,  2344.8,2,   -999.0,9,  -999.00,   7.5670,2,    25.00,-999.000,9,-999.0000,9, -999.00,9, -999.00,9,  -999.0,9,-999.000,9,-999.000,-999.000,9,-999.000,9, -999.00,9, -999.00,9, -999.00,9, -999.00,9, -999.00,9,-999.000,-999.0000,9,-999.0000,9,-999.0000,9,-999.0000,9,-999.0000,9,-999.0000,9,-999.0000,9,-999.0000,9,-999.0000,9,   2.3488,     -999.0,9,     -999.0,9,     -999.0,9,     -999.0,9,     -999.0,9,     -999.0,9,     -999.0,9,-999.0000, -999.00
33RO20071215,        P18,     137,          1,          6,      11006,2,20080203,       1419,   -50.8348,  -102.9983,       4015,  2108.7,   2.2173,  34.6756,2,  34.6743,2,    171.6,2,   171.4,2,   90.10,2,   33.50,2,    0.00,2,    2.33,2,-999.000,9,-999.000,9,-999.0000,9,  2263.8,2,  2357.6,2,   -999.0,9,  -999.00,   7.5798,2,    25.00,-999.000,9,-999.0000,9, -999.00,9, -999.00,9,  -999.0,9,-999.000,9,-999.000,-999.000,9,-999.000,9, -999.00,9, -999.00,9, -999.00,9, -999.00,9, -999.00,9,-999.000,-999.0000,9,-999.0000,9,-999.0000,9,-999.0000,9,-999.0000,9,-999.0000,9,-999.0000,9,-999.0000,9,-999.0000,9,   2.0680,     -999.0,9,     -999.0,9,     -999.0,9,     -999.0,9,     -999.0,9,     -999.0,9,     -999.0,9,-999.0000, -999.00
33RO20071215,        P18,     137,          1,          5,      11005,2,20080203,       1419,   -50.8348,  -102.9983,       4015,  2532.5,   1.8530,  34.7052,2,  34.7020,2,    174.3,2,   174.7,2,  105.20,2,   33.40,2,    0.00,2,    2.33,2,   0.166,3,   0.103,3,   0.0368,2,  2273.6,2,  2369.6,4,   -999.0,9,  -999.00,   7.5873,2,    25.00,-999.000,9,-999.0000,9, -999.00,9, -999.00,9,  -999.0,9,-999.000,9,-999.000,   0.165,3,-999.000,9, -999.00,9, -999.00,9, -999.00,9, -999.00,9, -999.00,9,-999.000,-999.0000,9,-999.0000,9,-999.0000,9,-999.0000,9,-999.0000,9,-999.0000,9,-999.0000,9,-999.0000,9,-999.0000,9,   1.6722,     -999.0,9,     -999.0,9,     -999.0,9,     -999.0,9,     -999.0,9,     -999.0,9,     -999.0,9,-999.0000, -999.00
33RO20071215,        P18,     137,          1,          4,      11004,2,20080203,       1419,   -50.8348,  -102.9983,       4015,  2933.1,   1.6396,  34.7123,2,  34.7092,2,    180.9,2,   181.6,2,  110.90,6,   33.30,6,    0.00,6,    2.31,2,   0.021,2,   0.013,2,   0.0000,2,  2275.5,6,  2383.0,4,   -999.0,9,  -999.00,   7.6013,2,    25.00,-999.000,9,-999.0000,9, -999.00,9, -999.00,9,  -999.0,9,-999.000,9,-999.000,   0.042,3,-999.000,9, -999.00,9, -999.00,9, -999.00,9, -999.00,9, -999.00,9,-999.000,-999.0000,9,-999.0000,9,-999.0000,9,-999.0000,9,-999.0000,9,-999.0000,9,-999.0000,9,-999.0000,9,-999.0000,9,   1.4259,     -999.0,9,     -999.0,9,     -999.0,9,     -999.0,9,     -999.0,9,     -999.0,9,     -999.0,9,-999.0000, -999.00
33RO20071215,        P18,     137,          1,          3,      11003,2,20080203,       1419,   -50.8348,  -102.9983,       4015,  3333.0,   1.4728,  34.7173,2,  34.7138,2,    188.4,2,   188.3,2,  113.80,6,   33.00,6,    0.00,6,    2.28,2,   0.022,2,   0.012,2,   0.0000,2,  2270.2,2,  -999.0,5,   -999.0,9,  -999.00,   7.5997,2,    25.00,-999.000,9,-999.0000,9, -999.00,9, -999.00,9,  -999.0,9,-999.000,9,-999.000,   0.046,3,-999.000,9, -999.00,9, -999.00,9, -999.00,9, -999.00,9, -999.00,9,-999.000,-999.0000,9,-999.0000,9,-999.0000,9,-999.0000,9,-999.0000,9,-999.0000,9,-999.0000,9,-999.0000,9,-999.0000,9,   1.2240,     -999.0,9,     -999.0,9,     -999.0,9,     -999.0,9,     -999.0,9,     -999.0,9,     -999.0,9,-999.0000, -999.00
33RO20071215,        P18,     137,          1,          2,      11002,2,20080203,       1419,   -50.8348,  -102.9983,       4015,  3731.7,   0.9981,  34.7129,2,  34.7109,2,    199.1,2,   199.4,2,  127.20,6,   33.10,6,    0.00,6,    2.29,2,   0.032,6,   0.020,6,   0.0000,6,  2272.3,2,  2380.0,2,   -999.0,9,  -999.00,   7.6157,2,    25.00,-999.000,9,-999.0000,9, -999.00,9, -999.00,9,  -999.0,9,-999.000,9,-999.000,   0.051,3,-999.000,9, -999.00,9, -999.00,9, -999.00,9, -999.00,9, -999.00,9,-999.000,-999.0000,9,-999.0000,9,-999.0000,9,-999.0000,9,-999.0000,9,-999.0000,9,-999.0000,9,-999.0000,9,-999.0000,9,   0.7210,     -999.0,9,     -999.0,9,     -999.0,9,     -999.0,9,     -999.0,9,     -999.0,9,     -999.0,9,-999.0000, -999.00
33RO20071215,        P18,     137,          1,          1,      11001,2,20080203,       1419,   -50.8348,  -102.9983,       4015,  4070.3,   0.8463,  34.7107,2,  34.7087,2,    203.3,2,   203.4,2,  131.70,2,   33.10,2,    0.01,2,    2.29,2,   0.009,2,   0.006,2,   0.0000,2,  2273.4,6,  2381.0,2,   -999.0,9,  -999.00,   7.6131,2,    25.00,-999.000,9,-999.0000,9, -999.00,9, -999.00,9,  -999.0,9,-999.000,9,-999.000,   0.038,3,-999.000,9, -999.00,9, -999.00,9, -999.00,9, -999.00,9, -999.00,9,-999.000,-999.0000,9,-999.0000,9,-999.0000,9,-999.0000,9,-999.0000,9,-999.0000,9,-999.0000,9,-999.0000,9,-999.0000,9,   0.5382,     -999.0,9,     -999.0,9,     -999.0,9,     -999.0,9,     -999.0,9,     -999.0,9,     -999.0,9,-999.0000, -999.00