BOTTLE,20220818CCHSIOAMB
EXPOCODE,SECT_ID,STNNBR,CASTNO,SAMPNO,BTLNBR,BTLNBR_FLAG_W,DATE,TIME,LATITUDE,LONGITUDE,DEPTH,CTDPRS,CTDTMP,CTDSAL,CTDSAL_FLAG_W,SALNTY,SALNTY_FLAG_W,CTDOXY,CTDOXY_FLAG_W,OXYGEN,OXYGEN_FLAG_W,SILCAT,SILCAT_FLAG_W,NITRAT,NITRAT_FLAG_W,NITRIT,NITRIT_FLAG_W,PHSPHT,PHSPHT_FLAG_W,CFC-11,CFC-11_FLAG_W,CFC-12,CFC-12_FLAG_W,SF6,SF6_FLAG_W,TCARBN,TCARBN_FLAG_W,ALKALI,ALKALI_FLAG_W,FCO2,FCO2_FLAG_W,FCO2TMP,PH_SWS,PH_SWS_FLAG_W,PH_TMP,TRITUM,TRITUM_FLAG_W,HELIUM,HELIUM_FLAG_W,DELHE3,DELHE3_FLAG_W,DELC13,DELC13_FLAG_W,DELC14,DELC14_FLAG_W,NEON,NEON_FLAG_W,NEONER,CCL4,CCL4_FLAG_W,POC,POC_FLAG_W,DOC,DOC_FLAG_W,TDN,TDN_FLAG_W,DON,DON_FLAG_W,CHLORA,CHLORA_FLAG_W,ARGON,ARGON_FLAG_W,TRITER,CDOM325,CDOM325_FLAG_W,CDOM340,CDOM340_FLAG_W,CDOM380,CDOM380_FLAG_W,CDOM412,CDOM412_FLAG_W,CDOM443,CDOM443_FLAG_W,CDOM490,CDOM490_FLAG_W,CDOM555,CDOM555_FLAG_W,CDOMSL,CDOMSL_FLAG_W,CDOMSN,CDOMSN_FLAG_W,THETA,D18O_NO3,D18O_NO3_FLAG_W,CDOM2C,CDOM2C_FLAG_W,CDOM3C,CDOM3C_FLAG_W,LAB_DEN,LAB_DEN_FLAG_W,DELSI30,DELSI30_FLAG_W,N2,N2_FLAG_W,D15N_NO3,D15N_NO3_FLAG_W,HELIER,DELHER
,,,,,,,,,,,METERS,DBAR,ITS-90,PSS-78,,PSS-78,,UMOL/KG,,UMOL/KG,,UMOL/KG,,UMOL/KG,,UMOL/KG,,UMOL/KG,,PMOL/KG,,PMOL/KG,,FMOL/KG,,UMOL/KG,,UMOL/KG,,UATM,,DEG C,,,DEG C,TU,,NMOL/KG,,PERCNT,,/MILLE,,/MILLE,,NMOL/KG,,NMOL/KG,PMOL/KG,,UG/KG,,UMOL/KG,,UMOL/KG,,UMOL/KG,,UG/KG,,UMOL/KG,,TU,1/M,,1/M,,1/M,,1/M,,1/M,,1/M,,1/M,,1/NM,,1/NM,,DEG C,/MILLE,,,,,,,,/MILLE,,UMOL/KG,,/MILLE,,NMOL/KG,PERCNT
33RO20071215,        P18,      78,          1,         11,      12003,2,20080110,       1130,   -16.4153,  -103.0005,       3543,  1499.5,   3.0189,  34.5912,2,  34.5915,2,     92.2,2,    92.7,2,  110.80,2,   40.80,2,    0.00,2,    2.91,2,   0.022,4,   0.043,4,   0.5114,4,  2326.0,2,  2382.1,2,   1552.2,2,    20.00,   7.4733,2,    25.00,-999.000,9,-999.0000,9, -999.00,9, -999.00,9,  -999.0,9,-999.000,9,-999.000,-999.000,9,-999.000,9, -999.00,9, -999.00,9, -999.00,9, -999.00,9, -999.00,9,-999.000,-999.0000,9,-999.0000,9,-999.0000,9,-999.0000,9,-999.0000,9,-999.0000,9,-999.0000,9,-999.0000,9,-999.0000,9,   2.9108,     -999.0,9,     -999.0,9,     -999.0,9,     -999.0,9,     -999.0,9,     -999.0,9,     -999.0,9,-999.0000, -999.00
33RO20071215,        P18,      78,          1,         10,      12032,2,20080110,       1130,   -16.4153,  -103.0005,       3543,  1599.8,   2.8101,  34.6043,2,  34.6036,2,     98.3,2,    98.3,2,  116.30,2,   40.30,2,    0.00,2,    2.87,2,-999.000,9,-999.000,9,-999.0000,9,  2327.0,2,  2387.0,2,   -999.0,9,  -999.00,   7.4773,2,    25.00,-999.000,9,-999.0000,9, -999.00,9, -999.00,9,  -999.0,9,-999.000,9,-999.000,-999.000,9,-999.000,9, -999.00,9, -999.00,9, -999.00,9, -999.00,9, -999.00,9,-999.000,-999.0000,9,-999.0000,9,-999.0000,9,-999.0000,9,-999.0000,9,-999.0000,9,-999.0000,9,-999.0000,9,-999.0000,9,   2.6961,     -999.0,9,     -999.0,9,     -999.0,9,     -999.0,9,     -999.0,9,     -999.0,9,     -999.0,9,-999.0000, -999.00
33RO20071215,        P18,      78,          1,          9,      12002,2,20080110,       1130,   -16.4153,  -103.0005,       3543,  1798.4,   2.5216,  34.6218,2,  34.6222,2,    110.6,2,   110.9,2,  121.70,2,   39.20,2,    0.00,2,    2.77,2,-999.000,9,-999.000,9,-999.0000,9,  2326.9,2,  2394.3,2,   -999.0,9,  -999.00,   7.5059,2,    25.00,-999.000,9,-999.0000,9, -999.00,9, -999.00,9,  -999.0,9,-999.000,9,-999.000,-999.000,9,-999.000,9, -999.00,9, -999.00,9, -999.00,9, -999.00,9, -999.00,9,-999.000,-999.0000,9,-999.0000,9,-999.0000,9,-999.0000,9,-999.0000,9,-999.0000,9,-999.0000,9,-999.0000,9,-999.0000,9,   2.3946,     -999.0,9,     -999.0,9,     -999.0,9,     -999.0,9,     -999.0,9,     -999.0,9,     -999.0,9,-999.0000, -999.00
33RO20071215,        P18,      78,          1,          8,      12021,2,20080110,       1130,   -16.4153,  -103.0005,       3543,  1999.6,   2.2312,  34.6399,2,  34.6402,2,    127.1,2,   127.3,2,  123.60,2,   37.90,2,    0.00,2,    2.65,2,  -0.001,2,   0.000,2,   0.0000,2,  2319.7,2,  2395.8,2,   1323.0,6,    20.00,   7.5295,2,    25.00,-999.000,9,-999.0000,9, -999.00,9, -999.00,9,  -999.0,9,-999.000,9,-999.000,-999.000,9,-999.000,9, -999.00,9, -999.00,9, -999.00,9, -999.00,9, -999.00,9,-999.000,-999.0000,9,-999.0000,9,-999.0000,9,-999.0000,9,-999.0000,9,-999.0000,9,-999.0000,9,-999.0000,9,-999.0000,9,   2.0912,     -999.0,9,     -999.0,9,     -999.0,9,     -999.0,9,     -999.0,9,     -999.0,9,     -999.0,9,-999.0000, -999.00
33RO20071215,        P18,      78,          1,          7,      12001,2,20080110,       1130,   -16.4153,  -103.0005,       3543,  2199.2,   2.0303,  34.6535,2,  34.6538,2,    142.3,2,   142.0,2,  123.60,2,   36.70,2,    0.00,2,    2.54,2,-999.000,9,-999.000,9,-999.0000,9,  2311.4,2,  2396.4,2,   -999.0,9,  -999.00,   7.5628,2,    25.00,-999.000,9,-999.0000,9, -999.00,9, -999.00,9,  -999.0,9,-999.000,9,-999.000,-999.000,9,-999.000,9, -999.00,9, -999.00,9, -999.00,9, -999.00,9, -999.00,9,-999.000,-999.0000,9,-999.0000,9,-999.0000,9,-999.0000,9,-999.0000,9,-999.0000,9,-999.0000,9,-999.0000,9,-999.0000,9,   1.8763,     -999.0,9,     -999.0,9,     -999.0,9,     -999.0,9,     -999.0,9,     -999.0,9,     -999.0,9,-999.0000, -999.00
33RO20071215,        P18,      78,          1,          6,      12033,2,20080110,       1130,   -16.4153,  -103.0005,       3543,  2399.1,   1.9032,  34.6654,2,  34.6660,2,    149.9,2,   149.8,2,  125.00,2,   36.10,2,    0.00,2,    2.50,2,-999.000,9,-999.000,9,-999.0000,9,  2308.8,2,  -999.0,9,   -999.0,9,  -999.00,   7.5607,2,    25.00,-999.000,9,-999.0000,9, -999.00,9, -999.00,9,  -999.0,9,-999.000,9,-999.000,-999.000,9,-999.000,9, -999.00,9, -999.00,9, -999.00,9, -999.00,9, -999.00,9,-999.000,-999.0000,9,-999.0000,9,-999.0000,9,-999.0000,9,-999.0000,9,-999.0000,9,-999.0000,9,-999.0000,9,-999.0000,9,   1.7337,     -999.0,9,     -999.0,9,     -999.0,9,     -999.0,9,     -999.0,9,     -999.0,9,     -999.0,9,-999.0000, -999.00
33RO20071215,        P18,      78,          1,          5,      12008,2,20080110,       1130,   -16.4153,  -103.0005,       3543,  2598.6,   1.8450,  34.6731,2,  34.6741,2,    150.8,2,   150.8,2,  128.30,2,   36.10,2,    0.00,2,    2.49,2,   0.001,2,   0.000,2,   0.0000,2,  2312.3,2,  2406.6,2,   -999.0,9,  -999.00,   7.5695,2,    25.00,-999.000,9,-999.0000,9, -999.00,9, -999.00,9,  -999.0,9,-999.000,9,-999.000,  -0.023,3,-999.000,9, -999.00,9, -999.00,9, -999.00,9, -999.00,9, -999.00,9,-999.000,-999.0000,9,-999.0000,9,-999.0000,9,-999.0000,9,-999.0000,9,-999.0000,9,-999.0000,9,-999.0000,9,-999.0000,9,   1.6585,     -999.0,9,     -999.0,9,     -999.0,9,     -999.0,9,     -999.0,9,     -999.0,9,     -999.0,9,-999.0000, -999.00
33RO20071215,        P18,      78,          1,          4,      12009,2,20080110,       1130,   -16.4153,  -103.0005,       3543,  2799.4,   1.8157,  34.6784,2,  34.6796,2,    149.1,2,   148.8,2,  132.60,6,   36.30,6,    0.00,6,    2.50,2,-999.000,9,-999.000,9,-999.0000,9,  2317.8,2,  2412.2,4,   1181.6,2,    20.00,   7.5726,2,    25.00,-999.000,9,-999.0000,9, -999.00,9, -999.00,9,  -999.0,9,-999.000,9,-999.000,-999.000,9,-999.000,9, -999.00,9, -999.00,9, -999.00,9, -999.00,9, -999.00,9,-999.000,-999.0000,9,-999.0000,9,-999.0000,9,-999.0000,9,-999.0000,9,-999.0000,9,-999.0000,9,-999.0000,9,-999.0000,9,   1.6111,     -999.0,9,     -999.0,9,     -999.0,9,     -999.0,9,     -999.0,9,     -999.0,9,     -999.0,9,-999.0000, -999.00
33RO20071215,        P18,      78,          1,          3,      12006,2,20080110,       1130,   -16.4153,  -103.0005,       3543,  3000.3,   1.8059,  34.6805,2,  34.6808,2,    146.1,2,   145.7,2,  136.40,6,   36.50,6,    0.00,6,    2.52,2,-999.000,9,-999.000,9,-999.0000,9,  2323.9,2,  -999.0,9,   -999.0,9,  -999.00,   7.5819,2,    25.00,-999.000,9,-999.0000,9, -999.00,9, -999.00,9,  -999.0,9,-999.000,9,-999.000,-999.000,9,-999.000,9, -999.00,9, -999.00,9, -999.00,9, -999.00,9, -999.00,9,-999.000,-999.0000,9,-999.0000,9,-999.0000,9,-999.0000,9,-999.0000,9,-999.0000,9,-999.0000,9,-999.0000,9,-999.0000,9,   1.5822,     -999.0,9,     -999.0,9,     -999.0,9,     -999.0,9,     -999.0,9,     -999.0,9,     -999.0,9,-999.0000, -999.00
33RO20071215,        P18,      78,          1,          2,      12007,2,20080110,       1130,   -16.4153,  -103.0005,       3543,  3319.0,   1.8187,  34.6815,2,  34.6832,2,    144.9,2,   144.7,2,  138.60,6,   36.60,6,    0.00,6,    2.53,2,   0.000,2,  -0.001,2,   0.0000,2,  2327.3,2,  2420.6,2,   -999.0,9,  -999.00,   7.5788,2,    25.00,-999.000,9,-999.0000,9, -999.00,9, -999.00,9,  -999.0,9,-999.000,9,-999.000,  -0.021,3,-999.000,9, -999.00,9, -999.00,9, -999.00,9, -999.00,9, -999.00,9,-999.000,-999.0000,9,-999.0000,9,-999.0000,9,-999.0000,9,-999.0000,9,-999.0000,9,-999.0000,9,-999.0000,9,-999.0000,9,   1.5631,     -999.0,9,     -999.0,9,     -999.0,9,     -999.0,9,     -999.0,9,     -999.0,9,     -999.0,9,-999.0000, -999.00
33RO20071215,        P18,      78,          1,          1,      12035,2,20080110,       1130,   -16.4153,  -103.0005,       3543,  3646.8,   1.8391,  34.6814,2,  34.6808,2,    143.1,2,   143.8,2,  140.40,2,   36.80,2,    0.00,2,    2.54,2,   0.000,6,   0.000,6,   0.0000,6,  2329.5,6,  2427.8,2,   1186.7,2,    20.00,   7.5767,2,    25.00,-999.000,9,-999.0000,9, -999.00,9, -999.00,9,  -999.0,9,-999.000,9,-999.000,  -0.008,3,-999.000,9, -999.00,9, -999.00,9, -999.00,9, -999.00,9, -999.00,9,-999.000,-999.0000,9,-999.0000,9,-999.0000,9,-999.0000,9,-999.0000,9,-999.0000,9,-999.0000,9,-999.0000,9,-999.0000,9,   1.5489,     -999.0,9,     -999.0,9,     -999.0,9,     -999.0,9,     -999.0,9,     -999.0,9,     -999.0,9,-999.0000, -999.00