BOTTLE,20220818CCHSIOAMB
EXPOCODE,SECT_ID,STNNBR,CASTNO,SAMPNO,BTLNBR,BTLNBR_FLAG_W,DATE,TIME,LATITUDE,LONGITUDE,DEPTH,CTDPRS,CTDTMP,CTDSAL,CTDSAL_FLAG_W,SALNTY,SALNTY_FLAG_W,CTDOXY,CTDOXY_FLAG_W,OXYGEN,OXYGEN_FLAG_W,SILCAT,SILCAT_FLAG_W,NITRAT,NITRAT_FLAG_W,NITRIT,NITRIT_FLAG_W,PHSPHT,PHSPHT_FLAG_W,CFC-11,CFC-11_FLAG_W,CFC-12,CFC-12_FLAG_W,SF6,SF6_FLAG_W,TCARBN,TCARBN_FLAG_W,ALKALI,ALKALI_FLAG_W,FCO2,FCO2_FLAG_W,FCO2TMP,PH_SWS,PH_SWS_FLAG_W,PH_TMP,TRITUM,TRITUM_FLAG_W,HELIUM,HELIUM_FLAG_W,DELHE3,DELHE3_FLAG_W,DELC13,DELC13_FLAG_W,DELC14,DELC14_FLAG_W,NEON,NEON_FLAG_W,NEONER,CCL4,CCL4_FLAG_W,POC,POC_FLAG_W,DOC,DOC_FLAG_W,TDN,TDN_FLAG_W,DON,DON_FLAG_W,CHLORA,CHLORA_FLAG_W,ARGON,ARGON_FLAG_W,TRITER,CDOM325,CDOM325_FLAG_W,CDOM340,CDOM340_FLAG_W,CDOM380,CDOM380_FLAG_W,CDOM412,CDOM412_FLAG_W,CDOM443,CDOM443_FLAG_W,CDOM490,CDOM490_FLAG_W,CDOM555,CDOM555_FLAG_W,CDOMSL,CDOMSL_FLAG_W,CDOMSN,CDOMSN_FLAG_W,THETA,D18O_NO3,D18O_NO3_FLAG_W,CDOM2C,CDOM2C_FLAG_W,CDOM3C,CDOM3C_FLAG_W,LAB_DEN,LAB_DEN_FLAG_W,DELSI30,DELSI30_FLAG_W,N2,N2_FLAG_W,D15N_NO3,D15N_NO3_FLAG_W,HELIER,DELHER
,,,,,,,,,,,METERS,DBAR,ITS-90,PSS-78,,PSS-78,,UMOL/KG,,UMOL/KG,,UMOL/KG,,UMOL/KG,,UMOL/KG,,UMOL/KG,,PMOL/KG,,PMOL/KG,,FMOL/KG,,UMOL/KG,,UMOL/KG,,UATM,,DEG C,,,DEG C,TU,,NMOL/KG,,PERCNT,,/MILLE,,/MILLE,,NMOL/KG,,NMOL/KG,PMOL/KG,,UG/KG,,UMOL/KG,,UMOL/KG,,UMOL/KG,,UG/KG,,UMOL/KG,,TU,1/M,,1/M,,1/M,,1/M,,1/M,,1/M,,1/M,,1/NM,,1/NM,,DEG C,/MILLE,,,,,,,,/MILLE,,UMOL/KG,,/MILLE,,NMOL/KG,PERCNT
33RO20071215,        P18,     102,          1,         36,      12017,2,20080124,       0057,   -30.4163,  -103.0003,       3380,     5.1,  24.4478,  35.6642,2,  35.6550,2,    215.8,2,   215.8,2,    0.70,2,    0.00,2,    0.00,2,    0.07,2,   1.930,2,   1.202,2,   0.9549,2,  2059.1,6,  2350.8,2,   -999.0,9,  -999.00,   8.0047,2,    25.00,-999.000,9,-999.0000,9, -999.00,9, -999.00,9,  -999.0,9,-999.000,9,-999.000,-999.000,9,-999.000,9,   68.45,2,    3.79,2, -999.00,1, -999.00,9, -999.00,9,-999.000,-999.0000,9,-999.0000,9,-999.0000,9,-999.0000,9,-999.0000,9,-999.0000,9,-999.0000,9,-999.0000,9,-999.0000,9,  24.4467,     -999.0,9,     -999.0,9,     -999.0,9,     -999.0,9,     -999.0,9,     -999.0,9,     -999.0,9,-999.0000, -999.00
33RO20071215,        P18,     102,          1,         35,      12029,2,20080124,       0057,   -30.4163,  -103.0003,       3380,    10.0,  23.7778,  35.6434,2,  35.6445,2,    216.3,2,   216.4,2,    0.70,2,    0.00,2,    0.00,2,    0.07,2,   1.948,2,   1.216,2,   1.0623,2,  2059.4,2,  2348.3,2,   -999.0,9,  -999.00,   8.0114,2,    25.00,-999.000,9,-999.0000,9, -999.00,9,    1.17,2,  -999.0,1,-999.000,9,-999.000,-999.000,9,-999.000,9,   67.71,2,    4.11,2, -999.00,1, -999.00,9, -999.00,9,-999.000,-999.0000,9,-999.0000,9,-999.0000,9,-999.0000,9,-999.0000,9,-999.0000,9,-999.0000,9,-999.0000,9,-999.0000,9,  23.7757,     -999.0,9,     -999.0,9,     -999.0,9,     -999.0,9,     -999.0,9,     -999.0,9,     -999.0,9,-999.0000, -999.00
33RO20071215,        P18,     102,          1,         34,      12049,2,20080124,       0057,   -30.4163,  -103.0003,       3380,    16.9,  23.4364,  35.7276,2,  35.7046,2,    217.6,2,   217.6,2,    0.70,2,    0.00,2,    0.00,2,    0.07,2,   1.972,2,   1.231,2,   1.1017,2,  2063.2,2,  2357.5,2,   -999.0,9,  -999.00,   8.0051,2,    25.00,-999.000,9,-999.0000,9, -999.00,9, -999.00,9,  -999.0,9,-999.000,9,-999.000,-999.000,9,-999.000,9,   66.98,2,    3.86,2, -999.00,1, -999.00,9, -999.00,9,-999.000,-999.0000,9,-999.0000,9,-999.0000,9,-999.0000,9,-999.0000,9,-999.0000,9,-999.0000,9,-999.0000,9,-999.0000,9,  23.4329,     -999.0,9,     -999.0,9,     -999.0,9,     -999.0,9,     -999.0,9,     -999.0,9,     -999.0,9,-999.0000, -999.00
33RO20071215,        P18,     102,          1,         33,      12027,2,20080124,       0057,   -30.4163,  -103.0003,       3380,    33.0,  23.1984,  35.7575,2,  35.6928,2,    218.7,2,   220.2,2,    0.70,2,    0.00,2,    0.00,2,    0.07,2,   2.035,2,   1.259,2,   1.0050,2,  2061.3,2,  2369.2,2,   -999.0,9,  -999.00,   8.0043,2,    25.00,-999.000,9,-999.0000,9, -999.00,9, -999.00,9,  -999.0,9,-999.000,9,-999.000,-999.000,9,-999.000,9,   66.65,2,    3.42,2, -999.00,1, -999.00,9, -999.00,9,-999.000,-999.0000,9,-999.0000,9,-999.0000,9,-999.0000,9,-999.0000,9,-999.0000,9,-999.0000,9,-999.0000,9,-999.0000,9,  23.1916,     -999.0,9,     -999.0,9,     -999.0,9,     -999.0,9,     -999.0,9,     -999.0,9,     -999.0,9,-999.0000, -999.00
33RO20071215,        P18,     102,          1,         32,      12023,2,20080124,       0057,   -30.4163,  -103.0003,       3380,    52.7,  20.4618,  35.4606,2,  35.4673,2,    235.3,2,   236.6,2,    0.70,2,    0.00,2,    0.00,2,    0.07,2,   2.322,2,   1.405,2,   1.2490,2,  2052.3,2,  2354.6,2,   -999.0,9,  -999.00,   8.0089,2,    25.00,-999.000,9,-999.0000,9, -999.00,9, -999.00,9,  -999.0,9,-999.000,9,-999.000,-999.000,9,-999.000,9,   66.56,2,    3.54,2, -999.00,1, -999.00,9, -999.00,9,-999.000,-999.0000,9,-999.0000,9,-999.0000,9,-999.0000,9,-999.0000,9,-999.0000,9,-999.0000,9,-999.0000,9,-999.0000,9,  20.4519,     -999.0,9,     -999.0,9,     -999.0,9,     -999.0,9,     -999.0,9,     -999.0,9,     -999.0,9,-999.0000, -999.00
33RO20071215,        P18,     102,          1,         31,      12037,2,20080124,       0057,   -30.4163,  -103.0003,       3380,    72.4,  19.3671,  35.4322,2,  35.4315,2,    240.5,2,   240.4,2,    0.70,2,    0.10,2,    0.00,2,    0.07,2,   2.386,2,   1.439,2,   1.1476,2,  2047.4,2,  2351.5,2,   -999.0,9,  -999.00,   8.0046,2,    25.00,-999.000,9,-999.0000,9, -999.00,9, -999.00,9,  -999.0,9,-999.000,9,-999.000,-999.000,9,-999.000,9,   65.34,2,    3.50,2, -999.00,1, -999.00,9, -999.00,9,-999.000,-999.0000,9,-999.0000,9,-999.0000,9,-999.0000,9,-999.0000,9,-999.0000,9,-999.0000,9,-999.0000,9,-999.0000,9,  19.3540,     -999.0,9,     -999.0,9,     -999.0,9,     -999.0,9,     -999.0,9,     -999.0,9,     -999.0,9,-999.0000, -999.00
33RO20071215,        P18,     102,          1,         30,      12036,2,20080124,       0057,   -30.4163,  -103.0003,       3380,    92.2,  18.1492,  35.2006,2,  35.2127,2,    245.3,2,   232.1,2,    0.60,2,    0.00,2,    0.00,2,    0.08,2,   2.486,2,   1.490,2,   1.1675,2,  2044.2,2,  2338.0,2,   -999.0,9,  -999.00,   8.0034,2,    25.00,-999.000,9,-999.0000,9, -999.00,9, -999.00,9,  -999.0,9,-999.000,9,-999.000,-999.000,9,-999.000,9,   64.10,2,    3.59,2, -999.00,1, -999.00,9, -999.00,9,-999.000,-999.0000,9,-999.0000,9,-999.0000,9,-999.0000,9,-999.0000,9,-999.0000,9,-999.0000,9,-999.0000,9,-999.0000,9,  18.1333,     -999.0,9,     -999.0,9,     -999.0,9,     -999.0,9,     -999.0,9,     -999.0,9,     -999.0,9,-999.0000, -999.00
33RO20071215,        P18,     102,          1,         29,      12044,3,20080124,       0057,   -30.4163,  -103.0003,       3380,   118.5,  18.0537,  35.3297,2,-999.0000,9,    236.0,2,  -999.0,9,    0.70,2,    0.00,2,    0.00,2,    0.09,2,-999.000,9,-999.000,9,-999.0000,9,  -999.0,9,  -999.0,9,   -999.0,9,  -999.00,-999.0000,9,  -999.00,-999.000,9,-999.0000,9, -999.00,9, -999.00,9,  -999.0,9,-999.000,9,-999.000,-999.000,9,-999.000,9,   63.51,2,    3.77,2, -999.00,9, -999.00,9, -999.00,9,-999.000,-999.0000,9,-999.0000,9,-999.0000,9,-999.0000,9,-999.0000,9,-999.0000,9,-999.0000,9,-999.0000,9,-999.0000,9,  18.0333,     -999.0,9,     -999.0,9,     -999.0,9,     -999.0,9,     -999.0,9,     -999.0,9,     -999.0,9,-999.0000, -999.00
33RO20071215,        P18,     102,          1,         28,      12057,2,20080124,       0057,   -30.4163,  -103.0003,       3380,   140.6,  16.9865,  35.0848,2,  35.0961,2,    238.6,2,   237.5,2,    0.70,2,    0.10,2,    0.01,2,    0.12,2,   2.550,2,   1.520,2,   1.2363,2,  2051.5,2,  2329.7,2,   -999.0,9,  -999.00,   7.9737,2,    25.00,-999.000,9,-999.0000,9, -999.00,9, -999.00,9,  -999.0,9,-999.000,9,-999.000,-999.000,9,-999.000,9,   62.39,2,    3.95,2, -999.00,1, -999.00,9, -999.00,9,-999.000,-999.0000,9,-999.0000,9,-999.0000,9,-999.0000,9,-999.0000,9,-999.0000,9,-999.0000,9,-999.0000,9,-999.0000,9,  16.9634,     -999.0,9,     -999.0,9,     -999.0,9,     -999.0,9,     -999.0,9,     -999.0,9,     -999.0,9,-999.0000, -999.00
33RO20071215,        P18,     102,          1,         27,      12026,2,20080124,       0057,   -30.4163,  -103.0003,       3380,   165.7,  15.9924,  34.8655,2,  34.8543,2,    238.4,2,   238.2,2,    0.60,2,    0.90,2,    0.12,2,    0.19,2,   2.693,2,   1.596,2,   1.2623,2,  2052.1,2,  2317.6,2,   -999.0,9,  -999.00,   7.9389,2,    25.00,-999.000,9,-999.0000,9, -999.00,9, -999.00,9,  -999.0,9,-999.000,9,-999.000,-999.000,9,-999.000,9,   60.46,2,    4.71,2, -999.00,1, -999.00,9, -999.00,9,-999.000,-999.0000,9,-999.0000,9,-999.0000,9,-999.0000,9,-999.0000,9,-999.0000,9,-999.0000,9,-999.0000,9,-999.0000,9,  15.9662,     -999.0,9,     -999.0,9,     -999.0,9,     -999.0,9,     -999.0,9,     -999.0,9,     -999.0,9,-999.0000, -999.00
33RO20071215,        P18,     102,          1,         26,      12030,2,20080124,       0057,   -30.4163,  -103.0003,       3380,   191.6,  15.1508,  34.7844,2,  34.7857,2,    222.2,2,   222.3,2,    0.80,2,    3.40,2,    0.10,2,    0.32,2,   2.776,2,   1.620,2,   1.2853,2,  2063.9,2,  2298.6,2,   -999.0,9,  -999.00,   7.9289,2,    25.00,-999.000,9,-999.0000,9, -999.00,9, -999.00,9,  -999.0,9,-999.000,9,-999.000,-999.000,9,-999.000,9,   52.30,2,    6.05,2, -999.00,1, -999.00,9, -999.00,9,-999.000,-999.0000,9,-999.0000,9,-999.0000,9,-999.0000,9,-999.0000,9,-999.0000,9,-999.0000,9,-999.0000,9,-999.0000,9,  15.1216,     -999.0,9,     -999.0,9,     -999.0,9,     -999.0,9,     -999.0,9,     -999.0,9,     -999.0,9,-999.0000, -999.00
33RO20071215,        P18,     102,          1,         25,      12024,2,20080124,       0057,   -30.4163,  -103.0003,       3380,   234.6,  13.1287,  34.5077,2,  34.5072,2,    221.7,2,   220.1,2,    1.10,2,    7.80,2,    0.01,2,    0.58,2,   3.096,2,   1.757,2,   1.1304,2,  2081.1,2,  2280.0,2,   -999.0,9,  -999.00,   7.8675,2,    25.00,-999.000,9,-999.0000,9, -999.00,9, -999.00,9,  -999.0,9,-999.000,9,-999.000,-999.000,9,-999.000,9,   50.44,2,   10.07,2, -999.00,1, -999.00,9, -999.00,9,-999.000,-999.0000,9,-999.0000,9,-999.0000,9,-999.0000,9,-999.0000,9,-999.0000,9,-999.0000,9,-999.0000,9,-999.0000,9,  13.0964,     -999.0,9,     -999.0,9,     -999.0,9,     -999.0,9,     -999.0,9,     -999.0,9,     -999.0,9,-999.0000, -999.00
33RO20071215,        P18,     102,          1,         24,      12019,2,20080124,       0057,   -30.4163,  -103.0003,       3380,   283.3,  11.6855,  34.4765,2,  34.4725,2,    208.3,2,   208.6,2,    2.20,2,   12.70,2,    0.00,2,    0.88,2,   3.225,2,   1.749,2,   0.9472,2,  2105.5,2,  2285.8,2,   -999.0,9,  -999.00,   7.7942,2,    25.00,-999.000,9,-999.0000,9, -999.00,9, -999.00,9,  -999.0,9,-999.000,9,-999.000,-999.000,9,-999.000,9,   46.67,2,   13.73,2, -999.00,1, -999.00,9, -999.00,9,-999.000,-999.0000,9,-999.0000,9,-999.0000,9,-999.0000,9,-999.0000,9,-999.0000,9,-999.0000,9,-999.0000,9,-999.0000,9,  11.6492,     -999.0,9,     -999.0,9,     -999.0,9,     -999.0,9,     -999.0,9,     -999.0,9,     -999.0,9,-999.0000, -999.00
33RO20071215,        P18,     102,          1,         23,      12022,2,20080124,       0057,   -30.4163,  -103.0003,       3380,   332.5,   9.5153,  34.3441,2,  34.3412,2,    203.8,2,   205.3,2,    4.50,2,   18.60,2,    0.00,2,    1.30,2,   3.339,2,   1.742,2,   0.8280,2,  2131.6,2,  2290.7,4,   -999.0,9,  -999.00,   7.7298,2,    25.00,-999.000,9,-999.0000,9, -999.00,9, -999.00,9,  -999.0,9,-999.000,9,-999.000,-999.000,9,-999.000,9,   46.32,2,   19.99,2, -999.00,1, -999.00,9, -999.00,9,-999.000,-999.0000,9,-999.0000,9,-999.0000,9,-999.0000,9,-999.0000,9,-999.0000,9,-999.0000,9,-999.0000,9,-999.0000,9,   9.4780,     -999.0,9,     -999.0,9,     -999.0,9,     -999.0,9,     -999.0,9,     -999.0,9,     -999.0,9,-999.0000, -999.00
33RO20071215,        P18,     102,          1,         22,      12015,2,20080124,       0057,   -30.4163,  -103.0003,       3380,   382.0,   8.0634,  34.3109,2,  34.3121,2,    198.9,2,   198.9,2,    7.10,2,   22.80,2,    0.00,2,    1.59,2,   3.235,2,   1.643,2,   0.6994,2,  -999.0,9,  -999.0,9,   -999.0,9,  -999.00,-999.0000,9,  -999.00,-999.000,9,-999.0000,9, -999.00,9, -999.00,9,  -999.0,9,-999.000,9,-999.000,-999.000,9,-999.000,9,   44.37,2,   23.92,2, -999.00,1, -999.00,9, -999.00,9,-999.000,-999.0000,9,-999.0000,9,-999.0000,9,-999.0000,9,-999.0000,9,-999.0000,9,-999.0000,9,-999.0000,9,-999.0000,9,   8.0244,     -999.0,9,     -999.0,9,     -999.0,9,     -999.0,9,     -999.0,9,     -999.0,9,     -999.0,9,-999.0000, -999.00
33RO20071215,        P18,     102,          1,         21,      12020,2,20080124,       0057,   -30.4163,  -103.0003,       3380,   468.1,   6.7616,  34.3178,2,  34.3173,2,    208.0,2,   208.8,2,    9.70,2,   25.60,2,    0.00,2,    1.73,2,   3.165,2,   1.571,2,   0.5572,2,  2163.1,2,  -999.0,9,   -999.0,9,  -999.00,   7.6632,2,    25.00,-999.000,9,-999.0000,9, -999.00,9, -999.00,9,  -999.0,9,-999.000,9,-999.000,-999.000,9,-999.000,9,   43.83,2,   27.21,2, -999.00,1, -999.00,9, -999.00,9,-999.000,-999.0000,9,-999.0000,9,-999.0000,9,-999.0000,9,-999.0000,9,-999.0000,9,-999.0000,9,-999.0000,9,-999.0000,9,   6.7182,     -999.0,9,     -999.0,9,     -999.0,9,     -999.0,9,     -999.0,9,     -999.0,9,     -999.0,9,-999.0000, -999.00
33RO20071215,        P18,     102,          1,         20,      12055,2,20080124,       0057,   -30.4163,  -103.0003,       3380,   567.5,   6.0670,  34.2958,2,  34.2970,2,    234.8,2,   236.1,2,    9.70,2,   25.00,2,    0.00,2,    1.66,2,   3.275,2,   1.603,2,   0.5656,2,  -999.0,9,  -999.0,9,   -999.0,9,  -999.00,-999.0000,9,  -999.00,-999.000,9,-999.0000,9, -999.00,9, -999.00,9,  -999.0,9,-999.000,9,-999.000,-999.000,9,-999.000,9,   43.41,2,   25.96,2, -999.00,1, -999.00,9, -999.00,9,-999.000,-999.0000,9,-999.0000,9,-999.0000,9,-999.0000,9,-999.0000,9,-999.0000,9,-999.0000,9,-999.0000,9,-999.0000,9,   6.0171,     -999.0,9,     -999.0,9,     -999.0,9,     -999.0,9,     -999.0,9,     -999.0,9,     -999.0,9,-999.0000, -999.00
33RO20071215,        P18,     102,          1,         19,      12018,2,20080124,       0057,   -30.4163,  -103.0003,       3380,   668.1,   5.5599,  34.2769,2,  34.2824,2,    230.6,2,   231.4,2,   12.50,2,   26.70,2,    0.00,2,    1.78,2,   2.597,2,   1.266,2,   0.3342,2,  2159.2,2,  2296.0,4,   -999.0,9,  -999.00,   7.6782,2,    25.00,-999.000,9,-999.0000,9, -999.00,9, -999.00,9,  -999.0,9,-999.000,9,-999.000,-999.000,9,-999.000,9,   42.84,2,   28.05,2, -999.00,1, -999.00,9, -999.00,9,-999.000,-999.0000,9,-999.0000,9,-999.0000,9,-999.0000,9,-999.0000,9,-999.0000,9,-999.0000,9,-999.0000,9,-999.0000,9,   5.5032,     -999.0,9,     -999.0,9,     -999.0,9,     -999.0,9,     -999.0,9,     -999.0,9,     -999.0,9,-999.0000, -999.00
33RO20071215,        P18,     102,          1,         18,      12025,2,20080124,       0057,   -30.4163,  -103.0003,       3380,   766.2,   5.1853,  34.2797,2,  34.2807,2,    213.9,2,   213.8,2,   17.30,2,   29.00,2,    0.00,2,    1.96,2,   1.744,2,   0.862,2,   0.1883,2,  -999.0,9,  -999.0,9,   -999.0,9,  -999.00,-999.0000,9,  -999.00,-999.000,9,-999.0000,9, -999.00,9, -999.00,9,  -999.0,9,-999.000,9,-999.000,-999.000,9,-999.000,9,   41.29,2,   30.66,2, -999.00,1, -999.00,9, -999.00,9,-999.000,-999.0000,9,-999.0000,9,-999.0000,9,-999.0000,9,-999.0000,9,-999.0000,9,-999.0000,9,-999.0000,9,-999.0000,9,   5.1219,     -999.0,9,     -999.0,9,     -999.0,9,     -999.0,9,     -999.0,9,     -999.0,9,     -999.0,9,-999.0000, -999.00
33RO20071215,        P18,     102,          1,         17,      12016,2,20080124,       0057,   -30.4163,  -103.0003,       3380,   868.7,   4.6947,  34.3035,2,  34.3044,2,    189.6,2,   189.3,2,   27.00,2,   32.00,2,    0.00,2,    2.20,2,   0.779,2,   0.417,2,   0.0000,2,  2196.4,2,  -999.0,9,   -999.0,9,  -999.00,   7.6081,2,    25.00,-999.000,9,-999.0000,9, -999.00,9, -999.00,9,  -999.0,9,-999.000,9,-999.000,-999.000,9,-999.000,9,   40.80,2,   33.17,2, -999.00,1, -999.00,9, -999.00,9,-999.000,-999.0000,9,-999.0000,9,-999.0000,9,-999.0000,9,-999.0000,9,-999.0000,9,-999.0000,9,-999.0000,9,-999.0000,9,   4.6254,     -999.0,9,     -999.0,9,     -999.0,9,     -999.0,9,     -999.0,9,     -999.0,9,     -999.0,9,-999.0000, -999.00
33RO20071215,        P18,     102,          1,         16,      12051,2,20080124,       0057,   -30.4163,  -103.0003,       3380,   966.2,   4.2095,  34.3318,2,  34.3319,2,    176.3,2,   175.6,2,   36.40,2,   33.70,2,    0.00,2,    2.35,2,   0.314,2,   0.183,2,   0.0000,2,  -999.0,9,  -999.0,9,   -999.0,9,  -999.00,-999.0000,9,  -999.00,-999.000,9,-999.0000,9, -999.00,9, -999.00,9,  -999.0,9,-999.000,9,-999.000,-999.000,9,-999.000,9,   40.15,2,   35.42,2, -999.00,1, -999.00,9, -999.00,9,-999.000,-999.0000,9,-999.0000,9,-999.0000,9,-999.0000,9,-999.0000,9,-999.0000,9,-999.0000,9,-999.0000,9,-999.0000,9,   4.1353,     -999.0,9,     -999.0,9,     -999.0,9,     -999.0,9,     -999.0,9,     -999.0,9,     -999.0,9,-999.0000, -999.00
33RO20071215,        P18,     102,          1,         15,      12014,2,20080124,       0057,   -30.4163,  -103.0003,       3380,  1066.8,   3.7531,  34.3993,2,  34.3976,2,    150.5,2,   150.0,2,   52.40,2,   36.10,2,    0.00,2,    2.53,2,-999.000,9,-999.000,9,-999.0000,9,  2245.6,2,  -999.0,9,   -999.0,9,  -999.00,   7.5327,2,    25.00,-999.000,9,-999.0000,9, -999.00,9, -999.00,9,  -999.0,9,-999.000,9,-999.000,-999.000,9,-999.000,9,   39.47,2,   37.23,2, -999.00,1, -999.00,9, -999.00,9,-999.000,-999.0000,9,-999.0000,9,-999.0000,9,-999.0000,9,-999.0000,9,-999.0000,9,-999.0000,9,-999.0000,9,-999.0000,9,   3.6741,     -999.0,9,     -999.0,9,     -999.0,9,     -999.0,9,     -999.0,9,     -999.0,9,     -999.0,9,-999.0000, -999.00
33RO20071215,        P18,     102,          1,         14,      12013,2,20080124,       0057,   -30.4163,  -103.0003,       3380,  1166.3,   3.5579,  34.4578,2,  34.4601,2,    132.0,2,   131.8,2,   66.20,2,   37.50,2,    0.00,2,    2.66,2,-999.000,9,-999.000,9,-999.0000,9,  -999.0,9,  -999.0,9,   -999.0,9,  -999.00,-999.0000,9,  -999.00,-999.000,9,-999.0000,9, -999.00,9, -999.00,9,  -999.0,9,-999.000,9,-999.000,-999.000,9,-999.000,9,   38.84,2,   38.87,2, -999.00,1, -999.00,9, -999.00,9,-999.000,-999.0000,9,-999.0000,9,-999.0000,9,-999.0000,9,-999.0000,9,-999.0000,9,-999.0000,9,-999.0000,9,-999.0000,9,   3.4723,     -999.0,9,     -999.0,9,     -999.0,9,     -999.0,9,     -999.0,9,     -999.0,9,     -999.0,9,-999.0000, -999.00
33RO20071215,        P18,     102,          1,         13,      12012,2,20080124,       0057,   -30.4163,  -103.0003,       3380,  1266.7,   3.3465,  34.5033,2,  34.5049,2,    126.7,2,   126.7,2,   76.30,2,   37.70,2,    0.00,2,    2.69,2,  -0.001,2,   0.002,2,   0.0000,2,  2277.2,6,  2362.4,4,   -999.0,9,  -999.00,   7.5125,2,    25.00,-999.000,9,-999.0000,9, -999.00,9, -999.00,9,  -999.0,9,-999.000,9,-999.000,-999.000,9,-999.000,9,   38.17,2,   39.24,2, -999.00,1, -999.00,9, -999.00,9,-999.000,-999.0000,9,-999.0000,9,-999.0000,9,-999.0000,9,-999.0000,9,-999.0000,9,-999.0000,9,-999.0000,9,-999.0000,9,   3.2545,     -999.0,9,     -999.0,9,     -999.0,9,     -999.0,9,     -999.0,9,     -999.0,9,     -999.0,9,-999.0000, -999.00
33RO20071215,        P18,     102,          1,         12,      12031,2,20080124,       0057,   -30.4163,  -103.0003,       3380,  1367.4,   3.0908,  34.5297,2,  34.5303,2,    132.7,2,   132.7,2,   82.60,2,   37.20,2,    0.00,2,    2.65,2,-999.000,9,-999.000,9,-999.0000,9,  -999.0,9,  -999.0,9,   -999.0,9,  -999.00,-999.0000,9,  -999.00,-999.000,9,-999.0000,9, -999.00,9, -999.00,9,  -999.0,9,-999.000,9,-999.000,-999.000,9,-999.000,9,   38.04,2,   38.54,2, -999.00,1, -999.00,9, -999.00,9,-999.000,-999.0000,9,-999.0000,9,-999.0000,9,-999.0000,9,-999.0000,9,-999.0000,9,-999.0000,9,-999.0000,9,-999.0000,9,   2.9930,     -999.0,9,     -999.0,9,     -999.0,9,     -999.0,9,     -999.0,9,     -999.0,9,     -999.0,9,-999.0000, -999.00