BOTTLE,20220818CCHSIOAMB
EXPOCODE,SECT_ID,STNNBR,CASTNO,SAMPNO,BTLNBR,BTLNBR_FLAG_W,DATE,TIME,LATITUDE,LONGITUDE,DEPTH,CTDPRS,CTDTMP,CTDSAL,CTDSAL_FLAG_W,SALNTY,SALNTY_FLAG_W,CTDOXY,CTDOXY_FLAG_W,OXYGEN,OXYGEN_FLAG_W,SILCAT,SILCAT_FLAG_W,NITRAT,NITRAT_FLAG_W,NITRIT,NITRIT_FLAG_W,PHSPHT,PHSPHT_FLAG_W,CFC-11,CFC-11_FLAG_W,CFC-12,CFC-12_FLAG_W,SF6,SF6_FLAG_W,TCARBN,TCARBN_FLAG_W,ALKALI,ALKALI_FLAG_W,FCO2,FCO2_FLAG_W,FCO2TMP,PH_SWS,PH_SWS_FLAG_W,PH_TMP,TRITUM,TRITUM_FLAG_W,HELIUM,HELIUM_FLAG_W,DELHE3,DELHE3_FLAG_W,DELC13,DELC13_FLAG_W,DELC14,DELC14_FLAG_W,NEON,NEON_FLAG_W,NEONER,CCL4,CCL4_FLAG_W,POC,POC_FLAG_W,DOC,DOC_FLAG_W,TDN,TDN_FLAG_W,DON,DON_FLAG_W,CHLORA,CHLORA_FLAG_W,ARGON,ARGON_FLAG_W,TRITER,CDOM325,CDOM325_FLAG_W,CDOM340,CDOM340_FLAG_W,CDOM380,CDOM380_FLAG_W,CDOM412,CDOM412_FLAG_W,CDOM443,CDOM443_FLAG_W,CDOM490,CDOM490_FLAG_W,CDOM555,CDOM555_FLAG_W,CDOMSL,CDOMSL_FLAG_W,CDOMSN,CDOMSN_FLAG_W,THETA,D18O_NO3,D18O_NO3_FLAG_W,CDOM2C,CDOM2C_FLAG_W,CDOM3C,CDOM3C_FLAG_W,LAB_DEN,LAB_DEN_FLAG_W,DELSI30,DELSI30_FLAG_W,N2,N2_FLAG_W,D15N_NO3,D15N_NO3_FLAG_W,HELIER,DELHER
,,,,,,,,,,,METERS,DBAR,ITS-90,PSS-78,,PSS-78,,UMOL/KG,,UMOL/KG,,UMOL/KG,,UMOL/KG,,UMOL/KG,,UMOL/KG,,PMOL/KG,,PMOL/KG,,FMOL/KG,,UMOL/KG,,UMOL/KG,,UATM,,DEG C,,,DEG C,TU,,NMOL/KG,,PERCNT,,/MILLE,,/MILLE,,NMOL/KG,,NMOL/KG,PMOL/KG,,UG/KG,,UMOL/KG,,UMOL/KG,,UMOL/KG,,UG/KG,,UMOL/KG,,TU,1/M,,1/M,,1/M,,1/M,,1/M,,1/M,,1/M,,1/NM,,1/NM,,DEG C,/MILLE,,,,,,,,/MILLE,,UMOL/KG,,/MILLE,,NMOL/KG,PERCNT
33RO20071215,        P18,     161,          1,         24,      11024,2,20080210,       2111,   -63.7482,  -103.0028,       5022,     5.1,   3.4861,  33.9193,2,  33.9194,2,    320.8,2,   321.1,2,    5.80,2,   24.20,2,    0.22,2,    1.62,2,   5.016,2,   2.893,2,   2.0327,2,  2129.6,6,  2272.6,2,   -999.0,9,  -999.00,   7.7557,2,    25.00,-999.000,9,-999.0000,9, -999.00,9, -999.00,9,  -999.0,9,-999.000,9,-999.000,-999.000,9,-999.000,9,   45.54,2,   29.22,2, -999.00,9,    0.17,2, -999.00,9,-999.000,   0.0825,2,   0.0510,2,   0.0217,2,   0.0146,2,   0.0073,2,   0.0015,2,  -0.0014,4,   0.0184,2,   0.0237,2,   3.4857,     -999.0,9,     -999.0,9,     -999.0,9,     -999.0,9,     -999.0,9,     -999.0,9,     -999.0,9,-999.0000, -999.00
33RO20071215,        P18,     161,          1,         23,      11023,2,20080210,       2111,   -63.7482,  -103.0028,       5022,    32.2,   3.4803,  33.9196,2,  33.9207,2,    322.0,2,   321.1,2,    5.90,2,   24.20,2,    0.22,2,    1.61,2,-999.000,9,-999.000,9,-999.0000,9,  2129.8,2,  2282.8,2,   -999.0,9,  -999.00,   7.7527,2,    25.00,-999.000,9,-999.0000,9, -999.00,9, -999.00,9,  -999.0,9,-999.000,9,-999.000,-999.000,9,-999.000,9,   44.89,2,   28.13,2, -999.00,9,    0.20,2, -999.00,9,-999.000,   0.0847,2,   0.0535,2,   0.0242,2,   0.0168,2,   0.0092,2,   0.0029,3,  -0.0006,4,   0.0169,2,   0.0216,2,   3.4782,     -999.0,9,     -999.0,9,     -999.0,9,     -999.0,9,     -999.0,9,     -999.0,9,     -999.0,9,-999.0000, -999.00
33RO20071215,        P18,     161,          1,         22,      11022,2,20080210,       2111,   -63.7482,  -103.0028,       5022,    55.3,   3.3067,  33.9322,2,  33.9346,2,    322.1,2,   321.9,2,    6.90,2,   24.40,2,    0.21,2,    1.68,2,   5.287,2,   2.988,2,   2.1061,2,  2133.5,2,  2284.5,2,   -999.0,9,  -999.00,   7.7541,2,    25.00,-999.000,9,-999.0000,9, -999.00,9, -999.00,9,  -999.0,9,-999.000,9,-999.000,-999.000,9,-999.000,9,   43.74,2,   27.90,2, -999.00,9,    0.24,2, -999.00,9,-999.000,   0.0807,2,   0.0499,2,   0.0224,2,   0.0152,2,   0.0078,2,   0.0016,2,  -0.0015,4,   0.0177,2,   0.0224,2,   3.3033,     -999.0,9,     -999.0,9,     -999.0,9,     -999.0,9,     -999.0,9,     -999.0,9,     -999.0,9,-999.0000, -999.00
33RO20071215,        P18,     161,          1,         21,      11021,2,20080210,       2111,   -63.7482,  -103.0028,       5022,    83.7,   2.0057,  33.9511,2,  33.9517,2,    324.9,2,   324.3,2,   16.60,2,   26.10,2,    0.19,2,    1.93,2,-999.000,9,-999.000,9,-999.0000,9,  2148.0,2,  2285.9,2,   -999.0,9,  -999.00,   7.7137,2,    25.00,-999.000,9,-999.0000,9, -999.00,9, -999.00,9,  -999.0,9,-999.000,9,-999.000,-999.000,9,-999.000,9,   43.70,2,   29.48,2, -999.00,9,    0.20,2, -999.00,9,-999.000,   0.0811,2,   0.0515,2,   0.0252,2,   0.0183,2,   0.0097,2,   0.0027,2,  -0.0006,4,   0.0158,2,   0.0195,2,   2.0014,     -999.0,9,     -999.0,9,     -999.0,9,     -999.0,9,     -999.0,9,     -999.0,9,     -999.0,9,-999.0000, -999.00
33RO20071215,        P18,     161,          1,         20,      11020,2,20080210,       2111,   -63.7482,  -103.0028,       5022,   116.8,   1.5934,  33.9698,2,  33.9739,2,    320.4,2,   322.2,2,   19.90,2,   27.60,2,    0.33,2,    1.96,2,   5.479,2,   3.045,2,   2.1892,2,  2154.2,2,  2276.5,2,   -999.0,9,  -999.00,   7.6956,2,    25.00,-999.000,9,-999.0000,9, -999.00,9, -999.00,9,  -999.0,9,-999.000,9,-999.000,-999.000,9,-999.000,9,   43.31,2,   30.46,2, -999.00,9,    0.05,2, -999.00,9,-999.000,   0.0748,2,   0.0465,2,   0.0225,2,   0.0162,2,   0.0080,2,   0.0014,2,  -0.0014,4,   0.0163,2,   0.0205,2,   1.5878,     -999.0,9,     -999.0,9,     -999.0,9,     -999.0,9,     -999.0,9,     -999.0,9,     -999.0,9,-999.0000, -999.00
33RO20071215,        P18,     161,          1,         19,      11019,2,20080210,       2111,   -63.7482,  -103.0028,       5022,   175.0,   1.3726,  34.0059,2,  34.0065,2,    313.0,2,   314.2,2,   24.30,2,   28.90,2,    0.01,2,    1.99,2,-999.000,9,-999.000,9,-999.0000,9,  2162.6,2,  2280.0,2,   -999.0,9,  -999.00,   7.6756,2,    25.00,-999.000,9,-999.0000,9, -999.00,9, -999.00,9,  -999.0,9,-999.000,9,-999.000,-999.000,9,-999.000,9,   42.77,2,   31.11,2, -999.00,9,    0.01,2, -999.00,9,-999.000,   0.0801,2,   0.0499,2,   0.0253,2,   0.0189,2,   0.0102,2,   0.0029,2,  -0.0005,4,   0.0151,2,   0.0190,2,   1.3643,     -999.0,9,     -999.0,9,     -999.0,9,     -999.0,9,     -999.0,9,     -999.0,9,     -999.0,9,-999.0000, -999.00
33RO20071215,        P18,     161,          1,         18,      11018,2,20080210,       2111,   -63.7482,  -103.0028,       5022,   249.6,   1.6225,  34.0979,2,  34.1009,2,    284.6,2,   281.9,2,   33.30,2,   30.80,2,    0.01,2,    2.12,2,   4.485,2,   2.473,2,   1.6072,2,  2181.8,2,  2287.7,2,   -999.0,9,  -999.00,   7.6434,2,    25.00,-999.000,9,-999.0000,9, -999.00,9, -999.00,9,  -999.0,9,-999.000,9,-999.000,-999.000,9,-999.000,9,   42.56,2,   33.40,2, -999.00,9,    0.00,2, -999.00,9,-999.000,   0.0850,2,   0.0534,2,   0.0261,2,   0.0190,2,   0.0097,2,   0.0022,2,  -0.0009,4,   0.0160,2,   0.0198,2,   1.6100,     -999.0,9,     -999.0,9,     -999.0,9,     -999.0,9,     -999.0,9,     -999.0,9,     -999.0,9,-999.0000, -999.00
33RO20071215,        P18,     161,          1,         17,      11017,2,20080210,       2111,   -63.7482,  -103.0028,       5022,   332.5,   1.8069,  34.1802,2,  34.1775,2,    246.8,2,   257.1,2,   40.40,2,   32.10,2,    0.01,2,    2.21,2,   3.696,2,   1.991,2,   1.2799,2,  2197.4,2,  2300.8,2,   -999.0,9,  -999.00,   7.6148,2,    25.00,-999.000,9,-999.0000,9, -999.00,9, -999.00,9,  -999.0,9,-999.000,9,-999.000,-999.000,9,-999.000,9,   42.50,2,   34.22,2, -999.00,9, -999.00,9, -999.00,9,-999.000,   0.0997,2,   0.0657,2,   0.0345,2,   0.0251,2,   0.0148,2,   0.0056,2,   0.0010,2,   0.0121,4,   0.0170,4,   1.7895,     -999.0,9,     -999.0,9,     -999.0,9,     -999.0,9,     -999.0,9,     -999.0,9,     -999.0,9,-999.0000, -999.00
33RO20071215,        P18,     161,          1,         16,      11016,2,20080210,       2111,   -63.7482,  -103.0028,       5022,   430.6,   2.3301,  34.3200,2,  34.3212,2,    212.3,2,   211.7,2,   52.10,2,   33.90,2,    0.00,2,    2.33,2,   2.349,2,   1.214,2,   0.6616,2,  2223.1,2,  2312.8,2,   -999.0,9,  -999.00,   7.5797,2,    25.00,-999.000,9,-999.0000,9, -999.00,9, -999.00,9,  -999.0,9,-999.000,9,-999.000,-999.000,9,-999.000,9,   41.91,2,   35.31,2, -999.00,9, -999.00,9, -999.00,9,-999.000,   0.1130,2,   0.0757,2,   0.0393,2,   0.0280,2,   0.0164,2,   0.0062,3,   0.0012,3,   0.0153,2,   0.0172,2,   2.3053,     -999.0,9,     -999.0,9,     -999.0,9,     -999.0,9,     -999.0,9,     -999.0,9,     -999.0,9,-999.0000, -999.00
33RO20071215,        P18,     161,          1,         15,      11015,2,20080210,       2111,   -63.7482,  -103.0028,       5022,   550.0,   2.4254,  34.4267,2,  34.4226,2,    188.5,2,   188.2,2,   61.90,2,   34.70,2,    0.00,2,    2.38,2,-999.000,9,-999.000,9,-999.0000,9,  2238.4,2,  2324.1,2,   -999.0,9,  -999.00,   7.5606,2,    25.00,-999.000,9,-999.0000,9, -999.00,9, -999.00,9,  -999.0,9,-999.000,9,-999.000,-999.000,9,-999.000,9,   41.13,2,   36.37,2, -999.00,9, -999.00,9, -999.00,9,-999.000,   0.1164,2,   0.0779,2,   0.0395,2,   0.0277,2,   0.0155,2,   0.0051,2,   0.0002,4,   0.0160,2,   0.0179,2,   2.3926,     -999.0,9,     -999.0,9,     -999.0,9,     -999.0,9,     -999.0,9,     -999.0,9,     -999.0,9,-999.0000, -999.00
33RO20071215,        P18,     161,          1,         14,      11014,2,20080210,       2111,   -63.7482,  -103.0028,       5022,   699.0,   2.3732,  34.5229,2,  34.5198,2,    176.8,2,   176.6,2,   70.40,2,   34.70,2,    0.00,2,    2.39,2,   0.853,2,   0.425,2,   0.1641,2,  2249.7,2,  2324.7,4,   -999.0,9,  -999.00,   7.5579,2,    25.00,-999.000,9,-999.0000,9, -999.00,9, -999.00,9,  -999.0,9,-999.000,9,-999.000,-999.000,9,-999.000,9,   40.31,2,   36.08,2, -999.00,9, -999.00,9, -999.00,9,-999.000,   0.1174,2,   0.0781,2,   0.0379,2,   0.0258,2,   0.0137,2,   0.0037,2,  -0.0006,4,   0.0169,2,   0.0191,2,   2.3309,     -999.0,9,     -999.0,9,     -999.0,9,     -999.0,9,     -999.0,9,     -999.0,9,     -999.0,9,-999.0000, -999.00
33RO20071215,        P18,     161,          1,         13,      11013,2,20080210,       2111,   -63.7482,  -103.0028,       5022,   849.9,   2.2927,  34.5950,2,  34.5952,2,    173.8,2,   174.3,2,   76.00,2,   34.20,2,    0.00,2,    2.35,2,   0.538,2,   0.271,2,   0.1017,2,  2253.3,2,  2335.4,4,   -999.0,9,  -999.00,   7.5628,2,    25.00,-999.000,9,-999.0000,9, -999.00,9, -999.00,9,  -999.0,9,-999.000,9,-999.000,-999.000,9,-999.000,9,   39.85,2,   35.66,2, -999.00,9, -999.00,9, -999.00,9,-999.000,   0.1182,2,   0.0784,2,   0.0374,2,   0.0248,2,   0.0130,2,   0.0033,2,  -0.0007,4,   0.0173,2,   0.0197,2,   2.2407,     -999.0,9,     -999.0,9,     -999.0,9,     -999.0,9,     -999.0,9,     -999.0,9,     -999.0,9,-999.0000, -999.00
33RO20071215,        P18,     161,          1,         12,      11012,2,20080210,       2111,   -63.7482,  -103.0028,       5022,  1000.2,   2.2220,  34.6466,2,  34.6449,2,    175.0,2,   175.2,2,   79.60,2,   33.50,2,    0.00,2,    2.30,2,   0.351,2,   0.176,2,   0.0000,2,  2254.4,2,  2333.7,4,   -999.0,9,  -999.00,   7.5720,2,    25.00,-999.000,9,-999.0000,9, -999.00,9, -999.00,9,  -999.0,9,-999.000,9,-999.000,-999.000,9,-999.000,9,   39.19,2,   34.67,2, -999.00,9, -999.00,9, -999.00,9,-999.000,-999.0000,5,-999.0000,5,-999.0000,5,-999.0000,5,-999.0000,5,-999.0000,5,-999.0000,5,-999.0000,5,-999.0000,5,   2.1599,     -999.0,9,     -999.0,9,     -999.0,9,     -999.0,9,     -999.0,9,     -999.0,9,     -999.0,9,-999.0000, -999.00
33RO20071215,        P18,     161,          1,         11,      11010,2,20080210,       2111,   -63.7482,  -103.0028,       5022,  1168.7,   2.1372,  34.6845,2,  34.6829,2,    178.2,2,   178.3,2,   82.30,2,   32.80,2,    0.00,2,    2.25,2,-999.000,9,-999.000,9,-999.0000,9,  2253.0,2,  2350.7,4,   -999.0,9,  -999.00,   7.5791,2,    25.00,-999.000,9,-999.0000,9, -999.00,9, -999.00,9,  -999.0,9,-999.000,9,-999.000,-999.000,9,-999.000,9,   39.23,3,   34.19,3, -999.00,9, -999.00,9, -999.00,9,-999.000,   0.1204,2,   0.0807,2,   0.0395,2,   0.0261,2,   0.0140,2,   0.0040,2,  -0.0002,4,   0.0171,2,   0.0190,2,   2.0638,     -999.0,9,     -999.0,9,     -999.0,9,     -999.0,9,     -999.0,9,     -999.0,9,     -999.0,9,-999.0000, -999.00
33RO20071215,        P18,     161,          1,         10,      11011,2,20080210,       2111,   -63.7482,  -103.0028,       5022,  1400.4,   1.9825,  34.7173,2,  34.7149,2,    183.8,2,   184.4,2,   86.60,2,   32.10,2,    0.00,2,    2.21,2,   0.195,2,   0.097,2,   0.0000,2,  2252.2,2,  2345.3,2,   -999.0,9,  -999.00,   7.5958,2,    25.00,-999.000,9,-999.0000,9, -999.00,9, -999.00,9,  -999.0,9,-999.000,9,-999.000,-999.000,9,-999.000,9,   39.96,2,   33.53,2, -999.00,9, -999.00,9, -999.00,9,-999.000,   0.1186,2,   0.0790,2,   0.0380,2,   0.0246,2,   0.0131,2,   0.0033,2,  -0.0006,4,   0.0175,2,   0.0196,2,   1.8936,     -999.0,9,     -999.0,9,     -999.0,9,     -999.0,9,     -999.0,9,     -999.0,9,     -999.0,9,-999.0000, -999.00
33RO20071215,        P18,     161,          1,          9,      11009,2,20080210,       2111,   -63.7482,  -103.0028,       5022,  1731.9,   1.6938,  34.7331,2,  34.7312,2,    190.7,2,   191.1,2,   95.30,2,   31.70,2,    0.00,2,    2.18,2,   0.128,2,   0.062,2,   0.0000,2,  2254.5,2,  2347.4,4,   -999.0,9,  -999.00,   7.6076,2,    25.00,-999.000,9,-999.0000,9, -999.00,9, -999.00,9,  -999.0,9,-999.000,9,-999.000,-999.000,9,-999.000,9,   39.85,2,   33.25,2, -999.00,9, -999.00,9, -999.00,9,-999.000,   0.1196,2,   0.0797,2,   0.0382,2,   0.0245,2,   0.0131,2,   0.0033,2,  -0.0005,4,   0.0176,2,   0.0197,2,   1.5831,     -999.0,9,     -999.0,9,     -999.0,9,     -999.0,9,     -999.0,9,     -999.0,9,     -999.0,9,-999.0000, -999.00
33RO20071215,        P18,     161,          1,          8,      11008,2,20080210,       2111,   -63.7482,  -103.0028,       5022,  2134.1,   1.4001,  34.7316,2,  34.7293,2,    195.3,2,   195.3,2,  104.40,2,   31.90,2,    0.00,2,    2.19,2,   0.100,2,   0.047,2,   0.0000,2,  2257.2,6,  2361.5,2,   -999.0,9,  -999.00,   7.6049,2,    25.00,-999.000,9,-999.0000,9, -999.00,9, -999.00,9,  -999.0,9,-999.000,9,-999.000,   0.132,3,-999.000,9,   39.50,2,   33.62,2, -999.00,9, -999.00,9, -999.00,9,-999.000,   0.1173,2,   0.0782,2,   0.0377,2,   0.0242,2,   0.0131,2,   0.0036,2,  -0.0002,4,   0.0174,2,   0.0195,2,   1.2616,     -999.0,9,     -999.0,9,     -999.0,9,     -999.0,9,     -999.0,9,     -999.0,9,     -999.0,9,-999.0000, -999.00
33RO20071215,        P18,     161,          1,          7,      11007,2,20080210,       2111,   -63.7482,  -103.0028,       5022,  2566.5,   1.1443,  34.7242,2,  34.7222,2,    200.0,2,   200.0,2,  112.90,2,   32.10,2,    0.00,2,    2.22,2,   0.089,2,   0.044,2,   0.0000,2,  2259.5,2,  2364.4,2,   -999.0,9,  -999.00,   7.6107,2,    25.00,-999.000,9,-999.0000,9, -999.00,9, -999.00,9,  -999.0,9,-999.000,9,-999.000,   0.119,3,-999.000,9,   39.50,2,   33.57,2, -999.00,9, -999.00,9, -999.00,9,-999.000,   0.1170,2,   0.0777,2,   0.0373,2,   0.0240,2,   0.0129,2,   0.0033,2,  -0.0004,4,   0.0175,2,   0.0197,2,   0.9740,     -999.0,9,     -999.0,9,     -999.0,9,     -999.0,9,     -999.0,9,     -999.0,9,     -999.0,9,-999.0000, -999.00
33RO20071215,        P18,     161,          1,          6,      11006,2,20080210,       2111,   -63.7482,  -103.0028,       5022,  3067.3,   0.9035,  34.7153,2,  34.7135,2,    204.6,2,   204.9,2,  121.40,2,   32.40,2,    0.00,2,    2.23,2,   0.114,2,   0.059,2,   0.0000,2,  2260.7,6,  2364.8,2,   -999.0,9,  -999.00,   7.6066,2,    25.00,-999.000,9,-999.0000,9, -999.00,9, -999.00,9,  -999.0,9,-999.000,9,-999.000,   0.147,3,-999.000,9,   39.92,2,   33.78,2, -999.00,9, -999.00,9, -999.00,9,-999.000,   0.1128,2,   0.0741,2,   0.0349,2,   0.0220,2,   0.0116,2,   0.0025,2,  -0.0007,4,   0.0180,2,   0.0204,2,   0.6935,     -999.0,9,     -999.0,9,     -999.0,9,     -999.0,9,     -999.0,9,     -999.0,9,     -999.0,9,-999.0000, -999.00
33RO20071215,        P18,     161,          1,          5,      11005,2,20080210,       2111,   -63.7482,  -103.0028,       5022,  3566.1,   0.6984,  34.7093,2,  34.7077,2,    208.7,2,   208.4,2,  127.10,2,   32.70,2,    0.00,2,    2.25,2,-999.000,5,-999.000,5,-999.0000,5,  2260.6,2,  2356.8,2,   -999.0,9,  -999.00,   7.6074,2,    25.00,-999.000,9,-999.0000,9, -999.00,9, -999.00,9,  -999.0,9,-999.000,9,-999.000,-999.000,1,-999.000,9,   39.94,2,   34.00,2, -999.00,9, -999.00,9, -999.00,9,-999.000,   0.1119,2,   0.0731,2,   0.0343,2,   0.0217,2,   0.0113,2,   0.0023,3,  -0.0008,4,   0.0180,2,   0.0206,2,   0.4459,     -999.0,9,     -999.0,9,     -999.0,9,     -999.0,9,     -999.0,9,     -999.0,9,     -999.0,9,-999.0000, -999.00
33RO20071215,        P18,     161,          1,          4,      11004,2,20080210,       2111,   -63.7482,  -103.0028,       5022,  4065.6,   0.5011,  34.7060,2,  34.7039,2,    213.5,2,   213.4,2,  131.70,6,   32.90,6,    0.00,6,    2.25,2,   0.221,2,   0.107,2,   0.0000,2,  2261.2,2,  2349.5,4,   -999.0,9,  -999.00,   7.5950,2,    25.00,-999.000,9,-999.0000,9, -999.00,9, -999.00,9,  -999.0,9,-999.000,9,-999.000,   0.260,3,-999.000,9,   40.10,2,   34.07,2, -999.00,9, -999.00,9, -999.00,9,-999.000,   0.1117,2,   0.0731,2,   0.0347,2,   0.0222,2,   0.0116,2,   0.0025,3,  -0.0008,4,   0.0178,2,   0.0203,2,   0.2035,     -999.0,9,     -999.0,9,     -999.0,9,     -999.0,9,     -999.0,9,     -999.0,9,     -999.0,9,-999.0000, -999.00
33RO20071215,        P18,     161,          1,          3,      11003,2,20080210,       2111,   -63.7482,  -103.0028,       5022,  4544.0,   0.4232,  34.7046,2,  34.7036,2,    215.8,2,   215.5,2,  135.50,6,   32.90,6,    0.00,6,    2.27,2,   0.273,2,   0.137,2,   0.0000,2,  2261.8,2,  2356.1,2,   -999.0,9,  -999.00,   7.6015,2,    25.00,-999.000,9,-999.0000,9, -999.00,9, -999.00,9,  -999.0,9,-999.000,9,-999.000,   0.277,3,-999.000,9,   39.86,2,   34.22,2, -999.00,9, -999.00,9, -999.00,9,-999.000,   0.1113,2,   0.0726,2,   0.0340,2,   0.0214,2,   0.0111,2,   0.0022,2,  -0.0008,4,   0.0181,2,   0.0207,2,   0.0769,     -999.0,9,     -999.0,9,     -999.0,9,     -999.0,9,     -999.0,9,     -999.0,9,     -999.0,9,-999.0000, -999.00
33RO20071215,        P18,     161,          1,          2,      11002,2,20080210,       2111,   -63.7482,  -103.0028,       5022,  5064.2,   0.4176,  34.7032,2,  34.7024,2,    216.9,2,   216.1,2,  144.80,6,   33.00,6,    0.01,6,    2.27,2,-999.000,9,-999.000,9,-999.0000,9,  2263.2,2,  2365.8,2,   -999.0,9,  -999.00,   7.6007,2,    25.00,-999.000,9,-999.0000,9, -999.00,9, -999.00,9,  -999.0,9,-999.000,9,-999.000,-999.000,9,-999.000,9,   39.57,2,   34.32,2, -999.00,9, -999.00,9, -999.00,9,-999.000,   0.1128,2,   0.0732,2,   0.0341,2,   0.0212,2,   0.0109,2,   0.0020,3,  -0.0009,4,   0.0183,2,   0.0209,2,   0.0126,     -999.0,9,     -999.0,9,     -999.0,9,     -999.0,9,     -999.0,9,     -999.0,9,     -999.0,9,-999.0000, -999.00
33RO20071215,        P18,     161,          1,          1,      11001,2,20080210,       2111,   -63.7482,  -103.0028,       5022,  5103.1,   0.4224,  34.7030,2,  34.7016,2,    218.0,2,   216.2,2,  145.50,2,   33.00,2,    0.01,2,    2.27,2,   0.352,2,   0.177,2,   0.0774,2,  2262.5,6,  2366.4,2,   -999.0,9,  -999.00,   7.6089,2,    25.00,-999.000,9,-999.0000,9, -999.00,9, -999.00,9,  -999.0,9,-999.000,9,-999.000,   0.307,3,-999.000,9,   39.80,2,   33.92,2, -999.00,9, -999.00,9, -999.00,9,-999.000,   0.1183,2,   0.0781,2,   0.0363,2,   0.0231,2,   0.0121,2,   0.0027,2,  -0.0007,4,   0.0181,2,   0.0204,2,   0.0127,     -999.0,9,     -999.0,9,     -999.0,9,     -999.0,9,     -999.0,9,     -999.0,9,     -999.0,9,-999.0000, -999.00