BOTTLE,20220818CCHSIOAMB
EXPOCODE,SECT_ID,STNNBR,CASTNO,SAMPNO,BTLNBR,BTLNBR_FLAG_W,DATE,TIME,LATITUDE,LONGITUDE,DEPTH,CTDPRS,CTDTMP,CTDSAL,CTDSAL_FLAG_W,SALNTY,SALNTY_FLAG_W,CTDOXY,CTDOXY_FLAG_W,OXYGEN,OXYGEN_FLAG_W,SILCAT,SILCAT_FLAG_W,NITRAT,NITRAT_FLAG_W,NITRIT,NITRIT_FLAG_W,PHSPHT,PHSPHT_FLAG_W,CFC-11,CFC-11_FLAG_W,CFC-12,CFC-12_FLAG_W,SF6,SF6_FLAG_W,TCARBN,TCARBN_FLAG_W,ALKALI,ALKALI_FLAG_W,FCO2,FCO2_FLAG_W,FCO2TMP,PH_SWS,PH_SWS_FLAG_W,PH_TMP,TRITUM,TRITUM_FLAG_W,HELIUM,HELIUM_FLAG_W,DELHE3,DELHE3_FLAG_W,DELC13,DELC13_FLAG_W,DELC14,DELC14_FLAG_W,NEON,NEON_FLAG_W,NEONER,CCL4,CCL4_FLAG_W,POC,POC_FLAG_W,DOC,DOC_FLAG_W,TDN,TDN_FLAG_W,DON,DON_FLAG_W,CHLORA,CHLORA_FLAG_W,ARGON,ARGON_FLAG_W,TRITER,CDOM325,CDOM325_FLAG_W,CDOM340,CDOM340_FLAG_W,CDOM380,CDOM380_FLAG_W,CDOM412,CDOM412_FLAG_W,CDOM443,CDOM443_FLAG_W,CDOM490,CDOM490_FLAG_W,CDOM555,CDOM555_FLAG_W,CDOMSL,CDOMSL_FLAG_W,CDOMSN,CDOMSN_FLAG_W,THETA,D18O_NO3,D18O_NO3_FLAG_W,CDOM2C,CDOM2C_FLAG_W,CDOM3C,CDOM3C_FLAG_W,LAB_DEN,LAB_DEN_FLAG_W,DELSI30,DELSI30_FLAG_W,N2,N2_FLAG_W,D15N_NO3,D15N_NO3_FLAG_W,HELIER,DELHER
,,,,,,,,,,,METERS,DBAR,ITS-90,PSS-78,,PSS-78,,UMOL/KG,,UMOL/KG,,UMOL/KG,,UMOL/KG,,UMOL/KG,,UMOL/KG,,PMOL/KG,,PMOL/KG,,FMOL/KG,,UMOL/KG,,UMOL/KG,,UATM,,DEG C,,,DEG C,TU,,NMOL/KG,,PERCNT,,/MILLE,,/MILLE,,NMOL/KG,,NMOL/KG,PMOL/KG,,UG/KG,,UMOL/KG,,UMOL/KG,,UMOL/KG,,UG/KG,,UMOL/KG,,TU,1/M,,1/M,,1/M,,1/M,,1/M,,1/M,,1/M,,1/NM,,1/NM,,DEG C,/MILLE,,,,,,,,/MILLE,,UMOL/KG,,/MILLE,,NMOL/KG,PERCNT
33RO20071215,        P18,      28,          1,         11,      12003,2,20071224,       1727,     8.5850,  -109.9997,       3954,  1801.6,   2.5873,  34.6263,2,  34.6235,2,     80.8,2,    89.9,3,  138.30,2,   41.00,2,    0.01,2,    2.94,2,   0.001,2,   0.001,2,   0.0000,2,  2357.6,2,  1861.4,4,   -999.0,9,  -999.00,   7.4663,2,    25.00,-999.000,9,-999.0000,9, -999.00,9, -999.00,9,  -999.0,9,-999.000,9,-999.000,-999.000,9,-999.000,9,   36.25,2,   42.12,2, -999.00,1, -999.00,9, -999.00,9,-999.000,   0.1872,2,   0.1401,2,   0.0844,2,   0.0632,2,   0.0425,2,   0.0194,2,   0.0080,2,   0.0135,2,   0.0129,2,   2.4591,     -999.0,9,     -999.0,9,     -999.0,9,     -999.0,9,     -999.0,9,     -999.0,9,     -999.0,9,-999.0000, -999.00
33RO20071215,        P18,      28,          1,         10,      12032,2,20071224,       1727,     8.5850,  -109.9997,       3954,  2000.5,   2.3040,  34.6420,2,  34.6431,2,     87.4,2,    87.0,2,  145.90,2,   40.60,2,    0.00,2,    2.88,2,-999.000,9,-999.000,9,-999.0000,9,  2361.2,2,  2436.8,4,   -999.0,9,  -999.00,   7.4960,2,    25.00,-999.000,9,-999.0000,9, -999.00,9, -999.00,9,  -999.0,9,-999.000,9,-999.000,-999.000,9,-999.000,9,   35.99,2,   41.53,2, -999.00,1, -999.00,9, -999.00,9,-999.000,   0.1871,2,   0.1394,2,   0.0830,2,   0.0609,2,   0.0406,2,   0.0180,2,   0.0071,2,   0.0139,2,   0.0134,2,   2.1629,     -999.0,9,     -999.0,9,     -999.0,9,     -999.0,9,     -999.0,9,     -999.0,9,     -999.0,9,-999.0000, -999.00
33RO20071215,        P18,      28,          1,          9,      12002,2,20071224,       1727,     8.5850,  -109.9997,       3954,  2200.5,   2.0664,  34.6553,2,  34.6568,2,     97.6,2,    98.0,2,  151.50,2,   39.70,2,    0.00,2,    2.80,2,   0.003,2,   0.000,2,   0.0000,2,  2361.7,2,  2445.4,4,   -999.0,9,  -999.00,   7.4998,2,    25.00,-999.000,9,-999.0000,9, -999.00,9, -999.00,9,  -999.0,9,-999.000,9,-999.000,   0.010,3,-999.000,9,   35.99,2,   41.21,2, -999.00,1, -999.00,9, -999.00,9,-999.000,   0.1721,2,   0.1260,2,   0.0721,2,   0.0510,2,   0.0328,2,   0.0135,2,   0.0047,2,   0.0147,2,   0.0145,2,   1.9116,     -999.0,9,     -999.0,9,     -999.0,9,     -999.0,9,     -999.0,9,     -999.0,9,     -999.0,9,-999.0000, -999.00
33RO20071215,        P18,      28,          1,          8,      12021,2,20071224,       1727,     8.5850,  -109.9997,       3954,  2400.1,   1.9057,  34.6647,2,  34.6660,2,    106.6,2,   106.4,2,  154.10,2,   39.10,2,    0.01,2,    2.74,2,-999.000,9,-999.000,9,-999.0000,9,  2359.7,2,  2450.1,4,   -999.0,9,  -999.00,   7.5127,2,    25.00,-999.000,9,-999.0000,9, -999.00,9, -999.00,9,  -999.0,9,-999.000,9,-999.000,-999.000,9,-999.000,9,   36.39,2,   40.47,2, -999.00,1, -999.00,9, -999.00,9,-999.000,   0.1653,2,   0.1188,2,   0.0653,2,   0.0445,2,   0.0277,2,   0.0106,2,   0.0031,2,   0.0155,2,   0.0156,2,   1.7361,     -999.0,9,     -999.0,9,     -999.0,9,     -999.0,9,     -999.0,9,     -999.0,9,     -999.0,9,-999.0000, -999.00
33RO20071215,        P18,      28,          1,          7,      12001,2,20071224,       1727,     8.5850,  -109.9997,       3954,  2599.1,   1.8595,  34.6684,2,  34.6702,2,    109.2,2,   108.5,2,  155.80,2,   38.90,2,    0.00,2,    2.72,2,   0.001,2,   0.000,2,   0.0000,2,  2360.4,2,  2451.4,4,   -999.0,9,  -999.00,   7.5185,2,    25.00,-999.000,9,-999.0000,9, -999.00,9, -999.00,9,  -999.0,9,-999.000,9,-999.000,   0.017,3,-999.000,9,   36.72,2,   40.16,2, -999.00,1, -999.00,9, -999.00,9,-999.000,   0.1776,2,   0.1285,2,   0.0719,2,   0.0495,2,   0.0317,2,   0.0140,2,   0.0053,2,   0.0148,2,   0.0150,2,   1.6727,     -999.0,9,     -999.0,9,     -999.0,9,     -999.0,9,     -999.0,9,     -999.0,9,     -999.0,9,-999.0000, -999.00
33RO20071215,        P18,      28,          1,          6,      12033,2,20071224,       1727,     8.5850,  -109.9997,       3954,  2800.1,   1.8105,  34.6710,2,  34.6746,2,    113.6,2,   112.8,2,  156.20,2,   38.70,2,    0.00,2,    2.67,2,-999.000,9,-999.000,9,-999.0000,9,  2357.9,2,  2455.0,4,   -999.0,9,  -999.00,   7.5197,2,    25.00,-999.000,9,-999.0000,9, -999.00,9, -999.00,9,  -999.0,9,-999.000,9,-999.000,-999.000,9,-999.000,9,   36.80,2,   40.12,2, -999.00,1, -999.00,9, -999.00,9,-999.000,   0.1725,2,   0.1248,2,   0.0698,2,   0.0480,2,   0.0312,2,   0.0137,2,   0.0051,2,   0.0147,2,   0.0150,2,   1.6060,     -999.0,9,     -999.0,9,     -999.0,9,     -999.0,9,     -999.0,9,     -999.0,9,     -999.0,9,-999.0000, -999.00
33RO20071215,        P18,      28,          1,          5,      12008,2,20071224,       1727,     8.5850,  -109.9997,       3954,  3000.2,   1.7260,  34.6754,2,  34.6771,2,    120.3,2,  -999.0,5,  156.30,2,   38.20,2,    0.00,2,    2.62,2,   0.003,2,   0.002,2,   0.0000,2,  2353.9,2,  2431.6,2,   -999.0,9,  -999.00,   7.5324,2,    25.00,-999.000,9,-999.0000,9, -999.00,9, -999.00,9,  -999.0,9,-999.000,9,-999.000,   0.009,3,-999.000,9,   36.46,2,   39.21,2, -999.00,1, -999.00,9, -999.00,9,-999.000,   0.1647,2,   0.1180,2,   0.0655,2,   0.0451,2,   0.0291,2,   0.0127,2,   0.0047,2,   0.0147,2,   0.0152,2,   1.5042,     -999.0,9,     -999.0,9,     -999.0,9,     -999.0,9,     -999.0,9,     -999.0,9,     -999.0,9,-999.0000, -999.00
33RO20071215,        P18,      28,          1,          4,      12009,2,20071224,       1727,     8.5850,  -109.9997,       3954,  3250.9,   1.6545,  34.6796,2,  34.6797,2,    127.6,2,   125.2,2,  155.60,6,   37.80,6,    0.00,6,    2.57,2,-999.000,9,-999.000,9,-999.0000,9,  2349.0,2,  2431.0,2,   -999.0,9,  -999.00,   7.5524,2,    25.00,-999.000,9,-999.0000,9, -999.00,9, -999.00,9,  -999.0,9,-999.000,9,-999.000,-999.000,9,-999.000,9,   35.98,2,   39.17,2, -999.00,1, -999.00,9, -999.00,9,-999.000,   0.1531,2,   0.1081,2,   0.0584,2,   0.0392,2,   0.0247,2,   0.0100,2,   0.0031,2,   0.0153,2,   0.0161,2,   1.4097,     -999.0,9,     -999.0,9,     -999.0,9,     -999.0,9,     -999.0,9,     -999.0,9,     -999.0,9,-999.0000, -999.00
33RO20071215,        P18,      28,          1,          3,      12006,2,20071224,       1727,     8.5850,  -109.9997,       3954,  3499.5,   1.6031,  34.6831,2,  34.6851,2,    134.7,2,   134.7,2,  154.30,6,   37.50,6,    0.00,6,    2.56,2,   0.003,2,   0.003,2,   0.0000,2,  2345.9,2,  2433.1,2,   -999.0,9,  -999.00,   7.5589,2,    25.00,-999.000,9,-999.0000,9, -999.00,9, -999.00,9,  -999.0,9,-999.000,9,-999.000,   0.013,3,-999.000,9,   35.63,2,   38.77,2, -999.00,1, -999.00,9, -999.00,9,-999.000,   0.1491,2,   0.1045,2,   0.0562,2,   0.0382,2,   0.0239,2,   0.0094,2,   0.0028,2,   0.0153,2,   0.0162,2,   1.3344,     -999.0,9,     -999.0,9,     -999.0,9,     -999.0,9,     -999.0,9,     -999.0,9,     -999.0,9,-999.0000, -999.00
33RO20071215,        P18,      28,          1,          2,      12007,2,20071224,       1727,     8.5850,  -109.9997,       3954,  3751.8,   1.5866,  34.6849,2,  34.6888,2,    139.0,2,   138.6,2,  153.90,6,   37.20,6,    0.00,6,    2.53,2,-999.000,9,-999.000,9,-999.0000,9,  2344.2,2,  2432.9,2,   -999.0,9,  -999.00,   7.5771,2,    25.00,-999.000,9,-999.0000,9, -999.00,9, -999.00,9,  -999.0,9,-999.000,9,-999.000,-999.000,9,-999.000,9,   35.70,2,   38.12,2, -999.00,1, -999.00,9, -999.00,9,-999.000,   0.1442,2,   0.1002,2,   0.0527,2,   0.0353,2,   0.0217,2,   0.0081,2,   0.0020,2,   0.0157,2,   0.0168,2,   1.2919,     -999.0,9,     -999.0,9,     -999.0,9,     -999.0,9,     -999.0,9,     -999.0,9,     -999.0,9,-999.0000, -999.00
33RO20071215,        P18,      28,          1,          1,      12035,2,20071224,       1727,     8.5850,  -109.9997,       3954,  3988.0,   1.5763,  34.6866,2,  34.6866,2,    141.8,2,   142.0,2,  153.10,2,   37.10,2,    0.01,2,    2.50,2,   0.002,6,   0.001,6,   0.0000,6,  2341.3,6,  2431.6,2,   -999.0,9,  -999.00,   7.5927,2,    25.00,-999.000,9,-999.0000,9, -999.00,9, -999.00,9,  -999.0,9,-999.000,9,-999.000,   0.009,3,-999.000,9,   35.70,2,   38.57,2, -999.00,1, -999.00,9, -999.00,9,-999.000,   0.1473,2,   0.1019,2,   0.0530,2,   0.0353,2,   0.0215,2,   0.0079,2,   0.0018,2,   0.0159,2,   0.0171,2,   1.2565,     -999.0,9,     -999.0,9,     -999.0,9,     -999.0,9,     -999.0,9,     -999.0,9,     -999.0,9,-999.0000, -999.00