BOTTLE,20220818CCHSIOAMB
EXPOCODE,SECT_ID,STNNBR,CASTNO,SAMPNO,BTLNBR,BTLNBR_FLAG_W,DATE,TIME,LATITUDE,LONGITUDE,DEPTH,CTDPRS,CTDTMP,CTDSAL,CTDSAL_FLAG_W,SALNTY,SALNTY_FLAG_W,CTDOXY,CTDOXY_FLAG_W,OXYGEN,OXYGEN_FLAG_W,SILCAT,SILCAT_FLAG_W,NITRAT,NITRAT_FLAG_W,NITRIT,NITRIT_FLAG_W,PHSPHT,PHSPHT_FLAG_W,CFC-11,CFC-11_FLAG_W,CFC-12,CFC-12_FLAG_W,SF6,SF6_FLAG_W,TCARBN,TCARBN_FLAG_W,ALKALI,ALKALI_FLAG_W,FCO2,FCO2_FLAG_W,FCO2TMP,PH_SWS,PH_SWS_FLAG_W,PH_TMP,TRITUM,TRITUM_FLAG_W,HELIUM,HELIUM_FLAG_W,DELHE3,DELHE3_FLAG_W,DELC13,DELC13_FLAG_W,DELC14,DELC14_FLAG_W,NEON,NEON_FLAG_W,NEONER,CCL4,CCL4_FLAG_W,POC,POC_FLAG_W,DOC,DOC_FLAG_W,TDN,TDN_FLAG_W,DON,DON_FLAG_W,CHLORA,CHLORA_FLAG_W,ARGON,ARGON_FLAG_W,TRITER,CDOM325,CDOM325_FLAG_W,CDOM340,CDOM340_FLAG_W,CDOM380,CDOM380_FLAG_W,CDOM412,CDOM412_FLAG_W,CDOM443,CDOM443_FLAG_W,CDOM490,CDOM490_FLAG_W,CDOM555,CDOM555_FLAG_W,CDOMSL,CDOMSL_FLAG_W,CDOMSN,CDOMSN_FLAG_W,THETA,D18O_NO3,D18O_NO3_FLAG_W,CDOM2C,CDOM2C_FLAG_W,CDOM3C,CDOM3C_FLAG_W,LAB_DEN,LAB_DEN_FLAG_W,DELSI30,DELSI30_FLAG_W,N2,N2_FLAG_W,D15N_NO3,D15N_NO3_FLAG_W,HELIER,DELHER
,,,,,,,,,,,METERS,DBAR,ITS-90,PSS-78,,PSS-78,,UMOL/KG,,UMOL/KG,,UMOL/KG,,UMOL/KG,,UMOL/KG,,UMOL/KG,,PMOL/KG,,PMOL/KG,,FMOL/KG,,UMOL/KG,,UMOL/KG,,UATM,,DEG C,,,DEG C,TU,,NMOL/KG,,PERCNT,,/MILLE,,/MILLE,,NMOL/KG,,NMOL/KG,PMOL/KG,,UG/KG,,UMOL/KG,,UMOL/KG,,UMOL/KG,,UG/KG,,UMOL/KG,,TU,1/M,,1/M,,1/M,,1/M,,1/M,,1/M,,1/M,,1/NM,,1/NM,,DEG C,/MILLE,,,,,,,,/MILLE,,UMOL/KG,,/MILLE,,NMOL/KG,PERCNT
33RO20071215,        P18,      66,          1,         36,      12017,2,20080106,       1654,    -9.5820,  -103.5880,       4775,     5.2,  23.0432,  35.3523,2,  35.3531,2,    219.0,2,   218.8,2,    3.10,2,    9.70,2,    0.25,2,    0.74,2,-999.000,9,-999.000,9,-999.0000,9,  2065.6,6,  2331.5,2,   -999.0,9,  -999.00,   7.9680,2,    25.00,-999.000,9,-999.0000,9, -999.00,9, -999.00,9,  -999.0,9,-999.000,9,-999.000,-999.000,9,-999.000,9, -999.00,9, -999.00,9, -999.00,9,    0.15,2, -999.00,9,-999.000,   0.1152,2,   0.0823,2,   0.0418,2,   0.0321,2,   0.0225,2,   0.0111,3,   0.0039,3,   0.0128,4,   0.0149,4,  23.0421,     -999.0,9,     -999.0,9,     -999.0,9,     -999.0,9,     -999.0,9,     -999.0,9,     -999.0,9,-999.0000, -999.00
33RO20071215,        P18,      66,          1,         35,      12029,2,20080106,       1654,    -9.5820,  -103.5880,       4775,    10.7,  23.0287,  35.3517,2,  35.3538,2,    219.1,2,   218.6,2,    3.10,2,    9.70,2,    0.25,2,    0.74,2,-999.000,9,-999.000,9,-999.0000,9,  2064.8,2,  2332.1,2,   -999.0,9,  -999.00,   7.9662,2,    25.00,-999.000,9,-999.0000,9, -999.00,9, -999.00,9,  -999.0,9,-999.000,9,-999.000,-999.000,9,-999.000,9, -999.00,9, -999.00,9, -999.00,9,    0.15,2, -999.00,9,-999.000,   0.0982,2,   0.0672,2,   0.0314,2,   0.0243,2,   0.0167,2,   0.0072,3,   0.0012,3,   0.0136,4,   0.0172,4,  23.0265,     -999.0,9,     -999.0,9,     -999.0,9,     -999.0,9,     -999.0,9,     -999.0,9,     -999.0,9,-999.0000, -999.00
33RO20071215,        P18,      66,          1,         34,      12049,2,20080106,       1654,    -9.5820,  -103.5880,       4775,    24.4,  23.0139,  35.3513,2,  35.3582,2,    219.5,2,   218.6,2,    3.10,2,    9.70,2,    0.25,2,    0.76,2,-999.000,9,-999.000,9,-999.0000,9,  2066.0,2,  2330.4,2,   -999.0,9,  -999.00,   7.9584,2,    25.00,-999.000,9,-999.0000,9, -999.00,9, -999.00,9,  -999.0,9,-999.000,9,-999.000,-999.000,9,-999.000,9, -999.00,9, -999.00,9, -999.00,9,    0.15,2, -999.00,9,-999.000,   0.0848,2,   0.0566,2,   0.0266,2,   0.0221,2,   0.0149,2,   0.0064,2,   0.0018,2,   0.0130,2,   0.0170,2,  23.0089,     -999.0,9,     -999.0,9,     -999.0,9,     -999.0,9,     -999.0,9,     -999.0,9,     -999.0,9,-999.0000, -999.00
33RO20071215,        P18,      66,          1,         33,      12027,2,20080106,       1654,    -9.5820,  -103.5880,       4775,    49.9,  22.9182,  35.3688,2,  35.3848,2,    217.1,2,   216.5,2,    3.10,2,    9.40,2,    0.24,2,    0.77,2,-999.000,9,-999.000,9,-999.0000,9,  2068.2,2,  2362.6,4,   -999.0,9,  -999.00,   7.9615,2,    25.00,-999.000,9,-999.0000,9, -999.00,9, -999.00,9,  -999.0,9,-999.000,9,-999.000,-999.000,9,-999.000,9, -999.00,9, -999.00,9, -999.00,9,    0.20,2, -999.00,9,-999.000,   0.1147,2,   0.0838,2,   0.0478,2,   0.0383,2,   0.0277,2,   0.0154,2,   0.0073,2,   0.0111,2,   0.0122,2,  22.9080,     -999.0,9,     -999.0,9,     -999.0,9,     -999.0,9,     -999.0,9,     -999.0,9,     -999.0,9,-999.0000, -999.00
33RO20071215,        P18,      66,          1,         32,      12023,2,20080106,       1654,    -9.5820,  -103.5880,       4775,    75.3,  22.3828,  35.5857,2,  35.6058,2,    211.7,2,   210.6,2,    2.60,2,    6.50,2,    0.20,2,    0.69,2,-999.000,9,-999.000,9,-999.0000,9,  2076.7,2,  2380.1,4,   -999.0,9,  -999.00,   7.9705,2,    25.00,-999.000,9,-999.0000,9, -999.00,9, -999.00,9,  -999.0,9,-999.000,9,-999.000,-999.000,9,-999.000,9, -999.00,9, -999.00,9, -999.00,9,    0.16,2, -999.00,9,-999.000,   0.1223,2,   0.0874,2,   0.0457,2,   0.0351,2,   0.0230,2,   0.0115,2,   0.0048,2,   0.0132,2,   0.0148,2,  22.3677,     -999.0,9,     -999.0,9,     -999.0,9,     -999.0,9,     -999.0,9,     -999.0,9,     -999.0,9,-999.0000, -999.00
33RO20071215,        P18,      66,          1,         31,      12037,2,20080106,       1654,    -9.5820,  -103.5880,       4775,   100.2,  21.0121,  35.7133,2,  35.6655,2,    198.0,2,   192.5,2,    1.90,2,    4.30,2,    0.60,2,    0.67,2,-999.000,9,-999.000,9,-999.0000,9,  2097.0,2,  2386.6,4,   -999.0,9,  -999.00,   7.9560,2,    25.00,-999.000,9,-999.0000,9, -999.00,9, -999.00,9,  -999.0,9,-999.000,9,-999.000,-999.000,9,-999.000,9, -999.00,9, -999.00,9, -999.00,9,    0.10,2, -999.00,9,-999.000,   0.1491,2,   0.1108,2,   0.0580,2,   0.0442,2,   0.0296,2,   0.0159,2,   0.0075,2,   0.0127,2,   0.0141,2,  20.9928,     -999.0,9,     -999.0,9,     -999.0,9,     -999.0,9,     -999.0,9,     -999.0,9,     -999.0,9,-999.0000, -999.00
33RO20071215,        P18,      66,          1,         30,      12036,2,20080106,       1654,    -9.5820,  -103.5880,       4775,   125.1,  17.7726,  35.2382,2,  35.2452,2,    165.5,2,   165.8,2,    2.50,2,    9.00,2,    0.90,2,    0.92,2,-999.000,9,-999.000,9,-999.0000,9,  2126.0,2,  2357.3,4,   -999.0,9,  -999.00,   7.8590,2,    25.00,-999.000,9,-999.0000,9, -999.00,9, -999.00,9,  -999.0,9,-999.000,9,-999.000,-999.000,9,-999.000,9, -999.00,9, -999.00,9, -999.00,9,    0.08,2, -999.00,9,-999.000,   0.1618,2,   0.1209,2,   0.0650,2,   0.0500,2,   0.0328,2,   0.0176,2,   0.0086,2,   0.0125,2,   0.0137,2,  17.7513,     -999.0,9,     -999.0,9,     -999.0,9,     -999.0,9,     -999.0,9,     -999.0,9,     -999.0,9,-999.0000, -999.00
33RO20071215,        P18,      66,          1,         29,      12044,2,20080106,       1654,    -9.5820,  -103.5880,       4775,   150.1,  14.9984,  34.8805,2,  34.8773,2,    114.8,2,   109.2,2,    6.70,2,   17.40,2,    0.03,2,    1.52,2,-999.000,9,-999.000,9,-999.0000,9,  2175.6,2,  2329.6,4,   -999.0,9,  -999.00,   7.6855,2,    25.00,-999.000,9,-999.0000,9, -999.00,9, -999.00,9,  -999.0,9,-999.000,9,-999.000,-999.000,9,-999.000,9, -999.00,9, -999.00,9, -999.00,9,    0.04,2, -999.00,9,-999.000,   0.1504,2,   0.1083,2,   0.0568,2,   0.0440,2,   0.0251,2,   0.0102,2,   0.0034,2,   0.0152,2,   0.0155,2,  14.9757,     -999.0,9,     -999.0,9,     -999.0,9,     -999.0,9,     -999.0,9,     -999.0,9,     -999.0,9,-999.0000, -999.00
33RO20071215,        P18,      66,          1,         28,      12057,2,20080106,       1654,    -9.5820,  -103.5880,       4775,   200.3,  12.0581,  34.8035,2,  34.8045,2,     10.3,2,    11.5,2,   22.10,2,   26.90,2,    0.01,2,    2.52,2,-999.000,9,-999.000,9,-999.0000,9,  2258.9,2,  2327.8,4,   -999.0,9,  -999.00,   7.4394,2,    25.00,-999.000,9,-999.0000,9, -999.00,9, -999.00,9,  -999.0,9,-999.000,9,-999.000,-999.000,9,-999.000,9, -999.00,9, -999.00,9, -999.00,9,    0.01,2, -999.00,9,-999.000,   0.1991,2,   0.1499,2,   0.0878,2,   0.0695,2,   0.0435,2,   0.0199,2,   0.0081,2,   0.0137,2,   0.0131,2,  12.0319,     -999.0,9,     -999.0,9,     -999.0,9,     -999.0,9,     -999.0,9,     -999.0,9,     -999.0,9,-999.0000, -999.00
33RO20071215,        P18,      66,          1,         27,      12026,2,20080106,       1654,    -9.5820,  -103.5880,       4775,   249.5,  10.9707,  34.7910,2,  34.7885,2,     25.1,2,    23.3,2,   25.20,2,   32.00,2,    0.00,2,    2.43,2,-999.000,9,-999.000,9,-999.0000,9,  2253.9,2,  2300.6,2,   -999.0,9,  -999.00,   7.4591,2,    25.00,-999.000,9,-999.0000,9, -999.00,9, -999.00,9,  -999.0,9,-999.000,9,-999.000,-999.000,9,-999.000,9, -999.00,9, -999.00,9, -999.00,9,    0.00,2, -999.00,9,-999.000,   0.1864,2,   0.1374,2,   0.0779,2,   0.0616,2,   0.0385,2,   0.0174,2,   0.0073,2,   0.0138,2,   0.0136,2,  10.9399,     -999.0,9,     -999.0,9,     -999.0,9,     -999.0,9,     -999.0,9,     -999.0,9,     -999.0,9,-999.0000, -999.00
33RO20071215,        P18,      66,          1,         26,      12030,2,20080106,       1654,    -9.5820,  -103.5880,       4775,   300.2,  10.2649,  34.7603,2,  34.7591,2,     24.3,2,    23.3,2,   29.10,2,   34.30,2,    0.00,2,    2.48,2,-999.000,9,-999.000,9,-999.0000,9,  2258.7,2,  2303.0,2,   -999.0,9,  -999.00,   7.4548,2,    25.00,-999.000,9,-999.0000,9, -999.00,9, -999.00,9,  -999.0,9,-999.000,9,-999.000,-999.000,9,-999.000,9, -999.00,9, -999.00,9, -999.00,9, -999.00,9, -999.00,9,-999.000,   0.1773,2,   0.1301,2,   0.0760,2,   0.0614,2,   0.0384,2,   0.0161,2,   0.0062,2,   0.0140,2,   0.0132,2,  10.2294,     -999.0,9,     -999.0,9,     -999.0,9,     -999.0,9,     -999.0,9,     -999.0,9,     -999.0,9,-999.0000, -999.00
33RO20071215,        P18,      66,          1,         25,      12024,2,20080106,       1654,    -9.5820,  -103.5880,       4775,   350.4,   9.7438,  34.7290,2,  34.7315,2,     17.3,2,    16.2,2,   32.50,2,   36.40,2,    0.00,2,    2.62,2,-999.000,9,-999.000,9,-999.0000,9,  2268.4,2,  2303.4,2,   -999.0,9,  -999.00,   7.4171,2,    25.00,-999.000,9,-999.0000,9, -999.00,9, -999.00,9,  -999.0,9,-999.000,9,-999.000,-999.000,9,-999.000,9, -999.00,9, -999.00,9, -999.00,9, -999.00,9, -999.00,9,-999.000,   0.2180,2,   0.1670,2,   0.1048,2,   0.0843,2,   0.0559,2,   0.0263,2,   0.0110,2,   0.0128,2,   0.0119,2,   9.7036,     -999.0,9,     -999.0,9,     -999.0,9,     -999.0,9,     -999.0,9,     -999.0,9,     -999.0,9,-999.0000, -999.00
33RO20071215,        P18,      66,          1,         24,      12019,2,20080106,       1654,    -9.5820,  -103.5880,       4775,   400.4,   9.2044,  34.6951,2,  34.6947,2,     14.6,2,    15.7,2,   34.70,2,   37.90,2,    0.00,2,    2.69,2,-999.000,9,-999.000,9,-999.0000,9,  2271.9,6,  2304.0,2,   -999.0,9,  -999.00,   7.4059,2,    25.00,-999.000,9,-999.0000,9, -999.00,9, -999.00,9,  -999.0,9,-999.000,9,-999.000,-999.000,9,-999.000,9, -999.00,9, -999.00,9, -999.00,9, -999.00,9, -999.00,9,-999.000,   0.2129,2,   0.1583,2,   0.0956,2,   0.0766,2,   0.0512,2,   0.0254,2,   0.0116,2,   0.0124,2,   0.0122,2,   9.1599,     -999.0,9,     -999.0,9,     -999.0,9,     -999.0,9,     -999.0,9,     -999.0,9,     -999.0,9,-999.0000, -999.00
33RO20071215,        P18,      66,          1,         23,      12022,2,20080106,       1654,    -9.5820,  -103.5880,       4775,   500.7,   8.1133,  34.6297,2,  34.6313,2,     14.9,2,    14.6,2,   39.10,2,   40.60,2,    0.00,2,    2.86,2,-999.000,9,-999.000,9,-999.0000,9,  2280.4,2,  -999.0,9,   -999.0,9,  -999.00,   7.3829,2,    25.00,-999.000,9,-999.0000,9, -999.00,9, -999.00,9,  -999.0,9,-999.000,9,-999.000,-999.000,9,-999.000,9, -999.00,9, -999.00,9, -999.00,9, -999.00,9, -999.00,9,-999.000,   0.1939,2,   0.1427,2,   0.0845,2,   0.0677,2,   0.0444,2,   0.0203,2,   0.0083,2,   0.0133,2,   0.0128,2,   8.0614,     -999.0,9,     -999.0,9,     -999.0,9,     -999.0,9,     -999.0,9,     -999.0,9,     -999.0,9,-999.0000, -999.00
33RO20071215,        P18,      66,          1,         22,      12015,2,20080106,       1654,    -9.5820,  -103.5880,       4775,   600.9,   6.9201,  34.5706,2,  34.5710,2,     18.9,2,    17.8,2,   47.00,2,   43.50,2,    0.00,2,    3.08,2,-999.000,9,-999.000,9,-999.0000,9,  2291.7,2,  2313.2,2,   -999.0,9,  -999.00,   7.3626,2,    25.00,-999.000,9,-999.0000,9, -999.00,9, -999.00,9,  -999.0,9,-999.000,9,-999.000,-999.000,9,-999.000,9, -999.00,9, -999.00,9, -999.00,9, -999.00,9, -999.00,9,-999.000,   0.1931,2,   0.1418,2,   0.0854,2,   0.0682,2,   0.0453,2,   0.0211,2,   0.0088,2,   0.0131,2,   0.0126,2,   6.8630,     -999.0,9,     -999.0,9,     -999.0,9,     -999.0,9,     -999.0,9,     -999.0,9,     -999.0,9,-999.0000, -999.00
33RO20071215,        P18,      66,          1,         21,      12020,2,20080106,       1654,    -9.5820,  -103.5880,       4775,   700.0,   6.0293,  34.5424,2,  34.5416,2,     35.6,2,    32.5,2,   55.20,2,   44.20,2,    0.00,2,    3.09,2,-999.000,9,-999.000,9,-999.0000,9,  -999.0,9,  -999.0,9,   -999.0,9,  -999.00,-999.0000,9,  -999.00,-999.000,9,-999.0000,9, -999.00,9, -999.00,9,  -999.0,9,-999.000,9,-999.000,-999.000,9,-999.000,9, -999.00,9, -999.00,9, -999.00,9, -999.00,9, -999.00,9,-999.000,   0.1979,2,   0.1454,2,   0.0870,2,   0.0678,2,   0.0462,2,   0.0226,2,   0.0099,2,   0.0127,2,   0.0126,2,   5.9669,     -999.0,9,     -999.0,9,     -999.0,9,     -999.0,9,     -999.0,9,     -999.0,9,     -999.0,9,-999.0000, -999.00
33RO20071215,        P18,      66,          1,         20,      12055,2,20080106,       1654,    -9.5820,  -103.5880,       4775,   800.2,   5.4728,  34.5374,2,  34.5366,2,     48.9,2,    49.2,2,   63.00,2,   43.40,2,    0.00,2,    3.03,2,-999.000,9,-999.000,9,-999.0000,9,  2293.8,2,  2354.6,4,   -999.0,9,  -999.00,   7.4039,2,    25.00,-999.000,9,-999.0000,9, -999.00,9, -999.00,9,  -999.0,9,-999.000,9,-999.000,-999.000,9,-999.000,9, -999.00,9, -999.00,9, -999.00,9, -999.00,9, -999.00,9,-999.000,   0.1523,2,   0.1059,2,   0.0583,2,   0.0433,2,   0.0267,2,   0.0093,2,   0.0019,2,   0.0148,2,   0.0153,2,   5.4043,     -999.0,9,     -999.0,9,     -999.0,9,     -999.0,9,     -999.0,9,     -999.0,9,     -999.0,9,-999.0000, -999.00
33RO20071215,        P18,      66,          1,         19,      12018,2,20080106,       1654,    -9.5820,  -103.5880,       4775,   900.4,   4.8824,  34.5377,2,  34.5373,2,     60.2,2,    60.0,2,   72.30,2,   42.70,2,    0.00,2,    3.01,2,-999.000,9,-999.000,9,-999.0000,9,  -999.0,9,  -999.0,9,   -999.0,9,  -999.00,-999.0000,9,  -999.00,-999.000,9,-999.0000,9, -999.00,9, -999.00,9,  -999.0,9,-999.000,9,-999.000,-999.000,9,-999.000,9, -999.00,9, -999.00,9, -999.00,9, -999.00,9, -999.00,9,-999.000,   0.1610,2,   0.1139,2,   0.0643,2,   0.0476,2,   0.0307,2,   0.0125,2,   0.0039,2,   0.0143,2,   0.0146,2,   4.8088,     -999.0,9,     -999.0,9,     -999.0,9,     -999.0,9,     -999.0,9,     -999.0,9,     -999.0,9,-999.0000, -999.00
33RO20071215,        P18,      66,          1,         18,      12025,2,20080106,       1654,    -9.5820,  -103.5880,       4775,  1001.1,   4.3739,  34.5452,2,  34.5439,2,     74.1,2,    72.9,2,   81.10,2,   41.80,2,    0.00,2,    2.95,2,-999.000,9,-999.000,9,-999.0000,9,  2302.2,2,  2376.0,4,   -999.0,9,  -999.00,   7.4483,2,    25.00,-999.000,9,-999.0000,9, -999.00,9, -999.00,9,  -999.0,9,-999.000,9,-999.000,-999.000,9,-999.000,9, -999.00,9, -999.00,9, -999.00,9, -999.00,9, -999.00,9,-999.000,   0.1724,2,   0.1243,2,   0.0719,2,   0.0535,2,   0.0348,2,   0.0146,2,   0.0046,2,   0.0142,2,   0.0140,2,   4.2952,     -999.0,9,     -999.0,9,     -999.0,9,     -999.0,9,     -999.0,9,     -999.0,9,     -999.0,9,-999.0000, -999.00
33RO20071215,        P18,      66,          1,         17,      12016,2,20080106,       1654,    -9.5820,  -103.5880,       4775,  1200.4,   3.7082,  34.5666,2,  34.5681,2,     87.1,2,    86.8,2,   96.80,2,   40.60,2,    0.00,2,    2.87,2,-999.000,9,-999.000,9,-999.0000,9,  -999.0,9,  -999.0,9,   -999.0,9,  -999.00,-999.0000,9,  -999.00,-999.000,9,-999.0000,9, -999.00,9, -999.00,9,  -999.0,9,-999.000,9,-999.000,-999.000,9,-999.000,9, -999.00,9, -999.00,9, -999.00,9, -999.00,9, -999.00,9,-999.000,   0.1649,2,   0.1182,2,   0.0677,2,   0.0497,2,   0.0318,2,   0.0127,2,   0.0035,2,   0.0145,2,   0.0144,2,   3.6181,     -999.0,9,     -999.0,9,     -999.0,9,     -999.0,9,     -999.0,9,     -999.0,9,     -999.0,9,-999.0000, -999.00
33RO20071215,        P18,      66,          1,         16,      12051,2,20080106,       1654,    -9.5820,  -103.5880,       4775,  1401.3,   3.1629,  34.5896,2,  34.5898,2,     97.5,2,    95.9,2,  109.50,2,   40.10,2,    0.00,2,    2.82,2,-999.000,9,-999.000,9,-999.0000,9,  2320.5,2,  2410.7,4,   -999.0,9,  -999.00,   7.4829,2,    25.00,-999.000,9,-999.0000,9, -999.00,9, -999.00,9,  -999.0,9,-999.000,9,-999.000,-999.000,9,-999.000,9, -999.00,9, -999.00,9, -999.00,9, -999.00,9, -999.00,9,-999.000,   0.1615,2,   0.1151,2,   0.0651,2,   0.0460,2,   0.0291,2,   0.0109,2,   0.0024,2,   0.0150,2,   0.0150,2,   3.0615,     -999.0,9,     -999.0,9,     -999.0,9,     -999.0,9,     -999.0,9,     -999.0,9,     -999.0,9,-999.0000, -999.00
33RO20071215,        P18,      66,          1,         15,      12014,2,20080106,       1654,    -9.5820,  -103.5880,       4775,  1600.5,   2.7188,  34.6137,2,  34.6141,2,    106.5,2,   106.8,2,  121.00,2,   39.20,2,    0.00,2,    2.76,2,-999.000,9,-999.000,9,-999.0000,9,  -999.0,9,  -999.0,9,   -999.0,9,  -999.00,-999.0000,9,  -999.00,-999.000,9,-999.0000,9, -999.00,9, -999.00,9,  -999.0,9,-999.000,9,-999.000,-999.000,9,-999.000,9, -999.00,9, -999.00,9, -999.00,9, -999.00,9, -999.00,9,-999.000,   0.1775,2,   0.1284,2,   0.0731,2,   0.0523,2,   0.0334,2,   0.0133,2,   0.0034,2,   0.0148,2,   0.0146,2,   2.6059,     -999.0,9,     -999.0,9,     -999.0,9,     -999.0,9,     -999.0,9,     -999.0,9,     -999.0,9,-999.0000, -999.00
33RO20071215,        P18,      66,          1,         14,      12013,2,20080106,       1654,    -9.5820,  -103.5880,       4775,  1801.0,   2.4585,  34.6301,2,  34.6305,2,    112.4,2,   111.0,2,  128.70,2,   38.80,2,    0.00,2,    2.70,2,-999.000,9,-999.000,9,-999.0000,9,  2331.9,2,  2430.0,4,   -999.0,9,  -999.00,   7.5172,2,    25.00,-999.000,9,-999.0000,9, -999.00,9, -999.00,9,  -999.0,9,-999.000,9,-999.000,-999.000,9,-999.000,9, -999.00,9, -999.00,9, -999.00,9, -999.00,9, -999.00,9,-999.000,   0.1666,2,   0.1205,2,   0.0693,2,   0.0490,2,   0.0313,2,   0.0124,2,   0.0031,2,   0.0147,2,   0.0146,2,   2.3321,     -999.0,9,     -999.0,9,     -999.0,9,     -999.0,9,     -999.0,9,     -999.0,9,     -999.0,9,-999.0000, -999.00
33RO20071215,        P18,      66,          1,         13,      12012,2,20080106,       1654,    -9.5820,  -103.5880,       4775,  2000.2,   2.2389,  34.6445,2,  34.6447,2,    116.7,2,   116.3,2,  134.70,2,   38.40,2,    0.00,2,    2.68,2,-999.000,9,-999.000,9,-999.0000,9,  -999.0,9,  -999.0,9,   -999.0,9,  -999.00,-999.0000,9,  -999.00,-999.000,9,-999.0000,9, -999.00,9, -999.00,9,  -999.0,9,-999.000,9,-999.000,-999.000,9,-999.000,9, -999.00,9, -999.00,9, -999.00,9, -999.00,9, -999.00,9,-999.000,   0.1856,2,   0.1360,2,   0.0793,2,   0.0570,2,   0.0376,2,   0.0170,2,   0.0057,2,   0.0141,2,   0.0139,2,   2.0987,     -999.0,9,     -999.0,9,     -999.0,9,     -999.0,9,     -999.0,9,     -999.0,9,     -999.0,9,-999.0000, -999.00
33RO20071215,        P18,      66,          1,         12,      12031,2,20080106,       1654,    -9.5820,  -103.5880,       4775,  2200.5,   2.0932,  34.6548,2,  34.6543,2,    120.6,2,   121.0,2,  138.30,2,   38.20,2,    0.00,2,    2.64,2,-999.000,9,-999.000,9,-999.0000,9,  2335.9,2,  2444.8,4,   -999.0,9,  -999.00,   7.5316,2,    25.00,-999.000,9,-999.0000,9, -999.00,9, -999.00,9,  -999.0,9,-999.000,9,-999.000,-999.000,9,-999.000,9, -999.00,9, -999.00,9, -999.00,9, -999.00,9, -999.00,9,-999.000,   0.1603,2,   0.1149,2,   0.0650,2,   0.0452,2,   0.0282,2,   0.0105,2,   0.0020,2,   0.0152,2,   0.0151,2,   1.9380,     -999.0,9,     -999.0,9,     -999.0,9,     -999.0,9,     -999.0,9,     -999.0,9,     -999.0,9,-999.0000, -999.00