BOTTLE,20220818CCHSIOAMB
EXPOCODE,SECT_ID,STNNBR,CASTNO,SAMPNO,BTLNBR,BTLNBR_FLAG_W,DATE,TIME,LATITUDE,LONGITUDE,DEPTH,CTDPRS,CTDTMP,CTDSAL,CTDSAL_FLAG_W,SALNTY,SALNTY_FLAG_W,CTDOXY,CTDOXY_FLAG_W,OXYGEN,OXYGEN_FLAG_W,SILCAT,SILCAT_FLAG_W,NITRAT,NITRAT_FLAG_W,NITRIT,NITRIT_FLAG_W,PHSPHT,PHSPHT_FLAG_W,CFC-11,CFC-11_FLAG_W,CFC-12,CFC-12_FLAG_W,SF6,SF6_FLAG_W,TCARBN,TCARBN_FLAG_W,ALKALI,ALKALI_FLAG_W,FCO2,FCO2_FLAG_W,FCO2TMP,PH_SWS,PH_SWS_FLAG_W,PH_TMP,TRITUM,TRITUM_FLAG_W,HELIUM,HELIUM_FLAG_W,DELHE3,DELHE3_FLAG_W,DELC13,DELC13_FLAG_W,DELC14,DELC14_FLAG_W,NEON,NEON_FLAG_W,NEONER,CCL4,CCL4_FLAG_W,POC,POC_FLAG_W,DOC,DOC_FLAG_W,TDN,TDN_FLAG_W,DON,DON_FLAG_W,CHLORA,CHLORA_FLAG_W,ARGON,ARGON_FLAG_W,TRITER,CDOM325,CDOM325_FLAG_W,CDOM340,CDOM340_FLAG_W,CDOM380,CDOM380_FLAG_W,CDOM412,CDOM412_FLAG_W,CDOM443,CDOM443_FLAG_W,CDOM490,CDOM490_FLAG_W,CDOM555,CDOM555_FLAG_W,CDOMSL,CDOMSL_FLAG_W,CDOMSN,CDOMSN_FLAG_W,THETA,D18O_NO3,D18O_NO3_FLAG_W,CDOM2C,CDOM2C_FLAG_W,CDOM3C,CDOM3C_FLAG_W,LAB_DEN,LAB_DEN_FLAG_W,DELSI30,DELSI30_FLAG_W,N2,N2_FLAG_W,D15N_NO3,D15N_NO3_FLAG_W,HELIER,DELHER
,,,,,,,,,,,METERS,DBAR,ITS-90,PSS-78,,PSS-78,,UMOL/KG,,UMOL/KG,,UMOL/KG,,UMOL/KG,,UMOL/KG,,UMOL/KG,,PMOL/KG,,PMOL/KG,,FMOL/KG,,UMOL/KG,,UMOL/KG,,UATM,,DEG C,,,DEG C,TU,,NMOL/KG,,PERCNT,,/MILLE,,/MILLE,,NMOL/KG,,NMOL/KG,PMOL/KG,,UG/KG,,UMOL/KG,,UMOL/KG,,UMOL/KG,,UG/KG,,UMOL/KG,,TU,1/M,,1/M,,1/M,,1/M,,1/M,,1/M,,1/M,,1/NM,,1/NM,,DEG C,/MILLE,,,,,,,,/MILLE,,UMOL/KG,,/MILLE,,NMOL/KG,PERCNT
33RO20071215,        P18,      67,          1,         36,      12017,2,20080107,       0025,   -10.0002,  -103.0003,       4559,     7.1,  22.8559,  35.6177,2,  35.6182,2,    220.9,2,   221.3,2,    1.30,2,    7.50,2,    0.22,2,    0.61,2,   2.021,2,   1.235,2,   1.0808,2,  2062.1,6,  2380.3,4,    370.1,2,    20.00,   7.9934,2,    25.00,   0.373,2,   1.7216,2,   -1.54,2,    1.37,2,  -999.0,1,   6.847,2,   0.023,-999.000,9,-999.000,9,   66.77,2,   12.29,2, -999.00,1, -999.00,9, -999.00,9,   0.009,-999.0000,9,-999.0000,9,-999.0000,9,-999.0000,9,-999.0000,9,-999.0000,9,-999.0000,9,-999.0000,9,-999.0000,9,  22.8545,     -999.0,9,     -999.0,9,     -999.0,9,     -999.0,1,     -999.0,9,     -999.0,9,     -999.0,9,   0.0048,    0.15
33RO20071215,        P18,      67,          1,         35,      12029,2,20080107,       0025,   -10.0002,  -103.0003,       4559,    14.5,  22.8420,  35.6158,2,  35.6164,2,    221.4,2,   221.9,2,    1.40,2,    7.50,2,    0.21,2,    0.64,2,   1.984,6,   1.228,6,   1.0326,6,  2063.7,2,  2350.3,2,   -999.0,9,  -999.00,   8.0090,2,    25.00,-999.000,9,-999.0000,9, -999.00,9, -999.00,9,  -999.0,9,-999.000,9,-999.000,-999.000,9,-999.000,9,   66.31,2,   12.13,2, -999.00,1, -999.00,9, -999.00,9,-999.000,-999.0000,9,-999.0000,9,-999.0000,9,-999.0000,9,-999.0000,9,-999.0000,9,-999.0000,9,-999.0000,9,-999.0000,9,  22.8391,     -999.0,9,     -999.0,9,     -999.0,9,     -999.0,1,     -999.0,9,     -999.0,9,     -999.0,9,-999.0000, -999.00
33RO20071215,        P18,      67,          1,         34,      12049,2,20080107,       0025,   -10.0002,  -103.0003,       4559,    33.5,  22.6856,  35.6152,2,  35.6194,2,    222.5,2,   222.0,2,    1.50,2,    7.50,2,    0.21,2,    0.65,2,   2.024,2,   1.241,2,   1.1219,2,  2064.2,2,  2379.9,4,    371.5,2,    20.00,   7.9944,2,    25.00,-999.000,9,-999.0000,9, -999.00,9, -999.00,9,  -999.0,9,-999.000,9,-999.000,-999.000,9,-999.000,9,   65.83,2,   12.53,2, -999.00,1, -999.00,9, -999.00,9,-999.000,-999.0000,9,-999.0000,9,-999.0000,9,-999.0000,9,-999.0000,9,-999.0000,9,-999.0000,9,-999.0000,9,-999.0000,9,  22.6788,     -999.0,9,     -999.0,9,     -999.0,9,     -999.0,1,     -999.0,9,     -999.0,9,     -999.0,9,-999.0000, -999.00
33RO20071215,        P18,      67,          1,         33,      12027,2,20080107,       0025,   -10.0002,  -103.0003,       4559,    58.6,  21.0980,  35.6811,2,  35.6907,2,    218.3,2,   216.2,2,    2.50,2,    6.60,2,    0.28,2,    0.71,2,   2.115,2,   1.298,2,   1.0669,2,  2086.6,2,  2359.6,2,    405.0,2,    20.00,   7.9584,2,    25.00,   0.377,2,-999.0000,9, -999.00,9, -999.00,9,  -999.0,9,-999.000,9,-999.000,-999.000,9,-999.000,9,   63.23,2,   11.32,2, -999.00,1, -999.00,9, -999.00,9,   0.011,-999.0000,9,-999.0000,9,-999.0000,9,-999.0000,9,-999.0000,9,-999.0000,9,-999.0000,9,-999.0000,9,-999.0000,9,  21.0868,     -999.0,9,     -999.0,9,     -999.0,9,     -999.0,1,     -999.0,9,     -999.0,9,     -999.0,9,-999.0000, -999.00
33RO20071215,        P18,      67,          1,         32,      12023,2,20080107,       0025,   -10.0002,  -103.0003,       4559,    80.7,  20.7457,  35.8214,2,  35.8264,2,    206.3,2,   206.3,2,    1.70,2,    2.90,2,    1.08,2,    0.54,2,   2.175,2,   1.311,2,   1.1118,2,  2089.9,2,  2369.3,2,    395.9,2,    20.00,   7.9975,2,    25.00,-999.000,9,-999.0000,9, -999.00,9, -999.00,9,  -999.0,9,-999.000,9,-999.000,-999.000,9,-999.000,9,   62.77,2,    8.77,2, -999.00,1, -999.00,9, -999.00,9,-999.000,-999.0000,9,-999.0000,9,-999.0000,9,-999.0000,9,-999.0000,9,-999.0000,9,-999.0000,9,-999.0000,9,-999.0000,9,  20.7304,     -999.0,9,     -999.0,9,     -999.0,9,     -999.0,1,     -999.0,9,     -999.0,9,     -999.0,9,-999.0000, -999.00
33RO20071215,        P18,      67,          1,         31,      12037,2,20080107,       0025,   -10.0002,  -103.0003,       4559,   107.4,  20.3592,  35.7826,2,  35.7771,2,    207.1,2,   207.9,2,    1.60,2,    2.60,2,    1.11,2,    0.52,2,   2.174,2,   1.329,2,   1.1206,2,  2092.8,2,  2366.0,2,    405.1,2,    20.00,   7.9639,2,    25.00,   0.313,2,   1.7301,2,   -1.64,2, -999.00,9,  -999.0,9,   6.936,2,   0.024,-999.000,9,-999.000,9,   57.52,2,    7.78,2, -999.00,1, -999.00,9, -999.00,9,   0.007,-999.0000,9,-999.0000,9,-999.0000,9,-999.0000,9,-999.0000,9,-999.0000,9,-999.0000,9,-999.0000,9,-999.0000,9,  20.3390,     -999.0,9,     -999.0,9,     -999.0,9,     -999.0,1,     -999.0,9,     -999.0,9,     -999.0,9,   0.0048,    0.15
33RO20071215,        P18,      67,          1,         30,      12036,2,20080107,       0025,   -10.0002,  -103.0003,       4559,   133.7,  16.7172,  35.1460,2,  35.1131,2,    157.6,2,   151.7,2,    3.90,2,   12.40,2,    0.09,2,    1.08,2,   2.468,2,   1.439,2,   1.0306,2,  2134.9,2,  2325.8,2,    628.4,2,    20.00,   7.8159,2,    25.00,-999.000,9,-999.0000,9, -999.00,9, -999.00,9,  -999.0,9,-999.000,9,-999.000,-999.000,9,-999.000,9,   54.65,2,   16.07,2, -999.00,1, -999.00,9, -999.00,9,-999.000,-999.0000,9,-999.0000,9,-999.0000,9,-999.0000,9,-999.0000,9,-999.0000,9,-999.0000,9,-999.0000,9,-999.0000,9,  16.6954,     -999.0,9,     -999.0,9,     -999.0,9,     -999.0,1,     -999.0,9,     -999.0,9,     -999.0,9,-999.0000, -999.00
33RO20071215,        P18,      67,          1,         29,      12044,2,20080107,       0025,   -10.0002,  -103.0003,       4559,   157.6,  13.8294,  34.7801,2,-999.0000,9,     68.0,2,    62.1,2,   11.30,2,   21.50,2,    0.02,2,    2.00,2,   2.135,2,   1.213,2,   0.6917,2,  2210.5,2,  2322.2,4,   1194.1,6,    20.00,   7.5576,2,    25.00,   0.246,2,   1.7611,2,    0.88,2, -999.00,9,  -999.0,9,   7.260,2,   0.025,-999.000,9,-999.000,9,   52.47,2,   24.74,2, -999.00,1, -999.00,9, -999.00,9,   0.006,-999.0000,9,-999.0000,9,-999.0000,9,-999.0000,9,-999.0000,9,-999.0000,9,-999.0000,9,-999.0000,9,-999.0000,9,  13.8069,     -999.0,9,     -999.0,9,     -999.0,9,     -999.0,1,     -999.0,9,     -999.0,9,     -999.0,9,   0.0049,    0.15
33RO20071215,        P18,      67,          1,         28,      12057,2,20080107,       0025,   -10.0002,  -103.0003,       4559,   182.6,  12.8106,  34.8236,2,  34.8238,2,      8.6,2,     5.3,2,   20.30,2,   24.30,2,    0.01,2,    2.56,2,   1.194,2,   0.673,2,   0.2671,2,  2256.4,2,  2328.4,4,   -999.0,9,  -999.00,   7.4286,2,    25.00,-999.000,9,-999.0000,9, -999.00,9, -999.00,9,  -999.0,9,-999.000,9,-999.000,-999.000,9,-999.000,9,   50.06,2,   26.82,2, -999.00,1, -999.00,9, -999.00,9,-999.000,-999.0000,9,-999.0000,9,-999.0000,9,-999.0000,9,-999.0000,9,-999.0000,9,-999.0000,9,-999.0000,9,-999.0000,9,  12.7858,     -999.0,9,     -999.0,9,     -999.0,9,     -999.0,9,     -999.0,9,     -999.0,9,     -999.0,9,-999.0000, -999.00
33RO20071215,        P18,      67,          1,         27,      12026,2,20080107,       0025,   -10.0002,  -103.0003,       4559,   216.9,  11.8918,  34.8148,2,  34.8120,2,      9.1,2,    11.3,2,   23.40,2,   28.60,2,    0.01,2,    2.51,2,   0.679,2,   0.380,2,   0.1381,2,  2254.4,2,  2329.5,4,   1618.5,2,    20.00,   7.4368,2,    25.00,-999.000,9,   1.7736,2,    3.94,2, -999.00,9,  -999.0,9,   7.303,2,   0.025,-999.000,9,-999.000,9,   49.26,2,   30.92,2, -999.00,1, -999.00,9, -999.00,9,-999.000,-999.0000,9,-999.0000,9,-999.0000,9,-999.0000,9,-999.0000,9,-999.0000,9,-999.0000,9,-999.0000,9,-999.0000,9,  11.8637,     -999.0,9,     -999.0,9,     -999.0,9,     -999.0,1,     -999.0,9,     -999.0,9,     -999.0,9,   0.0050,    0.15
33RO20071215,        P18,      67,          1,         26,      12030,2,20080107,       0025,   -10.0002,  -103.0003,       4559,   265.6,  10.9578,  34.8032,2,  34.8029,2,     20.2,2,    19.9,2,   27.00,2,   32.90,2,    0.00,2,    2.43,2,   0.408,2,   0.231,2,   0.0604,2,  2252.1,2,  2306.9,2,   -999.0,9,  -999.00,   7.4536,2,    25.00,-999.000,9,   1.7771,2,    4.31,2, -999.00,9,  -999.0,9,   7.360,2,   0.025,-999.000,9,-999.000,9,   47.84,2,   34.41,2, -999.00,1, -999.00,9, -999.00,9,-999.000,-999.0000,9,-999.0000,9,-999.0000,9,-999.0000,9,-999.0000,9,-999.0000,9,-999.0000,9,-999.0000,9,-999.0000,9,  10.9251,     -999.0,9,     -999.0,9,     -999.0,9,     -999.0,9,     -999.0,9,     -999.0,9,     -999.0,9,   0.0050,    0.15
33RO20071215,        P18,      67,          1,         25,      12024,2,20080107,       0025,   -10.0002,  -103.0003,       4559,   317.5,  10.1524,  34.7561,2,  34.7546,2,     15.8,2,    16.8,2,   31.30,2,   35.30,2,    0.00,2,    2.56,2,   0.219,2,   0.125,2,   0.0365,2,  2261.4,2,  2309.0,2,   1683.8,2,    20.00,   7.4243,2,    25.00,   0.051,2,   1.7877,2,    4.44,2, -999.00,9,  -999.0,9,   7.467,2,   0.025,-999.000,9,-999.000,9,   45.96,2,   36.39,2, -999.00,1, -999.00,9, -999.00,9,   0.006,-999.0000,9,-999.0000,9,-999.0000,9,-999.0000,9,-999.0000,9,-999.0000,9,-999.0000,9,-999.0000,9,-999.0000,9,  10.1150,     -999.0,9,     -999.0,9,     -999.0,9,     -999.0,1,     -999.0,9,     -999.0,9,     -999.0,9,   0.0050,    0.15
33RO20071215,        P18,      67,          1,         24,      12019,2,20080107,       0025,   -10.0002,  -103.0003,       4559,   362.2,   9.5698,  34.7178,2,  34.7164,2,     11.8,2,    12.5,2,   33.60,2,   37.10,2,    0.00,2,    2.67,2,   0.121,2,   0.069,2,   0.0000,2,  2268.7,2,  2306.2,2,   -999.0,9,  -999.00,   7.3957,2,    25.00,   0.042,2,   1.7815,2,    4.67,2, -999.00,9,  -999.0,9,   7.476,2,   0.025,-999.000,9,-999.000,9,   45.16,2,   38.49,2, -999.00,1, -999.00,9, -999.00,9,   0.006,-999.0000,9,-999.0000,9,-999.0000,9,-999.0000,9,-999.0000,9,-999.0000,9,-999.0000,9,-999.0000,9,-999.0000,9,   9.5287,     -999.0,9,     -999.0,9,     -999.0,9,     -999.0,1,     -999.0,9,     -999.0,9,     -999.0,9,   0.0050,    0.15
33RO20071215,        P18,      67,          1,         23,      12022,2,20080107,       0025,   -10.0002,  -103.0003,       4559,   432.1,   8.7701,  34.6670,2,  34.6675,2,     10.3,2,    10.9,2,   37.00,2,   39.30,2,    0.00,2,    2.81,2,   0.046,2,   0.029,2,   0.0000,2,  2276.2,2,  2307.6,2,   -999.0,9,  -999.00,   7.3810,2,    25.00,   0.018,2,   1.8046,2,    4.61,2, -999.00,9,  -999.0,9,   7.554,2,   0.026,-999.000,9,-999.000,9,   43.65,2,   40.23,2, -999.00,1, -999.00,9, -999.00,9,   0.006,-999.0000,9,-999.0000,9,-999.0000,9,-999.0000,9,-999.0000,9,-999.0000,9,-999.0000,9,-999.0000,9,-999.0000,9,   8.7234,     -999.0,9,     -999.0,9,     -999.0,9,     -999.0,9,     -999.0,9,     -999.0,9,     -999.0,9,   0.0051,    0.15
33RO20071215,        P18,      67,          1,         22,      12015,2,20080107,       0025,   -10.0002,  -103.0003,       4559,   534.0,   7.6177,  34.6022,2,  34.5997,2,     16.4,2,    16.5,2,   42.50,2,   42.10,2,    0.00,2,    2.98,2,   0.013,2,   0.009,2,   0.0000,2,  2284.0,2,  2310.6,2,   1928.7,2,    20.00,   7.3651,2,    25.00,   0.007,2,   1.8010,2,    6.32,2, -999.00,9,  -999.0,9,   7.587,2,   0.026,-999.000,9,-999.000,9,   41.24,2,   43.51,2, -999.00,1, -999.00,9, -999.00,9,   0.006,-999.0000,9,-999.0000,9,-999.0000,9,-999.0000,9,-999.0000,9,-999.0000,9,-999.0000,9,-999.0000,9,-999.0000,9,   7.5643,     -999.0,9,     -999.0,9,     -999.0,9,     -999.0,9,     -999.0,9,     -999.0,9,     -999.0,9,   0.0050,    0.15
33RO20071215,        P18,      67,          1,         21,      12020,2,20080107,       0025,   -10.0002,  -103.0003,       4559,   625.0,   6.6296,  34.5600,2,  34.5595,2,     25.5,2,    26.8,2,   49.20,2,   43.70,2,    0.00,2,    3.04,2,   0.001,2,   0.002,2,   0.0000,2,  2289.5,2,  2338.7,4,   -999.0,9,  -999.00,   7.3737,2,    25.00,   0.009,2,   1.8187,2,    7.96,2, -999.00,9,  -999.0,9,   7.674,2,   0.026,-999.000,9,-999.000,9,   40.58,2,   45.00,2, -999.00,1, -999.00,9, -999.00,9,   0.006,-999.0000,9,-999.0000,9,-999.0000,9,-999.0000,9,-999.0000,9,-999.0000,9,-999.0000,9,-999.0000,9,-999.0000,9,   6.5714,     -999.0,9,     -999.0,9,     -999.0,9,     -999.0,9,     -999.0,9,     -999.0,9,     -999.0,9,   0.0051,    0.15
33RO20071215,        P18,      67,          1,         20,      12055,2,20080107,       0025,   -10.0002,  -103.0003,       4559,   731.9,   5.7497,  34.5393,2,  34.5385,2,     37.0,2,    38.1,2,   59.80,2,   44.20,2,    0.00,2,    3.08,2,   0.001,2,   0.001,2,   0.0000,2,  2297.5,2,  2349.1,4,   -999.0,9,  -999.00,   7.3814,2,    25.00,  -0.006,2,   1.8337,2,   10.97,2, -999.00,9,  -999.0,9,   7.742,2,   0.026,-999.000,9,-999.000,9,   39.80,2,   45.55,2, -999.00,1, -999.00,9, -999.00,9,   0.006,-999.0000,9,-999.0000,9,-999.0000,9,-999.0000,9,-999.0000,9,-999.0000,9,-999.0000,9,-999.0000,9,-999.0000,9,   5.6859,     -999.0,9,     -999.0,9,     -999.0,9,     -999.0,1,     -999.0,9,     -999.0,9,     -999.0,9,   0.0051,    0.15
33RO20071215,        P18,      67,          1,         19,      12018,2,20080107,       0025,   -10.0002,  -103.0003,       4559,   832.9,   5.1510,  34.5352,2,  34.5350,2,     52.9,2,    53.1,2,   68.10,2,   43.40,2,    0.00,2,    3.04,2,   0.001,2,   0.001,2,   0.0000,2,  2297.9,2,  2358.9,4,   -999.0,9,  -999.00,   7.4108,2,    25.00,   0.011,2,   1.8700,2,   12.25,2, -999.00,9,  -999.0,9,   7.966,2,   0.027,-999.000,9,-999.000,9,   39.00,2,   44.63,2, -999.00,1, -999.00,9, -999.00,9,   0.006,-999.0000,9,-999.0000,9,-999.0000,9,-999.0000,9,-999.0000,9,-999.0000,9,-999.0000,9,-999.0000,9,-999.0000,9,   5.0816,     -999.0,9,     -999.0,9,     -999.0,9,     -999.0,9,     -999.0,9,     -999.0,9,     -999.0,9,   0.0052,    0.15
33RO20071215,        P18,      67,          1,         18,      12025,2,20080107,       0025,   -10.0002,  -103.0003,       4559,   933.0,   4.6399,  34.5401,2,  34.5398,2,     66.8,2,    66.6,2,   77.00,2,   42.40,2,    0.00,2,    2.99,2,  -0.001,2,   0.000,2,   0.0000,2,  2301.0,2,  2369.4,4,   1694.6,2,    20.00,   7.4289,2,    25.00,   0.001,2,   1.8809,2,   14.51,2, -999.00,9,  -999.0,9,   7.881,2,   0.027,-999.000,9,-999.000,9,   38.04,2,   44.10,2, -999.00,1, -999.00,9, -999.00,9,   0.006,-999.0000,9,-999.0000,9,-999.0000,9,-999.0000,9,-999.0000,9,-999.0000,9,-999.0000,9,-999.0000,9,-999.0000,9,   4.5651,     -999.0,9,     -999.0,9,     -999.0,9,     -999.0,9,     -999.0,9,     -999.0,9,     -999.0,9,   0.0053,    0.15
33RO20071215,        P18,      67,          1,         17,      12016,2,20080107,       0025,   -10.0002,  -103.0003,       4559,  1033.6,   4.2245,  34.5496,2,  34.5505,2,     77.2,2,    77.7,2,   85.90,2,   41.60,2,    0.00,2,    2.94,2,-999.000,9,-999.000,9,-999.0000,9,  -999.0,9,  -999.0,9,   -999.0,9,  -999.00,-999.0000,9,  -999.00,  -0.017,2,   1.8701,2,   17.49,2, -999.00,9,  -999.0,9,   7.902,2,   0.027,-999.000,9,-999.000,9,   38.56,2,   42.85,2, -999.00,1, -999.00,9, -999.00,9,   0.006,-999.0000,9,-999.0000,9,-999.0000,9,-999.0000,9,-999.0000,9,-999.0000,9,-999.0000,9,-999.0000,9,-999.0000,9,   4.1441,     -999.0,9,     -999.0,9,     -999.0,9,     -999.0,9,     -999.0,9,     -999.0,9,     -999.0,9,   0.0052,    0.15
33RO20071215,        P18,      67,          1,         16,      12051,2,20080107,       0025,   -10.0002,  -103.0003,       4559,  1265.7,   3.4818,  34.5756,2,  34.5768,2,     88.9,2,    88.5,2,  102.80,2,   40.80,2,    0.00,2,    2.89,2,  -0.001,2,   0.000,2,   0.0000,2,  2316.2,2,  2393.9,4,   1545.0,2,    20.00,   7.4679,2,    25.00,-999.000,9,-999.0000,9, -999.00,9, -999.00,9,  -999.0,9,-999.000,9,-999.000,-999.000,9,-999.000,9,   38.46,2,   42.45,2, -999.00,9, -999.00,9, -999.00,9,-999.000,-999.0000,9,-999.0000,9,-999.0000,9,-999.0000,9,-999.0000,9,-999.0000,9,-999.0000,9,-999.0000,9,-999.0000,9,   3.3883,     -999.0,9,     -999.0,9,     -999.0,9,     -999.0,1,     -999.0,9,     -999.0,9,     -999.0,9,-999.0000, -999.00
33RO20071215,        P18,      67,          1,         15,      12014,2,20080107,       0025,   -10.0002,  -103.0003,       4559,  1456.7,   2.9998,  34.6002,2,  34.6006,2,     92.4,2,    93.0,2,  116.50,2,   40.50,2,    0.00,2,    2.86,2,-999.000,9,-999.000,9,-999.0000,9,  -999.0,9,  -999.0,9,   -999.0,9,  -999.00,-999.0000,9,  -999.00,-999.000,9,-999.0000,9, -999.00,9, -999.00,9,  -999.0,9,-999.000,9,-999.000,-999.000,9,-999.000,9,   38.43,2,   41.42,2, -999.00,9, -999.00,9, -999.00,9,-999.000,-999.0000,9,-999.0000,9,-999.0000,9,-999.0000,9,-999.0000,9,-999.0000,9,-999.0000,9,-999.0000,9,-999.0000,9,   2.8955,     -999.0,9,     -999.0,9,     -999.0,9,     -999.0,9,     -999.0,9,     -999.0,9,     -999.0,9,-999.0000, -999.00
33RO20071215,        P18,      67,          1,         14,      12013,2,20080107,       0025,   -10.0002,  -103.0003,       4559,  1667.0,   2.6482,  34.6202,2,  34.6210,2,    103.0,2,   103.4,2,  126.30,2,   39.60,2,    0.00,2,    2.79,2,  -0.001,2,   0.000,2,   0.0000,2,  2332.5,2,  2395.3,2,   1461.4,2,    20.00,   7.4919,2,    25.00,-999.000,9,-999.0000,9, -999.00,9, -999.00,9,  -999.0,9,-999.000,9,-999.000,-999.000,9,-999.000,9,   38.51,2,   40.71,2, -999.00,9, -999.00,9, -999.00,9,-999.000,-999.0000,9,-999.0000,9,-999.0000,9,-999.0000,9,-999.0000,9,-999.0000,9,-999.0000,9,-999.0000,9,-999.0000,9,   2.5305,     -999.0,9,     -999.0,9,     -999.0,9,     -999.0,9,     -999.0,9,     -999.0,9,     -999.0,9,-999.0000, -999.00
33RO20071215,        P18,      67,          1,         13,      12012,2,20080107,       0025,   -10.0002,  -103.0003,       4559,  1866.7,   2.3529,  34.6382,2,  34.6386,2,    109.9,2,   109.5,2,  134.50,2,   39.20,2,    0.00,2,    2.71,2,-999.000,9,-999.000,9,-999.0000,9,  -999.0,9,  -999.0,9,   -999.0,9,  -999.00,-999.0000,9,  -999.00,-999.000,9,-999.0000,9, -999.00,9, -999.00,9,  -999.0,9,-999.000,9,-999.000,-999.000,9,-999.000,9,   38.06,2,   40.85,2, -999.00,9, -999.00,9, -999.00,9,-999.000,-999.0000,9,-999.0000,9,-999.0000,9,-999.0000,9,-999.0000,9,-999.0000,9,-999.0000,9,-999.0000,9,-999.0000,9,   2.2225,     -999.0,9,     -999.0,9,     -999.0,9,     -999.0,9,     -999.0,9,     -999.0,9,     -999.0,9,-999.0000, -999.00
33RO20071215,        P18,      67,          1,         12,      12031,2,20080107,       0025,   -10.0002,  -103.0003,       4559,  2067.0,   2.1599,  34.6505,2,  34.6511,2,    115.8,2,   115.5,2,  138.90,2,   38.70,2,    0.00,2,    2.67,2,   0.000,2,   0.001,2,   0.0000,2,  -999.0,9,  -999.0,9,   -999.0,9,  -999.00,-999.0000,9,  -999.00,-999.000,9,-999.0000,9, -999.00,9, -999.00,9,  -999.0,9,-999.000,9,-999.000,   0.004,3,-999.000,9,   37.26,2,   40.06,2, -999.00,9, -999.00,9, -999.00,9,-999.000,-999.0000,9,-999.0000,9,-999.0000,9,-999.0000,9,-999.0000,9,-999.0000,9,-999.0000,9,-999.0000,9,-999.0000,9,   2.0152,     -999.0,9,     -999.0,9,     -999.0,9,     -999.0,1,     -999.0,9,     -999.0,9,     -999.0,9,-999.0000, -999.00