BOTTLE,20220818CCHSIOAMB
EXPOCODE,SECT_ID,STNNBR,CASTNO,SAMPNO,BTLNBR,BTLNBR_FLAG_W,DATE,TIME,LATITUDE,LONGITUDE,DEPTH,CTDPRS,CTDTMP,CTDSAL,CTDSAL_FLAG_W,SALNTY,SALNTY_FLAG_W,CTDOXY,CTDOXY_FLAG_W,OXYGEN,OXYGEN_FLAG_W,SILCAT,SILCAT_FLAG_W,NITRAT,NITRAT_FLAG_W,NITRIT,NITRIT_FLAG_W,PHSPHT,PHSPHT_FLAG_W,CFC-11,CFC-11_FLAG_W,CFC-12,CFC-12_FLAG_W,SF6,SF6_FLAG_W,TCARBN,TCARBN_FLAG_W,ALKALI,ALKALI_FLAG_W,FCO2,FCO2_FLAG_W,FCO2TMP,PH_SWS,PH_SWS_FLAG_W,PH_TMP,TRITUM,TRITUM_FLAG_W,HELIUM,HELIUM_FLAG_W,DELHE3,DELHE3_FLAG_W,DELC13,DELC13_FLAG_W,DELC14,DELC14_FLAG_W,NEON,NEON_FLAG_W,NEONER,CCL4,CCL4_FLAG_W,POC,POC_FLAG_W,DOC,DOC_FLAG_W,TDN,TDN_FLAG_W,DON,DON_FLAG_W,CHLORA,CHLORA_FLAG_W,ARGON,ARGON_FLAG_W,TRITER,CDOM325,CDOM325_FLAG_W,CDOM340,CDOM340_FLAG_W,CDOM380,CDOM380_FLAG_W,CDOM412,CDOM412_FLAG_W,CDOM443,CDOM443_FLAG_W,CDOM490,CDOM490_FLAG_W,CDOM555,CDOM555_FLAG_W,CDOMSL,CDOMSL_FLAG_W,CDOMSN,CDOMSN_FLAG_W,THETA,D18O_NO3,D18O_NO3_FLAG_W,CDOM2C,CDOM2C_FLAG_W,CDOM3C,CDOM3C_FLAG_W,LAB_DEN,LAB_DEN_FLAG_W,DELSI30,DELSI30_FLAG_W,N2,N2_FLAG_W,D15N_NO3,D15N_NO3_FLAG_W,HELIER,DELHER
,,,,,,,,,,,METERS,DBAR,ITS-90,PSS-78,,PSS-78,,UMOL/KG,,UMOL/KG,,UMOL/KG,,UMOL/KG,,UMOL/KG,,UMOL/KG,,PMOL/KG,,PMOL/KG,,FMOL/KG,,UMOL/KG,,UMOL/KG,,UATM,,DEG C,,,DEG C,TU,,NMOL/KG,,PERCNT,,/MILLE,,/MILLE,,NMOL/KG,,NMOL/KG,PMOL/KG,,UG/KG,,UMOL/KG,,UMOL/KG,,UMOL/KG,,UG/KG,,UMOL/KG,,TU,1/M,,1/M,,1/M,,1/M,,1/M,,1/M,,1/M,,1/NM,,1/NM,,DEG C,/MILLE,,,,,,,,/MILLE,,UMOL/KG,,/MILLE,,NMOL/KG,PERCNT
33RO20071215,        P18,      24,          1,         36,      12017,2,20071223,       1644,    10.9175,  -110.0005,       3841,     5.0,  27.3197,  32.8892,2,  32.8919,2,    205.0,2,   204.0,2,    1.20,2,    0.00,2,    0.00,2,    0.05,2,   1.644,6,   1.048,6,   0.9424,6,  1862.3,6,  2166.7,2,   -999.0,9,  -999.00,   8.0898,2,    25.00,-999.000,9,-999.0000,9, -999.00,9, -999.00,9,  -999.0,9,-999.000,9,-999.000,-999.000,9,-999.000,9, -999.00,9, -999.00,9, -999.00,1,    0.10,2, -999.00,9,-999.000,   0.0695,2,   0.0452,2,   0.0162,2,   0.0108,2,   0.0064,2,   0.0031,2,   0.0002,3,   0.0216,2,   0.0262,2,  27.3186,     -999.0,9,     -999.0,9,     -999.0,9,     -999.0,9,     -999.0,9,     -999.0,9,     -999.0,9,-999.0000, -999.00
33RO20071215,        P18,      24,          1,         35,      12029,2,20071223,       1644,    10.9175,  -110.0005,       3841,     9.4,  27.2595,  32.8880,2,  32.8893,2,    205.1,2,   204.8,2,    1.20,2,    0.10,2,    0.00,2,    0.06,2,   1.643,2,   1.046,2,   1.0501,2,  1860.9,2,  2166.7,2,   -999.0,9,  -999.00,   8.1003,2,    25.00,-999.000,9,-999.0000,9, -999.00,9, -999.00,9,  -999.0,9,-999.000,9,-999.000,-999.000,9,-999.000,9,   72.25,2,    5.03,2, -999.00,1,    0.10,2, -999.00,9,-999.000,   0.0635,2,   0.0404,2,   0.0150,2,   0.0107,2,   0.0064,2,   0.0029,2,   0.0001,4,   0.0206,2,   0.0258,2,  27.2573,     -999.0,9,     -999.0,9,     -999.0,9,     -999.0,9,     -999.0,9,     -999.0,9,     -999.0,9,-999.0000, -999.00
33RO20071215,        P18,      24,          1,         34,      12049,2,20071223,       1644,    10.9175,  -110.0005,       3841,    19.9,  27.2035,  32.8881,2,  32.8909,2,    205.4,2,   203.1,2,    1.30,2,    0.20,2,    0.00,2,    0.09,2,   1.645,2,   1.048,2,   1.1190,2,  1861.0,2,  2166.7,2,   -999.0,9,  -999.00,   8.0938,2,    25.00,-999.000,9,-999.0000,9, -999.00,9, -999.00,9,  -999.0,9,-999.000,9,-999.000,-999.000,9,-999.000,9, -999.00,9, -999.00,9, -999.00,1,    0.11,2, -999.00,9,-999.000,   0.0656,2,   0.0425,2,   0.0174,2,   0.0131,2,   0.0079,2,   0.0032,2,   0.0000,4,   0.0173,2,   0.0226,2,  27.1989,     -999.0,9,     -999.0,9,     -999.0,9,     -999.0,9,     -999.0,9,     -999.0,9,     -999.0,9,-999.0000, -999.00
33RO20071215,        P18,      24,          1,         33,      12027,2,20071223,       1644,    10.9175,  -110.0005,       3841,    42.2,  26.0895,  34.0280,2,  34.1066,2,    203.8,2,   191.4,2,    2.80,2,    1.70,2,    0.09,2,    0.30,2,   1.688,2,   1.051,2,   0.9005,2,  1970.3,2,  2250.3,2,   -999.0,9,  -999.00,   8.0226,2,    25.00,-999.000,9,-999.0000,9, -999.00,9, -999.00,9,  -999.0,9,-999.000,9,-999.000,-999.000,9,-999.000,9,   67.11,2,    6.77,2, -999.00,1,    0.28,2, -999.00,9,-999.000,   0.1864,2,   0.1318,2,   0.0662,2,   0.0475,2,   0.0292,2,   0.0146,2,   0.0060,2,   0.0146,2,   0.0164,2,  26.0801,     -999.0,9,     -999.0,9,     -999.0,9,     -999.0,9,     -999.0,9,     -999.0,9,     -999.0,9,-999.0000, -999.00
33RO20071215,        P18,      24,          1,         32,      12023,2,20071223,       1644,    10.9175,  -110.0005,       3841,    67.0,  19.4594,  34.5882,2,  34.6312,2,     60.5,2,    41.1,2,   15.20,2,   23.60,2,    0.67,2,    1.81,2,   1.393,2,   0.810,2,   0.4755,2,  2178.3,2,  2280.4,2,   -999.0,9,  -999.00,   7.6138,2,    25.00,-999.000,9,-999.0000,9, -999.00,9, -999.00,9,  -999.0,9,-999.000,9,-999.000,-999.000,9,-999.000,9, -999.00,9, -999.00,9, -999.00,1,    0.16,2, -999.00,9,-999.000,   0.2486,2,   0.1814,2,   0.0971,2,   0.0736,2,   0.0442,2,   0.0206,2,   0.0089,2,   0.0144,2,   0.0149,2,  19.4473,     -999.0,9,     -999.0,9,     -999.0,9,     -999.0,9,     -999.0,9,     -999.0,9,     -999.0,9,-999.0000, -999.00
33RO20071215,        P18,      24,          1,         31,      12037,2,20071223,       1644,    10.9175,  -110.0005,       3841,    92.0,  14.1588,  34.7727,2,  34.7734,2,      7.1,2,     5.9,2,   23.10,2,   31.00,2,    0.06,2,    2.25,2,   1.067,2,   0.595,2,   0.2736,2,  2234.2,2,  2293.4,2,   -999.0,9,  -999.00,   7.4742,2,    25.00,-999.000,9,-999.0000,9, -999.00,9, -999.00,9,  -999.0,9,-999.000,9,-999.000,-999.000,9,-999.000,9,   51.48,2,   34.54,2, -999.00,1,    0.03,2, -999.00,9,-999.000,   0.2335,2,   0.1744,2,   0.1038,2,   0.0843,2,   0.0530,2,   0.0257,2,   0.0116,2,   0.0129,2,   0.0126,2,  14.1455,     -999.0,9,     -999.0,9,     -999.0,9,     -999.0,9,     -999.0,9,     -999.0,9,     -999.0,9,-999.0000, -999.00
33RO20071215,        P18,      24,          1,         30,      12036,2,20071223,       1644,    10.9175,  -110.0005,       3841,   117.1,  13.2035,  34.7967,2,  34.7949,2,      7.6,2,     7.0,2,   24.80,2,   32.10,2,    0.02,2,    2.23,2,   0.984,6,   0.541,6,   0.2026,6,  2237.8,2,  2293.4,2,   -999.0,9,  -999.00,   7.4723,2,    25.00,-999.000,9,-999.0000,9, -999.00,9, -999.00,9,  -999.0,9,-999.000,9,-999.000,-999.000,9,-999.000,9, -999.00,9, -999.00,9, -999.00,1,    0.02,2, -999.00,9,-999.000,   0.1952,2,   0.1436,2,   0.0845,2,   0.0694,2,   0.0414,2,   0.0178,2,   0.0069,2,   0.0142,2,   0.0132,2,  13.1873,     -999.0,9,     -999.0,9,     -999.0,9,     -999.0,9,     -999.0,9,     -999.0,9,     -999.0,9,-999.0000, -999.00
33RO20071215,        P18,      24,          1,         29,      12044,2,20071223,       1644,    10.9175,  -110.0005,       3841,   141.9,  12.5747,  34.8000,2,-999.0000,9,      8.9,2,     8.4,2,   26.10,2,   32.60,2,    0.01,2,    2.25,2,   0.860,2,   0.468,2,   0.1664,2,  2242.2,2,  2296.4,2,   -999.0,9,  -999.00,   7.4613,2,    25.00,-999.000,9,-999.0000,9, -999.00,9, -999.00,9,  -999.0,9,-999.000,9,-999.000,-999.000,9,-999.000,9,   47.18,2,   34.70,2, -999.00,1,    0.01,2, -999.00,9,-999.000,   0.1844,2,   0.1353,2,   0.0789,2,   0.0644,2,   0.0381,2,   0.0153,2,   0.0058,2,   0.0145,2,   0.0135,2,  12.5557,     -999.0,9,     -999.0,9,     -999.0,9,     -999.0,9,     -999.0,9,     -999.0,9,     -999.0,9,-999.0000, -999.00
33RO20071215,        P18,      24,          1,         28,      12057,2,20071223,       1644,    10.9175,  -110.0005,       3841,   166.5,  12.1382,  34.7865,2,  34.7849,2,     11.4,2,    11.5,2,   27.20,2,   32.70,2,    0.01,2,    2.27,2,   0.769,2,   0.422,2,   0.1765,2,  2245.2,2,  2297.1,2,   -999.0,9,  -999.00,   7.4638,2,    25.00,-999.000,9,-999.0000,9, -999.00,9, -999.00,9,  -999.0,9,-999.000,9,-999.000,-999.000,9,-999.000,9, -999.00,9, -999.00,9, -999.00,1,    0.00,2, -999.00,9,-999.000,   0.1786,2,   0.1314,2,   0.0779,2,   0.0642,2,   0.0380,2,   0.0147,2,   0.0052,2,   0.0145,2,   0.0132,2,  12.1164,     -999.0,9,     -999.0,9,     -999.0,9,     -999.0,9,     -999.0,9,     -999.0,9,     -999.0,9,-999.0000, -999.00
33RO20071215,        P18,      24,          1,         27,      12026,2,20071223,       1644,    10.9175,  -110.0005,       3841,   192.4,  11.8694,  34.7764,2,  34.7757,2,     12.3,2,    12.3,2,   28.00,2,   32.80,2,    0.01,2,    2.26,2,   0.710,2,   0.383,2,   0.1298,2,  2247.2,2,  2297.6,2,   -999.0,9,  -999.00,-999.0000,9,  -999.00,-999.000,9,-999.0000,9, -999.00,9, -999.00,9,  -999.0,9,-999.000,9,-999.000,-999.000,9,-999.000,9,   44.98,2,   34.94,2, -999.00,1,    0.00,2, -999.00,9,-999.000,   0.1871,2,   0.1386,2,   0.0831,2,   0.0685,2,   0.0415,2,   0.0167,2,   0.0063,2,   0.0142,2,   0.0129,2,  11.8445,     -999.0,9,     -999.0,9,     -999.0,9,     -999.0,9,     -999.0,9,     -999.0,9,     -999.0,9,-999.0000, -999.00
33RO20071215,        P18,      24,          1,         26,      12030,2,20071223,       1644,    10.9175,  -110.0005,       3841,   233.4,  11.4469,  34.7598,2,  34.7575,2,     11.3,2,    10.8,2,   29.40,2,   32.80,2,    0.01,2,    2.29,2,   0.589,2,   0.318,2,   0.1015,2,  2253.1,6,  2299.6,2,   -999.0,9,  -999.00,   7.4542,2,    25.00,-999.000,9,-999.0000,9, -999.00,9, -999.00,9,  -999.0,9,-999.000,9,-999.000,-999.000,9,-999.000,9,   44.01,2,   35.09,2, -999.00,1,    0.00,2, -999.00,9,-999.000,-999.0000,5,-999.0000,5,-999.0000,5,-999.0000,5,-999.0000,5,-999.0000,5,-999.0000,5,-999.0000,5,-999.0000,5,  11.4173,     -999.0,9,     -999.0,9,     -999.0,9,     -999.0,9,     -999.0,9,     -999.0,9,     -999.0,9,-999.0000, -999.00
33RO20071215,        P18,      24,          1,         25,      12024,2,20071223,       1644,    10.9175,  -110.0005,       3841,   283.5,  10.9375,  34.7359,2,  34.7338,2,      7.6,2,     7.8,2,   31.90,2,   32.80,2,    0.01,2,    2.40,2,   0.408,2,   0.223,2,   0.1033,2,  2262.9,2,  2302.8,2,   -999.0,9,  -999.00,   7.4188,2,    25.00,-999.000,9,-999.0000,9, -999.00,9, -999.00,9,  -999.0,9,-999.000,9,-999.000,-999.000,9,-999.000,9,   42.49,2,   34.23,2, -999.00,1, -999.00,9, -999.00,9,-999.000,   0.1903,2,   0.1418,2,   0.0865,2,   0.0731,2,   0.0437,2,   0.0164,2,   0.0059,2,   0.0144,2,   0.0126,2,  10.9026,     -999.0,9,     -999.0,9,     -999.0,9,     -999.0,9,     -999.0,9,     -999.0,9,     -999.0,9,-999.0000, -999.00
33RO20071215,        P18,      24,          1,         24,      12019,2,20071223,       1644,    10.9175,  -110.0005,       3841,   333.3,  10.3374,  34.7031,2,  34.7034,2,      2.6,2,     3.4,2,   35.90,2,   31.30,2,    0.01,2,    2.53,2,   0.227,2,   0.127,2,   0.0128,2,  2275.5,2,  2308.6,2,   -999.0,9,  -999.00,   7.4010,2,    25.00,-999.000,9,-999.0000,9, -999.00,9, -999.00,9,  -999.0,9,-999.000,9,-999.000,-999.000,9,-999.000,9,   41.13,2,   32.40,2, -999.00,1, -999.00,9, -999.00,9,-999.000,   0.2003,2,   0.1516,2,   0.0953,2,   0.0828,2,   0.0492,2,   0.0185,2,   0.0067,2,   0.0143,2,   0.0121,2,  10.2978,     -999.0,9,     -999.0,9,     -999.0,9,     -999.0,9,     -999.0,9,     -999.0,9,     -999.0,9,-999.0000, -999.00
33RO20071215,        P18,      24,          1,         23,      12022,2,20071223,       1644,    10.9175,  -110.0005,       3841,   384.4,   9.5933,  34.6624,2,  34.6621,2,      2.5,2,     1.9,2,   41.80,2,   30.30,2,    0.58,2,    2.71,2,   0.094,2,   0.056,2,   0.0000,2,  2285.6,2,  2273.5,4,   -999.0,9,  -999.00,   7.3865,2,    25.00,-999.000,9,-999.0000,9, -999.00,9, -999.00,9,  -999.0,9,-999.000,9,-999.000,-999.000,9,-999.000,9,   39.54,2,   31.87,2, -999.00,1, -999.00,9, -999.00,9,-999.000,   0.2092,2,   0.1610,2,   0.1023,2,   0.0887,2,   0.0525,2,   0.0198,2,   0.0070,2,   0.0144,2,   0.0119,2,   9.5496,     -999.0,9,     -999.0,9,     -999.0,9,     -999.0,9,     -999.0,9,     -999.0,9,     -999.0,9,-999.0000, -999.00
33RO20071215,        P18,      24,          1,         22,      12015,2,20071223,       1644,    10.9175,  -110.0005,       3841,   467.2,   8.3281,  34.6042,2,  34.6047,2,      2.4,2,     2.4,2,   52.80,2,   32.70,2,    0.60,2,    2.92,2,   0.023,2,   0.015,2,   0.0347,2,  2300.5,2,  -999.0,5,   -999.0,9,  -999.00,   7.3638,2,    25.00,-999.000,9,-999.0000,9, -999.00,9, -999.00,9,  -999.0,9,-999.000,9,-999.000,-999.000,9,-999.000,9,   38.17,2,   34.53,2, -999.00,1, -999.00,9, -999.00,9,-999.000,   0.2207,2,   0.1704,2,   0.1085,2,   0.0926,2,   0.0570,2,   0.0224,2,   0.0084,2,   0.0142,2,   0.0118,2,   8.2791,     -999.0,9,     -999.0,9,     -999.0,9,     -999.0,9,     -999.0,9,     -999.0,9,     -999.0,9,-999.0000, -999.00
33RO20071215,        P18,      24,          1,         21,      12020,2,20071223,       1644,    10.9175,  -110.0005,       3841,   567.2,   7.1795,  34.5747,2,  34.5732,2,      2.3,2,     2.3,2,   63.10,2,   38.30,2,    0.01,2,    3.05,2,   0.007,2,   0.004,2,   0.0000,2,  2313.9,2,  2328.9,2,   -999.0,9,  -999.00,   7.3507,2,    25.00,-999.000,9,-999.0000,9, -999.00,9, -999.00,9,  -999.0,9,-999.000,9,-999.000,-999.000,9,-999.000,9,   38.00,2,   39.36,2, -999.00,1, -999.00,9, -999.00,9,-999.000,   0.2083,2,   0.1572,2,   0.0999,2,   0.0853,2,   0.0531,2,   0.0205,2,   0.0073,2,   0.0141,2,   0.0119,2,   7.1245,     -999.0,9,     -999.0,9,     -999.0,9,     -999.0,9,     -999.0,9,     -999.0,9,     -999.0,9,-999.0000, -999.00
33RO20071215,        P18,      24,          1,         20,      12055,2,20071223,       1644,    10.9175,  -110.0005,       3841,   667.4,   6.2677,  34.5598,2,  34.5597,2,      3.3,2,     4.2,2,   72.20,2,   42.50,2,    0.01,2,    3.13,2,   0.003,2,   0.003,2,   0.0180,2,  2325.2,2,  2338.1,2,   -999.0,9,  -999.00,   7.3422,2,    25.00,-999.000,9,-999.0000,9, -999.00,9, -999.00,9,  -999.0,9,-999.000,9,-999.000,-999.000,9,-999.000,9,   37.48,2,   43.47,2, -999.00,1, -999.00,9, -999.00,9,-999.000,   0.2034,2,   0.1510,2,   0.0932,2,   0.0769,2,   0.0486,2,   0.0187,2,   0.0064,2,   0.0142,2,   0.0125,2,   6.2072,     -999.0,9,     -999.0,9,     -999.0,9,     -999.0,9,     -999.0,9,     -999.0,9,     -999.0,9,-999.0000, -999.00
33RO20071215,        P18,      24,          1,         19,      12018,2,20071223,       1644,    10.9175,  -110.0005,       3841,   766.9,   5.6071,  34.5543,2,  34.5537,2,      6.5,2,     7.5,2,   80.70,2,   44.80,2,    0.01,2,    3.22,2,   0.002,2,   0.002,2,   0.0000,2,  2334.3,2,  2345.8,2,   -999.0,9,  -999.00,   7.3409,2,    25.00,-999.000,9,-999.0000,9, -999.00,9, -999.00,9,  -999.0,9,-999.000,9,-999.000,-999.000,9,-999.000,9,   36.83,2,   45.97,2, -999.00,1, -999.00,9, -999.00,9,-999.000,   0.2131,2,   0.1592,2,   0.0999,2,   0.0821,2,   0.0539,2,   0.0221,2,   0.0085,2,   0.0138,2,   0.0121,2,   5.5408,     -999.0,9,     -999.0,9,     -999.0,9,     -999.0,9,     -999.0,9,     -999.0,9,     -999.0,9,-999.0000, -999.00
33RO20071215,        P18,      24,          1,         18,      12025,4,20071223,       1644,    10.9175,  -110.0005,       3841,   867.1,   5.0248,  34.5562,2,  34.4751,4,     13.3,2,   141.6,4,    5.70,3,    9.00,3,    0.51,3,    0.73,3,   1.728,4,   1.031,4,   0.8273,4,  -999.0,9,  -999.0,9,   -999.0,9,  -999.00,-999.0000,5,  -999.00,-999.000,9,-999.0000,9, -999.00,9, -999.00,9,  -999.0,9,-999.000,9,-999.000,-999.000,9,-999.000,9,   60.22,4,   11.78,4, -999.00,1, -999.00,9, -999.00,9,-999.000,   0.2033,2,   0.1424,2,   0.0677,2,   0.0474,2,   0.0290,2,   0.0142,2,   0.0059,2,   0.0153,2,   0.0175,2,   4.9531,     -999.0,9,     -999.0,9,     -999.0,9,     -999.0,9,     -999.0,9,     -999.0,9,     -999.0,9,-999.0000, -999.00
33RO20071215,        P18,      24,          1,         17,      12016,2,20071223,       1644,    10.9175,  -110.0005,       3841,   967.2,   4.6192,  34.5604,2,  34.5606,2,     24.7,2,    25.9,2,   96.20,2,   45.00,2,    0.01,2,    3.17,2,   0.002,2,   0.002,2,   0.0000,2,  2342.4,2,  2365.5,2,   -999.0,9,  -999.00,   7.3646,2,    25.00,-999.000,9,-999.0000,9, -999.00,9, -999.00,9,  -999.0,9,-999.000,9,-999.000,-999.000,9,-999.000,9,   37.10,2,   46.60,2, -999.00,1, -999.00,9, -999.00,9,-999.000,   0.2230,2,   0.1663,2,   0.1031,2,   0.0831,2,   0.0557,2,   0.0244,2,   0.0100,2,   0.0134,2,   0.0122,2,   4.5415,     -999.0,9,     -999.0,9,     -999.0,9,     -999.0,9,     -999.0,9,     -999.0,9,     -999.0,9,-999.0000, -999.00
33RO20071215,        P18,      24,          1,         16,      12051,2,20071223,       1644,    10.9175,  -110.0005,       3841,  1066.6,   4.1811,  34.5696,2,  34.5697,2,     34.2,2,    34.4,2,  104.60,2,   44.60,2,    0.01,2,    3.11,2,   0.001,2,   0.001,2,   0.0000,2,  2348.1,2,  2370.0,2,   -999.0,9,  -999.00,   7.3756,2,    25.00,-999.000,9,-999.0000,9, -999.00,9, -999.00,9,  -999.0,9,-999.000,9,-999.000,-999.000,9,-999.000,9,   36.89,2,   45.44,2, -999.00,9, -999.00,9, -999.00,9,-999.000,   0.2061,2,   0.1505,2,   0.0903,2,   0.0724,2,   0.0471,2,   0.0184,2,   0.0066,2,   0.0143,2,   0.0130,2,   4.0983,     -999.0,9,     -999.0,9,     -999.0,9,     -999.0,9,     -999.0,9,     -999.0,9,     -999.0,9,-999.0000, -999.00
33RO20071215,        P18,      24,          1,         15,      12014,2,20071223,       1644,    10.9175,  -110.0005,       3841,  1167.8,   3.8213,  34.5794,2,  34.5795,2,     45.1,2,    44.8,2,  111.60,2,   43.90,2,    0.00,2,    3.06,2,   0.002,2,   0.000,2,   0.0000,2,  2351.6,2,  2378.7,2,   -999.0,9,  -999.00,   7.3991,2,    25.00,-999.000,9,-999.0000,9, -999.00,9, -999.00,9,  -999.0,9,-999.000,9,-999.000,-999.000,9,-999.000,9,   35.98,2,   45.08,2, -999.00,9, -999.00,9, -999.00,9,-999.000,   0.1815,2,   0.1311,2,   0.0780,2,   0.0615,2,   0.0398,2,   0.0147,2,   0.0047,2,   0.0143,2,   0.0133,2,   3.7329,     -999.0,9,     -999.0,9,     -999.0,9,     -999.0,9,     -999.0,9,     -999.0,9,     -999.0,9,-999.0000, -999.00
33RO20071215,        P18,      24,          1,         14,      12013,2,20071223,       1644,    10.9175,  -110.0005,       3841,  1268.2,   3.5881,  34.5871,2,  34.5878,2,     49.5,2,    32.9,3,  116.70,2,   43.60,2,    0.00,2,    3.02,2,   0.002,2,   0.003,2,   0.0306,2,  2352.5,2,  2384.3,2,   -999.0,9,  -999.00,   7.4093,2,    25.00,-999.000,9,-999.0000,9, -999.00,9, -999.00,9,  -999.0,9,-999.000,9,-999.000,-999.000,9,-999.000,9,   35.81,2,   44.95,2, -999.00,9, -999.00,9, -999.00,9,-999.000,   0.1909,2,   0.1386,2,   0.0824,2,   0.0649,2,   0.0422,2,   0.0166,2,   0.0058,2,   0.0142,2,   0.0133,2,   3.4935,     -999.0,9,     -999.0,9,     -999.0,9,     -999.0,9,     -999.0,9,     -999.0,9,     -999.0,9,-999.0000, -999.00
33RO20071215,        P18,      24,          1,         13,      12012,2,20071223,       1644,    10.9175,  -110.0005,       3841,  1368.0,   3.3970,  34.5939,2,  34.5958,2,     56.1,2,    55.2,2,  120.70,2,   43.40,2,    0.00,2,    2.99,2,   0.001,2,   0.001,2,   0.0186,2,  2354.3,2,  2388.6,2,   -999.0,9,  -999.00,   7.4149,2,    25.00,-999.000,9,-999.0000,9, -999.00,9, -999.00,9,  -999.0,9,-999.000,9,-999.000,-999.000,9,-999.000,9,   35.71,2,   44.52,2, -999.00,9, -999.00,9, -999.00,9,-999.000,   0.2055,2,   0.1511,2,   0.0911,2,   0.0719,2,   0.0483,2,   0.0212,2,   0.0087,2,   0.0135,2,   0.0127,2,   3.2958,     -999.0,9,     -999.0,9,     -999.0,9,     -999.0,9,     -999.0,9,     -999.0,9,     -999.0,9,-999.0000, -999.00
33RO20071215,        P18,      24,          1,         12,      12031,2,20071223,       1644,    10.9175,  -110.0005,       3841,  1533.7,   2.9961,  34.6082,2,  34.6077,2,     65.8,2,    66.0,2,  129.70,2,   42.50,2,    0.00,2,    2.90,2,   0.005,2,   0.002,2,   0.1807,4,  2356.8,2,  2398.6,2,   -999.0,9,  -999.00,   7.4298,2,    25.00,-999.000,9,-999.0000,9, -999.00,9, -999.00,9,  -999.0,9,-999.000,9,-999.000,-999.000,9,-999.000,9,   35.43,2,   43.76,2, -999.00,9, -999.00,9, -999.00,9,-999.000,   0.1947,2,   0.1421,2,   0.0840,2,   0.0656,2,   0.0437,2,   0.0187,2,   0.0075,2,   0.0138,2,   0.0132,2,   2.8854,     -999.0,9,     -999.0,9,     -999.0,9,     -999.0,9,     -999.0,9,     -999.0,9,     -999.0,9,-999.0000, -999.00