BOTTLE,20220818CCHSIOAMB
EXPOCODE,SECT_ID,STNNBR,CASTNO,SAMPNO,BTLNBR,BTLNBR_FLAG_W,DATE,TIME,LATITUDE,LONGITUDE,DEPTH,CTDPRS,CTDTMP,CTDSAL,CTDSAL_FLAG_W,SALNTY,SALNTY_FLAG_W,CTDOXY,CTDOXY_FLAG_W,OXYGEN,OXYGEN_FLAG_W,SILCAT,SILCAT_FLAG_W,NITRAT,NITRAT_FLAG_W,NITRIT,NITRIT_FLAG_W,PHSPHT,PHSPHT_FLAG_W,CFC-11,CFC-11_FLAG_W,CFC-12,CFC-12_FLAG_W,SF6,SF6_FLAG_W,TCARBN,TCARBN_FLAG_W,ALKALI,ALKALI_FLAG_W,FCO2,FCO2_FLAG_W,FCO2TMP,PH_SWS,PH_SWS_FLAG_W,PH_TMP,TRITUM,TRITUM_FLAG_W,HELIUM,HELIUM_FLAG_W,DELHE3,DELHE3_FLAG_W,DELC13,DELC13_FLAG_W,DELC14,DELC14_FLAG_W,NEON,NEON_FLAG_W,NEONER,CCL4,CCL4_FLAG_W,POC,POC_FLAG_W,DOC,DOC_FLAG_W,TDN,TDN_FLAG_W,DON,DON_FLAG_W,CHLORA,CHLORA_FLAG_W,ARGON,ARGON_FLAG_W,TRITER,CDOM325,CDOM325_FLAG_W,CDOM340,CDOM340_FLAG_W,CDOM380,CDOM380_FLAG_W,CDOM412,CDOM412_FLAG_W,CDOM443,CDOM443_FLAG_W,CDOM490,CDOM490_FLAG_W,CDOM555,CDOM555_FLAG_W,CDOMSL,CDOMSL_FLAG_W,CDOMSN,CDOMSN_FLAG_W,THETA,D18O_NO3,D18O_NO3_FLAG_W,CDOM2C,CDOM2C_FLAG_W,CDOM3C,CDOM3C_FLAG_W,LAB_DEN,LAB_DEN_FLAG_W,DELSI30,DELSI30_FLAG_W,N2,N2_FLAG_W,D15N_NO3,D15N_NO3_FLAG_W,HELIER,DELHER
,,,,,,,,,,,METERS,DBAR,ITS-90,PSS-78,,PSS-78,,UMOL/KG,,UMOL/KG,,UMOL/KG,,UMOL/KG,,UMOL/KG,,UMOL/KG,,PMOL/KG,,PMOL/KG,,FMOL/KG,,UMOL/KG,,UMOL/KG,,UATM,,DEG C,,,DEG C,TU,,NMOL/KG,,PERCNT,,/MILLE,,/MILLE,,NMOL/KG,,NMOL/KG,PMOL/KG,,UG/KG,,UMOL/KG,,UMOL/KG,,UMOL/KG,,UG/KG,,UMOL/KG,,TU,1/M,,1/M,,1/M,,1/M,,1/M,,1/M,,1/M,,1/NM,,1/NM,,DEG C,/MILLE,,,,,,,,/MILLE,,UMOL/KG,,/MILLE,,NMOL/KG,PERCNT
33RO20071215,        P18,     156,          1,         24,      11024,2,20080209,       1011,   -61.2503,  -102.9993,       5249,     2.4,   4.3650,  33.9033,2,  33.9031,2,    313.7,2,   316.3,2,    4.00,2,   23.70,2,    0.21,2,    1.57,2,   4.970,2,   2.831,2,   2.0002,2,  2124.7,6,  2276.6,2,   -999.0,9,  -999.00,   7.7639,2,    25.00,-999.000,9,-999.0000,9, -999.00,9,    1.64,2,  -999.0,1,-999.000,9,-999.000,-999.000,9,-999.000,9, -999.00,9, -999.00,9, -999.00,9, -999.00,9, -999.00,9,-999.000,-999.0000,9,-999.0000,9,-999.0000,9,-999.0000,9,-999.0000,9,-999.0000,9,-999.0000,9,-999.0000,9,-999.0000,9,   4.3648,     -999.0,9,     -999.0,9,     -999.0,9,     -999.0,9,     -999.0,9,     -999.0,9,     -999.0,9,-999.0000, -999.00
33RO20071215,        P18,     156,          1,         23,      11023,2,20080209,       1011,   -61.2503,  -102.9993,       5249,    23.1,   4.3650,  33.9037,2,  33.9036,2,    314.6,2,   316.2,2,    4.10,2,   23.70,2,    0.22,2,    1.56,2,   4.954,2,   2.810,2,   2.0175,2,  2124.0,2,  2276.3,2,   -999.0,9,  -999.00,   7.7595,2,    25.00,-999.000,9,-999.0000,9, -999.00,9, -999.00,9,  -999.0,9,-999.000,9,-999.000,-999.000,9,-999.000,9, -999.00,9, -999.00,9, -999.00,9, -999.00,9, -999.00,1,-999.000,-999.0000,9,-999.0000,9,-999.0000,9,-999.0000,9,-999.0000,9,-999.0000,9,-999.0000,9,-999.0000,9,-999.0000,9,   4.3633,     -999.0,1,     -999.0,9,     -999.0,9,     -999.0,9,     -999.0,9,     -999.0,1,     -999.0,9,-999.0000, -999.00
33RO20071215,        P18,     156,          1,         22,      11022,2,20080209,       1011,   -61.2503,  -102.9993,       5249,    50.4,   4.3320,  33.9040,2,  33.9083,2,    315.6,2,   316.3,2,    4.90,2,   23.60,2,    0.20,2,    1.65,2,   5.005,2,   2.846,2,   2.0766,2,  2123.2,2,  2276.8,2,   -999.0,9,  -999.00,   7.7563,2,    25.00,-999.000,9,-999.0000,9, -999.00,9, -999.00,9,  -999.0,9,-999.000,9,-999.000,-999.000,9,-999.000,9, -999.00,9, -999.00,9, -999.00,9, -999.00,9, -999.00,9,-999.000,-999.0000,9,-999.0000,9,-999.0000,9,-999.0000,9,-999.0000,9,-999.0000,9,-999.0000,9,-999.0000,9,-999.0000,9,   4.3284,     -999.0,9,     -999.0,9,     -999.0,9,     -999.0,9,     -999.0,9,     -999.0,9,     -999.0,9,-999.0000, -999.00
33RO20071215,        P18,     156,          1,         21,      11021,2,20080209,       1011,   -61.2503,  -102.9993,       5249,    80.0,   2.3686,  33.9503,2,  33.9515,2,    319.9,2,   319.9,2,   15.30,2,   26.20,2,    0.39,2,    1.91,2,   5.395,2,   3.014,2,   2.1287,2,  2147.1,2,  2279.4,2,   -999.0,9,  -999.00,   7.7080,2,    25.00,-999.000,9,-999.0000,9, -999.00,9, -999.00,9,  -999.0,9,-999.000,9,-999.000,-999.000,9,-999.000,9, -999.00,9, -999.00,9, -999.00,9, -999.00,9, -999.00,9,-999.000,-999.0000,9,-999.0000,9,-999.0000,9,-999.0000,9,-999.0000,9,-999.0000,9,-999.0000,9,-999.0000,9,-999.0000,9,   2.3643,     -999.0,9,     -999.0,9,     -999.0,9,     -999.0,9,     -999.0,9,     -999.0,9,     -999.0,9,-999.0000, -999.00
33RO20071215,        P18,     156,          1,         20,      11020,2,20080209,       1011,   -61.2503,  -102.9993,       5249,   130.1,   1.7527,  33.9764,2,  33.9786,2,    318.1,2,   313.7,2,   18.30,2,   28.00,2,    0.01,2,    1.94,2,   5.139,2,   2.879,2,   1.9975,2,  2154.5,2,  2281.5,2,   -999.0,9,  -999.00,   7.6946,2,    25.00,-999.000,9,-999.0000,9, -999.00,9, -999.00,9,  -999.0,9,-999.000,9,-999.000,-999.000,9,-999.000,9, -999.00,9, -999.00,9, -999.00,9, -999.00,9, -999.00,9,-999.000,-999.0000,9,-999.0000,9,-999.0000,9,-999.0000,9,-999.0000,9,-999.0000,9,-999.0000,9,-999.0000,9,-999.0000,9,   1.7462,     -999.0,9,     -999.0,9,     -999.0,9,     -999.0,9,     -999.0,9,     -999.0,9,     -999.0,9,-999.0000, -999.00
33RO20071215,        P18,     156,          1,         19,      11019,2,20080209,       1011,   -61.2503,  -102.9993,       5249,   199.5,   1.6285,  33.9790,2,  33.9796,2,    319.9,2,   318.4,2,   19.00,2,   28.10,2,    0.00,2,    1.94,2,   5.319,2,   2.991,2,   2.1499,2,  2156.0,2,  2248.9,4,   -999.0,9,  -999.00,   7.6880,2,    25.00,-999.000,9,-999.0000,9, -999.00,9, -999.00,9,  -999.0,9,-999.000,9,-999.000,-999.000,9,-999.000,9, -999.00,9, -999.00,9, -999.00,9, -999.00,9, -999.00,9,-999.000,-999.0000,9,-999.0000,9,-999.0000,9,-999.0000,9,-999.0000,9,-999.0000,9,-999.0000,9,-999.0000,9,-999.0000,9,   1.6187,     -999.0,9,     -999.0,9,     -999.0,9,     -999.0,9,     -999.0,9,     -999.0,9,     -999.0,9,-999.0000, -999.00
33RO20071215,        P18,     156,          1,         18,      11018,2,20080209,       1011,   -61.2503,  -102.9993,       5249,   263.0,   1.6760,  34.0082,2,  34.0095,2,    309.3,2,   307.3,2,   22.90,2,   28.90,2,    0.00,2,    1.99,2,   5.045,2,   2.829,2,   1.8651,2,  2163.3,2,  2278.5,2,   -999.0,9,  -999.00,   7.6826,2,    25.00,-999.000,9,-999.0000,9, -999.00,9, -999.00,9,  -999.0,9,-999.000,9,-999.000,-999.000,9,-999.000,9, -999.00,9, -999.00,9, -999.00,9, -999.00,9, -999.00,9,-999.000,-999.0000,9,-999.0000,9,-999.0000,9,-999.0000,9,-999.0000,9,-999.0000,9,-999.0000,9,-999.0000,9,-999.0000,9,   1.6628,     -999.0,9,     -999.0,9,     -999.0,9,     -999.0,9,     -999.0,9,     -999.0,9,     -999.0,9,-999.0000, -999.00
33RO20071215,        P18,     156,          1,         17,      11017,2,20080209,       1011,   -61.2503,  -102.9993,       5249,   366.5,   2.0786,  34.1285,2,  34.1268,2,    282.9,2,   268.3,2,   33.60,2,   31.20,2,    0.01,2,    2.14,2,   4.141,2,   2.263,2,   1.4291,2,  2186.5,2,  2284.2,2,   -999.0,9,  -999.00,   7.6310,2,    25.00,-999.000,9,-999.0000,9, -999.00,9, -999.00,9,  -999.0,9,-999.000,9,-999.000,-999.000,9,-999.000,9, -999.00,9, -999.00,9, -999.00,9, -999.00,9, -999.00,9,-999.000,-999.0000,9,-999.0000,9,-999.0000,9,-999.0000,9,-999.0000,9,-999.0000,9,-999.0000,9,-999.0000,9,-999.0000,9,   2.0585,     -999.0,9,     -999.0,9,     -999.0,9,     -999.0,9,     -999.0,9,     -999.0,9,     -999.0,9,-999.0000, -999.00
33RO20071215,        P18,     156,          1,         16,      11016,2,20080209,       1011,   -61.2503,  -102.9993,       5249,   466.9,   2.4061,  34.2699,2,  34.2707,2,    225.4,2,   224.5,2,   45.90,2,   33.10,2,    0.00,2,    2.28,2,   2.771,2,   1.458,2,   0.8155,2,  2211.8,2,  2299.4,2,   -999.0,9,  -999.00,   7.5918,2,    25.00,-999.000,9,-999.0000,9, -999.00,9, -999.00,9,  -999.0,9,-999.000,9,-999.000,-999.000,9,-999.000,9, -999.00,9, -999.00,9, -999.00,9, -999.00,9, -999.00,9,-999.000,-999.0000,9,-999.0000,9,-999.0000,9,-999.0000,9,-999.0000,9,-999.0000,9,-999.0000,9,-999.0000,9,-999.0000,9,   2.3788,     -999.0,9,     -999.0,9,     -999.0,9,     -999.0,9,     -999.0,9,     -999.0,9,     -999.0,9,-999.0000, -999.00
33RO20071215,        P18,     156,          1,         15,      11015,2,20080209,       1011,   -61.2503,  -102.9993,       5249,   600.7,   2.4975,  34.3927,2,  34.3924,2,    194.2,2,   194.0,2,   58.30,2,   34.70,2,    0.00,2,    2.38,2,   1.675,6,   0.846,6,   0.3977,6,  2232.5,2,  2309.9,2,   -999.0,9,  -999.00,   7.5638,2,    25.00,-999.000,9,-999.0000,9, -999.00,9, -999.00,9,  -999.0,9,-999.000,9,-999.000,-999.000,9,-999.000,9, -999.00,9, -999.00,9, -999.00,9, -999.00,9, -999.00,9,-999.000,-999.0000,9,-999.0000,9,-999.0000,9,-999.0000,9,-999.0000,9,-999.0000,9,-999.0000,9,-999.0000,9,-999.0000,9,   2.4611,     -999.0,9,     -999.0,9,     -999.0,9,     -999.0,9,     -999.0,9,     -999.0,9,     -999.0,9,-999.0000, -999.00
33RO20071215,        P18,     156,          1,         14,      11014,2,20080209,       1011,   -61.2503,  -102.9993,       5249,   750.8,   2.4404,  34.5041,2,  34.5043,2,    178.0,2,   178.5,2,   68.90,2,   35.00,2,    0.00,2,    2.40,2,   0.904,2,   0.454,2,   0.1845,2,  2248.1,2,  2328.9,2,   -999.0,9,  -999.00,   7.5605,2,    25.00,-999.000,9,-999.0000,9, -999.00,9, -999.00,9,  -999.0,9,-999.000,9,-999.000,-999.000,9,-999.000,9, -999.00,9, -999.00,9, -999.00,9, -999.00,9, -999.00,9,-999.000,-999.0000,9,-999.0000,9,-999.0000,9,-999.0000,9,-999.0000,9,-999.0000,9,-999.0000,9,-999.0000,9,-999.0000,9,   2.3942,     -999.0,9,     -999.0,9,     -999.0,9,     -999.0,9,     -999.0,9,     -999.0,9,     -999.0,9,-999.0000, -999.00
33RO20071215,        P18,     156,          1,         13,      11013,2,20080209,       1011,   -61.2503,  -102.9993,       5249,   898.0,   2.3447,  34.5772,2,  34.5777,2,    174.0,2,   174.0,2,   75.10,2,   34.60,2,    0.00,2,    2.38,2,   0.576,2,   0.292,2,   0.0983,2,  2253.6,2,  2336.2,2,   -999.0,9,  -999.00,   7.5545,2,    25.00,-999.000,9,-999.0000,9, -999.00,9, -999.00,9,  -999.0,9,-999.000,9,-999.000,-999.000,9,-999.000,9, -999.00,9, -999.00,9, -999.00,9, -999.00,9, -999.00,9,-999.000,-999.0000,9,-999.0000,9,-999.0000,9,-999.0000,9,-999.0000,9,-999.0000,9,-999.0000,9,-999.0000,9,-999.0000,9,   2.2890,     -999.0,9,     -999.0,9,     -999.0,9,     -999.0,9,     -999.0,9,     -999.0,9,     -999.0,9,-999.0000, -999.00
33RO20071215,        P18,     156,          1,         12,      11012,2,20080209,       1011,   -61.2503,  -102.9993,       5249,  1050.2,   2.2670,  34.6293,2,  34.6275,2,    174.0,2,   173.9,2,   78.80,2,   34.00,2,    0.00,2,    2.34,2,-999.000,9,-999.000,9,-999.0000,9,  2256.2,6,  2341.5,2,   -999.0,9,  -999.00,   7.5627,2,    25.00,-999.000,9,-999.0000,9, -999.00,9, -999.00,9,  -999.0,9,-999.000,9,-999.000,-999.000,9,-999.000,9, -999.00,9, -999.00,9, -999.00,9, -999.00,9, -999.00,9,-999.000,-999.0000,9,-999.0000,9,-999.0000,9,-999.0000,9,-999.0000,9,-999.0000,9,-999.0000,9,-999.0000,9,-999.0000,9,   2.2010,     -999.0,9,     -999.0,9,     -999.0,9,     -999.0,9,     -999.0,9,     -999.0,9,     -999.0,9,-999.0000, -999.00
33RO20071215,        P18,     156,          1,         11,      11010,2,20080209,       1011,   -61.2503,  -102.9993,       5249,  1232.4,   2.1858,  34.6732,2,  34.6732,2,    176.6,2,   176.9,2,   82.10,2,   33.20,2,    0.00,2,    2.29,2,-999.000,9,-999.000,9,-999.0000,9,  2255.1,2,  2337.0,2,   -999.0,9,  -999.00,   7.5782,2,    25.00,-999.000,9,-999.0000,9, -999.00,9, -999.00,9,  -999.0,9,-999.000,9,-999.000,-999.000,9,-999.000,9, -999.00,9, -999.00,9, -999.00,9, -999.00,9, -999.00,9,-999.000,-999.0000,9,-999.0000,9,-999.0000,9,-999.0000,9,-999.0000,9,-999.0000,9,-999.0000,9,-999.0000,9,-999.0000,9,   2.1073,     -999.0,9,     -999.0,9,     -999.0,9,     -999.0,9,     -999.0,9,     -999.0,9,     -999.0,9,-999.0000, -999.00
33RO20071215,        P18,     156,          1,         10,      11011,2,20080209,       1011,   -61.2503,  -102.9993,       5249,  1500.2,   2.0482,  34.7101,2,  34.7095,2,    181.7,2,   182.4,2,   85.80,2,   32.30,2,    0.00,2,    2.24,2,-999.000,9,-999.000,9,-999.0000,9,  2252.3,2,  2343.2,2,   -999.0,9,  -999.00,   7.5883,2,    25.00,-999.000,9,-999.0000,9, -999.00,9, -999.00,9,  -999.0,9,-999.000,9,-999.000,-999.000,9,-999.000,9, -999.00,9, -999.00,9, -999.00,9, -999.00,9, -999.00,9,-999.000,-999.0000,9,-999.0000,9,-999.0000,9,-999.0000,9,-999.0000,9,-999.0000,9,-999.0000,9,-999.0000,9,-999.0000,9,   1.9510,     -999.0,9,     -999.0,9,     -999.0,9,     -999.0,9,     -999.0,9,     -999.0,9,     -999.0,9,-999.0000, -999.00
33RO20071215,        P18,     156,          1,          9,      11009,2,20080209,       1011,   -61.2503,  -102.9993,       5249,  1866.6,   1.7449,  34.7334,2,  34.7329,2,    190.1,2,   190.5,2,   94.10,2,   31.70,2,    0.00,2,    2.20,2,-999.000,9,-999.000,9,-999.0000,9,  2254.7,2,  2346.7,2,   -999.0,9,  -999.00,   7.5984,2,    25.00,-999.000,9,-999.0000,9, -999.00,9, -999.00,9,  -999.0,9,-999.000,9,-999.000,-999.000,9,-999.000,9, -999.00,9, -999.00,9, -999.00,9, -999.00,9, -999.00,9,-999.000,-999.0000,9,-999.0000,9,-999.0000,9,-999.0000,9,-999.0000,9,-999.0000,9,-999.0000,9,-999.0000,9,-999.0000,9,   1.6228,     -999.0,9,     -999.0,9,     -999.0,9,     -999.0,9,     -999.0,9,     -999.0,9,     -999.0,9,-999.0000, -999.00
33RO20071215,        P18,     156,          1,          8,      11008,2,20080209,       1011,   -61.2503,  -102.9993,       5249,  2332.3,   1.3931,  34.7313,2,  34.7303,2,    196.8,2,   196.3,2,  106.10,2,   32.10,2,    0.00,2,    2.21,2,-999.000,9,-999.000,9,-999.0000,9,  2258.2,2,  2358.6,2,   -999.0,9,  -999.00,   7.5993,2,    25.00,-999.000,9,-999.0000,9, -999.00,9, -999.00,9,  -999.0,9,-999.000,9,-999.000,-999.000,9,-999.000,9, -999.00,9, -999.00,9, -999.00,9, -999.00,9, -999.00,9,-999.000,-999.0000,9,-999.0000,9,-999.0000,9,-999.0000,9,-999.0000,9,-999.0000,9,-999.0000,9,-999.0000,9,-999.0000,9,   1.2382,     -999.0,9,     -999.0,9,     -999.0,9,     -999.0,9,     -999.0,9,     -999.0,9,     -999.0,9,-999.0000, -999.00
33RO20071215,        P18,     156,          1,          7,      11007,2,20080209,       1011,   -61.2503,  -102.9993,       5249,  2833.7,   1.0867,  34.7216,2,  34.7210,2,    201.1,2,   201.1,2,  115.60,2,   32.40,2,    0.00,2,    2.23,2,-999.000,9,-999.000,9,-999.0000,9,  2261.4,2,  2360.6,2,   -999.0,9,  -999.00,   7.5992,2,    25.00,-999.000,9,-999.0000,9, -999.00,9, -999.00,9,  -999.0,9,-999.000,9,-999.000,-999.000,9,-999.000,9, -999.00,9, -999.00,9, -999.00,9, -999.00,9, -999.00,9,-999.000,-999.0000,9,-999.0000,9,-999.0000,9,-999.0000,9,-999.0000,9,-999.0000,9,-999.0000,9,-999.0000,9,-999.0000,9,   0.8940,     -999.0,9,     -999.0,9,     -999.0,9,     -999.0,9,     -999.0,9,     -999.0,9,     -999.0,9,-999.0000, -999.00
33RO20071215,        P18,     156,          1,          6,      11006,2,20080209,       1011,   -61.2503,  -102.9993,       5249,  3333.1,   0.8522,  34.7132,2,  34.7110,2,    205.2,2,   206.3,2,  123.80,2,   32.60,2,    0.00,2,    2.25,2,-999.000,9,-999.000,9,-999.0000,9,  2262.9,2,  2361.1,2,   -999.0,9,  -999.00,   7.5989,2,    25.00,-999.000,9,-999.0000,9, -999.00,9, -999.00,9,  -999.0,9,-999.000,9,-999.000,-999.000,9,-999.000,9, -999.00,9, -999.00,9, -999.00,9, -999.00,9, -999.00,9,-999.000,-999.0000,9,-999.0000,9,-999.0000,9,-999.0000,9,-999.0000,9,-999.0000,9,-999.0000,9,-999.0000,9,-999.0000,9,   0.6184,     -999.0,9,     -999.0,9,     -999.0,9,     -999.0,9,     -999.0,9,     -999.0,9,     -999.0,9,-999.0000, -999.00
33RO20071215,        P18,     156,          1,          5,      11005,2,20080209,       1011,   -61.2503,  -102.9993,       5249,  3833.2,   0.6246,  34.7081,2,  34.7063,2,    210.1,2,   210.1,2,  129.80,2,   32.80,2,    0.00,2,    2.26,2,-999.000,9,-999.000,9,-999.0000,9,  2264.0,2,  2354.4,4,   -999.0,9,  -999.00,   7.6051,2,    25.00,-999.000,9,-999.0000,9, -999.00,9, -999.00,9,  -999.0,9,-999.000,9,-999.000,-999.000,9,-999.000,9, -999.00,9, -999.00,9, -999.00,9, -999.00,9, -999.00,9,-999.000,-999.0000,9,-999.0000,9,-999.0000,9,-999.0000,9,-999.0000,9,-999.0000,9,-999.0000,9,-999.0000,9,-999.0000,9,   0.3474,     -999.0,9,     -999.0,9,     -999.0,9,     -999.0,9,     -999.0,9,     -999.0,9,     -999.0,9,-999.0000, -999.00
33RO20071215,        P18,     156,          1,          4,      11004,2,20080209,       1011,   -61.2503,  -102.9993,       5249,  4333.6,   0.4754,  34.7057,2,  34.7033,2,    213.8,2,   214.9,2,  135.30,6,   33.00,6,    0.00,6,    2.28,2,-999.000,9,-999.000,9,-999.0000,9,  2264.9,2,  2352.2,4,   -999.0,9,  -999.00,   7.6115,2,    25.00,-999.000,9,-999.0000,9, -999.00,9, -999.00,9,  -999.0,9,-999.000,9,-999.000,-999.000,9,-999.000,9, -999.00,9, -999.00,9, -999.00,9, -999.00,9, -999.00,9,-999.000,-999.0000,9,-999.0000,9,-999.0000,9,-999.0000,9,-999.0000,9,-999.0000,9,-999.0000,9,-999.0000,9,-999.0000,9,   0.1503,     -999.0,9,     -999.0,9,     -999.0,9,     -999.0,9,     -999.0,9,     -999.0,9,     -999.0,9,-999.0000, -999.00
33RO20071215,        P18,     156,          1,          3,      11003,2,20080209,       1011,   -61.2503,  -102.9993,       5249,  4832.2,   0.4561,  34.7045,2,  34.7035,2,    215.4,2,   216.1,2,  138.50,6,   33.00,6,    0.00,6,    2.28,2,-999.000,9,-999.000,9,-999.0000,9,  2264.6,2,  2362.7,2,   -999.0,9,  -999.00,   7.5931,2,    25.00,-999.000,9,-999.0000,9, -999.00,9, -999.00,9,  -999.0,9,-999.000,9,-999.000,-999.000,9,-999.000,9, -999.00,9, -999.00,9, -999.00,9, -999.00,9, -999.00,9,-999.000,-999.0000,9,-999.0000,9,-999.0000,9,-999.0000,9,-999.0000,9,-999.0000,9,-999.0000,9,-999.0000,9,-999.0000,9,   0.0765,     -999.0,9,     -999.0,9,     -999.0,9,     -999.0,9,     -999.0,9,     -999.0,9,     -999.0,9,-999.0000, -999.00
33RO20071215,        P18,     156,          1,          2,      11002,2,20080209,       1011,   -61.2503,  -102.9993,       5249,  5059.3,   0.4655,  34.7039,2,  34.7031,2,    216.4,2,   215.6,2,  139.80,6,   33.10,6,    0.01,6,    2.28,2,-999.000,9,-999.000,9,-999.0000,9,  2264.6,2,  2364.3,4,   -999.0,9,  -999.00,   7.5910,2,    25.00,-999.000,9,-999.0000,9, -999.00,9, -999.00,9,  -999.0,9,-999.000,9,-999.000,-999.000,9,-999.000,9, -999.00,9, -999.00,9, -999.00,9, -999.00,9, -999.00,9,-999.000,-999.0000,9,-999.0000,9,-999.0000,9,-999.0000,9,-999.0000,9,-999.0000,9,-999.0000,9,-999.0000,9,-999.0000,9,   0.0594,     -999.0,9,     -999.0,9,     -999.0,9,     -999.0,9,     -999.0,9,     -999.0,9,     -999.0,9,-999.0000, -999.00
33RO20071215,        P18,     156,          1,          1,      11001,2,20080209,       1011,   -61.2503,  -102.9993,       5249,  5324.0,   0.4910,  34.7035,2,  34.7024,2,    215.8,2,   216.0,2,  140.40,2,   33.00,2,    0.01,2,    2.28,2,-999.000,9,-999.000,9,-999.0000,9,  2264.1,6,  2359.8,2,   -999.0,9,  -999.00,   7.5800,2,    25.00,-999.000,9,-999.0000,9, -999.00,9, -999.00,9,  -999.0,9,-999.000,9,-999.000,-999.000,9,-999.000,9, -999.00,9, -999.00,9, -999.00,9, -999.00,9, -999.00,9,-999.000,-999.0000,9,-999.0000,9,-999.0000,9,-999.0000,9,-999.0000,9,-999.0000,9,-999.0000,9,-999.0000,9,-999.0000,9,   0.0526,     -999.0,9,     -999.0,9,     -999.0,9,     -999.0,9,     -999.0,9,     -999.0,9,     -999.0,9,-999.0000, -999.00