BOTTLE,20220818CCHSIOAMB
EXPOCODE,SECT_ID,STNNBR,CASTNO,SAMPNO,BTLNBR,BTLNBR_FLAG_W,DATE,TIME,LATITUDE,LONGITUDE,DEPTH,CTDPRS,CTDTMP,CTDSAL,CTDSAL_FLAG_W,SALNTY,SALNTY_FLAG_W,CTDOXY,CTDOXY_FLAG_W,OXYGEN,OXYGEN_FLAG_W,SILCAT,SILCAT_FLAG_W,NITRAT,NITRAT_FLAG_W,NITRIT,NITRIT_FLAG_W,PHSPHT,PHSPHT_FLAG_W,CFC-11,CFC-11_FLAG_W,CFC-12,CFC-12_FLAG_W,SF6,SF6_FLAG_W,TCARBN,TCARBN_FLAG_W,ALKALI,ALKALI_FLAG_W,FCO2,FCO2_FLAG_W,FCO2TMP,PH_SWS,PH_SWS_FLAG_W,PH_TMP,TRITUM,TRITUM_FLAG_W,HELIUM,HELIUM_FLAG_W,DELHE3,DELHE3_FLAG_W,DELC13,DELC13_FLAG_W,DELC14,DELC14_FLAG_W,NEON,NEON_FLAG_W,NEONER,CCL4,CCL4_FLAG_W,POC,POC_FLAG_W,DOC,DOC_FLAG_W,TDN,TDN_FLAG_W,DON,DON_FLAG_W,CHLORA,CHLORA_FLAG_W,ARGON,ARGON_FLAG_W,TRITER,CDOM325,CDOM325_FLAG_W,CDOM340,CDOM340_FLAG_W,CDOM380,CDOM380_FLAG_W,CDOM412,CDOM412_FLAG_W,CDOM443,CDOM443_FLAG_W,CDOM490,CDOM490_FLAG_W,CDOM555,CDOM555_FLAG_W,CDOMSL,CDOMSL_FLAG_W,CDOMSN,CDOMSN_FLAG_W,THETA,D18O_NO3,D18O_NO3_FLAG_W,CDOM2C,CDOM2C_FLAG_W,CDOM3C,CDOM3C_FLAG_W,LAB_DEN,LAB_DEN_FLAG_W,DELSI30,DELSI30_FLAG_W,N2,N2_FLAG_W,D15N_NO3,D15N_NO3_FLAG_W,HELIER,DELHER
,,,,,,,,,,,METERS,DBAR,ITS-90,PSS-78,,PSS-78,,UMOL/KG,,UMOL/KG,,UMOL/KG,,UMOL/KG,,UMOL/KG,,UMOL/KG,,PMOL/KG,,PMOL/KG,,FMOL/KG,,UMOL/KG,,UMOL/KG,,UATM,,DEG C,,,DEG C,TU,,NMOL/KG,,PERCNT,,/MILLE,,/MILLE,,NMOL/KG,,NMOL/KG,PMOL/KG,,UG/KG,,UMOL/KG,,UMOL/KG,,UMOL/KG,,UG/KG,,UMOL/KG,,TU,1/M,,1/M,,1/M,,1/M,,1/M,,1/M,,1/M,,1/NM,,1/NM,,DEG C,/MILLE,,,,,,,,/MILLE,,UMOL/KG,,/MILLE,,NMOL/KG,PERCNT
33RO20071215,        P18,      64,          1,         36,      12017,2,20080106,       0249,    -8.7497,  -104.7575,       3691,     7.2,  23.0073,  34.9492,2,  34.9479,2,    220.2,2,   220.4,2,    5.30,2,   11.10,2,    0.23,2,    0.81,2,-999.000,9,-999.000,9,-999.0000,9,  2062.6,6,  -999.0,9,   -999.0,9,  -999.00,   7.9224,2,    25.00,-999.000,9,-999.0000,9, -999.00,9, -999.00,9,  -999.0,9,-999.000,9,-999.000,-999.000,9,-999.000,9, -999.00,9, -999.00,9, -999.00,9, -999.00,9, -999.00,9,-999.000,-999.0000,9,-999.0000,9,-999.0000,9,-999.0000,9,-999.0000,9,-999.0000,9,-999.0000,9,-999.0000,9,-999.0000,9,  23.0058,     -999.0,9,     -999.0,9,     -999.0,9,     -999.0,9,     -999.0,9,     -999.0,9,     -999.0,9,-999.0000, -999.00
33RO20071215,        P18,      64,          1,         35,      12029,2,20080106,       0249,    -8.7497,  -104.7575,       3691,    12.7,  23.0088,  34.9472,2,  34.9465,2,    220.5,2,   220.5,2,    5.30,2,   11.10,2,    0.22,2,    0.81,2,-999.000,9,-999.000,9,-999.0000,9,  2061.8,2,  -999.0,9,   -999.0,9,  -999.00,   7.9307,2,    25.00,-999.000,9,-999.0000,9, -999.00,9, -999.00,9,  -999.0,9,-999.000,9,-999.000,-999.000,9,-999.000,9, -999.00,9, -999.00,9, -999.00,9, -999.00,9, -999.00,9,-999.000,-999.0000,9,-999.0000,9,-999.0000,9,-999.0000,9,-999.0000,9,-999.0000,9,-999.0000,9,-999.0000,9,-999.0000,9,  23.0062,     -999.0,9,     -999.0,9,     -999.0,9,     -999.0,9,     -999.0,9,     -999.0,9,     -999.0,9,-999.0000, -999.00
33RO20071215,        P18,      64,          1,         34,      12049,2,20080106,       0249,    -8.7497,  -104.7575,       3691,    28.1,  23.0112,  34.9485,2,  34.9512,2,    220.9,2,   220.2,2,    5.30,2,   11.10,2,    0.23,2,    0.82,2,-999.000,9,-999.000,9,-999.0000,9,  2061.5,2,  -999.0,9,   -999.0,9,  -999.00,   7.9343,2,    25.00,-999.000,9,-999.0000,9, -999.00,9, -999.00,9,  -999.0,9,-999.000,9,-999.000,-999.000,9,-999.000,9, -999.00,9, -999.00,9, -999.00,9, -999.00,9, -999.00,9,-999.000,-999.0000,9,-999.0000,9,-999.0000,9,-999.0000,9,-999.0000,9,-999.0000,9,-999.0000,9,-999.0000,9,-999.0000,9,  23.0054,     -999.0,9,     -999.0,9,     -999.0,9,     -999.0,9,     -999.0,9,     -999.0,9,     -999.0,9,-999.0000, -999.00
33RO20071215,        P18,      64,          1,         33,      12027,2,20080106,       0249,    -8.7497,  -104.7575,       3691,    47.6,  22.9639,  34.9814,2,  34.9831,2,    220.4,2,   220.1,2,    5.00,2,   11.10,2,    0.23,2,    0.83,2,-999.000,9,-999.000,9,-999.0000,9,  2063.0,2,  -999.0,9,   -999.0,9,  -999.00,   7.9348,2,    25.00,-999.000,9,-999.0000,9, -999.00,9, -999.00,9,  -999.0,9,-999.000,9,-999.000,-999.000,9,-999.000,9, -999.00,9, -999.00,9, -999.00,9, -999.00,9, -999.00,9,-999.000,-999.0000,9,-999.0000,9,-999.0000,9,-999.0000,9,-999.0000,9,-999.0000,9,-999.0000,9,-999.0000,9,-999.0000,9,  22.9542,     -999.0,9,     -999.0,9,     -999.0,9,     -999.0,9,     -999.0,9,     -999.0,9,     -999.0,9,-999.0000, -999.00
33RO20071215,        P18,      64,          1,         32,      12023,2,20080106,       0249,    -8.7497,  -104.7575,       3691,    66.7,  22.9412,  35.2652,2,  35.2680,2,    218.4,2,   218.1,2,    3.50,2,   10.20,2,    0.24,2,    0.85,2,-999.000,9,-999.000,9,-999.0000,9,  2068.8,2,  -999.0,9,   -999.0,9,  -999.00,   7.9432,2,    25.00,-999.000,9,-999.0000,9, -999.00,9, -999.00,9,  -999.0,9,-999.000,9,-999.000,-999.000,9,-999.000,9, -999.00,9, -999.00,9, -999.00,9, -999.00,9, -999.00,9,-999.000,-999.0000,9,-999.0000,9,-999.0000,9,-999.0000,9,-999.0000,9,-999.0000,9,-999.0000,9,-999.0000,9,-999.0000,9,  22.9276,     -999.0,9,     -999.0,9,     -999.0,9,     -999.0,9,     -999.0,9,     -999.0,9,     -999.0,9,-999.0000, -999.00
33RO20071215,        P18,      64,          1,         31,      12037,2,20080106,       0249,    -8.7497,  -104.7575,       3691,    83.4,  21.8478,  35.3499,2,  35.3552,2,    211.8,2,   207.7,2,    3.60,2,   10.20,2,    0.44,2,    0.95,2,-999.000,9,-999.000,9,-999.0000,9,  2086.7,2,  -999.0,9,   -999.0,9,  -999.00,   7.9208,2,    25.00,-999.000,9,-999.0000,9, -999.00,9, -999.00,9,  -999.0,9,-999.000,9,-999.000,-999.000,9,-999.000,9, -999.00,9, -999.00,9, -999.00,9, -999.00,9, -999.00,9,-999.000,-999.0000,9,-999.0000,9,-999.0000,9,-999.0000,9,-999.0000,9,-999.0000,9,-999.0000,9,-999.0000,9,-999.0000,9,  21.8313,     -999.0,9,     -999.0,9,     -999.0,9,     -999.0,9,     -999.0,9,     -999.0,9,     -999.0,9,-999.0000, -999.00
33RO20071215,        P18,      64,          1,         30,      12036,2,20080106,       0249,    -8.7497,  -104.7575,       3691,   106.7,  16.8108,  35.1360,2,  35.1463,2,     82.6,2,    79.2,2,    7.30,2,   19.20,2,    0.96,2,    1.71,2,-999.000,9,-999.000,9,-999.0000,9,  2188.0,2,  -999.0,9,   -999.0,9,  -999.00,   7.6711,2,    25.00,-999.000,9,-999.0000,9, -999.00,9, -999.00,9,  -999.0,9,-999.000,9,-999.000,-999.000,9,-999.000,9, -999.00,9, -999.00,9, -999.00,9, -999.00,9, -999.00,9,-999.000,-999.0000,9,-999.0000,9,-999.0000,9,-999.0000,9,-999.0000,9,-999.0000,9,-999.0000,9,-999.0000,9,-999.0000,9,  16.7933,     -999.0,9,     -999.0,9,     -999.0,9,     -999.0,9,     -999.0,9,     -999.0,9,     -999.0,9,-999.0000, -999.00
33RO20071215,        P18,      64,          1,         29,      12044,2,20080106,       0249,    -8.7497,  -104.7575,       3691,   127.2,  14.6809,  34.9985,2,  34.9965,2,     18.6,2,    13.3,2,   13.70,2,   26.20,2,    0.16,2,    2.29,2,-999.000,9,-999.000,9,-999.0000,9,  2238.9,2,  -999.0,9,   -999.0,9,  -999.00,   7.4329,2,    25.00,-999.000,9,-999.0000,9, -999.00,9, -999.00,9,  -999.0,9,-999.000,9,-999.000,-999.000,9,-999.000,9, -999.00,9, -999.00,9, -999.00,9, -999.00,9, -999.00,9,-999.000,-999.0000,9,-999.0000,9,-999.0000,9,-999.0000,9,-999.0000,9,-999.0000,9,-999.0000,9,-999.0000,9,-999.0000,9,  14.6619,     -999.0,9,     -999.0,9,     -999.0,9,     -999.0,9,     -999.0,9,     -999.0,9,     -999.0,9,-999.0000, -999.00
33RO20071215,        P18,      64,          1,         28,      12057,2,20080106,       0249,    -8.7497,  -104.7575,       3691,   158.5,  13.0237,  34.9305,2,  34.9302,2,      6.4,2,     4.3,2,   22.40,2,   27.40,2,    0.01,2,    2.44,2,-999.000,9,-999.000,9,-999.0000,9,  2252.6,2,  -999.0,9,   -999.0,9,  -999.00,   7.4579,2,    25.00,-999.000,9,-999.0000,9, -999.00,9, -999.00,9,  -999.0,9,-999.000,9,-999.000,-999.000,9,-999.000,9, -999.00,9, -999.00,9, -999.00,9, -999.00,9, -999.00,9,-999.000,-999.0000,9,-999.0000,9,-999.0000,9,-999.0000,9,-999.0000,9,-999.0000,9,-999.0000,9,-999.0000,9,-999.0000,9,  13.0019,     -999.0,9,     -999.0,9,     -999.0,9,     -999.0,9,     -999.0,9,     -999.0,9,     -999.0,9,-999.0000, -999.00
33RO20071215,        P18,      64,          1,         27,      12026,2,20080106,       0249,    -8.7497,  -104.7575,       3691,   182.9,  12.5491,  34.9039,2,  34.9036,2,      8.7,2,     7.4,2,   23.20,2,   29.80,2,    0.01,2,    2.43,2,-999.000,9,-999.000,9,-999.0000,9,  2250.8,2,  -999.0,9,   -999.0,9,  -999.00,   7.4595,2,    25.00,-999.000,9,-999.0000,9, -999.00,9, -999.00,9,  -999.0,9,-999.000,9,-999.000,-999.000,9,-999.000,9, -999.00,9, -999.00,9, -999.00,9, -999.00,9, -999.00,9,-999.000,-999.0000,9,-999.0000,9,-999.0000,9,-999.0000,9,-999.0000,9,-999.0000,9,-999.0000,9,-999.0000,9,-999.0000,9,  12.5245,     -999.0,9,     -999.0,9,     -999.0,9,     -999.0,9,     -999.0,9,     -999.0,9,     -999.0,9,-999.0000, -999.00
33RO20071215,        P18,      64,          1,         26,      12030,2,20080106,       0249,    -8.7497,  -104.7575,       3691,   216.0,  12.0831,  34.8846,2,  34.8839,2,     12.7,2,    12.5,2,   24.30,2,   31.60,2,    0.01,2,    2.38,2,-999.000,9,-999.000,9,-999.0000,9,  2249.3,2,  -999.0,9,   -999.0,9,  -999.00,   7.4698,2,    25.00,-999.000,9,-999.0000,9, -999.00,9, -999.00,9,  -999.0,9,-999.000,9,-999.000,-999.000,9,-999.000,9, -999.00,9, -999.00,9, -999.00,9, -999.00,9, -999.00,9,-999.000,-999.0000,9,-999.0000,9,-999.0000,9,-999.0000,9,-999.0000,9,-999.0000,9,-999.0000,9,-999.0000,9,-999.0000,9,  12.0548,     -999.0,9,     -999.0,9,     -999.0,9,     -999.0,9,     -999.0,9,     -999.0,9,     -999.0,9,-999.0000, -999.00
33RO20071215,        P18,      64,          1,         25,      12024,2,20080106,       0249,    -8.7497,  -104.7575,       3691,   268.0,  11.4902,  34.8457,2,  34.8466,2,     11.0,2,    12.3,2,   26.90,2,   33.10,2,    0.00,2,    2.43,2,-999.000,9,-999.000,9,-999.0000,9,  2254.0,2,  -999.0,9,   -999.0,9,  -999.00,   7.4534,2,    25.00,-999.000,9,-999.0000,9, -999.00,9, -999.00,9,  -999.0,9,-999.000,9,-999.000,-999.000,9,-999.000,9, -999.00,9, -999.00,9, -999.00,9, -999.00,9, -999.00,9,-999.000,-999.0000,9,-999.0000,9,-999.0000,9,-999.0000,9,-999.0000,9,-999.0000,9,-999.0000,9,-999.0000,9,-999.0000,9,  11.4562,     -999.0,9,     -999.0,9,     -999.0,9,     -999.0,9,     -999.0,9,     -999.0,9,     -999.0,9,-999.0000, -999.00
33RO20071215,        P18,      64,          1,         24,      12019,2,20080106,       0249,    -8.7497,  -104.7575,       3691,   317.1,  10.9438,  34.8079,2,  34.8032,2,     12.8,2,    13.8,2,   28.90,2,   33.90,2,    0.00,2,    2.50,2,-999.000,9,-999.000,9,-999.0000,9,  2258.1,2,  -999.0,9,   -999.0,9,  -999.00,   7.4544,2,    25.00,-999.000,9,-999.0000,9, -999.00,9, -999.00,9,  -999.0,9,-999.000,9,-999.000,-999.000,9,-999.000,9, -999.00,9, -999.00,9, -999.00,9, -999.00,9, -999.00,9,-999.000,-999.0000,9,-999.0000,9,-999.0000,9,-999.0000,9,-999.0000,9,-999.0000,9,-999.0000,9,-999.0000,9,-999.0000,9,  10.9047,     -999.0,9,     -999.0,9,     -999.0,9,     -999.0,9,     -999.0,9,     -999.0,9,     -999.0,9,-999.0000, -999.00
33RO20071215,        P18,      64,          1,         23,      12022,2,20080106,       0249,    -8.7497,  -104.7575,       3691,   367.4,  10.2823,  34.7638,2,  34.7658,2,      7.9,2,     8.7,2,   32.00,2,   35.10,2,    0.00,2,    2.62,2,-999.000,9,-999.000,9,-999.0000,9,  2267.5,2,  -999.0,9,   -999.0,9,  -999.00,   7.4110,2,    25.00,-999.000,9,-999.0000,9, -999.00,9, -999.00,9,  -999.0,9,-999.000,9,-999.000,-999.000,9,-999.000,9, -999.00,9, -999.00,9, -999.00,9, -999.00,9, -999.00,9,-999.000,-999.0000,9,-999.0000,9,-999.0000,9,-999.0000,9,-999.0000,9,-999.0000,9,-999.0000,9,-999.0000,9,-999.0000,9,  10.2387,     -999.0,9,     -999.0,9,     -999.0,9,     -999.0,9,     -999.0,9,     -999.0,9,     -999.0,9,-999.0000, -999.00
33RO20071215,        P18,      64,          1,         22,      12015,2,20080106,       0249,    -8.7497,  -104.7575,       3691,   432.4,   9.5263,  34.7151,2,  34.7119,2,     10.1,2,    10.6,2,   34.60,2,   37.30,2,    0.00,2,    2.71,2,-999.000,9,-999.000,9,-999.0000,9,  2271.6,2,  -999.0,9,   -999.0,9,  -999.00,   7.3993,2,    25.00,-999.000,9,-999.0000,9, -999.00,9, -999.00,9,  -999.0,9,-999.000,9,-999.000,-999.000,9,-999.000,9, -999.00,9, -999.00,9, -999.00,9, -999.00,9, -999.00,9,-999.000,-999.0000,9,-999.0000,9,-999.0000,9,-999.0000,9,-999.0000,9,-999.0000,9,-999.0000,9,-999.0000,9,-999.0000,9,   9.4772,     -999.0,9,     -999.0,9,     -999.0,9,     -999.0,9,     -999.0,9,     -999.0,9,     -999.0,9,-999.0000, -999.00
33RO20071215,        P18,      64,          1,         21,      12020,2,20080106,       0249,    -8.7497,  -104.7575,       3691,   534.0,   7.9988,  34.6243,2,  34.6232,2,     10.5,2,    10.8,2,   40.90,2,   41.40,2,    0.00,2,    2.94,2,-999.000,9,-999.000,9,-999.0000,9,  2284.0,6,  -999.0,9,   -999.0,9,  -999.00,   7.3630,2,    25.00,-999.000,9,-999.0000,9, -999.00,9, -999.00,9,  -999.0,9,-999.000,9,-999.000,-999.000,9,-999.000,9, -999.00,9, -999.00,9, -999.00,9, -999.00,9, -999.00,9,-999.000,-999.0000,9,-999.0000,9,-999.0000,9,-999.0000,9,-999.0000,9,-999.0000,9,-999.0000,9,-999.0000,9,-999.0000,9,   7.9439,     -999.0,9,     -999.0,9,     -999.0,9,     -999.0,9,     -999.0,9,     -999.0,9,     -999.0,9,-999.0000, -999.00
33RO20071215,        P18,      64,          1,         20,      12055,2,20080106,       0249,    -8.7497,  -104.7575,       3691,   633.9,   6.9256,  34.5809,2,  34.5798,2,     15.8,2,    16.0,2,   49.40,2,   44.00,2,    0.00,2,    3.06,2,-999.000,9,-999.000,9,-999.0000,9,  -999.0,9,  -999.0,9,   -999.0,9,  -999.00,-999.0000,9,  -999.00,-999.000,9,-999.0000,9, -999.00,9, -999.00,9,  -999.0,9,-999.000,9,-999.000,-999.000,9,-999.000,9, -999.00,9, -999.00,9, -999.00,9, -999.00,9, -999.00,9,-999.000,-999.0000,9,-999.0000,9,-999.0000,9,-999.0000,9,-999.0000,9,-999.0000,9,-999.0000,9,-999.0000,9,-999.0000,9,   6.8651,     -999.0,9,     -999.0,9,     -999.0,9,     -999.0,9,     -999.0,9,     -999.0,9,     -999.0,9,-999.0000, -999.00
33RO20071215,        P18,      64,          1,         19,      12018,2,20080106,       0249,    -8.7497,  -104.7575,       3691,   731.8,   5.9797,  34.5480,2,  34.5474,2,     42.9,2,    44.0,2,   56.20,2,   43.10,2,    0.00,2,    2.99,2,-999.000,9,-999.000,9,-999.0000,9,  2286.7,2,  -999.0,9,   -999.0,9,  -999.00,   7.4027,2,    25.00,-999.000,9,-999.0000,9, -999.00,9, -999.00,9,  -999.0,9,-999.000,9,-999.000,-999.000,9,-999.000,9, -999.00,9, -999.00,9, -999.00,9, -999.00,9, -999.00,9,-999.000,-999.0000,9,-999.0000,9,-999.0000,9,-999.0000,9,-999.0000,9,-999.0000,9,-999.0000,9,-999.0000,9,-999.0000,9,   5.9146,     -999.0,9,     -999.0,9,     -999.0,9,     -999.0,9,     -999.0,9,     -999.0,9,     -999.0,9,-999.0000, -999.00
33RO20071215,        P18,      64,          1,         18,      12025,2,20080106,       0249,    -8.7497,  -104.7575,       3691,   833.7,   5.3860,  34.5397,2,  34.5390,2,     61.1,2,    62.9,2,   64.00,2,   42.00,2,    0.00,2,    2.92,2,-999.000,9,-999.000,9,-999.0000,9,  -999.0,9,  -999.0,9,   -999.0,9,  -999.00,-999.0000,9,  -999.00,-999.000,9,-999.0000,9, -999.00,9, -999.00,9,  -999.0,9,-999.000,9,-999.000,-999.000,9,-999.000,9, -999.00,9, -999.00,9, -999.00,9, -999.00,9, -999.00,9,-999.000,-999.0000,9,-999.0000,9,-999.0000,9,-999.0000,9,-999.0000,9,-999.0000,9,-999.0000,9,-999.0000,9,-999.0000,9,   5.3150,     -999.0,9,     -999.0,9,     -999.0,9,     -999.0,9,     -999.0,9,     -999.0,9,     -999.0,9,-999.0000, -999.00
33RO20071215,        P18,      64,          1,         17,      12016,2,20080106,       0249,    -8.7497,  -104.7575,       3691,   932.7,   4.7901,  34.5399,2,  34.5389,2,     79.9,2,    79.2,2,   73.20,2,   40.80,2,    0.00,2,    2.86,2,-999.000,9,-999.000,9,-999.0000,9,  2287.1,2,  -999.0,9,   -999.0,9,  -999.00,   7.4612,2,    25.00,-999.000,9,-999.0000,9, -999.00,9, -999.00,9,  -999.0,9,-999.000,9,-999.000,-999.000,9,-999.000,9, -999.00,9, -999.00,9, -999.00,9, -999.00,9, -999.00,9,-999.000,-999.0000,9,-999.0000,9,-999.0000,9,-999.0000,9,-999.0000,9,-999.0000,9,-999.0000,9,-999.0000,9,-999.0000,9,   4.7142,     -999.0,9,     -999.0,9,     -999.0,9,     -999.0,9,     -999.0,9,     -999.0,9,     -999.0,9,-999.0000, -999.00
33RO20071215,        P18,      64,          1,         16,      12051,2,20080106,       0249,    -8.7497,  -104.7575,       3691,  1023.5,   4.3773,  34.5457,2,  34.5462,2,     85.4,2,    85.1,2,   80.90,2,   40.60,2,    0.00,2,    2.86,2,-999.000,9,-999.000,9,-999.0000,9,  -999.0,9,  -999.0,9,   -999.0,9,  -999.00,-999.0000,9,  -999.00,-999.000,9,-999.0000,9, -999.00,9, -999.00,9,  -999.0,9,-999.000,9,-999.000,-999.000,9,-999.000,9, -999.00,9, -999.00,9, -999.00,9, -999.00,9, -999.00,9,-999.000,-999.0000,9,-999.0000,9,-999.0000,9,-999.0000,9,-999.0000,9,-999.0000,9,-999.0000,9,-999.0000,9,-999.0000,9,   4.2967,     -999.0,9,     -999.0,9,     -999.0,9,     -999.0,9,     -999.0,9,     -999.0,9,     -999.0,9,-999.0000, -999.00
33RO20071215,        P18,      64,          1,         15,      12014,2,20080106,       0249,    -8.7497,  -104.7575,       3691,  1110.9,   4.0353,  34.5549,2,  34.5547,2,     94.0,2,    93.8,2,   87.90,2,   39.90,2,    0.00,2,    2.82,2,-999.000,9,-999.000,9,-999.0000,9,  2296.4,2,  -999.0,9,   -999.0,9,  -999.00,   7.4891,2,    25.00,-999.000,9,-999.0000,9, -999.00,9, -999.00,9,  -999.0,9,-999.000,9,-999.000,-999.000,9,-999.000,9, -999.00,9, -999.00,9, -999.00,9, -999.00,9, -999.00,9,-999.000,-999.0000,9,-999.0000,9,-999.0000,9,-999.0000,9,-999.0000,9,-999.0000,9,-999.0000,9,-999.0000,9,-999.0000,9,   3.9499,     -999.0,9,     -999.0,9,     -999.0,9,     -999.0,9,     -999.0,9,     -999.0,9,     -999.0,9,-999.0000, -999.00
33RO20071215,        P18,      64,          1,         14,      12013,2,20080106,       0249,    -8.7497,  -104.7575,       3691,  1231.0,   3.6368,  34.5683,2,  34.5679,2,    100.2,2,   100.0,2,   96.60,2,   39.50,2,    0.00,2,    2.79,2,-999.000,9,-999.000,9,-999.0000,9,  -999.0,9,  -999.0,9,   -999.0,9,  -999.00,-999.0000,9,  -999.00,-999.000,9,-999.0000,9, -999.00,9, -999.00,9,  -999.0,9,-999.000,9,-999.000,-999.000,9,-999.000,9, -999.00,9, -999.00,9, -999.00,9, -999.00,9, -999.00,9,-999.000,-999.0000,9,-999.0000,9,-999.0000,9,-999.0000,9,-999.0000,9,-999.0000,9,-999.0000,9,-999.0000,9,-999.0000,9,   3.5448,     -999.0,9,     -999.0,9,     -999.0,9,     -999.0,9,     -999.0,9,     -999.0,9,     -999.0,9,-999.0000, -999.00
33RO20071215,        P18,      64,          1,         13,      12012,2,20080106,       0249,    -8.7497,  -104.7575,       3691,  1332.8,   3.3829,  34.5787,2,  34.5785,2,    101.3,2,   101.2,2,  102.50,2,   39.70,2,    0.00,2,    2.79,2,-999.000,9,-999.000,9,-999.0000,9,  2308.0,2,  -999.0,9,   -999.0,9,  -999.00,   7.4970,2,    25.00,-999.000,9,-999.0000,9, -999.00,9, -999.00,9,  -999.0,9,-999.000,9,-999.000,-999.000,9,-999.000,9, -999.00,9, -999.00,9, -999.00,9, -999.00,9, -999.00,9,-999.000,-999.0000,9,-999.0000,9,-999.0000,9,-999.0000,9,-999.0000,9,-999.0000,9,-999.0000,9,-999.0000,9,-999.0000,9,   3.2848,     -999.0,9,     -999.0,9,     -999.0,9,     -999.0,9,     -999.0,9,     -999.0,9,     -999.0,9,-999.0000, -999.00
33RO20071215,        P18,      64,          1,         12,      12031,2,20080106,       0249,    -8.7497,  -104.7575,       3691,  1465.4,   3.0045,  34.5977,2,  34.5981,2,    104.6,2,   105.9,2,  113.00,2,   39.50,2,    0.00,2,    2.78,2,-999.000,9,-999.000,9,-999.0000,9,  -999.0,9,  -999.0,9,   -999.0,9,  -999.00,-999.0000,9,  -999.00,-999.000,9,-999.0000,9, -999.00,9, -999.00,9,  -999.0,9,-999.000,9,-999.000,-999.000,9,-999.000,9, -999.00,9, -999.00,9, -999.00,9, -999.00,9, -999.00,9,-999.000,-999.0000,9,-999.0000,9,-999.0000,9,-999.0000,9,-999.0000,9,-999.0000,9,-999.0000,9,-999.0000,9,-999.0000,9,   2.8994,     -999.0,9,     -999.0,9,     -999.0,9,     -999.0,9,     -999.0,9,     -999.0,9,     -999.0,9,-999.0000, -999.00