BOTTLE,20220818CCHSIOAMB
EXPOCODE,SECT_ID,STNNBR,CASTNO,SAMPNO,BTLNBR,BTLNBR_FLAG_W,DATE,TIME,LATITUDE,LONGITUDE,DEPTH,CTDPRS,CTDTMP,CTDSAL,CTDSAL_FLAG_W,SALNTY,SALNTY_FLAG_W,CTDOXY,CTDOXY_FLAG_W,OXYGEN,OXYGEN_FLAG_W,SILCAT,SILCAT_FLAG_W,NITRAT,NITRAT_FLAG_W,NITRIT,NITRIT_FLAG_W,PHSPHT,PHSPHT_FLAG_W,CFC-11,CFC-11_FLAG_W,CFC-12,CFC-12_FLAG_W,SF6,SF6_FLAG_W,TCARBN,TCARBN_FLAG_W,ALKALI,ALKALI_FLAG_W,FCO2,FCO2_FLAG_W,FCO2TMP,PH_SWS,PH_SWS_FLAG_W,PH_TMP,TRITUM,TRITUM_FLAG_W,HELIUM,HELIUM_FLAG_W,DELHE3,DELHE3_FLAG_W,DELC13,DELC13_FLAG_W,DELC14,DELC14_FLAG_W,NEON,NEON_FLAG_W,NEONER,CCL4,CCL4_FLAG_W,POC,POC_FLAG_W,DOC,DOC_FLAG_W,TDN,TDN_FLAG_W,DON,DON_FLAG_W,CHLORA,CHLORA_FLAG_W,ARGON,ARGON_FLAG_W,TRITER,CDOM325,CDOM325_FLAG_W,CDOM340,CDOM340_FLAG_W,CDOM380,CDOM380_FLAG_W,CDOM412,CDOM412_FLAG_W,CDOM443,CDOM443_FLAG_W,CDOM490,CDOM490_FLAG_W,CDOM555,CDOM555_FLAG_W,CDOMSL,CDOMSL_FLAG_W,CDOMSN,CDOMSN_FLAG_W,THETA,D18O_NO3,D18O_NO3_FLAG_W,CDOM2C,CDOM2C_FLAG_W,CDOM3C,CDOM3C_FLAG_W,LAB_DEN,LAB_DEN_FLAG_W,DELSI30,DELSI30_FLAG_W,N2,N2_FLAG_W,D15N_NO3,D15N_NO3_FLAG_W,HELIER,DELHER
,,,,,,,,,,,METERS,DBAR,ITS-90,PSS-78,,PSS-78,,UMOL/KG,,UMOL/KG,,UMOL/KG,,UMOL/KG,,UMOL/KG,,UMOL/KG,,PMOL/KG,,PMOL/KG,,FMOL/KG,,UMOL/KG,,UMOL/KG,,UATM,,DEG C,,,DEG C,TU,,NMOL/KG,,PERCNT,,/MILLE,,/MILLE,,NMOL/KG,,NMOL/KG,PMOL/KG,,UG/KG,,UMOL/KG,,UMOL/KG,,UMOL/KG,,UG/KG,,UMOL/KG,,TU,1/M,,1/M,,1/M,,1/M,,1/M,,1/M,,1/M,,1/NM,,1/NM,,DEG C,/MILLE,,,,,,,,/MILLE,,UMOL/KG,,/MILLE,,NMOL/KG,PERCNT
33RO20071215,        P18,     120,          1,         36,      12017,2,20080129,       0117,   -40.9155,  -103.0002,       4059,     5.5,  16.6424,  33.9111,2,  33.9163,2,    249.8,2,   249.6,2,    1.20,2,   10.30,2,    0.28,2,    0.72,2,   2.760,2,   1.650,2,   1.4014,2,  2046.2,6,  2258.5,2,    485.0,2,    20.00,   7.8914,2,    25.00,-999.000,9,-999.0000,9, -999.00,9, -999.00,9,  -999.0,9,-999.000,9,-999.000,-999.000,9,-999.000,9,   55.30,2,   15.07,2, -999.00,1, -999.00,9, -999.00,9,-999.000,-999.0000,9,-999.0000,9,-999.0000,9,-999.0000,9,-999.0000,9,-999.0000,9,-999.0000,9,-999.0000,9,-999.0000,9,  16.6415,     -999.0,9,     -999.0,9,     -999.0,9,     -999.0,1,     -999.0,9,     -999.0,9,     -999.0,9,-999.0000, -999.00
33RO20071215,        P18,     120,          1,         35,      12029,2,20080129,       0117,   -40.9155,  -103.0002,       4059,    10.6,  16.3342,  33.9327,2,  33.9355,2,    249.6,2,   251.2,2,    1.20,2,   10.50,2,    0.27,2,    0.72,2,   2.792,2,   1.655,2,   1.2838,2,  2047.7,2,  -999.0,9,   -999.0,9,  -999.00,   7.8917,2,    25.00,-999.000,9,-999.0000,9, -999.00,9,    1.75,2,  -999.0,1,-999.000,9,-999.000,-999.000,9,-999.000,9,   55.13,2,   14.99,2, -999.00,1, -999.00,9, -999.00,9,-999.000,-999.0000,9,-999.0000,9,-999.0000,9,-999.0000,9,-999.0000,9,-999.0000,9,-999.0000,9,-999.0000,9,-999.0000,9,  16.3325,     -999.0,9,     -999.0,9,     -999.0,9,     -999.0,9,     -999.0,9,     -999.0,9,     -999.0,9,-999.0000, -999.00
33RO20071215,        P18,     120,          1,         34,      12049,2,20080129,       0117,   -40.9155,  -103.0002,       4059,    20.1,  15.8230,  33.9435,2,  33.9439,2,    253.1,2,   254.1,2,    1.20,2,   10.40,2,    0.26,2,    0.72,2,-999.000,9,-999.000,9,-999.0000,9,  2049.1,2,  -999.0,9,   -999.0,9,  -999.00,   7.8812,2,    25.00,-999.000,9,-999.0000,9, -999.00,9, -999.00,9,  -999.0,9,-999.000,9,-999.000,-999.000,9,-999.000,9,   54.60,2,   15.48,2, -999.00,1, -999.00,9, -999.00,9,-999.000,-999.0000,9,-999.0000,9,-999.0000,9,-999.0000,9,-999.0000,9,-999.0000,9,-999.0000,9,-999.0000,9,-999.0000,9,  15.8199,     -999.0,9,     -999.0,9,     -999.0,9,     -999.0,9,     -999.0,9,     -999.0,9,     -999.0,9,-999.0000, -999.00
33RO20071215,        P18,     120,          1,         33,      12027,2,20080129,       0117,   -40.9155,  -103.0002,       4059,    41.2,  13.0288,  34.0349,2,  34.0363,2,    280.2,2,   279.5,2,    1.20,2,    9.80,2,    0.13,2,    0.69,2,   3.345,6,   1.946,6,   1.5456,6,  2056.2,2,  2267.2,2,    496.5,6,    20.00,   7.8858,2,    25.00,-999.000,9,-999.0000,9, -999.00,9, -999.00,9,  -999.0,9,-999.000,9,-999.000,-999.000,9,-999.000,9,   54.54,2,   13.37,2, -999.00,1, -999.00,9, -999.00,9,-999.000,-999.0000,9,-999.0000,9,-999.0000,9,-999.0000,9,-999.0000,9,-999.0000,9,-999.0000,9,-999.0000,9,-999.0000,9,  13.0232,     -999.0,9,     -999.0,9,     -999.0,9,     -999.0,1,     -999.0,9,     -999.0,9,     -999.0,9,-999.0000, -999.00
33RO20071215,        P18,     120,          1,         32,      12023,2,20080129,       0117,   -40.9155,  -103.0002,       4059,    68.5,  11.3242,  34.0794,2,  34.0803,2,    274.9,2,   277.0,2,    1.20,2,   10.30,2,    0.23,2,    0.72,2,-999.000,9,-999.000,9,-999.0000,9,  2066.7,2,  -999.0,9,   -999.0,9,  -999.00,   7.8581,2,    25.00,-999.000,9,-999.0000,9, -999.00,9, -999.00,9,  -999.0,9,-999.000,9,-999.000,-999.000,9,-999.000,9,   54.30,2,   13.51,2, -999.00,1, -999.00,9, -999.00,9,-999.000,-999.0000,9,-999.0000,9,-999.0000,9,-999.0000,9,-999.0000,9,-999.0000,9,-999.0000,9,-999.0000,9,-999.0000,9,  11.3157,     -999.0,9,     -999.0,9,     -999.0,9,     -999.0,9,     -999.0,9,     -999.0,9,     -999.0,9,-999.0000, -999.00
33RO20071215,        P18,     120,          1,         31,      12037,2,20080129,       0117,   -40.9155,  -103.0002,       4059,    91.3,  10.5536,  34.0706,2,  34.0723,2,    276.6,2,   275.9,2,    1.30,2,   11.90,2,    0.31,2,    0.83,2,   3.616,2,   2.084,2,   1.6116,2,  2075.9,2,  2265.4,2,    551.5,2,    20.00,   7.8434,2,    25.00,-999.000,9,-999.0000,9, -999.00,9, -999.00,9,  -999.0,9,-999.000,9,-999.000,-999.000,9,-999.000,9,   53.69,2,   14.73,2, -999.00,1, -999.00,9, -999.00,9,-999.000,-999.0000,9,-999.0000,9,-999.0000,9,-999.0000,9,-999.0000,9,-999.0000,9,-999.0000,9,-999.0000,9,-999.0000,9,  10.5428,     -999.0,9,     -999.0,9,     -999.0,9,     -999.0,1,     -999.0,9,     -999.0,9,     -999.0,9,-999.0000, -999.00
33RO20071215,        P18,     120,          1,         30,      12036,2,20080129,       0117,   -40.9155,  -103.0002,       4059,   116.4,   9.8105,  34.0817,2,  34.0844,2,    274.9,2,   272.4,2,    1.60,2,   13.20,2,    0.55,2,    0.93,2,-999.000,9,-999.000,9,-999.0000,9,  2087.3,2,  -999.0,9,   -999.0,9,  -999.00,   7.8214,2,    25.00,-999.000,9,-999.0000,9, -999.00,9, -999.00,9,  -999.0,9,-999.000,9,-999.000,-999.000,9,-999.000,9,   48.34,2,   16.02,2, -999.00,1, -999.00,9, -999.00,9,-999.000,-999.0000,9,-999.0000,9,-999.0000,9,-999.0000,9,-999.0000,9,-999.0000,9,-999.0000,9,-999.0000,9,-999.0000,9,   9.7974,     -999.0,9,     -999.0,9,     -999.0,9,     -999.0,9,     -999.0,9,     -999.0,9,     -999.0,9,-999.0000, -999.00
33RO20071215,        P18,     120,          1,         29,      12044,2,20080129,       0117,   -40.9155,  -103.0002,       4059,   142.2,   9.1186,  34.1136,2,  34.1216,2,    264.6,2,   264.8,2,    2.00,2,   15.50,2,    0.33,2,    1.05,2,-999.000,5,-999.000,5,-999.0000,5,  2100.7,2,  -999.0,9,   -999.0,9,  -999.00,   7.7934,2,    25.00,-999.000,9,-999.0000,9, -999.00,9, -999.00,9,  -999.0,9,-999.000,9,-999.000,-999.000,9,-999.000,9,   47.27,2,   18.67,2, -999.00,1, -999.00,9, -999.00,9,-999.000,-999.0000,9,-999.0000,9,-999.0000,9,-999.0000,9,-999.0000,9,-999.0000,9,-999.0000,9,-999.0000,9,-999.0000,9,   9.1033,     -999.0,9,     -999.0,9,     -999.0,9,     -999.0,9,     -999.0,9,     -999.0,9,     -999.0,9,-999.0000, -999.00
33RO20071215,        P18,     120,          1,         28,      12057,2,20080129,       0117,   -40.9155,  -103.0002,       4059,   167.0,   8.4903,  34.1774,2,  34.1757,2,    252.0,2,   251.6,2,    2.60,2,   17.70,2,    0.03,2,    1.17,2,-999.000,9,-999.000,9,-999.0000,9,  2115.6,2,  -999.0,9,   -999.0,9,  -999.00,   7.7643,2,    25.00,-999.000,9,-999.0000,9, -999.00,9, -999.00,9,  -999.0,9,-999.000,9,-999.000,-999.000,9,-999.000,9,   46.51,2,   20.44,2, -999.00,1, -999.00,9, -999.00,1,-999.000,-999.0000,9,-999.0000,9,-999.0000,9,-999.0000,9,-999.0000,9,-999.0000,9,-999.0000,9,-999.0000,9,-999.0000,9,   8.4730,     -999.0,1,     -999.0,9,     -999.0,9,     -999.0,9,     -999.0,9,     -999.0,1,     -999.0,9,-999.0000, -999.00
33RO20071215,        P18,     120,          1,         27,      12026,2,20080129,       0117,   -40.9155,  -103.0002,       4059,   191.8,   7.9250,  34.2128,2,  34.2104,2,    249.5,2,   250.4,2,    3.30,2,   19.20,2,    0.01,2,    1.26,2,   4.060,2,   2.214,2,   1.3819,2,  2123.3,2,  2271.3,2,    717.5,2,    20.00,   7.7497,2,    25.00,-999.000,9,-999.0000,9, -999.00,9, -999.00,9,  -999.0,9,-999.000,9,-999.000,-999.000,9,-999.000,9,   45.95,2,   21.08,2, -999.00,1, -999.00,9, -999.00,1,-999.000,-999.0000,9,-999.0000,9,-999.0000,9,-999.0000,9,-999.0000,9,-999.0000,9,-999.0000,9,-999.0000,9,-999.0000,9,   7.9059,     -999.0,1,     -999.0,9,     -999.0,9,     -999.0,1,     -999.0,9,     -999.0,1,     -999.0,9,-999.0000, -999.00
33RO20071215,        P18,     120,          1,         26,      12030,2,20080129,       0117,   -40.9155,  -103.0002,       4059,   232.3,   7.3333,  34.2489,2,  34.2486,2,    255.6,2,   255.1,2,    4.40,2,   20.10,2,    0.01,2,    1.32,2,-999.000,9,-999.000,9,-999.0000,9,  2130.1,2,  -999.0,9,   -999.0,9,  -999.00,   7.7431,2,    25.00,-999.000,9,-999.0000,9, -999.00,9, -999.00,9,  -999.0,9,-999.000,9,-999.000,-999.000,9,-999.000,9,   44.88,2,   22.06,2, -999.00,1, -999.00,9, -999.00,1,-999.000,-999.0000,9,-999.0000,9,-999.0000,9,-999.0000,9,-999.0000,9,-999.0000,9,-999.0000,9,-999.0000,9,-999.0000,9,   7.3112,     -999.0,1,     -999.0,9,     -999.0,9,     -999.0,9,     -999.0,9,     -999.0,1,     -999.0,9,-999.0000, -999.00
33RO20071215,        P18,     120,          1,         25,      12024,2,20080129,       0117,   -40.9155,  -103.0002,       4059,   282.5,   6.8784,  34.2911,2,  34.2943,2,    246.8,2,   247.2,2,    6.20,2,   22.10,2,    0.00,2,    1.45,2,   4.048,2,   2.124,2,   1.0538,2,  2139.9,2,  2276.2,2,    775.9,2,    20.00,   7.7147,2,    25.00,-999.000,9,-999.0000,9, -999.00,9, -999.00,9,  -999.0,9,-999.000,9,-999.000,-999.000,9,-999.000,9,   44.26,2,   23.49,2, -999.00,1, -999.00,9, -999.00,1,-999.000,-999.0000,9,-999.0000,9,-999.0000,9,-999.0000,9,-999.0000,9,-999.0000,9,-999.0000,9,-999.0000,9,-999.0000,9,   6.8524,     -999.0,1,     -999.0,9,     -999.0,9,     -999.0,1,     -999.0,9,     -999.0,1,     -999.0,9,-999.0000, -999.00
33RO20071215,        P18,     120,          1,         24,      12019,2,20080129,       0117,   -40.9155,  -103.0002,       4059,   333.3,   6.6577,  34.3148,2,  34.3141,2,    250.2,2,   252.4,2,    7.00,2,   22.30,2,    0.00,2,    1.46,2,-999.000,9,-999.000,9,-999.0000,9,  2141.9,2,  -999.0,9,   -999.0,9,  -999.00,   7.7204,2,    25.00,-999.000,9,-999.0000,9, -999.00,9, -999.00,9,  -999.0,9,-999.000,9,-999.000,-999.000,9,-999.000,9,   43.68,2,   23.32,2, -999.00,1, -999.00,9, -999.00,1,-999.000,-999.0000,9,-999.0000,9,-999.0000,9,-999.0000,9,-999.0000,9,-999.0000,9,-999.0000,9,-999.0000,9,-999.0000,9,   6.6274,     -999.0,1,     -999.0,9,     -999.0,9,     -999.0,9,     -999.0,9,     -999.0,1,     -999.0,9,-999.0000, -999.00
33RO20071215,        P18,     120,          1,         23,      12022,2,20080129,       0117,   -40.9155,  -103.0002,       4059,   383.1,   6.4805,  34.3144,2,  34.3141,2,    254.5,2,   255.7,2,    7.60,2,   22.50,2,    0.00,2,    1.47,2,   4.060,2,   2.114,2,   1.0787,2,  2140.7,2,  2282.1,2,    765.3,2,    20.00,   7.7163,2,    25.00,-999.000,9,-999.0000,9, -999.00,9, -999.00,9,  -999.0,9,-999.000,9,-999.000,-999.000,9,-999.000,9,   42.76,2,   23.62,2, -999.00,1, -999.00,9, -999.00,9,-999.000,-999.0000,9,-999.0000,9,-999.0000,9,-999.0000,9,-999.0000,9,-999.0000,9,-999.0000,9,-999.0000,9,-999.0000,9,   6.4461,     -999.0,9,     -999.0,9,     -999.0,9,     -999.0,1,     -999.0,9,     -999.0,9,     -999.0,9,-999.0000, -999.00
33RO20071215,        P18,     120,          1,         22,      12015,2,20080129,       0117,   -40.9155,  -103.0002,       4059,   467.3,   6.2563,  34.3045,2,  34.3046,2,    255.8,2,   256.0,2,    8.30,2,   23.10,2,    0.00,2,    1.51,2,-999.000,9,-999.000,9,-999.0000,9,  2141.6,2,  2281.3,2,    772.5,2,    20.00,   7.7235,2,    25.00,-999.000,9,-999.0000,9, -999.00,9, -999.00,9,  -999.0,9,-999.000,9,-999.000,-999.000,9,-999.000,9,   42.27,2,   24.54,2, -999.00,1, -999.00,9, -999.00,9,-999.000,-999.0000,9,-999.0000,9,-999.0000,9,-999.0000,9,-999.0000,9,-999.0000,9,-999.0000,9,-999.0000,9,-999.0000,9,   6.2148,     -999.0,9,     -999.0,9,     -999.0,9,     -999.0,1,     -999.0,9,     -999.0,9,     -999.0,9,-999.0000, -999.00
33RO20071215,        P18,     120,          1,         21,      12020,2,20080129,       0117,   -40.9155,  -103.0002,       4059,   566.8,   5.9092,  34.2783,2,  34.2768,2,    258.3,2,   258.5,2,    9.60,2,   23.70,2,    0.00,2,    1.56,2,   3.850,2,   1.975,2,   0.9709,2,  2142.6,2,  2277.7,2,    778.1,2,    20.00,   7.7218,2,    25.00,-999.000,9,-999.0000,9, -999.00,9, -999.00,9,  -999.0,9,-999.000,9,-999.000,-999.000,9,-999.000,9,   41.79,2,   25.50,2, -999.00,1, -999.00,9, -999.00,9,-999.000,-999.0000,9,-999.0000,9,-999.0000,9,-999.0000,9,-999.0000,9,-999.0000,9,-999.0000,9,-999.0000,9,-999.0000,9,   5.8600,     -999.0,9,     -999.0,9,     -999.0,9,     -999.0,1,     -999.0,9,     -999.0,9,     -999.0,9,-999.0000, -999.00
33RO20071215,        P18,     120,          1,         20,      12055,2,20080129,       0117,   -40.9155,  -103.0002,       4059,   666.5,   5.6038,  34.2697,2,  34.2695,2,    248.9,2,   249.4,2,   11.70,2,   25.10,2,    0.00,2,    1.66,2,-999.000,9,-999.000,9,-999.0000,9,  2148.3,2,  2282.6,2,    813.5,2,    20.00,   7.6962,2,    25.00,-999.000,9,-999.0000,9, -999.00,9, -999.00,9,  -999.0,9,-999.000,9,-999.000,-999.000,9,-999.000,9,   41.24,2,   26.96,2, -999.00,1, -999.00,9, -999.00,9,-999.000,-999.0000,9,-999.0000,9,-999.0000,9,-999.0000,9,-999.0000,9,-999.0000,9,-999.0000,9,-999.0000,9,-999.0000,9,   5.5470,     -999.0,9,     -999.0,9,     -999.0,9,     -999.0,1,     -999.0,9,     -999.0,9,     -999.0,9,-999.0000, -999.00
33RO20071215,        P18,     120,          1,         19,      12018,2,20080129,       0117,   -40.9155,  -103.0002,       4059,   765.9,   5.2141,  34.2644,2,  34.2651,2,    236.5,2,   236.4,2,   15.70,2,   27.00,2,    0.00,2,    1.80,2,   2.612,2,   1.308,2,   0.4809,2,  2165.3,2,  -999.0,9,   -999.0,9,  -999.00,   7.6806,2,    25.00,-999.000,9,-999.0000,9, -999.00,9, -999.00,9,  -999.0,9,-999.000,9,-999.000,-999.000,9,-999.000,9,   40.82,2,   28.70,2, -999.00,1, -999.00,9, -999.00,9,-999.000,-999.0000,9,-999.0000,9,-999.0000,9,-999.0000,9,-999.0000,9,-999.0000,9,-999.0000,9,-999.0000,9,-999.0000,9,   5.1507,     -999.0,9,     -999.0,9,     -999.0,9,     -999.0,9,     -999.0,9,     -999.0,9,     -999.0,9,-999.0000, -999.00
33RO20071215,        P18,     120,          1,         18,      12025,2,20080129,       0117,   -40.9155,  -103.0002,       4059,   867.4,   4.8124,  34.2760,2,  34.2749,2,    221.6,2,   221.1,2,   21.60,2,   29.10,2,    0.00,2,    1.96,2,-999.000,9,-999.000,9,-999.0000,9,  2175.4,2,  2286.2,2,    928.7,2,    20.00,   7.6490,2,    25.00,-999.000,9,-999.0000,9, -999.00,9, -999.00,9,  -999.0,9,-999.000,9,-999.000,-999.000,9,-999.000,9,   40.71,2,   30.76,2, -999.00,1, -999.00,9, -999.00,9,-999.000,-999.0000,9,-999.0000,9,-999.0000,9,-999.0000,9,-999.0000,9,-999.0000,9,-999.0000,9,-999.0000,9,-999.0000,9,   4.7426,     -999.0,9,     -999.0,9,     -999.0,9,     -999.0,1,     -999.0,9,     -999.0,9,     -999.0,9,-999.0000, -999.00
33RO20071215,        P18,     120,          1,         17,      12016,2,20080129,       0117,   -40.9155,  -103.0002,       4059,   965.9,   4.3797,  34.2963,2,  34.2956,2,    208.8,2,   208.6,2,   28.70,2,   30.80,2,    0.00,2,    2.08,2,   1.218,2,   0.625,2,   0.1321,2,  2192.0,2,  -999.0,9,   -999.0,9,  -999.00,   7.6279,2,    25.00,-999.000,9,-999.0000,9, -999.00,9, -999.00,9,  -999.0,9,-999.000,9,-999.000,-999.000,9,-999.000,9,   39.59,2,   32.18,2, -999.00,1, -999.00,9, -999.00,9,-999.000,-999.0000,9,-999.0000,9,-999.0000,9,-999.0000,9,-999.0000,9,-999.0000,9,-999.0000,9,-999.0000,9,-999.0000,9,   4.3044,     -999.0,9,     -999.0,9,     -999.0,9,     -999.0,9,     -999.0,9,     -999.0,9,     -999.0,9,-999.0000, -999.00
33RO20071215,        P18,     120,          1,         16,      12051,2,20080129,       0117,   -40.9155,  -103.0002,       4059,  1066.2,   3.8790,  34.3306,2,  34.3311,2,    192.6,2,   192.6,2,   39.00,2,   32.80,2,    0.00,2,    2.24,2,-999.000,9,-999.000,9,-999.0000,9,  2210.1,2,  2300.3,2,   1072.3,2,    20.00,   7.5937,2,    25.00,-999.000,9,-999.0000,9, -999.00,9, -999.00,9,  -999.0,9,-999.000,9,-999.000,-999.000,9,-999.000,9,   39.10,2,   33.98,2, -999.00,1, -999.00,9, -999.00,9,-999.000,-999.0000,9,-999.0000,9,-999.0000,9,-999.0000,9,-999.0000,9,-999.0000,9,-999.0000,9,-999.0000,9,-999.0000,9,   3.7991,     -999.0,9,     -999.0,9,     -999.0,9,     -999.0,1,     -999.0,9,     -999.0,9,     -999.0,9,-999.0000, -999.00
33RO20071215,        P18,     120,          1,         15,      12014,2,20080129,       0117,   -40.9155,  -103.0002,       4059,  1165.5,   3.5255,  34.3816,2,  34.3822,2,    171.5,2,   172.4,2,   50.70,2,   34.70,2,    0.00,2,    2.39,2,   0.243,2,   0.135,2,   0.0000,2,  2230.9,2,  -999.0,9,   -999.0,9,  -999.00,   7.5702,2,    25.00,-999.000,9,-999.0000,9, -999.00,9, -999.00,9,  -999.0,9,-999.000,9,-999.000,-999.000,9,-999.000,9,   38.61,2,   35.64,2, -999.00,1, -999.00,9, -999.00,9,-999.000,-999.0000,9,-999.0000,9,-999.0000,9,-999.0000,9,-999.0000,9,-999.0000,9,-999.0000,9,-999.0000,9,-999.0000,9,   3.4403,     -999.0,9,     -999.0,9,     -999.0,9,     -999.0,9,     -999.0,9,     -999.0,9,     -999.0,9,-999.0000, -999.00
33RO20071215,        P18,     120,          1,         14,      12013,2,20080129,       0117,   -40.9155,  -103.0002,       4059,  1333.6,   3.2346,  34.4685,2,  34.4686,2,    142.1,2,   141.8,2,   69.50,2,   37.00,2,    0.00,2,    2.59,2,-999.000,9,-999.000,9,-999.0000,9,  2264.9,6,  2334.1,2,   1289.0,2,    20.00,   7.5230,2,    25.00,-999.000,9,-999.0000,9, -999.00,9, -999.00,9,  -999.0,9,-999.000,9,-999.000,-999.000,9,-999.000,9,   38.30,2,   37.98,2, -999.00,1, -999.00,9, -999.00,9,-999.000,-999.0000,9,-999.0000,9,-999.0000,9,-999.0000,9,-999.0000,9,-999.0000,9,-999.0000,9,-999.0000,9,-999.0000,9,   3.1383,     -999.0,9,     -999.0,9,     -999.0,9,     -999.0,1,     -999.0,9,     -999.0,9,     -999.0,9,-999.0000, -999.00
33RO20071215,        P18,     120,          1,         13,      12012,2,20080129,       0117,   -40.9155,  -103.0002,       4059,  1533.0,   2.8950,  34.5371,2,  34.5384,2,    137.4,2,   136.9,2,   84.70,2,   37.10,2,    0.00,2,    2.59,2,   0.009,3,   0.006,2,   0.0000,2,  2279.9,2,  -999.0,9,   -999.0,9,  -999.00,   7.5296,2,    25.00,-999.000,9,-999.0000,9, -999.00,9, -999.00,9,  -999.0,9,-999.000,9,-999.000,-999.000,9,-999.000,9,   37.98,2,   38.53,2, -999.00,1, -999.00,9, -999.00,9,-999.000,-999.0000,9,-999.0000,9,-999.0000,9,-999.0000,9,-999.0000,9,-999.0000,9,-999.0000,9,-999.0000,9,-999.0000,9,   2.7857,     -999.0,9,     -999.0,9,     -999.0,9,     -999.0,9,     -999.0,9,     -999.0,9,     -999.0,9,-999.0000, -999.00
33RO20071215,        P18,     120,          1,         12,      12031,2,20080129,       0117,   -40.9155,  -103.0002,       4059,  1732.8,   2.5555,  34.5801,2,  34.5797,2,    150.3,2,   151.2,2,   90.20,2,   35.70,2,    0.00,2,    2.49,2,-999.000,9,-999.000,9,-999.0000,9,  2277.4,2,  2361.5,4,   1234.4,2,    20.00,   7.5469,2,    25.00,-999.000,9,-999.0000,9, -999.00,9, -999.00,9,  -999.0,9,-999.000,9,-999.000,-999.000,9,-999.000,9,   37.97,2,   37.33,2, -999.00,1, -999.00,9, -999.00,9,-999.000,-999.0000,9,-999.0000,9,-999.0000,9,-999.0000,9,-999.0000,9,-999.0000,9,-999.0000,9,-999.0000,9,-999.0000,9,   2.4337,     -999.0,9,     -999.0,9,     -999.0,9,     -999.0,1,     -999.0,9,     -999.0,9,     -999.0,9,-999.0000, -999.00