BOTTLE,20220818CCHSIOAMB
EXPOCODE,SECT_ID,STNNBR,CASTNO,SAMPNO,BTLNBR,BTLNBR_FLAG_W,DATE,TIME,LATITUDE,LONGITUDE,DEPTH,CTDPRS,CTDTMP,CTDSAL,CTDSAL_FLAG_W,SALNTY,SALNTY_FLAG_W,CTDOXY,CTDOXY_FLAG_W,OXYGEN,OXYGEN_FLAG_W,SILCAT,SILCAT_FLAG_W,NITRAT,NITRAT_FLAG_W,NITRIT,NITRIT_FLAG_W,PHSPHT,PHSPHT_FLAG_W,CFC-11,CFC-11_FLAG_W,CFC-12,CFC-12_FLAG_W,SF6,SF6_FLAG_W,TCARBN,TCARBN_FLAG_W,ALKALI,ALKALI_FLAG_W,FCO2,FCO2_FLAG_W,FCO2TMP,PH_SWS,PH_SWS_FLAG_W,PH_TMP,TRITUM,TRITUM_FLAG_W,HELIUM,HELIUM_FLAG_W,DELHE3,DELHE3_FLAG_W,DELC13,DELC13_FLAG_W,DELC14,DELC14_FLAG_W,NEON,NEON_FLAG_W,NEONER,CCL4,CCL4_FLAG_W,POC,POC_FLAG_W,DOC,DOC_FLAG_W,TDN,TDN_FLAG_W,DON,DON_FLAG_W,CHLORA,CHLORA_FLAG_W,ARGON,ARGON_FLAG_W,TRITER,CDOM325,CDOM325_FLAG_W,CDOM340,CDOM340_FLAG_W,CDOM380,CDOM380_FLAG_W,CDOM412,CDOM412_FLAG_W,CDOM443,CDOM443_FLAG_W,CDOM490,CDOM490_FLAG_W,CDOM555,CDOM555_FLAG_W,CDOMSL,CDOMSL_FLAG_W,CDOMSN,CDOMSN_FLAG_W,THETA,D18O_NO3,D18O_NO3_FLAG_W,CDOM2C,CDOM2C_FLAG_W,CDOM3C,CDOM3C_FLAG_W,LAB_DEN,LAB_DEN_FLAG_W,DELSI30,DELSI30_FLAG_W,N2,N2_FLAG_W,D15N_NO3,D15N_NO3_FLAG_W,HELIER,DELHER
,,,,,,,,,,,METERS,DBAR,ITS-90,PSS-78,,PSS-78,,UMOL/KG,,UMOL/KG,,UMOL/KG,,UMOL/KG,,UMOL/KG,,UMOL/KG,,PMOL/KG,,PMOL/KG,,FMOL/KG,,UMOL/KG,,UMOL/KG,,UATM,,DEG C,,,DEG C,TU,,NMOL/KG,,PERCNT,,/MILLE,,/MILLE,,NMOL/KG,,NMOL/KG,PMOL/KG,,UG/KG,,UMOL/KG,,UMOL/KG,,UMOL/KG,,UG/KG,,UMOL/KG,,TU,1/M,,1/M,,1/M,,1/M,,1/M,,1/M,,1/M,,1/NM,,1/NM,,DEG C,/MILLE,,,,,,,,/MILLE,,UMOL/KG,,/MILLE,,NMOL/KG,PERCNT
33RO20071215,        P18,      81,          1,         36,      12017,2,20080111,       1034,   -18.1663,  -103.0013,       3987,     5.0,  22.2443,  35.9803,2,  35.9797,2,    219.5,2,   219.8,2,    0.70,2,    0.10,2,    0.00,2,    0.32,2,   2.049,6,   1.266,6,   1.0306,6,  2079.0,6,  2380.3,2,   -999.0,9,  -999.00,   8.0102,2,    25.00,   0.312,2,-999.0000,9, -999.00,9,    1.62,2,  -999.0,1,-999.000,9,-999.000,-999.000,9,-999.000,9,   72.50,2,    4.75,2, -999.00,1, -999.00,9, -999.00,9,   0.007,-999.0000,9,-999.0000,9,-999.0000,9,-999.0000,9,-999.0000,9,-999.0000,9,-999.0000,9,-999.0000,9,-999.0000,9,  22.2433,     -999.0,9,     -999.0,9,     -999.0,9,     -999.0,9,     -999.0,9,     -999.0,9,     -999.0,9,-999.0000, -999.00
33RO20071215,        P18,      81,          1,         35,      12029,2,20080111,       1034,   -18.1663,  -103.0013,       3987,    10.3,  22.2466,  35.9800,2,  35.9794,2,    219.7,2,   220.0,2,    0.70,2,    0.10,2,    0.00,2,    0.33,2,-999.000,9,-999.000,9,-999.0000,9,  2076.5,2,  2381.6,2,   -999.0,9,  -999.00,   8.0096,2,    25.00,-999.000,9,-999.0000,9, -999.00,9, -999.00,9,  -999.0,9,-999.000,9,-999.000,-999.000,9,-999.000,9,   70.98,2,    5.36,2, -999.00,1, -999.00,9, -999.00,9,-999.000,-999.0000,9,-999.0000,9,-999.0000,9,-999.0000,9,-999.0000,9,-999.0000,9,-999.0000,9,-999.0000,9,-999.0000,9,  22.2445,     -999.0,9,     -999.0,9,     -999.0,9,     -999.0,9,     -999.0,9,     -999.0,9,     -999.0,9,-999.0000, -999.00
33RO20071215,        P18,      81,          1,         34,      12049,2,20080111,       1034,   -18.1663,  -103.0013,       3987,    25.0,  22.2416,  35.9797,2,  35.9770,2,    220.1,2,   220.2,2,    0.80,2,    0.10,2,    0.00,2,    0.33,2,   2.057,2,   1.274,2,   1.0226,2,  2077.7,2,  2379.9,2,   -999.0,9,  -999.00,   8.0269,2,    25.00,   0.325,2,   1.7155,2,   -1.53,2, -999.00,9,  -999.0,9,   6.889,2,   0.023,-999.000,9,-999.000,9,   69.27,2,    5.33,2, -999.00,1, -999.00,9, -999.00,9,   0.007,-999.0000,9,-999.0000,9,-999.0000,9,-999.0000,9,-999.0000,9,-999.0000,9,-999.0000,9,-999.0000,9,-999.0000,9,  22.2366,     -999.0,9,     -999.0,9,     -999.0,9,     -999.0,9,     -999.0,9,     -999.0,9,     -999.0,9,   0.0048,    0.15
33RO20071215,        P18,      81,          1,         33,      12027,2,20080111,       1034,   -18.1663,  -103.0013,       3987,    50.0,  21.5746,  35.9462,2,  35.9425,2,    226.1,2,   225.8,2,    0.70,2,    0.10,2,    0.00,2,    0.32,2,-999.000,9,-999.000,9,-999.0000,9,  2076.4,2,  2377.1,2,   -999.0,9,  -999.00,   8.0113,2,    25.00,-999.000,9,-999.0000,9, -999.00,9, -999.00,9,  -999.0,9,-999.000,9,-999.000,-999.000,9,-999.000,9,   68.35,2,    4.96,2, -999.00,1, -999.00,9, -999.00,9,-999.000,-999.0000,9,-999.0000,9,-999.0000,9,-999.0000,9,-999.0000,9,-999.0000,9,-999.0000,9,-999.0000,9,-999.0000,9,  21.5648,     -999.0,9,     -999.0,9,     -999.0,9,     -999.0,9,     -999.0,9,     -999.0,9,     -999.0,9,-999.0000, -999.00
33RO20071215,        P18,      81,          1,         32,      12023,2,20080111,       1034,   -18.1663,  -103.0013,       3987,    74.3,  21.0980,  35.9079,2,  35.9091,2,    226.1,2,   225.8,2,    0.70,2,    0.10,2,    0.00,2,    0.32,2,   2.142,2,   1.319,2,   1.0915,2,  2076.8,2,  2374.1,2,   -999.0,9,  -999.00,   8.0332,2,    25.00,   0.340,2,-999.0000,9, -999.00,9, -999.00,9,  -999.0,9,-999.000,9,-999.000,-999.000,9,-999.000,9,   67.85,2,    5.48,2, -999.00,1, -999.00,9, -999.00,9,   0.007,-999.0000,9,-999.0000,9,-999.0000,9,-999.0000,9,-999.0000,9,-999.0000,9,-999.0000,9,-999.0000,9,-999.0000,9,  21.0837,     -999.0,9,     -999.0,9,     -999.0,9,     -999.0,9,     -999.0,9,     -999.0,9,     -999.0,9,-999.0000, -999.00
33RO20071215,        P18,      81,          1,         31,      12037,2,20080111,       1034,   -18.1663,  -103.0013,       3987,    99.5,  20.6868,  35.8848,2,  35.8827,2,    224.5,2,   222.9,2,    0.70,2,    0.20,2,    0.02,2,    0.30,2,-999.000,9,-999.000,9,-999.0000,9,  2079.5,2,  2364.4,2,   -999.0,9,  -999.00,   8.1332,2,    25.00,-999.000,9,-999.0000,9, -999.00,9, -999.00,9,  -999.0,9,-999.000,9,-999.000,-999.000,9,-999.000,9,   65.82,2,    4.59,2, -999.00,1, -999.00,9, -999.00,9,-999.000,-999.0000,9,-999.0000,9,-999.0000,9,-999.0000,9,-999.0000,9,-999.0000,9,-999.0000,9,-999.0000,9,-999.0000,9,  20.6679,     -999.0,9,     -999.0,9,     -999.0,9,     -999.0,9,     -999.0,9,     -999.0,9,     -999.0,9,-999.0000, -999.00
33RO20071215,        P18,      81,          1,         30,      12036,2,20080111,       1034,   -18.1663,  -103.0013,       3987,   124.2,  20.5453,  35.8828,2,  35.8750,2,    218.8,2,   217.7,2,    0.70,2,    0.30,2,    0.09,2,    0.34,2,   2.161,2,   1.332,2,   1.1569,2,  2084.3,2,  2414.7,4,   -999.0,9,  -999.00,   7.9764,2,    25.00,   0.332,2,   1.7306,2,   -1.47,2, -999.00,9,  -999.0,9,   6.897,2,   0.023,-999.000,9,-999.000,9,   64.90,2,    5.24,2, -999.00,1, -999.00,9, -999.00,9,   0.007,-999.0000,9,-999.0000,9,-999.0000,9,-999.0000,9,-999.0000,9,-999.0000,9,-999.0000,9,-999.0000,9,-999.0000,9,  20.5218,     -999.0,9,     -999.0,9,     -999.0,9,     -999.0,9,     -999.0,9,     -999.0,9,     -999.0,9,   0.0048,    0.15
33RO20071215,        P18,      81,          1,         29,      12044,2,20080111,       1034,   -18.1663,  -103.0013,       3987,   149.6,  20.2835,  35.8187,2,  35.8189,2,    218.3,2,   216.7,2,    0.70,2,    0.40,2,    0.32,2,    0.36,2,-999.000,9,-999.000,9,-999.0000,9,  2085.8,2,  -999.0,9,   -999.0,9,  -999.00,   7.9837,2,    25.00,-999.000,9,-999.0000,9, -999.00,9, -999.00,9,  -999.0,9,-999.000,9,-999.000,-999.000,9,-999.000,9,   64.62,2,    5.89,2, -999.00,1, -999.00,9, -999.00,9,-999.000,-999.0000,9,-999.0000,9,-999.0000,9,-999.0000,9,-999.0000,9,-999.0000,9,-999.0000,9,-999.0000,9,-999.0000,9,  20.2555,     -999.0,9,     -999.0,9,     -999.0,9,     -999.0,9,     -999.0,9,     -999.0,9,     -999.0,9,-999.0000, -999.00
33RO20071215,        P18,      81,          1,         28,      12057,2,20080111,       1034,   -18.1663,  -103.0013,       3987,   174.2,  20.1243,  35.7933,2,  35.7938,2,    219.2,2,   226.6,3,    0.70,2,    0.40,2,    0.26,2,    0.33,2,   2.185,2,   1.341,2,   1.1076,2,  2084.9,2,  2408.4,4,   -999.0,9,  -999.00,   7.9839,2,    25.00,   0.350,6,   1.7315,2,   -1.60,2, -999.00,9,  -999.0,9,   7.022,2,   0.024,-999.000,9,-999.000,9,   63.63,2,    5.57,2, -999.00,1, -999.00,9, -999.00,9,   0.007,-999.0000,9,-999.0000,9,-999.0000,9,-999.0000,9,-999.0000,9,-999.0000,9,-999.0000,9,-999.0000,9,-999.0000,9,  20.0918,     -999.0,9,     -999.0,9,     -999.0,9,     -999.0,9,     -999.0,9,     -999.0,9,     -999.0,9,   0.0048,    0.15
33RO20071215,        P18,      81,          1,         27,      12026,2,20080111,       1034,   -18.1663,  -103.0013,       3987,   199.2,  19.9534,  35.7521,2,  35.7447,2,    217.0,2,   216.4,2,    0.70,2,    0.70,2,    0.41,2,    0.34,2,-999.000,9,-999.000,9,-999.0000,9,  2084.6,2,  -999.0,9,   -999.0,9,  -999.00,-999.0000,9,  -999.00,-999.000,9,-999.0000,9, -999.00,9, -999.00,9,  -999.0,9,-999.000,9,-999.000,-999.000,9,-999.000,9,   62.36,2,    4.76,2, -999.00,1, -999.00,9, -999.00,9,-999.000,-999.0000,9,-999.0000,9,-999.0000,9,-999.0000,9,-999.0000,9,-999.0000,9,-999.0000,9,-999.0000,9,-999.0000,9,  19.9165,     -999.0,9,     -999.0,9,     -999.0,9,     -999.0,9,     -999.0,9,     -999.0,9,     -999.0,9,-999.0000, -999.00
33RO20071215,        P18,      81,          1,         26,      12030,2,20080111,       1034,   -18.1663,  -103.0013,       3987,   249.7,  16.2652,  35.0258,2,  34.9848,2,    193.9,2,   191.6,2,    1.60,2,    7.10,2,    0.01,2,    0.71,2,   2.631,2,   1.544,2,   1.0483,2,  2097.0,2,  2350.6,4,   -999.0,9,  -999.00,   7.8780,2,    25.00,   0.298,2,   1.7408,2,   -1.03,2, -999.00,9,  -999.0,9,   7.205,2,   0.024,-999.000,9,-999.000,9,   51.09,2,    9.22,2, -999.00,1, -999.00,9, -999.00,9,   0.007,-999.0000,9,-999.0000,9,-999.0000,9,-999.0000,9,-999.0000,9,-999.0000,9,-999.0000,9,-999.0000,9,-999.0000,9,  16.2252,     -999.0,9,     -999.0,9,     -999.0,9,     -999.0,9,     -999.0,9,     -999.0,9,     -999.0,9,   0.0049,    0.15
33RO20071215,        P18,      81,          1,         25,      12024,2,20080111,       1034,   -18.1663,  -103.0013,       3987,   298.4,  12.9557,  34.5334,2,  34.5338,2,    172.5,2,   170.5,2,    4.00,2,   13.50,2,    0.01,2,    1.13,2,-999.000,9,-999.000,9,-999.0000,9,  2121.9,2,  -999.0,9,   -999.0,9,  -999.00,-999.0000,9,  -999.00,-999.000,9,-999.0000,9, -999.00,9, -999.00,9,  -999.0,9,-999.000,9,-999.000,-999.000,9,-999.000,9,   50.12,2,   15.47,2, -999.00,1, -999.00,9, -999.00,9,-999.000,-999.0000,9,-999.0000,9,-999.0000,9,-999.0000,9,-999.0000,9,-999.0000,9,-999.0000,9,-999.0000,9,-999.0000,9,  12.9148,     -999.0,9,     -999.0,9,     -999.0,9,     -999.0,9,     -999.0,9,     -999.0,9,     -999.0,9,-999.0000, -999.00
33RO20071215,        P18,      81,          1,         24,      12019,2,20080111,       1034,   -18.1663,  -103.0013,       3987,   349.5,  10.5984,  34.4947,2,  34.4957,2,     76.4,2,    83.6,2,   15.50,2,   24.60,2,    0.00,2,    2.18,2,   1.821,2,   0.952,2,   0.3945,2,  2211.3,2,  2317.6,4,   -999.0,9,  -999.00,   7.5287,2,    25.00,   0.134,2,   1.7713,2,    1.75,2, -999.00,9,  -999.0,9,   7.461,2,   0.025,-999.000,9,-999.000,9,   45.20,2,   25.61,2, -999.00,1, -999.00,9, -999.00,9,   0.006,-999.0000,9,-999.0000,9,-999.0000,9,-999.0000,9,-999.0000,9,-999.0000,9,-999.0000,9,-999.0000,9,-999.0000,9,  10.5562,     -999.0,9,     -999.0,9,     -999.0,9,     -999.0,9,     -999.0,9,     -999.0,9,     -999.0,9,   0.0050,    0.15
33RO20071215,        P18,      81,          1,         23,      12022,2,20080111,       1034,   -18.1663,  -103.0013,       3987,   400.4,   9.1675,  34.5202,2,  34.5188,2,     59.3,2,    58.1,2,   21.00,2,   31.90,2,    0.00,2,    2.51,2,   0.834,2,   0.435,2,   0.0897,2,  2240.1,2,  2320.6,4,   -999.0,9,  -999.00,   7.4472,2,    25.00,   0.086,2,   1.7820,2,    2.06,2, -999.00,9,  -999.0,9,   7.625,2,   0.026,-999.000,9,-999.000,9,   42.71,2,   33.34,2, -999.00,1, -999.00,9, -999.00,9,   0.006,-999.0000,9,-999.0000,9,-999.0000,9,-999.0000,9,-999.0000,9,-999.0000,9,-999.0000,9,-999.0000,9,-999.0000,9,   9.1233,     -999.0,9,     -999.0,9,     -999.0,9,     -999.0,9,     -999.0,9,     -999.0,9,     -999.0,9,   0.0050,    0.15
33RO20071215,        P18,      81,          1,         22,      12015,2,20080111,       1034,   -18.1663,  -103.0013,       3987,   500.6,   7.2881,  34.4703,2,  34.4721,2,     84.7,2,    81.3,2,   25.50,2,   36.30,2,    0.00,2,    2.55,2,-999.000,9,-999.000,9,-999.0000,9,  -999.0,9,  -999.0,9,   -999.0,9,  -999.00,-999.0000,9,  -999.00,-999.000,9,-999.0000,9, -999.00,9, -999.00,9,  -999.0,9,-999.000,9,-999.000,-999.000,9,-999.000,9,   42.02,2,   37.38,2, -999.00,1, -999.00,9, -999.00,9,-999.000,-999.0000,9,-999.0000,9,-999.0000,9,-999.0000,9,-999.0000,9,-999.0000,9,-999.0000,9,-999.0000,9,-999.0000,9,   7.2394,     -999.0,9,     -999.0,9,     -999.0,9,     -999.0,9,     -999.0,9,     -999.0,9,     -999.0,9,-999.0000, -999.00
33RO20071215,        P18,      81,          1,         21,      12020,2,20080111,       1034,   -18.1663,  -103.0013,       3987,   599.4,   6.1904,  34.4325,2,  34.4292,2,    105.5,2,   107.4,2,   30.70,2,   36.90,2,    0.00,2,    2.53,2,   0.168,2,   0.096,2,   0.0000,2,  2232.6,2,  2322.4,4,   -999.0,9,  -999.00,   7.5022,2,    25.00,   0.016,2,   1.7952,2,    4.18,2, -999.00,9,  -999.0,9,   7.709,2,   0.026,-999.000,9,-999.000,9,   41.70,2,   38.19,2, -999.00,1, -999.00,9, -999.00,9,   0.006,-999.0000,9,-999.0000,9,-999.0000,9,-999.0000,9,-999.0000,9,-999.0000,9,-999.0000,9,-999.0000,9,-999.0000,9,   6.1368,     -999.0,9,     -999.0,9,     -999.0,9,     -999.0,9,     -999.0,9,     -999.0,9,     -999.0,9,   0.0050,    0.15
33RO20071215,        P18,      81,          1,         20,      12055,2,20080111,       1034,   -18.1663,  -103.0013,       3987,   699.6,   5.5440,  34.4548,2,  34.4542,2,     96.2,2,    94.6,2,   43.00,2,   39.20,2,    0.00,2,    2.71,2,   0.028,2,   0.018,2,   0.0000,2,  -999.0,9,  -999.0,9,   -999.0,9,  -999.00,-999.0000,9,  -999.00,   0.016,2,-999.0000,9, -999.00,9, -999.00,9,  -999.0,9,-999.000,9,-999.000,-999.000,9,-999.000,9,   40.65,2,   40.81,2, -999.00,1, -999.00,9, -999.00,9,   0.006,-999.0000,9,-999.0000,9,-999.0000,9,-999.0000,9,-999.0000,9,-999.0000,9,-999.0000,9,-999.0000,9,-999.0000,9,   5.4843,     -999.0,9,     -999.0,9,     -999.0,9,     -999.0,9,     -999.0,9,     -999.0,9,     -999.0,9,-999.0000, -999.00
33RO20071215,        P18,      81,          1,         19,      12018,2,20080111,       1034,   -18.1663,  -103.0013,       3987,   798.3,   5.0813,  34.4781,2,  34.4754,2,     92.7,2,    94.1,2,   53.60,2,   39.90,2,    0.00,2,    2.77,2,   0.007,2,   0.005,2,   0.0000,2,  2264.2,2,  -999.0,9,   -999.0,9,  -999.00,-999.0000,9,  -999.00,   0.012,2,   1.8307,2,   10.22,2, -999.00,9,  -999.0,9,   7.863,2,   0.027,-999.000,9,-999.000,9,   40.17,2,   41.16,2, -999.00,1, -999.00,9, -999.00,9,   0.006,-999.0000,9,-999.0000,9,-999.0000,9,-999.0000,9,-999.0000,9,-999.0000,9,-999.0000,9,-999.0000,9,-999.0000,9,   5.0155,     -999.0,9,     -999.0,9,     -999.0,9,     -999.0,9,     -999.0,9,     -999.0,9,     -999.0,9,   0.0051,    0.15
33RO20071215,        P18,      81,          1,         18,      12025,2,20080111,       1034,   -18.1663,  -103.0013,       3987,   899.1,   4.6861,  34.5001,2,  34.4995,2,     92.0,2,    91.4,2,   64.00,2,   40.40,2,    0.00,2,    2.82,2,   0.002,2,   0.002,2,   0.0000,2,  -999.0,9,  -999.0,9,   -999.0,9,  -999.00,-999.0000,9,  -999.00,   0.023,2,   1.8325,2,   13.41,2, -999.00,9,  -999.0,9,   7.782,2,   0.026,-999.000,9,-999.000,9,   39.74,2,   41.96,2, -999.00,1, -999.00,9, -999.00,9,   0.007,-999.0000,9,-999.0000,9,-999.0000,9,-999.0000,9,-999.0000,9,-999.0000,9,-999.0000,9,-999.0000,9,-999.0000,9,   4.6140,     -999.0,9,     -999.0,9,     -999.0,9,     -999.0,9,     -999.0,9,     -999.0,9,     -999.0,9,   0.0051,    0.15
33RO20071215,        P18,      81,          1,         17,      12016,2,20080111,       1034,   -18.1663,  -103.0013,       3987,   999.3,   4.3443,  34.5191,2,  34.5173,2,     85.1,2,    85.3,2,   74.10,2,   41.30,2,    0.00,2,    2.90,2,   0.002,2,   0.001,2,   0.0000,2,  2290.8,2,  2368.0,4,   -999.0,9,  -999.00,   7.4519,2,    25.00,   0.013,2,   1.8605,2,   15.45,2, -999.00,9,  -999.0,9,   7.988,2,   0.027,-999.000,9,-999.000,9,   39.08,2,   42.54,2, -999.00,1, -999.00,9, -999.00,9,   0.006,-999.0000,9,-999.0000,9,-999.0000,9,-999.0000,9,-999.0000,9,-999.0000,9,-999.0000,9,-999.0000,9,-999.0000,9,   4.2660,     -999.0,9,     -999.0,9,     -999.0,9,     -999.0,9,     -999.0,9,     -999.0,9,     -999.0,9,   0.0052,    0.15
33RO20071215,        P18,      81,          1,         16,      12051,2,20080111,       1034,   -18.1663,  -103.0013,       3987,  1100.8,   4.0226,  34.5290,2,  34.5287,2,     97.1,2,    97.0,2,   79.70,2,   40.30,2,    0.00,2,    2.83,2,   0.000,2,   0.000,2,   0.0000,2,  -999.0,9,  -999.0,9,   -999.0,9,  -999.00,-999.0000,9,  -999.00,  -0.003,2,   1.8837,2,   16.91,2, -999.00,9,  -999.0,9,   7.960,2,   0.027,-999.000,9,-999.000,9,   38.55,2,   41.84,2, -999.00,9, -999.00,9, -999.00,9,   0.006,-999.0000,9,-999.0000,9,-999.0000,9,-999.0000,9,-999.0000,9,-999.0000,9,-999.0000,9,-999.0000,9,-999.0000,9,   3.9383,     -999.0,9,     -999.0,9,     -999.0,9,     -999.0,9,     -999.0,9,     -999.0,9,     -999.0,9,   0.0053,    0.15
33RO20071215,        P18,      81,          1,         15,      12014,2,20080111,       1034,   -18.1663,  -103.0013,       3987,  1199.7,   3.7169,  34.5447,2,  34.5437,2,     92.5,2,    92.7,2,   88.10,2,   40.90,2,    0.00,2,    2.88,2,   0.000,2,   0.000,2,   0.0000,2,  2300.7,3,  -999.0,9,   -999.0,9,  -999.00,-999.0000,9,  -999.00,   0.029,2,   1.8945,2,   18.33,2, -999.00,9,  -999.0,9,   7.957,2,   0.027,-999.000,9,-999.000,9,   38.08,2,   42.06,2, -999.00,9, -999.00,9, -999.00,9,   0.006,-999.0000,9,-999.0000,9,-999.0000,9,-999.0000,9,-999.0000,9,-999.0000,9,-999.0000,9,-999.0000,9,-999.0000,9,   3.6269,     -999.0,9,     -999.0,9,     -999.0,9,     -999.0,9,     -999.0,9,     -999.0,9,     -999.0,9,   0.0053,    0.15
33RO20071215,        P18,      81,          1,         14,      12013,2,20080111,       1034,   -18.1663,  -103.0013,       3987,  1299.9,   3.4475,  34.5591,2,  34.5588,2,     94.3,2,    94.5,2,   95.60,2,   40.70,2,    0.00,2,    2.88,2,-999.000,9,-999.000,9,-999.0000,9,  -999.0,9,  -999.0,9,   -999.0,9,  -999.00,-999.0000,9,  -999.00,-999.000,9,-999.0000,9, -999.00,9, -999.00,9,  -999.0,9,-999.000,9,-999.000,-999.000,9,-999.000,9,   37.23,2,   41.79,2, -999.00,9, -999.00,9, -999.00,9,-999.000,-999.0000,9,-999.0000,9,-999.0000,9,-999.0000,9,-999.0000,9,-999.0000,9,-999.0000,9,-999.0000,9,-999.0000,9,   3.3516,     -999.0,9,     -999.0,9,     -999.0,9,     -999.0,9,     -999.0,9,     -999.0,9,     -999.0,9,-999.0000, -999.00
33RO20071215,        P18,      81,          1,         13,      12012,2,20080111,       1034,   -18.1663,  -103.0013,       3987,  1396.0,   3.2479,  34.5726,2,  34.5712,2,     94.7,2,    94.8,2,  101.60,2,   40.80,2,    0.00,2,    2.89,2,-999.000,9,-999.000,9,-999.0000,9,  2313.1,2,  2389.6,4,   -999.0,9,  -999.00,   7.4749,2,    25.00,-999.000,9,-999.0000,9, -999.00,9, -999.00,9,  -999.0,9,-999.000,9,-999.000,-999.000,9,-999.000,9,   37.23,2,   42.02,2, -999.00,9, -999.00,9, -999.00,9,-999.000,-999.0000,9,-999.0000,9,-999.0000,9,-999.0000,9,-999.0000,9,-999.0000,9,-999.0000,9,-999.0000,9,-999.0000,9,   3.1460,     -999.0,9,     -999.0,9,     -999.0,9,     -999.0,9,     -999.0,9,     -999.0,9,     -999.0,9,-999.0000, -999.00
33RO20071215,        P18,      81,          1,         12,      12031,2,20080111,       1034,   -18.1663,  -103.0013,       3987,  1598.5,   2.8257,  34.5996,2,  34.5995,2,    102.3,2,   102.3,2,  113.00,2,   40.10,2,    0.00,2,    2.83,2,-999.000,9,-999.000,9,-999.0000,9,  -999.0,9,  -999.0,9,   -999.0,9,  -999.00,-999.0000,9,  -999.00,-999.000,9,-999.0000,9, -999.00,9, -999.00,9,  -999.0,9,-999.000,9,-999.000,-999.000,9,-999.000,9,   37.33,2,   41.63,2, -999.00,9, -999.00,9, -999.00,9,-999.000,-999.0000,9,-999.0000,9,-999.0000,9,-999.0000,9,-999.0000,9,-999.0000,9,-999.0000,9,-999.0000,9,-999.0000,9,   2.7116,     -999.0,9,     -999.0,9,     -999.0,9,     -999.0,9,     -999.0,9,     -999.0,9,     -999.0,9,-999.0000, -999.00