BOTTLE,20220818CCHSIOAMB
EXPOCODE,SECT_ID,STNNBR,CASTNO,SAMPNO,BTLNBR,BTLNBR_FLAG_W,DATE,TIME,LATITUDE,LONGITUDE,DEPTH,CTDPRS,CTDTMP,CTDSAL,CTDSAL_FLAG_W,SALNTY,SALNTY_FLAG_W,CTDOXY,CTDOXY_FLAG_W,OXYGEN,OXYGEN_FLAG_W,SILCAT,SILCAT_FLAG_W,NITRAT,NITRAT_FLAG_W,NITRIT,NITRIT_FLAG_W,PHSPHT,PHSPHT_FLAG_W,CFC-11,CFC-11_FLAG_W,CFC-12,CFC-12_FLAG_W,SF6,SF6_FLAG_W,TCARBN,TCARBN_FLAG_W,ALKALI,ALKALI_FLAG_W,FCO2,FCO2_FLAG_W,FCO2TMP,PH_SWS,PH_SWS_FLAG_W,PH_TMP,TRITUM,TRITUM_FLAG_W,HELIUM,HELIUM_FLAG_W,DELHE3,DELHE3_FLAG_W,DELC13,DELC13_FLAG_W,DELC14,DELC14_FLAG_W,NEON,NEON_FLAG_W,NEONER,CCL4,CCL4_FLAG_W,POC,POC_FLAG_W,DOC,DOC_FLAG_W,TDN,TDN_FLAG_W,DON,DON_FLAG_W,CHLORA,CHLORA_FLAG_W,ARGON,ARGON_FLAG_W,TRITER,CDOM325,CDOM325_FLAG_W,CDOM340,CDOM340_FLAG_W,CDOM380,CDOM380_FLAG_W,CDOM412,CDOM412_FLAG_W,CDOM443,CDOM443_FLAG_W,CDOM490,CDOM490_FLAG_W,CDOM555,CDOM555_FLAG_W,CDOMSL,CDOMSL_FLAG_W,CDOMSN,CDOMSN_FLAG_W,THETA,D18O_NO3,D18O_NO3_FLAG_W,CDOM2C,CDOM2C_FLAG_W,CDOM3C,CDOM3C_FLAG_W,LAB_DEN,LAB_DEN_FLAG_W,DELSI30,DELSI30_FLAG_W,N2,N2_FLAG_W,D15N_NO3,D15N_NO3_FLAG_W,HELIER,DELHER
,,,,,,,,,,,METERS,DBAR,ITS-90,PSS-78,,PSS-78,,UMOL/KG,,UMOL/KG,,UMOL/KG,,UMOL/KG,,UMOL/KG,,UMOL/KG,,PMOL/KG,,PMOL/KG,,FMOL/KG,,UMOL/KG,,UMOL/KG,,UATM,,DEG C,,,DEG C,TU,,NMOL/KG,,PERCNT,,/MILLE,,/MILLE,,NMOL/KG,,NMOL/KG,PMOL/KG,,UG/KG,,UMOL/KG,,UMOL/KG,,UMOL/KG,,UG/KG,,UMOL/KG,,TU,1/M,,1/M,,1/M,,1/M,,1/M,,1/M,,1/M,,1/NM,,1/NM,,DEG C,/MILLE,,,,,,,,/MILLE,,UMOL/KG,,/MILLE,,NMOL/KG,PERCNT
33RO20071215,        P18,     106,          1,         36,      12017,4,20080125,       0239,   -32.7485,  -102.9993,       3367,     5.1,  23.0442,  35.2071,2,-999.0000,9,    220.3,2,  -999.0,9, -999.00,9, -999.00,9, -999.00,9, -999.00,9,-999.000,9,-999.000,9,-999.0000,9,  -999.0,9,  -999.0,9,   -999.0,9,  -999.00,-999.0000,9,  -999.00,-999.000,9,-999.0000,9, -999.00,9, -999.00,9,  -999.0,9,-999.000,9,-999.000,-999.000,9,-999.000,9, -999.00,9, -999.00,9, -999.00,9, -999.00,9, -999.00,9,-999.000,-999.0000,9,-999.0000,9,-999.0000,9,-999.0000,9,-999.0000,9,-999.0000,9,-999.0000,9,-999.0000,9,-999.0000,9,  23.0431,     -999.0,9,     -999.0,9,     -999.0,9,     -999.0,9,     -999.0,9,     -999.0,9,     -999.0,9,-999.0000, -999.00
33RO20071215,        P18,     106,          1,         35,      12029,2,20080125,       0239,   -32.7485,  -102.9993,       3367,    10.3,  23.0557,  35.2119,2,  35.2112,2,    220.5,2,   219.6,2,    0.60,2,    0.00,2,    0.00,2,    0.08,2,   2.016,6,   1.246,6,   1.0658,6,  2046.5,6,  2318.5,2,   -999.0,9,  -999.00,   7.9740,2,    25.00,-999.000,9,-999.0000,9, -999.00,9, -999.00,9,  -999.0,9,-999.000,9,-999.000,-999.000,9,-999.000,9,   63.78,2,    3.87,2, -999.00,1, -999.00,9, -999.00,1,-999.000,-999.0000,9,-999.0000,9,-999.0000,9,-999.0000,9,-999.0000,9,-999.0000,9,-999.0000,9,-999.0000,9,-999.0000,9,  23.0536,     -999.0,1,     -999.0,9,     -999.0,9,     -999.0,9,     -999.0,9,     -999.0,1,     -999.0,9,-999.0000, -999.00
33RO20071215,        P18,     106,          1,         34,      12049,2,20080125,       0239,   -32.7485,  -102.9993,       3367,    20.6,  23.0249,  35.2072,2,  35.2141,2,    220.8,2,   220.2,2,    0.60,2,    0.00,2,    0.00,2,    0.09,2,   2.037,2,   1.256,2,   1.0576,2,  2046.3,2,  2316.8,2,   -999.0,9,  -999.00,   7.9641,2,    25.00,-999.000,9,-999.0000,9, -999.00,9, -999.00,9,  -999.0,9,-999.000,9,-999.000,-999.000,9,-999.000,9,   62.92,2,    3.81,2, -999.00,1, -999.00,9, -999.00,9,-999.000,-999.0000,9,-999.0000,9,-999.0000,9,-999.0000,9,-999.0000,9,-999.0000,9,-999.0000,9,-999.0000,9,-999.0000,9,  23.0207,     -999.0,9,     -999.0,9,     -999.0,9,     -999.0,9,     -999.0,9,     -999.0,9,     -999.0,9,-999.0000, -999.00
33RO20071215,        P18,     106,          1,         33,      12027,2,20080125,       0239,   -32.7485,  -102.9993,       3367,    40.3,  19.0988,  34.8557,2,  34.8654,2,    248.3,2,   248.6,2,    0.60,2,    0.00,2,    0.00,2,    0.09,2,   2.567,2,   1.528,2,   1.2233,2,  2036.2,2,  2300.7,2,   -999.0,9,  -999.00,   7.9861,2,    25.00,-999.000,9,-999.0000,9, -999.00,9, -999.00,9,  -999.0,9,-999.000,9,-999.000,-999.000,9,-999.000,9,   62.75,2,    3.57,2, -999.00,1, -999.00,9, -999.00,9,-999.000,-999.0000,9,-999.0000,9,-999.0000,9,-999.0000,9,-999.0000,9,-999.0000,9,-999.0000,9,-999.0000,9,-999.0000,9,  19.0916,     -999.0,9,     -999.0,9,     -999.0,9,     -999.0,9,     -999.0,9,     -999.0,9,     -999.0,9,-999.0000, -999.00
33RO20071215,        P18,     106,          1,         32,      12023,2,20080125,       0239,   -32.7485,  -102.9993,       3367,    60.2,  18.0467,  34.9848,2,  34.9743,2,    251.1,2,   251.1,2,    0.60,2,    0.00,2,    0.00,2,    0.08,2,   2.571,2,   1.526,2,   1.3139,2,  2036.5,2,  2303.7,2,   -999.0,9,  -999.00,   7.9692,2,    25.00,-999.000,9,-999.0000,9, -999.00,9, -999.00,9,  -999.0,9,-999.000,9,-999.000,-999.000,9,-999.000,9,   60.70,2,    3.97,2, -999.00,1, -999.00,9, -999.00,9,-999.000,-999.0000,9,-999.0000,9,-999.0000,9,-999.0000,9,-999.0000,9,-999.0000,9,-999.0000,9,-999.0000,9,-999.0000,9,  18.0364,     -999.0,9,     -999.0,9,     -999.0,9,     -999.0,9,     -999.0,9,     -999.0,9,     -999.0,9,-999.0000, -999.00
33RO20071215,        P18,     106,          1,         31,      12037,2,20080125,       0239,   -32.7485,  -102.9993,       3367,    79.9,  17.3140,  34.9268,2,  34.9233,2,    250.4,2,   252.3,2,    0.60,2,    0.00,2,    0.00,2,    0.09,2,   2.631,2,   1.561,2,   1.2884,2,  2034.5,2,  2301.2,2,   -999.0,9,  -999.00,   7.9767,2,    25.00,-999.000,9,-999.0000,9, -999.00,9, -999.00,9,  -999.0,9,-999.000,9,-999.000,-999.000,9,-999.000,9,   60.65,2,    3.51,2, -999.00,1, -999.00,9, -999.00,9,-999.000,-999.0000,9,-999.0000,9,-999.0000,9,-999.0000,9,-999.0000,9,-999.0000,9,-999.0000,9,-999.0000,9,-999.0000,9,  17.3007,     -999.0,9,     -999.0,9,     -999.0,9,     -999.0,9,     -999.0,9,     -999.0,9,     -999.0,9,-999.0000, -999.00
33RO20071215,        P18,     106,          1,         30,      12036,2,20080125,       0239,   -32.7485,  -102.9993,       3367,    99.6,  16.9178,  34.9483,2,  34.9431,2,    248.6,2,   249.7,2,    0.60,2,    0.00,2,    0.00,2,    0.10,2,   2.624,2,   1.565,2,   1.2915,2,  2038.9,2,  2302.1,2,   -999.0,9,  -999.00,   7.9734,2,    25.00,-999.000,9,-999.0000,9, -999.00,9, -999.00,9,  -999.0,9,-999.000,9,-999.000,-999.000,9,-999.000,9,   58.92,2,    4.31,2, -999.00,1, -999.00,9, -999.00,9,-999.000,-999.0000,9,-999.0000,9,-999.0000,9,-999.0000,9,-999.0000,9,-999.0000,9,-999.0000,9,-999.0000,9,-999.0000,9,  16.9015,     -999.0,9,     -999.0,9,     -999.0,9,     -999.0,9,     -999.0,9,     -999.0,9,     -999.0,9,-999.0000, -999.00
33RO20071215,        P18,     106,          1,         29,      12044,2,20080125,       0239,   -32.7485,  -102.9993,       3367,   125.4,  16.0932,  34.8315,2,  34.8311,2,    246.2,2,   246.9,2,    0.60,2,    0.10,2,    0.01,2,    0.13,2,-999.000,9,-999.000,9,-999.0000,9,  2042.4,2,  2295.7,2,   -999.0,9,  -999.00,   7.9691,2,    25.00,-999.000,9,-999.0000,9, -999.00,9, -999.00,9,  -999.0,9,-999.000,9,-999.000,-999.000,9,-999.000,9,   56.36,2,    4.39,2, -999.00,1, -999.00,9, -999.00,9,-999.000,-999.0000,9,-999.0000,9,-999.0000,9,-999.0000,9,-999.0000,9,-999.0000,9,-999.0000,9,-999.0000,9,-999.0000,9,  16.0734,     -999.0,9,     -999.0,9,     -999.0,9,     -999.0,9,     -999.0,9,     -999.0,9,     -999.0,9,-999.0000, -999.00
33RO20071215,        P18,     106,          1,         28,      12057,2,20080125,       0239,   -32.7485,  -102.9993,       3367,   150.9,  15.5037,  34.7486,2,  34.7496,2,    239.2,2,   238.7,2,    0.70,2,    1.20,2,    0.19,2,    0.20,2,   2.756,2,   1.627,2,   1.2968,2,  2050.7,2,  2291.6,2,   -999.0,9,  -999.00,   7.9312,2,    25.00,-999.000,9,-999.0000,9, -999.00,9, -999.00,9,  -999.0,9,-999.000,9,-999.000,-999.000,9,-999.000,9,   50.91,2,    4.95,2, -999.00,1, -999.00,9, -999.00,9,-999.000,-999.0000,9,-999.0000,9,-999.0000,9,-999.0000,9,-999.0000,9,-999.0000,9,-999.0000,9,-999.0000,9,-999.0000,9,  15.4804,     -999.0,9,     -999.0,9,     -999.0,9,     -999.0,9,     -999.0,9,     -999.0,9,     -999.0,9,-999.0000, -999.00
33RO20071215,        P18,     106,          1,         27,      12026,2,20080125,       0239,   -32.7485,  -102.9993,       3367,   172.7,  14.7225,  34.6390,2,  34.6335,2,    231.8,2,   232.2,2,    0.80,2,    3.20,2,    0.29,2,    0.32,2,-999.000,9,-999.000,9,-999.0000,9,  2058.6,2,  2282.6,2,   -999.0,9,  -999.00,   7.9032,2,    25.00,-999.000,9,-999.0000,9, -999.00,9, -999.00,9,  -999.0,9,-999.000,9,-999.000,-999.000,9,-999.000,9,   49.74,2,    6.53,2, -999.00,1, -999.00,9, -999.00,9,-999.000,-999.0000,9,-999.0000,9,-999.0000,9,-999.0000,9,-999.0000,9,-999.0000,9,-999.0000,9,-999.0000,9,-999.0000,9,  14.6967,     -999.0,9,     -999.0,9,     -999.0,9,     -999.0,9,     -999.0,9,     -999.0,9,     -999.0,9,-999.0000, -999.00
33RO20071215,        P18,     106,          1,         26,      12030,2,20080125,       0239,   -32.7485,  -102.9993,       3367,   199.4,  13.5201,  34.4890,2,  34.4887,2,    227.4,2,   227.5,2,    1.00,2,    6.10,2,    0.03,2,    0.47,2,-999.000,9,-999.000,9,-999.0000,9,  2070.5,2,  2276.0,2,   -999.0,9,  -999.00,   7.8582,2,    25.00,-999.000,9,-999.0000,9, -999.00,9, -999.00,9,  -999.0,9,-999.000,9,-999.000,-999.000,9,-999.000,9,   47.17,2,    8.74,2, -999.00,1, -999.00,9, -999.00,9,-999.000,-999.0000,9,-999.0000,9,-999.0000,9,-999.0000,9,-999.0000,9,-999.0000,9,-999.0000,9,-999.0000,9,-999.0000,9,  13.4920,     -999.0,9,     -999.0,9,     -999.0,9,     -999.0,9,     -999.0,9,     -999.0,9,     -999.0,9,-999.0000, -999.00
33RO20071215,        P18,     106,          1,         25,      12024,2,20080125,       0239,   -32.7485,  -102.9993,       3367,   250.2,  12.0445,  34.4716,2,  34.4648,2,    213.6,2,   214.1,2,    1.80,2,   11.40,2,    0.00,2,    0.79,2,   3.238,2,   1.785,2,   1.2337,2,  2097.3,2,  2279.4,2,   -999.0,9,  -999.00,   7.8110,2,    25.00,-999.000,9,-999.0000,9, -999.00,9, -999.00,9,  -999.0,9,-999.000,9,-999.000,-999.000,9,-999.000,9,   45.79,2,   12.35,2, -999.00,1, -999.00,9, -999.00,1,-999.000,-999.0000,9,-999.0000,9,-999.0000,9,-999.0000,9,-999.0000,9,-999.0000,9,-999.0000,9,-999.0000,9,-999.0000,9,  12.0119,     -999.0,1,     -999.0,9,     -999.0,9,     -999.0,9,     -999.0,9,     -999.0,1,     -999.0,9,-999.0000, -999.00
33RO20071215,        P18,     106,          1,         24,      12019,2,20080125,       0239,   -32.7485,  -102.9993,       3367,   299.2,  10.2529,  34.3838,2,  34.3851,2,    211.2,2,   211.2,2,    3.10,2,   15.90,2,    0.00,2,    1.10,2,   3.343,2,   1.778,2,   0.9243,2,  2116.9,2,  2272.2,2,   -999.0,9,  -999.00,   7.7612,2,    25.00,-999.000,9,-999.0000,9, -999.00,9, -999.00,9,  -999.0,9,-999.000,9,-999.000,-999.000,9,-999.000,9,   44.17,2,   17.04,2, -999.00,1, -999.00,9, -999.00,1,-999.000,-999.0000,9,-999.0000,9,-999.0000,9,-999.0000,9,-999.0000,9,-999.0000,9,-999.0000,9,-999.0000,9,-999.0000,9,  10.2177,     -999.0,1,     -999.0,9,     -999.0,9,     -999.0,9,     -999.0,9,     -999.0,1,     -999.0,9,-999.0000, -999.00
33RO20071215,        P18,     106,          1,         23,      12022,2,20080125,       0239,   -32.7485,  -102.9993,       3367,   352.0,   8.3778,  34.3166,2,  34.3154,2,    224.1,2,   224.6,2,    4.40,2,   19.90,2,    0.00,2,    1.33,2,-999.000,9,-999.000,9,-999.0000,9,  2131.4,2,  2395.3,4,   -999.0,9,  -999.00,   7.7253,2,    25.00,-999.000,9,-999.0000,9, -999.00,9, -999.00,9,  -999.0,9,-999.000,9,-999.000,-999.000,9,-999.000,9,   43.27,2,   21.66,2, -999.00,1, -999.00,9, -999.00,1,-999.000,-999.0000,9,-999.0000,9,-999.0000,9,-999.0000,9,-999.0000,9,-999.0000,9,-999.0000,9,-999.0000,9,-999.0000,9,   8.3412,     -999.0,1,     -999.0,9,     -999.0,9,     -999.0,9,     -999.0,9,     -999.0,1,     -999.0,9,-999.0000, -999.00
33RO20071215,        P18,     106,          1,         22,      12015,2,20080125,       0239,   -32.7485,  -102.9993,       3367,   400.1,   7.3907,  34.2968,2,  34.2959,2,    238.6,2,   237.4,2,    5.30,2,   21.50,2,    0.00,2,    1.43,2,   3.853,6,   1.993,6,   1.0019,6,  -999.0,9,  -999.0,9,   -999.0,9,  -999.00,-999.0000,9,  -999.00,-999.000,9,-999.0000,9, -999.00,9, -999.00,9,  -999.0,9,-999.000,9,-999.000,-999.000,9,-999.000,9,   42.36,2,   22.91,2, -999.00,1, -999.00,9, -999.00,1,-999.000,-999.0000,9,-999.0000,9,-999.0000,9,-999.0000,9,-999.0000,9,-999.0000,9,-999.0000,9,-999.0000,9,-999.0000,9,   7.3519,     -999.0,1,     -999.0,9,     -999.0,9,     -999.0,9,     -999.0,9,     -999.0,1,     -999.0,9,-999.0000, -999.00
33RO20071215,        P18,     106,          1,         21,      12020,2,20080125,       0239,   -32.7485,  -102.9993,       3367,   499.7,   6.6038,  34.3202,2,  34.3199,2,    247.2,2,   245.2,2,    7.60,2,   23.00,2,    0.00,2,    1.51,2,   3.790,2,   1.910,2,   0.9023,2,  2141.5,2,  -999.0,9,   -999.0,9,  -999.00,   7.7106,2,    25.00,-999.000,9,-999.0000,9, -999.00,9, -999.00,9,  -999.0,9,-999.000,9,-999.000,-999.000,9,-999.000,9,   41.87,2,   24.60,2, -999.00,1, -999.00,9, -999.00,1,-999.000,-999.0000,9,-999.0000,9,-999.0000,9,-999.0000,9,-999.0000,9,-999.0000,9,-999.0000,9,-999.0000,9,-999.0000,9,   6.5580,     -999.0,1,     -999.0,9,     -999.0,9,     -999.0,9,     -999.0,9,     -999.0,1,     -999.0,9,-999.0000, -999.00
33RO20071215,        P18,     106,          1,         20,      12055,2,20080125,       0239,   -32.7485,  -102.9993,       3367,   600.5,   6.1218,  34.3006,2,  34.3015,2,    249.0,2,   248.6,2,    8.90,2,   23.90,2,    0.00,2,    1.58,2,-999.000,9,-999.000,9,-999.0000,9,  2143.0,2,  -999.0,9,   -999.0,9,  -999.00,-999.0000,9,  -999.00,-999.000,9,-999.0000,9, -999.00,9, -999.00,9,  -999.0,9,-999.000,9,-999.000,-999.000,9,-999.000,9,   41.29,2,   25.51,2, -999.00,1, -999.00,9, -999.00,9,-999.000,-999.0000,9,-999.0000,9,-999.0000,9,-999.0000,9,-999.0000,9,-999.0000,9,-999.0000,9,-999.0000,9,-999.0000,9,   6.0686,     -999.0,9,     -999.0,9,     -999.0,9,     -999.0,9,     -999.0,9,     -999.0,9,     -999.0,9,-999.0000, -999.00
33RO20071215,        P18,     106,          1,         19,      12018,4,20080125,       0239,   -32.7485,  -102.9993,       3367,   697.8,   5.6802,  34.2768,2,-999.0000,9,    242.8,2,  -999.0,9, -999.00,9, -999.00,9, -999.00,9, -999.00,9,-999.000,9,-999.000,9,-999.0000,9,  -999.0,9,  -999.0,9,   -999.0,9,  -999.00,-999.0000,9,  -999.00,-999.000,9,-999.0000,9, -999.00,9, -999.00,9,  -999.0,9,-999.000,9,-999.000,-999.000,9,-999.000,9, -999.00,9, -999.00,9, -999.00,9, -999.00,9, -999.00,9,-999.000,-999.0000,9,-999.0000,9,-999.0000,9,-999.0000,9,-999.0000,9,-999.0000,9,-999.0000,9,-999.0000,9,-999.0000,9,   5.6202,     -999.0,9,     -999.0,9,     -999.0,9,     -999.0,9,     -999.0,9,     -999.0,9,     -999.0,9,-999.0000, -999.00
33RO20071215,        P18,     106,          1,         18,      12025,2,20080125,       0239,   -32.7485,  -102.9993,       3367,   799.8,   5.2703,  34.2642,2,  34.2639,2,    233.9,2,   233.6,2,   14.30,2,   27.30,2,    0.00,2,    1.83,2,   2.354,2,   1.152,2,   0.2784,2,  -999.0,9,  -999.0,9,   -999.0,9,  -999.00,-999.0000,9,  -999.00,-999.000,9,-999.0000,9, -999.00,9, -999.00,9,  -999.0,9,-999.000,9,-999.000,-999.000,9,-999.000,9,   40.85,2,   28.86,2, -999.00,1, -999.00,9, -999.00,9,-999.000,-999.0000,9,-999.0000,9,-999.0000,9,-999.0000,9,-999.0000,9,-999.0000,9,-999.0000,9,-999.0000,9,-999.0000,9,   5.2035,     -999.0,9,     -999.0,9,     -999.0,9,     -999.0,9,     -999.0,9,     -999.0,9,     -999.0,9,-999.0000, -999.00
33RO20071215,        P18,     106,          1,         17,      12016,2,20080125,       0239,   -32.7485,  -102.9993,       3367,   899.4,   4.7027,  34.2729,2,  34.2734,2,    213.3,2,   212.9,2,   22.50,2,   30.10,2,    0.00,2,    2.05,2,   1.321,2,   0.671,2,   0.1410,2,  2179.0,2,  1523.2,4,   -999.0,9,  -999.00,-999.0000,5,  -999.00,-999.000,9,-999.0000,9, -999.00,9, -999.00,9,  -999.0,9,-999.000,9,-999.000,-999.000,9,-999.000,9,   40.17,2,   31.57,2, -999.00,1, -999.00,9, -999.00,9,-999.000,-999.0000,9,-999.0000,9,-999.0000,9,-999.0000,9,-999.0000,9,-999.0000,9,-999.0000,9,-999.0000,9,-999.0000,9,   4.6308,     -999.0,9,     -999.0,9,     -999.0,9,     -999.0,9,     -999.0,9,     -999.0,9,     -999.0,9,-999.0000, -999.00
33RO20071215,        P18,     106,          1,         16,      12051,2,20080125,       0239,   -32.7485,  -102.9993,       3367,  1000.0,   4.2569,  34.3081,2,  34.3075,2,    189.8,2,   188.8,2,   32.90,2,   32.80,2,    0.00,2,    2.26,2,   0.567,2,   0.312,2,   0.0000,2,  -999.0,9,  -999.0,9,   -999.0,9,  -999.00,-999.0000,9,  -999.00,-999.000,9,-999.0000,9, -999.00,9, -999.00,9,  -999.0,9,-999.000,9,-999.000,-999.000,9,-999.000,9,   39.66,2,   34.32,2, -999.00,9, -999.00,9, -999.00,9,-999.000,-999.0000,9,-999.0000,9,-999.0000,9,-999.0000,9,-999.0000,9,-999.0000,9,-999.0000,9,-999.0000,9,-999.0000,9,   4.1796,     -999.0,9,     -999.0,9,     -999.0,9,     -999.0,9,     -999.0,9,     -999.0,9,     -999.0,9,-999.0000, -999.00
33RO20071215,        P18,     106,          1,         15,      12014,2,20080125,       0239,   -32.7485,  -102.9993,       3367,  1100.5,   3.8097,  34.3639,2,  34.3628,2,    164.9,2,   164.8,2,   46.80,2,   35.20,2,    0.00,2,    2.45,2,-999.000,9,-999.000,9,-999.0000,9,  2228.1,2,  -999.0,9,   -999.0,9,  -999.00,   7.5457,2,    25.00,-999.000,9,-999.0000,9, -999.00,9, -999.00,9,  -999.0,9,-999.000,9,-999.000,-999.000,9,-999.000,9,   39.26,2,   36.69,2, -999.00,9, -999.00,9, -999.00,9,-999.000,-999.0000,9,-999.0000,9,-999.0000,9,-999.0000,9,-999.0000,9,-999.0000,9,-999.0000,9,-999.0000,9,-999.0000,9,   3.7275,     -999.0,9,     -999.0,9,     -999.0,9,     -999.0,9,     -999.0,9,     -999.0,9,     -999.0,9,-999.0000, -999.00
33RO20071215,        P18,     106,          1,         14,      12013,2,20080125,       0239,   -32.7485,  -102.9993,       3367,  1200.1,   3.5773,  34.4257,2,  34.4245,2,    140.8,2,   141.4,2,   60.90,2,   37.10,2,    0.00,2,    2.61,2,   0.038,2,   0.025,2,   0.0000,2,  -999.0,9,  -999.0,9,   -999.0,9,  -999.00,-999.0000,9,  -999.00,-999.000,9,-999.0000,9, -999.00,9, -999.00,9,  -999.0,9,-999.000,9,-999.000,-999.000,9,-999.000,9,   38.83,2,   38.47,2, -999.00,9, -999.00,9, -999.00,9,-999.000,-999.0000,9,-999.0000,9,-999.0000,9,-999.0000,9,-999.0000,9,-999.0000,9,-999.0000,9,-999.0000,9,-999.0000,9,   3.4888,     -999.0,9,     -999.0,9,     -999.0,9,     -999.0,9,     -999.0,9,     -999.0,9,     -999.0,9,-999.0000, -999.00
33RO20071215,        P18,     106,          1,         13,      12012,2,20080125,       0239,   -32.7485,  -102.9993,       3367,  1298.8,   3.4131,  34.4928,2,  34.4918,2,    122.5,2,   122.7,2,   76.10,2,   38.30,2,    0.00,2,    2.73,2,-999.000,9,-999.000,9,-999.0000,9,  2277.0,6,  2309.0,4,   -999.0,9,  -999.00,   7.4962,2,    25.00,-999.000,9,-999.0000,9, -999.00,9, -999.00,9,  -999.0,9,-999.000,9,-999.000,-999.000,9,-999.000,9,   38.25,2,   40.08,2, -999.00,9, -999.00,9, -999.00,9,-999.000,-999.0000,9,-999.0000,9,-999.0000,9,-999.0000,9,-999.0000,9,-999.0000,9,-999.0000,9,-999.0000,9,-999.0000,9,   3.3178,     -999.0,9,     -999.0,9,     -999.0,9,     -999.0,9,     -999.0,9,     -999.0,9,     -999.0,9,-999.0000, -999.00
33RO20071215,        P18,     106,          1,         12,      12031,2,20080125,       0239,   -32.7485,  -102.9993,       3367,  1399.6,   3.2232,  34.5254,2,  34.5248,2,    121.9,2,   122.2,2,   84.50,2,   38.20,2,    0.00,2,    2.74,2,-999.000,9,-999.000,9,-999.0000,9,  -999.0,9,  -999.0,9,   -999.0,9,  -999.00,-999.0000,9,  -999.00,-999.000,9,-999.0000,9, -999.00,9, -999.00,9,  -999.0,9,-999.000,9,-999.000,-999.000,9,-999.000,9,   37.56,2,   39.57,2, -999.00,9, -999.00,9, -999.00,9,-999.000,-999.0000,9,-999.0000,9,-999.0000,9,-999.0000,9,-999.0000,9,-999.0000,9,-999.0000,9,-999.0000,9,-999.0000,9,   3.1214,     -999.0,9,     -999.0,9,     -999.0,9,     -999.0,9,     -999.0,9,     -999.0,9,     -999.0,9,-999.0000, -999.00