BOTTLE,20220818CCHSIOAMB
EXPOCODE,SECT_ID,STNNBR,CASTNO,SAMPNO,BTLNBR,BTLNBR_FLAG_W,DATE,TIME,LATITUDE,LONGITUDE,DEPTH,CTDPRS,CTDTMP,CTDSAL,CTDSAL_FLAG_W,SALNTY,SALNTY_FLAG_W,CTDOXY,CTDOXY_FLAG_W,OXYGEN,OXYGEN_FLAG_W,SILCAT,SILCAT_FLAG_W,NITRAT,NITRAT_FLAG_W,NITRIT,NITRIT_FLAG_W,PHSPHT,PHSPHT_FLAG_W,CFC-11,CFC-11_FLAG_W,CFC-12,CFC-12_FLAG_W,SF6,SF6_FLAG_W,TCARBN,TCARBN_FLAG_W,ALKALI,ALKALI_FLAG_W,FCO2,FCO2_FLAG_W,FCO2TMP,PH_SWS,PH_SWS_FLAG_W,PH_TMP,TRITUM,TRITUM_FLAG_W,HELIUM,HELIUM_FLAG_W,DELHE3,DELHE3_FLAG_W,DELC13,DELC13_FLAG_W,DELC14,DELC14_FLAG_W,NEON,NEON_FLAG_W,NEONER,CCL4,CCL4_FLAG_W,POC,POC_FLAG_W,DOC,DOC_FLAG_W,TDN,TDN_FLAG_W,DON,DON_FLAG_W,CHLORA,CHLORA_FLAG_W,ARGON,ARGON_FLAG_W,TRITER,CDOM325,CDOM325_FLAG_W,CDOM340,CDOM340_FLAG_W,CDOM380,CDOM380_FLAG_W,CDOM412,CDOM412_FLAG_W,CDOM443,CDOM443_FLAG_W,CDOM490,CDOM490_FLAG_W,CDOM555,CDOM555_FLAG_W,CDOMSL,CDOMSL_FLAG_W,CDOMSN,CDOMSN_FLAG_W,THETA,D18O_NO3,D18O_NO3_FLAG_W,CDOM2C,CDOM2C_FLAG_W,CDOM3C,CDOM3C_FLAG_W,LAB_DEN,LAB_DEN_FLAG_W,DELSI30,DELSI30_FLAG_W,N2,N2_FLAG_W,D15N_NO3,D15N_NO3_FLAG_W,HELIER,DELHER
,,,,,,,,,,,METERS,DBAR,ITS-90,PSS-78,,PSS-78,,UMOL/KG,,UMOL/KG,,UMOL/KG,,UMOL/KG,,UMOL/KG,,UMOL/KG,,PMOL/KG,,PMOL/KG,,FMOL/KG,,UMOL/KG,,UMOL/KG,,UATM,,DEG C,,,DEG C,TU,,NMOL/KG,,PERCNT,,/MILLE,,/MILLE,,NMOL/KG,,NMOL/KG,PMOL/KG,,UG/KG,,UMOL/KG,,UMOL/KG,,UMOL/KG,,UG/KG,,UMOL/KG,,TU,1/M,,1/M,,1/M,,1/M,,1/M,,1/M,,1/M,,1/NM,,1/NM,,DEG C,/MILLE,,,,,,,,/MILLE,,UMOL/KG,,/MILLE,,NMOL/KG,PERCNT
33RO20071215,        P18,      98,          1,         36,      12017,2,20080117,       0116,   -28.0828,  -102.9997,       3459,     5.5,  23.6873,  36.1183,2,  36.1170,2,    215.4,2,   217.6,2,    0.80,2,    0.30,2,    0.00,2,    0.07,2,   1.938,6,   1.206,6,   0.9557,6,  2070.6,6,  2376.4,2,   -999.0,9,  -999.00,   8.0059,2,    25.00,   0.425,2,   1.7160,2,   -1.49,2,    0.69,4,  -999.0,1,   6.762,2,   0.023,-999.000,9,-999.000,9,   67.06,2,    4.16,2, -999.00,9, -999.00,9, -999.00,9,   0.007,-999.0000,9,-999.0000,9,-999.0000,9,-999.0000,9,-999.0000,9,-999.0000,9,-999.0000,9,-999.0000,9,-999.0000,9,  23.6862,     -999.0,9,     -999.0,9,     -999.0,9,     -999.0,9,     -999.0,9,     -999.0,9,     -999.0,9,   0.0048,    0.15
33RO20071215,        P18,      98,          1,         35,      12029,2,20080117,       0116,   -28.0828,  -102.9997,       3459,    13.7,  23.6894,  36.1182,2,  36.1176,2,    215.6,2,   216.6,2,    0.80,2,    0.40,2,    0.00,2,    0.08,2,-999.000,9,-999.000,9,-999.0000,9,  2071.7,2,  2377.4,2,   -999.0,9,  -999.00,   8.0201,2,    25.00,-999.000,9,-999.0000,9, -999.00,9, -999.00,9,  -999.0,9,-999.000,9,-999.000,-999.000,9,-999.000,9,   65.82,2,    4.20,2, -999.00,9, -999.00,9, -999.00,9,-999.000,-999.0000,9,-999.0000,9,-999.0000,9,-999.0000,9,-999.0000,9,-999.0000,9,-999.0000,9,-999.0000,9,-999.0000,9,  23.6865,     -999.0,9,     -999.0,9,     -999.0,9,     -999.0,9,     -999.0,9,     -999.0,9,     -999.0,9,-999.0000, -999.00
33RO20071215,        P18,      98,          1,         34,      12049,2,20080117,       0116,   -28.0828,  -102.9997,       3459,    21.9,  23.6685,  36.1149,2,  36.1126,2,    215.7,2,   216.5,2,    0.80,2,    0.30,2,    0.00,2,    0.08,2,-999.000,9,-999.000,9,-999.0000,9,  2071.9,2,  2374.4,2,   -999.0,9,  -999.00,   8.0332,2,    25.00,-999.000,9,-999.0000,9, -999.00,9, -999.00,9,  -999.0,9,-999.000,9,-999.000,-999.000,9,-999.000,9,   65.51,2,    3.87,2, -999.00,9, -999.00,9, -999.00,9,-999.000,-999.0000,9,-999.0000,9,-999.0000,9,-999.0000,9,-999.0000,9,-999.0000,9,-999.0000,9,-999.0000,9,-999.0000,9,  23.6639,     -999.0,9,     -999.0,9,     -999.0,9,     -999.0,9,     -999.0,9,     -999.0,9,     -999.0,9,-999.0000, -999.00
33RO20071215,        P18,      98,          1,         33,      12027,2,20080117,       0116,   -28.0828,  -102.9997,       3459,    40.7,  22.3654,  35.9888,2,  35.9878,2,    227.3,2,   228.6,2,    0.80,2,    0.40,2,    0.00,2,    0.06,2,   2.093,2,   1.288,2,   1.0444,2,  2061.9,2,  2368.4,2,   -999.0,9,  -999.00,   7.9940,2,    25.00,   0.422,2,   1.7285,2,   -1.49,2,    1.15,2,  -999.0,1,   6.861,2,   0.023,-999.000,9,-999.000,9,   64.95,2,    3.88,2, -999.00,9, -999.00,9, -999.00,9,   0.007,-999.0000,9,-999.0000,9,-999.0000,9,-999.0000,9,-999.0000,9,-999.0000,9,-999.0000,9,-999.0000,9,-999.0000,9,  22.3573,     -999.0,9,     -999.0,9,     -999.0,9,     -999.0,9,     -999.0,9,     -999.0,9,     -999.0,9,   0.0048,    0.15
33RO20071215,        P18,      98,          1,         32,      12023,2,20080117,       0116,   -28.0828,  -102.9997,       3459,    55.8,  21.3249,  35.8561,2,  35.8760,2,    231.1,2,   231.4,2,    0.80,2,    0.40,2,    0.00,2,    0.07,2,-999.000,9,-999.000,9,-999.0000,9,  2058.9,2,  2359.5,2,   -999.0,9,  -999.00,   8.0214,2,    25.00,-999.000,9,-999.0000,9, -999.00,9, -999.00,9,  -999.0,9,-999.000,9,-999.000,-999.000,9,-999.000,9,   63.78,2,    4.35,2, -999.00,9, -999.00,9, -999.00,9,-999.000,-999.0000,9,-999.0000,9,-999.0000,9,-999.0000,9,-999.0000,9,-999.0000,9,-999.0000,9,-999.0000,9,-999.0000,9,  21.3141,     -999.0,9,     -999.0,9,     -999.0,9,     -999.0,9,     -999.0,9,     -999.0,9,     -999.0,9,-999.0000, -999.00
33RO20071215,        P18,      98,          1,         31,      12037,2,20080117,       0116,   -28.0828,  -102.9997,       3459,    88.0,  20.4254,  35.8565,2,  35.8573,2,    233.1,2,   230.6,2,    0.80,2,    0.40,2,    0.00,2,    0.08,2,   2.209,2,   1.352,2,   1.1099,2,  2060.3,2,  2355.7,2,   -999.0,9,  -999.00,   8.0185,2,    25.00,   0.459,2,   1.7375,2,   -1.40,2, -999.00,9,  -999.0,9,   7.048,2,   0.024,-999.000,9,-999.000,9,   63.74,2,    4.14,2, -999.00,9, -999.00,9, -999.00,9,   0.007,-999.0000,9,-999.0000,9,-999.0000,9,-999.0000,9,-999.0000,9,-999.0000,9,-999.0000,9,-999.0000,9,-999.0000,9,  20.4088,     -999.0,9,     -999.0,9,     -999.0,9,     -999.0,9,     -999.0,9,     -999.0,9,     -999.0,9,   0.0049,    0.15
33RO20071215,        P18,      98,          1,         30,      12036,2,20080117,       0116,   -28.0828,  -102.9997,       3459,   109.7,  20.0858,  35.8239,2,  35.8197,2,    232.2,2,   229.1,2,    0.80,2,    0.40,2,    0.00,2,    0.09,2,-999.000,9,-999.000,9,-999.0000,9,  2061.8,2,  2355.4,2,   -999.0,9,  -999.00,   8.0035,2,    25.00,-999.000,9,-999.0000,9, -999.00,9, -999.00,9,  -999.0,1,-999.000,9,-999.000,-999.000,9,-999.000,9,   62.03,2,    3.94,2, -999.00,9, -999.00,9, -999.00,9,-999.000,-999.0000,9,-999.0000,9,-999.0000,9,-999.0000,9,-999.0000,9,-999.0000,9,-999.0000,9,-999.0000,9,-999.0000,9,  20.0654,     -999.0,9,     -999.0,9,     -999.0,9,     -999.0,9,     -999.0,9,     -999.0,9,     -999.0,9,-999.0000, -999.00
33RO20071215,        P18,      98,          1,         29,      12044,2,20080117,       0116,   -28.0828,  -102.9997,       3459,   133.9,  18.9508,  35.5408,2,  35.5417,2,    236.2,2,   236.0,2,    0.80,2,    0.40,2,    0.00,2,    0.09,2,   2.361,2,   1.430,2,   1.0701,2,  2055.3,2,  2336.1,4,   -999.0,9,  -999.00,   7.9939,2,    25.00,   0.408,2,-999.0000,9, -999.00,9, -999.00,9,  -999.0,9,-999.000,9,-999.000,-999.000,9,-999.000,9,   59.69,2,    3.94,2, -999.00,9, -999.00,9, -999.00,9,   0.007,-999.0000,9,-999.0000,9,-999.0000,9,-999.0000,9,-999.0000,9,-999.0000,9,-999.0000,9,-999.0000,9,-999.0000,9,  18.9269,     -999.0,9,     -999.0,9,     -999.0,9,     -999.0,9,     -999.0,9,     -999.0,9,     -999.0,9,-999.0000, -999.00
33RO20071215,        P18,      98,          1,         28,      12057,2,20080117,       0116,   -28.0828,  -102.9997,       3459,   153.3,  18.5188,  35.4586,2,  35.4649,2,    234.7,2,   235.1,2,    0.80,2,    0.40,2,    0.00,2,    0.10,2,-999.000,9,-999.000,9,-999.0000,9,  2056.8,2,  2338.1,2,   -999.0,9,  -999.00,   7.9889,2,    25.00,-999.000,9,-999.0000,9, -999.00,9,    1.11,2,  -999.0,1,-999.000,9,-999.000,-999.000,9,-999.000,9,   59.24,2,    4.01,2, -999.00,9, -999.00,9, -999.00,9,-999.000,-999.0000,9,-999.0000,9,-999.0000,9,-999.0000,9,-999.0000,9,-999.0000,9,-999.0000,9,-999.0000,9,-999.0000,9,  18.4918,     -999.0,9,     -999.0,9,     -999.0,9,     -999.0,9,     -999.0,9,     -999.0,9,     -999.0,9,-999.0000, -999.00
33RO20071215,        P18,      98,          1,         27,      12026,2,20080117,       0116,   -28.0828,  -102.9997,       3459,   183.8,  17.9011,  35.3322,2,  35.3384,2,    230.9,2,   232.6,2,    0.80,2,    0.40,2,    0.02,2,    0.13,2,   2.452,2,   1.473,2,   1.1986,2,  2058.7,2,  2328.9,2,   -999.0,9,  -999.00,   7.9880,2,    25.00,   0.409,2,   1.7556,2,   -1.59,2, -999.00,9,  -999.0,9,   7.102,2,   0.024,-999.000,9,-999.000,9,   56.35,2,    3.85,2, -999.00,9, -999.00,9, -999.00,9,   0.007,-999.0000,9,-999.0000,9,-999.0000,9,-999.0000,9,-999.0000,9,-999.0000,9,-999.0000,9,-999.0000,9,-999.0000,9,  17.8696,     -999.0,9,     -999.0,9,     -999.0,9,     -999.0,9,     -999.0,9,     -999.0,9,     -999.0,9,   0.0049,    0.15
33RO20071215,        P18,      98,          1,         26,      12030,2,20080117,       0116,   -28.0828,  -102.9997,       3459,   218.9,  16.4827,  35.0431,2,  35.0540,2,    225.3,2,   226.7,2,    0.80,2,    1.70,2,    0.17,2,    0.22,2,-999.000,9,-999.000,9,-999.0000,9,  2060.2,2,  2308.1,2,   -999.0,9,  -999.00,   7.9363,2,    25.00,-999.000,9,-999.0000,9, -999.00,9,    1.11,2,  -999.0,1,-999.000,9,-999.000,-999.000,9,-999.000,9,   56.08,2,    4.61,2, -999.00,9, -999.00,9, -999.00,9,-999.000,-999.0000,9,-999.0000,9,-999.0000,9,-999.0000,9,-999.0000,9,-999.0000,9,-999.0000,9,-999.0000,9,-999.0000,9,  16.4473,     -999.0,9,     -999.0,9,     -999.0,9,     -999.0,9,     -999.0,9,     -999.0,9,     -999.0,9,-999.0000, -999.00
33RO20071215,        P18,      98,          1,         25,      12024,2,20080117,       0116,   -28.0828,  -102.9997,       3459,   267.7,  14.5488,  34.7951,2,  34.7865,2,    204.4,2,   203.2,2,    1.60,2,    7.20,2,    0.01,2,    0.53,2,   2.866,2,   1.626,2,   0.9180,2,  2085.9,2,  2289.1,2,   -999.0,9,  -999.00,   7.8642,2,    25.00,   0.338,2,   1.8044,2,   -0.44,2,    0.98,2,  -999.0,1,   7.322,2,   0.025,-999.000,9,-999.000,9,   46.67,2,    8.90,2, -999.00,9, -999.00,9, -999.00,9,   0.007,-999.0000,9,-999.0000,9,-999.0000,9,-999.0000,9,-999.0000,9,-999.0000,9,-999.0000,9,-999.0000,9,-999.0000,9,  14.5091,     -999.0,9,     -999.0,9,     -999.0,9,     -999.0,9,     -999.0,9,     -999.0,9,     -999.0,9,   0.0051,    0.15
33RO20071215,        P18,      98,          1,         24,      12019,2,20080117,       0116,   -28.0828,  -102.9997,       3459,   316.1,  11.6844,  34.5149,2,  34.5163,2,    197.7,2,   196.1,2,    3.30,2,   13.80,2,    0.01,2,    0.96,2,-999.000,9,-999.000,9,-999.0000,9,  2113.2,2,  2278.5,2,   -999.0,9,  -999.00,   7.7679,2,    25.00,-999.000,9,-999.0000,9, -999.00,9,    0.78,3,  -999.0,1,-999.000,9,-999.000,-999.000,9,-999.000,9,   44.24,2,   15.09,2, -999.00,9, -999.00,9, -999.00,9,-999.000,-999.0000,9,-999.0000,9,-999.0000,9,-999.0000,9,-999.0000,9,-999.0000,9,-999.0000,9,-999.0000,9,-999.0000,9,  11.6439,     -999.0,9,     -999.0,9,     -999.0,9,     -999.0,9,     -999.0,9,     -999.0,9,     -999.0,9,-999.0000, -999.00
33RO20071215,        P18,      98,          1,         23,      12022,2,20080117,       0116,   -28.0828,  -102.9997,       3459,   367.9,   9.7790,  34.4019,2,  34.4005,2,    202.7,2,   201.9,2,    4.90,2,   18.30,2,    0.01,2,    1.25,2,   3.198,2,   1.675,2,   0.7265,2,  2130.4,2,  2269.6,2,   -999.0,9,  -999.00,   7.7344,2,    25.00,   0.190,2,   1.7875,2,   -0.62,2, -999.00,9,  -999.0,9,   7.486,2,   0.026,-999.000,9,-999.000,9,   44.00,2,   19.67,2, -999.00,9, -999.00,9, -999.00,9,   0.006,-999.0000,9,-999.0000,9,-999.0000,9,-999.0000,9,-999.0000,9,-999.0000,9,-999.0000,9,-999.0000,9,-999.0000,9,   9.7368,     -999.0,9,     -999.0,9,     -999.0,9,     -999.0,9,     -999.0,9,     -999.0,9,     -999.0,9,   0.0050,    0.15
33RO20071215,        P18,      98,          1,         22,      12015,2,20080117,       0116,   -28.0828,  -102.9997,       3459,   435.8,   7.8490,  34.3346,2,  34.3332,2,    193.7,2,   193.0,2,    8.90,2,   24.60,2,    0.01,2,    1.68,2,   3.051,2,   1.544,2,   0.5701,2,  2161.6,2,  2273.5,2,   -999.0,9,  -999.00,   7.6502,2,    25.00,-999.000,9,   1.7962,2,    0.06,2, -999.00,9,  -999.0,1,   7.560,2,   0.026,-999.000,9,-999.000,9,   42.39,2,   26.10,2, -999.00,9, -999.00,9, -999.00,9,-999.000,-999.0000,9,-999.0000,9,-999.0000,9,-999.0000,9,-999.0000,9,-999.0000,9,-999.0000,9,-999.0000,9,-999.0000,9,   7.8052,     -999.0,9,     -999.0,9,     -999.0,9,     -999.0,9,     -999.0,9,     -999.0,9,     -999.0,9,   0.0050,    0.15
33RO20071215,        P18,      98,          1,         21,      12020,2,20080117,       0116,   -28.0828,  -102.9997,       3459,   528.7,   6.4754,  34.3184,2,  34.3187,2,    217.8,2,   218.3,2,   10.30,2,   26.00,2,    0.00,2,    1.70,2,   3.065,2,   1.519,2,   0.5220,2,  2159.0,2,  2282.2,4,   -999.0,9,  -999.00,   7.7217,2,    25.00,   0.116,2,   1.7988,2,    0.05,2,    1.12,2,  -999.0,1,   7.811,2,   0.027,-999.000,9,-999.000,9,   41.09,2,   27.80,2, -999.00,9, -999.00,9, -999.00,9,   0.006,-999.0000,9,-999.0000,9,-999.0000,9,-999.0000,9,-999.0000,9,-999.0000,9,-999.0000,9,-999.0000,9,-999.0000,9,   6.4274,     -999.0,9,     -999.0,9,     -999.0,9,     -999.0,9,     -999.0,9,     -999.0,9,     -999.0,9,   0.0050,    0.15
33RO20071215,        P18,      98,          1,         20,      12055,2,20080117,       0116,   -28.0828,  -102.9997,       3459,   637.6,   5.8369,  34.2953,2,  34.2963,2,    225.3,2,   224.7,2,   12.50,2,   27.20,2,    0.00,2,    1.77,2,   2.542,2,   1.240,2,   0.3192,2,  2159.1,2,  2281.3,2,   -999.0,9,  -999.00,   7.6588,2,    25.00,-999.000,9,   1.8030,2,    0.50,2,    1.13,2,  -999.0,1,   7.790,2,   0.026,-999.000,9,-999.000,9,   40.56,2,   29.02,2, -999.00,9, -999.00,9, -999.00,9,-999.000,-999.0000,9,-999.0000,9,-999.0000,9,-999.0000,9,-999.0000,9,-999.0000,9,-999.0000,9,-999.0000,9,-999.0000,9,   5.7816,     -999.0,9,     -999.0,9,     -999.0,9,     -999.0,9,     -999.0,9,     -999.0,9,     -999.0,9,   0.0050,    0.15
33RO20071215,        P18,      98,          1,         19,      12018,2,20080117,       0116,   -28.0828,  -102.9997,       3459,   735.0,   5.3244,  34.2801,2,  34.2811,2,    222.2,2,   220.7,2,   16.00,2,   28.80,2,    0.00,2,    1.89,2,   1.851,2,   0.906,2,   0.1941,2,  2165.5,2,  2283.9,2,   -999.0,9,  -999.00,   7.6526,2,    25.00,   0.098,2,   1.7988,2,    1.13,2, -999.00,9,  -999.0,9,   7.779,2,   0.026,-999.000,9,-999.000,9,   40.47,2,   30.35,2, -999.00,9, -999.00,9, -999.00,9,   0.006,-999.0000,9,-999.0000,9,-999.0000,9,-999.0000,9,-999.0000,9,-999.0000,9,-999.0000,9,-999.0000,9,-999.0000,9,   5.2630,     -999.0,9,     -999.0,9,     -999.0,9,     -999.0,9,     -999.0,9,     -999.0,9,     -999.0,9,   0.0050,    0.15
33RO20071215,        P18,      98,          1,         18,      12025,2,20080117,       0116,   -28.0828,  -102.9997,       3459,   805.5,   4.9442,  34.2897,2,  34.2887,2,    201.8,2,   203.9,2,   22.30,2,   31.00,2,    0.00,2,    2.05,2,   1.158,2,   0.581,2,   0.1433,2,  2182.1,2,  2286.9,2,   -999.0,9,  -999.00,   7.6185,2,    25.00,-999.000,9,   1.8032,2,    1.98,2, -999.00,9,  -999.0,1,   7.757,2,   0.026,-999.000,9,-999.000,9, -999.00,9, -999.00,9, -999.00,9, -999.00,9, -999.00,9,-999.000,-999.0000,9,-999.0000,9,-999.0000,9,-999.0000,9,-999.0000,9,-999.0000,9,-999.0000,9,-999.0000,9,-999.0000,9,   4.8789,     -999.0,9,     -999.0,9,     -999.0,9,     -999.0,9,     -999.0,9,     -999.0,9,     -999.0,9,   0.0050,    0.15
33RO20071215,        P18,      98,          1,         17,      12016,2,20080117,       0116,   -28.0828,  -102.9997,       3459,   934.0,   4.3631,  34.3400,2,  34.3394,2,    170.8,2,   170.8,2,   37.60,2,   34.70,2,    0.00,2,    2.33,2,   0.341,2,   0.182,2,   0.0000,2,  2214.6,2,  2302.9,2,   -999.0,9,  -999.00,   7.5740,2,    25.00,   0.016,2,   1.8183,2,    4.65,2, -999.00,9,  -999.0,9,   7.778,2,   0.026,-999.000,9,-999.000,9,   39.68,2,   35.63,2, -999.00,9, -999.00,9, -999.00,9,   0.006,-999.0000,9,-999.0000,9,-999.0000,9,-999.0000,9,-999.0000,9,-999.0000,9,-999.0000,9,-999.0000,9,-999.0000,9,   4.2905,     -999.0,9,     -999.0,9,     -999.0,9,     -999.0,9,     -999.0,9,     -999.0,9,     -999.0,9,   0.0051,    0.15
33RO20071215,        P18,      98,          1,         16,      12051,2,20080117,       0116,   -28.0828,  -102.9997,       3459,  1035.0,   3.8886,  34.4126,2,  34.4092,2,    144.8,2,   144.3,2,   55.30,2,   37.40,2,    0.00,2,    2.53,2,   0.064,2,   0.035,2,   0.0000,2,  2247.6,2,  2320.4,2,   -999.0,9,  -999.00,   7.5312,2,    25.00,  -0.004,2,   1.8452,2,    8.79,2,    0.57,2,  -999.0,1,   7.911,2,   0.027,-999.000,9,-999.000,9,   38.79,2,   38.31,2, -999.00,9, -999.00,9, -999.00,9,   0.006,-999.0000,9,-999.0000,9,-999.0000,9,-999.0000,9,-999.0000,9,-999.0000,9,-999.0000,9,-999.0000,9,-999.0000,9,   3.8110,     -999.0,9,     -999.0,9,     -999.0,9,     -999.0,9,     -999.0,9,     -999.0,9,     -999.0,9,   0.0052,    0.15
33RO20071215,        P18,      98,          1,         15,      12014,2,20080117,       0116,   -28.0828,  -102.9997,       3459,  1135.1,   3.6062,  34.4641,2,  34.4624,2,    133.5,2,   133.2,2,   68.10,2,   38.20,2,    0.00,2,    2.61,2,   0.015,2,   0.008,2,   0.0000,2,  2264.7,2,  2335.3,4,   -999.0,9,  -999.00,   7.5201,2,    25.00,   0.033,2,   1.8564,2,   12.30,2, -999.00,9,  -999.0,9,   7.937,2,   0.027,-999.000,9,-999.000,9,   38.29,2,   39.92,2, -999.00,9, -999.00,9, -999.00,9,   0.006,-999.0000,9,-999.0000,9,-999.0000,9,-999.0000,9,-999.0000,9,-999.0000,9,-999.0000,9,-999.0000,9,-999.0000,9,   3.5227,     -999.0,9,     -999.0,9,     -999.0,9,     -999.0,9,     -999.0,9,     -999.0,9,     -999.0,9,   0.0052,    0.15
33RO20071215,        P18,      98,          1,         14,      12013,2,20080117,       0116,   -28.0828,  -102.9997,       3459,  1218.2,   3.4098,  34.4957,2,  34.4950,2,    132.4,2,   132.2,2,   75.60,2,   38.20,2,    0.00,2,    2.61,2,-999.000,9,-999.000,9,-999.0000,9,  2272.5,6,  2338.6,2,   -999.0,9,  -999.00,   7.5174,2,    25.00,-999.000,9,-999.0000,9, -999.00,9, -999.00,9,  -999.0,9,-999.000,9,-999.000,-999.000,9,-999.000,9,   37.78,2,   39.46,2, -999.00,9, -999.00,9, -999.00,9,-999.000,-999.0000,9,-999.0000,9,-999.0000,9,-999.0000,9,-999.0000,9,-999.0000,9,-999.0000,9,-999.0000,9,-999.0000,9,   3.3211,     -999.0,9,     -999.0,9,     -999.0,9,     -999.0,9,     -999.0,9,     -999.0,9,     -999.0,9,-999.0000, -999.00
33RO20071215,        P18,      98,          1,         13,      12012,2,20080117,       0116,   -28.0828,  -102.9997,       3459,  1331.5,   3.0886,  34.5254,2,  34.5250,2,    137.7,2,   137.8,2,   83.00,2,   37.60,2,    0.00,2,    2.57,2,   0.001,2,   0.001,2,   0.0000,2,  2276.9,2,  2344.1,2,   -999.0,9,  -999.00,   7.5325,2,    25.00,-999.000,9,-999.0000,9, -999.00,9, -999.00,9,  -999.0,9,-999.000,9,-999.000,-999.000,9,-999.000,9,   37.81,2,   38.86,2, -999.00,9, -999.00,9, -999.00,9,-999.000,-999.0000,9,-999.0000,9,-999.0000,9,-999.0000,9,-999.0000,9,-999.0000,9,-999.0000,9,-999.0000,9,-999.0000,9,   2.9938,     -999.0,9,     -999.0,9,     -999.0,9,     -999.0,9,     -999.0,9,     -999.0,9,     -999.0,9,-999.0000, -999.00
33RO20071215,        P18,      98,          1,         12,      12031,2,20080117,       0116,   -28.0828,  -102.9997,       3459,  1434.4,   2.8079,  34.5515,2,  34.5511,2,    144.5,2,   145.0,2,   89.00,2,   37.10,2,    0.00,2,    2.51,2,-999.000,9,-999.000,9,-999.0000,9,  2278.5,2,  2346.0,4,   -999.0,9,  -999.00,   7.5439,2,    25.00,-999.000,9,-999.0000,9, -999.00,9, -999.00,9,  -999.0,9,-999.000,9,-999.000,-999.000,9,-999.000,9,   36.92,2,   38.54,2, -999.00,9, -999.00,9, -999.00,9,-999.000,-999.0000,9,-999.0000,9,-999.0000,9,-999.0000,9,-999.0000,9,-999.0000,9,-999.0000,9,-999.0000,9,-999.0000,9,   2.7077,     -999.0,9,     -999.0,9,     -999.0,9,     -999.0,9,     -999.0,9,     -999.0,9,     -999.0,9,-999.0000, -999.00