BOTTLE,20220818CCHSIOAMB
EXPOCODE,SECT_ID,STNNBR,CASTNO,SAMPNO,BTLNBR,BTLNBR_FLAG_W,DATE,TIME,LATITUDE,LONGITUDE,DEPTH,CTDPRS,CTDTMP,CTDSAL,CTDSAL_FLAG_W,SALNTY,SALNTY_FLAG_W,CTDOXY,CTDOXY_FLAG_W,OXYGEN,OXYGEN_FLAG_W,SILCAT,SILCAT_FLAG_W,NITRAT,NITRAT_FLAG_W,NITRIT,NITRIT_FLAG_W,PHSPHT,PHSPHT_FLAG_W,CFC-11,CFC-11_FLAG_W,CFC-12,CFC-12_FLAG_W,SF6,SF6_FLAG_W,TCARBN,TCARBN_FLAG_W,ALKALI,ALKALI_FLAG_W,FCO2,FCO2_FLAG_W,FCO2TMP,PH_SWS,PH_SWS_FLAG_W,PH_TMP,TRITUM,TRITUM_FLAG_W,HELIUM,HELIUM_FLAG_W,DELHE3,DELHE3_FLAG_W,DELC13,DELC13_FLAG_W,DELC14,DELC14_FLAG_W,NEON,NEON_FLAG_W,NEONER,CCL4,CCL4_FLAG_W,POC,POC_FLAG_W,DOC,DOC_FLAG_W,TDN,TDN_FLAG_W,DON,DON_FLAG_W,CHLORA,CHLORA_FLAG_W,ARGON,ARGON_FLAG_W,TRITER,CDOM325,CDOM325_FLAG_W,CDOM340,CDOM340_FLAG_W,CDOM380,CDOM380_FLAG_W,CDOM412,CDOM412_FLAG_W,CDOM443,CDOM443_FLAG_W,CDOM490,CDOM490_FLAG_W,CDOM555,CDOM555_FLAG_W,CDOMSL,CDOMSL_FLAG_W,CDOMSN,CDOMSN_FLAG_W,THETA,D18O_NO3,D18O_NO3_FLAG_W,CDOM2C,CDOM2C_FLAG_W,CDOM3C,CDOM3C_FLAG_W,LAB_DEN,LAB_DEN_FLAG_W,DELSI30,DELSI30_FLAG_W,N2,N2_FLAG_W,D15N_NO3,D15N_NO3_FLAG_W,HELIER,DELHER
,,,,,,,,,,,METERS,DBAR,ITS-90,PSS-78,,PSS-78,,UMOL/KG,,UMOL/KG,,UMOL/KG,,UMOL/KG,,UMOL/KG,,UMOL/KG,,PMOL/KG,,PMOL/KG,,FMOL/KG,,UMOL/KG,,UMOL/KG,,UATM,,DEG C,,,DEG C,TU,,NMOL/KG,,PERCNT,,/MILLE,,/MILLE,,NMOL/KG,,NMOL/KG,PMOL/KG,,UG/KG,,UMOL/KG,,UMOL/KG,,UMOL/KG,,UG/KG,,UMOL/KG,,TU,1/M,,1/M,,1/M,,1/M,,1/M,,1/M,,1/M,,1/NM,,1/NM,,DEG C,/MILLE,,,,,,,,/MILLE,,UMOL/KG,,/MILLE,,NMOL/KG,PERCNT
33RO20071215,        P18,      51,          1,         24,      11024,4,20080101,       0354,    -2.9993,  -110.0002,       3770,     6.6,  22.7544,  34.9638,2,-999.0000,9,    215.9,2,  -999.0,9, -999.00,9, -999.00,9, -999.00,9, -999.00,9,-999.000,9,-999.000,9,-999.0000,9,  -999.0,9,  -999.0,9,   -999.0,9,  -999.00,-999.0000,9,  -999.00,-999.000,9,-999.0000,9, -999.00,9, -999.00,9,  -999.0,9,-999.000,9,-999.000,-999.000,9,-999.000,9, -999.00,9, -999.00,9, -999.00,9, -999.00,9, -999.00,9,-999.000,-999.0000,9,-999.0000,9,-999.0000,9,-999.0000,9,-999.0000,9,-999.0000,9,-999.0000,9,-999.0000,9,-999.0000,9,  22.7531,     -999.0,9,     -999.0,9,     -999.0,9,     -999.0,9,     -999.0,9,     -999.0,9,     -999.0,9,-999.0000, -999.00
33RO20071215,        P18,      51,          1,         23,      11023,2,20080101,       0354,    -2.9993,  -110.0002,       3770,    22.4,  22.7202,  34.9631,2,  34.9677,2,    216.3,2,   216.4,2,    8.80,2,   14.00,2,    0.32,2,    1.01,2,   1.986,6,   1.229,6,   1.0129,2,  2087.7,2,  2310.0,2,    504.3,2,    20.00,   7.8833,2,    25.00,-999.000,9,-999.0000,9, -999.00,9, -999.00,9,  -999.0,9,-999.000,9,-999.000,-999.000,9,-999.000,9,   58.39,2,   17.56,2, -999.00,1, -999.00,9, -999.00,9,-999.000,-999.0000,9,-999.0000,9,-999.0000,9,-999.0000,9,-999.0000,9,-999.0000,9,-999.0000,9,-999.0000,9,-999.0000,9,  22.7157,     -999.0,9,     -999.0,9,     -999.0,9,     -999.0,9,     -999.0,9,     -999.0,9,     -999.0,9,-999.0000, -999.00
33RO20071215,        P18,      51,          1,         22,      11022,2,20080101,       0354,    -2.9993,  -110.0002,       3770,    51.0,  20.6742,  35.2971,2,  35.2818,2,    169.4,2,   175.3,2,    5.10,2,   10.80,2,    0.74,2,    1.00,2,   2.031,2,   1.232,2,   1.0675,2,  2109.8,2,  2330.4,4,    524.6,2,    20.00,   7.8743,2,    25.00,-999.000,9,-999.0000,9, -999.00,9, -999.00,9,  -999.0,9,-999.000,9,-999.000,-999.000,9,-999.000,9, -999.00,9, -999.00,9, -999.00,1, -999.00,9, -999.00,9,-999.000,-999.0000,9,-999.0000,9,-999.0000,9,-999.0000,9,-999.0000,9,-999.0000,9,-999.0000,9,-999.0000,9,-999.0000,9,  20.6646,     -999.0,9,     -999.0,9,     -999.0,9,     -999.0,9,     -999.0,9,     -999.0,9,     -999.0,9,-999.0000, -999.00
33RO20071215,        P18,      51,          1,         21,      11021,2,20080101,       0354,    -2.9993,  -110.0002,       3770,    75.1,  15.2997,  35.0436,2,  35.0438,2,     68.7,2,    66.6,2,   15.60,2,   23.50,2,    0.89,2,    1.75,2,   1.463,2,   0.838,2,   0.4006,2,  2191.6,2,  2309.3,2,    967.0,2,    20.00,   7.6890,2,    25.00,-999.000,9,-999.0000,9, -999.00,9, -999.00,9,  -999.0,9,-999.000,9,-999.000,-999.000,9,-999.000,9,   54.17,2,   27.05,2, -999.00,1, -999.00,9, -999.00,9,-999.000,-999.0000,9,-999.0000,9,-999.0000,9,-999.0000,9,-999.0000,9,-999.0000,9,-999.0000,9,-999.0000,9,-999.0000,9,  15.2882,     -999.0,9,     -999.0,9,     -999.0,9,     -999.0,9,     -999.0,9,     -999.0,9,     -999.0,9,-999.0000, -999.00
33RO20071215,        P18,      51,          1,         20,      11020,2,20080101,       0354,    -2.9993,  -110.0002,       3770,    95.7,  14.1101,  35.0062,2,  35.0039,2,     51.0,2,    50.5,2,   18.00,2,   27.30,2,    0.06,2,    1.88,2,   1.356,2,   0.759,2,   0.3245,2,  2204.6,2,  2306.0,2,   1085.0,2,    20.00,   7.5985,2,    25.00,-999.000,9,-999.0000,9, -999.00,9, -999.00,9,  -999.0,9,-999.000,9,-999.000,-999.000,9,-999.000,9,   48.20,2,   29.72,2, -999.00,1, -999.00,9, -999.00,9,-999.000,-999.0000,9,-999.0000,9,-999.0000,9,-999.0000,9,-999.0000,9,-999.0000,9,-999.0000,9,-999.0000,9,-999.0000,9,  14.0963,     -999.0,9,     -999.0,9,     -999.0,9,     -999.0,9,     -999.0,9,     -999.0,9,     -999.0,9,-999.0000, -999.00
33RO20071215,        P18,      51,          1,         19,      11019,2,20080101,       0354,    -2.9993,  -110.0002,       3770,   125.3,  13.6467,  34.9752,2,  34.9739,2,     58.9,2,    57.6,2,   19.00,2,   26.80,2,    0.01,2,    1.84,2,   1.294,2,   0.727,2,   0.2880,2,  2202.2,2,  2305.7,2,   1059.3,2,    20.00,   7.6061,2,    25.00,-999.000,9,-999.0000,9, -999.00,9, -999.00,9,  -999.0,9,-999.000,9,-999.000,-999.000,9,-999.000,9,   47.22,2,   29.01,2, -999.00,1, -999.00,9, -999.00,9,-999.000,-999.0000,9,-999.0000,9,-999.0000,9,-999.0000,9,-999.0000,9,-999.0000,9,-999.0000,9,-999.0000,9,-999.0000,9,  13.6290,     -999.0,9,     -999.0,9,     -999.0,9,     -999.0,9,     -999.0,9,     -999.0,9,     -999.0,9,-999.0000, -999.00
33RO20071215,        P18,      51,          1,         18,      11018,2,20080101,       0354,    -2.9993,  -110.0002,       3770,   151.0,  13.3991,  34.9605,2,  34.9584,2,     47.3,2,    47.3,2,   20.40,2,   28.10,2,    0.01,2,    1.95,2,   1.188,6,   0.668,6,   0.2952,6,  2211.1,2,  2304.8,2,   1145.9,2,    20.00,   7.5794,2,    25.00,-999.000,9,-999.0000,9, -999.00,9, -999.00,9,  -999.0,9,-999.000,9,-999.000,-999.000,9,-999.000,9,   46.87,2,   30.39,2, -999.00,1, -999.00,9, -999.00,9,-999.000,-999.0000,9,-999.0000,9,-999.0000,9,-999.0000,9,-999.0000,9,-999.0000,9,-999.0000,9,-999.0000,9,-999.0000,9,  13.3779,     -999.0,9,     -999.0,9,     -999.0,9,     -999.0,9,     -999.0,9,     -999.0,9,     -999.0,9,-999.0000, -999.00
33RO20071215,        P18,      51,          1,         17,      11017,2,20080101,       0354,    -2.9993,  -110.0002,       3770,   200.8,  12.8121,  34.9216,2,  34.9192,2,     10.2,2,    10.1,2,   24.50,2,   32.10,2,    0.01,2,    2.31,2,   0.855,2,   0.483,2,   0.1800,2,  2242.6,2,  2301.1,2,   1479.1,6,    20.00,   7.4756,2,    25.00,-999.000,9,-999.0000,9, -999.00,9, -999.00,9,  -999.0,9,-999.000,9,-999.000,-999.000,9,-999.000,9,   45.95,2,   34.22,2, -999.00,1, -999.00,9, -999.00,9,-999.000,-999.0000,9,-999.0000,9,-999.0000,9,-999.0000,9,-999.0000,9,-999.0000,9,-999.0000,9,-999.0000,9,-999.0000,9,  12.7848,     -999.0,9,     -999.0,9,     -999.0,9,     -999.0,9,     -999.0,9,     -999.0,9,     -999.0,9,-999.0000, -999.00
33RO20071215,        P18,      51,          1,         16,      11016,2,20080101,       0354,    -2.9993,  -110.0002,       3770,   275.5,  11.9617,  34.8705,2,  34.8690,2,     13.1,2,    11.9,2,   26.40,2,   32.70,2,    0.01,2,    2.36,2,   0.620,2,   0.357,2,   0.1122,2,  2250.1,2,  2302.0,2,   -999.0,9,  -999.00,   7.4588,2,    25.00,-999.000,9,-999.0000,9, -999.00,9, -999.00,9,  -999.0,9,-999.000,9,-999.000,-999.000,9,-999.000,9,   45.30,2,   33.93,2, -999.00,1, -999.00,9, -999.00,9,-999.000,-999.0000,9,-999.0000,9,-999.0000,9,-999.0000,9,-999.0000,9,-999.0000,9,-999.0000,9,-999.0000,9,-999.0000,9,  11.9258,     -999.0,9,     -999.0,9,     -999.0,9,     -999.0,9,     -999.0,9,     -999.0,9,     -999.0,9,-999.0000, -999.00
33RO20071215,        P18,      51,          1,         15,      11015,2,20080101,       0354,    -2.9993,  -110.0002,       3770,   350.4,  10.4822,  34.7751,2,  34.7734,2,      8.5,2,     4.1,2,   33.50,2,   34.70,2,    0.01,2,    2.65,2,   0.240,2,   0.145,2,   0.0000,2,  2272.8,2,  2304.5,2,   1765.3,2,    20.00,   7.4017,2,    25.00,-999.000,9,-999.0000,9, -999.00,9, -999.00,9,  -999.0,9,-999.000,9,-999.000,-999.000,9,-999.000,9,   44.40,2,   35.76,2, -999.00,1, -999.00,9, -999.00,9,-999.000,-999.0000,9,-999.0000,9,-999.0000,9,-999.0000,9,-999.0000,9,-999.0000,9,-999.0000,9,-999.0000,9,-999.0000,9,  10.4401,     -999.0,9,     -999.0,9,     -999.0,9,     -999.0,9,     -999.0,9,     -999.0,9,     -999.0,9,-999.0000, -999.00
33RO20071215,        P18,      51,          1,         14,      11014,2,20080101,       0354,    -2.9993,  -110.0002,       3770,   425.1,   8.8527,  34.6756,2,  34.6748,2,     18.4,2,    17.5,2,   39.80,2,   38.80,2,    0.01,2,    2.73,2,   0.140,2,   0.084,2,   0.0067,2,  2274.0,2,  2305.6,2,   -999.0,9,  -999.00,   7.4035,2,    25.00,-999.000,9,-999.0000,9, -999.00,9, -999.00,9,  -999.0,9,-999.000,9,-999.000,-999.000,9,-999.000,9,   42.90,2,   40.01,2, -999.00,1, -999.00,9, -999.00,9,-999.000,-999.0000,9,-999.0000,9,-999.0000,9,-999.0000,9,-999.0000,9,-999.0000,9,-999.0000,9,-999.0000,9,-999.0000,9,   8.8065,     -999.0,9,     -999.0,9,     -999.0,9,     -999.0,9,     -999.0,9,     -999.0,9,     -999.0,9,-999.0000, -999.00
33RO20071215,        P18,      51,          1,         13,      11013,2,20080101,       0354,    -2.9993,  -110.0002,       3770,   494.6,   8.1519,  34.6379,2,  34.6387,2,     28.3,2,    25.4,2,   43.10,2,   39.80,2,    0.00,2,    2.79,2,   0.087,2,   0.053,2,   0.0000,2,  2278.5,2,  2309.5,2,   1769.3,2,    20.00,   7.4044,2,    25.00,-999.000,9,-999.0000,9, -999.00,9, -999.00,9,  -999.0,9,-999.000,9,-999.000,-999.000,9,-999.000,9,   42.24,2,   40.73,2, -999.00,1, -999.00,9, -999.00,9,-999.000,-999.0000,9,-999.0000,9,-999.0000,9,-999.0000,9,-999.0000,9,-999.0000,9,-999.0000,9,-999.0000,9,-999.0000,9,   8.1006,     -999.0,9,     -999.0,9,     -999.0,9,     -999.0,9,     -999.0,9,     -999.0,9,     -999.0,9,-999.0000, -999.00
33RO20071215,        P18,      51,          1,         12,      11012,2,20080101,       0354,    -2.9993,  -110.0002,       3770,   650.6,   6.5460,  34.5672,2,  34.5667,2,     54.7,2,    58.6,2,   53.20,2,   40.00,2,    0.00,2,    2.80,2,   0.038,2,   0.025,2,   0.0000,2,  2276.6,2,  2319.9,2,   -999.0,9,  -999.00,   7.4429,2,    25.00,-999.000,9,-999.0000,9, -999.00,9, -999.00,9,  -999.0,9,-999.000,9,-999.000,-999.000,9,-999.000,9,   40.53,2,   41.36,2, -999.00,1, -999.00,9, -999.00,9,-999.000,-999.0000,9,-999.0000,9,-999.0000,9,-999.0000,9,-999.0000,9,-999.0000,9,-999.0000,9,-999.0000,9,-999.0000,9,   6.4857,     -999.0,9,     -999.0,9,     -999.0,9,     -999.0,9,     -999.0,9,     -999.0,9,     -999.0,9,-999.0000, -999.00
33RO20071215,        P18,      51,          1,         11,      11010,2,20080101,       0354,    -2.9993,  -110.0002,       3770,   797.4,   5.5624,  34.5529,2,  34.5529,2,     55.1,4,    66.9,2,   68.10,2,   40.40,2,    0.00,2,    2.87,2,   0.007,2,   0.007,2,   0.0000,2,  2287.7,2,  -999.0,5,   1593.7,2,    20.00,   7.4503,2,    25.00,-999.000,9,-999.0000,9, -999.00,9, -999.00,9,  -999.0,9,-999.000,9,-999.000,-999.000,9,-999.000,9,   38.63,2,   41.23,2, -999.00,1, -999.00,9, -999.00,9,-999.000,-999.0000,9,-999.0000,9,-999.0000,9,-999.0000,9,-999.0000,9,-999.0000,9,-999.0000,9,-999.0000,9,-999.0000,9,   5.4936,     -999.0,9,     -999.0,9,     -999.0,9,     -999.0,9,     -999.0,9,     -999.0,9,     -999.0,9,-999.0000, -999.00
33RO20071215,        P18,      51,          1,         10,      11011,2,20080101,       0354,    -2.9993,  -110.0002,       3770,   950.0,   4.9183,  34.5469,2,  34.5471,2,     71.4,4,    83.3,2,   75.60,2,   39.70,2,    0.00,2,    2.82,2,   0.003,2,   0.005,2,   0.0000,2,  2288.4,2,  -999.0,5,   -999.0,9,  -999.00,   7.4678,2,    25.00,-999.000,9,-999.0000,9, -999.00,9, -999.00,9,  -999.0,9,-999.000,9,-999.000,-999.000,9,-999.000,9,   37.80,2,   41.19,2, -999.00,1, -999.00,9, -999.00,9,-999.000,-999.0000,9,-999.0000,9,-999.0000,9,-999.0000,9,-999.0000,9,-999.0000,9,-999.0000,9,-999.0000,9,-999.0000,9,   4.8400,     -999.0,9,     -999.0,9,     -999.0,9,     -999.0,9,     -999.0,9,     -999.0,9,     -999.0,9,-999.0000, -999.00
33RO20071215,        P18,      51,          1,          9,      11009,2,20080101,       0354,    -2.9993,  -110.0002,       3770,  1100.6,   4.1852,  34.5567,2,  34.5574,2,     79.3,4,    95.2,2,   88.60,2,   39.20,2,    0.00,2,    2.78,2,   0.002,2,   0.004,2,   0.0000,2,  2296.0,2,  2107.2,4,   1457.1,2,    20.00,   7.4726,2,    25.00,-999.000,9,-999.0000,9, -999.00,9, -999.00,9,  -999.0,9,-999.000,9,-999.000,-999.000,9,-999.000,9,   36.94,2,   40.27,2, -999.00,1, -999.00,9, -999.00,9,-999.000,-999.0000,9,-999.0000,9,-999.0000,9,-999.0000,9,-999.0000,9,-999.0000,9,-999.0000,9,-999.0000,9,-999.0000,9,   4.0994,     -999.0,9,     -999.0,9,     -999.0,9,     -999.0,9,     -999.0,9,     -999.0,9,     -999.0,9,-999.0000, -999.00
33RO20071215,        P18,      51,          1,          8,      11008,2,20080101,       0354,    -2.9993,  -110.0002,       3770,  1300.2,   3.5850,  34.5846,2,  34.5846,2,     80.9,4,    85.3,2,  108.80,2,   40.40,2,    0.00,2,    2.90,2,  -0.003,2,   0.000,2,   0.0000,2,  2321.9,2,  2308.6,4,   -999.0,9,  -999.00,   7.4655,2,    25.00,-999.000,9,-999.0000,9, -999.00,9, -999.00,9,  -999.0,9,-999.000,9,-999.000,-999.000,9,-999.000,9,   36.26,2,   41.38,2, -999.00,1, -999.00,9, -999.00,9,-999.000,-999.0000,9,-999.0000,9,-999.0000,9,-999.0000,9,-999.0000,9,-999.0000,9,-999.0000,9,-999.0000,9,-999.0000,9,   3.4877,     -999.0,9,     -999.0,9,     -999.0,9,     -999.0,9,     -999.0,9,     -999.0,9,     -999.0,9,-999.0000, -999.00
33RO20071215,        P18,      51,          1,          7,      11007,2,20080101,       0354,    -2.9993,  -110.0002,       3770,  1601.4,   2.8630,  34.6112,2,  34.6114,2,     88.5,4,    98.6,2,  124.70,2,   39.70,2,    0.00,2,    2.82,2,  -0.004,2,  -0.001,2,   0.0000,2,  2331.9,2,  2392.2,2,   1452.5,2,    20.00,   7.4946,2,    25.00,-999.000,9,-999.0000,9, -999.00,9, -999.00,9,  -999.0,9,-999.000,9,-999.000,-999.000,9,-999.000,9,   35.58,2,   40.99,2, -999.00,1, -999.00,9, -999.00,9,-999.000,-999.0000,9,-999.0000,9,-999.0000,9,-999.0000,9,-999.0000,9,-999.0000,9,-999.0000,9,-999.0000,9,-999.0000,9,   2.7482,     -999.0,9,     -999.0,9,     -999.0,9,     -999.0,9,     -999.0,9,     -999.0,9,     -999.0,9,-999.0000, -999.00
33RO20071215,        P18,      51,          1,          6,      11006,2,20080101,       0354,    -2.9993,  -110.0002,       3770,  1999.2,   2.2602,  34.6468,2,  34.6483,2,     96.1,4,   107.2,2,  143.70,2,   39.10,2,    0.00,2,    2.77,2,  -0.001,2,   0.004,3,   0.0540,2,  2346.4,2,  2415.4,3,   -999.0,9,  -999.00,   7.5066,2,    25.00,-999.000,9,-999.0000,9, -999.00,9, -999.00,9,  -999.0,9,-999.000,9,-999.000,-999.000,9,-999.000,9,   35.88,2,   40.17,2, -999.00,1, -999.00,9, -999.00,9,-999.000,-999.0000,9,-999.0000,9,-999.0000,9,-999.0000,9,-999.0000,9,-999.0000,9,-999.0000,9,-999.0000,9,-999.0000,9,   2.1198,     -999.0,9,     -999.0,9,     -999.0,9,     -999.0,9,     -999.0,9,     -999.0,9,     -999.0,9,-999.0000, -999.00
33RO20071215,        P18,      51,          1,          5,      11005,2,20080101,       0354,    -2.9993,  -110.0002,       3770,  2401.7,   1.9485,  34.6615,2,  34.6615,2,    110.5,4,   120.1,2,  147.60,2,   38.40,2,    0.00,2,    2.69,2,  -0.003,2,   0.000,2,   0.0000,2,  2343.3,2,  2420.8,2,   1317.5,2,    20.00,   7.5344,2,    25.00,-999.000,9,-999.0000,9, -999.00,9, -999.00,9,  -999.0,9,-999.000,9,-999.000,   0.002,3,-999.000,9,   36.94,2,   39.60,2, -999.00,1, -999.00,9, -999.00,9,-999.000,-999.0000,9,-999.0000,9,-999.0000,9,-999.0000,9,-999.0000,9,-999.0000,9,-999.0000,9,-999.0000,9,-999.0000,9,   1.7780,     -999.0,9,     -999.0,9,     -999.0,9,     -999.0,9,     -999.0,9,     -999.0,9,     -999.0,9,-999.0000, -999.00
33RO20071215,        P18,      51,          1,          4,      11004,2,20080101,       0354,    -2.9993,  -110.0002,       3770,  2798.7,   1.7671,  34.6712,2,  34.6853,2,    122.2,4,   134.0,2,  146.80,6,   37.50,6,    0.00,6,    2.60,2,  -0.004,2,   0.000,2,   0.0000,2,  2335.7,2,  2420.1,2,   -999.0,9,  -999.00,   7.5605,2,    25.00,-999.000,9,-999.0000,9, -999.00,9, -999.00,9,  -999.0,9,-999.000,9,-999.000,   0.002,3,-999.000,9,   36.65,3,   38.48,3, -999.00,1, -999.00,9, -999.00,9,-999.000,-999.0000,9,-999.0000,9,-999.0000,9,-999.0000,9,-999.0000,9,-999.0000,9,-999.0000,9,-999.0000,9,-999.0000,9,   1.5636,     -999.0,9,     -999.0,9,     -999.0,9,     -999.0,9,     -999.0,9,     -999.0,9,     -999.0,9,-999.0000, -999.00
33RO20071215,        P18,      51,          1,          3,      11003,2,20080101,       0354,    -2.9993,  -110.0002,       3770,  3197.2,   1.5989,  34.6822,2,  34.6714,2,    133.6,4,   148.3,2,  146.10,6,   36.70,6,    0.00,6,    2.52,2,  -0.003,2,   0.000,2,   0.0000,2,  2328.1,2,  2421.3,2,   1188.7,2,    20.00,   7.5806,2,    25.00,-999.000,9,-999.0000,9, -999.00,9, -999.00,9,  -999.0,9,-999.000,9,-999.000,   0.002,3,-999.000,9,   35.75,3,   38.02,3, -999.00,1, -999.00,9, -999.00,9,-999.000,-999.0000,9,-999.0000,9,-999.0000,9,-999.0000,9,-999.0000,9,-999.0000,9,-999.0000,9,-999.0000,9,-999.0000,9,   1.3607,     -999.0,9,     -999.0,9,     -999.0,9,     -999.0,9,     -999.0,9,     -999.0,9,     -999.0,9,-999.0000, -999.00
33RO20071215,        P18,      51,          1,          2,      11002,2,20080101,       0354,    -2.9993,  -110.0002,       3770,  3599.2,   1.4707,  34.6914,2,  34.6924,2,    148.0,4,   158.5,2,  147.60,6,   36.10,6,    0.00,6,    2.47,2,  -0.003,2,   0.000,2,   0.0000,2,  2325.7,2,  2423.2,2,   -999.0,9,  -999.00,   7.6144,2,    25.00,-999.000,9,-999.0000,9, -999.00,9, -999.00,9,  -999.0,9,-999.000,9,-999.000,   0.002,3,-999.000,9,   38.39,2,   37.15,2, -999.00,1, -999.00,9, -999.00,9,-999.000,-999.0000,9,-999.0000,9,-999.0000,9,-999.0000,9,-999.0000,9,-999.0000,9,-999.0000,9,-999.0000,9,-999.0000,9,   1.1951,     -999.0,9,     -999.0,9,     -999.0,9,     -999.0,9,     -999.0,9,     -999.0,9,     -999.0,9,-999.0000, -999.00
33RO20071215,        P18,      51,          1,          1,      11001,2,20080101,       0354,    -2.9993,  -110.0002,       3770,  3803.9,   1.4689,  34.6925,2,  34.6930,2,    147.8,4,   160.3,2,  147.40,2,   35.90,2,    0.00,2,    2.46,2,  -0.003,6,   0.000,6,   0.0126,6,  2324.1,6,  2423.6,2,   1109.9,2,    20.00,   7.6026,2,    25.00,-999.000,9,-999.0000,9, -999.00,9, -999.00,9,  -999.0,9,-999.000,9,-999.000,   0.002,3,-999.000,9,   38.15,2,   37.58,2, -999.00,1, -999.00,9, -999.00,9,-999.000,-999.0000,9,-999.0000,9,-999.0000,9,-999.0000,9,-999.0000,9,-999.0000,9,-999.0000,9,-999.0000,9,-999.0000,9,   1.1719,     -999.0,9,     -999.0,9,     -999.0,9,     -999.0,9,     -999.0,9,     -999.0,9,     -999.0,9,-999.0000, -999.00