BOTTLE,20220818CCHSIOAMB
EXPOCODE,SECT_ID,STNNBR,CASTNO,SAMPNO,BTLNBR,BTLNBR_FLAG_W,DATE,TIME,LATITUDE,LONGITUDE,DEPTH,CTDPRS,CTDTMP,CTDSAL,CTDSAL_FLAG_W,SALNTY,SALNTY_FLAG_W,CTDOXY,CTDOXY_FLAG_W,OXYGEN,OXYGEN_FLAG_W,SILCAT,SILCAT_FLAG_W,NITRAT,NITRAT_FLAG_W,NITRIT,NITRIT_FLAG_W,PHSPHT,PHSPHT_FLAG_W,CFC-11,CFC-11_FLAG_W,CFC-12,CFC-12_FLAG_W,SF6,SF6_FLAG_W,TCARBN,TCARBN_FLAG_W,ALKALI,ALKALI_FLAG_W,FCO2,FCO2_FLAG_W,FCO2TMP,PH_SWS,PH_SWS_FLAG_W,PH_TMP,TRITUM,TRITUM_FLAG_W,HELIUM,HELIUM_FLAG_W,DELHE3,DELHE3_FLAG_W,DELC13,DELC13_FLAG_W,DELC14,DELC14_FLAG_W,NEON,NEON_FLAG_W,NEONER,CCL4,CCL4_FLAG_W,POC,POC_FLAG_W,DOC,DOC_FLAG_W,TDN,TDN_FLAG_W,DON,DON_FLAG_W,CHLORA,CHLORA_FLAG_W,ARGON,ARGON_FLAG_W,TRITER,CDOM325,CDOM325_FLAG_W,CDOM340,CDOM340_FLAG_W,CDOM380,CDOM380_FLAG_W,CDOM412,CDOM412_FLAG_W,CDOM443,CDOM443_FLAG_W,CDOM490,CDOM490_FLAG_W,CDOM555,CDOM555_FLAG_W,CDOMSL,CDOMSL_FLAG_W,CDOMSN,CDOMSN_FLAG_W,THETA,D18O_NO3,D18O_NO3_FLAG_W,CDOM2C,CDOM2C_FLAG_W,CDOM3C,CDOM3C_FLAG_W,LAB_DEN,LAB_DEN_FLAG_W,DELSI30,DELSI30_FLAG_W,N2,N2_FLAG_W,D15N_NO3,D15N_NO3_FLAG_W,HELIER,DELHER
,,,,,,,,,,,METERS,DBAR,ITS-90,PSS-78,,PSS-78,,UMOL/KG,,UMOL/KG,,UMOL/KG,,UMOL/KG,,UMOL/KG,,UMOL/KG,,PMOL/KG,,PMOL/KG,,FMOL/KG,,UMOL/KG,,UMOL/KG,,UATM,,DEG C,,,DEG C,TU,,NMOL/KG,,PERCNT,,/MILLE,,/MILLE,,NMOL/KG,,NMOL/KG,PMOL/KG,,UG/KG,,UMOL/KG,,UMOL/KG,,UMOL/KG,,UG/KG,,UMOL/KG,,TU,1/M,,1/M,,1/M,,1/M,,1/M,,1/M,,1/M,,1/NM,,1/NM,,DEG C,/MILLE,,,,,,,,/MILLE,,UMOL/KG,,/MILLE,,NMOL/KG,PERCNT
33RO20071215,        P18,      98,          1,         11,      12003,2,20080117,       0116,   -28.0828,  -102.9997,       3459,  1531.8,   2.5702,  34.5762,2,  34.5765,2,    150.3,2,   150.2,2,   94.70,2,   36.50,2,    0.00,2,    2.48,2,-999.000,9,-999.000,9,-999.0000,9,  2281.1,2,  2364.2,2,   -999.0,9,  -999.00,   7.5598,2,    25.00,-999.000,9,-999.0000,9, -999.00,9,   -1.84,4,  -999.0,1,-999.000,9,-999.000,-999.000,9,-999.000,9,   37.49,2,   37.70,2, -999.00,9, -999.00,9, -999.00,9,-999.000,-999.0000,9,-999.0000,9,-999.0000,9,-999.0000,9,-999.0000,9,-999.0000,9,-999.0000,9,-999.0000,9,-999.0000,9,   2.4647,     -999.0,9,     -999.0,9,     -999.0,9,     -999.0,9,     -999.0,9,     -999.0,9,     -999.0,9,-999.0000, -999.00
33RO20071215,        P18,      98,          1,         10,      12032,2,20080117,       0116,   -28.0828,  -102.9997,       3459,  1670.4,   2.3577,  34.6017,2,  34.6016,2,    154.4,2,   153.9,2,  102.20,2,   36.30,2,    0.00,2,    2.45,2,-999.000,9,-999.000,9,-999.0000,9,  2285.4,2,  2374.3,2,   -999.0,9,  -999.00,   7.5610,2,    25.00,-999.000,9,-999.0000,9, -999.00,9, -999.00,9,  -999.0,9,-999.000,9,-999.000,-999.000,9,-999.000,9,   36.82,2,   37.57,2, -999.00,9, -999.00,9, -999.00,9,-999.000,-999.0000,9,-999.0000,9,-999.0000,9,-999.0000,9,-999.0000,9,-999.0000,9,-999.0000,9,-999.0000,9,-999.0000,9,   2.2436,     -999.0,9,     -999.0,9,     -999.0,9,     -999.0,9,     -999.0,9,     -999.0,9,     -999.0,9,-999.0000, -999.00
33RO20071215,        P18,      98,          1,          9,      12002,2,20080117,       0116,   -28.0828,  -102.9997,       3459,  1867.4,   2.1357,  34.6297,2,  34.6310,2,    155.2,2,   154.7,2,  111.90,2,   36.20,2,    0.00,2,    2.42,2,-999.000,9,-999.000,9,-999.0000,9,  2293.6,2,  2384.2,2,   -999.0,9,  -999.00,   7.5522,2,    25.00,-999.000,9,-999.0000,9, -999.00,9, -999.00,9,  -999.0,9,-999.000,9,-999.000,-999.000,9,-999.000,9,   37.49,2,   37.51,2, -999.00,9, -999.00,9, -999.00,9,-999.000,-999.0000,9,-999.0000,9,-999.0000,9,-999.0000,9,-999.0000,9,-999.0000,9,-999.0000,9,-999.0000,9,-999.0000,9,   2.0083,     -999.0,9,     -999.0,9,     -999.0,9,     -999.0,9,     -999.0,9,     -999.0,9,     -999.0,9,-999.0000, -999.00
33RO20071215,        P18,      98,          1,          8,      12021,2,20080117,       0116,   -28.0828,  -102.9997,       3459,  2063.9,   1.9924,  34.6472,2,  34.6493,2,    156.2,2,   156.1,2,  117.40,2,   36.10,2,    0.00,2,    2.43,2,-999.000,9,-999.000,9,-999.0000,9,  2299.7,6,  2390.8,2,   -999.0,9,  -999.00,   7.5691,2,    25.00,-999.000,9,-999.0000,9, -999.00,9,    0.14,2,  -999.0,1,-999.000,9,-999.000,-999.000,9,-999.000,9,   36.19,2,   37.06,2, -999.00,9, -999.00,9, -999.00,9,-999.000,-999.0000,9,-999.0000,9,-999.0000,9,-999.0000,9,-999.0000,9,-999.0000,9,-999.0000,9,-999.0000,9,-999.0000,9,   1.8506,     -999.0,9,     -999.0,9,     -999.0,9,     -999.0,9,     -999.0,9,     -999.0,9,     -999.0,9,-999.0000, -999.00
33RO20071215,        P18,      98,          1,          7,      12001,2,20080117,       0116,   -28.0828,  -102.9997,       3459,  2268.7,   1.9062,  34.6592,2,  34.6613,2,    156.9,2,   156.9,2,  121.60,2,   35.90,2,    0.00,2,    2.42,2,-999.000,9,-999.000,9,-999.0000,9,  2301.9,2,  2396.9,4,   -999.0,9,  -999.00,   7.5734,2,    25.00,-999.000,9,-999.0000,9, -999.00,9, -999.00,9,  -999.0,9,-999.000,9,-999.000,-999.000,9,-999.000,9,   37.28,2,   36.90,2, -999.00,9, -999.00,9, -999.00,9,-999.000,-999.0000,9,-999.0000,9,-999.0000,9,-999.0000,9,-999.0000,9,-999.0000,9,-999.0000,9,-999.0000,9,-999.0000,9,   1.7482,     -999.0,9,     -999.0,9,     -999.0,9,     -999.0,9,     -999.0,9,     -999.0,9,     -999.0,9,-999.0000, -999.00
33RO20071215,        P18,      98,          1,          6,      12033,2,20080117,       0116,   -28.0828,  -102.9997,       3459,  2468.8,   1.8807,  34.6649,2,  34.6670,2,    157.7,2,   157.9,2,  122.80,2,   35.90,2,    0.01,2,    2.41,2,-999.000,9,-999.000,9,-999.0000,9,  2302.9,2,  2390.8,2,   -999.0,9,  -999.00,   7.5670,2,    25.00,-999.000,9,-999.0000,9, -999.00,9,    0.38,2,  -999.0,1,-999.000,9,-999.000,-999.000,9,-999.000,9,   37.02,2,   37.00,2, -999.00,9, -999.00,9, -999.00,9,-999.000,-999.0000,9,-999.0000,9,-999.0000,9,-999.0000,9,-999.0000,9,-999.0000,9,-999.0000,9,-999.0000,9,-999.0000,9,   1.7054,     -999.0,9,     -999.0,9,     -999.0,9,     -999.0,9,     -999.0,9,     -999.0,9,     -999.0,9,-999.0000, -999.00
33RO20071215,        P18,      98,          1,          5,      12008,2,20080117,       0116,   -28.0828,  -102.9997,       3459,  2667.6,   1.8643,  34.6689,2,  34.6694,2,    159.1,2,   159.5,2,  123.20,2,   35.80,2,    0.01,2,    2.41,2,-999.000,9,-999.000,9,-999.0000,9,  2302.7,2,  2391.4,2,   -999.0,9,  -999.00,   7.5715,2,    25.00,-999.000,9,-999.0000,9, -999.00,9, -999.00,9,  -999.0,9,-999.000,9,-999.000,-999.000,9,-999.000,9,   37.49,2,   36.93,2, -999.00,9, -999.00,9, -999.00,9,-999.000,-999.0000,9,-999.0000,9,-999.0000,9,-999.0000,9,-999.0000,9,-999.0000,9,-999.0000,9,-999.0000,9,-999.0000,9,   1.6711,     -999.0,9,     -999.0,9,     -999.0,9,     -999.0,9,     -999.0,9,     -999.0,9,     -999.0,9,-999.0000, -999.00
33RO20071215,        P18,      98,          1,          4,      12009,2,20080117,       0116,   -28.0828,  -102.9997,       3459,  2867.2,   1.8628,  34.6721,2,  34.6737,2,    160.3,2,   154.7,3,  123.10,6,   35.60,6,    0.00,6,    2.40,2,  -0.001,2,   0.000,2,   0.0000,2,  2304.6,2,  2389.8,4,   -999.0,9,  -999.00,   7.5786,2,    25.00,-999.000,9,-999.0000,9, -999.00,9, -999.00,9,  -999.0,9,-999.000,9,-999.000,   0.011,3,-999.000,9,   38.35,2,   36.90,2, -999.00,9, -999.00,9, -999.00,9,-999.000,-999.0000,9,-999.0000,9,-999.0000,9,-999.0000,9,-999.0000,9,-999.0000,9,-999.0000,9,-999.0000,9,-999.0000,9,   1.6508,     -999.0,9,     -999.0,9,     -999.0,9,     -999.0,9,     -999.0,9,     -999.0,9,     -999.0,9,-999.0000, -999.00
33RO20071215,        P18,      98,          1,          3,      12006,2,20080117,       0116,   -28.0828,  -102.9997,       3459,  3065.6,   1.8662,  34.6753,2,  34.6770,2,    161.4,2,   161.3,2,  122.60,6,   35.50,6,    0.00,6,    2.39,2,-999.000,9,-999.000,9,-999.0000,9,  2298.3,2,  2390.1,4,   -999.0,9,  -999.00,   7.5829,2,    25.00,-999.000,9,-999.0000,9, -999.00,9,    0.24,2,  -999.0,1,-999.000,9,-999.000,-999.000,9,-999.000,9,   36.95,2,   36.55,2, -999.00,9, -999.00,9, -999.00,9,-999.000,-999.0000,9,-999.0000,9,-999.0000,9,-999.0000,9,-999.0000,9,-999.0000,9,-999.0000,9,-999.0000,9,-999.0000,9,   1.6348,     -999.0,9,     -999.0,9,     -999.0,9,     -999.0,9,     -999.0,9,     -999.0,9,     -999.0,9,-999.0000, -999.00
33RO20071215,        P18,      98,          1,          2,      12007,2,20080117,       0116,   -28.0828,  -102.9997,       3459,  3332.5,   1.8703,  34.6803,2,  34.6824,2,    163.5,2,   163.3,2,  122.10,6,   35.30,6,    0.00,6,    2.37,2,   0.000,2,   0.000,2,   0.0000,2,  2298.4,2,  2392.1,4,   -999.0,9,  -999.00,   7.5830,2,    25.00,-999.000,9,-999.0000,9, -999.00,9,    0.27,2,  -999.0,1,-999.000,9,-999.000,   0.008,3,-999.000,9,   37.61,2,   36.59,2, -999.00,9, -999.00,9, -999.00,9,-999.000,-999.0000,9,-999.0000,9,-999.0000,9,-999.0000,9,-999.0000,9,-999.0000,9,-999.0000,9,-999.0000,9,-999.0000,9,   1.6121,     -999.0,9,     -999.0,9,     -999.0,9,     -999.0,9,     -999.0,9,     -999.0,9,     -999.0,9,-999.0000, -999.00
33RO20071215,        P18,      98,          1,          1,      12035,2,20080117,       0116,   -28.0828,  -102.9997,       3459,  3510.3,   1.8861,  34.6811,2,  34.6831,2,    163.4,2,   163.1,2,  122.20,2,   35.40,2,    0.01,2,    2.38,2,   0.000,2,   0.000,6,   0.0000,6,  2300.8,6,  2401.5,2,   -999.0,9,  -999.00,   7.5808,2,    25.00,-999.000,9,-999.0000,9, -999.00,9,    0.23,2,  -999.0,1,-999.000,9,-999.000,   0.010,3,-999.000,9,   38.27,2,   36.58,2, -999.00,9, -999.00,9, -999.00,9,-999.000,-999.0000,9,-999.0000,9,-999.0000,9,-999.0000,9,-999.0000,9,-999.0000,9,-999.0000,9,-999.0000,9,-999.0000,9,   1.6092,     -999.0,9,     -999.0,9,     -999.0,9,     -999.0,9,     -999.0,9,     -999.0,9,     -999.0,9,-999.0000, -999.00