BOTTLE,20220818CCHSIOAMB
EXPOCODE,SECT_ID,STNNBR,CASTNO,SAMPNO,BTLNBR,BTLNBR_FLAG_W,DATE,TIME,LATITUDE,LONGITUDE,DEPTH,CTDPRS,CTDTMP,CTDSAL,CTDSAL_FLAG_W,SALNTY,SALNTY_FLAG_W,CTDOXY,CTDOXY_FLAG_W,OXYGEN,OXYGEN_FLAG_W,SILCAT,SILCAT_FLAG_W,NITRAT,NITRAT_FLAG_W,NITRIT,NITRIT_FLAG_W,PHSPHT,PHSPHT_FLAG_W,CFC-11,CFC-11_FLAG_W,CFC-12,CFC-12_FLAG_W,SF6,SF6_FLAG_W,TCARBN,TCARBN_FLAG_W,ALKALI,ALKALI_FLAG_W,FCO2,FCO2_FLAG_W,FCO2TMP,PH_SWS,PH_SWS_FLAG_W,PH_TMP,TRITUM,TRITUM_FLAG_W,HELIUM,HELIUM_FLAG_W,DELHE3,DELHE3_FLAG_W,DELC13,DELC13_FLAG_W,DELC14,DELC14_FLAG_W,NEON,NEON_FLAG_W,NEONER,CCL4,CCL4_FLAG_W,POC,POC_FLAG_W,DOC,DOC_FLAG_W,TDN,TDN_FLAG_W,DON,DON_FLAG_W,CHLORA,CHLORA_FLAG_W,ARGON,ARGON_FLAG_W,TRITER,CDOM325,CDOM325_FLAG_W,CDOM340,CDOM340_FLAG_W,CDOM380,CDOM380_FLAG_W,CDOM412,CDOM412_FLAG_W,CDOM443,CDOM443_FLAG_W,CDOM490,CDOM490_FLAG_W,CDOM555,CDOM555_FLAG_W,CDOMSL,CDOMSL_FLAG_W,CDOMSN,CDOMSN_FLAG_W,THETA,D18O_NO3,D18O_NO3_FLAG_W,CDOM2C,CDOM2C_FLAG_W,CDOM3C,CDOM3C_FLAG_W,LAB_DEN,LAB_DEN_FLAG_W,DELSI30,DELSI30_FLAG_W,N2,N2_FLAG_W,D15N_NO3,D15N_NO3_FLAG_W,HELIER,DELHER
,,,,,,,,,,,METERS,DBAR,ITS-90,PSS-78,,PSS-78,,UMOL/KG,,UMOL/KG,,UMOL/KG,,UMOL/KG,,UMOL/KG,,UMOL/KG,,PMOL/KG,,PMOL/KG,,FMOL/KG,,UMOL/KG,,UMOL/KG,,UATM,,DEG C,,,DEG C,TU,,NMOL/KG,,PERCNT,,/MILLE,,/MILLE,,NMOL/KG,,NMOL/KG,PMOL/KG,,UG/KG,,UMOL/KG,,UMOL/KG,,UMOL/KG,,UG/KG,,UMOL/KG,,TU,1/M,,1/M,,1/M,,1/M,,1/M,,1/M,,1/M,,1/NM,,1/NM,,DEG C,/MILLE,,,,,,,,/MILLE,,UMOL/KG,,/MILLE,,NMOL/KG,PERCNT
33RO20071215,        P18,     120,          1,         11,      12003,2,20080129,       0117,   -40.9155,  -103.0002,       4059,  1933.4,   2.3132,  34.6226,2,  34.6223,2,    158.9,2,   159.4,2,   95.80,2,   34.80,2,    0.00,2,    2.42,2,   0.056,3,   0.036,3,   0.0000,2,  2276.7,2,  -999.0,9,   -999.0,9,  -999.00,   7.5599,2,    25.00,-999.000,9,-999.0000,9, -999.00,9, -999.00,9,  -999.0,9,-999.000,9,-999.000,-999.000,9,-999.000,9,   38.01,2,   36.18,2, -999.00,1, -999.00,9, -999.00,9,-999.000,-999.0000,9,-999.0000,9,-999.0000,9,-999.0000,9,-999.0000,9,-999.0000,9,-999.0000,9,-999.0000,9,-999.0000,9,   2.1777,     -999.0,9,     -999.0,9,     -999.0,9,     -999.0,9,     -999.0,9,     -999.0,9,     -999.0,9,-999.0000, -999.00
33RO20071215,        P18,     120,          1,         10,      12032,2,20080129,       0117,   -40.9155,  -103.0002,       4059,  2134.2,   2.1664,  34.6612,2,  34.6617,2,    165.4,2,   166.1,2,   97.80,2,   34.00,2,    0.00,2,    2.33,2,-999.000,9,-999.000,9,-999.0000,9,  2283.7,2,  2365.7,2,   1163.5,2,    20.00,   7.5707,2,    25.00,-999.000,9,-999.0000,9, -999.00,9, -999.00,9,  -999.0,9,-999.000,9,-999.000,-999.000,9,-999.000,9,   37.59,2,   35.30,2, -999.00,1, -999.00,9, -999.00,9,-999.000,-999.0000,9,-999.0000,9,-999.0000,9,-999.0000,9,-999.0000,9,-999.0000,9,-999.0000,9,-999.0000,9,-999.0000,9,   2.0157,     -999.0,9,     -999.0,9,     -999.0,9,     -999.0,1,     -999.0,9,     -999.0,9,     -999.0,9,-999.0000, -999.00
33RO20071215,        P18,     120,          1,          9,      12002,2,20080129,       0117,   -40.9155,  -103.0002,       4059,  2330.6,   1.9829,  34.6847,2,  34.6848,2,    167.2,2,   168.2,2,  105.20,2,   33.80,2,    0.00,2,    2.32,2,   0.017,2,   0.011,2,   0.0000,2,  2278.4,2,  -999.0,9,   -999.0,9,  -999.00,   7.5724,2,    25.00,-999.000,9,-999.0000,9, -999.00,9, -999.00,9,  -999.0,9,-999.000,9,-999.000,   0.044,3,-999.000,9,   36.83,2,   34.84,2, -999.00,1, -999.00,9, -999.00,9,-999.000,-999.0000,9,-999.0000,9,-999.0000,9,-999.0000,9,-999.0000,9,-999.0000,9,-999.0000,9,-999.0000,9,-999.0000,9,   1.8180,     -999.0,9,     -999.0,9,     -999.0,9,     -999.0,9,     -999.0,9,     -999.0,9,     -999.0,9,-999.0000, -999.00
33RO20071215,        P18,     120,          1,          8,      12021,2,20080129,       0117,   -40.9155,  -103.0002,       4059,  2534.5,   1.8465,  34.6913,2,  34.6912,2,    168.4,2,   169.1,2,  111.80,2,   33.90,2,    0.00,2,    2.34,2,-999.000,9,-999.000,9,-999.0000,9,  2274.0,2,  2387.5,4,   1141.4,2,    20.00,   7.5795,2,    25.00,-999.000,9,-999.0000,9, -999.00,9, -999.00,9,  -999.0,9,-999.000,9,-999.000,-999.000,9,-999.000,9,   36.16,2,   34.86,2, -999.00,1, -999.00,9, -999.00,9,-999.000,-999.0000,9,-999.0000,9,-999.0000,9,-999.0000,9,-999.0000,9,-999.0000,9,-999.0000,9,-999.0000,9,-999.0000,9,   1.6657,     -999.0,9,     -999.0,9,     -999.0,9,     -999.0,1,     -999.0,9,     -999.0,9,     -999.0,9,-999.0000, -999.00
33RO20071215,        P18,     120,          1,          7,      12001,2,20080129,       0117,   -40.9155,  -103.0002,       4059,  2733.3,   1.7879,  34.6972,2,  34.6977,2,    170.6,2,   171.5,2,  113.10,2,   33.80,2,    0.00,2,    2.31,2,   0.009,2,   0.007,2,   0.0000,2,  2282.3,2,  -999.0,9,   -999.0,9,  -999.00,   7.5878,2,    25.00,-999.000,9,-999.0000,9, -999.00,9, -999.00,9,  -999.0,9,-999.000,9,-999.000,   0.025,3,-999.000,9,   37.03,2,   35.54,2, -999.00,1, -999.00,9, -999.00,9,-999.000,-999.0000,9,-999.0000,9,-999.0000,9,-999.0000,9,-999.0000,9,-999.0000,9,-999.0000,9,-999.0000,9,-999.0000,9,   1.5900,     -999.0,9,     -999.0,9,     -999.0,9,     -999.0,9,     -999.0,9,     -999.0,9,     -999.0,9,-999.0000, -999.00
33RO20071215,        P18,     120,          1,          6,      12033,2,20080129,       0117,   -40.9155,  -103.0002,       4059,  2932.0,   1.7308,  34.7008,2,  34.7025,2,    173.4,2,   173.8,2,  114.30,2,   33.60,2,    0.00,2,    2.31,2,-999.000,9,-999.000,9,-999.0000,9,  2284.7,6,  2386.5,2,   1119.2,6,    20.00,   7.6034,2,    25.00,-999.000,9,-999.0000,9, -999.00,9, -999.00,9,  -999.0,9,-999.000,9,-999.000,-999.000,9,-999.000,9,   37.97,2,   34.57,2, -999.00,1, -999.00,9, -999.00,9,-999.000,-999.0000,9,-999.0000,9,-999.0000,9,-999.0000,9,-999.0000,9,-999.0000,9,-999.0000,9,-999.0000,9,-999.0000,9,   1.5153,     -999.0,9,     -999.0,9,     -999.0,9,     -999.0,1,     -999.0,9,     -999.0,9,     -999.0,9,-999.0000, -999.00
33RO20071215,        P18,     120,          1,          5,      12008,2,20080129,       0117,   -40.9155,  -103.0002,       4059,  3165.3,   1.6238,  34.7048,2,  34.7062,2,    177.6,2,   178.6,2,  116.60,2,   33.40,2,    0.00,2,    2.30,2,   0.003,2,   0.003,2,   0.0000,2,  2282.1,2,  -999.0,9,   -999.0,9,  -999.00,   7.5838,2,    25.00,-999.000,9,-999.0000,9, -999.00,9, -999.00,9,  -999.0,9,-999.000,9,-999.000,   0.016,3,-999.000,9,   37.83,2,   34.78,2, -999.00,1, -999.00,9, -999.00,9,-999.000,-999.0000,9,-999.0000,9,-999.0000,9,-999.0000,9,-999.0000,9,-999.0000,9,-999.0000,9,-999.0000,9,-999.0000,9,   1.3881,     -999.0,9,     -999.0,9,     -999.0,9,     -999.0,9,     -999.0,9,     -999.0,9,     -999.0,9,-999.0000, -999.00
33RO20071215,        P18,     120,          1,          4,      12009,2,20080129,       0117,   -40.9155,  -103.0002,       4059,  3417.3,   1.4264,  34.7069,2,  34.7071,2,    184.3,2,   184.7,2,  121.00,6,   33.40,6,    0.00,6,    2.29,2,-999.000,9,-999.000,9,-999.0000,9,  2281.7,2,  2381.6,2,   1084.6,2,    20.00,   7.5897,2,    25.00,-999.000,9,-999.0000,9, -999.00,9, -999.00,9,  -999.0,9,-999.000,9,-999.000,-999.000,9,-999.000,9,   39.13,2,   35.02,2, -999.00,1, -999.00,9, -999.00,9,-999.000,-999.0000,9,-999.0000,9,-999.0000,9,-999.0000,9,-999.0000,9,-999.0000,9,-999.0000,9,-999.0000,9,-999.0000,9,   1.1702,     -999.0,9,     -999.0,9,     -999.0,9,     -999.0,1,     -999.0,9,     -999.0,9,     -999.0,9,-999.0000, -999.00
33RO20071215,        P18,     120,          1,          3,      12006,2,20080129,       0117,   -40.9155,  -103.0002,       4059,  3666.7,   1.2230,  34.7090,2,  34.7100,2,    190.8,2,   191.0,2,  125.30,6,   33.10,6,    0.00,6,    2.27,2,   0.002,2,   0.002,2,   0.0000,2,  2280.0,2,  -999.0,9,   -999.0,9,  -999.00,   7.6013,2,    25.00,-999.000,9,-999.0000,9, -999.00,9, -999.00,9,  -999.0,9,-999.000,9,-999.000,   0.009,3,-999.000,9,   39.18,2,   34.20,2, -999.00,1, -999.00,9, -999.00,9,-999.000,-999.0000,9,-999.0000,9,-999.0000,9,-999.0000,9,-999.0000,9,-999.0000,9,-999.0000,9,-999.0000,9,-999.0000,9,   0.9467,     -999.0,9,     -999.0,9,     -999.0,9,     -999.0,9,     -999.0,9,     -999.0,9,     -999.0,9,-999.0000, -999.00
33RO20071215,        P18,     120,          1,          2,      12007,2,20080129,       0117,   -40.9155,  -103.0002,       4059,  3917.5,   1.1708,  34.7096,2,  34.7101,2,    193.5,2,   193.3,2,  126.60,6,   33.10,6,    0.00,6,    2.27,2,-999.000,9,-999.000,9,-999.0000,9,  2280.0,2,  -999.0,9,   -999.0,9,  -999.00,   7.6083,2,    25.00,-999.000,9,-999.0000,9, -999.00,9, -999.00,9,  -999.0,9,-999.000,9,-999.000,-999.000,9,-999.000,9,   39.41,2,   34.75,2, -999.00,1, -999.00,9, -999.00,9,-999.000,-999.0000,9,-999.0000,9,-999.0000,9,-999.0000,9,-999.0000,9,-999.0000,9,-999.0000,9,-999.0000,9,-999.0000,9,   0.8698,     -999.0,9,     -999.0,9,     -999.0,9,     -999.0,9,     -999.0,9,     -999.0,9,     -999.0,9,-999.0000, -999.00
33RO20071215,        P18,     120,          1,          1,      12035,2,20080129,       0117,   -40.9155,  -103.0002,       4059,  4182.4,   1.1759,  34.7097,2,  34.7113,2,    194.6,2,   193.8,2,  126.90,2,   33.00,2,    0.01,2,    2.26,2,   0.001,2,   0.002,2,   0.0000,2,  2279.2,6,  2384.1,2,   1064.7,2,    20.00,   7.5976,2,    25.00,-999.000,9,-999.0000,9, -999.00,9, -999.00,9,  -999.0,9,-999.000,9,-999.000,   0.013,3,-999.000,9,   39.40,2,   34.63,2, -999.00,1, -999.00,9, -999.00,9,-999.000,-999.0000,9,-999.0000,9,-999.0000,9,-999.0000,9,-999.0000,9,-999.0000,9,-999.0000,9,-999.0000,9,-999.0000,9,   0.8462,     -999.0,9,     -999.0,9,     -999.0,9,     -999.0,1,     -999.0,9,     -999.0,9,     -999.0,9,-999.0000, -999.00