BOTTLE,20220818CCHSIOAMB
EXPOCODE,SECT_ID,STNNBR,CASTNO,SAMPNO,BTLNBR,BTLNBR_FLAG_W,DATE,TIME,LATITUDE,LONGITUDE,DEPTH,CTDPRS,CTDTMP,CTDSAL,CTDSAL_FLAG_W,SALNTY,SALNTY_FLAG_W,CTDOXY,CTDOXY_FLAG_W,OXYGEN,OXYGEN_FLAG_W,SILCAT,SILCAT_FLAG_W,NITRAT,NITRAT_FLAG_W,NITRIT,NITRIT_FLAG_W,PHSPHT,PHSPHT_FLAG_W,CFC-11,CFC-11_FLAG_W,CFC-12,CFC-12_FLAG_W,SF6,SF6_FLAG_W,TCARBN,TCARBN_FLAG_W,ALKALI,ALKALI_FLAG_W,FCO2,FCO2_FLAG_W,FCO2TMP,PH_SWS,PH_SWS_FLAG_W,PH_TMP,TRITUM,TRITUM_FLAG_W,HELIUM,HELIUM_FLAG_W,DELHE3,DELHE3_FLAG_W,DELC13,DELC13_FLAG_W,DELC14,DELC14_FLAG_W,NEON,NEON_FLAG_W,NEONER,CCL4,CCL4_FLAG_W,POC,POC_FLAG_W,DOC,DOC_FLAG_W,TDN,TDN_FLAG_W,DON,DON_FLAG_W,CHLORA,CHLORA_FLAG_W,ARGON,ARGON_FLAG_W,TRITER,CDOM325,CDOM325_FLAG_W,CDOM340,CDOM340_FLAG_W,CDOM380,CDOM380_FLAG_W,CDOM412,CDOM412_FLAG_W,CDOM443,CDOM443_FLAG_W,CDOM490,CDOM490_FLAG_W,CDOM555,CDOM555_FLAG_W,CDOMSL,CDOMSL_FLAG_W,CDOMSN,CDOMSN_FLAG_W,THETA,D18O_NO3,D18O_NO3_FLAG_W,CDOM2C,CDOM2C_FLAG_W,CDOM3C,CDOM3C_FLAG_W,LAB_DEN,LAB_DEN_FLAG_W,DELSI30,DELSI30_FLAG_W,N2,N2_FLAG_W,D15N_NO3,D15N_NO3_FLAG_W,HELIER,DELHER
,,,,,,,,,,,METERS,DBAR,ITS-90,PSS-78,,PSS-78,,UMOL/KG,,UMOL/KG,,UMOL/KG,,UMOL/KG,,UMOL/KG,,UMOL/KG,,PMOL/KG,,PMOL/KG,,FMOL/KG,,UMOL/KG,,UMOL/KG,,UATM,,DEG C,,,DEG C,TU,,NMOL/KG,,PERCNT,,/MILLE,,/MILLE,,NMOL/KG,,NMOL/KG,PMOL/KG,,UG/KG,,UMOL/KG,,UMOL/KG,,UMOL/KG,,UG/KG,,UMOL/KG,,TU,1/M,,1/M,,1/M,,1/M,,1/M,,1/M,,1/M,,1/NM,,1/NM,,DEG C,/MILLE,,,,,,,,/MILLE,,UMOL/KG,,/MILLE,,NMOL/KG,PERCNT
33RO20071215,        P18,     103,          1,         36,      12017,2,20080124,       0712,   -30.9998,  -103.0002,       3446,     4.4,  24.0030,  34.9841,2,  34.9796,2,    218.0,2,   218.6,2,    0.50,2,    0.00,2,    0.00,2,    0.08,2,-999.000,9,-999.000,9,-999.0000,9,  2040.4,6,  2326.2,2,   -999.0,9,  -999.00,   7.9763,2,    25.00,-999.000,9,-999.0000,9, -999.00,9, -999.00,9,  -999.0,9,-999.000,9,-999.000,-999.000,9,-999.000,9, -999.00,9, -999.00,9, -999.00,9, -999.00,9, -999.00,9,-999.000,-999.0000,9,-999.0000,9,-999.0000,9,-999.0000,9,-999.0000,9,-999.0000,9,-999.0000,9,-999.0000,9,-999.0000,9,  24.0021,     -999.0,9,     -999.0,9,     -999.0,9,     -999.0,9,     -999.0,9,     -999.0,9,     -999.0,9,-999.0000, -999.00
33RO20071215,        P18,     103,          1,         35,      12029,2,20080124,       0712,   -30.9998,  -103.0002,       3446,     9.7,  23.1956,  34.9593,2,  34.9516,2,    219.7,2,   220.5,2,    0.50,2,    0.00,2,    0.00,2,    0.09,2,-999.000,9,-999.000,9,-999.0000,9,  2038.9,2,  2326.3,2,   -999.0,9,  -999.00,   7.9740,2,    25.00,-999.000,9,-999.0000,9, -999.00,9,    1.06,3,  -999.0,1,-999.000,9,-999.000,-999.000,9,-999.000,9, -999.00,9, -999.00,9, -999.00,9, -999.00,9, -999.00,9,-999.000,-999.0000,9,-999.0000,9,-999.0000,9,-999.0000,9,-999.0000,9,-999.0000,9,-999.0000,9,-999.0000,9,-999.0000,9,  23.1936,     -999.0,9,     -999.0,9,     -999.0,9,     -999.0,9,     -999.0,9,     -999.0,9,     -999.0,9,-999.0000, -999.00
33RO20071215,        P18,     103,          1,         34,      12049,2,20080124,       0712,   -30.9998,  -103.0002,       3446,    20.6,  22.5583,  34.9514,2,  34.9618,2,    222.3,2,   224.1,2,    0.50,2,    0.00,2,    0.00,2,    0.09,2,-999.000,9,-999.000,9,-999.0000,9,  2039.7,2,  2326.6,2,   -999.0,9,  -999.00,-999.0000,9,  -999.00,-999.000,9,-999.0000,9, -999.00,9, -999.00,9,  -999.0,9,-999.000,9,-999.000,-999.000,9,-999.000,9, -999.00,9, -999.00,9, -999.00,9, -999.00,9, -999.00,9,-999.000,-999.0000,9,-999.0000,9,-999.0000,9,-999.0000,9,-999.0000,9,-999.0000,9,-999.0000,9,-999.0000,9,-999.0000,9,  22.5541,     -999.0,9,     -999.0,9,     -999.0,9,     -999.0,9,     -999.0,9,     -999.0,9,     -999.0,9,-999.0000, -999.00
33RO20071215,        P18,     103,          1,         33,      12027,2,20080124,       0712,   -30.9998,  -103.0002,       3446,    39.1,  19.3840,  35.0004,2,  35.0001,2,    244.8,2,   245.2,2,    0.60,2,    0.00,2,    0.00,2,    0.08,2,-999.000,9,-999.000,9,-999.0000,9,  2042.0,2,  2325.9,2,   -999.0,9,  -999.00,   7.9827,2,    25.00,-999.000,9,-999.0000,9, -999.00,9, -999.00,9,  -999.0,9,-999.000,9,-999.000,-999.000,9,-999.000,9, -999.00,9, -999.00,9, -999.00,9, -999.00,9, -999.00,9,-999.000,-999.0000,9,-999.0000,9,-999.0000,9,-999.0000,9,-999.0000,9,-999.0000,9,-999.0000,9,-999.0000,9,-999.0000,9,  19.3770,     -999.0,9,     -999.0,9,     -999.0,9,     -999.0,9,     -999.0,9,     -999.0,9,     -999.0,9,-999.0000, -999.00
33RO20071215,        P18,     103,          1,         32,      12023,2,20080124,       0712,   -30.9998,  -103.0002,       3446,    60.5,  17.9906,  35.0293,2,  35.0227,2,    249.3,2,   250.8,2,    0.60,2,    0.00,2,    0.00,2,    0.08,2,-999.000,9,-999.000,9,-999.0000,9,  2038.2,2,  2327.0,2,   -999.0,9,  -999.00,   7.9967,2,    25.00,-999.000,9,-999.0000,9, -999.00,9,    1.35,2,  -999.0,1,-999.000,9,-999.000,-999.000,9,-999.000,9, -999.00,9, -999.00,9, -999.00,9, -999.00,9, -999.00,9,-999.000,-999.0000,9,-999.0000,9,-999.0000,9,-999.0000,9,-999.0000,9,-999.0000,9,-999.0000,9,-999.0000,9,-999.0000,9,  17.9802,     -999.0,9,     -999.0,9,     -999.0,9,     -999.0,9,     -999.0,9,     -999.0,9,     -999.0,9,-999.0000, -999.00
33RO20071215,        P18,     103,          1,         31,      12037,2,20080124,       0712,   -30.9998,  -103.0002,       3446,    81.5,  17.4153,  35.0542,2,  35.0498,2,    248.6,2,   247.8,2,    0.60,2,    0.00,2,    0.00,2,    0.09,2,-999.000,9,-999.000,9,-999.0000,9,  2040.9,2,  2327.2,2,   -999.0,9,  -999.00,   7.9948,2,    25.00,-999.000,9,-999.0000,9, -999.00,9, -999.00,9,  -999.0,9,-999.000,9,-999.000,-999.000,9,-999.000,9, -999.00,9, -999.00,9, -999.00,9, -999.00,9, -999.00,9,-999.000,-999.0000,9,-999.0000,9,-999.0000,9,-999.0000,9,-999.0000,9,-999.0000,9,-999.0000,9,-999.0000,9,-999.0000,9,  17.4017,     -999.0,9,     -999.0,9,     -999.0,9,     -999.0,9,     -999.0,9,     -999.0,9,     -999.0,9,-999.0000, -999.00
33RO20071215,        P18,     103,          1,         30,      12036,2,20080124,       0712,   -30.9998,  -103.0002,       3446,    98.2,  17.2168,  35.0771,2,  35.0749,2,    243.5,2,   244.7,2,    0.60,2,    0.00,2,    0.00,2,    0.10,2,-999.000,9,-999.000,9,-999.0000,9,  2044.1,2,  2331.0,2,   -999.0,9,  -999.00,   7.9947,2,    25.00,-999.000,9,-999.0000,9, -999.00,9,    1.26,2,  -999.0,1,-999.000,9,-999.000,-999.000,9,-999.000,9, -999.00,9, -999.00,9, -999.00,9, -999.00,9, -999.00,9,-999.000,-999.0000,9,-999.0000,9,-999.0000,9,-999.0000,9,-999.0000,9,-999.0000,9,-999.0000,9,-999.0000,9,-999.0000,9,  17.2005,     -999.0,9,     -999.0,9,     -999.0,9,     -999.0,9,     -999.0,9,     -999.0,9,     -999.0,9,-999.0000, -999.00
33RO20071215,        P18,     103,          1,         29,      12044,2,20080124,       0712,   -30.9998,  -103.0002,       3446,   124.0,  16.6888,  34.9840,2,  34.9795,2,    242.7,2,   242.3,2,    0.60,2,    0.10,2,    0.01,2,    0.12,2,-999.000,9,-999.000,9,-999.0000,9,  2046.0,2,  2325.3,2,   -999.0,9,  -999.00,   7.9713,2,    25.00,-999.000,9,-999.0000,9, -999.00,9, -999.00,9,  -999.0,9,-999.000,9,-999.000,-999.000,9,-999.000,9, -999.00,9, -999.00,9, -999.00,9, -999.00,9, -999.00,9,-999.000,-999.0000,9,-999.0000,9,-999.0000,9,-999.0000,9,-999.0000,9,-999.0000,9,-999.0000,9,-999.0000,9,-999.0000,9,  16.6686,     -999.0,9,     -999.0,9,     -999.0,9,     -999.0,9,     -999.0,9,     -999.0,9,     -999.0,9,-999.0000, -999.00
33RO20071215,        P18,     103,          1,         28,      12057,2,20080124,       0712,   -30.9998,  -103.0002,       3446,   148.3,  16.1587,  34.8819,2,  34.8817,2,    238.2,2,   238.5,2,    0.60,2,    0.50,2,    0.22,2,    0.16,2,-999.000,9,-999.000,9,-999.0000,9,  2049.4,2,  2320.3,2,   -999.0,9,  -999.00,   7.9439,2,    25.00,-999.000,9,-999.0000,9, -999.00,9,     1.2,2,  -999.0,1,-999.000,9,-999.000,-999.000,9,-999.000,9, -999.00,9, -999.00,9, -999.00,9, -999.00,9, -999.00,9,-999.000,-999.0000,9,-999.0000,9,-999.0000,9,-999.0000,9,-999.0000,9,-999.0000,9,-999.0000,9,-999.0000,9,-999.0000,9,  16.1351,     -999.0,9,     -999.0,9,     -999.0,9,     -999.0,9,     -999.0,9,     -999.0,9,     -999.0,9,-999.0000, -999.00
33RO20071215,        P18,     103,          1,         27,      12026,2,20080124,       0712,   -30.9998,  -103.0002,       3446,   175.7,  15.5406,  34.7734,2,  34.7712,2,    231.8,2,   233.3,2,    0.70,2,    2.00,2,    0.38,2,    0.24,2,-999.000,9,-999.000,9,-999.0000,9,  2053.7,2,  2312.6,2,   -999.0,9,  -999.00,   7.9223,2,    25.00,-999.000,9,-999.0000,9, -999.00,9, -999.00,9,  -999.0,9,-999.000,9,-999.000,-999.000,9,-999.000,9, -999.00,9, -999.00,9, -999.00,9, -999.00,9, -999.00,9,-999.000,-999.0000,9,-999.0000,9,-999.0000,9,-999.0000,9,-999.0000,9,-999.0000,9,-999.0000,9,-999.0000,9,-999.0000,9,  15.5134,     -999.0,9,     -999.0,9,     -999.0,9,     -999.0,9,     -999.0,9,     -999.0,9,     -999.0,9,-999.0000, -999.00
33RO20071215,        P18,     103,          1,         26,      12030,2,20080124,       0712,   -30.9998,  -103.0002,       3446,   201.6,  14.2748,  34.5725,2,  34.5827,2,    227.7,2,   228.8,2,    0.80,2,    4.40,2,    0.05,2,    0.37,2,-999.000,9,-999.000,9,-999.0000,9,  2061.5,2,  2301.7,2,   -999.0,9,  -999.00,   7.9000,2,    25.00,-999.000,9,-999.0000,9, -999.00,9,    1.18,2,  -999.0,1,-999.000,9,-999.000,-999.000,9,-999.000,9, -999.00,9, -999.00,9, -999.00,9, -999.00,9, -999.00,9,-999.000,-999.0000,9,-999.0000,9,-999.0000,9,-999.0000,9,-999.0000,9,-999.0000,9,-999.0000,9,-999.0000,9,-999.0000,9,  14.2454,     -999.0,9,     -999.0,9,     -999.0,9,     -999.0,9,     -999.0,9,     -999.0,9,     -999.0,9,-999.0000, -999.00
33RO20071215,        P18,     103,          1,         25,      12024,2,20080124,       0712,   -30.9998,  -103.0002,       3446,   250.4,  12.6868,  34.4556,2,  34.4543,2,    217.4,2,   217.6,2,    1.30,2,    9.60,2,    0.01,2,    0.67,2,-999.000,9,-999.000,9,-999.0000,9,  -999.0,9,  -999.0,9,   -999.0,9,  -999.00,-999.0000,9,  -999.00,-999.000,9,-999.0000,9, -999.00,9,     1.2,2,  -999.0,1,-999.000,9,-999.000,-999.000,9,-999.000,9, -999.00,9, -999.00,9, -999.00,9, -999.00,9, -999.00,9,-999.000,-999.0000,9,-999.0000,9,-999.0000,9,-999.0000,9,-999.0000,9,-999.0000,9,-999.0000,9,-999.0000,9,-999.0000,9,  12.6530,     -999.0,9,     -999.0,9,     -999.0,9,     -999.0,9,     -999.0,9,     -999.0,9,     -999.0,9,-999.0000, -999.00
33RO20071215,        P18,     103,          1,         24,      12019,2,20080124,       0712,   -30.9998,  -103.0002,       3446,   300.7,  10.5336,  34.3164,2,  34.3316,2,    228.8,2,   225.1,2,    2.00,2,   14.20,2,    0.01,2,    0.95,2,-999.000,9,-999.000,9,-999.0000,9,  2102.2,2,  2285.8,2,   -999.0,9,  -999.00,   7.7921,2,    25.00,-999.000,9,-999.0000,9, -999.00,9,    1.25,2,  -999.0,1,-999.000,9,-999.000,-999.000,9,-999.000,9, -999.00,9, -999.00,9, -999.00,9, -999.00,9, -999.00,9,-999.000,-999.0000,9,-999.0000,9,-999.0000,9,-999.0000,9,-999.0000,9,-999.0000,9,-999.0000,9,-999.0000,9,-999.0000,9,  10.4976,     -999.0,9,     -999.0,9,     -999.0,9,     -999.0,9,     -999.0,9,     -999.0,9,     -999.0,9,-999.0000, -999.00
33RO20071215,        P18,     103,          1,         23,      12022,2,20080124,       0712,   -30.9998,  -103.0002,       3446,   350.3,   8.8242,  34.2896,2,  34.2810,2,    225.3,2,   226.0,2,    3.60,2,   19.20,2,    0.00,2,    1.27,2,-999.000,9,-999.000,9,-999.0000,9,  -999.0,9,  -999.0,9,   -999.0,9,  -999.00,-999.0000,9,  -999.00,-999.000,9,-999.0000,9, -999.00,9, -999.00,9,  -999.0,9,-999.000,9,-999.000,-999.000,9,-999.000,9, -999.00,9, -999.00,9, -999.00,9, -999.00,9, -999.00,9,-999.000,-999.0000,9,-999.0000,9,-999.0000,9,-999.0000,9,-999.0000,9,-999.0000,9,-999.0000,9,-999.0000,9,-999.0000,9,   8.7866,     -999.0,9,     -999.0,9,     -999.0,9,     -999.0,9,     -999.0,9,     -999.0,9,     -999.0,9,-999.0000, -999.00
33RO20071215,        P18,     103,          1,         22,      12015,2,20080124,       0712,   -30.9998,  -103.0002,       3446,   400.4,   7.4291,  34.2786,2,  34.2898,2,    223.2,2,   224.1,2,    6.20,2,   22.90,2,    0.00,2,    1.54,2,-999.000,9,-999.000,9,-999.0000,9,  2144.0,2,  -999.0,9,   -999.0,9,  -999.00,   7.6892,2,    25.00,-999.000,9,-999.0000,9, -999.00,9,    1.11,2,  -999.0,1,-999.000,9,-999.000,-999.000,9,-999.000,9, -999.00,9, -999.00,9, -999.00,9, -999.00,9, -999.00,9,-999.000,-999.0000,9,-999.0000,9,-999.0000,9,-999.0000,9,-999.0000,9,-999.0000,9,-999.0000,9,-999.0000,9,-999.0000,9,   7.3902,     -999.0,9,     -999.0,9,     -999.0,9,     -999.0,9,     -999.0,9,     -999.0,9,     -999.0,9,-999.0000, -999.00
33RO20071215,        P18,     103,          1,         21,      12020,2,20080124,       0712,   -30.9998,  -103.0002,       3446,   499.9,   6.4543,  34.3070,2,  34.3064,2,    237.4,2,   237.5,2,    8.30,2,   24.20,2,    0.00,2,    1.57,2,-999.000,9,-999.000,9,-999.0000,9,  -999.0,9,  -999.0,9,   -999.0,9,  -999.00,-999.0000,9,  -999.00,-999.000,9,-999.0000,9, -999.00,9,    1.15,2,  -999.0,1,-999.000,9,-999.000,-999.000,9,-999.000,9, -999.00,9, -999.00,9, -999.00,9, -999.00,9, -999.00,9,-999.000,-999.0000,9,-999.0000,9,-999.0000,9,-999.0000,9,-999.0000,9,-999.0000,9,-999.0000,9,-999.0000,9,-999.0000,9,   6.4090,     -999.0,9,     -999.0,9,     -999.0,9,     -999.0,9,     -999.0,9,     -999.0,9,     -999.0,9,-999.0000, -999.00
33RO20071215,        P18,     103,          1,         20,      12055,2,20080124,       0712,   -30.9998,  -103.0002,       3446,   600.9,   5.9332,  34.2868,2,  34.2900,2,    246.9,2,   247.5,2,    9.50,2,   24.60,2,    0.00,2,    1.62,2,-999.000,9,-999.000,9,-999.0000,9,  2144.5,2,  2293.2,4,   -999.0,9,  -999.00,-999.0000,9,  -999.00,-999.000,9,-999.0000,9, -999.00,9,    1.19,2,  -999.0,1,-999.000,9,-999.000,-999.000,9,-999.000,9, -999.00,9, -999.00,9, -999.00,9, -999.00,9, -999.00,9,-999.000,-999.0000,9,-999.0000,9,-999.0000,9,-999.0000,9,-999.0000,9,-999.0000,9,-999.0000,9,-999.0000,9,-999.0000,9,   5.8808,     -999.0,9,     -999.0,9,     -999.0,9,     -999.0,9,     -999.0,9,     -999.0,9,     -999.0,9,-999.0000, -999.00
33RO20071215,        P18,     103,          1,         19,      12018,2,20080124,       0712,   -30.9998,  -103.0002,       3446,   699.8,   5.5309,  34.2699,2,  34.2701,2,    241.9,2,   242.5,2,   11.90,2,   26.10,2,    0.00,2,    1.74,2,-999.000,9,-999.000,9,-999.0000,9,  -999.0,9,  -999.0,9,   -999.0,9,  -999.00,-999.0000,9,  -999.00,-999.000,9,-999.0000,9, -999.00,9, -999.00,9,  -999.0,9,-999.000,9,-999.000,-999.000,9,-999.000,9, -999.00,9, -999.00,9, -999.00,9, -999.00,9, -999.00,9,-999.000,-999.0000,9,-999.0000,9,-999.0000,9,-999.0000,9,-999.0000,9,-999.0000,9,-999.0000,9,-999.0000,9,-999.0000,9,   5.4715,     -999.0,9,     -999.0,9,     -999.0,9,     -999.0,9,     -999.0,9,     -999.0,9,     -999.0,9,-999.0000, -999.00
33RO20071215,        P18,     103,          1,         18,      12025,2,20080124,       0712,   -30.9998,  -103.0002,       3446,   799.8,   5.0669,  34.2655,2,  34.2701,2,    228.6,2,   229.8,2,   16.80,2,   28.30,2,    0.00,2,    1.88,2,-999.000,9,-999.000,9,-999.0000,9,  2163.5,2,  -999.0,9,   -999.0,9,  -999.00,   7.6676,2,    25.00,-999.000,9,-999.0000,9, -999.00,9, -999.00,9,  -999.0,1,-999.000,9,-999.000,-999.000,9,-999.000,9, -999.00,9, -999.00,9, -999.00,9, -999.00,9, -999.00,9,-999.000,-999.0000,9,-999.0000,9,-999.0000,9,-999.0000,9,-999.0000,9,-999.0000,9,-999.0000,9,-999.0000,9,-999.0000,9,   5.0013,     -999.0,9,     -999.0,9,     -999.0,9,     -999.0,9,     -999.0,9,     -999.0,9,     -999.0,9,-999.0000, -999.00
33RO20071215,        P18,     103,          1,         17,      12016,2,20080124,       0712,   -30.9998,  -103.0002,       3446,   900.2,   4.5045,  34.2863,2,  34.2913,2,    203.5,2,   204.5,2,   26.60,2,   31.30,2,    0.00,2,    2.13,2,-999.000,9,-999.000,9,-999.0000,9,  -999.0,9,  -999.0,9,   -999.0,9,  -999.00,-999.0000,9,  -999.00,-999.000,9,-999.0000,9, -999.00,9, -999.00,9,  -999.0,9,-999.000,9,-999.000,-999.000,9,-999.000,9, -999.00,9, -999.00,9, -999.00,9, -999.00,9, -999.00,9,-999.000,-999.0000,9,-999.0000,9,-999.0000,9,-999.0000,9,-999.0000,9,-999.0000,9,-999.0000,9,-999.0000,9,-999.0000,9,   4.4339,     -999.0,9,     -999.0,9,     -999.0,9,     -999.0,9,     -999.0,9,     -999.0,9,     -999.0,9,-999.0000, -999.00
33RO20071215,        P18,     103,          1,         16,      12051,2,20080124,       0712,   -30.9998,  -103.0002,       3446,  1003.4,   4.1571,  34.3470,2,  34.3476,2,    166.9,2,   166.0,2,   41.00,2,   35.00,2,    0.00,2,    2.42,2,-999.000,9,-999.000,9,-999.0000,9,  2219.4,2,  -999.0,9,   -999.0,9,  -999.00,   7.5529,2,    25.00,-999.000,9,-999.0000,9, -999.00,9,    0.69,2,  -999.0,1,-999.000,9,-999.000,-999.000,9,-999.000,9, -999.00,9, -999.00,9, -999.00,9, -999.00,9, -999.00,9,-999.000,-999.0000,9,-999.0000,9,-999.0000,9,-999.0000,9,-999.0000,9,-999.0000,9,-999.0000,9,-999.0000,9,-999.0000,9,   4.0802,     -999.0,9,     -999.0,9,     -999.0,9,     -999.0,9,     -999.0,9,     -999.0,9,     -999.0,9,-999.0000, -999.00
33RO20071215,        P18,     103,          1,         15,      12014,2,20080124,       0712,   -30.9998,  -103.0002,       3446,  1101.0,   3.6605,  34.3938,2,  34.3975,2,    155.1,2,   154.7,2,   53.70,2,   36.20,2,    0.00,2,    2.52,2,-999.000,9,-999.000,9,-999.0000,9,  -999.0,9,  -999.0,9,   -999.0,9,  -999.00,-999.0000,9,  -999.00,-999.000,9,-999.0000,9, -999.00,9, -999.00,9,  -999.0,9,-999.000,9,-999.000,-999.000,9,-999.000,9, -999.00,9, -999.00,9, -999.00,9, -999.00,9, -999.00,9,-999.000,-999.0000,9,-999.0000,9,-999.0000,9,-999.0000,9,-999.0000,9,-999.0000,9,-999.0000,9,-999.0000,9,-999.0000,9,   3.5795,     -999.0,9,     -999.0,9,     -999.0,9,     -999.0,9,     -999.0,9,     -999.0,9,     -999.0,9,-999.0000, -999.00
33RO20071215,        P18,     103,          1,         14,      12013,2,20080124,       0712,   -30.9998,  -103.0002,       3446,  1200.1,   3.4459,  34.4539,2,  34.4532,2,    135.9,2,   135.5,2,   67.10,2,   37.60,2,    0.00,2,    2.65,2,-999.000,9,-999.000,9,-999.0000,9,  2260.6,2,  2348.5,4,   -999.0,9,  -999.00,   7.5231,2,    25.00,-999.000,9,-999.0000,9, -999.00,9, -999.00,9,  -999.0,9,-999.000,9,-999.000,-999.000,9,-999.000,9, -999.00,9, -999.00,9, -999.00,9, -999.00,9, -999.00,9,-999.000,-999.0000,9,-999.0000,9,-999.0000,9,-999.0000,9,-999.0000,9,-999.0000,9,-999.0000,9,-999.0000,9,-999.0000,9,   3.3585,     -999.0,9,     -999.0,9,     -999.0,9,     -999.0,9,     -999.0,9,     -999.0,9,     -999.0,9,-999.0000, -999.00
33RO20071215,        P18,     103,          1,         13,      12012,2,20080124,       0712,   -30.9998,  -103.0002,       3446,  1299.3,   3.2788,  34.5056,2,  34.5058,2,    125.4,2,   125.2,2,   79.50,2,   38.10,2,    0.00,2,    2.71,2,-999.000,9,-999.000,9,-999.0000,9,  2276.9,6,  2363.6,4,   -999.0,9,  -999.00,   7.5223,2,    25.00,-999.000,9,-999.0000,9, -999.00,9, -999.00,9,  -999.0,9,-999.000,9,-999.000,-999.000,9,-999.000,9, -999.00,9, -999.00,9, -999.00,9, -999.00,9, -999.00,9,-999.000,-999.0000,9,-999.0000,9,-999.0000,9,-999.0000,9,-999.0000,9,-999.0000,9,-999.0000,9,-999.0000,9,-999.0000,9,   3.1848,     -999.0,9,     -999.0,9,     -999.0,9,     -999.0,9,     -999.0,9,     -999.0,9,     -999.0,9,-999.0000, -999.00
33RO20071215,        P18,     103,          1,         12,      12031,2,20080124,       0712,   -30.9998,  -103.0002,       3446,  1401.4,   3.0804,  34.5344,2,  34.5350,2,    127.3,2,   126.7,2,   86.90,2,   38.10,2,    0.00,2,    2.70,2,-999.000,9,-999.000,9,-999.0000,9,  2284.6,2,  -999.0,9,   -999.0,9,  -999.00,   7.5137,2,    25.00,-999.000,9,-999.0000,9, -999.00,9, -999.00,9,  -999.0,9,-999.000,9,-999.000,-999.000,9,-999.000,9, -999.00,9, -999.00,9, -999.00,9, -999.00,9, -999.00,9,-999.000,-999.0000,9,-999.0000,9,-999.0000,9,-999.0000,9,-999.0000,9,-999.0000,9,-999.0000,9,-999.0000,9,-999.0000,9,   2.9799,     -999.0,9,     -999.0,9,     -999.0,9,     -999.0,9,     -999.0,9,     -999.0,9,     -999.0,9,-999.0000, -999.00