BOTTLE,20220818CCHSIOAMB
EXPOCODE,SECT_ID,STNNBR,CASTNO,SAMPNO,BTLNBR,BTLNBR_FLAG_W,DATE,TIME,LATITUDE,LONGITUDE,DEPTH,CTDPRS,CTDTMP,CTDSAL,CTDSAL_FLAG_W,SALNTY,SALNTY_FLAG_W,CTDOXY,CTDOXY_FLAG_W,OXYGEN,OXYGEN_FLAG_W,SILCAT,SILCAT_FLAG_W,NITRAT,NITRAT_FLAG_W,NITRIT,NITRIT_FLAG_W,PHSPHT,PHSPHT_FLAG_W,CFC-11,CFC-11_FLAG_W,CFC-12,CFC-12_FLAG_W,SF6,SF6_FLAG_W,TCARBN,TCARBN_FLAG_W,ALKALI,ALKALI_FLAG_W,FCO2,FCO2_FLAG_W,FCO2TMP,PH_SWS,PH_SWS_FLAG_W,PH_TMP,TRITUM,TRITUM_FLAG_W,HELIUM,HELIUM_FLAG_W,DELHE3,DELHE3_FLAG_W,DELC13,DELC13_FLAG_W,DELC14,DELC14_FLAG_W,NEON,NEON_FLAG_W,NEONER,CCL4,CCL4_FLAG_W,POC,POC_FLAG_W,DOC,DOC_FLAG_W,TDN,TDN_FLAG_W,DON,DON_FLAG_W,CHLORA,CHLORA_FLAG_W,ARGON,ARGON_FLAG_W,TRITER,CDOM325,CDOM325_FLAG_W,CDOM340,CDOM340_FLAG_W,CDOM380,CDOM380_FLAG_W,CDOM412,CDOM412_FLAG_W,CDOM443,CDOM443_FLAG_W,CDOM490,CDOM490_FLAG_W,CDOM555,CDOM555_FLAG_W,CDOMSL,CDOMSL_FLAG_W,CDOMSN,CDOMSN_FLAG_W,THETA,D18O_NO3,D18O_NO3_FLAG_W,CDOM2C,CDOM2C_FLAG_W,CDOM3C,CDOM3C_FLAG_W,LAB_DEN,LAB_DEN_FLAG_W,DELSI30,DELSI30_FLAG_W,N2,N2_FLAG_W,D15N_NO3,D15N_NO3_FLAG_W,HELIER,DELHER
,,,,,,,,,,,METERS,DBAR,ITS-90,PSS-78,,PSS-78,,UMOL/KG,,UMOL/KG,,UMOL/KG,,UMOL/KG,,UMOL/KG,,UMOL/KG,,PMOL/KG,,PMOL/KG,,FMOL/KG,,UMOL/KG,,UMOL/KG,,UATM,,DEG C,,,DEG C,TU,,NMOL/KG,,PERCNT,,/MILLE,,/MILLE,,NMOL/KG,,NMOL/KG,PMOL/KG,,UG/KG,,UMOL/KG,,UMOL/KG,,UMOL/KG,,UG/KG,,UMOL/KG,,TU,1/M,,1/M,,1/M,,1/M,,1/M,,1/M,,1/M,,1/NM,,1/NM,,DEG C,/MILLE,,,,,,,,/MILLE,,UMOL/KG,,/MILLE,,NMOL/KG,PERCNT
33RO20071215,        P18,     100,          1,         11,      12003,2,20080123,       1218,   -29.2492,  -103.0003,       3177,  1399.8,   3.0443,  34.5416,2,  34.5423,2,    131.6,2,   132.7,2,   85.40,2,   37.20,2,    0.00,2,    2.63,2,-999.000,9,-999.000,9,-999.0000,9,  2279.8,2,  2435.6,4,   -999.0,9,  -999.00,   7.5257,2,    25.00,-999.000,9,-999.0000,9, -999.00,9, -999.00,9,  -999.0,9,-999.000,9,-999.000,-999.000,9,-999.000,9,   36.49,2,   38.79,2, -999.00,9, -999.00,9, -999.00,9,-999.000,   0.1010,2,   0.0631,2,   0.0260,2,   0.0123,2,   0.0044,2,  -0.0005,4,  -0.0029,4,   0.0233,2,   0.0255,2,   2.9443,     -999.0,9,     -999.0,9,     -999.0,9,     -999.0,9,     -999.0,9,     -999.0,9,     -999.0,9,-999.0000, -999.00
33RO20071215,        P18,     100,          1,         10,      12032,2,20080123,       1218,   -29.2492,  -103.0003,       3177,  1500.3,   2.7990,  34.5601,2,  34.5604,2,    140.6,2,   139.9,2,   89.40,2,   36.50,2,    0.00,2,    2.58,2,   0.001,2,   0.001,2,   0.0000,2,  -999.0,9,  -999.0,9,   -999.0,9,  -999.00,-999.0000,9,  -999.00,-999.000,9,-999.0000,9, -999.00,9, -999.00,9,  -999.0,9,-999.000,9,-999.000,-999.000,9,-999.000,9,   36.29,2,   37.43,2, -999.00,9, -999.00,9, -999.00,9,-999.000,   0.1015,2,   0.0634,2,   0.0255,2,   0.0114,2,   0.0037,2,  -0.0008,4,  -0.0032,4,   0.0240,2,   0.0260,2,   2.6935,     -999.0,9,     -999.0,9,     -999.0,9,     -999.0,9,     -999.0,9,     -999.0,9,     -999.0,9,-999.0000, -999.00
33RO20071215,        P18,     100,          1,          9,      12002,2,20080123,       1218,   -29.2492,  -103.0003,       3177,  1600.9,   2.5765,  34.5786,2,  34.5798,2,    147.0,2,   147.5,2,   93.10,2,   36.00,2,    0.01,2,    2.53,2,-999.000,9,-999.000,9,-999.0000,9,  2280.9,2,  -999.0,5,   -999.0,9,  -999.00,   7.5562,2,    25.00,-999.000,9,-999.0000,9, -999.00,9, -999.00,9,  -999.0,9,-999.000,9,-999.000,-999.000,9,-999.000,9,   36.36,2,   36.85,2, -999.00,9, -999.00,9, -999.00,9,-999.000,   0.0959,2,   0.0584,2,   0.0212,2,   0.0076,2,   0.0008,3,  -0.0022,4,  -0.0039,4,   0.0268,2,   0.0288,2,   2.4653,     -999.0,9,     -999.0,9,     -999.0,9,     -999.0,9,     -999.0,9,     -999.0,9,     -999.0,9,-999.0000, -999.00
33RO20071215,        P18,     100,          1,          8,      12021,2,20080123,       1218,   -29.2492,  -103.0003,       3177,  1800.0,   2.2712,  34.6143,2,  34.6152,2,    154.3,2,   154.1,2,  102.00,2,   35.40,2,    0.00,2,    2.47,2,-999.000,9,-999.000,9,-999.0000,9,  -999.0,9,  -999.0,9,   -999.0,9,  -999.00,-999.0000,9,  -999.00,-999.000,9,-999.0000,9, -999.00,9, -999.00,9,  -999.0,9,-999.000,9,-999.000,-999.000,9,-999.000,9,   36.89,2,   36.72,2, -999.00,9, -999.00,9, -999.00,9,-999.000,   0.1169,2,   0.0760,2,   0.0316,2,   0.0152,2,   0.0063,2,   0.0020,2,  -0.0016,4,   0.0229,2,   0.0242,2,   2.1475,     -999.0,9,     -999.0,9,     -999.0,9,     -999.0,9,     -999.0,9,     -999.0,9,     -999.0,9,-999.0000, -999.00
33RO20071215,        P18,     100,          1,          7,      12001,2,20080123,       1218,   -29.2492,  -103.0003,       3177,  2000.5,   2.0795,  34.6375,2,  34.6378,2,    155.4,2,   155.1,2,  110.50,2,   35.30,2,    0.01,2,    2.44,2,   0.004,2,   0.003,2,   0.0000,2,  2291.7,2,  2386.9,2,   -999.0,9,  -999.00,   7.5787,2,    25.00,-999.000,9,-999.0000,9, -999.00,9, -999.00,9,  -999.0,9,-999.000,9,-999.000,   0.007,3,-999.000,9,   37.29,2,   36.83,2, -999.00,9, -999.00,9, -999.00,9,-999.000,   0.0940,2,   0.0571,2,   0.0192,2,   0.0046,3,  -0.0018,4,  -0.0033,4,  -0.0047,4,   0.0288,2,   0.0301,2,   1.9418,     -999.0,9,     -999.0,9,     -999.0,9,     -999.0,9,     -999.0,9,     -999.0,9,     -999.0,9,-999.0000, -999.00
33RO20071215,        P18,     100,          1,          6,      12033,2,20080123,       1218,   -29.2492,  -103.0003,       3177,  2201.1,   1.9330,  34.6550,2,  34.6555,2,    157.4,2,   157.0,2,  116.40,2,   35.20,2,    0.00,2,    2.43,2,-999.000,9,-999.000,9,-999.0000,9,  -999.0,9,  -999.0,9,   -999.0,9,  -999.00,-999.0000,9,  -999.00,-999.000,9,-999.0000,9, -999.00,9, -999.00,9,  -999.0,9,-999.000,9,-999.000,-999.000,9,-999.000,9,   36.76,2,   36.36,2, -999.00,9, -999.00,9, -999.00,9,-999.000,   0.0868,2,   0.0508,2,   0.0150,2,   0.0007,3,  -0.0045,4,  -0.0046,4,  -0.0054,4,   0.0318,2,   0.0333,2,   1.7804,     -999.0,9,     -999.0,9,     -999.0,9,     -999.0,9,     -999.0,9,     -999.0,9,     -999.0,9,-999.0000, -999.00
33RO20071215,        P18,     100,          1,          5,      12008,2,20080123,       1218,   -29.2492,  -103.0003,       3177,  2401.7,   1.8761,  34.6631,2,  34.6638,2,    158.5,2,   158.5,2,  118.90,2,   35.20,2,    0.00,2,    2.45,2,-999.000,9,-999.000,9,-999.0000,9,  2299.2,2,  2391.7,2,   -999.0,9,  -999.00,   7.5801,2,    25.00,-999.000,9,-999.0000,9, -999.00,9, -999.00,9,  -999.0,9,-999.000,9,-999.000,-999.000,9,-999.000,9,   37.31,2,   36.69,2, -999.00,9, -999.00,9, -999.00,9,-999.000,   0.0909,2,   0.0544,2,   0.0151,2,  -0.0004,4,  -0.0057,4,  -0.0051,4,  -0.0056,4,   0.0327,2,   0.0328,2,   1.7069,     -999.0,9,     -999.0,9,     -999.0,9,     -999.0,9,     -999.0,9,     -999.0,9,     -999.0,9,-999.0000, -999.00
33RO20071215,        P18,     100,          1,          4,      12009,2,20080123,       1218,   -29.2492,  -103.0003,       3177,  2600.1,   1.8503,  34.6681,2,  34.6682,2,    159.6,2,   159.7,2,  119.80,6,   34.90,6,    0.01,6,    2.43,2,-999.000,9,-999.000,9,-999.0000,9,  -999.0,9,  -999.0,9,   -999.0,9,  -999.00,-999.0000,9,  -999.00,-999.000,9,-999.0000,9, -999.00,9, -999.00,9,  -999.0,9,-999.000,9,-999.000,-999.000,9,-999.000,9,   36.56,2,   36.17,2, -999.00,9, -999.00,9, -999.00,9,-999.000,-999.0000,5,-999.0000,5,-999.0000,5,-999.0000,5,-999.0000,5,-999.0000,5,-999.0000,5,-999.0000,5,-999.0000,5,   1.6636,     -999.0,9,     -999.0,9,     -999.0,9,     -999.0,9,     -999.0,9,     -999.0,9,     -999.0,9,-999.0000, -999.00
33RO20071215,        P18,     100,          1,          3,      12006,2,20080123,       1218,   -29.2492,  -103.0003,       3177,  2798.9,   1.8416,  34.6728,2,  34.6751,2,    161.2,2,   160.9,2,  119.70,6,   34.90,6,    0.00,6,    2.42,2,-999.000,9,-999.000,9,-999.0000,9,  -999.0,5,  2388.4,4,   -999.0,9,  -999.00,   7.5902,2,    25.00,-999.000,9,-999.0000,9, -999.00,9, -999.00,9,  -999.0,9,-999.000,9,-999.000,-999.000,9,-999.000,9,   37.34,2,   35.89,2, -999.00,9, -999.00,9, -999.00,9,-999.000,   0.0919,2,   0.0549,2,   0.0166,2,   0.0001,4,  -0.0053,4,  -0.0046,4,  -0.0055,4,   0.0085,4,   0.0320,2,   1.6365,     -999.0,9,     -999.0,9,     -999.0,9,     -999.0,9,     -999.0,9,     -999.0,9,     -999.0,9,-999.0000, -999.00
33RO20071215,        P18,     100,          1,          2,      12007,2,20080123,       1218,   -29.2492,  -103.0003,       3177,  2996.4,   1.8442,  34.6765,2,  34.6771,2,    162.1,2,   161.9,2,  119.20,6,   34.80,6,    0.00,6,    2.42,2,   0.004,2,   0.003,2,   0.0000,2,  -999.0,9,  -999.0,9,   -999.0,9,  -999.00,-999.0000,9,  -999.00,-999.000,9,-999.0000,9, -999.00,9, -999.00,9,  -999.0,9,-999.000,9,-999.000,   0.009,3,-999.000,9,   36.90,2,   36.09,2, -999.00,9, -999.00,9, -999.00,9,-999.000,-999.0000,5,-999.0000,5,-999.0000,5,-999.0000,5,-999.0000,5,-999.0000,5,-999.0000,5,-999.0000,5,-999.0000,5,   1.6201,     -999.0,9,     -999.0,9,     -999.0,9,     -999.0,9,     -999.0,9,     -999.0,9,     -999.0,9,-999.0000, -999.00
33RO20071215,        P18,     100,          1,          1,      12035,2,20080123,       1218,   -29.2492,  -103.0003,       3177,  3195.8,   1.8491,  34.6802,2,  34.6800,2,    163.6,2,   162.7,2,  118.90,2,   34.60,2,    0.01,2,    2.41,2,   0.004,6,   0.002,6,   0.0000,6,  2294.7,2,  2394.2,2,   -999.0,9,  -999.00,   7.6071,2,    25.00,-999.000,9,-999.0000,9, -999.00,9, -999.00,9,  -999.0,9,-999.000,9,-999.000,   0.005,3,-999.000,9,   38.23,2,   35.99,2, -999.00,9, -999.00,9, -999.00,9,-999.000,-999.0000,5,-999.0000,5,-999.0000,5,-999.0000,5,-999.0000,5,-999.0000,5,-999.0000,5,-999.0000,5,-999.0000,5,   1.6052,     -999.0,9,     -999.0,9,     -999.0,9,     -999.0,9,     -999.0,9,     -999.0,9,     -999.0,9,-999.0000, -999.00