BOTTLE,20220818CCHSIOAMB
EXPOCODE,SECT_ID,STNNBR,CASTNO,SAMPNO,BTLNBR,BTLNBR_FLAG_W,DATE,TIME,LATITUDE,LONGITUDE,DEPTH,CTDPRS,CTDTMP,CTDSAL,CTDSAL_FLAG_W,SALNTY,SALNTY_FLAG_W,CTDOXY,CTDOXY_FLAG_W,OXYGEN,OXYGEN_FLAG_W,SILCAT,SILCAT_FLAG_W,NITRAT,NITRAT_FLAG_W,NITRIT,NITRIT_FLAG_W,PHSPHT,PHSPHT_FLAG_W,CFC-11,CFC-11_FLAG_W,CFC-12,CFC-12_FLAG_W,SF6,SF6_FLAG_W,TCARBN,TCARBN_FLAG_W,ALKALI,ALKALI_FLAG_W,FCO2,FCO2_FLAG_W,FCO2TMP,PH_SWS,PH_SWS_FLAG_W,PH_TMP,TRITUM,TRITUM_FLAG_W,HELIUM,HELIUM_FLAG_W,DELHE3,DELHE3_FLAG_W,DELC13,DELC13_FLAG_W,DELC14,DELC14_FLAG_W,NEON,NEON_FLAG_W,NEONER,CCL4,CCL4_FLAG_W,POC,POC_FLAG_W,DOC,DOC_FLAG_W,TDN,TDN_FLAG_W,DON,DON_FLAG_W,CHLORA,CHLORA_FLAG_W,ARGON,ARGON_FLAG_W,TRITER,CDOM325,CDOM325_FLAG_W,CDOM340,CDOM340_FLAG_W,CDOM380,CDOM380_FLAG_W,CDOM412,CDOM412_FLAG_W,CDOM443,CDOM443_FLAG_W,CDOM490,CDOM490_FLAG_W,CDOM555,CDOM555_FLAG_W,CDOMSL,CDOMSL_FLAG_W,CDOMSN,CDOMSN_FLAG_W,THETA,D18O_NO3,D18O_NO3_FLAG_W,CDOM2C,CDOM2C_FLAG_W,CDOM3C,CDOM3C_FLAG_W,LAB_DEN,LAB_DEN_FLAG_W,DELSI30,DELSI30_FLAG_W,N2,N2_FLAG_W,D15N_NO3,D15N_NO3_FLAG_W,HELIER,DELHER
,,,,,,,,,,,METERS,DBAR,ITS-90,PSS-78,,PSS-78,,UMOL/KG,,UMOL/KG,,UMOL/KG,,UMOL/KG,,UMOL/KG,,UMOL/KG,,PMOL/KG,,PMOL/KG,,FMOL/KG,,UMOL/KG,,UMOL/KG,,UATM,,DEG C,,,DEG C,TU,,NMOL/KG,,PERCNT,,/MILLE,,/MILLE,,NMOL/KG,,NMOL/KG,PMOL/KG,,UG/KG,,UMOL/KG,,UMOL/KG,,UMOL/KG,,UG/KG,,UMOL/KG,,TU,1/M,,1/M,,1/M,,1/M,,1/M,,1/M,,1/M,,1/NM,,1/NM,,DEG C,/MILLE,,,,,,,,/MILLE,,UMOL/KG,,/MILLE,,NMOL/KG,PERCNT
33RO20071215,        P18,      97,          1,         11,      12003,2,20080116,       1657,   -27.4980,  -103.0003,       3104,  1399.9,   2.8788,  34.5447,2,  34.5450,2,    142.4,2,   142.8,2,   86.90,2,   37.00,2,    0.00,2,    2.56,2,-999.000,9,-999.000,9,-999.0000,9,  -999.0,9,  -999.0,9,   -999.0,9,  -999.00,-999.0000,9,  -999.00,-999.000,9,-999.0000,9, -999.00,9, -999.00,9,  -999.0,9,-999.000,9,-999.000,-999.000,9,-999.000,9,   37.28,2,   38.48,2, -999.00,9, -999.00,9, -999.00,9,-999.000,   0.1281,2,   0.0875,2,   0.0464,2,   0.0323,2,   0.0210,2,   0.0094,2,   0.0033,2,   0.0145,2,   0.0163,2,   2.7806,     -999.0,9,     -999.0,9,     -999.0,9,     -999.0,9,     -999.0,9,     -999.0,9,     -999.0,9,-999.0000, -999.00
33RO20071215,        P18,      97,          1,         10,      12032,2,20080116,       1657,   -27.4980,  -103.0003,       3104,  1502.5,   2.6380,  34.5685,2,  34.5697,2,    149.0,2,   149.0,2,   92.50,2,   36.40,2,    0.00,2,    2.52,2,   0.000,2,   0.001,2,   0.0000,2,  2277.4,2,  2362.8,2,   -999.0,9,  -999.00,   7.5709,2,    25.00,-999.000,9,-999.0000,9, -999.00,9, -999.00,9,  -999.0,9,-999.000,9,-999.000,-999.000,9,-999.000,9,   37.02,2,   37.51,2, -999.00,9, -999.00,9, -999.00,9,-999.000,   0.1289,2,   0.0885,2,   0.0472,2,   0.0329,2,   0.0216,2,   0.0102,3,   0.0039,3,   0.0143,2,   0.0160,4,   2.5341,     -999.0,9,     -999.0,9,     -999.0,9,     -999.0,9,     -999.0,9,     -999.0,9,     -999.0,9,-999.0000, -999.00
33RO20071215,        P18,      97,          1,          9,      12002,2,20080116,       1657,   -27.4980,  -103.0003,       3104,  1600.6,   2.4470,  34.5909,2,  34.5914,2,    152.3,2,   152.7,2,   98.50,2,   36.10,2,    0.00,2,    2.49,2,-999.000,9,-999.000,9,-999.0000,9,  -999.0,9,  -999.0,9,   -999.0,9,  -999.00,-999.0000,9,  -999.00,-999.000,9,-999.0000,9, -999.00,9, -999.00,9,  -999.0,9,-999.000,9,-999.000,-999.000,9,-999.000,9,   36.70,2,   37.10,2, -999.00,9, -999.00,9, -999.00,9,-999.000,   0.1355,2,   0.0939,2,   0.0509,2,   0.0359,2,   0.0240,2,   0.0119,2,   0.0049,2,   0.0138,2,   0.0154,2,   2.3374,     -999.0,9,     -999.0,9,     -999.0,9,     -999.0,9,     -999.0,9,     -999.0,9,     -999.0,9,-999.0000, -999.00
33RO20071215,        P18,      97,          1,          8,      12021,2,20080116,       1657,   -27.4980,  -103.0003,       3104,  1801.9,   2.1983,  34.6221,2,  34.6243,2,    154.6,2,   154.3,2,  108.80,2,   36.00,2,    0.00,2,    2.48,2,  -0.001,2,   0.000,2,   0.0000,2,  2289.6,2,  -999.0,9,   -999.0,9,  -999.00,-999.0000,9,  -999.00,-999.000,9,-999.0000,9, -999.00,9, -999.00,9,  -999.0,9,-999.000,9,-999.000,-999.000,9,-999.000,9,   36.60,2,   37.26,2, -999.00,9, -999.00,9, -999.00,9,-999.000,   0.1308,2,   0.0889,2,   0.0460,2,   0.0313,2,   0.0203,2,   0.0095,2,   0.0036,2,   0.0148,2,   0.0169,2,   2.0754,     -999.0,9,     -999.0,9,     -999.0,9,     -999.0,9,     -999.0,9,     -999.0,9,     -999.0,9,-999.0000, -999.00
33RO20071215,        P18,      97,          1,          7,      12001,2,20080116,       1657,   -27.4980,  -103.0003,       3104,  2000.2,   2.0317,  34.6431,2,  34.6461,2,    155.6,2,   155.5,2,  116.00,2,   35.90,2,    0.00,2,    2.48,2,-999.000,9,-999.000,9,-999.0000,9,  -999.0,9,  -999.0,9,   -999.0,9,  -999.00,-999.0000,9,  -999.00,-999.000,9,-999.0000,9, -999.00,9, -999.00,9,  -999.0,9,-999.000,9,-999.000,-999.000,9,-999.000,9,   36.23,2,   37.43,2, -999.00,9, -999.00,9, -999.00,9,-999.000,   0.1360,2,   0.0906,2,   0.0446,2,   0.0288,2,   0.0177,2,   0.0074,2,   0.0021,2,   0.0163,2,   0.0187,2,   1.8947,     -999.0,9,     -999.0,9,     -999.0,9,     -999.0,9,     -999.0,9,     -999.0,9,     -999.0,9,-999.0000, -999.00
33RO20071215,        P18,      97,          1,          6,      12033,2,20080116,       1657,   -27.4980,  -103.0003,       3104,  2201.0,   1.9277,  34.6559,2,  34.6558,2,    156.7,2,   156.6,2,  120.10,2,   35.80,2,    0.00,2,    2.46,2,  -0.004,2,  -0.001,2,   0.0000,2,  2298.6,2,  2395.1,2,   -999.0,9,  -999.00,   7.5739,2,    25.00,-999.000,9,-999.0000,9, -999.00,9, -999.00,9,  -999.0,9,-999.000,9,-999.000,   0.007,3,-999.000,9,   36.56,2,   37.26,2, -999.00,9, -999.00,9, -999.00,9,-999.000,   0.1287,2,   0.0878,2,   0.0459,2,   0.0308,2,   0.0201,2,   0.0095,2,   0.0036,2,   0.0147,2,   0.0168,2,   1.7752,     -999.0,9,     -999.0,9,     -999.0,9,     -999.0,9,     -999.0,9,     -999.0,9,     -999.0,9,-999.0000, -999.00
33RO20071215,        P18,      97,          1,          5,      12008,2,20080116,       1657,   -27.4980,  -103.0003,       3104,  2399.9,   1.8739,  34.6648,2,  34.6652,2,    157.6,2,   158.5,2,  122.40,2,   35.70,2,    0.00,2,    2.46,2,-999.000,9,-999.000,9,-999.0000,9,  -999.0,9,  -999.0,9,   -999.0,9,  -999.00,-999.0000,9,  -999.00,-999.000,9,-999.0000,9, -999.00,9, -999.00,9,  -999.0,9,-999.000,9,-999.000,-999.000,9,-999.000,9,   37.36,2,   36.99,2, -999.00,9, -999.00,9, -999.00,9,-999.000,   0.1124,2,   0.0738,2,   0.0363,2,   0.0230,2,   0.0141,2,   0.0057,2,   0.0016,2,   0.0166,2,   0.0193,2,   1.7048,     -999.0,9,     -999.0,9,     -999.0,9,     -999.0,9,     -999.0,9,     -999.0,9,     -999.0,9,-999.0000, -999.00
33RO20071215,        P18,      97,          1,          4,      12009,2,20080116,       1657,   -27.4980,  -103.0003,       3104,  2601.5,   1.8625,  34.6683,2,  34.6691,2,    158.7,2,   159.4,2,  122.80,6,   35.60,6,    0.00,6,    2.44,2,  -0.001,2,  -0.001,2,   0.0000,2,  2299.8,2,  -999.0,9,   -999.0,9,  -999.00,-999.0000,9,  -999.00,-999.000,9,   1.9603,2,   34.88,2, -999.00,9,  -999.0,9,   8.120,2,   0.028,   0.005,3,-999.000,9,   37.35,2,   36.99,2, -999.00,9, -999.00,9, -999.00,9,-999.000,   0.1303,2,   0.0881,2,   0.0460,2,   0.0309,2,   0.0204,2,   0.0102,3,   0.0042,3,   0.0145,4,   0.0168,4,   1.6754,     -999.0,9,     -999.0,9,     -999.0,9,     -999.0,9,     -999.0,9,     -999.0,9,     -999.0,9,   0.0055,    0.15
33RO20071215,        P18,      97,          1,          3,      12006,2,20080116,       1657,   -27.4980,  -103.0003,       3104,  2800.5,   1.8597,  34.6717,2,  34.6722,2,    160.1,2,   159.9,2,  122.70,6,   35.40,6,    0.00,6,    2.44,2,-999.000,9,-999.000,9,-999.0000,9,  -999.0,9,  -999.0,9,   -999.0,9,  -999.00,-999.0000,9,  -999.00,-999.000,9,-999.0000,9, -999.00,9, -999.00,9,  -999.0,9,-999.000,9,-999.000,-999.000,9,-999.000,9,   36.86,2,   36.52,2, -999.00,9, -999.00,9, -999.00,9,-999.000,   0.1212,2,   0.0811,2,   0.0410,2,   0.0267,2,   0.0171,2,   0.0080,2,   0.0030,2,   0.0155,2,   0.0179,2,   1.6541,     -999.0,9,     -999.0,9,     -999.0,9,     -999.0,9,     -999.0,9,     -999.0,9,     -999.0,9,-999.0000, -999.00
33RO20071215,        P18,      97,          1,          2,      12007,2,20080116,       1657,   -27.4980,  -103.0003,       3104,  2999.8,   1.8658,  34.6743,2,  34.6745,2,    160.8,2,   161.1,2,  122.00,6,   35.40,6,    0.00,6,    2.43,2,  -0.002,2,   0.000,2,   0.0000,2,  2297.3,2,  2400.4,2,   -999.0,9,  -999.00,   7.5984,2,    25.00,-999.000,9,-999.0000,9, -999.00,9, -999.00,9,  -999.0,9,-999.000,9,-999.000,   0.009,3,-999.000,9,   37.50,2,   37.01,2, -999.00,9, -999.00,9, -999.00,9,-999.000,   0.1272,2,   0.0860,2,   0.0439,2,   0.0290,2,   0.0189,2,   0.0092,2,   0.0038,2,   0.0150,2,   0.0174,2,   1.6409,     -999.0,9,     -999.0,9,     -999.0,9,     -999.0,9,     -999.0,9,     -999.0,9,     -999.0,9,-999.0000, -999.00
33RO20071215,        P18,      97,          1,          1,      12035,2,20080116,       1657,   -27.4980,  -103.0003,       3104,  3125.3,   1.8649,  34.6773,2,  34.6820,3,    162.9,2,   161.5,2,  121.90,2,   35.30,2,    0.00,2,    2.42,2,  -0.002,6,   0.000,6,   0.0000,6,  2298.2,6,  2402.2,2,   -999.0,9,  -999.00,   7.5918,2,    25.00,-999.000,9,-999.0000,9, -999.00,9, -999.00,9,  -999.0,9,-999.000,9,-999.000,   0.006,3,-999.000,9,   38.14,2,   36.81,2, -999.00,9, -999.00,9, -999.00,9,-999.000,   0.1157,2,   0.0756,2,   0.0369,2,   0.0231,2,   0.0143,2,   0.0062,2,   0.0021,2,   0.0167,2,   0.0195,2,   1.6277,     -999.0,9,     -999.0,9,     -999.0,9,     -999.0,9,     -999.0,9,     -999.0,9,     -999.0,9,-999.0000, -999.00