BOTTLE,20220818CCHSIOAMB
EXPOCODE,SECT_ID,STNNBR,CASTNO,SAMPNO,BTLNBR,BTLNBR_FLAG_W,DATE,TIME,LATITUDE,LONGITUDE,DEPTH,CTDPRS,CTDTMP,CTDSAL,CTDSAL_FLAG_W,SALNTY,SALNTY_FLAG_W,CTDOXY,CTDOXY_FLAG_W,OXYGEN,OXYGEN_FLAG_W,SILCAT,SILCAT_FLAG_W,NITRAT,NITRAT_FLAG_W,NITRIT,NITRIT_FLAG_W,PHSPHT,PHSPHT_FLAG_W,CFC-11,CFC-11_FLAG_W,CFC-12,CFC-12_FLAG_W,SF6,SF6_FLAG_W,TCARBN,TCARBN_FLAG_W,ALKALI,ALKALI_FLAG_W,FCO2,FCO2_FLAG_W,FCO2TMP,PH_SWS,PH_SWS_FLAG_W,PH_TMP,TRITUM,TRITUM_FLAG_W,HELIUM,HELIUM_FLAG_W,DELHE3,DELHE3_FLAG_W,DELC13,DELC13_FLAG_W,DELC14,DELC14_FLAG_W,NEON,NEON_FLAG_W,NEONER,CCL4,CCL4_FLAG_W,POC,POC_FLAG_W,DOC,DOC_FLAG_W,TDN,TDN_FLAG_W,DON,DON_FLAG_W,CHLORA,CHLORA_FLAG_W,ARGON,ARGON_FLAG_W,TRITER,CDOM325,CDOM325_FLAG_W,CDOM340,CDOM340_FLAG_W,CDOM380,CDOM380_FLAG_W,CDOM412,CDOM412_FLAG_W,CDOM443,CDOM443_FLAG_W,CDOM490,CDOM490_FLAG_W,CDOM555,CDOM555_FLAG_W,CDOMSL,CDOMSL_FLAG_W,CDOMSN,CDOMSN_FLAG_W,THETA,D18O_NO3,D18O_NO3_FLAG_W,CDOM2C,CDOM2C_FLAG_W,CDOM3C,CDOM3C_FLAG_W,LAB_DEN,LAB_DEN_FLAG_W,DELSI30,DELSI30_FLAG_W,N2,N2_FLAG_W,D15N_NO3,D15N_NO3_FLAG_W,HELIER,DELHER
,,,,,,,,,,,METERS,DBAR,ITS-90,PSS-78,,PSS-78,,UMOL/KG,,UMOL/KG,,UMOL/KG,,UMOL/KG,,UMOL/KG,,UMOL/KG,,PMOL/KG,,PMOL/KG,,FMOL/KG,,UMOL/KG,,UMOL/KG,,UATM,,DEG C,,,DEG C,TU,,NMOL/KG,,PERCNT,,/MILLE,,/MILLE,,NMOL/KG,,NMOL/KG,PMOL/KG,,UG/KG,,UMOL/KG,,UMOL/KG,,UMOL/KG,,UG/KG,,UMOL/KG,,TU,1/M,,1/M,,1/M,,1/M,,1/M,,1/M,,1/M,,1/NM,,1/NM,,DEG C,/MILLE,,,,,,,,/MILLE,,UMOL/KG,,/MILLE,,NMOL/KG,PERCNT
33RO20071215,       TEST,     998,          1,          7,      11007,3,20071217,       0358,    24.4593,  -112.9065,       2871,  2199.0,   2.0608,  34.6465,2,  34.6488,2,     90.5,2,  -999.0,9,  156.80,2,   39.70,2,    0.00,2,    2.76,2,   0.006,2,   0.005,2,   0.0345,2,  -999.0,9,  -999.0,9,   -999.0,9,  -999.00,-999.0000,9,  -999.00,-999.000,9,-999.0000,9, -999.00,9, -999.00,9,  -999.0,1,-999.000,9,-999.000,   0.008,3,-999.000,9, -999.00,9, -999.00,9, -999.00,9, -999.00,9, -999.00,9,-999.000,-999.0000,5,-999.0000,5,-999.0000,5,-999.0000,5,-999.0000,5,-999.0000,5,-999.0000,5,-999.0000,5,-999.0000,5,   1.9063,     -999.0,9,     -999.0,9,     -999.0,9,     -999.0,9,     -999.0,9,     -999.0,9,     -999.0,9,-999.0000, -999.00
33RO20071215,       TEST,     998,          1,          6,      11006,3,20071217,       0358,    24.4593,  -112.9065,       2871,  2499.3,   1.8478,  34.6598,2,  34.6655,4,    102.6,2,  -999.0,9,  161.20,2,   39.20,2,    0.00,2,    2.68,2,   0.006,2,   0.007,2,   0.0000,2,  -999.0,9,  -999.0,9,   -999.0,9,  -999.00,-999.0000,9,  -999.00,-999.000,9,-999.0000,9, -999.00,9, -999.00,9,  -999.0,1,-999.000,9,-999.000,   0.008,3,-999.000,9, -999.00,9, -999.00,9, -999.00,9, -999.00,9, -999.00,9,-999.000,-999.0000,5,-999.0000,5,-999.0000,5,-999.0000,5,-999.0000,5,-999.0000,5,-999.0000,5,-999.0000,5,-999.0000,5,   1.6703,     -999.0,9,     -999.0,9,     -999.0,9,     -999.0,9,     -999.0,9,     -999.0,9,     -999.0,9,-999.0000, -999.00
33RO20071215,       TEST,     998,          1,          5,      11005,3,20071217,       0358,    24.4593,  -112.9065,       2871,  2499.5,   1.8475,  34.6598,2,  34.6597,2,    102.6,2,  -999.0,9,  160.20,2,   39.00,2,    0.00,2,    2.67,2,   0.009,2,   0.010,2,   0.0329,2,  -999.0,9,  -999.0,9,   -999.0,9,  -999.00,-999.0000,9,  -999.00,-999.000,9,-999.0000,9, -999.00,9, -999.00,9,  -999.0,1,-999.000,9,-999.000,   0.008,3,-999.000,9, -999.00,9, -999.00,9, -999.00,9, -999.00,9, -999.00,9,-999.000,-999.0000,5,-999.0000,5,-999.0000,5,-999.0000,5,-999.0000,5,-999.0000,5,-999.0000,5,-999.0000,5,-999.0000,5,   1.6700,     -999.0,9,     -999.0,9,     -999.0,9,     -999.0,9,     -999.0,9,     -999.0,9,     -999.0,9,-999.0000, -999.00
33RO20071215,       TEST,     998,          1,          3,      11003,3,20071217,       0358,    24.4593,  -112.9065,       2871,  2699.6,   1.7334,  34.6664,2,  34.6677,2,    111.3,2,  -999.0,9,  163.30,6,   39.00,6,    0.00,6,    2.63,2,   0.009,2,   0.011,2,   0.0306,2,  -999.0,9,  -999.0,9,   -999.0,9,  -999.00,-999.0000,9,  -999.00,-999.000,9,-999.0000,9, -999.00,9, -999.00,9,  -999.0,1,-999.000,9,-999.000,   0.008,3,-999.000,9, -999.00,9, -999.00,9, -999.00,9, -999.00,9, -999.00,9,-999.000,-999.0000,5,-999.0000,5,-999.0000,5,-999.0000,5,-999.0000,5,-999.0000,5,-999.0000,5,-999.0000,5,-999.0000,5,   1.5398,     -999.0,9,     -999.0,9,     -999.0,9,     -999.0,9,     -999.0,9,     -999.0,9,     -999.0,9,-999.0000, -999.00
33RO20071215,       TEST,     998,          1,          4,      11004,3,20071217,       0358,    24.4593,  -112.9065,       2871,  2699.8,   1.7334,  34.6664,2,  34.6678,2,    111.3,2,   112.9,2,  163.30,6,   38.80,6,    0.00,6,    2.63,2,   0.010,2,   0.011,2,   0.0000,2,  -999.0,9,  -999.0,9,   -999.0,9,  -999.00,-999.0000,9,  -999.00,-999.000,9,-999.0000,9, -999.00,9, -999.00,9,  -999.0,1,-999.000,9,-999.000,   0.008,3,-999.000,9, -999.00,9, -999.00,9, -999.00,9, -999.00,9, -999.00,9,-999.000,-999.0000,5,-999.0000,5,-999.0000,5,-999.0000,5,-999.0000,5,-999.0000,5,-999.0000,5,-999.0000,5,-999.0000,5,   1.5398,     -999.0,9,     -999.0,9,     -999.0,9,     -999.0,9,     -999.0,9,     -999.0,9,     -999.0,9,-999.0000, -999.00
33RO20071215,       TEST,     998,          1,          1,      11001,3,20071217,       0358,    24.4593,  -112.9065,       2871,  2919.4,   1.6498,  34.6711,2,  34.6731,2,    117.4,2,   116.9,2,  165.60,2,   38.40,2,    0.00,2,    2.58,2,   0.016,6,   0.017,6,   0.0501,6,  -999.0,9,  -999.0,9,   -999.0,9,  -999.00,-999.0000,9,  -999.00,-999.000,9,-999.0000,9, -999.00,9, -999.00,9,  -999.0,1,-999.000,9,-999.000,   0.009,3,-999.000,9, -999.00,9, -999.00,9, -999.00,9, -999.00,9, -999.00,9,-999.000,-999.0000,5,-999.0000,5,-999.0000,5,-999.0000,5,-999.0000,5,-999.0000,5,-999.0000,5,-999.0000,5,-999.0000,5,   1.4374,     -999.0,9,     -999.0,9,     -999.0,9,     -999.0,9,     -999.0,9,     -999.0,9,     -999.0,9,-999.0000, -999.00
33RO20071215,       TEST,     998,          1,          2,      11002,3,20071217,       0358,    24.4593,  -112.9065,       2871,  2919.7,   1.6501,  34.6711,2,  34.6729,2,    117.4,2,  -999.0,9,  165.20,6,   38.40,6,    0.00,6,    2.59,2,   0.012,2,   0.013,2,   0.0000,2,  -999.0,9,  -999.0,9,   -999.0,9,  -999.00,-999.0000,9,  -999.00,-999.000,9,-999.0000,9, -999.00,9, -999.00,9,  -999.0,1,-999.000,9,-999.000,   0.010,3,-999.000,9, -999.00,9, -999.00,9, -999.00,9, -999.00,9, -999.00,9,-999.000,-999.0000,5,-999.0000,5,-999.0000,5,-999.0000,5,-999.0000,5,-999.0000,5,-999.0000,5,-999.0000,5,-999.0000,5,   1.4377,     -999.0,9,     -999.0,9,     -999.0,9,     -999.0,9,     -999.0,9,     -999.0,9,     -999.0,9,-999.0000, -999.00
33RO20071215,       TEST,     998,          1,         16,      11016,2,20071217,       0358,    24.4593,  -112.9065,       2871,  2926.3,   1.6535,  34.6712,2,  34.6740,2,    117.5,2,   117.7,2,  165.40,2,   38.20,2,    0.00,2,    2.57,2,   0.009,2,   0.013,2,   0.0500,2,  -999.0,9,  -999.0,9,   -999.0,9,  -999.00,-999.0000,9,  -999.00,-999.000,9,-999.0000,9, -999.00,9, -999.00,9,  -999.0,1,-999.000,9,-999.000,   0.007,3,-999.000,9, -999.00,9, -999.00,9, -999.00,9, -999.00,9, -999.00,9,-999.000,-999.0000,5,-999.0000,5,-999.0000,5,-999.0000,5,-999.0000,5,-999.0000,5,-999.0000,5,-999.0000,5,-999.0000,5,   1.4403,     -999.0,9,     -999.0,9,     -999.0,9,     -999.0,9,     -999.0,9,     -999.0,9,     -999.0,9,-999.0000, -999.00
33RO20071215,        P18,       1,          1,         13,      11013,2,20071217,       2055,    22.8672,  -110.0007,        262,    11.0,  23.6203,  34.9908,2,  35.0009,2,    208.2,2,  -999.0,9, -999.00,9, -999.00,9, -999.00,9, -999.00,9,   1.813,6,   1.153,6,   1.1175,6,  -999.0,9,  -999.0,9,   -999.0,9,  -999.00,-999.0000,9,  -999.00,-999.000,9,-999.0000,9, -999.00,9, -999.00,9,  -999.0,9,-999.000,9,-999.000,-999.000,9,-999.000,9, -999.00,9, -999.00,9, -999.00,9,    0.80,2, -999.00,9,-999.000,   0.1896,2,   0.1320,2,   0.0580,2,   0.0363,2,   0.0200,2,   0.0088,2,   0.0028,2,   0.0181,2,   0.0202,2,  23.6180,     -999.0,9,     -999.0,9,     -999.0,9,     -999.0,9,     -999.0,9,     -999.0,9,     -999.0,9,-999.0000, -999.00
33RO20071215,        P18,       1,          1,         12,      11012,2,20071217,       2055,    22.8672,  -110.0007,        262,    11.0,  23.6238,  34.9898,2,  34.9985,2,    208.5,2,   207.9,2,    2.90,2,    0.40,2,    0.09,2,    0.50,2,-999.000,9,-999.000,9,-999.0000,9,  2043.4,2,  2324.7,2,    350.8,2,    20.00,   8.0069,2,    25.00,-999.000,9,-999.0000,9, -999.00,9, -999.00,9,  -999.0,9,-999.000,9,-999.000,-999.000,9,-999.000,9,   77.97,2,    6.28,2, -999.00,1, -999.00,9, -999.00,9,-999.000,-999.0000,9,-999.0000,9,-999.0000,9,-999.0000,9,-999.0000,9,-999.0000,9,-999.0000,9,-999.0000,9,-999.0000,9,  23.6215,     -999.0,9,     -999.0,9,     -999.0,9,     -999.0,9,     -999.0,9,     -999.0,9,     -999.0,9,-999.0000, -999.00
33RO20071215,        P18,       1,          1,         11,      11010,2,20071217,       2055,    22.8672,  -110.0007,        262,    20.3,  23.5643,  35.0190,2,  35.0289,2,    202.6,2,   204.0,2,    3.40,2,    0.70,2,    0.18,2,    0.56,2,-999.000,9,-999.000,9,-999.0000,9,  2050.7,2,  2330.1,2,    359.1,6,    20.00,   8.0279,2,    25.00,-999.000,9,-999.0000,9, -999.00,9, -999.00,9,  -999.0,9,-999.000,9,-999.000,-999.000,9,-999.000,9, -999.00,9, -999.00,9, -999.00,1,    0.74,2, -999.00,9,-999.000,   0.2052,2,   0.1455,2,   0.0668,2,   0.0425,2,   0.0239,2,   0.0108,2,   0.0040,2,   0.0174,2,   0.0190,2,  23.5601,     -999.0,9,     -999.0,9,     -999.0,9,     -999.0,9,     -999.0,9,     -999.0,9,     -999.0,9,-999.0000, -999.00
33RO20071215,        P18,       1,          1,         10,      11011,2,20071217,       2055,    22.8672,  -110.0007,        262,    39.7,  22.8267,  35.0909,2,  35.0987,2,    206.1,2,   207.3,2,    3.40,2,    0.70,2,    0.14,2,    0.67,2,-999.000,9,-999.000,9,-999.0000,9,  2065.8,2,  2342.3,2,   -999.0,9,  -999.00,   8.0095,2,    25.00,-999.000,9,-999.0000,9, -999.00,9, -999.00,9,  -999.0,9,-999.000,9,-999.000,-999.000,9,-999.000,9,   76.38,2,    5.14,2, -999.00,1,    0.43,2, -999.00,9,-999.000,   0.2434,2,   0.1754,2,   0.0845,2,   0.0552,2,   0.0310,2,   0.0134,2,   0.0051,2,   0.0171,2,   0.0179,2,  22.8187,     -999.0,9,     -999.0,9,     -999.0,9,     -999.0,9,     -999.0,9,     -999.0,9,     -999.0,9,-999.0000, -999.00
33RO20071215,        P18,       1,          1,          9,      11009,2,20071217,       2055,    22.8672,  -110.0007,        262,    59.3,  21.7629,  34.9861,2,  34.9865,2,    162.2,2,   148.7,2,   10.60,2,    7.30,2,    0.31,2,    1.15,2,   1.814,2,   1.138,2,   1.0596,2,  2123.4,2,  2333.6,2,    532.4,2,    20.00,   7.8046,2,    25.00,-999.000,9,-999.0000,9, -999.00,9, -999.00,9,  -999.0,9,-999.000,9,-999.000,-999.000,9,-999.000,9, -999.00,9, -999.00,9, -999.00,1,    0.22,2, -999.00,9,-999.000,   0.2853,2,   0.2097,2,   0.1048,2,   0.0714,2,   0.0400,2,   0.0172,2,   0.0071,2,   0.0165,2,   0.0169,2,  21.7513,     -999.0,9,     -999.0,9,     -999.0,9,     -999.0,9,     -999.0,9,     -999.0,9,     -999.0,9,-999.0000, -999.00
33RO20071215,        P18,       1,          1,          8,      11008,2,20071217,       2055,    22.8672,  -110.0007,        262,    79.6,  17.3684,  34.8195,2,  34.7831,2,     73.9,2,    72.8,2,   21.80,2,   18.10,2,    0.05,2,    1.96,2,-999.000,9,-999.000,9,-999.0000,9,  2212.5,2,  2314.8,2,   -999.0,9,  -999.00,   7.6187,2,    25.00,-999.000,9,-999.0000,9, -999.00,9, -999.00,9,  -999.0,9,-999.000,9,-999.000,-999.000,9,-999.000,9,   59.38,2,   20.77,2, -999.00,1,    0.05,2, -999.00,9,-999.000,   0.2937,2,   0.2189,2,   0.1171,2,   0.0829,2,   0.0468,2,   0.0197,2,   0.0082,2,   0.0160,2,   0.0156,2,  17.3551,     -999.0,9,     -999.0,9,     -999.0,9,     -999.0,9,     -999.0,9,     -999.0,9,     -999.0,9,-999.0000, -999.00
33RO20071215,        P18,       1,          1,          7,      11007,2,20071217,       2055,    22.8672,  -110.0007,        262,   100.3,  15.9654,  34.7541,2,  34.7518,2,     57.0,2,    57.8,2,   25.00,2,   20.70,2,    0.05,2,    2.16,2,   1.670,2,   1.019,2,   0.8082,2,  2228.8,2,  2310.9,2,   1186.4,2,    20.00,   7.5577,2,    25.00,-999.000,9,-999.0000,9, -999.00,9, -999.00,9,  -999.0,9,-999.000,9,-999.000,-999.000,9,-999.000,9, -999.00,9, -999.00,9, -999.00,1,    0.02,2, -999.00,9,-999.000,   0.2731,2,   0.2029,2,   0.1096,2,   0.0799,2,   0.0455,2,   0.0186,2,   0.0076,2,   0.0159,2,   0.0153,2,  15.9496,     -999.0,9,     -999.0,9,     -999.0,9,     -999.0,9,     -999.0,9,     -999.0,9,     -999.0,9,-999.0000, -999.00
33RO20071215,        P18,       1,          1,          6,      11006,2,20071217,       2055,    22.8672,  -110.0007,        262,   125.0,  14.3718,  34.7207,2,  34.7178,2,     37.2,2,    37.4,2,   29.00,2,   23.60,2,    0.05,2,    2.38,2,-999.000,9,-999.000,9,-999.0000,9,  2247.4,2,  2304.1,2,   1413.3,2,    20.00,   7.5005,2,    25.00,-999.000,9,-999.0000,9, -999.00,9, -999.00,9,  -999.0,9,-999.000,9,-999.000,-999.000,9,-999.000,9,   53.81,2,   26.76,2, -999.00,1,    0.01,2, -999.00,9,-999.000,   0.2505,2,   0.1860,2,   0.1037,2,   0.0777,2,   0.0444,2,   0.0176,2,   0.0069,2,   0.0157,2,   0.0147,2,  14.3535,     -999.0,9,     -999.0,9,     -999.0,9,     -999.0,9,     -999.0,9,     -999.0,9,     -999.0,9,-999.0000, -999.00
33RO20071215,        P18,       1,          1,          5,      11005,2,20071217,       2055,    22.8672,  -110.0007,        262,   150.4,  13.3670,  34.7041,2,  34.7123,2,     22.1,2,    19.5,2,   32.00,2,   24.70,2,    0.04,2,    2.50,2,   1.172,2,   0.703,2,   0.4463,2,  2260.6,2,  2305.7,2,   1568.1,2,    20.00,   7.4425,2,    25.00,-999.000,9,-999.0000,9, -999.00,9, -999.00,9,  -999.0,9,-999.000,9,-999.000,-999.000,9,-999.000,9, -999.00,9, -999.00,9, -999.00,1,    0.01,2, -999.00,9,-999.000,   0.2350,2,   0.1765,2,   0.1026,2,   0.0787,2,   0.0456,2,   0.0179,2,   0.0070,2,   0.0143,2,   0.0139,2,  13.3460,     -999.0,9,     -999.0,9,     -999.0,9,     -999.0,9,     -999.0,9,     -999.0,9,     -999.0,9,-999.0000, -999.00
33RO20071215,        P18,       1,          1,          4,      11004,2,20071217,       2055,    22.8672,  -110.0007,        262,   175.0,  12.6627,  34.7277,2,  34.7271,2,     12.8,2,    13.6,2,   34.00,6,   25.20,6,    0.04,6,    2.56,2,-999.000,9,-999.000,9,-999.0000,9,  2267.3,2,  2307.5,2,   1643.4,2,    20.00,   7.4307,2,    25.00,-999.000,9,-999.0000,9, -999.00,9, -999.00,9,  -999.0,9,-999.000,9,-999.000,-999.000,9,-999.000,9,   50.72,2,   27.20,2, -999.00,1,    0.01,2, -999.00,9,-999.000,   0.2370,2,   0.1769,2,   0.1022,2,   0.0786,2,   0.0460,2,   0.0178,2,   0.0067,2,   0.0154,2,   0.0140,2,  12.6391,     -999.0,9,     -999.0,9,     -999.0,9,     -999.0,9,     -999.0,9,     -999.0,9,     -999.0,9,-999.0000, -999.00
33RO20071215,        P18,       1,          1,          3,      11003,2,20071217,       2055,    22.8672,  -110.0007,        262,   200.3,  12.2537,  34.7086,2,  34.7103,2,     10.4,2,    10.1,2,   34.50,6,   25.30,6,    0.03,6,    2.57,2,   0.847,2,   0.507,2,   0.2847,2,  2268.5,2,  2305.3,2,   1639.7,2,    20.00,   7.4214,2,    25.00,-999.000,9,-999.0000,9, -999.00,9, -999.00,9,  -999.0,9,-999.000,9,-999.000,-999.000,9,-999.000,9,   49.04,2,   26.31,2, -999.00,1,    0.00,2, -999.00,9,-999.000,   0.2218,2,   0.1664,2,   0.0974,2,   0.0757,2,   0.0442,2,   0.0173,2,   0.0065,2,   0.0152,2,   0.0137,2,  12.2272,     -999.0,9,     -999.0,9,     -999.0,9,     -999.0,9,     -999.0,9,     -999.0,9,     -999.0,9,-999.0000, -999.00
33RO20071215,        P18,       1,          1,          2,      11002,2,20071217,       2055,    22.8672,  -110.0007,        262,   225.3,  11.8902,  34.6945,2,  34.6942,2,      8.6,2,     8.4,2,   35.70,6,   25.50,6,    0.03,6,    2.59,2,-999.000,9,-999.000,9,-999.0000,9,  2271.8,2,  2304.8,2,   -999.0,9,  -999.00,   7.4085,2,    25.00,-999.000,9,-999.0000,9, -999.00,9, -999.00,9,  -999.0,9,-999.000,9,-999.000,-999.000,9,-999.000,9,   49.53,2,   26.58,2, -999.00,1,    0.01,2, -999.00,9,-999.000,   0.2141,2,   0.1658,2,   0.1031,2,   0.0825,2,   0.0497,2,   0.0186,2,   0.0077,2,   0.0148,2,   0.0126,2,  11.8611,     -999.0,9,     -999.0,9,     -999.0,9,     -999.0,9,     -999.0,9,     -999.0,9,     -999.0,9,-999.0000, -999.00
33RO20071215,        P18,       1,          1,          1,      11001,2,20071217,       2055,    22.8672,  -110.0007,        262,   259.4,  11.1160,  34.6659,2,  34.6689,2,      6.0,2,     6.2,2,   38.20,2,   26.10,2,    0.03,2,    2.63,2,   0.545,2,   0.325,2,   0.1634,2,  2277.2,6,  2327.0,2,   1749.0,2,    20.00,   7.4010,2,    25.00,-999.000,9,-999.0000,9, -999.00,9, -999.00,9,  -999.0,9,-999.000,9,-999.000,-999.000,9,-999.000,9,   50.60,2,   27.38,2, -999.00,1, -999.00,9, -999.00,9,-999.000,-999.0000,9,-999.0000,9,-999.0000,9,-999.0000,9,-999.0000,9,-999.0000,9,-999.0000,9,-999.0000,9,-999.0000,9,  11.0839,     -999.0,9,     -999.0,9,     -999.0,9,     -999.0,9,     -999.0,9,     -999.0,9,     -999.0,9,-999.0000, -999.00