BOTTLE,20220818CCHSIOAMB
EXPOCODE,SECT_ID,STNNBR,CASTNO,SAMPNO,BTLNBR,BTLNBR_FLAG_W,DATE,TIME,LATITUDE,LONGITUDE,DEPTH,CTDPRS,CTDTMP,CTDSAL,CTDSAL_FLAG_W,SALNTY,SALNTY_FLAG_W,CTDOXY,CTDOXY_FLAG_W,OXYGEN,OXYGEN_FLAG_W,SILCAT,SILCAT_FLAG_W,NITRAT,NITRAT_FLAG_W,NITRIT,NITRIT_FLAG_W,PHSPHT,PHSPHT_FLAG_W,CFC-11,CFC-11_FLAG_W,CFC-12,CFC-12_FLAG_W,SF6,SF6_FLAG_W,TCARBN,TCARBN_FLAG_W,ALKALI,ALKALI_FLAG_W,FCO2,FCO2_FLAG_W,FCO2TMP,PH_SWS,PH_SWS_FLAG_W,PH_TMP,TRITUM,TRITUM_FLAG_W,HELIUM,HELIUM_FLAG_W,DELHE3,DELHE3_FLAG_W,DELC13,DELC13_FLAG_W,DELC14,DELC14_FLAG_W,NEON,NEON_FLAG_W,NEONER,CCL4,CCL4_FLAG_W,POC,POC_FLAG_W,DOC,DOC_FLAG_W,TDN,TDN_FLAG_W,DON,DON_FLAG_W,CHLORA,CHLORA_FLAG_W,ARGON,ARGON_FLAG_W,TRITER,CDOM325,CDOM325_FLAG_W,CDOM340,CDOM340_FLAG_W,CDOM380,CDOM380_FLAG_W,CDOM412,CDOM412_FLAG_W,CDOM443,CDOM443_FLAG_W,CDOM490,CDOM490_FLAG_W,CDOM555,CDOM555_FLAG_W,CDOMSL,CDOMSL_FLAG_W,CDOMSN,CDOMSN_FLAG_W,THETA,D18O_NO3,D18O_NO3_FLAG_W,CDOM2C,CDOM2C_FLAG_W,CDOM3C,CDOM3C_FLAG_W,LAB_DEN,LAB_DEN_FLAG_W,DELSI30,DELSI30_FLAG_W,N2,N2_FLAG_W,D15N_NO3,D15N_NO3_FLAG_W,HELIER,DELHER
,,,,,,,,,,,METERS,DBAR,ITS-90,PSS-78,,PSS-78,,UMOL/KG,,UMOL/KG,,UMOL/KG,,UMOL/KG,,UMOL/KG,,UMOL/KG,,PMOL/KG,,PMOL/KG,,FMOL/KG,,UMOL/KG,,UMOL/KG,,UATM,,DEG C,,,DEG C,TU,,NMOL/KG,,PERCNT,,/MILLE,,/MILLE,,NMOL/KG,,NMOL/KG,PMOL/KG,,UG/KG,,UMOL/KG,,UMOL/KG,,UMOL/KG,,UG/KG,,UMOL/KG,,TU,1/M,,1/M,,1/M,,1/M,,1/M,,1/M,,1/M,,1/NM,,1/NM,,DEG C,/MILLE,,,,,,,,/MILLE,,UMOL/KG,,/MILLE,,NMOL/KG,PERCNT
33RO20071215,        P18,       9,          1,         24,      11024,2,20071219,       1218,    19.6665,  -110.0000,       3317,    10.2,  24.8668,  34.4653,2,  34.4720,2,    208.2,2,   208.8,2,    1.80,2,    0.00,2,    0.01,2,    0.17,2,   1.780,6,   1.125,6,   1.0738,6,  1993.7,6,  2295.1,2,    317.0,6,    20.00,   8.0422,2,    25.00,-999.000,9,-999.0000,9, -999.00,9, -999.00,9,  -999.0,9,-999.000,9,-999.000,-999.000,9,-999.000,9,   72.21,2,    4.87,2, -999.00,1, -999.00,9, -999.00,9,-999.000,-999.0000,9,-999.0000,9,-999.0000,9,-999.0000,9,-999.0000,9,-999.0000,9,-999.0000,9,-999.0000,9,-999.0000,9,  24.8646,     -999.0,9,     -999.0,9,     -999.0,9,     -999.0,9,     -999.0,9,     -999.0,9,     -999.0,9,-999.0000, -999.00
33RO20071215,        P18,       9,          1,         23,      11023,2,20071219,       1218,    19.6665,  -110.0000,       3317,    24.4,  23.7827,  34.4454,2,  34.4456,2,    215.3,2,   215.8,2,    1.80,2,    0.10,2,    0.01,2,    0.19,2,-999.000,9,-999.000,9,-999.0000,9,  2005.3,2,  2286.7,2,    338.2,2,    20.00,   8.0180,2,    25.00,-999.000,9,-999.0000,9, -999.00,9, -999.00,9,  -999.0,9,-999.000,9,-999.000,-999.000,9,-999.000,9, -999.00,9, -999.00,9, -999.00,1, -999.00,9, -999.00,9,-999.000,-999.0000,9,-999.0000,9,-999.0000,9,-999.0000,9,-999.0000,9,-999.0000,9,-999.0000,9,-999.0000,9,-999.0000,9,  23.7776,     -999.0,9,     -999.0,9,     -999.0,9,     -999.0,9,     -999.0,9,     -999.0,9,     -999.0,9,-999.0000, -999.00
33RO20071215,        P18,       9,          1,         22,      11022,2,20071219,       1218,    19.6665,  -110.0000,       3317,    50.1,  20.7536,  34.1623,2,  34.1561,2,    230.3,2,   231.6,2,    2.40,2,    0.20,2,    0.01,2,    0.27,2,   2.349,2,   1.420,2,   1.1978,2,  2023.5,2,  2274.0,2,    395.3,2,    20.00,   7.9792,2,    25.00,-999.000,9,-999.0000,9, -999.00,9, -999.00,9,  -999.0,9,-999.000,9,-999.000,-999.000,9,-999.000,9,   64.31,2,    4.37,2, -999.00,1, -999.00,9, -999.00,9,-999.000,-999.0000,9,-999.0000,9,-999.0000,9,-999.0000,9,-999.0000,9,-999.0000,9,-999.0000,9,-999.0000,9,-999.0000,9,  20.7442,     -999.0,9,     -999.0,9,     -999.0,9,     -999.0,9,     -999.0,9,     -999.0,9,     -999.0,9,-999.0000, -999.00
33RO20071215,        P18,       9,          1,         21,      11021,2,20071219,       1218,    19.6665,  -110.0000,       3317,    74.2,  15.8715,  34.1192,2,  34.1267,2,    122.0,2,   117.4,2,   12.20,2,   14.00,2,    0.13,2,    1.32,2,-999.000,9,-999.000,9,-999.0000,9,  2140.8,2,  2263.3,2,    841.6,2,    20.00,   7.6853,2,    25.00,-999.000,9,-999.0000,9, -999.00,9, -999.00,9,  -999.0,9,-999.000,9,-999.000,-999.000,9,-999.000,9, -999.00,9, -999.00,9, -999.00,1, -999.00,9, -999.00,9,-999.000,-999.0000,9,-999.0000,9,-999.0000,9,-999.0000,9,-999.0000,9,-999.0000,9,-999.0000,9,-999.0000,9,-999.0000,9,  15.8599,     -999.0,9,     -999.0,9,     -999.0,9,     -999.0,9,     -999.0,9,     -999.0,9,     -999.0,9,-999.0000, -999.00
33RO20071215,        P18,       9,          1,         20,      11020,2,20071219,       1218,    19.6665,  -110.0000,       3317,   100.3,  14.4646,  34.4965,2,  34.5576,2,     13.6,2,    19.9,2,   23.40,2,   24.30,2,    0.03,2,    2.28,2,   1.437,2,   0.841,2,   0.5123,2,  2235.8,2,  2286.8,2,   1467.5,2,    20.00,   7.4746,2,    25.00,-999.000,9,-999.0000,9, -999.00,9, -999.00,9,  -999.0,9,-999.000,9,-999.000,-999.000,9,-999.000,9,   45.54,2,   27.17,2, -999.00,1, -999.00,9, -999.00,9,-999.000,-999.0000,9,-999.0000,9,-999.0000,9,-999.0000,9,-999.0000,9,-999.0000,9,-999.0000,9,-999.0000,9,-999.0000,9,  14.4499,     -999.0,9,     -999.0,9,     -999.0,9,     -999.0,9,     -999.0,9,     -999.0,9,     -999.0,9,-999.0000, -999.00
33RO20071215,        P18,       9,          1,         19,      11019,2,20071219,       1218,    19.6665,  -110.0000,       3317,   124.4,  13.6321,  34.7054,2,  34.7105,2,      4.4,2,     3.8,2,   27.50,2,   24.30,2,    0.07,2,    2.47,2,   1.012,2,   0.607,2,   0.3180,2,  2255.0,2,  2297.1,2,   1620.2,2,    20.00,   7.4477,2,    25.00,-999.000,9,-999.0000,9, -999.00,9, -999.00,9,  -999.0,9,-999.000,9,-999.000,-999.000,9,-999.000,9, -999.00,9, -999.00,9, -999.00,1, -999.00,9, -999.00,9,-999.000,-999.0000,9,-999.0000,9,-999.0000,9,-999.0000,9,-999.0000,9,-999.0000,9,-999.0000,9,-999.0000,9,-999.0000,9,  13.6146,     -999.0,9,     -999.0,9,     -999.0,9,     -999.0,9,     -999.0,9,     -999.0,9,     -999.0,9,-999.0000, -999.00
33RO20071215,        P18,       9,          1,         18,      11018,2,20071219,       1218,    19.6665,  -110.0000,       3317,   150.4,  12.7432,  34.7500,2,  34.7491,2,      3.8,2,     4.1,2,   30.20,2,   23.00,2,    1.09,2,    2.49,2,   0.716,2,   0.438,2,   0.1610,2,  2262.1,2,  2303.2,2,   1658.4,2,    20.00,   7.4329,2,    25.00,-999.000,9,-999.0000,9, -999.00,9, -999.00,9,  -999.0,9,-999.000,9,-999.000,-999.000,9,-999.000,9,   44.73,2,   26.51,2, -999.00,1, -999.00,9, -999.00,9,-999.000,-999.0000,9,-999.0000,9,-999.0000,9,-999.0000,9,-999.0000,9,-999.0000,9,-999.0000,9,-999.0000,9,-999.0000,9,  12.7229,     -999.0,9,     -999.0,9,     -999.0,9,     -999.0,9,     -999.0,9,     -999.0,9,     -999.0,9,-999.0000, -999.00
33RO20071215,        P18,       9,          1,         17,      11017,2,20071219,       1218,    19.6665,  -110.0000,       3317,   199.4,  11.7967,  34.7470,2,  34.7451,2,      3.6,2,     3.2,2,   33.20,2,   22.30,2,    1.56,2,    2.54,2,   0.431,2,   0.268,2,   0.0834,2,  2270.0,2,  2307.3,2,   -999.0,9,  -999.00,   7.4245,2,    25.00,-999.000,9,-999.0000,9, -999.00,9, -999.00,9,  -999.0,9,-999.000,9,-999.000,-999.000,9,-999.000,9,   42.89,2,   26.03,2, -999.00,1, -999.00,9, -999.00,9,-999.000,-999.0000,9,-999.0000,9,-999.0000,9,-999.0000,9,-999.0000,9,-999.0000,9,-999.0000,9,-999.0000,9,-999.0000,9,  11.7710,     -999.0,9,     -999.0,9,     -999.0,9,     -999.0,9,     -999.0,9,     -999.0,9,     -999.0,9,-999.0000, -999.00
33RO20071215,        P18,       9,          1,         16,      11016,2,20071219,       1218,    19.6665,  -110.0000,       3317,   249.9,  11.0992,  34.7094,2,  34.7045,2,      3.5,2,     4.1,2,   36.60,2,   21.90,2,    1.88,2,    2.60,2,   0.298,2,   0.184,2,   0.0793,2,  2279.2,2,  2309.5,2,   -999.0,9,  -999.00,   7.3963,2,    25.00,-999.000,9,-999.0000,9, -999.00,9, -999.00,9,  -999.0,9,-999.000,9,-999.000,-999.000,9,-999.000,9,   41.73,2,   24.81,2, -999.00,1, -999.00,9, -999.00,9,-999.000,-999.0000,9,-999.0000,9,-999.0000,9,-999.0000,9,-999.0000,9,-999.0000,9,-999.0000,9,-999.0000,9,-999.0000,9,  11.0683,     -999.0,9,     -999.0,9,     -999.0,9,     -999.0,9,     -999.0,9,     -999.0,9,     -999.0,9,-999.0000, -999.00
33RO20071215,        P18,       9,          1,         15,      11015,2,20071219,       1218,    19.6665,  -110.0000,       3317,   325.1,  10.1039,  34.6554,2,  34.6517,2,      3.6,2,     4.5,2,   42.20,2,   25.20,2,    0.68,2,    2.71,2,   0.158,2,   0.099,2,   0.0519,2,  2288.5,2,  2312.7,2,   -999.0,9,  -999.00,   7.3788,2,    25.00,-999.000,9,-999.0000,9, -999.00,9, -999.00,9,  -999.0,9,-999.000,9,-999.000,-999.000,9,-999.000,9,   41.18,2,   27.52,2, -999.00,1, -999.00,9, -999.00,9,-999.000,-999.0000,9,-999.0000,9,-999.0000,9,-999.0000,9,-999.0000,9,-999.0000,9,-999.0000,9,-999.0000,9,-999.0000,9,  10.0658,     -999.0,9,     -999.0,9,     -999.0,9,     -999.0,9,     -999.0,9,     -999.0,9,     -999.0,9,-999.0000, -999.00
33RO20071215,        P18,       9,          1,         14,      11014,2,20071219,       1218,    19.6665,  -110.0000,       3317,   399.7,   8.9555,  34.5976,2,  34.5963,2,      3.6,2,     4.8,2,   50.80,2,   29.60,2,    0.14,2,    2.85,2,-999.000,9,-999.000,9,-999.0000,9,  2298.1,2,  2318.2,2,   -999.0,9,  -999.00,   7.3705,2,    25.00,-999.000,9,-999.0000,9, -999.00,9, -999.00,9,  -999.0,9,-999.000,9,-999.000,-999.000,9,-999.000,9,   40.26,2,   30.98,2, -999.00,1, -999.00,9, -999.00,9,-999.000,-999.0000,9,-999.0000,9,-999.0000,9,-999.0000,9,-999.0000,9,-999.0000,9,-999.0000,9,-999.0000,9,-999.0000,9,   8.9119,     -999.0,9,     -999.0,9,     -999.0,9,     -999.0,9,     -999.0,9,     -999.0,9,     -999.0,9,-999.0000, -999.00
33RO20071215,        P18,       9,          1,         13,      11013,2,20071219,       1218,    19.6665,  -110.0000,       3317,   474.7,   8.1666,  34.5681,2,  34.5658,2,      3.6,2,     4.7,2,   57.70,2,   32.40,2,    0.01,2,    2.94,2,   0.042,2,   0.027,2,   0.0000,2,  2305.9,2,  2323.6,2,   1996.8,2,    20.00,   7.3629,2,    25.00,-999.000,9,-999.0000,9, -999.00,9, -999.00,9,  -999.0,9,-999.000,9,-999.000,-999.000,9,-999.000,9,   39.40,2,   33.25,2, -999.00,1, -999.00,9, -999.00,9,-999.000,-999.0000,9,-999.0000,9,-999.0000,9,-999.0000,9,-999.0000,9,-999.0000,9,-999.0000,9,-999.0000,9,-999.0000,9,   8.1174,     -999.0,9,     -999.0,9,     -999.0,9,     -999.0,9,     -999.0,9,     -999.0,9,     -999.0,9,-999.0000, -999.00
33RO20071215,        P18,       9,          1,         12,      11012,2,20071219,       1218,    19.6665,  -110.0000,       3317,   550.9,   7.3770,  34.5510,2,  34.5497,2,      3.7,2,     3.8,2,   65.40,2,   35.20,2,    0.01,2,    3.03,2,-999.000,9,-999.000,9,-999.0000,9,  2315.2,2,  2329.0,2,   -999.0,9,  -999.00,   7.3597,2,    25.00,-999.000,9,-999.0000,9, -999.00,9, -999.00,9,  -999.0,9,-999.000,9,-999.000,-999.000,9,-999.000,9,   38.56,2,   36.57,2, -999.00,1, -999.00,9, -999.00,9,-999.000,-999.0000,9,-999.0000,9,-999.0000,9,-999.0000,9,-999.0000,9,-999.0000,9,-999.0000,9,-999.0000,9,-999.0000,9,   7.3229,     -999.0,9,     -999.0,9,     -999.0,9,     -999.0,9,     -999.0,9,     -999.0,9,     -999.0,9,-999.0000, -999.00
33RO20071215,        P18,       9,          1,         11,      11010,2,20071219,       1218,    19.6665,  -110.0000,       3317,   649.9,   6.5515,  34.5343,2,  34.5319,2,      3.6,2,     3.7,2,   74.60,2,   38.70,2,    0.00,2,    3.12,2,   0.011,2,   0.005,2,   0.0000,2,  2326.2,2,  2335.7,2,   -999.0,9,  -999.00,   7.3386,2,    25.00,-999.000,9,-999.0000,9, -999.00,9, -999.00,9,  -999.0,9,-999.000,9,-999.000,-999.000,9,-999.000,9,   37.51,2,   39.68,2, -999.00,1, -999.00,9, -999.00,9,-999.000,-999.0000,9,-999.0000,9,-999.0000,9,-999.0000,9,-999.0000,9,-999.0000,9,-999.0000,9,-999.0000,9,-999.0000,9,   6.4913,     -999.0,9,     -999.0,9,     -999.0,9,     -999.0,9,     -999.0,9,     -999.0,9,     -999.0,9,-999.0000, -999.00
33RO20071215,        P18,       9,          1,         10,      11011,2,20071219,       1218,    19.6665,  -110.0000,       3317,   749.9,   5.9883,  34.5349,2,  34.5331,2,      3.7,2,     3.4,2,   81.40,2,   41.10,2,    0.00,2,    3.17,2,-999.000,9,-999.000,9,-999.0000,9,  2335.1,2,  2342.2,2,   -999.0,9,  -999.00,   7.3203,2,    25.00,-999.000,9,-999.0000,9, -999.00,9, -999.00,9,  -999.0,9,-999.000,9,-999.000,-999.000,9,-999.000,9,   36.77,2,   42.06,2, -999.00,1, -999.00,9, -999.00,9,-999.000,-999.0000,9,-999.0000,9,-999.0000,9,-999.0000,9,-999.0000,9,-999.0000,9,-999.0000,9,-999.0000,9,-999.0000,9,   5.9214,     -999.0,9,     -999.0,9,     -999.0,9,     -999.0,9,     -999.0,9,     -999.0,9,     -999.0,9,-999.0000, -999.00
33RO20071215,        P18,       9,          1,          9,      11009,2,20071219,       1218,    19.6665,  -110.0000,       3317,   899.6,   5.1293,  34.5314,2,  34.5303,2,      6.2,2,     7.0,2,   95.00,2,   43.50,2,    0.00,2,    3.24,2,   0.007,2,   0.002,2,   0.0000,2,  2349.2,2,  2354.8,2,   -999.0,9,  -999.00,   7.3311,2,    25.00,-999.000,9,-999.0000,9, -999.00,9, -999.00,9,  -999.0,9,-999.000,9,-999.000,-999.000,9,-999.000,9,   36.31,2,   44.67,2, -999.00,1, -999.00,9, -999.00,9,-999.000,-999.0000,9,-999.0000,9,-999.0000,9,-999.0000,9,-999.0000,9,-999.0000,9,-999.0000,9,-999.0000,9,-999.0000,9,   5.0540,     -999.0,9,     -999.0,9,     -999.0,9,     -999.0,9,     -999.0,9,     -999.0,9,     -999.0,9,-999.0000, -999.00
33RO20071215,        P18,       9,          1,          8,      11008,2,20071219,       1218,    19.6665,  -110.0000,       3317,  1049.5,   4.3713,  34.5431,2,  34.5430,2,     14.8,2,    15.5,2,  108.70,2,   44.40,2,    0.00,2,    3.25,2,-999.000,9,-999.000,9,-999.0000,9,  2361.8,2,  2368.6,2,   2150.7,2,    20.00,   7.3385,2,    25.00,-999.000,9,-999.0000,9, -999.00,9, -999.00,9,  -999.0,9,-999.000,9,-999.000,-999.000,9,-999.000,9,   36.46,2,   45.92,2, -999.00,1, -999.00,9, -999.00,9,-999.000,-999.0000,9,-999.0000,9,-999.0000,9,-999.0000,9,-999.0000,9,-999.0000,9,-999.0000,9,-999.0000,9,-999.0000,9,   4.2884,     -999.0,9,     -999.0,9,     -999.0,9,     -999.0,9,     -999.0,9,     -999.0,9,     -999.0,9,-999.0000, -999.00
33RO20071215,        P18,       9,          1,          7,      11007,2,20071219,       1218,    19.6665,  -110.0000,       3317,  1199.3,   3.8619,  34.5597,2,  34.5574,2,     23.6,2,    24.9,2,  120.00,2,   44.00,2,    0.00,2,    3.19,2,   0.012,2,   0.003,2,   0.0000,2,  2366.2,2,  2381.9,2,   -999.0,9,  -999.00,   7.3502,2,    25.00,-999.000,9,-999.0000,9, -999.00,9, -999.00,9,  -999.0,9,-999.000,9,-999.000,-999.000,9,-999.000,9,   36.06,2,   45.64,3, -999.00,1, -999.00,9, -999.00,9,-999.000,-999.0000,9,-999.0000,9,-999.0000,9,-999.0000,9,-999.0000,9,-999.0000,9,-999.0000,9,-999.0000,9,-999.0000,9,   3.7705,     -999.0,9,     -999.0,9,     -999.0,9,     -999.0,9,     -999.0,9,     -999.0,9,     -999.0,9,-999.0000, -999.00
33RO20071215,        P18,       9,          1,          6,      11006,2,20071219,       1218,    19.6665,  -110.0000,       3317,  1349.7,   3.5099,  34.5775,2,  34.5769,2,     33.8,2,    34.2,2,  126.50,2,   43.70,2,    0.00,2,    3.12,2,-999.000,9,-999.000,9,-999.0000,9,  2368.9,2,  2393.9,2,   -999.0,9,  -999.00,   7.3717,2,    25.00,-999.000,9,-999.0000,9, -999.00,9, -999.00,9,  -999.0,9,-999.000,9,-999.000,-999.000,9,-999.000,9,   36.21,2,   45.08,2, -999.00,1, -999.00,9, -999.00,9,-999.000,-999.0000,9,-999.0000,9,-999.0000,9,-999.0000,9,-999.0000,9,-999.0000,9,-999.0000,9,-999.0000,9,-999.0000,9,   3.4091,     -999.0,9,     -999.0,9,     -999.0,9,     -999.0,9,     -999.0,9,     -999.0,9,     -999.0,9,-999.0000, -999.00
33RO20071215,        P18,       9,          1,          5,      11005,2,20071219,       1218,    19.6665,  -110.0000,       3317,  1600.1,   2.8956,  34.6059,2,  34.6044,2,     52.7,2,    52.4,2,  139.70,2,   42.60,2,    0.00,2,    2.99,2,   0.008,2,   0.002,2,   0.0000,2,  2371.4,2,  2400.8,4,   -999.0,9,  -999.00,   7.3994,2,    25.00,-999.000,9,-999.0000,9, -999.00,9, -999.00,9,  -999.0,9,-999.000,9,-999.000,-999.000,9,-999.000,9,   36.16,2,   43.69,2, -999.00,1, -999.00,9, -999.00,9,-999.000,-999.0000,9,-999.0000,9,-999.0000,9,-999.0000,9,-999.0000,9,-999.0000,9,-999.0000,9,-999.0000,9,-999.0000,9,   2.7805,     -999.0,9,     -999.0,9,     -999.0,9,     -999.0,9,     -999.0,9,     -999.0,9,     -999.0,9,-999.0000, -999.00
33RO20071215,        P18,       9,          1,          4,      11004,2,20071219,       1218,    19.6665,  -110.0000,       3317,  2000.0,   2.1740,  34.6409,2,  34.6406,2,     85.2,2,    85.9,2,  153.80,6,   40.40,6,    0.00,6,    2.75,2,-999.000,9,-999.000,9,-999.0000,9,  2366.3,2,  2409.7,4,   1576.3,2,    20.00,   7.4629,2,    25.00,-999.000,9,-999.0000,9, -999.00,9, -999.00,9,  -999.0,9,-999.000,9,-999.000,-999.000,9,-999.000,9,   36.15,2,   41.53,2, -999.00,9, -999.00,9, -999.00,9,-999.000,-999.0000,9,-999.0000,9,-999.0000,9,-999.0000,9,-999.0000,9,-999.0000,9,-999.0000,9,-999.0000,9,-999.0000,9,   2.0348,     -999.0,9,     -999.0,9,     -999.0,9,     -999.0,9,     -999.0,9,     -999.0,9,     -999.0,9,-999.0000, -999.00
33RO20071215,        P18,       9,          1,          3,      11003,3,20071219,       1218,    19.6665,  -110.0000,       3317,  2399.7,   1.8096,  34.6629,2,  34.6612,2,    107.5,2,   108.0,2,  159.20,6,   39.00,6,    0.00,6,    2.60,2,   0.004,2,   0.003,2,   0.0219,2,  2358.5,2,  2426.5,2,   1412.6,2,    20.00,   7.5259,2,    25.00,-999.000,9,-999.0000,9, -999.00,9, -999.00,9,  -999.0,9,-999.000,9,-999.000,   0.004,3,-999.000,9,   36.41,2,   40.48,2, -999.00,9, -999.00,9, -999.00,9,-999.000,-999.0000,9,-999.0000,9,-999.0000,9,-999.0000,9,-999.0000,9,-999.0000,9,-999.0000,9,-999.0000,9,-999.0000,9,   1.6417,     -999.0,9,     -999.0,9,     -999.0,9,     -999.0,9,     -999.0,9,     -999.0,9,     -999.0,9,-999.0000, -999.00
33RO20071215,        P18,       9,          1,          2,      11002,2,20071219,       1218,    19.6665,  -110.0000,       3317,  2800.4,   1.7682,  34.6670,2,  34.6662,2,    111.9,2,   113.1,2,  161.10,6,   38.80,6,    0.00,6,    2.57,2,-999.000,9,-999.000,9,-999.0000,9,  2357.5,2,  2429.4,2,   1375.4,2,    20.00,   7.5078,2,    25.00,-999.000,9,-999.0000,9, -999.00,9, -999.00,9,  -999.0,9,-999.000,9,-999.000,-999.000,9,-999.000,9,   35.80,2,   40.23,2, -999.00,9, -999.00,9, -999.00,9,-999.000,-999.0000,9,-999.0000,9,-999.0000,9,-999.0000,9,-999.0000,9,-999.0000,9,-999.0000,9,-999.0000,9,-999.0000,9,   1.5645,     -999.0,9,     -999.0,9,     -999.0,9,     -999.0,9,     -999.0,9,     -999.0,9,     -999.0,9,-999.0000, -999.00
33RO20071215,        P18,       9,          1,          1,      11001,3,20071219,       1218,    19.6665,  -110.0000,       3317,  3334.8,   1.6958,  34.6724,2,  34.6723,2,    119.6,2,   120.9,2,  164.40,2,   38.40,2,    0.00,2,    2.53,2,   0.007,6,   0.007,6,   0.0000,6,  2355.3,6,  2432.1,2,   1332.5,2,    20.00,   7.5328,2,    25.00,-999.000,9,-999.0000,9, -999.00,9, -999.00,9,  -999.0,9,-999.000,9,-999.000,   0.004,3,-999.000,9,   36.31,2,   39.34,2, -999.00,9, -999.00,9, -999.00,9,-999.000,-999.0000,9,-999.0000,9,-999.0000,9,-999.0000,9,-999.0000,9,-999.0000,9,-999.0000,9,-999.0000,9,-999.0000,9,   1.4416,     -999.0,9,     -999.0,9,     -999.0,9,     -999.0,9,     -999.0,9,     -999.0,9,     -999.0,9,-999.0000, -999.00