BOTTLE,20220818CCHSIOAMB
EXPOCODE,SECT_ID,STNNBR,CASTNO,SAMPNO,BTLNBR,BTLNBR_FLAG_W,DATE,TIME,LATITUDE,LONGITUDE,DEPTH,CTDPRS,CTDTMP,CTDSAL,CTDSAL_FLAG_W,SALNTY,SALNTY_FLAG_W,CTDOXY,CTDOXY_FLAG_W,OXYGEN,OXYGEN_FLAG_W,SILCAT,SILCAT_FLAG_W,NITRAT,NITRAT_FLAG_W,NITRIT,NITRIT_FLAG_W,PHSPHT,PHSPHT_FLAG_W,CFC-11,CFC-11_FLAG_W,CFC-12,CFC-12_FLAG_W,SF6,SF6_FLAG_W,TCARBN,TCARBN_FLAG_W,ALKALI,ALKALI_FLAG_W,FCO2,FCO2_FLAG_W,FCO2TMP,PH_SWS,PH_SWS_FLAG_W,PH_TMP,TRITUM,TRITUM_FLAG_W,HELIUM,HELIUM_FLAG_W,DELHE3,DELHE3_FLAG_W,DELC13,DELC13_FLAG_W,DELC14,DELC14_FLAG_W,NEON,NEON_FLAG_W,NEONER,CCL4,CCL4_FLAG_W,POC,POC_FLAG_W,DOC,DOC_FLAG_W,TDN,TDN_FLAG_W,DON,DON_FLAG_W,CHLORA,CHLORA_FLAG_W,ARGON,ARGON_FLAG_W,TRITER,CDOM325,CDOM325_FLAG_W,CDOM340,CDOM340_FLAG_W,CDOM380,CDOM380_FLAG_W,CDOM412,CDOM412_FLAG_W,CDOM443,CDOM443_FLAG_W,CDOM490,CDOM490_FLAG_W,CDOM555,CDOM555_FLAG_W,CDOMSL,CDOMSL_FLAG_W,CDOMSN,CDOMSN_FLAG_W,THETA,D18O_NO3,D18O_NO3_FLAG_W,CDOM2C,CDOM2C_FLAG_W,CDOM3C,CDOM3C_FLAG_W,LAB_DEN,LAB_DEN_FLAG_W,DELSI30,DELSI30_FLAG_W,N2,N2_FLAG_W,D15N_NO3,D15N_NO3_FLAG_W,HELIER,DELHER
,,,,,,,,,,,METERS,DBAR,ITS-90,PSS-78,,PSS-78,,UMOL/KG,,UMOL/KG,,UMOL/KG,,UMOL/KG,,UMOL/KG,,UMOL/KG,,PMOL/KG,,PMOL/KG,,FMOL/KG,,UMOL/KG,,UMOL/KG,,UATM,,DEG C,,,DEG C,TU,,NMOL/KG,,PERCNT,,/MILLE,,/MILLE,,NMOL/KG,,NMOL/KG,PMOL/KG,,UG/KG,,UMOL/KG,,UMOL/KG,,UMOL/KG,,UG/KG,,UMOL/KG,,TU,1/M,,1/M,,1/M,,1/M,,1/M,,1/M,,1/M,,1/NM,,1/NM,,DEG C,/MILLE,,,,,,,,/MILLE,,UMOL/KG,,/MILLE,,NMOL/KG,PERCNT
33RO20071215,        P18,      89,          1,         36,      12017,2,20080114,       0031,   -22.8335,  -103.0002,       3956,     5.3,  22.9020,  36.0586,2,  36.0659,2,    217.7,2,   217.6,2,    0.80,2,    0.00,2,    0.00,2,    0.21,2,-999.000,9,-999.000,9,-999.0000,9,  2083.2,2,  2383.5,2,   -999.0,9,  -999.00,   8.0070,2,    25.00,-999.000,9,-999.0000,9, -999.00,9,    1.48,2,  -999.0,1,-999.000,9,-999.000,-999.000,9,-999.000,9,   65.75,2,    3.77,2, -999.00,1, -999.00,9, -999.00,9,-999.000,-999.0000,9,-999.0000,9,-999.0000,9,-999.0000,9,-999.0000,9,-999.0000,9,-999.0000,9,-999.0000,9,-999.0000,9,  22.9009,     -999.0,9,     -999.0,9,     -999.0,9,     -999.0,9,     -999.0,9,     -999.0,9,     -999.0,9,-999.0000, -999.00
33RO20071215,        P18,      89,          1,         35,      12029,2,20080114,       0031,   -22.8335,  -103.0002,       3956,    14.9,  22.8973,  36.0592,2,  36.0620,2,    217.9,2,   218.0,2,    0.90,2,    0.00,2,    0.00,2,    0.21,2,-999.000,9,-999.000,9,-999.0000,9,  2084.3,2,  2382.4,2,   -999.0,9,  -999.00,   8.0094,2,    25.00,-999.000,9,-999.0000,9, -999.00,9, -999.00,9,  -999.0,9,-999.000,9,-999.000,-999.000,9,-999.000,9,   64.78,2,    4.52,2, -999.00,1, -999.00,9, -999.00,9,-999.000,-999.0000,9,-999.0000,9,-999.0000,9,-999.0000,9,-999.0000,9,-999.0000,9,-999.0000,9,-999.0000,9,-999.0000,9,  22.8943,     -999.0,9,     -999.0,9,     -999.0,9,     -999.0,9,     -999.0,9,     -999.0,9,     -999.0,9,-999.0000, -999.00
33RO20071215,        P18,      89,          1,         34,      12049,2,20080114,       0031,   -22.8335,  -103.0002,       3956,    33.1,  22.4489,  36.1036,2,  36.1031,2,    220.3,2,   220.9,2,    0.90,2,    0.00,2,    0.00,2,    0.20,2,-999.000,9,-999.000,9,-999.0000,9,  2084.5,2,  2385.9,2,   -999.0,9,  -999.00,   8.0156,2,    25.00,-999.000,9,-999.0000,9, -999.00,9, -999.00,9,  -999.0,9,-999.000,9,-999.000,-999.000,9,-999.000,9,   64.74,2,    4.28,2, -999.00,1, -999.00,9, -999.00,9,-999.000,-999.0000,9,-999.0000,9,-999.0000,9,-999.0000,9,-999.0000,9,-999.0000,9,-999.0000,9,-999.0000,9,-999.0000,9,  22.4423,     -999.0,9,     -999.0,9,     -999.0,9,     -999.0,9,     -999.0,9,     -999.0,9,     -999.0,9,-999.0000, -999.00
33RO20071215,        P18,      89,          1,         33,      12027,2,20080114,       0031,   -22.8335,  -103.0002,       3956,    58.7,  21.6380,  36.0582,2,  36.0588,2,    226.2,2,   226.4,2,    0.90,2,    0.00,2,    0.00,2,    0.21,2,-999.000,9,-999.000,9,-999.0000,9,  2080.1,2,  2387.1,2,   -999.0,9,  -999.00,   8.0039,2,    25.00,-999.000,9,-999.0000,9, -999.00,9, -999.00,9,  -999.0,9,-999.000,9,-999.000,-999.000,9,-999.000,9,   64.13,2,    4.04,2, -999.00,1, -999.00,9, -999.00,9,-999.000,-999.0000,9,-999.0000,9,-999.0000,9,-999.0000,9,-999.0000,9,-999.0000,9,-999.0000,9,-999.0000,9,-999.0000,9,  21.6265,     -999.0,9,     -999.0,9,     -999.0,9,     -999.0,9,     -999.0,9,     -999.0,9,     -999.0,9,-999.0000, -999.00
33RO20071215,        P18,      89,          1,         32,      12023,2,20080114,       0031,   -22.8335,  -103.0002,       3956,    80.2,  21.3912,  36.0380,2,  36.0362,2,    226.5,2,   226.9,2,    0.80,2,    0.00,2,    0.00,2,    0.18,2,-999.000,9,-999.000,9,-999.0000,9,  2077.4,2,  2382.5,2,   -999.0,9,  -999.00,   8.0890,2,    25.00,-999.000,9,-999.0000,9, -999.00,9, -999.00,9,  -999.0,9,-999.000,9,-999.000,-999.000,9,-999.000,9,   62.60,2,    4.31,2, -999.00,1, -999.00,9, -999.00,9,-999.000,-999.0000,9,-999.0000,9,-999.0000,9,-999.0000,9,-999.0000,9,-999.0000,9,-999.0000,9,-999.0000,9,-999.0000,9,  21.3756,     -999.0,9,     -999.0,9,     -999.0,9,     -999.0,9,     -999.0,9,     -999.0,9,     -999.0,9,-999.0000, -999.00
33RO20071215,        P18,      89,          1,         31,      12037,2,20080114,       0031,   -22.8335,  -103.0002,       3956,   108.3,  20.7896,  35.9624,2,  35.9635,2,    227.3,2,   227.1,2,    0.80,2,    0.00,2,    0.00,2,    0.17,2,-999.000,9,-999.000,9,-999.0000,9,  2076.0,2,  2376.1,2,   -999.0,9,  -999.00,   8.0120,2,    25.00,-999.000,9,-999.0000,9, -999.00,9, -999.00,9,  -999.0,9,-999.000,9,-999.000,-999.000,9,-999.000,9,   62.13,2,    4.45,2, -999.00,1, -999.00,9, -999.00,9,-999.000,-999.0000,9,-999.0000,9,-999.0000,9,-999.0000,9,-999.0000,9,-999.0000,9,-999.0000,9,-999.0000,9,-999.0000,9,  20.7689,     -999.0,9,     -999.0,9,     -999.0,9,     -999.0,9,     -999.0,9,     -999.0,9,     -999.0,9,-999.0000, -999.00
33RO20071215,        P18,      89,          1,         30,      12036,2,20080114,       0031,   -22.8335,  -103.0002,       3956,   132.6,  20.4078,  35.8878,2,  35.8953,2,    224.7,2,   226.6,2,    0.70,2,    0.00,2,    0.00,2,    0.18,2,-999.000,9,-999.000,9,-999.0000,9,  2075.6,2,  2366.3,2,   -999.0,9,  -999.00,   7.9892,2,    25.00,-999.000,9,-999.0000,9, -999.00,9, -999.00,9,  -999.0,9,-999.000,9,-999.000,-999.000,9,-999.000,9,   61.81,2,    3.78,2, -999.00,1, -999.00,9, -999.00,9,-999.000,-999.0000,9,-999.0000,9,-999.0000,9,-999.0000,9,-999.0000,9,-999.0000,9,-999.0000,9,-999.0000,9,-999.0000,9,  20.3828,     -999.0,9,     -999.0,9,     -999.0,9,     -999.0,9,     -999.0,9,     -999.0,9,     -999.0,9,-999.0000, -999.00
33RO20071215,        P18,      89,          1,         29,      12044,2,20080114,       0031,   -22.8335,  -103.0002,       3956,   159.0,  19.9977,  35.8041,2,  35.8137,2,    224.4,2,   224.7,2,    0.70,2,    0.00,2,    0.01,2,    0.19,2,-999.000,9,-999.000,9,-999.0000,9,  2115.9,4,  2362.1,2,   -999.0,9,  -999.00,   7.9898,2,    25.00,-999.000,9,-999.0000,9, -999.00,9, -999.00,9,  -999.0,9,-999.000,9,-999.000,-999.000,9,-999.000,9,   61.66,2,    3.86,2, -999.00,1, -999.00,9, -999.00,9,-999.000,-999.0000,9,-999.0000,9,-999.0000,9,-999.0000,9,-999.0000,9,-999.0000,9,-999.0000,9,-999.0000,9,-999.0000,9,  19.9682,     -999.0,9,     -999.0,9,     -999.0,9,     -999.0,9,     -999.0,9,     -999.0,9,     -999.0,9,-999.0000, -999.00
33RO20071215,        P18,      89,          1,         28,      12057,2,20080114,       0031,   -22.8335,  -103.0002,       3956,   184.4,  19.8165,  35.7704,2,  35.7797,2,    221.0,2,   230.4,3,    0.80,2,    0.10,2,    0.09,2,    0.20,2,-999.000,9,-999.000,9,-999.0000,9,  2106.4,4,  2355.4,2,   -999.0,9,  -999.00,   7.9881,2,    25.00,-999.000,9,-999.0000,9, -999.00,9, -999.00,9,  -999.0,9,-999.000,9,-999.000,-999.000,9,-999.000,9,   60.99,2,    4.65,2, -999.00,1, -999.00,9, -999.00,9,-999.000,-999.0000,9,-999.0000,9,-999.0000,9,-999.0000,9,-999.0000,9,-999.0000,9,-999.0000,9,-999.0000,9,-999.0000,9,  19.7825,     -999.0,9,     -999.0,9,     -999.0,9,     -999.0,9,     -999.0,9,     -999.0,9,     -999.0,9,-999.0000, -999.00
33RO20071215,        P18,      89,          1,         27,      12026,2,20080114,       0031,   -22.8335,  -103.0002,       3956,   202.2,  19.6284,  35.7324,2,  35.7302,2,    220.9,2,   221.3,2,    0.80,2,    0.20,2,    0.14,2,    0.21,2,-999.000,9,-999.000,9,-999.0000,9,  2076.2,2,  -999.0,9,   -999.0,9,  -999.00,   7.9903,2,    25.00,-999.000,9,-999.0000,9, -999.00,9, -999.00,9,  -999.0,9,-999.000,9,-999.000,-999.000,9,-999.000,9,   59.31,2,    4.37,2, -999.00,1, -999.00,9, -999.00,9,-999.000,-999.0000,9,-999.0000,9,-999.0000,9,-999.0000,9,-999.0000,9,-999.0000,9,-999.0000,9,-999.0000,9,-999.0000,9,  19.5913,     -999.0,9,     -999.0,9,     -999.0,9,     -999.0,9,     -999.0,9,     -999.0,9,     -999.0,9,-999.0000, -999.00
33RO20071215,        P18,      89,          1,         26,      12030,2,20080114,       0031,   -22.8335,  -103.0002,       3956,   225.3,  19.2376,  35.6468,2,  35.6461,2,    219.6,2,   220.1,2,    0.90,2,    0.40,2,    0.19,2,    0.21,2,-999.000,9,-999.000,9,-999.0000,9,  2073.2,2,  2355.1,2,   -999.0,9,  -999.00,   7.9734,2,    25.00,-999.000,9,-999.0000,9, -999.00,9, -999.00,9,  -999.0,9,-999.000,9,-999.000,-999.000,9,-999.000,9,   50.79,2,    4.08,2, -999.00,1, -999.00,9, -999.00,9,-999.000,-999.0000,9,-999.0000,9,-999.0000,9,-999.0000,9,-999.0000,9,-999.0000,9,-999.0000,9,-999.0000,9,-999.0000,9,  19.1968,     -999.0,9,     -999.0,9,     -999.0,9,     -999.0,9,     -999.0,9,     -999.0,9,     -999.0,9,-999.0000, -999.00
33RO20071215,        P18,      89,          1,         25,      12024,2,20080114,       0031,   -22.8335,  -103.0002,       3956,   316.8,  12.9024,  34.5538,2,  34.5580,2,    190.4,2,   190.3,2,    3.20,2,   11.70,2,    0.00,2,    0.94,2,-999.000,9,-999.000,9,-999.0000,9,  2107.3,2,  -999.0,9,   -999.0,9,  -999.00,   7.7880,2,    25.00,-999.000,9,-999.0000,9, -999.00,9, -999.00,9,  -999.0,9,-999.000,9,-999.000,-999.000,9,-999.000,9,   44.12,2,   13.12,2, -999.00,1, -999.00,9, -999.00,9,-999.000,-999.0000,9,-999.0000,9,-999.0000,9,-999.0000,9,-999.0000,9,-999.0000,9,-999.0000,9,-999.0000,9,-999.0000,9,  12.8590,     -999.0,9,     -999.0,9,     -999.0,9,     -999.0,9,     -999.0,9,     -999.0,9,     -999.0,9,-999.0000, -999.00
33RO20071215,        P18,      89,          1,         24,      12019,4,20080114,       0031,   -22.8335,  -103.0002,       3956,   351.0,  11.2129,  34.4324,2,  36.0566,4,    168.6,2,   226.7,4,    0.90,3,    0.00,3,    0.00,3,    0.23,3,-999.000,9,-999.000,9,-999.0000,9,  -999.0,9,  -999.0,9,   -999.0,9,  -999.00,-999.0000,9,  -999.00,-999.000,9,-999.0000,9, -999.00,9, -999.00,9,  -999.0,9,-999.000,9,-999.000,-999.000,9,-999.000,9, -999.00,9, -999.00,9, -999.00,9, -999.00,9, -999.00,9,-999.000,-999.0000,9,-999.0000,9,-999.0000,9,-999.0000,9,-999.0000,9,-999.0000,9,-999.0000,9,-999.0000,9,-999.0000,9,  11.1691,     -999.0,9,     -999.0,9,     -999.0,9,     -999.0,9,     -999.0,9,     -999.0,9,     -999.0,9,-999.0000, -999.00
33RO20071215,        P18,      89,          1,         23,      12022,2,20080114,       0031,   -22.8335,  -103.0002,       3956,   434.0,   8.5943,  34.4325,2,  34.4330,2,    104.7,2,   101.3,2,   17.20,2,   29.50,2,    0.00,2,    2.30,2,-999.000,9,-999.000,9,-999.0000,9,  2216.9,6,  2283.3,2,   -999.0,9,  -999.00,   7.5036,2,    25.00,-999.000,9,-999.0000,9, -999.00,9, -999.00,9,  -999.0,9,-999.000,9,-999.000,-999.000,9,-999.000,9,   42.93,2,   30.32,2, -999.00,1, -999.00,9, -999.00,9,-999.000,-999.0000,9,-999.0000,9,-999.0000,9,-999.0000,9,-999.0000,9,-999.0000,9,-999.0000,9,-999.0000,9,-999.0000,9,   8.5482,     -999.0,9,     -999.0,9,     -999.0,9,     -999.0,9,     -999.0,9,     -999.0,9,     -999.0,9,-999.0000, -999.00
33RO20071215,        P18,      89,          1,         22,      12015,2,20080114,       0031,   -22.8335,  -103.0002,       3956,   533.3,   6.7648,  34.3772,2,  34.3772,2,    142.7,2,   142.1,2,   18.50,2,   31.80,2,    0.00,2,    2.27,2,-999.000,9,-999.000,9,-999.0000,9,  2205.8,2,  -999.0,9,   -999.0,9,  -999.00,   7.5402,2,    25.00,-999.000,9,-999.0000,9, -999.00,9, -999.00,9,  -999.0,9,-999.000,9,-999.000,-999.000,9,-999.000,9,   41.46,2,   32.68,2, -999.00,1, -999.00,9, -999.00,9,-999.000,-999.0000,9,-999.0000,9,-999.0000,9,-999.0000,9,-999.0000,9,-999.0000,9,-999.0000,9,-999.0000,9,-999.0000,9,   6.7151,     -999.0,9,     -999.0,9,     -999.0,9,     -999.0,9,     -999.0,9,     -999.0,9,     -999.0,9,-999.0000, -999.00
33RO20071215,        P18,      89,          1,         21,      12020,2,20080114,       0031,   -22.8335,  -103.0002,       3956,   635.6,   5.8480,  34.3461,2,  34.3454,2,    164.2,2,   163.4,2,   21.60,2,   32.40,2,    0.00,2,    2.26,2,-999.000,9,-999.000,9,-999.0000,9,  2198.8,2,  -999.0,9,   -999.0,9,  -999.00,   7.5794,2,    25.00,-999.000,9,-999.0000,9, -999.00,9, -999.00,9,  -999.0,9,-999.000,9,-999.000,-999.000,9,-999.000,9,   40.29,2,   33.29,2, -999.00,1, -999.00,9, -999.00,9,-999.000,-999.0000,9,-999.0000,9,-999.0000,9,-999.0000,9,-999.0000,9,-999.0000,9,-999.0000,9,-999.0000,9,-999.0000,9,   5.7927,     -999.0,9,     -999.0,9,     -999.0,9,     -999.0,9,     -999.0,9,     -999.0,9,     -999.0,9,-999.0000, -999.00
33RO20071215,        P18,      89,          1,         20,      12055,2,20080114,       0031,   -22.8335,  -103.0002,       3956,   730.2,   5.2529,  34.3602,2,  34.3596,2,    145.8,2,   148.3,2,   31.20,2,   34.90,2,    0.00,2,    2.44,2,-999.000,9,-999.000,9,-999.0000,9,  2216.9,2,  2291.1,2,   -999.0,9,  -999.00,   7.5329,2,    25.00,-999.000,9,-999.0000,9, -999.00,9, -999.00,9,  -999.0,9,-999.000,9,-999.000,-999.000,9,-999.000,9,   39.61,2,   36.23,2, -999.00,1, -999.00,9, -999.00,9,-999.000,-999.0000,9,-999.0000,9,-999.0000,9,-999.0000,9,-999.0000,9,-999.0000,9,-999.0000,9,-999.0000,9,-999.0000,9,   5.1923,     -999.0,9,     -999.0,9,     -999.0,9,     -999.0,9,     -999.0,9,     -999.0,9,     -999.0,9,-999.0000, -999.00
33RO20071215,        P18,      89,          1,         19,      12018,2,20080114,       0031,   -22.8335,  -103.0002,       3956,   832.5,   4.6066,  34.4008,2,  34.3992,2,    130.5,2,   130.5,2,   46.30,2,   37.20,2,    0.00,2,    2.62,2,-999.000,9,-999.000,9,-999.0000,9,  2241.3,2,  -999.0,9,   -999.0,9,  -999.00,   7.5351,2,    25.00,-999.000,9,-999.0000,9, -999.00,9, -999.00,9,  -999.0,9,-999.000,9,-999.000,-999.000,9,-999.000,9,   39.02,2,   38.31,2, -999.00,1, -999.00,9, -999.00,9,-999.000,-999.0000,9,-999.0000,9,-999.0000,9,-999.0000,9,-999.0000,9,-999.0000,9,-999.0000,9,-999.0000,9,-999.0000,9,   4.5409,     -999.0,9,     -999.0,9,     -999.0,9,     -999.0,9,     -999.0,9,     -999.0,9,     -999.0,9,-999.0000, -999.00
33RO20071215,        P18,      89,          1,         18,      12025,2,20080114,       0031,   -22.8335,  -103.0002,       3956,   933.4,   4.2074,  34.4383,2,  34.4381,2,    128.7,2,   128.1,2,   57.40,2,   37.60,2,    0.00,2,    2.65,2,-999.000,9,-999.000,9,-999.0000,9,  -999.0,9,  -999.0,9,   -999.0,9,  -999.00,-999.0000,9,  -999.00,-999.000,9,-999.0000,9, -999.00,9, -999.00,9,  -999.0,9,-999.000,9,-999.000,-999.000,9,-999.000,9,   38.42,2,   38.91,2, -999.00,1, -999.00,9, -999.00,9,-999.000,-999.0000,9,-999.0000,9,-999.0000,9,-999.0000,9,-999.0000,9,-999.0000,9,-999.0000,9,-999.0000,9,-999.0000,9,   4.1358,     -999.0,9,     -999.0,9,     -999.0,9,     -999.0,9,     -999.0,9,     -999.0,9,     -999.0,9,-999.0000, -999.00
33RO20071215,        P18,      89,          1,         17,      12016,2,20080114,       0031,   -22.8335,  -103.0002,       3956,  1033.2,   4.0058,  34.4895,2,  34.4889,2,    124.8,2,   124.3,2,   69.20,2,   37.60,2,    0.00,2,    2.67,2,-999.000,9,-999.000,9,-999.0000,9,  2263.5,2,  2330.0,2,   -999.0,9,  -999.00,   7.5218,2,    25.00,-999.000,9,-999.0000,9, -999.00,9, -999.00,9,  -999.0,9,-999.000,9,-999.000,-999.000,9,-999.000,9,   37.71,2,   39.31,2, -999.00,1, -999.00,9, -999.00,9,-999.000,-999.0000,9,-999.0000,9,-999.0000,9,-999.0000,9,-999.0000,9,-999.0000,9,-999.0000,9,-999.0000,9,-999.0000,9,   3.9274,     -999.0,9,     -999.0,9,     -999.0,9,     -999.0,9,     -999.0,9,     -999.0,9,     -999.0,9,-999.0000, -999.00
33RO20071215,        P18,      89,          1,         16,      12051,2,20080114,       0031,   -22.8335,  -103.0002,       3956,  1134.2,   3.7734,  34.5190,2,  34.5199,2,    124.3,2,   123.3,2,   78.40,2,   37.70,2,    0.00,2,    2.67,2,-999.000,9,-999.000,9,-999.0000,9,  -999.0,9,  -999.0,9,   -999.0,9,  -999.00,-999.0000,9,  -999.00,-999.000,9,-999.0000,9, -999.00,9, -999.00,9,  -999.0,9,-999.000,9,-999.000,-999.000,9,-999.000,9,   37.69,2,   39.17,2, -999.00,1, -999.00,9, -999.00,9,-999.000,-999.0000,9,-999.0000,9,-999.0000,9,-999.0000,9,-999.0000,9,-999.0000,9,-999.0000,9,-999.0000,9,-999.0000,9,   3.6884,     -999.0,9,     -999.0,9,     -999.0,9,     -999.0,9,     -999.0,9,     -999.0,9,     -999.0,9,-999.0000, -999.00
33RO20071215,        P18,      89,          1,         15,      12014,2,20080114,       0031,   -22.8335,  -103.0002,       3956,  1234.3,   3.5190,  34.5390,2,  34.5396,2,    124.2,2,   123.9,2,   85.40,2,   37.70,2,    0.00,2,    2.68,2,-999.000,9,-999.000,9,-999.0000,9,  -999.0,9,  -999.0,9,   -999.0,9,  -999.00,-999.0000,9,  -999.00,-999.000,9,-999.0000,9, -999.00,9, -999.00,9,  -999.0,9,-999.000,9,-999.000,-999.000,9,-999.000,9,   37.26,2,   38.85,2, -999.00,1, -999.00,9, -999.00,9,-999.000,-999.0000,9,-999.0000,9,-999.0000,9,-999.0000,9,-999.0000,9,-999.0000,9,-999.0000,9,-999.0000,9,-999.0000,9,   3.4279,     -999.0,9,     -999.0,9,     -999.0,9,     -999.0,9,     -999.0,9,     -999.0,9,     -999.0,9,-999.0000, -999.00
33RO20071215,        P18,      89,          1,         14,      12013,2,20080114,       0031,   -22.8335,  -103.0002,       3956,  1333.1,   3.2603,  34.5525,2,  34.5525,2,    126.3,2,   125.6,2,   91.10,2,   37.70,2,    0.00,2,    2.68,2,-999.000,9,-999.000,9,-999.0000,9,  -999.0,9,  -999.0,9,   -999.0,9,  -999.00,-999.0000,9,  -999.00,-999.000,9,-999.0000,9, -999.00,9, -999.00,9,  -999.0,9,-999.000,9,-999.000,-999.000,9,-999.000,9,   36.68,2,   39.16,2, -999.00,1, -999.00,9, -999.00,9,-999.000,-999.0000,9,-999.0000,9,-999.0000,9,-999.0000,9,-999.0000,9,-999.0000,9,-999.0000,9,-999.0000,9,-999.0000,9,   3.1636,     -999.0,9,     -999.0,9,     -999.0,9,     -999.0,9,     -999.0,9,     -999.0,9,     -999.0,9,-999.0000, -999.00
33RO20071215,        P18,      89,          1,         13,      12012,2,20080114,       0031,   -22.8335,  -103.0002,       3956,  1463.4,   2.9675,  34.5692,2,  34.5694,2,    129.3,2,   129.9,2,   97.50,2,   37.60,2,    0.00,2,    2.66,2,-999.000,9,-999.000,9,-999.0000,9,  2290.7,2,  2363.3,2,   -999.0,9,  -999.00,   7.5323,2,    25.00,-999.000,9,-999.0000,9, -999.00,9, -999.00,9,  -999.0,9,-999.000,9,-999.000,-999.000,9,-999.000,9,   36.42,2,   39.14,2, -999.00,1, -999.00,9, -999.00,9,-999.000,-999.0000,9,-999.0000,9,-999.0000,9,-999.0000,9,-999.0000,9,-999.0000,9,-999.0000,9,-999.0000,9,-999.0000,9,   2.8631,     -999.0,9,     -999.0,9,     -999.0,9,     -999.0,9,     -999.0,9,     -999.0,9,     -999.0,9,-999.0000, -999.00
33RO20071215,        P18,      89,          1,         12,      12031,2,20080114,       0031,   -22.8335,  -103.0002,       3956,  1668.5,   2.5567,  34.5976,2,  34.5983,2,    137.2,2,   137.5,2,  105.90,2,   37.00,2,    0.00,2,    2.62,2,-999.000,9,-999.000,9,-999.0000,9,  -999.0,9,  -999.0,9,   -999.0,9,  -999.00,-999.0000,9,  -999.00,-999.000,9,-999.0000,9, -999.00,9, -999.00,9,  -999.0,9,-999.000,9,-999.000,-999.000,9,-999.000,9,   36.12,2,   38.37,2, -999.00,1, -999.00,9, -999.00,9,-999.000,-999.0000,9,-999.0000,9,-999.0000,9,-999.0000,9,-999.0000,9,-999.0000,9,-999.0000,9,-999.0000,9,-999.0000,9,   2.4402,     -999.0,9,     -999.0,9,     -999.0,9,     -999.0,9,     -999.0,9,     -999.0,9,     -999.0,9,-999.0000, -999.00