BOTTLE,20220818CCHSIOAMB
EXPOCODE,SECT_ID,STNNBR,CASTNO,SAMPNO,BTLNBR,BTLNBR_FLAG_W,DATE,TIME,LATITUDE,LONGITUDE,DEPTH,CTDPRS,CTDTMP,CTDSAL,CTDSAL_FLAG_W,SALNTY,SALNTY_FLAG_W,CTDOXY,CTDOXY_FLAG_W,OXYGEN,OXYGEN_FLAG_W,SILCAT,SILCAT_FLAG_W,NITRAT,NITRAT_FLAG_W,NITRIT,NITRIT_FLAG_W,PHSPHT,PHSPHT_FLAG_W,CFC-11,CFC-11_FLAG_W,CFC-12,CFC-12_FLAG_W,SF6,SF6_FLAG_W,TCARBN,TCARBN_FLAG_W,ALKALI,ALKALI_FLAG_W,FCO2,FCO2_FLAG_W,FCO2TMP,PH_SWS,PH_SWS_FLAG_W,PH_TMP,TRITUM,TRITUM_FLAG_W,HELIUM,HELIUM_FLAG_W,DELHE3,DELHE3_FLAG_W,DELC13,DELC13_FLAG_W,DELC14,DELC14_FLAG_W,NEON,NEON_FLAG_W,NEONER,CCL4,CCL4_FLAG_W,POC,POC_FLAG_W,DOC,DOC_FLAG_W,TDN,TDN_FLAG_W,DON,DON_FLAG_W,CHLORA,CHLORA_FLAG_W,ARGON,ARGON_FLAG_W,TRITER,CDOM325,CDOM325_FLAG_W,CDOM340,CDOM340_FLAG_W,CDOM380,CDOM380_FLAG_W,CDOM412,CDOM412_FLAG_W,CDOM443,CDOM443_FLAG_W,CDOM490,CDOM490_FLAG_W,CDOM555,CDOM555_FLAG_W,CDOMSL,CDOMSL_FLAG_W,CDOMSN,CDOMSN_FLAG_W,THETA,D18O_NO3,D18O_NO3_FLAG_W,CDOM2C,CDOM2C_FLAG_W,CDOM3C,CDOM3C_FLAG_W,LAB_DEN,LAB_DEN_FLAG_W,DELSI30,DELSI30_FLAG_W,N2,N2_FLAG_W,D15N_NO3,D15N_NO3_FLAG_W,HELIER,DELHER
,,,,,,,,,,,METERS,DBAR,ITS-90,PSS-78,,PSS-78,,UMOL/KG,,UMOL/KG,,UMOL/KG,,UMOL/KG,,UMOL/KG,,UMOL/KG,,PMOL/KG,,PMOL/KG,,FMOL/KG,,UMOL/KG,,UMOL/KG,,UATM,,DEG C,,,DEG C,TU,,NMOL/KG,,PERCNT,,/MILLE,,/MILLE,,NMOL/KG,,NMOL/KG,PMOL/KG,,UG/KG,,UMOL/KG,,UMOL/KG,,UMOL/KG,,UG/KG,,UMOL/KG,,TU,1/M,,1/M,,1/M,,1/M,,1/M,,1/M,,1/M,,1/NM,,1/NM,,DEG C,/MILLE,,,,,,,,/MILLE,,UMOL/KG,,/MILLE,,NMOL/KG,PERCNT
33RO20071215,        P18,      25,          1,         29,      12044,2,20071223,       2238,    10.3335,  -110.0002,       2467,     5.6,  27.4764,  32.9230,2,  32.9245,2,    205.3,2,   204.2,2,    1.20,2,    0.10,2,    0.00,2,    0.03,2,-999.000,9,-999.000,9,-999.0000,9,  1862.8,6,  2169.0,2,    266.2,2,    20.00,   8.1345,2,    25.00,-999.000,9,-999.0000,9, -999.00,9, -999.00,9,  -999.0,9,-999.000,9,-999.000,-999.000,9,-999.000,9, -999.00,9, -999.00,9, -999.00,9, -999.00,9, -999.00,9,-999.000,-999.0000,9,-999.0000,9,-999.0000,9,-999.0000,9,-999.0000,9,-999.0000,9,-999.0000,9,-999.0000,9,-999.0000,9,  27.4751,     -999.0,9,     -999.0,9,     -999.0,9,     -999.0,9,     -999.0,9,     -999.0,9,     -999.0,9,-999.0000, -999.00
33RO20071215,        P18,      25,          1,         28,      12057,2,20071223,       2238,    10.3335,  -110.0002,       2467,    10.8,  27.3560,  32.9318,2,  32.9327,2,    205.6,2,   204.2,2,    1.10,2,    0.10,2,    0.00,2,    0.04,2,-999.000,9,-999.000,9,-999.0000,9,  1864.1,2,  2170.7,2,    265.1,2,    20.00,   8.0927,2,    25.00,-999.000,9,-999.0000,9, -999.00,9, -999.00,9,  -999.0,1,-999.000,9,-999.000,-999.000,9,-999.000,9, -999.00,9, -999.00,9, -999.00,9, -999.00,9, -999.00,9,-999.000,-999.0000,9,-999.0000,9,-999.0000,9,-999.0000,9,-999.0000,9,-999.0000,9,-999.0000,9,-999.0000,9,-999.0000,9,  27.3536,     -999.0,9,     -999.0,9,     -999.0,9,     -999.0,9,     -999.0,9,     -999.0,9,     -999.0,9,-999.0000, -999.00
33RO20071215,        P18,      25,          1,         27,      12026,2,20071223,       2238,    10.3335,  -110.0002,       2467,    25.1,  27.2953,  32.9414,2,  32.9450,2,    205.8,2,   203.9,2,    1.20,2,    0.10,2,    0.00,2,    0.05,2,-999.000,9,-999.000,9,-999.0000,9,  1864.7,2,  2169.4,2,    266.0,2,    20.00,   8.0371,2,    25.00,-999.000,9,-999.0000,9, -999.00,9, -999.00,9,  -999.0,9,-999.000,9,-999.000,-999.000,9,-999.000,9, -999.00,9, -999.00,9, -999.00,9, -999.00,9, -999.00,9,-999.000,-999.0000,9,-999.0000,9,-999.0000,9,-999.0000,9,-999.0000,9,-999.0000,9,-999.0000,9,-999.0000,9,-999.0000,9,  27.2896,     -999.0,9,     -999.0,9,     -999.0,9,     -999.0,9,     -999.0,9,     -999.0,9,     -999.0,9,-999.0000, -999.00
33RO20071215,        P18,      25,          1,         26,      12030,2,20071223,       2238,    10.3335,  -110.0002,       2467,    42.3,  25.8605,  34.2370,2,  34.2393,2,    202.0,2,   198.1,2,    2.60,2,    0.80,2,    0.06,2,    0.20,2,-999.000,9,-999.000,9,-999.0000,9,  1973.6,2,  2255.8,2,    331.9,2,    20.00,   7.9994,2,    25.00,-999.000,9,-999.0000,9, -999.00,9,    1.14,2,  -999.0,1,-999.000,9,-999.000,-999.000,9,-999.000,9, -999.00,9, -999.00,9, -999.00,9, -999.00,9, -999.00,9,-999.000,-999.0000,9,-999.0000,9,-999.0000,9,-999.0000,9,-999.0000,9,-999.0000,9,-999.0000,9,-999.0000,9,-999.0000,9,  25.8511,     -999.0,9,     -999.0,9,     -999.0,9,     -999.0,9,     -999.0,9,     -999.0,9,     -999.0,9,-999.0000, -999.00
33RO20071215,        P18,      25,          1,         25,      12024,2,20071223,       2238,    10.3335,  -110.0002,       2467,    74.9,  18.4291,  34.6123,2,  34.6291,2,     56.7,2,    33.3,2,   15.50,2,   23.40,2,    0.69,2,    1.83,2,-999.000,9,-999.000,9,-999.0000,9,  2188.7,2,  2281.0,2,   1101.2,2,    20.00,   7.6054,2,    25.00,-999.000,9,-999.0000,9, -999.00,9, -999.00,9,  -999.0,9,-999.000,9,-999.000,-999.000,9,-999.000,9, -999.00,9, -999.00,9, -999.00,9, -999.00,9, -999.00,9,-999.000,-999.0000,9,-999.0000,9,-999.0000,9,-999.0000,9,-999.0000,9,-999.0000,9,-999.0000,9,-999.0000,9,-999.0000,9,  18.4161,     -999.0,9,     -999.0,9,     -999.0,9,     -999.0,9,     -999.0,9,     -999.0,9,     -999.0,9,-999.0000, -999.00
33RO20071215,        P18,      25,          1,         24,      12019,2,20071223,       2238,    10.3335,  -110.0002,       2467,   100.3,  13.3942,  34.7946,2,  34.8000,2,      4.1,2,     3.1,2,   25.10,2,   30.80,2,    0.02,2,    2.21,2,-999.000,9,-999.000,9,-999.0000,9,  2244.9,2,  2294.7,2,   1545.3,2,    20.00,   7.4571,2,    25.00,-999.000,9,-999.0000,9, -999.00,9,   -0.26,2,  -999.0,1,-999.000,9,-999.000,-999.000,9,-999.000,9, -999.00,9, -999.00,9, -999.00,9, -999.00,9, -999.00,9,-999.000,-999.0000,9,-999.0000,9,-999.0000,9,-999.0000,9,-999.0000,9,-999.0000,9,-999.0000,9,-999.0000,9,-999.0000,9,  13.3802,     -999.0,9,     -999.0,9,     -999.0,9,     -999.0,9,     -999.0,9,     -999.0,9,     -999.0,9,-999.0000, -999.00
33RO20071215,        P18,      25,          1,         23,      12022,2,20071223,       2238,    10.3335,  -110.0002,       2467,   125.1,  12.8297,  34.8058,2,  34.8053,2,      3.8,2,     3.0,2,   26.00,2,   31.30,2,    0.01,2,    2.20,2,-999.000,9,-999.000,9,-999.0000,9,  2247.6,2,  2296.8,2,   -999.0,9,  -999.00,   7.4529,2,    25.00,-999.000,9,-999.0000,9, -999.00,9,   -0.25,2,  -999.0,1,-999.000,9,-999.000,-999.000,9,-999.000,9, -999.00,9, -999.00,9, -999.00,9, -999.00,9, -999.00,9,-999.000,-999.0000,9,-999.0000,9,-999.0000,9,-999.0000,9,-999.0000,9,-999.0000,9,-999.0000,9,-999.0000,9,-999.0000,9,  12.8127,     -999.0,9,     -999.0,9,     -999.0,9,     -999.0,9,     -999.0,9,     -999.0,9,     -999.0,9,-999.0000, -999.00
33RO20071215,        P18,      25,          1,         22,      12015,2,20071223,       2238,    10.3335,  -110.0002,       2467,   150.5,  12.3542,  34.7960,2,  34.7963,2,      5.4,2,     5.8,2,   26.90,2,   32.00,2,    0.01,2,    2.18,2,-999.000,9,-999.000,9,-999.0000,9,  2249.4,2,  2295.6,2,   1560.5,2,    20.00,   7.4457,2,    25.00,-999.000,9,-999.0000,9, -999.00,9, -999.00,9,  -999.0,9,-999.000,9,-999.000,-999.000,9,-999.000,9, -999.00,9, -999.00,9, -999.00,9, -999.00,9, -999.00,9,-999.000,-999.0000,9,-999.0000,9,-999.0000,9,-999.0000,9,-999.0000,9,-999.0000,9,-999.0000,9,-999.0000,9,-999.0000,9,  12.3343,     -999.0,9,     -999.0,9,     -999.0,9,     -999.0,9,     -999.0,9,     -999.0,9,     -999.0,9,-999.0000, -999.00
33RO20071215,        P18,      25,          1,         21,      12020,2,20071223,       2238,    10.3335,  -110.0002,       2467,   175.3,  12.0324,  34.7869,2,  34.7868,2,      6.2,2,     7.1,2,   27.60,2,   32.20,2,    0.01,2,    2.18,2,-999.000,9,-999.000,9,-999.0000,9,  2251.1,2,  2295.8,2,   -999.0,9,  -999.00,   7.4449,2,    25.00,-999.000,9,-999.0000,9, -999.00,9,   -0.21,2,  -999.0,1,-999.000,9,-999.000,-999.000,9,-999.000,9, -999.00,9, -999.00,9, -999.00,9, -999.00,9, -999.00,9,-999.000,-999.0000,9,-999.0000,9,-999.0000,9,-999.0000,9,-999.0000,9,-999.0000,9,-999.0000,9,-999.0000,9,-999.0000,9,  12.0096,     -999.0,9,     -999.0,9,     -999.0,9,     -999.0,9,     -999.0,9,     -999.0,9,     -999.0,9,-999.0000, -999.00
33RO20071215,        P18,      25,          1,         20,      12055,2,20071223,       2238,    10.3335,  -110.0002,       2467,   200.4,  11.8592,  34.7798,2,  34.7794,2,      6.1,2,     6.7,2,   28.30,2,   32.30,2,    0.01,2,    2.17,2,-999.000,9,-999.000,9,-999.0000,9,  2254.5,2,  -999.0,9,   1600.0,2,    20.00,-999.0000,9,  -999.00,-999.000,9,-999.0000,9, -999.00,9,   -0.21,2,  -999.0,1,-999.000,9,-999.000,-999.000,9,-999.000,9, -999.00,9, -999.00,9, -999.00,9, -999.00,9, -999.00,9,-999.000,-999.0000,9,-999.0000,9,-999.0000,9,-999.0000,9,-999.0000,9,-999.0000,9,-999.0000,9,-999.0000,9,-999.0000,9,  11.8333,     -999.0,9,     -999.0,9,     -999.0,9,     -999.0,9,     -999.0,9,     -999.0,9,     -999.0,9,-999.0000, -999.00
33RO20071215,        P18,      25,          1,         19,      12018,2,20071223,       2238,    10.3335,  -110.0002,       2467,   251.7,  11.0987,  34.7432,2,  34.7424,2,      5.8,2,     6.1,2,   31.20,2,   32.00,2,    0.01,2,    2.19,2,-999.000,9,-999.000,9,-999.0000,9,  2264.4,2,  2300.2,2,   1678.2,2,    20.00,   7.4200,2,    25.00,-999.000,9,-999.0000,9, -999.00,9,   -0.17,2,  -999.0,1,-999.000,9,-999.000,-999.000,9,-999.000,9, -999.00,9, -999.00,9, -999.00,9, -999.00,9, -999.00,9,-999.000,-999.0000,9,-999.0000,9,-999.0000,9,-999.0000,9,-999.0000,9,-999.0000,9,-999.0000,9,-999.0000,9,-999.0000,9,  11.0675,     -999.0,9,     -999.0,9,     -999.0,9,     -999.0,9,     -999.0,9,     -999.0,9,     -999.0,9,-999.0000, -999.00
33RO20071215,        P18,      25,          1,         18,      12025,2,20071223,       2238,    10.3335,  -110.0002,       2467,   301.1,  10.7525,  34.7278,2,  34.7271,2,      5.2,2,     5.7,2,   33.00,6,   31.50,6,    0.01,6,    2.42,2,-999.000,9,-999.000,9,-999.0000,9,  2269.9,2,  -999.0,9,   -999.0,9,  -999.00,-999.0000,9,  -999.00,-999.000,9,-999.0000,9, -999.00,9, -999.00,9,  -999.0,9,-999.000,9,-999.000,-999.000,9,-999.000,9, -999.00,9, -999.00,9, -999.00,9, -999.00,9, -999.00,9,-999.000,-999.0000,9,-999.0000,9,-999.0000,9,-999.0000,9,-999.0000,9,-999.0000,9,-999.0000,9,-999.0000,9,-999.0000,9,  10.7159,     -999.0,9,     -999.0,9,     -999.0,9,     -999.0,9,     -999.0,9,     -999.0,9,     -999.0,9,-999.0000, -999.00
33RO20071215,        P18,      25,          1,         17,      12016,2,20071223,       2238,    10.3335,  -110.0002,       2467,   349.8,  10.1603,  34.6930,2,  34.6930,2,      2.5,2,     2.2,2,   37.40,6,   30.40,6,    0.01,6,    2.56,2,-999.000,9,-999.000,9,-999.0000,9,  2281.1,2,  2306.2,2,   1833.6,2,    20.00,   7.3897,2,    25.00,-999.000,9,-999.0000,9, -999.00,9,   -0.19,2,  -999.0,1,-999.000,9,-999.000,-999.000,9,-999.000,9, -999.00,9, -999.00,9, -999.00,9, -999.00,9, -999.00,9,-999.000,-999.0000,9,-999.0000,9,-999.0000,9,-999.0000,9,-999.0000,9,-999.0000,9,-999.0000,9,-999.0000,9,-999.0000,9,  10.1191,     -999.0,9,     -999.0,9,     -999.0,9,     -999.0,9,     -999.0,9,     -999.0,9,     -999.0,9,-999.0000, -999.00
33RO20071215,        P18,      25,          1,         16,      12051,2,20071223,       2238,    10.3335,  -110.0002,       2467,   401.0,   9.2338,  34.6430,2,  34.6428,2,      2.4,2,     1.8,2,   44.90,6,   29.60,6,    0.69,6,    2.73,2,-999.000,9,-999.000,9,-999.0000,9,  2293.6,2,  -999.0,9,   -999.0,9,  -999.00,-999.0000,9,  -999.00,-999.000,9,-999.0000,9, -999.00,9,   -0.22,2,  -999.0,1,-999.000,9,-999.000,-999.000,9,-999.000,9, -999.00,9, -999.00,9, -999.00,9, -999.00,9, -999.00,9,-999.000,-999.0000,9,-999.0000,9,-999.0000,9,-999.0000,9,-999.0000,9,-999.0000,9,-999.0000,9,-999.0000,9,-999.0000,9,   9.1892,     -999.0,9,     -999.0,9,     -999.0,9,     -999.0,9,     -999.0,9,     -999.0,9,     -999.0,9,-999.0000, -999.00
33RO20071215,        P18,      25,          1,         15,      12014,2,20071223,       2238,    10.3335,  -110.0002,       2467,   499.6,   8.1122,  34.5986,2,  34.5973,2,      2.4,2,     2.0,2,   54.90,6,   33.00,6,    0.48,6,    2.90,2,-999.000,9,-999.000,9,-999.0000,9,  2307.3,2,  2323.2,2,   -999.0,9,  -999.00,   7.3580,2,    25.00,-999.000,9,-999.0000,9, -999.00,9,   -0.23,2,  -999.0,1,-999.000,9,-999.000,-999.000,9,-999.000,9, -999.00,9, -999.00,9, -999.00,9, -999.00,9, -999.00,9,-999.000,-999.0000,9,-999.0000,9,-999.0000,9,-999.0000,9,-999.0000,9,-999.0000,9,-999.0000,9,-999.0000,9,-999.0000,9,   8.0605,     -999.0,9,     -999.0,9,     -999.0,9,     -999.0,9,     -999.0,9,     -999.0,9,     -999.0,9,-999.0000, -999.00
33RO20071215,        P18,      25,          1,         14,      12013,2,20071223,       2238,    10.3335,  -110.0002,       2467,   599.8,   6.9322,  34.5654,2,  34.5652,2,      2.3,2,     2.3,2,   66.20,6,   38.80,6,    0.01,6,    3.04,2,-999.000,9,-999.000,9,-999.0000,9,  2320.7,2,  -999.0,9,   -999.0,9,  -999.00,-999.0000,9,  -999.00,-999.000,9,-999.0000,9, -999.00,9, -999.00,9,  -999.0,9,-999.000,9,-999.000,-999.000,9,-999.000,9, -999.00,9, -999.00,9, -999.00,9, -999.00,9, -999.00,9,-999.000,-999.0000,9,-999.0000,9,-999.0000,9,-999.0000,9,-999.0000,9,-999.0000,9,-999.0000,9,-999.0000,9,-999.0000,9,   6.8751,     -999.0,9,     -999.0,9,     -999.0,9,     -999.0,9,     -999.0,9,     -999.0,9,     -999.0,9,-999.0000, -999.00
33RO20071215,        P18,      25,          1,         13,      12012,2,20071223,       2238,    10.3335,  -110.0002,       2467,   700.1,   6.0166,  34.5567,2,  34.5574,2,      4.8,2,     5.3,2,   75.40,6,   42.70,6,    0.00,6,    3.11,2,-999.000,9,-999.000,9,-999.0000,9,  2329.5,2,  2337.9,2,   2112.9,2,    20.00,   7.3360,2,    25.00,-999.000,9,-999.0000,9, -999.00,9, -999.00,5,  -999.0,1,-999.000,9,-999.000,-999.000,9,-999.000,9, -999.00,9, -999.00,9, -999.00,9, -999.00,9, -999.00,9,-999.000,-999.0000,9,-999.0000,9,-999.0000,9,-999.0000,9,-999.0000,9,-999.0000,9,-999.0000,9,-999.0000,9,-999.0000,9,   5.9543,     -999.0,9,     -999.0,9,     -999.0,9,     -999.0,9,     -999.0,9,     -999.0,9,     -999.0,9,-999.0000, -999.00
33RO20071215,        P18,      25,          1,         12,      12031,2,20071223,       2238,    10.3335,  -110.0002,       2467,   800.6,   5.3565,  34.5538,2,  34.5536,2,      9.2,2,     9.8,2,   84.60,6,   44.40,6,    0.00,6,    3.14,2,-999.000,9,-999.000,9,-999.0000,9,  2338.6,2,  -999.0,9,   -999.0,9,  -999.00,-999.0000,9,  -999.00,-999.000,9,-999.0000,9, -999.00,9, -999.00,9,  -999.0,9,-999.000,9,-999.000,-999.000,9,-999.000,9, -999.00,9, -999.00,9, -999.00,9, -999.00,9, -999.00,9,-999.000,-999.0000,9,-999.0000,9,-999.0000,9,-999.0000,9,-999.0000,9,-999.0000,9,-999.0000,9,-999.0000,9,-999.0000,9,   5.2887,     -999.0,9,     -999.0,9,     -999.0,9,     -999.0,9,     -999.0,9,     -999.0,9,     -999.0,9,-999.0000, -999.00
33RO20071215,        P18,      25,          1,         11,      12003,2,20071223,       2238,    10.3335,  -110.0002,       2467,   899.3,   4.8791,  34.5567,2,  34.5545,2,     16.3,2,    16.7,2,   92.20,6,   44.70,6,    0.00,6,    3.14,2,-999.000,9,-999.000,9,-999.0000,9,  2344.3,2,  -999.0,9,   -999.0,9,  -999.00,-999.0000,9,  -999.00,-999.000,9,-999.0000,9, -999.00,9,   -0.25,2,  -999.0,1,-999.000,9,-999.000,-999.000,9,-999.000,9, -999.00,9, -999.00,9, -999.00,9, -999.00,9, -999.00,9,-999.000,-999.0000,9,-999.0000,9,-999.0000,9,-999.0000,9,-999.0000,9,-999.0000,9,-999.0000,9,-999.0000,9,-999.0000,9,   4.8056,     -999.0,9,     -999.0,9,     -999.0,9,     -999.0,9,     -999.0,9,     -999.0,9,     -999.0,9,-999.0000, -999.00
33RO20071215,        P18,      25,          1,         10,      12032,2,20071223,       2238,    10.3335,  -110.0002,       2467,  1000.6,   4.4296,  34.5639,2,  34.5648,2,     27.0,2,    27.0,2,  100.00,6,   44.30,6,    0.00,6,    3.09,2,-999.000,9,-999.000,9,-999.0000,9,  2341.3,2,  2364.5,2,   -999.0,9,  -999.00,   7.3622,2,    25.00,-999.000,9,-999.0000,9, -999.00,9, -999.00,9,  -999.0,9,-999.000,9,-999.000,-999.000,9,-999.000,9, -999.00,9, -999.00,9, -999.00,9, -999.00,9, -999.00,9,-999.000,-999.0000,9,-999.0000,9,-999.0000,9,-999.0000,9,-999.0000,9,-999.0000,9,-999.0000,9,-999.0000,9,-999.0000,9,   4.3505,     -999.0,9,     -999.0,9,     -999.0,9,     -999.0,9,     -999.0,9,     -999.0,9,     -999.0,9,-999.0000, -999.00
33RO20071215,        P18,      25,          1,          9,      12002,2,20071223,       2238,    10.3335,  -110.0002,       2467,  1099.5,   4.0152,  34.5734,2,  34.5743,2,     40.2,2,    40.4,2,  107.60,6,   43.50,6,    0.00,6,    3.02,2,-999.000,9,-999.000,9,-999.0000,9,  2347.4,2,  -999.0,9,   -999.0,9,  -999.00,-999.0000,9,  -999.00,-999.000,9,-999.0000,9, -999.00,9, -999.00,9,  -999.0,9,-999.000,9,-999.000,-999.000,9,-999.000,9, -999.00,9, -999.00,9, -999.00,9, -999.00,9, -999.00,9,-999.000,-999.0000,9,-999.0000,9,-999.0000,9,-999.0000,9,-999.0000,9,-999.0000,9,-999.0000,9,-999.0000,9,-999.0000,9,   3.9310,     -999.0,9,     -999.0,9,     -999.0,9,     -999.0,9,     -999.0,9,     -999.0,9,     -999.0,9,-999.0000, -999.00
33RO20071215,        P18,      25,          1,          8,      12021,2,20071223,       2238,    10.3335,  -110.0002,       2467,  1200.3,   3.6689,  34.5838,2,  34.5848,2,     47.0,2,    47.2,2,  115.10,6,   43.10,6,    0.00,6,    2.96,2,-999.000,9,-999.000,9,-999.0000,9,  2351.9,2,  -999.0,9,   -999.0,9,  -999.00,-999.0000,9,  -999.00,-999.000,9,-999.0000,9, -999.00,9, -999.00,9,  -999.0,9,-999.000,9,-999.000,-999.000,9,-999.000,9, -999.00,9, -999.00,9, -999.00,9, -999.00,9, -999.00,9,-999.000,-999.0000,9,-999.0000,9,-999.0000,9,-999.0000,9,-999.0000,9,-999.0000,9,-999.0000,9,-999.0000,9,-999.0000,9,   3.5792,     -999.0,9,     -999.0,9,     -999.0,9,     -999.0,9,     -999.0,9,     -999.0,9,     -999.0,9,-999.0000, -999.00
33RO20071215,        P18,      25,          1,          7,      12001,2,20071223,       2238,    10.3335,  -110.0002,       2467,  1299.8,   3.4290,  34.5919,2,  34.5935,2,     52.9,2,    53.4,2,  120.30,6,   42.60,6,    0.00,6,    2.92,2,-999.000,9,-999.000,9,-999.0000,9,  2353.1,2,  2389.2,2,   1801.3,2,    20.00,   7.4120,2,    25.00,-999.000,9,-999.0000,9, -999.00,9, -999.00,9,  -999.0,9,-999.000,9,-999.000,-999.000,9,-999.000,9, -999.00,9, -999.00,9, -999.00,9, -999.00,9, -999.00,9,-999.000,-999.0000,9,-999.0000,9,-999.0000,9,-999.0000,9,-999.0000,9,-999.0000,9,-999.0000,9,-999.0000,9,-999.0000,9,   3.3332,     -999.0,9,     -999.0,9,     -999.0,9,     -999.0,9,     -999.0,9,     -999.0,9,     -999.0,9,-999.0000, -999.00
33RO20071215,        P18,      25,          1,          6,      12033,2,20071223,       2238,    10.3335,  -110.0002,       2467,  1399.1,   3.2687,  34.5975,2,  34.5989,2,     55.6,2,    56.7,2,  124.10,6,   42.50,6,    0.00,6,    2.89,2,-999.000,9,-999.000,9,-999.0000,9,  -999.0,9,  -999.0,9,   -999.0,9,  -999.00,-999.0000,9,  -999.00,-999.000,9,-999.0000,9, -999.00,9, -999.00,9,  -999.0,9,-999.000,9,-999.000,-999.000,9,-999.000,9, -999.00,9, -999.00,9, -999.00,9, -999.00,9, -999.00,9,-999.000,-999.0000,9,-999.0000,9,-999.0000,9,-999.0000,9,-999.0000,9,-999.0000,9,-999.0000,9,-999.0000,9,-999.0000,9,   3.1663,     -999.0,9,     -999.0,9,     -999.0,9,     -999.0,9,     -999.0,9,     -999.0,9,     -999.0,9,-999.0000, -999.00
33RO20071215,        P18,      25,          1,          5,      12008,2,20071223,       2238,    10.3335,  -110.0002,       2467,  1599.2,   2.8079,  34.6159,2,  34.6168,2,     72.2,2,    72.1,2,  133.80,6,   41.30,6,    0.00,6,    2.75,2,-999.000,9,-999.000,9,-999.0000,9,  2358.0,6,  2407.2,2,   -999.0,9,  -999.00,   7.4592,2,    25.00,-999.000,9,-999.0000,9, -999.00,9,   -0.18,2,  -999.0,1,-999.000,9,-999.000,-999.000,9,-999.000,9, -999.00,9, -999.00,9, -999.00,9, -999.00,9, -999.00,9,-999.000,-999.0000,9,-999.0000,9,-999.0000,9,-999.0000,9,-999.0000,9,-999.0000,9,-999.0000,9,-999.0000,9,-999.0000,9,   2.6940,     -999.0,9,     -999.0,9,     -999.0,9,     -999.0,9,     -999.0,9,     -999.0,9,     -999.0,9,-999.0000, -999.00