BOTTLE,20220818CCHSIOAMB
EXPOCODE,SECT_ID,STNNBR,CASTNO,SAMPNO,BTLNBR,BTLNBR_FLAG_W,DATE,TIME,LATITUDE,LONGITUDE,DEPTH,CTDPRS,CTDTMP,CTDSAL,CTDSAL_FLAG_W,SALNTY,SALNTY_FLAG_W,CTDOXY,CTDOXY_FLAG_W,OXYGEN,OXYGEN_FLAG_W,SILCAT,SILCAT_FLAG_W,NITRAT,NITRAT_FLAG_W,NITRIT,NITRIT_FLAG_W,PHSPHT,PHSPHT_FLAG_W,CFC-11,CFC-11_FLAG_W,CFC-12,CFC-12_FLAG_W,SF6,SF6_FLAG_W,TCARBN,TCARBN_FLAG_W,ALKALI,ALKALI_FLAG_W,FCO2,FCO2_FLAG_W,FCO2TMP,PH_SWS,PH_SWS_FLAG_W,PH_TMP,TRITUM,TRITUM_FLAG_W,HELIUM,HELIUM_FLAG_W,DELHE3,DELHE3_FLAG_W,DELC13,DELC13_FLAG_W,DELC14,DELC14_FLAG_W,NEON,NEON_FLAG_W,NEONER,CCL4,CCL4_FLAG_W,POC,POC_FLAG_W,DOC,DOC_FLAG_W,TDN,TDN_FLAG_W,DON,DON_FLAG_W,CHLORA,CHLORA_FLAG_W,ARGON,ARGON_FLAG_W,TRITER,CDOM325,CDOM325_FLAG_W,CDOM340,CDOM340_FLAG_W,CDOM380,CDOM380_FLAG_W,CDOM412,CDOM412_FLAG_W,CDOM443,CDOM443_FLAG_W,CDOM490,CDOM490_FLAG_W,CDOM555,CDOM555_FLAG_W,CDOMSL,CDOMSL_FLAG_W,CDOMSN,CDOMSN_FLAG_W,THETA,D18O_NO3,D18O_NO3_FLAG_W,CDOM2C,CDOM2C_FLAG_W,CDOM3C,CDOM3C_FLAG_W,LAB_DEN,LAB_DEN_FLAG_W,DELSI30,DELSI30_FLAG_W,N2,N2_FLAG_W,D15N_NO3,D15N_NO3_FLAG_W,HELIER,DELHER
,,,,,,,,,,,METERS,DBAR,ITS-90,PSS-78,,PSS-78,,UMOL/KG,,UMOL/KG,,UMOL/KG,,UMOL/KG,,UMOL/KG,,UMOL/KG,,PMOL/KG,,PMOL/KG,,FMOL/KG,,UMOL/KG,,UMOL/KG,,UATM,,DEG C,,,DEG C,TU,,NMOL/KG,,PERCNT,,/MILLE,,/MILLE,,NMOL/KG,,NMOL/KG,PMOL/KG,,UG/KG,,UMOL/KG,,UMOL/KG,,UMOL/KG,,UG/KG,,UMOL/KG,,TU,1/M,,1/M,,1/M,,1/M,,1/M,,1/M,,1/M,,1/NM,,1/NM,,DEG C,/MILLE,,,,,,,,/MILLE,,UMOL/KG,,/MILLE,,NMOL/KG,PERCNT
33RO20071215,        P18,      26,          1,         36,      12017,2,20071224,       0413,     9.7517,  -110.0007,       3668,     4.7,  27.3542,  33.0059,2,  33.0074,2,    204.1,2,   180.8,2,    1.20,2,    0.00,2,    0.00,2,    0.10,2,   1.621,6,   1.033,6,   1.0724,6,  1872.6,6,  2175.5,2,   -999.0,9,  -999.00,   8.0797,2,    25.00,   0.536,2,   1.7297,2,   -1.75,2, -999.00,9,  -999.0,9,   6.765,2,   0.023,-999.000,9,-999.000,9,   69.16,2,    5.36,2, -999.00,1, -999.00,9, -999.00,9,   0.007,-999.0000,9,-999.0000,9,-999.0000,9,-999.0000,9,-999.0000,9,-999.0000,9,-999.0000,9,-999.0000,9,-999.0000,9,  27.3531,     -999.0,9,     -999.0,9,     -999.0,9,     -999.0,1,     -999.0,9,     -999.0,9,     -999.0,9,   0.0048,    0.15
33RO20071215,        P18,      26,          1,         35,      12029,2,20071224,       0413,     9.7517,  -110.0007,       3668,    12.2,  27.3683,  33.0124,2,  33.0190,2,    204.4,2,   202.5,2,    1.20,2,    0.10,2,    0.00,2,    0.15,2,-999.000,9,-999.000,9,-999.0000,9,  1875.1,2,  2190.0,2,   -999.0,9,  -999.00,   8.0859,2,    25.00,-999.000,9,-999.0000,9, -999.00,9, -999.00,9,  -999.0,9,-999.000,9,-999.000,-999.000,9,-999.000,9, -999.00,9, -999.00,9, -999.00,9, -999.00,9, -999.00,9,-999.000,-999.0000,9,-999.0000,9,-999.0000,9,-999.0000,9,-999.0000,9,-999.0000,9,-999.0000,9,-999.0000,9,-999.0000,9,  27.3655,     -999.0,9,     -999.0,9,     -999.0,9,     -999.0,1,     -999.0,9,     -999.0,9,     -999.0,9,-999.0000, -999.00
33RO20071215,        P18,      26,          1,         34,      12049,2,20071224,       0413,     9.7517,  -110.0007,       3668,    27.0,  27.3506,  33.0147,2,  33.0371,2,    204.7,2,   202.5,2,    1.20,2,    0.10,2,    0.00,2,    0.14,2,-999.000,9,-999.000,9,-999.0000,9,  1876.0,2,  2190.4,2,   -999.0,9,  -999.00,   8.0876,2,    25.00,-999.000,9,-999.0000,9, -999.00,9, -999.00,9,  -999.0,9,-999.000,9,-999.000,-999.000,9,-999.000,9,   68.62,2,    5.27,2, -999.00,9, -999.00,9, -999.00,9,-999.000,-999.0000,9,-999.0000,9,-999.0000,9,-999.0000,9,-999.0000,9,-999.0000,9,-999.0000,9,-999.0000,9,-999.0000,9,  27.3444,     -999.0,9,     -999.0,9,     -999.0,9,     -999.0,1,     -999.0,9,     -999.0,9,     -999.0,9,-999.0000, -999.00
33RO20071215,        P18,      26,          1,         33,      12027,2,20071224,       0413,     9.7517,  -110.0007,       3668,    47.0,  23.8531,  34.1953,2,  34.1998,2,    199.2,2,   196.6,2,    2.90,2,    3.30,2,    0.16,2,    0.41,2,   1.798,2,   1.118,2,   0.9737,2,  1988.5,2,  2271.4,2,   -999.0,9,  -999.00,   7.9666,2,    25.00,   0.471,2,   1.7318,2,   -1.55,2, -999.00,9,  -999.0,9,   6.759,2,   0.023,-999.000,9,-999.000,9, -999.00,9, -999.00,9, -999.00,9, -999.00,9, -999.00,9,   0.007,-999.0000,9,-999.0000,9,-999.0000,9,-999.0000,9,-999.0000,9,-999.0000,9,-999.0000,9,-999.0000,9,-999.0000,9,  23.8433,     -999.0,9,     -999.0,9,     -999.0,9,     -999.0,1,     -999.0,9,     -999.0,9,     -999.0,9,   0.0048,    0.15
33RO20071215,        P18,      26,          1,         32,      12023,2,20071224,       0413,     9.7517,  -110.0007,       3668,    67.1,  20.6993,  34.5824,2,  34.5803,2,    103.3,2,    90.2,2,    9.50,2,   15.00,2,    0.76,2,    1.26,2,-999.000,9,-999.000,9,-999.0000,9,  2114.8,2,  2298.2,2,   -999.0,9,  -999.00,   7.7840,2,    25.00,-999.000,9,-999.0000,9, -999.00,9, -999.00,9,  -999.0,9,-999.000,9,-999.000,-999.000,9,-999.000,9,   55.56,2,   18.96,2, -999.00,9, -999.00,9, -999.00,9,-999.000,-999.0000,9,-999.0000,9,-999.0000,9,-999.0000,9,-999.0000,9,-999.0000,9,-999.0000,9,-999.0000,9,-999.0000,9,  20.6867,     -999.0,9,     -999.0,9,     -999.0,9,     -999.0,1,     -999.0,9,     -999.0,9,     -999.0,9,-999.0000, -999.00
33RO20071215,        P18,      26,          1,         31,      12037,2,20071224,       0413,     9.7517,  -110.0007,       3668,    86.8,  15.0240,  34.7406,2,  34.7392,2,      4.5,2,     6.2,2,   21.20,2,   29.20,2,    0.16,2,    2.38,2,   1.129,2,   0.638,2,   0.2770,2,  2230.8,2,  2309.3,2,   -999.0,9,  -999.00,   7.4797,2,    25.00,   0.316,2,   1.7698,2,    5.34,2, -999.00,9,  -999.0,9,   7.216,2,   0.024,-999.000,9,-999.000,9, -999.00,9, -999.00,9, -999.00,1, -999.00,9, -999.00,9,   0.007,-999.0000,9,-999.0000,9,-999.0000,9,-999.0000,9,-999.0000,9,-999.0000,9,-999.0000,9,-999.0000,9,-999.0000,9,  15.0109,     -999.0,9,     -999.0,9,     -999.0,9,     -999.0,1,     -999.0,9,     -999.0,9,     -999.0,9,   0.0050,    0.15
33RO20071215,        P18,      26,          1,         30,      12036,2,20071224,       0413,     9.7517,  -110.0007,       3668,   108.0,  13.2393,  34.7979,2,  34.7953,2,      4.9,2,     3.6,2,   24.70,2,   31.10,2,    0.03,2,    2.42,2,-999.000,9,-999.000,9,-999.0000,9,  -999.0,9,  2317.2,2,   -999.0,9,  -999.00,   7.4576,2,    25.00,-999.000,9,-999.0000,9, -999.00,9, -999.00,9,  -999.0,9,-999.000,9,-999.000,-999.000,9,-999.000,9,   50.70,2,   33.52,2, -999.00,1, -999.00,9, -999.00,9,-999.000,-999.0000,9,-999.0000,9,-999.0000,9,-999.0000,9,-999.0000,9,-999.0000,9,-999.0000,9,-999.0000,9,-999.0000,9,  13.2244,     -999.0,9,     -999.0,9,     -999.0,9,     -999.0,1,     -999.0,9,     -999.0,9,     -999.0,9,-999.0000, -999.00
33RO20071215,        P18,      26,          1,         29,      12044,2,20071224,       0413,     9.7517,  -110.0007,       3668,   132.9,  12.5632,  34.7989,2,  34.7933,2,      5.5,2,     4.7,2,   26.20,2,   31.90,2,    0.01,2,    2.44,2,   0.815,2,   0.445,2,   0.3163,2,  2246.5,2,  -999.0,5,   -999.0,9,  -999.00,   7.4489,2,    25.00,   0.265,2,   1.7899,2,    6.71,2, -999.00,9,  -999.0,9,   7.395,2,   0.025,-999.000,9,-999.000,9, -999.00,9, -999.00,9, -999.00,1, -999.00,9, -999.00,9,   0.007,-999.0000,9,-999.0000,9,-999.0000,9,-999.0000,9,-999.0000,9,-999.0000,9,-999.0000,9,-999.0000,9,-999.0000,9,  12.5454,     -999.0,9,     -999.0,9,     -999.0,9,     -999.0,1,     -999.0,9,     -999.0,9,     -999.0,9,   0.0050,    0.15
33RO20071215,        P18,      26,          1,         28,      12057,2,20071224,       0413,     9.7517,  -110.0007,       3668,   157.5,  11.9721,  34.7818,2,  34.7800,2,      7.3,2,     6.6,2,   27.50,2,   32.60,2,    0.01,2,    2.46,2,-999.000,9,-999.000,9,-999.0000,9,  2249.3,2,  -999.0,5,   -999.0,9,  -999.00,   7.4459,2,    25.00,-999.000,9,-999.0000,9, -999.00,9, -999.00,9,  -999.0,9,-999.000,9,-999.000,-999.000,9,-999.000,9,   44.70,2,   34.77,2, -999.00,1, -999.00,9, -999.00,9,-999.000,-999.0000,9,-999.0000,9,-999.0000,9,-999.0000,9,-999.0000,9,-999.0000,9,-999.0000,9,-999.0000,9,-999.0000,9,  11.9517,     -999.0,9,     -999.0,9,     -999.0,9,     -999.0,9,     -999.0,9,     -999.0,9,     -999.0,9,-999.0000, -999.00
33RO20071215,        P18,      26,          1,         27,      12026,2,20071224,       0413,     9.7517,  -110.0007,       3668,   182.4,  11.7516,  34.7724,2,  34.7703,2,      8.7,2,     8.6,2,   28.10,2,   32.80,2,    0.00,2,    2.42,2,   0.637,2,   0.344,2,   0.1315,2,  2250.7,2,  2298.0,3,   -999.0,9,  -999.00,   7.4600,2,    25.00,-999.000,9,   1.7824,2,    6.80,2, -999.00,9,  -999.0,9,   7.388,2,   0.025,-999.000,9,-999.000,9, -999.00,9, -999.00,9, -999.00,1, -999.00,9, -999.00,9,-999.000,-999.0000,9,-999.0000,9,-999.0000,9,-999.0000,9,-999.0000,9,-999.0000,9,-999.0000,9,-999.0000,9,-999.0000,9,  11.7282,     -999.0,9,     -999.0,9,     -999.0,9,     -999.0,1,     -999.0,9,     -999.0,9,     -999.0,9,   0.0050,    0.15
33RO20071215,        P18,      26,          1,         26,      12030,2,20071224,       0413,     9.7517,  -110.0007,       3668,   217.0,  11.4005,  34.7563,2,  34.7541,2,      7.9,2,     8.1,2,   29.20,2,   32.90,2,    0.01,2,    2.47,2,-999.000,9,-999.000,9,-999.0000,9,  2254.3,2,  2319.4,2,   -999.0,9,  -999.00,   7.4364,2,    25.00,-999.000,9,-999.0000,9, -999.00,9, -999.00,9,  -999.0,9,-999.000,9,-999.000,-999.000,9,-999.000,9,   43.86,2,   35.03,2, -999.00,1, -999.00,9, -999.00,9,-999.000,-999.0000,9,-999.0000,9,-999.0000,9,-999.0000,9,-999.0000,9,-999.0000,9,-999.0000,9,-999.0000,9,-999.0000,9,  11.3731,     -999.0,9,     -999.0,9,     -999.0,9,     -999.0,9,     -999.0,9,     -999.0,9,     -999.0,9,-999.0000, -999.00
33RO20071215,        P18,      26,          1,         25,      12024,2,20071224,       0413,     9.7517,  -110.0007,       3668,   266.4,  10.8120,  34.7296,2,  34.7277,2,      4.4,2,     4.9,2,   32.10,2,   32.50,2,    0.01,2,    2.56,2,   0.356,6,   0.195,6,   0.0916,2,  2263.8,2,  2323.8,4,   -999.0,9,  -999.00,   7.3951,2,    25.00,   0.143,2,   1.7961,2,    6.64,2, -999.00,9,  -999.0,9,   7.453,2,   0.025,-999.000,9,-999.000,9,   42.90,2,   33.65,2, -999.00,1, -999.00,9, -999.00,9,   0.007,-999.0000,9,-999.0000,9,-999.0000,9,-999.0000,9,-999.0000,9,-999.0000,9,-999.0000,9,-999.0000,9,-999.0000,9,  10.7795,     -999.0,9,     -999.0,9,     -999.0,9,     -999.0,9,     -999.0,9,     -999.0,9,     -999.0,9,   0.0050,    0.15
33RO20071215,        P18,      26,          1,         24,      12019,2,20071224,       0413,     9.7517,  -110.0007,       3668,   317.3,  10.1930,  34.6949,2,  34.6942,2,      2.5,2,     2.5,2,   36.00,2,   31.40,2,    0.15,2,    2.71,2,-999.000,9,-999.000,9,-999.0000,9,  2275.6,2,  2326.8,4,   -999.0,9,  -999.00,   7.3936,2,    25.00,-999.000,9,-999.0000,9, -999.00,9, -999.00,9,  -999.0,9,-999.000,9,-999.000,-999.000,9,-999.000,9,   42.39,2,   33.03,2, -999.00,1, -999.00,9, -999.00,9,-999.000,-999.0000,9,-999.0000,9,-999.0000,9,-999.0000,9,-999.0000,9,-999.0000,9,-999.0000,9,-999.0000,9,-999.0000,9,  10.1556,     -999.0,9,     -999.0,9,     -999.0,9,     -999.0,1,     -999.0,9,     -999.0,9,     -999.0,9,-999.0000, -999.00
33RO20071215,        P18,      26,          1,         23,      12022,2,20071224,       0413,     9.7517,  -110.0007,       3668,   367.0,   9.5745,  34.6561,2,  34.6519,2,      2.4,2,     1.8,2,   41.10,2,   30.40,2,    1.03,2,    2.85,2,   0.070,2,   0.041,2,   0.0000,2,  -999.0,9,  -999.0,9,   -999.0,9,  -999.00,-999.0000,9,  -999.00,   0.049,6,   1.8062,2,    6.05,2, -999.00,9,  -999.0,9,   7.634,2,   0.026,-999.000,9,-999.000,9,   41.76,2,   32.84,2, -999.00,1, -999.00,9, -999.00,9,   0.006,-999.0000,9,-999.0000,9,-999.0000,9,-999.0000,9,-999.0000,9,-999.0000,9,-999.0000,9,-999.0000,9,-999.0000,9,   9.5329,     -999.0,9,     -999.0,9,     -999.0,9,     -999.0,9,     -999.0,9,     -999.0,9,     -999.0,9,   0.0051,    0.15
33RO20071215,        P18,      26,          1,         22,      12015,2,20071224,       0413,     9.7517,  -110.0007,       3668,   433.1,   8.5600,  34.6069,2,  34.6065,2,      2.4,2,     2.1,2,   48.90,2,   33.20,2,    0.57,2,    3.00,2,   0.022,2,   0.015,2,   0.0000,2,  2294.5,2,  2337.1,4,   -999.0,9,  -999.00,   7.3640,2,    25.00,-999.000,9,   1.8081,2,    7.03,2, -999.00,9,  -999.0,9,   7.641,2,   0.026,-999.000,9,-999.000,9,   41.17,2,   34.83,2, -999.00,1, -999.00,9, -999.00,9,-999.000,-999.0000,9,-999.0000,9,-999.0000,9,-999.0000,9,-999.0000,9,-999.0000,9,-999.0000,9,-999.0000,9,-999.0000,9,   8.5140,     -999.0,9,     -999.0,9,     -999.0,9,     -999.0,9,     -999.0,9,     -999.0,9,     -999.0,9,   0.0051,    0.15
33RO20071215,        P18,      26,          1,         21,      12020,2,20071224,       0413,     9.7517,  -110.0007,       3668,   533.8,   7.5114,  34.5746,2,  34.5745,2,      2.3,2,     2.0,2,   58.70,2,   37.00,2,    0.00,2,    3.18,2,   0.007,2,   0.005,2,   0.0000,2,  -999.0,9,  -999.0,9,   -999.0,9,  -999.00,-999.0000,9,  -999.00,  -0.003,2,   1.8156,2,    8.95,2, -999.00,9,  -999.0,9,   7.654,2,   0.026,-999.000,9,-999.000,9,   39.37,2,   38.11,2, -999.00,1, -999.00,9, -999.00,9,   0.005,-999.0000,9,-999.0000,9,-999.0000,9,-999.0000,9,-999.0000,9,-999.0000,9,-999.0000,9,-999.0000,9,-999.0000,9,   7.4585,     -999.0,9,     -999.0,9,     -999.0,9,     -999.0,9,     -999.0,9,     -999.0,9,     -999.0,9,   0.0051,    0.15
33RO20071215,        P18,      26,          1,         20,      12055,2,20071224,       0413,     9.7517,  -110.0007,       3668,   633.8,   6.5168,  34.5629,2,  34.5646,2,      2.8,2,     3.3,2,   69.40,2,   40.90,2,    0.00,2,    3.30,2,  -0.002,2,  -0.001,2,   0.0000,2,  2322.3,2,  2357.2,4,   -999.0,9,  -999.00,   7.3371,2,    25.00,   0.016,2,   1.8366,2,   11.45,2, -999.00,9,  -999.0,9,   7.784,2,   0.026,-999.000,9,-999.000,9,   38.86,2,   41.98,2, -999.00,1, -999.00,9, -999.00,9,   0.006,-999.0000,9,-999.0000,9,-999.0000,9,-999.0000,9,-999.0000,9,-999.0000,9,-999.0000,9,-999.0000,9,-999.0000,9,   6.4583,     -999.0,9,     -999.0,9,     -999.0,9,     -999.0,1,     -999.0,9,     -999.0,9,     -999.0,9,   0.0051,    0.15
33RO20071215,        P18,      26,          1,         19,      12018,2,20071224,       0413,     9.7517,  -110.0007,       3668,   733.8,   5.7720,  34.5541,2,  34.5531,2,      6.3,2,     6.6,2,   77.80,2,   43.60,2,    0.00,2,    3.35,2,   0.004,2,   0.000,2,   0.0000,2,  -999.0,9,  -999.0,9,   -999.0,9,  -999.00,-999.0000,9,  -999.00,  -0.002,2,   1.8567,2,   13.58,2, -999.00,9,  -999.0,9,   7.860,2,   0.027,-999.000,9,-999.000,9,   38.41,2,   44.61,2, -999.00,1, -999.00,9, -999.00,9,   0.006,-999.0000,9,-999.0000,9,-999.0000,9,-999.0000,9,-999.0000,9,-999.0000,9,-999.0000,9,-999.0000,9,-999.0000,9,   5.7079,     -999.0,9,     -999.0,9,     -999.0,9,     -999.0,9,     -999.0,9,     -999.0,9,     -999.0,9,   0.0052,    0.15
33RO20071215,        P18,      26,          1,         18,      12025,2,20071224,       0413,     9.7517,  -110.0007,       3668,   833.3,   5.2455,  34.5555,2,  34.5541,2,     12.0,2,    12.9,2,   85.70,2,   44.60,2,    0.00,2,    3.37,2,   0.003,2,   0.001,2,   0.0000,2,  2338.1,2,  2375.2,4,   -999.0,9,  -999.00,   7.3397,2,    25.00,  -0.005,2,   1.8611,2,   15.83,2, -999.00,9,  -999.0,9,   7.981,2,   0.027,-999.000,9,-999.000,9,   37.74,2,   45.80,2, -999.00,1, -999.00,9, -999.00,9,   0.006,-999.0000,9,-999.0000,9,-999.0000,9,-999.0000,9,-999.0000,9,-999.0000,9,-999.0000,9,-999.0000,9,-999.0000,9,   5.1755,     -999.0,9,     -999.0,9,     -999.0,9,     -999.0,9,     -999.0,9,     -999.0,9,     -999.0,9,   0.0052,    0.15
33RO20071215,        P18,      26,          1,         17,      12016,2,20071224,       0413,     9.7517,  -110.0007,       3668,   933.1,   4.6384,  34.5611,2,  34.5606,2,     23.5,2,    23.5,2,   95.90,2,   44.50,2,    0.01,2,    3.33,2,   0.002,2,   0.001,2,   0.0141,2,  -999.0,9,  -999.0,9,   -999.0,9,  -999.00,-999.0000,9,  -999.00,   0.012,2,   1.8641,2,   18.09,2, -999.00,9,  -999.0,9,   7.770,2,   0.026,-999.000,9,-999.000,9,   37.21,2,   45.95,2, -999.00,1, -999.00,9, -999.00,9,   0.006,-999.0000,9,-999.0000,9,-999.0000,9,-999.0000,9,-999.0000,9,-999.0000,9,-999.0000,9,-999.0000,9,-999.0000,9,   4.5636,     -999.0,9,     -999.0,9,     -999.0,9,     -999.0,9,     -999.0,9,     -999.0,9,     -999.0,9,   0.0052,    0.15
33RO20071215,        P18,      26,          1,         16,      12051,2,20071224,       0413,     9.7517,  -110.0007,       3668,  1033.4,   4.2101,  34.5691,2,  34.5682,2,     34.9,2,    34.2,2,  103.60,2,   43.80,2,    0.00,2,    3.26,2,   0.001,2,   0.002,2,   0.0171,2,  2346.1,2,  2369.4,2,   -999.0,9,  -999.00,   7.3764,2,    25.00,   0.009,2,   1.9163,2,   19.17,2, -999.00,9,  -999.0,9,   7.884,2,   0.027,-999.000,9,-999.000,9,   37.55,2,   45.15,2, -999.00,9, -999.00,9, -999.00,9,   0.006,-999.0000,9,-999.0000,9,-999.0000,9,-999.0000,9,-999.0000,9,-999.0000,9,-999.0000,9,-999.0000,9,-999.0000,9,   4.1298,     -999.0,9,     -999.0,9,     -999.0,9,     -999.0,1,     -999.0,9,     -999.0,9,     -999.0,9,   0.0054,    0.15
33RO20071215,        P18,      26,          1,         15,      12014,2,20071224,       0413,     9.7517,  -110.0007,       3668,  1132.8,   3.8893,  34.5767,2,  34.5764,2,     46.4,2,    46.6,2,  109.10,2,   43.10,2,    0.00,2,    3.16,2,   0.003,2,   0.002,2,   0.0263,2,  -999.0,9,  -999.0,9,   -999.0,9,  -999.00,-999.0000,9,  -999.00,  -0.004,2,   1.8913,2,   20.29,2, -999.00,9,  -999.0,9,   7.825,2,   0.027,-999.000,9,-999.000,9,   37.10,2,   44.83,2, -999.00,9, -999.00,9, -999.00,9,   0.006,-999.0000,9,-999.0000,9,-999.0000,9,-999.0000,9,-999.0000,9,-999.0000,9,-999.0000,9,-999.0000,9,-999.0000,9,   3.8032,     -999.0,9,     -999.0,9,     -999.0,9,     -999.0,9,     -999.0,9,     -999.0,9,     -999.0,9,   0.0053,    0.15
33RO20071215,        P18,      26,          1,         14,      12013,2,20071224,       0413,     9.7517,  -110.0007,       3668,  1232.7,   3.6164,  34.5856,2,  34.5870,2,     56.2,2,    55.2,2,  114.40,2,   42.70,2,    0.00,2,    3.12,2,-999.000,9,-999.000,9,-999.0000,9,  2345.2,6,  1759.9,4,   -999.0,9,  -999.00,   7.4151,2,    25.00,-999.000,9,-999.0000,9, -999.00,9, -999.00,9,  -999.0,9,-999.000,9,-999.000,-999.000,9,-999.000,9,   36.72,2,   44.34,2, -999.00,9, -999.00,9, -999.00,9,-999.000,-999.0000,9,-999.0000,9,-999.0000,9,-999.0000,9,-999.0000,9,-999.0000,9,-999.0000,9,-999.0000,9,-999.0000,9,   3.5245,     -999.0,9,     -999.0,9,     -999.0,9,     -999.0,9,     -999.0,9,     -999.0,9,     -999.0,9,-999.0000, -999.00
33RO20071215,        P18,      26,          1,         13,      12012,2,20071224,       0413,     9.7517,  -110.0007,       3668,  1333.5,   3.3914,  34.5932,2,  34.5932,2,     59.4,2,    59.6,2,  119.40,2,   42.40,2,    0.00,2,    3.09,2,   0.003,2,   0.000,2,   0.0000,2,  -999.0,9,  -999.0,9,   -999.0,9,  -999.00,-999.0000,9,  -999.00,-999.000,9,-999.0000,9, -999.00,9, -999.00,9,  -999.0,9,-999.000,9,-999.000,-999.000,9,-999.000,9,   35.90,2,   43.51,2, -999.00,9, -999.00,9, -999.00,9,-999.000,-999.0000,9,-999.0000,9,-999.0000,9,-999.0000,9,-999.0000,9,-999.0000,9,-999.0000,9,-999.0000,9,-999.0000,9,   3.2932,     -999.0,9,     -999.0,9,     -999.0,9,     -999.0,9,     -999.0,9,     -999.0,9,     -999.0,9,-999.0000, -999.00
33RO20071215,        P18,      26,          1,         12,      12031,2,20071224,       0413,     9.7517,  -110.0007,       3668,  1466.6,   3.0866,  34.6031,2,  34.6034,2,     68.4,2,    68.6,2,  126.00,2,   41.60,2,    0.00,2,    3.02,2,-999.000,9,-999.000,9,-999.0000,9,  2351.5,2,  2395.7,2,   -999.0,9,  -999.00,   7.4352,2,    25.00,-999.000,9,-999.0000,9, -999.00,9, -999.00,9,  -999.0,9,-999.000,9,-999.000,-999.000,9,-999.000,9,   35.49,2,   42.90,2, -999.00,9, -999.00,9, -999.00,9,-999.000,-999.0000,9,-999.0000,9,-999.0000,9,-999.0000,9,-999.0000,9,-999.0000,9,-999.0000,9,-999.0000,9,-999.0000,9,   2.9804,     -999.0,9,     -999.0,9,     -999.0,9,     -999.0,1,     -999.0,9,     -999.0,9,     -999.0,9,-999.0000, -999.00