BOTTLE,20220818CCHSIOAMB
EXPOCODE,SECT_ID,STNNBR,CASTNO,SAMPNO,BTLNBR,BTLNBR_FLAG_W,DATE,TIME,LATITUDE,LONGITUDE,DEPTH,CTDPRS,CTDTMP,CTDSAL,CTDSAL_FLAG_W,SALNTY,SALNTY_FLAG_W,CTDOXY,CTDOXY_FLAG_W,OXYGEN,OXYGEN_FLAG_W,SILCAT,SILCAT_FLAG_W,NITRAT,NITRAT_FLAG_W,NITRIT,NITRIT_FLAG_W,PHSPHT,PHSPHT_FLAG_W,CFC-11,CFC-11_FLAG_W,CFC-12,CFC-12_FLAG_W,SF6,SF6_FLAG_W,TCARBN,TCARBN_FLAG_W,ALKALI,ALKALI_FLAG_W,FCO2,FCO2_FLAG_W,FCO2TMP,PH_SWS,PH_SWS_FLAG_W,PH_TMP,TRITUM,TRITUM_FLAG_W,HELIUM,HELIUM_FLAG_W,DELHE3,DELHE3_FLAG_W,DELC13,DELC13_FLAG_W,DELC14,DELC14_FLAG_W,NEON,NEON_FLAG_W,NEONER,CCL4,CCL4_FLAG_W,POC,POC_FLAG_W,DOC,DOC_FLAG_W,TDN,TDN_FLAG_W,DON,DON_FLAG_W,CHLORA,CHLORA_FLAG_W,ARGON,ARGON_FLAG_W,TRITER,CDOM325,CDOM325_FLAG_W,CDOM340,CDOM340_FLAG_W,CDOM380,CDOM380_FLAG_W,CDOM412,CDOM412_FLAG_W,CDOM443,CDOM443_FLAG_W,CDOM490,CDOM490_FLAG_W,CDOM555,CDOM555_FLAG_W,CDOMSL,CDOMSL_FLAG_W,CDOMSN,CDOMSN_FLAG_W,THETA,D18O_NO3,D18O_NO3_FLAG_W,CDOM2C,CDOM2C_FLAG_W,CDOM3C,CDOM3C_FLAG_W,LAB_DEN,LAB_DEN_FLAG_W,DELSI30,DELSI30_FLAG_W,N2,N2_FLAG_W,D15N_NO3,D15N_NO3_FLAG_W,HELIER,DELHER
,,,,,,,,,,,METERS,DBAR,ITS-90,PSS-78,,PSS-78,,UMOL/KG,,UMOL/KG,,UMOL/KG,,UMOL/KG,,UMOL/KG,,UMOL/KG,,PMOL/KG,,PMOL/KG,,FMOL/KG,,UMOL/KG,,UMOL/KG,,UATM,,DEG C,,,DEG C,TU,,NMOL/KG,,PERCNT,,/MILLE,,/MILLE,,NMOL/KG,,NMOL/KG,PMOL/KG,,UG/KG,,UMOL/KG,,UMOL/KG,,UMOL/KG,,UG/KG,,UMOL/KG,,TU,1/M,,1/M,,1/M,,1/M,,1/M,,1/M,,1/M,,1/NM,,1/NM,,DEG C,/MILLE,,,,,,,,/MILLE,,UMOL/KG,,/MILLE,,NMOL/KG,PERCNT
33RO20071215,        P18,     109,          1,         36,      12017,2,20080125,       2210,   -34.4938,  -103.0017,       3437,     4.8,  22.7623,  34.5811,2,  34.5770,2,    223.7,2,   223.2,2,    0.30,2,    0.70,2,    0.01,2,    0.14,2,-999.000,9,-999.000,9,-999.0000,9,  2029.8,6,  2283.3,2,   -999.0,9,  -999.00,   7.9677,2,    25.00,-999.000,9,-999.0000,9, -999.00,9, -999.00,9,  -999.0,9,-999.000,9,-999.000,-999.000,9,-999.000,9, -999.00,9, -999.00,9, -999.00,9, -999.00,9, -999.00,9,-999.000,-999.0000,9,-999.0000,9,-999.0000,9,-999.0000,9,-999.0000,9,-999.0000,9,-999.0000,9,-999.0000,9,-999.0000,9,  22.7614,     -999.0,9,     -999.0,9,     -999.0,9,     -999.0,9,     -999.0,9,     -999.0,9,     -999.0,9,-999.0000, -999.00
33RO20071215,        P18,     109,          1,         35,      12029,2,20080125,       2210,   -34.4938,  -103.0017,       3437,    10.1,  22.4249,  34.5736,2,  34.5745,2,    223.8,2,   223.4,2,    0.30,2,    0.70,2,    0.01,2,    0.14,2,   2.092,2,   1.284,2,   1.0811,2,  2030.1,2,  -999.0,9,   -999.0,9,  -999.00,   7.9690,2,    25.00,-999.000,9,-999.0000,9, -999.00,9,    1.57,2,  -999.0,1,-999.000,9,-999.000,-999.000,9,-999.000,9, -999.00,9, -999.00,9, -999.00,9, -999.00,9, -999.00,9,-999.000,-999.0000,9,-999.0000,9,-999.0000,9,-999.0000,9,-999.0000,9,-999.0000,9,-999.0000,9,-999.0000,9,-999.0000,9,  22.4229,     -999.0,9,     -999.0,9,     -999.0,9,     -999.0,9,     -999.0,9,     -999.0,9,     -999.0,9,-999.0000, -999.00
33RO20071215,        P18,     109,          1,         34,      12049,2,20080125,       2210,   -34.4938,  -103.0017,       3437,    20.2,  22.3165,  34.5682,2,  34.5661,2,    224.0,2,   223.9,2,    0.30,2,    0.70,2,    0.01,2,    0.14,2,-999.000,9,-999.000,9,-999.0000,9,  2029.9,2,  -999.0,9,   -999.0,9,  -999.00,   7.9697,2,    25.00,-999.000,9,-999.0000,9, -999.00,9, -999.00,9,  -999.0,9,-999.000,9,-999.000,-999.000,9,-999.000,9, -999.00,9, -999.00,9, -999.00,9, -999.00,9, -999.00,9,-999.000,-999.0000,9,-999.0000,9,-999.0000,9,-999.0000,9,-999.0000,9,-999.0000,9,-999.0000,9,-999.0000,9,-999.0000,9,  22.3125,     -999.0,9,     -999.0,9,     -999.0,9,     -999.0,9,     -999.0,9,     -999.0,9,     -999.0,9,-999.0000, -999.00
33RO20071215,        P18,     109,          1,         33,      12027,2,20080125,       2210,   -34.4938,  -103.0017,       3437,    41.4,  18.2522,  34.4258,2,  34.4245,2,    259.3,2,   258.2,2,    0.30,2,    0.50,2,    0.01,2,    0.13,2,-999.000,9,-999.000,9,-999.0000,9,  2027.0,2,  -999.0,9,   -999.0,9,  -999.00,   7.9575,2,    25.00,-999.000,9,-999.0000,9, -999.00,9, -999.00,9,  -999.0,9,-999.000,9,-999.000,-999.000,9,-999.000,9, -999.00,9, -999.00,9, -999.00,9, -999.00,9, -999.00,9,-999.000,-999.0000,9,-999.0000,9,-999.0000,9,-999.0000,9,-999.0000,9,-999.0000,9,-999.0000,9,-999.0000,9,-999.0000,9,  18.2451,     -999.0,9,     -999.0,9,     -999.0,9,     -999.0,9,     -999.0,9,     -999.0,9,     -999.0,9,-999.0000, -999.00
33RO20071215,        P18,     109,          1,         32,      12023,2,20080125,       2210,   -34.4938,  -103.0017,       3437,    70.2,  15.6551,  34.4090,2,  34.4186,2,    266.2,2,   266.9,2,    0.40,2,    1.10,2,    0.03,2,    0.17,2,   2.916,2,   1.708,2,   1.4188,2,  2030.1,2,  -999.0,9,   -999.0,9,  -999.00,   7.9303,2,    25.00,-999.000,9,-999.0000,9, -999.00,9, -999.00,9,  -999.0,9,-999.000,9,-999.000,-999.000,9,-999.000,9, -999.00,9, -999.00,9, -999.00,9, -999.00,9, -999.00,9,-999.000,-999.0000,9,-999.0000,9,-999.0000,9,-999.0000,9,-999.0000,9,-999.0000,9,-999.0000,9,-999.0000,9,-999.0000,9,  15.6443,     -999.0,9,     -999.0,9,     -999.0,9,     -999.0,9,     -999.0,9,     -999.0,9,     -999.0,9,-999.0000, -999.00
33RO20071215,        P18,     109,          1,         31,      12037,2,20080125,       2210,   -34.4938,  -103.0017,       3437,    96.5,  14.6802,  34.3972,2,  34.3919,2,    261.5,2,   259.6,2,    0.40,2,    1.90,2,    0.06,2,    0.22,2,-999.000,9,-999.000,9,-999.0000,9,  2039.0,2,  -999.0,9,   -999.0,9,  -999.00,   7.9506,2,    25.00,-999.000,9,-999.0000,9, -999.00,9, -999.00,9,  -999.0,9,-999.000,9,-999.000,-999.000,9,-999.000,9, -999.00,9, -999.00,9, -999.00,9, -999.00,9, -999.00,9,-999.000,-999.0000,9,-999.0000,9,-999.0000,9,-999.0000,9,-999.0000,9,-999.0000,9,-999.0000,9,-999.0000,9,-999.0000,9,  14.6659,     -999.0,9,     -999.0,9,     -999.0,9,     -999.0,9,     -999.0,9,     -999.0,9,     -999.0,9,-999.0000, -999.00
33RO20071215,        P18,     109,          1,         30,      12036,2,20080125,       2210,   -34.4938,  -103.0017,       3437,    98.8,  14.5584,  34.3819,2,  34.3818,2,    260.7,2,   259.5,2,    0.40,2,    2.10,2,    0.07,2,    0.23,2,-999.000,9,-999.000,9,-999.0000,9,  2040.5,2,  -999.0,9,   -999.0,9,  -999.00,   7.9341,2,    25.00,-999.000,9,-999.0000,9, -999.00,9, -999.00,9,  -999.0,9,-999.000,9,-999.000,-999.000,9,-999.000,9, -999.00,9, -999.00,9, -999.00,9, -999.00,9, -999.00,9,-999.000,-999.0000,9,-999.0000,9,-999.0000,9,-999.0000,9,-999.0000,9,-999.0000,9,-999.0000,9,-999.0000,9,-999.0000,9,  14.5439,     -999.0,9,     -999.0,9,     -999.0,9,     -999.0,9,     -999.0,9,     -999.0,9,     -999.0,9,-999.0000, -999.00
33RO20071215,        P18,     109,          1,         29,      12044,2,20080125,       2210,   -34.4938,  -103.0017,       3437,   124.1,  13.6886,  34.2990,2,  34.2988,2,    256.7,2,   255.0,2,    0.50,2,    3.90,2,    0.18,2,    0.35,2,   3.166,2,   1.825,2,   1.4079,2,  2049.9,2,  -999.0,9,   -999.0,9,  -999.00,   7.9196,2,    25.00,-999.000,9,-999.0000,9, -999.00,9, -999.00,9,  -999.0,9,-999.000,9,-999.000,-999.000,9,-999.000,9, -999.00,9, -999.00,9, -999.00,9, -999.00,9, -999.00,9,-999.000,-999.0000,9,-999.0000,9,-999.0000,9,-999.0000,9,-999.0000,9,-999.0000,9,-999.0000,9,-999.0000,9,-999.0000,9,  13.6711,     -999.0,9,     -999.0,9,     -999.0,9,     -999.0,9,     -999.0,9,     -999.0,9,     -999.0,9,-999.0000, -999.00
33RO20071215,        P18,     109,          1,         28,      12057,2,20080125,       2210,   -34.4938,  -103.0017,       3437,   149.6,  12.8718,  34.2842,2,  34.2942,2,    246.7,2,   246.9,2,    0.70,2,    5.60,2,    0.50,2,    0.48,2,-999.000,9,-999.000,9,-999.0000,9,  2062.6,2,  -999.0,9,   -999.0,9,  -999.00,   7.8833,2,    25.00,-999.000,9,-999.0000,9, -999.00,9, -999.00,9,  -999.0,9,-999.000,9,-999.000,-999.000,9,-999.000,9, -999.00,9, -999.00,9, -999.00,9, -999.00,9, -999.00,9,-999.000,-999.0000,9,-999.0000,9,-999.0000,9,-999.0000,9,-999.0000,9,-999.0000,9,-999.0000,9,-999.0000,9,-999.0000,9,  12.8515,     -999.0,9,     -999.0,9,     -999.0,9,     -999.0,9,     -999.0,9,     -999.0,9,     -999.0,9,-999.0000, -999.00
33RO20071215,        P18,     109,          1,         27,      12026,2,20080125,       2210,   -34.4938,  -103.0017,       3437,   173.9,  12.0901,  34.2552,2,  34.2575,2,    240.9,2,   243.0,2,    0.90,2,    8.40,2,    0.48,2,    0.63,2,-999.000,9,-999.000,9,-999.0000,9,  2075.0,2,  -999.0,9,   -999.0,9,  -999.00,   7.8530,2,    25.00,-999.000,9,-999.0000,9, -999.00,9, -999.00,9,  -999.0,9,-999.000,9,-999.000,-999.000,9,-999.000,9, -999.00,9, -999.00,9, -999.00,9, -999.00,9, -999.00,9,-999.000,-999.0000,9,-999.0000,9,-999.0000,9,-999.0000,9,-999.0000,9,-999.0000,9,-999.0000,9,-999.0000,9,-999.0000,9,  12.0675,     -999.0,9,     -999.0,9,     -999.0,9,     -999.0,9,     -999.0,9,     -999.0,9,     -999.0,9,-999.0000, -999.00
33RO20071215,        P18,     109,          1,         26,      12030,2,20080125,       2210,   -34.4938,  -103.0017,       3437,   199.4,  11.4167,  34.2976,2,  34.2987,2,    236.3,2,   234.8,2,    1.20,2,   11.10,2,    0.02,2,    0.77,2,   3.550,2,   1.965,2,   1.3147,2,  2088.9,2,  -999.0,9,   -999.0,9,  -999.00,   7.8219,2,    25.00,-999.000,9,-999.0000,9, -999.00,9, -999.00,9,  -999.0,9,-999.000,9,-999.000,-999.000,9,-999.000,9, -999.00,9, -999.00,9, -999.00,9, -999.00,9, -999.00,9,-999.000,-999.0000,9,-999.0000,9,-999.0000,9,-999.0000,9,-999.0000,9,-999.0000,9,-999.0000,9,-999.0000,9,-999.0000,9,  11.3917,     -999.0,9,     -999.0,9,     -999.0,9,     -999.0,9,     -999.0,9,     -999.0,9,     -999.0,9,-999.0000, -999.00
33RO20071215,        P18,     109,          1,         25,      12024,2,20080125,       2210,   -34.4938,  -103.0017,       3437,   251.7,   9.8117,  34.3257,2,  34.3319,2,    229.6,2,   228.3,2,    2.20,2,   15.50,2,    0.01,2,    1.03,2,-999.000,9,-999.000,9,-999.0000,9,  2111.4,2,  -999.0,9,   -999.0,9,  -999.00,   7.7527,2,    25.00,-999.000,9,-999.0000,9, -999.00,9, -999.00,9,  -999.0,9,-999.000,9,-999.000,-999.000,9,-999.000,9, -999.00,9, -999.00,9, -999.00,9, -999.00,9, -999.00,9,-999.000,-999.0000,9,-999.0000,9,-999.0000,9,-999.0000,9,-999.0000,9,-999.0000,9,-999.0000,9,-999.0000,9,-999.0000,9,   9.7830,     -999.0,9,     -999.0,9,     -999.0,9,     -999.0,9,     -999.0,9,     -999.0,9,     -999.0,9,-999.0000, -999.00
33RO20071215,        P18,     109,          1,         24,      12019,2,20080125,       2210,   -34.4938,  -103.0017,       3437,   299.9,   8.5138,  34.3206,2,  34.3266,2,    225.5,2,   225.2,2,    4.00,2,   19.40,2,    0.00,2,    1.28,2,-999.000,9,-999.000,9,-999.0000,9,  2129.6,2,  -999.0,9,   -999.0,9,  -999.00,   7.7309,2,    25.00,-999.000,9,-999.0000,9, -999.00,9, -999.00,9,  -999.0,9,-999.000,9,-999.000,-999.000,9,-999.000,9, -999.00,9, -999.00,9, -999.00,9, -999.00,9, -999.00,9,-999.000,-999.0000,9,-999.0000,9,-999.0000,9,-999.0000,9,-999.0000,9,-999.0000,9,-999.0000,9,-999.0000,9,-999.0000,9,   8.4824,     -999.0,9,     -999.0,9,     -999.0,9,     -999.0,9,     -999.0,9,     -999.0,9,     -999.0,9,-999.0000, -999.00
33RO20071215,        P18,     109,          1,         23,      12022,2,20080125,       2210,   -34.4938,  -103.0017,       3437,   349.1,   7.5247,  34.3029,2,  34.3070,2,    226.5,2,   226.6,2,    5.70,2,   22.00,2,    0.00,2,    1.47,2,-999.000,9,-999.000,9,-999.0000,9,  -999.0,9,  -999.0,9,   -999.0,9,  -999.00,-999.0000,9,  -999.00,-999.000,9,-999.0000,9, -999.00,9, -999.00,9,  -999.0,9,-999.000,9,-999.000,-999.000,9,-999.000,9, -999.00,9, -999.00,9, -999.00,9, -999.00,9, -999.00,9,-999.000,-999.0000,9,-999.0000,9,-999.0000,9,-999.0000,9,-999.0000,9,-999.0000,9,-999.0000,9,-999.0000,9,-999.0000,9,   7.4906,     -999.0,9,     -999.0,9,     -999.0,9,     -999.0,9,     -999.0,9,     -999.0,9,     -999.0,9,-999.0000, -999.00
33RO20071215,        P18,     109,          1,         22,      12015,2,20080125,       2210,   -34.4938,  -103.0017,       3437,   399.0,   6.9874,  34.3145,2,  34.3181,2,    229.4,2,   229.2,2,    6.90,2,   23.00,2,    0.00,2,    1.52,2,   3.610,2,   1.816,2,   0.6918,2,  2144.9,2,  -999.0,9,   -999.0,9,  -999.00,   7.6890,2,    25.00,-999.000,9,-999.0000,9, -999.00,9, -999.00,9,  -999.0,9,-999.000,9,-999.000,-999.000,9,-999.000,9, -999.00,9, -999.00,9, -999.00,9, -999.00,9, -999.00,9,-999.000,-999.0000,9,-999.0000,9,-999.0000,9,-999.0000,9,-999.0000,9,-999.0000,9,-999.0000,9,-999.0000,9,-999.0000,9,   6.9500,     -999.0,9,     -999.0,9,     -999.0,9,     -999.0,9,     -999.0,9,     -999.0,9,     -999.0,9,-999.0000, -999.00
33RO20071215,        P18,     109,          1,         21,      12020,2,20080125,       2210,   -34.4938,  -103.0017,       3437,   499.7,   6.3964,  34.3164,2,  34.3177,2,    248.3,2,   244.9,2,    8.00,2,   23.40,2,    0.00,2,    1.54,2,-999.000,9,-999.000,9,-999.0000,9,  -999.0,9,  -999.0,9,   -999.0,9,  -999.00,-999.0000,9,  -999.00,-999.000,9,-999.0000,9, -999.00,9, -999.00,9,  -999.0,9,-999.000,9,-999.000,-999.000,9,-999.000,9, -999.00,9, -999.00,9, -999.00,9, -999.00,9, -999.00,9,-999.000,-999.0000,9,-999.0000,9,-999.0000,9,-999.0000,9,-999.0000,9,-999.0000,9,-999.0000,9,-999.0000,9,-999.0000,9,   6.3513,     -999.0,9,     -999.0,9,     -999.0,9,     -999.0,9,     -999.0,9,     -999.0,9,     -999.0,9,-999.0000, -999.00
33RO20071215,        P18,     109,          1,         20,      12055,2,20080125,       2210,   -34.4938,  -103.0017,       3437,   599.6,   5.9066,  34.2904,2,  34.2941,2,    246.0,2,   245.4,2,    9.60,2,   24.60,2,    0.00,2,    1.61,2,   3.161,2,   1.554,2,   0.5798,2,  2145.9,2,  -999.0,9,   -999.0,9,  -999.00,   7.7126,2,    25.00,-999.000,9,-999.0000,9, -999.00,9, -999.00,9,  -999.0,9,-999.000,9,-999.000,-999.000,9,-999.000,9, -999.00,9, -999.00,9, -999.00,9, -999.00,9, -999.00,9,-999.000,-999.0000,9,-999.0000,9,-999.0000,9,-999.0000,9,-999.0000,9,-999.0000,9,-999.0000,9,-999.0000,9,-999.0000,9,   5.8544,     -999.0,9,     -999.0,9,     -999.0,9,     -999.0,9,     -999.0,9,     -999.0,9,     -999.0,9,-999.0000, -999.00
33RO20071215,        P18,     109,          1,         19,      12018,2,20080125,       2210,   -34.4938,  -103.0017,       3437,   700.1,   5.5147,  34.2720,2,  34.2745,2,    240.4,2,   240.3,2,   11.90,2,   26.10,2,    0.00,2,    1.72,2,-999.000,9,-999.000,9,-999.0000,9,  -999.0,9,  -999.0,9,   -999.0,9,  -999.00,-999.0000,9,  -999.00,-999.000,9,-999.0000,9, -999.00,9, -999.00,9,  -999.0,9,-999.000,9,-999.000,-999.000,9,-999.000,9, -999.00,9, -999.00,9, -999.00,9, -999.00,9, -999.00,9,-999.000,-999.0000,9,-999.0000,9,-999.0000,9,-999.0000,9,-999.0000,9,-999.0000,9,-999.0000,9,-999.0000,9,-999.0000,9,   5.4554,     -999.0,9,     -999.0,9,     -999.0,9,     -999.0,9,     -999.0,9,     -999.0,9,     -999.0,9,-999.0000, -999.00
33RO20071215,        P18,     109,          1,         18,      12025,2,20080125,       2210,   -34.4938,  -103.0017,       3437,   800.5,   5.0723,  34.2672,2,  34.2682,2,    228.0,2,   228.6,2,   16.30,2,   28.00,2,    0.00,2,    1.87,2,   1.801,2,   0.895,2,   0.2063,2,  2164.7,2,  -999.0,9,   -999.0,9,  -999.00,   7.6631,2,    25.00,-999.000,9,-999.0000,9, -999.00,9, -999.00,9,  -999.0,9,-999.000,9,-999.000,-999.000,9,-999.000,9, -999.00,9, -999.00,9, -999.00,9, -999.00,9, -999.00,9,-999.000,-999.0000,9,-999.0000,9,-999.0000,9,-999.0000,9,-999.0000,9,-999.0000,9,-999.0000,9,-999.0000,9,-999.0000,9,   5.0066,     -999.0,9,     -999.0,9,     -999.0,9,     -999.0,9,     -999.0,9,     -999.0,9,     -999.0,9,-999.0000, -999.00
33RO20071215,        P18,     109,          1,         17,      12016,2,20080125,       2210,   -34.4938,  -103.0017,       3437,   900.4,   4.5866,  34.2835,2,  34.2853,2,    209.1,2,   208.7,2,   24.50,2,   30.50,2,    0.00,2,    2.07,2,-999.000,9,-999.000,9,-999.0000,9,  -999.0,9,  -999.0,9,   -999.0,9,  -999.00,-999.0000,9,  -999.00,-999.000,9,-999.0000,9, -999.00,9, -999.00,9,  -999.0,9,-999.000,9,-999.000,-999.000,9,-999.000,9, -999.00,9, -999.00,9, -999.00,9, -999.00,9, -999.00,9,-999.000,-999.0000,9,-999.0000,9,-999.0000,9,-999.0000,9,-999.0000,9,-999.0000,9,-999.0000,9,-999.0000,9,-999.0000,9,   4.5154,     -999.0,9,     -999.0,9,     -999.0,9,     -999.0,9,     -999.0,9,     -999.0,9,     -999.0,9,-999.0000, -999.00
33RO20071215,        P18,     109,          1,         16,      12051,2,20080125,       2210,   -34.4938,  -103.0017,       3437,  1000.4,   4.1777,  34.3084,2,  34.3104,2,    193.2,2,   191.4,2,   33.10,2,   32.50,2,    0.00,2,    2.23,2,   0.508,2,   0.278,2,   0.0000,2,  2201.2,2,  -999.0,9,   -999.0,9,  -999.00,   7.6007,2,    25.00,-999.000,9,-999.0000,9, -999.00,9, -999.00,9,  -999.0,9,-999.000,9,-999.000,-999.000,9,-999.000,9, -999.00,9, -999.00,9, -999.00,9, -999.00,9, -999.00,9,-999.000,-999.0000,9,-999.0000,9,-999.0000,9,-999.0000,9,-999.0000,9,-999.0000,9,-999.0000,9,-999.0000,9,-999.0000,9,   4.1009,     -999.0,9,     -999.0,9,     -999.0,9,     -999.0,9,     -999.0,9,     -999.0,9,     -999.0,9,-999.0000, -999.00
33RO20071215,        P18,     109,          1,         15,      12014,2,20080125,       2210,   -34.4938,  -103.0017,       3437,  1099.0,   3.7199,  34.3740,2,  34.3742,2,    164.4,2,   164.2,2,   48.40,2,   35.30,2,    0.00,2,    2.44,2,-999.000,9,-999.000,9,-999.0000,9,  -999.0,9,  -999.0,9,   -999.0,9,  -999.00,-999.0000,9,  -999.00,-999.000,9,-999.0000,9, -999.00,9, -999.00,9,  -999.0,9,-999.000,9,-999.000,-999.000,9,-999.000,9, -999.00,9, -999.00,9, -999.00,9, -999.00,9, -999.00,9,-999.000,-999.0000,9,-999.0000,9,-999.0000,9,-999.0000,9,-999.0000,9,-999.0000,9,-999.0000,9,-999.0000,9,-999.0000,9,   3.6385,     -999.0,9,     -999.0,9,     -999.0,9,     -999.0,9,     -999.0,9,     -999.0,9,     -999.0,9,-999.0000, -999.00
33RO20071215,        P18,     109,          1,         14,      12013,2,20080125,       2210,   -34.4938,  -103.0017,       3437,  1200.6,   3.5102,  34.4275,2,  34.4289,2,    145.8,2,   145.1,2,   60.70,2,   36.80,2,    0.00,2,    2.56,2,   0.033,2,   0.021,2,   0.0000,2,  2251.9,2,  -999.0,9,   -999.0,9,  -999.00,   7.5333,2,    25.00,-999.000,9,-999.0000,9, -999.00,9, -999.00,9,  -999.0,9,-999.000,9,-999.000,-999.000,9,-999.000,9, -999.00,9, -999.00,9, -999.00,9, -999.00,9, -999.00,9,-999.000,-999.0000,9,-999.0000,9,-999.0000,9,-999.0000,9,-999.0000,9,-999.0000,9,-999.0000,9,-999.0000,9,-999.0000,9,   3.4222,     -999.0,9,     -999.0,9,     -999.0,9,     -999.0,9,     -999.0,9,     -999.0,9,     -999.0,9,-999.0000, -999.00
33RO20071215,        P18,     109,          1,         13,      12012,2,20080125,       2210,   -34.4938,  -103.0017,       3437,  1300.2,   3.3104,  34.4748,2,  34.4758,2,    135.8,2,   133.9,2,   71.60,2,   37.40,2,    0.00,2,    2.67,2,-999.000,9,-999.000,9,-999.0000,9,  -999.0,9,  -999.0,9,   -999.0,9,  -999.00,-999.0000,9,  -999.00,-999.000,9,-999.0000,9, -999.00,9, -999.00,9,  -999.0,9,-999.000,9,-999.000,-999.000,9,-999.000,9, -999.00,9, -999.00,9, -999.00,9, -999.00,9, -999.00,9,-999.000,-999.0000,9,-999.0000,9,-999.0000,9,-999.0000,9,-999.0000,9,-999.0000,9,-999.0000,9,-999.0000,9,-999.0000,9,   3.2160,     -999.0,9,     -999.0,9,     -999.0,9,     -999.0,9,     -999.0,9,     -999.0,9,     -999.0,9,-999.0000, -999.00
33RO20071215,        P18,     109,          1,         12,      12031,2,20080125,       2210,   -34.4938,  -103.0017,       3437,  1402.2,   3.1192,  34.5150,2,  34.5149,2,    129.4,2,   128.4,2,   80.90,2,   37.60,2,    0.00,2,    2.68,2,-999.000,9,-999.000,9,-999.0000,9,  2280.2,6,  2344.5,2,   -999.0,9,  -999.00,   7.5138,2,    25.00,-999.000,9,-999.0000,9, -999.00,9, -999.00,9,  -999.0,9,-999.000,9,-999.000,-999.000,9,-999.000,9, -999.00,9, -999.00,9, -999.00,9, -999.00,9, -999.00,9,-999.000,-999.0000,9,-999.0000,9,-999.0000,9,-999.0000,9,-999.0000,9,-999.0000,9,-999.0000,9,-999.0000,9,-999.0000,9,   3.0182,     -999.0,9,     -999.0,9,     -999.0,9,     -999.0,9,     -999.0,9,     -999.0,9,     -999.0,9,-999.0000, -999.00