BOTTLE,20220818CCHSIOAMB
EXPOCODE,SECT_ID,STNNBR,CASTNO,SAMPNO,BTLNBR,BTLNBR_FLAG_W,DATE,TIME,LATITUDE,LONGITUDE,DEPTH,CTDPRS,CTDTMP,CTDSAL,CTDSAL_FLAG_W,SALNTY,SALNTY_FLAG_W,CTDOXY,CTDOXY_FLAG_W,OXYGEN,OXYGEN_FLAG_W,SILCAT,SILCAT_FLAG_W,NITRAT,NITRAT_FLAG_W,NITRIT,NITRIT_FLAG_W,PHSPHT,PHSPHT_FLAG_W,CFC-11,CFC-11_FLAG_W,CFC-12,CFC-12_FLAG_W,SF6,SF6_FLAG_W,TCARBN,TCARBN_FLAG_W,ALKALI,ALKALI_FLAG_W,FCO2,FCO2_FLAG_W,FCO2TMP,PH_SWS,PH_SWS_FLAG_W,PH_TMP,TRITUM,TRITUM_FLAG_W,HELIUM,HELIUM_FLAG_W,DELHE3,DELHE3_FLAG_W,DELC13,DELC13_FLAG_W,DELC14,DELC14_FLAG_W,NEON,NEON_FLAG_W,NEONER,CCL4,CCL4_FLAG_W,POC,POC_FLAG_W,DOC,DOC_FLAG_W,TDN,TDN_FLAG_W,DON,DON_FLAG_W,CHLORA,CHLORA_FLAG_W,ARGON,ARGON_FLAG_W,TRITER,CDOM325,CDOM325_FLAG_W,CDOM340,CDOM340_FLAG_W,CDOM380,CDOM380_FLAG_W,CDOM412,CDOM412_FLAG_W,CDOM443,CDOM443_FLAG_W,CDOM490,CDOM490_FLAG_W,CDOM555,CDOM555_FLAG_W,CDOMSL,CDOMSL_FLAG_W,CDOMSN,CDOMSN_FLAG_W,THETA,D18O_NO3,D18O_NO3_FLAG_W,CDOM2C,CDOM2C_FLAG_W,CDOM3C,CDOM3C_FLAG_W,LAB_DEN,LAB_DEN_FLAG_W,DELSI30,DELSI30_FLAG_W,N2,N2_FLAG_W,D15N_NO3,D15N_NO3_FLAG_W,HELIER,DELHER
,,,,,,,,,,,METERS,DBAR,ITS-90,PSS-78,,PSS-78,,UMOL/KG,,UMOL/KG,,UMOL/KG,,UMOL/KG,,UMOL/KG,,UMOL/KG,,PMOL/KG,,PMOL/KG,,FMOL/KG,,UMOL/KG,,UMOL/KG,,UATM,,DEG C,,,DEG C,TU,,NMOL/KG,,PERCNT,,/MILLE,,/MILLE,,NMOL/KG,,NMOL/KG,PMOL/KG,,UG/KG,,UMOL/KG,,UMOL/KG,,UMOL/KG,,UG/KG,,UMOL/KG,,TU,1/M,,1/M,,1/M,,1/M,,1/M,,1/M,,1/M,,1/NM,,1/NM,,DEG C,/MILLE,,,,,,,,/MILLE,,UMOL/KG,,/MILLE,,NMOL/KG,PERCNT
33RO20071215,        P18,      48,          1,         36,      12017,2,20071231,       0532,    -1.4990,  -110.0003,       3852,     5.6,  21.2898,  34.6535,2,  34.6567,2,    201.1,2,   203.0,2,    8.80,2,   11.90,2,    0.19,2,    0.87,2,   1.910,6,   1.157,6,   0.9953,6,  2072.0,6,  2290.8,2,   -999.0,9,  -999.00,   7.8817,2,    25.00,-999.000,9,-999.0000,9, -999.00,9, -999.00,9,  -999.0,9,-999.000,9,-999.000,-999.000,9,-999.000,9, -999.00,9, -999.00,9, -999.00,9, -999.00,9, -999.00,9,-999.000,-999.0000,9,-999.0000,9,-999.0000,9,-999.0000,9,-999.0000,9,-999.0000,9,-999.0000,9,-999.0000,9,-999.0000,9,  21.2887,     -999.0,9,     -999.0,9,     -999.0,9,     -999.0,9,     -999.0,9,     -999.0,9,     -999.0,9,-999.0000, -999.00
33RO20071215,        P18,      48,          1,         35,      12029,2,20071231,       0532,    -1.4990,  -110.0003,       3852,    13.4,  20.7174,  34.6772,2,  34.6823,2,    194.6,2,   193.9,2,    8.80,2,   12.10,2,    0.19,2,    0.89,2,-999.000,9,-999.000,9,-999.0000,9,  2076.0,2,  2289.2,2,   -999.0,9,  -999.00,   7.8692,2,    25.00,-999.000,9,-999.0000,9, -999.00,9, -999.00,9,  -999.0,9,-999.000,9,-999.000,-999.000,9,-999.000,9, -999.00,9, -999.00,9, -999.00,9, -999.00,9, -999.00,9,-999.000,-999.0000,9,-999.0000,9,-999.0000,9,-999.0000,9,-999.0000,9,-999.0000,9,-999.0000,9,-999.0000,9,-999.0000,9,  20.7149,     -999.0,9,     -999.0,9,     -999.0,9,     -999.0,9,     -999.0,9,     -999.0,9,     -999.0,9,-999.0000, -999.00
33RO20071215,        P18,      48,          1,         34,      12049,2,20071231,       0532,    -1.4990,  -110.0003,       3852,    20.1,  20.1442,  34.7269,2,  34.7301,2,    184.3,2,   185.0,2,    9.00,2,   12.40,2,    0.21,2,    0.91,2,-999.000,9,-999.000,9,-999.0000,9,  2081.4,2,  2290.2,2,   -999.0,9,  -999.00,   7.8729,2,    25.00,-999.000,9,-999.0000,9, -999.00,9, -999.00,9,  -999.0,9,-999.000,9,-999.000,-999.000,9,-999.000,9, -999.00,9, -999.00,9, -999.00,9, -999.00,9, -999.00,9,-999.000,-999.0000,9,-999.0000,9,-999.0000,9,-999.0000,9,-999.0000,9,-999.0000,9,-999.0000,9,-999.0000,9,-999.0000,9,  20.1404,     -999.0,9,     -999.0,9,     -999.0,9,     -999.0,9,     -999.0,9,     -999.0,9,     -999.0,9,-999.0000, -999.00
33RO20071215,        P18,      48,          1,         33,      12027,2,20071231,       0532,    -1.4990,  -110.0003,       3852,    42.2,  20.0937,  34.7934,2,  34.8013,2,    180.3,2,   180.8,2,    9.00,2,   12.70,2,    0.23,2,    0.92,2,   1.851,2,   1.099,2,   0.7906,2,  2088.8,2,  2296.5,2,   -999.0,9,  -999.00,   7.8602,2,    25.00,-999.000,9,-999.0000,9, -999.00,9, -999.00,9,  -999.0,9,-999.000,9,-999.000,-999.000,9,-999.000,9, -999.00,9, -999.00,9, -999.00,9, -999.00,9, -999.00,9,-999.000,-999.0000,9,-999.0000,9,-999.0000,9,-999.0000,9,-999.0000,9,-999.0000,9,-999.0000,9,-999.0000,9,-999.0000,9,  20.0859,     -999.0,9,     -999.0,9,     -999.0,9,     -999.0,9,     -999.0,9,     -999.0,9,     -999.0,9,-999.0000, -999.00
33RO20071215,        P18,      48,          1,         32,      12023,2,20071231,       0532,    -1.4990,  -110.0003,       3852,    71.7,  15.6175,  35.0473,2,  35.0573,2,     68.1,2,    63.5,2,   15.40,2,   23.60,2,    0.82,2,    1.74,2,-999.000,9,-999.000,9,-999.0000,9,  2194.5,2,  2307.7,2,   -999.0,9,  -999.00,   7.6371,2,    25.00,-999.000,9,-999.0000,9, -999.00,9, -999.00,9,  -999.0,9,-999.000,9,-999.000,-999.000,9,-999.000,9, -999.00,9, -999.00,9, -999.00,9, -999.00,9, -999.00,9,-999.000,-999.0000,9,-999.0000,9,-999.0000,9,-999.0000,9,-999.0000,9,-999.0000,9,-999.0000,9,-999.0000,9,-999.0000,9,  15.6063,     -999.0,9,     -999.0,9,     -999.0,9,     -999.0,9,     -999.0,9,     -999.0,9,     -999.0,9,-999.0000, -999.00
33RO20071215,        P18,      48,          1,         31,      12037,2,20071231,       0532,    -1.4990,  -110.0003,       3852,    92.0,  14.0238,  34.9966,2,  34.9945,2,     30.4,2,    29.3,2,   19.30,2,   30.00,2,    0.09,2,    2.01,2,   1.243,2,   0.694,2,   0.3217,2,  2218.2,2,  2302.6,2,   -999.0,9,  -999.00,   7.5447,2,    25.00,-999.000,9,-999.0000,9, -999.00,9, -999.00,9,  -999.0,9,-999.000,9,-999.000,-999.000,9,-999.000,9, -999.00,9, -999.00,9, -999.00,9, -999.00,9, -999.00,9,-999.000,-999.0000,9,-999.0000,9,-999.0000,9,-999.0000,9,-999.0000,9,-999.0000,9,-999.0000,9,-999.0000,9,-999.0000,9,  14.0106,     -999.0,9,     -999.0,9,     -999.0,9,     -999.0,9,     -999.0,9,     -999.0,9,     -999.0,9,-999.0000, -999.00
33RO20071215,        P18,      48,          1,         30,      12036,2,20071231,       0532,    -1.4990,  -110.0003,       3852,   116.9,  13.5368,  34.9694,2,  34.9686,2,     29.8,2,    28.6,2,   20.30,2,   30.20,2,    0.04,2,    2.04,2,-999.000,9,-999.000,9,-999.0000,9,  2224.0,2,  2302.2,2,   -999.0,9,  -999.00,   7.5402,2,    25.00,-999.000,9,-999.0000,9, -999.00,9, -999.00,9,  -999.0,9,-999.000,9,-999.000,-999.000,9,-999.000,9, -999.00,9, -999.00,9, -999.00,9, -999.00,9, -999.00,9,-999.000,-999.0000,9,-999.0000,9,-999.0000,9,-999.0000,9,-999.0000,9,-999.0000,9,-999.0000,9,-999.0000,9,-999.0000,9,  13.5203,     -999.0,9,     -999.0,9,     -999.0,9,     -999.0,9,     -999.0,9,     -999.0,9,     -999.0,9,-999.0000, -999.00
33RO20071215,        P18,      48,          1,         29,      12044,2,20071231,       0532,    -1.4990,  -110.0003,       3852,   141.5,  13.0425,  34.9386,2,  34.9413,2,     32.0,2,    31.5,2,   21.70,2,   30.40,2,    0.01,2,    2.05,2,   1.057,2,   0.605,2,   0.5264,4,  2225.7,2,  2302.5,2,   -999.0,9,  -999.00,   7.5336,2,    25.00,-999.000,9,-999.0000,9, -999.00,9, -999.00,9,  -999.0,9,-999.000,9,-999.000,-999.000,9,-999.000,9, -999.00,9, -999.00,9, -999.00,9, -999.00,9, -999.00,9,-999.000,-999.0000,9,-999.0000,9,-999.0000,9,-999.0000,9,-999.0000,9,-999.0000,9,-999.0000,9,-999.0000,9,-999.0000,9,  13.0230,     -999.0,9,     -999.0,9,     -999.0,9,     -999.0,9,     -999.0,9,     -999.0,9,     -999.0,9,-999.0000, -999.00
33RO20071215,        P18,      48,          1,         28,      12057,2,20071231,       0532,    -1.4990,  -110.0003,       3852,   166.8,  12.4238,  34.8944,2,  34.8931,2,     44.6,2,    43.4,2,   23.30,2,   29.80,2,    0.01,2,    2.03,2,-999.000,9,-999.000,9,-999.0000,9,  2223.1,2,  2306.7,2,   -999.0,9,  -999.00,   7.5592,2,    25.00,-999.000,9,-999.0000,9, -999.00,9, -999.00,9,  -999.0,9,-999.000,9,-999.000,-999.000,9,-999.000,9, -999.00,9, -999.00,9, -999.00,9, -999.00,9, -999.00,9,-999.000,-999.0000,9,-999.0000,9,-999.0000,9,-999.0000,9,-999.0000,9,-999.0000,9,-999.0000,9,-999.0000,9,-999.0000,9,  12.4016,     -999.0,9,     -999.0,9,     -999.0,9,     -999.0,9,     -999.0,9,     -999.0,9,     -999.0,9,-999.0000, -999.00
33RO20071215,        P18,      48,          1,         27,      12026,2,20071231,       0532,    -1.4990,  -110.0003,       3852,   191.0,  12.2340,  34.8787,2,  34.8772,2,     47.6,2,    50.7,2,   23.80,2,   29.60,2,    0.01,2,    2.00,2,-999.000,9,-999.000,9,-999.0000,9,  2221.3,2,  2304.6,2,   -999.0,9,  -999.00,   7.5587,2,    25.00,-999.000,9,-999.0000,9, -999.00,9, -999.00,9,  -999.0,9,-999.000,9,-999.000,-999.000,9,-999.000,9, -999.00,9, -999.00,9, -999.00,9, -999.00,9, -999.00,9,-999.000,-999.0000,9,-999.0000,9,-999.0000,9,-999.0000,9,-999.0000,9,-999.0000,9,-999.0000,9,-999.0000,9,-999.0000,9,  12.2088,     -999.0,9,     -999.0,9,     -999.0,9,     -999.0,9,     -999.0,9,     -999.0,9,     -999.0,9,-999.0000, -999.00
33RO20071215,        P18,      48,          1,         26,      12030,2,20071231,       0532,    -1.4990,  -110.0003,       3852,   233.2,  12.0593,  34.8643,2,  34.8631,2,     37.0,2,    37.2,2,   25.40,2,   30.90,2,    0.01,2,    2.10,2,   0.841,2,   0.467,2,   0.2207,2,  2230.8,2,  2304.0,2,   -999.0,9,  -999.00,   7.5294,2,    25.00,-999.000,9,-999.0000,9, -999.00,9, -999.00,9,  -999.0,9,-999.000,9,-999.000,-999.000,9,-999.000,9, -999.00,9, -999.00,9, -999.00,9, -999.00,9, -999.00,9,-999.000,-999.0000,9,-999.0000,9,-999.0000,9,-999.0000,9,-999.0000,9,-999.0000,9,-999.0000,9,-999.0000,9,-999.0000,9,  12.0288,     -999.0,9,     -999.0,9,     -999.0,9,     -999.0,9,     -999.0,9,     -999.0,9,     -999.0,9,-999.0000, -999.00
33RO20071215,        P18,      48,          1,         25,      12024,2,20071231,       0532,    -1.4990,  -110.0003,       3852,   283.3,  11.8589,  34.8494,2,  34.8486,2,     26.3,2,    26.8,2,   26.90,2,   32.30,2,    0.01,2,    2.21,2,-999.000,9,-999.000,9,-999.0000,9,  2240.1,2,  2304.6,2,   -999.0,9,  -999.00,   7.5042,2,    25.00,-999.000,9,-999.0000,9, -999.00,9, -999.00,9,  -999.0,9,-999.000,9,-999.000,-999.000,9,-999.000,9, -999.00,9, -999.00,9, -999.00,9, -999.00,9, -999.00,9,-999.000,-999.0000,9,-999.0000,9,-999.0000,9,-999.0000,9,-999.0000,9,-999.0000,9,-999.0000,9,-999.0000,9,-999.0000,9,  11.8221,     -999.0,9,     -999.0,9,     -999.0,9,     -999.0,9,     -999.0,9,     -999.0,9,     -999.0,9,-999.0000, -999.00
33RO20071215,        P18,      48,          1,         24,      12019,2,20071231,       0532,    -1.4990,  -110.0003,       3852,   344.4,  11.4242,  34.8238,2,  34.8221,2,     24.8,2,    25.3,2,   28.10,2,   33.10,2,    0.01,2,    2.27,2,   0.614,2,   0.344,2,   0.1712,2,  2245.0,2,  2303.0,2,   -999.0,9,  -999.00,   7.4785,2,    25.00,-999.000,9,-999.0000,9, -999.00,9, -999.00,9,  -999.0,9,-999.000,9,-999.000,-999.000,9,-999.000,9, -999.00,9, -999.00,9, -999.00,9, -999.00,9, -999.00,9,-999.000,-999.0000,9,-999.0000,9,-999.0000,9,-999.0000,9,-999.0000,9,-999.0000,9,-999.0000,9,-999.0000,9,-999.0000,9,  11.3804,     -999.0,9,     -999.0,9,     -999.0,9,     -999.0,9,     -999.0,9,     -999.0,9,     -999.0,9,-999.0000, -999.00
33RO20071215,        P18,      48,          1,         23,      12022,2,20071231,       0532,    -1.4990,  -110.0003,       3852,   406.9,   9.7210,  34.7273,2,  34.7278,2,     36.1,2,    32.8,2,   32.90,2,   35.20,2,    0.00,2,    2.46,2,-999.000,9,-999.000,9,-999.0000,9,  2255.0,2,  2306.3,2,   -999.0,9,  -999.00,   7.4560,2,    25.00,-999.000,9,-999.0000,9, -999.00,9, -999.00,9,  -999.0,9,-999.000,9,-999.000,-999.000,9,-999.000,9, -999.00,9, -999.00,9, -999.00,9, -999.00,9, -999.00,9,-999.000,-999.0000,9,-999.0000,9,-999.0000,9,-999.0000,9,-999.0000,9,-999.0000,9,-999.0000,9,-999.0000,9,-999.0000,9,   9.6742,     -999.0,9,     -999.0,9,     -999.0,9,     -999.0,9,     -999.0,9,     -999.0,9,     -999.0,9,-999.0000, -999.00
33RO20071215,        P18,      48,          1,         22,      12015,2,20071231,       0532,    -1.4990,  -110.0003,       3852,   467.0,   8.4676,  34.6502,2,  34.6488,2,     46.4,2,    45.3,2,   37.80,2,   37.20,2,    0.00,2,    2.54,2,   0.181,2,   0.102,2,   0.0223,2,  2257.0,2,  2307.4,2,   -999.0,9,  -999.00,   7.4564,2,    25.00,-999.000,9,-999.0000,9, -999.00,9, -999.00,9,  -999.0,9,-999.000,9,-999.000,-999.000,9,-999.000,9, -999.00,9, -999.00,9, -999.00,9, -999.00,9, -999.00,9,-999.000,-999.0000,9,-999.0000,9,-999.0000,9,-999.0000,9,-999.0000,9,-999.0000,9,-999.0000,9,-999.0000,9,-999.0000,9,   8.4181,     -999.0,9,     -999.0,9,     -999.0,9,     -999.0,9,     -999.0,9,     -999.0,9,     -999.0,9,-999.0000, -999.00
33RO20071215,        P18,      48,          1,         21,      12020,2,20071231,       0532,    -1.4990,  -110.0003,       3852,   567.1,   7.2410,  34.5840,2,  34.5836,2,     70.9,2,    71.4,2,   44.00,2,   37.10,2,    0.00,2,    2.55,2,-999.000,9,-999.000,9,-999.0000,9,  -999.0,9,  -999.0,9,   -999.0,9,  -999.00,-999.0000,9,  -999.00,-999.000,9,-999.0000,9, -999.00,9, -999.00,9,  -999.0,9,-999.000,9,-999.000,-999.000,9,-999.000,9, -999.00,9, -999.00,9, -999.00,9, -999.00,9, -999.00,9,-999.000,-999.0000,9,-999.0000,9,-999.0000,9,-999.0000,9,-999.0000,9,-999.0000,9,-999.0000,9,-999.0000,9,-999.0000,9,   7.1858,     -999.0,9,     -999.0,9,     -999.0,9,     -999.0,9,     -999.0,9,     -999.0,9,     -999.0,9,-999.0000, -999.00
33RO20071215,        P18,      48,          1,         20,      12055,2,20071231,       0532,    -1.4990,  -110.0003,       3852,   666.6,   6.4585,  34.5580,2,  34.5581,2,     76.3,2,    76.3,2,   52.40,2,   38.20,2,    0.00,2,    2.64,2,   0.079,2,   0.045,2,   0.0000,2,  2262.2,2,  2319.5,2,   -999.0,9,  -999.00,   7.4816,2,    25.00,-999.000,9,-999.0000,9, -999.00,9, -999.00,9,  -999.0,9,-999.000,9,-999.000,-999.000,9,-999.000,9, -999.00,9, -999.00,9, -999.00,9, -999.00,9, -999.00,9,-999.000,-999.0000,9,-999.0000,9,-999.0000,9,-999.0000,9,-999.0000,9,-999.0000,9,-999.0000,9,-999.0000,9,-999.0000,9,   6.3971,     -999.0,9,     -999.0,9,     -999.0,9,     -999.0,9,     -999.0,9,     -999.0,9,     -999.0,9,-999.0000, -999.00
33RO20071215,        P18,      48,          1,         19,      12018,2,20071231,       0532,    -1.4990,  -110.0003,       3852,   763.6,   5.7381,  34.5442,2,  34.5431,2,     85.4,2,    85.0,2,   60.90,2,   38.40,2,    0.00,2,    2.66,2,-999.000,9,-999.000,9,-999.0000,9,  -999.0,9,  -999.0,9,   -999.0,9,  -999.00,-999.0000,9,  -999.00,-999.000,9,-999.0000,9, -999.00,9, -999.00,9,  -999.0,9,-999.000,9,-999.000,-999.000,9,-999.000,9, -999.00,9, -999.00,9, -999.00,9, -999.00,9, -999.00,9,-999.000,-999.0000,9,-999.0000,9,-999.0000,9,-999.0000,9,-999.0000,9,-999.0000,9,-999.0000,9,-999.0000,9,-999.0000,9,   5.6715,     -999.0,9,     -999.0,9,     -999.0,9,     -999.0,9,     -999.0,9,     -999.0,9,     -999.0,9,-999.0000, -999.00
33RO20071215,        P18,      48,          1,         18,      12025,2,20071231,       0532,    -1.4990,  -110.0003,       3852,   867.1,   5.4148,  34.5468,2,  34.5465,2,     78.5,2,    78.6,2,   68.30,2,   39.50,2,    0.00,2,    2.76,2,-999.000,9,-999.000,9,-999.0000,9,  2280.5,2,  2335.3,2,   -999.0,9,  -999.00,   7.4653,2,    25.00,-999.000,9,-999.0000,9, -999.00,9, -999.00,9,  -999.0,9,-999.000,9,-999.000,-999.000,9,-999.000,9, -999.00,9, -999.00,9, -999.00,9, -999.00,9, -999.00,9,-999.000,-999.0000,9,-999.0000,9,-999.0000,9,-999.0000,9,-999.0000,9,-999.0000,9,-999.0000,9,-999.0000,9,-999.0000,9,   5.3406,     -999.0,9,     -999.0,9,     -999.0,9,     -999.0,9,     -999.0,9,     -999.0,9,     -999.0,9,-999.0000, -999.00
33RO20071215,        P18,      48,          1,         17,      12016,2,20071231,       0532,    -1.4990,  -110.0003,       3852,   964.2,   4.8690,  34.5524,2,  34.5526,2,     78.4,2,    79.1,2,   79.50,2,   40.00,2,    0.00,2,    2.81,2,-999.000,9,-999.000,9,-999.0000,9,  -999.0,9,  -999.0,9,   -999.0,9,  -999.00,-999.0000,9,  -999.00,-999.000,9,-999.0000,9, -999.00,9, -999.00,9,  -999.0,9,-999.000,9,-999.000,-999.000,9,-999.000,9, -999.00,9, -999.00,9, -999.00,9, -999.00,9, -999.00,9,-999.000,-999.0000,9,-999.0000,9,-999.0000,9,-999.0000,9,-999.0000,9,-999.0000,9,-999.0000,9,-999.0000,9,-999.0000,9,   4.7898,     -999.0,9,     -999.0,9,     -999.0,9,     -999.0,9,     -999.0,9,     -999.0,9,     -999.0,9,-999.0000, -999.00
33RO20071215,        P18,      48,          1,         16,      12051,2,20071231,       0532,    -1.4990,  -110.0003,       3852,  1067.2,   4.4300,  34.5612,2,  34.5608,2,     80.0,2,    79.4,2,   89.10,2,   40.10,2,    0.00,2,    2.84,2,-999.000,9,-999.000,9,-999.0000,9,  2302.7,2,  2361.3,2,   -999.0,9,  -999.00,   7.4624,2,    25.00,-999.000,9,-999.0000,9, -999.00,9, -999.00,9,  -999.0,9,-999.000,9,-999.000,-999.000,9,-999.000,9, -999.00,9, -999.00,9, -999.00,9, -999.00,9, -999.00,9,-999.000,-999.0000,9,-999.0000,9,-999.0000,9,-999.0000,9,-999.0000,9,-999.0000,9,-999.0000,9,-999.0000,9,-999.0000,9,   4.3451,     -999.0,9,     -999.0,9,     -999.0,9,     -999.0,9,     -999.0,9,     -999.0,9,     -999.0,9,-999.0000, -999.00
33RO20071215,        P18,      48,          1,         15,      12014,2,20071231,       0532,    -1.4990,  -110.0003,       3852,  1166.8,   4.0381,  34.5685,2,  34.5686,2,     81.4,2,    85.3,2,   97.20,2,   40.20,2,    0.00,2,    2.83,2,-999.000,9,-999.000,9,-999.0000,9,  -999.0,9,  -999.0,9,   -999.0,9,  -999.00,-999.0000,9,  -999.00,-999.000,9,-999.0000,9, -999.00,9, -999.00,9,  -999.0,9,-999.000,9,-999.000,-999.000,9,-999.000,9, -999.00,9, -999.00,9, -999.00,9, -999.00,9, -999.00,9,-999.000,-999.0000,9,-999.0000,9,-999.0000,9,-999.0000,9,-999.0000,9,-999.0000,9,-999.0000,9,-999.0000,9,-999.0000,9,   3.9479,     -999.0,9,     -999.0,9,     -999.0,9,     -999.0,9,     -999.0,9,     -999.0,9,     -999.0,9,-999.0000, -999.00
33RO20071215,        P18,      48,          1,         14,      12013,2,20071231,       0532,    -1.4990,  -110.0003,       3852,  1265.4,   3.6874,  34.5814,2,  34.5813,2,     84.5,2,    85.0,2,  106.50,2,   40.30,2,    0.00,2,    2.86,2,-999.000,9,-999.000,9,-999.0000,9,  2319.2,2,  2376.1,2,   -999.0,9,  -999.00,   7.4684,2,    25.00,-999.000,9,-999.0000,9, -999.00,9, -999.00,9,  -999.0,9,-999.000,9,-999.000,-999.000,9,-999.000,9, -999.00,9, -999.00,9, -999.00,9, -999.00,9, -999.00,9,-999.000,-999.0000,9,-999.0000,9,-999.0000,9,-999.0000,9,-999.0000,9,-999.0000,9,-999.0000,9,-999.0000,9,-999.0000,9,   3.5920,     -999.0,9,     -999.0,9,     -999.0,9,     -999.0,9,     -999.0,9,     -999.0,9,     -999.0,9,-999.0000, -999.00
33RO20071215,        P18,      48,          1,         13,      12012,2,20071231,       0532,    -1.4990,  -110.0003,       3852,  1366.0,   3.4143,  34.5930,2,  34.5929,2,     84.5,2,    84.5,2,  114.60,2,   40.60,2,    0.00,2,    2.87,2,-999.000,9,-999.000,9,-999.0000,9,  -999.0,9,  -999.0,9,   -999.0,9,  -999.00,-999.0000,9,  -999.00,-999.000,9,-999.0000,9, -999.00,9, -999.00,9,  -999.0,9,-999.000,9,-999.000,-999.000,9,-999.000,9, -999.00,9, -999.00,9, -999.00,9, -999.00,9, -999.00,9,-999.000,-999.0000,9,-999.0000,9,-999.0000,9,-999.0000,9,-999.0000,9,-999.0000,9,-999.0000,9,-999.0000,9,-999.0000,9,   3.3131,     -999.0,9,     -999.0,9,     -999.0,9,     -999.0,9,     -999.0,9,     -999.0,9,     -999.0,9,-999.0000, -999.00
33RO20071215,        P18,      48,          1,         12,      12031,2,20071231,       0532,    -1.4990,  -110.0003,       3852,  1534.0,   3.0616,  34.6048,2,  34.6053,2,     91.9,2,    92.0,2,  121.80,2,   40.00,2,    0.00,2,    2.83,2,-999.000,9,-999.000,9,-999.0000,9,  2332.2,2,  2394.2,2,   -999.0,9,  -999.00,   7.4773,2,    25.00,-999.000,9,-999.0000,9, -999.00,9, -999.00,9,  -999.0,9,-999.000,9,-999.000,-999.000,9,-999.000,9, -999.00,9, -999.00,9, -999.00,9, -999.00,9, -999.00,9,-999.000,-999.0000,9,-999.0000,9,-999.0000,9,-999.0000,9,-999.0000,9,-999.0000,9,-999.0000,9,-999.0000,9,-999.0000,9,   2.9501,     -999.0,9,     -999.0,9,     -999.0,9,     -999.0,9,     -999.0,9,     -999.0,9,     -999.0,9,-999.0000, -999.00