BOTTLE,20220818CCHSIOAMB
EXPOCODE,SECT_ID,STNNBR,CASTNO,SAMPNO,BTLNBR,BTLNBR_FLAG_W,DATE,TIME,LATITUDE,LONGITUDE,DEPTH,CTDPRS,CTDTMP,CTDSAL,CTDSAL_FLAG_W,SALNTY,SALNTY_FLAG_W,CTDOXY,CTDOXY_FLAG_W,OXYGEN,OXYGEN_FLAG_W,SILCAT,SILCAT_FLAG_W,NITRAT,NITRAT_FLAG_W,NITRIT,NITRIT_FLAG_W,PHSPHT,PHSPHT_FLAG_W,CFC-11,CFC-11_FLAG_W,CFC-12,CFC-12_FLAG_W,SF6,SF6_FLAG_W,TCARBN,TCARBN_FLAG_W,ALKALI,ALKALI_FLAG_W,FCO2,FCO2_FLAG_W,FCO2TMP,PH_SWS,PH_SWS_FLAG_W,PH_TMP,TRITUM,TRITUM_FLAG_W,HELIUM,HELIUM_FLAG_W,DELHE3,DELHE3_FLAG_W,DELC13,DELC13_FLAG_W,DELC14,DELC14_FLAG_W,NEON,NEON_FLAG_W,NEONER,CCL4,CCL4_FLAG_W,POC,POC_FLAG_W,DOC,DOC_FLAG_W,TDN,TDN_FLAG_W,DON,DON_FLAG_W,CHLORA,CHLORA_FLAG_W,ARGON,ARGON_FLAG_W,TRITER,CDOM325,CDOM325_FLAG_W,CDOM340,CDOM340_FLAG_W,CDOM380,CDOM380_FLAG_W,CDOM412,CDOM412_FLAG_W,CDOM443,CDOM443_FLAG_W,CDOM490,CDOM490_FLAG_W,CDOM555,CDOM555_FLAG_W,CDOMSL,CDOMSL_FLAG_W,CDOMSN,CDOMSN_FLAG_W,THETA,D18O_NO3,D18O_NO3_FLAG_W,CDOM2C,CDOM2C_FLAG_W,CDOM3C,CDOM3C_FLAG_W,LAB_DEN,LAB_DEN_FLAG_W,DELSI30,DELSI30_FLAG_W,N2,N2_FLAG_W,D15N_NO3,D15N_NO3_FLAG_W,HELIER,DELHER
,,,,,,,,,,,METERS,DBAR,ITS-90,PSS-78,,PSS-78,,UMOL/KG,,UMOL/KG,,UMOL/KG,,UMOL/KG,,UMOL/KG,,UMOL/KG,,PMOL/KG,,PMOL/KG,,FMOL/KG,,UMOL/KG,,UMOL/KG,,UATM,,DEG C,,,DEG C,TU,,NMOL/KG,,PERCNT,,/MILLE,,/MILLE,,NMOL/KG,,NMOL/KG,PMOL/KG,,UG/KG,,UMOL/KG,,UMOL/KG,,UMOL/KG,,UG/KG,,UMOL/KG,,TU,1/M,,1/M,,1/M,,1/M,,1/M,,1/M,,1/M,,1/NM,,1/NM,,DEG C,/MILLE,,,,,,,,/MILLE,,UMOL/KG,,/MILLE,,NMOL/KG,PERCNT
33RO20071215,        P18,     165,          1,         24,      11024,2,20080212,       0553,   -65.7492,  -103.0008,       4859,     4.3,   2.2222,  33.8384,2,  33.8387,2,    328.6,2,   332.5,2,    4.10,2,   24.00,2,    0.15,2,    1.48,2,   5.567,2,   3.107,2,   2.1898,2,  2136.8,6,  2279.6,2,   -999.0,9,  -999.00,   7.7505,2,    25.00,-999.000,9,-999.0000,9, -999.00,9, -999.00,9,  -999.0,9,-999.000,9,-999.000,-999.000,9,-999.000,9,   45.77,2,   28.31,2, -999.00,9, -999.00,9, -999.00,9,-999.000,-999.0000,9,-999.0000,9,-999.0000,9,-999.0000,9,-999.0000,9,-999.0000,9,-999.0000,9,-999.0000,9,-999.0000,9,   2.2219,     -999.0,9,     -999.0,9,     -999.0,9,     -999.0,1,     -999.0,9,     -999.0,9,     -999.0,9,-999.0000, -999.00
33RO20071215,        P18,     165,          1,         23,      11023,2,20080212,       0553,   -65.7492,  -103.0008,       4859,    20.2,   2.2173,  33.8401,2,  33.8386,2,    329.5,2,   332.5,2,    4.10,2,   24.10,2,    0.15,2,    1.49,2,   5.657,2,   3.156,2,   2.3255,2,  2137.4,2,  2279.8,2,   -999.0,9,  -999.00,   7.7525,2,    25.00,-999.000,9,-999.0000,9, -999.00,9, -999.00,9,  -999.0,9,-999.000,9,-999.000,-999.000,9,-999.000,9,   45.32,2,   28.31,2, -999.00,9, -999.00,9, -999.00,9,-999.000,-999.0000,9,-999.0000,9,-999.0000,9,-999.0000,9,-999.0000,9,-999.0000,9,-999.0000,9,-999.0000,9,-999.0000,9,   2.2162,     -999.0,9,     -999.0,9,     -999.0,9,     -999.0,1,     -999.0,9,     -999.0,9,     -999.0,9,-999.0000, -999.00
33RO20071215,        P18,     165,          1,         22,      11022,2,20080212,       0553,   -65.7492,  -103.0008,       4859,    42.2,   2.1907,  33.8413,2,  33.8454,2,    330.6,2,   331.9,2,    4.50,2,   24.20,2,    0.15,2,    1.51,2,   5.605,2,   3.107,2,   2.2025,2,  2137.1,2,  2276.3,2,   -999.0,9,  -999.00,   7.7533,2,    25.00,-999.000,9,-999.0000,9, -999.00,9, -999.00,9,  -999.0,9,-999.000,9,-999.000,-999.000,9,-999.000,9,   44.71,2,   28.19,2, -999.00,9, -999.00,9, -999.00,9,-999.000,-999.0000,9,-999.0000,9,-999.0000,9,-999.0000,9,-999.0000,9,-999.0000,9,-999.0000,9,-999.0000,9,-999.0000,9,   2.1885,     -999.0,9,     -999.0,9,     -999.0,9,     -999.0,1,     -999.0,9,     -999.0,9,     -999.0,9,-999.0000, -999.00
33RO20071215,        P18,     165,          1,         21,      11021,2,20080212,       0553,   -65.7492,  -103.0008,       4859,    66.9,   0.8221,  33.9526,2,  33.8597,4,    334.5,2,   334.2,2,    5.10,2,   24.40,2,    0.15,2,    1.57,2,-999.000,9,-999.000,9,-999.0000,9,  2138.9,2,  2279.9,2,   -999.0,9,  -999.00,   7.7469,2,    25.00,-999.000,9,-999.0000,9, -999.00,9, -999.00,9,  -999.0,9,-999.000,9,-999.000,-999.000,9,-999.000,9,   43.94,3,   28.35,3, -999.00,9, -999.00,9, -999.00,9,-999.000,-999.0000,9,-999.0000,9,-999.0000,9,-999.0000,9,-999.0000,9,-999.0000,9,-999.0000,9,-999.0000,9,-999.0000,9,   0.8193,     -999.0,9,     -999.0,9,     -999.0,9,     -999.0,1,     -999.0,9,     -999.0,9,     -999.0,9,-999.0000, -999.00
33RO20071215,        P18,     165,          1,         20,      11020,2,20080212,       0553,   -65.7492,  -103.0008,       4859,    91.8,   0.5430,  33.9556,2,  33.9566,2,    334.5,2,   337.4,2,   22.40,2,   27.00,2,    0.15,2,    2.01,2,   6.021,2,   3.310,2,   2.2901,2,  2162.0,2,  2284.2,2,   -999.0,9,  -999.00,   7.6978,2,    25.00,-999.000,9,-999.0000,9, -999.00,9, -999.00,9,  -999.0,9,-999.000,9,-999.000,-999.000,9,-999.000,9,   42.05,2,   30.34,2, -999.00,9, -999.00,9, -999.00,9,-999.000,-999.0000,9,-999.0000,9,-999.0000,9,-999.0000,9,-999.0000,9,-999.0000,9,-999.0000,9,-999.0000,9,-999.0000,9,   0.5394,     -999.0,9,     -999.0,9,     -999.0,9,     -999.0,1,     -999.0,9,     -999.0,9,     -999.0,9,-999.0000, -999.00
33RO20071215,        P18,     165,          1,         19,      11019,2,20080212,       0553,   -65.7492,  -103.0008,       4859,   131.8,   0.1880,  33.9850,2,  33.9871,2,    330.9,2,   333.9,2,   26.50,2,   28.80,2,    0.33,2,    2.06,2,-999.000,9,-999.000,9,-999.0000,9,  2168.6,2,  2283.5,2,   -999.0,9,  -999.00,   7.6777,2,    25.00,-999.000,9,-999.0000,9, -999.00,9, -999.00,9,  -999.0,9,-999.000,9,-999.000,-999.000,9,-999.000,9,   41.56,2,   31.47,2, -999.00,9, -999.00,9, -999.00,9,-999.000,-999.0000,9,-999.0000,9,-999.0000,9,-999.0000,9,-999.0000,9,-999.0000,9,-999.0000,9,-999.0000,9,-999.0000,9,   0.1831,     -999.0,9,     -999.0,9,     -999.0,9,     -999.0,1,     -999.0,9,     -999.0,9,     -999.0,9,-999.0000, -999.00
33RO20071215,        P18,     165,          1,         18,      11018,2,20080212,       0553,   -65.7492,  -103.0008,       4859,   200.4,   0.6510,  34.0725,2,  34.0757,2,    302.6,2,   300.1,2,   34.30,2,   31.00,2,    0.01,2,    2.14,2,   4.948,2,   2.762,2,   1.8141,2,  2184.6,2,  2290.8,2,   -999.0,9,  -999.00,   7.6468,2,    25.00,-999.000,9,-999.0000,9, -999.00,9, -999.00,9,  -999.0,9,-999.000,9,-999.000,-999.000,9,-999.000,9,   40.56,2,   33.50,2, -999.00,9, -999.00,9, -999.00,9,-999.000,-999.0000,9,-999.0000,9,-999.0000,9,-999.0000,9,-999.0000,9,-999.0000,9,-999.0000,9,-999.0000,9,-999.0000,9,   0.6427,     -999.0,9,     -999.0,9,     -999.0,9,     -999.0,9,     -999.0,9,     -999.0,9,     -999.0,9,-999.0000, -999.00
33RO20071215,        P18,     165,          1,         17,      11017,2,20080212,       0553,   -65.7492,  -103.0008,       4859,   275.3,   1.7473,  34.2497,2,  34.2502,2,    237.7,2,   239.4,2,   49.40,2,   33.50,2,    0.01,2,    2.30,2,   3.242,2,   1.739,2,   1.0733,2,  2215.0,2,  2301.5,2,   -999.0,9,  -999.00,   7.5922,2,    25.00,-999.000,9,-999.0000,9, -999.00,9, -999.00,9,  -999.0,9,-999.000,9,-999.000,-999.000,9,-999.000,9,   40.56,2,   34.58,2, -999.00,9, -999.00,9, -999.00,9,-999.000,-999.0000,9,-999.0000,9,-999.0000,9,-999.0000,9,-999.0000,9,-999.0000,9,-999.0000,9,-999.0000,9,-999.0000,9,   1.7331,     -999.0,9,     -999.0,9,     -999.0,9,     -999.0,1,     -999.0,9,     -999.0,9,     -999.0,9,-999.0000, -999.00
33RO20071215,        P18,     165,          1,         16,      11016,2,20080212,       0553,   -65.7492,  -103.0008,       4859,   367.1,   2.1348,  34.3779,2,  34.3783,2,    200.8,2,   201.9,2,   60.10,2,   34.80,2,    0.00,2,    2.39,2,   2.002,2,   1.026,2,   0.4979,2,  2234.5,2,  2315.8,2,   -999.0,9,  -999.00,   7.5622,2,    25.00,-999.000,9,-999.0000,9, -999.00,9, -999.00,9,  -999.0,9,-999.000,9,-999.000,-999.000,9,-999.000,9,   40.51,2,   36.06,2, -999.00,9, -999.00,9, -999.00,9,-999.000,-999.0000,9,-999.0000,9,-999.0000,9,-999.0000,9,-999.0000,9,-999.0000,9,-999.0000,9,-999.0000,9,-999.0000,9,   2.1143,     -999.0,9,     -999.0,9,     -999.0,9,     -999.0,9,     -999.0,9,     -999.0,9,     -999.0,9,-999.0000, -999.00
33RO20071215,        P18,     165,          1,         15,      11015,2,20080212,       0553,   -65.7492,  -103.0008,       4859,   466.9,   2.2772,  34.4672,2,  34.4675,2,    184.1,2,   184.0,2,   67.20,2,   35.00,2,    0.00,2,    2.41,2,-999.000,9,-999.000,9,-999.0000,9,  2246.1,2,  2333.8,2,   -999.0,9,  -999.00,   7.5528,2,    25.00,-999.000,9,-999.0000,9, -999.00,9, -999.00,9,  -999.0,9,-999.000,9,-999.000,-999.000,9,-999.000,9,   40.06,2,   36.77,2, -999.00,9, -999.00,9, -999.00,9,-999.000,-999.0000,9,-999.0000,9,-999.0000,9,-999.0000,9,-999.0000,9,-999.0000,9,-999.0000,9,-999.0000,9,-999.0000,9,   2.2502,     -999.0,9,     -999.0,9,     -999.0,9,     -999.0,1,     -999.0,9,     -999.0,9,     -999.0,9,-999.0000, -999.00
33RO20071215,        P18,     165,          1,         14,      11014,2,20080212,       0553,   -65.7492,  -103.0008,       4859,   601.4,   2.2352,  34.5552,2,  34.5541,2,    175.8,2,   175.8,2,   74.00,2,   34.80,2,    0.00,2,    2.40,2,   0.795,2,   0.401,2,   0.1934,2,  2255.2,2,  -999.0,5,   -999.0,9,  -999.00,   7.5566,2,    25.00,-999.000,9,-999.0000,9, -999.00,9, -999.00,9,  -999.0,9,-999.000,9,-999.000,-999.000,9,-999.000,9,   40.01,2,   36.36,2, -999.00,9, -999.00,9, -999.00,1,-999.000,-999.0000,9,-999.0000,9,-999.0000,9,-999.0000,9,-999.0000,9,-999.0000,9,-999.0000,9,-999.0000,9,-999.0000,9,   2.1998,     -999.0,1,     -999.0,9,     -999.0,9,     -999.0,9,     -999.0,9,     -999.0,1,     -999.0,9,-999.0000, -999.00
33RO20071215,        P18,     165,          1,         13,      11013,2,20080212,       0553,   -65.7492,  -103.0008,       4859,   750.6,   2.2018,  34.6181,2,  34.6176,2,    174.0,2,   175.0,2,   78.20,2,   34.00,2,    0.00,2,    2.35,2,   0.509,2,   0.255,2,   0.1093,2,  2257.9,6,  2337.1,2,   -999.0,9,  -999.00,   7.5606,2,    25.00,-999.000,9,-999.0000,9, -999.00,9, -999.00,9,  -999.0,9,-999.000,9,-999.000,-999.000,9,-999.000,9,   39.82,2,   35.23,2, -999.00,9, -999.00,9, -999.00,1,-999.000,-999.0000,9,-999.0000,9,-999.0000,9,-999.0000,9,-999.0000,9,-999.0000,9,-999.0000,9,-999.0000,9,-999.0000,9,   2.1569,     -999.0,1,     -999.0,9,     -999.0,9,     -999.0,1,     -999.0,9,     -999.0,1,     -999.0,9,-999.0000, -999.00
33RO20071215,        P18,     165,          1,         12,      11012,2,20080212,       0553,   -65.7492,  -103.0008,       4859,   901.4,   2.1445,  34.6655,2,  34.6657,2,    176.5,2,   177.7,2,   81.20,2,   33.20,2,    0.00,2,    2.30,2,   0.341,2,   0.170,2,   0.0448,2,  2250.2,2,  2341.3,2,   -999.0,9,  -999.00,   7.5735,2,    25.00,-999.000,9,-999.0000,9, -999.00,9, -999.00,9,  -999.0,9,-999.000,9,-999.000,-999.000,9,-999.000,9,   39.66,2,   34.89,2, -999.00,9, -999.00,9, -999.00,9,-999.000,-999.0000,9,-999.0000,9,-999.0000,9,-999.0000,9,-999.0000,9,-999.0000,9,-999.0000,9,-999.0000,9,-999.0000,9,   2.0898,     -999.0,9,     -999.0,9,     -999.0,9,     -999.0,9,     -999.0,9,     -999.0,9,     -999.0,9,-999.0000, -999.00
33RO20071215,        P18,     165,          1,         11,      11010,2,20080212,       0553,   -65.7492,  -103.0008,       4859,  1050.0,   2.0758,  34.6965,2,  34.6956,2,    179.8,2,   181.0,2,   83.60,2,   32.60,2,    0.00,2,    2.26,2,-999.000,9,-999.000,9,-999.0000,9,  2253.8,2,  2343.4,2,   -999.0,9,  -999.00,   7.5823,2,    25.00,-999.000,9,-999.0000,9, -999.00,9, -999.00,9,  -999.0,9,-999.000,9,-999.000,-999.000,9,-999.000,9,   39.63,2,   34.11,2, -999.00,9, -999.00,9, -999.00,1,-999.000,-999.0000,9,-999.0000,9,-999.0000,9,-999.0000,9,-999.0000,9,-999.0000,9,-999.0000,9,-999.0000,9,-999.0000,9,   2.0114,     -999.0,1,     -999.0,9,     -999.0,9,     -999.0,1,     -999.0,9,     -999.0,1,     -999.0,9,-999.0000, -999.00
33RO20071215,        P18,     165,          1,         10,      11011,2,20080212,       0553,   -65.7492,  -103.0008,       4859,  1233.4,   1.9557,  34.7189,2,  34.7188,2,    184.0,2,   185.1,2,   86.90,2,   32.10,2,    0.00,2,    2.22,2,   0.207,2,   0.102,2,   0.0000,2,  2257.2,2,  2348.9,2,   -999.0,9,  -999.00,   7.5922,2,    25.00,-999.000,9,-999.0000,9, -999.00,9, -999.00,9,  -999.0,9,-999.000,9,-999.000,-999.000,9,-999.000,9,   39.31,2,   33.60,2, -999.00,9, -999.00,9, -999.00,9,-999.000,-999.0000,9,-999.0000,9,-999.0000,9,-999.0000,9,-999.0000,9,-999.0000,9,-999.0000,9,-999.0000,9,-999.0000,9,   1.8793,     -999.0,9,     -999.0,9,     -999.0,9,     -999.0,9,     -999.0,9,     -999.0,9,     -999.0,9,-999.0000, -999.00
33RO20071215,        P18,     165,          1,          9,      11009,2,20080212,       0553,   -65.7492,  -103.0008,       4859,  1500.6,   1.7488,  34.7327,2,  34.7322,2,    189.7,2,   192.0,2,   92.90,2,   31.70,2,    0.00,2,    2.20,2,   0.150,2,   0.075,2,   0.0000,2,  2256.3,2,  2344.8,2,   -999.0,9,  -999.00,   7.6068,2,    25.00,-999.000,9,-999.0000,9, -999.00,9, -999.00,9,  -999.0,9,-999.000,9,-999.000,-999.000,9,-999.000,9,   39.90,2,   33.24,2, -999.00,9, -999.00,9, -999.00,1,-999.000,-999.0000,9,-999.0000,9,-999.0000,9,-999.0000,9,-999.0000,9,-999.0000,9,-999.0000,9,-999.0000,9,-999.0000,9,   1.6550,     -999.0,1,     -999.0,9,     -999.0,9,     -999.0,1,     -999.0,9,     -999.0,1,     -999.0,9,-999.0000, -999.00
33RO20071215,        P18,     165,          1,          8,      11008,2,20080212,       0553,   -65.7492,  -103.0008,       4859,  1867.9,   1.4560,  34.7324,2,  34.7312,2,    193.9,2,   195.0,2,  102.60,2,   32.00,2,    0.00,2,    2.21,2,   0.095,2,   0.048,2,   0.0000,2,  2260.3,2,  2356.1,2,   -999.0,9,  -999.00,   7.6130,2,    25.00,-999.000,9,-999.0000,9, -999.00,9, -999.00,9,  -999.0,9,-999.000,9,-999.000,-999.000,9,-999.000,9,   39.48,2,   33.37,2, -999.00,9, -999.00,9, -999.00,9,-999.000,-999.0000,9,-999.0000,9,-999.0000,9,-999.0000,9,-999.0000,9,-999.0000,9,-999.0000,9,-999.0000,9,-999.0000,9,   1.3379,     -999.0,9,     -999.0,9,     -999.0,9,     -999.0,9,     -999.0,9,     -999.0,9,     -999.0,9,-999.0000, -999.00
33RO20071215,        P18,     165,          1,          7,      11007,2,20080212,       0553,   -65.7492,  -103.0008,       4859,  2267.1,   1.2158,  34.7264,2,  34.7269,2,    198.2,2,   199.0,2,  110.40,2,   32.20,2,    0.00,2,    2.23,2,   0.078,6,   0.038,6,   0.0000,6,  2262.4,2,  2376.6,4,   -999.0,9,  -999.00,   7.6102,2,    25.00,-999.000,9,-999.0000,9, -999.00,9, -999.00,9,  -999.0,9,-999.000,9,-999.000,   0.109,3,-999.000,9,   40.33,2,   33.39,2, -999.00,9, -999.00,9, -999.00,9,-999.000,-999.0000,9,-999.0000,9,-999.0000,9,-999.0000,9,-999.0000,9,-999.0000,9,-999.0000,9,-999.0000,9,-999.0000,9,   1.0695,     -999.0,9,     -999.0,9,     -999.0,9,     -999.0,1,     -999.0,9,     -999.0,9,     -999.0,9,-999.0000, -999.00
33RO20071215,        P18,     165,          1,          6,      11006,2,20080212,       0553,   -65.7492,  -103.0008,       4859,  2734.5,   0.9745,  34.7186,2,  34.7192,2,    203.0,2,   204.0,2,  118.40,2,   32.40,2,    0.00,2,    2.25,2,   0.102,2,   0.049,2,   0.0000,2,  2262.3,2,  2357.5,2,   -999.0,9,  -999.00,   7.6073,2,    25.00,-999.000,9,-999.0000,9, -999.00,9, -999.00,9,  -999.0,9,-999.000,9,-999.000,   0.134,3,-999.000,9,   39.76,2,   33.87,2, -999.00,9, -999.00,9, -999.00,9,-999.000,-999.0000,9,-999.0000,9,-999.0000,9,-999.0000,9,-999.0000,9,-999.0000,9,-999.0000,9,-999.0000,9,-999.0000,9,   0.7929,     -999.0,9,     -999.0,9,     -999.0,9,     -999.0,1,     -999.0,9,     -999.0,9,     -999.0,9,-999.0000, -999.00
33RO20071215,        P18,     165,          1,          5,      11005,2,20080212,       0553,   -65.7492,  -103.0008,       4859,  3232.8,   0.7628,  34.7113,2,  34.7101,2,    207.2,2,   207.6,2,  125.50,2,   32.70,2,    0.00,2,    2.26,2,-999.000,9,-999.000,9,-999.0000,9,  2263.8,6,  2358.6,2,   -999.0,9,  -999.00,   7.6067,2,    25.00,-999.000,9,-999.0000,9, -999.00,9, -999.00,9,  -999.0,9,-999.000,9,-999.000,-999.000,9,-999.000,9,   38.93,2,   34.58,2, -999.00,9, -999.00,9, -999.00,9,-999.000,-999.0000,9,-999.0000,9,-999.0000,9,-999.0000,9,-999.0000,9,-999.0000,9,-999.0000,9,-999.0000,9,-999.0000,9,   0.5407,     -999.0,9,     -999.0,9,     -999.0,9,     -999.0,1,     -999.0,9,     -999.0,9,     -999.0,9,-999.0000, -999.00
33RO20071215,        P18,     165,          1,          4,      11004,2,20080212,       0553,   -65.7492,  -103.0008,       4859,  3733.3,   0.5512,  34.7074,2,  34.7063,2,    211.9,2,   212.7,2,  130.70,6,   32.90,6,    0.00,6,    2.27,2,   0.170,2,   0.086,2,   0.0000,2,  2263.6,2,  2359.1,2,   -999.0,9,  -999.00,   7.6072,2,    25.00,-999.000,9,-999.0000,9, -999.00,9, -999.00,9,  -999.0,9,-999.000,9,-999.000,   0.200,3,-999.000,9,   38.60,2,   34.55,2, -999.00,9, -999.00,9, -999.00,9,-999.000,-999.0000,9,-999.0000,9,-999.0000,9,-999.0000,9,-999.0000,9,-999.0000,9,-999.0000,9,-999.0000,9,-999.0000,9,   0.2860,     -999.0,9,     -999.0,9,     -999.0,9,     -999.0,1,     -999.0,9,     -999.0,9,     -999.0,9,-999.0000, -999.00
33RO20071215,        P18,     165,          1,          3,      11003,2,20080212,       0553,   -65.7492,  -103.0008,       4859,  4232.4,   0.4415,  34.7059,2,  34.7046,2,    215.5,2,   215.2,2,  135.60,6,   33.00,6,    0.00,6,    2.28,2,   0.172,2,   0.088,2,   0.0000,2,  2263.7,2,  2358.8,4,   -999.0,9,  -999.00,   7.6018,2,    25.00,-999.000,9,-999.0000,9, -999.00,9, -999.00,9,  -999.0,9,-999.000,9,-999.000,   0.212,3,-999.000,9,   39.20,2,   34.05,2, -999.00,9, -999.00,9, -999.00,9,-999.000,-999.0000,9,-999.0000,9,-999.0000,9,-999.0000,9,-999.0000,9,-999.0000,9,-999.0000,9,-999.0000,9,-999.0000,9,   0.1282,     -999.0,9,     -999.0,9,     -999.0,9,     -999.0,1,     -999.0,9,     -999.0,9,     -999.0,9,-999.0000, -999.00
33RO20071215,        P18,     165,          1,          2,      11002,2,20080212,       0553,   -65.7492,  -103.0008,       4859,  4732.9,   0.4102,  34.7046,2,  34.7020,2,    216.6,2,   217.1,2,  140.10,6,   33.00,6,    0.00,6,    2.28,2,   0.265,2,   0.132,2,   0.0390,2,  2263.6,2,  2359.8,2,   -999.0,9,  -999.00,   7.5983,2,    25.00,-999.000,9,-999.0000,9, -999.00,9, -999.00,9,  -999.0,9,-999.000,9,-999.000,   0.291,3,-999.000,9,   39.75,2,   34.88,2, -999.00,9, -999.00,9, -999.00,9,-999.000,-999.0000,9,-999.0000,9,-999.0000,9,-999.0000,9,-999.0000,9,-999.0000,9,-999.0000,9,-999.0000,9,-999.0000,9,   0.0433,     -999.0,9,     -999.0,9,     -999.0,9,     -999.0,1,     -999.0,9,     -999.0,9,     -999.0,9,-999.0000, -999.00
33RO20071215,        P18,     165,          1,          1,      11001,2,20080212,       0553,   -65.7492,  -103.0008,       4859,  4945.6,   0.4133,  34.7036,2,  34.7024,2,    217.1,2,   216.7,2,  146.60,2,   33.00,2,    0.01,2,    2.29,2,   0.314,2,   0.155,2,   0.0701,2,  2265.6,6,  2361.8,2,   -999.0,9,  -999.00,   7.5910,2,    25.00,-999.000,9,-999.0000,9, -999.00,9, -999.00,9,  -999.0,9,-999.000,9,-999.000,   0.288,3,-999.000,9,   40.54,2,   34.73,2, -999.00,9, -999.00,9, -999.00,9,-999.000,-999.0000,9,-999.0000,9,-999.0000,9,-999.0000,9,-999.0000,9,-999.0000,9,-999.0000,9,-999.0000,9,-999.0000,9,   0.0222,     -999.0,9,     -999.0,9,     -999.0,9,     -999.0,1,     -999.0,9,     -999.0,9,     -999.0,9,-999.0000, -999.00