BOTTLE,20220818CCHSIOAMB
EXPOCODE,SECT_ID,STNNBR,CASTNO,SAMPNO,BTLNBR,BTLNBR_FLAG_W,DATE,TIME,LATITUDE,LONGITUDE,DEPTH,CTDPRS,CTDTMP,CTDSAL,CTDSAL_FLAG_W,SALNTY,SALNTY_FLAG_W,CTDOXY,CTDOXY_FLAG_W,OXYGEN,OXYGEN_FLAG_W,SILCAT,SILCAT_FLAG_W,NITRAT,NITRAT_FLAG_W,NITRIT,NITRIT_FLAG_W,PHSPHT,PHSPHT_FLAG_W,CFC-11,CFC-11_FLAG_W,CFC-12,CFC-12_FLAG_W,SF6,SF6_FLAG_W,TCARBN,TCARBN_FLAG_W,ALKALI,ALKALI_FLAG_W,FCO2,FCO2_FLAG_W,FCO2TMP,PH_SWS,PH_SWS_FLAG_W,PH_TMP,TRITUM,TRITUM_FLAG_W,HELIUM,HELIUM_FLAG_W,DELHE3,DELHE3_FLAG_W,DELC13,DELC13_FLAG_W,DELC14,DELC14_FLAG_W,NEON,NEON_FLAG_W,NEONER,CCL4,CCL4_FLAG_W,POC,POC_FLAG_W,DOC,DOC_FLAG_W,TDN,TDN_FLAG_W,DON,DON_FLAG_W,CHLORA,CHLORA_FLAG_W,ARGON,ARGON_FLAG_W,TRITER,CDOM325,CDOM325_FLAG_W,CDOM340,CDOM340_FLAG_W,CDOM380,CDOM380_FLAG_W,CDOM412,CDOM412_FLAG_W,CDOM443,CDOM443_FLAG_W,CDOM490,CDOM490_FLAG_W,CDOM555,CDOM555_FLAG_W,CDOMSL,CDOMSL_FLAG_W,CDOMSN,CDOMSN_FLAG_W,THETA,D18O_NO3,D18O_NO3_FLAG_W,CDOM2C,CDOM2C_FLAG_W,CDOM3C,CDOM3C_FLAG_W,LAB_DEN,LAB_DEN_FLAG_W,DELSI30,DELSI30_FLAG_W,N2,N2_FLAG_W,D15N_NO3,D15N_NO3_FLAG_W,HELIER,DELHER
,,,,,,,,,,,METERS,DBAR,ITS-90,PSS-78,,PSS-78,,UMOL/KG,,UMOL/KG,,UMOL/KG,,UMOL/KG,,UMOL/KG,,UMOL/KG,,PMOL/KG,,PMOL/KG,,FMOL/KG,,UMOL/KG,,UMOL/KG,,UATM,,DEG C,,,DEG C,TU,,NMOL/KG,,PERCNT,,/MILLE,,/MILLE,,NMOL/KG,,NMOL/KG,PMOL/KG,,UG/KG,,UMOL/KG,,UMOL/KG,,UMOL/KG,,UG/KG,,UMOL/KG,,TU,1/M,,1/M,,1/M,,1/M,,1/M,,1/M,,1/M,,1/NM,,1/NM,,DEG C,/MILLE,,,,,,,,/MILLE,,UMOL/KG,,/MILLE,,NMOL/KG,PERCNT
33RO20071215,        P18,      31,          1,         24,      11024,2,20071225,       1554,     6.8332,  -109.9982,       3484,     5.9,  26.8920,  34.1839,2,  34.1878,2,    204.8,2,   180.4,2,    1.00,2,    0.00,2,    0.00,2,    0.10,2,   1.638,6,   1.046,6,   0.9907,6,  1927.7,6,  2249.0,2,    274.7,2,    20.00,   8.0937,2,    25.00,-999.000,9,-999.0000,9, -999.00,9,    1.27,2,  -999.0,1,-999.000,9,-999.000,-999.000,9,-999.000,9, -999.00,9, -999.00,9, -999.00,9, -999.00,9, -999.00,9,-999.000,-999.0000,9,-999.0000,9,-999.0000,9,-999.0000,9,-999.0000,9,-999.0000,9,-999.0000,9,-999.0000,9,-999.0000,9,  26.8907,     -999.0,9,     -999.0,9,     -999.0,9,     -999.0,9,     -999.0,9,     -999.0,9,     -999.0,9,-999.0000, -999.00
33RO20071215,        P18,      31,          1,         23,      11023,2,20071225,       1554,     6.8332,  -109.9982,       3484,    25.5,  26.7990,  34.1802,2,  34.2014,2,    205.4,2,   197.2,2,    1.10,2,    0.10,2,    0.01,2,    0.14,2,   1.635,2,   1.042,2,   1.0524,2,  1929.4,2,  2252.8,2,    278.2,2,    20.00,   8.1010,2,    25.00,-999.000,9,-999.0000,9, -999.00,9, -999.00,9,  -999.0,9,-999.000,9,-999.000,-999.000,9,-999.000,9, -999.00,9, -999.00,9, -999.00,9, -999.00,9, -999.00,9,-999.000,-999.0000,9,-999.0000,9,-999.0000,9,-999.0000,9,-999.0000,9,-999.0000,9,-999.0000,9,-999.0000,9,-999.0000,9,  26.7932,     -999.0,9,     -999.0,9,     -999.0,9,     -999.0,9,     -999.0,9,     -999.0,9,     -999.0,9,-999.0000, -999.00
33RO20071215,        P18,      31,          1,         22,      11022,2,20071225,       1554,     6.8332,  -109.9982,       3484,    50.6,  24.6947,  34.3410,2,  34.3879,2,    197.3,2,   192.3,2,    2.60,2,    3.10,2,    0.41,2,    0.35,2,   1.765,2,   1.107,2,   0.9556,2,  1983.2,2,  -999.0,5,    341.5,2,    20.00,   8.0624,2,    25.00,-999.000,9,-999.0000,9, -999.00,9,    1.05,2,  -999.0,1,-999.000,9,-999.000,-999.000,9,-999.000,9, -999.00,9, -999.00,9, -999.00,9, -999.00,9, -999.00,9,-999.000,-999.0000,9,-999.0000,9,-999.0000,9,-999.0000,9,-999.0000,9,-999.0000,9,-999.0000,9,-999.0000,9,-999.0000,9,  24.6838,     -999.0,9,     -999.0,9,     -999.0,9,     -999.0,9,     -999.0,9,     -999.0,9,     -999.0,9,-999.0000, -999.00
33RO20071215,        P18,      31,          1,         21,      11021,2,20071225,       1554,     6.8332,  -109.9982,       3484,    74.6,  19.4513,  34.6835,2,  34.6910,2,     98.7,2,   104.2,2,   10.90,2,   18.10,2,    0.89,2,    1.34,2,   1.717,2,   1.016,2,   0.7676,2,  2131.6,2,  2281.6,2,   -999.0,9,  -999.00,   7.7456,2,    25.00,-999.000,9,-999.0000,9, -999.00,9, -999.00,9,  -999.0,9,-999.000,9,-999.000,-999.000,9,-999.000,9, -999.00,9, -999.00,9, -999.00,9, -999.00,9, -999.00,9,-999.000,-999.0000,9,-999.0000,9,-999.0000,9,-999.0000,9,-999.0000,9,-999.0000,9,-999.0000,9,-999.0000,9,-999.0000,9,  19.4379,     -999.0,9,     -999.0,9,     -999.0,9,     -999.0,9,     -999.0,9,     -999.0,9,     -999.0,9,-999.0000, -999.00
33RO20071215,        P18,      31,          1,         20,      11020,2,20071225,       1554,     6.8332,  -109.9982,       3484,   100.3,  13.7726,  34.7204,2,  34.7280,2,     27.3,2,    28.1,2,   22.90,2,   30.00,2,    0.02,2,    2.16,2,   1.189,2,   0.664,2,   0.3924,2,  2220.1,2,  2290.0,2,   1322.2,2,    20.00,   7.5211,2,    25.00,-999.000,9,-999.0000,9, -999.00,9,   -0.16,2,  -999.0,1,-999.000,9,-999.000,-999.000,9,-999.000,9, -999.00,9, -999.00,9, -999.00,9, -999.00,9, -999.00,9,-999.000,-999.0000,9,-999.0000,9,-999.0000,9,-999.0000,9,-999.0000,9,-999.0000,9,-999.0000,9,-999.0000,9,-999.0000,9,  13.7583,     -999.0,9,     -999.0,9,     -999.0,9,     -999.0,9,     -999.0,9,     -999.0,9,     -999.0,9,-999.0000, -999.00
33RO20071215,        P18,      31,          1,         19,      11019,2,20071225,       1554,     6.8332,  -109.9982,       3484,   126.6,  12.0054,  34.7398,2,  34.7396,2,     34.8,2,    29.5,2,   26.50,2,   31.10,2,    0.01,2,    2.20,2,   0.938,2,   0.514,2,   0.1756,2,  2229.3,2,  2297.8,2,   -999.0,9,  -999.00,   7.5158,2,    25.00,-999.000,9,-999.0000,9, -999.00,9, -999.00,9,  -999.0,9,-999.000,9,-999.000,-999.000,9,-999.000,9, -999.00,9, -999.00,9, -999.00,9, -999.00,9, -999.00,9,-999.000,-999.0000,9,-999.0000,9,-999.0000,9,-999.0000,9,-999.0000,9,-999.0000,9,-999.0000,9,-999.0000,9,-999.0000,9,  11.9890,     -999.0,9,     -999.0,9,     -999.0,9,     -999.0,9,     -999.0,9,     -999.0,9,     -999.0,9,-999.0000, -999.00
33RO20071215,        P18,      31,          1,         18,      11018,2,20071225,       1554,     6.8332,  -109.9982,       3484,   152.2,  11.6882,  34.7725,2,  34.7738,2,     35.0,2,    39.5,2,   26.80,2,   31.20,2,    0.01,2,    2.16,2,   0.837,2,   0.458,2,   0.2075,2,  2229.9,2,  2300.7,2,   1324.9,6,    20.00,   7.5237,2,    25.00,-999.000,9,-999.0000,9, -999.00,9,   -0.01,2,  -999.0,1,-999.000,9,-999.000,-999.000,9,-999.000,9, -999.00,9, -999.00,9, -999.00,9, -999.00,9, -999.00,9,-999.000,-999.0000,9,-999.0000,9,-999.0000,9,-999.0000,9,-999.0000,9,-999.0000,9,-999.0000,9,-999.0000,9,-999.0000,9,  11.6688,     -999.0,9,     -999.0,9,     -999.0,9,     -999.0,9,     -999.0,9,     -999.0,9,     -999.0,9,-999.0000, -999.00
33RO20071215,        P18,      31,          1,         17,      11017,2,20071225,       1554,     6.8332,  -109.9982,       3484,   201.2,  10.9980,  34.7434,2,  34.7448,2,     53.3,2,    50.8,2,   28.10,2,   31.10,2,    0.01,2,    2.15,2,   0.746,2,   0.408,2,   0.1593,2,  2228.1,2,  2300.1,2,   1285.4,2,    20.00,   7.5333,2,    25.00,-999.000,9,-999.0000,9, -999.00,9,    0.05,2,  -999.0,1,-999.000,9,-999.000,-999.000,9,-999.000,9, -999.00,9, -999.00,9, -999.00,9, -999.00,9, -999.00,9,-999.000,-999.0000,9,-999.0000,9,-999.0000,9,-999.0000,9,-999.0000,9,-999.0000,9,-999.0000,9,-999.0000,9,-999.0000,9,  10.9732,     -999.0,9,     -999.0,9,     -999.0,9,     -999.0,9,     -999.0,9,     -999.0,9,     -999.0,9,-999.0000, -999.00
33RO20071215,        P18,      31,          1,         16,      11016,2,20071225,       1554,     6.8332,  -109.9982,       3484,   275.7,  10.3235,  34.7170,2,  34.7171,2,     34.5,2,    29.6,2,   32.30,2,   33.60,2,    0.00,2,    2.39,2,   0.459,2,   0.254,2,   0.0756,2,  2250.0,2,  2302.3,2,   1511.4,2,    20.00,   7.4678,2,    25.00,-999.000,9,-999.0000,9, -999.00,9,   -0.15,3,  -999.0,1,-999.000,9,-999.000,-999.000,9,-999.000,9, -999.00,9, -999.00,9, -999.00,9, -999.00,9, -999.00,9,-999.000,-999.0000,9,-999.0000,9,-999.0000,9,-999.0000,9,-999.0000,9,-999.0000,9,-999.0000,9,-999.0000,9,-999.0000,9,  10.2909,     -999.0,9,     -999.0,9,     -999.0,9,     -999.0,9,     -999.0,9,     -999.0,9,     -999.0,9,-999.0000, -999.00
33RO20071215,        P18,      31,          1,         15,      11015,2,20071225,       1554,     6.8332,  -109.9982,       3484,   349.8,   9.6041,  34.6827,2,  34.6847,2,     24.7,2,    17.9,2,   36.70,2,   35.50,2,    0.01,2,    2.57,2,   0.257,2,   0.142,2,   0.0371,2,  2265.2,2,  2305.3,2,   1657.5,2,    20.00,   7.4364,2,    25.00,-999.000,9,-999.0000,9, -999.00,9,   -0.03,2,  -999.0,1,-999.000,9,-999.000,-999.000,9,-999.000,9, -999.00,9, -999.00,9, -999.00,9, -999.00,9, -999.00,9,-999.000,-999.0000,9,-999.0000,9,-999.0000,9,-999.0000,9,-999.0000,9,-999.0000,9,-999.0000,9,-999.0000,9,-999.0000,9,   9.5644,     -999.0,9,     -999.0,9,     -999.0,9,     -999.0,9,     -999.0,9,     -999.0,9,     -999.0,9,-999.0000, -999.00
33RO20071215,        P18,      31,          1,         14,      11014,2,20071225,       1554,     6.8332,  -109.9982,       3484,   425.8,   8.8064,  34.6485,2,  34.6503,2,      5.4,2,     7.9,2,   45.50,2,   36.60,2,    0.00,2,    2.94,2,-999.000,9,-999.000,9,-999.0000,9,  2289.9,2,  2312.9,2,   -999.0,9,  -999.00,   7.3803,2,    25.00,-999.000,9,-999.0000,9, -999.00,9,   -0.14,2,  -999.0,1,-999.000,9,-999.000,-999.000,9,-999.000,9, -999.00,9, -999.00,9, -999.00,9, -999.00,9, -999.00,9,-999.000,-999.0000,9,-999.0000,9,-999.0000,9,-999.0000,9,-999.0000,9,-999.0000,9,-999.0000,9,-999.0000,9,-999.0000,9,   8.7603,     -999.0,9,     -999.0,9,     -999.0,9,     -999.0,9,     -999.0,9,     -999.0,9,     -999.0,9,-999.0000, -999.00
33RO20071215,        P18,      31,          1,         13,      11013,2,20071225,       1554,     6.8332,  -109.9982,       3484,   500.4,   8.1162,  34.6218,2,  34.6229,2,      5.4,2,     6.4,2,   49.80,2,   38.90,2,    0.00,2,    3.04,2,   0.027,2,   0.017,2,   0.0000,2,  2295.7,2,  2315.8,2,   1952.0,2,    20.00,   7.3723,2,    25.00,-999.000,9,-999.0000,9, -999.00,9,   -0.13,2,  -999.0,1,-999.000,9,-999.000,-999.000,9,-999.000,9, -999.00,9, -999.00,9, -999.00,9, -999.00,9, -999.00,9,-999.000,-999.0000,9,-999.0000,9,-999.0000,9,-999.0000,9,-999.0000,9,-999.0000,9,-999.0000,9,-999.0000,9,-999.0000,9,   8.0644,     -999.0,9,     -999.0,9,     -999.0,9,     -999.0,9,     -999.0,9,     -999.0,9,     -999.0,9,-999.0000, -999.00
33RO20071215,        P18,      31,          1,         12,      11012,2,20071225,       1554,     6.8332,  -109.9982,       3484,   601.7,   6.9069,  34.5804,2,  34.5827,2,      7.0,2,     7.2,2,   61.10,2,   41.80,2,    0.00,2,    3.20,2,-999.000,9,-999.000,9,-999.0000,9,  2310.6,2,  2326.4,4,   -999.0,9,  -999.00,   7.3528,2,    25.00,-999.000,9,-999.0000,9, -999.00,9,   -0.15,2,  -999.0,1,-999.000,9,-999.000,-999.000,9,-999.000,9, -999.00,9, -999.00,9, -999.00,9, -999.00,9, -999.00,9,-999.000,-999.0000,9,-999.0000,9,-999.0000,9,-999.0000,9,-999.0000,9,-999.0000,9,-999.0000,9,-999.0000,9,-999.0000,9,   6.8497,     -999.0,9,     -999.0,9,     -999.0,9,     -999.0,9,     -999.0,9,     -999.0,9,     -999.0,9,-999.0000, -999.00
33RO20071215,        P18,      31,          1,         11,      11010,2,20071225,       1554,     6.8332,  -109.9982,       3484,   752.2,   5.9138,  34.5629,2,  34.5640,2,     11.4,2,    13.4,2,   73.60,2,   44.20,2,    0.00,2,    3.31,2,   0.002,2,   0.001,2,   0.0000,2,  2324.5,2,  2327.0,2,   2054.2,3,    20.00,   7.3533,2,    25.00,-999.000,9,-999.0000,9, -999.00,9,   -0.17,2,  -999.0,1,-999.000,9,-999.000,-999.000,9,-999.000,9, -999.00,9, -999.00,9, -999.00,9, -999.00,9, -999.00,9,-999.000,-999.0000,9,-999.0000,9,-999.0000,9,-999.0000,9,-999.0000,9,-999.0000,9,-999.0000,9,-999.0000,9,-999.0000,9,   5.8471,     -999.0,9,     -999.0,9,     -999.0,9,     -999.0,9,     -999.0,9,     -999.0,9,     -999.0,9,-999.0000, -999.00
33RO20071215,        P18,      31,          1,         10,      11011,2,20071225,       1554,     6.8332,  -109.9982,       3484,   900.5,   5.0131,  34.5622,2,  34.5634,2,     17.9,2,    23.6,2,   87.40,2,   44.50,2,    0.00,2,    3.33,2,-999.000,9,-999.000,9,-999.0000,9,  2334.0,2,  2352.7,2,   -999.0,9,  -999.00,   7.3644,2,    25.00,-999.000,9,-999.0000,9, -999.00,9, -999.00,9,  -999.0,9,-999.000,9,-999.000,-999.000,9,-999.000,9, -999.00,9, -999.00,9, -999.00,9, -999.00,9, -999.00,9,-999.000,-999.0000,9,-999.0000,9,-999.0000,9,-999.0000,9,-999.0000,9,-999.0000,9,-999.0000,9,-999.0000,9,-999.0000,9,   4.9385,     -999.0,9,     -999.0,9,     -999.0,9,     -999.0,9,     -999.0,9,     -999.0,9,     -999.0,9,-999.0000, -999.00
33RO20071215,        P18,      31,          1,          9,      11009,2,20071225,       1554,     6.8332,  -109.9982,       3484,  1050.5,   4.3781,  34.5707,2,  34.5718,2,     28.3,4,    39.2,2,   98.40,2,   43.70,2,    0.00,2,    3.22,2,   0.002,2,   0.001,2,   0.0000,2,  2336.7,2,  2364.9,2,   -999.0,9,  -999.00,   7.3956,2,    25.00,-999.000,9,-999.0000,9, -999.00,9,   -0.15,2,  -999.0,1,-999.000,9,-999.000,-999.000,9,-999.000,9, -999.00,9, -999.00,9, -999.00,9, -999.00,9, -999.00,9,-999.000,-999.0000,9,-999.0000,9,-999.0000,9,-999.0000,9,-999.0000,9,-999.0000,9,-999.0000,9,-999.0000,9,-999.0000,9,   4.2951,     -999.0,9,     -999.0,9,     -999.0,9,     -999.0,9,     -999.0,9,     -999.0,9,     -999.0,9,-999.0000, -999.00
33RO20071215,        P18,      31,          1,          8,      11008,2,20071225,       1554,     6.8332,  -109.9982,       3484,  1202.3,   3.8509,  34.5811,2,  34.5821,2,     51.6,4,    58.4,2,  108.50,2,   42.50,2,    0.00,2,    3.08,2,-999.000,9,-999.000,9,-999.0000,9,  2337.9,2,  2376.7,2,   1744.8,2,    20.00,   7.4228,2,    25.00,-999.000,9,-999.0000,9, -999.00,9, -999.00,9,  -999.0,9,-999.000,9,-999.000,-999.000,9,-999.000,9, -999.00,9, -999.00,9, -999.00,9, -999.00,9, -999.00,9,-999.000,-999.0000,9,-999.0000,9,-999.0000,9,-999.0000,9,-999.0000,9,-999.0000,9,-999.0000,9,-999.0000,9,-999.0000,9,   3.7593,     -999.0,9,     -999.0,9,     -999.0,9,     -999.0,9,     -999.0,9,     -999.0,9,     -999.0,9,-999.0000, -999.00
33RO20071215,        P18,      31,          1,          7,      11007,2,20071225,       1554,     6.8332,  -109.9982,       3484,  1400.2,   3.2197,  34.6003,2,  34.6018,2,     57.6,4,    73.4,2,  121.60,2,   41.50,2,    0.00,2,    2.98,2,   0.002,2,   0.001,2,   0.0000,2,  2344.3,2,  2390.4,2,   -999.0,9,  -999.00,   7.4405,2,    25.00,-999.000,9,-999.0000,9, -999.00,9,   -0.17,2,  -999.0,1,-999.000,9,-999.000,-999.000,9,-999.000,9, -999.00,9, -999.00,9, -999.00,9, -999.00,9, -999.00,9,-999.000,-999.0000,9,-999.0000,9,-999.0000,9,-999.0000,9,-999.0000,9,-999.0000,9,-999.0000,9,-999.0000,9,-999.0000,9,   3.1177,     -999.0,9,     -999.0,9,     -999.0,9,     -999.0,9,     -999.0,9,     -999.0,9,     -999.0,9,-999.0000, -999.00
33RO20071215,        P18,      31,          1,          6,      11006,2,20071225,       1554,     6.8332,  -109.9982,       3484,  1601.1,   2.8087,  34.6176,2,  34.6196,2,     74.7,4,    74.8,3,  131.50,2,   40.90,2,    0.00,2,    2.94,2,-999.000,9,-999.000,9,-999.0000,9,  2350.2,2,  2402.9,2,   1582.5,2,    20.00,   7.4586,2,    25.00,-999.000,9,-999.0000,9, -999.00,9, -999.00,9,  -999.0,9,-999.000,9,-999.000,-999.000,9,-999.000,9, -999.00,9, -999.00,9, -999.00,9, -999.00,9, -999.00,9,-999.000,-999.0000,9,-999.0000,9,-999.0000,9,-999.0000,9,-999.0000,9,-999.0000,9,-999.0000,9,-999.0000,9,-999.0000,9,   2.6946,     -999.0,9,     -999.0,9,     -999.0,9,     -999.0,9,     -999.0,9,     -999.0,9,     -999.0,9,-999.0000, -999.00
33RO20071215,        P18,      31,          1,          5,      11005,2,20071225,       1554,     6.8332,  -109.9982,       3484,  2000.2,   2.2954,  34.6431,2,  34.6445,2,     85.5,4,    96.6,2,  143.50,2,   40.10,2,    0.00,2,    2.83,2,   0.002,2,   0.001,2,   0.0000,2,  2354.4,2,  2418.3,2,   1470.2,2,    20.00,   7.4963,2,    25.00,-999.000,9,-999.0000,9, -999.00,9,   -0.28,4,  -999.0,1,-999.000,9,-999.000,   0.008,3,-999.000,9, -999.00,9, -999.00,9, -999.00,9, -999.00,9, -999.00,9,-999.000,-999.0000,9,-999.0000,9,-999.0000,9,-999.0000,9,-999.0000,9,-999.0000,9,-999.0000,9,-999.0000,9,-999.0000,9,   2.1544,     -999.0,9,     -999.0,9,     -999.0,9,     -999.0,9,     -999.0,9,     -999.0,9,     -999.0,9,-999.0000, -999.00
33RO20071215,        P18,      31,          1,          4,      11004,2,20071225,       1554,     6.8332,  -109.9982,       3484,  2401.4,   1.9387,  34.6631,2,  34.6647,2,    101.1,4,   109.9,2,  151.90,6,   39.00,6,    0.00,6,    2.73,2,-999.000,9,-999.000,9,-999.0000,9,  2355.5,2,  2429.1,2,   1381.9,2,    20.00,   7.5188,2,    25.00,-999.000,9,-999.0000,9, -999.00,9,    -0.1,2,  -999.0,1,-999.000,9,-999.000,-999.000,9,-999.000,9, -999.00,9, -999.00,9, -999.00,9, -999.00,9, -999.00,9,-999.000,-999.0000,9,-999.0000,9,-999.0000,9,-999.0000,9,-999.0000,9,-999.0000,9,-999.0000,9,-999.0000,9,-999.0000,9,   1.7684,     -999.0,9,     -999.0,9,     -999.0,9,     -999.0,9,     -999.0,9,     -999.0,9,     -999.0,9,-999.0000, -999.00
33RO20071215,        P18,      31,          1,          3,      11003,2,20071225,       1554,     6.8332,  -109.9982,       3484,  2800.9,   1.8367,  34.6706,2,  34.6718,2,    108.6,4,   114.4,2,  155.60,6,   38.70,6,    0.00,6,    2.67,2,   0.003,2,   0.003,2,   0.0672,4,  2357.1,2,  2434.0,2,   1343.2,2,    20.00,   7.5256,2,    25.00,-999.000,9,-999.0000,9, -999.00,9, -999.00,9,  -999.0,9,-999.000,9,-999.000,   0.009,3,-999.000,9, -999.00,9, -999.00,9, -999.00,9, -999.00,9, -999.00,9,-999.000,-999.0000,9,-999.0000,9,-999.0000,9,-999.0000,9,-999.0000,9,-999.0000,9,-999.0000,9,-999.0000,9,-999.0000,9,   1.6315,     -999.0,9,     -999.0,9,     -999.0,9,     -999.0,9,     -999.0,9,     -999.0,9,     -999.0,9,-999.0000, -999.00
33RO20071215,        P18,      31,          1,          2,      11002,2,20071225,       1554,     6.8332,  -109.9982,       3484,  3201.3,   1.6027,  34.6823,2,  34.6838,2,    123.8,4,   133.3,2,  154.20,6,   37.60,6,    0.00,6,    2.57,2,-999.000,9,-999.000,9,-999.0000,9,  2346.0,2,  2436.0,2,   1233.6,2,    20.00,   7.5600,2,    25.00,-999.000,9,-999.0000,9, -999.00,9,       0,2,  -999.0,1,-999.000,9,-999.000,-999.000,9,-999.000,9, -999.00,9, -999.00,9, -999.00,9, -999.00,9, -999.00,9,-999.000,-999.0000,9,-999.0000,9,-999.0000,9,-999.0000,9,-999.0000,9,-999.0000,9,-999.0000,9,-999.0000,9,-999.0000,9,   1.3640,     -999.0,9,     -999.0,9,     -999.0,9,     -999.0,9,     -999.0,9,     -999.0,9,     -999.0,9,-999.0000, -999.00
33RO20071215,        P18,      31,          1,          1,      11001,2,20071225,       1554,     6.8332,  -109.9982,       3484,  3509.9,   1.5462,  34.6860,2,  34.6893,2,    133.2,4,   135.1,3,  153.20,2,   37.30,2,    0.00,2,    2.52,2,   0.002,2,   0.001,2,   0.0000,2,  2343.1,6,  2439.6,2,   1188.2,2,    20.00,   7.5744,2,    25.00,-999.000,9,-999.0000,9, -999.00,9,    0.03,2,  -999.0,1,-999.000,9,-999.000,   0.007,3,-999.000,9, -999.00,9, -999.00,9, -999.00,9, -999.00,9, -999.00,9,-999.000,-999.0000,9,-999.0000,9,-999.0000,9,-999.0000,9,-999.0000,9,-999.0000,9,-999.0000,9,-999.0000,9,-999.0000,9,   1.2778,     -999.0,9,     -999.0,9,     -999.0,9,     -999.0,9,     -999.0,9,     -999.0,9,     -999.0,9,-999.0000, -999.00