BOTTLE,20220818CCHSIOAMB
EXPOCODE,SECT_ID,STNNBR,CASTNO,SAMPNO,BTLNBR,BTLNBR_FLAG_W,DATE,TIME,LATITUDE,LONGITUDE,DEPTH,CTDPRS,CTDTMP,CTDSAL,CTDSAL_FLAG_W,SALNTY,SALNTY_FLAG_W,CTDOXY,CTDOXY_FLAG_W,OXYGEN,OXYGEN_FLAG_W,SILCAT,SILCAT_FLAG_W,NITRAT,NITRAT_FLAG_W,NITRIT,NITRIT_FLAG_W,PHSPHT,PHSPHT_FLAG_W,CFC-11,CFC-11_FLAG_W,CFC-12,CFC-12_FLAG_W,SF6,SF6_FLAG_W,TCARBN,TCARBN_FLAG_W,ALKALI,ALKALI_FLAG_W,FCO2,FCO2_FLAG_W,FCO2TMP,PH_SWS,PH_SWS_FLAG_W,PH_TMP,TRITUM,TRITUM_FLAG_W,HELIUM,HELIUM_FLAG_W,DELHE3,DELHE3_FLAG_W,DELC13,DELC13_FLAG_W,DELC14,DELC14_FLAG_W,NEON,NEON_FLAG_W,NEONER,CCL4,CCL4_FLAG_W,POC,POC_FLAG_W,DOC,DOC_FLAG_W,TDN,TDN_FLAG_W,DON,DON_FLAG_W,CHLORA,CHLORA_FLAG_W,ARGON,ARGON_FLAG_W,TRITER,CDOM325,CDOM325_FLAG_W,CDOM340,CDOM340_FLAG_W,CDOM380,CDOM380_FLAG_W,CDOM412,CDOM412_FLAG_W,CDOM443,CDOM443_FLAG_W,CDOM490,CDOM490_FLAG_W,CDOM555,CDOM555_FLAG_W,CDOMSL,CDOMSL_FLAG_W,CDOMSN,CDOMSN_FLAG_W,THETA,D18O_NO3,D18O_NO3_FLAG_W,CDOM2C,CDOM2C_FLAG_W,CDOM3C,CDOM3C_FLAG_W,LAB_DEN,LAB_DEN_FLAG_W,DELSI30,DELSI30_FLAG_W,N2,N2_FLAG_W,D15N_NO3,D15N_NO3_FLAG_W,HELIER,DELHER
,,,,,,,,,,,METERS,DBAR,ITS-90,PSS-78,,PSS-78,,UMOL/KG,,UMOL/KG,,UMOL/KG,,UMOL/KG,,UMOL/KG,,UMOL/KG,,PMOL/KG,,PMOL/KG,,FMOL/KG,,UMOL/KG,,UMOL/KG,,UATM,,DEG C,,,DEG C,TU,,NMOL/KG,,PERCNT,,/MILLE,,/MILLE,,NMOL/KG,,NMOL/KG,PMOL/KG,,UG/KG,,UMOL/KG,,UMOL/KG,,UMOL/KG,,UG/KG,,UMOL/KG,,TU,1/M,,1/M,,1/M,,1/M,,1/M,,1/M,,1/M,,1/NM,,1/NM,,DEG C,/MILLE,,,,,,,,/MILLE,,UMOL/KG,,/MILLE,,NMOL/KG,PERCNT
33RO20071215,        P18,     116,          1,         11,      12003,2,20080127,       1845,   -38.5835,  -102.9993,       4031,  1868.1,   2.3710,  34.6100,2,  34.6094,2,    133.6,3,   153.0,2,   97.80,2,   35.50,2,    0.00,2,    2.48,2,   0.122,3,   0.077,3,   0.0000,2,  2283.3,2,  2364.9,2,   -999.0,9,  -999.00,   7.5502,2,    25.00,-999.000,9,-999.0000,9, -999.00,9, -999.00,9,  -999.0,9,-999.000,9,-999.000,-999.000,9,-999.000,9,   36.80,2,   36.92,2, -999.00,9, -999.00,9, -999.00,9,-999.000,   0.1127,2,   0.0744,2,   0.0371,2,   0.0246,2,   0.0147,2,   0.0055,2,   0.0014,2,   0.0161,2,   0.0186,2,   2.2403,     -999.0,9,     -999.0,9,     -999.0,9,     -999.0,9,     -999.0,9,     -999.0,9,     -999.0,9,-999.0000, -999.00
33RO20071215,        P18,     116,          1,         10,      12032,2,20080127,       1845,   -38.5835,  -102.9993,       4031,  2068.8,   2.1762,  34.6441,2,  34.6435,2,    162.0,2,   159.7,2,  102.00,2,   34.90,2,    0.00,2,    2.42,2,-999.000,9,-999.000,9,-999.0000,9,  2282.6,2,  2371.1,2,   -999.0,9,  -999.00,   7.5523,2,    25.00,-999.000,9,-999.0000,9, -999.00,9, -999.00,9,  -999.0,9,-999.000,9,-999.000,-999.000,9,-999.000,9,   36.49,2,   36.27,2, -999.00,9, -999.00,9, -999.00,9,-999.000,   0.1108,2,   0.0722,2,   0.0350,2,   0.0226,2,   0.0132,2,   0.0045,2,   0.0009,2,   0.0169,2,   0.0196,2,   2.0311,     -999.0,9,     -999.0,9,     -999.0,9,     -999.0,9,     -999.0,9,     -999.0,9,     -999.0,9,-999.0000, -999.00
33RO20071215,        P18,     116,          1,          9,      12002,2,20080127,       1845,   -38.5835,  -102.9993,       4031,  2267.5,   1.9893,  34.6689,2,  34.6684,2,    161.6,2,   161.8,2,  109.30,2,   34.50,2,    0.00,2,    2.39,2,   0.013,2,   0.007,2,   0.0000,2,  2287.8,2,  2378.6,4,   -999.0,9,  -999.00,   7.5924,2,    25.00,-999.000,9,-999.0000,9, -999.00,9, -999.00,9,  -999.0,9,-999.000,9,-999.000,   0.033,3,-999.000,9,   36.60,2,   36.29,2, -999.00,9, -999.00,9, -999.00,9,-999.000,   0.1232,2,   0.0844,2,   0.0449,2,   0.0295,2,   0.0181,2,   0.0064,2,   0.0009,2,   0.0157,2,   0.0170,2,   1.8299,     -999.0,9,     -999.0,9,     -999.0,9,     -999.0,9,     -999.0,9,     -999.0,9,     -999.0,9,-999.0000, -999.00
33RO20071215,        P18,     116,          1,          8,      12021,2,20080127,       1845,   -38.5835,  -102.9993,       4031,  2468.0,   1.8788,  34.6836,2,  34.6828,2,    165.3,2,   165.7,2,  112.70,2,   34.30,2,    0.00,2,    2.38,2,-999.000,9,-999.000,9,-999.0000,9,  2287.4,2,  2380.7,2,   -999.0,9,  -999.00,   7.5844,2,    25.00,-999.000,9,-999.0000,9, -999.00,9, -999.00,9,  -999.0,9,-999.000,9,-999.000,-999.000,9,-999.000,9,   36.27,2,   35.55,2, -999.00,9, -999.00,9, -999.00,9,-999.000,   0.1299,2,   0.0904,2,   0.0500,2,   0.0330,2,   0.0198,2,   0.0057,3,  -0.0006,4,   0.0158,2,   0.0163,2,   1.7036,     -999.0,9,     -999.0,9,     -999.0,9,     -999.0,9,     -999.0,9,     -999.0,9,     -999.0,9,-999.0000, -999.00
33RO20071215,        P18,     116,          1,          7,      12001,2,20080127,       1845,   -38.5835,  -102.9993,       4031,  2667.4,   1.8147,  34.6887,2,  34.6892,2,    166.5,2,   166.9,2,  115.50,2,   34.20,2,    0.00,2,    2.38,2,   0.295,3,   0.184,3,   0.1686,3,  2288.7,2,  2387.6,2,   -999.0,9,  -999.00,   7.5863,2,    25.00,-999.000,9,-999.0000,9, -999.00,9, -999.00,9,  -999.0,9,-999.000,9,-999.000,   0.233,3,-999.000,9,   36.95,2,   35.69,2, -999.00,9, -999.00,9, -999.00,9,-999.000,   0.1088,2,   0.0705,2,   0.0336,2,   0.0210,2,   0.0121,2,   0.0042,2,   0.0009,2,   0.0175,2,   0.0203,2,   1.6224,     -999.0,9,     -999.0,9,     -999.0,9,     -999.0,9,     -999.0,9,     -999.0,9,     -999.0,9,-999.0000, -999.00
33RO20071215,        P18,     116,          1,          6,      12033,2,20080127,       1845,   -38.5835,  -102.9993,       4031,  2868.0,   1.7871,  34.6929,2,  34.6931,2,    169.1,2,   169.4,2,  114.90,2,   34.10,2,    0.00,2,    2.36,2,-999.000,9,-999.000,9,-999.0000,9,  2287.1,2,  2384.5,2,   -999.0,9,  -999.00,   7.5880,2,    25.00,-999.000,9,-999.0000,9, -999.00,9, -999.00,9,  -999.0,9,-999.000,9,-999.000,-999.000,9,-999.000,9,   37.00,2,   35.07,2, -999.00,9, -999.00,9, -999.00,9,-999.000,   0.1109,2,   0.0721,2,   0.0344,2,   0.0215,2,   0.0126,2,   0.0045,2,   0.0010,2,   0.0173,2,   0.0202,2,   1.5765,     -999.0,9,     -999.0,9,     -999.0,9,     -999.0,9,     -999.0,9,     -999.0,9,     -999.0,9,-999.0000, -999.00
33RO20071215,        P18,     116,          1,          5,      12008,2,20080127,       1845,   -38.5835,  -102.9993,       4031,  3082.1,   1.7368,  34.6994,2,  34.6985,2,    172.9,2,   173.7,2,  115.60,2,   33.80,2,    0.00,2,    2.33,2,-999.000,9,-999.000,9,-999.0000,9,  2285.1,6,  2381.0,2,   -999.0,9,  -999.00,   7.5966,2,    25.00,-999.000,9,-999.0000,9, -999.00,9, -999.00,9,  -999.0,9,-999.000,9,-999.000,-999.000,9,-999.000,9,   37.87,2,   34.73,2, -999.00,9, -999.00,9, -999.00,9,-999.000,   0.1161,2,   0.0777,2,   0.0393,2,   0.0247,2,   0.0143,2,   0.0042,3,  -0.0001,4,   0.0168,2,   0.0187,2,   1.5066,     -999.0,9,     -999.0,9,     -999.0,9,     -999.0,9,     -999.0,9,     -999.0,9,     -999.0,9,-999.0000, -999.00
33RO20071215,        P18,     116,          1,          4,      12009,2,20080127,       1845,   -38.5835,  -102.9993,       4031,  3333.8,   1.6110,  34.7032,2,  34.7026,2,    177.0,2,   178.1,2,  118.10,6,   33.70,6,    0.00,6,    2.32,2,-999.000,9,-999.000,9,-999.0000,9,  2282.5,2,  2385.7,2,   -999.0,9,  -999.00,   7.5859,2,    25.00,-999.000,9,-999.0000,9, -999.00,9, -999.00,9,  -999.0,9,-999.000,9,-999.000,-999.000,9,-999.000,9,   37.84,2,   34.65,2, -999.00,9, -999.00,9, -999.00,9,-999.000,   0.1133,2,   0.0744,2,   0.0362,2,   0.0229,2,   0.0139,2,   0.0055,2,   0.0017,2,   0.0167,2,   0.0195,2,   1.3588,     -999.0,9,     -999.0,9,     -999.0,9,     -999.0,9,     -999.0,9,     -999.0,9,     -999.0,9,-999.0000, -999.00
33RO20071215,        P18,     116,          1,          3,      12006,2,20080127,       1845,   -38.5835,  -102.9993,       4031,  3582.8,   1.3739,  34.7069,2,  34.7070,2,    185.0,2,   185.4,2,  122.60,6,   33.40,6,    0.00,6,    2.31,2,   0.144,3,   0.091,3,   0.0749,3,  2280.2,2,  2386.2,2,   -999.0,9,  -999.00,   7.5917,2,    25.00,-999.000,9,-999.0000,9, -999.00,9, -999.00,9,  -999.0,9,-999.000,9,-999.000,   0.122,3,-999.000,9,   37.35,2,   34.52,2, -999.00,9, -999.00,9, -999.00,9,-999.000,   0.1062,2,   0.0684,2,   0.0317,2,   0.0191,2,   0.0106,2,   0.0031,2,   0.0001,3,   0.0184,2,   0.0213,2,   1.1023,     -999.0,9,     -999.0,9,     -999.0,9,     -999.0,9,     -999.0,9,     -999.0,9,     -999.0,9,-999.0000, -999.00
33RO20071215,        P18,     116,          1,          2,      12007,2,20080127,       1845,   -38.5835,  -102.9993,       4031,  3832.3,   1.1851,  34.7092,2,  34.7083,2,    191.8,2,   192.3,2,  126.30,6,   33.20,6,    0.00,6,    2.29,2,-999.000,9,-999.000,9,-999.0000,9,  2277.7,2,  2385.7,2,   -999.0,9,  -999.00,   7.5984,2,    25.00,-999.000,9,-999.0000,9, -999.00,9, -999.00,9,  -999.0,9,-999.000,9,-999.000,-999.000,9,-999.000,9,   37.04,2,   34.15,2, -999.00,9, -999.00,9, -999.00,9,-999.000,   0.1079,2,   0.0698,2,   0.0328,2,   0.0199,2,   0.0112,2,   0.0032,2,   0.0001,4,   0.0181,2,   0.0209,2,   0.8927,     -999.0,9,     -999.0,9,     -999.0,9,     -999.0,9,     -999.0,9,     -999.0,9,     -999.0,9,-999.0000, -999.00
33RO20071215,        P18,     116,          1,          1,      12035,2,20080127,       1845,   -38.5835,  -102.9993,       4031,  4084.3,   1.1511,  34.7098,2,  34.7065,2,    195.2,2,   193.5,3,  126.40,2,   33.20,2,    0.01,2,    2.29,2,   0.027,3,   0.020,3,   0.0000,2,  2280.7,6,  2387.1,3,   -999.0,9,  -999.00,   7.6184,2,    25.00,-999.000,9,-999.0000,9, -999.00,9, -999.00,9,  -999.0,9,-999.000,9,-999.000,   0.036,3,-999.000,9,   37.46,2,   34.22,3, -999.00,9, -999.00,9, -999.00,9,-999.000,   0.1156,2,   0.0774,2,   0.0391,2,   0.0243,3,   0.0137,3,   0.0034,4,  -0.0009,4,   0.0172,2,   0.0189,2,   0.8328,     -999.0,9,     -999.0,9,     -999.0,9,     -999.0,9,     -999.0,9,     -999.0,9,     -999.0,9,-999.0000, -999.00