BOTTLE,20220818CCHSIOAMB
EXPOCODE,SECT_ID,STNNBR,CASTNO,SAMPNO,BTLNBR,BTLNBR_FLAG_W,DATE,TIME,LATITUDE,LONGITUDE,DEPTH,CTDPRS,CTDTMP,CTDSAL,CTDSAL_FLAG_W,SALNTY,SALNTY_FLAG_W,CTDOXY,CTDOXY_FLAG_W,OXYGEN,OXYGEN_FLAG_W,SILCAT,SILCAT_FLAG_W,NITRAT,NITRAT_FLAG_W,NITRIT,NITRIT_FLAG_W,PHSPHT,PHSPHT_FLAG_W,CFC-11,CFC-11_FLAG_W,CFC-12,CFC-12_FLAG_W,SF6,SF6_FLAG_W,TCARBN,TCARBN_FLAG_W,ALKALI,ALKALI_FLAG_W,FCO2,FCO2_FLAG_W,FCO2TMP,PH_SWS,PH_SWS_FLAG_W,PH_TMP,TRITUM,TRITUM_FLAG_W,HELIUM,HELIUM_FLAG_W,DELHE3,DELHE3_FLAG_W,DELC13,DELC13_FLAG_W,DELC14,DELC14_FLAG_W,NEON,NEON_FLAG_W,NEONER,CCL4,CCL4_FLAG_W,POC,POC_FLAG_W,DOC,DOC_FLAG_W,TDN,TDN_FLAG_W,DON,DON_FLAG_W,CHLORA,CHLORA_FLAG_W,ARGON,ARGON_FLAG_W,TRITER,CDOM325,CDOM325_FLAG_W,CDOM340,CDOM340_FLAG_W,CDOM380,CDOM380_FLAG_W,CDOM412,CDOM412_FLAG_W,CDOM443,CDOM443_FLAG_W,CDOM490,CDOM490_FLAG_W,CDOM555,CDOM555_FLAG_W,CDOMSL,CDOMSL_FLAG_W,CDOMSN,CDOMSN_FLAG_W,THETA,D18O_NO3,D18O_NO3_FLAG_W,CDOM2C,CDOM2C_FLAG_W,CDOM3C,CDOM3C_FLAG_W,LAB_DEN,LAB_DEN_FLAG_W,DELSI30,DELSI30_FLAG_W,N2,N2_FLAG_W,D15N_NO3,D15N_NO3_FLAG_W,HELIER,DELHER
,,,,,,,,,,,METERS,DBAR,ITS-90,PSS-78,,PSS-78,,UMOL/KG,,UMOL/KG,,UMOL/KG,,UMOL/KG,,UMOL/KG,,UMOL/KG,,PMOL/KG,,PMOL/KG,,FMOL/KG,,UMOL/KG,,UMOL/KG,,UATM,,DEG C,,,DEG C,TU,,NMOL/KG,,PERCNT,,/MILLE,,/MILLE,,NMOL/KG,,NMOL/KG,PMOL/KG,,UG/KG,,UMOL/KG,,UMOL/KG,,UMOL/KG,,UG/KG,,UMOL/KG,,TU,1/M,,1/M,,1/M,,1/M,,1/M,,1/M,,1/M,,1/NM,,1/NM,,DEG C,/MILLE,,,,,,,,/MILLE,,UMOL/KG,,/MILLE,,NMOL/KG,PERCNT
33RO20071215,        P18,      97,          1,         36,      12017,2,20080116,       1657,   -27.4980,  -103.0003,       3104,     5.6,  23.7286,  36.1140,2,  36.1142,2,    214.4,2,   214.7,2,    0.50,2,    0.30,2,    0.00,2,    0.09,2,   1.915,6,   1.194,6,   0.9460,2,  2074.8,6,  2377.7,2,   -999.0,9,  -999.00,   8.0247,2,    25.00,-999.000,9,-999.0000,9, -999.00,9, -999.00,9,  -999.0,9,-999.000,9,-999.000,-999.000,9,-999.000,9,   71.75,2,    3.61,2, -999.00,1,    0.01,2, -999.00,9,-999.000,   0.0445,2,   0.0308,2,   0.0138,2,   0.0103,2,   0.0070,2,   0.0047,2,   0.0015,2,   0.0173,2,   0.0206,2,  23.7274,     -999.0,9,     -999.0,9,     -999.0,9,     -999.0,9,     -999.0,9,     -999.0,9,     -999.0,9,-999.0000, -999.00
33RO20071215,        P18,      97,          1,         35,      12029,2,20080116,       1657,   -27.4980,  -103.0003,       3104,    10.8,  23.7270,  36.1139,2,  36.1155,2,    214.5,2,   214.5,2,    0.50,2,    0.30,2,    0.00,2,    0.10,2,   1.918,2,   1.199,2,   1.0049,2,  2075.3,2,  2378.8,2,   -999.0,9,  -999.00,   8.0197,2,    25.00,-999.000,9,-999.0000,9, -999.00,9, -999.00,9,  -999.0,9,-999.000,9,-999.000,-999.000,9,-999.000,9,   70.46,2,    4.31,2, -999.00,1,    0.01,2, -999.00,9,-999.000,   0.0534,2,   0.0391,2,   0.0205,2,   0.0162,2,   0.0122,2,   0.0084,2,   0.0038,2,   0.0108,2,   0.0135,2,  23.7247,     -999.0,9,     -999.0,9,     -999.0,9,     -999.0,9,     -999.0,9,     -999.0,9,     -999.0,9,-999.0000, -999.00
33RO20071215,        P18,      97,          1,         34,      12049,2,20080116,       1657,   -27.4980,  -103.0003,       3104,    20.5,  23.6944,  36.1121,2,  36.1128,2,    214.8,2,   215.0,2,    0.50,2,    0.30,2,    0.00,2,    0.10,2,   1.895,2,   1.172,2,   0.9843,2,  2073.5,2,  2382.2,2,   -999.0,9,  -999.00,   8.0194,2,    25.00,-999.000,9,-999.0000,9, -999.00,9, -999.00,9,  -999.0,9,-999.000,9,-999.000,-999.000,9,-999.000,9,   69.76,2,    4.10,2, -999.00,1,    0.02,2, -999.00,9,-999.000,   0.0410,2,   0.0280,2,   0.0126,2,   0.0100,2,   0.0068,2,   0.0044,2,   0.0014,2,   0.0171,2,   0.0209,2,  23.6901,     -999.0,9,     -999.0,9,     -999.0,9,     -999.0,9,     -999.0,9,     -999.0,9,     -999.0,9,-999.0000, -999.00
33RO20071215,        P18,      97,          1,         33,      12027,2,20080116,       1657,   -27.4980,  -103.0003,       3104,    40.7,  22.1293,  36.0218,2,  36.0225,2,    225.9,2,   227.6,2,    0.60,2,    0.30,2,    0.00,2,    0.08,2,   2.097,2,   1.288,2,   0.9943,2,  2067.2,2,  2374.8,2,   -999.0,9,  -999.00,   8.0290,2,    25.00,-999.000,9,-999.0000,9, -999.00,9, -999.00,9,  -999.0,9,-999.000,9,-999.000,-999.000,9,-999.000,9,   69.72,2,    4.02,2, -999.00,1,    0.03,2, -999.00,9,-999.000,   0.0550,2,   0.0381,2,   0.0175,2,   0.0131,2,   0.0093,2,   0.0059,2,   0.0021,2,   0.0150,2,   0.0186,2,  22.1212,     -999.0,9,     -999.0,9,     -999.0,9,     -999.0,9,     -999.0,9,     -999.0,9,     -999.0,9,-999.0000, -999.00
33RO20071215,        P18,      97,          1,         32,      12023,2,20080116,       1657,   -27.4980,  -103.0003,       3104,    58.2,  21.8024,  36.0291,2,  36.0305,2,    226.7,2,   227.3,2,    0.50,2,    0.30,2,    0.00,2,    0.09,2,   2.090,2,   1.288,2,   1.1135,2,  2067.1,2,  2372.6,2,   -999.0,9,  -999.00,   8.0436,2,    25.00,-999.000,9,-999.0000,9, -999.00,9, -999.00,9,  -999.0,9,-999.000,9,-999.000,-999.000,9,-999.000,9,   69.35,2,    3.98,2, -999.00,1,    0.02,2, -999.00,9,-999.000,   0.0611,2,   0.0427,2,   0.0207,2,   0.0155,2,   0.0109,2,   0.0067,2,   0.0026,2,   0.0136,2,   0.0169,2,  21.7909,     -999.0,9,     -999.0,9,     -999.0,9,     -999.0,9,     -999.0,9,     -999.0,9,     -999.0,9,-999.0000, -999.00
33RO20071215,        P18,      97,          1,         31,      12037,2,20080116,       1657,   -27.4980,  -103.0003,       3104,    80.7,  20.8064,  35.8998,2,  35.9059,2,    231.8,2,   232.3,2,    0.50,2,    0.30,2,    0.00,2,    0.08,2,   2.188,2,   1.339,2,   1.0526,2,  2059.2,2,  -999.0,9,   -999.0,9,  -999.00,   8.0260,2,    25.00,-999.000,9,-999.0000,9, -999.00,9, -999.00,9,  -999.0,9,-999.000,9,-999.000,-999.000,9,-999.000,9,   68.84,2,    4.02,2, -999.00,1,    0.03,2, -999.00,9,-999.000,   0.0791,2,   0.0563,2,   0.0284,2,   0.0208,2,   0.0150,2,   0.0096,2,   0.0042,2,   0.0122,2,   0.0153,2,  20.7910,     -999.0,9,     -999.0,9,     -999.0,9,     -999.0,9,     -999.0,9,     -999.0,9,     -999.0,9,-999.0000, -999.00
33RO20071215,        P18,      97,          1,         30,      12036,2,20080116,       1657,   -27.4980,  -103.0003,       3104,   101.0,  20.4740,  35.8608,2,  35.8523,2,    231.6,2,   232.0,2,    0.50,2,    0.30,2,    0.00,2,    0.09,2,   2.213,2,   1.355,2,   1.1314,2,  2060.8,2,  2359.3,2,   -999.0,9,  -999.00,   8.0139,2,    25.00,-999.000,9,-999.0000,9, -999.00,9, -999.00,9,  -999.0,9,-999.000,9,-999.000,-999.000,9,-999.000,9,   68.26,2,    4.05,2, -999.00,1,    0.05,2, -999.00,9,-999.000,   0.0655,2,   0.0431,2,   0.0173,2,   0.0115,2,   0.0067,2,   0.0036,2,   0.0005,3,   0.0198,2,   0.0236,2,  20.4549,     -999.0,9,     -999.0,9,     -999.0,9,     -999.0,9,     -999.0,9,     -999.0,9,     -999.0,9,-999.0000, -999.00
33RO20071215,        P18,      97,          1,         29,      12044,2,20080116,       1657,   -27.4980,  -103.0003,       3104,   124.7,  19.9903,  35.7951,2,  35.7965,2,    228.6,2,   230.4,2,    0.60,2,    0.30,2,    0.00,2,    0.09,2,   2.231,2,   1.368,2,   1.1513,2,  2059.3,2,  2354.1,2,   -999.0,9,  -999.00,   8.0181,2,    25.00,-999.000,9,-999.0000,9, -999.00,9, -999.00,9,  -999.0,9,-999.000,9,-999.000,-999.000,9,-999.000,9,   68.20,2,    3.77,2, -999.00,1,    0.06,2, -999.00,9,-999.000,   0.0831,2,   0.0581,2,   0.0275,2,   0.0196,2,   0.0130,2,   0.0078,2,   0.0031,2,   0.0142,2,   0.0175,2,  19.9672,     -999.0,9,     -999.0,9,     -999.0,9,     -999.0,9,     -999.0,9,     -999.0,9,     -999.0,9,-999.0000, -999.00
33RO20071215,        P18,      97,          1,         28,      12057,2,20080116,       1657,   -27.4980,  -103.0003,       3104,   150.1,  19.4090,  35.6876,2,  35.6954,2,    227.9,2,   227.8,2,    0.50,2,    0.40,2,    0.00,2,    0.10,2,   2.286,2,   1.393,2,   1.1331,2,  2059.8,2,  2349.1,2,   -999.0,9,  -999.00,   7.9926,2,    25.00,-999.000,9,-999.0000,9, -999.00,9, -999.00,9,  -999.0,9,-999.000,9,-999.000,-999.000,9,-999.000,9,   66.59,2,    4.18,2, -999.00,1,    0.06,2, -999.00,9,-999.000,   0.0841,2,   0.0594,2,   0.0287,2,   0.0212,2,   0.0138,2,   0.0078,2,   0.0030,2,   0.0139,2,   0.0167,2,  19.3818,     -999.0,9,     -999.0,9,     -999.0,9,     -999.0,9,     -999.0,9,     -999.0,9,     -999.0,9,-999.0000, -999.00
33RO20071215,        P18,      97,          1,         27,      12026,2,20080116,       1657,   -27.4980,  -103.0003,       3104,   175.7,  18.5034,  35.4825,2,  35.4951,2,    229.5,2,   229.1,2,    0.50,2,    0.40,2,    0.01,2,    0.12,2,   2.376,2,   1.438,2,   1.1099,2,  2058.4,2,  -999.0,9,   -999.0,9,  -999.00,   7.9811,2,    25.00,-999.000,9,-999.0000,9, -999.00,9, -999.00,9,  -999.0,9,-999.000,9,-999.000,-999.000,9,-999.000,9,   63.04,2,    3.66,2, -999.00,1,    0.08,2, -999.00,9,-999.000,   0.0860,2,   0.0614,2,   0.0308,2,   0.0234,2,   0.0149,2,   0.0081,2,   0.0033,2,   0.0135,2,   0.0157,2,  18.4725,     -999.0,9,     -999.0,9,     -999.0,9,     -999.0,9,     -999.0,9,     -999.0,9,     -999.0,9,-999.0000, -999.00
33RO20071215,        P18,      97,          1,         26,      12030,2,20080116,       1657,   -27.4980,  -103.0003,       3104,   200.7,  18.0346,  35.3726,2,  35.3636,2,    230.5,2,   228.2,2,    0.50,2,    0.50,2,    0.05,2,    0.15,2,   2.436,2,   1.471,2,   1.1298,2,  2058.9,2,  2326.4,2,   -999.0,9,  -999.00,   7.9775,2,    25.00,-999.000,9,-999.0000,9, -999.00,9, -999.00,9,  -999.0,9,-999.000,9,-999.000,-999.000,9,-999.000,9,   62.50,2,    3.86,2, -999.00,1,    0.08,2, -999.00,9,-999.000,   0.0810,2,   0.0580,2,   0.0296,2,   0.0231,2,   0.0146,2,   0.0079,2,   0.0030,2,   0.0133,2,   0.0153,2,  18.0000,     -999.0,9,     -999.0,9,     -999.0,9,     -999.0,9,     -999.0,9,     -999.0,9,     -999.0,9,-999.0000, -999.00
33RO20071215,        P18,      97,          1,         25,      12024,2,20080116,       1657,   -27.4980,  -103.0003,       3104,   223.6,  17.2645,  35.2312,2,  35.2377,2,    215.1,2,   215.8,2,    0.70,2,    2.00,2,    0.08,2,    0.25,2,   2.510,2,   1.495,2,   1.1326,2,  2066.2,2,  2321.9,2,   -999.0,9,  -999.00,   7.9332,2,    25.00,-999.000,9,-999.0000,9, -999.00,9, -999.00,9,  -999.0,9,-999.000,9,-999.000,-999.000,9,-999.000,9,   56.89,2,    4.32,2, -999.00,1,    0.08,2, -999.00,9,-999.000,   0.1002,2,   0.0742,2,   0.0402,2,   0.0318,2,   0.0212,2,   0.0119,2,   0.0053,2,   0.0121,2,   0.0134,2,  17.2271,     -999.0,9,     -999.0,9,     -999.0,9,     -999.0,9,     -999.0,9,     -999.0,9,     -999.0,9,-999.0000, -999.00
33RO20071215,        P18,      97,          1,         24,      12019,2,20080116,       1657,   -27.4980,  -103.0003,       3104,   251.0,  15.9048,  34.9767,2,  34.9645,2,    210.1,2,   209.8,2,    0.90,2,    4.20,2,    0.01,2,    0.38,2,   2.693,2,   1.571,2,   1.0497,2,  2072.9,2,  2304.9,2,   -999.0,9,  -999.00,   7.9113,2,    25.00,-999.000,9,-999.0000,9, -999.00,9, -999.00,9,  -999.0,9,-999.000,9,-999.000,-999.000,9,-999.000,9,   50.46,2,    6.57,2, -999.00,1,    0.04,2, -999.00,9,-999.000,   0.0842,2,   0.0592,2,   0.0289,2,   0.0223,2,   0.0125,2,   0.0055,2,   0.0015,2,   0.0148,2,   0.0170,2,  15.8652,     -999.0,9,     -999.0,9,     -999.0,9,     -999.0,9,     -999.0,9,     -999.0,9,     -999.0,9,-999.0000, -999.00
33RO20071215,        P18,      97,          1,         23,      12022,2,20080116,       1657,   -27.4980,  -103.0003,       3104,   301.0,  13.2909,  34.6609,2,  34.6523,2,    202.6,2,   201.7,2,    1.80,2,    9.90,2,    0.00,2,    0.73,2,   2.998,2,   1.669,2,   0.8619,2,  2095.2,2,  -999.0,9,   -999.0,9,  -999.00,-999.0000,9,  -999.00,-999.000,9,-999.0000,9, -999.00,9, -999.00,9,  -999.0,9,-999.000,9,-999.000,-999.000,9,-999.000,9,   46.28,2,   11.26,2, -999.00,1, -999.00,9, -999.00,9,-999.000,   0.0932,2,   0.0658,2,   0.0336,2,   0.0265,2,   0.0159,2,   0.0073,2,   0.0025,2,   0.0139,2,   0.0157,2,  13.2489,     -999.0,9,     -999.0,9,     -999.0,9,     -999.0,9,     -999.0,9,     -999.0,9,     -999.0,9,-999.0000, -999.00
33RO20071215,        P18,      97,          1,         22,      12015,2,20080116,       1657,   -27.4980,  -103.0003,       3104,   349.4,  10.9722,  34.4495,2,  34.4499,2,    180.1,2,   182.4,2,    5.00,2,   16.70,2,    0.00,2,    1.25,2,   3.002,2,   1.601,2,   0.7620,2,  2130.9,2,  2276.2,2,   -999.0,9,  -999.00,   7.7397,2,    25.00,-999.000,9,-999.0000,9, -999.00,9, -999.00,9,  -999.0,9,-999.000,9,-999.000,-999.000,9,-999.000,9,   44.41,2,   17.88,2, -999.00,1, -999.00,9, -999.00,9,-999.000,   0.1070,2,   0.0762,2,   0.0411,2,   0.0320,2,   0.0202,2,   0.0098,2,   0.0037,2,   0.0133,2,   0.0146,2,  10.9291,     -999.0,9,     -999.0,9,     -999.0,9,     -999.0,9,     -999.0,9,     -999.0,9,     -999.0,9,-999.0000, -999.00
33RO20071215,        P18,      97,          1,         21,      12020,2,20080116,       1657,   -27.4980,  -103.0003,       3104,   400.9,   9.2247,  34.3681,2,  34.3676,2,    203.1,2,   199.3,2,    5.10,2,   19.80,2,    0.00,2,    1.38,2,   3.211,2,   1.671,2,   0.7226,2,  -999.0,9,  -999.0,9,   -999.0,9,  -999.00,-999.0000,9,  -999.00,-999.000,9,-999.0000,9, -999.00,9, -999.00,9,  -999.0,9,-999.000,9,-999.000,-999.000,9,-999.000,9,   43.98,2,   21.12,2, -999.00,1, -999.00,9, -999.00,9,-999.000,   0.0873,2,   0.0583,2,   0.0286,2,   0.0219,2,   0.0124,2,   0.0045,2,   0.0006,2,   0.0149,2,   0.0177,2,   9.1803,     -999.0,9,     -999.0,9,     -999.0,9,     -999.0,9,     -999.0,9,     -999.0,9,     -999.0,9,-999.0000, -999.00
33RO20071215,        P18,      97,          1,         20,      12055,2,20080116,       1657,   -27.4980,  -103.0003,       3104,   500.4,   7.2800,  34.3652,2,  34.3653,2,    155.5,2,   157.2,2,   14.20,2,   29.20,2,    0.00,2,    2.07,2,   2.253,2,   1.122,2,   0.3884,2,  2191.0,2,  -999.0,9,   -999.0,9,  -999.00,-999.0000,9,  -999.00,-999.000,9,-999.0000,9, -999.00,9, -999.00,9,  -999.0,9,-999.000,9,-999.000,-999.000,9,-999.000,9,   42.50,2,   30.93,2, -999.00,1, -999.00,9, -999.00,9,-999.000,   0.1069,2,   0.0725,2,   0.0385,2,   0.0292,2,   0.0171,2,   0.0063,2,   0.0011,2,   0.0145,2,   0.0161,2,   7.2315,     -999.0,9,     -999.0,9,     -999.0,9,     -999.0,9,     -999.0,9,     -999.0,9,     -999.0,9,-999.0000, -999.00
33RO20071215,        P18,      97,          1,         19,      12018,2,20080116,       1657,   -27.4980,  -103.0003,       3104,   600.2,   6.2652,  34.3382,2,  34.3427,2,    177.8,2,   176.9,2,   16.40,2,   30.20,2,    0.00,2,    2.08,2,   1.903,6,   0.938,6,   0.2720,6,  -999.0,9,  -999.0,9,   -999.0,9,  -999.00,-999.0000,9,  -999.00,-999.000,9,-999.0000,9, -999.00,9, -999.00,9,  -999.0,9,-999.000,9,-999.000,-999.000,9,-999.000,9,   41.79,2,   31.66,2, -999.00,1, -999.00,9, -999.00,9,-999.000,   0.1170,2,   0.0816,2,   0.0458,2,   0.0351,2,   0.0228,2,   0.0109,2,   0.0041,2,   0.0132,2,   0.0143,2,   6.2113,     -999.0,9,     -999.0,9,     -999.0,9,     -999.0,9,     -999.0,9,     -999.0,9,     -999.0,9,-999.0000, -999.00
33RO20071215,        P18,      97,          1,         18,      12025,2,20080116,       1657,   -27.4980,  -103.0003,       3104,   700.3,   5.5693,  34.3103,2,  34.3112,2,    200.7,2,   194.7,2,   18.40,2,   30.50,2,    0.00,2,    2.06,2,   1.590,2,   0.789,2,   0.2052,2,  2181.6,2,  2286.4,2,   -999.0,9,  -999.00,   7.6243,2,    25.00,-999.000,9,-999.0000,9, -999.00,9, -999.00,9,  -999.0,9,-999.000,9,-999.000,-999.000,9,-999.000,9,   41.06,2,   32.04,2, -999.00,1, -999.00,9, -999.00,9,-999.000,   0.1062,2,   0.0721,2,   0.0385,2,   0.0287,2,   0.0181,2,   0.0079,2,   0.0023,2,   0.0139,2,   0.0158,2,   5.5096,     -999.0,9,     -999.0,9,     -999.0,9,     -999.0,9,     -999.0,9,     -999.0,9,     -999.0,9,-999.0000, -999.00
33RO20071215,        P18,      97,          1,         17,      12016,2,20080116,       1657,   -27.4980,  -103.0003,       3104,   800.6,   4.9787,  34.2942,2,  34.2956,2,    202.5,2,   200.3,2,   22.50,2,   31.10,2,    0.00,2,    2.11,2,   1.109,2,   0.561,2,   0.1573,2,  -999.0,9,  -999.0,9,   -999.0,9,  -999.00,-999.0000,9,  -999.00,-999.000,9,-999.0000,9, -999.00,9, -999.00,9,  -999.0,9,-999.000,9,-999.000,-999.000,9,-999.000,9,   40.66,2,   32.46,2, -999.00,1, -999.00,9, -999.00,9,-999.000,   0.1007,2,   0.0672,2,   0.0352,2,   0.0259,2,   0.0163,2,   0.0071,2,   0.0021,2,   0.0142,2,   0.0165,2,   4.9136,     -999.0,9,     -999.0,9,     -999.0,9,     -999.0,9,     -999.0,9,     -999.0,9,     -999.0,9,-999.0000, -999.00
33RO20071215,        P18,      97,          1,         16,      12051,2,20080116,       1657,   -27.4980,  -103.0003,       3104,   899.1,   4.5837,  34.3356,2,  34.3401,2,    172.0,2,   170.8,2,   34.20,2,   34.20,2,    0.00,2,    2.35,2,   0.462,2,   0.244,2,   0.0162,2,  2210.5,2,  -999.0,9,   -999.0,9,  -999.00,-999.0000,9,  -999.00,-999.000,9,-999.0000,9, -999.00,9, -999.00,9,  -999.0,9,-999.000,9,-999.000,-999.000,9,-999.000,9,   39.43,2,   35.15,2, -999.00,9, -999.00,9, -999.00,9,-999.000,   0.1117,2,   0.0753,2,   0.0396,2,   0.0288,2,   0.0181,2,   0.0076,2,   0.0022,2,   0.0144,2,   0.0164,2,   4.5126,     -999.0,9,     -999.0,9,     -999.0,9,     -999.0,9,     -999.0,9,     -999.0,9,     -999.0,9,-999.0000, -999.00
33RO20071215,        P18,      97,          1,         15,      12014,2,20080116,       1657,   -27.4980,  -103.0003,       3104,   999.2,   4.2191,  34.4058,2,  34.4089,2,    140.1,2,   138.5,2,   51.60,2,   37.20,2,    0.00,2,    2.59,2,   0.112,2,   0.061,2,   0.0000,2,  -999.0,9,  -999.0,9,   -999.0,9,  -999.00,-999.0000,9,  -999.00,-999.000,9,-999.0000,9, -999.00,9, -999.00,9,  -999.0,9,-999.000,9,-999.000,-999.000,9,-999.000,9,   38.21,2,   38.13,2, -999.00,9, -999.00,9, -999.00,9,-999.000,   0.1209,2,   0.0819,2,   0.0435,2,   0.0315,2,   0.0197,2,   0.0078,2,   0.0021,2,   0.0146,2,   0.0163,2,   4.1420,     -999.0,9,     -999.0,9,     -999.0,9,     -999.0,9,     -999.0,9,     -999.0,9,     -999.0,9,-999.0000, -999.00
33RO20071215,        P18,      97,          1,         14,      12013,2,20080116,       1657,   -27.4980,  -103.0003,       3104,  1100.5,   3.8652,  34.4565,2,  34.4563,2,    131.1,2,   130.5,2,   64.10,2,   37.90,2,    0.00,2,    2.65,2,   0.026,2,   0.016,2,   0.0182,2,  2260.0,6,  2330.5,4,   -999.0,9,  -999.00,   7.5183,2,    25.00,-999.000,9,-999.0000,9, -999.00,9, -999.00,9,  -999.0,9,-999.000,9,-999.000,-999.000,9,-999.000,9,   36.76,2,   39.11,2, -999.00,9, -999.00,9, -999.00,9,-999.000,   0.1404,2,   0.0988,2,   0.0555,2,   0.0410,2,   0.0276,2,   0.0135,2,   0.0055,2,   0.0133,2,   0.0143,2,   3.7823,     -999.0,9,     -999.0,9,     -999.0,9,     -999.0,9,     -999.0,9,     -999.0,9,     -999.0,9,-999.0000, -999.00
33RO20071215,        P18,      97,          1,         13,      12012,2,20080116,       1657,   -27.4980,  -103.0003,       3104,  1201.4,   3.5147,  34.4877,2,  34.4889,2,    131.8,2,   131.6,2,   72.90,2,   38.00,2,    0.00,2,    2.65,2,   0.006,2,   0.004,2,   0.0000,2,  -999.0,9,  -999.0,9,   -999.0,9,  -999.00,-999.0000,9,  -999.00,-999.000,9,-999.0000,9, -999.00,9, -999.00,9,  -999.0,9,-999.000,9,-999.000,-999.000,9,-999.000,9,   36.60,2,   39.39,2, -999.00,9, -999.00,9, -999.00,9,-999.000,   0.1321,2,   0.0907,2,   0.0487,2,   0.0353,2,   0.0228,2,   0.0101,2,   0.0035,2,   0.0143,2,   0.0157,2,   3.4264,     -999.0,9,     -999.0,9,     -999.0,9,     -999.0,9,     -999.0,9,     -999.0,9,     -999.0,9,-999.0000, -999.00
33RO20071215,        P18,      97,          1,         12,      12031,2,20080116,       1657,   -27.4980,  -103.0003,       3104,  1300.5,   3.1526,  34.5209,2,  34.5202,2,    136.2,2,   136.7,2,   81.30,2,   37.60,2,    0.00,2,    2.61,2,   0.001,2,   0.001,2,   0.0000,2,  2273.3,2,  -999.0,9,   -999.0,9,  -999.00,-999.0000,9,  -999.00,-999.000,9,-999.0000,9, -999.00,9, -999.00,9,  -999.0,9,-999.000,9,-999.000,-999.000,9,-999.000,9,   37.55,2,   38.59,2, -999.00,9, -999.00,9, -999.00,9,-999.000,   0.1276,2,   0.0872,2,   0.0467,2,   0.0330,2,   0.0214,2,   0.0095,2,   0.0033,2,   0.0144,2,   0.0161,2,   3.0597,     -999.0,9,     -999.0,9,     -999.0,9,     -999.0,9,     -999.0,9,     -999.0,9,     -999.0,9,-999.0000, -999.00