BOTTLE,20220818CCHSIOAMB
EXPOCODE,SECT_ID,STNNBR,CASTNO,SAMPNO,BTLNBR,BTLNBR_FLAG_W,DATE,TIME,LATITUDE,LONGITUDE,DEPTH,CTDPRS,CTDTMP,CTDSAL,CTDSAL_FLAG_W,SALNTY,SALNTY_FLAG_W,CTDOXY,CTDOXY_FLAG_W,OXYGEN,OXYGEN_FLAG_W,SILCAT,SILCAT_FLAG_W,NITRAT,NITRAT_FLAG_W,NITRIT,NITRIT_FLAG_W,PHSPHT,PHSPHT_FLAG_W,CFC-11,CFC-11_FLAG_W,CFC-12,CFC-12_FLAG_W,SF6,SF6_FLAG_W,TCARBN,TCARBN_FLAG_W,ALKALI,ALKALI_FLAG_W,FCO2,FCO2_FLAG_W,FCO2TMP,PH_SWS,PH_SWS_FLAG_W,PH_TMP,TRITUM,TRITUM_FLAG_W,HELIUM,HELIUM_FLAG_W,DELHE3,DELHE3_FLAG_W,DELC13,DELC13_FLAG_W,DELC14,DELC14_FLAG_W,NEON,NEON_FLAG_W,NEONER,CCL4,CCL4_FLAG_W,POC,POC_FLAG_W,DOC,DOC_FLAG_W,TDN,TDN_FLAG_W,DON,DON_FLAG_W,CHLORA,CHLORA_FLAG_W,ARGON,ARGON_FLAG_W,TRITER,CDOM325,CDOM325_FLAG_W,CDOM340,CDOM340_FLAG_W,CDOM380,CDOM380_FLAG_W,CDOM412,CDOM412_FLAG_W,CDOM443,CDOM443_FLAG_W,CDOM490,CDOM490_FLAG_W,CDOM555,CDOM555_FLAG_W,CDOMSL,CDOMSL_FLAG_W,CDOMSN,CDOMSN_FLAG_W,THETA,D18O_NO3,D18O_NO3_FLAG_W,CDOM2C,CDOM2C_FLAG_W,CDOM3C,CDOM3C_FLAG_W,LAB_DEN,LAB_DEN_FLAG_W,DELSI30,DELSI30_FLAG_W,N2,N2_FLAG_W,D15N_NO3,D15N_NO3_FLAG_W,HELIER,DELHER
,,,,,,,,,,,METERS,DBAR,ITS-90,PSS-78,,PSS-78,,UMOL/KG,,UMOL/KG,,UMOL/KG,,UMOL/KG,,UMOL/KG,,UMOL/KG,,PMOL/KG,,PMOL/KG,,FMOL/KG,,UMOL/KG,,UMOL/KG,,UATM,,DEG C,,,DEG C,TU,,NMOL/KG,,PERCNT,,/MILLE,,/MILLE,,NMOL/KG,,NMOL/KG,PMOL/KG,,UG/KG,,UMOL/KG,,UMOL/KG,,UMOL/KG,,UG/KG,,UMOL/KG,,TU,1/M,,1/M,,1/M,,1/M,,1/M,,1/M,,1/M,,1/NM,,1/NM,,DEG C,/MILLE,,,,,,,,/MILLE,,UMOL/KG,,/MILLE,,NMOL/KG,PERCNT
33RO20071215,        P18,      50,          1,         11,      12003,2,20071231,       2116,    -2.4990,  -109.9993,       3942,  1868.4,   2.5099,  34.6350,2,  34.6350,2,     97.2,2,    97.9,2,  139.40,2,   40.00,2,    0.00,2,    2.83,2,-999.000,9,-999.000,9,-999.0000,9,  -999.0,9,  -999.0,9,   -999.0,9,  -999.00,-999.0000,9,  -999.00,-999.000,9,-999.0000,9, -999.00,9, -999.00,9,  -999.0,9,-999.000,9,-999.000,-999.000,9,-999.000,9, -999.00,9, -999.00,9, -999.00,9, -999.00,9, -999.00,9,-999.000,   0.1936,2,   0.1413,2,   0.0821,2,   0.0594,2,   0.0376,2,   0.0147,2,   0.0045,2,   0.0150,2,   0.0143,2,   2.3771,     -999.0,9,     -999.0,9,     -999.0,9,     -999.0,9,     -999.0,9,     -999.0,9,     -999.0,9,-999.0000, -999.00
33RO20071215,        P18,      50,          1,         10,      12032,2,20071231,       2116,    -2.4990,  -109.9993,       3942,  2068.3,   2.1833,  34.6506,2,  34.6497,2,    107.7,2,   111.0,2, -999.00,9, -999.00,9, -999.00,9, -999.00,9,-999.000,9,-999.000,9,-999.0000,9,  2345.8,2,  -999.0,5,   -999.0,9,  -999.00,   7.5135,2,    25.00,-999.000,9,-999.0000,9, -999.00,9, -999.00,9,  -999.0,9,-999.000,9,-999.000,-999.000,9,-999.000,9, -999.00,9, -999.00,9, -999.00,9, -999.00,9, -999.00,9,-999.000,   0.1899,2,   0.1392,2,   0.0814,2,   0.0581,2,   0.0375,2,   0.0152,2,   0.0049,2,   0.0147,2,   0.0141,2,   2.0381,     -999.0,9,     -999.0,9,     -999.0,9,     -999.0,9,     -999.0,9,     -999.0,9,     -999.0,9,-999.0000, -999.00
33RO20071215,        P18,      50,          1,          9,      12002,2,20071231,       2116,    -2.4990,  -109.9993,       3942,  2267.6,   2.0429,  34.6571,2,  34.6570,2,    114.5,2,   114.6,2,  147.20,2,   39.00,2,    0.00,2,    2.72,2,-999.000,9,-999.000,9,-999.0000,9,  -999.0,9,  -999.0,9,   -999.0,9,  -999.00,-999.0000,9,  -999.00,-999.000,9,-999.0000,9, -999.00,9, -999.00,9,  -999.0,9,-999.000,9,-999.000,-999.000,9,-999.000,9, -999.00,9, -999.00,9, -999.00,9, -999.00,9, -999.00,9,-999.000,   0.1945,2,   0.1431,2,   0.0838,2,   0.0604,2,   0.0393,2,   0.0174,2,   0.0065,2,   0.0143,2,   0.0139,2,   1.8827,     -999.0,9,     -999.0,9,     -999.0,9,     -999.0,9,     -999.0,9,     -999.0,9,     -999.0,9,-999.0000, -999.00
33RO20071215,        P18,      50,          1,          8,      12021,2,20071231,       2116,    -2.4990,  -109.9993,       3942,  2466.7,   1.9000,  34.6634,2,  34.6632,2,    123.4,2,   123.2,2,  146.80,2,   38.50,2,    0.00,2,    2.68,2,-999.000,9,-999.000,9,-999.0000,9,  2340.2,2,  -999.0,9,   -999.0,9,  -999.00,-999.0000,9,  -999.00,-999.000,9,-999.0000,9, -999.00,9, -999.00,9,  -999.0,9,-999.000,9,-999.000,-999.000,9,-999.000,9, -999.00,9, -999.00,9, -999.00,9, -999.00,9, -999.00,9,-999.000,-999.0000,5,-999.0000,5,-999.0000,5,-999.0000,5,-999.0000,5,-999.0000,5,-999.0000,5,-999.0000,5,-999.0000,5,   1.7245,     -999.0,9,     -999.0,9,     -999.0,9,     -999.0,9,     -999.0,9,     -999.0,9,     -999.0,9,-999.0000, -999.00
33RO20071215,        P18,      50,          1,          7,      12001,2,20071231,       2116,    -2.4990,  -109.9993,       3942,  2667.0,   1.8147,  34.6685,2,  34.6686,2,    130.0,2,   132.6,3,  146.80,2,   38.10,2,    0.00,2,    2.64,2,-999.000,9,-999.000,9,-999.0000,9,  -999.0,9,  -999.0,9,   -999.0,9,  -999.00,-999.0000,9,  -999.00,-999.000,9,-999.0000,9, -999.00,9, -999.00,9,  -999.0,9,-999.000,9,-999.000,-999.000,9,-999.000,9, -999.00,9, -999.00,9, -999.00,9, -999.00,9, -999.00,9,-999.000,   0.1880,2,   0.1374,2,   0.0802,2,   0.0574,2,   0.0383,2,   0.0181,2,   0.0072,2,   0.0138,2,   0.0138,2,   1.6225,     -999.0,9,     -999.0,9,     -999.0,9,     -999.0,9,     -999.0,9,     -999.0,9,     -999.0,9,-999.0000, -999.00
33RO20071215,        P18,      50,          1,          6,      12033,2,20071231,       2116,    -2.4990,  -109.9993,       3942,  2866.2,   1.7228,  34.6737,2,  34.6736,2,    135.8,2,   135.8,2,  146.80,2,   37.60,2,    0.00,2,    2.59,2,-999.000,9,-999.000,9,-999.0000,9,  2333.0,2,  1569.7,4,   -999.0,9,  -999.00,   7.5542,2,    25.00,-999.000,9,-999.0000,9, -999.00,9, -999.00,9,  -999.0,9,-999.000,9,-999.000,-999.000,9,-999.000,9, -999.00,9, -999.00,9, -999.00,9, -999.00,9, -999.00,9,-999.000,   0.1610,2,   0.1136,2,   0.0619,2,   0.0420,2,   0.0249,2,   0.0073,2,   0.0002,3,   0.0162,2,   0.0162,2,   1.5138,     -999.0,9,     -999.0,9,     -999.0,9,     -999.0,9,     -999.0,9,     -999.0,9,     -999.0,9,-999.0000, -999.00
33RO20071215,        P18,      50,          1,          5,      12008,2,20071231,       2116,    -2.4990,  -109.9993,       3942,  3082.6,   1.6324,  34.6779,2,  34.6781,2,    141.6,2,   143.2,2,  147.10,2,   37.30,2,    0.00,2,    2.57,2,-999.000,9,-999.000,9,-999.0000,9,  -999.0,9,  -999.0,9,   -999.0,9,  -999.00,-999.0000,9,  -999.00,-999.000,9,-999.0000,9, -999.00,9, -999.00,9,  -999.0,9,-999.000,9,-999.000,-999.000,9,-999.000,9, -999.00,9, -999.00,9, -999.00,9, -999.00,9, -999.00,9,-999.000,   0.1492,2,   0.1051,2,   0.0579,2,   0.0391,2,   0.0232,2,   0.0064,3,  -0.0002,4,   0.0160,2,   0.0161,2,   1.4047,     -999.0,9,     -999.0,9,     -999.0,9,     -999.0,9,     -999.0,9,     -999.0,9,     -999.0,9,-999.0000, -999.00
33RO20071215,        P18,      50,          1,          4,      12009,2,20071231,       2116,    -2.4990,  -109.9993,       3942,  3332.1,   1.5766,  34.6822,2,  34.6840,2,    144.3,2,   145.1,2,  149.20,6,   36.90,6,    0.00,6,    2.56,2,-999.000,9,-999.000,9,-999.0000,9,  2330.7,2,  -999.0,9,   -999.0,9,  -999.00,-999.0000,9,  -999.00,-999.000,9,-999.0000,9, -999.00,9, -999.00,9,  -999.0,9,-999.000,9,-999.000,-999.000,9,-999.000,9, -999.00,9, -999.00,9, -999.00,9, -999.00,9, -999.00,9,-999.000,   0.1432,2,   0.0988,2,   0.0520,2,   0.0357,2,   0.0217,2,   0.0077,2,   0.0020,2,   0.0156,2,   0.0167,2,   1.3255,     -999.0,9,     -999.0,9,     -999.0,9,     -999.0,9,     -999.0,9,     -999.0,9,     -999.0,9,-999.0000, -999.00
33RO20071215,        P18,      50,          1,          3,      12006,2,20071231,       2116,    -2.4990,  -109.9993,       3942,  3555.6,   1.5186,  34.6883,2,  34.6906,2,    152.2,2,   152.5,2,  148.40,6,   36.40,6,    0.00,6,    2.51,2,-999.000,9,-999.000,9,-999.0000,9,  -999.0,9,  -999.0,9,   -999.0,9,  -999.00,-999.0000,9,  -999.00,-999.000,9,-999.0000,9, -999.00,9, -999.00,9,  -999.0,9,-999.000,9,-999.000,-999.000,9,-999.000,9, -999.00,9, -999.00,9, -999.00,9, -999.00,9, -999.00,9,-999.000,   0.1537,2,   0.1067,2,   0.0563,2,   0.0381,2,   0.0234,2,   0.0086,3,   0.0022,3,   0.0158,2,   0.0167,4,   1.2462,     -999.0,9,     -999.0,9,     -999.0,9,     -999.0,9,     -999.0,9,     -999.0,9,     -999.0,9,-999.0000, -999.00
33RO20071215,        P18,      50,          1,          2,      12007,2,20071231,       2116,    -2.4990,  -109.9993,       3942,  3832.8,   1.4639,  34.6927,2,  34.6935,2,    159.2,2,   159.1,2,  147.60,6,   36.00,6,    0.00,6,    2.48,2,-999.000,9,-999.000,9,-999.0000,9,  2324.1,2,  -999.0,5,   -999.0,9,  -999.00,   7.6016,2,    25.00,-999.000,9,-999.0000,9, -999.00,9, -999.00,9,  -999.0,9,-999.000,9,-999.000,-999.000,9,-999.000,9, -999.00,9, -999.00,9, -999.00,9, -999.00,9, -999.00,9,-999.000,   0.1584,2,   0.1112,2,   0.0592,2,   0.0402,2,   0.0253,2,   0.0103,2,   0.0032,2,   0.0154,2,   0.0162,2,   1.1639,     -999.0,9,     -999.0,9,     -999.0,9,     -999.0,9,     -999.0,9,     -999.0,9,     -999.0,9,-999.0000, -999.00
33RO20071215,        P18,      50,          1,          1,      12035,2,20071231,       2116,    -2.4990,  -109.9993,       3942,  3969.7,   1.4737,  34.6929,2,  34.6945,2,    158.3,2,   158.6,2,  148.60,2,   36.20,2,    0.00,2,    2.47,2,-999.000,9,-999.000,9,-999.0000,9,  2325.7,6,  2417.2,4,   -999.0,9,  -999.00,   7.6055,2,    25.00,-999.000,9,-999.0000,9, -999.00,9, -999.00,9,  -999.0,9,-999.000,9,-999.000,-999.000,9,-999.000,9, -999.00,9, -999.00,9, -999.00,9, -999.00,9, -999.00,9,-999.000,   0.1403,2,   0.0957,2,   0.0491,2,   0.0328,2,   0.0195,2,   0.0070,2,   0.0017,2,   0.0161,2,   0.0175,2,   1.1588,     -999.0,9,     -999.0,9,     -999.0,9,     -999.0,9,     -999.0,9,     -999.0,9,     -999.0,9,-999.0000, -999.00