BOTTLE,20220818CCHSIOAMB
EXPOCODE,SECT_ID,STNNBR,CASTNO,SAMPNO,BTLNBR,BTLNBR_FLAG_W,DATE,TIME,LATITUDE,LONGITUDE,DEPTH,CTDPRS,CTDTMP,CTDSAL,CTDSAL_FLAG_W,SALNTY,SALNTY_FLAG_W,CTDOXY,CTDOXY_FLAG_W,OXYGEN,OXYGEN_FLAG_W,SILCAT,SILCAT_FLAG_W,NITRAT,NITRAT_FLAG_W,NITRIT,NITRIT_FLAG_W,PHSPHT,PHSPHT_FLAG_W,CFC-11,CFC-11_FLAG_W,CFC-12,CFC-12_FLAG_W,SF6,SF6_FLAG_W,TCARBN,TCARBN_FLAG_W,ALKALI,ALKALI_FLAG_W,FCO2,FCO2_FLAG_W,FCO2TMP,PH_SWS,PH_SWS_FLAG_W,PH_TMP,TRITUM,TRITUM_FLAG_W,HELIUM,HELIUM_FLAG_W,DELHE3,DELHE3_FLAG_W,DELC13,DELC13_FLAG_W,DELC14,DELC14_FLAG_W,NEON,NEON_FLAG_W,NEONER,CCL4,CCL4_FLAG_W,POC,POC_FLAG_W,DOC,DOC_FLAG_W,TDN,TDN_FLAG_W,DON,DON_FLAG_W,CHLORA,CHLORA_FLAG_W,ARGON,ARGON_FLAG_W,TRITER,CDOM325,CDOM325_FLAG_W,CDOM340,CDOM340_FLAG_W,CDOM380,CDOM380_FLAG_W,CDOM412,CDOM412_FLAG_W,CDOM443,CDOM443_FLAG_W,CDOM490,CDOM490_FLAG_W,CDOM555,CDOM555_FLAG_W,CDOMSL,CDOMSL_FLAG_W,CDOMSN,CDOMSN_FLAG_W,THETA,D18O_NO3,D18O_NO3_FLAG_W,CDOM2C,CDOM2C_FLAG_W,CDOM3C,CDOM3C_FLAG_W,LAB_DEN,LAB_DEN_FLAG_W,DELSI30,DELSI30_FLAG_W,N2,N2_FLAG_W,D15N_NO3,D15N_NO3_FLAG_W,HELIER,DELHER
,,,,,,,,,,,METERS,DBAR,ITS-90,PSS-78,,PSS-78,,UMOL/KG,,UMOL/KG,,UMOL/KG,,UMOL/KG,,UMOL/KG,,UMOL/KG,,PMOL/KG,,PMOL/KG,,FMOL/KG,,UMOL/KG,,UMOL/KG,,UATM,,DEG C,,,DEG C,TU,,NMOL/KG,,PERCNT,,/MILLE,,/MILLE,,NMOL/KG,,NMOL/KG,PMOL/KG,,UG/KG,,UMOL/KG,,UMOL/KG,,UMOL/KG,,UG/KG,,UMOL/KG,,TU,1/M,,1/M,,1/M,,1/M,,1/M,,1/M,,1/M,,1/NM,,1/NM,,DEG C,/MILLE,,,,,,,,/MILLE,,UMOL/KG,,/MILLE,,NMOL/KG,PERCNT
33RO20071215,        P18,     132,          1,         36,      12017,2,20080201,       1816,   -47.9167,  -103.0008,       4059,     5.1,  10.9432,  33.9865,2,  33.9882,2,    276.2,2,   275.3,2,    1.80,2,   15.40,2,    0.23,2,    1.04,2,-999.000,9,-999.000,9,-999.0000,9,  2075.0,6,  2268.8,2,   -999.0,9,  -999.00,   7.8307,2,    25.00,-999.000,9,-999.0000,9, -999.00,9, -999.00,9,  -999.0,9,-999.000,9,-999.000,-999.000,9,-999.000,9,   50.99,2,   20.27,2, -999.00,1,    0.10,2, -999.00,9,-999.000,   0.0776,2,   0.0518,2,   0.0231,2,   0.0180,2,   0.0116,2,   0.0053,2,   0.0008,2,   0.0145,2,   0.0192,2,  10.9426,     -999.0,9,     -999.0,9,     -999.0,9,     -999.0,9,     -999.0,9,     -999.0,9,     -999.0,9,-999.0000, -999.00
33RO20071215,        P18,     132,          1,         35,      12029,2,20080201,       1816,   -47.9167,  -103.0008,       4059,    10.4,  10.8874,  34.0362,2,  34.0365,2,    276.4,2,   276.2,2,    1.80,2,   15.40,2,    0.22,2,    1.04,2,   3.556,2,   2.054,2,   1.6032,2,  2078.0,2,  2269.6,2,   -999.0,9,  -999.00,   7.7936,2,    25.00,-999.000,9,-999.0000,9, -999.00,9,     1.6,2,  -999.0,1,-999.000,9,-999.000,-999.000,9,-999.000,9,   50.60,2,   19.66,2, -999.00,1,    0.13,2, -999.00,9,-999.000,   0.0687,2,   0.0445,2,   0.0189,2,   0.0144,2,   0.0085,2,   0.0032,2,  -0.0004,4,   0.0162,2,   0.0219,2,  10.8861,     -999.0,9,     -999.0,9,     -999.0,9,     -999.0,9,     -999.0,9,     -999.0,9,     -999.0,9,-999.0000, -999.00
33RO20071215,        P18,     132,          1,         34,      12049,2,20080201,       1816,   -47.9167,  -103.0008,       4059,    19.8,  10.6673,  34.1031,2,  34.1013,2,    277.1,2,   277.5,2,    1.80,2,   15.40,2,    0.21,2,    1.05,2,-999.000,9,-999.000,9,-999.0000,9,  2083.4,2,  2272.3,2,   -999.0,9,  -999.00,   7.8276,2,    25.00,-999.000,9,-999.0000,9, -999.00,9, -999.00,9,  -999.0,9,-999.000,9,-999.000,-999.000,9,-999.000,9,   50.50,2,   19.94,2, -999.00,1,    0.16,2, -999.00,9,-999.000,   0.0607,2,   0.0375,2,   0.0154,2,   0.0114,2,   0.0062,2,   0.0015,2,  -0.0013,4,   0.0184,2,   0.0249,2,  10.6650,     -999.0,9,     -999.0,9,     -999.0,9,     -999.0,9,     -999.0,9,     -999.0,9,     -999.0,9,-999.0000, -999.00
33RO20071215,        P18,     132,          1,         33,      12027,2,20080201,       1816,   -47.9167,  -103.0008,       4059,    41.5,  10.5626,  34.1110,2,  34.1100,2,    278.0,2,   278.1,2,    1.80,2,   15.40,2,    0.20,2,    1.08,2,   3.604,2,   2.088,2,   1.6585,2,  2085.6,2,  2266.8,2,   -999.0,9,  -999.00,   7.8363,2,    25.00,-999.000,9,-999.0000,9, -999.00,9, -999.00,9,  -999.0,9,-999.000,9,-999.000,-999.000,9,-999.000,9,   50.49,2,   19.49,2, -999.00,1,    0.16,2, -999.00,9,-999.000,   0.0610,2,   0.0373,2,   0.0154,2,   0.0117,2,   0.0064,2,   0.0017,2,  -0.0011,4,   0.0181,2,   0.0247,2,  10.5577,     -999.0,9,     -999.0,9,     -999.0,9,     -999.0,9,     -999.0,9,     -999.0,9,     -999.0,9,-999.0000, -999.00
33RO20071215,        P18,     132,          1,         32,      12023,2,20080201,       1816,   -47.9167,  -103.0008,       4059,    68.1,  10.1946,  34.1198,2,  34.1193,2,    279.0,2,   279.4,2,    2.00,2,   15.60,2,    0.20,2,    1.11,2,-999.000,9,-999.000,9,-999.0000,9,  2086.8,2,  2277.5,2,   -999.0,9,  -999.00,   7.8272,2,    25.00,-999.000,9,-999.0000,9, -999.00,9, -999.00,9,  -999.0,9,-999.000,9,-999.000,-999.000,9,-999.000,9,   49.92,2,   19.45,2, -999.00,1,    0.18,2, -999.00,9,-999.000,   0.0633,2,   0.0398,2,   0.0189,2,   0.0142,2,   0.0084,2,   0.0030,2,  -0.0004,4,   0.0154,2,   0.0203,2,  10.1867,     -999.0,9,     -999.0,9,     -999.0,9,     -999.0,9,     -999.0,9,     -999.0,9,     -999.0,9,-999.0000, -999.00
33RO20071215,        P18,     132,          1,         31,      12037,2,20080201,       1816,   -47.9167,  -103.0008,       4059,    91.2,   8.2020,  34.1219,2,  34.1234,2,    293.1,2,   293.0,2,    2.40,2,   16.20,2,    0.18,2,    1.19,2,   4.067,2,   2.312,2,   1.8596,2,  2094.2,2,  2278.0,2,   -999.0,9,  -999.00,   7.8084,2,    25.00,-999.000,9,-999.0000,9, -999.00,9, -999.00,9,  -999.0,9,-999.000,9,-999.000,-999.000,9,-999.000,9,   49.17,2,   19.34,2, -999.00,1,    0.25,2, -999.00,9,-999.000,   0.0849,2,   0.0561,2,   0.0276,2,   0.0202,2,   0.0121,2,   0.0049,2,   0.0007,2,   0.0150,2,   0.0181,2,   8.1928,     -999.0,9,     -999.0,9,     -999.0,9,     -999.0,9,     -999.0,9,     -999.0,9,     -999.0,9,-999.0000, -999.00
33RO20071215,        P18,     132,          1,         30,      12036,2,20080201,       1816,   -47.9167,  -103.0008,       4059,   118.1,   7.4751,  34.1455,2,  34.1465,2,    290.6,2,   291.0,2,    2.60,2,   16.70,2,    0.25,2,    1.26,2,-999.000,9,-999.000,9,-999.0000,9,  -999.0,9,  2286.1,2,   -999.0,9,  -999.00,   7.7882,2,    25.00,-999.000,9,-999.0000,9, -999.00,9, -999.00,9,  -999.0,9,-999.000,9,-999.000,-999.000,9,-999.000,9,   47.13,2,   20.12,2, -999.00,1,    0.14,2, -999.00,9,-999.000,   0.0802,2,   0.0535,2,   0.0281,2,   0.0213,2,   0.0133,2,   0.0060,2,   0.0015,2,   0.0137,2,   0.0163,2,   7.4638,     -999.0,9,     -999.0,9,     -999.0,9,     -999.0,9,     -999.0,9,     -999.0,9,     -999.0,9,-999.0000, -999.00
33RO20071215,        P18,     132,          1,         29,      12044,2,20080201,       1816,   -47.9167,  -103.0008,       4059,   139.9,   7.3084,  34.1576,2,  34.1579,2,    289.7,2,   290.6,2,    2.80,2,   16.90,2,    0.26,2,    1.37,2,   4.184,2,   2.375,2,   1.8650,2,  2099.3,2,  2274.3,2,   -999.0,9,  -999.00,   7.7824,2,    25.00,-999.000,9,-999.0000,9, -999.00,9, -999.00,9,  -999.0,9,-999.000,9,-999.000,-999.000,9,-999.000,9,   46.54,2,   19.49,2, -999.00,1,    0.13,2, -999.00,9,-999.000,   0.0684,2,   0.0437,2,   0.0217,2,   0.0163,2,   0.0093,2,   0.0032,2,  -0.0003,4,   0.0149,2,   0.0188,2,   7.2952,     -999.0,9,     -999.0,9,     -999.0,9,     -999.0,9,     -999.0,9,     -999.0,9,     -999.0,9,-999.0000, -999.00
33RO20071215,        P18,     132,          1,         28,      12057,2,20080201,       1816,   -47.9167,  -103.0008,       4059,   166.9,   7.0011,  34.1941,2,  34.1961,2,    280.4,2,   279.1,2,    3.80,2,   18.90,2,    0.23,2,    1.43,2,-999.000,9,-999.000,9,-999.0000,9,  2112.1,2,  2273.9,2,   -999.0,9,  -999.00,   7.7576,2,    25.00,-999.000,9,-999.0000,9, -999.00,9, -999.00,9,  -999.0,9,-999.000,9,-999.000,-999.000,9,-999.000,9,   46.16,2,   21.54,2, -999.00,1,    0.10,2, -999.00,9,-999.000,   0.0787,2,   0.0525,2,   0.0284,2,   0.0225,2,   0.0140,2,   0.0064,2,   0.0015,2,   0.0131,2,   0.0154,2,   6.9857,     -999.0,9,     -999.0,9,     -999.0,9,     -999.0,9,     -999.0,9,     -999.0,9,     -999.0,9,-999.0000, -999.00
33RO20071215,        P18,     132,          1,         27,      12026,2,20080201,       1816,   -47.9167,  -103.0008,       4059,   191.3,   6.6400,  34.2515,2,  34.2523,2,    272.6,2,   273.3,2,    5.40,2,   20.40,2,    0.02,2,    1.49,2,   4.248,2,   2.368,2,   1.6813,2,  2123.1,2,  2278.9,2,   -999.0,9,  -999.00,   7.7476,2,    25.00,-999.000,9,-999.0000,9, -999.00,9, -999.00,9,  -999.0,9,-999.000,9,-999.000,-999.000,9,-999.000,9,   45.50,2,   22.75,2, -999.00,1,    0.05,2, -999.00,9,-999.000,   0.0765,2,   0.0494,2,   0.0253,2,   0.0199,2,   0.0115,2,   0.0047,2,   0.0007,2,   0.0141,2,   0.0174,2,   6.6228,     -999.0,9,     -999.0,9,     -999.0,9,     -999.0,9,     -999.0,9,     -999.0,9,     -999.0,9,-999.0000, -999.00
33RO20071215,        P18,     132,          1,         26,      12030,2,20080201,       1816,   -47.9167,  -103.0008,       4059,   232.3,   6.5556,  34.2789,2,  34.2815,2,    271.5,2,   271.5,2,    6.10,2,   20.60,2,    0.01,2,    1.51,2,   4.271,2,   2.366,2,   1.6257,2,  2125.1,2,  2288.6,2,   -999.0,9,  -999.00,   7.7459,2,    25.00,-999.000,9,-999.0000,9, -999.00,9, -999.00,9,  -999.0,9,-999.000,9,-999.000,-999.000,9,-999.000,9,   44.80,2,   22.69,2, -999.00,1,    0.01,2, -999.00,9,-999.000,   0.0733,2,   0.0466,2,   0.0231,2,   0.0175,2,   0.0099,2,   0.0039,2,   0.0001,4,   0.0150,2,   0.0188,2,   6.5349,     -999.0,9,     -999.0,9,     -999.0,9,     -999.0,9,     -999.0,9,     -999.0,9,     -999.0,9,-999.0000, -999.00
33RO20071215,        P18,     132,          1,         25,      12024,2,20080201,       1816,   -47.9167,  -103.0008,       4059,   283.0,   6.5106,  34.2996,2,  34.2978,2,    270.3,2,   270.3,2,    6.80,2,   21.00,2,    0.01,2,    1.54,2,   4.175,2,   2.305,2,   1.4783,2,  2127.4,2,  2289.4,2,   -999.0,9,  -999.00,   7.7491,2,    25.00,-999.000,9,-999.0000,9, -999.00,9, -999.00,9,  -999.0,9,-999.000,9,-999.000,-999.000,9,-999.000,9,   44.18,2,   22.97,2, -999.00,1, -999.00,9, -999.00,9,-999.000,   0.0698,2,   0.0436,2,   0.0210,2,   0.0155,2,   0.0083,2,   0.0027,2,  -0.0004,4,   0.0158,2,   0.0202,2,   6.4853,     -999.0,9,     -999.0,9,     -999.0,9,     -999.0,9,     -999.0,9,     -999.0,9,     -999.0,9,-999.0000, -999.00
33RO20071215,        P18,     132,          1,         24,      12019,2,20080201,       1816,   -47.9167,  -103.0008,       4059,   332.0,   6.3501,  34.2907,2,  34.2913,2,    270.1,2,   270.4,2,    7.30,2,   21.50,2,    0.01,2,    1.56,2,-999.000,9,-999.000,9,-999.0000,9,  2129.1,2,  2274.6,2,   -999.0,9,  -999.00,   7.7324,2,    25.00,-999.000,9,-999.0000,9, -999.00,9, -999.00,9,  -999.0,9,-999.000,9,-999.000,-999.000,9,-999.000,9,   42.91,2,   22.64,2, -999.00,1, -999.00,9, -999.00,9,-999.000,   0.0695,2,   0.0433,2,   0.0211,2,   0.0155,2,   0.0084,2,   0.0027,2,  -0.0004,4,   0.0157,2,   0.0201,2,   6.3207,     -999.0,9,     -999.0,9,     -999.0,9,     -999.0,9,     -999.0,9,     -999.0,9,     -999.0,9,-999.0000, -999.00
33RO20071215,        P18,     132,          1,         23,      12022,2,20080201,       1816,   -47.9167,  -103.0008,       4059,   382.4,   6.2351,  34.2846,2,  34.2849,2,    270.1,2,   270.6,2,    7.60,2,   21.80,2,    0.01,2,    1.58,2,   4.180,2,   2.284,2,   1.4959,2,  2130.7,2,  2281.2,2,   -999.0,9,  -999.00,   7.7387,2,    25.00,-999.000,9,-999.0000,9, -999.00,9, -999.00,9,  -999.0,9,-999.000,9,-999.000,-999.000,9,-999.000,9,   42.36,2,   23.37,2, -999.00,1, -999.00,9, -999.00,9,-999.000,   0.0744,2,   0.0471,2,   0.0233,2,   0.0174,2,   0.0100,2,   0.0039,2,   0.0004,3,   0.0151,2,   0.0190,2,   6.2014,     -999.0,9,     -999.0,9,     -999.0,9,     -999.0,9,     -999.0,9,     -999.0,9,     -999.0,9,-999.0000, -999.00
33RO20071215,        P18,     132,          1,         22,      12015,2,20080201,       1816,   -47.9167,  -103.0008,       4059,   466.0,   6.0752,  34.2765,2,  34.2776,2,    267.7,2,   268.4,2,    8.30,2,   22.40,2,    0.01,2,    1.63,2,-999.000,9,-999.000,9,-999.0000,9,  2132.6,2,  2283.3,2,   -999.0,9,  -999.00,   7.7140,2,    25.00,-999.000,9,-999.0000,9, -999.00,9, -999.00,9,  -999.0,9,-999.000,9,-999.000,-999.000,9,-999.000,9,   41.87,2,   24.21,2, -999.00,1, -999.00,9, -999.00,9,-999.000,   0.0669,2,   0.0411,2,   0.0197,2,   0.0141,2,   0.0073,2,   0.0020,2,  -0.0008,4,   0.0165,2,   0.0212,2,   6.0345,     -999.0,9,     -999.0,9,     -999.0,9,     -999.0,9,     -999.0,9,     -999.0,9,     -999.0,9,-999.0000, -999.00
33RO20071215,        P18,     132,          1,         21,      12020,2,20080201,       1816,   -47.9167,  -103.0008,       4059,   565.9,   5.8325,  34.2631,2,  34.2645,2,    262.6,2,   263.1,2,    9.60,2,   23.40,2,    0.01,2,    1.71,2,   3.971,2,   2.133,2,   1.1244,2,  2136.4,2,  2282.3,2,   -999.0,9,  -999.00,   7.7236,2,    25.00,-999.000,9,-999.0000,9, -999.00,9, -999.00,9,  -999.0,9,-999.000,9,-999.000,-999.000,9,-999.000,9,   41.40,2,   25.12,2, -999.00,1, -999.00,9, -999.00,9,-999.000,   0.0691,2,   0.0426,2,   0.0201,2,   0.0145,2,   0.0076,2,   0.0022,2,  -0.0008,4,   0.0166,2,   0.0212,2,   5.7837,     -999.0,9,     -999.0,9,     -999.0,9,     -999.0,9,     -999.0,9,     -999.0,9,     -999.0,9,-999.0000, -999.00
33RO20071215,        P18,     132,          1,         20,      12055,2,20080201,       1816,   -47.9167,  -103.0008,       4059,   666.8,   5.5315,  34.2556,2,  34.2572,2,    250.7,2,   250.8,2,   12.40,2,   25.20,2,    0.01,2,    1.83,2,-999.000,9,-999.000,9,-999.0000,9,  2144.9,2,  2285.1,2,   -999.0,9,  -999.00,   7.6937,2,    25.00,-999.000,9,-999.0000,9, -999.00,9, -999.00,9,  -999.0,9,-999.000,9,-999.000,-999.000,9,-999.000,9,   40.12,2,   26.60,2, -999.00,1, -999.00,9, -999.00,9,-999.000,   0.0727,2,   0.0455,2,   0.0215,2,   0.0151,2,   0.0080,2,   0.0026,2,  -0.0006,4,   0.0167,2,   0.0209,2,   5.4751,     -999.0,9,     -999.0,9,     -999.0,9,     -999.0,9,     -999.0,9,     -999.0,9,     -999.0,9,-999.0000, -999.00
33RO20071215,        P18,     132,          1,         19,      12018,2,20080201,       1816,   -47.9167,  -103.0008,       4059,   766.5,   5.1096,  34.2609,2,  34.2651,2,    233.2,2,   233.3,2,   17.60,2,   27.70,2,    0.01,2,    1.98,2,   2.875,6,   1.469,6,   0.7052,6,  2160.1,2,  2294.3,2,   -999.0,9,  -999.00,   7.6670,2,    25.00,-999.000,9,-999.0000,9, -999.00,9, -999.00,9,  -999.0,9,-999.000,9,-999.000,-999.000,9,-999.000,9,   39.79,2,   28.85,2, -999.00,1, -999.00,9, -999.00,9,-999.000,   0.0785,2,   0.0494,2,   0.0242,2,   0.0167,2,   0.0092,2,   0.0032,2,  -0.0003,4,   0.0163,2,   0.0201,2,   5.0467,     -999.0,9,     -999.0,9,     -999.0,9,     -999.0,9,     -999.0,9,     -999.0,9,     -999.0,9,-999.0000, -999.00
33RO20071215,        P18,     132,          1,         18,      12025,2,20080201,       1816,   -47.9167,  -103.0008,       4059,   866.4,   4.7174,  34.2828,2,  34.2822,2,    218.8,2,   218.9,2,   23.90,2,   29.60,2,    0.00,2,    2.11,2,-999.000,9,-999.000,9,-999.0000,9,  2174.8,2,  2299.1,2,   -999.0,9,  -999.00,   7.6480,2,    25.00,-999.000,9,-999.0000,9, -999.00,9, -999.00,9,  -999.0,9,-999.000,9,-999.000,-999.000,9,-999.000,9,   39.39,2,   30.72,2, -999.00,1, -999.00,9, -999.00,9,-999.000,   0.0852,2,   0.0545,2,   0.0272,2,   0.0191,2,   0.0108,2,   0.0038,2,   0.0002,3,   0.0158,2,   0.0191,2,   4.6482,     -999.0,9,     -999.0,9,     -999.0,9,     -999.0,9,     -999.0,9,     -999.0,9,     -999.0,9,-999.0000, -999.00
33RO20071215,        P18,     132,          1,         17,      12016,2,20080201,       1816,   -47.9167,  -103.0008,       4059,   966.5,   4.2679,  34.3041,2,  34.3044,2,    209.6,2,   209.5,2,   31.10,2,   30.80,2,    0.00,2,    2.22,2,   1.917,2,   0.963,2,   0.3285,2,  2187.7,2,  2305.6,2,   -999.0,9,  -999.00,   7.6239,2,    25.00,-999.000,9,-999.0000,9, -999.00,9, -999.00,9,  -999.0,9,-999.000,9,-999.000,-999.000,9,-999.000,9,   39.14,2,   32.10,2, -999.00,1, -999.00,9, -999.00,9,-999.000,   0.0909,2,   0.0587,2,   0.0292,2,   0.0205,2,   0.0118,2,   0.0042,2,   0.0005,3,   0.0157,2,   0.0188,2,   4.1933,     -999.0,9,     -999.0,9,     -999.0,9,     -999.0,9,     -999.0,9,     -999.0,9,     -999.0,9,-999.0000, -999.00
33RO20071215,        P18,     132,          1,         16,      12051,2,20080201,       1816,   -47.9167,  -103.0008,       4059,  1067.2,   3.7853,  34.3279,2,  34.3273,2,    202.1,2,   202.1,2,   38.60,2,   32.30,2,    0.00,2,    2.31,2,-999.000,9,-999.000,9,-999.0000,9,  2200.8,2,  2313.0,2,   -999.0,9,  -999.00,   7.6083,2,    25.00,-999.000,9,-999.0000,9, -999.00,9, -999.00,9,  -999.0,9,-999.000,9,-999.000,-999.000,9,-999.000,9,   38.98,2,   33.68,2, -999.00,9, -999.00,9, -999.00,9,-999.000,   0.0923,2,   0.0589,2,   0.0291,2,   0.0201,2,   0.0113,2,   0.0035,2,   0.0000,4,   0.0161,2,   0.0193,2,   3.7061,     -999.0,9,     -999.0,9,     -999.0,9,     -999.0,9,     -999.0,9,     -999.0,9,     -999.0,9,-999.0000, -999.00
33RO20071215,        P18,     132,          1,         15,      12014,2,20080201,       1816,   -47.9167,  -103.0008,       4059,  1166.1,   3.4712,  34.3573,2,  34.3582,2,    193.4,2,   192.9,2,   45.80,2,   33.40,2,    0.00,2,    2.42,2,   1.079,2,   0.544,2,   0.1545,2,  2212.6,2,  2320.5,2,   -999.0,9,  -999.00,   7.5900,2,    25.00,-999.000,9,-999.0000,9, -999.00,9, -999.00,9,  -999.0,9,-999.000,9,-999.000,-999.000,9,-999.000,9, -999.00,9, -999.00,9, -999.00,9, -999.00,9, -999.00,9,-999.000,   0.0963,2,   0.0619,2,   0.0306,2,   0.0210,2,   0.0121,2,   0.0039,2,   0.0003,4,   0.0161,2,   0.0192,2,   3.3865,     -999.0,9,     -999.0,9,     -999.0,9,     -999.0,9,     -999.0,9,     -999.0,9,     -999.0,9,-999.0000, -999.00
33RO20071215,        P18,     132,          1,         14,      12013,2,20080201,       1816,   -47.9167,  -103.0008,       4059,  1332.3,   3.0561,  34.4301,2,  34.4313,2,    176.6,2,   176.2,2,   59.40,2,   34.70,2,    0.00,2,    2.47,2,-999.000,9,-999.000,9,-999.0000,9,  2233.7,2,  2322.9,2,   -999.0,9,  -999.00,   7.5668,2,    25.00,-999.000,9,-999.0000,9, -999.00,9, -999.00,9,  -999.0,9,-999.000,9,-999.000,-999.000,9,-999.000,9,   38.85,2,   36.09,2, -999.00,9, -999.00,9, -999.00,9,-999.000,   0.1052,2,   0.0684,2,   0.0343,2,   0.0234,2,   0.0137,2,   0.0048,2,   0.0008,2,   0.0159,2,   0.0186,2,   2.9617,     -999.0,9,     -999.0,9,     -999.0,9,     -999.0,9,     -999.0,9,     -999.0,9,     -999.0,9,-999.0000, -999.00
33RO20071215,        P18,     132,          1,         13,      12012,2,20080201,       1816,   -47.9167,  -103.0008,       4059,  1533.1,   2.7433,  34.5192,2,  34.5230,2,    162.2,2,   162.0,2,   74.10,2,   35.40,2,    0.00,2,    2.52,2,   0.242,2,   0.126,2,   0.0000,2,  2254.5,6,  2339.8,2,   -999.0,9,  -999.00,   7.5576,2,    25.00,-999.000,9,-999.0000,9, -999.00,9, -999.00,9,  -999.0,9,-999.000,9,-999.000,-999.000,9,-999.000,9,   38.24,2,   36.80,2, -999.00,9, -999.00,9, -999.00,9,-999.000,   0.1138,2,   0.0755,2,   0.0384,2,   0.0261,2,   0.0156,2,   0.0058,2,   0.0013,2,   0.0157,2,   0.0180,2,   2.6359,     -999.0,9,     -999.0,9,     -999.0,9,     -999.0,9,     -999.0,9,     -999.0,9,     -999.0,9,-999.0000, -999.00
33RO20071215,        P18,     132,          1,         12,      12031,2,20080201,       1816,   -47.9167,  -103.0008,       4059,  1732.7,   2.5252,  34.5791,2,  34.5781,2,    164.4,2,   164.0,2,   81.00,2,   34.70,2,    0.00,2,    2.50,2,-999.000,9,-999.000,9,-999.0000,9,  2259.1,2,  2348.4,2,   -999.0,9,  -999.00,   7.5585,2,    25.00,-999.000,9,-999.0000,9, -999.00,9, -999.00,9,  -999.0,9,-999.000,9,-999.000,-999.000,9,-999.000,9,   38.38,2,   36.42,2, -999.00,9, -999.00,9, -999.00,9,-999.000,   0.1148,2,   0.0760,2,   0.0381,2,   0.0256,2,   0.0151,2,   0.0052,2,   0.0010,2,   0.0161,2,   0.0184,2,   2.4038,     -999.0,9,     -999.0,9,     -999.0,9,     -999.0,9,     -999.0,9,     -999.0,9,     -999.0,9,-999.0000, -999.00