BOTTLE,20220818CCHSIOAMB
EXPOCODE,SECT_ID,STNNBR,CASTNO,SAMPNO,BTLNBR,BTLNBR_FLAG_W,DATE,TIME,LATITUDE,LONGITUDE,DEPTH,CTDPRS,CTDTMP,CTDSAL,CTDSAL_FLAG_W,SALNTY,SALNTY_FLAG_W,CTDOXY,CTDOXY_FLAG_W,OXYGEN,OXYGEN_FLAG_W,SILCAT,SILCAT_FLAG_W,NITRAT,NITRAT_FLAG_W,NITRIT,NITRIT_FLAG_W,PHSPHT,PHSPHT_FLAG_W,CFC-11,CFC-11_FLAG_W,CFC-12,CFC-12_FLAG_W,SF6,SF6_FLAG_W,TCARBN,TCARBN_FLAG_W,ALKALI,ALKALI_FLAG_W,FCO2,FCO2_FLAG_W,FCO2TMP,PH_SWS,PH_SWS_FLAG_W,PH_TMP,TRITUM,TRITUM_FLAG_W,HELIUM,HELIUM_FLAG_W,DELHE3,DELHE3_FLAG_W,DELC13,DELC13_FLAG_W,DELC14,DELC14_FLAG_W,NEON,NEON_FLAG_W,NEONER,CCL4,CCL4_FLAG_W,POC,POC_FLAG_W,DOC,DOC_FLAG_W,TDN,TDN_FLAG_W,DON,DON_FLAG_W,CHLORA,CHLORA_FLAG_W,ARGON,ARGON_FLAG_W,TRITER,CDOM325,CDOM325_FLAG_W,CDOM340,CDOM340_FLAG_W,CDOM380,CDOM380_FLAG_W,CDOM412,CDOM412_FLAG_W,CDOM443,CDOM443_FLAG_W,CDOM490,CDOM490_FLAG_W,CDOM555,CDOM555_FLAG_W,CDOMSL,CDOMSL_FLAG_W,CDOMSN,CDOMSN_FLAG_W,THETA,D18O_NO3,D18O_NO3_FLAG_W,CDOM2C,CDOM2C_FLAG_W,CDOM3C,CDOM3C_FLAG_W,LAB_DEN,LAB_DEN_FLAG_W,DELSI30,DELSI30_FLAG_W,N2,N2_FLAG_W,D15N_NO3,D15N_NO3_FLAG_W,HELIER,DELHER
,,,,,,,,,,,METERS,DBAR,ITS-90,PSS-78,,PSS-78,,UMOL/KG,,UMOL/KG,,UMOL/KG,,UMOL/KG,,UMOL/KG,,UMOL/KG,,PMOL/KG,,PMOL/KG,,FMOL/KG,,UMOL/KG,,UMOL/KG,,UATM,,DEG C,,,DEG C,TU,,NMOL/KG,,PERCNT,,/MILLE,,/MILLE,,NMOL/KG,,NMOL/KG,PMOL/KG,,UG/KG,,UMOL/KG,,UMOL/KG,,UMOL/KG,,UG/KG,,UMOL/KG,,TU,1/M,,1/M,,1/M,,1/M,,1/M,,1/M,,1/M,,1/NM,,1/NM,,DEG C,/MILLE,,,,,,,,/MILLE,,UMOL/KG,,/MILLE,,NMOL/KG,PERCNT
33RO20071215,        P18,      47,          1,         36,      12017,2,20071230,       2305,    -0.9978,  -109.9995,       4008,     5.8,  20.7995,  34.4842,2,  34.4724,2,    200.5,2,   203.8,2,    8.30,2,   11.10,2,    0.17,2,    0.79,2,   1.892,2,   1.143,2,   0.8862,2,  2053.6,6,  2276.4,2,    478.1,2,    20.00,   7.9033,2,    25.00,-999.000,9,-999.0000,9, -999.00,9,    0.95,2,  -999.0,1,-999.000,9,-999.000,-999.000,9,-999.000,9, -999.00,9, -999.00,9, -999.00,1, -999.00,9, -999.00,9,-999.000,-999.0000,9,-999.0000,9,-999.0000,9,-999.0000,9,-999.0000,9,-999.0000,9,-999.0000,9,-999.0000,9,-999.0000,9,  20.7984,     -999.0,9,     -999.0,9,     -999.0,9,     -999.0,9,     -999.0,9,     -999.0,9,     -999.0,9,-999.0000, -999.00
33RO20071215,        P18,      47,          1,         35,      12029,2,20071230,       2305,    -0.9978,  -109.9995,       4008,    15.5,  19.0394,  34.6300,2,  34.6336,2,    173.9,2,   178.8,2,   10.00,2,   13.30,2,    0.18,2,    0.94,2,   1.806,6,   1.071,6,   0.7213,6,  2083.6,2,  2287.5,2,   -999.0,9,  -999.00,   7.8554,2,    25.00,-999.000,9,-999.0000,9, -999.00,9, -999.00,9,  -999.0,9,-999.000,9,-999.000,-999.000,9,-999.000,9,   58.61,2,   17.54,2, -999.00,1, -999.00,9, -999.00,9,-999.000,-999.0000,9,-999.0000,9,-999.0000,9,-999.0000,9,-999.0000,9,-999.0000,9,-999.0000,9,-999.0000,9,-999.0000,9,  19.0367,     -999.0,9,     -999.0,9,     -999.0,9,     -999.0,9,     -999.0,9,     -999.0,9,     -999.0,9,-999.0000, -999.00
33RO20071215,        P18,      47,          1,         34,      12049,2,20071230,       2305,    -0.9978,  -109.9995,       4008,    33.5,  18.4858,  34.7540,2,  34.7682,2,    164.8,2,  -999.0,5,   10.40,2,   13.90,2,    0.18,2,    0.99,2,   1.798,2,   1.060,2,   0.6741,2,  2097.1,2,  2293.3,2,    567.9,2,    20.00,   7.8446,2,    25.00,-999.000,9,-999.0000,9, -999.00,9, -999.00,9,  -999.0,9,-999.000,9,-999.000,-999.000,9,-999.000,9, -999.00,9, -999.00,9, -999.00,1, -999.00,9, -999.00,9,-999.000,-999.0000,9,-999.0000,9,-999.0000,9,-999.0000,9,-999.0000,9,-999.0000,9,-999.0000,9,-999.0000,9,-999.0000,9,  18.4799,     -999.0,9,     -999.0,9,     -999.0,9,     -999.0,9,     -999.0,9,     -999.0,9,     -999.0,9,-999.0000, -999.00
33RO20071215,        P18,      47,          1,         33,      12027,2,20071230,       2305,    -0.9978,  -109.9995,       4008,    59.1,  18.5825,  34.9006,2,  34.9042,2,    159.8,2,   156.6,2,   10.20,2,   14.30,2,    0.23,2,    1.03,2,   1.795,2,   1.064,2,   0.7294,2,  2107.8,2,  2302.1,2,    584.8,6,    20.00,   7.8433,2,    25.00,-999.000,9,-999.0000,9, -999.00,9, -999.00,9,  -999.0,9,-999.000,9,-999.000,-999.000,9,-999.000,9,   52.12,2,   18.94,2, -999.00,1, -999.00,9, -999.00,9,-999.000,-999.0000,9,-999.0000,9,-999.0000,9,-999.0000,9,-999.0000,9,-999.0000,9,-999.0000,9,-999.0000,9,-999.0000,9,  18.5722,     -999.0,9,     -999.0,9,     -999.0,9,     -999.0,9,     -999.0,9,     -999.0,9,     -999.0,9,-999.0000, -999.00
33RO20071215,        P18,      47,          1,         32,      12023,2,20071230,       2305,    -0.9978,  -109.9995,       4008,    83.4,  15.2209,  35.0936,2,  35.0925,2,     57.6,2,    56.7,2,   15.60,2,   25.30,2,    0.17,2,    1.75,2,   1.437,2,   0.817,2,   0.3986,2,  2197.1,2,  2310.2,2,    997.8,2,    20.00,   7.6324,2,    25.00,-999.000,9,-999.0000,9, -999.00,9, -999.00,9,  -999.0,9,-999.000,9,-999.000,-999.000,9,-999.000,9, -999.00,9, -999.00,9, -999.00,1, -999.00,9, -999.00,9,-999.000,-999.0000,9,-999.0000,9,-999.0000,9,-999.0000,9,-999.0000,9,-999.0000,9,-999.0000,9,-999.0000,9,-999.0000,9,  15.2082,     -999.0,9,     -999.0,9,     -999.0,9,     -999.0,9,     -999.0,9,     -999.0,9,     -999.0,9,-999.0000, -999.00
33RO20071215,        P18,      47,          1,         31,      12037,2,20071230,       2305,    -0.9978,  -109.9995,       4008,   108.1,  14.2647,  35.0483,2,  35.0479,2,     60.0,2,    60.6,2,   17.10,2,   25.80,2,    0.07,2,    1.77,2,   1.330,2,   0.744,2,   0.3561,2,  2199.4,2,  2306.5,2,   -999.0,9,  -999.00,   7.6269,2,    25.00,-999.000,9,-999.0000,9, -999.00,9, -999.00,9,  -999.0,9,-999.000,9,-999.000,-999.000,9,-999.000,9,   49.19,2,   28.33,2, -999.00,1, -999.00,9, -999.00,9,-999.000,-999.0000,9,-999.0000,9,-999.0000,9,-999.0000,9,-999.0000,9,-999.0000,9,-999.0000,9,-999.0000,9,-999.0000,9,  14.2489,     -999.0,9,     -999.0,9,     -999.0,9,     -999.0,9,     -999.0,9,     -999.0,9,     -999.0,9,-999.0000, -999.00
33RO20071215,        P18,      47,          1,         30,      12036,2,20071230,       2305,    -0.9978,  -109.9995,       4008,   133.6,  13.3578,  34.9655,2,  34.9657,2,     44.1,2,    43.9,2,   20.40,2,   28.60,2,    0.02,2,    1.95,2,   1.148,2,   0.639,2,   0.2514,2,  2213.9,2,  2289.8,4,   1169.1,2,    20.00,   7.5778,2,    25.00,-999.000,9,-999.0000,9, -999.00,9, -999.00,9,  -999.0,9,-999.000,9,-999.000,-999.000,9,-999.000,9,   47.52,2,   30.72,2, -999.00,1, -999.00,9, -999.00,9,-999.000,-999.0000,9,-999.0000,9,-999.0000,9,-999.0000,9,-999.0000,9,-999.0000,9,-999.0000,9,-999.0000,9,-999.0000,9,  13.3391,     -999.0,9,     -999.0,9,     -999.0,9,     -999.0,9,     -999.0,9,     -999.0,9,     -999.0,9,-999.0000, -999.00
33RO20071215,        P18,      47,          1,         29,      12044,2,20071230,       2305,    -0.9978,  -109.9995,       4008,   158.0,  12.6200,  34.9079,2,  34.9065,2,     54.3,2,    52.2,2,   22.10,2,   28.40,2,    0.01,2,    1.95,2,   1.021,2,   0.567,2,   0.2325,2,  2212.4,2,  2307.3,2,   -999.0,9,  -999.00,   7.5726,2,    25.00,-999.000,9,-999.0000,9, -999.00,9, -999.00,9,  -999.0,9,-999.000,9,-999.000,-999.000,9,-999.000,9,   46.60,2,   30.46,2, -999.00,1, -999.00,9, -999.00,9,-999.000,-999.0000,9,-999.0000,9,-999.0000,9,-999.0000,9,-999.0000,9,-999.0000,9,-999.0000,9,-999.0000,9,-999.0000,9,  12.5987,     -999.0,9,     -999.0,9,     -999.0,9,     -999.0,9,     -999.0,9,     -999.0,9,     -999.0,9,-999.0000, -999.00
33RO20071215,        P18,      47,          1,         28,      12057,2,20071230,       2305,    -0.9978,  -109.9995,       4008,   182.6,  12.3767,  34.8891,2,  34.8865,2,     65.0,2,    65.0,2,   22.50,2,   27.70,2,    0.01,2,    1.89,2,   1.024,2,   0.566,2,   0.1986,2,  2205.8,2,  2305.6,2,   1098.3,2,    20.00,   7.5925,2,    25.00,-999.000,9,-999.0000,9, -999.00,9, -999.00,9,  -999.0,9,-999.000,9,-999.000,-999.000,9,-999.000,9, -999.00,9, -999.00,9, -999.00,1, -999.00,9, -999.00,9,-999.000,-999.0000,9,-999.0000,9,-999.0000,9,-999.0000,9,-999.0000,9,-999.0000,9,-999.0000,9,-999.0000,9,-999.0000,9,  12.3525,     -999.0,9,     -999.0,9,     -999.0,9,     -999.0,9,     -999.0,9,     -999.0,9,     -999.0,9,-999.0000, -999.00
33RO20071215,        P18,      47,          1,         27,      12026,2,20071230,       2305,    -0.9978,  -109.9995,       4008,   217.6,  12.1326,  34.8700,2,  34.8694,2,     48.0,2,    48.2,2,   24.60,2,   29.90,2,    0.01,2,    2.03,2,   0.903,2,   0.500,2,   0.1899,2,  2220.6,2,  -999.0,9,   -999.0,9,  -999.00,-999.0000,9,  -999.00,-999.000,9,-999.0000,9, -999.00,9, -999.00,9,  -999.0,9,-999.000,9,-999.000,-999.000,9,-999.000,9,   45.08,2,   31.87,2, -999.00,1, -999.00,9, -999.00,9,-999.000,-999.0000,9,-999.0000,9,-999.0000,9,-999.0000,9,-999.0000,9,-999.0000,9,-999.0000,9,-999.0000,9,-999.0000,9,  12.1040,     -999.0,9,     -999.0,9,     -999.0,9,     -999.0,9,     -999.0,9,     -999.0,9,     -999.0,9,-999.0000, -999.00
33RO20071215,        P18,      47,          1,         26,      12030,2,20071230,       2305,    -0.9978,  -109.9995,       4008,   266.5,  12.0250,  34.8604,2,  34.8575,2,     38.7,2,    38.4,2,   26.00,2,   30.90,2,    0.01,2,    2.11,2,   0.838,2,   0.464,2,   0.1861,2,  2228.9,2,  2305.3,2,   1312.9,2,    20.00,   7.5264,2,    25.00,-999.000,9,-999.0000,9, -999.00,9, -999.00,9,  -999.0,9,-999.000,9,-999.000,-999.000,9,-999.000,9,   44.42,2,   32.15,2, -999.00,1, -999.00,9, -999.00,9,-999.000,-999.0000,9,-999.0000,9,-999.0000,9,-999.0000,9,-999.0000,9,-999.0000,9,-999.0000,9,-999.0000,9,-999.0000,9,  11.9901,     -999.0,9,     -999.0,9,     -999.0,9,     -999.0,9,     -999.0,9,     -999.0,9,     -999.0,9,-999.0000, -999.00
33RO20071215,        P18,      47,          1,         25,      12024,2,20071230,       2305,    -0.9978,  -109.9995,       4008,   318.4,  11.5566,  34.8301,2,  34.8272,2,     19.0,2,    19.9,2,   28.80,2,   33.50,2,    0.01,2,    2.30,2,   0.630,2,   0.349,2,   0.1082,2,  2247.6,2,  -999.0,9,   -999.0,9,  -999.00,-999.0000,9,  -999.00,-999.000,9,-999.0000,9, -999.00,9, -999.00,9,  -999.0,9,-999.000,9,-999.000,-999.000,9,-999.000,9,   43.41,2,   34.67,2, -999.00,1, -999.00,9, -999.00,9,-999.000,-999.0000,9,-999.0000,9,-999.0000,9,-999.0000,9,-999.0000,9,-999.0000,9,-999.0000,9,-999.0000,9,-999.0000,9,  11.5159,     -999.0,9,     -999.0,9,     -999.0,9,     -999.0,9,     -999.0,9,     -999.0,9,     -999.0,9,-999.0000, -999.00
33RO20071215,        P18,      47,          1,         24,      12019,2,20071230,       2305,    -0.9978,  -109.9995,       4008,   368.2,  10.7477,  34.7781,2,  34.7736,2,     18.3,2,    21.2,2,   31.40,2,   34.70,2,    0.01,2,    2.40,2,   0.470,2,   0.261,2,   0.0886,2,  2253.4,6,  2304.7,6,   1564.4,2,    20.00,   7.4513,2,    25.00,-999.000,9,-999.0000,9, -999.00,9, -999.00,9,  -999.0,9,-999.000,9,-999.000,-999.000,9,-999.000,9,   42.44,2,   35.92,2, -999.00,1, -999.00,9, -999.00,9,-999.000,-999.0000,9,-999.0000,9,-999.0000,9,-999.0000,9,-999.0000,9,-999.0000,9,-999.0000,9,-999.0000,9,-999.0000,9,  10.7027,     -999.0,9,     -999.0,9,     -999.0,9,     -999.0,9,     -999.0,9,     -999.0,9,     -999.0,9,-999.0000, -999.00
33RO20071215,        P18,      47,          1,         23,      12022,2,20071230,       2305,    -0.9978,  -109.9995,       4008,   431.1,   9.2368,  34.6892,2,  34.6886,2,     24.2,2,    23.2,2,   37.80,2,   37.60,2,    0.00,2,    2.57,2,   0.232,2,   0.130,2,   0.0000,2,  2264.5,2,  -999.0,9,   -999.0,9,  -999.00,-999.0000,9,  -999.00,-999.000,9,-999.0000,9, -999.00,9, -999.00,9,  -999.0,9,-999.000,9,-999.000,-999.000,9,-999.000,9,   41.63,2,   39.18,2, -999.00,1, -999.00,9, -999.00,9,-999.000,-999.0000,9,-999.0000,9,-999.0000,9,-999.0000,9,-999.0000,9,-999.0000,9,-999.0000,9,-999.0000,9,-999.0000,9,   9.1887,     -999.0,9,     -999.0,9,     -999.0,9,     -999.0,9,     -999.0,9,     -999.0,9,     -999.0,9,-999.0000, -999.00
33RO20071215,        P18,      47,          1,         22,      12015,2,20071230,       2305,    -0.9978,  -109.9995,       4008,   534.1,   7.3900,  34.5949,2,  34.5942,2,     52.6,2,    51.8,2,   46.70,2,   38.80,2,    0.00,2,    2.67,2,   0.090,2,   0.052,2,   0.0052,2,  2264.1,2,  2313.1,2,   -999.0,9,  -999.00,   7.4439,2,    25.00,-999.000,9,-999.0000,9, -999.00,9, -999.00,9,  -999.0,9,-999.000,9,-999.000,-999.000,9,-999.000,9,   40.90,2,   40.07,2, -999.00,1, -999.00,9, -999.00,9,-999.000,-999.0000,9,-999.0000,9,-999.0000,9,-999.0000,9,-999.0000,9,-999.0000,9,-999.0000,9,-999.0000,9,-999.0000,9,   7.3375,     -999.0,9,     -999.0,9,     -999.0,9,     -999.0,9,     -999.0,9,     -999.0,9,     -999.0,9,-999.0000, -999.00
33RO20071215,        P18,      47,          1,         21,      12020,2,20071230,       2305,    -0.9978,  -109.9995,       4008,   632.7,   6.8741,  34.5729,2,  34.5724,2,     65.0,2,    64.7,2,   50.00,2,   38.70,2,    0.00,2,    2.67,2,   0.083,2,   0.047,2,   0.0000,2,  2262.0,2,  -999.0,9,   1532.3,2,    20.00,-999.0000,9,  -999.00,-999.000,9,-999.0000,9, -999.00,9, -999.00,9,  -999.0,9,-999.000,9,-999.000,-999.000,9,-999.000,9,   40.11,2,   40.04,2, -999.00,1, -999.00,9, -999.00,9,-999.000,-999.0000,9,-999.0000,9,-999.0000,9,-999.0000,9,-999.0000,9,-999.0000,9,-999.0000,9,-999.0000,9,-999.0000,9,   6.8140,     -999.0,9,     -999.0,9,     -999.0,9,     -999.0,9,     -999.0,9,     -999.0,9,     -999.0,9,-999.0000, -999.00
33RO20071215,        P18,      47,          1,         20,      12055,2,20071230,       2305,    -0.9978,  -109.9995,       4008,   732.7,   6.0711,  34.5461,2,  34.5467,2,     85.8,2,    87.6,2,   57.00,2,   37.90,2,    0.00,2,    2.63,2,   0.072,2,   0.038,2,   0.0000,2,  2261.3,2,  -999.0,9,   -999.0,9,  -999.00,-999.0000,9,  -999.00,-999.000,9,-999.0000,9, -999.00,9, -999.00,9,  -999.0,9,-999.000,9,-999.000,-999.000,9,-999.000,9,   39.42,2,   38.87,2, -999.00,1, -999.00,9, -999.00,9,-999.000,-999.0000,9,-999.0000,9,-999.0000,9,-999.0000,9,-999.0000,9,-999.0000,9,-999.0000,9,-999.0000,9,-999.0000,9,   6.0055,     -999.0,9,     -999.0,9,     -999.0,9,     -999.0,9,     -999.0,9,     -999.0,9,     -999.0,9,-999.0000, -999.00
33RO20071215,        P18,      47,          1,         19,      12018,2,20071230,       2305,    -0.9978,  -109.9995,       4008,   833.4,   5.5985,  34.5480,2,  34.5484,2,     76.5,2,    76.6,2,   66.30,2,   39.30,2,    0.00,2,    2.75,2,   0.025,2,   0.013,2,   0.0000,2,  2276.4,2,  -999.0,9,   -999.0,9,  -999.00,-999.0000,9,  -999.00,-999.000,9,-999.0000,9, -999.00,9, -999.00,9,  -999.0,9,-999.000,9,-999.000,-999.000,9,-999.000,9,   38.68,2,   40.88,2, -999.00,1, -999.00,9, -999.00,9,-999.000,-999.0000,9,-999.0000,9,-999.0000,9,-999.0000,9,-999.0000,9,-999.0000,9,-999.0000,9,-999.0000,9,-999.0000,9,   5.5262,     -999.0,9,     -999.0,9,     -999.0,9,     -999.0,9,     -999.0,9,     -999.0,9,     -999.0,9,-999.0000, -999.00
33RO20071215,        P18,      47,          1,         18,      12025,2,20071230,       2305,    -0.9978,  -109.9995,       4008,   932.7,   4.9420,  34.5505,2,  34.5510,2,     78.8,2,    79.9,2,   77.30,2,   39.70,2,    0.00,2,    2.79,2,   0.009,2,   0.004,2,   0.0073,2,  2287.8,2,  2343.6,2,   1516.1,2,    20.00,   7.4687,2,    25.00,-999.000,9,-999.0000,9, -999.00,9, -999.00,9,  -999.0,9,-999.000,9,-999.000,-999.000,9,-999.000,9,   38.46,2,   40.86,2, -999.00,1, -999.00,9, -999.00,9,-999.000,-999.0000,9,-999.0000,9,-999.0000,9,-999.0000,9,-999.0000,9,-999.0000,9,-999.0000,9,-999.0000,9,-999.0000,9,   4.8651,     -999.0,9,     -999.0,9,     -999.0,9,     -999.0,9,     -999.0,9,     -999.0,9,     -999.0,9,-999.0000, -999.00
33RO20071215,        P18,      47,          1,         17,      12016,2,20071230,       2305,    -0.9978,  -109.9995,       4008,  1033.5,   4.4028,  34.5579,2,  34.5586,2,     84.7,2,    84.8,2,   88.10,2,   39.70,2,    0.00,2,    2.81,2,   0.004,2,   0.002,2,   0.0000,2,  2301.8,2,  -999.0,9,   -999.0,9,  -999.00,-999.0000,9,  -999.00,-999.000,9,-999.0000,9, -999.00,9, -999.00,9,  -999.0,9,-999.000,9,-999.000,-999.000,9,-999.000,9,   38.13,2,   40.68,2, -999.00,1, -999.00,9, -999.00,9,-999.000,-999.0000,9,-999.0000,9,-999.0000,9,-999.0000,9,-999.0000,9,-999.0000,9,-999.0000,9,-999.0000,9,-999.0000,9,   4.3211,     -999.0,9,     -999.0,9,     -999.0,9,     -999.0,9,     -999.0,9,     -999.0,9,     -999.0,9,-999.0000, -999.00
33RO20071215,        P18,      47,          1,         16,      12051,2,20071230,       2305,    -0.9978,  -109.9995,       4008,  1132.8,   4.0959,  34.5657,2,  34.5663,2,     87.3,2,    85.9,2,   95.80,2,   39.80,2,    0.00,2,    2.82,2,   0.001,2,   0.001,2,   0.0000,2,  2308.8,2,  -999.0,9,   -999.0,9,  -999.00,-999.0000,9,  -999.00,-999.000,9,-999.0000,9, -999.00,9, -999.00,9,  -999.0,9,-999.000,9,-999.000,-999.000,9,-999.000,9,   38.06,2,   40.72,2, -999.00,9, -999.00,9, -999.00,9,-999.000,-999.0000,9,-999.0000,9,-999.0000,9,-999.0000,9,-999.0000,9,-999.0000,9,-999.0000,9,-999.0000,9,-999.0000,9,   4.0081,     -999.0,9,     -999.0,9,     -999.0,9,     -999.0,9,     -999.0,9,     -999.0,9,     -999.0,9,-999.0000, -999.00
33RO20071215,        P18,      47,          1,         15,      12014,2,20071230,       2305,    -0.9978,  -109.9995,       4008,  1233.5,   3.8621,  34.5730,2,  34.5735,2,     88.5,2,    88.1,2,  101.10,2,   39.90,2,    0.00,2,    2.82,2,   0.001,2,   0.001,2,   0.0000,2,  2314.2,2,  -999.0,9,   1499.9,2,    20.00,-999.0000,9,  -999.00,-999.000,9,-999.0000,9, -999.00,9, -999.00,9,  -999.0,9,-999.000,9,-999.000,-999.000,9,-999.000,9,   37.80,2,   41.59,2, -999.00,9, -999.00,9, -999.00,9,-999.000,-999.0000,9,-999.0000,9,-999.0000,9,-999.0000,9,-999.0000,9,-999.0000,9,-999.0000,9,-999.0000,9,-999.0000,9,   3.7677,     -999.0,9,     -999.0,9,     -999.0,9,     -999.0,9,     -999.0,9,     -999.0,9,     -999.0,9,-999.0000, -999.00
33RO20071215,        P18,      47,          1,         14,      12013,2,20071230,       2305,    -0.9978,  -109.9995,       4008,  1333.4,   3.6221,  34.5833,2,  34.5836,2,     86.1,2,    86.3,2,  108.00,2,   40.20,2,    0.00,2,    2.85,2,   0.000,2,   0.000,2,   0.0068,2,  2322.4,2,  2376.7,2,   -999.0,9,  -999.00,   7.4708,2,    25.00,-999.000,9,-999.0000,9, -999.00,9, -999.00,9,  -999.0,9,-999.000,9,-999.000,-999.000,9,-999.000,9,   37.32,2,   41.43,2, -999.00,9, -999.00,9, -999.00,9,-999.000,-999.0000,9,-999.0000,9,-999.0000,9,-999.0000,9,-999.0000,9,-999.0000,9,-999.0000,9,-999.0000,9,-999.0000,9,   3.5216,     -999.0,9,     -999.0,9,     -999.0,9,     -999.0,9,     -999.0,9,     -999.0,9,     -999.0,9,-999.0000, -999.00
33RO20071215,        P18,      47,          1,         13,      12012,2,20071230,       2305,    -0.9978,  -109.9995,       4008,  1466.4,   3.2163,  34.5997,2,  34.6018,2,     88.3,2,    88.3,2,  119.00,2,   40.30,2,    0.00,2,    2.85,2,  -0.001,2,   0.000,2,   0.0000,2,  2332.3,2,  -999.0,9,   -999.0,9,  -999.00,-999.0000,9,  -999.00,-999.000,9,-999.0000,9, -999.00,9, -999.00,9,  -999.0,9,-999.000,9,-999.000,-999.000,9,-999.000,9,   36.85,2,   41.87,2, -999.00,9, -999.00,9, -999.00,9,-999.000,-999.0000,9,-999.0000,9,-999.0000,9,-999.0000,9,-999.0000,9,-999.0000,9,-999.0000,9,-999.0000,9,-999.0000,9,   3.1088,     -999.0,9,     -999.0,9,     -999.0,9,     -999.0,9,     -999.0,9,     -999.0,9,     -999.0,9,-999.0000, -999.00
33RO20071215,        P18,      47,          1,         12,      12031,2,20071230,       2305,    -0.9978,  -109.9995,       4008,  1667.2,   2.7559,  34.6189,2,  34.6196,2,     96.0,2,    96.4,2,  130.00,2,   39.80,2,    0.00,2,    2.81,2,  -0.001,2,   0.000,2,   0.0000,2,  2339.0,2,  -999.0,9,   1472.9,2,    20.00,-999.0000,9,  -999.00,-999.000,9,-999.0000,9, -999.00,9, -999.00,9,  -999.0,9,-999.000,9,-999.000,-999.000,9,-999.000,9,   36.87,2,   40.76,2, -999.00,9, -999.00,9, -999.00,9,-999.000,-999.0000,9,-999.0000,9,-999.0000,9,-999.0000,9,-999.0000,9,-999.0000,9,-999.0000,9,-999.0000,9,-999.0000,9,   2.6369,     -999.0,9,     -999.0,9,     -999.0,9,     -999.0,9,     -999.0,9,     -999.0,9,     -999.0,9,-999.0000, -999.00