BOTTLE,20220818CCHSIOAMB
EXPOCODE,SECT_ID,STNNBR,CASTNO,SAMPNO,BTLNBR,BTLNBR_FLAG_W,DATE,TIME,LATITUDE,LONGITUDE,DEPTH,CTDPRS,CTDTMP,CTDSAL,CTDSAL_FLAG_W,SALNTY,SALNTY_FLAG_W,CTDOXY,CTDOXY_FLAG_W,OXYGEN,OXYGEN_FLAG_W,SILCAT,SILCAT_FLAG_W,NITRAT,NITRAT_FLAG_W,NITRIT,NITRIT_FLAG_W,PHSPHT,PHSPHT_FLAG_W,CFC-11,CFC-11_FLAG_W,CFC-12,CFC-12_FLAG_W,SF6,SF6_FLAG_W,TCARBN,TCARBN_FLAG_W,ALKALI,ALKALI_FLAG_W,FCO2,FCO2_FLAG_W,FCO2TMP,PH_SWS,PH_SWS_FLAG_W,PH_TMP,TRITUM,TRITUM_FLAG_W,HELIUM,HELIUM_FLAG_W,DELHE3,DELHE3_FLAG_W,DELC13,DELC13_FLAG_W,DELC14,DELC14_FLAG_W,NEON,NEON_FLAG_W,NEONER,CCL4,CCL4_FLAG_W,POC,POC_FLAG_W,DOC,DOC_FLAG_W,TDN,TDN_FLAG_W,DON,DON_FLAG_W,CHLORA,CHLORA_FLAG_W,ARGON,ARGON_FLAG_W,TRITER,CDOM325,CDOM325_FLAG_W,CDOM340,CDOM340_FLAG_W,CDOM380,CDOM380_FLAG_W,CDOM412,CDOM412_FLAG_W,CDOM443,CDOM443_FLAG_W,CDOM490,CDOM490_FLAG_W,CDOM555,CDOM555_FLAG_W,CDOMSL,CDOMSL_FLAG_W,CDOMSN,CDOMSN_FLAG_W,THETA,D18O_NO3,D18O_NO3_FLAG_W,CDOM2C,CDOM2C_FLAG_W,CDOM3C,CDOM3C_FLAG_W,LAB_DEN,LAB_DEN_FLAG_W,DELSI30,DELSI30_FLAG_W,N2,N2_FLAG_W,D15N_NO3,D15N_NO3_FLAG_W,HELIER,DELHER
,,,,,,,,,,,METERS,DBAR,ITS-90,PSS-78,,PSS-78,,UMOL/KG,,UMOL/KG,,UMOL/KG,,UMOL/KG,,UMOL/KG,,UMOL/KG,,PMOL/KG,,PMOL/KG,,FMOL/KG,,UMOL/KG,,UMOL/KG,,UATM,,DEG C,,,DEG C,TU,,NMOL/KG,,PERCNT,,/MILLE,,/MILLE,,NMOL/KG,,NMOL/KG,PMOL/KG,,UG/KG,,UMOL/KG,,UMOL/KG,,UMOL/KG,,UG/KG,,UMOL/KG,,TU,1/M,,1/M,,1/M,,1/M,,1/M,,1/M,,1/M,,1/NM,,1/NM,,DEG C,/MILLE,,,,,,,,/MILLE,,UMOL/KG,,/MILLE,,NMOL/KG,PERCNT
33RO20071215,        P18,      87,          1,         36,      12017,2,20080113,       0957,   -21.6665,  -103.0003,       4040,     4.6,  22.5808,  35.9912,2,  35.9918,2,    217.3,2,   218.4,2,    0.70,2,    0.20,2,    0.00,2,    0.23,2,   2.005,6,   1.238,6,   1.0658,6,  2081.1,6,  2380.1,2,   -999.0,9,  -999.00,   8.0334,2,    25.00,-999.000,9,-999.0000,9, -999.00,9, -999.00,9,  -999.0,9,-999.000,9,-999.000,-999.000,9,-999.000,9,   68.09,2,    4.39,2, -999.00,1, -999.00,9, -999.00,9,-999.000,-999.0000,9,-999.0000,9,-999.0000,9,-999.0000,9,-999.0000,9,-999.0000,9,-999.0000,9,-999.0000,9,-999.0000,9,  22.5798,     -999.0,9,     -999.0,9,     -999.0,9,     -999.0,9,     -999.0,9,     -999.0,9,     -999.0,9,-999.0000, -999.00
33RO20071215,        P18,      87,          1,         35,      12029,2,20080113,       0957,   -21.6665,  -103.0003,       4040,    10.8,  22.5773,  35.9913,2,  35.9922,2,    217.7,2,   218.5,2,    0.60,2,    0.20,2,    0.00,2,    0.23,2,-999.000,9,-999.000,9,-999.0000,9,  2079.6,2,  2380.0,2,   -999.0,9,  -999.00,   8.0253,2,    25.00,-999.000,9,-999.0000,9, -999.00,9, -999.00,9,  -999.0,9,-999.000,9,-999.000,-999.000,9,-999.000,9,   66.81,2,    4.18,2, -999.00,1, -999.00,9, -999.00,9,-999.000,-999.0000,9,-999.0000,9,-999.0000,9,-999.0000,9,-999.0000,9,-999.0000,9,-999.0000,9,-999.0000,9,-999.0000,9,  22.5751,     -999.0,9,     -999.0,9,     -999.0,9,     -999.0,9,     -999.0,9,     -999.0,9,     -999.0,9,-999.0000, -999.00
33RO20071215,        P18,      87,          1,         34,      12049,2,20080113,       0957,   -21.6665,  -103.0003,       4040,    19.9,  22.5802,  35.9911,2,  35.9894,2,    217.9,2,   219.1,2,    0.70,2,    0.20,2,    0.00,2,    0.23,2,   2.005,2,   1.236,2,   1.1129,2,  2080.7,2,  2382.4,2,   -999.0,9,  -999.00,   8.0177,2,    25.00,-999.000,9,-999.0000,9, -999.00,9, -999.00,9,  -999.0,9,-999.000,9,-999.000,-999.000,9,-999.000,9,   65.80,2,    4.58,2, -999.00,1, -999.00,9, -999.00,9,-999.000,-999.0000,9,-999.0000,9,-999.0000,9,-999.0000,9,-999.0000,9,-999.0000,9,-999.0000,9,-999.0000,9,-999.0000,9,  22.5762,     -999.0,9,     -999.0,9,     -999.0,9,     -999.0,9,     -999.0,9,     -999.0,9,     -999.0,9,-999.0000, -999.00
33RO20071215,        P18,      87,          1,         33,      12027,2,20080113,       0957,   -21.6665,  -103.0003,       4040,    41.2,  22.2058,  36.0055,2,  36.0254,2,    221.3,2,   224.3,2,    0.70,2,    0.20,2,    0.00,2,    0.24,2,-999.000,9,-999.000,9,-999.0000,9,  2079.0,2,  2380.0,2,   -999.0,9,  -999.00,   8.0040,2,    25.00,-999.000,9,-999.0000,9, -999.00,9, -999.00,9,  -999.0,9,-999.000,9,-999.000,-999.000,9,-999.000,9,   64.46,2,    3.86,2, -999.00,1, -999.00,9, -999.00,9,-999.000,-999.0000,9,-999.0000,9,-999.0000,9,-999.0000,9,-999.0000,9,-999.0000,9,-999.0000,9,-999.0000,9,-999.0000,9,  22.1975,     -999.0,9,     -999.0,9,     -999.0,9,     -999.0,9,     -999.0,9,     -999.0,9,     -999.0,9,-999.0000, -999.00
33RO20071215,        P18,      87,          1,         32,      12023,2,20080113,       0957,   -21.6665,  -103.0003,       4040,    68.0,  21.6191,  36.0519,2,  36.0490,2,    226.2,2,   226.5,2,    0.80,2,    0.20,2,    0.00,2,    0.24,2,   2.093,2,   1.284,2,   1.0624,2,  2078.1,2,  2381.5,2,   -999.0,9,  -999.00,   8.0503,2,    25.00,-999.000,9,-999.0000,9, -999.00,9, -999.00,9,  -999.0,9,-999.000,9,-999.000,-999.000,9,-999.000,9,   64.36,2,    4.21,2, -999.00,1, -999.00,9, -999.00,9,-999.000,-999.0000,9,-999.0000,9,-999.0000,9,-999.0000,9,-999.0000,9,-999.0000,9,-999.0000,9,-999.0000,9,-999.0000,9,  21.6058,     -999.0,9,     -999.0,9,     -999.0,9,     -999.0,9,     -999.0,9,     -999.0,9,     -999.0,9,-999.0000, -999.00
33RO20071215,        P18,      87,          1,         31,      12037,2,20080113,       0957,   -21.6665,  -103.0003,       4040,    90.8,  21.2307,  36.0324,2,  36.0323,2,    225.7,2,   226.0,2,    0.80,2,    0.20,2,    0.00,2,    0.23,2,-999.000,9,-999.000,9,-999.0000,9,  2076.9,2,  2378.6,2,   -999.0,9,  -999.00,   8.0200,2,    25.00,-999.000,9,-999.0000,9, -999.00,9, -999.00,9,  -999.0,9,-999.000,9,-999.000,-999.000,9,-999.000,9,   63.90,2,    4.60,2, -999.00,1, -999.00,9, -999.00,9,-999.000,-999.0000,9,-999.0000,9,-999.0000,9,-999.0000,9,-999.0000,9,-999.0000,9,-999.0000,9,-999.0000,9,-999.0000,9,  21.2131,     -999.0,9,     -999.0,9,     -999.0,9,     -999.0,9,     -999.0,9,     -999.0,9,     -999.0,9,-999.0000, -999.00
33RO20071215,        P18,      87,          1,         30,      12036,2,20080113,       0957,   -21.6665,  -103.0003,       4040,   116.7,  20.8530,  35.9890,2,  35.9907,2,    223.8,2,   225.1,2,    0.70,2,    0.20,2,    0.00,2,    0.21,2,   2.132,6,   1.305,6,   1.1053,2,  2078.1,2,  2373.7,2,   -999.0,9,  -999.00,   7.9807,2,    25.00,-999.000,9,-999.0000,9, -999.00,9, -999.00,9,  -999.0,9,-999.000,9,-999.000,-999.000,9,-999.000,9,   62.80,2,    4.45,2, -999.00,1, -999.00,9, -999.00,9,-999.000,-999.0000,9,-999.0000,9,-999.0000,9,-999.0000,9,-999.0000,9,-999.0000,9,-999.0000,9,-999.0000,9,-999.0000,9,  20.8307,     -999.0,9,     -999.0,9,     -999.0,9,     -999.0,9,     -999.0,9,     -999.0,9,     -999.0,9,-999.0000, -999.00
33RO20071215,        P18,      87,          1,         29,      12044,3,20080113,       0957,   -21.6665,  -103.0003,       4040,   142.6,  20.6164,  35.9480,2,  35.9464,2,    221.7,2,   222.0,2,    0.70,2,    0.20,2,    0.02,2,    0.23,2,-999.000,9,-999.000,9,-999.0000,9,  2079.6,2,  2369.5,2,   -999.0,9,  -999.00,   8.0032,2,    25.00,-999.000,9,-999.0000,9, -999.00,9, -999.00,9,  -999.0,9,-999.000,9,-999.000,-999.000,9,-999.000,9,   61.88,2,    4.09,2, -999.00,1, -999.00,9, -999.00,9,-999.000,-999.0000,9,-999.0000,9,-999.0000,9,-999.0000,9,-999.0000,9,-999.0000,9,-999.0000,9,-999.0000,9,-999.0000,9,  20.5893,     -999.0,9,     -999.0,9,     -999.0,9,     -999.0,9,     -999.0,9,     -999.0,9,     -999.0,9,-999.0000, -999.00
33RO20071215,        P18,      87,          1,         28,      12057,2,20080113,       0957,   -21.6665,  -103.0003,       4040,   167.0,  20.4877,  35.9342,2,  35.9294,2,    217.4,2,   226.9,3,    0.70,2,    0.30,2,    0.16,2,    0.24,2,   2.154,2,   1.323,2,   1.1072,2,  2081.8,2,  2367.4,2,   -999.0,9,  -999.00,   8.0047,2,    25.00,-999.000,9,-999.0000,9, -999.00,9, -999.00,9,  -999.0,9,-999.000,9,-999.000,-999.000,9,-999.000,9,   62.55,2,    4.21,2, -999.00,1, -999.00,9, -999.00,9,-999.000,-999.0000,9,-999.0000,9,-999.0000,9,-999.0000,9,-999.0000,9,-999.0000,9,-999.0000,9,-999.0000,9,-999.0000,9,  20.4561,     -999.0,9,     -999.0,9,     -999.0,9,     -999.0,9,     -999.0,9,     -999.0,9,     -999.0,9,-999.0000, -999.00
33RO20071215,        P18,      87,          1,         27,      12026,2,20080113,       0957,   -21.6665,  -103.0003,       4040,   190.6,  20.2209,  35.8708,2,  35.8742,2,    217.7,2,   217.0,2,    0.70,2,    0.40,2,    0.27,2,    0.25,2,-999.000,9,-999.000,9,-999.0000,9,  2080.7,2,  2366.2,2,   -999.0,9,  -999.00,   7.9985,2,    25.00,-999.000,9,-999.0000,9, -999.00,9, -999.00,9,  -999.0,9,-999.000,9,-999.000,-999.000,9,-999.000,9,   60.27,2,    4.16,2, -999.00,1, -999.00,9, -999.00,9,-999.000,-999.0000,9,-999.0000,9,-999.0000,9,-999.0000,9,-999.0000,9,-999.0000,9,-999.0000,9,-999.0000,9,-999.0000,9,  20.1852,     -999.0,9,     -999.0,9,     -999.0,9,     -999.0,9,     -999.0,9,     -999.0,9,     -999.0,9,-999.0000, -999.00
33RO20071215,        P18,      87,          1,         26,      12030,2,20080113,       0957,   -21.6665,  -103.0003,       4040,   232.6,  19.7688,  35.7600,2,  35.7592,2,    218.2,2,   217.3,2,    0.70,2,    0.70,2,    0.26,2,    0.26,2,   2.240,2,   1.361,2,   1.0385,2,  2077.7,2,  2356.3,2,   -999.0,9,  -999.00,   8.0105,2,    25.00,-999.000,9,-999.0000,9, -999.00,9, -999.00,9,  -999.0,9,-999.000,9,-999.000,-999.000,9,-999.000,9,   58.02,2,    4.09,2, -999.00,1, -999.00,9, -999.00,9,-999.000,-999.0000,9,-999.0000,9,-999.0000,9,-999.0000,9,-999.0000,9,-999.0000,9,-999.0000,9,-999.0000,9,-999.0000,9,  19.7259,     -999.0,9,     -999.0,9,     -999.0,9,     -999.0,9,     -999.0,9,     -999.0,9,     -999.0,9,-999.0000, -999.00
33RO20071215,        P18,      87,          1,         25,      12024,2,20080113,       0957,   -21.6665,  -103.0003,       4040,   282.9,  15.9376,  34.9674,2,  34.9822,2,    204.5,2,   204.6,2,    1.20,2,    4.80,2,    0.01,2,    0.50,2,-999.000,9,-999.000,9,-999.0000,9,  2078.3,2,  -999.0,9,   -999.0,9,  -999.00,-999.0000,9,  -999.00,-999.000,9,-999.0000,9, -999.00,9, -999.00,9,  -999.0,9,-999.000,9,-999.000,-999.000,9,-999.000,9,   57.12,2,    7.99,2, -999.00,1, -999.00,9, -999.00,9,-999.000,-999.0000,9,-999.0000,9,-999.0000,9,-999.0000,9,-999.0000,9,-999.0000,9,-999.0000,9,-999.0000,9,-999.0000,9,  15.8928,     -999.0,9,     -999.0,9,     -999.0,9,     -999.0,9,     -999.0,9,     -999.0,9,     -999.0,9,-999.0000, -999.00
33RO20071215,        P18,      87,          1,         24,      12019,2,20080113,       0957,   -21.6665,  -103.0003,       4040,   331.9,  12.3000,  34.5055,2,  34.4886,2,    186.1,2,   183.2,2,    4.10,2,   13.90,2,    0.01,2,    1.11,2,   2.998,2,   1.624,2,   0.8025,2,  2118.5,2,  2278.4,2,   -999.0,9,  -999.00,   7.7611,2,    25.00,-999.000,9,-999.0000,9, -999.00,9, -999.00,9,  -999.0,9,-999.000,9,-999.000,-999.000,9,-999.000,9,   44.69,2,   16.02,2, -999.00,1, -999.00,9, -999.00,9,-999.000,-999.0000,9,-999.0000,9,-999.0000,9,-999.0000,9,-999.0000,9,-999.0000,9,-999.0000,9,-999.0000,9,-999.0000,9,  12.2560,     -999.0,9,     -999.0,9,     -999.0,9,     -999.0,9,     -999.0,9,     -999.0,9,     -999.0,9,-999.0000, -999.00
33RO20071215,        P18,      87,          1,         23,      12022,2,20080113,       0957,   -21.6665,  -103.0003,       4040,   381.3,  10.1917,  34.4049,2,  34.4046,2,    142.4,2,   143.0,2,   10.00,2,   21.80,2,    0.01,2,    1.75,2,-999.000,9,-999.000,9,-999.0000,9,  2169.0,2,  -999.0,9,   -999.0,9,  -999.00,-999.0000,9,  -999.00,-999.000,9,-999.0000,9, -999.00,9, -999.00,9,  -999.0,9,-999.000,9,-999.000,-999.000,9,-999.000,9,   42.25,2,   23.48,2, -999.00,1, -999.00,9, -999.00,9,-999.000,-999.0000,9,-999.0000,9,-999.0000,9,-999.0000,9,-999.0000,9,-999.0000,9,-999.0000,9,-999.0000,9,-999.0000,9,  10.1468,     -999.0,9,     -999.0,9,     -999.0,9,     -999.0,9,     -999.0,9,     -999.0,9,     -999.0,9,-999.0000, -999.00
33RO20071215,        P18,      87,          1,         22,      12015,2,20080113,       0957,   -21.6665,  -103.0003,       4040,   465.5,   7.9753,  34.4144,2,  34.4147,2,    112.8,2,   112.9,2,   17.00,2,   30.80,2,    0.01,2,    2.26,2,   1.654,2,   0.822,2,   0.2262,2,  2212.3,2,  2277.8,2,   -999.0,9,  -999.00,   7.5211,2,    25.00,-999.000,9,-999.0000,9, -999.00,9, -999.00,9,  -999.0,9,-999.000,9,-999.000,-999.000,9,-999.000,9,   41.77,2,   32.24,2, -999.00,1, -999.00,9, -999.00,9,-999.000,-999.0000,9,-999.0000,9,-999.0000,9,-999.0000,9,-999.0000,9,-999.0000,9,-999.0000,9,-999.0000,9,-999.0000,9,   7.9278,     -999.0,9,     -999.0,9,     -999.0,9,     -999.0,9,     -999.0,9,     -999.0,9,     -999.0,9,-999.0000, -999.00
33RO20071215,        P18,      87,          1,         21,      12020,2,20080113,       0957,   -21.6665,  -103.0003,       4040,   565.7,   6.5188,  34.3613,2,  34.3644,2,    157.4,2,   157.2,2,   17.70,2,   31.60,2,    0.00,2,    2.17,2,-999.000,9,-999.000,9,-999.0000,9,  -999.0,9,  -999.0,9,   -999.0,9,  -999.00,-999.0000,9,  -999.00,-999.000,9,-999.0000,9, -999.00,9, -999.00,9,  -999.0,9,-999.000,9,-999.000,-999.000,9,-999.000,9,   41.12,2,   33.03,2, -999.00,1, -999.00,9, -999.00,9,-999.000,-999.0000,9,-999.0000,9,-999.0000,9,-999.0000,9,-999.0000,9,-999.0000,9,-999.0000,9,-999.0000,9,-999.0000,9,   6.4670,     -999.0,9,     -999.0,9,     -999.0,9,     -999.0,9,     -999.0,9,     -999.0,9,     -999.0,9,-999.0000, -999.00
33RO20071215,        P18,      87,          1,         20,      12055,2,20080113,       0957,   -21.6665,  -103.0003,       4040,   666.5,   5.5229,  34.3407,2,  34.3391,2,    165.3,2,   166.2,2,   24.00,2,   33.30,2,    0.01,2,    2.25,2,   0.827,2,   0.421,2,   0.0823,2,  2200.5,2,  -999.0,9,   -999.0,9,  -999.00,-999.0000,9,  -999.00,-999.000,9,-999.0000,9, -999.00,9, -999.00,9,  -999.0,9,-999.000,9,-999.000,-999.000,9,-999.000,9,   40.29,2,   34.41,2, -999.00,1, -999.00,9, -999.00,9,-999.000,-999.0000,9,-999.0000,9,-999.0000,9,-999.0000,9,-999.0000,9,-999.0000,9,-999.0000,9,-999.0000,9,-999.0000,9,   5.4665,     -999.0,9,     -999.0,9,     -999.0,9,     -999.0,9,     -999.0,9,     -999.0,9,     -999.0,9,-999.0000, -999.00
33RO20071215,        P18,      87,          1,         19,      12018,2,20080113,       0957,   -21.6665,  -103.0003,       4040,   765.0,   4.9318,  34.3685,2,  34.3682,2,    144.2,2,   144.3,2,   36.40,2,   36.30,2,    0.00,2,    2.47,2,-999.000,9,-999.000,9,-999.0000,9,  -999.0,9,  -999.0,9,   -999.0,9,  -999.00,-999.0000,9,  -999.00,-999.000,9,-999.0000,9, -999.00,9, -999.00,9,  -999.0,9,-999.000,9,-999.000,-999.000,9,-999.000,9,   39.76,2,   37.96,2, -999.00,1, -999.00,9, -999.00,9,-999.000,-999.0000,9,-999.0000,9,-999.0000,9,-999.0000,9,-999.0000,9,-999.0000,9,-999.0000,9,-999.0000,9,-999.0000,9,   4.8699,     -999.0,9,     -999.0,9,     -999.0,9,     -999.0,9,     -999.0,9,     -999.0,9,     -999.0,9,-999.0000, -999.00
33RO20071215,        P18,      87,          1,         18,      12025,2,20080113,       0957,   -21.6665,  -103.0003,       4040,   865.8,   4.4393,  34.4310,2,  34.4311,2,    121.8,2,   121.9,2,   53.70,2,   38.70,2,    0.00,2,    2.65,2,-999.000,9,-999.000,9,-999.0000,9,  2252.1,2,  2317.9,2,   -999.0,9,  -999.00,   7.5041,2,    25.00,-999.000,9,-999.0000,9, -999.00,9, -999.00,9,  -999.0,9,-999.000,9,-999.000,-999.000,9,-999.000,9,   39.33,2,   39.92,2, -999.00,1, -999.00,9, -999.00,9,-999.000,-999.0000,9,-999.0000,9,-999.0000,9,-999.0000,9,-999.0000,9,-999.0000,9,-999.0000,9,-999.0000,9,-999.0000,9,   4.3719,     -999.0,9,     -999.0,9,     -999.0,9,     -999.0,9,     -999.0,9,     -999.0,9,     -999.0,9,-999.0000, -999.00
33RO20071215,        P18,      87,          1,         17,      12016,2,20080113,       0957,   -21.6665,  -103.0003,       4040,   965.9,   4.1722,  34.4913,2,  34.4913,2,    115.1,2,   114.9,2,   68.10,2,   39.10,2,    0.00,2,    2.69,2,-999.000,9,-999.000,9,-999.0000,9,  -999.0,9,  -999.0,9,   -999.0,9,  -999.00,-999.0000,9,  -999.00,-999.000,9,-999.0000,9, -999.00,9, -999.00,9,  -999.0,9,-999.000,9,-999.000,-999.000,9,-999.000,9,   38.87,2,   40.46,2, -999.00,1, -999.00,9, -999.00,9,-999.000,-999.0000,9,-999.0000,9,-999.0000,9,-999.0000,9,-999.0000,9,-999.0000,9,-999.0000,9,-999.0000,9,-999.0000,9,   4.0981,     -999.0,9,     -999.0,9,     -999.0,9,     -999.0,9,     -999.0,9,     -999.0,9,     -999.0,9,-999.0000, -999.00
33RO20071215,        P18,      87,          1,         16,      12051,2,20080113,       0957,   -21.6665,  -103.0003,       4040,  1065.3,   3.9693,  34.5171,2,  34.5176,2,    111.7,2,   112.8,2,   76.20,2,   39.20,2,    0.00,2,    2.71,2,-999.000,9,-999.000,9,-999.0000,9,  2277.8,2,  -999.0,9,   -999.0,9,  -999.00,-999.0000,9,  -999.00,-999.000,9,-999.0000,9, -999.00,9, -999.00,9,  -999.0,9,-999.000,9,-999.000,-999.000,9,-999.000,9,   38.06,2,   40.21,2, -999.00,9, -999.00,9, -999.00,9,-999.000,-999.0000,9,-999.0000,9,-999.0000,9,-999.0000,9,-999.0000,9,-999.0000,9,-999.0000,9,-999.0000,9,-999.0000,9,   3.8884,     -999.0,9,     -999.0,9,     -999.0,9,     -999.0,9,     -999.0,9,     -999.0,9,     -999.0,9,-999.0000, -999.00
33RO20071215,        P18,      87,          1,         15,      12014,2,20080113,       0957,   -21.6665,  -103.0003,       4040,  1166.7,   3.7026,  34.5365,2,  34.5365,2,    110.7,2,   110.9,2,   84.10,2,   39.50,2,    0.00,2,    2.74,2,-999.000,9,-999.000,9,-999.0000,9,  -999.0,9,  -999.0,9,   -999.0,9,  -999.00,-999.0000,9,  -999.00,-999.000,9,-999.0000,9, -999.00,9, -999.00,9,  -999.0,9,-999.000,9,-999.000,-999.000,9,-999.000,9,   37.54,2,   40.78,2, -999.00,9, -999.00,9, -999.00,9,-999.000,-999.0000,9,-999.0000,9,-999.0000,9,-999.0000,9,-999.0000,9,-999.0000,9,-999.0000,9,-999.0000,9,-999.0000,9,   3.6155,     -999.0,9,     -999.0,9,     -999.0,9,     -999.0,9,     -999.0,9,     -999.0,9,     -999.0,9,-999.0000, -999.00
33RO20071215,        P18,      87,          1,         14,      12013,2,20080113,       0957,   -21.6665,  -103.0003,       4040,  1331.7,   3.3100,  34.5594,2,  34.5599,2,    109.8,2,   110.5,2,   94.60,2,   39.70,2,    0.00,2,    2.76,2,-999.000,9,-999.000,9,-999.0000,9,  2298.4,6,  2358.1,2,   -999.0,9,  -999.00,   7.5024,2,    25.00,-999.000,9,-999.0000,9, -999.00,9, -999.00,9,  -999.0,9,-999.000,9,-999.000,-999.000,9,-999.000,9,   36.85,2,   40.68,2, -999.00,9, -999.00,9, -999.00,9,-999.000,-999.0000,9,-999.0000,9,-999.0000,9,-999.0000,9,-999.0000,9,-999.0000,9,-999.0000,9,-999.0000,9,-999.0000,9,   3.2128,     -999.0,9,     -999.0,9,     -999.0,9,     -999.0,9,     -999.0,9,     -999.0,9,     -999.0,9,-999.0000, -999.00
33RO20071215,        P18,      87,          1,         13,      12012,2,20080113,       0957,   -21.6665,  -103.0003,       4040,  1531.9,   2.8697,  34.5867,2,  34.5865,2,    116.1,2,   116.4,2,  105.30,2,   39.40,2,    0.00,2,    2.72,2,-999.000,9,-999.000,9,-999.0000,9,  -999.0,9,  -999.0,9,   -999.0,9,  -999.00,-999.0000,9,  -999.00,-999.000,9,-999.0000,9, -999.00,9, -999.00,9,  -999.0,9,-999.000,9,-999.000,-999.000,9,-999.000,9,   37.25,2,   40.66,2, -999.00,9, -999.00,9, -999.00,9,-999.000,-999.0000,9,-999.0000,9,-999.0000,9,-999.0000,9,-999.0000,9,-999.0000,9,-999.0000,9,-999.0000,9,-999.0000,9,   2.7607,     -999.0,9,     -999.0,9,     -999.0,9,     -999.0,9,     -999.0,9,     -999.0,9,     -999.0,9,-999.0000, -999.00
33RO20071215,        P18,      87,          1,         12,      12031,2,20080113,       0957,   -21.6665,  -103.0003,       4040,  1732.7,   2.5237,  34.6062,2,  34.6053,2,    130.8,2,   131.6,2,  109.80,2,   38.10,2,    0.00,2,    2.62,2,-999.000,9,-999.000,9,-999.0000,9,  2302.0,2,  -999.0,9,   -999.0,9,  -999.00,-999.0000,9,  -999.00,-999.000,9,-999.0000,9, -999.00,9, -999.00,9,  -999.0,9,-999.000,9,-999.000,-999.000,9,-999.000,9,   37.96,2,   39.08,2, -999.00,9, -999.00,9, -999.00,9,-999.000,-999.0000,9,-999.0000,9,-999.0000,9,-999.0000,9,-999.0000,9,-999.0000,9,-999.0000,9,-999.0000,9,-999.0000,9,   2.4022,     -999.0,9,     -999.0,9,     -999.0,9,     -999.0,9,     -999.0,9,     -999.0,9,     -999.0,9,-999.0000, -999.00