BOTTLE,20220818CCHSIOAMB
EXPOCODE,SECT_ID,STNNBR,CASTNO,SAMPNO,BTLNBR,BTLNBR_FLAG_W,DATE,TIME,LATITUDE,LONGITUDE,DEPTH,CTDPRS,CTDTMP,CTDSAL,CTDSAL_FLAG_W,SALNTY,SALNTY_FLAG_W,CTDOXY,CTDOXY_FLAG_W,OXYGEN,OXYGEN_FLAG_W,SILCAT,SILCAT_FLAG_W,NITRAT,NITRAT_FLAG_W,NITRIT,NITRIT_FLAG_W,PHSPHT,PHSPHT_FLAG_W,CFC-11,CFC-11_FLAG_W,CFC-12,CFC-12_FLAG_W,SF6,SF6_FLAG_W,TCARBN,TCARBN_FLAG_W,ALKALI,ALKALI_FLAG_W,FCO2,FCO2_FLAG_W,FCO2TMP,PH_SWS,PH_SWS_FLAG_W,PH_TMP,TRITUM,TRITUM_FLAG_W,HELIUM,HELIUM_FLAG_W,DELHE3,DELHE3_FLAG_W,DELC13,DELC13_FLAG_W,DELC14,DELC14_FLAG_W,NEON,NEON_FLAG_W,NEONER,CCL4,CCL4_FLAG_W,POC,POC_FLAG_W,DOC,DOC_FLAG_W,TDN,TDN_FLAG_W,DON,DON_FLAG_W,CHLORA,CHLORA_FLAG_W,ARGON,ARGON_FLAG_W,TRITER,CDOM325,CDOM325_FLAG_W,CDOM340,CDOM340_FLAG_W,CDOM380,CDOM380_FLAG_W,CDOM412,CDOM412_FLAG_W,CDOM443,CDOM443_FLAG_W,CDOM490,CDOM490_FLAG_W,CDOM555,CDOM555_FLAG_W,CDOMSL,CDOMSL_FLAG_W,CDOMSN,CDOMSN_FLAG_W,THETA,D18O_NO3,D18O_NO3_FLAG_W,CDOM2C,CDOM2C_FLAG_W,CDOM3C,CDOM3C_FLAG_W,LAB_DEN,LAB_DEN_FLAG_W,DELSI30,DELSI30_FLAG_W,N2,N2_FLAG_W,D15N_NO3,D15N_NO3_FLAG_W,HELIER,DELHER
,,,,,,,,,,,METERS,DBAR,ITS-90,PSS-78,,PSS-78,,UMOL/KG,,UMOL/KG,,UMOL/KG,,UMOL/KG,,UMOL/KG,,UMOL/KG,,PMOL/KG,,PMOL/KG,,FMOL/KG,,UMOL/KG,,UMOL/KG,,UATM,,DEG C,,,DEG C,TU,,NMOL/KG,,PERCNT,,/MILLE,,/MILLE,,NMOL/KG,,NMOL/KG,PMOL/KG,,UG/KG,,UMOL/KG,,UMOL/KG,,UMOL/KG,,UG/KG,,UMOL/KG,,TU,1/M,,1/M,,1/M,,1/M,,1/M,,1/M,,1/M,,1/NM,,1/NM,,DEG C,/MILLE,,,,,,,,/MILLE,,UMOL/KG,,/MILLE,,NMOL/KG,PERCNT
33RO20071215,        P18,      37,          1,         36,      12017,2,20071227,       0608,     3.4995,  -109.9998,       3842,     5.0,  24.3848,  33.9060,2,  33.9065,2,    211.1,2,   212.0,2,    2.10,2,    1.60,2,    0.03,2,    0.21,2,   1.806,6,   1.145,6,   1.0440,2,  1945.3,6,  2236.6,2,   -999.0,9,  -999.00,   8.0369,2,    25.00,-999.000,9,-999.0000,9, -999.00,9, -999.00,9,  -999.0,1,-999.000,9,-999.000,-999.000,9,-999.000,9, -999.00,9, -999.00,9, -999.00,9, -999.00,9, -999.00,9,-999.000,-999.0000,9,-999.0000,9,-999.0000,9,-999.0000,9,-999.0000,9,-999.0000,9,-999.0000,9,-999.0000,9,-999.0000,9,  24.3838,     -999.0,9,     -999.0,9,     -999.0,9,     -999.0,9,     -999.0,9,     -999.0,9,     -999.0,9,-999.0000, -999.00
33RO20071215,        P18,      37,          1,         35,      12029,2,20071227,       0608,     3.4995,  -109.9998,       3842,     9.8,  24.3964,  33.9056,2,  33.9059,2,    211.6,2,   211.7,2,    2.10,2,    1.60,2,    0.03,2,    0.22,2,   1.809,2,   1.140,2,   1.0933,2,  1947.0,2,  -999.0,9,   -999.0,9,  -999.00,-999.0000,9,  -999.00,-999.000,9,-999.0000,9, -999.00,9, -999.00,9,  -999.0,9,-999.000,9,-999.000,-999.000,9,-999.000,9, -999.00,9, -999.00,9, -999.00,9, -999.00,9, -999.00,9,-999.000,-999.0000,9,-999.0000,9,-999.0000,9,-999.0000,9,-999.0000,9,-999.0000,9,-999.0000,9,-999.0000,9,-999.0000,9,  24.3944,     -999.0,9,     -999.0,9,     -999.0,9,     -999.0,9,     -999.0,9,     -999.0,9,     -999.0,9,-999.0000, -999.00
33RO20071215,        P18,      37,          1,         34,      12049,2,20071227,       0608,     3.4995,  -109.9998,       3842,    24.5,  24.3005,  33.9124,2,  33.9140,2,    210.9,2,   211.0,2,    2.30,2,    1.90,2,    0.04,2,    0.26,2,-999.000,9,-999.000,9,-999.0000,9,  1949.5,2,  2236.7,2,   -999.0,9,  -999.00,   8.0389,2,    25.00,-999.000,9,-999.0000,9, -999.00,9,    1.16,2,  -999.0,1,-999.000,9,-999.000,-999.000,9,-999.000,9, -999.00,9, -999.00,9, -999.00,9, -999.00,9, -999.00,9,-999.000,-999.0000,9,-999.0000,9,-999.0000,9,-999.0000,9,-999.0000,9,-999.0000,9,-999.0000,9,-999.0000,9,-999.0000,9,  24.2953,     -999.0,9,     -999.0,9,     -999.0,9,     -999.0,9,     -999.0,9,     -999.0,9,     -999.0,9,-999.0000, -999.00
33RO20071215,        P18,      37,          1,         33,      12027,2,20071227,       0608,     3.4995,  -109.9998,       3842,    50.9,  22.6475,  34.2596,2,  34.2307,2,    207.6,2,   208.4,2,    4.60,2,    5.70,2,    0.10,2,    0.49,2,   1.873,2,   1.151,2,   1.0887,2,  1999.5,2,  2258.6,2,   -999.0,9,  -999.00,-999.0000,5,  -999.00,-999.000,9,-999.0000,9, -999.00,9,    1.02,2,  -999.0,1,-999.000,9,-999.000,-999.000,9,-999.000,9, -999.00,9, -999.00,9, -999.00,9, -999.00,9, -999.00,9,-999.000,-999.0000,9,-999.0000,9,-999.0000,9,-999.0000,9,-999.0000,9,-999.0000,9,-999.0000,9,-999.0000,9,-999.0000,9,  22.6372,     -999.0,9,     -999.0,9,     -999.0,9,     -999.0,9,     -999.0,9,     -999.0,9,     -999.0,9,-999.0000, -999.00
33RO20071215,        P18,      37,          1,         32,      12023,2,20071227,       0608,     3.4995,  -109.9998,       3842,    74.8,  19.4946,  34.5907,2,  34.5885,2,    168.5,2,   169.2,2,    8.60,2,   12.60,2,    0.22,2,    0.97,2,-999.000,9,-999.000,9,-999.0000,9,  2084.8,2,  2281.9,2,   -999.0,9,  -999.00,   7.8486,2,    25.00,-999.000,9,-999.0000,9, -999.00,9, -999.00,9,  -999.0,9,-999.000,9,-999.000,-999.000,9,-999.000,9, -999.00,9, -999.00,9, -999.00,9, -999.00,9, -999.00,9,-999.000,-999.0000,9,-999.0000,9,-999.0000,9,-999.0000,9,-999.0000,9,-999.0000,9,-999.0000,9,-999.0000,9,-999.0000,9,  19.4811,     -999.0,9,     -999.0,9,     -999.0,9,     -999.0,9,     -999.0,9,     -999.0,9,     -999.0,9,-999.0000, -999.00
33RO20071215,        P18,      37,          1,         31,      12037,2,20071227,       0608,     3.4995,  -109.9998,       3842,    99.4,  16.5811,  34.8414,2,  34.8598,2,    100.1,2,    90.9,2,   14.70,2,   21.80,2,    0.43,2,    1.52,2,   1.579,2,   0.901,2,   0.5755,2,  2167.5,2,  2296.1,2,   -999.0,9,  -999.00,   7.6905,2,    25.00,-999.000,9,-999.0000,9, -999.00,9,    0.25,2,  -999.0,1,-999.000,9,-999.000,-999.000,9,-999.000,9, -999.00,9, -999.00,9, -999.00,9, -999.00,9, -999.00,9,-999.000,-999.0000,9,-999.0000,9,-999.0000,9,-999.0000,9,-999.0000,9,-999.0000,9,-999.0000,9,-999.0000,9,-999.0000,9,  16.5650,     -999.0,9,     -999.0,9,     -999.0,9,     -999.0,9,     -999.0,9,     -999.0,9,     -999.0,9,-999.0000, -999.00
33RO20071215,        P18,      37,          1,         30,      12036,2,20071227,       0608,     3.4995,  -109.9998,       3842,   124.2,  14.1476,  34.9539,2,  34.9511,2,     51.3,2,    49.4,2,   18.40,2,   27.50,2,    0.02,2,    1.83,2,-999.000,9,-999.000,9,-999.0000,9,  2204.2,2,  2301.7,2,   -999.0,9,  -999.00,   7.6011,2,    25.00,-999.000,9,-999.0000,9, -999.00,9, -999.00,9,  -999.0,9,-999.000,9,-999.000,-999.000,9,-999.000,9, -999.00,9, -999.00,9, -999.00,9, -999.00,9, -999.00,9,-999.000,-999.0000,9,-999.0000,9,-999.0000,9,-999.0000,9,-999.0000,9,-999.0000,9,-999.0000,9,-999.0000,9,-999.0000,9,  14.1296,     -999.0,9,     -999.0,9,     -999.0,9,     -999.0,9,     -999.0,9,     -999.0,9,     -999.0,9,-999.0000, -999.00
33RO20071215,        P18,      37,          1,         29,      12044,2,20071227,       0608,     3.4995,  -109.9998,       3842,   150.1,  13.8396,  34.9446,2,  34.9433,2,     46.1,2,    44.6,2,   19.30,2,   28.30,2,    0.01,2,    1.89,2,   1.266,2,   0.704,2,   0.2809,2,  2209.3,2,  2302.5,2,   -999.0,9,  -999.00,   7.5728,2,    25.00,-999.000,9,-999.0000,9, -999.00,9,    0.05,2,  -999.0,1,-999.000,9,-999.000,-999.000,9,-999.000,9, -999.00,9, -999.00,9, -999.00,9, -999.00,9, -999.00,9,-999.000,-999.0000,9,-999.0000,9,-999.0000,9,-999.0000,9,-999.0000,9,-999.0000,9,-999.0000,9,-999.0000,9,-999.0000,9,  13.8181,     -999.0,9,     -999.0,9,     -999.0,9,     -999.0,9,     -999.0,9,     -999.0,9,     -999.0,9,-999.0000, -999.00
33RO20071215,        P18,      37,          1,         28,      12057,2,20071227,       0608,     3.4995,  -109.9998,       3842,   174.3,  13.4506,  34.9370,2,  34.9366,2,     47.9,2,    46.8,2,   20.10,2,   28.30,2,    0.01,2,    1.90,2,-999.000,9,-999.000,9,-999.0000,9,  2210.8,2,  2307.7,2,   -999.0,9,  -999.00,-999.0000,5,  -999.00,-999.000,9,-999.0000,9, -999.00,9, -999.00,9,  -999.0,9,-999.000,9,-999.000,-999.000,9,-999.000,9, -999.00,9, -999.00,9, -999.00,9, -999.00,9, -999.00,9,-999.000,-999.0000,9,-999.0000,9,-999.0000,9,-999.0000,9,-999.0000,9,-999.0000,9,-999.0000,9,-999.0000,9,-999.0000,9,  13.4261,     -999.0,9,     -999.0,9,     -999.0,9,     -999.0,9,     -999.0,9,     -999.0,9,     -999.0,9,-999.0000, -999.00
33RO20071215,        P18,      37,          1,         27,      12026,2,20071227,       0608,     3.4995,  -109.9998,       3842,   199.9,  13.2992,  34.9292,2,  34.9275,2,     44.1,2,    45.2,2,   20.90,2,   29.00,2,    0.01,2,    1.93,2,   1.125,2,   0.628,2,   0.2825,2,  2214.7,2,  -999.0,9,   -999.0,9,  -999.00,-999.0000,9,  -999.00,-999.000,9,-999.0000,9, -999.00,9,    0.07,2,  -999.0,1,-999.000,9,-999.000,-999.000,9,-999.000,9, -999.00,9, -999.00,9, -999.00,9, -999.00,9, -999.00,9,-999.000,-999.0000,9,-999.0000,9,-999.0000,9,-999.0000,9,-999.0000,9,-999.0000,9,-999.0000,9,-999.0000,9,-999.0000,9,  13.2713,     -999.0,9,     -999.0,9,     -999.0,9,     -999.0,9,     -999.0,9,     -999.0,9,     -999.0,9,-999.0000, -999.00
33RO20071215,        P18,      37,          1,         26,      12030,2,20071227,       0608,     3.4995,  -109.9998,       3842,   250.2,  12.7387,  34.8932,2,  34.8903,2,     33.5,2,    31.6,2,   23.30,2,   30.80,2,    0.01,2,    2.07,2,-999.000,9,-999.000,9,-999.0000,9,  2227.2,2,  2301.6,2,   -999.0,9,  -999.00,   7.5307,2,    25.00,-999.000,9,-999.0000,9, -999.00,9,    0.03,2,  -999.0,1,-999.000,9,-999.000,-999.000,9,-999.000,9, -999.00,9, -999.00,9, -999.00,9, -999.00,9, -999.00,9,-999.000,-999.0000,9,-999.0000,9,-999.0000,9,-999.0000,9,-999.0000,9,-999.0000,9,-999.0000,9,-999.0000,9,-999.0000,9,  12.7048,     -999.0,9,     -999.0,9,     -999.0,9,     -999.0,9,     -999.0,9,     -999.0,9,     -999.0,9,-999.0000, -999.00
33RO20071215,        P18,      37,          1,         25,      12024,2,20071227,       0608,     3.4995,  -109.9998,       3842,   299.3,  11.9669,  34.8252,2,  34.8204,2,     23.8,2,    24.4,2,   26.70,2,   32.40,2,    0.00,2,    2.20,2,   0.763,2,   0.424,2,   0.1816,2,  2238.9,2,  -999.0,9,   -999.0,9,  -999.00,-999.0000,9,  -999.00,-999.000,9,-999.0000,9, -999.00,9,   -0.24,4,  -999.0,1,-999.000,9,-999.000,-999.000,9,-999.000,9, -999.00,9, -999.00,9, -999.00,9, -999.00,9, -999.00,9,-999.000,-999.0000,9,-999.0000,9,-999.0000,9,-999.0000,9,-999.0000,9,-999.0000,9,-999.0000,9,-999.0000,9,-999.0000,9,  11.9279,     -999.0,9,     -999.0,9,     -999.0,9,     -999.0,9,     -999.0,9,     -999.0,9,     -999.0,9,-999.0000, -999.00
33RO20071215,        P18,      37,          1,         24,      12019,2,20071227,       0608,     3.4995,  -109.9998,       3842,   349.6,  10.9954,  34.7566,2,  34.7506,2,     29.5,2,    22.6,2,   30.70,2,   33.20,2,    0.01,2,    2.34,2,-999.000,9,-999.000,9,-999.0000,9,  2249.4,2,  2304.6,2,   -999.0,9,  -999.00,   7.4594,2,    25.00,-999.000,9,-999.0000,9, -999.00,9,   -0.05,2,  -999.0,1,-999.000,9,-999.000,-999.000,9,-999.000,9, -999.00,9, -999.00,9, -999.00,9, -999.00,9, -999.00,9,-999.000,-999.0000,9,-999.0000,9,-999.0000,9,-999.0000,9,-999.0000,9,-999.0000,9,-999.0000,9,-999.0000,9,-999.0000,9,  10.9521,     -999.0,9,     -999.0,9,     -999.0,9,     -999.0,9,     -999.0,9,     -999.0,9,     -999.0,9,-999.0000, -999.00
33RO20071215,        P18,      37,          1,         23,      12022,2,20071227,       0608,     3.4995,  -109.9998,       3842,   399.8,  10.2264,  34.7165,2,  34.7125,2,     17.0,2,    16.9,2,   34.70,2,   34.50,2,    0.01,2,    2.48,2,   0.351,2,   0.197,2,   0.0724,2,  -999.0,9,  -999.0,9,   -999.0,9,  -999.00,-999.0000,9,  -999.00,-999.000,9,-999.0000,9, -999.00,9, -999.00,9,  -999.0,9,-999.000,9,-999.000,-999.000,9,-999.000,9, -999.00,9, -999.00,9, -999.00,9, -999.00,9, -999.00,9,-999.000,-999.0000,9,-999.0000,9,-999.0000,9,-999.0000,9,-999.0000,9,-999.0000,9,-999.0000,9,-999.0000,9,-999.0000,9,  10.1791,     -999.0,9,     -999.0,9,     -999.0,9,     -999.0,9,     -999.0,9,     -999.0,9,     -999.0,9,-999.0000, -999.00
33RO20071215,        P18,      37,          1,         22,      12015,2,20071227,       0608,     3.4995,  -109.9998,       3842,   499.8,   8.1278,  34.6249,2,  34.6221,2,      7.6,2,     8.4,2,   48.50,2,   39.50,2,    0.00,2,    2.91,2,   0.035,2,   0.023,2,   0.0000,2,  2294.3,2,  2314.3,2,   -999.0,9,  -999.00,   7.3402,2,    25.00,-999.000,9,-999.0000,9, -999.00,9,    -0.1,2,  -999.0,1,-999.000,9,-999.000,-999.000,9,-999.000,9, -999.00,9, -999.00,9, -999.00,9, -999.00,9, -999.00,9,-999.000,-999.0000,9,-999.0000,9,-999.0000,9,-999.0000,9,-999.0000,9,-999.0000,9,-999.0000,9,-999.0000,9,-999.0000,9,   8.0761,     -999.0,9,     -999.0,9,     -999.0,9,     -999.0,9,     -999.0,9,     -999.0,9,     -999.0,9,-999.0000, -999.00
33RO20071215,        P18,      37,          1,         21,      12020,2,20071227,       0608,     3.4995,  -109.9998,       3842,   599.8,   6.9954,  34.5794,2,  34.5786,2,     37.6,2,    34.7,2,   53.40,2,   40.60,2,    0.00,2,    2.87,2,   0.028,2,   0.015,2,   0.0000,2,  -999.0,9,  -999.0,9,   -999.0,9,  -999.00,-999.0000,9,  -999.00,-999.000,9,-999.0000,9, -999.00,9, -999.00,9,  -999.0,9,-999.000,9,-999.000,-999.000,9,-999.000,9, -999.00,9, -999.00,9, -999.00,9, -999.00,9, -999.00,9,-999.000,-999.0000,9,-999.0000,9,-999.0000,9,-999.0000,9,-999.0000,9,-999.0000,9,-999.0000,9,-999.0000,9,-999.0000,9,   6.9380,     -999.0,9,     -999.0,9,     -999.0,9,     -999.0,9,     -999.0,9,     -999.0,9,     -999.0,9,-999.0000, -999.00
33RO20071215,        P18,      37,          1,         20,      12055,2,20071227,       0608,     3.4995,  -109.9998,       3842,   700.5,   6.3576,  34.5710,2,  34.5706,2,     38.6,2,    38.8,2,   61.00,2,   41.60,2,    0.00,2,    2.92,2,-999.000,9,-999.000,9,-999.0000,9,  2289.9,2,  2325.2,2,   -999.0,9,  -999.00,   7.4039,2,    25.00,-999.000,9,-999.0000,9, -999.00,9,    0.07,2,  -999.0,1,-999.000,9,-999.000,-999.000,9,-999.000,9, -999.00,9, -999.00,9, -999.00,9, -999.00,9, -999.00,9,-999.000,-999.0000,9,-999.0000,9,-999.0000,9,-999.0000,9,-999.0000,9,-999.0000,9,-999.0000,9,-999.0000,9,-999.0000,9,   6.2934,     -999.0,9,     -999.0,9,     -999.0,9,     -999.0,9,     -999.0,9,     -999.0,9,     -999.0,9,-999.0000, -999.00
33RO20071215,        P18,      37,          1,         19,      12018,2,20071227,       0608,     3.4995,  -109.9998,       3842,   799.9,   5.6642,  34.5566,2,  34.5557,2,     51.9,2,    50.8,2,   69.30,2,   41.50,2,    0.00,2,    2.92,2,   0.005,2,   0.003,2,   0.0000,2,  -999.0,9,  -999.0,9,   -999.0,9,  -999.00,-999.0000,9,  -999.00,-999.000,9,-999.0000,9, -999.00,9, -999.00,9,  -999.0,9,-999.000,9,-999.000,-999.000,9,-999.000,9, -999.00,9, -999.00,9, -999.00,9, -999.00,9, -999.00,9,-999.000,-999.0000,9,-999.0000,9,-999.0000,9,-999.0000,9,-999.0000,9,-999.0000,9,-999.0000,9,-999.0000,9,-999.0000,9,   5.5946,     -999.0,9,     -999.0,9,     -999.0,9,     -999.0,9,     -999.0,9,     -999.0,9,     -999.0,9,-999.0000, -999.00
33RO20071215,        P18,      37,          1,         18,      12025,2,20071227,       0608,     3.4995,  -109.9998,       3842,   900.1,   5.1463,  34.5561,2,  34.5554,2,     55.9,2,    55.4,2,   78.40,2,   41.70,2,    0.00,2,    2.94,2,-999.000,9,-999.000,9,-999.0000,9,  2304.1,2,  2344.8,2,   -999.0,9,  -999.00,   7.4259,2,    25.00,-999.000,9,-999.0000,9, -999.00,9,    0.05,2,  -999.0,1,-999.000,9,-999.000,-999.000,9,-999.000,9, -999.00,9, -999.00,9, -999.00,9, -999.00,9, -999.00,9,-999.000,-999.0000,9,-999.0000,9,-999.0000,9,-999.0000,9,-999.0000,9,-999.0000,9,-999.0000,9,-999.0000,9,-999.0000,9,   5.0708,     -999.0,9,     -999.0,9,     -999.0,9,     -999.0,9,     -999.0,9,     -999.0,9,     -999.0,9,-999.0000, -999.00
33RO20071215,        P18,      37,          1,         17,      12016,2,20071227,       0608,     3.4995,  -109.9998,       3842,   999.0,   4.6908,  34.5620,2,  34.5608,2,     59.6,2,    59.4,2,   87.20,2,   41.70,2,    0.00,2,    2.95,2,-999.000,9,-999.000,9,-999.0000,9,  -999.0,9,  -999.0,9,   -999.0,9,  -999.00,-999.0000,9,  -999.00,-999.000,9,-999.0000,9, -999.00,9, -999.00,9,  -999.0,9,-999.000,9,-999.000,-999.000,9,-999.000,9, -999.00,9, -999.00,9, -999.00,9, -999.00,9, -999.00,9,-999.000,-999.0000,9,-999.0000,9,-999.0000,9,-999.0000,9,-999.0000,9,-999.0000,9,-999.0000,9,-999.0000,9,-999.0000,9,   4.6098,     -999.0,9,     -999.0,9,     -999.0,9,     -999.0,9,     -999.0,9,     -999.0,9,     -999.0,9,-999.0000, -999.00
33RO20071215,        P18,      37,          1,         16,      12051,2,20071227,       0608,     3.4995,  -109.9998,       3842,  1100.4,   4.3643,  34.5676,2,  34.5671,2,     65.1,2,    64.6,2,   94.00,2,   41.40,2,    0.00,2,    2.94,2,-999.000,9,-999.000,9,-999.0000,9,  2316.7,2,  2365.4,2,   -999.0,9,  -999.00,   7.4403,2,    25.00,-999.000,9,-999.0000,9, -999.00,9, -999.00,9,  -999.0,9,-999.000,9,-999.000,-999.000,9,-999.000,9, -999.00,9, -999.00,9, -999.00,9, -999.00,9, -999.00,9,-999.000,-999.0000,9,-999.0000,9,-999.0000,9,-999.0000,9,-999.0000,9,-999.0000,9,-999.0000,9,-999.0000,9,-999.0000,9,   4.2770,     -999.0,9,     -999.0,9,     -999.0,9,     -999.0,9,     -999.0,9,     -999.0,9,     -999.0,9,-999.0000, -999.00
33RO20071215,        P18,      37,          1,         15,      12014,2,20071227,       0608,     3.4995,  -109.9998,       3842,  1200.8,   4.0013,  34.5763,2,  34.5759,2,     68.9,2,    68.6,2,  102.00,2,   41.30,2,    0.00,2,    2.93,2,-999.000,9,-999.000,9,-999.0000,9,  -999.0,9,  -999.0,9,   -999.0,9,  -999.00,-999.0000,9,  -999.00,-999.000,9,-999.0000,9, -999.00,9, -999.00,9,  -999.0,9,-999.000,9,-999.000,-999.000,9,-999.000,9, -999.00,9, -999.00,9, -999.00,9, -999.00,9, -999.00,9,-999.000,-999.0000,9,-999.0000,9,-999.0000,9,-999.0000,9,-999.0000,9,-999.0000,9,-999.0000,9,-999.0000,9,-999.0000,9,   3.9085,     -999.0,9,     -999.0,9,     -999.0,9,     -999.0,9,     -999.0,9,     -999.0,9,     -999.0,9,-999.0000, -999.00
33RO20071215,        P18,      37,          1,         14,      12013,2,20071227,       0608,     3.4995,  -109.9998,       3842,  1299.4,   3.6705,  34.5861,2,  34.5859,2,     73.2,2,    73.6,2,  109.40,2,   41.10,2,    0.00,2,    2.92,2,-999.000,9,-999.000,9,-999.0000,9,  2330.8,2,  -999.0,9,   -999.0,9,  -999.00,-999.0000,9,  -999.00,-999.000,9,-999.0000,9, -999.00,9, -999.00,9,  -999.0,9,-999.000,9,-999.000,-999.000,9,-999.000,9, -999.00,9, -999.00,9, -999.00,9, -999.00,9, -999.00,9,-999.000,-999.0000,9,-999.0000,9,-999.0000,9,-999.0000,9,-999.0000,9,-999.0000,9,-999.0000,9,-999.0000,9,-999.0000,9,   3.5724,     -999.0,9,     -999.0,9,     -999.0,9,     -999.0,9,     -999.0,9,     -999.0,9,     -999.0,9,-999.0000, -999.00
33RO20071215,        P18,      37,          1,         13,      12012,2,20071227,       0608,     3.4995,  -109.9998,       3842,  1400.0,   3.4731,  34.5939,2,  34.5937,2,     76.4,2,    75.4,2,  114.40,2,   41.00,2,    0.00,2,    2.90,2,-999.000,9,-999.000,9,-999.0000,9,  -999.0,9,  -999.0,9,   -999.0,9,  -999.00,-999.0000,9,  -999.00,-999.000,9,-999.0000,9, -999.00,9,   -0.09,2,  -999.0,9,-999.000,9,-999.000,-999.000,9,-999.000,9, -999.00,9, -999.00,9, -999.00,9, -999.00,9, -999.00,9,-999.000,-999.0000,9,-999.0000,9,-999.0000,9,-999.0000,9,-999.0000,9,-999.0000,9,-999.0000,9,-999.0000,9,-999.0000,9,   3.3684,     -999.0,9,     -999.0,9,     -999.0,9,     -999.0,9,     -999.0,9,     -999.0,9,     -999.0,9,-999.0000, -999.00
33RO20071215,        P18,      37,          1,         12,      12031,2,20071227,       0608,     3.4995,  -109.9998,       3842,  1600.1,   2.9300,  34.6156,2,  34.6155,2,     82.8,2,    79.8,2,  128.50,2,   40.90,2,    0.00,2,    2.86,2,-999.000,9,-999.000,9,-999.0000,9,  2347.1,2,  2404.7,2,   -999.0,9,  -999.00,   7.4681,2,    25.00,-999.000,9,-999.0000,9, -999.00,9, -999.00,9,  -999.0,1,-999.000,9,-999.000,-999.000,9,-999.000,9, -999.00,9, -999.00,9, -999.00,9, -999.00,9, -999.00,9,-999.000,-999.0000,9,-999.0000,9,-999.0000,9,-999.0000,9,-999.0000,9,-999.0000,9,-999.0000,9,-999.0000,9,-999.0000,9,   2.8145,     -999.0,9,     -999.0,9,     -999.0,9,     -999.0,9,     -999.0,9,     -999.0,9,     -999.0,9,-999.0000, -999.00