BOTTLE,20220818CCHSIOAMB
EXPOCODE,SECT_ID,STNNBR,CASTNO,SAMPNO,BTLNBR,BTLNBR_FLAG_W,DATE,TIME,LATITUDE,LONGITUDE,DEPTH,CTDPRS,CTDTMP,CTDSAL,CTDSAL_FLAG_W,SALNTY,SALNTY_FLAG_W,CTDOXY,CTDOXY_FLAG_W,OXYGEN,OXYGEN_FLAG_W,SILCAT,SILCAT_FLAG_W,NITRAT,NITRAT_FLAG_W,NITRIT,NITRIT_FLAG_W,PHSPHT,PHSPHT_FLAG_W,CFC-11,CFC-11_FLAG_W,CFC-12,CFC-12_FLAG_W,SF6,SF6_FLAG_W,TCARBN,TCARBN_FLAG_W,ALKALI,ALKALI_FLAG_W,FCO2,FCO2_FLAG_W,FCO2TMP,PH_SWS,PH_SWS_FLAG_W,PH_TMP,TRITUM,TRITUM_FLAG_W,HELIUM,HELIUM_FLAG_W,DELHE3,DELHE3_FLAG_W,DELC13,DELC13_FLAG_W,DELC14,DELC14_FLAG_W,NEON,NEON_FLAG_W,NEONER,CCL4,CCL4_FLAG_W,POC,POC_FLAG_W,DOC,DOC_FLAG_W,TDN,TDN_FLAG_W,DON,DON_FLAG_W,CHLORA,CHLORA_FLAG_W,ARGON,ARGON_FLAG_W,TRITER,CDOM325,CDOM325_FLAG_W,CDOM340,CDOM340_FLAG_W,CDOM380,CDOM380_FLAG_W,CDOM412,CDOM412_FLAG_W,CDOM443,CDOM443_FLAG_W,CDOM490,CDOM490_FLAG_W,CDOM555,CDOM555_FLAG_W,CDOMSL,CDOMSL_FLAG_W,CDOMSN,CDOMSN_FLAG_W,THETA,D18O_NO3,D18O_NO3_FLAG_W,CDOM2C,CDOM2C_FLAG_W,CDOM3C,CDOM3C_FLAG_W,LAB_DEN,LAB_DEN_FLAG_W,DELSI30,DELSI30_FLAG_W,N2,N2_FLAG_W,D15N_NO3,D15N_NO3_FLAG_W,HELIER,DELHER
,,,,,,,,,,,METERS,DBAR,ITS-90,PSS-78,,PSS-78,,UMOL/KG,,UMOL/KG,,UMOL/KG,,UMOL/KG,,UMOL/KG,,UMOL/KG,,PMOL/KG,,PMOL/KG,,FMOL/KG,,UMOL/KG,,UMOL/KG,,UATM,,DEG C,,,DEG C,TU,,NMOL/KG,,PERCNT,,/MILLE,,/MILLE,,NMOL/KG,,NMOL/KG,PMOL/KG,,UG/KG,,UMOL/KG,,UMOL/KG,,UMOL/KG,,UG/KG,,UMOL/KG,,TU,1/M,,1/M,,1/M,,1/M,,1/M,,1/M,,1/M,,1/NM,,1/NM,,DEG C,/MILLE,,,,,,,,/MILLE,,UMOL/KG,,/MILLE,,NMOL/KG,PERCNT
33RO20071215,        P18,     122,          1,         36,      12017,2,20080129,       1606,   -42.0818,  -102.9995,       3829,     4.7,  15.9788,  33.9136,2,  33.9159,2,    252.1,2,   251.7,2,    1.10,2,   10.80,2,    0.28,2,    0.77,2,-999.000,9,-999.000,9,-999.0000,9,  2045.0,6,  2254.3,2,   -999.0,9,  -999.00,   7.8818,2,    25.00,-999.000,9,-999.0000,9, -999.00,9, -999.00,9,  -999.0,9,-999.000,9,-999.000,-999.000,9,-999.000,9,   54.51,2,   15.71,2, -999.00,9,    0.06,2, -999.00,9,-999.000,   0.0619,2,   0.0386,2,   0.0121,2,   0.0094,2,   0.0040,2,  -0.0006,4,  -0.0031,4,   0.0241,2,   0.0314,2,  15.9780,     -999.0,9,     -999.0,9,     -999.0,9,     -999.0,9,     -999.0,9,     -999.0,9,     -999.0,9,-999.0000, -999.00
33RO20071215,        P18,     122,          1,         35,      12029,2,20080129,       1606,   -42.0818,  -102.9995,       3829,    14.2,  15.8419,  33.9985,2,  33.9977,2,    252.0,2,   252.7,2,    1.10,2,   10.60,2,    0.27,2,    0.77,2,   2.835,2,   1.677,2,   1.3552,2,  2048.6,2,  2258.4,2,   -999.0,9,  -999.00,   7.8885,2,    25.00,-999.000,9,-999.0000,9, -999.00,9,    1.71,2,  -999.0,1,-999.000,9,-999.000,-999.000,9,-999.000,9,   54.48,2,   15.60,2, -999.00,9,    0.06,2, -999.00,1,-999.000,   0.0531,2,   0.0323,2,   0.0115,2,   0.0090,2,   0.0038,2,  -0.0007,4,  -0.0031,4,   0.0236,2,   0.0306,2,  15.8397,     -999.0,1,     -999.0,9,     -999.0,9,     -999.0,9,     -999.0,9,     -999.0,1,     -999.0,9,-999.0000, -999.00
33RO20071215,        P18,     122,          1,         34,      12049,2,20080129,       1606,   -42.0818,  -102.9995,       3829,    33.5,  15.3206,  33.9976,2,  34.0008,2,    255.0,2,   258.2,2,    1.20,2,   10.80,2,    0.23,2,    0.78,2,-999.000,9,-999.000,9,-999.0000,9,  2050.9,2,  2260.6,2,   -999.0,9,  -999.00,   7.8870,2,    25.00,-999.000,9,-999.0000,9, -999.00,9, -999.00,9,  -999.0,9,-999.000,9,-999.000,-999.000,9,-999.000,9,   54.13,2,   15.48,2, -999.00,9,    0.08,2, -999.00,9,-999.000,   0.0549,2,   0.0336,2,   0.0143,2,   0.0108,2,   0.0052,2,   0.0005,3,  -0.0024,4,   0.0181,2,   0.0244,2,  15.3155,     -999.0,9,     -999.0,9,     -999.0,9,     -999.0,9,     -999.0,9,     -999.0,9,     -999.0,9,-999.0000, -999.00
33RO20071215,        P18,     122,          1,         33,      12027,2,20080129,       1606,   -42.0818,  -102.9995,       3829,    57.2,  12.0040,  34.0183,2,  34.0197,2,    283.7,2,   283.5,2,    1.30,2,   11.50,2,    0.18,2,    0.82,2,   3.471,2,   2.002,2,   1.5624,2,  2057.9,2,  2259.8,2,   -999.0,9,  -999.00,   7.8694,2,    25.00,-999.000,9,-999.0000,9, -999.00,9, -999.00,9,  -999.0,9,-999.000,9,-999.000,-999.000,9,-999.000,9,   53.37,2,   14.29,2, -999.00,9,    0.11,2, -999.00,9,-999.000,   0.0745,2,   0.0468,2,   0.0195,2,   0.0130,2,   0.0061,2,   0.0008,2,  -0.0023,4,   0.0193,2,   0.0239,2,  11.9967,     -999.0,9,     -999.0,9,     -999.0,9,     -999.0,9,     -999.0,9,     -999.0,9,     -999.0,9,-999.0000, -999.00
33RO20071215,        P18,     122,          1,         32,      12023,2,20080129,       1606,   -42.0818,  -102.9995,       3829,    83.4,  10.8353,  34.0350,2,  34.0377,2,    280.8,2,   280.9,2,    1.40,2,   12.10,2,    0.25,2,    0.88,2,   3.638,2,   2.084,2,   1.6316,2,  2067.0,2,  2263.3,2,   -999.0,9,  -999.00,   7.8501,2,    25.00,-999.000,9,-999.0000,9, -999.00,9, -999.00,9,  -999.0,9,-999.000,9,-999.000,-999.000,9,-999.000,9,   51.45,2,   14.58,2, -999.00,9,    0.16,2, -999.00,9,-999.000,   0.0798,2,   0.0525,2,   0.0236,2,   0.0161,2,   0.0079,2,   0.0018,2,  -0.0017,4,   0.0175,2,   0.0209,2,  10.8253,     -999.0,9,     -999.0,9,     -999.0,9,     -999.0,9,     -999.0,9,     -999.0,9,     -999.0,9,-999.0000, -999.00
33RO20071215,        P18,     122,          1,         31,      12037,2,20080129,       1606,   -42.0818,  -102.9995,       3829,   108.9,   9.9539,  34.0505,2,  34.0522,2,    277.0,2,   276.0,2,    1.50,2,   13.20,2,    0.44,2,    0.97,2,   3.712,2,   2.115,2,   1.6532,2,  2078.8,2,  2262.1,2,   -999.0,9,  -999.00,   7.8256,2,    25.00,-999.000,9,-999.0000,9, -999.00,9, -999.00,9,  -999.0,9,-999.000,9,-999.000,-999.000,9,-999.000,9,   51.30,2,   15.63,2, -999.00,9,    0.18,2, -999.00,9,-999.000,   0.0613,2,   0.0366,2,   0.0135,2,   0.0101,2,   0.0051,2,   0.0018,3,   0.0006,3,   0.0219,2,   0.0277,2,   9.9415,     -999.0,9,     -999.0,9,     -999.0,9,     -999.0,9,     -999.0,9,     -999.0,9,     -999.0,9,-999.0000, -999.00
33RO20071215,        P18,     122,          1,         30,      12036,2,20080129,       1606,   -42.0818,  -102.9995,       3829,   135.1,   9.3117,  34.0620,2,  34.0628,2,    274.6,2,   274.5,2,    1.70,2,   14.20,2,    0.65,2,    1.04,2,-999.000,9,-999.000,9,-999.0000,9,  2084.1,2,  2264.2,2,   -999.0,9,  -999.00,   7.8148,2,    25.00,-999.000,9,-999.0000,9, -999.00,9, -999.00,9,  -999.0,9,-999.000,9,-999.000,-999.000,9,-999.000,9,   49.37,2,   17.02,2, -999.00,9,    0.13,2, -999.00,9,-999.000,   0.0608,2,   0.0374,2,   0.0144,2,   0.0110,2,   0.0057,2,   0.0020,3,   0.0006,3,   0.0198,2,   0.0254,2,   9.2969,     -999.0,9,     -999.0,9,     -999.0,9,     -999.0,9,     -999.0,9,     -999.0,9,     -999.0,9,-999.0000, -999.00
33RO20071215,        P18,     122,          1,         29,      12044,2,20080129,       1606,   -42.0818,  -102.9995,       3829,   157.5,   8.5189,  34.1018,2,  34.1068,2,    267.1,2,   267.4,2,    2.40,2,   16.90,2,    0.22,2,    1.15,2,   3.988,2,   2.235,2,   1.5985,2,  2098.5,2,  2268.3,2,   -999.0,9,  -999.00,   7.7782,2,    25.00,-999.000,9,-999.0000,9, -999.00,9, -999.00,9,  -999.0,9,-999.000,9,-999.000,-999.000,9,-999.000,9,   48.35,2,   19.32,2, -999.00,9,    0.11,2, -999.00,9,-999.000,   0.0598,2,   0.0348,2,   0.0131,2,   0.0108,2,   0.0052,2,   0.0018,3,   0.0006,3,   0.0198,2,   0.0275,2,   8.5026,     -999.0,9,     -999.0,9,     -999.0,9,     -999.0,9,     -999.0,9,     -999.0,9,     -999.0,9,-999.0000, -999.00
33RO20071215,        P18,     122,          1,         28,      12057,2,20080129,       1606,   -42.0818,  -102.9995,       3829,   182.9,   7.9943,  34.1445,2,  34.1460,2,    263.1,2,   262.4,2,    2.90,2,   18.20,2,    0.04,2,    1.23,2,-999.000,9,-999.000,9,-999.0000,9,  2107.6,2,  2262.9,2,   -999.0,9,  -999.00,   7.7651,2,    25.00,-999.000,9,-999.0000,9, -999.00,9, -999.00,9,  -999.0,9,-999.000,9,-999.000,-999.000,9,-999.000,9,   47.93,2,   20.81,2, -999.00,9,    0.05,2, -999.00,9,-999.000,   0.0608,2,   0.0353,2,   0.0134,2,   0.0111,2,   0.0051,2,   0.0017,3,   0.0004,3,   0.0193,2,   0.0274,2,   7.9760,     -999.0,9,     -999.0,9,     -999.0,9,     -999.0,9,     -999.0,9,     -999.0,9,     -999.0,9,-999.0000, -999.00
33RO20071215,        P18,     122,          1,         27,      12026,2,20080129,       1606,   -42.0818,  -102.9995,       3829,   216.2,   7.3987,  34.1970,2,  34.2001,2,    257.4,2,   257.4,2,    4.00,2,   20.10,2,    0.01,2,    1.34,2,   4.171,2,   2.262,2,   1.4499,2,  2119.5,2,  2269.9,2,   -999.0,9,  -999.00,   7.7404,2,    25.00,-999.000,9,-999.0000,9, -999.00,9, -999.00,9,  -999.0,9,-999.000,9,-999.000,-999.000,9,-999.000,9,   47.54,2,   22.24,2, -999.00,9,    0.02,2, -999.00,9,-999.000,   0.0619,2,   0.0359,2,   0.0143,2,   0.0115,2,   0.0053,2,   0.0016,3,   0.0002,4,   0.0188,2,   0.0266,2,   7.3781,     -999.0,9,     -999.0,9,     -999.0,9,     -999.0,9,     -999.0,9,     -999.0,9,     -999.0,9,-999.0000, -999.00
33RO20071215,        P18,     122,          1,         26,      12030,2,20080129,       1606,   -42.0818,  -102.9995,       3829,   266.7,   6.8072,  34.2570,2,  34.2597,2,    256.7,2,   257.3,2,    5.70,2,   21.40,2,    0.01,2,    1.41,2,-999.000,9,-999.000,9,-999.0000,9,  2128.8,2,  2274.7,2,   -999.0,9,  -999.00,   7.7312,2,    25.00,-999.000,9,-999.0000,9, -999.00,9, -999.00,9,  -999.0,9,-999.000,9,-999.000,-999.000,9,-999.000,9,   45.92,2,   23.06,2, -999.00,9,    0.01,2, -999.00,9,-999.000,   0.0626,2,   0.0363,2,   0.0142,2,   0.0108,2,   0.0051,2,   0.0017,3,   0.0003,3,   0.0201,2,   0.0274,2,   6.7828,     -999.0,9,     -999.0,9,     -999.0,9,     -999.0,9,     -999.0,9,     -999.0,9,     -999.0,9,-999.0000, -999.00
33RO20071215,        P18,     122,          1,         25,      12024,2,20080129,       1606,   -42.0818,  -102.9995,       3829,   317.3,   6.5530,  34.2937,2,  34.2950,2,    257.4,2,   258.2,2,    6.90,2,   22.00,2,    0.01,2,    1.45,2,   4.202,2,   2.222,2,   1.2801,2,  2133.0,2,  2276.9,2,   -999.0,9,  -999.00,   7.7229,2,    25.00,-999.000,9,-999.0000,9, -999.00,9, -999.00,9,  -999.0,9,-999.000,9,-999.000,-999.000,9,-999.000,9,   45.26,2,   23.29,2, -999.00,9, -999.00,9, -999.00,9,-999.000,   0.0593,2,   0.0337,2,   0.0123,2,   0.0089,2,   0.0038,2,   0.0009,3,  -0.0003,4,   0.0256,2,   0.0315,2,   6.5245,     -999.0,9,     -999.0,9,     -999.0,9,     -999.0,9,     -999.0,9,     -999.0,9,     -999.0,9,-999.0000, -999.00
33RO20071215,        P18,     122,          1,         24,      12019,2,20080129,       1606,   -42.0818,  -102.9995,       3829,   366.3,   6.4431,  34.3023,2,  34.3030,2,    259.1,2,   259.9,2,    7.50,2,   22.20,2,    0.00,2,    1.47,2,-999.000,9,-999.000,9,-999.0000,9,  2134.1,2,  2278.1,2,   -999.0,9,  -999.00,   7.7317,2,    25.00,-999.000,9,-999.0000,9, -999.00,9, -999.00,9,  -999.0,9,-999.000,9,-999.000,-999.000,9,-999.000,9,   44.40,2,   23.39,2, -999.00,9, -999.00,9, -999.00,9,-999.000,   0.0610,2,   0.0351,2,   0.0138,2,   0.0099,2,   0.0047,2,   0.0011,3,  -0.0005,4,   0.0214,2,   0.0281,2,   6.4103,     -999.0,9,     -999.0,9,     -999.0,9,     -999.0,9,     -999.0,9,     -999.0,9,     -999.0,9,-999.0000, -999.00
33RO20071215,        P18,     122,          1,         23,      12022,2,20080129,       1606,   -42.0818,  -102.9995,       3829,   431.3,   6.2569,  34.2967,2,  34.2975,2,    261.4,2,   259.9,2,    8.20,2,   22.70,2,    0.00,2,    1.50,2,   4.124,2,   2.152,2,   1.0863,2,  2137.6,2,  2279.2,2,   -999.0,9,  -999.00,   7.7259,2,    25.00,-999.000,9,-999.0000,9, -999.00,9, -999.00,9,  -999.0,9,-999.000,9,-999.000,-999.000,9,-999.000,9,   43.92,2,   24.03,2, -999.00,9, -999.00,9, -999.00,9,-999.000,   0.0595,2,   0.0339,2,   0.0127,2,   0.0089,2,   0.0041,2,   0.0013,3,  -0.0002,4,   0.0246,2,   0.0306,2,   6.2187,     -999.0,9,     -999.0,9,     -999.0,9,     -999.0,9,     -999.0,9,     -999.0,9,     -999.0,9,-999.0000, -999.00
33RO20071215,        P18,     122,          1,         22,      12015,2,20080129,       1606,   -42.0818,  -102.9995,       3829,   534.2,   5.9781,  34.2816,2,  34.2829,2,    258.5,2,   259.4,2,    9.00,2,   23.50,2,    0.00,2,    1.54,2,-999.000,9,-999.000,9,-999.0000,9,  2138.5,2,  2276.9,2,   -999.0,9,  -999.00,   7.7242,2,    25.00,-999.000,9,-999.0000,9, -999.00,9, -999.00,9,  -999.0,9,-999.000,9,-999.000,-999.000,9,-999.000,9,   43.46,2,   25.36,2, -999.00,9, -999.00,9, -999.00,9,-999.000,   0.0603,2,   0.0346,2,   0.0134,2,   0.0094,2,   0.0045,2,   0.0015,3,  -0.0001,4,   0.0229,2,   0.0291,2,   5.9315,     -999.0,9,     -999.0,9,     -999.0,9,     -999.0,9,     -999.0,9,     -999.0,9,     -999.0,9,-999.0000, -999.00
33RO20071215,        P18,     122,          1,         21,      12020,2,20080129,       1606,   -42.0818,  -102.9995,       3829,   632.2,   5.6969,  34.2674,2,  34.2687,2,    255.4,2,   255.0,2,   10.60,2,   24.50,2,    0.00,2,    1.62,2,   3.647,2,   1.847,2,   0.8154,2,  -999.0,9,  2276.2,2,   -999.0,9,  -999.00,-999.0000,9,  -999.00,-999.000,9,-999.0000,9, -999.00,9, -999.00,9,  -999.0,9,-999.000,9,-999.000,-999.000,9,-999.000,9,   42.93,2,   25.47,2, -999.00,9, -999.00,9, -999.00,9,-999.000,   0.0603,2,   0.0343,2,   0.0130,2,   0.0089,2,   0.0042,2,   0.0012,3,  -0.0003,4,   0.0243,2,   0.0304,2,   5.6428,     -999.0,9,     -999.0,9,     -999.0,9,     -999.0,9,     -999.0,9,     -999.0,9,     -999.0,9,-999.0000, -999.00
33RO20071215,        P18,     122,          1,         20,      12055,2,20080129,       1606,   -42.0818,  -102.9995,       3829,   732.6,   5.3369,  34.2566,2,  34.2581,2,    245.3,2,   245.6,2,   13.40,2,   26.10,2,    0.00,2,    1.73,2,-999.000,9,-999.000,9,-999.0000,9,  2152.2,2,  2282.0,2,   -999.0,9,  -999.00,   7.6942,2,    25.00,-999.000,9,-999.0000,9, -999.00,9, -999.00,9,  -999.0,9,-999.000,9,-999.000,-999.000,9,-999.000,9,   42.28,2,   27.60,2, -999.00,9, -999.00,9, -999.00,9,-999.000,   0.0636,2,   0.0369,2,   0.0148,2,   0.0099,2,   0.0048,2,   0.0015,3,  -0.0004,4,   0.0216,2,   0.0278,2,   5.2757,     -999.0,9,     -999.0,9,     -999.0,9,     -999.0,9,     -999.0,9,     -999.0,9,     -999.0,9,-999.0000, -999.00
33RO20071215,        P18,     122,          1,         19,      12018,2,20080129,       1606,   -42.0818,  -102.9995,       3829,   832.4,   4.9142,  34.2668,2,  34.2677,2,    227.3,2,   227.5,2,   19.40,2,   28.50,2,    0.00,2,    1.89,2,   2.235,2,   1.109,2,   0.4146,2,  -999.0,9,  -999.0,9,   -999.0,9,  -999.00,-999.0000,9,  -999.00,-999.000,9,-999.0000,9, -999.00,9, -999.00,9,  -999.0,9,-999.000,9,-999.000,-999.000,9,-999.000,9,   41.71,2,   30.29,2, -999.00,9, -999.00,9, -999.00,9,-999.000,   0.0731,2,   0.0442,2,   0.0196,2,   0.0133,2,   0.0074,2,   0.0029,2,   0.0003,3,   0.0182,2,   0.0234,2,   4.8467,     -999.0,9,     -999.0,9,     -999.0,9,     -999.0,9,     -999.0,9,     -999.0,9,     -999.0,9,-999.0000, -999.00
33RO20071215,        P18,     122,          1,         18,      12025,2,20080129,       1606,   -42.0818,  -102.9995,       3829,   931.5,   4.4663,  34.2884,2,  34.2898,2,    211.6,2,   211.7,2,   26.80,2,   30.50,2,    0.00,2,    2.04,2,-999.000,9,-999.000,9,-999.0000,9,  2185.8,2,  2290.2,2,   -999.0,9,  -999.00,   7.6329,2,    25.00,-999.000,9,-999.0000,9, -999.00,9, -999.00,9,  -999.0,9,-999.000,9,-999.000,-999.000,9,-999.000,9,   41.00,2,   31.56,2, -999.00,9, -999.00,9, -999.00,9,-999.000,   0.0919,2,   0.0614,2,   0.0301,2,   0.0214,2,   0.0124,2,   0.0040,2,   0.0000,4,   0.0156,2,   0.0183,2,   4.3933,     -999.0,9,     -999.0,9,     -999.0,9,     -999.0,9,     -999.0,9,     -999.0,9,     -999.0,9,-999.0000, -999.00
33RO20071215,        P18,     122,          1,         17,      12016,2,20080129,       1606,   -42.0818,  -102.9995,       3829,  1033.4,   4.0302,  34.3143,2,  34.3134,2,    199.2,2,   199.6,2,   34.50,2,   32.10,2,    0.00,2,    2.16,2,   0.900,2,   0.469,2,   0.2084,2,  -999.0,9,  -999.0,9,   -999.0,9,  -999.00,-999.0000,9,  -999.00,-999.000,9,-999.0000,9, -999.00,9, -999.00,9,  -999.0,9,-999.000,9,-999.000,-999.000,9,-999.000,9,   40.80,2,   33.52,2, -999.00,9, -999.00,9, -999.00,9,-999.000,   0.0898,2,   0.0579,2,   0.0290,2,   0.0199,2,   0.0112,2,   0.0034,2,  -0.0005,4,   0.0160,2,   0.0190,2,   3.9519,     -999.0,9,     -999.0,9,     -999.0,9,     -999.0,9,     -999.0,9,     -999.0,9,     -999.0,9,-999.0000, -999.00
33RO20071215,        P18,     122,          1,         16,      12051,2,20080129,       1606,   -42.0818,  -102.9995,       3829,  1134.3,   3.5874,  34.3639,2,  34.3645,2,    181.2,2,   181.1,2,   46.60,2,   34.10,2,    0.00,2,    2.31,2,-999.000,9,-999.000,9,-999.0000,9,  2219.4,2,  2310.7,2,   -999.0,9,  -999.00,   7.5811,2,    25.00,-999.000,9,-999.0000,9, -999.00,9, -999.00,9,  -999.0,9,-999.000,9,-999.000,-999.000,9,-999.000,9,   40.22,2,   35.56,2, -999.00,9, -999.00,9, -999.00,9,-999.000,   0.1009,2,   0.0663,2,   0.0341,2,   0.0235,2,   0.0139,2,   0.0045,2,   0.0002,3,   0.0156,2,   0.0180,2,   3.5043,     -999.0,9,     -999.0,9,     -999.0,9,     -999.0,9,     -999.0,9,     -999.0,9,     -999.0,9,-999.0000, -999.00
33RO20071215,        P18,     122,          1,         15,      12014,2,20080129,       1606,   -42.0818,  -102.9995,       3829,  1232.3,   3.3734,  34.4149,2,  34.4155,2,    162.8,2,   162.7,2,   57.50,2,   35.50,2,    0.00,2,    2.43,2,   0.183,2,   0.100,2,   0.0000,2,  -999.0,9,  -999.0,9,   -999.0,9,  -999.00,-999.0000,9,  -999.00,-999.000,9,-999.0000,9, -999.00,9, -999.00,9,  -999.0,9,-999.000,9,-999.000,-999.000,9,-999.000,9,   38.93,2,   37.01,2, -999.00,9, -999.00,9, -999.00,9,-999.000,   0.1082,2,   0.0720,2,   0.0376,2,   0.0259,2,   0.0154,2,   0.0051,2,   0.0002,3,   0.0154,2,   0.0175,2,   3.2841,     -999.0,9,     -999.0,9,     -999.0,9,     -999.0,9,     -999.0,9,     -999.0,9,     -999.0,9,-999.0000, -999.00
33RO20071215,        P18,     122,          1,         14,      12013,2,20080129,       1606,   -42.0818,  -102.9995,       3829,  1333.4,   3.2500,  34.4470,2,  34.5590,4,    151.8,2,   151.4,2,   64.50,2,   36.40,2,    0.00,2,    2.50,2,-999.000,9,-999.000,9,-999.0000,9,  2251.7,2,  2329.8,2,   -999.0,9,  -999.00,   7.5370,2,    25.00,-999.000,9,-999.0000,9, -999.00,9, -999.00,9,  -999.0,9,-999.000,9,-999.000,-999.000,9,-999.000,9,   37.81,3,   37.58,3, -999.00,9, -999.00,9, -999.00,9,-999.000,   0.1156,2,   0.0779,2,   0.0412,2,   0.0284,2,   0.0173,2,   0.0060,2,   0.0007,2,   0.0153,2,   0.0170,2,   3.1536,     -999.0,9,     -999.0,9,     -999.0,9,     -999.0,9,     -999.0,9,     -999.0,9,     -999.0,9,-999.0000, -999.00
33RO20071215,        P18,     122,          1,         13,      12012,2,20080129,       1606,   -42.0818,  -102.9995,       3829,  1468.2,   3.0322,  34.5016,2,  34.5023,2,    141.7,2,   141.4,2,   76.10,2,   37.00,2,    0.00,2,    2.55,2,   0.039,2,   0.023,2,   0.0000,2,  -999.0,9,  -999.0,9,   -999.0,9,  -999.00,-999.0000,9,  -999.00,-999.000,9,-999.0000,9, -999.00,9, -999.00,9,  -999.0,9,-999.000,9,-999.000,-999.000,9,-999.000,9,   37.70,2,   38.12,2, -999.00,9, -999.00,9, -999.00,9,-999.000,   0.1244,2,   0.0852,2,   0.0465,2,   0.0324,2,   0.0205,2,   0.0081,2,   0.0019,2,   0.0147,2,   0.0160,2,   2.9268,     -999.0,9,     -999.0,9,     -999.0,9,     -999.0,9,     -999.0,9,     -999.0,9,     -999.0,9,-999.0000, -999.00
33RO20071215,        P18,     122,          1,         12,      12031,2,20080129,       1606,   -42.0818,  -102.9995,       3829,  1666.2,   2.6876,  34.5581,2,  34.5583,2,    148.8,2,   148.3,2,   85.50,2,   36.10,2,    0.00,2,    2.48,2,-999.000,9,-999.000,9,-999.0000,9,  2272.8,6,  2355.2,2,   -999.0,9,  -999.00,   7.5400,2,    25.00,-999.000,9,-999.0000,9, -999.00,9, -999.00,9,  -999.0,9,-999.000,9,-999.000,-999.000,9,-999.000,9,   36.78,2,   37.74,2, -999.00,9, -999.00,9, -999.00,9,-999.000,   0.1178,2,   0.0792,2,   0.0415,2,   0.0279,2,   0.0166,2,   0.0053,2,   0.0002,3,   0.0158,2,   0.0175,2,   2.5697,     -999.0,9,     -999.0,9,     -999.0,9,     -999.0,9,     -999.0,9,     -999.0,9,     -999.0,9,-999.0000, -999.00