BOTTLE,20220818CCHSIOAMB
EXPOCODE,SECT_ID,STNNBR,CASTNO,SAMPNO,BTLNBR,BTLNBR_FLAG_W,DATE,TIME,LATITUDE,LONGITUDE,DEPTH,CTDPRS,CTDTMP,CTDSAL,CTDSAL_FLAG_W,SALNTY,SALNTY_FLAG_W,CTDOXY,CTDOXY_FLAG_W,OXYGEN,OXYGEN_FLAG_W,SILCAT,SILCAT_FLAG_W,NITRAT,NITRAT_FLAG_W,NITRIT,NITRIT_FLAG_W,PHSPHT,PHSPHT_FLAG_W,CFC-11,CFC-11_FLAG_W,CFC-12,CFC-12_FLAG_W,SF6,SF6_FLAG_W,TCARBN,TCARBN_FLAG_W,ALKALI,ALKALI_FLAG_W,FCO2,FCO2_FLAG_W,FCO2TMP,PH_SWS,PH_SWS_FLAG_W,PH_TMP,TRITUM,TRITUM_FLAG_W,HELIUM,HELIUM_FLAG_W,DELHE3,DELHE3_FLAG_W,DELC13,DELC13_FLAG_W,DELC14,DELC14_FLAG_W,NEON,NEON_FLAG_W,NEONER,CCL4,CCL4_FLAG_W,POC,POC_FLAG_W,DOC,DOC_FLAG_W,TDN,TDN_FLAG_W,DON,DON_FLAG_W,CHLORA,CHLORA_FLAG_W,ARGON,ARGON_FLAG_W,TRITER,CDOM325,CDOM325_FLAG_W,CDOM340,CDOM340_FLAG_W,CDOM380,CDOM380_FLAG_W,CDOM412,CDOM412_FLAG_W,CDOM443,CDOM443_FLAG_W,CDOM490,CDOM490_FLAG_W,CDOM555,CDOM555_FLAG_W,CDOMSL,CDOMSL_FLAG_W,CDOMSN,CDOMSN_FLAG_W,THETA,D18O_NO3,D18O_NO3_FLAG_W,CDOM2C,CDOM2C_FLAG_W,CDOM3C,CDOM3C_FLAG_W,LAB_DEN,LAB_DEN_FLAG_W,DELSI30,DELSI30_FLAG_W,N2,N2_FLAG_W,D15N_NO3,D15N_NO3_FLAG_W,HELIER,DELHER
,,,,,,,,,,,METERS,DBAR,ITS-90,PSS-78,,PSS-78,,UMOL/KG,,UMOL/KG,,UMOL/KG,,UMOL/KG,,UMOL/KG,,UMOL/KG,,PMOL/KG,,PMOL/KG,,FMOL/KG,,UMOL/KG,,UMOL/KG,,UATM,,DEG C,,,DEG C,TU,,NMOL/KG,,PERCNT,,/MILLE,,/MILLE,,NMOL/KG,,NMOL/KG,PMOL/KG,,UG/KG,,UMOL/KG,,UMOL/KG,,UMOL/KG,,UG/KG,,UMOL/KG,,TU,1/M,,1/M,,1/M,,1/M,,1/M,,1/M,,1/M,,1/NM,,1/NM,,DEG C,/MILLE,,,,,,,,/MILLE,,UMOL/KG,,/MILLE,,NMOL/KG,PERCNT
33RO20071215,        P18,     136,          1,         24,      11024,2,20080203,       0748,   -50.2495,  -102.9978,       4171,     4.9,   9.3856,  34.1714,2,  34.1695,2,    282.5,2,   282.7,2,    1.70,2,   16.30,2,    0.24,2,    1.18,2,   3.841,2,   2.183,2,   1.6502,2,  2095.8,6,  2275.7,2,   -999.0,9,  -999.00,   7.8882,2,    25.00,-999.000,9,-999.0000,9, -999.00,9, -999.00,9,  -999.0,9,-999.000,9,-999.000,-999.000,9,-999.000,9,   49.61,2,   21.15,2, -999.00,1, -999.00,9, -999.00,9,-999.000,-999.0000,9,-999.0000,9,-999.0000,9,-999.0000,9,-999.0000,9,-999.0000,9,-999.0000,9,-999.0000,9,-999.0000,9,   9.3851,     -999.0,9,     -999.0,9,     -999.0,9,     -999.0,9,     -999.0,1,     -999.0,9,     -999.0,9,-999.0000, -999.00
33RO20071215,        P18,     136,          1,         23,      11023,2,20080203,       0748,   -50.2495,  -102.9978,       4171,    25.9,   9.3734,  34.1712,2,  34.1695,2,    283.5,2,   282.6,2,    1.70,2,   16.40,2,    0.24,2,    1.18,2,   3.865,2,   2.198,2,   1.6995,2,  2096.3,2,  2281.4,2,   -999.0,9,  -999.00,   7.8793,2,    25.00,-999.000,9,-999.0000,9, -999.00,9, -999.00,9,  -999.0,9,-999.000,9,-999.000,-999.000,9,-999.000,9,   49.51,2,   20.70,2, -999.00,1, -999.00,9, -999.00,1,-999.000,-999.0000,9,-999.0000,9,-999.0000,9,-999.0000,9,-999.0000,9,-999.0000,9,-999.0000,9,-999.0000,9,-999.0000,9,   9.3706,     -999.0,1,     -999.0,9,     -999.0,9,     -999.0,9,     -999.0,9,     -999.0,1,     -999.0,9,-999.0000, -999.00
33RO20071215,        P18,     136,          1,         22,      11022,2,20080203,       0748,   -50.2495,  -102.9978,       4171,    50.3,   9.2609,  34.1704,2,  34.1688,2,    283.4,2,   283.5,2,    1.70,2,   16.40,2,    0.23,2,    1.18,2,   3.902,2,   2.206,2,   1.6858,2,  2096.3,2,  -999.0,5,   -999.0,9,  -999.00,-999.0000,9,  -999.00,-999.000,9,-999.0000,9, -999.00,9, -999.00,9,  -999.0,9,-999.000,9,-999.000,-999.000,9,-999.000,9,   48.86,2,   20.04,2, -999.00,1, -999.00,9, -999.00,1,-999.000,-999.0000,9,-999.0000,9,-999.0000,9,-999.0000,9,-999.0000,9,-999.0000,9,-999.0000,9,-999.0000,9,-999.0000,9,   9.2554,     -999.0,1,     -999.0,9,     -999.0,9,     -999.0,9,     -999.0,9,     -999.0,1,     -999.0,9,-999.0000, -999.00
33RO20071215,        P18,     136,          1,         21,      11021,2,20080203,       0748,   -50.2495,  -102.9978,       4171,    75.4,   8.6508,  34.1755,2,  34.1748,2,    286.3,2,   287.0,2,    1.80,2,   16.60,2,    0.22,2,    1.20,2,   4.005,2,   2.258,2,   1.6838,2,  2097.8,2,  2274.9,2,   -999.0,9,  -999.00,   7.8727,2,    25.00,-999.000,9,-999.0000,9, -999.00,9, -999.00,9,  -999.0,9,-999.000,9,-999.000,-999.000,9,-999.000,9,   48.85,2,   19.85,2, -999.00,1, -999.00,9, -999.00,1,-999.000,-999.0000,9,-999.0000,9,-999.0000,9,-999.0000,9,-999.0000,9,-999.0000,9,-999.0000,9,-999.0000,9,-999.0000,9,   8.6430,     -999.0,1,     -999.0,9,     -999.0,9,     -999.0,9,     -999.0,9,     -999.0,1,     -999.0,9,-999.0000, -999.00
33RO20071215,        P18,     136,          1,         20,      11020,2,20080203,       0748,   -50.2495,  -102.9978,       4171,    99.6,   7.3544,  34.1926,2,  34.1936,2,    291.7,2,   292.1,2,    3.10,2,   17.30,2,    0.25,2,    1.32,2,   4.231,2,   2.384,2,   1.7437,2,  2108.3,2,  2276.7,2,   -999.0,9,  -999.00,-999.0000,9,  -999.00,-999.000,9,-999.0000,9, -999.00,9, -999.00,9,  -999.0,9,-999.000,9,-999.000,-999.000,9,-999.000,9,   48.70,2,   20.00,2, -999.00,1, -999.00,9, -999.00,1,-999.000,-999.0000,9,-999.0000,9,-999.0000,9,-999.0000,9,-999.0000,9,-999.0000,9,-999.0000,9,-999.0000,9,-999.0000,9,   7.3450,     -999.0,1,     -999.0,9,     -999.0,9,     -999.0,9,     -999.0,1,     -999.0,1,     -999.0,9,-999.0000, -999.00
33RO20071215,        P18,     136,          1,         19,      11019,2,20080203,       0748,   -50.2495,  -102.9978,       4171,   125.6,   6.6628,  34.2139,2,  34.2128,2,    289.6,2,   289.4,2,    4.60,2,   18.40,2,    0.48,2,    1.39,2,   4.341,2,   2.421,2,   1.8326,2,  2116.1,6,  2275.6,2,   -999.0,9,  -999.00,   7.8311,2,    25.00,-999.000,9,-999.0000,9, -999.00,9, -999.00,9,  -999.0,9,-999.000,9,-999.000,-999.000,9,-999.000,9,   46.86,2,   21.41,2, -999.00,1, -999.00,9, -999.00,1,-999.000,-999.0000,9,-999.0000,9,-999.0000,9,-999.0000,9,-999.0000,9,-999.0000,9,-999.0000,9,-999.0000,9,-999.0000,9,   6.6516,     -999.0,1,     -999.0,9,     -999.0,9,     -999.0,9,     -999.0,9,     -999.0,1,     -999.0,9,-999.0000, -999.00
33RO20071215,        P18,     136,          1,         18,      11018,2,20080203,       0748,   -50.2495,  -102.9978,       4171,   175.2,   6.4583,  34.2336,2,  34.2333,2,    288.2,2,   288.3,2,    4.60,2,   19.50,2,    0.04,2,    1.38,2,   4.341,2,   2.417,2,   1.8305,2,  2117.2,2,  2277.7,2,   -999.0,9,  -999.00,-999.0000,9,  -999.00,-999.000,9,-999.0000,9, -999.00,9, -999.00,9,  -999.0,9,-999.000,9,-999.000,-999.000,9,-999.000,9,   46.07,2,   21.70,2, -999.00,1, -999.00,9, -999.00,9,-999.000,-999.0000,9,-999.0000,9,-999.0000,9,-999.0000,9,-999.0000,9,-999.0000,9,-999.0000,9,-999.0000,9,-999.0000,9,   6.4429,     -999.0,9,     -999.0,9,     -999.0,9,     -999.0,9,     -999.0,9,     -999.0,9,     -999.0,9,-999.0000, -999.00
33RO20071215,        P18,     136,          1,         17,      11017,2,20080203,       0748,   -50.2495,  -102.9978,       4171,   250.0,   6.3865,  34.2534,2,  34.2519,2,    282.5,2,   284.1,2,    5.30,2,   20.10,2,    0.01,2,    1.42,2,   4.284,2,   2.384,2,   1.7038,2,  2122.5,2,  2277.8,2,   -999.0,9,  -999.00,   7.8183,2,    25.00,-999.000,9,-999.0000,9, -999.00,9, -999.00,9,  -999.0,9,-999.000,9,-999.000,-999.000,9,-999.000,9,   45.44,2,   22.04,2, -999.00,1, -999.00,9, -999.00,9,-999.000,-999.0000,9,-999.0000,9,-999.0000,9,-999.0000,9,-999.0000,9,-999.0000,9,-999.0000,9,-999.0000,9,-999.0000,9,   6.3644,     -999.0,9,     -999.0,9,     -999.0,9,     -999.0,9,     -999.0,9,     -999.0,9,     -999.0,9,-999.0000, -999.00
33RO20071215,        P18,     136,          1,         16,      11016,2,20080203,       0748,   -50.2495,  -102.9978,       4171,   325.1,   6.4313,  34.3020,2,  34.3001,2,    272.1,2,   273.9,2,    7.00,2,   21.20,2,    0.01,2,    1.48,2,   4.168,2,   2.300,2,   1.5300,2,  2130.8,2,  2281.7,2,   -999.0,9,  -999.00,-999.0000,9,  -999.00,-999.000,9,-999.0000,9, -999.00,9, -999.00,9,  -999.0,9,-999.000,9,-999.000,-999.000,9,-999.000,9,   45.14,2,   22.89,2, -999.00,1, -999.00,9, -999.00,9,-999.000,-999.0000,9,-999.0000,9,-999.0000,9,-999.0000,9,-999.0000,9,-999.0000,9,-999.0000,9,-999.0000,9,-999.0000,9,   6.4023,     -999.0,9,     -999.0,9,     -999.0,9,     -999.0,9,     -999.0,1,     -999.0,9,     -999.0,9,-999.0000, -999.00
33RO20071215,        P18,     136,          1,         15,      11015,2,20080203,       0748,   -50.2495,  -102.9978,       4171,   401.2,   6.2971,  34.2971,2,  34.2947,2,    273.7,2,   275.6,2,    7.20,2,   21.40,2,    0.01,2,    1.50,2,   4.178,2,   2.294,2,   1.5174,2,  2131.1,2,  2280.5,2,   -999.0,9,  -999.00,   7.7433,2,    25.00,-999.000,9,-999.0000,9, -999.00,9, -999.00,9,  -999.0,9,-999.000,9,-999.000,-999.000,9,-999.000,9,   44.63,2,   22.91,2, -999.00,1, -999.00,9, -999.00,9,-999.000,-999.0000,9,-999.0000,9,-999.0000,9,-999.0000,9,-999.0000,9,-999.0000,9,-999.0000,9,-999.0000,9,-999.0000,9,   6.2615,     -999.0,9,     -999.0,9,     -999.0,9,     -999.0,9,     -999.0,9,     -999.0,9,     -999.0,9,-999.0000, -999.00
33RO20071215,        P18,     136,          1,         14,      11014,2,20080203,       0748,   -50.2495,  -102.9978,       4171,   500.3,   6.0482,  34.2735,2,  34.2718,2,    270.5,2,   271.6,2,    8.30,2,   22.40,2,    0.01,2,    1.56,2,   4.085,2,   2.243,2,   1.3264,2,  2135.9,2,  2281.0,2,   -999.0,9,  -999.00,-999.0000,9,  -999.00,-999.000,9,-999.0000,9, -999.00,9, -999.00,9,  -999.0,9,-999.000,9,-999.000,-999.000,9,-999.000,9,   44.00,2,   23.88,2, -999.00,1, -999.00,9, -999.00,9,-999.000,-999.0000,9,-999.0000,9,-999.0000,9,-999.0000,9,-999.0000,9,-999.0000,9,-999.0000,9,-999.0000,9,-999.0000,9,   6.0045,     -999.0,9,     -999.0,9,     -999.0,9,     -999.0,9,     -999.0,9,     -999.0,9,     -999.0,9,-999.0000, -999.00
33RO20071215,        P18,     136,          1,         13,      11013,2,20080203,       0748,   -50.2495,  -102.9978,       4171,   651.1,   5.5849,  34.2559,2,  34.2547,2,    250.0,2,   249.4,2,   13.10,2,   25.30,2,    0.00,2,    1.75,2,   3.501,2,   1.857,2,   1.0396,2,  2151.9,2,  2283.4,2,   -999.0,9,  -999.00,   7.6984,2,    25.00,-999.000,9,-999.0000,9, -999.00,9, -999.00,9,  -999.0,9,-999.000,9,-999.000,-999.000,9,-999.000,9,   43.26,2,   26.84,2, -999.00,1, -999.00,9, -999.00,9,-999.000,-999.0000,9,-999.0000,9,-999.0000,9,-999.0000,9,-999.0000,9,-999.0000,9,-999.0000,9,-999.0000,9,-999.0000,9,   5.5296,     -999.0,9,     -999.0,9,     -999.0,9,     -999.0,9,     -999.0,1,     -999.0,9,     -999.0,9,-999.0000, -999.00
33RO20071215,        P18,     136,          1,         12,      11012,2,20080203,       0748,   -50.2495,  -102.9978,       4171,   800.4,   5.0346,  34.2833,2,  34.2835,2,    223.1,2,   222.9,2,   21.50,2,   28.60,2,    0.00,2,    1.97,2,   2.713,2,   1.401,2,   0.6485,2,  2174.9,2,  2290.6,2,   -999.0,9,  -999.00,-999.0000,9,  -999.00,-999.000,9,-999.0000,9, -999.00,9, -999.00,9,  -999.0,9,-999.000,9,-999.000,-999.000,9,-999.000,9,   42.57,2,   29.69,2, -999.00,1, -999.00,9, -999.00,9,-999.000,-999.0000,9,-999.0000,9,-999.0000,9,-999.0000,9,-999.0000,9,-999.0000,9,-999.0000,9,-999.0000,9,-999.0000,9,   4.9691,     -999.0,9,     -999.0,9,     -999.0,9,     -999.0,9,     -999.0,9,     -999.0,9,     -999.0,9,-999.0000, -999.00
33RO20071215,        P18,     136,          1,         11,      11010,2,20080203,       0748,   -50.2495,  -102.9978,       4171,   950.1,   4.3030,  34.3067,2,  34.3052,2,    210.9,2,   210.6,2,   31.30,2,   30.90,2,    0.00,2,    2.13,2,   2.196,2,   1.108,2,   0.5478,2,  2194.4,2,  2301.1,2,   -999.0,9,  -999.00,   7.6216,2,    25.00,-999.000,9,-999.0000,9, -999.00,9, -999.00,9,  -999.0,9,-999.000,9,-999.000,-999.000,9,-999.000,9,   41.92,2,   32.51,2, -999.00,1, -999.00,9, -999.00,9,-999.000,-999.0000,9,-999.0000,9,-999.0000,9,-999.0000,9,-999.0000,9,-999.0000,9,-999.0000,9,-999.0000,9,-999.0000,9,   4.2295,     -999.0,9,     -999.0,9,     -999.0,9,     -999.0,9,     -999.0,1,     -999.0,9,     -999.0,9,-999.0000, -999.00
33RO20071215,        P18,     136,          1,         10,      11011,2,20080203,       0748,   -50.2495,  -102.9978,       4171,  1098.9,   3.6562,  34.3390,2,  34.3375,2,    200.5,2,   201.3,2,   41.80,2,   32.60,2,    0.00,2,    2.26,2,   1.662,2,   0.363,4,   0.2875,2,  2210.2,2,  2311.1,2,   -999.0,9,  -999.00,-999.0000,9,  -999.00,-999.000,9,-999.0000,9, -999.00,9, -999.00,9,  -999.0,9,-999.000,9,-999.000,-999.000,9,-999.000,9,   40.62,2,   34.24,2, -999.00,1, -999.00,9, -999.00,9,-999.000,-999.0000,9,-999.0000,9,-999.0000,9,-999.0000,9,-999.0000,9,-999.0000,9,-999.0000,9,-999.0000,9,-999.0000,9,   3.5755,     -999.0,9,     -999.0,9,     -999.0,9,     -999.0,9,     -999.0,1,     -999.0,9,     -999.0,9,-999.0000, -999.00
33RO20071215,        P18,     136,          1,          9,      11009,2,20080203,       0748,   -50.2495,  -102.9978,       4171,  1301.0,   3.0642,  34.4069,2,  34.4055,2,    187.6,2,   187.8,2,   55.40,2,   34.10,2,    0.00,2,    2.36,2,   1.092,6,   0.554,6,   0.1339,6,  2230.5,2,  2318.1,2,   -999.0,9,  -999.00,   7.5795,2,    25.00,-999.000,9,-999.0000,9, -999.00,9, -999.00,9,  -999.0,9,-999.000,9,-999.000,-999.000,9,-999.000,9,   40.20,2,   35.32,2, -999.00,1, -999.00,9, -999.00,9,-999.000,-999.0000,9,-999.0000,9,-999.0000,9,-999.0000,9,-999.0000,9,-999.0000,9,-999.0000,9,-999.0000,9,-999.0000,9,   2.9723,     -999.0,9,     -999.0,9,     -999.0,9,     -999.0,9,     -999.0,9,     -999.0,9,     -999.0,9,-999.0000, -999.00
33RO20071215,        P18,     136,          1,          8,      11008,2,20080203,       0748,   -50.2495,  -102.9978,       4171,  1599.0,   2.6006,  34.5434,2,  34.5430,2,    171.3,2,   171.4,2,   73.70,2,   34.70,2,    0.00,2,    2.41,2,   0.430,2,   0.226,2,   0.0000,2,  2251.6,2,  2339.5,2,   -999.0,9,  -999.00,-999.0000,9,  -999.00,-999.000,9,-999.0000,9, -999.00,9, -999.00,9,  -999.0,9,-999.000,9,-999.000,-999.000,9,-999.000,9,   40.01,2,   35.78,2, -999.00,1, -999.00,9, -999.00,9,-999.000,-999.0000,9,-999.0000,9,-999.0000,9,-999.0000,9,-999.0000,9,-999.0000,9,-999.0000,9,-999.0000,9,-999.0000,9,   2.4894,     -999.0,9,     -999.0,9,     -999.0,9,     -999.0,9,     -999.0,1,     -999.0,9,     -999.0,9,-999.0000, -999.00
33RO20071215,        P18,     136,          1,          7,      11007,2,20080203,       0748,   -50.2495,  -102.9978,       4171,  1998.5,   2.3022,  34.6557,2,  34.6574,2,    169.8,2,   170.0,2,   87.20,2,   33.80,2,    0.00,2,    2.35,2,   0.136,2,   0.072,2,   0.0000,2,  2263.0,6,  2358.2,2,   -999.0,9,  -999.00,   7.5694,2,    25.00,-999.000,9,-999.0000,9, -999.00,9, -999.00,9,  -999.0,9,-999.000,9,-999.000,-999.000,9,-999.000,9,   39.29,2,   34.95,2, -999.00,1, -999.00,9, -999.00,9,-999.000,-999.0000,9,-999.0000,9,-999.0000,9,-999.0000,9,-999.0000,9,-999.0000,9,-999.0000,9,-999.0000,9,-999.0000,9,   2.1612,     -999.0,9,     -999.0,9,     -999.0,9,     -999.0,9,     -999.0,1,     -999.0,9,     -999.0,9,-999.0000, -999.00
33RO20071215,        P18,     136,          1,          6,      11006,2,20080203,       0748,   -50.2495,  -102.9978,       4171,  2400.2,   1.9982,  34.7008,2,  34.7007,2,    173.4,2,   173.9,2,   99.40,2,   33.40,2,    0.00,2,    2.32,2,   0.041,2,   0.022,2,   0.0000,2,  2269.6,2,  2366.5,2,   -999.0,9,  -999.00,-999.0000,9,  -999.00,-999.000,9,-999.0000,9, -999.00,9, -999.00,9,  -999.0,9,-999.000,9,-999.000,   0.069,3,-999.000,9,   39.46,2,   34.56,2, -999.00,1, -999.00,9, -999.00,9,-999.000,-999.0000,9,-999.0000,9,-999.0000,9,-999.0000,9,-999.0000,9,-999.0000,9,-999.0000,9,-999.0000,9,-999.0000,9,   1.8268,     -999.0,9,     -999.0,9,     -999.0,9,     -999.0,9,     -999.0,1,     -999.0,9,     -999.0,9,-999.0000, -999.00
33RO20071215,        P18,     136,          1,          5,      11005,2,20080203,       0748,   -50.2495,  -102.9978,       4171,  2799.5,   1.7160,  34.7087,2,  34.7080,2,    177.6,2,   177.2,2,  110.10,2,   33.40,2,    0.00,2,    2.32,2,   0.017,2,   0.010,2,   0.0000,2,  2275.4,2,  2375.6,2,   -999.0,9,  -999.00,   7.6054,2,    25.00,-999.000,9,-999.0000,9, -999.00,9, -999.00,9,  -999.0,9,-999.000,9,-999.000,   0.038,3,-999.000,9,   39.79,2,   34.40,2, -999.00,1, -999.00,9, -999.00,9,-999.000,-999.0000,9,-999.0000,9,-999.0000,9,-999.0000,9,-999.0000,9,-999.0000,9,-999.0000,9,-999.0000,9,-999.0000,9,   1.5133,     -999.0,9,     -999.0,9,     -999.0,9,     -999.0,9,     -999.0,1,     -999.0,9,     -999.0,9,-999.0000, -999.00
33RO20071215,        P18,     136,          1,          4,      11004,2,20080203,       0748,   -50.2495,  -102.9978,       4171,  3200.7,   1.5683,  34.7161,2,  34.7145,2,    184.9,2,   186.4,2,  112.30,6,   33.10,6,    0.00,6,    2.29,2,   0.018,2,   0.010,2,   0.0000,2,  2270.4,2,  2373.6,2,   -999.0,9,  -999.00,-999.0000,9,  -999.00,-999.000,9,-999.0000,9, -999.00,9, -999.00,9,  -999.0,9,-999.000,9,-999.000,   0.040,3,-999.000,9,   39.32,2,   34.41,2, -999.00,1, -999.00,9, -999.00,9,-999.000,-999.0000,9,-999.0000,9,-999.0000,9,-999.0000,9,-999.0000,9,-999.0000,9,-999.0000,9,-999.0000,9,-999.0000,9,   1.3303,     -999.0,9,     -999.0,9,     -999.0,9,     -999.0,9,     -999.0,9,     -999.0,9,     -999.0,9,-999.0000, -999.00
33RO20071215,        P18,     136,          1,          3,      11003,2,20080203,       0748,   -50.2495,  -102.9978,       4171,  3599.5,   1.1891,  34.7147,2,  34.7139,2,    194.6,2,   193.4,2,  122.50,6,   33.10,6,    0.00,6,    2.29,2,   0.009,2,   0.006,2,   0.0000,2,  2270.8,2,  2377.7,2,   -999.0,9,  -999.00,   7.6179,2,    25.00,-999.000,9,-999.0000,9, -999.00,9, -999.00,9,  -999.0,9,-999.000,9,-999.000,   0.030,3,-999.000,9,   39.34,2,   34.53,2, -999.00,1, -999.00,9, -999.00,9,-999.000,-999.0000,9,-999.0000,9,-999.0000,9,-999.0000,9,-999.0000,9,-999.0000,9,-999.0000,9,-999.0000,9,-999.0000,9,   0.9205,     -999.0,9,     -999.0,9,     -999.0,9,     -999.0,9,     -999.0,1,     -999.0,9,     -999.0,9,-999.0000, -999.00
33RO20071215,        P18,     136,          1,          2,      11002,2,20080203,       0748,   -50.2495,  -102.9978,       4171,  3998.9,   0.8380,  34.7109,2,  34.7106,2,    203.0,2,   203.8,2,  132.10,6,   33.20,6,    0.00,6,    2.29,2,   0.006,6,   0.004,6,   0.0000,6,  2270.4,2,  2379.0,2,   -999.0,9,  -999.00,-999.0000,9,  -999.00,-999.000,9,-999.0000,9, -999.00,9, -999.00,9,  -999.0,9,-999.000,9,-999.000,   0.044,3,-999.000,9,   38.38,2,   34.46,2, -999.00,1, -999.00,9, -999.00,9,-999.000,-999.0000,9,-999.0000,9,-999.0000,9,-999.0000,9,-999.0000,9,-999.0000,9,-999.0000,9,-999.0000,9,-999.0000,9,   0.5377,     -999.0,9,     -999.0,9,     -999.0,9,     -999.0,9,     -999.0,1,     -999.0,9,     -999.0,9,-999.0000, -999.00
33RO20071215,        P18,     136,          1,          1,      11001,2,20080203,       0748,   -50.2495,  -102.9978,       4171,  4238.8,   0.7900,  34.7100,2,  34.7117,2,    205.1,2,   204.2,2,  134.30,2,   33.20,2,    0.01,2,    2.29,2,   0.006,2,   0.005,2,   0.0000,2,  2272.7,6,  2383.2,2,   -999.0,9,  -999.00,   7.6130,2,    25.00,-999.000,9,-999.0000,9, -999.00,9, -999.00,9,  -999.0,9,-999.000,9,-999.000,   0.045,3,-999.000,9,   39.87,2,   34.38,2, -999.00,1, -999.00,9, -999.00,9,-999.000,-999.0000,9,-999.0000,9,-999.0000,9,-999.0000,9,-999.0000,9,-999.0000,9,-999.0000,9,-999.0000,9,-999.0000,9,   0.4656,     -999.0,9,     -999.0,9,     -999.0,9,     -999.0,9,     -999.0,9,     -999.0,9,     -999.0,9,-999.0000, -999.00