BOTTLE,20220818CCHSIOAMB
EXPOCODE,SECT_ID,STNNBR,CASTNO,SAMPNO,BTLNBR,BTLNBR_FLAG_W,DATE,TIME,LATITUDE,LONGITUDE,DEPTH,CTDPRS,CTDTMP,CTDSAL,CTDSAL_FLAG_W,SALNTY,SALNTY_FLAG_W,CTDOXY,CTDOXY_FLAG_W,OXYGEN,OXYGEN_FLAG_W,SILCAT,SILCAT_FLAG_W,NITRAT,NITRAT_FLAG_W,NITRIT,NITRIT_FLAG_W,PHSPHT,PHSPHT_FLAG_W,CFC-11,CFC-11_FLAG_W,CFC-12,CFC-12_FLAG_W,SF6,SF6_FLAG_W,TCARBN,TCARBN_FLAG_W,ALKALI,ALKALI_FLAG_W,FCO2,FCO2_FLAG_W,FCO2TMP,PH_SWS,PH_SWS_FLAG_W,PH_TMP,TRITUM,TRITUM_FLAG_W,HELIUM,HELIUM_FLAG_W,DELHE3,DELHE3_FLAG_W,DELC13,DELC13_FLAG_W,DELC14,DELC14_FLAG_W,NEON,NEON_FLAG_W,NEONER,CCL4,CCL4_FLAG_W,POC,POC_FLAG_W,DOC,DOC_FLAG_W,TDN,TDN_FLAG_W,DON,DON_FLAG_W,CHLORA,CHLORA_FLAG_W,ARGON,ARGON_FLAG_W,TRITER,CDOM325,CDOM325_FLAG_W,CDOM340,CDOM340_FLAG_W,CDOM380,CDOM380_FLAG_W,CDOM412,CDOM412_FLAG_W,CDOM443,CDOM443_FLAG_W,CDOM490,CDOM490_FLAG_W,CDOM555,CDOM555_FLAG_W,CDOMSL,CDOMSL_FLAG_W,CDOMSN,CDOMSN_FLAG_W,THETA,D18O_NO3,D18O_NO3_FLAG_W,CDOM2C,CDOM2C_FLAG_W,CDOM3C,CDOM3C_FLAG_W,LAB_DEN,LAB_DEN_FLAG_W,DELSI30,DELSI30_FLAG_W,N2,N2_FLAG_W,D15N_NO3,D15N_NO3_FLAG_W,HELIER,DELHER
,,,,,,,,,,,METERS,DBAR,ITS-90,PSS-78,,PSS-78,,UMOL/KG,,UMOL/KG,,UMOL/KG,,UMOL/KG,,UMOL/KG,,UMOL/KG,,PMOL/KG,,PMOL/KG,,FMOL/KG,,UMOL/KG,,UMOL/KG,,UATM,,DEG C,,,DEG C,TU,,NMOL/KG,,PERCNT,,/MILLE,,/MILLE,,NMOL/KG,,NMOL/KG,PMOL/KG,,UG/KG,,UMOL/KG,,UMOL/KG,,UMOL/KG,,UG/KG,,UMOL/KG,,TU,1/M,,1/M,,1/M,,1/M,,1/M,,1/M,,1/M,,1/NM,,1/NM,,DEG C,/MILLE,,,,,,,,/MILLE,,UMOL/KG,,/MILLE,,NMOL/KG,PERCNT
33RO20071215,        P18,      19,          1,         24,      11024,2,20071222,       0439,    13.8333,  -110.0008,       3519,    10.0,  27.1129,  33.8110,2,  33.8149,2,    203.0,2,   201.9,2,    1.50,2,    0.10,2,    0.00,2,    0.13,2,   1.679,6,   1.036,6,   1.0400,6,  1927.1,6,  2238.2,2,    283.9,2,    20.00,   8.0758,2,    25.00,-999.000,9,-999.0000,9, -999.00,9, -999.00,9,  -999.0,9,-999.000,9,-999.000,-999.000,9,-999.000,9, -999.00,9, -999.00,9, -999.00,9, -999.00,9, -999.00,9,-999.000,-999.0000,9,-999.0000,9,-999.0000,9,-999.0000,9,-999.0000,9,-999.0000,9,-999.0000,9,-999.0000,9,-999.0000,9,  27.1106,     -999.0,9,     -999.0,9,     -999.0,9,     -999.0,9,     -999.0,9,     -999.0,9,     -999.0,9,-999.0000, -999.00
33RO20071215,        P18,      19,          1,         23,      11023,2,20071222,       0439,    13.8333,  -110.0008,       3519,    25.5,  27.1083,  33.8149,2,  33.8154,2,    203.4,2,   201.9,2,    1.40,2,    0.20,2,    0.01,2,    0.15,2,   1.690,2,   1.001,2,   0.7908,2,  1926.3,2,  2233.0,2,    286.8,2,    20.00,   8.0705,2,    25.00,-999.000,9,-999.0000,9, -999.00,9, -999.00,9,  -999.0,9,-999.000,9,-999.000,-999.000,9,-999.000,9, -999.00,9, -999.00,9, -999.00,9, -999.00,9, -999.00,9,-999.000,-999.0000,9,-999.0000,9,-999.0000,9,-999.0000,9,-999.0000,9,-999.0000,9,-999.0000,9,-999.0000,9,-999.0000,9,  27.1025,     -999.0,9,     -999.0,9,     -999.0,9,     -999.0,9,     -999.0,9,     -999.0,9,     -999.0,9,-999.0000, -999.00
33RO20071215,        P18,      19,          1,         22,      11022,2,20071222,       0439,    13.8333,  -110.0008,       3519,    50.0,  22.8500,  34.2907,2,  34.3037,2,    133.8,2,   129.9,2,    5.50,2,    8.80,2,    0.23,2,    0.95,2,   1.647,2,   1.033,2,   1.0343,2,  2072.3,2,  2271.6,2,    535.5,2,    20.00,   7.8500,2,    25.00,-999.000,9,-999.0000,9, -999.00,9, -999.00,9,  -999.0,9,-999.000,9,-999.000,-999.000,9,-999.000,9, -999.00,9, -999.00,9, -999.00,9, -999.00,9, -999.00,9,-999.000,-999.0000,9,-999.0000,9,-999.0000,9,-999.0000,9,-999.0000,9,-999.0000,9,-999.0000,9,-999.0000,9,-999.0000,9,  22.8399,     -999.0,9,     -999.0,9,     -999.0,9,     -999.0,9,     -999.0,9,     -999.0,9,     -999.0,9,-999.0000, -999.00
33RO20071215,        P18,      19,          1,         21,      11021,2,20071222,       0439,    13.8333,  -110.0008,       3519,    75.6,  15.6364,  34.7322,2,  34.7358,2,      4.7,2,     3.7,2,   20.50,2,   26.80,2,    0.26,2,    2.36,2,   1.248,2,   0.698,2,   0.3533,2,  2235.2,2,  2293.1,2,   1474.2,2,    20.00,   7.4736,2,    25.00,-999.000,9,-999.0000,9, -999.00,9, -999.00,9,  -999.0,9,-999.000,9,-999.000,-999.000,9,-999.000,9, -999.00,9, -999.00,9, -999.00,9, -999.00,9, -999.00,9,-999.000,-999.0000,9,-999.0000,9,-999.0000,9,-999.0000,9,-999.0000,9,-999.0000,9,-999.0000,9,-999.0000,9,-999.0000,9,  15.6247,     -999.0,9,     -999.0,9,     -999.0,9,     -999.0,9,     -999.0,9,     -999.0,9,     -999.0,9,-999.0000, -999.00
33RO20071215,        P18,      19,          1,         20,      11020,2,20071222,       0439,    13.8333,  -110.0008,       3519,   110.2,  13.6607,  34.8434,2,  34.8422,2,      3.8,2,     3.7,2,   24.40,2,   28.10,2,    0.73,2,    2.32,2,   1.194,2,   0.622,2,   0.2192,2,  2243.9,2,  2299.2,2,   1512.5,6,    20.00,   7.4648,2,    25.00,-999.000,9,-999.0000,9, -999.00,9, -999.00,9,  -999.0,9,-999.000,9,-999.000,-999.000,9,-999.000,9, -999.00,9, -999.00,9, -999.00,9, -999.00,9, -999.00,9,-999.000,-999.0000,9,-999.0000,9,-999.0000,9,-999.0000,9,-999.0000,9,-999.0000,9,-999.0000,9,-999.0000,9,-999.0000,9,  13.6451,     -999.0,9,     -999.0,9,     -999.0,9,     -999.0,9,     -999.0,9,     -999.0,9,     -999.0,9,-999.0000, -999.00
33RO20071215,        P18,      19,          1,         19,      11019,2,20071222,       0439,    13.8333,  -110.0008,       3519,   125.3,  13.4111,  34.8453,2,  34.8452,2,      3.8,2,     3.7,2,   25.10,2,   28.50,2,    0.81,2,    2.34,2,-999.000,9,-999.000,9,-999.0000,9,  2246.8,2,  2298.7,2,   1520.4,2,    20.00,   7.4614,2,    25.00,-999.000,9,-999.0000,9, -999.00,9, -999.00,9,  -999.0,9,-999.000,9,-999.000,-999.000,9,-999.000,9, -999.00,9, -999.00,9, -999.00,9, -999.00,9, -999.00,9,-999.000,-999.0000,9,-999.0000,9,-999.0000,9,-999.0000,9,-999.0000,9,-999.0000,9,-999.0000,9,-999.0000,9,-999.0000,9,  13.3936,     -999.0,9,     -999.0,9,     -999.0,9,     -999.0,9,     -999.0,9,     -999.0,9,     -999.0,9,-999.0000, -999.00
33RO20071215,        P18,      19,          1,         18,      11018,2,20071222,       0439,    13.8333,  -110.0008,       3519,   149.9,  12.9990,  34.8418,2,  34.8411,2,      3.7,2,     2.9,2,   26.00,2,   29.40,2,    0.46,2,    2.34,2,   0.994,2,   0.519,2,   0.2316,2,  2249.7,2,  2327.3,4,   1542.9,2,    20.00,   7.4545,2,    25.00,-999.000,9,-999.0000,9, -999.00,9, -999.00,9,  -999.0,9,-999.000,9,-999.000,-999.000,9,-999.000,9, -999.00,9, -999.00,9, -999.00,9, -999.00,9, -999.00,9,-999.000,-999.0000,9,-999.0000,9,-999.0000,9,-999.0000,9,-999.0000,9,-999.0000,9,-999.0000,9,-999.0000,9,-999.0000,9,  12.9784,     -999.0,9,     -999.0,9,     -999.0,9,     -999.0,9,     -999.0,9,     -999.0,9,     -999.0,9,-999.0000, -999.00
33RO20071215,        P18,      19,          1,         17,      11017,2,20071222,       0439,    13.8333,  -110.0008,       3519,   199.8,  12.3047,  34.8083,2,  34.8071,2,      3.6,2,     2.7,2,   28.20,2,   29.80,2,    0.04,2,    2.39,2,   0.765,6,   0.405,6,   0.1534,6,  2257.1,2,  2301.0,2,   1600.7,2,    20.00,   7.4458,2,    25.00,-999.000,9,-999.0000,9, -999.00,9, -999.00,9,  -999.0,9,-999.000,9,-999.000,-999.000,9,-999.000,9, -999.00,9, -999.00,9, -999.00,9, -999.00,9, -999.00,9,-999.000,-999.0000,9,-999.0000,9,-999.0000,9,-999.0000,9,-999.0000,9,-999.0000,9,-999.0000,9,-999.0000,9,-999.0000,9,  12.2783,     -999.0,9,     -999.0,9,     -999.0,9,     -999.0,9,     -999.0,9,     -999.0,9,     -999.0,9,-999.0000, -999.00
33RO20071215,        P18,      19,          1,         16,      11016,2,20071222,       0439,    13.8333,  -110.0008,       3519,   275.7,  11.2769,  34.7465,2,  34.7468,2,      3.4,2,     3.6,2,   32.70,2,   24.80,2,    2.03,2,    2.55,2,-999.000,9,-999.000,9,-999.0000,9,  2273.1,2,  2307.0,2,   -999.0,9,  -999.00,   7.4137,2,    25.00,-999.000,9,-999.0000,9, -999.00,9, -999.00,9,  -999.0,9,-999.000,9,-999.000,-999.000,9,-999.000,9, -999.00,9, -999.00,9, -999.00,9, -999.00,9, -999.00,9,-999.000,-999.0000,9,-999.0000,9,-999.0000,9,-999.0000,9,-999.0000,9,-999.0000,9,-999.0000,9,-999.0000,9,-999.0000,9,  11.2423,     -999.0,9,     -999.0,9,     -999.0,9,     -999.0,9,     -999.0,9,     -999.0,9,     -999.0,9,-999.0000, -999.00
33RO20071215,        P18,      19,          1,         15,      11015,2,20071222,       0439,    13.8333,  -110.0008,       3519,   350.1,  10.4232,  34.6962,2,  34.6952,2,      3.5,2,     2.9,2,   37.50,2,   25.80,2,    1.01,2,    2.66,2,   0.199,2,   0.111,2,   0.0644,2,  2282.5,2,  2310.8,2,   -999.0,9,  -999.00,   7.3925,2,    25.00,-999.000,9,-999.0000,9, -999.00,9, -999.00,9,  -999.0,9,-999.000,9,-999.000,-999.000,9,-999.000,9, -999.00,9, -999.00,9, -999.00,9, -999.00,9, -999.00,9,-999.000,-999.0000,9,-999.0000,9,-999.0000,9,-999.0000,9,-999.0000,9,-999.0000,9,-999.0000,9,-999.0000,9,-999.0000,9,  10.3813,     -999.0,9,     -999.0,9,     -999.0,9,     -999.0,9,     -999.0,9,     -999.0,9,     -999.0,9,-999.0000, -999.00
33RO20071215,        P18,      19,          1,         14,      11014,2,20071222,       0439,    13.8333,  -110.0008,       3519,   425.4,   9.2696,  34.6178,2,  34.6168,2,      3.5,2,     3.0,2,   43.20,2,   32.70,2,    0.04,2,    2.78,2,-999.000,9,-999.000,9,-999.0000,9,  2288.5,2,  2310.8,2,   1929.9,2,    20.00,   7.3705,2,    25.00,-999.000,9,-999.0000,9, -999.00,9, -999.00,9,  -999.0,9,-999.000,9,-999.000,-999.000,9,-999.000,9, -999.00,9, -999.00,9, -999.00,9, -999.00,9, -999.00,9,-999.000,-999.0000,9,-999.0000,9,-999.0000,9,-999.0000,9,-999.0000,9,-999.0000,9,-999.0000,9,-999.0000,9,-999.0000,9,   9.2221,     -999.0,9,     -999.0,9,     -999.0,9,     -999.0,9,     -999.0,9,     -999.0,9,     -999.0,9,-999.0000, -999.00
33RO20071215,        P18,      19,          1,         13,      11013,2,20071222,       0439,    13.8333,  -110.0008,       3519,   499.6,   8.2499,  34.5795,2,  34.5777,2,      3.6,2,     3.7,2,   53.80,2,   33.60,2,    0.01,2,    2.95,2,   0.025,2,   0.015,2,   0.0000,2,  2302.2,2,  2321.5,2,   -999.0,9,  -999.00,   7.3601,2,    25.00,-999.000,9,-999.0000,9, -999.00,9, -999.00,9,  -999.0,9,-999.000,9,-999.000,-999.000,9,-999.000,9, -999.00,9, -999.00,9, -999.00,9, -999.00,9, -999.00,9,-999.000,-999.0000,9,-999.0000,9,-999.0000,9,-999.0000,9,-999.0000,9,-999.0000,9,-999.0000,9,-999.0000,9,-999.0000,9,   8.1977,     -999.0,9,     -999.0,9,     -999.0,9,     -999.0,9,     -999.0,9,     -999.0,9,     -999.0,9,-999.0000, -999.00
33RO20071215,        P18,      19,          1,         12,      11012,2,20071222,       0439,    13.8333,  -110.0008,       3519,   600.0,   7.0595,  34.5495,2,  34.5486,2,      3.8,2,     3.6,2,   65.80,2,   37.70,2,    0.00,2,    3.09,2,-999.000,9,-999.000,9,-999.0000,9,  2316.6,2,  2333.3,2,   -999.0,9,  -999.00,   7.3413,2,    25.00,-999.000,9,-999.0000,9, -999.00,9, -999.00,9,  -999.0,9,-999.000,9,-999.000,-999.000,9,-999.000,9, -999.00,9, -999.00,9, -999.00,9, -999.00,9, -999.00,9,-999.000,-999.0000,9,-999.0000,9,-999.0000,9,-999.0000,9,-999.0000,9,-999.0000,9,-999.0000,9,-999.0000,9,-999.0000,9,   7.0018,     -999.0,9,     -999.0,9,     -999.0,9,     -999.0,9,     -999.0,9,     -999.0,9,     -999.0,9,-999.0000, -999.00
33RO20071215,        P18,      19,          1,         11,      11010,2,20071222,       0439,    13.8333,  -110.0008,       3519,   749.8,   5.7506,  34.5342,2,  34.5335,2,      6.2,2,     6.0,2,   81.00,2,   43.10,2,    0.00,2,    3.23,2,-999.000,9,-999.000,9,-999.0000,9,  2333.5,2,  2310.2,4,   -999.0,9,  -999.00,   7.3347,2,    25.00,-999.000,9,-999.0000,9, -999.00,9, -999.00,9,  -999.0,9,-999.000,9,-999.000,-999.000,9,-999.000,9, -999.00,9, -999.00,9, -999.00,9, -999.00,9, -999.00,9,-999.000,-999.0000,9,-999.0000,9,-999.0000,9,-999.0000,9,-999.0000,9,-999.0000,9,-999.0000,9,-999.0000,9,-999.0000,9,   5.6852,     -999.0,9,     -999.0,9,     -999.0,9,     -999.0,9,     -999.0,9,     -999.0,9,     -999.0,9,-999.0000, -999.00
33RO20071215,        P18,      19,          1,         10,      11011,2,20071222,       0439,    13.8333,  -110.0008,       3519,   899.9,   4.9867,  34.5418,2,  34.5421,2,     11.5,2,    10.9,2,   92.80,2,   44.70,2,    0.00,2,    3.27,2,   0.002,2,   0.001,2,   0.0000,2,  2344.2,2,  2356.4,2,   2144.7,2,    20.00,   7.3300,2,    25.00,-999.000,9,-999.0000,9, -999.00,9, -999.00,9,  -999.0,9,-999.000,9,-999.000,-999.000,9,-999.000,9, -999.00,9, -999.00,9, -999.00,9, -999.00,9, -999.00,9,-999.000,-999.0000,9,-999.0000,9,-999.0000,9,-999.0000,9,-999.0000,9,-999.0000,9,-999.0000,9,-999.0000,9,-999.0000,9,   4.9124,     -999.0,9,     -999.0,9,     -999.0,9,     -999.0,9,     -999.0,9,     -999.0,9,     -999.0,9,-999.0000, -999.00
33RO20071215,        P18,      19,          1,          9,      11009,2,20071222,       0439,    13.8333,  -110.0008,       3519,  1049.2,   4.4188,  34.5615,2,  34.5604,2,     17.5,2,    16.9,2,  103.20,2,   45.30,2,    0.00,2,    3.29,2,-999.000,9,-999.000,9,-999.0000,9,  2354.0,2,  2368.5,4,   -999.0,9,  -999.00,   7.3403,2,    25.00,-999.000,9,-999.0000,9, -999.00,9, -999.00,9,  -999.0,9,-999.000,9,-999.000,-999.000,9,-999.000,9, -999.00,9, -999.00,9, -999.00,9, -999.00,9, -999.00,9,-999.000,-999.0000,9,-999.0000,9,-999.0000,9,-999.0000,9,-999.0000,9,-999.0000,9,-999.0000,9,-999.0000,9,-999.0000,9,   4.3356,     -999.0,9,     -999.0,9,     -999.0,9,     -999.0,9,     -999.0,9,     -999.0,9,     -999.0,9,-999.0000, -999.00
33RO20071215,        P18,      19,          1,          8,      11008,2,20071222,       0439,    13.8333,  -110.0008,       3519,  1201.9,   3.9114,  34.5777,2,  34.5772,2,     30.2,2,    29.7,2,  113.00,2,   44.90,2,    0.00,2,    3.22,2,   0.002,6,   0.000,6,   0.0000,6,  2358.4,2,  2378.2,2,   2017.7,2,    20.00,   7.3623,2,    25.00,-999.000,9,-999.0000,9, -999.00,9, -999.00,9,  -999.0,9,-999.000,9,-999.000,-999.000,9,-999.000,9, -999.00,9, -999.00,9, -999.00,9, -999.00,9, -999.00,9,-999.000,-999.0000,9,-999.0000,9,-999.0000,9,-999.0000,9,-999.0000,9,-999.0000,9,-999.0000,9,-999.0000,9,-999.0000,9,   3.8193,     -999.0,9,     -999.0,9,     -999.0,9,     -999.0,9,     -999.0,9,     -999.0,9,     -999.0,9,-999.0000, -999.00
33RO20071215,        P18,      19,          1,          7,      11007,2,20071222,       0439,    13.8333,  -110.0008,       3519,  1401.0,   3.5673,  34.5896,2,  34.5888,2,     43.8,2,    43.1,2,  119.50,2,   44.00,2,    0.00,2,    3.13,2,-999.000,9,-999.000,9,-999.0000,9,  2358.5,2,  2384.5,2,   -999.0,9,  -999.00,   7.3839,2,    25.00,-999.000,9,-999.0000,9, -999.00,9, -999.00,9,  -999.0,9,-999.000,9,-999.000,-999.000,9,-999.000,9, -999.00,9, -999.00,9, -999.00,9, -999.00,9, -999.00,9,-999.000,-999.0000,9,-999.0000,9,-999.0000,9,-999.0000,9,-999.0000,9,-999.0000,9,-999.0000,9,-999.0000,9,-999.0000,9,   3.4616,     -999.0,9,     -999.0,9,     -999.0,9,     -999.0,9,     -999.0,9,     -999.0,9,     -999.0,9,-999.0000, -999.00
33RO20071215,        P18,      19,          1,          6,      11006,2,20071222,       0439,    13.8333,  -110.0008,       3519,  1599.6,   2.7505,  34.6172,2,  34.6197,2,     72.4,2,  -999.0,5,  135.80,2,   41.90,2,    0.00,2,    2.90,2,-999.000,9,-999.000,9,-999.0000,9,  2358.9,2,  2402.8,2,   -999.0,9,  -999.00,   7.4389,2,    25.00,-999.000,9,-999.0000,9, -999.00,9, -999.00,9,  -999.0,9,-999.000,9,-999.000,-999.000,9,-999.000,9, -999.00,9, -999.00,9, -999.00,9, -999.00,9, -999.00,9,-999.000,-999.0000,9,-999.0000,9,-999.0000,9,-999.0000,9,-999.0000,9,-999.0000,9,-999.0000,9,-999.0000,9,-999.0000,9,   2.6372,     -999.0,9,     -999.0,9,     -999.0,9,     -999.0,9,     -999.0,9,     -999.0,9,     -999.0,9,-999.0000, -999.00
33RO20071215,        P18,      19,          1,          5,      11005,2,20071222,       0439,    13.8333,  -110.0008,       3519,  2001.5,   2.2134,  34.6457,2,  34.6453,2,     88.9,2,    88.9,2,  149.10,2,   40.50,2,    0.00,2,    2.77,2,-999.000,9,-999.000,9,-999.0000,9,  2362.2,2,  2422.0,2,   1543.0,2,    20.00,   7.4765,2,    25.00,-999.000,9,-999.0000,9, -999.00,9, -999.00,9,  -999.0,9,-999.000,9,-999.000,-999.000,9,-999.000,9, -999.00,9, -999.00,9, -999.00,9, -999.00,9, -999.00,9,-999.000,-999.0000,9,-999.0000,9,-999.0000,9,-999.0000,9,-999.0000,9,-999.0000,9,-999.0000,9,-999.0000,9,-999.0000,9,   2.0735,     -999.0,9,     -999.0,9,     -999.0,9,     -999.0,9,     -999.0,9,     -999.0,9,     -999.0,9,-999.0000, -999.00
33RO20071215,        P18,      19,          1,          4,      11004,2,20071222,       0439,    13.8333,  -110.0008,       3519,  2400.2,   1.9501,  34.6609,2,  34.6613,2,    103.4,2,   103.5,2,  154.70,6,   39.50,6,    0.00,6,    2.66,2,-999.000,9,-999.000,9,-999.0000,9,  2359.9,2,  2429.6,2,   1427.1,2,    20.00,   7.5002,2,    25.00,-999.000,9,-999.0000,9, -999.00,9, -999.00,9,  -999.0,9,-999.000,9,-999.000,-999.000,9,-999.000,9, -999.00,9, -999.00,9, -999.00,9, -999.00,9, -999.00,9,-999.000,-999.0000,9,-999.0000,9,-999.0000,9,-999.0000,9,-999.0000,9,-999.0000,9,-999.0000,9,-999.0000,9,-999.0000,9,   1.7797,     -999.0,9,     -999.0,9,     -999.0,9,     -999.0,9,     -999.0,9,     -999.0,9,     -999.0,9,-999.0000, -999.00
33RO20071215,        P18,      19,          1,          3,      11003,2,20071222,       0439,    13.8333,  -110.0008,       3519,  2799.0,   1.8028,  34.6671,2,  34.6683,2,    113.5,2,   113.9,2,  157.40,6,   38.80,6,    0.00,6,    2.63,2,-999.000,9,-999.000,9,-999.0000,9,  2355.3,2,  2430.4,2,   -999.0,9,  -999.00,   7.5097,2,    25.00,-999.000,9,-999.0000,9, -999.00,9, -999.00,9,  -999.0,9,-999.000,9,-999.000,-999.000,9,-999.000,9, -999.00,9, -999.00,9, -999.00,9, -999.00,9, -999.00,9,-999.000,-999.0000,9,-999.0000,9,-999.0000,9,-999.0000,9,-999.0000,9,-999.0000,9,-999.0000,9,-999.0000,9,-999.0000,9,   1.5985,     -999.0,9,     -999.0,9,     -999.0,9,     -999.0,9,     -999.0,9,     -999.0,9,     -999.0,9,-999.0000, -999.00
33RO20071215,        P18,      19,          1,          2,      11002,2,20071222,       0439,    13.8333,  -110.0008,       3519,  3200.8,   1.6549,  34.6762,2,  34.6789,2,    126.8,2,   126.4,2,  158.00,6,   38.00,6,    0.00,6,    2.54,2,-999.000,9,-999.000,9,-999.0000,9,  2346.6,2,  2431.2,2,   1285.2,2,    20.00,   7.5445,2,    25.00,-999.000,9,-999.0000,9, -999.00,9, -999.00,9,  -999.0,9,-999.000,9,-999.000,-999.000,9,-999.000,9, -999.00,9, -999.00,9, -999.00,9, -999.00,9, -999.00,9,-999.000,-999.0000,9,-999.0000,9,-999.0000,9,-999.0000,9,-999.0000,9,-999.0000,9,-999.0000,9,-999.0000,9,-999.0000,9,   1.4151,     -999.0,9,     -999.0,9,     -999.0,9,     -999.0,9,     -999.0,9,     -999.0,9,     -999.0,9,-999.0000, -999.00
33RO20071215,        P18,      19,          1,          1,      11001,2,20071222,       0439,    13.8333,  -110.0008,       3519,  3542.7,   1.6087,  34.6800,2,  34.6813,2,    133.3,2,   133.0,2,  156.40,2,   37.60,2,    0.00,2,    2.50,2,-999.000,9,-999.000,9,-999.0000,9,  2343.8,6,  2433.5,2,   1241.4,2,    20.00,   7.5454,2,    25.00,-999.000,9,-999.0000,9, -999.00,9, -999.00,9,  -999.0,9,-999.000,9,-999.000,-999.000,9,-999.000,9, -999.00,9, -999.00,9, -999.00,9, -999.00,9, -999.00,9,-999.000,-999.0000,9,-999.0000,9,-999.0000,9,-999.0000,9,-999.0000,9,-999.0000,9,-999.0000,9,-999.0000,9,-999.0000,9,   1.3354,     -999.0,9,     -999.0,9,     -999.0,9,     -999.0,9,     -999.0,9,     -999.0,9,     -999.0,9,-999.0000, -999.00