BOTTLE,20220818CCHSIOAMB
EXPOCODE,SECT_ID,STNNBR,CASTNO,SAMPNO,BTLNBR,BTLNBR_FLAG_W,DATE,TIME,LATITUDE,LONGITUDE,DEPTH,CTDPRS,CTDTMP,CTDSAL,CTDSAL_FLAG_W,SALNTY,SALNTY_FLAG_W,CTDOXY,CTDOXY_FLAG_W,OXYGEN,OXYGEN_FLAG_W,SILCAT,SILCAT_FLAG_W,NITRAT,NITRAT_FLAG_W,NITRIT,NITRIT_FLAG_W,PHSPHT,PHSPHT_FLAG_W,CFC-11,CFC-11_FLAG_W,CFC-12,CFC-12_FLAG_W,SF6,SF6_FLAG_W,TCARBN,TCARBN_FLAG_W,ALKALI,ALKALI_FLAG_W,FCO2,FCO2_FLAG_W,FCO2TMP,PH_SWS,PH_SWS_FLAG_W,PH_TMP,TRITUM,TRITUM_FLAG_W,HELIUM,HELIUM_FLAG_W,DELHE3,DELHE3_FLAG_W,DELC13,DELC13_FLAG_W,DELC14,DELC14_FLAG_W,NEON,NEON_FLAG_W,NEONER,CCL4,CCL4_FLAG_W,POC,POC_FLAG_W,DOC,DOC_FLAG_W,TDN,TDN_FLAG_W,DON,DON_FLAG_W,CHLORA,CHLORA_FLAG_W,ARGON,ARGON_FLAG_W,TRITER,CDOM325,CDOM325_FLAG_W,CDOM340,CDOM340_FLAG_W,CDOM380,CDOM380_FLAG_W,CDOM412,CDOM412_FLAG_W,CDOM443,CDOM443_FLAG_W,CDOM490,CDOM490_FLAG_W,CDOM555,CDOM555_FLAG_W,CDOMSL,CDOMSL_FLAG_W,CDOMSN,CDOMSN_FLAG_W,THETA,D18O_NO3,D18O_NO3_FLAG_W,CDOM2C,CDOM2C_FLAG_W,CDOM3C,CDOM3C_FLAG_W,LAB_DEN,LAB_DEN_FLAG_W,DELSI30,DELSI30_FLAG_W,N2,N2_FLAG_W,D15N_NO3,D15N_NO3_FLAG_W,HELIER,DELHER
,,,,,,,,,,,METERS,DBAR,ITS-90,PSS-78,,PSS-78,,UMOL/KG,,UMOL/KG,,UMOL/KG,,UMOL/KG,,UMOL/KG,,UMOL/KG,,PMOL/KG,,PMOL/KG,,FMOL/KG,,UMOL/KG,,UMOL/KG,,UATM,,DEG C,,,DEG C,TU,,NMOL/KG,,PERCNT,,/MILLE,,/MILLE,,NMOL/KG,,NMOL/KG,PMOL/KG,,UG/KG,,UMOL/KG,,UMOL/KG,,UMOL/KG,,UG/KG,,UMOL/KG,,TU,1/M,,1/M,,1/M,,1/M,,1/M,,1/M,,1/M,,1/NM,,1/NM,,DEG C,/MILLE,,,,,,,,/MILLE,,UMOL/KG,,/MILLE,,NMOL/KG,PERCNT
33RO20071215,        P18,     170,          1,         24,      11024,2,20080213,       2108,   -68.3328,  -102.8260,       4382,     5.1,   0.9852,  33.5749,2,  33.5769,2,    345.8,2,   347.0,2,   17.30,2,   22.80,2,    0.21,2,    1.39,2,   6.050,2,   3.352,2,   2.4182,2,  2119.9,6,  2271.9,2,   -999.0,9,  -999.00,   7.7621,2,    25.00,-999.000,9,-999.0000,9, -999.00,9, -999.00,9,  -999.0,9,-999.000,9,-999.000,-999.000,9,-999.000,9, -999.00,9, -999.00,9, -999.00,9, -999.00,9, -999.00,1,-999.000,-999.0000,9,-999.0000,9,-999.0000,9,-999.0000,9,-999.0000,9,-999.0000,9,-999.0000,9,-999.0000,9,-999.0000,9,   0.9849,     -999.0,1,     -999.0,9,     -999.0,9,     -999.0,9,     -999.0,9,     -999.0,1,     -999.0,9,-999.0000, -999.00
33RO20071215,        P18,     170,          1,         23,      11023,2,20080213,       2108,   -68.3328,  -102.8260,       4382,    33.0,   0.8586,  33.6317,2,  33.6471,2,    348.5,2,   349.4,2,   17.30,2,   23.10,2,    0.20,2,    1.46,2,   6.093,2,   3.371,2,   2.4155,2,  2125.9,2,  2270.0,2,   -999.0,9,  -999.00,   7.7543,2,    25.00,-999.000,9,-999.0000,9, -999.00,9, -999.00,9,  -999.0,9,-999.000,9,-999.000,-999.000,9,-999.000,9, -999.00,9, -999.00,9, -999.00,9, -999.00,9, -999.00,9,-999.000,-999.0000,9,-999.0000,9,-999.0000,9,-999.0000,9,-999.0000,9,-999.0000,9,-999.0000,9,-999.0000,9,-999.0000,9,   0.8572,     -999.0,9,     -999.0,9,     -999.0,9,     -999.0,9,     -999.0,9,     -999.0,9,     -999.0,9,-999.0000, -999.00
33RO20071215,        P18,     170,          1,         22,      11022,2,20080213,       2108,   -68.3328,  -102.8260,       4382,    57.9,  -1.3129,  33.9414,2,  33.9508,2,    342.4,2,   343.3,2,   37.90,2,   27.90,2,    0.21,2,    2.05,2,-999.000,9,-999.000,9,-999.0000,9,  2173.5,2,  2284.2,2,   -999.0,9,  -999.00,   7.6769,2,    25.00,-999.000,9,-999.0000,9, -999.00,9, -999.00,9,  -999.0,9,-999.000,9,-999.000,-999.000,9,-999.000,9, -999.00,9, -999.00,9, -999.00,9, -999.00,9, -999.00,9,-999.000,-999.0000,9,-999.0000,9,-999.0000,9,-999.0000,9,-999.0000,9,-999.0000,9,-999.0000,9,-999.0000,9,-999.0000,9,  -1.3142,     -999.0,9,     -999.0,9,     -999.0,9,     -999.0,9,     -999.0,9,     -999.0,9,     -999.0,9,-999.0000, -999.00
33RO20071215,        P18,     170,          1,         21,      11021,2,20080213,       2108,   -68.3328,  -102.8260,       4382,    83.0,  -1.4799,  34.0382,2,  34.0416,2,    333.8,2,   331.7,2,   41.90,2,   29.60,2,    0.21,2,    2.07,2,   6.001,2,   3.281,2,   2.3557,2,  2184.0,2,  2292.1,2,   -999.0,9,  -999.00,   7.6534,2,    25.00,-999.000,9,-999.0000,9, -999.00,9, -999.00,9,  -999.0,9,-999.000,9,-999.000,-999.000,9,-999.000,9, -999.00,9, -999.00,9, -999.00,9, -999.00,9, -999.00,9,-999.000,-999.0000,9,-999.0000,9,-999.0000,9,-999.0000,9,-999.0000,9,-999.0000,9,-999.0000,9,-999.0000,9,-999.0000,9,  -1.4818,     -999.0,9,     -999.0,9,     -999.0,9,     -999.0,9,     -999.0,9,     -999.0,9,     -999.0,9,-999.0000, -999.00
33RO20071215,        P18,     170,          1,         20,      11020,2,20080213,       2108,   -68.3328,  -102.8260,       4382,   108.7,  -1.2657,  34.0958,2,  34.1021,2,    321.5,2,   320.3,2,   46.00,2,   30.30,2,    0.15,2,    2.09,2,   5.691,2,   3.145,2,   2.0749,2,  2191.4,2,  2301.2,2,   -999.0,9,  -999.00,   7.6392,2,    25.00,-999.000,9,-999.0000,9, -999.00,9, -999.00,9,  -999.0,9,-999.000,9,-999.000,-999.000,9,-999.000,9, -999.00,9, -999.00,9, -999.00,9, -999.00,9, -999.00,9,-999.000,-999.0000,9,-999.0000,9,-999.0000,9,-999.0000,9,-999.0000,9,-999.0000,9,-999.0000,9,-999.0000,9,-999.0000,9,  -1.2683,     -999.0,9,     -999.0,9,     -999.0,9,     -999.0,9,     -999.0,9,     -999.0,9,     -999.0,9,-999.0000, -999.00
33RO20071215,        P18,     170,          1,         19,      11019,2,20080213,       2108,   -68.3328,  -102.8260,       4382,   142.8,  -0.4812,  34.1955,2,  34.2025,2,    294.4,2,   286.5,2,   53.00,2,   31.80,2,    0.02,2,    2.18,2,   4.681,2,   2.609,2,   1.7448,2,  2206.7,2,  2307.2,2,   -999.0,9,  -999.00,   7.6128,2,    25.00,-999.000,9,-999.0000,9, -999.00,9, -999.00,9,  -999.0,9,-999.000,9,-999.000,-999.000,9,-999.000,9, -999.00,9, -999.00,9, -999.00,9, -999.00,9, -999.00,9,-999.000,-999.0000,9,-999.0000,9,-999.0000,9,-999.0000,9,-999.0000,9,-999.0000,9,-999.0000,9,-999.0000,9,-999.0000,9,  -0.4857,     -999.0,9,     -999.0,9,     -999.0,9,     -999.0,9,     -999.0,9,     -999.0,9,     -999.0,9,-999.0000, -999.00
33RO20071215,        P18,     170,          1,         18,      11018,2,20080213,       2108,   -68.3328,  -102.8260,       4382,   201.5,   1.0338,  34.3843,2,  34.3856,2,    225.1,2,   221.8,2,   65.40,2,   34.20,2,    0.01,2,    2.34,2,   2.647,2,   1.407,2,   0.8929,2,  2233.8,2,  2319.8,2,   -999.0,9,  -999.00,   7.5661,2,    25.00,-999.000,9,-999.0000,9, -999.00,9, -999.00,9,  -999.0,9,-999.000,9,-999.000,-999.000,9,-999.000,9, -999.00,9, -999.00,9, -999.00,9, -999.00,9, -999.00,9,-999.000,-999.0000,9,-999.0000,9,-999.0000,9,-999.0000,9,-999.0000,9,-999.0000,9,-999.0000,9,-999.0000,9,-999.0000,9,   1.0246,     -999.0,9,     -999.0,9,     -999.0,9,     -999.0,9,     -999.0,9,     -999.0,9,     -999.0,9,-999.0000, -999.00
33RO20071215,        P18,     170,          1,         17,      11017,2,20080213,       2108,   -68.3328,  -102.8260,       4382,   249.6,   1.8217,  34.5188,2,  34.5190,2,    186.1,2,   186.9,2,   73.50,2,   34.80,2,    0.00,2,    2.38,2,   0.004,4,  -0.002,3,   0.0000,2,  2248.5,2,  2327.1,2,   -999.0,9,  -999.00,   7.5499,2,    25.00,-999.000,9,-999.0000,9, -999.00,9, -999.00,9,  -999.0,9,-999.000,9,-999.000,-999.000,9,-999.000,9, -999.00,9, -999.00,9, -999.00,9, -999.00,9, -999.00,9,-999.000,-999.0000,9,-999.0000,9,-999.0000,9,-999.0000,9,-999.0000,9,-999.0000,9,-999.0000,9,-999.0000,9,-999.0000,9,   1.8086,     -999.0,9,     -999.0,9,     -999.0,9,     -999.0,9,     -999.0,9,     -999.0,9,     -999.0,9,-999.0000, -999.00
33RO20071215,        P18,     170,          1,         16,      11016,2,20080213,       2108,   -68.3328,  -102.8260,       4382,   350.7,   1.9708,  34.5948,2,  34.5953,2,    179.1,2,   178.2,2,   77.70,2,   34.50,2,    0.00,2,    2.35,2,   0.830,2,   0.422,2,   0.1954,2,  2252.8,2,  2334.6,2,   -999.0,9,  -999.00,   7.5580,2,    25.00,-999.000,9,-999.0000,9, -999.00,9, -999.00,9,  -999.0,9,-999.000,9,-999.000,-999.000,9,-999.000,9, -999.00,9, -999.00,9, -999.00,9, -999.00,9, -999.00,9,-999.000,-999.0000,9,-999.0000,9,-999.0000,9,-999.0000,9,-999.0000,9,-999.0000,9,-999.0000,9,-999.0000,9,-999.0000,9,   1.9517,     -999.0,9,     -999.0,9,     -999.0,9,     -999.0,9,     -999.0,9,     -999.0,9,     -999.0,9,-999.0000, -999.00
33RO20071215,        P18,     170,          1,         15,      11015,2,20080213,       2108,   -68.3328,  -102.8260,       4382,   433.4,   2.0178,  34.6405,2,  34.6409,2,    176.5,2,   175.9,2,   80.30,2,   33.90,2,    0.00,2,    2.32,2,   0.573,2,   0.291,2,   0.1550,2,  2253.3,6,  2335.5,2,   -999.0,9,  -999.00,   7.5658,2,    25.00,-999.000,9,-999.0000,9, -999.00,9, -999.00,9,  -999.0,9,-999.000,9,-999.000,-999.000,9,-999.000,9, -999.00,9, -999.00,9, -999.00,9, -999.00,9, -999.00,9,-999.000,-999.0000,9,-999.0000,9,-999.0000,9,-999.0000,9,-999.0000,9,-999.0000,9,-999.0000,9,-999.0000,9,-999.0000,9,   1.9937,     -999.0,9,     -999.0,9,     -999.0,9,     -999.0,9,     -999.0,9,     -999.0,9,     -999.0,9,-999.0000, -999.00
33RO20071215,        P18,     170,          1,         14,      11014,2,20080213,       2108,   -68.3328,  -102.8260,       4382,   550.0,   2.0126,  34.6798,2,  34.6812,2,    176.8,2,   176.6,2,   83.10,2,   33.30,2,    0.00,2,    2.28,2,   0.376,2,   0.184,2,   0.0741,2,  2254.7,2,  2343.1,2,   -999.0,9,  -999.00,   7.5760,2,    25.00,-999.000,9,-999.0000,9, -999.00,9, -999.00,9,  -999.0,9,-999.000,9,-999.000,-999.000,9,-999.000,9, -999.00,9, -999.00,9, -999.00,9, -999.00,9, -999.00,9,-999.000,-999.0000,9,-999.0000,9,-999.0000,9,-999.0000,9,-999.0000,9,-999.0000,9,-999.0000,9,-999.0000,9,-999.0000,9,   1.9814,     -999.0,9,     -999.0,9,     -999.0,9,     -999.0,9,     -999.0,9,     -999.0,9,     -999.0,9,-999.0000, -999.00
33RO20071215,        P18,     170,          1,         13,      11013,2,20080213,       2108,   -68.3328,  -102.8260,       4382,   701.2,   1.9281,  34.7106,2,  34.7104,2,    180.5,2,   181.0,2,   86.70,2,   32.70,2,    0.00,2,    2.23,2,   0.258,2,   0.127,2,   0.0000,2,  2253.4,2,  2346.7,2,   -999.0,9,  -999.00,   7.5909,2,    25.00,-999.000,9,-999.0000,9, -999.00,9, -999.00,9,  -999.0,9,-999.000,9,-999.000,-999.000,9,-999.000,9, -999.00,9, -999.00,9, -999.00,9, -999.00,9, -999.00,9,-999.000,-999.0000,9,-999.0000,9,-999.0000,9,-999.0000,9,-999.0000,9,-999.0000,9,-999.0000,9,-999.0000,9,-999.0000,9,   1.8879,     -999.0,9,     -999.0,9,     -999.0,9,     -999.0,9,     -999.0,9,     -999.0,9,     -999.0,9,-999.0000, -999.00
33RO20071215,        P18,     170,          1,         12,      11012,2,20080213,       2108,   -68.3328,  -102.8260,       4382,   850.8,   1.8199,  34.7254,2,  34.7251,2,    184.9,2,   185.1,2,   89.50,2,   32.20,2,    0.00,2,    2.20,2,-999.000,9,-999.000,9,-999.0000,9,  2252.5,2,  2351.0,2,   -999.0,9,  -999.00,   7.5938,2,    25.00,-999.000,9,-999.0000,9, -999.00,9, -999.00,9,  -999.0,9,-999.000,9,-999.000,-999.000,9,-999.000,9, -999.00,9, -999.00,9, -999.00,9, -999.00,9, -999.00,9,-999.000,-999.0000,9,-999.0000,9,-999.0000,9,-999.0000,9,-999.0000,9,-999.0000,9,-999.0000,9,-999.0000,9,-999.0000,9,   1.7707,     -999.0,9,     -999.0,9,     -999.0,9,     -999.0,9,     -999.0,9,     -999.0,9,     -999.0,9,-999.0000, -999.00
33RO20071215,        P18,     170,          1,         11,      11010,2,20080213,       2108,   -68.3328,  -102.8260,       4382,  1001.6,   1.7045,  34.7328,2,  34.7327,2,    188.5,2,   189.8,2,   92.50,2,   31.90,2,    0.00,2,    2.18,2,   0.182,2,   0.090,2,   0.0000,2,  2251.6,2,  2349.9,2,   -999.0,9,  -999.00,   7.6061,2,    25.00,-999.000,9,-999.0000,9, -999.00,9, -999.00,9,  -999.0,9,-999.000,9,-999.000,-999.000,9,-999.000,9, -999.00,9, -999.00,9, -999.00,9, -999.00,9, -999.00,1,-999.000,-999.0000,9,-999.0000,9,-999.0000,9,-999.0000,9,-999.0000,9,-999.0000,9,-999.0000,9,-999.0000,9,-999.0000,9,   1.6463,     -999.0,1,     -999.0,9,     -999.0,9,     -999.0,9,     -999.0,9,     -999.0,1,     -999.0,9,-999.0000, -999.00
33RO20071215,        P18,     170,          1,         10,      11011,2,20080213,       2108,   -68.3328,  -102.8260,       4382,  1165.1,   1.5804,  34.7347,2,  34.7359,2,    191.8,2,   192.5,2,   96.10,2,   31.80,2,    0.00,2,    2.18,2,   0.144,2,   0.069,2,   0.0000,2,  2252.5,2,  2334.7,4,   -999.0,9,  -999.00,   7.6083,2,    25.00,-999.000,9,-999.0000,9, -999.00,9, -999.00,9,  -999.0,9,-999.000,9,-999.000,-999.000,9,-999.000,9, -999.00,9, -999.00,9, -999.00,9, -999.00,9, -999.00,9,-999.000,-999.0000,9,-999.0000,9,-999.0000,9,-999.0000,9,-999.0000,9,-999.0000,9,-999.0000,9,-999.0000,9,-999.0000,9,   1.5123,     -999.0,9,     -999.0,9,     -999.0,9,     -999.0,9,     -999.0,9,     -999.0,9,     -999.0,9,-999.0000, -999.00
33RO20071215,        P18,     170,          1,          9,      11009,2,20080213,       2108,   -68.3328,  -102.8260,       4382,  1402.4,   1.3964,  34.7330,2,  34.7324,2,    193.5,2,   194.1,2,  103.00,2,   32.20,2,    0.00,2,    2.20,2,   0.107,6,   0.052,6,   0.0000,6,  2254.9,2,  2350.3,2,   -999.0,9,  -999.00,   7.6062,2,    25.00,-999.000,9,-999.0000,9, -999.00,9, -999.00,9,  -999.0,9,-999.000,9,-999.000,-999.000,9,-999.000,9, -999.00,9, -999.00,9, -999.00,9, -999.00,9, -999.00,1,-999.000,-999.0000,9,-999.0000,9,-999.0000,9,-999.0000,9,-999.0000,9,-999.0000,9,-999.0000,9,-999.0000,9,-999.0000,9,   1.3137,     -999.0,1,     -999.0,9,     -999.0,9,     -999.0,9,     -999.0,9,     -999.0,1,     -999.0,9,-999.0000, -999.00
33RO20071215,        P18,     170,          1,          8,      11008,2,20080213,       2108,   -68.3328,  -102.8260,       4382,  1733.8,   1.1826,  34.7269,2,  34.7283,2,    197.4,2,   197.7,2,  109.70,2,   32.30,2,    0.00,2,    2.21,2,   0.093,2,   0.045,2,   0.0000,2,  2257.2,2,  2360.1,2,   -999.0,9,  -999.00,   7.6093,2,    25.00,-999.000,9,-999.0000,9, -999.00,9, -999.00,9,  -999.0,9,-999.000,9,-999.000,-999.000,9,-999.000,9, -999.00,9, -999.00,9, -999.00,9, -999.00,9, -999.00,1,-999.000,-999.0000,9,-999.0000,9,-999.0000,9,-999.0000,9,-999.0000,9,-999.0000,9,-999.0000,9,-999.0000,9,-999.0000,9,   1.0786,     -999.0,1,     -999.0,9,     -999.0,9,     -999.0,9,     -999.0,9,     -999.0,1,     -999.0,9,-999.0000, -999.00
33RO20071215,        P18,     170,          1,          7,      11007,2,20080213,       2108,   -68.3328,  -102.8260,       4382,  2134.0,   0.9670,  34.7191,2,  34.7174,2,    200.8,2,   201.1,2,  117.10,2,   32.50,2,    0.00,2,    2.23,2,   0.081,2,   0.039,2,   0.0000,2,  2258.0,2,  2359.4,2,   -999.0,9,  -999.00,   7.6064,2,    25.00,-999.000,9,-999.0000,9, -999.00,9, -999.00,9,  -999.0,9,-999.000,9,-999.000,   0.117,3,-999.000,9, -999.00,9, -999.00,9, -999.00,9, -999.00,9, -999.00,9,-999.000,-999.0000,9,-999.0000,9,-999.0000,9,-999.0000,9,-999.0000,9,-999.0000,9,-999.0000,9,-999.0000,9,-999.0000,9,   0.8356,     -999.0,9,     -999.0,9,     -999.0,9,     -999.0,9,     -999.0,9,     -999.0,9,     -999.0,9,-999.0000, -999.00
33RO20071215,        P18,     170,          1,          6,      11006,2,20080213,       2108,   -68.3328,  -102.8260,       4382,  2533.0,   0.7924,  34.7127,2,  34.7161,3,    204.0,2,   205.0,2,  123.20,2,   32.70,2,    0.00,2,    2.24,2,   0.103,2,   0.051,2,   0.0000,2,  2258.8,2,  2360.5,2,   -999.0,9,  -999.00,   7.6048,2,    25.00,-999.000,9,-999.0000,9, -999.00,9, -999.00,9,  -999.0,9,-999.000,9,-999.000,   0.136,3,-999.000,9, -999.00,9, -999.00,9, -999.00,9, -999.00,9, -999.00,9,-999.000,-999.0000,9,-999.0000,9,-999.0000,9,-999.0000,9,-999.0000,9,-999.0000,9,-999.0000,9,-999.0000,9,-999.0000,9,   0.6318,     -999.0,9,     -999.0,9,     -999.0,9,     -999.0,9,     -999.0,9,     -999.0,9,     -999.0,9,-999.0000, -999.00
33RO20071215,        P18,     170,          1,          5,      11005,2,20080213,       2108,   -68.3328,  -102.8260,       4382,  2934.5,   0.6325,  34.7088,2,  34.7132,3,    207.9,2,   207.7,2,  127.60,2,   33.00,2,    0.00,2,    2.25,2,   0.114,2,   0.056,2,   0.0000,2,  2260.1,6,  2360.5,2,   -999.0,9,  -999.00,   7.6076,2,    25.00,-999.000,9,-999.0000,9, -999.00,9, -999.00,9,  -999.0,9,-999.000,9,-999.000,   0.155,3,-999.000,9, -999.00,9, -999.00,9, -999.00,9, -999.00,9, -999.00,9,-999.000,-999.0000,9,-999.0000,9,-999.0000,9,-999.0000,9,-999.0000,9,-999.0000,9,-999.0000,9,-999.0000,9,-999.0000,9,   0.4406,     -999.0,9,     -999.0,9,     -999.0,9,     -999.0,9,     -999.0,9,     -999.0,9,     -999.0,9,-999.0000, -999.00
33RO20071215,        P18,     170,          1,          4,      11004,2,20080213,       2108,   -68.3328,  -102.8260,       4382,  3332.7,   0.4986,  34.7066,2,  34.7058,2,    210.7,2,   211.4,2,  131.90,6,   33.00,6,    0.00,6,    2.27,2,-999.000,9,-999.000,9,-999.0000,9,  2260.2,2,  2365.0,2,   -999.0,9,  -999.00,   7.6169,2,    25.00,-999.000,9,-999.0000,9, -999.00,9, -999.00,9,  -999.0,9,-999.000,9,-999.000,-999.000,9,-999.000,9, -999.00,9, -999.00,9, -999.00,9, -999.00,9, -999.00,9,-999.000,-999.0000,9,-999.0000,9,-999.0000,9,-999.0000,9,-999.0000,9,-999.0000,9,-999.0000,9,-999.0000,9,-999.0000,9,   0.2735,     -999.0,9,     -999.0,9,     -999.0,9,     -999.0,9,     -999.0,9,     -999.0,9,     -999.0,9,-999.0000, -999.00
33RO20071215,        P18,     170,          1,          3,      11003,2,20080213,       2108,   -68.3328,  -102.8260,       4382,  3730.8,   0.4143,  34.7053,2,  34.7067,2,    213.1,2,   213.4,2,  135.00,6,   33.10,6,    0.00,6,    2.26,2,   0.152,2,   0.075,2,   0.0000,2,  2260.0,2,  2361.3,2,   -999.0,9,  -999.00,   7.6068,2,    25.00,-999.000,9,-999.0000,9, -999.00,9, -999.00,9,  -999.0,9,-999.000,9,-999.000,   0.219,3,-999.000,9, -999.00,9, -999.00,9, -999.00,9, -999.00,9, -999.00,9,-999.000,-999.0000,9,-999.0000,9,-999.0000,9,-999.0000,9,-999.0000,9,-999.0000,9,-999.0000,9,-999.0000,9,-999.0000,9,   0.1531,     -999.0,9,     -999.0,9,     -999.0,9,     -999.0,9,     -999.0,9,     -999.0,9,     -999.0,9,-999.0000, -999.00
33RO20071215,        P18,     170,          1,          2,      11002,2,20080213,       2108,   -68.3328,  -102.8260,       4382,  4133.0,   0.3733,  34.7044,2,  34.7044,2,    214.6,2,   214.6,2,  139.90,6,   33.20,6,    0.00,6,    2.27,2,   0.188,2,   0.094,2,   0.0000,2,  2261.0,2,  2362.7,2,   -999.0,9,  -999.00,   7.5975,2,    25.00,-999.000,9,-999.0000,9, -999.00,9, -999.00,9,  -999.0,9,-999.000,9,-999.000,   0.262,3,-999.000,9, -999.00,9, -999.00,9, -999.00,9, -999.00,9, -999.00,1,-999.000,-999.0000,9,-999.0000,9,-999.0000,9,-999.0000,9,-999.0000,9,-999.0000,9,-999.0000,9,-999.0000,9,-999.0000,9,   0.0725,     -999.0,1,     -999.0,9,     -999.0,9,     -999.0,9,     -999.0,9,     -999.0,1,     -999.0,9,-999.0000, -999.00
33RO20071215,        P18,     170,          1,          1,      11001,2,20080213,       2108,   -68.3328,  -102.8260,       4382,  4451.7,   0.3621,  34.7028,2,  34.7039,2,    215.2,2,   215.5,2,  146.50,2,   33.40,2,    0.01,2,    2.28,2,   0.292,2,   0.141,2,   0.0000,2,  2262.5,6,  2366.6,2,   -999.0,9,  -999.00,   7.5969,2,    25.00,-999.000,9,-999.0000,9, -999.00,9, -999.00,9,  -999.0,9,-999.000,9,-999.000,   0.282,3,-999.000,9, -999.00,9, -999.00,9, -999.00,9, -999.00,9, -999.00,1,-999.000,-999.0000,9,-999.0000,9,-999.0000,9,-999.0000,9,-999.0000,9,-999.0000,9,-999.0000,9,-999.0000,9,-999.0000,9,   0.0278,     -999.0,1,     -999.0,9,     -999.0,9,     -999.0,9,     -999.0,9,     -999.0,1,     -999.0,9,-999.0000, -999.00