BOTTLE,20220818CCHSIOAMB
EXPOCODE,SECT_ID,STNNBR,CASTNO,SAMPNO,BTLNBR,BTLNBR_FLAG_W,DATE,TIME,LATITUDE,LONGITUDE,DEPTH,CTDPRS,CTDTMP,CTDSAL,CTDSAL_FLAG_W,SALNTY,SALNTY_FLAG_W,CTDOXY,CTDOXY_FLAG_W,OXYGEN,OXYGEN_FLAG_W,SILCAT,SILCAT_FLAG_W,NITRAT,NITRAT_FLAG_W,NITRIT,NITRIT_FLAG_W,PHSPHT,PHSPHT_FLAG_W,CFC-11,CFC-11_FLAG_W,CFC-12,CFC-12_FLAG_W,SF6,SF6_FLAG_W,TCARBN,TCARBN_FLAG_W,ALKALI,ALKALI_FLAG_W,FCO2,FCO2_FLAG_W,FCO2TMP,PH_SWS,PH_SWS_FLAG_W,PH_TMP,TRITUM,TRITUM_FLAG_W,HELIUM,HELIUM_FLAG_W,DELHE3,DELHE3_FLAG_W,DELC13,DELC13_FLAG_W,DELC14,DELC14_FLAG_W,NEON,NEON_FLAG_W,NEONER,CCL4,CCL4_FLAG_W,POC,POC_FLAG_W,DOC,DOC_FLAG_W,TDN,TDN_FLAG_W,DON,DON_FLAG_W,CHLORA,CHLORA_FLAG_W,ARGON,ARGON_FLAG_W,TRITER,CDOM325,CDOM325_FLAG_W,CDOM340,CDOM340_FLAG_W,CDOM380,CDOM380_FLAG_W,CDOM412,CDOM412_FLAG_W,CDOM443,CDOM443_FLAG_W,CDOM490,CDOM490_FLAG_W,CDOM555,CDOM555_FLAG_W,CDOMSL,CDOMSL_FLAG_W,CDOMSN,CDOMSN_FLAG_W,THETA,D18O_NO3,D18O_NO3_FLAG_W,CDOM2C,CDOM2C_FLAG_W,CDOM3C,CDOM3C_FLAG_W,LAB_DEN,LAB_DEN_FLAG_W,DELSI30,DELSI30_FLAG_W,N2,N2_FLAG_W,D15N_NO3,D15N_NO3_FLAG_W,HELIER,DELHER
,,,,,,,,,,,METERS,DBAR,ITS-90,PSS-78,,PSS-78,,UMOL/KG,,UMOL/KG,,UMOL/KG,,UMOL/KG,,UMOL/KG,,UMOL/KG,,PMOL/KG,,PMOL/KG,,FMOL/KG,,UMOL/KG,,UMOL/KG,,UATM,,DEG C,,,DEG C,TU,,NMOL/KG,,PERCNT,,/MILLE,,/MILLE,,NMOL/KG,,NMOL/KG,PMOL/KG,,UG/KG,,UMOL/KG,,UMOL/KG,,UMOL/KG,,UG/KG,,UMOL/KG,,TU,1/M,,1/M,,1/M,,1/M,,1/M,,1/M,,1/M,,1/NM,,1/NM,,DEG C,/MILLE,,,,,,,,/MILLE,,UMOL/KG,,/MILLE,,NMOL/KG,PERCNT
33RO20071215,        P18,     112,          1,         36,      12017,2,20080126,       1643,   -36.2498,  -102.9997,       2464,     5.1,  20.8611,  34.2410,2,  34.2407,2,    229.5,2,   229.2,2,    0.50,2,    3.20,2,    0.07,2,    0.31,2,   2.217,2,   1.361,2,   1.1817,2,  2027.5,6,  2276.3,2,   -999.0,9,  -999.00,   7.9543,2,    25.00,-999.000,9,-999.0000,9, -999.00,9, -999.00,9,  -999.0,9,-999.000,9,-999.000,-999.000,9,-999.000,9,   61.34,2,    6.97,2, -999.00,1, -999.00,9, -999.00,9,-999.000,   0.0677,2,   0.0441,2,   0.0142,2,   0.0111,2,   0.0057,2,   0.0015,2,  -0.0016,4,   0.0213,2,   0.0284,2,  20.8601,     -999.0,9,     -999.0,9,     -999.0,9,     -999.0,9,     -999.0,9,     -999.0,9,     -999.0,9,-999.0000, -999.00
33RO20071215,        P18,     112,          1,         35,      12029,2,20080126,       1643,   -36.2498,  -102.9997,       2464,    10.1,  20.8508,  34.2409,2,  34.2403,2,    229.7,2,   229.4,2,    0.50,2,    3.30,2,    0.07,2,    0.31,2,   2.210,2,   1.356,2,   1.1375,2,  2028.3,2,  2268.1,2,   -999.0,9,  -999.00,   7.9506,2,    25.00,-999.000,9,-999.0000,9, -999.00,9,    1.73,2,  -999.0,1,-999.000,9,-999.000,-999.000,9,-999.000,9,   60.25,2,    7.12,2, -999.00,1,    0.05,2, -999.00,1,-999.000,   0.0631,2,   0.0403,2,   0.0115,2,   0.0097,2,   0.0047,2,   0.0005,4,  -0.0022,4,   0.0086,4,   0.0322,4,  20.8489,     -999.0,1,     -999.0,9,     -999.0,9,     -999.0,9,     -999.0,9,     -999.0,1,     -999.0,9,-999.0000, -999.00
33RO20071215,        P18,     112,          1,         34,      12049,2,20080126,       1643,   -36.2498,  -102.9997,       2464,    20.1,  20.8230,  34.2393,2,  34.2375,2,    230.0,2,   229.6,2,    0.50,2,    3.30,2,    0.07,2,    0.31,2,   2.231,2,   1.375,2,   1.1517,2,  2027.1,2,  2270.5,2,   -999.0,9,  -999.00,   7.9358,2,    25.00,-999.000,9,-999.0000,9, -999.00,9, -999.00,9,  -999.0,9,-999.000,9,-999.000,-999.000,9,-999.000,9,   60.51,2,    7.22,2, -999.00,1,    0.05,2, -999.00,9,-999.000,   0.0630,2,   0.0402,2,   0.0144,2,   0.0121,2,   0.0065,2,   0.0020,2,  -0.0013,4,   0.0088,2,   0.0263,2,  20.8192,     -999.0,9,     -999.0,9,     -999.0,9,     -999.0,9,     -999.0,9,     -999.0,9,     -999.0,9,-999.0000, -999.00
33RO20071215,        P18,     112,          1,         33,      12027,2,20080126,       1643,   -36.2498,  -102.9997,       2464,    40.4,  17.8250,  34.4076,2,  34.4051,2,    259.8,2,   260.9,2,    0.50,2,    0.90,2,    0.02,2,    0.18,2,   2.722,2,   1.619,2,   1.3499,2,  2028.6,2,  2277.1,2,   -999.0,9,  -999.00,   7.9695,2,    25.00,-999.000,9,-999.0000,9, -999.00,9, -999.00,9,  -999.0,9,-999.000,9,-999.000,-999.000,9,-999.000,9,   60.51,2,    4.40,2, -999.00,1,    0.08,2, -999.00,9,-999.000,   0.0744,2,   0.0502,2,   0.0208,2,   0.0152,2,   0.0088,2,   0.0043,2,   0.0001,4,   0.0101,2,   0.0216,2,  17.8182,     -999.0,9,     -999.0,9,     -999.0,9,     -999.0,9,     -999.0,9,     -999.0,9,     -999.0,9,-999.0000, -999.00
33RO20071215,        P18,     112,          1,         32,      12023,2,20080126,       1643,   -36.2498,  -102.9997,       2464,    59.8,  15.4841,  34.3094,2,  34.3101,2,    266.4,2,   267.9,2,    0.60,2,    1.90,2,    0.04,2,    0.24,2,   2.921,2,   1.723,2,   1.4485,2,  2030.3,2,  2148.3,4,   -999.0,9,  -999.00,   7.9937,2,    25.00,-999.000,9,-999.0000,9, -999.00,9,     1.7,2,  -999.0,1,-999.000,9,-999.000,-999.000,9,-999.000,9,   59.29,2,    5.65,2, -999.00,1,    0.08,2, -999.00,9,-999.000,   0.1020,2,   0.0717,2,   0.0366,2,   0.0287,2,   0.0213,2,   0.0136,3,   0.0037,3,   0.0110,4,   0.0141,4,  15.4749,     -999.0,9,     -999.0,9,     -999.0,9,     -999.0,9,     -999.0,9,     -999.0,9,     -999.0,9,-999.0000, -999.00
33RO20071215,        P18,     112,          1,         31,      12037,2,20080126,       1643,   -36.2498,  -102.9997,       2464,    80.3,  14.8448,  34.3143,2,  34.3328,2,    263.5,2,   262.9,2,    0.60,2,    2.40,2,    0.05,2,    0.26,2,   2.949,2,   1.785,2,   1.9115,3,  2036.2,2,  2270.2,2,   -999.0,9,  -999.00,   7.9299,2,    25.00,-999.000,9,-999.0000,9, -999.00,9, -999.00,9,  -999.0,9,-999.000,9,-999.000,-999.000,9,-999.000,9,   57.41,2,    5.79,2, -999.00,1,    0.10,2, -999.00,9,-999.000,   0.1057,2,   0.0748,2,   0.0382,2,   0.0299,2,   0.0217,2,   0.0132,2,   0.0032,2,   0.0115,2,   0.0142,2,  14.8329,     -999.0,9,     -999.0,9,     -999.0,9,     -999.0,9,     -999.0,9,     -999.0,9,     -999.0,9,-999.0000, -999.00
33RO20071215,        P18,     112,          1,         30,      12036,2,20080126,       1643,   -36.2498,  -102.9997,       2464,    99.3,  14.1312,  34.3035,2,  34.3064,2,    258.6,2,   258.8,2,    0.60,2,    3.50,2,    0.09,2,    0.34,2,   3.016,2,   1.767,2,   1.4127,2,  2043.8,2,  2267.4,2,   -999.0,9,  -999.00,   7.9241,2,    25.00,-999.000,9,-999.0000,9, -999.00,9,    1.59,2,  -999.0,1,-999.000,9,-999.000,-999.000,9,-999.000,9,   56.80,2,    7.21,2, -999.00,1,    0.12,2, -999.00,9,-999.000,   0.1008,2,   0.0716,2,   0.0377,2,   0.0304,2,   0.0221,2,   0.0130,2,   0.0030,2,   0.0112,2,   0.0135,2,  14.1169,     -999.0,9,     -999.0,9,     -999.0,9,     -999.0,9,     -999.0,9,     -999.0,9,     -999.0,9,-999.0000, -999.00
33RO20071215,        P18,     112,          1,         29,      12044,2,20080126,       1643,   -36.2498,  -102.9997,       2464,   123.4,  13.3206,  34.2405,2,  34.2396,2,    254.8,2,   254.5,2,    0.80,2,    5.10,2,    0.21,2,    0.47,2,   3.100,2,   1.809,2,   1.5270,2,  2053.4,2,  2266.9,2,   -999.0,9,  -999.00,   7.8752,2,    25.00,-999.000,9,-999.0000,9, -999.00,9, -999.00,9,  -999.0,9,-999.000,9,-999.000,-999.000,9,-999.000,9,   55.64,2,    8.82,2, -999.00,1,    0.14,2, -999.00,9,-999.000,   0.0942,2,   0.0679,2,   0.0378,2,   0.0319,2,   0.0237,2,   0.0135,3,   0.0032,3,   0.0105,4,   0.0121,4,  13.3035,     -999.0,9,     -999.0,9,     -999.0,9,     -999.0,9,     -999.0,9,     -999.0,9,     -999.0,9,-999.0000, -999.00
33RO20071215,        P18,     112,          1,         28,      12057,2,20080126,       1643,   -36.2498,  -102.9997,       2464,   150.5,  12.3121,  34.2402,2,  34.2319,2,    246.7,2,   244.9,2,    1.00,2,    7.80,2,    0.70,2,    0.63,2,   3.303,2,   1.900,2,   1.3879,2,  2072.0,2,  2262.2,2,   -999.0,9,  -999.00,   7.8527,2,    25.00,-999.000,9,-999.0000,9, -999.00,9,    1.37,2,  -999.0,1,-999.000,9,-999.000,-999.000,9,-999.000,9,   52.36,2,   11.40,2, -999.00,1,    0.13,2, -999.00,9,-999.000,   0.1022,2,   0.0748,2,   0.0398,2,   0.0308,2,   0.0184,2,   0.0087,2,   0.0023,3,   0.0114,2,   0.0149,2,  12.2924,     -999.0,9,     -999.0,9,     -999.0,9,     -999.0,9,     -999.0,9,     -999.0,9,     -999.0,9,-999.0000, -999.00
33RO20071215,        P18,     112,          1,         27,      12026,2,20080126,       1643,   -36.2498,  -102.9997,       2464,   174.8,  11.1559,  34.2148,2,  34.2129,2,    242.9,2,   242.8,2,    1.30,2,   11.70,2,    0.09,2,    0.82,2,   3.515,4,   1.998,4,   1.4059,4,  2087.7,2,  2262.5,2,   -999.0,9,  -999.00,   7.8249,2,    25.00,-999.000,9,-999.0000,9, -999.00,9, -999.00,9,  -999.0,9,-999.000,9,-999.000,-999.000,9,-999.000,9,   47.43,2,   14.36,2, -999.00,1,    0.09,2, -999.00,9,-999.000,   0.0828,2,   0.0571,2,   0.0293,2,   0.0237,2,   0.0124,2,   0.0043,3,  -0.0002,4,   0.0100,4,   0.0164,4,  11.1344,     -999.0,9,     -999.0,9,     -999.0,9,     -999.0,9,     -999.0,9,     -999.0,9,     -999.0,9,-999.0000, -999.00
33RO20071215,        P18,     112,          1,         26,      12030,2,20080126,       1643,   -36.2498,  -102.9997,       2464,   199.8,  10.5681,  34.2385,2,  34.2428,2,    239.9,2,   238.7,2,    1.60,2,   13.40,2,    0.02,2,    0.92,2,   3.565,6,   2.010,6,   1.3599,6,  2095.8,2,  2263.5,2,   -999.0,9,  -999.00,   7.8020,2,    25.00,-999.000,9,-999.0000,9, -999.00,9,     1.3,2,  -999.0,1,-999.000,9,-999.000,-999.000,9,-999.000,9,   47.14,2,   15.80,2, -999.00,1,    0.05,2, -999.00,9,-999.000,   0.0814,2,   0.0558,2,   0.0286,2,   0.0230,2,   0.0118,2,   0.0036,2,  -0.0009,4,   0.0080,2,   0.0167,2,  10.5443,     -999.0,9,     -999.0,9,     -999.0,9,     -999.0,9,     -999.0,9,     -999.0,9,     -999.0,9,-999.0000, -999.00
33RO20071215,        P18,     112,          1,         25,      12024,2,20080126,       1643,   -36.2498,  -102.9997,       2464,   225.3,   9.9703,  34.2777,2,  34.2799,2,    232.4,2,   232.9,2,    2.10,2,   15.30,2,    0.01,2,    1.03,2,   3.658,2,   2.012,2,   1.1542,2,  2107.2,2,  2265.3,2,   -999.0,9,  -999.00,   7.7866,2,    25.00,-999.000,9,-999.0000,9, -999.00,9, -999.00,9,  -999.0,9,-999.000,9,-999.000,-999.000,9,-999.000,9,   45.76,2,   17.27,2, -999.00,1,    0.02,2, -999.00,9,-999.000,   0.0788,2,   0.0532,2,   0.0271,2,   0.0218,2,   0.0109,2,   0.0035,2,  -0.0009,4,   0.0076,2,   0.0172,2,   9.9444,     -999.0,9,     -999.0,9,     -999.0,9,     -999.0,9,     -999.0,9,     -999.0,9,     -999.0,9,-999.0000, -999.00
33RO20071215,        P18,     112,          1,         24,      12019,2,20080126,       1643,   -36.2498,  -102.9997,       2464,   250.3,   9.2677,  34.2786,2,  34.2782,2,    232.7,2,   232.5,2,    2.60,2,   16.90,2,    0.01,2,    1.13,2,   3.732,2,   2.028,2,   1.2884,2,  2114.6,2,  2267.3,2,   -999.0,9,  -999.00,   7.7600,2,    25.00,-999.000,9,-999.0000,9, -999.00,9,    1.27,2,  -999.0,1,-999.000,9,-999.000,-999.000,9,-999.000,9,   45.47,2,   18.41,2, -999.00,1,    0.01,2, -999.00,9,-999.000,   0.0896,2,   0.0611,2,   0.0307,2,   0.0241,2,   0.0131,2,   0.0051,2,   0.0000,4,   0.0087,2,   0.0171,2,   9.2402,     -999.0,9,     -999.0,9,     -999.0,9,     -999.0,9,     -999.0,9,     -999.0,9,     -999.0,9,-999.0000, -999.00
33RO20071215,        P18,     112,          1,         23,      12022,2,20080126,       1643,   -36.2498,  -102.9997,       2464,   299.6,   8.1985,  34.2959,2,  34.2984,2,    228.2,2,   230.0,2,    4.30,2,   20.20,2,    0.00,2,    1.35,2,   3.742,2,   1.966,2,   0.9483,2,  2130.8,2,  2269.7,2,   -999.0,9,  -999.00,   7.7268,2,    25.00,-999.000,9,-999.0000,9, -999.00,9,    1.22,2,  -999.0,1,-999.000,9,-999.000,-999.000,9,-999.000,9,   43.17,2,   21.67,2, -999.00,1, -999.00,9, -999.00,9,-999.000,   0.0822,2,   0.0543,2,   0.0263,2,   0.0203,2,   0.0103,2,   0.0033,2,  -0.0009,4,   0.0098,2,   0.0187,2,   8.1679,     -999.0,9,     -999.0,9,     -999.0,9,     -999.0,9,     -999.0,9,     -999.0,9,     -999.0,9,-999.0000, -999.00
33RO20071215,        P18,     112,          1,         22,      12015,2,20080126,       1643,   -36.2498,  -102.9997,       2464,   349.9,   7.1792,  34.2899,2,  34.2907,2,    233.2,2,   229.6,2,    6.30,2,   22.90,2,    0.00,2,    1.53,2,   3.754,2,   1.922,2,   0.9541,2,  -999.0,9,  -999.0,9,   -999.0,9,  -999.00,-999.0000,9,  -999.00,-999.000,9,-999.0000,9, -999.00,9, -999.00,9,  -999.0,9,-999.000,9,-999.000,-999.000,9,-999.000,9,   43.39,2,   24.32,2, -999.00,1, -999.00,9, -999.00,9,-999.000,   0.0770,2,   0.0498,2,   0.0245,2,   0.0185,2,   0.0094,2,   0.0029,2,  -0.0009,4,   0.0096,2,   0.0190,2,   7.1459,     -999.0,9,     -999.0,9,     -999.0,9,     -999.0,9,     -999.0,9,     -999.0,9,     -999.0,9,-999.0000, -999.00
33RO20071215,        P18,     112,          1,         21,      12020,2,20080126,       1643,   -36.2498,  -102.9997,       2464,   400.6,   6.8039,  34.3163,2,  34.3162,2,    236.6,2,   242.0,2,    6.90,2,   22.70,2,    0.00,2,    1.50,2,   3.837,2,   1.952,2,   0.9194,2,  2140.9,2,  2271.5,2,   -999.0,9,  -999.00,   7.7125,2,    25.00,-999.000,9,-999.0000,9, -999.00,9,     1.2,2,  -999.0,1,-999.000,9,-999.000,-999.000,9,-999.000,9,   42.29,2,   23.91,2, -999.00,1, -999.00,9, -999.00,9,-999.000,   0.0739,2,   0.0477,2,   0.0233,2,   0.0171,2,   0.0086,2,   0.0029,2,  -0.0009,4,   0.0094,2,   0.0195,2,   6.7668,     -999.0,9,     -999.0,9,     -999.0,9,     -999.0,9,     -999.0,9,     -999.0,9,     -999.0,9,-999.0000, -999.00
33RO20071215,        P18,     112,          1,         20,      12055,2,20080126,       1643,   -36.2498,  -102.9997,       2464,   500.0,   6.2482,  34.3036,2,  34.3036,2,    246.9,2,   247.1,2,    8.40,2,   23.80,2,    0.00,2,    1.57,2,   3.681,2,   1.850,2,   0.8547,2,  -999.0,9,  -999.0,9,   -999.0,9,  -999.00,-999.0000,9,  -999.00,-999.000,9,-999.0000,9, -999.00,9,    1.23,2,  -999.0,1,-999.000,9,-999.000,-999.000,9,-999.000,9,   41.97,2,   25.34,2, -999.00,1, -999.00,9, -999.00,9,-999.000,   0.0710,2,   0.0449,2,   0.0216,2,   0.0155,2,   0.0078,2,   0.0026,2,  -0.0009,4,   0.0093,2,   0.0205,2,   6.2037,     -999.0,9,     -999.0,9,     -999.0,9,     -999.0,9,     -999.0,9,     -999.0,9,     -999.0,9,-999.0000, -999.00
33RO20071215,        P18,     112,          1,         19,      12018,2,20080126,       1643,   -36.2498,  -102.9997,       2464,   599.9,   5.9125,  34.2877,2,  34.2875,2,    247.2,2,   248.5,2,    9.70,2,   24.60,2,    0.00,2,    1.62,2,   3.334,2,   1.653,2,   0.6362,2,  2144.1,2,  2273.2,2,   -999.0,9,  -999.00,   7.7089,2,    25.00,-999.000,9,-999.0000,9, -999.00,9,    1.21,2,  -999.0,1,-999.000,9,-999.000,-999.000,9,-999.000,9,   40.85,2,   26.06,2, -999.00,1, -999.00,9, -999.00,9,-999.000,   0.0673,2,   0.0414,2,   0.0190,2,   0.0133,2,   0.0060,2,   0.0012,2,  -0.0017,4,   0.0090,2,   0.0226,2,   5.8602,     -999.0,9,     -999.0,9,     -999.0,9,     -999.0,9,     -999.0,9,     -999.0,9,     -999.0,9,-999.0000, -999.00
33RO20071215,        P18,     112,          1,         18,      12025,2,20080126,       1643,   -36.2498,  -102.9997,       2464,   699.5,   5.5238,  34.2732,2,  34.2741,2,    242.6,2,   243.2,2,   12.10,2,   25.90,2,    0.00,2,    1.73,2,   2.716,2,   1.333,2,   0.4078,2,  -999.0,9,  -999.0,9,   -999.0,9,  -999.00,-999.0000,9,  -999.00,-999.000,9,-999.0000,9, -999.00,9, -999.00,9,  -999.0,9,-999.000,9,-999.000,-999.000,9,-999.000,9,   39.69,2,   27.15,2, -999.00,1, -999.00,9, -999.00,9,-999.000,   0.0728,2,   0.0458,2,   0.0221,2,   0.0156,2,   0.0086,2,   0.0033,2,  -0.0002,4,   0.0163,2,   0.0203,2,   5.4645,     -999.0,9,     -999.0,9,     -999.0,9,     -999.0,9,     -999.0,9,     -999.0,9,     -999.0,9,-999.0000, -999.00
33RO20071215,        P18,     112,          1,         17,      12016,2,20080126,       1643,   -36.2498,  -102.9997,       2464,   799.1,   5.1027,  34.2684,2,  34.2695,2,    229.9,2,   230.2,2,   16.60,2,   28.00,2,    0.00,2,    1.87,2,   1.894,2,   0.942,2,   0.2481,2,  2162.0,2,  -999.0,5,   -999.0,9,  -999.00,   7.6696,2,    25.00,-999.000,9,-999.0000,9, -999.00,9,    1.16,2,  -999.0,1,-999.000,9,-999.000,-999.000,9,-999.000,9,   38.54,2,   29.44,2, -999.00,1, -999.00,9, -999.00,9,-999.000,   0.0787,2,   0.0502,2,   0.0246,2,   0.0174,2,   0.0100,2,   0.0039,2,   0.0001,4,   0.0158,2,   0.0195,2,   5.0369,     -999.0,9,     -999.0,9,     -999.0,9,     -999.0,9,     -999.0,9,     -999.0,9,     -999.0,9,-999.0000, -999.00
33RO20071215,        P18,     112,          1,         16,      12051,2,20080126,       1643,   -36.2498,  -102.9997,       2464,   899.6,   4.5938,  34.2826,2,  34.2839,2,    211.1,2,   211.0,2,   24.50,2,   30.50,2,    0.00,2,    2.07,2,   1.141,6,   0.597,6,   0.2879,6,  -999.0,9,  -999.0,9,   -999.0,9,  -999.00,-999.0000,9,  -999.00,-999.000,9,-999.0000,9, -999.00,9, -999.00,9,  -999.0,9,-999.000,9,-999.000,-999.000,9,-999.000,9,   38.21,2,   31.75,2, -999.00,9, -999.00,9, -999.00,9,-999.000,   0.0880,2,   0.0571,2,   0.0294,2,   0.0211,2,   0.0130,2,   0.0057,2,   0.0012,2,   0.0147,2,   0.0177,2,   4.5226,     -999.0,9,     -999.0,9,     -999.0,9,     -999.0,9,     -999.0,9,     -999.0,9,     -999.0,9,-999.0000, -999.00
33RO20071215,        P18,     112,          1,         15,      12014,2,20080126,       1643,   -36.2498,  -102.9997,       2464,   998.3,   4.1710,  34.3093,2,  34.3115,2,    195.3,2,   193.7,2,   33.50,2,   32.50,2,    0.00,2,    2.23,2,   0.538,2,   0.296,2,   0.0000,2,  2198.4,2,  2292.8,2,   -999.0,9,  -999.00,   7.6090,2,    25.00,-999.000,9,-999.0000,9, -999.00,9,    0.81,2,  -999.0,1,-999.000,9,-999.000,-999.000,9,-999.000,9,   37.24,2,   33.58,2, -999.00,9, -999.00,9, -999.00,9,-999.000,   0.0928,2,   0.0601,2,   0.0307,2,   0.0217,2,   0.0132,2,   0.0051,2,   0.0009,2,   0.0151,2,   0.0180,2,   4.0945,     -999.0,9,     -999.0,9,     -999.0,9,     -999.0,9,     -999.0,9,     -999.0,9,     -999.0,9,-999.0000, -999.00
33RO20071215,        P18,     112,          1,         14,      12013,2,20080126,       1643,   -36.2498,  -102.9997,       2464,  1100.3,   3.7194,  34.3674,2,  34.3692,2,    167.6,2,   168.8,2,   47.40,2,   35.10,2,    0.00,2,    2.42,2,   0.182,2,   0.110,2,   0.0000,2,  -999.0,9,  -999.0,9,   -999.0,9,  -999.00,-999.0000,9,  -999.00,-999.000,9,-999.0000,9, -999.00,9, -999.00,9,  -999.0,9,-999.000,9,-999.000,-999.000,9,-999.000,9,   36.99,2,   36.48,2, -999.00,9, -999.00,9, -999.00,9,-999.000,   0.1051,2,   0.0695,2,   0.0361,2,   0.0256,2,   0.0160,2,   0.0066,2,   0.0017,2,   0.0148,2,   0.0172,2,   3.6379,     -999.0,9,     -999.0,9,     -999.0,9,     -999.0,9,     -999.0,9,     -999.0,9,     -999.0,9,-999.0000, -999.00
33RO20071215,        P18,     112,          1,         13,      12012,2,20080126,       1643,   -36.2498,  -102.9997,       2464,  1199.1,   3.4612,  34.4207,2,  34.4229,2,    151.2,2,   150.3,2,   59.60,2,   36.50,2,    0.00,2,    2.56,2,   0.413,3,   0.253,3,   0.2517,2,  2246.8,2,  2318.9,2,   -999.0,9,  -999.00,   7.5317,2,    25.00,-999.000,9,-999.0000,9, -999.00,9, -999.00,9,  -999.0,9,-999.000,9,-999.000,-999.000,9,-999.000,9,   37.00,2,   38.17,2, -999.00,9, -999.00,9, -999.00,9,-999.000,   0.1091,2,   0.0717,2,   0.0366,2,   0.0257,2,   0.0157,2,   0.0059,2,   0.0012,2,   0.0153,2,   0.0177,2,   3.3738,     -999.0,9,     -999.0,9,     -999.0,9,     -999.0,9,     -999.0,9,     -999.0,9,     -999.0,9,-999.0000, -999.00
33RO20071215,        P18,     112,          1,         12,      12031,2,20080126,       1643,   -36.2498,  -102.9997,       2464,  1301.2,   3.2753,  34.4731,2,  34.4742,2,    136.9,2,   137.3,2,   71.40,2,   37.50,2,    0.00,2,    2.64,2,   0.063,2,   0.038,2,   0.0074,2,  -999.0,9,  -999.0,9,   -999.0,9,  -999.00,-999.0000,9,  -999.00,-999.000,9,-999.0000,9, -999.00,9, -999.00,9,  -999.0,9,-999.000,9,-999.000,-999.000,9,-999.000,9,   37.13,2,   38.69,2, -999.00,9, -999.00,9, -999.00,9,-999.000,   0.1141,2,   0.0756,2,   0.0389,2,   0.0268,2,   0.0166,2,   0.0063,2,   0.0014,2,   0.0153,2,   0.0176,2,   3.1812,     -999.0,9,     -999.0,9,     -999.0,9,     -999.0,9,     -999.0,9,     -999.0,9,     -999.0,9,-999.0000, -999.00