BOTTLE,20220818CCHSIOAMB
EXPOCODE,SECT_ID,STNNBR,CASTNO,SAMPNO,BTLNBR,BTLNBR_FLAG_W,DATE,TIME,LATITUDE,LONGITUDE,DEPTH,CTDPRS,CTDTMP,CTDSAL,CTDSAL_FLAG_W,SALNTY,SALNTY_FLAG_W,CTDOXY,CTDOXY_FLAG_W,OXYGEN,OXYGEN_FLAG_W,SILCAT,SILCAT_FLAG_W,NITRAT,NITRAT_FLAG_W,NITRIT,NITRIT_FLAG_W,PHSPHT,PHSPHT_FLAG_W,CFC-11,CFC-11_FLAG_W,CFC-12,CFC-12_FLAG_W,SF6,SF6_FLAG_W,TCARBN,TCARBN_FLAG_W,ALKALI,ALKALI_FLAG_W,FCO2,FCO2_FLAG_W,FCO2TMP,PH_SWS,PH_SWS_FLAG_W,PH_TMP,TRITUM,TRITUM_FLAG_W,HELIUM,HELIUM_FLAG_W,DELHE3,DELHE3_FLAG_W,DELC13,DELC13_FLAG_W,DELC14,DELC14_FLAG_W,NEON,NEON_FLAG_W,NEONER,CCL4,CCL4_FLAG_W,POC,POC_FLAG_W,DOC,DOC_FLAG_W,TDN,TDN_FLAG_W,DON,DON_FLAG_W,CHLORA,CHLORA_FLAG_W,ARGON,ARGON_FLAG_W,TRITER,CDOM325,CDOM325_FLAG_W,CDOM340,CDOM340_FLAG_W,CDOM380,CDOM380_FLAG_W,CDOM412,CDOM412_FLAG_W,CDOM443,CDOM443_FLAG_W,CDOM490,CDOM490_FLAG_W,CDOM555,CDOM555_FLAG_W,CDOMSL,CDOMSL_FLAG_W,CDOMSN,CDOMSN_FLAG_W,THETA,D18O_NO3,D18O_NO3_FLAG_W,CDOM2C,CDOM2C_FLAG_W,CDOM3C,CDOM3C_FLAG_W,LAB_DEN,LAB_DEN_FLAG_W,DELSI30,DELSI30_FLAG_W,N2,N2_FLAG_W,D15N_NO3,D15N_NO3_FLAG_W,HELIER,DELHER
,,,,,,,,,,,METERS,DBAR,ITS-90,PSS-78,,PSS-78,,UMOL/KG,,UMOL/KG,,UMOL/KG,,UMOL/KG,,UMOL/KG,,UMOL/KG,,PMOL/KG,,PMOL/KG,,FMOL/KG,,UMOL/KG,,UMOL/KG,,UATM,,DEG C,,,DEG C,TU,,NMOL/KG,,PERCNT,,/MILLE,,/MILLE,,NMOL/KG,,NMOL/KG,PMOL/KG,,UG/KG,,UMOL/KG,,UMOL/KG,,UMOL/KG,,UG/KG,,UMOL/KG,,TU,1/M,,1/M,,1/M,,1/M,,1/M,,1/M,,1/M,,1/NM,,1/NM,,DEG C,/MILLE,,,,,,,,/MILLE,,UMOL/KG,,/MILLE,,NMOL/KG,PERCNT
33RO20071215,        P18,      73,          1,         36,      12017,2,20080108,       2223,   -13.4995,  -103.0002,       4130,     5.0,  22.6939,  35.6916,2,  35.6905,2,    219.5,2,   221.6,2,    1.90,2,    6.70,2,    0.20,2,    0.64,2,   1.986,6,   1.230,6,   1.0120,6,  2065.6,6,  2355.4,2,   -999.0,9,  -999.00,   7.9929,2,    25.00,-999.000,9,-999.0000,9, -999.00,9, -999.00,9,  -999.0,9,-999.000,9,-999.000,-999.000,9,-999.000,9,   68.60,2,   11.23,2, -999.00,1,    0.12,2, -999.00,9,-999.000,   0.0833,2,   0.0551,2,   0.0247,2,   0.0194,2,   0.0121,2,   0.0044,2,   0.0001,3,   0.0146,2,   0.0191,2,  22.6928,     -999.0,9,     -999.0,9,     -999.0,9,     -999.0,9,     -999.0,9,     -999.0,9,     -999.0,9,-999.0000, -999.00
33RO20071215,        P18,      73,          1,         35,      12029,2,20080108,       2223,   -13.4995,  -103.0002,       4130,    15.2,  22.5757,  35.7137,2,  35.7200,2,    220.3,2,   222.6,2,    1.90,2,    6.20,2,    0.18,2,    0.61,2,   1.991,2,   1.228,2,   1.0550,2,  2064.6,2,  2358.3,2,   -999.0,9,  -999.00,   8.0034,2,    25.00,-999.000,9,-999.0000,9, -999.00,9, -999.00,9,  -999.0,9,-999.000,9,-999.000,-999.000,9,-999.000,9,   68.13,2,   10.74,2, -999.00,1,    0.16,2, -999.00,9,-999.000,   0.0868,2,   0.0596,2,   0.0287,2,   0.0217,2,   0.0140,2,   0.0060,2,   0.0011,2,   0.0140,2,   0.0172,2,  22.5726,     -999.0,9,     -999.0,9,     -999.0,9,     -999.0,9,     -999.0,9,     -999.0,9,     -999.0,9,-999.0000, -999.00
33RO20071215,        P18,      73,          1,         34,      12049,2,20080108,       2223,   -13.4995,  -103.0002,       4130,    33.0,  22.5093,  35.7474,2,  35.7608,2,    220.1,2,   221.8,2,    1.90,2,    5.60,2,    0.15,2,    0.59,2,   1.981,2,   1.236,2,   1.1164,2,  2066.0,2,  2359.1,2,   -999.0,9,  -999.00,   8.0044,2,    25.00,-999.000,9,-999.0000,9, -999.00,9, -999.00,9,  -999.0,9,-999.000,9,-999.000,-999.000,9,-999.000,1,   68.51,2,   10.77,2, -999.00,1,    0.20,2, -999.00,9,-999.000,   0.0763,2,   0.0515,2,   0.0254,2,   0.0195,2,   0.0120,2,   0.0044,2,   0.0002,3,   0.0141,2,   0.0173,2,  22.5027,     -999.0,9,     -999.0,9,     -999.0,9,     -999.0,9,     -999.0,9,     -999.0,9,     -999.0,9,-999.0000, -999.00
33RO20071215,        P18,      73,          1,         33,      12027,2,20080108,       2223,   -13.4995,  -103.0002,       4130,    57.8,  22.2994,  35.9734,2,  35.9737,2,    215.9,2,   217.6,2,    1.40,2,    1.50,2,    0.05,2,    0.41,2,   2.012,2,   1.242,2,   1.0647,2,  2068.9,2,  2375.7,2,   -999.0,9,  -999.00,   8.0125,2,    25.00,-999.000,9,-999.0000,9, -999.00,9, -999.00,9,  -999.0,9,-999.000,9,-999.000,-999.000,9,-999.000,9,   67.65,2,    7.15,2, -999.00,1,    0.18,2, -999.00,9,-999.000,   0.1018,2,   0.0716,2,   0.0347,2,   0.0254,2,   0.0163,2,   0.0081,2,   0.0026,2,   0.0143,2,   0.0168,2,  22.2879,     -999.0,9,     -999.0,9,     -999.0,9,     -999.0,9,     -999.0,9,     -999.0,9,     -999.0,9,-999.0000, -999.00
33RO20071215,        P18,      73,          1,         32,      12023,2,20080108,       2223,   -13.4995,  -103.0002,       4130,    82.8,  21.3557,  35.9161,2,  35.9156,2,    211.7,2,   213.4,2,    1.40,2,    1.40,2,    0.13,2,    0.47,2,   2.088,2,   1.287,2,   1.1282,2,  2079.9,2,  2372.6,2,   -999.0,9,  -999.00,   8.0665,2,    25.00,-999.000,9,-999.0000,9, -999.00,9, -999.00,9,  -999.0,9,-999.000,9,-999.000,-999.000,9,-999.000,9,   66.80,2,    6.79,2, -999.00,1,    0.14,2, -999.00,9,-999.000,   0.1079,2,   0.0760,2,   0.0367,2,   0.0271,2,   0.0165,2,   0.0073,2,   0.0021,2,   0.0148,2,   0.0171,2,  21.3396,     -999.0,9,     -999.0,9,     -999.0,9,     -999.0,9,     -999.0,9,     -999.0,9,     -999.0,9,-999.0000, -999.00
33RO20071215,        P18,      73,          1,         31,      12037,2,20080108,       2223,   -13.4995,  -103.0002,       4130,   108.2,  20.9326,  35.8839,2,  35.8796,2,    214.9,2,   215.0,2,    1.30,2,    1.30,2,    0.14,2,    0.48,2,   2.132,2,   1.313,2,   1.1045,2,  2085.9,2,  2371.4,2,   -999.0,9,  -999.00,   7.9886,2,    25.00,-999.000,9,-999.0000,9, -999.00,9, -999.00,9,  -999.0,9,-999.000,9,-999.000,-999.000,9,-999.000,9,   64.71,2,    6.42,2, -999.00,1,    0.09,2, -999.00,9,-999.000,   0.0948,2,   0.0665,2,   0.0309,2,   0.0225,2,   0.0132,2,   0.0056,2,   0.0013,2,   0.0156,2,   0.0181,2,  20.9118,     -999.0,9,     -999.0,9,     -999.0,9,     -999.0,9,     -999.0,9,     -999.0,9,     -999.0,9,-999.0000, -999.00
33RO20071215,        P18,      73,          1,         30,      12036,2,20080108,       2223,   -13.4995,  -103.0002,       4130,   127.7,  20.6470,  35.8515,2,  35.8492,2,    212.7,2,   213.5,2,    1.20,2,    1.40,2,    0.25,2,    0.50,2,   2.143,6,   1.315,6,   1.0733,6,  2088.2,2,  2372.4,2,   -999.0,9,  -999.00,   7.9817,2,    25.00,-999.000,9,-999.0000,9, -999.00,9, -999.00,9,  -999.0,9,-999.000,9,-999.000,-999.000,9,-999.000,9,   61.97,2,    6.31,2, -999.00,1,    0.06,2, -999.00,9,-999.000,   0.0874,2,   0.0607,2,   0.0280,2,   0.0209,2,   0.0121,2,   0.0049,2,   0.0009,2,   0.0155,2,   0.0183,2,  20.6228,     -999.0,9,     -999.0,9,     -999.0,9,     -999.0,9,     -999.0,9,     -999.0,9,     -999.0,9,-999.0000, -999.00
33RO20071215,        P18,      73,          1,         29,      12044,2,20080108,       2223,   -13.4995,  -103.0002,       4130,   158.0,  20.1284,  35.7395,2,  35.7367,2,    205.3,2,   206.5,2,    1.40,2,    2.50,2,    0.90,2,    0.58,2,   2.205,2,   1.349,2,   1.0996,2,  2093.9,2,  2363.1,2,   -999.0,9,  -999.00,   7.9673,2,    25.00,-999.000,9,-999.0000,9, -999.00,9, -999.00,9,  -999.0,9,-999.000,9,-999.000,-999.000,9,-999.000,9,   56.43,2,    7.24,2, -999.00,1,    0.02,2, -999.00,9,-999.000,   0.0821,2,   0.0575,2,   0.0253,2,   0.0176,2,   0.0093,2,   0.0031,2,  -0.0001,4,   0.0172,2,   0.0198,2,  20.0989,     -999.0,9,     -999.0,9,     -999.0,9,     -999.0,9,     -999.0,9,     -999.0,9,     -999.0,9,-999.0000, -999.00
33RO20071215,        P18,      73,          1,         28,      12057,2,20080108,       2223,   -13.4995,  -103.0002,       4130,   182.3,  16.2918,  35.0527,2,  35.0761,2,    165.0,2,   175.7,2,    3.00,2,   10.00,2,    0.03,2,    0.97,2,   2.519,2,   1.483,2,   0.9546,2,  2122.1,2,  -999.0,9,   -999.0,9,  -999.00,-999.0000,9,  -999.00,-999.000,9,-999.0000,9, -999.00,9, -999.00,9,  -999.0,9,-999.000,9,-999.000,-999.000,9,-999.000,9,   54.07,2,   13.15,2, -999.00,1,    0.01,2, -999.00,9,-999.000,   0.1342,2,   0.0985,2,   0.0530,2,   0.0413,2,   0.0258,2,   0.0131,2,   0.0056,2,   0.0133,2,   0.0142,2,  16.2626,     -999.0,9,     -999.0,9,     -999.0,9,     -999.0,9,     -999.0,9,     -999.0,9,     -999.0,9,-999.0000, -999.00
33RO20071215,        P18,      73,          1,         27,      12026,2,20080108,       2223,   -13.4995,  -103.0002,       4130,   215.4,  12.9731,  34.6462,2,  34.6437,2,     97.6,2,   105.6,2,    9.60,2,   18.10,2,    0.01,2,    1.68,2,   2.326,2,   1.289,2,   0.7043,2,  2175.6,2,  2287.5,2,   -999.0,9,  -999.00,   7.6451,2,    25.00,-999.000,9,-999.0000,9, -999.00,9, -999.00,9,  -999.0,9,-999.000,9,-999.000,-999.000,9,-999.000,9,   50.20,2,   21.13,2, -999.00,1,    0.01,2, -999.00,9,-999.000,   0.1359,2,   0.0982,2,   0.0523,2,   0.0408,2,   0.0235,2,   0.0096,2,   0.0031,2,   0.0147,2,   0.0151,2,  12.9436,     -999.0,9,     -999.0,9,     -999.0,9,     -999.0,9,     -999.0,9,     -999.0,9,     -999.0,9,-999.0000, -999.00
33RO20071215,        P18,      73,          1,         26,      12030,2,20080108,       2223,   -13.4995,  -103.0002,       4130,   267.1,  11.4167,  34.7167,2,  34.7162,2,     11.3,2,    10.7,2,   23.10,2,   27.60,2,    0.01,2,    2.63,2,   0.742,2,   0.410,2,   0.1293,2,  2259.7,6,  -999.0,9,   -999.0,9,  -999.00,-999.0000,9,  -999.00,-999.000,9,-999.0000,9, -999.00,9, -999.00,9,  -999.0,9,-999.000,9,-999.000,-999.000,9,-999.000,9,   48.20,2,   29.72,2, -999.00,1,    0.01,2, -999.00,9,-999.000,   0.1901,2,   0.1421,2,   0.0819,2,   0.0649,2,   0.0397,2,   0.0177,2,   0.0071,2,   0.0140,2,   0.0134,2,  11.3829,     -999.0,9,     -999.0,9,     -999.0,9,     -999.0,9,     -999.0,9,     -999.0,9,     -999.0,9,-999.0000, -999.00
33RO20071215,        P18,      73,          1,         25,      12024,2,20080108,       2223,   -13.4995,  -103.0002,       4130,   317.1,  10.2769,  34.6981,2,  34.6952,2,     14.5,2,    15.5,2,   26.10,2,   32.90,2,    0.00,2,    2.65,2,   0.326,2,   0.184,2,   0.0399,2,  2262.1,2,  2298.3,2,   -999.0,9,  -999.00,   7.4051,2,    25.00,-999.000,9,-999.0000,9, -999.00,9, -999.00,9,  -999.0,9,-999.000,9,-999.000,-999.000,9,-999.000,9,   44.66,2,   34.79,2, -999.00,1, -999.00,9, -999.00,9,-999.000,   0.1672,2,   0.1221,2,   0.0702,2,   0.0560,2,   0.0335,2,   0.0133,2,   0.0043,2,   0.0145,2,   0.0138,2,  10.2394,     -999.0,9,     -999.0,9,     -999.0,9,     -999.0,9,     -999.0,9,     -999.0,9,     -999.0,9,-999.0000, -999.00
33RO20071215,        P18,      73,          1,         24,      12019,2,20080108,       2223,   -13.4995,  -103.0002,       4130,   366.8,   9.3841,  34.6633,2,  34.6628,2,     31.2,2,    31.9,2,   28.20,2,   35.00,2,    0.00,2,    2.58,2,   0.200,2,   0.114,2,   0.0000,2,  -999.0,9,  -999.0,9,   -999.0,9,  -999.00,-999.0000,9,  -999.00,-999.000,9,-999.0000,9, -999.00,9, -999.00,9,  -999.0,9,-999.000,9,-999.000,-999.000,9,-999.000,9,   44.06,2,   36.29,2, -999.00,1, -999.00,9, -999.00,9,-999.000,   0.1699,2,   0.1234,2,   0.0697,2,   0.0540,2,   0.0333,2,   0.0139,2,   0.0048,2,   0.0144,2,   0.0141,2,   9.3430,     -999.0,9,     -999.0,9,     -999.0,9,     -999.0,9,     -999.0,9,     -999.0,9,     -999.0,9,-999.0000, -999.00
33RO20071215,        P18,      73,          1,         23,      12022,2,20080108,       2223,   -13.4995,  -103.0002,       4130,   431.5,   8.2866,  34.6174,2,  34.6165,2,     42.3,2,    42.6,2,   33.00,2,   37.40,2,    0.00,2,    2.62,2,   0.089,2,   0.051,2,   0.0000,2,  2256.9,2,  2302.7,2,   -999.0,9,  -999.00,   7.4368,2,    25.00,-999.000,9,-999.0000,9, -999.00,9, -999.00,9,  -999.0,9,-999.000,9,-999.000,-999.000,9,-999.000,9,   43.21,2,   38.34,2, -999.00,1, -999.00,9, -999.00,9,-999.000,   0.1480,2,   0.1046,2,   0.0583,2,   0.0447,2,   0.0271,2,   0.0103,2,   0.0026,2,   0.0146,2,   0.0147,2,   8.2416,     -999.0,9,     -999.0,9,     -999.0,9,     -999.0,9,     -999.0,9,     -999.0,9,     -999.0,9,-999.0000, -999.00
33RO20071215,        P18,      73,          1,         22,      12015,2,20080108,       2223,   -13.4995,  -103.0002,       4130,   532.9,   7.2590,  34.5744,2,  34.5726,2,     29.9,2,    30.1,2,   41.90,2,   41.60,2,    0.00,2,    2.92,2,   0.018,2,   0.011,2,   0.0000,2,  -999.0,9,  -999.0,9,   -999.0,9,  -999.00,-999.0000,9,  -999.00,-999.000,9,-999.0000,9, -999.00,9, -999.00,9,  -999.0,9,-999.000,9,-999.000,-999.000,9,-999.000,1,   42.52,2,   42.86,2, -999.00,1, -999.00,9, -999.00,9,-999.000,   0.1852,2,   0.1363,2,   0.0815,2,   0.0643,2,   0.0426,2,   0.0199,2,   0.0081,2,   0.0132,2,   0.0127,2,   7.2071,     -999.0,9,     -999.0,9,     -999.0,9,     -999.0,9,     -999.0,9,     -999.0,9,     -999.0,9,-999.0000, -999.00
33RO20071215,        P18,      73,          1,         21,      12020,2,20080108,       2223,   -13.4995,  -103.0002,       4130,   633.0,   6.4472,  34.5417,2,  34.5400,2,     34.0,2,    34.5,2,   48.40,2,   43.20,2,    0.00,2,    3.02,2,   0.004,2,   0.004,2,   0.0000,2,  2284.0,2,  2314.2,2,   -999.0,9,  -999.00,   7.3798,2,    25.00,-999.000,9,-999.0000,9, -999.00,9, -999.00,9,  -999.0,9,-999.000,9,-999.000,-999.000,9,-999.000,9,   42.03,2,   43.92,2, -999.00,1, -999.00,9, -999.00,9,-999.000,   0.1691,2,   0.1207,2,   0.0691,2,   0.0536,2,   0.0338,2,   0.0136,2,   0.0044,2,   0.0142,2,   0.0140,2,   6.3891,     -999.0,9,     -999.0,9,     -999.0,9,     -999.0,9,     -999.0,9,     -999.0,9,     -999.0,9,-999.0000, -999.00
33RO20071215,        P18,      73,          1,         20,      12055,2,20080108,       2223,   -13.4995,  -103.0002,       4130,   732.3,   5.7522,  34.5225,2,  34.5223,2,     41.0,2,    41.1,2,   55.60,2,   43.80,2,    0.00,2,    3.08,2,-999.000,9,-999.000,9,-999.0000,9,  -999.0,9,  -999.0,9,   -999.0,9,  -999.00,-999.0000,9,  -999.00,-999.000,9,-999.0000,9, -999.00,9, -999.00,9,  -999.0,9,-999.000,9,-999.000,-999.000,9,-999.000,9,   41.46,2,   44.72,2, -999.00,1, -999.00,9, -999.00,9,-999.000,   0.1581,2,   0.1120,2,   0.0638,2,   0.0484,2,   0.0304,2,   0.0121,2,   0.0036,2,   0.0143,2,   0.0144,2,   5.6884,     -999.0,9,     -999.0,9,     -999.0,9,     -999.0,9,     -999.0,9,     -999.0,9,     -999.0,9,-999.0000, -999.00
33RO20071215,        P18,      73,          1,         19,      12018,2,20080108,       2223,   -13.4995,  -103.0002,       4130,   832.1,   5.0870,  34.5227,2,  34.5217,2,     46.9,2,    48.4,2,   66.70,2,   44.20,2,    0.00,2,    3.11,2,   0.000,2,   0.000,2,   0.0000,2,  2299.5,2,  -999.0,9,   -999.0,9,  -999.00,-999.0000,9,  -999.00,-999.000,9,-999.0000,9, -999.00,9, -999.00,9,  -999.0,9,-999.000,9,-999.000,-999.000,9,-999.000,9,   40.65,2,   45.04,2, -999.00,1, -999.00,9, -999.00,9,-999.000,-999.0000,5,-999.0000,5,-999.0000,5,-999.0000,5,-999.0000,5,-999.0000,5,-999.0000,5,-999.0000,5,-999.0000,5,   5.0181,     -999.0,9,     -999.0,9,     -999.0,9,     -999.0,9,     -999.0,9,     -999.0,9,     -999.0,9,-999.0000, -999.00
33RO20071215,        P18,      73,          1,         18,      12025,4,20080108,       2223,   -13.4995,  -103.0002,       4130,   933.5,   4.6158,  34.5323,2,-999.0000,9,     55.0,2,  -999.0,9, -999.00,9, -999.00,9, -999.00,9, -999.00,9,-999.000,9,-999.000,9,-999.0000,9,  -999.0,9,  -999.0,9,   -999.0,9,  -999.00,-999.0000,9,  -999.00,-999.000,9,-999.0000,9, -999.00,9, -999.00,9,  -999.0,9,-999.000,9,-999.000,-999.000,9,-999.000,9, -999.00,9, -999.00,9, -999.00,9, -999.00,9, -999.00,9,-999.000,-999.0000,9,-999.0000,9,-999.0000,9,-999.0000,9,-999.0000,9,-999.0000,9,-999.0000,9,-999.0000,9,-999.0000,9,   4.5412,     -999.0,9,     -999.0,9,     -999.0,9,     -999.0,9,     -999.0,9,     -999.0,9,     -999.0,9,-999.0000, -999.00
33RO20071215,        P18,      73,          1,         17,      12016,2,20080108,       2223,   -13.4995,  -103.0002,       4130,  1032.6,   4.1720,  34.5427,2,  34.5420,2,     67.4,2,    68.5,2,   85.30,2,   42.70,2,    0.00,2,    3.04,2,   0.000,2,   0.001,2,   0.0000,2,  2309.6,2,  2352.8,2,   -999.0,9,  -999.00,   7.4272,2,    25.00,-999.000,9,-999.0000,9, -999.00,9, -999.00,9,  -999.0,9,-999.000,9,-999.000,-999.000,9,-999.000,1,   39.01,2,   43.84,2, -999.00,1, -999.00,9, -999.00,9,-999.000,   0.1777,2,   0.1290,2,   0.0755,2,   0.0571,2,   0.0378,2,   0.0172,2,   0.0067,2,   0.0136,2,   0.0135,2,   4.0922,     -999.0,9,     -999.0,9,     -999.0,9,     -999.0,9,     -999.0,9,     -999.0,9,     -999.0,9,-999.0000, -999.00
33RO20071215,        P18,      73,          1,         16,      12051,2,20080108,       2223,   -13.4995,  -103.0002,       4130,  1132.2,   3.7963,  34.5576,2,  34.5564,2,     76.7,2,    76.5,2,   93.70,2,   42.00,2,    0.00,2,    2.99,2,-999.000,9,-999.000,9,-999.0000,9,  -999.0,9,  -999.0,9,   -999.0,9,  -999.00,-999.0000,9,  -999.00,-999.000,9,-999.0000,9, -999.00,9, -999.00,9,  -999.0,9,-999.000,9,-999.000,-999.000,9,-999.000,9,   38.84,2,   42.93,2, -999.00,9, -999.00,9, -999.00,9,-999.000,   0.1644,2,   0.1173,2,   0.0669,2,   0.0500,2,   0.0323,2,   0.0136,2,   0.0045,2,   0.0141,2,   0.0143,2,   3.7112,     -999.0,9,     -999.0,9,     -999.0,9,     -999.0,9,     -999.0,9,     -999.0,9,     -999.0,9,-999.0000, -999.00
33RO20071215,        P18,      73,          1,         15,      12014,2,20080108,       2223,   -13.4995,  -103.0002,       4130,  1232.2,   3.5269,  34.5711,2,  34.5703,2,     80.7,2,    80.8,2,  101.70,2,   41.60,2,    0.00,2,    2.98,2,-999.000,9,-999.000,9,-999.0000,9,  2318.7,2,  -999.0,9,   -999.0,9,  -999.00,-999.0000,9,  -999.00,-999.000,9,-999.0000,9, -999.00,9, -999.00,9,  -999.0,9,-999.000,9,-999.000,-999.000,9,-999.000,9,   39.00,2,   42.51,2, -999.00,9, -999.00,9, -999.00,9,-999.000,   0.1655,2,   0.1185,2,   0.0678,2,   0.0500,2,   0.0322,2,   0.0135,2,   0.0044,2,   0.0142,2,   0.0143,2,   3.4358,     -999.0,9,     -999.0,9,     -999.0,9,     -999.0,9,     -999.0,9,     -999.0,9,     -999.0,9,-999.0000, -999.00
33RO20071215,        P18,      73,          1,         14,      12013,2,20080108,       2223,   -13.4995,  -103.0002,       4130,  1334.4,   3.2489,  34.5847,2,  34.5835,2,     84.8,2,    84.8,2,  108.80,2,   41.20,2,    0.00,2,    2.95,2,-999.000,9,-999.000,9,-999.0000,9,  -999.0,9,  -999.0,9,   -999.0,9,  -999.00,-999.0000,9,  -999.00,-999.000,9,-999.0000,9, -999.00,9, -999.00,9,  -999.0,9,-999.000,9,-999.000,-999.000,9,-999.000,9,   38.77,2,   42.44,2, -999.00,9, -999.00,9, -999.00,9,-999.000,   0.1848,2,   0.1347,2,   0.0783,2,   0.0583,2,   0.0390,2,   0.0186,2,   0.0075,2,   0.0135,2,   0.0135,2,   3.1521,     -999.0,9,     -999.0,9,     -999.0,9,     -999.0,9,     -999.0,9,     -999.0,9,     -999.0,9,-999.0000, -999.00
33RO20071215,        P18,      73,          1,         13,      12012,2,20080108,       2223,   -13.4995,  -103.0002,       4130,  1466.7,   3.0013,  34.5970,2,  34.5957,2,     90.2,2,    91.6,2,  114.90,2,   40.70,2,    0.00,2,    2.90,2,   0.000,2,   0.000,2,   0.0000,2,  2325.9,2,  2386.0,2,   -999.0,9,  -999.00,   7.4726,2,    25.00,-999.000,9,-999.0000,9, -999.00,9, -999.00,9,  -999.0,9,-999.000,9,-999.000,-999.000,9,-999.000,9,   38.60,2,   42.08,2, -999.00,9, -999.00,9, -999.00,9,-999.000,   0.1780,2,   0.1280,2,   0.0726,2,   0.0530,2,   0.0345,2,   0.0155,2,   0.0056,2,   0.0142,2,   0.0143,2,   2.8961,     -999.0,9,     -999.0,9,     -999.0,9,     -999.0,9,     -999.0,9,     -999.0,9,     -999.0,9,-999.0000, -999.00
33RO20071215,        P18,      73,          1,         12,      12031,2,20080108,       2223,   -13.4995,  -103.0002,       4130,  1666.5,   2.6762,  34.6138,2,  34.6134,2,    106.2,2,   106.3,2,  120.40,2,   39.50,2,    0.00,2,    2.79,2,-999.000,9,-999.000,9,-999.0000,9,  -999.0,9,  -999.0,9,   -999.0,9,  -999.00,-999.0000,9,  -999.00,-999.000,9,-999.0000,9, -999.00,9, -999.00,9,  -999.0,9,-999.000,9,-999.000,-999.000,9,-999.000,9,   38.61,2,   40.62,2, -999.00,9, -999.00,9, -999.00,9,-999.000,   0.1463,2,   0.1016,2,   0.0551,2,   0.0390,2,   0.0241,2,   0.0093,2,   0.0024,2,   0.0150,2,   0.0159,2,   2.5582,     -999.0,9,     -999.0,9,     -999.0,9,     -999.0,9,     -999.0,9,     -999.0,9,     -999.0,9,-999.0000, -999.00