BOTTLE,20220818CCHSIOAMB
EXPOCODE,SECT_ID,STNNBR,CASTNO,SAMPNO,BTLNBR,BTLNBR_FLAG_W,DATE,TIME,LATITUDE,LONGITUDE,DEPTH,CTDPRS,CTDTMP,CTDSAL,CTDSAL_FLAG_W,SALNTY,SALNTY_FLAG_W,CTDOXY,CTDOXY_FLAG_W,OXYGEN,OXYGEN_FLAG_W,SILCAT,SILCAT_FLAG_W,NITRAT,NITRAT_FLAG_W,NITRIT,NITRIT_FLAG_W,PHSPHT,PHSPHT_FLAG_W,CFC-11,CFC-11_FLAG_W,CFC-12,CFC-12_FLAG_W,SF6,SF6_FLAG_W,TCARBN,TCARBN_FLAG_W,ALKALI,ALKALI_FLAG_W,FCO2,FCO2_FLAG_W,FCO2TMP,PH_SWS,PH_SWS_FLAG_W,PH_TMP,TRITUM,TRITUM_FLAG_W,HELIUM,HELIUM_FLAG_W,DELHE3,DELHE3_FLAG_W,DELC13,DELC13_FLAG_W,DELC14,DELC14_FLAG_W,NEON,NEON_FLAG_W,NEONER,CCL4,CCL4_FLAG_W,POC,POC_FLAG_W,DOC,DOC_FLAG_W,TDN,TDN_FLAG_W,DON,DON_FLAG_W,CHLORA,CHLORA_FLAG_W,ARGON,ARGON_FLAG_W,TRITER,CDOM325,CDOM325_FLAG_W,CDOM340,CDOM340_FLAG_W,CDOM380,CDOM380_FLAG_W,CDOM412,CDOM412_FLAG_W,CDOM443,CDOM443_FLAG_W,CDOM490,CDOM490_FLAG_W,CDOM555,CDOM555_FLAG_W,CDOMSL,CDOMSL_FLAG_W,CDOMSN,CDOMSN_FLAG_W,THETA,D18O_NO3,D18O_NO3_FLAG_W,CDOM2C,CDOM2C_FLAG_W,CDOM3C,CDOM3C_FLAG_W,LAB_DEN,LAB_DEN_FLAG_W,DELSI30,DELSI30_FLAG_W,N2,N2_FLAG_W,D15N_NO3,D15N_NO3_FLAG_W,HELIER,DELHER
,,,,,,,,,,,METERS,DBAR,ITS-90,PSS-78,,PSS-78,,UMOL/KG,,UMOL/KG,,UMOL/KG,,UMOL/KG,,UMOL/KG,,UMOL/KG,,PMOL/KG,,PMOL/KG,,FMOL/KG,,UMOL/KG,,UMOL/KG,,UATM,,DEG C,,,DEG C,TU,,NMOL/KG,,PERCNT,,/MILLE,,/MILLE,,NMOL/KG,,NMOL/KG,PMOL/KG,,UG/KG,,UMOL/KG,,UMOL/KG,,UMOL/KG,,UG/KG,,UMOL/KG,,TU,1/M,,1/M,,1/M,,1/M,,1/M,,1/M,,1/M,,1/NM,,1/NM,,DEG C,/MILLE,,,,,,,,/MILLE,,UMOL/KG,,/MILLE,,NMOL/KG,PERCNT
33RO20071215,        P18,      53,          1,         24,      11024,2,20080101,       1542,    -3.9995,  -110.0023,       3785,     5.0,  23.3679,  35.0936,2,  35.0978,2,    216.5,2,   217.7,2,    5.40,2,   11.90,2,    0.30,2,    0.87,2,   1.940,2,   1.225,2,   1.0542,2,  2070.8,6,  2313.8,2,    442.1,2,    20.00,   7.9289,2,    25.00,   0.344,2,   1.6950,2,   -1.51,2,    1.08,2,  -999.0,1,   6.783,2,   0.023,-999.000,9,-999.000,9,   61.99,2,   15.37,2, -999.00,1, -999.00,9, -999.00,9,   0.007,-999.0000,9,-999.0000,9,-999.0000,9,-999.0000,9,-999.0000,9,-999.0000,9,-999.0000,9,-999.0000,9,-999.0000,9,  23.3669,     -999.0,9,     -999.0,9,     -999.0,9,     -999.0,9,     -999.0,9,     -999.0,9,     -999.0,9,   0.0047,    0.15
33RO20071215,        P18,      53,          1,         23,      11023,2,20080101,       1542,    -3.9995,  -110.0023,       3785,    20.3,  23.3364,  35.0932,2,  35.0999,2,    216.6,2,   217.0,2,    5.30,2,   11.90,2,    0.29,2,    0.88,2,   1.947,6,   1.219,6,   1.0408,6,  2072.2,2,  2313.8,2,    443.9,2,    20.00,   7.9328,2,    25.00,-999.000,9,-999.0000,9, -999.00,9, -999.00,9,  -999.0,9,-999.000,9,-999.000,-999.000,9,-999.000,9, -999.00,9, -999.00,9, -999.00,1, -999.00,9, -999.00,9,-999.000,-999.0000,9,-999.0000,9,-999.0000,9,-999.0000,9,-999.0000,9,-999.0000,9,-999.0000,9,-999.0000,9,-999.0000,9,  23.3322,     -999.0,9,     -999.0,9,     -999.0,9,     -999.0,9,     -999.0,9,     -999.0,9,     -999.0,9,-999.0000, -999.00
33RO20071215,        P18,      53,          1,         22,      11022,2,20080101,       1542,    -3.9995,  -110.0023,       3785,    41.9,  22.1212,  35.1555,2,  35.1586,2,    204.3,2,   207.9,2,    5.10,2,   11.00,2,    0.43,2,    0.91,2,   2.006,2,   1.241,2,   1.0216,2,  2085.6,2,  2205.5,4,   -999.0,9,  -999.00,   7.9194,2,    25.00,   0.338,2,   1.7067,2,   -1.63,2, -999.00,9,  -999.0,9,   6.896,2,   0.023,-999.000,9,-999.000,9,   56.86,2,   15.41,2, -999.00,1, -999.00,9, -999.00,9,   0.007,-999.0000,9,-999.0000,9,-999.0000,9,-999.0000,9,-999.0000,9,-999.0000,9,-999.0000,9,-999.0000,9,-999.0000,9,  22.1129,     -999.0,9,     -999.0,9,     -999.0,9,     -999.0,9,     -999.0,9,     -999.0,9,     -999.0,9,   0.0048,    0.15
33RO20071215,        P18,      53,          1,         21,      11021,2,20080101,       1542,    -3.9995,  -110.0023,       3785,    66.9,  16.2719,  35.0977,2,  35.0984,2,     74.8,2,    80.1,2,   12.50,2,   21.40,2,    0.82,2,    1.68,2,   1.628,2,   0.955,2,   0.4926,2,  2185.7,2,  2311.0,2,    899.4,6,    20.00,   7.6772,2,    25.00,-999.000,9,-999.0000,9, -999.00,9,    0.34,2,  -999.0,1,-999.000,9,-999.000,-999.000,9,-999.000,9, -999.00,9, -999.00,9, -999.00,1, -999.00,9, -999.00,9,-999.000,-999.0000,9,-999.0000,9,-999.0000,9,-999.0000,9,-999.0000,9,-999.0000,9,-999.0000,9,-999.0000,9,-999.0000,9,  16.2612,     -999.0,9,     -999.0,9,     -999.0,9,     -999.0,9,     -999.0,9,     -999.0,9,     -999.0,9,-999.0000, -999.00
33RO20071215,        P18,      53,          1,         20,      11020,2,20080101,       1542,    -3.9995,  -110.0023,       3785,    92.6,  14.1651,  35.0120,2,  35.0100,2,     44.9,2,    43.8,2,   17.90,2,   27.90,2,    0.49,2,    1.92,2,-999.000,5,-999.000,5,-999.0000,5,  2209.8,2,  2304.0,2,   1123.9,2,    20.00,   7.5968,2,    25.00,   0.253,2,   1.7648,2,    3.39,2, -999.00,9,  -999.0,1,   7.279,2,   0.025,-999.000,9,-999.000,9,   46.16,2,   31.34,2, -999.00,1, -999.00,9, -999.00,9,   0.006,-999.0000,9,-999.0000,9,-999.0000,9,-999.0000,9,-999.0000,9,-999.0000,9,-999.0000,9,-999.0000,9,-999.0000,9,  14.1517,     -999.0,9,     -999.0,9,     -999.0,9,     -999.0,9,     -999.0,9,     -999.0,9,     -999.0,9,   0.0049,    0.15
33RO20071215,        P18,      53,          1,         19,      11019,2,20080101,       1542,    -3.9995,  -110.0023,       3785,   117.6,  13.6305,  34.9790,2,  34.9791,2,     29.1,2,    29.6,2,   20.10,2,   30.10,2,    0.01,2,    2.07,2,   1.193,6,   0.676,6,   0.2875,6,  2221.8,2,  2299.7,2,   -999.0,9,  -999.00,   7.5424,2,    25.00,   0.242,2,   1.7638,2,    3.93,2, -999.00,9,  -999.0,9,   7.294,2,   0.025,-999.000,9,-999.000,9, -999.00,9, -999.00,9, -999.00,1, -999.00,9, -999.00,9,   0.006,-999.0000,9,-999.0000,9,-999.0000,9,-999.0000,9,-999.0000,9,-999.0000,9,-999.0000,9,-999.0000,9,-999.0000,9,  13.6139,     -999.0,9,     -999.0,9,     -999.0,9,     -999.0,9,     -999.0,9,     -999.0,9,     -999.0,9,   0.0049,    0.15
33RO20071215,        P18,      53,          1,         18,      11018,2,20080101,       1542,    -3.9995,  -110.0023,       3785,   141.0,  13.3679,  34.9603,2,  34.9593,2,     21.4,2,    21.6,2,   21.80,2,   31.00,2,    0.01,2,    2.17,2,   1.091,2,   0.608,2,   0.2351,2,  2229.9,2,  2298.8,2,   1341.5,2,    20.00,   7.5224,2,    25.00,-999.000,9,-999.0000,9, -999.00,9,   -0.03,2,  -999.0,1,-999.000,9,-999.000,-999.000,9,-999.000,9,   45.31,2,   33.39,2, -999.00,1, -999.00,9, -999.00,9,-999.000,-999.0000,9,-999.0000,9,-999.0000,9,-999.0000,9,-999.0000,9,-999.0000,9,-999.0000,9,-999.0000,9,-999.0000,9,  13.3482,     -999.0,9,     -999.0,9,     -999.0,9,     -999.0,9,     -999.0,9,     -999.0,9,     -999.0,9,-999.0000, -999.00
33RO20071215,        P18,      53,          1,         17,      11017,2,20080101,       1542,    -3.9995,  -110.0023,       3785,   182.1,  12.9640,  34.9330,2,  34.9321,2,     13.1,2,    13.3,2,   23.10,2,   32.50,2,    0.01,2,    2.26,2,   0.918,2,   0.520,2,   0.2173,2,  2237.4,2,  2298.2,2,   -999.0,9,  -999.00,   7.4928,2,    25.00,   0.231,2,-999.0000,9, -999.00,9,   -0.09,2,  -999.0,1,-999.000,9,-999.000,-999.000,9,-999.000,9,   44.60,2,   34.62,2, -999.00,1, -999.00,9, -999.00,9,   0.008,-999.0000,9,-999.0000,9,-999.0000,9,-999.0000,9,-999.0000,9,-999.0000,9,-999.0000,9,-999.0000,9,-999.0000,9,  12.9390,     -999.0,9,     -999.0,9,     -999.0,9,     -999.0,9,     -999.0,9,     -999.0,9,     -999.0,9,-999.0000, -999.00
33RO20071215,        P18,      53,          1,         16,      11016,2,20080101,       1542,    -3.9995,  -110.0023,       3785,   250.2,  12.3822,  34.8969,2,  34.8950,2,     14.3,2,    13.4,2,   25.30,2,   32.50,2,    0.00,2,    2.31,2,   0.719,2,   0.405,2,   0.1332,2,  2242.9,2,  -999.0,5,   1467.6,2,    20.00,   7.4782,2,    25.00,   0.190,2,   1.7859,2,    4.70,2,   -0.08,2,  -999.0,1,   7.379,2,   0.025,-999.000,9,-999.000,9,   43.53,2,   33.85,2, -999.00,1, -999.00,9, -999.00,9,   0.006,-999.0000,9,-999.0000,9,-999.0000,9,-999.0000,9,-999.0000,9,-999.0000,9,-999.0000,9,-999.0000,9,-999.0000,9,  12.3489,     -999.0,9,     -999.0,9,     -999.0,9,     -999.0,9,     -999.0,9,     -999.0,9,     -999.0,9,   0.0050,    0.15
33RO20071215,        P18,      53,          1,         15,      11015,2,20080101,       1542,    -3.9995,  -110.0023,       3785,   325.4,  11.3674,  34.8322,2,  34.8312,2,      6.1,2,     6.0,2,   29.80,2,   33.80,2,    0.00,2,    2.51,2,   0.451,2,   0.259,2,   0.0622,2,  2260.2,2,  2304.9,2,   -999.0,9,  -999.00,   7.4255,2,    25.00,   0.135,2,   1.8051,2,    5.21,2, -999.00,9,  -999.0,1,   7.484,2,   0.025,-999.000,9,-999.000,9,   43.00,2,   35.53,2, -999.00,1, -999.00,9, -999.00,9,   0.006,-999.0000,9,-999.0000,9,-999.0000,9,-999.0000,9,-999.0000,9,-999.0000,9,-999.0000,9,-999.0000,9,-999.0000,9,  11.3262,     -999.0,9,     -999.0,9,     -999.0,9,     -999.0,9,     -999.0,9,     -999.0,9,     -999.0,9,   0.0051,    0.15
33RO20071215,        P18,      53,          1,         14,      11014,2,20080101,       1542,    -3.9995,  -110.0023,       3785,   399.9,   9.6570,  34.7226,2,  34.7219,2,      7.3,2,     6.7,2,   37.40,2,   37.40,2,    0.00,2,    2.72,2,   0.172,2,   0.105,2,   0.0000,2,  2274.0,2,  2301.6,2,   1832.1,2,    20.00,   7.3985,2,    25.00,   0.048,2,   1.7907,2,    5.94,2,   -0.05,2,  -999.0,1,   7.485,2,   0.026,-999.000,9,-999.000,9,   41.90,2,   39.00,2, -999.00,1, -999.00,9, -999.00,9,   0.007,-999.0000,9,-999.0000,9,-999.0000,9,-999.0000,9,-999.0000,9,-999.0000,9,-999.0000,9,-999.0000,9,-999.0000,9,   9.6113,     -999.0,9,     -999.0,9,     -999.0,9,     -999.0,9,     -999.0,9,     -999.0,9,     -999.0,9,   0.0050,    0.15
33RO20071215,        P18,      53,          1,         13,      11013,2,20080101,       1542,    -3.9995,  -110.0023,       3785,   474.8,   8.6325,  34.6645,2,  34.6629,2,     14.9,2,    14.4,2,   40.60,2,   39.90,2,    0.00,2,    2.79,2,   0.077,2,   0.048,2,   0.0000,2,  2274.1,2,  2299.7,4,   -999.0,9,  -999.00,   7.3952,2,    25.00,-999.000,9,-999.0000,9, -999.00,9,    0.04,2,  -999.0,1,-999.000,9,-999.000,-999.000,9,-999.000,9,   41.36,2,   41.35,2, -999.00,1, -999.00,9, -999.00,9,-999.000,-999.0000,9,-999.0000,9,-999.0000,9,-999.0000,9,-999.0000,9,-999.0000,9,-999.0000,9,-999.0000,9,-999.0000,9,   8.5816,     -999.0,9,     -999.0,9,     -999.0,9,     -999.0,9,     -999.0,9,     -999.0,9,     -999.0,9,-999.0000, -999.00
33RO20071215,        P18,      53,          1,         12,      11012,2,20080101,       1542,    -3.9995,  -110.0023,       3785,   600.0,   7.0136,  34.5878,2,  34.5870,2,     39.2,2,    39.2,2,   50.90,2,   41.20,2,    0.00,2,    2.87,2,   0.035,2,   0.021,2,   0.0000,2,  2275.3,2,  -999.0,5,   1728.1,2,    20.00,   7.4194,2,    25.00,-999.000,9,-999.0000,9, -999.00,9,    0.11,2,  -999.0,1,-999.000,9,-999.000,-999.000,9,-999.000,9,   40.74,2,   42.54,2, -999.00,1, -999.00,9, -999.00,9,-999.000,-999.0000,9,-999.0000,9,-999.0000,9,-999.0000,9,-999.0000,9,-999.0000,9,-999.0000,9,-999.0000,9,-999.0000,9,   6.9561,     -999.0,9,     -999.0,9,     -999.0,9,     -999.0,9,     -999.0,9,     -999.0,9,     -999.0,9,-999.0000, -999.00
33RO20071215,        P18,      53,          1,         11,      11010,2,20080101,       1542,    -3.9995,  -110.0023,       3785,   750.5,   5.5997,  34.5482,2,  34.5482,2,     69.2,2,    73.7,2,   64.40,2,   40.20,2,    0.00,2,    2.82,2,   0.011,2,   0.009,2,   0.0340,2,  2276.8,2,  2329.9,4,   -999.0,9,  -999.00,   7.4600,2,    25.00,-999.000,9,-999.0000,9, -999.00,9,    0.23,2,  -999.0,1,-999.000,9,-999.000,-999.000,9,-999.000,9,   39.75,2,   41.98,2, -999.00,1, -999.00,9, -999.00,9,-999.000,-999.0000,9,-999.0000,9,-999.0000,9,-999.0000,9,-999.0000,9,-999.0000,9,-999.0000,9,-999.0000,9,-999.0000,9,   5.5350,     -999.0,9,     -999.0,9,     -999.0,9,     -999.0,9,     -999.0,9,     -999.0,9,     -999.0,9,-999.0000, -999.00
33RO20071215,        P18,      53,          1,         10,      11011,2,20080101,       1542,    -3.9995,  -110.0023,       3785,   900.2,   4.8650,  34.5467,2,  34.5473,2,     87.1,2,    86.2,2,   76.30,2,   39.60,2,    0.00,2,    2.80,2,   0.010,2,   0.007,2,   0.0000,2,  2284.5,2,  2314.7,4,   1503.2,2,    20.00,   7.4712,2,    25.00,-999.000,9,-999.0000,9, -999.00,9, -999.00,9,  -999.0,9,-999.000,9,-999.000,-999.000,9,-999.000,9,   38.75,2,   40.68,2, -999.00,1, -999.00,9, -999.00,9,-999.000,-999.0000,9,-999.0000,9,-999.0000,9,-999.0000,9,-999.0000,9,-999.0000,9,-999.0000,9,-999.0000,9,-999.0000,9,   4.7915,     -999.0,9,     -999.0,9,     -999.0,9,     -999.0,9,     -999.0,9,     -999.0,9,     -999.0,9,-999.0000, -999.00
33RO20071215,        P18,      53,          1,          9,      11009,2,20080101,       1542,    -3.9995,  -110.0023,       3785,  1050.1,   4.2401,  34.5567,2,  34.5580,2,     93.2,2,    92.8,2,   88.80,2,   39.40,2,    0.00,2,    2.79,2,   0.002,2,   0.003,2,   0.0000,2,  2294.6,2,  2354.5,2,   -999.0,9,  -999.00,   7.4886,2,    25.00,-999.000,9,-999.0000,9, -999.00,9,    0.16,2,  -999.0,1,-999.000,9,-999.000,-999.000,9,-999.000,9, -999.00,9, -999.00,9, -999.00,1, -999.00,9, -999.00,9,-999.000,-999.0000,9,-999.0000,9,-999.0000,9,-999.0000,9,-999.0000,9,-999.0000,9,-999.0000,9,-999.0000,9,-999.0000,9,   4.1582,     -999.0,9,     -999.0,9,     -999.0,9,     -999.0,9,     -999.0,9,     -999.0,9,     -999.0,9,-999.0000, -999.00
33RO20071215,        P18,      53,          1,          8,      11008,2,20080101,       1542,    -3.9995,  -110.0023,       3785,  1233.0,   3.6777,  34.5754,2,  34.5756,2,     95.1,2,    95.2,2,  101.90,2,   39.60,2,    0.00,2,    2.81,2,   0.000,2,   0.000,2,   0.0000,2,  2308.9,2,  2370.3,2,   -999.0,9,  -999.00,   7.4829,2,    25.00,-999.000,9,-999.0000,9, -999.00,9, -999.00,9,  -999.0,9,-999.000,9,-999.000,-999.000,9,-999.000,9,   37.87,2,   41.00,2, -999.00,1, -999.00,9, -999.00,9,-999.000,-999.0000,9,-999.0000,9,-999.0000,9,-999.0000,9,-999.0000,9,-999.0000,9,-999.0000,9,-999.0000,9,-999.0000,9,   3.5852,     -999.0,9,     -999.0,9,     -999.0,9,     -999.0,9,     -999.0,9,     -999.0,9,     -999.0,9,-999.0000, -999.00
33RO20071215,        P18,      53,          1,          7,      11007,2,20080101,       1542,    -3.9995,  -110.0023,       3785,  1500.6,   3.0210,  34.6058,2,  34.6063,2,     93.3,2,    95.9,3,  121.80,2,   40.10,2,    0.00,2,    2.85,2,   0.001,2,   0.001,2,   0.0000,2,  2331.0,2,  2390.6,2,   1493.4,2,    20.00,   7.4853,2,    25.00,-999.000,9,-999.0000,9, -999.00,9,   -0.02,2,  -999.0,1,-999.000,9,-999.000,-999.000,9,-999.000,9,   37.24,2,   41.56,2, -999.00,1, -999.00,9, -999.00,9,-999.000,-999.0000,9,-999.0000,9,-999.0000,9,-999.0000,9,-999.0000,9,-999.0000,9,-999.0000,9,-999.0000,9,-999.0000,9,   2.9128,     -999.0,9,     -999.0,9,     -999.0,9,     -999.0,9,     -999.0,9,     -999.0,9,     -999.0,9,-999.0000, -999.00
33RO20071215,        P18,      53,          1,          6,      11006,2,20080101,       1542,    -3.9995,  -110.0023,       3785,  1866.8,   2.5026,  34.6331,2,  34.6343,2,    101.9,2,   100.7,2,  136.90,2,   39.60,2,    0.00,2,    2.79,2,  -0.002,2,   0.000,2,   0.0000,2,  2341.6,2,  2405.0,2,   -999.0,9,  -999.00,   7.4965,2,    25.00,-999.000,9,-999.0000,9, -999.00,9,    0.22,3,  -999.0,1,-999.000,9,-999.000,-999.000,9,-999.000,9,   36.36,2,   40.35,2, -999.00,1, -999.00,9, -999.00,9,-999.000,-999.0000,9,-999.0000,9,-999.0000,9,-999.0000,9,-999.0000,9,-999.0000,9,-999.0000,9,-999.0000,9,-999.0000,9,   2.3700,     -999.0,9,     -999.0,9,     -999.0,9,     -999.0,9,     -999.0,9,     -999.0,9,     -999.0,9,-999.0000, -999.00
33RO20071215,        P18,      53,          1,          5,      11005,2,20080101,       1542,    -3.9995,  -110.0023,       3785,  2268.3,   2.0837,  34.6531,2,  34.6543,2,    120.3,2,   120.2,2,  141.30,2,   38.50,2,    0.00,2,    2.68,2,   0.000,2,   0.000,2,   0.0000,2,  2337.2,2,  2411.3,2,   1335.9,2,    20.00,   7.5205,2,    25.00,-999.000,9,-999.0000,9, -999.00,9, -999.00,9,  -999.0,9,-999.000,9,-999.000,   0.003,3,-999.000,9,   36.48,2,   39.92,2, -999.00,1, -999.00,9, -999.00,9,-999.000,-999.0000,9,-999.0000,9,-999.0000,9,-999.0000,9,-999.0000,9,-999.0000,9,-999.0000,9,-999.0000,9,-999.0000,9,   1.9227,     -999.0,9,     -999.0,9,     -999.0,9,     -999.0,9,     -999.0,9,     -999.0,9,     -999.0,9,-999.0000, -999.00
33RO20071215,        P18,      53,          1,          4,      11004,2,20080101,       1542,    -3.9995,  -110.0023,       3785,  2666.8,   1.8071,  34.6721,2,  34.6724,2,    133.3,2,   132.8,2,  146.00,6,   37.60,6,    0.00,6,    2.59,2,  -0.002,2,   0.000,2,   0.0000,2,  2336.7,2,  2419.5,2,   -999.0,9,  -999.00,   7.5473,2,    25.00,-999.000,9,-999.0000,9, -999.00,9,     0.1,2,  -999.0,1,-999.000,9,-999.000,   0.001,3,-999.000,9,   36.50,2,   39.22,2, -999.00,9, -999.00,9, -999.00,9,-999.000,-999.0000,9,-999.0000,9,-999.0000,9,-999.0000,9,-999.0000,9,-999.0000,9,-999.0000,9,-999.0000,9,-999.0000,9,   1.6151,     -999.0,9,     -999.0,9,     -999.0,9,     -999.0,9,     -999.0,9,     -999.0,9,     -999.0,9,-999.0000, -999.00
33RO20071215,        P18,      53,          1,          3,      11003,2,20080101,       1542,    -3.9995,  -110.0023,       3785,  3068.8,   1.5875,  34.6845,2,  34.6851,2,    147.1,2,   147.3,2,  147.60,6,   36.70,6,    0.00,6,    2.51,2,   0.001,2,   0.000,2,   0.0000,2,  2331.9,2,  2422.1,2,   1179.0,2,    20.00,   7.5786,2,    25.00,-999.000,9,-999.0000,9, -999.00,9,    0.16,2,  -999.0,1,-999.000,9,-999.000,   0.004,3,-999.000,9,   36.93,2,   37.71,2, -999.00,9, -999.00,9, -999.00,9,-999.000,-999.0000,9,-999.0000,9,-999.0000,9,-999.0000,9,-999.0000,9,-999.0000,9,-999.0000,9,-999.0000,9,-999.0000,9,   1.3621,     -999.0,9,     -999.0,9,     -999.0,9,     -999.0,9,     -999.0,9,     -999.0,9,     -999.0,9,-999.0000, -999.00
33RO20071215,        P18,      53,          1,          2,      11002,2,20080101,       1542,    -3.9995,  -110.0023,       3785,  3467.1,   1.5037,  34.6898,2,  34.6909,2,    154.5,2,   154.3,2,  148.00,6,   36.30,6,    0.00,6,    2.47,2,   0.000,2,   0.000,2,   0.0000,2,  2329.3,2,  2425.3,2,   -999.0,9,  -999.00,   7.6087,2,    25.00,-999.000,9,-999.0000,9, -999.00,9,    0.07,2,  -999.0,1,-999.000,9,-999.000,   0.002,3,-999.000,9,   37.75,2,   37.73,2, -999.00,9, -999.00,9, -999.00,9,-999.000,-999.0000,9,-999.0000,9,-999.0000,9,-999.0000,9,-999.0000,9,-999.0000,9,-999.0000,9,-999.0000,9,-999.0000,9,   1.2408,     -999.0,9,     -999.0,9,     -999.0,9,     -999.0,9,     -999.0,9,     -999.0,9,     -999.0,9,-999.0000, -999.00
33RO20071215,        P18,      53,          1,          1,      11001,2,20080101,       1542,    -3.9995,  -110.0023,       3785,  3833.8,   1.5113,  34.6911,2,  34.6915,2,    157.0,2,   148.6,3,  148.10,2,   36.20,2,    0.00,2,    2.47,2,   0.000,6,   0.001,6,   0.0184,6,  2325.3,6,  2429.1,2,   1135.2,2,    20.00,   7.5885,2,    25.00,-999.000,9,-999.0000,9, -999.00,9,    0.13,2,  -999.0,1,-999.000,9,-999.000,   0.003,3,-999.000,9,   39.06,2,   37.63,2, -999.00,9, -999.00,9, -999.00,9,-999.000,-999.0000,9,-999.0000,9,-999.0000,9,-999.0000,9,-999.0000,9,-999.0000,9,-999.0000,9,-999.0000,9,-999.0000,9,   1.2099,     -999.0,9,     -999.0,9,     -999.0,9,     -999.0,9,     -999.0,9,     -999.0,9,     -999.0,9,-999.0000, -999.00