BOTTLE,20220818CCHSIOAMB
EXPOCODE,SECT_ID,STNNBR,CASTNO,SAMPNO,BTLNBR,BTLNBR_FLAG_W,DATE,TIME,LATITUDE,LONGITUDE,DEPTH,CTDPRS,CTDTMP,CTDSAL,CTDSAL_FLAG_W,SALNTY,SALNTY_FLAG_W,CTDOXY,CTDOXY_FLAG_W,OXYGEN,OXYGEN_FLAG_W,SILCAT,SILCAT_FLAG_W,NITRAT,NITRAT_FLAG_W,NITRIT,NITRIT_FLAG_W,PHSPHT,PHSPHT_FLAG_W,CFC-11,CFC-11_FLAG_W,CFC-12,CFC-12_FLAG_W,SF6,SF6_FLAG_W,TCARBN,TCARBN_FLAG_W,ALKALI,ALKALI_FLAG_W,FCO2,FCO2_FLAG_W,FCO2TMP,PH_SWS,PH_SWS_FLAG_W,PH_TMP,TRITUM,TRITUM_FLAG_W,HELIUM,HELIUM_FLAG_W,DELHE3,DELHE3_FLAG_W,DELC13,DELC13_FLAG_W,DELC14,DELC14_FLAG_W,NEON,NEON_FLAG_W,NEONER,CCL4,CCL4_FLAG_W,POC,POC_FLAG_W,DOC,DOC_FLAG_W,TDN,TDN_FLAG_W,DON,DON_FLAG_W,CHLORA,CHLORA_FLAG_W,ARGON,ARGON_FLAG_W,TRITER,CDOM325,CDOM325_FLAG_W,CDOM340,CDOM340_FLAG_W,CDOM380,CDOM380_FLAG_W,CDOM412,CDOM412_FLAG_W,CDOM443,CDOM443_FLAG_W,CDOM490,CDOM490_FLAG_W,CDOM555,CDOM555_FLAG_W,CDOMSL,CDOMSL_FLAG_W,CDOMSN,CDOMSN_FLAG_W,THETA,D18O_NO3,D18O_NO3_FLAG_W,CDOM2C,CDOM2C_FLAG_W,CDOM3C,CDOM3C_FLAG_W,LAB_DEN,LAB_DEN_FLAG_W,DELSI30,DELSI30_FLAG_W,N2,N2_FLAG_W,D15N_NO3,D15N_NO3_FLAG_W,HELIER,DELHER
,,,,,,,,,,,METERS,DBAR,ITS-90,PSS-78,,PSS-78,,UMOL/KG,,UMOL/KG,,UMOL/KG,,UMOL/KG,,UMOL/KG,,UMOL/KG,,PMOL/KG,,PMOL/KG,,FMOL/KG,,UMOL/KG,,UMOL/KG,,UATM,,DEG C,,,DEG C,TU,,NMOL/KG,,PERCNT,,/MILLE,,/MILLE,,NMOL/KG,,NMOL/KG,PMOL/KG,,UG/KG,,UMOL/KG,,UMOL/KG,,UMOL/KG,,UG/KG,,UMOL/KG,,TU,1/M,,1/M,,1/M,,1/M,,1/M,,1/M,,1/M,,1/NM,,1/NM,,DEG C,/MILLE,,,,,,,,/MILLE,,UMOL/KG,,/MILLE,,NMOL/KG,PERCNT
33RO20071215,        P18,     148,          1,         36,      12017,2,20080207,       0136,   -57.2503,  -102.9997,       4288,     5.3,   6.7326,  34.0550,2,  34.0532,2,    300.9,2,   301.7,2,    2.90,2,   20.40,2,    0.20,2,    1.42,2,-999.000,9,-999.000,9,-999.0000,9,  2112.9,6,  2281.2,2,    648.9,2,    20.00,   7.7793,2,    25.00,-999.000,9,-999.0000,9, -999.00,9, -999.00,9,  -999.0,9,-999.000,9,-999.000,-999.000,9,-999.000,9, -999.00,9, -999.00,9, -999.00,9, -999.00,9, -999.00,9,-999.000,-999.0000,9,-999.0000,9,-999.0000,9,-999.0000,9,-999.0000,9,-999.0000,9,-999.0000,9,-999.0000,9,-999.0000,9,   6.7321,     -999.0,9,     -999.0,9,     -999.0,9,     -999.0,9,     -999.0,9,     -999.0,9,     -999.0,9,-999.0000, -999.00
33RO20071215,        P18,     148,          1,         35,      12029,2,20080207,       0136,   -57.2503,  -102.9997,       4288,    10.0,   6.7318,  34.0549,2,  34.0538,2,    301.1,2,   301.4,2,    2.90,2,   20.40,2,    0.20,2,    1.42,2,-999.000,9,-999.000,9,-999.0000,9,  2112.5,2,  2276.5,2,   -999.0,9,  -999.00,   7.7982,2,    25.00,-999.000,9,-999.0000,9, -999.00,9, -999.00,9,  -999.0,9,-999.000,9,-999.000,-999.000,9,-999.000,9, -999.00,9, -999.00,9, -999.00,9, -999.00,9, -999.00,9,-999.000,-999.0000,9,-999.0000,9,-999.0000,9,-999.0000,9,-999.0000,9,-999.0000,9,-999.0000,9,-999.0000,9,-999.0000,9,   6.7309,     -999.0,9,     -999.0,9,     -999.0,9,     -999.0,9,     -999.0,9,     -999.0,9,     -999.0,9,-999.0000, -999.00
33RO20071215,        P18,     148,          1,         34,      12049,2,20080207,       0136,   -57.2503,  -102.9997,       4288,    25.0,   6.5983,  34.0616,2,  34.0589,2,    301.5,2,   301.1,2,    2.80,2,   20.10,2,    0.18,2,    1.41,2,-999.000,9,-999.000,9,-999.0000,9,  2110.9,2,  2283.8,2,   -999.0,9,  -999.00,   7.7945,2,    25.00,-999.000,9,-999.0000,9, -999.00,9, -999.00,9,  -999.0,9,-999.000,9,-999.000,-999.000,9,-999.000,9, -999.00,9, -999.00,9, -999.00,9, -999.00,9, -999.00,9,-999.000,-999.0000,9,-999.0000,9,-999.0000,9,-999.0000,9,-999.0000,9,-999.0000,9,-999.0000,9,-999.0000,9,-999.0000,9,   6.5961,     -999.0,9,     -999.0,9,     -999.0,9,     -999.0,9,     -999.0,9,     -999.0,9,     -999.0,9,-999.0000, -999.00
33RO20071215,        P18,     148,          1,         33,      12027,2,20080207,       0136,   -57.2503,  -102.9997,       4288,    50.2,   6.5270,  34.0598,2,  34.0647,2,    299.4,2,   301.2,2,    2.80,2,   20.20,2,    0.18,2,    1.41,2,-999.000,9,-999.000,9,-999.0000,9,  2112.1,2,  2280.8,2,    646.6,6,    20.00,   7.8008,2,    25.00,-999.000,9,-999.0000,9, -999.00,9, -999.00,9,  -999.0,9,-999.000,9,-999.000,-999.000,9,-999.000,9, -999.00,9, -999.00,9, -999.00,9, -999.00,9, -999.00,9,-999.000,-999.0000,9,-999.0000,9,-999.0000,9,-999.0000,9,-999.0000,9,-999.0000,9,-999.0000,9,-999.0000,9,-999.0000,9,   6.5226,     -999.0,9,     -999.0,9,     -999.0,9,     -999.0,9,     -999.0,9,     -999.0,9,     -999.0,9,-999.0000, -999.00
33RO20071215,        P18,     148,          1,         32,      12023,2,20080207,       0136,   -57.2503,  -102.9997,       4288,    74.4,   6.5307,  34.0613,2,  34.0629,2,    300.3,2,   300.7,2,    2.80,2,   20.10,2,    0.18,2,    1.41,2,-999.000,9,-999.000,9,-999.0000,9,  2112.3,2,  2280.6,2,   -999.0,9,  -999.00,   7.7954,2,    25.00,-999.000,9,-999.0000,9, -999.00,9, -999.00,9,  -999.0,9,-999.000,9,-999.000,-999.000,9,-999.000,9, -999.00,9, -999.00,9, -999.00,9, -999.00,9, -999.00,9,-999.000,-999.0000,9,-999.0000,9,-999.0000,9,-999.0000,9,-999.0000,9,-999.0000,9,-999.0000,9,-999.0000,9,-999.0000,9,   6.5242,     -999.0,9,     -999.0,9,     -999.0,9,     -999.0,9,     -999.0,9,     -999.0,9,     -999.0,9,-999.0000, -999.00
33RO20071215,        P18,     148,          1,         31,      12037,2,20080207,       0136,   -57.2503,  -102.9997,       4288,   100.1,   5.7778,  34.0601,2,  34.0593,2,    301.0,2,   301.0,2,    4.40,2,   21.00,2,    0.20,2,    1.52,2,-999.000,9,-999.000,9,-999.0000,9,  2118.8,2,  2282.4,2,    680.4,2,    20.00,   7.7796,2,    25.00,-999.000,9,-999.0000,9, -999.00,9, -999.00,9,  -999.0,9,-999.000,9,-999.000,-999.000,9,-999.000,9, -999.00,9, -999.00,9, -999.00,9, -999.00,9, -999.00,9,-999.000,-999.0000,9,-999.0000,9,-999.0000,9,-999.0000,9,-999.0000,9,-999.0000,9,-999.0000,9,-999.0000,9,-999.0000,9,   5.7696,     -999.0,9,     -999.0,9,     -999.0,9,     -999.0,9,     -999.0,9,     -999.0,9,     -999.0,9,-999.0000, -999.00
33RO20071215,        P18,     148,          1,         30,      12036,2,20080207,       0136,   -57.2503,  -102.9997,       4288,   125.1,   5.0246,  34.0723,2,  34.0727,2,    303.7,2,   300.9,2,    7.60,2,   22.50,2,    0.37,2,    1.62,2,-999.000,9,-999.000,9,-999.0000,9,  2129.6,2,  2247.2,4,   -999.0,9,  -999.00,   7.7448,2,    25.00,-999.000,9,-999.0000,9, -999.00,9, -999.00,9,  -999.0,9,-999.000,9,-999.000,-999.000,9,-999.000,9, -999.00,9, -999.00,9, -999.00,9, -999.00,9, -999.00,9,-999.000,-999.0000,9,-999.0000,9,-999.0000,9,-999.0000,9,-999.0000,9,-999.0000,9,-999.0000,9,-999.0000,9,-999.0000,9,   5.0150,     -999.0,9,     -999.0,9,     -999.0,9,     -999.0,9,     -999.0,9,     -999.0,9,     -999.0,9,-999.0000, -999.00
33RO20071215,        P18,     148,          1,         29,      12044,2,20080207,       0136,   -57.2503,  -102.9997,       4288,   149.7,   4.8945,  34.1169,2,  34.1212,2,    297.6,2,   295.7,2,    8.80,2,   23.60,2,    0.01,2,    1.63,2,-999.000,9,-999.000,9,-999.0000,9,  2134.3,2,  2276.5,2,    747.3,2,    20.00,   7.7410,2,    25.00,-999.000,9,-999.0000,9, -999.00,9, -999.00,9,  -999.0,9,-999.000,9,-999.000,-999.000,9,-999.000,9, -999.00,9, -999.00,9, -999.00,9, -999.00,9, -999.00,9,-999.000,-999.0000,9,-999.0000,9,-999.0000,9,-999.0000,9,-999.0000,9,-999.0000,9,-999.0000,9,-999.0000,9,-999.0000,9,   4.8832,     -999.0,9,     -999.0,9,     -999.0,9,     -999.0,9,     -999.0,9,     -999.0,9,     -999.0,9,-999.0000, -999.00
33RO20071215,        P18,     148,          1,         28,      12057,2,20080207,       0136,   -57.2503,  -102.9997,       4288,   175.2,   4.5650,  34.0990,2,  34.0944,2,    295.4,2,   296.1,2,    9.50,2,   24.10,2,    0.01,2,    1.67,2,-999.000,9,-999.000,9,-999.0000,9,  2138.0,2,  2274.6,2,   -999.0,9,  -999.00,   7.7343,2,    25.00,-999.000,9,-999.0000,9, -999.00,9, -999.00,9,  -999.0,9,-999.000,9,-999.000,-999.000,9,-999.000,9, -999.00,9, -999.00,9, -999.00,9, -999.00,9, -999.00,9,-999.000,-999.0000,9,-999.0000,9,-999.0000,9,-999.0000,9,-999.0000,9,-999.0000,9,-999.0000,9,-999.0000,9,-999.0000,9,   4.5522,     -999.0,9,     -999.0,9,     -999.0,9,     -999.0,9,     -999.0,9,     -999.0,9,     -999.0,9,-999.0000, -999.00
33RO20071215,        P18,     148,          1,         27,      12026,2,20080207,       0136,   -57.2503,  -102.9997,       4288,   200.6,   4.4262,  34.0964,2,  34.0933,2,    293.1,2,   294.9,2,   10.10,2,   24.60,2,    0.01,2,    1.69,2,-999.000,9,-999.000,9,-999.0000,9,  2139.3,2,  2282.0,2,    770.5,2,    20.00,   7.7285,2,    25.00,-999.000,9,-999.0000,9, -999.00,9, -999.00,9,  -999.0,9,-999.000,9,-999.000,-999.000,9,-999.000,9, -999.00,9, -999.00,9, -999.00,9, -999.00,9, -999.00,9,-999.000,-999.0000,9,-999.0000,9,-999.0000,9,-999.0000,9,-999.0000,9,-999.0000,9,-999.0000,9,-999.0000,9,-999.0000,9,   4.4117,     -999.0,9,     -999.0,9,     -999.0,9,     -999.0,9,     -999.0,9,     -999.0,9,     -999.0,9,-999.0000, -999.00
33RO20071215,        P18,     148,          1,         26,      12030,2,20080207,       0136,   -57.2503,  -102.9997,       4288,   250.4,   4.1695,  34.0902,2,  34.0921,2,    289.8,2,   290.6,2,   11.60,2,   25.30,2,    0.01,2,    1.74,2,-999.000,9,-999.000,9,-999.0000,9,  2144.8,2,  2282.3,2,    790.0,2,    20.00,   7.7212,2,    25.00,-999.000,9,-999.0000,9, -999.00,9, -999.00,9,  -999.0,9,-999.000,9,-999.000,-999.000,9,-999.000,9, -999.00,9, -999.00,9, -999.00,9, -999.00,9, -999.00,9,-999.000,-999.0000,9,-999.0000,9,-999.0000,9,-999.0000,9,-999.0000,9,-999.0000,9,-999.0000,9,-999.0000,9,-999.0000,9,   4.1518,     -999.0,9,     -999.0,9,     -999.0,9,     -999.0,9,     -999.0,9,     -999.0,9,     -999.0,9,-999.0000, -999.00
33RO20071215,        P18,     148,          1,         25,      12024,2,20080207,       0136,   -57.2503,  -102.9997,       4288,   299.6,   4.0168,  34.1006,2,  34.0961,2,    283.1,2,   284.0,2,   13.60,2,   26.30,2,    0.01,2,    1.80,2,-999.000,9,-999.000,9,-999.0000,9,  -999.0,9,  -999.0,9,   -999.0,9,  -999.00,-999.0000,9,  -999.00,-999.000,9,-999.0000,9, -999.00,9, -999.00,9,  -999.0,9,-999.000,9,-999.000,-999.000,9,-999.000,9, -999.00,9, -999.00,9, -999.00,9, -999.00,9, -999.00,9,-999.000,-999.0000,9,-999.0000,9,-999.0000,9,-999.0000,9,-999.0000,9,-999.0000,9,-999.0000,9,-999.0000,9,-999.0000,9,   3.9959,     -999.0,9,     -999.0,9,     -999.0,9,     -999.0,9,     -999.0,9,     -999.0,9,     -999.0,9,-999.0000, -999.00
33RO20071215,        P18,     148,          1,         24,      12019,2,20080207,       0136,   -57.2503,  -102.9997,       4288,   350.9,   3.8089,  34.1057,2,  34.1060,2,    276.5,2,   276.0,2,   16.10,2,   27.30,2,    0.01,2,    1.86,2,-999.000,9,-999.000,9,-999.0000,9,  2158.9,2,  2286.1,2,    851.3,2,    20.00,   7.6913,2,    25.00,-999.000,9,-999.0000,9, -999.00,9, -999.00,9,  -999.0,9,-999.000,9,-999.000,-999.000,9,-999.000,9, -999.00,9, -999.00,9, -999.00,9, -999.00,9, -999.00,9,-999.000,-999.0000,9,-999.0000,9,-999.0000,9,-999.0000,9,-999.0000,9,-999.0000,9,-999.0000,9,-999.0000,9,-999.0000,9,   3.7848,     -999.0,9,     -999.0,9,     -999.0,9,     -999.0,9,     -999.0,9,     -999.0,9,     -999.0,9,-999.0000, -999.00
33RO20071215,        P18,     148,          1,         23,      12022,2,20080207,       0136,   -57.2503,  -102.9997,       4288,   400.4,   3.7622,  34.1337,2,  34.1332,2,    263.1,2,   264.1,2,   19.30,2,   28.30,2,    0.01,2,    1.94,2,-999.000,9,-999.000,9,-999.0000,9,  -999.0,9,  -999.0,9,   -999.0,9,  -999.00,-999.0000,9,  -999.00,-999.000,9,-999.0000,9, -999.00,9, -999.00,9,  -999.0,9,-999.000,9,-999.000,-999.000,9,-999.000,9, -999.00,9, -999.00,9, -999.00,9, -999.00,9, -999.00,9,-999.000,-999.0000,9,-999.0000,9,-999.0000,9,-999.0000,9,-999.0000,9,-999.0000,9,-999.0000,9,-999.0000,9,-999.0000,9,   3.7347,     -999.0,9,     -999.0,9,     -999.0,9,     -999.0,9,     -999.0,9,     -999.0,9,     -999.0,9,-999.0000, -999.00
33RO20071215,        P18,     148,          1,         22,      12015,2,20080207,       0136,   -57.2503,  -102.9997,       4288,   500.5,   3.7804,  34.2138,2,  34.2112,2,    242.1,2,   237.5,2,   26.90,2,   30.30,2,    0.01,2,    2.06,2,-999.000,9,-999.000,9,-999.0000,9,  2185.0,2,  2292.3,2,    970.9,2,    20.00,   7.6404,2,    25.00,-999.000,9,-999.0000,9, -999.00,9, -999.00,9,  -999.0,9,-999.000,9,-999.000,-999.000,9,-999.000,9, -999.00,9, -999.00,9, -999.00,9, -999.00,9, -999.00,9,-999.000,-999.0000,9,-999.0000,9,-999.0000,9,-999.0000,9,-999.0000,9,-999.0000,9,-999.0000,9,-999.0000,9,-999.0000,9,   3.7455,     -999.0,9,     -999.0,9,     -999.0,9,     -999.0,9,     -999.0,9,     -999.0,9,     -999.0,9,-999.0000, -999.00
33RO20071215,        P18,     148,          1,         21,      12020,2,20080207,       0136,   -57.2503,  -102.9997,       4288,   600.6,   3.4846,  34.2500,2,  34.2485,2,    229.8,2,   225.2,2,   33.60,2,   31.60,2,    0.00,2,    2.16,2,-999.000,9,-999.000,9,-999.0000,9,  -999.0,9,  -999.0,9,   -999.0,9,  -999.00,-999.0000,9,  -999.00,-999.000,9,-999.0000,9, -999.00,9, -999.00,9,  -999.0,9,-999.000,9,-999.000,-999.000,9,-999.000,9, -999.00,9, -999.00,9, -999.00,9, -999.00,9, -999.00,9,-999.000,-999.0000,9,-999.0000,9,-999.0000,9,-999.0000,9,-999.0000,9,-999.0000,9,-999.0000,9,-999.0000,9,-999.0000,9,   3.4436,     -999.0,9,     -999.0,9,     -999.0,9,     -999.0,9,     -999.0,9,     -999.0,9,     -999.0,9,-999.0000, -999.00
33RO20071215,        P18,     148,          1,         20,      12055,2,20080207,       0136,   -57.2503,  -102.9997,       4288,   700.3,   3.1820,  34.2926,2,  34.2932,2,    212.6,2,   213.9,2,   41.00,2,   32.70,2,    0.00,2,    2.24,2,-999.000,9,-999.000,9,-999.0000,9,  2210.4,2,  2302.2,2,   1076.5,2,    20.00,   7.6090,2,    25.00,-999.000,9,-999.0000,9, -999.00,9, -999.00,9,  -999.0,9,-999.000,9,-999.000,-999.000,9,-999.000,9, -999.00,9, -999.00,9, -999.00,9, -999.00,9, -999.00,9,-999.000,-999.0000,9,-999.0000,9,-999.0000,9,-999.0000,9,-999.0000,9,-999.0000,9,-999.0000,9,-999.0000,9,-999.0000,9,   3.1354,     -999.0,9,     -999.0,9,     -999.0,9,     -999.0,9,     -999.0,9,     -999.0,9,     -999.0,9,-999.0000, -999.00
33RO20071215,        P18,     148,          1,         19,      12018,2,20080207,       0136,   -57.2503,  -102.9997,       4288,   799.6,   2.9610,  34.3356,2,  34.3378,2,    204.0,2,   203.8,2,   48.00,2,   33.70,2,    0.00,2,    2.30,2,-999.000,9,-999.000,9,-999.0000,9,  -999.0,9,  -999.0,9,   -999.0,9,  -999.00,-999.0000,9,  -999.00,-999.000,9,-999.0000,9, -999.00,9, -999.00,9,  -999.0,9,-999.000,9,-999.000,-999.000,9,-999.000,9, -999.00,9, -999.00,9, -999.00,9, -999.00,9, -999.00,9,-999.000,-999.0000,9,-999.0000,9,-999.0000,9,-999.0000,9,-999.0000,9,-999.0000,9,-999.0000,9,-999.0000,9,-999.0000,9,   2.9084,     -999.0,9,     -999.0,9,     -999.0,9,     -999.0,9,     -999.0,9,     -999.0,9,     -999.0,9,-999.0000, -999.00
33RO20071215,        P18,     148,          1,         18,      12025,2,20080207,       0136,   -57.2503,  -102.9997,       4288,   899.5,   2.8564,  34.3972,2,  34.3787,2,    192.1,2,   194.3,2,   53.50,2,   34.20,2,    0.00,2,    2.34,2,-999.000,9,-999.000,9,-999.0000,9,  2228.6,2,  2314.7,2,   1148.3,2,    20.00,   7.5777,2,    25.00,-999.000,9,-999.0000,9, -999.00,9, -999.00,9,  -999.0,9,-999.000,9,-999.000,-999.000,9,-999.000,9, -999.00,9, -999.00,9, -999.00,9, -999.00,9, -999.00,9,-999.000,-999.0000,9,-999.0000,9,-999.0000,9,-999.0000,9,-999.0000,9,-999.0000,9,-999.0000,9,-999.0000,9,-999.0000,9,   2.7972,     -999.0,9,     -999.0,9,     -999.0,9,     -999.0,9,     -999.0,9,     -999.0,9,     -999.0,9,-999.0000, -999.00
33RO20071215,        P18,     148,          1,         17,      12016,2,20080207,       0136,   -57.2503,  -102.9997,       4288,   999.4,   2.6931,  34.4544,2,  34.4538,2,    182.6,2,   181.7,2,   62.80,2,   34.80,2,    0.00,2,    2.38,2,-999.000,9,-999.000,9,-999.0000,9,  -999.0,9,  -999.0,9,   -999.0,9,  -999.00,-999.0000,9,  -999.00,-999.000,9,-999.0000,9, -999.00,9, -999.00,9,  -999.0,9,-999.000,9,-999.000,-999.000,9,-999.000,9, -999.00,9, -999.00,9, -999.00,9, -999.00,9, -999.00,9,-999.000,-999.0000,9,-999.0000,9,-999.0000,9,-999.0000,9,-999.0000,9,-999.0000,9,-999.0000,9,-999.0000,9,-999.0000,9,   2.6277,     -999.0,9,     -999.0,9,     -999.0,9,     -999.0,9,     -999.0,9,     -999.0,9,     -999.0,9,-999.0000, -999.00
33RO20071215,        P18,     148,          1,         16,      12051,2,20080207,       0136,   -57.2503,  -102.9997,       4288,  1199.8,   2.5259,  34.5423,2,  34.5405,2,    173.9,2,   173.6,2,   71.70,2,   34.70,2,    0.00,2,    2.38,2,-999.000,9,-999.000,9,-999.0000,9,  2252.8,6,  2332.8,2,   1204.5,2,    20.00,   7.5723,2,    25.00,-999.000,9,-999.0000,9, -999.00,9, -999.00,9,  -999.0,9,-999.000,9,-999.000,-999.000,9,-999.000,9, -999.00,9, -999.00,9, -999.00,9, -999.00,9, -999.00,9,-999.000,-999.0000,9,-999.0000,9,-999.0000,9,-999.0000,9,-999.0000,9,-999.0000,9,-999.0000,9,-999.0000,9,-999.0000,9,   2.4469,     -999.0,9,     -999.0,9,     -999.0,9,     -999.0,9,     -999.0,9,     -999.0,9,     -999.0,9,-999.0000, -999.00
33RO20071215,        P18,     148,          1,         15,      12014,2,20080207,       0136,   -57.2503,  -102.9997,       4288,  1400.0,   2.3721,  34.6118,2,  34.6117,2,    173.0,2,   172.9,2,   78.00,2,   34.20,2,    0.00,2,    2.34,2,-999.000,9,-999.000,9,-999.0000,9,  -999.0,9,  -999.0,9,   -999.0,9,  -999.00,-999.0000,9,  -999.00,-999.000,9,-999.0000,9, -999.00,9, -999.00,9,  -999.0,9,-999.000,9,-999.000,-999.000,9,-999.000,9, -999.00,9, -999.00,9, -999.00,9, -999.00,9, -999.00,9,-999.000,-999.0000,9,-999.0000,9,-999.0000,9,-999.0000,9,-999.0000,9,-999.0000,9,-999.0000,9,-999.0000,9,-999.0000,9,   2.2792,     -999.0,9,     -999.0,9,     -999.0,9,     -999.0,9,     -999.0,9,     -999.0,9,     -999.0,9,-999.0000, -999.00
33RO20071215,        P18,     148,          1,         14,      12013,2,20080207,       0136,   -57.2503,  -102.9997,       4288,  1600.2,   2.2625,  34.6636,2,  34.6628,2,    175.7,2,   175.1,2,   81.70,2,   33.40,2,    0.00,2,    2.29,2,-999.000,9,-999.000,9,-999.0000,9,  2256.3,2,  2342.8,2,   1158.7,2,    20.00,   7.5877,2,    25.00,-999.000,9,-999.0000,9, -999.00,9, -999.00,9,  -999.0,9,-999.000,9,-999.000,-999.000,9,-999.000,9, -999.00,9, -999.00,9, -999.00,9, -999.00,9, -999.00,9,-999.000,-999.0000,9,-999.0000,9,-999.0000,9,-999.0000,9,-999.0000,9,-999.0000,9,-999.0000,9,-999.0000,9,-999.0000,9,   2.1550,     -999.0,9,     -999.0,9,     -999.0,9,     -999.0,9,     -999.0,9,     -999.0,9,     -999.0,9,-999.0000, -999.00
33RO20071215,        P18,     148,          1,         13,      12012,2,20080207,       0136,   -57.2503,  -102.9997,       4288,  1799.6,   2.1380,  34.6996,2,  34.6983,2,    179.8,2,   180.2,2,   84.90,2,   32.80,2,    0.00,2,    2.24,2,-999.000,9,-999.000,9,-999.0000,9,  -999.0,9,  -999.0,9,   -999.0,9,  -999.00,-999.0000,9,  -999.00,-999.000,9,-999.0000,9, -999.00,9, -999.00,9,  -999.0,9,-999.000,9,-999.000,-999.000,9,-999.000,9, -999.00,9, -999.00,9, -999.00,9, -999.00,9, -999.00,9,-999.000,-999.0000,9,-999.0000,9,-999.0000,9,-999.0000,9,-999.0000,9,-999.0000,9,-999.0000,9,-999.0000,9,-999.0000,9,   2.0159,     -999.0,9,     -999.0,9,     -999.0,9,     -999.0,9,     -999.0,9,     -999.0,9,     -999.0,9,-999.0000, -999.00
33RO20071215,        P18,     148,          1,         12,      12031,2,20080207,       0136,   -57.2503,  -102.9997,       4288,  2000.0,   1.9982,  34.7188,2,  34.7169,2,    183.9,2,   184.7,2,   89.30,2,   32.40,2,    0.00,2,    2.21,2,-999.000,9,-999.000,9,-999.0000,9,  2255.6,2,  2357.3,2,   1107.3,2,    20.00,   7.6043,2,    25.00,-999.000,9,-999.0000,9, -999.00,9, -999.00,9,  -999.0,9,-999.000,9,-999.000,-999.000,9,-999.000,9, -999.00,9, -999.00,9, -999.00,9, -999.00,9, -999.00,9,-999.000,-999.0000,9,-999.0000,9,-999.0000,9,-999.0000,9,-999.0000,9,-999.0000,9,-999.0000,9,-999.0000,9,-999.0000,9,   1.8615,     -999.0,9,     -999.0,9,     -999.0,9,     -999.0,9,     -999.0,9,     -999.0,9,     -999.0,9,-999.0000, -999.00