BOTTLE,20220818CCHSIOAMB
EXPOCODE,SECT_ID,STNNBR,CASTNO,SAMPNO,BTLNBR,BTLNBR_FLAG_W,DATE,TIME,LATITUDE,LONGITUDE,DEPTH,CTDPRS,CTDTMP,CTDSAL,CTDSAL_FLAG_W,SALNTY,SALNTY_FLAG_W,CTDOXY,CTDOXY_FLAG_W,OXYGEN,OXYGEN_FLAG_W,SILCAT,SILCAT_FLAG_W,NITRAT,NITRAT_FLAG_W,NITRIT,NITRIT_FLAG_W,PHSPHT,PHSPHT_FLAG_W,CFC-11,CFC-11_FLAG_W,CFC-12,CFC-12_FLAG_W,SF6,SF6_FLAG_W,TCARBN,TCARBN_FLAG_W,ALKALI,ALKALI_FLAG_W,FCO2,FCO2_FLAG_W,FCO2TMP,PH_SWS,PH_SWS_FLAG_W,PH_TMP,TRITUM,TRITUM_FLAG_W,HELIUM,HELIUM_FLAG_W,DELHE3,DELHE3_FLAG_W,DELC13,DELC13_FLAG_W,DELC14,DELC14_FLAG_W,NEON,NEON_FLAG_W,NEONER,CCL4,CCL4_FLAG_W,POC,POC_FLAG_W,DOC,DOC_FLAG_W,TDN,TDN_FLAG_W,DON,DON_FLAG_W,CHLORA,CHLORA_FLAG_W,ARGON,ARGON_FLAG_W,TRITER,CDOM325,CDOM325_FLAG_W,CDOM340,CDOM340_FLAG_W,CDOM380,CDOM380_FLAG_W,CDOM412,CDOM412_FLAG_W,CDOM443,CDOM443_FLAG_W,CDOM490,CDOM490_FLAG_W,CDOM555,CDOM555_FLAG_W,CDOMSL,CDOMSL_FLAG_W,CDOMSN,CDOMSN_FLAG_W,THETA,D18O_NO3,D18O_NO3_FLAG_W,CDOM2C,CDOM2C_FLAG_W,CDOM3C,CDOM3C_FLAG_W,LAB_DEN,LAB_DEN_FLAG_W,DELSI30,DELSI30_FLAG_W,N2,N2_FLAG_W,D15N_NO3,D15N_NO3_FLAG_W,HELIER,DELHER
,,,,,,,,,,,METERS,DBAR,ITS-90,PSS-78,,PSS-78,,UMOL/KG,,UMOL/KG,,UMOL/KG,,UMOL/KG,,UMOL/KG,,UMOL/KG,,PMOL/KG,,PMOL/KG,,FMOL/KG,,UMOL/KG,,UMOL/KG,,UATM,,DEG C,,,DEG C,TU,,NMOL/KG,,PERCNT,,/MILLE,,/MILLE,,NMOL/KG,,NMOL/KG,PMOL/KG,,UG/KG,,UMOL/KG,,UMOL/KG,,UMOL/KG,,UG/KG,,UMOL/KG,,TU,1/M,,1/M,,1/M,,1/M,,1/M,,1/M,,1/M,,1/NM,,1/NM,,DEG C,/MILLE,,,,,,,,/MILLE,,UMOL/KG,,/MILLE,,NMOL/KG,PERCNT
33RO20071215,        P18,     126,          1,         11,      12003,2,20080130,       2158,   -44.4168,  -102.9998,       3791,  1732.3,   2.5844,  34.5733,2,  34.5738,2,    153.0,2,   152.7,2,   86.40,2,   35.70,2,    0.00,2,    2.49,2,   0.105,2,   0.062,2,   0.0000,2,  2273.6,2,  2359.0,2,   -999.0,9,  -999.00,   7.5491,2,    25.00,-999.000,9,-999.0000,9, -999.00,9, -999.00,9,  -999.0,9,-999.000,9,-999.000,-999.000,9,-999.000,9,   38.24,2,   36.84,2, -999.00,9, -999.00,9, -999.00,9,-999.000,   0.1143,2,   0.0750,2,   0.0373,2,   0.0252,2,   0.0151,2,   0.0055,2,   0.0013,2,   0.0160,2,   0.0185,2,   2.4622,     -999.0,9,     -999.0,9,     -999.0,9,     -999.0,9,     -999.0,9,     -999.0,9,     -999.0,9,-999.0000, -999.00
33RO20071215,        P18,     126,          1,         10,      12032,2,20080130,       2158,   -44.4168,  -102.9998,       3791,  1932.8,   2.3762,  34.6182,2,  34.6198,2,    161.7,2,   161.7,2,   89.60,2,   34.70,2,    0.00,2,    2.41,2,-999.000,9,-999.000,9,-999.0000,9,  2271.1,2,  2361.1,2,   -999.0,9,  -999.00,   7.5631,2,    25.00,-999.000,9,-999.0000,9, -999.00,9, -999.00,9,  -999.0,9,-999.000,9,-999.000,-999.000,9,-999.000,9,   38.31,2,   36.13,2, -999.00,9, -999.00,9, -999.00,9,-999.000,   0.1144,2,   0.0751,2,   0.0370,2,   0.0245,2,   0.0145,2,   0.0053,2,   0.0012,2,   0.0163,2,   0.0189,2,   2.2399,     -999.0,9,     -999.0,9,     -999.0,9,     -999.0,9,     -999.0,9,     -999.0,9,     -999.0,9,-999.0000, -999.00
33RO20071215,        P18,     126,          1,          9,      12002,2,20080130,       2158,   -44.4168,  -102.9998,       3791,  2133.1,   2.2193,  34.6553,2,  34.6553,2,    165.3,2,   165.1,2,   94.90,2,   34.10,2,    0.00,2,    2.37,2,   0.031,2,   0.017,2,   0.0000,2,  2273.2,2,  2365.5,2,   -999.0,9,  -999.00,   7.5752,2,    25.00,-999.000,9,-999.0000,9, -999.00,9, -999.00,9,  -999.0,9,-999.000,9,-999.000,   0.067,3,-999.000,9,   38.04,2,   35.57,2, -999.00,9, -999.00,9, -999.00,9,-999.000,   0.1162,2,   0.0767,2,   0.0376,2,   0.0249,2,   0.0148,2,   0.0055,2,   0.0015,2,   0.0164,2,   0.0189,2,   2.0679,     -999.0,9,     -999.0,9,     -999.0,9,     -999.0,9,     -999.0,9,     -999.0,9,     -999.0,9,-999.0000, -999.00
33RO20071215,        P18,     126,          1,          8,      12021,2,20080130,       2158,   -44.4168,  -102.9998,       3791,  2333.3,   2.0618,  34.6834,2,  34.6836,2,    169.4,2,   169.6,2,  100.00,2,   33.70,2,    0.00,2,    2.34,2,-999.000,9,-999.000,9,-999.0000,9,  2274.6,2,  2365.4,2,   -999.0,9,  -999.00,   7.5768,2,    25.00,-999.000,9,-999.0000,9, -999.00,9, -999.00,9,  -999.0,9,-999.000,9,-999.000,-999.000,9,-999.000,9,   38.49,2,   35.11,2, -999.00,9, -999.00,9, -999.00,9,-999.000,   0.1177,2,   0.0780,2,   0.0383,2,   0.0253,2,   0.0152,2,   0.0059,2,   0.0018,2,   0.0163,2,   0.0188,2,   1.8953,     -999.0,9,     -999.0,9,     -999.0,9,     -999.0,9,     -999.0,9,     -999.0,9,     -999.0,9,-999.0000, -999.00
33RO20071215,        P18,     126,          1,          7,      12001,2,20080130,       2158,   -44.4168,  -102.9998,       3791,  2533.1,   1.9077,  34.6966,2,  34.6976,2,    172.0,2,   171.9,2,  105.70,2,   33.50,2,    0.00,2,    2.32,2,   0.015,2,   0.009,2,   0.0000,2,  2277.7,2,  2371.1,2,   -999.0,9,  -999.00,   7.5876,2,    25.00,-999.000,9,-999.0000,9, -999.00,9, -999.00,9,  -999.0,9,-999.000,9,-999.000,   0.035,3,-999.000,9,   39.11,2,   34.90,2, -999.00,9, -999.00,9, -999.00,9,-999.000,   0.1151,2,   0.0757,2,   0.0366,2,   0.0237,2,   0.0140,2,   0.0052,2,   0.0013,2,   0.0168,2,   0.0194,2,   1.7260,     -999.0,9,     -999.0,9,     -999.0,9,     -999.0,9,     -999.0,9,     -999.0,9,     -999.0,9,-999.0000, -999.00
33RO20071215,        P18,     126,          1,          6,      12033,2,20080130,       2158,   -44.4168,  -102.9998,       3791,  2731.7,   1.7856,  34.7019,2,  34.7038,2,    174.3,2,   173.9,2,  110.10,2,   33.60,2,    0.00,2,    2.33,2,-999.000,9,-999.000,9,-999.0000,9,  2280.0,2,  2374.1,2,   -999.0,9,  -999.00,   7.5856,2,    25.00,-999.000,9,-999.0000,9, -999.00,9, -999.00,9,  -999.0,9,-999.000,9,-999.000,-999.000,9,-999.000,9,   38.95,2,   34.78,2, -999.00,9, -999.00,9, -999.00,9,-999.000,   0.1122,2,   0.0730,2,   0.0347,2,   0.0221,2,   0.0129,2,   0.0044,2,   0.0010,2,   0.0172,2,   0.0200,2,   1.5878,     -999.0,9,     -999.0,9,     -999.0,9,     -999.0,9,     -999.0,9,     -999.0,9,     -999.0,9,-999.0000, -999.00
33RO20071215,        P18,     126,          1,          5,      12008,2,20080130,       2158,   -44.4168,  -102.9998,       3791,  2932.4,   1.6828,  34.7061,2,  34.7078,2,    177.5,2,   178.1,2,  112.80,2,   33.40,2,    0.00,2,    2.31,2,   0.005,2,   0.003,2,   0.0000,2,  2279.5,6,  2376.5,2,   -999.0,9,  -999.00,   7.5899,2,    25.00,-999.000,9,-999.0000,9, -999.00,9, -999.00,9,  -999.0,9,-999.000,9,-999.000,   0.020,3,-999.000,9,   38.47,2,   34.86,2, -999.00,9, -999.00,9, -999.00,9,-999.000,   0.1150,2,   0.0756,2,   0.0366,2,   0.0236,2,   0.0140,2,   0.0053,2,   0.0014,2,   0.0168,2,   0.0194,2,   1.4683,     -999.0,9,     -999.0,9,     -999.0,9,     -999.0,9,     -999.0,9,     -999.0,9,     -999.0,9,-999.0000, -999.00
33RO20071215,        P18,     126,          1,          4,      12009,2,20080130,       2158,   -44.4168,  -102.9998,       3791,  3166.2,   1.5907,  34.7099,2,  34.7111,2,    181.6,2,   181.8,2,  114.40,6,   33.30,6,    0.00,6,    2.30,2,-999.000,9,-999.000,9,-999.0000,9,  2280.1,2,  2375.7,2,   -999.0,9,  -999.00,   7.6013,2,    25.00,-999.000,9,-999.0000,9, -999.00,9, -999.00,9,  -999.0,9,-999.000,9,-999.000,-999.000,9,-999.000,9,   38.79,2,   34.55,2, -999.00,9, -999.00,9, -999.00,9,-999.000,   0.1116,2,   0.0726,2,   0.0342,2,   0.0216,2,   0.0123,2,   0.0042,2,   0.0007,2,   0.0176,2,   0.0203,2,   1.3556,     -999.0,9,     -999.0,9,     -999.0,9,     -999.0,9,     -999.0,9,     -999.0,9,     -999.0,9,-999.0000, -999.00
33RO20071215,        P18,     126,          1,          3,      12006,2,20080130,       2158,   -44.4168,  -102.9998,       3791,  3417.3,   1.4088,  34.7109,2,  34.7122,2,    186.9,2,   186.8,2,  119.40,6,   33.20,6,    0.00,6,    2.30,2,   0.003,2,   0.003,2,   0.0000,2,  2281.4,2,  2386.9,2,   -999.0,9,  -999.00,   7.6089,2,    25.00,-999.000,9,-999.0000,9, -999.00,9, -999.00,9,  -999.0,9,-999.000,9,-999.000,   0.018,3,-999.000,9,   37.64,2,   34.51,2, -999.00,9, -999.00,9, -999.00,9,-999.000,   0.1105,2,   0.0718,2,   0.0338,2,   0.0211,2,   0.0120,2,   0.0040,2,   0.0006,2,   0.0176,2,   0.0205,2,   1.1531,     -999.0,9,     -999.0,9,     -999.0,9,     -999.0,9,     -999.0,9,     -999.0,9,     -999.0,9,-999.0000, -999.00
33RO20071215,        P18,     126,          1,          2,      12007,2,20080130,       2158,   -44.4168,  -102.9998,       3791,  3667.4,   1.2042,  34.7095,2,  34.7101,2,    191.8,2,   191.5,2,  125.30,6,   33.30,6,    0.00,6,    2.30,2,-999.000,9,-999.000,9,-999.0000,9,  2281.9,2,  2392.0,2,   -999.0,9,  -999.00,   7.6230,2,    25.00,-999.000,9,-999.0000,9, -999.00,9, -999.00,9,  -999.0,9,-999.000,9,-999.000,-999.000,9,-999.000,9,   37.56,2,   34.54,2, -999.00,9, -999.00,9, -999.00,1,-999.000,   0.1070,2,   0.0689,2,   0.0318,2,   0.0191,2,   0.0105,2,   0.0031,2,   0.0001,4,   0.0185,2,   0.0214,2,   0.9283,     -999.0,1,     -999.0,9,     -999.0,9,     -999.0,9,     -999.0,9,     -999.0,1,     -999.0,9,-999.0000, -999.00
33RO20071215,        P18,     126,          1,          1,      12035,2,20080130,       2158,   -44.4168,  -102.9998,       3791,  3847.1,   1.1182,  34.7101,2,  34.7109,2,    195.8,2,   194.9,2,  127.00,2,   33.20,2,    0.01,2,    2.29,2,-999.000,5,-999.000,5,-999.0000,5,  2278.0,6,  2390.7,2,   -999.0,9,  -999.00,   7.6137,2,    25.00,-999.000,9,-999.0000,9, -999.00,9, -999.00,9,  -999.0,9,-999.000,9,-999.000,-999.000,1,-999.000,9,   38.62,2,   34.80,2, -999.00,9, -999.00,9, -999.00,9,-999.000,   0.1105,2,   0.0713,2,   0.0329,2,   0.0201,2,   0.0110,2,   0.0034,2,   0.0002,3,   0.0183,2,   0.0212,2,   0.8260,     -999.0,9,     -999.0,9,     -999.0,9,     -999.0,9,     -999.0,9,     -999.0,9,     -999.0,9,-999.0000, -999.00