BOTTLE,20220818CCHSIOAMB
EXPOCODE,SECT_ID,STNNBR,CASTNO,SAMPNO,BTLNBR,BTLNBR_FLAG_W,DATE,TIME,LATITUDE,LONGITUDE,DEPTH,CTDPRS,CTDTMP,CTDSAL,CTDSAL_FLAG_W,SALNTY,SALNTY_FLAG_W,CTDOXY,CTDOXY_FLAG_W,OXYGEN,OXYGEN_FLAG_W,SILCAT,SILCAT_FLAG_W,NITRAT,NITRAT_FLAG_W,NITRIT,NITRIT_FLAG_W,PHSPHT,PHSPHT_FLAG_W,CFC-11,CFC-11_FLAG_W,CFC-12,CFC-12_FLAG_W,SF6,SF6_FLAG_W,TCARBN,TCARBN_FLAG_W,ALKALI,ALKALI_FLAG_W,FCO2,FCO2_FLAG_W,FCO2TMP,PH_SWS,PH_SWS_FLAG_W,PH_TMP,TRITUM,TRITUM_FLAG_W,HELIUM,HELIUM_FLAG_W,DELHE3,DELHE3_FLAG_W,DELC13,DELC13_FLAG_W,DELC14,DELC14_FLAG_W,NEON,NEON_FLAG_W,NEONER,CCL4,CCL4_FLAG_W,POC,POC_FLAG_W,DOC,DOC_FLAG_W,TDN,TDN_FLAG_W,DON,DON_FLAG_W,CHLORA,CHLORA_FLAG_W,ARGON,ARGON_FLAG_W,TRITER,CDOM325,CDOM325_FLAG_W,CDOM340,CDOM340_FLAG_W,CDOM380,CDOM380_FLAG_W,CDOM412,CDOM412_FLAG_W,CDOM443,CDOM443_FLAG_W,CDOM490,CDOM490_FLAG_W,CDOM555,CDOM555_FLAG_W,CDOMSL,CDOMSL_FLAG_W,CDOMSN,CDOMSN_FLAG_W,THETA,D18O_NO3,D18O_NO3_FLAG_W,CDOM2C,CDOM2C_FLAG_W,CDOM3C,CDOM3C_FLAG_W,LAB_DEN,LAB_DEN_FLAG_W,DELSI30,DELSI30_FLAG_W,N2,N2_FLAG_W,D15N_NO3,D15N_NO3_FLAG_W,HELIER,DELHER
,,,,,,,,,,,METERS,DBAR,ITS-90,PSS-78,,PSS-78,,UMOL/KG,,UMOL/KG,,UMOL/KG,,UMOL/KG,,UMOL/KG,,UMOL/KG,,PMOL/KG,,PMOL/KG,,FMOL/KG,,UMOL/KG,,UMOL/KG,,UATM,,DEG C,,,DEG C,TU,,NMOL/KG,,PERCNT,,/MILLE,,/MILLE,,NMOL/KG,,NMOL/KG,PMOL/KG,,UG/KG,,UMOL/KG,,UMOL/KG,,UMOL/KG,,UG/KG,,UMOL/KG,,TU,1/M,,1/M,,1/M,,1/M,,1/M,,1/M,,1/M,,1/NM,,1/NM,,DEG C,/MILLE,,,,,,,,/MILLE,,UMOL/KG,,/MILLE,,NMOL/KG,PERCNT
33RO20071215,        P18,     118,          1,         11,      12003,2,20080128,       1023,   -39.7520,  -103.0008,       4096,  1999.5,   2.2458,  34.6332,2,  34.6331,2,    159.0,2,   160.2,2,   99.00,2,   34.70,2,    0.00,2,    2.40,2,   0.021,2,   0.011,2,   0.0000,2,  2281.0,2,  -999.0,9,   -999.0,9,  -999.00,   7.5733,2,    25.00,-999.000,9,-999.0000,9, -999.00,9,    0.24,2,  -999.0,1,-999.000,9,-999.000,-999.000,9,-999.000,9,   36.70,2,   35.78,2, -999.00,9, -999.00,9, -999.00,9,-999.000,-999.0000,5,-999.0000,5,-999.0000,5,-999.0000,5,-999.0000,5,-999.0000,5,-999.0000,5,-999.0000,5,-999.0000,5,   2.1056,     -999.0,9,     -999.0,9,     -999.0,9,     -999.0,9,     -999.0,9,     -999.0,9,     -999.0,9,-999.0000, -999.00
33RO20071215,        P18,     118,          1,         10,      12032,2,20080128,       1023,   -39.7520,  -103.0008,       4096,  2201.1,   2.0714,  34.6652,2,  34.6651,2,    163.5,2,   164.0,2,  104.30,2,   34.20,2,    0.00,2,    2.37,2,-999.000,9,-999.000,9,-999.0000,9,  2280.6,2,  -999.0,9,   -999.0,9,  -999.00,   7.5778,2,    25.00,-999.000,9,-999.0000,9, -999.00,9, -999.00,9,  -999.0,9,-999.000,9,-999.000,-999.000,9,-999.000,9,   36.65,2,   35.71,2, -999.00,9, -999.00,9, -999.00,9,-999.000,   0.1158,2,   0.0767,2,   0.0376,2,   0.0244,2,   0.0143,2,   0.0048,2,   0.0006,3,   0.0167,2,   0.0191,2,   1.9165,     -999.0,9,     -999.0,9,     -999.0,9,     -999.0,9,     -999.0,9,     -999.0,9,     -999.0,9,-999.0000, -999.00
33RO20071215,        P18,     118,          1,          9,      12002,2,20080128,       1023,   -39.7520,  -103.0008,       4096,  2400.0,   1.9062,  34.6835,2,  34.6829,2,    165.6,2,   166.7,2,  110.80,2,   34.00,2,    0.00,2,    2.34,2,   0.011,2,   0.005,2,   0.0000,2,  2286.1,2,  -999.0,9,   1146.7,2,    20.00,   7.5841,2,    25.00,-999.000,9,-999.0000,9, -999.00,9,    0.24,2,  -999.0,1,-999.000,9,-999.000,   0.027,3,-999.000,9,   36.53,2,   35.22,2, -999.00,9, -999.00,9, -999.00,9,-999.000,   0.1146,2,   0.0753,2,   0.0363,2,   0.0232,2,   0.0135,2,   0.0046,2,   0.0006,3,   0.0170,2,   0.0196,2,   1.7365,     -999.0,9,     -999.0,9,     -999.0,9,     -999.0,9,     -999.0,9,     -999.0,9,     -999.0,9,-999.0000, -999.00
33RO20071215,        P18,     118,          1,          8,      12021,2,20080128,       1023,   -39.7520,  -103.0008,       4096,  2599.8,   1.8221,  34.6891,2,  34.6888,2,    167.0,2,   167.9,2,  114.80,2,   34.00,2,    0.00,2,    2.35,2,-999.000,9,-999.000,9,-999.0000,9,  2289.5,2,  -999.0,9,   -999.0,9,  -999.00,   7.5846,2,    25.00,-999.000,9,-999.0000,9, -999.00,9, -999.00,9,  -999.0,9,-999.000,9,-999.000,-999.000,9,-999.000,9,   36.49,2,   35.13,2, -999.00,9, -999.00,9, -999.00,9,-999.000,   0.1103,2,   0.0721,2,   0.0342,2,   0.0212,2,   0.0122,2,   0.0037,2,   0.0001,3,   0.0176,2,   0.0203,2,   1.6358,     -999.0,9,     -999.0,9,     -999.0,9,     -999.0,9,     -999.0,9,     -999.0,9,     -999.0,9,-999.0000, -999.00
33RO20071215,        P18,     118,          1,          7,      12001,2,20080128,       1023,   -39.7520,  -103.0008,       4096,  2800.3,   1.7843,  34.6940,2,  34.6938,2,    169.5,2,   170.4,2,  115.20,2,   33.70,2,    0.00,2,    2.34,2,   0.005,2,   0.004,2,   0.0000,2,  2285.8,2,  -999.0,9,   -999.0,9,  -999.00,   7.5915,2,    25.00,-999.000,9,-999.0000,9, -999.00,9, -999.00,9,  -999.0,9,-999.000,9,-999.000,   0.016,3,-999.000,9,   36.80,2,   34.80,2, -999.00,9, -999.00,9, -999.00,9,-999.000,   0.1145,2,   0.0754,2,   0.0369,2,   0.0235,2,   0.0140,2,   0.0050,2,   0.0010,2,   0.0168,2,   0.0193,2,   1.5802,     -999.0,9,     -999.0,9,     -999.0,9,     -999.0,9,     -999.0,9,     -999.0,9,     -999.0,9,-999.0000, -999.00
33RO20071215,        P18,     118,          1,          6,      12033,2,20080128,       1023,   -39.7520,  -103.0008,       4096,  2999.6,   1.7408,  34.6996,2,  34.6998,2,    173.0,2,   173.5,2,  115.20,2,   33.60,2,    0.00,2,    2.32,2,-999.000,9,-999.000,9,-999.0000,9,  2283.9,2,  -999.0,9,   -999.0,9,  -999.00,   7.5886,2,    25.00,-999.000,9,-999.0000,9, -999.00,9,     0.3,2,  -999.0,1,-999.000,9,-999.000,-999.000,9,-999.000,9,   38.17,2,   34.59,2, -999.00,9, -999.00,9, -999.00,9,-999.000,-999.0000,5,-999.0000,5,-999.0000,5,-999.0000,5,-999.0000,5,-999.0000,5,-999.0000,5,-999.0000,5,-999.0000,5,   1.5186,     -999.0,9,     -999.0,9,     -999.0,9,     -999.0,9,     -999.0,9,     -999.0,9,     -999.0,9,-999.0000, -999.00
33RO20071215,        P18,     118,          1,          5,      12008,2,20080128,       1023,   -39.7520,  -103.0008,       4096,  3249.6,   1.6311,  34.7038,2,  34.7036,2,    176.9,2,   179.3,2,  117.00,2,   33.50,2,    0.00,2,    2.30,2,   0.001,2,   0.001,2,   0.0000,2,  2283.4,2,  -999.0,9,   1084.0,2,    20.00,   7.5967,2,    25.00,-999.000,9,-999.0000,9, -999.00,9, -999.00,9,  -999.0,9,-999.000,9,-999.000,   0.009,3,-999.000,9,   37.56,2,   35.24,2, -999.00,9, -999.00,9, -999.00,9,-999.000,   0.1118,2,   0.0728,2,   0.0347,2,   0.0219,2,   0.0127,2,   0.0044,2,   0.0007,2,   0.0173,2,   0.0201,2,   1.3868,     -999.0,9,     -999.0,9,     -999.0,9,     -999.0,9,     -999.0,9,     -999.0,9,     -999.0,9,-999.0000, -999.00
33RO20071215,        P18,     118,          1,          4,      12009,2,20080128,       1023,   -39.7520,  -103.0008,       4096,  3499.2,   1.3838,  34.7064,2,  34.7064,2,    184.4,2,   185.9,2,  122.40,6,   33.30,6,    0.00,6,    2.29,2,-999.000,9,-999.000,9,-999.0000,9,  2281.8,2,  -999.0,9,   -999.0,9,  -999.00,   7.5982,2,    25.00,-999.000,9,-999.0000,9, -999.00,9,     0.3,2,  -999.0,1,-999.000,9,-999.000,-999.000,9,-999.000,9,   37.05,2,   34.54,2, -999.00,9, -999.00,9, -999.00,9,-999.000,   0.1053,2,   0.0677,2,   0.0313,2,   0.0191,2,   0.0107,2,   0.0032,2,   0.0001,3,   0.0182,2,   0.0212,2,   1.1204,     -999.0,9,     -999.0,9,     -999.0,9,     -999.0,9,     -999.0,9,     -999.0,9,     -999.0,9,-999.0000, -999.00
33RO20071215,        P18,     118,          1,          3,      12006,2,20080128,       1023,   -39.7520,  -103.0008,       4096,  3749.5,   1.1847,  34.7091,2,  34.7087,2,    191.6,2,   192.9,2,  126.40,6,   33.00,6,    0.00,6,    2.27,2,   0.006,2,   0.004,2,   0.0000,2,  2279.2,2,  -999.0,9,   -999.0,9,  -999.00,   7.6091,2,    25.00,-999.000,9,-999.0000,9, -999.00,9, -999.00,9,  -999.0,9,-999.000,9,-999.000,   0.010,3,-999.000,9,   38.21,2,   34.68,2, -999.00,9, -999.00,9, -999.00,9,-999.000,   0.1075,2,   0.0694,2,   0.0322,2,   0.0199,2,   0.0113,2,   0.0036,2,   0.0003,3,   0.0180,2,   0.0209,2,   0.9009,     -999.0,9,     -999.0,9,     -999.0,9,     -999.0,9,     -999.0,9,     -999.0,9,     -999.0,9,-999.0000, -999.00
33RO20071215,        P18,     118,          1,          2,      12007,2,20080128,       1023,   -39.7520,  -103.0008,       4096,  3999.7,   1.1766,  34.7095,2,  34.7094,2,    193.1,2,   194.5,2,  127.00,6,   33.10,6,    0.00,6,    2.27,2,-999.000,9,-999.000,9,-999.0000,9,  2278.3,2,  -999.0,9,   -999.0,9,  -999.00,   7.6031,2,    25.00,-999.000,9,-999.0000,9, -999.00,9,     0.3,2,  -999.0,1,-999.000,9,-999.000,-999.000,9,-999.000,9,   37.69,2,   34.70,2, -999.00,9, -999.00,9, -999.00,9,-999.000,   0.1069,2,   0.0687,2,   0.0317,2,   0.0192,2,   0.0107,2,   0.0032,2,   0.0000,4,   0.0183,2,   0.0213,2,   0.8667,     -999.0,9,     -999.0,9,     -999.0,9,     -999.0,9,     -999.0,9,     -999.0,9,     -999.0,9,-999.0000, -999.00
33RO20071215,        P18,     118,          1,          1,      12035,2,20080128,       1023,   -39.7520,  -103.0008,       4096,  4131.2,   1.1816,  34.7093,2,  34.7094,2,    193.7,2,   193.7,2,  127.00,2,   33.10,2,    0.01,2,    2.27,2,   0.000,2,   0.001,2,   0.0000,2,  2279.6,6,  2385.4,2,   1051.6,2,    20.00,   7.6158,2,    25.00,-999.000,9,-999.0000,9, -999.00,9, -999.00,9,  -999.0,9,-999.000,9,-999.000,   0.009,3,-999.000,9,   38.21,2,   34.34,2, -999.00,9, -999.00,9, -999.00,9,-999.000,   0.1120,2,   0.0731,2,   0.0346,2,   0.0217,2,   0.0124,2,   0.0040,2,   0.0003,3,   0.0176,2,   0.0203,2,   0.8573,     -999.0,9,     -999.0,9,     -999.0,9,     -999.0,9,     -999.0,9,     -999.0,9,     -999.0,9,-999.0000, -999.00