BOTTLE,20220818CCHSIOAMB
EXPOCODE,SECT_ID,STNNBR,CASTNO,SAMPNO,BTLNBR,BTLNBR_FLAG_W,DATE,TIME,LATITUDE,LONGITUDE,DEPTH,CTDPRS,CTDTMP,CTDSAL,CTDSAL_FLAG_W,SALNTY,SALNTY_FLAG_W,CTDOXY,CTDOXY_FLAG_W,OXYGEN,OXYGEN_FLAG_W,SILCAT,SILCAT_FLAG_W,NITRAT,NITRAT_FLAG_W,NITRIT,NITRIT_FLAG_W,PHSPHT,PHSPHT_FLAG_W,CFC-11,CFC-11_FLAG_W,CFC-12,CFC-12_FLAG_W,SF6,SF6_FLAG_W,TCARBN,TCARBN_FLAG_W,ALKALI,ALKALI_FLAG_W,FCO2,FCO2_FLAG_W,FCO2TMP,PH_SWS,PH_SWS_FLAG_W,PH_TMP,TRITUM,TRITUM_FLAG_W,HELIUM,HELIUM_FLAG_W,DELHE3,DELHE3_FLAG_W,DELC13,DELC13_FLAG_W,DELC14,DELC14_FLAG_W,NEON,NEON_FLAG_W,NEONER,CCL4,CCL4_FLAG_W,POC,POC_FLAG_W,DOC,DOC_FLAG_W,TDN,TDN_FLAG_W,DON,DON_FLAG_W,CHLORA,CHLORA_FLAG_W,ARGON,ARGON_FLAG_W,TRITER,CDOM325,CDOM325_FLAG_W,CDOM340,CDOM340_FLAG_W,CDOM380,CDOM380_FLAG_W,CDOM412,CDOM412_FLAG_W,CDOM443,CDOM443_FLAG_W,CDOM490,CDOM490_FLAG_W,CDOM555,CDOM555_FLAG_W,CDOMSL,CDOMSL_FLAG_W,CDOMSN,CDOMSN_FLAG_W,THETA,D18O_NO3,D18O_NO3_FLAG_W,CDOM2C,CDOM2C_FLAG_W,CDOM3C,CDOM3C_FLAG_W,LAB_DEN,LAB_DEN_FLAG_W,DELSI30,DELSI30_FLAG_W,N2,N2_FLAG_W,D15N_NO3,D15N_NO3_FLAG_W,HELIER,DELHER
,,,,,,,,,,,METERS,DBAR,ITS-90,PSS-78,,PSS-78,,UMOL/KG,,UMOL/KG,,UMOL/KG,,UMOL/KG,,UMOL/KG,,UMOL/KG,,PMOL/KG,,PMOL/KG,,FMOL/KG,,UMOL/KG,,UMOL/KG,,UATM,,DEG C,,,DEG C,TU,,NMOL/KG,,PERCNT,,/MILLE,,/MILLE,,NMOL/KG,,NMOL/KG,PMOL/KG,,UG/KG,,UMOL/KG,,UMOL/KG,,UMOL/KG,,UG/KG,,UMOL/KG,,TU,1/M,,1/M,,1/M,,1/M,,1/M,,1/M,,1/M,,1/NM,,1/NM,,DEG C,/MILLE,,,,,,,,/MILLE,,UMOL/KG,,/MILLE,,NMOL/KG,PERCNT
33RO20071215,        P18,     101,          1,         36,      12017,2,20080123,       1845,   -29.8330,  -102.9987,       3321,     5.1,  23.7877,  36.0289,2,  36.0299,2,    215.1,2,   215.2,2,    0.60,2,    0.10,2,    0.00,2,    0.07,2,-999.000,9,-999.000,9,-999.0000,9,  2070.2,6,  2378.1,2,    352.0,2,    20.00,   8.0093,2,    25.00,-999.000,9,-999.0000,9, -999.00,9, -999.00,9,  -999.0,9,-999.000,9,-999.000,-999.000,9,-999.000,9, -999.00,9, -999.00,9, -999.00,9, -999.00,9, -999.00,9,-999.000,-999.0000,9,-999.0000,9,-999.0000,9,-999.0000,9,-999.0000,9,-999.0000,9,-999.0000,9,-999.0000,9,-999.0000,9,  23.7866,     -999.0,9,     -999.0,9,     -999.0,9,     -999.0,9,     -999.0,9,     -999.0,9,     -999.0,9,-999.0000, -999.00
33RO20071215,        P18,     101,          1,         35,      12029,2,20080123,       1845,   -29.8330,  -102.9987,       3321,    12.8,  23.6854,  36.0258,2,  36.0139,2,    215.3,2,   215.9,2,    0.60,2,    0.10,2,    0.00,2,    0.07,2,-999.000,9,-999.000,9,-999.0000,9,  2072.5,2,  2377.4,2,   -999.0,9,  -999.00,   8.0114,2,    25.00,-999.000,9,-999.0000,9, -999.00,9, -999.00,9,  -999.0,9,-999.000,9,-999.000,-999.000,9,-999.000,9, -999.00,9, -999.00,9, -999.00,9, -999.00,9, -999.00,9,-999.000,-999.0000,9,-999.0000,9,-999.0000,9,-999.0000,9,-999.0000,9,-999.0000,9,-999.0000,9,-999.0000,9,-999.0000,9,  23.6827,     -999.0,9,     -999.0,9,     -999.0,9,     -999.0,9,     -999.0,9,     -999.0,9,     -999.0,9,-999.0000, -999.00
33RO20071215,        P18,     101,          1,         34,      12049,2,20080123,       1845,   -29.8330,  -102.9987,       3321,    26.9,  23.2135,  35.9734,2,  35.9358,2,    217.8,2,   220.4,2,    0.60,2,    0.10,2,    0.00,2,    0.07,2,-999.000,9,-999.000,9,-999.0000,9,  2068.9,2,  2383.7,2,    353.5,2,    20.00,   8.0076,2,    25.00,-999.000,9,-999.0000,9, -999.00,9, -999.00,9,  -999.0,9,-999.000,9,-999.000,-999.000,9,-999.000,9, -999.00,9, -999.00,9, -999.00,9, -999.00,9, -999.00,9,-999.000,-999.0000,9,-999.0000,9,-999.0000,9,-999.0000,9,-999.0000,9,-999.0000,9,-999.0000,9,-999.0000,9,-999.0000,9,  23.2080,     -999.0,9,     -999.0,9,     -999.0,9,     -999.0,9,     -999.0,9,     -999.0,9,     -999.0,9,-999.0000, -999.00
33RO20071215,        P18,     101,          1,         33,      12027,2,20080123,       1845,   -29.8330,  -102.9987,       3321,    46.2,  21.5324,  35.7783,2,  35.7721,2,    229.1,2,   230.4,2,    0.70,2,    0.10,2,    0.00,2,    0.07,2,-999.000,9,-999.000,9,-999.0000,9,  2060.6,2,  2370.6,2,   -999.0,9,  -999.00,   8.0147,2,    25.00,-999.000,9,-999.0000,9, -999.00,9, -999.00,9,  -999.0,9,-999.000,9,-999.000,-999.000,9,-999.000,9, -999.00,9, -999.00,9, -999.00,9, -999.00,9, -999.00,9,-999.000,-999.0000,9,-999.0000,9,-999.0000,9,-999.0000,9,-999.0000,9,-999.0000,9,-999.0000,9,-999.0000,9,-999.0000,9,  21.5234,     -999.0,9,     -999.0,9,     -999.0,9,     -999.0,9,     -999.0,9,     -999.0,9,     -999.0,9,-999.0000, -999.00
33RO20071215,        P18,     101,          1,         32,      12023,2,20080123,       1845,   -29.8330,  -102.9987,       3321,    66.5,  20.8226,  35.7310,2,  35.7416,2,    231.4,2,   232.9,2,    0.70,2,    0.10,2,    0.00,2,    0.07,2,-999.000,9,-999.000,9,-999.0000,9,  2057.7,2,  2357.2,2,    354.1,2,    20.00,   8.0118,2,    25.00,-999.000,9,-999.0000,9, -999.00,9, -999.00,9,  -999.0,9,-999.000,9,-999.000,-999.000,9,-999.000,9, -999.00,9, -999.00,9, -999.00,9, -999.00,9, -999.00,9,-999.000,-999.0000,9,-999.0000,9,-999.0000,9,-999.0000,9,-999.0000,9,-999.0000,9,-999.0000,9,-999.0000,9,-999.0000,9,  20.8099,     -999.0,9,     -999.0,9,     -999.0,9,     -999.0,9,     -999.0,9,     -999.0,9,     -999.0,9,-999.0000, -999.00
33RO20071215,        P18,     101,          1,         31,      12037,2,20080123,       1845,   -29.8330,  -102.9987,       3321,    86.8,  20.2031,  35.7475,2,  35.7398,2,    234.7,2,   234.7,2,    0.70,2,    0.10,2,    0.00,2,    0.07,2,-999.000,9,-999.000,9,-999.0000,9,  2055.2,2,  2488.7,4,   -999.0,9,  -999.00,   8.0186,2,    25.00,-999.000,9,-999.0000,9, -999.00,9, -999.00,9,  -999.0,9,-999.000,9,-999.000,-999.000,9,-999.000,9, -999.00,9, -999.00,9, -999.00,9, -999.00,9, -999.00,9,-999.000,-999.0000,9,-999.0000,9,-999.0000,9,-999.0000,9,-999.0000,9,-999.0000,9,-999.0000,9,-999.0000,9,-999.0000,9,  20.1868,     -999.0,9,     -999.0,9,     -999.0,9,     -999.0,9,     -999.0,9,     -999.0,9,     -999.0,9,-999.0000, -999.00
33RO20071215,        P18,     101,          1,         30,      12036,2,20080123,       1845,   -29.8330,  -102.9987,       3321,   108.2,  19.4286,  35.6008,2,  35.6006,2,    236.2,2,   235.9,2,    0.70,2,    0.10,2,    0.00,2,    0.08,2,-999.000,9,-999.000,9,-999.0000,9,  2053.2,2,  2459.5,4,    358.4,2,    20.00,   8.0115,2,    25.00,-999.000,9,-999.0000,9, -999.00,9, -999.00,9,  -999.0,9,-999.000,9,-999.000,-999.000,9,-999.000,9, -999.00,9, -999.00,9, -999.00,9, -999.00,9, -999.00,9,-999.000,-999.0000,9,-999.0000,9,-999.0000,9,-999.0000,9,-999.0000,9,-999.0000,9,-999.0000,9,-999.0000,9,-999.0000,9,  19.4090,     -999.0,9,     -999.0,9,     -999.0,9,     -999.0,9,     -999.0,9,     -999.0,9,     -999.0,9,-999.0000, -999.00
33RO20071215,        P18,     101,          1,         29,      12044,2,20080123,       1845,   -29.8330,  -102.9987,       3321,   132.9,  18.2218,  35.3605,2,  35.3554,2,    235.6,2,   234.9,2,    0.60,2,    0.10,2,    0.00,2,    0.09,2,-999.000,9,-999.000,9,-999.0000,9,  2050.9,2,  1615.2,4,   -999.0,9,  -999.00,   8.0281,2,    25.00,-999.000,9,-999.0000,9, -999.00,9, -999.00,9,  -999.0,9,-999.000,9,-999.000,-999.000,9,-999.000,9, -999.00,9, -999.00,9, -999.00,9, -999.00,9, -999.00,9,-999.000,-999.0000,9,-999.0000,9,-999.0000,9,-999.0000,9,-999.0000,9,-999.0000,9,-999.0000,9,-999.0000,9,-999.0000,9,  18.1988,     -999.0,9,     -999.0,9,     -999.0,9,     -999.0,9,     -999.0,9,     -999.0,9,     -999.0,9,-999.0000, -999.00
33RO20071215,        P18,     101,          1,         28,      12057,2,20080123,       1845,   -29.8330,  -102.9987,       3321,   157.7,  17.1653,  35.1397,2,  35.1406,2,    235.0,2,   234.9,2,    0.60,2,    0.10,2,    0.01,2,    0.13,2,-999.000,9,-999.000,9,-999.0000,9,  2051.1,2,  2333.3,2,    396.5,2,    20.00,   7.9670,2,    25.00,-999.000,9,-999.0000,9, -999.00,9, -999.00,9,  -999.0,9,-999.000,9,-999.000,-999.000,9,-999.000,9, -999.00,9, -999.00,9, -999.00,9, -999.00,9, -999.00,9,-999.000,-999.0000,9,-999.0000,9,-999.0000,9,-999.0000,9,-999.0000,9,-999.0000,9,-999.0000,9,-999.0000,9,-999.0000,9,  17.1391,     -999.0,9,     -999.0,9,     -999.0,9,     -999.0,9,     -999.0,9,     -999.0,9,     -999.0,9,-999.0000, -999.00
33RO20071215,        P18,     101,          1,         27,      12026,2,20080123,       1845,   -29.8330,  -102.9987,       3321,   183.3,  16.5183,  35.0342,2,  35.0138,2,    225.6,2,   225.0,2,    0.70,2,    1.40,2,    0.13,2,    0.20,2,-999.000,9,-999.000,9,-999.0000,9,  2058.1,2,  2325.9,2,   -999.0,9,  -999.00,   7.9445,2,    25.00,-999.000,9,-999.0000,9, -999.00,9, -999.00,9,  -999.0,9,-999.000,9,-999.000,-999.000,9,-999.000,9, -999.00,9, -999.00,9, -999.00,9, -999.00,9, -999.00,9,-999.000,-999.0000,9,-999.0000,9,-999.0000,9,-999.0000,9,-999.0000,9,-999.0000,9,-999.0000,9,-999.0000,9,-999.0000,9,  16.4887,     -999.0,9,     -999.0,9,     -999.0,9,     -999.0,9,     -999.0,9,     -999.0,9,     -999.0,9,-999.0000, -999.00
33RO20071215,        P18,     101,          1,         26,      12030,2,20080123,       1845,   -29.8330,  -102.9987,       3321,   216.8,  15.1701,  34.8242,2,  34.7839,2,    216.3,2,   215.4,2,    0.90,2,    4.60,2,    0.02,2,    0.38,2,-999.000,9,-999.000,9,-999.0000,9,  2069.8,2,  2310.9,2,    483.7,2,    20.00,   7.8967,2,    25.00,-999.000,9,-999.0000,9, -999.00,9, -999.00,9,  -999.0,9,-999.000,9,-999.000,-999.000,9,-999.000,9, -999.00,9, -999.00,9, -999.00,9, -999.00,9, -999.00,9,-999.000,-999.0000,9,-999.0000,9,-999.0000,9,-999.0000,9,-999.0000,9,-999.0000,9,-999.0000,9,-999.0000,9,-999.0000,9,  15.1370,     -999.0,9,     -999.0,9,     -999.0,9,     -999.0,9,     -999.0,9,     -999.0,9,     -999.0,9,-999.0000, -999.00
33RO20071215,        P18,     101,          1,         25,      12024,2,20080123,       1845,   -29.8330,  -102.9987,       3321,   267.0,  13.2245,  34.6099,2,  34.5875,2,    204.3,2,   206.6,2,    1.60,2,    9.90,2,    0.01,2,    0.70,2,-999.000,9,-999.000,9,-999.0000,9,  2092.0,2,  2285.1,2,   -999.0,9,  -999.00,   7.8336,2,    25.00,-999.000,9,-999.0000,9, -999.00,9, -999.00,9,  -999.0,9,-999.000,9,-999.000,-999.000,9,-999.000,9, -999.00,9, -999.00,9, -999.00,9, -999.00,9, -999.00,9,-999.000,-999.0000,9,-999.0000,9,-999.0000,9,-999.0000,9,-999.0000,9,-999.0000,9,-999.0000,9,-999.0000,9,-999.0000,9,  13.1874,     -999.0,9,     -999.0,9,     -999.0,9,     -999.0,9,     -999.0,9,     -999.0,9,     -999.0,9,-999.0000, -999.00
33RO20071215,        P18,     101,          1,         24,      12019,2,20080123,       1845,   -29.8330,  -102.9987,       3321,   316.8,  10.9062,  34.4222,2,  34.4234,2,    207.9,2,   207.7,2,    2.70,2,   14.70,2,    0.00,2,    1.01,2,-999.000,9,-999.000,9,-999.0000,9,  2111.3,2,  2279.7,2,    668.6,2,    20.00,   7.7737,2,    25.00,-999.000,9,-999.0000,9, -999.00,9, -999.00,9,  -999.0,9,-999.000,9,-999.000,-999.000,9,-999.000,9, -999.00,9, -999.00,9, -999.00,9, -999.00,9, -999.00,9,-999.000,-999.0000,9,-999.0000,9,-999.0000,9,-999.0000,9,-999.0000,9,-999.0000,9,-999.0000,9,-999.0000,9,-999.0000,9,  10.8674,     -999.0,9,     -999.0,9,     -999.0,9,     -999.0,9,     -999.0,9,     -999.0,9,     -999.0,9,-999.0000, -999.00
33RO20071215,        P18,     101,          1,         23,      12022,2,20080123,       1845,   -29.8330,  -102.9987,       3321,   366.8,   8.9922,  34.3266,2,  34.3287,2,    206.1,2,   201.9,2,    5.20,2,   20.10,2,    0.00,2,    1.39,2,-999.000,9,-999.000,9,-999.0000,9,  -999.0,9,  -999.0,9,   -999.0,9,  -999.00,-999.0000,9,  -999.00,-999.000,9,-999.0000,9, -999.00,9, -999.00,9,  -999.0,9,-999.000,9,-999.000,-999.000,9,-999.000,9, -999.00,9, -999.00,9, -999.00,9, -999.00,9, -999.00,9,-999.000,-999.0000,9,-999.0000,9,-999.0000,9,-999.0000,9,-999.0000,9,-999.0000,9,-999.0000,9,-999.0000,9,-999.0000,9,   8.9524,     -999.0,9,     -999.0,9,     -999.0,9,     -999.0,9,     -999.0,9,     -999.0,9,     -999.0,9,-999.0000, -999.00
33RO20071215,        P18,     101,          1,         22,      12015,2,20080123,       1845,   -29.8330,  -102.9987,       3321,   432.6,   7.3511,  34.3161,2,  34.3184,2,    209.4,2,   203.8,2,    8.20,2,   24.50,2,    0.00,2,    1.68,2,-999.000,9,-999.000,9,-999.0000,9,  2156.7,2,  2279.5,2,    902.8,2,    20.00,   7.6722,2,    25.00,-999.000,9,-999.0000,9, -999.00,9, -999.00,9,  -999.0,9,-999.000,9,-999.000,-999.000,9,-999.000,9, -999.00,9, -999.00,9, -999.00,9, -999.00,9, -999.00,9,-999.000,-999.0000,9,-999.0000,9,-999.0000,9,-999.0000,9,-999.0000,9,-999.0000,9,-999.0000,9,-999.0000,9,-999.0000,9,   7.3092,     -999.0,9,     -999.0,9,     -999.0,9,     -999.0,9,     -999.0,9,     -999.0,9,     -999.0,9,-999.0000, -999.00
33RO20071215,        P18,     101,          1,         21,      12020,2,20080123,       1845,   -29.8330,  -102.9987,       3321,   534.5,   6.3251,  34.3103,2,  34.3110,2,    237.0,2,   236.2,2,    8.80,2,   24.50,2,    0.00,2,    1.62,2,-999.000,9,-999.000,9,-999.0000,9,  -999.0,9,  -999.0,9,   -999.0,9,  -999.00,-999.0000,9,  -999.00,-999.000,9,-999.0000,9, -999.00,9, -999.00,9,  -999.0,9,-999.000,9,-999.000,-999.000,9,-999.000,9, -999.00,9, -999.00,9, -999.00,9, -999.00,9, -999.00,9,-999.000,-999.0000,9,-999.0000,9,-999.0000,9,-999.0000,9,-999.0000,9,-999.0000,9,-999.0000,9,-999.0000,9,-999.0000,9,   6.2771,     -999.0,9,     -999.0,9,     -999.0,9,     -999.0,9,     -999.0,9,     -999.0,9,     -999.0,9,-999.0000, -999.00
33RO20071215,        P18,     101,          1,         20,      12055,2,20080123,       1845,   -29.8330,  -102.9987,       3321,   634.3,   5.7895,  34.2841,2,  34.2850,2,    243.2,2,   243.6,2,   10.10,2,   25.20,2,    0.00,2,    1.66,2,-999.000,9,-999.000,9,-999.0000,9,  2147.0,2,  2288.8,4,    819.9,2,    20.00,   7.7131,2,    25.00,-999.000,9,-999.0000,9, -999.00,9, -999.00,9,  -999.0,9,-999.000,9,-999.000,-999.000,9,-999.000,9, -999.00,9, -999.00,9, -999.00,9, -999.00,9, -999.00,9,-999.000,-999.0000,9,-999.0000,9,-999.0000,9,-999.0000,9,-999.0000,9,-999.0000,9,-999.0000,9,-999.0000,9,-999.0000,9,   5.7347,     -999.0,9,     -999.0,9,     -999.0,9,     -999.0,9,     -999.0,9,     -999.0,9,     -999.0,9,-999.0000, -999.00
33RO20071215,        P18,     101,          1,         19,      12018,2,20080123,       1845,   -29.8330,  -102.9987,       3321,   733.6,   5.2617,  34.2679,2,  34.2688,2,    231.9,2,   232.6,2,   14.10,2,   27.50,2,    0.00,2,    1.83,2,-999.000,9,-999.000,9,-999.0000,9,  -999.0,9,  -999.0,9,   -999.0,9,  -999.00,-999.0000,9,  -999.00,-999.000,9,-999.0000,9, -999.00,9, -999.00,9,  -999.0,9,-999.000,9,-999.000,-999.000,9,-999.000,9, -999.00,9, -999.00,9, -999.00,9, -999.00,9, -999.00,9,-999.000,-999.0000,9,-999.0000,9,-999.0000,9,-999.0000,9,-999.0000,9,-999.0000,9,-999.0000,9,-999.0000,9,-999.0000,9,   5.2008,     -999.0,9,     -999.0,9,     -999.0,9,     -999.0,9,     -999.0,9,     -999.0,9,     -999.0,9,-999.0000, -999.00
33RO20071215,        P18,     101,          1,         18,      12025,2,20080123,       1845,   -29.8330,  -102.9987,       3321,   833.8,   4.7141,  34.2799,2,  34.2822,2,    208.2,2,   209.3,2,   22.50,2,   30.40,2,    0.00,2,    2.05,2,-999.000,9,-999.000,9,-999.0000,9,  2181.3,2,  2294.2,4,    977.7,2,    20.00,   7.6430,2,    25.00,-999.000,9,-999.0000,9, -999.00,9, -999.00,9,  -999.0,9,-999.000,9,-999.000,-999.000,9,-999.000,9, -999.00,9, -999.00,9, -999.00,9, -999.00,9, -999.00,9,-999.000,-999.0000,9,-999.0000,9,-999.0000,9,-999.0000,9,-999.0000,9,-999.0000,9,-999.0000,9,-999.0000,9,-999.0000,9,   4.6477,     -999.0,9,     -999.0,9,     -999.0,9,     -999.0,9,     -999.0,9,     -999.0,9,     -999.0,9,-999.0000, -999.00
33RO20071215,        P18,     101,          1,         17,      12016,2,20080123,       1845,   -29.8330,  -102.9987,       3321,   933.8,   4.2171,  34.3215,2,  34.3214,2,    182.1,2,   182.5,2,   34.40,2,   33.40,2,    0.00,2,    2.30,2,-999.000,9,-999.000,9,-999.0000,9,  -999.0,9,  -999.0,9,   -999.0,9,  -999.00,-999.0000,9,  -999.00,-999.000,9,-999.0000,9, -999.00,9, -999.00,9,  -999.0,9,-999.000,9,-999.000,-999.000,9,-999.000,9, -999.00,9, -999.00,9, -999.00,9, -999.00,9, -999.00,9,-999.000,-999.0000,9,-999.0000,9,-999.0000,9,-999.0000,9,-999.0000,9,-999.0000,9,-999.0000,9,-999.0000,9,-999.0000,9,   4.1456,     -999.0,9,     -999.0,9,     -999.0,9,     -999.0,9,     -999.0,9,     -999.0,9,     -999.0,9,-999.0000, -999.00
33RO20071215,        P18,     101,          1,         16,      12051,2,20080123,       1845,   -29.8330,  -102.9987,       3321,  1032.7,   3.8550,  34.3842,2,  34.3866,2,    151.9,2,   152.5,2,   49.90,2,   36.10,2,    0.00,2,    2.52,2,-999.000,9,-999.000,9,-999.0000,9,  2238.9,2,  2330.5,4,   1251.0,2,    20.00,   7.5400,2,    25.00,-999.000,9,-999.0000,9, -999.00,9, -999.00,9,  -999.0,9,-999.000,9,-999.000,-999.000,9,-999.000,9, -999.00,9, -999.00,9, -999.00,9, -999.00,9, -999.00,9,-999.000,-999.0000,9,-999.0000,9,-999.0000,9,-999.0000,9,-999.0000,9,-999.0000,9,-999.0000,9,-999.0000,9,-999.0000,9,   3.7779,     -999.0,9,     -999.0,9,     -999.0,9,     -999.0,9,     -999.0,9,     -999.0,9,     -999.0,9,-999.0000, -999.00
33RO20071215,        P18,     101,          1,         15,      12014,2,20080123,       1845,   -29.8330,  -102.9987,       3321,  1133.1,   3.5858,  34.4350,2,  34.4387,2,    137.9,2,   138.1,2,   61.60,2,   37.30,2,    0.00,2,    2.62,2,-999.000,9,-999.000,9,-999.0000,9,  -999.0,9,  -999.0,9,   -999.0,9,  -999.00,-999.0000,9,  -999.00,-999.000,9,-999.0000,9, -999.00,9, -999.00,9,  -999.0,9,-999.000,9,-999.000,-999.000,9,-999.000,9, -999.00,9, -999.00,9, -999.00,9, -999.00,9, -999.00,9,-999.000,-999.0000,9,-999.0000,9,-999.0000,9,-999.0000,9,-999.0000,9,-999.0000,9,-999.0000,9,-999.0000,9,-999.0000,9,   3.5027,     -999.0,9,     -999.0,9,     -999.0,9,     -999.0,9,     -999.0,9,     -999.0,9,     -999.0,9,-999.0000, -999.00
33RO20071215,        P18,     101,          1,         14,      12013,2,20080123,       1845,   -29.8330,  -102.9987,       3321,  1232.5,   3.4216,  34.4913,2,  34.4953,2,    127.2,2,   126.6,2,   73.80,2,   37.90,2,    0.00,2,    2.67,2,-999.000,9,-999.000,9,-999.0000,9,  2275.0,6,  2358.8,4,   -999.0,9,  -999.00,   7.5236,2,    25.00,-999.000,9,-999.0000,9, -999.00,9, -999.00,9,  -999.0,9,-999.000,9,-999.000,-999.000,9,-999.000,9, -999.00,9, -999.00,9, -999.00,9, -999.00,9, -999.00,9,-999.000,-999.0000,9,-999.0000,9,-999.0000,9,-999.0000,9,-999.0000,9,-999.0000,9,-999.0000,9,-999.0000,9,-999.0000,9,   3.3317,     -999.0,9,     -999.0,9,     -999.0,9,     -999.0,9,     -999.0,9,     -999.0,9,     -999.0,9,-999.0000, -999.00
33RO20071215,        P18,     101,          1,         13,      12012,2,20080123,       1845,   -29.8330,  -102.9987,       3321,  1332.8,   3.1589,  34.5260,2,  34.5278,2,    130.7,2,   130.4,2,   81.80,2,   37.50,2,    0.00,2,    2.66,2,-999.000,9,-999.000,9,-999.0000,9,  -999.0,9,  -999.0,9,   -999.0,9,  -999.00,-999.0000,9,  -999.00,-999.000,9,-999.0000,9, -999.00,9, -999.00,9,  -999.0,9,-999.000,9,-999.000,-999.000,9,-999.000,9, -999.00,9, -999.00,9, -999.00,9, -999.00,9, -999.00,9,-999.000,-999.0000,9,-999.0000,9,-999.0000,9,-999.0000,9,-999.0000,9,-999.0000,9,-999.0000,9,-999.0000,9,-999.0000,9,   3.0633,     -999.0,9,     -999.0,9,     -999.0,9,     -999.0,9,     -999.0,9,     -999.0,9,     -999.0,9,-999.0000, -999.00
33RO20071215,        P18,     101,          1,         12,      12031,2,20080123,       1845,   -29.8330,  -102.9987,       3321,  1431.9,   2.9083,  34.5457,2,  34.5476,2,    137.8,2,   138.0,2,   86.50,2,   36.90,2,    0.00,2,    2.61,2,   0.007,2,   0.005,2,   0.0000,2,  2281.0,2,  2372.0,4,   1287.5,6,    20.00,   7.5271,2,    25.00,-999.000,9,-999.0000,9, -999.00,9, -999.00,9,  -999.0,9,-999.000,9,-999.000,-999.000,9,-999.000,9, -999.00,9, -999.00,9, -999.00,9, -999.00,9, -999.00,9,-999.000,-999.0000,9,-999.0000,9,-999.0000,9,-999.0000,9,-999.0000,9,-999.0000,9,-999.0000,9,-999.0000,9,-999.0000,9,   2.8072,     -999.0,9,     -999.0,9,     -999.0,9,     -999.0,9,     -999.0,9,     -999.0,9,     -999.0,9,-999.0000, -999.00