BOTTLE,20220818CCHSIOAMB
EXPOCODE,SECT_ID,STNNBR,CASTNO,SAMPNO,BTLNBR,BTLNBR_FLAG_W,DATE,TIME,LATITUDE,LONGITUDE,DEPTH,CTDPRS,CTDTMP,CTDSAL,CTDSAL_FLAG_W,SALNTY,SALNTY_FLAG_W,CTDOXY,CTDOXY_FLAG_W,OXYGEN,OXYGEN_FLAG_W,SILCAT,SILCAT_FLAG_W,NITRAT,NITRAT_FLAG_W,NITRIT,NITRIT_FLAG_W,PHSPHT,PHSPHT_FLAG_W,CFC-11,CFC-11_FLAG_W,CFC-12,CFC-12_FLAG_W,SF6,SF6_FLAG_W,TCARBN,TCARBN_FLAG_W,ALKALI,ALKALI_FLAG_W,FCO2,FCO2_FLAG_W,FCO2TMP,PH_SWS,PH_SWS_FLAG_W,PH_TMP,TRITUM,TRITUM_FLAG_W,HELIUM,HELIUM_FLAG_W,DELHE3,DELHE3_FLAG_W,DELC13,DELC13_FLAG_W,DELC14,DELC14_FLAG_W,NEON,NEON_FLAG_W,NEONER,CCL4,CCL4_FLAG_W,POC,POC_FLAG_W,DOC,DOC_FLAG_W,TDN,TDN_FLAG_W,DON,DON_FLAG_W,CHLORA,CHLORA_FLAG_W,ARGON,ARGON_FLAG_W,TRITER,CDOM325,CDOM325_FLAG_W,CDOM340,CDOM340_FLAG_W,CDOM380,CDOM380_FLAG_W,CDOM412,CDOM412_FLAG_W,CDOM443,CDOM443_FLAG_W,CDOM490,CDOM490_FLAG_W,CDOM555,CDOM555_FLAG_W,CDOMSL,CDOMSL_FLAG_W,CDOMSN,CDOMSN_FLAG_W,THETA,D18O_NO3,D18O_NO3_FLAG_W,CDOM2C,CDOM2C_FLAG_W,CDOM3C,CDOM3C_FLAG_W,LAB_DEN,LAB_DEN_FLAG_W,DELSI30,DELSI30_FLAG_W,N2,N2_FLAG_W,D15N_NO3,D15N_NO3_FLAG_W,HELIER,DELHER
,,,,,,,,,,,METERS,DBAR,ITS-90,PSS-78,,PSS-78,,UMOL/KG,,UMOL/KG,,UMOL/KG,,UMOL/KG,,UMOL/KG,,UMOL/KG,,PMOL/KG,,PMOL/KG,,FMOL/KG,,UMOL/KG,,UMOL/KG,,UATM,,DEG C,,,DEG C,TU,,NMOL/KG,,PERCNT,,/MILLE,,/MILLE,,NMOL/KG,,NMOL/KG,PMOL/KG,,UG/KG,,UMOL/KG,,UMOL/KG,,UMOL/KG,,UG/KG,,UMOL/KG,,TU,1/M,,1/M,,1/M,,1/M,,1/M,,1/M,,1/M,,1/NM,,1/NM,,DEG C,/MILLE,,,,,,,,/MILLE,,UMOL/KG,,/MILLE,,NMOL/KG,PERCNT
33RO20071215,       TEST,     996,          1,         31,      12037,2,20080121,       1903,   -27.2950,  -109.0312,       2985,     8.3,  24.0709,  35.8576,2,-999.0000,9,    213.6,2,  -999.0,9, -999.00,9, -999.00,9, -999.00,9, -999.00,9,   1.886,2,   1.184,2,   1.0283,2,  2066.3,6,  -999.0,9,    346.1,2,    20.00,-999.0000,9,  -999.00,-999.000,9,-999.0000,9, -999.00,9, -999.00,9,  -999.0,9,-999.000,9,-999.000,-999.000,9,-999.000,9, -999.00,9, -999.00,9, -999.00,9, -999.00,9, -999.00,9,-999.000,   0.0338,2,   0.0214,2,   0.0067,2,   0.0046,2,  -0.0001,4,  -0.0006,4,  -0.0035,4,   0.0007,4,   0.0332,4,  24.0692,     -999.0,9,     -999.0,9,     -999.0,9,     -999.0,9,     -999.0,9,     -999.0,9,     -999.0,9,-999.0000, -999.00
33RO20071215,       TEST,     996,          1,         35,      12029,2,20080121,       1903,   -27.2950,  -109.0312,       2985,     8.5,  24.0798,  35.8579,2,-999.0000,9,    213.5,2,  -999.0,9, -999.00,9, -999.00,9, -999.00,9, -999.00,9,   1.875,2,   1.178,2,   0.9864,2,  2066.2,2,  -999.0,9,   -999.0,9,  -999.00,-999.0000,9,  -999.00,-999.000,9,-999.0000,9, -999.00,9, -999.00,9,  -999.0,9,-999.000,9,-999.000,-999.000,9,-999.000,9, -999.00,9, -999.00,9, -999.00,9, -999.00,9, -999.00,9,-999.000,   0.0289,2,   0.0172,2,   0.0042,2,   0.0027,2,   0.0003,3,   0.0000,4,  -0.0017,4,   0.0014,4,   0.0352,2,  24.0780,     -999.0,9,     -999.0,9,     -999.0,9,     -999.0,9,     -999.0,9,     -999.0,9,     -999.0,9,-999.0000, -999.00
33RO20071215,       TEST,     996,          1,         32,      12023,2,20080121,       1903,   -27.2950,  -109.0312,       2985,     8.6,  24.0751,  35.8577,2,-999.0000,9,    213.8,2,   212.7,2, -999.00,9, -999.00,9, -999.00,9, -999.00,9,   1.879,2,   1.178,2,   1.0310,2,  -999.0,9,  -999.0,9,    344.1,2,    20.00,-999.0000,9,  -999.00,-999.000,9,-999.0000,9, -999.00,9, -999.00,9,  -999.0,9,-999.000,9,-999.000,-999.000,9,-999.000,9, -999.00,9, -999.00,9, -999.00,9, -999.00,9, -999.00,9,-999.000,   0.0302,2,   0.0187,2,   0.0046,2,   0.0031,2,  -0.0005,4,  -0.0008,4,  -0.0031,4,   0.0007,4,   0.0338,4,  24.0733,     -999.0,9,     -999.0,9,     -999.0,9,     -999.0,9,     -999.0,9,     -999.0,9,     -999.0,9,-999.0000, -999.00
33RO20071215,       TEST,     996,          1,         33,      12027,2,20080121,       1903,   -27.2950,  -109.0312,       2985,     8.6,  24.0745,  35.8578,2,-999.0000,9,    213.7,2,  -999.0,9, -999.00,9, -999.00,9, -999.00,9, -999.00,9,   1.887,2,   1.183,2,   1.0218,2,  2066.0,2,  -999.0,9,   -999.0,9,  -999.00,-999.0000,9,  -999.00,-999.000,9,-999.0000,9, -999.00,9, -999.00,9,  -999.0,9,-999.000,9,-999.000,-999.000,9,-999.000,9, -999.00,9, -999.00,9, -999.00,9, -999.00,9, -999.00,9,-999.000,   0.0307,2,   0.0183,2,   0.0042,2,   0.0028,2,  -0.0003,4,  -0.0006,4,  -0.0026,4,   0.0010,4,   0.0351,4,  24.0727,     -999.0,9,     -999.0,9,     -999.0,9,     -999.0,9,     -999.0,9,     -999.0,9,     -999.0,9,-999.0000, -999.00
33RO20071215,       TEST,     996,          1,         34,      12049,2,20080121,       1903,   -27.2950,  -109.0312,       2985,     8.8,  24.0781,  35.8577,2,-999.0000,9,    213.5,2,  -999.0,9, -999.00,9, -999.00,9, -999.00,9, -999.00,9,   1.887,2,   1.182,2,   1.0226,2,  -999.0,9,  -999.0,9,    347.9,2,    20.00,-999.0000,9,  -999.00,-999.000,9,-999.0000,9, -999.00,9, -999.00,9,  -999.0,9,-999.000,9,-999.000,-999.000,9,-999.000,9, -999.00,9, -999.00,9, -999.00,9, -999.00,9, -999.00,9,-999.000,   0.0270,2,   0.0156,2,   0.0027,2,   0.0015,3,  -0.0012,4,  -0.0012,4,  -0.0027,4,   0.0010,4,   0.0360,4,  24.0763,     -999.0,9,     -999.0,9,     -999.0,9,     -999.0,9,     -999.0,9,     -999.0,9,     -999.0,9,-999.0000, -999.00
33RO20071215,       TEST,     996,          1,         36,      12017,2,20080121,       1903,   -27.2950,  -109.0312,       2985,     8.8,  24.0817,  35.8578,2,-999.0000,9,    213.6,2,  -999.0,9, -999.00,9, -999.00,9, -999.00,9, -999.00,9,   1.886,2,   1.175,2,   1.0162,2,  -999.0,9,  -999.0,9,   -999.0,9,  -999.00,-999.0000,9,  -999.00,-999.000,9,-999.0000,9, -999.00,9, -999.00,9,  -999.0,9,-999.000,9,-999.000,-999.000,9,-999.000,9, -999.00,9, -999.00,9, -999.00,9, -999.00,9, -999.00,9,-999.000,   0.0316,2,   0.0191,2,   0.0043,2,   0.0028,2,   0.0007,2,   0.0000,4,  -0.0014,4,   0.0019,4,   0.0355,2,  24.0799,     -999.0,9,     -999.0,9,     -999.0,9,     -999.0,9,     -999.0,9,     -999.0,9,     -999.0,9,-999.0000, -999.00
33RO20071215,       TEST,     996,          1,         27,      12026,2,20080121,       1903,   -27.2950,  -109.0312,       2985,    98.6,  19.6671,  35.6259,2,-999.0000,9,    235.2,2,  -999.0,9, -999.00,9, -999.00,9, -999.00,9, -999.00,9,   2.293,2,   1.389,2,   1.1133,2,  2054.2,2,  -999.0,9,    366.2,2,    20.00,-999.0000,9,  -999.00,-999.000,9,-999.0000,9, -999.00,9, -999.00,9,  -999.0,9,-999.000,9,-999.000,-999.000,9,-999.000,9, -999.00,9, -999.00,9, -999.00,9, -999.00,9, -999.00,9,-999.000,   0.0671,2,   0.0447,2,   0.0182,2,   0.0115,2,   0.0030,2,   0.0009,3,  -0.0037,4,   0.0016,4,   0.0238,4,  19.6490,     -999.0,9,     -999.0,9,     -999.0,9,     -999.0,9,     -999.0,9,     -999.0,9,     -999.0,9,-999.0000, -999.00
33RO20071215,       TEST,     996,          1,         28,      12057,2,20080121,       1903,   -27.2950,  -109.0312,       2985,    98.7,  19.6617,  35.6251,2,-999.0000,9,    235.2,2,  -999.0,9, -999.00,9, -999.00,9, -999.00,9, -999.00,9,   2.318,2,   1.404,2,   1.1510,2,  2052.8,2,  -999.0,9,   -999.0,9,  -999.00,-999.0000,9,  -999.00,-999.000,9,-999.0000,9, -999.00,9, -999.00,9,  -999.0,9,-999.000,9,-999.000,-999.000,9,-999.000,9, -999.00,9, -999.00,9, -999.00,9, -999.00,9, -999.00,9,-999.000,   0.0689,2,   0.0456,2,   0.0179,2,   0.0110,2,   0.0024,2,   0.0002,4,  -0.0042,4,   0.0016,4,   0.0248,4,  19.6436,     -999.0,9,     -999.0,9,     -999.0,9,     -999.0,9,     -999.0,9,     -999.0,9,     -999.0,9,-999.0000, -999.00
33RO20071215,       TEST,     996,          1,         29,      12044,2,20080121,       1903,   -27.2950,  -109.0312,       2985,    98.9,  19.6548,  35.6217,2,-999.0000,9,    235.2,2,  -999.0,9, -999.00,9, -999.00,9, -999.00,9, -999.00,9,   2.273,2,   1.381,2,   1.1450,2,  2056.8,2,  -999.0,9,    380.4,2,    20.00,-999.0000,9,  -999.00,-999.000,9,-999.0000,9, -999.00,9, -999.00,9,  -999.0,9,-999.000,9,-999.000,-999.000,9,-999.000,9, -999.00,9, -999.00,9, -999.00,9, -999.00,9, -999.00,9,-999.000,   0.0676,2,   0.0453,2,   0.0190,2,   0.0119,2,   0.0033,2,   0.0011,3,  -0.0037,4,   0.0016,4,   0.0232,4,  19.6367,     -999.0,9,     -999.0,9,     -999.0,9,     -999.0,9,     -999.0,9,     -999.0,9,     -999.0,9,-999.0000, -999.00
33RO20071215,       TEST,     996,          1,         30,      12036,2,20080121,       1903,   -27.2950,  -109.0312,       2985,    99.1,  19.6524,  35.6206,2,-999.0000,9,    235.3,2,  -999.0,9, -999.00,9, -999.00,9, -999.00,9, -999.00,9,   2.309,2,   1.401,2,   1.1499,2,  2053.1,2,  -999.0,9,   -999.0,9,  -999.00,-999.0000,9,  -999.00,-999.000,9,-999.0000,9, -999.00,9, -999.00,9,  -999.0,9,-999.000,9,-999.000,-999.000,9,-999.000,9, -999.00,9, -999.00,9, -999.00,9, -999.00,9, -999.00,9,-999.000,   0.0661,2,   0.0440,2,   0.0169,2,   0.0102,2,   0.0024,2,   0.0005,4,  -0.0036,4,   0.0017,4,   0.0250,4,  19.6342,     -999.0,9,     -999.0,9,     -999.0,9,     -999.0,9,     -999.0,9,     -999.0,9,     -999.0,9,-999.0000, -999.00
33RO20071215,       TEST,     996,          1,         26,      12030,2,20080121,       1903,   -27.2950,  -109.0312,       2985,    99.1,  19.6638,  35.6249,2,-999.0000,9,    235.3,2,   235.0,2, -999.00,9, -999.00,9, -999.00,9, -999.00,9,   2.300,2,   1.393,2,   1.1905,2,  -999.0,9,  -999.0,9,    410.6,2,    20.00,-999.0000,9,  -999.00,-999.000,9,-999.0000,9, -999.00,9, -999.00,9,  -999.0,9,-999.000,9,-999.000,-999.000,9,-999.000,9, -999.00,9, -999.00,9, -999.00,9, -999.00,9, -999.00,9,-999.000,   0.0807,2,   0.0586,2,   0.0238,2,   0.0152,2,   0.0058,2,   0.0026,2,  -0.0028,4,   0.0024,4,   0.0214,4,  19.6456,     -999.0,9,     -999.0,9,     -999.0,9,     -999.0,9,     -999.0,9,     -999.0,9,     -999.0,9,-999.0000, -999.00
33RO20071215,       TEST,     996,          1,         25,      12024,2,20080121,       1903,   -27.2950,  -109.0312,       2985,    99.1,  19.6561,  35.6225,2,-999.0000,9,    235.3,2,  -999.0,9, -999.00,9, -999.00,9, -999.00,9, -999.00,9,   2.302,2,   1.395,2,   1.1189,2,  2057.5,6,  -999.0,9,   -999.0,9,  -999.00,-999.0000,9,  -999.00,-999.000,9,-999.0000,9, -999.00,9, -999.00,9,  -999.0,9,-999.000,9,-999.000,-999.000,9,-999.000,9, -999.00,9, -999.00,9, -999.00,9, -999.00,9, -999.00,9,-999.000,   0.0752,2,   0.0516,2,   0.0231,2,   0.0154,2,   0.0063,2,   0.0033,2,  -0.0025,4,   0.0021,4,   0.0209,4,  19.6379,     -999.0,9,     -999.0,9,     -999.0,9,     -999.0,9,     -999.0,9,     -999.0,9,     -999.0,9,-999.0000, -999.00
33RO20071215,       TEST,     996,          1,         20,      12055,2,20080121,       1903,   -27.2950,  -109.0312,       2985,   198.8,  16.9882,  35.1614,2,-999.0000,9,    220.8,2,   220.3,2, -999.00,9, -999.00,9, -999.00,9, -999.00,9,   2.498,2,   1.486,2,   1.1081,2,  -999.0,9,  -999.0,9,    906.9,2,    20.00,-999.0000,9,  -999.00,-999.000,9,-999.0000,9, -999.00,9, -999.00,9,  -999.0,9,-999.000,9,-999.000,-999.000,9,-999.000,9, -999.00,9, -999.00,9, -999.00,9, -999.00,9, -999.00,9,-999.000,   0.0687,2,   0.0481,2,   0.0221,2,   0.0159,2,   0.0045,2,   0.0005,4,  -0.0040,4,   0.0018,4,   0.0197,4,  16.9554,     -999.0,9,     -999.0,9,     -999.0,9,     -999.0,9,     -999.0,9,     -999.0,9,     -999.0,9,-999.0000, -999.00
33RO20071215,       TEST,     996,          1,         24,      12019,2,20080121,       1903,   -27.2950,  -109.0312,       2985,   199.0,  16.9975,  35.1632,2,-999.0000,9,    220.8,2,  -999.0,9, -999.00,9, -999.00,9, -999.00,9, -999.00,9,   2.539,2,   1.511,2,   1.0715,2,  2062.5,2,  -999.0,9,    887.9,2,    20.00,-999.0000,9,  -999.00,-999.000,9,-999.0000,9, -999.00,9, -999.00,9,  -999.0,9,-999.000,9,-999.000,-999.000,9,-999.000,9, -999.00,9, -999.00,9, -999.00,9, -999.00,9, -999.00,9,-999.000,   0.0714,2,   0.0510,2,   0.0248,2,   0.0184,2,   0.0070,2,   0.0025,2,  -0.0031,4,   0.0022,4,   0.0179,4,  16.9646,     -999.0,9,     -999.0,9,     -999.0,9,     -999.0,9,     -999.0,9,     -999.0,9,     -999.0,9,-999.0000, -999.00
33RO20071215,       TEST,     996,          1,         22,      12015,2,20080121,       1903,   -27.2950,  -109.0312,       2985,   199.4,  16.9949,  35.1627,2,-999.0000,9,    220.8,2,  -999.0,9, -999.00,9, -999.00,9, -999.00,9, -999.00,9,   2.489,3,   1.481,3,   1.0896,3,  2064.0,2,  -999.0,9,    958.8,2,    20.00,-999.0000,9,  -999.00,-999.000,9,-999.0000,9, -999.00,9, -999.00,9,  -999.0,9,-999.000,9,-999.000,-999.000,9,-999.000,9, -999.00,9, -999.00,9, -999.00,9, -999.00,9, -999.00,9,-999.000,   0.0717,2,   0.0510,2,   0.0243,2,   0.0177,2,   0.0060,2,   0.0017,3,  -0.0033,4,   0.0021,4,   0.0185,4,  16.9620,     -999.0,9,     -999.0,9,     -999.0,9,     -999.0,9,     -999.0,9,     -999.0,9,     -999.0,9,-999.0000, -999.00
33RO20071215,       TEST,     996,          1,         19,      12018,2,20080121,       1903,   -27.2950,  -109.0312,       2985,   199.8,  16.9743,  35.1580,2,-999.0000,9,    220.8,2,  -999.0,9, -999.00,9, -999.00,9, -999.00,9, -999.00,9,   2.540,2,   1.509,2,   1.1158,2,  2065.4,2,  -999.0,9,   -999.0,9,  -999.00,-999.0000,9,  -999.00,-999.000,9,-999.0000,9, -999.00,9, -999.00,9,  -999.0,9,-999.000,9,-999.000,-999.000,9,-999.000,9, -999.00,9, -999.00,9, -999.00,9, -999.00,9, -999.00,9,-999.000,   0.0731,2,   0.0516,2,   0.0244,2,   0.0177,2,   0.0071,2,   0.0025,2,  -0.0019,4,   0.0029,4,   0.0187,4,  16.9413,     -999.0,9,     -999.0,9,     -999.0,9,     -999.0,9,     -999.0,9,     -999.0,9,     -999.0,9,-999.0000, -999.00
33RO20071215,       TEST,     996,          1,         21,      12020,2,20080121,       1903,   -27.2950,  -109.0312,       2985,   200.1,  16.9769,  35.1590,2,-999.0000,9,    220.8,2,  -999.0,9, -999.00,9, -999.00,9, -999.00,9, -999.00,9,   2.532,2,   1.500,2,   1.2098,2,  2063.5,2,  -999.0,9,    900.1,2,    20.00,-999.0000,9,  -999.00,-999.000,9,-999.0000,9, -999.00,9, -999.00,9,  -999.0,9,-999.000,9,-999.000,-999.000,9,-999.000,9, -999.00,9, -999.00,9, -999.00,9, -999.00,9, -999.00,9,-999.000,   0.0749,2,   0.0540,2,   0.0262,2,   0.0188,2,   0.0068,2,   0.0022,3,  -0.0031,4,   0.0023,4,   0.0180,4,  16.9439,     -999.0,9,     -999.0,9,     -999.0,9,     -999.0,9,     -999.0,9,     -999.0,9,     -999.0,9,-999.0000, -999.00
33RO20071215,       TEST,     996,          1,         23,      12022,2,20080121,       1903,   -27.2950,  -109.0312,       2985,   200.6,  16.9782,  35.1595,2,-999.0000,9,    220.9,2,  -999.0,9, -999.00,9, -999.00,9, -999.00,9, -999.00,9,   2.548,2,   1.514,2,   1.1151,2,  2065.6,2,  -999.0,9,    636.4,2,    20.00,-999.0000,9,  -999.00,-999.000,9,-999.0000,9, -999.00,9, -999.00,9,  -999.0,9,-999.000,9,-999.000,-999.000,9,-999.000,9, -999.00,9, -999.00,9, -999.00,9, -999.00,9, -999.00,9,-999.000,   0.0648,2,   0.0450,2,   0.0204,2,   0.0147,2,   0.0035,2,  -0.0002,4,  -0.0043,4,   0.0016,4,   0.0201,4,  16.9451,     -999.0,9,     -999.0,9,     -999.0,9,     -999.0,9,     -999.0,9,     -999.0,9,     -999.0,9,-999.0000, -999.00
33RO20071215,       TEST,     996,          1,         16,      12051,2,20080121,       1903,   -27.2950,  -109.0312,       2985,   298.5,  12.5633,  34.5542,2,-999.0000,9,    206.3,2,  -999.0,9, -999.00,9, -999.00,9, -999.00,9, -999.00,9,   3.116,2,   1.702,2,   0.9867,2,  -999.0,9,  -999.0,9,   -999.0,9,  -999.00,-999.0000,9,  -999.00,-999.000,9,-999.0000,9, -999.00,9, -999.00,9,  -999.0,9,-999.000,9,-999.000,-999.000,9,-999.000,9, -999.00,9, -999.00,9, -999.00,9, -999.00,9, -999.00,9,-999.000,   0.0897,2,   0.0624,2,   0.0313,2,   0.0234,2,   0.0140,2,   0.0065,2,   0.0024,2,   0.0146,2,   0.0167,2,  12.5232,     -999.0,9,     -999.0,9,     -999.0,9,     -999.0,9,     -999.0,9,     -999.0,9,     -999.0,9,-999.0000, -999.00
33RO20071215,       TEST,     996,          1,         15,      12014,2,20080121,       1903,   -27.2950,  -109.0312,       2985,   298.6,  12.5485,  34.5530,2,-999.0000,9,    206.2,2,  -999.0,9, -999.00,9, -999.00,9, -999.00,9, -999.00,9,   3.126,2,   1.719,2,   1.0238,2,  2098.9,6,  -999.0,9,   -999.0,9,  -999.00,-999.0000,9,  -999.00,-999.000,9,-999.0000,9, -999.00,9, -999.00,9,  -999.0,9,-999.000,9,-999.000,-999.000,9,-999.000,9, -999.00,9, -999.00,9, -999.00,9, -999.00,9, -999.00,9,-999.000,   0.0810,2,   0.0548,2,   0.0256,2,   0.0186,2,   0.0103,2,   0.0036,2,   0.0007,2,   0.0160,2,   0.0191,2,  12.5084,     -999.0,9,     -999.0,9,     -999.0,9,     -999.0,9,     -999.0,9,     -999.0,9,     -999.0,9,-999.0000, -999.00
33RO20071215,       TEST,     996,          1,         18,      12025,2,20080121,       1903,   -27.2950,  -109.0312,       2985,   298.7,  12.5635,  34.5545,2,-999.0000,9,    206.3,2,  -999.0,9, -999.00,9, -999.00,9, -999.00,9, -999.00,9,   3.095,2,   1.697,2,   0.9256,2,  -999.0,9,  -999.0,9,   1278.1,2,    20.00,-999.0000,9,  -999.00,-999.000,9,-999.0000,9, -999.00,9, -999.00,9,  -999.0,9,-999.000,9,-999.000,-999.000,9,-999.000,9, -999.00,9, -999.00,9, -999.00,9, -999.00,9, -999.00,9,-999.000,   0.0857,2,   0.0588,2,   0.0285,2,   0.0209,2,   0.0118,2,   0.0049,2,   0.0014,2,   0.0155,2,   0.0180,2,  12.5233,     -999.0,9,     -999.0,9,     -999.0,9,     -999.0,9,     -999.0,9,     -999.0,9,     -999.0,9,-999.0000, -999.00
33RO20071215,       TEST,     996,          1,         13,      12012,2,20080121,       1903,   -27.2950,  -109.0312,       2985,   298.9,  12.4850,  34.5467,2,-999.0000,9,    206.4,2,  -999.0,9, -999.00,9, -999.00,9, -999.00,9, -999.00,9,   3.102,2,   1.705,2,   0.9413,2,  2098.4,6,  -999.0,9,   1151.5,6,    20.00,-999.0000,9,  -999.00,-999.000,9,-999.0000,9, -999.00,9, -999.00,9,  -999.0,9,-999.000,9,-999.000,-999.000,9,-999.000,9, -999.00,9, -999.00,9, -999.00,9, -999.00,9, -999.00,9,-999.000,   0.0838,2,   0.0572,2,   0.0274,2,   0.0201,2,   0.0113,2,   0.0045,2,   0.0011,2,   0.0156,2,   0.0183,2,  12.4450,     -999.0,9,     -999.0,9,     -999.0,9,     -999.0,9,     -999.0,9,     -999.0,9,     -999.0,9,-999.0000, -999.00
33RO20071215,       TEST,     996,          1,         14,      12013,2,20080121,       1903,   -27.2950,  -109.0312,       2985,   299.0,  12.5358,  34.5517,2,-999.0000,9,    206.3,2,   205.3,2, -999.00,9, -999.00,9, -999.00,9, -999.00,9,   3.112,2,   1.713,2,   0.9376,2,  -999.0,9,  -999.0,9,   1295.5,6,    20.00,-999.0000,9,  -999.00,-999.000,9,-999.0000,9, -999.00,9, -999.00,9,  -999.0,9,-999.000,9,-999.000,-999.000,9,-999.000,9, -999.00,9, -999.00,9, -999.00,9, -999.00,9, -999.00,9,-999.000,   0.0881,2,   0.0608,2,   0.0296,2,   0.0215,2,   0.0125,2,   0.0054,2,   0.0016,2,   0.0154,2,   0.0178,2,  12.4957,     -999.0,9,     -999.0,9,     -999.0,9,     -999.0,9,     -999.0,9,     -999.0,9,     -999.0,9,-999.0000, -999.00
33RO20071215,       TEST,     996,          1,         17,      12016,2,20080121,       1903,   -27.2950,  -109.0312,       2985,   299.1,  12.5577,  34.5540,2,-999.0000,9,    206.3,2,  -999.0,9, -999.00,9, -999.00,9, -999.00,9, -999.00,9,   3.118,2,   1.716,2,   1.0339,2,  2098.8,2,  -999.0,9,   -999.0,9,  -999.00,-999.0000,9,  -999.00,-999.000,9,-999.0000,9, -999.00,9, -999.00,9,  -999.0,9,-999.000,9,-999.000,-999.000,9,-999.000,9, -999.00,9, -999.00,9, -999.00,9, -999.00,9, -999.00,9,-999.000,   0.0876,2,   0.0605,2,   0.0299,2,   0.0223,2,   0.0130,2,   0.0056,2,   0.0018,2,   0.0150,2,   0.0172,2,  12.5175,     -999.0,9,     -999.0,9,     -999.0,9,     -999.0,9,     -999.0,9,     -999.0,9,     -999.0,9,-999.0000, -999.00
33RO20071215,       TEST,     996,          1,         11,      12003,2,20080121,       1903,   -27.2950,  -109.0312,       2985,   399.1,   8.3222,  34.3172,2,-999.0000,9,    206.2,2,  -999.0,9, -999.00,9, -999.00,9, -999.00,9, -999.00,9,   3.355,2,   1.727,2,   0.7578,2,  2144.4,2,  -999.0,9,   -999.0,9,  -999.00,-999.0000,9,  -999.00,-999.000,9,-999.0000,9, -999.00,9, -999.00,9,  -999.0,9,-999.000,9,-999.000,-999.000,9,-999.000,9, -999.00,9, -999.00,9, -999.00,9, -999.00,9, -999.00,9,-999.000,   0.0935,2,   0.0620,2,   0.0305,2,   0.0221,2,   0.0130,2,   0.0050,2,   0.0012,2,   0.0154,2,   0.0182,2,   8.2807,     -999.0,9,     -999.0,9,     -999.0,9,     -999.0,9,     -999.0,9,     -999.0,9,     -999.0,9,-999.0000, -999.00