BOTTLE,20220818CCHSIOAMB
EXPOCODE,SECT_ID,STNNBR,CASTNO,SAMPNO,BTLNBR,BTLNBR_FLAG_W,DATE,TIME,LATITUDE,LONGITUDE,DEPTH,CTDPRS,CTDTMP,CTDSAL,CTDSAL_FLAG_W,SALNTY,SALNTY_FLAG_W,CTDOXY,CTDOXY_FLAG_W,OXYGEN,OXYGEN_FLAG_W,SILCAT,SILCAT_FLAG_W,NITRAT,NITRAT_FLAG_W,NITRIT,NITRIT_FLAG_W,PHSPHT,PHSPHT_FLAG_W,CFC-11,CFC-11_FLAG_W,CFC-12,CFC-12_FLAG_W,SF6,SF6_FLAG_W,TCARBN,TCARBN_FLAG_W,ALKALI,ALKALI_FLAG_W,FCO2,FCO2_FLAG_W,FCO2TMP,PH_SWS,PH_SWS_FLAG_W,PH_TMP,TRITUM,TRITUM_FLAG_W,HELIUM,HELIUM_FLAG_W,DELHE3,DELHE3_FLAG_W,DELC13,DELC13_FLAG_W,DELC14,DELC14_FLAG_W,NEON,NEON_FLAG_W,NEONER,CCL4,CCL4_FLAG_W,POC,POC_FLAG_W,DOC,DOC_FLAG_W,TDN,TDN_FLAG_W,DON,DON_FLAG_W,CHLORA,CHLORA_FLAG_W,ARGON,ARGON_FLAG_W,TRITER,CDOM325,CDOM325_FLAG_W,CDOM340,CDOM340_FLAG_W,CDOM380,CDOM380_FLAG_W,CDOM412,CDOM412_FLAG_W,CDOM443,CDOM443_FLAG_W,CDOM490,CDOM490_FLAG_W,CDOM555,CDOM555_FLAG_W,CDOMSL,CDOMSL_FLAG_W,CDOMSN,CDOMSN_FLAG_W,THETA,D18O_NO3,D18O_NO3_FLAG_W,CDOM2C,CDOM2C_FLAG_W,CDOM3C,CDOM3C_FLAG_W,LAB_DEN,LAB_DEN_FLAG_W,DELSI30,DELSI30_FLAG_W,N2,N2_FLAG_W,D15N_NO3,D15N_NO3_FLAG_W,HELIER,DELHER
,,,,,,,,,,,METERS,DBAR,ITS-90,PSS-78,,PSS-78,,UMOL/KG,,UMOL/KG,,UMOL/KG,,UMOL/KG,,UMOL/KG,,UMOL/KG,,PMOL/KG,,PMOL/KG,,FMOL/KG,,UMOL/KG,,UMOL/KG,,UATM,,DEG C,,,DEG C,TU,,NMOL/KG,,PERCNT,,/MILLE,,/MILLE,,NMOL/KG,,NMOL/KG,PMOL/KG,,UG/KG,,UMOL/KG,,UMOL/KG,,UMOL/KG,,UG/KG,,UMOL/KG,,TU,1/M,,1/M,,1/M,,1/M,,1/M,,1/M,,1/M,,1/NM,,1/NM,,DEG C,/MILLE,,,,,,,,/MILLE,,UMOL/KG,,/MILLE,,NMOL/KG,PERCNT
33RO20071215,        P18,      65,          1,         11,      12003,2,20080106,       0937,    -9.1660,  -104.1742,       3698,  1732.2,   2.5074,  34.6268,2,  34.6278,2,    109.8,2,   110.0,2,  127.30,2,   38.90,2,    0.00,2,    2.72,2,-999.000,9,-999.000,9,-999.0000,9,  2329.9,2,  -999.0,5,   -999.0,9,  -999.00,   7.5111,2,    25.00,-999.000,9,-999.0000,9, -999.00,9, -999.00,9,  -999.0,9,-999.000,9,-999.000,-999.000,9,-999.000,9,   37.74,2,   40.27,2, -999.00,9, -999.00,9, -999.00,9,-999.000,-999.0000,9,-999.0000,9,-999.0000,9,-999.0000,9,-999.0000,9,-999.0000,9,-999.0000,9,-999.0000,9,-999.0000,9,   2.3861,     -999.0,9,     -999.0,9,     -999.0,9,     -999.0,9,     -999.0,9,     -999.0,9,     -999.0,9,-999.0000, -999.00
33RO20071215,        P18,      65,          1,         10,      12032,2,20080106,       0937,    -9.1660,  -104.1742,       3698,  1932.6,   2.2999,  34.6397,2,  34.6406,2,    116.5,2,   116.4,2,  132.00,2,   38.50,2,    0.00,2,    2.68,2,   0.000,2,   0.000,2,   0.0460,2,  2331.6,2,  2402.3,2,   1357.8,2,    20.00,   7.5151,2,    25.00,-999.000,9,-999.0000,9, -999.00,9, -999.00,9,  -999.0,9,-999.000,9,-999.000,-999.000,9,-999.000,9,   37.53,2,   39.67,2, -999.00,9, -999.00,9, -999.00,9,-999.000,-999.0000,9,-999.0000,9,-999.0000,9,-999.0000,9,-999.0000,9,-999.0000,9,-999.0000,9,-999.0000,9,-999.0000,9,   2.1647,     -999.0,9,     -999.0,9,     -999.0,9,     -999.0,9,     -999.0,9,     -999.0,9,     -999.0,9,-999.0000, -999.00
33RO20071215,        P18,      65,          1,          9,      12002,2,20080106,       0937,    -9.1660,  -104.1742,       3698,  2133.2,   2.0960,  34.6538,2,  34.6542,2,    122.4,2,   122.0,2,  137.20,2,   38.00,2,    0.00,2,    2.64,2,   0.000,2,   0.000,2,   0.0000,2,  2333.6,2,  2407.8,2,   -999.0,9,  -999.00,   7.5383,2,    25.00,-999.000,9,-999.0000,9, -999.00,9, -999.00,9,  -999.0,9,-999.000,9,-999.000,   0.004,3,-999.000,9,   37.57,2,   39.37,2, -999.00,9, -999.00,9, -999.00,9,-999.000,-999.0000,9,-999.0000,9,-999.0000,9,-999.0000,9,-999.0000,9,-999.0000,9,-999.0000,9,-999.0000,9,-999.0000,9,   1.9466,     -999.0,9,     -999.0,9,     -999.0,9,     -999.0,9,     -999.0,9,     -999.0,9,     -999.0,9,-999.0000, -999.00
33RO20071215,        P18,      65,          1,          8,      12021,2,20080106,       0937,    -9.1660,  -104.1742,       3698,  2331.4,   1.9711,  34.6625,2,  34.6626,2,    124.7,2,   124.4,2,  141.90,2,   37.90,2,    0.00,2,    2.62,2,   0.001,2,   0.000,2,   0.0000,2,  2335.9,2,  2410.8,2,   1303.3,2,    20.00,   7.4790,2,    25.00,-999.000,9,-999.0000,9, -999.00,9, -999.00,9,  -999.0,9,-999.000,9,-999.000,   0.003,3,-999.000,9,   38.16,2,   38.99,2, -999.00,9, -999.00,9, -999.00,9,-999.000,-999.0000,9,-999.0000,9,-999.0000,9,-999.0000,9,-999.0000,9,-999.0000,9,-999.0000,9,-999.0000,9,-999.0000,9,   1.8064,     -999.0,9,     -999.0,9,     -999.0,9,     -999.0,9,     -999.0,9,     -999.0,9,     -999.0,9,-999.0000, -999.00
33RO20071215,        P18,      65,          1,          7,      12001,2,20080106,       0937,    -9.1660,  -104.1742,       3698,  2532.6,   1.8726,  34.6689,2,  34.6695,2,    127.3,2,   127.7,2,  143.30,2,   37.70,2,    0.00,2,    2.60,2,   0.001,2,   0.002,3,   0.0000,2,  2336.6,2,  2432.4,4,   -999.0,9,  -999.00,   7.5471,2,    25.00,-999.000,9,-999.0000,9, -999.00,9, -999.00,9,  -999.0,9,-999.000,9,-999.000,   0.004,3,-999.000,9,   38.50,2,   38.61,2, -999.00,9, -999.00,9, -999.00,9,-999.000,-999.0000,9,-999.0000,9,-999.0000,9,-999.0000,9,-999.0000,9,-999.0000,9,-999.0000,9,-999.0000,9,-999.0000,9,   1.6916,     -999.0,9,     -999.0,9,     -999.0,9,     -999.0,9,     -999.0,9,     -999.0,9,     -999.0,9,-999.0000, -999.00
33RO20071215,        P18,      65,          1,          6,      12033,2,20080106,       0937,    -9.1660,  -104.1742,       3698,  2732.4,   1.8151,  34.6739,2,  34.6818,4,    134.4,2,   134.2,2,  143.50,2,   37.20,2,    0.00,2,    2.56,2,   0.000,2,   0.000,2,   0.0000,2,  2333.6,2,  2418.9,2,   1246.4,6,    20.00,   7.5491,2,    25.00,-999.000,9,-999.0000,9, -999.00,9, -999.00,9,  -999.0,9,-999.000,9,-999.000,   0.002,3,-999.000,9,   38.88,3,   38.76,3, -999.00,9, -999.00,9, -999.00,9,-999.000,-999.0000,9,-999.0000,9,-999.0000,9,-999.0000,9,-999.0000,9,-999.0000,9,-999.0000,9,-999.0000,9,-999.0000,9,   1.6168,     -999.0,9,     -999.0,9,     -999.0,9,     -999.0,9,     -999.0,9,     -999.0,9,     -999.0,9,-999.0000, -999.00
33RO20071215,        P18,      65,          1,          5,      12008,2,20080106,       0937,    -9.1660,  -104.1742,       3698,  2933.3,   1.7767,  34.6772,2,  34.6751,2,    136.5,2,   137.0,2,  144.40,2,   36.90,2,    0.00,2,    2.55,2,  -0.001,2,   0.000,2,   0.0000,2,  2334.1,2,  2419.2,2,   -999.0,9,  -999.00,   7.5691,2,    25.00,-999.000,9,-999.0000,9, -999.00,9, -999.00,9,  -999.0,9,-999.000,9,-999.000,   0.001,3,-999.000,9,   38.89,2,   38.22,2, -999.00,9, -999.00,9, -999.00,9,-999.000,-999.0000,9,-999.0000,9,-999.0000,9,-999.0000,9,-999.0000,9,-999.0000,9,-999.0000,9,-999.0000,9,-999.0000,9,   1.5602,     -999.0,9,     -999.0,9,     -999.0,9,     -999.0,9,     -999.0,9,     -999.0,9,     -999.0,9,-999.0000, -999.00
33RO20071215,        P18,      65,          1,          4,      12009,2,20080106,       0937,    -9.1660,  -104.1742,       3698,  3164.5,   1.7469,  34.6776,2,  34.6771,2,    135.9,2,  -999.0,5,  148.70,6,   37.30,6,    0.00,6,    2.56,2,   0.003,2,   0.002,3,   0.0000,2,  2336.9,2,  2422.3,2,   1218.1,2,    20.00,   7.5647,2,    25.00,-999.000,9,-999.0000,9, -999.00,9, -999.00,9,  -999.0,9,-999.000,9,-999.000,   0.006,3,-999.000,9,   39.11,2,   38.50,2, -999.00,9, -999.00,9, -999.00,9,-999.000,-999.0000,9,-999.0000,9,-999.0000,9,-999.0000,9,-999.0000,9,-999.0000,9,-999.0000,9,-999.0000,9,-999.0000,9,   1.5085,     -999.0,9,     -999.0,9,     -999.0,9,     -999.0,9,     -999.0,9,     -999.0,9,     -999.0,9,-999.0000, -999.00
33RO20071215,        P18,      65,          1,          3,      12006,2,20080106,       0937,    -9.1660,  -104.1742,       3698,  3415.6,   1.7496,  34.6787,2,  34.6790,2,    137.5,2,   137.7,2,  149.00,6,   37.10,6,    0.00,6,    2.55,2,   0.001,2,   0.001,2,   0.0000,2,  2335.6,2,  2423.9,2,   -999.0,9,  -999.00,   7.5676,2,    25.00,-999.000,9,-999.0000,9, -999.00,9, -999.00,9,  -999.0,9,-999.000,9,-999.000,   0.002,3,-999.000,9,   38.68,2,   38.15,2, -999.00,9, -999.00,9, -999.00,9,-999.000,-999.0000,9,-999.0000,9,-999.0000,9,-999.0000,9,-999.0000,9,-999.0000,9,-999.0000,9,-999.0000,9,-999.0000,9,   1.4858,     -999.0,9,     -999.0,9,     -999.0,9,     -999.0,9,     -999.0,9,     -999.0,9,     -999.0,9,-999.0000, -999.00
33RO20071215,        P18,      65,          1,          2,      12007,2,20080106,       0937,    -9.1660,  -104.1742,       3698,  3578.1,   1.7501,  34.6795,2,  34.6800,2,    139.2,2,   138.8,2,  149.00,6,   37.10,6,    0.00,6,    2.54,2,   0.001,2,   0.000,2,   0.0000,2,  2334.7,2,  2424.5,2,   -999.0,9,  -999.00,   7.5634,2,    25.00,-999.000,9,-999.0000,9, -999.00,9, -999.00,9,  -999.0,9,-999.000,9,-999.000,   0.003,3,-999.000,9,   38.89,2,   38.69,2, -999.00,9, -999.00,9, -999.00,9,-999.000,-999.0000,9,-999.0000,9,-999.0000,9,-999.0000,9,-999.0000,9,-999.0000,9,-999.0000,9,-999.0000,9,-999.0000,9,   1.4695,     -999.0,9,     -999.0,9,     -999.0,9,     -999.0,9,     -999.0,9,     -999.0,9,     -999.0,9,-999.0000, -999.00
33RO20071215,        P18,      65,          1,          1,      12035,2,20080106,       0937,    -9.1660,  -104.1742,       3698,  3734.9,   1.7523,  34.6804,2,  34.6777,2,    140.5,2,   140.1,2,  149.30,2,   37.10,2,    0.00,2,    2.54,2,   0.001,6,   0.000,6,   0.0000,6,  2335.4,6,  2431.6,2,   1181.9,2,    20.00,   7.5859,2,    25.00,-999.000,9,-999.0000,9, -999.00,9, -999.00,9,  -999.0,9,-999.000,9,-999.000,   0.002,3,-999.000,9,   39.20,2,   38.07,2, -999.00,9, -999.00,9, -999.00,9,-999.000,-999.0000,9,-999.0000,9,-999.0000,9,-999.0000,9,-999.0000,9,-999.0000,9,-999.0000,9,-999.0000,9,-999.0000,9,   1.4550,     -999.0,9,     -999.0,9,     -999.0,9,     -999.0,9,     -999.0,9,     -999.0,9,     -999.0,9,-999.0000, -999.00