BOTTLE,20220818CCHSIOAMB
EXPOCODE,SECT_ID,STNNBR,CASTNO,SAMPNO,BTLNBR,BTLNBR_FLAG_W,DATE,TIME,LATITUDE,LONGITUDE,DEPTH,CTDPRS,CTDTMP,CTDSAL,CTDSAL_FLAG_W,SALNTY,SALNTY_FLAG_W,CTDOXY,CTDOXY_FLAG_W,OXYGEN,OXYGEN_FLAG_W,SILCAT,SILCAT_FLAG_W,NITRAT,NITRAT_FLAG_W,NITRIT,NITRIT_FLAG_W,PHSPHT,PHSPHT_FLAG_W,CFC-11,CFC-11_FLAG_W,CFC-12,CFC-12_FLAG_W,SF6,SF6_FLAG_W,TCARBN,TCARBN_FLAG_W,ALKALI,ALKALI_FLAG_W,FCO2,FCO2_FLAG_W,FCO2TMP,PH_SWS,PH_SWS_FLAG_W,PH_TMP,TRITUM,TRITUM_FLAG_W,HELIUM,HELIUM_FLAG_W,DELHE3,DELHE3_FLAG_W,DELC13,DELC13_FLAG_W,DELC14,DELC14_FLAG_W,NEON,NEON_FLAG_W,NEONER,CCL4,CCL4_FLAG_W,POC,POC_FLAG_W,DOC,DOC_FLAG_W,TDN,TDN_FLAG_W,DON,DON_FLAG_W,CHLORA,CHLORA_FLAG_W,ARGON,ARGON_FLAG_W,TRITER,CDOM325,CDOM325_FLAG_W,CDOM340,CDOM340_FLAG_W,CDOM380,CDOM380_FLAG_W,CDOM412,CDOM412_FLAG_W,CDOM443,CDOM443_FLAG_W,CDOM490,CDOM490_FLAG_W,CDOM555,CDOM555_FLAG_W,CDOMSL,CDOMSL_FLAG_W,CDOMSN,CDOMSN_FLAG_W,THETA,D18O_NO3,D18O_NO3_FLAG_W,CDOM2C,CDOM2C_FLAG_W,CDOM3C,CDOM3C_FLAG_W,LAB_DEN,LAB_DEN_FLAG_W,DELSI30,DELSI30_FLAG_W,N2,N2_FLAG_W,D15N_NO3,D15N_NO3_FLAG_W,HELIER,DELHER
,,,,,,,,,,,METERS,DBAR,ITS-90,PSS-78,,PSS-78,,UMOL/KG,,UMOL/KG,,UMOL/KG,,UMOL/KG,,UMOL/KG,,UMOL/KG,,PMOL/KG,,PMOL/KG,,FMOL/KG,,UMOL/KG,,UMOL/KG,,UATM,,DEG C,,,DEG C,TU,,NMOL/KG,,PERCNT,,/MILLE,,/MILLE,,NMOL/KG,,NMOL/KG,PMOL/KG,,UG/KG,,UMOL/KG,,UMOL/KG,,UMOL/KG,,UG/KG,,UMOL/KG,,TU,1/M,,1/M,,1/M,,1/M,,1/M,,1/M,,1/M,,1/NM,,1/NM,,DEG C,/MILLE,,,,,,,,/MILLE,,UMOL/KG,,/MILLE,,NMOL/KG,PERCNT
33RO20071215,        P18,      59,          1,         11,      12003,2,20080104,       1714,    -6.6652,  -107.6787,       3191,  1467.5,   3.0543,  34.6001,2,  34.6014,2,     99.0,2,    98.7,2,  116.40,2,   39.60,2,    0.00,2,    2.82,2,   0.004,2,   0.002,2,   0.0000,2,  2323.0,2,  1975.9,4,   -999.0,9,  -999.00,   7.4905,2,    25.00,-999.000,9,-999.0000,9, -999.00,9, -999.00,9,  -999.0,9,-999.000,9,-999.000,-999.000,9,-999.000,9,   37.42,2,   40.77,2, -999.00,9, -999.00,9, -999.00,9,-999.000,   0.1633,2,   0.1164,2,   0.0662,2,   0.0489,2,   0.0320,2,   0.0139,2,   0.0052,2,   0.0140,2,   0.0143,2,   2.9484,     -999.0,9,     -999.0,9,     -999.0,9,     -999.0,9,     -999.0,9,     -999.0,9,     -999.0,9,-999.0000, -999.00
33RO20071215,        P18,      59,          1,         10,      12032,2,20080104,       1714,    -6.6652,  -107.6787,       3191,  1566.9,   2.8864,  34.6104,2,  34.6109,2,     97.4,2,    99.3,3,  123.40,2,   39.80,2,    0.00,2,    2.84,2,   0.000,2,   0.001,2,   0.0000,2,  2331.0,2,  2393.8,2,   -999.0,9,  -999.00,   7.4950,2,    25.00,-999.000,9,-999.0000,9, -999.00,9, -999.00,9,  -999.0,9,-999.000,9,-999.000,-999.000,9,-999.000,9,   37.32,2,   41.16,2, -999.00,9, -999.00,9, -999.00,9,-999.000,   0.1679,2,   0.1203,2,   0.0685,2,   0.0503,2,   0.0330,2,   0.0141,2,   0.0053,2,   0.0142,2,   0.0143,2,   2.7742,     -999.0,9,     -999.0,9,     -999.0,9,     -999.0,9,     -999.0,9,     -999.0,9,     -999.0,9,-999.0000, -999.00
33RO20071215,        P18,      59,          1,          9,      12002,2,20080104,       1714,    -6.6652,  -107.6787,       3191,  1732.7,   2.6176,  34.6242,2,  34.6239,2,    102.2,2,   102.5,2,  130.00,2,   39.50,2,    0.00,2,    2.80,2,  -0.002,2,   0.000,2,   0.0000,2,  2335.4,2,  2399.7,2,   -999.0,9,  -999.00,   7.5838,2,    25.00,-999.000,9,-999.0000,9, -999.00,9, -999.00,9,  -999.0,9,-999.000,9,-999.000,-999.000,9,-999.000,9,   37.14,2,   40.79,2, -999.00,9, -999.00,9, -999.00,9,-999.000,-999.0000,5,-999.0000,5,-999.0000,5,-999.0000,5,-999.0000,5,-999.0000,5,-999.0000,5,-999.0000,5,-999.0000,5,   2.4948,     -999.0,9,     -999.0,9,     -999.0,9,     -999.0,9,     -999.0,9,     -999.0,9,     -999.0,9,-999.0000, -999.00
33RO20071215,        P18,      59,          1,          8,      12021,2,20080104,       1714,    -6.6652,  -107.6787,       3191,  1933.6,   2.3889,  34.6365,2,  34.6401,2,    109.2,2,   109.3,2,  134.40,2,   39.20,2,    0.00,2,    2.76,2,   0.000,2,   0.001,2,   0.0000,2,  2336.8,2,  2406.4,2,   -999.0,9,  -999.00,   7.5061,2,    25.00,-999.000,9,-999.0000,9, -999.00,9, -999.00,9,  -999.0,9,-999.000,9,-999.000,-999.000,9,-999.000,9,   36.86,3,   40.90,3, -999.00,9, -999.00,9, -999.00,9,-999.000,   0.1630,2,   0.1158,2,   0.0645,2,   0.0465,2,   0.0301,2,   0.0129,2,   0.0047,2,   0.0144,2,   0.0149,2,   2.2523,     -999.0,9,     -999.0,9,     -999.0,9,     -999.0,9,     -999.0,9,     -999.0,9,     -999.0,9,-999.0000, -999.00
33RO20071215,        P18,      59,          1,          7,      12001,2,20080104,       1714,    -6.6652,  -107.6787,       3191,  2132.3,   2.1782,  34.6493,2,  34.6511,2,    115.5,2,   118.6,3,  139.30,2,   38.60,2,    0.00,2,    2.71,2,   0.004,3,   0.003,3,   0.0097,2,  2337.3,2,  2412.8,2,   -999.0,9,  -999.00,   7.5176,2,    25.00,-999.000,9,-999.0000,9, -999.00,9, -999.00,9,  -999.0,9,-999.000,9,-999.000,   0.004,3,-999.000,9,   37.29,2,   39.48,2, -999.00,9, -999.00,9, -999.00,9,-999.000,   0.1621,2,   0.1156,2,   0.0650,2,   0.0466,2,   0.0306,2,   0.0138,2,   0.0054,2,   0.0141,2,   0.0146,2,   2.0276,     -999.0,9,     -999.0,9,     -999.0,9,     -999.0,9,     -999.0,9,     -999.0,9,     -999.0,9,-999.0000, -999.00
33RO20071215,        P18,      59,          1,          6,      12033,2,20080104,       1714,    -6.6652,  -107.6787,       3191,  2332.1,   2.0082,  34.6603,2,  34.6597,2,    125.8,2,   125.3,2,  140.10,2,   38.00,2,    0.00,2,    2.65,2,   0.000,2,   0.001,2,   0.0000,2,  2333.8,2,  2417.5,2,   -999.0,9,  -999.00,   7.5338,2,    25.00,-999.000,9,-999.0000,9, -999.00,9, -999.00,9,  -999.0,9,-999.000,9,-999.000,   0.002,3,-999.000,9,   37.29,2,   38.88,2, -999.00,9, -999.00,9, -999.00,9,-999.000,   0.1764,2,   0.1279,2,   0.0739,2,   0.0534,2,   0.0367,2,   0.0190,2,   0.0086,2,   0.0128,2,   0.0136,2,   1.8428,     -999.0,9,     -999.0,9,     -999.0,9,     -999.0,9,     -999.0,9,     -999.0,9,     -999.0,9,-999.0000, -999.00
33RO20071215,        P18,      59,          1,          5,      12008,2,20080104,       1714,    -6.6652,  -107.6787,       3191,  2532.6,   1.8487,  34.6715,2,  34.6715,2,    134.3,2,   134.6,2,  141.90,2,   37.30,2,    0.00,2,    2.59,2,  -0.001,2,   0.001,2,   0.0000,2,  2332.6,2,  2421.3,2,   -999.0,9,  -999.00,   7.5644,2,    25.00,-999.000,9,-999.0000,9, -999.00,9, -999.00,9,  -999.0,9,-999.000,9,-999.000,   0.002,3,-999.000,9,   36.76,2,   38.56,2, -999.00,9, -999.00,9, -999.00,9,-999.000,   0.1574,2,   0.1122,2,   0.0628,2,   0.0444,2,   0.0298,2,   0.0146,2,   0.0061,2,   0.0136,2,   0.0146,2,   1.6681,     -999.0,9,     -999.0,9,     -999.0,9,     -999.0,9,     -999.0,9,     -999.0,9,     -999.0,9,-999.0000, -999.00
33RO20071215,        P18,      59,          1,          4,      12009,2,20080104,       1714,    -6.6652,  -107.6787,       3191,  2733.2,   1.7931,  34.6766,2,  34.6770,2,    138.0,2,   138.2,2,  144.00,6,   37.10,6,    0.01,6,    2.57,2,   0.000,2,   0.000,2,   0.0000,2,  2332.3,2,  2427.1,2,   -999.0,9,  -999.00,   7.5646,2,    25.00,-999.000,9,-999.0000,9, -999.00,9, -999.00,9,  -999.0,9,-999.000,9,-999.000,   0.002,3,-999.000,9,   36.91,2,   38.10,2, -999.00,9, -999.00,9, -999.00,9,-999.000,   0.1464,2,   0.1028,2,   0.0563,2,   0.0388,2,   0.0255,2,   0.0119,2,   0.0046,2,   0.0143,2,   0.0155,2,   1.5952,     -999.0,9,     -999.0,9,     -999.0,9,     -999.0,9,     -999.0,9,     -999.0,9,     -999.0,9,-999.0000, -999.00
33RO20071215,        P18,      59,          1,          3,      12006,2,20080104,       1714,    -6.6652,  -107.6787,       3191,  2932.8,   1.7604,  34.6785,2,  34.6790,2,    139.1,2,   140.2,2,  145.90,6,   37.10,6,    0.00,6,    2.56,2,   0.001,2,   0.000,2,   0.0000,2,  2332.3,2,  2427.0,2,   -999.0,9,  -999.00,   7.5542,2,    25.00,-999.000,9,-999.0000,9, -999.00,9, -999.00,9,  -999.0,9,-999.000,9,-999.000,   0.002,3,-999.000,9,   37.20,2,   38.57,2, -999.00,9, -999.00,9, -999.00,9,-999.000,   0.1402,2,   0.0967,2,   0.0516,2,   0.0350,2,   0.0222,2,   0.0095,2,   0.0032,2,   0.0150,2,   0.0164,2,   1.5443,     -999.0,9,     -999.0,9,     -999.0,9,     -999.0,9,     -999.0,9,     -999.0,9,     -999.0,9,-999.0000, -999.00
33RO20071215,        P18,      59,          1,          2,      12007,2,20080104,       1714,    -6.6652,  -107.6787,       3191,  3167.1,   1.7503,  34.6797,2,  34.6800,2,    140.2,2,   140.2,2,  146.80,6,   37.10,6,    0.00,6,    2.56,2,   0.000,2,   0.001,2,   0.0000,2,  2332.7,2,  2424.7,2,   -999.0,9,  -999.00,   7.5711,2,    25.00,-999.000,9,-999.0000,9, -999.00,9, -999.00,9,  -999.0,9,-999.000,9,-999.000,   0.002,3,-999.000,9,   38.45,2,   38.42,2, -999.00,9, -999.00,9, -999.00,9,-999.000,   0.1666,2,   0.1196,2,   0.0679,2,   0.0482,2,   0.0329,2,   0.0170,2,   0.0075,2,   0.0131,2,   0.0141,2,   1.5116,     -999.0,9,     -999.0,9,     -999.0,9,     -999.0,9,     -999.0,9,     -999.0,9,     -999.0,9,-999.0000, -999.00
33RO20071215,        P18,      59,          1,          1,      12035,2,20080104,       1714,    -6.6652,  -107.6787,       3191,  3222.8,   1.7526,  34.6797,2,  34.6805,2,    141.2,2,   140.3,2,  146.90,2,   37.10,2,    0.00,2,    2.56,2,   0.002,6,   0.001,6,   0.0000,6,  2333.7,6,  2425.9,2,   -999.0,9,  -999.00,   7.5767,2,    25.00,-999.000,9,-999.0000,9, -999.00,9, -999.00,9,  -999.0,9,-999.000,9,-999.000,   0.002,3,-999.000,9,   38.85,2,   38.27,2, -999.00,9, -999.00,9, -999.00,9,-999.000,   0.1615,2,   0.1157,2,   0.0654,2,   0.0461,2,   0.0311,2,   0.0158,2,   0.0068,2,   0.0134,2,   0.0144,2,   1.5083,     -999.0,9,     -999.0,9,     -999.0,9,     -999.0,9,     -999.0,9,     -999.0,9,     -999.0,9,-999.0000, -999.00