BOTTLE,20220818CCHSIOAMB
EXPOCODE,SECT_ID,STNNBR,CASTNO,SAMPNO,BTLNBR,BTLNBR_FLAG_W,DATE,TIME,LATITUDE,LONGITUDE,DEPTH,CTDPRS,CTDTMP,CTDSAL,CTDSAL_FLAG_W,SALNTY,SALNTY_FLAG_W,CTDOXY,CTDOXY_FLAG_W,OXYGEN,OXYGEN_FLAG_W,SILCAT,SILCAT_FLAG_W,NITRAT,NITRAT_FLAG_W,NITRIT,NITRIT_FLAG_W,PHSPHT,PHSPHT_FLAG_W,CFC-11,CFC-11_FLAG_W,CFC-12,CFC-12_FLAG_W,SF6,SF6_FLAG_W,TCARBN,TCARBN_FLAG_W,ALKALI,ALKALI_FLAG_W,FCO2,FCO2_FLAG_W,FCO2TMP,PH_SWS,PH_SWS_FLAG_W,PH_TMP,TRITUM,TRITUM_FLAG_W,HELIUM,HELIUM_FLAG_W,DELHE3,DELHE3_FLAG_W,DELC13,DELC13_FLAG_W,DELC14,DELC14_FLAG_W,NEON,NEON_FLAG_W,NEONER,CCL4,CCL4_FLAG_W,POC,POC_FLAG_W,DOC,DOC_FLAG_W,TDN,TDN_FLAG_W,DON,DON_FLAG_W,CHLORA,CHLORA_FLAG_W,ARGON,ARGON_FLAG_W,TRITER,CDOM325,CDOM325_FLAG_W,CDOM340,CDOM340_FLAG_W,CDOM380,CDOM380_FLAG_W,CDOM412,CDOM412_FLAG_W,CDOM443,CDOM443_FLAG_W,CDOM490,CDOM490_FLAG_W,CDOM555,CDOM555_FLAG_W,CDOMSL,CDOMSL_FLAG_W,CDOMSN,CDOMSN_FLAG_W,THETA,D18O_NO3,D18O_NO3_FLAG_W,CDOM2C,CDOM2C_FLAG_W,CDOM3C,CDOM3C_FLAG_W,LAB_DEN,LAB_DEN_FLAG_W,DELSI30,DELSI30_FLAG_W,N2,N2_FLAG_W,D15N_NO3,D15N_NO3_FLAG_W,HELIER,DELHER
,,,,,,,,,,,METERS,DBAR,ITS-90,PSS-78,,PSS-78,,UMOL/KG,,UMOL/KG,,UMOL/KG,,UMOL/KG,,UMOL/KG,,UMOL/KG,,PMOL/KG,,PMOL/KG,,FMOL/KG,,UMOL/KG,,UMOL/KG,,UATM,,DEG C,,,DEG C,TU,,NMOL/KG,,PERCNT,,/MILLE,,/MILLE,,NMOL/KG,,NMOL/KG,PMOL/KG,,UG/KG,,UMOL/KG,,UMOL/KG,,UMOL/KG,,UG/KG,,UMOL/KG,,TU,1/M,,1/M,,1/M,,1/M,,1/M,,1/M,,1/M,,1/NM,,1/NM,,DEG C,/MILLE,,,,,,,,/MILLE,,UMOL/KG,,/MILLE,,NMOL/KG,PERCNT
33RO20071215,        P18,     130,          1,         36,      12017,2,20080201,       0338,   -46.7493,  -103.0002,       3881,     5.5,  11.4803,  34.0739,2,  34.0740,2,    273.8,2,   274.2,2,    1.70,2,   15.10,2,    0.24,2,    1.11,2,-999.000,9,-999.000,9,-999.0000,9,  2080.4,6,  2262.9,2,    567.6,2,    20.00,   7.8330,2,    25.00,-999.000,9,-999.0000,9, -999.00,9, -999.00,9,  -999.0,9,-999.000,9,-999.000,-999.000,9,-999.000,9,   51.14,2,   19.42,2, -999.00,9, -999.00,9, -999.00,9,-999.000,-999.0000,9,-999.0000,9,-999.0000,9,-999.0000,9,-999.0000,9,-999.0000,9,-999.0000,9,-999.0000,9,-999.0000,9,  11.4797,     -999.0,9,     -999.0,9,     -999.0,9,     -999.0,9,     -999.0,9,     -999.0,9,     -999.0,9,-999.0000, -999.00
33RO20071215,        P18,     130,          1,         35,      12029,2,20080201,       0338,   -46.7493,  -103.0002,       3881,    10.5,  11.4806,  34.0740,2,  34.0731,2,    273.9,2,   274.0,2,    1.70,2,   15.10,2,    0.24,2,    1.11,2,   3.534,2,   2.028,2,   1.6619,2,  2077.6,2,  2264.8,2,   -999.0,9,  -999.00,   7.8329,2,    25.00,-999.000,9,-999.0000,9, -999.00,9,    1.61,2,  -999.0,1,-999.000,9,-999.000,-999.000,9,-999.000,9,   50.36,2,   19.66,2, -999.00,9, -999.00,9, -999.00,1,-999.000,-999.0000,9,-999.0000,9,-999.0000,9,-999.0000,9,-999.0000,9,-999.0000,9,-999.0000,9,-999.0000,9,-999.0000,9,  11.4793,     -999.0,1,     -999.0,9,     -999.0,9,     -999.0,9,     -999.0,9,     -999.0,1,     -999.0,9,-999.0000, -999.00
33RO20071215,        P18,     130,          1,         34,      12049,2,20080201,       0338,   -46.7493,  -103.0002,       3881,    24.6,  11.4385,  34.0770,2,  34.0769,2,    274.2,2,   274.3,2,    1.70,2,   15.10,2,    0.24,2,    1.11,2,-999.000,9,-999.000,9,-999.0000,9,  2081.1,2,  2262.3,2,   -999.0,9,  -999.00,   7.8327,2,    25.00,-999.000,9,-999.0000,9, -999.00,9, -999.00,9,  -999.0,9,-999.000,9,-999.000,-999.000,9,-999.000,9,   49.01,2,   19.30,2, -999.00,9, -999.00,9, -999.00,9,-999.000,-999.0000,9,-999.0000,9,-999.0000,9,-999.0000,9,-999.0000,9,-999.0000,9,-999.0000,9,-999.0000,9,-999.0000,9,  11.4354,     -999.0,9,     -999.0,9,     -999.0,9,     -999.0,9,     -999.0,9,     -999.0,9,     -999.0,9,-999.0000, -999.00
33RO20071215,        P18,     130,          1,         33,      12027,2,20080201,       0338,   -46.7493,  -103.0002,       3881,    50.2,  10.7789,  34.1067,2,  34.1081,2,    277.1,2,   277.9,2,    1.70,2,   15.20,2,    0.21,2,    1.12,2,   3.630,2,   2.081,2,   1.7107,2,  2082.5,2,  2270.0,2,    572.5,6,    20.00,   7.8269,2,    25.00,-999.000,9,-999.0000,9, -999.00,9, -999.00,9,  -999.0,9,-999.000,9,-999.000,-999.000,9,-999.000,9,   48.68,2,   19.70,2, -999.00,9, -999.00,9, -999.00,9,-999.000,-999.0000,9,-999.0000,9,-999.0000,9,-999.0000,9,-999.0000,9,-999.0000,9,-999.0000,9,-999.0000,9,-999.0000,9,  10.7729,     -999.0,9,     -999.0,9,     -999.0,9,     -999.0,9,     -999.0,9,     -999.0,9,     -999.0,9,-999.0000, -999.00
33RO20071215,        P18,     130,          1,         32,      12023,2,20080201,       0338,   -46.7493,  -103.0002,       3881,    74.6,   8.5041,  34.1626,2,  34.1606,2,    292.0,2,   291.4,2,    2.00,2,   15.90,2,    0.19,2,    1.16,2,-999.000,9,-999.000,9,-999.0000,9,  2094.6,2,  2276.9,2,   -999.0,9,  -999.00,   7.8102,2,    25.00,-999.000,9,-999.0000,9, -999.00,9, -999.00,9,  -999.0,9,-999.000,9,-999.000,-999.000,9,-999.000,9,   48.10,2,   19.38,2, -999.00,9, -999.00,9, -999.00,1,-999.000,-999.0000,9,-999.0000,9,-999.0000,9,-999.0000,9,-999.0000,9,-999.0000,9,-999.0000,9,-999.0000,9,-999.0000,9,   8.4964,     -999.0,1,     -999.0,9,     -999.0,9,     -999.0,9,     -999.0,9,     -999.0,1,     -999.0,9,-999.0000, -999.00
33RO20071215,        P18,     130,          1,         31,      12037,2,20080201,       0338,   -46.7493,  -103.0002,       3881,   100.8,   7.7632,  34.1474,2,  34.1488,2,    291.6,2,   291.1,2,    2.30,2,   16.30,2,    0.23,2,    1.21,2,   4.143,2,   2.337,2,   1.8414,2,  2099.3,2,  2276.2,2,    622.5,2,    20.00,   7.7985,2,    25.00,-999.000,9,-999.0000,9, -999.00,9, -999.00,9,  -999.0,9,-999.000,9,-999.000,-999.000,9,-999.000,9,   47.83,2,   19.68,2, -999.00,9, -999.00,9, -999.00,1,-999.000,-999.0000,9,-999.0000,9,-999.0000,9,-999.0000,9,-999.0000,9,-999.0000,9,-999.0000,9,-999.0000,9,-999.0000,9,   7.7534,     -999.0,1,     -999.0,9,     -999.0,9,     -999.0,9,     -999.0,9,     -999.0,1,     -999.0,9,-999.0000, -999.00
33RO20071215,        P18,     130,          1,         30,      12036,2,20080201,       0338,   -46.7493,  -103.0002,       3881,   125.4,   7.4006,  34.1711,2,  34.1704,2,    290.2,2,   290.0,2,    2.70,2,   16.90,2,    0.25,2,    1.24,2,-999.000,9,-999.000,9,-999.0000,9,  2103.7,2,  2275.8,2,   -999.0,9,  -999.00,   7.7843,2,    25.00,-999.000,9,-999.0000,9, -999.00,9, -999.00,9,  -999.0,9,-999.000,9,-999.000,-999.000,9,-999.000,9,   47.13,2,   20.23,2, -999.00,9, -999.00,9, -999.00,1,-999.000,-999.0000,9,-999.0000,9,-999.0000,9,-999.0000,9,-999.0000,9,-999.0000,9,-999.0000,9,-999.0000,9,-999.0000,9,   7.3887,     -999.0,1,     -999.0,9,     -999.0,9,     -999.0,9,     -999.0,9,     -999.0,1,     -999.0,9,-999.0000, -999.00
33RO20071215,        P18,     130,          1,         29,      12044,2,20080201,       0338,   -46.7493,  -103.0002,       3881,   150.2,   7.1448,  34.1949,2,  34.1960,2,    283.6,2,   283.3,2,    3.40,2,   18.00,2,    0.34,2,    1.30,2,   4.227,2,   2.388,2,   1.7999,2,  2111.4,2,  2276.6,2,   -999.0,9,  -999.00,   7.7745,2,    25.00,-999.000,9,-999.0000,9, -999.00,9, -999.00,9,  -999.0,9,-999.000,9,-999.000,-999.000,9,-999.000,9,   46.75,2,   20.67,2, -999.00,9, -999.00,9, -999.00,1,-999.000,-999.0000,9,-999.0000,9,-999.0000,9,-999.0000,9,-999.0000,9,-999.0000,9,-999.0000,9,-999.0000,9,-999.0000,9,   7.1308,     -999.0,1,     -999.0,9,     -999.0,9,     -999.0,9,     -999.0,9,     -999.0,1,     -999.0,9,-999.0000, -999.00
33RO20071215,        P18,     130,          1,         28,      12057,2,20080201,       0338,   -46.7493,  -103.0002,       3881,   174.7,   6.9439,  34.2296,2,  34.2270,2,    277.2,2,   277.8,2,    4.20,2,   19.30,2,    0.05,2,    1.35,2,-999.000,9,-999.000,9,-999.0000,9,  2117.3,2,  2278.1,2,   -999.0,9,  -999.00,   7.7568,2,    25.00,-999.000,9,-999.0000,9, -999.00,9, -999.00,9,  -999.0,9,-999.000,9,-999.000,-999.000,9,-999.000,9,   46.27,2,   21.38,2, -999.00,9, -999.00,9, -999.00,1,-999.000,-999.0000,9,-999.0000,9,-999.0000,9,-999.0000,9,-999.0000,9,-999.0000,9,-999.0000,9,-999.0000,9,-999.0000,9,   6.9279,     -999.0,1,     -999.0,9,     -999.0,9,     -999.0,9,     -999.0,9,     -999.0,1,     -999.0,9,-999.0000, -999.00
33RO20071215,        P18,     130,          1,         27,      12026,2,20080201,       0338,   -46.7493,  -103.0002,       3881,   200.2,   6.8406,  34.2739,2,  34.2733,2,    270.1,2,   271.2,2,    5.20,2,   20.10,2,    0.01,2,    1.40,2,   4.256,2,   2.354,2,   1.6933,2,  2124.7,2,  2279.9,2,    716.7,2,    20.00,   7.7494,2,    25.00,-999.000,9,-999.0000,9, -999.00,9, -999.00,9,  -999.0,9,-999.000,9,-999.000,-999.000,9,-999.000,9,   45.64,2,   22.40,2, -999.00,9, -999.00,9, -999.00,9,-999.000,-999.0000,9,-999.0000,9,-999.0000,9,-999.0000,9,-999.0000,9,-999.0000,9,-999.0000,9,-999.0000,9,-999.0000,9,   6.8223,     -999.0,9,     -999.0,9,     -999.0,9,     -999.0,9,     -999.0,9,     -999.0,9,     -999.0,9,-999.0000, -999.00
33RO20071215,        P18,     130,          1,         26,      12030,2,20080201,       0338,   -46.7493,  -103.0002,       3881,   248.8,   6.6659,  34.3001,2,  34.3035,2,    270.7,2,   270.2,2,    6.20,2,   20.60,2,    0.01,2,    1.43,2,-999.000,9,-999.000,9,-999.0000,9,  2127.1,2,  2273.3,2,   -999.0,9,  -999.00,   7.7496,2,    25.00,-999.000,9,-999.0000,9, -999.00,9, -999.00,9,  -999.0,9,-999.000,9,-999.000,-999.000,9,-999.000,9,   44.65,2,   22.93,2, -999.00,9, -999.00,9, -999.00,9,-999.000,-999.0000,9,-999.0000,9,-999.0000,9,-999.0000,9,-999.0000,9,-999.0000,9,-999.0000,9,-999.0000,9,-999.0000,9,   6.6434,     -999.0,9,     -999.0,9,     -999.0,9,     -999.0,9,     -999.0,9,     -999.0,9,     -999.0,9,-999.0000, -999.00
33RO20071215,        P18,     130,          1,         25,      12024,2,20080201,       0338,   -46.7493,  -103.0002,       3881,   300.1,   6.6136,  34.3178,2,  34.3179,2,    268.9,2,   269.3,2,    6.80,2,   20.90,2,    0.01,2,    1.45,2,   4.178,2,   2.282,2,   1.5076,2,  2130.3,2,  2274.3,2,    732.0,2,    20.00,   7.7459,2,    25.00,-999.000,9,-999.0000,9, -999.00,9, -999.00,9,  -999.0,9,-999.000,9,-999.000,-999.000,9,-999.000,9,   44.27,2,   22.78,2, -999.00,9, -999.00,9, -999.00,9,-999.000,-999.0000,9,-999.0000,9,-999.0000,9,-999.0000,9,-999.0000,9,-999.0000,9,-999.0000,9,-999.0000,9,-999.0000,9,   6.5865,     -999.0,9,     -999.0,9,     -999.0,9,     -999.0,9,     -999.0,9,     -999.0,9,     -999.0,9,-999.0000, -999.00
33RO20071215,        P18,     130,          1,         24,      12019,2,20080201,       0338,   -46.7493,  -103.0002,       3881,   349.3,   6.4784,  34.3092,2,  34.3106,2,    268.7,2,   269.3,2,    7.10,2,   21.30,2,    0.01,2,    1.47,2,-999.000,9,-999.000,9,-999.0000,9,  2131.7,2,  2276.1,2,   -999.0,9,  -999.00,   7.7483,2,    25.00,-999.000,9,-999.0000,9, -999.00,9, -999.00,9,  -999.0,9,-999.000,9,-999.000,-999.000,9,-999.000,9,   44.07,2,   22.95,2, -999.00,9, -999.00,9, -999.00,9,-999.000,-999.0000,9,-999.0000,9,-999.0000,9,-999.0000,9,-999.0000,9,-999.0000,9,-999.0000,9,-999.0000,9,-999.0000,9,   6.4471,     -999.0,9,     -999.0,9,     -999.0,9,     -999.0,9,     -999.0,9,     -999.0,9,     -999.0,9,-999.0000, -999.00
33RO20071215,        P18,     130,          1,         23,      12022,2,20080201,       0338,   -46.7493,  -103.0002,       3881,   399.8,   6.3593,  34.3022,2,  34.3020,2,    268.8,2,   269.3,2,    7.50,2,   21.70,2,    0.01,2,    1.50,2,   4.142,2,   2.248,2,   1.3720,2,  2134.1,2,  2271.2,2,    739.7,2,    20.00,   7.7425,2,    25.00,-999.000,9,-999.0000,9, -999.00,9, -999.00,9,  -999.0,9,-999.000,9,-999.000,-999.000,9,-999.000,9,   43.52,2,   23.54,2, -999.00,9, -999.00,9, -999.00,9,-999.000,-999.0000,9,-999.0000,9,-999.0000,9,-999.0000,9,-999.0000,9,-999.0000,9,-999.0000,9,-999.0000,9,-999.0000,9,   6.3236,     -999.0,9,     -999.0,9,     -999.0,9,     -999.0,9,     -999.0,9,     -999.0,9,     -999.0,9,-999.0000, -999.00
33RO20071215,        P18,     130,          1,         22,      12015,2,20080201,       0338,   -46.7493,  -103.0002,       3881,   499.3,   6.1052,  34.2803,2,  34.2804,2,    267.3,2,   267.7,2,    8.30,2,   22.50,2,    0.00,2,    1.55,2,-999.000,9,-999.000,9,-999.0000,9,  2137.2,2,  2274.3,2,    754.6,2,    20.00,   7.7338,2,    25.00,-999.000,9,-999.0000,9, -999.00,9, -999.00,9,  -999.0,9,-999.000,9,-999.000,-999.000,9,-999.000,9,   43.13,2,   24.02,2, -999.00,9, -999.00,9, -999.00,9,-999.000,-999.0000,9,-999.0000,9,-999.0000,9,-999.0000,9,-999.0000,9,-999.0000,9,-999.0000,9,-999.0000,9,-999.0000,9,   6.0614,     -999.0,9,     -999.0,9,     -999.0,9,     -999.0,9,     -999.0,9,     -999.0,9,     -999.0,9,-999.0000, -999.00
33RO20071215,        P18,     130,          1,         21,      12020,2,20080201,       0338,   -46.7493,  -103.0002,       3881,   599.5,   5.8395,  34.2662,2,  34.2660,2,    260.7,2,   260.7,2,    9.90,2,   23.80,2,    0.00,2,    1.63,2,   3.905,2,   2.066,2,   1.0933,2,  2142.6,2,  2276.3,2,    781.2,2,    20.00,   7.7188,2,    25.00,-999.000,9,-999.0000,9, -999.00,9, -999.00,9,  -999.0,9,-999.000,9,-999.000,-999.000,9,-999.000,9,   42.15,2,   25.52,2, -999.00,9, -999.00,9, -999.00,9,-999.000,-999.0000,9,-999.0000,9,-999.0000,9,-999.0000,9,-999.0000,9,-999.0000,9,-999.0000,9,-999.0000,9,-999.0000,9,   5.7877,     -999.0,9,     -999.0,9,     -999.0,9,     -999.0,9,     -999.0,9,     -999.0,9,     -999.0,9,-999.0000, -999.00
33RO20071215,        P18,     130,          1,         20,      12055,2,20080201,       0338,   -46.7493,  -103.0002,       3881,   698.7,   5.5241,  34.2632,2,  34.2644,2,    244.4,2,   244.4,2,   13.90,2,   25.70,2,    0.00,2,    1.77,2,-999.000,9,-999.000,9,-999.0000,9,  2154.5,2,  -999.0,5,    841.0,2,    20.00,   7.6928,2,    25.00,-999.000,9,-999.0000,9, -999.00,9, -999.00,9,  -999.0,9,-999.000,9,-999.000,-999.000,9,-999.000,9,   40.48,2,   27.18,2, -999.00,9, -999.00,9, -999.00,9,-999.000,-999.0000,9,-999.0000,9,-999.0000,9,-999.0000,9,-999.0000,9,-999.0000,9,-999.0000,9,-999.0000,9,-999.0000,9,   5.4648,     -999.0,9,     -999.0,9,     -999.0,9,     -999.0,9,     -999.0,9,     -999.0,9,     -999.0,9,-999.0000, -999.00
33RO20071215,        P18,     130,          1,         19,      12018,2,20080201,       0338,   -46.7493,  -103.0002,       3881,   799.3,   5.1201,  34.2781,2,  34.2787,2,    226.8,2,   226.3,2,   19.60,2,   27.90,2,    0.00,2,    1.92,2,   2.763,2,   1.401,2,   0.6254,2,  2170.8,2,  2292.2,2,   -999.0,9,  -999.00,   7.6712,2,    25.00,-999.000,9,-999.0000,9, -999.00,9, -999.00,9,  -999.0,9,-999.000,9,-999.000,-999.000,9,-999.000,9,   40.30,2,   29.17,2, -999.00,9, -999.00,9, -999.00,9,-999.000,-999.0000,9,-999.0000,9,-999.0000,9,-999.0000,9,-999.0000,9,-999.0000,9,-999.0000,9,-999.0000,9,-999.0000,9,   5.0542,     -999.0,9,     -999.0,9,     -999.0,9,     -999.0,9,     -999.0,9,     -999.0,9,     -999.0,9,-999.0000, -999.00
33RO20071215,        P18,     130,          1,         18,      12025,2,20080201,       0338,   -46.7493,  -103.0002,       3881,   899.7,   4.6157,  34.2874,2,  34.2893,2,    216.2,2,   216.5,2,   25.50,2,   29.70,2,    0.00,2,    2.05,2,-999.000,9,-999.000,9,-999.0000,9,  2182.3,2,  2297.4,2,    960.8,2,    20.00,   7.6402,2,    25.00,-999.000,9,-999.0000,9, -999.00,9, -999.00,9,  -999.0,9,-999.000,9,-999.000,-999.000,9,-999.000,9,   39.88,2,   30.85,2, -999.00,9, -999.00,9, -999.00,9,-999.000,-999.0000,9,-999.0000,9,-999.0000,9,-999.0000,9,-999.0000,9,-999.0000,9,-999.0000,9,-999.0000,9,-999.0000,9,   4.5443,     -999.0,9,     -999.0,9,     -999.0,9,     -999.0,9,     -999.0,9,     -999.0,9,     -999.0,9,-999.0000, -999.00
33RO20071215,        P18,     130,          1,         17,      12016,2,20080201,       0338,   -46.7493,  -103.0002,       3881,  1000.1,   4.0871,  34.3070,2,  34.3088,2,    207.1,2,   206.3,2,   33.50,2,   31.50,2,    0.00,2,    2.17,2,   1.588,2,   0.785,2,   0.2743,2,  2196.3,2,  2305.3,2,   -999.0,9,  -999.00,   7.6315,2,    25.00,-999.000,9,-999.0000,9, -999.00,9, -999.00,9,  -999.0,9,-999.000,9,-999.000,-999.000,9,-999.000,9,   39.73,2,   33.29,2, -999.00,9, -999.00,9, -999.00,9,-999.000,-999.0000,9,-999.0000,9,-999.0000,9,-999.0000,9,-999.0000,9,-999.0000,9,-999.0000,9,-999.0000,9,-999.0000,9,   4.0111,     -999.0,9,     -999.0,9,     -999.0,9,     -999.0,9,     -999.0,9,     -999.0,9,     -999.0,9,-999.0000, -999.00
33RO20071215,        P18,     130,          1,         16,      12051,2,20080201,       0338,   -46.7493,  -103.0002,       3881,  1099.7,   3.6802,  34.3379,2,  34.3376,2,    197.4,2,   197.0,2,   41.00,2,   32.60,2,    0.00,2,    2.26,2,-999.000,9,-999.000,9,-999.0000,9,  2208.8,2,  2311.0,2,   1074.5,2,    20.00,   7.6085,2,    25.00,-999.000,9,-999.0000,9, -999.00,9, -999.00,9,  -999.0,9,-999.000,9,-999.000,-999.000,9,-999.000,9,   39.43,2,   33.81,2, -999.00,9, -999.00,9, -999.00,9,-999.000,-999.0000,9,-999.0000,9,-999.0000,9,-999.0000,9,-999.0000,9,-999.0000,9,-999.0000,9,-999.0000,9,-999.0000,9,   3.5992,     -999.0,9,     -999.0,9,     -999.0,9,     -999.0,9,     -999.0,9,     -999.0,9,     -999.0,9,-999.0000, -999.00
33RO20071215,        P18,     130,          1,         15,      12014,2,20080201,       0338,   -46.7493,  -103.0002,       3881,  1200.5,   3.3644,  34.3759,2,  34.3765,2,    187.1,2,   186.8,2,   49.30,2,   33.70,2,    0.00,2,    2.34,2,   1.046,2,   0.550,2,   0.1916,3,  2221.6,2,  2321.0,2,   -999.0,9,  -999.00,   7.5876,2,    25.00,-999.000,9,-999.0000,9, -999.00,9, -999.00,9,  -999.0,9,-999.000,9,-999.000,-999.000,9,-999.000,9,   39.19,2,   35.09,2, -999.00,9, -999.00,9, -999.00,9,-999.000,-999.0000,9,-999.0000,9,-999.0000,9,-999.0000,9,-999.0000,9,-999.0000,9,-999.0000,9,-999.0000,9,-999.0000,9,   3.2779,     -999.0,9,     -999.0,9,     -999.0,9,     -999.0,9,     -999.0,9,     -999.0,9,     -999.0,9,-999.0000, -999.00
33RO20071215,        P18,     130,          1,         14,      12013,2,20080201,       0338,   -46.7493,  -103.0002,       3881,  1300.1,   3.1341,  34.4238,2,  34.4244,2,    174.0,2,   173.1,2,   58.60,2,   34.70,2,    0.00,2,    2.42,2,-999.000,9,-999.000,9,-999.0000,9,  2236.7,2,  2318.7,2,   1182.7,2,    20.00,   7.5678,2,    25.00,-999.000,9,-999.0000,9, -999.00,9, -999.00,9,  -999.0,9,-999.000,9,-999.000,-999.000,9,-999.000,9,   38.91,2,   35.92,2, -999.00,9, -999.00,9, -999.00,9,-999.000,-999.0000,9,-999.0000,9,-999.0000,9,-999.0000,9,-999.0000,9,-999.0000,9,-999.0000,9,-999.0000,9,-999.0000,9,   3.0417,     -999.0,9,     -999.0,9,     -999.0,9,     -999.0,9,     -999.0,9,     -999.0,9,     -999.0,9,-999.0000, -999.00
33RO20071215,        P18,     130,          1,         13,      12012,2,20080201,       0338,   -46.7493,  -103.0002,       3881,  1398.5,   2.9744,  34.4675,2,  34.4677,2,    163.0,2,   163.4,2,   66.60,2,   35.40,2,    0.00,2,    2.47,2,   0.312,2,   0.167,2,   0.0000,2,  2249.0,6,  2331.1,2,   -999.0,9,  -999.00,   7.5581,2,    25.00,-999.000,9,-999.0000,9, -999.00,9, -999.00,9,  -999.0,9,-999.000,9,-999.000,-999.000,9,-999.000,9,   38.61,2,   36.62,2, -999.00,9, -999.00,9, -999.00,9,-999.000,-999.0000,9,-999.0000,9,-999.0000,9,-999.0000,9,-999.0000,9,-999.0000,9,-999.0000,9,-999.0000,9,-999.0000,9,   2.8755,     -999.0,9,     -999.0,9,     -999.0,9,     -999.0,9,     -999.0,9,     -999.0,9,     -999.0,9,-999.0000, -999.00
33RO20071215,        P18,     130,          1,         12,      12031,2,20080201,       0338,   -46.7493,  -103.0002,       3881,  1599.4,   2.7029,  34.5378,2,  34.5375,2,    158.7,2,   158.2,2,   78.00,2,   35.50,2,    0.00,2,    2.47,2,-999.000,9,-999.000,9,-999.0000,9,  2261.9,2,  -999.0,5,   1240.8,2,    20.00,   7.5561,2,    25.00,-999.000,9,-999.0000,9, -999.00,9, -999.00,9,  -999.0,9,-999.000,9,-999.000,-999.000,9,-999.000,9,   39.01,2,   37.10,2, -999.00,9, -999.00,9, -999.00,9,-999.000,-999.0000,9,-999.0000,9,-999.0000,9,-999.0000,9,-999.0000,9,-999.0000,9,-999.0000,9,-999.0000,9,-999.0000,9,   2.5904,     -999.0,9,     -999.0,9,     -999.0,9,     -999.0,9,     -999.0,9,     -999.0,9,     -999.0,9,-999.0000, -999.00