BOTTLE,20220818CCHSIOAMB
EXPOCODE,SECT_ID,STNNBR,CASTNO,SAMPNO,BTLNBR,BTLNBR_FLAG_W,DATE,TIME,LATITUDE,LONGITUDE,DEPTH,CTDPRS,CTDTMP,CTDSAL,CTDSAL_FLAG_W,SALNTY,SALNTY_FLAG_W,CTDOXY,CTDOXY_FLAG_W,OXYGEN,OXYGEN_FLAG_W,SILCAT,SILCAT_FLAG_W,NITRAT,NITRAT_FLAG_W,NITRIT,NITRIT_FLAG_W,PHSPHT,PHSPHT_FLAG_W,CFC-11,CFC-11_FLAG_W,CFC-12,CFC-12_FLAG_W,SF6,SF6_FLAG_W,TCARBN,TCARBN_FLAG_W,ALKALI,ALKALI_FLAG_W,FCO2,FCO2_FLAG_W,FCO2TMP,PH_SWS,PH_SWS_FLAG_W,PH_TMP,TRITUM,TRITUM_FLAG_W,HELIUM,HELIUM_FLAG_W,DELHE3,DELHE3_FLAG_W,DELC13,DELC13_FLAG_W,DELC14,DELC14_FLAG_W,NEON,NEON_FLAG_W,NEONER,CCL4,CCL4_FLAG_W,POC,POC_FLAG_W,DOC,DOC_FLAG_W,TDN,TDN_FLAG_W,DON,DON_FLAG_W,CHLORA,CHLORA_FLAG_W,ARGON,ARGON_FLAG_W,TRITER,CDOM325,CDOM325_FLAG_W,CDOM340,CDOM340_FLAG_W,CDOM380,CDOM380_FLAG_W,CDOM412,CDOM412_FLAG_W,CDOM443,CDOM443_FLAG_W,CDOM490,CDOM490_FLAG_W,CDOM555,CDOM555_FLAG_W,CDOMSL,CDOMSL_FLAG_W,CDOMSN,CDOMSN_FLAG_W,THETA,D18O_NO3,D18O_NO3_FLAG_W,CDOM2C,CDOM2C_FLAG_W,CDOM3C,CDOM3C_FLAG_W,LAB_DEN,LAB_DEN_FLAG_W,DELSI30,DELSI30_FLAG_W,N2,N2_FLAG_W,D15N_NO3,D15N_NO3_FLAG_W,HELIER,DELHER
,,,,,,,,,,,METERS,DBAR,ITS-90,PSS-78,,PSS-78,,UMOL/KG,,UMOL/KG,,UMOL/KG,,UMOL/KG,,UMOL/KG,,UMOL/KG,,PMOL/KG,,PMOL/KG,,FMOL/KG,,UMOL/KG,,UMOL/KG,,UATM,,DEG C,,,DEG C,TU,,NMOL/KG,,PERCNT,,/MILLE,,/MILLE,,NMOL/KG,,NMOL/KG,PMOL/KG,,UG/KG,,UMOL/KG,,UMOL/KG,,UMOL/KG,,UG/KG,,UMOL/KG,,TU,1/M,,1/M,,1/M,,1/M,,1/M,,1/M,,1/M,,1/NM,,1/NM,,DEG C,/MILLE,,,,,,,,/MILLE,,UMOL/KG,,/MILLE,,NMOL/KG,PERCNT
33RO20071215,        P18,     158,          1,         24,      11024,2,20080209,       2312,   -62.2530,  -102.9985,       5026,     4.3,   3.8070,  33.9090,2,  33.9095,2,    320.6,2,   319.9,2,    6.10,2,   24.40,2,    0.22,2,    1.65,2,   5.142,2,   2.940,2,   2.0550,2,  2130.1,6,  2278.8,2,    712.9,2,    20.00,   7.7581,2,    25.00,-999.000,9,-999.0000,9, -999.00,9,    1.59,2,  -999.0,1,-999.000,9,-999.000,-999.000,9,-999.000,9, -999.00,9, -999.00,9, -999.00,9, -999.00,9, -999.00,1,-999.000,-999.0000,9,-999.0000,9,-999.0000,9,-999.0000,9,-999.0000,9,-999.0000,9,-999.0000,9,-999.0000,9,-999.0000,9,   3.8067,     -999.0,1,     -999.0,9,     -999.0,9,     -999.0,9,     -999.0,1,     -999.0,1,     -999.0,9,-999.0000, -999.00
33RO20071215,        P18,     158,          1,         23,      11023,2,20080209,       2312,   -62.2530,  -102.9985,       5026,    32.1,   3.7000,  33.9158,2,  33.9177,2,    320.0,2,   320.7,2,    6.60,2,   24.50,2,    0.21,2,    1.67,2,-999.000,9,-999.000,9,-999.0000,9,  2129.8,2,  2280.5,2,   -999.0,9,  -999.00,   7.7492,2,    25.00,-999.000,9,-999.0000,9, -999.00,9, -999.00,9,  -999.0,9,-999.000,9,-999.000,-999.000,9,-999.000,9, -999.00,9, -999.00,9, -999.00,9, -999.00,9, -999.00,9,-999.000,-999.0000,9,-999.0000,9,-999.0000,9,-999.0000,9,-999.0000,9,-999.0000,9,-999.0000,9,-999.0000,9,-999.0000,9,   3.6979,     -999.0,9,     -999.0,9,     -999.0,9,     -999.0,9,     -999.0,1,     -999.0,9,     -999.0,9,-999.0000, -999.00
33RO20071215,        P18,     158,          1,         22,      11022,2,20080209,       2312,   -62.2530,  -102.9985,       5026,    57.6,   3.6411,  33.9155,2,  33.9170,2,    320.6,2,   322.3,2,    7.00,2,   24.60,2,    0.21,2,    1.68,2,-999.000,9,-999.000,9,-999.0000,9,  2130.2,2,  2281.0,2,    719.5,6,    20.00,   7.7582,2,    25.00,-999.000,9,-999.0000,9, -999.00,9, -999.00,9,  -999.0,9,-999.000,9,-999.000,-999.000,9,-999.000,9, -999.00,9, -999.00,9, -999.00,9, -999.00,9, -999.00,9,-999.000,-999.0000,9,-999.0000,9,-999.0000,9,-999.0000,9,-999.0000,9,-999.0000,9,-999.0000,9,-999.0000,9,-999.0000,9,   3.6374,     -999.0,9,     -999.0,9,     -999.0,9,     -999.0,9,     -999.0,9,     -999.0,9,     -999.0,9,-999.0000, -999.00
33RO20071215,        P18,     158,          1,         21,      11021,2,20080209,       2312,   -62.2530,  -102.9985,       5026,    82.1,   1.3241,  33.9394,2,  33.9396,2,    328.4,2,   334.8,2,   18.30,2,   26.30,2,    0.15,2,    1.93,2,   5.704,2,   3.190,2,   2.2414,2,  2148.9,2,  2286.4,2,    788.8,2,    20.00,   7.7143,2,    25.00,-999.000,9,-999.0000,9, -999.00,9, -999.00,9,  -999.0,9,-999.000,9,-999.000,-999.000,9,-999.000,9, -999.00,9, -999.00,9, -999.00,9, -999.00,9, -999.00,9,-999.000,-999.0000,9,-999.0000,9,-999.0000,9,-999.0000,9,-999.0000,9,-999.0000,9,-999.0000,9,-999.0000,9,-999.0000,9,   1.3203,     -999.0,9,     -999.0,9,     -999.0,9,     -999.0,9,     -999.0,9,     -999.0,9,     -999.0,9,-999.0000, -999.00
33RO20071215,        P18,     158,          1,         20,      11020,2,20080209,       2312,   -62.2530,  -102.9985,       5026,   116.9,   0.9607,  33.9922,2,  33.9935,2,    320.4,2,   323.2,2,   25.10,2,   28.30,2,    0.20,2,    2.03,2,-999.000,9,-999.000,9,-999.0000,9,  2162.6,2,  2287.9,2,    859.7,2,    20.00,   7.6742,2,    25.00,-999.000,9,-999.0000,9, -999.00,9, -999.00,9,  -999.0,9,-999.000,9,-999.000,-999.000,9,-999.000,9, -999.00,9, -999.00,9, -999.00,9, -999.00,9, -999.00,9,-999.000,-999.0000,9,-999.0000,9,-999.0000,9,-999.0000,9,-999.0000,9,-999.0000,9,-999.0000,9,-999.0000,9,-999.0000,9,   0.9556,     -999.0,9,     -999.0,9,     -999.0,9,     -999.0,9,     -999.0,9,     -999.0,9,     -999.0,9,-999.0000, -999.00
33RO20071215,        P18,     158,          1,         19,      11019,2,20080209,       2312,   -62.2530,  -102.9985,       5026,   175.3,   0.9081,  34.0481,2,  34.0483,2,    302.3,2,   305.4,2,   32.40,2,   30.40,2,    0.08,2,    2.11,2,   5.073,2,   2.857,2,   1.9114,2,  2175.8,2,  2290.6,2,    922.6,2,    20.00,   7.6558,2,    25.00,-999.000,9,-999.0000,9, -999.00,9, -999.00,9,  -999.0,9,-999.000,9,-999.000,-999.000,9,-999.000,9, -999.00,9, -999.00,9, -999.00,9, -999.00,9, -999.00,9,-999.000,-999.0000,9,-999.0000,9,-999.0000,9,-999.0000,9,-999.0000,9,-999.0000,9,-999.0000,9,-999.0000,9,-999.0000,9,   0.9005,     -999.0,9,     -999.0,9,     -999.0,9,     -999.0,9,     -999.0,1,     -999.0,9,     -999.0,9,-999.0000, -999.00
33RO20071215,        P18,     158,          1,         18,      11018,2,20080209,       2312,   -62.2530,  -102.9985,       5026,   249.7,   1.0725,  34.1169,2,  34.1189,2,    271.7,2,   283.3,2,   38.70,2,   31.50,2,    0.01,2,    2.18,2,   4.472,2,   2.499,2,   1.6158,2,  2189.4,2,  2294.6,2,    979.9,2,    20.00,   7.6340,2,    25.00,-999.000,9,-999.0000,9, -999.00,9, -999.00,9,  -999.0,9,-999.000,9,-999.000,-999.000,9,-999.000,9, -999.00,9, -999.00,9, -999.00,9, -999.00,9, -999.00,9,-999.000,-999.0000,9,-999.0000,9,-999.0000,9,-999.0000,9,-999.0000,9,-999.0000,9,-999.0000,9,-999.0000,9,-999.0000,9,   1.0612,     -999.0,9,     -999.0,9,     -999.0,9,     -999.0,9,     -999.0,9,     -999.0,9,     -999.0,9,-999.0000, -999.00
33RO20071215,        P18,     158,          1,         17,      11017,2,20080209,       2312,   -62.2530,  -102.9985,       5026,   333.1,   2.1123,  34.2894,2,  34.2901,2,    223.0,2,   221.5,2,   50.90,2,   33.80,2,    0.01,2,    2.33,2,   2.688,2,   1.414,2,   0.8391,2,  2219.3,2,  2307.4,2,   1118.2,2,    20.00,   7.5797,2,    25.00,-999.000,9,-999.0000,9, -999.00,9, -999.00,9,  -999.0,9,-999.000,9,-999.000,-999.000,9,-999.000,9, -999.00,9, -999.00,9, -999.00,9, -999.00,9, -999.00,9,-999.000,-999.0000,9,-999.0000,9,-999.0000,9,-999.0000,9,-999.0000,9,-999.0000,9,-999.0000,9,-999.0000,9,-999.0000,9,   2.0940,     -999.0,9,     -999.0,9,     -999.0,9,     -999.0,9,     -999.0,1,     -999.0,9,     -999.0,9,-999.0000, -999.00
33RO20071215,        P18,     158,          1,         16,      11016,2,20080209,       2312,   -62.2530,  -102.9985,       5026,   432.8,   2.3518,  34.4028,2,  34.4033,2,    195.0,2,   193.5,2,   60.70,2,   34.80,2,    0.00,2,    2.40,2,-999.000,9,-999.000,9,-999.0000,9,  2235.8,2,  2319.5,2,   1168.3,2,    20.00,   7.5624,2,    25.00,-999.000,9,-999.0000,9, -999.00,9, -999.00,9,  -999.0,9,-999.000,9,-999.000,-999.000,9,-999.000,9, -999.00,9, -999.00,9, -999.00,9, -999.00,9, -999.00,9,-999.000,-999.0000,9,-999.0000,9,-999.0000,9,-999.0000,9,-999.0000,9,-999.0000,9,-999.0000,9,-999.0000,9,-999.0000,9,   2.3267,     -999.0,9,     -999.0,9,     -999.0,9,     -999.0,9,     -999.0,1,     -999.0,9,     -999.0,9,-999.0000, -999.00
33RO20071215,        P18,     158,          1,         15,      11015,2,20080209,       2312,   -62.2530,  -102.9985,       5026,   640.7,   2.3042,  34.5389,2,  34.5371,2,    176.5,2,   176.8,2,   72.40,2,   34.80,2,    0.00,2,    2.40,2,   0.814,2,   0.415,2,   0.1845,2,  2250.7,2,  2331.5,2,   1192.9,2,    20.00,   7.5572,2,    25.00,-999.000,9,-999.0000,9, -999.00,9, -999.00,9,  -999.0,9,-999.000,9,-999.000,-999.000,9,-999.000,9, -999.00,9, -999.00,9, -999.00,9, -999.00,9, -999.00,9,-999.000,-999.0000,9,-999.0000,9,-999.0000,9,-999.0000,9,-999.0000,9,-999.0000,9,-999.0000,9,-999.0000,9,-999.0000,9,   2.2661,     -999.0,9,     -999.0,9,     -999.0,9,     -999.0,9,     -999.0,9,     -999.0,9,     -999.0,9,-999.0000, -999.00
33RO20071215,        P18,     158,          1,         13,      11013,2,20080209,       2312,   -62.2530,  -102.9985,       5026,   849.9,   2.2094,  34.6245,2,  34.6235,2,    174.2,2,   174.4,2,   78.80,2,   34.10,2,    0.00,2,    2.35,2,   0.476,2,   0.240,2,   0.0806,2,  2255.8,2,  2339.7,2,   -999.0,9,  -999.00,   7.5700,2,    25.00,-999.000,9,-999.0000,9, -999.00,9, -999.00,9,  -999.0,9,-999.000,9,-999.000,-999.000,9,-999.000,9, -999.00,9, -999.00,9, -999.00,9, -999.00,9, -999.00,9,-999.000,-999.0000,9,-999.0000,9,-999.0000,9,-999.0000,9,-999.0000,9,-999.0000,9,-999.0000,9,-999.0000,9,-999.0000,9,   2.1578,     -999.0,9,     -999.0,9,     -999.0,9,     -999.0,9,     -999.0,9,     -999.0,9,     -999.0,9,-999.0000, -999.00
33RO20071215,        P18,     158,          1,         14,      11014,2,20080209,       2312,   -62.2530,  -102.9985,       5026,   850.0,   2.2092,  34.6244,2,  34.6229,2,    174.2,2,   174.2,2,   79.00,2,   34.00,2,    0.00,2,    2.35,2,-999.000,9,-999.000,9,-999.0000,9,  2253.2,2,  -999.0,9,   1197.0,2,    20.00,-999.0000,9,  -999.00,-999.000,9,-999.0000,9, -999.00,9, -999.00,9,  -999.0,9,-999.000,9,-999.000,-999.000,9,-999.000,9, -999.00,9, -999.00,9, -999.00,9, -999.00,9, -999.00,9,-999.000,-999.0000,9,-999.0000,9,-999.0000,9,-999.0000,9,-999.0000,9,-999.0000,9,-999.0000,9,-999.0000,9,-999.0000,9,   2.1576,     -999.0,9,     -999.0,9,     -999.0,9,     -999.0,9,     -999.0,9,     -999.0,9,     -999.0,9,-999.0000, -999.00
33RO20071215,        P18,     158,          1,         12,      11012,2,20080209,       2312,   -62.2530,  -102.9985,       5026,   999.3,   2.1581,  34.6696,2,  34.6682,2,    176.5,2,   177.1,2,   81.60,2,   33.20,2,    0.00,2,    2.30,2,   0.312,2,   0.156,2,   0.0554,2,  2254.2,2,  2344.1,2,   -999.0,9,  -999.00,   7.5757,2,    25.00,-999.000,9,-999.0000,9, -999.00,9, -999.00,9,  -999.0,9,-999.000,9,-999.000,-999.000,9,-999.000,9, -999.00,9, -999.00,9, -999.00,9, -999.00,9, -999.00,9,-999.000,-999.0000,9,-999.0000,9,-999.0000,9,-999.0000,9,-999.0000,9,-999.0000,9,-999.0000,9,-999.0000,9,-999.0000,9,   2.0966,     -999.0,9,     -999.0,9,     -999.0,9,     -999.0,9,     -999.0,1,     -999.0,9,     -999.0,9,-999.0000, -999.00
33RO20071215,        P18,     158,          1,         11,      11010,2,20080209,       2312,   -62.2530,  -102.9985,       5026,  1167.4,   2.0639,  34.7007,2,  34.7017,2,    180.5,2,   181.2,2,   84.70,2,   32.50,2,    0.00,2,    2.25,2,   0.216,2,   0.107,2,   0.0788,2,  2254.8,2,  2347.6,2,   1131.6,2,    20.00,   7.5849,2,    25.00,-999.000,9,-999.0000,9, -999.00,9, -999.00,9,  -999.0,9,-999.000,9,-999.000,-999.000,9,-999.000,9, -999.00,9, -999.00,9, -999.00,9, -999.00,9, -999.00,9,-999.000,-999.0000,9,-999.0000,9,-999.0000,9,-999.0000,9,-999.0000,9,-999.0000,9,-999.0000,9,-999.0000,9,-999.0000,9,   1.9912,     -999.0,9,     -999.0,9,     -999.0,9,     -999.0,9,     -999.0,9,     -999.0,9,     -999.0,9,-999.0000, -999.00
33RO20071215,        P18,     158,          1,         10,      11011,2,20080209,       2312,   -62.2530,  -102.9985,       5026,  1400.5,   1.9039,  34.7249,2,  34.7222,2,    185.5,2,   186.6,2,   88.90,2,   31.90,2,    0.00,2,    2.21,2,   0.183,2,   0.092,2,   0.0406,2,  2254.2,2,  2351.4,2,   1101.6,2,    20.00,   7.5937,2,    25.00,-999.000,9,-999.0000,9, -999.00,9, -999.00,9,  -999.0,9,-999.000,9,-999.000,-999.000,9,-999.000,9, -999.00,9, -999.00,9, -999.00,9, -999.00,9, -999.00,9,-999.000,-999.0000,9,-999.0000,9,-999.0000,9,-999.0000,9,-999.0000,9,-999.0000,9,-999.0000,9,-999.0000,9,-999.0000,9,   1.8158,     -999.0,9,     -999.0,9,     -999.0,9,     -999.0,9,     -999.0,1,     -999.0,9,     -999.0,9,-999.0000, -999.00
33RO20071215,        P18,     158,          1,          9,      11009,2,20080209,       2312,   -62.2530,  -102.9985,       5026,  1728.4,   1.6404,  34.7347,2,  34.7327,2,    191.0,2,   192.5,2,   96.40,2,   31.80,2,    0.00,2,    2.21,2,   0.167,2,   0.084,2,   0.1045,3,  2254.6,2,  2354.6,2,   1085.5,2,    20.00,   7.5974,2,    25.00,-999.000,9,-999.0000,9, -999.00,9, -999.00,9,  -999.0,9,-999.000,9,-999.000,-999.000,9,-999.000,9, -999.00,9, -999.00,9, -999.00,9, -999.00,9, -999.00,9,-999.000,-999.0000,9,-999.0000,9,-999.0000,9,-999.0000,9,-999.0000,9,-999.0000,9,-999.0000,9,-999.0000,9,-999.0000,9,   1.5306,     -999.0,9,     -999.0,9,     -999.0,9,     -999.0,9,     -999.0,9,     -999.0,9,     -999.0,9,-999.0000, -999.00
33RO20071215,        P18,     158,          1,          8,      11008,2,20080209,       2312,   -62.2530,  -102.9985,       5026,  2133.0,   1.3465,  34.7307,2,  34.7292,2,    195.4,2,   196.7,2,  106.00,2,   32.10,2,    0.00,2,    2.22,2,   0.101,2,   0.050,2,   0.0000,2,  2257.8,2,  2358.5,2,   1078.4,2,    20.00,   7.6086,2,    25.00,-999.000,9,-999.0000,9, -999.00,9, -999.00,9,  -999.0,9,-999.000,9,-999.000,   0.108,3,-999.000,9, -999.00,9, -999.00,9, -999.00,9, -999.00,9, -999.00,9,-999.000,-999.0000,9,-999.0000,9,-999.0000,9,-999.0000,9,-999.0000,9,-999.0000,9,-999.0000,9,-999.0000,9,-999.0000,9,   1.2090,     -999.0,9,     -999.0,9,     -999.0,9,     -999.0,9,     -999.0,1,     -999.0,9,     -999.0,9,-999.0000, -999.00
33RO20071215,        P18,     158,          1,          7,      11007,2,20080209,       2312,   -62.2530,  -102.9985,       5026,  2533.1,   1.1301,  34.7238,2,  34.7211,2,    199.7,2,   200.2,2,  113.40,2,   32.30,2,    0.00,2,    2.24,2,   0.093,2,   0.046,2,   0.0000,2,  2260.3,2,  2361.7,2,   1080.6,2,    20.00,   7.6053,2,    25.00,-999.000,9,-999.0000,9, -999.00,9, -999.00,9,  -999.0,9,-999.000,9,-999.000,   0.121,3,-999.000,9, -999.00,9, -999.00,9, -999.00,9, -999.00,9, -999.00,9,-999.000,-999.0000,9,-999.0000,9,-999.0000,9,-999.0000,9,-999.0000,9,-999.0000,9,-999.0000,9,-999.0000,9,-999.0000,9,   0.9630,     -999.0,9,     -999.0,9,     -999.0,9,     -999.0,9,     -999.0,1,     -999.0,9,     -999.0,9,-999.0000, -999.00
33RO20071215,        P18,     158,          1,          6,      11006,2,20080209,       2312,   -62.2530,  -102.9985,       5026,  2966.8,   0.9225,  34.7161,2,  34.7139,2,    204.7,2,   204.3,2,  120.80,2,   32.60,2,    0.00,2,    2.26,2,   0.117,2,   0.060,2,   0.0000,2,  2261.7,6,  2361.1,2,   -999.0,9,  -999.00,   7.6040,2,    25.00,-999.000,9,-999.0000,9, -999.00,9, -999.00,9,  -999.0,9,-999.000,9,-999.000,   0.132,3,-999.000,9, -999.00,9, -999.00,9, -999.00,9, -999.00,9, -999.00,9,-999.000,-999.0000,9,-999.0000,9,-999.0000,9,-999.0000,9,-999.0000,9,-999.0000,9,-999.0000,9,-999.0000,9,-999.0000,9,   0.7212,     -999.0,9,     -999.0,9,     -999.0,9,     -999.0,9,     -999.0,1,     -999.0,9,     -999.0,9,-999.0000, -999.00
33RO20071215,        P18,     158,          1,          5,      11005,2,20080209,       2312,   -62.2530,  -102.9985,       5026,  3466.1,   0.7182,  34.7095,2,  34.7069,2,    208.3,2,   208.3,2,  126.90,2,   32.70,2,    0.00,2,    2.27,2,   0.171,6,   0.085,6,   0.0490,6,  2261.0,2,  2361.5,2,   1089.3,6,    20.00,   7.6025,2,    25.00,-999.000,9,-999.0000,9, -999.00,9, -999.00,9,  -999.0,9,-999.000,9,-999.000,   0.172,3,-999.000,9, -999.00,9, -999.00,9, -999.00,9, -999.00,9, -999.00,9,-999.000,-999.0000,9,-999.0000,9,-999.0000,9,-999.0000,9,-999.0000,9,-999.0000,9,-999.0000,9,-999.0000,9,-999.0000,9,   0.4750,     -999.0,9,     -999.0,9,     -999.0,9,     -999.0,9,     -999.0,1,     -999.0,9,     -999.0,9,-999.0000, -999.00
33RO20071215,        P18,     158,          1,          4,      11004,2,20080209,       2312,   -62.2530,  -102.9985,       5026,  3965.8,   0.5208,  34.7062,2,  34.7035,2,    212.8,2,   213.2,2,  131.20,6,   32.90,6,    0.00,6,    2.28,2,-999.000,9,-999.000,9,-999.0000,9,  2260.9,2,  2362.9,2,   -999.0,9,  -999.00,   7.6008,2,    25.00,-999.000,9,-999.0000,9, -999.00,9, -999.00,9,  -999.0,9,-999.000,9,-999.000,-999.000,9,-999.000,9, -999.00,9, -999.00,9, -999.00,9, -999.00,9, -999.00,9,-999.000,-999.0000,9,-999.0000,9,-999.0000,9,-999.0000,9,-999.0000,9,-999.0000,9,-999.0000,9,-999.0000,9,-999.0000,9,   0.2330,     -999.0,9,     -999.0,9,     -999.0,9,     -999.0,9,     -999.0,1,     -999.0,9,     -999.0,9,-999.0000, -999.00
33RO20071215,        P18,     158,          1,          3,      11003,2,20080209,       2312,   -62.2530,  -102.9985,       5026,  4466.8,   0.4273,  34.7048,2,  34.7042,2,    216.0,2,   215.7,2,  135.70,6,   32.90,6,    0.00,6,    2.28,2,   0.253,2,   0.123,2,   0.0000,2,  2259.6,2,  2362.4,2,   1092.9,2,    20.00,   7.6035,2,    25.00,-999.000,9,-999.0000,9, -999.00,9, -999.00,9,  -999.0,9,-999.000,9,-999.000,   0.260,3,-999.000,9, -999.00,9, -999.00,9, -999.00,9, -999.00,9, -999.00,9,-999.000,-999.0000,9,-999.0000,9,-999.0000,9,-999.0000,9,-999.0000,9,-999.0000,9,-999.0000,9,-999.0000,9,-999.0000,9,   0.0893,     -999.0,9,     -999.0,9,     -999.0,9,     -999.0,9,     -999.0,1,     -999.0,9,     -999.0,9,-999.0000, -999.00
33RO20071215,        P18,     158,          1,          2,      11002,2,20080209,       2312,   -62.2530,  -102.9985,       5026,  4966.7,   0.4200,  34.7034,2,  34.7017,2,    216.7,2,   216.7,2,  139.60,6,   33.00,6,    0.00,6,    2.29,2,-999.000,9,-999.000,9,-999.0000,9,  2259.4,2,  2363.2,2,   -999.0,9,  -999.00,   7.6022,2,    25.00,-999.000,9,-999.0000,9, -999.00,9, -999.00,9,  -999.0,9,-999.000,9,-999.000,-999.000,9,-999.000,9, -999.00,9, -999.00,9, -999.00,9, -999.00,9, -999.00,9,-999.000,-999.0000,9,-999.0000,9,-999.0000,9,-999.0000,9,-999.0000,9,-999.0000,9,-999.0000,9,-999.0000,9,-999.0000,9,   0.0262,     -999.0,9,     -999.0,9,     -999.0,9,     -999.0,9,     -999.0,1,     -999.0,9,     -999.0,9,-999.0000, -999.00
33RO20071215,        P18,     158,          1,          1,      11001,2,20080209,       2312,   -62.2530,  -102.9985,       5026,  5113.8,   0.4239,  34.7029,2,  34.7030,2,    217.9,2,   217.0,2,  143.50,2,   33.10,2,    0.01,2,    2.29,2,   0.356,2,   0.172,2,   0.0852,2,  2262.4,6,  2362.6,4,   1101.9,2,    20.00,   7.5964,2,    25.00,-999.000,9,-999.0000,9, -999.00,9, -999.00,9,  -999.0,9,-999.000,9,-999.000,   0.294,3,-999.000,9, -999.00,9, -999.00,9, -999.00,9, -999.00,9, -999.00,9,-999.000,-999.0000,9,-999.0000,9,-999.0000,9,-999.0000,9,-999.0000,9,-999.0000,9,-999.0000,9,-999.0000,9,-999.0000,9,   0.0129,     -999.0,9,     -999.0,9,     -999.0,9,     -999.0,9,     -999.0,9,     -999.0,9,     -999.0,9,-999.0000, -999.00