BOTTLE,20220818CCHSIOAMB
EXPOCODE,SECT_ID,STNNBR,CASTNO,SAMPNO,BTLNBR,BTLNBR_FLAG_W,DATE,TIME,LATITUDE,LONGITUDE,DEPTH,CTDPRS,CTDTMP,CTDSAL,CTDSAL_FLAG_W,SALNTY,SALNTY_FLAG_W,CTDOXY,CTDOXY_FLAG_W,OXYGEN,OXYGEN_FLAG_W,SILCAT,SILCAT_FLAG_W,NITRAT,NITRAT_FLAG_W,NITRIT,NITRIT_FLAG_W,PHSPHT,PHSPHT_FLAG_W,CFC-11,CFC-11_FLAG_W,CFC-12,CFC-12_FLAG_W,SF6,SF6_FLAG_W,TCARBN,TCARBN_FLAG_W,ALKALI,ALKALI_FLAG_W,FCO2,FCO2_FLAG_W,FCO2TMP,PH_SWS,PH_SWS_FLAG_W,PH_TMP,TRITUM,TRITUM_FLAG_W,HELIUM,HELIUM_FLAG_W,DELHE3,DELHE3_FLAG_W,DELC13,DELC13_FLAG_W,DELC14,DELC14_FLAG_W,NEON,NEON_FLAG_W,NEONER,CCL4,CCL4_FLAG_W,POC,POC_FLAG_W,DOC,DOC_FLAG_W,TDN,TDN_FLAG_W,DON,DON_FLAG_W,CHLORA,CHLORA_FLAG_W,ARGON,ARGON_FLAG_W,TRITER,CDOM325,CDOM325_FLAG_W,CDOM340,CDOM340_FLAG_W,CDOM380,CDOM380_FLAG_W,CDOM412,CDOM412_FLAG_W,CDOM443,CDOM443_FLAG_W,CDOM490,CDOM490_FLAG_W,CDOM555,CDOM555_FLAG_W,CDOMSL,CDOMSL_FLAG_W,CDOMSN,CDOMSN_FLAG_W,THETA,D18O_NO3,D18O_NO3_FLAG_W,CDOM2C,CDOM2C_FLAG_W,CDOM3C,CDOM3C_FLAG_W,LAB_DEN,LAB_DEN_FLAG_W,DELSI30,DELSI30_FLAG_W,N2,N2_FLAG_W,D15N_NO3,D15N_NO3_FLAG_W,HELIER,DELHER
,,,,,,,,,,,METERS,DBAR,ITS-90,PSS-78,,PSS-78,,UMOL/KG,,UMOL/KG,,UMOL/KG,,UMOL/KG,,UMOL/KG,,UMOL/KG,,PMOL/KG,,PMOL/KG,,FMOL/KG,,UMOL/KG,,UMOL/KG,,UATM,,DEG C,,,DEG C,TU,,NMOL/KG,,PERCNT,,/MILLE,,/MILLE,,NMOL/KG,,NMOL/KG,PMOL/KG,,UG/KG,,UMOL/KG,,UMOL/KG,,UMOL/KG,,UG/KG,,UMOL/KG,,TU,1/M,,1/M,,1/M,,1/M,,1/M,,1/M,,1/M,,1/NM,,1/NM,,DEG C,/MILLE,,,,,,,,/MILLE,,UMOL/KG,,/MILLE,,NMOL/KG,PERCNT
33RO20071215,        P18,     142,          1,         24,      11024,2,20080205,       0417,   -53.7495,  -102.9993,       3131,     6.0,   8.2093,  34.1551,2,  34.1554,2,    287.1,2,   288.6,2,    1.30,2,   16.70,2,    0.24,2,    1.22,2,-999.000,9,-999.000,9,-999.0000,9,  2101.7,6,  2275.2,2,   -999.0,9,  -999.00,   7.8111,2,    25.00,-999.000,9,-999.0000,9, -999.00,9, -999.00,9,  -999.0,9,-999.000,9,-999.000,-999.000,9,-999.000,9,   49.37,2,   21.77,2, -999.00,1, -999.00,9, -999.00,9,-999.000,-999.0000,9,-999.0000,9,-999.0000,9,-999.0000,9,-999.0000,9,-999.0000,9,-999.0000,9,-999.0000,9,-999.0000,9,   8.2087,     -999.0,9,     -999.0,9,     -999.0,9,     -999.0,9,     -999.0,9,     -999.0,9,     -999.0,9,-999.0000, -999.00
33RO20071215,        P18,     142,          1,         23,      11023,2,20080205,       0417,   -53.7495,  -102.9993,       3131,    25.1,   8.2120,  34.1552,2,  34.1539,2,    287.9,2,   288.4,2,    1.30,2,   16.80,2,    0.24,2,    1.22,2,   4.076,2,   2.299,2,   1.8126,2,  2101.5,2,  2276.4,2,   -999.0,9,  -999.00,   7.8192,2,    25.00,-999.000,9,-999.0000,9, -999.00,9, -999.00,9,  -999.0,9,-999.000,9,-999.000,-999.000,9,-999.000,9,   49.30,2,   21.62,2, -999.00,1, -999.00,9, -999.00,9,-999.000,-999.0000,9,-999.0000,9,-999.0000,9,-999.0000,9,-999.0000,9,-999.0000,9,-999.0000,9,-999.0000,9,-999.0000,9,   8.2095,     -999.0,9,     -999.0,9,     -999.0,9,     -999.0,9,     -999.0,9,     -999.0,9,     -999.0,9,-999.0000, -999.00
33RO20071215,        P18,     142,          1,         22,      11022,2,20080205,       0417,   -53.7495,  -102.9993,       3131,    50.1,   8.1961,  34.1588,2,  34.1579,2,    287.8,2,   288.1,2,    1.40,2,   16.70,2,    0.24,2,    1.23,2,-999.000,9,-999.000,9,-999.0000,9,  2101.5,2,  2275.4,2,   -999.0,9,  -999.00,   7.8160,2,    25.00,-999.000,9,-999.0000,9, -999.00,9, -999.00,9,  -999.0,9,-999.000,9,-999.000,-999.000,9,-999.000,9,   49.48,2,   21.55,2, -999.00,1, -999.00,9, -999.00,9,-999.000,-999.0000,9,-999.0000,9,-999.0000,9,-999.0000,9,-999.0000,9,-999.0000,9,-999.0000,9,-999.0000,9,-999.0000,9,   8.1911,     -999.0,9,     -999.0,9,     -999.0,9,     -999.0,9,     -999.0,9,     -999.0,9,     -999.0,9,-999.0000, -999.00
33RO20071215,        P18,     142,          1,         21,      11021,2,20080205,       0417,   -53.7495,  -102.9993,       3131,    74.7,   8.0554,  34.1681,2,  34.1669,2,    286.8,2,   286.6,2,    1.50,2,   16.70,2,    0.25,2,    1.23,2,   4.091,2,   2.305,2,   1.6905,2,  2101.5,2,  2274.8,2,   -999.0,9,  -999.00,   7.8116,2,    25.00,-999.000,9,-999.0000,9, -999.00,9, -999.00,9,  -999.0,9,-999.000,9,-999.000,-999.000,9,-999.000,9,   48.83,2,   21.56,2, -999.00,1, -999.00,9, -999.00,9,-999.000,-999.0000,9,-999.0000,9,-999.0000,9,-999.0000,9,-999.0000,9,-999.0000,9,-999.0000,9,-999.0000,9,-999.0000,9,   8.0479,     -999.0,9,     -999.0,9,     -999.0,9,     -999.0,9,     -999.0,9,     -999.0,9,     -999.0,9,-999.0000, -999.00
33RO20071215,        P18,     142,          1,         20,      11020,2,20080205,       0417,   -53.7495,  -102.9993,       3131,    99.7,   7.9359,  34.1728,2,  34.1790,2,    286.2,2,   286.5,2,    1.80,2,   16.70,2,    0.27,2,    1.25,2,-999.000,9,-999.000,9,-999.0000,9,  2102.5,2,  2276.0,2,   -999.0,9,  -999.00,   7.8146,2,    25.00,-999.000,9,-999.0000,9, -999.00,9, -999.00,9,  -999.0,9,-999.000,9,-999.000,-999.000,9,-999.000,9,   47.37,2,   21.31,2, -999.00,1, -999.00,9, -999.00,9,-999.000,-999.0000,9,-999.0000,9,-999.0000,9,-999.0000,9,-999.0000,9,-999.0000,9,-999.0000,9,-999.0000,9,-999.0000,9,   7.9260,     -999.0,9,     -999.0,9,     -999.0,9,     -999.0,9,     -999.0,9,     -999.0,9,     -999.0,9,-999.0000, -999.00
33RO20071215,        P18,     142,          1,         19,      11019,2,20080205,       0417,   -53.7495,  -102.9993,       3131,   124.3,   6.6909,  34.1949,2,  34.1943,2,    288.5,2,   289.1,2,    4.90,2,   18.70,2,    0.61,2,    1.43,2,   4.349,2,   2.437,2,   1.8488,2,  2118.5,2,  2276.8,2,   -999.0,9,  -999.00,   7.7750,2,    25.00,-999.000,9,-999.0000,9, -999.00,9, -999.00,9,  -999.0,9,-999.000,9,-999.000,-999.000,9,-999.000,9,   45.01,2,   21.90,2, -999.00,1, -999.00,9, -999.00,9,-999.000,-999.0000,9,-999.0000,9,-999.0000,9,-999.0000,9,-999.0000,9,-999.0000,9,-999.0000,9,-999.0000,9,-999.0000,9,   6.6798,     -999.0,9,     -999.0,9,     -999.0,9,     -999.0,9,     -999.0,9,     -999.0,9,     -999.0,9,-999.0000, -999.00
33RO20071215,        P18,     142,          1,         18,      11018,2,20080205,       0417,   -53.7495,  -102.9993,       3131,   149.9,   6.3281,  34.2165,2,  34.2190,2,    288.6,2,   288.6,2,    5.60,2,   20.20,2,    0.03,2,    1.43,2,-999.000,9,-999.000,9,-999.0000,9,  2123.0,2,  2278.1,2,   -999.0,9,  -999.00,   7.7563,2,    25.00,-999.000,9,-999.0000,9, -999.00,9, -999.00,9,  -999.0,9,-999.000,9,-999.000,-999.000,9,-999.000,9,   44.80,2,   22.42,2, -999.00,1, -999.00,9, -999.00,9,-999.000,-999.0000,9,-999.0000,9,-999.0000,9,-999.0000,9,-999.0000,9,-999.0000,9,-999.0000,9,-999.0000,9,-999.0000,9,   6.3150,     -999.0,9,     -999.0,9,     -999.0,9,     -999.0,9,     -999.0,9,     -999.0,9,     -999.0,9,-999.0000, -999.00
33RO20071215,        P18,     142,          1,         17,      11017,2,20080205,       0417,   -53.7495,  -102.9993,       3131,   199.0,   6.2949,  34.2369,2,  34.2376,2,    286.1,2,   286.2,2,    5.80,2,   20.40,2,    0.02,2,    1.44,2,   4.329,2,   2.418,2,   1.7559,2,  2123.5,2,  2275.5,2,   -999.0,9,  -999.00,   7.7616,2,    25.00,-999.000,9,-999.0000,9, -999.00,9, -999.00,9,  -999.0,9,-999.000,9,-999.000,-999.000,9,-999.000,9,   44.63,2,   22.46,2, -999.00,1, -999.00,9, -999.00,9,-999.000,-999.0000,9,-999.0000,9,-999.0000,9,-999.0000,9,-999.0000,9,-999.0000,9,-999.0000,9,-999.0000,9,-999.0000,9,   6.2776,     -999.0,9,     -999.0,9,     -999.0,9,     -999.0,9,     -999.0,9,     -999.0,9,     -999.0,9,-999.0000, -999.00
33RO20071215,        P18,     142,          1,         16,      11016,2,20080205,       0417,   -53.7495,  -102.9993,       3131,   250.8,   6.3367,  34.2634,2,  34.2627,2,    280.9,2,   281.0,2,    6.20,2,   20.70,2,    0.01,2,    1.46,2,   4.269,2,   2.365,2,   1.6328,2,  2126.1,2,  2277.8,2,   -999.0,9,  -999.00,   7.7494,2,    25.00,-999.000,9,-999.0000,9, -999.00,9, -999.00,9,  -999.0,9,-999.000,9,-999.000,-999.000,9,-999.000,9,   44.49,2,   21.84,2, -999.00,1, -999.00,9, -999.00,9,-999.000,-999.0000,9,-999.0000,9,-999.0000,9,-999.0000,9,-999.0000,9,-999.0000,9,-999.0000,9,-999.0000,9,-999.0000,9,   6.3146,     -999.0,9,     -999.0,9,     -999.0,9,     -999.0,9,     -999.0,9,     -999.0,9,     -999.0,9,-999.0000, -999.00
33RO20071215,        P18,     142,          1,         15,      11015,2,20080205,       0417,   -53.7495,  -102.9993,       3131,   324.4,   6.1925,  34.2622,2,  34.2621,2,    274.0,2,   276.0,2,    7.20,2,   21.50,2,    0.01,2,    1.51,2,-999.000,9,-999.000,9,-999.0000,9,  2130.1,2,  2278.7,2,   -999.0,9,  -999.00,   7.7420,2,    25.00,-999.000,9,-999.0000,9, -999.00,9, -999.00,9,  -999.0,9,-999.000,9,-999.000,-999.000,9,-999.000,9,   44.16,2,   22.50,2, -999.00,1, -999.00,9, -999.00,9,-999.000,-999.0000,9,-999.0000,9,-999.0000,9,-999.0000,9,-999.0000,9,-999.0000,9,-999.0000,9,-999.0000,9,-999.0000,9,   6.1642,     -999.0,9,     -999.0,9,     -999.0,9,     -999.0,9,     -999.0,9,     -999.0,9,     -999.0,9,-999.0000, -999.00
33RO20071215,        P18,     142,          1,         14,      11014,2,20080205,       0417,   -53.7495,  -102.9993,       3131,   399.8,   6.0228,  34.2574,2,  34.2574,2,    274.4,2,   275.5,2,    7.80,2,   22.10,2,    0.01,2,    1.54,2,   4.193,2,   2.300,2,   1.5738,2,  2132.5,2,  2280.0,2,   -999.0,9,  -999.00,   7.7394,2,    25.00,-999.000,9,-999.0000,9, -999.00,9, -999.00,9,  -999.0,9,-999.000,9,-999.000,-999.000,9,-999.000,9,   43.70,2,   23.02,2, -999.00,1, -999.00,9, -999.00,9,-999.000,-999.0000,9,-999.0000,9,-999.0000,9,-999.0000,9,-999.0000,9,-999.0000,9,-999.0000,9,-999.0000,9,-999.0000,9,   5.9882,     -999.0,9,     -999.0,9,     -999.0,9,     -999.0,9,     -999.0,9,     -999.0,9,     -999.0,9,-999.0000, -999.00
33RO20071215,        P18,     142,          1,         13,      11013,2,20080205,       0417,   -53.7495,  -102.9993,       3131,   473.9,   5.5649,  34.2021,2,  34.2036,2,    279.6,2,   280.7,2,    8.30,2,   22.80,2,    0.01,2,    1.59,2,   4.282,2,   2.358,2,   1.6141,2,  2132.6,2,  2279.2,2,   -999.0,9,  -999.00,   7.7423,2,    25.00,-999.000,9,-999.0000,9, -999.00,9, -999.00,9,  -999.0,9,-999.000,9,-999.000,-999.000,9,-999.000,9,   43.28,2,   23.78,2, -999.00,1, -999.00,9, -999.00,9,-999.000,-999.0000,9,-999.0000,9,-999.0000,9,-999.0000,9,-999.0000,9,-999.0000,9,-999.0000,9,-999.0000,9,-999.0000,9,   5.5254,     -999.0,9,     -999.0,9,     -999.0,9,     -999.0,9,     -999.0,9,     -999.0,9,     -999.0,9,-999.0000, -999.00
33RO20071215,        P18,     142,          1,         12,      11012,2,20080205,       0417,   -53.7495,  -102.9993,       3131,   549.5,   5.4587,  34.2080,2,  34.2088,2,    272.0,2,   270.9,2,   10.10,2,   23.90,2,    0.01,2,    1.66,2,   4.096,2,   2.225,2,   1.4275,2,  2142.1,2,  2280.5,2,   -999.0,9,  -999.00,   7.7217,2,    25.00,-999.000,9,-999.0000,9, -999.00,9, -999.00,9,  -999.0,9,-999.000,9,-999.000,-999.000,9,-999.000,9,   43.24,2,   25.06,2, -999.00,1, -999.00,9, -999.00,9,-999.000,-999.0000,9,-999.0000,9,-999.0000,9,-999.0000,9,-999.0000,9,-999.0000,9,-999.0000,9,-999.0000,9,-999.0000,9,   5.4130,     -999.0,9,     -999.0,9,     -999.0,9,     -999.0,9,     -999.0,9,     -999.0,9,     -999.0,9,-999.0000, -999.00
33RO20071215,        P18,     142,          1,         11,      11010,2,20080205,       0417,   -53.7495,  -102.9993,       3131,   649.9,   5.3389,  34.2484,2,  34.2474,2,    245.4,2,   244.5,2,   15.00,2,   26.30,2,    0.00,2,    1.82,2,   3.455,2,   1.828,2,   1.0430,2,  2158.9,2,  2285.3,2,   -999.0,9,  -999.00,   7.6914,2,    25.00,-999.000,9,-999.0000,9, -999.00,9, -999.00,9,  -999.0,9,-999.000,9,-999.000,-999.000,9,-999.000,9,   43.13,2,   27.57,2, -999.00,1, -999.00,9, -999.00,9,-999.000,-999.0000,9,-999.0000,9,-999.0000,9,-999.0000,9,-999.0000,9,-999.0000,9,-999.0000,9,-999.0000,9,-999.0000,9,   5.2850,     -999.0,9,     -999.0,9,     -999.0,9,     -999.0,9,     -999.0,9,     -999.0,9,     -999.0,9,-999.0000, -999.00
33RO20071215,        P18,     142,          1,         10,      11011,2,20080205,       0417,   -53.7495,  -102.9993,       3131,   750.9,   4.9388,  34.2701,2,  34.2716,2,    228.1,2,   227.1,2,   21.30,2,   28.50,2,    0.00,2,    1.97,2,   2.912,2,   1.507,2,   0.7809,2,  2174.0,2,  2288.2,2,   -999.0,9,  -999.00,   7.6622,2,    25.00,-999.000,9,-999.0000,9, -999.00,9, -999.00,9,  -999.0,9,-999.000,9,-999.000,-999.000,9,-999.000,9,   42.56,2,   29.99,2, -999.00,1, -999.00,9, -999.00,9,-999.000,-999.0000,9,-999.0000,9,-999.0000,9,-999.0000,9,-999.0000,9,-999.0000,9,-999.0000,9,-999.0000,9,-999.0000,9,   4.8782,     -999.0,9,     -999.0,9,     -999.0,9,     -999.0,9,     -999.0,9,     -999.0,9,     -999.0,9,-999.0000, -999.00
33RO20071215,        P18,     142,          1,          9,      11009,2,20080205,       0417,   -53.7495,  -102.9993,       3131,   900.0,   4.2059,  34.3009,2,  34.3001,2,    212.1,2,   212.5,2,   31.40,2,   31.00,2,    0.00,2,    2.14,2,   2.307,2,   1.162,2,   0.5294,2,  2194.3,2,  2296.3,2,   -999.0,9,  -999.00,   7.6269,2,    25.00,-999.000,9,-999.0000,9, -999.00,9, -999.00,9,  -999.0,9,-999.000,9,-999.000,-999.000,9,-999.000,9,   42.00,2,   32.36,2, -999.00,1, -999.00,9, -999.00,9,-999.000,-999.0000,9,-999.0000,9,-999.0000,9,-999.0000,9,-999.0000,9,-999.0000,9,-999.0000,9,-999.0000,9,-999.0000,9,   4.1373,     -999.0,9,     -999.0,9,     -999.0,9,     -999.0,9,     -999.0,9,     -999.0,9,     -999.0,9,-999.0000, -999.00
33RO20071215,        P18,     142,          1,          8,      11008,2,20080205,       0417,   -53.7495,  -102.9993,       3131,  1048.8,   3.6600,  34.3347,2,  34.3372,2,    201.5,2,   201.7,2,   40.80,2,   32.60,2,    0.00,2,    2.25,2,   1.778,2,   0.883,2,   0.2924,2,  2209.2,2,  2306.2,2,   -999.0,9,  -999.00,   7.6000,2,    25.00,-999.000,9,-999.0000,9, -999.00,9, -999.00,9,  -999.0,9,-999.000,9,-999.000,-999.000,9,-999.000,9,   41.45,3,   34.07,3, -999.00,1, -999.00,9, -999.00,9,-999.000,-999.0000,9,-999.0000,9,-999.0000,9,-999.0000,9,-999.0000,9,-999.0000,9,-999.0000,9,-999.0000,9,-999.0000,9,   3.5833,     -999.0,9,     -999.0,9,     -999.0,9,     -999.0,9,     -999.0,9,     -999.0,9,     -999.0,9,-999.0000, -999.00
33RO20071215,        P18,     142,          1,          7,      11007,2,20080205,       0417,   -53.7495,  -102.9993,       3131,  1200.3,   3.2082,  34.3817,2,  34.3816,2,    191.9,2,   192.0,2,   50.70,2,   33.80,2,    0.00,2,    2.34,2,   1.281,2,   0.649,2,   0.4300,2,  2224.9,2,  2314.3,2,   -999.0,9,  -999.00,   7.5908,2,    25.00,-999.000,9,-999.0000,9, -999.00,9, -999.00,9,  -999.0,9,-999.000,9,-999.000,-999.000,9,-999.000,9,   41.43,2,   34.86,2, -999.00,1, -999.00,9, -999.00,9,-999.000,-999.0000,9,-999.0000,9,-999.0000,9,-999.0000,9,-999.0000,9,-999.0000,9,-999.0000,9,-999.0000,9,-999.0000,9,   3.1232,     -999.0,9,     -999.0,9,     -999.0,9,     -999.0,9,     -999.0,9,     -999.0,9,     -999.0,9,-999.0000, -999.00
33RO20071215,        P18,     142,          1,          6,      11006,2,20080205,       0417,   -53.7495,  -102.9993,       3131,  1349.6,   2.8958,  34.4439,2,  34.4438,2,    182.0,2,   181.8,2,   60.50,2,   34.60,2,    0.00,2,    2.39,2,   0.910,2,   0.462,2,   0.1538,2,  -999.0,9,  2323.8,2,   -999.0,9,  -999.00,   7.5778,2,    25.00,-999.000,9,-999.0000,9, -999.00,9, -999.00,9,  -999.0,9,-999.000,9,-999.000,-999.000,9,-999.000,9,   40.50,2,   35.96,2, -999.00,1, -999.00,9, -999.00,9,-999.000,-999.0000,9,-999.0000,9,-999.0000,9,-999.0000,9,-999.0000,9,-999.0000,9,-999.0000,9,-999.0000,9,-999.0000,9,   2.8017,     -999.0,9,     -999.0,9,     -999.0,9,     -999.0,9,     -999.0,9,     -999.0,9,     -999.0,9,-999.0000, -999.00
33RO20071215,        P18,     142,          1,          5,      11005,2,20080205,       0417,   -53.7495,  -102.9993,       3131,  1600.8,   2.5876,  34.5480,2,  34.5485,2,    172.5,2,   172.3,2,   73.00,2,   34.50,2,    0.00,2,    2.40,2,   0.502,2,   0.261,2,   0.0000,2,  2252.0,2,  2336.0,2,   -999.0,9,  -999.00,   7.5666,2,    25.00,-999.000,9,-999.0000,9, -999.00,9, -999.00,9,  -999.0,9,-999.000,9,-999.000,-999.000,9,-999.000,9,   39.56,2,   36.09,2, -999.00,1, -999.00,9, -999.00,9,-999.000,-999.0000,9,-999.0000,9,-999.0000,9,-999.0000,9,-999.0000,9,-999.0000,9,-999.0000,9,-999.0000,9,-999.0000,9,   2.4764,     -999.0,9,     -999.0,9,     -999.0,9,     -999.0,9,     -999.0,9,     -999.0,9,     -999.0,9,-999.0000, -999.00
33RO20071215,        P18,     142,          1,          4,      11004,2,20080205,       0417,   -53.7495,  -102.9993,       3131,  1999.8,   2.2931,  34.6637,2,  34.6636,2,    172.8,2,   173.3,2,   84.60,6,   33.50,6,    0.00,6,    2.32,2,-999.000,9,-999.000,9,-999.0000,9,  2260.0,2,  2351.4,2,   -999.0,9,  -999.00,   7.5921,2,    25.00,-999.000,9,-999.0000,9, -999.00,9, -999.00,9,  -999.0,9,-999.000,9,-999.000,-999.000,9,-999.000,9,   39.37,2,   34.64,2, -999.00,1, -999.00,9, -999.00,9,-999.000,-999.0000,9,-999.0000,9,-999.0000,9,-999.0000,9,-999.0000,9,-999.0000,9,-999.0000,9,-999.0000,9,-999.0000,9,   2.1521,     -999.0,9,     -999.0,9,     -999.0,9,     -999.0,9,     -999.0,9,     -999.0,9,     -999.0,9,-999.0000, -999.00
33RO20071215,        P18,     142,          1,          3,      11003,2,20080205,       0417,   -53.7495,  -102.9993,       3131,  2399.4,   2.0187,  34.7119,2,  34.7131,2,    179.8,2,   179.4,2,   93.40,6,   32.70,6,    0.00,6,    2.27,2,   0.087,2,   0.048,2,   0.0000,2,  -999.0,9,  2359.3,2,   -999.0,9,  -999.00,   7.5913,2,    25.00,-999.000,9,-999.0000,9, -999.00,9, -999.00,9,  -999.0,9,-999.000,9,-999.000,   0.097,3,-999.000,9,   39.20,2,   34.10,2, -999.00,1, -999.00,9, -999.00,9,-999.000,-999.0000,9,-999.0000,9,-999.0000,9,-999.0000,9,-999.0000,9,-999.0000,9,-999.0000,9,-999.0000,9,-999.0000,9,   1.8469,     -999.0,9,     -999.0,9,     -999.0,9,     -999.0,9,     -999.0,9,     -999.0,9,     -999.0,9,-999.0000, -999.00
33RO20071215,        P18,     142,          1,          2,      11002,2,20080205,       0417,   -53.7495,  -102.9993,       3131,  2797.5,   1.6946,  34.7195,2,  34.7204,2,    185.1,2,   184.3,2,  104.90,6,   32.70,6,    0.00,6,    2.27,2,   0.046,2,   0.024,2,   0.0000,2,  2271.7,2,  2369.6,2,   -999.0,9,  -999.00,   7.6132,2,    25.00,-999.000,9,-999.0000,9, -999.00,9, -999.00,9,  -999.0,9,-999.000,9,-999.000,   0.070,3,-999.000,9,   39.31,2,   34.05,2, -999.00,1, -999.00,9, -999.00,9,-999.000,-999.0000,9,-999.0000,9,-999.0000,9,-999.0000,9,-999.0000,9,-999.0000,9,-999.0000,9,-999.0000,9,-999.0000,9,   1.4925,     -999.0,9,     -999.0,9,     -999.0,9,     -999.0,9,     -999.0,9,     -999.0,9,     -999.0,9,-999.0000, -999.00
33RO20071215,        P18,     142,          1,          1,      11001,2,20080205,       0417,   -53.7495,  -102.9993,       3131,  3235.6,   1.5186,  34.7223,2,  34.7226,2,    191.1,2,   190.5,2,  109.40,2,   32.60,2,    0.01,2,    2.26,2,   0.040,2,   0.022,2,   0.0000,2,  2266.4,6,  2372.4,4,   -999.0,9,  -999.00,   7.6066,2,    25.00,-999.000,9,-999.0000,9, -999.00,9, -999.00,9,  -999.0,9,-999.000,9,-999.000,   0.059,3,-999.000,9,   39.54,2,   34.04,2, -999.00,1, -999.00,9, -999.00,9,-999.000,-999.0000,9,-999.0000,9,-999.0000,9,-999.0000,9,-999.0000,9,-999.0000,9,-999.0000,9,-999.0000,9,-999.0000,9,   1.2783,     -999.0,9,     -999.0,9,     -999.0,9,     -999.0,9,     -999.0,9,     -999.0,9,     -999.0,9,-999.0000, -999.00