BOTTLE,20220818CCHSIOAMB
EXPOCODE,SECT_ID,STNNBR,CASTNO,SAMPNO,BTLNBR,BTLNBR_FLAG_W,DATE,TIME,LATITUDE,LONGITUDE,DEPTH,CTDPRS,CTDTMP,CTDSAL,CTDSAL_FLAG_W,SALNTY,SALNTY_FLAG_W,CTDOXY,CTDOXY_FLAG_W,OXYGEN,OXYGEN_FLAG_W,SILCAT,SILCAT_FLAG_W,NITRAT,NITRAT_FLAG_W,NITRIT,NITRIT_FLAG_W,PHSPHT,PHSPHT_FLAG_W,CFC-11,CFC-11_FLAG_W,CFC-12,CFC-12_FLAG_W,SF6,SF6_FLAG_W,TCARBN,TCARBN_FLAG_W,ALKALI,ALKALI_FLAG_W,FCO2,FCO2_FLAG_W,FCO2TMP,PH_SWS,PH_SWS_FLAG_W,PH_TMP,TRITUM,TRITUM_FLAG_W,HELIUM,HELIUM_FLAG_W,DELHE3,DELHE3_FLAG_W,DELC13,DELC13_FLAG_W,DELC14,DELC14_FLAG_W,NEON,NEON_FLAG_W,NEONER,CCL4,CCL4_FLAG_W,POC,POC_FLAG_W,DOC,DOC_FLAG_W,TDN,TDN_FLAG_W,DON,DON_FLAG_W,CHLORA,CHLORA_FLAG_W,ARGON,ARGON_FLAG_W,TRITER,CDOM325,CDOM325_FLAG_W,CDOM340,CDOM340_FLAG_W,CDOM380,CDOM380_FLAG_W,CDOM412,CDOM412_FLAG_W,CDOM443,CDOM443_FLAG_W,CDOM490,CDOM490_FLAG_W,CDOM555,CDOM555_FLAG_W,CDOMSL,CDOMSL_FLAG_W,CDOMSN,CDOMSN_FLAG_W,THETA,D18O_NO3,D18O_NO3_FLAG_W,CDOM2C,CDOM2C_FLAG_W,CDOM3C,CDOM3C_FLAG_W,LAB_DEN,LAB_DEN_FLAG_W,DELSI30,DELSI30_FLAG_W,N2,N2_FLAG_W,D15N_NO3,D15N_NO3_FLAG_W,HELIER,DELHER
,,,,,,,,,,,METERS,DBAR,ITS-90,PSS-78,,PSS-78,,UMOL/KG,,UMOL/KG,,UMOL/KG,,UMOL/KG,,UMOL/KG,,UMOL/KG,,PMOL/KG,,PMOL/KG,,FMOL/KG,,UMOL/KG,,UMOL/KG,,UATM,,DEG C,,,DEG C,TU,,NMOL/KG,,PERCNT,,/MILLE,,/MILLE,,NMOL/KG,,NMOL/KG,PMOL/KG,,UG/KG,,UMOL/KG,,UMOL/KG,,UMOL/KG,,UG/KG,,UMOL/KG,,TU,1/M,,1/M,,1/M,,1/M,,1/M,,1/M,,1/M,,1/NM,,1/NM,,DEG C,/MILLE,,,,,,,,/MILLE,,UMOL/KG,,/MILLE,,NMOL/KG,PERCNT
33RO20071215,        P18,      18,          1,         11,      12003,2,20071221,       2129,    14.4165,  -110.0002,       4430,  2133.2,   2.1778,  34.6446,2,  34.6437,2,     90.5,2,    89.7,2,  150.20,2,   40.30,2,    0.00,2,    2.76,2,   0.004,2,   0.001,2,   0.0000,2,  2360.6,2,  2423.4,2,   -999.0,9,  -999.00,   7.4789,2,    25.00,-999.000,9,-999.0000,9, -999.00,9, -999.00,9,  -999.0,9,-999.000,9,-999.000,   0.007,3,-999.000,9, -999.00,9, -999.00,9, -999.00,9, -999.00,9, -999.00,9,-999.000,   0.1878,2,   0.1349,2,   0.0776,2,   0.0573,2,   0.0371,2,   0.0157,2,   0.0057,2,   0.0144,2,   0.0142,2,   2.0271,     -999.0,9,     -999.0,9,     -999.0,9,     -999.0,9,     -999.0,9,     -999.0,9,     -999.0,9,-999.0000, -999.00
33RO20071215,        P18,      18,          1,         10,      12032,4,20071221,       2129,    14.4165,  -110.0002,       4430,  2332.6,   2.0256,  34.6540,2,  34.6447,4,    102.5,2,    89.2,4,  150.50,3,   40.50,3,    0.00,3,    2.77,3,   0.005,2,   0.002,2,   0.0000,2,  2360.4,2,  -999.0,9,   -999.0,9,  -999.00,   7.4735,2,    25.00,-999.000,9,-999.0000,9, -999.00,9, -999.00,9,  -999.0,9,-999.000,9,-999.000,   0.009,3,-999.000,9, -999.00,9, -999.00,9, -999.00,9, -999.00,9, -999.00,9,-999.000,   0.1747,2,   0.1242,2,   0.0704,2,   0.0514,2,   0.0328,2,   0.0126,2,   0.0039,2,   0.0147,2,   0.0147,2,   1.8599,     -999.0,9,     -999.0,9,     -999.0,9,     -999.0,9,     -999.0,9,     -999.0,9,     -999.0,9,-999.0000, -999.00
33RO20071215,        P18,      18,          1,          9,      12002,3,20071221,       2129,    14.4165,  -110.0002,       4430,  2532.3,   1.8507,  34.6646,2,  34.6645,2,    108.2,2,  -999.0,9, -999.00,9, -999.00,9, -999.00,9, -999.00,9,-999.000,9,-999.000,9,-999.0000,9,  -999.0,9,  -999.0,9,   -999.0,9,  -999.00,-999.0000,9,  -999.00,-999.000,9,-999.0000,9, -999.00,9, -999.00,9,  -999.0,9,-999.000,9,-999.000,-999.000,9,-999.000,9, -999.00,9, -999.00,9, -999.00,9, -999.00,9, -999.00,9,-999.000,   0.1772,2,   0.1262,2,   0.0704,2,   0.0500,2,   0.0320,2,   0.0139,2,   0.0049,2,   0.0146,2,   0.0150,2,   1.6701,     -999.0,9,     -999.0,9,     -999.0,9,     -999.0,9,     -999.0,9,     -999.0,9,     -999.0,9,-999.0000, -999.00
33RO20071215,        P18,      18,          1,          8,      12021,2,20071221,       2129,    14.4165,  -110.0002,       4430,  2735.2,   1.7811,  34.6689,2,  34.6704,2,    113.7,2,   112.7,2,  158.00,2,   38.90,2,    0.00,2,    2.61,2,   0.005,2,   0.003,2,   0.0000,2,  2354.0,2,  2434.5,2,   -999.0,9,  -999.00,   7.5213,2,    25.00,-999.000,9,-999.0000,9, -999.00,9, -999.00,9,  -999.0,9,-999.000,9,-999.000,   0.008,3,-999.000,9, -999.00,9, -999.00,9, -999.00,9, -999.00,9, -999.00,9,-999.000,   0.1590,2,   0.1104,2,   0.0589,2,   0.0404,2,   0.0247,2,   0.0090,2,   0.0021,2,   0.0156,2,   0.0164,2,   1.5833,     -999.0,9,     -999.0,9,     -999.0,9,     -999.0,9,     -999.0,9,     -999.0,9,     -999.0,9,-999.0000, -999.00
33RO20071215,        P18,      18,          1,          7,      12001,2,20071221,       2129,    14.4165,  -110.0002,       4430,  2933.0,   1.7175,  34.6734,2,  34.6773,2,    120.0,2,   118.9,2,  158.00,2,   39.20,2,    0.00,2,    2.59,2,   0.005,2,   0.001,2,   0.0000,2,  2350.7,2,  -999.0,9,   -999.0,9,  -999.00,   7.5350,2,    25.00,-999.000,9,-999.0000,9, -999.00,9, -999.00,9,  -999.0,9,-999.000,9,-999.000,   0.007,3,-999.000,9, -999.00,9, -999.00,9, -999.00,9, -999.00,9, -999.00,9,-999.000,-999.0000,5,-999.0000,5,-999.0000,5,-999.0000,5,-999.0000,5,-999.0000,5,-999.0000,5,-999.0000,5,-999.0000,5,   1.5023,     -999.0,9,     -999.0,9,     -999.0,9,     -999.0,9,     -999.0,9,     -999.0,9,     -999.0,9,-999.0000, -999.00
33RO20071215,        P18,      18,          1,          6,      12033,4,20071221,       2129,    14.4165,  -110.0002,       4430,  3146.8,   1.6787,  34.6764,2,  34.6499,4,    124.5,2,    93.4,4,  151.40,3,   40.20,3,    0.00,3,    2.74,3,   0.001,2,   0.000,2,   0.0000,2,  2359.7,2,  2427.5,2,   -999.0,9,  -999.00,   7.4991,2,    25.00,-999.000,9,-999.0000,9, -999.00,9, -999.00,9,  -999.0,9,-999.000,9,-999.000,   0.007,3,-999.000,9, -999.00,9, -999.00,9, -999.00,9, -999.00,9, -999.00,9,-999.000,-999.0000,5,-999.0000,5,-999.0000,5,-999.0000,5,-999.0000,5,-999.0000,5,-999.0000,5,-999.0000,5,-999.0000,5,   1.4436,     -999.0,9,     -999.0,9,     -999.0,9,     -999.0,9,     -999.0,9,     -999.0,9,     -999.0,9,-999.0000, -999.00
33RO20071215,        P18,      18,          1,          5,      12008,2,20071221,       2129,    14.4165,  -110.0002,       4430,  3417.9,   1.6285,  34.6798,2,  34.6810,2,    130.6,2,   129.6,2,  157.30,2,   37.80,2,    0.00,2,    2.51,2,   0.005,2,   0.002,2,   0.0000,2,  2343.6,2,  2431.2,2,   -999.0,9,  -999.00,   7.5497,2,    25.00,-999.000,9,-999.0000,9, -999.00,9, -999.00,9,  -999.0,9,-999.000,9,-999.000,   0.007,3,-999.000,9, -999.00,9, -999.00,9, -999.00,9, -999.00,9, -999.00,9,-999.000,   0.1523,2,   0.1046,2,   0.0549,2,   0.0371,2,   0.0229,2,   0.0088,2,   0.0023,2,   0.0156,2,   0.0169,2,   1.3675,     -999.0,9,     -999.0,9,     -999.0,9,     -999.0,9,     -999.0,9,     -999.0,9,     -999.0,9,-999.0000, -999.00
33RO20071215,        P18,      18,          1,          4,      12009,2,20071221,       2129,    14.4165,  -110.0002,       4430,  3667.0,   1.6229,  34.6811,2,  34.6816,2,    133.6,2,   132.4,2,  157.00,6,   37.70,6,    0.00,6,    2.49,2,   0.002,2,   0.002,2,   0.0000,2,  2341.7,2,  -999.0,9,   -999.0,9,  -999.00,   7.5471,2,    25.00,-999.000,9,-999.0000,9, -999.00,9, -999.00,9,  -999.0,9,-999.000,9,-999.000,   0.006,3,-999.000,9, -999.00,9, -999.00,9, -999.00,9, -999.00,9, -999.00,9,-999.000,   0.1541,2,   0.1068,2,   0.0566,2,   0.0383,2,   0.0239,2,   0.0095,2,   0.0027,2,   0.0154,2,   0.0166,2,   1.3363,     -999.0,9,     -999.0,9,     -999.0,9,     -999.0,9,     -999.0,9,     -999.0,9,     -999.0,9,-999.0000, -999.00
33RO20071215,        P18,      18,          1,          3,      12006,2,20071221,       2129,    14.4165,  -110.0002,       4430,  3917.5,   1.6344,  34.6817,2,  34.6825,2,    134.5,2,   133.5,2,  156.90,6,   37.40,6,    0.00,6,    2.48,2,   0.004,2,   0.003,2,   0.0000,2,  2340.3,2,  2428.9,2,   -999.0,9,  -999.00,   7.5516,2,    25.00,-999.000,9,-999.0000,9, -999.00,9, -999.00,9,  -999.0,9,-999.000,9,-999.000,   0.007,3,-999.000,9, -999.00,9, -999.00,9, -999.00,9, -999.00,9, -999.00,9,-999.000,   0.1664,2,   0.1166,2,   0.0629,2,   0.0433,2,   0.0277,2,   0.0121,2,   0.0041,2,   0.0149,2,   0.0159,2,   1.3207,     -999.0,9,     -999.0,9,     -999.0,9,     -999.0,9,     -999.0,9,     -999.0,9,     -999.0,9,-999.0000, -999.00
33RO20071215,        P18,      18,          1,          2,      12007,2,20071221,       2129,    14.4165,  -110.0002,       4430,  4166.1,   1.6510,  34.6820,2,  34.6836,2,    136.0,2,   134.3,2,  156.70,6,   37.50,6,    0.00,6,    2.49,2,   0.004,2,   0.003,2,   0.0000,2,  2339.8,2,  2429.2,2,   -999.0,9,  -999.00,   7.5580,2,    25.00,-999.000,9,-999.0000,9, -999.00,9, -999.00,9,  -999.0,9,-999.000,9,-999.000,   0.009,3,-999.000,9, -999.00,9, -999.00,9, -999.00,9, -999.00,9, -999.00,9,-999.000,   0.1690,2,   0.1183,2,   0.0635,2,   0.0436,2,   0.0279,2,   0.0122,2,   0.0043,2,   0.0150,2,   0.0160,2,   1.3094,     -999.0,9,     -999.0,9,     -999.0,9,     -999.0,9,     -999.0,9,     -999.0,9,     -999.0,9,-999.0000, -999.00
33RO20071215,        P18,      18,          1,          1,      12035,2,20071221,       2129,    14.4165,  -110.0002,       4430,  4514.4,   1.6899,  34.6820,2,  34.6834,2,    134.9,2,   134.1,2,  156.90,2,   37.50,2,    0.00,2,    2.50,2,   0.003,6,   0.002,6,   0.0000,6,  2341.5,6,  2427.4,2,   -999.0,9,  -999.00,   7.5539,2,    25.00,-999.000,9,-999.0000,9, -999.00,9, -999.00,9,  -999.0,9,-999.000,9,-999.000,   0.005,3,-999.000,9, -999.00,9, -999.00,9, -999.00,9, -999.00,9, -999.00,9,-999.000,   0.1719,2,   0.1203,2,   0.0643,2,   0.0440,2,   0.0280,2,   0.0123,2,   0.0043,2,   0.0150,2,   0.0161,2,   1.3073,     -999.0,9,     -999.0,9,     -999.0,9,     -999.0,9,     -999.0,9,     -999.0,9,     -999.0,9,-999.0000, -999.00