BOTTLE,20220818CCHSIOAMB
EXPOCODE,SECT_ID,STNNBR,CASTNO,SAMPNO,BTLNBR,BTLNBR_FLAG_W,DATE,TIME,LATITUDE,LONGITUDE,DEPTH,CTDPRS,CTDTMP,CTDSAL,CTDSAL_FLAG_W,SALNTY,SALNTY_FLAG_W,CTDOXY,CTDOXY_FLAG_W,OXYGEN,OXYGEN_FLAG_W,SILCAT,SILCAT_FLAG_W,NITRAT,NITRAT_FLAG_W,NITRIT,NITRIT_FLAG_W,PHSPHT,PHSPHT_FLAG_W,CFC-11,CFC-11_FLAG_W,CFC-12,CFC-12_FLAG_W,SF6,SF6_FLAG_W,TCARBN,TCARBN_FLAG_W,ALKALI,ALKALI_FLAG_W,FCO2,FCO2_FLAG_W,FCO2TMP,PH_SWS,PH_SWS_FLAG_W,PH_TMP,TRITUM,TRITUM_FLAG_W,HELIUM,HELIUM_FLAG_W,DELHE3,DELHE3_FLAG_W,DELC13,DELC13_FLAG_W,DELC14,DELC14_FLAG_W,NEON,NEON_FLAG_W,NEONER,CCL4,CCL4_FLAG_W,POC,POC_FLAG_W,DOC,DOC_FLAG_W,TDN,TDN_FLAG_W,DON,DON_FLAG_W,CHLORA,CHLORA_FLAG_W,ARGON,ARGON_FLAG_W,TRITER,CDOM325,CDOM325_FLAG_W,CDOM340,CDOM340_FLAG_W,CDOM380,CDOM380_FLAG_W,CDOM412,CDOM412_FLAG_W,CDOM443,CDOM443_FLAG_W,CDOM490,CDOM490_FLAG_W,CDOM555,CDOM555_FLAG_W,CDOMSL,CDOMSL_FLAG_W,CDOMSN,CDOMSN_FLAG_W,THETA,D18O_NO3,D18O_NO3_FLAG_W,CDOM2C,CDOM2C_FLAG_W,CDOM3C,CDOM3C_FLAG_W,LAB_DEN,LAB_DEN_FLAG_W,DELSI30,DELSI30_FLAG_W,N2,N2_FLAG_W,D15N_NO3,D15N_NO3_FLAG_W,HELIER,DELHER
,,,,,,,,,,,METERS,DBAR,ITS-90,PSS-78,,PSS-78,,UMOL/KG,,UMOL/KG,,UMOL/KG,,UMOL/KG,,UMOL/KG,,UMOL/KG,,PMOL/KG,,PMOL/KG,,FMOL/KG,,UMOL/KG,,UMOL/KG,,UATM,,DEG C,,,DEG C,TU,,NMOL/KG,,PERCNT,,/MILLE,,/MILLE,,NMOL/KG,,NMOL/KG,PMOL/KG,,UG/KG,,UMOL/KG,,UMOL/KG,,UMOL/KG,,UG/KG,,UMOL/KG,,TU,1/M,,1/M,,1/M,,1/M,,1/M,,1/M,,1/M,,1/NM,,1/NM,,DEG C,/MILLE,,,,,,,,/MILLE,,UMOL/KG,,/MILLE,,NMOL/KG,PERCNT
33RO20071215,        P18,     172,          1,         24,      11024,2,20080214,       2048,   -69.4407,  -103.4098,       3924,     4.1,  -0.0375,  33.0988,2,  33.1047,2,    356.1,2,   355.6,2,   22.60,2,   21.00,2,    0.20,2,    1.20,2,   6.214,2,   3.381,2,   2.2630,2,  2087.9,6,  2245.3,2,   -999.0,9,  -999.00,   7.7868,2,    25.00,-999.000,9,-999.0000,9, -999.00,9, -999.00,9,  -999.0,9,-999.000,9,-999.000,-999.000,9,-999.000,9, -999.00,9, -999.00,9, -999.00,9,    1.09,2, -999.00,9,-999.000,   0.1517,2,   0.1147,2,   0.0398,2,   0.0269,2,   0.0152,2,   0.0047,2,  -0.0014,4,   0.0189,2,   0.0223,2,  -0.0376,     -999.0,9,     -999.0,9,     -999.0,9,     -999.0,9,     -999.0,9,     -999.0,9,     -999.0,9,-999.0000, -999.00
33RO20071215,        P18,     172,          1,         23,      11023,2,20080214,       2048,   -69.4407,  -103.4098,       3924,    24.6,  -0.9532,  33.8234,2,  33.8266,2,    350.1,2,   350.1,2,   37.10,2,   26.10,2,    0.17,2,    1.76,2,   5.838,2,   3.209,2,   2.1406,2,  2156.1,2,  2289.6,2,   -999.0,9,  -999.00,   7.7077,2,    25.00,-999.000,9,-999.0000,9, -999.00,9, -999.00,9,  -999.0,9,-999.000,9,-999.000,-999.000,9,-999.000,9, -999.00,9, -999.00,9, -999.00,9,    1.08,2, -999.00,9,-999.000,   0.1167,2,   0.0803,2,   0.0401,2,   0.0295,2,   0.0166,2,   0.0058,2,  -0.0005,4,   0.0155,2,   0.0173,2,  -0.9538,     -999.0,9,     -999.0,9,     -999.0,9,     -999.0,9,     -999.0,9,     -999.0,9,     -999.0,9,-999.0000, -999.00
33RO20071215,        P18,     172,          1,         22,      11022,2,20080214,       2048,   -69.4407,  -103.4098,       3924,    47.0,  -1.4491,  33.9740,2,  33.9750,2,    324.7,2,   332.3,2,   44.40,2,   27.90,2,    0.18,2,    1.95,2,   5.653,2,   3.114,2,   2.1084,2,  2177.8,2,  2291.8,2,   -999.0,9,  -999.00,   7.6762,2,    25.00,-999.000,9,-999.0000,9, -999.00,9, -999.00,9,  -999.0,9,-999.000,9,-999.000,-999.000,9,-999.000,9, -999.00,9, -999.00,9, -999.00,9,    0.40,2, -999.00,9,-999.000,   0.1078,2,   0.0738,2,   0.0390,2,   0.0292,2,   0.0158,2,   0.0051,2,  -0.0010,4,   0.0110,4,   0.0164,4,  -1.4501,     -999.0,9,     -999.0,9,     -999.0,9,     -999.0,9,     -999.0,9,     -999.0,9,     -999.0,9,-999.0000, -999.00
33RO20071215,        P18,     172,          1,         21,      11021,2,20080214,       2048,   -69.4407,  -103.4098,       3924,    75.2,  -1.5262,  34.1108,2,  34.1127,2,    308.6,2,   312.9,2,   50.10,2,   29.50,2,    0.19,2,    2.06,2,   5.332,2,   2.947,2,   1.9861,2,  2195.9,2,  2303.7,2,   -999.0,9,  -999.00,   7.6490,2,    25.00,-999.000,9,-999.0000,9, -999.00,9, -999.00,9,  -999.0,9,-999.000,9,-999.000,-999.000,9,-999.000,9, -999.00,9, -999.00,9, -999.00,9,    0.12,2, -999.00,9,-999.000,   0.1030,2,   0.0696,2,   0.0376,2,   0.0282,2,   0.0148,2,   0.0048,2,  -0.0011,4,   0.0150,2,   0.0164,2,  -1.5279,     -999.0,9,     -999.0,9,     -999.0,9,     -999.0,9,     -999.0,9,     -999.0,9,     -999.0,9,-999.0000, -999.00
33RO20071215,        P18,     172,          1,         20,      11020,2,20080214,       2048,   -69.4407,  -103.4098,       3924,    99.3,  -1.3374,  34.1632,2,  34.1667,2,    302.7,2,   302.9,2,   52.10,2,   30.30,2,    0.15,2,    2.10,2,   5.126,2,   2.827,2,   1.8549,2,  2202.0,2,  2306.1,2,   -999.0,9,  -999.00,   7.6454,2,    25.00,-999.000,9,-999.0000,9, -999.00,9, -999.00,9,  -999.0,9,-999.000,9,-999.000,-999.000,9,-999.000,9, -999.00,9, -999.00,9, -999.00,9,    0.07,2, -999.00,9,-999.000,-999.0000,5,-999.0000,5,-999.0000,5,-999.0000,5,-999.0000,5,-999.0000,5,-999.0000,5,-999.0000,5,-999.0000,5,  -1.3397,     -999.0,9,     -999.0,9,     -999.0,9,     -999.0,9,     -999.0,9,     -999.0,9,     -999.0,9,-999.0000, -999.00
33RO20071215,        P18,     172,          1,         19,      11019,2,20080214,       2048,   -69.4407,  -103.4098,       3924,   126.0,  -0.5932,  34.2603,2,  34.2629,2,    266.1,2,   269.6,2,   59.60,2,   31.70,2,    0.02,2,    2.17,2,   4.089,2,   2.246,2,   1.4539,2,  2217.4,2,  2312.6,2,   -999.0,9,  -999.00,   7.6138,2,    25.00,-999.000,9,-999.0000,9, -999.00,9, -999.00,9,  -999.0,9,-999.000,9,-999.000,-999.000,9,-999.000,9, -999.00,9, -999.00,9, -999.00,9,    0.05,2, -999.00,9,-999.000,   0.1117,2,   0.0759,2,   0.0398,2,   0.0295,2,   0.0152,2,   0.0048,2,  -0.0011,4,   0.0117,2,   0.0170,2,  -0.5970,     -999.0,9,     -999.0,9,     -999.0,9,     -999.0,9,     -999.0,9,     -999.0,9,     -999.0,9,-999.0000, -999.00
33RO20071215,        P18,     172,          1,         18,      11018,2,20080214,       2048,   -69.4407,  -103.4098,       3924,   151.1,   0.6131,  34.4073,2,  34.4018,2,    221.5,2,   222.3,2,   69.20,2,   33.50,2,    0.01,2,    2.29,2,   2.608,2,   1.383,2,   0.8933,2,  2236.0,2,  2321.0,2,   -999.0,9,  -999.00,   7.5778,2,    25.00,-999.000,9,-999.0000,9, -999.00,9, -999.00,9,  -999.0,9,-999.000,9,-999.000,-999.000,9,-999.000,9, -999.00,9, -999.00,9, -999.00,9,    0.05,2, -999.00,9,-999.000,   0.1196,2,   0.0823,2,   0.0438,2,   0.0319,2,   0.0167,2,   0.0056,2,  -0.0010,4,   0.0100,4,   0.0166,4,   0.6068,     -999.0,9,     -999.0,9,     -999.0,9,     -999.0,9,     -999.0,9,     -999.0,9,     -999.0,9,-999.0000, -999.00
33RO20071215,        P18,     172,          1,         17,      11017,2,20080214,       2048,   -69.4407,  -103.4098,       3924,   200.5,   1.6941,  34.5596,2,  34.5572,2,    182.5,2,   182.5,2,   77.30,2,   34.50,2,    0.01,2,    2.35,2,   1.147,2,   0.592,2,   0.2310,2,  2253.4,2,  2359.5,4,   -999.0,9,  -999.00,   7.5594,2,    25.00,-999.000,9,-999.0000,9, -999.00,9, -999.00,9,  -999.0,9,-999.000,9,-999.000,-999.000,9,-999.000,9, -999.00,9, -999.00,9, -999.00,9,    0.03,2, -999.00,9,-999.000,   0.1272,2,   0.0885,2,   0.0474,2,   0.0339,2,   0.0180,2,   0.0062,2,  -0.0008,4,   0.0104,2,   0.0165,2,   1.6839,     -999.0,9,     -999.0,9,     -999.0,9,     -999.0,9,     -999.0,9,     -999.0,9,     -999.0,9,-999.0000, -999.00
33RO20071215,        P18,     172,          1,         16,      11016,2,20080214,       2048,   -69.4407,  -103.4098,       3924,   274.9,   1.9530,  34.6387,2,  34.6390,2,    173.5,2,   172.7,2,   81.80,2,   33.90,2,    0.00,2,    2.32,2,   0.589,2,   0.297,2,   0.1626,2,  2255.9,6,  2358.1,4,   -999.0,9,  -999.00,   7.5646,2,    25.00,-999.000,9,-999.0000,9, -999.00,9, -999.00,9,  -999.0,9,-999.000,9,-999.000,-999.000,9,-999.000,9, -999.00,9, -999.00,9, -999.00,9, -999.00,9, -999.00,9,-999.000,   0.1270,2,   0.0884,2,   0.0468,2,   0.0325,2,   0.0171,2,   0.0060,2,  -0.0011,4,   0.0106,2,   0.0170,2,   1.9382,     -999.0,9,     -999.0,9,     -999.0,9,     -999.0,9,     -999.0,9,     -999.0,9,     -999.0,9,-999.0000, -999.00
33RO20071215,        P18,     172,          1,         15,      11015,2,20080214,       2048,   -69.4407,  -103.4098,       3924,   350.6,   1.9628,  34.6731,2,  34.6721,2,    173.2,2,   173.4,2,   84.10,2,   33.50,2,    0.00,2,    2.28,2,   0.416,2,   0.207,2,   0.0000,2,  2256.6,2,  2344.6,2,   -999.0,9,  -999.00,   7.5727,2,    25.00,-999.000,9,-999.0000,9, -999.00,9, -999.00,9,  -999.0,9,-999.000,9,-999.000,-999.000,9,-999.000,9, -999.00,9, -999.00,9, -999.00,9, -999.00,9, -999.00,9,-999.000,   0.1289,2,   0.0899,2,   0.0476,2,   0.0333,2,   0.0172,2,   0.0057,2,  -0.0016,4,   0.0105,2,   0.0169,2,   1.9437,     -999.0,9,     -999.0,9,     -999.0,9,     -999.0,9,     -999.0,9,     -999.0,9,     -999.0,9,-999.0000, -999.00
33RO20071215,        P18,     172,          1,         14,      11014,2,20080214,       2048,   -69.4407,  -103.4098,       3924,   424.8,   1.9493,  34.6954,2,  34.6935,2,    176.0,2,   176.8,2,   85.60,2,   33.00,2,    0.00,2,    2.25,2,   0.314,2,   0.155,2,   0.0000,2,  2255.0,2,  2343.7,2,   -999.0,9,  -999.00,   7.5869,2,    25.00,-999.000,9,-999.0000,9, -999.00,9, -999.00,9,  -999.0,9,-999.000,9,-999.000,-999.000,9,-999.000,9, -999.00,9, -999.00,9, -999.00,9, -999.00,9, -999.00,9,-999.000,   0.1253,2,   0.0871,2,   0.0458,2,   0.0316,2,   0.0160,2,   0.0051,2,  -0.0019,4,   0.0089,2,   0.0172,2,   1.9259,     -999.0,9,     -999.0,9,     -999.0,9,     -999.0,9,     -999.0,9,     -999.0,9,     -999.0,9,-999.0000, -999.00
33RO20071215,        P18,     172,          1,         13,      11013,2,20080214,       2048,   -69.4407,  -103.4098,       3924,   500.5,   1.9068,  34.7096,2,  34.7085,2,    178.7,2,   179.5,2,   87.30,2,   32.70,2,    0.00,2,    2.22,2,   0.253,2,   0.123,2,   0.0000,2,  2254.6,2,  2347.0,4,   -999.0,9,  -999.00,   7.5932,2,    25.00,-999.000,9,-999.0000,9, -999.00,9, -999.00,9,  -999.0,9,-999.000,9,-999.000,-999.000,9,-999.000,9, -999.00,9, -999.00,9, -999.00,9, -999.00,9, -999.00,9,-999.000,   0.1359,2,   0.0958,2,   0.0485,2,   0.0336,2,   0.0172,2,   0.0057,2,  -0.0018,4,   0.0076,2,   0.0176,2,   1.8791,     -999.0,9,     -999.0,9,     -999.0,9,     -999.0,9,     -999.0,9,     -999.0,9,     -999.0,9,-999.0000, -999.00
33RO20071215,        P18,     172,          1,         12,      11012,2,20080214,       2048,   -69.4407,  -103.4098,       3924,   652.1,   1.7945,  34.7260,2,  34.7252,2,    183.7,2,   184.5,2,   90.50,2,   32.00,2,    0.00,2,    2.19,2,   0.190,2,   0.093,2,   0.0000,2,  2252.7,2,  2343.7,4,   -999.0,9,  -999.00,   7.6039,2,    25.00,-999.000,9,-999.0000,9, -999.00,9, -999.00,9,  -999.0,9,-999.000,9,-999.000,-999.000,9,-999.000,9, -999.00,9, -999.00,9, -999.00,9, -999.00,9, -999.00,9,-999.000,   0.1285,2,   0.0902,2,   0.0483,2,   0.0332,2,   0.0168,2,   0.0062,2,  -0.0022,4,   0.0070,4,   0.0168,4,   1.7580,     -999.0,9,     -999.0,9,     -999.0,9,     -999.0,9,     -999.0,9,     -999.0,9,     -999.0,9,-999.0000, -999.00
33RO20071215,        P18,     172,          1,         11,      11010,2,20080214,       2048,   -69.4407,  -103.4098,       3924,   799.7,   1.6759,  34.7326,2,  34.7327,2,    187.2,2,   188.2,2,   93.60,2,   31.90,2,    0.00,2,    2.17,2,   0.164,2,   0.078,2,   0.0000,2,  2252.6,2,  2352.0,2,   -999.0,9,  -999.00,   7.6082,2,    25.00,-999.000,9,-999.0000,9, -999.00,9, -999.00,9,  -999.0,9,-999.000,9,-999.000,-999.000,9,-999.000,9, -999.00,9, -999.00,9, -999.00,9, -999.00,9, -999.00,9,-999.000,   0.1232,2,   0.0857,2,   0.0445,2,   0.0301,2,   0.0138,2,   0.0041,2,  -0.0035,4,   0.0068,2,   0.0178,2,   1.6310,     -999.0,9,     -999.0,9,     -999.0,9,     -999.0,9,     -999.0,9,     -999.0,9,     -999.0,9,-999.0000, -999.00
33RO20071215,        P18,     172,          1,         10,      11011,2,20080214,       2048,   -69.4407,  -103.4098,       3924,   950.7,   1.5512,  34.7346,2,  34.7339,2,    190.0,2,   190.7,2,   97.50,2,   31.80,2,    0.00,2,    2.17,2,   0.130,2,   0.065,2,   0.0000,2,  2253.3,2,  2357.3,2,   -999.0,9,  -999.00,   7.6141,2,    25.00,-999.000,9,-999.0000,9, -999.00,9, -999.00,9,  -999.0,9,-999.000,9,-999.000,-999.000,9,-999.000,9, -999.00,9, -999.00,9, -999.00,9, -999.00,9, -999.00,9,-999.000,   0.1339,2,   0.0948,2,   0.0516,2,   0.0362,2,   0.0189,2,   0.0076,2,  -0.0013,4,   0.0080,2,   0.0162,2,   1.4976,     -999.0,9,     -999.0,9,     -999.0,9,     -999.0,9,     -999.0,9,     -999.0,9,     -999.0,9,-999.0000, -999.00
33RO20071215,        P18,     172,          1,          9,      11009,2,20080214,       2048,   -69.4407,  -103.4098,       3924,  1103.5,   1.4311,  34.7337,2,  34.7326,2,    192.4,2,   193.6,2,  100.90,2,   31.80,2,    0.00,2,    2.17,2,   0.115,2,   0.058,2,   0.0000,2,  2254.6,2,  2358.9,2,   -999.0,9,  -999.00,   7.6087,2,    25.00,-999.000,9,-999.0000,9, -999.00,9, -999.00,9,  -999.0,9,-999.000,9,-999.000,-999.000,9,-999.000,9, -999.00,9, -999.00,9, -999.00,9, -999.00,9, -999.00,9,-999.000,   0.1196,2,   0.0823,2,   0.0422,2,   0.0280,2,   0.0122,2,   0.0032,2,  -0.0041,4,   0.0056,4,   0.0184,4,   1.3684,     -999.0,9,     -999.0,9,     -999.0,9,     -999.0,9,     -999.0,9,     -999.0,9,     -999.0,9,-999.0000, -999.00
33RO20071215,        P18,     172,          1,          8,      11008,2,20080214,       2048,   -69.4407,  -103.4098,       3924,  1301.5,   1.2722,  34.7299,2,  34.7336,2,    194.5,2,   194.3,3,  106.30,2,   32.10,2,    0.00,2,    2.19,2,   0.079,6,   0.039,6,   0.0000,6,  2256.9,2,  2359.5,2,   -999.0,9,  -999.00,   7.6161,2,    25.00,-999.000,9,-999.0000,9, -999.00,9, -999.00,9,  -999.0,9,-999.000,9,-999.000,-999.000,9,-999.000,9, -999.00,9, -999.00,9, -999.00,9, -999.00,9, -999.00,9,-999.000,   0.1249,2,   0.0870,2,   0.0460,2,   0.0315,2,   0.0151,2,   0.0051,2,  -0.0030,4,   0.0062,4,   0.0173,4,   1.1978,     -999.0,9,     -999.0,9,     -999.0,9,     -999.0,9,     -999.0,9,     -999.0,9,     -999.0,9,-999.0000, -999.00
33RO20071215,        P18,     172,          1,          7,      11007,2,20080214,       2048,   -69.4407,  -103.4098,       3924,  1601.7,   1.0914,  34.7245,2,  34.7234,2,    197.8,2,   199.0,2,  112.00,2,   32.10,2,    0.00,2,    2.19,2,   0.076,2,   0.037,2,   0.0000,2,  2257.4,2,  2360.6,2,   -999.0,9,  -999.00,   7.6126,2,    25.00,-999.000,9,-999.0000,9, -999.00,9, -999.00,9,  -999.0,9,-999.000,9,-999.000,-999.000,9,-999.000,9, -999.00,9, -999.00,9, -999.00,9, -999.00,9, -999.00,9,-999.000,   0.1185,2,   0.0812,2,   0.0419,2,   0.0279,2,   0.0118,2,   0.0029,2,  -0.0045,4,   0.0058,4,   0.0183,4,   0.9982,     -999.0,9,     -999.0,9,     -999.0,9,     -999.0,9,     -999.0,9,     -999.0,9,     -999.0,9,-999.0000, -999.00
33RO20071215,        P18,     172,          1,          6,      11006,2,20080214,       2048,   -69.4407,  -103.4098,       3924,  2001.0,   0.8843,  34.7170,2,  34.7193,2,    201.6,2,   202.6,2,  119.20,2,   32.30,2,    0.00,2,    2.21,2,   0.076,2,   0.040,2,   0.0000,2,  2259.3,2,  2362.4,2,   -999.0,9,  -999.00,   7.6099,2,    25.00,-999.000,9,-999.0000,9, -999.00,9, -999.00,9,  -999.0,9,-999.000,9,-999.000,   0.124,3,-999.000,9, -999.00,9, -999.00,9, -999.00,9, -999.00,9, -999.00,9,-999.000,   0.1241,2,   0.0866,2,   0.0461,2,   0.0316,2,   0.0148,2,   0.0052,2,  -0.0032,4,   0.0061,4,   0.0172,4,   0.7646,     -999.0,9,     -999.0,9,     -999.0,9,     -999.0,9,     -999.0,9,     -999.0,9,     -999.0,9,-999.0000, -999.00
33RO20071215,        P18,     172,          1,          5,      11005,2,20080214,       2048,   -69.4407,  -103.4098,       3924,  2401.1,   0.7092,  34.7113,2,  34.7169,4,    205.4,2,   206.5,2,  124.80,2,   32.50,2,    0.00,2,    2.22,2,   0.104,2,   0.052,2,   0.0000,2,  2259.1,2,  2366.0,2,   -999.0,9,  -999.00,   7.6084,2,    25.00,-999.000,9,-999.0000,9, -999.00,9, -999.00,9,  -999.0,9,-999.000,9,-999.000,   0.150,3,-999.000,9, -999.00,9, -999.00,9, -999.00,9, -999.00,9, -999.00,9,-999.000,   0.1143,2,   0.0778,2,   0.0397,2,   0.0265,2,   0.0106,2,   0.0029,2,  -0.0044,4,   0.0045,4,   0.0187,4,   0.5610,     -999.0,9,     -999.0,9,     -999.0,9,     -999.0,9,     -999.0,9,     -999.0,9,     -999.0,9,-999.0000, -999.00
33RO20071215,        P18,     172,          1,          4,      11004,2,20080214,       2048,   -69.4407,  -103.4098,       3924,  2804.6,   0.5320,  34.7082,2,  34.7063,2,    208.7,2,   209.8,2,  129.70,6,   32.80,6,    0.00,6,    2.23,2,   0.108,2,   0.055,2,   0.0000,2,  2261.0,6,  2367.2,2,   -999.0,9,  -999.00,   7.6276,2,    25.00,-999.000,9,-999.0000,9, -999.00,9, -999.00,9,  -999.0,9,-999.000,9,-999.000,   0.176,3,-999.000,9, -999.00,9, -999.00,9, -999.00,9, -999.00,9, -999.00,9,-999.000,   0.1225,2,   0.0851,2,   0.0455,2,   0.0322,2,   0.0150,2,   0.0059,2,  -0.0027,4,   0.0057,4,   0.0170,4,   0.3535,     -999.0,9,     -999.0,9,     -999.0,9,     -999.0,9,     -999.0,9,     -999.0,9,     -999.0,9,-999.0000, -999.00
33RO20071215,        P18,     172,          1,          3,      11003,2,20080214,       2048,   -69.4407,  -103.4098,       3924,  3198.0,   0.4490,  34.7074,2,  34.7074,2,    209.9,2,   210.8,2,  135.10,6,   32.90,6,    0.00,6,    2.24,2,   0.102,2,   0.054,2,   0.0000,2,  2261.1,2,  2363.7,2,   -999.0,9,  -999.00,   7.6152,2,    25.00,-999.000,9,-999.0000,9, -999.00,9, -999.00,9,  -999.0,9,-999.000,9,-999.000,   0.193,3,-999.000,9, -999.00,9, -999.00,9, -999.00,9, -999.00,9, -999.00,9,-999.000,   0.1131,2,   0.0767,2,   0.0387,2,   0.0256,2,   0.0094,2,   0.0021,2,  -0.0050,4,   0.0043,4,   0.0191,4,   0.2375,     -999.0,9,     -999.0,9,     -999.0,9,     -999.0,9,     -999.0,9,     -999.0,9,     -999.0,9,-999.0000, -999.00
33RO20071215,        P18,     172,          1,          2,      11002,2,20080214,       2048,   -69.4407,  -103.4098,       3924,  3599.0,   0.4190,  34.7069,2,  34.7061,2,    211.5,2,   211.6,2,  138.10,6,   33.00,6,    0.00,6,    2.25,2,   0.110,2,   0.057,2,   0.0000,2,  2262.3,2,  2366.6,2,   -999.0,9,  -999.00,   7.6127,2,    25.00,-999.000,9,-999.0000,9, -999.00,9, -999.00,9,  -999.0,9,-999.000,9,-999.000,   0.203,3,-999.000,9, -999.00,9, -999.00,9, -999.00,9, -999.00,9, -999.00,9,-999.000,   0.1196,2,   0.0822,2,   0.0425,2,   0.0290,2,   0.0120,2,   0.0038,2,  -0.0040,4,   0.0045,4,   0.0182,4,   0.1706,     -999.0,9,     -999.0,9,     -999.0,9,     -999.0,9,     -999.0,9,     -999.0,9,     -999.0,9,-999.0000, -999.00
33RO20071215,        P18,     172,          1,          1,      11001,2,20080214,       2048,   -69.4407,  -103.4098,       3924,  3969.0,   0.3480,  34.7052,2,  34.7052,2,    213.8,2,   214.3,2,  143.80,2,   33.30,2,    0.01,2,    2.25,2,   0.204,2,   0.101,2,   0.0000,2,  2262.5,6,  2366.3,2,   -999.0,9,  -999.00,   7.6093,2,    25.00,-999.000,9,-999.0000,9, -999.00,9, -999.00,9,  -999.0,9,-999.000,9,-999.000,   0.275,3,-999.000,9, -999.00,9, -999.00,9, -999.00,9, -999.00,9, -999.00,9,-999.000,   0.1159,2,   0.0791,2,   0.0402,2,   0.0268,2,   0.0103,2,   0.0026,2,  -0.0049,4,   0.0033,4,   0.0188,4,   0.0648,     -999.0,9,     -999.0,9,     -999.0,9,     -999.0,9,     -999.0,9,     -999.0,9,     -999.0,9,-999.0000, -999.00