BOTTLE,20220818CCHSIOAMB
EXPOCODE,SECT_ID,STNNBR,CASTNO,SAMPNO,BTLNBR,BTLNBR_FLAG_W,DATE,TIME,LATITUDE,LONGITUDE,DEPTH,CTDPRS,CTDTMP,CTDSAL,CTDSAL_FLAG_W,SALNTY,SALNTY_FLAG_W,CTDOXY,CTDOXY_FLAG_W,OXYGEN,OXYGEN_FLAG_W,SILCAT,SILCAT_FLAG_W,NITRAT,NITRAT_FLAG_W,NITRIT,NITRIT_FLAG_W,PHSPHT,PHSPHT_FLAG_W,CFC-11,CFC-11_FLAG_W,CFC-12,CFC-12_FLAG_W,SF6,SF6_FLAG_W,TCARBN,TCARBN_FLAG_W,ALKALI,ALKALI_FLAG_W,FCO2,FCO2_FLAG_W,FCO2TMP,PH_SWS,PH_SWS_FLAG_W,PH_TMP,TRITUM,TRITUM_FLAG_W,HELIUM,HELIUM_FLAG_W,DELHE3,DELHE3_FLAG_W,DELC13,DELC13_FLAG_W,DELC14,DELC14_FLAG_W,NEON,NEON_FLAG_W,NEONER,CCL4,CCL4_FLAG_W,POC,POC_FLAG_W,DOC,DOC_FLAG_W,TDN,TDN_FLAG_W,DON,DON_FLAG_W,CHLORA,CHLORA_FLAG_W,ARGON,ARGON_FLAG_W,TRITER,CDOM325,CDOM325_FLAG_W,CDOM340,CDOM340_FLAG_W,CDOM380,CDOM380_FLAG_W,CDOM412,CDOM412_FLAG_W,CDOM443,CDOM443_FLAG_W,CDOM490,CDOM490_FLAG_W,CDOM555,CDOM555_FLAG_W,CDOMSL,CDOMSL_FLAG_W,CDOMSN,CDOMSN_FLAG_W,THETA,D18O_NO3,D18O_NO3_FLAG_W,CDOM2C,CDOM2C_FLAG_W,CDOM3C,CDOM3C_FLAG_W,LAB_DEN,LAB_DEN_FLAG_W,DELSI30,DELSI30_FLAG_W,N2,N2_FLAG_W,D15N_NO3,D15N_NO3_FLAG_W,HELIER,DELHER
,,,,,,,,,,,METERS,DBAR,ITS-90,PSS-78,,PSS-78,,UMOL/KG,,UMOL/KG,,UMOL/KG,,UMOL/KG,,UMOL/KG,,UMOL/KG,,PMOL/KG,,PMOL/KG,,FMOL/KG,,UMOL/KG,,UMOL/KG,,UATM,,DEG C,,,DEG C,TU,,NMOL/KG,,PERCNT,,/MILLE,,/MILLE,,NMOL/KG,,NMOL/KG,PMOL/KG,,UG/KG,,UMOL/KG,,UMOL/KG,,UMOL/KG,,UG/KG,,UMOL/KG,,TU,1/M,,1/M,,1/M,,1/M,,1/M,,1/M,,1/M,,1/NM,,1/NM,,DEG C,/MILLE,,,,,,,,/MILLE,,UMOL/KG,,/MILLE,,NMOL/KG,PERCNT
33RO20071215,        P18,     166,          1,         24,      11024,2,20080212,       1350,   -66.2490,  -102.9967,       4810,     5.3,   2.0880,  33.8292,2,  33.8316,2,    331.4,2,   331.4,2,    5.30,2,   24.20,2,    0.17,2,    1.48,2,   5.713,2,   3.173,2,   2.2933,2,  2137.2,6,  2282.6,2,   -999.0,9,  -999.00,   7.7502,2,    25.00,-999.000,9,-999.0000,9, -999.00,9,    1.61,2,  -999.0,1,-999.000,9,-999.000,-999.000,9,-999.000,9, -999.00,9, -999.00,9, -999.00,9, -999.00,9, -999.00,1,-999.000,-999.0000,9,-999.0000,9,-999.0000,9,-999.0000,9,-999.0000,9,-999.0000,9,-999.0000,9,-999.0000,9,-999.0000,9,   2.0877,     -999.0,1,     -999.0,9,     -999.0,9,     -999.0,9,     -999.0,9,     -999.0,1,     -999.0,9,-999.0000, -999.00
33RO20071215,        P18,     166,          1,         23,      11023,2,20080212,       1350,   -66.2490,  -102.9967,       4810,    24.6,   2.0873,  33.8291,2,  33.8312,2,    332.2,2,   331.1,2,    5.30,2,   24.20,2,    0.17,2,    1.48,2,   5.692,2,   3.168,2,   2.1972,2,  2136.7,2,  2277.2,2,   -999.0,9,  -999.00,   7.7482,2,    25.00,-999.000,9,-999.0000,9, -999.00,9, -999.00,9,  -999.0,9,-999.000,9,-999.000,-999.000,9,-999.000,9, -999.00,9, -999.00,9, -999.00,9, -999.00,9, -999.00,1,-999.000,-999.0000,9,-999.0000,9,-999.0000,9,-999.0000,9,-999.0000,9,-999.0000,9,-999.0000,9,-999.0000,9,-999.0000,9,   2.0860,     -999.0,1,     -999.0,9,     -999.0,9,     -999.0,9,     -999.0,9,     -999.0,1,     -999.0,9,-999.0000, -999.00
33RO20071215,        P18,     166,          1,         22,      11022,2,20080212,       1350,   -66.2490,  -102.9967,       4810,    50.3,   2.0651,  33.8318,2,  33.8398,2,    332.1,2,   331.9,2,    5.70,2,   24.30,2,    0.17,2,    1.52,2,-999.000,9,-999.000,9,-999.0000,9,  2137.8,2,  2279.9,2,    870.4,3,    20.00,   7.7487,2,    25.00,-999.000,9,-999.0000,9, -999.00,9, -999.00,9,  -999.0,9,-999.000,9,-999.000,-999.000,9,-999.000,9, -999.00,9, -999.00,9, -999.00,9, -999.00,9, -999.00,1,-999.000,-999.0000,9,-999.0000,9,-999.0000,9,-999.0000,9,-999.0000,9,-999.0000,9,-999.0000,9,-999.0000,9,-999.0000,9,   2.0625,     -999.0,1,     -999.0,9,     -999.0,9,     -999.0,9,     -999.0,9,     -999.0,1,     -999.0,9,-999.0000, -999.00
33RO20071215,        P18,     166,          1,         21,      11021,2,20080212,       1350,   -66.2490,  -102.9967,       4810,    73.9,   0.9293,  33.9558,2,  33.8300,4,    334.8,2,   331.1,2,    5.40,2,   24.20,2,    0.17,2,    1.50,2,   5.705,2,   3.161,2,   2.2171,2,  2136.9,2,  2279.9,2,   -999.0,9,  -999.00,   7.7453,2,    25.00,-999.000,9,-999.0000,9, -999.00,9, -999.00,9,  -999.0,9,-999.000,9,-999.000,-999.000,9,-999.000,9, -999.00,9, -999.00,9, -999.00,9, -999.00,9, -999.00,1,-999.000,-999.0000,9,-999.0000,9,-999.0000,9,-999.0000,9,-999.0000,9,-999.0000,9,-999.0000,9,-999.0000,9,-999.0000,9,   0.9261,     -999.0,1,     -999.0,9,     -999.0,9,     -999.0,9,     -999.0,9,     -999.0,1,     -999.0,9,-999.0000, -999.00
33RO20071215,        P18,     166,          1,         20,      11020,2,20080212,       1350,   -66.2490,  -102.9967,       4810,    99.9,   0.3867,  33.9752,2,  33.9740,2,    334.8,2,   334.1,2,   25.40,2,   28.00,2,    0.18,2,    2.04,2,-999.000,9,-999.000,9,-999.0000,9,  2165.0,2,  2286.2,2,    860.2,2,    20.00,   7.6858,2,    25.00,-999.000,9,-999.0000,9, -999.00,9, -999.00,9,  -999.0,9,-999.000,9,-999.000,-999.000,9,-999.000,9, -999.00,9, -999.00,9, -999.00,9, -999.00,9, -999.00,1,-999.000,-999.0000,9,-999.0000,9,-999.0000,9,-999.0000,9,-999.0000,9,-999.0000,9,-999.0000,9,-999.0000,9,-999.0000,9,   0.3829,     -999.0,1,     -999.0,9,     -999.0,9,     -999.0,9,     -999.0,9,     -999.0,1,     -999.0,9,-999.0000, -999.00
33RO20071215,        P18,     166,          1,         19,      11019,2,20080212,       1350,   -66.2490,  -102.9967,       4810,   149.3,  -0.2454,  33.9835,2,  33.9858,2,    330.7,2,   332.8,2,   29.90,2,   29.60,2,    0.22,2,    2.07,2,   5.952,2,   3.279,2,   2.2753,2,  2169.8,2,  2287.4,2,   -999.0,9,  -999.00,   7.6683,2,    25.00,-999.000,9,-999.0000,9, -999.00,9, -999.00,9,  -999.0,9,-999.000,9,-999.000,-999.000,9,-999.000,9, -999.00,9, -999.00,9, -999.00,9, -999.00,9, -999.00,1,-999.000,-999.0000,9,-999.0000,9,-999.0000,9,-999.0000,9,-999.0000,9,-999.0000,9,-999.0000,9,-999.0000,9,-999.0000,9,  -0.2504,     -999.0,1,     -999.0,9,     -999.0,9,     -999.0,9,     -999.0,9,     -999.0,1,     -999.0,9,-999.0000, -999.00
33RO20071215,        P18,     166,          1,         18,      11018,2,20080212,       1350,   -66.2490,  -102.9967,       4810,   225.3,   1.1483,  34.1619,2,  34.1709,2,    267.7,2,   265.4,2,   43.50,2,   32.50,2,    0.02,2,    2.24,2,   4.030,2,   2.227,2,   1.4153,2,  2201.3,2,  2300.5,2,   1039.7,2,    20.00,   7.6087,2,    25.00,-999.000,9,-999.0000,9, -999.00,9, -999.00,9,  -999.0,9,-999.000,9,-999.000,-999.000,9,-999.000,9, -999.00,9, -999.00,9, -999.00,9, -999.00,9, -999.00,1,-999.000,-999.0000,9,-999.0000,9,-999.0000,9,-999.0000,9,-999.0000,9,-999.0000,9,-999.0000,9,-999.0000,9,-999.0000,9,   1.1380,     -999.0,1,     -999.0,9,     -999.0,9,     -999.0,9,     -999.0,9,     -999.0,1,     -999.0,9,-999.0000, -999.00
33RO20071215,        P18,     166,          1,         17,      11017,2,20080212,       1350,   -66.2490,  -102.9967,       4810,   300.6,   1.8455,  34.3144,2,  34.3149,2,    220.0,2,   220.2,2,   55.80,2,   34.30,2,    0.01,2,    2.35,2,   2.692,2,   1.428,2,   0.9084,2,  2224.4,2,  2310.4,2,   1155.8,2,    20.00,   7.5703,2,    25.00,-999.000,9,-999.0000,9, -999.00,9, -999.00,9,  -999.0,9,-999.000,9,-999.000,-999.000,9,-999.000,9, -999.00,9, -999.00,9, -999.00,9, -999.00,9, -999.00,1,-999.000,-999.0000,9,-999.0000,9,-999.0000,9,-999.0000,9,-999.0000,9,-999.0000,9,-999.0000,9,-999.0000,9,-999.0000,9,   1.8296,     -999.0,1,     -999.0,9,     -999.0,9,     -999.0,9,     -999.0,9,     -999.0,1,     -999.0,9,-999.0000, -999.00
33RO20071215,        P18,     166,          1,         16,      11016,2,20080212,       1350,   -66.2490,  -102.9967,       4810,   402.0,   2.1904,  34.4465,2,  34.4495,2,    187.8,2,   187.1,2,   65.90,2,   35.10,2,    0.01,2,    2.41,2,-999.000,9,-999.000,9,-999.0000,9,  2243.7,2,  2322.8,2,   1222.0,2,    20.00,   7.5504,2,    25.00,-999.000,9,-999.0000,9, -999.00,9, -999.00,9,  -999.0,9,-999.000,9,-999.000,-999.000,9,-999.000,9, -999.00,9, -999.00,9, -999.00,9, -999.00,9, -999.00,1,-999.000,-999.0000,9,-999.0000,9,-999.0000,9,-999.0000,9,-999.0000,9,-999.0000,9,-999.0000,9,-999.0000,9,-999.0000,9,   2.1676,     -999.0,1,     -999.0,9,     -999.0,9,     -999.0,9,     -999.0,9,     -999.0,1,     -999.0,9,-999.0000, -999.00
33RO20071215,        P18,     166,          1,         15,      11015,2,20080212,       1350,   -66.2490,  -102.9967,       4810,   500.7,   2.2166,  34.5223,2,  34.5220,2,    179.0,2,   178.2,2,   71.50,2,   35.00,2,    0.00,2,    2.40,2,   0.991,2,   0.503,2,   0.2796,2,  2249.5,2,  2325.0,2,   1230.1,2,    20.00,   7.5456,2,    25.00,-999.000,9,-999.0000,9, -999.00,9, -999.00,9,  -999.0,9,-999.000,9,-999.000,-999.000,9,-999.000,9, -999.00,9, -999.00,9, -999.00,9, -999.00,9, -999.00,1,-999.000,-999.0000,9,-999.0000,9,-999.0000,9,-999.0000,9,-999.0000,9,-999.0000,9,-999.0000,9,-999.0000,9,-999.0000,9,   2.1877,     -999.0,1,     -999.0,9,     -999.0,9,     -999.0,9,     -999.0,9,     -999.0,1,     -999.0,9,-999.0000, -999.00
33RO20071215,        P18,     166,          1,         14,      11014,2,20080212,       1350,   -66.2490,  -102.9967,       4810,   643.5,   2.2175,  34.5945,2,  34.5947,2,    175.2,2,   174.9,2,   76.30,2,   34.40,2,    0.00,2,    2.37,2,   0.602,2,   0.308,2,   0.0435,6,  2252.8,6,  2337.8,2,   1210.5,2,    20.00,   7.5542,2,    25.00,-999.000,9,-999.0000,9, -999.00,9, -999.00,9,  -999.0,9,-999.000,9,-999.000,-999.000,9,-999.000,9, -999.00,9, -999.00,9, -999.00,9, -999.00,9, -999.00,1,-999.000,-999.0000,9,-999.0000,9,-999.0000,9,-999.0000,9,-999.0000,9,-999.0000,9,-999.0000,9,-999.0000,9,-999.0000,9,   2.1795,     -999.0,1,     -999.0,9,     -999.0,9,     -999.0,9,     -999.0,9,     -999.0,1,     -999.0,9,-999.0000, -999.00
33RO20071215,        P18,     166,          1,         13,      11013,2,20080212,       1350,   -66.2490,  -102.9967,       4810,   800.0,   2.1628,  34.6517,2,  34.6550,2,    175.9,2,   175.0,2,   80.20,2,   33.70,2,    0.00,2,    2.32,2,   0.391,2,   0.196,2,   0.0000,2,  2253.7,2,  2342.3,2,   1181.3,2,    20.00,   7.5635,2,    25.00,-999.000,9,-999.0000,9, -999.00,9, -999.00,9,  -999.0,9,-999.000,9,-999.000,-999.000,9,-999.000,9, -999.00,9, -999.00,9, -999.00,9, -999.00,9, -999.00,1,-999.000,-999.0000,9,-999.0000,9,-999.0000,9,-999.0000,9,-999.0000,9,-999.0000,9,-999.0000,9,-999.0000,9,-999.0000,9,   2.1148,     -999.0,1,     -999.0,9,     -999.0,9,     -999.0,9,     -999.0,9,     -999.0,1,     -999.0,9,-999.0000, -999.00
33RO20071215,        P18,     166,          1,         12,      11012,2,20080212,       1350,   -66.2490,  -102.9967,       4810,   949.9,   2.0948,  34.6886,2,  34.6891,2,    178.8,2,   179.0,2,   83.00,2,   32.80,2,    0.00,2,    2.27,2,-999.000,9,-999.000,9,-999.0000,9,  2252.9,2,  2346.1,2,   1144.3,2,    20.00,   7.5741,2,    25.00,-999.000,9,-999.0000,9, -999.00,9, -999.00,9,  -999.0,9,-999.000,9,-999.000,-999.000,9,-999.000,9, -999.00,9, -999.00,9, -999.00,9, -999.00,9, -999.00,1,-999.000,-999.0000,9,-999.0000,9,-999.0000,9,-999.0000,9,-999.0000,9,-999.0000,9,-999.0000,9,-999.0000,9,-999.0000,9,   2.0371,     -999.0,1,     -999.0,9,     -999.0,9,     -999.0,9,     -999.0,9,     -999.0,1,     -999.0,9,-999.0000, -999.00
33RO20071215,        P18,     166,          1,         11,      11010,2,20080212,       1350,   -66.2490,  -102.9967,       4810,  1101.0,   2.0019,  34.7116,2,  34.7123,2,    182.8,2,   182.4,2,   85.70,2,   32.40,2,    0.00,2,    2.23,2,   0.223,2,   0.112,2,   0.0000,2,  2252.6,2,  2344.5,2,   -999.0,9,  -999.00,   7.5890,2,    25.00,-999.000,9,-999.0000,9, -999.00,9, -999.00,9,  -999.0,9,-999.000,9,-999.000,-999.000,9,-999.000,9, -999.00,9, -999.00,9, -999.00,9, -999.00,9, -999.00,1,-999.000,-999.0000,9,-999.0000,9,-999.0000,9,-999.0000,9,-999.0000,9,-999.0000,9,-999.0000,9,-999.0000,9,-999.0000,9,   1.9345,     -999.0,1,     -999.0,9,     -999.0,9,     -999.0,9,     -999.0,9,     -999.0,1,     -999.0,9,-999.0000, -999.00
33RO20071215,        P18,     166,          1,         10,      11011,2,20080212,       1350,   -66.2490,  -102.9967,       4810,  1299.0,   1.8577,  34.7273,2,  34.7278,2,    187.2,2,   186.8,2,   89.60,2,   32.00,2,    0.00,2,    2.20,2,   0.163,2,   0.083,2,   0.0000,2,  2252.3,2,  2348.4,2,   1096.5,2,    20.00,   7.5978,2,    25.00,-999.000,9,-999.0000,9, -999.00,9, -999.00,9,  -999.0,9,-999.000,9,-999.000,-999.000,9,-999.000,9, -999.00,9, -999.00,9, -999.00,9, -999.00,9, -999.00,1,-999.000,-999.0000,9,-999.0000,9,-999.0000,9,-999.0000,9,-999.0000,9,-999.0000,9,-999.0000,9,-999.0000,9,-999.0000,9,   1.7775,     -999.0,1,     -999.0,9,     -999.0,9,     -999.0,9,     -999.0,9,     -999.0,1,     -999.0,9,-999.0000, -999.00
33RO20071215,        P18,     166,          1,          9,      11009,2,20080212,       1350,   -66.2490,  -102.9967,       4810,  1598.8,   1.6020,  34.7335,2,  34.7341,2,    191.7,2,   191.7,2,   97.80,2,   32.00,2,    0.00,2,    2.21,2,   0.119,2,   0.057,2,   0.0000,2,  2254.4,2,  2353.3,2,   1081.4,2,    20.00,   7.6008,2,    25.00,-999.000,9,-999.0000,9, -999.00,9, -999.00,9,  -999.0,9,-999.000,9,-999.000,-999.000,9,-999.000,9, -999.00,9, -999.00,9, -999.00,9, -999.00,9, -999.00,1,-999.000,-999.0000,9,-999.0000,9,-999.0000,9,-999.0000,9,-999.0000,9,-999.0000,9,-999.0000,9,-999.0000,9,-999.0000,9,   1.5026,     -999.0,1,     -999.0,9,     -999.0,9,     -999.0,9,     -999.0,9,     -999.0,1,     -999.0,9,-999.0000, -999.00
33RO20071215,        P18,     166,          1,          8,      11008,2,20080212,       1350,   -66.2490,  -102.9967,       4810,  2000.7,   1.3080,  34.7294,2,  34.7289,2,    195.7,2,   196.3,2,  107.20,2,   32.20,2,    0.00,2,    2.22,2,   0.089,2,   0.046,2,   0.0000,2,  2257.9,2,  2358.5,2,   1080.5,2,    20.00,   7.6073,2,    25.00,-999.000,9,-999.0000,9, -999.00,9, -999.00,9,  -999.0,9,-999.000,9,-999.000,   0.099,3,-999.000,9, -999.00,9, -999.00,9, -999.00,9, -999.00,9, -999.00,1,-999.000,-999.0000,9,-999.0000,9,-999.0000,9,-999.0000,9,-999.0000,9,-999.0000,9,-999.0000,9,-999.0000,9,-999.0000,9,   1.1817,     -999.0,1,     -999.0,9,     -999.0,9,     -999.0,9,     -999.0,9,     -999.0,1,     -999.0,9,-999.0000, -999.00
33RO20071215,        P18,     166,          1,          7,      11007,2,20080212,       1350,   -66.2490,  -102.9967,       4810,  2399.4,   1.0813,  34.7228,2,  34.7230,2,    200.5,2,   200.1,2,  114.40,2,   32.40,2,    0.00,2,    2.24,2,   0.086,2,   0.043,2,   0.0000,2,  2258.7,2,  2358.2,2,   1078.7,2,    20.00,   7.6064,2,    25.00,-999.000,9,-999.0000,9, -999.00,9, -999.00,9,  -999.0,9,-999.000,9,-999.000,   0.118,3,-999.000,9, -999.00,9, -999.00,9, -999.00,9, -999.00,9, -999.00,1,-999.000,-999.0000,9,-999.0000,9,-999.0000,9,-999.0000,9,-999.0000,9,-999.0000,9,-999.0000,9,-999.0000,9,-999.0000,9,   0.9264,     -999.0,1,     -999.0,9,     -999.0,9,     -999.0,9,     -999.0,9,     -999.0,1,     -999.0,9,-999.0000, -999.00
33RO20071215,        P18,     166,          1,          6,      11006,2,20080212,       1350,   -66.2490,  -102.9967,       4810,  2899.5,   0.8502,  34.7143,2,  34.7139,2,    204.9,2,   204.9,2,  122.50,2,   32.80,2,    0.00,2,    2.26,2,   0.120,2,   0.060,2,   0.0000,2,  2261.0,6,  2358.5,2,   1083.6,6,    20.00,   7.5923,2,    25.00,-999.000,9,-999.0000,9, -999.00,9, -999.00,9,  -999.0,9,-999.000,9,-999.000,   0.154,3,-999.000,9, -999.00,9, -999.00,9, -999.00,9, -999.00,9, -999.00,1,-999.000,-999.0000,9,-999.0000,9,-999.0000,9,-999.0000,9,-999.0000,9,-999.0000,9,-999.0000,9,-999.0000,9,-999.0000,9,   0.6566,     -999.0,1,     -999.0,9,     -999.0,9,     -999.0,9,     -999.0,9,     -999.0,1,     -999.0,9,-999.0000, -999.00
33RO20071215,        P18,     166,          1,          5,      11005,2,20080212,       1350,   -66.2490,  -102.9967,       4810,  3401.0,   0.6393,  34.7086,2,  34.7087,2,    209.4,2,   208.9,2,  127.90,2,   32.80,2,    0.00,2,    2.27,2,   0.169,2,   0.085,2,   0.0000,2,  2259.8,2,  2358.1,2,   1084.3,2,    20.00,   7.6011,2,    25.00,-999.000,9,-999.0000,9, -999.00,9, -999.00,9,  -999.0,9,-999.000,9,-999.000,   0.181,3,-999.000,9, -999.00,9, -999.00,9, -999.00,9, -999.00,9, -999.00,1,-999.000,-999.0000,9,-999.0000,9,-999.0000,9,-999.0000,9,-999.0000,9,-999.0000,9,-999.0000,9,-999.0000,9,-999.0000,9,   0.4043,     -999.0,1,     -999.0,9,     -999.0,9,     -999.0,9,     -999.0,9,     -999.0,1,     -999.0,9,-999.0000, -999.00
33RO20071215,        P18,     166,          1,          4,      11004,2,20080212,       1350,   -66.2490,  -102.9967,       4810,  3899.0,   0.4761,  34.7066,2,  34.7067,2,    213.9,2,   212.6,2,  133.30,6,   33.00,6,    0.00,6,    2.28,2,-999.000,9,-999.000,9,-999.0000,9,  2260.1,2,  2359.1,2,   -999.0,9,  -999.00,   7.6015,2,    25.00,-999.000,9,-999.0000,9, -999.00,9, -999.00,9,  -999.0,9,-999.000,9,-999.000,-999.000,9,-999.000,9, -999.00,9, -999.00,9, -999.00,9, -999.00,9, -999.00,1,-999.000,-999.0000,9,-999.0000,9,-999.0000,9,-999.0000,9,-999.0000,9,-999.0000,9,-999.0000,9,-999.0000,9,-999.0000,9,   0.1964,     -999.0,1,     -999.0,9,     -999.0,9,     -999.0,9,     -999.0,9,     -999.0,1,     -999.0,9,-999.0000, -999.00
33RO20071215,        P18,     166,          1,          3,      11003,2,20080212,       1350,   -66.2490,  -102.9967,       4810,  4399.6,   0.4053,  34.7051,2,  34.7048,2,    216.2,2,   215.1,2,  137.50,6,   33.10,6,    0.00,6,    2.27,2,   0.224,2,   0.113,2,   0.0000,2,  2261.0,2,  2360.0,2,   1072.4,2,    20.00,   7.5971,2,    25.00,-999.000,9,-999.0000,9, -999.00,9, -999.00,9,  -999.0,9,-999.000,9,-999.000,   0.258,3,-999.000,9, -999.00,9, -999.00,9, -999.00,9, -999.00,9, -999.00,1,-999.000,-999.0000,9,-999.0000,9,-999.0000,9,-999.0000,9,-999.0000,9,-999.0000,9,-999.0000,9,-999.0000,9,-999.0000,9,   0.0753,     -999.0,1,     -999.0,9,     -999.0,9,     -999.0,9,     -999.0,9,     -999.0,1,     -999.0,9,-999.0000, -999.00
33RO20071215,        P18,     166,          1,          2,      11002,2,20080212,       1350,   -66.2490,  -102.9967,       4810,  4649.5,   0.4016,  34.7044,2,  34.7078,2,    217.1,2,   215.9,2,  139.50,6,   33.10,6,    0.00,6,    2.28,2,   0.264,2,   0.132,2,   0.0000,2,  2261.5,2,  2362.5,2,   -999.0,9,  -999.00,   7.5964,2,    25.00,-999.000,9,-999.0000,9, -999.00,9, -999.00,9,  -999.0,9,-999.000,9,-999.000,   0.278,3,-999.000,9, -999.00,9, -999.00,9, -999.00,9, -999.00,9, -999.00,1,-999.000,-999.0000,9,-999.0000,9,-999.0000,9,-999.0000,9,-999.0000,9,-999.0000,9,-999.0000,9,-999.0000,9,-999.0000,9,   0.0443,     -999.0,1,     -999.0,9,     -999.0,9,     -999.0,9,     -999.0,9,     -999.0,1,     -999.0,9,-999.0000, -999.00
33RO20071215,        P18,     166,          1,          1,      11001,2,20080212,       1350,   -66.2490,  -102.9967,       4810,  4898.8,   0.4124,  34.7038,2,  34.7080,3,    218.1,2,   215.8,2,  143.70,2,   33.20,2,    0.01,2,    2.29,2,   0.315,2,   0.157,2,   0.0000,2,  2263.7,6,  2362.1,2,   1067.6,2,    20.00,   7.6024,2,    25.00,-999.000,9,-999.0000,9, -999.00,9, -999.00,9,  -999.0,9,-999.000,9,-999.000,   0.328,3,-999.000,9, -999.00,9, -999.00,9, -999.00,9, -999.00,9, -999.00,1,-999.000,-999.0000,9,-999.0000,9,-999.0000,9,-999.0000,9,-999.0000,9,-999.0000,9,-999.0000,9,-999.0000,9,-999.0000,9,   0.0267,     -999.0,1,     -999.0,9,     -999.0,9,     -999.0,9,     -999.0,9,     -999.0,1,     -999.0,9,-999.0000, -999.00