BOTTLE,20220818CCHSIOAMB
EXPOCODE,SECT_ID,STNNBR,CASTNO,SAMPNO,BTLNBR,BTLNBR_FLAG_W,DATE,TIME,LATITUDE,LONGITUDE,DEPTH,CTDPRS,CTDTMP,CTDSAL,CTDSAL_FLAG_W,SALNTY,SALNTY_FLAG_W,CTDOXY,CTDOXY_FLAG_W,OXYGEN,OXYGEN_FLAG_W,SILCAT,SILCAT_FLAG_W,NITRAT,NITRAT_FLAG_W,NITRIT,NITRIT_FLAG_W,PHSPHT,PHSPHT_FLAG_W,CFC-11,CFC-11_FLAG_W,CFC-12,CFC-12_FLAG_W,SF6,SF6_FLAG_W,TCARBN,TCARBN_FLAG_W,ALKALI,ALKALI_FLAG_W,FCO2,FCO2_FLAG_W,FCO2TMP,PH_SWS,PH_SWS_FLAG_W,PH_TMP,TRITUM,TRITUM_FLAG_W,HELIUM,HELIUM_FLAG_W,DELHE3,DELHE3_FLAG_W,DELC13,DELC13_FLAG_W,DELC14,DELC14_FLAG_W,NEON,NEON_FLAG_W,NEONER,CCL4,CCL4_FLAG_W,POC,POC_FLAG_W,DOC,DOC_FLAG_W,TDN,TDN_FLAG_W,DON,DON_FLAG_W,CHLORA,CHLORA_FLAG_W,ARGON,ARGON_FLAG_W,TRITER,CDOM325,CDOM325_FLAG_W,CDOM340,CDOM340_FLAG_W,CDOM380,CDOM380_FLAG_W,CDOM412,CDOM412_FLAG_W,CDOM443,CDOM443_FLAG_W,CDOM490,CDOM490_FLAG_W,CDOM555,CDOM555_FLAG_W,CDOMSL,CDOMSL_FLAG_W,CDOMSN,CDOMSN_FLAG_W,THETA,D18O_NO3,D18O_NO3_FLAG_W,CDOM2C,CDOM2C_FLAG_W,CDOM3C,CDOM3C_FLAG_W,LAB_DEN,LAB_DEN_FLAG_W,DELSI30,DELSI30_FLAG_W,N2,N2_FLAG_W,D15N_NO3,D15N_NO3_FLAG_W,HELIER,DELHER
,,,,,,,,,,,METERS,DBAR,ITS-90,PSS-78,,PSS-78,,UMOL/KG,,UMOL/KG,,UMOL/KG,,UMOL/KG,,UMOL/KG,,UMOL/KG,,PMOL/KG,,PMOL/KG,,FMOL/KG,,UMOL/KG,,UMOL/KG,,UATM,,DEG C,,,DEG C,TU,,NMOL/KG,,PERCNT,,/MILLE,,/MILLE,,NMOL/KG,,NMOL/KG,PMOL/KG,,UG/KG,,UMOL/KG,,UMOL/KG,,UMOL/KG,,UG/KG,,UMOL/KG,,TU,1/M,,1/M,,1/M,,1/M,,1/M,,1/M,,1/M,,1/NM,,1/NM,,DEG C,/MILLE,,,,,,,,/MILLE,,UMOL/KG,,/MILLE,,NMOL/KG,PERCNT
33RO20071215,        P18,     132,          1,         11,      12003,2,20080201,       1816,   -47.9167,  -103.0008,       4059,  1932.6,   2.3506,  34.6315,2,  34.6300,2,    166.2,2,   165.8,2,   87.40,2,   34.20,2,    0.00,2,    2.47,2,   0.096,2,   0.050,2,   0.0000,2,  2263.5,2,  2356.0,2,   -999.0,9,  -999.00,   7.5718,2,    25.00,-999.000,9,-999.0000,9, -999.00,9, -999.00,9,  -999.0,9,-999.000,9,-999.000,-999.000,9,-999.000,9,   39.07,2,   35.51,2, -999.00,9, -999.00,9, -999.00,9,-999.000,   0.1216,2,   0.0816,2,   0.0415,2,   0.0282,2,   0.0172,2,   0.0070,2,   0.0021,2,   0.0156,2,   0.0177,2,   2.2146,     -999.0,9,     -999.0,9,     -999.0,9,     -999.0,9,     -999.0,9,     -999.0,9,     -999.0,9,-999.0000, -999.00
33RO20071215,        P18,     132,          1,         10,      12032,2,20080201,       1816,   -47.9167,  -103.0008,       4059,  2133.2,   2.1912,  34.6673,2,  34.6671,2,    167.7,2,   168.0,2,   93.80,2,   33.80,2,    0.00,2,    2.41,2,-999.000,9,-999.000,9,-999.0000,9,  2268.2,2,  -999.0,5,   -999.0,9,  -999.00,   7.5776,2,    25.00,-999.000,9,-999.0000,9, -999.00,9, -999.00,9,  -999.0,9,-999.000,9,-999.000,-999.000,9,-999.000,9,   39.66,2,   34.95,2, -999.00,9, -999.00,9, -999.00,9,-999.000,   0.1176,2,   0.0778,2,   0.0384,2,   0.0254,2,   0.0150,2,   0.0053,2,   0.0011,2,   0.0164,2,   0.0188,2,   2.0402,     -999.0,9,     -999.0,9,     -999.0,9,     -999.0,9,     -999.0,9,     -999.0,9,     -999.0,9,-999.0000, -999.00
33RO20071215,        P18,     132,          1,          9,      12002,2,20080201,       1816,   -47.9167,  -103.0008,       4059,  2332.3,   2.0489,  34.6886,2,  34.6884,2,    170.9,2,   170.7,2,   99.10,2,   33.60,2,    0.00,2,    2.40,2,   0.030,2,   0.016,2,   0.0000,2,  2271.3,2,  2366.4,2,   -999.0,9,  -999.00,   7.5838,2,    25.00,-999.000,9,-999.0000,9, -999.00,9, -999.00,9,  -999.0,9,-999.000,9,-999.000,   0.067,3,-999.000,9,   39.06,2,   34.85,2, -999.00,9, -999.00,9, -999.00,9,-999.000,   0.1163,2,   0.0768,2,   0.0376,2,   0.0244,2,   0.0144,2,   0.0052,2,   0.0012,2,   0.0166,2,   0.0191,2,   1.8827,     -999.0,9,     -999.0,9,     -999.0,9,     -999.0,9,     -999.0,9,     -999.0,9,     -999.0,9,-999.0000, -999.00
33RO20071215,        P18,     132,          1,          8,      12021,2,20080201,       1816,   -47.9167,  -103.0008,       4059,  2532.8,   1.8910,  34.6991,2,  34.6990,2,    172.6,2,   172.4,2,  105.50,2,   33.50,2,    0.00,2,    2.38,2,-999.000,9,-999.000,9,-999.0000,9,  2275.3,2,  2373.1,2,   -999.0,9,  -999.00,   7.5851,2,    25.00,-999.000,9,-999.0000,9, -999.00,9, -999.00,9,  -999.0,9,-999.000,9,-999.000,-999.000,9,-999.000,9, -999.00,9, -999.00,9, -999.00,9, -999.00,9, -999.00,9,-999.000,   0.1156,2,   0.0762,2,   0.0372,2,   0.0241,2,   0.0142,2,   0.0050,2,   0.0010,2,   0.0167,2,   0.0192,2,   1.7096,     -999.0,9,     -999.0,9,     -999.0,9,     -999.0,9,     -999.0,9,     -999.0,9,     -999.0,9,-999.0000, -999.00
33RO20071215,        P18,     132,          1,          7,      12001,2,20080201,       1816,   -47.9167,  -103.0008,       4059,  2728.5,   1.7700,  34.7035,2,  34.7070,2,    174.9,2,   174.3,2,  109.70,2,   33.50,2,    0.00,2,    2.37,2,   0.010,2,   0.005,2,   0.0000,2,  2278.4,2,  2375.1,2,   -999.0,9,  -999.00,   7.5953,2,    25.00,-999.000,9,-999.0000,9, -999.00,9, -999.00,9,  -999.0,9,-999.000,9,-999.000,   0.033,3,-999.000,9,   39.13,2,   34.82,2, -999.00,9, -999.00,9, -999.00,9,-999.000,   0.1177,2,   0.0783,2,   0.0386,2,   0.0250,2,   0.0150,2,   0.0056,2,   0.0015,2,   0.0165,2,   0.0188,2,   1.5729,     -999.0,9,     -999.0,9,     -999.0,9,     -999.0,9,     -999.0,9,     -999.0,9,     -999.0,9,-999.0000, -999.00
33RO20071215,        P18,     132,          1,          6,      12033,2,20080201,       1816,   -47.9167,  -103.0008,       4059,  2932.7,   1.6698,  34.7074,2,  34.7069,2,    178.3,2,   178.7,2,  112.20,2,   33.50,2,    0.00,2,    2.36,2,-999.000,9,-999.000,9,-999.0000,9,  2276.5,2,  2376.9,2,   -999.0,9,  -999.00,   7.5999,2,    25.00,-999.000,9,-999.0000,9, -999.00,9, -999.00,9,  -999.0,9,-999.000,9,-999.000,-999.000,9,-999.000,9,   39.39,2,   34.61,2, -999.00,9, -999.00,9, -999.00,9,-999.000,   0.1155,2,   0.0762,2,   0.0371,2,   0.0239,2,   0.0141,2,   0.0052,2,   0.0013,2,   0.0167,2,   0.0193,2,   1.4555,     -999.0,9,     -999.0,9,     -999.0,9,     -999.0,9,     -999.0,9,     -999.0,9,     -999.0,9,-999.0000, -999.00
33RO20071215,        P18,     132,          1,          5,      12008,2,20080201,       1816,   -47.9167,  -103.0008,       4059,  3161.5,   1.5885,  34.7116,2,  34.7107,2,    182.6,2,   182.8,2,  113.40,2,   33.20,2,    0.00,2,    2.35,2,   0.010,6,   0.005,6,   0.0000,6,  2271.2,2,  2371.2,2,   -999.0,9,  -999.00,   7.6048,2,    25.00,-999.000,9,-999.0000,9, -999.00,9, -999.00,9,  -999.0,9,-999.000,9,-999.000,   0.032,3,-999.000,9,   39.47,2,   34.89,2, -999.00,9, -999.00,9, -999.00,9,-999.000,   0.1155,2,   0.0761,2,   0.0369,2,   0.0238,2,   0.0140,2,   0.0050,2,   0.0011,2,   0.0168,2,   0.0194,2,   1.3539,     -999.0,9,     -999.0,9,     -999.0,9,     -999.0,9,     -999.0,9,     -999.0,9,     -999.0,9,-999.0000, -999.00
33RO20071215,        P18,     132,          1,          4,      12009,2,20080201,       1816,   -47.9167,  -103.0008,       4059,  3415.7,   1.4452,  34.7131,2,  34.7155,2,    187.5,2,   187.1,2,  117.20,6,   33.10,6,    0.00,6,    2.34,2,-999.000,9,-999.000,9,-999.0000,9,  2273.6,2,  2376.9,2,   -999.0,9,  -999.00,   7.5965,2,    25.00,-999.000,9,-999.0000,9, -999.00,9, -999.00,9,  -999.0,9,-999.000,9,-999.000,-999.000,9,-999.000,9,   39.34,2,   34.41,2, -999.00,9, -999.00,9, -999.00,9,-999.000,   0.1127,2,   0.0737,2,   0.0352,2,   0.0226,2,   0.0129,2,   0.0042,2,   0.0006,3,   0.0172,2,   0.0199,2,   1.1887,     -999.0,9,     -999.0,9,     -999.0,9,     -999.0,9,     -999.0,9,     -999.0,9,     -999.0,9,-999.0000, -999.00
33RO20071215,        P18,     132,          1,          3,      12006,2,20080201,       1816,   -47.9167,  -103.0008,       4059,  3666.4,   1.1843,  34.7111,2,  34.7150,3,    193.9,2,   193.3,2,  124.40,6,   33.20,6,    0.00,6,    2.34,2,   0.003,2,   0.001,2,   0.0000,2,  2274.7,2,  2382.1,2,   -999.0,9,  -999.00,   7.6127,2,    25.00,-999.000,9,-999.0000,9, -999.00,9, -999.00,9,  -999.0,9,-999.000,9,-999.000,   0.024,3,-999.000,9,   38.80,3,   34.46,3, -999.00,9, -999.00,9, -999.00,9,-999.000,   0.1101,2,   0.0716,2,   0.0340,2,   0.0213,2,   0.0121,2,   0.0041,2,   0.0006,2,   0.0176,2,   0.0203,2,   0.9090,     -999.0,9,     -999.0,9,     -999.0,9,     -999.0,9,     -999.0,9,     -999.0,9,     -999.0,9,-999.0000, -999.00
33RO20071215,        P18,     132,          1,          2,      12007,2,20080201,       1816,   -47.9167,  -103.0008,       4059,  3916.3,   0.9451,  34.7102,2,  34.7126,2,    200.8,2,   199.8,2,  130.00,6,   33.10,6,    0.00,6,    2.34,2,-999.000,9,-999.000,9,-999.0000,9,  2272.5,2,  2380.5,2,   -999.0,9,  -999.00,   7.6254,2,    25.00,-999.000,9,-999.0000,9, -999.00,9, -999.00,9,  -999.0,9,-999.000,9,-999.000,-999.000,9,-999.000,9,   38.51,2,   34.82,2, -999.00,9, -999.00,9, -999.00,9,-999.000,   0.1116,2,   0.0726,2,   0.0341,2,   0.0213,2,   0.0120,2,   0.0038,2,   0.0005,3,   0.0177,2,   0.0205,2,   0.6504,     -999.0,9,     -999.0,9,     -999.0,9,     -999.0,9,     -999.0,9,     -999.0,9,     -999.0,9,-999.0000, -999.00
33RO20071215,        P18,     132,          1,          1,      12035,2,20080201,       1816,   -47.9167,  -103.0008,       4059,  4118.6,   0.8837,  34.7098,2,  34.7191,4,    203.7,2,   202.8,2,  131.80,2,   33.00,2,    0.01,2,    2.34,2,   0.005,2,   0.003,2,   0.0000,2,  2271.8,6,  2381.1,2,   -999.0,9,  -999.00,   7.6141,2,    25.00,-999.000,9,-999.0000,9, -999.00,9, -999.00,9,  -999.0,9,-999.000,9,-999.000,   0.043,3,-999.000,9,   39.87,3,   33.93,3, -999.00,9, -999.00,9, -999.00,9,-999.000,   0.1130,2,   0.0739,2,   0.0352,2,   0.0223,2,   0.0126,2,   0.0043,2,   0.0006,2,   0.0174,2,   0.0201,2,   0.5694,     -999.0,9,     -999.0,9,     -999.0,9,     -999.0,9,     -999.0,9,     -999.0,9,     -999.0,9,-999.0000, -999.00