BOTTLE,20220818CCHSIOAMB
EXPOCODE,SECT_ID,STNNBR,CASTNO,SAMPNO,BTLNBR,BTLNBR_FLAG_W,DATE,TIME,LATITUDE,LONGITUDE,DEPTH,CTDPRS,CTDTMP,CTDSAL,CTDSAL_FLAG_W,SALNTY,SALNTY_FLAG_W,CTDOXY,CTDOXY_FLAG_W,OXYGEN,OXYGEN_FLAG_W,SILCAT,SILCAT_FLAG_W,NITRAT,NITRAT_FLAG_W,NITRIT,NITRIT_FLAG_W,PHSPHT,PHSPHT_FLAG_W,CFC-11,CFC-11_FLAG_W,CFC-12,CFC-12_FLAG_W,SF6,SF6_FLAG_W,TCARBN,TCARBN_FLAG_W,ALKALI,ALKALI_FLAG_W,FCO2,FCO2_FLAG_W,FCO2TMP,PH_SWS,PH_SWS_FLAG_W,PH_TMP,TRITUM,TRITUM_FLAG_W,HELIUM,HELIUM_FLAG_W,DELHE3,DELHE3_FLAG_W,DELC13,DELC13_FLAG_W,DELC14,DELC14_FLAG_W,NEON,NEON_FLAG_W,NEONER,CCL4,CCL4_FLAG_W,POC,POC_FLAG_W,DOC,DOC_FLAG_W,TDN,TDN_FLAG_W,DON,DON_FLAG_W,CHLORA,CHLORA_FLAG_W,ARGON,ARGON_FLAG_W,TRITER,CDOM325,CDOM325_FLAG_W,CDOM340,CDOM340_FLAG_W,CDOM380,CDOM380_FLAG_W,CDOM412,CDOM412_FLAG_W,CDOM443,CDOM443_FLAG_W,CDOM490,CDOM490_FLAG_W,CDOM555,CDOM555_FLAG_W,CDOMSL,CDOMSL_FLAG_W,CDOMSN,CDOMSN_FLAG_W,THETA,D18O_NO3,D18O_NO3_FLAG_W,CDOM2C,CDOM2C_FLAG_W,CDOM3C,CDOM3C_FLAG_W,LAB_DEN,LAB_DEN_FLAG_W,DELSI30,DELSI30_FLAG_W,N2,N2_FLAG_W,D15N_NO3,D15N_NO3_FLAG_W,HELIER,DELHER
,,,,,,,,,,,METERS,DBAR,ITS-90,PSS-78,,PSS-78,,UMOL/KG,,UMOL/KG,,UMOL/KG,,UMOL/KG,,UMOL/KG,,UMOL/KG,,PMOL/KG,,PMOL/KG,,FMOL/KG,,UMOL/KG,,UMOL/KG,,UATM,,DEG C,,,DEG C,TU,,NMOL/KG,,PERCNT,,/MILLE,,/MILLE,,NMOL/KG,,NMOL/KG,PMOL/KG,,UG/KG,,UMOL/KG,,UMOL/KG,,UMOL/KG,,UG/KG,,UMOL/KG,,TU,1/M,,1/M,,1/M,,1/M,,1/M,,1/M,,1/M,,1/NM,,1/NM,,DEG C,/MILLE,,,,,,,,/MILLE,,UMOL/KG,,/MILLE,,NMOL/KG,PERCNT
33RO20071215,        P18,      40,          1,         11,      12003,2,20071228,       0733,     2.0417,  -110.0322,       3766,  1798.8,   2.7333,  34.6225,2,  34.6213,2,     93.5,2,   102.8,3,  131.00,2,   40.00,2,    0.00,2,    2.72,2,   0.001,2,   0.001,2,   0.0000,2,  2342.4,2,  2403.5,2,   1491.5,2,    20.00,   7.4825,2,    25.00,-999.000,9,-999.0000,9, -999.00,9, -999.00,9,  -999.0,9,-999.000,9,-999.000,-999.000,9,-999.000,9,   37.00,2,   41.04,2, -999.00,9, -999.00,9, -999.00,9,-999.000,-999.0000,9,-999.0000,9,-999.0000,9,-999.0000,9,-999.0000,9,-999.0000,9,-999.0000,9,-999.0000,9,-999.0000,9,   2.6034,     -999.0,9,     -999.0,9,     -999.0,9,     -999.0,9,     -999.0,9,     -999.0,9,     -999.0,9,-999.0000, -999.00
33RO20071215,        P18,      40,          1,         10,      12032,2,20071228,       0733,     2.0417,  -110.0322,       3766,  1998.8,   2.4187,  34.6382,2,  34.6383,2,     99.7,2,    98.9,2,  139.20,2,   39.70,2,    0.00,2,    2.69,2,   0.000,2,   0.001,2,   0.0000,2,  2347.5,6,  2408.8,2,   -999.0,9,  -999.00,   7.4800,2,    25.00,-999.000,9,-999.0000,9, -999.00,9, -999.00,9,  -999.0,9,-999.000,9,-999.000,-999.000,9,-999.000,9,   36.92,2,   41.32,2, -999.00,9, -999.00,9, -999.00,9,-999.000,-999.0000,9,-999.0000,9,-999.0000,9,-999.0000,9,-999.0000,9,-999.0000,9,-999.0000,9,-999.0000,9,-999.0000,9,   2.2760,     -999.0,9,     -999.0,9,     -999.0,9,     -999.0,9,     -999.0,9,     -999.0,9,     -999.0,9,-999.0000, -999.00
33RO20071215,        P18,      40,          1,          9,      12002,2,20071228,       0733,     2.0417,  -110.0322,       3766,  2200.1,   2.2049,  34.6476,2,  34.6480,2,    106.7,2,   106.3,2,  143.10,2,   39.30,2,    0.00,2,    2.64,2,   0.000,2,   0.001,2,   0.0000,2,  2347.0,2,  2418.9,2,   1399.4,2,    20.00,   7.5113,2,    25.00,-999.000,9,-999.0000,9, -999.00,9, -999.00,9,  -999.0,9,-999.000,9,-999.000,   0.002,3,-999.000,9,   36.62,2,   40.90,2, -999.00,9, -999.00,9, -999.00,9,-999.000,-999.0000,9,-999.0000,9,-999.0000,9,-999.0000,9,-999.0000,9,-999.0000,9,-999.0000,9,-999.0000,9,-999.0000,9,   2.0479,     -999.0,9,     -999.0,9,     -999.0,9,     -999.0,9,     -999.0,9,     -999.0,9,     -999.0,9,-999.0000, -999.00
33RO20071215,        P18,      40,          1,          8,      12021,2,20071228,       0733,     2.0417,  -110.0322,       3766,  2399.1,   1.9891,  34.6599,2,  34.6599,2,    114.1,2,   113.5,2,  148.10,2,   38.70,2,    0.00,2,    2.59,2,   0.000,2,   0.000,2,   0.0000,2,  2349.2,2,  2424.8,2,   -999.0,9,  -999.00,   7.5224,2,    25.00,-999.000,9,-999.0000,9, -999.00,9, -999.00,9,  -999.0,9,-999.000,9,-999.000,   0.001,3,-999.000,9,   37.53,2,   40.06,2, -999.00,9, -999.00,9, -999.00,9,-999.000,-999.0000,9,-999.0000,9,-999.0000,9,-999.0000,9,-999.0000,9,-999.0000,9,-999.0000,9,-999.0000,9,-999.0000,9,   1.8181,     -999.0,9,     -999.0,9,     -999.0,9,     -999.0,9,     -999.0,9,     -999.0,9,     -999.0,9,-999.0000, -999.00
33RO20071215,        P18,      40,          1,          7,      12001,2,20071228,       0733,     2.0417,  -110.0322,       3766,  2599.1,   1.8173,  34.6697,2,  34.6700,2,    120.6,2,   120.3,2,  151.80,2,   38.30,2,    0.00,2,    2.53,2,   0.000,2,   0.002,2,   0.0000,2,  2349.3,2,  2429.7,2,   1318.9,2,    20.00,   7.5264,2,    25.00,-999.000,9,-999.0000,9, -999.00,9, -999.00,9,  -999.0,9,-999.000,9,-999.000,   0.006,3,-999.000,9,   36.94,2,   39.49,2, -999.00,9, -999.00,9, -999.00,9,-999.000,-999.0000,9,-999.0000,9,-999.0000,9,-999.0000,9,-999.0000,9,-999.0000,9,-999.0000,9,-999.0000,9,-999.0000,9,   1.6313,     -999.0,9,     -999.0,9,     -999.0,9,     -999.0,9,     -999.0,9,     -999.0,9,     -999.0,9,-999.0000, -999.00
33RO20071215,        P18,      40,          1,          6,      12033,2,20071228,       0733,     2.0417,  -110.0322,       3766,  2799.2,   1.7769,  34.6717,2,  34.6721,2,    124.9,2,   124.7,2,  150.80,2,   38.00,2,    0.00,2,    2.51,2,-999.000,9,-999.000,9,-999.0000,9,  2345.8,2,  2424.7,2,   -999.0,9,  -999.00,   7.5270,2,    25.00,-999.000,9,-999.0000,9, -999.00,9, -999.00,9,  -999.0,9,-999.000,9,-999.000,-999.000,9,-999.000,9,   37.82,2,   39.60,2, -999.00,9, -999.00,9, -999.00,9,-999.000,-999.0000,9,-999.0000,9,-999.0000,9,-999.0000,9,-999.0000,9,-999.0000,9,-999.0000,9,-999.0000,9,-999.0000,9,   1.5731,     -999.0,9,     -999.0,9,     -999.0,9,     -999.0,9,     -999.0,9,     -999.0,9,     -999.0,9,-999.0000, -999.00
33RO20071215,        P18,      40,          1,          5,      12008,2,20071228,       0733,     2.0417,  -110.0322,       3766,  2999.8,   1.7242,  34.6740,2,  34.6741,2,    130.4,2,   130.0,2,  149.60,2,   37.70,2,    0.00,2,    2.48,2,   0.001,2,   0.000,2,   0.0000,2,  2341.5,2,  2425.2,2,   1264.1,2,    20.00,   7.5487,2,    25.00,-999.000,9,-999.0000,9, -999.00,9, -999.00,9,  -999.0,9,-999.000,9,-999.000,   0.004,3,-999.000,9,   38.46,2,   39.07,2, -999.00,9, -999.00,9, -999.00,9,-999.000,-999.0000,9,-999.0000,9,-999.0000,9,-999.0000,9,-999.0000,9,-999.0000,9,-999.0000,9,-999.0000,9,-999.0000,9,   1.5024,     -999.0,9,     -999.0,9,     -999.0,9,     -999.0,9,     -999.0,9,     -999.0,9,     -999.0,9,-999.0000, -999.00
33RO20071215,        P18,      40,          1,          4,      12009,2,20071228,       0733,     2.0417,  -110.0322,       3766,  3249.2,   1.6157,  34.6801,2,  34.6803,2,    138.9,2,   138.1,2,  149.50,6,   37.20,6,    0.00,6,    2.43,2,-999.000,9,-999.000,9,-999.0000,9,  2336.7,2,  2425.8,2,   -999.0,9,  -999.00,   7.5594,2,    25.00,-999.000,9,-999.0000,9, -999.00,9, -999.00,9,  -999.0,9,-999.000,9,-999.000,-999.000,9,-999.000,9,   38.92,2,   38.36,2, -999.00,9, -999.00,9, -999.00,9,-999.000,-999.0000,9,-999.0000,9,-999.0000,9,-999.0000,9,-999.0000,9,-999.0000,9,-999.0000,9,-999.0000,9,-999.0000,9,   1.3720,     -999.0,9,     -999.0,9,     -999.0,9,     -999.0,9,     -999.0,9,     -999.0,9,     -999.0,9,-999.0000, -999.00
33RO20071215,        P18,      40,          1,          3,      12006,2,20071228,       0733,     2.0417,  -110.0322,       3766,  3498.8,   1.5387,  34.6864,2,  34.6873,2,    143.6,2,   143.7,2,  152.00,6,   36.90,6,    0.00,6,    2.40,2,   0.000,2,   0.001,2,   0.0000,2,  2336.9,2,  2432.1,2,   1172.3,2,    20.00,   7.5819,2,    25.00,-999.000,9,-999.0000,9, -999.00,9, -999.00,9,  -999.0,9,-999.000,9,-999.000,   0.005,3,-999.000,9,   39.45,2,   38.24,2, -999.00,9, -999.00,9, -999.00,9,-999.000,-999.0000,9,-999.0000,9,-999.0000,9,-999.0000,9,-999.0000,9,-999.0000,9,-999.0000,9,-999.0000,9,-999.0000,9,   1.2717,     -999.0,9,     -999.0,9,     -999.0,9,     -999.0,9,     -999.0,9,     -999.0,9,     -999.0,9,-999.0000, -999.00
33RO20071215,        P18,      40,          1,          2,      12007,2,20071228,       0733,     2.0417,  -110.0322,       3766,  3649.9,   1.4933,  34.6894,2,  34.6894,2,    147.0,2,   147.3,2,  152.50,6,   36.70,6,    0.00,6,    2.38,2,-999.000,9,-999.000,9,-999.0000,9,  2336.1,2,  2434.1,2,   -999.0,9,  -999.00,   7.5843,2,    25.00,-999.000,9,-999.0000,9, -999.00,9, -999.00,9,  -999.0,9,-999.000,9,-999.000,-999.000,9,-999.000,9,   39.53,2,   38.09,2, -999.00,9, -999.00,9, -999.00,9,-999.000,-999.0000,9,-999.0000,9,-999.0000,9,-999.0000,9,-999.0000,9,-999.0000,9,-999.0000,9,-999.0000,9,-999.0000,9,   1.2118,     -999.0,9,     -999.0,9,     -999.0,9,     -999.0,9,     -999.0,9,     -999.0,9,     -999.0,9,-999.0000, -999.00
33RO20071215,        P18,      40,          1,          1,      12035,2,20071228,       0733,     2.0417,  -110.0322,       3766,  3800.6,   1.4798,  34.6906,2,  34.6902,2,    149.2,2,   148.7,2,  152.80,2,   36.60,2,    0.00,2,    2.36,2,   0.000,6,   0.001,6,   0.0000,6,  2336.9,6,  2432.7,2,   1141.1,2,    20.00,   7.5738,2,    25.00,-999.000,9,-999.0000,9, -999.00,9, -999.00,9,  -999.0,9,-999.000,9,-999.000,   0.003,3,-999.000,9,   38.85,2,   38.15,2, -999.00,9, -999.00,9, -999.00,9,-999.000,-999.0000,9,-999.0000,9,-999.0000,9,-999.0000,9,-999.0000,9,-999.0000,9,-999.0000,9,-999.0000,9,-999.0000,9,   1.1828,     -999.0,9,     -999.0,9,     -999.0,9,     -999.0,9,     -999.0,9,     -999.0,9,     -999.0,9,-999.0000, -999.00