BOTTLE,20220818CCHSIOAMB
EXPOCODE,SECT_ID,STNNBR,CASTNO,SAMPNO,BTLNBR,BTLNBR_FLAG_W,DATE,TIME,LATITUDE,LONGITUDE,DEPTH,CTDPRS,CTDTMP,CTDSAL,CTDSAL_FLAG_W,SALNTY,SALNTY_FLAG_W,CTDOXY,CTDOXY_FLAG_W,OXYGEN,OXYGEN_FLAG_W,SILCAT,SILCAT_FLAG_W,NITRAT,NITRAT_FLAG_W,NITRIT,NITRIT_FLAG_W,PHSPHT,PHSPHT_FLAG_W,CFC-11,CFC-11_FLAG_W,CFC-12,CFC-12_FLAG_W,SF6,SF6_FLAG_W,TCARBN,TCARBN_FLAG_W,ALKALI,ALKALI_FLAG_W,FCO2,FCO2_FLAG_W,FCO2TMP,PH_SWS,PH_SWS_FLAG_W,PH_TMP,TRITUM,TRITUM_FLAG_W,HELIUM,HELIUM_FLAG_W,DELHE3,DELHE3_FLAG_W,DELC13,DELC13_FLAG_W,DELC14,DELC14_FLAG_W,NEON,NEON_FLAG_W,NEONER,CCL4,CCL4_FLAG_W,POC,POC_FLAG_W,DOC,DOC_FLAG_W,TDN,TDN_FLAG_W,DON,DON_FLAG_W,CHLORA,CHLORA_FLAG_W,ARGON,ARGON_FLAG_W,TRITER,CDOM325,CDOM325_FLAG_W,CDOM340,CDOM340_FLAG_W,CDOM380,CDOM380_FLAG_W,CDOM412,CDOM412_FLAG_W,CDOM443,CDOM443_FLAG_W,CDOM490,CDOM490_FLAG_W,CDOM555,CDOM555_FLAG_W,CDOMSL,CDOMSL_FLAG_W,CDOMSN,CDOMSN_FLAG_W,THETA,D18O_NO3,D18O_NO3_FLAG_W,CDOM2C,CDOM2C_FLAG_W,CDOM3C,CDOM3C_FLAG_W,LAB_DEN,LAB_DEN_FLAG_W,DELSI30,DELSI30_FLAG_W,N2,N2_FLAG_W,D15N_NO3,D15N_NO3_FLAG_W,HELIER,DELHER
,,,,,,,,,,,METERS,DBAR,ITS-90,PSS-78,,PSS-78,,UMOL/KG,,UMOL/KG,,UMOL/KG,,UMOL/KG,,UMOL/KG,,UMOL/KG,,PMOL/KG,,PMOL/KG,,FMOL/KG,,UMOL/KG,,UMOL/KG,,UATM,,DEG C,,,DEG C,TU,,NMOL/KG,,PERCNT,,/MILLE,,/MILLE,,NMOL/KG,,NMOL/KG,PMOL/KG,,UG/KG,,UMOL/KG,,UMOL/KG,,UMOL/KG,,UG/KG,,UMOL/KG,,TU,1/M,,1/M,,1/M,,1/M,,1/M,,1/M,,1/M,,1/NM,,1/NM,,DEG C,/MILLE,,,,,,,,/MILLE,,UMOL/KG,,/MILLE,,NMOL/KG,PERCNT
33RO20071215,        P18,      15,          1,         36,      12017,2,20071221,       0013,    16.1665,  -110.0002,       3669,     5.9,  26.9952,  33.7879,2,  33.7882,2,    204.6,2,   202.4,2,    1.50,2,    0.10,2,    0.00,2,    0.12,2,   1.614,6,   1.030,6,   1.0918,6,  1927.2,6,  2235.0,2,    286.4,2,    20.00,   8.0768,2,    25.00,-999.000,9,   1.7264,2,   -1.68,2,     1.3,2,  -999.0,1,   6.781,2,   0.023,-999.000,9,-999.000,9, -999.00,9, -999.00,9, -999.00,9, -999.00,9, -999.00,9,-999.000,-999.0000,9,-999.0000,9,-999.0000,9,-999.0000,9,-999.0000,9,-999.0000,9,-999.0000,9,-999.0000,9,-999.0000,9,  26.9939,     -999.0,9,     -999.0,9,     -999.0,9,     -999.0,9,     -999.0,9,     -999.0,9,     -999.0,9,   0.0048,    0.15
33RO20071215,        P18,      15,          1,         35,      12029,3,20071221,       0013,    16.1665,  -110.0002,       3669,    10.7,  27.0025,  33.7875,2,  33.7890,2,    204.8,2,  -999.0,9, -999.00,9, -999.00,9, -999.00,9, -999.00,9,-999.000,9,-999.000,9,-999.0000,9,  -999.0,9,  -999.0,9,   -999.0,9,  -999.00,-999.0000,9,  -999.00,-999.000,9,-999.0000,9, -999.00,9, -999.00,9,  -999.0,9,-999.000,9,-999.000,-999.000,9,-999.000,9,   76.90,2,    5.47,2, -999.00,1, -999.00,9, -999.00,9,-999.000,-999.0000,9,-999.0000,9,-999.0000,9,-999.0000,9,-999.0000,9,-999.0000,9,-999.0000,9,-999.0000,9,-999.0000,9,  27.0001,     -999.0,9,     -999.0,9,     -999.0,9,     -999.0,9,     -999.0,9,     -999.0,9,     -999.0,9,-999.0000, -999.00
33RO20071215,        P18,      15,          1,         34,      12049,2,20071221,       0013,    16.1665,  -110.0002,       3669,    17.1,  26.9939,  33.7869,2,  33.7887,2,    204.9,2,   202.2,2,    1.50,2,    0.10,2,    0.00,2,    0.12,2,   1.615,2,   1.031,2,   1.0150,2,  1927.1,2,  2235.9,2,    285.4,6,    20.00,   8.0619,2,    25.00,   0.643,2,   1.7301,2,   -1.75,2, -999.00,9,  -999.0,9,   6.752,2,   0.023,-999.000,9,-999.000,9, -999.00,9, -999.00,9, -999.00,1, -999.00,9, -999.00,9,   0.007,-999.0000,9,-999.0000,9,-999.0000,9,-999.0000,9,-999.0000,9,-999.0000,9,-999.0000,9,-999.0000,9,-999.0000,9,  26.9900,     -999.0,9,     -999.0,9,     -999.0,9,     -999.0,9,     -999.0,9,     -999.0,9,     -999.0,9,   0.0048,    0.15
33RO20071215,        P18,      15,          1,         33,      12027,2,20071221,       0013,    16.1665,  -110.0002,       3669,    32.3,  26.9546,  33.7959,2,  33.8009,2,    204.6,2,   201.8,2,    1.50,2,    0.20,2,    0.00,2,    0.13,2,   1.617,2,   1.029,2,   0.9831,2,  1928.9,2,  2235.9,2,    288.0,6,    20.00,   8.0784,2,    25.00,   0.638,2,   1.7314,2,   -2.02,2, -999.00,9,  -999.0,9,   6.743,2,   0.023,-999.000,9,-999.000,9, -999.00,9, -999.00,9, -999.00,1, -999.00,9, -999.00,9,   0.007,-999.0000,9,-999.0000,9,-999.0000,9,-999.0000,9,-999.0000,9,-999.0000,9,-999.0000,9,-999.0000,9,-999.0000,9,  26.9473,     -999.0,9,     -999.0,9,     -999.0,9,     -999.0,9,     -999.0,9,     -999.0,9,     -999.0,9,   0.0048,    0.15
33RO20071215,        P18,      15,          1,         32,      12023,2,20071221,       0013,    16.1665,  -110.0002,       3669,    52.8,  22.2160,  34.4089,2,  34.4261,2,    139.9,2,   126.9,2,    6.30,2,    8.20,2,    0.23,2,    0.99,2,-999.000,9,-999.000,9,-999.0000,9,  2102.8,2,  2285.5,2,    604.0,2,    20.00,   7.8205,2,    25.00,-999.000,9,-999.0000,9, -999.00,9, -999.00,9,  -999.0,9,-999.000,9,-999.000,-999.000,9,-999.000,9,   66.89,2,   12.29,2, -999.00,1, -999.00,9, -999.00,9,-999.000,-999.0000,9,-999.0000,9,-999.0000,9,-999.0000,9,-999.0000,9,-999.0000,9,-999.0000,9,-999.0000,9,-999.0000,9,  22.2055,     -999.0,9,     -999.0,9,     -999.0,9,     -999.0,9,     -999.0,9,     -999.0,9,     -999.0,9,-999.0000, -999.00
33RO20071215,        P18,      15,          1,         31,      12037,2,20071221,       0013,    16.1665,  -110.0002,       3669,    73.3,  16.3673,  34.6189,2,  34.6213,2,      3.5,2,     6.0,2,   19.00,2,   25.20,2,    0.31,2,    2.27,2,   1.276,2,   0.756,2,   0.4772,2,  2228.3,2,  2285.5,2,   1462.1,2,    20.00,   7.4864,2,    25.00,   0.440,2,   1.7891,2,    4.17,2, -999.00,9,  -999.0,9,   7.340,2,   0.025,-999.000,9,-999.000,9, -999.00,9, -999.00,9, -999.00,1, -999.00,9, -999.00,9,   0.007,-999.0000,9,-999.0000,9,-999.0000,9,-999.0000,9,-999.0000,9,-999.0000,9,-999.0000,9,-999.0000,9,-999.0000,9,  16.3556,     -999.0,9,     -999.0,9,     -999.0,9,     -999.0,9,     -999.0,9,     -999.0,9,     -999.0,9,   0.0050,    0.15
33RO20071215,        P18,      15,          1,         30,      12036,2,20071221,       0013,    16.1665,  -110.0002,       3669,    93.3,  14.8892,  34.7107,2,  34.7211,2,      4.3,2,     2.2,2,   23.50,2,   24.50,2,    0.48,2,    2.38,2,   1.038,2,   0.611,2,   0.3421,2,  2244.0,2,  2295.2,2,   1536.4,2,    20.00,   7.4650,2,    25.00,-999.000,9,   1.7827,2,    5.72,2, -999.00,9,  -999.0,9,   7.290,2,   0.025,-999.000,9,-999.000,9,   51.14,2,   27.86,2, -999.00,1, -999.00,9, -999.00,9,-999.000,-999.0000,9,-999.0000,9,-999.0000,9,-999.0000,9,-999.0000,9,-999.0000,9,-999.0000,9,-999.0000,9,-999.0000,9,  14.8752,     -999.0,9,     -999.0,9,     -999.0,9,     -999.0,9,     -999.0,9,     -999.0,9,     -999.0,9,   0.0050,    0.15
33RO20071215,        P18,      15,          1,         29,      12044,2,20071221,       0013,    16.1665,  -110.0002,       3669,   117.5,  13.4825,  34.7799,2,  34.7797,2,      3.6,2,     2.3,2,   26.70,2,   22.80,2,    1.74,2,    2.44,2,   0.804,2,   0.477,2,   0.1777,2,  2253.9,2,  2300.8,2,   1564.0,2,    20.00,   7.4474,2,    25.00,   0.327,2,   1.7523,2,    5.89,2, -999.00,9,  -999.0,9,   7.318,2,   0.025,-999.000,9,-999.000,9,   48.59,2,   26.97,2, -999.00,1, -999.00,9, -999.00,9,   0.007,-999.0000,9,-999.0000,9,-999.0000,9,-999.0000,9,-999.0000,9,-999.0000,9,-999.0000,9,-999.0000,9,-999.0000,9,  13.4660,     -999.0,9,     -999.0,9,     -999.0,9,     -999.0,9,     -999.0,9,     -999.0,9,     -999.0,9,   0.0049,    0.15
33RO20071215,        P18,      15,          1,         28,      12057,3,20071221,       0013,    16.1665,  -110.0002,       3669,   141.4,  12.7541,  34.7933,2,-999.0000,9,      3.2,2,  -999.0,9, -999.00,9, -999.00,9, -999.00,9, -999.00,9,-999.000,9,-999.000,9,-999.0000,9,  -999.0,9,  -999.0,9,   -999.0,9,  -999.00,-999.0000,9,  -999.00,-999.000,9,-999.0000,9, -999.00,9, -999.00,9,  -999.0,9,-999.000,9,-999.000,-999.000,9,-999.000,9, -999.00,9, -999.00,9, -999.00,9, -999.00,9, -999.00,9,-999.000,-999.0000,9,-999.0000,9,-999.0000,9,-999.0000,9,-999.0000,9,-999.0000,9,-999.0000,9,-999.0000,9,-999.0000,9,  12.7350,     -999.0,9,     -999.0,9,     -999.0,9,     -999.0,9,     -999.0,9,     -999.0,9,     -999.0,9,-999.0000, -999.00
33RO20071215,        P18,      15,          1,         27,      12026,3,20071221,       0013,    16.1665,  -110.0002,       3669,   167.7,  12.2589,  34.7886,2,  34.7889,2,      2.9,2,  -999.0,9, -999.00,9, -999.00,9, -999.00,9, -999.00,9,-999.000,9,-999.000,9,-999.0000,9,  -999.0,9,  -999.0,9,   -999.0,9,  -999.00,-999.0000,9,  -999.00,-999.000,9,-999.0000,9, -999.00,9, -999.00,9,  -999.0,9,-999.000,9,-999.000,-999.000,9,-999.000,9, -999.00,9, -999.00,9, -999.00,1, -999.00,9, -999.00,9,-999.000,-999.0000,9,-999.0000,9,-999.0000,9,-999.0000,9,-999.0000,9,-999.0000,9,-999.0000,9,-999.0000,9,-999.0000,9,  12.2367,     -999.0,9,     -999.0,9,     -999.0,9,     -999.0,9,     -999.0,9,     -999.0,9,     -999.0,9,-999.0000, -999.00
33RO20071215,        P18,      15,          1,         26,      12030,2,20071221,       0013,    16.1665,  -110.0002,       3669,   191.0,  11.9382,  34.7788,2,  34.7785,2,      2.8,2,     2.7,2,   31.00,2,   23.50,2,    2.19,2,    2.48,2,   0.464,2,   0.282,2,   0.1246,2,  2266.2,6,  2304.9,2,   -999.0,9,  -999.00,   7.4289,2,    25.00,-999.000,9,-999.0000,9, -999.00,9, -999.00,9,  -999.0,9,-999.000,9,-999.000,-999.000,9,-999.000,9,   45.24,2,   26.99,2, -999.00,1, -999.00,9, -999.00,9,-999.000,-999.0000,9,-999.0000,9,-999.0000,9,-999.0000,9,-999.0000,9,-999.0000,9,-999.0000,9,-999.0000,9,-999.0000,9,  11.9135,     -999.0,9,     -999.0,9,     -999.0,9,     -999.0,9,     -999.0,9,     -999.0,9,     -999.0,9,-999.0000, -999.00
33RO20071215,        P18,      15,          1,         25,      12024,2,20071221,       0013,    16.1665,  -110.0002,       3669,   233.8,  11.4907,  34.7513,2,  34.7482,2,      2.7,2,     3.1,2,   33.20,2,   22.40,2,    1.81,2,    2.53,2,-999.000,9,-999.000,9,-999.0000,9,  2274.1,2,  2308.9,2,   -999.0,9,  -999.00,   7.4121,2,    25.00,-999.000,9,-999.0000,9, -999.00,9, -999.00,9,  -999.0,9,-999.000,9,-999.000,-999.000,9,-999.000,9,   43.78,2,   25.96,2, -999.00,1, -999.00,9, -999.00,9,-999.000,-999.0000,9,-999.0000,9,-999.0000,9,-999.0000,9,-999.0000,9,-999.0000,9,-999.0000,9,-999.0000,9,-999.0000,9,  11.4611,     -999.0,9,     -999.0,9,     -999.0,9,     -999.0,9,     -999.0,9,     -999.0,9,     -999.0,9,-999.0000, -999.00
33RO20071215,        P18,      15,          1,         24,      12019,2,20071221,       0013,    16.1665,  -110.0002,       3669,   283.9,  10.7711,  34.7148,2,  34.7127,2,      2.6,2,     3.0,2,   37.00,2,   23.40,2,    1.07,2,    2.63,2,   0.216,2,   0.134,2,   0.0519,2,  2283.3,2,  2312.3,2,   1809.6,2,    20.00,   7.3980,2,    25.00,-999.000,9,   1.7769,2,    7.16,2, -999.00,9,  -999.0,9,   7.445,2,   0.025,-999.000,9,-999.000,9,   43.00,2,   25.91,2, -999.00,1, -999.00,9, -999.00,9,-999.000,-999.0000,9,-999.0000,9,-999.0000,9,-999.0000,9,-999.0000,9,-999.0000,9,-999.0000,9,-999.0000,9,-999.0000,9,  10.7366,     -999.0,9,     -999.0,9,     -999.0,9,     -999.0,9,     -999.0,9,     -999.0,9,     -999.0,9,   0.0050,    0.15
33RO20071215,        P18,      15,          1,         23,      12022,2,20071221,       0013,    16.1665,  -110.0002,       3669,   333.4,  10.2233,  34.6795,2,  34.6776,2,      2.5,2,     2.9,2,   40.60,2,   24.70,2,    0.68,2,    2.71,2,   0.138,2,   0.087,2,   0.0293,2,  2289.0,2,  2314.1,2,   -999.0,9,  -999.00,   7.3915,2,    25.00,   0.108,2,   1.8059,2,    7.01,2, -999.00,9,  -999.0,9,   7.537,2,   0.026,-999.000,9,-999.000,9,   42.16,2,   27.12,2, -999.00,1, -999.00,9, -999.00,9,   0.006,-999.0000,9,-999.0000,9,-999.0000,9,-999.0000,9,-999.0000,9,-999.0000,9,-999.0000,9,-999.0000,9,-999.0000,9,  10.1840,     -999.0,9,     -999.0,9,     -999.0,9,     -999.0,9,     -999.0,9,     -999.0,9,     -999.0,9,   0.0051,    0.15
33RO20071215,        P18,      15,          1,         22,      12015,3,20071221,       0013,    16.1665,  -110.0002,       3669,   383.9,   9.5114,  34.6445,2,  34.6434,2,      2.4,2,  -999.0,9, -999.00,9, -999.00,9, -999.00,9, -999.00,9,-999.000,9,-999.000,9,-999.0000,9,  -999.0,9,  -999.0,9,   -999.0,9,  -999.00,-999.0000,9,  -999.00,-999.000,9,-999.0000,9, -999.00,9, -999.00,9,  -999.0,9,-999.000,9,-999.000,-999.000,9,-999.000,9,   41.32,2,   29.28,2, -999.00,1, -999.00,9, -999.00,9,-999.000,-999.0000,9,-999.0000,9,-999.0000,9,-999.0000,9,-999.0000,9,-999.0000,9,-999.0000,9,-999.0000,9,-999.0000,9,   9.4680,     -999.0,9,     -999.0,9,     -999.0,9,     -999.0,9,     -999.0,9,     -999.0,9,     -999.0,9,-999.0000, -999.00
33RO20071215,        P18,      15,          1,         21,      12020,2,20071221,       0013,    16.1665,  -110.0002,       3669,   467.3,   8.2662,  34.5898,2,  34.5894,2,      2.4,2,     1.7,2,   56.20,2,   31.30,2,    0.45,2,    2.95,2,   0.031,2,   0.020,2,   0.0000,2,  2305.8,6,  2325.8,2,   1978.7,2,    20.00,   7.3607,2,    25.00,-999.000,9,-999.0000,9, -999.00,9, -999.00,9,  -999.0,9,-999.000,9,-999.000,-999.000,9,-999.000,9,   40.02,2,   33.01,2, -999.00,1, -999.00,9, -999.00,9,-999.000,-999.0000,9,-999.0000,9,-999.0000,9,-999.0000,9,-999.0000,9,-999.0000,9,-999.0000,9,-999.0000,9,-999.0000,9,   8.2175,     -999.0,9,     -999.0,9,     -999.0,9,     -999.0,9,     -999.0,9,     -999.0,9,     -999.0,9,-999.0000, -999.00
33RO20071215,        P18,      15,          1,         20,      12055,2,20071221,       0013,    16.1665,  -110.0002,       3669,   567.3,   7.2293,  34.5597,2,  34.5620,2,      2.3,2,     2.0,2,   66.30,2,   35.70,2,    0.19,2,    3.09,2,   0.013,2,   0.008,2,   0.0000,2,  2319.6,2,  2332.2,2,   -999.0,9,  -999.00,   7.3456,2,    25.00,-999.000,9,-999.0000,9, -999.00,9, -999.00,9,  -999.0,9,-999.000,9,-999.000,-999.000,9,-999.000,9,   39.37,2,   37.64,2, -999.00,1, -999.00,9, -999.00,9,-999.000,-999.0000,9,-999.0000,9,-999.0000,9,-999.0000,9,-999.0000,9,-999.0000,9,-999.0000,9,-999.0000,9,-999.0000,9,   7.1741,     -999.0,9,     -999.0,9,     -999.0,9,     -999.0,9,     -999.0,9,     -999.0,9,     -999.0,9,-999.0000, -999.00
33RO20071215,        P18,      15,          1,         19,      12018,4,20071221,       0013,    16.1665,  -110.0002,       3669,   667.3,   6.3285,  34.5421,2,-999.0000,9,      2.2,2,  -999.0,9, -999.00,9, -999.00,9, -999.00,9, -999.00,9,-999.000,9,-999.000,9,-999.0000,9,  -999.0,9,  -999.0,9,   -999.0,9,  -999.00,-999.0000,9,  -999.00,-999.000,9,-999.0000,9, -999.00,9, -999.00,9,  -999.0,9,-999.000,9,-999.000,-999.000,9,-999.000,9, -999.00,9, -999.00,9, -999.00,9, -999.00,9, -999.00,9,-999.000,-999.0000,9,-999.0000,9,-999.0000,9,-999.0000,9,-999.0000,9,-999.0000,9,-999.0000,9,-999.0000,9,-999.0000,9,   6.2677,     -999.0,9,     -999.0,9,     -999.0,9,     -999.0,9,     -999.0,9,     -999.0,9,     -999.0,9,-999.0000, -999.00
33RO20071215,        P18,      15,          1,         18,      12025,2,20071221,       0013,    16.1665,  -110.0002,       3669,   767.3,   5.6708,  34.5333,2,  34.5328,2,      2.5,2,     2.9,2,   85.70,2,   42.20,2,    0.00,2,    3.23,2,   0.006,6,   0.003,6,   0.0000,6,  2340.2,2,  2348.6,2,   -999.0,9,  -999.00,   7.3259,2,    25.00,-999.000,9,-999.0000,9, -999.00,9, -999.00,9,  -999.0,9,-999.000,9,-999.000,-999.000,9,-999.000,9,   38.15,2,   43.46,2, -999.00,1, -999.00,9, -999.00,9,-999.000,-999.0000,9,-999.0000,9,-999.0000,9,-999.0000,9,-999.0000,9,-999.0000,9,-999.0000,9,-999.0000,9,-999.0000,9,   5.6042,     -999.0,9,     -999.0,9,     -999.0,9,     -999.0,9,     -999.0,9,     -999.0,9,     -999.0,9,-999.0000, -999.00
33RO20071215,        P18,      15,          1,         17,      12016,2,20071221,       0013,    16.1665,  -110.0002,       3669,   867.1,   5.1143,  34.5366,2,  34.5374,2,      4.7,2,     4.9,2,   94.40,2,   43.80,2,    0.00,2,    3.26,2,-999.000,9,-999.000,9,-999.0000,9,  2350.0,2,  2357.0,2,   2174.6,2,    20.00,   7.3242,2,    25.00,-999.000,9,-999.0000,9, -999.00,9, -999.00,9,  -999.0,9,-999.000,9,-999.000,-999.000,9,-999.000,9,   37.43,2,   45.28,2, -999.00,1, -999.00,9, -999.00,9,-999.000,-999.0000,9,-999.0000,9,-999.0000,9,-999.0000,9,-999.0000,9,-999.0000,9,-999.0000,9,-999.0000,9,-999.0000,9,   5.0421,     -999.0,9,     -999.0,9,     -999.0,9,     -999.0,9,     -999.0,9,     -999.0,9,     -999.0,9,-999.0000, -999.00
33RO20071215,        P18,      15,          1,         16,      12051,2,20071221,       0013,    16.1665,  -110.0002,       3669,   967.6,   4.6739,  34.5459,2,  34.5467,2,      8.9,2,     8.7,2,  101.50,2,   44.60,2,    0.00,2,    3.27,2,-999.000,9,-999.000,9,-999.0000,9,  2354.2,2,  2363.2,2,   -999.0,9,  -999.00,   7.3314,2,    25.00,-999.000,9,-999.0000,9, -999.00,9, -999.00,9,  -999.0,9,-999.000,9,-999.000,-999.000,9,-999.000,9,   37.01,2,   46.14,2, -999.00,1, -999.00,9, -999.00,9,-999.000,-999.0000,9,-999.0000,9,-999.0000,9,-999.0000,9,-999.0000,9,-999.0000,9,-999.0000,9,-999.0000,9,-999.0000,9,   4.5958,     -999.0,9,     -999.0,9,     -999.0,9,     -999.0,9,     -999.0,9,     -999.0,9,     -999.0,9,-999.0000, -999.00
33RO20071215,        P18,      15,          1,         15,      12014,3,20071221,       0013,    16.1665,  -110.0002,       3669,  1066.3,   4.2957,  34.5545,2,  34.5548,2,     14.5,2,    19.1,3, -999.00,9, -999.00,9, -999.00,9, -999.00,9,-999.000,9,-999.000,9,-999.0000,9,  -999.0,9,  -999.0,9,   -999.0,9,  -999.00,-999.0000,9,  -999.00,-999.000,9,-999.0000,9, -999.00,9, -999.00,9,  -999.0,9,-999.000,9,-999.000,-999.000,9,-999.000,9,   36.71,2,   46.11,2, -999.00,9, -999.00,9, -999.00,9,-999.000,-999.0000,9,-999.0000,9,-999.0000,9,-999.0000,9,-999.0000,9,-999.0000,9,-999.0000,9,-999.0000,9,-999.0000,9,   4.2119,     -999.0,9,     -999.0,9,     -999.0,9,     -999.0,9,     -999.0,9,     -999.0,9,     -999.0,9,-999.0000, -999.00
33RO20071215,        P18,      15,          1,         14,      12013,2,20071221,       0013,    16.1665,  -110.0002,       3669,  1167.5,   3.9210,  34.5664,2,  34.5695,2,     22.3,2,    23.4,2,  116.50,2,   44.40,2,    0.00,2,    3.23,2,-999.000,9,-999.000,9,-999.0000,9,  2362.6,2,  2383.2,4,   -999.0,9,  -999.00,   7.3503,2,    25.00,-999.000,9,-999.0000,9, -999.00,9, -999.00,9,  -999.0,9,-999.000,9,-999.000,-999.000,9,-999.000,9,   36.09,2,   45.33,2, -999.00,9, -999.00,9, -999.00,9,-999.000,-999.0000,9,-999.0000,9,-999.0000,9,-999.0000,9,-999.0000,9,-999.0000,9,-999.0000,9,-999.0000,9,-999.0000,9,   3.8317,     -999.0,9,     -999.0,9,     -999.0,9,     -999.0,9,     -999.0,9,     -999.0,9,     -999.0,9,-999.0000, -999.00
33RO20071215,        P18,      15,          1,         13,      12012,2,20071221,       0013,    16.1665,  -110.0002,       3669,  1267.8,   3.6174,  34.5784,2,  34.5797,2,     30.8,2,    30.7,2,  122.20,2,   44.20,2,    0.00,2,    3.17,2,-999.000,9,-999.000,9,-999.0000,9,  -999.0,9,  -999.0,9,   -999.0,9,  -999.00,-999.0000,9,  -999.00,-999.000,9,-999.0000,9, -999.00,9, -999.00,9,  -999.0,9,-999.000,9,-999.000,-999.000,9,-999.000,9,   36.52,2,   45.63,2, -999.00,9, -999.00,9, -999.00,9,-999.000,-999.0000,9,-999.0000,9,-999.0000,9,-999.0000,9,-999.0000,9,-999.0000,9,-999.0000,9,-999.0000,9,-999.0000,9,   3.5225,     -999.0,9,     -999.0,9,     -999.0,9,     -999.0,9,     -999.0,9,     -999.0,9,     -999.0,9,-999.0000, -999.00
33RO20071215,        P18,      15,          1,         12,      12031,2,20071221,       0013,    16.1665,  -110.0002,       3669,  1367.2,   3.3209,  34.5901,2,  34.5916,2,     40.3,2,    43.4,3,  128.30,2,   43.60,2,    0.00,2,    3.10,2,-999.000,9,-999.000,9,-999.0000,9,  2366.0,2,  2392.8,2,   -999.0,9,  -999.00,   7.3786,2,    25.00,-999.000,9,-999.0000,9, -999.00,9, -999.00,9,  -999.0,9,-999.000,9,-999.000,-999.000,9,-999.000,9,   36.93,2,   44.84,2, -999.00,9, -999.00,9, -999.00,9,-999.000,-999.0000,9,-999.0000,9,-999.0000,9,-999.0000,9,-999.0000,9,-999.0000,9,-999.0000,9,-999.0000,9,-999.0000,9,   3.2206,     -999.0,9,     -999.0,9,     -999.0,9,     -999.0,9,     -999.0,9,     -999.0,9,     -999.0,9,-999.0000, -999.00