BOTTLE,20220818CCHSIOAMB
EXPOCODE,SECT_ID,STNNBR,CASTNO,SAMPNO,BTLNBR,BTLNBR_FLAG_W,DATE,TIME,LATITUDE,LONGITUDE,DEPTH,CTDPRS,CTDTMP,CTDSAL,CTDSAL_FLAG_W,SALNTY,SALNTY_FLAG_W,CTDOXY,CTDOXY_FLAG_W,OXYGEN,OXYGEN_FLAG_W,SILCAT,SILCAT_FLAG_W,NITRAT,NITRAT_FLAG_W,NITRIT,NITRIT_FLAG_W,PHSPHT,PHSPHT_FLAG_W,CFC-11,CFC-11_FLAG_W,CFC-12,CFC-12_FLAG_W,SF6,SF6_FLAG_W,TCARBN,TCARBN_FLAG_W,ALKALI,ALKALI_FLAG_W,FCO2,FCO2_FLAG_W,FCO2TMP,PH_SWS,PH_SWS_FLAG_W,PH_TMP,TRITUM,TRITUM_FLAG_W,HELIUM,HELIUM_FLAG_W,DELHE3,DELHE3_FLAG_W,DELC13,DELC13_FLAG_W,DELC14,DELC14_FLAG_W,NEON,NEON_FLAG_W,NEONER,CCL4,CCL4_FLAG_W,POC,POC_FLAG_W,DOC,DOC_FLAG_W,TDN,TDN_FLAG_W,DON,DON_FLAG_W,CHLORA,CHLORA_FLAG_W,ARGON,ARGON_FLAG_W,TRITER,CDOM325,CDOM325_FLAG_W,CDOM340,CDOM340_FLAG_W,CDOM380,CDOM380_FLAG_W,CDOM412,CDOM412_FLAG_W,CDOM443,CDOM443_FLAG_W,CDOM490,CDOM490_FLAG_W,CDOM555,CDOM555_FLAG_W,CDOMSL,CDOMSL_FLAG_W,CDOMSN,CDOMSN_FLAG_W,THETA,D18O_NO3,D18O_NO3_FLAG_W,CDOM2C,CDOM2C_FLAG_W,CDOM3C,CDOM3C_FLAG_W,LAB_DEN,LAB_DEN_FLAG_W,DELSI30,DELSI30_FLAG_W,N2,N2_FLAG_W,D15N_NO3,D15N_NO3_FLAG_W,HELIER,DELHER
,,,,,,,,,,,METERS,DBAR,ITS-90,PSS-78,,PSS-78,,UMOL/KG,,UMOL/KG,,UMOL/KG,,UMOL/KG,,UMOL/KG,,UMOL/KG,,PMOL/KG,,PMOL/KG,,FMOL/KG,,UMOL/KG,,UMOL/KG,,UATM,,DEG C,,,DEG C,TU,,NMOL/KG,,PERCNT,,/MILLE,,/MILLE,,NMOL/KG,,NMOL/KG,PMOL/KG,,UG/KG,,UMOL/KG,,UMOL/KG,,UMOL/KG,,UG/KG,,UMOL/KG,,TU,1/M,,1/M,,1/M,,1/M,,1/M,,1/M,,1/M,,1/NM,,1/NM,,DEG C,/MILLE,,,,,,,,/MILLE,,UMOL/KG,,/MILLE,,NMOL/KG,PERCNT
33RO20071215,        P18,      85,          1,         36,      12017,2,20080112,       1902,   -20.5000,  -103.0002,       4031,     5.6,  22.6926,  36.0262,2,  36.0255,2,    217.9,2,   218.8,2,    0.60,2,    0.10,2,    0.00,2,    0.25,2,   2.008,6,   1.240,6,   1.0796,6,  2080.7,2,  2382.0,2,   -999.0,9,  -999.00,   8.0085,2,    25.00,-999.000,9,-999.0000,9, -999.00,9, -999.00,9,  -999.0,9,-999.000,9,-999.000,-999.000,9,-999.000,9,   65.72,2,    3.92,2, -999.00,1,    0.02,2, -999.00,9,-999.000,   0.0462,2,   0.0287,2,   0.0085,2,   0.0054,2,   0.0028,2,   0.0012,2,  -0.0006,4,   0.0337,2,   0.0331,2,  22.6914,     -999.0,9,     -999.0,1,     -999.0,9,     -999.0,9,     -999.0,9,     -999.0,9,     -999.0,9,-999.0000, -999.00
33RO20071215,        P18,      85,          1,         35,      12029,2,20080112,       1902,   -20.5000,  -103.0002,       4031,    10.0,  22.6512,  36.0249,2,  36.0231,2,    218.1,2,   219.3,2,    0.70,2,    0.10,2,    0.00,2,    0.25,2,-999.000,9,-999.000,9,-999.0000,9,  2080.7,2,  2381.0,2,   -999.0,9,  -999.00,   8.0084,2,    25.00,-999.000,9,-999.0000,9, -999.00,9, -999.00,9,  -999.0,9,-999.000,9,-999.000,-999.000,9,-999.000,9,   66.08,2,    4.35,2, -999.00,1,    0.01,2, -999.00,9,-999.000,   0.0469,2,   0.0301,2,   0.0105,2,   0.0071,2,   0.0042,2,   0.0020,2,  -0.0002,4,   0.0284,2,   0.0293,2,  22.6491,     -999.0,9,     -999.0,1,     -999.0,9,     -999.0,9,     -999.0,9,     -999.0,9,     -999.0,9,-999.0000, -999.00
33RO20071215,        P18,      85,          1,         34,      12049,2,20080112,       1902,   -20.5000,  -103.0002,       4031,    24.7,  22.4961,  36.0181,2,  36.0138,2,    218.7,2,   219.5,2,    0.70,2,    0.10,2,    0.00,2,    0.25,2,-999.000,9,-999.000,9,-999.0000,9,  2080.6,2,  2380.1,2,   -999.0,9,  -999.00,   8.0019,2,    25.00,-999.000,9,-999.0000,9, -999.00,9, -999.00,9,  -999.0,9,-999.000,9,-999.000,-999.000,9,-999.000,9,   65.09,2,    3.86,2, -999.00,1,    0.00,2, -999.00,9,-999.000,   0.0503,2,   0.0336,2,   0.0113,2,   0.0066,2,   0.0034,2,   0.0014,2,  -0.0005,4,   0.0272,2,   0.0273,2,  22.4911,     -999.0,9,     -999.0,1,     -999.0,1,     -999.0,9,     -999.0,9,     -999.0,9,     -999.0,9,-999.0000, -999.00
33RO20071215,        P18,      85,          1,         33,      12027,2,20080112,       1902,   -20.5000,  -103.0002,       4031,    49.7,  21.6124,  35.9494,2,  35.9519,2,    226.8,2,   227.0,2,    0.70,2,    0.10,2,    0.00,2,    0.25,2,   2.122,2,   1.306,2,   1.1119,2,  2077.0,2,  2374.4,2,   -999.0,9,  -999.00,   7.9863,2,    25.00,-999.000,9,-999.0000,9, -999.00,9, -999.00,9,  -999.0,9,-999.000,9,-999.000,-999.000,9,-999.000,9,   64.95,2,    3.92,2, -999.00,1,    0.03,2, -999.00,9,-999.000,   0.0558,2,   0.0364,2,   0.0139,2,   0.0086,2,   0.0046,2,   0.0020,2,  -0.0003,4,   0.0233,2,   0.0257,2,  21.6027,     -999.0,9,     -999.0,1,     -999.0,9,     -999.0,9,     -999.0,9,     -999.0,9,     -999.0,9,-999.0000, -999.00
33RO20071215,        P18,      85,          1,         32,      12023,2,20080112,       1902,   -20.5000,  -103.0002,       4031,    74.7,  21.2260,  36.0088,2,  36.0111,2,    227.1,2,   227.5,2,    0.70,2,    0.10,2,    0.00,2,    0.21,2,-999.000,9,-999.000,9,-999.0000,9,  2075.5,2,  2375.0,2,   -999.0,9,  -999.00,   8.0091,2,    25.00,-999.000,9,-999.0000,9, -999.00,9, -999.00,9,  -999.0,9,-999.000,9,-999.000,-999.000,9,-999.000,9,   63.88,2,    3.99,2, -999.00,1,    0.10,2, -999.00,9,-999.000,   0.0633,2,   0.0422,2,   0.0176,2,   0.0118,2,   0.0071,2,   0.0033,2,   0.0003,3,   0.0191,2,   0.0224,2,  21.2116,     -999.0,9,     -999.0,1,     -999.0,9,     -999.0,9,     -999.0,9,     -999.0,9,     -999.0,9,-999.0000, -999.00
33RO20071215,        P18,      85,          1,         31,      12037,2,20080112,       1902,   -20.5000,  -103.0002,       4031,   100.5,  20.5537,  35.8854,2,  35.8803,2,    226.9,2,   227.5,2,    0.70,2,    0.10,2,    0.00,2,    0.24,2,   2.134,2,   1.302,2,   1.1356,2,  2075.8,2,  2369.2,2,   -999.0,9,  -999.00,   8.0070,2,    25.00,-999.000,9,-999.0000,9, -999.00,9, -999.00,9,  -999.0,9,-999.000,9,-999.000,-999.000,9,-999.000,9,   63.87,2,    4.69,2, -999.00,1,    0.07,2, -999.00,9,-999.000,   0.0926,2,   0.0653,2,   0.0308,2,   0.0208,2,   0.0132,2,   0.0072,2,   0.0025,2,   0.0155,2,   0.0180,2,  20.5347,     -999.0,9,     -999.0,1,     -999.0,9,     -999.0,9,     -999.0,9,     -999.0,9,     -999.0,9,-999.0000, -999.00
33RO20071215,        P18,      85,          1,         30,      12036,2,20080112,       1902,   -20.5000,  -103.0002,       4031,   126.0,  20.3627,  35.8765,2,  35.8793,2,    225.1,2,   224.3,2,    0.70,2,    0.10,2,    0.00,2,    0.24,2,-999.000,9,-999.000,9,-999.0000,9,  2076.9,2,  2370.9,2,   -999.0,9,  -999.00,   7.9976,2,    25.00,-999.000,9,-999.0000,9, -999.00,9, -999.00,9,  -999.0,9,-999.000,9,-999.000,-999.000,9,-999.000,9,   62.89,2,    3.97,2, -999.00,1,    0.06,2, -999.00,9,-999.000,   0.0704,2,   0.0476,2,   0.0205,2,   0.0143,2,   0.0077,2,   0.0028,2,   0.0001,4,   0.0176,2,   0.0209,2,  20.3390,     -999.0,9,     -999.0,1,     -999.0,9,     -999.0,9,     -999.0,9,     -999.0,9,     -999.0,9,-999.0000, -999.00
33RO20071215,        P18,      85,          1,         29,      12044,2,20080112,       1902,   -20.5000,  -103.0002,       4031,   150.8,  20.0686,  35.8188,2,  35.8195,2,    220.0,2,   220.1,2,    0.60,2,    0.10,2,    0.12,2,    0.26,2,   2.194,2,   1.339,2,   1.1115,2,  2080.4,2,  2362.8,2,   -999.0,9,  -999.00,   7.9920,2,    25.00,-999.000,9,-999.0000,9, -999.00,9, -999.00,9,  -999.0,9,-999.000,9,-999.000,-999.000,9,-999.000,9,   61.17,2,    4.50,2, -999.00,1,    0.01,2, -999.00,9,-999.000,   0.0745,2,   0.0526,2,   0.0251,2,   0.0190,2,   0.0118,2,   0.0059,2,   0.0021,3,   0.0145,2,   0.0171,2,  20.0405,     -999.0,9,     -999.0,1,     -999.0,9,     -999.0,9,     -999.0,9,     -999.0,9,     -999.0,9,-999.0000, -999.00
33RO20071215,        P18,      85,          1,         28,      12057,2,20080112,       1902,   -20.5000,  -103.0002,       4031,   175.5,  19.8776,  35.7710,2,  35.7779,2,    218.2,2,   228.6,3,    0.60,2,    0.10,2,    0.29,2,    0.28,2,-999.000,9,-999.000,9,-999.0000,9,  2081.1,2,  2367.0,2,   -999.0,9,  -999.00,   8.0000,2,    25.00,-999.000,9,-999.0000,9, -999.00,9, -999.00,9,  -999.0,9,-999.000,9,-999.000,-999.000,9,-999.000,9,   59.55,2,    4.15,2, -999.00,1,    0.07,2, -999.00,1,-999.000,   0.0628,2,   0.0433,2,   0.0191,2,   0.0139,2,   0.0078,2,   0.0033,2,   0.0005,3,   0.0168,2,   0.0199,2,  19.8452,     -999.0,1,     -999.0,1,     -999.0,9,     -999.0,9,     -999.0,9,     -999.0,1,     -999.0,9,-999.0000, -999.00
33RO20071215,        P18,      85,          1,         27,      12026,2,20080112,       1902,   -20.5000,  -103.0002,       4031,   200.0,  19.6649,  35.7213,2,  35.7177,2,    217.5,2,   222.6,2,    0.80,2,    0.30,2,    0.35,2,    0.29,2,   2.219,2,   1.359,2,   1.1580,2,  2079.2,2,  -999.0,9,   -999.0,9,  -999.00,   7.9641,2,    25.00,-999.000,9,-999.0000,9, -999.00,9, -999.00,9,  -999.0,9,-999.000,9,-999.000,-999.000,9,-999.000,9,   58.14,2,    4.57,2, -999.00,1,    0.04,2, -999.00,1,-999.000,   0.0586,2,   0.0405,2,   0.0177,2,   0.0130,2,   0.0069,2,   0.0025,2,   0.0000,4,   0.0170,2,   0.0201,2,  19.6282,     -999.0,1,     -999.0,9,     -999.0,9,     -999.0,9,     -999.0,9,     -999.0,1,     -999.0,9,-999.0000, -999.00
33RO20071215,        P18,      85,          1,         26,      12030,2,20080112,       1902,   -20.5000,  -103.0002,       4031,   250.4,  15.7456,  34.9184,2,  34.9243,2,    201.1,2,   201.3,2,    1.30,2,    4.30,2,    0.01,2,    0.58,2,-999.000,9,-999.000,9,-999.0000,9,  2082.9,2,  2304.5,2,   -999.0,9,  -999.00,   7.8895,2,    25.00,-999.000,9,-999.0000,9, -999.00,9, -999.00,9,  -999.0,9,-999.000,9,-999.000,-999.000,9,-999.000,9,   50.83,2,    6.49,2, -999.00,1,    0.01,2, -999.00,1,-999.000,   0.0925,2,   0.0659,2,   0.0330,2,   0.0245,2,   0.0135,2,   0.0050,2,   0.0008,2,   0.0152,2,   0.0167,2,  15.7064,     -999.0,1,     -999.0,1,     -999.0,9,     -999.0,9,     -999.0,9,     -999.0,1,     -999.0,9,-999.0000, -999.00
33RO20071215,        P18,      85,          1,         25,      12024,2,20080112,       1902,   -20.5000,  -103.0002,       4031,   299.9,  12.5395,  34.5006,2,  34.5065,2,    179.8,2,   180.3,2,    3.90,2,   11.40,2,    0.01,2,    1.09,2,   2.963,2,   1.626,2,   0.8712,2,  2114.4,2,  -999.0,9,   -999.0,9,  -999.00,   7.7615,2,    25.00,-999.000,9,-999.0000,9, -999.00,9, -999.00,9,  -999.0,9,-999.000,9,-999.000,-999.000,9,-999.000,9,   46.13,2,   12.96,2, -999.00,1, -999.00,9, -999.00,1,-999.000,   0.0973,2,   0.0680,2,   0.0339,2,   0.0258,2,   0.0141,2,   0.0051,2,   0.0010,2,   0.0151,2,   0.0169,2,  12.4993,     -999.0,1,     -999.0,9,     -999.0,9,     -999.0,9,     -999.0,9,     -999.0,1,     -999.0,9,-999.0000, -999.00
33RO20071215,        P18,      85,          1,         24,      12019,2,20080112,       1902,   -20.5000,  -103.0002,       4031,   351.7,  10.4544,  34.4250,2,  34.4258,2,    123.1,2,   123.3,2,   11.40,2,   20.90,2,    0.01,2,    1.86,2,-999.000,9,-999.000,9,-999.0000,9,  2179.8,2,  2279.0,2,   -999.0,9,  -999.00,   7.6073,2,    25.00,-999.000,9,-999.0000,9, -999.00,9, -999.00,9,  -999.0,9,-999.000,9,-999.000,-999.000,9,-999.000,9,   43.09,2,   21.95,2, -999.00,1, -999.00,9, -999.00,1,-999.000,   0.1204,2,   0.0841,2,   0.0409,2,   0.0315,2,   0.0182,2,   0.0086,3,   0.0038,3,   0.0148,4,   0.0168,4,  10.4124,     -999.0,1,     -999.0,1,     -999.0,9,     -999.0,9,     -999.0,9,     -999.0,1,     -999.0,9,-999.0000, -999.00
33RO20071215,        P18,      85,          1,         23,      12022,2,20080112,       1902,   -20.5000,  -103.0002,       4031,   388.5,   9.3426,  34.4618,2,  34.4638,2,     88.9,2,    88.3,2,   17.00,2,   27.30,2,    0.01,2,    2.28,2,   1.589,2,   0.815,2,   0.2803,2,  2217.0,2,  2281.9,2,   -999.0,9,  -999.00,   7.5043,2,    25.00,-999.000,9,-999.0000,9, -999.00,9, -999.00,9,  -999.0,9,-999.000,9,-999.000,-999.000,9,-999.000,9,   42.84,2,   28.50,2, -999.00,1, -999.00,9, -999.00,1,-999.000,   0.1175,2,   0.0783,2,   0.0372,2,   0.0308,2,   0.0181,2,   0.0099,2,   0.0059,2,   0.0136,2,   0.0169,2,   9.2992,     -999.0,1,     -999.0,9,     -999.0,9,     -999.0,9,     -999.0,9,     -999.0,1,     -999.0,9,-999.0000, -999.00
33RO20071215,        P18,      85,          1,         22,      12015,2,20080112,       1902,   -20.5000,  -103.0002,       4031,   501.2,   7.2969,  34.4338,2,  34.4324,2,    109.8,2,   102.0,2,   21.70,2,   33.50,2,    0.00,2,    2.43,2,   0.801,2,   0.407,2,   0.0745,2,  2223.5,3,  2286.1,2,   -999.0,9,  -999.00,   7.4952,2,    25.00,-999.000,9,-999.0000,9, -999.00,9, -999.00,9,  -999.0,9,-999.000,9,-999.000,-999.000,9,-999.000,9,   42.16,2,   34.65,2, -999.00,1, -999.00,9, -999.00,1,-999.000,   0.1139,2,   0.0738,2,   0.0336,2,   0.0267,2,   0.0161,2,   0.0090,2,   0.0053,2,   0.0142,2,   0.0185,2,   7.2483,     -999.0,1,     -999.0,1,     -999.0,1,     -999.0,9,     -999.0,9,     -999.0,1,     -999.0,9,-999.0000, -999.00
33RO20071215,        P18,      85,          1,         21,      12020,2,20080112,       1902,   -20.5000,  -103.0002,       4031,   600.9,   6.0591,  34.3713,2,  34.3709,2,    145.6,2,   145.3,2,   22.80,2,   32.80,2,    0.00,2,    2.31,2,-999.000,9,-999.000,9,-999.0000,9,  -999.0,9,  -999.0,9,   -999.0,9,  -999.00,-999.0000,9,  -999.00,-999.000,9,-999.0000,9, -999.00,9, -999.00,9,  -999.0,9,-999.000,9,-999.000,-999.000,9,-999.000,9,   40.83,2,   34.46,2, -999.00,1, -999.00,9, -999.00,1,-999.000,   0.1081,2,   0.0691,2,   0.0315,2,   0.0256,2,   0.0167,2,   0.0100,2,   0.0060,2,   0.0127,2,   0.0178,2,   6.0061,     -999.0,1,     -999.0,9,     -999.0,9,     -999.0,9,     -999.0,9,     -999.0,1,     -999.0,9,-999.0000, -999.00
33RO20071215,        P18,      85,          1,         20,      12055,2,20080112,       1902,   -20.5000,  -103.0002,       4031,   700.4,   5.4129,  34.3928,2,  34.3911,2,    127.4,2,   126.3,2,   33.80,2,   36.10,2,    0.00,2,    2.52,2,-999.000,9,-999.000,9,-999.0000,9,  2203.5,2,  -999.0,9,   -999.0,9,  -999.00,-999.0000,9,  -999.00,-999.000,9,-999.0000,9, -999.00,9, -999.00,9,  -999.0,9,-999.000,9,-999.000,-999.000,9,-999.000,9,   40.03,2,   37.35,2, -999.00,1, -999.00,9, -999.00,1,-999.000,   0.0961,2,   0.0584,2,   0.0241,2,   0.0183,2,   0.0111,2,   0.0065,2,   0.0039,2,   0.0163,2,   0.0227,2,   5.3540,     -999.0,1,     -999.0,9,     -999.0,9,     -999.0,9,     -999.0,9,     -999.0,1,     -999.0,9,-999.0000, -999.00
33RO20071215,        P18,      85,          1,         19,      12018,2,20080112,       1902,   -20.5000,  -103.0002,       4031,   800.4,   5.0304,  34.4422,2,  34.4446,2,    107.0,2,   104.9,2,   48.70,2,   38.70,2,    0.00,2,    2.71,2,-999.000,9,-999.000,9,-999.0000,9,  -999.0,9,  -999.0,9,   -999.0,9,  -999.00,-999.0000,9,  -999.00,-999.000,9,-999.0000,9, -999.00,9, -999.00,9,  -999.0,9,-999.000,9,-999.000,-999.000,9,-999.000,9,   39.46,2,   39.74,2, -999.00,1, -999.00,9, -999.00,1,-999.000,   0.1004,2,   0.0614,2,   0.0258,2,   0.0188,2,   0.0114,2,   0.0066,2,   0.0038,2,   0.0164,2,   0.0224,2,   4.9647,     -999.0,1,     -999.0,9,     -999.0,9,     -999.0,9,     -999.0,9,     -999.0,1,     -999.0,9,-999.0000, -999.00
33RO20071215,        P18,      85,          1,         18,      12025,4,20080112,       1902,   -20.5000,  -103.0002,       4031,   900.4,   4.6594,  34.4913,2,  34.4377,4,     92.5,2,    97.6,4,   21.00,3,   32.90,3,    0.00,3,    2.43,3,-999.000,9,-999.000,9,-999.0000,9,  2254.6,2,  2282.2,4,   -999.0,9,  -999.00,   7.4919,2,    25.00,-999.000,9,-999.0000,9, -999.00,9, -999.00,9,  -999.0,9,-999.000,9,-999.000,-999.000,9,-999.000,9,   40.85,4,   37.68,4, -999.00,1, -999.00,9, -999.00,9,-999.000,   0.1049,2,   0.0665,2,   0.0276,2,   0.0178,2,   0.0097,2,   0.0054,3,   0.0028,3,   0.0191,2,   0.0233,2,   4.5874,     -999.0,9,     -999.0,9,     -999.0,9,     -999.0,9,     -999.0,9,     -999.0,9,     -999.0,9,-999.0000, -999.00
33RO20071215,        P18,      85,          1,         17,      12016,2,20080112,       1902,   -20.5000,  -103.0002,       4031,  1000.1,   4.2708,  34.5116,2,  34.5126,2,     93.0,2,    92.7,2,   73.00,2,   40.50,2,    0.00,2,    2.85,2,-999.000,9,-999.000,9,-999.0000,9,  -999.0,9,  -999.0,9,   -999.0,9,  -999.00,-999.0000,9,  -999.00,-999.000,9,-999.0000,9, -999.00,9, -999.00,9,  -999.0,9,-999.000,9,-999.000,-999.000,9,-999.000,9,   38.23,2,   41.82,2, -999.00,1, -999.00,9, -999.00,9,-999.000,   0.1160,2,   0.0737,2,   0.0312,2,   0.0177,2,   0.0108,2,   0.0068,2,   0.0035,2,   0.0194,2,   0.0232,2,   4.1930,     -999.0,9,     -999.0,9,     -999.0,1,     -999.0,9,     -999.0,9,     -999.0,9,     -999.0,9,-999.0000, -999.00
33RO20071215,        P18,      85,          1,         16,      12051,2,20080112,       1902,   -20.5000,  -103.0002,       4031,  1100.9,   3.9558,  34.5276,2,  34.5274,2,     96.4,2,    95.7,2,   80.50,2,   40.30,2,    0.00,2,    2.85,2,-999.000,9,-999.000,9,-999.0000,9,  2287.9,2,  -999.0,9,   -999.0,9,  -999.00,-999.0000,9,  -999.00,-999.000,9,-999.0000,9, -999.00,9, -999.00,9,  -999.0,9,-999.000,9,-999.000,-999.000,9,-999.000,9,   37.51,2,   41.61,2, -999.00,9, -999.00,9, -999.00,9,-999.000,   0.1126,2,   0.0702,2,   0.0280,2,   0.0144,2,   0.0085,2,   0.0059,2,   0.0030,2,   0.0224,2,   0.0255,2,   3.8719,     -999.0,9,     -999.0,9,     -999.0,9,     -999.0,9,     -999.0,9,     -999.0,9,     -999.0,9,-999.0000, -999.00
33RO20071215,        P18,      85,          1,         15,      12014,2,20080112,       1902,   -20.5000,  -103.0002,       4031,  1200.9,   3.6505,  34.5447,2,  34.5444,2,     97.2,2,    97.3,2,   88.70,2,   40.50,2,    0.00,2,    2.86,2,-999.000,9,-999.000,9,-999.0000,9,  -999.0,9,  -999.0,9,   -999.0,9,  -999.00,-999.0000,9,  -999.00,-999.000,9,-999.0000,9, -999.00,9, -999.00,9,  -999.0,9,-999.000,9,-999.000,-999.000,9,-999.000,9,   36.80,2,   41.41,2, -999.00,9, -999.00,9, -999.00,9,-999.000,   0.1182,2,   0.0757,2,   0.0321,2,   0.0167,2,   0.0100,2,   0.0061,3,   0.0027,3,   0.0211,2,   0.0237,2,   3.5610,     -999.0,9,     -999.0,9,     -999.0,9,     -999.0,9,     -999.0,9,     -999.0,9,     -999.0,9,-999.0000, -999.00
33RO20071215,        P18,      85,          1,         14,      12013,2,20080112,       1902,   -20.5000,  -103.0002,       4031,  1300.7,   3.3868,  34.5579,2,  34.5590,2,    102.7,2,   103.3,2,   94.30,2,   40.00,2,    0.00,2,    2.82,2,-999.000,9,-999.000,9,-999.0000,9,  2301.2,2,  2355.5,2,   -999.0,9,  -999.00,   7.4920,2,    25.00,-999.000,9,-999.0000,9, -999.00,9, -999.00,9,  -999.0,9,-999.000,9,-999.000,-999.000,9,-999.000,9,   36.99,2,   41.38,2, -999.00,9, -999.00,9, -999.00,9,-999.000,   0.1207,2,   0.0777,2,   0.0323,2,   0.0157,2,   0.0086,3,   0.0050,3,   0.0015,3,   0.0227,2,   0.0244,2,   3.2914,     -999.0,9,     -999.0,9,     -999.0,9,     -999.0,9,     -999.0,9,     -999.0,9,     -999.0,9,-999.0000, -999.00
33RO20071215,        P18,      85,          1,         13,      12012,2,20080112,       1902,   -20.5000,  -103.0002,       4031,  1399.3,   3.1788,  34.5707,2,  34.5707,2,    104.6,2,   104.8,2,  100.00,2,   39.80,2,    0.00,2,    2.81,2,-999.000,9,-999.000,9,-999.0000,9,  -999.0,9,  -999.0,9,   -999.0,9,  -999.00,-999.0000,9,  -999.00,-999.000,9,-999.0000,9, -999.00,9, -999.00,9,  -999.0,9,-999.000,9,-999.000,-999.000,9,-999.000,9,   37.05,2,   40.72,2, -999.00,9, -999.00,9, -999.00,9,-999.000,   0.1390,2,   0.0954,2,   0.0470,2,   0.0255,2,   0.0140,2,   0.0043,2,  -0.0015,4,   0.0192,2,   0.0198,2,   3.0774,     -999.0,9,     -999.0,9,     -999.0,9,     -999.0,9,     -999.0,9,     -999.0,9,     -999.0,9,-999.0000, -999.00
33RO20071215,        P18,      85,          1,         12,      12031,2,20080112,       1902,   -20.5000,  -103.0002,       4031,  1600.3,   2.8224,  34.5931,2,  34.5941,2,    111.8,2,   112.4,2,  108.50,2,   39.20,2,    0.00,2,    2.76,2,-999.000,9,-999.000,9,-999.0000,9,  2310.1,2,  -999.0,9,   -999.0,9,  -999.00,-999.0000,9,  -999.00,-999.000,9,-999.0000,9, -999.00,9, -999.00,9,  -999.0,9,-999.000,9,-999.000,-999.000,9,-999.000,9,   36.70,2,   40.78,2, -999.00,9, -999.00,9, -999.00,9,-999.000,   0.1247,2,   0.0834,2,   0.0389,2,   0.0182,2,   0.0086,2,   0.0015,3,  -0.0030,4,   0.0218,2,   0.0220,2,   2.7083,     -999.0,9,     -999.0,9,     -999.0,9,     -999.0,9,     -999.0,9,     -999.0,9,     -999.0,9,-999.0000, -999.00