BOTTLE,20220818CCHSIOAMB
EXPOCODE,SECT_ID,STNNBR,CASTNO,SAMPNO,BTLNBR,BTLNBR_FLAG_W,DATE,TIME,LATITUDE,LONGITUDE,DEPTH,CTDPRS,CTDTMP,CTDSAL,CTDSAL_FLAG_W,SALNTY,SALNTY_FLAG_W,CTDOXY,CTDOXY_FLAG_W,OXYGEN,OXYGEN_FLAG_W,SILCAT,SILCAT_FLAG_W,NITRAT,NITRAT_FLAG_W,NITRIT,NITRIT_FLAG_W,PHSPHT,PHSPHT_FLAG_W,CFC-11,CFC-11_FLAG_W,CFC-12,CFC-12_FLAG_W,SF6,SF6_FLAG_W,TCARBN,TCARBN_FLAG_W,ALKALI,ALKALI_FLAG_W,FCO2,FCO2_FLAG_W,FCO2TMP,PH_SWS,PH_SWS_FLAG_W,PH_TMP,TRITUM,TRITUM_FLAG_W,HELIUM,HELIUM_FLAG_W,DELHE3,DELHE3_FLAG_W,DELC13,DELC13_FLAG_W,DELC14,DELC14_FLAG_W,NEON,NEON_FLAG_W,NEONER,CCL4,CCL4_FLAG_W,POC,POC_FLAG_W,DOC,DOC_FLAG_W,TDN,TDN_FLAG_W,DON,DON_FLAG_W,CHLORA,CHLORA_FLAG_W,ARGON,ARGON_FLAG_W,TRITER,CDOM325,CDOM325_FLAG_W,CDOM340,CDOM340_FLAG_W,CDOM380,CDOM380_FLAG_W,CDOM412,CDOM412_FLAG_W,CDOM443,CDOM443_FLAG_W,CDOM490,CDOM490_FLAG_W,CDOM555,CDOM555_FLAG_W,CDOMSL,CDOMSL_FLAG_W,CDOMSN,CDOMSN_FLAG_W,THETA,D18O_NO3,D18O_NO3_FLAG_W,CDOM2C,CDOM2C_FLAG_W,CDOM3C,CDOM3C_FLAG_W,LAB_DEN,LAB_DEN_FLAG_W,DELSI30,DELSI30_FLAG_W,N2,N2_FLAG_W,D15N_NO3,D15N_NO3_FLAG_W,HELIER,DELHER
,,,,,,,,,,,METERS,DBAR,ITS-90,PSS-78,,PSS-78,,UMOL/KG,,UMOL/KG,,UMOL/KG,,UMOL/KG,,UMOL/KG,,UMOL/KG,,PMOL/KG,,PMOL/KG,,FMOL/KG,,UMOL/KG,,UMOL/KG,,UATM,,DEG C,,,DEG C,TU,,NMOL/KG,,PERCNT,,/MILLE,,/MILLE,,NMOL/KG,,NMOL/KG,PMOL/KG,,UG/KG,,UMOL/KG,,UMOL/KG,,UMOL/KG,,UG/KG,,UMOL/KG,,TU,1/M,,1/M,,1/M,,1/M,,1/M,,1/M,,1/M,,1/NM,,1/NM,,DEG C,/MILLE,,,,,,,,/MILLE,,UMOL/KG,,/MILLE,,NMOL/KG,PERCNT
33RO20071215,        P18,      60,          1,         36,      12017,2,20080105,       0008,    -7.0833,  -107.0947,       3183,     5.1,  23.2490,  34.9729,2,  34.9730,2,    219.0,2,   218.9,2,    7.80,2,   12.70,2,    0.28,2,    0.91,2,   1.949,6,   1.216,6,   1.0292,6,  2073.3,6,  2297.9,2,    465.0,2,    20.00,   7.9092,2,    25.00,-999.000,9,-999.0000,9, -999.00,9, -999.00,9,  -999.0,9,-999.000,9,-999.000,-999.000,9,-999.000,9, -999.00,9, -999.00,9, -999.00,9, -999.00,9, -999.00,9,-999.000,-999.0000,9,-999.0000,9,-999.0000,9,-999.0000,9,-999.0000,9,-999.0000,9,-999.0000,9,-999.0000,9,-999.0000,9,  23.2480,     -999.0,9,     -999.0,9,     -999.0,9,     -999.0,9,     -999.0,9,     -999.0,9,     -999.0,9,-999.0000, -999.00
33RO20071215,        P18,      60,          1,         35,      12029,2,20080105,       0008,    -7.0833,  -107.0947,       3183,     9.3,  23.2508,  34.9728,2,  34.9752,2,    219.1,2,   219.4,2,    7.80,2,   12.70,2,    0.28,2,    0.91,2,-999.000,9,-999.000,9,-999.0000,9,  2072.3,2,  2308.2,2,   -999.0,9,  -999.00,   7.9139,2,    25.00,-999.000,9,-999.0000,9, -999.00,9,    0.94,2,  -999.0,1,-999.000,9,-999.000,-999.000,9,-999.000,9, -999.00,9, -999.00,9, -999.00,9, -999.00,9, -999.00,9,-999.000,-999.0000,9,-999.0000,9,-999.0000,9,-999.0000,9,-999.0000,9,-999.0000,9,-999.0000,9,-999.0000,9,-999.0000,9,  23.2489,     -999.0,9,     -999.0,9,     -999.0,9,     -999.0,9,     -999.0,9,     -999.0,9,     -999.0,9,-999.0000, -999.00
33RO20071215,        P18,      60,          1,         34,      12049,2,20080105,       0008,    -7.0833,  -107.0947,       3183,    16.9,  23.2305,  34.9717,2,  34.9725,2,    219.3,2,   218.9,2,    7.80,2,   12.80,2,    0.28,2,    0.92,2,-999.000,9,-999.000,9,-999.0000,9,  2072.2,2,  2307.5,2,    464.0,2,    20.00,   7.9201,2,    25.00,-999.000,9,-999.0000,9, -999.00,9, -999.00,9,  -999.0,9,-999.000,9,-999.000,-999.000,9,-999.000,9, -999.00,9, -999.00,9, -999.00,9, -999.00,9, -999.00,9,-999.000,-999.0000,9,-999.0000,9,-999.0000,9,-999.0000,9,-999.0000,9,-999.0000,9,-999.0000,9,-999.0000,9,-999.0000,9,  23.2271,     -999.0,9,     -999.0,9,     -999.0,9,     -999.0,9,     -999.0,9,     -999.0,9,     -999.0,9,-999.0000, -999.00
33RO20071215,        P18,      60,          1,         33,      12027,2,20080105,       0008,    -7.0833,  -107.0947,       3183,    32.9,  23.0942,  34.9743,2,  35.0137,2,    219.3,2,   218.5,2,    7.20,2,   12.40,2,    0.27,2,    0.91,2,   1.962,2,   1.222,2,   1.1072,2,  2073.1,2,  2310.7,2,    459.5,2,    20.00,   7.9314,2,    25.00,-999.000,9,-999.0000,9, -999.00,9, -999.00,9,  -999.0,9,-999.000,9,-999.000,-999.000,9,-999.000,9, -999.00,9, -999.00,9, -999.00,9, -999.00,9, -999.00,9,-999.000,-999.0000,9,-999.0000,9,-999.0000,9,-999.0000,9,-999.0000,9,-999.0000,9,-999.0000,9,-999.0000,9,-999.0000,9,  23.0874,     -999.0,9,     -999.0,9,     -999.0,9,     -999.0,9,     -999.0,9,     -999.0,9,     -999.0,9,-999.0000, -999.00
33RO20071215,        P18,      60,          1,         32,      12023,2,20080105,       0008,    -7.0833,  -107.0947,       3183,    53.2,  22.0944,  35.2603,2,  35.2796,2,    207.7,2,   206.5,2,    4.20,2,   10.00,2,    0.31,2,    0.90,2,-999.000,9,-999.000,9,-999.0000,9,  2084.3,2,  2327.6,2,   -999.0,9,  -999.00,   7.9122,2,    25.00,-999.000,9,-999.0000,9, -999.00,9,    0.97,2,  -999.0,1,-999.000,9,-999.000,-999.000,9,-999.000,9, -999.00,9, -999.00,9, -999.00,9, -999.00,9, -999.00,9,-999.000,-999.0000,9,-999.0000,9,-999.0000,9,-999.0000,9,-999.0000,9,-999.0000,9,-999.0000,9,-999.0000,9,-999.0000,9,  22.0838,     -999.0,9,     -999.0,9,     -999.0,9,     -999.0,9,     -999.0,9,     -999.0,9,     -999.0,9,-999.0000, -999.00
33RO20071215,        P18,      60,          1,         31,      12037,2,20080105,       0008,    -7.0833,  -107.0947,       3183,    72.5,  19.9649,  35.3265,2,  35.3222,2,    172.4,2,   168.7,2,    3.40,2,    9.10,2,    0.83,2,    0.97,2,   2.229,2,   1.353,2,   0.9856,2,  2117.4,2,  2331.7,2,    534.9,2,    20.00,   7.8676,2,    25.00,-999.000,9,-999.0000,9, -999.00,9, -999.00,9,  -999.0,9,-999.000,9,-999.000,-999.000,9,-999.000,9, -999.00,9, -999.00,9, -999.00,9, -999.00,9, -999.00,9,-999.000,-999.0000,9,-999.0000,9,-999.0000,9,-999.0000,9,-999.0000,9,-999.0000,9,-999.0000,9,-999.0000,9,-999.0000,9,  19.9515,     -999.0,9,     -999.0,9,     -999.0,9,     -999.0,9,     -999.0,9,     -999.0,9,     -999.0,9,-999.0000, -999.00
33RO20071215,        P18,      60,          1,         30,      12036,2,20080105,       0008,    -7.0833,  -107.0947,       3183,    94.1,  16.8990,  35.1383,2,  35.1208,2,    101.4,2,    83.7,2,    7.80,2,   19.10,2,    0.54,2,    1.65,2,-999.000,9,-999.000,9,-999.0000,9,  2184.1,2,  2313.1,2,    881.8,2,    20.00,   7.6848,2,    25.00,-999.000,9,-999.0000,9, -999.00,9, -999.00,9,  -999.0,9,-999.000,9,-999.000,-999.000,9,-999.000,9, -999.00,9, -999.00,9, -999.00,9, -999.00,9, -999.00,9,-999.000,-999.0000,9,-999.0000,9,-999.0000,9,-999.0000,9,-999.0000,9,-999.0000,9,-999.0000,9,-999.0000,9,-999.0000,9,  16.8836,     -999.0,9,     -999.0,9,     -999.0,9,     -999.0,9,     -999.0,9,     -999.0,9,     -999.0,9,-999.0000, -999.00
33RO20071215,        P18,      60,          1,         29,      12044,2,20080105,       0008,    -7.0833,  -107.0947,       3183,   114.6,  14.3026,  34.9912,2,  34.9821,2,     12.2,2,     8.8,2,   16.50,2,   26.90,2,    0.03,2,    2.33,2,-999.000,9,-999.000,9,-999.0000,9,  2243.2,2,  2301.1,2,   -999.0,9,  -999.00,   7.4792,2,    25.00,-999.000,9,-999.0000,9, -999.00,9,   -0.04,2,  -999.0,1,-999.000,9,-999.000,-999.000,9,-999.000,9, -999.00,9, -999.00,9, -999.00,9, -999.00,9, -999.00,9,-999.000,-999.0000,9,-999.0000,9,-999.0000,9,-999.0000,9,-999.0000,9,-999.0000,9,-999.0000,9,-999.0000,9,-999.0000,9,  14.2858,     -999.0,9,     -999.0,9,     -999.0,9,     -999.0,9,     -999.0,9,     -999.0,9,     -999.0,9,-999.0000, -999.00
33RO20071215,        P18,      60,          1,         28,      12057,2,20080105,       0008,    -7.0833,  -107.0947,       3183,   137.4,  13.1800,  34.9468,2,  34.9449,2,     19.1,2,    19.2,2,   20.20,2,   27.20,2,    0.01,2,    2.30,2,   1.020,2,   0.594,2,   0.2480,2,  2240.5,2,  2305.0,2,   1404.4,2,    20.00,   7.4957,2,    25.00,-999.000,9,-999.0000,9, -999.00,9, -999.00,9,  -999.0,9,-999.000,9,-999.000,-999.000,9,-999.000,9, -999.00,9, -999.00,9, -999.00,9, -999.00,9, -999.00,9,-999.000,-999.0000,9,-999.0000,9,-999.0000,9,-999.0000,9,-999.0000,9,-999.0000,9,-999.0000,9,-999.0000,9,-999.0000,9,  13.1610,     -999.0,9,     -999.0,9,     -999.0,9,     -999.0,9,     -999.0,9,     -999.0,9,     -999.0,9,-999.0000, -999.00
33RO20071215,        P18,      60,          1,         27,      12026,2,20080105,       0008,    -7.0833,  -107.0947,       3183,   161.0,  12.4394,  34.9299,2,  34.9201,2,     40.5,2,    51.4,2,   20.50,2,   28.50,2,    0.01,2,    2.06,2,-999.000,9,-999.000,9,-999.0000,9,  2218.7,2,  -999.0,9,   -999.0,9,  -999.00,-999.0000,9,  -999.00,-999.000,9,-999.0000,9, -999.00,9,    0.25,2,  -999.0,1,-999.000,9,-999.000,-999.000,9,-999.000,9, -999.00,9, -999.00,9, -999.00,9, -999.00,9, -999.00,9,-999.000,-999.0000,9,-999.0000,9,-999.0000,9,-999.0000,9,-999.0000,9,-999.0000,9,-999.0000,9,-999.0000,9,-999.0000,9,  12.4180,     -999.0,9,     -999.0,9,     -999.0,9,     -999.0,9,     -999.0,9,     -999.0,9,     -999.0,9,-999.0000, -999.00
33RO20071215,        P18,      60,          1,         26,      12030,2,20080105,       0008,    -7.0833,  -107.0947,       3183,   175.3,  12.1667,  34.9086,2,  34.9078,2,     57.9,2,    57.0,2,   21.10,2,   28.50,2,    0.01,2,    2.04,2,-999.000,9,-999.000,9,-999.0000,9,  2216.3,2,  2304.8,2,   1160.0,2,    20.00,   7.5693,2,    25.00,-999.000,9,-999.0000,9, -999.00,9, -999.00,9,  -999.0,9,-999.000,9,-999.000,-999.000,9,-999.000,9, -999.00,9, -999.00,9, -999.00,9, -999.00,9, -999.00,9,-999.000,-999.0000,9,-999.0000,9,-999.0000,9,-999.0000,9,-999.0000,9,-999.0000,9,-999.0000,9,-999.0000,9,-999.0000,9,  12.1436,     -999.0,9,     -999.0,9,     -999.0,9,     -999.0,9,     -999.0,9,     -999.0,9,     -999.0,9,-999.0000, -999.00
33RO20071215,        P18,      60,          1,         25,      12024,2,20080105,       0008,    -7.0833,  -107.0947,       3183,   191.9,  12.0034,  34.8953,2,  34.8946,2,     57.5,2,    56.9,2,   21.70,2,   28.80,2,    0.01,2,    2.05,2,   0.823,2,   0.476,2,   0.1660,2,  2216.8,2,  -999.0,9,   -999.0,9,  -999.00,-999.0000,9,  -999.00,-999.000,9,-999.0000,9, -999.00,9,    0.16,2,  -999.0,1,-999.000,9,-999.000,-999.000,9,-999.000,9, -999.00,9, -999.00,9, -999.00,9, -999.00,9, -999.00,9,-999.000,-999.0000,9,-999.0000,9,-999.0000,9,-999.0000,9,-999.0000,9,-999.0000,9,-999.0000,9,-999.0000,9,-999.0000,9,  11.9784,     -999.0,9,     -999.0,9,     -999.0,9,     -999.0,9,     -999.0,9,     -999.0,9,     -999.0,9,-999.0000, -999.00
33RO20071215,        P18,      60,          1,         24,      12019,2,20080105,       0008,    -7.0833,  -107.0947,       3183,   241.6,  11.2588,  34.8330,2,  34.8342,2,     28.9,2,    32.6,2,   27.10,2,   31.90,2,    0.00,2,    2.31,2,-999.000,9,-999.000,9,-999.0000,9,  2240.7,2,  2303.3,2,   1417.0,2,    20.00,   7.4885,2,    25.00,-999.000,9,-999.0000,9, -999.00,9,     0.1,2,  -999.0,1,-999.000,9,-999.000,-999.000,9,-999.000,9, -999.00,9, -999.00,9, -999.00,9, -999.00,9, -999.00,9,-999.000,-999.0000,9,-999.0000,9,-999.0000,9,-999.0000,9,-999.0000,9,-999.0000,9,-999.0000,9,-999.0000,9,-999.0000,9,  11.2285,     -999.0,9,     -999.0,9,     -999.0,9,     -999.0,9,     -999.0,9,     -999.0,9,     -999.0,9,-999.0000, -999.00
33RO20071215,        P18,      60,          1,         23,      12022,2,20080105,       0008,    -7.0833,  -107.0947,       3183,   282.8,  10.7687,  34.7994,2,  34.7983,2,     23.4,2,    22.6,2,   29.60,2,   33.70,2,    0.00,2,    2.44,2,-999.000,9,-999.000,9,-999.0000,9,  2252.3,2,  -999.0,9,   -999.0,9,  -999.00,-999.0000,9,  -999.00,-999.000,9,-999.0000,9, -999.00,9,    0.03,2,  -999.0,1,-999.000,9,-999.000,-999.000,9,-999.000,9, -999.00,9, -999.00,9, -999.00,9, -999.00,9, -999.00,9,-999.000,-999.0000,9,-999.0000,9,-999.0000,9,-999.0000,9,-999.0000,9,-999.0000,9,-999.0000,9,-999.0000,9,-999.0000,9,  10.7343,     -999.0,9,     -999.0,9,     -999.0,9,     -999.0,9,     -999.0,9,     -999.0,9,     -999.0,9,-999.0000, -999.00
33RO20071215,        P18,      60,          1,         22,      12015,2,20080105,       0008,    -7.0833,  -107.0947,       3183,   333.3,  10.0905,  34.7526,2,  34.7521,2,      5.6,2,     6.0,2,   35.00,2,   35.80,2,    0.00,2,    2.67,2,-999.000,9,-999.000,9,-999.0000,9,  2270.8,2,  2302.4,2,   -999.0,9,  -999.00,   7.3956,2,    25.00,-999.000,9,-999.0000,9, -999.00,9,    0.65,4,  -999.0,1,-999.000,9,-999.000,-999.000,9,-999.000,9, -999.00,9, -999.00,9, -999.00,9, -999.00,9, -999.00,9,-999.000,-999.0000,9,-999.0000,9,-999.0000,9,-999.0000,9,-999.0000,9,-999.0000,9,-999.0000,9,-999.0000,9,-999.0000,9,  10.0514,     -999.0,9,     -999.0,9,     -999.0,9,     -999.0,9,     -999.0,9,     -999.0,9,     -999.0,9,-999.0000, -999.00
33RO20071215,        P18,      60,          1,         21,      12020,2,20080105,       0008,    -7.0833,  -107.0947,       3183,   384.2,   9.4675,  34.7132,2,  34.7096,2,      3.2,2,     2.4,2,   38.80,2,   37.10,2,    0.00,2,    2.81,2,   0.098,2,   0.067,2,   0.0252,2,  2279.6,6,  -999.0,9,   1884.8,2,    20.00,-999.0000,9,  -999.00,-999.000,9,-999.0000,9, -999.00,9, -999.00,9,  -999.0,9,-999.000,9,-999.000,-999.000,9,-999.000,9, -999.00,9, -999.00,9, -999.00,9, -999.00,9, -999.00,9,-999.000,-999.0000,9,-999.0000,9,-999.0000,9,-999.0000,9,-999.0000,9,-999.0000,9,-999.0000,9,-999.0000,9,-999.0000,9,   9.4242,     -999.0,9,     -999.0,9,     -999.0,9,     -999.0,9,     -999.0,9,     -999.0,9,     -999.0,9,-999.0000, -999.00
33RO20071215,        P18,      60,          1,         20,      12055,2,20080105,       0008,    -7.0833,  -107.0947,       3183,   464.9,   8.4649,  34.6565,2,  34.6544,2,     12.3,2,    13.2,2,   40.80,2,   40.10,2,    0.00,2,    2.83,2,-999.000,9,-999.000,9,-999.0000,9,  2278.0,2,  -999.0,9,   -999.0,9,  -999.00,-999.0000,9,  -999.00,-999.000,9,-999.0000,9, -999.00,9,   -0.72,4,  -999.0,1,-999.000,9,-999.000,-999.000,9,-999.000,9, -999.00,9, -999.00,9, -999.00,9, -999.00,9, -999.00,9,-999.000,-999.0000,9,-999.0000,9,-999.0000,9,-999.0000,9,-999.0000,9,-999.0000,9,-999.0000,9,-999.0000,9,-999.0000,9,   8.4156,     -999.0,9,     -999.0,9,     -999.0,9,     -999.0,9,     -999.0,9,     -999.0,9,     -999.0,9,-999.0000, -999.00
33RO20071215,        P18,      60,          1,         19,      12018,2,20080105,       0008,    -7.0833,  -107.0947,       3183,   567.2,   7.2827,  34.6017,2,  34.6017,2,     15.2,2,    14.4,2,   48.90,2,   43.20,2,    0.00,2,    3.02,2,-999.000,9,-999.000,9,-999.0000,9,  -999.0,9,  -999.0,9,   -999.0,9,  -999.00,-999.0000,9,  -999.00,-999.000,9,-999.0000,9, -999.00,9, -999.00,9,  -999.0,9,-999.000,9,-999.000,-999.000,9,-999.000,9, -999.00,9, -999.00,9, -999.00,9, -999.00,9, -999.00,9,-999.000,-999.0000,9,-999.0000,9,-999.0000,9,-999.0000,9,-999.0000,9,-999.0000,9,-999.0000,9,-999.0000,9,-999.0000,9,   7.2272,     -999.0,9,     -999.0,9,     -999.0,9,     -999.0,9,     -999.0,9,     -999.0,9,     -999.0,9,-999.0000, -999.00
33RO20071215,        P18,      60,          1,         18,      12025,2,20080105,       0008,    -7.0833,  -107.0947,       3183,   667.2,   6.4590,  34.5673,2,  34.5677,2,     39.5,2,    37.5,2,   54.00,2,   42.70,2,    0.00,2,    2.95,2,-999.000,9,-999.000,9,-999.0000,9,  2283.0,2,  2304.6,4,   1793.3,2,    20.00,   7.3957,2,    25.00,-999.000,9,-999.0000,9, -999.00,9,    0.02,2,  -999.0,1,-999.000,9,-999.000,-999.000,9,-999.000,9, -999.00,9, -999.00,9, -999.00,9, -999.00,9, -999.00,9,-999.000,-999.0000,9,-999.0000,9,-999.0000,9,-999.0000,9,-999.0000,9,-999.0000,9,-999.0000,9,-999.0000,9,-999.0000,9,   6.3976,     -999.0,9,     -999.0,9,     -999.0,9,     -999.0,9,     -999.0,9,     -999.0,9,     -999.0,9,-999.0000, -999.00
33RO20071215,        P18,      60,          1,         17,      12016,2,20080105,       0008,    -7.0833,  -107.0947,       3183,   766.5,   5.8940,  34.5496,2,  34.5498,2,     59.9,2,    60.3,2,   58.90,2,   41.40,2,    0.00,2,    2.88,2,-999.000,9,-999.000,9,-999.0000,9,  -999.0,9,  -999.0,9,   -999.0,9,  -999.00,-999.0000,9,  -999.00,-999.000,9,-999.0000,9, -999.00,9, -999.00,9,  -999.0,9,-999.000,9,-999.000,-999.000,9,-999.000,9, -999.00,9, -999.00,9, -999.00,9, -999.00,9, -999.00,9,-999.000,-999.0000,9,-999.0000,9,-999.0000,9,-999.0000,9,-999.0000,9,-999.0000,9,-999.0000,9,-999.0000,9,-999.0000,9,   5.8261,     -999.0,9,     -999.0,9,     -999.0,9,     -999.0,9,     -999.0,9,     -999.0,9,     -999.0,9,-999.0000, -999.00
33RO20071215,        P18,      60,          1,         16,      12051,2,20080105,       0008,    -7.0833,  -107.0947,       3183,   866.5,   5.3149,  34.5402,2,  34.5397,2,     70.6,2,    70.2,2,   65.60,2,   41.10,2,    0.00,2,    2.87,2,-999.000,9,-999.000,9,-999.0000,9,  2281.2,2,  -999.0,9,   -999.0,9,  -999.00,-999.0000,9,  -999.00,-999.000,9,-999.0000,9, -999.00,9,    0.26,2,  -999.0,1,-999.000,9,-999.000,-999.000,9,-999.000,9, -999.00,9, -999.00,9, -999.00,9, -999.00,9, -999.00,9,-999.000,-999.0000,9,-999.0000,9,-999.0000,9,-999.0000,9,-999.0000,9,-999.0000,9,-999.0000,9,-999.0000,9,-999.0000,9,   5.2414,     -999.0,9,     -999.0,9,     -999.0,9,     -999.0,9,     -999.0,9,     -999.0,9,     -999.0,9,-999.0000, -999.00
33RO20071215,        P18,      60,          1,         15,      12014,2,20080105,       0008,    -7.0833,  -107.0947,       3183,   966.3,   4.7642,  34.5416,2,  34.5412,2,     79.2,2,    79.8,2,   75.50,2,   40.80,2,    0.00,2,    2.86,2,-999.000,9,-999.000,9,-999.0000,9,  -999.0,9,  -999.0,9,   -999.0,9,  -999.00,-999.0000,9,  -999.00,-999.000,9,-999.0000,9, -999.00,9, -999.00,9,  -999.0,9,-999.000,9,-999.000,-999.000,9,-999.000,9, -999.00,9, -999.00,9, -999.00,9, -999.00,9, -999.00,9,-999.000,-999.0000,9,-999.0000,9,-999.0000,9,-999.0000,9,-999.0000,9,-999.0000,9,-999.0000,9,-999.0000,9,-999.0000,9,   4.6856,     -999.0,9,     -999.0,9,     -999.0,9,     -999.0,9,     -999.0,9,     -999.0,9,     -999.0,9,-999.0000, -999.00
33RO20071215,        P18,      60,          1,         14,      12013,2,20080105,       0008,    -7.0833,  -107.0947,       3183,  1067.2,   4.2716,  34.5482,2,  34.5480,2,     96.5,2,    97.2,2,   83.20,2,   39.40,2,    0.00,2,    2.77,2,-999.000,9,-999.000,9,-999.0000,9,  2287.1,2,  2350.3,2,   1445.3,2,    20.00,   7.4965,2,    25.00,-999.000,9,-999.0000,9, -999.00,9, -999.00,5,  -999.0,1,-999.000,9,-999.000,-999.000,9,-999.000,9, -999.00,9, -999.00,9, -999.00,9, -999.00,9, -999.00,9,-999.000,-999.0000,9,-999.0000,9,-999.0000,9,-999.0000,9,-999.0000,9,-999.0000,9,-999.0000,9,-999.0000,9,-999.0000,9,   4.1880,     -999.0,9,     -999.0,9,     -999.0,9,     -999.0,9,     -999.0,9,     -999.0,9,     -999.0,9,-999.0000, -999.00
33RO20071215,        P18,      60,          1,         13,      12012,2,20080105,       0008,    -7.0833,  -107.0947,       3183,  1166.0,   3.9363,  34.5579,2,  34.5573,2,    102.0,2,   101.8,2,   90.20,2,   39.00,2,    0.00,2,    2.75,2,-999.000,9,-999.000,9,-999.0000,9,  -999.0,9,  -999.0,9,   -999.0,9,  -999.00,-999.0000,9,  -999.00,-999.000,9,-999.0000,9, -999.00,9, -999.00,9,  -999.0,9,-999.000,9,-999.000,-999.000,9,-999.000,9, -999.00,9, -999.00,9, -999.00,9, -999.00,9, -999.00,9,-999.000,-999.0000,9,-999.0000,9,-999.0000,9,-999.0000,9,-999.0000,9,-999.0000,9,-999.0000,9,-999.0000,9,-999.0000,9,   3.8470,     -999.0,9,     -999.0,9,     -999.0,9,     -999.0,9,     -999.0,9,     -999.0,9,     -999.0,9,-999.0000, -999.00
33RO20071215,        P18,      60,          1,         12,      12031,2,20080105,       0008,    -7.0833,  -107.0947,       3183,  1267.1,   3.6012,  34.5692,2,  34.5685,2,    106.5,2,   106.9,2,   97.30,2,   38.70,2,    0.00,2,    2.74,2,-999.000,9,-999.000,9,-999.0000,9,  2297.7,2,  -999.0,9,   -999.0,9,  -999.00,-999.0000,9,  -999.00,-999.000,9,-999.0000,9, -999.00,9, -999.00,9,  -999.0,9,-999.000,9,-999.000,-999.000,9,-999.000,9, -999.00,9, -999.00,9, -999.00,9, -999.00,9, -999.00,9,-999.000,-999.0000,9,-999.0000,9,-999.0000,9,-999.0000,9,-999.0000,9,-999.0000,9,-999.0000,9,-999.0000,9,-999.0000,9,   3.5066,     -999.0,9,     -999.0,9,     -999.0,9,     -999.0,9,     -999.0,9,     -999.0,9,     -999.0,9,-999.0000, -999.00