BOTTLE,20220818CCHSIOAMB
EXPOCODE,SECT_ID,STNNBR,CASTNO,SAMPNO,BTLNBR,BTLNBR_FLAG_W,DATE,TIME,LATITUDE,LONGITUDE,DEPTH,CTDPRS,CTDTMP,CTDSAL,CTDSAL_FLAG_W,SALNTY,SALNTY_FLAG_W,CTDOXY,CTDOXY_FLAG_W,OXYGEN,OXYGEN_FLAG_W,SILCAT,SILCAT_FLAG_W,NITRAT,NITRAT_FLAG_W,NITRIT,NITRIT_FLAG_W,PHSPHT,PHSPHT_FLAG_W,CFC-11,CFC-11_FLAG_W,CFC-12,CFC-12_FLAG_W,SF6,SF6_FLAG_W,TCARBN,TCARBN_FLAG_W,ALKALI,ALKALI_FLAG_W,FCO2,FCO2_FLAG_W,FCO2TMP,PH_SWS,PH_SWS_FLAG_W,PH_TMP,TRITUM,TRITUM_FLAG_W,HELIUM,HELIUM_FLAG_W,DELHE3,DELHE3_FLAG_W,DELC13,DELC13_FLAG_W,DELC14,DELC14_FLAG_W,NEON,NEON_FLAG_W,NEONER,CCL4,CCL4_FLAG_W,POC,POC_FLAG_W,DOC,DOC_FLAG_W,TDN,TDN_FLAG_W,DON,DON_FLAG_W,CHLORA,CHLORA_FLAG_W,ARGON,ARGON_FLAG_W,TRITER,CDOM325,CDOM325_FLAG_W,CDOM340,CDOM340_FLAG_W,CDOM380,CDOM380_FLAG_W,CDOM412,CDOM412_FLAG_W,CDOM443,CDOM443_FLAG_W,CDOM490,CDOM490_FLAG_W,CDOM555,CDOM555_FLAG_W,CDOMSL,CDOMSL_FLAG_W,CDOMSN,CDOMSN_FLAG_W,THETA,D18O_NO3,D18O_NO3_FLAG_W,CDOM2C,CDOM2C_FLAG_W,CDOM3C,CDOM3C_FLAG_W,LAB_DEN,LAB_DEN_FLAG_W,DELSI30,DELSI30_FLAG_W,N2,N2_FLAG_W,D15N_NO3,D15N_NO3_FLAG_W,HELIER,DELHER
,,,,,,,,,,,METERS,DBAR,ITS-90,PSS-78,,PSS-78,,UMOL/KG,,UMOL/KG,,UMOL/KG,,UMOL/KG,,UMOL/KG,,UMOL/KG,,PMOL/KG,,PMOL/KG,,FMOL/KG,,UMOL/KG,,UMOL/KG,,UATM,,DEG C,,,DEG C,TU,,NMOL/KG,,PERCNT,,/MILLE,,/MILLE,,NMOL/KG,,NMOL/KG,PMOL/KG,,UG/KG,,UMOL/KG,,UMOL/KG,,UMOL/KG,,UG/KG,,UMOL/KG,,TU,1/M,,1/M,,1/M,,1/M,,1/M,,1/M,,1/M,,1/NM,,1/NM,,DEG C,/MILLE,,,,,,,,/MILLE,,UMOL/KG,,/MILLE,,NMOL/KG,PERCNT
33RO20071215,        P18,      85,          1,         11,      12003,2,20080112,       1902,   -20.5000,  -103.0002,       4031,  1799.8,   2.4862,  34.6131,2,  34.6144,2,    127.0,2,   127.1,2,  113.20,2,   38.00,2,    0.00,2,    2.66,2,-999.000,9,-999.000,9,-999.0000,9,  -999.0,9,  -999.0,9,   -999.0,9,  -999.00,-999.0000,9,  -999.00,-999.000,9,-999.0000,9, -999.00,9, -999.00,9,  -999.0,9,-999.000,9,-999.000,-999.000,9,-999.000,9,   36.78,2,   39.01,2, -999.00,9, -999.00,9, -999.00,9,-999.000,   0.1063,2,   0.0664,2,   0.0249,2,   0.0081,2,   0.0025,2,   0.0015,3,  -0.0009,4,   0.0268,2,   0.0276,2,   2.3596,     -999.0,9,     -999.0,9,     -999.0,9,     -999.0,9,     -999.0,9,     -999.0,9,     -999.0,9,-999.0000, -999.00
33RO20071215,        P18,      85,          1,         10,      12032,2,20080112,       1902,   -20.5000,  -103.0002,       4031,  2000.7,   2.2105,  34.6328,2,  34.6320,2,    141.9,2,   142.2,2,  115.70,2,   36.70,2,    0.00,2,    2.55,2,-999.000,9,-999.000,9,-999.0000,9,  2300.1,2,  2388.3,2,   -999.0,9,  -999.00,   7.5486,2,    25.00,-999.000,9,-999.0000,9, -999.00,9, -999.00,9,  -999.0,9,-999.000,9,-999.000,-999.000,9,-999.000,9,   36.85,2,   37.71,2, -999.00,9, -999.00,9, -999.00,9,-999.000,   0.1077,2,   0.0694,2,   0.0285,2,   0.0094,2,   0.0026,2,  -0.0004,4,  -0.0035,4,   0.0251,2,   0.0254,2,   2.0707,     -999.0,9,     -999.0,9,     -999.0,9,     -999.0,9,     -999.0,9,     -999.0,9,     -999.0,9,-999.0000, -999.00
33RO20071215,        P18,      85,          1,          9,      12002,2,20080112,       1902,   -20.5000,  -103.0002,       4031,  2200.6,   2.0237,  34.6501,2,  34.6511,2,    151.9,2,   152.2,2,  117.60,2,   35.80,2,    0.00,2,    2.48,2,-999.000,9,-999.000,9,-999.0000,9,  -999.0,9,  -999.0,9,   -999.0,9,  -999.00,-999.0000,9,  -999.00,-999.000,9,-999.0000,9, -999.00,9, -999.00,9,  -999.0,9,-999.000,9,-999.000,-999.000,9,-999.000,9,   36.81,2,   37.56,2, -999.00,9, -999.00,9, -999.00,9,-999.000,   0.1066,2,   0.0664,2,   0.0233,2,   0.0048,3,  -0.0005,4,  -0.0005,4,  -0.0025,4,   0.0287,2,   0.0287,2,   1.8697,     -999.0,9,     -999.0,9,     -999.0,9,     -999.0,9,     -999.0,9,     -999.0,9,     -999.0,9,-999.0000, -999.00
33RO20071215,        P18,      85,          1,          8,      12021,2,20080112,       1902,   -20.5000,  -103.0002,       4031,  2401.4,   1.9066,  34.6640,2,  34.6655,2,    155.1,2,   155.3,2,  121.00,2,   35.40,2,    0.00,2,    2.46,2,-999.000,9,-999.000,9,-999.0000,9,  2298.7,2,  -999.0,9,   -999.0,9,  -999.00,-999.0000,9,  -999.00,-999.000,9,-999.0000,9, -999.00,9, -999.00,9,  -999.0,9,-999.000,9,-999.000,-999.000,9,-999.000,9,   37.03,2,   36.53,2, -999.00,9, -999.00,9, -999.00,9,-999.000,   0.1248,2,   0.0853,2,   0.0392,2,   0.0164,2,   0.0078,2,   0.0032,2,  -0.0021,4,   0.0127,2,   0.0222,2,   1.7369,     -999.0,9,     -999.0,9,     -999.0,9,     -999.0,9,     -999.0,9,     -999.0,9,     -999.0,9,-999.0000, -999.00
33RO20071215,        P18,      85,          1,          7,      12001,2,20080112,       1902,   -20.5000,  -103.0002,       4031,  2600.8,   1.8412,  34.6729,2,  34.6771,2,    156.1,2,   157.0,2,  123.40,2,   35.30,2,    0.00,2,    2.45,2,-999.000,9,-999.000,9,-999.0000,9,  -999.0,9,  -999.0,9,   -999.0,9,  -999.00,-999.0000,9,  -999.00,-999.000,9,-999.0000,9, -999.00,9, -999.00,9,  -999.0,9,-999.000,9,-999.000,-999.000,9,-999.000,9,   37.31,3,   36.28,3, -999.00,9, -999.00,9, -999.00,9,-999.000,   0.1105,2,   0.0729,2,   0.0306,2,   0.0091,3,   0.0019,2,  -0.0007,4,  -0.0043,4,   0.0104,4,   0.0246,2,   1.6546,     -999.0,9,     -999.0,9,     -999.0,9,     -999.0,9,     -999.0,9,     -999.0,9,     -999.0,9,-999.0000, -999.00
33RO20071215,        P18,      85,          1,          6,      12033,2,20080112,       1902,   -20.5000,  -103.0002,       4031,  2801.1,   1.8043,  34.6788,2,  34.6800,2,    154.7,2,   155.1,2,  126.50,2,   35.60,2,    0.00,2,    2.47,2,-999.000,9,-999.000,9,-999.0000,9,  2305.9,2,  2401.6,2,   -999.0,9,  -999.00,   7.5714,2,    25.00,-999.000,9,-999.0000,9, -999.00,9, -999.00,9,  -999.0,9,-999.000,9,-999.000,-999.000,9,-999.000,9,   36.05,2,   36.91,2, -999.00,9, -999.00,9, -999.00,9,-999.000,   0.0948,2,   0.0573,2,   0.0188,2,   0.0021,3,  -0.0018,4,  -0.0010,4,  -0.0024,4,   0.0090,4,   0.0307,2,   1.5998,     -999.0,9,     -999.0,9,     -999.0,9,     -999.0,9,     -999.0,9,     -999.0,9,     -999.0,9,-999.0000, -999.00
33RO20071215,        P18,      85,          1,          5,      12008,2,20080112,       1902,   -20.5000,  -103.0002,       4031,  3000.7,   1.7841,  34.6829,2,  34.6842,2,    153.0,2,   152.6,2,  129.70,2,   35.80,2,    0.00,2,    2.48,2,-999.000,9,-999.000,9,-999.0000,9,  -999.0,9,  -999.0,9,   -999.0,9,  -999.00,-999.0000,9,  -999.00,-999.000,9,-999.0000,9, -999.00,9, -999.00,9,  -999.0,9,-999.000,9,-999.000,-999.000,9,-999.000,9,   38.01,2,   37.08,2, -999.00,9, -999.00,9, -999.00,9,-999.000,   0.1045,2,   0.0663,2,   0.0263,2,   0.0093,2,   0.0033,2,   0.0016,2,  -0.0010,4,   0.0256,2,   0.0263,2,   1.5609,     -999.0,9,     -999.0,9,     -999.0,9,     -999.0,9,     -999.0,9,     -999.0,9,     -999.0,9,-999.0000, -999.00
33RO20071215,        P18,      85,          1,          4,      12009,2,20080112,       1902,   -20.5000,  -103.0002,       4031,  3250.5,   1.7760,  34.6862,2,  34.6864,2,    150.8,2,   151.4,2,  132.00,6,   35.60,6,    0.00,6,    2.49,2,-999.000,9,-999.000,9,-999.0000,9,  2316.2,2,  -999.0,9,   -999.0,9,  -999.00,-999.0000,9,  -999.00,-999.000,9,-999.0000,9, -999.00,9, -999.00,9,  -999.0,9,-999.000,9,-999.000,-999.000,9,-999.000,9,   36.43,2,   37.44,2, -999.00,9, -999.00,9, -999.00,9,-999.000,   0.1127,2,   0.0730,2,   0.0306,2,   0.0127,2,   0.0053,2,   0.0018,2,  -0.0011,4,   0.0116,2,   0.0247,2,   1.5283,     -999.0,9,     -999.0,9,     -999.0,9,     -999.0,9,     -999.0,9,     -999.0,9,     -999.0,9,-999.0000, -999.00
33RO20071215,        P18,      85,          1,          3,      12006,2,20080112,       1902,   -20.5000,  -103.0002,       4031,  3499.5,   1.7858,  34.6880,2,  34.6886,2,    151.1,2,   150.4,2,  133.20,6,   35.70,6,    0.00,6,    2.50,2,-999.000,9,-999.000,9,-999.0000,9,  -999.0,9,  -999.0,9,   -999.0,9,  -999.00,-999.0000,9,  -999.00,-999.000,9,-999.0000,9, -999.00,9, -999.00,9,  -999.0,9,-999.000,9,-999.000,-999.000,9,-999.000,9,   37.23,2,   36.93,2, -999.00,9, -999.00,9, -999.00,9,-999.000,   0.1306,2,   0.0885,2,   0.0412,2,   0.0216,2,   0.0117,2,   0.0045,2,   0.0001,4,   0.0201,2,   0.0210,2,   1.5124,     -999.0,9,     -999.0,9,     -999.0,9,     -999.0,9,     -999.0,9,     -999.0,9,     -999.0,9,-999.0000, -999.00
33RO20071215,        P18,      85,          1,          2,      12007,2,20080112,       1902,   -20.5000,  -103.0002,       4031,  3749.9,   1.8048,  34.6890,2,  34.6896,2,    151.1,2,   150.1,2,  133.70,6,   35.70,6,    0.00,6,    2.50,2,-999.000,9,-999.000,9,-999.0000,9,  2320.6,2,  2417.5,2,   -999.0,9,  -999.00,   7.5656,2,    25.00,-999.000,9,-999.0000,9, -999.00,9, -999.00,9,  -999.0,9,-999.000,9,-999.000,-999.000,9,-999.000,9,   36.47,2,   36.74,2, -999.00,9, -999.00,9, -999.00,9,-999.000,   0.1278,2,   0.0856,2,   0.0405,2,   0.0223,2,   0.0125,2,   0.0051,2,   0.0008,2,   0.0191,2,   0.0207,2,   1.5045,     -999.0,9,     -999.0,9,     -999.0,9,     -999.0,9,     -999.0,9,     -999.0,9,     -999.0,9,-999.0000, -999.00
33RO20071215,        P18,      85,          1,          1,      12035,2,20080112,       1902,   -20.5000,  -103.0002,       4031,  4102.7,   1.8377,  34.6891,2,  34.6895,2,    150.5,2,   150.7,2,  133.50,2,   36.10,2,    0.00,2,    2.50,2,-999.000,9,-999.000,9,-999.0000,9,  2321.4,6,  2420.5,2,   -999.0,9,  -999.00,   7.5641,2,    25.00,-999.000,9,-999.0000,9, -999.00,9, -999.00,9,  -999.0,9,-999.000,9,-999.000,-999.000,9,-999.000,9,   37.70,2,   36.92,2, -999.00,9, -999.00,9, -999.00,9,-999.000,   0.1340,2,   0.0906,2,   0.0441,2,   0.0259,2,   0.0150,2,   0.0060,2,   0.0014,2,   0.0179,2,   0.0195,2,   1.4977,     -999.0,9,     -999.0,9,     -999.0,9,     -999.0,9,     -999.0,9,     -999.0,9,     -999.0,9,-999.0000, -999.00