BOTTLE,20220818CCHSIOAMB
EXPOCODE,SECT_ID,STNNBR,CASTNO,SAMPNO,BTLNBR,BTLNBR_FLAG_W,DATE,TIME,LATITUDE,LONGITUDE,DEPTH,CTDPRS,CTDTMP,CTDSAL,CTDSAL_FLAG_W,SALNTY,SALNTY_FLAG_W,CTDOXY,CTDOXY_FLAG_W,OXYGEN,OXYGEN_FLAG_W,SILCAT,SILCAT_FLAG_W,NITRAT,NITRAT_FLAG_W,NITRIT,NITRIT_FLAG_W,PHSPHT,PHSPHT_FLAG_W,CFC-11,CFC-11_FLAG_W,CFC-12,CFC-12_FLAG_W,SF6,SF6_FLAG_W,TCARBN,TCARBN_FLAG_W,ALKALI,ALKALI_FLAG_W,FCO2,FCO2_FLAG_W,FCO2TMP,PH_SWS,PH_SWS_FLAG_W,PH_TMP,TRITUM,TRITUM_FLAG_W,HELIUM,HELIUM_FLAG_W,DELHE3,DELHE3_FLAG_W,DELC13,DELC13_FLAG_W,DELC14,DELC14_FLAG_W,NEON,NEON_FLAG_W,NEONER,CCL4,CCL4_FLAG_W,POC,POC_FLAG_W,DOC,DOC_FLAG_W,TDN,TDN_FLAG_W,DON,DON_FLAG_W,CHLORA,CHLORA_FLAG_W,ARGON,ARGON_FLAG_W,TRITER,CDOM325,CDOM325_FLAG_W,CDOM340,CDOM340_FLAG_W,CDOM380,CDOM380_FLAG_W,CDOM412,CDOM412_FLAG_W,CDOM443,CDOM443_FLAG_W,CDOM490,CDOM490_FLAG_W,CDOM555,CDOM555_FLAG_W,CDOMSL,CDOMSL_FLAG_W,CDOMSN,CDOMSN_FLAG_W,THETA,D18O_NO3,D18O_NO3_FLAG_W,CDOM2C,CDOM2C_FLAG_W,CDOM3C,CDOM3C_FLAG_W,LAB_DEN,LAB_DEN_FLAG_W,DELSI30,DELSI30_FLAG_W,N2,N2_FLAG_W,D15N_NO3,D15N_NO3_FLAG_W,HELIER,DELHER
,,,,,,,,,,,METERS,DBAR,ITS-90,PSS-78,,PSS-78,,UMOL/KG,,UMOL/KG,,UMOL/KG,,UMOL/KG,,UMOL/KG,,UMOL/KG,,PMOL/KG,,PMOL/KG,,FMOL/KG,,UMOL/KG,,UMOL/KG,,UATM,,DEG C,,,DEG C,TU,,NMOL/KG,,PERCNT,,/MILLE,,/MILLE,,NMOL/KG,,NMOL/KG,PMOL/KG,,UG/KG,,UMOL/KG,,UMOL/KG,,UMOL/KG,,UG/KG,,UMOL/KG,,TU,1/M,,1/M,,1/M,,1/M,,1/M,,1/M,,1/M,,1/NM,,1/NM,,DEG C,/MILLE,,,,,,,,/MILLE,,UMOL/KG,,/MILLE,,NMOL/KG,PERCNT
33RO20071215,        P18,       2,          1,         14,      11014,2,20071217,       2252,    22.7990,  -110.0015,        848,    10.4,  23.1106,  35.0769,2,  35.0909,2,    211.1,2,   212.2,2,    3.00,2,    0.50,2,    0.09,2,    0.55,2,   1.844,2,   1.165,2,   1.1572,2,  2056.9,2,  2342.7,2,    362.2,2,    20.00,   8.0054,2,    25.00,-999.000,9,-999.0000,9, -999.00,9, -999.00,9,  -999.0,9,-999.000,9,-999.000,-999.000,9,-999.000,9, -999.00,9, -999.00,9, -999.00,1, -999.00,9, -999.00,9,-999.000,-999.0000,9,-999.0000,9,-999.0000,9,-999.0000,9,-999.0000,9,-999.0000,9,-999.0000,9,-999.0000,9,-999.0000,9,  23.1084,     -999.0,9,     -999.0,9,     -999.0,9,     -999.0,1,     -999.0,9,     -999.0,9,     -999.0,9,-999.0000, -999.00
33RO20071215,        P18,       2,          1,         13,      11013,2,20071217,       2252,    22.7990,  -110.0015,        848,    24.9,  22.9109,  35.1222,2,  35.1258,2,    209.1,2,   209.5,2,    3.40,2,    0.80,2,    0.13,2,    0.62,2,-999.000,9,-999.000,9,-999.0000,9,  2065.8,2,  2349.7,2,    371.2,6,    20.00,   7.9740,2,    25.00,-999.000,9,-999.0000,9, -999.00,9, -999.00,9,  -999.0,9,-999.000,9,-999.000,-999.000,9,-999.000,9, -999.00,9, -999.00,9, -999.00,1, -999.00,9, -999.00,9,-999.000,-999.0000,9,-999.0000,9,-999.0000,9,-999.0000,9,-999.0000,9,-999.0000,9,-999.0000,9,-999.0000,9,-999.0000,9,  22.9058,     -999.0,9,     -999.0,9,     -999.0,9,     -999.0,1,     -999.0,9,     -999.0,9,     -999.0,9,-999.0000, -999.00
33RO20071215,        P18,       2,          1,         12,      11012,2,20071217,       2252,    22.7990,  -110.0015,        848,    48.3,  22.7793,  35.1481,2,  35.1576,2,    202.3,2,   203.7,2,    3.90,2,    1.10,2,    0.18,2,    0.70,2,   1.845,6,   1.171,6,   1.0707,6,  2076.4,2,  2353.5,2,    387.5,2,    20.00,   7.9822,2,    25.00,-999.000,9,-999.0000,9, -999.00,9, -999.00,9,  -999.0,9,-999.000,9,-999.000,-999.000,9,-999.000,9, -999.00,9, -999.00,9, -999.00,1, -999.00,9, -999.00,9,-999.000,-999.0000,9,-999.0000,9,-999.0000,9,-999.0000,9,-999.0000,9,-999.0000,9,-999.0000,9,-999.0000,9,-999.0000,9,  22.7695,     -999.0,9,     -999.0,9,     -999.0,9,     -999.0,1,     -999.0,9,     -999.0,9,     -999.0,9,-999.0000, -999.00
33RO20071215,        P18,       2,          1,         11,      11010,2,20071217,       2252,    22.7990,  -110.0015,        848,    93.5,  15.9035,  34.8113,2,  34.7918,2,     55.1,2,    55.6,2,   26.50,2,   21.70,2,    0.04,2,    2.20,2,-999.000,9,-999.000,9,-999.0000,9,  2236.6,2,  2319.5,2,   1234.0,2,    20.00,   7.5454,2,    25.00,-999.000,9,-999.0000,9, -999.00,9, -999.00,9,  -999.0,9,-999.000,9,-999.000,-999.000,9,-999.000,9, -999.00,9, -999.00,9, -999.00,1, -999.00,9, -999.00,9,-999.000,-999.0000,9,-999.0000,9,-999.0000,9,-999.0000,9,-999.0000,9,-999.0000,9,-999.0000,9,-999.0000,9,-999.0000,9,  15.8888,     -999.0,9,     -999.0,9,     -999.0,9,     -999.0,1,     -999.0,9,     -999.0,9,     -999.0,9,-999.0000, -999.00
33RO20071215,        P18,       2,          1,         10,      11011,2,20071217,       2252,    22.7990,  -110.0015,        848,   149.7,  12.8993,  34.6495,2,  34.6516,2,     17.7,2,    17.5,2,   30.90,2,   25.40,2,    0.02,2,    2.44,2,   1.256,2,   0.731,2,   0.4261,2,  2255.9,2,  2297.7,2,   1622.3,2,    20.00,   7.4366,2,    25.00,-999.000,9,-999.0000,9, -999.00,9, -999.00,9,  -999.0,9,-999.000,9,-999.000,-999.000,9,-999.000,9, -999.00,9, -999.00,9, -999.00,1, -999.00,9, -999.00,9,-999.000,-999.0000,9,-999.0000,9,-999.0000,9,-999.0000,9,-999.0000,9,-999.0000,9,-999.0000,9,-999.0000,9,-999.0000,9,  12.8789,     -999.0,9,     -999.0,9,     -999.0,9,     -999.0,1,     -999.0,9,     -999.0,9,     -999.0,9,-999.0000, -999.00
33RO20071215,        P18,       2,          1,          9,      11009,2,20071217,       2252,    22.7990,  -110.0015,        848,   200.6,  12.1179,  34.7445,2,  34.7469,2,      9.4,2,    10.6,2,   37.10,2,   25.90,2,    0.02,2,    2.58,2,-999.000,9,-999.000,9,-999.0000,9,  2274.5,2,  2297.6,2,   1703.6,3,    20.00,   7.4175,2,    25.00,-999.000,9,-999.0000,9, -999.00,9, -999.00,9,  -999.0,9,-999.000,9,-999.000,-999.000,9,-999.000,9, -999.00,9, -999.00,9, -999.00,1, -999.00,9, -999.00,9,-999.000,-999.0000,9,-999.0000,9,-999.0000,9,-999.0000,9,-999.0000,9,-999.0000,9,-999.0000,9,-999.0000,9,-999.0000,9,  12.0916,     -999.0,9,     -999.0,9,     -999.0,9,     -999.0,1,     -999.0,9,     -999.0,9,     -999.0,9,-999.0000, -999.00
33RO20071215,        P18,       2,          1,          8,      11008,2,20071217,       2252,    22.7990,  -110.0015,        848,   249.7,  11.4251,  34.7192,2,  34.7170,2,      8.1,2,     8.8,2,   40.70,2,   26.20,2,    0.02,2,    2.66,2,   0.602,2,   0.362,2,   0.2505,2,  2281.9,2,  2312.8,4,   -999.0,9,  -999.00,   7.3991,2,    25.00,-999.000,9,-999.0000,9, -999.00,9, -999.00,9,  -999.0,9,-999.000,9,-999.000,-999.000,9,-999.000,9, -999.00,9, -999.00,9, -999.00,1, -999.00,9, -999.00,9,-999.000,-999.0000,9,-999.0000,9,-999.0000,9,-999.0000,9,-999.0000,9,-999.0000,9,-999.0000,9,-999.0000,9,-999.0000,9,  11.3935,     -999.0,9,     -999.0,9,     -999.0,9,     -999.0,1,     -999.0,9,     -999.0,9,     -999.0,9,-999.0000, -999.00
33RO20071215,        P18,       2,          1,          7,      11007,2,20071217,       2252,    22.7990,  -110.0015,        848,   324.5,  10.3173,  34.6376,2,  34.6373,2,      4.3,2,     5.5,2,   42.40,2,   26.70,2,    0.02,2,    2.70,2,-999.000,9,-999.000,9,-999.0000,9,  2286.0,2,  2308.6,2,   1886.0,2,    20.00,   7.3832,2,    25.00,-999.000,9,-999.0000,9, -999.00,9, -999.00,9,  -999.0,9,-999.000,9,-999.000,-999.000,9,-999.000,9, -999.00,9, -999.00,9, -999.00,1, -999.00,9, -999.00,9,-999.000,-999.0000,9,-999.0000,9,-999.0000,9,-999.0000,9,-999.0000,9,-999.0000,9,-999.0000,9,-999.0000,9,-999.0000,9,  10.2788,     -999.0,9,     -999.0,9,     -999.0,9,     -999.0,1,     -999.0,9,     -999.0,9,     -999.0,9,-999.0000, -999.00
33RO20071215,        P18,       2,          1,          6,      11006,2,20071217,       2252,    22.7990,  -110.0015,        848,   400.5,   9.3418,  34.5907,2,  34.5918,2,      3.9,2,     4.0,2,   49.70,2,   29.10,2,    0.02,2,    2.83,2,   0.211,2,   0.124,2,   0.0827,2,  2295.3,2,  2313.5,2,   -999.0,9,  -999.00,   7.3649,2,    25.00,-999.000,9,-999.0000,9, -999.00,9, -999.00,9,  -999.0,9,-999.000,9,-999.000,-999.000,9,-999.000,9, -999.00,9, -999.00,9, -999.00,1, -999.00,9, -999.00,9,-999.000,-999.0000,9,-999.0000,9,-999.0000,9,-999.0000,9,-999.0000,9,-999.0000,9,-999.0000,9,-999.0000,9,-999.0000,9,   9.2970,     -999.0,9,     -999.0,9,     -999.0,9,     -999.0,1,     -999.0,9,     -999.0,9,     -999.0,9,-999.0000, -999.00
33RO20071215,        P18,       2,          1,          5,      11005,2,20071217,       2252,    22.7990,  -110.0015,        848,   501.2,   8.0146,  34.5385,2,  34.5373,2,      3.9,2,     3.2,2,   61.20,2,   33.00,2,    0.02,2,    2.96,2,   0.096,2,   0.056,2,   0.0352,2,  2308.6,2,  2324.8,2,   -999.0,9,  -999.00,   7.3535,2,    25.00,-999.000,9,-999.0000,9, -999.00,9, -999.00,9,  -999.0,9,-999.000,9,-999.000,-999.000,9,-999.000,9, -999.00,9, -999.00,9, -999.00,1, -999.00,9, -999.00,9,-999.000,-999.0000,9,-999.0000,9,-999.0000,9,-999.0000,9,-999.0000,9,-999.0000,9,-999.0000,9,-999.0000,9,-999.0000,9,   7.9631,     -999.0,9,     -999.0,9,     -999.0,9,     -999.0,1,     -999.0,9,     -999.0,9,     -999.0,9,-999.0000, -999.00
33RO20071215,        P18,       2,          1,          4,      11004,2,20071217,       2252,    22.7990,  -110.0015,        848,   600.2,   6.8157,  34.5149,2,  34.5153,2,      3.9,2,     4.6,2,   74.30,6,   36.70,6,    0.02,6,    3.10,2,   0.048,2,   0.027,2,   0.0211,2,  2323.9,6,  2336.0,2,   2087.4,2,    20.00,   7.3370,2,    25.00,-999.000,9,-999.0000,9, -999.00,9, -999.00,9,  -999.0,9,-999.000,9,-999.000,-999.000,9,-999.000,9, -999.00,9, -999.00,9, -999.00,1, -999.00,9, -999.00,9,-999.000,-999.0000,9,-999.0000,9,-999.0000,9,-999.0000,9,-999.0000,9,-999.0000,9,-999.0000,9,-999.0000,9,-999.0000,9,   6.7591,     -999.0,9,     -999.0,9,     -999.0,9,     -999.0,1,     -999.0,9,     -999.0,9,     -999.0,9,-999.0000, -999.00
33RO20071215,        P18,       2,          1,          3,      11003,3,20071217,       2252,    22.7990,  -110.0015,        848,   700.5,   6.2063,  34.5100,2,  34.5106,2,      4.3,2,     3.8,2,   81.10,6,   38.80,6,    0.02,6,    3.15,2,   0.029,2,   0.015,2,   0.0242,2,  2332.4,2,  2343.7,2,   -999.0,9,  -999.00,   7.3321,2,    25.00,-999.000,9,-999.0000,9, -999.00,9, -999.00,9,  -999.0,9,-999.000,9,-999.000,-999.000,9,-999.000,9, -999.00,9, -999.00,9, -999.00,1, -999.00,9, -999.00,9,-999.000,-999.0000,9,-999.0000,9,-999.0000,9,-999.0000,9,-999.0000,9,-999.0000,9,-999.0000,9,-999.0000,9,-999.0000,9,   6.1430,     -999.0,9,     -999.0,9,     -999.0,9,     -999.0,1,     -999.0,9,     -999.0,9,     -999.0,9,-999.0000, -999.00
33RO20071215,        P18,       2,          1,          2,      11002,2,20071217,       2252,    22.7990,  -110.0015,        848,   799.2,   5.5222,  34.5112,2,  34.5112,2,      5.6,2,     5.8,2,   90.40,6,   41.10,6,    0.02,6,    3.20,2,   0.019,2,   0.009,2,   0.0577,2,  2342.6,2,  2351.8,2,   -999.0,9,  -999.00,   7.3275,2,    25.00,-999.000,9,-999.0000,9, -999.00,9, -999.00,9,  -999.0,9,-999.000,9,-999.000,-999.000,9,-999.000,9, -999.00,9, -999.00,9, -999.00,1, -999.00,9, -999.00,9,-999.000,-999.0000,9,-999.0000,9,-999.0000,9,-999.0000,9,-999.0000,9,-999.0000,9,-999.0000,9,-999.0000,9,-999.0000,9,   5.4536,     -999.0,9,     -999.0,9,     -999.0,9,     -999.0,1,     -999.0,9,     -999.0,9,     -999.0,9,-999.0000, -999.00
33RO20071215,        P18,       2,          1,          1,      11001,2,20071217,       2252,    22.7990,  -110.0015,        848,   855.4,   5.3732,  34.5116,2,  34.5134,2,      6.3,2,     4.8,2,   92.70,2,   41.50,2,    0.02,2,    3.21,2,   0.017,2,   0.007,2,   0.0092,2,  2345.3,6,  2354.6,2,   2164.5,2,    20.00,   7.3296,2,    25.00,-999.000,9,-999.0000,9, -999.00,9, -999.00,9,  -999.0,9,-999.000,9,-999.000,-999.000,9,-999.000,9, -999.00,9, -999.00,9, -999.00,1, -999.00,9, -999.00,9,-999.000,-999.0000,9,-999.0000,9,-999.0000,9,-999.0000,9,-999.0000,9,-999.0000,9,-999.0000,9,-999.0000,9,-999.0000,9,   5.3004,     -999.0,9,     -999.0,9,     -999.0,9,     -999.0,1,     -999.0,9,     -999.0,9,     -999.0,9,-999.0000, -999.00