BOTTLE,20220818CCHSIOAMB
EXPOCODE,SECT_ID,STNNBR,CASTNO,SAMPNO,BTLNBR,BTLNBR_FLAG_W,DATE,TIME,LATITUDE,LONGITUDE,DEPTH,CTDPRS,CTDTMP,CTDSAL,CTDSAL_FLAG_W,SALNTY,SALNTY_FLAG_W,CTDOXY,CTDOXY_FLAG_W,OXYGEN,OXYGEN_FLAG_W,SILCAT,SILCAT_FLAG_W,NITRAT,NITRAT_FLAG_W,NITRIT,NITRIT_FLAG_W,PHSPHT,PHSPHT_FLAG_W,CFC-11,CFC-11_FLAG_W,CFC-12,CFC-12_FLAG_W,SF6,SF6_FLAG_W,TCARBN,TCARBN_FLAG_W,ALKALI,ALKALI_FLAG_W,FCO2,FCO2_FLAG_W,FCO2TMP,PH_SWS,PH_SWS_FLAG_W,PH_TMP,TRITUM,TRITUM_FLAG_W,HELIUM,HELIUM_FLAG_W,DELHE3,DELHE3_FLAG_W,DELC13,DELC13_FLAG_W,DELC14,DELC14_FLAG_W,NEON,NEON_FLAG_W,NEONER,CCL4,CCL4_FLAG_W,POC,POC_FLAG_W,DOC,DOC_FLAG_W,TDN,TDN_FLAG_W,DON,DON_FLAG_W,CHLORA,CHLORA_FLAG_W,ARGON,ARGON_FLAG_W,TRITER,CDOM325,CDOM325_FLAG_W,CDOM340,CDOM340_FLAG_W,CDOM380,CDOM380_FLAG_W,CDOM412,CDOM412_FLAG_W,CDOM443,CDOM443_FLAG_W,CDOM490,CDOM490_FLAG_W,CDOM555,CDOM555_FLAG_W,CDOMSL,CDOMSL_FLAG_W,CDOMSN,CDOMSN_FLAG_W,THETA,D18O_NO3,D18O_NO3_FLAG_W,CDOM2C,CDOM2C_FLAG_W,CDOM3C,CDOM3C_FLAG_W,LAB_DEN,LAB_DEN_FLAG_W,DELSI30,DELSI30_FLAG_W,N2,N2_FLAG_W,D15N_NO3,D15N_NO3_FLAG_W,HELIER,DELHER
,,,,,,,,,,,METERS,DBAR,ITS-90,PSS-78,,PSS-78,,UMOL/KG,,UMOL/KG,,UMOL/KG,,UMOL/KG,,UMOL/KG,,UMOL/KG,,PMOL/KG,,PMOL/KG,,FMOL/KG,,UMOL/KG,,UMOL/KG,,UATM,,DEG C,,,DEG C,TU,,NMOL/KG,,PERCNT,,/MILLE,,/MILLE,,NMOL/KG,,NMOL/KG,PMOL/KG,,UG/KG,,UMOL/KG,,UMOL/KG,,UMOL/KG,,UG/KG,,UMOL/KG,,TU,1/M,,1/M,,1/M,,1/M,,1/M,,1/M,,1/M,,1/NM,,1/NM,,DEG C,/MILLE,,,,,,,,/MILLE,,UMOL/KG,,/MILLE,,NMOL/KG,PERCNT
33RO20071215,        P18,      41,          1,         36,      12017,2,20071229,       0119,     1.4997,  -110.0043,       3794,     5.5,  25.0091,  34.0931,2,  34.0946,2,    210.2,2,   210.7,2,    1.80,2,    1.00,2,    0.04,2,    0.18,2,   1.753,6,   1.114,6,   1.0408,6,  1945.9,6,  2245.4,2,    302.8,2,    20.00,   8.0612,2,    25.00,-999.000,9,-999.0000,9, -999.00,9, -999.00,9,  -999.0,9,-999.000,9,-999.000,-999.000,9,-999.000,9,   73.47,2,    6.44,2, -999.00,1, -999.00,9, -999.00,9,-999.000,-999.0000,9,-999.0000,9,-999.0000,9,-999.0000,9,-999.0000,9,-999.0000,9,-999.0000,9,-999.0000,9,-999.0000,9,  25.0079,     -999.0,9,     -999.0,9,     -999.0,9,     -999.0,9,     -999.0,9,     -999.0,9,     -999.0,9,-999.0000, -999.00
33RO20071215,        P18,      41,          1,         35,      12029,2,20071229,       0119,     1.4997,  -110.0043,       3794,    13.9,  25.0131,  34.0930,2,  34.0933,2,    210.4,2,   210.6,2,    1.70,2,    1.10,2,    0.04,2,    0.19,2,-999.000,9,-999.000,9,-999.0000,9,  1945.0,2,  2248.0,2,   -999.0,9,  -999.00,   8.0559,2,    25.00,-999.000,9,-999.0000,9, -999.00,9, -999.00,9,  -999.0,9,-999.000,9,-999.000,-999.000,9,-999.000,9, -999.00,9, -999.00,9, -999.00,1, -999.00,9, -999.00,9,-999.000,-999.0000,9,-999.0000,9,-999.0000,9,-999.0000,9,-999.0000,9,-999.0000,9,-999.0000,9,-999.0000,9,-999.0000,9,  25.0101,     -999.0,9,     -999.0,9,     -999.0,9,     -999.0,9,     -999.0,9,     -999.0,9,     -999.0,9,-999.0000, -999.00
33RO20071215,        P18,      41,          1,         34,      12049,2,20071229,       0119,     1.4997,  -110.0043,       3794,    28.0,  24.9682,  34.0800,2,  34.0848,2,    211.0,2,   209.8,2,    1.90,2,    1.20,2,    0.04,2,    0.19,2,-999.000,9,-999.000,9,-999.0000,9,  1945.3,2,  2235.3,2,   -999.0,9,  -999.00,   8.0569,2,    25.00,-999.000,9,-999.0000,9, -999.00,9, -999.00,9,  -999.0,9,-999.000,9,-999.000,-999.000,9,-999.000,9,   73.14,2,    6.28,2, -999.00,1, -999.00,9, -999.00,9,-999.000,-999.0000,9,-999.0000,9,-999.0000,9,-999.0000,9,-999.0000,9,-999.0000,9,-999.0000,9,-999.0000,9,-999.0000,9,  24.9622,     -999.0,9,     -999.0,9,     -999.0,9,     -999.0,9,     -999.0,9,     -999.0,9,     -999.0,9,-999.0000, -999.00
33RO20071215,        P18,      41,          1,         33,      12027,2,20071229,       0119,     1.4997,  -110.0043,       3794,    46.9,  19.4705,  34.6857,2,  34.7169,2,    177.0,2,   160.2,2,   11.00,2,   15.30,2,    0.33,2,    1.11,2,   1.820,2,   1.086,2,   0.7584,2,  2106.7,2,  -999.0,5,    603.2,2,    20.00,   7.8225,2,    25.00,-999.000,9,-999.0000,9, -999.00,9, -999.00,9,  -999.0,9,-999.000,9,-999.000,-999.000,9,-999.000,9, -999.00,9, -999.00,9, -999.00,1, -999.00,9, -999.00,9,-999.000,-999.0000,9,-999.0000,9,-999.0000,9,-999.0000,9,-999.0000,9,-999.0000,9,-999.0000,9,-999.0000,9,-999.0000,9,  19.4621,     -999.0,9,     -999.0,9,     -999.0,9,     -999.0,9,     -999.0,9,     -999.0,9,     -999.0,9,-999.0000, -999.00
33RO20071215,        P18,      41,          1,         32,      12023,2,20071229,       0119,     1.4997,  -110.0043,       3794,    67.3,  14.0765,  34.9520,2,  34.9518,2,     57.6,2,    57.7,2,   18.50,2,   26.20,2,    0.33,2,    1.76,2,-999.000,9,-999.000,9,-999.0000,9,  2198.9,2,  2302.8,2,   1034.5,2,    20.00,   7.6095,2,    25.00,-999.000,9,-999.0000,9, -999.00,9, -999.00,9,  -999.0,9,-999.000,9,-999.000,-999.000,9,-999.000,9,   50.14,2,   30.13,2, -999.00,1, -999.00,9, -999.00,9,-999.000,-999.0000,9,-999.0000,9,-999.0000,9,-999.0000,9,-999.0000,9,-999.0000,9,-999.0000,9,-999.0000,9,-999.0000,9,  14.0668,     -999.0,9,     -999.0,9,     -999.0,9,     -999.0,9,     -999.0,9,     -999.0,9,     -999.0,9,-999.0000, -999.00
33RO20071215,        P18,      41,          1,         31,      12037,2,20071229,       0119,     1.4997,  -110.0043,       3794,    86.7,  13.6744,  34.9485,2,  34.9602,2,     59.8,2,    58.6,2,   19.40,2,   26.40,2,    0.03,2,    1.77,2,-999.000,9,-999.000,9,-999.0000,9,  2199.8,2,  2303.3,2,   1038.1,2,    20.00,   7.6077,2,    25.00,-999.000,9,-999.0000,9, -999.00,9, -999.00,9,  -999.0,9,-999.000,9,-999.000,-999.000,9,-999.000,9, -999.00,9, -999.00,9, -999.00,1, -999.00,9, -999.00,9,-999.000,-999.0000,9,-999.0000,9,-999.0000,9,-999.0000,9,-999.0000,9,-999.0000,9,-999.0000,9,-999.0000,9,-999.0000,9,  13.6621,     -999.0,9,     -999.0,9,     -999.0,9,     -999.0,9,     -999.0,9,     -999.0,9,     -999.0,9,-999.0000, -999.00
33RO20071215,        P18,      41,          1,         30,      12036,2,20071229,       0119,     1.4997,  -110.0043,       3794,   109.1,  13.5594,  34.9443,2,  34.9452,2,     56.8,2,    56.3,2,   19.80,2,   26.80,2,    0.02,2,    1.79,2,   1.254,2,   0.705,2,   0.3098,2,  2202.9,2,  2302.5,2,   -999.0,9,  -999.00,   7.6041,2,    25.00,-999.000,9,-999.0000,9, -999.00,9, -999.00,9,  -999.0,9,-999.000,9,-999.000,-999.000,9,-999.000,9,   47.82,2,   30.60,2, -999.00,1, -999.00,9, -999.00,9,-999.000,-999.0000,9,-999.0000,9,-999.0000,9,-999.0000,9,-999.0000,9,-999.0000,9,-999.0000,9,-999.0000,9,-999.0000,9,  13.5441,     -999.0,9,     -999.0,9,     -999.0,9,     -999.0,9,     -999.0,9,     -999.0,9,     -999.0,9,-999.0000, -999.00
33RO20071215,        P18,      41,          1,         29,      12044,2,20071229,       0119,     1.4997,  -110.0043,       3794,   133.5,  13.1246,  34.9180,2,  34.9184,2,     40.6,2,    40.2,2,   21.80,2,   29.00,2,    0.01,2,    1.95,2,-999.000,9,-999.000,9,-999.0000,9,  2217.9,2,  -999.0,9,   1163.1,2,    20.00,   7.5731,2,    25.00,-999.000,9,-999.0000,9, -999.00,9, -999.00,9,  -999.0,9,-999.000,9,-999.000,-999.000,9,-999.000,9, -999.00,9, -999.00,9, -999.00,1, -999.00,9, -999.00,9,-999.000,-999.0000,9,-999.0000,9,-999.0000,9,-999.0000,9,-999.0000,9,-999.0000,9,-999.0000,9,-999.0000,9,-999.0000,9,  13.1062,     -999.0,9,     -999.0,9,     -999.0,9,     -999.0,9,     -999.0,9,     -999.0,9,     -999.0,9,-999.0000, -999.00
33RO20071215,        P18,      41,          1,         28,      12057,2,20071229,       0119,     1.4997,  -110.0043,       3794,   153.1,  12.5973,  34.8903,2,  34.8911,2,     41.4,2,    40.2,2,   23.20,2,   29.80,2,    0.01,2,    1.98,2,   0.975,2,   0.548,2,   0.2533,2,  2222.8,2,  2301.9,2,   -999.0,9,  -999.00,   7.5453,2,    25.00,-999.000,9,-999.0000,9, -999.00,9, -999.00,9,  -999.0,9,-999.000,9,-999.000,-999.000,9,-999.000,9,   47.01,2,   32.33,2, -999.00,1, -999.00,9, -999.00,9,-999.000,-999.0000,9,-999.0000,9,-999.0000,9,-999.0000,9,-999.0000,9,-999.0000,9,-999.0000,9,-999.0000,9,-999.0000,9,  12.5767,     -999.0,9,     -999.0,9,     -999.0,9,     -999.0,9,     -999.0,9,     -999.0,9,     -999.0,9,-999.0000, -999.00
33RO20071215,        P18,      41,          1,         27,      12026,2,20071229,       0119,     1.4997,  -110.0043,       3794,   182.4,  12.1478,  34.8686,2,  34.8758,2,     43.1,2,    43.9,2,   24.40,2,   30.10,2,    0.01,2,    2.02,2,-999.000,9,-999.000,9,-999.0000,9,  2225.7,2,  -999.0,9,   -999.0,9,  -999.00,-999.0000,9,  -999.00,-999.000,9,-999.0000,9, -999.00,9, -999.00,9,  -999.0,9,-999.000,9,-999.000,-999.000,9,-999.000,9, -999.00,9, -999.00,9, -999.00,1, -999.00,9, -999.00,9,-999.000,-999.0000,9,-999.0000,9,-999.0000,9,-999.0000,9,-999.0000,9,-999.0000,9,-999.0000,9,-999.0000,9,-999.0000,9,  12.1238,     -999.0,9,     -999.0,9,     -999.0,9,     -999.0,9,     -999.0,9,     -999.0,9,     -999.0,9,-999.0000, -999.00
33RO20071215,        P18,      41,          1,         26,      12030,2,20071229,       0119,     1.4997,  -110.0043,       3794,   217.6,  12.0565,  34.8621,2,  34.8684,2,     32.0,2,    31.8,2,   25.60,2,   31.40,2,    0.01,2,    2.10,2,   0.809,2,   0.457,2,   0.1762,2,  2234.3,2,  2302.8,2,   1300.4,2,    20.00,   7.5124,2,    25.00,-999.000,9,-999.0000,9, -999.00,9, -999.00,9,  -999.0,9,-999.000,9,-999.000,-999.000,9,-999.000,9,   46.07,2,   33.30,2, -999.00,1, -999.00,9, -999.00,9,-999.000,-999.0000,9,-999.0000,9,-999.0000,9,-999.0000,9,-999.0000,9,-999.0000,9,-999.0000,9,-999.0000,9,-999.0000,9,  12.0280,     -999.0,9,     -999.0,9,     -999.0,9,     -999.0,9,     -999.0,9,     -999.0,9,     -999.0,9,-999.0000, -999.00
33RO20071215,        P18,      41,          1,         25,      12024,2,20071229,       0119,     1.4997,  -110.0043,       3794,   267.3,  11.8743,  34.8480,2,  34.8516,2,     30.5,2,    31.5,2,   26.10,2,   31.90,2,    0.01,2,    2.14,2,-999.000,9,-999.000,9,-999.0000,9,  2236.1,2,  -999.0,9,   -999.0,9,  -999.00,-999.0000,9,  -999.00,-999.000,9,-999.0000,9, -999.00,9, -999.00,9,  -999.0,9,-999.000,9,-999.000,-999.000,9,-999.000,9,   45.71,2,   33.55,2, -999.00,1, -999.00,9, -999.00,9,-999.000,-999.0000,9,-999.0000,9,-999.0000,9,-999.0000,9,-999.0000,9,-999.0000,9,-999.0000,9,-999.0000,9,-999.0000,9,  11.8397,     -999.0,9,     -999.0,9,     -999.0,9,     -999.0,9,     -999.0,9,     -999.0,9,     -999.0,9,-999.0000, -999.00
33RO20071215,        P18,      41,          1,         24,      12019,2,20071229,       0119,     1.4997,  -110.0043,       3794,   313.4,  11.5403,  34.8209,2,  34.8180,2,     23.4,2,    24.1,2,   28.00,2,   33.10,2,    0.01,2,    2.24,2,   0.656,2,   0.371,2,   0.1516,2,  2244.1,2,  2300.7,2,   -999.0,9,  -999.00,   7.4765,2,    25.00,-999.000,9,-999.0000,9, -999.00,9, -999.00,9,  -999.0,9,-999.000,9,-999.000,-999.000,9,-999.000,9,   45.12,2,   34.92,2, -999.00,1, -999.00,9, -999.00,9,-999.000,-999.0000,9,-999.0000,9,-999.0000,9,-999.0000,9,-999.0000,9,-999.0000,9,-999.0000,9,-999.0000,9,-999.0000,9,  11.5003,     -999.0,9,     -999.0,9,     -999.0,9,     -999.0,9,     -999.0,9,     -999.0,9,     -999.0,9,-999.0000, -999.00
33RO20071215,        P18,      41,          1,         23,      12022,2,20071229,       0119,     1.4997,  -110.0043,       3794,   369.7,  10.1069,  34.7325,2,  34.7322,2,     17.1,2,    15.4,2,   34.40,2,   36.20,2,    0.01,2,    2.48,2,-999.000,9,-999.000,9,-999.0000,9,  -999.0,9,  -999.0,9,   -999.0,9,  -999.00,-999.0000,9,  -999.00,-999.000,9,-999.0000,9, -999.00,9, -999.00,9,  -999.0,9,-999.000,9,-999.000,-999.000,9,-999.000,9,   44.07,2,   37.60,2, -999.00,1, -999.00,9, -999.00,9,-999.000,-999.0000,9,-999.0000,9,-999.0000,9,-999.0000,9,-999.0000,9,-999.0000,9,-999.0000,9,-999.0000,9,-999.0000,9,  10.0634,     -999.0,9,     -999.0,9,     -999.0,9,     -999.0,9,     -999.0,9,     -999.0,9,     -999.0,9,-999.0000, -999.00
33RO20071215,        P18,      41,          1,         22,      12015,2,20071229,       0119,     1.4997,  -110.0043,       3794,   433.4,   8.6855,  34.6581,2,  34.6586,2,     23.5,2,    23.8,2,   40.30,2,   38.70,2,    0.00,2,    2.64,2,   0.144,2,   0.084,2,   0.0000,2,  2270.8,6,  2306.5,2,   -999.0,9,  -999.00,   7.4125,2,    25.00,-999.000,9,-999.0000,9, -999.00,9, -999.00,9,  -999.0,9,-999.000,9,-999.000,-999.000,9,-999.000,9,   43.27,2,   39.90,2, -999.00,1, -999.00,9, -999.00,9,-999.000,-999.0000,9,-999.0000,9,-999.0000,9,-999.0000,9,-999.0000,9,-999.0000,9,-999.0000,9,-999.0000,9,-999.0000,9,   8.6390,     -999.0,9,     -999.0,9,     -999.0,9,     -999.0,9,     -999.0,9,     -999.0,9,     -999.0,9,-999.0000, -999.00
33RO20071215,        P18,      41,          1,         21,      12020,2,20071229,       0119,     1.4997,  -110.0043,       3794,   529.5,   7.8464,  34.6153,2,  34.6211,2,     38.9,2,    37.6,2,   44.30,2,   39.00,2,    0.00,2,    2.68,2,-999.000,9,-999.000,9,-999.0000,9,  -999.0,9,  -999.0,9,   -999.0,9,  -999.00,-999.0000,9,  -999.00,-999.000,9,-999.0000,9, -999.00,9, -999.00,9,  -999.0,9,-999.000,9,-999.000,-999.000,9,-999.000,9,   42.42,2,   40.41,2, -999.00,1, -999.00,9, -999.00,9,-999.000,-999.0000,9,-999.0000,9,-999.0000,9,-999.0000,9,-999.0000,9,-999.0000,9,-999.0000,9,-999.0000,9,-999.0000,9,   7.7926,     -999.0,9,     -999.0,9,     -999.0,9,     -999.0,9,     -999.0,9,     -999.0,9,     -999.0,9,-999.0000, -999.00
33RO20071215,        P18,      41,          1,         20,      12055,2,20071229,       0119,     1.4997,  -110.0043,       3794,   633.3,   6.7415,  34.5743,2,  34.5748,2,     49.1,2,    49.3,2,   53.90,2,   40.00,2,    0.00,2,    2.78,2,   0.040,2,   0.025,2,   0.0000,2,  2277.9,2,  2322.7,2,   -999.0,9,  -999.00,   7.4315,2,    25.00,-999.000,9,-999.0000,9, -999.00,9, -999.00,9,  -999.0,9,-999.000,9,-999.000,-999.000,9,-999.000,9,   41.64,2,   41.50,2, -999.00,1, -999.00,9, -999.00,9,-999.000,-999.0000,9,-999.0000,9,-999.0000,9,-999.0000,9,-999.0000,9,-999.0000,9,-999.0000,9,-999.0000,9,-999.0000,9,   6.6819,     -999.0,9,     -999.0,9,     -999.0,9,     -999.0,9,     -999.0,9,     -999.0,9,     -999.0,9,-999.0000, -999.00
33RO20071215,        P18,      41,          1,         19,      12018,2,20071229,       0119,     1.4997,  -110.0043,       3794,   734.3,   6.2729,  34.5612,2,  34.5692,2,     59.3,2,    59.5,2,   57.70,2,   40.00,2,    0.00,2,    2.77,2,-999.000,9,-999.000,9,-999.0000,9,  -999.0,9,  -999.0,9,   -999.0,9,  -999.00,-999.0000,9,  -999.00,-999.000,9,-999.0000,9, -999.00,9, -999.00,9,  -999.0,9,-999.000,9,-999.000,-999.000,9,-999.000,9,   40.85,2,   41.36,2, -999.00,1, -999.00,9, -999.00,9,-999.000,-999.0000,9,-999.0000,9,-999.0000,9,-999.0000,9,-999.0000,9,-999.0000,9,-999.0000,9,-999.0000,9,-999.0000,9,   6.2059,     -999.0,9,     -999.0,9,     -999.0,9,     -999.0,9,     -999.0,9,     -999.0,9,     -999.0,9,-999.0000, -999.00
33RO20071215,        P18,      41,          1,         18,      12025,2,20071229,       0119,     1.4997,  -110.0043,       3794,   832.7,   5.5528,  34.5549,2,  34.5606,2,     65.7,2,    65.5,2,   68.50,2,   40.40,2,    0.00,2,    2.82,2,-999.000,9,-999.000,9,-999.0000,9,  2287.5,2,  -999.0,9,   -999.0,9,  -999.00,-999.0000,9,  -999.00,-999.000,9,-999.0000,9, -999.00,9, -999.00,9,  -999.0,9,-999.000,9,-999.000,-999.000,9,-999.000,9,   40.43,2,   41.65,2, -999.00,1, -999.00,9, -999.00,9,-999.000,-999.0000,9,-999.0000,9,-999.0000,9,-999.0000,9,-999.0000,9,-999.0000,9,-999.0000,9,-999.0000,9,-999.0000,9,   5.4808,     -999.0,9,     -999.0,9,     -999.0,9,     -999.0,9,     -999.0,9,     -999.0,9,     -999.0,9,-999.0000, -999.00
33RO20071215,        P18,      41,          1,         17,      12016,2,20071229,       0119,     1.4997,  -110.0043,       3794,   902.2,   5.1829,  34.5524,2,  34.5539,2,     71.3,2,    72.2,2,   73.90,2,   40.10,2,    0.00,2,    2.81,2,-999.000,9,-999.000,9,-999.0000,9,  -999.0,9,  -999.0,9,   -999.0,9,  -999.00,-999.0000,9,  -999.00,-999.000,9,-999.0000,9, -999.00,9, -999.00,9,  -999.0,9,-999.000,9,-999.000,-999.000,9,-999.000,9,   40.44,2,   41.51,2, -999.00,1, -999.00,9, -999.00,9,-999.000,-999.0000,9,-999.0000,9,-999.0000,9,-999.0000,9,-999.0000,9,-999.0000,9,-999.0000,9,-999.0000,9,-999.0000,9,   5.1070,     -999.0,9,     -999.0,9,     -999.0,9,     -999.0,9,     -999.0,9,     -999.0,9,     -999.0,9,-999.0000, -999.00
33RO20071215,        P18,      41,          1,         16,      12051,2,20071229,       0119,     1.4997,  -110.0043,       3794,  1034.7,   4.7097,  34.5607,2,  34.5622,2,     69.1,2,    68.3,2,   84.60,2,   40.80,2,    0.00,2,    2.88,2,-999.000,9,-999.000,9,-999.0000,9,  2304.4,2,  2355.9,2,   -999.0,9,  -999.00,   7.4507,2,    25.00,-999.000,9,-999.0000,9, -999.00,9, -999.00,9,  -999.0,9,-999.000,9,-999.000,-999.000,9,-999.000,9,   39.29,2,   42.20,2, -999.00,9, -999.00,9, -999.00,9,-999.000,-999.0000,9,-999.0000,9,-999.0000,9,-999.0000,9,-999.0000,9,-999.0000,9,-999.0000,9,-999.0000,9,-999.0000,9,   4.6254,     -999.0,9,     -999.0,9,     -999.0,9,     -999.0,9,     -999.0,9,     -999.0,9,     -999.0,9,-999.0000, -999.00
33RO20071215,        P18,      41,          1,         15,      12014,2,20071229,       0119,     1.4997,  -110.0043,       3794,  1122.1,   4.2336,  34.5664,2,  34.5681,2,     79.3,2,    78.4,2,   93.00,2,   40.30,2,    0.00,2,    2.85,2,-999.000,9,-999.000,9,-999.0000,9,  -999.0,9,  -999.0,9,   -999.0,9,  -999.00,-999.0000,9,  -999.00,-999.000,9,-999.0000,9, -999.00,9, -999.00,9,  -999.0,9,-999.000,9,-999.000,-999.000,9,-999.000,9,   39.06,2,   41.90,2, -999.00,9, -999.00,9, -999.00,9,-999.000,-999.0000,9,-999.0000,9,-999.0000,9,-999.0000,9,-999.0000,9,-999.0000,9,-999.0000,9,-999.0000,9,-999.0000,9,   4.1455,     -999.0,9,     -999.0,9,     -999.0,9,     -999.0,9,     -999.0,9,     -999.0,9,     -999.0,9,-999.0000, -999.00
33RO20071215,        P18,      41,          1,         14,      12013,2,20071229,       0119,     1.4997,  -110.0043,       3794,  1230.5,   3.8976,  34.5775,2,  34.5794,2,     79.4,2,    79.2,2,  101.40,2,   40.50,2,    0.00,2,    2.86,2,-999.000,9,-999.000,9,-999.0000,9,  2317.8,2,  -999.0,9,   -999.0,9,  -999.00,-999.0000,9,  -999.00,-999.000,9,-999.0000,9, -999.00,9, -999.00,9,  -999.0,9,-999.000,9,-999.000,-999.000,9,-999.000,9,   38.60,2,   41.93,2, -999.00,9, -999.00,9, -999.00,9,-999.000,-999.0000,9,-999.0000,9,-999.0000,9,-999.0000,9,-999.0000,9,-999.0000,9,-999.0000,9,-999.0000,9,-999.0000,9,   3.8031,     -999.0,9,     -999.0,9,     -999.0,9,     -999.0,9,     -999.0,9,     -999.0,9,     -999.0,9,-999.0000, -999.00
33RO20071215,        P18,      41,          1,         13,      12012,2,20071229,       0119,     1.4997,  -110.0043,       3794,  1332.2,   3.7374,  34.5818,2,  34.5832,2,     81.8,2,    81.8,2,  104.70,2,   40.30,2,    0.00,2,    2.86,2,-999.000,9,-999.000,9,-999.0000,9,  -999.0,9,  -999.0,9,   -999.0,9,  -999.00,-999.0000,9,  -999.00,-999.000,9,-999.0000,9, -999.00,9, -999.00,9,  -999.0,9,-999.000,9,-999.000,-999.000,9,-999.000,9,   37.85,2,   41.95,2, -999.00,9, -999.00,9, -999.00,9,-999.000,-999.0000,9,-999.0000,9,-999.0000,9,-999.0000,9,-999.0000,9,-999.0000,9,-999.0000,9,-999.0000,9,-999.0000,9,   3.6358,     -999.0,9,     -999.0,9,     -999.0,9,     -999.0,9,     -999.0,9,     -999.0,9,     -999.0,9,-999.0000, -999.00
33RO20071215,        P18,      41,          1,         12,      12031,2,20071229,       0119,     1.4997,  -110.0043,       3794,  1468.1,   3.3855,  34.5986,2,  34.6041,2,     69.0,3,    76.9,2,  116.70,2,   41.00,2,    0.00,2,    2.90,2,-999.000,9,-999.000,9,-999.0000,9,  2335.4,2,  2392.1,2,   -999.0,9,  -999.00,   7.4649,2,    25.00,-999.000,9,-999.0000,9, -999.00,9, -999.00,9,  -999.0,9,-999.000,9,-999.000,-999.000,9,-999.000,9,   37.41,3,   42.65,3, -999.00,9, -999.00,9, -999.00,9,-999.000,-999.0000,9,-999.0000,9,-999.0000,9,-999.0000,9,-999.0000,9,-999.0000,9,-999.0000,9,-999.0000,9,-999.0000,9,   3.2759,     -999.0,9,     -999.0,9,     -999.0,9,     -999.0,9,     -999.0,9,     -999.0,9,     -999.0,9,-999.0000, -999.00