BOTTLE,20220818CCHSIOAMB
EXPOCODE,SECT_ID,STNNBR,CASTNO,SAMPNO,BTLNBR,BTLNBR_FLAG_W,DATE,TIME,LATITUDE,LONGITUDE,DEPTH,CTDPRS,CTDTMP,CTDSAL,CTDSAL_FLAG_W,SALNTY,SALNTY_FLAG_W,CTDOXY,CTDOXY_FLAG_W,OXYGEN,OXYGEN_FLAG_W,SILCAT,SILCAT_FLAG_W,NITRAT,NITRAT_FLAG_W,NITRIT,NITRIT_FLAG_W,PHSPHT,PHSPHT_FLAG_W,CFC-11,CFC-11_FLAG_W,CFC-12,CFC-12_FLAG_W,SF6,SF6_FLAG_W,TCARBN,TCARBN_FLAG_W,ALKALI,ALKALI_FLAG_W,FCO2,FCO2_FLAG_W,FCO2TMP,PH_SWS,PH_SWS_FLAG_W,PH_TMP,TRITUM,TRITUM_FLAG_W,HELIUM,HELIUM_FLAG_W,DELHE3,DELHE3_FLAG_W,DELC13,DELC13_FLAG_W,DELC14,DELC14_FLAG_W,NEON,NEON_FLAG_W,NEONER,CCL4,CCL4_FLAG_W,POC,POC_FLAG_W,DOC,DOC_FLAG_W,TDN,TDN_FLAG_W,DON,DON_FLAG_W,CHLORA,CHLORA_FLAG_W,ARGON,ARGON_FLAG_W,TRITER,CDOM325,CDOM325_FLAG_W,CDOM340,CDOM340_FLAG_W,CDOM380,CDOM380_FLAG_W,CDOM412,CDOM412_FLAG_W,CDOM443,CDOM443_FLAG_W,CDOM490,CDOM490_FLAG_W,CDOM555,CDOM555_FLAG_W,CDOMSL,CDOMSL_FLAG_W,CDOMSN,CDOMSN_FLAG_W,THETA,D18O_NO3,D18O_NO3_FLAG_W,CDOM2C,CDOM2C_FLAG_W,CDOM3C,CDOM3C_FLAG_W,LAB_DEN,LAB_DEN_FLAG_W,DELSI30,DELSI30_FLAG_W,N2,N2_FLAG_W,D15N_NO3,D15N_NO3_FLAG_W,HELIER,DELHER
,,,,,,,,,,,METERS,DBAR,ITS-90,PSS-78,,PSS-78,,UMOL/KG,,UMOL/KG,,UMOL/KG,,UMOL/KG,,UMOL/KG,,UMOL/KG,,PMOL/KG,,PMOL/KG,,FMOL/KG,,UMOL/KG,,UMOL/KG,,UATM,,DEG C,,,DEG C,TU,,NMOL/KG,,PERCNT,,/MILLE,,/MILLE,,NMOL/KG,,NMOL/KG,PMOL/KG,,UG/KG,,UMOL/KG,,UMOL/KG,,UMOL/KG,,UG/KG,,UMOL/KG,,TU,1/M,,1/M,,1/M,,1/M,,1/M,,1/M,,1/M,,1/NM,,1/NM,,DEG C,/MILLE,,,,,,,,/MILLE,,UMOL/KG,,/MILLE,,NMOL/KG,PERCNT
33RO20071215,        P18,      42,          1,         36,      12017,2,20071229,       0713,     0.9997,  -110.0015,       3813,     5.0,  23.7161,  33.9601,2,  33.9596,2,    213.0,2,   213.0,2,    2.60,2,    2.70,2,    0.05,2,    0.31,2,   1.859,2,   1.159,2,   1.0211,2,  1963.4,6,  2241.9,2,    331.0,6,    20.00,   8.0229,2,    25.00,-999.000,9,-999.0000,9, -999.00,9,    1.14,2,  -999.0,1,-999.000,9,-999.000,-999.000,9,-999.000,9,   73.15,2,    7.79,2, -999.00,1, -999.00,9, -999.00,9,-999.000,-999.0000,9,-999.0000,9,-999.0000,9,-999.0000,9,-999.0000,9,-999.0000,9,-999.0000,9,-999.0000,9,-999.0000,9,  23.7151,     -999.0,9,     -999.0,9,     -999.0,9,     -999.0,9,     -999.0,9,     -999.0,9,     -999.0,9,-999.0000, -999.00
33RO20071215,        P18,      42,          1,         35,      12029,2,20071229,       0713,     0.9997,  -110.0015,       3813,    12.1,  23.6990,  33.9562,2,  33.9519,2,    213.3,2,   212.7,2,    2.70,2,    3.00,2,    0.06,2,    0.34,2,   1.860,6,   1.165,6,   1.0598,6,  1964.8,2,  2241.9,2,   -999.0,9,  -999.00,   8.0130,2,    25.00,-999.000,9,-999.0000,9, -999.00,9, -999.00,9,  -999.0,9,-999.000,9,-999.000,-999.000,9,-999.000,9, -999.00,9, -999.00,9, -999.00,1, -999.00,9, -999.00,9,-999.000,-999.0000,9,-999.0000,9,-999.0000,9,-999.0000,9,-999.0000,9,-999.0000,9,-999.0000,9,-999.0000,9,-999.0000,9,  23.6965,     -999.0,9,     -999.0,9,     -999.0,9,     -999.0,9,     -999.0,9,     -999.0,9,     -999.0,9,-999.0000, -999.00
33RO20071215,        P18,      42,          1,         34,      12049,2,20071229,       0713,     0.9997,  -110.0015,       3813,    20.4,  23.5310,  33.9317,2,  33.9731,2,    214.5,2,   208.6,2,    3.40,2,    4.10,2,    0.08,2,    0.41,2,   1.861,2,   1.161,2,   1.0923,2,  1974.6,2,  2246.0,2,    351.4,2,    20.00,   7.9948,2,    25.00,-999.000,9,-999.0000,9, -999.00,9, -999.00,9,  -999.0,9,-999.000,9,-999.000,-999.000,9,-999.000,9,   73.50,2,    8.52,2, -999.00,1, -999.00,9, -999.00,9,-999.000,-999.0000,9,-999.0000,9,-999.0000,9,-999.0000,9,-999.0000,9,-999.0000,9,-999.0000,9,-999.0000,9,-999.0000,9,  23.5267,     -999.0,9,     -999.0,9,     -999.0,9,     -999.0,9,     -999.0,9,     -999.0,9,     -999.0,9,-999.0000, -999.00
33RO20071215,        P18,      42,          1,         33,      12027,2,20071229,       0713,     0.9997,  -110.0015,       3813,    41.0,  17.9138,  34.7311,2,  34.7302,2,    137.5,2,   138.7,2,   11.60,2,   16.60,2,    0.34,2,    1.20,2,   1.703,2,   1.004,2,   0.6842,2,  2116.1,2,  2294.8,2,    639.5,2,    20.00,   7.7970,2,    25.00,-999.000,9,-999.0000,9, -999.00,9, -999.00,9,  -999.0,9,-999.000,9,-999.000,-999.000,9,-999.000,9, -999.00,9, -999.00,9, -999.00,1, -999.00,9, -999.00,9,-999.000,-999.0000,9,-999.0000,9,-999.0000,9,-999.0000,9,-999.0000,9,-999.0000,9,-999.0000,9,-999.0000,9,-999.0000,9,  17.9068,     -999.0,9,     -999.0,9,     -999.0,9,     -999.0,9,     -999.0,9,     -999.0,9,     -999.0,9,-999.0000, -999.00
33RO20071215,        P18,      42,          1,         32,      12023,2,20071229,       0713,     0.9997,  -110.0015,       3813,    66.3,  14.2948,  34.9540,2,  34.9537,2,     65.1,2,    61.1,2,   17.90,2,   26.00,2,    0.10,2,    1.74,2,   1.403,2,   0.789,2,   0.4168,2,  2193.6,2,  2305.6,2,   1007.1,2,    20.00,   7.6151,2,    25.00,-999.000,9,-999.0000,9, -999.00,9, -999.00,9,  -999.0,9,-999.000,9,-999.000,-999.000,9,-999.000,9,   50.36,2,   29.60,2, -999.00,1, -999.00,9, -999.00,9,-999.000,-999.0000,9,-999.0000,9,-999.0000,9,-999.0000,9,-999.0000,9,-999.0000,9,-999.0000,9,-999.0000,9,-999.0000,9,  14.2851,     -999.0,9,     -999.0,9,     -999.0,9,     -999.0,9,     -999.0,9,     -999.0,9,     -999.0,9,-999.0000, -999.00
33RO20071215,        P18,      42,          1,         31,      12037,2,20071229,       0713,     0.9997,  -110.0015,       3813,    92.4,  13.7396,  34.9483,2,  34.9436,2,     52.4,2,    49.6,2,   19.70,2,   28.00,2,    0.02,2,    1.86,2,   1.263,2,   0.703,2,   0.3140,2,  2207.1,2,  2302.1,2,   1102.3,2,    20.00,   7.5910,2,    25.00,-999.000,9,-999.0000,9, -999.00,9, -999.00,9,  -999.0,9,-999.000,9,-999.000,-999.000,9,-999.000,9, -999.00,9, -999.00,9, -999.00,1, -999.00,9, -999.00,9,-999.000,-999.0000,9,-999.0000,9,-999.0000,9,-999.0000,9,-999.0000,9,-999.0000,9,-999.0000,9,-999.0000,9,-999.0000,9,  13.7265,     -999.0,9,     -999.0,9,     -999.0,9,     -999.0,9,     -999.0,9,     -999.0,9,     -999.0,9,-999.0000, -999.00
33RO20071215,        P18,      42,          1,         30,      12036,2,20071229,       0713,     0.9997,  -110.0015,       3813,   116.9,  12.8410,  34.9025,2,  34.9013,2,     44.5,2,    43.1,2,   22.30,2,   29.50,2,    0.01,2,    1.98,2,   1.054,2,   0.591,2,   0.2578,2,  2218.9,2,  2301.8,2,   1194.4,2,    20.00,   7.5622,2,    25.00,-999.000,9,-999.0000,9, -999.00,9, -999.00,9,  -999.0,9,-999.000,9,-999.000,-999.000,9,-999.000,9,   46.11,2,   32.51,2, -999.00,1, -999.00,9, -999.00,9,-999.000,-999.0000,9,-999.0000,9,-999.0000,9,-999.0000,9,-999.0000,9,-999.0000,9,-999.0000,9,-999.0000,9,-999.0000,9,  12.8251,     -999.0,9,     -999.0,9,     -999.0,9,     -999.0,9,     -999.0,9,     -999.0,9,     -999.0,9,-999.0000, -999.00
33RO20071215,        P18,      42,          1,         29,      12044,2,20071229,       0713,     0.9997,  -110.0015,       3813,   141.8,  12.5821,  34.8885,2,  34.8876,2,     43.0,2,    42.9,2,   23.20,2,   29.80,2,    0.01,2,    2.00,2,   0.988,2,   0.551,2,   0.2242,2,  2214.2,2,  2302.3,2,   -999.0,9,  -999.00,   7.5390,2,    25.00,-999.000,9,-999.0000,9, -999.00,9, -999.00,9,  -999.0,9,-999.000,9,-999.000,-999.000,9,-999.000,9, -999.00,9, -999.00,9, -999.00,1, -999.00,9, -999.00,9,-999.000,-999.0000,9,-999.0000,9,-999.0000,9,-999.0000,9,-999.0000,9,-999.0000,9,-999.0000,9,-999.0000,9,-999.0000,9,  12.5631,     -999.0,9,     -999.0,9,     -999.0,9,     -999.0,9,     -999.0,9,     -999.0,9,     -999.0,9,-999.0000, -999.00
33RO20071215,        P18,      42,          1,         28,      12057,2,20071229,       0713,     0.9997,  -110.0015,       3813,   166.4,  12.2849,  34.8776,2,  34.8756,2,     47.9,2,    47.9,2,   23.80,2,   29.70,2,    0.01,2,    2.00,2,   0.936,6,   0.527,6,   0.2110,6,  2223.7,2,  2303.7,2,   1213.3,2,    20.00,   7.5568,2,    25.00,-999.000,9,-999.0000,9, -999.00,9, -999.00,9,  -999.0,9,-999.000,9,-999.000,-999.000,9,-999.000,9,   45.63,2,   32.52,2, -999.00,1, -999.00,9, -999.00,9,-999.000,-999.0000,9,-999.0000,9,-999.0000,9,-999.0000,9,-999.0000,9,-999.0000,9,-999.0000,9,-999.0000,9,-999.0000,9,  12.2629,     -999.0,9,     -999.0,9,     -999.0,9,     -999.0,9,     -999.0,9,     -999.0,9,     -999.0,9,-999.0000, -999.00
33RO20071215,        P18,      42,          1,         27,      12026,2,20071229,       0713,     0.9997,  -110.0015,       3813,   191.8,  12.2151,  34.8722,2,  34.8700,2,     44.5,2,    45.7,2,   24.20,2,   30.20,2,    0.01,2,    2.04,2,   0.902,2,   0.508,2,   0.1920,2,  2225.8,2,  2304.0,2,   -999.0,9,  -999.00,   7.5416,2,    25.00,-999.000,9,-999.0000,9, -999.00,9, -999.00,9,  -999.0,9,-999.000,9,-999.000,-999.000,9,-999.000,9, -999.00,9, -999.00,9, -999.00,1, -999.00,9, -999.00,9,-999.000,-999.0000,9,-999.0000,9,-999.0000,9,-999.0000,9,-999.0000,9,-999.0000,9,-999.0000,9,-999.0000,9,-999.0000,9,  12.1898,     -999.0,9,     -999.0,9,     -999.0,9,     -999.0,9,     -999.0,9,     -999.0,9,     -999.0,9,-999.0000, -999.00
33RO20071215,        P18,      42,          1,         26,      12030,2,20071229,       0713,     0.9997,  -110.0015,       3813,   233.4,  12.1310,  34.8667,2,  34.8642,2,     42.2,2,    41.2,2,   24.70,2,   30.60,2,    0.01,2,    2.07,2,   0.869,2,   0.490,2,   0.2172,2,  2228.2,2,  2304.1,2,   1264.3,2,    20.00,   7.5371,2,    25.00,-999.000,9,-999.0000,9, -999.00,9, -999.00,9,  -999.0,9,-999.000,9,-999.000,-999.000,9,-999.000,9,   45.12,2,   33.02,2, -999.00,1, -999.00,9, -999.00,9,-999.000,-999.0000,9,-999.0000,9,-999.0000,9,-999.0000,9,-999.0000,9,-999.0000,9,-999.0000,9,-999.0000,9,-999.0000,9,  12.1003,     -999.0,9,     -999.0,9,     -999.0,9,     -999.0,9,     -999.0,9,     -999.0,9,     -999.0,9,-999.0000, -999.00
33RO20071215,        P18,      42,          1,         25,      12024,2,20071229,       0713,     0.9997,  -110.0015,       3813,   282.8,  11.9201,  34.8499,2,  34.8500,2,     29.6,2,    27.5,2,   26.60,2,   32.20,2,    0.01,2,    2.19,2,   0.761,2,   0.431,2,   0.1600,2,  2239.8,2,  2306.1,2,   -999.0,9,  -999.00,   7.4880,2,    25.00,-999.000,9,-999.0000,9, -999.00,9, -999.00,9,  -999.0,9,-999.000,9,-999.000,-999.000,9,-999.000,9,   44.31,2,   33.80,2, -999.00,1, -999.00,9, -999.00,9,-999.000,-999.0000,9,-999.0000,9,-999.0000,9,-999.0000,9,-999.0000,9,-999.0000,9,-999.0000,9,-999.0000,9,-999.0000,9,  11.8833,     -999.0,9,     -999.0,9,     -999.0,9,     -999.0,9,     -999.0,9,     -999.0,9,     -999.0,9,-999.0000, -999.00
33RO20071215,        P18,      42,          1,         24,      12019,2,20071229,       0713,     0.9997,  -110.0015,       3813,   332.2,  10.8387,  34.7806,2,  34.7779,2,     10.3,2,    10.4,2,   32.60,2,   35.40,2,    0.00,2,    2.46,2,   0.449,2,   0.257,2,   0.0964,2,  2262.8,6,  2303.3,2,   1661.0,2,    20.00,   7.4328,2,    25.00,-999.000,9,-999.0000,9, -999.00,9, -999.00,9,  -999.0,9,-999.000,9,-999.000,-999.000,9,-999.000,9,   43.49,2,   36.30,2, -999.00,1, -999.00,9, -999.00,9,-999.000,-999.0000,9,-999.0000,9,-999.0000,9,-999.0000,9,-999.0000,9,-999.0000,9,-999.0000,9,-999.0000,9,-999.0000,9,  10.7980,     -999.0,9,     -999.0,9,     -999.0,9,     -999.0,9,     -999.0,9,     -999.0,9,     -999.0,9,-999.0000, -999.00
33RO20071215,        P18,      42,          1,         23,      12022,2,20071229,       0713,     0.9997,  -110.0015,       3813,   383.0,   9.8744,  34.7253,2,  34.7241,2,     11.2,2,    11.2,2,   36.10,2,   37.20,2,    0.00,2,    2.57,2,   0.285,2,   0.166,2,   0.0326,2,  2270.3,2,  2305.9,2,   -999.0,9,  -999.00,   7.4137,2,    25.00,-999.000,9,-999.0000,9, -999.00,9, -999.00,9,  -999.0,9,-999.000,9,-999.000,-999.000,9,-999.000,9,   42.68,2,   38.16,2, -999.00,1, -999.00,9, -999.00,9,-999.000,-999.0000,9,-999.0000,9,-999.0000,9,-999.0000,9,-999.0000,9,-999.0000,9,-999.0000,9,-999.0000,9,-999.0000,9,   9.8301,     -999.0,9,     -999.0,9,     -999.0,9,     -999.0,9,     -999.0,9,     -999.0,9,     -999.0,9,-999.0000, -999.00
33RO20071215,        P18,      42,          1,         22,      12015,2,20071229,       0713,     0.9997,  -110.0015,       3813,   467.3,   8.7148,  34.6607,2,  34.6595,2,     24.0,2,    24.6,2,   40.50,2,   38.80,2,    0.00,2,    2.64,2,   0.152,2,   0.089,2,   0.0000,2,  2270.6,2,  2311.3,2,   1706.9,2,    20.00,   7.4197,2,    25.00,-999.000,9,-999.0000,9, -999.00,9, -999.00,9,  -999.0,9,-999.000,9,-999.000,-999.000,9,-999.000,9,   41.87,2,   39.64,2, -999.00,1, -999.00,9, -999.00,9,-999.000,-999.0000,9,-999.0000,9,-999.0000,9,-999.0000,9,-999.0000,9,-999.0000,9,-999.0000,9,-999.0000,9,-999.0000,9,   8.6644,     -999.0,9,     -999.0,9,     -999.0,9,     -999.0,9,     -999.0,9,     -999.0,9,     -999.0,9,-999.0000, -999.00
33RO20071215,        P18,      42,          1,         21,      12020,2,20071229,       0713,     0.9997,  -110.0015,       3813,   567.2,   7.8972,  34.6181,2,  34.6169,2,     35.0,2,    35.5,2,   44.90,2,   39.30,2,    0.00,2,    2.72,2,   0.085,2,   0.052,2,   0.0000,2,  2273.0,2,  2313.3,2,   -999.0,9,  -999.00,   7.4291,2,    25.00,-999.000,9,-999.0000,9, -999.00,9, -999.00,9,  -999.0,9,-999.000,9,-999.000,-999.000,9,-999.000,9,   41.05,2,   40.43,2, -999.00,1, -999.00,9, -999.00,9,-999.000,-999.0000,9,-999.0000,9,-999.0000,9,-999.0000,9,-999.0000,9,-999.0000,9,-999.0000,9,-999.0000,9,-999.0000,9,   7.8392,     -999.0,9,     -999.0,9,     -999.0,9,     -999.0,9,     -999.0,9,     -999.0,9,     -999.0,9,-999.0000, -999.00
33RO20071215,        P18,      42,          1,         20,      12055,2,20071229,       0713,     0.9997,  -110.0015,       3813,   667.0,   6.5591,  34.5696,2,  34.5687,2,     54.7,2,    55.7,2,   55.70,2,   40.00,2,    0.00,2,    2.78,2,   0.040,2,   0.023,2,   0.0000,2,  2277.4,2,  2324.8,2,   1610.6,2,    20.00,   7.4397,2,    25.00,-999.000,9,-999.0000,9, -999.00,9, -999.00,9,  -999.0,9,-999.000,9,-999.000,-999.000,9,-999.000,9,   40.24,2,   41.09,2, -999.00,1, -999.00,9, -999.00,9,-999.000,-999.0000,9,-999.0000,9,-999.0000,9,-999.0000,9,-999.0000,9,-999.0000,9,-999.0000,9,-999.0000,9,-999.0000,9,   6.4972,     -999.0,9,     -999.0,9,     -999.0,9,     -999.0,9,     -999.0,9,     -999.0,9,     -999.0,9,-999.0000, -999.00
33RO20071215,        P18,      42,          1,         19,      12018,4,20071229,       0713,     0.9997,  -110.0015,       3813,   766.6,   6.2622,  34.5618,2,-999.0000,9,     59.4,2,  -999.0,9, -999.00,9, -999.00,9, -999.00,9, -999.00,9,-999.000,9,-999.000,9,-999.0000,9,  -999.0,9,  2340.0,2,   -999.0,9,  -999.00,-999.0000,5,  -999.00,-999.000,9,-999.0000,9, -999.00,9, -999.00,9,  -999.0,9,-999.000,9,-999.000,-999.000,9,-999.000,9, -999.00,9, -999.00,9, -999.00,9, -999.00,9, -999.00,9,-999.000,-999.0000,9,-999.0000,9,-999.0000,9,-999.0000,9,-999.0000,9,-999.0000,9,-999.0000,9,-999.0000,9,-999.0000,9,   6.1922,     -999.0,9,     -999.0,9,     -999.0,9,     -999.0,9,     -999.0,9,     -999.0,9,     -999.0,9,-999.0000, -999.00
33RO20071215,        P18,      42,          1,         18,      12025,2,20071229,       0713,     0.9997,  -110.0015,       3813,   866.3,   5.5351,  34.5535,2,  34.5532,2,     67.3,2,    68.0,2,   69.70,2,   40.20,2,    0.00,2,    2.82,2,   0.010,2,   0.007,2,   0.0000,2,  2289.2,2,  2348.3,2,   1579.8,2,    20.00,   7.4503,2,    25.00,-999.000,9,-999.0000,9, -999.00,9, -999.00,9,  -999.0,9,-999.000,9,-999.000,-999.000,9,-999.000,9,   39.87,2,   41.34,2, -999.00,1, -999.00,9, -999.00,9,-999.000,-999.0000,9,-999.0000,9,-999.0000,9,-999.0000,9,-999.0000,9,-999.0000,9,-999.0000,9,-999.0000,9,-999.0000,9,   5.4601,     -999.0,9,     -999.0,9,     -999.0,9,     -999.0,9,     -999.0,9,     -999.0,9,     -999.0,9,-999.0000, -999.00
33RO20071215,        P18,      42,          1,         17,      12016,2,20071229,       0713,     0.9997,  -110.0015,       3813,   967.3,   4.9066,  34.5561,2,  34.5563,2,     70.6,2,    71.9,2,   80.90,2,   40.60,2,    0.00,2,    2.85,2,   0.003,2,   0.003,2,   0.0000,2,  2298.2,2,  2355.9,2,   -999.0,9,  -999.00,   7.4575,2,    25.00,-999.000,9,-999.0000,9, -999.00,9, -999.00,9,  -999.0,9,-999.000,9,-999.000,-999.000,9,-999.000,9,   39.63,2,   41.64,2, -999.00,1, -999.00,9, -999.00,9,-999.000,-999.0000,9,-999.0000,9,-999.0000,9,-999.0000,9,-999.0000,9,-999.0000,9,-999.0000,9,-999.0000,9,-999.0000,9,   4.8269,     -999.0,9,     -999.0,9,     -999.0,9,     -999.0,9,     -999.0,9,     -999.0,9,     -999.0,9,-999.0000, -999.00
33RO20071215,        P18,      42,          1,         16,      12051,2,20071229,       0713,     0.9997,  -110.0015,       3813,  1068.0,   4.5306,  34.5591,2,  34.5608,2,     77.5,2,    78.3,2,   87.80,2,   40.20,2,    0.00,2,    2.83,2,   0.002,2,   0.003,2,   0.0000,2,  2301.8,2,  2364.9,2,   -999.0,9,  -999.00,   7.4681,2,    25.00,-999.000,9,-999.0000,9, -999.00,9, -999.00,9,  -999.0,9,-999.000,9,-999.000,-999.000,9,-999.000,9,   39.52,2,   41.81,2, -999.00,9, -999.00,9, -999.00,9,-999.000,-999.0000,9,-999.0000,9,-999.0000,9,-999.0000,9,-999.0000,9,-999.0000,9,-999.0000,9,-999.0000,9,-999.0000,9,   4.4448,     -999.0,9,     -999.0,9,     -999.0,9,     -999.0,9,     -999.0,9,     -999.0,9,     -999.0,9,-999.0000, -999.00
33RO20071215,        P18,      42,          1,         15,      12014,2,20071229,       0713,     0.9997,  -110.0015,       3813,  1165.0,   4.1404,  34.5695,2,  34.5701,2,     78.5,2,    78.6,2,   97.00,2,   40.40,2,    0.00,2,    2.87,2,  -0.001,2,   0.001,2,   0.0000,2,  2312.6,2,  2372.2,2,   1556.4,2,    20.00,   7.4596,2,    25.00,-999.000,9,-999.0000,9, -999.00,9, -999.00,9,  -999.0,9,-999.000,9,-999.000,-999.000,9,-999.000,9,   39.31,2,   41.56,2, -999.00,9, -999.00,9, -999.00,9,-999.000,-999.0000,9,-999.0000,9,-999.0000,9,-999.0000,9,-999.0000,9,-999.0000,9,-999.0000,9,-999.0000,9,-999.0000,9,   4.0494,     -999.0,9,     -999.0,9,     -999.0,9,     -999.0,9,     -999.0,9,     -999.0,9,     -999.0,9,-999.0000, -999.00
33RO20071215,        P18,      42,          1,         14,      12013,2,20071229,       0713,     0.9997,  -110.0015,       3813,  1268.6,   3.8911,  34.5777,2,  34.5778,2,     79.1,2,    79.4,2,  103.20,2,   40.60,2,    0.00,2,    2.88,2,  -0.001,2,   0.000,2,   0.0000,2,  2318.6,2,  2378.5,2,   -999.0,9,  -999.00,   7.4657,2,    25.00,-999.000,9,-999.0000,9, -999.00,9, -999.00,9,  -999.0,9,-999.000,9,-999.000,-999.000,9,-999.000,9,   38.81,2,   41.74,2, -999.00,9, -999.00,9, -999.00,9,-999.000,-999.0000,9,-999.0000,9,-999.0000,9,-999.0000,9,-999.0000,9,-999.0000,9,-999.0000,9,-999.0000,9,-999.0000,9,   3.7934,     -999.0,9,     -999.0,9,     -999.0,9,     -999.0,9,     -999.0,9,     -999.0,9,     -999.0,9,-999.0000, -999.00
33RO20071215,        P18,      42,          1,         13,      12012,2,20071229,       0713,     0.9997,  -110.0015,       3813,  1365.4,   3.6610,  34.5843,2,  34.5847,2,     82.0,2,    81.8,2,  108.60,2,   40.70,2,    0.00,2,    2.87,2,  -0.001,2,   0.000,2,   0.0147,2,  2323.6,2,  2391.0,2,   -999.0,9,  -999.00,   7.4672,2,    25.00,-999.000,9,-999.0000,9, -999.00,9, -999.00,9,  -999.0,9,-999.000,9,-999.000,-999.000,9,-999.000,9,   38.49,2,   41.85,2, -999.00,9, -999.00,9, -999.00,9,-999.000,-999.0000,9,-999.0000,9,-999.0000,9,-999.0000,9,-999.0000,9,-999.0000,9,-999.0000,9,-999.0000,9,-999.0000,9,   3.5573,     -999.0,9,     -999.0,9,     -999.0,9,     -999.0,9,     -999.0,9,     -999.0,9,     -999.0,9,-999.0000, -999.00
33RO20071215,        P18,      42,          1,         12,      12031,2,20071229,       0713,     0.9997,  -110.0015,       3813,  1532.7,   3.2063,  34.6014,2,  34.6012,2,     86.7,2,    87.1,2,  120.00,2,   40.40,2,    0.00,2,    2.86,2,  -0.002,2,   0.001,2,   0.0000,2,  2333.7,2,  2403.4,2,   1527.2,2,    20.00,   7.4727,2,    25.00,-999.000,9,-999.0000,9, -999.00,9, -999.00,9,  -999.0,9,-999.000,9,-999.000,-999.000,9,-999.000,9,   38.03,2,   41.43,2, -999.00,9, -999.00,9, -999.00,9,-999.000,-999.0000,9,-999.0000,9,-999.0000,9,-999.0000,9,-999.0000,9,-999.0000,9,-999.0000,9,-999.0000,9,-999.0000,9,   3.0933,     -999.0,9,     -999.0,9,     -999.0,9,     -999.0,9,     -999.0,9,     -999.0,9,     -999.0,9,-999.0000, -999.00