BOTTLE,20220818CCHSIOAMB
EXPOCODE,SECT_ID,STNNBR,CASTNO,SAMPNO,BTLNBR,BTLNBR_FLAG_W,DATE,TIME,LATITUDE,LONGITUDE,DEPTH,CTDPRS,CTDTMP,CTDSAL,CTDSAL_FLAG_W,SALNTY,SALNTY_FLAG_W,CTDOXY,CTDOXY_FLAG_W,OXYGEN,OXYGEN_FLAG_W,SILCAT,SILCAT_FLAG_W,NITRAT,NITRAT_FLAG_W,NITRIT,NITRIT_FLAG_W,PHSPHT,PHSPHT_FLAG_W,CFC-11,CFC-11_FLAG_W,CFC-12,CFC-12_FLAG_W,SF6,SF6_FLAG_W,TCARBN,TCARBN_FLAG_W,ALKALI,ALKALI_FLAG_W,FCO2,FCO2_FLAG_W,FCO2TMP,PH_SWS,PH_SWS_FLAG_W,PH_TMP,TRITUM,TRITUM_FLAG_W,HELIUM,HELIUM_FLAG_W,DELHE3,DELHE3_FLAG_W,DELC13,DELC13_FLAG_W,DELC14,DELC14_FLAG_W,NEON,NEON_FLAG_W,NEONER,CCL4,CCL4_FLAG_W,POC,POC_FLAG_W,DOC,DOC_FLAG_W,TDN,TDN_FLAG_W,DON,DON_FLAG_W,CHLORA,CHLORA_FLAG_W,ARGON,ARGON_FLAG_W,TRITER,CDOM325,CDOM325_FLAG_W,CDOM340,CDOM340_FLAG_W,CDOM380,CDOM380_FLAG_W,CDOM412,CDOM412_FLAG_W,CDOM443,CDOM443_FLAG_W,CDOM490,CDOM490_FLAG_W,CDOM555,CDOM555_FLAG_W,CDOMSL,CDOMSL_FLAG_W,CDOMSN,CDOMSN_FLAG_W,THETA,D18O_NO3,D18O_NO3_FLAG_W,CDOM2C,CDOM2C_FLAG_W,CDOM3C,CDOM3C_FLAG_W,LAB_DEN,LAB_DEN_FLAG_W,DELSI30,DELSI30_FLAG_W,N2,N2_FLAG_W,D15N_NO3,D15N_NO3_FLAG_W,HELIER,DELHER
,,,,,,,,,,,METERS,DBAR,ITS-90,PSS-78,,PSS-78,,UMOL/KG,,UMOL/KG,,UMOL/KG,,UMOL/KG,,UMOL/KG,,UMOL/KG,,PMOL/KG,,PMOL/KG,,FMOL/KG,,UMOL/KG,,UMOL/KG,,UATM,,DEG C,,,DEG C,TU,,NMOL/KG,,PERCNT,,/MILLE,,/MILLE,,NMOL/KG,,NMOL/KG,PMOL/KG,,UG/KG,,UMOL/KG,,UMOL/KG,,UMOL/KG,,UG/KG,,UMOL/KG,,TU,1/M,,1/M,,1/M,,1/M,,1/M,,1/M,,1/M,,1/NM,,1/NM,,DEG C,/MILLE,,,,,,,,/MILLE,,UMOL/KG,,/MILLE,,NMOL/KG,PERCNT
33RO20071215,        P18,      14,          1,         24,      11024,2,20071220,       1708,    16.7513,  -109.9995,       3476,     5.3,  27.1258,  34.1019,2,  34.1044,2,    200.3,2,   196.4,2,    1.20,2,    0.10,2,    0.00,2,    0.12,2,   1.599,6,   1.026,6,   0.9825,6,  1939.9,6,  2250.0,2,   -999.0,9,  -999.00,   8.0821,2,    25.00,-999.000,9,-999.0000,9, -999.00,9, -999.00,9,  -999.0,9,-999.000,9,-999.000,-999.000,9,-999.000,9, -999.00,9, -999.00,9, -999.00,9,    0.15,2, -999.00,9,-999.000,   0.0862,2,   0.0564,2,   0.0243,2,   0.0155,2,   0.0077,2,   0.0020,2,  -0.0008,4,   0.0189,2,   0.0224,2,  27.1246,     -999.0,9,     -999.0,9,     -999.0,9,     -999.0,9,     -999.0,9,     -999.0,9,     -999.0,9,-999.0000, -999.00
33RO20071215,        P18,      14,          1,         23,      11023,2,20071220,       1708,    16.7513,  -109.9995,       3476,    20.4,  27.0977,  34.1045,2,  34.1074,2,    199.2,2,   198.8,2,    1.40,2,    0.10,2,    0.01,2,    0.13,2,   1.587,2,   1.021,2,   1.0580,2,  1939.5,2,  2257.7,2,   -999.0,9,  -999.00,   8.0810,2,    25.00,-999.000,9,-999.0000,9, -999.00,9, -999.00,9,  -999.0,9,-999.000,9,-999.000,-999.000,9,-999.000,9, -999.00,9, -999.00,9, -999.00,9,    0.22,2, -999.00,9,-999.000,   0.1187,2,   0.0831,2,   0.0420,2,   0.0309,2,   0.0200,2,   0.0103,2,   0.0038,2,   0.0138,2,   0.0160,2,  27.0930,     -999.0,9,     -999.0,9,     -999.0,9,     -999.0,9,     -999.0,9,     -999.0,9,     -999.0,9,-999.0000, -999.00
33RO20071215,        P18,      14,          1,         22,      11022,2,20071220,       1708,    16.7513,  -109.9995,       3476,    43.2,  26.9575,  34.1283,2,  34.1631,2,    193.2,2,   187.8,2,    1.80,2,    1.20,2,    0.10,2,    0.25,2,   1.598,2,   1.017,2,   1.0068,2,  1964.1,2,  2260.4,2,   -999.0,9,  -999.00,   8.0358,2,    25.00,-999.000,9,-999.0000,9, -999.00,9, -999.00,9,  -999.0,9,-999.000,9,-999.000,-999.000,9,-999.000,9, -999.00,9, -999.00,9, -999.00,9,    0.28,2, -999.00,9,-999.000,   0.1463,2,   0.1061,2,   0.0613,2,   0.0401,2,   0.0236,2,   0.0105,2,   0.0035,2,   0.0154,2,   0.0153,2,  26.9477,     -999.0,9,     -999.0,9,     -999.0,9,     -999.0,9,     -999.0,9,     -999.0,9,     -999.0,9,-999.0000, -999.00
33RO20071215,        P18,      14,          1,         21,      11021,2,20071220,       1708,    16.7513,  -109.9995,       3476,    67.3,  19.5071,  34.4906,2,  34.4893,2,     49.6,2,    49.2,2,   12.00,2,   19.80,2,    0.17,2,    1.74,2,   1.629,2,   0.987,2,   0.7373,2,  2174.1,2,  2277.3,2,   -999.0,9,  -999.00,   7.6220,2,    25.00,-999.000,9,-999.0000,9, -999.00,9, -999.00,9,  -999.0,9,-999.000,9,-999.000,-999.000,9,-999.000,9, -999.00,9, -999.00,9, -999.00,9,    0.20,2, -999.00,9,-999.000,   0.3217,2,   0.2417,2,   0.1351,2,   0.1019,2,   0.0607,2,   0.0288,2,   0.0132,2,   0.0137,2,   0.0141,2,  19.4949,     -999.0,9,     -999.0,9,     -999.0,9,     -999.0,9,     -999.0,9,     -999.0,9,     -999.0,9,-999.0000, -999.00
33RO20071215,        P18,      14,          1,         20,      11020,2,20071220,       1708,    16.7513,  -109.9995,       3476,    93.1,  15.8983,  34.5536,2,  34.5834,2,     17.7,2,    12.8,2,   20.90,2,   24.10,2,    0.04,2,    2.25,2,   1.362,2,   0.803,2,   0.5145,2,  2229.8,2,  2285.3,2,   -999.0,9,  -999.00,   7.4814,2,    25.00,-999.000,9,-999.0000,9, -999.00,9, -999.00,9,  -999.0,9,-999.000,9,-999.000,-999.000,9,-999.000,9, -999.00,9, -999.00,9, -999.00,9,    0.05,2, -999.00,9,-999.000,   0.2597,2,   0.1964,2,   0.1156,2,   0.0896,2,   0.0504,2,   0.0202,2,   0.0082,2,   0.0153,2,   0.0138,2,  15.8837,     -999.0,9,     -999.0,9,     -999.0,9,     -999.0,9,     -999.0,9,     -999.0,9,     -999.0,9,-999.0000, -999.00
33RO20071215,        P18,      14,          1,         19,      11019,2,20071220,       1708,    16.7513,  -109.9995,       3476,   117.9,  14.1466,  34.6973,2,  34.7097,2,      3.9,2,     2.7,2,   25.40,2,   23.40,2,    0.24,2,    2.42,2,   0.973,2,   0.587,2,   0.2840,2,  2248.3,2,  2297.3,2,   -999.0,9,  -999.00,   7.4501,2,    25.00,-999.000,9,-999.0000,9, -999.00,9, -999.00,9,  -999.0,9,-999.000,9,-999.000,-999.000,9,-999.000,9, -999.00,9, -999.00,9, -999.00,9, -999.00,5, -999.00,9,-999.000,   0.2446,2,   0.1879,2,   0.1150,2,   0.0948,2,   0.0559,2,   0.0239,2,   0.0100,2,   0.0141,2,   0.0125,2,  14.1295,     -999.0,9,     -999.0,9,     -999.0,9,     -999.0,9,     -999.0,9,     -999.0,9,     -999.0,9,-999.0000, -999.00
33RO20071215,        P18,      14,          1,         18,      11018,2,20071220,       1708,    16.7513,  -109.9995,       3476,   143.9,  13.0330,  34.7794,2,  34.7770,2,      3.7,2,     3.5,2,   28.20,2,   20.90,2,    3.03,2,    2.45,2,   0.704,6,   0.428,6,   0.2343,6,  2255.2,2,  2300.2,2,   -999.0,9,  -999.00,   7.4404,2,    25.00,-999.000,9,-999.0000,9, -999.00,9, -999.00,9,  -999.0,9,-999.000,9,-999.000,-999.000,9,-999.000,9, -999.00,9, -999.00,9, -999.00,9,    0.01,2, -999.00,9,-999.000,   0.2407,2,   0.1940,2,   0.1204,2,   0.0959,2,   0.0565,2,   0.0241,2,   0.0102,2,   0.0142,2,   0.0124,2,  13.0132,     -999.0,9,     -999.0,9,     -999.0,9,     -999.0,9,     -999.0,9,     -999.0,9,     -999.0,9,-999.0000, -999.00
33RO20071215,        P18,      14,          1,         17,      11017,2,20071220,       1708,    16.7513,  -109.9995,       3476,   183.8,  12.0411,  34.7514,2,  34.7514,2,      3.6,2,     2.7,2,   32.10,2,   22.70,2,    1.41,2,    2.52,2,   0.471,2,   0.288,2,   0.0853,2,  2265.2,2,  2303.1,2,   -999.0,9,  -999.00,   7.4221,2,    25.00,-999.000,9,-999.0000,9, -999.00,9, -999.00,9,  -999.0,9,-999.000,9,-999.000,-999.000,9,-999.000,9, -999.00,9, -999.00,9, -999.00,9,    0.01,2, -999.00,9,-999.000,   0.2352,2,   0.1857,2,   0.1169,2,   0.0969,2,   0.0585,2,   0.0254,2,   0.0109,2,   0.0136,2,   0.0120,2,  12.0172,     -999.0,9,     -999.0,9,     -999.0,9,     -999.0,9,     -999.0,9,     -999.0,9,     -999.0,9,-999.0000, -999.00
33RO20071215,        P18,      14,          1,         16,      11016,2,20071220,       1708,    16.7513,  -109.9995,       3476,   251.6,  11.2664,  34.7257,2,  34.7238,2,      3.5,2,     3.0,2,   35.10,2,   22.20,2,    1.68,2,    2.57,2,   0.314,2,   0.192,2,   0.0499,2,  2275.4,2,  2305.9,2,   -999.0,9,  -999.00,   7.4031,2,    25.00,-999.000,9,-999.0000,9, -999.00,9, -999.00,9,  -999.0,9,-999.000,9,-999.000,-999.000,9,-999.000,9, -999.00,9, -999.00,9, -999.00,9,    0.01,2, -999.00,9,-999.000,   0.2147,2,   0.1692,2,   0.1053,2,   0.0865,2,   0.0501,2,   0.0192,2,   0.0070,2,   0.0148,2,   0.0124,2,  11.2349,     -999.0,9,     -999.0,9,     -999.0,9,     -999.0,9,     -999.0,9,     -999.0,9,     -999.0,9,-999.0000, -999.00
33RO20071215,        P18,      14,          1,         15,      11015,2,20071220,       1708,    16.7513,  -109.9995,       3476,   325.1,  10.0996,  34.6516,2,  34.6470,2,      3.5,2,     3.8,2,   41.70,2,   25.80,2,    0.58,2,    2.71,2,   0.155,2,   0.096,2,   0.0613,2,  2286.5,2,  2309.4,2,   -999.0,9,  -999.00,   7.3799,2,    25.00,-999.000,9,-999.0000,9, -999.00,9, -999.00,9,  -999.0,9,-999.000,9,-999.000,-999.000,9,-999.000,9, -999.00,9, -999.00,9, -999.00,9, -999.00,9, -999.00,9,-999.000,   0.2359,2,   0.1832,2,   0.1138,2,   0.0941,2,   0.0566,2,   0.0231,2,   0.0087,2,   0.0144,2,   0.0123,2,  10.0615,     -999.0,9,     -999.0,9,     -999.0,9,     -999.0,9,     -999.0,9,     -999.0,9,     -999.0,9,-999.0000, -999.00
33RO20071215,        P18,      14,          1,         14,      11014,2,20071220,       1708,    16.7513,  -109.9995,       3476,   400.4,   9.1349,  34.6019,2,  34.6009,2,      3.6,2,     3.7,2,   48.30,2,   29.80,2,    0.01,2,    2.82,2,   0.077,2,   0.046,2,   0.0150,2,  2293.6,2,  2327.0,4,   -999.0,9,  -999.00,   7.3674,2,    25.00,-999.000,9,-999.0000,9, -999.00,9, -999.00,9,  -999.0,9,-999.000,9,-999.000,-999.000,9,-999.000,9, -999.00,9, -999.00,9, -999.00,9, -999.00,9, -999.00,9,-999.000,   0.2055,2,   0.1563,2,   0.0974,2,   0.0824,2,   0.0494,2,   0.0188,2,   0.0064,2,   0.0144,2,   0.0123,2,   9.0907,     -999.0,9,     -999.0,9,     -999.0,9,     -999.0,9,     -999.0,9,     -999.0,9,     -999.0,9,-999.0000, -999.00
33RO20071215,        P18,      14,          1,         13,      11013,2,20071220,       1708,    16.7513,  -109.9995,       3476,   475.5,   8.1466,  34.5634,2,  34.5623,2,      3.6,2,     3.0,2,   57.50,2,   32.90,2,    0.00,2,    2.95,2,   0.040,2,   0.023,2,   0.0000,2,  2304.4,2,  2317.9,2,   -999.0,9,  -999.00,   7.3558,2,    25.00,-999.000,9,-999.0000,9, -999.00,9, -999.00,9,  -999.0,9,-999.000,9,-999.000,-999.000,9,-999.000,9, -999.00,9, -999.00,9, -999.00,9, -999.00,9, -999.00,9,-999.000,   0.2152,2,   0.1640,2,   0.1038,2,   0.0878,2,   0.0542,2,   0.0212,2,   0.0075,2,   0.0142,2,   0.0120,2,   8.0974,     -999.0,9,     -999.0,9,     -999.0,9,     -999.0,9,     -999.0,9,     -999.0,9,     -999.0,9,-999.0000, -999.00
33RO20071215,        P18,      14,          1,         12,      11012,2,20071220,       1708,    16.7513,  -109.9995,       3476,   567.2,   7.1025,  34.5388,2,  34.5374,2,      3.6,2,     3.6,2,   67.80,2,   36.60,2,    0.00,2,    3.07,2,   0.017,2,   0.008,2,   0.0158,2,  2316.1,2,  2351.2,4,   -999.0,9,  -999.00,   7.3419,2,    25.00,-999.000,9,-999.0000,9, -999.00,9, -999.00,9,  -999.0,9,-999.000,9,-999.000,-999.000,9,-999.000,9, -999.00,9, -999.00,9, -999.00,9, -999.00,9, -999.00,9,-999.000,   0.2101,2,   0.1588,2,   0.0994,2,   0.0827,2,   0.0522,2,   0.0203,2,   0.0068,2,   0.0142,2,   0.0122,2,   7.0479,     -999.0,9,     -999.0,9,     -999.0,9,     -999.0,9,     -999.0,9,     -999.0,9,     -999.0,9,-999.0000, -999.00
33RO20071215,        P18,      14,          1,         11,      11010,2,20071220,       1708,    16.7513,  -109.9995,       3476,   701.0,   6.0132,  34.5296,2,  34.5298,2,      3.8,2,     3.3,2,   81.20,2,   40.90,2,    0.00,2,    3.18,2,   0.007,2,   0.004,2,   0.0000,2,  2333.2,2,  2361.0,4,   -999.0,9,  -999.00,   7.3352,2,    25.00,-999.000,9,-999.0000,9, -999.00,9, -999.00,9,  -999.0,9,-999.000,9,-999.000,-999.000,9,-999.000,9, -999.00,9, -999.00,9, -999.00,9, -999.00,9, -999.00,9,-999.000,   0.2182,2,   0.1652,2,   0.1039,2,   0.0840,2,   0.0549,2,   0.0234,2,   0.0087,2,   0.0138,2,   0.0121,2,   5.9508,     -999.0,9,     -999.0,9,     -999.0,9,     -999.0,9,     -999.0,9,     -999.0,9,     -999.0,9,-999.0000, -999.00
33RO20071215,        P18,      14,          1,         10,      11011,2,20071220,       1708,    16.7513,  -109.9995,       3476,   850.5,   5.1756,  34.5340,2,  34.5340,2,      5.9,2,     5.4,2,   93.50,2,   43.60,2,    0.00,2,    3.24,2,   0.006,2,   0.003,2,   0.0000,2,  2346.7,2,  -999.0,5,   -999.0,9,  -999.00,   7.3179,2,    25.00,-999.000,9,-999.0000,9, -999.00,9, -999.00,9,  -999.0,9,-999.000,9,-999.000,-999.000,9,-999.000,9, -999.00,9, -999.00,9, -999.00,9, -999.00,9, -999.00,9,-999.000,   0.2263,2,   0.1712,2,   0.1072,2,   0.0850,2,   0.0567,2,   0.0251,2,   0.0096,2,   0.0136,2,   0.0122,2,   5.1044,     -999.0,9,     -999.0,9,     -999.0,9,     -999.0,9,     -999.0,9,     -999.0,9,     -999.0,9,-999.0000, -999.00
33RO20071215,        P18,      14,          1,          9,      11009,2,20071220,       1708,    16.7513,  -109.9995,       3476,  1000.6,   4.4649,  34.5476,2,  34.5488,2,     14.3,2,    12.3,2,  105.60,2,   44.70,2,    0.01,2,    3.26,2,   0.005,2,   0.002,2,   0.0344,2,  2356.5,2,  1993.2,4,   -999.0,9,  -999.00,   7.3350,2,    25.00,-999.000,9,-999.0000,9, -999.00,9, -999.00,9,  -999.0,9,-999.000,9,-999.000,-999.000,9,-999.000,9, -999.00,9, -999.00,9, -999.00,9, -999.00,9, -999.00,9,-999.000,   0.2091,2,   0.1557,2,   0.0951,2,   0.0734,2,   0.0478,2,   0.0196,2,   0.0064,2,   0.0142,2,   0.0129,2,   4.3856,     -999.0,9,     -999.0,9,     -999.0,9,     -999.0,9,     -999.0,9,     -999.0,9,     -999.0,9,-999.0000, -999.00
33RO20071215,        P18,      14,          1,          8,      11008,2,20071220,       1708,    16.7513,  -109.9995,       3476,  1151.4,   3.8809,  34.5666,2,  34.5661,2,     25.7,2,    26.2,2,  116.60,2,   44.40,2,    0.00,2,    3.19,2,-999.000,9,-999.000,9,-999.0000,9,  2361.4,2,  2376.0,2,   -999.0,9,  -999.00,   7.3571,2,    25.00,-999.000,9,-999.0000,9, -999.00,9, -999.00,9,  -999.0,9,-999.000,9,-999.000,-999.000,9,-999.000,9, -999.00,9, -999.00,9, -999.00,9, -999.00,9, -999.00,9,-999.000,   0.1831,2,   0.1333,2,   0.0784,2,   0.0588,2,   0.0366,2,   0.0124,2,   0.0021,2,   0.0149,2,   0.0139,2,   3.7934,     -999.0,9,     -999.0,9,     -999.0,9,     -999.0,9,     -999.0,9,     -999.0,9,     -999.0,9,-999.0000, -999.00
33RO20071215,        P18,      14,          1,          7,      11007,2,20071220,       1708,    16.7513,  -109.9995,       3476,  1333.9,   3.3837,  34.5881,2,  34.5873,2,     39.7,2,    37.5,2,  126.30,2,   43.80,2,    0.00,2,    3.11,2,   0.005,2,   0.003,2,   0.0000,2,  2364.8,2,  2389.0,2,   -999.0,9,  -999.00,   7.3835,2,    25.00,-999.000,9,-999.0000,9, -999.00,9, -999.00,9,  -999.0,9,-999.000,9,-999.000,-999.000,9,-999.000,9, -999.00,9, -999.00,9, -999.00,9, -999.00,9, -999.00,9,-999.000,   0.1846,2,   0.1339,2,   0.0775,2,   0.0568,2,   0.0352,2,   0.0125,2,   0.0024,2,   0.0150,2,   0.0143,2,   3.2855,     -999.0,9,     -999.0,9,     -999.0,9,     -999.0,9,     -999.0,9,     -999.0,9,     -999.0,9,-999.0000, -999.00
33RO20071215,        P18,      14,          1,          6,      11006,2,20071220,       1708,    16.7513,  -109.9995,       3476,  1533.8,   2.9371,  34.6074,2,  34.6080,2,     56.2,2,    57.0,2,  135.20,2,   42.80,2,    0.00,2,    2.99,2,-999.000,9,-999.000,9,-999.0000,9,  2364.5,2,  2399.8,2,   -999.0,9,  -999.00,   7.4112,2,    25.00,-999.000,9,-999.0000,9, -999.00,9, -999.00,9,  -999.0,9,-999.000,9,-999.000,-999.000,9,-999.000,9, -999.00,9, -999.00,9, -999.00,9, -999.00,9, -999.00,9,-999.000,   0.1661,2,   0.1193,2,   0.0668,2,   0.0459,2,   0.0272,2,   0.0087,2,   0.0002,4,   0.0132,2,   0.0155,2,   2.8271,     -999.0,9,     -999.0,9,     -999.0,9,     -999.0,9,     -999.0,9,     -999.0,9,     -999.0,9,-999.0000, -999.00
33RO20071215,        P18,      14,          1,          5,      11005,2,20071220,       1708,    16.7513,  -109.9995,       3476,  1868.7,   2.3867,  34.6346,2,  34.6348,2,     79.0,2,    78.9,2,  146.70,2,   41.20,2,    0.00,2,    2.80,2,   0.001,2,   0.001,2,   0.0317,2,  2364.5,2,  2427.2,4,   -999.0,9,  -999.00,   7.4552,2,    25.00,-999.000,9,-999.0000,9, -999.00,9, -999.00,9,  -999.0,9,-999.000,9,-999.000,-999.000,9,-999.000,9, -999.00,9, -999.00,9, -999.00,9, -999.00,9, -999.00,9,-999.000,   0.1541,2,   0.1093,2,   0.0586,2,   0.0382,2,   0.0217,2,   0.0065,2,  -0.0009,4,   0.0134,2,   0.0167,2,   2.2556,     -999.0,9,     -999.0,9,     -999.0,9,     -999.0,9,     -999.0,9,     -999.0,9,     -999.0,9,-999.0000, -999.00
33RO20071215,        P18,      14,          1,          4,      11004,2,20071220,       1708,    16.7513,  -109.9995,       3476,  2268.1,   1.9637,  34.6574,2,  34.6579,2,    100.5,2,   100.8,2,  155.30,6,   39.70,6,    0.00,6,    2.67,2,-999.000,9,-999.000,9,-999.0000,9,  2359.8,2,  2439.1,4,   -999.0,9,  -999.00,   7.4965,2,    25.00,-999.000,9,-999.0000,9, -999.00,9, -999.00,9,  -999.0,9,-999.000,9,-999.000,-999.000,9,-999.000,9, -999.00,9, -999.00,9, -999.00,9, -999.00,9, -999.00,9,-999.000,   0.1316,2,   0.0903,2,   0.0440,2,   0.0242,2,   0.0116,2,   0.0013,2,  -0.0035,4,   0.0105,2,   0.0199,2,   1.8048,     -999.0,9,     -999.0,9,     -999.0,9,     -999.0,9,     -999.0,9,     -999.0,9,     -999.0,9,-999.0000, -999.00
33RO20071215,        P18,      14,          1,          3,      11003,2,20071220,       1708,    16.7513,  -109.9995,       3476,  2668.0,   1.7685,  34.6686,2,  34.6685,2,    112.4,2,   112.8,2,  159.30,6,   38.80,6,    0.00,6,    2.59,2,   0.003,2,   0.003,2,   0.0182,2,  2354.8,2,  2442.6,4,   -999.0,9,  -999.00,   7.5210,2,    25.00,-999.000,9,-999.0000,9, -999.00,9, -999.00,9,  -999.0,9,-999.000,9,-999.000,   0.005,3,-999.000,9, -999.00,9, -999.00,9, -999.00,9, -999.00,9, -999.00,9,-999.000,   0.1497,2,   0.1061,2,   0.0563,2,   0.0347,2,   0.0203,2,   0.0080,2,   0.0006,4,   0.0135,2,   0.0171,2,   1.5771,     -999.0,9,     -999.0,9,     -999.0,9,     -999.0,9,     -999.0,9,     -999.0,9,     -999.0,9,-999.0000, -999.00
33RO20071215,        P18,      14,          1,          2,      11002,2,20071220,       1708,    16.7513,  -109.9995,       3476,  3067.4,   1.7077,  34.6743,2,  34.6744,2,    119.6,2,   120.1,2,  159.80,6,   38.50,6,    0.00,6,    2.54,2,   0.004,2,   0.002,2,   0.0083,2,  2352.4,2,  2443.6,4,   -999.0,9,  -999.00,   7.5309,2,    25.00,-999.000,9,-999.0000,9, -999.00,9, -999.00,9,  -999.0,9,-999.000,9,-999.000,   0.005,3,-999.000,9, -999.00,9, -999.00,9, -999.00,9, -999.00,9, -999.00,9,-999.000,   0.1346,2,   0.0919,2,   0.0457,2,   0.0267,2,   0.0143,2,   0.0039,2,  -0.0014,4,   0.0135,2,   0.0192,2,   1.4798,     -999.0,9,     -999.0,9,     -999.0,9,     -999.0,9,     -999.0,9,     -999.0,9,     -999.0,9,-999.0000, -999.00
33RO20071215,        P18,      14,          1,          1,      11001,3,20071220,       1708,    16.7513,  -109.9995,       3476,  3501.2,   1.7149,  34.6766,2,  34.6773,2,    123.9,2,   122.4,2,  159.00,2,   38.20,2,    0.00,2,    2.52,2,   0.004,6,   0.004,6,   0.0000,6,  2352.3,2,  2446.0,2,   -999.0,9,  -999.00,   7.5348,2,    25.00,-999.000,9,-999.0000,9, -999.00,9, -999.00,9,  -999.0,9,-999.000,9,-999.000,   0.005,3,-999.000,9, -999.00,9, -999.00,9, -999.00,9, -999.00,9, -999.00,9,-999.000,   0.1454,2,   0.1010,2,   0.0525,2,   0.0323,2,   0.0190,2,   0.0071,2,   0.0005,3,   0.0135,2,   0.0177,2,   1.4432,     -999.0,9,     -999.0,9,     -999.0,9,     -999.0,9,     -999.0,9,     -999.0,9,     -999.0,9,-999.0000, -999.00