BOTTLE,20220818CCHSIOAMB
EXPOCODE,SECT_ID,STNNBR,CASTNO,SAMPNO,BTLNBR,BTLNBR_FLAG_W,DATE,TIME,LATITUDE,LONGITUDE,DEPTH,CTDPRS,CTDTMP,CTDSAL,CTDSAL_FLAG_W,SALNTY,SALNTY_FLAG_W,CTDOXY,CTDOXY_FLAG_W,OXYGEN,OXYGEN_FLAG_W,SILCAT,SILCAT_FLAG_W,NITRAT,NITRAT_FLAG_W,NITRIT,NITRIT_FLAG_W,PHSPHT,PHSPHT_FLAG_W,CFC-11,CFC-11_FLAG_W,CFC-12,CFC-12_FLAG_W,SF6,SF6_FLAG_W,TCARBN,TCARBN_FLAG_W,ALKALI,ALKALI_FLAG_W,FCO2,FCO2_FLAG_W,FCO2TMP,PH_SWS,PH_SWS_FLAG_W,PH_TMP,TRITUM,TRITUM_FLAG_W,HELIUM,HELIUM_FLAG_W,DELHE3,DELHE3_FLAG_W,DELC13,DELC13_FLAG_W,DELC14,DELC14_FLAG_W,NEON,NEON_FLAG_W,NEONER,CCL4,CCL4_FLAG_W,POC,POC_FLAG_W,DOC,DOC_FLAG_W,TDN,TDN_FLAG_W,DON,DON_FLAG_W,CHLORA,CHLORA_FLAG_W,ARGON,ARGON_FLAG_W,TRITER,CDOM325,CDOM325_FLAG_W,CDOM340,CDOM340_FLAG_W,CDOM380,CDOM380_FLAG_W,CDOM412,CDOM412_FLAG_W,CDOM443,CDOM443_FLAG_W,CDOM490,CDOM490_FLAG_W,CDOM555,CDOM555_FLAG_W,CDOMSL,CDOMSL_FLAG_W,CDOMSN,CDOMSN_FLAG_W,THETA,D18O_NO3,D18O_NO3_FLAG_W,CDOM2C,CDOM2C_FLAG_W,CDOM3C,CDOM3C_FLAG_W,LAB_DEN,LAB_DEN_FLAG_W,DELSI30,DELSI30_FLAG_W,N2,N2_FLAG_W,D15N_NO3,D15N_NO3_FLAG_W,HELIER,DELHER
,,,,,,,,,,,METERS,DBAR,ITS-90,PSS-78,,PSS-78,,UMOL/KG,,UMOL/KG,,UMOL/KG,,UMOL/KG,,UMOL/KG,,UMOL/KG,,PMOL/KG,,PMOL/KG,,FMOL/KG,,UMOL/KG,,UMOL/KG,,UATM,,DEG C,,,DEG C,TU,,NMOL/KG,,PERCNT,,/MILLE,,/MILLE,,NMOL/KG,,NMOL/KG,PMOL/KG,,UG/KG,,UMOL/KG,,UMOL/KG,,UMOL/KG,,UG/KG,,UMOL/KG,,TU,1/M,,1/M,,1/M,,1/M,,1/M,,1/M,,1/M,,1/NM,,1/NM,,DEG C,/MILLE,,,,,,,,/MILLE,,UMOL/KG,,/MILLE,,NMOL/KG,PERCNT
33RO20071215,        P18,      73,          1,         11,      12003,2,20080108,       2223,   -13.4995,  -103.0002,       4130,  1866.6,   2.4004,  34.6313,2,  34.6315,2,    115.9,2,   116.2,2,  126.60,2,   38.70,2,    0.00,2,    2.71,2,-999.000,9,-999.000,9,-999.0000,9,  2324.3,2,  -999.0,9,   -999.0,9,  -999.00,-999.0000,9,  -999.00,-999.000,9,-999.0000,9, -999.00,9, -999.00,9,  -999.0,9,-999.000,9,-999.000,-999.000,9,-999.000,9,   37.78,2,   40.07,2, -999.00,9, -999.00,9, -999.00,9,-999.000,   0.1475,2,   0.1035,2,   0.0564,2,   0.0395,2,   0.0250,2,   0.0107,2,   0.0034,2,   0.0147,2,   0.0156,2,   2.2693,     -999.0,9,     -999.0,9,     -999.0,9,     -999.0,9,     -999.0,9,     -999.0,9,     -999.0,9,-999.0000, -999.00
33RO20071215,        P18,      73,          1,         10,      12032,2,20080108,       2223,   -13.4995,  -103.0002,       4130,  2066.1,   2.2000,  34.6452,2,  34.6452,2,    122.4,2,   122.4,2,  130.20,2,   38.10,2,    0.00,2,    2.66,2,   0.000,2,   0.000,2,   0.0000,2,  -999.0,9,  -999.0,9,   -999.0,9,  -999.00,-999.0000,9,  -999.00,-999.000,9,-999.0000,9, -999.00,9, -999.00,9,  -999.0,9,-999.000,9,-999.000,   0.004,3,-999.000,9,   37.68,2,   39.46,2, -999.00,9, -999.00,9, -999.00,9,-999.000,   0.1535,2,   0.1065,2,   0.0537,2,   0.0368,2,   0.0224,2,   0.0084,2,   0.0019,2,   0.0159,2,   0.0173,2,   2.0548,     -999.0,9,     -999.0,9,     -999.0,9,     -999.0,9,     -999.0,9,     -999.0,9,     -999.0,9,-999.0000, -999.00
33RO20071215,        P18,      73,          1,          9,      12002,2,20080108,       2223,   -13.4995,  -103.0002,       4130,  2216.5,   2.0392,  34.6561,2,  34.6549,2,    133.0,2,   133.1,2,  130.40,2,   37.40,2,    0.00,2,    2.59,2,-999.000,9,-999.000,9,-999.0000,9,  2319.3,2,  2411.3,2,   -999.0,9,  -999.00,   7.5309,2,    25.00,-999.000,9,-999.0000,9, -999.00,9, -999.00,9,  -999.0,9,-999.000,9,-999.000,-999.000,9,-999.000,9,   36.93,2,   38.56,2, -999.00,9, -999.00,9, -999.00,9,-999.000,   0.1556,2,   0.1104,2,   0.0607,2,   0.0429,2,   0.0282,2,   0.0136,2,   0.0053,2,   0.0140,2,   0.0150,2,   1.8835,     -999.0,9,     -999.0,9,     -999.0,9,     -999.0,9,     -999.0,9,     -999.0,9,     -999.0,9,-999.0000, -999.00
33RO20071215,        P18,      73,          1,          8,      12021,2,20080108,       2223,   -13.4995,  -103.0002,       4130,  2468.1,   1.8776,  34.6694,2,  34.6713,2,    144.5,2,   144.9,2,  130.50,2,   36.40,2,    0.00,2,    2.52,2,-999.000,9,-999.000,9,-999.0000,9,  -999.0,9,  -999.0,9,   -999.0,9,  -999.00,-999.0000,9,  -999.00,-999.000,9,-999.0000,9, -999.00,9, -999.00,9,  -999.0,9,-999.000,9,-999.000,-999.000,9,-999.000,9,   36.80,2,   37.46,2, -999.00,9, -999.00,9, -999.00,9,-999.000,-999.0000,5,-999.0000,5,-999.0000,5,-999.0000,5,-999.0000,5,-999.0000,5,-999.0000,5,-999.0000,5,-999.0000,5,   1.7024,     -999.0,9,     -999.0,9,     -999.0,9,     -999.0,9,     -999.0,9,     -999.0,9,     -999.0,9,-999.0000, -999.00
33RO20071215,        P18,      73,          1,          7,      12001,2,20080108,       2223,   -13.4995,  -103.0002,       4130,  2666.3,   1.8161,  34.6763,2,  34.6766,2,    147.1,2,   146.8,2,  133.00,2,   36.30,2,    0.00,2,    2.50,2,   0.000,2,   0.001,2,   0.0791,4,  2317.8,2,  -999.0,9,   -999.0,9,  -999.00,-999.0000,9,  -999.00,-999.000,9,-999.0000,9, -999.00,9, -999.00,9,  -999.0,9,-999.000,9,-999.000,   0.004,3,-999.000,9,   37.82,2,   37.44,2, -999.00,9, -999.00,9, -999.00,9,-999.000,   0.1273,2,   0.0851,2,   0.0432,2,   0.0282,2,   0.0170,2,   0.0065,2,   0.0013,2,   0.0162,2,   0.0182,2,   1.6239,     -999.0,9,     -999.0,9,     -999.0,9,     -999.0,9,     -999.0,9,     -999.0,9,     -999.0,9,-999.0000, -999.00
33RO20071215,        P18,      73,          1,          6,      12033,2,20080108,       2223,   -13.4995,  -103.0002,       4130,  2866.8,   1.7909,  34.6793,2,  34.6846,4,    143.6,2,   144.0,2,  138.10,2,   36.70,2,    0.00,2,    2.52,2,-999.000,9,-999.000,9,-999.0000,9,  -999.0,9,  -999.0,9,   -999.0,9,  -999.00,-999.0000,9,  -999.00,-999.000,9,-999.0000,9, -999.00,9, -999.00,9,  -999.0,9,-999.000,9,-999.000,-999.000,9,-999.000,9,   37.92,3,   37.79,3, -999.00,9, -999.00,9, -999.00,9,-999.000,   0.1407,2,   0.0971,2,   0.0503,2,   0.0335,2,   0.0209,2,   0.0088,2,   0.0026,2,   0.0155,2,   0.0171,2,   1.5804,     -999.0,9,     -999.0,9,     -999.0,9,     -999.0,9,     -999.0,9,     -999.0,9,     -999.0,9,-999.0000, -999.00
33RO20071215,        P18,      73,          1,          5,      12008,2,20080108,       2223,   -13.4995,  -103.0002,       4130,  3078.7,   1.7827,  34.6794,2,  34.6802,2,    140.0,2,   139.8,2,  142.80,2,   37.00,2,    0.00,2,    2.55,2,-999.000,9,-999.000,9,-999.0000,9,  2330.8,2,  2423.8,2,   -999.0,9,  -999.00,   7.5845,2,    25.00,-999.000,9,-999.0000,9, -999.00,9, -999.00,9,  -999.0,9,-999.000,9,-999.000,-999.000,9,-999.000,9,   37.44,2,   37.98,2, -999.00,9, -999.00,9, -999.00,9,-999.000,   0.1527,2,   0.1072,2,   0.0582,2,   0.0398,2,   0.0259,2,   0.0124,2,   0.0047,2,   0.0144,2,   0.0156,2,   1.5519,     -999.0,9,     -999.0,9,     -999.0,9,     -999.0,9,     -999.0,9,     -999.0,9,     -999.0,9,-999.0000, -999.00
33RO20071215,        P18,      73,          1,          4,      12009,2,20080108,       2223,   -13.4995,  -103.0002,       4130,  3333.6,   1.7831,  34.6792,2,  34.6794,2,    138.1,2,   138.2,2,  146.20,6,   37.10,6,    0.00,6,    2.56,2,   0.000,2,   0.000,2,   0.0000,2,  -999.0,9,  -999.0,9,   -999.0,9,  -999.00,-999.0000,9,  -999.00,-999.000,9,-999.0000,9, -999.00,9, -999.00,9,  -999.0,9,-999.000,9,-999.000,   0.004,3,-999.000,9,   37.68,2,   38.40,2, -999.00,9, -999.00,9, -999.00,9,-999.000,   0.1340,2,   0.0917,2,   0.0480,2,   0.0321,2,   0.0196,2,   0.0075,2,   0.0018,2,   0.0157,2,   0.0171,2,   1.5269,     -999.0,9,     -999.0,9,     -999.0,9,     -999.0,9,     -999.0,9,     -999.0,9,     -999.0,9,-999.0000, -999.00
33RO20071215,        P18,      73,          1,          3,      12006,2,20080108,       2223,   -13.4995,  -103.0002,       4130,  3583.1,   1.7931,  34.6789,2,  34.6816,2,    137.8,2,   137.4,2,  148.60,6,   37.20,6,    0.00,6,    2.57,2,-999.000,9,-999.000,9,-999.0000,9,  -999.0,9,  -999.0,9,   -999.0,9,  -999.00,-999.0000,9,  -999.00,  -0.004,2,-999.0000,9, -999.00,9, -999.00,9,  -999.0,9,-999.000,9,-999.000,-999.000,9,-999.000,9,   37.04,2,   38.43,2, -999.00,9, -999.00,9, -999.00,9,   0.006,   0.1644,2,   0.1170,2,   0.0632,2,   0.0440,2,   0.0290,2,   0.0138,2,   0.0055,2,   0.0143,2,   0.0153,2,   1.5108,     -999.0,9,     -999.0,9,     -999.0,9,     -999.0,9,     -999.0,9,     -999.0,9,     -999.0,9,-999.0000, -999.00
33RO20071215,        P18,      73,          1,          2,      12007,2,20080108,       2223,   -13.4995,  -103.0002,       4130,  3833.1,   1.8131,  34.6789,2,  34.6832,2,    137.8,2,   137.2,2,  149.30,6,   37.20,6,    0.00,6,    2.57,2,-999.000,9,-999.000,9,-999.0000,9,  2336.5,2,  2427.8,2,   -999.0,9,  -999.00,   7.5714,2,    25.00,-999.000,9,-999.0000,9, -999.00,9, -999.00,9,  -999.0,9,-999.000,9,-999.000,-999.000,9,-999.000,9,   37.04,3,   38.61,3, -999.00,9, -999.00,9, -999.00,9,-999.000,   0.1368,2,   0.0933,2,   0.0481,2,   0.0318,2,   0.0192,2,   0.0069,2,   0.0014,2,   0.0160,2,   0.0175,2,   1.5036,     -999.0,9,     -999.0,9,     -999.0,9,     -999.0,9,     -999.0,9,     -999.0,9,     -999.0,9,-999.0000, -999.00
33RO20071215,        P18,      73,          1,          1,      12035,2,20080108,       2223,   -13.4995,  -103.0002,       4130,  4165.4,   1.8444,  34.6788,2,  34.6757,2,    136.8,2,   137.2,2,  150.20,2,   37.40,2,    0.00,2,    2.57,2,   0.000,6,   0.000,6,   0.0000,6,  2337.6,6,  2432.7,2,   -999.0,9,  -999.00,   7.5802,2,    25.00,-999.000,9,-999.0000,9, -999.00,9, -999.00,9,  -999.0,9,-999.000,9,-999.000,   0.004,3,-999.000,9,   38.73,3,   38.55,3, -999.00,9, -999.00,9, -999.00,9,-999.000,   0.1472,2,   0.1027,2,   0.0543,2,   0.0368,2,   0.0230,2,   0.0096,2,   0.0030,2,   0.0153,2,   0.0165,2,   1.4972,     -999.0,9,     -999.0,9,     -999.0,9,     -999.0,9,     -999.0,9,     -999.0,9,     -999.0,9,-999.0000, -999.00