BOTTLE,20220818CCHSIOAMB
EXPOCODE,SECT_ID,STNNBR,CASTNO,SAMPNO,BTLNBR,BTLNBR_FLAG_W,DATE,TIME,LATITUDE,LONGITUDE,DEPTH,CTDPRS,CTDTMP,CTDSAL,CTDSAL_FLAG_W,SALNTY,SALNTY_FLAG_W,CTDOXY,CTDOXY_FLAG_W,OXYGEN,OXYGEN_FLAG_W,SILCAT,SILCAT_FLAG_W,NITRAT,NITRAT_FLAG_W,NITRIT,NITRIT_FLAG_W,PHSPHT,PHSPHT_FLAG_W,CFC-11,CFC-11_FLAG_W,CFC-12,CFC-12_FLAG_W,SF6,SF6_FLAG_W,TCARBN,TCARBN_FLAG_W,ALKALI,ALKALI_FLAG_W,FCO2,FCO2_FLAG_W,FCO2TMP,PH_SWS,PH_SWS_FLAG_W,PH_TMP,TRITUM,TRITUM_FLAG_W,HELIUM,HELIUM_FLAG_W,DELHE3,DELHE3_FLAG_W,DELC13,DELC13_FLAG_W,DELC14,DELC14_FLAG_W,NEON,NEON_FLAG_W,NEONER,CCL4,CCL4_FLAG_W,POC,POC_FLAG_W,DOC,DOC_FLAG_W,TDN,TDN_FLAG_W,DON,DON_FLAG_W,CHLORA,CHLORA_FLAG_W,ARGON,ARGON_FLAG_W,TRITER,CDOM325,CDOM325_FLAG_W,CDOM340,CDOM340_FLAG_W,CDOM380,CDOM380_FLAG_W,CDOM412,CDOM412_FLAG_W,CDOM443,CDOM443_FLAG_W,CDOM490,CDOM490_FLAG_W,CDOM555,CDOM555_FLAG_W,CDOMSL,CDOMSL_FLAG_W,CDOMSN,CDOMSN_FLAG_W,THETA,D18O_NO3,D18O_NO3_FLAG_W,CDOM2C,CDOM2C_FLAG_W,CDOM3C,CDOM3C_FLAG_W,LAB_DEN,LAB_DEN_FLAG_W,DELSI30,DELSI30_FLAG_W,N2,N2_FLAG_W,D15N_NO3,D15N_NO3_FLAG_W,HELIER,DELHER
,,,,,,,,,,,METERS,DBAR,ITS-90,PSS-78,,PSS-78,,UMOL/KG,,UMOL/KG,,UMOL/KG,,UMOL/KG,,UMOL/KG,,UMOL/KG,,PMOL/KG,,PMOL/KG,,FMOL/KG,,UMOL/KG,,UMOL/KG,,UATM,,DEG C,,,DEG C,TU,,NMOL/KG,,PERCNT,,/MILLE,,/MILLE,,NMOL/KG,,NMOL/KG,PMOL/KG,,UG/KG,,UMOL/KG,,UMOL/KG,,UMOL/KG,,UG/KG,,UMOL/KG,,TU,1/M,,1/M,,1/M,,1/M,,1/M,,1/M,,1/M,,1/NM,,1/NM,,DEG C,/MILLE,,,,,,,,/MILLE,,UMOL/KG,,/MILLE,,NMOL/KG,PERCNT
33RO20071215,        P18,       7,          1,         24,      11024,2,20071219,       0040,    20.8335,  -110.0010,       3199,    16.0,  24.5787,  34.7532,2,  34.7573,2,    209.5,2,   209.6,2,    2.10,2,    0.10,2,    0.00,2,    0.33,2,   1.781,6,   1.127,6,   1.0710,6,  2013.4,6,  2313.9,2,    328.6,2,    20.00,   8.0295,2,    25.00,-999.000,9,-999.0000,9, -999.00,9, -999.00,9,  -999.0,9,-999.000,9,-999.000,-999.000,9,-999.000,9,   71.67,2,    5.35,2, -999.00,1, -999.00,9, -999.00,9,-999.000,-999.0000,9,-999.0000,9,-999.0000,9,-999.0000,9,-999.0000,9,-999.0000,9,-999.0000,9,-999.0000,9,-999.0000,9,  24.5753,     -999.0,9,     -999.0,9,     -999.0,9,     -999.0,9,     -999.0,9,     -999.0,9,     -999.0,9,-999.0000, -999.00
33RO20071215,        P18,       7,          1,         23,      11023,2,20071219,       0040,    20.8335,  -110.0010,       3199,    33.4,  23.1358,  34.6755,2,  34.6981,2,    214.5,2,   213.9,2,    2.50,2,    0.10,2,    0.00,2,    0.39,2,   1.896,2,   1.194,2,   1.0962,2,  2020.2,2,  2312.2,2,    342.3,2,    20.00,-999.0000,9,  -999.00,-999.000,9,-999.0000,9, -999.00,9, -999.00,9,  -999.0,9,-999.000,9,-999.000,-999.000,9,-999.000,9, -999.00,9, -999.00,9, -999.00,1, -999.00,9, -999.00,9,-999.000,-999.0000,9,-999.0000,9,-999.0000,9,-999.0000,9,-999.0000,9,-999.0000,9,-999.0000,9,-999.0000,9,-999.0000,9,  23.1290,     -999.0,9,     -999.0,9,     -999.0,9,     -999.0,9,     -999.0,9,     -999.0,9,     -999.0,9,-999.0000, -999.00
33RO20071215,        P18,       7,          1,         22,      11022,2,20071219,       0040,    20.8335,  -110.0010,       3199,    57.7,  21.3004,  34.5007,2,  34.3186,2,    188.5,2,   188.2,2,    5.20,2,    3.30,2,    0.61,2,    0.69,2,   2.228,2,   1.346,2,   1.1299,2,  2071.2,2,  2285.9,2,    491.3,6,    20.00,   7.8886,2,    25.00,-999.000,9,-999.0000,9, -999.00,9, -999.00,9,  -999.0,9,-999.000,9,-999.000,-999.000,9,-999.000,9,   63.83,2,    8.74,2, -999.00,1, -999.00,9, -999.00,9,-999.000,-999.0000,9,-999.0000,9,-999.0000,9,-999.0000,9,-999.0000,9,-999.0000,9,-999.0000,9,-999.0000,9,-999.0000,9,  21.2893,     -999.0,9,     -999.0,9,     -999.0,9,     -999.0,9,     -999.0,9,     -999.0,9,     -999.0,9,-999.0000, -999.00
33RO20071215,        P18,       7,          1,         21,      11021,2,20071219,       0040,    20.8335,  -110.0010,       3199,    83.7,  14.8181,  34.3679,2,  34.3806,2,     56.4,2,    59.0,2,   19.80,2,   21.90,2,    0.02,2,    2.00,2,   2.009,2,   1.166,2,   0.8312,2,  2202.2,2,  2279.0,2,   1253.8,2,    20.00,   7.5324,2,    25.00,-999.000,9,-999.0000,9, -999.00,9, -999.00,9,  -999.0,9,-999.000,9,-999.000,-999.000,9,-999.000,9, -999.00,9,   26.09,2, -999.00,1, -999.00,9, -999.00,9,-999.000,-999.0000,9,-999.0000,9,-999.0000,9,-999.0000,9,-999.0000,9,-999.0000,9,-999.0000,9,-999.0000,9,-999.0000,9,  14.8057,     -999.0,9,     -999.0,9,     -999.0,9,     -999.0,9,     -999.0,9,     -999.0,9,     -999.0,9,-999.0000, -999.00
33RO20071215,        P18,       7,          1,         20,      11020,2,20071219,       0040,    20.8335,  -110.0010,       3199,   108.6,  13.6328,  34.5945,2,  34.6044,2,     23.1,2,    23.1,2,   28.00,2,   25.40,2,    0.01,2,    2.42,2,   1.481,2,   0.856,2,   0.5209,2,  2244.6,2,  2295.4,2,   1563.5,2,    20.00,   7.4460,2,    25.00,-999.000,9,-999.0000,9, -999.00,9, -999.00,9,  -999.0,9,-999.000,9,-999.000,-999.000,9,-999.000,9,   53.54,2, -999.00,9, -999.00,1, -999.00,9, -999.00,9,-999.000,-999.0000,9,-999.0000,9,-999.0000,9,-999.0000,9,-999.0000,9,-999.0000,9,-999.0000,9,-999.0000,9,-999.0000,9,  13.6175,     -999.0,9,     -999.0,9,     -999.0,9,     -999.0,9,     -999.0,9,     -999.0,9,     -999.0,9,-999.0000, -999.00
33RO20071215,        P18,       7,          1,         19,      11019,2,20071219,       0040,    20.8335,  -110.0010,       3199,   133.5,  12.7698,  34.6548,2,  34.6824,2,      6.0,2,     9.8,2,   29.90,2,   25.30,2,    0.00,2,    2.49,2,   1.043,2,   0.611,2,   0.3294,2,  2252.9,2,  2299.2,2,   1624.4,2,    20.00,   7.4330,2,    25.00,-999.000,9,-999.0000,9, -999.00,9, -999.00,9,  -999.0,9,-999.000,9,-999.000,-999.000,9,-999.000,9,   47.39,2,   28.61,2, -999.00,1, -999.00,9, -999.00,9,-999.000,-999.0000,9,-999.0000,9,-999.0000,9,-999.0000,9,-999.0000,9,-999.0000,9,-999.0000,9,-999.0000,9,-999.0000,9,  12.7518,     -999.0,9,     -999.0,9,     -999.0,9,     -999.0,9,     -999.0,9,     -999.0,9,     -999.0,9,-999.0000, -999.00
33RO20071215,        P18,       7,          1,         18,      11018,2,20071219,       0040,    20.8335,  -110.0010,       3199,   166.0,  12.3239,  34.7222,2,  34.7278,2,      4.4,2,     4.5,2,   31.80,2,   25.30,2,    0.00,2,    2.55,2,   0.753,2,   0.450,2,   0.2082,2,  2260.8,2,  2304.2,2,   1676.1,2,    20.00,   7.4214,2,    25.00,-999.000,9,-999.0000,9, -999.00,9, -999.00,9,  -999.0,9,-999.000,9,-999.000,-999.000,9,-999.000,9,   45.80,2,   28.22,2, -999.00,1, -999.00,9, -999.00,9,-999.000,-999.0000,9,-999.0000,9,-999.0000,9,-999.0000,9,-999.0000,9,-999.0000,9,-999.0000,9,-999.0000,9,-999.0000,9,  12.3020,     -999.0,9,     -999.0,9,     -999.0,9,     -999.0,9,     -999.0,9,     -999.0,9,     -999.0,9,-999.0000, -999.00
33RO20071215,        P18,       7,          1,         17,      11017,2,20071219,       0040,    20.8335,  -110.0010,       3199,   216.9,  11.5492,  34.7062,2,  34.6993,2,      5.3,2,     4.7,2,   35.40,2,   25.50,2,    0.00,2,    2.62,2,   0.526,2,   0.311,2,   0.2198,2,  2270.9,2,  2306.4,2,   1753.8,2,    20.00,   7.4064,2,    25.00,-999.000,9,-999.0000,9, -999.00,9, -999.00,9,  -999.0,9,-999.000,9,-999.000,-999.000,9,-999.000,9,   43.80,2,   27.71,2, -999.00,1, -999.00,9, -999.00,9,-999.000,-999.0000,9,-999.0000,9,-999.0000,9,-999.0000,9,-999.0000,9,-999.0000,9,-999.0000,9,-999.0000,9,-999.0000,9,  11.5217,     -999.0,9,     -999.0,9,     -999.0,9,     -999.0,9,     -999.0,9,     -999.0,9,     -999.0,9,-999.0000, -999.00
33RO20071215,        P18,       7,          1,         16,      11016,2,20071219,       0040,    20.8335,  -110.0010,       3199,   275.8,  10.6179,  34.6551,2,  34.6490,2,      4.3,2,     4.4,2,   39.80,2,   26.20,2,    0.00,2,    2.71,2,   0.339,2,   0.197,2,   0.0958,2,  2279.9,2,  2308.1,2,   -999.0,9,  -999.00,   7.3796,2,    25.00,-999.000,9,-999.0000,9, -999.00,9, -999.00,9,  -999.0,9,-999.000,9,-999.000,-999.000,9,-999.000,9,   42.83,2,   28.03,2, -999.00,1, -999.00,9, -999.00,9,-999.000,-999.0000,9,-999.0000,9,-999.0000,9,-999.0000,9,-999.0000,9,-999.0000,9,-999.0000,9,-999.0000,9,-999.0000,9,  10.5846,     -999.0,9,     -999.0,9,     -999.0,9,     -999.0,9,     -999.0,9,     -999.0,9,     -999.0,9,-999.0000, -999.00
33RO20071215,        P18,       7,          1,         15,      11015,2,20071219,       0040,    20.8335,  -110.0010,       3199,   350.5,   9.6127,  34.5866,2,  34.5826,2,      4.5,2,     4.7,2,   45.20,2,   29.00,2,    0.00,2,    2.78,2,   0.214,2,   0.127,2,   0.0567,2,  2285.0,2,  2308.1,2,   -999.0,9,  -999.00,   7.3830,2,    25.00,-999.000,9,-999.0000,9, -999.00,9, -999.00,9,  -999.0,9,-999.000,9,-999.000,-999.000,9,-999.000,9,   41.68,2,   30.42,2, -999.00,1, -999.00,9, -999.00,9,-999.000,-999.0000,9,-999.0000,9,-999.0000,9,-999.0000,9,-999.0000,9,-999.0000,9,-999.0000,9,-999.0000,9,-999.0000,9,   9.5729,     -999.0,9,     -999.0,9,     -999.0,9,     -999.0,9,     -999.0,9,     -999.0,9,     -999.0,9,-999.0000, -999.00
33RO20071215,        P18,       7,          1,         14,      11014,2,20071219,       0040,    20.8335,  -110.0010,       3199,   426.2,   8.4309,  34.5244,2,  34.5243,2,      4.7,2,     5.5,2,   55.00,2,   32.70,2,    0.00,2,    2.91,2,   0.127,6,   0.072,6,   0.0662,6,  2296.8,2,  2312.5,2,   2021.6,2,    20.00,   7.3534,2,    25.00,-999.000,9,-999.0000,9, -999.00,9, -999.00,9,  -999.0,9,-999.000,9,-999.000,-999.000,9,-999.000,9,   40.56,2,   34.35,2, -999.00,1, -999.00,9, -999.00,9,-999.000,-999.0000,9,-999.0000,9,-999.0000,9,-999.0000,9,-999.0000,9,-999.0000,9,-999.0000,9,-999.0000,9,-999.0000,9,   8.3860,     -999.0,9,     -999.0,9,     -999.0,9,     -999.0,9,     -999.0,9,     -999.0,9,     -999.0,9,-999.0000, -999.00
33RO20071215,        P18,       7,          1,         13,      11013,2,20071219,       0040,    20.8335,  -110.0010,       3199,   501.7,   7.5016,  34.4982,2,  34.4974,2,      4.7,2,     5.3,2,   63.80,2,   35.40,2,    0.00,2,    3.00,2,   0.065,2,   0.037,2,   0.0503,2,  2306.8,2,  2321.0,2,   -999.0,9,  -999.00,   7.3415,2,    25.00,-999.000,9,-999.0000,9, -999.00,9, -999.00,9,  -999.0,9,-999.000,9,-999.000,-999.000,9,-999.000,9,   39.74,2,   37.11,2, -999.00,1, -999.00,9, -999.00,9,-999.000,-999.0000,9,-999.0000,9,-999.0000,9,-999.0000,9,-999.0000,9,-999.0000,9,-999.0000,9,-999.0000,9,-999.0000,9,   7.4521,     -999.0,9,     -999.0,9,     -999.0,9,     -999.0,9,     -999.0,9,     -999.0,9,     -999.0,9,-999.0000, -999.00
33RO20071215,        P18,       7,          1,         12,      11012,2,20071219,       0040,    20.8335,  -110.0010,       3199,   582.8,   6.6824,  34.4910,2,  34.4897,2,      4.6,2,     5.1,2,   73.60,2,   38.00,2,    0.00,2,    3.10,2,   0.034,2,   0.020,2,   0.0105,2,  2319.1,2,  2330.3,2,   -999.0,9,  -999.00,   7.3350,2,    25.00,-999.000,9,-999.0000,9, -999.00,9, -999.00,9,  -999.0,9,-999.000,9,-999.000,-999.000,9,-999.000,9,   39.34,2,   39.25,2, -999.00,1, -999.00,9, -999.00,9,-999.000,-999.0000,9,-999.0000,9,-999.0000,9,-999.0000,9,-999.0000,9,-999.0000,9,-999.0000,9,-999.0000,9,-999.0000,9,   6.6281,     -999.0,9,     -999.0,9,     -999.0,9,     -999.0,9,     -999.0,9,     -999.0,9,     -999.0,9,-999.0000, -999.00
33RO20071215,        P18,       7,          1,         11,      11010,2,20071219,       0040,    20.8335,  -110.0010,       3199,   682.7,   6.1461,  34.5149,2,  34.5146,2,      4.3,2,     3.8,2,   81.10,2,   40.00,2,    0.00,2,    3.18,2,   0.020,2,   0.011,2,   0.0000,2,  2330.9,2,  2340.2,2,   -999.0,9,  -999.00,   7.3296,2,    25.00,-999.000,9,-999.0000,9, -999.00,9, -999.00,9,  -999.0,9,-999.000,9,-999.000,-999.000,9,-999.000,9,   38.12,2,   41.57,2, -999.00,1, -999.00,9, -999.00,9,-999.000,-999.0000,9,-999.0000,9,-999.0000,9,-999.0000,9,-999.0000,9,-999.0000,9,-999.0000,9,-999.0000,9,-999.0000,9,   6.0848,     -999.0,9,     -999.0,9,     -999.0,9,     -999.0,9,     -999.0,9,     -999.0,9,     -999.0,9,-999.0000, -999.00
33RO20071215,        P18,       7,          1,         10,      11011,2,20071219,       0040,    20.8335,  -110.0010,       3199,   800.4,   5.4575,  34.5172,2,  34.5172,2,      5.5,2,     4.6,2,   90.10,2,   42.50,2,    0.00,2,    3.24,2,   0.009,2,   0.003,2,   0.0250,2,  2340.0,2,  2346.2,2,   2172.6,2,    20.00,   7.3351,2,    25.00,-999.000,9,-999.0000,9, -999.00,9, -999.00,9,  -999.0,9,-999.000,9,-999.000,-999.000,9,-999.000,9,   37.90,2,   44.06,2, -999.00,1, -999.00,9, -999.00,9,-999.000,-999.0000,9,-999.0000,9,-999.0000,9,-999.0000,9,-999.0000,9,-999.0000,9,-999.0000,9,-999.0000,9,-999.0000,9,   5.3891,     -999.0,9,     -999.0,9,     -999.0,9,     -999.0,9,     -999.0,9,     -999.0,9,     -999.0,9,-999.0000, -999.00
33RO20071215,        P18,       7,          1,          9,      11009,2,20071219,       0040,    20.8335,  -110.0010,       3199,   949.4,   4.7105,  34.5296,2,  34.5292,2,      9.9,2,    10.3,2,  103.10,2,   44.10,2,    0.00,2,    3.28,2,-999.000,9,-999.000,9,-999.0000,9,  2353.1,2,  2361.0,2,   -999.0,9,  -999.00,   7.3277,2,    25.00,-999.000,9,-999.0000,9, -999.00,9, -999.00,9,  -999.0,9,-999.000,9,-999.000,-999.000,9,-999.000,9,   38.26,2,   45.25,2, -999.00,1, -999.00,9, -999.00,9,-999.000,-999.0000,9,-999.0000,9,-999.0000,9,-999.0000,9,-999.0000,9,-999.0000,9,-999.0000,9,-999.0000,9,-999.0000,9,   4.6338,     -999.0,9,     -999.0,9,     -999.0,9,     -999.0,9,     -999.0,9,     -999.0,9,     -999.0,9,-999.0000, -999.00
33RO20071215,        P18,       7,          1,          8,      11008,2,20071219,       0040,    20.8335,  -110.0010,       3199,  1100.7,   4.1582,  34.5488,2,  34.5488,2,     16.9,2,    16.8,2,  114.70,2,   44.40,2,    0.00,2,    3.27,2,   0.015,2,   0.004,2,   0.0435,2,  2362.0,2,  2372.3,2,   -999.0,9,  -999.00,   7.3448,2,    25.00,-999.000,9,-999.0000,9, -999.00,9, -999.00,9,  -999.0,9,-999.000,9,-999.000,-999.000,9,-999.000,9,   37.63,2,   45.75,2, -999.00,1, -999.00,9, -999.00,9,-999.000,-999.0000,9,-999.0000,9,-999.0000,9,-999.0000,9,-999.0000,9,-999.0000,9,-999.0000,9,-999.0000,9,-999.0000,9,   4.0727,     -999.0,9,     -999.0,9,     -999.0,9,     -999.0,9,     -999.0,9,     -999.0,9,     -999.0,9,-999.0000, -999.00
33RO20071215,        P18,       7,          1,          7,      11007,2,20071219,       0040,    20.8335,  -110.0010,       3199,  1250.7,   3.6583,  34.5706,2,  34.5702,2,     28.0,2,    27.7,2,  124.80,2,   44.10,2,    0.00,2,    3.21,2,-999.000,9,-999.000,9,-999.0000,9,  2364.3,2,  2383.1,2,   2054.7,2,    20.00,   7.3473,2,    25.00,-999.000,9,-999.0000,9, -999.00,9, -999.00,9,  -999.0,9,-999.000,9,-999.000,-999.000,9,-999.000,9,   37.07,2,   45.62,2, -999.00,1, -999.00,9, -999.00,9,-999.000,-999.0000,9,-999.0000,9,-999.0000,9,-999.0000,9,-999.0000,9,-999.0000,9,-999.0000,9,-999.0000,9,-999.0000,9,   3.5645,     -999.0,9,     -999.0,9,     -999.0,9,     -999.0,9,     -999.0,9,     -999.0,9,     -999.0,9,-999.0000, -999.00
33RO20071215,        P18,       7,          1,          6,      11006,2,20071219,       0040,    20.8335,  -110.0010,       3199,  1433.2,   3.1742,  34.5930,2,  34.5930,2,     41.7,2,    42.2,2,  135.10,2,   43.30,2,    0.00,2,    3.11,2,   0.012,2,   0.005,2,   0.0499,2,  2369.6,2,  2403.9,2,   -999.0,9,  -999.00,   7.3856,2,    25.00,-999.000,9,-999.0000,9, -999.00,9, -999.00,9,  -999.0,9,-999.000,9,-999.000,-999.000,9,-999.000,9,   36.80,2,   45.08,2, -999.00,1, -999.00,9, -999.00,9,-999.000,-999.0000,9,-999.0000,9,-999.0000,9,-999.0000,9,-999.0000,9,-999.0000,9,-999.0000,9,-999.0000,9,-999.0000,9,   3.0700,     -999.0,9,     -999.0,9,     -999.0,9,     -999.0,9,     -999.0,9,     -999.0,9,     -999.0,9,-999.0000, -999.00
33RO20071215,        P18,       7,          1,          5,      11005,2,20071219,       0040,    20.8335,  -110.0010,       3199,  1733.1,   2.5866,  34.6218,2,  34.6225,2,     65.4,2,    64.9,2,  146.10,2,   42.00,2,    0.00,2,    2.93,2,-999.000,9,-999.000,9,-999.0000,9,  2369.1,2,  -999.0,9,   -999.0,9,  -999.00,   7.4197,2,    25.00,-999.000,9,-999.0000,9, -999.00,9, -999.00,9,  -999.0,9,-999.000,9,-999.000,-999.000,9,-999.000,9,   36.35,2,   43.59,2, -999.00,1, -999.00,9, -999.00,9,-999.000,-999.0000,9,-999.0000,9,-999.0000,9,-999.0000,9,-999.0000,9,-999.0000,9,-999.0000,9,-999.0000,9,-999.0000,9,   2.4642,     -999.0,9,     -999.0,9,     -999.0,9,     -999.0,9,     -999.0,9,     -999.0,9,     -999.0,9,-999.0000, -999.00
33RO20071215,        P18,       7,          1,          4,      11004,2,20071219,       0040,    20.8335,  -110.0010,       3199,  2134.0,   2.0269,  34.6496,2,  34.6533,2,     94.0,2,    92.9,2,  156.30,6,   40.30,6,    0.00,6,    2.73,2,   0.007,2,   0.005,2,   0.0000,2,  2362.3,2,  2425.2,2,   1520.4,2,    20.00,   7.4716,2,    25.00,-999.000,9,-999.0000,9, -999.00,9, -999.00,9,  -999.0,9,-999.000,9,-999.000,   0.005,3,-999.000,9,   36.07,2,   41.90,3, -999.00,9, -999.00,9, -999.00,9,-999.000,-999.0000,9,-999.0000,9,-999.0000,9,-999.0000,9,-999.0000,9,-999.0000,9,-999.0000,9,-999.0000,9,-999.0000,9,   1.8786,     -999.0,9,     -999.0,9,     -999.0,9,     -999.0,9,     -999.0,9,     -999.0,9,     -999.0,9,-999.0000, -999.00
33RO20071215,        P18,       7,          1,          3,      11003,2,20071219,       0040,    20.8335,  -110.0010,       3199,  2532.7,   1.7836,  34.6641,2,  34.6645,2,    110.0,2,   109.9,2,  159.70,6,   39.80,6,    0.00,6,    2.64,2,   0.004,2,   0.004,2,   0.0000,2,  2353.0,2,  2429.6,2,   1395.8,2,    20.00,   7.5280,2,    25.00,-999.000,9,-999.0000,9, -999.00,9, -999.00,9,  -999.0,9,-999.000,9,-999.000,   0.005,3,-999.000,9,   36.79,2,   41.31,2, -999.00,9, -999.00,9, -999.00,9,-999.000,-999.0000,9,-999.0000,9,-999.0000,9,-999.0000,9,-999.0000,9,-999.0000,9,-999.0000,9,-999.0000,9,-999.0000,9,   1.6043,     -999.0,9,     -999.0,9,     -999.0,9,     -999.0,9,     -999.0,9,     -999.0,9,     -999.0,9,-999.0000, -999.00
33RO20071215,        P18,       7,          1,          2,      11002,2,20071219,       0040,    20.8335,  -110.0010,       3199,  2934.0,   1.6835,  34.6711,2,  34.6720,2,    117.1,2,   117.4,2,  163.60,6,   39.20,6,    0.00,6,    2.59,2,   0.007,2,   0.008,2,   0.0814,2,  2355.0,2,  2433.7,2,   1341.4,2,    20.00,   7.5227,2,    25.00,-999.000,9,-999.0000,9, -999.00,9, -999.00,9,  -999.0,9,-999.000,9,-999.000,   0.005,3,-999.000,9,   37.26,2,   40.80,2, -999.00,9, -999.00,9, -999.00,9,-999.000,-999.0000,9,-999.0000,9,-999.0000,9,-999.0000,9,-999.0000,9,-999.0000,9,-999.0000,9,-999.0000,9,-999.0000,9,   1.4690,     -999.0,9,     -999.0,9,     -999.0,9,     -999.0,9,     -999.0,9,     -999.0,9,     -999.0,9,-999.0000, -999.00
33RO20071215,        P18,       7,          1,          1,      11001,2,20071219,       0040,    20.8335,  -110.0010,       3199,  3215.8,   1.6881,  34.6721,2,  34.6726,2,    118.1,2,   117.4,2,  165.10,2,   38.60,2,    0.00,2,    2.58,2,   0.011,6,   0.011,6,   0.0592,6,  2355.2,2,  2432.4,2,   1325.1,2,    20.00,   7.5296,2,    25.00,-999.000,9,-999.0000,9, -999.00,9, -999.00,9,  -999.0,9,-999.000,9,-999.000,   0.006,3,-999.000,9,   36.22,2,   40.16,2, -999.00,9, -999.00,9, -999.00,9,-999.000,-999.0000,9,-999.0000,9,-999.0000,9,-999.0000,9,-999.0000,9,-999.0000,9,-999.0000,9,-999.0000,9,-999.0000,9,   1.4460,     -999.0,9,     -999.0,9,     -999.0,9,     -999.0,9,     -999.0,9,     -999.0,9,     -999.0,9,-999.0000, -999.00