BOTTLE,20220818CCHSIOAMB
EXPOCODE,SECT_ID,STNNBR,CASTNO,SAMPNO,BTLNBR,BTLNBR_FLAG_W,DATE,TIME,LATITUDE,LONGITUDE,DEPTH,CTDPRS,CTDTMP,CTDSAL,CTDSAL_FLAG_W,SALNTY,SALNTY_FLAG_W,CTDOXY,CTDOXY_FLAG_W,OXYGEN,OXYGEN_FLAG_W,SILCAT,SILCAT_FLAG_W,NITRAT,NITRAT_FLAG_W,NITRIT,NITRIT_FLAG_W,PHSPHT,PHSPHT_FLAG_W,CFC-11,CFC-11_FLAG_W,CFC-12,CFC-12_FLAG_W,SF6,SF6_FLAG_W,TCARBN,TCARBN_FLAG_W,ALKALI,ALKALI_FLAG_W,FCO2,FCO2_FLAG_W,FCO2TMP,PH_SWS,PH_SWS_FLAG_W,PH_TMP,TRITUM,TRITUM_FLAG_W,HELIUM,HELIUM_FLAG_W,DELHE3,DELHE3_FLAG_W,DELC13,DELC13_FLAG_W,DELC14,DELC14_FLAG_W,NEON,NEON_FLAG_W,NEONER,CCL4,CCL4_FLAG_W,POC,POC_FLAG_W,DOC,DOC_FLAG_W,TDN,TDN_FLAG_W,DON,DON_FLAG_W,CHLORA,CHLORA_FLAG_W,ARGON,ARGON_FLAG_W,TRITER,CDOM325,CDOM325_FLAG_W,CDOM340,CDOM340_FLAG_W,CDOM380,CDOM380_FLAG_W,CDOM412,CDOM412_FLAG_W,CDOM443,CDOM443_FLAG_W,CDOM490,CDOM490_FLAG_W,CDOM555,CDOM555_FLAG_W,CDOMSL,CDOMSL_FLAG_W,CDOMSN,CDOMSN_FLAG_W,THETA,D18O_NO3,D18O_NO3_FLAG_W,CDOM2C,CDOM2C_FLAG_W,CDOM3C,CDOM3C_FLAG_W,LAB_DEN,LAB_DEN_FLAG_W,DELSI30,DELSI30_FLAG_W,N2,N2_FLAG_W,D15N_NO3,D15N_NO3_FLAG_W,HELIER,DELHER
,,,,,,,,,,,METERS,DBAR,ITS-90,PSS-78,,PSS-78,,UMOL/KG,,UMOL/KG,,UMOL/KG,,UMOL/KG,,UMOL/KG,,UMOL/KG,,PMOL/KG,,PMOL/KG,,FMOL/KG,,UMOL/KG,,UMOL/KG,,UATM,,DEG C,,,DEG C,TU,,NMOL/KG,,PERCNT,,/MILLE,,/MILLE,,NMOL/KG,,NMOL/KG,PMOL/KG,,UG/KG,,UMOL/KG,,UMOL/KG,,UMOL/KG,,UG/KG,,UMOL/KG,,TU,1/M,,1/M,,1/M,,1/M,,1/M,,1/M,,1/M,,1/NM,,1/NM,,DEG C,/MILLE,,,,,,,,/MILLE,,UMOL/KG,,/MILLE,,NMOL/KG,PERCNT
33RO20071215,        P18,      94,          1,         11,      12003,2,20080115,       1535,   -25.7488,  -103.0007,       2919,  1433.8,   2.8611,  34.5543,2,  34.5548,2,    142.4,2,   143.6,2,   89.70,2,   36.90,2,    0.00,2,    2.52,2,-999.000,9,-999.000,9,-999.0000,9,  2278.1,2,  2359.7,2,   -999.0,9,  -999.00,   7.5510,2,    25.00,-999.000,9,-999.0000,9, -999.00,9, -999.00,9,  -999.0,9,-999.000,9,-999.000,-999.000,9,-999.000,9, -999.00,9, -999.00,9, -999.00,9, -999.00,9, -999.00,9,-999.000,   0.1163,2,   0.0755,2,   0.0354,2,   0.0241,2,   0.0156,2,   0.0086,2,   0.0046,3,   0.0150,2,   0.0191,2,   2.7603,     -999.0,9,     -999.0,9,     -999.0,9,     -999.0,9,     -999.0,9,     -999.0,9,     -999.0,9,-999.0000, -999.00
33RO20071215,        P18,      94,          1,         10,      12032,2,20080115,       1535,   -25.7488,  -103.0007,       2919,  1534.2,   2.6296,  34.5775,2,  34.5784,2,    145.4,2,   146.6,2,   96.60,2,   36.70,2,    0.00,2,    2.52,2,   0.000,2,   0.001,2,   0.0000,2,  2282.9,2,  2365.0,2,   -999.0,9,  -999.00,   7.5616,2,    25.00,-999.000,9,-999.0000,9, -999.00,9, -999.00,9,  -999.0,9,-999.000,9,-999.000,-999.000,9,-999.000,9, -999.00,9, -999.00,9, -999.00,9, -999.00,9, -999.00,9,-999.000,   0.1012,2,   0.0631,2,   0.0272,2,   0.0174,2,   0.0104,2,   0.0051,2,   0.0024,2,   0.0182,2,   0.0228,2,   2.5232,     -999.0,9,     -999.0,9,     -999.0,9,     -999.0,9,     -999.0,9,     -999.0,9,     -999.0,9,-999.0000, -999.00
33RO20071215,        P18,      94,          1,          9,      12002,2,20080115,       1535,   -25.7488,  -103.0007,       2919,  1668.2,   2.4128,  34.5987,2,  34.6002,2,    150.4,2,   150.6,2,  101.40,2,   36.30,2,    0.00,2,    2.47,2,-999.000,9,-999.000,9,-999.0000,9,  2284.1,6,  2373.9,2,   -999.0,9,  -999.00,   7.5572,2,    25.00,-999.000,9,-999.0000,9, -999.00,9, -999.00,9,  -999.0,9,-999.000,9,-999.000,-999.000,9,-999.000,9, -999.00,9, -999.00,9, -999.00,9, -999.00,9, -999.00,9,-999.000,   0.1154,2,   0.0750,2,   0.0354,2,   0.0233,2,   0.0147,2,   0.0073,2,   0.0033,2,   0.0159,2,   0.0195,2,   2.2981,     -999.0,9,     -999.0,9,     -999.0,9,     -999.0,9,     -999.0,9,     -999.0,9,     -999.0,9,-999.0000, -999.00
33RO20071215,        P18,      94,          1,          8,      12021,2,20080115,       1535,   -25.7488,  -103.0007,       2919,  1796.5,   2.2468,  34.6201,2,  34.6211,2,    150.6,2,   150.7,2,  108.60,2,   36.20,2,    0.00,2,    2.48,2,-999.000,9,-999.000,9,-999.0000,9,  2292.1,2,  2383.1,2,   -999.0,9,  -999.00,   7.5672,2,    25.00,-999.000,9,-999.0000,9, -999.00,9, -999.00,9,  -999.0,9,-999.000,9,-999.000,-999.000,9,-999.000,9, -999.00,9, -999.00,9, -999.00,9, -999.00,9, -999.00,9,-999.000,   0.1229,2,   0.0819,2,   0.0403,2,   0.0268,2,   0.0174,2,   0.0088,2,   0.0040,2,   0.0151,2,   0.0181,2,   2.1237,     -999.0,9,     -999.0,9,     -999.0,9,     -999.0,9,     -999.0,9,     -999.0,9,     -999.0,9,-999.0000, -999.00
33RO20071215,        P18,      94,          1,          7,      12001,2,20080115,       1535,   -25.7488,  -103.0007,       2919,  1967.8,   2.0977,  34.6369,2,  34.6368,2,    153.7,2,   153.9,2,  113.60,2,   36.00,2,    0.00,2,    2.44,2,  -0.001,2,   0.000,2,   0.0123,2,  2295.2,2,  2548.5,4,   1197.5,6,    20.00,   7.5170,2,    25.00,-999.000,9,-999.0000,9, -999.00,9, -999.00,9,  -999.0,9,-999.000,9,-999.000,-999.000,9,-999.000,9, -999.00,9, -999.00,9, -999.00,9, -999.00,9, -999.00,9,-999.000,   0.1148,2,   0.0753,2,   0.0363,2,   0.0231,2,   0.0140,2,   0.0057,2,   0.0017,2,   0.0167,2,   0.0196,2,   1.9624,     -999.0,9,     -999.0,9,     -999.0,9,     -999.0,9,     -999.0,9,     -999.0,9,     -999.0,9,-999.0000, -999.00
33RO20071215,        P18,      94,          1,          6,      12033,4,20080115,       1535,   -25.7488,  -103.0007,       2919,  2115.4,   2.0076,  34.6487,2,  34.5124,4,    154.9,2,   133.5,4,   78.50,3,   37.50,3,    0.00,3,    2.60,3,-999.000,9,-999.000,9,-999.0000,9,  2271.2,4,  2342.7,4,   -999.0,9,  -999.00,   7.5790,2,    25.00,-999.000,9,-999.0000,9, -999.00,9, -999.00,9,  -999.0,9,-999.000,9,-999.000,-999.000,9,-999.000,9, -999.00,9, -999.00,9, -999.00,9, -999.00,9, -999.00,9,-999.000,   0.1313,2,   0.0905,2,   0.0491,2,   0.0342,2,   0.0221,2,   0.0093,2,   0.0027,3,   0.0146,2,   0.0159,2,   1.8612,     -999.0,9,     -999.0,9,     -999.0,9,     -999.0,9,     -999.0,9,     -999.0,9,     -999.0,9,-999.0000, -999.00
33RO20071215,        P18,      94,          1,          5,      12008,2,20080115,       1535,   -25.7488,  -103.0007,       2919,  2264.3,   1.9644,  34.6549,2,  34.6557,2,    156.0,2,   157.1,2,  118.40,2,   35.80,2,    0.00,2,    2.45,2,-999.000,9,-999.000,9,-999.0000,9,  2298.4,2,  2388.6,2,   -999.0,9,  -999.00,   7.5748,2,    25.00,-999.000,9,-999.0000,9, -999.00,9, -999.00,9,  -999.0,9,-999.000,9,-999.000,-999.000,9,-999.000,9, -999.00,9, -999.00,9, -999.00,9, -999.00,9, -999.00,9,-999.000,   0.1276,2,   0.0882,2,   0.0480,2,   0.0311,2,   0.0191,2,   0.0064,2,   0.0003,4,   0.0158,2,   0.0167,2,   1.8058,     -999.0,9,     -999.0,9,     -999.0,9,     -999.0,9,     -999.0,9,     -999.0,9,     -999.0,9,-999.0000, -999.00
33RO20071215,        P18,      94,          1,          4,      12009,2,20080115,       1535,   -25.7488,  -103.0007,       2919,  2468.1,   1.9087,  34.6635,2,  34.6628,2,    157.3,2,   157.4,2,  120.50,6,   35.50,6,    0.00,6,    2.44,2,  -0.002,2,  -0.001,2,   0.0000,2,  2299.9,2,  2386.8,2,   1165.7,2,    20.00,   7.6005,2,    25.00,-999.000,9,-999.0000,9, -999.00,9, -999.00,9,  -999.0,9,-999.000,9,-999.000,   0.005,3,-999.000,9, -999.00,9, -999.00,9, -999.00,9, -999.00,9, -999.00,9,-999.000,   0.1400,2,   0.0991,2,   0.0558,2,   0.0366,2,   0.0230,2,   0.0082,2,   0.0010,2,   0.0155,2,   0.0158,2,   1.7330,     -999.0,9,     -999.0,9,     -999.0,9,     -999.0,9,     -999.0,9,     -999.0,9,     -999.0,9,-999.0000, -999.00
33RO20071215,        P18,      94,          1,          3,      12006,2,20080115,       1535,   -25.7488,  -103.0007,       2919,  2667.4,   1.8748,  34.6696,2,  34.6698,2,    157.4,2,   157.6,2,  122.70,6,   35.40,6,    0.00,6,    2.45,2,-999.000,9,-999.000,9,-999.0000,9,  2301.5,2,  2394.6,2,   -999.0,9,  -999.00,   7.6108,2,    25.00,-999.000,9,-999.0000,9, -999.00,9, -999.00,9,  -999.0,9,-999.000,9,-999.000,-999.000,9,-999.000,9, -999.00,9, -999.00,9, -999.00,9, -999.00,9, -999.00,9,-999.000,   0.1341,2,   0.0938,2,   0.0516,2,   0.0331,2,   0.0200,2,   0.0059,3,  -0.0006,4,   0.0160,2,   0.0165,2,   1.6815,     -999.0,9,     -999.0,9,     -999.0,9,     -999.0,9,     -999.0,9,     -999.0,9,     -999.0,9,-999.0000, -999.00
33RO20071215,        P18,      94,          1,          2,      12007,2,20080115,       1535,   -25.7488,  -103.0007,       2919,  2869.8,   1.8595,  34.6743,2,  34.6763,2,    156.6,2,   156.7,2,  124.60,6,   35.40,6,    0.00,6,    2.46,2,-999.000,9,-999.000,9,-999.0000,9,  2303.6,2,  2398.8,2,   -999.0,9,  -999.00,   7.6107,2,    25.00,-999.000,9,-999.0000,9, -999.00,9, -999.00,9,  -999.0,9,-999.000,9,-999.000,-999.000,9,-999.000,9, -999.00,9, -999.00,9, -999.00,9, -999.00,9, -999.00,9,-999.000,   0.1387,2,   0.0976,2,   0.0538,2,   0.0343,2,   0.0205,2,   0.0060,3,  -0.0008,4,   0.0162,2,   0.0165,2,   1.6473,     -999.0,9,     -999.0,9,     -999.0,9,     -999.0,9,     -999.0,9,     -999.0,9,     -999.0,9,-999.0000, -999.00
33RO20071215,        P18,      94,          1,          1,      12035,2,20080115,       1535,   -25.7488,  -103.0007,       2919,  2972.4,   1.8588,  34.6757,2,  34.6745,2,    157.4,2,   156.2,2,  125.40,2,   35.70,2,    0.01,2,    2.45,2,  -0.001,6,   0.000,6,   0.0000,6,  2307.0,6,  2407.1,2,   1155.7,2,    20.00,   7.5803,2,    25.00,-999.000,9,-999.0000,9, -999.00,9, -999.00,9,  -999.0,9,-999.000,9,-999.000,   0.007,3,-999.000,9, -999.00,9, -999.00,9, -999.00,9, -999.00,9, -999.00,9,-999.000,   0.1302,2,   0.0906,2,   0.0494,2,   0.0308,2,   0.0176,2,   0.0036,3,  -0.0022,4,   0.0166,2,   0.0171,2,   1.6367,     -999.0,9,     -999.0,9,     -999.0,9,     -999.0,9,     -999.0,9,     -999.0,9,     -999.0,9,-999.0000, -999.00