BOTTLE,20220818CCHSIOAMB
EXPOCODE,SECT_ID,STNNBR,CASTNO,SAMPNO,BTLNBR,BTLNBR_FLAG_W,DATE,TIME,LATITUDE,LONGITUDE,DEPTH,CTDPRS,CTDTMP,CTDSAL,CTDSAL_FLAG_W,SALNTY,SALNTY_FLAG_W,CTDOXY,CTDOXY_FLAG_W,OXYGEN,OXYGEN_FLAG_W,SILCAT,SILCAT_FLAG_W,NITRAT,NITRAT_FLAG_W,NITRIT,NITRIT_FLAG_W,PHSPHT,PHSPHT_FLAG_W,CFC-11,CFC-11_FLAG_W,CFC-12,CFC-12_FLAG_W,SF6,SF6_FLAG_W,TCARBN,TCARBN_FLAG_W,ALKALI,ALKALI_FLAG_W,FCO2,FCO2_FLAG_W,FCO2TMP,PH_SWS,PH_SWS_FLAG_W,PH_TMP,TRITUM,TRITUM_FLAG_W,HELIUM,HELIUM_FLAG_W,DELHE3,DELHE3_FLAG_W,DELC13,DELC13_FLAG_W,DELC14,DELC14_FLAG_W,NEON,NEON_FLAG_W,NEONER,CCL4,CCL4_FLAG_W,POC,POC_FLAG_W,DOC,DOC_FLAG_W,TDN,TDN_FLAG_W,DON,DON_FLAG_W,CHLORA,CHLORA_FLAG_W,ARGON,ARGON_FLAG_W,TRITER,CDOM325,CDOM325_FLAG_W,CDOM340,CDOM340_FLAG_W,CDOM380,CDOM380_FLAG_W,CDOM412,CDOM412_FLAG_W,CDOM443,CDOM443_FLAG_W,CDOM490,CDOM490_FLAG_W,CDOM555,CDOM555_FLAG_W,CDOMSL,CDOMSL_FLAG_W,CDOMSN,CDOMSN_FLAG_W,THETA,D18O_NO3,D18O_NO3_FLAG_W,CDOM2C,CDOM2C_FLAG_W,CDOM3C,CDOM3C_FLAG_W,LAB_DEN,LAB_DEN_FLAG_W,DELSI30,DELSI30_FLAG_W,N2,N2_FLAG_W,D15N_NO3,D15N_NO3_FLAG_W,HELIER,DELHER
,,,,,,,,,,,METERS,DBAR,ITS-90,PSS-78,,PSS-78,,UMOL/KG,,UMOL/KG,,UMOL/KG,,UMOL/KG,,UMOL/KG,,UMOL/KG,,PMOL/KG,,PMOL/KG,,FMOL/KG,,UMOL/KG,,UMOL/KG,,UATM,,DEG C,,,DEG C,TU,,NMOL/KG,,PERCNT,,/MILLE,,/MILLE,,NMOL/KG,,NMOL/KG,PMOL/KG,,UG/KG,,UMOL/KG,,UMOL/KG,,UMOL/KG,,UG/KG,,UMOL/KG,,TU,1/M,,1/M,,1/M,,1/M,,1/M,,1/M,,1/M,,1/NM,,1/NM,,DEG C,/MILLE,,,,,,,,/MILLE,,UMOL/KG,,/MILLE,,NMOL/KG,PERCNT
33RO20071215,        P18,      69,          1,         36,      12017,2,20080107,       1550,   -11.1663,  -103.0003,       4133,     5.3,  22.7908,  35.6115,2,  35.6115,2,    220.3,2,   220.6,2,    1.50,2,    7.50,2,    0.22,2,    0.68,2,   1.966,2,   1.222,2,   1.0581,2,  2062.1,6,  2349.4,2,    371.5,2,    20.00,   7.9936,2,    25.00,-999.000,9,-999.0000,9, -999.00,9,    1.28,2,  -999.0,1,-999.000,9,-999.000,-999.000,9,-999.000,9,   68.31,2,   12.56,2, -999.00,1,    0.13,2, -999.00,9,-999.000,   0.1655,2,   0.1269,2,   0.0710,2,   0.0562,2,   0.0418,2,   0.0242,2,   0.0113,2,   0.0104,4,   0.0118,4,  22.7898,     -999.0,9,     -999.0,9,     -999.0,9,     -999.0,9,     -999.0,9,     -999.0,9,     -999.0,9,-999.0000, -999.00
33RO20071215,        P18,      69,          1,         35,      12029,2,20080107,       1550,   -11.1663,  -103.0003,       4133,     9.8,  22.7896,  35.6113,2,  35.6130,2,    220.5,2,   220.7,2,    1.50,2,    7.50,2,    0.22,2,    0.69,2,   1.970,6,   1.218,6,   1.0601,6,  2062.9,2,  2358.9,2,   -999.0,9,  -999.00,   8.0140,2,    25.00,-999.000,9,-999.0000,9, -999.00,9, -999.00,9,  -999.0,9,-999.000,9,-999.000,-999.000,9,-999.000,9,   64.90,2,   12.14,2, -999.00,1,    0.13,2, -999.00,9,-999.000,   0.1460,2,   0.1098,2,   0.0592,2,   0.0467,2,   0.0338,2,   0.0181,2,   0.0075,2,   0.0120,2,   0.0130,2,  22.7876,     -999.0,9,     -999.0,9,     -999.0,9,     -999.0,9,     -999.0,9,     -999.0,9,     -999.0,9,-999.0000, -999.00
33RO20071215,        P18,      69,          1,         34,      12049,2,20080107,       1550,   -11.1663,  -103.0003,       4133,    25.0,  22.7273,  35.6122,2,  35.6123,2,    220.9,2,   220.6,2,    1.50,2,    7.50,2,    0.22,2,    0.69,2,   1.970,2,   1.221,2,   1.0888,2,  2062.4,2,  2357.6,2,   -999.0,9,  -999.00,   8.0034,2,    25.00,-999.000,9,-999.0000,9, -999.00,9, -999.00,9,  -999.0,9,-999.000,9,-999.000,-999.000,9,-999.000,9,   65.29,2,   12.76,2, -999.00,1,    0.14,2, -999.00,9,-999.000,-999.0000,5,-999.0000,5,-999.0000,5,-999.0000,5,-999.0000,5,-999.0000,5,-999.0000,5,-999.0000,5,-999.0000,5,  22.7223,     -999.0,9,     -999.0,9,     -999.0,9,     -999.0,9,     -999.0,9,     -999.0,9,     -999.0,9,-999.0000, -999.00
33RO20071215,        P18,      69,          1,         33,      12027,2,20080107,       1550,   -11.1663,  -103.0003,       4133,    50.1,  22.3145,  35.6164,2,  35.6400,2,    220.6,2,   220.6,2,    1.90,2,    7.20,2,    0.21,2,    0.72,2,   2.034,2,   1.260,2,   1.0393,2,  2070.3,2,  2361.4,2,    384.9,2,    20.00,   7.9863,2,    25.00,-999.000,9,-999.0000,9, -999.00,9,    1.26,2,  -999.0,1,-999.000,9,-999.000,-999.000,9,-999.000,9,   63.46,2,   11.64,2, -999.00,1,    0.18,2, -999.00,9,-999.000,   0.1766,2,   0.1393,2,   0.0768,2,   0.0570,2,   0.0406,2,   0.0218,2,   0.0093,2,   0.0125,2,   0.0129,2,  22.3045,     -999.0,9,     -999.0,9,     -999.0,9,     -999.0,9,     -999.0,9,     -999.0,9,     -999.0,9,-999.0000, -999.00
33RO20071215,        P18,      69,          1,         32,      12023,2,20080107,       1550,   -11.1663,  -103.0003,       4133,    75.1,  21.0392,  35.7713,2,  35.8071,2,    218.3,2,   214.9,2,    2.10,2,    4.10,2,    0.19,2,    0.64,2,   2.094,2,   1.290,2,   1.1108,2,  2083.2,2,  2375.3,2,   -999.0,9,  -999.00,   7.9834,2,    25.00,-999.000,9,-999.0000,9, -999.00,9, -999.00,9,  -999.0,9,-999.000,9,-999.000,-999.000,9,-999.000,9,   62.46,2,    8.52,2, -999.00,1,    0.15,2, -999.00,9,-999.000,   0.1613,2,   0.1230,2,   0.0718,2,   0.0555,2,   0.0385,2,   0.0205,2,   0.0089,2,   0.0122,2,   0.0124,2,  21.0248,     -999.0,9,     -999.0,9,     -999.0,9,     -999.0,9,     -999.0,9,     -999.0,9,     -999.0,9,-999.0000, -999.00
33RO20071215,        P18,      69,          1,         31,      12037,2,20080107,       1550,   -11.1663,  -103.0003,       4133,    99.6,  20.4157,  35.7749,2,  35.7715,2,    209.3,2,   206.2,2,    1.90,2,    3.50,2,    1.12,2,    0.65,2,   2.164,2,   1.323,2,   1.1626,2,  2092.7,2,  2364.7,2,    405.4,2,    20.00,   7.9647,2,    25.00,-999.000,9,-999.0000,9, -999.00,9,    1.25,2,  -999.0,1,-999.000,9,-999.000,-999.000,9,-999.000,9,   62.44,2,   10.16,2, -999.00,1,    0.07,2, -999.00,9,-999.000,   0.1684,2,   0.1318,2,   0.0763,2,   0.0577,2,   0.0402,2,   0.0216,2,   0.0094,2,   0.0123,2,   0.0124,2,  20.3970,     -999.0,9,     -999.0,9,     -999.0,9,     -999.0,9,     -999.0,9,     -999.0,9,     -999.0,9,-999.0000, -999.00
33RO20071215,        P18,      69,          1,         30,      12036,2,20080107,       1550,   -11.1663,  -103.0003,       4133,   125.0,  17.3915,  35.2546,2,  35.2816,2,    163.6,2,   162.3,2,    3.20,2,   10.70,2,    0.35,2,    1.04,2,   2.371,2,   1.416,2,   1.0118,2,  2125.5,2,  2332.3,2,   -999.0,9,  -999.00,   7.8471,2,    25.00,-999.000,9,-999.0000,9, -999.00,9, -999.00,9,  -999.0,9,-999.000,9,-999.000,-999.000,9,-999.000,9,   55.62,2,   14.52,2, -999.00,1,    0.03,2, -999.00,9,-999.000,   0.1500,2,   0.1120,2,   0.0623,2,   0.0475,2,   0.0289,2,   0.0125,2,   0.0039,2,   0.0143,2,   0.0142,2,  17.3706,     -999.0,9,     -999.0,9,     -999.0,9,     -999.0,9,     -999.0,9,     -999.0,9,     -999.0,9,-999.0000, -999.00
33RO20071215,        P18,      69,          1,         29,      12044,2,20080107,       1550,   -11.1663,  -103.0003,       4133,   150.2,  14.5664,  34.8360,2,  34.8423,2,    108.0,2,   113.4,2,    6.60,2,   17.30,2,    0.03,2,    1.54,2,   2.432,2,   1.396,2,   0.8250,2,  2167.8,2,  2299.9,2,    854.0,2,    20.00,   7.6810,2,    25.00,-999.000,9,-999.0000,9, -999.00,9,    0.54,2,  -999.0,1,-999.000,9,-999.000,-999.000,9,-999.000,9,   53.04,2,   20.11,2, -999.00,1,    0.02,2, -999.00,9,-999.000,   0.1877,2,   0.1431,2,   0.0844,2,   0.0659,2,   0.0420,2,   0.0203,2,   0.0082,2,   0.0134,2,   0.0129,2,  14.5442,     -999.0,9,     -999.0,9,     -999.0,9,     -999.0,9,     -999.0,9,     -999.0,9,     -999.0,9,-999.0000, -999.00
33RO20071215,        P18,      69,          1,         28,      12057,2,20080107,       1550,   -11.1663,  -103.0003,       4133,   174.8,  13.4551,  34.8323,2,  34.8350,2,     14.5,2,    18.3,2,   15.60,2,   24.30,2,    0.03,2,    2.41,2,   1.679,2,   0.951,2,   0.4298,2,  2242.4,2,  2296.0,2,   -999.0,9,  -999.00,   7.4666,2,    25.00,-999.000,9,-999.0000,9, -999.00,9, -999.00,9,  -999.0,9,-999.000,9,-999.000,-999.000,9,-999.000,9,   47.95,2,   26.83,2, -999.00,1,    0.01,2, -999.00,9,-999.000,   0.2174,2,   0.1663,2,   0.0995,2,   0.0794,2,   0.0495,2,   0.0228,2,   0.0092,2,   0.0137,2,   0.0127,2,  13.4305,     -999.0,9,     -999.0,9,     -999.0,9,     -999.0,9,     -999.0,9,     -999.0,9,     -999.0,9,-999.0000, -999.00
33RO20071215,        P18,      69,          1,         27,      12026,2,20080107,       1550,   -11.1663,  -103.0003,       4133,   199.2,  12.5662,  34.8355,2,  34.8377,2,      4.2,2,     3.3,2,   22.90,2,   23.00,2,    0.01,2,    2.61,2,   0.945,6,   0.543,6,   0.2071,6,  2261.6,6,  2311.4,2,   1669.6,2,    20.00,   7.4317,2,    25.00,-999.000,9,-999.0000,9, -999.00,9,   -0.25,4,  -999.0,1,-999.000,9,-999.000,-999.000,9,-999.000,9,   46.50,2,   25.37,2, -999.00,1,    0.00,2, -999.00,9,-999.000,   0.2408,2,   0.1883,2,   0.1164,2,   0.0927,2,   0.0594,2,   0.0283,2,   0.0117,2,   0.0128,2,   0.0121,2,  12.5394,     -999.0,9,     -999.0,9,     -999.0,9,     -999.0,9,     -999.0,9,     -999.0,9,     -999.0,9,-999.0000, -999.00
33RO20071215,        P18,      69,          1,         26,      12030,2,20080107,       1550,   -11.1663,  -103.0003,       4133,   250.5,  11.3919,  34.8110,2,  34.8101,2,     21.5,2,    22.4,2,   23.90,2,   30.50,2,    0.01,2,    2.44,2,   0.567,2,   0.317,2,   0.1045,2,  2248.2,2,  2310.4,2,   -999.0,9,  -999.00,   7.4663,2,    25.00,-999.000,9,-999.0000,9, -999.00,9,    0.03,2,  -999.0,1,-999.000,9,-999.000,-999.000,9,-999.000,9,   44.51,2,   32.12,2, -999.00,1,    0.00,2, -999.00,9,-999.000,   0.2197,2,   0.1684,2,   0.1036,2,   0.0812,2,   0.0531,2,   0.0251,2,   0.0100,2,   0.0130,2,   0.0123,2,  11.3603,     -999.0,9,     -999.0,9,     -999.0,9,     -999.0,9,     -999.0,9,     -999.0,9,     -999.0,9,-999.0000, -999.00
33RO20071215,        P18,      69,          1,         25,      12024,2,20080107,       1550,   -11.1663,  -103.0003,       4133,   300.0,  10.7476,  34.7940,2,  34.7923,2,     22.0,2,    22.2,2,   28.10,2,   33.30,2,    0.01,2,    2.47,2,   0.350,2,   0.199,2,   0.0734,2,  2252.4,2,  -999.0,9,   1578.1,2,    20.00,-999.0000,9,  -999.00,-999.000,9,-999.0000,9, -999.00,9,       0,2,  -999.0,1,-999.000,9,-999.000,-999.000,9,-999.000,9,   42.70,2,   34.46,2, -999.00,1, -999.00,9, -999.00,9,-999.000,   0.2047,2,   0.1562,2,   0.0973,2,   0.0768,2,   0.0494,2,   0.0215,2,   0.0075,2,   0.0139,2,   0.0124,2,  10.7111,     -999.0,9,     -999.0,9,     -999.0,9,     -999.0,9,     -999.0,9,     -999.0,9,     -999.0,9,-999.0000, -999.00
33RO20071215,        P18,      69,          1,         24,      12019,2,20080107,       1550,   -11.1663,  -103.0003,       4133,   349.4,  10.1157,  34.7533,2,  34.7500,2,     15.6,2,    15.1,2,   31.40,2,   35.20,2,    0.00,2,    2.60,2,   0.207,2,   0.118,2,   0.0000,2,  2263.2,2,  2312.5,2,   -999.0,9,  -999.00,   7.4223,2,    25.00,-999.000,9,-999.0000,9, -999.00,9, -999.00,9,  -999.0,9,-999.000,9,-999.000,-999.000,9,-999.000,9,   41.53,2,   36.61,2, -999.00,1, -999.00,9, -999.00,9,-999.000,   0.2189,2,   0.1679,2,   0.1053,2,   0.0838,2,   0.0548,2,   0.0245,2,   0.0091,2,   0.0137,2,   0.0121,2,  10.0746,     -999.0,9,     -999.0,9,     -999.0,9,     -999.0,9,     -999.0,9,     -999.0,9,     -999.0,9,-999.0000, -999.00
33RO20071215,        P18,      69,          1,         23,      12022,2,20080107,       1550,   -11.1663,  -103.0003,       4133,   399.7,   9.6230,  34.7214,2,  34.7197,2,     13.6,2,    13.8,2,   33.20,2,   36.70,2,    0.00,2,    2.66,2,   0.130,2,   0.076,2,   0.0000,2,  2267.9,2,  -999.0,9,   1740.6,2,    20.00,-999.0000,9,  -999.00,-999.000,9,-999.0000,9, -999.00,9,    0.03,2,  -999.0,1,-999.000,9,-999.000,-999.000,9,-999.000,9,   41.09,2,   38.19,2, -999.00,1, -999.00,9, -999.00,9,-999.000,   0.2211,2,   0.1683,2,   0.1034,2,   0.0815,2,   0.0524,2,   0.0223,2,   0.0076,2,   0.0142,2,   0.0126,2,   9.5774,     -999.0,9,     -999.0,9,     -999.0,9,     -999.0,9,     -999.0,9,     -999.0,9,     -999.0,9,-999.0000, -999.00
33RO20071215,        P18,      69,          1,         22,      12015,2,20080107,       1550,   -11.1663,  -103.0003,       4133,   499.7,   8.5036,  34.6510,2,  34.6481,2,     15.1,2,    16.1,2,   37.50,2,   39.60,2,    0.00,2,    2.81,2,   0.035,2,   0.022,2,   0.0000,2,  2276.0,2,  2311.4,2,   -999.0,9,  -999.00,   7.3910,2,    25.00,-999.000,9,-999.0000,9, -999.00,9,    0.02,2,  -999.0,1,-999.000,9,-999.000,-999.000,9,-999.000,9,   40.97,2,   40.94,2, -999.00,1, -999.00,9, -999.00,9,-999.000,   0.2169,2,   0.1656,2,   0.1045,2,   0.0826,2,   0.0547,2,   0.0246,2,   0.0092,2,   0.0134,2,   0.0121,2,   8.4504,     -999.0,9,     -999.0,9,     -999.0,9,     -999.0,9,     -999.0,9,     -999.0,9,     -999.0,9,-999.0000, -999.00
33RO20071215,        P18,      69,          1,         21,      12020,2,20080107,       1550,   -11.1663,  -103.0003,       4133,   598.9,   7.4280,  34.5919,2,  34.5909,2,     18.5,2,    20.2,2,   42.70,2,   42.00,2,    0.00,2,    2.96,2,   0.011,2,   0.006,2,   0.0000,2,  2283.5,2,  -999.0,9,   -999.0,9,  -999.00,-999.0000,9,  -999.00,-999.000,9,-999.0000,9, -999.00,9,    0.05,2,  -999.0,1,-999.000,9,-999.000,-999.000,9,-999.000,9,   40.39,2,   43.63,2, -999.00,1, -999.00,9, -999.00,9,-999.000,   0.2066,2,   0.1564,2,   0.0978,2,   0.0750,2,   0.0501,2,   0.0225,2,   0.0079,2,   0.0137,2,   0.0124,2,   7.3687,     -999.0,9,     -999.0,9,     -999.0,9,     -999.0,9,     -999.0,9,     -999.0,9,     -999.0,9,-999.0000, -999.00
33RO20071215,        P18,      69,          1,         20,      12055,2,20080107,       1550,   -11.1663,  -103.0003,       4133,   700.7,   6.3339,  34.5486,2,  34.5506,2,     24.8,2,    25.5,2,   52.10,2,   44.20,2,    0.00,2,    3.10,2,   0.001,2,   0.001,2,   0.0000,2,  2295.2,2,  -999.0,9,   1962.5,2,    20.00,-999.0000,9,  -999.00,-999.000,9,-999.0000,9, -999.00,9, -999.00,9,  -999.0,9,-999.000,9,-999.000,-999.000,9,-999.000,9,   39.25,2,   45.31,2, -999.00,1, -999.00,9, -999.00,9,-999.000,   0.1869,2,   0.1373,2,   0.0830,2,   0.0638,2,   0.0424,2,   0.0191,2,   0.0069,2,   0.0136,2,   0.0129,2,   6.2698,     -999.0,9,     -999.0,9,     -999.0,9,     -999.0,9,     -999.0,9,     -999.0,9,     -999.0,9,-999.0000, -999.00
33RO20071215,        P18,      69,          1,         19,      12018,2,20080107,       1550,   -11.1663,  -103.0003,       4133,   800.7,   5.5631,  34.5336,2,  34.5475,4,     39.8,2,    40.2,2,   61.00,2,   44.20,2,    0.00,2,    3.10,2,   0.001,2,   0.001,2,   0.0000,2,  2298.9,2,  -999.0,9,   -999.0,9,  -999.00,   7.3852,2,    25.00,-999.000,9,-999.0000,9, -999.00,9,    0.12,2,  -999.0,1,-999.000,9,-999.000,-999.000,9,-999.000,9,   37.95,3,   45.41,3, -999.00,1, -999.00,9, -999.00,9,-999.000,   0.1844,2,   0.1342,2,   0.0791,2,   0.0607,2,   0.0408,2,   0.0199,2,   0.0085,2,   0.0130,2,   0.0131,2,   5.4940,     -999.0,9,     -999.0,9,     -999.0,9,     -999.0,9,     -999.0,9,     -999.0,9,     -999.0,9,-999.0000, -999.00
33RO20071215,        P18,      69,          1,         18,      12025,4,20080107,       1550,   -11.1663,  -103.0003,       4133,   900.6,   4.8979,  34.5347,2,-999.0000,9,     55.0,2,  -999.0,9, -999.00,9, -999.00,9, -999.00,9, -999.00,9,-999.000,9,-999.000,9,-999.0000,9,  -999.0,9,  -999.0,9,   -999.0,9,  -999.00,-999.0000,9,  -999.00,-999.000,9,-999.0000,9, -999.00,9, -999.00,9,  -999.0,9,-999.000,9,-999.000,-999.000,9,-999.000,9, -999.00,9, -999.00,9, -999.00,9, -999.00,9, -999.00,9,-999.000,-999.0000,9,-999.0000,9,-999.0000,9,-999.0000,9,-999.0000,9,-999.0000,9,-999.0000,9,-999.0000,9,-999.0000,9,   4.8242,     -999.0,9,     -999.0,9,     -999.0,9,     -999.0,9,     -999.0,9,     -999.0,9,     -999.0,9,-999.0000, -999.00
33RO20071215,        P18,      69,          1,         17,      12016,2,20080107,       1550,   -11.1663,  -103.0003,       4133,  1000.6,   4.4397,  34.5424,2,  34.5397,2,     67.5,2,    67.5,2,   80.60,2,   42.30,2,    0.00,2,    3.01,2,   0.000,2,   0.001,2,   0.0000,2,  -999.0,9,  2345.5,2,   -999.0,9,  -999.00,-999.0000,9,  -999.00,-999.000,9,-999.0000,9, -999.00,9, -999.00,9,  -999.0,9,-999.000,9,-999.000,-999.000,9,-999.000,9,   38.00,2,   43.38,2, -999.00,1, -999.00,9, -999.00,9,-999.000,   0.1828,2,   0.1352,2,   0.0829,2,   0.0625,2,   0.0419,2,   0.0180,2,   0.0062,2,   0.0138,2,   0.0129,2,   4.3606,     -999.0,9,     -999.0,9,     -999.0,9,     -999.0,9,     -999.0,9,     -999.0,9,     -999.0,9,-999.0000, -999.00
33RO20071215,        P18,      69,          1,         16,      12051,2,20080107,       1550,   -11.1663,  -103.0003,       4133,  1101.0,   4.0710,  34.5517,2,  34.5530,2,     76.7,2,    76.6,2,   87.90,2,   41.70,2,    0.00,2,    2.96,2,   0.000,2,   0.000,2,   0.0000,2,  2308.7,2,  -999.0,9,   1623.3,2,    20.00,-999.0000,9,  -999.00,-999.000,9,-999.0000,9, -999.00,9,    0.08,2,  -999.0,1,-999.000,9,-999.000,-999.000,9,-999.000,9,   38.26,2,   42.75,2, -999.00,9, -999.00,9, -999.00,9,-999.000,   0.2001,2,   0.1502,2,   0.0930,2,   0.0702,2,   0.0479,2,   0.0219,2,   0.0082,2,   0.0136,2,   0.0126,2,   3.9862,     -999.0,9,     -999.0,9,     -999.0,9,     -999.0,9,     -999.0,9,     -999.0,9,     -999.0,9,-999.0000, -999.00
33RO20071215,        P18,      69,          1,         15,      12014,2,20080107,       1550,   -11.1663,  -103.0003,       4133,  1201.1,   3.7701,  34.5623,2,  34.5635,2,     81.4,2,    80.8,2,   94.70,2,   41.20,2,    0.00,2,    2.94,2,  -0.001,2,   0.000,2,   0.0000,2,  -999.0,9,  -999.0,9,   -999.0,9,  -999.00,-999.0000,9,  -999.00,-999.000,9,-999.0000,9, -999.00,9, -999.00,9,  -999.0,9,-999.000,9,-999.000,-999.000,9,-999.000,9,   37.87,2,   42.46,2, -999.00,9, -999.00,9, -999.00,9,-999.000,   0.2038,2,   0.1537,2,   0.0962,2,   0.0720,2,   0.0495,2,   0.0229,2,   0.0087,2,   0.0135,2,   0.0124,2,   3.6794,     -999.0,9,     -999.0,9,     -999.0,9,     -999.0,9,     -999.0,9,     -999.0,9,     -999.0,9,-999.0000, -999.00
33RO20071215,        P18,      69,          1,         14,      12013,2,20080107,       1550,   -11.1663,  -103.0003,       4133,  1400.8,   3.2380,  34.5845,2,  34.5860,2,     91.6,2,    91.1,2,  107.10,2,   40.50,2,    0.00,2,    2.89,2,   0.000,2,   0.000,2,   0.0000,2,  2321.3,2,  2374.8,3,   -999.0,9,  -999.00,   7.4725,2,    25.00,-999.000,9,-999.0000,9, -999.00,9,    0.05,2,  -999.0,1,-999.000,9,-999.000,-999.000,9,-999.000,9,   37.93,2,   41.49,2, -999.00,9, -999.00,9, -999.00,9,-999.000,   0.1899,2,   0.1414,2,   0.0863,2,   0.0627,2,   0.0421,2,   0.0175,2,   0.0056,2,   0.0141,2,   0.0132,2,   3.1358,     -999.0,9,     -999.0,9,     -999.0,9,     -999.0,9,     -999.0,9,     -999.0,9,     -999.0,9,-999.0000, -999.00
33RO20071215,        P18,      69,          1,         13,      12012,2,20080107,       1550,   -11.1663,  -103.0003,       4133,  1601.2,   2.7845,  34.6092,2,  34.6146,2,    101.9,2,   102.2,2,  118.80,2,   39.70,2,    0.00,2,    2.81,2,  -0.001,2,  -0.001,2,   0.0000,2,  -999.0,9,  -999.0,9,   -999.0,9,  -999.00,-999.0000,9,  -999.00,-999.000,9,-999.0000,9, -999.00,9, -999.00,9,  -999.0,9,-999.000,9,-999.000,-999.000,9,-999.000,9,   37.79,3,   40.62,3, -999.00,9, -999.00,9, -999.00,9,-999.000,   0.1967,2,   0.1480,2,   0.0915,2,   0.0667,2,   0.0456,2,   0.0205,2,   0.0076,2,   0.0138,2,   0.0128,2,   2.6707,     -999.0,9,     -999.0,9,     -999.0,9,     -999.0,9,     -999.0,9,     -999.0,9,     -999.0,9,-999.0000, -999.00
33RO20071215,        P18,      69,          1,         12,      12031,2,20080107,       1550,   -11.1663,  -103.0003,       4133,  1801.1,   2.4768,  34.6273,2,  34.6297,2,    112.1,2,   112.0,2,  125.60,2,   38.80,2,    0.00,2,    2.73,2,  -0.001,2,   0.000,2,   0.0000,2,  2328.3,2,  -999.0,9,   1406.3,2,    20.00,-999.0000,9,  -999.00,-999.000,9,-999.0000,9, -999.00,9, -999.00,9,  -999.0,9,-999.000,9,-999.000,-999.000,9,-999.000,9,   37.01,2,   40.05,2, -999.00,9, -999.00,9, -999.00,9,-999.000,-999.0000,5,-999.0000,5,-999.0000,5,-999.0000,5,-999.0000,5,-999.0000,5,-999.0000,5,-999.0000,5,-999.0000,5,   2.3502,     -999.0,9,     -999.0,9,     -999.0,9,     -999.0,9,     -999.0,9,     -999.0,9,     -999.0,9,-999.0000, -999.00