BOTTLE,20220818CCHSIOAMB
EXPOCODE,SECT_ID,STNNBR,CASTNO,SAMPNO,BTLNBR,BTLNBR_FLAG_W,DATE,TIME,LATITUDE,LONGITUDE,DEPTH,CTDPRS,CTDTMP,CTDSAL,CTDSAL_FLAG_W,SALNTY,SALNTY_FLAG_W,CTDOXY,CTDOXY_FLAG_W,OXYGEN,OXYGEN_FLAG_W,SILCAT,SILCAT_FLAG_W,NITRAT,NITRAT_FLAG_W,NITRIT,NITRIT_FLAG_W,PHSPHT,PHSPHT_FLAG_W,CFC-11,CFC-11_FLAG_W,CFC-12,CFC-12_FLAG_W,SF6,SF6_FLAG_W,TCARBN,TCARBN_FLAG_W,ALKALI,ALKALI_FLAG_W,FCO2,FCO2_FLAG_W,FCO2TMP,PH_SWS,PH_SWS_FLAG_W,PH_TMP,TRITUM,TRITUM_FLAG_W,HELIUM,HELIUM_FLAG_W,DELHE3,DELHE3_FLAG_W,DELC13,DELC13_FLAG_W,DELC14,DELC14_FLAG_W,NEON,NEON_FLAG_W,NEONER,CCL4,CCL4_FLAG_W,POC,POC_FLAG_W,DOC,DOC_FLAG_W,TDN,TDN_FLAG_W,DON,DON_FLAG_W,CHLORA,CHLORA_FLAG_W,ARGON,ARGON_FLAG_W,TRITER,CDOM325,CDOM325_FLAG_W,CDOM340,CDOM340_FLAG_W,CDOM380,CDOM380_FLAG_W,CDOM412,CDOM412_FLAG_W,CDOM443,CDOM443_FLAG_W,CDOM490,CDOM490_FLAG_W,CDOM555,CDOM555_FLAG_W,CDOMSL,CDOMSL_FLAG_W,CDOMSN,CDOMSN_FLAG_W,THETA,D18O_NO3,D18O_NO3_FLAG_W,CDOM2C,CDOM2C_FLAG_W,CDOM3C,CDOM3C_FLAG_W,LAB_DEN,LAB_DEN_FLAG_W,DELSI30,DELSI30_FLAG_W,N2,N2_FLAG_W,D15N_NO3,D15N_NO3_FLAG_W,HELIER,DELHER
,,,,,,,,,,,METERS,DBAR,ITS-90,PSS-78,,PSS-78,,UMOL/KG,,UMOL/KG,,UMOL/KG,,UMOL/KG,,UMOL/KG,,UMOL/KG,,PMOL/KG,,PMOL/KG,,FMOL/KG,,UMOL/KG,,UMOL/KG,,UATM,,DEG C,,,DEG C,TU,,NMOL/KG,,PERCNT,,/MILLE,,/MILLE,,NMOL/KG,,NMOL/KG,PMOL/KG,,UG/KG,,UMOL/KG,,UMOL/KG,,UMOL/KG,,UG/KG,,UMOL/KG,,TU,1/M,,1/M,,1/M,,1/M,,1/M,,1/M,,1/M,,1/NM,,1/NM,,DEG C,/MILLE,,,,,,,,/MILLE,,UMOL/KG,,/MILLE,,NMOL/KG,PERCNT
33RO20071215,        P18,      82,          1,         36,      12017,2,20080111,       1844,   -18.7497,  -102.9998,       4216,     5.9,  22.4576,  36.0182,2,  36.0177,2,    218.9,2,   219.4,2,    0.80,2,    0.20,2,    0.00,2,    0.30,2,   2.034,2,   1.263,2,   1.0149,2,  2081.1,6,  2382.8,2,    356.8,2,    20.00,   8.0082,2,    25.00,-999.000,9,-999.0000,9, -999.00,9, -999.00,9,  -999.0,9,-999.000,9,-999.000,-999.000,9,-999.000,9, -999.00,9, -999.00,9, -999.00,9,    0.03,2, -999.00,9,-999.000,   0.0638,2,   0.0419,2,   0.0139,2,   0.0085,2,   0.0048,2,   0.0003,4,  -0.0015,4,   0.0264,2,   0.0276,2,  22.4564,     -999.0,9,     -999.0,9,     -999.0,9,     -999.0,9,     -999.0,9,     -999.0,9,     -999.0,9,-999.0000, -999.00
33RO20071215,        P18,      82,          1,         35,      12029,2,20080111,       1844,   -18.7497,  -102.9998,       4216,    15.1,  22.4704,  36.0180,2,  36.0181,2,    219.2,2,   220.0,2,    0.70,2,    0.20,2,    0.00,2,    0.30,2,   2.037,6,   1.259,6,   1.1263,6,  2081.3,2,  2383.6,2,   -999.0,9,  -999.00,   8.0103,2,    25.00,-999.000,9,-999.0000,9, -999.00,9, -999.00,9,  -999.0,9,-999.000,9,-999.000,-999.000,9,-999.000,9, -999.00,9, -999.00,9, -999.00,9,    0.04,2, -999.00,9,-999.000,   0.0599,2,   0.0384,2,   0.0129,2,   0.0076,2,   0.0040,2,   0.0000,4,  -0.0017,4,   0.0272,2,   0.0289,2,  22.4674,     -999.0,9,     -999.0,9,     -999.0,9,     -999.0,9,     -999.0,9,     -999.0,9,     -999.0,9,-999.0000, -999.00
33RO20071215,        P18,      82,          1,         34,      12049,2,20080111,       1844,   -18.7497,  -102.9998,       4216,    32.7,  22.3626,  36.0174,2,  36.0188,2,    219.4,2,   219.9,2,    0.70,2,    0.20,2,    0.00,2,    0.31,2,   2.040,2,   1.262,2,   1.0302,3,  2080.9,2,  2394.4,2,   -999.0,9,  -999.00,   8.0162,2,    25.00,-999.000,9,-999.0000,9, -999.00,9, -999.00,9,  -999.0,9,-999.000,9,-999.000,-999.000,9,-999.000,1, -999.00,9, -999.00,9, -999.00,9, -999.00,5, -999.00,9,-999.000,   0.0666,2,   0.0441,2,   0.0178,2,   0.0122,2,   0.0075,2,   0.0013,3,  -0.0014,4,   0.0185,2,   0.0226,2,  22.3561,     -999.0,9,     -999.0,9,     -999.0,9,     -999.0,9,     -999.0,9,     -999.0,9,     -999.0,9,-999.0000, -999.00
33RO20071215,        P18,      82,          1,         33,      12027,2,20080111,       1844,   -18.7497,  -102.9998,       4216,    57.7,  21.8254,  35.9619,2,  35.9563,2,    223.3,2,   224.2,2,    0.70,2,    0.20,2,    0.00,2,    0.28,2,   2.096,2,   1.292,2,   1.1697,3,  2078.5,2,  2376.4,2,    360.0,2,    20.00,   8.0198,2,    25.00,-999.000,9,-999.0000,9, -999.00,9, -999.00,9,  -999.0,9,-999.000,9,-999.000,-999.000,9,-999.000,9, -999.00,9, -999.00,9, -999.00,9,    0.04,2, -999.00,9,-999.000,   0.0795,2,   0.0562,2,   0.0247,2,   0.0158,2,   0.0099,2,   0.0028,2,  -0.0006,4,   0.0174,2,   0.0197,2,  21.8140,     -999.0,9,     -999.0,9,     -999.0,9,     -999.0,9,     -999.0,9,     -999.0,9,     -999.0,9,-999.0000, -999.00
33RO20071215,        P18,      82,          1,         32,      12023,2,20080111,       1844,   -18.7497,  -102.9998,       4216,    84.1,  20.6240,  35.8347,2,  35.8372,2,    229.7,2,   230.3,2,    0.60,2,    0.20,2,    0.00,2,    0.27,2,   2.202,2,   1.349,2,   1.0797,3,  2074.9,2,  2368.7,3,   -999.0,9,  -999.00,   8.0059,2,    25.00,-999.000,9,-999.0000,9, -999.00,9, -999.00,9,  -999.0,9,-999.000,9,-999.000,-999.000,9,-999.000,9, -999.00,9, -999.00,9, -999.00,9,    0.08,2, -999.00,9,-999.000,   0.0990,2,   0.0702,2,   0.0335,2,   0.0227,2,   0.0142,2,   0.0051,2,   0.0006,3,   0.0159,2,   0.0179,2,  20.6081,     -999.0,9,     -999.0,9,     -999.0,9,     -999.0,9,     -999.0,9,     -999.0,9,     -999.0,9,-999.0000, -999.00
33RO20071215,        P18,      82,          1,         31,      12037,2,20080111,       1844,   -18.7497,  -102.9998,       4216,   107.4,  20.6580,  35.9116,2,  35.9100,2,    226.3,2,   226.5,2,    0.60,2,    0.20,2,    0.01,2,    0.26,2,   2.182,2,   1.341,2,   1.1014,3,  2077.1,2,  2372.1,2,    363.3,2,    20.00,   8.0087,2,    25.00,-999.000,9,-999.0000,9, -999.00,9, -999.00,9,  -999.0,9,-999.000,9,-999.000,-999.000,9,-999.000,9, -999.00,9, -999.00,9, -999.00,9,    0.15,2, -999.00,9,-999.000,   0.0939,2,   0.0672,2,   0.0333,2,   0.0243,2,   0.0152,2,   0.0050,2,   0.0003,3,   0.0147,2,   0.0166,2,  20.6376,     -999.0,9,     -999.0,9,     -999.0,9,     -999.0,9,     -999.0,9,     -999.0,9,     -999.0,9,-999.0000, -999.00
33RO20071215,        P18,      82,          1,         30,      12036,2,20080111,       1844,   -18.7497,  -102.9998,       4216,   133.2,  20.4909,  35.8928,2,  35.8928,2,    223.7,2,   223.8,2,    0.70,2,    0.20,2,    0.00,2,    0.26,2,   2.191,2,   1.341,2,   1.0662,3,  2078.3,2,  2371.4,2,   -999.0,9,  -999.00,   8.0002,2,    25.00,-999.000,9,-999.0000,9, -999.00,9, -999.00,9,  -999.0,9,-999.000,9,-999.000,-999.000,9,-999.000,9, -999.00,9, -999.00,9, -999.00,9,    0.09,2, -999.00,9,-999.000,   0.0881,2,   0.0628,2,   0.0319,2,   0.0226,2,   0.0136,2,   0.0042,2,   0.0000,4,   0.0150,2,   0.0166,2,  20.4657,     -999.0,9,     -999.0,9,     -999.0,9,     -999.0,9,     -999.0,9,     -999.0,9,     -999.0,9,-999.0000, -999.00
33RO20071215,        P18,      82,          1,         29,      12044,2,20080111,       1844,   -18.7497,  -102.9998,       4216,   157.9,  20.3136,  35.8602,2,  35.8516,2,    222.3,2,   221.3,2,    0.70,2,    0.30,2,    0.04,2,    0.28,2,   2.192,2,   1.348,2,   1.1740,3,  2079.1,2,  2367.6,2,   -999.0,9,  -999.00,   7.9951,2,    25.00,-999.000,9,-999.0000,9, -999.00,9, -999.00,9,  -999.0,9,-999.000,9,-999.000,-999.000,9,-999.000,9, -999.00,9, -999.00,9, -999.00,9,    0.07,2, -999.00,9,-999.000,   0.0712,2,   0.0500,2,   0.0246,2,   0.0172,2,   0.0094,2,   0.0013,3,  -0.0017,4,   0.0156,2,   0.0177,2,  20.2840,     -999.0,9,     -999.0,9,     -999.0,9,     -999.0,9,     -999.0,9,     -999.0,9,     -999.0,9,-999.0000, -999.00
33RO20071215,        P18,      82,          1,         28,      12057,2,20080111,       1844,   -18.7497,  -102.9998,       4216,   184.3,  19.9625,  35.7696,2,  35.7720,2,    216.4,2,   227.9,3,    0.80,2,    0.60,2,    0.30,2,    0.31,2,   2.231,2,   1.364,2,   1.0566,3,  2082.4,2,  2365.2,2,    387.3,2,    20.00,   7.9836,2,    25.00,-999.000,9,-999.0000,9, -999.00,9, -999.00,9,  -999.0,9,-999.000,9,-999.000,-999.000,9,-999.000,9, -999.00,9, -999.00,9, -999.00,9,    0.04,2, -999.00,9,-999.000,   0.0833,2,   0.0609,2,   0.0309,2,   0.0216,2,   0.0124,2,   0.0025,3,  -0.0014,4,   0.0153,2,   0.0165,2,  19.9283,     -999.0,9,     -999.0,9,     -999.0,9,     -999.0,9,     -999.0,9,     -999.0,9,     -999.0,9,-999.0000, -999.00
33RO20071215,        P18,      82,          1,         27,      12026,2,20080111,       1844,   -18.7497,  -102.9998,       4216,   216.8,  19.2722,  35.6155,2,  35.6443,2,    212.7,2,   213.5,2,    0.80,2,    1.50,2,    0.33,2,    0.37,2,   2.297,2,   1.394,2,   1.1669,3,  2083.6,2,  2354.8,2,   -999.0,9,  -999.00,   7.9693,2,    25.00,-999.000,9,-999.0000,9, -999.00,9, -999.00,9,  -999.0,9,-999.000,9,-999.000,-999.000,9,-999.000,9, -999.00,9, -999.00,9, -999.00,9,    0.01,2, -999.00,9,-999.000,   0.0786,2,   0.0572,2,   0.0287,2,   0.0209,2,   0.0113,2,   0.0010,3,  -0.0024,4,   0.0150,2,   0.0165,2,  19.2330,     -999.0,9,     -999.0,9,     -999.0,9,     -999.0,9,     -999.0,9,     -999.0,9,     -999.0,9,-999.0000, -999.00
33RO20071215,        P18,      82,          1,         26,      12030,2,20080111,       1844,   -18.7497,  -102.9998,       4216,   267.0,  14.5875,  34.7250,2,  34.7277,2,    191.8,2,   191.7,2,    1.90,2,    8.80,2,    0.01,2,    0.77,2,   2.835,6,   1.620,6,   0.9962,6,  2093.1,2,  2294.9,2,    544.4,2,    20.00,   7.8555,2,    25.00,-999.000,9,-999.0000,9, -999.00,9, -999.00,9,  -999.0,9,-999.000,9,-999.000,-999.000,9,-999.000,9, -999.00,9, -999.00,9, -999.00,9,    0.01,2, -999.00,9,-999.000,   0.1052,2,   0.0756,2,   0.0398,2,   0.0293,2,   0.0158,2,   0.0028,3,  -0.0017,4,   0.0152,2,   0.0160,2,  14.5478,     -999.0,9,     -999.0,9,     -999.0,9,     -999.0,9,     -999.0,9,     -999.0,9,     -999.0,9,-999.0000, -999.00
33RO20071215,        P18,      82,          1,         25,      12024,2,20080111,       1844,   -18.7497,  -102.9998,       4216,   317.4,  11.7950,  34.4664,2,  34.4696,2,    130.7,2,   128.2,2,    9.00,2,   18.90,2,    0.00,2,    1.66,2,   2.550,2,   1.375,2,   0.6068,2,  2163.5,2,  2273.5,2,   -999.0,9,  -999.00,   7.6349,2,    25.00,-999.000,9,-999.0000,9, -999.00,9, -999.00,9,  -999.0,9,-999.000,9,-999.000,-999.000,9,-999.000,9, -999.00,9, -999.00,9, -999.00,9, -999.00,9, -999.00,9,-999.000,   0.1473,2,   0.1086,2,   0.0602,2,   0.0449,2,   0.0257,2,   0.0074,2,   0.0003,3,   0.0157,2,   0.0149,2,  11.7540,     -999.0,9,     -999.0,9,     -999.0,9,     -999.0,9,     -999.0,9,     -999.0,9,     -999.0,9,-999.0000, -999.00
33RO20071215,        P18,      82,          1,         24,      12019,2,20080111,       1844,   -18.7497,  -102.9998,       4216,   366.7,  10.1879,  34.5050,2,  34.5080,2,     75.5,2,    73.9,2,   17.20,2,   26.80,2,    0.00,2,    2.30,2,   1.523,2,   0.790,2,   0.2759,2,  2220.2,2,  2281.8,2,   1383.7,2,    20.00,   7.4872,2,    25.00,-999.000,9,-999.0000,9, -999.00,9, -999.00,9,  -999.0,9,-999.000,9,-999.000,-999.000,9,-999.000,9, -999.00,9, -999.00,9, -999.00,9, -999.00,9, -999.00,9,-999.000,   0.1748,2,   0.1304,2,   0.0740,2,   0.0546,2,   0.0314,2,   0.0095,2,   0.0006,2,   0.0158,2,   0.0146,2,  10.1447,     -999.0,9,     -999.0,9,     -999.0,9,     -999.0,9,     -999.0,9,     -999.0,9,     -999.0,9,-999.0000, -999.00
33RO20071215,        P18,      82,          1,         23,      12022,2,20080111,       1844,   -18.7497,  -102.9998,       4216,   433.1,   8.6197,  34.4965,2,  34.4980,2,     66.1,2,    64.5,2,   21.60,2,   33.30,2,    0.00,2,    2.54,2,   0.787,2,   0.407,2,   0.0569,2,  2240.3,6,  2287.6,2,   -999.0,9,  -999.00,   7.4456,2,    25.00,-999.000,9,-999.0000,9, -999.00,9, -999.00,9,  -999.0,9,-999.000,9,-999.000,-999.000,9,-999.000,9, -999.00,9, -999.00,9, -999.00,9, -999.00,9, -999.00,9,-999.000,   0.1748,2,   0.1284,2,   0.0746,2,   0.0555,2,   0.0325,2,   0.0096,2,   0.0004,3,   0.0156,2,   0.0144,2,   8.5736,     -999.0,9,     -999.0,9,     -999.0,9,     -999.0,9,     -999.0,9,     -999.0,9,     -999.0,9,-999.0000, -999.00
33RO20071215,        P18,      82,          1,         22,      12015,2,20080111,       1844,   -18.7497,  -102.9998,       4216,   533.3,   7.1085,  34.4570,2,  34.4581,2,     86.3,2,    86.8,2,   25.70,2,   36.50,2,    0.00,2,    2.56,2,   0.372,2,   0.200,2,   0.0976,2,  2235.3,2,  2291.1,2,   1454.2,2,    20.00,   7.4698,2,    25.00,-999.000,9,-999.0000,9, -999.00,9, -999.00,9,  -999.0,9,-999.000,9,-999.000,-999.000,9,-999.000,1, -999.00,9, -999.00,9, -999.00,9, -999.00,9, -999.00,9,-999.000,   0.1655,2,   0.1201,2,   0.0687,2,   0.0496,2,   0.0290,2,   0.0078,3,  -0.0007,4,   0.0160,2,   0.0149,2,   7.0573,     -999.0,9,     -999.0,9,     -999.0,9,     -999.0,9,     -999.0,9,     -999.0,9,     -999.0,9,-999.0000, -999.00
33RO20071215,        P18,      82,          1,         21,      12020,2,20080111,       1844,   -18.7497,  -102.9998,       4216,   632.8,   6.1568,  34.4438,2,  34.4438,2,     90.7,2,    93.1,2,   33.60,2,   38.70,2,    0.00,2,    2.67,2,   0.127,2,   0.071,2,   0.0000,2,  2242.5,2,  2299.3,2,   -999.0,9,  -999.00,   7.4678,2,    25.00,-999.000,9,-999.0000,9, -999.00,9, -999.00,9,  -999.0,9,-999.000,9,-999.000,-999.000,9,-999.000,9, -999.00,9, -999.00,9, -999.00,9, -999.00,9, -999.00,9,-999.000,   0.1588,2,   0.1141,2,   0.0656,2,   0.0474,2,   0.0281,2,   0.0074,3,  -0.0009,4,   0.0158,2,   0.0149,2,   6.1002,     -999.0,9,     -999.0,9,     -999.0,9,     -999.0,9,     -999.0,9,     -999.0,9,     -999.0,9,-999.0000, -999.00
33RO20071215,        P18,      82,          1,         20,      12055,2,20080111,       1844,   -18.7497,  -102.9998,       4216,   733.0,   5.5508,  34.4667,2,  34.4663,2,     74.8,2,    73.0,2,   46.60,2,   41.60,2,    0.00,2,    2.89,2,   0.018,2,   0.011,2,   0.0000,2,  2266.0,2,  2311.5,2,   1611.5,2,    20.00,   7.4304,2,    25.00,-999.000,9,-999.0000,9, -999.00,9, -999.00,9,  -999.0,9,-999.000,9,-999.000,-999.000,9,-999.000,9, -999.00,9, -999.00,9, -999.00,9, -999.00,9, -999.00,9,-999.000,   0.1539,2,   0.1099,2,   0.0640,2,   0.0459,2,   0.0270,2,   0.0060,3,  -0.0018,4,   0.0154,2,   0.0148,2,   5.4881,     -999.0,9,     -999.0,9,     -999.0,9,     -999.0,9,     -999.0,9,     -999.0,9,     -999.0,9,-999.0000, -999.00
33RO20071215,        P18,      82,          1,         19,      12018,2,20080111,       1844,   -18.7497,  -102.9998,       4216,   833.5,   5.0286,  34.4818,2,  34.4813,2,     75.3,2,    73.8,2,   57.40,2,   42.20,2,    0.00,2,    2.95,2,   0.005,2,   0.003,2,   0.0000,2,  2277.0,2,  2322.5,2,   -999.0,9,  -999.00,   7.4295,2,    25.00,-999.000,9,-999.0000,9, -999.00,9, -999.00,9,  -999.0,9,-999.000,9,-999.000,-999.000,9,-999.000,9, -999.00,9, -999.00,9, -999.00,9, -999.00,9, -999.00,9,-999.000,   0.1395,2,   0.0931,2,   0.0466,2,   0.0331,2,   0.0197,2,   0.0070,2,   0.0019,2,   0.0157,2,   0.0177,2,   4.9600,     -999.0,9,     -999.0,9,     -999.0,9,     -999.0,9,     -999.0,9,     -999.0,9,     -999.0,9,-999.0000, -999.00
33RO20071215,        P18,      82,          1,         18,      12025,4,20080111,       1844,   -18.7497,  -102.9998,       4216,   932.8,   4.6018,  34.4985,2,  34.4647,4,     78.7,2,    75.3,4,   45.40,2,   41.20,2,    0.00,2,    2.86,2,   0.019,2,   0.011,2,   0.0000,2,  2264.2,3,  2304.0,4,   1618.2,2,    20.00,   7.4401,2,    25.00,-999.000,9,-999.0000,9, -999.00,9, -999.00,9,  -999.0,9,-999.000,9,-999.000,-999.000,9,-999.000,9, -999.00,9, -999.00,9, -999.00,9, -999.00,9, -999.00,9,-999.000,   0.1573,2,   0.1107,2,   0.0603,2,   0.0422,2,   0.0244,2,   0.0064,2,  -0.0009,4,   0.0161,2,   0.0161,2,   4.5274,     -999.0,9,     -999.0,9,     -999.0,9,     -999.0,9,     -999.0,9,     -999.0,9,     -999.0,9,-999.0000, -999.00
33RO20071215,        P18,      82,          1,         17,      12016,2,20080111,       1844,   -18.7497,  -102.9998,       4216,  1032.4,   4.2078,  34.5184,2,  34.5184,2,     82.1,2,    81.7,2,   76.40,2,   41.80,2,    0.00,2,    2.95,2,   0.000,2,   0.000,2,   0.0000,2,  2294.6,2,  2343.1,2,   -999.0,9,  -999.00,   7.4462,2,    25.00,-999.000,9,-999.0000,9, -999.00,9, -999.00,9,  -999.0,9,-999.000,9,-999.000,-999.000,9,-999.000,1, -999.00,9, -999.00,9, -999.00,9, -999.00,9, -999.00,9,-999.000,   0.1498,2,   0.1019,2,   0.0510,2,   0.0349,2,   0.0209,2,   0.0082,2,   0.0023,2,   0.0159,2,   0.0177,2,   4.1277,     -999.0,9,     -999.0,9,     -999.0,9,     -999.0,9,     -999.0,9,     -999.0,9,     -999.0,9,-999.0000, -999.00
33RO20071215,        P18,      82,          1,         16,      12051,2,20080111,       1844,   -18.7497,  -102.9998,       4216,  1132.6,   3.8676,  34.5341,2,  34.5359,2,     88.7,2,    88.8,2,   84.60,2,   41.40,2,    0.00,2,    2.92,2,   0.001,2,   0.001,2,   0.0000,2,  2300.3,2,  2351.6,2,   1555.8,2,    20.00,   7.4605,2,    25.00,-999.000,9,-999.0000,9, -999.00,9, -999.00,9,  -999.0,9,-999.000,9,-999.000,-999.000,9,-999.000,9, -999.00,9, -999.00,9, -999.00,9, -999.00,9, -999.00,9,-999.000,   0.1539,2,   0.1046,2,   0.0511,2,   0.0333,2,   0.0196,2,   0.0077,2,   0.0017,2,   0.0166,2,   0.0185,2,   3.7818,     -999.0,9,     -999.0,9,     -999.0,9,     -999.0,9,     -999.0,9,     -999.0,9,     -999.0,9,-999.0000, -999.00
33RO20071215,        P18,      82,          1,         15,      12014,2,20080111,       1844,   -18.7497,  -102.9998,       4216,  1266.9,   3.5105,  34.5533,2,  34.5530,2,     93.9,2,    93.8,2,   93.20,2,   40.90,2,    0.00,2,    2.90,2,-999.000,9,-999.000,9,-999.0000,9,  2306.0,2,  2358.4,2,   -999.0,9,  -999.00,   7.4649,2,    25.00,-999.000,9,-999.0000,9, -999.00,9, -999.00,9,  -999.0,9,-999.000,9,-999.000,-999.000,9,-999.000,9, -999.00,9, -999.00,9, -999.00,9, -999.00,9, -999.00,9,-999.000,   0.1327,2,   0.0879,2,   0.0422,2,   0.0270,2,   0.0150,2,   0.0051,2,   0.0005,4,   0.0174,2,   0.0196,2,   3.4167,     -999.0,9,     -999.0,9,     -999.0,9,     -999.0,9,     -999.0,9,     -999.0,9,     -999.0,9,-999.0000, -999.00
33RO20071215,        P18,      82,          1,         14,      12013,2,20080111,       1844,   -18.7497,  -102.9998,       4216,  1468.5,   2.9938,  34.5855,2,  34.5850,2,    101.0,2,   101.5,2,  107.00,2,   40.30,2,    0.00,2,    2.85,2,  -0.001,2,  -0.001,2,   0.0000,2,  2316.5,2,  2375.7,2,   -999.0,9,  -999.00,   7.4786,2,    25.00,-999.000,9,-999.0000,9, -999.00,9, -999.00,9,  -999.0,9,-999.000,9,-999.000,-999.000,9,-999.000,9, -999.00,9, -999.00,9, -999.00,9, -999.00,9, -999.00,9,-999.000,   0.1479,2,   0.1002,2,   0.0477,2,   0.0296,2,   0.0161,2,   0.0052,2,   0.0000,4,   0.0181,2,   0.0197,2,   2.8886,     -999.0,9,     -999.0,9,     -999.0,9,     -999.0,9,     -999.0,9,     -999.0,9,     -999.0,9,-999.0000, -999.00
33RO20071215,        P18,      82,          1,         13,      12012,2,20080111,       1844,   -18.7497,  -102.9998,       4216,  1666.3,   2.6478,  34.6098,2,  34.6096,2,    108.0,2,   108.7,2,  116.20,2,   39.70,2,    0.00,2,    2.79,2,-999.000,9,-999.000,9,-999.0000,9,  2321.7,2,  2383.3,2,   1442.2,6,    20.00,   7.4966,2,    25.00,-999.000,9,-999.0000,9, -999.00,9, -999.00,9,  -999.0,9,-999.000,9,-999.000,-999.000,9,-999.000,9, -999.00,9, -999.00,9, -999.00,9, -999.00,9, -999.00,9,-999.000,   0.1531,2,   0.1045,2,   0.0496,2,   0.0304,2,   0.0161,2,   0.0052,2,  -0.0004,4,   0.0184,2,   0.0197,2,   2.5302,     -999.0,9,     -999.0,9,     -999.0,9,     -999.0,9,     -999.0,9,     -999.0,9,     -999.0,9,-999.0000, -999.00
33RO20071215,        P18,      82,          1,         12,      12031,2,20080111,       1844,   -18.7497,  -102.9998,       4216,  1867.9,   2.3876,  34.6281,2,  34.6275,2,    118.0,2,   119.0,2,  121.60,2,   38.80,2,    0.00,2,    2.72,2,-999.000,9,-999.000,9,-999.0000,9,  2320.7,6,  2388.2,2,   -999.0,9,  -999.00,   7.5129,2,    25.00,-999.000,9,-999.0000,9, -999.00,9, -999.00,9,  -999.0,9,-999.000,9,-999.000,-999.000,9,-999.000,9, -999.00,9, -999.00,9, -999.00,9, -999.00,9, -999.00,9,-999.000,   0.1253,2,   0.0833,2,   0.0388,2,   0.0218,2,   0.0105,2,   0.0021,2,  -0.0021,4,   0.0129,2,   0.0212,2,   2.2566,     -999.0,9,     -999.0,9,     -999.0,9,     -999.0,9,     -999.0,9,     -999.0,9,     -999.0,9,-999.0000, -999.00