BOTTLE,20220818CCHSIOAMB
EXPOCODE,SECT_ID,STNNBR,CASTNO,SAMPNO,BTLNBR,BTLNBR_FLAG_W,DATE,TIME,LATITUDE,LONGITUDE,DEPTH,CTDPRS,CTDTMP,CTDSAL,CTDSAL_FLAG_W,SALNTY,SALNTY_FLAG_W,CTDOXY,CTDOXY_FLAG_W,OXYGEN,OXYGEN_FLAG_W,SILCAT,SILCAT_FLAG_W,NITRAT,NITRAT_FLAG_W,NITRIT,NITRIT_FLAG_W,PHSPHT,PHSPHT_FLAG_W,CFC-11,CFC-11_FLAG_W,CFC-12,CFC-12_FLAG_W,SF6,SF6_FLAG_W,TCARBN,TCARBN_FLAG_W,ALKALI,ALKALI_FLAG_W,FCO2,FCO2_FLAG_W,FCO2TMP,PH_SWS,PH_SWS_FLAG_W,PH_TMP,TRITUM,TRITUM_FLAG_W,HELIUM,HELIUM_FLAG_W,DELHE3,DELHE3_FLAG_W,DELC13,DELC13_FLAG_W,DELC14,DELC14_FLAG_W,NEON,NEON_FLAG_W,NEONER,CCL4,CCL4_FLAG_W,POC,POC_FLAG_W,DOC,DOC_FLAG_W,TDN,TDN_FLAG_W,DON,DON_FLAG_W,CHLORA,CHLORA_FLAG_W,ARGON,ARGON_FLAG_W,TRITER,CDOM325,CDOM325_FLAG_W,CDOM340,CDOM340_FLAG_W,CDOM380,CDOM380_FLAG_W,CDOM412,CDOM412_FLAG_W,CDOM443,CDOM443_FLAG_W,CDOM490,CDOM490_FLAG_W,CDOM555,CDOM555_FLAG_W,CDOMSL,CDOMSL_FLAG_W,CDOMSN,CDOMSN_FLAG_W,THETA,D18O_NO3,D18O_NO3_FLAG_W,CDOM2C,CDOM2C_FLAG_W,CDOM3C,CDOM3C_FLAG_W,LAB_DEN,LAB_DEN_FLAG_W,DELSI30,DELSI30_FLAG_W,N2,N2_FLAG_W,D15N_NO3,D15N_NO3_FLAG_W,HELIER,DELHER
,,,,,,,,,,,METERS,DBAR,ITS-90,PSS-78,,PSS-78,,UMOL/KG,,UMOL/KG,,UMOL/KG,,UMOL/KG,,UMOL/KG,,UMOL/KG,,PMOL/KG,,PMOL/KG,,FMOL/KG,,UMOL/KG,,UMOL/KG,,UATM,,DEG C,,,DEG C,TU,,NMOL/KG,,PERCNT,,/MILLE,,/MILLE,,NMOL/KG,,NMOL/KG,PMOL/KG,,UG/KG,,UMOL/KG,,UMOL/KG,,UMOL/KG,,UG/KG,,UMOL/KG,,TU,1/M,,1/M,,1/M,,1/M,,1/M,,1/M,,1/M,,1/NM,,1/NM,,DEG C,/MILLE,,,,,,,,/MILLE,,UMOL/KG,,/MILLE,,NMOL/KG,PERCNT
33RO20071215,        P18,     135,          1,         24,      11024,2,20080203,       0113,   -49.6668,  -102.9973,       4392,     4.9,   9.7622,  34.1565,2,  34.1574,2,    281.0,2,   281.0,2,    1.80,2,   16.20,2,    0.22,2,    1.17,2,   3.806,2,   2.163,2,   1.7092,2,  2095.5,6,  2271.8,2,    594.2,2,    20.00,   7.8204,2,    25.00,-999.000,9,-999.0000,9, -999.00,9,    1.51,2,  -999.0,1,-999.000,9,-999.000,-999.000,9,-999.000,9, -999.00,9, -999.00,9, -999.00,9, -999.00,9, -999.00,9,-999.000,-999.0000,9,-999.0000,9,-999.0000,9,-999.0000,9,-999.0000,9,-999.0000,9,-999.0000,9,-999.0000,9,-999.0000,9,   9.7616,     -999.0,9,     -999.0,9,     -999.0,9,     -999.0,9,     -999.0,9,     -999.0,9,     -999.0,9,-999.0000, -999.00
33RO20071215,        P18,     135,          1,         23,      11023,2,20080203,       0113,   -49.6668,  -102.9973,       4392,    20.3,   9.6848,  34.1567,2,  34.1566,2,    281.3,2,   281.3,2,    1.80,2,   16.10,2,    0.21,2,    1.17,2,   3.815,2,   2.173,2,   1.6427,2,  2095.0,2,  2270.8,2,   -999.0,9,  -999.00,   7.8196,2,    25.00,-999.000,9,-999.0000,9, -999.00,9, -999.00,9,  -999.0,9,-999.000,9,-999.000,-999.000,9,-999.000,9, -999.00,9, -999.00,9, -999.00,9, -999.00,9, -999.00,1,-999.000,-999.0000,9,-999.0000,9,-999.0000,9,-999.0000,9,-999.0000,9,-999.0000,9,-999.0000,9,-999.0000,9,-999.0000,9,   9.6825,     -999.0,1,     -999.0,9,     -999.0,9,     -999.0,9,     -999.0,9,     -999.0,1,     -999.0,9,-999.0000, -999.00
33RO20071215,        P18,     135,          1,         22,      11022,2,20080203,       0113,   -49.6668,  -102.9973,       4392,    42.1,   9.6232,  34.1560,2,  34.1586,2,    281.8,2,   280.9,2,    1.90,2,   16.20,2,    0.21,2,    1.17,2,   3.799,2,   2.154,2,   1.6831,2,  2095.1,2,  2270.2,2,    595.0,6,    20.00,   7.8132,2,    25.00,-999.000,9,-999.0000,9, -999.00,9,    1.49,2,  -999.0,1,-999.000,9,-999.000,-999.000,9,-999.000,9, -999.00,9, -999.00,9, -999.00,9, -999.00,9, -999.00,9,-999.000,-999.0000,9,-999.0000,9,-999.0000,9,-999.0000,9,-999.0000,9,-999.0000,9,-999.0000,9,-999.0000,9,-999.0000,9,   9.6185,     -999.0,9,     -999.0,9,     -999.0,9,     -999.0,9,     -999.0,9,     -999.0,9,     -999.0,9,-999.0000, -999.00
33RO20071215,        P18,     135,          1,         21,      11021,2,20080203,       0113,   -49.6668,  -102.9973,       4392,    67.0,   9.2322,  34.1741,2,  34.1747,2,    283.5,2,   283.9,2,    1.80,2,   16.30,2,    0.21,2,    1.18,2,   3.882,2,   2.202,2,   1.7471,2,  2096.2,2,  2274.0,2,   -999.0,9,  -999.00,   7.8060,2,    25.00,-999.000,9,-999.0000,9, -999.00,9,    1.52,2,  -999.0,1,-999.000,9,-999.000,-999.000,9,-999.000,9, -999.00,9, -999.00,9, -999.00,9, -999.00,9, -999.00,9,-999.000,-999.0000,9,-999.0000,9,-999.0000,9,-999.0000,9,-999.0000,9,-999.0000,9,-999.0000,9,-999.0000,9,-999.0000,9,   9.2249,     -999.0,9,     -999.0,9,     -999.0,9,     -999.0,9,     -999.0,9,     -999.0,9,     -999.0,9,-999.0000, -999.00
33RO20071215,        P18,     135,          1,         20,      11020,2,20080203,       0113,   -49.6668,  -102.9973,       4392,    92.4,   8.3727,  34.1833,2,  34.1853,2,    287.9,2,   289.7,2,    1.60,2,   16.50,2,    0.21,2,    1.21,2,   4.072,2,   2.288,2,   1.7687,2,  2100.0,2,  2276.4,2,    607.8,2,    20.00,   7.8054,2,    25.00,-999.000,9,-999.0000,9, -999.00,9,    1.55,2,  -999.0,1,-999.000,9,-999.000,-999.000,9,-999.000,9, -999.00,9, -999.00,9, -999.00,9, -999.00,9, -999.00,9,-999.000,-999.0000,9,-999.0000,9,-999.0000,9,-999.0000,9,-999.0000,9,-999.0000,9,-999.0000,9,-999.0000,9,-999.0000,9,   8.3633,     -999.0,9,     -999.0,9,     -999.0,9,     -999.0,9,     -999.0,9,     -999.0,9,     -999.0,9,-999.0000, -999.00
33RO20071215,        P18,     135,          1,         19,      11019,2,20080203,       0113,   -49.6668,  -102.9973,       4392,   131.4,   6.7213,  34.2190,2,  34.2185,2,    291.1,2,   292.0,2,    4.00,2,   18.10,2,    0.31,2,    1.34,2,   4.317,2,   2.411,2,   1.8948,2,  2114.2,2,  2277.9,2,    665.1,2,    20.00,   7.7766,2,    25.00,-999.000,9,-999.0000,9, -999.00,9,    1.32,2,  -999.0,1,-999.000,9,-999.000,-999.000,9,-999.000,9, -999.00,9, -999.00,9, -999.00,9, -999.00,9, -999.00,9,-999.000,-999.0000,9,-999.0000,9,-999.0000,9,-999.0000,9,-999.0000,9,-999.0000,9,-999.0000,9,-999.0000,9,-999.0000,9,   6.7095,     -999.0,9,     -999.0,9,     -999.0,9,     -999.0,9,     -999.0,9,     -999.0,9,     -999.0,9,-999.0000, -999.00
33RO20071215,        P18,     135,          1,         18,      11018,2,20080203,       0113,   -49.6668,  -102.9973,       4392,   199.3,   6.4676,  34.2303,2,  34.2327,2,    289.3,2,   289.5,2,    4.40,2,   19.40,2,    0.07,2,    1.36,2,   4.338,2,   2.423,2,   1.7163,2,  2118.0,2,  2276.0,2,    683.3,2,    20.00,   7.7726,2,    25.00,-999.000,9,-999.0000,9, -999.00,9,    1.25,2,  -999.0,1,-999.000,9,-999.000,-999.000,9,-999.000,9, -999.00,9, -999.00,9, -999.00,9, -999.00,9, -999.00,9,-999.000,-999.0000,9,-999.0000,9,-999.0000,9,-999.0000,9,-999.0000,9,-999.0000,9,-999.0000,9,-999.0000,9,-999.0000,9,   6.4500,     -999.0,9,     -999.0,9,     -999.0,9,     -999.0,9,     -999.0,9,     -999.0,9,     -999.0,9,-999.0000, -999.00
33RO20071215,        P18,     135,          1,         17,      11017,2,20080203,       0113,   -49.6668,  -102.9973,       4392,   274.7,   6.6328,  34.3111,2,  34.3117,2,    273.7,2,   274.3,2,    6.10,2,   20.50,2,    0.02,2,    1.42,2,   4.205,2,   2.314,2,   1.5272,2,  2128.5,2,  2277.5,2,    717.8,2,    20.00,   7.7620,2,    25.00,-999.000,9,-999.0000,9, -999.00,9,    1.24,2,  -999.0,1,-999.000,9,-999.000,-999.000,9,-999.000,9, -999.00,9, -999.00,9, -999.00,9, -999.00,9, -999.00,9,-999.000,-999.0000,9,-999.0000,9,-999.0000,9,-999.0000,9,-999.0000,9,-999.0000,9,-999.0000,9,-999.0000,9,-999.0000,9,   6.6080,     -999.0,9,     -999.0,9,     -999.0,9,     -999.0,9,     -999.0,9,     -999.0,9,     -999.0,9,-999.0000, -999.00
33RO20071215,        P18,     135,          1,         16,      11016,2,20080203,       0113,   -49.6668,  -102.9973,       4392,   366.4,   6.3550,  34.2970,2,  34.2985,2,    272.4,2,   273.1,2,    7.00,2,   21.40,2,    0.01,2,    1.48,2,   4.192,2,   2.291,2,   1.5432,2,  2132.1,2,  2278.8,2,    736.0,2,    20.00,   7.7557,2,    25.00,-999.000,9,-999.0000,9, -999.00,9,    1.17,2,  -999.0,1,-999.000,9,-999.000,-999.000,9,-999.000,9, -999.00,9, -999.00,9, -999.00,9, -999.00,9, -999.00,9,-999.000,-999.0000,9,-999.0000,9,-999.0000,9,-999.0000,9,-999.0000,9,-999.0000,9,-999.0000,9,-999.0000,9,-999.0000,9,   6.3224,     -999.0,9,     -999.0,9,     -999.0,9,     -999.0,9,     -999.0,9,     -999.0,9,     -999.0,9,-999.0000, -999.00
33RO20071215,        P18,     135,          1,         15,      11015,2,20080203,       0113,   -49.6668,  -102.9973,       4392,   467.7,   6.1215,  34.2799,2,  34.2812,2,    271.3,2,   274.1,2,    7.60,2,   22.00,2,    0.01,2,    1.52,2,   4.159,2,   2.254,2,   1.4540,2,  2134.6,2,  2278.0,2,    737.9,2,    20.00,   7.7420,2,    25.00,-999.000,9,-999.0000,9, -999.00,9,    1.23,2,  -999.0,1,-999.000,9,-999.000,-999.000,9,-999.000,9, -999.00,9, -999.00,9, -999.00,9, -999.00,9, -999.00,9,-999.000,-999.0000,9,-999.0000,9,-999.0000,9,-999.0000,9,-999.0000,9,-999.0000,9,-999.0000,9,-999.0000,9,-999.0000,9,   6.0805,     -999.0,9,     -999.0,9,     -999.0,9,     -999.0,9,     -999.0,9,     -999.0,9,     -999.0,9,-999.0000, -999.00
33RO20071215,        P18,     135,          1,         14,      11014,2,20080203,       0113,   -49.6668,  -102.9973,       4392,   600.2,   5.7498,  34.2501,2,  34.2518,2,    264.4,2,   264.5,2,   10.10,2,   23.80,2,    0.01,2,    1.63,2,   3.948,2,   2.133,2,   1.3647,2,  2144.6,2,  2282.6,2,    779.5,2,    20.00,   7.7315,2,    25.00,-999.000,9,-999.0000,9, -999.00,9,    1.22,2,  -999.0,1,-999.000,9,-999.000,-999.000,9,-999.000,9, -999.00,9, -999.00,9, -999.00,9, -999.00,9, -999.00,9,-999.000,-999.0000,9,-999.0000,9,-999.0000,9,-999.0000,9,-999.0000,9,-999.0000,9,-999.0000,9,-999.0000,9,-999.0000,9,   5.6983,     -999.0,9,     -999.0,9,     -999.0,9,     -999.0,9,     -999.0,9,     -999.0,9,     -999.0,9,-999.0000, -999.00
33RO20071215,        P18,     135,          1,         13,      11013,2,20080203,       0113,   -49.6668,  -102.9973,       4392,   750.1,   5.2923,  34.2708,2,  34.2728,2,    232.4,2,   232.6,2,   17.50,2,   27.50,2,    0.01,2,    1.87,2,   3.068,2,   1.585,2,   0.8017,2,  2168.0,2,  2285.4,2,    883.2,2,    20.00,   7.6748,2,    25.00,-999.000,9,-999.0000,9, -999.00,9,    1.07,2,  -999.0,1,-999.000,9,-999.000,-999.000,9,-999.000,9, -999.00,9, -999.00,9, -999.00,9, -999.00,9, -999.00,9,-999.000,-999.0000,9,-999.0000,9,-999.0000,9,-999.0000,9,-999.0000,9,-999.0000,9,-999.0000,9,-999.0000,9,-999.0000,9,   5.2298,     -999.0,9,     -999.0,9,     -999.0,9,     -999.0,9,     -999.0,9,     -999.0,9,     -999.0,9,-999.0000, -999.00
33RO20071215,        P18,     135,          1,         12,      11012,2,20080203,       0113,   -49.6668,  -102.9973,       4392,   899.2,   4.6077,  34.2975,2,  34.3008,2,    214.9,2,   215.2,2,   27.00,2,   30.30,2,    0.01,2,    2.06,2,-999.000,9,-999.000,9,-999.0000,9,  2187.0,2,  2295.1,2,    976.0,2,    20.00,   7.6366,2,    25.00,-999.000,9,-999.0000,9, -999.00,9, -999.00,9,  -999.0,9,-999.000,9,-999.000,-999.000,9,-999.000,9, -999.00,9, -999.00,9, -999.00,9, -999.00,9, -999.00,9,-999.000,-999.0000,9,-999.0000,9,-999.0000,9,-999.0000,9,-999.0000,9,-999.0000,9,-999.0000,9,-999.0000,9,-999.0000,9,   4.5364,     -999.0,9,     -999.0,9,     -999.0,9,     -999.0,9,     -999.0,9,     -999.0,9,     -999.0,9,-999.0000, -999.00
33RO20071215,        P18,     135,          1,         11,      11010,2,20080203,       0113,   -49.6668,  -102.9973,       4392,  1049.2,   3.8299,  34.3213,2,  34.3238,2,    204.6,2,   204.1,2,   37.60,2,   32.30,2,    0.00,2,    2.21,2,   1.897,2,   0.944,2,   0.3114,2,  2203.6,2,  2300.5,2,   -999.0,9,  -999.00,   7.6147,2,    25.00,-999.000,9,-999.0000,9, -999.00,9,     0.7,2,  -999.0,1,-999.000,9,-999.000,-999.000,9,-999.000,9, -999.00,9, -999.00,9, -999.00,9, -999.00,9, -999.00,9,-999.000,-999.0000,9,-999.0000,9,-999.0000,9,-999.0000,9,-999.0000,9,-999.0000,9,-999.0000,9,-999.0000,9,-999.0000,9,   3.7518,     -999.0,9,     -999.0,9,     -999.0,9,     -999.0,9,     -999.0,9,     -999.0,9,     -999.0,9,-999.0000, -999.00
33RO20071215,        P18,     135,          1,         10,      11011,2,20080203,       0113,   -49.6668,  -102.9973,       4392,  1232.4,   3.2128,  34.3896,2,  34.3911,2,    189.7,2,   190.6,2,   51.90,2,   34.00,2,    0.00,2,    2.33,2,-999.000,9,-999.000,9,-999.0000,9,  2225.2,6,  -999.0,5,   1123.1,2,    20.00,   7.5789,2,    25.00,-999.000,9,-999.0000,9, -999.00,9, -999.00,9,  -999.0,9,-999.000,9,-999.000,-999.000,9,-999.000,9, -999.00,9, -999.00,9, -999.00,9, -999.00,9, -999.00,9,-999.000,-999.0000,9,-999.0000,9,-999.0000,9,-999.0000,9,-999.0000,9,-999.0000,9,-999.0000,9,-999.0000,9,-999.0000,9,   3.1251,     -999.0,9,     -999.0,9,     -999.0,9,     -999.0,9,     -999.0,9,     -999.0,9,     -999.0,9,-999.0000, -999.00
33RO20071215,        P18,     135,          1,          9,      11009,2,20080203,       0113,   -49.6668,  -102.9973,       4392,  1499.7,   2.7476,  34.4925,2,  34.4948,2,    175.0,2,   175.3,2,   67.70,2,   35.00,2,    0.00,2,    2.40,2,   0.896,2,   0.487,2,   0.2588,3,  2246.1,2,  -999.0,5,   1191.4,2,    20.00,   7.5633,2,    25.00,-999.000,9,-999.0000,9, -999.00,9,    0.45,2,  -999.0,1,-999.000,9,-999.000,-999.000,9,-999.000,9, -999.00,9, -999.00,9, -999.00,9, -999.00,9, -999.00,9,-999.000,-999.0000,9,-999.0000,9,-999.0000,9,-999.0000,9,-999.0000,9,-999.0000,9,-999.0000,9,-999.0000,9,-999.0000,9,   2.6429,     -999.0,9,     -999.0,9,     -999.0,9,     -999.0,9,     -999.0,9,     -999.0,9,     -999.0,9,-999.0000, -999.00
33RO20071215,        P18,     135,          1,          8,      11008,2,20080203,       0113,   -49.6668,  -102.9973,       4392,  1867.7,   2.4049,  34.6215,2,  34.6224,2,    168.1,2,   168.7,2,   83.50,2,   34.40,2,    0.00,2,    2.37,2,-999.000,9,-999.000,9,-999.0000,9,  2261.5,2,  2348.6,2,   1185.5,2,    20.00,   7.5665,2,    25.00,-999.000,9,-999.0000,9, -999.00,9,    0.31,2,  -999.0,1,-999.000,9,-999.000,-999.000,9,-999.000,9, -999.00,9, -999.00,9, -999.00,9, -999.00,9, -999.00,9,-999.000,-999.0000,9,-999.0000,9,-999.0000,9,-999.0000,9,-999.0000,9,-999.0000,9,-999.0000,9,-999.0000,9,-999.0000,9,   2.2737,     -999.0,9,     -999.0,9,     -999.0,9,     -999.0,9,     -999.0,9,     -999.0,9,     -999.0,9,-999.0000, -999.00
33RO20071215,        P18,     135,          1,          7,      11007,2,20080203,       0113,   -49.6668,  -102.9973,       4392,  2268.2,   2.1097,  34.6909,2,  34.6909,2,    172.7,2,   172.6,2,   94.70,2,   33.50,2,    0.00,2,    2.31,2,   0.065,2,   0.036,2,   0.0000,2,  2268.1,2,  2360.8,2,   -999.0,9,  -999.00,   7.5785,2,    25.00,-999.000,9,-999.0000,9, -999.00,9, -999.00,9,  -999.0,9,-999.000,9,-999.000,   0.089,3,-999.000,9, -999.00,9, -999.00,9, -999.00,9, -999.00,9, -999.00,9,-999.000,-999.0000,9,-999.0000,9,-999.0000,9,-999.0000,9,-999.0000,9,-999.0000,9,-999.0000,9,-999.0000,9,-999.0000,9,   1.9481,     -999.0,9,     -999.0,9,     -999.0,9,     -999.0,9,     -999.0,9,     -999.0,9,     -999.0,9,-999.0000, -999.00
33RO20071215,        P18,     135,          1,          6,      11006,2,20080203,       0113,   -49.6668,  -102.9973,       4392,  2667.0,   1.8061,  34.7065,2,  34.7084,2,    175.8,2,   175.8,2,  107.30,2,   33.60,2,    0.00,2,    2.31,2,-999.000,9,-999.000,9,-999.0000,9,  2276.1,2,  2376.6,4,   1129.6,6,    20.00,   7.5966,2,    25.00,-999.000,9,-999.0000,9, -999.00,9,    0.28,2,  -999.0,1,-999.000,9,-999.000,-999.000,9,-999.000,9, -999.00,9, -999.00,9, -999.00,9, -999.00,9, -999.00,9,-999.000,-999.0000,9,-999.0000,9,-999.0000,9,-999.0000,9,-999.0000,9,-999.0000,9,-999.0000,9,-999.0000,9,-999.0000,9,   1.6139,     -999.0,9,     -999.0,9,     -999.0,9,     -999.0,9,     -999.0,9,     -999.0,9,     -999.0,9,-999.0000, -999.00
33RO20071215,        P18,     135,          1,          5,      11005,2,20080203,       0113,   -49.6668,  -102.9973,       4392,  3054.0,   1.6281,  34.7130,2,  34.7138,2,    181.9,2,   182.0,2,  111.40,2,   33.30,2,    0.00,2,    2.29,2,   0.039,2,   0.024,2,   0.0000,2,  2275.6,6,  -999.0,5,   1106.9,2,    20.00,   7.5942,2,    25.00,-999.000,9,-999.0000,9, -999.00,9,     0.3,2,  -999.0,1,-999.000,9,-999.000,   0.043,3,-999.000,9, -999.00,9, -999.00,9, -999.00,9, -999.00,9, -999.00,9,-999.000,-999.0000,9,-999.0000,9,-999.0000,9,-999.0000,9,-999.0000,9,-999.0000,9,-999.0000,9,-999.0000,9,-999.0000,9,   1.4031,     -999.0,9,     -999.0,9,     -999.0,9,     -999.0,9,     -999.0,9,     -999.0,9,     -999.0,9,-999.0000, -999.00
33RO20071215,        P18,     135,          1,          4,      11004,2,20080203,       0113,   -49.6668,  -102.9973,       4392,  3465.6,   1.4031,  34.7171,2,  34.7194,2,    190.3,2,   191.3,2,  116.10,6,   33.00,6,    0.00,6,    2.27,2,-999.000,9,-999.000,9,-999.0000,9,  2270.8,2,  2370.9,2,   -999.0,9,  -999.00,   7.6006,2,    25.00,-999.000,9,-999.0000,9, -999.00,9,    0.39,2,  -999.0,1,-999.000,9,-999.000,-999.000,9,-999.000,9, -999.00,9, -999.00,9, -999.00,9, -999.00,9, -999.00,9,-999.000,-999.0000,9,-999.0000,9,-999.0000,9,-999.0000,9,-999.0000,9,-999.0000,9,-999.0000,9,-999.0000,9,-999.0000,9,   1.1426,     -999.0,9,     -999.0,9,     -999.0,9,     -999.0,9,     -999.0,9,     -999.0,9,     -999.0,9,-999.0000, -999.00
33RO20071215,        P18,     135,          1,          3,      11003,2,20080203,       0113,   -49.6668,  -102.9973,       4392,  3867.2,   0.9632,  34.7118,2,  34.7139,2,    200.2,2,   199.8,2,  128.30,6,   33.20,6,    0.00,6,    2.28,2,   0.002,2,   0.003,2,   0.0000,2,  2272.5,2,  2379.4,2,   1061.7,2,    20.00,   7.6193,2,    25.00,-999.000,9,-999.0000,9, -999.00,9,    0.31,2,  -999.0,1,-999.000,9,-999.000,   0.024,3,-999.000,9, -999.00,9, -999.00,9, -999.00,9, -999.00,9, -999.00,9,-999.000,-999.0000,9,-999.0000,9,-999.0000,9,-999.0000,9,-999.0000,9,-999.0000,9,-999.0000,9,-999.0000,9,-999.0000,9,   0.6731,     -999.0,9,     -999.0,9,     -999.0,9,     -999.0,9,     -999.0,9,     -999.0,9,     -999.0,9,-999.0000, -999.00
33RO20071215,        P18,     135,          1,          2,      11002,2,20080203,       0113,   -49.6668,  -102.9973,       4392,  4332.9,   0.8214,  34.7099,2,  34.7124,2,    205.2,2,   205.3,2,  133.10,6,   33.10,6,    0.00,6,    2.28,2,-999.000,9,-999.000,9,-999.0000,9,  2272.5,2,  2383.9,2,   -999.0,9,  -999.00,   7.6215,2,    25.00,-999.000,9,-999.0000,9, -999.00,9, -999.00,9,  -999.0,9,-999.000,9,-999.000,-999.000,9,-999.000,9, -999.00,9, -999.00,9, -999.00,9, -999.00,9, -999.00,9,-999.000,-999.0000,9,-999.0000,9,-999.0000,9,-999.0000,9,-999.0000,9,-999.0000,9,-999.0000,9,-999.0000,9,-999.0000,9,   0.4858,     -999.0,9,     -999.0,9,     -999.0,9,     -999.0,9,     -999.0,9,     -999.0,9,     -999.0,9,-999.0000, -999.00
33RO20071215,        P18,     135,          1,          1,      11001,2,20080203,       0113,   -49.6668,  -102.9973,       4392,  4361.4,   0.8225,  34.7100,2,  34.7129,2,    205.1,2,   205.0,2,  133.30,2,   33.20,2,    0.00,2,    2.28,2,   0.026,2,   0.018,2,   0.0000,2,  2273.4,6,  2383.6,2,   1056.6,2,    20.00,   7.6229,2,    25.00,-999.000,9,-999.0000,9, -999.00,9, -999.00,9,  -999.0,9,-999.000,9,-999.000,   0.050,3,-999.000,9, -999.00,9, -999.00,9, -999.00,9, -999.00,9, -999.00,9,-999.000,-999.0000,9,-999.0000,9,-999.0000,9,-999.0000,9,-999.0000,9,-999.0000,9,-999.0000,9,-999.0000,9,-999.0000,9,   0.4838,     -999.0,9,     -999.0,9,     -999.0,9,     -999.0,9,     -999.0,9,     -999.0,9,     -999.0,9,-999.0000, -999.00