BOTTLE,20220818CCHSIOAMB
EXPOCODE,SECT_ID,STNNBR,CASTNO,SAMPNO,BTLNBR,BTLNBR_FLAG_W,DATE,TIME,LATITUDE,LONGITUDE,DEPTH,CTDPRS,CTDTMP,CTDSAL,CTDSAL_FLAG_W,SALNTY,SALNTY_FLAG_W,CTDOXY,CTDOXY_FLAG_W,OXYGEN,OXYGEN_FLAG_W,SILCAT,SILCAT_FLAG_W,NITRAT,NITRAT_FLAG_W,NITRIT,NITRIT_FLAG_W,PHSPHT,PHSPHT_FLAG_W,CFC-11,CFC-11_FLAG_W,CFC-12,CFC-12_FLAG_W,SF6,SF6_FLAG_W,TCARBN,TCARBN_FLAG_W,ALKALI,ALKALI_FLAG_W,FCO2,FCO2_FLAG_W,FCO2TMP,PH_SWS,PH_SWS_FLAG_W,PH_TMP,TRITUM,TRITUM_FLAG_W,HELIUM,HELIUM_FLAG_W,DELHE3,DELHE3_FLAG_W,DELC13,DELC13_FLAG_W,DELC14,DELC14_FLAG_W,NEON,NEON_FLAG_W,NEONER,CCL4,CCL4_FLAG_W,POC,POC_FLAG_W,DOC,DOC_FLAG_W,TDN,TDN_FLAG_W,DON,DON_FLAG_W,CHLORA,CHLORA_FLAG_W,ARGON,ARGON_FLAG_W,TRITER,CDOM325,CDOM325_FLAG_W,CDOM340,CDOM340_FLAG_W,CDOM380,CDOM380_FLAG_W,CDOM412,CDOM412_FLAG_W,CDOM443,CDOM443_FLAG_W,CDOM490,CDOM490_FLAG_W,CDOM555,CDOM555_FLAG_W,CDOMSL,CDOMSL_FLAG_W,CDOMSN,CDOMSN_FLAG_W,THETA,D18O_NO3,D18O_NO3_FLAG_W,CDOM2C,CDOM2C_FLAG_W,CDOM3C,CDOM3C_FLAG_W,LAB_DEN,LAB_DEN_FLAG_W,DELSI30,DELSI30_FLAG_W,N2,N2_FLAG_W,D15N_NO3,D15N_NO3_FLAG_W,HELIER,DELHER
,,,,,,,,,,,METERS,DBAR,ITS-90,PSS-78,,PSS-78,,UMOL/KG,,UMOL/KG,,UMOL/KG,,UMOL/KG,,UMOL/KG,,UMOL/KG,,PMOL/KG,,PMOL/KG,,FMOL/KG,,UMOL/KG,,UMOL/KG,,UATM,,DEG C,,,DEG C,TU,,NMOL/KG,,PERCNT,,/MILLE,,/MILLE,,NMOL/KG,,NMOL/KG,PMOL/KG,,UG/KG,,UMOL/KG,,UMOL/KG,,UMOL/KG,,UG/KG,,UMOL/KG,,TU,1/M,,1/M,,1/M,,1/M,,1/M,,1/M,,1/M,,1/NM,,1/NM,,DEG C,/MILLE,,,,,,,,/MILLE,,UMOL/KG,,/MILLE,,NMOL/KG,PERCNT
33RO20071215,        P18,     134,          1,         24,      11024,2,20080202,       1748,   -48.9405,  -103.0658,       4100,     4.5,  10.0737,  34.1318,2,  34.1342,2,    278.1,2,   279.5,2,    1.80,2,   15.80,2,    0.22,2,    1.18,2,   3.745,2,   2.131,2,   1.6623,2,  2091.7,6,  2271.5,2,   -999.0,9,  -999.00,   7.8340,2,    25.00,-999.000,9,-999.0000,9, -999.00,9, -999.00,9,  -999.0,9,-999.000,9,-999.000,-999.000,9,-999.000,9,   50.85,2,   20.12,2, -999.00,9,    0.14,2, -999.00,9,-999.000,   0.0590,2,   0.0364,2,   0.0146,2,   0.0106,2,   0.0055,2,   0.0012,2,  -0.0013,4,   0.0195,2,   0.0261,2,  10.0732,     -999.0,9,     -999.0,9,     -999.0,9,     -999.0,1,     -999.0,9,     -999.0,9,     -999.0,9,-999.0000, -999.00
33RO20071215,        P18,     134,          1,         23,      11023,2,20080202,       1748,   -48.9405,  -103.0658,       4100,    33.2,  10.0442,  34.1311,2,  34.1342,2,    278.9,2,   279.6,2,    1.80,2,   15.70,2,    0.22,2,    1.18,2,   3.724,2,   2.119,2,   1.6747,2,  2091.1,2,  2275.6,2,   -999.0,9,  -999.00,   7.8387,2,    25.00,-999.000,9,-999.0000,9, -999.00,9, -999.00,9,  -999.0,9,-999.000,9,-999.000,-999.000,9,-999.000,9,   50.10,2,   20.41,2, -999.00,9,    0.15,2, -999.00,9,-999.000,   0.0578,2,   0.0353,2,   0.0140,2,   0.0104,2,   0.0056,2,   0.0017,2,  -0.0008,4,   0.0198,2,   0.0264,2,  10.0404,     -999.0,9,     -999.0,9,     -999.0,9,     -999.0,1,     -999.0,9,     -999.0,9,     -999.0,9,-999.0000, -999.00
33RO20071215,        P18,     134,          1,         22,      11022,2,20080202,       1748,   -48.9405,  -103.0658,       4100,    58.3,   9.9353,  34.1297,2,  34.1331,2,    279.9,2,   280.4,2,    1.80,2,   15.80,2,    0.21,2,    1.19,2,   3.761,2,   2.133,2,   1.6678,2,  2091.3,2,  2275.5,2,   -999.0,9,  -999.00,   7.8342,2,    25.00,-999.000,9,-999.0000,9, -999.00,9, -999.00,9,  -999.0,9,-999.000,9,-999.000,-999.000,9,-999.000,9,   49.96,2,   19.21,2, -999.00,9,    0.13,2, -999.00,9,-999.000,   0.0601,2,   0.0369,2,   0.0155,2,   0.0118,2,   0.0069,2,   0.0030,2,   0.0004,3,   0.0180,2,   0.0243,2,   9.9287,     -999.0,9,     -999.0,9,     -999.0,9,     -999.0,1,     -999.0,9,     -999.0,9,     -999.0,9,-999.0000, -999.00
33RO20071215,        P18,     134,          1,         21,      11021,2,20080202,       1748,   -48.9405,  -103.0658,       4100,    82.0,   8.3841,  34.1539,2,  34.1564,2,    290.9,2,   290.4,2,    2.00,2,   16.10,2,    0.19,2,    1.22,2,   4.053,2,   2.280,2,   1.8619,2,  2097.5,2,  2278.6,2,   -999.0,9,  -999.00,   7.8050,2,    25.00,-999.000,9,-999.0000,9, -999.00,9, -999.00,9,  -999.0,9,-999.000,9,-999.000,-999.000,9,-999.000,9,   49.51,2,   19.78,2, -999.00,9,    0.17,2, -999.00,9,-999.000,   0.0719,2,   0.0457,2,   0.0211,2,   0.0153,2,   0.0087,2,   0.0035,2,   0.0004,3,   0.0163,2,   0.0208,2,   8.3757,     -999.0,9,     -999.0,9,     -999.0,9,     -999.0,1,     -999.0,9,     -999.0,9,     -999.0,9,-999.0000, -999.00
33RO20071215,        P18,     134,          1,         20,      11020,2,20080202,       1748,   -48.9405,  -103.0658,       4100,   108.8,   7.2477,  34.1662,2,  34.1705,2,    291.6,2,   292.9,2,    2.50,2,   16.90,2,    0.23,2,    1.27,2,   4.214,2,   2.360,2,   1.8048,2,  2104.1,2,  2274.7,2,   -999.0,9,  -999.00,   7.8010,2,    25.00,-999.000,9,-999.0000,9, -999.00,9, -999.00,9,  -999.0,9,-999.000,9,-999.000,-999.000,9,-999.000,9,   49.28,2,   20.57,2, -999.00,9,    0.17,2, -999.00,9,-999.000,   0.0687,2,   0.0436,2,   0.0204,2,   0.0148,2,   0.0078,2,   0.0020,2,  -0.0008,4,   0.0164,2,   0.0207,2,   7.2375,     -999.0,9,     -999.0,9,     -999.0,9,     -999.0,1,     -999.0,9,     -999.0,9,     -999.0,9,-999.0000, -999.00
33RO20071215,        P18,     134,          1,         19,      11019,2,20080202,       1748,   -48.9405,  -103.0658,       4100,   141.5,   7.0266,  34.1788,2,  34.1824,2,    291.8,2,   290.5,2,    2.80,2,   17.40,2,    0.26,2,    1.31,2,   4.258,2,   2.384,2,   1.8349,2,  2108.3,2,  2271.0,2,   -999.0,9,  -999.00,   7.7826,2,    25.00,-999.000,9,-999.0000,9, -999.00,9, -999.00,9,  -999.0,9,-999.000,9,-999.000,-999.000,9,-999.000,9,   47.97,2,   20.69,2, -999.00,9,    0.14,2, -999.00,9,-999.000,   0.0666,2,   0.0421,2,   0.0201,2,   0.0149,2,   0.0083,2,   0.0030,2,  -0.0002,4,   0.0158,2,   0.0201,2,   7.0136,     -999.0,9,     -999.0,9,     -999.0,9,     -999.0,1,     -999.0,9,     -999.0,9,     -999.0,9,-999.0000, -999.00
33RO20071215,        P18,     134,          1,         18,      11018,2,20080202,       1748,   -48.9405,  -103.0658,       4100,   192.1,   6.7290,  34.2584,2,  34.2646,2,    276.4,2,   275.3,2,    4.80,2,   19.80,2,    0.01,2,    1.42,2,   4.271,2,   2.362,2,   1.6124,2,  2123.8,2,  2276.3,2,   -999.0,9,  -999.00,   7.7506,2,    25.00,-999.000,9,-999.0000,9, -999.00,9, -999.00,9,  -999.0,9,-999.000,9,-999.000,-999.000,9,-999.000,9,   45.34,2,   22.62,2, -999.00,9,    0.05,2, -999.00,9,-999.000,   0.0722,2,   0.0459,2,   0.0225,2,   0.0175,2,   0.0101,2,   0.0048,2,   0.0014,2,   0.0147,2,   0.0188,2,   6.7116,     -999.0,9,     -999.0,9,     -999.0,9,     -999.0,1,     -999.0,9,     -999.0,9,     -999.0,9,-999.0000, -999.00
33RO20071215,        P18,     134,          1,         17,      11017,2,20080202,       1748,   -48.9405,  -103.0658,       4100,   273.7,   6.6053,  34.3147,2,  34.3168,2,    270.1,2,   269.8,2,    6.30,2,   20.60,2,    0.01,2,    1.47,2,   4.199,2,   2.294,2,   1.5762,2,  2132.2,2,  2285.5,2,   -999.0,9,  -999.00,   7.7522,2,    25.00,-999.000,9,-999.0000,9, -999.00,9, -999.00,9,  -999.0,9,-999.000,9,-999.000,-999.000,9,-999.000,9,   44.31,2,   22.40,2, -999.00,9, -999.00,9, -999.00,9,-999.000,   0.0534,2,   0.0279,2,   0.0075,2,   0.0057,2,   0.0024,2,   0.0024,3,   0.0019,2,   0.0398,2,   0.0417,2,   6.5806,     -999.0,9,     -999.0,9,     -999.0,9,     -999.0,1,     -999.0,9,     -999.0,9,     -999.0,9,-999.0000, -999.00
33RO20071215,        P18,     134,          1,         16,      11016,2,20080202,       1748,   -48.9405,  -103.0658,       4100,   348.8,   6.4282,  34.3035,2,  34.3061,2,    270.9,2,   270.4,2,    6.80,2,   21.10,2,    0.00,2,    1.50,2,   4.184,2,   2.279,2,   1.4696,2,  2134.3,2,  2286.5,2,   -999.0,9,  -999.00,   7.7546,2,    25.00,-999.000,9,-999.0000,9, -999.00,9, -999.00,9,  -999.0,9,-999.000,9,-999.000,-999.000,9,-999.000,9,   43.49,2,   22.52,2, -999.00,9, -999.00,9, -999.00,9,-999.000,   0.0543,2,   0.0293,2,   0.0093,2,   0.0067,2,   0.0026,2,   0.0015,3,   0.0006,3,   0.0348,2,   0.0381,2,   6.3970,     -999.0,9,     -999.0,9,     -999.0,9,     -999.0,1,     -999.0,9,     -999.0,9,     -999.0,9,-999.0000, -999.00
33RO20071215,        P18,     134,          1,         15,      11015,2,20080202,       1748,   -48.9405,  -103.0658,       4100,   432.4,   6.2510,  34.2936,2,  34.2971,2,    271.0,2,   271.1,2,    7.30,2,   21.70,2,    0.00,2,    1.53,2,   4.157,2,   2.245,2,   1.4342,2,  2136.6,2,  2286.2,2,   -999.0,9,  -999.00,   7.7399,2,    25.00,-999.000,9,-999.0000,9, -999.00,9, -999.00,9,  -999.0,9,-999.000,9,-999.000,-999.000,9,-999.000,9,   42.68,2,   22.89,2, -999.00,9, -999.00,9, -999.00,9,-999.000,   0.0562,2,   0.0314,2,   0.0113,2,   0.0079,2,   0.0032,2,   0.0011,3,   0.0000,4,   0.0283,2,   0.0335,2,   6.2127,     -999.0,9,     -999.0,9,     -999.0,9,     -999.0,1,     -999.0,9,     -999.0,9,     -999.0,9,-999.0000, -999.00
33RO20071215,        P18,     134,          1,         14,      11014,2,20080202,       1748,   -48.9405,  -103.0658,       4100,   530.1,   6.0189,  34.2736,2,  34.2755,2,    268.1,2,   268.2,2,    8.40,2,   22.60,2,    0.00,2,    1.59,2,   4.055,2,   2.179,2,   1.3630,2,  2139.2,2,  2281.6,2,   -999.0,9,  -999.00,   7.7340,2,    25.00,-999.000,9,-999.0000,9, -999.00,9, -999.00,9,  -999.0,9,-999.000,9,-999.000,-999.000,9,-999.000,9,   41.87,2,   24.03,2, -999.00,9, -999.00,9, -999.00,9,-999.000,   0.0619,2,   0.0363,2,   0.0150,2,   0.0105,2,   0.0049,2,   0.0014,3,  -0.0004,4,   0.0203,2,   0.0265,2,   5.9725,     -999.0,9,     -999.0,9,     -999.0,9,     -999.0,1,     -999.0,9,     -999.0,9,     -999.0,9,-999.0000, -999.00
33RO20071215,        P18,     134,          1,         13,      11013,2,20080202,       1748,   -48.9405,  -103.0658,       4100,   700.6,   5.5046,  34.2636,2,  34.2670,2,    242.0,2,   242.5,2,   14.20,2,   25.90,2,    0.00,2,    1.81,2,   3.370,2,   1.750,2,   0.8951,2,  2157.9,2,  2283.0,2,   -999.0,9,  -999.00,   7.6972,2,    25.00,-999.000,9,-999.0000,9, -999.00,9, -999.00,9,  -999.0,9,-999.000,9,-999.000,-999.000,9,-999.000,9,   41.33,2,   27.07,2, -999.00,9, -999.00,9, -999.00,9,-999.000,   0.0719,2,   0.0439,2,   0.0197,2,   0.0135,2,   0.0069,2,   0.0018,2,  -0.0006,4,   0.0180,2,   0.0231,2,   5.4453,     -999.0,9,     -999.0,9,     -999.0,9,     -999.0,1,     -999.0,9,     -999.0,9,     -999.0,9,-999.0000, -999.00
33RO20071215,        P18,     134,          1,         12,      11012,2,20080202,       1748,   -48.9405,  -103.0658,       4100,   848.9,   4.8976,  34.2870,2,  34.2878,2,    220.1,2,   220.2,2,   22.60,2,   28.90,2,    0.00,2,    2.02,2,   2.493,2,   1.260,2,   0.4987,2,  2177.6,2,  2290.9,2,   -999.0,9,  -999.00,   7.6507,2,    25.00,-999.000,9,-999.0000,9, -999.00,9, -999.00,9,  -999.0,9,-999.000,9,-999.000,-999.000,9,-999.000,9,   40.76,2,   30.20,2, -999.00,9, -999.00,9, -999.00,9,-999.000,   0.0837,2,   0.0530,2,   0.0258,2,   0.0177,2,   0.0095,2,   0.0026,2,  -0.0007,4,   0.0165,2,   0.0201,2,   4.8288,     -999.0,9,     -999.0,9,     -999.0,9,     -999.0,1,     -999.0,9,     -999.0,9,     -999.0,9,-999.0000, -999.00
33RO20071215,        P18,     134,          1,         11,      11010,2,20080202,       1748,   -48.9405,  -103.0658,       4100,   999.4,   4.1095,  34.3116,2,  34.3115,2,    207.3,2,   207.8,2,   33.50,2,   31.30,2,    0.00,2,    2.19,2,   1.940,2,   0.974,2,   0.3133,2,  2197.5,2,  2300.4,2,   -999.0,9,  -999.00,   7.6138,2,    25.00,-999.000,9,-999.0000,9, -999.00,9, -999.00,9,  -999.0,9,-999.000,9,-999.000,-999.000,9,-999.000,9,   39.70,2,   32.47,2, -999.00,9, -999.00,9, -999.00,9,-999.000,   0.0906,2,   0.0579,2,   0.0286,2,   0.0196,2,   0.0106,2,   0.0029,2,  -0.0006,4,   0.0164,2,   0.0196,2,   4.0334,     -999.0,9,     -999.0,9,     -999.0,9,     -999.0,1,     -999.0,9,     -999.0,9,     -999.0,9,-999.0000, -999.00
33RO20071215,        P18,     134,          1,         10,      11011,2,20080202,       1748,   -48.9405,  -103.0658,       4100,  1164.9,   3.4178,  34.3579,2,  34.3588,2,    196.3,2,   196.2,2,   46.10,2,   33.20,2,    0.00,2,    2.31,2,   1.423,2,   0.708,2,   0.2712,2,  2216.3,6,  2311.2,2,   -999.0,9,  -999.00,   7.5934,2,    25.00,-999.000,9,-999.0000,9, -999.00,9, -999.00,9,  -999.0,9,-999.000,9,-999.000,-999.000,9,-999.000,9,   39.59,2,   34.59,2, -999.00,9, -999.00,9, -999.00,9,-999.000,   0.1019,2,   0.0668,2,   0.0342,2,   0.0239,2,   0.0135,2,   0.0041,2,  -0.0002,4,   0.0157,2,   0.0181,2,   3.3337,     -999.0,9,     -999.0,9,     -999.0,9,     -999.0,1,     -999.0,9,     -999.0,9,     -999.0,9,-999.0000, -999.00
33RO20071215,        P18,     134,          1,          9,      11009,2,20080202,       1748,   -48.9405,  -103.0658,       4100,  1398.6,   2.8720,  34.4558,2,  34.4555,2,    178.6,2,   179.6,2,   62.60,2,   34.60,2,    0.00,2,    2.42,2,   0.733,2,   0.379,2,   0.0659,2,  2239.9,2,  2326.9,2,   -999.0,9,  -999.00,   7.5694,2,    25.00,-999.000,9,-999.0000,9, -999.00,9, -999.00,9,  -999.0,9,-999.000,9,-999.000,-999.000,9,-999.000,9,   39.39,2,   36.01,2, -999.00,9, -999.00,9, -999.00,9,-999.000,   0.1158,2,   0.0777,2,   0.0407,2,   0.0283,2,   0.0165,2,   0.0058,2,   0.0007,2,   0.0155,2,   0.0173,2,   2.7742,     -999.0,9,     -999.0,9,     -999.0,9,     -999.0,1,     -999.0,9,     -999.0,9,     -999.0,9,-999.0000, -999.00
33RO20071215,        P18,     134,          1,          8,      11008,2,20080202,       1748,   -48.9405,  -103.0658,       4100,  1732.4,   2.4975,  34.5870,2,  34.5865,2,    168.5,2,   169.0,2,   79.30,2,   34.30,2,    0.00,2,    2.42,2,   0.249,2,   0.132,2,   0.0000,2,  2259.7,2,  2349.6,2,   -999.0,9,  -999.00,   7.5613,2,    25.00,-999.000,9,-999.0000,9, -999.00,9, -999.00,9,  -999.0,9,-999.000,9,-999.000,-999.000,9,-999.000,9,   38.70,2,   35.73,2, -999.00,9, -999.00,9, -999.00,9,-999.000,   0.1179,2,   0.0788,2,   0.0399,2,   0.0269,2,   0.0152,2,   0.0045,2,  -0.0002,4,   0.0164,2,   0.0183,2,   2.3765,     -999.0,9,     -999.0,9,     -999.0,9,     -999.0,1,     -999.0,9,     -999.0,9,     -999.0,9,-999.0000, -999.00
33RO20071215,        P18,     134,          1,          7,      11007,2,20080202,       1748,   -48.9405,  -103.0658,       4100,  2132.3,   2.1835,  34.6722,2,  34.6723,2,    169.1,2,   169.6,2,   93.00,2,   33.60,2,    0.00,2,    2.37,2,   0.061,2,   0.033,2,   0.0000,2,  2268.8,2,  2365.7,4,   -999.0,9,  -999.00,   7.5704,2,    25.00,-999.000,9,-999.0000,9, -999.00,9, -999.00,9,  -999.0,9,-999.000,9,-999.000,   0.093,3,-999.000,9,   39.14,2,   35.22,2, -999.00,9, -999.00,9, -999.00,9,-999.000,   0.1204,2,   0.0808,2,   0.0403,2,   0.0266,2,   0.0151,2,   0.0047,2,   0.0001,4,   0.0166,2,   0.0185,2,   2.0327,     -999.0,9,     -999.0,9,     -999.0,9,     -999.0,1,     -999.0,9,     -999.0,9,     -999.0,9,-999.0000, -999.00
33RO20071215,        P18,     134,          1,          6,      11006,2,20080202,       1748,   -48.9405,  -103.0658,       4100,  2532.9,   1.8916,  34.7011,2,  34.7010,2,    173.1,2,   173.5,2,  104.70,2,   33.40,2,    0.00,2,    2.35,2,   0.030,2,   0.017,2,   0.0000,2,  2275.9,2,  2378.0,4,   -999.0,9,  -999.00,   7.5963,2,    25.00,-999.000,9,-999.0000,9, -999.00,9, -999.00,9,  -999.0,9,-999.000,9,-999.000,   0.050,3,-999.000,9,   39.39,2,   34.39,2, -999.00,9, -999.00,9, -999.00,9,-999.000,   0.1190,2,   0.0795,2,   0.0396,2,   0.0258,2,   0.0146,2,   0.0045,2,   0.0000,4,   0.0168,2,   0.0187,2,   1.7102,     -999.0,9,     -999.0,9,     -999.0,9,     -999.0,1,     -999.0,9,     -999.0,9,     -999.0,9,-999.0000, -999.00
33RO20071215,        P18,     134,          1,          5,      11005,2,20080202,       1748,   -48.9405,  -103.0658,       4100,  2934.3,   1.6619,  34.7086,2,  34.7100,2,    178.7,2,   178.7,2,  111.80,2,   33.40,2,    0.00,2,    2.34,2,   0.012,2,   0.007,2,   0.0000,2,  2278.0,6,  2374.4,2,   -999.0,9,  -999.00,   7.5981,2,    25.00,-999.000,9,-999.0000,9, -999.00,9, -999.00,9,  -999.0,9,-999.000,9,-999.000,   0.029,3,-999.000,9,   39.08,2,   34.71,2, -999.00,9, -999.00,9, -999.00,9,-999.000,   0.1192,2,   0.0796,2,   0.0397,2,   0.0257,2,   0.0148,2,   0.0051,2,   0.0004,4,   0.0167,2,   0.0187,2,   1.4476,     -999.0,9,     -999.0,9,     -999.0,9,     -999.0,1,     -999.0,9,     -999.0,9,     -999.0,9,-999.0000, -999.00
33RO20071215,        P18,     134,          1,          4,      11004,2,20080202,       1748,   -48.9405,  -103.0658,       4100,  3331.6,   1.5055,  34.7146,2,  34.7138,2,    186.0,2,   186.1,2,  114.60,6,   32.90,6,    0.00,6,    2.31,2,   0.023,2,   0.014,2,   0.0000,2,  2273.2,2,  2373.5,2,   -999.0,9,  -999.00,   7.5813,2,    25.00,-999.000,9,-999.0000,9, -999.00,9, -999.00,9,  -999.0,9,-999.000,9,-999.000,   0.041,3,-999.000,9,   38.81,2,   34.47,2, -999.00,9, -999.00,9, -999.00,9,-999.000,   0.1170,2,   0.0776,2,   0.0382,2,   0.0246,2,   0.0137,2,   0.0040,2,  -0.0002,4,   0.0171,2,   0.0192,2,   1.2560,     -999.0,9,     -999.0,9,     -999.0,9,     -999.0,1,     -999.0,9,     -999.0,9,     -999.0,9,-999.0000, -999.00
33RO20071215,        P18,     134,          1,          3,      11003,2,20080202,       1748,   -48.9405,  -103.0658,       4100,  3734.3,   1.1146,  34.7121,2,  34.7138,2,    195.6,2,   195.7,2,  125.00,6,   33.10,6,    0.00,6,    2.31,2,   0.119,3,   0.074,3,   0.0000,2,  2273.6,2,  2370.7,2,   -999.0,9,  -999.00,   7.6139,2,    25.00,-999.000,9,-999.0000,9, -999.00,9, -999.00,9,  -999.0,9,-999.000,9,-999.000,   0.117,3,-999.000,9,   38.95,2,   34.54,2, -999.00,9, -999.00,9, -999.00,9,-999.000,   0.1126,2,   0.0738,2,   0.0357,2,   0.0224,2,   0.0119,2,   0.0028,3,  -0.0010,4,   0.0177,2,   0.0200,2,   0.8342,     -999.0,9,     -999.0,9,     -999.0,9,     -999.0,1,     -999.0,9,     -999.0,9,     -999.0,9,-999.0000, -999.00
33RO20071215,        P18,     134,          1,          2,      11002,2,20080202,       1748,   -48.9405,  -103.0658,       4100,  3942.7,   0.9094,  34.7109,2,  34.7123,2,    201.2,2,   201.6,2,  129.70,6,   33.00,6,    0.00,6,    2.31,2,   0.007,2,   0.005,2,   0.0000,2,  2272.0,2,  2386.0,4,   -999.0,9,  -999.00,   7.6138,2,    25.00,-999.000,9,-999.0000,9, -999.00,9, -999.00,9,  -999.0,1,-999.000,9,-999.000,   0.036,3,-999.000,9,   39.54,2,   34.40,2, -999.00,9, -999.00,9, -999.00,9,-999.000,   0.1116,2,   0.0732,2,   0.0354,2,   0.0226,2,   0.0120,2,   0.0031,2,  -0.0008,4,   0.0176,2,   0.0199,2,   0.6130,     -999.0,9,     -999.0,9,     -999.0,9,     -999.0,1,     -999.0,9,     -999.0,9,     -999.0,9,-999.0000, -999.00
33RO20071215,        P18,     134,          1,          1,      11001,2,20080202,       1748,   -48.9405,  -103.0658,       4100,  4154.3,   0.7842,  34.7094,2,  34.7104,2,    205.0,2,   204.3,2,  133.20,2,   33.20,2,    0.01,2,    2.30,2,   0.009,6,   0.006,6,   0.0000,6,  2273.2,6,  2383.4,2,   -999.0,9,  -999.00,   7.6111,2,    25.00,-999.000,9,-999.0000,9, -999.00,9, -999.00,9,  -999.0,9,-999.000,9,-999.000,   0.057,3,-999.000,9,   39.67,2,   34.40,2, -999.00,9, -999.00,9, -999.00,9,-999.000,   0.1184,2,   0.0787,2,   0.0386,2,   0.0249,2,   0.0139,2,   0.0045,2,   0.0001,4,   0.0171,2,   0.0192,2,   0.4691,     -999.0,9,     -999.0,9,     -999.0,9,     -999.0,1,     -999.0,9,     -999.0,9,     -999.0,9,-999.0000, -999.00