BOTTLE,20220818CCHSIOAMB
EXPOCODE,SECT_ID,STNNBR,CASTNO,SAMPNO,BTLNBR,BTLNBR_FLAG_W,DATE,TIME,LATITUDE,LONGITUDE,DEPTH,CTDPRS,CTDTMP,CTDSAL,CTDSAL_FLAG_W,SALNTY,SALNTY_FLAG_W,CTDOXY,CTDOXY_FLAG_W,OXYGEN,OXYGEN_FLAG_W,SILCAT,SILCAT_FLAG_W,NITRAT,NITRAT_FLAG_W,NITRIT,NITRIT_FLAG_W,PHSPHT,PHSPHT_FLAG_W,CFC-11,CFC-11_FLAG_W,CFC-12,CFC-12_FLAG_W,SF6,SF6_FLAG_W,TCARBN,TCARBN_FLAG_W,ALKALI,ALKALI_FLAG_W,FCO2,FCO2_FLAG_W,FCO2TMP,PH_SWS,PH_SWS_FLAG_W,PH_TMP,TRITUM,TRITUM_FLAG_W,HELIUM,HELIUM_FLAG_W,DELHE3,DELHE3_FLAG_W,DELC13,DELC13_FLAG_W,DELC14,DELC14_FLAG_W,NEON,NEON_FLAG_W,NEONER,CCL4,CCL4_FLAG_W,POC,POC_FLAG_W,DOC,DOC_FLAG_W,TDN,TDN_FLAG_W,DON,DON_FLAG_W,CHLORA,CHLORA_FLAG_W,ARGON,ARGON_FLAG_W,TRITER,CDOM325,CDOM325_FLAG_W,CDOM340,CDOM340_FLAG_W,CDOM380,CDOM380_FLAG_W,CDOM412,CDOM412_FLAG_W,CDOM443,CDOM443_FLAG_W,CDOM490,CDOM490_FLAG_W,CDOM555,CDOM555_FLAG_W,CDOMSL,CDOMSL_FLAG_W,CDOMSN,CDOMSN_FLAG_W,THETA,D18O_NO3,D18O_NO3_FLAG_W,CDOM2C,CDOM2C_FLAG_W,CDOM3C,CDOM3C_FLAG_W,LAB_DEN,LAB_DEN_FLAG_W,DELSI30,DELSI30_FLAG_W,N2,N2_FLAG_W,D15N_NO3,D15N_NO3_FLAG_W,HELIER,DELHER
,,,,,,,,,,,METERS,DBAR,ITS-90,PSS-78,,PSS-78,,UMOL/KG,,UMOL/KG,,UMOL/KG,,UMOL/KG,,UMOL/KG,,UMOL/KG,,PMOL/KG,,PMOL/KG,,FMOL/KG,,UMOL/KG,,UMOL/KG,,UATM,,DEG C,,,DEG C,TU,,NMOL/KG,,PERCNT,,/MILLE,,/MILLE,,NMOL/KG,,NMOL/KG,PMOL/KG,,UG/KG,,UMOL/KG,,UMOL/KG,,UMOL/KG,,UG/KG,,UMOL/KG,,TU,1/M,,1/M,,1/M,,1/M,,1/M,,1/M,,1/M,,1/NM,,1/NM,,DEG C,/MILLE,,,,,,,,/MILLE,,UMOL/KG,,/MILLE,,NMOL/KG,PERCNT
33RO20071215,        P18,     111,          1,         36,      12017,2,20080126,       1039,   -35.6667,  -103.0000,       3375,     5.3,  21.8114,  34.4182,2,  34.4214,2,    225.2,2,   225.6,2,    0.40,2,    1.60,2,    0.03,2,    0.22,2,-999.000,9,-999.000,9,-999.0000,9,  2023.9,6,  2280.2,2,   -999.0,9,  -999.00,   7.9636,2,    25.00,-999.000,9,-999.0000,9, -999.00,9, -999.00,9,  -999.0,9,-999.000,9,-999.000,-999.000,9,-999.000,9, -999.00,9, -999.00,9, -999.00,9, -999.00,9, -999.00,9,-999.000,-999.0000,9,-999.0000,9,-999.0000,9,-999.0000,9,-999.0000,9,-999.0000,9,-999.0000,9,-999.0000,9,-999.0000,9,  21.8103,     -999.0,9,     -999.0,9,     -999.0,9,     -999.0,9,     -999.0,9,     -999.0,9,     -999.0,9,-999.0000, -999.00
33RO20071215,        P18,     111,          1,         35,      12029,2,20080126,       1039,   -35.6667,  -103.0000,       3375,    10.1,  21.8184,  34.4181,2,  34.4190,2,    225.3,2,   225.3,2,    0.40,2,    1.60,2,    0.03,2,    0.22,2,-999.000,9,-999.000,9,-999.0000,9,  2024.6,2,  2280.2,4,   -999.0,9,  -999.00,   7.8892,2,    25.00,-999.000,9,-999.0000,9, -999.00,9, -999.00,9,  -999.0,9,-999.000,9,-999.000,-999.000,9,-999.000,9, -999.00,9, -999.00,9, -999.00,9, -999.00,9, -999.00,9,-999.000,-999.0000,9,-999.0000,9,-999.0000,9,-999.0000,9,-999.0000,9,-999.0000,9,-999.0000,9,-999.0000,9,-999.0000,9,  21.8164,     -999.0,9,     -999.0,9,     -999.0,9,     -999.0,9,     -999.0,9,     -999.0,9,     -999.0,9,-999.0000, -999.00
33RO20071215,        P18,     111,          1,         34,      12049,2,20080126,       1039,   -35.6667,  -103.0000,       3375,    17.0,  21.8131,  34.4181,2,  34.4177,2,    225.6,2,   226.5,2,    0.40,2,    1.60,2,    0.03,2,    0.22,2,-999.000,9,-999.000,9,-999.0000,9,  2024.7,2,  2278.5,2,   -999.0,9,  -999.00,   7.9706,2,    25.00,-999.000,9,-999.0000,9, -999.00,9, -999.00,9,  -999.0,9,-999.000,9,-999.000,-999.000,9,-999.000,9, -999.00,9, -999.00,9, -999.00,9, -999.00,9, -999.00,9,-999.000,-999.0000,9,-999.0000,9,-999.0000,9,-999.0000,9,-999.0000,9,-999.0000,9,-999.0000,9,-999.0000,9,-999.0000,9,  21.8097,     -999.0,9,     -999.0,9,     -999.0,9,     -999.0,9,     -999.0,9,     -999.0,9,     -999.0,9,-999.0000, -999.00
33RO20071215,        P18,     111,          1,         33,      12027,2,20080126,       1039,   -35.6667,  -103.0000,       3375,    33.0,  20.3940,  34.3408,2,  34.3028,2,    238.3,2,   246.6,2,    0.50,2,    2.20,2,    0.03,2,    0.26,2,-999.000,9,-999.000,9,-999.0000,9,  2026.1,2,  2273.5,2,   -999.0,9,  -999.00,   7.9511,2,    25.00,-999.000,9,-999.0000,9, -999.00,9, -999.00,9,  -999.0,9,-999.000,9,-999.000,-999.000,9,-999.000,9, -999.00,9, -999.00,9, -999.00,9, -999.00,9, -999.00,9,-999.000,-999.0000,9,-999.0000,9,-999.0000,9,-999.0000,9,-999.0000,9,-999.0000,9,-999.0000,9,-999.0000,9,-999.0000,9,  20.3879,     -999.0,9,     -999.0,9,     -999.0,9,     -999.0,9,     -999.0,9,     -999.0,9,     -999.0,9,-999.0000, -999.00
33RO20071215,        P18,     111,          1,         32,      12023,2,20080126,       1039,   -35.6667,  -103.0000,       3375,    52.9,  15.3142,  34.2469,2,  34.2397,2,    270.3,2,   270.9,2,    0.60,2,    2.60,2,    0.04,2,    0.28,2,-999.000,9,-999.000,9,-999.0000,9,  2029.1,2,  2266.3,2,   -999.0,9,  -999.00,   8.0062,2,    25.00,-999.000,9,-999.0000,9, -999.00,9, -999.00,9,  -999.0,9,-999.000,9,-999.000,-999.000,9,-999.000,9, -999.00,9, -999.00,9, -999.00,9, -999.00,9, -999.00,9,-999.000,-999.0000,9,-999.0000,9,-999.0000,9,-999.0000,9,-999.0000,9,-999.0000,9,-999.0000,9,-999.0000,9,-999.0000,9,  15.3062,     -999.0,9,     -999.0,9,     -999.0,9,     -999.0,9,     -999.0,9,     -999.0,9,     -999.0,9,-999.0000, -999.00
33RO20071215,        P18,     111,          1,         31,      12037,2,20080126,       1039,   -35.6667,  -103.0000,       3375,    73.0,  14.1822,  34.1915,2,  34.1849,2,    268.7,2,   268.8,2,    0.70,2,    4.20,2,    0.08,2,    0.37,2,-999.000,9,-999.000,9,-999.0000,9,  2036.7,2,  2266.6,2,   -999.0,9,  -999.00,   7.9331,2,    25.00,-999.000,9,-999.0000,9, -999.00,9, -999.00,9,  -999.0,9,-999.000,9,-999.000,-999.000,9,-999.000,9, -999.00,9, -999.00,9, -999.00,9, -999.00,9, -999.00,9,-999.000,-999.0000,9,-999.0000,9,-999.0000,9,-999.0000,9,-999.0000,9,-999.0000,9,-999.0000,9,-999.0000,9,-999.0000,9,  14.1717,     -999.0,9,     -999.0,9,     -999.0,9,     -999.0,9,     -999.0,9,     -999.0,9,     -999.0,9,-999.0000, -999.00
33RO20071215,        P18,     111,          1,         30,      12036,2,20080126,       1039,   -35.6667,  -103.0000,       3375,    93.0,  13.6129,  34.1960,2,  34.1955,2,    264.6,2,   265.4,2,    0.70,2,    4.90,2,    0.10,2,    0.42,2,-999.000,9,-999.000,9,-999.0000,9,  2042.5,2,  2267.4,2,   -999.0,9,  -999.00,   7.9220,2,    25.00,-999.000,9,-999.0000,9, -999.00,9, -999.00,9,  -999.0,9,-999.000,9,-999.000,-999.000,9,-999.000,9, -999.00,9, -999.00,9, -999.00,9, -999.00,9, -999.00,9,-999.000,-999.0000,9,-999.0000,9,-999.0000,9,-999.0000,9,-999.0000,9,-999.0000,9,-999.0000,9,-999.0000,9,-999.0000,9,  13.5999,     -999.0,9,     -999.0,9,     -999.0,9,     -999.0,9,     -999.0,9,     -999.0,9,     -999.0,9,-999.0000, -999.00
33RO20071215,        P18,     111,          1,         29,      12044,2,20080126,       1039,   -35.6667,  -103.0000,       3375,   116.4,  13.2822,  34.2162,2,  34.2202,2,    257.9,2,   258.3,2,    0.80,2,    5.40,2,    0.18,2,    0.47,2,-999.000,9,-999.000,9,-999.0000,9,  2050.4,2,  -999.0,9,   -999.0,9,  -999.00,   7.8995,2,    25.00,-999.000,9,-999.0000,9, -999.00,9, -999.00,9,  -999.0,9,-999.000,9,-999.000,-999.000,9,-999.000,9, -999.00,9, -999.00,9, -999.00,9, -999.00,9, -999.00,9,-999.000,-999.0000,9,-999.0000,9,-999.0000,9,-999.0000,9,-999.0000,9,-999.0000,9,-999.0000,9,-999.0000,9,-999.0000,9,  13.2661,     -999.0,9,     -999.0,9,     -999.0,9,     -999.0,9,     -999.0,9,     -999.0,9,     -999.0,9,-999.0000, -999.00
33RO20071215,        P18,     111,          1,         28,      12057,2,20080126,       1039,   -35.6667,  -103.0000,       3375,   142.2,  12.6866,  34.2438,2,  34.2452,2,    250.2,2,   249.1,2,    0.90,2,    6.80,2,    0.44,2,    0.57,2,-999.000,9,-999.000,9,-999.0000,9,  2062.7,2,  2265.9,2,   -999.0,9,  -999.00,   7.8650,2,    25.00,-999.000,9,-999.0000,9, -999.00,9, -999.00,9,  -999.0,9,-999.000,9,-999.000,-999.000,9,-999.000,9, -999.00,9, -999.00,9, -999.00,9, -999.00,9, -999.00,9,-999.000,-999.0000,9,-999.0000,9,-999.0000,9,-999.0000,9,-999.0000,9,-999.0000,9,-999.0000,9,-999.0000,9,-999.0000,9,  12.6675,     -999.0,9,     -999.0,9,     -999.0,9,     -999.0,9,     -999.0,9,     -999.0,9,     -999.0,9,-999.0000, -999.00
33RO20071215,        P18,     111,          1,         27,      12026,2,20080126,       1039,   -35.6667,  -103.0000,       3375,   167.4,  11.5766,  34.2229,2,  34.2268,2,    245.2,2,   244.5,2,    1.20,2,   10.00,2,    0.39,2,    0.75,2,-999.000,9,-999.000,9,-999.0000,9,  2079.0,2,  -999.0,9,   -999.0,9,  -999.00,   7.8380,2,    25.00,-999.000,9,-999.0000,9, -999.00,9, -999.00,9,  -999.0,9,-999.000,9,-999.000,-999.000,9,-999.000,9, -999.00,9, -999.00,9, -999.00,9, -999.00,9, -999.00,9,-999.000,-999.0000,9,-999.0000,9,-999.0000,9,-999.0000,9,-999.0000,9,-999.0000,9,-999.0000,9,-999.0000,9,-999.0000,9,  11.5555,     -999.0,9,     -999.0,9,     -999.0,9,     -999.0,9,     -999.0,9,     -999.0,9,     -999.0,9,-999.0000, -999.00
33RO20071215,        P18,     111,          1,         26,      12030,2,20080126,       1039,   -35.6667,  -103.0000,       3375,   192.3,  10.8777,  34.2130,2,  34.2316,2,    243.1,2,   241.1,2,    1.50,2,   12.50,2,    0.04,2,    0.88,2,-999.000,9,-999.000,9,-999.0000,9,  2088.6,2,  2266.0,2,   -999.0,9,  -999.00,   7.8164,2,    25.00,-999.000,9,-999.0000,9, -999.00,9, -999.00,9,  -999.0,9,-999.000,9,-999.000,-999.000,9,-999.000,9, -999.00,9, -999.00,9, -999.00,9, -999.00,9, -999.00,9,-999.000,-999.0000,9,-999.0000,9,-999.0000,9,-999.0000,9,-999.0000,9,-999.0000,9,-999.0000,9,-999.0000,9,-999.0000,9,  10.8544,     -999.0,9,     -999.0,9,     -999.0,9,     -999.0,9,     -999.0,9,     -999.0,9,     -999.0,9,-999.0000, -999.00
33RO20071215,        P18,     111,          1,         25,      12024,2,20080126,       1039,   -35.6667,  -103.0000,       3375,   233.3,   9.6335,  34.3035,2,  34.3035,2,    231.9,2,   229.6,2,    2.50,2,   16.40,2,    0.01,2,    1.10,2,-999.000,9,-999.000,9,-999.0000,9,  2111.2,2,  -999.0,9,   -999.0,9,  -999.00,   7.7753,2,    25.00,-999.000,9,-999.0000,9, -999.00,9, -999.00,9,  -999.0,9,-999.000,9,-999.000,-999.000,9,-999.000,9, -999.00,9, -999.00,9, -999.00,9, -999.00,9, -999.00,1,-999.000,-999.0000,9,-999.0000,9,-999.0000,9,-999.0000,9,-999.0000,9,-999.0000,9,-999.0000,9,-999.0000,9,-999.0000,9,   9.6072,     -999.0,1,     -999.0,9,     -999.0,9,     -999.0,9,     -999.0,9,     -999.0,1,     -999.0,9,-999.0000, -999.00
33RO20071215,        P18,     111,          1,         24,      12019,2,20080126,       1039,   -35.6667,  -103.0000,       3375,   282.3,   8.1225,  34.2758,2,  34.2812,2,    234.4,2,   234.7,2,    3.90,2,   20.00,2,    0.00,2,    1.34,2,-999.000,9,-999.000,9,-999.0000,9,  2126.7,2,  2267.9,2,   -999.0,9,  -999.00,   7.7369,2,    25.00,-999.000,9,-999.0000,9, -999.00,9, -999.00,9,  -999.0,9,-999.000,9,-999.000,-999.000,9,-999.000,9, -999.00,9, -999.00,9, -999.00,9, -999.00,9, -999.00,1,-999.000,-999.0000,9,-999.0000,9,-999.0000,9,-999.0000,9,-999.0000,9,-999.0000,9,-999.0000,9,-999.0000,9,-999.0000,9,   8.0938,     -999.0,1,     -999.0,9,     -999.0,9,     -999.0,9,     -999.0,9,     -999.0,1,     -999.0,9,-999.0000, -999.00
33RO20071215,        P18,     111,          1,         23,      12022,2,20080126,       1039,   -35.6667,  -103.0000,       3375,   332.4,   7.4420,  34.3040,2,  34.3079,2,    235.6,2,   235.3,2,    5.30,2,   21.70,2,    0.00,2,    1.44,2,-999.000,9,-999.000,9,-999.0000,9,  -999.0,9,  -999.0,9,   -999.0,9,  -999.00,-999.0000,9,  -999.00,-999.000,9,-999.0000,9, -999.00,9, -999.00,9,  -999.0,9,-999.000,9,-999.000,-999.000,9,-999.000,9, -999.00,9, -999.00,9, -999.00,9, -999.00,9, -999.00,1,-999.000,-999.0000,9,-999.0000,9,-999.0000,9,-999.0000,9,-999.0000,9,-999.0000,9,-999.0000,9,-999.0000,9,-999.0000,9,   7.4098,     -999.0,1,     -999.0,9,     -999.0,9,     -999.0,9,     -999.0,9,     -999.0,1,     -999.0,9,-999.0000, -999.00
33RO20071215,        P18,     111,          1,         22,      12015,2,20080126,       1039,   -35.6667,  -103.0000,       3375,   383.6,   6.9727,  34.3161,2,  34.3190,2,    237.4,2,   236.9,2,    6.60,2,   22.70,2,    0.00,2,    1.51,2,-999.000,9,-999.000,9,-999.0000,9,  2140.7,2,  2273.4,2,   -999.0,9,  -999.00,   7.7163,2,    25.00,-999.000,9,-999.0000,9, -999.00,9, -999.00,9,  -999.0,9,-999.000,9,-999.000,-999.000,9,-999.000,9, -999.00,9, -999.00,9, -999.00,9, -999.00,9, -999.00,1,-999.000,-999.0000,9,-999.0000,9,-999.0000,9,-999.0000,9,-999.0000,9,-999.0000,9,-999.0000,9,-999.0000,9,-999.0000,9,   6.9368,     -999.0,1,     -999.0,9,     -999.0,9,     -999.0,9,     -999.0,9,     -999.0,1,     -999.0,9,-999.0000, -999.00
33RO20071215,        P18,     111,          1,         21,      12020,2,20080126,       1039,   -35.6667,  -103.0000,       3375,   467.1,   6.5786,  34.3229,2,  34.3233,2,    245.4,2,   245.3,2,    7.60,2,   23.20,2,    0.00,2,    1.53,2,-999.000,9,-999.000,9,-999.0000,9,  -999.0,9,  -999.0,9,   -999.0,9,  -999.00,-999.0000,9,  -999.00,-999.000,9,-999.0000,9, -999.00,9, -999.00,9,  -999.0,9,-999.000,9,-999.000,-999.000,9,-999.000,9, -999.00,9, -999.00,9, -999.00,9, -999.00,9, -999.00,1,-999.000,-999.0000,9,-999.0000,9,-999.0000,9,-999.0000,9,-999.0000,9,-999.0000,9,-999.0000,9,-999.0000,9,-999.0000,9,   6.5360,     -999.0,1,     -999.0,9,     -999.0,9,     -999.0,9,     -999.0,9,     -999.0,1,     -999.0,9,-999.0000, -999.00
33RO20071215,        P18,     111,          1,         20,      12055,2,20080126,       1039,   -35.6667,  -103.0000,       3375,   567.9,   6.1323,  34.3035,2,  34.3023,2,    249.6,2,   249.5,2,    9.00,2,   24.00,2,    0.00,2,    1.58,2,-999.000,9,-999.000,9,-999.0000,9,  2142.8,2,  -999.0,9,   -999.0,9,  -999.00,   7.7161,2,    25.00,-999.000,9,-999.0000,9, -999.00,9, -999.00,9,  -999.0,9,-999.000,9,-999.000,-999.000,9,-999.000,9, -999.00,9, -999.00,9, -999.00,9, -999.00,9, -999.00,9,-999.000,-999.0000,9,-999.0000,9,-999.0000,9,-999.0000,9,-999.0000,9,-999.0000,9,-999.0000,9,-999.0000,9,-999.0000,9,   6.0820,     -999.0,9,     -999.0,9,     -999.0,9,     -999.0,9,     -999.0,9,     -999.0,9,     -999.0,9,-999.0000, -999.00
33RO20071215,        P18,     111,          1,         19,      12018,2,20080126,       1039,   -35.6667,  -103.0000,       3375,   667.0,   5.7149,  34.2821,2,  34.2844,2,    246.0,2,   245.1,2,   10.80,2,   25.20,2,    0.00,2,    1.68,2,-999.000,9,-999.000,9,-999.0000,9,  -999.0,9,  -999.0,9,   -999.0,9,  -999.00,-999.0000,9,  -999.00,-999.000,9,-999.0000,9, -999.00,9, -999.00,9,  -999.0,9,-999.000,9,-999.000,-999.000,9,-999.000,9, -999.00,9, -999.00,9, -999.00,9, -999.00,9, -999.00,9,-999.000,-999.0000,9,-999.0000,9,-999.0000,9,-999.0000,9,-999.0000,9,-999.0000,9,-999.0000,9,-999.0000,9,-999.0000,9,   5.6575,     -999.0,9,     -999.0,9,     -999.0,9,     -999.0,9,     -999.0,9,     -999.0,9,     -999.0,9,-999.0000, -999.00
33RO20071215,        P18,     111,          1,         18,      12025,2,20080126,       1039,   -35.6667,  -103.0000,       3375,   768.7,   5.2312,  34.2685,2,  34.2707,2,    233.1,2,   233.5,2,   14.70,2,   27.40,2,    0.00,2,    1.84,2,-999.000,9,-999.000,9,-999.0000,9,  2159.0,2,  2275.9,2,   -999.0,9,  -999.00,   7.6869,2,    25.00,-999.000,9,-999.0000,9, -999.00,9, -999.00,9,  -999.0,9,-999.000,9,-999.000,-999.000,9,-999.000,9, -999.00,9, -999.00,9, -999.00,9, -999.00,9, -999.00,9,-999.000,-999.0000,9,-999.0000,9,-999.0000,9,-999.0000,9,-999.0000,9,-999.0000,9,-999.0000,9,-999.0000,9,-999.0000,9,   5.1674,     -999.0,9,     -999.0,9,     -999.0,9,     -999.0,9,     -999.0,9,     -999.0,9,     -999.0,9,-999.0000, -999.00
33RO20071215,        P18,     111,          1,         17,      12016,2,20080126,       1039,   -35.6667,  -103.0000,       3375,   867.4,   4.8090,  34.2745,2,  34.2786,2,    218.1,2,   217.7,2,   20.70,2,   29.60,2,    0.00,2,    2.00,2,-999.000,9,-999.000,9,-999.0000,9,  -999.0,9,  -999.0,9,   -999.0,9,  -999.00,-999.0000,9,  -999.00,-999.000,9,-999.0000,9, -999.00,9, -999.00,9,  -999.0,9,-999.000,9,-999.000,-999.000,9,-999.000,9, -999.00,9, -999.00,9, -999.00,9, -999.00,9, -999.00,9,-999.000,-999.0000,9,-999.0000,9,-999.0000,9,-999.0000,9,-999.0000,9,-999.0000,9,-999.0000,9,-999.0000,9,-999.0000,9,   4.7392,     -999.0,9,     -999.0,9,     -999.0,9,     -999.0,9,     -999.0,9,     -999.0,9,     -999.0,9,-999.0000, -999.00
33RO20071215,        P18,     111,          1,         16,      12051,2,20080126,       1039,   -35.6667,  -103.0000,       3375,   966.6,   4.3590,  34.2982,2,  34.2994,2,    199.4,2,   199.5,2,   29.50,2,   31.90,2,    0.00,2,    2.18,2,-999.000,9,-999.000,9,-999.0000,9,  2192.4,2,  2290.1,2,   -999.0,9,  -999.00,   7.6177,2,    25.00,-999.000,9,-999.0000,9, -999.00,9, -999.00,9,  -999.0,9,-999.000,9,-999.000,-999.000,9,-999.000,9, -999.00,9, -999.00,9, -999.00,9, -999.00,9, -999.00,9,-999.000,-999.0000,9,-999.0000,9,-999.0000,9,-999.0000,9,-999.0000,9,-999.0000,9,-999.0000,9,-999.0000,9,-999.0000,9,   4.2837,     -999.0,9,     -999.0,9,     -999.0,9,     -999.0,9,     -999.0,9,     -999.0,9,     -999.0,9,-999.0000, -999.00
33RO20071215,        P18,     111,          1,         15,      12014,2,20080126,       1039,   -35.6667,  -103.0000,       3375,  1066.5,   3.9224,  34.3409,2,  34.3406,2,    179.7,2,   180.7,2,   40.50,2,   33.90,2,    0.00,2,    2.34,2,-999.000,9,-999.000,9,-999.0000,9,  -999.0,9,  -999.0,9,   -999.0,9,  -999.00,-999.0000,9,  -999.00,-999.000,9,-999.0000,9, -999.00,9, -999.00,9,  -999.0,9,-999.000,9,-999.000,-999.000,9,-999.000,9, -999.00,9, -999.00,9, -999.00,9, -999.00,9, -999.00,9,-999.000,-999.0000,9,-999.0000,9,-999.0000,9,-999.0000,9,-999.0000,9,-999.0000,9,-999.0000,9,-999.0000,9,-999.0000,9,   3.8421,     -999.0,9,     -999.0,9,     -999.0,9,     -999.0,9,     -999.0,9,     -999.0,9,     -999.0,9,-999.0000, -999.00
33RO20071215,        P18,     111,          1,         14,      12013,2,20080126,       1039,   -35.6667,  -103.0000,       3375,  1166.9,   3.6089,  34.3958,2,  34.3970,2,    157.8,2,   157.9,2,   53.30,2,   35.90,2,    0.00,2,    2.50,2,-999.000,9,-999.000,9,-999.0000,9,  2237.7,2,  -999.0,9,   -999.0,9,  -999.00,   7.5553,2,    25.00,-999.000,9,-999.0000,9, -999.00,9, -999.00,9,  -999.0,9,-999.000,9,-999.000,-999.000,9,-999.000,9, -999.00,9, -999.00,9, -999.00,9, -999.00,9, -999.00,9,-999.000,-999.0000,9,-999.0000,9,-999.0000,9,-999.0000,9,-999.0000,9,-999.0000,9,-999.0000,9,-999.0000,9,-999.0000,9,   3.5229,     -999.0,9,     -999.0,9,     -999.0,9,     -999.0,9,     -999.0,9,     -999.0,9,     -999.0,9,-999.0000, -999.00
33RO20071215,        P18,     111,          1,         13,      12012,2,20080126,       1039,   -35.6667,  -103.0000,       3375,  1266.4,   3.4060,  34.4532,2,  34.4551,2,    141.1,2,   140.9,2,   66.00,2,   37.20,2,    0.00,2,    2.62,2,-999.000,9,-999.000,9,-999.0000,9,  -999.0,9,  -999.0,9,   -999.0,9,  -999.00,-999.0000,9,  -999.00,-999.000,9,-999.0000,9, -999.00,9, -999.00,9,  -999.0,9,-999.000,9,-999.000,-999.000,9,-999.000,9, -999.00,9, -999.00,9, -999.00,9, -999.00,9, -999.00,9,-999.000,-999.0000,9,-999.0000,9,-999.0000,9,-999.0000,9,-999.0000,9,-999.0000,9,-999.0000,9,-999.0000,9,-999.0000,9,   3.3135,     -999.0,9,     -999.0,9,     -999.0,9,     -999.0,9,     -999.0,9,     -999.0,9,     -999.0,9,-999.0000, -999.00
33RO20071215,        P18,     111,          1,         12,      12031,2,20080126,       1039,   -35.6667,  -103.0000,       3375,  1366.0,   3.2290,  34.4978,2,  34.5053,2,    133.5,2,   133.1,2,   76.70,2,   37.60,2,    0.00,2,    2.67,2,-999.000,9,-999.000,9,-999.0000,9,  2272.9,6,  2340.4,2,   -999.0,9,  -999.00,   7.5140,2,    25.00,-999.000,9,-999.0000,9, -999.00,9, -999.00,9,  -999.0,9,-999.000,9,-999.000,-999.000,9,-999.000,9, -999.00,9, -999.00,9, -999.00,9, -999.00,9, -999.00,9,-999.000,-999.0000,9,-999.0000,9,-999.0000,9,-999.0000,9,-999.0000,9,-999.0000,9,-999.0000,9,-999.0000,9,-999.0000,9,   3.1300,     -999.0,9,     -999.0,9,     -999.0,9,     -999.0,9,     -999.0,9,     -999.0,9,     -999.0,9,-999.0000, -999.00