BOTTLE,20220818CCHSIOAMB
EXPOCODE,SECT_ID,STNNBR,CASTNO,SAMPNO,BTLNBR,BTLNBR_FLAG_W,DATE,TIME,LATITUDE,LONGITUDE,DEPTH,CTDPRS,CTDTMP,CTDSAL,CTDSAL_FLAG_W,SALNTY,SALNTY_FLAG_W,CTDOXY,CTDOXY_FLAG_W,OXYGEN,OXYGEN_FLAG_W,SILCAT,SILCAT_FLAG_W,NITRAT,NITRAT_FLAG_W,NITRIT,NITRIT_FLAG_W,PHSPHT,PHSPHT_FLAG_W,CFC-11,CFC-11_FLAG_W,CFC-12,CFC-12_FLAG_W,SF6,SF6_FLAG_W,TCARBN,TCARBN_FLAG_W,ALKALI,ALKALI_FLAG_W,FCO2,FCO2_FLAG_W,FCO2TMP,PH_SWS,PH_SWS_FLAG_W,PH_TMP,TRITUM,TRITUM_FLAG_W,HELIUM,HELIUM_FLAG_W,DELHE3,DELHE3_FLAG_W,DELC13,DELC13_FLAG_W,DELC14,DELC14_FLAG_W,NEON,NEON_FLAG_W,NEONER,CCL4,CCL4_FLAG_W,POC,POC_FLAG_W,DOC,DOC_FLAG_W,TDN,TDN_FLAG_W,DON,DON_FLAG_W,CHLORA,CHLORA_FLAG_W,ARGON,ARGON_FLAG_W,TRITER,CDOM325,CDOM325_FLAG_W,CDOM340,CDOM340_FLAG_W,CDOM380,CDOM380_FLAG_W,CDOM412,CDOM412_FLAG_W,CDOM443,CDOM443_FLAG_W,CDOM490,CDOM490_FLAG_W,CDOM555,CDOM555_FLAG_W,CDOMSL,CDOMSL_FLAG_W,CDOMSN,CDOMSN_FLAG_W,THETA,D18O_NO3,D18O_NO3_FLAG_W,CDOM2C,CDOM2C_FLAG_W,CDOM3C,CDOM3C_FLAG_W,LAB_DEN,LAB_DEN_FLAG_W,DELSI30,DELSI30_FLAG_W,N2,N2_FLAG_W,D15N_NO3,D15N_NO3_FLAG_W,HELIER,DELHER
,,,,,,,,,,,METERS,DBAR,ITS-90,PSS-78,,PSS-78,,UMOL/KG,,UMOL/KG,,UMOL/KG,,UMOL/KG,,UMOL/KG,,UMOL/KG,,PMOL/KG,,PMOL/KG,,FMOL/KG,,UMOL/KG,,UMOL/KG,,UATM,,DEG C,,,DEG C,TU,,NMOL/KG,,PERCNT,,/MILLE,,/MILLE,,NMOL/KG,,NMOL/KG,PMOL/KG,,UG/KG,,UMOL/KG,,UMOL/KG,,UMOL/KG,,UG/KG,,UMOL/KG,,TU,1/M,,1/M,,1/M,,1/M,,1/M,,1/M,,1/M,,1/NM,,1/NM,,DEG C,/MILLE,,,,,,,,/MILLE,,UMOL/KG,,/MILLE,,NMOL/KG,PERCNT
33RO20071215,        P18,      93,          1,         36,      12017,2,20080115,       0714,   -25.1667,  -103.0000,       3297,     5.1,  23.8450,  36.0816,2,  36.0814,2,    214.4,2,   214.8,2,    0.70,2,    0.30,2,    0.00,2,    0.14,2,   1.934,6,   1.202,6,   0.9826,6,  2077.6,6,  2378.9,2,   -999.0,9,  -999.00,   8.0124,2,    25.00,-999.000,9,-999.0000,9, -999.00,9,     1.3,2,  -999.0,1,-999.000,9,-999.000,-999.000,9,-999.000,9,   68.67,2,    4.02,2, -999.00,1, -999.00,9, -999.00,9,-999.000,-999.0000,9,-999.0000,9,-999.0000,9,-999.0000,9,-999.0000,9,-999.0000,9,-999.0000,9,-999.0000,9,-999.0000,9,  23.8439,     -999.0,9,     -999.0,9,     -999.0,9,     -999.0,9,     -999.0,9,     -999.0,9,     -999.0,9,-999.0000, -999.00
33RO20071215,        P18,      93,          1,         35,      12029,2,20080115,       0714,   -25.1667,  -103.0000,       3297,    10.1,  23.8185,  36.0753,2,  36.0766,2,    214.7,2,   215.1,2,    0.70,2,    0.30,2,    0.00,2,    0.14,2,-999.000,9,-999.000,9,-999.0000,9,  2076.5,2,  2384.6,2,   -999.0,9,  -999.00,   8.0084,2,    25.00,-999.000,9,-999.0000,9, -999.00,9, -999.00,9,  -999.0,9,-999.000,9,-999.000,-999.000,9,-999.000,9,   68.21,2,    4.61,2, -999.00,1, -999.00,9, -999.00,9,-999.000,-999.0000,9,-999.0000,9,-999.0000,9,-999.0000,9,-999.0000,9,-999.0000,9,-999.0000,9,-999.0000,9,-999.0000,9,  23.8164,     -999.0,9,     -999.0,9,     -999.0,9,     -999.0,9,     -999.0,9,     -999.0,9,     -999.0,9,-999.0000, -999.00
33RO20071215,        P18,      93,          1,         34,      12049,2,20080115,       0714,   -25.1667,  -103.0000,       3297,    19.3,  23.5687,  36.0602,2,  36.0190,2,    216.4,2,   219.2,2,    0.70,2,    0.30,2,    0.00,2,    0.15,2,-999.000,9,-999.000,9,-999.0000,9,  2076.3,2,  2378.9,2,   -999.0,9,  -999.00,   8.0114,2,    25.00,-999.000,9,-999.0000,9, -999.00,9, -999.00,9,  -999.0,9,-999.000,9,-999.000,-999.000,9,-999.000,9,   69.06,2,    4.42,2, -999.00,1, -999.00,9, -999.00,9,-999.000,-999.0000,9,-999.0000,9,-999.0000,9,-999.0000,9,-999.0000,9,-999.0000,9,-999.0000,9,-999.0000,9,-999.0000,9,  23.5647,     -999.0,9,     -999.0,9,     -999.0,9,     -999.0,9,     -999.0,9,     -999.0,9,     -999.0,9,-999.0000, -999.00
33RO20071215,        P18,      93,          1,         33,      12027,2,20080115,       0714,   -25.1667,  -103.0000,       3297,    40.3,  21.9731,  36.0348,2,  36.0330,2,    224.9,2,   225.6,2,    0.70,2,    0.30,2,    0.00,2,    0.14,2,   2.092,2,   1.290,2,   1.0731,2,  2071.2,2,  2377.0,2,   -999.0,9,  -999.00,   8.0166,2,    25.00,-999.000,9,-999.0000,9, -999.00,9, -999.00,9,  -999.0,9,-999.000,9,-999.000,-999.000,9,-999.000,9,   68.47,2,    4.14,2, -999.00,1, -999.00,9, -999.00,9,-999.000,-999.0000,9,-999.0000,9,-999.0000,9,-999.0000,9,-999.0000,9,-999.0000,9,-999.0000,9,-999.0000,9,-999.0000,9,  21.9651,     -999.0,9,     -999.0,9,     -999.0,9,     -999.0,9,     -999.0,9,     -999.0,9,     -999.0,9,-999.0000, -999.00
33RO20071215,        P18,      93,          1,         32,      12023,2,20080115,       0714,   -25.1667,  -103.0000,       3297,    60.0,  21.6671,  36.0396,2,  36.0383,2,    227.2,2,   227.3,2,    0.70,2,    0.30,2,    0.00,2,    0.13,2,-999.000,9,-999.000,9,-999.0000,9,  2067.8,2,  2374.1,2,   -999.0,9,  -999.00,   8.0141,2,    25.00,-999.000,9,-999.0000,9, -999.00,9,    1.17,2,  -999.0,1,-999.000,9,-999.000,-999.000,9,-999.000,9,   67.17,2,    4.24,2, -999.00,1, -999.00,9, -999.00,9,-999.000,-999.0000,9,-999.0000,9,-999.0000,9,-999.0000,9,-999.0000,9,-999.0000,9,-999.0000,9,-999.0000,9,-999.0000,9,  21.6553,     -999.0,9,     -999.0,9,     -999.0,9,     -999.0,9,     -999.0,9,     -999.0,9,     -999.0,9,-999.0000, -999.00
33RO20071215,        P18,      93,          1,         31,      12037,2,20080115,       0714,   -25.1667,  -103.0000,       3297,    80.0,  21.1541,  36.0094,2,  36.0110,2,    229.4,2,   229.4,2,    0.80,2,    0.30,2,    0.00,2,    0.12,2,-999.000,9,-999.000,9,-999.0000,9,  2063.5,2,  2371.9,2,   -999.0,9,  -999.00,   8.0395,2,    25.00,-999.000,9,-999.0000,9, -999.00,9, -999.00,9,  -999.0,9,-999.000,9,-999.000,-999.000,9,-999.000,9,   67.32,2,    4.01,2, -999.00,1, -999.00,9, -999.00,9,-999.000,-999.0000,9,-999.0000,9,-999.0000,9,-999.0000,9,-999.0000,9,-999.0000,9,-999.0000,9,-999.0000,9,-999.0000,9,  21.1387,     -999.0,9,     -999.0,9,     -999.0,9,     -999.0,9,     -999.0,9,     -999.0,9,     -999.0,9,-999.0000, -999.00
33RO20071215,        P18,      93,          1,         30,      12036,2,20080115,       0714,   -25.1667,  -103.0000,       3297,   100.7,  20.7803,  35.9699,2,  35.9754,2,    229.0,2,   228.9,2,    0.80,2,    0.30,2,    0.00,2,    0.13,2,   2.157,2,   1.323,2,   1.0870,2,  2065.4,2,  2370.1,2,   -999.0,9,  -999.00,   8.0181,2,    25.00,-999.000,9,-999.0000,9, -999.00,9,    1.19,2,  -999.0,1,-999.000,9,-999.000,-999.000,9,-999.000,9,   66.70,2,    4.67,2, -999.00,1, -999.00,9, -999.00,9,-999.000,-999.0000,9,-999.0000,9,-999.0000,9,-999.0000,9,-999.0000,9,-999.0000,9,-999.0000,9,-999.0000,9,-999.0000,9,  20.7611,     -999.0,9,     -999.0,9,     -999.0,9,     -999.0,9,     -999.0,9,     -999.0,9,     -999.0,9,-999.0000, -999.00
33RO20071215,        P18,      93,          1,         29,      12044,2,20080115,       0714,   -25.1667,  -103.0000,       3297,   124.9,  20.4078,  35.9267,2,  35.9294,2,    226.8,2,   226.9,2,    0.70,2,    0.30,2,    0.00,2,    0.13,2,-999.000,9,-999.000,9,-999.0000,9,  2065.7,6,  -999.0,9,   -999.0,9,  -999.00,-999.0000,9,  -999.00,-999.000,9,-999.0000,9, -999.00,9, -999.00,9,  -999.0,9,-999.000,9,-999.000,-999.000,9,-999.000,9,   66.75,2,    4.29,2, -999.00,1, -999.00,9, -999.00,9,-999.000,-999.0000,9,-999.0000,9,-999.0000,9,-999.0000,9,-999.0000,9,-999.0000,9,-999.0000,9,-999.0000,9,-999.0000,9,  20.3843,     -999.0,9,     -999.0,9,     -999.0,9,     -999.0,9,     -999.0,9,     -999.0,9,     -999.0,9,-999.0000, -999.00
33RO20071215,        P18,      93,          1,         28,      12057,2,20080115,       0714,   -25.1667,  -103.0000,       3297,   149.7,  19.9989,  35.8412,2,  35.8387,2,    224.4,2,   228.9,3,    0.80,2,    0.30,2,    0.00,2,    0.14,2,   2.187,2,   1.339,2,   1.1830,2,  2066.5,2,  2357.9,2,   -999.0,9,  -999.00,   8.0090,2,    25.00,-999.000,9,-999.0000,9, -999.00,9,    1.11,2,  -999.0,1,-999.000,9,-999.000,-999.000,9,-999.000,9,   64.46,2,    4.20,2, -999.00,1, -999.00,9, -999.00,9,-999.000,-999.0000,9,-999.0000,9,-999.0000,9,-999.0000,9,-999.0000,9,-999.0000,9,-999.0000,9,-999.0000,9,-999.0000,9,  19.9711,     -999.0,9,     -999.0,9,     -999.0,9,     -999.0,9,     -999.0,9,     -999.0,9,     -999.0,9,-999.0000, -999.00
33RO20071215,        P18,      93,          1,         27,      12026,2,20080115,       0714,   -25.1667,  -103.0000,       3297,   174.2,  19.7175,  35.7788,2,  35.7807,2,    222.3,2,   241.3,3,    0.80,2,    0.30,2,    0.02,2,    0.15,2,-999.000,9,-999.000,9,-999.0000,9,  2066.5,2,  -999.0,9,   -999.0,9,  -999.00,-999.0000,9,  -999.00,-999.000,9,-999.0000,9, -999.00,9, -999.00,9,  -999.0,9,-999.000,9,-999.000,-999.000,9,-999.000,9,   63.51,2,    3.95,2, -999.00,1, -999.00,9, -999.00,9,-999.000,-999.0000,9,-999.0000,9,-999.0000,9,-999.0000,9,-999.0000,9,-999.0000,9,-999.0000,9,-999.0000,9,-999.0000,9,  19.6854,     -999.0,9,     -999.0,9,     -999.0,9,     -999.0,9,     -999.0,9,     -999.0,9,     -999.0,9,-999.0000, -999.00
33RO20071215,        P18,      93,          1,         26,      12030,2,20080115,       0714,   -25.1667,  -103.0000,       3297,   200.1,  19.3144,  35.6824,2,  35.6871,2,    220.7,2,   221.1,2,    0.80,2,    0.50,2,    0.21,2,    0.19,2,   2.273,2,   1.388,2,   1.0023,2,  2069.0,2,  2355.5,2,   -999.0,9,  -999.00,   7.9960,2,    25.00,-999.000,9,-999.0000,9, -999.00,9,    1.09,2,  -999.0,1,-999.000,9,-999.000,-999.000,9,-999.000,9,   62.86,2,    4.38,2, -999.00,1, -999.00,9, -999.00,9,-999.000,-999.0000,9,-999.0000,9,-999.0000,9,-999.0000,9,-999.0000,9,-999.0000,9,-999.0000,9,-999.0000,9,-999.0000,9,  19.2781,     -999.0,9,     -999.0,9,     -999.0,9,     -999.0,9,     -999.0,9,     -999.0,9,     -999.0,9,-999.0000, -999.00
33RO20071215,        P18,      93,          1,         25,      12024,2,20080115,       0714,   -25.1667,  -103.0000,       3297,   225.3,  18.6497,  35.5261,2,  35.5416,2,    222.0,2,   222.6,2,    0.90,2,    0.60,2,    0.16,2,    0.19,2,-999.000,9,-999.000,9,-999.0000,9,  2062.5,2,  -999.0,9,   -999.0,9,  -999.00,-999.0000,9,  -999.00,-999.000,9,-999.0000,9, -999.00,9, -999.00,9,  -999.0,9,-999.000,9,-999.000,-999.000,9,-999.000,9,   60.80,2,    3.96,2, -999.00,1, -999.00,9, -999.00,9,-999.000,-999.0000,9,-999.0000,9,-999.0000,9,-999.0000,9,-999.0000,9,-999.0000,9,-999.0000,9,-999.0000,9,-999.0000,9,  18.6099,     -999.0,9,     -999.0,9,     -999.0,9,     -999.0,9,     -999.0,9,     -999.0,9,     -999.0,9,-999.0000, -999.00
33RO20071215,        P18,      93,          1,         24,      12019,2,20080115,       0714,   -25.1667,  -103.0000,       3297,   248.8,  17.4540,  35.2630,2,  35.2720,2,    217.0,2,   202.0,3,    0.90,2,    1.70,2,    0.07,2,    0.26,2,   2.483,2,   1.482,2,   1.1053,2,  2063.5,2,  2325.6,2,   -999.0,9,  -999.00,   7.9352,2,    25.00,-999.000,9,-999.0000,9, -999.00,9,    1.01,2,  -999.0,1,-999.000,9,-999.000,-999.000,9,-999.000,9,   56.31,2,    4.83,2, -999.00,1, -999.00,9, -999.00,9,-999.000,-999.0000,9,-999.0000,9,-999.0000,9,-999.0000,9,-999.0000,9,-999.0000,9,-999.0000,9,-999.0000,9,-999.0000,9,  17.4121,     -999.0,9,     -999.0,9,     -999.0,9,     -999.0,9,     -999.0,9,     -999.0,9,     -999.0,9,-999.0000, -999.00
33RO20071215,        P18,      93,          1,         23,      12022,2,20080115,       0714,   -25.1667,  -103.0000,       3297,   300.0,  14.2432,  34.6888,2,  34.6809,2,    198.9,2,   199.3,2,    1.90,2,    8.40,2,    0.01,2,    0.71,2,-999.000,9,-999.000,9,-999.0000,9,  2089.6,2,  -999.0,9,   -999.0,9,  -999.00,-999.0000,9,  -999.00,-999.000,9,-999.0000,9, -999.00,9,    1.02,2,  -999.0,1,-999.000,9,-999.000,-999.000,9,-999.000,9,   46.85,2,   10.37,2, -999.00,1, -999.00,9, -999.00,9,-999.000,-999.0000,9,-999.0000,9,-999.0000,9,-999.0000,9,-999.0000,9,-999.0000,9,-999.0000,9,-999.0000,9,-999.0000,9,  14.1993,     -999.0,9,     -999.0,9,     -999.0,9,     -999.0,9,     -999.0,9,     -999.0,9,     -999.0,9,-999.0000, -999.00
33RO20071215,        P18,      93,          1,         22,      12015,2,20080115,       0714,   -25.1667,  -103.0000,       3297,   350.8,  12.0102,  34.4977,2,  34.5015,2,    188.9,2,   187.8,2,    3.80,2,   13.70,2,    0.01,2,    1.08,2,   3.044,2,   1.657,2,   0.8314,2,  2115.8,2,  2279.2,2,   -999.0,9,  -999.00,   7.7766,2,    25.00,-999.000,9,-999.0000,9, -999.00,9, -999.00,9,  -999.0,9,-999.000,9,-999.000,-999.000,9,-999.000,9,   42.89,2,   15.30,2, -999.00,1, -999.00,9, -999.00,9,-999.000,-999.0000,9,-999.0000,9,-999.0000,9,-999.0000,9,-999.0000,9,-999.0000,9,-999.0000,9,-999.0000,9,-999.0000,9,  11.9644,     -999.0,9,     -999.0,9,     -999.0,9,     -999.0,9,     -999.0,9,     -999.0,9,     -999.0,9,-999.0000, -999.00
33RO20071215,        P18,      93,          1,         21,      12020,2,20080115,       0714,   -25.1667,  -103.0000,       3297,   400.5,  10.0993,  34.3989,2,  34.4005,2,    156.7,2,   159.2,3,    8.70,2,   21.00,2,    0.01,2,    1.65,2,-999.000,9,-999.000,9,-999.0000,9,  2160.3,2,  -999.0,9,   -999.0,9,  -999.00,-999.0000,9,  -999.00,-999.000,9,-999.0000,9, -999.00,9,    0.72,2,  -999.0,1,-999.000,9,-999.000,-999.000,9,-999.000,9,   41.26,2,   22.07,2, -999.00,1, -999.00,9, -999.00,9,-999.000,-999.0000,9,-999.0000,9,-999.0000,9,-999.0000,9,-999.0000,9,-999.0000,9,-999.0000,9,-999.0000,9,-999.0000,9,  10.0524,     -999.0,9,     -999.0,9,     -999.0,9,     -999.0,9,     -999.0,9,     -999.0,9,     -999.0,9,-999.0000, -999.00
33RO20071215,        P18,      93,          1,         20,      12055,2,20080115,       0714,   -25.1667,  -103.0000,       3297,   499.3,   7.8094,  34.4178,2,  34.4145,2,    109.5,2,   110.3,2,   18.10,2,   31.70,2,    0.00,2,    2.36,2,   1.591,2,   0.795,2,   0.2875,2,  2217.2,6,  2285.3,2,   -999.0,9,  -999.00,   7.5020,2,    25.00,-999.000,9,-999.0000,9, -999.00,9,    0.47,2,  -999.0,1,-999.000,9,-999.000,-999.000,9,-999.000,9,   41.26,2,   33.29,2, -999.00,1, -999.00,9, -999.00,9,-999.000,-999.0000,9,-999.0000,9,-999.0000,9,-999.0000,9,-999.0000,9,-999.0000,9,-999.0000,9,-999.0000,9,-999.0000,9,   7.7590,     -999.0,9,     -999.0,9,     -999.0,9,     -999.0,9,     -999.0,9,     -999.0,9,     -999.0,9,-999.0000, -999.00
33RO20071215,        P18,      93,          1,         19,      12018,2,20080115,       0714,   -25.1667,  -103.0000,       3297,   599.2,   6.4068,  34.3447,2,  34.3438,2,    171.6,2,   171.0,2,   16.40,2,   30.40,2,    0.00,2,    2.12,2,-999.000,9,-999.000,9,-999.0000,9,  2189.6,2,  -999.0,9,   -999.0,9,  -999.00,-999.0000,9,  -999.00,-999.000,9,-999.0000,9, -999.00,9,    0.83,2,  -999.0,1,-999.000,9,-999.000,-999.000,9,-999.000,9,   40.90,2,   31.86,2, -999.00,1, -999.00,9, -999.00,9,-999.000,-999.0000,9,-999.0000,9,-999.0000,9,-999.0000,9,-999.0000,9,-999.0000,9,-999.0000,9,-999.0000,9,-999.0000,9,   6.3523,     -999.0,9,     -999.0,9,     -999.0,9,     -999.0,9,     -999.0,9,     -999.0,9,     -999.0,9,-999.0000, -999.00
33RO20071215,        P18,      93,          1,         18,      12025,2,20080115,       0714,   -25.1667,  -103.0000,       3297,   700.2,   5.5874,  34.3304,2,  34.3309,2,    176.7,2,   174.1,2,   21.90,2,   32.10,2,    0.00,2,    2.22,2,   1.109,2,   0.560,2,   0.1454,2,  2194.5,2,  2285.9,4,   -999.0,9,  -999.00,   7.5896,2,    25.00,-999.000,9,-999.0000,9, -999.00,9, -999.00,9,  -999.0,9,-999.000,9,-999.000,-999.000,9,-999.000,9,   40.29,2,   33.57,2, -999.00,1, -999.00,9, -999.00,9,-999.000,-999.0000,9,-999.0000,9,-999.0000,9,-999.0000,9,-999.0000,9,-999.0000,9,-999.0000,9,-999.0000,9,-999.0000,9,   5.5276,     -999.0,9,     -999.0,9,     -999.0,9,     -999.0,9,     -999.0,9,     -999.0,9,     -999.0,9,-999.0000, -999.00
33RO20071215,        P18,      93,          1,         17,      12016,2,20080115,       0714,   -25.1667,  -103.0000,       3297,   799.8,   5.0489,  34.3475,2,  34.3465,2,    160.2,2,   159.0,2,   31.20,2,   34.30,2,    0.00,2,    2.39,2,-999.000,9,-999.000,9,-999.0000,9,  -999.0,9,  -999.0,9,   -999.0,9,  -999.00,-999.0000,9,  -999.00,-999.000,9,-999.0000,9, -999.00,9, -999.00,9,  -999.0,9,-999.000,9,-999.000,-999.000,9,-999.000,9,   39.81,2,   35.90,2, -999.00,1, -999.00,9, -999.00,9,-999.000,-999.0000,9,-999.0000,9,-999.0000,9,-999.0000,9,-999.0000,9,-999.0000,9,-999.0000,9,-999.0000,9,-999.0000,9,   4.9833,     -999.0,9,     -999.0,9,     -999.0,9,     -999.0,9,     -999.0,9,     -999.0,9,     -999.0,9,-999.0000, -999.00
33RO20071215,        P18,      93,          1,         16,      12051,2,20080115,       0714,   -25.1667,  -103.0000,       3297,   900.4,   4.6242,  34.3864,2,  34.3853,2,    139.7,2,   139.3,2,   43.20,2,   36.60,2,    0.00,2,    2.57,2,   0.194,2,   0.104,2,   0.0000,2,  2234.4,2,  -999.0,9,   -999.0,9,  -999.00,-999.0000,9,  -999.00,-999.000,9,-999.0000,9, -999.00,9,    0.61,2,  -999.0,1,-999.000,9,-999.000,-999.000,9,-999.000,9,   39.01,2,   37.64,2, -999.00,9, -999.00,9, -999.00,9,-999.000,-999.0000,9,-999.0000,9,-999.0000,9,-999.0000,9,-999.0000,9,-999.0000,9,-999.0000,9,-999.0000,9,-999.0000,9,   4.5526,     -999.0,9,     -999.0,9,     -999.0,9,     -999.0,9,     -999.0,9,     -999.0,9,     -999.0,9,-999.0000, -999.00
33RO20071215,        P18,      93,          1,         15,      12014,2,20080115,       0714,   -25.1667,  -103.0000,       3297,  1000.9,   4.1980,  34.4338,2,  34.4336,2,    129.9,2,   129.2,2,   56.80,2,   37.70,2,    0.00,2,    2.63,2,-999.000,9,-999.000,9,-999.0000,9,  -999.0,9,  -999.0,9,   -999.0,9,  -999.00,-999.0000,9,  -999.00,-999.000,9,-999.0000,9, -999.00,9, -999.00,9,  -999.0,9,-999.000,9,-999.000,-999.000,9,-999.000,9,   38.50,2,   38.97,2, -999.00,9, -999.00,9, -999.00,9,-999.000,-999.0000,9,-999.0000,9,-999.0000,9,-999.0000,9,-999.0000,9,-999.0000,9,-999.0000,9,-999.0000,9,-999.0000,9,   4.1208,     -999.0,9,     -999.0,9,     -999.0,9,     -999.0,9,     -999.0,9,     -999.0,9,     -999.0,9,-999.0000, -999.00
33RO20071215,        P18,      93,          1,         14,      12013,2,20080115,       0714,   -25.1667,  -103.0000,       3297,  1102.2,   3.8722,  34.4757,2,  34.4761,2,    128.5,2,   127.6,2,   68.10,2,   37.70,2,    0.00,2,    2.67,2,   0.017,2,   0.009,2,   0.0000,2,  2264.0,2,  2326.2,2,   -999.0,9,  -999.00,   7.5270,2,    25.00,-999.000,9,-999.0000,9, -999.00,9,    0.42,2,  -999.0,1,-999.000,9,-999.000,-999.000,9,-999.000,9,   37.61,2,   38.73,2, -999.00,9, -999.00,9, -999.00,9,-999.000,-999.0000,9,-999.0000,9,-999.0000,9,-999.0000,9,-999.0000,9,-999.0000,9,-999.0000,9,-999.0000,9,-999.0000,9,   3.7891,     -999.0,9,     -999.0,9,     -999.0,9,     -999.0,9,     -999.0,9,     -999.0,9,     -999.0,9,-999.0000, -999.00
33RO20071215,        P18,      93,          1,         13,      12012,2,20080115,       0714,   -25.1667,  -103.0000,       3297,  1198.9,   3.6183,  34.5101,2,  34.5095,2,    131.4,2,   130.2,2,   77.00,2,   37.50,2,    0.00,2,    2.63,2,-999.000,9,-999.000,9,-999.0000,9,  -999.0,9,  -999.0,9,   -999.0,9,  -999.00,-999.0000,9,  -999.00,-999.000,9,-999.0000,9, -999.00,9, -999.00,9,  -999.0,9,-999.000,9,-999.000,-999.000,9,-999.000,9,   36.88,2,   38.35,2, -999.00,9, -999.00,9, -999.00,9,-999.000,-999.0000,9,-999.0000,9,-999.0000,9,-999.0000,9,-999.0000,9,-999.0000,9,-999.0000,9,-999.0000,9,-999.0000,9,   3.5293,     -999.0,9,     -999.0,9,     -999.0,9,     -999.0,9,     -999.0,9,     -999.0,9,     -999.0,9,-999.0000, -999.00
33RO20071215,        P18,      93,          1,         12,      12031,2,20080115,       0714,   -25.1667,  -103.0000,       3297,  1301.1,   3.3231,  34.5323,2,  34.5330,2,    134.7,2,   135.6,2,   84.10,2,   37.10,2,    0.00,2,    2.61,2,-999.000,9,-999.000,9,-999.0000,9,  2274.6,2,  -999.0,9,   -999.0,9,  -999.00,-999.0000,9,  -999.00,-999.000,9,-999.0000,9, -999.00,9, -999.00,9,  -999.0,9,-999.000,9,-999.000,-999.000,9,-999.000,9,   36.11,2,   38.39,2, -999.00,9, -999.00,9, -999.00,9,-999.000,-999.0000,9,-999.0000,9,-999.0000,9,-999.0000,9,-999.0000,9,-999.0000,9,-999.0000,9,-999.0000,9,-999.0000,9,   3.2284,     -999.0,9,     -999.0,9,     -999.0,9,     -999.0,9,     -999.0,9,     -999.0,9,     -999.0,9,-999.0000, -999.00