BOTTLE,20220818CCHSIOAMB
EXPOCODE,SECT_ID,STNNBR,CASTNO,SAMPNO,BTLNBR,BTLNBR_FLAG_W,DATE,TIME,LATITUDE,LONGITUDE,DEPTH,CTDPRS,CTDTMP,CTDSAL,CTDSAL_FLAG_W,SALNTY,SALNTY_FLAG_W,CTDOXY,CTDOXY_FLAG_W,OXYGEN,OXYGEN_FLAG_W,SILCAT,SILCAT_FLAG_W,NITRAT,NITRAT_FLAG_W,NITRIT,NITRIT_FLAG_W,PHSPHT,PHSPHT_FLAG_W,CFC-11,CFC-11_FLAG_W,CFC-12,CFC-12_FLAG_W,SF6,SF6_FLAG_W,TCARBN,TCARBN_FLAG_W,ALKALI,ALKALI_FLAG_W,FCO2,FCO2_FLAG_W,FCO2TMP,PH_SWS,PH_SWS_FLAG_W,PH_TMP,TRITUM,TRITUM_FLAG_W,HELIUM,HELIUM_FLAG_W,DELHE3,DELHE3_FLAG_W,DELC13,DELC13_FLAG_W,DELC14,DELC14_FLAG_W,NEON,NEON_FLAG_W,NEONER,CCL4,CCL4_FLAG_W,POC,POC_FLAG_W,DOC,DOC_FLAG_W,TDN,TDN_FLAG_W,DON,DON_FLAG_W,CHLORA,CHLORA_FLAG_W,ARGON,ARGON_FLAG_W,TRITER,CDOM325,CDOM325_FLAG_W,CDOM340,CDOM340_FLAG_W,CDOM380,CDOM380_FLAG_W,CDOM412,CDOM412_FLAG_W,CDOM443,CDOM443_FLAG_W,CDOM490,CDOM490_FLAG_W,CDOM555,CDOM555_FLAG_W,CDOMSL,CDOMSL_FLAG_W,CDOMSN,CDOMSN_FLAG_W,THETA,D18O_NO3,D18O_NO3_FLAG_W,CDOM2C,CDOM2C_FLAG_W,CDOM3C,CDOM3C_FLAG_W,LAB_DEN,LAB_DEN_FLAG_W,DELSI30,DELSI30_FLAG_W,N2,N2_FLAG_W,D15N_NO3,D15N_NO3_FLAG_W,HELIER,DELHER
,,,,,,,,,,,METERS,DBAR,ITS-90,PSS-78,,PSS-78,,UMOL/KG,,UMOL/KG,,UMOL/KG,,UMOL/KG,,UMOL/KG,,UMOL/KG,,PMOL/KG,,PMOL/KG,,FMOL/KG,,UMOL/KG,,UMOL/KG,,UATM,,DEG C,,,DEG C,TU,,NMOL/KG,,PERCNT,,/MILLE,,/MILLE,,NMOL/KG,,NMOL/KG,PMOL/KG,,UG/KG,,UMOL/KG,,UMOL/KG,,UMOL/KG,,UG/KG,,UMOL/KG,,TU,1/M,,1/M,,1/M,,1/M,,1/M,,1/M,,1/M,,1/NM,,1/NM,,DEG C,/MILLE,,,,,,,,/MILLE,,UMOL/KG,,/MILLE,,NMOL/KG,PERCNT
33RO20071215,        P18,      54,          1,         36,      12017,2,20080101,       2155,    -4.4972,  -110.0010,       3576,     5.4,  23.6418,  35.1028,2,  35.1026,2,    216.9,2,   217.2,2,    5.10,2,   11.30,2,    0.26,2,    0.83,2,-999.000,9,-999.000,9,-999.0000,9,  2066.9,6,  2312.8,2,   -999.0,9,  -999.00,   7.9371,2,    25.00,-999.000,9,-999.0000,9, -999.00,9, -999.00,9,  -999.0,9,-999.000,9,-999.000,-999.000,9,-999.000,9, -999.00,9, -999.00,9, -999.00,9,    0.08,2, -999.00,9,-999.000,   0.1054,2,   0.0742,2,   0.0361,2,   0.0280,2,   0.0193,2,   0.0091,2,   0.0029,2,   0.0132,2,   0.0159,2,  23.6407,     -999.0,9,     -999.0,9,     -999.0,9,     -999.0,9,     -999.0,9,     -999.0,9,     -999.0,9,-999.0000, -999.00
33RO20071215,        P18,      54,          1,         35,      12029,2,20080101,       2155,    -4.4972,  -110.0010,       3576,     9.9,  23.5833,  35.1045,2,  35.1048,2,    216.2,2,   217.6,2,    5.10,2,   11.30,2,    0.26,2,    0.83,2,-999.000,9,-999.000,9,-999.0000,9,  2067.1,2,  2313.7,2,   -999.0,9,  -999.00,   7.9428,2,    25.00,-999.000,9,-999.0000,9, -999.00,9, -999.00,9,  -999.0,9,-999.000,9,-999.000,-999.000,9,-999.000,9, -999.00,9, -999.00,9, -999.00,9,    0.09,2, -999.00,9,-999.000,   0.0808,2,   0.0538,2,   0.0259,2,   0.0197,2,   0.0123,2,   0.0041,2,   0.0000,3,   0.0144,2,   0.0180,2,  23.5813,     -999.0,9,     -999.0,9,     -999.0,9,     -999.0,9,     -999.0,9,     -999.0,9,     -999.0,9,-999.0000, -999.00
33RO20071215,        P18,      54,          1,         34,      12049,2,20080101,       2155,    -4.4972,  -110.0010,       3576,    20.4,  23.4856,  35.1085,2,  35.1062,2,    216.9,2,   218.1,2,    5.10,2,   11.30,2,    0.25,2,    0.84,2,-999.000,9,-999.000,9,-999.0000,9,  2067.4,2,  2318.7,2,   -999.0,9,  -999.00,   7.9291,2,    25.00,-999.000,9,-999.0000,9, -999.00,9, -999.00,9,  -999.0,9,-999.000,9,-999.000,-999.000,9,-999.000,9, -999.00,9, -999.00,9, -999.00,9,    0.09,2, -999.00,9,-999.000,   0.0908,2,   0.0630,2,   0.0338,2,   0.0268,2,   0.0180,2,   0.0077,2,   0.0022,2,   0.0127,2,   0.0146,2,  23.4813,     -999.0,9,     -999.0,9,     -999.0,9,     -999.0,9,     -999.0,9,     -999.0,9,     -999.0,9,-999.0000, -999.00
33RO20071215,        P18,      54,          1,         33,      12027,2,20080101,       2155,    -4.4972,  -110.0010,       3576,    40.7,  22.4621,  34.9539,2,  34.9529,2,    219.1,2,   219.7,2,    6.80,2,   12.70,2,    0.23,2,    0.93,2,-999.000,9,-999.000,9,-999.0000,9,  2079.0,2,  2307.7,2,   -999.0,9,  -999.00,   7.8892,2,    25.00,-999.000,9,-999.0000,9, -999.00,9, -999.00,9,  -999.0,9,-999.000,9,-999.000,-999.000,9,-999.000,9, -999.00,9, -999.00,9, -999.00,9,    0.12,2, -999.00,9,-999.000,   0.0849,2,   0.0568,2,   0.0282,2,   0.0212,2,   0.0135,2,   0.0051,2,   0.0009,2,   0.0142,2,   0.0172,2,  22.4540,     -999.0,9,     -999.0,9,     -999.0,9,     -999.0,9,     -999.0,9,     -999.0,9,     -999.0,9,-999.0000, -999.00
33RO20071215,        P18,      54,          1,         32,      12023,2,20080101,       2155,    -4.4972,  -110.0010,       3576,    60.1,  21.5335,  35.1332,2,  35.1581,2,    195.4,2,   187.7,2,    6.20,2,   11.40,2,    0.74,2,    1.00,2,-999.000,9,-999.000,9,-999.0000,9,  2103.4,2,  2320.7,2,   -999.0,9,  -999.00,   7.8937,2,    25.00,-999.000,9,-999.0000,9, -999.00,9, -999.00,9,  -999.0,9,-999.000,9,-999.000,-999.000,9,-999.000,9, -999.00,9, -999.00,9, -999.00,9,    0.16,2, -999.00,9,-999.000,   0.1265,2,   0.0889,2,   0.0436,2,   0.0318,2,   0.0197,2,   0.0086,2,   0.0029,2,   0.0150,2,   0.0169,2,  21.5218,     -999.0,9,     -999.0,9,     -999.0,9,     -999.0,9,     -999.0,9,     -999.0,9,     -999.0,9,-999.0000, -999.00
33RO20071215,        P18,      54,          1,         31,      12037,2,20080101,       2155,    -4.4972,  -110.0010,       3576,    75.6,  15.9469,  35.1053,2,  35.1027,2,     62.1,2,    63.0,2,   13.20,2,   22.60,2,    0.78,2,    1.76,2,-999.000,9,-999.000,9,-999.0000,9,  2195.1,2,  2318.3,2,   -999.0,9,  -999.00,   7.6410,2,    25.00,-999.000,9,-999.0000,9, -999.00,9, -999.00,9,  -999.0,9,-999.000,9,-999.000,-999.000,9,-999.000,9, -999.00,9, -999.00,9, -999.00,9,    0.16,2, -999.00,9,-999.000,   0.1839,2,   0.1303,2,   0.0638,2,   0.0465,2,   0.0264,2,   0.0105,2,   0.0034,2,   0.0163,2,   0.0171,2,  15.9350,     -999.0,9,     -999.0,9,     -999.0,9,     -999.0,9,     -999.0,9,     -999.0,9,     -999.0,9,-999.0000, -999.00
33RO20071215,        P18,      54,          1,         30,      12036,2,20080101,       2155,    -4.4972,  -110.0010,       3576,    90.8,  15.2357,  35.0682,2,  35.0532,2,     50.9,2,    45.9,2,   16.00,2,   25.80,2,    0.88,2,    1.91,2,-999.000,9,-999.000,9,-999.0000,9,  2207.7,2,  2263.2,4,   -999.0,9,  -999.00,   7.5936,2,    25.00,-999.000,9,-999.0000,9, -999.00,9, -999.00,9,  -999.0,9,-999.000,9,-999.000,-999.000,9,-999.000,9, -999.00,9, -999.00,9, -999.00,9,    0.13,2, -999.00,9,-999.000,   0.1947,2,   0.1422,2,   0.0751,2,   0.0565,2,   0.0336,2,   0.0147,2,   0.0057,2,   0.0151,2,   0.0152,2,  15.2219,     -999.0,9,     -999.0,9,     -999.0,9,     -999.0,9,     -999.0,9,     -999.0,9,     -999.0,9,-999.0000, -999.00
33RO20071215,        P18,      54,          1,         29,      12044,2,20080101,       2155,    -4.4972,  -110.0010,       3576,   124.7,  13.7054,  34.9876,2,  34.9850,2,     23.8,2,    19.1,2,   20.00,2,   31.10,2,    0.04,2,    2.13,2,-999.000,9,-999.000,9,-999.0000,9,  2228.1,2,  2296.3,2,   -999.0,9,  -999.00,   7.5155,2,    25.00,-999.000,9,-999.0000,9, -999.00,9, -999.00,9,  -999.0,9,-999.000,9,-999.000,-999.000,9,-999.000,9, -999.00,9, -999.00,9, -999.00,9,    0.04,2, -999.00,9,-999.000,   0.1772,2,   0.1286,2,   0.0719,2,   0.0567,2,   0.0335,2,   0.0140,2,   0.0054,2,   0.0147,2,   0.0143,2,  13.6877,     -999.0,9,     -999.0,9,     -999.0,9,     -999.0,9,     -999.0,9,     -999.0,9,     -999.0,9,-999.0000, -999.00
33RO20071215,        P18,      54,          1,         28,      12057,2,20080101,       2155,    -4.4972,  -110.0010,       3576,   145.0,  13.3764,  34.9640,2,  34.9642,2,     17.2,2,    16.9,2,   21.30,2,   31.50,2,    0.01,2,    2.18,2,-999.000,9,-999.000,9,-999.0000,9,  2231.9,2,  2301.5,2,   -999.0,9,  -999.00,   7.5062,2,    25.00,-999.000,9,-999.0000,9, -999.00,9, -999.00,9,  -999.0,9,-999.000,9,-999.000,-999.000,9,-999.000,9, -999.00,9, -999.00,9, -999.00,9,    0.02,2, -999.00,9,-999.000,   0.1671,2,   0.1202,2,   0.0667,2,   0.0528,2,   0.0304,2,   0.0113,2,   0.0037,2,   0.0151,2,   0.0146,2,  13.3561,     -999.0,9,     -999.0,9,     -999.0,9,     -999.0,9,     -999.0,9,     -999.0,9,     -999.0,9,-999.0000, -999.00
33RO20071215,        P18,      54,          1,         27,      12026,2,20080101,       2155,    -4.4972,  -110.0010,       3576,   175.2,  13.0792,  34.9409,2,  34.9391,2,     15.6,2,    15.6,2,   22.70,2,   31.80,2,    0.01,2,    2.21,2,-999.000,9,-999.000,9,-999.0000,9,  2234.9,2,  -999.0,9,   -999.0,9,  -999.00,   7.4931,2,    25.00,-999.000,9,-999.0000,9, -999.00,9, -999.00,9,  -999.0,9,-999.000,9,-999.000,-999.000,9,-999.000,9, -999.00,9, -999.00,9, -999.00,9,    0.01,2, -999.00,9,-999.000,   0.1738,2,   0.1263,2,   0.0716,2,   0.0561,2,   0.0332,2,   0.0130,2,   0.0046,2,   0.0148,2,   0.0142,2,  13.0550,     -999.0,9,     -999.0,9,     -999.0,9,     -999.0,9,     -999.0,9,     -999.0,9,     -999.0,9,-999.0000, -999.00
33RO20071215,        P18,      54,          1,         26,      12030,2,20080101,       2155,    -4.4972,  -110.0010,       3576,   200.7,  12.8298,  34.9237,2,  34.9211,2,      7.9,2,     9.3,2,   24.20,2,   32.50,2,    0.01,2,    2.29,2,-999.000,9,-999.000,9,-999.0000,9,  2240.2,2,  2299.3,2,   -999.0,9,  -999.00,   7.4734,2,    25.00,-999.000,9,-999.0000,9, -999.00,9, -999.00,9,  -999.0,9,-999.000,9,-999.000,-999.000,9,-999.000,9, -999.00,9, -999.00,9, -999.00,9,    0.01,2, -999.00,9,-999.000,   0.1795,2,   0.1314,2,   0.0758,2,   0.0608,2,   0.0363,2,   0.0143,2,   0.0053,2,   0.0147,2,   0.0137,2,  12.8025,     -999.0,9,     -999.0,9,     -999.0,9,     -999.0,9,     -999.0,9,     -999.0,9,     -999.0,9,-999.0000, -999.00
33RO20071215,        P18,      54,          1,         25,      12024,2,20080101,       2155,    -4.4972,  -110.0010,       3576,   250.7,  12.4937,  34.9010,2,  34.8989,2,      8.7,2,    10.6,2,   25.10,2,   32.80,2,    0.01,2,    2.33,2,-999.000,9,-999.000,9,-999.0000,9,  2243.3,2,  -999.0,9,   -999.0,9,  -999.00,   7.4723,2,    25.00,-999.000,9,-999.0000,9, -999.00,9, -999.00,9,  -999.0,9,-999.000,9,-999.000,-999.000,9,-999.000,9, -999.00,9, -999.00,9, -999.00,9,    0.00,2, -999.00,9,-999.000,   0.1697,2,   0.1236,2,   0.0707,2,   0.0564,2,   0.0331,2,   0.0121,2,   0.0039,2,   0.0149,2,   0.0140,2,  12.4601,     -999.0,9,     -999.0,9,     -999.0,9,     -999.0,9,     -999.0,9,     -999.0,9,     -999.0,9,-999.0000, -999.00
33RO20071215,        P18,      54,          1,         24,      12019,2,20080101,       2155,    -4.4972,  -110.0010,       3576,   299.3,  12.0732,  34.8763,2,  34.8772,2,      9.2,2,    11.1,2,   26.80,2,   32.80,2,    0.01,2,    2.37,2,-999.000,9,-999.000,9,-999.0000,9,  2247.6,2,  2301.5,2,   -999.0,9,  -999.00,   7.4604,2,    25.00,-999.000,9,-999.0000,9, -999.00,9, -999.00,9,  -999.0,9,-999.000,9,-999.000,-999.000,9,-999.000,9, -999.00,9, -999.00,9, -999.00,9, -999.00,9, -999.00,9,-999.000,   0.1879,2,   0.1387,2,   0.0804,2,   0.0645,2,   0.0395,2,   0.0165,2,   0.0067,2,   0.0143,2,   0.0134,2,  12.0339,     -999.0,9,     -999.0,9,     -999.0,9,     -999.0,9,     -999.0,9,     -999.0,9,     -999.0,9,-999.0000, -999.00
33RO20071215,        P18,      54,          1,         23,      12022,2,20080101,       2155,    -4.4972,  -110.0010,       3576,   350.4,  11.4593,  34.8405,2,  34.8356,2,     17.3,2,    21.0,2,   28.10,2,   32.50,2,    0.01,2,    2.38,2,-999.000,9,-999.000,9,-999.0000,9,  2247.6,2,  -999.0,9,   -999.0,9,  -999.00,   7.4659,2,    25.00,-999.000,9,-999.0000,9, -999.00,9, -999.00,9,  -999.0,9,-999.000,9,-999.000,-999.000,9,-999.000,9, -999.00,9, -999.00,9, -999.00,9, -999.00,9, -999.00,9,-999.000,   0.1817,2,   0.1341,2,   0.0783,2,   0.0628,2,   0.0382,2,   0.0153,2,   0.0056,2,   0.0144,2,   0.0134,2,  11.4148,     -999.0,9,     -999.0,9,     -999.0,9,     -999.0,9,     -999.0,9,     -999.0,9,     -999.0,9,-999.0000, -999.00
33RO20071215,        P18,      54,          1,         22,      12015,2,20080101,       2155,    -4.4972,  -110.0010,       3576,   399.5,  10.1784,  34.7549,2,  34.7536,2,      4.3,2,     3.9,2,   35.80,2,   36.00,2,    0.00,2,    2.67,2,-999.000,9,-999.000,9,-999.0000,9,  2271.4,6,  2304.4,2,   -999.0,9,  -999.00,   7.3922,2,    25.00,-999.000,9,-999.0000,9, -999.00,9, -999.00,9,  -999.0,9,-999.000,9,-999.000,-999.000,9,-999.000,9, -999.00,9, -999.00,9, -999.00,9, -999.00,9, -999.00,9,-999.000,   0.1877,2,   0.1380,2,   0.0817,2,   0.0663,2,   0.0396,2,   0.0146,2,   0.0048,2,   0.0148,2,   0.0134,2,  10.1311,     -999.0,9,     -999.0,9,     -999.0,9,     -999.0,9,     -999.0,9,     -999.0,9,     -999.0,9,-999.0000, -999.00
33RO20071215,        P18,      54,          1,         21,      12020,2,20080101,       2155,    -4.4972,  -110.0010,       3576,   500.5,   8.5905,  34.6646,2,  34.6637,2,      3.5,2,     3.9,2,   42.00,2,   39.90,2,    0.00,2,    2.92,2,-999.000,9,-999.000,9,-999.0000,9,  -999.0,9,  -999.0,9,   -999.0,9,  -999.00,-999.0000,9,  -999.00,-999.000,9,-999.0000,9, -999.00,9, -999.00,9,  -999.0,9,-999.000,9,-999.000,-999.000,9,-999.000,9, -999.00,9, -999.00,9, -999.00,9, -999.00,9, -999.00,9,-999.000,-999.0000,5,-999.0000,5,-999.0000,5,-999.0000,5,-999.0000,5,-999.0000,5,-999.0000,5,-999.0000,5,-999.0000,5,   8.5369,     -999.0,9,     -999.0,9,     -999.0,9,     -999.0,9,     -999.0,9,     -999.0,9,     -999.0,9,-999.0000, -999.00
33RO20071215,        P18,      54,          1,         20,      12055,2,20080101,       2155,    -4.4972,  -110.0010,       3576,   600.5,   7.0217,  34.5891,2,  34.5894,2,     22.4,2,    23.0,2,   49.90,2,   43.00,2,    0.00,2,    3.00,2,-999.000,9,-999.000,9,-999.0000,9,  2285.4,2,  -999.0,9,   -999.0,9,  -999.00,   7.3782,2,    25.00,-999.000,9,-999.0000,9, -999.00,9, -999.00,9,  -999.0,9,-999.000,9,-999.000,-999.000,9,-999.000,9, -999.00,9, -999.00,9, -999.00,9, -999.00,9, -999.00,9,-999.000,   0.1697,2,   0.1215,2,   0.0699,2,   0.0541,2,   0.0340,2,   0.0131,2,   0.0042,2,   0.0144,2,   0.0140,2,   6.9641,     -999.0,9,     -999.0,9,     -999.0,9,     -999.0,9,     -999.0,9,     -999.0,9,     -999.0,9,-999.0000, -999.00
33RO20071215,        P18,      54,          1,         19,      12018,2,20080101,       2155,    -4.4972,  -110.0010,       3576,   700.4,   6.1015,  34.5587,2,  34.5568,2,     45.1,2,    45.1,2,   58.80,2,   42.50,2,    0.00,2,    2.96,2,-999.000,9,-999.000,9,-999.0000,9,  -999.0,9,  -999.0,9,   -999.0,9,  -999.00,-999.0000,9,  -999.00,-999.000,9,-999.0000,9, -999.00,9, -999.00,9,  -999.0,9,-999.000,9,-999.000,-999.000,9,-999.000,9, -999.00,9, -999.00,9, -999.00,9, -999.00,9, -999.00,9,-999.000,   0.1676,2,   0.1190,2,   0.0675,2,   0.0513,2,   0.0326,2,   0.0129,2,   0.0042,2,   0.0144,2,   0.0144,2,   6.0388,     -999.0,9,     -999.0,9,     -999.0,9,     -999.0,9,     -999.0,9,     -999.0,9,     -999.0,9,-999.0000, -999.00
33RO20071215,        P18,      54,          1,         18,      12025,2,20080101,       2155,    -4.4972,  -110.0010,       3576,   801.5,   5.3924,  34.5453,2,  34.5455,2,     70.4,2,    71.8,2,   67.10,2,   40.80,2,    0.00,2,    2.86,2,-999.000,9,-999.000,9,-999.0000,9,  2281.0,2,  2333.4,4,   -999.0,9,  -999.00,   7.4495,2,    25.00,-999.000,9,-999.0000,9, -999.00,9, -999.00,9,  -999.0,9,-999.000,9,-999.000,-999.000,9,-999.000,9, -999.00,9, -999.00,9, -999.00,9, -999.00,9, -999.00,9,-999.000,   0.1720,2,   0.1237,2,   0.0718,2,   0.0547,2,   0.0358,2,   0.0154,2,   0.0056,2,   0.0139,2,   0.0137,2,   5.3243,     -999.0,9,     -999.0,9,     -999.0,9,     -999.0,9,     -999.0,9,     -999.0,9,     -999.0,9,-999.0000, -999.00
33RO20071215,        P18,      54,          1,         17,      12016,2,20080101,       2155,    -4.4972,  -110.0010,       3576,   900.6,   4.8013,  34.5451,2,  34.5450,2,     87.6,2,    88.7,2,   75.70,2,   39.60,2,    0.00,2,    2.79,2,-999.000,9,-999.000,9,-999.0000,9,  -999.0,9,  -999.0,9,   -999.0,9,  -999.00,-999.0000,9,  -999.00,-999.000,9,-999.0000,9, -999.00,9, -999.00,9,  -999.0,9,-999.000,9,-999.000,-999.000,9,-999.000,9, -999.00,9, -999.00,9, -999.00,9, -999.00,9, -999.00,9,-999.000,   0.1643,2,   0.1178,2,   0.0682,2,   0.0505,2,   0.0331,2,   0.0140,2,   0.0048,2,   0.0141,2,   0.0140,2,   4.7283,     -999.0,9,     -999.0,9,     -999.0,9,     -999.0,9,     -999.0,9,     -999.0,9,     -999.0,9,-999.0000, -999.00
33RO20071215,        P18,      54,          1,         16,      12051,2,20080101,       2155,    -4.4972,  -110.0010,       3576,  1000.8,   4.4634,  34.5504,2,  34.5519,2,     93.7,2,    93.5,2,   82.70,2,   39.20,2,    0.00,2,    2.78,2,-999.000,9,-999.000,9,-999.0000,9,  2287.3,2,  -999.0,9,   -999.0,9,  -999.00,   7.4896,2,    25.00,-999.000,9,-999.0000,9, -999.00,9, -999.00,9,  -999.0,9,-999.000,9,-999.000,-999.000,9,-999.000,9, -999.00,9, -999.00,9, -999.00,9, -999.00,9, -999.00,9,-999.000,   0.1600,2,   0.1145,2,   0.0657,2,   0.0484,2,   0.0312,2,   0.0123,2,   0.0036,2,   0.0144,2,   0.0143,2,   4.3841,     -999.0,9,     -999.0,9,     -999.0,9,     -999.0,9,     -999.0,9,     -999.0,9,     -999.0,9,-999.0000, -999.00
33RO20071215,        P18,      54,          1,         15,      12014,2,20080101,       2155,    -4.4972,  -110.0010,       3576,  1100.5,   4.0591,  34.5585,2,  34.5588,2,    100.5,2,   100.1,2,   90.50,2,   38.80,2,    0.00,2,    2.75,2,-999.000,9,-999.000,9,-999.0000,9,  -999.0,9,  -999.0,9,   -999.0,9,  -999.00,-999.0000,9,  -999.00,-999.000,9,-999.0000,9, -999.00,9, -999.00,9,  -999.0,9,-999.000,9,-999.000,-999.000,9,-999.000,9, -999.00,9, -999.00,9, -999.00,9, -999.00,9, -999.00,9,-999.000,   0.1657,2,   0.1187,2,   0.0679,2,   0.0496,2,   0.0320,2,   0.0128,2,   0.0039,2,   0.0145,2,   0.0144,2,   3.9744,     -999.0,9,     -999.0,9,     -999.0,9,     -999.0,9,     -999.0,9,     -999.0,9,     -999.0,9,-999.0000, -999.00
33RO20071215,        P18,      54,          1,         14,      12013,2,20080101,       2155,    -4.4972,  -110.0010,       3576,  1200.0,   3.6716,  34.5738,2,  34.5739,2,     99.7,2,    99.3,2,  100.40,2,   39.30,2,    0.00,2,    2.79,2,-999.000,9,-999.000,9,-999.0000,9,  2303.0,2,  2390.3,4,   -999.0,9,  -999.00,   7.4930,2,    25.00,-999.000,9,-999.0000,9, -999.00,9, -999.00,9,  -999.0,9,-999.000,9,-999.000,-999.000,9,-999.000,9, -999.00,9, -999.00,9, -999.00,9, -999.00,9, -999.00,9,-999.000,   0.1672,2,   0.1196,2,   0.0674,2,   0.0494,2,   0.0310,2,   0.0111,2,   0.0026,2,   0.0149,2,   0.0148,2,   3.5819,     -999.0,9,     -999.0,9,     -999.0,9,     -999.0,9,     -999.0,9,     -999.0,9,     -999.0,9,-999.0000, -999.00
33RO20071215,        P18,      54,          1,         13,      12012,2,20080101,       2155,    -4.4972,  -110.0010,       3576,  1300.9,   3.5168,  34.5857,2,  34.5860,2,     86.7,2,    88.7,2,  109.50,2,   40.20,2,    0.00,2,    2.88,2,-999.000,9,-999.000,9,-999.0000,9,  -999.0,9,  -999.0,9,   -999.0,9,  -999.00,-999.0000,9,  -999.00,-999.000,9,-999.0000,9, -999.00,9, -999.00,9,  -999.0,9,-999.000,9,-999.000,-999.000,9,-999.000,9, -999.00,9, -999.00,9, -999.00,9, -999.00,9, -999.00,9,-999.000,   0.1855,2,   0.1352,2,   0.0795,2,   0.0588,2,   0.0382,2,   0.0152,2,   0.0048,2,   0.0145,2,   0.0138,2,   3.4200,     -999.0,9,     -999.0,9,     -999.0,9,     -999.0,9,     -999.0,9,     -999.0,9,     -999.0,9,-999.0000, -999.00
33RO20071215,        P18,      54,          1,         12,      12031,2,20080101,       2155,    -4.4972,  -110.0010,       3576,  1399.4,   3.3214,  34.5926,2,  34.5929,2,     92.1,2,    91.8,2,  113.50,2,   40.20,2,    0.00,2,    2.87,2,-999.000,9,-999.000,9,-999.0000,9,  2319.7,2,  -999.0,9,   -999.0,9,  -999.00,   7.4564,2,    25.00,-999.000,9,-999.0000,9, -999.00,9, -999.00,9,  -999.0,9,-999.000,9,-999.000,-999.000,9,-999.000,9, -999.00,9, -999.00,9, -999.00,9, -999.00,9, -999.00,9,-999.000,   0.1726,2,   0.1246,2,   0.0716,2,   0.0509,2,   0.0322,2,   0.0115,2,   0.0025,2,   0.0151,2,   0.0146,2,   3.2184,     -999.0,9,     -999.0,9,     -999.0,9,     -999.0,9,     -999.0,9,     -999.0,9,     -999.0,9,-999.0000, -999.00