BOTTLE,20220818CCHSIOAMB
EXPOCODE,SECT_ID,STNNBR,CASTNO,SAMPNO,BTLNBR,BTLNBR_FLAG_W,DATE,TIME,LATITUDE,LONGITUDE,DEPTH,CTDPRS,CTDTMP,CTDSAL,CTDSAL_FLAG_W,SALNTY,SALNTY_FLAG_W,CTDOXY,CTDOXY_FLAG_W,OXYGEN,OXYGEN_FLAG_W,SILCAT,SILCAT_FLAG_W,NITRAT,NITRAT_FLAG_W,NITRIT,NITRIT_FLAG_W,PHSPHT,PHSPHT_FLAG_W,CFC-11,CFC-11_FLAG_W,CFC-12,CFC-12_FLAG_W,SF6,SF6_FLAG_W,TCARBN,TCARBN_FLAG_W,ALKALI,ALKALI_FLAG_W,FCO2,FCO2_FLAG_W,FCO2TMP,PH_SWS,PH_SWS_FLAG_W,PH_TMP,TRITUM,TRITUM_FLAG_W,HELIUM,HELIUM_FLAG_W,DELHE3,DELHE3_FLAG_W,DELC13,DELC13_FLAG_W,DELC14,DELC14_FLAG_W,NEON,NEON_FLAG_W,NEONER,CCL4,CCL4_FLAG_W,POC,POC_FLAG_W,DOC,DOC_FLAG_W,TDN,TDN_FLAG_W,DON,DON_FLAG_W,CHLORA,CHLORA_FLAG_W,ARGON,ARGON_FLAG_W,TRITER,CDOM325,CDOM325_FLAG_W,CDOM340,CDOM340_FLAG_W,CDOM380,CDOM380_FLAG_W,CDOM412,CDOM412_FLAG_W,CDOM443,CDOM443_FLAG_W,CDOM490,CDOM490_FLAG_W,CDOM555,CDOM555_FLAG_W,CDOMSL,CDOMSL_FLAG_W,CDOMSN,CDOMSN_FLAG_W,THETA,D18O_NO3,D18O_NO3_FLAG_W,CDOM2C,CDOM2C_FLAG_W,CDOM3C,CDOM3C_FLAG_W,LAB_DEN,LAB_DEN_FLAG_W,DELSI30,DELSI30_FLAG_W,N2,N2_FLAG_W,D15N_NO3,D15N_NO3_FLAG_W,HELIER,DELHER
,,,,,,,,,,,METERS,DBAR,ITS-90,PSS-78,,PSS-78,,UMOL/KG,,UMOL/KG,,UMOL/KG,,UMOL/KG,,UMOL/KG,,UMOL/KG,,PMOL/KG,,PMOL/KG,,FMOL/KG,,UMOL/KG,,UMOL/KG,,UATM,,DEG C,,,DEG C,TU,,NMOL/KG,,PERCNT,,/MILLE,,/MILLE,,NMOL/KG,,NMOL/KG,PMOL/KG,,UG/KG,,UMOL/KG,,UMOL/KG,,UMOL/KG,,UG/KG,,UMOL/KG,,TU,1/M,,1/M,,1/M,,1/M,,1/M,,1/M,,1/M,,1/NM,,1/NM,,DEG C,/MILLE,,,,,,,,/MILLE,,UMOL/KG,,/MILLE,,NMOL/KG,PERCNT
33RO20071215,        P18,      62,          1,         36,      12017,2,20080105,       1320,    -7.9167,  -105.9265,       3544,     5.4,  22.9042,  34.7391,2,  34.7397,2,    218.5,2,   218.7,2,    5.30,2,   10.50,2,    0.20,2,    0.78,2,   1.985,2,   1.232,2,   1.1408,2,  2053.4,6,  1949.6,4,    443.7,2,    20.00,   7.9186,2,    25.00,   0.435,2,   1.7124,2,   -1.65,2,     0.6,3,  -999.0,1,   6.769,2,   0.023,-999.000,9,-999.000,9, -999.00,9, -999.00,9, -999.00,9, -999.00,9, -999.00,9,   0.008,-999.0000,9,-999.0000,9,-999.0000,9,-999.0000,9,-999.0000,9,-999.0000,9,-999.0000,9,-999.0000,9,-999.0000,9,  22.9031,     -999.0,9,     -999.0,9,     -999.0,9,     -999.0,9,     -999.0,9,     -999.0,9,     -999.0,9,   0.0048,    0.15
33RO20071215,        P18,      62,          1,         35,      12029,2,20080105,       1320,    -7.9167,  -105.9265,       3544,    10.5,  22.8982,  34.7389,2,  34.7429,2,    218.7,2,   218.7,2,    5.30,2,   10.50,2,    0.20,2,    0.78,2,-999.000,5,-999.000,5,-999.0000,5,  2051.9,2,  -999.0,5,    444.7,2,    20.00,   7.9202,2,    25.00,-999.000,9,-999.0000,9, -999.00,9, -999.00,9,  -999.0,9,-999.000,9,-999.000,-999.000,9,-999.000,9, -999.00,9, -999.00,9, -999.00,9, -999.00,9, -999.00,9,-999.000,-999.0000,9,-999.0000,9,-999.0000,9,-999.0000,9,-999.0000,9,-999.0000,9,-999.0000,9,-999.0000,9,-999.0000,9,  22.8961,     -999.0,9,     -999.0,9,     -999.0,9,     -999.0,9,     -999.0,9,     -999.0,9,     -999.0,9,-999.0000, -999.00
33RO20071215,        P18,      62,          1,         34,      12049,2,20080105,       1320,    -7.9167,  -105.9265,       3544,    17.0,  22.8980,  34.7390,2,  34.7417,2,    218.9,2,   218.6,2,    5.30,2,   10.50,2,    0.21,2,    0.78,2,-999.000,9,-999.000,9,-999.0000,9,  2052.4,2,  -999.0,5,   -999.0,9,  -999.00,   7.9283,2,    25.00,-999.000,9,-999.0000,9, -999.00,9, -999.00,9,  -999.0,9,-999.000,9,-999.000,-999.000,9,-999.000,9, -999.00,9, -999.00,9, -999.00,9, -999.00,9, -999.00,9,-999.000,-999.0000,9,-999.0000,9,-999.0000,9,-999.0000,9,-999.0000,9,-999.0000,9,-999.0000,9,-999.0000,9,-999.0000,9,  22.8946,     -999.0,9,     -999.0,9,     -999.0,9,     -999.0,9,     -999.0,9,     -999.0,9,     -999.0,9,-999.0000, -999.00
33RO20071215,        P18,      62,          1,         33,      12027,2,20080105,       1320,    -7.9167,  -105.9265,       3544,    33.2,  22.9002,  34.7385,2,  34.7405,2,    219.3,2,   218.8,2,    5.40,2,   10.60,2,    0.21,2,    0.79,2,   1.984,2,   1.230,2,   1.1113,2,  2053.6,2,  2215.0,4,   -999.0,9,  -999.00,   7.9279,2,    25.00,   0.424,2,   1.7077,2,   -1.79,2, -999.00,9,  -999.0,9,   6.740,2,   0.023,-999.000,9,-999.000,9, -999.00,9, -999.00,9, -999.00,9, -999.00,9, -999.00,9,   0.008,-999.0000,9,-999.0000,9,-999.0000,9,-999.0000,9,-999.0000,9,-999.0000,9,-999.0000,9,-999.0000,9,-999.0000,9,  22.8935,     -999.0,9,     -999.0,9,     -999.0,9,     -999.0,9,     -999.0,9,     -999.0,9,     -999.0,9,   0.0048,    0.15
33RO20071215,        P18,      62,          1,         32,      12023,2,20080105,       1320,    -7.9167,  -105.9265,       3544,    52.9,  22.1159,  34.7750,2,  34.7943,2,    218.4,2,   217.8,2,    6.50,2,   12.00,2,    0.22,2,    0.90,2,-999.000,5,-999.000,5,-999.0000,5,  2073.9,2,  2185.8,4,    491.3,6,    20.00,   7.8818,2,    25.00,-999.000,9,-999.0000,9, -999.00,9, -999.00,9,  -999.0,9,-999.000,9,-999.000,-999.000,9,-999.000,9, -999.00,9, -999.00,9, -999.00,9, -999.00,9, -999.00,9,-999.000,-999.0000,9,-999.0000,9,-999.0000,9,-999.0000,9,-999.0000,9,-999.0000,9,-999.0000,9,-999.0000,9,-999.0000,9,  22.1054,     -999.0,9,     -999.0,9,     -999.0,9,     -999.0,9,     -999.0,9,     -999.0,9,     -999.0,9,-999.0000, -999.00
33RO20071215,        P18,      62,          1,         31,      12037,2,20080105,       1320,    -7.9167,  -105.9265,       3544,    72.9,  20.5679,  34.8676,2,  34.9078,2,    197.6,2,   187.6,2,    9.30,2,   15.10,2,    0.30,2,    1.17,2,-999.000,9,-999.000,9,-999.0000,9,  2114.2,2,  2190.3,4,    595.7,2,    20.00,   7.8405,2,    25.00,   0.400,2,   1.7340,2,   -1.09,2, -999.00,9,  -999.0,9,   6.958,2,   0.024,-999.000,9,-999.000,9, -999.00,9, -999.00,9, -999.00,9, -999.00,9, -999.00,9,   0.009,-999.0000,9,-999.0000,9,-999.0000,9,-999.0000,9,-999.0000,9,-999.0000,9,-999.0000,9,-999.0000,9,-999.0000,9,  20.5542,     -999.0,9,     -999.0,9,     -999.0,9,     -999.0,9,     -999.0,9,     -999.0,9,     -999.0,9,   0.0049,    0.15
33RO20071215,        P18,      62,          1,         30,      12036,2,20080105,       1320,    -7.9167,  -105.9265,       3544,    92.6,  18.3415,  35.0506,2,  35.0590,2,    138.1,2,   122.7,2,    9.90,2,   17.90,2,    0.63,2,    1.49,2,   1.838,2,   1.090,2,   0.7035,2,  2158.6,2,  2197.7,4,   -999.0,9,  -999.00,   7.7362,2,    25.00,-999.000,9,-999.0000,9, -999.00,9, -999.00,9,  -999.0,9,-999.000,9,-999.000,-999.000,9,-999.000,9, -999.00,9, -999.00,9, -999.00,9, -999.00,9, -999.00,9,-999.000,-999.0000,9,-999.0000,9,-999.0000,9,-999.0000,9,-999.0000,9,-999.0000,9,-999.0000,9,-999.0000,9,-999.0000,9,  18.3254,     -999.0,9,     -999.0,9,     -999.0,9,     -999.0,9,     -999.0,9,     -999.0,9,     -999.0,9,-999.0000, -999.00
33RO20071215,        P18,      62,          1,         29,      12044,2,20080105,       1320,    -7.9167,  -105.9265,       3544,   117.3,  15.4081,  35.0500,2,  35.0409,2,     48.7,2,    39.5,2,   11.70,2,   24.00,2,    0.47,2,    2.00,2,   1.788,2,   1.039,2,   0.5864,2,  2216.7,2,  2192.4,4,   1168.9,2,    20.00,   7.5667,2,    25.00,   0.285,2,   1.7544,2,    1.58,2, -999.00,9,  -999.0,9,   7.136,2,   0.024,-999.000,9,-999.000,9, -999.00,9, -999.00,9, -999.00,9, -999.00,9, -999.00,9,   0.008,-999.0000,9,-999.0000,9,-999.0000,9,-999.0000,9,-999.0000,9,-999.0000,9,-999.0000,9,-999.0000,9,-999.0000,9,  15.3900,     -999.0,9,     -999.0,9,     -999.0,9,     -999.0,9,     -999.0,9,     -999.0,9,     -999.0,9,   0.0049,    0.15
33RO20071215,        P18,      62,          1,         28,      12057,2,20080105,       1320,    -7.9167,  -105.9265,       3544,   142.2,  13.4681,  34.9350,2,  34.9340,2,      3.7,2,     3.1,2,   19.30,2,   27.80,2,    0.04,2,    2.41,2,   1.161,2,   0.671,2,   0.2345,2,  2248.8,2,  2188.8,4,   -999.0,9,  -999.00,   7.4583,2,    25.00,-999.000,9,-999.0000,9, -999.00,9, -999.00,9,  -999.0,9,-999.000,9,-999.000,-999.000,9,-999.000,9, -999.00,9, -999.00,9, -999.00,9, -999.00,9, -999.00,9,-999.000,-999.0000,9,-999.0000,9,-999.0000,9,-999.0000,9,-999.0000,9,-999.0000,9,-999.0000,9,-999.0000,9,-999.0000,9,  13.4481,     -999.0,9,     -999.0,9,     -999.0,9,     -999.0,9,     -999.0,9,     -999.0,9,     -999.0,9,-999.0000, -999.00
33RO20071215,        P18,      62,          1,         27,      12026,2,20080105,       1320,    -7.9167,  -105.9265,       3544,   167.2,  12.5367,  34.8989,2,  34.8974,2,      6.8,2,     6.9,2,   23.30,2,   30.00,2,    0.01,2,    2.41,2,-999.000,9,-999.000,9,-999.0000,9,  2249.4,2,  -999.0,9,   1543.5,2,    20.00,-999.0000,9,  -999.00,   0.211,2,   1.7863,2,    4.28,2, -999.00,9,  -999.0,9,   7.348,2,   0.025,-999.000,9,-999.000,9, -999.00,9, -999.00,9, -999.00,9, -999.00,9, -999.00,9,   0.007,-999.0000,9,-999.0000,9,-999.0000,9,-999.0000,9,-999.0000,9,-999.0000,9,-999.0000,9,-999.0000,9,-999.0000,9,  12.5143,     -999.0,9,     -999.0,9,     -999.0,9,     -999.0,9,     -999.0,9,     -999.0,9,     -999.0,9,   0.0050,    0.15
33RO20071215,        P18,      62,          1,         26,      12030,2,20080105,       1320,    -7.9167,  -105.9265,       3544,   191.8,  12.1579,  34.8864,2,  34.8866,2,     12.2,2,    12.1,2,   25.20,2,   28.70,2,    0.01,2,    2.41,2,   0.628,2,   0.372,2,   0.1100,2,  2251.7,2,  2192.4,4,   1547.4,2,    20.00,   7.4618,2,    25.00,-999.000,9,-999.0000,9, -999.00,9, -999.00,9,  -999.0,9,-999.000,9,-999.000,-999.000,9,-999.000,9, -999.00,9, -999.00,9, -999.00,9, -999.00,9, -999.00,9,-999.000,-999.0000,9,-999.0000,9,-999.0000,9,-999.0000,9,-999.0000,9,-999.0000,9,-999.0000,9,-999.0000,9,-999.0000,9,  12.1327,     -999.0,9,     -999.0,9,     -999.0,9,     -999.0,9,     -999.0,9,     -999.0,9,     -999.0,9,-999.0000, -999.00
33RO20071215,        P18,      62,          1,         25,      12024,2,20080105,       1320,    -7.9167,  -105.9265,       3544,   232.9,  11.7509,  34.8653,2,  34.8666,2,     15.2,2,    17.1,2,   25.50,2,   32.50,2,    0.00,2,    2.34,2,-999.000,9,-999.000,9,-999.0000,9,  2246.5,2,  -999.0,9,   -999.0,9,  -999.00,-999.0000,9,  -999.00,   0.165,2,-999.0000,9, -999.00,9, -999.00,9,  -999.0,9,-999.000,9,-999.000,-999.000,9,-999.000,9, -999.00,9, -999.00,9, -999.00,9, -999.00,9, -999.00,9,   0.007,-999.0000,9,-999.0000,9,-999.0000,9,-999.0000,9,-999.0000,9,-999.0000,9,-999.0000,9,-999.0000,9,-999.0000,9,  11.7209,     -999.0,9,     -999.0,9,     -999.0,9,     -999.0,9,     -999.0,9,     -999.0,9,     -999.0,9,-999.0000, -999.00
33RO20071215,        P18,      62,          1,         24,      12019,2,20080105,       1320,    -7.9167,  -105.9265,       3544,   282.6,  11.0050,  34.8124,2,  34.8133,2,      6.4,2,     7.3,2,   29.90,2,   34.10,2,    0.00,2,    2.50,2,   0.325,2,   0.197,2,   0.0207,2,  2261.8,2,  2307.7,2,   -999.0,9,  -999.00,   7.4257,2,    25.00,-999.000,9,-999.0000,9, -999.00,9, -999.00,9,  -999.0,9,-999.000,9,-999.000,-999.000,9,-999.000,9, -999.00,9, -999.00,9, -999.00,9, -999.00,9, -999.00,9,-999.000,-999.0000,9,-999.0000,9,-999.0000,9,-999.0000,9,-999.0000,9,-999.0000,9,-999.0000,9,-999.0000,9,-999.0000,9,  10.9700,     -999.0,9,     -999.0,9,     -999.0,9,     -999.0,9,     -999.0,9,     -999.0,9,     -999.0,9,-999.0000, -999.00
33RO20071215,        P18,      62,          1,         23,      12022,2,20080105,       1320,    -7.9167,  -105.9265,       3544,   332.0,  10.5490,  34.7830,2,  34.7803,2,      9.6,2,     8.9,2,   31.80,2,   35.40,2,    0.00,2,    2.55,2,-999.000,9,-999.000,9,-999.0000,9,  2264.0,2,  -999.0,9,   1702.6,2,    20.00,-999.0000,9,  -999.00,-999.000,9,   1.7833,2,    4.60,2, -999.00,9,  -999.0,9,   7.666,2,   0.026,-999.000,9,-999.000,9, -999.00,9, -999.00,9, -999.00,9, -999.00,9, -999.00,9,-999.000,-999.0000,9,-999.0000,9,-999.0000,9,-999.0000,9,-999.0000,9,-999.0000,9,-999.0000,9,-999.0000,9,-999.0000,9,  10.5090,     -999.0,9,     -999.0,9,     -999.0,9,     -999.0,9,     -999.0,9,     -999.0,9,     -999.0,9,   0.0050,    0.15
33RO20071215,        P18,      62,          1,         22,      12015,2,20080105,       1320,    -7.9167,  -105.9265,       3544,   383.5,   9.7564,  34.7298,2,  34.7291,2,      5.2,2,     6.4,2,   34.80,2,   37.00,2,    0.00,2,    2.68,2,   0.111,2,   0.072,2,   0.0000,2,  2272.9,6,  2309.1,2,   -999.0,9,  -999.00,   7.3988,2,    25.00,   0.053,2,   1.7871,2,    4.90,2, -999.00,9,  -999.0,9,   7.456,2,   0.025,-999.000,9,-999.000,9, -999.00,9, -999.00,9, -999.00,9, -999.00,9, -999.00,9,   0.006,-999.0000,9,-999.0000,9,-999.0000,9,-999.0000,9,-999.0000,9,-999.0000,9,-999.0000,9,-999.0000,9,-999.0000,9,   9.7123,     -999.0,9,     -999.0,9,     -999.0,9,     -999.0,9,     -999.0,9,     -999.0,9,     -999.0,9,   0.0050,    0.15
33RO20071215,        P18,      62,          1,         21,      12020,2,20080105,       1320,    -7.9167,  -105.9265,       3544,   466.7,   8.4608,  34.6511,2,  34.6536,2,     10.3,2,    11.5,2,   38.30,2,   40.30,2,    0.00,2,    2.82,2,-999.000,9,-999.000,9,-999.0000,9,  -999.0,9,  -999.0,9,   -999.0,9,  -999.00,-999.0000,9,  -999.00,-999.000,9,-999.0000,9, -999.00,9, -999.00,9,  -999.0,9,-999.000,9,-999.000,-999.000,9,-999.000,9, -999.00,9, -999.00,9, -999.00,9, -999.00,9, -999.00,9,-999.000,-999.0000,9,-999.0000,9,-999.0000,9,-999.0000,9,-999.0000,9,-999.0000,9,-999.0000,9,-999.0000,9,-999.0000,9,   8.4114,     -999.0,9,     -999.0,9,     -999.0,9,     -999.0,9,     -999.0,9,     -999.0,9,     -999.0,9,-999.0000, -999.00
33RO20071215,        P18,      62,          1,         20,      12055,2,20080105,       1320,    -7.9167,  -105.9265,       3544,   566.7,   7.3880,  34.5988,2,  34.5982,2,     32.7,2,    34.2,2,   43.90,2,   41.50,2,    0.00,2,    2.82,2,-999.000,9,-999.000,9,-999.0000,9,  2274.2,2,  -999.0,9,   1761.0,2,    20.00,-999.0000,9,  -999.00,-999.000,9,-999.0000,9, -999.00,9, -999.00,9,  -999.0,9,-999.000,9,-999.000,-999.000,9,-999.000,9, -999.00,9, -999.00,9, -999.00,9, -999.00,9, -999.00,9,-999.000,-999.0000,9,-999.0000,9,-999.0000,9,-999.0000,9,-999.0000,9,-999.0000,9,-999.0000,9,-999.0000,9,-999.0000,9,   7.3322,     -999.0,9,     -999.0,9,     -999.0,9,     -999.0,9,     -999.0,9,     -999.0,9,     -999.0,9,-999.0000, -999.00
33RO20071215,        P18,      62,          1,         19,      12018,2,20080105,       1320,    -7.9167,  -105.9265,       3544,   667.9,   6.2544,  34.5566,2,  34.5584,2,     43.3,2,    45.4,2,   53.50,2,   42.70,2,    0.00,2,    2.90,2,-999.000,9,-999.000,9,-999.0000,9,  -999.0,9,  -999.0,9,   -999.0,9,  -999.00,-999.0000,9,  -999.00,-999.000,9,-999.0000,9, -999.00,9, -999.00,9,  -999.0,9,-999.000,9,-999.000,-999.000,9,-999.000,9, -999.00,9, -999.00,9, -999.00,9, -999.00,9, -999.00,9,-999.000,-999.0000,9,-999.0000,9,-999.0000,9,-999.0000,9,-999.0000,9,-999.0000,9,-999.0000,9,-999.0000,9,-999.0000,9,   6.1939,     -999.0,9,     -999.0,9,     -999.0,9,     -999.0,9,     -999.0,9,     -999.0,9,     -999.0,9,-999.0000, -999.00
33RO20071215,        P18,      62,          1,         18,      12025,2,20080105,       1320,    -7.9167,  -105.9265,       3544,   767.0,   5.5718,  34.5441,2,  34.5494,2,     56.9,2,    59.7,2,   62.70,2,   42.30,2,    0.00,2,    2.89,2,-999.000,9,-999.000,9,-999.0000,9,  2285.8,2,  2332.8,2,   1676.0,2,    20.00,   7.4317,2,    25.00,-999.000,9,-999.0000,9, -999.00,9, -999.00,9,  -999.0,9,-999.000,9,-999.000,-999.000,9,-999.000,9, -999.00,9, -999.00,9, -999.00,9, -999.00,9, -999.00,9,-999.000,-999.0000,9,-999.0000,9,-999.0000,9,-999.0000,9,-999.0000,9,-999.0000,9,-999.0000,9,-999.0000,9,-999.0000,9,   5.5057,     -999.0,9,     -999.0,9,     -999.0,9,     -999.0,9,     -999.0,9,     -999.0,9,     -999.0,9,-999.0000, -999.00
33RO20071215,        P18,      62,          1,         17,      12016,2,20080105,       1320,    -7.9167,  -105.9265,       3544,   866.0,   5.0138,  34.5420,2,  34.5438,2,     71.9,2,    69.5,2,   71.30,2,   41.80,2,    0.00,2,    2.88,2,-999.000,9,-999.000,9,-999.0000,9,  -999.0,9,  -999.0,9,   -999.0,9,  -999.00,-999.0000,9,  -999.00,-999.000,9,-999.0000,9, -999.00,9, -999.00,9,  -999.0,9,-999.000,9,-999.000,-999.000,9,-999.000,9, -999.00,9, -999.00,9, -999.00,9, -999.00,9, -999.00,9,-999.000,-999.0000,9,-999.0000,9,-999.0000,9,-999.0000,9,-999.0000,9,-999.0000,9,-999.0000,9,-999.0000,9,-999.0000,9,   4.9423,     -999.0,9,     -999.0,9,     -999.0,9,     -999.0,9,     -999.0,9,     -999.0,9,     -999.0,9,-999.0000, -999.00
33RO20071215,        P18,      62,          1,         16,      12051,2,20080105,       1320,    -7.9167,  -105.9265,       3544,   967.2,   4.6452,  34.5452,2,  34.5450,2,     75.8,2,    76.6,2,   78.50,2,   41.30,2,    0.00,2,    2.87,2,-999.000,9,-999.000,9,-999.0000,9,  2292.9,2,  -999.0,9,   1592.3,2,    20.00,-999.0000,9,  -999.00,-999.000,9,-999.0000,9, -999.00,9, -999.00,9,  -999.0,9,-999.000,9,-999.000,-999.000,9,-999.000,9, -999.00,9, -999.00,9, -999.00,9, -999.00,9, -999.00,9,-999.000,-999.0000,9,-999.0000,9,-999.0000,9,-999.0000,9,-999.0000,9,-999.0000,9,-999.0000,9,-999.0000,9,-999.0000,9,   4.5674,     -999.0,9,     -999.0,9,     -999.0,9,     -999.0,9,     -999.0,9,     -999.0,9,     -999.0,9,-999.0000, -999.00
33RO20071215,        P18,      62,          1,         15,      12014,2,20080105,       1320,    -7.9167,  -105.9265,       3544,  1066.6,   4.3047,  34.5509,2,  34.5499,2,     85.6,2,    85.1,2,   84.50,2,   40.60,2,    0.00,2,    2.83,2,-999.000,9,-999.000,9,-999.0000,9,  -999.0,9,  -999.0,9,   -999.0,9,  -999.00,-999.0000,9,  -999.00,-999.000,9,-999.0000,9, -999.00,9, -999.00,9,  -999.0,9,-999.000,9,-999.000,-999.000,9,-999.000,9, -999.00,9, -999.00,9, -999.00,9, -999.00,9, -999.00,9,-999.000,-999.0000,9,-999.0000,9,-999.0000,9,-999.0000,9,-999.0000,9,-999.0000,9,-999.0000,9,-999.0000,9,-999.0000,9,   4.2209,     -999.0,9,     -999.0,9,     -999.0,9,     -999.0,9,     -999.0,9,     -999.0,9,     -999.0,9,-999.0000, -999.00
33RO20071215,        P18,      62,          1,         14,      12013,2,20080105,       1320,    -7.9167,  -105.9265,       3544,  1167.0,   3.9350,  34.5609,2,  34.5631,2,     90.4,2,    90.7,2,   92.30,2,   40.40,2,    0.00,2,    2.81,2,-999.000,9,-999.000,9,-999.0000,9,  2301.1,2,  2361.3,2,   1503.6,2,    20.00,   7.4800,2,    25.00,-999.000,9,-999.0000,9, -999.00,9, -999.00,9,  -999.0,9,-999.000,9,-999.000,-999.000,9,-999.000,9, -999.00,9, -999.00,9, -999.00,9, -999.00,9, -999.00,9,-999.000,-999.0000,9,-999.0000,9,-999.0000,9,-999.0000,9,-999.0000,9,-999.0000,9,-999.0000,9,-999.0000,9,-999.0000,9,   3.8457,     -999.0,9,     -999.0,9,     -999.0,9,     -999.0,9,     -999.0,9,     -999.0,9,     -999.0,9,-999.0000, -999.00
33RO20071215,        P18,      62,          1,         13,      12012,2,20080105,       1320,    -7.9167,  -105.9265,       3544,  1267.5,   3.6339,  34.5705,2,  34.5729,2,     96.7,2,    97.4,2,   98.40,2,   40.00,2,    0.00,2,    2.77,2,-999.000,9,-999.000,9,-999.0000,9,  -999.0,9,  -999.0,9,   -999.0,9,  -999.00,-999.0000,9,  -999.00,-999.000,9,-999.0000,9, -999.00,9, -999.00,9,  -999.0,9,-999.000,9,-999.000,-999.000,9,-999.000,9, -999.00,9, -999.00,9, -999.00,9, -999.00,9, -999.00,9,-999.000,-999.0000,9,-999.0000,9,-999.0000,9,-999.0000,9,-999.0000,9,-999.0000,9,-999.0000,9,-999.0000,9,-999.0000,9,   3.5389,     -999.0,9,     -999.0,9,     -999.0,9,     -999.0,9,     -999.0,9,     -999.0,9,     -999.0,9,-999.0000, -999.00
33RO20071215,        P18,      62,          1,         12,      12031,2,20080105,       1320,    -7.9167,  -105.9265,       3544,  1367.1,   3.3276,  34.5827,2,  34.5829,2,    100.7,2,   101.1,2,  105.50,2,   39.90,2,    0.00,2,    2.76,2,-999.000,9,-999.000,9,-999.0000,9,  2310.8,2,  -999.0,9,   1456.9,2,    20.00,-999.0000,9,  -999.00,-999.000,9,-999.0000,9, -999.00,9, -999.00,9,  -999.0,9,-999.000,9,-999.000,-999.000,9,-999.000,9, -999.00,9, -999.00,9, -999.00,9, -999.00,9, -999.00,9,-999.000,-999.0000,9,-999.0000,9,-999.0000,9,-999.0000,9,-999.0000,9,-999.0000,9,-999.0000,9,-999.0000,9,-999.0000,9,   3.2272,     -999.0,9,     -999.0,9,     -999.0,9,     -999.0,9,     -999.0,9,     -999.0,9,     -999.0,9,-999.0000, -999.00