BOTTLE,20220818CCHSIOAMB
EXPOCODE,SECT_ID,STNNBR,CASTNO,SAMPNO,BTLNBR,BTLNBR_FLAG_W,DATE,TIME,LATITUDE,LONGITUDE,DEPTH,CTDPRS,CTDTMP,CTDSAL,CTDSAL_FLAG_W,SALNTY,SALNTY_FLAG_W,CTDOXY,CTDOXY_FLAG_W,OXYGEN,OXYGEN_FLAG_W,SILCAT,SILCAT_FLAG_W,NITRAT,NITRAT_FLAG_W,NITRIT,NITRIT_FLAG_W,PHSPHT,PHSPHT_FLAG_W,CFC-11,CFC-11_FLAG_W,CFC-12,CFC-12_FLAG_W,SF6,SF6_FLAG_W,TCARBN,TCARBN_FLAG_W,ALKALI,ALKALI_FLAG_W,FCO2,FCO2_FLAG_W,FCO2TMP,PH_SWS,PH_SWS_FLAG_W,PH_TMP,TRITUM,TRITUM_FLAG_W,HELIUM,HELIUM_FLAG_W,DELHE3,DELHE3_FLAG_W,DELC13,DELC13_FLAG_W,DELC14,DELC14_FLAG_W,NEON,NEON_FLAG_W,NEONER,CCL4,CCL4_FLAG_W,POC,POC_FLAG_W,DOC,DOC_FLAG_W,TDN,TDN_FLAG_W,DON,DON_FLAG_W,CHLORA,CHLORA_FLAG_W,ARGON,ARGON_FLAG_W,TRITER,CDOM325,CDOM325_FLAG_W,CDOM340,CDOM340_FLAG_W,CDOM380,CDOM380_FLAG_W,CDOM412,CDOM412_FLAG_W,CDOM443,CDOM443_FLAG_W,CDOM490,CDOM490_FLAG_W,CDOM555,CDOM555_FLAG_W,CDOMSL,CDOMSL_FLAG_W,CDOMSN,CDOMSN_FLAG_W,THETA,D18O_NO3,D18O_NO3_FLAG_W,CDOM2C,CDOM2C_FLAG_W,CDOM3C,CDOM3C_FLAG_W,LAB_DEN,LAB_DEN_FLAG_W,DELSI30,DELSI30_FLAG_W,N2,N2_FLAG_W,D15N_NO3,D15N_NO3_FLAG_W,HELIER,DELHER
,,,,,,,,,,,METERS,DBAR,ITS-90,PSS-78,,PSS-78,,UMOL/KG,,UMOL/KG,,UMOL/KG,,UMOL/KG,,UMOL/KG,,UMOL/KG,,PMOL/KG,,PMOL/KG,,FMOL/KG,,UMOL/KG,,UMOL/KG,,UATM,,DEG C,,,DEG C,TU,,NMOL/KG,,PERCNT,,/MILLE,,/MILLE,,NMOL/KG,,NMOL/KG,PMOL/KG,,UG/KG,,UMOL/KG,,UMOL/KG,,UMOL/KG,,UG/KG,,UMOL/KG,,TU,1/M,,1/M,,1/M,,1/M,,1/M,,1/M,,1/M,,1/NM,,1/NM,,DEG C,/MILLE,,,,,,,,/MILLE,,UMOL/KG,,/MILLE,,NMOL/KG,PERCNT
33RO20071215,        P18,      61,          1,         36,      12017,2,20080105,       0646,    -7.5015,  -106.5097,       3250,     5.0,  23.0277,  34.8048,2,  34.8047,2,    218.4,2,   218.5,2,    6.30,2,   11.70,2,    0.24,2,    0.85,2,   1.968,2,   1.221,2,   1.0950,2,  2062.6,6,  2278.3,4,   -999.0,9,  -999.00,   7.9126,2,    25.00,-999.000,9,-999.0000,9, -999.00,9, -999.00,9,  -999.0,9,-999.000,9,-999.000,-999.000,9,-999.000,9,   61.21,2,   16.04,2, -999.00,1, -999.00,9, -999.00,9,-999.000,-999.0000,9,-999.0000,9,-999.0000,9,-999.0000,9,-999.0000,9,-999.0000,9,-999.0000,9,-999.0000,9,-999.0000,9,  23.0266,     -999.0,9,     -999.0,9,     -999.0,9,     -999.0,9,     -999.0,9,     -999.0,9,     -999.0,9,-999.0000, -999.00
33RO20071215,        P18,      61,          1,         35,      12029,2,20080105,       0646,    -7.5015,  -106.5097,       3250,    13.2,  23.0335,  34.8045,2,  34.8050,2,    218.6,2,   218.6,2,    6.40,2,   11.70,2,    0.24,2,    0.85,2,   1.971,6,   1.221,6,   1.0384,6,  2062.5,2,  2304.4,2,   -999.0,9,  -999.00,   7.9159,2,    25.00,-999.000,9,-999.0000,9, -999.00,9, -999.00,9,  -999.0,9,-999.000,9,-999.000,-999.000,9,-999.000,9,   60.56,2,   16.30,2, -999.00,1, -999.00,9, -999.00,9,-999.000,-999.0000,9,-999.0000,9,-999.0000,9,-999.0000,9,-999.0000,9,-999.0000,9,-999.0000,9,-999.0000,9,-999.0000,9,  23.0308,     -999.0,9,     -999.0,9,     -999.0,9,     -999.0,9,     -999.0,9,     -999.0,9,     -999.0,9,-999.0000, -999.00
33RO20071215,        P18,      61,          1,         34,      12049,2,20080105,       0646,    -7.5015,  -106.5097,       3250,    26.9,  23.0303,  34.8050,2,  34.8046,2,    219.0,2,   218.2,2,    6.30,2,   11.70,2,    0.24,2,    0.85,2,   1.976,2,   1.222,2,   1.0937,2,  2062.6,2,  2304.5,2,   -999.0,9,  -999.00,   7.9045,2,    25.00,-999.000,9,-999.0000,9, -999.00,9, -999.00,9,  -999.0,9,-999.000,9,-999.000,-999.000,9,-999.000,9,   59.82,2,   15.47,2, -999.00,1, -999.00,9, -999.00,9,-999.000,-999.0000,9,-999.0000,9,-999.0000,9,-999.0000,9,-999.0000,9,-999.0000,9,-999.0000,9,-999.0000,9,-999.0000,9,  23.0248,     -999.0,9,     -999.0,9,     -999.0,9,     -999.0,9,     -999.0,9,     -999.0,9,     -999.0,9,-999.0000, -999.00
33RO20071215,        P18,      61,          1,         33,      12027,2,20080105,       0646,    -7.5015,  -106.5097,       3250,    46.7,  22.0090,  34.8419,2,  34.8502,2,    219.7,2,   218.2,2,    8.70,2,   13.20,2,    0.22,2,    0.96,2,   2.018,2,   1.234,2,   1.0882,2,  2082.3,2,  2306.0,2,   -999.0,9,  -999.00,   7.8961,2,    25.00,-999.000,9,-999.0000,9, -999.00,9, -999.00,9,  -999.0,9,-999.000,9,-999.000,-999.000,9,-999.000,9,   58.00,2,   17.31,2, -999.00,1, -999.00,9, -999.00,9,-999.000,-999.0000,9,-999.0000,9,-999.0000,9,-999.0000,9,-999.0000,9,-999.0000,9,-999.0000,9,-999.0000,9,-999.0000,9,  21.9998,     -999.0,9,     -999.0,9,     -999.0,9,     -999.0,9,     -999.0,9,     -999.0,9,     -999.0,9,-999.0000, -999.00
33RO20071215,        P18,      61,          1,         32,      12023,2,20080105,       0646,    -7.5015,  -106.5097,       3250,    65.7,  20.9199,  35.1017,2,  35.1237,2,    193.1,2,   191.6,2,    6.40,2,   12.00,2,    0.47,2,    1.03,2,   2.057,2,   1.252,2,   1.0296,2,  2105.8,2,  2286.6,4,   -999.0,9,  -999.00,   7.8778,2,    25.00,-999.000,9,-999.0000,9, -999.00,9, -999.00,9,  -999.0,9,-999.000,9,-999.000,-999.000,9,-999.000,9,   56.24,2,   16.62,2, -999.00,1, -999.00,9, -999.00,9,-999.000,-999.0000,9,-999.0000,9,-999.0000,9,-999.0000,9,-999.0000,9,-999.0000,9,-999.0000,9,-999.0000,9,-999.0000,9,  20.9074,     -999.0,9,     -999.0,9,     -999.0,9,     -999.0,9,     -999.0,9,     -999.0,9,     -999.0,9,-999.0000, -999.00
33RO20071215,        P18,      61,          1,         31,      12037,2,20080105,       0646,    -7.5015,  -106.5097,       3250,    86.1,  17.7022,  35.1823,2,  35.1898,2,    117.8,2,   124.2,2,    5.80,2,   14.70,2,    0.81,2,    1.30,2,   2.161,2,   1.283,2,   0.9161,2,  2154.2,2,  2318.1,2,   -999.0,9,  -999.00,   7.7722,2,    25.00,-999.000,9,-999.0000,9, -999.00,9, -999.00,9,  -999.0,9,-999.000,9,-999.000,-999.000,9,-999.000,9,   55.76,2,   17.69,2, -999.00,1, -999.00,9, -999.00,9,-999.000,-999.0000,9,-999.0000,9,-999.0000,9,-999.0000,9,-999.0000,9,-999.0000,9,-999.0000,9,-999.0000,9,-999.0000,9,  17.6876,     -999.0,9,     -999.0,9,     -999.0,9,     -999.0,9,     -999.0,9,     -999.0,9,     -999.0,9,-999.0000, -999.00
33RO20071215,        P18,      61,          1,         30,      12036,2,20080105,       0646,    -7.5015,  -106.5097,       3250,   107.6,  15.4206,  35.0403,2,  35.0349,2,     45.9,2,    27.3,2,   11.30,2,   25.70,2,    0.24,2,    2.13,2,   1.885,2,   1.096,2,   0.5945,2,  2226.4,2,  2305.0,2,   -999.0,9,  -999.00,   7.5353,2,    25.00,-999.000,9,-999.0000,9, -999.00,9, -999.00,9,  -999.0,9,-999.000,9,-999.000,-999.000,9,-999.000,9,   51.79,2,   28.13,2, -999.00,1, -999.00,9, -999.00,9,-999.000,-999.0000,9,-999.0000,9,-999.0000,9,-999.0000,9,-999.0000,9,-999.0000,9,-999.0000,9,-999.0000,9,-999.0000,9,  15.4040,     -999.0,9,     -999.0,9,     -999.0,9,     -999.0,9,     -999.0,9,     -999.0,9,     -999.0,9,-999.0000, -999.00
33RO20071215,        P18,      61,          1,         29,      12044,2,20080105,       0646,    -7.5015,  -106.5097,       3250,   132.9,  13.9820,  34.9372,2,  34.9381,2,     11.3,2,     7.2,2,   16.10,2,   27.20,2,    0.06,2,    2.35,2,   1.479,2,   0.853,2,   0.4533,2,  2244.2,2,  -999.0,5,   -999.0,9,  -999.00,   7.4660,2,    25.00,-999.000,9,-999.0000,9, -999.00,9, -999.00,9,  -999.0,9,-999.000,9,-999.000,-999.000,9,-999.000,9,   46.28,2,   30.03,2, -999.00,1, -999.00,9, -999.00,9,-999.000,-999.0000,9,-999.0000,9,-999.0000,9,-999.0000,9,-999.0000,9,-999.0000,9,-999.0000,9,-999.0000,9,-999.0000,9,  13.9629,     -999.0,9,     -999.0,9,     -999.0,9,     -999.0,9,     -999.0,9,     -999.0,9,     -999.0,9,-999.0000, -999.00
33RO20071215,        P18,      61,          1,         28,      12057,2,20080105,       0646,    -7.5015,  -106.5097,       3250,   157.7,  12.7148,  34.9157,2,  34.9120,2,      6.8,2,     5.8,2,   23.60,2,   28.80,2,    0.01,2,    2.42,2,   0.770,2,   0.448,2,   0.1588,2,  2251.9,2,  2308.5,2,   -999.0,9,  -999.00,   7.4492,2,    25.00,-999.000,9,-999.0000,9, -999.00,9, -999.00,9,  -999.0,9,-999.000,9,-999.000,-999.000,9,-999.000,9,   45.93,2,   31.13,2, -999.00,1, -999.00,9, -999.00,9,-999.000,-999.0000,9,-999.0000,9,-999.0000,9,-999.0000,9,-999.0000,9,-999.0000,9,-999.0000,9,-999.0000,9,-999.0000,9,  12.6935,     -999.0,9,     -999.0,9,     -999.0,9,     -999.0,9,     -999.0,9,     -999.0,9,     -999.0,9,-999.0000, -999.00
33RO20071215,        P18,      61,          1,         27,      12026,2,20080105,       0646,    -7.5015,  -106.5097,       3250,   182.5,  12.3195,  34.8976,2,  34.8930,2,     10.8,2,    11.2,2,   24.60,2,   29.60,2,    0.01,2,    2.39,2,   0.660,2,   0.388,2,   0.1205,2,  2250.0,2,  2306.8,2,   -999.0,9,  -999.00,   7.4589,2,    25.00,-999.000,9,-999.0000,9, -999.00,9, -999.00,9,  -999.0,9,-999.000,9,-999.000,-999.000,9,-999.000,9,   44.57,2,   32.35,2, -999.00,1, -999.00,9, -999.00,9,-999.000,-999.0000,9,-999.0000,9,-999.0000,9,-999.0000,9,-999.0000,9,-999.0000,9,-999.0000,9,-999.0000,9,-999.0000,9,  12.2954,     -999.0,9,     -999.0,9,     -999.0,9,     -999.0,9,     -999.0,9,     -999.0,9,     -999.0,9,-999.0000, -999.00
33RO20071215,        P18,      61,          1,         26,      12030,2,20080105,       0646,    -7.5015,  -106.5097,       3250,   208.3,  11.9934,  34.8799,2,  34.8829,2,     14.9,2,    14.8,2,   24.70,2,   31.70,2,    0.01,2,    2.34,2,   0.616,2,   0.361,2,   0.1167,2,  2247.6,2,  2305.5,2,   -999.0,9,  -999.00,   7.4666,2,    25.00,-999.000,9,-999.0000,9, -999.00,9, -999.00,9,  -999.0,9,-999.000,9,-999.000,-999.000,9,-999.000,9,   44.45,2,   33.83,2, -999.00,1, -999.00,9, -999.00,9,-999.000,-999.0000,9,-999.0000,9,-999.0000,9,-999.0000,9,-999.0000,9,-999.0000,9,-999.0000,9,-999.0000,9,-999.0000,9,  11.9663,     -999.0,9,     -999.0,9,     -999.0,9,     -999.0,9,     -999.0,9,     -999.0,9,     -999.0,9,-999.0000, -999.00
33RO20071215,        P18,      61,          1,         25,      12024,2,20080105,       0646,    -7.5015,  -106.5097,       3250,   232.7,  11.5446,  34.8513,2,  34.8566,2,     15.5,2,    15.5,2,   26.50,2,   32.90,2,    0.01,2,    2.37,2,   0.495,2,   0.293,2,   0.0882,2,  2249.8,2,  2303.5,2,   -999.0,9,  -999.00,   7.4553,2,    25.00,-999.000,9,-999.0000,9, -999.00,9, -999.00,9,  -999.0,9,-999.000,9,-999.000,-999.000,9,-999.000,9,   44.25,2,   35.00,2, -999.00,1, -999.00,9, -999.00,9,-999.000,-999.0000,9,-999.0000,9,-999.0000,9,-999.0000,9,-999.0000,9,-999.0000,9,-999.0000,9,-999.0000,9,-999.0000,9,  11.5150,     -999.0,9,     -999.0,9,     -999.0,9,     -999.0,9,     -999.0,9,     -999.0,9,     -999.0,9,-999.0000, -999.00
33RO20071215,        P18,      61,          1,         24,      12019,2,20080105,       0646,    -7.5015,  -106.5097,       3250,   267.1,  11.1740,  34.8253,2,  34.8253,2,     17.7,2,    14.8,2,   28.10,2,   33.40,2,    0.00,2,    2.42,2,   0.405,2,   0.245,2,   0.0610,2,  2254.4,2,  2305.3,2,   -999.0,9,  -999.00,   7.4452,2,    25.00,-999.000,9,-999.0000,9, -999.00,9, -999.00,9,  -999.0,9,-999.000,9,-999.000,-999.000,9,-999.000,9,   43.59,2,   34.63,2, -999.00,1, -999.00,9, -999.00,9,-999.000,-999.0000,9,-999.0000,9,-999.0000,9,-999.0000,9,-999.0000,9,-999.0000,9,-999.0000,9,-999.0000,9,-999.0000,9,  11.1407,     -999.0,9,     -999.0,9,     -999.0,9,     -999.0,9,     -999.0,9,     -999.0,9,     -999.0,9,-999.0000, -999.00
33RO20071215,        P18,      61,          1,         23,      12022,2,20080105,       0646,    -7.5015,  -106.5097,       3250,   316.8,  10.7484,  34.7965,2,  34.7935,2,     11.3,2,    10.9,2,   30.60,2,   34.60,2,    0.00,2,    2.52,2,   0.286,2,   0.172,2,   0.0179,2,  2259.9,2,  2307.6,2,   -999.0,9,  -999.00,   7.4245,2,    25.00,-999.000,9,-999.0000,9, -999.00,9, -999.00,9,  -999.0,9,-999.000,9,-999.000,-999.000,9,-999.000,9,   42.65,2,   35.79,2, -999.00,1, -999.00,9, -999.00,9,-999.000,-999.0000,9,-999.0000,9,-999.0000,9,-999.0000,9,-999.0000,9,-999.0000,9,-999.0000,9,-999.0000,9,-999.0000,9,  10.7098,     -999.0,9,     -999.0,9,     -999.0,9,     -999.0,9,     -999.0,9,     -999.0,9,     -999.0,9,-999.0000, -999.00
33RO20071215,        P18,      61,          1,         22,      12015,2,20080105,       0646,    -7.5015,  -106.5097,       3250,   366.9,   9.9716,  34.7434,2,  34.7416,2,     12.5,2,    11.2,2,   32.90,2,   36.00,2,    0.00,2,    2.62,2,-999.000,9,-999.000,9,-999.0000,9,  2267.8,6,  -999.0,5,   -999.0,9,  -999.00,   7.4070,2,    25.00,-999.000,9,-999.0000,9, -999.00,9, -999.00,9,  -999.0,9,-999.000,9,-999.000,-999.000,9,-999.000,9,   42.05,2,   37.17,2, -999.00,1, -999.00,9, -999.00,9,-999.000,-999.0000,9,-999.0000,9,-999.0000,9,-999.0000,9,-999.0000,9,-999.0000,9,-999.0000,9,-999.0000,9,-999.0000,9,   9.9289,     -999.0,9,     -999.0,9,     -999.0,9,     -999.0,9,     -999.0,9,     -999.0,9,     -999.0,9,-999.0000, -999.00
33RO20071215,        P18,      61,          1,         21,      12020,2,20080105,       0646,    -7.5015,  -106.5097,       3250,   432.9,   9.0142,  34.6845,2,  34.6813,2,      7.7,2,     8.6,2,   37.10,2,   38.90,2,    0.00,2,    2.78,2,   0.053,2,   0.037,2,   0.0000,2,  2277.3,2,  2301.7,2,   -999.0,9,  -999.00,   7.3813,2,    25.00,-999.000,9,-999.0000,9, -999.00,9, -999.00,9,  -999.0,9,-999.000,9,-999.000,-999.000,9,-999.000,9,   40.80,2,   40.45,2, -999.00,1, -999.00,9, -999.00,9,-999.000,-999.0000,9,-999.0000,9,-999.0000,9,-999.0000,9,-999.0000,9,-999.0000,9,-999.0000,9,-999.0000,9,-999.0000,9,   8.9667,     -999.0,9,     -999.0,9,     -999.0,9,     -999.0,9,     -999.0,9,     -999.0,9,     -999.0,9,-999.0000, -999.00
33RO20071215,        P18,      61,          1,         20,      12055,2,20080105,       0646,    -7.5015,  -106.5097,       3250,   533.1,   7.9570,  34.6258,2,  34.6259,2,     35.7,2,    36.1,2,   39.40,2,   39.50,2,    0.00,2,    2.69,2,-999.000,9,-999.000,9,-999.0000,9,  2266.1,2,  2304.3,2,   -999.0,9,  -999.00,   7.4204,2,    25.00,-999.000,9,-999.0000,9, -999.00,9, -999.00,9,  -999.0,9,-999.000,9,-999.000,-999.000,9,-999.000,9,   39.34,2,   40.66,2, -999.00,1, -999.00,9, -999.00,9,-999.000,-999.0000,9,-999.0000,9,-999.0000,9,-999.0000,9,-999.0000,9,-999.0000,9,-999.0000,9,-999.0000,9,-999.0000,9,   7.9023,     -999.0,9,     -999.0,9,     -999.0,9,     -999.0,9,     -999.0,9,     -999.0,9,     -999.0,9,-999.0000, -999.00
33RO20071215,        P18,      61,          1,         19,      12018,2,20080105,       0646,    -7.5015,  -106.5097,       3250,   631.7,   7.0603,  34.5853,2,  34.5843,2,     29.9,2,    29.9,2,   46.80,2,   42.30,2,    0.00,2,    2.90,2,   0.009,2,   0.006,2,   0.0000,2,  2279.9,2,  2309.7,2,   -999.0,9,  -999.00,   7.3927,2,    25.00,-999.000,9,-999.0000,9, -999.00,9, -999.00,9,  -999.0,9,-999.000,9,-999.000,-999.000,9,-999.000,9,   39.01,2,   43.74,2, -999.00,1, -999.00,9, -999.00,9,-999.000,-999.0000,9,-999.0000,9,-999.0000,9,-999.0000,9,-999.0000,9,-999.0000,9,-999.0000,9,-999.0000,9,-999.0000,9,   6.9994,     -999.0,9,     -999.0,9,     -999.0,9,     -999.0,9,     -999.0,9,     -999.0,9,     -999.0,9,-999.0000, -999.00
33RO20071215,        P18,      61,          1,         18,      12025,2,20080105,       0646,    -7.5015,  -106.5097,       3250,   732.1,   6.0120,  34.5491,2,  34.5486,2,     60.9,2,    60.8,2,   55.90,2,   41.10,2,    0.00,2,    2.83,2,-999.000,9,-999.000,9,-999.0000,9,  2275.8,2,  2320.4,2,   -999.0,9,  -999.00,   7.4388,2,    25.00,-999.000,9,-999.0000,9, -999.00,9, -999.00,9,  -999.0,9,-999.000,9,-999.000,-999.000,9,-999.000,9,   38.62,2,   42.59,2, -999.00,1, -999.00,9, -999.00,9,-999.000,-999.0000,9,-999.0000,9,-999.0000,9,-999.0000,9,-999.0000,9,-999.0000,9,-999.0000,9,-999.0000,9,-999.0000,9,   5.9467,     -999.0,9,     -999.0,9,     -999.0,9,     -999.0,9,     -999.0,9,     -999.0,9,     -999.0,9,-999.0000, -999.00
33RO20071215,        P18,      61,          1,         17,      12016,2,20080105,       0646,    -7.5015,  -106.5097,       3250,   832.6,   5.4028,  34.5420,2,  34.5417,2,     74.7,2,    73.8,2,   63.90,2,   40.60,2,    0.00,2,    2.81,2,   0.004,2,   0.004,2,   0.0000,2,  2278.7,2,  2336.1,2,   -999.0,9,  -999.00,   7.4540,2,    25.00,-999.000,9,-999.0000,9, -999.00,9, -999.00,9,  -999.0,9,-999.000,9,-999.000,-999.000,9,-999.000,9,   38.36,2,   41.91,2, -999.00,1, -999.00,9, -999.00,9,-999.000,-999.0000,9,-999.0000,9,-999.0000,9,-999.0000,9,-999.0000,9,-999.0000,9,-999.0000,9,-999.0000,9,-999.0000,9,   5.3318,     -999.0,9,     -999.0,9,     -999.0,9,     -999.0,9,     -999.0,9,     -999.0,9,     -999.0,9,-999.0000, -999.00
33RO20071215,        P18,      61,          1,         16,      12051,2,20080105,       0646,    -7.5015,  -106.5097,       3250,   932.2,   4.8812,  34.5394,2,  34.5397,2,     85.1,2,    80.9,2,   71.50,2,   40.10,2,    0.00,2,    2.78,2,-999.000,9,-999.000,9,-999.0000,9,  2282.1,2,  2340.9,2,   -999.0,9,  -999.00,   7.4687,2,    25.00,-999.000,9,-999.0000,9, -999.00,9, -999.00,9,  -999.0,9,-999.000,9,-999.000,-999.000,9,-999.000,9,   37.92,2,   41.24,2, -999.00,9, -999.00,9, -999.00,9,-999.000,-999.0000,9,-999.0000,9,-999.0000,9,-999.0000,9,-999.0000,9,-999.0000,9,-999.0000,9,-999.0000,9,-999.0000,9,   4.8048,     -999.0,9,     -999.0,9,     -999.0,9,     -999.0,9,     -999.0,9,     -999.0,9,     -999.0,9,-999.0000, -999.00
33RO20071215,        P18,      61,          1,         15,      12014,2,20080105,       0646,    -7.5015,  -106.5097,       3250,  1033.8,   4.4680,  34.5444,2,  34.5447,2,     94.4,2,    93.7,2,   79.40,2,   39.60,2,    0.00,2,    2.75,2,   0.002,2,   0.002,2,   0.0000,2,  2285.8,2,  2351.6,2,   -999.0,9,  -999.00,   7.4843,2,    25.00,-999.000,9,-999.0000,9, -999.00,9, -999.00,9,  -999.0,9,-999.000,9,-999.000,-999.000,9,-999.000,9,   37.40,2,   40.91,2, -999.00,9, -999.00,9, -999.00,9,-999.000,-999.0000,9,-999.0000,9,-999.0000,9,-999.0000,9,-999.0000,9,-999.0000,9,-999.0000,9,-999.0000,9,-999.0000,9,   4.3858,     -999.0,9,     -999.0,9,     -999.0,9,     -999.0,9,     -999.0,9,     -999.0,9,     -999.0,9,-999.0000, -999.00
33RO20071215,        P18,      61,          1,         14,      12013,2,20080105,       0646,    -7.5015,  -106.5097,       3250,  1132.9,   4.0713,  34.5545,2,  34.5540,2,     97.2,2,    96.8,2,   87.60,2,   39.50,2,    0.00,2,    2.76,2,-999.000,9,-999.000,9,-999.0000,9,  2295.7,2,  2355.8,2,   -999.0,9,  -999.00,   7.4900,2,    25.00,-999.000,9,-999.0000,9, -999.00,9, -999.00,9,  -999.0,9,-999.000,9,-999.000,-999.000,9,-999.000,9,   37.73,2,   40.61,2, -999.00,9, -999.00,9, -999.00,9,-999.000,-999.0000,9,-999.0000,9,-999.0000,9,-999.0000,9,-999.0000,9,-999.0000,9,-999.0000,9,-999.0000,9,-999.0000,9,   3.9838,     -999.0,9,     -999.0,9,     -999.0,9,     -999.0,9,     -999.0,9,     -999.0,9,     -999.0,9,-999.0000, -999.00
33RO20071215,        P18,      61,          1,         13,      12012,2,20080105,       0646,    -7.5015,  -106.5097,       3250,  1232.9,   3.6876,  34.5665,2,  34.5688,2,    102.5,2,   102.5,2,   95.60,2,   39.20,2,    0.00,2,    2.73,2,   0.000,2,   0.001,2,   0.0000,2,  2301.9,2,  2365.7,2,   -999.0,9,  -999.00,   7.5014,2,    25.00,-999.000,9,-999.0000,9, -999.00,9, -999.00,9,  -999.0,9,-999.000,9,-999.000,-999.000,9,-999.000,9,   37.99,2,   40.84,2, -999.00,9, -999.00,9, -999.00,9,-999.000,-999.0000,9,-999.0000,9,-999.0000,9,-999.0000,9,-999.0000,9,-999.0000,9,-999.0000,9,-999.0000,9,-999.0000,9,   3.5950,     -999.0,9,     -999.0,9,     -999.0,9,     -999.0,9,     -999.0,9,     -999.0,9,     -999.0,9,-999.0000, -999.00
33RO20071215,        P18,      61,          1,         12,      12031,2,20080105,       0646,    -7.5015,  -106.5097,       3250,  1332.6,   3.3599,  34.5800,2,  34.5799,2,    104.9,2,   105.1,2,  103.60,2,   39.20,2,    0.00,2,    2.74,2,-999.000,9,-999.000,9,-999.0000,9,  2308.7,2,  2377.5,2,   -999.0,9,  -999.00,   7.4962,2,    25.00,-999.000,9,-999.0000,9, -999.00,9, -999.00,9,  -999.0,9,-999.000,9,-999.000,-999.000,9,-999.000,9,   38.38,2,   40.47,2, -999.00,9, -999.00,9, -999.00,9,-999.000,-999.0000,9,-999.0000,9,-999.0000,9,-999.0000,9,-999.0000,9,-999.0000,9,-999.0000,9,-999.0000,9,-999.0000,9,   3.2621,     -999.0,9,     -999.0,9,     -999.0,9,     -999.0,9,     -999.0,9,     -999.0,9,     -999.0,9,-999.0000, -999.00