BOTTLE,20220818CCHSIOAMB
EXPOCODE,SECT_ID,STNNBR,CASTNO,SAMPNO,BTLNBR,BTLNBR_FLAG_W,DATE,TIME,LATITUDE,LONGITUDE,DEPTH,CTDPRS,CTDTMP,CTDSAL,CTDSAL_FLAG_W,SALNTY,SALNTY_FLAG_W,CTDOXY,CTDOXY_FLAG_W,OXYGEN,OXYGEN_FLAG_W,SILCAT,SILCAT_FLAG_W,NITRAT,NITRAT_FLAG_W,NITRIT,NITRIT_FLAG_W,PHSPHT,PHSPHT_FLAG_W,CFC-11,CFC-11_FLAG_W,CFC-12,CFC-12_FLAG_W,SF6,SF6_FLAG_W,TCARBN,TCARBN_FLAG_W,ALKALI,ALKALI_FLAG_W,FCO2,FCO2_FLAG_W,FCO2TMP,PH_SWS,PH_SWS_FLAG_W,PH_TMP,TRITUM,TRITUM_FLAG_W,HELIUM,HELIUM_FLAG_W,DELHE3,DELHE3_FLAG_W,DELC13,DELC13_FLAG_W,DELC14,DELC14_FLAG_W,NEON,NEON_FLAG_W,NEONER,CCL4,CCL4_FLAG_W,POC,POC_FLAG_W,DOC,DOC_FLAG_W,TDN,TDN_FLAG_W,DON,DON_FLAG_W,CHLORA,CHLORA_FLAG_W,ARGON,ARGON_FLAG_W,TRITER,CDOM325,CDOM325_FLAG_W,CDOM340,CDOM340_FLAG_W,CDOM380,CDOM380_FLAG_W,CDOM412,CDOM412_FLAG_W,CDOM443,CDOM443_FLAG_W,CDOM490,CDOM490_FLAG_W,CDOM555,CDOM555_FLAG_W,CDOMSL,CDOMSL_FLAG_W,CDOMSN,CDOMSN_FLAG_W,THETA,D18O_NO3,D18O_NO3_FLAG_W,CDOM2C,CDOM2C_FLAG_W,CDOM3C,CDOM3C_FLAG_W,LAB_DEN,LAB_DEN_FLAG_W,DELSI30,DELSI30_FLAG_W,N2,N2_FLAG_W,D15N_NO3,D15N_NO3_FLAG_W,HELIER,DELHER
,,,,,,,,,,,METERS,DBAR,ITS-90,PSS-78,,PSS-78,,UMOL/KG,,UMOL/KG,,UMOL/KG,,UMOL/KG,,UMOL/KG,,UMOL/KG,,PMOL/KG,,PMOL/KG,,FMOL/KG,,UMOL/KG,,UMOL/KG,,UATM,,DEG C,,,DEG C,TU,,NMOL/KG,,PERCNT,,/MILLE,,/MILLE,,NMOL/KG,,NMOL/KG,PMOL/KG,,UG/KG,,UMOL/KG,,UMOL/KG,,UMOL/KG,,UG/KG,,UMOL/KG,,TU,1/M,,1/M,,1/M,,1/M,,1/M,,1/M,,1/M,,1/NM,,1/NM,,DEG C,/MILLE,,,,,,,,/MILLE,,UMOL/KG,,/MILLE,,NMOL/KG,PERCNT
33RO20071215,        P18,      77,          1,         36,      12017,2,20080110,       0413,   -15.8322,  -103.0003,       3968,     5.1,  22.3204,  35.9314,2,  35.9312,2,    224.2,2,   225.4,2,    1.00,2,    2.40,2,    0.06,2,    0.41,2,   1.998,6,   1.238,6,   1.0441,6,  2063.0,6,  2370.4,2,   -999.0,9,  -999.00,   8.0266,2,    25.00,   0.397,2,   1.7063,2,   -1.66,2, -999.00,9,  -999.0,9,   6.812,2,   0.023,-999.000,9,-999.000,9,   70.79,2,    7.49,2, -999.00,1, -999.00,9, -999.00,9,   0.008,-999.0000,9,-999.0000,9,-999.0000,9,-999.0000,9,-999.0000,9,-999.0000,9,-999.0000,9,-999.0000,9,-999.0000,9,  22.3194,     -999.0,9,     -999.0,9,     -999.0,9,     -999.0,9,     -999.0,9,     -999.0,9,     -999.0,9,   0.0048,    0.15
33RO20071215,        P18,      77,          1,         35,      12029,2,20080110,       0413,   -15.8322,  -103.0003,       3968,    14.3,  22.3258,  35.9313,2,  35.9343,2,    225.2,2,   225.3,2,    1.00,2,    2.30,2,    0.06,2,    0.41,2,-999.000,9,-999.000,9,-999.0000,9,  2061.6,2,  2373.0,2,   -999.0,9,  -999.00,   8.0105,2,    25.00,-999.000,9,-999.0000,9, -999.00,9, -999.00,9,  -999.0,9,-999.000,9,-999.000,-999.000,9,-999.000,9,   71.04,2,    7.37,2, -999.00,1, -999.00,9, -999.00,9,-999.000,-999.0000,9,-999.0000,9,-999.0000,9,-999.0000,9,-999.0000,9,-999.0000,9,-999.0000,9,-999.0000,9,-999.0000,9,  22.3230,     -999.0,9,     -999.0,9,     -999.0,9,     -999.0,9,     -999.0,9,     -999.0,9,     -999.0,9,-999.0000, -999.00
33RO20071215,        P18,      77,          1,         34,      12049,2,20080110,       0413,   -15.8322,  -103.0003,       3968,    19.7,  22.3205,  35.9323,2,  35.9336,2,    224.6,2,   225.1,2,    1.00,2,    2.30,2,    0.05,2,    0.42,2,-999.000,9,-999.000,9,-999.0000,9,  2062.3,2,  2374.7,2,   -999.0,9,  -999.00,   8.0206,2,    25.00,   0.384,2,   1.7122,2,   -1.76,2, -999.00,9,  -999.0,9,   6.809,2,   0.023,-999.000,9,-999.000,9,   69.35,2,    7.28,2, -999.00,1, -999.00,9, -999.00,9,   0.008,-999.0000,9,-999.0000,9,-999.0000,9,-999.0000,9,-999.0000,9,-999.0000,9,-999.0000,9,-999.0000,9,-999.0000,9,  22.3166,     -999.0,9,     -999.0,9,     -999.0,9,     -999.0,9,     -999.0,9,     -999.0,9,     -999.0,9,   0.0048,    0.15
33RO20071215,        P18,      77,          1,         33,      12027,2,20080110,       0413,   -15.8322,  -103.0003,       3968,    42.0,  22.1103,  35.9524,2,  35.9555,2,    223.6,2,   225.1,2,    0.80,2,    1.20,2,    0.03,2,    0.37,2,   2.015,2,   1.249,2,   1.1481,2,  2066.3,2,  2379.1,2,   -999.0,9,  -999.00,   8.0455,2,    25.00,-999.000,9,-999.0000,9, -999.00,9, -999.00,9,  -999.0,9,-999.000,9,-999.000,-999.000,9,-999.000,9,   69.28,2,    6.26,2, -999.00,1, -999.00,9, -999.00,9,-999.000,-999.0000,9,-999.0000,9,-999.0000,9,-999.0000,9,-999.0000,9,-999.0000,9,-999.0000,9,-999.0000,9,-999.0000,9,  22.1019,     -999.0,9,     -999.0,9,     -999.0,9,     -999.0,9,     -999.0,9,     -999.0,9,     -999.0,9,-999.0000, -999.00
33RO20071215,        P18,      77,          1,         32,      12023,2,20080110,       0413,   -15.8322,  -103.0003,       3968,    66.1,  21.6982,  35.9070,2,  35.9094,2,    221.1,2,   222.1,2,    0.90,2,    1.10,2,    0.02,2,    0.38,2,-999.000,9,-999.000,9,-999.0000,9,  2068.4,2,  -999.0,5,   -999.0,9,  -999.00,   7.9980,2,    25.00,-999.000,9,-999.0000,9, -999.00,9, -999.00,9,  -999.0,9,-999.000,9,-999.000,-999.000,9,-999.000,9,   63.87,2,    5.54,2, -999.00,1, -999.00,9, -999.00,9,-999.000,-999.0000,9,-999.0000,9,-999.0000,9,-999.0000,9,-999.0000,9,-999.0000,9,-999.0000,9,-999.0000,9,-999.0000,9,  21.6852,     -999.0,9,     -999.0,9,     -999.0,9,     -999.0,9,     -999.0,9,     -999.0,9,     -999.0,9,-999.0000, -999.00
33RO20071215,        P18,      77,          1,         31,      12037,2,20080110,       0413,   -15.8322,  -103.0003,       3968,    92.0,  20.2840,  35.7237,2,  35.7249,2,    227.5,2,   229.3,2,    0.80,2,    0.20,2,    0.01,2,    0.38,2,   2.211,2,   1.350,2,   1.0674,2,  2036.0,4,  2364.2,4,   -999.0,9,  -999.00,   7.9976,2,    25.00,   0.339,2,   1.7225,2,   -1.64,2, -999.00,9,  -999.0,9,   6.967,2,   0.024,-999.000,9,-999.000,9,   63.80,2,    4.91,2, -999.00,1, -999.00,9, -999.00,9,   0.007,-999.0000,9,-999.0000,9,-999.0000,9,-999.0000,9,-999.0000,9,-999.0000,9,-999.0000,9,-999.0000,9,-999.0000,9,  20.2668,     -999.0,9,     -999.0,9,     -999.0,9,     -999.0,9,     -999.0,9,     -999.0,9,     -999.0,9,   0.0048,    0.15
33RO20071215,        P18,      77,          1,         30,      12036,2,20080110,       0413,   -15.8322,  -103.0003,       3968,   117.0,  19.9258,  35.7145,2,  35.7135,2,    218.4,2,   219.5,2,    0.80,2,    0.60,2,    0.09,2,    0.38,2,-999.000,9,-999.000,9,-999.0000,9,  2076.4,2,  2330.3,4,   -999.0,9,  -999.00,   7.9761,2,    25.00,-999.000,9,-999.0000,9, -999.00,9, -999.00,9,  -999.0,9,-999.000,9,-999.000,-999.000,9,-999.000,9,   60.76,2,    4.64,2, -999.00,1, -999.00,9, -999.00,9,-999.000,-999.0000,9,-999.0000,9,-999.0000,9,-999.0000,9,-999.0000,9,-999.0000,9,-999.0000,9,-999.0000,9,-999.0000,9,  19.9042,     -999.0,9,     -999.0,9,     -999.0,9,     -999.0,9,     -999.0,9,     -999.0,9,     -999.0,9,-999.0000, -999.00
33RO20071215,        P18,      77,          1,         29,      12044,2,20080110,       0413,   -15.8322,  -103.0003,       3968,   142.2,  19.7673,  35.6800,2,  35.6835,2,    217.9,2,   218.4,2,    0.80,2,    0.70,2,    0.27,2,    0.40,2,   2.239,2,   1.367,2,   1.1324,2,  2086.2,2,  2357.5,2,   -999.0,9,  -999.00,   7.9689,2,    25.00,   0.336,2,   1.7367,2,   -1.62,2, -999.00,9,  -999.0,9,   7.003,2,   0.024,-999.000,9,-999.000,9,   59.61,2,    5.60,2, -999.00,1, -999.00,9, -999.00,9,   0.007,-999.0000,9,-999.0000,9,-999.0000,9,-999.0000,9,-999.0000,9,-999.0000,9,-999.0000,9,-999.0000,9,-999.0000,9,  19.7411,     -999.0,9,     -999.0,9,     -999.0,9,     -999.0,9,     -999.0,9,     -999.0,9,     -999.0,9,   0.0049,    0.15
33RO20071215,        P18,      77,          1,         28,      12057,2,20080110,       0413,   -15.8322,  -103.0003,       3968,   166.4,  19.4982,  35.6153,2,  35.6148,2,    216.0,2,   225.6,3,    0.80,2,    1.30,2,    0.78,2,    0.47,2,-999.000,9,-999.000,9,-999.0000,9,  2090.1,2,  2355.1,2,   -999.0,9,  -999.00,   7.9621,2,    25.00,-999.000,9,-999.0000,9, -999.00,9, -999.00,9,  -999.0,9,-999.000,9,-999.000,-999.000,9,-999.000,9,   59.15,2,    5.62,2, -999.00,1, -999.00,9, -999.00,9,-999.000,-999.0000,9,-999.0000,9,-999.0000,9,-999.0000,9,-999.0000,9,-999.0000,9,-999.0000,9,-999.0000,9,-999.0000,9,  19.4679,     -999.0,9,     -999.0,9,     -999.0,9,     -999.0,9,     -999.0,9,     -999.0,9,     -999.0,9,-999.0000, -999.00
33RO20071215,        P18,      77,          1,         27,      12026,2,20080110,       0413,   -15.8322,  -103.0003,       3968,   192.2,  19.2803,  35.5612,2,  35.4851,2,    213.6,2,   210.8,2,    1.10,2,    2.90,2,    0.60,2,    0.55,2,   2.341,2,   1.412,2,   1.0794,2,  2091.9,2,  -999.0,9,   -999.0,9,  -999.00,-999.0000,9,  -999.00,   0.310,2,   1.7363,2,   -1.56,2, -999.00,9,  -999.0,9,   7.044,2,   0.024,-999.000,9,-999.000,9,   58.80,2,    6.91,2, -999.00,1, -999.00,9, -999.00,9,   0.007,-999.0000,9,-999.0000,9,-999.0000,9,-999.0000,9,-999.0000,9,-999.0000,9,-999.0000,9,-999.0000,9,-999.0000,9,  19.2455,     -999.0,9,     -999.0,9,     -999.0,9,     -999.0,9,     -999.0,9,     -999.0,9,     -999.0,9,   0.0049,    0.15
33RO20071215,        P18,      77,          1,         26,      12030,2,20080110,       0413,   -15.8322,  -103.0003,       3968,   231.6,  14.5093,  34.7411,2,  34.7370,2,    165.5,2,   166.3,2,    3.40,2,   12.10,2,    0.01,2,    1.06,2,-999.000,9,-999.000,9,-999.0000,9,  2122.6,2,  2293.0,2,   -999.0,9,  -999.00,   7.7945,2,    25.00,-999.000,9,-999.0000,9, -999.00,9, -999.00,9,  -999.0,9,-999.000,9,-999.000,-999.000,9,-999.000,9,   47.23,2,   14.41,2, -999.00,1, -999.00,9, -999.00,9,-999.000,-999.0000,9,-999.0000,9,-999.0000,9,-999.0000,9,-999.0000,9,-999.0000,9,-999.0000,9,-999.0000,9,-999.0000,9,  14.4751,     -999.0,9,     -999.0,9,     -999.0,9,     -999.0,9,     -999.0,9,     -999.0,9,     -999.0,9,-999.0000, -999.00
33RO20071215,        P18,      77,          1,         25,      12024,2,20080110,       0413,   -15.8322,  -103.0003,       3968,   282.3,  11.5477,  34.5343,2,  34.5374,2,     94.6,2,    88.2,2,   13.40,2,   21.90,2,    0.01,2,    2.02,2,   2.011,2,   1.074,2,   0.4963,2,  2199.8,2,  -999.0,9,   -999.0,9,  -999.00,-999.0000,9,  -999.00,   0.158,2,   1.8213,2,   -0.20,2, -999.00,9,  -999.0,9,   7.560,2,   0.026,-999.000,9,-999.000,9,   46.36,2,   22.84,2, -999.00,1, -999.00,9, -999.00,9,   0.006,-999.0000,9,-999.0000,9,-999.0000,9,-999.0000,9,-999.0000,9,-999.0000,9,-999.0000,9,-999.0000,9,-999.0000,9,  11.5119,     -999.0,9,     -999.0,9,     -999.0,9,     -999.0,9,     -999.0,9,     -999.0,9,     -999.0,9,   0.0051,    0.15
33RO20071215,        P18,      77,          1,         24,      12019,2,20080110,       0413,   -15.8322,  -103.0003,       3968,   332.7,  10.3328,  34.6413,2,  34.6398,2,     18.8,2,    18.7,2,   24.00,2,   30.80,2,    0.00,2,    2.69,2,-999.000,9,-999.000,9,-999.0000,9,  2262.6,2,  2291.9,2,   -999.0,9,  -999.00,   7.3938,2,    25.00,-999.000,9,-999.0000,9, -999.00,9, -999.00,9,  -999.0,9,-999.000,9,-999.000,-999.000,9,-999.000,9,   45.01,2,   32.29,2, -999.00,1, -999.00,9, -999.00,9,-999.000,-999.0000,9,-999.0000,9,-999.0000,9,-999.0000,9,-999.0000,9,-999.0000,9,-999.0000,9,-999.0000,9,-999.0000,9,  10.2933,     -999.0,9,     -999.0,9,     -999.0,9,     -999.0,9,     -999.0,9,     -999.0,9,     -999.0,9,-999.0000, -999.00
33RO20071215,        P18,      77,          1,         23,      12022,2,20080110,       0413,   -15.8322,  -103.0003,       3968,   383.3,   9.3306,  34.6228,2,  34.6215,2,     17.7,2,    17.1,2,   27.50,2,   35.50,2,    0.00,2,    2.77,2,   0.287,2,   0.158,2,   0.0383,2,  2269.7,2,  -999.0,9,   -999.0,9,  -999.00,-999.0000,9,  -999.00,   0.033,2,   1.8225,2,    2.20,2, -999.00,9,  -999.0,9,   7.654,2,   0.026,-999.000,9,-999.000,9,   42.76,2,   37.00,2, -999.00,1, -999.00,9, -999.00,9,   0.006,-999.0000,9,-999.0000,9,-999.0000,9,-999.0000,9,-999.0000,9,-999.0000,9,-999.0000,9,-999.0000,9,-999.0000,9,   9.2877,     -999.0,9,     -999.0,9,     -999.0,9,     -999.0,9,     -999.0,9,     -999.0,9,     -999.0,9,   0.0051,    0.15
33RO20071215,        P18,      77,          1,         22,      12015,2,20080110,       0413,   -15.8322,  -103.0003,       3968,   466.7,   8.0003,  34.5762,2,  34.5750,2,     33.4,2,    33.7,2,   32.30,2,   39.00,2,    0.00,2,    2.78,2,-999.000,9,-999.000,9,-999.0000,9,  2268.3,2,  -999.0,9,   -999.0,9,  -999.00,-999.0000,9,  -999.00,-999.000,9,-999.0000,9, -999.00,9, -999.00,9,  -999.0,9,-999.000,9,-999.000,-999.000,9,-999.000,9,   41.53,2,   40.26,2, -999.00,1, -999.00,9, -999.00,9,-999.000,-999.0000,9,-999.0000,9,-999.0000,9,-999.0000,9,-999.0000,9,-999.0000,9,-999.0000,9,-999.0000,9,-999.0000,9,   7.9525,     -999.0,9,     -999.0,9,     -999.0,9,     -999.0,9,     -999.0,9,     -999.0,9,     -999.0,9,-999.0000, -999.00
33RO20071215,        P18,      77,          1,         21,      12020,2,20080110,       0413,   -15.8322,  -103.0003,       3968,   566.8,   6.7682,  34.5299,2,  34.5310,2,     45.1,2,    45.4,2,   40.20,2,   41.30,2,    0.00,2,    2.89,2,   0.028,2,   0.016,2,   0.0000,2,  2271.5,2,  2304.0,2,   -999.0,9,  -999.00,   7.3918,2,    25.00,-999.000,9,-999.0000,9, -999.00,9, -999.00,9,  -999.0,9,-999.000,9,-999.000,-999.000,9,-999.000,9,   40.35,2,   42.67,2, -999.00,1, -999.00,9, -999.00,9,-999.000,-999.0000,9,-999.0000,9,-999.0000,9,-999.0000,9,-999.0000,9,-999.0000,9,-999.0000,9,-999.0000,9,-999.0000,9,   6.7151,     -999.0,9,     -999.0,9,     -999.0,9,     -999.0,9,     -999.0,9,     -999.0,9,     -999.0,9,-999.0000, -999.00
33RO20071215,        P18,      77,          1,         20,      12055,2,20080110,       0413,   -15.8322,  -103.0003,       3968,   665.6,   6.1234,  34.5131,2,  34.5122,2,     48.0,2,    47.8,2,   46.60,2,   42.60,2,    0.00,2,    2.98,2,-999.000,9,-999.000,9,-999.0000,9,  -999.0,9,  -999.0,9,   -999.0,9,  -999.00,-999.0000,9,  -999.00,-999.000,9,-999.0000,9, -999.00,9, -999.00,9,  -999.0,9,-999.000,9,-999.000,-999.000,9,-999.000,9,   39.03,2,   43.97,2, -999.00,1, -999.00,9, -999.00,9,-999.000,-999.0000,9,-999.0000,9,-999.0000,9,-999.0000,9,-999.0000,9,-999.0000,9,-999.0000,9,-999.0000,9,-999.0000,9,   6.0639,     -999.0,9,     -999.0,9,     -999.0,9,     -999.0,9,     -999.0,9,     -999.0,9,     -999.0,9,-999.0000, -999.00
33RO20071215,        P18,      77,          1,         19,      12018,2,20080110,       0413,   -15.8322,  -103.0003,       3968,   766.9,   5.4847,  34.5083,2,  34.5093,2,     49.4,2,    49.9,2,   56.10,2,   43.60,2,    0.00,2,    3.07,2,-999.000,9,-999.000,9,-999.0000,9,  2288.5,2,  -999.0,9,   -999.0,9,  -999.00,-999.0000,9,  -999.00,-999.000,9,-999.0000,9, -999.00,9, -999.00,9,  -999.0,9,-999.000,9,-999.000,-999.000,9,-999.000,9,   38.64,2,   44.78,2, -999.00,1, -999.00,9, -999.00,9,-999.000,-999.0000,9,-999.0000,9,-999.0000,9,-999.0000,9,-999.0000,9,-999.0000,9,-999.0000,9,-999.0000,9,-999.0000,9,   5.4192,     -999.0,9,     -999.0,9,     -999.0,9,     -999.0,9,     -999.0,9,     -999.0,9,     -999.0,9,-999.0000, -999.00
33RO20071215,        P18,      77,          1,         18,      12025,2,20080110,       0413,   -15.8322,  -103.0003,       3968,   865.7,   5.0475,  34.5075,2,  34.5092,2,     58.2,2,    57.6,2,   63.30,2,   43.20,2,    0.00,2,    3.06,2,-999.000,9,-999.000,9,-999.0000,9,  -999.0,9,  -999.0,9,   -999.0,9,  -999.00,-999.0000,9,  -999.00,-999.000,9,-999.0000,9, -999.00,9, -999.00,9,  -999.0,9,-999.000,9,-999.000,-999.000,9,-999.000,9,   38.59,2,   44.25,2, -999.00,1, -999.00,9, -999.00,9,-999.000,-999.0000,9,-999.0000,9,-999.0000,9,-999.0000,9,-999.0000,9,-999.0000,9,-999.0000,9,-999.0000,9,-999.0000,9,   4.9759,     -999.0,9,     -999.0,9,     -999.0,9,     -999.0,9,     -999.0,9,     -999.0,9,     -999.0,9,-999.0000, -999.00
33RO20071215,        P18,      77,          1,         17,      12016,2,20080110,       0413,   -15.8322,  -103.0003,       3968,   966.6,   4.5747,  34.5229,2,  34.5227,2,     61.3,2,    61.2,2,   74.10,2,   43.40,2,    0.00,2,    3.08,2,-999.000,9,-999.000,9,-999.0000,9,  2302.7,2,  2339.6,2,   -999.0,9,  -999.00,   7.4150,2,    25.00,-999.000,9,-999.0000,9, -999.00,9, -999.00,9,  -999.0,9,-999.000,9,-999.000,-999.000,9,-999.000,9,   37.78,2,   44.25,2, -999.00,1, -999.00,9, -999.00,9,-999.000,-999.0000,9,-999.0000,9,-999.0000,9,-999.0000,9,-999.0000,9,-999.0000,9,-999.0000,9,-999.0000,9,-999.0000,9,   4.4975,     -999.0,9,     -999.0,9,     -999.0,9,     -999.0,9,     -999.0,9,     -999.0,9,     -999.0,9,-999.0000, -999.00
33RO20071215,        P18,      77,          1,         16,      12051,2,20080110,       0413,   -15.8322,  -103.0003,       3968,  1067.3,   4.1720,  34.5351,2,  34.5350,2,     69.5,2,    69.2,2,   82.80,2,   42.80,2,    0.00,2,    3.05,2,-999.000,9,-999.000,9,-999.0000,9,  -999.0,9,  -999.0,9,   -999.0,9,  -999.00,-999.0000,9,  -999.00,-999.000,9,-999.0000,9, -999.00,9, -999.00,9,  -999.0,9,-999.000,9,-999.000,-999.000,9,-999.000,9,   38.08,2,   44.26,2, -999.00,9, -999.00,9, -999.00,9,-999.000,-999.0000,9,-999.0000,9,-999.0000,9,-999.0000,9,-999.0000,9,-999.0000,9,-999.0000,9,-999.0000,9,-999.0000,9,   4.0892,     -999.0,9,     -999.0,9,     -999.0,9,     -999.0,9,     -999.0,9,     -999.0,9,     -999.0,9,-999.0000, -999.00
33RO20071215,        P18,      77,          1,         15,      12014,2,20080110,       0413,   -15.8322,  -103.0003,       3968,  1167.9,   3.8604,  34.5480,2,  34.5485,2,     74.5,2,    75.2,2,   90.30,2,   42.30,2,    0.00,2,    3.02,2,-999.000,9,-999.000,9,-999.0000,9,  2312.5,2,  -999.0,9,   -999.0,9,  -999.00,-999.0000,9,  -999.00,-999.000,9,-999.0000,9, -999.00,9, -999.00,9,  -999.0,9,-999.000,9,-999.000,-999.000,9,-999.000,9,   38.30,2,   43.57,2, -999.00,9, -999.00,9, -999.00,9,-999.000,-999.0000,9,-999.0000,9,-999.0000,9,-999.0000,9,-999.0000,9,-999.0000,9,-999.0000,9,-999.0000,9,-999.0000,9,   3.7717,     -999.0,9,     -999.0,9,     -999.0,9,     -999.0,9,     -999.0,9,     -999.0,9,     -999.0,9,-999.0000, -999.00
33RO20071215,        P18,      77,          1,         14,      12013,2,20080110,       0413,   -15.8322,  -103.0003,       3968,  1257.8,   3.5370,  34.5633,2,  34.5626,2,     80.2,2,    80.3,2,   98.40,2,   41.80,2,    0.00,2,    3.00,2,-999.000,9,-999.000,9,-999.0000,9,  -999.0,9,  -999.0,9,   -999.0,9,  -999.00,-999.0000,9,  -999.00,-999.000,9,-999.0000,9, -999.00,9, -999.00,9,  -999.0,9,-999.000,9,-999.000,-999.000,9,-999.000,9,   37.46,2,   42.80,2, -999.00,9, -999.00,9, -999.00,9,-999.000,-999.0000,9,-999.0000,9,-999.0000,9,-999.0000,9,-999.0000,9,-999.0000,9,-999.0000,9,-999.0000,9,-999.0000,9,   3.4437,     -999.0,9,     -999.0,9,     -999.0,9,     -999.0,9,     -999.0,9,     -999.0,9,     -999.0,9,-999.0000, -999.00
33RO20071215,        P18,      77,          1,         13,      12012,2,20080110,       0413,   -15.8322,  -103.0003,       3968,  1367.4,   3.2421,  34.5785,2,  34.5802,2,     87.0,2,    87.3,2,  105.80,2,   41.30,2,    0.00,2,    2.95,2,-999.000,9,-999.000,9,-999.0000,9,  2322.0,2,  2374.5,2,   -999.0,9,  -999.00,   7.4539,2,    25.00,-999.000,9,-999.0000,9, -999.00,9, -999.00,9,  -999.0,9,-999.000,9,-999.000,-999.000,9,-999.000,9,   37.26,2,   42.93,2, -999.00,9, -999.00,9, -999.00,9,-999.000,-999.0000,9,-999.0000,9,-999.0000,9,-999.0000,9,-999.0000,9,-999.0000,9,-999.0000,9,-999.0000,9,-999.0000,9,   3.1426,     -999.0,9,     -999.0,9,     -999.0,9,     -999.0,9,     -999.0,9,     -999.0,9,     -999.0,9,-999.0000, -999.00
33RO20071215,        P18,      77,          1,         12,      12031,2,20080110,       0413,   -15.8322,  -103.0003,       3968,  1532.1,   2.9022,  34.5985,2,  34.5980,2,     95.4,2,    96.1,2,  114.30,2,   40.60,2,    0.00,2,    2.89,2,-999.000,9,-999.000,9,-999.0000,9,  -999.0,9,  -999.0,9,   -999.0,9,  -999.00,-999.0000,9,  -999.00,-999.000,9,-999.0000,9, -999.00,9, -999.00,9,  -999.0,9,-999.000,9,-999.000,-999.000,9,-999.000,9,   37.43,2,   41.72,2, -999.00,9, -999.00,9, -999.00,9,-999.000,-999.0000,9,-999.0000,9,-999.0000,9,-999.0000,9,-999.0000,9,-999.0000,9,-999.0000,9,-999.0000,9,-999.0000,9,   2.7928,     -999.0,9,     -999.0,9,     -999.0,9,     -999.0,9,     -999.0,9,     -999.0,9,     -999.0,9,-999.0000, -999.00