BOTTLE,20220818CCHSIOAMB
EXPOCODE,SECT_ID,STNNBR,CASTNO,SAMPNO,BTLNBR,BTLNBR_FLAG_W,DATE,TIME,LATITUDE,LONGITUDE,DEPTH,CTDPRS,CTDTMP,CTDSAL,CTDSAL_FLAG_W,SALNTY,SALNTY_FLAG_W,CTDOXY,CTDOXY_FLAG_W,OXYGEN,OXYGEN_FLAG_W,SILCAT,SILCAT_FLAG_W,NITRAT,NITRAT_FLAG_W,NITRIT,NITRIT_FLAG_W,PHSPHT,PHSPHT_FLAG_W,CFC-11,CFC-11_FLAG_W,CFC-12,CFC-12_FLAG_W,SF6,SF6_FLAG_W,TCARBN,TCARBN_FLAG_W,ALKALI,ALKALI_FLAG_W,FCO2,FCO2_FLAG_W,FCO2TMP,PH_SWS,PH_SWS_FLAG_W,PH_TMP,TRITUM,TRITUM_FLAG_W,HELIUM,HELIUM_FLAG_W,DELHE3,DELHE3_FLAG_W,DELC13,DELC13_FLAG_W,DELC14,DELC14_FLAG_W,NEON,NEON_FLAG_W,NEONER,CCL4,CCL4_FLAG_W,POC,POC_FLAG_W,DOC,DOC_FLAG_W,TDN,TDN_FLAG_W,DON,DON_FLAG_W,CHLORA,CHLORA_FLAG_W,ARGON,ARGON_FLAG_W,TRITER,CDOM325,CDOM325_FLAG_W,CDOM340,CDOM340_FLAG_W,CDOM380,CDOM380_FLAG_W,CDOM412,CDOM412_FLAG_W,CDOM443,CDOM443_FLAG_W,CDOM490,CDOM490_FLAG_W,CDOM555,CDOM555_FLAG_W,CDOMSL,CDOMSL_FLAG_W,CDOMSN,CDOMSN_FLAG_W,THETA,D18O_NO3,D18O_NO3_FLAG_W,CDOM2C,CDOM2C_FLAG_W,CDOM3C,CDOM3C_FLAG_W,LAB_DEN,LAB_DEN_FLAG_W,DELSI30,DELSI30_FLAG_W,N2,N2_FLAG_W,D15N_NO3,D15N_NO3_FLAG_W,HELIER,DELHER
,,,,,,,,,,,METERS,DBAR,ITS-90,PSS-78,,PSS-78,,UMOL/KG,,UMOL/KG,,UMOL/KG,,UMOL/KG,,UMOL/KG,,UMOL/KG,,PMOL/KG,,PMOL/KG,,FMOL/KG,,UMOL/KG,,UMOL/KG,,UATM,,DEG C,,,DEG C,TU,,NMOL/KG,,PERCNT,,/MILLE,,/MILLE,,NMOL/KG,,NMOL/KG,PMOL/KG,,UG/KG,,UMOL/KG,,UMOL/KG,,UMOL/KG,,UG/KG,,UMOL/KG,,TU,1/M,,1/M,,1/M,,1/M,,1/M,,1/M,,1/M,,1/NM,,1/NM,,DEG C,/MILLE,,,,,,,,/MILLE,,UMOL/KG,,/MILLE,,NMOL/KG,PERCNT
33RO20071215,        P18,     108,          1,         11,      12003,2,20080125,       1531,   -33.9135,  -102.9975,       3425,  1534.6,   2.9100,  34.5523,2,  34.5519,2,    128.3,2,   128.2,2,   90.50,2,   37.30,2,    0.00,2,    2.67,2,   0.030,3,   0.006,3,   0.1002,3,  2289.1,6,  -999.0,9,   -999.0,9,  -999.00,   7.5159,2,    25.00,-999.000,9,-999.0000,9, -999.00,9, -999.00,9,  -999.0,9,-999.000,9,-999.000,-999.000,9,-999.000,9,   36.75,2,   38.81,2, -999.00,9, -999.00,9, -999.00,9,-999.000,-999.0000,5,-999.0000,5,-999.0000,5,-999.0000,5,-999.0000,5,-999.0000,5,-999.0000,5,-999.0000,5,-999.0000,5,   2.8004,     -999.0,9,     -999.0,9,     -999.0,9,     -999.0,9,     -999.0,9,     -999.0,9,     -999.0,9,-999.0000, -999.00
33RO20071215,        P18,     108,          1,         10,      12032,2,20080125,       1531,   -33.9135,  -102.9975,       3425,  1733.6,   2.5742,  34.5896,2,  34.5883,2,    137.2,2,   136.1,2,   99.30,2,   36.60,2,    0.00,2,    2.59,2,-999.000,9,-999.000,9,-999.0000,9,  -999.0,9,  -999.0,9,   -999.0,9,  -999.00,-999.0000,9,  -999.00,-999.000,9,-999.0000,9, -999.00,9, -999.00,9,  -999.0,9,-999.000,9,-999.000,-999.000,9,-999.000,9,   36.61,2,   38.09,2, -999.00,9, -999.00,9, -999.00,9,-999.000,   0.1176,2,   0.0778,2,   0.0390,2,   0.0258,2,   0.0154,2,   0.0052,2,   0.0009,2,   0.0162,2,   0.0185,2,   2.4520,     -999.0,9,     -999.0,9,     -999.0,9,     -999.0,9,     -999.0,9,     -999.0,9,     -999.0,9,-999.0000, -999.00
33RO20071215,        P18,     108,          1,          9,      12002,2,20080125,       1531,   -33.9135,  -102.9975,       3425,  1935.0,   2.2996,  34.6186,2,  34.6192,2,    147.9,2,   147.8,2,  105.00,2,   35.60,2,    0.00,2,    2.51,2,-999.000,9,-999.000,9,-999.0000,9,  2290.4,2,  2371.5,2,   1217.4,2,    20.00,   7.5555,2,    25.00,-999.000,9,-999.0000,9, -999.00,9, -999.00,9,  -999.0,9,-999.000,9,-999.000,-999.000,9,-999.000,9,   36.06,2,   36.75,2, -999.00,9, -999.00,9, -999.00,9,-999.000,   0.1100,2,   0.0714,2,   0.0346,2,   0.0220,2,   0.0129,2,   0.0041,3,   0.0006,4,   0.0170,2,   0.0198,2,   2.1642,     -999.0,9,     -999.0,9,     -999.0,9,     -999.0,9,     -999.0,9,     -999.0,9,     -999.0,9,-999.0000, -999.00
33RO20071215,        P18,     108,          1,          8,      12021,2,20080125,       1531,   -33.9135,  -102.9975,       3425,  2131.8,   2.0868,  34.6479,2,  34.6485,2,    155.8,2,   155.6,2,  109.30,2,   34.90,2,    0.00,2,    2.45,2,-999.000,5,-999.000,5,-999.0000,5,  -999.0,9,  -999.0,9,   -999.0,9,  -999.00,-999.0000,9,  -999.00,-999.000,9,-999.0000,9, -999.00,9, -999.00,9,  -999.0,9,-999.000,9,-999.000,-999.000,1,-999.000,9,   35.89,2,   36.34,2, -999.00,9, -999.00,9, -999.00,9,-999.000,   0.1110,2,   0.0721,2,   0.0345,2,   0.0219,2,   0.0126,2,   0.0038,2,   0.0003,3,   0.0173,2,   0.0200,2,   1.9377,     -999.0,9,     -999.0,9,     -999.0,9,     -999.0,9,     -999.0,9,     -999.0,9,     -999.0,9,-999.0000, -999.00
33RO20071215,        P18,     108,          1,          7,      12001,2,20080125,       1531,   -33.9135,  -102.9975,       3425,  2332.7,   1.9351,  34.6700,2,  34.6709,2,    161.3,2,   161.6,2,  113.10,2,   34.40,2,    0.00,2,    2.39,2,-999.000,9,-999.000,9,-999.0000,9,  2289.1,2,  -999.0,9,   -999.0,9,  -999.00,   7.5701,2,    25.00,-999.000,9,-999.0000,9, -999.00,9, -999.00,9,  -999.0,9,-999.000,9,-999.000,-999.000,9,-999.000,9,   36.75,2,   35.54,2, -999.00,9, -999.00,9, -999.00,9,-999.000,   0.1104,2,   0.0717,2,   0.0340,2,   0.0211,2,   0.0122,2,   0.0038,2,   0.0004,3,   0.0176,2,   0.0203,2,   1.7709,     -999.0,9,     -999.0,9,     -999.0,9,     -999.0,9,     -999.0,9,     -999.0,9,     -999.0,9,-999.0000, -999.00
33RO20071215,        P18,     108,          1,          6,      12033,2,20080125,       1531,   -33.9135,  -102.9975,       3425,  2532.6,   1.8340,  34.6813,2,  34.6829,2,    164.8,2,   164.5,2,  116.10,2,   34.20,2,    0.00,2,    2.39,2,   0.002,2,   0.001,2,   0.0000,2,  -999.0,9,  -999.0,9,   -999.0,9,  -999.00,-999.0000,9,  -999.00,-999.000,9,-999.0000,9, -999.00,9, -999.00,9,  -999.0,9,-999.000,9,-999.000,   0.014,3,-999.000,9,   37.90,2,   35.57,2, -999.00,9, -999.00,9, -999.00,9,-999.000,   0.1068,2,   0.0687,2,   0.0320,2,   0.0193,2,   0.0109,2,   0.0031,3,   0.0000,4,   0.0183,2,   0.0212,2,   1.6537,     -999.0,9,     -999.0,9,     -999.0,9,     -999.0,9,     -999.0,9,     -999.0,9,     -999.0,9,-999.0000, -999.00
33RO20071215,        P18,     108,          1,          5,      12008,2,20080125,       1531,   -33.9135,  -102.9975,       3425,  2731.7,   1.7640,  34.6869,2,  34.6880,2,    166.5,2,   167.4,2,  118.40,2,   34.10,2,    0.00,2,    2.38,2,-999.000,9,-999.000,9,-999.0000,9,  2290.7,2,  2386.0,2,   1120.7,2,    20.00,   7.5897,2,    25.00,-999.000,9,-999.0000,9, -999.00,9, -999.00,9,  -999.0,9,-999.000,9,-999.000,-999.000,9,-999.000,9,   36.33,2,   35.30,2, -999.00,9, -999.00,9, -999.00,9,-999.000,   0.1067,2,   0.0689,2,   0.0319,2,   0.0188,2,   0.0106,2,   0.0031,2,   0.0003,3,   0.0185,2,   0.0214,2,   1.5667,     -999.0,9,     -999.0,9,     -999.0,9,     -999.0,9,     -999.0,9,     -999.0,9,     -999.0,9,-999.0000, -999.00
33RO20071215,        P18,     108,          1,          4,      12009,2,20080125,       1531,   -33.9135,  -102.9975,       3425,  2934.3,   1.7480,  34.6892,2,  34.6903,2,    167.6,2,   167.7,2,  119.10,6,   34.20,6,    0.00,6,    2.37,2,   0.001,2,   0.000,2,   0.0000,2,  -999.0,9,  -999.0,9,   -999.0,9,  -999.00,-999.0000,9,  -999.00,-999.000,9,-999.0000,9, -999.00,9, -999.00,9,  -999.0,9,-999.000,9,-999.000,   0.011,3,-999.000,9,   37.82,2,   35.56,2, -999.00,9, -999.00,9, -999.00,9,-999.000,   0.1083,2,   0.0699,2,   0.0328,2,   0.0200,2,   0.0113,2,   0.0033,2,   0.0000,4,   0.0180,2,   0.0208,2,   1.5319,     -999.0,9,     -999.0,9,     -999.0,9,     -999.0,9,     -999.0,9,     -999.0,9,     -999.0,9,-999.0000, -999.00
33RO20071215,        P18,     108,          1,          3,      12006,2,20080125,       1531,   -33.9135,  -102.9975,       3425,  3165.6,   1.7552,  34.6907,2,  34.6914,2,    168.5,2,   167.9,2,  119.60,6,   34.20,6,    0.00,6,    2.36,2,-999.000,9,-999.000,9,-999.0000,9,  2292.2,2,  -999.0,9,   -999.0,9,  -999.00,   7.5821,2,    25.00,-999.000,9,-999.0000,9, -999.00,9, -999.00,9,  -999.0,9,-999.000,9,-999.000,-999.000,9,-999.000,9,   37.12,2,   35.15,2, -999.00,9, -999.00,9, -999.00,9,-999.000,   0.1066,2,   0.0686,2,   0.0321,2,   0.0196,2,   0.0109,2,   0.0030,2,  -0.0002,4,   0.0181,2,   0.0210,2,   1.5164,     -999.0,9,     -999.0,9,     -999.0,9,     -999.0,9,     -999.0,9,     -999.0,9,     -999.0,9,-999.0000, -999.00
33RO20071215,        P18,     108,          1,          2,      12007,2,20080125,       1531,   -33.9135,  -102.9975,       3425,  3415.2,   1.7744,  34.6915,2,  34.6929,2,    168.2,2,   168.4,2,  119.60,6,   34.20,6,    0.00,6,    2.37,2,-999.000,9,-999.000,9,-999.0000,9,  -999.0,9,  -999.0,9,   -999.0,9,  -999.00,-999.0000,9,  -999.00,-999.000,9,-999.0000,9, -999.00,9, -999.00,9,  -999.0,9,-999.000,9,-999.000,-999.000,9,-999.000,9,   37.11,2,   35.28,2, -999.00,9, -999.00,9, -999.00,9,-999.000,   0.1055,2,   0.0674,2,   0.0310,2,   0.0181,2,   0.0100,2,   0.0028,3,   0.0000,4,   0.0189,2,   0.0218,2,   1.5100,     -999.0,9,     -999.0,9,     -999.0,9,     -999.0,9,     -999.0,9,     -999.0,9,     -999.0,9,-999.0000, -999.00
33RO20071215,        P18,     108,          1,          1,      12035,2,20080125,       1531,   -33.9135,  -102.9975,       3425,  3471.3,   1.7806,  34.6914,2,  34.6927,2,    168.4,2,   167.7,2,  119.70,2,   34.20,2,    0.01,2,    2.36,2,  -0.001,2,   0.000,2,   0.0000,2,  2292.8,6,  2388.7,2,   1113.0,2,    20.00,   7.5730,2,    25.00,-999.000,9,-999.0000,9, -999.00,9, -999.00,9,  -999.0,9,-999.000,9,-999.000,   0.009,3,-999.000,9,   37.92,2,   35.63,2, -999.00,9, -999.00,9, -999.00,9,-999.000,   0.1058,2,   0.0679,2,   0.0311,2,   0.0183,2,   0.0100,2,   0.0028,2,  -0.0001,4,   0.0189,2,   0.0218,2,   1.5103,     -999.0,9,     -999.0,9,     -999.0,9,     -999.0,9,     -999.0,9,     -999.0,9,     -999.0,9,-999.0000, -999.00