BOTTLE,20220818CCHSIOAMB
EXPOCODE,SECT_ID,STNNBR,CASTNO,SAMPNO,BTLNBR,BTLNBR_FLAG_W,DATE,TIME,LATITUDE,LONGITUDE,DEPTH,CTDPRS,CTDTMP,CTDSAL,CTDSAL_FLAG_W,SALNTY,SALNTY_FLAG_W,CTDOXY,CTDOXY_FLAG_W,OXYGEN,OXYGEN_FLAG_W,SILCAT,SILCAT_FLAG_W,NITRAT,NITRAT_FLAG_W,NITRIT,NITRIT_FLAG_W,PHSPHT,PHSPHT_FLAG_W,CFC-11,CFC-11_FLAG_W,CFC-12,CFC-12_FLAG_W,SF6,SF6_FLAG_W,TCARBN,TCARBN_FLAG_W,ALKALI,ALKALI_FLAG_W,FCO2,FCO2_FLAG_W,FCO2TMP,PH_SWS,PH_SWS_FLAG_W,PH_TMP,TRITUM,TRITUM_FLAG_W,HELIUM,HELIUM_FLAG_W,DELHE3,DELHE3_FLAG_W,DELC13,DELC13_FLAG_W,DELC14,DELC14_FLAG_W,NEON,NEON_FLAG_W,NEONER,CCL4,CCL4_FLAG_W,POC,POC_FLAG_W,DOC,DOC_FLAG_W,TDN,TDN_FLAG_W,DON,DON_FLAG_W,CHLORA,CHLORA_FLAG_W,ARGON,ARGON_FLAG_W,TRITER,CDOM325,CDOM325_FLAG_W,CDOM340,CDOM340_FLAG_W,CDOM380,CDOM380_FLAG_W,CDOM412,CDOM412_FLAG_W,CDOM443,CDOM443_FLAG_W,CDOM490,CDOM490_FLAG_W,CDOM555,CDOM555_FLAG_W,CDOMSL,CDOMSL_FLAG_W,CDOMSN,CDOMSN_FLAG_W,THETA,D18O_NO3,D18O_NO3_FLAG_W,CDOM2C,CDOM2C_FLAG_W,CDOM3C,CDOM3C_FLAG_W,LAB_DEN,LAB_DEN_FLAG_W,DELSI30,DELSI30_FLAG_W,N2,N2_FLAG_W,D15N_NO3,D15N_NO3_FLAG_W,HELIER,DELHER
,,,,,,,,,,,METERS,DBAR,ITS-90,PSS-78,,PSS-78,,UMOL/KG,,UMOL/KG,,UMOL/KG,,UMOL/KG,,UMOL/KG,,UMOL/KG,,PMOL/KG,,PMOL/KG,,FMOL/KG,,UMOL/KG,,UMOL/KG,,UATM,,DEG C,,,DEG C,TU,,NMOL/KG,,PERCNT,,/MILLE,,/MILLE,,NMOL/KG,,NMOL/KG,PMOL/KG,,UG/KG,,UMOL/KG,,UMOL/KG,,UMOL/KG,,UG/KG,,UMOL/KG,,TU,1/M,,1/M,,1/M,,1/M,,1/M,,1/M,,1/M,,1/NM,,1/NM,,DEG C,/MILLE,,,,,,,,/MILLE,,UMOL/KG,,/MILLE,,NMOL/KG,PERCNT
33RO20071215,        P18,      16,          1,         36,      12017,2,20071221,       0654,    15.5830,  -110.0002,       3830,     5.1,  26.9108,  33.3800,2,  33.3812,2,    203.8,2,   203.1,2,    1.30,2,    0.00,2,    0.00,2,    0.10,2,   1.643,2,   1.060,2,   1.0719,2,  1899.4,6,  2203.8,2,   -999.0,9,  -999.00,   8.0821,2,    25.00,-999.000,9,-999.0000,9, -999.00,9, -999.00,9,  -999.0,9,-999.000,9,-999.000,-999.000,9,-999.000,9, -999.00,9, -999.00,9, -999.00,9, -999.00,9, -999.00,9,-999.000,-999.0000,9,-999.0000,9,-999.0000,9,-999.0000,9,-999.0000,9,-999.0000,9,-999.0000,9,-999.0000,9,-999.0000,9,  26.9097,     -999.0,9,     -999.0,9,     -999.0,9,     -999.0,9,     -999.0,9,     -999.0,9,     -999.0,9,-999.0000, -999.00
33RO20071215,        P18,      16,          1,         35,      12029,2,20071221,       0654,    15.5830,  -110.0002,       3830,    10.0,  26.9189,  33.3797,2,  33.3805,2,    204.1,2,   203.3,2,    1.30,2,    0.10,2,    0.01,2,    0.11,2,   1.645,2,   1.055,2,   1.0772,2,  1898.1,2,  2203.0,2,   -999.0,9,  -999.00,   8.0816,2,    25.00,-999.000,9,-999.0000,9, -999.00,9, -999.00,9,  -999.0,9,-999.000,9,-999.000,-999.000,9,-999.000,9, -999.00,9, -999.00,9, -999.00,9, -999.00,9, -999.00,9,-999.000,-999.0000,9,-999.0000,9,-999.0000,9,-999.0000,9,-999.0000,9,-999.0000,9,-999.0000,9,-999.0000,9,-999.0000,9,  26.9167,     -999.0,9,     -999.0,9,     -999.0,9,     -999.0,9,     -999.0,9,     -999.0,9,     -999.0,9,-999.0000, -999.00
33RO20071215,        P18,      16,          1,         34,      12049,2,20071221,       0654,    15.5830,  -110.0002,       3830,    20.3,  26.9204,  33.3793,2,  33.3810,2,    204.4,2,   202.5,2,    1.30,2,    0.10,2,    0.01,2,    0.12,2,   1.660,2,   1.063,2,   0.9991,2,  1898.5,2,  2201.2,2,   -999.0,9,  -999.00,   8.0763,2,    25.00,-999.000,9,-999.0000,9, -999.00,9, -999.00,9,  -999.0,9,-999.000,9,-999.000,-999.000,9,-999.000,9, -999.00,9, -999.00,9, -999.00,9, -999.00,9, -999.00,9,-999.000,-999.0000,9,-999.0000,9,-999.0000,9,-999.0000,9,-999.0000,9,-999.0000,9,-999.0000,9,-999.0000,9,-999.0000,9,  26.9158,     -999.0,9,     -999.0,9,     -999.0,9,     -999.0,9,     -999.0,9,     -999.0,9,     -999.0,9,-999.0000, -999.00
33RO20071215,        P18,      16,          1,         33,      12027,2,20071221,       0654,    15.5830,  -110.0002,       3830,    39.8,  25.2418,  34.1635,2,  34.2863,2,    192.4,2,   162.3,2,    4.80,2,    3.90,2,    0.13,2,    0.67,2,   1.746,2,   1.078,2,   0.9517,2,  2048.5,2,  2276.4,2,   -999.0,9,  -999.00,   7.9170,2,    25.00,-999.000,9,-999.0000,9, -999.00,9, -999.00,9,  -999.0,9,-999.000,9,-999.000,-999.000,9,-999.000,9, -999.00,9, -999.00,9, -999.00,9, -999.00,9, -999.00,9,-999.000,-999.0000,9,-999.0000,9,-999.0000,9,-999.0000,9,-999.0000,9,-999.0000,9,-999.0000,9,-999.0000,9,-999.0000,9,  25.2332,     -999.0,9,     -999.0,9,     -999.0,9,     -999.0,9,     -999.0,9,     -999.0,9,     -999.0,9,-999.0000, -999.00
33RO20071215,        P18,      16,          1,         32,      12023,2,20071221,       0654,    15.5830,  -110.0002,       3830,    60.5,  19.3001,  34.4769,2,  34.4852,2,     77.4,2,    67.0,2,   11.00,2,   16.50,2,    0.53,2,    1.61,2,   1.614,2,   0.973,2,   0.7608,2,  2161.8,2,  2282.6,2,   -999.0,9,  -999.00,   7.6687,2,    25.00,-999.000,9,-999.0000,9, -999.00,9, -999.00,9,  -999.0,9,-999.000,9,-999.000,-999.000,9,-999.000,9, -999.00,9, -999.00,9, -999.00,9, -999.00,9, -999.00,9,-999.000,-999.0000,9,-999.0000,9,-999.0000,9,-999.0000,9,-999.0000,9,-999.0000,9,-999.0000,9,-999.0000,9,-999.0000,9,  19.2892,     -999.0,9,     -999.0,9,     -999.0,9,     -999.0,9,     -999.0,9,     -999.0,9,     -999.0,9,-999.0000, -999.00
33RO20071215,        P18,      16,          1,         31,      12037,2,20071221,       0654,    15.5830,  -110.0002,       3830,    79.2,  16.9610,  34.5846,2,  34.5932,2,     20.9,2,  -999.0,5,   17.30,2,   24.20,2,    0.62,2,    2.20,2,   1.356,2,   0.802,2,   0.5032,2,  2217.2,2,  2285.1,2,   -999.0,9,  -999.00,   7.5149,2,    25.00,-999.000,9,-999.0000,9, -999.00,9, -999.00,9,  -999.0,9,-999.000,9,-999.000,-999.000,9,-999.000,9, -999.00,9, -999.00,9, -999.00,9, -999.00,9, -999.00,9,-999.000,-999.0000,9,-999.0000,9,-999.0000,9,-999.0000,9,-999.0000,9,-999.0000,9,-999.0000,9,-999.0000,9,-999.0000,9,  16.9481,     -999.0,9,     -999.0,9,     -999.0,9,     -999.0,9,     -999.0,9,     -999.0,9,     -999.0,9,-999.0000, -999.00
33RO20071215,        P18,      16,          1,         30,      12036,2,20071221,       0654,    15.5830,  -110.0002,       3830,   100.5,  14.4891,  34.7027,2,  34.7049,2,      4.5,2,     1.9,2,   24.10,2,   25.30,2,    0.17,2,    2.42,2,   1.025,2,   0.604,2,   0.2644,2,  2245.0,2,  2295.1,2,   -999.0,9,  -999.00,   7.4611,2,    25.00,-999.000,9,-999.0000,9, -999.00,9, -999.00,9,  -999.0,9,-999.000,9,-999.000,-999.000,9,-999.000,9, -999.00,9, -999.00,9, -999.00,9, -999.00,9, -999.00,9,-999.000,-999.0000,9,-999.0000,9,-999.0000,9,-999.0000,9,-999.0000,9,-999.0000,9,-999.0000,9,-999.0000,9,-999.0000,9,  14.4743,     -999.0,9,     -999.0,9,     -999.0,9,     -999.0,9,     -999.0,9,     -999.0,9,     -999.0,9,-999.0000, -999.00
33RO20071215,        P18,      16,          1,         29,      12044,2,20071221,       0654,    15.5830,  -110.0002,       3830,   124.3,  12.9705,  34.7677,2,  34.7680,2,      3.5,2,     2.6,2,   28.30,2,   22.70,2,    2.64,2,    2.49,2,   0.686,2,   0.409,2,   0.2157,2,  2258.7,2,  2300.8,2,   -999.0,9,  -999.00,   7.4395,2,    25.00,-999.000,9,-999.0000,9, -999.00,9, -999.00,9,  -999.0,9,-999.000,9,-999.000,-999.000,9,-999.000,9, -999.00,9, -999.00,9, -999.00,9, -999.00,9, -999.00,9,-999.000,-999.0000,9,-999.0000,9,-999.0000,9,-999.0000,9,-999.0000,9,-999.0000,9,-999.0000,9,-999.0000,9,-999.0000,9,  12.9535,     -999.0,9,     -999.0,9,     -999.0,9,     -999.0,9,     -999.0,9,     -999.0,9,     -999.0,9,-999.0000, -999.00
33RO20071215,        P18,      16,          1,         28,      12057,2,20071221,       0654,    15.5830,  -110.0002,       3830,   150.2,  12.3634,  34.7715,2,  34.7699,2,      3.2,2,     2.8,2,   29.50,2,   23.70,2,    2.71,2,    2.47,2,   0.536,2,   0.324,2,   0.1741,2,  2261.1,2,  2302.2,2,   -999.0,9,  -999.00,   7.4352,2,    25.00,-999.000,9,-999.0000,9, -999.00,9, -999.00,9,  -999.0,9,-999.000,9,-999.000,-999.000,9,-999.000,9, -999.00,9, -999.00,9, -999.00,9, -999.00,9, -999.00,9,-999.000,-999.0000,9,-999.0000,9,-999.0000,9,-999.0000,9,-999.0000,9,-999.0000,9,-999.0000,9,-999.0000,9,-999.0000,9,  12.3435,     -999.0,9,     -999.0,9,     -999.0,9,     -999.0,9,     -999.0,9,     -999.0,9,     -999.0,9,-999.0000, -999.00
33RO20071215,        P18,      16,          1,         27,      12026,2,20071221,       0654,    15.5830,  -110.0002,       3830,   175.1,  11.9511,  34.7566,2,  34.7557,2,      2.9,2,     2.7,2,   30.60,2,   24.70,2,    2.18,2,    2.50,2,   0.447,2,   0.273,2,   0.1600,2,  2264.1,2,  2303.3,2,   -999.0,9,  -999.00,   7.4257,2,    25.00,-999.000,9,-999.0000,9, -999.00,9, -999.00,9,  -999.0,9,-999.000,9,-999.000,-999.000,9,-999.000,9, -999.00,9, -999.00,9, -999.00,9, -999.00,9, -999.00,9,-999.000,-999.0000,9,-999.0000,9,-999.0000,9,-999.0000,9,-999.0000,9,-999.0000,9,-999.0000,9,-999.0000,9,-999.0000,9,  11.9284,     -999.0,9,     -999.0,9,     -999.0,9,     -999.0,9,     -999.0,9,     -999.0,9,     -999.0,9,-999.0000, -999.00
33RO20071215,        P18,      16,          1,         26,      12030,2,20071221,       0654,    15.5830,  -110.0002,       3830,   199.5,  11.6407,  34.7536,2,  34.7523,2,      2.7,2,     2.4,2,   31.50,2,   24.70,2,    2.08,2,    2.50,2,   0.394,2,   0.237,2,   0.0637,2,  2267.7,2,  2303.9,2,   -999.0,9,  -999.00,   7.4205,2,    25.00,-999.000,9,-999.0000,9, -999.00,9, -999.00,9,  -999.0,9,-999.000,9,-999.000,-999.000,9,-999.000,9, -999.00,9, -999.00,9, -999.00,9, -999.00,9, -999.00,9,-999.000,-999.0000,9,-999.0000,9,-999.0000,9,-999.0000,9,-999.0000,9,-999.0000,9,-999.0000,9,-999.0000,9,-999.0000,9,  11.6153,     -999.0,9,     -999.0,9,     -999.0,9,     -999.0,9,     -999.0,9,     -999.0,9,     -999.0,9,-999.0000, -999.00
33RO20071215,        P18,      16,          1,         25,      12024,2,20071221,       0654,    15.5830,  -110.0002,       3830,   248.2,  11.1049,  34.7268,2,  34.7261,2,      2.6,2,     2.8,2,   34.10,2,   23.30,2,    1.91,2,    2.58,2,   0.265,2,   0.161,2,   0.0585,2,  2276.6,2,  2310.3,2,   -999.0,9,  -999.00,   7.4040,2,    25.00,-999.000,9,-999.0000,9, -999.00,9, -999.00,9,  -999.0,9,-999.000,9,-999.000,-999.000,9,-999.000,9, -999.00,9, -999.00,9, -999.00,9, -999.00,9, -999.00,9,-999.000,-999.0000,9,-999.0000,9,-999.0000,9,-999.0000,9,-999.0000,9,-999.0000,9,-999.0000,9,-999.0000,9,-999.0000,9,  11.0742,     -999.0,9,     -999.0,9,     -999.0,9,     -999.0,9,     -999.0,9,     -999.0,9,     -999.0,9,-999.0000, -999.00
33RO20071215,        P18,      16,          1,         24,      12019,2,20071221,       0654,    15.5830,  -110.0002,       3830,   299.3,  10.6668,  34.6981,2,  34.6966,2,      2.6,2,     2.1,2,   36.40,2,   24.70,2,    1.32,2,    2.63,2,   0.190,2,   0.116,2,   0.0213,2,  2280.7,2,  2309.5,2,   -999.0,9,  -999.00,   7.3936,2,    25.00,-999.000,9,-999.0000,9, -999.00,9, -999.00,9,  -999.0,9,-999.000,9,-999.000,-999.000,9,-999.000,9, -999.00,9, -999.00,9, -999.00,9, -999.00,9, -999.00,9,-999.000,-999.0000,9,-999.0000,9,-999.0000,9,-999.0000,9,-999.0000,9,-999.0000,9,-999.0000,9,-999.0000,9,-999.0000,9,  10.6306,     -999.0,9,     -999.0,9,     -999.0,9,     -999.0,9,     -999.0,9,     -999.0,9,     -999.0,9,-999.0000, -999.00
33RO20071215,        P18,      16,          1,         23,      12022,2,20071221,       0654,    15.5830,  -110.0002,       3830,   350.4,   9.8870,  34.6520,2,  34.6518,2,      2.5,2,     1.7,2,   40.20,2,   28.60,2,    0.61,2,    2.70,2,   0.102,2,   0.063,2,   0.0000,2,  -999.0,9,  -999.0,9,   -999.0,9,  -999.00,-999.0000,9,  -999.00,-999.000,9,-999.0000,9, -999.00,9, -999.00,9,  -999.0,9,-999.000,9,-999.000,-999.000,9,-999.000,9, -999.00,9, -999.00,9, -999.00,9, -999.00,9, -999.00,9,-999.000,-999.0000,9,-999.0000,9,-999.0000,9,-999.0000,9,-999.0000,9,-999.0000,9,-999.0000,9,-999.0000,9,-999.0000,9,   9.8465,     -999.0,9,     -999.0,9,     -999.0,9,     -999.0,9,     -999.0,9,     -999.0,9,     -999.0,9,-999.0000, -999.00
33RO20071215,        P18,      16,          1,         22,      12015,2,20071221,       0654,    15.5830,  -110.0002,       3830,   399.2,   9.0386,  34.6082,2,  34.6085,2,      2.4,2,     2.2,2,   46.60,2,   31.90,2,    0.08,2,    2.81,2,   0.048,2,   0.031,2,   0.0222,2,  2293.0,2,  2313.6,2,   -999.0,9,  -999.00,   7.3624,2,    25.00,-999.000,9,-999.0000,9, -999.00,9, -999.00,9,  -999.0,9,-999.000,9,-999.000,-999.000,9,-999.000,9, -999.00,9, -999.00,9, -999.00,9, -999.00,9, -999.00,9,-999.000,-999.0000,9,-999.0000,9,-999.0000,9,-999.0000,9,-999.0000,9,-999.0000,9,-999.0000,9,-999.0000,9,-999.0000,9,   8.9949,     -999.0,9,     -999.0,9,     -999.0,9,     -999.0,9,     -999.0,9,     -999.0,9,     -999.0,9,-999.0000, -999.00
33RO20071215,        P18,      16,          1,         21,      12020,2,20071221,       0654,    15.5830,  -110.0002,       3830,   499.8,   7.9258,  34.5568,2,  34.5552,2,      2.5,2,     2.2,2,   56.30,2,   35.70,2,    0.01,2,    2.95,2,   0.018,2,   0.011,2,   0.0000,2,  -999.0,9,  -999.0,9,   -999.0,9,  -999.00,-999.0000,9,  -999.00,-999.000,9,-999.0000,9, -999.00,9, -999.00,9,  -999.0,9,-999.000,9,-999.000,-999.000,9,-999.000,9, -999.00,9, -999.00,9, -999.00,9, -999.00,9, -999.00,9,-999.000,-999.0000,9,-999.0000,9,-999.0000,9,-999.0000,9,-999.0000,9,-999.0000,9,-999.0000,9,-999.0000,9,-999.0000,9,   7.8748,     -999.0,9,     -999.0,9,     -999.0,9,     -999.0,9,     -999.0,9,     -999.0,9,     -999.0,9,-999.0000, -999.00
33RO20071215,        P18,      16,          1,         20,      12055,2,20071221,       0654,    15.5830,  -110.0002,       3830,   599.1,   6.9687,  34.5411,2,  34.5429,2,      2.4,2,     2.4,2,   67.30,2,   38.10,2,    0.01,2,    3.13,2,   0.008,2,   0.006,2,   0.0000,2,  2318.5,2,  2331.3,2,   -999.0,9,  -999.00,   7.3463,2,    25.00,-999.000,9,-999.0000,9, -999.00,9, -999.00,9,  -999.0,9,-999.000,9,-999.000,-999.000,9,-999.000,9, -999.00,9, -999.00,9, -999.00,9, -999.00,9, -999.00,9,-999.000,-999.0000,9,-999.0000,9,-999.0000,9,-999.0000,9,-999.0000,9,-999.0000,9,-999.0000,9,-999.0000,9,-999.0000,9,   6.9115,     -999.0,9,     -999.0,9,     -999.0,9,     -999.0,9,     -999.0,9,     -999.0,9,     -999.0,9,-999.0000, -999.00
33RO20071215,        P18,      16,          1,         19,      12018,4,20071221,       0654,    15.5830,  -110.0002,       3830,   699.9,   6.2379,  34.5424,2,  34.4835,4,      2.5,2,    69.2,4,   10.60,3,   16.60,3,    0.52,3,    1.60,3,   1.617,4,   0.974,4,   0.7221,4,  -999.0,9,  -999.0,9,   -999.0,9,  -999.00,-999.0000,9,  -999.00,-999.000,9,-999.0000,9, -999.00,9, -999.00,9,  -999.0,9,-999.000,9,-999.000,-999.000,9,-999.000,9, -999.00,9, -999.00,9, -999.00,9, -999.00,9, -999.00,9,-999.000,-999.0000,9,-999.0000,9,-999.0000,9,-999.0000,9,-999.0000,9,-999.0000,9,-999.0000,9,-999.0000,9,-999.0000,9,   6.1745,     -999.0,9,     -999.0,9,     -999.0,9,     -999.0,9,     -999.0,9,     -999.0,9,     -999.0,9,-999.0000, -999.00
33RO20071215,        P18,      16,          1,         18,      12025,2,20071221,       0654,    15.5830,  -110.0002,       3830,   799.8,   5.5303,  34.5412,2,  34.5409,2,      3.4,2,     3.4,2,   85.60,2,   43.30,2,    0.01,2,    3.26,2,   0.002,2,   0.001,2,   0.0000,2,  2340.3,2,  2348.3,2,   -999.0,9,  -999.00,   7.3289,2,    25.00,-999.000,9,-999.0000,9, -999.00,9, -999.00,9,  -999.0,9,-999.000,9,-999.000,-999.000,9,-999.000,9, -999.00,9, -999.00,9, -999.00,9, -999.00,9, -999.00,9,-999.000,-999.0000,9,-999.0000,9,-999.0000,9,-999.0000,9,-999.0000,9,-999.0000,9,-999.0000,9,-999.0000,9,-999.0000,9,   5.4615,     -999.0,9,     -999.0,9,     -999.0,9,     -999.0,9,     -999.0,9,     -999.0,9,     -999.0,9,-999.0000, -999.00
33RO20071215,        P18,      16,          1,         17,      12016,2,20071221,       0654,    15.5830,  -110.0002,       3830,   899.3,   4.9776,  34.5444,2,  34.5439,2,      6.8,2,     7.5,2,   94.90,2,   44.60,2,    0.01,2,    3.29,2,   0.003,2,   0.001,2,   0.0000,2,  -999.0,9,  -999.0,9,   -999.0,9,  -999.00,-999.0000,9,  -999.00,-999.000,9,-999.0000,9, -999.00,9, -999.00,9,  -999.0,9,-999.000,9,-999.000,-999.000,9,-999.000,9, -999.00,9, -999.00,9, -999.00,9, -999.00,9, -999.00,9,-999.000,-999.0000,9,-999.0000,9,-999.0000,9,-999.0000,9,-999.0000,9,-999.0000,9,-999.0000,9,-999.0000,9,-999.0000,9,   4.9034,     -999.0,9,     -999.0,9,     -999.0,9,     -999.0,9,     -999.0,9,     -999.0,9,     -999.0,9,-999.0000, -999.00
33RO20071215,        P18,      16,          1,         16,      12051,2,20071221,       0654,    15.5830,  -110.0002,       3830,  1001.2,   4.5448,  34.5508,2,  34.5499,2,     12.9,2,    13.0,2,  102.30,2,   44.90,2,    0.00,2,    3.28,2,   0.004,2,   0.003,2,  -0.0049,2,  2354.0,2,  2365.6,2,   -999.0,9,  -999.00,   7.3342,2,    25.00,-999.000,9,-999.0000,9, -999.00,9, -999.00,9,  -999.0,9,-999.000,9,-999.000,-999.000,9,-999.000,9, -999.00,9, -999.00,9, -999.00,9, -999.00,9, -999.00,9,-999.000,-999.0000,9,-999.0000,9,-999.0000,9,-999.0000,9,-999.0000,9,-999.0000,9,-999.0000,9,-999.0000,9,-999.0000,9,   4.4648,     -999.0,9,     -999.0,9,     -999.0,9,     -999.0,9,     -999.0,9,     -999.0,9,     -999.0,9,-999.0000, -999.00
33RO20071215,        P18,      16,          1,         15,      12014,2,20071221,       0654,    15.5830,  -110.0002,       3830,  1099.6,   4.1499,  34.5611,2,  34.5606,2,     18.4,2,    18.3,2,  110.80,2,   45.00,2,    0.00,2,    3.28,2,   0.003,2,   0.002,2,   0.0000,2,  -999.0,9,  -999.0,9,   -999.0,9,  -999.00,-999.0000,9,  -999.00,-999.000,9,-999.0000,9, -999.00,9, -999.00,9,  -999.0,9,-999.000,9,-999.000,-999.000,9,-999.000,9, -999.00,9, -999.00,9, -999.00,9, -999.00,9, -999.00,9,-999.000,-999.0000,9,-999.0000,9,-999.0000,9,-999.0000,9,-999.0000,9,-999.0000,9,-999.0000,9,-999.0000,9,-999.0000,9,   4.0645,     -999.0,9,     -999.0,9,     -999.0,9,     -999.0,9,     -999.0,9,     -999.0,9,     -999.0,9,-999.0000, -999.00
33RO20071215,        P18,      16,          1,         14,      12013,2,20071221,       0654,    15.5830,  -110.0002,       3830,  1199.9,   3.8533,  34.5709,2,  34.5707,2,     26.8,2,    27.5,2,  115.90,2,   44.60,2,    0.00,2,    3.21,2,   0.002,2,   0.001,2,   0.0000,2,  2363.0,2,  2381.4,2,   -999.0,9,  -999.00,   7.3600,2,    25.00,-999.000,9,-999.0000,9, -999.00,9, -999.00,9,  -999.0,9,-999.000,9,-999.000,-999.000,9,-999.000,9, -999.00,9, -999.00,9, -999.00,9, -999.00,9, -999.00,9,-999.000,-999.0000,9,-999.0000,9,-999.0000,9,-999.0000,9,-999.0000,9,-999.0000,9,-999.0000,9,-999.0000,9,-999.0000,9,   3.7619,     -999.0,9,     -999.0,9,     -999.0,9,     -999.0,9,     -999.0,9,     -999.0,9,     -999.0,9,-999.0000, -999.00
33RO20071215,        P18,      16,          1,         13,      12012,2,20071221,       0654,    15.5830,  -110.0002,       3830,  1299.2,   3.6307,  34.5785,2,  34.5780,2,     35.5,2,    35.6,2,  119.90,2,   44.20,2,    0.00,2,    3.15,2,   0.001,2,   0.002,2,   0.0000,2,  -999.0,9,  -999.0,9,   -999.0,9,  -999.00,-999.0000,9,  -999.00,-999.000,9,-999.0000,9, -999.00,9, -999.00,9,  -999.0,9,-999.000,9,-999.000,-999.000,9,-999.000,9, -999.00,9, -999.00,9, -999.00,9, -999.00,9, -999.00,9,-999.000,-999.0000,9,-999.0000,9,-999.0000,9,-999.0000,9,-999.0000,9,-999.0000,9,-999.0000,9,-999.0000,9,-999.0000,9,   3.5330,     -999.0,9,     -999.0,9,     -999.0,9,     -999.0,9,     -999.0,9,     -999.0,9,     -999.0,9,-999.0000, -999.00
33RO20071215,        P18,      16,          1,         12,      12031,2,20071221,       0654,    15.5830,  -110.0002,       3830,  1400.4,   3.3557,  34.5899,2,  34.5896,2,     42.5,2,    48.2,3,  125.90,2,   43.70,2,    0.00,2,    3.10,2,   0.002,2,   0.003,2,   0.0000,2,  -999.0,9,  -999.0,9,   -999.0,9,  -999.00,-999.0000,9,  -999.00,-999.000,9,-999.0000,9, -999.00,9, -999.00,9,  -999.0,9,-999.000,9,-999.000,-999.000,9,-999.000,9, -999.00,9, -999.00,9, -999.00,9, -999.00,9, -999.00,9,-999.000,-999.0000,9,-999.0000,9,-999.0000,9,-999.0000,9,-999.0000,9,-999.0000,9,-999.0000,9,-999.0000,9,-999.0000,9,   3.2522,     -999.0,9,     -999.0,9,     -999.0,9,     -999.0,9,     -999.0,9,     -999.0,9,     -999.0,9,-999.0000, -999.00