BOTTLE,20220818CCHSIOAMB
EXPOCODE,SECT_ID,STNNBR,CASTNO,SAMPNO,BTLNBR,BTLNBR_FLAG_W,DATE,TIME,LATITUDE,LONGITUDE,DEPTH,CTDPRS,CTDTMP,CTDSAL,CTDSAL_FLAG_W,SALNTY,SALNTY_FLAG_W,CTDOXY,CTDOXY_FLAG_W,OXYGEN,OXYGEN_FLAG_W,SILCAT,SILCAT_FLAG_W,NITRAT,NITRAT_FLAG_W,NITRIT,NITRIT_FLAG_W,PHSPHT,PHSPHT_FLAG_W,CFC-11,CFC-11_FLAG_W,CFC-12,CFC-12_FLAG_W,SF6,SF6_FLAG_W,TCARBN,TCARBN_FLAG_W,ALKALI,ALKALI_FLAG_W,FCO2,FCO2_FLAG_W,FCO2TMP,PH_SWS,PH_SWS_FLAG_W,PH_TMP,TRITUM,TRITUM_FLAG_W,HELIUM,HELIUM_FLAG_W,DELHE3,DELHE3_FLAG_W,DELC13,DELC13_FLAG_W,DELC14,DELC14_FLAG_W,NEON,NEON_FLAG_W,NEONER,CCL4,CCL4_FLAG_W,POC,POC_FLAG_W,DOC,DOC_FLAG_W,TDN,TDN_FLAG_W,DON,DON_FLAG_W,CHLORA,CHLORA_FLAG_W,ARGON,ARGON_FLAG_W,TRITER,CDOM325,CDOM325_FLAG_W,CDOM340,CDOM340_FLAG_W,CDOM380,CDOM380_FLAG_W,CDOM412,CDOM412_FLAG_W,CDOM443,CDOM443_FLAG_W,CDOM490,CDOM490_FLAG_W,CDOM555,CDOM555_FLAG_W,CDOMSL,CDOMSL_FLAG_W,CDOMSN,CDOMSN_FLAG_W,THETA,D18O_NO3,D18O_NO3_FLAG_W,CDOM2C,CDOM2C_FLAG_W,CDOM3C,CDOM3C_FLAG_W,LAB_DEN,LAB_DEN_FLAG_W,DELSI30,DELSI30_FLAG_W,N2,N2_FLAG_W,D15N_NO3,D15N_NO3_FLAG_W,HELIER,DELHER
,,,,,,,,,,,METERS,DBAR,ITS-90,PSS-78,,PSS-78,,UMOL/KG,,UMOL/KG,,UMOL/KG,,UMOL/KG,,UMOL/KG,,UMOL/KG,,PMOL/KG,,PMOL/KG,,FMOL/KG,,UMOL/KG,,UMOL/KG,,UATM,,DEG C,,,DEG C,TU,,NMOL/KG,,PERCNT,,/MILLE,,/MILLE,,NMOL/KG,,NMOL/KG,PMOL/KG,,UG/KG,,UMOL/KG,,UMOL/KG,,UMOL/KG,,UG/KG,,UMOL/KG,,TU,1/M,,1/M,,1/M,,1/M,,1/M,,1/M,,1/M,,1/NM,,1/NM,,DEG C,/MILLE,,,,,,,,/MILLE,,UMOL/KG,,/MILLE,,NMOL/KG,PERCNT
33RO20071215,        P18,      12,          1,         24,      11024,4,20071220,       0532,    17.9142,  -109.9983,       3459,    10.9,  25.2060,  34.6213,2,-999.0000,9,    207.5,2,  -999.0,9, -999.00,9, -999.00,9, -999.00,9, -999.00,9,-999.000,5,-999.000,5,-999.0000,5,  -999.0,5,  -999.0,9,   -999.0,9,  -999.00,-999.0000,9,  -999.00,-999.000,9,-999.0000,9, -999.00,9, -999.00,9,  -999.0,9,-999.000,9,-999.000,-999.000,9,-999.000,9, -999.00,9, -999.00,9, -999.00,9, -999.00,9, -999.00,9,-999.000,-999.0000,9,-999.0000,9,-999.0000,9,-999.0000,9,-999.0000,9,-999.0000,9,-999.0000,9,-999.0000,9,-999.0000,9,  25.2037,     -999.0,9,     -999.0,9,     -999.0,9,     -999.0,9,     -999.0,9,     -999.0,9,     -999.0,9,-999.0000, -999.00
33RO20071215,        P18,      12,          1,         23,      11023,2,20071220,       0532,    17.9142,  -109.9983,       3459,    25.7,  25.1212,  34.6516,2,  34.6536,2,    208.3,2,   207.6,2,    1.90,2,    0.10,2,    0.01,2,    0.27,2,   1.758,2,   1.123,2,   1.0883,2,  2002.2,2,  2303.4,2,   -999.0,9,  -999.00,   8.0261,2,    25.00,   0.724,2,   1.7284,2,   -1.68,2,     1.3,2,  -999.0,1,   6.782,2,   0.023,-999.000,9,-999.000,9, -999.00,9, -999.00,9, -999.00,9, -999.00,9, -999.00,9,   0.008,-999.0000,9,-999.0000,9,-999.0000,9,-999.0000,9,-999.0000,9,-999.0000,9,-999.0000,9,-999.0000,9,-999.0000,9,  25.1156,     -999.0,9,     -999.0,9,     -999.0,9,     -999.0,9,     -999.0,9,     -999.0,9,     -999.0,9,   0.0048,    0.15
33RO20071215,        P18,      12,          1,         22,      11022,2,20071220,       0532,    17.9142,  -109.9983,       3459,    49.9,  21.7556,  34.2968,2,  34.3193,2,    173.8,2,   168.0,2,    4.60,2,    4.60,2,    0.39,2,    0.73,2,   2.072,2,   1.262,2,   1.0820,2,  2073.6,2,  2279.3,2,   -999.0,9,  -999.00,   7.8746,2,    25.00,   0.684,2,   1.7449,2,   -0.22,2,    0.84,2,  -999.0,1,   6.951,2,   0.024,-999.000,9,-999.000,9, -999.00,9, -999.00,9, -999.00,9, -999.00,9, -999.00,9,   0.008,-999.0000,9,-999.0000,9,-999.0000,9,-999.0000,9,-999.0000,9,-999.0000,9,-999.0000,9,-999.0000,9,-999.0000,9,  21.7458,     -999.0,9,     -999.0,9,     -999.0,9,     -999.0,9,     -999.0,9,     -999.0,9,     -999.0,9,   0.0049,    0.15
33RO20071215,        P18,      12,          1,         21,      11021,2,20071220,       0532,    17.9142,  -109.9983,       3459,    75.1,  16.8456,  34.4826,2,  34.5066,2,     61.7,2,    55.2,2,   16.40,2,   19.90,2,    0.05,2,    1.91,2,   1.810,2,   1.083,2,   0.7894,2,  2198.4,2,  2283.0,2,   -999.0,9,  -999.00,   7.5774,2,    25.00,   0.535,2,   1.7724,2,    1.77,2, -999.00,9,  -999.0,1,   7.227,2,   0.025,-999.000,9,-999.000,9, -999.00,9, -999.00,9, -999.00,9, -999.00,9, -999.00,9,   0.007,-999.0000,9,-999.0000,9,-999.0000,9,-999.0000,9,-999.0000,9,-999.0000,9,-999.0000,9,-999.0000,9,-999.0000,9,  16.8333,     -999.0,9,     -999.0,9,     -999.0,9,     -999.0,9,     -999.0,9,     -999.0,9,     -999.0,9,   0.0050,    0.15
33RO20071215,        P18,      12,          1,         20,      11020,2,20071220,       0532,    17.9142,  -109.9983,       3459,   100.5,  14.8659,  34.6547,2,  34.6847,2,     31.1,2,    26.7,2,   25.30,2,   23.60,2,    0.02,2,    2.38,2,   1.478,2,   0.890,2,   0.6233,2,  2243.3,2,  2297.9,2,   -999.0,9,  -999.00,   7.4845,2,    25.00,-999.000,9,-999.0000,9, -999.00,9,   -0.38,2,  -999.0,1,-999.000,9,-999.000,-999.000,9,-999.000,9, -999.00,9, -999.00,9, -999.00,9, -999.00,9, -999.00,9,-999.000,-999.0000,9,-999.0000,9,-999.0000,9,-999.0000,9,-999.0000,9,-999.0000,9,-999.0000,9,-999.0000,9,-999.0000,9,  14.8509,     -999.0,9,     -999.0,9,     -999.0,9,     -999.0,9,     -999.0,9,     -999.0,9,     -999.0,9,-999.0000, -999.00
33RO20071215,        P18,      12,          1,         19,      11019,2,20071220,       0532,    17.9142,  -109.9983,       3459,   125.8,  13.9670,  34.7732,2,  34.7731,2,     14.2,2,    14.1,2,   29.60,2,   23.40,2,    0.02,2,    2.52,2,   1.131,2,   0.685,2,   0.4172,2,  2259.6,2,  2304.6,2,   -999.0,9,  -999.00,   7.4542,2,    25.00,   0.340,2,   1.7826,2,    5.11,2, -999.00,9,  -999.0,9,   7.244,2,   0.025,-999.000,9,-999.000,9, -999.00,9, -999.00,9, -999.00,9, -999.00,9, -999.00,9,   0.007,-999.0000,9,-999.0000,9,-999.0000,9,-999.0000,9,-999.0000,9,-999.0000,9,-999.0000,9,-999.0000,9,-999.0000,9,  13.9490,     -999.0,9,     -999.0,9,     -999.0,9,     -999.0,9,     -999.0,9,     -999.0,9,     -999.0,9,   0.0050,    0.15
33RO20071215,        P18,      12,          1,         18,      11018,2,20071220,       0532,    17.9142,  -109.9983,       3459,   150.7,  13.2455,  34.7858,2,  34.7845,2,      3.9,2,     3.5,2,   29.00,2,   17.10,2,    4.74,2,    2.52,2,   0.779,6,   0.489,6,   0.2474,6,  2262.1,2,  2316.5,2,   -999.0,9,  -999.00,   7.4422,2,    25.00,   0.335,2,-999.0000,9, -999.00,9,   -0.28,2,  -999.0,1,-999.000,9,-999.000,-999.000,9,-999.000,9, -999.00,9, -999.00,9, -999.00,9, -999.00,9, -999.00,9,   0.007,-999.0000,9,-999.0000,9,-999.0000,9,-999.0000,9,-999.0000,9,-999.0000,9,-999.0000,9,-999.0000,9,-999.0000,9,  13.2246,     -999.0,9,     -999.0,9,     -999.0,9,     -999.0,9,     -999.0,9,     -999.0,9,     -999.0,9,-999.0000, -999.00
33RO20071215,        P18,      12,          1,         17,      11017,2,20071220,       0532,    17.9142,  -109.9983,       3459,   200.9,  12.4580,  34.7899,2,  34.7878,2,      3.5,2,     3.2,2,   30.70,2,   19.60,2,    3.88,2,    2.51,2,   0.586,2,   0.370,2,   0.1112,2,  2264.5,2,  2317.6,2,   -999.0,9,  -999.00,   7.4332,2,    25.00,-999.000,9,   1.7789,2,    6.78,2,   -0.31,2,  -999.0,1,   7.313,2,   0.025,-999.000,9,-999.000,9, -999.00,9, -999.00,9, -999.00,9, -999.00,9, -999.00,9,-999.000,-999.0000,9,-999.0000,9,-999.0000,9,-999.0000,9,-999.0000,9,-999.0000,9,-999.0000,9,-999.0000,9,-999.0000,9,  12.4312,     -999.0,9,     -999.0,9,     -999.0,9,     -999.0,9,     -999.0,9,     -999.0,9,     -999.0,9,   0.0050,    0.15
33RO20071215,        P18,      12,          1,         16,      11016,2,20071220,       0532,    17.9142,  -109.9983,       3459,   272.4,  11.6586,  34.7531,2,  34.7502,2,      3.5,2,     3.3,2,   34.00,2,   20.30,2,    2.76,2,    2.57,2,   0.398,2,   0.248,2,   0.0603,2,  2273.5,2,  2319.3,2,   -999.0,9,  -999.00,   7.4134,2,    25.00,   0.220,2,-999.0000,9, -999.00,9,   -0.32,2,  -999.0,1,-999.000,9,-999.000,-999.000,9,-999.000,9, -999.00,9, -999.00,9, -999.00,9, -999.00,9, -999.00,9,   0.006,-999.0000,9,-999.0000,9,-999.0000,9,-999.0000,9,-999.0000,9,-999.0000,9,-999.0000,9,-999.0000,9,-999.0000,9,  11.6237,     -999.0,9,     -999.0,9,     -999.0,9,     -999.0,9,     -999.0,9,     -999.0,9,     -999.0,9,-999.0000, -999.00
33RO20071215,        P18,      12,          1,         15,      11015,2,20071220,       0532,    17.9142,  -109.9983,       3459,   354.8,  10.4315,  34.6736,2,  34.6712,2,      3.5,2,     3.0,2,   41.70,2,   23.40,2,    1.22,2,    2.73,2,   0.242,2,   0.147,2,   0.0648,2,  2286.5,2,  2322.6,4,   -999.0,9,  -999.00,   7.3873,2,    25.00,   0.146,2,   1.8169,2,    7.05,2,   -0.34,2,  -999.0,1,   7.524,2,   0.026,-999.000,9,-999.000,9, -999.00,9, -999.00,9, -999.00,9, -999.00,9, -999.00,9,   0.006,-999.0000,9,-999.0000,9,-999.0000,9,-999.0000,9,-999.0000,9,-999.0000,9,-999.0000,9,-999.0000,9,-999.0000,9,  10.3890,     -999.0,9,     -999.0,9,     -999.0,9,     -999.0,9,     -999.0,9,     -999.0,9,     -999.0,9,   0.0051,    0.15
33RO20071215,        P18,      12,          1,         14,      11014,2,20071220,       0532,    17.9142,  -109.9983,       3459,   424.8,   9.2715,  34.6072,2,  34.6052,2,      3.6,2,     3.8,2,   48.80,2,   28.70,2,    0.03,2,    2.85,2,   0.117,2,   0.072,2,   0.0143,2,  2294.4,2,  2325.7,2,   -999.0,9,  -999.00,   7.3686,2,    25.00,   0.086,2,   1.8425,2,    7.45,2,    -0.6,4,  -999.0,1,   7.628,2,   0.026,-999.000,9,-999.000,9, -999.00,9, -999.00,9, -999.00,9, -999.00,9, -999.00,9,   0.006,-999.0000,9,-999.0000,9,-999.0000,9,-999.0000,9,-999.0000,9,-999.0000,9,-999.0000,9,-999.0000,9,-999.0000,9,   9.2241,     -999.0,9,     -999.0,9,     -999.0,9,     -999.0,9,     -999.0,9,     -999.0,9,     -999.0,9,   0.0052,    0.15
33RO20071215,        P18,      12,          1,         13,      11013,2,20071220,       0532,    17.9142,  -109.9983,       3459,   499.8,   7.9835,  34.5551,2,  34.5535,2,      3.7,2,     3.7,2,   59.80,2,   33.00,2,    0.01,2,    3.00,2,   0.048,2,   0.029,2,   0.0000,2,  2307.1,2,  2327.3,4,   -999.0,9,  -999.00,   7.3526,2,    25.00,-999.000,9,-999.0000,9, -999.00,9,    -0.1,3,  -999.0,9,-999.000,9,-999.000,-999.000,9,-999.000,9, -999.00,9, -999.00,9, -999.00,9, -999.00,9, -999.00,9,-999.000,-999.0000,9,-999.0000,9,-999.0000,9,-999.0000,9,-999.0000,9,-999.0000,9,-999.0000,9,-999.0000,9,-999.0000,9,   7.9323,     -999.0,9,     -999.0,9,     -999.0,9,     -999.0,9,     -999.0,9,     -999.0,9,     -999.0,9,-999.0000, -999.00
33RO20071215,        P18,      12,          1,         12,      11012,2,20071220,       0532,    17.9142,  -109.9983,       3459,   601.1,   6.9404,  34.5308,2,  34.5326,2,      3.7,2,     3.4,2,   70.60,2,   36.90,2,    0.01,2,    3.12,2,   0.020,2,   0.013,2,   0.0000,2,  2320.4,2,  2344.4,4,   -999.0,9,  -999.00,   7.3348,2,    25.00,   0.024,2,   1.8474,2,   10.97,2, -999.00,5,  -999.0,1,   7.694,2,   0.026,-999.000,9,-999.000,9, -999.00,9, -999.00,9, -999.00,9, -999.00,9, -999.00,9,   0.006,-999.0000,9,-999.0000,9,-999.0000,9,-999.0000,9,-999.0000,9,-999.0000,9,-999.0000,9,-999.0000,9,-999.0000,9,   6.8832,     -999.0,9,     -999.0,9,     -999.0,9,     -999.0,9,     -999.0,9,     -999.0,9,     -999.0,9,   0.0052,    0.15
33RO20071215,        P18,      12,          1,         11,      11010,2,20071220,       0532,    17.9142,  -109.9983,       3459,   751.4,   5.6813,  34.5166,2,  34.5160,2,      4.8,2,     4.6,2,   86.90,2,   41.50,2,    0.01,2,    3.20,2,  -0.001,2,   0.000,2,   0.0000,2,  2338.8,2,  2359.5,4,   -999.0,9,  -999.00,   7.3350,2,    25.00,   0.003,6,   1.8668,2,   14.70,2,   -0.35,2,  -999.0,1,   7.773,2,   0.026,-999.000,9,-999.000,9, -999.00,9, -999.00,9, -999.00,9, -999.00,9, -999.00,9,   0.004,-999.0000,9,-999.0000,9,-999.0000,9,-999.0000,9,-999.0000,9,-999.0000,9,-999.0000,9,-999.0000,9,-999.0000,9,   5.6162,     -999.0,9,     -999.0,9,     -999.0,9,     -999.0,9,     -999.0,9,     -999.0,9,     -999.0,9,   0.0052,    0.15
33RO20071215,        P18,      12,          1,         10,      11011,2,20071220,       0532,    17.9142,  -109.9983,       3459,   900.5,   4.8686,  34.5405,2,  34.5409,2,      7.7,2,     7.0,2,   98.50,2,   44.20,2,    0.01,2,    3.28,2,   0.005,2,   0.002,2,   0.0230,2,  2351.8,2,  2357.4,2,   -999.0,9,  -999.00,   7.3053,2,    25.00,   0.015,2,   1.9171,2,   16.20,2,   -0.37,2,  -999.0,1,   7.947,2,   0.027,-999.000,9,-999.000,9, -999.00,9, -999.00,9, -999.00,9, -999.00,9, -999.00,9,   0.005,-999.0000,9,-999.0000,9,-999.0000,9,-999.0000,9,-999.0000,9,-999.0000,9,-999.0000,9,-999.0000,9,-999.0000,9,   4.7951,     -999.0,9,     -999.0,9,     -999.0,9,     -999.0,9,     -999.0,9,     -999.0,9,     -999.0,9,   0.0054,    0.15
33RO20071215,        P18,      12,          1,          9,      11009,2,20071220,       0532,    17.9142,  -109.9983,       3459,  1050.0,   4.2220,  34.5550,2,  34.5545,2,     16.9,2,    16.4,2,  110.90,2,   44.60,2,    0.00,2,    3.28,2,   0.008,2,   0.005,2,   0.0297,2,  2360.5,2,  2369.0,2,   -999.0,9,  -999.00,   7.3371,2,    25.00,   0.010,2,   1.8928,2,   19.98,2, -999.00,9,  -999.0,9,   7.946,2,   0.027,-999.000,9,-999.000,9, -999.00,9, -999.00,9, -999.00,9, -999.00,9, -999.00,9,   0.005,-999.0000,9,-999.0000,9,-999.0000,9,-999.0000,9,-999.0000,9,-999.0000,9,-999.0000,9,-999.0000,9,-999.0000,9,   4.1403,     -999.0,9,     -999.0,9,     -999.0,9,     -999.0,9,     -999.0,9,     -999.0,9,     -999.0,9,   0.0053,    0.15
33RO20071215,        P18,      12,          1,          8,      11008,2,20071220,       0532,    17.9142,  -109.9983,       3459,  1202.5,   3.7504,  34.5724,2,  34.5708,2,     27.4,2,    27.2,2,  120.20,2,   44.10,2,    0.00,2,    3.22,2,   0.007,2,   0.004,2,   0.0177,2,  2364.7,2,  2378.8,2,   -999.0,9,  -999.00,   7.3553,2,    25.00,   0.007,2,   1.9075,2,   22.23,2,   -0.38,2,  -999.0,1,   7.978,2,   0.027,-999.000,9,-999.000,9, -999.00,9, -999.00,9, -999.00,9, -999.00,9, -999.00,9,   0.005,-999.0000,9,-999.0000,9,-999.0000,9,-999.0000,9,-999.0000,9,-999.0000,9,-999.0000,9,-999.0000,9,-999.0000,9,   3.6597,     -999.0,9,     -999.0,9,     -999.0,9,     -999.0,9,     -999.0,9,     -999.0,9,     -999.0,9,   0.0053,    0.15
33RO20071215,        P18,      12,          1,          7,      11007,2,20071220,       0532,    17.9142,  -109.9983,       3459,  1402.2,   3.2394,  34.5937,2,  34.5941,2,     42.5,2,    43.5,2,  130.70,2,   43.50,2,    0.00,2,    3.10,2,   0.005,2,   0.004,2,   0.0000,2,  2367.4,2,  2390.9,2,   -999.0,9,  -999.00,   7.3866,2,    25.00,-999.000,9,-999.0000,9, -999.00,9, -999.00,9,  -999.0,9,-999.000,9,-999.000,-999.000,9,-999.000,9, -999.00,9, -999.00,9, -999.00,9, -999.00,9, -999.00,9,-999.000,-999.0000,9,-999.0000,9,-999.0000,9,-999.0000,9,-999.0000,9,-999.0000,9,-999.0000,9,-999.0000,9,-999.0000,9,   3.1370,     -999.0,9,     -999.0,9,     -999.0,9,     -999.0,9,     -999.0,9,     -999.0,9,     -999.0,9,-999.0000, -999.00
33RO20071215,        P18,      12,          1,          6,      11006,2,20071220,       0532,    17.9142,  -109.9983,       3459,  1593.5,   2.9079,  34.6100,2,  34.6096,2,     56.2,2,    57.0,2,  136.50,2,   42.60,2,    0.00,2,    3.01,2,   0.002,2,   0.002,2,   0.0000,2,  2365.6,2,  2399.9,2,   -999.0,9,  -999.00,   7.4228,2,    25.00,-999.000,9,-999.0000,9, -999.00,9,   -0.29,2,  -999.0,1,-999.000,9,-999.000,-999.000,9,-999.000,9, -999.00,9, -999.00,9, -999.00,9, -999.00,9, -999.00,9,-999.000,-999.0000,9,-999.0000,9,-999.0000,9,-999.0000,9,-999.0000,9,-999.0000,9,-999.0000,9,-999.0000,9,-999.0000,9,   2.7932,     -999.0,9,     -999.0,9,     -999.0,9,     -999.0,9,     -999.0,9,     -999.0,9,     -999.0,9,-999.0000, -999.00
33RO20071215,        P18,      12,          1,          5,      11005,2,20071220,       0532,    17.9142,  -109.9983,       3459,  2001.4,   2.2514,  34.6415,2,  34.6424,2,     84.9,2,    83.9,2,  150.50,2,   40.70,2,    0.00,2,    2.81,2,   0.003,2,   0.004,2,   0.0561,2,  2364.2,2,  2420.4,2,   -999.0,9,  -999.00,   7.4656,2,    25.00,-999.000,9,-999.0000,9, -999.00,9, -999.00,9,  -999.0,9,-999.000,9,-999.000,   0.007,3,-999.000,9, -999.00,9, -999.00,9, -999.00,9, -999.00,9, -999.00,9,-999.000,-999.0000,9,-999.0000,9,-999.0000,9,-999.0000,9,-999.0000,9,-999.0000,9,-999.0000,9,-999.0000,9,-999.0000,9,   2.1109,     -999.0,9,     -999.0,9,     -999.0,9,     -999.0,9,     -999.0,9,     -999.0,9,     -999.0,9,-999.0000, -999.00
33RO20071215,        P18,      12,          1,          4,      11004,2,20071220,       0532,    17.9142,  -109.9983,       3459,  2401.0,   1.8825,  34.6613,2,  34.6619,2,    104.4,2,   104.3,2,  157.60,6,   39.30,6,    0.00,6,    2.66,2,   0.004,2,   0.005,2,   0.0237,2,  2360.1,2,  2439.7,4,   -999.0,9,  -999.00,   7.4994,2,    25.00,-999.000,9,-999.0000,9, -999.00,9,   -0.16,2,  -999.0,1,-999.000,9,-999.000,   0.007,3,-999.000,9, -999.00,9, -999.00,9, -999.00,9, -999.00,9, -999.00,9,-999.000,-999.0000,9,-999.0000,9,-999.0000,9,-999.0000,9,-999.0000,9,-999.0000,9,-999.0000,9,-999.0000,9,-999.0000,9,   1.7133,     -999.0,9,     -999.0,9,     -999.0,9,     -999.0,9,     -999.0,9,     -999.0,9,     -999.0,9,-999.0000, -999.00
33RO20071215,        P18,      12,          1,          3,      11003,2,20071220,       0532,    17.9142,  -109.9983,       3459,  2800.4,   1.7546,  34.6692,2,  34.6711,2,    113.9,2,   113.1,2,  160.30,6,   38.70,6,    0.00,6,    2.60,2,   0.004,2,   0.004,2,   0.0000,2,  2354.3,2,  2440.2,2,   -999.0,9,  -999.00,   7.5191,2,    25.00,-999.000,9,-999.0000,9, -999.00,9, -999.00,9,  -999.0,9,-999.000,9,-999.000,   0.005,3,-999.000,9, -999.00,9, -999.00,9, -999.00,9, -999.00,9, -999.00,9,-999.000,-999.0000,9,-999.0000,9,-999.0000,9,-999.0000,9,-999.0000,9,-999.0000,9,-999.0000,9,-999.0000,9,-999.0000,9,   1.5512,     -999.0,9,     -999.0,9,     -999.0,9,     -999.0,9,     -999.0,9,     -999.0,9,     -999.0,9,-999.0000, -999.00
33RO20071215,        P18,      12,          1,          2,      11002,2,20071220,       0532,    17.9142,  -109.9983,       3459,  3202.0,   1.7001,  34.6756,2,  34.6753,2,    121.1,2,   121.5,2,  159.70,6,   38.30,6,    0.00,6,    2.55,2,   0.005,2,   0.005,2,   0.0000,2,  2352.0,2,  2441.8,2,   -999.0,9,  -999.00,   7.5463,2,    25.00,   0.014,2,-999.0000,9, -999.00,9,   -0.06,2,  -999.0,1,-999.000,9,-999.000,   0.004,3,-999.000,9, -999.00,9, -999.00,9, -999.00,9, -999.00,9, -999.00,9,   0.005,-999.0000,9,-999.0000,9,-999.0000,9,-999.0000,9,-999.0000,9,-999.0000,9,-999.0000,9,-999.0000,9,-999.0000,9,   1.4591,     -999.0,9,     -999.0,9,     -999.0,9,     -999.0,9,     -999.0,9,     -999.0,9,     -999.0,9,-999.0000, -999.00
33RO20071215,        P18,      12,          1,          1,      11001,2,20071220,       0532,    17.9142,  -109.9983,       3459,  3487.9,   1.6995,  34.6776,2,  34.6783,2,    124.6,2,   123.3,2,  159.00,2,   38.30,2,    0.00,2,    2.54,2,   0.004,6,   0.004,6,   0.0000,6,  2350.6,6,  2442.2,2,   -999.0,9,  -999.00,   7.5395,2,    25.00,-999.000,9,-999.0000,9, -999.00,9,   -0.07,2,  -999.0,1,-999.000,9,-999.000,   0.006,3,-999.000,9, -999.00,9, -999.00,9, -999.00,9, -999.00,9, -999.00,9,-999.000,-999.0000,9,-999.0000,9,-999.0000,9,-999.0000,9,-999.0000,9,-999.0000,9,-999.0000,9,-999.0000,9,-999.0000,9,   1.4296,     -999.0,9,     -999.0,9,     -999.0,9,     -999.0,9,     -999.0,9,     -999.0,9,     -999.0,9,-999.0000, -999.00