BOTTLE,20220818CCHSIOAMB
EXPOCODE,SECT_ID,STNNBR,CASTNO,SAMPNO,BTLNBR,BTLNBR_FLAG_W,DATE,TIME,LATITUDE,LONGITUDE,DEPTH,CTDPRS,CTDTMP,CTDSAL,CTDSAL_FLAG_W,SALNTY,SALNTY_FLAG_W,CTDOXY,CTDOXY_FLAG_W,OXYGEN,OXYGEN_FLAG_W,SILCAT,SILCAT_FLAG_W,NITRAT,NITRAT_FLAG_W,NITRIT,NITRIT_FLAG_W,PHSPHT,PHSPHT_FLAG_W,CFC-11,CFC-11_FLAG_W,CFC-12,CFC-12_FLAG_W,SF6,SF6_FLAG_W,TCARBN,TCARBN_FLAG_W,ALKALI,ALKALI_FLAG_W,FCO2,FCO2_FLAG_W,FCO2TMP,PH_SWS,PH_SWS_FLAG_W,PH_TMP,TRITUM,TRITUM_FLAG_W,HELIUM,HELIUM_FLAG_W,DELHE3,DELHE3_FLAG_W,DELC13,DELC13_FLAG_W,DELC14,DELC14_FLAG_W,NEON,NEON_FLAG_W,NEONER,CCL4,CCL4_FLAG_W,POC,POC_FLAG_W,DOC,DOC_FLAG_W,TDN,TDN_FLAG_W,DON,DON_FLAG_W,CHLORA,CHLORA_FLAG_W,ARGON,ARGON_FLAG_W,TRITER,CDOM325,CDOM325_FLAG_W,CDOM340,CDOM340_FLAG_W,CDOM380,CDOM380_FLAG_W,CDOM412,CDOM412_FLAG_W,CDOM443,CDOM443_FLAG_W,CDOM490,CDOM490_FLAG_W,CDOM555,CDOM555_FLAG_W,CDOMSL,CDOMSL_FLAG_W,CDOMSN,CDOMSN_FLAG_W,THETA,D18O_NO3,D18O_NO3_FLAG_W,CDOM2C,CDOM2C_FLAG_W,CDOM3C,CDOM3C_FLAG_W,LAB_DEN,LAB_DEN_FLAG_W,DELSI30,DELSI30_FLAG_W,N2,N2_FLAG_W,D15N_NO3,D15N_NO3_FLAG_W,HELIER,DELHER
,,,,,,,,,,,METERS,DBAR,ITS-90,PSS-78,,PSS-78,,UMOL/KG,,UMOL/KG,,UMOL/KG,,UMOL/KG,,UMOL/KG,,UMOL/KG,,PMOL/KG,,PMOL/KG,,FMOL/KG,,UMOL/KG,,UMOL/KG,,UATM,,DEG C,,,DEG C,TU,,NMOL/KG,,PERCNT,,/MILLE,,/MILLE,,NMOL/KG,,NMOL/KG,PMOL/KG,,UG/KG,,UMOL/KG,,UMOL/KG,,UMOL/KG,,UG/KG,,UMOL/KG,,TU,1/M,,1/M,,1/M,,1/M,,1/M,,1/M,,1/M,,1/NM,,1/NM,,DEG C,/MILLE,,,,,,,,/MILLE,,UMOL/KG,,/MILLE,,NMOL/KG,PERCNT
33RO20071215,        P18,      61,          1,         11,      12003,2,20080105,       0646,    -7.5015,  -106.5097,       3250,  1433.9,   3.1210,  34.5926,2,  34.5935,2,    103.8,2,   103.0,2,  111.10,2,   39.50,2,    0.00,2,    2.76,2,   0.002,2,   0.001,2,   0.0000,2,  2316.6,2,  2045.4,4,   -999.0,9,  -999.00,   7.5012,2,    25.00,-999.000,9,-999.0000,9, -999.00,9, -999.00,9,  -999.0,9,-999.000,9,-999.000,-999.000,9,-999.000,9,   37.57,2,   40.73,2, -999.00,9, -999.00,9, -999.00,9,-999.000,-999.0000,9,-999.0000,9,-999.0000,9,-999.0000,9,-999.0000,9,-999.0000,9,-999.0000,9,-999.0000,9,-999.0000,9,   3.0172,     -999.0,9,     -999.0,9,     -999.0,9,     -999.0,9,     -999.0,9,     -999.0,9,     -999.0,9,-999.0000, -999.00
33RO20071215,        P18,      61,          1,         10,      12032,2,20080105,       0646,    -7.5015,  -106.5097,       3250,  1532.2,   2.8812,  34.6056,2,  34.6061,2,    106.2,2,   106.1,2,  118.10,2,   39.40,2,    0.00,2,    2.74,2,-999.000,9,-999.000,9,-999.0000,9,  2321.9,2,  2369.9,4,   -999.0,9,  -999.00,   7.4963,2,    25.00,-999.000,9,-999.0000,9, -999.00,9, -999.00,9,  -999.0,9,-999.000,9,-999.000,-999.000,9,-999.000,9,   38.53,2,   40.95,2, -999.00,9, -999.00,9, -999.00,9,-999.000,-999.0000,9,-999.0000,9,-999.0000,9,-999.0000,9,-999.0000,9,-999.0000,9,-999.0000,9,-999.0000,9,-999.0000,9,   2.7720,     -999.0,9,     -999.0,9,     -999.0,9,     -999.0,9,     -999.0,9,     -999.0,9,     -999.0,9,-999.0000, -999.00
33RO20071215,        P18,      61,          1,          9,      12002,2,20080105,       0646,    -7.5015,  -106.5097,       3250,  1666.3,   2.7021,  34.6193,2,  34.6194,2,    101.2,2,   101.5,2,  127.40,2,   39.70,2,    0.00,2,    2.77,2,  -0.001,2,   0.000,2,   0.0000,2,  2333.5,2,  2398.9,2,   -999.0,9,  -999.00,   7.4971,2,    25.00,-999.000,9,-999.0000,9, -999.00,9, -999.00,9,  -999.0,9,-999.000,9,-999.000,-999.000,9,-999.000,9,   38.72,2,   41.10,2, -999.00,9, -999.00,9, -999.00,9,-999.000,-999.0000,9,-999.0000,9,-999.0000,9,-999.0000,9,-999.0000,9,-999.0000,9,-999.0000,9,-999.0000,9,-999.0000,9,   2.5838,     -999.0,9,     -999.0,9,     -999.0,9,     -999.0,9,     -999.0,9,     -999.0,9,     -999.0,9,-999.0000, -999.00
33RO20071215,        P18,      61,          1,          8,      12021,2,20080105,       0646,    -7.5015,  -106.5097,       3250,  1866.5,   2.4166,  34.6351,2,  34.6354,2,    107.4,2,   107.6,2,  134.70,2,   39.30,2,    0.00,2,    2.73,2,-999.000,9,-999.000,9,-999.0000,9,  2337.8,2,  2407.6,2,   -999.0,9,  -999.00,   7.5029,2,    25.00,-999.000,9,-999.0000,9, -999.00,9, -999.00,9,  -999.0,9,-999.000,9,-999.000,-999.000,9,-999.000,9,   38.21,2,   40.44,2, -999.00,9, -999.00,9, -999.00,9,-999.000,-999.0000,9,-999.0000,9,-999.0000,9,-999.0000,9,-999.0000,9,-999.0000,9,-999.0000,9,-999.0000,9,-999.0000,9,   2.2853,     -999.0,9,     -999.0,9,     -999.0,9,     -999.0,9,     -999.0,9,     -999.0,9,     -999.0,9,-999.0000, -999.00
33RO20071215,        P18,      61,          1,          7,      12001,2,20080105,       0646,    -7.5015,  -106.5097,       3250,  2066.2,   2.2349,  34.6459,2,  34.6455,2,    113.1,2,   113.0,2,  138.90,2,   38.90,2,    0.00,2,    2.69,2,   0.002,2,   0.001,2,   0.0000,2,  2338.1,2,  2410.1,2,   -999.0,9,  -999.00,   7.5214,2,    25.00,-999.000,9,-999.0000,9, -999.00,9, -999.00,9,  -999.0,9,-999.000,9,-999.000,   0.003,3,-999.000,9,   37.99,2,   40.42,2, -999.00,9, -999.00,9, -999.00,9,-999.000,-999.0000,9,-999.0000,9,-999.0000,9,-999.0000,9,-999.0000,9,-999.0000,9,-999.0000,9,-999.0000,9,-999.0000,9,   2.0891,     -999.0,9,     -999.0,9,     -999.0,9,     -999.0,9,     -999.0,9,     -999.0,9,     -999.0,9,-999.0000, -999.00
33RO20071215,        P18,      61,          1,          6,      12033,2,20080105,       0646,    -7.5015,  -106.5097,       3250,  2265.7,   2.0829,  34.6558,2,  34.6560,2,    116.9,2,   117.2,2,  143.30,2,   38.60,2,    0.00,2,    2.66,2,-999.000,9,-999.000,9,-999.0000,9,  2340.7,2,  2420.9,2,   -999.0,9,  -999.00,   7.5218,2,    25.00,-999.000,9,-999.0000,9, -999.00,9, -999.00,9,  -999.0,9,-999.000,9,-999.000,-999.000,9,-999.000,9,   37.74,2,   40.15,2, -999.00,9, -999.00,9, -999.00,9,-999.000,-999.0000,9,-999.0000,9,-999.0000,9,-999.0000,9,-999.0000,9,-999.0000,9,-999.0000,9,-999.0000,9,-999.0000,9,   1.9221,     -999.0,9,     -999.0,9,     -999.0,9,     -999.0,9,     -999.0,9,     -999.0,9,     -999.0,9,-999.0000, -999.00
33RO20071215,        P18,      61,          1,          5,      12008,2,20080105,       0646,    -7.5015,  -106.5097,       3250,  2467.4,   1.9710,  34.6631,2,  34.6632,2,    122.8,2,   123.8,2,  144.60,2,   38.20,2,    0.00,2,    2.63,2,  -0.001,2,  -0.001,2,   0.0000,2,  2339.3,2,  2426.0,2,   -999.0,9,  -999.00,   7.5355,2,    25.00,-999.000,9,-999.0000,9, -999.00,9, -999.00,9,  -999.0,9,-999.000,9,-999.000,   0.001,3,-999.000,9,   37.39,2,   39.31,2, -999.00,9, -999.00,9, -999.00,9,-999.000,-999.0000,9,-999.0000,9,-999.0000,9,-999.0000,9,-999.0000,9,-999.0000,9,-999.0000,9,-999.0000,9,-999.0000,9,   1.7942,     -999.0,9,     -999.0,9,     -999.0,9,     -999.0,9,     -999.0,9,     -999.0,9,     -999.0,9,-999.0000, -999.00
33RO20071215,        P18,      61,          1,          4,      12009,2,20080105,       0646,    -7.5015,  -106.5097,       3250,  2664.2,   1.8376,  34.6713,2,  34.6709,2,    130.9,2,   131.3,2,  145.80,6,   37.70,6,    0.00,6,    2.58,2,-999.000,9,-999.000,9,-999.0000,9,  2336.7,2,  2427.4,2,   -999.0,9,  -999.00,   7.5429,2,    25.00,-999.000,9,-999.0000,9, -999.00,9, -999.00,9,  -999.0,9,-999.000,9,-999.000,-999.000,9,-999.000,9,   38.24,2,   38.64,2, -999.00,9, -999.00,9, -999.00,9,-999.000,-999.0000,9,-999.0000,9,-999.0000,9,-999.0000,9,-999.0000,9,-999.0000,9,-999.0000,9,-999.0000,9,-999.0000,9,   1.6452,     -999.0,9,     -999.0,9,     -999.0,9,     -999.0,9,     -999.0,9,     -999.0,9,     -999.0,9,-999.0000, -999.00
33RO20071215,        P18,      61,          1,          3,      12006,2,20080105,       0646,    -7.5015,  -106.5097,       3250,  2865.8,   1.7842,  34.6748,2,  34.6749,2,    133.6,2,   133.6,2,  147.50,6,   37.50,6,    0.00,6,    2.56,2,   0.000,2,  -0.001,2,   0.0000,2,  2337.0,2,  2426.5,2,   -999.0,9,  -999.00,   7.5532,2,    25.00,-999.000,9,-999.0000,9, -999.00,9, -999.00,9,  -999.0,9,-999.000,9,-999.000,   0.002,3,-999.000,9,   39.08,2,   39.09,2, -999.00,9, -999.00,9, -999.00,9,-999.000,-999.0000,9,-999.0000,9,-999.0000,9,-999.0000,9,-999.0000,9,-999.0000,9,-999.0000,9,-999.0000,9,-999.0000,9,   1.5740,     -999.0,9,     -999.0,9,     -999.0,9,     -999.0,9,     -999.0,9,     -999.0,9,     -999.0,9,-999.0000, -999.00
33RO20071215,        P18,      61,          1,          2,      12007,2,20080105,       0646,    -7.5015,  -106.5097,       3250,  3066.3,   1.7631,  34.6774,2,  34.6782,2,    136.2,2,   136.2,2,  148.70,6,   37.40,6,    0.00,6,    2.55,2,-999.000,9,-999.000,9,-999.0000,9,  2336.9,2,  2430.6,2,   -999.0,9,  -999.00,   7.5842,2,    25.00,-999.000,9,-999.0000,9, -999.00,9, -999.00,9,  -999.0,9,-999.000,9,-999.000,-999.000,9,-999.000,9,   39.40,2,   38.41,2, -999.00,9, -999.00,9, -999.00,9,-999.000,-999.0000,9,-999.0000,9,-999.0000,9,-999.0000,9,-999.0000,9,-999.0000,9,-999.0000,9,-999.0000,9,-999.0000,9,   1.5340,     -999.0,9,     -999.0,9,     -999.0,9,     -999.0,9,     -999.0,9,     -999.0,9,     -999.0,9,-999.0000, -999.00
33RO20071215,        P18,      61,          1,          1,      12035,2,20080105,       0646,    -7.5015,  -106.5097,       3250,  3281.7,   1.7627,  34.6779,2,  34.6770,2,    136.8,2,   136.5,2,  149.80,2,   37.40,2,    0.00,2,    2.54,2,   0.001,6,   0.000,6,   0.0000,6,  2338.8,6,  2436.2,2,   -999.0,9,  -999.00,   7.5674,2,    25.00,-999.000,9,-999.0000,9, -999.00,9, -999.00,9,  -999.0,9,-999.000,9,-999.000,   0.003,3,-999.000,9,   38.60,2,   38.58,2, -999.00,9, -999.00,9, -999.00,9,-999.000,-999.0000,9,-999.0000,9,-999.0000,9,-999.0000,9,-999.0000,9,-999.0000,9,-999.0000,9,-999.0000,9,-999.0000,9,   1.5122,     -999.0,9,     -999.0,9,     -999.0,9,     -999.0,9,     -999.0,9,     -999.0,9,     -999.0,9,-999.0000, -999.00