BOTTLE,20220818CCHSIOAMB
EXPOCODE,SECT_ID,STNNBR,CASTNO,SAMPNO,BTLNBR,BTLNBR_FLAG_W,DATE,TIME,LATITUDE,LONGITUDE,DEPTH,CTDPRS,CTDTMP,CTDSAL,CTDSAL_FLAG_W,SALNTY,SALNTY_FLAG_W,CTDOXY,CTDOXY_FLAG_W,OXYGEN,OXYGEN_FLAG_W,SILCAT,SILCAT_FLAG_W,NITRAT,NITRAT_FLAG_W,NITRIT,NITRIT_FLAG_W,PHSPHT,PHSPHT_FLAG_W,CFC-11,CFC-11_FLAG_W,CFC-12,CFC-12_FLAG_W,SF6,SF6_FLAG_W,TCARBN,TCARBN_FLAG_W,ALKALI,ALKALI_FLAG_W,FCO2,FCO2_FLAG_W,FCO2TMP,PH_SWS,PH_SWS_FLAG_W,PH_TMP,TRITUM,TRITUM_FLAG_W,HELIUM,HELIUM_FLAG_W,DELHE3,DELHE3_FLAG_W,DELC13,DELC13_FLAG_W,DELC14,DELC14_FLAG_W,NEON,NEON_FLAG_W,NEONER,CCL4,CCL4_FLAG_W,POC,POC_FLAG_W,DOC,DOC_FLAG_W,TDN,TDN_FLAG_W,DON,DON_FLAG_W,CHLORA,CHLORA_FLAG_W,ARGON,ARGON_FLAG_W,TRITER,CDOM325,CDOM325_FLAG_W,CDOM340,CDOM340_FLAG_W,CDOM380,CDOM380_FLAG_W,CDOM412,CDOM412_FLAG_W,CDOM443,CDOM443_FLAG_W,CDOM490,CDOM490_FLAG_W,CDOM555,CDOM555_FLAG_W,CDOMSL,CDOMSL_FLAG_W,CDOMSN,CDOMSN_FLAG_W,THETA,D18O_NO3,D18O_NO3_FLAG_W,CDOM2C,CDOM2C_FLAG_W,CDOM3C,CDOM3C_FLAG_W,LAB_DEN,LAB_DEN_FLAG_W,DELSI30,DELSI30_FLAG_W,N2,N2_FLAG_W,D15N_NO3,D15N_NO3_FLAG_W,HELIER,DELHER
,,,,,,,,,,,METERS,DBAR,ITS-90,PSS-78,,PSS-78,,UMOL/KG,,UMOL/KG,,UMOL/KG,,UMOL/KG,,UMOL/KG,,UMOL/KG,,PMOL/KG,,PMOL/KG,,FMOL/KG,,UMOL/KG,,UMOL/KG,,UATM,,DEG C,,,DEG C,TU,,NMOL/KG,,PERCNT,,/MILLE,,/MILLE,,NMOL/KG,,NMOL/KG,PMOL/KG,,UG/KG,,UMOL/KG,,UMOL/KG,,UMOL/KG,,UG/KG,,UMOL/KG,,TU,1/M,,1/M,,1/M,,1/M,,1/M,,1/M,,1/M,,1/NM,,1/NM,,DEG C,/MILLE,,,,,,,,/MILLE,,UMOL/KG,,/MILLE,,NMOL/KG,PERCNT
33RO20071215,        P18,     154,          1,         24,      11024,2,20080208,       2131,   -60.2503,  -103.0000,       5015,     6.0,   4.9014,  33.9288,2,  33.9280,2,    311.1,2,   311.7,2,    4.00,2,   23.00,2,    0.20,2,    1.61,2,-999.000,9,-999.000,9,-999.0000,9,  2120.2,6,  2272.2,2,   -999.0,9,  -999.00,   7.7544,2,    25.00,-999.000,9,-999.0000,9, -999.00,9, -999.00,9,  -999.0,9,-999.000,9,-999.000,-999.000,9,-999.000,9, -999.00,9, -999.00,9, -999.00,9, -999.00,9, -999.00,9,-999.000,-999.0000,9,-999.0000,9,-999.0000,9,-999.0000,9,-999.0000,9,-999.0000,9,-999.0000,9,-999.0000,9,-999.0000,9,   4.9010,     -999.0,9,     -999.0,9,     -999.0,9,     -999.0,9,     -999.0,9,     -999.0,9,     -999.0,9,-999.0000, -999.00
33RO20071215,        P18,     154,          1,         23,      11023,2,20080208,       2131,   -60.2503,  -103.0000,       5015,    23.3,   4.8995,  33.9290,2,  33.9286,2,    311.6,2,   311.8,2,    4.00,2,   23.10,2,    0.20,2,    1.61,2,-999.000,9,-999.000,9,-999.0000,9,  2120.1,2,  2271.6,2,   -999.0,9,  -999.00,   7.7528,2,    25.00,-999.000,9,-999.0000,9, -999.00,9, -999.00,9,  -999.0,9,-999.000,9,-999.000,-999.000,9,-999.000,9, -999.00,9, -999.00,9, -999.00,9, -999.00,9, -999.00,9,-999.000,-999.0000,9,-999.0000,9,-999.0000,9,-999.0000,9,-999.0000,9,-999.0000,9,-999.0000,9,-999.0000,9,-999.0000,9,   4.8978,     -999.0,9,     -999.0,9,     -999.0,9,     -999.0,9,     -999.0,9,     -999.0,9,     -999.0,9,-999.0000, -999.00
33RO20071215,        P18,     154,          1,         22,      11022,2,20080208,       2131,   -60.2503,  -103.0000,       5015,    49.7,   4.8987,  33.9290,2,  33.9282,2,    312.7,2,   311.7,2,    4.10,2,   23.10,2,    0.20,2,    1.61,2,-999.000,9,-999.000,9,-999.0000,9,  2121.6,2,  2271.9,2,   -999.0,9,  -999.00,   7.7553,2,    25.00,-999.000,9,-999.0000,9, -999.00,9, -999.00,9,  -999.0,9,-999.000,9,-999.000,-999.000,9,-999.000,9, -999.00,9, -999.00,9, -999.00,9, -999.00,9, -999.00,9,-999.000,-999.0000,9,-999.0000,9,-999.0000,9,-999.0000,9,-999.0000,9,-999.0000,9,-999.0000,9,-999.0000,9,-999.0000,9,   4.8950,     -999.0,9,     -999.0,9,     -999.0,9,     -999.0,9,     -999.0,9,     -999.0,9,     -999.0,9,-999.0000, -999.00
33RO20071215,        P18,     154,          1,         21,      11021,2,20080208,       2131,   -60.2503,  -103.0000,       5015,    75.1,   4.7624,  33.9296,2,  33.9316,2,    311.7,2,   311.7,2,    4.60,2,   23.20,2,    0.19,2,    1.65,2,-999.000,9,-999.000,9,-999.0000,9,  2124.0,2,  2275.4,2,   -999.0,9,  -999.00,   7.7516,2,    25.00,-999.000,9,-999.0000,9, -999.00,9, -999.00,9,  -999.0,9,-999.000,9,-999.000,-999.000,9,-999.000,9, -999.00,9, -999.00,9, -999.00,9, -999.00,9, -999.00,9,-999.000,-999.0000,9,-999.0000,9,-999.0000,9,-999.0000,9,-999.0000,9,-999.0000,9,-999.0000,9,-999.0000,9,-999.0000,9,   4.7568,     -999.0,9,     -999.0,9,     -999.0,9,     -999.0,9,     -999.0,9,     -999.0,9,     -999.0,9,-999.0000, -999.00
33RO20071215,        P18,     154,          1,         20,      11020,2,20080208,       2131,   -60.2503,  -103.0000,       5015,    99.3,   3.4501,  33.9553,2,  33.9561,2,    318.1,2,   315.1,2,    9.60,2,   24.40,2,    0.21,2,    1.81,2,-999.000,9,-999.000,9,-999.0000,9,  2137.8,2,  2278.5,2,   -999.0,9,  -999.00,   7.7318,2,    25.00,-999.000,9,-999.0000,9, -999.00,9, -999.00,9,  -999.0,9,-999.000,9,-999.000,-999.000,9,-999.000,9, -999.00,9, -999.00,9, -999.00,9, -999.00,9, -999.00,9,-999.000,-999.0000,9,-999.0000,9,-999.0000,9,-999.0000,9,-999.0000,9,-999.0000,9,-999.0000,9,-999.0000,9,-999.0000,9,   3.4438,     -999.0,9,     -999.0,9,     -999.0,9,     -999.0,9,     -999.0,9,     -999.0,9,     -999.0,9,-999.0000, -999.00
33RO20071215,        P18,     154,          1,         19,      11019,2,20080208,       2131,   -60.2503,  -103.0000,       5015,   150.3,   2.5508,  33.9996,2,  34.0008,2,    304.9,2,   305.5,2,   17.00,2,   27.60,2,    0.01,2,    1.92,2,-999.000,9,-999.000,9,-999.0000,9,  2153.2,2,  1695.1,4,   -999.0,9,  -999.00,   7.6795,2,    25.00,-999.000,9,-999.0000,9, -999.00,9, -999.00,9,  -999.0,9,-999.000,9,-999.000,-999.000,9,-999.000,9, -999.00,9, -999.00,9, -999.00,9, -999.00,9, -999.00,9,-999.000,-999.0000,9,-999.0000,9,-999.0000,9,-999.0000,9,-999.0000,9,-999.0000,9,-999.0000,9,-999.0000,9,-999.0000,9,   2.5423,     -999.0,9,     -999.0,9,     -999.0,9,     -999.0,9,     -999.0,9,     -999.0,9,     -999.0,9,-999.0000, -999.00
33RO20071215,        P18,     154,          1,         18,      11018,2,20080208,       2131,   -60.2503,  -103.0000,       5015,   225.3,   2.4032,  34.0334,2,  34.0410,2,    297.9,2,   294.3,2,   20.90,2,   28.60,2,    0.00,2,    1.98,2,-999.000,9,-999.000,9,-999.0000,9,  2162.0,2,  2278.8,2,   -999.0,9,  -999.00,   7.6706,2,    25.00,-999.000,9,-999.0000,9, -999.00,9, -999.00,9,  -999.0,9,-999.000,9,-999.000,-999.000,9,-999.000,9, -999.00,9, -999.00,9, -999.00,9, -999.00,9, -999.00,9,-999.000,-999.0000,9,-999.0000,9,-999.0000,9,-999.0000,9,-999.0000,9,-999.0000,9,-999.0000,9,-999.0000,9,-999.0000,9,   2.3906,     -999.0,9,     -999.0,9,     -999.0,9,     -999.0,9,     -999.0,9,     -999.0,9,     -999.0,9,-999.0000, -999.00
33RO20071215,        P18,     154,          1,         17,      11017,2,20080208,       2131,   -60.2503,  -103.0000,       5015,   301.4,   2.3289,  34.0714,2,  34.0726,2,    283.1,2,   282.8,2,   24.80,2,   29.40,2,    0.01,2,    2.04,2,-999.000,9,-999.000,9,-999.0000,9,  2170.5,2,  2281.7,2,   -999.0,9,  -999.00,   7.6569,2,    25.00,-999.000,9,-999.0000,9, -999.00,9, -999.00,9,  -999.0,9,-999.000,9,-999.000,-999.000,9,-999.000,9, -999.00,9, -999.00,9, -999.00,9, -999.00,9, -999.00,9,-999.000,-999.0000,9,-999.0000,9,-999.0000,9,-999.0000,9,-999.0000,9,-999.0000,9,-999.0000,9,-999.0000,9,-999.0000,9,   2.3120,     -999.0,9,     -999.0,9,     -999.0,9,     -999.0,9,     -999.0,9,     -999.0,9,     -999.0,9,-999.0000, -999.00
33RO20071215,        P18,     154,          1,         16,      11016,2,20080208,       2131,   -60.2503,  -103.0000,       5015,   396.8,   2.4939,  34.1665,2,  34.1658,2,    255.6,2,   253.4,2,   34.20,2,   31.40,2,    0.01,2,    2.16,2,-999.000,9,-999.000,9,-999.0000,9,  2190.2,2,  2287.2,2,   -999.0,9,  -999.00,   7.6219,2,    25.00,-999.000,9,-999.0000,9, -999.00,9, -999.00,9,  -999.0,9,-999.000,9,-999.000,-999.000,9,-999.000,9, -999.00,9, -999.00,9, -999.00,9, -999.00,9, -999.00,9,-999.000,-999.0000,9,-999.0000,9,-999.0000,9,-999.0000,9,-999.0000,9,-999.0000,9,-999.0000,9,-999.0000,9,-999.0000,9,   2.4707,     -999.0,9,     -999.0,9,     -999.0,9,     -999.0,9,     -999.0,9,     -999.0,9,     -999.0,9,-999.0000, -999.00
33RO20071215,        P18,     154,          1,         15,      11015,2,20080208,       2131,   -60.2503,  -103.0000,       5015,   501.0,   2.6770,  34.2783,2,  34.2791,2,    219.4,2,   218.8,2,   44.70,2,   33.20,2,    0.00,2,    2.29,2,-999.000,9,-999.000,9,-999.0000,9,  2211.5,2,  2302.0,2,   -999.0,9,  -999.00,   7.5903,2,    25.00,-999.000,9,-999.0000,9, -999.00,9, -999.00,9,  -999.0,9,-999.000,9,-999.000,-999.000,9,-999.000,9, -999.00,9, -999.00,9, -999.00,9, -999.00,9, -999.00,9,-999.000,-999.0000,9,-999.0000,9,-999.0000,9,-999.0000,9,-999.0000,9,-999.0000,9,-999.0000,9,-999.0000,9,-999.0000,9,   2.6464,     -999.0,9,     -999.0,9,     -999.0,9,     -999.0,9,     -999.0,9,     -999.0,9,     -999.0,9,-999.0000, -999.00
33RO20071215,        P18,     154,          1,         14,      11014,2,20080208,       2131,   -60.2503,  -103.0000,       5015,   674.9,   2.6378,  34.4067,2,  34.4064,2,    190.9,2,   190.7,2,   58.60,2,   34.60,2,    0.00,2,    2.38,2,-999.000,9,-999.000,9,-999.0000,9,  2233.8,2,  2317.1,4,   -999.0,9,  -999.00,   7.5593,2,    25.00,-999.000,9,-999.0000,9, -999.00,9, -999.00,9,  -999.0,9,-999.000,9,-999.000,-999.000,9,-999.000,9, -999.00,9, -999.00,9, -999.00,9, -999.00,9, -999.00,9,-999.000,-999.0000,9,-999.0000,9,-999.0000,9,-999.0000,9,-999.0000,9,-999.0000,9,-999.0000,9,-999.0000,9,-999.0000,9,   2.5957,     -999.0,9,     -999.0,9,     -999.0,9,     -999.0,9,     -999.0,9,     -999.0,9,     -999.0,9,-999.0000, -999.00
33RO20071215,        P18,     154,          1,         13,      11013,2,20080208,       2131,   -60.2503,  -103.0000,       5015,   848.2,   2.5141,  34.5022,2,  34.5014,2,    178.1,2,   177.4,2,   68.60,2,   34.80,2,    0.00,2,    2.40,2,-999.000,9,-999.000,9,-999.0000,9,  2246.3,2,  2328.0,2,   -999.0,9,  -999.00,   7.5488,2,    25.00,-999.000,9,-999.0000,9, -999.00,9, -999.00,9,  -999.0,9,-999.000,9,-999.000,-999.000,9,-999.000,9, -999.00,9, -999.00,9, -999.00,9, -999.00,9, -999.00,9,-999.000,-999.0000,9,-999.0000,9,-999.0000,9,-999.0000,9,-999.0000,9,-999.0000,9,-999.0000,9,-999.0000,9,-999.0000,9,   2.4608,     -999.0,9,     -999.0,9,     -999.0,9,     -999.0,9,     -999.0,9,     -999.0,9,     -999.0,9,-999.0000, -999.00
33RO20071215,        P18,     154,          1,         12,      11012,2,20080208,       2131,   -60.2503,  -103.0000,       5015,   947.2,   2.4525,  34.5494,2,  34.5485,2,    174.8,2,   173.8,2,   72.80,2,   34.60,2,    0.00,2,    2.39,2,-999.000,9,-999.000,9,-999.0000,9,  2251.1,6,  2331.5,2,   -999.0,9,  -999.00,   7.5518,2,    25.00,-999.000,9,-999.0000,9, -999.00,9, -999.00,9,  -999.0,9,-999.000,9,-999.000,-999.000,9,-999.000,9, -999.00,9, -999.00,9, -999.00,9, -999.00,9, -999.00,9,-999.000,-999.0000,9,-999.0000,9,-999.0000,9,-999.0000,9,-999.0000,9,-999.0000,9,-999.0000,9,-999.0000,9,-999.0000,9,   2.3926,     -999.0,9,     -999.0,9,     -999.0,9,     -999.0,9,     -999.0,9,     -999.0,9,     -999.0,9,-999.0000, -999.00
33RO20071215,        P18,     154,          1,         11,      11010,2,20080208,       2131,   -60.2503,  -103.0000,       5015,  1100.8,   2.3587,  34.6096,2,  34.6072,2,    173.2,2,   172.7,2,   77.80,2,   34.10,2,    0.00,2,    2.36,2,-999.000,9,-999.000,9,-999.0000,9,  2255.1,2,  2338.1,2,   -999.0,9,  -999.00,   7.5564,2,    25.00,-999.000,9,-999.0000,9, -999.00,9, -999.00,9,  -999.0,9,-999.000,9,-999.000,-999.000,9,-999.000,9, -999.00,9, -999.00,9, -999.00,9, -999.00,9, -999.00,9,-999.000,-999.0000,9,-999.0000,9,-999.0000,9,-999.0000,9,-999.0000,9,-999.0000,9,-999.0000,9,-999.0000,9,-999.0000,9,   2.2884,     -999.0,9,     -999.0,9,     -999.0,9,     -999.0,9,     -999.0,9,     -999.0,9,     -999.0,9,-999.0000, -999.00
33RO20071215,        P18,     154,          1,         10,      11011,2,20080208,       2131,   -60.2503,  -103.0000,       5015,  1298.7,   2.2442,  34.6607,2,  34.6648,2,    175.6,2,   175.2,2,   81.70,2,   33.40,2,    0.00,2,    2.31,2,-999.000,9,-999.000,9,-999.0000,9,  2254.4,2,  2339.6,2,   -999.0,9,  -999.00,   7.5684,2,    25.00,-999.000,9,-999.0000,9, -999.00,9, -999.00,9,  -999.0,9,-999.000,9,-999.000,-999.000,9,-999.000,9, -999.00,9, -999.00,9, -999.00,9, -999.00,9, -999.00,9,-999.000,-999.0000,9,-999.0000,9,-999.0000,9,-999.0000,9,-999.0000,9,-999.0000,9,-999.0000,9,-999.0000,9,-999.0000,9,   2.1602,     -999.0,9,     -999.0,9,     -999.0,9,     -999.0,9,     -999.0,9,     -999.0,9,     -999.0,9,-999.0000, -999.00
33RO20071215,        P18,     154,          1,          9,      11009,2,20080208,       2131,   -60.2503,  -103.0000,       5015,  1600.6,   2.0679,  34.7085,2,  34.7068,2,    182.0,2,   181.6,2,   86.60,2,   32.50,2,    0.00,2,    2.24,2,-999.000,9,-999.000,9,-999.0000,9,  2256.1,2,  2348.9,2,   -999.0,9,  -999.00,   7.5816,2,    25.00,-999.000,9,-999.0000,9, -999.00,9, -999.00,9,  -999.0,9,-999.000,9,-999.000,-999.000,9,-999.000,9, -999.00,9, -999.00,9, -999.00,9, -999.00,9, -999.00,9,-999.000,-999.0000,9,-999.0000,9,-999.0000,9,-999.0000,9,-999.0000,9,-999.0000,9,-999.0000,9,-999.0000,9,-999.0000,9,   1.9627,     -999.0,9,     -999.0,9,     -999.0,9,     -999.0,9,     -999.0,9,     -999.0,9,     -999.0,9,-999.0000, -999.00
33RO20071215,        P18,     154,          1,          8,      11008,2,20080208,       2131,   -60.2503,  -103.0000,       5015,  2000.4,   1.7575,  34.7301,2,  34.7285,2,    189.6,2,   188.8,2,   95.80,2,   31.90,2,    0.00,2,    2.21,2,-999.000,9,-999.000,9,-999.0000,9,  2255.7,2,  2355.8,2,   -999.0,9,  -999.00,   7.5981,2,    25.00,-999.000,9,-999.0000,9, -999.00,9, -999.00,9,  -999.0,9,-999.000,9,-999.000,-999.000,9,-999.000,9, -999.00,9, -999.00,9, -999.00,9, -999.00,9, -999.00,9,-999.000,-999.0000,9,-999.0000,9,-999.0000,9,-999.0000,9,-999.0000,9,-999.0000,9,-999.0000,9,-999.0000,9,-999.0000,9,   1.6243,     -999.0,9,     -999.0,9,     -999.0,9,     -999.0,9,     -999.0,9,     -999.0,9,     -999.0,9,-999.0000, -999.00
33RO20071215,        P18,     154,          1,          7,      11007,2,20080208,       2131,   -60.2503,  -103.0000,       5015,  2499.6,   1.4150,  34.7300,2,  34.7279,2,    196.0,2,   195.5,2,  105.90,2,   32.10,2,    0.00,2,    2.21,2,-999.000,9,-999.000,9,-999.0000,9,  2257.4,2,  2358.1,2,   -999.0,9,  -999.00,   7.5942,2,    25.00,-999.000,9,-999.0000,9, -999.00,9, -999.00,9,  -999.0,9,-999.000,9,-999.000,-999.000,9,-999.000,9, -999.00,9, -999.00,9, -999.00,9, -999.00,9, -999.00,9,-999.000,-999.0000,9,-999.0000,9,-999.0000,9,-999.0000,9,-999.0000,9,-999.0000,9,-999.0000,9,-999.0000,9,-999.0000,9,   1.2453,     -999.0,9,     -999.0,9,     -999.0,9,     -999.0,9,     -999.0,9,     -999.0,9,     -999.0,9,-999.0000, -999.00
33RO20071215,        P18,     154,          1,          6,      11006,2,20080208,       2131,   -60.2503,  -103.0000,       5015,  2998.5,   1.1300,  34.7222,2,  34.7211,2,    201.3,2,   200.7,2,  114.80,2,   32.30,2,    0.00,2,    2.23,2,-999.000,9,-999.000,9,-999.0000,9,  2259.1,2,  2357.5,2,   -999.0,9,  -999.00,   7.5942,2,    25.00,-999.000,9,-999.0000,9, -999.00,9, -999.00,9,  -999.0,9,-999.000,9,-999.000,-999.000,9,-999.000,9, -999.00,9, -999.00,9, -999.00,9, -999.00,9, -999.00,9,-999.000,-999.0000,9,-999.0000,9,-999.0000,9,-999.0000,9,-999.0000,9,-999.0000,9,-999.0000,9,-999.0000,9,-999.0000,9,   0.9213,     -999.0,9,     -999.0,9,     -999.0,9,     -999.0,9,     -999.0,9,     -999.0,9,     -999.0,9,-999.0000, -999.00
33RO20071215,        P18,     154,          1,          5,      11005,2,20080208,       2131,   -60.2503,  -103.0000,       5015,  3500.2,   0.8701,  34.7133,2,  34.7117,2,    205.6,2,   205.3,2,  123.80,2,   32.40,2,    0.00,2,    2.25,2,-999.000,9,-999.000,9,-999.0000,9,  2261.2,6,  2356.2,2,   -999.0,9,  -999.00,   7.5962,2,    25.00,-999.000,9,-999.0000,9, -999.00,9, -999.00,9,  -999.0,9,-999.000,9,-999.000,-999.000,9,-999.000,9, -999.00,9, -999.00,9, -999.00,9, -999.00,9, -999.00,9,-999.000,-999.0000,9,-999.0000,9,-999.0000,9,-999.0000,9,-999.0000,9,-999.0000,9,-999.0000,9,-999.0000,9,-999.0000,9,   0.6196,     -999.0,9,     -999.0,9,     -999.0,9,     -999.0,9,     -999.0,9,     -999.0,9,     -999.0,9,-999.0000, -999.00
33RO20071215,        P18,     154,          1,          4,      11004,2,20080208,       2131,   -60.2503,  -103.0000,       5015,  3999.1,   0.6366,  34.7074,2,  34.7066,2,    210.7,2,   210.5,2,  129.50,6,   32.80,6,    0.00,6,    2.27,2,-999.000,9,-999.000,9,-999.0000,9,  2262.8,2,  2359.7,2,   -999.0,9,  -999.00,   7.5934,2,    25.00,-999.000,9,-999.0000,9, -999.00,9, -999.00,9,  -999.0,9,-999.000,9,-999.000,-999.000,9,-999.000,9, -999.00,9, -999.00,9, -999.00,9, -999.00,9, -999.00,9,-999.000,-999.0000,9,-999.0000,9,-999.0000,9,-999.0000,9,-999.0000,9,-999.0000,9,-999.0000,9,-999.0000,9,-999.0000,9,   0.3421,     -999.0,9,     -999.0,9,     -999.0,9,     -999.0,9,     -999.0,9,     -999.0,9,     -999.0,9,-999.0000, -999.00
33RO20071215,        P18,     154,          1,          3,      11003,2,20080208,       2131,   -60.2503,  -103.0000,       5015,  4497.5,   0.4718,  34.7049,2,  34.7084,2,    214.3,2,   214.3,2,  135.60,6,   32.90,6,    0.00,6,    2.28,2,-999.000,9,-999.000,9,-999.0000,9,  2263.3,2,  2361.7,2,   -999.0,9,  -999.00,   7.5933,2,    25.00,-999.000,9,-999.0000,9, -999.00,9, -999.00,9,  -999.0,9,-999.000,9,-999.000,-999.000,9,-999.000,9, -999.00,9, -999.00,9, -999.00,9, -999.00,9, -999.00,9,-999.000,-999.0000,9,-999.0000,9,-999.0000,9,-999.0000,9,-999.0000,9,-999.0000,9,-999.0000,9,-999.0000,9,-999.0000,9,   0.1290,     -999.0,9,     -999.0,9,     -999.0,9,     -999.0,9,     -999.0,9,     -999.0,9,     -999.0,9,-999.0000, -999.00
33RO20071215,        P18,     154,          1,          2,      11002,2,20080208,       2131,   -60.2503,  -103.0000,       5015,  4999.6,   0.4639,  34.7037,2,  34.7047,2,    215.9,2,   215.3,2,  139.50,6,   33.00,6,    0.00,6,    2.29,2,-999.000,9,-999.000,9,-999.0000,9,  2263.9,2,  2363.3,4,   -999.0,9,  -999.00,   7.5923,2,    25.00,-999.000,9,-999.0000,9, -999.00,9, -999.00,9,  -999.0,9,-999.000,9,-999.000,-999.000,9,-999.000,9, -999.00,9, -999.00,9, -999.00,9, -999.00,9, -999.00,9,-999.000,-999.0000,9,-999.0000,9,-999.0000,9,-999.0000,9,-999.0000,9,-999.0000,9,-999.0000,9,-999.0000,9,-999.0000,9,   0.0648,     -999.0,9,     -999.0,9,     -999.0,9,     -999.0,9,     -999.0,9,     -999.0,9,     -999.0,9,-999.0000, -999.00
33RO20071215,        P18,     154,          1,          1,      11001,2,20080208,       2131,   -60.2503,  -103.0000,       5015,  5109.3,   0.4741,  34.7036,2,  34.7045,2,    215.7,2,   215.8,2,  140.40,2,   32.90,2,    0.01,2,    2.29,2,-999.000,9,-999.000,9,-999.0000,9,  2263.7,6,  2362.7,4,   -999.0,9,  -999.00,   7.5911,2,    25.00,-999.000,9,-999.0000,9, -999.00,9, -999.00,9,  -999.0,9,-999.000,9,-999.000,-999.000,9,-999.000,9, -999.00,9, -999.00,9, -999.00,9, -999.00,9, -999.00,9,-999.000,-999.0000,9,-999.0000,9,-999.0000,9,-999.0000,9,-999.0000,9,-999.0000,9,-999.0000,9,-999.0000,9,-999.0000,9,   0.0618,     -999.0,9,     -999.0,9,     -999.0,9,     -999.0,9,     -999.0,9,     -999.0,9,     -999.0,9,-999.0000, -999.00