BOTTLE,20220818CCHSIOAMB
EXPOCODE,SECT_ID,STNNBR,CASTNO,SAMPNO,BTLNBR,BTLNBR_FLAG_W,DATE,TIME,LATITUDE,LONGITUDE,DEPTH,CTDPRS,CTDTMP,CTDSAL,CTDSAL_FLAG_W,SALNTY,SALNTY_FLAG_W,CTDOXY,CTDOXY_FLAG_W,OXYGEN,OXYGEN_FLAG_W,SILCAT,SILCAT_FLAG_W,NITRAT,NITRAT_FLAG_W,NITRIT,NITRIT_FLAG_W,PHSPHT,PHSPHT_FLAG_W,CFC-11,CFC-11_FLAG_W,CFC-12,CFC-12_FLAG_W,SF6,SF6_FLAG_W,TCARBN,TCARBN_FLAG_W,ALKALI,ALKALI_FLAG_W,FCO2,FCO2_FLAG_W,FCO2TMP,PH_SWS,PH_SWS_FLAG_W,PH_TMP,TRITUM,TRITUM_FLAG_W,HELIUM,HELIUM_FLAG_W,DELHE3,DELHE3_FLAG_W,DELC13,DELC13_FLAG_W,DELC14,DELC14_FLAG_W,NEON,NEON_FLAG_W,NEONER,CCL4,CCL4_FLAG_W,POC,POC_FLAG_W,DOC,DOC_FLAG_W,TDN,TDN_FLAG_W,DON,DON_FLAG_W,CHLORA,CHLORA_FLAG_W,ARGON,ARGON_FLAG_W,TRITER,CDOM325,CDOM325_FLAG_W,CDOM340,CDOM340_FLAG_W,CDOM380,CDOM380_FLAG_W,CDOM412,CDOM412_FLAG_W,CDOM443,CDOM443_FLAG_W,CDOM490,CDOM490_FLAG_W,CDOM555,CDOM555_FLAG_W,CDOMSL,CDOMSL_FLAG_W,CDOMSN,CDOMSN_FLAG_W,THETA,D18O_NO3,D18O_NO3_FLAG_W,CDOM2C,CDOM2C_FLAG_W,CDOM3C,CDOM3C_FLAG_W,LAB_DEN,LAB_DEN_FLAG_W,DELSI30,DELSI30_FLAG_W,N2,N2_FLAG_W,D15N_NO3,D15N_NO3_FLAG_W,HELIER,DELHER
,,,,,,,,,,,METERS,DBAR,ITS-90,PSS-78,,PSS-78,,UMOL/KG,,UMOL/KG,,UMOL/KG,,UMOL/KG,,UMOL/KG,,UMOL/KG,,PMOL/KG,,PMOL/KG,,FMOL/KG,,UMOL/KG,,UMOL/KG,,UATM,,DEG C,,,DEG C,TU,,NMOL/KG,,PERCNT,,/MILLE,,/MILLE,,NMOL/KG,,NMOL/KG,PMOL/KG,,UG/KG,,UMOL/KG,,UMOL/KG,,UMOL/KG,,UG/KG,,UMOL/KG,,TU,1/M,,1/M,,1/M,,1/M,,1/M,,1/M,,1/M,,1/NM,,1/NM,,DEG C,/MILLE,,,,,,,,/MILLE,,UMOL/KG,,/MILLE,,NMOL/KG,PERCNT
33RO20071215,        P18,      42,          1,         11,      12003,2,20071229,       0713,     0.9997,  -110.0015,       3813,  1733.8,   2.8267,  34.6166,2,  34.6163,2,     93.2,2,   103.7,3,  128.50,2,   40.00,2,    0.00,2,    2.81,2,  -0.001,2,   0.000,2,   0.0000,2,  2339.5,2,  2411.5,2,   -999.0,9,  -999.00,   7.4875,2,    25.00,-999.000,9,-999.0000,9, -999.00,9, -999.00,9,  -999.0,9,-999.000,9,-999.000,-999.000,9,-999.000,9,   38.61,2,   40.98,2, -999.00,9, -999.00,9, -999.00,9,-999.000,-999.0000,9,-999.0000,9,-999.0000,9,-999.0000,9,-999.0000,9,-999.0000,9,-999.0000,9,-999.0000,9,-999.0000,9,   2.7011,     -999.0,9,     -999.0,9,     -999.0,9,     -999.0,9,     -999.0,9,     -999.0,9,     -999.0,9,-999.0000, -999.00
33RO20071215,        P18,      42,          1,         10,      12032,2,20071229,       0713,     0.9997,  -110.0015,       3813,  1931.1,   2.5300,  34.6308,2,  34.6313,2,     99.4,2,    99.3,2,  136.40,2,   39.80,2,    0.00,2,    2.79,2,  -0.002,2,   0.000,2,   0.0000,2,  2343.4,2,  2418.7,2,   -999.0,9,  -999.00,   7.4892,2,    25.00,-999.000,9,-999.0000,9, -999.00,9, -999.00,9,  -999.0,9,-999.000,9,-999.000,-999.000,9,-999.000,9,   38.03,2,   40.90,2, -999.00,9, -999.00,9, -999.00,9,-999.000,-999.0000,9,-999.0000,9,-999.0000,9,-999.0000,9,-999.0000,9,-999.0000,9,-999.0000,9,-999.0000,9,-999.0000,9,   2.3915,     -999.0,9,     -999.0,9,     -999.0,9,     -999.0,9,     -999.0,9,     -999.0,9,     -999.0,9,-999.0000, -999.00
33RO20071215,        P18,      42,          1,          9,      12002,2,20071229,       0713,     0.9997,  -110.0015,       3813,  2132.5,   2.2341,  34.6453,2,  34.6464,2,    107.2,2,   106.9,2,  142.80,2,   39.20,2,    0.00,2,    2.74,2,  -0.001,2,   0.000,2,   0.0238,2,  2346.1,6,  2424.0,2,   1403.0,2,    20.00,   7.5097,2,    25.00,-999.000,9,-999.0000,9, -999.00,9, -999.00,9,  -999.0,9,-999.000,9,-999.000,   0.003,3,-999.000,9,   38.12,2,   40.78,2, -999.00,9, -999.00,9, -999.00,9,-999.000,-999.0000,9,-999.0000,9,-999.0000,9,-999.0000,9,-999.0000,9,-999.0000,9,-999.0000,9,-999.0000,9,-999.0000,9,   2.0825,     -999.0,9,     -999.0,9,     -999.0,9,     -999.0,9,     -999.0,9,     -999.0,9,     -999.0,9,-999.0000, -999.00
33RO20071215,        P18,      42,          1,          8,      12021,2,20071229,       0713,     0.9997,  -110.0015,       3813,  2332.7,   2.0458,  34.6559,2,  34.6563,2,    113.5,2,   113.2,2,  147.10,2,   38.90,2,    0.00,2,    2.70,2,  -0.001,2,   0.000,2,   0.0000,2,  2346.7,2,  2428.0,2,   -999.0,9,  -999.00,   7.5185,2,    25.00,-999.000,9,-999.0000,9, -999.00,9, -999.00,9,  -999.0,9,-999.000,9,-999.000,   0.003,3,-999.000,9,   38.71,2,   40.01,2, -999.00,9, -999.00,9, -999.00,9,-999.000,-999.0000,9,-999.0000,9,-999.0000,9,-999.0000,9,-999.0000,9,-999.0000,9,-999.0000,9,-999.0000,9,-999.0000,9,   1.8797,     -999.0,9,     -999.0,9,     -999.0,9,     -999.0,9,     -999.0,9,     -999.0,9,     -999.0,9,-999.0000, -999.00
33RO20071215,        P18,      42,          1,          7,      12001,2,20071229,       0713,     0.9997,  -110.0015,       3813,  2533.0,   1.9256,  34.6627,2,  34.6637,2,    119.5,2,   119.5,2,  149.10,2,   38.50,2,    0.00,2,    2.66,2,  -0.001,2,   0.000,2,   0.0000,2,  2345.4,2,  2425.9,2,   1334.0,2,    20.00,   7.5282,2,    25.00,-999.000,9,-999.0000,9, -999.00,9, -999.00,9,  -999.0,9,-999.000,9,-999.000,   0.003,3,-999.000,9,   37.34,2,   39.87,2, -999.00,9, -999.00,9, -999.00,9,-999.000,-999.0000,9,-999.0000,9,-999.0000,9,-999.0000,9,-999.0000,9,-999.0000,9,-999.0000,9,-999.0000,9,-999.0000,9,   1.7437,     -999.0,9,     -999.0,9,     -999.0,9,     -999.0,9,     -999.0,9,     -999.0,9,     -999.0,9,-999.0000, -999.00
33RO20071215,        P18,      42,          1,          6,      12033,2,20071229,       0713,     0.9997,  -110.0015,       3813,  2731.0,   1.8602,  34.6672,2,  34.6681,2,    123.1,2,   122.5,2,  150.90,2,   38.30,2,    0.00,2,    2.64,2,   0.001,2,   0.000,2,   0.0000,2,  2345.3,2,  2430.2,2,   -999.0,9,  -999.00,   7.5244,2,    25.00,-999.000,9,-999.0000,9, -999.00,9, -999.00,9,  -999.0,9,-999.000,9,-999.000,   0.005,3,-999.000,9,   37.90,2,   39.91,2, -999.00,9, -999.00,9, -999.00,9,-999.000,-999.0000,9,-999.0000,9,-999.0000,9,-999.0000,9,-999.0000,9,-999.0000,9,-999.0000,9,-999.0000,9,-999.0000,9,   1.6611,     -999.0,9,     -999.0,9,     -999.0,9,     -999.0,9,     -999.0,9,     -999.0,9,     -999.0,9,-999.0000, -999.00
33RO20071215,        P18,      42,          1,          5,      12008,2,20071229,       0713,     0.9997,  -110.0015,       3813,  2931.5,   1.7857,  34.6727,2,  34.6733,2,    127.6,2,   127.1,2,  152.10,2,   37.80,2,    0.00,2,    2.61,2,  -0.001,2,   0.001,2,   0.0000,2,  2343.6,2,  2428.6,2,   1283.2,2,    20.00,   7.5445,2,    25.00,-999.000,9,-999.0000,9, -999.00,9, -999.00,9,  -999.0,9,-999.000,9,-999.000,   0.004,3,-999.000,9,   38.27,2,   39.71,2, -999.00,9, -999.00,9, -999.00,9,-999.000,-999.0000,9,-999.0000,9,-999.0000,9,-999.0000,9,-999.0000,9,-999.0000,9,-999.0000,9,-999.0000,9,-999.0000,9,   1.5692,     -999.0,9,     -999.0,9,     -999.0,9,     -999.0,9,     -999.0,9,     -999.0,9,     -999.0,9,-999.0000, -999.00
33RO20071215,        P18,      42,          1,          4,      12009,2,20071229,       0713,     0.9997,  -110.0015,       3813,  3168.0,   1.7086,  34.6763,2,  34.6801,2,    133.9,2,   134.4,2,  150.90,6,   37.50,6,    0.00,6,    2.58,2,  -0.001,2,   0.000,2,   0.0000,2,  2339.2,2,  2430.6,2,   -999.0,9,  -999.00,   7.5562,2,    25.00,-999.000,9,-999.0000,9, -999.00,9, -999.00,9,  -999.0,9,-999.000,9,-999.000,   0.004,3,-999.000,9,   38.83,3,   39.15,3, -999.00,9, -999.00,9, -999.00,9,-999.000,-999.0000,9,-999.0000,9,-999.0000,9,-999.0000,9,-999.0000,9,-999.0000,9,-999.0000,9,-999.0000,9,-999.0000,9,   1.4708,     -999.0,9,     -999.0,9,     -999.0,9,     -999.0,9,     -999.0,9,     -999.0,9,     -999.0,9,-999.0000, -999.00
33RO20071215,        P18,      42,          1,          3,      12006,2,20071229,       0713,     0.9997,  -110.0015,       3813,  3416.8,   1.5770,  34.6841,2,  34.6873,2,    141.4,2,   141.6,2,  153.30,6,   37.10,6,    0.00,6,    2.52,2,   0.000,2,   0.000,2,   0.0000,2,  2337.4,2,  2436.1,2,   1198.0,2,    20.00,   7.5706,2,    25.00,-999.000,9,-999.0000,9, -999.00,9, -999.00,9,  -999.0,9,-999.000,9,-999.000,   0.004,3,-999.000,9,   38.94,3,   38.38,3, -999.00,9, -999.00,9, -999.00,9,-999.000,-999.0000,9,-999.0000,9,-999.0000,9,-999.0000,9,-999.0000,9,-999.0000,9,-999.0000,9,-999.0000,9,-999.0000,9,   1.3174,     -999.0,9,     -999.0,9,     -999.0,9,     -999.0,9,     -999.0,9,     -999.0,9,     -999.0,9,-999.0000, -999.00
33RO20071215,        P18,      42,          1,          2,      12007,2,20071229,       0713,     0.9997,  -110.0015,       3813,  3667.3,   1.4881,  34.6904,2,  34.6912,2,    148.6,2,   148.3,2,  154.80,6,   36.70,6,    0.00,6,    2.49,2,  -0.001,2,   0.000,2,   0.0000,2,  2336.3,2,  2441.1,2,   -999.0,9,  -999.00,   7.5873,2,    25.00,-999.000,9,-999.0000,9, -999.00,9, -999.00,9,  -999.0,9,-999.000,9,-999.000,   0.004,3,-999.000,9,   38.83,2,   37.85,2, -999.00,9, -999.00,9, -999.00,9,-999.000,-999.0000,9,-999.0000,9,-999.0000,9,-999.0000,9,-999.0000,9,-999.0000,9,-999.0000,9,-999.0000,9,-999.0000,9,   1.2049,     -999.0,9,     -999.0,9,     -999.0,9,     -999.0,9,     -999.0,9,     -999.0,9,     -999.0,9,-999.0000, -999.00
33RO20071215,        P18,      42,          1,          1,      12035,2,20071229,       0713,     0.9997,  -110.0015,       3813,  3850.9,   1.5055,  34.6904,2,  34.6923,2,    148.5,2,   148.2,2,  155.20,2,   36.80,2,    0.00,2,    2.49,2,   0.000,6,   0.000,6,   0.0000,6,  2336.1,6,  2437.3,6,   1151.6,2,    20.00,   7.5781,2,    25.00,-999.000,9,-999.0000,9, -999.00,9, -999.00,9,  -999.0,9,-999.000,9,-999.000,   0.004,3,-999.000,9,   39.22,2,   38.42,2, -999.00,9, -999.00,9, -999.00,9,-999.000,-999.0000,9,-999.0000,9,-999.0000,9,-999.0000,9,-999.0000,9,-999.0000,9,-999.0000,9,-999.0000,9,-999.0000,9,   1.2025,     -999.0,9,     -999.0,9,     -999.0,9,     -999.0,9,     -999.0,9,     -999.0,9,     -999.0,9,-999.0000, -999.00