BOTTLE,20220818CCHSIOAMB
EXPOCODE,SECT_ID,STNNBR,CASTNO,SAMPNO,BTLNBR,BTLNBR_FLAG_W,DATE,TIME,LATITUDE,LONGITUDE,DEPTH,CTDPRS,CTDTMP,CTDSAL,CTDSAL_FLAG_W,SALNTY,SALNTY_FLAG_W,CTDOXY,CTDOXY_FLAG_W,OXYGEN,OXYGEN_FLAG_W,SILCAT,SILCAT_FLAG_W,NITRAT,NITRAT_FLAG_W,NITRIT,NITRIT_FLAG_W,PHSPHT,PHSPHT_FLAG_W,CFC-11,CFC-11_FLAG_W,CFC-12,CFC-12_FLAG_W,SF6,SF6_FLAG_W,TCARBN,TCARBN_FLAG_W,ALKALI,ALKALI_FLAG_W,FCO2,FCO2_FLAG_W,FCO2TMP,PH_SWS,PH_SWS_FLAG_W,PH_TMP,TRITUM,TRITUM_FLAG_W,HELIUM,HELIUM_FLAG_W,DELHE3,DELHE3_FLAG_W,DELC13,DELC13_FLAG_W,DELC14,DELC14_FLAG_W,NEON,NEON_FLAG_W,NEONER,CCL4,CCL4_FLAG_W,POC,POC_FLAG_W,DOC,DOC_FLAG_W,TDN,TDN_FLAG_W,DON,DON_FLAG_W,CHLORA,CHLORA_FLAG_W,ARGON,ARGON_FLAG_W,TRITER,CDOM325,CDOM325_FLAG_W,CDOM340,CDOM340_FLAG_W,CDOM380,CDOM380_FLAG_W,CDOM412,CDOM412_FLAG_W,CDOM443,CDOM443_FLAG_W,CDOM490,CDOM490_FLAG_W,CDOM555,CDOM555_FLAG_W,CDOMSL,CDOMSL_FLAG_W,CDOMSN,CDOMSN_FLAG_W,THETA,D18O_NO3,D18O_NO3_FLAG_W,CDOM2C,CDOM2C_FLAG_W,CDOM3C,CDOM3C_FLAG_W,LAB_DEN,LAB_DEN_FLAG_W,DELSI30,DELSI30_FLAG_W,N2,N2_FLAG_W,D15N_NO3,D15N_NO3_FLAG_W,HELIER,DELHER
,,,,,,,,,,,METERS,DBAR,ITS-90,PSS-78,,PSS-78,,UMOL/KG,,UMOL/KG,,UMOL/KG,,UMOL/KG,,UMOL/KG,,UMOL/KG,,PMOL/KG,,PMOL/KG,,FMOL/KG,,UMOL/KG,,UMOL/KG,,UATM,,DEG C,,,DEG C,TU,,NMOL/KG,,PERCNT,,/MILLE,,/MILLE,,NMOL/KG,,NMOL/KG,PMOL/KG,,UG/KG,,UMOL/KG,,UMOL/KG,,UMOL/KG,,UG/KG,,UMOL/KG,,TU,1/M,,1/M,,1/M,,1/M,,1/M,,1/M,,1/M,,1/NM,,1/NM,,DEG C,/MILLE,,,,,,,,/MILLE,,UMOL/KG,,/MILLE,,NMOL/KG,PERCNT
33RO20071215,        P18,      79,          1,         36,      12017,2,20080110,       1859,   -16.9997,  -103.0002,       3920,     5.4,  22.2285,  35.9501,2,  35.9520,2,    219.9,2,   221.1,2,    0.70,2,    0.30,2,    0.00,2,    0.33,2,   2.057,6,   1.269,6,   1.1198,6,  2078.3,6,  2379.1,2,   -999.0,9,  -999.00,   8.0127,2,    25.00,-999.000,9,-999.0000,9, -999.00,9,    1.62,2,  -999.0,1,-999.000,9,-999.000,-999.000,9,-999.000,9,   71.99,2,    4.45,2, -999.00,1, -999.00,5, -999.00,9,-999.000,   0.0589,2,   0.0366,2,   0.0110,2,   0.0077,2,   0.0051,2,   0.0023,2,   0.0005,3,   0.0309,2,   0.0321,2,  22.2274,     -999.0,9,     -999.0,9,     -999.0,9,     -999.0,9,     -999.0,9,     -999.0,9,     -999.0,9,-999.0000, -999.00
33RO20071215,        P18,      79,          1,         35,      12029,2,20080110,       1859,   -16.9997,  -103.0002,       3920,    14.6,  22.2033,  35.9492,2,  35.9460,2,    220.2,2,   221.0,2,    0.80,2,    0.30,2,    0.00,2,    0.33,2,-999.000,9,-999.000,9,-999.0000,9,  2078.1,2,  2378.3,2,   -999.0,9,  -999.00,   8.0132,2,    25.00,-999.000,9,-999.0000,9, -999.00,9, -999.00,9,  -999.0,9,-999.000,9,-999.000,-999.000,9,-999.000,9,   71.06,2,    4.31,2, -999.00,1,    0.06,2, -999.00,9,-999.000,-999.0000,5,-999.0000,5,-999.0000,5,-999.0000,5,-999.0000,5,-999.0000,5,-999.0000,5,-999.0000,5,-999.0000,5,  22.2003,     -999.0,9,     -999.0,9,     -999.0,9,     -999.0,9,     -999.0,9,     -999.0,9,     -999.0,9,-999.0000, -999.00
33RO20071215,        P18,      79,          1,         34,      12049,2,20080110,       1859,   -16.9997,  -103.0002,       3920,    33.3,  22.1326,  35.9435,2,  35.9424,2,    220.6,2,   221.1,2,    0.80,2,    0.30,2,    0.00,2,    0.33,2,-999.000,9,-999.000,9,-999.0000,9,  2078.1,2,  2374.3,2,   -999.0,9,  -999.00,   8.0328,2,    25.00,-999.000,9,-999.0000,9, -999.00,9, -999.00,9,  -999.0,9,-999.000,9,-999.000,-999.000,9,-999.000,9,   70.56,2,    4.63,2, -999.00,1,    0.07,2, -999.00,9,-999.000,   0.0595,2,   0.0360,2,   0.0109,2,   0.0077,2,   0.0049,2,   0.0023,2,   0.0007,2,   0.0312,2,   0.0329,2,  22.1259,     -999.0,9,     -999.0,9,     -999.0,9,     -999.0,9,     -999.0,9,     -999.0,9,     -999.0,9,-999.0000, -999.00
33RO20071215,        P18,      79,          1,         33,      12027,2,20080110,       1859,   -16.9997,  -103.0002,       3920,    57.6,  21.8377,  35.9502,2,  35.9453,2,    223.0,2,   224.1,2,    0.80,2,    0.30,2,    0.00,2,    0.33,2,   2.084,2,   1.285,2,   1.1452,2,  2076.2,2,  2377.8,2,   -999.0,9,  -999.00,   8.0673,2,    25.00,-999.000,9,-999.0000,9, -999.00,9,    1.59,2,  -999.0,1,-999.000,9,-999.000,-999.000,9,-999.000,9,   70.11,2,    5.11,2, -999.00,1,    0.10,2, -999.00,9,-999.000,   0.0807,2,   0.0542,2,   0.0223,2,   0.0151,2,   0.0098,2,   0.0044,2,   0.0012,2,   0.0177,2,   0.0215,2,  21.8263,     -999.0,9,     -999.0,9,     -999.0,9,     -999.0,9,     -999.0,9,     -999.0,9,     -999.0,9,-999.0000, -999.00
33RO20071215,        P18,      79,          1,         32,      12023,2,20080110,       1859,   -16.9997,  -103.0002,       3920,    83.2,  21.0249,  35.9262,2,  35.9222,2,    225.1,2,   225.7,2,    0.70,2,    0.40,2,    0.00,2,    0.32,2,-999.000,9,-999.000,9,-999.0000,9,  2080.8,2,  2378.5,2,   -999.0,9,  -999.00,   8.0023,2,    25.00,-999.000,9,-999.0000,9, -999.00,9, -999.00,9,  -999.0,9,-999.000,9,-999.000,-999.000,9,-999.000,9,   68.83,2,    4.98,2, -999.00,1,    0.12,2, -999.00,9,-999.000,   0.0820,2,   0.0553,2,   0.0239,2,   0.0171,2,   0.0105,2,   0.0046,2,   0.0014,2,   0.0164,2,   0.0203,2,  21.0089,     -999.0,9,     -999.0,9,     -999.0,9,     -999.0,9,     -999.0,9,     -999.0,9,     -999.0,9,-999.0000, -999.00
33RO20071215,        P18,      79,          1,         31,      12037,2,20080110,       1859,   -16.9997,  -103.0002,       3920,   108.0,  20.4488,  35.8429,2,  35.8383,2,    215.7,2,   218.0,2,    0.70,2,    0.70,2,    0.11,2,    0.37,2,   2.175,2,   1.334,2,   1.0670,2,  2089.0,2,  2371.3,2,   -999.0,9,  -999.00,   8.0107,2,    25.00,-999.000,9,-999.0000,9, -999.00,9,    1.46,2,  -999.0,1,-999.000,9,-999.000,-999.000,9,-999.000,9,   66.15,2,    5.18,2, -999.00,1,    0.13,2, -999.00,9,-999.000,   0.0877,2,   0.0634,2,   0.0299,2,   0.0224,2,   0.0145,2,   0.0071,2,   0.0030,2,   0.0143,2,   0.0167,2,  20.4284,     -999.0,9,     -999.0,9,     -999.0,9,     -999.0,9,     -999.0,9,     -999.0,9,     -999.0,9,-999.0000, -999.00
33RO20071215,        P18,      79,          1,         30,      12036,2,20080110,       1859,   -16.9997,  -103.0002,       3920,   132.4,  20.1657,  35.7786,2,  35.7665,2,    214.6,2,   214.9,2,    0.80,2,    1.20,2,    0.69,2,    0.45,2,-999.000,9,-999.000,9,-999.0000,9,  2089.9,2,  2366.4,2,   -999.0,9,  -999.00,   7.9689,2,    25.00,-999.000,9,-999.0000,9, -999.00,9, -999.00,9,  -999.0,9,-999.000,9,-999.000,-999.000,9,-999.000,9,   64.94,2,    5.71,2, -999.00,1,    0.06,2, -999.00,9,-999.000,   0.0744,2,   0.0523,2,   0.0206,2,   0.0136,2,   0.0074,2,   0.0021,2,   0.0001,4,   0.0194,2,   0.0217,2,  20.1409,     -999.0,9,     -999.0,9,     -999.0,9,     -999.0,9,     -999.0,9,     -999.0,9,     -999.0,9,-999.0000, -999.00
33RO20071215,        P18,      79,          1,         29,      12044,2,20080110,       1859,   -16.9997,  -103.0002,       3920,   157.2,  19.9743,  35.7400,2,  35.7367,2,    214.9,2,   216.8,2,    0.80,2,    1.00,2,    0.49,2,    0.41,2,   2.220,2,   1.361,2,   1.1335,2,  2087.7,2,  2363.7,2,   -999.0,9,  -999.00,   7.9591,2,    25.00,-999.000,9,-999.0000,9, -999.00,9,    1.35,2,  -999.0,1,-999.000,9,-999.000,-999.000,9,-999.000,9,   63.39,2,    5.04,2, -999.00,1,    0.04,2, -999.00,9,-999.000,   0.0637,2,   0.0427,2,   0.0168,2,   0.0120,2,   0.0062,2,   0.0016,2,   0.0000,4,   0.0193,2,   0.0227,2,  19.9452,     -999.0,9,     -999.0,9,     -999.0,9,     -999.0,9,     -999.0,9,     -999.0,9,     -999.0,9,-999.0000, -999.00
33RO20071215,        P18,      79,          1,         28,      12057,2,20080110,       1859,   -16.9997,  -103.0002,       3920,   183.0,  19.8145,  35.6981,2,  35.6936,2,    214.8,2,   223.4,3,    0.90,2,    1.50,2,    0.73,2,    0.46,2,-999.000,9,-999.000,9,-999.0000,9,  2088.8,2,  2360.6,2,   -999.0,9,  -999.00,   7.9705,2,    25.00,-999.000,9,-999.0000,9, -999.00,9, -999.00,9,  -999.0,9,-999.000,9,-999.000,-999.000,9,-999.000,9,   61.60,2,    5.50,2, -999.00,1,    0.02,2, -999.00,9,-999.000,   0.0856,2,   0.0623,2,   0.0270,2,   0.0188,2,   0.0112,2,   0.0044,3,   0.0014,3,   0.0167,2,   0.0189,2,  19.7808,     -999.0,9,     -999.0,9,     -999.0,9,     -999.0,9,     -999.0,9,     -999.0,9,     -999.0,9,-999.0000, -999.00
33RO20071215,        P18,      79,          1,         27,      12026,2,20080110,       1859,   -16.9997,  -103.0002,       3920,   217.2,  15.8252,  34.9578,2,  34.9727,2,    186.5,2,   184.5,2,    2.00,2,    8.60,2,    0.02,2,    0.80,2,   2.630,2,   1.533,2,   1.0930,2,  2104.7,2,  -999.0,9,   -999.0,9,  -999.00,-999.0000,9,  -999.00,-999.000,9,-999.0000,9, -999.00,9,    1.08,2,  -999.0,1,-999.000,9,-999.000,-999.000,9,-999.000,9,   51.39,2,   11.87,2, -999.00,1,    0.01,2, -999.00,9,-999.000,   0.1211,2,   0.0882,2,   0.0438,2,   0.0337,2,   0.0204,2,   0.0090,2,   0.0038,2,   0.0146,2,   0.0158,2,  15.7911,     -999.0,9,     -999.0,9,     -999.0,9,     -999.0,9,     -999.0,9,     -999.0,9,     -999.0,9,-999.0000, -999.00
33RO20071215,        P18,      79,          1,         26,      12030,2,20080110,       1859,   -16.9997,  -103.0002,       3920,   267.6,  12.6222,  34.6780,2,  34.6755,2,     35.9,2,    36.4,2,   18.70,2,   20.00,2,    0.01,2,    2.44,2,-999.000,9,-999.000,9,-999.0000,9,  2241.4,2,  2293.8,2,   -999.0,9,  -999.00,   7.4595,2,    25.00,-999.000,9,-999.0000,9, -999.00,9,   -0.06,2,  -999.0,1,-999.000,9,-999.000,-999.000,9,-999.000,9,   47.54,2,   22.97,2, -999.00,1,    0.00,2, -999.00,9,-999.000,   0.1802,2,   0.1339,2,   0.0743,2,   0.0595,2,   0.0335,2,   0.0129,2,   0.0050,2,   0.0152,2,   0.0143,2,  12.5861,     -999.0,9,     -999.0,9,     -999.0,9,     -999.0,9,     -999.0,9,     -999.0,9,     -999.0,9,-999.0000, -999.00
33RO20071215,        P18,      79,          1,         25,      12024,2,20080110,       1859,   -16.9997,  -103.0002,       3920,   317.9,  11.7392,  34.7707,2,  34.7693,2,      5.7,2,     4.7,2,   26.50,2,   23.80,2,    0.00,2,    2.73,2,   0.732,2,   0.418,2,   0.1199,2,  2269.3,6,  -999.0,9,   -999.0,9,  -999.00,-999.0000,9,  -999.00,-999.000,9,-999.0000,9, -999.00,9,   -0.16,2,  -999.0,1,-999.000,9,-999.000,-999.000,9,-999.000,9,   46.22,2,   25.41,2, -999.00,1, -999.00,9, -999.00,9,-999.000,   0.2004,2,   0.1523,2,   0.0892,2,   0.0730,2,   0.0434,2,   0.0182,2,   0.0075,2,   0.0143,2,   0.0131,2,  11.6982,     -999.0,9,     -999.0,9,     -999.0,9,     -999.0,9,     -999.0,9,     -999.0,9,     -999.0,9,-999.0000, -999.00
33RO20071215,        P18,      79,          1,         24,      12019,2,20080110,       1859,   -16.9997,  -103.0002,       3920,   366.9,  10.2420,  34.6657,2,  34.6667,2,     12.0,2,    11.8,2,   26.10,2,   32.10,2,    0.00,2,    2.74,2,-999.000,9,-999.000,9,-999.0000,9,  2267.1,2,  2296.9,2,   -999.0,9,  -999.00,   7.3869,2,    25.00,-999.000,9,-999.0000,9, -999.00,9,       0,2,  -999.0,1,-999.000,9,-999.000,-999.000,9,-999.000,9,   45.29,2,   33.81,2, -999.00,1, -999.00,9, -999.00,9,-999.000,   0.1728,2,   0.1262,2,   0.0723,2,   0.0580,2,   0.0346,2,   0.0132,2,   0.0046,2,   0.0147,2,   0.0138,2,  10.1986,     -999.0,9,     -999.0,9,     -999.0,9,     -999.0,9,     -999.0,9,     -999.0,9,     -999.0,9,-999.0000, -999.00
33RO20071215,        P18,      79,          1,         23,      12022,2,20080110,       1859,   -16.9997,  -103.0002,       3920,   432.6,   8.7371,  34.6006,2,  34.5972,2,     19.1,2,    21.3,2,   29.60,2,   37.90,2,    0.00,2,    2.80,2,   0.212,2,   0.117,2,   0.0000,2,  -999.0,9,  -999.0,9,   -999.0,9,  -999.00,-999.0000,9,  -999.00,-999.000,9,-999.0000,9, -999.00,9, -999.00,9,  -999.0,9,-999.000,9,-999.000,-999.000,9,-999.000,9,   44.16,2,   39.01,2, -999.00,1, -999.00,9, -999.00,9,-999.000,   0.1613,2,   0.1152,2,   0.0652,2,   0.0514,2,   0.0308,2,   0.0110,2,   0.0032,2,   0.0147,2,   0.0143,2,   8.6905,     -999.0,9,     -999.0,9,     -999.0,9,     -999.0,9,     -999.0,9,     -999.0,9,     -999.0,9,-999.0000, -999.00
33RO20071215,        P18,      79,          1,         22,      12015,2,20080110,       1859,   -16.9997,  -103.0002,       3920,   533.5,   7.5991,  34.5620,2,  34.5596,2,     38.7,2,    38.7,2,   34.50,2,   40.30,2,    0.00,2,    2.79,2,-999.000,9,-999.000,9,-999.0000,9,  2265.6,2,  2302.0,2,   -999.0,9,  -999.00,   7.4034,2,    25.00,-999.000,9,-999.0000,9, -999.00,9,    0.19,2,  -999.0,1,-999.000,9,-999.000,-999.000,9,-999.000,9,   42.94,2,   41.94,2, -999.00,1, -999.00,9, -999.00,9,-999.000,   0.1532,2,   0.1077,2,   0.0602,2,   0.0463,2,   0.0287,2,   0.0107,3,   0.0032,3,   0.0146,4,   0.0147,4,   7.5458,     -999.0,9,     -999.0,9,     -999.0,9,     -999.0,9,     -999.0,9,     -999.0,9,     -999.0,9,-999.0000, -999.00
33RO20071215,        P18,      79,          1,         21,      12020,2,20080110,       1859,   -16.9997,  -103.0002,       3920,   633.5,   6.7229,  34.5226,2,  34.5189,2,     46.4,2,    46.3,2,   39.80,2,   41.80,2,    0.00,2,    2.89,2,   0.044,2,   0.024,2,   0.0000,2,  -999.0,9,  -999.0,9,   -999.0,9,  -999.00,-999.0000,9,  -999.00,-999.000,9,-999.0000,9, -999.00,9, -999.00,9,  -999.0,9,-999.000,9,-999.000,-999.000,9,-999.000,9,   42.37,2,   43.20,2, -999.00,1, -999.00,9, -999.00,9,-999.000,   0.1531,2,   0.1067,2,   0.0586,2,   0.0447,2,   0.0274,2,   0.0098,3,   0.0027,3,   0.0147,4,   0.0151,4,   6.6635,     -999.0,9,     -999.0,9,     -999.0,9,     -999.0,9,     -999.0,9,     -999.0,9,     -999.0,9,-999.0000, -999.00
33RO20071215,        P18,      79,          1,         20,      12055,2,20080110,       1859,   -16.9997,  -103.0002,       3920,   732.6,   5.9873,  34.5067,2,  34.5042,2,     50.6,2,    51.1,2,   47.50,2,   42.90,2,    0.00,2,    2.97,2,-999.000,9,-999.000,9,-999.0000,9,  2276.4,2,  -999.0,9,   -999.0,9,  -999.00,-999.0000,9,  -999.00,-999.000,9,-999.0000,9, -999.00,9,    0.18,2,  -999.0,1,-999.000,9,-999.000,-999.000,9,-999.000,9,   40.41,2,   44.09,2, -999.00,1, -999.00,9, -999.00,9,-999.000,   0.1435,2,   0.0987,2,   0.0535,2,   0.0400,2,   0.0247,2,   0.0085,2,   0.0022,2,   0.0147,2,   0.0156,2,   5.9221,     -999.0,9,     -999.0,9,     -999.0,9,     -999.0,9,     -999.0,9,     -999.0,9,     -999.0,9,-999.0000, -999.00
33RO20071215,        P18,      79,          1,         19,      12018,2,20080110,       1859,   -16.9997,  -103.0002,       3920,   833.1,   5.1986,  34.5072,2,  34.5057,2,     52.7,2,    52.6,2,   60.60,2,   44.10,2,    0.00,2,    3.08,2,-999.000,9,-999.000,9,-999.0000,9,  -999.0,9,  -999.0,9,   -999.0,9,  -999.00,-999.0000,9,  -999.00,-999.000,9,-999.0000,9, -999.00,9, -999.00,9,  -999.0,9,-999.000,9,-999.000,-999.000,9,-999.000,9,   39.29,2,   45.39,2, -999.00,1, -999.00,9, -999.00,9,-999.000,   0.1499,2,   0.1034,2,   0.0564,2,   0.0419,2,   0.0260,2,   0.0094,2,   0.0027,3,   0.0148,2,   0.0155,2,   5.1289,     -999.0,9,     -999.0,9,     -999.0,9,     -999.0,9,     -999.0,9,     -999.0,9,     -999.0,9,-999.0000, -999.00
33RO20071215,        P18,      79,          1,         18,      12025,2,20080110,       1859,   -16.9997,  -103.0002,       3920,   932.7,   4.8141,  34.5160,2,  34.5157,2,     56.1,2,    56.9,2,   69.00,2,   44.10,2,    0.00,2,    3.09,2,-999.000,9,-999.000,9,-999.0000,9,  2298.3,2,  2334.4,2,   -999.0,9,  -999.00,   7.3992,2,    25.00,-999.000,9,-999.0000,9, -999.00,9, -999.00,9,  -999.0,9,-999.000,9,-999.000,-999.000,9,-999.000,9,   38.87,2,   45.04,2, -999.00,1, -999.00,9, -999.00,9,-999.000,   0.1765,2,   0.1262,2,   0.0705,2,   0.0528,2,   0.0344,2,   0.0143,2,   0.0050,2,   0.0143,2,   0.0144,2,   4.7382,     -999.0,9,     -999.0,9,     -999.0,9,     -999.0,9,     -999.0,9,     -999.0,9,     -999.0,9,-999.0000, -999.00
33RO20071215,        P18,      79,          1,         17,      12016,2,20080110,       1859,   -16.9997,  -103.0002,       3920,  1033.5,   4.3868,  34.5277,2,  34.5255,2,     65.3,2,    65.0,2,   77.70,2,   43.50,2,    0.00,2,    3.06,2,-999.000,9,-999.000,9,-999.0000,9,  -999.0,9,  -999.0,9,   -999.0,9,  -999.00,-999.0000,9,  -999.00,-999.000,9,-999.0000,9, -999.00,9, -999.00,9,  -999.0,9,-999.000,9,-999.000,-999.000,9,-999.000,9,   38.66,2,   45.12,2, -999.00,1, -999.00,9, -999.00,9,-999.000,   0.1593,2,   0.1117,2,   0.0616,2,   0.0454,2,   0.0290,2,   0.0114,2,   0.0038,2,   0.0146,2,   0.0151,2,   4.3053,     -999.0,9,     -999.0,9,     -999.0,9,     -999.0,9,     -999.0,9,     -999.0,9,     -999.0,9,-999.0000, -999.00
33RO20071215,        P18,      79,          1,         16,      12051,2,20080110,       1859,   -16.9997,  -103.0002,       3920,  1133.7,   4.0902,  34.5393,2,  34.5373,2,     70.5,2,    70.0,2,   85.00,2,   43.10,2,    0.00,2,    3.04,2,-999.000,9,-999.000,9,-999.0000,9,  2307.5,2,  -999.0,9,   -999.0,9,  -999.00,-999.0000,9,  -999.00,-999.000,9,-999.0000,9, -999.00,9,    0.07,2,  -999.0,1,-999.000,9,-999.000,-999.000,9,-999.000,9,   38.17,2,   43.95,2, -999.00,9, -999.00,9, -999.00,9,-999.000,   0.1514,2,   0.1048,2,   0.0568,2,   0.0417,2,   0.0262,2,   0.0095,2,   0.0027,2,   0.0149,2,   0.0156,2,   4.0024,     -999.0,9,     -999.0,9,     -999.0,9,     -999.0,9,     -999.0,9,     -999.0,9,     -999.0,9,-999.0000, -999.00
33RO20071215,        P18,      79,          1,         15,      12014,2,20080110,       1859,   -16.9997,  -103.0002,       3920,  1234.0,   3.7854,  34.5510,2,  34.5487,2,     76.6,2,    77.4,2,   91.70,2,   42.40,2,    0.00,2,    3.00,2,-999.000,9,-999.000,9,-999.0000,9,  -999.0,9,  -999.0,9,   -999.0,9,  -999.00,-999.0000,9,  -999.00,-999.000,9,-999.0000,9, -999.00,9, -999.00,9,  -999.0,9,-999.000,9,-999.000,-999.000,9,-999.000,9,   38.06,2,   43.93,2, -999.00,9, -999.00,9, -999.00,9,-999.000,   0.1617,2,   0.1138,2,   0.0627,2,   0.0458,2,   0.0291,2,   0.0116,2,   0.0038,2,   0.0147,2,   0.0151,2,   3.6918,     -999.0,9,     -999.0,9,     -999.0,9,     -999.0,9,     -999.0,9,     -999.0,9,     -999.0,9,-999.0000, -999.00
33RO20071215,        P18,      79,          1,         14,      12013,2,20080110,       1859,   -16.9997,  -103.0002,       3920,  1332.9,   3.5187,  34.5641,2,  34.5617,2,     81.0,2,    80.8,2,   98.30,2,   42.20,2,    0.00,2,    2.98,2,-999.000,9,-999.000,9,-999.0000,9,  2315.4,2,  2365.1,2,   -999.0,9,  -999.00,   7.4420,2,    25.00,-999.000,9,-999.0000,9, -999.00,9,    0.06,2,  -999.0,1,-999.000,9,-999.000,-999.000,9,-999.000,9,   38.14,2,   43.59,2, -999.00,9, -999.00,9, -999.00,9,-999.000,   0.1636,2,   0.1149,2,   0.0629,2,   0.0456,2,   0.0289,2,   0.0115,2,   0.0038,2,   0.0148,2,   0.0153,2,   3.4192,     -999.0,9,     -999.0,9,     -999.0,9,     -999.0,9,     -999.0,9,     -999.0,9,     -999.0,9,-999.0000, -999.00
33RO20071215,        P18,      79,          1,         13,      12012,2,20080110,       1859,   -16.9997,  -103.0002,       3920,  1467.0,   3.1409,  34.5832,2,  34.5815,2,     90.5,2,    90.2,2,  107.20,2,   41.40,2,    0.00,2,    2.92,2,-999.000,9,-999.000,9,-999.0000,9,  -999.0,9,  -999.0,9,   -999.0,9,  -999.00,-999.0000,9,  -999.00,-999.000,9,-999.0000,9, -999.00,9, -999.00,9,  -999.0,9,-999.000,9,-999.000,-999.000,9,-999.000,9,   38.25,2,   42.27,2, -999.00,9, -999.00,9, -999.00,9,-999.000,   0.1528,2,   0.1059,2,   0.0565,2,   0.0404,2,   0.0254,2,   0.0098,2,   0.0032,2,   0.0150,2,   0.0160,2,   3.0342,     -999.0,9,     -999.0,9,     -999.0,9,     -999.0,9,     -999.0,9,     -999.0,9,     -999.0,9,-999.0000, -999.00
33RO20071215,        P18,      79,          1,         12,      12031,2,20080110,       1859,   -16.9997,  -103.0002,       3920,  1649.2,   2.7866,  34.6057,2,  34.6049,2,     99.3,2,  -999.0,5,  116.50,2,   40.70,2,    0.00,2,    2.85,2,-999.000,9,-999.000,9,-999.0000,9,  2324.9,2,  -999.0,9,   -999.0,9,  -999.00,-999.0000,9,  -999.00,-999.000,9,-999.0000,9, -999.00,9,    0.04,2,  -999.0,1,-999.000,9,-999.000,-999.000,9,-999.000,9,   38.01,2,   42.02,2, -999.00,9, -999.00,9, -999.00,9,-999.000,   0.1578,2,   0.1108,2,   0.0602,2,   0.0431,2,   0.0275,2,   0.0113,2,   0.0039,2,   0.0148,2,   0.0155,2,   2.6688,     -999.0,9,     -999.0,9,     -999.0,9,     -999.0,9,     -999.0,9,     -999.0,9,     -999.0,9,-999.0000, -999.00