BOTTLE,20220818CCHSIOAMB
EXPOCODE,SECT_ID,STNNBR,CASTNO,SAMPNO,BTLNBR,BTLNBR_FLAG_W,DATE,TIME,LATITUDE,LONGITUDE,DEPTH,CTDPRS,CTDTMP,CTDSAL,CTDSAL_FLAG_W,SALNTY,SALNTY_FLAG_W,CTDOXY,CTDOXY_FLAG_W,OXYGEN,OXYGEN_FLAG_W,SILCAT,SILCAT_FLAG_W,NITRAT,NITRAT_FLAG_W,NITRIT,NITRIT_FLAG_W,PHSPHT,PHSPHT_FLAG_W,CFC-11,CFC-11_FLAG_W,CFC-12,CFC-12_FLAG_W,SF6,SF6_FLAG_W,TCARBN,TCARBN_FLAG_W,ALKALI,ALKALI_FLAG_W,FCO2,FCO2_FLAG_W,FCO2TMP,PH_SWS,PH_SWS_FLAG_W,PH_TMP,TRITUM,TRITUM_FLAG_W,HELIUM,HELIUM_FLAG_W,DELHE3,DELHE3_FLAG_W,DELC13,DELC13_FLAG_W,DELC14,DELC14_FLAG_W,NEON,NEON_FLAG_W,NEONER,CCL4,CCL4_FLAG_W,POC,POC_FLAG_W,DOC,DOC_FLAG_W,TDN,TDN_FLAG_W,DON,DON_FLAG_W,CHLORA,CHLORA_FLAG_W,ARGON,ARGON_FLAG_W,TRITER,CDOM325,CDOM325_FLAG_W,CDOM340,CDOM340_FLAG_W,CDOM380,CDOM380_FLAG_W,CDOM412,CDOM412_FLAG_W,CDOM443,CDOM443_FLAG_W,CDOM490,CDOM490_FLAG_W,CDOM555,CDOM555_FLAG_W,CDOMSL,CDOMSL_FLAG_W,CDOMSN,CDOMSN_FLAG_W,THETA,D18O_NO3,D18O_NO3_FLAG_W,CDOM2C,CDOM2C_FLAG_W,CDOM3C,CDOM3C_FLAG_W,LAB_DEN,LAB_DEN_FLAG_W,DELSI30,DELSI30_FLAG_W,N2,N2_FLAG_W,D15N_NO3,D15N_NO3_FLAG_W,HELIER,DELHER
,,,,,,,,,,,METERS,DBAR,ITS-90,PSS-78,,PSS-78,,UMOL/KG,,UMOL/KG,,UMOL/KG,,UMOL/KG,,UMOL/KG,,UMOL/KG,,PMOL/KG,,PMOL/KG,,FMOL/KG,,UMOL/KG,,UMOL/KG,,UATM,,DEG C,,,DEG C,TU,,NMOL/KG,,PERCNT,,/MILLE,,/MILLE,,NMOL/KG,,NMOL/KG,PMOL/KG,,UG/KG,,UMOL/KG,,UMOL/KG,,UMOL/KG,,UG/KG,,UMOL/KG,,TU,1/M,,1/M,,1/M,,1/M,,1/M,,1/M,,1/M,,1/NM,,1/NM,,DEG C,/MILLE,,,,,,,,/MILLE,,UMOL/KG,,/MILLE,,NMOL/KG,PERCNT
33RO20071215,        P18,      63,          1,         11,      12003,2,20080105,       2015,    -8.3325,  -105.3440,       3564,  1500.1,   3.0456,  34.5954,2,  34.5967,2,    104.3,2,   103.9,2,  112.40,2,   39.60,2,    0.00,2,    2.74,2,-999.000,9,-999.000,9,-999.0000,9,  -999.0,9,  -999.0,9,   -999.0,9,  -999.00,-999.0000,9,  -999.00,-999.000,9,-999.0000,9, -999.00,9, -999.00,9,  -999.0,9,-999.000,9,-999.000,-999.000,9,-999.000,9,   37.20,2,   40.88,2, -999.00,9, -999.00,9, -999.00,9,-999.000,   0.1598,2,   0.1138,2,   0.0648,2,   0.0474,2,   0.0317,2,   0.0149,2,   0.0061,2,   0.0136,2,   0.0142,2,   2.9371,     -999.0,9,     -999.0,9,     -999.0,9,     -999.0,1,     -999.0,9,     -999.0,9,     -999.0,9,-999.0000, -999.00
33RO20071215,        P18,      63,          1,         10,      12032,2,20080105,       2015,    -8.3325,  -105.3440,       3564,  1599.0,   2.8281,  34.6077,2,  34.6078,2,    106.2,2,   106.7,2,  118.70,2,   39.50,2,    0.00,2,    2.73,2,   0.000,2,  -0.001,2,   0.0000,2,  2320.9,2,  2388.3,2,   -999.0,9,  -999.00,   7.4996,2,    25.00,-999.000,9,-999.0000,9, -999.00,9, -999.00,9,  -999.0,9,-999.000,9,-999.000,-999.000,9,-999.000,9,   37.05,2,   40.62,2, -999.00,9, -999.00,9, -999.00,9,-999.000,   0.1775,2,   0.1291,2,   0.0763,2,   0.0566,2,   0.0391,2,   0.0201,2,   0.0091,2,   0.0126,2,   0.0131,2,   2.7140,     -999.0,9,     -999.0,9,     -999.0,9,     -999.0,1,     -999.0,9,     -999.0,9,     -999.0,9,-999.0000, -999.00
33RO20071215,        P18,      63,          1,          9,      12002,2,20080105,       2015,    -8.3325,  -105.3440,       3564,  1800.4,   2.5054,  34.6277,2,  34.6278,2,    109.9,2,   110.3,2,  128.80,2,   39.20,2,    0.00,2,    2.71,2,   0.001,2,  -0.001,2,   0.0000,2,  2329.9,2,  -999.0,9,   -999.0,9,  -999.00,   7.5127,2,    25.00,-999.000,9,-999.0000,9, -999.00,9, -999.00,9,  -999.0,9,-999.000,9,-999.000,-999.000,9,-999.000,9,   36.73,2,   40.17,2, -999.00,9, -999.00,9, -999.00,9,-999.000,   0.1837,2,   0.1350,2,   0.0803,2,   0.0593,2,   0.0409,2,   0.0209,2,   0.0095,2,   0.0126,2,   0.0130,2,   2.3784,     -999.0,9,     -999.0,9,     -999.0,9,     -999.0,1,     -999.0,9,     -999.0,9,     -999.0,9,-999.0000, -999.00
33RO20071215,        P18,      63,          1,          8,      12021,2,20080105,       2015,    -8.3325,  -105.3440,       3564,  2001.0,   2.2910,  34.6414,2,  34.6423,2,    113.9,2,   114.4,2,  134.70,2,   38.90,2,    0.00,2,    2.67,2,   0.002,2,   0.000,2,   0.0180,2,  2333.3,2,  -999.0,9,   -999.0,9,  -999.00,   7.5234,2,    25.00,-999.000,9,-999.0000,9, -999.00,9, -999.00,9,  -999.0,9,-999.000,9,-999.000,   0.003,3,-999.000,9,   37.20,2,   40.12,2, -999.00,9, -999.00,9, -999.00,9,-999.000,   0.1558,2,   0.1095,2,   0.0606,2,   0.0430,2,   0.0275,2,   0.0114,2,   0.0038,2,   0.0147,2,   0.0153,2,   2.1500,     -999.0,9,     -999.0,9,     -999.0,9,     -999.0,1,     -999.0,9,     -999.0,9,     -999.0,9,-999.0000, -999.00
33RO20071215,        P18,      63,          1,          7,      12001,2,20080105,       2015,    -8.3325,  -105.3440,       3564,  2200.7,   2.1063,  34.6539,2,  34.6545,2,    119.4,2,   118.2,2,  140.90,2,   38.60,2,    0.00,2,    2.64,2,   0.000,2,   0.000,2,   0.0000,2,  -999.0,9,  -999.0,9,   -999.0,9,  -999.00,-999.0000,9,  -999.00,-999.000,9,-999.0000,9, -999.00,9, -999.00,9,  -999.0,9,-999.000,9,-999.000,   0.002,3,-999.000,9,   38.14,2,   40.00,2, -999.00,9, -999.00,9, -999.00,9,-999.000,   0.1964,2,   0.1458,2,   0.0880,2,   0.0653,2,   0.0458,2,   0.0247,2,   0.0119,2,   0.0118,2,   0.0124,2,   1.9509,     -999.0,9,     -999.0,9,     -999.0,9,     -999.0,1,     -999.0,9,     -999.0,9,     -999.0,9,-999.0000, -999.00
33RO20071215,        P18,      63,          1,          6,      12033,2,20080105,       2015,    -8.3325,  -105.3440,       3564,  2399.7,   1.9966,  34.6613,2,  34.6623,2,    123.9,2,   123.7,2,  142.10,2,   38.20,2,    0.00,2,    2.61,2,   0.000,2,   0.001,2,   0.0000,2,  -999.0,9,  2416.2,2,   -999.0,9,  -999.00,   7.5332,2,    25.00,-999.000,9,-999.0000,9, -999.00,9, -999.00,9,  -999.0,9,-999.000,9,-999.000,   0.003,3,-999.000,9,   38.46,2,   39.28,2, -999.00,9, -999.00,9, -999.00,9,-999.000,   0.1785,2,   0.1288,2,   0.0732,2,   0.0527,2,   0.0353,2,   0.0172,2,   0.0075,2,   0.0135,2,   0.0141,2,   1.8254,     -999.0,9,     -999.0,9,     -999.0,9,     -999.0,1,     -999.0,9,     -999.0,9,     -999.0,9,-999.0000, -999.00
33RO20071215,        P18,      63,          1,          5,      12008,2,20080105,       2015,    -8.3325,  -105.3440,       3564,  2599.6,   1.8874,  34.6681,2,  34.6679,2,    126.8,2,   127.1,2,  145.90,2,   38.00,2,    0.00,2,    2.59,2,  -0.001,2,   0.000,2,   0.0000,2,  -999.0,9,  -999.0,9,   -999.0,9,  -999.00,-999.0000,9,  -999.00,-999.000,9,-999.0000,9, -999.00,9, -999.00,9,  -999.0,9,-999.000,9,-999.000,   0.002,3,-999.000,9,   38.56,2,   39.37,2, -999.00,9, -999.00,9, -999.00,9,-999.000,   0.1507,2,   0.1054,2,   0.0576,2,   0.0400,2,   0.0254,2,   0.0106,2,   0.0037,2,   0.0149,2,   0.0157,2,   1.7001,     -999.0,9,     -999.0,9,     -999.0,9,     -999.0,1,     -999.0,9,     -999.0,9,     -999.0,9,-999.0000, -999.00
33RO20071215,        P18,      63,          1,          4,      12009,2,20080105,       2015,    -8.3325,  -105.3440,       3564,  2801.1,   1.8057,  34.6730,2,  34.6737,2,    131.4,2,   132.1,2,  147.80,6,   37.70,6,    0.00,6,    2.56,2,   0.000,2,   0.000,2,   0.0331,2,  -999.0,9,  -999.0,9,   -999.0,9,  -999.00,-999.0000,9,  -999.00,-999.000,9,-999.0000,9, -999.00,9, -999.00,9,  -999.0,9,-999.000,9,-999.000,   0.002,3,-999.000,9,   38.75,2,   38.92,2, -999.00,9, -999.00,9, -999.00,9,-999.000,   0.1537,2,   0.1086,2,   0.0601,2,   0.0421,2,   0.0273,2,   0.0122,2,   0.0047,2,   0.0144,2,   0.0152,2,   1.6012,     -999.0,9,     -999.0,9,     -999.0,9,     -999.0,1,     -999.0,9,     -999.0,9,     -999.0,9,-999.0000, -999.00
33RO20071215,        P18,      63,          1,          3,      12006,2,20080105,       2015,    -8.3325,  -105.3440,       3564,  2998.8,   1.7781,  34.6752,2,  34.6753,2,    134.1,2,   134.4,2,  148.00,6,   37.50,6,    0.00,6,    2.54,2,   0.000,2,   0.000,2,   0.0000,2,  2336.6,2,  2424.9,2,   -999.0,9,  -999.00,   7.5580,2,    25.00,-999.000,9,-999.0000,9, -999.00,9, -999.00,9,  -999.0,9,-999.000,9,-999.000,   0.002,3,-999.000,9,   38.17,2,   38.54,2, -999.00,9, -999.00,9, -999.00,9,-999.000,   0.1782,2,   0.1278,2,   0.0724,2,   0.0518,2,   0.0351,2,   0.0182,2,   0.0083,2,   0.0130,2,   0.0141,2,   1.5552,     -999.0,9,     -999.0,9,     -999.0,9,     -999.0,1,     -999.0,9,     -999.0,9,     -999.0,9,-999.0000, -999.00
33RO20071215,        P18,      63,          1,          2,      12007,2,20080105,       2015,    -8.3325,  -105.3440,       3564,  3301.1,   1.7469,  34.6782,2,  34.6796,2,    137.3,2,   137.6,2,  149.60,6,   37.30,6,    0.00,6,    2.53,2,   0.000,2,   0.000,2,   0.0000,2,  2335.7,2,  2427.5,2,   -999.0,9,  -999.00,   7.5457,2,    25.00,-999.000,9,-999.0000,9, -999.00,9, -999.00,9,  -999.0,9,-999.000,9,-999.000,   0.003,3,-999.000,9,   38.37,2,   38.79,2, -999.00,9, -999.00,9, -999.00,9,-999.000,   0.1764,2,   0.1273,2,   0.0728,2,   0.0523,2,   0.0356,2,   0.0187,2,   0.0086,2,   0.0128,2,   0.0138,2,   1.4948,     -999.0,9,     -999.0,9,     -999.0,9,     -999.0,1,     -999.0,9,     -999.0,9,     -999.0,9,-999.0000, -999.00
33RO20071215,        P18,      63,          1,          1,      12035,2,20080105,       2015,    -8.3325,  -105.3440,       3564,  3599.5,   1.7592,  34.6793,2,  34.6805,2,    138.2,2,   138.8,2,  150.10,2,   37.30,2,    0.00,2,    2.52,2,   0.001,6,   0.000,6,   0.0000,6,  2335.7,6,  2431.5,2,   -999.0,9,  -999.00,   7.5670,2,    25.00,-999.000,9,-999.0000,9, -999.00,9, -999.00,9,  -999.0,9,-999.000,9,-999.000,   0.003,3,-999.000,9,   38.29,2,   38.37,2, -999.00,9, -999.00,9, -999.00,9,-999.000,   0.1552,2,   0.1090,2,   0.0593,2,   0.0409,2,   0.0265,2,   0.0121,2,   0.0048,2,   0.0145,2,   0.0156,2,   1.4761,     -999.0,9,     -999.0,9,     -999.0,9,     -999.0,1,     -999.0,9,     -999.0,9,     -999.0,9,-999.0000, -999.00