BOTTLE,20220818CCHSIOAMB
EXPOCODE,SECT_ID,STNNBR,CASTNO,SAMPNO,BTLNBR,BTLNBR_FLAG_W,DATE,TIME,LATITUDE,LONGITUDE,DEPTH,CTDPRS,CTDTMP,CTDSAL,CTDSAL_FLAG_W,SALNTY,SALNTY_FLAG_W,CTDOXY,CTDOXY_FLAG_W,OXYGEN,OXYGEN_FLAG_W,SILCAT,SILCAT_FLAG_W,NITRAT,NITRAT_FLAG_W,NITRIT,NITRIT_FLAG_W,PHSPHT,PHSPHT_FLAG_W,CFC-11,CFC-11_FLAG_W,CFC-12,CFC-12_FLAG_W,SF6,SF6_FLAG_W,TCARBN,TCARBN_FLAG_W,ALKALI,ALKALI_FLAG_W,FCO2,FCO2_FLAG_W,FCO2TMP,PH_SWS,PH_SWS_FLAG_W,PH_TMP,TRITUM,TRITUM_FLAG_W,HELIUM,HELIUM_FLAG_W,DELHE3,DELHE3_FLAG_W,DELC13,DELC13_FLAG_W,DELC14,DELC14_FLAG_W,NEON,NEON_FLAG_W,NEONER,CCL4,CCL4_FLAG_W,POC,POC_FLAG_W,DOC,DOC_FLAG_W,TDN,TDN_FLAG_W,DON,DON_FLAG_W,CHLORA,CHLORA_FLAG_W,ARGON,ARGON_FLAG_W,TRITER,CDOM325,CDOM325_FLAG_W,CDOM340,CDOM340_FLAG_W,CDOM380,CDOM380_FLAG_W,CDOM412,CDOM412_FLAG_W,CDOM443,CDOM443_FLAG_W,CDOM490,CDOM490_FLAG_W,CDOM555,CDOM555_FLAG_W,CDOMSL,CDOMSL_FLAG_W,CDOMSN,CDOMSN_FLAG_W,THETA,D18O_NO3,D18O_NO3_FLAG_W,CDOM2C,CDOM2C_FLAG_W,CDOM3C,CDOM3C_FLAG_W,LAB_DEN,LAB_DEN_FLAG_W,DELSI30,DELSI30_FLAG_W,N2,N2_FLAG_W,D15N_NO3,D15N_NO3_FLAG_W,HELIER,DELHER
,,,,,,,,,,,METERS,DBAR,ITS-90,PSS-78,,PSS-78,,UMOL/KG,,UMOL/KG,,UMOL/KG,,UMOL/KG,,UMOL/KG,,UMOL/KG,,PMOL/KG,,PMOL/KG,,FMOL/KG,,UMOL/KG,,UMOL/KG,,UATM,,DEG C,,,DEG C,TU,,NMOL/KG,,PERCNT,,/MILLE,,/MILLE,,NMOL/KG,,NMOL/KG,PMOL/KG,,UG/KG,,UMOL/KG,,UMOL/KG,,UMOL/KG,,UG/KG,,UMOL/KG,,TU,1/M,,1/M,,1/M,,1/M,,1/M,,1/M,,1/M,,1/NM,,1/NM,,DEG C,/MILLE,,,,,,,,/MILLE,,UMOL/KG,,/MILLE,,NMOL/KG,PERCNT
33RO20071215,        P18,     150,          1,         36,      12017,2,20080207,       1540,   -58.2502,  -103.0002,       4574,     5.1,   6.3448,  34.0665,2,  34.0706,2,    300.7,2,   302.6,2,    2.90,2,   20.50,2,    0.20,2,    1.45,2,-999.000,9,-999.000,9,-999.0000,9,  2111.4,6,  2275.9,2,    651.7,2,    20.00,   7.7965,2,    25.00,-999.000,9,-999.0000,9, -999.00,9, -999.00,9,  -999.0,9,-999.000,9,-999.000,-999.000,9,-999.000,9, -999.00,9, -999.00,9, -999.00,9, -999.00,9, -999.00,9,-999.000,-999.0000,9,-999.0000,9,-999.0000,9,-999.0000,9,-999.0000,9,-999.0000,9,-999.0000,9,-999.0000,9,-999.0000,9,   6.3443,     -999.0,9,     -999.0,9,     -999.0,9,     -999.0,9,     -999.0,9,     -999.0,9,     -999.0,9,-999.0000, -999.00
33RO20071215,        P18,     150,          1,         35,      12029,2,20080207,       1540,   -58.2502,  -103.0002,       4574,    14.8,   6.3309,  34.0667,2,  34.0661,2,    301.1,2,   302.8,2,    2.90,2,   20.50,2,    0.20,2,    1.44,2,-999.000,9,-999.000,9,-999.0000,9,  2108.5,2,  2277.3,2,   -999.0,9,  -999.00,   7.8076,2,    25.00,-999.000,9,-999.0000,9, -999.00,9, -999.00,9,  -999.0,9,-999.000,9,-999.000,-999.000,9,-999.000,9, -999.00,9, -999.00,9, -999.00,9, -999.00,9, -999.00,9,-999.000,-999.0000,9,-999.0000,9,-999.0000,9,-999.0000,9,-999.0000,9,-999.0000,9,-999.0000,9,-999.0000,9,-999.0000,9,   6.3296,     -999.0,9,     -999.0,9,     -999.0,9,     -999.0,9,     -999.0,9,     -999.0,9,     -999.0,9,-999.0000, -999.00
33RO20071215,        P18,     150,          1,         34,      12049,2,20080207,       1540,   -58.2502,  -103.0002,       4574,    20.1,   6.3226,  34.0666,2,  34.0663,2,    301.8,2,   302.8,2,    2.90,2,   20.50,2,    0.20,2,    1.44,2,-999.000,9,-999.000,9,-999.0000,9,  2109.7,2,  2273.3,2,   -999.0,9,  -999.00,   7.7989,2,    25.00,-999.000,9,-999.0000,9, -999.00,9, -999.00,9,  -999.0,9,-999.000,9,-999.000,-999.000,9,-999.000,9, -999.00,9, -999.00,9, -999.00,9, -999.00,9, -999.00,9,-999.000,-999.0000,9,-999.0000,9,-999.0000,9,-999.0000,9,-999.0000,9,-999.0000,9,-999.0000,9,-999.0000,9,-999.0000,9,   6.3209,     -999.0,9,     -999.0,9,     -999.0,9,     -999.0,9,     -999.0,9,     -999.0,9,     -999.0,9,-999.0000, -999.00
33RO20071215,        P18,     150,          1,         33,      12027,2,20080207,       1540,   -58.2502,  -103.0002,       4574,    41.5,   6.2836,  34.0641,2,  34.0642,2,    302.7,2,   302.6,2,    3.00,2,   20.60,2,    0.19,2,    1.45,2,-999.000,9,-999.000,9,-999.0000,9,  2110.2,2,  2273.7,2,    653.3,6,    20.00,   7.7923,2,    25.00,-999.000,9,-999.0000,9, -999.00,9, -999.00,9,  -999.0,9,-999.000,9,-999.000,-999.000,9,-999.000,9, -999.00,9, -999.00,9, -999.00,9, -999.00,9, -999.00,9,-999.000,-999.0000,9,-999.0000,9,-999.0000,9,-999.0000,9,-999.0000,9,-999.0000,9,-999.0000,9,-999.0000,9,-999.0000,9,   6.2800,     -999.0,9,     -999.0,9,     -999.0,9,     -999.0,9,     -999.0,9,     -999.0,9,     -999.0,9,-999.0000, -999.00
33RO20071215,        P18,     150,          1,         32,      12023,2,20080207,       1540,   -58.2502,  -103.0002,       4574,    67.3,   6.1684,  34.0613,2,  34.0634,2,    302.1,2,   302.8,2,    3.30,2,   20.70,2,    0.19,2,    1.46,2,-999.000,9,-999.000,9,-999.0000,9,  2113.7,2,  2273.2,2,   -999.0,9,  -999.00,   7.7908,2,    25.00,-999.000,9,-999.0000,9, -999.00,9, -999.00,9,  -999.0,9,-999.000,9,-999.000,-999.000,9,-999.000,9, -999.00,9, -999.00,9, -999.00,9, -999.00,9, -999.00,9,-999.000,-999.0000,9,-999.0000,9,-999.0000,9,-999.0000,9,-999.0000,9,-999.0000,9,-999.0000,9,-999.0000,9,-999.0000,9,   6.1627,     -999.0,9,     -999.0,9,     -999.0,9,     -999.0,9,     -999.0,9,     -999.0,9,     -999.0,9,-999.0000, -999.00
33RO20071215,        P18,     150,          1,         31,      12037,2,20080207,       1540,   -58.2502,  -103.0002,       4574,    91.6,   6.0303,  34.0538,2,  34.0530,2,    301.4,2,   302.5,2,    4.10,2,   21.20,2,    0.20,2,    1.51,2,-999.000,9,-999.000,9,-999.0000,9,  2117.2,2,  2276.4,2,    673.7,2,    20.00,   7.7934,2,    25.00,-999.000,9,-999.0000,9, -999.00,9, -999.00,9,  -999.0,9,-999.000,9,-999.000,-999.000,9,-999.000,9, -999.00,9, -999.00,9, -999.00,9, -999.00,9, -999.00,9,-999.000,-999.0000,9,-999.0000,9,-999.0000,9,-999.0000,9,-999.0000,9,-999.0000,9,-999.0000,9,-999.0000,9,-999.0000,9,   6.0226,     -999.0,9,     -999.0,9,     -999.0,9,     -999.0,9,     -999.0,9,     -999.0,9,     -999.0,9,-999.0000, -999.00
33RO20071215,        P18,     150,          1,         30,      12036,2,20080207,       1540,   -58.2502,  -103.0002,       4574,   116.6,   4.9697,  34.0665,2,  34.0831,2,    300.1,2,   299.2,2,    7.80,2,   22.60,2,    0.33,2,    1.64,2,-999.000,9,-999.000,9,-999.0000,9,  2129.7,2,  2279.0,2,   -999.0,9,  -999.00,   7.7537,2,    25.00,-999.000,9,-999.0000,9, -999.00,9, -999.00,9,  -999.0,9,-999.000,9,-999.000,-999.000,9,-999.000,9, -999.00,9, -999.00,9, -999.00,9, -999.00,9, -999.00,9,-999.000,-999.0000,9,-999.0000,9,-999.0000,9,-999.0000,9,-999.0000,9,-999.0000,9,-999.0000,9,-999.0000,9,-999.0000,9,   4.9609,     -999.0,9,     -999.0,9,     -999.0,9,     -999.0,9,     -999.0,9,     -999.0,9,     -999.0,9,-999.0000, -999.00
33RO20071215,        P18,     150,          1,         29,      12044,2,20080207,       1540,   -58.2502,  -103.0002,       4574,   142.3,   4.9421,  34.1229,2,  34.1240,2,    292.5,2,   293.1,2,    9.00,2,   23.70,2,    0.04,2,    1.65,2,-999.000,9,-999.000,9,-999.0000,9,  2134.4,2,  2276.3,2,    754.8,2,    20.00,   7.7437,2,    25.00,-999.000,9,-999.0000,9, -999.00,9, -999.00,9,  -999.0,9,-999.000,9,-999.000,-999.000,9,-999.000,9, -999.00,9, -999.00,9, -999.00,9, -999.00,9, -999.00,9,-999.000,-999.0000,9,-999.0000,9,-999.0000,9,-999.0000,9,-999.0000,9,-999.0000,9,-999.0000,9,-999.0000,9,-999.0000,9,   4.9313,     -999.0,9,     -999.0,9,     -999.0,9,     -999.0,9,     -999.0,9,     -999.0,9,     -999.0,9,-999.0000, -999.00
33RO20071215,        P18,     150,          1,         28,      12057,2,20080207,       1540,   -58.2502,  -103.0002,       4574,   183.4,   4.5864,  34.1182,2,  34.1127,2,    290.6,2,   291.3,2,   10.20,2,   24.50,2,    0.01,2,    1.69,2,-999.000,9,-999.000,9,-999.0000,9,  2139.4,2,  2274.8,2,   -999.0,9,  -999.00,   7.7311,2,    25.00,-999.000,9,-999.0000,9, -999.00,9, -999.00,9,  -999.0,9,-999.000,9,-999.000,-999.000,9,-999.000,9, -999.00,9, -999.00,9, -999.00,9, -999.00,9, -999.00,9,-999.000,-999.0000,9,-999.0000,9,-999.0000,9,-999.0000,9,-999.0000,9,-999.0000,9,-999.0000,9,-999.0000,9,-999.0000,9,   4.5729,     -999.0,9,     -999.0,9,     -999.0,9,     -999.0,9,     -999.0,9,     -999.0,9,     -999.0,9,-999.0000, -999.00
33RO20071215,        P18,     150,          1,         27,      12026,2,20080207,       1540,   -58.2502,  -103.0002,       4574,   232.5,   4.4354,  34.1247,2,  34.1159,2,    288.0,2,   284.8,2,   12.00,2,   25.40,2,    0.01,2,    1.76,2,-999.000,9,-999.000,9,-999.0000,9,  2144.1,2,  2275.5,2,    800.7,2,    20.00,   7.7229,2,    25.00,-999.000,9,-999.0000,9, -999.00,9, -999.00,9,  -999.0,9,-999.000,9,-999.000,-999.000,9,-999.000,9, -999.00,9, -999.00,9, -999.00,9, -999.00,9, -999.00,9,-999.000,-999.0000,9,-999.0000,9,-999.0000,9,-999.0000,9,-999.0000,9,-999.0000,9,-999.0000,9,-999.0000,9,-999.0000,9,   4.4186,     -999.0,9,     -999.0,9,     -999.0,9,     -999.0,9,     -999.0,9,     -999.0,9,     -999.0,9,-999.0000, -999.00
33RO20071215,        P18,     150,          1,         26,      12030,2,20080207,       1540,   -58.2502,  -103.0002,       4574,   281.9,   4.0029,  34.1004,2,  34.1029,2,    282.9,2,   283.9,2,   13.50,2,   26.30,2,    0.01,2,    1.81,2,-999.000,9,-999.000,9,-999.0000,9,  2149.1,2,  2277.0,2,    821.1,2,    20.00,   7.7094,2,    25.00,-999.000,9,-999.0000,9, -999.00,9, -999.00,9,  -999.0,9,-999.000,9,-999.000,-999.000,9,-999.000,9, -999.00,9, -999.00,9, -999.00,9, -999.00,9, -999.00,9,-999.000,-999.0000,9,-999.0000,9,-999.0000,9,-999.0000,9,-999.0000,9,-999.0000,9,-999.0000,9,-999.0000,9,-999.0000,9,   3.9833,     -999.0,9,     -999.0,9,     -999.0,9,     -999.0,9,     -999.0,9,     -999.0,9,     -999.0,9,-999.0000, -999.00
33RO20071215,        P18,     150,          1,         25,      12024,2,20080207,       1540,   -58.2502,  -103.0002,       4574,   366.6,   3.7610,  34.1176,2,  34.1175,2,    271.3,2,   270.9,2,   17.40,2,   27.70,2,    0.01,2,    1.91,2,-999.000,9,-999.000,9,-999.0000,9,  2159.3,2,  2281.2,2,    871.3,2,    20.00,   7.6906,2,    25.00,-999.000,9,-999.0000,9, -999.00,9, -999.00,9,  -999.0,9,-999.000,9,-999.000,-999.000,9,-999.000,9, -999.00,9, -999.00,9, -999.00,9, -999.00,9, -999.00,9,-999.000,-999.0000,9,-999.0000,9,-999.0000,9,-999.0000,9,-999.0000,9,-999.0000,9,-999.0000,9,-999.0000,9,-999.0000,9,   3.7360,     -999.0,9,     -999.0,9,     -999.0,9,     -999.0,9,     -999.0,9,     -999.0,9,     -999.0,9,-999.0000, -999.00
33RO20071215,        P18,     150,          1,         24,      12019,2,20080207,       1540,   -58.2502,  -103.0002,       4574,   467.1,   3.5804,  34.1584,2,  34.1578,2,    255.8,2,   254.6,2,   22.90,2,   29.30,2,    0.01,2,    2.01,2,-999.000,9,-999.000,9,-999.0000,9,  2174.9,2,  2286.5,2,    933.0,2,    20.00,   7.6644,2,    25.00,-999.000,9,-999.0000,9, -999.00,9, -999.00,9,  -999.0,9,-999.000,9,-999.000,-999.000,9,-999.000,9, -999.00,9, -999.00,9, -999.00,9, -999.00,9, -999.00,9,-999.000,-999.0000,9,-999.0000,9,-999.0000,9,-999.0000,9,-999.0000,9,-999.0000,9,-999.0000,9,-999.0000,9,-999.0000,9,   3.5488,     -999.0,9,     -999.0,9,     -999.0,9,     -999.0,9,     -999.0,9,     -999.0,9,     -999.0,9,-999.0000, -999.00
33RO20071215,        P18,     150,          1,         23,      12022,2,20080207,       1540,   -58.2502,  -103.0002,       4574,   566.3,   3.4387,  34.2268,2,  34.2277,2,    230.5,2,   231.3,2,   31.70,2,   31.30,2,    0.00,2,    2.15,2,-999.000,9,-999.000,9,-999.0000,9,  2192.2,2,  2293.4,2,   1020.0,2,    20.00,   7.6333,2,    25.00,-999.000,9,-999.0000,9, -999.00,9, -999.00,9,  -999.0,9,-999.000,9,-999.000,-999.000,9,-999.000,9, -999.00,9, -999.00,9, -999.00,9, -999.00,9, -999.00,9,-999.000,-999.0000,9,-999.0000,9,-999.0000,9,-999.0000,9,-999.0000,9,-999.0000,9,-999.0000,9,-999.0000,9,-999.0000,9,   3.4005,     -999.0,9,     -999.0,9,     -999.0,9,     -999.0,9,     -999.0,9,     -999.0,9,     -999.0,9,-999.0000, -999.00
33RO20071215,        P18,     150,          1,         22,      12015,2,20080207,       1540,   -58.2502,  -103.0002,       4574,   665.7,   3.2129,  34.2776,2,  34.2796,2,    218.1,2,   218.3,2,   39.10,2,   32.50,2,    0.00,2,    2.23,2,-999.000,9,-999.000,9,-999.0000,9,  2205.4,2,  2299.6,2,   1070.0,2,    20.00,   7.6149,2,    25.00,-999.000,9,-999.0000,9, -999.00,9, -999.00,9,  -999.0,9,-999.000,9,-999.000,-999.000,9,-999.000,9, -999.00,9, -999.00,9, -999.00,9, -999.00,9, -999.00,9,-999.000,-999.0000,9,-999.0000,9,-999.0000,9,-999.0000,9,-999.0000,9,-999.0000,9,-999.0000,9,-999.0000,9,-999.0000,9,   3.1686,     -999.0,9,     -999.0,9,     -999.0,9,     -999.0,9,     -999.0,9,     -999.0,9,     -999.0,9,-999.0000, -999.00
33RO20071215,        P18,     150,          1,         21,      12020,2,20080207,       1540,   -58.2502,  -103.0002,       4574,   767.0,   3.1340,  34.3450,2,  34.3459,2,    201.8,2,   200.9,2,   47.10,2,   33.40,2,    0.00,2,    2.31,2,-999.000,9,-999.000,9,-999.0000,9,  2220.3,2,  2307.7,2,   -999.0,9,  -999.00,   7.5932,2,    25.00,-999.000,9,-999.0000,9, -999.00,9, -999.00,9,  -999.0,9,-999.000,9,-999.000,-999.000,9,-999.000,9, -999.00,9, -999.00,9, -999.00,9, -999.00,9, -999.00,9,-999.000,-999.0000,9,-999.0000,9,-999.0000,9,-999.0000,9,-999.0000,9,-999.0000,9,-999.0000,9,-999.0000,9,-999.0000,9,   3.0828,     -999.0,9,     -999.0,9,     -999.0,9,     -999.0,9,     -999.0,9,     -999.0,9,     -999.0,9,-999.0000, -999.00
33RO20071215,        P18,     150,          1,         20,      12055,2,20080207,       1540,   -58.2502,  -103.0002,       4574,   866.5,   2.8859,  34.3904,2,  34.3900,2,    192.5,2,   192.1,2,   54.40,2,   34.20,2,    0.00,2,    2.36,2,-999.000,9,-999.000,9,-999.0000,9,  2231.5,2,  2313.2,2,   1157.1,2,    20.00,   7.5929,2,    25.00,-999.000,9,-999.0000,9, -999.00,9, -999.00,9,  -999.0,9,-999.000,9,-999.000,-999.000,9,-999.000,9, -999.00,9, -999.00,9, -999.00,9, -999.00,9, -999.00,9,-999.000,-999.0000,9,-999.0000,9,-999.0000,9,-999.0000,9,-999.0000,9,-999.0000,9,-999.0000,9,-999.0000,9,-999.0000,9,   2.8289,     -999.0,9,     -999.0,9,     -999.0,9,     -999.0,9,     -999.0,9,     -999.0,9,     -999.0,9,-999.0000, -999.00
33RO20071215,        P18,     150,          1,         19,      12018,2,20080207,       1540,   -58.2502,  -103.0002,       4574,   966.4,   2.7383,  34.4376,2,  34.4376,2,    185.3,2,   184.6,2,   60.50,2,   34.50,2,    0.00,2,    2.39,2,-999.000,9,-999.000,9,-999.0000,9,  2240.3,2,  2321.9,2,   -999.0,9,  -999.00,   7.5771,2,    25.00,-999.000,9,-999.0000,9, -999.00,9, -999.00,9,  -999.0,9,-999.000,9,-999.000,-999.000,9,-999.000,9, -999.00,9, -999.00,9, -999.00,9, -999.00,9, -999.00,9,-999.000,-999.0000,9,-999.0000,9,-999.0000,9,-999.0000,9,-999.0000,9,-999.0000,9,-999.0000,9,-999.0000,9,-999.0000,9,   2.6751,     -999.0,9,     -999.0,9,     -999.0,9,     -999.0,9,     -999.0,9,     -999.0,9,     -999.0,9,-999.0000, -999.00
33RO20071215,        P18,     150,          1,         18,      12025,2,20080207,       1540,   -58.2502,  -103.0002,       4574,  1132.0,   2.5465,  34.5206,2,  34.5239,2,    175.1,2,   175.3,2,   69.70,2,   34.80,2,    0.00,2,    2.40,2,-999.000,9,-999.000,9,-999.0000,9,  2251.0,2,  2331.9,2,   1209.8,2,    20.00,   7.5637,2,    25.00,-999.000,9,-999.0000,9, -999.00,9, -999.00,9,  -999.0,9,-999.000,9,-999.000,-999.000,9,-999.000,9, -999.00,9, -999.00,9, -999.00,9, -999.00,9, -999.00,9,-999.000,-999.0000,9,-999.0000,9,-999.0000,9,-999.0000,9,-999.0000,9,-999.0000,9,-999.0000,9,-999.0000,9,-999.0000,9,   2.4724,     -999.0,9,     -999.0,9,     -999.0,9,     -999.0,9,     -999.0,9,     -999.0,9,     -999.0,9,-999.0000, -999.00
33RO20071215,        P18,     150,          1,         17,      12016,2,20080207,       1540,   -58.2502,  -103.0002,       4574,  1333.1,   2.4204,  34.5997,2,  34.5992,2,    171.7,2,   171.8,2,   77.30,2,   34.30,2,    0.00,2,    2.37,2,-999.000,9,-999.000,9,-999.0000,9,  2258.0,2,  2342.1,2,   -999.0,9,  -999.00,   7.5753,2,    25.00,-999.000,9,-999.0000,9, -999.00,9, -999.00,9,  -999.0,9,-999.000,9,-999.000,-999.000,9,-999.000,9, -999.00,9, -999.00,9, -999.00,9, -999.00,9, -999.00,9,-999.000,-999.0000,9,-999.0000,9,-999.0000,9,-999.0000,9,-999.0000,9,-999.0000,9,-999.0000,9,-999.0000,9,-999.0000,9,   2.3322,     -999.0,9,     -999.0,9,     -999.0,9,     -999.0,9,     -999.0,9,     -999.0,9,     -999.0,9,-999.0000, -999.00
33RO20071215,        P18,     150,          1,         16,      12051,2,20080207,       1540,   -58.2502,  -103.0002,       4574,  1532.6,   2.2952,  34.6508,2,  34.6507,2,    174.0,2,   174.1,2,   81.00,2,   33.50,2,    0.00,2,    2.32,2,-999.000,9,-999.000,9,-999.0000,9,  2257.9,6,  2343.3,2,   1175.0,2,    20.00,   7.5883,2,    25.00,-999.000,9,-999.0000,9, -999.00,9, -999.00,9,  -999.0,9,-999.000,9,-999.000,-999.000,9,-999.000,9, -999.00,9, -999.00,9, -999.00,9, -999.00,9, -999.00,9,-999.000,-999.0000,9,-999.0000,9,-999.0000,9,-999.0000,9,-999.0000,9,-999.0000,9,-999.0000,9,-999.0000,9,-999.0000,9,   2.1928,     -999.0,9,     -999.0,9,     -999.0,9,     -999.0,9,     -999.0,9,     -999.0,9,     -999.0,9,-999.0000, -999.00
33RO20071215,        P18,     150,          1,         15,      12014,2,20080207,       1540,   -58.2502,  -103.0002,       4574,  1732.4,   2.1680,  34.6891,2,  34.6886,2,    176.7,2,   177.0,2,   86.40,2,   33.10,2,    0.00,2,    2.29,2,-999.000,9,-999.000,9,-999.0000,9,  2261.7,2,  2348.4,2,   -999.0,9,  -999.00,   7.5980,2,    25.00,-999.000,9,-999.0000,9, -999.00,9, -999.00,9,  -999.0,9,-999.000,9,-999.000,-999.000,9,-999.000,9, -999.00,9, -999.00,9, -999.00,9, -999.00,9, -999.00,9,-999.000,-999.0000,9,-999.0000,9,-999.0000,9,-999.0000,9,-999.0000,9,-999.0000,9,-999.0000,9,-999.0000,9,-999.0000,9,   2.0510,     -999.0,9,     -999.0,9,     -999.0,9,     -999.0,9,     -999.0,9,     -999.0,9,     -999.0,9,-999.0000, -999.00
33RO20071215,        P18,     150,          1,         14,      12013,2,20080207,       1540,   -58.2502,  -103.0002,       4574,  1932.4,   2.0506,  34.7114,2,  34.7113,2,    180.9,2,   181.5,2,   88.90,2,   32.50,2,    0.00,2,    2.25,2,-999.000,9,-999.000,9,-999.0000,9,  2259.8,2,  2352.2,2,   1119.3,2,    20.00,   7.6047,2,    25.00,-999.000,9,-999.0000,9, -999.00,9, -999.00,9,  -999.0,9,-999.000,9,-999.000,-999.000,9,-999.000,9, -999.00,9, -999.00,9, -999.00,9, -999.00,9, -999.00,9,-999.000,-999.0000,9,-999.0000,9,-999.0000,9,-999.0000,9,-999.0000,9,-999.0000,9,-999.0000,9,-999.0000,9,-999.0000,9,   1.9188,     -999.0,9,     -999.0,9,     -999.0,9,     -999.0,9,     -999.0,9,     -999.0,9,     -999.0,9,-999.0000, -999.00
33RO20071215,        P18,     150,          1,         13,      12012,2,20080207,       1540,   -58.2502,  -103.0002,       4574,  2132.7,   1.8907,  34.7239,2,  34.7236,2,    185.9,2,   185.2,2,   93.40,2,   32.20,2,    0.00,2,    2.22,2,-999.000,9,-999.000,9,-999.0000,9,  2260.0,2,  2355.6,2,   -999.0,9,  -999.00,   7.6115,2,    25.00,-999.000,9,-999.0000,9, -999.00,9, -999.00,9,  -999.0,9,-999.000,9,-999.000,-999.000,9,-999.000,9, -999.00,9, -999.00,9, -999.00,9, -999.00,9, -999.00,9,-999.000,-999.0000,9,-999.0000,9,-999.0000,9,-999.0000,9,-999.0000,9,-999.0000,9,-999.0000,9,-999.0000,9,-999.0000,9,   1.7445,     -999.0,9,     -999.0,9,     -999.0,9,     -999.0,9,     -999.0,9,     -999.0,9,     -999.0,9,-999.0000, -999.00
33RO20071215,        P18,     150,          1,         12,      12031,2,20080207,       1540,   -58.2502,  -103.0002,       4574,  2332.8,   1.7282,  34.7274,2,  34.7297,2,    188.4,2,   189.0,2,   98.50,2,   32.10,2,    0.00,2,    2.22,2,-999.000,9,-999.000,9,-999.0000,9,  2263.1,2,  2358.6,2,   1094.4,2,    20.00,   7.6119,2,    25.00,-999.000,9,-999.0000,9, -999.00,9, -999.00,9,  -999.0,9,-999.000,9,-999.000,-999.000,9,-999.000,9, -999.00,9, -999.00,9, -999.00,9, -999.00,9, -999.00,9,-999.000,-999.0000,9,-999.0000,9,-999.0000,9,-999.0000,9,-999.0000,9,-999.0000,9,-999.0000,9,-999.0000,9,-999.0000,9,   1.5674,     -999.0,9,     -999.0,9,     -999.0,9,     -999.0,9,     -999.0,9,     -999.0,9,     -999.0,9,-999.0000, -999.00