BOTTLE,20220818CCHSIOAMB
EXPOCODE,SECT_ID,STNNBR,CASTNO,SAMPNO,BTLNBR,BTLNBR_FLAG_W,DATE,TIME,LATITUDE,LONGITUDE,DEPTH,CTDPRS,CTDTMP,CTDSAL,CTDSAL_FLAG_W,SALNTY,SALNTY_FLAG_W,CTDOXY,CTDOXY_FLAG_W,OXYGEN,OXYGEN_FLAG_W,SILCAT,SILCAT_FLAG_W,NITRAT,NITRAT_FLAG_W,NITRIT,NITRIT_FLAG_W,PHSPHT,PHSPHT_FLAG_W,CFC-11,CFC-11_FLAG_W,CFC-12,CFC-12_FLAG_W,SF6,SF6_FLAG_W,TCARBN,TCARBN_FLAG_W,ALKALI,ALKALI_FLAG_W,FCO2,FCO2_FLAG_W,FCO2TMP,PH_SWS,PH_SWS_FLAG_W,PH_TMP,TRITUM,TRITUM_FLAG_W,HELIUM,HELIUM_FLAG_W,DELHE3,DELHE3_FLAG_W,DELC13,DELC13_FLAG_W,DELC14,DELC14_FLAG_W,NEON,NEON_FLAG_W,NEONER,CCL4,CCL4_FLAG_W,POC,POC_FLAG_W,DOC,DOC_FLAG_W,TDN,TDN_FLAG_W,DON,DON_FLAG_W,CHLORA,CHLORA_FLAG_W,ARGON,ARGON_FLAG_W,TRITER,CDOM325,CDOM325_FLAG_W,CDOM340,CDOM340_FLAG_W,CDOM380,CDOM380_FLAG_W,CDOM412,CDOM412_FLAG_W,CDOM443,CDOM443_FLAG_W,CDOM490,CDOM490_FLAG_W,CDOM555,CDOM555_FLAG_W,CDOMSL,CDOMSL_FLAG_W,CDOMSN,CDOMSN_FLAG_W,THETA,D18O_NO3,D18O_NO3_FLAG_W,CDOM2C,CDOM2C_FLAG_W,CDOM3C,CDOM3C_FLAG_W,LAB_DEN,LAB_DEN_FLAG_W,DELSI30,DELSI30_FLAG_W,N2,N2_FLAG_W,D15N_NO3,D15N_NO3_FLAG_W,HELIER,DELHER
,,,,,,,,,,,METERS,DBAR,ITS-90,PSS-78,,PSS-78,,UMOL/KG,,UMOL/KG,,UMOL/KG,,UMOL/KG,,UMOL/KG,,UMOL/KG,,PMOL/KG,,PMOL/KG,,FMOL/KG,,UMOL/KG,,UMOL/KG,,UATM,,DEG C,,,DEG C,TU,,NMOL/KG,,PERCNT,,/MILLE,,/MILLE,,NMOL/KG,,NMOL/KG,PMOL/KG,,UG/KG,,UMOL/KG,,UMOL/KG,,UMOL/KG,,UG/KG,,UMOL/KG,,TU,1/M,,1/M,,1/M,,1/M,,1/M,,1/M,,1/M,,1/NM,,1/NM,,DEG C,/MILLE,,,,,,,,/MILLE,,UMOL/KG,,/MILLE,,NMOL/KG,PERCNT
33RO20071215,        P18,      50,          1,         36,      12017,2,20071231,       2116,    -2.4990,  -109.9993,       3942,     5.6,  22.5259,  34.9443,2,  34.9443,2,    209.9,2,   215.8,2,    8.10,2,   12.80,2,    0.31,2,    0.96,2,   1.948,2,   1.197,2,   0.9995,2,  2088.3,6,  2301.5,2,   -999.0,9,  -999.00,   7.8852,2,    25.00,-999.000,9,-999.0000,9, -999.00,9, -999.00,9,  -999.0,9,-999.000,9,-999.000,-999.000,9,-999.000,9, -999.00,9, -999.00,9, -999.00,9,    0.07,2, -999.00,9,-999.000,   0.1109,2,   0.0751,2,   0.0333,2,   0.0245,2,   0.0162,2,   0.0073,2,   0.0023,2,   0.0147,2,   0.0189,2,  22.5248,     -999.0,9,     -999.0,9,     -999.0,9,     -999.0,9,     -999.0,9,     -999.0,9,     -999.0,9,-999.0000, -999.00
33RO20071215,        P18,      50,          1,         35,      12029,2,20071231,       2116,    -2.4990,  -109.9993,       3942,    15.7,  22.3130,  34.9431,2,  34.9446,2,    209.7,2,   209.9,2,    8.20,2,   12.80,2,    0.30,2,    0.96,2,-999.000,9,-999.000,9,-999.0000,9,  2088.8,2,  2304.6,4,   -999.0,9,  -999.00,   7.9045,2,    25.00,-999.000,9,-999.0000,9, -999.00,9, -999.00,9,  -999.0,9,-999.000,9,-999.000,-999.000,9,-999.000,9, -999.00,9, -999.00,9, -999.00,9,    0.09,2, -999.00,9,-999.000,   0.0888,2,   0.0583,2,   0.0258,2,   0.0187,2,   0.0114,2,   0.0036,2,   0.0000,3,   0.0158,2,   0.0202,2,  22.3099,     -999.0,9,     -999.0,9,     -999.0,9,     -999.0,9,     -999.0,9,     -999.0,9,     -999.0,9,-999.0000, -999.00
33RO20071215,        P18,      50,          1,         34,      12049,2,20071231,       2116,    -2.4990,  -109.9993,       3942,    33.9,  22.0952,  34.9395,2,  34.9403,2,    207.8,2,   206.9,2,    8.40,2,   12.70,2,    0.28,2,    0.95,2,   1.964,6,   1.203,6,   0.9211,6,  2089.0,2,  2313.9,4,   -999.0,9,  -999.00,   7.8715,2,    25.00,-999.000,9,-999.0000,9, -999.00,9, -999.00,9,  -999.0,9,-999.000,9,-999.000,-999.000,9,-999.000,9, -999.00,9, -999.00,9, -999.00,9,    0.10,2, -999.00,9,-999.000,   0.0998,2,   0.0682,2,   0.0344,2,   0.0253,2,   0.0164,2,   0.0066,2,   0.0016,2,   0.0142,2,   0.0167,2,  22.0885,     -999.0,9,     -999.0,9,     -999.0,9,     -999.0,9,     -999.0,9,     -999.0,9,     -999.0,9,-999.0000, -999.00
33RO20071215,        P18,      50,          1,         33,      12027,2,20071231,       2116,    -2.4990,  -109.9993,       3942,    58.6,  16.3144,  35.0355,2,  35.0411,2,     86.4,2,    86.4,2,   14.40,2,   22.40,2,    0.54,2,    1.62,2,-999.000,9,-999.000,9,-999.0000,9,  2179.1,2,  2306.3,4,   -999.0,9,  -999.00,   7.6882,2,    25.00,-999.000,9,-999.0000,9, -999.00,9, -999.00,9,  -999.0,9,-999.000,9,-999.000,-999.000,9,-999.000,9, -999.00,9, -999.00,9, -999.00,9,    0.17,2, -999.00,9,-999.000,   0.1995,2,   0.1413,2,   0.0711,2,   0.0502,2,   0.0307,2,   0.0141,2,   0.0052,2,   0.0153,2,   0.0166,2,  16.3050,     -999.0,9,     -999.0,9,     -999.0,9,     -999.0,9,     -999.0,9,     -999.0,9,     -999.0,9,-999.0000, -999.00
33RO20071215,        P18,      50,          1,         32,      12023,2,20071231,       2116,    -2.4990,  -109.9993,       3942,    83.6,  14.5269,  35.0243,2,  35.0247,2,     48.7,2,    46.7,2,   17.70,2,   26.50,2,    0.80,2,    1.88,2,   1.384,2,   0.778,2,   0.3354,2,  2206.1,2,  2296.2,4,   -999.0,9,  -999.00,   7.5962,2,    25.00,-999.000,9,-999.0000,9, -999.00,9, -999.00,9,  -999.0,9,-999.000,9,-999.000,-999.000,9,-999.000,9, -999.00,9, -999.00,9, -999.00,9,    0.15,2, -999.00,9,-999.000,   0.2021,2,   0.1482,2,   0.0805,2,   0.0605,2,   0.0362,2,   0.0157,2,   0.0061,2,   0.0150,2,   0.0148,2,  14.5146,     -999.0,9,     -999.0,9,     -999.0,9,     -999.0,9,     -999.0,9,     -999.0,9,     -999.0,9,-999.0000, -999.00
33RO20071215,        P18,      50,          1,         31,      12037,2,20071231,       2116,    -2.4990,  -109.9993,       3942,   106.3,  13.9236,  34.9969,2,  34.9974,2,     38.7,2,    37.8,2,   19.10,2,   28.70,2,    0.16,2,    1.98,2,-999.000,9,-999.000,9,-999.0000,9,  2213.8,2,  2289.0,4,   -999.0,9,  -999.00,   7.5714,2,    25.00,-999.000,9,-999.0000,9, -999.00,9, -999.00,9,  -999.0,9,-999.000,9,-999.000,-999.000,9,-999.000,9, -999.00,9, -999.00,9, -999.00,9,    0.09,2, -999.00,9,-999.000,   0.2008,2,   0.1478,2,   0.0831,2,   0.0640,2,   0.0391,2,   0.0176,2,   0.0073,2,   0.0143,2,   0.0141,2,  13.9083,     -999.0,9,     -999.0,9,     -999.0,9,     -999.0,9,     -999.0,9,     -999.0,9,     -999.0,9,-999.0000, -999.00
33RO20071215,        P18,      50,          1,         30,      12036,2,20071231,       2116,    -2.4990,  -109.9993,       3942,   132.9,  13.6285,  34.9780,2,  34.9776,2,     46.0,2,    45.6,2,   19.90,2,   28.10,2,    0.02,2,    1.93,2,   1.248,2,   0.705,2,   0.2972,2,  2209.7,2,  2289.7,4,   -999.0,9,  -999.00,   7.6022,2,    25.00,-999.000,9,-999.0000,9, -999.00,9, -999.00,9,  -999.0,9,-999.000,9,-999.000,-999.000,9,-999.000,9, -999.00,9, -999.00,9, -999.00,9,    0.06,2, -999.00,9,-999.000,   0.1680,2,   0.1217,2,   0.0680,2,   0.0529,2,   0.0306,2,   0.0113,2,   0.0038,2,   0.0151,2,   0.0146,2,  13.6097,     -999.0,9,     -999.0,9,     -999.0,9,     -999.0,9,     -999.0,9,     -999.0,9,     -999.0,9,-999.0000, -999.00
33RO20071215,        P18,      50,          1,         29,      12044,2,20071231,       2116,    -2.4990,  -109.9993,       3942,   158.9,  13.3489,  34.9585,2,  34.9579,2,     28.1,2,    28.3,2,   21.60,2,   30.00,2,    0.01,2,    2.10,2,-999.000,9,-999.000,9,-999.0000,9,  2224.4,2,  2285.8,4,   -999.0,9,  -999.00,   7.5319,2,    25.00,-999.000,9,-999.0000,9, -999.00,9, -999.00,9,  -999.0,9,-999.000,9,-999.000,-999.000,9,-999.000,9, -999.00,9, -999.00,9, -999.00,9,    0.02,2, -999.00,9,-999.000,   0.1798,2,   0.1301,2,   0.0723,2,   0.0560,2,   0.0322,2,   0.0118,2,   0.0039,2,   0.0154,2,   0.0147,2,  13.3267,     -999.0,9,     -999.0,9,     -999.0,9,     -999.0,9,     -999.0,9,     -999.0,9,     -999.0,9,-999.0000, -999.00
33RO20071215,        P18,      50,          1,         28,      12057,2,20071231,       2116,    -2.4990,  -109.9993,       3942,   182.8,  13.1010,  34.9403,2,  34.9417,2,     29.2,2,    28.2,2,   22.70,2,   30.30,2,    0.01,2,    2.12,2,   1.047,2,   0.589,2,   0.2331,2,  2227.2,2,  2285.5,4,   -999.0,9,  -999.00,   7.5252,2,    25.00,-999.000,9,-999.0000,9, -999.00,9, -999.00,9,  -999.0,9,-999.000,9,-999.000,-999.000,9,-999.000,9, -999.00,9, -999.00,9, -999.00,9,    0.01,2, -999.00,9,-999.000,   0.1771,2,   0.1292,2,   0.0743,2,   0.0584,2,   0.0341,2,   0.0128,2,   0.0044,2,   0.0150,2,   0.0140,2,  13.0757,     -999.0,9,     -999.0,9,     -999.0,9,     -999.0,9,     -999.0,9,     -999.0,9,     -999.0,9,-999.0000, -999.00
33RO20071215,        P18,      50,          1,         27,      12026,2,20071231,       2116,    -2.4990,  -109.9993,       3942,   217.2,  12.6920,  34.9148,2,  34.9164,2,      9.3,2,     6.4,2, -999.00,5, -999.00,5, -999.00,5, -999.00,5,-999.000,9,-999.000,9,-999.0000,9,  2246.3,2,  -999.0,9,   -999.0,9,  -999.00,-999.0000,9,  -999.00,-999.000,9,-999.0000,9, -999.00,9, -999.00,9,  -999.0,9,-999.000,9,-999.000,-999.000,9,-999.000,9, -999.00,9, -999.00,9, -999.00,9,    0.00,2, -999.00,9,-999.000,   0.1947,2,   0.1433,2,   0.0821,2,   0.0641,2,   0.0377,2,   0.0143,2,   0.0049,2,   0.0152,2,   0.0141,2,  12.6625,     -999.0,9,     -999.0,9,     -999.0,9,     -999.0,9,     -999.0,9,     -999.0,9,     -999.0,9,-999.0000, -999.00
33RO20071215,        P18,      50,          1,         26,      12030,2,20071231,       2116,    -2.4990,  -109.9993,       3942,   267.2,  12.1551,  34.8832,2,  34.8843,2,      8.0,2,     8.1,2,   26.40,2,   32.50,2,    0.00,2,    2.37,2,   0.658,2,   0.379,2,   0.1284,2,  2251.7,2,  2279.2,4,   -999.0,9,  -999.00,   7.4551,2,    25.00,-999.000,9,-999.0000,9, -999.00,9, -999.00,9,  -999.0,9,-999.000,9,-999.000,-999.000,9,-999.000,9, -999.00,9, -999.00,9, -999.00,9,    0.00,2, -999.00,9,-999.000,   0.2092,2,   0.1574,2,   0.0948,2,   0.0758,2,   0.0475,2,   0.0211,2,   0.0090,2,   0.0137,2,   0.0127,2,  12.1199,     -999.0,9,     -999.0,9,     -999.0,9,     -999.0,9,     -999.0,9,     -999.0,9,     -999.0,9,-999.0000, -999.00
33RO20071215,        P18,      50,          1,         25,      12024,2,20071231,       2116,    -2.4990,  -109.9993,       3942,   317.1,  11.5879,  34.8452,2,  34.8465,2,      6.4,2,     6.5,2,   29.30,2,   33.30,2,    0.01,2,    2.46,2,-999.000,9,-999.000,9,-999.0000,9,  2259.6,2,  2248.5,4,   -999.0,9,  -999.00,   7.4296,2,    25.00,-999.000,9,-999.0000,9, -999.00,9, -999.00,9,  -999.0,9,-999.000,9,-999.000,-999.000,9,-999.000,9, -999.00,9, -999.00,9, -999.00,9, -999.00,9, -999.00,9,-999.000,   0.1874,2,   0.1370,2,   0.0773,2,   0.0630,2,   0.0379,2,   0.0160,2,   0.0070,2,   0.0142,2,   0.0137,2,  11.5473,     -999.0,9,     -999.0,9,     -999.0,9,     -999.0,9,     -999.0,9,     -999.0,9,     -999.0,9,-999.0000, -999.00
33RO20071215,        P18,      50,          1,         24,      12019,4,20071231,       2116,    -2.4990,  -109.9993,       3942,   367.3,  10.1580,  34.7548,2,-999.0000,9,      2.9,2,  -999.0,9, -999.00,9, -999.00,9, -999.00,9, -999.00,9,-999.000,9,-999.000,9,-999.0000,9,  -999.0,9,  -999.0,9,   -999.0,9,  -999.00,-999.0000,9,  -999.00,-999.000,9,-999.0000,9, -999.00,9, -999.00,9,  -999.0,9,-999.000,9,-999.000,-999.000,9,-999.000,9, -999.00,9, -999.00,9, -999.00,9, -999.00,9, -999.00,9,-999.000,-999.0000,9,-999.0000,9,-999.0000,9,-999.0000,9,-999.0000,9,-999.0000,9,-999.0000,9,-999.0000,9,-999.0000,9,  10.1147,     -999.0,9,     -999.0,9,     -999.0,9,     -999.0,9,     -999.0,9,     -999.0,9,     -999.0,9,-999.0000, -999.00
33RO20071215,        P18,      50,          1,         23,      12022,2,20071231,       2116,    -2.4990,  -109.9993,       3942,   432.9,   8.7780,  34.6730,2,  34.6724,2,     10.4,2,    11.7,2,   40.40,2,   39.30,2,    0.01,2,    2.79,2,   0.091,2,   0.056,2,   0.0262,2,  2279.2,2,  -999.0,9,   -999.0,9,  -999.00,-999.0000,9,  -999.00,-999.000,9,-999.0000,9, -999.00,9, -999.00,9,  -999.0,9,-999.000,9,-999.000,-999.000,9,-999.000,9, -999.00,9, -999.00,9, -999.00,9, -999.00,9, -999.00,9,-999.000,   0.1838,2,   0.1331,2,   0.0777,2,   0.0628,2,   0.0395,2,   0.0164,2,   0.0068,2,   0.0140,2,   0.0133,2,   8.7312,     -999.0,9,     -999.0,9,     -999.0,9,     -999.0,9,     -999.0,9,     -999.0,9,     -999.0,9,-999.0000, -999.00
33RO20071215,        P18,      50,          1,         22,      12015,2,20071231,       2116,    -2.4990,  -109.9993,       3942,   533.3,   7.5967,  34.6101,2,  34.6113,2,     37.0,2,    35.9,2,   46.20,2,   40.10,2,    0.00,2,    2.79,2,-999.000,9,-999.000,9,-999.0000,9,  2273.4,2,  2238.5,4,   -999.0,9,  -999.00,   7.4170,2,    25.00,-999.000,9,-999.0000,9, -999.00,9, -999.00,9,  -999.0,9,-999.000,9,-999.000,-999.000,9,-999.000,9, -999.00,9, -999.00,9, -999.00,9, -999.00,9, -999.00,9,-999.000,   0.1959,2,   0.1440,2,   0.0865,2,   0.0693,2,   0.0462,2,   0.0223,2,   0.0105,2,   0.0125,2,   0.0124,2,   7.5434,     -999.0,9,     -999.0,9,     -999.0,9,     -999.0,9,     -999.0,9,     -999.0,9,     -999.0,9,-999.0000, -999.00
33RO20071215,        P18,      50,          1,         21,      12020,2,20071231,       2116,    -2.4990,  -109.9993,       3942,   633.1,   6.6889,  34.5824,2,  34.5800,2,     36.2,2,    37.8,2,   56.80,2,   42.00,2,    0.00,2,    2.93,2,-999.000,9,-999.000,9,-999.0000,9,  -999.0,9,  -999.0,9,   -999.0,9,  -999.00,-999.0000,9,  -999.00,-999.000,9,-999.0000,9, -999.00,9, -999.00,9,  -999.0,9,-999.000,9,-999.000,-999.000,9,-999.000,9, -999.00,9, -999.00,9, -999.00,9, -999.00,9, -999.00,9,-999.000,   0.1608,2,   0.1126,2,   0.0631,2,   0.0486,2,   0.0301,2,   0.0106,2,   0.0032,2,   0.0147,2,   0.0147,2,   6.6296,     -999.0,9,     -999.0,9,     -999.0,9,     -999.0,9,     -999.0,9,     -999.0,9,     -999.0,9,-999.0000, -999.00
33RO20071215,        P18,      50,          1,         20,      12055,2,20071231,       2116,    -2.4990,  -109.9993,       3942,   732.7,   5.9259,  34.5540,2,  34.5535,2,     65.9,2,    65.7,2,   61.50,2,   40.20,2,    0.00,2,    2.83,2,   0.020,2,   0.014,2,   0.0000,2,  -999.0,9,  -999.0,9,   -999.0,9,  -999.00,-999.0000,9,  -999.00,-999.000,9,-999.0000,9, -999.00,9, -999.00,9,  -999.0,9,-999.000,9,-999.000,-999.000,9,-999.000,9, -999.00,9, -999.00,9, -999.00,9, -999.00,9, -999.00,9,-999.000,   0.1608,2,   0.1138,2,   0.0645,2,   0.0491,2,   0.0308,3,   0.0112,3,   0.0033,3,   0.0146,4,   0.0145,4,   5.8610,     -999.0,9,     -999.0,9,     -999.0,9,     -999.0,9,     -999.0,9,     -999.0,9,     -999.0,9,-999.0000, -999.00
33RO20071215,        P18,      50,          1,         19,      12018,2,20071231,       2116,    -2.4990,  -109.9993,       3942,   832.1,   5.4554,  34.5515,2,  34.5511,2,     69.6,2,    70.2,2,   69.50,2,   40.20,2,    0.00,2,    2.85,2,-999.000,9,-999.000,9,-999.0000,9,  -999.0,9,  -999.0,9,   -999.0,9,  -999.00,-999.0000,9,  -999.00,-999.000,9,-999.0000,9, -999.00,9, -999.00,9,  -999.0,9,-999.000,9,-999.000,-999.000,9,-999.000,9, -999.00,9, -999.00,9, -999.00,9, -999.00,9, -999.00,9,-999.000,   0.1698,2,   0.1211,2,   0.0693,2,   0.0530,2,   0.0342,2,   0.0144,2,   0.0056,2,   0.0141,2,   0.0140,2,   5.3841,     -999.0,9,     -999.0,9,     -999.0,9,     -999.0,9,     -999.0,9,     -999.0,9,     -999.0,9,-999.0000, -999.00
33RO20071215,        P18,      50,          1,         18,      12025,2,20071231,       2116,    -2.4990,  -109.9993,       3942,   933.0,   4.9463,  34.5500,2,  34.5509,2,     78.8,2,    77.8,2,   75.10,2,   40.00,2,    0.00,2,    2.83,2,-999.000,9,-999.000,9,-999.0000,9,  2287.9,2,  -999.0,5,   -999.0,9,  -999.00,   7.4704,2,    25.00,-999.000,9,-999.0000,9, -999.00,9, -999.00,9,  -999.0,9,-999.000,9,-999.000,-999.000,9,-999.000,9, -999.00,9, -999.00,9, -999.00,9, -999.00,9, -999.00,9,-999.000,   0.1678,2,   0.1198,2,   0.0688,2,   0.0522,2,   0.0336,2,   0.0134,3,   0.0047,3,   0.0143,4,   0.0141,4,   4.8693,     -999.0,9,     -999.0,9,     -999.0,9,     -999.0,9,     -999.0,9,     -999.0,9,     -999.0,9,-999.0000, -999.00
33RO20071215,        P18,      50,          1,         17,      12016,2,20071231,       2116,    -2.4990,  -109.9993,       3942,  1031.4,   4.5254,  34.5596,2,  34.5603,2,     78.9,2,    76.5,2,   88.10,2,   40.50,2,    0.00,2,    2.88,2,-999.000,9,-999.000,9,-999.0000,9,  -999.0,9,  -999.0,9,   -999.0,9,  -999.00,-999.0000,9,  -999.00,-999.000,9,-999.0000,9, -999.00,9, -999.00,9,  -999.0,9,-999.000,9,-999.000,-999.000,9,-999.000,9, -999.00,9, -999.00,9, -999.00,9, -999.00,9, -999.00,9,-999.000,   0.1807,2,   0.1312,2,   0.0773,2,   0.0583,2,   0.0383,2,   0.0163,2,   0.0061,2,   0.0140,2,   0.0136,2,   4.4429,     -999.0,9,     -999.0,9,     -999.0,9,     -999.0,9,     -999.0,9,     -999.0,9,     -999.0,9,-999.0000, -999.00
33RO20071215,        P18,      50,          1,         16,      12051,2,20071231,       2116,    -2.4990,  -109.9993,       3942,  1132.2,   4.1361,  34.5703,2,  34.5711,2,     77.6,2,    77.2,2,   97.50,2,   40.80,2,    0.00,2,    2.91,2,-999.000,9,-999.000,9,-999.0000,9,  2312.2,2,  -999.0,9,   -999.0,9,  -999.00,-999.0000,9,  -999.00,-999.000,9,-999.0000,9, -999.00,9, -999.00,9,  -999.0,9,-999.000,9,-999.000,-999.000,9,-999.000,9, -999.00,9, -999.00,9, -999.00,9, -999.00,9, -999.00,9,-999.000,   0.1866,2,   0.1344,2,   0.0779,2,   0.0596,2,   0.0382,2,   0.0157,2,   0.0060,2,   0.0143,2,   0.0139,2,   4.0480,     -999.0,9,     -999.0,9,     -999.0,9,     -999.0,9,     -999.0,9,     -999.0,9,     -999.0,9,-999.0000, -999.00
33RO20071215,        P18,      50,          1,         15,      12014,2,20071231,       2116,    -2.4990,  -109.9993,       3942,  1231.9,   3.8165,  34.5773,2,  34.5770,2,     82.8,2,    82.8,3,  103.90,2,   40.50,2,    0.00,2,    2.90,2,-999.000,9,-999.000,9,-999.0000,9,  -999.0,9,  -999.0,9,   -999.0,9,  -999.00,-999.0000,9,  -999.00,-999.000,9,-999.0000,9, -999.00,9, -999.00,9,  -999.0,9,-999.000,9,-999.000,-999.000,9,-999.000,9, -999.00,9, -999.00,9, -999.00,9, -999.00,9, -999.00,9,-999.000,   0.1705,2,   0.1214,2,   0.0686,2,   0.0511,2,   0.0320,2,   0.0115,2,   0.0034,2,   0.0149,2,   0.0147,2,   3.7227,     -999.0,9,     -999.0,9,     -999.0,9,     -999.0,9,     -999.0,9,     -999.0,9,     -999.0,9,-999.0000, -999.00
33RO20071215,        P18,      50,          1,         14,      12013,2,20071231,       2116,    -2.4990,  -109.9993,       3942,  1331.0,   3.4778,  34.5890,2,  34.5891,2,     85.5,2,    85.7,2,  112.20,2,   40.50,2,    0.00,2,    2.89,2,-999.000,9,-999.000,9,-999.0000,9,  2324.1,2,  2373.1,4,   -999.0,9,  -999.00,   7.4693,2,    25.00,-999.000,9,-999.0000,9, -999.00,9, -999.00,9,  -999.0,9,-999.000,9,-999.000,-999.000,9,-999.000,9, -999.00,9, -999.00,9, -999.00,9, -999.00,9, -999.00,9,-999.000,-999.0000,5,-999.0000,5,-999.0000,5,-999.0000,5,-999.0000,5,-999.0000,5,-999.0000,5,-999.0000,5,-999.0000,5,   3.3789,     -999.0,9,     -999.0,9,     -999.0,9,     -999.0,9,     -999.0,9,     -999.0,9,     -999.0,9,-999.0000, -999.00
33RO20071215,        P18,      50,          1,         13,      12012,2,20071231,       2116,    -2.4990,  -109.9993,       3942,  1466.8,   3.1234,  34.6014,2,  34.6012,2,     91.5,2,    91.6,2,  119.90,2,   40.40,2,    0.00,2,    2.87,2,-999.000,9,-999.000,9,-999.0000,9,  -999.0,9,  -999.0,9,   -999.0,9,  -999.00,-999.0000,9,  -999.00,-999.000,9,-999.0000,9, -999.00,9, -999.00,9,  -999.0,9,-999.000,9,-999.000,-999.000,9,-999.000,9, -999.00,9, -999.00,9, -999.00,9, -999.00,9, -999.00,9,-999.000,   0.1816,2,   0.1308,2,   0.0751,2,   0.0552,2,   0.0354,2,   0.0140,2,   0.0046,2,   0.0147,2,   0.0143,2,   3.0168,     -999.0,9,     -999.0,9,     -999.0,9,     -999.0,9,     -999.0,9,     -999.0,9,     -999.0,9,-999.0000, -999.00
33RO20071215,        P18,      50,          1,         12,      12031,2,20071231,       2116,    -2.4990,  -109.9993,       3942,  1667.5,   2.7737,  34.6167,2,  34.6162,2,     97.5,2,    97.6,2,  128.00,2,   40.00,2,    0.00,2,    2.83,2,-999.000,9,-999.000,9,-999.0000,9,  2334.6,2,  -999.0,9,   -999.0,9,  -999.00,-999.0000,9,  -999.00,-999.000,9,-999.0000,9, -999.00,9, -999.00,9,  -999.0,9,-999.000,9,-999.000,-999.000,9,-999.000,9, -999.00,9, -999.00,9, -999.00,9, -999.00,9, -999.00,9,-999.000,   0.1723,2,   0.1232,2,   0.0697,2,   0.0505,2,   0.0316,2,   0.0114,2,   0.0030,2,   0.0151,2,   0.0148,2,   2.6545,     -999.0,9,     -999.0,9,     -999.0,9,     -999.0,9,     -999.0,9,     -999.0,9,     -999.0,9,-999.0000, -999.00