BOTTLE,20220818CCHSIOAMB
EXPOCODE,SECT_ID,STNNBR,CASTNO,SAMPNO,BTLNBR,BTLNBR_FLAG_W,DATE,TIME,LATITUDE,LONGITUDE,DEPTH,CTDPRS,CTDTMP,CTDSAL,CTDSAL_FLAG_W,SALNTY,SALNTY_FLAG_W,CTDOXY,CTDOXY_FLAG_W,OXYGEN,OXYGEN_FLAG_W,SILCAT,SILCAT_FLAG_W,NITRAT,NITRAT_FLAG_W,NITRIT,NITRIT_FLAG_W,PHSPHT,PHSPHT_FLAG_W,CFC-11,CFC-11_FLAG_W,CFC-12,CFC-12_FLAG_W,SF6,SF6_FLAG_W,TCARBN,TCARBN_FLAG_W,ALKALI,ALKALI_FLAG_W,FCO2,FCO2_FLAG_W,FCO2TMP,PH_SWS,PH_SWS_FLAG_W,PH_TMP,TRITUM,TRITUM_FLAG_W,HELIUM,HELIUM_FLAG_W,DELHE3,DELHE3_FLAG_W,DELC13,DELC13_FLAG_W,DELC14,DELC14_FLAG_W,NEON,NEON_FLAG_W,NEONER,CCL4,CCL4_FLAG_W,POC,POC_FLAG_W,DOC,DOC_FLAG_W,TDN,TDN_FLAG_W,DON,DON_FLAG_W,CHLORA,CHLORA_FLAG_W,ARGON,ARGON_FLAG_W,TRITER,CDOM325,CDOM325_FLAG_W,CDOM340,CDOM340_FLAG_W,CDOM380,CDOM380_FLAG_W,CDOM412,CDOM412_FLAG_W,CDOM443,CDOM443_FLAG_W,CDOM490,CDOM490_FLAG_W,CDOM555,CDOM555_FLAG_W,CDOMSL,CDOMSL_FLAG_W,CDOMSN,CDOMSN_FLAG_W,THETA,D18O_NO3,D18O_NO3_FLAG_W,CDOM2C,CDOM2C_FLAG_W,CDOM3C,CDOM3C_FLAG_W,LAB_DEN,LAB_DEN_FLAG_W,DELSI30,DELSI30_FLAG_W,N2,N2_FLAG_W,D15N_NO3,D15N_NO3_FLAG_W,HELIER,DELHER
,,,,,,,,,,,METERS,DBAR,ITS-90,PSS-78,,PSS-78,,UMOL/KG,,UMOL/KG,,UMOL/KG,,UMOL/KG,,UMOL/KG,,UMOL/KG,,PMOL/KG,,PMOL/KG,,FMOL/KG,,UMOL/KG,,UMOL/KG,,UATM,,DEG C,,,DEG C,TU,,NMOL/KG,,PERCNT,,/MILLE,,/MILLE,,NMOL/KG,,NMOL/KG,PMOL/KG,,UG/KG,,UMOL/KG,,UMOL/KG,,UMOL/KG,,UG/KG,,UMOL/KG,,TU,1/M,,1/M,,1/M,,1/M,,1/M,,1/M,,1/M,,1/NM,,1/NM,,DEG C,/MILLE,,,,,,,,/MILLE,,UMOL/KG,,/MILLE,,NMOL/KG,PERCNT
33RO20071215,        P18,     138,          1,         24,      11024,2,20080203,       2050,   -51.4158,  -102.9978,       4031,     4.8,   9.1848,  34.1642,2,  34.1645,2,    284.0,2,   284.1,2,    0.90,2,   16.20,2,    0.26,2,    1.18,2,-999.000,9,-999.000,9,-999.0000,9,  2094.9,6,  2275.1,2,    594.6,2,    20.00,   7.8208,2,    25.00,-999.000,9,-999.0000,9, -999.00,9, -999.00,9,  -999.0,9,-999.000,9,-999.000,-999.000,9,-999.000,9,   47.92,2,   20.92,2, -999.00,9,    0.07,2, -999.00,9,-999.000,   0.0584,2,   0.0365,2,   0.0159,2,   0.0111,2,   0.0056,2,   0.0003,4,  -0.0024,4,   0.0184,2,   0.0238,2,   9.1843,     -999.0,9,     -999.0,9,     -999.0,9,     -999.0,9,     -999.0,9,     -999.0,9,     -999.0,9,-999.0000, -999.00
33RO20071215,        P18,     138,          1,         23,      11023,2,20080203,       2050,   -51.4158,  -102.9978,       4031,    19.8,   9.1774,  34.1643,2,  34.1666,2,    284.6,2,   283.7,2,    1.00,2,   16.20,2,    0.26,2,    1.18,2,-999.000,9,-999.000,9,-999.0000,9,  2094.6,2,  2275.6,2,   -999.0,9,  -999.00,   7.8268,2,    25.00,-999.000,9,-999.0000,9, -999.00,9, -999.00,9,  -999.0,9,-999.000,9,-999.000,-999.000,9,-999.000,9,   47.80,2,   20.90,2, -999.00,9,    0.08,2, -999.00,9,-999.000,-999.0000,5,-999.0000,5,-999.0000,5,-999.0000,5,-999.0000,5,-999.0000,5,-999.0000,5,-999.0000,5,-999.0000,5,   9.1753,     -999.0,9,     -999.0,9,     -999.0,9,     -999.0,9,     -999.0,9,     -999.0,9,     -999.0,9,-999.0000, -999.00
33RO20071215,        P18,     138,          1,         22,      11022,2,20080203,       2050,   -51.4158,  -102.9978,       4031,    40.0,   9.1306,  34.1641,2,  34.1651,2,    284.2,2,   284.1,2,    1.00,2,   16.20,2,    0.26,2,    1.18,2,-999.000,9,-999.000,9,-999.0000,9,  2095.3,2,  2274.1,2,    596.9,6,    20.00,   7.8323,2,    25.00,-999.000,9,-999.0000,9, -999.00,9, -999.00,9,  -999.0,9,-999.000,9,-999.000,-999.000,9,-999.000,9,   47.48,2,   20.30,2, -999.00,9,    0.08,2, -999.00,9,-999.000,   0.0601,2,   0.0380,2,   0.0174,2,   0.0125,2,   0.0067,2,   0.0007,3,  -0.0021,4,   0.0169,2,   0.0217,2,   9.1263,     -999.0,9,     -999.0,9,     -999.0,9,     -999.0,9,     -999.0,9,     -999.0,9,     -999.0,9,-999.0000, -999.00
33RO20071215,        P18,     138,          1,         21,      11021,2,20080203,       2050,   -51.4158,  -102.9978,       4031,    66.2,   9.0070,  34.1647,2,  34.1658,2,    284.1,2,   283.4,2,    1.00,2,   16.10,2,    0.25,2,    1.18,2,-999.000,9,-999.000,9,-999.0000,9,  2095.1,2,  2274.9,2,   -999.0,9,  -999.00,   7.8234,2,    25.00,-999.000,9,-999.0000,9, -999.00,9, -999.00,9,  -999.0,9,-999.000,9,-999.000,-999.000,9,-999.000,9,   47.09,2,   19.97,2, -999.00,9,    0.10,2, -999.00,9,-999.000,   0.0614,2,   0.0392,2,   0.0191,2,   0.0137,2,   0.0075,2,   0.0014,2,  -0.0017,4,   0.0159,2,   0.0200,2,   9.0000,     -999.0,9,     -999.0,9,     -999.0,9,     -999.0,9,     -999.0,9,     -999.0,9,     -999.0,9,-999.0000, -999.00
33RO20071215,        P18,     138,          1,         20,      11020,2,20080203,       2050,   -51.4158,  -102.9978,       4031,    91.3,   7.8307,  34.1763,2,  34.1823,2,    289.9,2,   291.3,2,    2.50,2,   17.00,2,    0.23,2,    1.29,2,-999.000,9,-999.000,9,-999.0000,9,  2104.4,2,  2274.5,2,    631.0,2,    20.00,   7.7975,2,    25.00,-999.000,9,-999.0000,9, -999.00,9, -999.00,9,  -999.0,9,-999.000,9,-999.000,-999.000,9,-999.000,9,   46.99,2,   21.08,2, -999.00,9,    0.14,2, -999.00,9,-999.000,   0.0704,2,   0.0455,2,   0.0215,2,   0.0154,2,   0.0082,2,   0.0017,2,  -0.0015,4,   0.0163,2,   0.0202,2,   7.8218,     -999.0,9,     -999.0,9,     -999.0,9,     -999.0,9,     -999.0,9,     -999.0,9,     -999.0,9,-999.0000, -999.00
33RO20071215,        P18,     138,          1,         19,      11019,2,20080203,       2050,   -51.4158,  -102.9978,       4031,   117.0,   6.6509,  34.2072,2,  34.2062,2,    292.7,2,   291.7,2,    4.20,2,   18.10,2,    0.28,2,    1.38,2,-999.000,9,-999.000,9,-999.0000,9,  2113.1,2,  2275.2,2,   -999.0,9,  -999.00,   7.7829,2,    25.00,-999.000,9,-999.0000,9, -999.00,9, -999.00,9,  -999.0,9,-999.000,9,-999.000,-999.000,9,-999.000,9,   46.92,2,   21.67,2, -999.00,9,    0.19,2, -999.00,9,-999.000,   0.0712,2,   0.0460,2,   0.0224,2,   0.0162,2,   0.0084,2,   0.0018,2,  -0.0013,4,   0.0159,2,   0.0195,2,   6.6405,     -999.0,9,     -999.0,9,     -999.0,9,     -999.0,9,     -999.0,9,     -999.0,9,     -999.0,9,-999.0000, -999.00
33RO20071215,        P18,     138,          1,         18,      11018,2,20080203,       2050,   -51.4158,  -102.9978,       4031,   157.2,   6.3513,  34.2130,2,  34.2143,2,    290.7,2,   290.5,2,    4.60,2,   19.00,2,    0.33,2,    1.39,2,   4.377,2,   2.429,2,   1.7210,2,  2117.2,2,  2274.9,2,    684.5,2,    20.00,   7.7492,2,    25.00,-999.000,9,-999.0000,9, -999.00,9, -999.00,9,  -999.0,9,-999.000,9,-999.000,-999.000,9,-999.000,9,   46.44,2,   22.28,2, -999.00,9,    0.12,2, -999.00,9,-999.000,   0.0672,2,   0.0430,2,   0.0200,2,   0.0141,2,   0.0071,2,   0.0011,2,  -0.0017,4,   0.0169,2,   0.0209,2,   6.3376,     -999.0,9,     -999.0,9,     -999.0,9,     -999.0,9,     -999.0,9,     -999.0,9,     -999.0,9,-999.0000, -999.00
33RO20071215,        P18,     138,          1,         17,      11017,2,20080203,       2050,   -51.4158,  -102.9978,       4031,   224.8,   6.2363,  34.2311,2,  34.2305,2,    287.9,2,   287.4,2,    5.10,2,   20.10,2,    0.03,2,    1.42,2,   4.350,2,   2.412,2,   1.8972,2,  2119.6,2,  2275.7,2,   -999.0,9,  -999.00,   7.7661,2,    25.00,-999.000,9,-999.0000,9, -999.00,9, -999.00,9,  -999.0,9,-999.000,9,-999.000,-999.000,9,-999.000,9,   44.04,2,   22.29,2, -999.00,9,    0.01,2, -999.00,9,-999.000,   0.0700,2,   0.0449,2,   0.0224,2,   0.0165,2,   0.0092,2,   0.0028,2,  -0.0006,4,   0.0152,2,   0.0189,2,   6.2168,     -999.0,9,     -999.0,9,     -999.0,9,     -999.0,9,     -999.0,9,     -999.0,9,     -999.0,9,-999.0000, -999.00
33RO20071215,        P18,     138,          1,         16,      11016,2,20080203,       2050,   -51.4158,  -102.9978,       4031,   298.9,   6.4270,  34.3013,2,  34.3024,2,    274.8,2,   273.2,2,    6.90,2,   21.10,2,    0.01,2,    1.48,2,   4.202,2,   2.302,2,   1.5246,2,  2130.1,2,  2278.2,2,    724.4,2,    20.00,   7.7447,2,    25.00,-999.000,9,-999.0000,9, -999.00,9, -999.00,9,  -999.0,9,-999.000,9,-999.000,-999.000,9,-999.000,9,   42.07,2,   23.02,2, -999.00,9, -999.00,9, -999.00,9,-999.000,   0.0750,2,   0.0486,2,   0.0245,2,   0.0183,2,   0.0104,2,   0.0035,2,   0.0000,3,   0.0149,2,   0.0182,2,   6.4004,     -999.0,9,     -999.0,9,     -999.0,9,     -999.0,9,     -999.0,9,     -999.0,9,     -999.0,9,-999.0000, -999.00
33RO20071215,        P18,     138,          1,         15,      11015,2,20080203,       2050,   -51.4158,  -102.9978,       4031,   375.6,   6.1916,  34.2832,2,  34.2852,2,    275.8,2,   275.6,2,    7.30,2,   21.50,2,    0.01,2,    1.50,2,   4.213,2,   2.317,2,   1.5386,2,  2130.6,2,  2280.2,2,    728.0,2,    20.00,   7.7534,2,    25.00,-999.000,9,-999.0000,9, -999.00,9, -999.00,9,  -999.0,9,-999.000,9,-999.000,-999.000,9,-999.000,9,   41.14,2,   23.17,2, -999.00,9, -999.00,9, -999.00,9,-999.000,   0.0690,2,   0.0436,2,   0.0212,2,   0.0155,2,   0.0084,2,   0.0023,2,  -0.0009,4,   0.0157,2,   0.0199,2,   6.1587,     -999.0,9,     -999.0,9,     -999.0,9,     -999.0,9,     -999.0,9,     -999.0,9,     -999.0,9,-999.0000, -999.00
33RO20071215,        P18,     138,          1,         14,      11014,2,20080203,       2050,   -51.4158,  -102.9978,       4031,   467.4,   5.9410,  34.2602,2,  34.2620,2,    275.9,2,   275.1,2,    8.10,2,   22.20,2,    0.01,2,    1.55,2,   4.204,2,   2.293,2,   1.4253,2,  2132.8,2,  2278.8,2,    740.5,2,    20.00,   7.7453,2,    25.00,-999.000,9,-999.0000,9, -999.00,9, -999.00,9,  -999.0,9,-999.000,9,-999.000,-999.000,9,-999.000,9,   40.46,2,   23.63,2, -999.00,9, -999.00,9, -999.00,9,-999.000,   0.0657,2,   0.0403,2,   0.0185,2,   0.0130,2,   0.0061,2,   0.0009,2,  -0.0017,4,   0.0175,2,   0.0224,2,   5.9006,     -999.0,9,     -999.0,9,     -999.0,9,     -999.0,9,     -999.0,9,     -999.0,9,     -999.0,9,-999.0000, -999.00
33RO20071215,        P18,     138,          1,         13,      11013,2,20080203,       2050,   -51.4158,  -102.9978,       4031,   599.1,   5.5969,  34.2492,2,  34.2506,2,    256.9,2,   257.0,2,   11.60,2,   24.70,2,    0.00,2,    1.70,2,   3.789,2,   2.014,2,   1.0763,2,  2146.0,2,  2283.6,2,    789.7,2,    20.00,   7.7112,2,    25.00,-999.000,9,-999.0000,9, -999.00,9, -999.00,9,  -999.0,9,-999.000,9,-999.000,-999.000,9,-999.000,9,   39.87,2,   25.84,2, -999.00,9, -999.00,9, -999.00,9,-999.000,   0.0733,2,   0.0460,2,   0.0217,2,   0.0152,2,   0.0079,2,   0.0021,2,  -0.0009,4,   0.0167,2,   0.0210,2,   5.5462,     -999.0,9,     -999.0,9,     -999.0,9,     -999.0,9,     -999.0,9,     -999.0,9,     -999.0,9,-999.0000, -999.00
33RO20071215,        P18,     138,          1,         12,      11012,2,20080203,       2050,   -51.4158,  -102.9978,       4031,   749.7,   5.0872,  34.2760,2,  34.2772,2,    226.7,2,   226.2,2,   20.30,2,   28.40,2,    0.00,2,    1.95,2,   2.836,2,   1.448,2,   0.7348,2,  2168.3,2,  2287.7,2,    895.7,2,    20.00,   7.6644,2,    25.00,-999.000,9,-999.0000,9, -999.00,9, -999.00,9,  -999.0,9,-999.000,9,-999.000,-999.000,9,-999.000,9,   39.00,2,   29.96,2, -999.00,9, -999.00,9, -999.00,9,-999.000,   0.0798,2,   0.0500,2,   0.0235,2,   0.0162,2,   0.0082,2,   0.0020,2,  -0.0009,4,   0.0171,2,   0.0211,2,   5.0258,     -999.0,9,     -999.0,9,     -999.0,9,     -999.0,9,     -999.0,9,     -999.0,9,     -999.0,9,-999.0000, -999.00
33RO20071215,        P18,     138,          1,         11,      11010,2,20080203,       2050,   -51.4158,  -102.9978,       4031,   899.9,   4.3577,  34.3064,2,  34.3076,2,    211.1,2,   210.6,2,   30.70,2,   31.00,2,    0.00,2,    2.12,2,   2.184,2,   1.095,2,   0.3825,2,  2188.7,2,  2299.0,2,    999.5,2,    20.00,   7.6334,2,    25.00,-999.000,9,-999.0000,9, -999.00,9, -999.00,9,  -999.0,9,-999.000,9,-999.000,-999.000,9,-999.000,9,   39.39,2,   32.63,2, -999.00,9, -999.00,9, -999.00,9,-999.000,   0.0891,2,   0.0570,2,   0.0278,2,   0.0193,2,   0.0105,2,   0.0030,2,  -0.0003,4,   0.0164,2,   0.0197,2,   4.2880,     -999.0,9,     -999.0,9,     -999.0,9,     -999.0,9,     -999.0,9,     -999.0,9,     -999.0,9,-999.0000, -999.00
33RO20071215,        P18,     138,          1,         10,      11011,2,20080203,       2050,   -51.4158,  -102.9978,       4031,  1049.8,   3.6568,  34.3377,2,  34.3379,2,    201.2,2,   201.4,2,   41.40,2,   32.80,2,    0.00,2,    2.26,2,   1.655,2,   0.824,2,   0.3730,2,  2207.6,2,  2305.0,2,   1070.9,2,    20.00,   7.6023,2,    25.00,-999.000,9,-999.0000,9, -999.00,9, -999.00,9,  -999.0,9,-999.000,9,-999.000,-999.000,9,-999.000,9,   39.25,2,   34.44,2, -999.00,9, -999.00,9, -999.00,9,-999.000,   0.0949,2,   0.0610,2,   0.0299,2,   0.0203,2,   0.0113,2,   0.0033,2,  -0.0002,4,   0.0165,2,   0.0196,2,   3.5801,     -999.0,9,     -999.0,9,     -999.0,9,     -999.0,9,     -999.0,9,     -999.0,9,     -999.0,9,-999.0000, -999.00
33RO20071215,        P18,     138,          1,          9,      11009,2,20080203,       2050,   -51.4158,  -102.9978,       4031,  1233.3,   3.0496,  34.4089,2,  34.4093,2,    187.0,2,   187.3,2,   55.70,2,   34.20,2,    0.00,2,    2.36,2,   1.095,2,   0.555,2,   0.1280,2,  2227.7,2,  2318.1,2,   1142.4,2,    20.00,   7.5840,2,    25.00,-999.000,9,-999.0000,9, -999.00,9, -999.00,9,  -999.0,9,-999.000,9,-999.000,-999.000,9,-999.000,9,   39.81,2,   35.80,2, -999.00,9, -999.00,9, -999.00,9,-999.000,   0.1050,2,   0.0685,2,   0.0340,2,   0.0231,2,   0.0132,2,   0.0041,2,   0.0003,4,   0.0162,2,   0.0189,2,   2.9633,     -999.0,9,     -999.0,9,     -999.0,9,     -999.0,9,     -999.0,9,     -999.0,9,     -999.0,9,-999.0000, -999.00
33RO20071215,        P18,     138,          1,          8,      11008,2,20080203,       2050,   -51.4158,  -102.9978,       4031,  1500.2,   2.6643,  34.5117,2,  34.5122,2,    175.0,2,   174.7,2,   69.50,2,   34.70,2,    0.00,2,    2.40,2,   0.621,2,   0.319,2,   0.0000,2,  2246.3,6,  2332.0,2,   1189.1,2,    20.00,   7.5623,2,    25.00,-999.000,9,-999.0000,9, -999.00,9, -999.00,9,  -999.0,9,-999.000,9,-999.000,-999.000,9,-999.000,9,   39.30,2,   35.99,2, -999.00,9, -999.00,9, -999.00,9,-999.000,   0.1130,2,   0.0747,2,   0.0369,2,   0.0253,2,   0.0143,2,   0.0043,2,   0.0004,4,   0.0163,2,   0.0187,2,   2.5604,     -999.0,9,     -999.0,9,     -999.0,9,     -999.0,9,     -999.0,9,     -999.0,9,     -999.0,9,-999.0000, -999.00
33RO20071215,        P18,     138,          1,          7,      11007,2,20080203,       2050,   -51.4158,  -102.9978,       4031,  1866.5,   2.4047,  34.6227,2,  34.6232,2,    170.1,2,   169.9,2,   82.30,2,   34.20,2,    0.00,2,    2.37,2,   0.227,2,   0.120,2,   0.0000,2,  2256.1,2,  2347.0,2,   1177.7,2,    20.00,   7.5751,2,    25.00,-999.000,9,-999.0000,9, -999.00,9, -999.00,9,  -999.0,9,-999.000,9,-999.000,-999.000,9,-999.000,9,   38.95,2,   35.72,2, -999.00,9, -999.00,9, -999.00,9,-999.000,   0.1200,2,   0.0804,2,   0.0401,2,   0.0270,2,   0.0158,2,   0.0055,2,   0.0010,2,   0.0162,2,   0.0183,2,   2.2736,     -999.0,9,     -999.0,9,     -999.0,9,     -999.0,9,     -999.0,9,     -999.0,9,     -999.0,9,-999.0000, -999.00
33RO20071215,        P18,     138,          1,          6,      11006,2,20080203,       2050,   -51.4158,  -102.9978,       4031,  2266.7,   2.1213,  34.6928,2,  34.6926,2,    173.2,2,   173.4,2,   93.70,2,   33.30,2,    0.00,2,    2.31,2,   0.073,2,   0.038,2,   0.0000,2,  2262.1,2,  2360.4,2,   1136.0,2,    20.00,   7.5878,2,    25.00,-999.000,9,-999.0000,9, -999.00,9, -999.00,9,  -999.0,9,-999.000,9,-999.000,   0.097,3,-999.000,9,   38.96,2,   34.99,2, -999.00,9, -999.00,9, -999.00,9,-999.000,   0.1180,2,   0.0782,2,   0.0379,2,   0.0244,2,   0.0137,2,   0.0041,2,   0.0001,4,   0.0172,2,   0.0195,2,   1.9596,     -999.0,9,     -999.0,9,     -999.0,9,     -999.0,9,     -999.0,9,     -999.0,9,     -999.0,9,-999.0000, -999.00
33RO20071215,        P18,     138,          1,          5,      11005,2,20080203,       2050,   -51.4158,  -102.9978,       4031,  2667.2,   1.7846,  34.7094,2,  34.7109,2,    177.0,2,   176.8,2,  106.90,2,   33.30,2,    0.00,2,    2.31,2,   0.043,2,   0.056,3,   0.4883,3,  2270.9,2,  2370.5,2,   1113.1,6,    20.00,   7.5980,2,    25.00,-999.000,9,-999.0000,9, -999.00,9, -999.00,9,  -999.0,9,-999.000,9,-999.000,   0.050,3,-999.000,9,   38.66,2,   34.67,2, -999.00,9, -999.00,9, -999.00,9,-999.000,   0.1167,2,   0.0773,2,   0.0374,2,   0.0239,2,   0.0134,2,   0.0040,2,   0.0001,4,   0.0173,2,   0.0195,2,   1.5928,     -999.0,9,     -999.0,9,     -999.0,9,     -999.0,9,     -999.0,9,     -999.0,9,     -999.0,9,-999.0000, -999.00
33RO20071215,        P18,     138,          1,          4,      11004,2,20080203,       2050,   -51.4158,  -102.9978,       4031,  3066.3,   1.6026,  34.7182,2,  34.7190,2,    185.3,2,   185.3,2,  109.80,6,   33.00,6,    0.00,6,    2.28,2,   0.023,2,   0.013,2,   0.0000,2,  2269.1,6,  2371.5,2,   -999.0,9,  -999.00,   7.5909,2,    25.00,-999.000,9,-999.0000,9, -999.00,9, -999.00,9,  -999.0,9,-999.000,9,-999.000,   0.041,3,-999.000,9,   38.56,2,   34.35,2, -999.00,9, -999.00,9, -999.00,9,-999.000,   0.1163,2,   0.0769,2,   0.0369,2,   0.0234,2,   0.0130,2,   0.0038,2,   0.0000,4,   0.0175,2,   0.0198,2,   1.3769,     -999.0,9,     -999.0,9,     -999.0,9,     -999.0,9,     -999.0,9,     -999.0,9,     -999.0,9,-999.0000, -999.00
33RO20071215,        P18,     138,          1,          3,      11003,2,20080203,       2050,   -51.4158,  -102.9978,       4031,  3467.8,   1.3497,  34.7167,2,  34.7169,2,    191.3,2,   191.4,2,  117.70,6,   33.00,6,    0.00,6,    2.28,2,   0.011,2,   0.009,2,   0.0000,2,  2267.7,2,  2344.6,4,   1069.5,2,    20.00,   7.5966,2,    25.00,-999.000,9,-999.0000,9, -999.00,9, -999.00,9,  -999.0,9,-999.000,9,-999.000,   0.032,3,-999.000,9,   38.93,2,   33.99,2, -999.00,9, -999.00,9, -999.00,9,-999.000,   0.1134,2,   0.0744,2,   0.0355,2,   0.0223,2,   0.0121,2,   0.0032,2,  -0.0004,4,   0.0178,2,   0.0202,2,   1.0903,     -999.0,9,     -999.0,9,     -999.0,9,     -999.0,9,     -999.0,9,     -999.0,9,     -999.0,9,-999.0000, -999.00
33RO20071215,        P18,     138,          1,          2,      11002,2,20080203,       2050,   -51.4158,  -102.9978,       4031,  3835.2,   0.9136,  34.7119,2,  34.7125,2,    201.1,2,   201.6,2,  129.30,6,   33.10,6,    0.00,6,    2.29,2,   0.004,2,   0.004,2,   0.0000,2,  2268.3,2,  2377.3,2,   -999.0,9,  -999.00,   7.6084,2,    25.00,-999.000,9,-999.0000,9, -999.00,9, -999.00,9,  -999.0,9,-999.000,9,-999.000,   0.031,3,-999.000,9,   39.64,2,   34.05,2, -999.00,9, -999.00,9, -999.00,9,-999.000,   0.1102,2,   0.0717,2,   0.0338,2,   0.0211,2,   0.0113,2,   0.0027,2,  -0.0006,4,   0.0180,2,   0.0206,2,   0.6282,     -999.0,9,     -999.0,9,     -999.0,9,     -999.0,9,     -999.0,9,     -999.0,9,     -999.0,9,-999.0000, -999.00
33RO20071215,        P18,     138,          1,          1,      11001,2,20080203,       2050,   -51.4158,  -102.9978,       4031,  4054.6,   0.8134,  34.7106,2,  34.7117,2,    204.3,2,   204.4,2,  132.60,2,   33.20,2,    0.01,2,    2.29,2,   0.008,2,   0.006,2,   0.0000,2,  2269.6,6,  2380.1,2,   1043.9,2,    20.00,   7.6099,2,    25.00,-999.000,9,-999.0000,9, -999.00,9, -999.00,9,  -999.0,9,-999.000,9,-999.000,   0.044,3,-999.000,9,   39.52,2,   34.58,2, -999.00,9, -999.00,9, -999.00,9,-999.000,   0.1147,2,   0.0749,2,   0.0355,2,   0.0223,2,   0.0121,2,   0.0033,2,  -0.0002,4,   0.0178,2,   0.0204,2,   0.5080,     -999.0,9,     -999.0,9,     -999.0,9,     -999.0,9,     -999.0,9,     -999.0,9,     -999.0,9,-999.0000, -999.00