BOTTLE,20220818CCHSIOAMB
EXPOCODE,SECT_ID,STNNBR,CASTNO,SAMPNO,BTLNBR,BTLNBR_FLAG_W,DATE,TIME,LATITUDE,LONGITUDE,DEPTH,CTDPRS,CTDTMP,CTDSAL,CTDSAL_FLAG_W,SALNTY,SALNTY_FLAG_W,CTDOXY,CTDOXY_FLAG_W,OXYGEN,OXYGEN_FLAG_W,SILCAT,SILCAT_FLAG_W,NITRAT,NITRAT_FLAG_W,NITRIT,NITRIT_FLAG_W,PHSPHT,PHSPHT_FLAG_W,CFC-11,CFC-11_FLAG_W,CFC-12,CFC-12_FLAG_W,SF6,SF6_FLAG_W,TCARBN,TCARBN_FLAG_W,ALKALI,ALKALI_FLAG_W,FCO2,FCO2_FLAG_W,FCO2TMP,PH_SWS,PH_SWS_FLAG_W,PH_TMP,TRITUM,TRITUM_FLAG_W,HELIUM,HELIUM_FLAG_W,DELHE3,DELHE3_FLAG_W,DELC13,DELC13_FLAG_W,DELC14,DELC14_FLAG_W,NEON,NEON_FLAG_W,NEONER,CCL4,CCL4_FLAG_W,POC,POC_FLAG_W,DOC,DOC_FLAG_W,TDN,TDN_FLAG_W,DON,DON_FLAG_W,CHLORA,CHLORA_FLAG_W,ARGON,ARGON_FLAG_W,TRITER,CDOM325,CDOM325_FLAG_W,CDOM340,CDOM340_FLAG_W,CDOM380,CDOM380_FLAG_W,CDOM412,CDOM412_FLAG_W,CDOM443,CDOM443_FLAG_W,CDOM490,CDOM490_FLAG_W,CDOM555,CDOM555_FLAG_W,CDOMSL,CDOMSL_FLAG_W,CDOMSN,CDOMSN_FLAG_W,THETA,D18O_NO3,D18O_NO3_FLAG_W,CDOM2C,CDOM2C_FLAG_W,CDOM3C,CDOM3C_FLAG_W,LAB_DEN,LAB_DEN_FLAG_W,DELSI30,DELSI30_FLAG_W,N2,N2_FLAG_W,D15N_NO3,D15N_NO3_FLAG_W,HELIER,DELHER
,,,,,,,,,,,METERS,DBAR,ITS-90,PSS-78,,PSS-78,,UMOL/KG,,UMOL/KG,,UMOL/KG,,UMOL/KG,,UMOL/KG,,UMOL/KG,,PMOL/KG,,PMOL/KG,,FMOL/KG,,UMOL/KG,,UMOL/KG,,UATM,,DEG C,,,DEG C,TU,,NMOL/KG,,PERCNT,,/MILLE,,/MILLE,,NMOL/KG,,NMOL/KG,PMOL/KG,,UG/KG,,UMOL/KG,,UMOL/KG,,UMOL/KG,,UG/KG,,UMOL/KG,,TU,1/M,,1/M,,1/M,,1/M,,1/M,,1/M,,1/M,,1/NM,,1/NM,,DEG C,/MILLE,,,,,,,,/MILLE,,UMOL/KG,,/MILLE,,NMOL/KG,PERCNT
33RO20071215,        P18,      66,          1,         11,      12003,2,20080106,       1654,    -9.5820,  -103.5880,       4775,  2398.1,   1.9533,  34.6646,2,  34.6652,2,    125.9,2,   125.8,2,  141.00,2,   37.80,2,    0.00,2,    2.61,2,-999.000,9,-999.000,9,-999.0000,9,  -999.0,9,  -999.0,9,   -999.0,9,  -999.00,-999.0000,9,  -999.00,-999.000,9,   1.9356,2,   29.25,2, -999.00,9,  -999.0,9,   8.048,2,   0.027,-999.000,9,-999.000,9, -999.00,9, -999.00,9, -999.00,9, -999.00,9, -999.00,9,-999.000,   0.1742,2,   0.1273,2,   0.0740,2,   0.0522,2,   0.0337,2,   0.0141,2,   0.0040,2,   0.0146,2,   0.0143,2,   1.7830,     -999.0,9,     -999.0,9,     -999.0,9,     -999.0,9,     -999.0,9,     -999.0,9,     -999.0,9,   0.0054,    0.15
33RO20071215,        P18,      66,          1,         10,      12032,2,20080106,       1654,    -9.5820,  -103.5880,       4775,  2599.4,   1.8523,  34.6717,2,  34.6717,2,    132.7,2,   132.9,2,  141.80,2,   37.40,2,    0.00,2,    2.56,2,-999.000,9,-999.000,9,-999.0000,9,  2335.3,2,  2420.9,2,   -999.0,9,  -999.00,   7.5554,2,    25.00,-999.000,9,-999.0000,9, -999.00,9, -999.00,9,  -999.0,9,-999.000,9,-999.000,-999.000,9,-999.000,9, -999.00,9, -999.00,9, -999.00,9, -999.00,9, -999.00,9,-999.000,   0.1564,2,   0.1121,2,   0.0631,2,   0.0432,2,   0.0267,2,   0.0095,2,   0.0014,2,   0.0154,2,   0.0154,2,   1.6656,     -999.0,9,     -999.0,9,     -999.0,9,     -999.0,9,     -999.0,9,     -999.0,9,     -999.0,9,-999.0000, -999.00
33RO20071215,        P18,      66,          1,          9,      12002,2,20080106,       1654,    -9.5820,  -103.5880,       4775,  2800.3,   1.7806,  34.6758,2,  34.6764,2,    134.4,2,   134.6,2,  145.50,2,   37.30,2,    0.00,2,    2.57,2,-999.000,9,-999.000,9,-999.0000,9,  -999.0,9,  -999.0,9,   -999.0,9,  -999.00,-999.0000,9,  -999.00,-999.000,9,-999.0000,9, -999.00,9, -999.00,9,  -999.0,9,-999.000,9,-999.000,-999.000,9,-999.000,9, -999.00,9, -999.00,9, -999.00,9, -999.00,9, -999.00,9,-999.000,-999.0000,5,-999.0000,5,-999.0000,5,-999.0000,5,-999.0000,5,-999.0000,5,-999.0000,5,-999.0000,5,-999.0000,5,   1.5766,     -999.0,9,     -999.0,9,     -999.0,9,     -999.0,9,     -999.0,9,     -999.0,9,     -999.0,9,-999.0000, -999.00
33RO20071215,        P18,      66,          1,          8,      12021,2,20080106,       1654,    -9.5820,  -103.5880,       4775,  3000.5,   1.7733,  34.6765,2,  34.6778,2,    134.8,2,   134.5,2,  146.80,2,   37.30,2,    0.00,2,    2.56,2,   0.001,2,   0.000,2,   0.0000,2,  2339.2,2,  2424.2,2,   -999.0,9,  -999.00,   7.5679,2,    25.00,-999.000,9,-999.0000,9, -999.00,9, -999.00,9,  -999.0,9,-999.000,9,-999.000,   0.004,3,-999.000,9, -999.00,9, -999.00,9, -999.00,9, -999.00,9, -999.00,9,-999.000,   0.1600,2,   0.1147,2,   0.0647,2,   0.0441,2,   0.0272,2,   0.0095,2,   0.0012,2,   0.0155,2,   0.0154,2,   1.5504,     -999.0,9,     -999.0,9,     -999.0,9,     -999.0,9,     -999.0,9,     -999.0,9,     -999.0,9,-999.0000, -999.00
33RO20071215,        P18,      66,          1,          7,      12001,3,20080106,       1654,    -9.5820,  -103.5880,       4775,  3249.5,   1.7521,  34.6779,2,  34.6802,2,    135.5,2,   141.5,4,  148.80,2,   37.30,2,    0.00,2,    2.56,2,   0.000,2,   0.000,2,   0.0000,2,  -999.0,9,  -999.0,9,   -999.0,9,  -999.00,-999.0000,9,  -999.00,-999.000,9,-999.0000,9, -999.00,9, -999.00,9,  -999.0,9,-999.000,9,-999.000,   0.005,3,-999.000,9, -999.00,9, -999.00,9, -999.00,9, -999.00,9, -999.00,9,-999.000,   0.1704,2,   0.1242,2,   0.0715,2,   0.0497,2,   0.0320,2,   0.0132,2,   0.0035,2,   0.0147,2,   0.0146,2,   1.5051,     -999.0,9,     -999.0,9,     -999.0,9,     -999.0,9,     -999.0,9,     -999.0,9,     -999.0,9,-999.0000, -999.00
33RO20071215,        P18,      66,          1,          6,      12033,2,20080106,       1654,    -9.5820,  -103.5880,       4775,  3500.9,   1.7586,  34.6790,2,  34.6805,2,    137.4,2,   136.9,2,  149.10,2,   37.20,2,    0.00,2,    2.54,2,   0.001,2,   0.000,2,   0.0000,2,  2338.9,2,  2429.5,2,   -999.0,9,  -999.00,   7.5581,2,    25.00,-999.000,9,-999.0000,9, -999.00,9, -999.00,9,  -999.0,9,-999.000,9,-999.000,   0.004,3,-999.000,9, -999.00,9, -999.00,9, -999.00,9, -999.00,9, -999.00,9,-999.000,   0.1716,2,   0.1249,2,   0.0717,2,   0.0496,2,   0.0319,2,   0.0133,2,   0.0036,2,   0.0148,2,   0.0146,2,   1.4858,     -999.0,9,     -999.0,9,     -999.0,9,     -999.0,9,     -999.0,9,     -999.0,9,     -999.0,9,-999.0000, -999.00
33RO20071215,        P18,      66,          1,          5,      12008,2,20080106,       1654,    -9.5820,  -103.5880,       4775,  3748.6,   1.7766,  34.6795,2,  34.6821,2,    138.7,2,   138.3,2,  149.10,2,   37.10,2,    0.00,2,    2.54,2,   0.001,2,   0.000,2,   0.0000,2,  -999.0,9,  -999.0,9,   -999.0,9,  -999.00,-999.0000,9,  -999.00,-999.000,9,-999.0000,9, -999.00,9, -999.00,9,  -999.0,9,-999.000,9,-999.000,   0.004,3,-999.000,9, -999.00,9, -999.00,9, -999.00,9, -999.00,9, -999.00,9,-999.000,   0.1648,2,   0.1179,2,   0.0664,2,   0.0463,2,   0.0308,2,   0.0150,2,   0.0059,2,   0.0139,2,   0.0146,2,   1.4772,     -999.0,9,     -999.0,9,     -999.0,9,     -999.0,9,     -999.0,9,     -999.0,9,     -999.0,9,-999.0000, -999.00
33RO20071215,        P18,      66,          1,          4,      12009,2,20080106,       1654,    -9.5820,  -103.5880,       4775,  4001.4,   1.7980,  34.6798,2,  34.6804,2,    139.6,2,   138.7,2,  149.30,6,   37.10,6,    0.00,6,    2.53,2,  -0.001,2,   0.000,2,   0.0000,2,  2338.1,2,  2429.0,2,   -999.0,9,  -999.00,   7.5752,2,    25.00,-999.000,9,-999.0000,9, -999.00,9, -999.00,9,  -999.0,9,-999.000,9,-999.000,   0.004,3,-999.000,9, -999.00,9, -999.00,9, -999.00,9, -999.00,9, -999.00,9,-999.000,-999.0000,5,-999.0000,5,-999.0000,5,-999.0000,5,-999.0000,5,-999.0000,5,-999.0000,5,-999.0000,5,-999.0000,5,   1.4705,     -999.0,9,     -999.0,9,     -999.0,9,     -999.0,9,     -999.0,9,     -999.0,9,     -999.0,9,-999.0000, -999.00
33RO20071215,        P18,      66,          1,          3,      12006,2,20080106,       1654,    -9.5820,  -103.5880,       4775,  4250.0,   1.8097,  34.6806,2,  34.6821,2,    140.3,2,   139.8,2,  149.30,6,   37.00,6,    0.00,6,    2.53,2,   0.001,2,   0.000,2,   0.0000,2,  -999.0,9,  -999.0,9,   -999.0,9,  -999.00,-999.0000,9,  -999.00,   0.002,2,-999.0000,9, -999.00,9, -999.00,9,  -999.0,9,-999.000,9,-999.000,   0.004,3,-999.000,9, -999.00,9, -999.00,9, -999.00,9, -999.00,9, -999.00,9,   0.007,   0.1632,2,   0.1173,2,   0.0659,2,   0.0453,2,   0.0285,2,   0.0114,2,   0.0028,2,   0.0151,2,   0.0152,2,   1.4539,     -999.0,9,     -999.0,9,     -999.0,9,     -999.0,9,     -999.0,9,     -999.0,9,     -999.0,9,-999.0000, -999.00
33RO20071215,        P18,      66,          1,          2,      12007,2,20080106,       1654,    -9.5820,  -103.5880,       4775,  4500.0,   1.8367,  34.6806,2,  34.6833,2,    140.1,2,   139.9,2,  148.80,6,   37.00,6,    0.00,6,    2.53,2,   0.002,2,   0.000,2,   0.0000,2,  2337.0,2,  2428.7,2,   -999.0,9,  -999.00,   7.5837,2,    25.00,-999.000,9,-999.0000,9, -999.00,9, -999.00,9,  -999.0,9,-999.000,9,-999.000,   0.004,3,-999.000,9, -999.00,9, -999.00,9, -999.00,9, -999.00,9, -999.00,9,-999.000,   0.1759,2,   0.1288,2,   0.0749,2,   0.0526,2,   0.0347,2,   0.0156,2,   0.0051,2,   0.0142,2,   0.0142,2,   1.4512,     -999.0,9,     -999.0,9,     -999.0,9,     -999.0,9,     -999.0,9,     -999.0,9,     -999.0,9,-999.0000, -999.00
33RO20071215,        P18,      66,          1,          1,      12035,2,20080106,       1654,    -9.5820,  -103.5880,       4775,  4827.1,   1.8773,  34.6803,2,  34.6815,2,    140.3,2,   139.8,2,  149.00,2,   37.10,2,    0.01,2,    2.52,2,   0.001,6,   0.000,6,   0.0000,6,  2338.3,6,  2434.8,2,   -999.0,9,  -999.00,   7.5661,2,    25.00,-999.000,9,-999.0000,9, -999.00,9, -999.00,9,  -999.0,9,-999.000,9,-999.000,   0.005,3,-999.000,9, -999.00,9, -999.00,9, -999.00,9, -999.00,9, -999.00,9,-999.000,   0.1533,2,   0.1076,2,   0.0581,2,   0.0396,2,   0.0251,2,   0.0110,2,   0.0036,2,   0.0150,2,   0.0160,2,   1.4515,     -999.0,9,     -999.0,9,     -999.0,9,     -999.0,9,     -999.0,9,     -999.0,9,     -999.0,9,-999.0000, -999.00