BOTTLE,20220818CCHSIOAMB
EXPOCODE,SECT_ID,STNNBR,CASTNO,SAMPNO,BTLNBR,BTLNBR_FLAG_W,DATE,TIME,LATITUDE,LONGITUDE,DEPTH,CTDPRS,CTDTMP,CTDSAL,CTDSAL_FLAG_W,SALNTY,SALNTY_FLAG_W,CTDOXY,CTDOXY_FLAG_W,OXYGEN,OXYGEN_FLAG_W,SILCAT,SILCAT_FLAG_W,NITRAT,NITRAT_FLAG_W,NITRIT,NITRIT_FLAG_W,PHSPHT,PHSPHT_FLAG_W,CFC-11,CFC-11_FLAG_W,CFC-12,CFC-12_FLAG_W,SF6,SF6_FLAG_W,TCARBN,TCARBN_FLAG_W,ALKALI,ALKALI_FLAG_W,FCO2,FCO2_FLAG_W,FCO2TMP,PH_SWS,PH_SWS_FLAG_W,PH_TMP,TRITUM,TRITUM_FLAG_W,HELIUM,HELIUM_FLAG_W,DELHE3,DELHE3_FLAG_W,DELC13,DELC13_FLAG_W,DELC14,DELC14_FLAG_W,NEON,NEON_FLAG_W,NEONER,CCL4,CCL4_FLAG_W,POC,POC_FLAG_W,DOC,DOC_FLAG_W,TDN,TDN_FLAG_W,DON,DON_FLAG_W,CHLORA,CHLORA_FLAG_W,ARGON,ARGON_FLAG_W,TRITER,CDOM325,CDOM325_FLAG_W,CDOM340,CDOM340_FLAG_W,CDOM380,CDOM380_FLAG_W,CDOM412,CDOM412_FLAG_W,CDOM443,CDOM443_FLAG_W,CDOM490,CDOM490_FLAG_W,CDOM555,CDOM555_FLAG_W,CDOMSL,CDOMSL_FLAG_W,CDOMSN,CDOMSN_FLAG_W,THETA,D18O_NO3,D18O_NO3_FLAG_W,CDOM2C,CDOM2C_FLAG_W,CDOM3C,CDOM3C_FLAG_W,LAB_DEN,LAB_DEN_FLAG_W,DELSI30,DELSI30_FLAG_W,N2,N2_FLAG_W,D15N_NO3,D15N_NO3_FLAG_W,HELIER,DELHER
,,,,,,,,,,,METERS,DBAR,ITS-90,PSS-78,,PSS-78,,UMOL/KG,,UMOL/KG,,UMOL/KG,,UMOL/KG,,UMOL/KG,,UMOL/KG,,PMOL/KG,,PMOL/KG,,FMOL/KG,,UMOL/KG,,UMOL/KG,,UATM,,DEG C,,,DEG C,TU,,NMOL/KG,,PERCNT,,/MILLE,,/MILLE,,NMOL/KG,,NMOL/KG,PMOL/KG,,UG/KG,,UMOL/KG,,UMOL/KG,,UMOL/KG,,UG/KG,,UMOL/KG,,TU,1/M,,1/M,,1/M,,1/M,,1/M,,1/M,,1/M,,1/NM,,1/NM,,DEG C,/MILLE,,,,,,,,/MILLE,,UMOL/KG,,/MILLE,,NMOL/KG,PERCNT
33RO20071215,        P18,      28,          1,         36,      12017,2,20071224,       1727,     8.5850,  -109.9997,       3954,     4.6,  27.3630,  32.7683,2,  32.7701,2,    204.4,2,   192.3,3,    1.20,2,    0.10,2,    0.00,2,    0.09,2,   1.624,6,   1.044,6,   1.0759,6,  1854.7,2,  2152.9,2,   -999.0,9,  -999.00,   8.0926,2,    25.00,-999.000,9,-999.0000,9, -999.00,9, -999.00,9,  -999.0,9,-999.000,9,-999.000,-999.000,9,-999.000,9, -999.00,9, -999.00,9, -999.00,1,    0.11,2, -999.00,9,-999.000,   0.0480,2,   0.0319,2,   0.0115,2,   0.0066,2,   0.0043,2,   0.0025,2,   0.0000,4,   0.0258,2,   0.0271,2,  27.3620,     -999.0,9,     -999.0,9,     -999.0,9,     -999.0,9,     -999.0,9,     -999.0,9,     -999.0,9,-999.0000, -999.00
33RO20071215,        P18,      28,          1,         35,      12029,2,20071224,       1727,     8.5850,  -109.9997,       3954,     9.3,  27.3505,  32.8068,2,  32.8221,2,    204.2,2,   202.4,2,    1.10,2,    0.10,2,    0.01,2,    0.12,2,-999.000,9,-999.000,9,-999.0000,9,  1865.4,2,  2161.0,2,   -999.0,9,  -999.00,   8.1028,2,    25.00,-999.000,9,-999.0000,9, -999.00,9, -999.00,9,  -999.0,9,-999.000,9,-999.000,-999.000,9,-999.000,1,   74.73,2,    6.64,2, -999.00,1,    0.10,2, -999.00,9,-999.000,   0.0477,2,   0.0319,2,   0.0117,2,   0.0063,2,   0.0039,2,   0.0020,2,  -0.0002,4,   0.0256,2,   0.0266,2,  27.3484,     -999.0,9,     -999.0,9,     -999.0,9,     -999.0,9,     -999.0,9,     -999.0,9,     -999.0,9,-999.0000, -999.00
33RO20071215,        P18,      28,          1,         34,      12049,2,20071224,       1727,     8.5850,  -109.9997,       3954,    25.5,  27.4440,  33.0730,2,  33.1570,2,    204.1,2,   201.2,2,    1.70,2,    0.30,2,    0.01,2,    0.19,2,-999.000,5,-999.000,5,-999.0000,5,  1891.7,2,  2203.6,2,   -999.0,9,  -999.00,   8.0875,2,    25.00,-999.000,9,-999.0000,9, -999.00,9, -999.00,9,  -999.0,9,-999.000,9,-999.000,-999.000,9,-999.000,9, -999.00,9, -999.00,9, -999.00,1,    0.19,2, -999.00,9,-999.000,   0.0876,2,   0.0631,2,   0.0307,2,   0.0215,2,   0.0157,2,   0.0087,2,   0.0024,2,   0.0133,2,   0.0162,2,  27.4381,     -999.0,9,     -999.0,9,     -999.0,9,     -999.0,9,     -999.0,9,     -999.0,9,     -999.0,9,-999.0000, -999.00
33RO20071215,        P18,      28,          1,         33,      12027,2,20071224,       1727,     8.5850,  -109.9997,       3954,    50.2,  20.1020,  34.5846,2,  34.5966,2,     87.1,2,    74.6,2,   11.30,2,   18.20,2,    1.01,2,    1.47,2,   1.570,2,   0.929,2,   0.6178,2,  2145.4,2,  2295.3,2,   -999.0,9,  -999.00,   8.0793,2,    25.00,-999.000,9,-999.0000,9, -999.00,9, -999.00,9,  -999.0,9,-999.000,9,-999.000,-999.000,9,-999.000,9,   55.01,2,   23.11,2, -999.00,1,    0.26,2, -999.00,9,-999.000,   0.2147,2,   0.1572,2,   0.0782,2,   0.0538,2,   0.0310,2,   0.0133,2,   0.0050,2,   0.0163,2,   0.0168,2,  20.0927,     -999.0,9,     -999.0,9,     -999.0,9,     -999.0,9,     -999.0,9,     -999.0,9,     -999.0,9,-999.0000, -999.00
33RO20071215,        P18,      28,          1,         32,      12023,2,20071224,       1727,     8.5850,  -109.9997,       3954,    74.6,  14.0207,  34.7695,2,  34.7765,2,      9.4,2,     7.6,2,   23.30,2,   31.30,2,    0.04,2,    2.35,2,   1.079,2,   0.602,2,   0.2769,2,  2239.5,2,  2307.5,2,   -999.0,9,  -999.00,   7.7059,2,    25.00,-999.000,9,-999.0000,9, -999.00,9, -999.00,9,  -999.0,9,-999.000,9,-999.000,-999.000,9,-999.000,9, -999.00,9, -999.00,9, -999.00,1,    0.06,2, -999.00,9,-999.000,   0.1900,2,   0.1429,2,   0.0819,2,   0.0638,2,   0.0377,2,   0.0158,2,   0.0063,2,   0.0147,2,   0.0138,2,  14.0100,     -999.0,9,     -999.0,9,     -999.0,9,     -999.0,9,     -999.0,9,     -999.0,9,     -999.0,9,-999.0000, -999.00
33RO20071215,        P18,      28,          1,         31,      12037,2,20071224,       1727,     8.5850,  -109.9997,       3954,   101.0,  12.5706,  34.7946,2,  34.7951,2,     10.9,2,    11.3,2,   25.90,2,   32.20,2,    0.01,2,    2.34,2,   0.888,2,   0.488,2,   0.2005,2,  2246.2,2,  2312.6,2,   -999.0,9,  -999.00,   7.4824,2,    25.00,-999.000,9,-999.0000,9, -999.00,9, -999.00,9,  -999.0,9,-999.000,9,-999.000,-999.000,9,-999.000,9,   46.48,2,   35.50,2, -999.00,1,    0.03,2, -999.00,9,-999.000,   0.1719,2,   0.1301,2,   0.0763,2,   0.0596,2,   0.0356,2,   0.0141,2,   0.0053,2,   0.0146,2,   0.0134,2,  12.5571,     -999.0,9,     -999.0,9,     -999.0,9,     -999.0,9,     -999.0,9,     -999.0,9,     -999.0,9,-999.0000, -999.00
33RO20071215,        P18,      28,          1,         30,      12036,2,20071224,       1727,     8.5850,  -109.9997,       3954,   125.7,  11.9363,  34.7780,2,  34.7778,2,     16.5,2,    14.6,2,   27.30,2,   32.70,2,    0.01,2,    2.36,2,   0.760,2,   0.419,2,   0.1440,2,  2249.6,2,  2297.4,2,   -999.0,9,  -999.00,   7.4703,2,    25.00,-999.000,9,-999.0000,9, -999.00,9, -999.00,9,  -999.0,9,-999.000,9,-999.000,-999.000,9,-999.000,9, -999.00,9, -999.00,9, -999.00,1,    0.01,2, -999.00,9,-999.000,   0.1628,2,   0.1235,2,   0.0737,2,   0.0580,2,   0.0348,2,   0.0132,2,   0.0046,2,   0.0107,4,   0.0129,4,  11.9201,     -999.0,9,     -999.0,9,     -999.0,9,     -999.0,9,     -999.0,9,     -999.0,9,     -999.0,9,-999.0000, -999.00
33RO20071215,        P18,      28,          1,         29,      12044,2,20071224,       1727,     8.5850,  -109.9997,       3954,   149.0,  11.6101,  34.7666,2,  34.7686,2,     18.5,2,    19.9,2,   27.90,2,   32.70,2,    0.00,2,    2.35,2,   0.696,2,   0.385,2,   0.1448,2,  2248.4,2,  2296.1,2,   -999.0,9,  -999.00,   7.4707,2,    25.00,-999.000,9,-999.0000,9, -999.00,9, -999.00,9,  -999.0,9,-999.000,9,-999.000,-999.000,9,-999.000,9,   45.18,2,   35.10,2, -999.00,1,    0.00,2, -999.00,9,-999.000,   0.1711,2,   0.1302,2,   0.0785,2,   0.0621,2,   0.0384,2,   0.0156,2,   0.0060,2,   0.0141,2,   0.0129,2,  11.5912,     -999.0,9,     -999.0,9,     -999.0,9,     -999.0,9,     -999.0,9,     -999.0,9,     -999.0,9,-999.0000, -999.00
33RO20071215,        P18,      28,          1,         28,      12057,2,20071224,       1727,     8.5850,  -109.9997,       3954,   175.4,  11.3533,  34.7593,2,  34.7553,2,     27.6,2,    26.0,2,   28.40,2,   32.60,2,    0.01,2,    2.32,2,   0.680,2,   0.371,2,   0.2376,2,  2244.7,2,  2295.0,2,   -999.0,9,  -999.00,   7.4625,2,    25.00,-999.000,9,-999.0000,9, -999.00,9, -999.00,9,  -999.0,9,-999.000,9,-999.000,-999.000,9,-999.000,9,   44.21,2,   34.97,2, -999.00,1,    0.00,2, -999.00,9,-999.000,   0.1633,2,   0.1234,2,   0.0743,2,   0.0591,2,   0.0362,2,   0.0139,2,   0.0049,2,   0.0143,2,   0.0130,2,  11.3313,     -999.0,9,     -999.0,9,     -999.0,9,     -999.0,9,     -999.0,9,     -999.0,9,     -999.0,9,-999.0000, -999.00
33RO20071215,        P18,      28,          1,         27,      12026,2,20071224,       1727,     8.5850,  -109.9997,       3954,   200.1,  11.0624,  34.7504,2,  34.7513,2,     25.1,2,    26.2,2,   29.50,2,   32.90,2,    0.00,2,    2.34,2,   0.608,6,   0.333,6,   0.1317,6,  2248.1,2,  2298.4,2,   -999.0,9,  -999.00,   7.4771,2,    25.00,-999.000,9,-999.0000,9, -999.00,9, -999.00,9,  -999.0,9,-999.000,9,-999.000,-999.000,9,-999.000,9,   43.57,2,   34.83,2, -999.00,1,    0.00,2, -999.00,9,-999.000,   0.1706,2,   0.1291,2,   0.0779,2,   0.0618,2,   0.0384,2,   0.0151,2,   0.0055,2,   0.0142,2,   0.0129,2,  11.0377,     -999.0,9,     -999.0,9,     -999.0,9,     -999.0,9,     -999.0,9,     -999.0,9,     -999.0,9,-999.0000, -999.00
33RO20071215,        P18,      28,          1,         26,      12030,2,20071224,       1727,     8.5850,  -109.9997,       3954,   251.0,  10.5294,  34.7252,2,  34.7227,2,     16.0,2,    16.1,2,   32.40,2,   34.00,2,    0.00,2,    2.48,2,   0.417,2,   0.230,2,   0.0492,2,  2260.0,2,  2301.3,2,   -999.0,9,  -999.00,   7.4562,2,    25.00,-999.000,9,-999.0000,9, -999.00,9, -999.00,9,  -999.0,9,-999.000,9,-999.000,-999.000,9,-999.000,9,   42.87,2,   35.57,2, -999.00,1,    0.01,2, -999.00,9,-999.000,   0.1807,2,   0.1375,2,   0.0847,2,   0.0687,2,   0.0431,2,   0.0172,2,   0.0063,2,   0.0140,2,   0.0124,2,  10.4993,     -999.0,9,     -999.0,9,     -999.0,9,     -999.0,9,     -999.0,9,     -999.0,9,     -999.0,9,-999.0000, -999.00
33RO20071215,        P18,      28,          1,         25,      12024,2,20071224,       1727,     8.5850,  -109.9997,       3954,   300.8,   9.9788,  34.6983,2,  34.6955,2,     13.6,2,    12.9,2,   35.90,2,   34.90,2,    0.01,2,    2.62,2,   0.261,2,   0.145,2,   0.0000,2,  2270.6,2,  2304.8,2,   -999.0,9,  -999.00,   7.4145,2,    25.00,-999.000,9,-999.0000,9, -999.00,9, -999.00,9,  -999.0,9,-999.000,9,-999.000,-999.000,9,-999.000,9,   42.23,2,   36.03,2, -999.00,1, -999.00,9, -999.00,9,-999.000,   0.1748,2,   0.1317,2,   0.0815,2,   0.0671,2,   0.0410,2,   0.0148,2,   0.0048,2,   0.0143,2,   0.0125,2,   9.9439,     -999.0,9,     -999.0,9,     -999.0,9,     -999.0,9,     -999.0,9,     -999.0,9,     -999.0,9,-999.0000, -999.00
33RO20071215,        P18,      28,          1,         24,      12019,2,20071224,       1727,     8.5850,  -109.9997,       3954,   350.8,   9.4944,  34.6733,2,  34.6736,2,      4.4,2,     5.2,2,   39.70,2,   35.10,2,    0.00,2,    2.79,2,   0.139,2,   0.077,2,   0.0000,2,  2284.1,2,  2306.5,2,   -999.0,9,  -999.00,   7.4005,2,    25.00,-999.000,9,-999.0000,9, -999.00,9, -999.00,9,  -999.0,9,-999.000,9,-999.000,-999.000,9,-999.000,9,   41.51,2,   36.16,2, -999.00,1, -999.00,9, -999.00,9,-999.000,   0.1909,2,   0.1445,2,   0.0906,2,   0.0761,2,   0.0466,2,   0.0173,2,   0.0058,2,   0.0143,2,   0.0122,2,   9.4549,     -999.0,9,     -999.0,9,     -999.0,9,     -999.0,9,     -999.0,9,     -999.0,9,     -999.0,9,-999.0000, -999.00
33RO20071215,        P18,      28,          1,         23,      12022,2,20071224,       1727,     8.5850,  -109.9997,       3954,   400.0,   9.0264,  34.6491,2,  34.6498,2,      2.4,2,     1.9,2,   44.20,2,   34.90,2,    0.01,2,    2.90,2,   0.060,2,   0.037,2,   0.0000,2,  2291.8,2,  2310.5,2,   -999.0,9,  -999.00,   7.3758,2,    25.00,-999.000,9,-999.0000,9, -999.00,9, -999.00,9,  -999.0,9,-999.000,9,-999.000,-999.000,9,-999.000,9,   40.80,2,   36.20,2, -999.00,1, -999.00,9, -999.00,9,-999.000,   0.2060,2,   0.1581,2,   0.1017,2,   0.0872,2,   0.0538,2,   0.0212,2,   0.0080,2,   0.0140,2,   0.0117,2,   8.9826,     -999.0,9,     -999.0,9,     -999.0,9,     -999.0,9,     -999.0,9,     -999.0,9,     -999.0,9,-999.0000, -999.00
33RO20071215,        P18,      28,          1,         22,      12015,2,20071224,       1727,     8.5850,  -109.9997,       3954,   501.3,   7.6926,  34.5838,2,  34.5849,2,      2.4,2,     2.4,2,   56.50,2,   37.40,2,    0.00,2,    3.12,2,   0.006,2,   0.004,2,   0.0000,2,  2308.5,2,  2321.1,2,   -999.0,9,  -999.00,   7.3579,2,    25.00,-999.000,9,-999.0000,9, -999.00,9, -999.00,9,  -999.0,9,-999.000,9,-999.000,-999.000,9,-999.000,1,   40.32,2,   38.58,2, -999.00,1, -999.00,9, -999.00,9,-999.000,   0.2227,2,   0.1712,2,   0.1104,2,   0.0937,2,   0.0597,2,   0.0247,2,   0.0097,2,   0.0136,2,   0.0116,2,   7.6423,     -999.0,9,     -999.0,9,     -999.0,9,     -999.0,9,     -999.0,9,     -999.0,9,     -999.0,9,-999.0000, -999.00
33RO20071215,        P18,      28,          1,         21,      12020,2,20071224,       1727,     8.5850,  -109.9997,       3954,   599.1,   6.8498,  34.5632,2,  34.5645,2,      3.3,2,     3.8,2,   64.20,2,   41.00,2,    0.00,2,    3.23,2,   0.004,2,   0.002,2,   0.0000,2,  2316.2,2,  2327.9,2,   -999.0,9,  -999.00,   7.3499,2,    25.00,-999.000,9,-999.0000,9, -999.00,9, -999.00,9,  -999.0,9,-999.000,9,-999.000,-999.000,9,-999.000,9,   39.91,2,   42.63,2, -999.00,1, -999.00,9, -999.00,9,-999.000,   0.2021,2,   0.1516,2,   0.0951,2,   0.0789,2,   0.0501,2,   0.0194,2,   0.0068,2,   0.0126,4,   0.0121,4,   6.7931,     -999.0,9,     -999.0,9,     -999.0,9,     -999.0,9,     -999.0,9,     -999.0,9,     -999.0,9,-999.0000, -999.00
33RO20071215,        P18,      28,          1,         20,      12055,2,20071224,       1727,     8.5850,  -109.9997,       3954,   700.8,   6.1296,  34.5611,2,  34.5596,2,      5.6,2,     7.0,2,   71.90,2,   43.20,2,    0.00,2,    3.30,2,   0.008,2,   0.004,2,   0.0000,2,  2323.8,2,  2336.2,2,   -999.0,9,  -999.00,   7.3455,2,    25.00,-999.000,9,-999.0000,9, -999.00,9, -999.00,9,  -999.0,9,-999.000,9,-999.000,-999.000,9,-999.000,9,   38.99,2,   44.88,2, -999.00,1, -999.00,9, -999.00,9,-999.000,   0.2001,2,   0.1488,2,   0.0924,2,   0.0755,2,   0.0483,2,   0.0188,2,   0.0065,2,   0.0141,2,   0.0124,2,   6.0667,     -999.0,9,     -999.0,9,     -999.0,9,     -999.0,9,     -999.0,9,     -999.0,9,     -999.0,9,-999.0000, -999.00
33RO20071215,        P18,      28,          1,         19,      12018,4,20071224,       1727,     8.5850,  -109.9997,       3954,   799.7,   5.4504,  34.5604,2,-999.0000,9,     13.2,2,  -999.0,9, -999.00,9, -999.00,9, -999.00,9, -999.00,9,-999.000,9,-999.000,9,-999.0000,9,  -999.0,9,  -999.0,9,   -999.0,9,  -999.00,-999.0000,9,  -999.00,-999.000,9,-999.0000,9, -999.00,9, -999.00,9,  -999.0,9,-999.000,9,-999.000,-999.000,9,-999.000,9, -999.00,9, -999.00,9, -999.00,9, -999.00,9, -999.00,9,-999.000,-999.0000,9,-999.0000,9,-999.0000,9,-999.0000,9,-999.0000,9,-999.0000,9,-999.0000,9,-999.0000,9,-999.0000,9,   5.3821,     -999.0,9,     -999.0,9,     -999.0,9,     -999.0,9,     -999.0,9,     -999.0,9,     -999.0,9,-999.0000, -999.00
33RO20071215,        P18,      28,          1,         18,      12025,2,20071224,       1727,     8.5850,  -109.9997,       3954,   899.0,   4.9407,  34.5622,2,  34.5624,2,     21.4,2,    19.0,2,   89.50,2,   44.80,2,    0.00,2,    3.34,2,   0.003,2,   0.000,2,   0.0000,2,  2337.2,6,  2356.3,4,   -999.0,9,  -999.00,   7.3632,2,    25.00,-999.000,9,-999.0000,9, -999.00,9, -999.00,9,  -999.0,9,-999.000,9,-999.000,-999.000,9,-999.000,9,   38.41,2,   45.86,2, -999.00,1, -999.00,9, -999.00,9,-999.000,   0.2084,2,   0.1580,2,   0.1000,2,   0.0793,2,   0.0529,2,   0.0226,2,   0.0088,2,   0.0136,2,   0.0121,2,   4.8668,     -999.0,9,     -999.0,9,     -999.0,9,     -999.0,9,     -999.0,9,     -999.0,9,     -999.0,9,-999.0000, -999.00
33RO20071215,        P18,      28,          1,         17,      12016,2,20071224,       1727,     8.5850,  -109.9997,       3954,   999.3,   4.5566,  34.5672,2,  34.5663,2,     29.3,2,    28.9,2,   96.10,2,   44.30,2,    0.00,2,    3.29,2,   0.004,2,   0.002,2,   0.0000,2,  2340.2,2,  2379.2,4,   -999.0,9,  -999.00,   7.3761,2,    25.00,-999.000,9,-999.0000,9, -999.00,9, -999.00,9,  -999.0,9,-999.000,9,-999.000,-999.000,9,-999.000,1,   37.90,2,   45.65,2, -999.00,1, -999.00,9, -999.00,9,-999.000,   0.2038,2,   0.1557,2,   0.0981,2,   0.0769,2,   0.0512,2,   0.0220,2,   0.0086,2,   0.0135,2,   0.0122,2,   4.4766,     -999.0,9,     -999.0,9,     -999.0,9,     -999.0,9,     -999.0,9,     -999.0,9,     -999.0,9,-999.0000, -999.00
33RO20071215,        P18,      28,          1,         16,      12051,2,20071224,       1727,     8.5850,  -109.9997,       3954,  1099.9,   4.1558,  34.5733,2,  34.5743,2,     37.4,2,    36.1,2,  104.80,2,   43.80,2,    0.00,2,    3.25,2,-999.000,9,-999.000,9,-999.0000,9,  2344.3,2,  2388.8,4,   -999.0,9,  -999.00,   7.3860,2,    25.00,-999.000,9,-999.0000,9, -999.00,9, -999.00,9,  -999.0,9,-999.000,9,-999.000,-999.000,9,-999.000,9,   37.39,2,   45.06,2, -999.00,1, -999.00,9, -999.00,9,-999.000,   0.2021,2,   0.1535,2,   0.0951,2,   0.0736,2,   0.0488,2,   0.0205,2,   0.0077,2,   0.0139,2,   0.0125,2,   4.0703,     -999.0,9,     -999.0,9,     -999.0,9,     -999.0,9,     -999.0,9,     -999.0,9,     -999.0,9,-999.0000, -999.00
33RO20071215,        P18,      28,          1,         15,      12014,2,20071224,       1727,     8.5850,  -109.9997,       3954,  1199.3,   3.8048,  34.5821,2,  34.5823,2,     45.2,2,    45.8,2,  112.20,2,   43.30,2,    0.00,2,    3.19,2,   0.003,2,   0.001,2,   0.0000,2,  2346.5,2,  2398.1,4,   -999.0,9,  -999.00,   7.4027,2,    25.00,-999.000,9,-999.0000,9, -999.00,9, -999.00,9,  -999.0,9,-999.000,9,-999.000,-999.000,9,-999.000,9,   37.12,2,   44.26,2, -999.00,1, -999.00,9, -999.00,9,-999.000,   0.1946,2,   0.1468,2,   0.0900,2,   0.0688,2,   0.0455,2,   0.0189,2,   0.0070,2,   0.0114,4,   0.0125,4,   3.7139,     -999.0,9,     -999.0,9,     -999.0,9,     -999.0,9,     -999.0,9,     -999.0,9,     -999.0,9,-999.0000, -999.00
33RO20071215,        P18,      28,          1,         14,      12013,2,20071224,       1727,     8.5850,  -109.9997,       3954,  1301.0,   3.4868,  34.5923,2,  34.5936,2,     53.7,2,    53.7,2,  118.70,2,   42.80,2,    0.00,2,    3.13,2,-999.000,9,-999.000,9,-999.0000,9,  2350.2,2,  2405.9,4,   -999.0,9,  -999.00,   7.4150,2,    25.00,-999.000,9,-999.0000,9, -999.00,9, -999.00,9,  -999.0,9,-999.000,9,-999.000,-999.000,9,-999.000,9,   36.90,2,   43.82,2, -999.00,1, -999.00,9, -999.00,9,-999.000,   0.2006,2,   0.1520,2,   0.0936,2,   0.0717,2,   0.0479,2,   0.0208,2,   0.0082,2,   0.0137,2,   0.0126,2,   3.3903,     -999.0,9,     -999.0,9,     -999.0,9,     -999.0,9,     -999.0,9,     -999.0,9,     -999.0,9,-999.0000, -999.00
33RO20071215,        P18,      28,          1,         13,      12012,2,20071224,       1727,     8.5850,  -109.9997,       3954,  1400.4,   3.2835,  34.6002,2,  34.6007,2,     61.0,2,    59.8,2,  123.00,2,   42.30,2,    0.01,2,    3.09,2,   0.003,2,   0.001,2,   0.0000,2,  2350.3,2,  2409.6,4,   -999.0,9,  -999.00,   7.4301,2,    25.00,-999.000,9,-999.0000,9, -999.00,9, -999.00,9,  -999.0,9,-999.000,9,-999.000,-999.000,9,-999.000,9,   36.46,2,   43.21,2, -999.00,1, -999.00,9, -999.00,9,-999.000,-999.0000,5,-999.0000,5,-999.0000,5,-999.0000,5,-999.0000,5,-999.0000,5,-999.0000,5,-999.0000,5,-999.0000,5,   3.1808,     -999.0,9,     -999.0,9,     -999.0,9,     -999.0,9,     -999.0,9,     -999.0,9,     -999.0,9,-999.0000, -999.00
33RO20071215,        P18,      28,          1,         12,      12031,2,20071224,       1727,     8.5850,  -109.9997,       3954,  1601.2,   2.8942,  34.6144,2,  34.6144,2,     72.8,2,    73.9,2,  131.40,2,   41.50,2,    0.00,2,    2.97,2,-999.000,9,-999.000,9,-999.0000,9,  2351.4,2,  2421.2,4,   -999.0,9,  -999.00,   7.4521,2,    25.00,-999.000,9,-999.0000,9, -999.00,9, -999.00,9,  -999.0,9,-999.000,9,-999.000,-999.000,9,-999.000,9,   36.36,2,   42.40,2, -999.00,1, -999.00,9, -999.00,9,-999.000,   0.1826,2,   0.1359,2,   0.0810,2,   0.0601,2,   0.0395,2,   0.0164,2,   0.0060,2,   0.0142,2,   0.0134,2,   2.7790,     -999.0,9,     -999.0,9,     -999.0,9,     -999.0,9,     -999.0,9,     -999.0,9,     -999.0,9,-999.0000, -999.00