BOTTLE,20220818CCHSIOAMB
EXPOCODE,SECT_ID,STNNBR,CASTNO,SAMPNO,BTLNBR,BTLNBR_FLAG_W,DATE,TIME,LATITUDE,LONGITUDE,DEPTH,CTDPRS,CTDTMP,CTDSAL,CTDSAL_FLAG_W,SALNTY,SALNTY_FLAG_W,CTDOXY,CTDOXY_FLAG_W,OXYGEN,OXYGEN_FLAG_W,SILCAT,SILCAT_FLAG_W,NITRAT,NITRAT_FLAG_W,NITRIT,NITRIT_FLAG_W,PHSPHT,PHSPHT_FLAG_W,CFC-11,CFC-11_FLAG_W,CFC-12,CFC-12_FLAG_W,SF6,SF6_FLAG_W,TCARBN,TCARBN_FLAG_W,ALKALI,ALKALI_FLAG_W,FCO2,FCO2_FLAG_W,FCO2TMP,PH_SWS,PH_SWS_FLAG_W,PH_TMP,TRITUM,TRITUM_FLAG_W,HELIUM,HELIUM_FLAG_W,DELHE3,DELHE3_FLAG_W,DELC13,DELC13_FLAG_W,DELC14,DELC14_FLAG_W,NEON,NEON_FLAG_W,NEONER,CCL4,CCL4_FLAG_W,POC,POC_FLAG_W,DOC,DOC_FLAG_W,TDN,TDN_FLAG_W,DON,DON_FLAG_W,CHLORA,CHLORA_FLAG_W,ARGON,ARGON_FLAG_W,TRITER,CDOM325,CDOM325_FLAG_W,CDOM340,CDOM340_FLAG_W,CDOM380,CDOM380_FLAG_W,CDOM412,CDOM412_FLAG_W,CDOM443,CDOM443_FLAG_W,CDOM490,CDOM490_FLAG_W,CDOM555,CDOM555_FLAG_W,CDOMSL,CDOMSL_FLAG_W,CDOMSN,CDOMSN_FLAG_W,THETA,D18O_NO3,D18O_NO3_FLAG_W,CDOM2C,CDOM2C_FLAG_W,CDOM3C,CDOM3C_FLAG_W,LAB_DEN,LAB_DEN_FLAG_W,DELSI30,DELSI30_FLAG_W,N2,N2_FLAG_W,D15N_NO3,D15N_NO3_FLAG_W,HELIER,DELHER
,,,,,,,,,,,METERS,DBAR,ITS-90,PSS-78,,PSS-78,,UMOL/KG,,UMOL/KG,,UMOL/KG,,UMOL/KG,,UMOL/KG,,UMOL/KG,,PMOL/KG,,PMOL/KG,,FMOL/KG,,UMOL/KG,,UMOL/KG,,UATM,,DEG C,,,DEG C,TU,,NMOL/KG,,PERCNT,,/MILLE,,/MILLE,,NMOL/KG,,NMOL/KG,PMOL/KG,,UG/KG,,UMOL/KG,,UMOL/KG,,UMOL/KG,,UG/KG,,UMOL/KG,,TU,1/M,,1/M,,1/M,,1/M,,1/M,,1/M,,1/M,,1/NM,,1/NM,,DEG C,/MILLE,,,,,,,,/MILLE,,UMOL/KG,,/MILLE,,NMOL/KG,PERCNT
33RO20071215,        P18,     149,          1,         36,      12017,2,20080207,       0831,   -57.7502,  -102.9995,       4657,     5.2,   6.6100,  34.0353,2,  34.0366,2,    300.1,2,   301.3,2,    3.30,2,   20.40,2,    0.19,2,    1.45,2,   4.489,2,   2.517,2,   1.9376,2,  2110.7,6,  2275.3,2,   -999.0,9,  -999.00,   7.7932,2,    25.00,-999.000,9,-999.0000,9, -999.00,9,    1.35,3,  -999.0,1,-999.000,9,-999.000,-999.000,9,-999.000,9,   49.64,2,   25.47,2, -999.00,1, -999.00,9, -999.00,9,-999.000,-999.0000,9,-999.0000,9,-999.0000,9,-999.0000,9,-999.0000,9,-999.0000,9,-999.0000,9,-999.0000,9,-999.0000,9,   6.6096,     -999.0,9,     -999.0,9,     -999.0,9,     -999.0,9,     -999.0,9,     -999.0,9,     -999.0,9,-999.0000, -999.00
33RO20071215,        P18,     149,          1,         35,      12029,2,20080207,       0831,   -57.7502,  -102.9995,       4657,    14.7,   6.5522,  34.0350,2,  34.0378,2,    300.3,2,   301.2,2,    3.30,2,   20.50,2,    0.18,2,    1.45,2,   4.465,2,   2.507,2,   1.9962,2,  2111.5,2,  2281.7,2,   -999.0,9,  -999.00,   7.7970,2,    25.00,-999.000,9,-999.0000,9, -999.00,9, -999.00,9,  -999.0,9,-999.000,9,-999.000,-999.000,9,-999.000,9,   49.56,2,   24.88,2, -999.00,1, -999.00,9, -999.00,1,-999.000,-999.0000,9,-999.0000,9,-999.0000,9,-999.0000,9,-999.0000,9,-999.0000,9,-999.0000,9,-999.0000,9,-999.0000,9,   6.5509,     -999.0,1,     -999.0,9,     -999.0,9,     -999.0,9,     -999.0,1,     -999.0,1,     -999.0,9,-999.0000, -999.00
33RO20071215,        P18,     149,          1,         34,      12049,2,20080207,       0831,   -57.7502,  -102.9995,       4657,    32.9,   6.4766,  34.0362,2,  34.0350,2,    297.8,2,   300.7,2,    3.30,2,   20.40,2,    0.18,2,    1.45,2,   4.438,2,   2.487,2,   1.8348,2,  2111.0,2,  2276.5,2,   -999.0,9,  -999.00,   7.7880,2,    25.00,-999.000,9,-999.0000,9, -999.00,9, -999.00,9,  -999.0,9,-999.000,9,-999.000,-999.000,9,-999.000,9,   48.02,2,   25.25,2, -999.00,1, -999.00,9, -999.00,9,-999.000,-999.0000,9,-999.0000,9,-999.0000,9,-999.0000,9,-999.0000,9,-999.0000,9,-999.0000,9,-999.0000,9,-999.0000,9,   6.4738,     -999.0,9,     -999.0,9,     -999.0,9,     -999.0,9,     -999.0,9,     -999.0,9,     -999.0,9,-999.0000, -999.00
33RO20071215,        P18,     149,          1,         33,      12027,2,20080207,       0831,   -57.7502,  -102.9995,       4657,    58.2,   6.4635,  34.0361,2,  34.0392,2,    298.5,2,   300.7,2,    3.30,2,   20.40,2,    0.18,2,    1.45,2,   4.461,2,   2.505,2,   1.9278,2,  2111.7,2,  2275.1,2,   -999.0,9,  -999.00,   7.7951,2,    25.00,-999.000,9,-999.0000,9, -999.00,9,    1.53,2,  -999.0,1,-999.000,9,-999.000,-999.000,9,-999.000,9,   46.97,2,   24.70,2, -999.00,1, -999.00,9, -999.00,9,-999.000,-999.0000,9,-999.0000,9,-999.0000,9,-999.0000,9,-999.0000,9,-999.0000,9,-999.0000,9,-999.0000,9,-999.0000,9,   6.4585,     -999.0,9,     -999.0,9,     -999.0,9,     -999.0,9,     -999.0,1,     -999.0,9,     -999.0,9,-999.0000, -999.00
33RO20071215,        P18,     149,          1,         32,      12023,2,20080207,       0831,   -57.7502,  -102.9995,       4657,    83.0,   6.4078,  34.0425,2,  34.0476,2,    299.8,2,   300.8,2,    3.40,2,   20.40,2,    0.19,2,    1.47,2,   4.497,2,   2.528,2,   1.9607,2,  2113.8,2,  2275.0,2,   -999.0,9,  -999.00,   7.7910,2,    25.00,-999.000,9,-999.0000,9, -999.00,9, -999.00,9,  -999.0,9,-999.000,9,-999.000,-999.000,9,-999.000,9,   46.70,2,   23.76,2, -999.00,1, -999.00,9, -999.00,9,-999.000,-999.0000,9,-999.0000,9,-999.0000,9,-999.0000,9,-999.0000,9,-999.0000,9,-999.0000,9,-999.0000,9,-999.0000,9,   6.4006,     -999.0,9,     -999.0,9,     -999.0,9,     -999.0,9,     -999.0,9,     -999.0,9,     -999.0,9,-999.0000, -999.00
33RO20071215,        P18,     149,          1,         31,      12037,2,20080207,       0831,   -57.7502,  -102.9995,       4657,   108.5,   5.4004,  34.0664,2,  34.0703,2,    301.7,2,   301.4,2,    6.10,2,   21.60,2,    0.25,2,    1.60,2,   4.680,2,   2.613,2,   1.9813,2,  2124.7,2,  2276.5,2,   -999.0,9,  -999.00,   7.7687,2,    25.00,-999.000,9,-999.0000,9, -999.00,9,    1.27,2,  -999.0,1,-999.000,9,-999.000,-999.000,9,-999.000,9,   46.64,2,   24.87,2, -999.00,1, -999.00,9, -999.00,9,-999.000,-999.0000,9,-999.0000,9,-999.0000,9,-999.0000,9,-999.0000,9,-999.0000,9,-999.0000,9,-999.0000,9,-999.0000,9,   5.3918,     -999.0,9,     -999.0,9,     -999.0,9,     -999.0,9,     -999.0,1,     -999.0,9,     -999.0,9,-999.0000, -999.00
33RO20071215,        P18,     149,          1,         30,      12036,2,20080207,       0831,   -57.7502,  -102.9995,       4657,   132.2,   4.8530,  34.0517,2,  34.0559,2,    303.9,2,   303.9,2,    7.70,2,   22.40,2,    0.31,2,    1.65,2,   4.795,2,   2.661,2,   2.0259,2,  2128.5,2,  2276.1,2,   -999.0,9,  -999.00,   7.7517,2,    25.00,-999.000,9,-999.0000,9, -999.00,9, -999.00,9,  -999.0,9,-999.000,9,-999.000,-999.000,9,-999.000,9,   45.97,2,   25.25,2, -999.00,1, -999.00,9, -999.00,9,-999.000,-999.0000,9,-999.0000,9,-999.0000,9,-999.0000,9,-999.0000,9,-999.0000,9,-999.0000,9,-999.0000,9,-999.0000,9,   4.8431,     -999.0,9,     -999.0,9,     -999.0,9,     -999.0,9,     -999.0,9,     -999.0,9,     -999.0,9,-999.0000, -999.00
33RO20071215,        P18,     149,          1,         29,      12044,2,20080207,       0831,   -57.7502,  -102.9995,       4657,   167.2,   4.5879,  34.0932,2,  34.0957,2,    300.0,2,   296.7,2,    9.50,2,   24.00,2,    0.01,2,    1.67,2,   4.660,2,   2.576,2,   1.8272,2,  2134.9,2,  2275.5,2,   -999.0,9,  -999.00,   7.7452,2,    25.00,-999.000,9,-999.0000,9, -999.00,9,    1.22,2,  -999.0,1,-999.000,9,-999.000,-999.000,9,-999.000,9, -999.00,9, -999.00,9, -999.00,1, -999.00,9, -999.00,9,-999.000,-999.0000,9,-999.0000,9,-999.0000,9,-999.0000,9,-999.0000,9,-999.0000,9,-999.0000,9,-999.0000,9,-999.0000,9,   4.5756,     -999.0,9,     -999.0,9,     -999.0,9,     -999.0,9,     -999.0,9,     -999.0,9,     -999.0,9,-999.0000, -999.00
33RO20071215,        P18,     149,          1,         28,      12057,2,20080207,       0831,   -57.7502,  -102.9995,       4657,   217.2,   4.3438,  34.1002,2,  34.1037,2,    293.7,2,   292.1,2,   11.10,2,   24.90,2,    0.01,2,    1.73,2,   4.549,2,   2.507,2,   1.7721,2,  2139.2,2,  2276.8,2,   -999.0,9,  -999.00,   7.7240,2,    25.00,-999.000,9,-999.0000,9, -999.00,9,    1.24,2,  -999.0,1,-999.000,9,-999.000,-999.000,9,-999.000,9,   45.16,2,   27.21,2, -999.00,1, -999.00,9, -999.00,9,-999.000,-999.0000,9,-999.0000,9,-999.0000,9,-999.0000,9,-999.0000,9,-999.0000,9,-999.0000,9,-999.0000,9,-999.0000,9,   4.3282,     -999.0,9,     -999.0,9,     -999.0,9,     -999.0,9,     -999.0,1,     -999.0,9,     -999.0,9,-999.0000, -999.00
33RO20071215,        P18,     149,          1,         27,      12026,2,20080207,       0831,   -57.7502,  -102.9995,       4657,   266.6,   4.2194,  34.1073,2,  34.1045,2,    285.9,2,   286.6,2,   12.40,2,   25.50,2,    0.01,2,    1.77,2,   4.471,2,   2.452,2,   1.7514,2,  2144.1,2,  2278.4,2,   -999.0,9,  -999.00,   7.7234,2,    25.00,-999.000,9,-999.0000,9, -999.00,9,    1.23,2,  -999.0,1,-999.000,9,-999.000,-999.000,9,-999.000,9,   44.26,2,   27.27,2, -999.00,1, -999.00,9, -999.00,9,-999.000,-999.0000,9,-999.0000,9,-999.0000,9,-999.0000,9,-999.0000,9,-999.0000,9,-999.0000,9,-999.0000,9,-999.0000,9,   4.2004,     -999.0,9,     -999.0,9,     -999.0,9,     -999.0,9,     -999.0,9,     -999.0,9,     -999.0,9,-999.0000, -999.00
33RO20071215,        P18,     149,          1,         26,      12030,2,20080207,       0831,   -57.7502,  -102.9995,       4657,   317.3,   3.9300,  34.0972,2,  34.0971,2,    280.5,2,   281.0,2,   14.60,2,   26.60,2,    0.01,2,    1.83,2,   4.399,2,   2.405,2,   1.6153,2,  2149.4,2,  2279.8,2,   -999.0,9,  -999.00,   7.7068,2,    25.00,-999.000,9,-999.0000,9, -999.00,9,    1.18,2,  -999.0,1,-999.000,9,-999.000,-999.000,9,-999.000,9,   43.00,2,   28.05,2, -999.00,1, -999.00,9, -999.00,9,-999.000,-999.0000,9,-999.0000,9,-999.0000,9,-999.0000,9,-999.0000,9,-999.0000,9,-999.0000,9,-999.0000,9,-999.0000,9,   3.9080,     -999.0,9,     -999.0,9,     -999.0,9,     -999.0,9,     -999.0,9,     -999.0,9,     -999.0,9,-999.0000, -999.00
33RO20071215,        P18,     149,          1,         25,      12024,2,20080207,       0831,   -57.7502,  -102.9995,       4657,   367.8,   3.8030,  34.1166,2,  34.1205,2,    273.3,2,   268.9,2,   18.00,2,   27.70,2,    0.00,2,    1.91,2,   4.171,2,   2.248,2,   1.4330,2,  2160.9,2,  2284.1,2,   -999.0,9,  -999.00,   7.6813,2,    25.00,-999.000,9,-999.0000,9, -999.00,9, -999.00,9,  -999.0,9,-999.000,9,-999.000,-999.000,9,-999.000,9,   42.40,2,   29.42,2, -999.00,1, -999.00,9, -999.00,9,-999.000,-999.0000,9,-999.0000,9,-999.0000,9,-999.0000,9,-999.0000,9,-999.0000,9,-999.0000,9,-999.0000,9,-999.0000,9,   3.7777,     -999.0,9,     -999.0,9,     -999.0,9,     -999.0,9,     -999.0,9,     -999.0,9,     -999.0,9,-999.0000, -999.00
33RO20071215,        P18,     149,          1,         24,      12019,2,20080207,       0831,   -57.7502,  -102.9995,       4657,   432.8,   4.0773,  34.2054,2,  34.2127,2,    241.7,2,   241.8,2,   23.20,2,   29.20,2,    0.00,2,    2.00,2,   3.389,2,   1.781,2,   1.0085,2,  2175.0,2,  2289.1,2,   -999.0,9,  -999.00,   7.6584,2,    25.00,-999.000,9,-999.0000,9, -999.00,9, -999.00,5,  -999.0,1,-999.000,9,-999.000,-999.000,9,-999.000,9,   42.32,2,   30.49,2, -999.00,1, -999.00,9, -999.00,9,-999.000,-999.0000,9,-999.0000,9,-999.0000,9,-999.0000,9,-999.0000,9,-999.0000,9,-999.0000,9,-999.0000,9,-999.0000,9,   4.0464,     -999.0,9,     -999.0,9,     -999.0,9,     -999.0,9,     -999.0,1,     -999.0,9,     -999.0,9,-999.0000, -999.00
33RO20071215,        P18,     149,          1,         23,      12022,2,20080207,       0831,   -57.7502,  -102.9995,       4657,   533.4,   3.7991,  34.2513,2,  34.2541,2,    226.8,2,   226.1,2,   30.30,2,   30.80,2,    0.00,2,    2.12,2,   2.919,2,   1.503,2,   0.7600,2,  2190.9,2,  2266.7,4,   -999.0,9,  -999.00,   7.6186,2,    25.00,-999.000,9,-999.0000,9, -999.00,9,    0.91,2,  -999.0,1,-999.000,9,-999.000,-999.000,9,-999.000,9,   42.07,2,   32.11,2, -999.00,1, -999.00,9, -999.00,9,-999.000,-999.0000,9,-999.0000,9,-999.0000,9,-999.0000,9,-999.0000,9,-999.0000,9,-999.0000,9,-999.0000,9,-999.0000,9,   3.7617,     -999.0,9,     -999.0,9,     -999.0,9,     -999.0,9,     -999.0,9,     -999.0,9,     -999.0,9,-999.0000, -999.00
33RO20071215,        P18,     149,          1,         22,      12015,2,20080207,       0831,   -57.7502,  -102.9995,       4657,   630.9,   3.3131,  34.2594,2,  34.2618,2,    220.8,2,   222.4,2,   36.30,2,   31.90,2,    0.00,2,    2.20,2,   2.763,2,   1.407,2,   0.6685,2,  2199.8,2,  2302.6,2,   -999.0,9,  -999.00,   7.6214,2,    25.00,-999.000,9,-999.0000,9, -999.00,9, -999.00,5,  -999.0,1,-999.000,9,-999.000,-999.000,9,-999.000,9,   41.97,2,   33.34,2, -999.00,1, -999.00,9, -999.00,9,-999.000,-999.0000,9,-999.0000,9,-999.0000,9,-999.0000,9,-999.0000,9,-999.0000,9,-999.0000,9,-999.0000,9,-999.0000,9,   3.2708,     -999.0,9,     -999.0,9,     -999.0,9,     -999.0,9,     -999.0,1,     -999.0,9,     -999.0,9,-999.0000, -999.00
33RO20071215,        P18,     149,          1,         21,      12020,2,20080207,       0831,   -57.7502,  -102.9995,       4657,   733.3,   3.0914,  34.3121,2,  34.3150,2,    209.7,2,   208.9,2,   44.30,2,   33.00,2,    0.00,2,    2.28,2,   2.188,2,   1.101,2,   0.5352,2,  2213.8,2,  2306.4,2,   -999.0,9,  -999.00,   7.6052,2,    25.00,-999.000,9,-999.0000,9, -999.00,9, -999.00,9,  -999.0,9,-999.000,9,-999.000,-999.000,9,-999.000,9,   41.66,2,   34.77,2, -999.00,1, -999.00,9, -999.00,9,-999.000,-999.0000,9,-999.0000,9,-999.0000,9,-999.0000,9,-999.0000,9,-999.0000,9,-999.0000,9,-999.0000,9,-999.0000,9,   3.0428,     -999.0,9,     -999.0,9,     -999.0,9,     -999.0,9,     -999.0,9,     -999.0,9,     -999.0,9,-999.0000, -999.00
33RO20071215,        P18,     149,          1,         20,      12055,2,20080207,       0831,   -57.7502,  -102.9995,       4657,   833.1,   2.9010,  34.3621,2,  34.3634,2,    198.5,2,   198.8,2,   51.40,2,   33.80,2,    0.00,2,    2.34,2,   1.746,2,   0.883,2,   0.4190,2,  2225.2,2,  2314.6,2,   -999.0,9,  -999.00,   7.5892,2,    25.00,-999.000,9,-999.0000,9, -999.00,9,    0.46,2,  -999.0,1,-999.000,9,-999.000,-999.000,9,-999.000,9,   41.51,2,   35.52,2, -999.00,1, -999.00,9, -999.00,9,-999.000,-999.0000,9,-999.0000,9,-999.0000,9,-999.0000,9,-999.0000,9,-999.0000,9,-999.0000,9,-999.0000,9,-999.0000,9,   2.8464,     -999.0,9,     -999.0,9,     -999.0,9,     -999.0,9,     -999.0,1,     -999.0,9,     -999.0,9,-999.0000, -999.00
33RO20071215,        P18,     149,          1,         19,      12018,2,20080207,       0831,   -57.7502,  -102.9995,       4657,   933.5,   2.7865,  34.4217,2,  34.4233,2,    187.3,2,   186.7,2,   58.90,2,   34.50,2,    0.00,2,    2.38,2,   1.260,2,   0.637,2,   0.2595,2,  2236.5,2,  2319.7,2,   -999.0,9,  -999.00,   7.5798,2,    25.00,-999.000,9,-999.0000,9, -999.00,9, -999.00,9,  -999.0,9,-999.000,9,-999.000,-999.000,9,-999.000,9,   40.69,2,   36.05,2, -999.00,1, -999.00,9, -999.00,9,-999.000,-999.0000,9,-999.0000,9,-999.0000,9,-999.0000,9,-999.0000,9,-999.0000,9,-999.0000,9,-999.0000,9,-999.0000,9,   2.7253,     -999.0,9,     -999.0,9,     -999.0,9,     -999.0,9,     -999.0,9,     -999.0,9,     -999.0,9,-999.0000, -999.00
33RO20071215,        P18,     149,          1,         18,      12025,2,20080207,       0831,   -57.7502,  -102.9995,       4657,  1066.8,   2.6560,  34.4840,2,  34.4853,2,    178.7,2,   178.5,2,   66.00,2,   34.70,2,    0.00,2,    2.40,2,   0.862,2,   0.442,2,   0.2082,2,  2245.3,2,  2328.3,2,   -999.0,9,  -999.00,   7.5724,2,    25.00,-999.000,9,-999.0000,9, -999.00,9,    0.45,2,  -999.0,1,-999.000,9,-999.000,-999.000,9,-999.000,9,   40.12,2,   35.93,2, -999.00,1, -999.00,9, -999.00,9,-999.000,-999.0000,9,-999.0000,9,-999.0000,9,-999.0000,9,-999.0000,9,-999.0000,9,-999.0000,9,-999.0000,9,-999.0000,9,   2.5859,     -999.0,9,     -999.0,9,     -999.0,9,     -999.0,9,     -999.0,1,     -999.0,9,     -999.0,9,-999.0000, -999.00
33RO20071215,        P18,     149,          1,         17,      12016,2,20080207,       0831,   -57.7502,  -102.9995,       4657,  1267.0,   2.4699,  34.5667,2,  34.5685,2,    173.2,2,   173.2,2,   74.20,2,   34.50,2,    0.00,2,    2.38,2,   0.518,2,   0.267,2,   0.0810,2,  2252.4,6,  2337.1,2,   -999.0,9,  -999.00,   7.5680,2,    25.00,-999.000,9,-999.0000,9, -999.00,9, -999.00,9,  -999.0,9,-999.000,9,-999.000,-999.000,9,-999.000,9,   39.96,2,   35.73,2, -999.00,1, -999.00,9, -999.00,9,-999.000,-999.0000,9,-999.0000,9,-999.0000,9,-999.0000,9,-999.0000,9,-999.0000,9,-999.0000,9,-999.0000,9,-999.0000,9,   2.3863,     -999.0,9,     -999.0,9,     -999.0,9,     -999.0,9,     -999.0,9,     -999.0,9,     -999.0,9,-999.0000, -999.00
33RO20071215,        P18,     149,          1,         16,      12051,2,20080207,       0831,   -57.7502,  -102.9995,       4657,  1466.6,   2.3376,  34.6307,2,  34.6311,2,    173.4,2,   174.0,2,   78.90,2,   33.80,2,    0.00,2,    2.33,2,   0.338,2,   0.172,2,   0.0000,2,  2256.2,2,  2342.4,2,   -999.0,9,  -999.00,   7.5799,2,    25.00,-999.000,9,-999.0000,9, -999.00,9,    0.41,2,  -999.0,1,-999.000,9,-999.000,-999.000,9,-999.000,9,   40.13,2,   35.02,2, -999.00,9, -999.00,9, -999.00,9,-999.000,-999.0000,9,-999.0000,9,-999.0000,9,-999.0000,9,-999.0000,9,-999.0000,9,-999.0000,9,-999.0000,9,-999.0000,9,   2.2399,     -999.0,9,     -999.0,9,     -999.0,9,     -999.0,9,     -999.0,9,     -999.0,9,     -999.0,9,-999.0000, -999.00
33RO20071215,        P18,     149,          1,         15,      12014,2,20080207,       0831,   -57.7502,  -102.9995,       4657,  1666.6,   2.2140,  34.6795,2,  34.6804,2,    176.8,2,   177.0,2,   83.30,2,   33.20,2,    0.00,2,    2.28,2,   0.227,2,   0.111,2,   0.0000,2,  2256.6,2,  2349.3,2,   -999.0,9,  -999.00,   7.5941,2,    25.00,-999.000,9,-999.0000,9, -999.00,9, -999.00,9,  -999.0,9,-999.000,9,-999.000,-999.000,9,-999.000,9,   40.21,2,   34.46,2, -999.00,9, -999.00,9, -999.00,9,-999.000,-999.0000,9,-999.0000,9,-999.0000,9,-999.0000,9,-999.0000,9,-999.0000,9,-999.0000,9,-999.0000,9,-999.0000,9,   2.1017,     -999.0,9,     -999.0,9,     -999.0,9,     -999.0,9,     -999.0,9,     -999.0,9,     -999.0,9,-999.0000, -999.00
33RO20071215,        P18,     149,          1,         14,      12013,2,20080207,       0831,   -57.7502,  -102.9995,       4657,  1867.0,   2.0856,  34.7076,2,  34.7068,2,    180.7,2,   181.3,2,   87.10,2,   32.50,2,    0.00,2,    2.24,2,   0.153,2,   0.075,2,   0.0000,2,  2256.8,2,  2351.1,2,   -999.0,9,  -999.00,   7.5991,2,    25.00,-999.000,9,-999.0000,9, -999.00,9, -999.00,9,  -999.0,9,-999.000,9,-999.000,-999.000,9,-999.000,9,   40.15,2,   33.74,2, -999.00,9, -999.00,9, -999.00,9,-999.000,-999.0000,9,-999.0000,9,-999.0000,9,-999.0000,9,-999.0000,9,-999.0000,9,-999.0000,9,-999.0000,9,-999.0000,9,   1.9587,     -999.0,9,     -999.0,9,     -999.0,9,     -999.0,9,     -999.0,9,     -999.0,9,     -999.0,9,-999.0000, -999.00
33RO20071215,        P18,     149,          1,         13,      12012,2,20080207,       0831,   -57.7502,  -102.9995,       4657,  2066.6,   1.9328,  34.7224,2,  34.7225,2,    184.4,2,   185.3,2,   91.70,2,   32.20,2,    0.00,2,    2.22,2,   0.119,6,   0.058,6,   0.0000,6,  2258.1,2,  2356.0,2,   -999.0,9,  -999.00,   7.6062,2,    25.00,-999.000,9,-999.0000,9, -999.00,9,    0.42,2,  -999.0,1,-999.000,9,-999.000,   0.126,3,-999.000,9,   39.73,2,   33.50,2, -999.00,9, -999.00,9, -999.00,9,-999.000,-999.0000,9,-999.0000,9,-999.0000,9,-999.0000,9,-999.0000,9,-999.0000,9,-999.0000,9,-999.0000,9,-999.0000,9,   1.7915,     -999.0,9,     -999.0,9,     -999.0,9,     -999.0,9,     -999.0,9,     -999.0,9,     -999.0,9,-999.0000, -999.00
33RO20071215,        P18,     149,          1,         12,      12031,2,20080207,       0831,   -57.7502,  -102.9995,       4657,  2267.5,   1.7717,  34.7263,2,  34.7257,2,    187.5,2,   187.7,2,   97.40,2,   32.10,2,    0.00,2,    2.23,2,   0.089,2,   0.044,2,   0.0000,2,  2260.0,2,  2361.4,2,   -999.0,9,  -999.00,   7.6145,2,    25.00,-999.000,9,-999.0000,9, -999.00,9, -999.00,9,  -999.0,9,-999.000,9,-999.000,   0.071,3,-999.000,9,   39.43,2,   33.25,2, -999.00,9, -999.00,9, -999.00,9,-999.000,-999.0000,9,-999.0000,9,-999.0000,9,-999.0000,9,-999.0000,9,-999.0000,9,-999.0000,9,-999.0000,9,-999.0000,9,   1.6158,     -999.0,9,     -999.0,9,     -999.0,9,     -999.0,9,     -999.0,9,     -999.0,9,     -999.0,9,-999.0000, -999.00