BOTTLE,20220818CCHSIOAMB
EXPOCODE,SECT_ID,STNNBR,CASTNO,SAMPNO,BTLNBR,BTLNBR_FLAG_W,DATE,TIME,LATITUDE,LONGITUDE,DEPTH,CTDPRS,CTDTMP,CTDSAL,CTDSAL_FLAG_W,SALNTY,SALNTY_FLAG_W,CTDOXY,CTDOXY_FLAG_W,OXYGEN,OXYGEN_FLAG_W,SILCAT,SILCAT_FLAG_W,NITRAT,NITRAT_FLAG_W,NITRIT,NITRIT_FLAG_W,PHSPHT,PHSPHT_FLAG_W,CFC-11,CFC-11_FLAG_W,CFC-12,CFC-12_FLAG_W,SF6,SF6_FLAG_W,TCARBN,TCARBN_FLAG_W,ALKALI,ALKALI_FLAG_W,FCO2,FCO2_FLAG_W,FCO2TMP,PH_SWS,PH_SWS_FLAG_W,PH_TMP,TRITUM,TRITUM_FLAG_W,HELIUM,HELIUM_FLAG_W,DELHE3,DELHE3_FLAG_W,DELC13,DELC13_FLAG_W,DELC14,DELC14_FLAG_W,NEON,NEON_FLAG_W,NEONER,CCL4,CCL4_FLAG_W,POC,POC_FLAG_W,DOC,DOC_FLAG_W,TDN,TDN_FLAG_W,DON,DON_FLAG_W,CHLORA,CHLORA_FLAG_W,ARGON,ARGON_FLAG_W,TRITER,CDOM325,CDOM325_FLAG_W,CDOM340,CDOM340_FLAG_W,CDOM380,CDOM380_FLAG_W,CDOM412,CDOM412_FLAG_W,CDOM443,CDOM443_FLAG_W,CDOM490,CDOM490_FLAG_W,CDOM555,CDOM555_FLAG_W,CDOMSL,CDOMSL_FLAG_W,CDOMSN,CDOMSN_FLAG_W,THETA,D18O_NO3,D18O_NO3_FLAG_W,CDOM2C,CDOM2C_FLAG_W,CDOM3C,CDOM3C_FLAG_W,LAB_DEN,LAB_DEN_FLAG_W,DELSI30,DELSI30_FLAG_W,N2,N2_FLAG_W,D15N_NO3,D15N_NO3_FLAG_W,HELIER,DELHER
,,,,,,,,,,,METERS,DBAR,ITS-90,PSS-78,,PSS-78,,UMOL/KG,,UMOL/KG,,UMOL/KG,,UMOL/KG,,UMOL/KG,,UMOL/KG,,PMOL/KG,,PMOL/KG,,FMOL/KG,,UMOL/KG,,UMOL/KG,,UATM,,DEG C,,,DEG C,TU,,NMOL/KG,,PERCNT,,/MILLE,,/MILLE,,NMOL/KG,,NMOL/KG,PMOL/KG,,UG/KG,,UMOL/KG,,UMOL/KG,,UMOL/KG,,UG/KG,,UMOL/KG,,TU,1/M,,1/M,,1/M,,1/M,,1/M,,1/M,,1/M,,1/NM,,1/NM,,DEG C,/MILLE,,,,,,,,/MILLE,,UMOL/KG,,/MILLE,,NMOL/KG,PERCNT
33RO20071215,        P18,      94,          1,         36,      12017,2,20080115,       1535,   -25.7488,  -103.0007,       2919,     5.7,  23.6860,  36.0513,2,  36.0512,2,    214.7,2,   215.1,2,    0.60,2,    0.30,2,    0.00,2,    0.10,2,   1.929,2,   1.203,2,   0.8895,2,  2077.7,6,  2378.6,2,    356.1,2,    20.00,   8.0060,2,    25.00,-999.000,9,-999.0000,9, -999.00,9, -999.00,9,  -999.0,9,-999.000,9,-999.000,-999.000,9,-999.000,9, -999.00,9, -999.00,9, -999.00,9,    0.02,2, -999.00,9,-999.000,   0.0413,2,   0.0259,2,   0.0058,2,  -0.0030,4,  -0.0034,4,  -0.0031,4,  -0.0044,4,   0.0342,2,   0.0327,2,  23.6848,     -999.0,9,     -999.0,9,     -999.0,9,     -999.0,9,     -999.0,9,     -999.0,9,     -999.0,9,-999.0000, -999.00
33RO20071215,        P18,      94,          1,         35,      12029,2,20080115,       1535,   -25.7488,  -103.0007,       2919,    14.8,  23.6858,  36.0504,2,  36.0522,2,    215.0,2,   215.3,2,    0.60,2,    0.30,2,    0.00,2,    0.11,2,   1.932,6,   1.209,6,   1.0042,6,  2077.7,2,  2378.1,4,   -999.0,9,  -999.00,   8.0094,2,    25.00,-999.000,9,-999.0000,9, -999.00,9, -999.00,9,  -999.0,9,-999.000,9,-999.000,-999.000,9,-999.000,9, -999.00,9, -999.00,9, -999.00,9,    0.02,2, -999.00,9,-999.000,   0.0527,2,   0.0352,2,   0.0116,2,   0.0015,3,   0.0000,4,  -0.0010,4,  -0.0033,4,   0.0276,2,   0.0273,2,  23.6827,     -999.0,9,     -999.0,9,     -999.0,9,     -999.0,9,     -999.0,9,     -999.0,9,     -999.0,9,-999.0000, -999.00
33RO20071215,        P18,      94,          1,         34,      12049,2,20080115,       1535,   -25.7488,  -103.0007,       2919,    26.1,  22.8639,  36.0243,2,  36.0247,2,    220.2,2,   221.1,2,    0.60,2,    0.30,2,    0.00,2,    0.10,2,   2.032,2,   1.265,2,   1.0665,2,  2075.8,2,  2376.1,4,   -999.0,9,  -999.00,   8.0135,2,    25.00,-999.000,9,-999.0000,9, -999.00,9, -999.00,9,  -999.0,9,-999.000,9,-999.000,-999.000,9,-999.000,9, -999.00,9, -999.00,9, -999.00,9,    0.02,2, -999.00,9,-999.000,   0.0481,2,   0.0333,2,   0.0135,2,   0.0031,3,   0.0014,3,  -0.0002,4,  -0.0026,4,   0.0232,2,   0.0234,2,  22.8586,     -999.0,9,     -999.0,9,     -999.0,9,     -999.0,9,     -999.0,9,     -999.0,9,     -999.0,9,-999.0000, -999.00
33RO20071215,        P18,      94,          1,         33,      12027,2,20080115,       1535,   -25.7488,  -103.0007,       2919,    47.2,  21.8026,  36.0109,2,  36.0120,2,    225.9,2,   226.1,2,    0.70,2,    0.30,2,    0.00,2,    0.09,2,   2.111,2,   1.300,2,   1.1706,2,  2071.8,2,  2323.7,4,    353.5,2,    20.00,   8.0066,2,    25.00,-999.000,9,-999.0000,9, -999.00,9, -999.00,9,  -999.0,9,-999.000,9,-999.000,-999.000,9,-999.000,9, -999.00,9, -999.00,9, -999.00,9,    0.02,2, -999.00,9,-999.000,   0.0540,2,   0.0374,2,   0.0156,2,   0.0046,3,   0.0021,2,  -0.0003,4,  -0.0029,4,   0.0226,2,   0.0228,2,  21.7933,     -999.0,9,     -999.0,9,     -999.0,9,     -999.0,9,     -999.0,9,     -999.0,9,     -999.0,9,-999.0000, -999.00
33RO20071215,        P18,      94,          1,         32,      12023,2,20080115,       1535,   -25.7488,  -103.0007,       2919,    67.1,  21.4479,  36.0005,2,  35.9998,2,    226.4,2,   227.5,2,    0.70,2,    0.30,2,    0.00,2,    0.10,2,   2.119,2,   1.314,2,   1.0488,2,  2071.8,2,  2320.8,4,   -999.0,9,  -999.00,   8.2716,2,    25.00,-999.000,9,-999.0000,9, -999.00,9, -999.00,9,  -999.0,9,-999.000,9,-999.000,-999.000,9,-999.000,9, -999.00,9, -999.00,9, -999.00,9,    0.02,2, -999.00,9,-999.000,   0.0517,2,   0.0343,2,   0.0128,2,   0.0028,3,   0.0006,4,  -0.0014,4,  -0.0035,4,   0.0251,2,   0.0255,2,  21.4348,     -999.0,9,     -999.0,9,     -999.0,9,     -999.0,9,     -999.0,9,     -999.0,9,     -999.0,9,-999.0000, -999.00
33RO20071215,        P18,      94,          1,         31,      12037,2,20080115,       1535,   -25.7488,  -103.0007,       2919,    87.8,  21.1153,  35.9822,2,  35.9856,2,    228.6,2,   229.3,2,    0.70,2,    0.30,2,    0.00,2,    0.10,2,   2.154,2,   1.323,2,   1.0287,2,  2068.5,2,  2321.0,4,    351.5,2,    20.00,   8.0195,2,    25.00,-999.000,9,-999.0000,9, -999.00,9, -999.00,9,  -999.0,9,-999.000,9,-999.000,-999.000,9,-999.000,9, -999.00,9, -999.00,9, -999.00,9,    0.03,2, -999.00,9,-999.000,   0.0655,2,   0.0452,2,   0.0194,2,   0.0079,2,   0.0047,2,   0.0016,3,  -0.0021,4,   0.0220,2,   0.0225,2,  21.0984,     -999.0,9,     -999.0,9,     -999.0,9,     -999.0,9,     -999.0,9,     -999.0,9,     -999.0,9,-999.0000, -999.00
33RO20071215,        P18,      94,          1,         30,      12036,2,20080115,       1535,   -25.7488,  -103.0007,       2919,   108.7,  20.7619,  35.9386,2,  35.9381,2,    229.3,2,   229.5,2,    0.70,2,    0.30,2,    0.00,2,    0.07,2,   2.169,2,   1.338,2,   1.0021,2,  2059.4,2,  2317.8,4,   -999.0,9,  -999.00,   8.0126,2,    25.00,-999.000,9,-999.0000,9, -999.00,9, -999.00,9,  -999.0,9,-999.000,9,-999.000,-999.000,9,-999.000,9, -999.00,9, -999.00,9, -999.00,9,    0.04,2, -999.00,9,-999.000,   0.0791,2,   0.0552,2,   0.0248,2,   0.0122,2,   0.0079,2,   0.0033,3,  -0.0014,4,   0.0208,2,   0.0213,2,  20.7412,     -999.0,9,     -999.0,9,     -999.0,9,     -999.0,9,     -999.0,9,     -999.0,9,     -999.0,9,-999.0000, -999.00
33RO20071215,        P18,      94,          1,         29,      12044,2,20080115,       1535,   -25.7488,  -103.0007,       2919,   133.2,  20.4560,  35.9195,2,  35.9179,2,    226.7,2,   236.7,3,    0.70,2,    0.40,2,    0.00,2,    0.09,2,   2.182,2,   1.342,2,   1.0875,2,  2062.1,2,  2314.2,4,    350.3,2,    20.00,   8.0140,2,    25.00,-999.000,9,-999.0000,9, -999.00,9, -999.00,9,  -999.0,9,-999.000,9,-999.000,-999.000,9,-999.000,9, -999.00,9, -999.00,9, -999.00,9,    0.06,2, -999.00,9,-999.000,   0.0778,2,   0.0534,2,   0.0223,2,   0.0096,2,   0.0047,2,   0.0009,3,  -0.0022,4,   0.0227,2,   0.0231,2,  20.4309,     -999.0,9,     -999.0,9,     -999.0,9,     -999.0,9,     -999.0,9,     -999.0,9,     -999.0,9,-999.0000, -999.00
33RO20071215,        P18,      94,          1,         28,      12057,2,20080115,       1535,   -25.7488,  -103.0007,       2919,   158.4,  20.0113,  35.8245,2,  35.8262,2,    226.1,2,   226.5,2,    0.70,2,    0.40,2,    0.00,2,    0.09,2,   2.223,2,   1.364,2,   1.0239,2,  2059.3,2,  2209.8,4,   -999.0,9,  -999.00,   8.0054,2,    25.00,-999.000,9,-999.0000,9, -999.00,9, -999.00,9,  -999.0,9,-999.000,9,-999.000,-999.000,9,-999.000,9, -999.00,9, -999.00,9, -999.00,9,    0.07,2, -999.00,9,-999.000,   0.0728,2,   0.0499,2,   0.0206,2,   0.0089,2,   0.0041,2,   0.0003,4,  -0.0025,4,   0.0226,2,   0.0233,2,  19.9819,     -999.0,9,     -999.0,9,     -999.0,9,     -999.0,9,     -999.0,9,     -999.0,9,     -999.0,9,-999.0000, -999.00
33RO20071215,        P18,      94,          1,         27,      12026,2,20080115,       1535,   -25.7488,  -103.0007,       2919,   180.9,  19.6215,  35.7432,2,  35.7389,2,    225.5,2,   226.2,2,    0.80,2,    0.40,2,    0.00,2,    0.09,2,   2.267,2,   1.383,2,   1.0642,2,  2060.1,2,  2205.8,4,    365.4,2,    20.00,   7.9901,2,    25.00,-999.000,9,-999.0000,9, -999.00,9, -999.00,9,  -999.0,9,-999.000,9,-999.000,-999.000,9,-999.000,9, -999.00,9, -999.00,9, -999.00,9,    0.11,2, -999.00,9,-999.000,   0.0747,2,   0.0522,2,   0.0236,2,   0.0127,2,   0.0070,2,   0.0022,3,  -0.0011,4,   0.0198,2,   0.0208,2,  19.5883,     -999.0,9,     -999.0,9,     -999.0,9,     -999.0,9,     -999.0,9,     -999.0,9,     -999.0,9,-999.0000, -999.00
33RO20071215,        P18,      94,          1,         26,      12030,2,20080115,       1535,   -25.7488,  -103.0007,       2919,   208.4,  18.9931,  35.5942,2,  35.5958,2,    223.0,2,   225.3,2,    0.70,2,    0.40,2,    0.02,2,    0.11,2,   2.312,2,   1.407,2,   1.2237,2,  2058.6,2,  2196.6,4,   -999.0,9,  -999.00,   7.9688,2,    25.00,-999.000,9,-999.0000,9, -999.00,9, -999.00,9,  -999.0,9,-999.000,9,-999.000,-999.000,9,-999.000,9, -999.00,9, -999.00,9, -999.00,9,    0.10,2, -999.00,9,-999.000,   0.0724,2,   0.0504,2,   0.0224,2,   0.0122,2,   0.0058,2,   0.0014,3,  -0.0014,4,   0.0200,2,   0.0211,2,  18.9558,     -999.0,9,     -999.0,9,     -999.0,9,     -999.0,9,     -999.0,9,     -999.0,9,     -999.0,9,-999.0000, -999.00
33RO20071215,        P18,      94,          1,         25,      12024,2,20080115,       1535,   -25.7488,  -103.0007,       2919,   234.2,  18.2564,  35.4390,2,  35.4494,2,    216.2,2,   216.0,2,    0.80,2,    1.30,2,    0.09,2,    0.19,2,   2.390,2,   1.455,2,   1.0901,2,  2065.2,2,  2195.6,4,   -999.0,9,  -999.00,   7.9215,2,    25.00,-999.000,9,-999.0000,9, -999.00,9, -999.00,9,  -999.0,9,-999.000,9,-999.000,-999.000,9,-999.000,9, -999.00,9, -999.00,9, -999.00,9,    0.08,2, -999.00,9,-999.000,   0.0744,2,   0.0520,2,   0.0222,2,   0.0126,2,   0.0064,2,   0.0021,3,  -0.0005,4,   0.0201,2,   0.0216,2,  18.2156,     -999.0,9,     -999.0,9,     -999.0,9,     -999.0,9,     -999.0,9,     -999.0,9,     -999.0,9,-999.0000, -999.00
33RO20071215,        P18,      94,          1,         24,      12019,2,20080115,       1535,   -25.7488,  -103.0007,       2919,   266.2,  16.2621,  35.0217,2,  35.0583,2,    209.1,2,   209.9,2,    1.00,2,    3.80,2,    0.01,2,    0.33,2,   2.609,2,   1.566,2,   1.0639,2,  2068.8,2,  2168.4,4,    453.9,2,    20.00,   7.8305,2,    25.00,-999.000,9,-999.0000,9, -999.00,9, -999.00,9,  -999.0,9,-999.000,9,-999.000,-999.000,9,-999.000,9, -999.00,9, -999.00,9, -999.00,9,    0.02,2, -999.00,9,-999.000,   0.0594,2,   0.0356,2,   0.0077,2,   0.0029,2,   0.0003,4,   0.0022,3,   0.0023,2,   0.0361,2,   0.0350,2,  16.2194,     -999.0,9,     -999.0,9,     -999.0,9,     -999.0,9,     -999.0,9,     -999.0,9,     -999.0,9,-999.0000, -999.00
33RO20071215,        P18,      94,          1,         23,      12022,2,20080115,       1535,   -25.7488,  -103.0007,       2919,   318.5,  13.4833,  34.6146,2,  34.6280,2,    196.3,2,   201.8,3,    2.30,2,    9.80,2,    0.01,2,    0.72,2,   2.943,2,   1.645,2,   0.9122,2,  2093.7,2,  2143.5,4,   -999.0,9,  -999.00,   7.7420,2,    25.00,-999.000,9,-999.0000,9, -999.00,9, -999.00,9,  -999.0,9,-999.000,9,-999.000,-999.000,9,-999.000,9, -999.00,9, -999.00,9, -999.00,9, -999.00,9, -999.00,9,-999.000,   0.0794,2,   0.0514,2,   0.0193,2,   0.0139,2,   0.0073,2,   0.0048,2,   0.0029,2,   0.0193,2,   0.0242,2,  13.4383,     -999.0,9,     -999.0,9,     -999.0,9,     -999.0,9,     -999.0,9,     -999.0,9,     -999.0,9,-999.0000, -999.00
33RO20071215,        P18,      94,          1,         22,      12015,2,20080115,       1535,   -25.7488,  -103.0007,       2919,   366.6,  10.9387,  34.4307,2,  34.4381,2,    178.5,2,   179.0,2,    5.40,2,   16.80,2,    0.00,2,    1.23,2,   2.990,2,   1.626,2,   0.7229,2,  2129.3,2,  2148.2,4,    762.0,2,    20.00,   7.5902,2,    25.00,-999.000,9,-999.0000,9, -999.00,9, -999.00,9,  -999.0,9,-999.000,9,-999.000,-999.000,9,-999.000,9, -999.00,9, -999.00,9, -999.00,9, -999.00,9, -999.00,9,-999.000,   0.0869,2,   0.0583,2,   0.0275,2,   0.0196,2,   0.0108,2,   0.0050,2,   0.0019,2,   0.0162,2,   0.0191,2,  10.8936,     -999.0,9,     -999.0,9,     -999.0,9,     -999.0,9,     -999.0,9,     -999.0,9,     -999.0,9,-999.0000, -999.00
33RO20071215,        P18,      94,          1,         21,      12020,2,20080115,       1535,   -25.7488,  -103.0007,       2919,   432.4,   8.9935,  34.3885,2,  34.3890,2,    143.9,2,   141.2,2,   11.90,2,   25.20,2,    0.00,2,    1.90,2,   2.474,2,   1.264,2,   0.5214,2,  2181.8,6,  2211.2,4,   -999.0,9,  -999.00,   7.6078,2,    25.00,-999.000,9,-999.0000,9, -999.00,9, -999.00,9,  -999.0,9,-999.000,9,-999.000,-999.000,9,-999.000,9, -999.00,9, -999.00,9, -999.00,9, -999.00,9, -999.00,9,-999.000,   0.1086,2,   0.0747,2,   0.0387,2,   0.0294,2,   0.0171,2,   0.0071,2,   0.0023,2,   0.0146,2,   0.0163,2,   8.9463,     -999.0,9,     -999.0,9,     -999.0,9,     -999.0,9,     -999.0,9,     -999.0,9,     -999.0,9,-999.0000, -999.00
33RO20071215,        P18,      94,          1,         20,      12055,2,20080115,       1535,   -25.7488,  -103.0007,       2919,   533.6,   6.8475,  34.3422,2,  34.3433,2,    182.1,2,   179.2,2,   13.10,2,   28.40,2,    0.00,2,    1.93,2,   2.472,2,   1.241,2,   0.3848,2,  2176.8,2,  2244.9,4,   1044.0,2,    20.00,   7.6353,2,    25.00,-999.000,9,-999.0000,9, -999.00,9, -999.00,9,  -999.0,9,-999.000,9,-999.000,-999.000,9,-999.000,9, -999.00,9, -999.00,9, -999.00,9, -999.00,9, -999.00,9,-999.000,   0.1188,2,   0.0830,2,   0.0458,2,   0.0354,2,   0.0229,2,   0.0112,2,   0.0042,2,   0.0132,2,   0.0144,2,   6.7974,     -999.0,9,     -999.0,9,     -999.0,9,     -999.0,9,     -999.0,9,     -999.0,9,     -999.0,9,-999.0000, -999.00
33RO20071215,        P18,      94,          1,         19,      12018,2,20080115,       1535,   -25.7488,  -103.0007,       2919,   633.7,   5.9161,  34.3114,2,  34.3116,2,    202.2,2,   201.1,2,   14.90,2,   28.90,2,    0.00,2,    1.92,2,   2.129,2,   1.062,2,   0.2536,2,  2171.6,2,  2249.3,4,   -999.0,9,  -999.00,   7.6308,2,    25.00,-999.000,9,-999.0000,9, -999.00,9, -999.00,9,  -999.0,9,-999.000,9,-999.000,-999.000,9,-999.000,9, -999.00,9, -999.00,9, -999.00,9, -999.00,9, -999.00,9,-999.000,   0.0824,2,   0.0524,2,   0.0249,2,   0.0174,2,   0.0094,2,   0.0027,2,  -0.0005,4,   0.0165,2,   0.0203,2,   5.8607,     -999.0,9,     -999.0,9,     -999.0,9,     -999.0,9,     -999.0,9,     -999.0,9,     -999.0,9,-999.0000, -999.00
33RO20071215,        P18,      94,          1,         18,      12025,2,20080115,       1535,   -25.7488,  -103.0007,       2919,   732.8,   5.3537,  34.3034,2,  34.3045,2,    198.3,2,   197.2,2,   19.90,2,   30.60,2,    0.00,2,    2.03,2,   1.432,2,   0.721,2,   0.1457,2,  2180.0,2,  2286.7,4,   1003.2,2,    20.00,   7.5829,2,    25.00,-999.000,9,-999.0000,9, -999.00,9, -999.00,9,  -999.0,9,-999.000,9,-999.000,-999.000,9,-999.000,9, -999.00,9, -999.00,9, -999.00,9, -999.00,9, -999.00,9,-999.000,   0.0956,2,   0.0633,2,   0.0330,2,   0.0238,2,   0.0140,2,   0.0049,2,   0.0002,3,   0.0149,2,   0.0173,2,   5.2923,     -999.0,9,     -999.0,9,     -999.0,9,     -999.0,9,     -999.0,9,     -999.0,9,     -999.0,9,-999.0000, -999.00
33RO20071215,        P18,      94,          1,         17,      12016,2,20080115,       1535,   -25.7488,  -103.0007,       2919,   833.3,   4.7745,  34.3250,2,  34.3251,2,    178.6,2,   175.6,2,   30.50,2,   33.60,2,    0.00,2,    2.25,2,   0.637,2,   0.327,2,   0.0830,2,  2201.5,2,  2293.1,2,   -999.0,9,  -999.00,   7.5400,2,    25.00,-999.000,9,-999.0000,9, -999.00,9, -999.00,9,  -999.0,9,-999.000,9,-999.000,-999.000,9,-999.000,9, -999.00,9, -999.00,9, -999.00,9, -999.00,9, -999.00,9,-999.000,   0.1021,2,   0.0679,2,   0.0350,2,   0.0249,2,   0.0142,2,   0.0044,2,  -0.0003,4,   0.0154,2,   0.0176,2,   4.7077,     -999.0,9,     -999.0,9,     -999.0,9,     -999.0,9,     -999.0,9,     -999.0,9,     -999.0,9,-999.0000, -999.00
33RO20071215,        P18,      94,          1,         16,      12051,2,20080115,       1535,   -25.7488,  -103.0007,       2919,   934.5,   4.3395,  34.3813,2,  34.3838,2,    149.3,2,   148.1,2,   45.20,2,   36.40,2,    0.00,2,    2.46,2,   0.213,2,   0.112,2,   0.0143,2,  2230.9,2,  2304.2,2,   1249.8,2,    20.00,   7.5261,2,    25.00,-999.000,9,-999.0000,9, -999.00,9, -999.00,9,  -999.0,9,-999.000,9,-999.000,-999.000,9,-999.000,9, -999.00,9, -999.00,9, -999.00,9, -999.00,9, -999.00,9,-999.000,   0.1159,2,   0.0787,2,   0.0422,2,   0.0297,2,   0.0176,2,   0.0058,2,   0.0002,3,   0.0152,2,   0.0166,2,   4.2670,     -999.0,9,     -999.0,9,     -999.0,9,     -999.0,9,     -999.0,9,     -999.0,9,     -999.0,9,-999.0000, -999.00
33RO20071215,        P18,      94,          1,         15,      12014,2,20080115,       1535,   -25.7488,  -103.0007,       2919,  1032.2,   4.0380,  34.4442,2,  34.4419,2,    129.9,2,   129.6,2,   60.20,2,   38.00,2,    0.00,2,    2.61,2,   0.054,2,   0.029,2,   0.0000,2,  2256.5,2,  2321.7,2,   -999.0,9,  -999.00,   7.5263,2,    25.00,-999.000,9,-999.0000,9, -999.00,9, -999.00,9,  -999.0,9,-999.000,9,-999.000,-999.000,9,-999.000,9, -999.00,9, -999.00,9, -999.00,9, -999.00,9, -999.00,9,-999.000,   0.1174,2,   0.0795,2,   0.0424,2,   0.0293,2,   0.0171,2,   0.0050,2,  -0.0004,4,   0.0155,2,   0.0169,2,   3.9595,     -999.0,9,     -999.0,9,     -999.0,9,     -999.0,9,     -999.0,9,     -999.0,9,     -999.0,9,-999.0000, -999.00
33RO20071215,        P18,      94,          1,         14,      12013,2,20080115,       1535,   -25.7488,  -103.0007,       2919,  1132.9,   3.7251,  34.4804,2,  34.4812,2,    128.7,2,   128.7,2,   70.40,2,   38.00,2,    0.00,2,    2.62,2,   0.014,2,   0.009,2,   0.0000,2,  2265.6,2,  2335.0,2,   1329.0,2,    20.00,   7.5338,2,    25.00,-999.000,9,-999.0000,9, -999.00,9, -999.00,9,  -999.0,9,-999.000,9,-999.000,-999.000,9,-999.000,9, -999.00,9, -999.00,9, -999.00,9, -999.00,9, -999.00,9,-999.000,   0.1228,2,   0.0838,2,   0.0453,2,   0.0312,2,   0.0187,2,   0.0061,2,   0.0002,3,   0.0154,2,   0.0165,2,   3.6407,     -999.0,9,     -999.0,9,     -999.0,9,     -999.0,9,     -999.0,9,     -999.0,9,     -999.0,9,-999.0000, -999.00
33RO20071215,        P18,      94,          1,         13,      12012,2,20080115,       1535,   -25.7488,  -103.0007,       2919,  1234.6,   3.4246,  34.5137,2,  34.5142,2,    133.7,2,   133.7,2,   78.80,2,   37.60,2,    0.00,2,    2.58,2,   0.002,2,   0.002,2,   0.0000,2,  2270.5,2,  2342.4,2,   -999.0,9,  -999.00,   7.5398,2,    25.00,-999.000,9,-999.0000,9, -999.00,9, -999.00,9,  -999.0,9,-999.000,9,-999.000,-999.000,9,-999.000,9, -999.00,9, -999.00,9, -999.00,9, -999.00,9, -999.00,9,-999.000,   0.1340,2,   0.0919,2,   0.0487,2,   0.0337,2,   0.0213,2,   0.0090,3,   0.0024,3,   0.0149,2,   0.0164,4,   3.3344,     -999.0,9,     -999.0,9,     -999.0,9,     -999.0,9,     -999.0,9,     -999.0,9,     -999.0,9,-999.0000, -999.00
33RO20071215,        P18,      94,          1,         12,      12031,2,20080115,       1535,   -25.7488,  -103.0007,       2919,  1334.2,   3.1226,  34.5337,2,  34.5337,2,    137.8,2,   138.2,2,   84.50,2,   37.30,2,    0.00,2,    2.55,2,-999.000,9,-999.000,9,-999.0000,9,  2276.2,2,  2351.6,2,   1277.1,2,    20.00,   7.5458,2,    25.00,-999.000,9,-999.0000,9, -999.00,9, -999.00,9,  -999.0,9,-999.000,9,-999.000,-999.000,9,-999.000,9, -999.00,9, -999.00,9, -999.00,9, -999.00,9, -999.00,9,-999.000,   0.1025,2,   0.0638,2,   0.0279,2,   0.0188,2,   0.0118,2,   0.0066,2,   0.0036,2,   0.0167,2,   0.0218,2,   3.0272,     -999.0,9,     -999.0,9,     -999.0,9,     -999.0,9,     -999.0,9,     -999.0,9,     -999.0,9,-999.0000, -999.00