BOTTLE,20220818CCHSIOAMB
EXPOCODE,SECT_ID,STNNBR,CASTNO,SAMPNO,BTLNBR,BTLNBR_FLAG_W,DATE,TIME,LATITUDE,LONGITUDE,DEPTH,CTDPRS,CTDTMP,CTDSAL,CTDSAL_FLAG_W,SALNTY,SALNTY_FLAG_W,CTDOXY,CTDOXY_FLAG_W,OXYGEN,OXYGEN_FLAG_W,SILCAT,SILCAT_FLAG_W,NITRAT,NITRAT_FLAG_W,NITRIT,NITRIT_FLAG_W,PHSPHT,PHSPHT_FLAG_W,CFC-11,CFC-11_FLAG_W,CFC-12,CFC-12_FLAG_W,SF6,SF6_FLAG_W,TCARBN,TCARBN_FLAG_W,ALKALI,ALKALI_FLAG_W,FCO2,FCO2_FLAG_W,FCO2TMP,PH_SWS,PH_SWS_FLAG_W,PH_TMP,TRITUM,TRITUM_FLAG_W,HELIUM,HELIUM_FLAG_W,DELHE3,DELHE3_FLAG_W,DELC13,DELC13_FLAG_W,DELC14,DELC14_FLAG_W,NEON,NEON_FLAG_W,NEONER,CCL4,CCL4_FLAG_W,POC,POC_FLAG_W,DOC,DOC_FLAG_W,TDN,TDN_FLAG_W,DON,DON_FLAG_W,CHLORA,CHLORA_FLAG_W,ARGON,ARGON_FLAG_W,TRITER,CDOM325,CDOM325_FLAG_W,CDOM340,CDOM340_FLAG_W,CDOM380,CDOM380_FLAG_W,CDOM412,CDOM412_FLAG_W,CDOM443,CDOM443_FLAG_W,CDOM490,CDOM490_FLAG_W,CDOM555,CDOM555_FLAG_W,CDOMSL,CDOMSL_FLAG_W,CDOMSN,CDOMSN_FLAG_W,THETA,D18O_NO3,D18O_NO3_FLAG_W,CDOM2C,CDOM2C_FLAG_W,CDOM3C,CDOM3C_FLAG_W,LAB_DEN,LAB_DEN_FLAG_W,DELSI30,DELSI30_FLAG_W,N2,N2_FLAG_W,D15N_NO3,D15N_NO3_FLAG_W,HELIER,DELHER
,,,,,,,,,,,METERS,DBAR,ITS-90,PSS-78,,PSS-78,,UMOL/KG,,UMOL/KG,,UMOL/KG,,UMOL/KG,,UMOL/KG,,UMOL/KG,,PMOL/KG,,PMOL/KG,,FMOL/KG,,UMOL/KG,,UMOL/KG,,UATM,,DEG C,,,DEG C,TU,,NMOL/KG,,PERCNT,,/MILLE,,/MILLE,,NMOL/KG,,NMOL/KG,PMOL/KG,,UG/KG,,UMOL/KG,,UMOL/KG,,UMOL/KG,,UG/KG,,UMOL/KG,,TU,1/M,,1/M,,1/M,,1/M,,1/M,,1/M,,1/M,,1/NM,,1/NM,,DEG C,/MILLE,,,,,,,,/MILLE,,UMOL/KG,,/MILLE,,NMOL/KG,PERCNT
33RO20071215,        P18,     119,          1,         36,      12017,2,20080128,       1745,   -40.3343,  -103.0000,       4014,     5.3,  17.7869,  33.9676,2,  33.9690,2,    243.0,2,   242.3,2,    0.70,2,    8.30,2,    0.23,2,    0.59,2,   2.568,2,   1.535,2,   1.3640,2,  2039.2,6,  2256.2,2,   -999.0,9,  -999.00,   7.9127,2,    25.00,-999.000,9,-999.0000,9, -999.00,9, -999.00,9,  -999.0,9,-999.000,9,-999.000,-999.000,9,-999.000,9, -999.00,9, -999.00,9, -999.00,9, -999.00,9, -999.00,9,-999.000,-999.0000,9,-999.0000,9,-999.0000,9,-999.0000,9,-999.0000,9,-999.0000,9,-999.0000,9,-999.0000,9,-999.0000,9,  17.7860,     -999.0,9,     -999.0,9,     -999.0,9,     -999.0,9,     -999.0,9,     -999.0,9,     -999.0,9,-999.0000, -999.00
33RO20071215,        P18,     119,          1,         35,      12029,2,20080128,       1745,   -40.3343,  -103.0000,       4014,    15.5,  17.4867,  34.0220,2,  34.0206,2,    244.0,2,   244.0,2,    0.70,2,    8.30,2,    0.21,2,    0.59,2,-999.000,9,-999.000,9,-999.0000,9,  2041.8,2,  -999.0,9,   -999.0,9,  -999.00,   7.9078,2,    25.00,-999.000,9,-999.0000,9, -999.00,9, -999.00,9,  -999.0,9,-999.000,9,-999.000,-999.000,9,-999.000,9, -999.00,9, -999.00,9, -999.00,9, -999.00,9, -999.00,9,-999.000,-999.0000,9,-999.0000,9,-999.0000,9,-999.0000,9,-999.0000,9,-999.0000,9,-999.0000,9,-999.0000,9,-999.0000,9,  17.4841,     -999.0,9,     -999.0,9,     -999.0,9,     -999.0,9,     -999.0,9,     -999.0,9,     -999.0,9,-999.0000, -999.00
33RO20071215,        P18,     119,          1,         34,      12049,2,20080128,       1745,   -40.3343,  -103.0000,       4014,    33.3,  16.0419,  34.0237,2,  34.0265,2,    253.6,2,   261.1,2,    0.80,2,    8.60,2,    0.15,2,    0.62,2,   2.906,2,   1.701,2,   1.3573,2,  2046.1,2,  -999.0,9,   -999.0,9,  -999.00,   7.8946,2,    25.00,-999.000,9,-999.0000,9, -999.00,9, -999.00,9,  -999.0,9,-999.000,9,-999.000,-999.000,9,-999.000,9, -999.00,9, -999.00,9, -999.00,9, -999.00,9, -999.00,9,-999.000,-999.0000,9,-999.0000,9,-999.0000,9,-999.0000,9,-999.0000,9,-999.0000,9,-999.0000,9,-999.0000,9,-999.0000,9,  16.0367,     -999.0,9,     -999.0,9,     -999.0,9,     -999.0,9,     -999.0,9,     -999.0,9,     -999.0,9,-999.0000, -999.00
33RO20071215,        P18,     119,          1,         33,      12027,2,20080128,       1745,   -40.3343,  -103.0000,       4014,    57.9,  12.5697,  34.0500,2,  34.0552,2,    282.7,2,   279.7,2,    0.90,2,    9.30,2,    0.14,2,    0.67,2,-999.000,9,-999.000,9,-999.0000,9,  2055.5,2,  -999.0,9,   -999.0,9,  -999.00,   7.8800,2,    25.00,-999.000,9,-999.0000,9, -999.00,9, -999.00,9,  -999.0,9,-999.000,9,-999.000,-999.000,9,-999.000,9, -999.00,9, -999.00,9, -999.00,9, -999.00,9, -999.00,9,-999.000,-999.0000,9,-999.0000,9,-999.0000,9,-999.0000,9,-999.0000,9,-999.0000,9,-999.0000,9,-999.0000,9,-999.0000,9,  12.5620,     -999.0,9,     -999.0,9,     -999.0,9,     -999.0,9,     -999.0,9,     -999.0,9,     -999.0,9,-999.0000, -999.00
33RO20071215,        P18,     119,          1,         32,      12023,2,20080128,       1745,   -40.3343,  -103.0000,       4014,    83.6,  11.3631,  34.0789,2,  34.0786,2,    272.2,2,   272.0,2,    1.00,2,   10.30,2,    0.29,2,    0.74,2,   3.445,2,   1.978,2,   1.5982,2,  2067.8,2,  -999.0,9,   -999.0,9,  -999.00,   7.8511,2,    25.00,-999.000,9,-999.0000,9, -999.00,9, -999.00,9,  -999.0,9,-999.000,9,-999.000,-999.000,9,-999.000,9, -999.00,9, -999.00,9, -999.00,9, -999.00,9, -999.00,9,-999.000,-999.0000,9,-999.0000,9,-999.0000,9,-999.0000,9,-999.0000,9,-999.0000,9,-999.0000,9,-999.0000,9,-999.0000,9,  11.3527,     -999.0,9,     -999.0,9,     -999.0,9,     -999.0,9,     -999.0,9,     -999.0,9,     -999.0,9,-999.0000, -999.00
33RO20071215,        P18,     119,          1,         31,      12037,2,20080128,       1745,   -40.3343,  -103.0000,       4014,   108.3,  10.4580,  34.0668,2,  34.0680,2,    266.7,2,   271.1,2,    1.30,2,   12.20,2,    0.49,2,    0.88,2,-999.000,9,-999.000,9,-999.0000,9,  2078.6,2,  -999.0,9,   -999.0,9,  -999.00,   7.8344,2,    25.00,-999.000,9,-999.0000,9, -999.00,9, -999.00,9,  -999.0,9,-999.000,9,-999.000,-999.000,9,-999.000,9, -999.00,9, -999.00,9, -999.00,9, -999.00,9, -999.00,9,-999.000,-999.0000,9,-999.0000,9,-999.0000,9,-999.0000,9,-999.0000,9,-999.0000,9,-999.0000,9,-999.0000,9,-999.0000,9,  10.4453,     -999.0,9,     -999.0,9,     -999.0,9,     -999.0,9,     -999.0,9,     -999.0,9,     -999.0,9,-999.0000, -999.00
33RO20071215,        P18,     119,          1,         30,      12036,2,20080128,       1745,   -40.3343,  -103.0000,       4014,   132.2,   9.8554,  34.0734,2,  34.0766,2,    268.0,2,   268.2,2,    1.50,2,   13.50,2,    0.63,2,    0.97,2,   3.721,2,   2.117,2,   1.6012,2,  2085.7,2,  -999.0,9,   -999.0,9,  -999.00,   7.8101,2,    25.00,-999.000,9,-999.0000,9, -999.00,9, -999.00,9,  -999.0,9,-999.000,9,-999.000,-999.000,9,-999.000,9, -999.00,9, -999.00,9, -999.00,9, -999.00,9, -999.00,9,-999.000,-999.0000,9,-999.0000,9,-999.0000,9,-999.0000,9,-999.0000,9,-999.0000,9,-999.0000,9,-999.0000,9,-999.0000,9,   9.8405,     -999.0,9,     -999.0,9,     -999.0,9,     -999.0,9,     -999.0,9,     -999.0,9,     -999.0,9,-999.0000, -999.00
33RO20071215,        P18,     119,          1,         29,      12044,2,20080128,       1745,   -40.3343,  -103.0000,       4014,   157.3,   9.1542,  34.1256,2,  34.1231,2,    262.0,2,   260.3,2,    1.80,2,   15.60,2,    0.17,2,    1.04,2,-999.000,9,-999.000,9,-999.0000,9,  2097.1,2,  -999.0,9,   -999.0,9,  -999.00,   7.7934,2,    25.00,-999.000,9,-999.0000,9, -999.00,9, -999.00,9,  -999.0,9,-999.000,9,-999.000,-999.000,9,-999.000,9, -999.00,9, -999.00,9, -999.00,9, -999.00,9, -999.00,9,-999.000,-999.0000,9,-999.0000,9,-999.0000,9,-999.0000,9,-999.0000,9,-999.0000,9,-999.0000,9,-999.0000,9,-999.0000,9,   9.1372,     -999.0,9,     -999.0,9,     -999.0,9,     -999.0,9,     -999.0,9,     -999.0,9,     -999.0,9,-999.0000, -999.00
33RO20071215,        P18,     119,          1,         28,      12057,2,20080128,       1745,   -40.3343,  -103.0000,       4014,   182.1,   8.4636,  34.1640,2,  34.1623,2,    256.3,2,   255.1,2,    2.50,2,   17.60,2,    0.02,2,    1.17,2,   3.966,6,   2.206,6,   1.5275,6,  2110.3,2,  -999.0,9,   -999.0,9,  -999.00,   7.7689,2,    25.00,-999.000,9,-999.0000,9, -999.00,9, -999.00,9,  -999.0,9,-999.000,9,-999.000,-999.000,9,-999.000,9, -999.00,9, -999.00,9, -999.00,9, -999.00,9, -999.00,9,-999.000,-999.0000,9,-999.0000,9,-999.0000,9,-999.0000,9,-999.0000,9,-999.0000,9,-999.0000,9,-999.0000,9,-999.0000,9,   8.4447,     -999.0,9,     -999.0,9,     -999.0,9,     -999.0,9,     -999.0,9,     -999.0,9,     -999.0,9,-999.0000, -999.00
33RO20071215,        P18,     119,          1,         27,      12026,2,20080128,       1745,   -40.3343,  -103.0000,       4014,   216.3,   7.7332,  34.2275,2,  34.2258,2,    247.7,2,   248.1,2,    3.60,2,   19.90,2,    0.01,2,    1.30,2,-999.000,9,-999.000,9,-999.0000,9,  2125.1,2,  -999.0,9,   -999.0,9,  -999.00,   7.7402,2,    25.00,-999.000,9,-999.0000,9, -999.00,9, -999.00,9,  -999.0,9,-999.000,9,-999.000,-999.000,9,-999.000,9, -999.00,9, -999.00,9, -999.00,9, -999.00,9, -999.00,9,-999.000,-999.0000,9,-999.0000,9,-999.0000,9,-999.0000,9,-999.0000,9,-999.0000,9,-999.0000,9,-999.0000,9,-999.0000,9,   7.7120,     -999.0,9,     -999.0,9,     -999.0,9,     -999.0,9,     -999.0,9,     -999.0,9,     -999.0,9,-999.0000, -999.00
33RO20071215,        P18,     119,          1,         26,      12030,2,20080128,       1745,   -40.3343,  -103.0000,       4014,   266.4,   7.0084,  34.2686,2,  34.2682,2,    249.7,2,   248.8,2,    5.30,2,   21.70,2,    0.00,2,    1.43,2,   4.117,2,   2.181,2,   1.2580,2,  2136.8,2,  -999.0,9,   -999.0,9,  -999.00,   7.7218,2,    25.00,-999.000,9,-999.0000,9, -999.00,9, -999.00,9,  -999.0,9,-999.000,9,-999.000,-999.000,9,-999.000,9, -999.00,9, -999.00,9, -999.00,9, -999.00,9, -999.00,9,-999.000,-999.0000,9,-999.0000,9,-999.0000,9,-999.0000,9,-999.0000,9,-999.0000,9,-999.0000,9,-999.0000,9,-999.0000,9,   6.9836,     -999.0,9,     -999.0,9,     -999.0,9,     -999.0,9,     -999.0,9,     -999.0,9,     -999.0,9,-999.0000, -999.00
33RO20071215,        P18,     119,          1,         25,      12024,2,20080128,       1745,   -40.3343,  -103.0000,       4014,   318.3,   6.6347,  34.2738,2,  34.2737,2,    252.1,2,   253.8,2,    6.30,2,   22.20,2,    0.00,2,    1.46,2,   4.184,2,   2.204,2,   1.1933,2,  2137.8,2,  -999.0,9,   -999.0,9,  -999.00,   7.7265,2,    25.00,-999.000,9,-999.0000,9, -999.00,9, -999.00,9,  -999.0,9,-999.000,9,-999.000,-999.000,9,-999.000,9, -999.00,9, -999.00,9, -999.00,9, -999.00,9, -999.00,9,-999.000,-999.0000,9,-999.0000,9,-999.0000,9,-999.0000,9,-999.0000,9,-999.0000,9,-999.0000,9,-999.0000,9,-999.0000,9,   6.6059,     -999.0,9,     -999.0,9,     -999.0,9,     -999.0,9,     -999.0,9,     -999.0,9,     -999.0,9,-999.0000, -999.00
33RO20071215,        P18,     119,          1,         24,      12019,2,20080128,       1745,   -40.3343,  -103.0000,       4014,   367.5,   6.4515,  34.2949,2,  34.2945,2,    256.3,2,   256.3,2,    7.20,2,   22.50,2,    0.00,2,    1.47,2,   4.154,2,   2.169,2,   1.2088,2,  2139.7,2,  -999.0,9,   -999.0,9,  -999.00,   7.7209,2,    25.00,-999.000,9,-999.0000,9, -999.00,9, -999.00,9,  -999.0,9,-999.000,9,-999.000,-999.000,9,-999.000,9, -999.00,9, -999.00,9, -999.00,9, -999.00,9, -999.00,9,-999.000,-999.0000,9,-999.0000,9,-999.0000,9,-999.0000,9,-999.0000,9,-999.0000,9,-999.0000,9,-999.0000,9,-999.0000,9,   6.4185,     -999.0,9,     -999.0,9,     -999.0,9,     -999.0,9,     -999.0,9,     -999.0,9,     -999.0,9,-999.0000, -999.00
33RO20071215,        P18,     119,          1,         23,      12022,2,20080128,       1745,   -40.3343,  -103.0000,       4014,   431.7,   6.2758,  34.2984,2,  34.2980,2,    258.3,2,   258.1,2,    8.00,2,   22.90,2,    0.00,2,    1.50,2,-999.000,9,-999.000,9,-999.0000,9,  -999.0,9,  -999.0,9,   -999.0,9,  -999.00,-999.0000,9,  -999.00,-999.000,9,-999.0000,9, -999.00,9, -999.00,9,  -999.0,9,-999.000,9,-999.000,-999.000,9,-999.000,9, -999.00,9, -999.00,9, -999.00,9, -999.00,9, -999.00,9,-999.000,-999.0000,9,-999.0000,9,-999.0000,9,-999.0000,9,-999.0000,9,-999.0000,9,-999.0000,9,-999.0000,9,-999.0000,9,   6.2375,     -999.0,9,     -999.0,9,     -999.0,9,     -999.0,9,     -999.0,9,     -999.0,9,     -999.0,9,-999.0000, -999.00
33RO20071215,        P18,     119,          1,         22,      12015,2,20080128,       1745,   -40.3343,  -103.0000,       4014,   533.1,   6.0316,  34.2918,2,  34.2913,2,    255.2,2,   254.6,2,    9.00,2,   23.80,2,    0.00,2,    1.56,2,   3.762,2,   1.908,2,   0.8061,2,  2144.2,2,  -999.0,9,   -999.0,9,  -999.00,   7.7164,2,    25.00,-999.000,9,-999.0000,9, -999.00,9, -999.00,9,  -999.0,9,-999.000,9,-999.000,-999.000,9,-999.000,9, -999.00,9, -999.00,9, -999.00,9, -999.00,9, -999.00,9,-999.000,-999.0000,9,-999.0000,9,-999.0000,9,-999.0000,9,-999.0000,9,-999.0000,9,-999.0000,9,-999.0000,9,-999.0000,9,   5.9849,     -999.0,9,     -999.0,9,     -999.0,9,     -999.0,9,     -999.0,9,     -999.0,9,     -999.0,9,-999.0000, -999.00
33RO20071215,        P18,     119,          1,         21,      12020,2,20080128,       1745,   -40.3343,  -103.0000,       4014,   633.6,   5.6721,  34.2737,2,  34.2723,2,    250.2,2,   250.1,2,   11.00,2,   25.00,2,    0.00,2,    1.65,2,-999.000,9,-999.000,9,-999.0000,9,  -999.0,9,  -999.0,9,   -999.0,9,  -999.00,-999.0000,9,  -999.00,-999.000,9,-999.0000,9, -999.00,9, -999.00,9,  -999.0,9,-999.000,9,-999.000,-999.000,9,-999.000,9, -999.00,9, -999.00,9, -999.00,9, -999.00,9, -999.00,9,-999.000,-999.0000,9,-999.0000,9,-999.0000,9,-999.0000,9,-999.0000,9,-999.0000,9,-999.0000,9,-999.0000,9,-999.0000,9,   5.6180,     -999.0,9,     -999.0,9,     -999.0,9,     -999.0,9,     -999.0,9,     -999.0,9,     -999.0,9,-999.0000, -999.00
33RO20071215,        P18,     119,          1,         20,      12055,2,20080128,       1745,   -40.3343,  -103.0000,       4014,   732.4,   5.2771,  34.2642,2,  34.2643,2,    238.3,2,   238.6,2,   14.70,2,   26.80,2,    0.00,2,    1.78,2,   2.666,2,   1.326,2,   0.4986,2,  2159.2,2,  -999.0,9,   -999.0,9,  -999.00,   7.7028,2,    25.00,-999.000,9,-999.0000,9, -999.00,9, -999.00,9,  -999.0,9,-999.000,9,-999.000,-999.000,9,-999.000,9, -999.00,9, -999.00,9, -999.00,9, -999.00,9, -999.00,9,-999.000,-999.0000,9,-999.0000,9,-999.0000,9,-999.0000,9,-999.0000,9,-999.0000,9,-999.0000,9,-999.0000,9,-999.0000,9,   5.2163,     -999.0,9,     -999.0,9,     -999.0,9,     -999.0,9,     -999.0,9,     -999.0,9,     -999.0,9,-999.0000, -999.00
33RO20071215,        P18,     119,          1,         19,      12018,2,20080128,       1745,   -40.3343,  -103.0000,       4014,   834.6,   4.8325,  34.2753,2,  34.2755,2,    220.9,2,   221.0,2,   20.80,2,   29.10,2,    0.00,2,    1.96,2,-999.000,9,-999.000,9,-999.0000,9,  -999.0,9,  -999.0,9,   -999.0,9,  -999.00,-999.0000,9,  -999.00,-999.000,9,-999.0000,9, -999.00,9, -999.00,9,  -999.0,9,-999.000,9,-999.000,-999.000,9,-999.000,9, -999.00,9, -999.00,9, -999.00,9, -999.00,9, -999.00,9,-999.000,-999.0000,9,-999.0000,9,-999.0000,9,-999.0000,9,-999.0000,9,-999.0000,9,-999.0000,9,-999.0000,9,-999.0000,9,   4.7654,     -999.0,9,     -999.0,9,     -999.0,9,     -999.0,9,     -999.0,9,     -999.0,9,     -999.0,9,-999.0000, -999.00
33RO20071215,        P18,     119,          1,         18,      12025,2,20080128,       1745,   -40.3343,  -103.0000,       4014,   932.3,   4.4063,  34.2942,2,  34.2962,2,    207.1,2,   206.8,2,   28.10,2,   31.00,2,    0.00,2,    2.11,2,   1.045,2,   0.537,2,   0.1104,2,  2189.2,2,  -999.0,9,   -999.0,9,  -999.00,   7.6280,2,    25.00,-999.000,9,-999.0000,9, -999.00,9, -999.00,9,  -999.0,9,-999.000,9,-999.000,-999.000,9,-999.000,9, -999.00,9, -999.00,9, -999.00,9, -999.00,9, -999.00,9,-999.000,-999.0000,9,-999.0000,9,-999.0000,9,-999.0000,9,-999.0000,9,-999.0000,9,-999.0000,9,-999.0000,9,-999.0000,9,   4.3337,     -999.0,9,     -999.0,9,     -999.0,9,     -999.0,9,     -999.0,9,     -999.0,9,     -999.0,9,-999.0000, -999.00
33RO20071215,        P18,     119,          1,         17,      12016,2,20080128,       1745,   -40.3343,  -103.0000,       4014,  1033.3,   4.0006,  34.3229,2,  34.3239,2,    192.6,2,   191.7,2,   36.70,2,   32.90,2,    0.00,2,    2.24,2,-999.000,9,-999.000,9,-999.0000,9,  -999.0,9,  -999.0,9,   -999.0,9,  -999.00,-999.0000,9,  -999.00,-999.000,9,-999.0000,9, -999.00,9, -999.00,9,  -999.0,9,-999.000,9,-999.000,-999.000,9,-999.000,9, -999.00,9, -999.00,9, -999.00,9, -999.00,9, -999.00,9,-999.000,-999.0000,9,-999.0000,9,-999.0000,9,-999.0000,9,-999.0000,9,-999.0000,9,-999.0000,9,-999.0000,9,-999.0000,9,   3.9225,     -999.0,9,     -999.0,9,     -999.0,9,     -999.0,9,     -999.0,9,     -999.0,9,     -999.0,9,-999.0000, -999.00
33RO20071215,        P18,     119,          1,         16,      12051,2,20080128,       1745,   -40.3343,  -103.0000,       4014,  1133.7,   3.6242,  34.3664,2,  34.3656,2,    175.4,2,   175.7,2,   47.00,2,   34.50,2,    0.00,2,    2.38,2,   0.253,2,   0.146,2,   0.0000,2,  2224.5,2,  -999.0,9,   -999.0,9,  -999.00,   7.5729,2,    25.00,-999.000,9,-999.0000,9, -999.00,9, -999.00,9,  -999.0,9,-999.000,9,-999.000,-999.000,9,-999.000,9, -999.00,9, -999.00,9, -999.00,9, -999.00,9, -999.00,9,-999.000,-999.0000,9,-999.0000,9,-999.0000,9,-999.0000,9,-999.0000,9,-999.0000,9,-999.0000,9,-999.0000,9,-999.0000,9,   3.5408,     -999.0,9,     -999.0,9,     -999.0,9,     -999.0,9,     -999.0,9,     -999.0,9,     -999.0,9,-999.0000, -999.00
33RO20071215,        P18,     119,          1,         15,      12014,2,20080128,       1745,   -40.3343,  -103.0000,       4014,  1233.8,   3.3816,  34.4141,2,  34.4116,2,    160.0,2,   159.4,2,   57.40,2,   35.80,2,    0.00,2,    2.49,2,-999.000,9,-999.000,9,-999.0000,9,  -999.0,9,  -999.0,9,   -999.0,9,  -999.00,-999.0000,9,  -999.00,-999.000,9,-999.0000,9, -999.00,9, -999.00,9,  -999.0,9,-999.000,9,-999.000,-999.000,9,-999.000,9, -999.00,9, -999.00,9, -999.00,9, -999.00,9, -999.00,9,-999.000,-999.0000,9,-999.0000,9,-999.0000,9,-999.0000,9,-999.0000,9,-999.0000,9,-999.0000,9,-999.0000,9,-999.0000,9,   3.2921,     -999.0,9,     -999.0,9,     -999.0,9,     -999.0,9,     -999.0,9,     -999.0,9,     -999.0,9,-999.0000, -999.00
33RO20071215,        P18,     119,          1,         14,      12013,2,20080128,       1745,   -40.3343,  -103.0000,       4014,  1332.5,   3.1982,  34.4654,2,  34.4665,2,    144.4,2,   143.8,2,   69.10,2,   37.00,2,    0.00,2,    2.59,2,   0.038,2,   0.023,2,   0.0000,2,  2262.0,6,  2327.5,2,   -999.0,9,  -999.00,   7.5290,2,    25.00,-999.000,9,-999.0000,9, -999.00,9, -999.00,9,  -999.0,9,-999.000,9,-999.000,-999.000,9,-999.000,9, -999.00,9, -999.00,9, -999.00,9, -999.00,9, -999.00,9,-999.000,-999.0000,9,-999.0000,9,-999.0000,9,-999.0000,9,-999.0000,9,-999.0000,9,-999.0000,9,-999.0000,9,-999.0000,9,   3.1024,     -999.0,9,     -999.0,9,     -999.0,9,     -999.0,9,     -999.0,9,     -999.0,9,     -999.0,9,-999.0000, -999.00
33RO20071215,        P18,     119,          1,         13,      12012,2,20080128,       1745,   -40.3343,  -103.0000,       4014,  1466.6,   3.0030,  34.5183,2,  34.5184,2,    134.9,2,   134.3,2,   81.00,2,   37.50,2,    0.00,2,    2.65,2,-999.000,9,-999.000,9,-999.0000,9,  -999.0,9,  -999.0,9,   -999.0,9,  -999.00,-999.0000,9,  -999.00,-999.000,9,-999.0000,9, -999.00,9, -999.00,9,  -999.0,9,-999.000,9,-999.000,-999.000,9,-999.000,9, -999.00,9, -999.00,9, -999.00,9, -999.00,9, -999.00,9,-999.000,-999.0000,9,-999.0000,9,-999.0000,9,-999.0000,9,-999.0000,9,-999.0000,9,-999.0000,9,-999.0000,9,-999.0000,9,   2.8980,     -999.0,9,     -999.0,9,     -999.0,9,     -999.0,9,     -999.0,9,     -999.0,9,     -999.0,9,-999.0000, -999.00
33RO20071215,        P18,     119,          1,         12,      12031,2,20080128,       1745,   -40.3343,  -103.0000,       4014,  1665.2,   2.6908,  34.5694,2,  34.5696,2,    137.4,2,   137.4,2,   92.50,2,   37.00,2,    0.00,2,    2.60,2,   0.005,2,   0.004,2,   0.0000,2,  2286.7,2,  -999.0,9,   -999.0,9,  -999.00,   7.5214,2,    25.00,-999.000,9,-999.0000,9, -999.00,9, -999.00,9,  -999.0,9,-999.000,9,-999.000,-999.000,9,-999.000,9, -999.00,9, -999.00,9, -999.00,9, -999.00,9, -999.00,9,-999.000,-999.0000,9,-999.0000,9,-999.0000,9,-999.0000,9,-999.0000,9,-999.0000,9,-999.0000,9,-999.0000,9,-999.0000,9,   2.5729,     -999.0,9,     -999.0,9,     -999.0,9,     -999.0,9,     -999.0,9,     -999.0,9,     -999.0,9,-999.0000, -999.00