BOTTLE,20220818CCHSIOAMB
EXPOCODE,SECT_ID,STNNBR,CASTNO,SAMPNO,BTLNBR,BTLNBR_FLAG_W,DATE,TIME,LATITUDE,LONGITUDE,DEPTH,CTDPRS,CTDTMP,CTDSAL,CTDSAL_FLAG_W,SALNTY,SALNTY_FLAG_W,CTDOXY,CTDOXY_FLAG_W,OXYGEN,OXYGEN_FLAG_W,SILCAT,SILCAT_FLAG_W,NITRAT,NITRAT_FLAG_W,NITRIT,NITRIT_FLAG_W,PHSPHT,PHSPHT_FLAG_W,CFC-11,CFC-11_FLAG_W,CFC-12,CFC-12_FLAG_W,SF6,SF6_FLAG_W,TCARBN,TCARBN_FLAG_W,ALKALI,ALKALI_FLAG_W,FCO2,FCO2_FLAG_W,FCO2TMP,PH_SWS,PH_SWS_FLAG_W,PH_TMP,TRITUM,TRITUM_FLAG_W,HELIUM,HELIUM_FLAG_W,DELHE3,DELHE3_FLAG_W,DELC13,DELC13_FLAG_W,DELC14,DELC14_FLAG_W,NEON,NEON_FLAG_W,NEONER,CCL4,CCL4_FLAG_W,POC,POC_FLAG_W,DOC,DOC_FLAG_W,TDN,TDN_FLAG_W,DON,DON_FLAG_W,CHLORA,CHLORA_FLAG_W,ARGON,ARGON_FLAG_W,TRITER,CDOM325,CDOM325_FLAG_W,CDOM340,CDOM340_FLAG_W,CDOM380,CDOM380_FLAG_W,CDOM412,CDOM412_FLAG_W,CDOM443,CDOM443_FLAG_W,CDOM490,CDOM490_FLAG_W,CDOM555,CDOM555_FLAG_W,CDOMSL,CDOMSL_FLAG_W,CDOMSN,CDOMSN_FLAG_W,THETA,D18O_NO3,D18O_NO3_FLAG_W,CDOM2C,CDOM2C_FLAG_W,CDOM3C,CDOM3C_FLAG_W,LAB_DEN,LAB_DEN_FLAG_W,DELSI30,DELSI30_FLAG_W,N2,N2_FLAG_W,D15N_NO3,D15N_NO3_FLAG_W,HELIER,DELHER
,,,,,,,,,,,METERS,DBAR,ITS-90,PSS-78,,PSS-78,,UMOL/KG,,UMOL/KG,,UMOL/KG,,UMOL/KG,,UMOL/KG,,UMOL/KG,,PMOL/KG,,PMOL/KG,,FMOL/KG,,UMOL/KG,,UMOL/KG,,UATM,,DEG C,,,DEG C,TU,,NMOL/KG,,PERCNT,,/MILLE,,/MILLE,,NMOL/KG,,NMOL/KG,PMOL/KG,,UG/KG,,UMOL/KG,,UMOL/KG,,UMOL/KG,,UG/KG,,UMOL/KG,,TU,1/M,,1/M,,1/M,,1/M,,1/M,,1/M,,1/M,,1/NM,,1/NM,,DEG C,/MILLE,,,,,,,,/MILLE,,UMOL/KG,,/MILLE,,NMOL/KG,PERCNT
33RO20071215,        P18,      45,          1,         36,      12017,2,20071230,       1127,    -0.3330,  -110.0055,       3754,     5.1,  22.3337,  34.1720,2,  34.1716,2,    202.0,2,   204.0,2,    5.60,2,    7.50,2,    0.14,2,    0.60,2,   1.913,2,   1.168,2,   0.8747,2,  2013.2,6,  2261.1,2,   -999.0,9,  -999.00,   7.9525,2,    25.00,-999.000,9,-999.0000,9, -999.00,9, -999.00,9,  -999.0,9,-999.000,9,-999.000,-999.000,9,-999.000,9,   63.24,2,   11.82,2, -999.00,1, -999.00,9, -999.00,9,-999.000,-999.0000,9,-999.0000,9,-999.0000,9,-999.0000,9,-999.0000,9,-999.0000,9,-999.0000,9,-999.0000,9,-999.0000,9,  22.3327,     -999.0,9,     -999.0,9,     -999.0,9,     -999.0,9,     -999.0,9,     -999.0,9,     -999.0,9,-999.0000, -999.00
33RO20071215,        P18,      45,          1,         35,      12029,2,20071230,       1127,    -0.3330,  -110.0055,       3754,    10.0,  22.3013,  34.1754,2,  34.1867,2,    201.5,2,   201.5,2,    5.70,2,    7.80,2,    0.14,2,    0.62,2,   1.902,6,   1.166,6,   0.9258,6,  2016.5,2,  2261.9,2,   -999.0,9,  -999.00,   7.9428,2,    25.00,-999.000,9,-999.0000,9, -999.00,9, -999.00,9,  -999.0,9,-999.000,9,-999.000,-999.000,9,-999.000,9, -999.00,9, -999.00,9, -999.00,1, -999.00,9, -999.00,9,-999.000,-999.0000,9,-999.0000,9,-999.0000,9,-999.0000,9,-999.0000,9,-999.0000,9,-999.0000,9,-999.0000,9,-999.0000,9,  22.2994,     -999.0,9,     -999.0,9,     -999.0,9,     -999.0,9,     -999.0,9,     -999.0,9,     -999.0,9,-999.0000, -999.00
33RO20071215,        P18,      45,          1,         34,      12049,2,20071230,       1127,    -0.3330,  -110.0055,       3754,    19.8,  19.7451,  34.4692,2,  34.5081,2,    169.0,2,   165.4,2,    9.50,2,   13.10,2,    0.24,2,    0.94,2,   1.716,2,   1.066,2,   0.7500,2,  2076.4,2,  2283.2,2,   -999.0,9,  -999.00,   7.8592,2,    25.00,-999.000,9,-999.0000,9, -999.00,9, -999.00,9,  -999.0,9,-999.000,9,-999.000,-999.000,9,-999.000,9,   60.50,2,   18.08,2, -999.00,1, -999.00,9, -999.00,9,-999.000,-999.0000,9,-999.0000,9,-999.0000,9,-999.0000,9,-999.0000,9,-999.0000,9,-999.0000,9,-999.0000,9,-999.0000,9,  19.7415,     -999.0,9,     -999.0,9,     -999.0,9,     -999.0,9,     -999.0,9,     -999.0,9,     -999.0,9,-999.0000, -999.00
33RO20071215,        P18,      45,          1,         33,      12027,2,20071230,       1127,    -0.3330,  -110.0055,       3754,    42.3,  16.6305,  34.8211,2,  34.8228,2,    120.7,2,   119.1,2,   14.10,2,   18.90,2,    0.41,2,    1.31,2,   1.644,2,   0.972,2,   0.5746,2,  2141.1,2,  2300.7,2,   -999.0,9,  -999.00,   7.7456,2,    25.00,-999.000,9,-999.0000,9, -999.00,9, -999.00,9,  -999.0,9,-999.000,9,-999.000,-999.000,9,-999.000,9, -999.00,9, -999.00,9, -999.00,1, -999.00,9, -999.00,9,-999.000,-999.0000,9,-999.0000,9,-999.0000,9,-999.0000,9,-999.0000,9,-999.0000,9,-999.0000,9,-999.0000,9,-999.0000,9,  16.6237,     -999.0,9,     -999.0,9,     -999.0,9,     -999.0,9,     -999.0,9,     -999.0,9,     -999.0,9,-999.0000, -999.00
33RO20071215,        P18,      45,          1,         32,      12023,2,20071230,       1127,    -0.3330,  -110.0055,       3754,    69.7,  14.8533,  34.9108,2,  34.9097,2,    110.2,2,   110.3,2,   16.10,2,   20.00,2,    0.15,2,    1.36,2,   1.677,2,   0.940,2,   0.4903,2,  2157.6,2,  2308.3,2,   -999.0,9,  -999.00,   7.7317,2,    25.00,-999.000,9,-999.0000,9, -999.00,9, -999.00,9,  -999.0,9,-999.000,9,-999.000,-999.000,9,-999.000,9,   46.29,2,   22.97,2, -999.00,1, -999.00,9, -999.00,9,-999.000,-999.0000,9,-999.0000,9,-999.0000,9,-999.0000,9,-999.0000,9,-999.0000,9,-999.0000,9,-999.0000,9,-999.0000,9,  14.8429,     -999.0,9,     -999.0,9,     -999.0,9,     -999.0,9,     -999.0,9,     -999.0,9,     -999.0,9,-999.0000, -999.00
33RO20071215,        P18,      45,          1,         31,      12037,2,20071230,       1127,    -0.3330,  -110.0055,       3754,    92.3,  14.4098,  34.9683,2,  34.9682,2,    122.1,2,   123.4,2,   15.20,2,   18.70,2,    0.04,2,    1.28,2,   1.693,2,   0.967,2,   0.4963,2,  2152.4,2,  2313.3,2,   -999.0,9,  -999.00,   7.7657,2,    25.00,-999.000,9,-999.0000,9, -999.00,9, -999.00,9,  -999.0,9,-999.000,9,-999.000,-999.000,9,-999.000,9, -999.00,9, -999.00,9, -999.00,1, -999.00,9, -999.00,9,-999.000,-999.0000,9,-999.0000,9,-999.0000,9,-999.0000,9,-999.0000,9,-999.0000,9,-999.0000,9,-999.0000,9,-999.0000,9,  14.3963,     -999.0,9,     -999.0,9,     -999.0,9,     -999.0,9,     -999.0,9,     -999.0,9,     -999.0,9,-999.0000, -999.00
33RO20071215,        P18,      45,          1,         30,      12036,2,20071230,       1127,    -0.3330,  -110.0055,       3754,   114.4,  14.1650,  34.9471,2,  34.9413,2,    122.0,2,   118.3,2,   16.10,2,   19.60,2,    0.03,2,    1.34,2,   1.655,2,   0.926,2,   0.5154,2,  2157.2,2,  2311.6,2,   -999.0,9,  -999.00,   7.7346,2,    25.00,-999.000,9,-999.0000,9, -999.00,9, -999.00,9,  -999.0,9,-999.000,9,-999.000,-999.000,9,-999.000,9,   44.81,2,   21.62,2, -999.00,1, -999.00,9, -999.00,9,-999.000,-999.0000,9,-999.0000,9,-999.0000,9,-999.0000,9,-999.0000,9,-999.0000,9,-999.0000,9,-999.0000,9,-999.0000,9,  14.1484,     -999.0,9,     -999.0,9,     -999.0,9,     -999.0,9,     -999.0,9,     -999.0,9,     -999.0,9,-999.0000, -999.00
33RO20071215,        P18,      45,          1,         29,      12044,2,20071230,       1127,    -0.3330,  -110.0055,       3754,   141.1,  13.9382,  34.9955,2,  34.9961,2,    114.5,2,   114.0,2,   15.50,2,   20.40,2,    0.03,2,    1.41,2,-999.000,9,-999.000,9,-999.0000,9,  2164.6,2,  2314.8,2,   -999.0,9,  -999.00,   7.7276,2,    25.00,-999.000,9,-999.0000,9, -999.00,9, -999.00,9,  -999.0,9,-999.000,9,-999.000,-999.000,9,-999.000,9, -999.00,9, -999.00,9, -999.00,1, -999.00,9, -999.00,9,-999.000,-999.0000,9,-999.0000,9,-999.0000,9,-999.0000,9,-999.0000,9,-999.0000,9,-999.0000,9,-999.0000,9,-999.0000,9,  13.9179,     -999.0,9,     -999.0,9,     -999.0,9,     -999.0,9,     -999.0,9,     -999.0,9,     -999.0,9,-999.0000, -999.00
33RO20071215,        P18,      45,          1,         28,      12057,2,20071230,       1127,    -0.3330,  -110.0055,       3754,   167.3,  13.1986,  34.9360,2,  34.9350,2,    103.7,2,   102.6,2,   17.90,2,   22.70,2,    0.01,2,    1.55,2,   1.236,2,   0.756,2,   0.3569,2,  2177.3,2,  2312.0,2,   -999.0,9,  -999.00,   7.6885,2,    25.00,-999.000,9,-999.0000,9, -999.00,9, -999.00,9,  -999.0,9,-999.000,9,-999.000,-999.000,9,-999.000,9,   43.70,2,   24.83,2, -999.00,1, -999.00,9, -999.00,9,-999.000,-999.0000,9,-999.0000,9,-999.0000,9,-999.0000,9,-999.0000,9,-999.0000,9,-999.0000,9,-999.0000,9,-999.0000,9,  13.1754,     -999.0,9,     -999.0,9,     -999.0,9,     -999.0,9,     -999.0,9,     -999.0,9,     -999.0,9,-999.0000, -999.00
33RO20071215,        P18,      45,          1,         27,      12026,2,20071230,       1127,    -0.3330,  -110.0055,       3754,   191.9,  12.9123,  34.9069,2,  34.9074,2,     97.2,2,    99.5,2,   19.40,2,   23.90,2,    0.01,2,    1.63,2,-999.000,9,-999.000,9,-999.0000,9,  2183.5,2,  2309.8,2,   -999.0,9,  -999.00,   7.6671,2,    25.00,-999.000,9,-999.0000,9, -999.00,9, -999.00,9,  -999.0,9,-999.000,9,-999.000,-999.000,9,-999.000,9, -999.00,9, -999.00,9, -999.00,1, -999.00,9, -999.00,9,-999.000,-999.0000,9,-999.0000,9,-999.0000,9,-999.0000,9,-999.0000,9,-999.0000,9,-999.0000,9,-999.0000,9,-999.0000,9,  12.8860,     -999.0,9,     -999.0,9,     -999.0,9,     -999.0,9,     -999.0,9,     -999.0,9,     -999.0,9,-999.0000, -999.00
33RO20071215,        P18,      45,          1,         26,      12030,2,20071230,       1127,    -0.3330,  -110.0055,       3754,   232.8,  12.3069,  34.8801,2,  34.8783,2,     63.7,2,    61.8,2,   24.60,2,   30.20,2,    0.01,2,    2.05,2,   1.113,2,   0.567,2,   0.1697,2,  2212.5,2,  2308.6,2,   -999.0,9,  -999.00,   7.5895,2,    25.00,-999.000,9,-999.0000,9, -999.00,9, -999.00,9,  -999.0,9,-999.000,9,-999.000,-999.000,9,-999.000,9,   42.70,2,   32.49,2, -999.00,1, -999.00,9, -999.00,9,-999.000,-999.0000,9,-999.0000,9,-999.0000,9,-999.0000,9,-999.0000,9,-999.0000,9,-999.0000,9,-999.0000,9,-999.0000,9,  12.2761,     -999.0,9,     -999.0,9,     -999.0,9,     -999.0,9,     -999.0,9,     -999.0,9,     -999.0,9,-999.0000, -999.00
33RO20071215,        P18,      45,          1,         25,      12024,2,20071230,       1127,    -0.3330,  -110.0055,       3754,   282.9,  12.1869,  34.8703,2,  34.8693,2,     46.6,2,    45.6,2,   23.00,2,   28.30,2,    0.01,2,    1.92,2,-999.000,9,-999.000,9,-999.0000,9,  2224.0,2,  2306.2,2,   -999.0,9,  -999.00,   7.5416,2,    25.00,-999.000,9,-999.0000,9, -999.00,9, -999.00,9,  -999.0,9,-999.000,9,-999.000,-999.000,9,-999.000,9,   41.79,2,   29.84,2, -999.00,1, -999.00,9, -999.00,9,-999.000,-999.0000,9,-999.0000,9,-999.0000,9,-999.0000,9,-999.0000,9,-999.0000,9,-999.0000,9,-999.0000,9,-999.0000,9,  12.1495,     -999.0,9,     -999.0,9,     -999.0,9,     -999.0,9,     -999.0,9,     -999.0,9,     -999.0,9,-999.0000, -999.00
33RO20071215,        P18,      45,          1,         24,      12019,2,20071230,       1127,    -0.3330,  -110.0055,       3754,   333.7,  11.3711,  34.8158,2,  34.8188,2,     15.3,2,    14.7,2,   29.90,2,   34.20,2,    0.01,2,    2.37,2,   0.625,2,   0.327,2,   0.1496,2,  2252.5,2,  2310.0,2,   -999.0,9,  -999.00,   7.4572,2,    25.00,-999.000,9,-999.0000,9, -999.00,9, -999.00,9,  -999.0,9,-999.000,9,-999.000,-999.000,9,-999.000,9,   41.19,2,   35.36,2, -999.00,1, -999.00,9, -999.00,9,-999.000,-999.0000,9,-999.0000,9,-999.0000,9,-999.0000,9,-999.0000,9,-999.0000,9,-999.0000,9,-999.0000,9,-999.0000,9,  11.3289,     -999.0,9,     -999.0,9,     -999.0,9,     -999.0,9,     -999.0,9,     -999.0,9,     -999.0,9,-999.0000, -999.00
33RO20071215,        P18,      45,          1,         23,      12022,2,20071230,       1127,    -0.3330,  -110.0055,       3754,   383.0,   9.7317,  34.7166,2,  34.7203,2,     15.6,2,    14.7,2,   36.30,2,   37.40,2,    0.00,2,    2.57,2,-999.000,9,-999.000,9,-999.0000,9,  -999.0,9,  -999.0,9,   -999.0,9,  -999.00,-999.0000,9,  -999.00,-999.000,9,-999.0000,9, -999.00,9, -999.00,9,  -999.0,9,-999.000,9,-999.000,-999.000,9,-999.000,9,   40.62,2,   38.34,2, -999.00,1, -999.00,9, -999.00,9,-999.000,-999.0000,9,-999.0000,9,-999.0000,9,-999.0000,9,-999.0000,9,-999.0000,9,-999.0000,9,-999.0000,9,-999.0000,9,   9.6877,     -999.0,9,     -999.0,9,     -999.0,9,     -999.0,9,     -999.0,9,     -999.0,9,     -999.0,9,-999.0000, -999.00
33RO20071215,        P18,      45,          1,         22,      12015,2,20071230,       1127,    -0.3330,  -110.0055,       3754,   466.6,   8.9290,  34.6716,2,  34.6716,2,     22.8,2,    23.0,2,   39.60,2,   38.50,2,    0.00,2,    2.64,2,   0.210,2,   0.105,2,   0.0416,2,  2266.4,2,  2312.1,2,   -999.0,9,  -999.00,   7.4210,2,    25.00,-999.000,9,-999.0000,9, -999.00,9, -999.00,9,  -999.0,9,-999.000,9,-999.000,-999.000,9,-999.000,9,   40.17,2,   39.61,2, -999.00,1, -999.00,9, -999.00,9,-999.000,-999.0000,9,-999.0000,9,-999.0000,9,-999.0000,9,-999.0000,9,-999.0000,9,-999.0000,9,-999.0000,9,-999.0000,9,   8.8779,     -999.0,9,     -999.0,9,     -999.0,9,     -999.0,9,     -999.0,9,     -999.0,9,     -999.0,9,-999.0000, -999.00
33RO20071215,        P18,      45,          1,         21,      12020,2,20071230,       1127,    -0.3330,  -110.0055,       3754,   565.8,   7.8862,  34.6184,2,  34.6175,2,     38.9,2,    40.5,2,   44.50,2,   39.20,2,    0.00,2,    2.70,2,-999.000,9,-999.000,9,-999.0000,9,  -999.0,9,  -999.0,9,   -999.0,9,  -999.00,-999.0000,9,  -999.00,-999.000,9,-999.0000,9, -999.00,9, -999.00,9,  -999.0,9,-999.000,9,-999.000,-999.000,9,-999.000,9,   39.68,2,   40.87,2, -999.00,1, -999.00,9, -999.00,9,-999.000,-999.0000,9,-999.0000,9,-999.0000,9,-999.0000,9,-999.0000,9,-999.0000,9,-999.0000,9,-999.0000,9,-999.0000,9,   7.8284,     -999.0,9,     -999.0,9,     -999.0,9,     -999.0,9,     -999.0,9,     -999.0,9,     -999.0,9,-999.0000, -999.00
33RO20071215,        P18,      45,          1,         20,      12055,2,20071230,       1127,    -0.3330,  -110.0055,       3754,   666.5,   6.8325,  34.5763,2,  34.5771,2,     54.4,2,    53.9,2,   52.50,2,   39.80,2,    0.00,2,    2.76,2,   0.061,2,   0.032,2,   0.0000,2,  2270.2,2,  2325.9,2,   -999.0,9,  -999.00,   7.4501,2,    25.00,-999.000,9,-999.0000,9, -999.00,9, -999.00,9,  -999.0,9,-999.000,9,-999.000,-999.000,9,-999.000,9,   38.70,2,   40.67,2, -999.00,1, -999.00,9, -999.00,9,-999.000,-999.0000,9,-999.0000,9,-999.0000,9,-999.0000,9,-999.0000,9,-999.0000,9,-999.0000,9,-999.0000,9,-999.0000,9,   6.7692,     -999.0,9,     -999.0,9,     -999.0,9,     -999.0,9,     -999.0,9,     -999.0,9,     -999.0,9,-999.0000, -999.00
33RO20071215,        P18,      45,          1,         19,      12018,2,20071230,       1127,    -0.3330,  -110.0055,       3754,   765.2,   5.9632,  34.5525,2,  34.5526,2,     70.8,2,    70.7,2,   61.00,2,   39.70,2,    0.00,2,    2.77,2,-999.000,9,-999.000,9,-999.0000,9,  -999.0,9,  -999.0,9,   -999.0,9,  -999.00,-999.0000,9,  -999.00,-999.000,9,-999.0000,9, -999.00,9, -999.00,9,  -999.0,9,-999.000,9,-999.000,-999.000,9,-999.000,9,   38.54,2,   41.15,2, -999.00,1, -999.00,9, -999.00,9,-999.000,-999.0000,9,-999.0000,9,-999.0000,9,-999.0000,9,-999.0000,9,-999.0000,9,-999.0000,9,-999.0000,9,-999.0000,9,   5.8950,     -999.0,9,     -999.0,9,     -999.0,9,     -999.0,9,     -999.0,9,     -999.0,9,     -999.0,9,-999.0000, -999.00
33RO20071215,        P18,      45,          1,         18,      12025,2,20071230,       1127,    -0.3330,  -110.0055,       3754,   866.5,   5.5691,  34.5493,2,  34.5497,2,     74.2,2,    75.1,2,   67.30,2,   39.70,2,    0.00,2,    2.77,2,   0.023,2,   0.013,2,   0.0000,2,  -999.0,9,  -999.0,9,   -999.0,9,  -999.00,-999.0000,9,  -999.00,-999.000,9,-999.0000,9, -999.00,9, -999.00,9,  -999.0,9,-999.000,9,-999.000,-999.000,9,-999.000,9,   38.28,2,   40.94,2, -999.00,1, -999.00,9, -999.00,9,-999.000,-999.0000,9,-999.0000,9,-999.0000,9,-999.0000,9,-999.0000,9,-999.0000,9,-999.0000,9,-999.0000,9,-999.0000,9,   5.4939,     -999.0,9,     -999.0,9,     -999.0,9,     -999.0,9,     -999.0,9,     -999.0,9,     -999.0,9,-999.0000, -999.00
33RO20071215,        P18,      45,          1,         17,      12016,2,20071230,       1127,    -0.3330,  -110.0055,       3754,   966.6,   4.9366,  34.5506,2,  34.5516,2,     79.7,2,    79.8,2,   78.10,2,   39.90,2,    0.00,2,    2.80,2,-999.000,9,-999.000,9,-999.0000,9,  2288.3,2,  2350.8,2,   -999.0,9,  -999.00,   7.4713,2,    25.00,-999.000,9,-999.0000,9, -999.00,9, -999.00,9,  -999.0,9,-999.000,9,-999.000,-999.000,9,-999.000,9,   37.99,2,   41.52,2, -999.00,1, -999.00,9, -999.00,9,-999.000,-999.0000,9,-999.0000,9,-999.0000,9,-999.0000,9,-999.0000,9,-999.0000,9,-999.0000,9,-999.0000,9,-999.0000,9,   4.8567,     -999.0,9,     -999.0,9,     -999.0,9,     -999.0,9,     -999.0,9,     -999.0,9,     -999.0,9,-999.0000, -999.00
33RO20071215,        P18,      45,          1,         16,      12051,2,20071230,       1127,    -0.3330,  -110.0055,       3754,  1066.7,   4.5694,  34.5536,2,  34.5552,2,     86.7,2,    86.2,2,   83.70,2,   39.60,2,    0.00,2,    2.79,2,-999.000,9,-999.000,9,-999.0000,9,  -999.0,9,  -999.0,9,   -999.0,9,  -999.00,-999.0000,9,  -999.00,-999.000,9,-999.0000,9, -999.00,9, -999.00,9,  -999.0,9,-999.000,9,-999.000,-999.000,9,-999.000,9,   37.52,2,   40.96,2, -999.00,9, -999.00,9, -999.00,9,-999.000,-999.0000,9,-999.0000,9,-999.0000,9,-999.0000,9,-999.0000,9,-999.0000,9,-999.0000,9,-999.0000,9,-999.0000,9,   4.4834,     -999.0,9,     -999.0,9,     -999.0,9,     -999.0,9,     -999.0,9,     -999.0,9,     -999.0,9,-999.0000, -999.00
33RO20071215,        P18,      45,          1,         15,      12014,2,20071230,       1127,    -0.3330,  -110.0055,       3754,  1167.1,   4.1919,  34.5644,2,  34.5643,2,     80.6,2,    85.3,2,   93.60,2,   40.10,2,    0.00,2,    2.83,2,-999.000,9,-999.000,9,-999.0000,9,  -999.0,9,  -999.0,9,   -999.0,9,  -999.00,-999.0000,9,  -999.00,-999.000,9,-999.0000,9, -999.00,9, -999.00,9,  -999.0,9,-999.000,9,-999.000,-999.000,9,-999.000,9,   36.72,2,   41.18,2, -999.00,9, -999.00,9, -999.00,9,-999.000,-999.0000,9,-999.0000,9,-999.0000,9,-999.0000,9,-999.0000,9,-999.0000,9,-999.0000,9,-999.0000,9,-999.0000,9,   4.1003,     -999.0,9,     -999.0,9,     -999.0,9,     -999.0,9,     -999.0,9,     -999.0,9,     -999.0,9,-999.0000, -999.00
33RO20071215,        P18,      45,          1,         14,      12013,2,20071230,       1127,    -0.3330,  -110.0055,       3754,  1266.0,   3.7948,  34.5786,2,  34.5787,2,     76.7,2,    83.6,2,  104.50,2,   40.50,2,    0.00,2,    2.87,2,-999.000,9,-999.000,9,-999.0000,9,  2315.8,2,  2379.8,2,   -999.0,9,  -999.00,   7.4710,2,    25.00,-999.000,9,-999.0000,9, -999.00,9, -999.00,9,  -999.0,9,-999.000,9,-999.000,-999.000,9,-999.000,9,   37.02,2,   41.68,2, -999.00,9, -999.00,9, -999.00,9,-999.000,-999.0000,9,-999.0000,9,-999.0000,9,-999.0000,9,-999.0000,9,-999.0000,9,-999.0000,9,-999.0000,9,-999.0000,9,   3.6983,     -999.0,9,     -999.0,9,     -999.0,9,     -999.0,9,     -999.0,9,     -999.0,9,     -999.0,9,-999.0000, -999.00
33RO20071215,        P18,      45,          1,         13,      12012,2,20071230,       1127,    -0.3330,  -110.0055,       3754,  1367.1,   3.5593,  34.5853,2,  34.5867,2,     87.2,2,    86.1,2,  110.00,2,   40.40,2,    0.00,2,    2.86,2,-999.000,9,-999.000,9,-999.0000,9,  -999.0,9,  -999.0,9,   -999.0,9,  -999.00,-999.0000,9,  -999.00,-999.000,9,-999.0000,9, -999.00,9, -999.00,9,  -999.0,9,-999.000,9,-999.000,-999.000,9,-999.000,9,   36.28,2,   41.47,2, -999.00,9, -999.00,9, -999.00,9,-999.000,-999.0000,9,-999.0000,9,-999.0000,9,-999.0000,9,-999.0000,9,-999.0000,9,-999.0000,9,-999.0000,9,-999.0000,9,   3.4566,     -999.0,9,     -999.0,9,     -999.0,9,     -999.0,9,     -999.0,9,     -999.0,9,     -999.0,9,-999.0000, -999.00
33RO20071215,        P18,      45,          1,         12,      12031,2,20071230,       1127,    -0.3330,  -110.0055,       3754,  1532.9,   3.0020,  34.6094,2,  34.6120,2,     89.8,2,    89.8,2,  125.00,2,   40.40,2,    0.00,2,    2.85,2,-999.000,9,-999.000,9,-999.0000,9,  -999.0,9,  -999.0,9,   -999.0,9,  -999.00,-999.0000,9,  -999.00,-999.000,9,-999.0000,9, -999.00,9, -999.00,9,  -999.0,9,-999.000,9,-999.000,-999.000,9,-999.000,9,   36.56,2,   41.70,2, -999.00,9, -999.00,9, -999.00,9,-999.000,-999.0000,9,-999.0000,9,-999.0000,9,-999.0000,9,-999.0000,9,-999.0000,9,-999.0000,9,-999.0000,9,-999.0000,9,   2.8913,     -999.0,9,     -999.0,9,     -999.0,9,     -999.0,9,     -999.0,9,     -999.0,9,     -999.0,9,-999.0000, -999.00