BOTTLE,20220818CCHSIOAMB
EXPOCODE,SECT_ID,STNNBR,CASTNO,SAMPNO,BTLNBR,BTLNBR_FLAG_W,DATE,TIME,LATITUDE,LONGITUDE,DEPTH,CTDPRS,CTDTMP,CTDSAL,CTDSAL_FLAG_W,SALNTY,SALNTY_FLAG_W,CTDOXY,CTDOXY_FLAG_W,OXYGEN,OXYGEN_FLAG_W,SILCAT,SILCAT_FLAG_W,NITRAT,NITRAT_FLAG_W,NITRIT,NITRIT_FLAG_W,PHSPHT,PHSPHT_FLAG_W,CFC-11,CFC-11_FLAG_W,CFC-12,CFC-12_FLAG_W,SF6,SF6_FLAG_W,TCARBN,TCARBN_FLAG_W,ALKALI,ALKALI_FLAG_W,FCO2,FCO2_FLAG_W,FCO2TMP,PH_SWS,PH_SWS_FLAG_W,PH_TMP,TRITUM,TRITUM_FLAG_W,HELIUM,HELIUM_FLAG_W,DELHE3,DELHE3_FLAG_W,DELC13,DELC13_FLAG_W,DELC14,DELC14_FLAG_W,NEON,NEON_FLAG_W,NEONER,CCL4,CCL4_FLAG_W,POC,POC_FLAG_W,DOC,DOC_FLAG_W,TDN,TDN_FLAG_W,DON,DON_FLAG_W,CHLORA,CHLORA_FLAG_W,ARGON,ARGON_FLAG_W,TRITER,CDOM325,CDOM325_FLAG_W,CDOM340,CDOM340_FLAG_W,CDOM380,CDOM380_FLAG_W,CDOM412,CDOM412_FLAG_W,CDOM443,CDOM443_FLAG_W,CDOM490,CDOM490_FLAG_W,CDOM555,CDOM555_FLAG_W,CDOMSL,CDOMSL_FLAG_W,CDOMSN,CDOMSN_FLAG_W,THETA,D18O_NO3,D18O_NO3_FLAG_W,CDOM2C,CDOM2C_FLAG_W,CDOM3C,CDOM3C_FLAG_W,LAB_DEN,LAB_DEN_FLAG_W,DELSI30,DELSI30_FLAG_W,N2,N2_FLAG_W,D15N_NO3,D15N_NO3_FLAG_W,HELIER,DELHER
,,,,,,,,,,,METERS,DBAR,ITS-90,PSS-78,,PSS-78,,UMOL/KG,,UMOL/KG,,UMOL/KG,,UMOL/KG,,UMOL/KG,,UMOL/KG,,PMOL/KG,,PMOL/KG,,FMOL/KG,,UMOL/KG,,UMOL/KG,,UATM,,DEG C,,,DEG C,TU,,NMOL/KG,,PERCNT,,/MILLE,,/MILLE,,NMOL/KG,,NMOL/KG,PMOL/KG,,UG/KG,,UMOL/KG,,UMOL/KG,,UMOL/KG,,UG/KG,,UMOL/KG,,TU,1/M,,1/M,,1/M,,1/M,,1/M,,1/M,,1/M,,1/NM,,1/NM,,DEG C,/MILLE,,,,,,,,/MILLE,,UMOL/KG,,/MILLE,,NMOL/KG,PERCNT
33RO20071215,        P18,     145,          1,         36,      12017,2,20080206,       0221,   -55.4998,  -103.0005,       4664,     5.7,   7.2193,  34.1197,2,  34.1206,2,    297.7,2,   298.0,2,    1.40,2,   18.50,2,    0.19,2,    1.28,2,-999.000,9,-999.000,9,-999.0000,9,  2106.8,2,  2276.0,2,   -999.0,9,  -999.00,   7.7959,2,    25.00,-999.000,9,-999.0000,9, -999.00,9, -999.00,9,  -999.0,9,-999.000,9,-999.000,-999.000,9,-999.000,9, -999.00,9, -999.00,9, -999.00,9, -999.00,9, -999.00,9,-999.000,-999.0000,9,-999.0000,9,-999.0000,9,-999.0000,9,-999.0000,9,-999.0000,9,-999.0000,9,-999.0000,9,-999.0000,9,   7.2187,     -999.0,9,     -999.0,9,     -999.0,9,     -999.0,9,     -999.0,9,     -999.0,9,     -999.0,9,-999.0000, -999.00
33RO20071215,        P18,     145,          1,         35,      12029,3,20080206,       0221,   -55.4998,  -103.0005,       4664,    10.0,   7.1877,  34.1198,2,  34.1189,2,    298.1,2,   293.1,3,    1.40,2,   18.50,2,    0.18,2,    1.28,2,-999.000,9,-999.000,9,-999.0000,9,  -999.0,9,  -999.0,9,   -999.0,9,  -999.00,-999.0000,9,  -999.00,-999.000,9,-999.0000,9, -999.00,9, -999.00,9,  -999.0,9,-999.000,9,-999.000,-999.000,9,-999.000,9, -999.00,9, -999.00,9, -999.00,9, -999.00,9, -999.00,9,-999.000,-999.0000,9,-999.0000,9,-999.0000,9,-999.0000,9,-999.0000,9,-999.0000,9,-999.0000,9,-999.0000,9,-999.0000,9,   7.1867,     -999.0,9,     -999.0,9,     -999.0,9,     -999.0,9,     -999.0,9,     -999.0,9,     -999.0,9,-999.0000, -999.00
33RO20071215,        P18,     145,          1,         34,      12049,2,20080206,       0221,   -55.4998,  -103.0005,       4664,    25.3,   7.1792,  34.1197,2,  34.1224,2,    298.8,2,   298.4,2,    1.40,2,   18.50,2,    0.18,2,    1.29,2,   4.323,2,   2.413,2,   1.8637,2,  2105.8,2,  2275.9,2,    625.2,2,    20.00,   7.8046,2,    25.00,-999.000,9,-999.0000,9, -999.00,9,    1.59,2,  -999.0,9,-999.000,9,-999.000,-999.000,9,-999.000,9, -999.00,9, -999.00,9, -999.00,9, -999.00,9, -999.00,1,-999.000,-999.0000,9,-999.0000,9,-999.0000,9,-999.0000,9,-999.0000,9,-999.0000,9,-999.0000,9,-999.0000,9,-999.0000,9,   7.1768,     -999.0,1,     -999.0,9,     -999.0,9,     -999.0,9,     -999.0,9,     -999.0,1,     -999.0,9,-999.0000, -999.00
33RO20071215,        P18,     145,          1,         33,      12027,2,20080206,       0221,   -55.4998,  -103.0005,       4664,    49.2,   7.0960,  34.1191,2,  34.1181,2,    297.1,2,   298.2,2,    1.40,2,   18.50,2,    0.18,2,    1.29,2,   4.334,2,   2.420,2,   1.7317,2,  2105.5,2,  2276.6,2,   -999.0,9,  -999.00,   7.8041,2,    25.00,-999.000,9,-999.0000,9, -999.00,9, -999.00,9,  -999.0,9,-999.000,9,-999.000,-999.000,9,-999.000,9, -999.00,9, -999.00,9, -999.00,9, -999.00,9, -999.00,9,-999.000,-999.0000,9,-999.0000,9,-999.0000,9,-999.0000,9,-999.0000,9,-999.0000,9,-999.0000,9,-999.0000,9,-999.0000,9,   7.0915,     -999.0,9,     -999.0,9,     -999.0,9,     -999.0,9,     -999.0,9,     -999.0,9,     -999.0,9,-999.0000, -999.00
33RO20071215,        P18,     145,          1,         32,      12023,2,20080206,       0221,   -55.4998,  -103.0005,       4664,    74.6,   7.0742,  34.1180,2,  34.1194,2,    297.6,2,   297.7,2,    1.50,2,   18.50,2,    0.18,2,    1.30,2,   4.330,2,   2.422,2,   1.8145,2,  2106.5,2,  2276.8,2,    629.6,6,    20.00,   7.8037,2,    25.00,-999.000,9,-999.0000,9, -999.00,9, -999.00,9,  -999.0,9,-999.000,9,-999.000,-999.000,9,-999.000,9, -999.00,9, -999.00,9, -999.00,9, -999.00,9, -999.00,9,-999.000,-999.0000,9,-999.0000,9,-999.0000,9,-999.0000,9,-999.0000,9,-999.0000,9,-999.0000,9,-999.0000,9,-999.0000,9,   7.0673,     -999.0,9,     -999.0,9,     -999.0,9,     -999.0,9,     -999.0,9,     -999.0,9,     -999.0,9,-999.0000, -999.00
33RO20071215,        P18,     145,          1,         31,      12037,2,20080206,       0221,   -55.4998,  -103.0005,       4664,   100.1,   6.1246,  34.1290,2,  34.1257,2,    296.7,2,   296.6,2,    4.50,2,   19.80,2,    0.23,2,    1.48,2,   4.488,2,   2.501,2,   1.8704,2,  2118.3,2,  2278.4,2,   -999.0,9,  -999.00,   7.7756,2,    25.00,-999.000,9,-999.0000,9, -999.00,9, -999.00,9,  -999.0,9,-999.000,9,-999.000,-999.000,9,-999.000,9, -999.00,9, -999.00,9, -999.00,9, -999.00,9, -999.00,9,-999.000,-999.0000,9,-999.0000,9,-999.0000,9,-999.0000,9,-999.0000,9,-999.0000,9,-999.0000,9,-999.0000,9,-999.0000,9,   6.1161,     -999.0,9,     -999.0,9,     -999.0,9,     -999.0,9,     -999.0,9,     -999.0,9,     -999.0,9,-999.0000, -999.00
33RO20071215,        P18,     145,          1,         30,      12036,2,20080206,       0221,   -55.4998,  -103.0005,       4664,   123.8,   5.6659,  34.1529,2,  34.1536,2,    292.5,2,   292.6,2,    7.10,2,   21.90,2,    0.12,2,    1.54,2,   4.531,2,   2.519,2,   1.8995,2,  2126.6,2,  2271.7,3,    722.5,2,    20.00,   7.7517,2,    25.00,-999.000,9,-999.0000,9, -999.00,9, -999.00,9,  -999.0,9,-999.000,9,-999.000,-999.000,9,-999.000,9, -999.00,9, -999.00,9, -999.00,9, -999.00,9, -999.00,9,-999.000,-999.0000,9,-999.0000,9,-999.0000,9,-999.0000,9,-999.0000,9,-999.0000,9,-999.0000,9,-999.0000,9,-999.0000,9,   5.6558,     -999.0,9,     -999.0,9,     -999.0,9,     -999.0,9,     -999.0,9,     -999.0,9,     -999.0,9,-999.0000, -999.00
33RO20071215,        P18,     145,          1,         29,      12044,2,20080206,       0221,   -55.4998,  -103.0005,       4664,   150.7,   5.4157,  34.1649,2,  34.1618,2,    291.0,2,   291.7,2,    7.80,2,   22.40,2,    0.01,2,    1.56,2,   4.485,2,   2.486,2,   1.8297,2,  2130.0,2,  2270.4,3,    736.9,2,    20.00,   7.7389,2,    25.00,-999.000,9,-999.0000,9, -999.00,9, -999.00,9,  -999.0,9,-999.000,9,-999.000,-999.000,9,-999.000,9, -999.00,9, -999.00,9, -999.00,9, -999.00,9, -999.00,9,-999.000,-999.0000,9,-999.0000,9,-999.0000,9,-999.0000,9,-999.0000,9,-999.0000,9,-999.0000,9,-999.0000,9,-999.0000,9,   5.4037,     -999.0,9,     -999.0,9,     -999.0,9,     -999.0,9,     -999.0,9,     -999.0,9,     -999.0,9,-999.0000, -999.00
33RO20071215,        P18,     145,          1,         28,      12057,2,20080206,       0221,   -55.4998,  -103.0005,       4664,   200.1,   5.1881,  34.1556,2,  34.1554,2,    290.9,2,   291.3,2,    8.30,2,   22.80,2,    0.01,2,    1.59,2,   4.483,2,   2.480,2,   1.8130,2,  2132.7,2,  2275.7,2,    745.1,2,    20.00,   7.7454,2,    25.00,-999.000,9,-999.0000,9, -999.00,9, -999.00,9,  -999.0,9,-999.000,9,-999.000,-999.000,9,-999.000,9, -999.00,9, -999.00,9, -999.00,9, -999.00,9, -999.00,9,-999.000,-999.0000,9,-999.0000,9,-999.0000,9,-999.0000,9,-999.0000,9,-999.0000,9,-999.0000,9,-999.0000,9,-999.0000,9,   5.1724,     -999.0,9,     -999.0,9,     -999.0,9,     -999.0,9,     -999.0,9,     -999.0,9,     -999.0,9,-999.0000, -999.00
33RO20071215,        P18,     145,          1,         27,      12026,2,20080206,       0221,   -55.4998,  -103.0005,       4664,   249.5,   5.0279,  34.1447,2,  34.1456,2,    292.3,2,   290.7,2,    8.70,2,   23.30,2,    0.01,2,    1.61,2,   4.469,2,   2.468,2,   1.8297,2,  2135.5,2,  2276.8,2,   -999.0,9,  -999.00,   7.7437,2,    25.00,-999.000,9,-999.0000,9, -999.00,9, -999.00,9,  -999.0,9,-999.000,9,-999.000,-999.000,9,-999.000,9, -999.00,9, -999.00,9, -999.00,9, -999.00,9, -999.00,9,-999.000,-999.0000,9,-999.0000,9,-999.0000,9,-999.0000,9,-999.0000,9,-999.0000,9,-999.0000,9,-999.0000,9,-999.0000,9,   5.0086,     -999.0,9,     -999.0,9,     -999.0,9,     -999.0,9,     -999.0,9,     -999.0,9,     -999.0,9,-999.0000, -999.00
33RO20071215,        P18,     145,          1,         26,      12030,2,20080206,       0221,   -55.4998,  -103.0005,       4664,   300.5,   4.9271,  34.1470,2,  34.1456,2,    289.8,2,   284.7,2,    9.90,2,   24.00,2,    0.01,2,    1.66,2,   4.388,2,   2.408,2,   1.6320,2,  2138.5,2,  2278.0,2,    773.3,2,    20.00,   7.7266,2,    25.00,-999.000,9,-999.0000,9, -999.00,9, -999.00,9,  -999.0,9,-999.000,9,-999.000,-999.000,9,-999.000,9, -999.00,9, -999.00,9, -999.00,9, -999.00,9, -999.00,9,-999.000,-999.0000,9,-999.0000,9,-999.0000,9,-999.0000,9,-999.0000,9,-999.0000,9,-999.0000,9,-999.0000,9,-999.0000,9,   4.9040,     -999.0,9,     -999.0,9,     -999.0,9,     -999.0,9,     -999.0,9,     -999.0,9,     -999.0,9,-999.0000, -999.00
33RO20071215,        P18,     145,          1,         25,      12024,2,20080206,       0221,   -55.4998,  -103.0005,       4664,   349.5,   4.6329,  34.1204,2,  34.1188,2,    290.6,2,   290.3,2,    9.80,2,   24.00,2,    0.01,2,    1.67,2,   4.510,2,   2.485,2,   1.7365,2,  2137.8,2,  2277.1,2,   -999.0,9,  -999.00,   7.7312,2,    25.00,-999.000,9,-999.0000,9, -999.00,9, -999.00,9,  -999.0,9,-999.000,9,-999.000,-999.000,9,-999.000,9, -999.00,9, -999.00,9, -999.00,9, -999.00,9, -999.00,9,-999.000,-999.0000,9,-999.0000,9,-999.0000,9,-999.0000,9,-999.0000,9,-999.0000,9,-999.0000,9,-999.0000,9,-999.0000,9,   4.6067,     -999.0,9,     -999.0,9,     -999.0,9,     -999.0,9,     -999.0,9,     -999.0,9,     -999.0,9,-999.0000, -999.00
33RO20071215,        P18,     145,          1,         24,      12019,2,20080206,       0221,   -55.4998,  -103.0005,       4664,   400.2,   4.6092,  34.1414,2,  34.1404,2,    279.3,2,   277.9,2,   12.10,2,   25.20,2,    0.01,2,    1.75,2,   4.273,2,   2.334,2,   1.6245,2,  2145.2,2,  2279.3,2,    810.2,2,    20.00,   7.7102,2,    25.00,-999.000,9,-999.0000,9, -999.00,9, -999.00,9,  -999.0,9,-999.000,9,-999.000,-999.000,9,-999.000,9, -999.00,9, -999.00,9, -999.00,9, -999.00,9, -999.00,9,-999.000,-999.0000,9,-999.0000,9,-999.0000,9,-999.0000,9,-999.0000,9,-999.0000,9,-999.0000,9,-999.0000,9,-999.0000,9,   4.5791,     -999.0,9,     -999.0,9,     -999.0,9,     -999.0,9,     -999.0,9,     -999.0,9,     -999.0,9,-999.0000, -999.00
33RO20071215,        P18,     145,          1,         23,      12022,2,20080206,       0221,   -55.4998,  -103.0005,       4664,   500.1,   4.2665,  34.1522,2,  34.1510,2,    264.9,2,   264.4,2,   16.40,2,   27.00,2,    0.01,2,    1.87,2,   3.974,6,   2.133,6,   1.3893,6,  2160.4,2,  2283.7,2,    867.5,2,    20.00,   7.6858,2,    25.00,-999.000,9,-999.0000,9, -999.00,9, -999.00,9,  -999.0,9,-999.000,9,-999.000,-999.000,9,-999.000,9, -999.00,9, -999.00,9, -999.00,9, -999.00,9, -999.00,9,-999.000,-999.0000,9,-999.0000,9,-999.0000,9,-999.0000,9,-999.0000,9,-999.0000,9,-999.0000,9,-999.0000,9,-999.0000,9,   4.2298,     -999.0,9,     -999.0,9,     -999.0,9,     -999.0,9,     -999.0,9,     -999.0,9,     -999.0,9,-999.0000, -999.00
33RO20071215,        P18,     145,          1,         22,      12015,4,20080206,       0221,   -55.4998,  -103.0005,       4664,   599.9,   4.1147,  34.2008,2,-999.0000,9,    244.3,2,  -999.0,9, -999.00,9, -999.00,9, -999.00,9, -999.00,9,-999.000,9,-999.000,9,-999.0000,9,  -999.0,9,  -999.0,9,   -999.0,9,  -999.00,-999.0000,9,  -999.00,-999.000,9,-999.0000,9, -999.00,9, -999.00,9,  -999.0,9,-999.000,9,-999.000,-999.000,9,-999.000,9, -999.00,9, -999.00,9, -999.00,9, -999.00,9, -999.00,9,-999.000,-999.0000,9,-999.0000,9,-999.0000,9,-999.0000,9,-999.0000,9,-999.0000,9,-999.0000,9,-999.0000,9,-999.0000,9,   4.0709,     -999.0,9,     -999.0,9,     -999.0,9,     -999.0,9,     -999.0,9,     -999.0,9,     -999.0,9,-999.0000, -999.00
33RO20071215,        P18,     145,          1,         21,      12020,3,20080206,       0221,   -55.4998,  -103.0005,       4664,   699.6,   3.8662,  34.2529,2,-999.0000,9,    224.6,2,  -999.0,9,   29.70,2,   30.60,2,    0.00,2,    2.11,2,-999.000,9,-999.000,9,-999.0000,9,  -999.0,9,  -999.0,9,   -999.0,9,  -999.00,-999.0000,9,  -999.00,-999.000,9,-999.0000,9, -999.00,9, -999.00,9,  -999.0,9,-999.000,9,-999.000,-999.000,9,-999.000,9, -999.00,9, -999.00,9, -999.00,9, -999.00,9, -999.00,9,-999.000,-999.0000,9,-999.0000,9,-999.0000,9,-999.0000,9,-999.0000,9,-999.0000,9,-999.0000,9,-999.0000,9,-999.0000,9,   3.8159,     -999.0,9,     -999.0,9,     -999.0,9,     -999.0,9,     -999.0,9,     -999.0,9,     -999.0,9,-999.0000, -999.00
33RO20071215,        P18,     145,          1,         20,      12055,2,20080206,       0221,   -55.4998,  -103.0005,       4664,   799.9,   3.5479,  34.2835,2,  34.2828,2,    217.6,2,   216.4,2,   36.30,2,   31.90,2,    0.00,2,    2.20,2,   2.496,2,   1.265,2,   0.2996,6,  2203.4,2,  2293.3,2,   1057.2,2,    20.00,   7.6017,2,    25.00,-999.000,9,-999.0000,9, -999.00,9, -999.00,9,  -999.0,9,-999.000,9,-999.000,-999.000,9,-999.000,9, -999.00,9, -999.00,9, -999.00,9, -999.00,9, -999.00,9,-999.000,-999.0000,9,-999.0000,9,-999.0000,9,-999.0000,9,-999.0000,9,-999.0000,9,-999.0000,9,-999.0000,9,-999.0000,9,   3.4917,     -999.0,9,     -999.0,9,     -999.0,9,     -999.0,9,     -999.0,9,     -999.0,9,     -999.0,9,-999.0000, -999.00
33RO20071215,        P18,     145,          1,         19,      12018,2,20080206,       0221,   -55.4998,  -103.0005,       4664,   899.8,   3.2337,  34.3223,2,  34.3231,2,    207.9,2,   207.1,2,   44.00,2,   32.90,2,    0.00,2,    2.27,2,   2.044,2,   1.027,2,   0.5150,2,  2215.2,2,  2301.6,2,   1101.4,2,    20.00,   7.5958,2,    25.00,-999.000,9,-999.0000,9, -999.00,9, -999.00,9,  -999.0,9,-999.000,9,-999.000,-999.000,9,-999.000,9, -999.00,9, -999.00,9, -999.00,9, -999.00,9, -999.00,9,-999.000,-999.0000,9,-999.0000,9,-999.0000,9,-999.0000,9,-999.0000,9,-999.0000,9,-999.0000,9,-999.0000,9,-999.0000,9,   3.1720,     -999.0,9,     -999.0,9,     -999.0,9,     -999.0,9,     -999.0,9,     -999.0,9,     -999.0,9,-999.0000, -999.00
33RO20071215,        P18,     145,          1,         18,      12025,2,20080206,       0221,   -55.4998,  -103.0005,       4664,   999.9,   3.0142,  34.3616,2,  34.3607,2,    198.8,2,   198.1,2,   50.40,2,   33.60,2,    0.00,2,    2.33,2,   1.707,2,   0.865,2,   0.4068,2,  2223.7,2,  2305.5,2,   -999.0,9,  -999.00,   7.5794,2,    25.00,-999.000,9,-999.0000,9, -999.00,9, -999.00,9,  -999.0,9,-999.000,9,-999.000,-999.000,9,-999.000,9, -999.00,9, -999.00,9, -999.00,9, -999.00,9, -999.00,9,-999.000,-999.0000,9,-999.0000,9,-999.0000,9,-999.0000,9,-999.0000,9,-999.0000,9,-999.0000,9,-999.0000,9,-999.0000,9,   2.9464,     -999.0,9,     -999.0,9,     -999.0,9,     -999.0,9,     -999.0,9,     -999.0,9,     -999.0,9,-999.0000, -999.00
33RO20071215,        P18,     145,          1,         17,      12016,2,20080206,       0221,   -55.4998,  -103.0005,       4664,  1199.1,   2.7157,  34.4620,2,  34.4618,2,    181.5,2,   181.1,2,   63.80,2,   34.50,2,    0.00,2,    2.39,2,   0.972,2,   0.499,2,   0.1834,2,  2242.8,2,  2322.6,2,   1197.7,2,    20.00,   7.5653,2,    25.00,-999.000,9,-999.0000,9, -999.00,9, -999.00,9,  -999.0,9,-999.000,9,-999.000,-999.000,9,-999.000,9, -999.00,9, -999.00,9, -999.00,9, -999.00,9, -999.00,9,-999.000,-999.0000,9,-999.0000,9,-999.0000,9,-999.0000,9,-999.0000,9,-999.0000,9,-999.0000,9,-999.0000,9,-999.0000,9,   2.6352,     -999.0,9,     -999.0,9,     -999.0,9,     -999.0,9,     -999.0,9,     -999.0,9,     -999.0,9,-999.0000, -999.00
33RO20071215,        P18,     145,          1,         16,      12051,2,20080206,       0221,   -55.4998,  -103.0005,       4664,  1399.9,   2.5242,  34.5533,2,  34.5523,2,    173.9,2,   173.8,2,   72.90,2,   34.50,2,    0.00,2,    2.39,2,   0.545,2,   0.286,2,   0.0876,2,  2253.7,6,  2330.8,2,   -999.0,9,  -999.00,   7.5632,2,    25.00,-999.000,9,-999.0000,9, -999.00,9, -999.00,9,  -999.0,9,-999.000,9,-999.000,-999.000,9,-999.000,9, -999.00,9, -999.00,9, -999.00,9, -999.00,9, -999.00,9,-999.000,-999.0000,9,-999.0000,9,-999.0000,9,-999.0000,9,-999.0000,9,-999.0000,9,-999.0000,9,-999.0000,9,-999.0000,9,   2.4298,     -999.0,9,     -999.0,9,     -999.0,9,     -999.0,9,     -999.0,9,     -999.0,9,     -999.0,9,-999.0000, -999.00
33RO20071215,        P18,     145,          1,         15,      12014,2,20080206,       0221,   -55.4998,  -103.0005,       4664,  1598.9,   2.3894,  34.6221,2,  34.6206,2,    172.4,2,   172.5,2,   79.30,2,   33.90,2,    0.00,2,    2.35,2,   0.300,2,   0.157,2,   0.0000,2,  2257.4,2,  2321.0,4,   1186.5,2,    20.00,   7.5722,2,    25.00,-999.000,9,-999.0000,9, -999.00,9, -999.00,9,  -999.0,9,-999.000,9,-999.000,-999.000,9,-999.000,9, -999.00,9, -999.00,9, -999.00,9, -999.00,9, -999.00,9,-999.000,-999.0000,9,-999.0000,9,-999.0000,9,-999.0000,9,-999.0000,9,-999.0000,9,-999.0000,9,-999.0000,9,-999.0000,9,   2.2806,     -999.0,9,     -999.0,9,     -999.0,9,     -999.0,9,     -999.0,9,     -999.0,9,     -999.0,9,-999.0000, -999.00
33RO20071215,        P18,     145,          1,         14,      12013,2,20080206,       0221,   -55.4998,  -103.0005,       4664,  1800.2,   2.2638,  34.6684,2,  34.6689,2,    174.6,2,   173.9,2,   84.30,2,   33.20,2,    0.00,2,    2.30,2,   0.251,2,   0.138,2,   0.0723,2,  2260.1,2,  2349.2,2,   -999.0,9,  -999.00,   7.5818,2,    25.00,-999.000,9,-999.0000,9, -999.00,9, -999.00,9,  -999.0,9,-999.000,9,-999.000,-999.000,9,-999.000,9, -999.00,9, -999.00,9, -999.00,9, -999.00,9, -999.00,9,-999.000,-999.0000,9,-999.0000,9,-999.0000,9,-999.0000,9,-999.0000,9,-999.0000,9,-999.0000,9,-999.0000,9,-999.0000,9,   2.1400,     -999.0,9,     -999.0,9,     -999.0,9,     -999.0,9,     -999.0,9,     -999.0,9,     -999.0,9,-999.0000, -999.00
33RO20071215,        P18,     145,          1,         13,      12012,2,20080206,       0221,   -55.4998,  -103.0005,       4664,  1999.9,   2.1146,  34.6989,2,  34.6986,2,    177.4,2,   177.5,2,   89.00,2,   32.80,2,    0.00,2,    2.27,2,   0.119,2,   0.062,2,   0.0000,2,  2263.7,2,  2354.6,2,   1135.5,2,    20.00,   7.5885,2,    25.00,-999.000,9,-999.0000,9, -999.00,9, -999.00,9,  -999.0,9,-999.000,9,-999.000,-999.000,9,-999.000,9, -999.00,9, -999.00,9, -999.00,9, -999.00,9, -999.00,9,-999.000,-999.0000,9,-999.0000,9,-999.0000,9,-999.0000,9,-999.0000,9,-999.0000,9,-999.0000,9,-999.0000,9,-999.0000,9,   1.9762,     -999.0,9,     -999.0,9,     -999.0,9,     -999.0,9,     -999.0,9,     -999.0,9,     -999.0,9,-999.0000, -999.00
33RO20071215,        P18,     145,          1,         12,      12031,2,20080206,       0221,   -55.4998,  -103.0005,       4664,  2200.7,   1.9700,  34.7145,2,  34.7144,2,    180.7,2,   181.4,2,   94.00,2,   32.60,2,    0.00,2,    2.25,2,   0.103,2,   0.057,2,   0.0000,2,  2262.9,2,  2358.8,2,   -999.0,9,  -999.00,   7.5924,2,    25.00,-999.000,9,-999.0000,9, -999.00,9, -999.00,9,  -999.0,9,-999.000,9,-999.000,   0.115,3,-999.000,9, -999.00,9, -999.00,9, -999.00,9, -999.00,9, -999.00,9,-999.000,-999.0000,9,-999.0000,9,-999.0000,9,-999.0000,9,-999.0000,9,-999.0000,9,-999.0000,9,-999.0000,9,-999.0000,9,   1.8166,     -999.0,9,     -999.0,9,     -999.0,9,     -999.0,9,     -999.0,9,     -999.0,9,     -999.0,9,-999.0000, -999.00