BOTTLE,20220818CCHSIOAMB
EXPOCODE,SECT_ID,STNNBR,CASTNO,SAMPNO,BTLNBR,BTLNBR_FLAG_W,DATE,TIME,LATITUDE,LONGITUDE,DEPTH,CTDPRS,CTDTMP,CTDSAL,CTDSAL_FLAG_W,SALNTY,SALNTY_FLAG_W,CTDOXY,CTDOXY_FLAG_W,OXYGEN,OXYGEN_FLAG_W,SILCAT,SILCAT_FLAG_W,NITRAT,NITRAT_FLAG_W,NITRIT,NITRIT_FLAG_W,PHSPHT,PHSPHT_FLAG_W,CFC-11,CFC-11_FLAG_W,CFC-12,CFC-12_FLAG_W,SF6,SF6_FLAG_W,TCARBN,TCARBN_FLAG_W,ALKALI,ALKALI_FLAG_W,FCO2,FCO2_FLAG_W,FCO2TMP,PH_SWS,PH_SWS_FLAG_W,PH_TMP,TRITUM,TRITUM_FLAG_W,HELIUM,HELIUM_FLAG_W,DELHE3,DELHE3_FLAG_W,DELC13,DELC13_FLAG_W,DELC14,DELC14_FLAG_W,NEON,NEON_FLAG_W,NEONER,CCL4,CCL4_FLAG_W,POC,POC_FLAG_W,DOC,DOC_FLAG_W,TDN,TDN_FLAG_W,DON,DON_FLAG_W,CHLORA,CHLORA_FLAG_W,ARGON,ARGON_FLAG_W,TRITER,CDOM325,CDOM325_FLAG_W,CDOM340,CDOM340_FLAG_W,CDOM380,CDOM380_FLAG_W,CDOM412,CDOM412_FLAG_W,CDOM443,CDOM443_FLAG_W,CDOM490,CDOM490_FLAG_W,CDOM555,CDOM555_FLAG_W,CDOMSL,CDOMSL_FLAG_W,CDOMSN,CDOMSN_FLAG_W,THETA,D18O_NO3,D18O_NO3_FLAG_W,CDOM2C,CDOM2C_FLAG_W,CDOM3C,CDOM3C_FLAG_W,LAB_DEN,LAB_DEN_FLAG_W,DELSI30,DELSI30_FLAG_W,N2,N2_FLAG_W,D15N_NO3,D15N_NO3_FLAG_W,HELIER,DELHER
,,,,,,,,,,,METERS,DBAR,ITS-90,PSS-78,,PSS-78,,UMOL/KG,,UMOL/KG,,UMOL/KG,,UMOL/KG,,UMOL/KG,,UMOL/KG,,PMOL/KG,,PMOL/KG,,FMOL/KG,,UMOL/KG,,UMOL/KG,,UATM,,DEG C,,,DEG C,TU,,NMOL/KG,,PERCNT,,/MILLE,,/MILLE,,NMOL/KG,,NMOL/KG,PMOL/KG,,UG/KG,,UMOL/KG,,UMOL/KG,,UMOL/KG,,UG/KG,,UMOL/KG,,TU,1/M,,1/M,,1/M,,1/M,,1/M,,1/M,,1/M,,1/NM,,1/NM,,DEG C,/MILLE,,,,,,,,/MILLE,,UMOL/KG,,/MILLE,,NMOL/KG,PERCNT
33RO20071215,        P18,     124,          1,         11,      12003,2,20080130,       0651,   -43.2517,  -103.0003,       3759,  1800.5,   2.4891,  34.5916,2,  34.5912,2,    154.2,2,   155.4,2,   89.90,2,   35.50,2,    0.00,2,    2.44,2,   0.113,3,   0.069,3,   0.0000,2,  2277.1,2,  2355.0,2,   -999.0,9,  -999.00,   7.5585,2,    25.00,-999.000,9,-999.0000,9, -999.00,9, -999.00,9,  -999.0,9,-999.000,9,-999.000,-999.000,9,-999.000,9,   37.69,2,   36.78,2, -999.00,9, -999.00,9, -999.00,9,-999.000,-999.0000,9,-999.0000,9,-999.0000,9,-999.0000,9,-999.0000,9,-999.0000,9,-999.0000,9,-999.0000,9,-999.0000,9,   2.3625,     -999.0,9,     -999.0,9,     -999.0,9,     -999.0,9,     -999.0,9,     -999.0,9,     -999.0,9,-999.0000, -999.00
33RO20071215,        P18,     124,          1,         10,      12032,2,20080130,       0651,   -43.2517,  -103.0003,       3759,  2000.8,   2.2850,  34.6371,2,  34.6369,2,    162.2,2,   161.9,2,   93.90,2,   34.60,2,    0.00,2,    2.36,2,-999.000,9,-999.000,9,-999.0000,9,  2275.6,2,  2365.8,2,   -999.0,9,  -999.00,   7.5699,2,    25.00,-999.000,9,-999.0000,9, -999.00,9, -999.00,9,  -999.0,1,-999.000,9,-999.000,-999.000,9,-999.000,9,   37.51,2,   35.47,2, -999.00,9, -999.00,9, -999.00,9,-999.000,-999.0000,9,-999.0000,9,-999.0000,9,-999.0000,9,-999.0000,9,-999.0000,9,-999.0000,9,-999.0000,9,-999.0000,9,   2.1441,     -999.0,9,     -999.0,9,     -999.0,9,     -999.0,9,     -999.0,9,     -999.0,9,     -999.0,9,-999.0000, -999.00
33RO20071215,        P18,     124,          1,          9,      12002,2,20080130,       0651,   -43.2517,  -103.0003,       3759,  2199.8,   2.1327,  34.6700,2,  34.6690,2,    166.5,2,   166.4,2,   98.50,2,   34.00,2,    0.00,2,    2.32,2,   0.053,2,   0.031,2,   0.0000,2,  2276.4,2,  2359.7,2,   -999.0,9,  -999.00,   7.5700,2,    25.00,-999.000,9,-999.0000,9, -999.00,9, -999.00,9,  -999.0,9,-999.000,9,-999.000,   0.077,3,-999.000,9,   37.39,2,   35.47,2, -999.00,9, -999.00,9, -999.00,9,-999.000,-999.0000,9,-999.0000,9,-999.0000,9,-999.0000,9,-999.0000,9,-999.0000,9,-999.0000,9,-999.0000,9,-999.0000,9,   1.9768,     -999.0,9,     -999.0,9,     -999.0,9,     -999.0,9,     -999.0,9,     -999.0,9,     -999.0,9,-999.0000, -999.00
33RO20071215,        P18,     124,          1,          8,      12021,2,20080130,       0651,   -43.2517,  -103.0003,       3759,  2400.2,   1.9654,  34.6906,2,  34.6904,2,    169.8,2,   169.9,2,  104.40,2,   33.80,2,    0.00,2,    2.31,2,-999.000,9,-999.000,9,-999.0000,9,  2280.9,2,  2370.4,2,   -999.0,9,  -999.00,   7.5790,2,    25.00,-999.000,9,-999.0000,9, -999.00,9, -999.00,9,  -999.0,9,-999.000,9,-999.000,-999.000,9,-999.000,9,   37.29,2,   35.24,2, -999.00,9, -999.00,9, -999.00,9,-999.000,-999.0000,9,-999.0000,9,-999.0000,9,-999.0000,9,-999.0000,9,-999.0000,9,-999.0000,9,-999.0000,9,-999.0000,9,   1.7946,     -999.0,9,     -999.0,9,     -999.0,9,     -999.0,9,     -999.0,9,     -999.0,9,     -999.0,9,-999.0000, -999.00
33RO20071215,        P18,     124,          1,          7,      12001,2,20080130,       0651,   -43.2517,  -103.0003,       3759,  2600.5,   1.8427,  34.6983,2,  34.6976,2,    172.1,2,   172.2,2,  109.20,2,   33.70,2,    0.00,2,    2.31,2,   0.035,2,   0.020,2,   0.0000,2,  2282.2,2,  2375.6,2,   -999.0,9,  -999.00,   7.5928,2,    25.00,-999.000,9,-999.0000,9, -999.00,9,    0.33,2,  -999.0,1,-999.000,9,-999.000,   0.048,3,-999.000,9,   37.78,2,   35.18,2, -999.00,9, -999.00,9, -999.00,9,-999.000,-999.0000,9,-999.0000,9,-999.0000,9,-999.0000,9,-999.0000,9,-999.0000,9,-999.0000,9,-999.0000,9,-999.0000,9,   1.6559,     -999.0,9,     -999.0,9,     -999.0,9,     -999.0,9,     -999.0,9,     -999.0,9,     -999.0,9,-999.0000, -999.00
33RO20071215,        P18,     124,          1,          6,      12033,2,20080130,       0651,   -43.2517,  -103.0003,       3759,  2800.3,   1.7279,  34.7039,2,  34.7037,2,    175.4,2,   175.4,2,  112.30,2,   33.60,2,    0.00,2,    2.29,2,-999.000,9,-999.000,9,-999.0000,9,  2281.8,2,  2356.8,4,   -999.0,9,  -999.00,   7.5913,2,    25.00,-999.000,9,-999.0000,9, -999.00,9, -999.00,9,  -999.0,9,-999.000,9,-999.000,-999.000,9,-999.000,9,   37.72,2,   34.89,2, -999.00,9, -999.00,9, -999.00,9,-999.000,-999.0000,9,-999.0000,9,-999.0000,9,-999.0000,9,-999.0000,9,-999.0000,9,-999.0000,9,-999.0000,9,-999.0000,9,   1.5249,     -999.0,9,     -999.0,9,     -999.0,9,     -999.0,9,     -999.0,9,     -999.0,9,     -999.0,9,-999.0000, -999.00
33RO20071215,        P18,     124,          1,          5,      12008,2,20080130,       0651,   -43.2517,  -103.0003,       3759,  3001.7,   1.6521,  34.7075,2,  34.7073,2,    178.7,2,   179.6,2,  113.90,2,   33.40,2,    0.00,2,    2.29,2,   0.015,2,   0.008,2,   0.0000,2,  2280.5,6,  -999.0,5,   -999.0,9,  -999.00,   7.5932,2,    25.00,-999.000,9,-999.0000,9, -999.00,9,    0.35,2,  -999.0,1,-999.000,9,-999.000,   0.030,3,-999.000,9,   38.22,2,   34.60,2, -999.00,9, -999.00,9, -999.00,9,-999.000,-999.0000,9,-999.0000,9,-999.0000,9,-999.0000,9,-999.0000,9,-999.0000,9,-999.0000,9,-999.0000,9,-999.0000,9,   1.4316,     -999.0,9,     -999.0,9,     -999.0,9,     -999.0,9,     -999.0,9,     -999.0,9,     -999.0,9,-999.0000, -999.00
33RO20071215,        P18,     124,          1,          4,      12009,2,20080130,       0651,   -43.2517,  -103.0003,       3759,  3250.8,   1.5369,  34.7099,2,  34.7087,2,    182.8,2,   182.7,2,  117.10,6,   33.40,6,    0.01,6,    2.26,2,-999.000,9,-999.000,9,-999.0000,9,  2281.3,2,  -999.0,5,   -999.0,9,  -999.00,   7.6080,2,    25.00,-999.000,9,-999.0000,9, -999.00,9, -999.00,9,  -999.0,9,-999.000,9,-999.000,-999.000,9,-999.000,9,   37.24,2,   34.82,2, -999.00,9, -999.00,9, -999.00,9,-999.000,-999.0000,9,-999.0000,9,-999.0000,9,-999.0000,9,-999.0000,9,-999.0000,9,-999.0000,9,-999.0000,9,-999.0000,9,   1.2947,     -999.0,9,     -999.0,9,     -999.0,9,     -999.0,9,     -999.0,9,     -999.0,9,     -999.0,9,-999.0000, -999.00
33RO20071215,        P18,     124,          1,          3,      12006,2,20080130,       0651,   -43.2517,  -103.0003,       3759,  3500.5,   1.3285,  34.7084,2,  34.7083,2,    187.0,2,   187.5,2,  123.20,6,   33.50,6,    0.00,6,    2.27,2,   0.031,3,   0.019,3,   0.0000,2,  2285.2,2,  2387.6,2,   -999.0,9,  -999.00,   7.6098,2,    25.00,-999.000,9,-999.0000,9, -999.00,9,    0.66,3,  -999.0,1,-999.000,9,-999.000,   0.037,3,-999.000,9,   37.90,2,   34.76,2, -999.00,9, -999.00,9, -999.00,9,-999.000,-999.0000,9,-999.0000,9,-999.0000,9,-999.0000,9,-999.0000,9,-999.0000,9,-999.0000,9,-999.0000,9,-999.0000,9,   1.0664,     -999.0,9,     -999.0,9,     -999.0,9,     -999.0,9,     -999.0,9,     -999.0,9,     -999.0,9,-999.0000, -999.00
33RO20071215,        P18,     124,          1,          2,      12007,2,20080130,       0651,   -43.2517,  -103.0003,       3759,  3749.3,   1.2265,  34.7091,2,  34.7101,2,    191.2,2,   190.9,2,  125.80,6,   33.40,6,    0.01,6,    2.26,2,-999.000,9,-999.000,9,-999.0000,9,  2284.0,2,  2388.9,2,   -999.0,9,  -999.00,   7.6160,2,    25.00,-999.000,9,-999.0000,9, -999.00,9, -999.00,9,  -999.0,9,-999.000,9,-999.000,-999.000,9,-999.000,9,   37.36,2,   34.86,2, -999.00,9, -999.00,9, -999.00,9,-999.000,-999.0000,9,-999.0000,9,-999.0000,9,-999.0000,9,-999.0000,9,-999.0000,9,-999.0000,9,-999.0000,9,-999.0000,9,   0.9416,     -999.0,9,     -999.0,9,     -999.0,9,     -999.0,9,     -999.0,9,     -999.0,9,     -999.0,9,-999.0000, -999.00
33RO20071215,        P18,     124,          1,          1,      12035,2,20080130,       0651,   -43.2517,  -103.0003,       3759,  3790.3,   1.2191,  34.7093,2,  34.7083,2,    191.7,2,   191.5,2,  125.80,2,   33.40,2,    0.01,2,    2.26,2,   0.043,3,   0.027,3,   0.0000,2,  2284.3,6,  2388.1,2,   -999.0,9,  -999.00,   7.6078,2,    25.00,-999.000,9,-999.0000,9, -999.00,9,    0.37,2,  -999.0,1,-999.000,9,-999.000,   0.043,3,-999.000,9,   38.10,2,   34.36,2, -999.00,9, -999.00,9, -999.00,9,-999.000,-999.0000,9,-999.0000,9,-999.0000,9,-999.0000,9,-999.0000,9,-999.0000,9,-999.0000,9,-999.0000,9,-999.0000,9,   0.9301,     -999.0,9,     -999.0,9,     -999.0,9,     -999.0,9,     -999.0,9,     -999.0,9,     -999.0,9,-999.0000, -999.00