BOTTLE,20220818CCHSIOAMB
EXPOCODE,SECT_ID,STNNBR,CASTNO,SAMPNO,BTLNBR,BTLNBR_FLAG_W,DATE,TIME,LATITUDE,LONGITUDE,DEPTH,CTDPRS,CTDTMP,CTDSAL,CTDSAL_FLAG_W,SALNTY,SALNTY_FLAG_W,CTDOXY,CTDOXY_FLAG_W,OXYGEN,OXYGEN_FLAG_W,SILCAT,SILCAT_FLAG_W,NITRAT,NITRAT_FLAG_W,NITRIT,NITRIT_FLAG_W,PHSPHT,PHSPHT_FLAG_W,CFC-11,CFC-11_FLAG_W,CFC-12,CFC-12_FLAG_W,SF6,SF6_FLAG_W,TCARBN,TCARBN_FLAG_W,ALKALI,ALKALI_FLAG_W,FCO2,FCO2_FLAG_W,FCO2TMP,PH_SWS,PH_SWS_FLAG_W,PH_TMP,TRITUM,TRITUM_FLAG_W,HELIUM,HELIUM_FLAG_W,DELHE3,DELHE3_FLAG_W,DELC13,DELC13_FLAG_W,DELC14,DELC14_FLAG_W,NEON,NEON_FLAG_W,NEONER,CCL4,CCL4_FLAG_W,POC,POC_FLAG_W,DOC,DOC_FLAG_W,TDN,TDN_FLAG_W,DON,DON_FLAG_W,CHLORA,CHLORA_FLAG_W,ARGON,ARGON_FLAG_W,TRITER,CDOM325,CDOM325_FLAG_W,CDOM340,CDOM340_FLAG_W,CDOM380,CDOM380_FLAG_W,CDOM412,CDOM412_FLAG_W,CDOM443,CDOM443_FLAG_W,CDOM490,CDOM490_FLAG_W,CDOM555,CDOM555_FLAG_W,CDOMSL,CDOMSL_FLAG_W,CDOMSN,CDOMSN_FLAG_W,THETA,D18O_NO3,D18O_NO3_FLAG_W,CDOM2C,CDOM2C_FLAG_W,CDOM3C,CDOM3C_FLAG_W,LAB_DEN,LAB_DEN_FLAG_W,DELSI30,DELSI30_FLAG_W,N2,N2_FLAG_W,D15N_NO3,D15N_NO3_FLAG_W,HELIER,DELHER
,,,,,,,,,,,METERS,DBAR,ITS-90,PSS-78,,PSS-78,,UMOL/KG,,UMOL/KG,,UMOL/KG,,UMOL/KG,,UMOL/KG,,UMOL/KG,,PMOL/KG,,PMOL/KG,,FMOL/KG,,UMOL/KG,,UMOL/KG,,UATM,,DEG C,,,DEG C,TU,,NMOL/KG,,PERCNT,,/MILLE,,/MILLE,,NMOL/KG,,NMOL/KG,PMOL/KG,,UG/KG,,UMOL/KG,,UMOL/KG,,UMOL/KG,,UG/KG,,UMOL/KG,,TU,1/M,,1/M,,1/M,,1/M,,1/M,,1/M,,1/M,,1/NM,,1/NM,,DEG C,/MILLE,,,,,,,,/MILLE,,UMOL/KG,,/MILLE,,NMOL/KG,PERCNT
33RO20071215,        P18,      49,          1,         11,      12003,2,20071231,       1146,    -1.9158,  -110.0382,       3932,  1799.0,   2.5856,  34.6293,2,  34.6295,2,     97.5,2,    97.5,2,  135.70,2,   39.80,2,    0.00,2,    2.80,2,   0.001,2,   0.001,2,   0.0000,2,  2342.5,2,  2407.1,2,   -999.0,9,  -999.00,   7.4904,2,    25.00,-999.000,9,-999.0000,9, -999.00,9, -999.00,9,  -999.0,9,-999.000,9,-999.000,-999.000,9,-999.000,9,   36.92,2,   41.17,2, -999.00,9, -999.00,9, -999.00,9,-999.000,-999.0000,9,-999.0000,9,-999.0000,9,-999.0000,9,-999.0000,9,-999.0000,9,-999.0000,9,-999.0000,9,-999.0000,9,   2.4576,     -999.0,9,     -999.0,9,     -999.0,9,     -999.0,9,     -999.0,9,     -999.0,9,     -999.0,9,-999.0000, -999.00
33RO20071215,        P18,      49,          1,         10,      12032,2,20071231,       1146,    -1.9158,  -110.0382,       3932,  1999.2,   2.3552,  34.6433,2,  34.6435,2,    100.7,2,   100.6,2,  143.60,2,   39.60,2,    0.00,2,    2.77,2,-999.000,9,-999.000,9,-999.0000,9,  2348.7,2,  2417.5,2,   1441.2,6,    20.00,   7.5022,2,    25.00,-999.000,9,-999.0000,9, -999.00,9, -999.00,9,  -999.0,9,-999.000,9,-999.000,-999.000,9,-999.000,9,   36.90,2,   41.04,2, -999.00,9, -999.00,9, -999.00,9,-999.000,-999.0000,9,-999.0000,9,-999.0000,9,-999.0000,9,-999.0000,9,-999.0000,9,-999.0000,9,-999.0000,9,-999.0000,9,   2.2134,     -999.0,9,     -999.0,9,     -999.0,9,     -999.0,9,     -999.0,9,     -999.0,9,     -999.0,9,-999.0000, -999.00
33RO20071215,        P18,      49,          1,          9,      12002,2,20071231,       1146,    -1.9158,  -110.0382,       3932,  2199.1,   2.0708,  34.6563,2,  34.6563,2,    112.4,2,   112.1,2,  147.10,2,   38.90,2,    0.00,2,    2.69,2,   0.001,2,   0.000,2,   0.0000,2,  2346.8,2,  2424.1,2,   -999.0,9,  -999.00,   7.5199,2,    25.00,-999.000,9,-999.0000,9, -999.00,9, -999.00,9,  -999.0,9,-999.000,9,-999.000,   0.002,3,-999.000,9,   36.70,2,   40.39,2, -999.00,9, -999.00,9, -999.00,9,-999.000,-999.0000,9,-999.0000,9,-999.0000,9,-999.0000,9,-999.0000,9,-999.0000,9,-999.0000,9,-999.0000,9,-999.0000,9,   1.9161,     -999.0,9,     -999.0,9,     -999.0,9,     -999.0,9,     -999.0,9,     -999.0,9,     -999.0,9,-999.0000, -999.00
33RO20071215,        P18,      49,          1,          8,      12021,2,20071231,       1146,    -1.9158,  -110.0382,       3932,  2399.5,   1.9090,  34.6627,2,  34.6624,2,    122.2,2,   122.1,2,  146.90,2,   38.40,2,    0.00,2,    2.64,2,-999.000,9,-999.000,9,-999.0000,9,  2342.8,2,  2422.5,2,   1323.6,2,    20.00,   7.5336,2,    25.00,-999.000,9,-999.0000,9, -999.00,9, -999.00,9,  -999.0,9,-999.000,9,-999.000,-999.000,9,-999.000,9,   36.80,2,   39.51,2, -999.00,9, -999.00,9, -999.00,9,-999.000,-999.0000,9,-999.0000,9,-999.0000,9,-999.0000,9,-999.0000,9,-999.0000,9,-999.0000,9,-999.0000,9,-999.0000,9,   1.7394,     -999.0,9,     -999.0,9,     -999.0,9,     -999.0,9,     -999.0,9,     -999.0,9,     -999.0,9,-999.0000, -999.00
33RO20071215,        P18,      49,          1,          7,      12001,2,20071231,       1146,    -1.9158,  -110.0382,       3932,  2599.9,   1.8224,  34.6673,2,  34.6669,2,    128.2,2,   127.7,2,  146.70,2,   37.80,2,    0.00,2,    2.60,2,  -0.001,2,   0.000,2,   0.0000,2,  2338.6,2,  2423.0,2,   -999.0,9,  -999.00,   7.5434,2,    25.00,-999.000,9,-999.0000,9, -999.00,9, -999.00,9,  -999.0,9,-999.000,9,-999.000,   0.002,3,-999.000,9,   36.41,2,   38.83,2, -999.00,9, -999.00,9, -999.00,9,-999.000,-999.0000,9,-999.0000,9,-999.0000,9,-999.0000,9,-999.0000,9,-999.0000,9,-999.0000,9,-999.0000,9,-999.0000,9,   1.6362,     -999.0,9,     -999.0,9,     -999.0,9,     -999.0,9,     -999.0,9,     -999.0,9,     -999.0,9,-999.0000, -999.00
33RO20071215,        P18,      49,          1,          6,      12033,4,20071231,       1146,    -1.9158,  -110.0382,       3932,  2800.4,   1.7595,  34.6719,2,  34.5817,4,    130.7,2,    84.2,3,  107.20,3,   40.40,3,    0.00,3,    2.87,3,-999.000,9,-999.000,9,-999.0000,9,  2319.2,3,  2376.5,4,   1534.6,4,    20.00,   7.4562,2,    25.00,-999.000,9,-999.0000,9, -999.00,9, -999.00,9,  -999.0,9,-999.000,9,-999.000,-999.000,9,-999.000,9,   37.19,3,   41.43,3, -999.00,9, -999.00,9, -999.00,9,-999.000,-999.0000,9,-999.0000,9,-999.0000,9,-999.0000,9,-999.0000,9,-999.0000,9,-999.0000,9,-999.0000,9,-999.0000,9,   1.5560,     -999.0,9,     -999.0,9,     -999.0,9,     -999.0,9,     -999.0,9,     -999.0,9,     -999.0,9,-999.0000, -999.00
33RO20071215,        P18,      49,          1,          5,      12008,4,20071231,       1146,    -1.9158,  -110.0382,       3932,  2996.8,   1.6939,  34.6737,2,  34.6558,4,    136.6,2,   113.2,3,  147.10,2,   38.60,2,    0.00,2,    2.70,2,  -0.001,2,   0.000,2,   0.0000,2,  2345.8,3,  2421.3,2,   -999.0,9,  -999.00,   7.5306,2,    25.00,-999.000,9,-999.0000,9, -999.00,9, -999.00,9,  -999.0,9,-999.000,9,-999.000,   0.002,3,-999.000,9,   36.80,3,   40.23,3, -999.00,9, -999.00,9, -999.00,9,-999.000,-999.0000,9,-999.0000,9,-999.0000,9,-999.0000,9,-999.0000,9,-999.0000,9,-999.0000,9,-999.0000,9,-999.0000,9,   1.4731,     -999.0,9,     -999.0,9,     -999.0,9,     -999.0,9,     -999.0,9,     -999.0,9,     -999.0,9,-999.0000, -999.00
33RO20071215,        P18,      49,          1,          4,      12009,2,20071231,       1146,    -1.9158,  -110.0382,       3932,  3250.0,   1.6110,  34.6805,2,  34.6799,2,    141.4,2,   141.9,2,  150.00,6,   37.00,6,    0.00,6,    2.53,2,-999.000,9,-999.000,9,-999.0000,9,  2333.6,2,  2426.6,2,   1219.6,2,    20.00,   7.5666,2,    25.00,-999.000,9,-999.0000,9, -999.00,9, -999.00,9,  -999.0,9,-999.000,9,-999.000,-999.000,9,-999.000,9,   36.80,2,   38.07,2, -999.00,9, -999.00,9, -999.00,9,-999.000,-999.0000,9,-999.0000,9,-999.0000,9,-999.0000,9,-999.0000,9,-999.0000,9,-999.0000,9,-999.0000,9,-999.0000,9,   1.3673,     -999.0,9,     -999.0,9,     -999.0,9,     -999.0,9,     -999.0,9,     -999.0,9,     -999.0,9,-999.0000, -999.00
33RO20071215,        P18,      49,          1,          3,      12006,2,20071231,       1146,    -1.9158,  -110.0382,       3932,  3499.8,   1.5495,  34.6861,2,  34.6856,2,    146.3,2,   146.7,2,  151.80,6,   36.80,6,    0.00,6,    2.50,2,  -0.001,2,   0.000,2,   0.0000,2,  2334.0,2,  2429.3,2,   -999.0,9,  -999.00,   7.5821,2,    25.00,-999.000,9,-999.0000,9, -999.00,9, -999.00,9,  -999.0,9,-999.000,9,-999.000,   0.002,3,-999.000,9,   36.56,2,   38.31,2, -999.00,9, -999.00,9, -999.00,9,-999.000,-999.0000,9,-999.0000,9,-999.0000,9,-999.0000,9,-999.0000,9,-999.0000,9,-999.0000,9,-999.0000,9,-999.0000,9,   1.2821,     -999.0,9,     -999.0,9,     -999.0,9,     -999.0,9,     -999.0,9,     -999.0,9,     -999.0,9,-999.0000, -999.00
33RO20071215,        P18,      49,          1,          2,      12007,2,20071231,       1146,    -1.9158,  -110.0382,       3932,  3748.5,   1.4712,  34.6918,2,  34.6916,2,    155.9,2,   156.8,2,  149.00,6,   36.10,6,    0.00,6,    2.45,2,-999.000,9,-999.000,9,-999.0000,9,  2328.5,2,  2427.9,2,   1133.5,2,    20.00,   7.6078,2,    25.00,-999.000,9,-999.0000,9, -999.00,9, -999.00,9,  -999.0,9,-999.000,9,-999.000,-999.000,9,-999.000,9,   37.89,2,   37.82,2, -999.00,9, -999.00,9, -999.00,9,-999.000,-999.0000,9,-999.0000,9,-999.0000,9,-999.0000,9,-999.0000,9,-999.0000,9,-999.0000,9,-999.0000,9,-999.0000,9,   1.1800,     -999.0,9,     -999.0,9,     -999.0,9,     -999.0,9,     -999.0,9,     -999.0,9,     -999.0,9,-999.0000, -999.00
33RO20071215,        P18,      49,          1,          1,      12035,2,20071231,       1146,    -1.9158,  -110.0382,       3932,  3979.5,   1.4756,  34.6929,2,  34.6906,2,    158.7,2,   157.8,2,  148.70,2,   36.10,2,    0.00,2,    2.44,2,   0.000,6,   0.000,6,   0.0000,6,  2325.6,6,  2431.4,2,   -999.0,9,  -999.00,   7.6119,2,    25.00,-999.000,9,-999.0000,9, -999.00,9, -999.00,9,  -999.0,9,-999.000,9,-999.000,   0.003,3,-999.000,9,   38.70,3,   37.68,3, -999.00,9, -999.00,9, -999.00,9,-999.000,-999.0000,9,-999.0000,9,-999.0000,9,-999.0000,9,-999.0000,9,-999.0000,9,-999.0000,9,-999.0000,9,-999.0000,9,   1.1595,     -999.0,9,     -999.0,9,     -999.0,9,     -999.0,9,     -999.0,9,     -999.0,9,     -999.0,9,-999.0000, -999.00