BOTTLE,20220818CCHSIOAMB
EXPOCODE,SECT_ID,STNNBR,CASTNO,SAMPNO,BTLNBR,BTLNBR_FLAG_W,DATE,TIME,LATITUDE,LONGITUDE,DEPTH,CTDPRS,CTDTMP,CTDSAL,CTDSAL_FLAG_W,SALNTY,SALNTY_FLAG_W,CTDOXY,CTDOXY_FLAG_W,OXYGEN,OXYGEN_FLAG_W,SILCAT,SILCAT_FLAG_W,NITRAT,NITRAT_FLAG_W,NITRIT,NITRIT_FLAG_W,PHSPHT,PHSPHT_FLAG_W,CFC-11,CFC-11_FLAG_W,CFC-12,CFC-12_FLAG_W,SF6,SF6_FLAG_W,TCARBN,TCARBN_FLAG_W,ALKALI,ALKALI_FLAG_W,FCO2,FCO2_FLAG_W,FCO2TMP,PH_SWS,PH_SWS_FLAG_W,PH_TMP,TRITUM,TRITUM_FLAG_W,HELIUM,HELIUM_FLAG_W,DELHE3,DELHE3_FLAG_W,DELC13,DELC13_FLAG_W,DELC14,DELC14_FLAG_W,NEON,NEON_FLAG_W,NEONER,CCL4,CCL4_FLAG_W,POC,POC_FLAG_W,DOC,DOC_FLAG_W,TDN,TDN_FLAG_W,DON,DON_FLAG_W,CHLORA,CHLORA_FLAG_W,ARGON,ARGON_FLAG_W,TRITER,CDOM325,CDOM325_FLAG_W,CDOM340,CDOM340_FLAG_W,CDOM380,CDOM380_FLAG_W,CDOM412,CDOM412_FLAG_W,CDOM443,CDOM443_FLAG_W,CDOM490,CDOM490_FLAG_W,CDOM555,CDOM555_FLAG_W,CDOMSL,CDOMSL_FLAG_W,CDOMSN,CDOMSN_FLAG_W,THETA,D18O_NO3,D18O_NO3_FLAG_W,CDOM2C,CDOM2C_FLAG_W,CDOM3C,CDOM3C_FLAG_W,LAB_DEN,LAB_DEN_FLAG_W,DELSI30,DELSI30_FLAG_W,N2,N2_FLAG_W,D15N_NO3,D15N_NO3_FLAG_W,HELIER,DELHER
,,,,,,,,,,,METERS,DBAR,ITS-90,PSS-78,,PSS-78,,UMOL/KG,,UMOL/KG,,UMOL/KG,,UMOL/KG,,UMOL/KG,,UMOL/KG,,PMOL/KG,,PMOL/KG,,FMOL/KG,,UMOL/KG,,UMOL/KG,,UATM,,DEG C,,,DEG C,TU,,NMOL/KG,,PERCNT,,/MILLE,,/MILLE,,NMOL/KG,,NMOL/KG,PMOL/KG,,UG/KG,,UMOL/KG,,UMOL/KG,,UMOL/KG,,UG/KG,,UMOL/KG,,TU,1/M,,1/M,,1/M,,1/M,,1/M,,1/M,,1/M,,1/NM,,1/NM,,DEG C,/MILLE,,,,,,,,/MILLE,,UMOL/KG,,/MILLE,,NMOL/KG,PERCNT
33RO20071215,        P18,     101,          1,         11,      12003,2,20080123,       1845,   -29.8330,  -102.9987,       3321,  1534.7,   2.6702,  34.5683,2,  34.5690,2,    144.3,2,   144.6,2,   90.90,2,   36.40,2,    0.00,2,    2.55,2,   0.006,2,   0.004,2,   0.0000,2,  -999.0,9,  -999.0,9,   -999.0,9,  -999.00,-999.0000,9,  -999.00,-999.000,9,-999.0000,9, -999.00,9, -999.00,9,  -999.0,9,-999.000,9,-999.000,-999.000,9,-999.000,9, -999.00,9, -999.00,9, -999.00,9, -999.00,9, -999.00,9,-999.000,-999.0000,9,-999.0000,9,-999.0000,9,-999.0000,9,-999.0000,9,-999.0000,9,-999.0000,9,-999.0000,9,-999.0000,9,   2.5633,     -999.0,9,     -999.0,9,     -999.0,9,     -999.0,9,     -999.0,9,     -999.0,9,     -999.0,9,-999.0000, -999.00
33RO20071215,        P18,     101,          1,         10,      12032,2,20080123,       1845,   -29.8330,  -102.9987,       3321,  1667.0,   2.4283,  34.5947,2,  34.5956,2,    151.9,2,   151.7,2,   96.50,2,   35.70,2,    0.00,2,    2.49,2,-999.000,9,-999.000,9,-999.0000,9,  2283.7,2,  2385.3,4,   -999.0,9,  -999.00,   7.5599,2,    25.00,-999.000,9,-999.0000,9, -999.00,9, -999.00,9,  -999.0,9,-999.000,9,-999.000,-999.000,9,-999.000,9, -999.00,9, -999.00,9, -999.00,9, -999.00,9, -999.00,9,-999.000,-999.0000,9,-999.0000,9,-999.0000,9,-999.0000,9,-999.0000,9,-999.0000,9,-999.0000,9,-999.0000,9,-999.0000,9,   2.3136,     -999.0,9,     -999.0,9,     -999.0,9,     -999.0,9,     -999.0,9,     -999.0,9,     -999.0,9,-999.0000, -999.00
33RO20071215,        P18,     101,          1,          9,      12002,2,20080123,       1845,   -29.8330,  -102.9987,       3321,  1866.1,   2.1970,  34.6251,2,  34.6260,2,    156.4,2,   156.4,2,  104.10,2,   35.30,2,    0.00,2,    2.46,2,   0.004,2,   0.004,2,   0.0000,2,  2288.2,2,  2394.8,4,   1186.5,2,    20.00,   7.5799,2,    25.00,-999.000,9,-999.0000,9, -999.00,9, -999.00,9,  -999.0,9,-999.000,9,-999.000,-999.000,9,-999.000,9, -999.00,9, -999.00,9, -999.00,9, -999.00,9, -999.00,9,-999.000,-999.0000,9,-999.0000,9,-999.0000,9,-999.0000,9,-999.0000,9,-999.0000,9,-999.0000,9,-999.0000,9,-999.0000,9,   2.0688,     -999.0,9,     -999.0,9,     -999.0,9,     -999.0,9,     -999.0,9,     -999.0,9,     -999.0,9,-999.0000, -999.00
33RO20071215,        P18,     101,          1,          8,      12021,2,20080123,       1845,   -29.8330,  -102.9987,       3321,  2067.6,   2.0072,  34.6466,2,  34.6509,2,    157.2,2,   157.3,2,  112.40,2,   35.20,2,    0.00,2,    2.45,2,-999.000,9,-999.000,9,-999.0000,9,  -999.0,9,  -999.0,9,   -999.0,9,  -999.00,-999.0000,9,  -999.00,-999.000,9,-999.0000,9, -999.00,9, -999.00,9,  -999.0,9,-999.000,9,-999.000,-999.000,9,-999.000,9, -999.00,9, -999.00,9, -999.00,9, -999.00,9, -999.00,9,-999.000,-999.0000,9,-999.0000,9,-999.0000,9,-999.0000,9,-999.0000,9,-999.0000,9,-999.0000,9,-999.0000,9,-999.0000,9,   1.8649,     -999.0,9,     -999.0,9,     -999.0,9,     -999.0,9,     -999.0,9,     -999.0,9,     -999.0,9,-999.0000, -999.00
33RO20071215,        P18,     101,          1,          7,      12001,2,20080123,       1845,   -29.8330,  -102.9987,       3321,  2267.5,   1.8917,  34.6599,2,  34.6618,2,    158.5,2,   158.6,2,  117.50,2,   35.00,2,    0.00,2,    2.44,2,-999.000,9,-999.000,9,-999.0000,9,  -999.0,9,  -999.0,9,   -999.0,9,  -999.00,-999.0000,9,  -999.00,-999.000,9,-999.0000,9, -999.00,9, -999.00,9,  -999.0,9,-999.000,9,-999.000,-999.000,9,-999.000,9, -999.00,9, -999.00,9, -999.00,9, -999.00,9, -999.00,9,-999.000,-999.0000,9,-999.0000,9,-999.0000,9,-999.0000,9,-999.0000,9,-999.0000,9,-999.0000,9,-999.0000,9,-999.0000,9,   1.7341,     -999.0,9,     -999.0,9,     -999.0,9,     -999.0,9,     -999.0,9,     -999.0,9,     -999.0,9,-999.0000, -999.00
33RO20071215,        P18,     101,          1,          6,      12033,2,20080123,       1845,   -29.8330,  -102.9987,       3321,  2467.2,   1.8380,  34.6672,2,  34.6683,2,    159.5,2,   159.8,2,  119.80,2,   35.00,2,    0.00,2,    2.42,2,   0.001,2,   0.001,2,   0.0000,2,  2300.5,2,  2399.1,4,   -999.0,9,  -999.00,   7.5794,2,    25.00,-999.000,9,-999.0000,9, -999.00,9, -999.00,9,  -999.0,9,-999.000,9,-999.000,   0.005,3,-999.000,9, -999.00,9, -999.00,9, -999.00,9, -999.00,9, -999.00,9,-999.000,-999.0000,9,-999.0000,9,-999.0000,9,-999.0000,9,-999.0000,9,-999.0000,9,-999.0000,9,-999.0000,9,-999.0000,9,   1.6636,     -999.0,9,     -999.0,9,     -999.0,9,     -999.0,9,     -999.0,9,     -999.0,9,     -999.0,9,-999.0000, -999.00
33RO20071215,        P18,     101,          1,          5,      12008,2,20080123,       1845,   -29.8330,  -102.9987,       3321,  2669.3,   1.8329,  34.6709,2,  34.6728,2,    160.8,2,   161.1,2,  120.00,2,   34.90,2,    0.00,2,    2.42,2,-999.000,9,-999.000,9,-999.0000,9,  -999.0,9,  -999.0,9,   -999.0,9,  -999.00,-999.0000,9,  -999.00,-999.000,9,-999.0000,9, -999.00,9, -999.00,9,  -999.0,9,-999.000,9,-999.000,-999.000,9,-999.000,9, -999.00,9, -999.00,9, -999.00,9, -999.00,9, -999.00,9,-999.000,-999.0000,9,-999.0000,9,-999.0000,9,-999.0000,9,-999.0000,9,-999.0000,9,-999.0000,9,-999.0000,9,-999.0000,9,   1.6401,     -999.0,9,     -999.0,9,     -999.0,9,     -999.0,9,     -999.0,9,     -999.0,9,     -999.0,9,-999.0000, -999.00
33RO20071215,        P18,     101,          1,          4,      12009,2,20080123,       1845,   -29.8330,  -102.9987,       3321,  2865.8,   1.8315,  34.6754,2,  34.6766,2,    162.0,2,   162.4,2,  119.60,6,   34.80,6,    0.00,6,    2.41,2,   0.046,3,   0.031,3,   0.0000,2,  2298.3,2,  2397.2,4,   1142.6,2,    20.00,   7.5900,2,    25.00,-999.000,9,-999.0000,9, -999.00,9, -999.00,9,  -999.0,9,-999.000,9,-999.000,   0.040,3,-999.000,9, -999.00,9, -999.00,9, -999.00,9, -999.00,9, -999.00,9,-999.000,-999.0000,9,-999.0000,9,-999.0000,9,-999.0000,9,-999.0000,9,-999.0000,9,-999.0000,9,-999.0000,9,-999.0000,9,   1.6203,     -999.0,9,     -999.0,9,     -999.0,9,     -999.0,9,     -999.0,9,     -999.0,9,     -999.0,9,-999.0000, -999.00
33RO20071215,        P18,     101,          1,          3,      12006,2,20080123,       1845,   -29.8330,  -102.9987,       3321,  3083.4,   1.8290,  34.6801,2,  34.6808,2,    163.7,2,   162.6,2,  119.00,6,   34.60,6,    0.00,6,    2.40,2,   0.000,2,   0.001,2,   0.0000,2,  -999.0,9,  -999.0,9,   -999.0,9,  -999.00,-999.0000,9,  -999.00,-999.000,9,-999.0000,9, -999.00,9, -999.00,9,  -999.0,9,-999.000,9,-999.000,   0.005,3,-999.000,9, -999.00,9, -999.00,9, -999.00,9, -999.00,9, -999.00,9,-999.000,-999.0000,9,-999.0000,9,-999.0000,9,-999.0000,9,-999.0000,9,-999.0000,9,-999.0000,9,-999.0000,9,-999.0000,9,   1.5967,     -999.0,9,     -999.0,9,     -999.0,9,     -999.0,9,     -999.0,9,     -999.0,9,     -999.0,9,-999.0000, -999.00
33RO20071215,        P18,     101,          1,          2,      12007,2,20080123,       1845,   -29.8330,  -102.9987,       3321,  3332.6,   1.8301,  34.6847,2,  34.6861,2,    165.4,2,   165.1,2,  118.40,6,   34.50,6,    0.00,6,    2.38,2,   0.006,2,   0.003,2,   0.0000,2,  2296.8,2,  2410.7,4,   -999.0,9,  -999.00,   7.5855,2,    25.00,-999.000,9,-999.0000,9, -999.00,9, -999.00,9,  -999.0,9,-999.000,9,-999.000,   0.008,3,-999.000,9, -999.00,9, -999.00,9, -999.00,9, -999.00,9, -999.00,9,-999.000,-999.0000,9,-999.0000,9,-999.0000,9,-999.0000,9,-999.0000,9,-999.0000,9,-999.0000,9,-999.0000,9,-999.0000,9,   1.5728,     -999.0,9,     -999.0,9,     -999.0,9,     -999.0,9,     -999.0,9,     -999.0,9,     -999.0,9,-999.0000, -999.00
33RO20071215,        P18,     101,          1,          1,      12035,2,20080123,       1845,   -29.8330,  -102.9987,       3321,  3368.7,   1.8320,  34.6852,2,  34.6857,2,    165.7,2,   165.0,2,  118.50,2,   34.60,2,    0.00,2,    2.39,2,   0.000,6,   0.000,6,   0.0000,6,  2295.7,6,  2519.4,4,   1137.4,2,    20.00,   7.5882,2,    25.00,-999.000,9,-999.0000,9, -999.00,9, -999.00,9,  -999.0,9,-999.000,9,-999.000,   0.001,3,-999.000,9, -999.00,9, -999.00,9, -999.00,9, -999.00,9, -999.00,9,-999.000,-999.0000,9,-999.0000,9,-999.0000,9,-999.0000,9,-999.0000,9,-999.0000,9,-999.0000,9,-999.0000,9,-999.0000,9,   1.5710,     -999.0,9,     -999.0,9,     -999.0,9,     -999.0,9,     -999.0,9,     -999.0,9,     -999.0,9,-999.0000, -999.00