BOTTLE,20220818CCHSIOAMB
EXPOCODE,SECT_ID,STNNBR,CASTNO,SAMPNO,BTLNBR,BTLNBR_FLAG_W,DATE,TIME,LATITUDE,LONGITUDE,DEPTH,CTDPRS,CTDTMP,CTDSAL,CTDSAL_FLAG_W,SALNTY,SALNTY_FLAG_W,CTDOXY,CTDOXY_FLAG_W,OXYGEN,OXYGEN_FLAG_W,SILCAT,SILCAT_FLAG_W,NITRAT,NITRAT_FLAG_W,NITRIT,NITRIT_FLAG_W,PHSPHT,PHSPHT_FLAG_W,CFC-11,CFC-11_FLAG_W,CFC-12,CFC-12_FLAG_W,SF6,SF6_FLAG_W,TCARBN,TCARBN_FLAG_W,ALKALI,ALKALI_FLAG_W,FCO2,FCO2_FLAG_W,FCO2TMP,PH_SWS,PH_SWS_FLAG_W,PH_TMP,TRITUM,TRITUM_FLAG_W,HELIUM,HELIUM_FLAG_W,DELHE3,DELHE3_FLAG_W,DELC13,DELC13_FLAG_W,DELC14,DELC14_FLAG_W,NEON,NEON_FLAG_W,NEONER,CCL4,CCL4_FLAG_W,POC,POC_FLAG_W,DOC,DOC_FLAG_W,TDN,TDN_FLAG_W,DON,DON_FLAG_W,CHLORA,CHLORA_FLAG_W,ARGON,ARGON_FLAG_W,TRITER,CDOM325,CDOM325_FLAG_W,CDOM340,CDOM340_FLAG_W,CDOM380,CDOM380_FLAG_W,CDOM412,CDOM412_FLAG_W,CDOM443,CDOM443_FLAG_W,CDOM490,CDOM490_FLAG_W,CDOM555,CDOM555_FLAG_W,CDOMSL,CDOMSL_FLAG_W,CDOMSN,CDOMSN_FLAG_W,THETA,D18O_NO3,D18O_NO3_FLAG_W,CDOM2C,CDOM2C_FLAG_W,CDOM3C,CDOM3C_FLAG_W,LAB_DEN,LAB_DEN_FLAG_W,DELSI30,DELSI30_FLAG_W,N2,N2_FLAG_W,D15N_NO3,D15N_NO3_FLAG_W,HELIER,DELHER
,,,,,,,,,,,METERS,DBAR,ITS-90,PSS-78,,PSS-78,,UMOL/KG,,UMOL/KG,,UMOL/KG,,UMOL/KG,,UMOL/KG,,UMOL/KG,,PMOL/KG,,PMOL/KG,,FMOL/KG,,UMOL/KG,,UMOL/KG,,UATM,,DEG C,,,DEG C,TU,,NMOL/KG,,PERCNT,,/MILLE,,/MILLE,,NMOL/KG,,NMOL/KG,PMOL/KG,,UG/KG,,UMOL/KG,,UMOL/KG,,UMOL/KG,,UG/KG,,UMOL/KG,,TU,1/M,,1/M,,1/M,,1/M,,1/M,,1/M,,1/M,,1/NM,,1/NM,,DEG C,/MILLE,,,,,,,,/MILLE,,UMOL/KG,,/MILLE,,NMOL/KG,PERCNT
33RO20071215,        P18,      59,          1,         36,      12017,2,20080104,       1714,    -6.6652,  -107.6787,       3191,     5.9,  23.4168,  35.0886,2,  35.0882,2,    217.4,2,   222.9,3,    5.80,2,   11.80,2,    0.30,2,    0.87,2,   1.933,6,   1.209,6,   1.0969,6,  2069.6,6,  2318.1,2,   -999.0,9,  -999.00,   7.9336,2,    25.00,-999.000,9,-999.0000,9, -999.00,9, -999.00,9,  -999.0,9,-999.000,9,-999.000,-999.000,9,-999.000,9,   62.35,2,   16.96,2, -999.00,1,    0.00,2, -999.00,9,-999.000,   0.1032,2,   0.0731,2,   0.0356,2,   0.0282,2,   0.0196,2,   0.0099,2,   0.0038,2,   0.0127,2,   0.0154,2,  23.4156,     -999.0,9,     -999.0,9,     -999.0,9,     -999.0,9,     -999.0,9,     -999.0,9,     -999.0,9,-999.0000, -999.00
33RO20071215,        P18,      59,          1,         35,      12029,2,20080104,       1714,    -6.6652,  -107.6787,       3191,     9.8,  23.4062,  35.0883,2,  35.0882,2,    217.5,2,   217.6,2,    5.80,2,   11.80,2,    0.29,2,    0.87,2,   1.937,2,   1.207,2,   1.0890,2,  2070.6,2,  2314.1,2,   -999.0,9,  -999.00,   7.9452,2,    25.00,-999.000,9,-999.0000,9, -999.00,9, -999.00,9,  -999.0,9,-999.000,9,-999.000,-999.000,9,-999.000,9,   62.05,2,   15.15,2, -999.00,1,    0.12,2, -999.00,9,-999.000,   0.0910,2,   0.0620,2,   0.0287,2,   0.0225,2,   0.0149,2,   0.0069,2,   0.0019,2,   0.0136,2,   0.0175,2,  23.4042,     -999.0,9,     -999.0,9,     -999.0,9,     -999.0,9,     -999.0,9,     -999.0,9,     -999.0,9,-999.0000, -999.00
33RO20071215,        P18,      59,          1,         34,      12049,2,20080104,       1714,    -6.6652,  -107.6787,       3191,    17.2,  23.3142,  35.0863,2,  35.0866,2,    217.5,2,   217.6,2,    5.80,2,   11.80,2,    0.29,2,    0.87,2,   1.945,2,   1.216,2,   1.0616,2,  2070.8,2,  2299.8,4,   -999.0,9,  -999.00,   7.9375,2,    25.00,-999.000,9,-999.0000,9, -999.00,9, -999.00,9,  -999.0,9,-999.000,9,-999.000,-999.000,9,-999.000,9,   61.69,2,   15.44,2, -999.00,1,    0.10,2, -999.00,9,-999.000,   0.0987,2,   0.0699,2,   0.0372,2,   0.0297,2,   0.0209,2,   0.0109,2,   0.0044,2,   0.0120,2,   0.0139,2,  23.3107,     -999.0,9,     -999.0,9,     -999.0,9,     -999.0,9,     -999.0,9,     -999.0,9,     -999.0,9,-999.0000, -999.00
33RO20071215,        P18,      59,          1,         33,      12027,2,20080104,       1714,    -6.6652,  -107.6787,       3191,    33.5,  23.3068,  35.0863,2,  35.0884,2,    217.9,2,   217.7,2,    5.80,2,   11.80,2,    0.29,2,    0.88,2,   1.920,2,   1.199,2,   1.0504,2,  2070.7,2,  2315.5,2,   -999.0,9,  -999.00,   7.9336,2,    25.00,-999.000,9,-999.0000,9, -999.00,9, -999.00,9,  -999.0,9,-999.000,9,-999.000,-999.000,9,-999.000,9,   61.49,2,   14.85,2, -999.00,1,    0.11,2, -999.00,9,-999.000,   0.0932,2,   0.0651,2,   0.0355,2,   0.0288,2,   0.0200,2,   0.0099,2,   0.0037,2,   0.0119,2,   0.0138,2,  23.2999,     -999.0,9,     -999.0,9,     -999.0,9,     -999.0,9,     -999.0,9,     -999.0,9,     -999.0,9,-999.0000, -999.00
33RO20071215,        P18,      59,          1,         32,      12023,2,20080104,       1714,    -6.6652,  -107.6787,       3191,    52.8,  23.2934,  35.0954,2,  35.1129,2,    217.4,2,   217.2,2,    5.40,2,   11.60,2,    0.29,2,    0.88,2,   1.938,2,   1.204,2,   1.0591,2,  2071.0,2,  2317.1,2,   -999.0,9,  -999.00,   7.9435,2,    25.00,-999.000,9,-999.0000,9, -999.00,9, -999.00,9,  -999.0,9,-999.000,9,-999.000,-999.000,9,-999.000,9,   60.92,2,   14.44,2, -999.00,1,    0.13,2, -999.00,9,-999.000,   0.1004,2,   0.0723,2,   0.0427,2,   0.0344,2,   0.0246,2,   0.0130,2,   0.0056,2,   0.0113,2,   0.0121,2,  23.2825,     -999.0,9,     -999.0,9,     -999.0,9,     -999.0,9,     -999.0,9,     -999.0,9,     -999.0,9,-999.0000, -999.00
33RO20071215,        P18,      59,          1,         31,      12037,2,20080104,       1714,    -6.6652,  -107.6787,       3191,    72.8,  21.7025,  35.5102,2,  35.4990,2,    193.5,2,   189.5,2,    3.80,2,    7.40,2,    0.65,2,    0.84,2,   2.027,2,   1.253,2,   1.0003,2,  2096.0,2,  2342.6,4,   -999.0,9,  -999.00,   7.9312,2,    25.00,-999.000,9,-999.0000,9, -999.00,9, -999.00,9,  -999.0,9,-999.000,9,-999.000,-999.000,9,-999.000,9,   56.22,2,   10.48,2, -999.00,1,    0.16,2, -999.00,9,-999.000,   0.1601,2,   0.1180,2,   0.0638,2,   0.0484,2,   0.0324,2,   0.0172,2,   0.0080,2,   0.0127,2,   0.0139,2,  21.6882,     -999.0,9,     -999.0,9,     -999.0,9,     -999.0,9,     -999.0,9,     -999.0,9,     -999.0,9,-999.0000, -999.00
33RO20071215,        P18,      59,          1,         30,      12036,2,20080104,       1714,    -6.6652,  -107.6787,       3191,    92.5,  17.3596,  35.1343,2,  35.1379,2,     89.0,2,    89.7,2,    7.90,2,   18.70,2,    1.57,2,    1.63,2,   2.051,2,   1.211,2,   0.7762,2,  2179.9,2,  2312.2,2,   -999.0,9,  -999.00,   7.6911,2,    25.00,-999.000,9,-999.0000,9, -999.00,9, -999.00,9,  -999.0,9,-999.000,9,-999.000,-999.000,9,-999.000,9,   54.48,2,   22.47,2, -999.00,1,    0.16,2, -999.00,9,-999.000,   0.2117,2,   0.1598,2,   0.0881,2,   0.0666,2,   0.0438,2,   0.0237,2,   0.0114,2,   0.0123,2,   0.0134,2,  17.3442,     -999.0,9,     -999.0,9,     -999.0,9,     -999.0,9,     -999.0,9,     -999.0,9,     -999.0,9,-999.0000, -999.00
33RO20071215,        P18,      59,          1,         29,      12044,2,20080104,       1714,    -6.6652,  -107.6787,       3191,   117.0,  15.1093,  35.0500,2,  35.0462,2,     31.9,2,    37.0,2,   12.60,2,   22.90,2,    0.08,2,    2.05,2,   1.798,2,   1.039,2,   0.5871,2,  2220.7,2,  2302.4,2,   -999.0,9,  -999.00,   7.5710,2,    25.00,-999.000,9,-999.0000,9, -999.00,9, -999.00,9,  -999.0,9,-999.000,9,-999.000,-999.000,9,-999.000,9,   52.98,2,   25.15,2, -999.00,1,    0.09,2, -999.00,9,-999.000,   0.2008,2,   0.1498,2,   0.0851,2,   0.0677,2,   0.0432,2,   0.0219,2,   0.0102,2,   0.0127,2,   0.0131,2,  15.0915,     -999.0,9,     -999.0,9,     -999.0,9,     -999.0,9,     -999.0,9,     -999.0,9,     -999.0,9,-999.0000, -999.00
33RO20071215,        P18,      59,          1,         28,      12057,2,20080104,       1714,    -6.6652,  -107.6787,       3191,   142.0,  13.3527,  34.9614,2,  34.9581,2,     23.5,2,    22.5,2,   17.90,2,   27.80,2,    0.01,2,    2.23,2,   1.146,2,   0.651,2,   0.2954,2,  2234.4,2,  2297.7,2,   -999.0,9,  -999.00,   7.5152,2,    25.00,-999.000,9,-999.0000,9, -999.00,9, -999.00,9,  -999.0,9,-999.000,9,-999.000,-999.000,9,-999.000,9,   47.55,2,   30.17,2, -999.00,1,    0.02,2, -999.00,9,-999.000,   0.1799,2,   0.1325,2,   0.0758,2,   0.0611,2,   0.0386,2,   0.0187,2,   0.0085,2,   0.0130,2,   0.0132,2,  13.3329,     -999.0,9,     -999.0,9,     -999.0,9,     -999.0,9,     -999.0,9,     -999.0,9,     -999.0,9,-999.0000, -999.00
33RO20071215,        P18,      59,          1,         27,      12026,2,20080104,       1714,    -6.6652,  -107.6787,       3191,   166.4,  12.3773,  34.9151,2,  34.9180,2,     31.2,2,    32.6,2,   21.30,2,   30.00,2,    0.01,2,    2.22,2,   0.788,6,   0.450,6,   0.1807,6,  2232.4,2,  2306.3,2,   -999.0,9,  -999.00,   7.5350,2,    25.00,-999.000,9,-999.0000,9, -999.00,9, -999.00,9,  -999.0,9,-999.000,9,-999.000,-999.000,9,-999.000,9,   46.07,2,   31.96,2, -999.00,1,    0.01,2, -999.00,9,-999.000,   0.2009,2,   0.1516,2,   0.0913,2,   0.0734,2,   0.0489,2,   0.0253,2,   0.0122,2,   0.0119,2,   0.0120,2,  12.3552,     -999.0,9,     -999.0,9,     -999.0,9,     -999.0,9,     -999.0,9,     -999.0,9,     -999.0,9,-999.0000, -999.00
33RO20071215,        P18,      59,          1,         26,      12030,2,20080104,       1714,    -6.6652,  -107.6787,       3191,   192.7,  11.7602,  34.8765,2,  34.8723,2,     45.4,2,    45.3,2,   23.10,2,   30.30,2,    0.01,2,    2.16,2,   0.675,2,   0.394,2,   0.1411,2,  2227.5,2,  2304.1,2,   -999.0,9,  -999.00,   7.5379,2,    25.00,-999.000,9,-999.0000,9, -999.00,9, -999.00,9,  -999.0,9,-999.000,9,-999.000,-999.000,9,-999.000,9,   45.38,2,   32.15,2, -999.00,1,    0.00,2, -999.00,9,-999.000,   0.1866,2,   0.1399,2,   0.0832,2,   0.0653,2,   0.0432,2,   0.0213,2,   0.0096,2,   0.0127,2,   0.0126,2,  11.7354,     -999.0,9,     -999.0,9,     -999.0,9,     -999.0,9,     -999.0,9,     -999.0,9,     -999.0,9,-999.0000, -999.00
33RO20071215,        P18,      59,          1,         25,      12024,2,20080104,       1714,    -6.6652,  -107.6787,       3191,   234.2,  11.0703,  34.8223,2,  34.8197,2,     36.5,2,    30.5,2,   27.30,2,   32.60,2,    0.01,2,    2.35,2,   0.467,2,   0.274,2,   0.0583,2,  2244.4,2,  2272.5,4,   -999.0,9,  -999.00,   7.4732,2,    25.00,-999.000,9,-999.0000,9, -999.00,9, -999.00,9,  -999.0,9,-999.000,9,-999.000,-999.000,9,-999.000,9,   44.56,2,   33.69,2, -999.00,1,    0.01,2, -999.00,9,-999.000,   0.1841,2,   0.1373,2,   0.0820,2,   0.0666,2,   0.0424,2,   0.0192,2,   0.0082,2,   0.0133,2,   0.0126,2,  11.0413,     -999.0,9,     -999.0,9,     -999.0,9,     -999.0,9,     -999.0,9,     -999.0,9,     -999.0,9,-999.0000, -999.00
33RO20071215,        P18,      59,          1,         24,      12019,2,20080104,       1714,    -6.6652,  -107.6787,       3191,   284.3,  10.5452,  34.7847,2,  34.7810,2,     22.7,2,    20.8,2,   30.60,2,   34.30,2,    0.00,2,    2.49,2,   0.319,2,   0.192,2,   0.0787,2,  2256.8,2,  2300.8,2,   -999.0,9,  -999.00,   7.4501,2,    25.00,-999.000,9,-999.0000,9, -999.00,9, -999.00,9,  -999.0,9,-999.000,9,-999.000,-999.000,9,-999.000,9,   43.91,2,   35.31,2, -999.00,1, -999.00,9, -999.00,9,-999.000,   0.1849,2,   0.1373,2,   0.0824,2,   0.0671,2,   0.0424,2,   0.0183,2,   0.0075,2,   0.0136,2,   0.0127,2,  10.5110,     -999.0,9,     -999.0,9,     -999.0,9,     -999.0,9,     -999.0,9,     -999.0,9,     -999.0,9,-999.0000, -999.00
33RO20071215,        P18,      59,          1,         23,      12022,2,20080104,       1714,    -6.6652,  -107.6787,       3191,   332.7,  10.0706,  34.7533,2,  34.7513,2,     14.4,2,    14.3,2,   33.20,2,   35.80,2,    0.01,2,    2.60,2,   0.228,2,   0.141,2,   0.0783,2,  2265.8,2,  2288.4,4,   -999.0,9,  -999.00,   7.4257,2,    25.00,-999.000,9,-999.0000,9, -999.00,9, -999.00,9,  -999.0,9,-999.000,9,-999.000,-999.000,9,-999.000,9,   43.78,2,   37.35,2, -999.00,1, -999.00,9, -999.00,9,-999.000,   0.2145,2,   0.1618,2,   0.0994,2,   0.0811,2,   0.0532,2,   0.0251,2,   0.0112,2,   0.0127,2,   0.0120,2,  10.0317,     -999.0,9,     -999.0,9,     -999.0,9,     -999.0,9,     -999.0,9,     -999.0,9,     -999.0,9,-999.0000, -999.00
33RO20071215,        P18,      59,          1,         22,      12015,2,20080104,       1714,    -6.6652,  -107.6787,       3191,   382.1,   9.5724,  34.7216,2,  34.7212,2,     10.3,2,    11.5,2,   35.60,2,   37.30,2,    0.00,2,    2.69,2,   0.138,2,   0.087,2,   0.0191,2,  2273.2,2,  2305.0,2,   -999.0,9,  -999.00,   7.4059,2,    25.00,-999.000,9,-999.0000,9, -999.00,9, -999.00,9,  -999.0,9,-999.000,9,-999.000,-999.000,9,-999.000,9,   43.72,2,   38.23,2, -999.00,1, -999.00,9, -999.00,9,-999.000,   0.2027,2,   0.1525,2,   0.0941,2,   0.0766,2,   0.0501,2,   0.0233,2,   0.0102,2,   0.0129,2,   0.0121,2,   9.5290,     -999.0,9,     -999.0,9,     -999.0,9,     -999.0,9,     -999.0,9,     -999.0,9,     -999.0,9,-999.0000, -999.00
33RO20071215,        P18,      59,          1,         21,      12020,2,20080104,       1714,    -6.6652,  -107.6787,       3191,   467.0,   8.6332,  34.6663,2,  34.6658,2,      8.0,2,     9.1,2,   40.80,2,   39.60,2,    0.00,2,    2.85,2,   0.056,2,   0.039,2,   0.0000,2,  2281.7,6,  2306.5,2,   -999.0,9,  -999.00,   7.3809,2,    25.00,-999.000,9,-999.0000,9, -999.00,9, -999.00,9,  -999.0,9,-999.000,9,-999.000,-999.000,9,-999.000,9,   42.82,2,   40.53,2, -999.00,1, -999.00,9, -999.00,9,-999.000,   0.2126,2,   0.1588,2,   0.0966,2,   0.0779,2,   0.0509,2,   0.0237,2,   0.0102,2,   0.0130,2,   0.0124,2,   8.5832,     -999.0,9,     -999.0,9,     -999.0,9,     -999.0,9,     -999.0,9,     -999.0,9,     -999.0,9,-999.0000, -999.00
33RO20071215,        P18,      59,          1,         20,      12055,2,20080104,       1714,    -6.6652,  -107.6787,       3191,   566.3,   7.4535,  34.6086,2,  34.6073,2,     12.3,2,    12.7,2,   47.90,2,   43.00,2,    0.00,2,    3.03,2,  -0.002,2,   0.010,2,   0.0000,2,  2291.1,2,  2175.6,4,   -999.0,9,  -999.00,   7.3629,2,    25.00,-999.000,9,-999.0000,9, -999.00,9, -999.00,9,  -999.0,9,-999.000,9,-999.000,-999.000,9,-999.000,9,   42.02,2,   44.51,2, -999.00,1, -999.00,9, -999.00,9,-999.000,   0.1909,2,   0.1405,2,   0.0850,2,   0.0681,2,   0.0439,2,   0.0187,2,   0.0072,2,   0.0138,2,   0.0128,2,   7.3975,     -999.0,9,     -999.0,9,     -999.0,9,     -999.0,9,     -999.0,9,     -999.0,9,     -999.0,9,-999.0000, -999.00
33RO20071215,        P18,      59,          1,         19,      12018,2,20080104,       1714,    -6.6652,  -107.6787,       3191,   666.8,   6.6525,  34.5762,2,  34.5774,2,     31.5,2,    31.8,2,   53.40,2,   43.00,2,    0.00,2,    2.97,2,   0.010,2,   0.006,2,   0.0000,2,  2286.4,2,  2116.4,4,   -999.0,9,  -999.00,   7.3975,2,    25.00,-999.000,9,-999.0000,9, -999.00,9, -999.00,9,  -999.0,9,-999.000,9,-999.000,-999.000,9,-999.000,9,   41.36,2,   44.08,2, -999.00,1, -999.00,9, -999.00,9,-999.000,   0.1630,2,   0.1158,2,   0.0668,2,   0.0516,2,   0.0324,2,   0.0122,2,   0.0037,2,   0.0144,2,   0.0141,2,   6.5901,     -999.0,9,     -999.0,9,     -999.0,9,     -999.0,9,     -999.0,9,     -999.0,9,     -999.0,9,-999.0000, -999.00
33RO20071215,        P18,      59,          1,         18,      12025,2,20080104,       1714,    -6.6652,  -107.6787,       3191,   766.6,   5.8513,  34.5538,2,  34.5545,2,     54.9,2,    55.4,2,   61.70,2,   41.70,2,    0.00,2,    2.91,2,   0.007,2,   0.004,2,   0.0035,2,  2285.7,2,  2325.4,2,   -999.0,9,  -999.00,   7.4259,2,    25.00,-999.000,9,-999.0000,9, -999.00,9, -999.00,9,  -999.0,9,-999.000,9,-999.000,-999.000,9,-999.000,9,   40.60,2,   42.73,2, -999.00,1, -999.00,9, -999.00,9,-999.000,-999.0000,5,-999.0000,5,-999.0000,5,-999.0000,5,-999.0000,5,-999.0000,5,-999.0000,5,-999.0000,5,-999.0000,5,   5.7837,     -999.0,9,     -999.0,9,     -999.0,9,     -999.0,9,     -999.0,9,     -999.0,9,     -999.0,9,-999.0000, -999.00
33RO20071215,        P18,      59,          1,         17,      12016,2,20080104,       1714,    -6.6652,  -107.6787,       3191,   867.1,   5.4003,  34.5470,2,  34.5478,2,     71.6,2,    70.6,2,   67.50,2,   40.50,2,    0.00,2,    2.85,2,   0.006,2,   0.005,2,   0.0022,2,  2284.2,2,  2336.7,2,   -999.0,9,  -999.00,   7.4610,2,    25.00,-999.000,9,-999.0000,9, -999.00,9, -999.00,9,  -999.0,9,-999.000,9,-999.000,-999.000,9,-999.000,9,   39.82,2,   42.22,2, -999.00,1, -999.00,9, -999.00,9,-999.000,-999.0000,5,-999.0000,5,-999.0000,5,-999.0000,5,-999.0000,5,-999.0000,5,-999.0000,5,-999.0000,5,-999.0000,5,   5.3262,     -999.0,9,     -999.0,9,     -999.0,9,     -999.0,9,     -999.0,9,     -999.0,9,     -999.0,9,-999.0000, -999.00
33RO20071215,        P18,      59,          1,         16,      12051,2,20080104,       1714,    -6.6652,  -107.6787,       3191,   967.5,   4.9714,  34.5431,2,  34.5445,2,     82.1,2,    82.1,2,   72.50,2,   40.00,2,    0.00,2,    2.81,2,   0.005,2,   0.004,2,   0.0170,2,  2284.9,2,  2342.3,2,   -999.0,9,  -999.00,   7.4727,2,    25.00,-999.000,9,-999.0000,9, -999.00,9, -999.00,9,  -999.0,9,-999.000,9,-999.000,-999.000,9,-999.000,9,   39.17,2,   41.59,2, -999.00,9, -999.00,9, -999.00,9,-999.000,   0.1583,2,   0.1128,2,   0.0650,2,   0.0490,2,   0.0322,2,   0.0139,2,   0.0051,2,   0.0138,2,   0.0140,2,   4.8912,     -999.0,9,     -999.0,9,     -999.0,9,     -999.0,9,     -999.0,9,     -999.0,9,     -999.0,9,-999.0000, -999.00
33RO20071215,        P18,      59,          1,         15,      12014,2,20080104,       1714,    -6.6652,  -107.6787,       3191,  1067.3,   4.5017,  34.5442,2,  34.5451,2,     93.4,2,    93.1,2,   78.70,2,   39.40,2,    0.00,2,    2.78,2,   0.004,2,   0.003,2,   0.0000,2,  2287.4,2,  2345.3,2,   -999.0,9,  -999.00,   7.4864,2,    25.00,-999.000,9,-999.0000,9, -999.00,9, -999.00,9,  -999.0,9,-999.000,9,-999.000,-999.000,9,-999.000,9,   37.98,2,   40.84,2, -999.00,9, -999.00,9, -999.00,9,-999.000,   0.1685,2,   0.1221,2,   0.0718,2,   0.0538,2,   0.0368,2,   0.0180,2,   0.0076,2,   0.0130,2,   0.0132,2,   4.4162,     -999.0,9,     -999.0,9,     -999.0,9,     -999.0,9,     -999.0,9,     -999.0,9,     -999.0,9,-999.0000, -999.00
33RO20071215,        P18,      59,          1,         14,      12013,2,20080104,       1714,    -6.6652,  -107.6787,       3191,  1167.6,   4.0025,  34.5550,2,  34.5580,2,    102.2,2,   102.6,2,   88.30,2,   38.90,2,    0.00,2,    2.75,2,   0.002,2,   0.002,2,   0.0000,2,  2293.8,2,  2359.7,2,   -999.0,9,  -999.00,   7.5015,2,    25.00,-999.000,9,-999.0000,9, -999.00,9, -999.00,9,  -999.0,9,-999.000,9,-999.000,-999.000,9,-999.000,9,   37.63,3,   39.93,3, -999.00,9, -999.00,9, -999.00,9,-999.000,   0.1619,2,   0.1159,2,   0.0664,2,   0.0492,2,   0.0331,2,   0.0155,2,   0.0063,2,   0.0135,2,   0.0139,2,   3.9126,     -999.0,9,     -999.0,9,     -999.0,9,     -999.0,9,     -999.0,9,     -999.0,9,     -999.0,9,-999.0000, -999.00
33RO20071215,        P18,      59,          1,         13,      12012,2,20080104,       1714,    -6.6652,  -107.6787,       3191,  1267.3,   3.6106,  34.5693,2,  34.5726,2,    106.7,2,   106.5,2,   97.50,2,   38.70,2,    0.00,2,    2.74,2,   0.000,2,   0.001,2,   0.0000,2,  2299.8,2,  2369.4,2,   -999.0,9,  -999.00,   7.5041,2,    25.00,-999.000,9,-999.0000,9, -999.00,9, -999.00,9,  -999.0,9,-999.000,9,-999.000,-999.000,9,-999.000,9,   37.62,3,   40.07,3, -999.00,9, -999.00,9, -999.00,9,-999.000,   0.1823,2,   0.1340,2,   0.0801,2,   0.0605,2,   0.0425,2,   0.0223,2,   0.0104,2,   0.0121,2,   0.0125,2,   3.5158,     -999.0,9,     -999.0,9,     -999.0,9,     -999.0,9,     -999.0,9,     -999.0,9,     -999.0,9,-999.0000, -999.00
33RO20071215,        P18,      59,          1,         12,      12031,2,20080104,       1714,    -6.6652,  -107.6787,       3191,  1366.4,   3.2949,  34.5848,2,  34.5857,2,    105.0,2,   104.7,2,  106.50,2,   39.10,2,    0.00,2,    2.77,2,   0.001,2,   0.001,2,   0.0144,2,  2310.7,2,  2382.0,2,   -999.0,9,  -999.00,   7.5020,2,    25.00,-999.000,9,-999.0000,9, -999.00,9, -999.00,9,  -999.0,9,-999.000,9,-999.000,-999.000,9,-999.000,9,   37.61,2,   40.04,2, -999.00,9, -999.00,9, -999.00,9,-999.000,   0.1617,2,   0.1151,2,   0.0654,2,   0.0485,2,   0.0322,2,   0.0146,2,   0.0058,2,   0.0137,2,   0.0142,2,   3.1949,     -999.0,9,     -999.0,9,     -999.0,9,     -999.0,9,     -999.0,9,     -999.0,9,     -999.0,9,-999.0000, -999.00