BOTTLE,20220818CCHSIOAMB
EXPOCODE,SECT_ID,STNNBR,CASTNO,SAMPNO,BTLNBR,BTLNBR_FLAG_W,DATE,TIME,LATITUDE,LONGITUDE,DEPTH,CTDPRS,CTDTMP,CTDSAL,CTDSAL_FLAG_W,SALNTY,SALNTY_FLAG_W,CTDOXY,CTDOXY_FLAG_W,OXYGEN,OXYGEN_FLAG_W,SILCAT,SILCAT_FLAG_W,NITRAT,NITRAT_FLAG_W,NITRIT,NITRIT_FLAG_W,PHSPHT,PHSPHT_FLAG_W,CFC-11,CFC-11_FLAG_W,CFC-12,CFC-12_FLAG_W,SF6,SF6_FLAG_W,TCARBN,TCARBN_FLAG_W,ALKALI,ALKALI_FLAG_W,FCO2,FCO2_FLAG_W,FCO2TMP,PH_SWS,PH_SWS_FLAG_W,PH_TMP,TRITUM,TRITUM_FLAG_W,HELIUM,HELIUM_FLAG_W,DELHE3,DELHE3_FLAG_W,DELC13,DELC13_FLAG_W,DELC14,DELC14_FLAG_W,NEON,NEON_FLAG_W,NEONER,CCL4,CCL4_FLAG_W,POC,POC_FLAG_W,DOC,DOC_FLAG_W,TDN,TDN_FLAG_W,DON,DON_FLAG_W,CHLORA,CHLORA_FLAG_W,ARGON,ARGON_FLAG_W,TRITER,CDOM325,CDOM325_FLAG_W,CDOM340,CDOM340_FLAG_W,CDOM380,CDOM380_FLAG_W,CDOM412,CDOM412_FLAG_W,CDOM443,CDOM443_FLAG_W,CDOM490,CDOM490_FLAG_W,CDOM555,CDOM555_FLAG_W,CDOMSL,CDOMSL_FLAG_W,CDOMSN,CDOMSN_FLAG_W,THETA,D18O_NO3,D18O_NO3_FLAG_W,CDOM2C,CDOM2C_FLAG_W,CDOM3C,CDOM3C_FLAG_W,LAB_DEN,LAB_DEN_FLAG_W,DELSI30,DELSI30_FLAG_W,N2,N2_FLAG_W,D15N_NO3,D15N_NO3_FLAG_W,HELIER,DELHER
,,,,,,,,,,,METERS,DBAR,ITS-90,PSS-78,,PSS-78,,UMOL/KG,,UMOL/KG,,UMOL/KG,,UMOL/KG,,UMOL/KG,,UMOL/KG,,PMOL/KG,,PMOL/KG,,FMOL/KG,,UMOL/KG,,UMOL/KG,,UATM,,DEG C,,,DEG C,TU,,NMOL/KG,,PERCNT,,/MILLE,,/MILLE,,NMOL/KG,,NMOL/KG,PMOL/KG,,UG/KG,,UMOL/KG,,UMOL/KG,,UMOL/KG,,UG/KG,,UMOL/KG,,TU,1/M,,1/M,,1/M,,1/M,,1/M,,1/M,,1/M,,1/NM,,1/NM,,DEG C,/MILLE,,,,,,,,/MILLE,,UMOL/KG,,/MILLE,,NMOL/KG,PERCNT
33RO20071215,        P18,     151,          1,         11,      12003,2,20080207,       2304,   -58.7560,  -102.9900,       4471,  2399.6,   1.6776,  34.7329,2,  34.7322,2,    191.5,2,   192.3,2,   98.00,2,   31.60,2,    0.00,2,    2.19,2,   0.117,2,   0.057,2,   0.0000,2,  2254.9,2,  2354.1,2,   -999.0,9,  -999.00,   7.6050,2,    25.00,-999.000,9,-999.0000,9, -999.00,9, -999.00,9,  -999.0,9,-999.000,9,-999.000,   0.137,3,-999.000,9,   39.03,2,   32.73,2, -999.00,9, -999.00,9, -999.00,9,-999.000,   0.1219,2,   0.0817,2,   0.0401,2,   0.0263,2,   0.0149,2,   0.0048,2,   0.0003,3,   0.0169,2,   0.0189,2,   1.5118,     -999.0,9,     -999.0,9,     -999.0,9,     -999.0,9,     -999.0,9,     -999.0,9,     -999.0,9,-999.0000, -999.00
33RO20071215,        P18,     151,          1,         10,      12032,2,20080207,       2304,   -58.7560,  -102.9900,       4471,  2600.6,   1.5297,  34.7312,2,  34.7334,2,    194.0,2,   194.4,2,  103.00,2,   31.60,2,    0.00,2,    2.20,2,   0.097,2,   0.049,2,   0.0000,2,  2256.7,2,  2363.0,2,   -999.0,9,  -999.00,   7.6053,2,    25.00,-999.000,9,-999.0000,9, -999.00,9, -999.00,9,  -999.0,9,-999.000,9,-999.000,   0.109,3,-999.000,9,   39.35,2,   32.66,2, -999.00,9, -999.00,9, -999.00,9,-999.000,   0.1190,2,   0.0793,2,   0.0384,2,   0.0250,2,   0.0139,2,   0.0041,2,  -0.0001,4,   0.0171,2,   0.0193,2,   1.3489,     -999.0,9,     -999.0,9,     -999.0,9,     -999.0,9,     -999.0,9,     -999.0,9,     -999.0,9,-999.0000, -999.00
33RO20071215,        P18,     151,          1,          9,      12002,2,20080207,       2304,   -58.7560,  -102.9900,       4471,  2799.1,   1.4022,  34.7286,2,  34.7273,2,    196.1,2,   196.1,2,  107.00,2,   31.80,2,    0.00,2,    2.22,2,   0.083,2,   0.041,2,   0.0000,2,  2257.8,2,  2364.1,2,   -999.0,9,  -999.00,   7.6154,2,    25.00,-999.000,9,-999.0000,9, -999.00,9, -999.00,9,  -999.0,9,-999.000,9,-999.000,   0.105,3,-999.000,9,   39.26,2,   32.91,2, -999.00,9, -999.00,9, -999.00,9,-999.000,   0.1218,2,   0.0818,2,   0.0404,2,   0.0266,2,   0.0152,2,   0.0050,2,   0.0004,3,   0.0167,2,   0.0187,2,   1.2059,     -999.0,9,     -999.0,9,     -999.0,9,     -999.0,9,     -999.0,9,     -999.0,9,     -999.0,9,-999.0000, -999.00
33RO20071215,        P18,     151,          1,          8,      12021,2,20080207,       2304,   -58.7560,  -102.9900,       4471,  3000.1,   1.2734,  34.7248,2,  34.7248,2,    198.3,2,   198.9,2,  111.20,2,   31.90,2,    0.00,2,    2.22,2,   0.081,2,   0.041,2,   0.0000,2,  2258.5,6,  2364.5,2,   -999.0,9,  -999.00,   7.6053,2,    25.00,-999.000,9,-999.0000,9, -999.00,9, -999.00,9,  -999.0,9,-999.000,9,-999.000,   0.107,3,-999.000,9,   39.74,2,   33.22,2, -999.00,9, -999.00,9, -999.00,9,-999.000,   0.1168,2,   0.0774,2,   0.0375,2,   0.0244,2,   0.0135,2,   0.0038,2,  -0.0002,4,   0.0172,2,   0.0195,2,   1.0613,     -999.0,9,     -999.0,9,     -999.0,9,     -999.0,9,     -999.0,9,     -999.0,9,     -999.0,9,-999.0000, -999.00
33RO20071215,        P18,     151,          1,          7,      12001,2,20080207,       2304,   -58.7560,  -102.9900,       4471,  3249.5,   1.1274,  34.7202,2,  34.7251,2,    201.4,2,   201.7,2,  115.80,2,   32.10,2,    0.00,2,    2.23,2,   0.097,2,   0.051,2,   0.0000,2,  2259.1,2,  2366.4,2,   -999.0,9,  -999.00,   7.6115,2,    25.00,-999.000,9,-999.0000,9, -999.00,9, -999.00,9,  -999.0,9,-999.000,9,-999.000,   0.122,3,-999.000,9,   39.62,3,   33.57,3, -999.00,9, -999.00,9, -999.00,9,-999.000,   0.1187,2,   0.0789,2,   0.0386,2,   0.0252,2,   0.0140,2,   0.0039,2,  -0.0002,4,   0.0170,2,   0.0192,2,   0.8950,     -999.0,9,     -999.0,9,     -999.0,9,     -999.0,9,     -999.0,9,     -999.0,9,     -999.0,9,-999.0000, -999.00
33RO20071215,        P18,     151,          1,          6,      12033,2,20080207,       2304,   -58.7560,  -102.9900,       4471,  3500.9,   0.9926,  34.7156,2,  34.7142,2,    203.7,2,   204.1,2,  120.50,2,   32.20,2,    0.00,2,    2.25,2,   0.131,2,   0.069,2,   0.0000,2,  2259.0,2,  2363.1,2,   -999.0,9,  -999.00,   7.6042,2,    25.00,-999.000,9,-999.0000,9, -999.00,9, -999.00,9,  -999.0,9,-999.000,9,-999.000,   0.154,3,-999.000,9,   38.36,2,   33.56,2, -999.00,9, -999.00,9, -999.00,9,-999.000,   0.1178,2,   0.0764,2,   0.0363,2,   0.0236,2,   0.0128,2,   0.0036,2,  -0.0003,4,   0.0175,2,   0.0202,2,   0.7389,     -999.0,9,     -999.0,9,     -999.0,9,     -999.0,9,     -999.0,9,     -999.0,9,     -999.0,9,-999.0000, -999.00
33RO20071215,        P18,     151,          1,          5,      12008,2,20080207,       2304,   -58.7560,  -102.9900,       4471,  3749.3,   0.8668,  34.7118,2,  34.7117,2,    205.9,2,   207.4,2,  125.20,2,   32.40,2,    0.00,2,    2.25,2,   0.080,2,   0.041,2,   0.0000,2,  2258.8,2,  2365.8,2,   -999.0,9,  -999.00,   7.6105,2,    25.00,-999.000,9,-999.0000,9, -999.00,9, -999.00,9,  -999.0,9,-999.000,9,-999.000,   0.116,3,-999.000,9,   39.14,2,   33.64,2, -999.00,9, -999.00,9, -999.00,9,-999.000,   0.1169,2,   0.0773,2,   0.0374,2,   0.0242,2,   0.0137,2,   0.0044,2,   0.0004,3,   0.0171,2,   0.0194,2,   0.5915,     -999.0,9,     -999.0,9,     -999.0,9,     -999.0,9,     -999.0,9,     -999.0,9,     -999.0,9,-999.0000, -999.00
33RO20071215,        P18,     151,          1,          4,      12009,2,20080207,       2304,   -58.7560,  -102.9900,       4471,  3994.2,   0.7148,  34.7078,2,  34.7080,2,    209.1,2,   209.7,2,  128.40,6,   32.70,6,    0.00,6,    2.26,2,   0.169,2,   0.087,2,   0.0423,6,  2260.3,2,  2360.3,2,   -999.0,9,  -999.00,   7.6026,2,    25.00,-999.000,9,-999.0000,9, -999.00,9, -999.00,9,  -999.0,9,-999.000,9,-999.000,   0.195,3,-999.000,9,   39.88,2,   34.41,2, -999.00,9, -999.00,9, -999.00,9,-999.000,   0.1128,2,   0.0736,2,   0.0345,2,   0.0220,2,   0.0117,2,   0.0030,2,  -0.0005,4,   0.0178,2,   0.0204,2,   0.4186,     -999.0,9,     -999.0,9,     -999.0,9,     -999.0,9,     -999.0,9,     -999.0,9,     -999.0,9,-999.0000, -999.00
33RO20071215,        P18,     151,          1,          3,      12006,2,20080207,       2304,   -58.7560,  -102.9900,       4471,  4248.9,   0.6120,  34.7064,2,  34.7085,2,    211.5,2,   211.1,2,  133.00,6,   32.80,6,    0.00,6,    2.27,2,   0.193,2,   0.100,2,   0.0000,2,  2262.3,2,  2362.1,2,   -999.0,9,  -999.00,   7.6047,2,    25.00,-999.000,9,-999.0000,9, -999.00,9, -999.00,9,  -999.0,9,-999.000,9,-999.000,   0.209,3,-999.000,9,   39.59,2,   34.11,2, -999.00,9, -999.00,9, -999.00,9,-999.000,   0.1139,2,   0.0746,2,   0.0353,2,   0.0226,2,   0.0124,2,   0.0034,2,  -0.0002,4,   0.0176,2,   0.0201,2,   0.2918,     -999.0,9,     -999.0,9,     -999.0,9,     -999.0,9,     -999.0,9,     -999.0,9,     -999.0,9,-999.0000, -999.00
33RO20071215,        P18,     151,          1,          2,      12007,2,20080207,       2304,   -58.7560,  -102.9900,       4471,  4449.5,   0.5945,  34.7057,2,  34.7053,2,    212.4,2,   212.0,2,  133.80,6,   32.80,6,    0.00,6,    2.27,2,   0.264,3,   0.139,3,   0.0000,2,  2261.9,2,  2363.9,2,   -999.0,9,  -999.00,   7.6069,2,    25.00,-999.000,9,-999.0000,9, -999.00,9, -999.00,9,  -999.0,9,-999.000,9,-999.000,   0.305,3,-999.000,9,   38.95,2,   34.23,2, -999.00,9, -999.00,9, -999.00,9,-999.000,   0.1149,2,   0.0752,2,   0.0355,2,   0.0227,2,   0.0122,2,   0.0032,2,  -0.0003,4,   0.0177,2,   0.0202,2,   0.2531,     -999.0,9,     -999.0,9,     -999.0,9,     -999.0,9,     -999.0,9,     -999.0,9,     -999.0,9,-999.0000, -999.00
33RO20071215,        P18,     151,          1,          1,      12035,2,20080207,       2304,   -58.7560,  -102.9900,       4471,  4563.4,   0.5728,  34.7051,2,  34.7055,2,    213.0,2,   213.5,2,  134.90,2,   32.70,2,    0.01,2,    2.27,2,   0.211,6,   0.107,6,   0.0000,6,  2263.3,6,  2374.1,4,   -999.0,9,  -999.00,   7.6000,2,    25.00,-999.000,9,-999.0000,9, -999.00,9, -999.00,9,  -999.0,9,-999.000,9,-999.000,   0.230,3,-999.000,9,   40.26,2,   34.31,2, -999.00,9, -999.00,9, -999.00,9,-999.000,   0.1170,2,   0.0769,2,   0.0368,2,   0.0236,2,   0.0130,2,   0.0038,2,   0.0000,4,   0.0175,2,   0.0199,2,   0.2196,     -999.0,9,     -999.0,9,     -999.0,9,     -999.0,9,     -999.0,9,     -999.0,9,     -999.0,9,-999.0000, -999.00