BOTTLE,20220818CCHSIOAMB
EXPOCODE,SECT_ID,STNNBR,CASTNO,SAMPNO,BTLNBR,BTLNBR_FLAG_W,DATE,TIME,LATITUDE,LONGITUDE,DEPTH,CTDPRS,CTDTMP,CTDSAL,CTDSAL_FLAG_W,SALNTY,SALNTY_FLAG_W,CTDOXY,CTDOXY_FLAG_W,OXYGEN,OXYGEN_FLAG_W,SILCAT,SILCAT_FLAG_W,NITRAT,NITRAT_FLAG_W,NITRIT,NITRIT_FLAG_W,PHSPHT,PHSPHT_FLAG_W,CFC-11,CFC-11_FLAG_W,CFC-12,CFC-12_FLAG_W,SF6,SF6_FLAG_W,TCARBN,TCARBN_FLAG_W,ALKALI,ALKALI_FLAG_W,FCO2,FCO2_FLAG_W,FCO2TMP,PH_SWS,PH_SWS_FLAG_W,PH_TMP,TRITUM,TRITUM_FLAG_W,HELIUM,HELIUM_FLAG_W,DELHE3,DELHE3_FLAG_W,DELC13,DELC13_FLAG_W,DELC14,DELC14_FLAG_W,NEON,NEON_FLAG_W,NEONER,CCL4,CCL4_FLAG_W,POC,POC_FLAG_W,DOC,DOC_FLAG_W,TDN,TDN_FLAG_W,DON,DON_FLAG_W,CHLORA,CHLORA_FLAG_W,ARGON,ARGON_FLAG_W,TRITER,CDOM325,CDOM325_FLAG_W,CDOM340,CDOM340_FLAG_W,CDOM380,CDOM380_FLAG_W,CDOM412,CDOM412_FLAG_W,CDOM443,CDOM443_FLAG_W,CDOM490,CDOM490_FLAG_W,CDOM555,CDOM555_FLAG_W,CDOMSL,CDOMSL_FLAG_W,CDOMSN,CDOMSN_FLAG_W,THETA,D18O_NO3,D18O_NO3_FLAG_W,CDOM2C,CDOM2C_FLAG_W,CDOM3C,CDOM3C_FLAG_W,LAB_DEN,LAB_DEN_FLAG_W,DELSI30,DELSI30_FLAG_W,N2,N2_FLAG_W,D15N_NO3,D15N_NO3_FLAG_W,HELIER,DELHER
,,,,,,,,,,,METERS,DBAR,ITS-90,PSS-78,,PSS-78,,UMOL/KG,,UMOL/KG,,UMOL/KG,,UMOL/KG,,UMOL/KG,,UMOL/KG,,PMOL/KG,,PMOL/KG,,FMOL/KG,,UMOL/KG,,UMOL/KG,,UATM,,DEG C,,,DEG C,TU,,NMOL/KG,,PERCNT,,/MILLE,,/MILLE,,NMOL/KG,,NMOL/KG,PMOL/KG,,UG/KG,,UMOL/KG,,UMOL/KG,,UMOL/KG,,UG/KG,,UMOL/KG,,TU,1/M,,1/M,,1/M,,1/M,,1/M,,1/M,,1/M,,1/NM,,1/NM,,DEG C,/MILLE,,,,,,,,/MILLE,,UMOL/KG,,/MILLE,,NMOL/KG,PERCNT
33RO20071215,        P18,      52,          1,         24,      11024,2,20080101,       0945,    -3.4990,  -110.0008,       3965,     5.5,  22.9875,  34.9855,2,  34.9878,2,    218.2,2,   219.0,2,    7.80,2,   13.70,2,    0.33,2,    0.94,2,   1.981,6,   1.226,6,   1.0659,6,  2084.3,6,  2310.2,2,   -999.0,9,  -999.00,   7.8996,2,    25.00,-999.000,9,-999.0000,9, -999.00,9, -999.00,9,  -999.0,9,-999.000,9,-999.000,-999.000,9,-999.000,9, -999.00,9, -999.00,9, -999.00,9, -999.00,9, -999.00,9,-999.000,-999.0000,9,-999.0000,9,-999.0000,9,-999.0000,9,-999.0000,9,-999.0000,9,-999.0000,9,-999.0000,9,-999.0000,9,  22.9864,     -999.0,9,     -999.0,9,     -999.0,9,     -999.0,9,     -999.0,9,     -999.0,9,     -999.0,9,-999.0000, -999.00
33RO20071215,        P18,      52,          1,         23,      11023,2,20080101,       0945,    -3.4990,  -110.0008,       3965,    29.7,  22.9355,  34.9898,2,  35.0066,2,    218.1,2,   218.3,2,    7.10,2,   13.40,2,    0.32,2,    0.94,2,   1.987,2,   1.228,2,   1.0348,2,  2084.0,2,  2312.4,2,   -999.0,9,  -999.00,   7.8961,2,    25.00,-999.000,9,-999.0000,9, -999.00,9, -999.00,9,  -999.0,9,-999.000,9,-999.000,-999.000,9,-999.000,9, -999.00,9, -999.00,9, -999.00,9, -999.00,9, -999.00,9,-999.000,-999.0000,9,-999.0000,9,-999.0000,9,-999.0000,9,-999.0000,9,-999.0000,9,-999.0000,9,-999.0000,9,-999.0000,9,  22.9295,     -999.0,9,     -999.0,9,     -999.0,9,     -999.0,9,     -999.0,9,     -999.0,9,     -999.0,9,-999.0000, -999.00
33RO20071215,        P18,      52,          1,         22,      11022,2,20080101,       0945,    -3.4990,  -110.0008,       3965,    50.8,  17.8162,  35.1981,2,  35.1922,2,    102.1,2,   101.2,2,    8.20,2,   17.30,2,    1.08,2,    1.42,2,   1.889,2,   1.107,2,   0.6557,2,  2167.2,2,  2316.9,2,   -999.0,9,  -999.00,   7.7389,2,    25.00,-999.000,9,-999.0000,9, -999.00,9, -999.00,9,  -999.0,9,-999.000,9,-999.000,-999.000,9,-999.000,9, -999.00,9, -999.00,9, -999.00,9, -999.00,9, -999.00,9,-999.000,-999.0000,9,-999.0000,9,-999.0000,9,-999.0000,9,-999.0000,9,-999.0000,9,-999.0000,9,-999.0000,9,-999.0000,9,  17.8076,     -999.0,9,     -999.0,9,     -999.0,9,     -999.0,9,     -999.0,9,     -999.0,9,     -999.0,9,-999.0000, -999.00
33RO20071215,        P18,      52,          1,         21,      11021,2,20080101,       0945,    -3.4990,  -110.0008,       3965,    81.8,  14.4182,  35.0229,2,  35.0215,2,     54.6,2,    54.2,2,   17.10,2,   26.50,2,    0.28,2,    1.79,2,   1.389,2,   0.785,2,   0.3480,2,  2201.8,2,  2305.7,2,   -999.0,9,  -999.00,   7.5851,2,    25.00,-999.000,9,-999.0000,9, -999.00,9, -999.00,9,  -999.0,9,-999.000,9,-999.000,-999.000,9,-999.000,9, -999.00,9, -999.00,9, -999.00,9, -999.00,9, -999.00,9,-999.000,-999.0000,9,-999.0000,9,-999.0000,9,-999.0000,9,-999.0000,9,-999.0000,9,-999.0000,9,-999.0000,9,-999.0000,9,  14.4062,     -999.0,9,     -999.0,9,     -999.0,9,     -999.0,9,     -999.0,9,     -999.0,9,     -999.0,9,-999.0000, -999.00
33RO20071215,        P18,      52,          1,         20,      11020,2,20080101,       0945,    -3.4990,  -110.0008,       3965,   108.6,  13.8345,  34.9910,2,  34.9876,2,     54.2,2,    48.8,2,   18.70,2,   27.80,2,    0.02,2,    1.87,2,   1.291,2,   0.724,2,   0.3403,2,  2209.7,2,  2306.4,2,   -999.0,9,  -999.00,   7.5897,2,    25.00,-999.000,9,-999.0000,9, -999.00,9, -999.00,9,  -999.0,9,-999.000,9,-999.000,-999.000,9,-999.000,9, -999.00,9, -999.00,9, -999.00,9, -999.00,9, -999.00,9,-999.000,-999.0000,9,-999.0000,9,-999.0000,9,-999.0000,9,-999.0000,9,-999.0000,9,-999.0000,9,-999.0000,9,-999.0000,9,  13.8190,     -999.0,9,     -999.0,9,     -999.0,9,     -999.0,9,     -999.0,9,     -999.0,9,     -999.0,9,-999.0000, -999.00
33RO20071215,        P18,      52,          1,         19,      11019,2,20080101,       0945,    -3.4990,  -110.0008,       3965,   132.2,  13.4770,  34.9670,2,  34.9675,2,     48.3,2,    37.3,2,   20.40,2,   29.20,2,    0.01,2,    2.00,2,   1.185,2,   0.666,2,   0.2993,2,  2220.1,2,  2304.2,2,   -999.0,9,  -999.00,   7.5548,2,    25.00,-999.000,9,-999.0000,9, -999.00,9, -999.00,9,  -999.0,9,-999.000,9,-999.000,-999.000,9,-999.000,9, -999.00,9, -999.00,9, -999.00,9, -999.00,9, -999.00,9,-999.000,-999.0000,9,-999.0000,9,-999.0000,9,-999.0000,9,-999.0000,9,-999.0000,9,-999.0000,9,-999.0000,9,-999.0000,9,  13.4584,     -999.0,9,     -999.0,9,     -999.0,9,     -999.0,9,     -999.0,9,     -999.0,9,     -999.0,9,-999.0000, -999.00
33RO20071215,        P18,      52,          1,         18,      11018,2,20080101,       0945,    -3.4990,  -110.0008,       3965,   166.9,  13.2526,  34.9508,2,  34.9507,2,     30.9,2,    44.1,2,   21.00,2,   28.90,2,    0.01,2,    1.97,2,-999.000,9,-999.000,9,-999.0000,9,  2217.2,2,  2286.5,4,   -999.0,9,  -999.00,   7.5694,2,    25.00,-999.000,9,-999.0000,9, -999.00,9, -999.00,9,  -999.0,9,-999.000,9,-999.000,-999.000,9,-999.000,9, -999.00,9, -999.00,9, -999.00,9, -999.00,9, -999.00,9,-999.000,-999.0000,9,-999.0000,9,-999.0000,9,-999.0000,9,-999.0000,9,-999.0000,9,-999.0000,9,-999.0000,9,-999.0000,9,  13.2294,     -999.0,9,     -999.0,9,     -999.0,9,     -999.0,9,     -999.0,9,     -999.0,9,     -999.0,9,-999.0000, -999.00
33RO20071215,        P18,      52,          1,         17,      11017,2,20080101,       0945,    -3.4990,  -110.0008,       3965,   224.0,  12.5152,  34.9046,2,  34.9068,2,     11.3,2,    12.1,2,   24.80,2,   32.50,2,    0.00,2,    2.29,2,   0.781,2,   0.437,2,   0.1306,2,  2245.2,2,  2298.5,2,   -999.0,9,  -999.00,   7.4775,2,    25.00,-999.000,9,-999.0000,9, -999.00,9, -999.00,9,  -999.0,9,-999.000,9,-999.000,-999.000,9,-999.000,9, -999.00,9, -999.00,9, -999.00,9, -999.00,9, -999.00,9,-999.000,-999.0000,9,-999.0000,9,-999.0000,9,-999.0000,9,-999.0000,9,-999.0000,9,-999.0000,9,-999.0000,9,-999.0000,9,  12.4851,     -999.0,9,     -999.0,9,     -999.0,9,     -999.0,9,     -999.0,9,     -999.0,9,     -999.0,9,-999.0000, -999.00
33RO20071215,        P18,      52,          1,         16,      11016,2,20080101,       0945,    -3.4990,  -110.0008,       3965,   300.1,  11.5977,  34.8462,2,  34.8460,2,     10.2,2,     8.6,2,   28.30,2,   33.20,2,    0.01,2,    2.42,2,-999.000,9,-999.000,9,-999.0000,9,  2258.0,2,  -999.0,5,   -999.0,9,  -999.00,   7.4442,2,    25.00,-999.000,9,-999.0000,9, -999.00,9, -999.00,9,  -999.0,9,-999.000,9,-999.000,-999.000,9,-999.000,9, -999.00,9, -999.00,9, -999.00,9, -999.00,9, -999.00,9,-999.000,-999.0000,9,-999.0000,9,-999.0000,9,-999.0000,9,-999.0000,9,-999.0000,9,-999.0000,9,-999.0000,9,-999.0000,9,  11.5593,     -999.0,9,     -999.0,9,     -999.0,9,     -999.0,9,     -999.0,9,     -999.0,9,     -999.0,9,-999.0000, -999.00
33RO20071215,        P18,      52,          1,         15,      11015,2,20080101,       0945,    -3.4990,  -110.0008,       3965,   374.3,   9.4137,  34.7081,2,  34.7108,2,     10.2,2,     9.2,2,   37.70,2,   37.90,2,    0.01,2,    2.69,2,   0.183,2,   0.106,2,   0.0000,2,  2275.2,2,  2301.8,2,   -999.0,9,  -999.00,   7.3987,2,    25.00,-999.000,9,-999.0000,9, -999.00,9, -999.00,9,  -999.0,9,-999.000,9,-999.000,-999.000,9,-999.000,9, -999.00,9, -999.00,9, -999.00,9, -999.00,9, -999.00,9,-999.000,-999.0000,9,-999.0000,9,-999.0000,9,-999.0000,9,-999.0000,9,-999.0000,9,-999.0000,9,-999.0000,9,-999.0000,9,   9.3717,     -999.0,9,     -999.0,9,     -999.0,9,     -999.0,9,     -999.0,9,     -999.0,9,     -999.0,9,-999.0000, -999.00
33RO20071215,        P18,      52,          1,         14,      11014,2,20080101,       0945,    -3.4990,  -110.0008,       3965,   449.8,   8.2162,  34.6415,2,  34.6393,2,     25.4,2,    25.2,2,   43.00,2,   40.00,2,    0.00,2,    2.76,2,-999.000,9,-999.000,9,-999.0000,9,  2275.9,2,  2314.9,4,   -999.0,9,  -999.00,   7.4073,2,    25.00,-999.000,9,-999.0000,9, -999.00,9, -999.00,9,  -999.0,9,-999.000,9,-999.000,-999.000,9,-999.000,9, -999.00,9, -999.00,9, -999.00,9, -999.00,9, -999.00,9,-999.000,-999.0000,9,-999.0000,9,-999.0000,9,-999.0000,9,-999.0000,9,-999.0000,9,-999.0000,9,-999.0000,9,-999.0000,9,   8.1695,     -999.0,9,     -999.0,9,     -999.0,9,     -999.0,9,     -999.0,9,     -999.0,9,     -999.0,9,-999.0000, -999.00
33RO20071215,        P18,      52,          1,         13,      11013,2,20080101,       0945,    -3.4990,  -110.0008,       3965,   549.6,   7.5665,  34.6084,2,  34.6099,2,     38.8,2,    38.2,2,   46.00,2,   40.10,2,    0.00,2,    2.76,2,   0.071,2,   0.043,2,   0.0000,2,  2273.6,2,  2313.0,2,   -999.0,9,  -999.00,   7.4202,2,    25.00,-999.000,9,-999.0000,9, -999.00,9, -999.00,9,  -999.0,9,-999.000,9,-999.000,-999.000,9,-999.000,9, -999.00,9, -999.00,9, -999.00,9, -999.00,9, -999.00,9,-999.000,-999.0000,9,-999.0000,9,-999.0000,9,-999.0000,9,-999.0000,9,-999.0000,9,-999.0000,9,-999.0000,9,-999.0000,9,   7.5117,     -999.0,9,     -999.0,9,     -999.0,9,     -999.0,9,     -999.0,9,     -999.0,9,     -999.0,9,-999.0000, -999.00
33RO20071215,        P18,      52,          1,         12,      11012,2,20080101,       0945,    -3.4990,  -110.0008,       3965,   700.5,   6.2361,  34.5657,2,  34.5661,2,     50.9,2,    49.2,2,   59.20,2,   41.40,2,    0.00,2,    2.87,2,-999.000,9,-999.000,9,-999.0000,9,  2284.2,2,  2325.7,2,   -999.0,9,  -999.00,   7.4218,2,    25.00,-999.000,9,-999.0000,9, -999.00,9, -999.00,9,  -999.0,9,-999.000,9,-999.000,-999.000,9,-999.000,9, -999.00,9, -999.00,9, -999.00,9, -999.00,9, -999.00,9,-999.000,-999.0000,9,-999.0000,9,-999.0000,9,-999.0000,9,-999.0000,9,-999.0000,9,-999.0000,9,-999.0000,9,-999.0000,9,   6.1726,     -999.0,9,     -999.0,9,     -999.0,9,     -999.0,9,     -999.0,9,     -999.0,9,     -999.0,9,-999.0000, -999.00
33RO20071215,        P18,      52,          1,         11,      11010,2,20080101,       0945,    -3.4990,  -110.0008,       3965,   850.0,   5.3466,  34.5470,2,  34.5478,2,     78.1,2,    71.0,3,   69.30,2,   39.80,2,    0.00,2,    2.77,2,   0.014,2,   0.009,2,   0.0153,2,  2281.1,2,  2338.5,2,   -999.0,9,  -999.00,   7.4714,2,    25.00,-999.000,9,-999.0000,9, -999.00,9, -999.00,9,  -999.0,9,-999.000,9,-999.000,-999.000,9,-999.000,9, -999.00,9, -999.00,9, -999.00,9, -999.00,9, -999.00,9,-999.000,-999.0000,9,-999.0000,9,-999.0000,9,-999.0000,9,-999.0000,9,-999.0000,9,-999.0000,9,-999.0000,9,-999.0000,9,   5.2744,     -999.0,9,     -999.0,9,     -999.0,9,     -999.0,9,     -999.0,9,     -999.0,9,     -999.0,9,-999.0000, -999.00
33RO20071215,        P18,      52,          1,         10,      11011,2,20080101,       0945,    -3.4990,  -110.0008,       3965,   999.7,   4.6630,  34.5490,2,  34.5503,2,     87.5,2,    87.5,2,   80.10,2,   39.70,2,    0.00,2,    2.77,2,-999.000,9,-999.000,9,-999.0000,9,  2290.8,2,  2348.9,2,   -999.0,9,  -999.00,   7.4791,2,    25.00,-999.000,9,-999.0000,9, -999.00,9, -999.00,9,  -999.0,9,-999.000,9,-999.000,-999.000,9,-999.000,9, -999.00,9, -999.00,9, -999.00,9, -999.00,9, -999.00,9,-999.000,-999.0000,9,-999.0000,9,-999.0000,9,-999.0000,9,-999.0000,9,-999.0000,9,-999.0000,9,-999.0000,9,-999.0000,9,   4.5822,     -999.0,9,     -999.0,9,     -999.0,9,     -999.0,9,     -999.0,9,     -999.0,9,     -999.0,9,-999.0000, -999.00
33RO20071215,        P18,      52,          1,          9,      11009,2,20080101,       0945,    -3.4990,  -110.0008,       3965,  1167.0,   4.0178,  34.5611,2,  34.5616,2,     97.7,2,    98.6,2,   92.30,2,   39.20,2,    0.00,2,    2.73,2,-999.000,9,-999.000,9,-999.0000,9,  2297.2,2,  2364.4,2,   -999.0,9,  -999.00,   7.4891,2,    25.00,-999.000,9,-999.0000,9, -999.00,9, -999.00,9,  -999.0,9,-999.000,9,-999.000,-999.000,9,-999.000,9, -999.00,9, -999.00,9, -999.00,9, -999.00,9, -999.00,9,-999.000,-999.0000,9,-999.0000,9,-999.0000,9,-999.0000,9,-999.0000,9,-999.0000,9,-999.0000,9,-999.0000,9,-999.0000,9,   3.9278,     -999.0,9,     -999.0,9,     -999.0,9,     -999.0,9,     -999.0,9,     -999.0,9,     -999.0,9,-999.0000, -999.00
33RO20071215,        P18,      52,          1,          8,      11008,2,20080101,       0945,    -3.4990,  -110.0008,       3965,  1399.6,   3.3576,  34.5909,2,  34.5912,2,     91.8,2,    89.6,2,  112.50,2,   40.20,2,    0.00,2,    2.83,2,-999.000,9,-999.000,9,-999.0000,9,  2322.8,2,  2384.9,2,   -999.0,9,  -999.00,   7.4655,2,    25.00,-999.000,9,-999.0000,9, -999.00,9, -999.00,9,  -999.0,9,-999.000,9,-999.000,-999.000,9,-999.000,9, -999.00,9, -999.00,9, -999.00,9, -999.00,9, -999.00,9,-999.000,-999.0000,9,-999.0000,9,-999.0000,9,-999.0000,9,-999.0000,9,-999.0000,9,-999.0000,9,-999.0000,9,-999.0000,9,   3.2542,     -999.0,9,     -999.0,9,     -999.0,9,     -999.0,9,     -999.0,9,     -999.0,9,     -999.0,9,-999.0000, -999.00
33RO20071215,        P18,      52,          1,          7,      11007,2,20080101,       0945,    -3.4990,  -110.0008,       3965,  1734.3,   2.6496,  34.6252,2,  34.6256,2,     96.9,2,    97.7,2,  132.70,2,   39.80,2,    0.00,2,    2.79,2,-999.000,9,-999.000,9,-999.0000,9,  2341.0,2,  2408.1,2,   -999.0,9,  -999.00,   7.4788,2,    25.00,-999.000,9,-999.0000,9, -999.00,9, -999.00,9,  -999.0,9,-999.000,9,-999.000,-999.000,9,-999.000,9, -999.00,9, -999.00,9, -999.00,9, -999.00,9, -999.00,9,-999.000,-999.0000,9,-999.0000,9,-999.0000,9,-999.0000,9,-999.0000,9,-999.0000,9,-999.0000,9,-999.0000,9,-999.0000,9,   2.5262,     -999.0,9,     -999.0,9,     -999.0,9,     -999.0,9,     -999.0,9,     -999.0,9,     -999.0,9,-999.0000, -999.00
33RO20071215,        P18,      52,          1,          6,      11006,2,20080101,       0945,    -3.4990,  -110.0008,       3965,  2131.4,   2.1704,  34.6519,2,  34.6521,2,    109.2,2,   109.2,2,  145.60,2,   39.10,2,    0.00,2,    2.71,2,-999.000,9,-999.000,9,-999.0000,9,  2347.6,2,  2424.3,2,   -999.0,9,  -999.00,   7.4979,2,    25.00,-999.000,9,-999.0000,9, -999.00,9, -999.00,9,  -999.0,9,-999.000,9,-999.000,-999.000,9,-999.000,9, -999.00,9, -999.00,9, -999.00,9, -999.00,9, -999.00,9,-999.000,-999.0000,9,-999.0000,9,-999.0000,9,-999.0000,9,-999.0000,9,-999.0000,9,-999.0000,9,-999.0000,9,-999.0000,9,   2.0200,     -999.0,9,     -999.0,9,     -999.0,9,     -999.0,9,     -999.0,9,     -999.0,9,     -999.0,9,-999.0000, -999.00
33RO20071215,        P18,      52,          1,          5,      11005,2,20080101,       0945,    -3.4990,  -110.0008,       3965,  2533.0,   1.8687,  34.6653,2,  34.6657,2,    129.0,2,   129.7,2,  143.80,2,   37.80,2,    0.00,2,    2.58,2,-999.000,9,-999.000,9,-999.0000,9,  2336.9,2,  2360.3,4,   -999.0,9,  -999.00,   7.5400,2,    25.00,-999.000,9,-999.0000,9, -999.00,9, -999.00,9,  -999.0,9,-999.000,9,-999.000,-999.000,9,-999.000,9, -999.00,9, -999.00,9, -999.00,9, -999.00,9, -999.00,9,-999.000,-999.0000,9,-999.0000,9,-999.0000,9,-999.0000,9,-999.0000,9,-999.0000,9,-999.0000,9,-999.0000,9,-999.0000,9,   1.6877,     -999.0,9,     -999.0,9,     -999.0,9,     -999.0,9,     -999.0,9,     -999.0,9,     -999.0,9,-999.0000, -999.00
33RO20071215,        P18,      52,          1,          4,      11004,2,20080101,       0945,    -3.4990,  -110.0008,       3965,  2932.7,   1.7089,  34.6766,2,  34.6773,2,    140.3,2,   141.3,2,  145.00,6,   37.10,6,    0.00,6,    2.52,2,-999.000,9,-999.000,9,-999.0000,9,  2332.6,2,  2423.2,2,   -999.0,9,  -999.00,   7.5727,2,    25.00,-999.000,9,-999.0000,9, -999.00,9, -999.00,9,  -999.0,9,-999.000,9,-999.000,-999.000,9,-999.000,9, -999.00,9, -999.00,9, -999.00,9, -999.00,9, -999.00,9,-999.000,-999.0000,9,-999.0000,9,-999.0000,9,-999.0000,9,-999.0000,9,-999.0000,9,-999.0000,9,-999.0000,9,-999.0000,9,   1.4939,     -999.0,9,     -999.0,9,     -999.0,9,     -999.0,9,     -999.0,9,     -999.0,9,     -999.0,9,-999.0000, -999.00
33RO20071215,        P18,      52,          1,          3,      11003,2,20080101,       0945,    -3.4990,  -110.0008,       3965,  3331.2,   1.5273,  34.6879,2,  34.6887,2,    151.3,2,   151.3,2,  148.60,6,   36.50,6,    0.00,6,    2.47,2,-999.000,9,-999.000,9,-999.0000,9,  2329.4,2,  2431.3,2,   -999.0,9,  -999.00,   7.5868,2,    25.00,-999.000,9,-999.0000,9, -999.00,9, -999.00,9,  -999.0,9,-999.000,9,-999.000,-999.000,9,-999.000,9, -999.00,9, -999.00,9, -999.00,9, -999.00,9, -999.00,9,-999.000,-999.0000,9,-999.0000,9,-999.0000,9,-999.0000,9,-999.0000,9,-999.0000,9,-999.0000,9,-999.0000,9,-999.0000,9,   1.2775,     -999.0,9,     -999.0,9,     -999.0,9,     -999.0,9,     -999.0,9,     -999.0,9,     -999.0,9,-999.0000, -999.00
33RO20071215,        P18,      52,          1,          2,      11002,2,20080101,       0945,    -3.4990,  -110.0008,       3965,  3733.2,   1.4699,  34.6925,2,  34.6938,2,    158.5,2,   152.8,3,  146.90,6,   36.00,6,    0.00,6,    2.43,2,-999.000,9,-999.000,9,-999.0000,9,  2325.2,2,  2428.8,2,   -999.0,9,  -999.00,   7.5861,2,    25.00,-999.000,9,-999.0000,9, -999.00,9, -999.00,9,  -999.0,9,-999.000,9,-999.000,-999.000,9,-999.000,9, -999.00,9, -999.00,9, -999.00,9, -999.00,9, -999.00,9,-999.000,-999.0000,9,-999.0000,9,-999.0000,9,-999.0000,9,-999.0000,9,-999.0000,9,-999.0000,9,-999.0000,9,-999.0000,9,   1.1803,     -999.0,9,     -999.0,9,     -999.0,9,     -999.0,9,     -999.0,9,     -999.0,9,     -999.0,9,-999.0000, -999.00
33RO20071215,        P18,      52,          1,          1,      11001,2,20080101,       0945,    -3.4990,  -110.0008,       3965,  4003.1,   1.4998,  34.6922,2,  34.6938,2,    158.8,2,   153.2,3,  147.30,2,   35.90,2,    0.00,2,    2.43,2,-999.000,9,-999.000,9,-999.0000,9,  2326.4,6,  2433.0,2,   -999.0,9,  -999.00,   7.6073,2,    25.00,-999.000,9,-999.0000,9, -999.00,9, -999.00,9,  -999.0,9,-999.000,9,-999.000,-999.000,9,-999.000,9, -999.00,9, -999.00,9, -999.00,9, -999.00,9, -999.00,9,-999.000,-999.0000,9,-999.0000,9,-999.0000,9,-999.0000,9,-999.0000,9,-999.0000,9,-999.0000,9,-999.0000,9,-999.0000,9,   1.1805,     -999.0,9,     -999.0,9,     -999.0,9,     -999.0,9,     -999.0,9,     -999.0,9,     -999.0,9,-999.0000, -999.00