BOTTLE,20220818CCHSIOAMB
EXPOCODE,SECT_ID,STNNBR,CASTNO,SAMPNO,BTLNBR,BTLNBR_FLAG_W,DATE,TIME,LATITUDE,LONGITUDE,DEPTH,CTDPRS,CTDTMP,CTDSAL,CTDSAL_FLAG_W,SALNTY,SALNTY_FLAG_W,CTDOXY,CTDOXY_FLAG_W,OXYGEN,OXYGEN_FLAG_W,SILCAT,SILCAT_FLAG_W,NITRAT,NITRAT_FLAG_W,NITRIT,NITRIT_FLAG_W,PHSPHT,PHSPHT_FLAG_W,CFC-11,CFC-11_FLAG_W,CFC-12,CFC-12_FLAG_W,SF6,SF6_FLAG_W,TCARBN,TCARBN_FLAG_W,ALKALI,ALKALI_FLAG_W,FCO2,FCO2_FLAG_W,FCO2TMP,PH_SWS,PH_SWS_FLAG_W,PH_TMP,TRITUM,TRITUM_FLAG_W,HELIUM,HELIUM_FLAG_W,DELHE3,DELHE3_FLAG_W,DELC13,DELC13_FLAG_W,DELC14,DELC14_FLAG_W,NEON,NEON_FLAG_W,NEONER,CCL4,CCL4_FLAG_W,POC,POC_FLAG_W,DOC,DOC_FLAG_W,TDN,TDN_FLAG_W,DON,DON_FLAG_W,CHLORA,CHLORA_FLAG_W,ARGON,ARGON_FLAG_W,TRITER,CDOM325,CDOM325_FLAG_W,CDOM340,CDOM340_FLAG_W,CDOM380,CDOM380_FLAG_W,CDOM412,CDOM412_FLAG_W,CDOM443,CDOM443_FLAG_W,CDOM490,CDOM490_FLAG_W,CDOM555,CDOM555_FLAG_W,CDOMSL,CDOMSL_FLAG_W,CDOMSN,CDOMSN_FLAG_W,THETA,D18O_NO3,D18O_NO3_FLAG_W,CDOM2C,CDOM2C_FLAG_W,CDOM3C,CDOM3C_FLAG_W,LAB_DEN,LAB_DEN_FLAG_W,DELSI30,DELSI30_FLAG_W,N2,N2_FLAG_W,D15N_NO3,D15N_NO3_FLAG_W,HELIER,DELHER
,,,,,,,,,,,METERS,DBAR,ITS-90,PSS-78,,PSS-78,,UMOL/KG,,UMOL/KG,,UMOL/KG,,UMOL/KG,,UMOL/KG,,UMOL/KG,,PMOL/KG,,PMOL/KG,,FMOL/KG,,UMOL/KG,,UMOL/KG,,UATM,,DEG C,,,DEG C,TU,,NMOL/KG,,PERCNT,,/MILLE,,/MILLE,,NMOL/KG,,NMOL/KG,PMOL/KG,,UG/KG,,UMOL/KG,,UMOL/KG,,UMOL/KG,,UG/KG,,UMOL/KG,,TU,1/M,,1/M,,1/M,,1/M,,1/M,,1/M,,1/M,,1/NM,,1/NM,,DEG C,/MILLE,,,,,,,,/MILLE,,UMOL/KG,,/MILLE,,NMOL/KG,PERCNT
33RO20071215,        P18,       3,          1,         24,      11024,2,20071218,       0151,    22.6998,  -110.0000,       2513,     5.7,  23.8456,  34.7318,2,  34.7316,2,    212.8,2,   212.9,2,    2.10,2,    0.00,2,    0.02,2,    0.27,2,   1.836,6,   1.161,6,   1.1031,6,  2018.0,2,  2316.2,2,    334.0,2,    20.00,   8.0271,2,    25.00,   0.674,2,   1.7248,2,   -1.73,2, -999.00,9,  -999.0,9,   6.812,2,   0.023,-999.000,9,-999.000,9,   73.79,2,    5.26,2, -999.00,1, -999.00,9, -999.00,9,   0.008,-999.0000,9,-999.0000,9,-999.0000,9,-999.0000,9,-999.0000,9,-999.0000,9,-999.0000,9,-999.0000,9,-999.0000,9,  23.8444,     -999.0,9,     -999.0,9,     -999.0,9,     -999.0,9,     -999.0,9,     -999.0,9,     -999.0,9,   0.0048,    0.15
33RO20071215,        P18,       3,          1,         23,      11023,2,20071218,       0151,    22.6998,  -110.0000,       2513,    21.3,  23.3317,  34.7579,2,  34.8135,2,    212.9,2,   212.8,2,    2.60,2,    0.10,2,    0.03,2,    0.36,2,   1.872,2,   1.172,2,   1.1520,2,  2030.7,2,  2319.9,2,   -999.0,9,  -999.00,   8.0114,2,    25.00,   0.657,2,   1.7294,2,   -1.83,2, -999.00,9,  -999.0,9,   6.833,2,   0.023,-999.000,9,-999.000,9,   73.54,2,    5.82,2, -999.00,1, -999.00,9, -999.00,9,   0.008,-999.0000,9,-999.0000,9,-999.0000,9,-999.0000,9,-999.0000,9,-999.0000,9,-999.0000,9,-999.0000,9,-999.0000,9,  23.3273,     -999.0,9,     -999.0,9,     -999.0,9,     -999.0,9,     -999.0,9,     -999.0,9,     -999.0,9,   0.0048,    0.15
33RO20071215,        P18,       3,          1,         22,      11022,2,20071218,       0151,    22.6998,  -110.0000,       2513,    44.8,  19.1762,  34.1519,2,  34.1460,2,    182.7,2,   199.0,2,    4.80,2,    2.50,2,    0.36,2,    0.56,2,   2.389,2,   1.439,2,   1.2252,2,  2066.8,2,  2277.3,2,   -999.0,9,  -999.00,   7.8841,2,    25.00,   0.688,2,   1.7620,2,   -1.01,2, -999.00,9,  -999.0,9,   7.146,2,   0.024,-999.000,9,-999.000,9,   62.47,2,    7.06,2, -999.00,1, -999.00,9, -999.00,9,   0.007,-999.0000,9,-999.0000,9,-999.0000,9,-999.0000,9,-999.0000,9,-999.0000,9,-999.0000,9,-999.0000,9,-999.0000,9,  19.1682,     -999.0,9,     -999.0,9,     -999.0,9,     -999.0,9,     -999.0,9,     -999.0,9,     -999.0,9,   0.0049,    0.15
33RO20071215,        P18,       3,          1,         21,      11021,2,20071218,       0151,    22.6998,  -110.0000,       2513,    70.3,  14.6742,  34.1097,2,  34.1308,2,    109.7,2,    98.9,2,   16.20,2,   17.60,2,    0.04,2,    1.56,2,   2.392,2,   1.390,2,   1.0147,2,  2168.5,2,  -999.0,5,   1043.8,2,    20.00,   7.6084,2,    25.00,   0.621,2,   1.7897,2,    1.65,2, -999.00,9,  -999.0,9,   7.363,2,   0.025,-999.000,9,-999.000,9, -999.00,9, -999.00,9, -999.00,1, -999.00,9, -999.00,9,   0.008,-999.0000,9,-999.0000,9,-999.0000,9,-999.0000,9,-999.0000,9,-999.0000,9,-999.0000,9,-999.0000,9,-999.0000,9,  14.6638,     -999.0,9,     -999.0,9,     -999.0,9,     -999.0,9,     -999.0,9,     -999.0,9,     -999.0,9,   0.0050,    0.15
33RO20071215,        P18,       3,          1,         20,      11020,2,20071218,       0151,    22.6998,  -110.0000,       2513,    95.9,  13.7779,  34.2812,2,  34.3078,2,     60.1,2,    56.5,2,   22.30,2,   22.90,2,    0.03,2,    2.00,2,-999.000,9,-999.000,9,-999.0000,9,  -999.0,9,  -999.0,9,   -999.0,9,  -999.00,-999.0000,9,  -999.00,-999.000,9,-999.0000,9, -999.00,9, -999.00,9,  -999.0,9,-999.000,9,-999.000,-999.000,9,-999.000,9,   49.39,2,   26.09,2, -999.00,1, -999.00,9, -999.00,9,-999.000,-999.0000,9,-999.0000,9,-999.0000,9,-999.0000,9,-999.0000,9,-999.0000,9,-999.0000,9,-999.0000,9,-999.0000,9,  13.7643,     -999.0,9,     -999.0,9,     -999.0,9,     -999.0,9,     -999.0,9,     -999.0,9,     -999.0,9,-999.0000, -999.00
33RO20071215,        P18,       3,          1,         19,      11019,2,20071218,       0151,    22.6998,  -110.0000,       2513,   121.4,  12.8355,  34.4471,2,  34.4597,2,     37.2,2,    35.0,2,   27.50,2,   25.20,2,    0.02,2,    2.27,2,   1.709,2,   0.966,2,   0.5925,2,  2236.1,2,  2281.1,2,   1504.1,2,    20.00,   7.4606,2,    25.00,   0.485,2,   1.7881,2,    5.23,2, -999.00,9,  -999.0,9,   7.491,2,   0.026,-999.000,9,-999.000,9, -999.00,9, -999.00,9, -999.00,1, -999.00,9, -999.00,9,   0.007,-999.0000,9,-999.0000,9,-999.0000,9,-999.0000,9,-999.0000,9,-999.0000,9,-999.0000,9,-999.0000,9,-999.0000,9,  12.8191,     -999.0,9,     -999.0,9,     -999.0,9,     -999.0,9,     -999.0,9,     -999.0,9,     -999.0,9,   0.0050,    0.15
33RO20071215,        P18,       3,          1,         18,      11018,2,20071218,       0151,    22.6998,  -110.0000,       2513,   145.9,  12.5714,  34.6001,2,  34.5962,2,     17.3,2,    20.8,2,   30.80,2,   25.70,2,    0.02,2,    2.42,2,   1.282,2,   0.734,2,   0.4130,2,  -999.0,9,  -999.0,9,   -999.0,9,  -999.00,-999.0000,9,  -999.00,   0.418,2,   1.8186,2,    6.88,2, -999.00,9,  -999.0,9,   7.600,2,   0.026,-999.000,9,-999.000,9,   45.56,2,   28.71,2, -999.00,1, -999.00,9, -999.00,9,   0.007,-999.0000,9,-999.0000,9,-999.0000,9,-999.0000,9,-999.0000,9,-999.0000,9,-999.0000,9,-999.0000,9,-999.0000,9,  12.5519,     -999.0,9,     -999.0,9,     -999.0,9,     -999.0,9,     -999.0,9,     -999.0,9,     -999.0,9,   0.0051,    0.15
33RO20071215,        P18,       3,          1,         17,      11017,2,20071218,       0151,    22.6998,  -110.0000,       2513,   190.4,  11.5577,  34.5739,2,  34.5828,2,     18.6,2,    17.4,2,   33.50,2,   26.60,2,    0.03,2,    2.47,2,   1.051,2,   0.593,2,   0.2626,2,  2258.2,2,  1776.9,4,   -999.0,9,  -999.00,   7.4142,2,    25.00,   0.385,2,   1.8386,2,    7.81,2, -999.00,9,  -999.0,9,   7.689,2,   0.026,-999.000,9,-999.000,9, -999.00,9, -999.00,9, -999.00,1, -999.00,9, -999.00,9,   0.007,-999.0000,9,-999.0000,9,-999.0000,9,-999.0000,9,-999.0000,9,-999.0000,9,-999.0000,9,-999.0000,9,-999.0000,9,  11.5336,     -999.0,9,     -999.0,9,     -999.0,9,     -999.0,9,     -999.0,9,     -999.0,9,     -999.0,9,   0.0051,    0.15
33RO20071215,        P18,       3,          1,         16,      11016,2,20071218,       0151,    22.6998,  -110.0000,       2513,   240.4,  11.3572,  34.6879,2,  34.6779,2,      4.9,2,     6.7,2,   37.20,2,   25.80,2,    0.02,2,    2.61,2,   0.579,2,   0.340,2,   0.1883,2,  2274.4,2,  2305.3,2,   -999.0,9,  -999.00,   7.4015,2,    25.00,   0.249,2,   1.8382,2,    8.20,2, -999.00,9,  -999.0,9,   7.659,2,   0.026,-999.000,9,-999.000,9,   44.06,2,   28.28,2, -999.00,1, -999.00,9, -999.00,9,   0.007,-999.0000,9,-999.0000,9,-999.0000,9,-999.0000,9,-999.0000,9,-999.0000,9,-999.0000,9,-999.0000,9,-999.0000,9,  11.3270,     -999.0,9,     -999.0,9,     -999.0,9,     -999.0,9,     -999.0,9,     -999.0,9,     -999.0,9,   0.0051,    0.15
33RO20071215,        P18,       3,          1,         15,      11015,2,20071218,       0151,    22.6998,  -110.0000,       2513,   305.9,  10.2652,  34.6236,2,  34.6233,2,      4.4,2,     5.1,2,   42.40,2,   27.10,2,    0.02,2,    2.71,2,   0.351,2,   0.204,2,   0.1392,2,  -999.0,9,  -999.0,9,   -999.0,9,  -999.00,-999.0000,9,  -999.00,   0.005,2,   1.8175,2,    8.75,2, -999.00,9,  -999.0,9,   7.564,2,   0.026,-999.000,9,-999.000,9,   42.75,2,   28.39,2, -999.00,1, -999.00,9, -999.00,9,   0.005,-999.0000,9,-999.0000,9,-999.0000,9,-999.0000,9,-999.0000,9,-999.0000,9,-999.0000,9,-999.0000,9,-999.0000,9,  10.2291,     -999.0,9,     -999.0,9,     -999.0,9,     -999.0,9,     -999.0,9,     -999.0,9,     -999.0,9,   0.0051,    0.15
33RO20071215,        P18,       3,          1,         14,      11014,2,20071218,       0151,    22.6998,  -110.0000,       2513,   381.0,   9.2114,  34.5720,2,  34.5712,2,      4.4,2,     5.4,2,   50.20,2,   29.90,2,    0.02,2,    2.80,2,   0.210,2,   0.125,2,   0.0339,2,  -999.0,9,  -999.0,9,   -999.0,9,  -999.00,-999.0000,9,  -999.00,   0.130,2,   1.8081,2,    9.12,2, -999.00,9,  -999.0,9,   7.581,2,   0.026,-999.000,9,-999.000,9,   41.47,2,   31.28,2, -999.00,1, -999.00,9, -999.00,9,   0.006,-999.0000,9,-999.0000,9,-999.0000,9,-999.0000,9,-999.0000,9,-999.0000,9,-999.0000,9,-999.0000,9,-999.0000,9,   9.1692,     -999.0,9,     -999.0,9,     -999.0,9,     -999.0,9,     -999.0,9,     -999.0,9,     -999.0,9,   0.0051,    0.15
33RO20071215,        P18,       3,          1,         13,      11013,2,20071218,       0151,    22.6998,  -110.0000,       2513,   460.6,   8.2103,  34.5387,2,  34.5399,2,      3.9,2,     4.2,2,   59.10,2,   32.70,2,    0.02,2,    2.93,2,-999.000,5,-999.000,5,-999.0000,5,  2304.2,2,  2323.8,2,   -999.0,9,  -999.00,   7.3301,2,    25.00,   0.072,2,   1.8428,2,    9.38,2, -999.00,9,  -999.0,9,   7.682,2,   0.026,-999.000,9,-999.000,9,   40.29,2,   32.74,2, -999.00,1, -999.00,9, -999.00,9,   0.006,-999.0000,9,-999.0000,9,-999.0000,9,-999.0000,9,-999.0000,9,-999.0000,9,-999.0000,9,-999.0000,9,-999.0000,9,   8.1625,     -999.0,9,     -999.0,9,     -999.0,9,     -999.0,9,     -999.0,9,     -999.0,9,     -999.0,9,   0.0052,    0.15
33RO20071215,        P18,       3,          1,         12,      11012,2,20071218,       0151,    22.6998,  -110.0000,       2513,   531.2,   7.5050,  34.5238,2,  34.5268,2,      3.6,2,     3.9,2,   66.60,2,   34.90,2,    0.02,2,    3.02,2,-999.000,9,-999.000,9,-999.0000,9,  2314.0,2,  2328.6,2,   -999.0,9,  -999.00,   7.3419,2,    25.00,-999.000,9,-999.0000,9, -999.00,9, -999.00,9,  -999.0,9,-999.000,9,-999.000,-999.000,9,-999.000,9,   39.00,2,   36.16,2, -999.00,1, -999.00,9, -999.00,9,-999.000,-999.0000,9,-999.0000,9,-999.0000,9,-999.0000,9,-999.0000,9,-999.0000,9,-999.0000,9,-999.0000,9,-999.0000,9,   7.4524,     -999.0,9,     -999.0,9,     -999.0,9,     -999.0,9,     -999.0,9,     -999.0,9,     -999.0,9,-999.0000, -999.00
33RO20071215,        P18,       3,          1,         11,      11010,2,20071218,       0151,    22.6998,  -110.0000,       2513,   625.8,   6.5265,  34.4906,2,  34.4928,2,      4.7,2,     4.7,2,   76.40,2,   38.40,2,    0.02,2,    3.09,2,   0.032,2,   0.018,2,   0.0496,2,  2325.1,2,  2332.4,2,   -999.0,9,  -999.00,   7.3282,2,    25.00,  -0.009,2,   1.8266,2,   12.11,2, -999.00,9,  -999.0,9,   7.673,2,   0.026,-999.000,9,-999.000,9,   38.24,2,   39.40,2, -999.00,1, -999.00,9, -999.00,9,   0.005,-999.0000,9,-999.0000,9,-999.0000,9,-999.0000,9,-999.0000,9,-999.0000,9,-999.0000,9,-999.0000,9,-999.0000,9,   6.4688,     -999.0,9,     -999.0,9,     -999.0,9,     -999.0,9,     -999.0,9,     -999.0,9,     -999.0,9,   0.0051,    0.15
33RO20071215,        P18,       3,          1,         10,      11011,2,20071218,       0151,    22.6998,  -110.0000,       2513,   726.9,   5.7557,  34.4856,2,  34.4876,2,      6.3,2,     6.0,2,   86.00,2,   41.10,2,    0.02,2,    3.17,2,-999.000,9,-999.000,9,-999.0000,9,  -999.0,9,  -999.0,9,   -999.0,9,  -999.00,-999.0000,9,  -999.00,-999.000,9,-999.0000,9, -999.00,9, -999.00,9,  -999.0,9,-999.000,9,-999.000,-999.000,9,-999.000,9,   38.07,2,   42.65,2, -999.00,1, -999.00,9, -999.00,9,-999.000,-999.0000,9,-999.0000,9,-999.0000,9,-999.0000,9,-999.0000,9,-999.0000,9,-999.0000,9,-999.0000,9,-999.0000,9,   5.6924,     -999.0,9,     -999.0,9,     -999.0,9,     -999.0,9,     -999.0,9,     -999.0,9,     -999.0,9,-999.0000, -999.00
33RO20071215,        P18,       3,          1,          9,      11009,2,20071218,       0151,    22.6998,  -110.0000,       2513,   861.3,   5.0679,  34.5165,2,  34.5190,2,      7.6,2,     7.4,2,   98.50,2,   42.70,2,    0.02,2,    3.22,2,   0.013,2,   0.005,2,   0.0355,2,  -999.0,9,  -999.0,9,   -999.0,9,  -999.00,-999.0000,9,  -999.00,   0.010,2,   1.8816,2,   17.72,2, -999.00,9,  -999.0,9,   7.731,2,   0.026,-999.000,9,-999.000,9,   37.73,2,   44.29,2, -999.00,1, -999.00,9, -999.00,9,   0.006,-999.0000,9,-999.0000,9,-999.0000,9,-999.0000,9,-999.0000,9,-999.0000,9,-999.0000,9,-999.0000,9,-999.0000,9,   4.9965,     -999.0,9,     -999.0,9,     -999.0,9,     -999.0,9,     -999.0,9,     -999.0,9,     -999.0,9,   0.0053,    0.15
33RO20071215,        P18,       3,          1,          8,      11008,2,20071218,       0151,    22.6998,  -110.0000,       2513,  1015.4,   4.5182,  34.5352,2,  34.5368,2,     11.5,2,    11.8,2,  108.70,2,   43.60,2,    0.02,2,    3.27,2,   0.012,2,   0.004,2,   0.0187,2,  -999.0,9,  -999.0,9,   -999.0,9,  -999.00,-999.0000,9,  -999.00,   0.022,2,   1.8861,2,   19.76,2, -999.00,9,  -999.0,9,   7.939,2,   0.027,-999.000,9,-999.000,9,   37.51,2,   44.90,2, -999.00,1, -999.00,9, -999.00,9,   0.007,-999.0000,9,-999.0000,9,-999.0000,9,-999.0000,9,-999.0000,9,-999.0000,9,-999.0000,9,-999.0000,9,-999.0000,9,   4.4372,     -999.0,9,     -999.0,9,     -999.0,9,     -999.0,9,     -999.0,9,     -999.0,9,     -999.0,9,   0.0053,    0.15
33RO20071215,        P18,       3,          1,          7,      11007,2,20071218,       0151,    22.6998,  -110.0000,       2513,  1159.8,   4.0192,  34.5543,2,  34.5562,2,     19.3,2,    20.1,2,  117.50,2,   44.20,2,    0.02,2,    3.25,2,   0.012,2,   0.004,2,   0.0318,2,  -999.0,9,  -999.0,9,   -999.0,9,  -999.00,-999.0000,9,  -999.00,   0.004,2,   1.9141,2,   21.77,2, -999.00,9,  -999.0,9,   8.088,2,   0.028,-999.000,9,-999.000,9,   36.73,2,   45.39,2, -999.00,1, -999.00,9, -999.00,9,   0.006,-999.0000,9,-999.0000,9,-999.0000,9,-999.0000,9,-999.0000,9,-999.0000,9,-999.0000,9,-999.0000,9,-999.0000,9,   3.9298,     -999.0,9,     -999.0,9,     -999.0,9,     -999.0,9,     -999.0,9,     -999.0,9,     -999.0,9,   0.0054,    0.15
33RO20071215,        P18,       3,          1,          6,      11006,2,20071218,       0151,    22.6998,  -110.0000,       2513,  1316.6,   3.5390,  34.5729,2,  34.5751,2,     30.8,2,    29.9,2,  128.70,2,   43.50,2,    0.02,2,    3.17,2,   0.015,2,   0.003,2,   0.0250,2,  -999.0,9,  -999.0,9,   -999.0,9,  -999.00,-999.0000,9,  -999.00,-999.000,9,-999.0000,9, -999.00,9, -999.00,9,  -999.0,9,-999.000,9,-999.000,-999.000,9,-999.000,9,   35.52,2,   45.29,2, -999.00,1, -999.00,9, -999.00,9,-999.000,-999.0000,9,-999.0000,9,-999.0000,9,-999.0000,9,-999.0000,9,-999.0000,9,-999.0000,9,-999.0000,9,-999.0000,9,   3.4407,     -999.0,9,     -999.0,9,     -999.0,9,     -999.0,9,     -999.0,9,     -999.0,9,     -999.0,9,-999.0000, -999.00
33RO20071215,        P18,       3,          1,          5,      11005,2,20071218,       0151,    22.6998,  -110.0000,       2513,  1540.9,   3.0492,  34.5972,2,  34.5993,2,     46.3,2,    45.8,2,  138.30,2,   43.00,2,    0.02,2,    3.07,2,   0.012,2,   0.005,2,   0.0798,2,  -999.0,9,  -999.0,9,   -999.0,9,  -999.00,-999.0000,9,  -999.00,-999.000,9,-999.0000,9, -999.00,9, -999.00,9,  -999.0,9,-999.000,9,-999.000,-999.000,9,-999.000,9,   35.60,2,   44.42,2, -999.00,1, -999.00,9, -999.00,9,-999.000,-999.0000,9,-999.0000,9,-999.0000,9,-999.0000,9,-999.0000,9,-999.0000,9,-999.0000,9,-999.0000,9,-999.0000,9,   2.9373,     -999.0,9,     -999.0,9,     -999.0,9,     -999.0,9,     -999.0,9,     -999.0,9,     -999.0,9,-999.0000, -999.00
33RO20071215,        P18,       3,          1,          4,      11004,2,20071218,       0151,    22.6998,  -110.0000,       2513,  1899.5,   2.4609,  34.6261,2,  34.6281,2,     70.7,2,    69.8,2,  150.10,6,   41.30,6,    0.02,6,    2.90,2,   0.014,2,   0.004,2,   0.0405,2,  -999.0,9,  -999.0,9,   -999.0,9,  -999.00,-999.0000,9,  -999.00,-999.000,9,-999.0000,9, -999.00,9, -999.00,9,  -999.0,9,-999.000,9,-999.000,-999.000,9,-999.000,9,   35.31,2,   42.90,2, -999.00,9, -999.00,9, -999.00,9,-999.000,-999.0000,9,-999.0000,9,-999.0000,9,-999.0000,9,-999.0000,9,-999.0000,9,-999.0000,9,-999.0000,9,-999.0000,9,   2.3261,     -999.0,9,     -999.0,9,     -999.0,9,     -999.0,9,     -999.0,9,     -999.0,9,     -999.0,9,-999.0000, -999.00
33RO20071215,        P18,       3,          1,          3,      11003,2,20071218,       0151,    22.6998,  -110.0000,       2513,  2099.0,   2.1684,  34.6422,2,  34.6447,2,     84.3,2,    84.2,2,  155.30,6,   40.30,6,    0.02,6,    2.78,2,   0.010,2,   0.004,2,   0.0433,2,  -999.0,9,  -999.0,9,   -999.0,9,  -999.00,-999.0000,9,  -999.00,-999.000,9,-999.0000,9, -999.00,9, -999.00,9,  -999.0,9,-999.000,9,-999.000,   0.005,3,-999.000,9,   35.25,2,   41.92,2, -999.00,9, -999.00,9, -999.00,9,-999.000,-999.0000,9,-999.0000,9,-999.0000,9,-999.0000,9,-999.0000,9,-999.0000,9,-999.0000,9,-999.0000,9,-999.0000,9,   2.0208,     -999.0,9,     -999.0,9,     -999.0,9,     -999.0,9,     -999.0,9,     -999.0,9,     -999.0,9,-999.0000, -999.00
33RO20071215,        P18,       3,          1,          2,      11002,2,20071218,       0151,    22.6998,  -110.0000,       2513,  2300.0,   1.9920,  34.6527,2,  34.6543,2,     93.6,2,    94.3,2,  159.20,6,   39.70,6,    0.02,6,    2.72,2,   0.008,2,   0.006,2,   0.0408,2,  -999.0,9,  -999.0,9,   -999.0,9,  -999.00,-999.0000,9,  -999.00,-999.000,9,-999.0000,9, -999.00,9, -999.00,9,  -999.0,9,-999.000,9,-999.000,   0.005,3,-999.000,9,   34.90,2,   40.95,2, -999.00,9, -999.00,9, -999.00,9,-999.000,-999.0000,9,-999.0000,9,-999.0000,9,-999.0000,9,-999.0000,9,-999.0000,9,-999.0000,9,-999.0000,9,-999.0000,9,   1.8298,     -999.0,9,     -999.0,9,     -999.0,9,     -999.0,9,     -999.0,9,     -999.0,9,     -999.0,9,-999.0000, -999.00
33RO20071215,        P18,       3,          1,          1,      11001,2,20071218,       0151,    22.6998,  -110.0000,       2513,  2513.3,   1.9063,  34.6581,2,  34.6615,2,     99.5,2,    98.8,2,  160.80,2,   39.40,2,    0.02,2,    2.67,2,   0.009,6,   0.008,6,   0.0363,6,  2366.4,6,  2430.1,2,   1454.6,2,    20.00,   7.4952,2,    25.00,-999.000,9,-999.0000,9, -999.00,9, -999.00,9,  -999.0,9,-999.000,9,-999.000,   0.005,3,-999.000,9,   35.53,2,   40.64,2, -999.00,9, -999.00,9, -999.00,9,-999.000,-999.0000,9,-999.0000,9,-999.0000,9,-999.0000,9,-999.0000,9,-999.0000,9,-999.0000,9,-999.0000,9,-999.0000,9,   1.7265,     -999.0,9,     -999.0,9,     -999.0,9,     -999.0,9,     -999.0,9,     -999.0,9,     -999.0,9,-999.0000, -999.00