BOTTLE,20220818CCHSIOAMB
EXPOCODE,SECT_ID,STNNBR,CASTNO,SAMPNO,BTLNBR,BTLNBR_FLAG_W,DATE,TIME,LATITUDE,LONGITUDE,DEPTH,CTDPRS,CTDTMP,CTDSAL,CTDSAL_FLAG_W,SALNTY,SALNTY_FLAG_W,CTDOXY,CTDOXY_FLAG_W,OXYGEN,OXYGEN_FLAG_W,SILCAT,SILCAT_FLAG_W,NITRAT,NITRAT_FLAG_W,NITRIT,NITRIT_FLAG_W,PHSPHT,PHSPHT_FLAG_W,CFC-11,CFC-11_FLAG_W,CFC-12,CFC-12_FLAG_W,SF6,SF6_FLAG_W,TCARBN,TCARBN_FLAG_W,ALKALI,ALKALI_FLAG_W,FCO2,FCO2_FLAG_W,FCO2TMP,PH_SWS,PH_SWS_FLAG_W,PH_TMP,TRITUM,TRITUM_FLAG_W,HELIUM,HELIUM_FLAG_W,DELHE3,DELHE3_FLAG_W,DELC13,DELC13_FLAG_W,DELC14,DELC14_FLAG_W,NEON,NEON_FLAG_W,NEONER,CCL4,CCL4_FLAG_W,POC,POC_FLAG_W,DOC,DOC_FLAG_W,TDN,TDN_FLAG_W,DON,DON_FLAG_W,CHLORA,CHLORA_FLAG_W,ARGON,ARGON_FLAG_W,TRITER,CDOM325,CDOM325_FLAG_W,CDOM340,CDOM340_FLAG_W,CDOM380,CDOM380_FLAG_W,CDOM412,CDOM412_FLAG_W,CDOM443,CDOM443_FLAG_W,CDOM490,CDOM490_FLAG_W,CDOM555,CDOM555_FLAG_W,CDOMSL,CDOMSL_FLAG_W,CDOMSN,CDOMSN_FLAG_W,THETA,D18O_NO3,D18O_NO3_FLAG_W,CDOM2C,CDOM2C_FLAG_W,CDOM3C,CDOM3C_FLAG_W,LAB_DEN,LAB_DEN_FLAG_W,DELSI30,DELSI30_FLAG_W,N2,N2_FLAG_W,D15N_NO3,D15N_NO3_FLAG_W,HELIER,DELHER
,,,,,,,,,,,METERS,DBAR,ITS-90,PSS-78,,PSS-78,,UMOL/KG,,UMOL/KG,,UMOL/KG,,UMOL/KG,,UMOL/KG,,UMOL/KG,,PMOL/KG,,PMOL/KG,,FMOL/KG,,UMOL/KG,,UMOL/KG,,UATM,,DEG C,,,DEG C,TU,,NMOL/KG,,PERCNT,,/MILLE,,/MILLE,,NMOL/KG,,NMOL/KG,PMOL/KG,,UG/KG,,UMOL/KG,,UMOL/KG,,UMOL/KG,,UG/KG,,UMOL/KG,,TU,1/M,,1/M,,1/M,,1/M,,1/M,,1/M,,1/M,,1/NM,,1/NM,,DEG C,/MILLE,,,,,,,,/MILLE,,UMOL/KG,,/MILLE,,NMOL/KG,PERCNT
33RO20071215,        P18,     160,          1,         24,      11024,2,20080210,       1329,   -63.2495,  -102.9998,       5043,     4.5,   3.4476,  33.9308,2,  33.9309,2,    321.8,2,   322.3,2,    6.20,2,   24.30,2,    0.22,2,    1.61,2,-999.000,9,-999.000,9,-999.0000,9,  2130.9,6,  2274.6,2,    716.2,2,    20.00,   7.7558,2,    25.00,-999.000,9,-999.0000,9, -999.00,9,    1.55,2,  -999.0,1,-999.000,9,-999.000,-999.000,9,-999.000,9, -999.00,9, -999.00,9, -999.00,9, -999.00,9, -999.00,9,-999.000,-999.0000,9,-999.0000,9,-999.0000,9,-999.0000,9,-999.0000,9,-999.0000,9,-999.0000,9,-999.0000,9,-999.0000,9,   3.4473,     -999.0,9,     -999.0,9,     -999.0,9,     -999.0,9,     -999.0,9,     -999.0,9,     -999.0,9,-999.0000, -999.00
33RO20071215,        P18,     160,          1,         23,      11023,2,20080210,       1329,   -63.2495,  -102.9998,       5043,    24.7,   3.3966,  33.9319,2,  33.9335,2,    322.0,2,   323.0,2,    6.30,2,   24.40,2,    0.22,2,    1.63,2,   5.290,2,   3.002,2,   2.0667,2,  2131.8,2,  2277.0,2,   -999.0,9,  -999.00,   7.7485,2,    25.00,-999.000,9,-999.0000,9, -999.00,9, -999.00,9,  -999.0,9,-999.000,9,-999.000,-999.000,9,-999.000,9, -999.00,9, -999.00,9, -999.00,9, -999.00,9, -999.00,1,-999.000,-999.0000,9,-999.0000,9,-999.0000,9,-999.0000,9,-999.0000,9,-999.0000,9,-999.0000,9,-999.0000,9,-999.0000,9,   3.3950,     -999.0,1,     -999.0,9,     -999.0,9,     -999.0,9,     -999.0,9,     -999.0,1,     -999.0,9,-999.0000, -999.00
33RO20071215,        P18,     160,          1,         22,      11022,2,20080210,       1329,   -63.2495,  -102.9998,       5043,    50.8,   3.3480,  33.9345,2,  33.9344,2,    321.8,2,   323.2,2,    6.50,2,   24.40,2,    0.22,2,    1.64,2,-999.000,9,-999.000,9,-999.0000,9,  2132.5,2,  2272.2,2,    722.3,6,    20.00,   7.7479,2,    25.00,-999.000,9,-999.0000,9, -999.00,9, -999.00,9,  -999.0,9,-999.000,9,-999.000,-999.000,9,-999.000,9, -999.00,9, -999.00,9, -999.00,9, -999.00,9, -999.00,9,-999.000,-999.0000,9,-999.0000,9,-999.0000,9,-999.0000,9,-999.0000,9,-999.0000,9,-999.0000,9,-999.0000,9,-999.0000,9,   3.3448,     -999.0,9,     -999.0,9,     -999.0,9,     -999.0,9,     -999.0,9,     -999.0,9,     -999.0,9,-999.0000, -999.00
33RO20071215,        P18,     160,          1,         21,      11021,2,20080210,       1329,   -63.2495,  -102.9998,       5043,    73.9,   2.5809,  33.9475,2,  33.9483,2,    324.3,2,   321.1,2,   13.00,2,   25.40,2,    0.22,2,    1.92,2,   5.372,2,   3.036,2,   2.0816,2,  2144.7,2,  2274.7,2,   -999.0,9,  -999.00,   7.7217,2,    25.00,-999.000,9,-999.0000,9, -999.00,9, -999.00,9,  -999.0,9,-999.000,9,-999.000,-999.000,9,-999.000,9, -999.00,9, -999.00,9, -999.00,9, -999.00,9, -999.00,9,-999.000,-999.0000,9,-999.0000,9,-999.0000,9,-999.0000,9,-999.0000,9,-999.0000,9,-999.0000,9,-999.0000,9,-999.0000,9,   2.5767,     -999.0,9,     -999.0,9,     -999.0,9,     -999.0,9,     -999.0,9,     -999.0,9,     -999.0,9,-999.0000, -999.00
33RO20071215,        P18,     160,          1,         20,      11020,2,20080210,       1329,   -63.2495,  -102.9998,       5043,   100.4,   1.9645,  33.9586,2,  33.9607,2,    323.3,2,   323.9,2,   17.60,2,   26.50,2,    0.21,2,    1.94,2,-999.000,9,-999.000,9,-999.0000,9,  2150.4,2,  2285.9,2,    803.7,2,    20.00,   7.7006,2,    25.00,-999.000,9,-999.0000,9, -999.00,9, -999.00,9,  -999.0,9,-999.000,9,-999.000,-999.000,9,-999.000,9, -999.00,9, -999.00,9, -999.00,9, -999.00,9, -999.00,9,-999.000,-999.0000,9,-999.0000,9,-999.0000,9,-999.0000,9,-999.0000,9,-999.0000,9,-999.0000,9,-999.0000,9,-999.0000,9,   1.9594,     -999.0,9,     -999.0,9,     -999.0,9,     -999.0,9,     -999.0,9,     -999.0,9,     -999.0,9,-999.0000, -999.00
33RO20071215,        P18,     160,          1,         19,      11019,2,20080210,       1329,   -63.2495,  -102.9998,       5043,   151.0,   1.4624,  33.9870,2,  34.0704,2,    315.6,2,   317.0,2,   21.70,2,   28.70,2,    0.02,2,    1.99,2,   5.365,2,   3.014,2,   1.9286,2,  2159.6,2,  2286.4,2,    855.7,2,    20.00,   7.6815,2,    25.00,-999.000,9,-999.0000,9, -999.00,9, -999.00,9,  -999.0,9,-999.000,9,-999.000,-999.000,9,-999.000,9, -999.00,9, -999.00,9, -999.00,9, -999.00,9, -999.00,9,-999.000,-999.0000,9,-999.0000,9,-999.0000,9,-999.0000,9,-999.0000,9,-999.0000,9,-999.0000,9,-999.0000,9,-999.0000,9,   1.4553,     -999.0,9,     -999.0,9,     -999.0,9,     -999.0,9,     -999.0,9,     -999.0,9,     -999.0,9,-999.0000, -999.00
33RO20071215,        P18,     160,          1,         18,      11018,2,20080210,       1329,   -63.2495,  -102.9998,       5043,   224.7,   1.6510,  34.0677,2,  34.0681,2,    285.4,2,   291.1,2,   30.20,2,   30.40,2,    0.01,2,    2.09,2,   4.700,2,   2.645,2,   1.6975,2,  2177.5,2,  2292.0,2,    934.2,2,    20.00,   7.6499,2,    25.00,-999.000,9,-999.0000,9, -999.00,9, -999.00,9,  -999.0,9,-999.000,9,-999.000,-999.000,9,-999.000,9, -999.00,9, -999.00,9, -999.00,9, -999.00,9, -999.00,9,-999.000,-999.0000,9,-999.0000,9,-999.0000,9,-999.0000,9,-999.0000,9,-999.0000,9,-999.0000,9,-999.0000,9,-999.0000,9,   1.6398,     -999.0,9,     -999.0,9,     -999.0,9,     -999.0,9,     -999.0,9,     -999.0,9,     -999.0,9,-999.0000, -999.00
33RO20071215,        P18,     160,          1,         17,      11017,2,20080210,       1329,   -63.2495,  -102.9998,       5043,   300.4,   1.6882,  34.1406,2,  34.1466,2,    270.4,2,   267.7,2,   37.90,2,   31.70,2,    0.01,2,    2.18,2,   4.017,2,   2.196,2,   1.3064,2,  2193.1,2,  2299.8,2,    993.3,2,    20.00,   7.6243,2,    25.00,-999.000,9,-999.0000,9, -999.00,9, -999.00,9,  -999.0,9,-999.000,9,-999.000,-999.000,9,-999.000,9, -999.00,9, -999.00,9, -999.00,9, -999.00,9, -999.00,9,-999.000,-999.0000,9,-999.0000,9,-999.0000,9,-999.0000,9,-999.0000,9,-999.0000,9,-999.0000,9,-999.0000,9,-999.0000,9,   1.6729,     -999.0,9,     -999.0,9,     -999.0,9,     -999.0,9,     -999.0,9,     -999.0,9,     -999.0,9,-999.0000, -999.00
33RO20071215,        P18,     160,          1,         16,      11016,2,20080210,       1329,   -63.2495,  -102.9998,       5043,   400.3,   2.1831,  34.2690,2,  34.2699,2,    230.9,2,   226.8,2,   47.50,2,   33.40,2,    0.00,2,    2.30,2,-999.000,9,-999.000,9,-999.0000,9,  2213.1,2,  2309.0,2,   1096.5,2,    20.00,   7.5915,2,    25.00,-999.000,9,-999.0000,9, -999.00,9, -999.00,9,  -999.0,9,-999.000,9,-999.000,-999.000,9,-999.000,9, -999.00,9, -999.00,9, -999.00,9, -999.00,9, -999.00,9,-999.000,-999.0000,9,-999.0000,9,-999.0000,9,-999.0000,9,-999.0000,9,-999.0000,9,-999.0000,9,-999.0000,9,-999.0000,9,   2.1606,     -999.0,9,     -999.0,9,     -999.0,9,     -999.0,9,     -999.0,9,     -999.0,9,     -999.0,9,-999.0000, -999.00
33RO20071215,        P18,     160,          1,         15,      11015,2,20080210,       1329,   -63.2495,  -102.9998,       5043,   499.5,   2.4032,  34.3816,2,  34.3828,2,    196.9,2,   197.2,2,   57.90,2,   34.60,2,    0.00,2,    2.38,2,   1.810,2,   0.921,2,   0.5239,2,  2230.0,2,  2319.8,2,   1158.7,2,    20.00,   7.5598,2,    25.00,-999.000,9,-999.0000,9, -999.00,9, -999.00,9,  -999.0,9,-999.000,9,-999.000,-999.000,9,-999.000,9, -999.00,9, -999.00,9, -999.00,9, -999.00,9, -999.00,9,-999.000,-999.0000,9,-999.0000,9,-999.0000,9,-999.0000,9,-999.0000,9,-999.0000,9,-999.0000,9,-999.0000,9,-999.0000,9,   2.3738,     -999.0,9,     -999.0,9,     -999.0,9,     -999.0,9,     -999.0,9,     -999.0,9,     -999.0,9,-999.0000, -999.00
33RO20071215,        P18,     160,          1,         14,      11014,2,20080210,       1329,   -63.2495,  -102.9998,       5043,   649.9,   2.3775,  34.4923,2,  34.4937,2,    180.0,2,   180.4,2,   68.00,2,   34.90,2,    0.00,2,    2.41,2,   1.060,2,   0.532,2,   0.2446,2,  2245.3,2,  2331.4,2,   1185.9,2,    20.00,   7.5529,2,    25.00,-999.000,9,-999.0000,9, -999.00,9, -999.00,9,  -999.0,9,-999.000,9,-999.000,-999.000,9,-999.000,9, -999.00,9, -999.00,9, -999.00,9, -999.00,9, -999.00,9,-999.000,-999.0000,9,-999.0000,9,-999.0000,9,-999.0000,9,-999.0000,9,-999.0000,9,-999.0000,9,-999.0000,9,-999.0000,9,   2.3384,     -999.0,9,     -999.0,9,     -999.0,9,     -999.0,9,     -999.0,9,     -999.0,9,     -999.0,9,-999.0000, -999.00
33RO20071215,        P18,     160,          1,         13,      11013,2,20080210,       1329,   -63.2495,  -102.9998,       5043,   800.1,   2.3050,  34.5726,2,  34.5743,2,    174.0,2,   174.7,2,   74.60,2,   34.60,2,    0.00,2,    2.38,2,   0.655,2,   0.343,2,   0.3795,2,  2253.1,6,  2339.0,2,   1207.8,2,    20.00,   7.5598,2,    25.00,-999.000,9,-999.0000,9, -999.00,9, -999.00,9,  -999.0,9,-999.000,9,-999.000,-999.000,9,-999.000,9, -999.00,9, -999.00,9, -999.00,9, -999.00,9, -999.00,9,-999.000,-999.0000,9,-999.0000,9,-999.0000,9,-999.0000,9,-999.0000,9,-999.0000,9,-999.0000,9,-999.0000,9,-999.0000,9,   2.2563,     -999.0,9,     -999.0,9,     -999.0,9,     -999.0,9,     -999.0,9,     -999.0,9,     -999.0,9,-999.0000, -999.00
33RO20071215,        P18,     160,          1,         12,      11012,2,20080210,       1329,   -63.2495,  -102.9998,       5043,   950.1,   2.2372,  34.6336,2,  34.6329,2,    174.4,2,   174.5,2,   78.80,2,   33.80,2,    0.00,2,    2.33,2,-999.000,9,-999.000,9,-999.0000,9,  2253.7,2,  2341.4,2,   -999.0,9,  -999.00,   7.5672,2,    25.00,-999.000,9,-999.0000,9, -999.00,9, -999.00,9,  -999.0,9,-999.000,9,-999.000,-999.000,9,-999.000,9, -999.00,9, -999.00,9, -999.00,9, -999.00,9, -999.00,9,-999.000,-999.0000,9,-999.0000,9,-999.0000,9,-999.0000,9,-999.0000,9,-999.0000,9,-999.0000,9,-999.0000,9,-999.0000,9,   2.1785,     -999.0,9,     -999.0,9,     -999.0,9,     -999.0,9,     -999.0,9,     -999.0,9,     -999.0,9,-999.0000, -999.00
33RO20071215,        P18,     160,          1,         11,      11010,2,20080210,       1329,   -63.2495,  -102.9998,       5043,  1098.7,   2.1612,  34.6729,2,  34.6769,2,    176.7,2,   177.3,2,   81.50,2,   33.10,2,    0.00,2,    2.29,2,   0.302,2,   0.152,2,   0.0000,2,  2253.1,2,  2347.4,2,   1156.4,2,    20.00,   7.5715,2,    25.00,-999.000,9,-999.0000,9, -999.00,9, -999.00,9,  -999.0,9,-999.000,9,-999.000,-999.000,9,-999.000,9, -999.00,9, -999.00,9, -999.00,9, -999.00,9, -999.00,9,-999.000,-999.0000,9,-999.0000,9,-999.0000,9,-999.0000,9,-999.0000,9,-999.0000,9,-999.0000,9,-999.0000,9,-999.0000,9,   2.0926,     -999.0,9,     -999.0,9,     -999.0,9,     -999.0,9,     -999.0,9,     -999.0,9,     -999.0,9,-999.0000, -999.00
33RO20071215,        P18,     160,          1,         10,      11011,2,20080210,       1329,   -63.2495,  -102.9998,       5043,  1299.2,   2.0417,  34.7082,2,  34.7077,2,    181.3,2,   182.2,2,   85.40,2,   32.50,2,    0.00,2,    2.23,2,   0.200,2,   0.101,2,   0.0000,2,  2253.4,2,  2352.2,2,   -999.0,9,  -999.00,   7.5869,2,    25.00,-999.000,9,-999.0000,9, -999.00,9, -999.00,9,  -999.0,9,-999.000,9,-999.000,-999.000,9,-999.000,9, -999.00,9, -999.00,9, -999.00,9, -999.00,9, -999.00,9,-999.000,-999.0000,9,-999.0000,9,-999.0000,9,-999.0000,9,-999.0000,9,-999.0000,9,-999.0000,9,-999.0000,9,-999.0000,9,   1.9597,     -999.0,9,     -999.0,9,     -999.0,9,     -999.0,9,     -999.0,9,     -999.0,9,     -999.0,9,-999.0000, -999.00
33RO20071215,        P18,     160,          1,          9,      11009,2,20080210,       1329,   -63.2495,  -102.9998,       5043,  1599.8,   1.8053,  34.7304,2,  34.7287,2,    188.0,2,   188.3,2,   92.00,2,   31.90,2,    0.00,2,    2.20,2,   0.145,2,   0.070,2,   0.0000,2,  2253.6,2,  2356.0,2,   1087.7,2,    20.00,   7.5970,2,    25.00,-999.000,9,-999.0000,9, -999.00,9, -999.00,9,  -999.0,9,-999.000,9,-999.000,-999.000,9,-999.000,9, -999.00,9, -999.00,9, -999.00,9, -999.00,9, -999.00,9,-999.000,-999.0000,9,-999.0000,9,-999.0000,9,-999.0000,9,-999.0000,9,-999.0000,9,-999.0000,9,-999.0000,9,-999.0000,9,   1.7033,     -999.0,9,     -999.0,9,     -999.0,9,     -999.0,9,     -999.0,9,     -999.0,9,     -999.0,9,-999.0000, -999.00
33RO20071215,        P18,     160,          1,          8,      11008,2,20080210,       1329,   -63.2495,  -102.9998,       5043,  1999.9,   1.4882,  34.7314,2,  34.7288,2,    193.3,2,   193.6,2,  102.50,2,   32.00,2,    0.00,2,    2.21,2,   0.089,2,   0.045,2,   0.0636,2,  2256.7,2,  2363.1,2,   1078.5,2,    20.00,   7.6106,2,    25.00,-999.000,9,-999.0000,9, -999.00,9, -999.00,9,  -999.0,9,-999.000,9,-999.000,-999.000,9,-999.000,9, -999.00,9, -999.00,9, -999.00,9, -999.00,9, -999.00,9,-999.000,-999.0000,9,-999.0000,9,-999.0000,9,-999.0000,9,-999.0000,9,-999.0000,9,-999.0000,9,-999.0000,9,-999.0000,9,   1.3593,     -999.0,9,     -999.0,9,     -999.0,9,     -999.0,9,     -999.0,9,     -999.0,9,     -999.0,9,-999.0000, -999.00
33RO20071215,        P18,     160,          1,          7,      11007,2,20080210,       1329,   -63.2495,  -102.9998,       5043,  2499.8,   1.1763,  34.7254,2,  34.7240,2,    199.4,2,   199.8,2,  111.60,2,   32.20,2,    0.00,2,    2.22,2,   0.102,3,   0.050,3,   0.0000,2,  2258.6,2,  2364.4,2,   1075.0,6,    20.00,   7.6063,2,    25.00,-999.000,9,-999.0000,9, -999.00,9, -999.00,9,  -999.0,9,-999.000,9,-999.000,   0.123,3,-999.000,9, -999.00,9, -999.00,9, -999.00,9, -999.00,9, -999.00,9,-999.000,-999.0000,9,-999.0000,9,-999.0000,9,-999.0000,9,-999.0000,9,-999.0000,9,-999.0000,9,-999.0000,9,-999.0000,9,   1.0111,     -999.0,9,     -999.0,9,     -999.0,9,     -999.0,9,     -999.0,9,     -999.0,9,     -999.0,9,-999.0000, -999.00
33RO20071215,        P18,     160,          1,          6,      11006,2,20080210,       1329,   -63.2495,  -102.9998,       5043,  3000.0,   0.9116,  34.7159,2,  34.7156,2,    204.1,2,   204.6,2,  121.00,2,   32.50,2,    0.00,2,    2.24,2,   0.123,6,   0.062,6,   0.0000,6,  2260.5,6,  2364.7,2,   1082.2,2,    20.00,   7.6045,2,    25.00,-999.000,9,-999.0000,9, -999.00,9, -999.00,9,  -999.0,9,-999.000,9,-999.000,   0.149,3,-999.000,9, -999.00,9, -999.00,9, -999.00,9, -999.00,9, -999.00,9,-999.000,-999.0000,9,-999.0000,9,-999.0000,9,-999.0000,9,-999.0000,9,-999.0000,9,-999.0000,9,-999.0000,9,-999.0000,9,   0.7076,     -999.0,9,     -999.0,9,     -999.0,9,     -999.0,9,     -999.0,9,     -999.0,9,     -999.0,9,-999.0000, -999.00
33RO20071215,        P18,     160,          1,          5,      11005,2,20080210,       1329,   -63.2495,  -102.9998,       5043,  3498.7,   0.7274,  34.7098,2,  34.7113,2,    207.4,2,   208.3,2,  126.50,2,   32.80,2,    0.00,2,    2.25,2,   0.182,2,   0.088,2,   0.0000,2,  2261.5,2,  2364.6,2,   1088.9,2,    20.00,   7.6014,2,    25.00,-999.000,9,-999.0000,9, -999.00,9, -999.00,9,  -999.0,9,-999.000,9,-999.000,   0.204,3,-999.000,9, -999.00,9, -999.00,9, -999.00,9, -999.00,9, -999.00,9,-999.000,-999.0000,9,-999.0000,9,-999.0000,9,-999.0000,9,-999.0000,9,-999.0000,9,-999.0000,9,-999.0000,9,-999.0000,9,   0.4808,     -999.0,9,     -999.0,9,     -999.0,9,     -999.0,9,     -999.0,9,     -999.0,9,     -999.0,9,-999.0000, -999.00
33RO20071215,        P18,     160,          1,          4,      11004,2,20080210,       1329,   -63.2495,  -102.9998,       5043,  3999.8,   0.5175,  34.7058,2,  34.7061,2,    212.6,2,   212.9,2,  130.80,6,   32.90,6,    0.00,6,    2.27,2,-999.000,9,-999.000,9,-999.0000,9,  2260.8,2,  2364.9,2,   -999.0,9,  -999.00,   7.5948,2,    25.00,-999.000,9,-999.0000,9, -999.00,9, -999.00,9,  -999.0,9,-999.000,9,-999.000,-999.000,9,-999.000,9, -999.00,9, -999.00,9, -999.00,9, -999.00,9, -999.00,9,-999.000,-999.0000,9,-999.0000,9,-999.0000,9,-999.0000,9,-999.0000,9,-999.0000,9,-999.0000,9,-999.0000,9,-999.0000,9,   0.2263,     -999.0,9,     -999.0,9,     -999.0,9,     -999.0,9,     -999.0,9,     -999.0,9,     -999.0,9,-999.0000, -999.00
33RO20071215,        P18,     160,          1,          3,      11003,2,20080210,       1329,   -63.2495,  -102.9998,       5043,  4501.8,   0.4251,  34.7045,2,  34.7034,2,    215.6,2,   215.8,2,  135.10,6,   33.00,6,    0.00,6,    2.27,2,   0.305,2,   0.154,2,   0.0805,2,  2260.6,2,  2364.7,2,   1093.3,2,    20.00,   7.6027,2,    25.00,-999.000,9,-999.0000,9, -999.00,9, -999.00,9,  -999.0,9,-999.000,9,-999.000,   0.289,3,-999.000,9, -999.00,9, -999.00,9, -999.00,9, -999.00,9, -999.00,9,-999.000,-999.0000,9,-999.0000,9,-999.0000,9,-999.0000,9,-999.0000,9,-999.0000,9,-999.0000,9,-999.0000,9,-999.0000,9,   0.0834,     -999.0,9,     -999.0,9,     -999.0,9,     -999.0,9,     -999.0,9,     -999.0,9,     -999.0,9,-999.0000, -999.00
33RO20071215,        P18,     160,          1,          2,      11002,2,20080210,       1329,   -63.2495,  -102.9998,       5043,  4807.1,   0.4163,  34.7038,2,  34.7026,2,    216.0,2,   216.6,2,  137.40,6,   33.00,6,    0.00,6,    2.28,2,-999.000,9,-999.000,9,-999.0000,9,  2261.1,2,  2366.3,2,   -999.0,9,  -999.00,   7.5994,2,    25.00,-999.000,9,-999.0000,9, -999.00,9, -999.00,9,  -999.0,9,-999.000,9,-999.000,-999.000,9,-999.000,9, -999.00,9, -999.00,9, -999.00,9, -999.00,9, -999.00,9,-999.000,-999.0000,9,-999.0000,9,-999.0000,9,-999.0000,9,-999.0000,9,-999.0000,9,-999.0000,9,-999.0000,9,-999.0000,9,   0.0409,     -999.0,9,     -999.0,9,     -999.0,9,     -999.0,9,     -999.0,9,     -999.0,9,     -999.0,9,-999.0000, -999.00
33RO20071215,        P18,     160,          1,          1,      11001,2,20080210,       1329,   -63.2495,  -102.9998,       5043,  5115.1,   0.4190,  34.7027,2,  34.7020,2,    217.3,2,   216.9,2,  143.00,2,   33.00,2,    0.01,2,    2.29,2,   0.403,2,   0.199,2,   0.0000,2,  2262.3,6,  2367.7,2,   1099.7,2,    20.00,   7.5936,2,    25.00,-999.000,9,-999.0000,9, -999.00,9, -999.00,9,  -999.0,9,-999.000,9,-999.000,   0.338,3,-999.000,9, -999.00,9, -999.00,9, -999.00,9, -999.00,9, -999.00,9,-999.000,-999.0000,9,-999.0000,9,-999.0000,9,-999.0000,9,-999.0000,9,-999.0000,9,-999.0000,9,-999.0000,9,-999.0000,9,   0.0080,     -999.0,9,     -999.0,9,     -999.0,9,     -999.0,9,     -999.0,9,     -999.0,9,     -999.0,9,-999.0000, -999.00