BOTTLE,20220818CCHSIOAMB
EXPOCODE,SECT_ID,STNNBR,CASTNO,SAMPNO,BTLNBR,BTLNBR_FLAG_W,DATE,TIME,LATITUDE,LONGITUDE,DEPTH,CTDPRS,CTDTMP,CTDSAL,CTDSAL_FLAG_W,SALNTY,SALNTY_FLAG_W,CTDOXY,CTDOXY_FLAG_W,OXYGEN,OXYGEN_FLAG_W,SILCAT,SILCAT_FLAG_W,NITRAT,NITRAT_FLAG_W,NITRIT,NITRIT_FLAG_W,PHSPHT,PHSPHT_FLAG_W,CFC-11,CFC-11_FLAG_W,CFC-12,CFC-12_FLAG_W,SF6,SF6_FLAG_W,TCARBN,TCARBN_FLAG_W,ALKALI,ALKALI_FLAG_W,FCO2,FCO2_FLAG_W,FCO2TMP,PH_SWS,PH_SWS_FLAG_W,PH_TMP,TRITUM,TRITUM_FLAG_W,HELIUM,HELIUM_FLAG_W,DELHE3,DELHE3_FLAG_W,DELC13,DELC13_FLAG_W,DELC14,DELC14_FLAG_W,NEON,NEON_FLAG_W,NEONER,CCL4,CCL4_FLAG_W,POC,POC_FLAG_W,DOC,DOC_FLAG_W,TDN,TDN_FLAG_W,DON,DON_FLAG_W,CHLORA,CHLORA_FLAG_W,ARGON,ARGON_FLAG_W,TRITER,CDOM325,CDOM325_FLAG_W,CDOM340,CDOM340_FLAG_W,CDOM380,CDOM380_FLAG_W,CDOM412,CDOM412_FLAG_W,CDOM443,CDOM443_FLAG_W,CDOM490,CDOM490_FLAG_W,CDOM555,CDOM555_FLAG_W,CDOMSL,CDOMSL_FLAG_W,CDOMSN,CDOMSN_FLAG_W,THETA,D18O_NO3,D18O_NO3_FLAG_W,CDOM2C,CDOM2C_FLAG_W,CDOM3C,CDOM3C_FLAG_W,LAB_DEN,LAB_DEN_FLAG_W,DELSI30,DELSI30_FLAG_W,N2,N2_FLAG_W,D15N_NO3,D15N_NO3_FLAG_W,HELIER,DELHER
,,,,,,,,,,,METERS,DBAR,ITS-90,PSS-78,,PSS-78,,UMOL/KG,,UMOL/KG,,UMOL/KG,,UMOL/KG,,UMOL/KG,,UMOL/KG,,PMOL/KG,,PMOL/KG,,FMOL/KG,,UMOL/KG,,UMOL/KG,,UATM,,DEG C,,,DEG C,TU,,NMOL/KG,,PERCNT,,/MILLE,,/MILLE,,NMOL/KG,,NMOL/KG,PMOL/KG,,UG/KG,,UMOL/KG,,UMOL/KG,,UMOL/KG,,UG/KG,,UMOL/KG,,TU,1/M,,1/M,,1/M,,1/M,,1/M,,1/M,,1/M,,1/NM,,1/NM,,DEG C,/MILLE,,,,,,,,/MILLE,,UMOL/KG,,/MILLE,,NMOL/KG,PERCNT
33RO20071215,        P18,     131,          1,         36,      12017,2,20080201,       1055,   -47.3335,  -103.0007,       4045,     4.9,  11.0485,  34.0787,2,  34.0785,2,    274.8,2,   275.2,2,    1.80,2,   15.70,2,    0.23,2,    1.13,2,   3.556,2,   2.033,2,   1.6739,2,  2081.9,6,  2266.8,2,   -999.0,9,  -999.00,   7.8338,2,    25.00,-999.000,9,-999.0000,9, -999.00,9, -999.00,9,  -999.0,9,-999.000,9,-999.000,-999.000,9,-999.000,9, -999.00,9, -999.00,9, -999.00,9, -999.00,9, -999.00,9,-999.000,-999.0000,9,-999.0000,9,-999.0000,9,-999.0000,9,-999.0000,9,-999.0000,9,-999.0000,9,-999.0000,9,-999.0000,9,  11.0479,     -999.0,9,     -999.0,9,     -999.0,9,     -999.0,9,     -999.0,9,     -999.0,9,     -999.0,9,-999.0000, -999.00
33RO20071215,        P18,     131,          1,         35,      12029,2,20080201,       1055,   -47.3335,  -103.0007,       4045,     9.7,  11.0485,  34.0840,2,  34.0833,2,    275.0,2,   275.2,2,    1.80,2,   15.60,2,    0.23,2,    1.13,2,-999.000,9,-999.000,9,-999.0000,9,  -999.0,9,  -999.0,9,   -999.0,9,  -999.00,-999.0000,9,  -999.00,-999.000,9,-999.0000,9, -999.00,9, -999.00,9,  -999.0,9,-999.000,9,-999.000,-999.000,9,-999.000,9, -999.00,9, -999.00,9, -999.00,9, -999.00,9, -999.00,9,-999.000,-999.0000,9,-999.0000,9,-999.0000,9,-999.0000,9,-999.0000,9,-999.0000,9,-999.0000,9,-999.0000,9,-999.0000,9,  11.0474,     -999.0,9,     -999.0,9,     -999.0,9,     -999.0,9,     -999.0,9,     -999.0,9,     -999.0,9,-999.0000, -999.00
33RO20071215,        P18,     131,          1,         34,      12049,2,20080201,       1055,   -47.3335,  -103.0007,       4045,    32.6,  10.7711,  34.0987,2,  34.0968,2,    276.9,2,   276.8,2,    1.80,2,   15.60,2,    0.21,2,    1.13,2,   3.592,2,   2.065,2,   1.6948,2,  2083.8,2,  2273.7,2,   -999.0,9,  -999.00,   7.8332,2,    25.00,-999.000,9,-999.0000,9, -999.00,9, -999.00,9,  -999.0,9,-999.000,9,-999.000,-999.000,9,-999.000,9, -999.00,9, -999.00,9, -999.00,9, -999.00,9, -999.00,9,-999.000,-999.0000,9,-999.0000,9,-999.0000,9,-999.0000,9,-999.0000,9,-999.0000,9,-999.0000,9,-999.0000,9,-999.0000,9,  10.7672,     -999.0,9,     -999.0,9,     -999.0,9,     -999.0,9,     -999.0,9,     -999.0,9,     -999.0,9,-999.0000, -999.00
33RO20071215,        P18,     131,          1,         33,      12027,2,20080201,       1055,   -47.3335,  -103.0007,       4045,    58.1,  10.5025,  34.0999,2,  34.0992,2,    277.3,2,   277.7,2,    1.70,2,   15.40,2,    0.21,2,    1.14,2,-999.000,9,-999.000,9,-999.0000,9,  -999.0,9,  -999.0,9,   -999.0,9,  -999.00,-999.0000,9,  -999.00,-999.000,9,-999.0000,9, -999.00,9, -999.00,9,  -999.0,9,-999.000,9,-999.000,-999.000,9,-999.000,9, -999.00,9, -999.00,9, -999.00,9, -999.00,9, -999.00,9,-999.000,-999.0000,9,-999.0000,9,-999.0000,9,-999.0000,9,-999.0000,9,-999.0000,9,-999.0000,9,-999.0000,9,-999.0000,9,  10.4956,     -999.0,9,     -999.0,9,     -999.0,9,     -999.0,9,     -999.0,9,     -999.0,9,     -999.0,9,-999.0000, -999.00
33RO20071215,        P18,     131,          1,         32,      12023,2,20080201,       1055,   -47.3335,  -103.0007,       4045,    83.4,   8.6528,  34.1246,2,  34.1239,2,    291.0,2,   291.3,2,    2.10,2,   15.90,2,    0.18,2,    1.17,2,   3.997,2,   2.275,2,   1.8121,2,  2091.2,2,  2268.8,2,   -999.0,9,  -999.00,   7.8135,2,    25.00,-999.000,9,-999.0000,9, -999.00,9, -999.00,9,  -999.0,9,-999.000,9,-999.000,-999.000,9,-999.000,9, -999.00,9, -999.00,9, -999.00,9, -999.00,9, -999.00,9,-999.000,-999.0000,9,-999.0000,9,-999.0000,9,-999.0000,9,-999.0000,9,-999.0000,9,-999.0000,9,-999.0000,9,-999.0000,9,   8.6441,     -999.0,9,     -999.0,9,     -999.0,9,     -999.0,9,     -999.0,9,     -999.0,9,     -999.0,9,-999.0000, -999.00
33RO20071215,        P18,     131,          1,         31,      12037,2,20080201,       1055,   -47.3335,  -103.0007,       4045,   107.4,   7.7240,  34.1274,2,  34.1263,2,    292.8,2,   292.7,2,    2.50,2,   16.40,2,    0.22,2,    1.22,2,-999.000,9,-999.000,9,-999.0000,9,  -999.0,9,  -999.0,9,   -999.0,9,  -999.00,-999.0000,9,  -999.00,-999.000,9,-999.0000,9, -999.00,9, -999.00,9,  -999.0,9,-999.000,9,-999.000,-999.000,9,-999.000,9, -999.00,9, -999.00,9, -999.00,9, -999.00,9, -999.00,9,-999.000,-999.0000,9,-999.0000,9,-999.0000,9,-999.0000,9,-999.0000,9,-999.0000,9,-999.0000,9,-999.0000,9,-999.0000,9,   7.7136,     -999.0,9,     -999.0,9,     -999.0,9,     -999.0,9,     -999.0,9,     -999.0,9,     -999.0,9,-999.0000, -999.00
33RO20071215,        P18,     131,          1,         30,      12036,2,20080201,       1055,   -47.3335,  -103.0007,       4045,   132.9,   7.4676,  34.1415,2,  34.1447,2,    291.0,2,   291.1,2,    2.60,2,   17.00,2,    0.25,2,    1.25,2,   4.144,2,   2.369,2,   1.8575,2,  2100.0,2,  2270.4,2,   -999.0,9,  -999.00,   7.7988,2,    25.00,-999.000,9,-999.0000,9, -999.00,9, -999.00,9,  -999.0,9,-999.000,9,-999.000,-999.000,9,-999.000,9, -999.00,9, -999.00,9, -999.00,9, -999.00,9, -999.00,9,-999.000,-999.0000,9,-999.0000,9,-999.0000,9,-999.0000,9,-999.0000,9,-999.0000,9,-999.0000,9,-999.0000,9,-999.0000,9,   7.4549,     -999.0,9,     -999.0,9,     -999.0,9,     -999.0,9,     -999.0,9,     -999.0,9,     -999.0,9,-999.0000, -999.00
33RO20071215,        P18,     131,          1,         29,      12044,2,20080201,       1055,   -47.3335,  -103.0007,       4045,   158.1,   7.1781,  34.1620,2,  34.1622,2,    287.2,2,   286.5,2,    3.00,2,   17.30,2,    0.31,2,    1.29,2,-999.000,9,-999.000,9,-999.0000,9,  -999.0,9,  -999.0,9,   -999.0,9,  -999.00,-999.0000,9,  -999.00,-999.000,9,-999.0000,9, -999.00,9, -999.00,9,  -999.0,9,-999.000,9,-999.000,-999.000,9,-999.000,9, -999.00,9, -999.00,9, -999.00,9, -999.00,9, -999.00,9,-999.000,-999.0000,9,-999.0000,9,-999.0000,9,-999.0000,9,-999.0000,9,-999.0000,9,-999.0000,9,-999.0000,9,-999.0000,9,   7.1633,     -999.0,9,     -999.0,9,     -999.0,9,     -999.0,9,     -999.0,9,     -999.0,9,     -999.0,9,-999.0000, -999.00
33RO20071215,        P18,     131,          1,         28,      12057,2,20080201,       1055,   -47.3335,  -103.0007,       4045,   182.7,   6.8478,  34.1984,2,  34.2019,2,    278.6,2,   277.3,2,    4.30,2,   19.60,2,    0.09,2,    1.37,2,   4.248,2,   2.390,2,   1.7126,2,  2116.5,2,  2273.7,2,   -999.0,9,  -999.00,   7.7601,2,    25.00,-999.000,9,-999.0000,9, -999.00,9, -999.00,9,  -999.0,9,-999.000,9,-999.000,-999.000,9,-999.000,9, -999.00,9, -999.00,9, -999.00,9, -999.00,9, -999.00,9,-999.000,-999.0000,9,-999.0000,9,-999.0000,9,-999.0000,9,-999.0000,9,-999.0000,9,-999.0000,9,-999.0000,9,-999.0000,9,   6.8311,     -999.0,9,     -999.0,9,     -999.0,9,     -999.0,9,     -999.0,9,     -999.0,9,     -999.0,9,-999.0000, -999.00
33RO20071215,        P18,     131,          1,         27,      12026,2,20080201,       1055,   -47.3335,  -103.0007,       4045,   217.0,   6.4859,  34.2534,2,  34.2542,2,    272.3,2,   271.4,2,    5.90,2,   20.80,2,    0.01,2,    1.45,2,-999.000,9,-999.000,9,-999.0000,9,  -999.0,9,  -999.0,9,   -999.0,9,  -999.00,-999.0000,9,  -999.00,-999.000,9,-999.0000,9, -999.00,9, -999.00,9,  -999.0,9,-999.000,9,-999.000,-999.000,9,-999.000,9, -999.00,9, -999.00,9, -999.00,9, -999.00,9, -999.00,9,-999.000,-999.0000,9,-999.0000,9,-999.0000,9,-999.0000,9,-999.0000,9,-999.0000,9,-999.0000,9,-999.0000,9,-999.0000,9,   6.4667,     -999.0,9,     -999.0,9,     -999.0,9,     -999.0,9,     -999.0,9,     -999.0,9,     -999.0,9,-999.0000, -999.00
33RO20071215,        P18,     131,          1,         26,      12030,2,20080201,       1055,   -47.3335,  -103.0007,       4045,   265.2,   6.4218,  34.2853,2,  34.2835,2,    270.0,2,   269.9,2,    6.70,2,   21.30,2,    0.01,2,    1.47,2,   4.246,2,   2.349,2,   1.5998,2,  2129.6,2,  2281.8,2,   -999.0,9,  -999.00,   7.7405,2,    25.00,-999.000,9,-999.0000,9, -999.00,9, -999.00,9,  -999.0,9,-999.000,9,-999.000,-999.000,9,-999.000,9, -999.00,9, -999.00,9, -999.00,9, -999.00,9, -999.00,9,-999.000,-999.0000,9,-999.0000,9,-999.0000,9,-999.0000,9,-999.0000,9,-999.0000,9,-999.0000,9,-999.0000,9,-999.0000,9,   6.3983,     -999.0,9,     -999.0,9,     -999.0,9,     -999.0,9,     -999.0,9,     -999.0,9,     -999.0,9,-999.0000, -999.00
33RO20071215,        P18,     131,          1,         25,      12024,2,20080201,       1055,   -47.3335,  -103.0007,       4045,   317.2,   6.3148,  34.2868,2,  34.2861,2,    269.2,2,   269.3,2,    7.30,2,   21.70,2,    0.00,2,    1.50,2,-999.000,9,-999.000,9,-999.0000,9,  -999.0,9,  -999.0,9,   -999.0,9,  -999.00,-999.0000,9,  -999.00,-999.000,9,-999.0000,9, -999.00,9, -999.00,9,  -999.0,9,-999.000,9,-999.000,-999.000,9,-999.000,9, -999.00,9, -999.00,9, -999.00,9, -999.00,9, -999.00,9,-999.000,-999.0000,9,-999.0000,9,-999.0000,9,-999.0000,9,-999.0000,9,-999.0000,9,-999.0000,9,-999.0000,9,-999.0000,9,   6.2868,     -999.0,9,     -999.0,9,     -999.0,9,     -999.0,9,     -999.0,9,     -999.0,9,     -999.0,9,-999.0000, -999.00
33RO20071215,        P18,     131,          1,         24,      12019,2,20080201,       1055,   -47.3335,  -103.0007,       4045,   366.4,   6.2147,  34.2830,2,  34.2832,2,    269.0,2,   269.9,2,    7.70,2,   22.10,2,    0.00,2,    1.52,2,   4.197,2,   2.289,2,   1.4588,2,  2132.1,2,  2282.2,2,   -999.0,9,  -999.00,   7.7535,2,    25.00,-999.000,9,-999.0000,9, -999.00,9, -999.00,9,  -999.0,9,-999.000,9,-999.000,-999.000,9,-999.000,9, -999.00,9, -999.00,9, -999.00,9, -999.00,9, -999.00,9,-999.000,-999.0000,9,-999.0000,9,-999.0000,9,-999.0000,9,-999.0000,9,-999.0000,9,-999.0000,9,-999.0000,9,-999.0000,9,   6.1826,     -999.0,9,     -999.0,9,     -999.0,9,     -999.0,9,     -999.0,9,     -999.0,9,     -999.0,9,-999.0000, -999.00
33RO20071215,        P18,     131,          1,         23,      12022,2,20080201,       1055,   -47.3335,  -103.0007,       4045,   432.8,   6.0698,  34.2750,2,  34.2743,2,    268.2,2,   268.8,2,    8.20,2,   22.50,2,    0.00,2,    1.55,2,-999.000,9,-999.000,9,-999.0000,9,  -999.0,9,  -999.0,9,   -999.0,9,  -999.00,-999.0000,9,  -999.00,-999.000,9,-999.0000,9, -999.00,9, -999.00,9,  -999.0,9,-999.000,9,-999.000,-999.000,9,-999.000,9, -999.00,9, -999.00,9, -999.00,9, -999.00,9, -999.00,9,-999.000,-999.0000,9,-999.0000,9,-999.0000,9,-999.0000,9,-999.0000,9,-999.0000,9,-999.0000,9,-999.0000,9,-999.0000,9,   6.0322,     -999.0,9,     -999.0,9,     -999.0,9,     -999.0,9,     -999.0,9,     -999.0,9,     -999.0,9,-999.0000, -999.00
33RO20071215,        P18,     131,          1,         22,      12015,2,20080201,       1055,   -47.3335,  -103.0007,       4045,   533.4,   5.8400,  34.2633,2,  34.2627,2,    262.3,2,   262.7,2,    9.60,2,   23.50,2,    0.00,2,    1.62,2,   3.987,2,   2.130,2,   1.2050,2,  2138.8,2,  2278.3,2,   -999.0,9,  -999.00,   7.7251,2,    25.00,-999.000,9,-999.0000,9, -999.00,9, -999.00,9,  -999.0,9,-999.000,9,-999.000,-999.000,9,-999.000,9, -999.00,9, -999.00,9, -999.00,9, -999.00,9, -999.00,9,-999.000,-999.0000,9,-999.0000,9,-999.0000,9,-999.0000,9,-999.0000,9,-999.0000,9,-999.0000,9,-999.0000,9,-999.0000,9,   5.7941,     -999.0,9,     -999.0,9,     -999.0,9,     -999.0,9,     -999.0,9,     -999.0,9,     -999.0,9,-999.0000, -999.00
33RO20071215,        P18,     131,          1,         21,      12020,2,20080201,       1055,   -47.3335,  -103.0007,       4045,   633.2,   5.5619,  34.2556,2,  34.2546,2,    251.1,2,   250.1,2,   12.50,2,   25.30,2,    0.00,2,    1.74,2,-999.000,9,-999.000,9,-999.0000,9,  -999.0,9,  -999.0,9,   -999.0,9,  -999.00,-999.0000,9,  -999.00,-999.000,9,-999.0000,9, -999.00,9, -999.00,9,  -999.0,9,-999.000,9,-999.000,-999.000,9,-999.000,9, -999.00,9, -999.00,9, -999.00,9, -999.00,9, -999.00,9,-999.000,-999.0000,9,-999.0000,9,-999.0000,9,-999.0000,9,-999.0000,9,-999.0000,9,-999.0000,9,-999.0000,9,-999.0000,9,   5.5083,     -999.0,9,     -999.0,9,     -999.0,9,     -999.0,9,     -999.0,9,     -999.0,9,     -999.0,9,-999.0000, -999.00
33RO20071215,        P18,     131,          1,         20,      12055,2,20080201,       1055,   -47.3335,  -103.0007,       4045,   732.0,   5.1877,  34.2631,2,  34.2612,2,    234.0,2,   235.4,2,   17.00,2,   27.50,2,    0.00,2,    1.88,2,   2.958,3,   1.510,3,   0.6873,3,  2161.8,2,  2282.0,2,   -999.0,9,  -999.00,   7.6800,2,    25.00,-999.000,9,-999.0000,9, -999.00,9, -999.00,9,  -999.0,9,-999.000,9,-999.000,-999.000,9,-999.000,9, -999.00,9, -999.00,9, -999.00,9, -999.00,9, -999.00,9,-999.000,-999.0000,9,-999.0000,9,-999.0000,9,-999.0000,9,-999.0000,9,-999.0000,9,-999.0000,9,-999.0000,9,-999.0000,9,   5.1273,     -999.0,9,     -999.0,9,     -999.0,9,     -999.0,9,     -999.0,9,     -999.0,9,     -999.0,9,-999.0000, -999.00
33RO20071215,        P18,     131,          1,         19,      12018,2,20080201,       1055,   -47.3335,  -103.0007,       4045,   833.4,   4.7746,  34.2798,2,  34.2784,2,    220.5,2,   221.0,2,   23.00,2,   29.40,2,    0.01,2,    2.02,2,-999.000,9,-999.000,9,-999.0000,9,  -999.0,9,  -999.0,9,   -999.0,9,  -999.00,-999.0000,9,  -999.00,-999.000,9,-999.0000,9, -999.00,9, -999.00,9,  -999.0,9,-999.000,9,-999.000,-999.000,9,-999.000,9, -999.00,9, -999.00,9, -999.00,9, -999.00,9, -999.00,9,-999.000,-999.0000,9,-999.0000,9,-999.0000,9,-999.0000,9,-999.0000,9,-999.0000,9,-999.0000,9,-999.0000,9,-999.0000,9,   4.7079,     -999.0,9,     -999.0,9,     -999.0,9,     -999.0,9,     -999.0,9,     -999.0,9,     -999.0,9,-999.0000, -999.00
33RO20071215,        P18,     131,          1,         18,      12025,4,20080201,       1055,   -47.3335,  -103.0007,       4045,   932.8,   4.3525,  34.2950,2,  34.1422,4,    212.3,2,   291.2,4,    2.80,3,   16.70,3,    0.24,3,    1.26,3,   4.155,3,   2.352,3,   1.8314,3,  2100.7,4,  2265.2,4,   -999.0,9,  -999.00,   7.6942,2,    25.00,-999.000,9,-999.0000,9, -999.00,9, -999.00,9,  -999.0,9,-999.000,9,-999.000,-999.000,9,-999.000,9, -999.00,9, -999.00,9, -999.00,9, -999.00,9, -999.00,9,-999.000,-999.0000,9,-999.0000,9,-999.0000,9,-999.0000,9,-999.0000,9,-999.0000,9,-999.0000,9,-999.0000,9,-999.0000,9,   4.2801,     -999.0,9,     -999.0,9,     -999.0,9,     -999.0,9,     -999.0,9,     -999.0,9,     -999.0,9,-999.0000, -999.00
33RO20071215,        P18,     131,          1,         17,      12016,2,20080201,       1055,   -47.3335,  -103.0007,       4045,  1032.9,   3.9506,  34.3152,2,  34.3142,2,    205.0,2,   205.0,2,   35.50,2,   32.00,2,    0.00,2,    2.20,2,-999.000,9,-999.000,9,-999.0000,9,  -999.0,9,  -999.0,9,   -999.0,9,  -999.00,-999.0000,9,  -999.00,-999.000,9,-999.0000,9, -999.00,9, -999.00,9,  -999.0,9,-999.000,9,-999.000,-999.000,9,-999.000,9, -999.00,9, -999.00,9, -999.00,9, -999.00,9, -999.00,9,-999.000,-999.0000,9,-999.0000,9,-999.0000,9,-999.0000,9,-999.0000,9,-999.0000,9,-999.0000,9,-999.0000,9,-999.0000,9,   3.8729,     -999.0,9,     -999.0,9,     -999.0,9,     -999.0,9,     -999.0,9,     -999.0,9,     -999.0,9,-999.0000, -999.00
33RO20071215,        P18,     131,          1,         16,      12051,2,20080201,       1055,   -47.3335,  -103.0007,       4045,  1133.4,   3.5714,  34.3462,2,  34.3468,2,    196.4,2,   195.6,2,   43.30,2,   33.10,2,    0.00,2,    2.28,2,   1.187,2,   0.601,2,   0.1798,2,  2210.5,2,  2305.1,2,   -999.0,9,  -999.00,   7.5960,2,    25.00,-999.000,9,-999.0000,9, -999.00,9, -999.00,9,  -999.0,9,-999.000,9,-999.000,-999.000,9,-999.000,9, -999.00,9, -999.00,9, -999.00,9, -999.00,9, -999.00,9,-999.000,-999.0000,9,-999.0000,9,-999.0000,9,-999.0000,9,-999.0000,9,-999.0000,9,-999.0000,9,-999.0000,9,-999.0000,9,   3.4886,     -999.0,9,     -999.0,9,     -999.0,9,     -999.0,9,     -999.0,9,     -999.0,9,     -999.0,9,-999.0000, -999.00
33RO20071215,        P18,     131,          1,         15,      12014,2,20080201,       1055,   -47.3335,  -103.0007,       4045,  1267.6,   3.1765,  34.3968,2,  34.3967,2,    186.7,2,   186.6,2,   53.30,2,   34.10,2,    0.00,2,    2.35,2,-999.000,9,-999.000,9,-999.0000,9,  -999.0,9,  -999.0,9,   -999.0,9,  -999.00,-999.0000,9,  -999.00,-999.000,9,-999.0000,9, -999.00,9, -999.00,9,  -999.0,9,-999.000,9,-999.000,-999.000,9,-999.000,9, -999.00,9, -999.00,9, -999.00,9, -999.00,9, -999.00,9,-999.000,-999.0000,9,-999.0000,9,-999.0000,9,-999.0000,9,-999.0000,9,-999.0000,9,-999.0000,9,-999.0000,9,-999.0000,9,   3.0863,     -999.0,9,     -999.0,9,     -999.0,9,     -999.0,9,     -999.0,9,     -999.0,9,     -999.0,9,-999.0000, -999.00
33RO20071215,        P18,     131,          1,         14,      12013,2,20080201,       1055,   -47.3335,  -103.0007,       4045,  1467.3,   2.7865,  34.4844,2,  34.4850,2,    174.5,2,   159.5,3,   66.70,2,   35.00,2,    0.00,2,    2.41,2,   0.592,2,   0.306,2,   0.0450,2,  2243.2,2,  2327.3,2,   -999.0,9,  -999.00,   7.5752,2,    25.00,-999.000,9,-999.0000,9, -999.00,9, -999.00,9,  -999.0,9,-999.000,9,-999.000,-999.000,9,-999.000,9, -999.00,9, -999.00,9, -999.00,9, -999.00,9, -999.00,9,-999.000,-999.0000,9,-999.0000,9,-999.0000,9,-999.0000,9,-999.0000,9,-999.0000,9,-999.0000,9,-999.0000,9,-999.0000,9,   2.6840,     -999.0,9,     -999.0,9,     -999.0,9,     -999.0,9,     -999.0,9,     -999.0,9,     -999.0,9,-999.0000, -999.00
33RO20071215,        P18,     131,          1,         13,      12012,2,20080201,       1055,   -47.3335,  -103.0007,       4045,  1667.6,   2.5533,  34.5659,2,  34.5678,2,    168.1,2,   168.5,2,   77.00,2,   34.50,2,    0.00,2,    2.40,2,-999.000,9,-999.000,9,-999.0000,9,  -999.0,9,  -999.0,9,   -999.0,9,  -999.00,-999.0000,9,  -999.00,-999.000,9,-999.0000,9, -999.00,9, -999.00,9,  -999.0,9,-999.000,9,-999.000,-999.000,9,-999.000,9, -999.00,9, -999.00,9, -999.00,9, -999.00,9, -999.00,9,-999.000,-999.0000,9,-999.0000,9,-999.0000,9,-999.0000,9,-999.0000,9,-999.0000,9,-999.0000,9,-999.0000,9,-999.0000,9,   2.4370,     -999.0,9,     -999.0,9,     -999.0,9,     -999.0,9,     -999.0,9,     -999.0,9,     -999.0,9,-999.0000, -999.00
33RO20071215,        P18,     131,          1,         12,      12031,2,20080201,       1055,   -47.3335,  -103.0007,       4045,  1866.8,   2.3850,  34.6212,2,  34.6234,2,    165.4,2,   165.8,2,   86.10,2,   34.10,2,    0.00,2,    2.39,2,   0.119,2,   0.061,2,   0.0000,2,  2262.6,6,  2350.9,2,   -999.0,9,  -999.00,-999.0000,5,  -999.00,-999.000,9,-999.0000,9, -999.00,9, -999.00,9,  -999.0,9,-999.000,9,-999.000,-999.000,9,-999.000,9, -999.00,9, -999.00,9, -999.00,9, -999.00,9, -999.00,9,-999.000,-999.0000,9,-999.0000,9,-999.0000,9,-999.0000,9,-999.0000,9,-999.0000,9,-999.0000,9,-999.0000,9,-999.0000,9,   2.2541,     -999.0,9,     -999.0,9,     -999.0,9,     -999.0,9,     -999.0,9,     -999.0,9,     -999.0,9,-999.0000, -999.00