BOTTLE,20220818CCHSIOAMB
EXPOCODE,SECT_ID,STNNBR,CASTNO,SAMPNO,BTLNBR,BTLNBR_FLAG_W,DATE,TIME,LATITUDE,LONGITUDE,DEPTH,CTDPRS,CTDTMP,CTDSAL,CTDSAL_FLAG_W,SALNTY,SALNTY_FLAG_W,CTDOXY,CTDOXY_FLAG_W,OXYGEN,OXYGEN_FLAG_W,SILCAT,SILCAT_FLAG_W,NITRAT,NITRAT_FLAG_W,NITRIT,NITRIT_FLAG_W,PHSPHT,PHSPHT_FLAG_W,CFC-11,CFC-11_FLAG_W,CFC-12,CFC-12_FLAG_W,SF6,SF6_FLAG_W,TCARBN,TCARBN_FLAG_W,ALKALI,ALKALI_FLAG_W,FCO2,FCO2_FLAG_W,FCO2TMP,PH_SWS,PH_SWS_FLAG_W,PH_TMP,TRITUM,TRITUM_FLAG_W,HELIUM,HELIUM_FLAG_W,DELHE3,DELHE3_FLAG_W,DELC13,DELC13_FLAG_W,DELC14,DELC14_FLAG_W,NEON,NEON_FLAG_W,NEONER,CCL4,CCL4_FLAG_W,POC,POC_FLAG_W,DOC,DOC_FLAG_W,TDN,TDN_FLAG_W,DON,DON_FLAG_W,CHLORA,CHLORA_FLAG_W,ARGON,ARGON_FLAG_W,TRITER,CDOM325,CDOM325_FLAG_W,CDOM340,CDOM340_FLAG_W,CDOM380,CDOM380_FLAG_W,CDOM412,CDOM412_FLAG_W,CDOM443,CDOM443_FLAG_W,CDOM490,CDOM490_FLAG_W,CDOM555,CDOM555_FLAG_W,CDOMSL,CDOMSL_FLAG_W,CDOMSN,CDOMSN_FLAG_W,THETA,D18O_NO3,D18O_NO3_FLAG_W,CDOM2C,CDOM2C_FLAG_W,CDOM3C,CDOM3C_FLAG_W,LAB_DEN,LAB_DEN_FLAG_W,DELSI30,DELSI30_FLAG_W,N2,N2_FLAG_W,D15N_NO3,D15N_NO3_FLAG_W,HELIER,DELHER
,,,,,,,,,,,METERS,DBAR,ITS-90,PSS-78,,PSS-78,,UMOL/KG,,UMOL/KG,,UMOL/KG,,UMOL/KG,,UMOL/KG,,UMOL/KG,,PMOL/KG,,PMOL/KG,,FMOL/KG,,UMOL/KG,,UMOL/KG,,UATM,,DEG C,,,DEG C,TU,,NMOL/KG,,PERCNT,,/MILLE,,/MILLE,,NMOL/KG,,NMOL/KG,PMOL/KG,,UG/KG,,UMOL/KG,,UMOL/KG,,UMOL/KG,,UG/KG,,UMOL/KG,,TU,1/M,,1/M,,1/M,,1/M,,1/M,,1/M,,1/M,,1/NM,,1/NM,,DEG C,/MILLE,,,,,,,,/MILLE,,UMOL/KG,,/MILLE,,NMOL/KG,PERCNT
33RO20071215,        P18,      32,          1,         11,      12003,2,20071225,       2227,     6.2492,  -109.9992,       3390,  1432.5,   3.1927,  34.6009,2,  34.6013,2,     74.3,2,    74.3,2,  122.00,2,   41.60,2,    0.01,2,    2.97,2,   0.000,2,   0.000,2,   0.0000,2,  2342.5,6,  2390.0,2,   -999.0,9,  -999.00,   7.4518,2,    25.00,-999.000,9,-999.0000,9, -999.00,9, -999.00,9,  -999.0,9,-999.000,9,-999.000,-999.000,9,-999.000,9,   37.13,2,   42.72,2, -999.00,9, -999.00,9, -999.00,9,-999.000,   0.1991,2,   0.1468,2,   0.0881,2,   0.0676,2,   0.0453,2,   0.0208,2,   0.0084,2,   0.0134,2,   0.0129,2,   3.0883,     -999.0,9,     -999.0,9,     -999.0,9,     -999.0,9,     -999.0,9,     -999.0,9,     -999.0,9,-999.0000, -999.00
33RO20071215,        P18,      32,          1,         10,      12032,2,20071225,       2227,     6.2492,  -109.9992,       3390,  1533.3,   2.9863,  34.6092,2,  34.6103,2,     77.1,2,    76.8,2,  127.50,2,   41.70,2,    0.01,2,    2.96,2,-999.000,9,-999.000,9,-999.0000,9,  -999.0,9,  -999.0,9,   -999.0,9,  -999.00,-999.0000,9,  -999.00,-999.000,9,-999.0000,9, -999.00,9, -999.00,9,  -999.0,9,-999.000,9,-999.000,-999.000,9,-999.000,9,   37.41,2,   42.63,2, -999.00,9, -999.00,9, -999.00,9,-999.000,   0.1996,2,   0.1472,2,   0.0885,2,   0.0677,2,   0.0449,2,   0.0198,2,   0.0074,2,   0.0138,2,   0.0130,2,   2.8757,     -999.0,9,     -999.0,9,     -999.0,9,     -999.0,9,     -999.0,9,     -999.0,9,     -999.0,9,-999.0000, -999.00
33RO20071215,        P18,      32,          1,          9,      12002,2,20071225,       2227,     6.2492,  -109.9992,       3390,  1654.5,   2.7310,  34.6218,2,  34.6218,2,     82.1,2,    81.4,2,  133.90,2,   41.30,2,    0.00,2,    2.92,2,  -0.001,2,   0.000,2,   0.0000,2,  2349.5,2,  2388.5,4,   -999.0,9,  -999.00,   7.4606,2,    25.00,-999.000,9,-999.0000,9, -999.00,9, -999.00,9,  -999.0,9,-999.000,9,-999.000,-999.000,9,-999.000,9,   37.07,2,   42.83,2, -999.00,9, -999.00,9, -999.00,9,-999.000,   0.2132,2,   0.1591,2,   0.0969,2,   0.0742,2,   0.0505,2,   0.0244,2,   0.0104,2,   0.0129,2,   0.0125,2,   2.6134,     -999.0,9,     -999.0,9,     -999.0,9,     -999.0,9,     -999.0,9,     -999.0,9,     -999.0,9,-999.0000, -999.00
33RO20071215,        P18,      32,          1,          8,      12021,2,20071225,       2227,     6.2492,  -109.9992,       3390,  1866.3,   2.4025,  34.6369,2,  34.6377,2,     92.8,2,    92.3,2,  141.00,2,   40.80,2,    0.00,2,    2.86,2,-999.000,9,-999.000,9,-999.0000,9,  -999.0,9,  -999.0,9,   -999.0,9,  -999.00,-999.0000,9,  -999.00,-999.000,9,-999.0000,9, -999.00,9, -999.00,9,  -999.0,9,-999.000,9,-999.000,-999.000,9,-999.000,9,   37.05,2,   41.82,2, -999.00,9, -999.00,9, -999.00,9,-999.000,   0.2001,2,   0.1475,2,   0.0876,2,   0.0661,2,   0.0439,2,   0.0198,2,   0.0077,2,   0.0137,2,   0.0132,2,   2.2714,     -999.0,9,     -999.0,9,     -999.0,9,     -999.0,9,     -999.0,9,     -999.0,9,     -999.0,9,-999.0000, -999.00
33RO20071215,        P18,      32,          1,          7,      12001,2,20071225,       2227,     6.2492,  -109.9992,       3390,  2068.5,   2.2167,  34.6474,2,  34.6488,2,     99.3,2,    99.0,2,  145.70,2,   40.30,2,    0.00,2,    2.79,2,   0.000,2,   0.000,2,   0.0000,2,  2351.7,2,  2420.8,2,   -999.0,9,  -999.00,   7.5201,2,    25.00,-999.000,9,-999.0000,9, -999.00,9, -999.00,9,  -999.0,9,-999.000,9,-999.000,   0.005,3,-999.000,9,   36.95,2,   41.72,2, -999.00,9, -999.00,9, -999.00,9,-999.000,   0.1936,2,   0.1417,2,   0.0825,2,   0.0605,2,   0.0388,2,   0.0159,2,   0.0050,2,   0.0146,2,   0.0140,2,   2.0710,     -999.0,9,     -999.0,9,     -999.0,9,     -999.0,9,     -999.0,9,     -999.0,9,     -999.0,9,-999.0000, -999.00
33RO20071215,        P18,      32,          1,          6,      12033,2,20071225,       2227,     6.2492,  -109.9992,       3390,  2266.1,   2.0162,  34.6583,2,  34.6588,2,    105.0,2,   104.7,2,  150.80,2,   39.90,2,    0.00,2,    2.77,2,-999.000,9,-999.000,9,-999.0000,9,  -999.0,9,  -999.0,9,   -999.0,9,  -999.00,-999.0000,9,  -999.00,-999.000,9,-999.0000,9, -999.00,9, -999.00,9,  -999.0,9,-999.000,9,-999.000,-999.000,9,-999.000,9,   36.60,2,   41.03,2, -999.00,9, -999.00,9, -999.00,9,-999.000,   0.1984,2,   0.1455,2,   0.0843,2,   0.0610,2,   0.0391,2,   0.0165,2,   0.0054,2,   0.0146,2,   0.0141,2,   1.8565,     -999.0,9,     -999.0,9,     -999.0,9,     -999.0,9,     -999.0,9,     -999.0,9,     -999.0,9,-999.0000, -999.00
33RO20071215,        P18,      32,          1,          5,      12008,2,20071225,       2227,     6.2492,  -109.9992,       3390,  2468.8,   1.9027,  34.6652,2,  34.6648,2,    109.4,2,   109.0,2,  154.00,2,   38.90,2,    0.00,2,    2.73,2,   0.000,2,   0.001,2,   0.0000,2,  2355.7,2,  2431.5,2,   -999.0,9,  -999.00,   7.5162,2,    25.00,-999.000,9,-999.0000,9, -999.00,9, -999.00,9,  -999.0,9,-999.000,9,-999.000,   0.009,3,-999.000,9,   36.67,2,   40.55,2, -999.00,9, -999.00,9, -999.00,9,-999.000,   0.1741,2,   0.1247,2,   0.0699,2,   0.0484,2,   0.0293,2,   0.0098,2,   0.0014,2,   0.0157,2,   0.0154,2,   1.7270,     -999.0,9,     -999.0,9,     -999.0,9,     -999.0,9,     -999.0,9,     -999.0,9,     -999.0,9,-999.0000, -999.00
33RO20071215,        P18,      32,          1,          4,      12009,2,20071225,       2227,     6.2492,  -109.9992,       3390,  2667.0,   1.8457,  34.6694,2,  34.6711,2,    110.5,2,   110.5,2,  156.70,6,   38.70,6,    0.00,6,    2.72,2,-999.000,9,-999.000,9,-999.0000,9,  -999.0,9,  -999.0,9,   -999.0,9,  -999.00,-999.0000,9,  -999.00,-999.000,9,-999.0000,9, -999.00,9, -999.00,9,  -999.0,9,-999.000,9,-999.000,-999.000,9,-999.000,9,   37.37,2,   40.27,2, -999.00,9, -999.00,9, -999.00,9,-999.000,   0.1808,2,   0.1304,2,   0.0735,2,   0.0505,2,   0.0309,2,   0.0113,2,   0.0024,2,   0.0156,2,   0.0153,2,   1.6529,     -999.0,9,     -999.0,9,     -999.0,9,     -999.0,9,     -999.0,9,     -999.0,9,     -999.0,9,-999.0000, -999.00
33RO20071215,        P18,      32,          1,          3,      12006,2,20071225,       2227,     6.2492,  -109.9992,       3390,  2865.6,   1.7934,  34.6725,2,  34.6751,2,    115.7,2,   115.3,2,  156.70,6,   38.50,6,    0.00,6,    2.69,2,   0.001,2,   0.001,2,   0.0000,2,  2354.5,2,  2433.7,2,   -999.0,9,  -999.00,   7.5130,2,    25.00,-999.000,9,-999.0000,9, -999.00,9, -999.00,9,  -999.0,9,-999.000,9,-999.000,   0.009,3,-999.000,9,   37.33,2,   39.93,2, -999.00,9, -999.00,9, -999.00,9,-999.000,   0.1782,2,   0.1280,2,   0.0717,2,   0.0496,2,   0.0312,2,   0.0127,2,   0.0037,2,   0.0151,2,   0.0151,2,   1.5830,     -999.0,9,     -999.0,9,     -999.0,9,     -999.0,9,     -999.0,9,     -999.0,9,     -999.0,9,-999.0000, -999.00
33RO20071215,        P18,      32,          1,          2,      12007,2,20071225,       2227,     6.2492,  -109.9992,       3390,  3066.7,   1.6926,  34.6770,2,  34.6790,2,    123.7,2,   123.4,2,  156.40,6,   38.00,6,    0.00,6,    2.63,2,   0.000,2,   0.001,2,   0.0000,2,  2349.8,2,  2433.2,2,   -999.0,9,  -999.00,   7.5403,2,    25.00,-999.000,9,-999.0000,9, -999.00,9, -999.00,9,  -999.0,9,-999.000,9,-999.000,   0.007,3,-999.000,9,   37.20,2,   39.46,2, -999.00,9, -999.00,9, -999.00,9,-999.000,   0.1883,2,   0.1367,2,   0.0777,2,   0.0547,2,   0.0357,2,   0.0165,2,   0.0062,2,   0.0143,2,   0.0145,2,   1.4650,     -999.0,9,     -999.0,9,     -999.0,9,     -999.0,9,     -999.0,9,     -999.0,9,     -999.0,9,-999.0000, -999.00
33RO20071215,        P18,      32,          1,          1,      12035,2,20071225,       2227,     6.2492,  -109.9992,       3390,  3406.9,   1.5636,  34.6846,2,  34.6884,2,    137.0,2,   136.8,2,  153.90,2,   37.30,2,    0.00,2,    2.57,2,   0.001,2,   0.000,2,   0.0000,2,  2343.1,6,  2436.3,2,   -999.0,9,  -999.00,   7.5716,2,    25.00,-999.000,9,-999.0000,9, -999.00,9, -999.00,9,  -999.0,9,-999.000,9,-999.000,   0.006,3,-999.000,9,   38.11,2,   38.16,2, -999.00,9, -999.00,9, -999.00,9,-999.000,   0.1529,2,   0.1067,2,   0.0570,2,   0.0389,2,   0.0241,2,   0.0095,2,   0.0025,2,   0.0153,2,   0.0163,2,   1.3053,     -999.0,9,     -999.0,9,     -999.0,9,     -999.0,9,     -999.0,9,     -999.0,9,     -999.0,9,-999.0000, -999.00