BOTTLE,20220818CCHSIOAMB
EXPOCODE,SECT_ID,STNNBR,CASTNO,SAMPNO,BTLNBR,BTLNBR_FLAG_W,DATE,TIME,LATITUDE,LONGITUDE,DEPTH,CTDPRS,CTDTMP,CTDSAL,CTDSAL_FLAG_W,SALNTY,SALNTY_FLAG_W,CTDOXY,CTDOXY_FLAG_W,OXYGEN,OXYGEN_FLAG_W,SILCAT,SILCAT_FLAG_W,NITRAT,NITRAT_FLAG_W,NITRIT,NITRIT_FLAG_W,PHSPHT,PHSPHT_FLAG_W,CFC-11,CFC-11_FLAG_W,CFC-12,CFC-12_FLAG_W,SF6,SF6_FLAG_W,TCARBN,TCARBN_FLAG_W,ALKALI,ALKALI_FLAG_W,FCO2,FCO2_FLAG_W,FCO2TMP,PH_SWS,PH_SWS_FLAG_W,PH_TMP,TRITUM,TRITUM_FLAG_W,HELIUM,HELIUM_FLAG_W,DELHE3,DELHE3_FLAG_W,DELC13,DELC13_FLAG_W,DELC14,DELC14_FLAG_W,NEON,NEON_FLAG_W,NEONER,CCL4,CCL4_FLAG_W,POC,POC_FLAG_W,DOC,DOC_FLAG_W,TDN,TDN_FLAG_W,DON,DON_FLAG_W,CHLORA,CHLORA_FLAG_W,ARGON,ARGON_FLAG_W,TRITER,CDOM325,CDOM325_FLAG_W,CDOM340,CDOM340_FLAG_W,CDOM380,CDOM380_FLAG_W,CDOM412,CDOM412_FLAG_W,CDOM443,CDOM443_FLAG_W,CDOM490,CDOM490_FLAG_W,CDOM555,CDOM555_FLAG_W,CDOMSL,CDOMSL_FLAG_W,CDOMSN,CDOMSN_FLAG_W,THETA,D18O_NO3,D18O_NO3_FLAG_W,CDOM2C,CDOM2C_FLAG_W,CDOM3C,CDOM3C_FLAG_W,LAB_DEN,LAB_DEN_FLAG_W,DELSI30,DELSI30_FLAG_W,N2,N2_FLAG_W,D15N_NO3,D15N_NO3_FLAG_W,HELIER,DELHER
,,,,,,,,,,,METERS,DBAR,ITS-90,PSS-78,,PSS-78,,UMOL/KG,,UMOL/KG,,UMOL/KG,,UMOL/KG,,UMOL/KG,,UMOL/KG,,PMOL/KG,,PMOL/KG,,FMOL/KG,,UMOL/KG,,UMOL/KG,,UATM,,DEG C,,,DEG C,TU,,NMOL/KG,,PERCNT,,/MILLE,,/MILLE,,NMOL/KG,,NMOL/KG,PMOL/KG,,UG/KG,,UMOL/KG,,UMOL/KG,,UMOL/KG,,UG/KG,,UMOL/KG,,TU,1/M,,1/M,,1/M,,1/M,,1/M,,1/M,,1/M,,1/NM,,1/NM,,DEG C,/MILLE,,,,,,,,/MILLE,,UMOL/KG,,/MILLE,,NMOL/KG,PERCNT
33RO20071215,        P18,      80,          1,         36,      12017,2,20080111,       0228,   -17.5828,  -103.0007,       4115,     4.1,  22.2800,  35.9786,2,  35.9779,2,    219.8,2,   220.6,2,    0.80,2,    0.30,2,    0.00,2,    0.33,2,   2.033,2,   1.257,2,   1.0630,2,  2076.5,6,  2379.4,2,    350.6,2,    20.00,   8.0065,2,    25.00,-999.000,9,-999.0000,9, -999.00,9, -999.00,9,  -999.0,9,-999.000,9,-999.000,-999.000,9,-999.000,9, -999.00,9, -999.00,9, -999.00,9, -999.00,9, -999.00,9,-999.000,-999.0000,9,-999.0000,9,-999.0000,9,-999.0000,9,-999.0000,9,-999.0000,9,-999.0000,9,-999.0000,9,-999.0000,9,  22.2791,     -999.0,9,     -999.0,9,     -999.0,9,     -999.0,9,     -999.0,9,     -999.0,9,     -999.0,9,-999.0000, -999.00
33RO20071215,        P18,      80,          1,         35,      12029,2,20080111,       0228,   -17.5828,  -103.0007,       4115,     9.7,  22.2833,  35.9786,2,  35.9796,2,    219.9,2,   220.5,2,    0.90,2,    0.30,2,    0.00,2,    0.33,2,   2.034,6,   1.263,6,   1.0408,6,  2077.8,2,  2374.1,2,   -999.0,9,  -999.00,   7.9969,2,    25.00,-999.000,9,-999.0000,9, -999.00,9, -999.00,9,  -999.0,9,-999.000,9,-999.000,-999.000,9,-999.000,9, -999.00,9, -999.00,9, -999.00,9, -999.00,9, -999.00,9,-999.000,-999.0000,9,-999.0000,9,-999.0000,9,-999.0000,9,-999.0000,9,-999.0000,9,-999.0000,9,-999.0000,9,-999.0000,9,  22.2813,     -999.0,9,     -999.0,9,     -999.0,9,     -999.0,9,     -999.0,9,     -999.0,9,     -999.0,9,-999.0000, -999.00
33RO20071215,        P18,      80,          1,         34,      12049,2,20080111,       0228,   -17.5828,  -103.0007,       4115,    20.1,  22.2820,  35.9790,2,  35.9790,2,    220.2,2,   220.5,2,    0.90,2,    0.30,2,    0.00,2,    0.33,2,   2.027,2,   1.255,2,   1.0380,2,  2077.4,2,  2374.6,2,    348.7,2,    20.00,   8.0189,2,    25.00,-999.000,9,-999.0000,9, -999.00,9, -999.00,9,  -999.0,9,-999.000,9,-999.000,-999.000,9,-999.000,9, -999.00,9, -999.00,9, -999.00,9, -999.00,9, -999.00,9,-999.000,-999.0000,9,-999.0000,9,-999.0000,9,-999.0000,9,-999.0000,9,-999.0000,9,-999.0000,9,-999.0000,9,-999.0000,9,  22.2779,     -999.0,9,     -999.0,9,     -999.0,9,     -999.0,9,     -999.0,9,     -999.0,9,     -999.0,9,-999.0000, -999.00
33RO20071215,        P18,      80,          1,         33,      12027,2,20080111,       0228,   -17.5828,  -103.0007,       4115,    33.6,  22.2843,  35.9825,2,  35.9854,2,    220.7,2,   220.5,2,    0.80,2,    0.30,2,    0.00,2,    0.33,2,   2.038,2,   1.265,2,   1.0227,2,  2078.5,2,  2373.5,2,   -999.0,9,  -999.00,   8.0029,2,    25.00,-999.000,9,-999.0000,9, -999.00,9, -999.00,9,  -999.0,9,-999.000,9,-999.000,-999.000,9,-999.000,9, -999.00,9, -999.00,9, -999.00,9, -999.00,9, -999.00,9,-999.000,-999.0000,9,-999.0000,9,-999.0000,9,-999.0000,9,-999.0000,9,-999.0000,9,-999.0000,9,-999.0000,9,-999.0000,9,  22.2775,     -999.0,9,     -999.0,9,     -999.0,9,     -999.0,9,     -999.0,9,     -999.0,9,     -999.0,9,-999.0000, -999.00
33RO20071215,        P18,      80,          1,         32,      12023,2,20080111,       0228,   -17.5828,  -103.0007,       4115,    67.4,  21.7030,  36.0105,2,  36.0074,2,    224.5,2,   225.0,2,    0.70,2,    0.30,2,    0.00,2,    0.30,2,   2.087,2,   1.287,2,   1.1574,2,  2078.5,2,  2373.0,2,    353.2,6,    20.00,   8.0285,2,    25.00,-999.000,9,-999.0000,9, -999.00,9, -999.00,9,  -999.0,9,-999.000,9,-999.000,-999.000,9,-999.000,9, -999.00,9, -999.00,9, -999.00,9, -999.00,9, -999.00,9,-999.000,-999.0000,9,-999.0000,9,-999.0000,9,-999.0000,9,-999.0000,9,-999.0000,9,-999.0000,9,-999.0000,9,-999.0000,9,  21.6897,     -999.0,9,     -999.0,9,     -999.0,9,     -999.0,9,     -999.0,9,     -999.0,9,     -999.0,9,-999.0000, -999.00
33RO20071215,        P18,      80,          1,         31,      12037,2,20080111,       0228,   -17.5828,  -103.0007,       4115,    92.9,  20.8349,  35.9198,2,  35.9088,2,    223.1,2,   221.0,2,    0.80,2,    0.50,2,    0.04,2,    0.34,2,   2.142,2,   1.325,2,   1.0794,2,  2083.0,2,  2368.8,2,   -999.0,9,  -999.00,   8.0002,2,    25.00,-999.000,9,-999.0000,9, -999.00,9, -999.00,9,  -999.0,9,-999.000,9,-999.000,-999.000,9,-999.000,9, -999.00,9, -999.00,9, -999.00,9, -999.00,9, -999.00,9,-999.000,-999.0000,9,-999.0000,9,-999.0000,9,-999.0000,9,-999.0000,9,-999.0000,9,-999.0000,9,-999.0000,9,-999.0000,9,  20.8172,     -999.0,9,     -999.0,9,     -999.0,9,     -999.0,9,     -999.0,9,     -999.0,9,     -999.0,9,-999.0000, -999.00
33RO20071215,        P18,      80,          1,         30,      12036,2,20080111,       0228,   -17.5828,  -103.0007,       4115,   118.1,  20.3764,  35.8310,2,  35.8349,2,    219.2,2,   218.1,2,    0.90,2,    0.80,2,    0.24,2,    0.38,2,   2.165,2,   1.334,2,   1.0904,2,  2085.2,2,  2362.7,2,    381.5,2,    20.00,   7.9831,2,    25.00,-999.000,9,-999.0000,9, -999.00,9, -999.00,9,  -999.0,9,-999.000,9,-999.000,-999.000,9,-999.000,9, -999.00,9, -999.00,9, -999.00,9, -999.00,9, -999.00,9,-999.000,-999.0000,9,-999.0000,9,-999.0000,9,-999.0000,9,-999.0000,9,-999.0000,9,-999.0000,9,-999.0000,9,-999.0000,9,  20.3542,     -999.0,9,     -999.0,9,     -999.0,9,     -999.0,9,     -999.0,9,     -999.0,9,     -999.0,9,-999.0000, -999.00
33RO20071215,        P18,      80,          1,         29,      12044,2,20080111,       0228,   -17.5828,  -103.0007,       4115,   142.2,  20.0677,  35.7553,2,  35.7573,2,    215.3,2,   216.3,2,    0.90,2,    1.10,2,    0.74,2,    0.45,2,   2.199,2,   1.353,2,   1.1198,2,  2087.8,2,  2364.3,2,   -999.0,9,  -999.00,   7.9796,2,    25.00,-999.000,9,-999.0000,9, -999.00,9, -999.00,9,  -999.0,9,-999.000,9,-999.000,-999.000,9,-999.000,9, -999.00,9, -999.00,9, -999.00,9, -999.00,9, -999.00,9,-999.000,-999.0000,9,-999.0000,9,-999.0000,9,-999.0000,9,-999.0000,9,-999.0000,9,-999.0000,9,-999.0000,9,-999.0000,9,  20.0412,     -999.0,9,     -999.0,9,     -999.0,9,     -999.0,9,     -999.0,9,     -999.0,9,     -999.0,9,-999.0000, -999.00
33RO20071215,        P18,      80,          1,         28,      12057,2,20080111,       0228,   -17.5828,  -103.0007,       4115,   167.7,  19.8481,  35.7039,2,  35.7030,2,    215.4,2,   223.7,3,    0.90,2,    1.40,2,    0.81,2,    0.48,2,   2.223,2,   1.359,2,   1.1383,2,  2089.9,2,  2373.8,2,    403.8,2,    20.00,   7.9767,2,    25.00,-999.000,9,-999.0000,9, -999.00,9, -999.00,9,  -999.0,9,-999.000,9,-999.000,-999.000,9,-999.000,9, -999.00,9, -999.00,9, -999.00,9, -999.00,9, -999.00,9,-999.000,-999.0000,9,-999.0000,9,-999.0000,9,-999.0000,9,-999.0000,9,-999.0000,9,-999.0000,9,-999.0000,9,-999.0000,9,  19.8172,     -999.0,9,     -999.0,9,     -999.0,9,     -999.0,9,     -999.0,9,     -999.0,9,     -999.0,9,-999.0000, -999.00
33RO20071215,        P18,      80,          1,         27,      12026,2,20080111,       0228,   -17.5828,  -103.0007,       4115,   192.5,  19.8253,  35.7119,2,  35.7062,2,    216.8,2,   215.5,2,    0.80,2,    1.30,2,    0.56,2,    0.41,2,   2.225,6,   1.366,6,   1.0924,6,  2086.2,2,  2358.9,2,   -999.0,9,  -999.00,   7.9637,2,    25.00,-999.000,9,-999.0000,9, -999.00,9, -999.00,9,  -999.0,9,-999.000,9,-999.000,-999.000,9,-999.000,9, -999.00,9, -999.00,9, -999.00,9, -999.00,9, -999.00,9,-999.000,-999.0000,9,-999.0000,9,-999.0000,9,-999.0000,9,-999.0000,9,-999.0000,9,-999.0000,9,-999.0000,9,-999.0000,9,  19.7898,     -999.0,9,     -999.0,9,     -999.0,9,     -999.0,9,     -999.0,9,     -999.0,9,     -999.0,9,-999.0000, -999.00
33RO20071215,        P18,      80,          1,         26,      12030,2,20080111,       0228,   -17.5828,  -103.0007,       4115,   233.2,  16.2639,  35.0247,2,  35.0617,2,    196.0,2,   197.5,2,    1.30,2,    6.10,2,    0.02,2,    0.63,2,   2.592,2,   1.524,2,   1.0970,2,  2089.4,2,  2314.2,2,    475.6,2,    20.00,   7.8333,2,    25.00,-999.000,9,-999.0000,9, -999.00,9, -999.00,9,  -999.0,9,-999.000,9,-999.000,-999.000,9,-999.000,9, -999.00,9, -999.00,9, -999.00,9, -999.00,9, -999.00,9,-999.000,-999.0000,9,-999.0000,9,-999.0000,9,-999.0000,9,-999.0000,9,-999.0000,9,-999.0000,9,-999.0000,9,-999.0000,9,  16.2265,     -999.0,9,     -999.0,9,     -999.0,9,     -999.0,9,     -999.0,9,     -999.0,9,     -999.0,9,-999.0000, -999.00
33RO20071215,        P18,      80,          1,         25,      12024,2,20080111,       0228,   -17.5828,  -103.0007,       4115,   282.9,  13.0063,  34.5572,2,  34.5607,2,    167.3,2,   166.1,2,    4.20,2,   13.80,2,    0.01,2,    1.16,2,   2.834,2,   1.576,2,   0.8878,2,  2124.7,2,  2280.5,2,   -999.0,9,  -999.00,   7.7781,2,    25.00,-999.000,9,-999.0000,9, -999.00,9, -999.00,9,  -999.0,9,-999.000,9,-999.000,-999.000,9,-999.000,9, -999.00,9, -999.00,9, -999.00,9, -999.00,9, -999.00,9,-999.000,-999.0000,9,-999.0000,9,-999.0000,9,-999.0000,9,-999.0000,9,-999.0000,9,-999.0000,9,-999.0000,9,-999.0000,9,  12.9674,     -999.0,9,     -999.0,9,     -999.0,9,     -999.0,9,     -999.0,9,     -999.0,9,     -999.0,9,-999.0000, -999.00
33RO20071215,        P18,      80,          1,         24,      12019,2,20080111,       0228,   -17.5828,  -103.0007,       4115,   333.0,  10.7761,  34.5125,2,  34.5158,2,     82.0,2,    83.4,2,   15.20,2,   24.30,2,    0.00,2,    2.14,2,   1.746,2,   0.913,2,   0.3270,2,  2209.6,2,  2280.5,2,   -999.0,9,  -999.00,   7.5328,2,    25.00,-999.000,9,-999.0000,9, -999.00,9, -999.00,9,  -999.0,9,-999.000,9,-999.000,-999.000,9,-999.000,9, -999.00,9, -999.00,9, -999.00,9, -999.00,9, -999.00,9,-999.000,-999.0000,9,-999.0000,9,-999.0000,9,-999.0000,9,-999.0000,9,-999.0000,9,-999.0000,9,-999.0000,9,-999.0000,9,  10.7356,     -999.0,9,     -999.0,9,     -999.0,9,     -999.0,9,     -999.0,9,     -999.0,9,     -999.0,9,-999.0000, -999.00
33RO20071215,        P18,      80,          1,         23,      12022,2,20080111,       0228,   -17.5828,  -103.0007,       4115,   384.9,   9.4837,  34.5600,2,  34.5595,2,     38.4,2,    39.9,2,   22.40,2,   32.20,2,    0.00,2,    2.61,2,   0.679,2,   0.361,2,   0.0823,2,  2251.3,6,  2285.0,2,   -999.0,9,  -999.00,   7.4177,2,    25.00,-999.000,9,-999.0000,9, -999.00,9, -999.00,9,  -999.0,9,-999.000,9,-999.000,-999.000,9,-999.000,9, -999.00,9, -999.00,9, -999.00,9, -999.00,9, -999.00,9,-999.000,-999.0000,9,-999.0000,9,-999.0000,9,-999.0000,9,-999.0000,9,-999.0000,9,-999.0000,9,-999.0000,9,-999.0000,9,   9.4403,     -999.0,9,     -999.0,9,     -999.0,9,     -999.0,9,     -999.0,9,     -999.0,9,     -999.0,9,-999.0000, -999.00
33RO20071215,        P18,      80,          1,         22,      12015,2,20080111,       0228,   -17.5828,  -103.0007,       4115,   467.8,   7.7513,  34.5121,2,  34.5114,2,     58.4,2,    58.4,2,   27.10,2,   37.30,2,    0.00,2,    2.66,2,   0.266,2,   0.145,2,   0.0243,2,  2251.8,2,  -999.0,5,   1608.7,2,    20.00,   7.4309,2,    25.00,-999.000,9,-999.0000,9, -999.00,9, -999.00,9,  -999.0,9,-999.000,9,-999.000,-999.000,9,-999.000,9, -999.00,9, -999.00,9, -999.00,9, -999.00,9, -999.00,9,-999.000,-999.0000,9,-999.0000,9,-999.0000,9,-999.0000,9,-999.0000,9,-999.0000,9,-999.0000,9,-999.0000,9,-999.0000,9,   7.7044,     -999.0,9,     -999.0,9,     -999.0,9,     -999.0,9,     -999.0,9,     -999.0,9,     -999.0,9,-999.0000, -999.00
33RO20071215,        P18,      80,          1,         21,      12020,2,20080111,       0228,   -17.5828,  -103.0007,       4115,   567.7,   6.6432,  34.4835,2,  34.4824,2,     72.6,2,    72.2,2,   33.50,2,   39.30,2,    0.00,2,    2.71,2,   0.114,2,   0.064,2,   0.0000,2,  2253.3,2,  2298.5,2,   -999.0,9,  -999.00,   7.4507,2,    25.00,-999.000,9,-999.0000,9, -999.00,9, -999.00,9,  -999.0,9,-999.000,9,-999.000,-999.000,9,-999.000,9, -999.00,9, -999.00,9, -999.00,9, -999.00,9, -999.00,9,-999.000,-999.0000,9,-999.0000,9,-999.0000,9,-999.0000,9,-999.0000,9,-999.0000,9,-999.0000,9,-999.0000,9,-999.0000,9,   6.5906,     -999.0,9,     -999.0,9,     -999.0,9,     -999.0,9,     -999.0,9,     -999.0,9,     -999.0,9,-999.0000, -999.00
33RO20071215,        P18,      80,          1,         20,      12055,2,20080111,       0228,   -17.5828,  -103.0007,       4115,   668.0,   5.9243,  34.4761,2,  34.4753,2,     74.5,2,    75.0,2,   41.50,2,   40.60,2,    0.00,2,    2.80,2,   0.025,2,   0.015,2,   0.0000,2,  2259.8,2,  2302.0,2,   -999.0,9,  -999.00,   7.4468,2,    25.00,-999.000,9,-999.0000,9, -999.00,9, -999.00,9,  -999.0,9,-999.000,9,-999.000,-999.000,9,-999.000,9, -999.00,9, -999.00,9, -999.00,9, -999.00,9, -999.00,9,-999.000,-999.0000,9,-999.0000,9,-999.0000,9,-999.0000,9,-999.0000,9,-999.0000,9,-999.0000,9,-999.0000,9,-999.0000,9,   5.8655,     -999.0,9,     -999.0,9,     -999.0,9,     -999.0,9,     -999.0,9,     -999.0,9,     -999.0,9,-999.0000, -999.00
33RO20071215,        P18,      80,          1,         19,      12018,2,20080111,       0228,   -17.5828,  -103.0007,       4115,   766.9,   5.3861,  34.4858,2,  34.4854,2,     77.0,2,    75.5,2,   51.70,2,   41.50,2,    0.00,2,    2.88,2,   0.003,2,   0.003,2,   0.0000,2,  -999.0,9,  2314.4,2,   -999.0,9,  -999.00,   7.4433,2,    25.00,-999.000,9,-999.0000,9, -999.00,9, -999.00,9,  -999.0,9,-999.000,9,-999.000,-999.000,9,-999.000,9, -999.00,9, -999.00,9, -999.00,9, -999.00,9, -999.00,9,-999.000,-999.0000,9,-999.0000,9,-999.0000,9,-999.0000,9,-999.0000,9,-999.0000,9,-999.0000,9,-999.0000,9,-999.0000,9,   5.3213,     -999.0,9,     -999.0,9,     -999.0,9,     -999.0,9,     -999.0,9,     -999.0,9,     -999.0,9,-999.0000, -999.00
33RO20071215,        P18,      80,          1,         18,      12025,2,20080111,       0228,   -17.5828,  -103.0007,       4115,   867.2,   4.9601,  34.5005,2,  34.5008,2,     79.8,2,    73.1,2,   61.10,2,   42.20,2,    0.00,2,    2.95,2,   0.003,2,   0.002,2,   0.0250,2,  2282.3,2,  2325.5,2,   1640.5,2,    20.00,   7.4383,2,    25.00,-999.000,9,-999.0000,9, -999.00,9, -999.00,9,  -999.0,9,-999.000,9,-999.000,-999.000,9,-999.000,9, -999.00,9, -999.00,9, -999.00,9, -999.00,9, -999.00,9,-999.000,-999.0000,9,-999.0000,9,-999.0000,9,-999.0000,9,-999.0000,9,-999.0000,9,-999.0000,9,-999.0000,9,-999.0000,9,   4.8890,     -999.0,9,     -999.0,9,     -999.0,9,     -999.0,9,     -999.0,9,     -999.0,9,     -999.0,9,-999.0000, -999.00
33RO20071215,        P18,      80,          1,         17,      12016,2,20080111,       0228,   -17.5828,  -103.0007,       4115,   967.0,   4.5203,  34.5158,2,  34.5151,2,     78.8,2,    79.2,2,   71.20,2,   41.90,2,    0.00,2,    2.94,2,   0.000,2,   0.001,2,   0.0000,2,  2289.5,2,  2334.2,2,   -999.0,9,  -999.00,   7.4451,2,    25.00,-999.000,9,-999.0000,9, -999.00,9, -999.00,9,  -999.0,9,-999.000,9,-999.000,-999.000,9,-999.000,9, -999.00,9, -999.00,9, -999.00,9, -999.00,9, -999.00,9,-999.000,-999.0000,9,-999.0000,9,-999.0000,9,-999.0000,9,-999.0000,9,-999.0000,9,-999.0000,9,-999.0000,9,-999.0000,9,   4.4435,     -999.0,9,     -999.0,9,     -999.0,9,     -999.0,9,     -999.0,9,     -999.0,9,     -999.0,9,-999.0000, -999.00
33RO20071215,        P18,      80,          1,         16,      12051,2,20080111,       0228,   -17.5828,  -103.0007,       4115,  1031.9,   4.2715,  34.5254,2,  34.5250,2,     87.9,2,    80.8,2,   77.00,2,   41.90,2,    0.00,2,    2.95,2,   0.000,2,   0.000,2,   0.0000,2,  2294.9,2,  2338.4,2,   -999.0,9,  -999.00,   7.4501,2,    25.00,-999.000,9,-999.0000,9, -999.00,9, -999.00,9,  -999.0,9,-999.000,9,-999.000,-999.000,9,-999.000,9, -999.00,9, -999.00,9, -999.00,9, -999.00,9, -999.00,9,-999.000,-999.0000,9,-999.0000,9,-999.0000,9,-999.0000,9,-999.0000,9,-999.0000,9,-999.0000,9,-999.0000,9,-999.0000,9,   4.1910,     -999.0,9,     -999.0,9,     -999.0,9,     -999.0,9,     -999.0,9,     -999.0,9,     -999.0,9,-999.0000, -999.00
33RO20071215,        P18,      80,          1,         15,      12014,2,20080111,       0228,   -17.5828,  -103.0007,       4115,  1168.6,   3.8243,  34.5470,2,  34.5475,2,     79.7,2,    79.8,2,   89.10,2,   42.10,2,    0.00,2,    2.98,2,   0.000,2,   0.000,2,   0.0000,2,  2309.1,2,  2352.6,2,   -999.0,9,  -999.00,   7.4407,2,    25.00,-999.000,9,-999.0000,9, -999.00,9, -999.00,9,  -999.0,9,-999.000,9,-999.000,-999.000,9,-999.000,9, -999.00,9, -999.00,9, -999.00,9, -999.00,9, -999.00,9,-999.000,-999.0000,9,-999.0000,9,-999.0000,9,-999.0000,9,-999.0000,9,-999.0000,9,-999.0000,9,-999.0000,9,-999.0000,9,   3.7359,     -999.0,9,     -999.0,9,     -999.0,9,     -999.0,9,     -999.0,9,     -999.0,9,     -999.0,9,-999.0000, -999.00
33RO20071215,        P18,      80,          1,         14,      12013,2,20080111,       0228,   -17.5828,  -103.0007,       4115,  1265.5,   3.5749,  34.5595,2,  34.5600,2,     82.8,2,    83.7,2,   96.00,2,   41.80,2,    0.00,2,    2.97,2,-999.000,9,-999.000,9,-999.0000,9,  2313.8,2,  2356.2,2,   1608.0,2,    20.00,   7.4529,2,    25.00,-999.000,9,-999.0000,9, -999.00,9, -999.00,9,  -999.0,9,-999.000,9,-999.000,-999.000,9,-999.000,9, -999.00,9, -999.00,9, -999.00,9, -999.00,9, -999.00,9,-999.000,-999.0000,9,-999.0000,9,-999.0000,9,-999.0000,9,-999.0000,9,-999.0000,9,-999.0000,9,-999.0000,9,-999.0000,9,   3.4807,     -999.0,9,     -999.0,9,     -999.0,9,     -999.0,9,     -999.0,9,     -999.0,9,     -999.0,9,-999.0000, -999.00
33RO20071215,        P18,      80,          1,         13,      12012,2,20080111,       0228,   -17.5828,  -103.0007,       4115,  1365.3,   3.2904,  34.5722,2,  34.5719,2,     90.6,2,    91.0,2,  101.30,2,   41.20,2,    0.00,2,    2.91,2,-999.000,9,-999.000,9,-999.0000,9,  2316.2,2,  2362.7,2,   -999.0,9,  -999.00,   7.4680,2,    25.00,-999.000,9,-999.0000,9, -999.00,9, -999.00,9,  -999.0,9,-999.000,9,-999.000,-999.000,9,-999.000,9, -999.00,9, -999.00,9, -999.00,9, -999.00,9, -999.00,9,-999.000,-999.0000,9,-999.0000,9,-999.0000,9,-999.0000,9,-999.0000,9,-999.0000,9,-999.0000,9,-999.0000,9,-999.0000,9,   3.1906,     -999.0,9,     -999.0,9,     -999.0,9,     -999.0,9,     -999.0,9,     -999.0,9,     -999.0,9,-999.0000, -999.00
33RO20071215,        P18,      80,          1,         12,      12031,2,20080111,       0228,   -17.5828,  -103.0007,       4115,  1534.2,   2.9706,  34.5930,2,  34.5931,2,     95.9,2,    96.2,2,  110.90,2,   40.70,2,    0.00,2,    2.89,2,  -0.001,2,   0.000,2,   0.0000,2,  2322.3,2,  2373.8,2,   -999.0,9,  -999.00,   7.4679,2,    25.00,-999.000,9,-999.0000,9, -999.00,9, -999.00,9,  -999.0,9,-999.000,9,-999.000,-999.000,9,-999.000,9, -999.00,9, -999.00,9, -999.00,9, -999.00,9, -999.00,9,-999.000,-999.0000,9,-999.0000,9,-999.0000,9,-999.0000,9,-999.0000,9,-999.0000,9,-999.0000,9,-999.0000,9,-999.0000,9,   2.8602,     -999.0,9,     -999.0,9,     -999.0,9,     -999.0,9,     -999.0,9,     -999.0,9,     -999.0,9,-999.0000, -999.00