BOTTLE,20220818CCHSIOAMB
EXPOCODE,SECT_ID,STNNBR,CASTNO,SAMPNO,BTLNBR,BTLNBR_FLAG_W,DATE,TIME,LATITUDE,LONGITUDE,DEPTH,CTDPRS,CTDTMP,CTDSAL,CTDSAL_FLAG_W,SALNTY,SALNTY_FLAG_W,CTDOXY,CTDOXY_FLAG_W,OXYGEN,OXYGEN_FLAG_W,SILCAT,SILCAT_FLAG_W,NITRAT,NITRAT_FLAG_W,NITRIT,NITRIT_FLAG_W,PHSPHT,PHSPHT_FLAG_W,CFC-11,CFC-11_FLAG_W,CFC-12,CFC-12_FLAG_W,SF6,SF6_FLAG_W,TCARBN,TCARBN_FLAG_W,ALKALI,ALKALI_FLAG_W,FCO2,FCO2_FLAG_W,FCO2TMP,PH_SWS,PH_SWS_FLAG_W,PH_TMP,TRITUM,TRITUM_FLAG_W,HELIUM,HELIUM_FLAG_W,DELHE3,DELHE3_FLAG_W,DELC13,DELC13_FLAG_W,DELC14,DELC14_FLAG_W,NEON,NEON_FLAG_W,NEONER,CCL4,CCL4_FLAG_W,POC,POC_FLAG_W,DOC,DOC_FLAG_W,TDN,TDN_FLAG_W,DON,DON_FLAG_W,CHLORA,CHLORA_FLAG_W,ARGON,ARGON_FLAG_W,TRITER,CDOM325,CDOM325_FLAG_W,CDOM340,CDOM340_FLAG_W,CDOM380,CDOM380_FLAG_W,CDOM412,CDOM412_FLAG_W,CDOM443,CDOM443_FLAG_W,CDOM490,CDOM490_FLAG_W,CDOM555,CDOM555_FLAG_W,CDOMSL,CDOMSL_FLAG_W,CDOMSN,CDOMSN_FLAG_W,THETA,D18O_NO3,D18O_NO3_FLAG_W,CDOM2C,CDOM2C_FLAG_W,CDOM3C,CDOM3C_FLAG_W,LAB_DEN,LAB_DEN_FLAG_W,DELSI30,DELSI30_FLAG_W,N2,N2_FLAG_W,D15N_NO3,D15N_NO3_FLAG_W,HELIER,DELHER
,,,,,,,,,,,METERS,DBAR,ITS-90,PSS-78,,PSS-78,,UMOL/KG,,UMOL/KG,,UMOL/KG,,UMOL/KG,,UMOL/KG,,UMOL/KG,,PMOL/KG,,PMOL/KG,,FMOL/KG,,UMOL/KG,,UMOL/KG,,UATM,,DEG C,,,DEG C,TU,,NMOL/KG,,PERCNT,,/MILLE,,/MILLE,,NMOL/KG,,NMOL/KG,PMOL/KG,,UG/KG,,UMOL/KG,,UMOL/KG,,UMOL/KG,,UG/KG,,UMOL/KG,,TU,1/M,,1/M,,1/M,,1/M,,1/M,,1/M,,1/M,,1/NM,,1/NM,,DEG C,/MILLE,,,,,,,,/MILLE,,UMOL/KG,,/MILLE,,NMOL/KG,PERCNT
33RO20071215,        P18,      92,          1,         36,      12017,2,20080114,       2318,   -24.5827,  -103.0003,       3727,     4.7,  23.8080,  36.1751,2,  36.1732,2,    214.7,2,   214.9,2,    0.70,2,    0.10,2,    0.00,2,    0.16,2,   1.917,2,   1.193,2,   0.9923,2,  2080.8,6,  2390.5,2,    353.3,2,    20.00,   8.0055,2,    25.00,-999.000,9,-999.0000,9, -999.00,9, -999.00,9,  -999.0,9,-999.000,9,-999.000,-999.000,9,-999.000,9, -999.00,9, -999.00,9, -999.00,9, -999.00,9, -999.00,9,-999.000,-999.0000,9,-999.0000,9,-999.0000,9,-999.0000,9,-999.0000,9,-999.0000,9,-999.0000,9,-999.0000,9,-999.0000,9,  23.8070,     -999.0,9,     -999.0,9,     -999.0,9,     -999.0,9,     -999.0,9,     -999.0,9,     -999.0,9,-999.0000, -999.00
33RO20071215,        P18,      92,          1,         35,      12029,2,20080114,       2318,   -24.5827,  -103.0003,       3727,    12.9,  23.8298,  36.1729,2,  36.1658,2,    214.8,2,   215.2,2,    0.70,2,    0.10,2,    0.00,2,    0.16,2,   1.944,2,   1.206,2,   1.0607,2,  2080.3,2,  2388.3,2,   -999.0,9,  -999.00,   8.0147,2,    25.00,-999.000,9,-999.0000,9, -999.00,9, -999.00,9,  -999.0,9,-999.000,9,-999.000,-999.000,9,-999.000,9, -999.00,9, -999.00,9, -999.00,9, -999.00,9, -999.00,9,-999.000,-999.0000,9,-999.0000,9,-999.0000,9,-999.0000,9,-999.0000,9,-999.0000,9,-999.0000,9,-999.0000,9,-999.0000,9,  23.8271,     -999.0,9,     -999.0,9,     -999.0,9,     -999.0,9,     -999.0,9,     -999.0,9,     -999.0,9,-999.0000, -999.00
33RO20071215,        P18,      92,          1,         34,      12049,2,20080114,       2318,   -24.5827,  -103.0003,       3727,    23.2,  22.5891,  36.0847,2,  36.0855,2,    220.6,2,   220.9,2,    0.70,2,    0.10,2,    0.00,2,    0.15,2,   2.043,6,   1.257,6,   1.0818,6,  2076.8,2,  2378.5,2,    356.1,2,    20.00,   8.0181,2,    25.00,-999.000,9,-999.0000,9, -999.00,9, -999.00,9,  -999.0,9,-999.000,9,-999.000,-999.000,9,-999.000,9, -999.00,9, -999.00,9, -999.00,9, -999.00,9, -999.00,9,-999.000,-999.0000,9,-999.0000,9,-999.0000,9,-999.0000,9,-999.0000,9,-999.0000,9,-999.0000,9,-999.0000,9,-999.0000,9,  22.5844,     -999.0,9,     -999.0,9,     -999.0,9,     -999.0,9,     -999.0,9,     -999.0,9,     -999.0,9,-999.0000, -999.00
33RO20071215,        P18,      92,          1,         33,      12027,2,20080114,       2318,   -24.5827,  -103.0003,       3727,    47.7,  21.8982,  36.0316,2,  36.0322,2,    223.9,2,   225.3,2,    0.70,2,    0.10,2,    0.00,2,    0.15,2,   2.108,2,   1.293,2,   1.0337,2,  2073.4,2,  2376.7,2,   -999.0,9,  -999.00,   8.0346,2,    25.00,-999.000,9,-999.0000,9, -999.00,9, -999.00,9,  -999.0,9,-999.000,9,-999.000,-999.000,9,-999.000,9, -999.00,9, -999.00,9, -999.00,9, -999.00,9, -999.00,9,-999.000,-999.0000,9,-999.0000,9,-999.0000,9,-999.0000,9,-999.0000,9,-999.0000,9,-999.0000,9,-999.0000,9,-999.0000,9,  21.8888,     -999.0,9,     -999.0,9,     -999.0,9,     -999.0,9,     -999.0,9,     -999.0,9,     -999.0,9,-999.0000, -999.00
33RO20071215,        P18,      92,          1,         32,      12023,2,20080114,       2318,   -24.5827,  -103.0003,       3727,    66.3,  21.3463,  35.9750,2,  35.9850,2,    225.7,2,   228.5,2,    0.70,2,    0.10,2,    0.00,2,    0.16,2,   2.156,2,   1.309,2,   1.1386,2,  2071.2,2,  2388.6,4,    353.8,2,    20.00,   7.9737,2,    25.00,-999.000,9,-999.0000,9, -999.00,9, -999.00,9,  -999.0,9,-999.000,9,-999.000,-999.000,9,-999.000,9, -999.00,9, -999.00,9, -999.00,9, -999.00,9, -999.00,9,-999.000,-999.0000,9,-999.0000,9,-999.0000,9,-999.0000,9,-999.0000,9,-999.0000,9,-999.0000,9,-999.0000,9,-999.0000,9,  21.3334,     -999.0,9,     -999.0,9,     -999.0,9,     -999.0,9,     -999.0,9,     -999.0,9,     -999.0,9,-999.0000, -999.00
33RO20071215,        P18,      92,          1,         31,      12037,2,20080114,       2318,   -24.5827,  -103.0003,       3727,    86.4,  21.0485,  36.0112,2,  35.9915,2,    228.8,2,   228.4,2,    0.70,2,    0.10,2,    0.00,2,    0.15,2,   2.160,2,   1.321,2,   1.0913,2,  2069.5,2,  2379.3,2,   -999.0,9,  -999.00,   7.9952,2,    25.00,-999.000,9,-999.0000,9, -999.00,9, -999.00,9,  -999.0,9,-999.000,9,-999.000,-999.000,9,-999.000,9, -999.00,9, -999.00,9, -999.00,9, -999.00,9, -999.00,9,-999.000,-999.0000,9,-999.0000,9,-999.0000,9,-999.0000,9,-999.0000,9,-999.0000,9,-999.0000,9,-999.0000,9,-999.0000,9,  21.0319,     -999.0,9,     -999.0,9,     -999.0,9,     -999.0,9,     -999.0,9,     -999.0,9,     -999.0,9,-999.0000, -999.00
33RO20071215,        P18,      92,          1,         30,      12036,2,20080114,       2318,   -24.5827,  -103.0003,       3727,   106.2,  20.7949,  35.9911,2,  35.9779,2,    226.3,2,   226.8,2,    0.70,2,    0.10,2,    0.00,2,    0.15,2,   2.159,2,   1.324,2,   1.0664,2,  2069.1,2,  2376.3,2,    353.1,2,    20.00,   7.9989,2,    25.00,-999.000,9,-999.0000,9, -999.00,9, -999.00,9,  -999.0,9,-999.000,9,-999.000,-999.000,9,-999.000,9, -999.00,9, -999.00,9, -999.00,9, -999.00,9, -999.00,9,-999.000,-999.0000,9,-999.0000,9,-999.0000,9,-999.0000,9,-999.0000,9,-999.0000,9,-999.0000,9,-999.0000,9,-999.0000,9,  20.7746,     -999.0,9,     -999.0,9,     -999.0,9,     -999.0,9,     -999.0,9,     -999.0,9,     -999.0,9,-999.0000, -999.00
33RO20071215,        P18,      92,          1,         29,      12044,2,20080114,       2318,   -24.5827,  -103.0003,       3727,   132.3,  20.4185,  35.9345,2,  35.9317,2,    223.5,2,   224.5,2,    0.70,2,    0.10,2,    0.00,2,    0.16,2,   2.183,2,   1.329,2,   1.0200,2,  2069.5,2,  2369.4,2,   -999.0,9,  -999.00,   8.0023,2,    25.00,-999.000,9,-999.0000,9, -999.00,9, -999.00,9,  -999.0,9,-999.000,9,-999.000,-999.000,9,-999.000,9, -999.00,9, -999.00,9, -999.00,9, -999.00,9, -999.00,9,-999.000,-999.0000,9,-999.0000,9,-999.0000,9,-999.0000,9,-999.0000,9,-999.0000,9,-999.0000,9,-999.0000,9,-999.0000,9,  20.3936,     -999.0,9,     -999.0,9,     -999.0,9,     -999.0,9,     -999.0,9,     -999.0,9,     -999.0,9,-999.0000, -999.00
33RO20071215,        P18,      92,          1,         28,      12057,2,20080114,       2318,   -24.5827,  -103.0003,       3727,   154.7,  20.0544,  35.8548,2,  35.8582,2,    222.7,2,   231.1,3,    0.70,2,    0.20,2,    0.01,2,    0.17,2,   2.199,2,   1.344,2,   1.1185,2,  2068.9,2,  2368.6,2,    365.7,6,    20.00,   7.9972,2,    25.00,-999.000,9,-999.0000,9, -999.00,9, -999.00,9,  -999.0,9,-999.000,9,-999.000,-999.000,9,-999.000,9, -999.00,9, -999.00,9, -999.00,9, -999.00,9, -999.00,9,-999.000,-999.0000,9,-999.0000,9,-999.0000,9,-999.0000,9,-999.0000,9,-999.0000,9,-999.0000,9,-999.0000,9,-999.0000,9,  20.0256,     -999.0,9,     -999.0,9,     -999.0,9,     -999.0,9,     -999.0,9,     -999.0,9,     -999.0,9,-999.0000, -999.00
33RO20071215,        P18,      92,          1,         27,      12026,2,20080114,       2318,   -24.5827,  -103.0003,       3727,   182.7,  19.6043,  35.7500,2,  35.7549,2,    222.9,2,   223.3,2,    0.70,2,    0.20,2,    0.03,2,    0.20,2,   2.256,2,   1.372,2,   1.1143,2,  2069.3,2,  2360.7,2,   -999.0,9,  -999.00,   7.9883,2,    25.00,-999.000,9,-999.0000,9, -999.00,9, -999.00,9,  -999.0,9,-999.000,9,-999.000,-999.000,9,-999.000,9, -999.00,9, -999.00,9, -999.00,9, -999.00,9, -999.00,9,-999.000,-999.0000,9,-999.0000,9,-999.0000,9,-999.0000,9,-999.0000,9,-999.0000,9,-999.0000,9,-999.0000,9,-999.0000,9,  19.5708,     -999.0,9,     -999.0,9,     -999.0,9,     -999.0,9,     -999.0,9,     -999.0,9,     -999.0,9,-999.0000, -999.00
33RO20071215,        P18,      92,          1,         26,      12030,2,20080114,       2318,   -24.5827,  -103.0003,       3727,   216.8,  19.0145,  35.6030,2,  35.6081,2,    219.0,2,   219.7,2,    0.80,2,    0.70,2,    0.19,2,    0.22,2,   2.329,2,   1.406,2,   1.1132,2,  2068.5,2,  2350.0,2,    386.4,2,    20.00,   7.9773,2,    25.00,-999.000,9,-999.0000,9, -999.00,9, -999.00,9,  -999.0,9,-999.000,9,-999.000,-999.000,9,-999.000,9, -999.00,9, -999.00,9, -999.00,9, -999.00,9, -999.00,9,-999.000,-999.0000,9,-999.0000,9,-999.0000,9,-999.0000,9,-999.0000,9,-999.0000,9,-999.0000,9,-999.0000,9,-999.0000,9,  18.9757,     -999.0,9,     -999.0,9,     -999.0,9,     -999.0,9,     -999.0,9,     -999.0,9,     -999.0,9,-999.0000, -999.00
33RO20071215,        P18,      92,          1,         25,      12024,2,20080114,       2318,   -24.5827,  -103.0003,       3727,   267.2,  16.5536,  35.0861,2,  35.0662,2,    211.4,2,   211.6,2,    1.10,2,    3.60,2,    0.02,2,    0.39,2,   2.624,2,   1.537,2,   1.0315,2,  2071.0,2,  2309.1,2,   -999.0,9,  -999.00,   7.9314,2,    25.00,-999.000,9,-999.0000,9, -999.00,9, -999.00,9,  -999.0,9,-999.000,9,-999.000,-999.000,9,-999.000,9, -999.00,9, -999.00,9, -999.00,9, -999.00,9, -999.00,9,-999.000,-999.0000,9,-999.0000,9,-999.0000,9,-999.0000,9,-999.0000,9,-999.0000,9,-999.0000,9,-999.0000,9,-999.0000,9,  16.5102,     -999.0,9,     -999.0,9,     -999.0,9,     -999.0,9,     -999.0,9,     -999.0,9,     -999.0,9,-999.0000, -999.00
33RO20071215,        P18,      92,          1,         24,      12019,2,20080114,       2318,   -24.5827,  -103.0003,       3727,   316.4,  13.4782,  34.6118,2,  34.5970,2,    198.0,2,   196.0,2,    2.40,2,   10.60,2,    0.01,2,    0.84,2,   2.984,2,   1.654,2,   0.9319,2,  2098.1,2,  2284.4,2,    591.3,2,    20.00,   7.8335,2,    25.00,-999.000,9,-999.0000,9, -999.00,9, -999.00,9,  -999.0,9,-999.000,9,-999.000,-999.000,9,-999.000,9, -999.00,9, -999.00,9, -999.00,9, -999.00,9, -999.00,9,-999.000,-999.0000,9,-999.0000,9,-999.0000,9,-999.0000,9,-999.0000,9,-999.0000,9,-999.0000,9,-999.0000,9,-999.0000,9,  13.4335,     -999.0,9,     -999.0,9,     -999.0,9,     -999.0,9,     -999.0,9,     -999.0,9,     -999.0,9,-999.0000, -999.00
33RO20071215,        P18,      92,          1,         23,      12022,2,20080114,       2318,   -24.5827,  -103.0003,       3727,   367.8,  10.8193,  34.4137,2,  34.4190,2,    165.8,2,   163.9,2,    7.20,2,   18.60,2,    0.00,2,    1.49,2,   2.881,2,   1.534,2,   0.6637,2,  2145.5,6,  2274.3,2,   -999.0,9,  -999.00,   7.6959,2,    25.00,-999.000,9,-999.0000,9, -999.00,9, -999.00,9,  -999.0,9,-999.000,9,-999.000,-999.000,9,-999.000,9, -999.00,9, -999.00,9, -999.00,9, -999.00,9, -999.00,9,-999.000,-999.0000,9,-999.0000,9,-999.0000,9,-999.0000,9,-999.0000,9,-999.0000,9,-999.0000,9,-999.0000,9,-999.0000,9,  10.7744,     -999.0,9,     -999.0,9,     -999.0,9,     -999.0,9,     -999.0,9,     -999.0,9,     -999.0,9,-999.0000, -999.00
33RO20071215,        P18,      92,          1,         22,      12015,2,20080114,       2318,   -24.5827,  -103.0003,       3727,   432.1,   8.8132,  34.3820,2,  34.3850,2,    144.2,2,   144.0,2,   11.90,2,   25.30,2,    0.00,2,    1.94,2,   2.545,2,   1.294,2,   0.5059,2,  2183.9,2,  2271.9,2,   1072.5,2,    20.00,   7.5956,2,    25.00,-999.000,9,-999.0000,9, -999.00,9, -999.00,9,  -999.0,9,-999.000,9,-999.000,-999.000,9,-999.000,9, -999.00,9, -999.00,9, -999.00,9, -999.00,9, -999.00,9,-999.000,-999.0000,9,-999.0000,9,-999.0000,9,-999.0000,9,-999.0000,9,-999.0000,9,-999.0000,9,-999.0000,9,-999.0000,9,   8.7666,     -999.0,9,     -999.0,9,     -999.0,9,     -999.0,9,     -999.0,9,     -999.0,9,     -999.0,9,-999.0000, -999.00
33RO20071215,        P18,      92,          1,         21,      12020,2,20080114,       2318,   -24.5827,  -103.0003,       3727,   532.7,   6.7012,  34.3453,2,  34.3482,2,    173.6,2,   173.5,2,   14.70,2,   29.40,2,    0.00,2,    2.07,2,   2.277,2,   1.124,2,   0.3370,2,  2186.0,2,  2283.6,3,   -999.0,9,  -999.00,   7.5966,2,    25.00,-999.000,9,-999.0000,9, -999.00,9, -999.00,9,  -999.0,9,-999.000,9,-999.000,-999.000,9,-999.000,9, -999.00,9, -999.00,9, -999.00,9, -999.00,9, -999.00,9,-999.000,-999.0000,9,-999.0000,9,-999.0000,9,-999.0000,9,-999.0000,9,-999.0000,9,-999.0000,9,-999.0000,9,-999.0000,9,   6.6518,     -999.0,9,     -999.0,9,     -999.0,9,     -999.0,9,     -999.0,9,     -999.0,9,     -999.0,9,-999.0000, -999.00
33RO20071215,        P18,      92,          1,         20,      12055,2,20080114,       2318,   -24.5827,  -103.0003,       3727,   614.4,   5.9636,  34.3177,2,  34.3185,2,    195.2,2,   193.8,2,   15.80,2,   29.40,2,    0.00,2,    2.03,2,   2.101,2,   1.024,2,   0.3051,2,  2178.1,2,  2282.5,2,   1000.9,2,    20.00,   7.6207,2,    25.00,-999.000,9,-999.0000,9, -999.00,9, -999.00,9,  -999.0,9,-999.000,9,-999.000,-999.000,9,-999.000,9, -999.00,9, -999.00,9, -999.00,9, -999.00,9, -999.00,9,-999.000,-999.0000,9,-999.0000,9,-999.0000,9,-999.0000,9,-999.0000,9,-999.0000,9,-999.0000,9,-999.0000,9,-999.0000,9,   5.9097,     -999.0,9,     -999.0,9,     -999.0,9,     -999.0,9,     -999.0,9,     -999.0,9,     -999.0,9,-999.0000, -999.00
33RO20071215,        P18,      92,          1,         19,      12018,2,20080114,       2318,   -24.5827,  -103.0003,       3727,   732.8,   5.3764,  34.3227,2,  34.3219,2,    180.6,2,   180.9,2,   23.00,2,   31.90,2,    0.00,2,    2.20,2,   1.231,2,   0.612,2,   0.1109,2,  2192.2,2,  2289.8,2,   -999.0,9,  -999.00,   7.6016,2,    25.00,-999.000,9,-999.0000,9, -999.00,9, -999.00,9,  -999.0,9,-999.000,9,-999.000,-999.000,9,-999.000,9, -999.00,9, -999.00,9, -999.00,9, -999.00,9, -999.00,9,-999.000,-999.0000,9,-999.0000,9,-999.0000,9,-999.0000,9,-999.0000,9,-999.0000,9,-999.0000,9,-999.0000,9,-999.0000,9,   5.3149,     -999.0,9,     -999.0,9,     -999.0,9,     -999.0,9,     -999.0,9,     -999.0,9,     -999.0,9,-999.0000, -999.00
33RO20071215,        P18,      92,          1,         18,      12025,2,20080114,       2318,   -24.5827,  -103.0003,       3727,   832.8,   4.9117,  34.3628,2,  34.3649,2,    150.9,2,   149.5,2,   36.20,2,   35.40,2,    0.00,2,    2.45,2,   0.448,2,   0.232,2,   0.0000,2,  2221.6,2,  2303.2,2,   1219.5,2,    20.00,   7.5555,2,    25.00,-999.000,9,-999.0000,9, -999.00,9, -999.00,9,  -999.0,9,-999.000,9,-999.000,-999.000,9,-999.000,9, -999.00,9, -999.00,9, -999.00,9, -999.00,9, -999.00,9,-999.000,-999.0000,9,-999.0000,9,-999.0000,9,-999.0000,9,-999.0000,9,-999.0000,9,-999.0000,9,-999.0000,9,-999.0000,9,   4.8441,     -999.0,9,     -999.0,9,     -999.0,9,     -999.0,9,     -999.0,9,     -999.0,9,     -999.0,9,-999.0000, -999.00
33RO20071215,        P18,      92,          1,         17,      12016,2,20080114,       2318,   -24.5827,  -103.0003,       3727,   934.0,   4.3692,  34.4014,2,  34.4007,2,    137.5,2,   137.5,2,   49.10,2,   37.00,2,    0.00,2,    2.61,2,   0.159,2,   0.084,2,   0.0000,2,  2240.6,2,  2317.0,2,   -999.0,9,  -999.00,   7.5286,2,    25.00,-999.000,9,-999.0000,9, -999.00,9, -999.00,9,  -999.0,9,-999.000,9,-999.000,-999.000,9,-999.000,9, -999.00,9, -999.00,9, -999.00,9, -999.00,9, -999.00,9,-999.000,-999.0000,9,-999.0000,9,-999.0000,9,-999.0000,9,-999.0000,9,-999.0000,9,-999.0000,9,-999.0000,9,-999.0000,9,   4.2964,     -999.0,9,     -999.0,9,     -999.0,9,     -999.0,9,     -999.0,9,     -999.0,9,     -999.0,9,-999.0000, -999.00
33RO20071215,        P18,      92,          1,         16,      12051,2,20080114,       2318,   -24.5827,  -103.0003,       3727,  1034.0,   4.0193,  34.4545,2,  34.4586,2,    127.0,2,   126.6,2,   62.90,2,   38.00,2,    0.00,2,    2.65,2,   0.045,2,   0.024,2,   0.0000,2,  2259.1,2,  2323.5,2,   1346.6,2,    20.00,   7.5119,2,    25.00,-999.000,9,-999.0000,9, -999.00,9, -999.00,9,  -999.0,9,-999.000,9,-999.000,-999.000,9,-999.000,9, -999.00,9, -999.00,9, -999.00,9, -999.00,9, -999.00,9,-999.000,-999.0000,9,-999.0000,9,-999.0000,9,-999.0000,9,-999.0000,9,-999.0000,9,-999.0000,9,-999.0000,9,-999.0000,9,   3.9408,     -999.0,9,     -999.0,9,     -999.0,9,     -999.0,9,     -999.0,9,     -999.0,9,     -999.0,9,-999.0000, -999.00
33RO20071215,        P18,      92,          1,         15,      12014,2,20080114,       2318,   -24.5827,  -103.0003,       3727,  1132.9,   3.7713,  34.4927,2,  34.4933,2,    127.6,2,   126.7,2,   72.50,2,   37.90,2,    0.00,2,    2.67,2,   0.012,2,   0.007,2,   0.0000,2,  2267.5,2,  2338.1,2,   -999.0,9,  -999.00,   7.5183,2,    25.00,-999.000,9,-999.0000,9, -999.00,9, -999.00,9,  -999.0,9,-999.000,9,-999.000,-999.000,9,-999.000,9, -999.00,9, -999.00,9, -999.00,9, -999.00,9, -999.00,9,-999.000,-999.0000,9,-999.0000,9,-999.0000,9,-999.0000,9,-999.0000,9,-999.0000,9,-999.0000,9,-999.0000,9,-999.0000,9,   3.6864,     -999.0,9,     -999.0,9,     -999.0,9,     -999.0,9,     -999.0,9,     -999.0,9,     -999.0,9,-999.0000, -999.00
33RO20071215,        P18,      92,          1,         14,      12013,2,20080114,       2318,   -24.5827,  -103.0003,       3727,  1227.8,   3.5036,  34.5218,2,  34.5235,2,    131.1,2,   130.8,2,   80.60,2,   37.40,2,    0.00,2,    2.65,2,   0.001,2,   0.002,2,   0.0000,2,  2274.3,2,  2348.0,2,   1304.0,2,    20.00,   7.5334,2,    25.00,-999.000,9,-999.0000,9, -999.00,9, -999.00,9,  -999.0,9,-999.000,9,-999.000,-999.000,9,-999.000,9, -999.00,9, -999.00,9, -999.00,9, -999.00,9, -999.00,9,-999.000,-999.0000,9,-999.0000,9,-999.0000,9,-999.0000,9,-999.0000,9,-999.0000,9,-999.0000,9,-999.0000,9,-999.0000,9,   3.4132,     -999.0,9,     -999.0,9,     -999.0,9,     -999.0,9,     -999.0,9,     -999.0,9,     -999.0,9,-999.0000, -999.00
33RO20071215,        P18,      92,          1,         13,      12012,2,20080114,       2318,   -24.5827,  -103.0003,       3727,  1322.0,   3.2734,  34.5431,2,  34.5444,2,    133.2,2,   133.4,2,   87.20,2,   37.30,2,    0.00,2,    2.62,2,   0.000,2,   0.001,2,   0.0000,2,  2279.3,2,  2355.4,2,   -999.0,9,  -999.00,   7.5317,2,    25.00,-999.000,9,-999.0000,9, -999.00,9, -999.00,9,  -999.0,9,-999.000,9,-999.000,-999.000,9,-999.000,9, -999.00,9, -999.00,9, -999.00,9, -999.00,9, -999.00,9,-999.000,-999.0000,9,-999.0000,9,-999.0000,9,-999.0000,9,-999.0000,9,-999.0000,9,-999.0000,9,-999.0000,9,-999.0000,9,   3.1775,     -999.0,9,     -999.0,9,     -999.0,9,     -999.0,9,     -999.0,9,     -999.0,9,     -999.0,9,-999.0000, -999.00
33RO20071215,        P18,      92,          1,         12,      12031,2,20080114,       2318,   -24.5827,  -103.0003,       3727,  1427.5,   3.0288,  34.5619,2,  34.5636,2,    132.9,2,   132.7,2,   94.30,2,   37.50,2,    0.00,2,    2.64,2,   0.001,2,   0.000,2,   0.0000,2,  2287.5,2,  2363.6,2,   1302.9,2,    20.00,   7.4947,2,    25.00,-999.000,9,-999.0000,9, -999.00,9, -999.00,9,  -999.0,9,-999.000,9,-999.000,-999.000,9,-999.000,9, -999.00,9, -999.00,9, -999.00,9, -999.00,9, -999.00,9,-999.000,-999.0000,9,-999.0000,9,-999.0000,9,-999.0000,9,-999.0000,9,-999.0000,9,-999.0000,9,-999.0000,9,-999.0000,9,   2.9266,     -999.0,9,     -999.0,9,     -999.0,9,     -999.0,9,     -999.0,9,     -999.0,9,     -999.0,9,-999.0000, -999.00