BOTTLE,20220818CCHSIOAMB
EXPOCODE,SECT_ID,STNNBR,CASTNO,SAMPNO,BTLNBR,BTLNBR_FLAG_W,DATE,TIME,LATITUDE,LONGITUDE,DEPTH,CTDPRS,CTDTMP,CTDSAL,CTDSAL_FLAG_W,SALNTY,SALNTY_FLAG_W,CTDOXY,CTDOXY_FLAG_W,OXYGEN,OXYGEN_FLAG_W,SILCAT,SILCAT_FLAG_W,NITRAT,NITRAT_FLAG_W,NITRIT,NITRIT_FLAG_W,PHSPHT,PHSPHT_FLAG_W,CFC-11,CFC-11_FLAG_W,CFC-12,CFC-12_FLAG_W,SF6,SF6_FLAG_W,TCARBN,TCARBN_FLAG_W,ALKALI,ALKALI_FLAG_W,FCO2,FCO2_FLAG_W,FCO2TMP,PH_SWS,PH_SWS_FLAG_W,PH_TMP,TRITUM,TRITUM_FLAG_W,HELIUM,HELIUM_FLAG_W,DELHE3,DELHE3_FLAG_W,DELC13,DELC13_FLAG_W,DELC14,DELC14_FLAG_W,NEON,NEON_FLAG_W,NEONER,CCL4,CCL4_FLAG_W,POC,POC_FLAG_W,DOC,DOC_FLAG_W,TDN,TDN_FLAG_W,DON,DON_FLAG_W,CHLORA,CHLORA_FLAG_W,ARGON,ARGON_FLAG_W,TRITER,CDOM325,CDOM325_FLAG_W,CDOM340,CDOM340_FLAG_W,CDOM380,CDOM380_FLAG_W,CDOM412,CDOM412_FLAG_W,CDOM443,CDOM443_FLAG_W,CDOM490,CDOM490_FLAG_W,CDOM555,CDOM555_FLAG_W,CDOMSL,CDOMSL_FLAG_W,CDOMSN,CDOMSN_FLAG_W,THETA,D18O_NO3,D18O_NO3_FLAG_W,CDOM2C,CDOM2C_FLAG_W,CDOM3C,CDOM3C_FLAG_W,LAB_DEN,LAB_DEN_FLAG_W,DELSI30,DELSI30_FLAG_W,N2,N2_FLAG_W,D15N_NO3,D15N_NO3_FLAG_W,HELIER,DELHER
,,,,,,,,,,,METERS,DBAR,ITS-90,PSS-78,,PSS-78,,UMOL/KG,,UMOL/KG,,UMOL/KG,,UMOL/KG,,UMOL/KG,,UMOL/KG,,PMOL/KG,,PMOL/KG,,FMOL/KG,,UMOL/KG,,UMOL/KG,,UATM,,DEG C,,,DEG C,TU,,NMOL/KG,,PERCNT,,/MILLE,,/MILLE,,NMOL/KG,,NMOL/KG,PMOL/KG,,UG/KG,,UMOL/KG,,UMOL/KG,,UMOL/KG,,UG/KG,,UMOL/KG,,TU,1/M,,1/M,,1/M,,1/M,,1/M,,1/M,,1/M,,1/NM,,1/NM,,DEG C,/MILLE,,,,,,,,/MILLE,,UMOL/KG,,/MILLE,,NMOL/KG,PERCNT
33RO20071215,        P18,     147,          1,         11,      12003,2,20080206,       1753,   -56.6668,  -102.9987,       4131,  2133.5,   1.9166,  34.7251,2,  34.7249,2,    185.9,2,   185.9,2,   91.70,2,   32.20,2,    0.00,2,    2.22,2,   0.114,2,   0.060,2,   0.0000,2,  2259.0,2,  2351.8,2,   -999.0,9,  -999.00,   7.6087,2,    25.00,-999.000,9,-999.0000,9, -999.00,9, -999.00,9,  -999.0,9,-999.000,9,-999.000,   0.111,3,-999.000,9,   39.16,2,   33.25,2, -999.00,9, -999.00,9, -999.00,9,-999.000,   0.1214,2,   0.0817,2,   0.0398,2,   0.0259,2,   0.0143,2,   0.0041,2,  -0.0003,4,   0.0171,2,   0.0191,2,   1.7699,     -999.0,9,     -999.0,9,     -999.0,9,     -999.0,9,     -999.0,9,     -999.0,9,     -999.0,9,-999.0000, -999.00
33RO20071215,        P18,     147,          1,         10,      12032,2,20080206,       1753,   -56.6668,  -102.9987,       4131,  2332.5,   1.7400,  34.7287,2,  34.7285,2,    188.9,2,   188.9,2,   97.40,2,   32.10,2,    0.00,2,    2.22,2,   0.096,6,   0.051,6,   0.0000,6,  2261.4,2,  2357.5,2,   -999.0,9,  -999.00,   7.6155,2,    25.00,-999.000,9,-999.0000,9, -999.00,9, -999.00,9,  -999.0,9,-999.000,9,-999.000,   0.098,3,-999.000,9,   39.75,2,   33.64,2, -999.00,9, -999.00,9, -999.00,9,-999.000,   0.1200,2,   0.0804,2,   0.0389,2,   0.0252,2,   0.0139,2,   0.0040,2,  -0.0002,4,   0.0172,2,   0.0193,2,   1.5790,     -999.0,9,     -999.0,9,     -999.0,9,     -999.0,9,     -999.0,9,     -999.0,9,     -999.0,9,-999.0000, -999.00
33RO20071215,        P18,     147,          1,          9,      12002,2,20080206,       1753,   -56.6668,  -102.9987,       4131,  2533.1,   1.5939,  34.7284,2,  34.7287,2,    190.8,2,   191.3,2,  102.40,2,   32.30,2,    0.00,2,    2.23,2,   0.073,2,   0.039,2,   0.0000,2,  2261.8,2,  2358.1,2,   -999.0,9,  -999.00,   7.6114,2,    25.00,-999.000,9,-999.0000,9, -999.00,9, -999.00,9,  -999.0,9,-999.000,9,-999.000,   0.077,3,-999.000,9,   39.31,2,   33.22,2, -999.00,9, -999.00,9, -999.00,9,-999.000,   0.1202,2,   0.0807,2,   0.0391,2,   0.0255,2,   0.0142,2,   0.0044,2,   0.0000,4,   0.0171,2,   0.0191,2,   1.4179,     -999.0,9,     -999.0,9,     -999.0,9,     -999.0,9,     -999.0,9,     -999.0,9,     -999.0,9,-999.0000, -999.00
33RO20071215,        P18,     147,          1,          8,      12021,2,20080206,       1753,   -56.6668,  -102.9987,       4131,  2776.1,   1.4471,  34.7265,2,  34.7277,2,    194.4,2,   194.1,2,  107.00,2,   32.40,2,    0.00,2,    2.24,2,   0.068,2,   0.035,2,   0.0000,2,  2263.2,2,  2363.9,2,   -999.0,9,  -999.00,   7.6177,2,    25.00,-999.000,9,-999.0000,9, -999.00,9, -999.00,9,  -999.0,9,-999.000,9,-999.000,   0.083,3,-999.000,9,   39.14,2,   33.56,2, -999.00,9, -999.00,9, -999.00,9,-999.000,   0.1186,2,   0.0792,2,   0.0383,2,   0.0246,2,   0.0135,2,   0.0040,2,  -0.0002,4,   0.0173,2,   0.0194,2,   1.2520,     -999.0,9,     -999.0,9,     -999.0,9,     -999.0,9,     -999.0,9,     -999.0,9,     -999.0,9,-999.0000, -999.00
33RO20071215,        P18,     147,          1,          7,      12001,2,20080206,       1753,   -56.6668,  -102.9987,       4131,  3030.4,   1.3055,  34.7241,2,  34.7253,2,    197.2,2,   197.0,2,  110.70,2,   32.50,2,    0.00,2,    2.24,2,   0.068,2,   0.036,2,   0.0000,2,  2262.9,2,  2364.1,2,   -999.0,9,  -999.00,   7.6245,2,    25.00,-999.000,9,-999.0000,9, -999.00,9, -999.00,9,  -999.0,9,-999.000,9,-999.000,   0.087,3,-999.000,9,   39.00,2,   33.71,2, -999.00,9, -999.00,9, -999.00,9,-999.000,   0.1207,2,   0.0812,2,   0.0400,2,   0.0263,2,   0.0148,2,   0.0048,2,   0.0002,3,   0.0168,2,   0.0188,2,   1.0898,     -999.0,9,     -999.0,9,     -999.0,9,     -999.0,9,     -999.0,9,     -999.0,9,     -999.0,9,-999.0000, -999.00
33RO20071215,        P18,     147,          1,          6,      12033,2,20080206,       1753,   -56.6668,  -102.9987,       4131,  3168.2,   1.2175,  34.7220,2,  34.7229,2,    199.2,2,   198.9,2,  114.10,2,   32.60,2,    0.00,2,    2.25,2,   0.077,2,   0.041,2,   0.0000,2,  2263.1,6,  2364.8,2,   -999.0,9,  -999.00,   7.6164,2,    25.00,-999.000,9,-999.0000,9, -999.00,9, -999.00,9,  -999.0,9,-999.000,9,-999.000,   0.095,3,-999.000,9,   39.00,2,   34.05,2, -999.00,9, -999.00,9, -999.00,9,-999.000,   0.1195,2,   0.0800,2,   0.0388,2,   0.0250,2,   0.0139,2,   0.0042,2,   0.0000,4,   0.0172,2,   0.0193,2,   0.9908,     -999.0,9,     -999.0,9,     -999.0,9,     -999.0,9,     -999.0,9,     -999.0,9,     -999.0,9,-999.0000, -999.00
33RO20071215,        P18,     147,          1,          5,      12008,2,20080206,       1753,   -56.6668,  -102.9987,       4131,  3415.7,   1.0633,  34.7171,2,  34.7166,2,    201.4,2,   201.7,2,  119.80,2,   32.70,2,    0.00,2,    2.26,2,   0.084,2,   0.045,2,   0.0000,2,  2265.8,2,  2363.2,2,   -999.0,9,  -999.00,   7.6129,2,    25.00,-999.000,9,-999.0000,9, -999.00,9, -999.00,9,  -999.0,9,-999.000,9,-999.000,   0.104,3,-999.000,9,   39.00,2,   34.19,2, -999.00,9, -999.00,9, -999.00,9,-999.000,   0.1169,2,   0.0774,2,   0.0372,2,   0.0239,2,   0.0129,2,   0.0033,2,  -0.0005,4,   0.0175,2,   0.0197,2,   0.8163,     -999.0,9,     -999.0,9,     -999.0,9,     -999.0,9,     -999.0,9,     -999.0,9,     -999.0,9,-999.0000, -999.00
33RO20071215,        P18,     147,          1,          4,      12009,2,20080206,       1753,   -56.6668,  -102.9987,       4131,  3662.1,   0.9070,  34.7131,2,  34.7142,2,    205.0,2,   205.1,2,  124.10,6,   32.70,6,    0.00,6,    2.27,2,   0.115,2,   0.062,2,   0.0000,2,  2265.1,2,  2366.3,2,   -999.0,9,  -999.00,   7.6190,2,    25.00,-999.000,9,-999.0000,9, -999.00,9, -999.00,9,  -999.0,9,-999.000,9,-999.000,   0.134,3,-999.000,9,   39.62,2,   34.02,2, -999.00,9, -999.00,9, -999.00,9,-999.000,   0.1159,2,   0.0767,2,   0.0365,2,   0.0231,2,   0.0124,2,   0.0031,2,  -0.0006,4,   0.0177,2,   0.0200,2,   0.6394,     -999.0,9,     -999.0,9,     -999.0,9,     -999.0,9,     -999.0,9,     -999.0,9,     -999.0,9,-999.0000, -999.00
33RO20071215,        P18,     147,          1,          3,      12006,2,20080206,       1753,   -56.6668,  -102.9987,       4131,  3916.3,   0.7256,  34.7091,2,  34.7110,2,    208.3,2,   207.9,2,  130.10,6,   32.80,6,    0.00,6,    2.28,2,   0.130,2,   0.068,2,   0.0000,2,  2266.9,2,  2367.6,2,   -999.0,9,  -999.00,   7.6080,2,    25.00,-999.000,9,-999.0000,9, -999.00,9, -999.00,9,  -999.0,9,-999.000,9,-999.000,   0.151,3,-999.000,9,   39.27,2,   34.17,2, -999.00,9, -999.00,9, -999.00,9,-999.000,   0.1164,2,   0.0773,2,   0.0370,2,   0.0239,2,   0.0132,2,   0.0037,2,  -0.0002,4,   0.0173,2,   0.0196,2,   0.4371,     -999.0,9,     -999.0,9,     -999.0,9,     -999.0,9,     -999.0,9,     -999.0,9,     -999.0,9,-999.0000, -999.00
33RO20071215,        P18,     147,          1,          2,      12007,2,20080206,       1753,   -56.6668,  -102.9987,       4131,  4166.8,   0.6584,  34.7077,2,  34.7090,2,    210.1,2,   209.5,2,  133.30,6,   32.90,6,    0.00,6,    2.29,2,   0.142,6,   0.078,6,   0.0000,6,  2268.4,2,  2369.0,2,   -999.0,9,  -999.00,   7.6206,2,    25.00,-999.000,9,-999.0000,9, -999.00,9, -999.00,9,  -999.0,9,-999.000,9,-999.000,   0.166,3,-999.000,9,   39.09,2,   34.21,2, -999.00,9, -999.00,9, -999.00,9,-999.000,   0.1141,2,   0.0752,2,   0.0353,2,   0.0221,2,   0.0117,2,   0.0027,2,  -0.0009,4,   0.0180,2,   0.0204,2,   0.3457,     -999.0,9,     -999.0,9,     -999.0,9,     -999.0,9,     -999.0,9,     -999.0,9,     -999.0,9,-999.0000, -999.00
33RO20071215,        P18,     147,          1,          1,      12035,2,20080206,       1753,   -56.6668,  -102.9987,       4131,  4192.4,   0.6562,  34.7075,2,  34.7089,2,    210.1,2,   210.1,2,  133.40,2,   32.90,2,    0.01,2,    2.29,2,   0.147,2,   0.079,2,   0.0000,2,  2266.8,6,  2370.1,2,   -999.0,9,  -999.00,   7.6126,2,    25.00,-999.000,9,-999.0000,9, -999.00,9, -999.00,9,  -999.0,9,-999.000,9,-999.000,   0.187,3,-999.000,9,   39.37,2,   34.49,2, -999.00,9, -999.00,9, -999.00,9,-999.000,   0.1165,2,   0.0771,2,   0.0366,2,   0.0235,2,   0.0128,2,   0.0034,2,  -0.0004,4,   0.0176,2,   0.0199,2,   0.3408,     -999.0,9,     -999.0,9,     -999.0,9,     -999.0,9,     -999.0,9,     -999.0,9,     -999.0,9,-999.0000, -999.00