BOTTLE,20220818CCHSIOAMB
EXPOCODE,SECT_ID,STNNBR,CASTNO,SAMPNO,BTLNBR,BTLNBR_FLAG_W,DATE,TIME,LATITUDE,LONGITUDE,DEPTH,CTDPRS,CTDTMP,CTDSAL,CTDSAL_FLAG_W,SALNTY,SALNTY_FLAG_W,CTDOXY,CTDOXY_FLAG_W,OXYGEN,OXYGEN_FLAG_W,SILCAT,SILCAT_FLAG_W,NITRAT,NITRAT_FLAG_W,NITRIT,NITRIT_FLAG_W,PHSPHT,PHSPHT_FLAG_W,CFC-11,CFC-11_FLAG_W,CFC-12,CFC-12_FLAG_W,SF6,SF6_FLAG_W,TCARBN,TCARBN_FLAG_W,ALKALI,ALKALI_FLAG_W,FCO2,FCO2_FLAG_W,FCO2TMP,PH_SWS,PH_SWS_FLAG_W,PH_TMP,TRITUM,TRITUM_FLAG_W,HELIUM,HELIUM_FLAG_W,DELHE3,DELHE3_FLAG_W,DELC13,DELC13_FLAG_W,DELC14,DELC14_FLAG_W,NEON,NEON_FLAG_W,NEONER,CCL4,CCL4_FLAG_W,POC,POC_FLAG_W,DOC,DOC_FLAG_W,TDN,TDN_FLAG_W,DON,DON_FLAG_W,CHLORA,CHLORA_FLAG_W,ARGON,ARGON_FLAG_W,TRITER,CDOM325,CDOM325_FLAG_W,CDOM340,CDOM340_FLAG_W,CDOM380,CDOM380_FLAG_W,CDOM412,CDOM412_FLAG_W,CDOM443,CDOM443_FLAG_W,CDOM490,CDOM490_FLAG_W,CDOM555,CDOM555_FLAG_W,CDOMSL,CDOMSL_FLAG_W,CDOMSN,CDOMSN_FLAG_W,THETA,D18O_NO3,D18O_NO3_FLAG_W,CDOM2C,CDOM2C_FLAG_W,CDOM3C,CDOM3C_FLAG_W,LAB_DEN,LAB_DEN_FLAG_W,DELSI30,DELSI30_FLAG_W,N2,N2_FLAG_W,D15N_NO3,D15N_NO3_FLAG_W,HELIER,DELHER
,,,,,,,,,,,METERS,DBAR,ITS-90,PSS-78,,PSS-78,,UMOL/KG,,UMOL/KG,,UMOL/KG,,UMOL/KG,,UMOL/KG,,UMOL/KG,,PMOL/KG,,PMOL/KG,,FMOL/KG,,UMOL/KG,,UMOL/KG,,UATM,,DEG C,,,DEG C,TU,,NMOL/KG,,PERCNT,,/MILLE,,/MILLE,,NMOL/KG,,NMOL/KG,PMOL/KG,,UG/KG,,UMOL/KG,,UMOL/KG,,UMOL/KG,,UG/KG,,UMOL/KG,,TU,1/M,,1/M,,1/M,,1/M,,1/M,,1/M,,1/M,,1/NM,,1/NM,,DEG C,/MILLE,,,,,,,,/MILLE,,UMOL/KG,,/MILLE,,NMOL/KG,PERCNT
33RO20071215,        P18,      38,          1,         11,      12003,2,20071227,       1200,     3.0003,  -110.0020,       3888,  1666.6,   2.8169,  34.6217,2,  34.6221,2,     87.5,2,    86.2,2,  137.80,3,   39.80,3,    0.00,3,    2.77,3,   0.000,2,  -0.001,2,   0.0345,2,  -999.0,9,  -999.0,9,   -999.0,9,  -999.00,   7.4784,2,    25.00,-999.000,9,-999.0000,9, -999.00,9, -999.00,9,  -999.0,9,-999.000,9,-999.000,-999.000,9,-999.000,9,   37.54,2,   40.97,2, -999.00,9, -999.00,9, -999.00,9,-999.000,-999.0000,9,-999.0000,9,-999.0000,9,-999.0000,9,-999.0000,9,-999.0000,9,-999.0000,9,-999.0000,9,-999.0000,9,   2.6972,     -999.0,9,     -999.0,9,     -999.0,9,     -999.0,9,     -999.0,9,     -999.0,9,     -999.0,9,-999.0000, -999.00
33RO20071215,        P18,      38,          1,         10,      12032,4,20071227,       1200,     3.0003,  -110.0020,       3888,  1866.3,   2.5184,  34.6347,2,  34.6354,2,     95.7,2,    86.2,4,  130.90,2,   40.20,2,    0.00,2,    2.82,2,-999.000,9,-999.000,9,-999.0000,9,  2350.6,2,  2411.1,2,   1463.0,2,    20.00,   7.4938,2,    25.00,-999.000,9,-999.0000,9, -999.00,9, -999.00,9,  -999.0,9,-999.000,9,-999.000,-999.000,9,-999.000,9,   38.26,2,   41.30,2, -999.00,9, -999.00,9, -999.00,9,-999.000,-999.0000,9,-999.0000,9,-999.0000,9,-999.0000,9,-999.0000,9,-999.0000,9,-999.0000,9,-999.0000,9,-999.0000,9,   2.3856,     -999.0,9,     -999.0,9,     -999.0,9,     -999.0,9,     -999.0,9,     -999.0,9,     -999.0,9,-999.0000, -999.00
33RO20071215,        P18,      38,          1,          9,      12002,2,20071227,       1200,     3.0003,  -110.0020,       3888,  2067.3,   2.2542,  34.6457,2,  34.6467,2,    104.3,2,   103.8,2,  142.10,2,   39.30,2,    0.00,2,    2.71,2,   0.001,2,   0.001,2,   0.0000,2,  -999.0,9,  -999.0,9,   -999.0,9,  -999.00,   7.5107,2,    25.00,-999.000,9,-999.0000,9, -999.00,9, -999.00,9,  -999.0,9,-999.000,9,-999.000,   0.003,3,-999.000,9,   37.86,2,   40.75,2, -999.00,9, -999.00,9, -999.00,9,-999.000,-999.0000,9,-999.0000,9,-999.0000,9,-999.0000,9,-999.0000,9,-999.0000,9,-999.0000,9,-999.0000,9,-999.0000,9,   2.1080,     -999.0,9,     -999.0,9,     -999.0,9,     -999.0,9,     -999.0,9,     -999.0,9,     -999.0,9,-999.0000, -999.00
33RO20071215,        P18,      38,          1,          8,      12021,2,20071227,       1200,     3.0003,  -110.0020,       3888,  2266.1,   2.0305,  34.6571,2,  34.6578,2,    112.4,2,   110.8,2,  146.40,2,   38.70,2,    0.00,2,    2.66,2,-999.000,9,-999.000,9,-999.0000,9,  2351.9,2,  2422.5,2,   1362.0,6,    20.00,   7.5225,2,    25.00,-999.000,9,-999.0000,9, -999.00,9, -999.00,9,  -999.0,9,-999.000,9,-999.000,-999.000,9,-999.000,9,   37.54,2,   40.35,2, -999.00,9, -999.00,9, -999.00,9,-999.000,-999.0000,9,-999.0000,9,-999.0000,9,-999.0000,9,-999.0000,9,-999.0000,9,-999.0000,9,-999.0000,9,-999.0000,9,   1.8706,     -999.0,9,     -999.0,9,     -999.0,9,     -999.0,9,     -999.0,9,     -999.0,9,     -999.0,9,-999.0000, -999.00
33RO20071215,        P18,      38,          1,          7,      12001,2,20071227,       1200,     3.0003,  -110.0020,       3888,  2466.5,   1.8504,  34.6675,2,  34.6687,2,    118.7,2,   114.2,3,  150.50,2,   38.30,2,    0.00,2,    2.61,2,  -0.001,2,  -0.001,2,   0.0000,2,  -999.0,9,  -999.0,9,   -999.0,9,  -999.00,   7.5378,2,    25.00,-999.000,9,-999.0000,9, -999.00,9, -999.00,9,  -999.0,9,-999.000,9,-999.000,   0.002,3,-999.000,9,   37.28,2,   40.11,2, -999.00,9, -999.00,9, -999.00,9,-999.000,-999.0000,9,-999.0000,9,-999.0000,9,-999.0000,9,-999.0000,9,-999.0000,9,-999.0000,9,-999.0000,9,-999.0000,9,   1.6758,     -999.0,9,     -999.0,9,     -999.0,9,     -999.0,9,     -999.0,9,     -999.0,9,     -999.0,9,-999.0000, -999.00
33RO20071215,        P18,      38,          1,          6,      12033,2,20071227,       1200,     3.0003,  -110.0020,       3888,  2683.0,   1.7757,  34.6711,2,  34.6719,2,    124.2,2,   124.6,2,  150.70,2,   38.00,2,    0.00,2,    2.58,2,-999.000,9,-999.000,9,-999.0000,9,  2348.0,2,  2426.6,2,   1302.9,2,    20.00,   7.5342,2,    25.00,-999.000,9,-999.0000,9, -999.00,9, -999.00,9,  -999.0,9,-999.000,9,-999.000,-999.000,9,-999.000,9,   37.26,2,   38.99,2, -999.00,9, -999.00,9, -999.00,9,-999.000,-999.0000,9,-999.0000,9,-999.0000,9,-999.0000,9,-999.0000,9,-999.0000,9,-999.0000,9,-999.0000,9,-999.0000,9,   1.5828,     -999.0,9,     -999.0,9,     -999.0,9,     -999.0,9,     -999.0,9,     -999.0,9,     -999.0,9,-999.0000, -999.00
33RO20071215,        P18,      38,          1,          5,      12008,2,20071227,       1200,     3.0003,  -110.0020,       3888,  2932.7,   1.7408,  34.6730,2,  34.6731,2,    129.1,2,   120.8,3,  149.20,2,   37.70,2,    0.00,2,    2.56,2,   0.002,2,   0.000,2,   0.0240,2,  -999.0,9,  -999.0,9,   -999.0,9,  -999.00,   7.5462,2,    25.00,-999.000,9,-999.0000,9, -999.00,9, -999.00,9,  -999.0,9,-999.000,9,-999.000,   0.007,3,-999.000,9,   38.31,2,   39.33,2, -999.00,9, -999.00,9, -999.00,9,-999.000,-999.0000,9,-999.0000,9,-999.0000,9,-999.0000,9,-999.0000,9,-999.0000,9,-999.0000,9,-999.0000,9,-999.0000,9,   1.5251,     -999.0,9,     -999.0,9,     -999.0,9,     -999.0,9,     -999.0,9,     -999.0,9,     -999.0,9,-999.0000, -999.00
33RO20071215,        P18,      38,          1,          4,      12009,2,20071227,       1200,     3.0003,  -110.0020,       3888,  3182.7,   1.6471,  34.6783,2,  34.6781,2,    136.0,2,   135.5,2,  149.60,6,   37.30,6,    0.00,6,    2.51,2,-999.000,9,-999.000,9,-999.0000,9,  2340.8,2,  2421.9,4,   1239.6,2,    20.00,   7.5615,2,    25.00,-999.000,9,-999.0000,9, -999.00,9, -999.00,9,  -999.0,9,-999.000,9,-999.000,-999.000,9,-999.000,9,   38.40,2,   38.50,2, -999.00,9, -999.00,9, -999.00,9,-999.000,-999.0000,9,-999.0000,9,-999.0000,9,-999.0000,9,-999.0000,9,-999.0000,9,-999.0000,9,-999.0000,9,-999.0000,9,   1.4092,     -999.0,9,     -999.0,9,     -999.0,9,     -999.0,9,     -999.0,9,     -999.0,9,     -999.0,9,-999.0000, -999.00
33RO20071215,        P18,      38,          1,          3,      12006,2,20071227,       1200,     3.0003,  -110.0020,       3888,  3433.1,   1.5487,  34.6850,2,  34.6860,2,    143.3,2,   127.9,3,  150.80,6,   36.90,6,    0.00,6,    2.46,2,   0.000,2,  -0.001,2,   0.0000,2,  -999.0,9,  -999.0,9,   -999.0,9,  -999.00,   7.5838,2,    25.00,-999.000,9,-999.0000,9, -999.00,9, -999.00,9,  -999.0,9,-999.000,9,-999.000,   0.003,3,-999.000,9,   37.58,2,   38.60,2, -999.00,9, -999.00,9, -999.00,9,-999.000,-999.0000,9,-999.0000,9,-999.0000,9,-999.0000,9,-999.0000,9,-999.0000,9,-999.0000,9,-999.0000,9,-999.0000,9,   1.2881,     -999.0,9,     -999.0,9,     -999.0,9,     -999.0,9,     -999.0,9,     -999.0,9,     -999.0,9,-999.0000, -999.00
33RO20071215,        P18,      38,          1,          2,      12007,2,20071227,       1200,     3.0003,  -110.0020,       3888,  3682.2,   1.4614,  34.6905,2,  34.6923,2,    149.2,2,   147.5,2,  151.70,6,   36.50,6,    0.00,6,    2.44,2,-999.000,9,-999.000,9,-999.0000,9,  2337.6,2,  2429.3,2,   1160.8,2,    20.00,   7.5885,2,    25.00,-999.000,9,-999.0000,9, -999.00,9, -999.00,9,  -999.0,9,-999.000,9,-999.000,-999.000,9,-999.000,9,   36.67,2,   37.68,2, -999.00,9, -999.00,9, -999.00,9,-999.000,-999.0000,9,-999.0000,9,-999.0000,9,-999.0000,9,-999.0000,9,-999.0000,9,-999.0000,9,-999.0000,9,-999.0000,9,   1.1774,     -999.0,9,     -999.0,9,     -999.0,9,     -999.0,9,     -999.0,9,     -999.0,9,     -999.0,9,-999.0000, -999.00
33RO20071215,        P18,      38,          1,          1,      12035,2,20071227,       1200,     3.0003,  -110.0020,       3888,  3932.6,   1.4781,  34.6909,2,  34.6922,2,    149.8,2,   135.0,3,  152.10,2,   36.70,2,    0.00,2,    2.44,2,   0.001,6,   0.000,6,   0.0000,6,  2336.8,6,  2433.8,2,   1141.7,2,    20.00,   7.5875,2,    25.00,-999.000,9,-999.0000,9, -999.00,9, -999.00,9,  -999.0,9,-999.000,9,-999.000,   0.004,3,-999.000,9,   38.21,2,   37.86,2, -999.00,9, -999.00,9, -999.00,9,-999.000,-999.0000,9,-999.0000,9,-999.0000,9,-999.0000,9,-999.0000,9,-999.0000,9,-999.0000,9,-999.0000,9,-999.0000,9,   1.1671,     -999.0,9,     -999.0,9,     -999.0,9,     -999.0,9,     -999.0,9,     -999.0,9,     -999.0,9,-999.0000, -999.00