BOTTLE,20220818CCHSIOAMB
EXPOCODE,SECT_ID,STNNBR,CASTNO,SAMPNO,BTLNBR,BTLNBR_FLAG_W,DATE,TIME,LATITUDE,LONGITUDE,DEPTH,CTDPRS,CTDTMP,CTDSAL,CTDSAL_FLAG_W,SALNTY,SALNTY_FLAG_W,CTDOXY,CTDOXY_FLAG_W,OXYGEN,OXYGEN_FLAG_W,SILCAT,SILCAT_FLAG_W,NITRAT,NITRAT_FLAG_W,NITRIT,NITRIT_FLAG_W,PHSPHT,PHSPHT_FLAG_W,CFC-11,CFC-11_FLAG_W,CFC-12,CFC-12_FLAG_W,SF6,SF6_FLAG_W,TCARBN,TCARBN_FLAG_W,ALKALI,ALKALI_FLAG_W,FCO2,FCO2_FLAG_W,FCO2TMP,PH_SWS,PH_SWS_FLAG_W,PH_TMP,TRITUM,TRITUM_FLAG_W,HELIUM,HELIUM_FLAG_W,DELHE3,DELHE3_FLAG_W,DELC13,DELC13_FLAG_W,DELC14,DELC14_FLAG_W,NEON,NEON_FLAG_W,NEONER,CCL4,CCL4_FLAG_W,POC,POC_FLAG_W,DOC,DOC_FLAG_W,TDN,TDN_FLAG_W,DON,DON_FLAG_W,CHLORA,CHLORA_FLAG_W,ARGON,ARGON_FLAG_W,TRITER,CDOM325,CDOM325_FLAG_W,CDOM340,CDOM340_FLAG_W,CDOM380,CDOM380_FLAG_W,CDOM412,CDOM412_FLAG_W,CDOM443,CDOM443_FLAG_W,CDOM490,CDOM490_FLAG_W,CDOM555,CDOM555_FLAG_W,CDOMSL,CDOMSL_FLAG_W,CDOMSN,CDOMSN_FLAG_W,THETA,D18O_NO3,D18O_NO3_FLAG_W,CDOM2C,CDOM2C_FLAG_W,CDOM3C,CDOM3C_FLAG_W,LAB_DEN,LAB_DEN_FLAG_W,DELSI30,DELSI30_FLAG_W,N2,N2_FLAG_W,D15N_NO3,D15N_NO3_FLAG_W,HELIER,DELHER
,,,,,,,,,,,METERS,DBAR,ITS-90,PSS-78,,PSS-78,,UMOL/KG,,UMOL/KG,,UMOL/KG,,UMOL/KG,,UMOL/KG,,UMOL/KG,,PMOL/KG,,PMOL/KG,,FMOL/KG,,UMOL/KG,,UMOL/KG,,UATM,,DEG C,,,DEG C,TU,,NMOL/KG,,PERCNT,,/MILLE,,/MILLE,,NMOL/KG,,NMOL/KG,PMOL/KG,,UG/KG,,UMOL/KG,,UMOL/KG,,UMOL/KG,,UG/KG,,UMOL/KG,,TU,1/M,,1/M,,1/M,,1/M,,1/M,,1/M,,1/M,,1/NM,,1/NM,,DEG C,/MILLE,,,,,,,,/MILLE,,UMOL/KG,,/MILLE,,NMOL/KG,PERCNT
33RO20071215,        P18,     143,          1,         24,      11024,2,20080205,       1040,   -54.3332,  -103.0000,       4326,     4.4,   8.3191,  34.1576,2,  34.1576,2,    287.8,2,   288.5,2,    1.50,2,   16.60,2,    0.23,2,    1.21,2,   4.061,2,   2.298,2,   1.7739,2,  2096.5,6,  2273.2,2,    605.7,2,    20.00,   7.8194,2,    25.00,-999.000,9,-999.0000,9, -999.00,9,    1.43,4,  -999.0,1,-999.000,9,-999.000,-999.000,9,-999.000,9, -999.00,9, -999.00,9, -999.00,9, -999.00,9, -999.00,1,-999.000,-999.0000,9,-999.0000,9,-999.0000,9,-999.0000,9,-999.0000,9,-999.0000,9,-999.0000,9,-999.0000,9,-999.0000,9,   8.3187,     -999.0,1,     -999.0,9,     -999.0,9,     -999.0,9,     -999.0,9,     -999.0,1,     -999.0,9,-999.0000, -999.00
33RO20071215,        P18,     143,          1,         23,      11023,2,20080205,       1040,   -54.3332,  -103.0000,       4326,    32.5,   8.3218,  34.1581,2,  34.1566,2,    286.2,2,   288.1,2,    1.50,2,   16.70,2,    0.24,2,    1.21,2,   4.036,2,   2.285,2,   1.6750,2,  2098.3,2,  2273.3,2,   -999.0,9,  -999.00,   7.8179,2,    25.00,-999.000,9,-999.0000,9, -999.00,9, -999.00,9,  -999.0,9,-999.000,9,-999.000,-999.000,9,-999.000,9, -999.00,9, -999.00,9, -999.00,9, -999.00,9, -999.00,9,-999.000,-999.0000,9,-999.0000,9,-999.0000,9,-999.0000,9,-999.0000,9,-999.0000,9,-999.0000,9,-999.0000,9,-999.0000,9,   8.3185,     -999.0,9,     -999.0,9,     -999.0,9,     -999.0,9,     -999.0,9,     -999.0,9,     -999.0,9,-999.0000, -999.00
33RO20071215,        P18,     143,          1,         22,      11022,2,20080205,       1040,   -54.3332,  -103.0000,       4326,    57.8,   8.3056,  34.1604,2,  34.1589,2,    287.0,2,   287.7,2,    1.50,2,   16.60,2,    0.24,2,    1.22,2,   4.065,2,   2.286,2,   1.6747,2,  2097.9,2,  2273.4,2,    606.3,2,    20.00,   7.8125,2,    25.00,-999.000,9,-999.0000,9, -999.00,9, -999.00,9,  -999.0,9,-999.000,9,-999.000,-999.000,9,-999.000,9, -999.00,9, -999.00,9, -999.00,9, -999.00,9, -999.00,9,-999.000,-999.0000,9,-999.0000,9,-999.0000,9,-999.0000,9,-999.0000,9,-999.0000,9,-999.0000,9,-999.0000,9,-999.0000,9,   8.2997,     -999.0,9,     -999.0,9,     -999.0,9,     -999.0,9,     -999.0,9,     -999.0,9,     -999.0,9,-999.0000, -999.00
33RO20071215,        P18,     143,          1,         21,      11021,2,20080205,       1040,   -54.3332,  -103.0000,       4326,    82.1,   8.0849,  34.1776,2,  34.1758,2,    286.2,2,   286.9,2,    1.50,2,   16.50,2,    0.26,2,    1.23,2,   4.072,2,   2.297,2,   1.7575,2,  2099.7,2,  2274.6,2,   -999.0,9,  -999.00,   7.8172,2,    25.00,-999.000,9,-999.0000,9, -999.00,9, -999.00,9,  -999.0,9,-999.000,9,-999.000,-999.000,9,-999.000,9, -999.00,9, -999.00,9, -999.00,9, -999.00,9, -999.00,9,-999.000,-999.0000,9,-999.0000,9,-999.0000,9,-999.0000,9,-999.0000,9,-999.0000,9,-999.0000,9,-999.0000,9,-999.0000,9,   8.0767,     -999.0,9,     -999.0,9,     -999.0,9,     -999.0,9,     -999.0,9,     -999.0,9,     -999.0,9,-999.0000, -999.00
33RO20071215,        P18,     143,          1,         20,      11020,2,20080205,       1040,   -54.3332,  -103.0000,       4326,   106.6,   7.9245,  34.1784,2,  34.1799,2,    286.1,2,   287.3,2,    2.00,2,   16.90,2,    0.28,2,    1.27,2,   4.126,2,   2.317,2,   1.7952,2,  2100.7,2,  2274.0,2,    620.4,2,    20.00,   7.8037,2,    25.00,-999.000,9,-999.0000,9, -999.00,9, -999.00,9,  -999.0,9,-999.000,9,-999.000,-999.000,9,-999.000,9, -999.00,9, -999.00,9, -999.00,9, -999.00,9, -999.00,9,-999.000,-999.0000,9,-999.0000,9,-999.0000,9,-999.0000,9,-999.0000,9,-999.0000,9,-999.0000,9,-999.0000,9,-999.0000,9,   7.9140,     -999.0,9,     -999.0,9,     -999.0,9,     -999.0,9,     -999.0,9,     -999.0,9,     -999.0,9,-999.0000, -999.00
33RO20071215,        P18,     143,          1,         19,      11019,2,20080205,       1040,   -54.3332,  -103.0000,       4326,   141.1,   6.3336,  34.2155,2,  34.2158,2,    289.1,2,   290.2,2,    5.00,2,   19.60,2,    0.27,2,    1.41,2,   4.375,2,   2.451,2,   1.7702,2,  2116.8,2,  2273.2,2,   -999.0,9,  -999.00,   7.7643,2,    25.00,-999.000,9,-999.0000,9, -999.00,9, -999.00,9,  -999.0,9,-999.000,9,-999.000,-999.000,9,-999.000,9, -999.00,9, -999.00,9, -999.00,9, -999.00,9, -999.00,9,-999.000,-999.0000,9,-999.0000,9,-999.0000,9,-999.0000,9,-999.0000,9,-999.0000,9,-999.0000,9,-999.0000,9,-999.0000,9,   6.3213,     -999.0,9,     -999.0,9,     -999.0,9,     -999.0,9,     -999.0,9,     -999.0,9,     -999.0,9,-999.0000, -999.00
33RO20071215,        P18,     143,          1,         18,      11018,2,20080205,       1040,   -54.3332,  -103.0000,       4326,   199.4,   6.2213,  34.2129,2,  34.2124,2,    290.3,2,   291.8,2,    5.00,2,   20.00,2,    0.02,2,    1.41,2,   4.395,2,   2.453,2,   1.8497,2,  2118.5,2,  2273.1,2,    687.4,2,    20.00,   7.7682,2,    25.00,-999.000,9,-999.0000,9, -999.00,9, -999.00,9,  -999.0,9,-999.000,9,-999.000,-999.000,9,-999.000,9, -999.00,9, -999.00,9, -999.00,9, -999.00,9, -999.00,9,-999.000,-999.0000,9,-999.0000,9,-999.0000,9,-999.0000,9,-999.0000,9,-999.0000,9,-999.0000,9,-999.0000,9,-999.0000,9,   6.2041,     -999.0,9,     -999.0,9,     -999.0,9,     -999.0,9,     -999.0,9,     -999.0,9,     -999.0,9,-999.0000, -999.00
33RO20071215,        P18,     143,          1,         17,      11017,2,20080205,       1040,   -54.3332,  -103.0000,       4326,   273.8,   6.0891,  34.2124,2,  34.2135,2,    289.9,2,   292.2,2,    5.20,2,   20.30,2,    0.01,2,    1.43,2,   4.399,2,   2.454,2,   1.8679,2,  2119.4,2,  2272.7,2,    690.4,2,    20.00,   7.7698,2,    25.00,-999.000,9,-999.0000,9, -999.00,9, -999.00,9,  -999.0,9,-999.000,9,-999.000,-999.000,9,-999.000,9, -999.00,9, -999.00,9, -999.00,9, -999.00,9, -999.00,9,-999.000,-999.0000,9,-999.0000,9,-999.0000,9,-999.0000,9,-999.0000,9,-999.0000,9,-999.0000,9,-999.0000,9,-999.0000,9,   6.0656,     -999.0,9,     -999.0,9,     -999.0,9,     -999.0,9,     -999.0,9,     -999.0,9,     -999.0,9,-999.0000, -999.00
33RO20071215,        P18,     143,          1,         16,      11016,2,20080205,       1040,   -54.3332,  -103.0000,       4326,   350.5,   6.1727,  34.2589,2,  34.2562,2,    279.5,2,   280.1,2,    6.70,2,   21.20,2,    0.01,2,    1.50,2,-999.000,9,-999.000,9,-999.0000,9,  2127.6,2,  2272.4,2,   -999.0,9,  -999.00,   7.7507,2,    25.00,-999.000,9,-999.0000,9, -999.00,9, -999.00,9,  -999.0,9,-999.000,9,-999.000,-999.000,9,-999.000,9, -999.00,9, -999.00,9, -999.00,9, -999.00,9, -999.00,9,-999.000,-999.0000,9,-999.0000,9,-999.0000,9,-999.0000,9,-999.0000,9,-999.0000,9,-999.0000,9,-999.0000,9,-999.0000,9,   6.1421,     -999.0,9,     -999.0,9,     -999.0,9,     -999.0,9,     -999.0,9,     -999.0,9,     -999.0,9,-999.0000, -999.00
33RO20071215,        P18,     143,          1,         15,      11015,2,20080205,       1040,   -54.3332,  -103.0000,       4326,   432.5,   6.0715,  34.2678,2,  34.2668,2,    276.5,2,   278.3,2,    7.40,2,   21.70,2,    0.01,2,    1.52,2,   4.255,2,   2.327,2,   1.5506,2,  2130.5,2,  2271.9,2,    731.6,2,    20.00,   7.7517,2,    25.00,-999.000,9,-999.0000,9, -999.00,9, -999.00,9,  -999.0,9,-999.000,9,-999.000,-999.000,9,-999.000,9, -999.00,9, -999.00,9, -999.00,9, -999.00,9, -999.00,9,-999.000,-999.0000,9,-999.0000,9,-999.0000,9,-999.0000,9,-999.0000,9,-999.0000,9,-999.0000,9,-999.0000,9,-999.0000,9,   6.0339,     -999.0,9,     -999.0,9,     -999.0,9,     -999.0,9,     -999.0,9,     -999.0,9,     -999.0,9,-999.0000, -999.00
33RO20071215,        P18,     143,          1,         14,      11014,2,20080205,       1040,   -54.3332,  -103.0000,       4326,   550.5,   5.7649,  34.2459,2,  34.2446,2,    272.3,2,   274.3,2,    8.70,2,   22.70,2,    0.01,2,    1.59,2,-999.000,9,-999.000,9,-999.0000,9,  2133.1,2,  2280.5,4,    758.4,2,    20.00,   7.7389,2,    25.00,-999.000,9,-999.0000,9, -999.00,9, -999.00,9,  -999.0,9,-999.000,9,-999.000,-999.000,9,-999.000,9, -999.00,9, -999.00,9, -999.00,9, -999.00,9, -999.00,9,-999.000,-999.0000,9,-999.0000,9,-999.0000,9,-999.0000,9,-999.0000,9,-999.0000,9,-999.0000,9,-999.0000,9,-999.0000,9,   5.7178,     -999.0,9,     -999.0,9,     -999.0,9,     -999.0,9,     -999.0,9,     -999.0,9,     -999.0,9,-999.0000, -999.00
33RO20071215,        P18,     143,          1,         13,      11013,2,20080205,       1040,   -54.3332,  -103.0000,       4326,   699.4,   5.3178,  34.2503,2,  34.2484,2,    243.0,2,   244.0,2,   15.30,2,   26.50,2,    0.00,2,    1.83,2,   3.424,2,   1.801,2,   1.0442,2,  2155.7,2,  2277.6,4,    833.4,2,    20.00,   7.6927,2,    25.00,-999.000,9,-999.0000,9, -999.00,9, -999.00,9,  -999.0,9,-999.000,9,-999.000,-999.000,9,-999.000,9, -999.00,9, -999.00,9, -999.00,9, -999.00,9, -999.00,9,-999.000,-999.0000,9,-999.0000,9,-999.0000,9,-999.0000,9,-999.0000,9,-999.0000,9,-999.0000,9,-999.0000,9,-999.0000,9,   5.2597,     -999.0,9,     -999.0,9,     -999.0,9,     -999.0,9,     -999.0,9,     -999.0,9,     -999.0,9,-999.0000, -999.00
33RO20071215,        P18,     143,          1,         12,      11012,2,20080205,       1040,   -54.3332,  -103.0000,       4326,   850.6,   4.6745,  34.2808,2,  34.2810,2,    220.7,2,   221.7,2,   24.60,2,   29.40,2,    0.00,2,    2.03,2,-999.000,9,-999.000,9,-999.0000,9,  2176.9,2,  2285.9,4,   -999.0,9,  -999.00,   7.6460,2,    25.00,-999.000,9,-999.0000,9, -999.00,9, -999.00,9,  -999.0,9,-999.000,9,-999.000,-999.000,9,-999.000,9, -999.00,9, -999.00,9, -999.00,9, -999.00,9, -999.00,9,-999.000,-999.0000,9,-999.0000,9,-999.0000,9,-999.0000,9,-999.0000,9,-999.0000,9,-999.0000,9,-999.0000,9,-999.0000,9,   4.6070,     -999.0,9,     -999.0,9,     -999.0,9,     -999.0,9,     -999.0,9,     -999.0,9,     -999.0,9,-999.0000, -999.00
33RO20071215,        P18,     143,          1,         11,      11010,2,20080205,       1040,   -54.3332,  -103.0000,       4326,  1000.8,   4.0062,  34.3117,2,  34.3096,2,    208.2,2,   208.5,2,   34.50,2,   31.70,2,    0.00,2,    2.19,2,   2.041,2,   1.016,2,   0.4579,2,  2194.9,2,  2297.1,2,   1029.0,2,    20.00,   7.6165,2,    25.00,-999.000,9,-999.0000,9, -999.00,9, -999.00,9,  -999.0,9,-999.000,9,-999.000,-999.000,9,-999.000,9, -999.00,9, -999.00,9, -999.00,9, -999.00,9, -999.00,9,-999.000,-999.0000,9,-999.0000,9,-999.0000,9,-999.0000,9,-999.0000,9,-999.0000,9,-999.0000,9,-999.0000,9,-999.0000,9,   3.9308,     -999.0,9,     -999.0,9,     -999.0,9,     -999.0,9,     -999.0,9,     -999.0,9,     -999.0,9,-999.0000, -999.00
33RO20071215,        P18,     143,          1,         10,      11011,2,20080205,       1040,   -54.3332,  -103.0000,       4326,  1167.8,   3.3879,  34.3595,2,  34.3596,2,    196.6,2,   196.7,2,   46.20,2,   33.30,2,    0.00,2,    2.31,2,-999.000,9,-999.000,9,-999.0000,9,  2213.0,2,  2309.7,2,   -999.0,9,  -999.00,   7.5962,2,    25.00,-999.000,9,-999.0000,9, -999.00,9, -999.00,9,  -999.0,9,-999.000,9,-999.000,-999.000,9,-999.000,9, -999.00,9, -999.00,9, -999.00,9, -999.00,9, -999.00,9,-999.000,-999.0000,9,-999.0000,9,-999.0000,9,-999.0000,9,-999.0000,9,-999.0000,9,-999.0000,9,-999.0000,9,-999.0000,9,   3.3038,     -999.0,9,     -999.0,9,     -999.0,9,     -999.0,9,     -999.0,9,     -999.0,9,     -999.0,9,-999.0000, -999.00
33RO20071215,        P18,     143,          1,          9,      11009,2,20080205,       1040,   -54.3332,  -103.0000,       4326,  1400.6,   2.8415,  34.4601,2,  34.4580,2,    179.8,2,   181.0,2,   62.50,2,   34.60,2,    0.00,2,    2.40,2,   0.816,2,   0.417,2,   0.1434,2,  2235.0,2,  2323.5,2,   1170.3,2,    20.00,   7.5724,2,    25.00,-999.000,9,-999.0000,9, -999.00,9, -999.00,9,  -999.0,9,-999.000,9,-999.000,-999.000,9,-999.000,9, -999.00,9, -999.00,9, -999.00,9, -999.00,9, -999.00,9,-999.000,-999.0000,9,-999.0000,9,-999.0000,9,-999.0000,9,-999.0000,9,-999.0000,9,-999.0000,9,-999.0000,9,-999.0000,9,   2.7439,     -999.0,9,     -999.0,9,     -999.0,9,     -999.0,9,     -999.0,9,     -999.0,9,     -999.0,9,-999.0000, -999.00
33RO20071215,        P18,     143,          1,          8,      11008,2,20080205,       1040,   -54.3332,  -103.0000,       4326,  1733.7,   2.4886,  34.5900,2,  34.5882,2,    171.1,2,   171.3,2,   77.20,2,   34.30,2,    0.00,2,    2.38,2,-999.000,9,-999.000,9,-999.0000,9,  2250.7,2,  2340.0,2,   1184.1,2,    20.00,   7.5678,2,    25.00,-999.000,9,-999.0000,9, -999.00,9, -999.00,9,  -999.0,9,-999.000,9,-999.000,-999.000,9,-999.000,9, -999.00,9, -999.00,9, -999.00,9, -999.00,9, -999.00,9,-999.000,-999.0000,9,-999.0000,9,-999.0000,9,-999.0000,9,-999.0000,9,-999.0000,9,-999.0000,9,-999.0000,9,-999.0000,9,   2.3676,     -999.0,9,     -999.0,9,     -999.0,9,     -999.0,9,     -999.0,9,     -999.0,9,     -999.0,9,-999.0000, -999.00
33RO20071215,        P18,     143,          1,          7,      11007,2,20080205,       1040,   -54.3332,  -103.0000,       4326,  2132.0,   2.2136,  34.6825,2,  34.6825,2,    173.6,2,   173.6,2,   88.50,2,   33.30,2,    0.00,2,    2.31,2,   0.466,3,   0.274,3,   0.1599,3,  2258.2,2,  2353.8,2,   1138.9,2,    20.00,   7.5836,2,    25.00,-999.000,9,-999.0000,9, -999.00,9, -999.00,9,  -999.0,9,-999.000,9,-999.000,   0.337,3,-999.000,9, -999.00,9, -999.00,9, -999.00,9, -999.00,9, -999.00,9,-999.000,-999.0000,9,-999.0000,9,-999.0000,9,-999.0000,9,-999.0000,9,-999.0000,9,-999.0000,9,-999.0000,9,-999.0000,9,   2.0623,     -999.0,9,     -999.0,9,     -999.0,9,     -999.0,9,     -999.0,9,     -999.0,9,     -999.0,9,-999.0000, -999.00
33RO20071215,        P18,     143,          1,          6,      11006,2,20080205,       1040,   -54.3332,  -103.0000,       4326,  2532.7,   1.9432,  34.7169,2,  34.7175,2,    182.0,2,   181.0,2,   96.20,2,   32.50,2,    0.00,2,    2.27,2,-999.000,9,-999.000,9,-999.0000,9,  2259.7,2,  2355.1,2,   1106.0,2,    20.00,   7.6027,2,    25.00,-999.000,9,-999.0000,9, -999.00,9, -999.00,9,  -999.0,9,-999.000,9,-999.000,-999.000,9,-999.000,9, -999.00,9, -999.00,9, -999.00,9, -999.00,9, -999.00,9,-999.000,-999.0000,9,-999.0000,9,-999.0000,9,-999.0000,9,-999.0000,9,-999.0000,9,-999.0000,9,-999.0000,9,-999.0000,9,   1.7607,     -999.0,9,     -999.0,9,     -999.0,9,     -999.0,9,     -999.0,9,     -999.0,9,     -999.0,9,-999.0000, -999.00
33RO20071215,        P18,     143,          1,          5,      11005,2,20080205,       1040,   -54.3332,  -103.0000,       4326,  2931.0,   1.6380,  34.7207,2,  34.7180,2,    186.1,2,   185.7,2,  106.80,2,   32.70,2,    0.00,2,    2.27,2,   0.057,2,   0.031,2,   0.0000,2,  2263.7,2,  2363.3,2,   1088.5,2,    20.00,   7.6067,2,    25.00,-999.000,9,-999.0000,9, -999.00,9, -999.00,9,  -999.0,9,-999.000,9,-999.000,   0.068,3,-999.000,9, -999.00,9, -999.00,9, -999.00,9, -999.00,9, -999.00,9,-999.000,-999.0000,9,-999.0000,9,-999.0000,9,-999.0000,9,-999.0000,9,-999.0000,9,-999.0000,9,-999.0000,9,-999.0000,9,   1.4245,     -999.0,9,     -999.0,9,     -999.0,9,     -999.0,9,     -999.0,9,     -999.0,9,     -999.0,9,-999.0000, -999.00
33RO20071215,        P18,     143,          1,          4,      11004,2,20080205,       1040,   -54.3332,  -103.0000,       4326,  3332.4,   1.4585,  34.7236,2,  34.7224,2,    192.7,2,   193.1,2,  110.30,6,   32.40,6,    0.00,6,    2.25,2,   0.054,2,   0.031,2,   0.0000,2,  2261.7,2,  2362.5,2,   1074.7,6,    20.00,   7.6104,2,    25.00,-999.000,9,-999.0000,9, -999.00,9, -999.00,9,  -999.0,9,-999.000,9,-999.000,   0.071,3,-999.000,9, -999.00,9, -999.00,9, -999.00,9, -999.00,9, -999.00,9,-999.000,-999.0000,9,-999.0000,9,-999.0000,9,-999.0000,9,-999.0000,9,-999.0000,9,-999.0000,9,-999.0000,9,-999.0000,9,   1.2101,     -999.0,9,     -999.0,9,     -999.0,9,     -999.0,9,     -999.0,9,     -999.0,9,     -999.0,9,-999.0000, -999.00
33RO20071215,        P18,     143,          1,          3,      11003,2,20080205,       1040,   -54.3332,  -103.0000,       4326,  3732.2,   1.1173,  34.7174,2,  34.7166,2,    199.4,2,   199.0,2,  120.80,6,   32.70,6,    0.00,6,    2.27,2,   0.112,3,   0.068,3,   0.0330,3,  2263.2,2,  2363.6,2,   1059.4,2,    20.00,   7.6137,2,    25.00,-999.000,9,-999.0000,9, -999.00,9, -999.00,9,  -999.0,9,-999.000,9,-999.000,   0.113,3,-999.000,9, -999.00,9, -999.00,9, -999.00,9, -999.00,9, -999.00,9,-999.000,-999.0000,9,-999.0000,9,-999.0000,9,-999.0000,9,-999.0000,9,-999.0000,9,-999.0000,9,-999.0000,9,-999.0000,9,   0.8370,     -999.0,9,     -999.0,9,     -999.0,9,     -999.0,9,     -999.0,9,     -999.0,9,     -999.0,9,-999.0000, -999.00
33RO20071215,        P18,     143,          1,          2,      11002,2,20080205,       1040,   -54.3332,  -103.0000,       4326,  4132.2,   0.8335,  34.7117,2,  34.7109,2,    205.3,2,   204.8,2,  131.00,6,   33.00,6,    0.00,6,    2.29,2,   0.067,2,   0.039,2,   0.0000,2,  2266.3,2,  2376.6,2,   -999.0,9,  -999.00,   7.6160,2,    25.00,-999.000,9,-999.0000,9, -999.00,9, -999.00,9,  -999.0,9,-999.000,9,-999.000,   0.091,3,-999.000,9, -999.00,9, -999.00,9, -999.00,9, -999.00,9, -999.00,9,-999.000,-999.0000,9,-999.0000,9,-999.0000,9,-999.0000,9,-999.0000,9,-999.0000,9,-999.0000,9,-999.0000,9,-999.0000,9,   0.5192,     -999.0,9,     -999.0,9,     -999.0,9,     -999.0,9,     -999.0,9,     -999.0,9,     -999.0,9,-999.0000, -999.00
33RO20071215,        P18,     143,          1,          1,      11001,2,20080205,       1040,   -54.3332,  -103.0000,       4326,  4362.2,   0.8023,  34.7107,2,  34.7091,2,    206.6,2,   205.6,2,  132.70,2,   33.10,2,    0.01,2,    2.29,2,   0.089,2,   0.052,2,   0.0000,2,  2267.9,6,  2375.6,2,   1043.8,2,    20.00,   7.6218,2,    25.00,-999.000,9,-999.0000,9, -999.00,9, -999.00,9,  -999.0,9,-999.000,9,-999.000,   0.113,3,-999.000,9, -999.00,9, -999.00,9, -999.00,9, -999.00,9, -999.00,9,-999.000,-999.0000,9,-999.0000,9,-999.0000,9,-999.0000,9,-999.0000,9,-999.0000,9,-999.0000,9,-999.0000,9,-999.0000,9,   0.4641,     -999.0,9,     -999.0,9,     -999.0,9,     -999.0,9,     -999.0,9,     -999.0,9,     -999.0,9,-999.0000, -999.00