BOTTLE,20220818CCHSIOAMB
EXPOCODE,SECT_ID,STNNBR,CASTNO,SAMPNO,BTLNBR,BTLNBR_FLAG_W,DATE,TIME,LATITUDE,LONGITUDE,DEPTH,CTDPRS,CTDTMP,CTDSAL,CTDSAL_FLAG_W,SALNTY,SALNTY_FLAG_W,CTDOXY,CTDOXY_FLAG_W,OXYGEN,OXYGEN_FLAG_W,SILCAT,SILCAT_FLAG_W,NITRAT,NITRAT_FLAG_W,NITRIT,NITRIT_FLAG_W,PHSPHT,PHSPHT_FLAG_W,CFC-11,CFC-11_FLAG_W,CFC-12,CFC-12_FLAG_W,SF6,SF6_FLAG_W,TCARBN,TCARBN_FLAG_W,ALKALI,ALKALI_FLAG_W,FCO2,FCO2_FLAG_W,FCO2TMP,PH_SWS,PH_SWS_FLAG_W,PH_TMP,TRITUM,TRITUM_FLAG_W,HELIUM,HELIUM_FLAG_W,DELHE3,DELHE3_FLAG_W,DELC13,DELC13_FLAG_W,DELC14,DELC14_FLAG_W,NEON,NEON_FLAG_W,NEONER,CCL4,CCL4_FLAG_W,POC,POC_FLAG_W,DOC,DOC_FLAG_W,TDN,TDN_FLAG_W,DON,DON_FLAG_W,CHLORA,CHLORA_FLAG_W,ARGON,ARGON_FLAG_W,TRITER,CDOM325,CDOM325_FLAG_W,CDOM340,CDOM340_FLAG_W,CDOM380,CDOM380_FLAG_W,CDOM412,CDOM412_FLAG_W,CDOM443,CDOM443_FLAG_W,CDOM490,CDOM490_FLAG_W,CDOM555,CDOM555_FLAG_W,CDOMSL,CDOMSL_FLAG_W,CDOMSN,CDOMSN_FLAG_W,THETA,D18O_NO3,D18O_NO3_FLAG_W,CDOM2C,CDOM2C_FLAG_W,CDOM3C,CDOM3C_FLAG_W,LAB_DEN,LAB_DEN_FLAG_W,DELSI30,DELSI30_FLAG_W,N2,N2_FLAG_W,D15N_NO3,D15N_NO3_FLAG_W,HELIER,DELHER
,,,,,,,,,,,METERS,DBAR,ITS-90,PSS-78,,PSS-78,,UMOL/KG,,UMOL/KG,,UMOL/KG,,UMOL/KG,,UMOL/KG,,UMOL/KG,,PMOL/KG,,PMOL/KG,,FMOL/KG,,UMOL/KG,,UMOL/KG,,UATM,,DEG C,,,DEG C,TU,,NMOL/KG,,PERCNT,,/MILLE,,/MILLE,,NMOL/KG,,NMOL/KG,PMOL/KG,,UG/KG,,UMOL/KG,,UMOL/KG,,UMOL/KG,,UG/KG,,UMOL/KG,,TU,1/M,,1/M,,1/M,,1/M,,1/M,,1/M,,1/M,,1/NM,,1/NM,,DEG C,/MILLE,,,,,,,,/MILLE,,UMOL/KG,,/MILLE,,NMOL/KG,PERCNT
33RO20071215,        P18,      84,          1,         36,      12017,2,20080112,       1106,   -19.9153,  -103.0010,       4091,     5.3,  22.1877,  35.9283,2,  35.9289,2,    219.1,2,   220.9,2,    0.60,2,    0.20,2,    0.00,2,    0.25,2,   2.077,2,   1.276,2,   1.1086,2,  2080.4,6,  2377.4,2,    363.3,2,    20.00,   8.0111,2,    25.00,   0.352,2,   1.7136,2,   -1.38,2,    1.51,2,  -999.0,1,   6.819,2,   0.023,-999.000,9,-999.000,9, -999.00,9, -999.00,9, -999.00,9, -999.00,9, -999.00,9,   0.007,-999.0000,9,-999.0000,9,-999.0000,9,-999.0000,9,-999.0000,9,-999.0000,9,-999.0000,9,-999.0000,9,-999.0000,9,  22.1866,     -999.0,9,     -999.0,9,     -999.0,9,     -999.0,1,     -999.0,9,     -999.0,9,     -999.0,9,   0.0048,    0.15
33RO20071215,        P18,      84,          1,         35,      12029,2,20080112,       1106,   -19.9153,  -103.0010,       4091,    12.3,  22.1887,  35.9283,2,  35.9291,2,    219.3,2,   220.1,2,    0.70,2,    0.20,2,    0.00,2,    0.25,2,   2.060,6,   1.276,6,   1.1049,6,  2081.3,2,  2377.8,2,   -999.0,9,  -999.00,   8.0044,2,    25.00,-999.000,9,-999.0000,9, -999.00,9, -999.00,9,  -999.0,9,-999.000,9,-999.000,-999.000,9,-999.000,9, -999.00,9, -999.00,9, -999.00,9, -999.00,9, -999.00,9,-999.000,-999.0000,9,-999.0000,9,-999.0000,9,-999.0000,9,-999.0000,9,-999.0000,9,-999.0000,9,-999.0000,9,-999.0000,9,  22.1862,     -999.0,9,     -999.0,9,     -999.0,9,     -999.0,1,     -999.0,9,     -999.0,9,     -999.0,9,-999.0000, -999.00
33RO20071215,        P18,      84,          1,         34,      12049,2,20080112,       1106,   -19.9153,  -103.0010,       4091,    19.6,  22.1897,  35.9272,2,  35.9274,2,    219.5,2,   220.2,2,    0.70,2,    0.20,2,    0.00,2,    0.26,2,   2.069,2,   1.290,2,   1.1726,2,  2080.9,2,  2377.1,2,   -999.0,9,  -999.00,   8.0133,2,    25.00,   0.363,2,   1.7128,2,   -1.35,2, -999.00,9,  -999.0,9,   6.814,2,   0.023,-999.000,9,-999.000,9, -999.00,9, -999.00,9, -999.00,9, -999.00,9, -999.00,9,   0.007,-999.0000,9,-999.0000,9,-999.0000,9,-999.0000,9,-999.0000,9,-999.0000,9,-999.0000,9,-999.0000,9,-999.0000,9,  22.1858,     -999.0,9,     -999.0,9,     -999.0,9,     -999.0,1,     -999.0,9,     -999.0,9,     -999.0,9,   0.0048,    0.15
33RO20071215,        P18,      84,          1,         33,      12027,2,20080112,       1106,   -19.9153,  -103.0010,       4091,    41.5,  22.1556,  35.9216,2,  35.9146,2,    220.3,2,   221.3,2,    0.70,2,    0.20,2,    0.00,2,    0.26,2,   2.081,2,   1.277,2,   1.0543,2,  2080.0,2,  2375.4,2,   -999.0,9,  -999.00,   7.9924,2,    25.00,-999.000,9,-999.0000,9, -999.00,9, -999.00,9,  -999.0,9,-999.000,9,-999.000,-999.000,9,-999.000,9, -999.00,9, -999.00,9, -999.00,9, -999.00,9, -999.00,9,-999.000,-999.0000,9,-999.0000,9,-999.0000,9,-999.0000,9,-999.0000,9,-999.0000,9,-999.0000,9,-999.0000,9,-999.0000,9,  22.1473,     -999.0,9,     -999.0,9,     -999.0,9,     -999.0,1,     -999.0,9,     -999.0,9,     -999.0,9,-999.0000, -999.00
33RO20071215,        P18,      84,          1,         32,      12023,2,20080112,       1106,   -19.9153,  -103.0010,       4091,    66.6,  20.6620,  35.8226,2,  35.8243,2,    231.7,2,   232.0,2,    0.60,2,    0.20,2,    0.00,2,    0.24,2,   2.197,2,   1.349,2,   1.0403,2,  2073.5,2,  2368.2,2,    361.1,2,    20.00,   7.9949,2,    25.00,   0.346,2,   1.7232,2,   -1.39,2, -999.00,9,  -999.0,9,   6.952,2,   0.024,-999.000,9,-999.000,9, -999.00,9, -999.00,9, -999.00,9, -999.00,9, -999.00,9,   0.007,-999.0000,9,-999.0000,9,-999.0000,9,-999.0000,9,-999.0000,9,-999.0000,9,-999.0000,9,-999.0000,9,-999.0000,9,  20.6494,     -999.0,9,     -999.0,9,     -999.0,9,     -999.0,1,     -999.0,9,     -999.0,9,     -999.0,9,   0.0048,    0.15
33RO20071215,        P18,      84,          1,         31,      12037,2,20080112,       1106,   -19.9153,  -103.0010,       4091,    92.5,  20.2584,  35.8206,2,  35.8212,2,    229.4,2,   228.5,2,    0.70,2,    0.20,2,    0.00,2,    0.24,2,   2.227,2,   1.359,2,   1.1352,2,  2076.6,2,  2366.3,2,   -999.0,9,  -999.00,   8.0008,2,    25.00,-999.000,9,   1.7346,2,   -1.54,2, -999.00,9,  -999.0,9,   6.924,2,   0.024,-999.000,9,-999.000,9, -999.00,9, -999.00,9, -999.00,9, -999.00,9, -999.00,9,-999.000,-999.0000,9,-999.0000,9,-999.0000,9,-999.0000,9,-999.0000,9,-999.0000,9,-999.0000,9,-999.0000,9,-999.0000,9,  20.2411,     -999.0,9,     -999.0,9,     -999.0,9,     -999.0,1,     -999.0,9,     -999.0,9,     -999.0,9,   0.0049,    0.15
33RO20071215,        P18,      84,          1,         30,      12036,2,20080112,       1106,   -19.9153,  -103.0010,       4091,   117.2,  20.1335,  35.8131,2,  35.8133,2,    225.9,2,   225.6,2,    0.70,2,    0.20,2,    0.00,2,    0.25,2,   2.209,2,   1.357,2,   1.3354,2,  2078.2,2,  2366.1,2,    372.5,6,    20.00,   7.9943,2,    25.00,-999.000,9,-999.0000,9, -999.00,9, -999.00,9,  -999.0,9,-999.000,9,-999.000,-999.000,9,-999.000,9, -999.00,9, -999.00,9, -999.00,9, -999.00,9, -999.00,9,-999.000,-999.0000,9,-999.0000,9,-999.0000,9,-999.0000,9,-999.0000,9,-999.0000,9,-999.0000,9,-999.0000,9,-999.0000,9,  20.1116,     -999.0,9,     -999.0,9,     -999.0,9,     -999.0,1,     -999.0,9,     -999.0,9,     -999.0,9,-999.0000, -999.00
33RO20071215,        P18,      84,          1,         29,      12044,2,20080112,       1106,   -19.9153,  -103.0010,       4091,   142.5,  19.9420,  35.7832,2,  35.7835,2,    220.6,2,   220.0,2,    0.70,2,    0.30,2,    0.10,2,    0.27,2,   2.236,2,   1.370,2,   1.0518,2,  2080.5,2,  2362.6,2,   -999.0,9,  -999.00,   7.9971,2,    25.00,   0.352,2,   1.7409,2,   -1.39,2, -999.00,9,  -999.0,9,   6.957,2,   0.024,-999.000,9,-999.000,9, -999.00,9, -999.00,9, -999.00,9, -999.00,9, -999.00,9,   0.007,-999.0000,9,-999.0000,9,-999.0000,9,-999.0000,9,-999.0000,9,-999.0000,9,-999.0000,9,-999.0000,9,-999.0000,9,  19.9156,     -999.0,9,     -999.0,9,     -999.0,9,     -999.0,1,     -999.0,9,     -999.0,9,     -999.0,9,   0.0049,    0.15
33RO20071215,        P18,      84,          1,         28,      12057,3,20080112,       1106,   -19.9153,  -103.0010,       4091,   166.3,  19.7824,  35.7424,2,  35.7378,2,    218.3,2,   218.2,2,    0.70,2,    0.50,2,    0.40,2,    0.29,2,   2.252,2,   1.371,2,   1.1257,2,  2080.1,2,  2362.3,2,    388.9,2,    20.00,   7.9760,2,    25.00,-999.000,9,-999.0000,9, -999.00,9, -999.00,9,  -999.0,9,-999.000,9,-999.000,-999.000,9,-999.000,9, -999.00,9, -999.00,9, -999.00,9, -999.00,9, -999.00,9,-999.000,-999.0000,9,-999.0000,9,-999.0000,9,-999.0000,9,-999.0000,9,-999.0000,9,-999.0000,9,-999.0000,9,-999.0000,9,  19.7517,     -999.0,9,     -999.0,9,     -999.0,9,     -999.0,9,     -999.0,9,     -999.0,9,     -999.0,9,-999.0000, -999.00
33RO20071215,        P18,      84,          1,         27,      12026,2,20080112,       1106,   -19.9153,  -103.0010,       4091,   191.0,  19.5946,  35.6937,2,  35.6947,2,    216.3,2,   217.5,2,    0.70,2,    0.70,2,    0.44,2,    0.31,2,   2.261,2,   1.383,2,   1.1701,2,  2080.5,2,  2358.5,2,   -999.0,9,  -999.00,   7.9619,2,    25.00,   0.342,2,   1.7523,2,   -1.38,2, -999.00,9,  -999.0,9,   7.032,2,   0.024,-999.000,9,-999.000,9, -999.00,9, -999.00,9, -999.00,9, -999.00,9, -999.00,9,   0.007,-999.0000,9,-999.0000,9,-999.0000,9,-999.0000,9,-999.0000,9,-999.0000,9,-999.0000,9,-999.0000,9,-999.0000,9,  19.5596,     -999.0,9,     -999.0,9,     -999.0,9,     -999.0,1,     -999.0,9,     -999.0,9,     -999.0,9,   0.0049,    0.15
33RO20071215,        P18,      84,          1,         26,      12030,2,20080112,       1106,   -19.9153,  -103.0010,       4091,   233.7,  19.3064,  35.6306,2,  35.6364,2,    215.9,2,   216.1,2,    0.80,2,    1.20,2,    0.38,2,    0.33,2,   2.314,2,   1.405,2,   1.1018,2,  2079.7,2,  2351.2,2,    398.3,2,    20.00,   7.9856,2,    25.00,-999.000,9,-999.0000,9, -999.00,9, -999.00,9,  -999.0,9,-999.000,9,-999.000,-999.000,9,-999.000,9, -999.00,9, -999.00,9, -999.00,9, -999.00,9, -999.00,9,-999.000,-999.0000,9,-999.0000,9,-999.0000,9,-999.0000,9,-999.0000,9,-999.0000,9,-999.0000,9,-999.0000,9,-999.0000,9,  19.2640,     -999.0,9,     -999.0,9,     -999.0,9,     -999.0,9,     -999.0,9,     -999.0,9,     -999.0,9,-999.0000, -999.00
33RO20071215,        P18,      84,          1,         25,      12024,2,20080112,       1106,   -19.9153,  -103.0010,       4091,   280.4,  14.0463,  34.6201,2,  34.6014,2,    184.2,2,   183.2,2,    2.80,2,   11.10,2,    0.01,2,    0.94,2,   2.887,2,   1.653,2,   1.0913,2,  2107.7,2,  2284.0,2,   -999.0,9,  -999.00,   7.8036,2,    25.00,   0.287,2,   1.7843,2,   -0.44,2, -999.00,9,  -999.0,9,   7.322,2,   0.025,-999.000,9,-999.000,9, -999.00,9, -999.00,9, -999.00,9, -999.00,9, -999.00,9,   0.007,-999.0000,9,-999.0000,9,-999.0000,9,-999.0000,9,-999.0000,9,-999.0000,9,-999.0000,9,-999.0000,9,-999.0000,9,  14.0057,     -999.0,9,     -999.0,9,     -999.0,9,     -999.0,1,     -999.0,9,     -999.0,9,     -999.0,9,   0.0050,    0.15
33RO20071215,        P18,      84,          1,         24,      12019,2,20080112,       1106,   -19.9153,  -103.0010,       4091,   332.0,  10.9720,  34.4257,2,  34.4274,2,    122.0,2,   124.0,2,   10.40,2,   20.70,2,    0.00,2,    1.78,2,   2.522,2,   1.345,2,   0.5856,2,  2177.7,2,  2276.0,2,   1013.4,2,    20.00,   7.6244,2,    25.00,-999.000,9,-999.0000,9, -999.00,9, -999.00,9,  -999.0,9,-999.000,9,-999.000,-999.000,9,-999.000,9, -999.00,9, -999.00,9, -999.00,9, -999.00,9, -999.00,9,-999.000,-999.0000,9,-999.0000,9,-999.0000,9,-999.0000,9,-999.0000,9,-999.0000,9,-999.0000,9,-999.0000,9,-999.0000,9,  10.9311,     -999.0,9,     -999.0,9,     -999.0,9,     -999.0,1,     -999.0,9,     -999.0,9,     -999.0,9,-999.0000, -999.00
33RO20071215,        P18,      84,          1,         23,      12022,2,20080112,       1106,   -19.9153,  -103.0010,       4091,   382.0,   9.5141,  34.4577,2,  34.4600,2,     94.4,2,    91.3,2,   16.30,2,   27.50,2,    0.00,2,    2.23,2,   1.811,2,   0.925,2,   0.3524,2,  2215.0,6,  2278.2,2,   -999.0,9,  -999.00,   7.5138,2,    25.00,   0.120,2,   1.7928,2,    1.08,2, -999.00,9,  -999.0,9,   7.551,2,   0.026,-999.000,9,-999.000,9, -999.00,9, -999.00,9, -999.00,9, -999.00,9, -999.00,9,   0.006,-999.0000,9,-999.0000,9,-999.0000,9,-999.0000,9,-999.0000,9,-999.0000,9,-999.0000,9,-999.0000,9,-999.0000,9,   9.4710,     -999.0,9,     -999.0,9,     -999.0,9,     -999.0,9,     -999.0,9,     -999.0,9,     -999.0,9,   0.0050,    0.15
33RO20071215,        P18,      84,          1,         22,      12015,2,20080112,       1106,   -19.9153,  -103.0010,       4091,   467.0,   7.5267,  34.4185,2,  34.4219,2,    112.8,2,   112.1,2,   18.80,2,   32.40,2,    0.00,2,    2.33,2,   1.163,2,   0.582,2,   0.1425,2,  2219.3,2,  2285.0,4,   1338.4,2,    20.00,   7.5066,2,    25.00,-999.000,9,-999.0000,9, -999.00,9, -999.00,9,  -999.0,9,-999.000,9,-999.000,-999.000,9,-999.000,9, -999.00,9, -999.00,9, -999.00,9, -999.00,9, -999.00,9,-999.000,-999.0000,9,-999.0000,9,-999.0000,9,-999.0000,9,-999.0000,9,-999.0000,9,-999.0000,9,-999.0000,9,-999.0000,9,   7.4807,     -999.0,9,     -999.0,9,     -999.0,9,     -999.0,9,     -999.0,9,     -999.0,9,     -999.0,9,-999.0000, -999.00
33RO20071215,        P18,      84,          1,         21,      12020,2,20080112,       1106,   -19.9153,  -103.0010,       4091,   565.8,   6.0935,  34.3508,2,  34.3535,2,    163.8,2,   162.7,2,   19.30,2,   31.90,2,    0.00,2,    2.18,2,   1.138,2,   0.575,2,   0.2032,2,  2197.8,2,  2281.9,2,   -999.0,9,  -999.00,   7.5755,2,    25.00,-999.000,9,-999.0000,9, -999.00,9, -999.00,9,  -999.0,9,-999.000,9,-999.000,-999.000,9,-999.000,9, -999.00,9, -999.00,9, -999.00,9, -999.00,9, -999.00,9,-999.000,-999.0000,9,-999.0000,9,-999.0000,9,-999.0000,9,-999.0000,9,-999.0000,9,-999.0000,9,-999.0000,9,-999.0000,9,   6.0436,     -999.0,9,     -999.0,9,     -999.0,9,     -999.0,9,     -999.0,9,     -999.0,9,     -999.0,9,-999.0000, -999.00
33RO20071215,        P18,      84,          1,         20,      12055,2,20080112,       1106,   -19.9153,  -103.0010,       4091,   665.7,   5.3371,  34.3571,2,  34.3589,2,    149.2,2,   150.4,2,   29.10,2,   35.00,2,    0.00,2,    2.38,2,   0.471,2,   0.249,2,   0.0000,2,  2216.1,2,  2289.1,2,   1215.5,2,    20.00,   7.5567,2,    25.00,-999.000,9,-999.0000,9, -999.00,9, -999.00,9,  -999.0,9,-999.000,9,-999.000,-999.000,9,-999.000,9, -999.00,9, -999.00,9, -999.00,9, -999.00,9, -999.00,9,-999.000,-999.0000,9,-999.0000,9,-999.0000,9,-999.0000,9,-999.0000,9,-999.0000,9,-999.0000,9,-999.0000,9,-999.0000,9,   5.2817,     -999.0,9,     -999.0,9,     -999.0,9,     -999.0,1,     -999.0,9,     -999.0,9,     -999.0,9,-999.0000, -999.00
33RO20071215,        P18,      84,          1,         19,      12018,2,20080112,       1106,   -19.9153,  -103.0010,       4091,   766.0,   5.0756,  34.4317,2,  34.4323,2,    109.9,2,   107.3,2,   45.50,2,   38.90,2,    0.00,2,    2.68,2,   0.027,2,   0.017,2,   0.0000,2,  2251.0,2,  2305.1,2,   -999.0,9,  -999.00,   7.4909,2,    25.00,-999.000,9,-999.0000,9, -999.00,9, -999.00,9,  -999.0,9,-999.000,9,-999.000,-999.000,9,-999.000,9, -999.00,9, -999.00,9, -999.00,9, -999.00,9, -999.00,9,-999.000,-999.0000,9,-999.0000,9,-999.0000,9,-999.0000,9,-999.0000,9,-999.0000,9,-999.0000,9,-999.0000,9,-999.0000,9,   5.0127,     -999.0,9,     -999.0,9,     -999.0,9,     -999.0,9,     -999.0,9,     -999.0,9,     -999.0,9,-999.0000, -999.00
33RO20071215,        P18,      84,          1,         18,      12025,2,20080112,       1106,   -19.9153,  -103.0010,       4091,   865.9,   4.7215,  34.4794,2,  34.4797,2,     96.8,2,    96.4,2,   59.00,2,   40.20,2,    0.00,2,    2.77,2,   0.002,2,   0.002,2,   0.0000,2,  2269.0,2,  2319.2,2,   1490.2,2,    20.00,   7.4796,2,    25.00,-999.000,9,-999.0000,9, -999.00,9, -999.00,9,  -999.0,9,-999.000,9,-999.000,-999.000,9,-999.000,9, -999.00,9, -999.00,9, -999.00,9, -999.00,9, -999.00,9,-999.000,-999.0000,9,-999.0000,9,-999.0000,9,-999.0000,9,-999.0000,9,-999.0000,9,-999.0000,9,-999.0000,9,-999.0000,9,   4.6520,     -999.0,9,     -999.0,9,     -999.0,9,     -999.0,9,     -999.0,9,     -999.0,9,     -999.0,9,-999.0000, -999.00
33RO20071215,        P18,      84,          1,         17,      12016,2,20080112,       1106,   -19.9153,  -103.0010,       4091,   965.8,   4.3937,  34.5014,2,  34.5031,2,     95.5,2,    95.5,2,   68.90,2,   40.50,2,    0.00,2,    2.81,2,-999.000,9,-999.000,9,-999.0000,9,  2280.3,2,  2334.4,2,   -999.0,9,  -999.00,   7.4744,2,    25.00,-999.000,9,-999.0000,9, -999.00,9, -999.00,9,  -999.0,9,-999.000,9,-999.000,-999.000,9,-999.000,9, -999.00,9, -999.00,9, -999.00,9, -999.00,9, -999.00,9,-999.000,-999.0000,9,-999.0000,9,-999.0000,9,-999.0000,9,-999.0000,9,-999.0000,9,-999.0000,9,-999.0000,9,-999.0000,9,   4.3180,     -999.0,9,     -999.0,9,     -999.0,9,     -999.0,9,     -999.0,9,     -999.0,9,     -999.0,9,-999.0000, -999.00
33RO20071215,        P18,      84,          1,         16,      12051,4,20080112,       1106,   -19.9153,  -103.0010,       4091,  1066.5,   4.0718,  34.5215,2,  34.5089,4,     94.8,2,    95.4,4,   71.60,2,   40.50,2,    0.00,2,    2.81,2,-999.000,9,-999.000,9,-999.0000,9,  2283.3,2,  2338.0,2,   1491.7,2,    20.00,   7.4773,2,    25.00,-999.000,9,-999.0000,9, -999.00,9, -999.00,9,  -999.0,9,-999.000,9,-999.000,-999.000,9,-999.000,9, -999.00,9, -999.00,9, -999.00,9, -999.00,9, -999.00,9,-999.000,-999.0000,9,-999.0000,9,-999.0000,9,-999.0000,9,-999.0000,9,-999.0000,9,-999.0000,9,-999.0000,9,-999.0000,9,   3.9900,     -999.0,9,     -999.0,9,     -999.0,9,     -999.0,1,     -999.0,9,     -999.0,9,     -999.0,9,-999.0000, -999.00
33RO20071215,        P18,      84,          1,         15,      12014,2,20080112,       1106,   -19.9153,  -103.0010,       4091,  1167.3,   3.7928,  34.5373,2,  34.5382,2,     93.2,2,    93.0,2,   85.50,2,   40.90,2,    0.00,2,    2.86,2,   0.001,2,   0.000,2,   0.0000,2,  2299.1,2,  2352.2,2,   -999.0,9,  -999.00,   7.4615,2,    25.00,-999.000,9,-999.0000,9, -999.00,9, -999.00,9,  -999.0,9,-999.000,9,-999.000,-999.000,9,-999.000,9, -999.00,9, -999.00,9, -999.00,9, -999.00,9, -999.00,9,-999.000,-999.0000,9,-999.0000,9,-999.0000,9,-999.0000,9,-999.0000,9,-999.0000,9,-999.0000,9,-999.0000,9,-999.0000,9,   3.7048,     -999.0,9,     -999.0,9,     -999.0,9,     -999.0,9,     -999.0,9,     -999.0,9,     -999.0,9,-999.0000, -999.00
33RO20071215,        P18,      84,          1,         14,      12013,2,20080112,       1106,   -19.9153,  -103.0010,       4091,  1331.4,   3.3552,  34.5614,2,  34.5615,2,     99.1,2,    99.1,2,   96.20,2,   40.50,2,    0.00,2,    2.84,2,-999.000,9,-999.000,9,-999.0000,9,  2306.5,2,  2363.0,2,   1499.1,2,    20.00,   7.4774,2,    25.00,-999.000,9,-999.0000,9, -999.00,9, -999.00,9,  -999.0,9,-999.000,9,-999.000,-999.000,9,-999.000,9, -999.00,9, -999.00,9, -999.00,9, -999.00,9, -999.00,9,-999.000,-999.0000,9,-999.0000,9,-999.0000,9,-999.0000,9,-999.0000,9,-999.0000,9,-999.0000,9,-999.0000,9,-999.0000,9,   3.2576,     -999.0,9,     -999.0,9,     -999.0,9,     -999.0,9,     -999.0,9,     -999.0,9,     -999.0,9,-999.0000, -999.00
33RO20071215,        P18,      84,          1,         13,      12012,2,20080112,       1106,   -19.9153,  -103.0010,       4091,  1532.9,   2.9641,  34.5863,2,  34.5871,2,    104.8,2,   104.4,2,  106.80,2,   40.00,2,    0.00,2,    2.81,2,-999.000,9,-999.000,9,-999.0000,9,  2314.7,2,  2377.7,2,   -999.0,9,  -999.00,   7.4852,2,    25.00,-999.000,9,-999.0000,9, -999.00,9, -999.00,9,  -999.0,9,-999.000,9,-999.000,-999.000,9,-999.000,9, -999.00,9, -999.00,9, -999.00,9, -999.00,9, -999.00,9,-999.000,-999.0000,9,-999.0000,9,-999.0000,9,-999.0000,9,-999.0000,9,-999.0000,9,-999.0000,9,-999.0000,9,-999.0000,9,   2.8539,     -999.0,9,     -999.0,9,     -999.0,9,     -999.0,9,     -999.0,9,     -999.0,9,     -999.0,9,-999.0000, -999.00
33RO20071215,        P18,      84,          1,         12,      12031,2,20080112,       1106,   -19.9153,  -103.0010,       4091,  1731.4,   2.6154,  34.6093,2,  34.6104,2,    114.8,2,   115.3,2,  114.90,2,   39.10,2,    0.00,2,    2.73,2,   0.000,2,   0.000,2,   0.0000,2,  2317.2,2,  2385.4,2,   -999.0,9,  -999.00,   7.5110,2,    25.00,-999.000,9,-999.0000,9, -999.00,9, -999.00,9,  -999.0,9,-999.000,9,-999.000,-999.000,9,-999.000,9, -999.00,9, -999.00,9, -999.00,9, -999.00,9, -999.00,9,-999.000,-999.0000,9,-999.0000,9,-999.0000,9,-999.0000,9,-999.0000,9,-999.0000,9,-999.0000,9,-999.0000,9,-999.0000,9,   2.4928,     -999.0,9,     -999.0,9,     -999.0,9,     -999.0,1,     -999.0,9,     -999.0,9,     -999.0,9,-999.0000, -999.00