BOTTLE,20220818CCHSIOAMB
EXPOCODE,SECT_ID,STNNBR,CASTNO,SAMPNO,BTLNBR,BTLNBR_FLAG_W,DATE,TIME,LATITUDE,LONGITUDE,DEPTH,CTDPRS,CTDTMP,CTDSAL,CTDSAL_FLAG_W,SALNTY,SALNTY_FLAG_W,CTDOXY,CTDOXY_FLAG_W,OXYGEN,OXYGEN_FLAG_W,SILCAT,SILCAT_FLAG_W,NITRAT,NITRAT_FLAG_W,NITRIT,NITRIT_FLAG_W,PHSPHT,PHSPHT_FLAG_W,CFC-11,CFC-11_FLAG_W,CFC-12,CFC-12_FLAG_W,SF6,SF6_FLAG_W,TCARBN,TCARBN_FLAG_W,ALKALI,ALKALI_FLAG_W,FCO2,FCO2_FLAG_W,FCO2TMP,PH_SWS,PH_SWS_FLAG_W,PH_TMP,TRITUM,TRITUM_FLAG_W,HELIUM,HELIUM_FLAG_W,DELHE3,DELHE3_FLAG_W,DELC13,DELC13_FLAG_W,DELC14,DELC14_FLAG_W,NEON,NEON_FLAG_W,NEONER,CCL4,CCL4_FLAG_W,POC,POC_FLAG_W,DOC,DOC_FLAG_W,TDN,TDN_FLAG_W,DON,DON_FLAG_W,CHLORA,CHLORA_FLAG_W,ARGON,ARGON_FLAG_W,TRITER,CDOM325,CDOM325_FLAG_W,CDOM340,CDOM340_FLAG_W,CDOM380,CDOM380_FLAG_W,CDOM412,CDOM412_FLAG_W,CDOM443,CDOM443_FLAG_W,CDOM490,CDOM490_FLAG_W,CDOM555,CDOM555_FLAG_W,CDOMSL,CDOMSL_FLAG_W,CDOMSN,CDOMSN_FLAG_W,THETA,D18O_NO3,D18O_NO3_FLAG_W,CDOM2C,CDOM2C_FLAG_W,CDOM3C,CDOM3C_FLAG_W,LAB_DEN,LAB_DEN_FLAG_W,DELSI30,DELSI30_FLAG_W,N2,N2_FLAG_W,D15N_NO3,D15N_NO3_FLAG_W,HELIER,DELHER
,,,,,,,,,,,METERS,DBAR,ITS-90,PSS-78,,PSS-78,,UMOL/KG,,UMOL/KG,,UMOL/KG,,UMOL/KG,,UMOL/KG,,UMOL/KG,,PMOL/KG,,PMOL/KG,,FMOL/KG,,UMOL/KG,,UMOL/KG,,UATM,,DEG C,,,DEG C,TU,,NMOL/KG,,PERCNT,,/MILLE,,/MILLE,,NMOL/KG,,NMOL/KG,PMOL/KG,,UG/KG,,UMOL/KG,,UMOL/KG,,UMOL/KG,,UG/KG,,UMOL/KG,,TU,1/M,,1/M,,1/M,,1/M,,1/M,,1/M,,1/M,,1/NM,,1/NM,,DEG C,/MILLE,,,,,,,,/MILLE,,UMOL/KG,,/MILLE,,NMOL/KG,PERCNT
33RO20071215,        P18,      34,          1,         11,      12003,2,20071226,       1113,     5.0345,  -109.9905,       3961,  1800.3,   2.5224,  34.6316,2,  34.6323,2,     90.1,2,    89.5,2,  138.20,2,   40.40,2,    0.00,2,    2.90,2,   0.000,2,   0.000,2,   0.0000,2,  2352.9,2,  2410.5,2,   -999.0,9,  -999.00,   7.4861,2,    25.00,-999.000,9,-999.0000,9, -999.00,9, -999.00,9,  -999.0,9,-999.000,9,-999.000,-999.000,9,-999.000,9,   37.69,2,   41.93,2, -999.00,9, -999.00,9, -999.00,9,-999.000,-999.0000,9,-999.0000,9,-999.0000,9,-999.0000,9,-999.0000,9,-999.0000,9,-999.0000,9,-999.0000,9,-999.0000,9,   2.3952,     -999.0,9,     -999.0,9,     -999.0,9,     -999.0,9,     -999.0,9,     -999.0,9,     -999.0,9,-999.0000, -999.00
33RO20071215,        P18,      34,          1,         10,      12032,2,20071226,       1113,     5.0345,  -109.9905,       3961,  2001.8,   2.2167,  34.6477,2,  34.6492,2,     98.9,2,    98.6,2,  145.50,2,   40.00,2,    0.00,2,    2.82,2,   0.002,2,   0.001,2,   0.0000,2,  2354.7,2,  2419.8,2,   -999.0,9,  -999.00,   7.4992,2,    25.00,-999.000,9,-999.0000,9, -999.00,9, -999.00,9,  -999.0,9,-999.000,9,-999.000,   0.006,3,-999.000,9,   38.19,2,   41.17,2, -999.00,9, -999.00,9, -999.00,9,-999.000,-999.0000,9,-999.0000,9,-999.0000,9,-999.0000,9,-999.0000,9,-999.0000,9,-999.0000,9,-999.0000,9,-999.0000,9,   2.0767,     -999.0,9,     -999.0,9,     -999.0,9,     -999.0,9,     -999.0,9,     -999.0,9,     -999.0,9,-999.0000, -999.00
33RO20071215,        P18,      34,          1,          9,      12002,2,20071226,       1113,     5.0345,  -109.9905,       3961,  2200.7,   2.0410,  34.6570,2,  34.6584,2,    106.3,2,   105.8,2,  149.60,2,   39.50,2,    0.00,2,    2.70,2,   0.001,2,   0.001,2,   0.0000,2,  2354.0,6,  2425.3,2,   -999.0,9,  -999.00,   7.5162,2,    25.00,-999.000,9,-999.0000,9, -999.00,9, -999.00,9,  -999.0,9,-999.000,9,-999.000,   0.005,3,-999.000,9,   37.80,2,   40.82,2, -999.00,9, -999.00,9, -999.00,9,-999.000,-999.0000,9,-999.0000,9,-999.0000,9,-999.0000,9,-999.0000,9,-999.0000,9,-999.0000,9,-999.0000,9,-999.0000,9,   1.8866,     -999.0,9,     -999.0,9,     -999.0,9,     -999.0,9,     -999.0,9,     -999.0,9,     -999.0,9,-999.0000, -999.00
33RO20071215,        P18,      34,          1,          8,      12021,2,20071226,       1113,     5.0345,  -109.9905,       3961,  2400.2,   1.8746,  34.6663,2,  34.6674,2,    111.3,2,   111.8,2,  153.60,2,   39.00,2,    0.00,2,    2.72,2,-999.000,9,-999.000,9,-999.0000,9,  2355.6,2,  2430.1,2,   -999.0,9,  -999.00,   7.5278,2,    25.00,-999.000,9,-999.0000,9, -999.00,9, -999.00,9,  -999.0,9,-999.000,9,-999.000,-999.000,9,-999.000,9,   37.79,2,   40.23,2, -999.00,9, -999.00,9, -999.00,9,-999.000,-999.0000,9,-999.0000,9,-999.0000,9,-999.0000,9,-999.0000,9,-999.0000,9,-999.0000,9,-999.0000,9,-999.0000,9,   1.7056,     -999.0,9,     -999.0,9,     -999.0,9,     -999.0,9,     -999.0,9,     -999.0,9,     -999.0,9,-999.0000, -999.00
33RO20071215,        P18,      34,          1,          7,      12001,2,20071226,       1113,     5.0345,  -109.9905,       3961,  2599.9,   1.8308,  34.6697,2,  34.6711,2,    114.4,2,   113.4,2,  155.20,2,   38.90,2,    0.00,2,    2.70,2,   0.000,2,   0.000,2,   0.0205,2,  2356.1,2,  2434.5,2,   -999.0,9,  -999.00,   7.5214,2,    25.00,-999.000,9,-999.0000,9, -999.00,9, -999.00,9,  -999.0,9,-999.000,9,-999.000,   0.007,3,-999.000,9,   37.83,2,   40.37,2, -999.00,9, -999.00,9, -999.00,9,-999.000,-999.0000,9,-999.0000,9,-999.0000,9,-999.0000,9,-999.0000,9,-999.0000,9,-999.0000,9,-999.0000,9,-999.0000,9,   1.6445,     -999.0,9,     -999.0,9,     -999.0,9,     -999.0,9,     -999.0,9,     -999.0,9,     -999.0,9,-999.0000, -999.00
33RO20071215,        P18,      34,          1,          6,      12033,2,20071226,       1113,     5.0345,  -109.9905,       3961,  2798.5,   1.7914,  34.6726,2,  34.6731,2,    116.8,2,   116.4,2,  155.80,2,   38.70,2,    0.00,2,    2.67,2,-999.000,9,-999.000,9,-999.0000,9,  2354.2,2,  -999.0,5,   -999.0,9,  -999.00,   7.5099,2,    25.00,-999.000,9,-999.0000,9, -999.00,9, -999.00,9,  -999.0,9,-999.000,9,-999.000,-999.000,9,-999.000,9,   38.37,2,   40.07,2, -999.00,9, -999.00,9, -999.00,9,-999.000,-999.0000,9,-999.0000,9,-999.0000,9,-999.0000,9,-999.0000,9,-999.0000,9,-999.0000,9,-999.0000,9,-999.0000,9,   1.5874,     -999.0,9,     -999.0,9,     -999.0,9,     -999.0,1,     -999.0,9,     -999.0,9,     -999.0,9,-999.0000, -999.00
33RO20071215,        P18,      34,          1,          5,      12008,2,20071226,       1113,     5.0345,  -109.9905,       3961,  3000.6,   1.7086,  34.6768,2,  34.6770,2,    124.5,2,   124.1,2,  155.00,2,   38.30,2,    0.00,2,    2.60,2,   0.001,2,   0.001,2,   0.0000,2,  2350.2,2,  2434.8,2,   -999.0,9,  -999.00,   7.5308,2,    25.00,-999.000,9,-999.0000,9, -999.00,9, -999.00,9,  -999.0,9,-999.000,9,-999.000,   0.006,3,-999.000,9,   38.82,2,   39.20,2, -999.00,9, -999.00,9, -999.00,9,-999.000,-999.0000,9,-999.0000,9,-999.0000,9,-999.0000,9,-999.0000,9,-999.0000,9,-999.0000,9,-999.0000,9,-999.0000,9,   1.4871,     -999.0,9,     -999.0,9,     -999.0,9,     -999.0,9,     -999.0,9,     -999.0,9,     -999.0,9,-999.0000, -999.00
33RO20071215,        P18,      34,          1,          4,      12009,2,20071226,       1113,     5.0345,  -109.9905,       3961,  3250.2,   1.5750,  34.6835,2,  34.6841,2,    136.8,2,   136.2,2,  153.80,6,   37.40,6,    0.01,6,    2.55,2,-999.000,9,-999.000,9,-999.0000,9,  2342.0,2,  2432.7,2,   -999.0,9,  -999.00,   7.5652,2,    25.00,-999.000,9,-999.0000,9, -999.00,9, -999.00,9,  -999.0,9,-999.000,9,-999.000,-999.000,9,-999.000,9, -999.00,9, -999.00,9, -999.00,9, -999.00,9, -999.00,9,-999.000,-999.0000,9,-999.0000,9,-999.0000,9,-999.0000,9,-999.0000,9,-999.0000,9,-999.0000,9,-999.0000,9,-999.0000,9,   1.3321,     -999.0,9,     -999.0,9,     -999.0,9,     -999.0,1,     -999.0,9,     -999.0,9,     -999.0,9,-999.0000, -999.00
33RO20071215,        P18,      34,          1,          3,      12006,2,20071226,       1113,     5.0345,  -109.9905,       3961,  3499.5,   1.4944,  34.6883,2,  34.6886,2,    144.3,2,   144.3,2,  153.10,6,   36.90,6,    0.00,6,    2.48,2,   0.000,2,   0.001,2,   0.0121,2,  2337.8,2,  2435.4,2,   -999.0,9,  -999.00,   7.5850,2,    25.00,-999.000,9,-999.0000,9, -999.00,9, -999.00,9,  -999.0,9,-999.000,9,-999.000,   0.004,3,-999.000,9,   38.08,2,   38.02,2, -999.00,9, -999.00,9, -999.00,9,-999.000,-999.0000,9,-999.0000,9,-999.0000,9,-999.0000,9,-999.0000,9,-999.0000,9,-999.0000,9,-999.0000,9,-999.0000,9,   1.2284,     -999.0,9,     -999.0,9,     -999.0,9,     -999.0,9,     -999.0,9,     -999.0,9,     -999.0,9,-999.0000, -999.00
33RO20071215,        P18,      34,          1,          2,      12007,2,20071226,       1113,     5.0345,  -109.9905,       3961,  3748.3,   1.4820,  34.6898,2,  34.6913,2,    147.9,2,   147.3,2,  152.00,6,   36.60,6,    0.00,6,    2.47,2,-999.000,9,-999.000,9,-999.0000,9,  2335.1,2,  2435.5,2,   -999.0,9,  -999.00,   7.5830,2,    25.00,-999.000,9,-999.0000,9, -999.00,9, -999.00,9,  -999.0,9,-999.000,9,-999.000,-999.000,9,-999.000,9,   38.52,2,   38.23,2, -999.00,9, -999.00,9, -999.00,9,-999.000,-999.0000,9,-999.0000,9,-999.0000,9,-999.0000,9,-999.0000,9,-999.0000,9,-999.0000,9,-999.0000,9,-999.0000,9,   1.1905,     -999.0,9,     -999.0,9,     -999.0,9,     -999.0,1,     -999.0,9,     -999.0,9,     -999.0,9,-999.0000, -999.00
33RO20071215,        P18,      34,          1,          1,      12035,2,20071226,       1113,     5.0345,  -109.9905,       3961,  4004.9,   1.5030,  34.6900,2,  34.6909,2,    148.5,2,   148.3,2,  152.30,2,   36.60,2,    0.00,2,    2.44,2,   0.000,6,   0.000,6,   0.0000,6,  2337.2,6,  2438.5,2,   -999.0,9,  -999.00,   7.5824,2,    25.00,-999.000,9,-999.0000,9, -999.00,9, -999.00,9,  -999.0,9,-999.000,9,-999.000,   0.005,3,-999.000,9,   38.21,2,   37.85,2, -999.00,9, -999.00,9, -999.00,9,-999.000,-999.0000,9,-999.0000,9,-999.0000,9,-999.0000,9,-999.0000,9,-999.0000,9,-999.0000,9,-999.0000,9,-999.0000,9,   1.1834,     -999.0,9,     -999.0,9,     -999.0,9,     -999.0,1,     -999.0,9,     -999.0,9,     -999.0,9,-999.0000, -999.00