BOTTLE,20220818CCHSIOAMB
EXPOCODE,SECT_ID,STNNBR,CASTNO,SAMPNO,BTLNBR,BTLNBR_FLAG_W,DATE,TIME,LATITUDE,LONGITUDE,DEPTH,CTDPRS,CTDTMP,CTDSAL,CTDSAL_FLAG_W,SALNTY,SALNTY_FLAG_W,CTDOXY,CTDOXY_FLAG_W,OXYGEN,OXYGEN_FLAG_W,SILCAT,SILCAT_FLAG_W,NITRAT,NITRAT_FLAG_W,NITRIT,NITRIT_FLAG_W,PHSPHT,PHSPHT_FLAG_W,CFC-11,CFC-11_FLAG_W,CFC-12,CFC-12_FLAG_W,SF6,SF6_FLAG_W,TCARBN,TCARBN_FLAG_W,ALKALI,ALKALI_FLAG_W,FCO2,FCO2_FLAG_W,FCO2TMP,PH_SWS,PH_SWS_FLAG_W,PH_TMP,TRITUM,TRITUM_FLAG_W,HELIUM,HELIUM_FLAG_W,DELHE3,DELHE3_FLAG_W,DELC13,DELC13_FLAG_W,DELC14,DELC14_FLAG_W,NEON,NEON_FLAG_W,NEONER,CCL4,CCL4_FLAG_W,POC,POC_FLAG_W,DOC,DOC_FLAG_W,TDN,TDN_FLAG_W,DON,DON_FLAG_W,CHLORA,CHLORA_FLAG_W,ARGON,ARGON_FLAG_W,TRITER,CDOM325,CDOM325_FLAG_W,CDOM340,CDOM340_FLAG_W,CDOM380,CDOM380_FLAG_W,CDOM412,CDOM412_FLAG_W,CDOM443,CDOM443_FLAG_W,CDOM490,CDOM490_FLAG_W,CDOM555,CDOM555_FLAG_W,CDOMSL,CDOMSL_FLAG_W,CDOMSN,CDOMSN_FLAG_W,THETA,D18O_NO3,D18O_NO3_FLAG_W,CDOM2C,CDOM2C_FLAG_W,CDOM3C,CDOM3C_FLAG_W,LAB_DEN,LAB_DEN_FLAG_W,DELSI30,DELSI30_FLAG_W,N2,N2_FLAG_W,D15N_NO3,D15N_NO3_FLAG_W,HELIER,DELHER
,,,,,,,,,,,METERS,DBAR,ITS-90,PSS-78,,PSS-78,,UMOL/KG,,UMOL/KG,,UMOL/KG,,UMOL/KG,,UMOL/KG,,UMOL/KG,,PMOL/KG,,PMOL/KG,,FMOL/KG,,UMOL/KG,,UMOL/KG,,UATM,,DEG C,,,DEG C,TU,,NMOL/KG,,PERCNT,,/MILLE,,/MILLE,,NMOL/KG,,NMOL/KG,PMOL/KG,,UG/KG,,UMOL/KG,,UMOL/KG,,UMOL/KG,,UG/KG,,UMOL/KG,,TU,1/M,,1/M,,1/M,,1/M,,1/M,,1/M,,1/M,,1/NM,,1/NM,,DEG C,/MILLE,,,,,,,,/MILLE,,UMOL/KG,,/MILLE,,NMOL/KG,PERCNT
33RO20071215,        P18,     128,          1,         36,      12017,2,20080131,       1223,   -45.5842,  -102.9998,       3879,     5.4,  12.7232,  34.0191,2,  34.0179,2,    268.0,2,   267.1,2,    0.80,2,   13.80,2,    0.25,2,    1.03,2,-999.000,9,-999.000,9,-999.0000,9,  2068.0,6,  2260.6,2,    543.1,2,    20.00,   7.8467,2,    25.00,-999.000,9,-999.0000,9, -999.00,9, -999.00,9,  -999.0,9,-999.000,9,-999.000,-999.000,9,-999.000,9,   50.75,2,   17.96,2, -999.00,1,    0.12,2, -999.00,9,-999.000,   0.0804,2,   0.0516,2,   0.0152,2,   0.0109,2,   0.0069,2,   0.0017,2,  -0.0006,4,   0.0228,2,   0.0302,2,  12.7225,     -999.0,9,     -999.0,9,     -999.0,9,     -999.0,9,     -999.0,9,     -999.0,9,     -999.0,9,-999.0000, -999.00
33RO20071215,        P18,     128,          1,         35,      12029,2,20080131,       1223,   -45.5842,  -102.9998,       3879,     9.4,  12.7226,  34.0247,2,  34.0269,2,    268.2,2,   267.3,2,    0.80,2,   13.70,2,    0.25,2,    1.03,2,   3.269,2,   1.904,2,   1.5480,2,  2069.5,2,  2265.9,2,   -999.0,9,  -999.00,   7.8489,2,    25.00,-999.000,9,-999.0000,9, -999.00,9,    1.62,2,  -999.0,1,-999.000,9,-999.000,-999.000,9,-999.000,9,   50.75,2,   18.28,2, -999.00,1,    0.12,2, -999.00,1,-999.000,   0.0717,2,   0.0447,2,   0.0120,2,   0.0084,2,   0.0047,2,   0.0000,4,  -0.0015,4,   0.0303,2,   0.0343,2,  12.7214,     -999.0,1,     -999.0,1,     -999.0,9,     -999.0,9,     -999.0,9,     -999.0,1,     -999.0,9,-999.0000, -999.00
33RO20071215,        P18,     128,          1,         34,      12049,2,20080131,       1223,   -45.5842,  -102.9998,       3879,    33.1,  12.2685,  34.0715,2,  34.0715,2,    270.3,2,   270.0,2,    0.80,2,   13.90,2,    0.23,2,    1.04,2,-999.000,9,-999.000,9,-999.0000,9,  2073.2,2,  2265.8,2,   -999.0,9,  -999.00,   7.8431,2,    25.00,-999.000,9,-999.0000,9, -999.00,9, -999.00,9,  -999.0,9,-999.000,9,-999.000,-999.000,9,-999.000,1,   49.31,2,   18.70,2, -999.00,1,    0.13,2, -999.00,9,-999.000,-999.0000,5,-999.0000,5,-999.0000,5,-999.0000,5,-999.0000,5,-999.0000,5,-999.0000,5,-999.0000,5,-999.0000,5,  12.2641,     -999.0,9,     -999.0,1,     -999.0,1,     -999.0,9,     -999.0,9,     -999.0,9,     -999.0,9,-999.0000, -999.00
33RO20071215,        P18,     128,          1,         33,      12027,2,20080131,       1223,   -45.5842,  -102.9998,       3879,    58.6,  10.9659,  34.0901,2,  34.0927,2,    276.8,2,   278.0,2,    1.20,2,   14.20,2,    0.21,2,    1.07,2,   3.591,2,   2.062,2,   1.5702,2,  2078.1,2,  2267.8,2,    566.2,6,    20.00,   7.8329,2,    25.00,-999.000,9,-999.0000,9, -999.00,9, -999.00,9,  -999.0,9,-999.000,9,-999.000,-999.000,9,-999.000,9,   48.60,2,   17.74,2, -999.00,1,    0.13,2, -999.00,9,-999.000,   0.0679,2,   0.0410,2,   0.0151,2,   0.0100,2,   0.0056,2,   0.0005,3,  -0.0012,4,   0.0225,2,   0.0280,2,  10.9588,     -999.0,9,     -999.0,1,     -999.0,9,     -999.0,9,     -999.0,9,     -999.0,9,     -999.0,9,-999.0000, -999.00
33RO20071215,        P18,     128,          1,         32,      12023,2,20080131,       1223,   -45.5842,  -102.9998,       3879,    83.8,   9.5681,  34.1083,2,  34.1097,2,    282.2,2,   282.2,2,    1.60,2,   14.50,2,    0.25,2,    1.10,2,-999.000,9,-999.000,9,-999.0000,9,  2084.7,2,  2267.9,2,   -999.0,9,  -999.00,   7.8234,2,    25.00,-999.000,9,-999.0000,9, -999.00,9, -999.00,9,  -999.0,9,-999.000,9,-999.000,-999.000,9,-999.000,9,   48.22,2,   17.63,2, -999.00,1,    0.12,2, -999.00,9,-999.000,   0.0692,2,   0.0426,2,   0.0176,2,   0.0118,2,   0.0065,2,   0.0011,2,  -0.0008,4,   0.0195,2,   0.0244,2,   9.5588,     -999.0,9,     -999.0,1,     -999.0,9,     -999.0,9,     -999.0,9,     -999.0,9,     -999.0,9,-999.0000, -999.00
33RO20071215,        P18,     128,          1,         31,      12037,2,20080131,       1223,   -45.5842,  -102.9998,       3879,   107.6,   8.6335,  34.1321,2,  34.1310,2,    272.6,2,   273.4,2,    1.80,2,   15.50,2,    0.36,2,    1.17,2,   3.929,2,   2.214,2,   1.7136,2,  2094.7,2,  2269.6,2,    626.1,2,    20.00,   7.7977,2,    25.00,-999.000,9,-999.0000,9, -999.00,9, -999.00,9,  -999.0,9,-999.000,9,-999.000,-999.000,9,-999.000,9,   47.87,2,   18.29,2, -999.00,1,    0.13,2, -999.00,9,-999.000,-999.0000,5,-999.0000,5,-999.0000,5,-999.0000,5,-999.0000,5,-999.0000,5,-999.0000,5,-999.0000,5,-999.0000,5,   8.6223,     -999.0,9,     -999.0,1,     -999.0,9,     -999.0,9,     -999.0,9,     -999.0,9,     -999.0,9,-999.0000, -999.00
33RO20071215,        P18,     128,          1,         30,      12036,2,20080131,       1223,   -45.5842,  -102.9998,       3879,   133.1,   8.0147,  34.1410,2,  34.1465,2,    278.9,2,   278.0,2,    2.40,2,   16.70,2,    0.25,2,    1.24,2,-999.000,9,-999.000,9,-999.0000,9,  2101.1,2,  2272.5,2,   -999.0,9,  -999.00,   7.7895,2,    25.00,-999.000,9,-999.0000,9, -999.00,9, -999.00,9,  -999.0,9,-999.000,9,-999.000,-999.000,9,-999.000,9,   47.81,2,   19.08,2, -999.00,1,    0.08,2, -999.00,9,-999.000,   0.0691,2,   0.0431,2,   0.0196,2,   0.0142,2,   0.0080,2,   0.0021,2,  -0.0002,4,   0.0166,2,   0.0214,2,   8.0014,     -999.0,9,     -999.0,1,     -999.0,9,     -999.0,9,     -999.0,9,     -999.0,9,     -999.0,9,-999.0000, -999.00
33RO20071215,        P18,     128,          1,         29,      12044,2,20080131,       1223,   -45.5842,  -102.9998,       3879,   157.6,   7.6340,  34.1873,2,  34.2001,2,    268.1,2,   264.0,2,    3.40,2,   19.00,2,    0.08,2,    1.35,2,   4.175,2,   2.301,2,   1.6371,2,  2114.7,2,  2268.1,2,    702.2,2,    20.00,   7.7584,2,    25.00,-999.000,9,-999.0000,9, -999.00,9, -999.00,9,  -999.0,9,-999.000,9,-999.000,-999.000,9,-999.000,9,   47.57,2,   21.23,2, -999.00,1,    0.07,2, -999.00,9,-999.000,   0.0697,2,   0.0428,2,   0.0195,2,   0.0146,2,   0.0077,2,   0.0017,2,  -0.0004,4,   0.0164,2,   0.0215,2,   7.6187,     -999.0,9,     -999.0,1,     -999.0,9,     -999.0,9,     -999.0,9,     -999.0,9,     -999.0,9,-999.0000, -999.00
33RO20071215,        P18,     128,          1,         28,      12057,2,20080131,       1223,   -45.5842,  -102.9998,       3879,   182.0,   7.1972,  34.2363,2,  34.2337,2,    263.1,2,   260.5,2,    4.10,2,   20.00,2,    0.02,2,    1.41,2,-999.000,9,-999.000,9,-999.0000,9,  2122.5,2,  2270.9,2,   -999.0,9,  -999.00,   7.7422,2,    25.00,-999.000,9,-999.0000,9, -999.00,9, -999.00,9,  -999.0,9,-999.000,9,-999.000,-999.000,9,-999.000,9,   47.49,2,   22.20,2, -999.00,1,    0.05,2, -999.00,9,-999.000,   0.0748,2,   0.0470,2,   0.0220,2,   0.0166,2,   0.0093,2,   0.0028,2,   0.0002,3,   0.0157,2,   0.0202,2,   7.1801,     -999.0,9,     -999.0,1,     -999.0,9,     -999.0,9,     -999.0,9,     -999.0,9,     -999.0,9,-999.0000, -999.00
33RO20071215,        P18,     128,          1,         27,      12026,2,20080131,       1223,   -45.5842,  -102.9998,       3879,   216.7,   6.8914,  34.2704,2,  34.2718,2,    258.9,2,   258.8,2,    5.30,2,   21.00,2,    0.01,2,    1.47,2,   4.238,2,   2.289,2,   1.4459,2,  2129.5,2,  2272.7,2,    746.0,2,    20.00,   7.7370,2,    25.00,-999.000,9,-999.0000,9, -999.00,9, -999.00,9,  -999.0,9,-999.000,9,-999.000,-999.000,9,-999.000,9,   46.81,2,   23.05,2, -999.00,1,    0.02,2, -999.00,9,-999.000,   0.0692,2,   0.0421,2,   0.0182,2,   0.0130,2,   0.0066,2,   0.0011,2,  -0.0008,4,   0.0181,2,   0.0235,2,   6.8715,     -999.0,9,     -999.0,1,     -999.0,9,     -999.0,9,     -999.0,9,     -999.0,9,     -999.0,9,-999.0000, -999.00
33RO20071215,        P18,     128,          1,         26,      12030,2,20080131,       1223,   -45.5842,  -102.9998,       3879,   266.2,   6.7006,  34.3011,2,  34.2998,2,    259.6,2,   259.2,2,    6.20,2,   21.50,2,    0.01,2,    1.50,2,-999.000,9,-999.000,9,-999.0000,9,  2139.9,2,  2274.3,2,   -999.0,9,  -999.00,   7.7274,2,    25.00,-999.000,9,-999.0000,9, -999.00,9, -999.00,9,  -999.0,9,-999.000,9,-999.000,-999.000,9,-999.000,9,   45.00,2,   23.14,2, -999.00,1,    0.00,2, -999.00,9,-999.000,-999.0000,5,-999.0000,5,-999.0000,5,-999.0000,5,-999.0000,5,-999.0000,5,-999.0000,5,-999.0000,5,-999.0000,5,   6.6764,     -999.0,9,     -999.0,9,     -999.0,9,     -999.0,9,     -999.0,9,     -999.0,9,     -999.0,9,-999.0000, -999.00
33RO20071215,        P18,     128,          1,         25,      12024,2,20080131,       1223,   -45.5842,  -102.9998,       3879,   316.9,   6.6000,  34.3130,2,  34.3125,2,    260.0,2,   259.4,2,    6.80,2,   21.90,2,    0.01,2,    1.52,2,   4.163,2,   2.221,2,   1.2129,2,  2140.0,2,  2280.4,2,    754.2,2,    20.00,   7.7274,2,    25.00,-999.000,9,-999.0000,9, -999.00,9, -999.00,9,  -999.0,9,-999.000,9,-999.000,-999.000,9,-999.000,9,   44.31,2,   23.15,2, -999.00,1, -999.00,9, -999.00,9,-999.000,   0.0661,2,   0.0393,2,   0.0162,2,   0.0109,2,   0.0054,2,   0.0005,3,  -0.0011,4,   0.0203,2,   0.0258,2,   6.5714,     -999.0,9,     -999.0,1,     -999.0,9,     -999.0,9,     -999.0,9,     -999.0,9,     -999.0,9,-999.0000, -999.00
33RO20071215,        P18,     128,          1,         24,      12019,2,20080131,       1223,   -45.5842,  -102.9998,       3879,   366.0,   6.4828,  34.3137,2,  34.3119,2,    261.0,2,   260.4,2,    7.30,2,   22.10,2,    0.01,2,    1.54,2,-999.000,9,-999.000,9,-999.0000,9,  2140.2,2,  2281.7,2,   -999.0,9,  -999.00,   7.7310,2,    25.00,-999.000,9,-999.0000,9, -999.00,9, -999.00,9,  -999.0,9,-999.000,9,-999.000,-999.000,9,-999.000,9,   44.26,2,   23.40,2, -999.00,1, -999.00,9, -999.00,9,-999.000,   0.0683,2,   0.0411,2,   0.0173,2,   0.0115,2,   0.0060,2,   0.0008,2,  -0.0010,4,   0.0197,2,   0.0248,2,   6.4500,     -999.0,9,     -999.0,9,     -999.0,9,     -999.0,9,     -999.0,9,     -999.0,9,     -999.0,9,-999.0000, -999.00
33RO20071215,        P18,     128,          1,         23,      12022,2,20080131,       1223,   -45.5842,  -102.9998,       3879,   432.8,   6.3223,  34.3051,2,  34.3042,2,    261.2,2,   261.5,2,    7.80,2,   22.60,2,    0.00,2,    1.56,2,   4.085,2,   2.147,2,   1.1494,2,  2141.3,2,  2283.3,2,    758.3,2,    20.00,   7.7244,2,    25.00,-999.000,9,-999.0000,9, -999.00,9, -999.00,9,  -999.0,9,-999.000,9,-999.000,-999.000,9,-999.000,9,   43.18,2,   24.13,2, -999.00,1, -999.00,9, -999.00,9,-999.000,   0.0636,2,   0.0371,2,   0.0150,2,   0.0099,2,   0.0047,2,   0.0002,4,  -0.0013,4,   0.0217,2,   0.0272,2,   6.2837,     -999.0,9,     -999.0,1,     -999.0,9,     -999.0,9,     -999.0,9,     -999.0,9,     -999.0,9,-999.0000, -999.00
33RO20071215,        P18,     128,          1,         22,      12015,2,20080131,       1223,   -45.5842,  -102.9998,       3879,   533.0,   6.0621,  34.2883,2,  34.2852,2,    259.3,2,   259.5,2,    8.70,2,   23.30,2,    0.00,2,    1.61,2,-999.000,9,-999.000,9,-999.0000,9,  2143.7,2,  2281.6,2,    761.1,2,    20.00,   7.7207,2,    25.00,-999.000,9,-999.0000,9, -999.00,9, -999.00,9,  -999.0,9,-999.000,9,-999.000,-999.000,9,-999.000,1,   42.41,2,   24.40,2, -999.00,1, -999.00,9, -999.00,9,-999.000,   0.0704,2,   0.0428,2,   0.0191,2,   0.0132,2,   0.0073,2,   0.0018,2,  -0.0005,4,   0.0178,2,   0.0228,2,   6.0154,     -999.0,9,     -999.0,9,     -999.0,1,     -999.0,9,     -999.0,9,     -999.0,9,     -999.0,9,-999.0000, -999.00
33RO20071215,        P18,     128,          1,         21,      12020,2,20080131,       1223,   -45.5842,  -102.9998,       3879,   632.9,   5.7764,  34.2720,2,  34.2706,2,    255.8,2,   256.5,2,   10.30,2,   24.40,2,    0.00,2,    1.69,2,   3.648,2,   1.873,2,   0.9573,2,  2148.3,2,  2282.5,2,    778.9,2,    20.00,   7.7158,2,    25.00,-999.000,9,-999.0000,9, -999.00,9, -999.00,9,  -999.0,9,-999.000,9,-999.000,-999.000,9,-999.000,9,   41.80,2,   25.73,2, -999.00,1, -999.00,9, -999.00,9,-999.000,   0.0808,2,   0.0520,2,   0.0255,2,   0.0180,2,   0.0112,2,   0.0048,2,   0.0014,2,   0.0153,2,   0.0189,2,   5.7218,     -999.0,9,     -999.0,1,     -999.0,9,     -999.0,9,     -999.0,9,     -999.0,9,     -999.0,9,-999.0000, -999.00
33RO20071215,        P18,     128,          1,         20,      12055,2,20080131,       1223,   -45.5842,  -102.9998,       3879,   729.5,   5.3698,  34.2561,2,  34.2561,2,    245.9,2,   244.5,2,   13.60,2,   26.20,2,    0.00,2,    1.80,2,-999.000,9,-999.000,9,-999.0000,9,  2157.4,2,  2283.6,2,    834.7,2,    20.00,   7.6845,2,    25.00,-999.000,9,-999.0000,9, -999.00,9, -999.00,9,  -999.0,9,-999.000,9,-999.000,-999.000,9,-999.000,9,   41.39,2,   27.42,2, -999.00,1, -999.00,9, -999.00,9,-999.000,   0.0724,2,   0.0440,2,   0.0190,2,   0.0124,2,   0.0067,2,   0.0013,2,  -0.0007,4,   0.0193,2,   0.0240,2,   5.3087,     -999.0,9,     -999.0,9,     -999.0,9,     -999.0,9,     -999.0,9,     -999.0,9,     -999.0,9,-999.0000, -999.00
33RO20071215,        P18,     128,          1,         19,      12018,2,20080131,       1223,   -45.5842,  -102.9998,       3879,   833.1,   4.9486,  34.2631,2,  34.2626,2,    229.6,2,   229.2,2,   19.10,2,   28.30,2,    0.00,2,    1.95,2,   1.845,3,   0.921,3,   0.3619,3,  2172.0,2,  2285.3,2,    903.5,2,    20.00,   7.6739,2,    25.00,-999.000,9,-999.0000,9, -999.00,9, -999.00,9,  -999.0,9,-999.000,9,-999.000,-999.000,9,-999.000,9,   41.45,2,   29.75,2, -999.00,1, -999.00,9, -999.00,9,-999.000,   0.0747,2,   0.0450,2,   0.0195,2,   0.0123,2,   0.0063,2,   0.0009,2,  -0.0011,4,   0.0196,2,   0.0244,2,   4.8809,     -999.0,9,     -999.0,9,     -999.0,9,     -999.0,9,     -999.0,9,     -999.0,9,     -999.0,9,-999.0000, -999.00
33RO20071215,        P18,     128,          1,         18,      12025,2,20080131,       1223,   -45.5842,  -102.9998,       3879,   933.6,   4.5544,  34.2891,2,  34.2879,2,    214.1,2,   214.3,2,   25.60,2,   30.20,2,    0.00,2,    2.08,2,   2.668,3,   1.341,2,   0.5972,3,  2185.2,2,  2289.2,2,   -999.0,9,  -999.00,   7.6359,2,    25.00,-999.000,9,-999.0000,9, -999.00,9, -999.00,9,  -999.0,9,-999.000,9,-999.000,-999.000,9,-999.000,9,   41.29,2,   31.84,2, -999.00,1, -999.00,9, -999.00,9,-999.000,   0.0874,2,   0.0553,2,   0.0264,2,   0.0179,2,   0.0106,2,   0.0034,2,   0.0004,3,   0.0164,2,   0.0202,2,   4.4806,     -999.0,9,     -999.0,9,     -999.0,9,     -999.0,9,     -999.0,9,     -999.0,9,     -999.0,9,-999.0000, -999.00
33RO20071215,        P18,     128,          1,         17,      12016,2,20080131,       1223,   -45.5842,  -102.9998,       3879,  1032.7,   4.0993,  34.3116,2,  34.3338,4,    203.6,2,   203.3,2,   33.10,2,   31.90,2,    0.00,2,    2.20,2,   1.267,6,   0.643,6,   0.1996,6,  2200.1,2,  2298.5,2,   1021.4,2,    20.00,   7.6235,2,    25.00,-999.000,9,-999.0000,9, -999.00,9, -999.00,9,  -999.0,9,-999.000,9,-999.000,-999.000,9,-999.000,1,   40.72,3,   33.32,3, -999.00,1, -999.00,9, -999.00,9,-999.000,   0.0911,2,   0.0579,2,   0.0273,2,   0.0185,2,   0.0107,2,   0.0032,2,   0.0002,3,   0.0167,2,   0.0203,2,   4.0205,     -999.0,9,     -999.0,9,     -999.0,1,     -999.0,9,     -999.0,9,     -999.0,9,     -999.0,9,-999.0000, -999.00
33RO20071215,        P18,     128,          1,         16,      12051,2,20080131,       1223,   -45.5842,  -102.9998,       3879,  1132.9,   3.7214,  34.3396,2,  34.3386,2,    193.5,2,   194.0,2,   40.40,2,   33.00,2,    0.00,2,    2.28,2,-999.000,9,-999.000,9,-999.0000,9,  2212.2,2,  2303.7,2,   -999.0,9,  -999.00,   7.6002,2,    25.00,-999.000,9,-999.0000,9, -999.00,9, -999.00,9,  -999.0,9,-999.000,9,-999.000,-999.000,9,-999.000,9,   40.19,2,   34.68,2, -999.00,9, -999.00,9, -999.00,9,-999.000,   0.0949,2,   0.0601,2,   0.0287,2,   0.0194,2,   0.0113,2,   0.0034,2,   0.0002,3,   0.0166,2,   0.0202,2,   3.6373,     -999.0,9,     -999.0,9,     -999.0,9,     -999.0,9,     -999.0,9,     -999.0,9,     -999.0,9,-999.0000, -999.00
33RO20071215,        P18,     128,          1,         15,      12014,2,20080131,       1223,   -45.5842,  -102.9998,       3879,  1233.0,   3.3632,  34.3865,2,  34.3848,2,    179.3,2,   179.7,2,   51.00,2,   34.40,2,    0.00,2,    2.39,2,   0.907,3,   0.997,3,   7.3755,3,  2229.4,2,  2312.3,2,   1145.5,2,    20.00,   7.5785,2,    25.00,-999.000,9,-999.0000,9, -999.00,9, -999.00,9,  -999.0,9,-999.000,9,-999.000,-999.000,9,-999.000,9,   39.94,2,   35.87,2, -999.00,9, -999.00,9, -999.00,9,-999.000,   0.0998,2,   0.0636,2,   0.0307,2,   0.0205,2,   0.0119,2,   0.0035,2,   0.0001,4,   0.0166,2,   0.0199,2,   3.2740,     -999.0,9,     -999.0,9,     -999.0,9,     -999.0,9,     -999.0,9,     -999.0,9,     -999.0,9,-999.0000, -999.00
33RO20071215,        P18,     128,          1,         14,      12013,2,20080131,       1223,   -45.5842,  -102.9998,       3879,  1332.4,   3.1301,  34.4279,2,  34.4235,2,    171.3,2,   171.1,2,   59.00,2,   35.10,2,    0.00,2,    2.44,2,-999.000,9,-999.000,9,-999.0000,9,  2242.3,2,  1849.1,4,   -999.0,9,  -999.00,   7.5633,2,    25.00,-999.000,9,-999.0000,9, -999.00,9, -999.00,9,  -999.0,9,-999.000,9,-999.000,-999.000,9,-999.000,9,   39.60,3,   36.29,3, -999.00,9, -999.00,9, -999.00,9,-999.000,   0.1076,2,   0.0700,2,   0.0346,2,   0.0233,2,   0.0139,2,   0.0047,2,   0.0008,2,   0.0161,2,   0.0189,2,   3.0351,     -999.0,9,     -999.0,9,     -999.0,9,     -999.0,9,     -999.0,9,     -999.0,9,     -999.0,9,-999.0000, -999.00
33RO20071215,        P18,     128,          1,         13,      12012,2,20080131,       1223,   -45.5842,  -102.9998,       3879,  1466.4,   2.8859,  34.4907,2,  34.4898,2,    160.7,2,   160.3,2,   70.30,2,   35.80,2,    0.00,2,    2.49,2,   0.296,2,   0.165,2,   0.0924,3,  2257.0,2,  2338.1,2,   1227.9,2,    20.00,   7.5419,2,    25.00,-999.000,9,-999.0000,9, -999.00,9, -999.00,9,  -999.0,9,-999.000,9,-999.000,-999.000,9,-999.000,9,   38.94,2,   36.97,2, -999.00,9, -999.00,9, -999.00,9,-999.000,   0.1113,2,   0.0725,2,   0.0356,2,   0.0237,2,   0.0139,2,   0.0043,2,   0.0005,3,   0.0164,2,   0.0191,2,   2.7823,     -999.0,9,     -999.0,9,     -999.0,9,     -999.0,9,     -999.0,9,     -999.0,9,     -999.0,9,-999.0000, -999.00
33RO20071215,        P18,     128,          1,         12,      12031,2,20080131,       1223,   -45.5842,  -102.9998,       3879,  1668.1,   2.6334,  34.5538,2,  34.5522,2,    161.0,2,   160.0,2,   79.40,2,   35.40,2,    0.00,2,    2.47,2,-999.000,9,-999.000,9,-999.0000,9,  2266.5,6,  2346.8,2,   -999.0,9,  -999.00,   7.5523,2,    25.00,-999.000,9,-999.0000,9, -999.00,9, -999.00,9,  -999.0,9,-999.000,9,-999.000,-999.000,9,-999.000,9,   38.86,2,   36.65,2, -999.00,9, -999.00,9, -999.00,9,-999.000,   0.1162,2,   0.0765,2,   0.0379,2,   0.0255,2,   0.0152,2,   0.0052,2,   0.0011,2,   0.0162,2,   0.0186,2,   2.5160,     -999.0,9,     -999.0,9,     -999.0,9,     -999.0,9,     -999.0,9,     -999.0,9,     -999.0,9,-999.0000, -999.00