BOTTLE,20220818CCHSIOAMB
EXPOCODE,SECT_ID,STNNBR,CASTNO,SAMPNO,BTLNBR,BTLNBR_FLAG_W,DATE,TIME,LATITUDE,LONGITUDE,DEPTH,CTDPRS,CTDTMP,CTDSAL,CTDSAL_FLAG_W,SALNTY,SALNTY_FLAG_W,CTDOXY,CTDOXY_FLAG_W,OXYGEN,OXYGEN_FLAG_W,SILCAT,SILCAT_FLAG_W,NITRAT,NITRAT_FLAG_W,NITRIT,NITRIT_FLAG_W,PHSPHT,PHSPHT_FLAG_W,CFC-11,CFC-11_FLAG_W,CFC-12,CFC-12_FLAG_W,SF6,SF6_FLAG_W,TCARBN,TCARBN_FLAG_W,ALKALI,ALKALI_FLAG_W,FCO2,FCO2_FLAG_W,FCO2TMP,PH_SWS,PH_SWS_FLAG_W,PH_TMP,TRITUM,TRITUM_FLAG_W,HELIUM,HELIUM_FLAG_W,DELHE3,DELHE3_FLAG_W,DELC13,DELC13_FLAG_W,DELC14,DELC14_FLAG_W,NEON,NEON_FLAG_W,NEONER,CCL4,CCL4_FLAG_W,POC,POC_FLAG_W,DOC,DOC_FLAG_W,TDN,TDN_FLAG_W,DON,DON_FLAG_W,CHLORA,CHLORA_FLAG_W,ARGON,ARGON_FLAG_W,TRITER,CDOM325,CDOM325_FLAG_W,CDOM340,CDOM340_FLAG_W,CDOM380,CDOM380_FLAG_W,CDOM412,CDOM412_FLAG_W,CDOM443,CDOM443_FLAG_W,CDOM490,CDOM490_FLAG_W,CDOM555,CDOM555_FLAG_W,CDOMSL,CDOMSL_FLAG_W,CDOMSN,CDOMSN_FLAG_W,THETA,D18O_NO3,D18O_NO3_FLAG_W,CDOM2C,CDOM2C_FLAG_W,CDOM3C,CDOM3C_FLAG_W,LAB_DEN,LAB_DEN_FLAG_W,DELSI30,DELSI30_FLAG_W,N2,N2_FLAG_W,D15N_NO3,D15N_NO3_FLAG_W,HELIER,DELHER
,,,,,,,,,,,METERS,DBAR,ITS-90,PSS-78,,PSS-78,,UMOL/KG,,UMOL/KG,,UMOL/KG,,UMOL/KG,,UMOL/KG,,UMOL/KG,,PMOL/KG,,PMOL/KG,,FMOL/KG,,UMOL/KG,,UMOL/KG,,UATM,,DEG C,,,DEG C,TU,,NMOL/KG,,PERCNT,,/MILLE,,/MILLE,,NMOL/KG,,NMOL/KG,PMOL/KG,,UG/KG,,UMOL/KG,,UMOL/KG,,UMOL/KG,,UG/KG,,UMOL/KG,,TU,1/M,,1/M,,1/M,,1/M,,1/M,,1/M,,1/M,,1/NM,,1/NM,,DEG C,/MILLE,,,,,,,,/MILLE,,UMOL/KG,,/MILLE,,NMOL/KG,PERCNT
33RO20071215,        P18,      76,          1,         36,      12017,2,20080109,       2047,   -15.2498,  -103.0002,       4051,     5.2,  22.5848,  35.8417,2,  35.8553,2,    220.5,2,   221.7,2,    1.50,2,    4.70,2,    0.12,2,    0.55,2,   1.987,2,   1.226,2,   1.0759,2,  2066.7,6,  2366.8,2,    353.3,2,    20.00,   8.0179,2,    25.00,-999.000,9,-999.0000,9, -999.00,9, -999.00,9,  -999.0,9,-999.000,9,-999.000,-999.000,9,-999.000,9, -999.00,9, -999.00,9, -999.00,9,    0.15,2, -999.00,9,-999.000,   0.0974,2,   0.0648,2,   0.0254,2,   0.0193,2,   0.0129,2,   0.0056,2,   0.0009,2,   0.0154,2,   0.0215,2,  22.5837,     -999.0,9,     -999.0,9,     -999.0,9,     -999.0,1,     -999.0,9,     -999.0,9,     -999.0,9,-999.0000, -999.00
33RO20071215,        P18,      76,          1,         35,      12029,2,20080109,       2047,   -15.2498,  -103.0002,       4051,    15.0,  22.5590,  35.8401,2,  35.8414,2,    220.8,2,   222.2,2,    1.50,2,    4.70,2,    0.12,2,    0.54,2,   1.985,6,   1.230,6,   1.0858,6,  2068.3,2,  2364.1,2,   -999.0,9,  -999.00,   8.0114,2,    25.00,-999.000,9,-999.0000,9, -999.00,9, -999.00,9,  -999.0,9,-999.000,9,-999.000,-999.000,9,-999.000,9, -999.00,9, -999.00,9, -999.00,9,    0.13,2, -999.00,9,-999.000,   0.0996,2,   0.0687,2,   0.0283,2,   0.0205,2,   0.0135,2,   0.0058,2,   0.0011,2,   0.0156,2,   0.0201,2,  22.5560,     -999.0,9,     -999.0,9,     -999.0,9,     -999.0,1,     -999.0,9,     -999.0,9,     -999.0,9,-999.0000, -999.00
33RO20071215,        P18,      76,          1,         34,      12049,2,20080109,       2047,   -15.2498,  -103.0002,       4051,    32.9,  22.6037,  35.9719,2,  35.9729,2,    221.3,2,   222.5,2,    1.10,2,    2.20,2,    0.05,2,    0.42,2,   1.977,2,   1.224,2,   1.0044,2,  2066.0,2,  2375.0,2,    338.5,2,    20.00,   8.0306,2,    25.00,-999.000,9,-999.0000,9, -999.00,9, -999.00,9,  -999.0,9,-999.000,9,-999.000,-999.000,9,-999.000,9, -999.00,9, -999.00,9, -999.00,9,    0.20,2, -999.00,9,-999.000,   0.0778,2,   0.0522,2,   0.0199,2,   0.0135,2,   0.0077,2,   0.0021,2,  -0.0009,4,   0.0193,2,   0.0234,2,  22.5970,     -999.0,9,     -999.0,9,     -999.0,9,     -999.0,1,     -999.0,9,     -999.0,9,     -999.0,9,-999.0000, -999.00
33RO20071215,        P18,      76,          1,         33,      12027,2,20080109,       2047,   -15.2498,  -103.0002,       4051,    58.0,  21.7596,  35.9808,2,  35.9757,2,    221.7,2,   222.8,2,    0.90,2,    0.20,2,    0.00,2,    0.34,2,   2.072,2,   1.275,2,   1.0464,2,  2077.2,2,  -999.0,5,   -999.0,9,  -999.00,   8.0242,2,    25.00,-999.000,9,-999.0000,9, -999.00,9, -999.00,9,  -999.0,9,-999.000,9,-999.000,-999.000,9,-999.000,9, -999.00,9, -999.00,9, -999.00,9,    0.15,2, -999.00,9,-999.000,   0.0767,2,   0.0518,2,   0.0197,2,   0.0125,2,   0.0065,2,   0.0018,2,  -0.0006,4,   0.0209,2,   0.0238,2,  21.7481,     -999.0,9,     -999.0,9,     -999.0,9,     -999.0,1,     -999.0,9,     -999.0,9,     -999.0,9,-999.0000, -999.00
33RO20071215,        P18,      76,          1,         32,      12023,2,20080109,       2047,   -15.2498,  -103.0002,       4051,    82.8,  21.1359,  35.9135,2,  35.9203,2,    222.2,2,   221.7,2,    0.90,2,    0.70,2,    0.02,2,    0.41,2,   2.111,2,   1.294,2,   1.1140,2,  2080.5,2,  2378.7,2,    363.8,2,    20.00,   7.9671,2,    25.00,-999.000,9,-999.0000,9, -999.00,9, -999.00,9,  -999.0,9,-999.000,9,-999.000,-999.000,9,-999.000,9, -999.00,9, -999.00,9, -999.00,9,    0.12,2, -999.00,9,-999.000,   0.0936,2,   0.0650,2,   0.0296,2,   0.0211,2,   0.0127,2,   0.0056,2,   0.0015,2,   0.0159,2,   0.0187,2,  21.1199,     -999.0,9,     -999.0,9,     -999.0,9,     -999.0,1,     -999.0,9,     -999.0,9,     -999.0,9,-999.0000, -999.00
33RO20071215,        P18,      76,          1,         31,      12037,2,20080109,       2047,   -15.2498,  -103.0002,       4051,   107.6,  20.6457,  35.8767,2,  35.8744,2,    215.6,2,   216.3,2,    0.90,2,    0.80,2,    0.11,2,    0.42,2,   2.131,2,   1.312,2,   1.0918,2,  2087.3,2,  2378.0,2,   -999.0,9,  -999.00,   7.9917,2,    25.00,-999.000,9,-999.0000,9, -999.00,9, -999.00,9,  -999.0,9,-999.000,9,-999.000,-999.000,9,-999.000,9, -999.00,9, -999.00,9, -999.00,9,    0.07,2, -999.00,9,-999.000,   0.0984,2,   0.0718,2,   0.0325,2,   0.0227,2,   0.0137,2,   0.0061,2,   0.0019,2,   0.0160,2,   0.0180,2,  20.6253,     -999.0,9,     -999.0,9,     -999.0,9,     -999.0,1,     -999.0,9,     -999.0,9,     -999.0,9,-999.0000, -999.00
33RO20071215,        P18,      76,          1,         30,      12036,2,20080109,       2047,   -15.2498,  -103.0002,       4051,   132.8,  20.3495,  35.8137,2,  35.8090,2,    214.1,2,   214.6,2,    1.00,2,    1.30,2,    0.31,2,    0.49,2,   2.168,6,   1.325,6,   1.0697,6,  2089.7,2,  2368.7,2,    391.0,2,    20.00,   7.9809,2,    25.00,-999.000,9,-999.0000,9, -999.00,9, -999.00,9,  -999.0,9,-999.000,9,-999.000,-999.000,9,-999.000,9, -999.00,9, -999.00,9, -999.00,9,    0.07,2, -999.00,9,-999.000,   0.0853,2,   0.0596,2,   0.0269,2,   0.0196,2,   0.0112,2,   0.0044,2,   0.0008,2,   0.0161,2,   0.0188,2,  20.3246,     -999.0,9,     -999.0,9,     -999.0,9,     -999.0,1,     -999.0,9,     -999.0,9,     -999.0,9,-999.0000, -999.00
33RO20071215,        P18,      76,          1,         29,      12044,2,20080109,       2047,   -15.2498,  -103.0002,       4051,   157.6,  20.0273,  35.7380,2,  35.7385,2,    214.2,2,   214.2,2,    1.00,2,    1.40,2,    0.87,2,    0.50,2,   2.185,2,   1.337,2,   1.1280,2,  2090.8,2,  2364.0,2,   -999.0,9,  -999.00,   7.9763,2,    25.00,-999.000,9,-999.0000,9, -999.00,9, -999.00,9,  -999.0,9,-999.000,9,-999.000,-999.000,9,-999.000,9, -999.00,9, -999.00,9, -999.00,9,    0.03,2, -999.00,9,-999.000,   0.0796,2,   0.0563,2,   0.0246,2,   0.0169,2,   0.0091,2,   0.0032,2,   0.0001,4,   0.0174,2,   0.0196,2,  19.9980,     -999.0,9,     -999.0,9,     -999.0,9,     -999.0,1,     -999.0,9,     -999.0,9,     -999.0,9,-999.0000, -999.00
33RO20071215,        P18,      76,          1,         28,      12057,2,20080109,       2047,   -15.2498,  -103.0002,       4051,   182.8,  19.8250,  35.6926,2,  35.7000,2,    212.3,2,   221.5,3,    1.00,2,    1.60,2,    0.90,2,    0.51,2,   2.224,2,   1.353,2,   1.0613,2,  2090.5,2,  2363.2,2,    408.6,6,    20.00,   7.9642,2,    25.00,-999.000,9,-999.0000,9, -999.00,9, -999.00,9,  -999.0,9,-999.000,9,-999.000,-999.000,9,-999.000,9, -999.00,9, -999.00,9, -999.00,9,    0.02,2, -999.00,9,-999.000,   0.0969,2,   0.0728,2,   0.0325,2,   0.0221,2,   0.0131,2,   0.0054,2,   0.0013,2,   0.0166,2,   0.0181,2,  19.7913,     -999.0,9,     -999.0,9,     -999.0,9,     -999.0,9,     -999.0,9,     -999.0,9,     -999.0,9,-999.0000, -999.00
33RO20071215,        P18,      76,          1,         27,      12026,2,20080109,       2047,   -15.2498,  -103.0002,       4051,   217.6,  15.7885,  34.9678,2,  34.9854,2,    174.5,2,   174.0,2,    2.70,2,   10.30,2,    0.02,2,    0.97,2,   2.576,2,   1.503,2,   1.0494,2,  2116.9,2,  -999.0,9,   -999.0,9,  -999.00,   7.8476,2,    25.00,-999.000,9,-999.0000,9, -999.00,9, -999.00,9,  -999.0,9,-999.000,9,-999.000,-999.000,9,-999.000,9, -999.00,9, -999.00,9, -999.00,9,    0.01,2, -999.00,9,-999.000,   0.1239,2,   0.0900,2,   0.0453,2,   0.0338,2,   0.0198,2,   0.0086,2,   0.0029,2,   0.0150,2,   0.0161,2,  15.7544,     -999.0,9,     -999.0,9,     -999.0,9,     -999.0,1,     -999.0,9,     -999.0,9,     -999.0,9,-999.0000, -999.00
33RO20071215,        P18,      76,          1,         26,      12030,2,20080109,       2047,   -15.2498,  -103.0002,       4051,   265.2,  11.7262,  34.5439,2,  34.5509,2,     85.0,2,    80.6,2,   14.00,2,   21.90,2,    0.01,2,    2.06,2,   1.972,2,   1.054,2,   0.4804,2,  2203.2,2,  -999.0,5,   1213.5,2,    20.00,   7.5486,2,    25.00,-999.000,9,-999.0000,9, -999.00,9, -999.00,9,  -999.0,9,-999.000,9,-999.000,-999.000,9,-999.000,9, -999.00,9, -999.00,9, -999.00,9,    0.00,2, -999.00,9,-999.000,   0.1398,2,   0.1010,2,   0.0540,2,   0.0420,2,   0.0234,2,   0.0082,2,   0.0021,2,   0.0151,2,   0.0152,2,  11.6922,     -999.0,9,     -999.0,9,     -999.0,9,     -999.0,9,     -999.0,9,     -999.0,9,     -999.0,9,-999.0000, -999.00
33RO20071215,        P18,      76,          1,         25,      12024,2,20080109,       2047,   -15.2498,  -103.0002,       4051,   315.6,  10.6720,  34.6634,2,  34.6615,2,     16.9,2,    15.3,2,   24.30,2,   29.80,2,    0.00,2,    2.69,2,   0.644,2,   0.349,2,   0.1557,2,  2261.9,2,  -999.0,9,   -999.0,9,  -999.00,   7.3900,2,    25.00,-999.000,9,-999.0000,9, -999.00,9, -999.00,9,  -999.0,9,-999.000,9,-999.000,-999.000,9,-999.000,9, -999.00,9, -999.00,9, -999.00,9, -999.00,9, -999.00,9,-999.000,   0.1656,2,   0.1213,2,   0.0696,2,   0.0558,2,   0.0322,2,   0.0117,2,   0.0034,2,   0.0149,2,   0.0139,2,  10.6338,     -999.0,9,     -999.0,9,     -999.0,9,     -999.0,1,     -999.0,9,     -999.0,9,     -999.0,9,-999.0000, -999.00
33RO20071215,        P18,      76,          1,         24,      12019,2,20080109,       2047,   -15.2498,  -103.0002,       4051,   366.8,   9.5728,  34.6484,2,  34.6460,2,     16.5,2,    15.5,2,   27.60,2,   35.10,2,    0.00,2,    2.73,2,   0.245,2,   0.134,2,   0.0335,2,  2266.8,6,  2298.5,2,   1831.8,2,    20.00,   7.3889,2,    25.00,-999.000,9,-999.0000,9, -999.00,9, -999.00,9,  -999.0,9,-999.000,9,-999.000,-999.000,9,-999.000,9, -999.00,9, -999.00,9, -999.00,9, -999.00,9, -999.00,9,-999.000,   0.1659,2,   0.1200,2,   0.0688,2,   0.0547,2,   0.0328,2,   0.0124,2,   0.0038,2,   0.0145,2,   0.0139,2,   9.5312,     -999.0,9,     -999.0,9,     -999.0,9,     -999.0,1,     -999.0,9,     -999.0,9,     -999.0,9,-999.0000, -999.00
33RO20071215,        P18,      76,          1,         23,      12022,2,20080109,       2047,   -15.2498,  -103.0002,       4051,   431.8,   8.5420,  34.6109,2,  34.6637,4,     25.8,2,    12.8,3,   26.30,2,   33.30,2,    0.00,2,    2.73,2,   0.347,2,   0.193,2,   0.0376,2,  2265.8,2,  2295.5,2,   -999.0,9,  -999.00,   7.3901,2,    25.00,-999.000,9,-999.0000,9, -999.00,9, -999.00,9,  -999.0,9,-999.000,9,-999.000,-999.000,9,-999.000,9, -999.00,9, -999.00,9, -999.00,9, -999.00,9, -999.00,9,-999.000,   0.1638,2,   0.1189,2,   0.0678,2,   0.0536,2,   0.0315,2,   0.0116,2,   0.0034,2,   0.0148,2,   0.0141,2,   8.4962,     -999.0,9,     -999.0,9,     -999.0,9,     -999.0,9,     -999.0,9,     -999.0,9,     -999.0,9,-999.0000, -999.00
33RO20071215,        P18,      76,          1,         22,      12015,2,20080109,       2047,   -15.2498,  -103.0002,       4051,   530.5,   7.2860,  34.5563,2,  34.5551,2,     41.3,2,    40.5,2,   37.50,2,   40.50,2,    0.00,2,    2.82,2,   0.042,2,   0.024,2,   0.0000,2,  2267.7,2,  -999.0,9,   1756.1,2,    20.00,   7.4060,2,    25.00,-999.000,9,-999.0000,9, -999.00,9, -999.00,9,  -999.0,9,-999.000,9,-999.000,-999.000,9,-999.000,9, -999.00,9, -999.00,9, -999.00,9, -999.00,9, -999.00,9,-999.000,   0.1549,2,   0.1098,2,   0.0622,2,   0.0477,2,   0.0297,2,   0.0116,2,   0.0035,2,   0.0144,2,   0.0144,2,   7.2343,     -999.0,9,     -999.0,9,     -999.0,9,     -999.0,9,     -999.0,9,     -999.0,9,     -999.0,9,-999.0000, -999.00
33RO20071215,        P18,      76,          1,         21,      12020,2,20080109,       2047,   -15.2498,  -103.0002,       4051,   633.4,   6.2093,  34.5163,2,  34.5158,2,     45.5,2,    44.9,2,   46.60,2,   42.70,2,    0.00,2,    3.00,2,   0.012,2,   0.007,2,   0.0000,2,  2278.5,2,  2297.7,4,   -999.0,9,  -999.00,   7.3891,2,    25.00,-999.000,9,-999.0000,9, -999.00,9, -999.00,9,  -999.0,9,-999.000,9,-999.000,-999.000,9,-999.000,9, -999.00,9, -999.00,9, -999.00,9, -999.00,9, -999.00,9,-999.000,   0.1505,2,   0.1051,2,   0.0583,2,   0.0438,2,   0.0266,2,   0.0092,2,   0.0019,2,   0.0147,2,   0.0151,2,   6.1524,     -999.0,9,     -999.0,9,     -999.0,9,     -999.0,9,     -999.0,9,     -999.0,9,     -999.0,9,-999.0000, -999.00
33RO20071215,        P18,      76,          1,         20,      12055,2,20080109,       2047,   -15.2498,  -103.0002,       4051,   731.9,   5.5910,  34.5091,2,  34.5086,2,     48.2,2,    49.5,2,   55.10,2,   43.50,2,    0.00,2,    3.06,2,   0.001,2,   0.001,2,   0.0000,2,  2285.9,2,  -999.0,9,   1826.7,2,    20.00,   7.3930,2,    25.00,-999.000,9,-999.0000,9, -999.00,9, -999.00,9,  -999.0,9,-999.000,9,-999.000,-999.000,9,-999.000,9, -999.00,9, -999.00,9, -999.00,9, -999.00,9, -999.00,9,-999.000,   0.1456,2,   0.1007,2,   0.0553,2,   0.0411,2,   0.0247,2,   0.0082,2,   0.0013,2,   0.0149,2,   0.0155,2,   5.5281,     -999.0,9,     -999.0,9,     -999.0,9,     -999.0,1,     -999.0,9,     -999.0,9,     -999.0,9,-999.0000, -999.00
33RO20071215,        P18,      76,          1,         19,      12018,2,20080109,       2047,   -15.2498,  -103.0002,       4051,   832.8,   5.0940,  34.5128,2,  34.5131,2,     51.7,2,    51.1,2,   64.30,2,   43.90,2,    0.00,2,    3.10,2,   0.000,2,   0.001,2,   0.0000,2,  2295.5,2,  -999.0,5,   1820.7,2,    20.00,   7.3947,2,    25.00,-999.000,9,-999.0000,9, -999.00,9, -999.00,9,  -999.0,9,-999.000,9,-999.000,-999.000,9,-999.000,9, -999.00,9, -999.00,9, -999.00,9, -999.00,9, -999.00,9,-999.000,   0.1561,2,   0.1100,2,   0.0623,2,   0.0467,2,   0.0294,2,   0.0113,2,   0.0032,2,   0.0145,2,   0.0146,2,   5.0250,     -999.0,9,     -999.0,9,     -999.0,9,     -999.0,9,     -999.0,9,     -999.0,9,     -999.0,9,-999.0000, -999.00
33RO20071215,        P18,      76,          1,         18,      12025,4,20080109,       2047,   -15.2498,  -103.0002,       4051,   933.8,   4.5433,  34.5251,2,-999.0000,9,     59.7,2,  -999.0,9, -999.00,9, -999.00,9, -999.00,9, -999.00,9,-999.000,9,-999.000,9,-999.0000,9,  -999.0,9,  -999.0,9,   -999.0,9,  -999.00,-999.0000,9,  -999.00,-999.000,9,-999.0000,9, -999.00,9, -999.00,9,  -999.0,9,-999.000,9,-999.000,-999.000,9,-999.000,9, -999.00,9, -999.00,9, -999.00,9, -999.00,9, -999.00,9,-999.000,-999.0000,9,-999.0000,9,-999.0000,9,-999.0000,9,-999.0000,9,-999.0000,9,-999.0000,9,-999.0000,9,-999.0000,9,   4.4692,     -999.0,9,     -999.0,9,     -999.0,9,     -999.0,9,     -999.0,9,     -999.0,9,     -999.0,9,-999.0000, -999.00
33RO20071215,        P18,      76,          1,         17,      12016,2,20080109,       2047,   -15.2498,  -103.0002,       4051,  1033.2,   4.1751,  34.5371,2,  34.5361,2,     69.6,2,    69.4,2,   82.80,2,   42.70,2,    0.00,2,    3.05,2,   0.001,2,   0.000,2,   0.0000,2,  2307.6,6,  -999.0,9,   -999.0,9,  -999.00,   7.4249,2,    25.00,-999.000,9,-999.0000,9, -999.00,9, -999.00,9,  -999.0,9,-999.000,9,-999.000,-999.000,9,-999.000,9, -999.00,9, -999.00,9, -999.00,9, -999.00,9, -999.00,9,-999.000,-999.0000,5,-999.0000,5,-999.0000,5,-999.0000,5,-999.0000,5,-999.0000,5,-999.0000,5,-999.0000,5,-999.0000,5,   4.0952,     -999.0,9,     -999.0,9,     -999.0,9,     -999.0,9,     -999.0,9,     -999.0,9,     -999.0,9,-999.0000, -999.00
33RO20071215,        P18,      76,          1,         16,      12051,2,20080109,       2047,   -15.2498,  -103.0002,       4051,  1132.1,   3.8347,  34.5506,2,  34.5498,2,     75.2,2,    75.1,2,   91.20,2,   42.30,2,    0.00,2,    3.02,2,   0.001,2,   0.000,2,   0.0000,2,  2311.4,2,  2337.9,4,   1657.2,2,    20.00,   7.4323,2,    25.00,-999.000,9,-999.0000,9, -999.00,9, -999.00,9,  -999.0,9,-999.000,9,-999.000,-999.000,9,-999.000,9, -999.00,9, -999.00,9, -999.00,9, -999.00,9, -999.00,9,-999.000,   0.1441,2,   0.0997,2,   0.0547,2,   0.0394,2,   0.0240,2,   0.0079,2,   0.0013,2,   0.0150,2,   0.0157,2,   3.7492,     -999.0,9,     -999.0,9,     -999.0,9,     -999.0,1,     -999.0,9,     -999.0,9,     -999.0,9,-999.0000, -999.00
33RO20071215,        P18,      76,          1,         15,      12014,2,20080109,       2047,   -15.2498,  -103.0002,       4051,  1233.0,   3.5706,  34.5627,2,  34.5630,2,     81.1,2,    81.5,2,   97.90,2,   41.80,2,    0.00,2,    2.99,2,-999.000,9,-999.000,9,-999.0000,9,  2318.3,2,  -999.0,9,   -999.0,9,  -999.00,   7.4524,2,    25.00,-999.000,9,-999.0000,9, -999.00,9, -999.00,9,  -999.0,9,-999.000,9,-999.000,-999.000,9,-999.000,9, -999.00,9, -999.00,9, -999.00,9, -999.00,9, -999.00,9,-999.000,   0.1527,2,   0.1064,2,   0.0583,2,   0.0421,2,   0.0260,2,   0.0090,2,   0.0019,2,   0.0150,2,   0.0156,2,   3.4791,     -999.0,9,     -999.0,9,     -999.0,9,     -999.0,9,     -999.0,9,     -999.0,9,     -999.0,9,-999.0000, -999.00
33RO20071215,        P18,      76,          1,         14,      12013,2,20080109,       2047,   -15.2498,  -103.0002,       4051,  1333.8,   3.2745,  34.5778,2,  34.5768,2,     87.6,2,    87.3,2,  104.80,2,   41.20,2,    0.00,2,    2.95,2,  -0.001,2,  -0.001,2,   0.0000,2,  2321.9,2,  2370.6,3,   -999.0,9,  -999.00,   7.4599,2,    25.00,-999.000,9,-999.0000,9, -999.00,9, -999.00,9,  -999.0,9,-999.000,9,-999.000,-999.000,9,-999.000,9, -999.00,9, -999.00,9, -999.00,9, -999.00,9, -999.00,9,-999.000,   0.1541,2,   0.1079,2,   0.0595,2,   0.0428,2,   0.0269,2,   0.0102,2,   0.0028,2,   0.0149,2,   0.0154,2,   3.1775,     -999.0,9,     -999.0,9,     -999.0,9,     -999.0,9,     -999.0,9,     -999.0,9,     -999.0,9,-999.0000, -999.00
33RO20071215,        P18,      76,          1,         13,      12012,2,20080109,       2047,   -15.2498,  -103.0002,       4051,  1468.1,   3.0024,  34.5926,2,  34.5922,2,     94.6,2,    94.6,2,  111.30,2,   40.70,2,    0.00,2,    2.90,2,-999.000,9,-999.000,9,-999.0000,9,  2325.0,2,  -999.0,9,   -999.0,9,  -999.00,   7.4718,2,    25.00,-999.000,9,-999.0000,9, -999.00,9, -999.00,9,  -999.0,9,-999.000,9,-999.000,-999.000,9,-999.000,9, -999.00,9, -999.00,9, -999.00,9, -999.00,9, -999.00,9,-999.000,   0.1542,2,   0.1087,2,   0.0602,2,   0.0432,2,   0.0275,2,   0.0109,2,   0.0033,2,   0.0147,2,   0.0152,2,   2.8971,     -999.0,9,     -999.0,9,     -999.0,9,     -999.0,9,     -999.0,9,     -999.0,9,     -999.0,9,-999.0000, -999.00
33RO20071215,        P18,      76,          1,         12,      12031,2,20080109,       2047,   -15.2498,  -103.0002,       4051,  1666.4,   2.6287,  34.6158,2,  34.6157,2,    104.3,2,   104.7,2,  120.80,2,   39.90,2,    0.00,2,    2.82,2,-999.000,9,-999.000,9,-999.0000,9,  2328.4,2,  -999.0,5,   1451.6,2,    20.00,   7.4805,2,    25.00,-999.000,9,-999.0000,9, -999.00,9, -999.00,9,  -999.0,9,-999.000,9,-999.000,-999.000,9,-999.000,9, -999.00,9, -999.00,9, -999.00,9, -999.00,9, -999.00,9,-999.000,   0.1429,2,   0.0989,2,   0.0536,2,   0.0376,2,   0.0233,2,   0.0083,2,   0.0019,2,   0.0152,2,   0.0161,2,   2.5113,     -999.0,9,     -999.0,9,     -999.0,9,     -999.0,1,     -999.0,9,     -999.0,9,     -999.0,9,-999.0000, -999.00