BOTTLE,20220818CCHSIOAMB
EXPOCODE,SECT_ID,STNNBR,CASTNO,SAMPNO,BTLNBR,BTLNBR_FLAG_W,DATE,TIME,LATITUDE,LONGITUDE,DEPTH,CTDPRS,CTDTMP,CTDSAL,CTDSAL_FLAG_W,SALNTY,SALNTY_FLAG_W,CTDOXY,CTDOXY_FLAG_W,OXYGEN,OXYGEN_FLAG_W,SILCAT,SILCAT_FLAG_W,NITRAT,NITRAT_FLAG_W,NITRIT,NITRIT_FLAG_W,PHSPHT,PHSPHT_FLAG_W,CFC-11,CFC-11_FLAG_W,CFC-12,CFC-12_FLAG_W,SF6,SF6_FLAG_W,TCARBN,TCARBN_FLAG_W,ALKALI,ALKALI_FLAG_W,FCO2,FCO2_FLAG_W,FCO2TMP,PH_SWS,PH_SWS_FLAG_W,PH_TMP,TRITUM,TRITUM_FLAG_W,HELIUM,HELIUM_FLAG_W,DELHE3,DELHE3_FLAG_W,DELC13,DELC13_FLAG_W,DELC14,DELC14_FLAG_W,NEON,NEON_FLAG_W,NEONER,CCL4,CCL4_FLAG_W,POC,POC_FLAG_W,DOC,DOC_FLAG_W,TDN,TDN_FLAG_W,DON,DON_FLAG_W,CHLORA,CHLORA_FLAG_W,ARGON,ARGON_FLAG_W,TRITER,CDOM325,CDOM325_FLAG_W,CDOM340,CDOM340_FLAG_W,CDOM380,CDOM380_FLAG_W,CDOM412,CDOM412_FLAG_W,CDOM443,CDOM443_FLAG_W,CDOM490,CDOM490_FLAG_W,CDOM555,CDOM555_FLAG_W,CDOMSL,CDOMSL_FLAG_W,CDOMSN,CDOMSN_FLAG_W,THETA,D18O_NO3,D18O_NO3_FLAG_W,CDOM2C,CDOM2C_FLAG_W,CDOM3C,CDOM3C_FLAG_W,LAB_DEN,LAB_DEN_FLAG_W,DELSI30,DELSI30_FLAG_W,N2,N2_FLAG_W,D15N_NO3,D15N_NO3_FLAG_W,HELIER,DELHER
,,,,,,,,,,,METERS,DBAR,ITS-90,PSS-78,,PSS-78,,UMOL/KG,,UMOL/KG,,UMOL/KG,,UMOL/KG,,UMOL/KG,,UMOL/KG,,PMOL/KG,,PMOL/KG,,FMOL/KG,,UMOL/KG,,UMOL/KG,,UATM,,DEG C,,,DEG C,TU,,NMOL/KG,,PERCNT,,/MILLE,,/MILLE,,NMOL/KG,,NMOL/KG,PMOL/KG,,UG/KG,,UMOL/KG,,UMOL/KG,,UMOL/KG,,UG/KG,,UMOL/KG,,TU,1/M,,1/M,,1/M,,1/M,,1/M,,1/M,,1/M,,1/NM,,1/NM,,DEG C,/MILLE,,,,,,,,/MILLE,,UMOL/KG,,/MILLE,,NMOL/KG,PERCNT
33RO20071215,        P18,     139,          1,         24,      11024,2,20080204,       0830,   -51.9997,  -103.0005,       4295,     4.1,   8.9813,  34.1515,2,  34.1510,2,    284.5,2,   284.2,2,    1.50,2,   16.90,2,    0.24,2,    1.19,2,   3.958,2,   2.227,2,   1.6991,2,  2099.5,2,  2273.7,2,   -999.0,9,  -999.00,   7.8219,2,    25.00,-999.000,9,-999.0000,9, -999.00,9,    1.36,4,  -999.0,1,-999.000,9,-999.000,-999.000,9,-999.000,9, -999.00,9, -999.00,9, -999.00,9, -999.00,9, -999.00,9,-999.000,-999.0000,9,-999.0000,9,-999.0000,9,-999.0000,9,-999.0000,9,-999.0000,9,-999.0000,9,-999.0000,9,-999.0000,9,   8.9809,     -999.0,9,     -999.0,9,     -999.0,9,     -999.0,9,     -999.0,9,     -999.0,9,     -999.0,9,-999.0000, -999.00
33RO20071215,        P18,     139,          1,         23,      11023,2,20080204,       0830,   -51.9997,  -103.0005,       4295,    25.0,   8.9968,  34.1527,2,  34.1516,2,    282.6,2,   284.2,2,    1.40,2,   16.90,2,    0.24,2,    1.19,2,-999.000,9,-999.000,9,-999.0000,9,  2099.6,2,  2275.7,2,   -999.0,9,  -999.00,   7.8275,2,    25.00,-999.000,9,-999.0000,9, -999.00,9, -999.00,9,  -999.0,9,-999.000,9,-999.000,-999.000,9,-999.000,9, -999.00,9, -999.00,9, -999.00,9, -999.00,9, -999.00,1,-999.000,-999.0000,9,-999.0000,9,-999.0000,9,-999.0000,9,-999.0000,9,-999.0000,9,-999.0000,9,-999.0000,9,-999.0000,9,   8.9942,     -999.0,1,     -999.0,9,     -999.0,9,     -999.0,9,     -999.0,9,     -999.0,1,     -999.0,9,-999.0000, -999.00
33RO20071215,        P18,     139,          1,         22,      11022,2,20080204,       0830,   -51.9997,  -103.0005,       4295,    50.2,   9.0012,  34.1530,2,  34.1508,2,    283.6,2,   283.9,2,    1.40,2,   16.90,2,    0.24,2,    1.19,2,   3.955,2,   2.234,2,   1.7110,2,  2101.6,2,  2276.8,2,   -999.0,9,  -999.00,   7.8243,2,    25.00,-999.000,9,-999.0000,9, -999.00,9,    1.54,2,  -999.0,1,-999.000,9,-999.000,-999.000,9,-999.000,9, -999.00,9, -999.00,9, -999.00,9, -999.00,9, -999.00,9,-999.000,-999.0000,9,-999.0000,9,-999.0000,9,-999.0000,9,-999.0000,9,-999.0000,9,-999.0000,9,-999.0000,9,-999.0000,9,   8.9959,     -999.0,9,     -999.0,9,     -999.0,9,     -999.0,9,     -999.0,9,     -999.0,9,     -999.0,9,-999.0000, -999.00
33RO20071215,        P18,     139,          1,         21,      11021,2,20080204,       0830,   -51.9997,  -103.0005,       4295,    74.5,   8.7433,  34.1663,2,  34.1642,2,    285.1,2,   285.3,2,    1.10,2,   16.70,2,    0.24,2,    1.18,2,-999.000,9,-999.000,9,-999.0000,9,  2099.4,2,  2283.0,2,   -999.0,9,  -999.00,   7.8266,2,    25.00,-999.000,9,-999.0000,9, -999.00,9, -999.00,9,  -999.0,9,-999.000,9,-999.000,-999.000,9,-999.000,9, -999.00,9, -999.00,9, -999.00,9, -999.00,9, -999.00,9,-999.000,-999.0000,9,-999.0000,9,-999.0000,9,-999.0000,9,-999.0000,9,-999.0000,9,-999.0000,9,-999.0000,9,-999.0000,9,   8.7355,     -999.0,9,     -999.0,9,     -999.0,9,     -999.0,9,     -999.0,9,     -999.0,9,     -999.0,9,-999.0000, -999.00
33RO20071215,        P18,     139,          1,         20,      11020,2,20080204,       0830,   -51.9997,  -103.0005,       4295,   100.0,   7.9706,  34.1637,2,  34.1629,2,    291.0,2,   290.6,2,    2.30,2,   17.40,2,    0.22,2,    1.26,2,   4.169,2,   2.328,2,   1.8019,2,  2105.0,2,  2276.0,2,   -999.0,9,  -999.00,   7.8163,2,    25.00,-999.000,9,-999.0000,9, -999.00,9,    1.47,2,  -999.0,1,-999.000,9,-999.000,-999.000,9,-999.000,9, -999.00,9, -999.00,9, -999.00,9, -999.00,9, -999.00,9,-999.000,-999.0000,9,-999.0000,9,-999.0000,9,-999.0000,9,-999.0000,9,-999.0000,9,-999.0000,9,-999.0000,9,-999.0000,9,   7.9607,     -999.0,9,     -999.0,9,     -999.0,9,     -999.0,9,     -999.0,9,     -999.0,9,     -999.0,9,-999.0000, -999.00
33RO20071215,        P18,     139,          1,         19,      11019,2,20080204,       0830,   -51.9997,  -103.0005,       4295,   126.9,   6.7456,  34.1869,2,  34.1853,2,    294.3,2,   294.8,2,    3.40,2,   18.30,2,    0.23,2,    1.34,2,-999.000,9,-999.000,9,-999.0000,9,  2112.6,2,  2272.6,2,   -999.0,9,  -999.00,   7.7952,2,    25.00,-999.000,9,-999.0000,9, -999.00,9,    1.37,2,  -999.0,1,-999.000,9,-999.000,-999.000,9,-999.000,9, -999.00,9, -999.00,9, -999.00,9, -999.00,9, -999.00,9,-999.000,-999.0000,9,-999.0000,9,-999.0000,9,-999.0000,9,-999.0000,9,-999.0000,9,-999.0000,9,-999.0000,9,-999.0000,9,   6.7342,     -999.0,9,     -999.0,9,     -999.0,9,     -999.0,9,     -999.0,9,     -999.0,9,     -999.0,9,-999.0000, -999.00
33RO20071215,        P18,     139,          1,         18,      11018,2,20080204,       0830,   -51.9997,  -103.0005,       4295,   177.2,   6.4531,  34.2123,2,  34.2104,2,    287.9,2,   289.0,2,    4.20,2,   19.50,2,    0.22,2,    1.39,2,   4.372,2,   2.431,2,   1.8253,2,  2119.5,2,  2276.0,4,   -999.0,9,  -999.00,   7.7681,2,    25.00,-999.000,9,-999.0000,9, -999.00,9,    1.19,2,  -999.0,1,-999.000,9,-999.000,-999.000,9,-999.000,9, -999.00,9, -999.00,9, -999.00,9, -999.00,9, -999.00,9,-999.000,-999.0000,9,-999.0000,9,-999.0000,9,-999.0000,9,-999.0000,9,-999.0000,9,-999.0000,9,-999.0000,9,-999.0000,9,   6.4374,     -999.0,9,     -999.0,9,     -999.0,9,     -999.0,9,     -999.0,9,     -999.0,9,     -999.0,9,-999.0000, -999.00
33RO20071215,        P18,     139,          1,         17,      11017,2,20080204,       0830,   -51.9997,  -103.0005,       4295,   250.4,   6.4153,  34.2829,2,  34.2809,2,    272.4,2,   270.8,2,    6.40,2,   21.60,2,    0.01,2,    1.49,2,-999.000,9,-999.000,9,-999.0000,9,  2133.5,2,  2278.3,2,   -999.0,9,  -999.00,   7.7541,2,    25.00,-999.000,9,-999.0000,9, -999.00,9,    1.11,2,  -999.0,1,-999.000,9,-999.000,-999.000,9,-999.000,9, -999.00,9, -999.00,9, -999.00,9, -999.00,9, -999.00,9,-999.000,-999.0000,9,-999.0000,9,-999.0000,9,-999.0000,9,-999.0000,9,-999.0000,9,-999.0000,9,-999.0000,9,-999.0000,9,   6.3931,     -999.0,9,     -999.0,9,     -999.0,9,     -999.0,9,     -999.0,9,     -999.0,9,     -999.0,9,-999.0000, -999.00
33RO20071215,        P18,     139,          1,         16,      11016,2,20080204,       0830,   -51.9997,  -103.0005,       4295,   325.4,   6.2547,  34.2876,2,  34.2854,2,    271.5,2,   271.7,2,    7.20,2,   22.00,2,    0.01,2,    1.52,2,   4.236,2,   2.278,2,   1.4048,2,  2142.2,2,  2279.4,2,   -999.0,9,  -999.00,   7.7526,2,    25.00,-999.000,9,-999.0000,9, -999.00,9,    1.03,2,  -999.0,1,-999.000,9,-999.000,-999.000,9,-999.000,9, -999.00,9, -999.00,9, -999.00,9, -999.00,9, -999.00,9,-999.000,-999.0000,9,-999.0000,9,-999.0000,9,-999.0000,9,-999.0000,9,-999.0000,9,-999.0000,9,-999.0000,9,-999.0000,9,   6.2261,     -999.0,9,     -999.0,9,     -999.0,9,     -999.0,9,     -999.0,9,     -999.0,9,     -999.0,9,-999.0000, -999.00
33RO20071215,        P18,     139,          1,         15,      11015,2,20080204,       0830,   -51.9997,  -103.0005,       4295,   400.6,   6.0628,  34.2749,2,  34.2733,2,    271.1,2,   271.5,2,    7.80,2,   22.60,2,    0.01,2,    1.55,2,-999.000,9,-999.000,9,-999.0000,9,  2137.2,2,  2280.8,2,   -999.0,9,  -999.00,   7.7447,2,    25.00,-999.000,9,-999.0000,9, -999.00,9,    1.15,2,  -999.0,1,-999.000,9,-999.000,-999.000,9,-999.000,9, -999.00,9, -999.00,9, -999.00,9, -999.00,9, -999.00,9,-999.000,-999.0000,9,-999.0000,9,-999.0000,9,-999.0000,9,-999.0000,9,-999.0000,9,-999.0000,9,-999.0000,9,-999.0000,9,   6.0281,     -999.0,9,     -999.0,9,     -999.0,9,     -999.0,9,     -999.0,9,     -999.0,9,     -999.0,9,-999.0000, -999.00
33RO20071215,        P18,     139,          1,         14,      11014,2,20080204,       0830,   -51.9997,  -103.0005,       4295,   499.7,   5.7662,  34.2553,2,  34.2548,2,    263.6,2,   264.2,2,    9.70,2,   24.00,2,    0.00,2,    1.64,2,   3.999,2,   2.127,2,   1.2012,2,  2143.1,2,  2279.1,2,   -999.0,9,  -999.00,   7.7322,2,    25.00,-999.000,9,-999.0000,9, -999.00,9,    1.08,2,  -999.0,1,-999.000,9,-999.000,-999.000,9,-999.000,9, -999.00,9, -999.00,9, -999.00,9, -999.00,9, -999.00,9,-999.000,-999.0000,9,-999.0000,9,-999.0000,9,-999.0000,9,-999.0000,9,-999.0000,9,-999.0000,9,-999.0000,9,-999.0000,9,   5.7236,     -999.0,9,     -999.0,9,     -999.0,9,     -999.0,9,     -999.0,9,     -999.0,9,     -999.0,9,-999.0000, -999.00
33RO20071215,        P18,     139,          1,         13,      11013,2,20080204,       0830,   -51.9997,  -103.0005,       4295,   651.2,   5.2787,  34.2652,2,  34.2652,2,    234.8,2,   235.7,2,   16.60,2,   27.50,2,    0.00,2,    1.87,2,-999.000,9,-999.000,9,-999.0000,9,  2163.8,2,  2285.1,2,   -999.0,9,  -999.00,   7.6927,2,    25.00,-999.000,9,-999.0000,9, -999.00,9,    1.21,3,  -999.0,1,-999.000,9,-999.000,-999.000,9,-999.000,9, -999.00,9, -999.00,9, -999.00,9, -999.00,9, -999.00,9,-999.000,-999.0000,9,-999.0000,9,-999.0000,9,-999.0000,9,-999.0000,9,-999.0000,9,-999.0000,9,-999.0000,9,-999.0000,9,   5.2250,     -999.0,9,     -999.0,9,     -999.0,9,     -999.0,9,     -999.0,9,     -999.0,9,     -999.0,9,-999.0000, -999.00
33RO20071215,        P18,     139,          1,         12,      11012,2,20080204,       0830,   -51.9997,  -103.0005,       4295,   801.0,   4.6732,  34.2934,2,  34.2945,2,    215.8,2,   216.0,2,   25.70,2,   30.30,2,    0.00,2,    2.06,2,   2.417,2,   1.207,2,   0.5328,2,  2183.4,2,  2292.3,2,   -999.0,9,  -999.00,   7.6492,2,    25.00,-999.000,9,-999.0000,9, -999.00,9,    0.85,3,  -999.0,1,-999.000,9,-999.000,-999.000,9,-999.000,9, -999.00,9, -999.00,9, -999.00,9, -999.00,9, -999.00,9,-999.000,-999.0000,9,-999.0000,9,-999.0000,9,-999.0000,9,-999.0000,9,-999.0000,9,-999.0000,9,-999.0000,9,-999.0000,9,   4.6099,     -999.0,9,     -999.0,9,     -999.0,9,     -999.0,9,     -999.0,9,     -999.0,9,     -999.0,9,-999.0000, -999.00
33RO20071215,        P18,     139,          1,         11,      11010,2,20080204,       0830,   -51.9997,  -103.0005,       4295,   949.9,   4.0688,  34.3140,2,  34.3135,2,    207.1,2,   207.3,2,   34.20,2,   32.00,2,    0.00,2,    2.18,2,-999.000,9,-999.000,9,-999.0000,9,  2200.5,2,  2302.4,2,   -999.0,9,  -999.00,   7.6428,2,    25.00,-999.000,9,-999.0000,9, -999.00,9,    0.86,2,  -999.0,1,-999.000,9,-999.000,-999.000,9,-999.000,9, -999.00,9, -999.00,9, -999.00,9, -999.00,9, -999.00,9,-999.000,-999.0000,9,-999.0000,9,-999.0000,9,-999.0000,9,-999.0000,9,-999.0000,9,-999.0000,9,-999.0000,9,-999.0000,9,   3.9971,     -999.0,9,     -999.0,9,     -999.0,9,     -999.0,9,     -999.0,9,     -999.0,9,     -999.0,9,-999.0000, -999.00
33RO20071215,        P18,     139,          1,         10,      11011,2,20080204,       0830,   -51.9997,  -103.0005,       4295,  1100.2,   3.4911,  34.3486,2,  34.3506,2,    198.9,2,   198.6,2,   44.30,2,   33.50,2,    0.00,2,    2.29,2,   1.557,2,   0.772,2,   0.2781,2,  2215.8,2,  2306.5,2,   -999.0,9,  -999.00,   7.6054,2,    25.00,-999.000,9,-999.0000,9, -999.00,9, -999.00,9,  -999.0,9,-999.000,9,-999.000,-999.000,9,-999.000,9, -999.00,9, -999.00,9, -999.00,9, -999.00,9, -999.00,9,-999.000,-999.0000,9,-999.0000,9,-999.0000,9,-999.0000,9,-999.0000,9,-999.0000,9,-999.0000,9,-999.0000,9,-999.0000,9,   3.4116,     -999.0,9,     -999.0,9,     -999.0,9,     -999.0,9,     -999.0,9,     -999.0,9,     -999.0,9,-999.0000, -999.00
33RO20071215,        P18,     139,          1,          9,      11009,2,20080204,       0830,   -51.9997,  -103.0005,       4295,  1300.7,   2.9585,  34.4278,2,  34.4266,2,    184.2,2,   184.2,2,   58.50,2,   34.70,2,    0.00,2,    2.38,2,-999.000,9,-999.000,9,-999.0000,9,  2235.5,2,  2318.9,2,   -999.0,9,  -999.00,   7.5854,2,    25.00,-999.000,9,-999.0000,9, -999.00,9, -999.00,9,  -999.0,9,-999.000,9,-999.000,-999.000,9,-999.000,9, -999.00,9, -999.00,9, -999.00,9, -999.00,9, -999.00,9,-999.000,-999.0000,9,-999.0000,9,-999.0000,9,-999.0000,9,-999.0000,9,-999.0000,9,-999.0000,9,-999.0000,9,-999.0000,9,   2.8677,     -999.0,9,     -999.0,9,     -999.0,9,     -999.0,9,     -999.0,9,     -999.0,9,     -999.0,9,-999.0000, -999.00
33RO20071215,        P18,     139,          1,          8,      11008,2,20080204,       0830,   -51.9997,  -103.0005,       4295,  1600.4,   2.5792,  34.5523,2,  34.5520,2,    170.3,2,   171.0,2,   74.80,2,   35.10,2,    0.00,2,    2.41,2,   0.362,2,   0.190,2,   0.0000,2,  2256.4,2,  2339.9,2,   -999.0,9,  -999.00,   7.5722,2,    25.00,-999.000,9,-999.0000,9, -999.00,9,    0.43,2,  -999.0,1,-999.000,9,-999.000,-999.000,9,-999.000,9, -999.00,9, -999.00,9, -999.00,9, -999.00,9, -999.00,9,-999.000,-999.0000,9,-999.0000,9,-999.0000,9,-999.0000,9,-999.0000,9,-999.0000,9,-999.0000,9,-999.0000,9,-999.0000,9,   2.4681,     -999.0,9,     -999.0,9,     -999.0,9,     -999.0,9,     -999.0,9,     -999.0,9,     -999.0,9,-999.0000, -999.00
33RO20071215,        P18,     139,          1,          7,      11007,2,20080204,       0830,   -51.9997,  -103.0005,       4295,  1998.6,   2.2781,  34.6603,2,  34.6604,2,    169.8,2,   170.1,2,   87.90,2,   34.30,2,    0.00,2,    2.35,2,-999.000,9,-999.000,9,-999.0000,9,  2260.1,6,  2354.8,2,   -999.0,9,  -999.00,   7.5899,2,    25.00,-999.000,9,-999.0000,9, -999.00,9,    0.35,2,  -999.0,1,-999.000,9,-999.000,-999.000,9,-999.000,9, -999.00,9, -999.00,9, -999.00,9, -999.00,9, -999.00,9,-999.000,-999.0000,9,-999.0000,9,-999.0000,9,-999.0000,9,-999.0000,9,-999.0000,9,-999.0000,9,-999.0000,9,-999.0000,9,   2.1374,     -999.0,9,     -999.0,9,     -999.0,9,     -999.0,9,     -999.0,9,     -999.0,9,     -999.0,9,-999.0000, -999.00
33RO20071215,        P18,     139,          1,          6,      11006,2,20080204,       0830,   -51.9997,  -103.0005,       4295,  2400.7,   2.0072,  34.7016,2,  34.7038,2,    174.2,2,   174.5,2,   98.30,2,   33.70,2,    0.00,2,    2.31,2,   0.043,2,   0.024,2,   0.0000,2,  2269.7,2,  2362.9,2,   -999.0,9,  -999.00,   7.6028,2,    25.00,-999.000,9,-999.0000,9, -999.00,9,     0.3,2,  -999.0,1,-999.000,9,-999.000,   0.070,3,-999.000,9, -999.00,9, -999.00,9, -999.00,9, -999.00,9, -999.00,9,-999.000,-999.0000,9,-999.0000,9,-999.0000,9,-999.0000,9,-999.0000,9,-999.0000,9,-999.0000,9,-999.0000,9,-999.0000,9,   1.8356,     -999.0,9,     -999.0,9,     -999.0,9,     -999.0,9,     -999.0,9,     -999.0,9,     -999.0,9,-999.0000, -999.00
33RO20071215,        P18,     139,          1,          5,      11005,2,20080204,       0830,   -51.9997,  -103.0005,       4295,  2798.1,   1.7066,  34.7100,2,  34.7095,2,    178.2,2,   178.0,2,  109.50,2,   33.80,2,    0.00,2,    2.32,2,   0.015,2,   0.008,2,   0.0000,2,  2276.7,6,  2374.4,2,   -999.0,9,  -999.00,   7.6107,2,    25.00,-999.000,9,-999.0000,9, -999.00,9,    0.33,2,  -999.0,1,-999.000,9,-999.000,   0.033,3,-999.000,9, -999.00,9, -999.00,9, -999.00,9, -999.00,9, -999.00,9,-999.000,-999.0000,9,-999.0000,9,-999.0000,9,-999.0000,9,-999.0000,9,-999.0000,9,-999.0000,9,-999.0000,9,-999.0000,9,   1.5042,     -999.0,9,     -999.0,9,     -999.0,9,     -999.0,9,     -999.0,9,     -999.0,9,     -999.0,9,-999.0000, -999.00
33RO20071215,        P18,     139,          1,          4,      11004,2,20080204,       0830,   -51.9997,  -103.0005,       4295,  3200.0,   1.5566,  34.7182,2,  34.7164,2,    186.5,2,   186.5,2,  111.30,6,   33.30,6,    0.00,6,    2.28,2,   0.017,2,   0.011,2,   0.0000,2,  2270.8,2,  2372.4,2,   -999.0,9,  -999.00,   7.6120,2,    25.00,-999.000,9,-999.0000,9, -999.00,9, -999.00,9,  -999.0,9,-999.000,9,-999.000,   0.038,3,-999.000,9, -999.00,9, -999.00,9, -999.00,9, -999.00,9, -999.00,9,-999.000,-999.0000,9,-999.0000,9,-999.0000,9,-999.0000,9,-999.0000,9,-999.0000,9,-999.0000,9,-999.0000,9,-999.0000,9,   1.3189,     -999.0,9,     -999.0,9,     -999.0,9,     -999.0,9,     -999.0,9,     -999.0,9,     -999.0,9,-999.0000, -999.00
33RO20071215,        P18,     139,          1,          3,      11003,2,20080204,       0830,   -51.9997,  -103.0005,       4295,  3599.1,   1.2620,  34.7187,2,  34.7192,2,    195.8,2,   195.9,2,  117.50,6,   33.10,6,    0.00,6,    2.27,2,   0.026,6,   0.014,6,   0.0000,6,  2268.9,2,  2370.9,2,   -999.0,9,  -999.00,   7.6168,2,    25.00,-999.000,9,-999.0000,9, -999.00,9,    0.39,2,  -999.0,1,-999.000,9,-999.000,   0.051,3,-999.000,9, -999.00,9, -999.00,9, -999.00,9, -999.00,9, -999.00,9,-999.000,-999.0000,9,-999.0000,9,-999.0000,9,-999.0000,9,-999.0000,9,-999.0000,9,-999.0000,9,-999.0000,9,-999.0000,9,   0.9915,     -999.0,9,     -999.0,9,     -999.0,9,     -999.0,9,     -999.0,9,     -999.0,9,     -999.0,9,-999.0000, -999.00
33RO20071215,        P18,     139,          1,          2,      11002,2,20080204,       0830,   -51.9997,  -103.0005,       4295,  4002.5,   0.8765,  34.7118,2,  34.7115,2,    203.0,2,   203.5,2,  130.10,6,   33.40,6,    0.00,6,    2.29,2,   0.014,2,   0.009,2,   0.0000,2,  2272.1,2,  2377.7,2,   -999.0,9,  -999.00,   7.6168,2,    25.00,-999.000,9,-999.0000,9, -999.00,9,    0.32,2,  -999.0,1,-999.000,9,-999.000,   0.045,3,-999.000,9, -999.00,9, -999.00,9, -999.00,9, -999.00,9, -999.00,9,-999.000,-999.0000,9,-999.0000,9,-999.0000,9,-999.0000,9,-999.0000,9,-999.0000,9,-999.0000,9,-999.0000,9,-999.0000,9,   0.5747,     -999.0,9,     -999.0,9,     -999.0,9,     -999.0,9,     -999.0,9,     -999.0,9,     -999.0,9,-999.0000, -999.00
33RO20071215,        P18,     139,          1,          1,      11001,2,20080204,       0830,   -51.9997,  -103.0005,       4295,  4376.4,   0.7736,  34.7098,2,  34.7108,2,    207.5,2,   205.6,2,  134.30,2,   33.40,2,    0.01,2,    2.29,2,   0.015,2,   0.011,2,   0.0000,2,  2274.2,6,  2379.2,2,   -999.0,9,  -999.00,   7.6157,2,    25.00,-999.000,9,-999.0000,9, -999.00,9, -999.00,9,  -999.0,9,-999.000,9,-999.000,   0.063,3,-999.000,9, -999.00,9, -999.00,9, -999.00,9, -999.00,9, -999.00,9,-999.000,-999.0000,9,-999.0000,9,-999.0000,9,-999.0000,9,-999.0000,9,-999.0000,9,-999.0000,9,-999.0000,9,-999.0000,9,   0.4347,     -999.0,9,     -999.0,9,     -999.0,9,     -999.0,9,     -999.0,9,     -999.0,9,     -999.0,9,-999.0000, -999.00