BOTTLE,20220818CCHSIOAMB
EXPOCODE,SECT_ID,STNNBR,CASTNO,SAMPNO,BTLNBR,BTLNBR_FLAG_W,DATE,TIME,LATITUDE,LONGITUDE,DEPTH,CTDPRS,CTDTMP,CTDSAL,CTDSAL_FLAG_W,SALNTY,SALNTY_FLAG_W,CTDOXY,CTDOXY_FLAG_W,OXYGEN,OXYGEN_FLAG_W,SILCAT,SILCAT_FLAG_W,NITRAT,NITRAT_FLAG_W,NITRIT,NITRIT_FLAG_W,PHSPHT,PHSPHT_FLAG_W,CFC-11,CFC-11_FLAG_W,CFC-12,CFC-12_FLAG_W,SF6,SF6_FLAG_W,TCARBN,TCARBN_FLAG_W,ALKALI,ALKALI_FLAG_W,FCO2,FCO2_FLAG_W,FCO2TMP,PH_SWS,PH_SWS_FLAG_W,PH_TMP,TRITUM,TRITUM_FLAG_W,HELIUM,HELIUM_FLAG_W,DELHE3,DELHE3_FLAG_W,DELC13,DELC13_FLAG_W,DELC14,DELC14_FLAG_W,NEON,NEON_FLAG_W,NEONER,CCL4,CCL4_FLAG_W,POC,POC_FLAG_W,DOC,DOC_FLAG_W,TDN,TDN_FLAG_W,DON,DON_FLAG_W,CHLORA,CHLORA_FLAG_W,ARGON,ARGON_FLAG_W,TRITER,CDOM325,CDOM325_FLAG_W,CDOM340,CDOM340_FLAG_W,CDOM380,CDOM380_FLAG_W,CDOM412,CDOM412_FLAG_W,CDOM443,CDOM443_FLAG_W,CDOM490,CDOM490_FLAG_W,CDOM555,CDOM555_FLAG_W,CDOMSL,CDOMSL_FLAG_W,CDOMSN,CDOMSN_FLAG_W,THETA,D18O_NO3,D18O_NO3_FLAG_W,CDOM2C,CDOM2C_FLAG_W,CDOM3C,CDOM3C_FLAG_W,LAB_DEN,LAB_DEN_FLAG_W,DELSI30,DELSI30_FLAG_W,N2,N2_FLAG_W,D15N_NO3,D15N_NO3_FLAG_W,HELIER,DELHER
,,,,,,,,,,,METERS,DBAR,ITS-90,PSS-78,,PSS-78,,UMOL/KG,,UMOL/KG,,UMOL/KG,,UMOL/KG,,UMOL/KG,,UMOL/KG,,PMOL/KG,,PMOL/KG,,FMOL/KG,,UMOL/KG,,UMOL/KG,,UATM,,DEG C,,,DEG C,TU,,NMOL/KG,,PERCNT,,/MILLE,,/MILLE,,NMOL/KG,,NMOL/KG,PMOL/KG,,UG/KG,,UMOL/KG,,UMOL/KG,,UMOL/KG,,UG/KG,,UMOL/KG,,TU,1/M,,1/M,,1/M,,1/M,,1/M,,1/M,,1/M,,1/NM,,1/NM,,DEG C,/MILLE,,,,,,,,/MILLE,,UMOL/KG,,/MILLE,,NMOL/KG,PERCNT
33RO20071215,        P18,      75,          1,         36,      12017,2,20080109,       1300,   -14.6663,  -103.0003,       3987,     4.9,  22.4664,  35.6814,2,  35.6822,2,    218.7,2,   220.8,2,    2.00,2,    7.20,2,    0.20,2,    0.67,2,   1.967,6,   1.228,6,   1.1312,6,  2066.3,6,  2370.7,2,   -999.0,9,  -999.00,   7.9997,2,    25.00,-999.000,9,-999.0000,9, -999.00,9, -999.00,9,  -999.0,9,-999.000,9,-999.000,-999.000,9,-999.000,9,   69.72,2,   11.68,2, -999.00,1, -999.00,9, -999.00,9,-999.000,-999.0000,9,-999.0000,9,-999.0000,9,-999.0000,9,-999.0000,9,-999.0000,9,-999.0000,9,-999.0000,9,-999.0000,9,  22.4654,     -999.0,9,     -999.0,9,     -999.0,9,     -999.0,9,     -999.0,9,     -999.0,9,     -999.0,9,-999.0000, -999.00
33RO20071215,        P18,      75,          1,         35,      12029,2,20080109,       1300,   -14.6663,  -103.0003,       3987,    10.0,  22.4675,  35.6815,2,  35.6821,2,    218.8,2,   220.7,2,    2.00,2,    7.20,2,    0.20,2,    0.67,2,-999.000,9,-999.000,9,-999.0000,9,  2065.1,2,  -999.0,5,   -999.0,9,  -999.00,   7.9836,2,    25.00,-999.000,9,-999.0000,9, -999.00,9, -999.00,9,  -999.0,9,-999.000,9,-999.000,-999.000,9,-999.000,9,   69.48,2,   11.10,2, -999.00,1, -999.00,9, -999.00,9,-999.000,-999.0000,9,-999.0000,9,-999.0000,9,-999.0000,9,-999.0000,9,-999.0000,9,-999.0000,9,-999.0000,9,-999.0000,9,  22.4655,     -999.0,9,     -999.0,9,     -999.0,9,     -999.0,9,     -999.0,9,     -999.0,9,     -999.0,9,-999.0000, -999.00
33RO20071215,        P18,      75,          1,         34,      12049,2,20080109,       1300,   -14.6663,  -103.0003,       3987,    26.0,  22.4624,  35.6825,2,  35.6861,2,    219.2,2,   220.8,2,    2.10,2,    7.20,2,    0.20,2,    0.67,2,-999.000,9,-999.000,9,-999.0000,9,  2065.7,2,  2352.5,2,   -999.0,9,  -999.00,   8.0018,2,    25.00,-999.000,9,-999.0000,9, -999.00,9, -999.00,9,  -999.0,9,-999.000,9,-999.000,-999.000,9,-999.000,9,   66.15,2,   10.65,2, -999.00,1, -999.00,9, -999.00,9,-999.000,-999.0000,9,-999.0000,9,-999.0000,9,-999.0000,9,-999.0000,9,-999.0000,9,-999.0000,9,-999.0000,9,-999.0000,9,  22.4572,     -999.0,9,     -999.0,9,     -999.0,9,     -999.0,9,     -999.0,9,     -999.0,9,     -999.0,9,-999.0000, -999.00
33RO20071215,        P18,      75,          1,         33,      12027,2,20080109,       1300,   -14.6663,  -103.0003,       3987,    49.3,  22.4423,  35.9704,2,  35.9752,2,    218.4,2,   219.2,2,    1.40,2,    1.90,2,    0.04,2,    0.41,2,   2.012,2,   1.240,2,   1.0745,2,  2064.0,2,  2375.4,2,   -999.0,9,  -999.00,   8.0283,2,    25.00,-999.000,9,-999.0000,9, -999.00,9, -999.00,9,  -999.0,9,-999.000,9,-999.000,-999.000,9,-999.000,9,   65.25,2,    6.45,2, -999.00,1, -999.00,9, -999.00,9,-999.000,-999.0000,9,-999.0000,9,-999.0000,9,-999.0000,9,-999.0000,9,-999.0000,9,-999.0000,9,-999.0000,9,-999.0000,9,  22.4324,     -999.0,9,     -999.0,9,     -999.0,9,     -999.0,9,     -999.0,9,     -999.0,9,     -999.0,9,-999.0000, -999.00
33RO20071215,        P18,      75,          1,         32,      12023,2,20080109,       1300,   -14.6663,  -103.0003,       3987,    74.5,  21.5364,  35.9392,2,  35.9378,2,    212.4,2,   212.8,2,    1.40,2,    1.40,2,    0.11,2,    0.45,2,-999.000,9,-999.000,9,-999.0000,9,  2075.8,2,  2375.3,2,   -999.0,9,  -999.00,   7.9924,2,    25.00,-999.000,9,-999.0000,9, -999.00,9, -999.00,9,  -999.0,9,-999.000,9,-999.000,-999.000,9,-999.000,9,   63.22,2,    6.78,2, -999.00,1, -999.00,9, -999.00,9,-999.000,-999.0000,9,-999.0000,9,-999.0000,9,-999.0000,9,-999.0000,9,-999.0000,9,-999.0000,9,-999.0000,9,-999.0000,9,  21.5219,     -999.0,9,     -999.0,9,     -999.0,9,     -999.0,9,     -999.0,9,     -999.0,9,     -999.0,9,-999.0000, -999.00
33RO20071215,        P18,      75,          1,         31,      12037,2,20080109,       1300,   -14.6663,  -103.0003,       3987,    99.7,  21.1089,  35.8885,2,  35.8920,2,    209.1,2,   210.4,2,    1.40,2,    1.90,2,    0.23,2,    0.51,2,   2.112,2,   1.295,2,   1.1036,2,  2084.3,2,  2376.2,2,   -999.0,9,  -999.00,   7.9980,2,    25.00,-999.000,9,-999.0000,9, -999.00,9, -999.00,9,  -999.0,9,-999.000,9,-999.000,-999.000,9,-999.000,9,   62.33,2,    7.50,2, -999.00,1, -999.00,9, -999.00,9,-999.000,-999.0000,9,-999.0000,9,-999.0000,9,-999.0000,9,-999.0000,9,-999.0000,9,-999.0000,9,-999.0000,9,-999.0000,9,  21.0897,     -999.0,9,     -999.0,9,     -999.0,9,     -999.0,9,     -999.0,9,     -999.0,9,     -999.0,9,-999.0000, -999.00
33RO20071215,        P18,      75,          1,         30,      12036,2,20080109,       1300,   -14.6663,  -103.0003,       3987,   125.7,  20.5864,  35.8335,2,  35.8347,2,    211.1,2,   211.0,2,    1.30,2,    1.70,2,    0.59,2,    0.52,2,-999.000,9,-999.000,9,-999.0000,9,  2090.3,2,  2375.1,2,   -999.0,9,  -999.00,   7.9612,2,    25.00,-999.000,9,-999.0000,9, -999.00,9, -999.00,9,  -999.0,9,-999.000,9,-999.000,-999.000,9,-999.000,9,   62.46,2,    6.52,2, -999.00,1, -999.00,9, -999.00,9,-999.000,-999.0000,9,-999.0000,9,-999.0000,9,-999.0000,9,-999.0000,9,-999.0000,9,-999.0000,9,-999.0000,9,-999.0000,9,  20.5626,     -999.0,9,     -999.0,9,     -999.0,9,     -999.0,9,     -999.0,9,     -999.0,9,     -999.0,9,-999.0000, -999.00
33RO20071215,        P18,      75,          1,         29,      12044,2,20080109,       1300,   -14.6663,  -103.0003,       3987,   150.8,  20.1756,  35.7522,2,  35.7523,2,    207.1,2,   208.4,2,    1.40,2,    2.60,2,    0.94,2,    0.57,2,   2.182,2,   1.336,2,   1.1759,2,  2093.8,2,  2362.6,2,   -999.0,9,  -999.00,   7.9853,2,    25.00,-999.000,9,-999.0000,9, -999.00,9, -999.00,9,  -999.0,9,-999.000,9,-999.000,-999.000,9,-999.000,9,   62.19,2,    7.63,2, -999.00,1, -999.00,9, -999.00,9,-999.000,-999.0000,9,-999.0000,9,-999.0000,9,-999.0000,9,-999.0000,9,-999.0000,9,-999.0000,9,-999.0000,9,-999.0000,9,  20.1474,     -999.0,9,     -999.0,9,     -999.0,9,     -999.0,9,     -999.0,9,     -999.0,9,     -999.0,9,-999.0000, -999.00
33RO20071215,        P18,      75,          1,         28,      12057,2,20080109,       1300,   -14.6663,  -103.0003,       3987,   176.4,  19.4824,  35.6126,2,  35.6012,2,    200.4,2,   208.3,2,    1.60,2,    4.20,2,    0.64,2,    0.66,2,-999.000,9,-999.000,9,-999.0000,9,  2099.6,2,  -999.0,5,   -999.0,9,  -999.00,   7.9362,2,    25.00,-999.000,9,-999.0000,9, -999.00,9, -999.00,9,  -999.0,9,-999.000,9,-999.000,-999.000,9,-999.000,9,   59.45,2,    8.72,2, -999.00,1, -999.00,9, -999.00,9,-999.000,-999.0000,9,-999.0000,9,-999.0000,9,-999.0000,9,-999.0000,9,-999.0000,9,-999.0000,9,-999.0000,9,-999.0000,9,  19.4503,     -999.0,9,     -999.0,9,     -999.0,9,     -999.0,9,     -999.0,9,     -999.0,9,     -999.0,9,-999.0000, -999.00
33RO20071215,        P18,      75,          1,         27,      12026,2,20080109,       1300,   -14.6663,  -103.0003,       3987,   199.9,  16.1560,  35.0219,2,  34.9745,2,    170.8,2,   155.7,2,    3.70,2,   12.40,2,    0.02,2,    1.13,2,   2.543,2,   1.480,2,   1.0421,2,  2133.2,2,  -999.0,9,   -999.0,9,  -999.00,-999.0000,9,  -999.00,-999.000,9,-999.0000,9, -999.00,9, -999.00,9,  -999.0,9,-999.000,9,-999.000,-999.000,9,-999.000,9,   49.54,2,   14.87,2, -999.00,1, -999.00,9, -999.00,9,-999.000,-999.0000,9,-999.0000,9,-999.0000,9,-999.0000,9,-999.0000,9,-999.0000,9,-999.0000,9,-999.0000,9,-999.0000,9,  16.1242,     -999.0,9,     -999.0,9,     -999.0,9,     -999.0,9,     -999.0,9,     -999.0,9,     -999.0,9,-999.0000, -999.00
33RO20071215,        P18,      75,          1,         26,      12030,2,20080109,       1300,   -14.6663,  -103.0003,       3987,   249.4,  12.2808,  34.5974,2,  34.6017,2,     90.7,2,    83.5,2,   13.20,2,   20.70,2,    0.01,2,    1.97,2,-999.000,9,-999.000,9,-999.0000,9,  2199.1,2,  2287.0,4,   -999.0,9,  -999.00,   7.5794,2,    25.00,-999.000,9,-999.0000,9, -999.00,9, -999.00,9,  -999.0,9,-999.000,9,-999.000,-999.000,9,-999.000,9,   46.43,2,   23.46,2, -999.00,1, -999.00,9, -999.00,9,-999.000,-999.0000,9,-999.0000,9,-999.0000,9,-999.0000,9,-999.0000,9,-999.0000,9,-999.0000,9,-999.0000,9,-999.0000,9,  12.2478,     -999.0,9,     -999.0,9,     -999.0,9,     -999.0,9,     -999.0,9,     -999.0,9,     -999.0,9,-999.0000, -999.00
33RO20071215,        P18,      75,          1,         25,      12024,2,20080109,       1300,   -14.6663,  -103.0003,       3987,   301.1,  10.7118,  34.6647,2,  34.6663,2,     16.9,2,    17.1,2,   23.90,2,   29.30,2,    0.00,2,    2.66,2,   0.696,2,   0.379,2,   0.1212,2,  2261.6,2,  -999.0,9,   -999.0,9,  -999.00,-999.0000,9,  -999.00,-999.000,9,-999.0000,9, -999.00,9, -999.00,9,  -999.0,9,-999.000,9,-999.000,-999.000,9,-999.000,9,   45.36,2,   30.73,2, -999.00,1, -999.00,9, -999.00,9,-999.000,-999.0000,9,-999.0000,9,-999.0000,9,-999.0000,9,-999.0000,9,-999.0000,9,-999.0000,9,-999.0000,9,-999.0000,9,  10.6753,     -999.0,9,     -999.0,9,     -999.0,9,     -999.0,9,     -999.0,9,     -999.0,9,     -999.0,9,-999.0000, -999.00
33RO20071215,        P18,      75,          1,         24,      12019,2,20080109,       1300,   -14.6663,  -103.0003,       3987,   351.0,   9.6356,  34.6397,2,  34.6373,2,     15.1,2,    15.3,2,   27.10,2,   34.90,2,    0.00,2,    2.74,2,-999.000,9,-999.000,9,-999.0000,9,  2268.9,6,  2292.0,2,   -999.0,9,  -999.00,   7.3806,2,    25.00,-999.000,9,-999.0000,9, -999.00,9, -999.00,9,  -999.0,9,-999.000,9,-999.000,-999.000,9,-999.000,9,   43.73,2,   36.27,2, -999.00,1, -999.00,9, -999.00,9,-999.000,-999.0000,9,-999.0000,9,-999.0000,9,-999.0000,9,-999.0000,9,-999.0000,9,-999.0000,9,-999.0000,9,-999.0000,9,   9.5956,     -999.0,9,     -999.0,9,     -999.0,9,     -999.0,9,     -999.0,9,     -999.0,9,     -999.0,9,-999.0000, -999.00
33RO20071215,        P18,      75,          1,         23,      12022,2,20080109,       1300,   -14.6663,  -103.0003,       3987,   400.5,   8.8681,  34.6118,2,  34.6114,2,     21.5,2,    22.1,2,   29.30,2,   37.40,2,    0.00,2,    2.76,2,   0.180,2,   0.100,2,   0.0313,2,  -999.0,9,  -999.0,9,   -999.0,9,  -999.00,-999.0000,9,  -999.00,-999.000,9,-999.0000,9, -999.00,9, -999.00,9,  -999.0,9,-999.000,9,-999.000,-999.000,9,-999.000,9,   42.86,2,   38.98,2, -999.00,1, -999.00,9, -999.00,9,-999.000,-999.0000,9,-999.0000,9,-999.0000,9,-999.0000,9,-999.0000,9,-999.0000,9,-999.0000,9,-999.0000,9,-999.0000,9,   8.8247,     -999.0,9,     -999.0,9,     -999.0,9,     -999.0,9,     -999.0,9,     -999.0,9,     -999.0,9,-999.0000, -999.00
33RO20071215,        P18,      75,          1,         22,      12015,2,20080109,       1300,   -14.6663,  -103.0003,       3987,   501.4,   7.4041,  34.5518,2,  34.5531,2,     42.3,2,    42.0,2,   35.00,2,   40.10,2,    0.00,2,    2.79,2,-999.000,9,-999.000,9,-999.0000,9,  2267.3,2,  -999.0,5,   -999.0,9,  -999.00,   7.4112,2,    25.00,-999.000,9,-999.0000,9, -999.00,9, -999.00,9,  -999.0,9,-999.000,9,-999.000,-999.000,9,-999.000,9,   41.74,2,   41.82,2, -999.00,1, -999.00,9, -999.00,9,-999.000,-999.0000,9,-999.0000,9,-999.0000,9,-999.0000,9,-999.0000,9,-999.0000,9,-999.0000,9,-999.0000,9,-999.0000,9,   7.3549,     -999.0,9,     -999.0,9,     -999.0,9,     -999.0,9,     -999.0,9,     -999.0,9,     -999.0,9,-999.0000, -999.00
33RO20071215,        P18,      75,          1,         21,      12020,2,20080109,       1300,   -14.6663,  -103.0003,       3987,   600.0,   6.4972,  34.5249,2,  34.5247,2,     54.5,2,    54.2,2,   42.80,2,   41.40,2,    0.00,2,    2.84,2,   0.013,2,   0.008,2,   0.0000,2,  -999.0,9,  -999.0,9,   -999.0,9,  -999.00,-999.0000,9,  -999.00,-999.000,9,-999.0000,9, -999.00,9, -999.00,9,  -999.0,9,-999.000,9,-999.000,-999.000,9,-999.000,9,   41.58,2,   42.91,2, -999.00,1, -999.00,9, -999.00,9,-999.000,-999.0000,9,-999.0000,9,-999.0000,9,-999.0000,9,-999.0000,9,-999.0000,9,-999.0000,9,-999.0000,9,-999.0000,9,   6.4421,     -999.0,9,     -999.0,9,     -999.0,9,     -999.0,9,     -999.0,9,     -999.0,9,     -999.0,9,-999.0000, -999.00
33RO20071215,        P18,      75,          1,         20,      12055,2,20080109,       1300,   -14.6663,  -103.0003,       3987,   700.4,   5.7683,  34.5116,2,  34.5112,2,     52.4,2,    52.8,2,   51.90,2,   43.00,2,    0.00,2,    2.98,2,-999.000,9,-999.000,9,-999.0000,9,  2281.9,2,  -999.0,9,   -999.0,9,  -999.00,-999.0000,9,  -999.00,-999.000,9,-999.0000,9, -999.00,9, -999.00,9,  -999.0,9,-999.000,9,-999.000,-999.000,9,-999.000,9,   41.00,2,   44.30,2, -999.00,1, -999.00,9, -999.00,9,-999.000,-999.0000,9,-999.0000,9,-999.0000,9,-999.0000,9,-999.0000,9,-999.0000,9,-999.0000,9,-999.0000,9,-999.0000,9,   5.7074,     -999.0,9,     -999.0,9,     -999.0,9,     -999.0,9,     -999.0,9,     -999.0,9,     -999.0,9,-999.0000, -999.00
33RO20071215,        P18,      75,          1,         19,      12018,2,20080109,       1300,   -14.6663,  -103.0003,       3987,   800.5,   5.2210,  34.5130,2,  34.5147,2,     53.1,2,    53.2,2,   61.80,2,   43.90,2,    0.00,2,    3.08,2,-999.000,9,-999.000,9,-999.0000,9,  2292.3,2,  2321.4,2,   -999.0,9,  -999.00,   7.4061,2,    25.00,-999.000,9,-999.0000,9, -999.00,9, -999.00,9,  -999.0,9,-999.000,9,-999.000,-999.000,9,-999.000,9,   40.50,2,   45.18,2, -999.00,1, -999.00,9, -999.00,9,-999.000,-999.0000,9,-999.0000,9,-999.0000,9,-999.0000,9,-999.0000,9,-999.0000,9,-999.0000,9,-999.0000,9,-999.0000,9,   5.1541,     -999.0,9,     -999.0,9,     -999.0,9,     -999.0,9,     -999.0,9,     -999.0,9,     -999.0,9,-999.0000, -999.00
33RO20071215,        P18,      75,          1,         18,      12025,4,20080109,       1300,   -14.6663,  -103.0003,       3987,   900.5,   4.7053,  34.5218,2,  35.7480,4,     59.8,2,   208.7,4,    1.70,3,    2.80,3,    0.94,3,    0.58,3,-999.000,9,-999.000,9,-999.0000,9,  -999.0,9,  -999.0,9,   -999.0,9,  -999.00,-999.0000,9,  -999.00,-999.000,9,-999.0000,9, -999.00,9, -999.00,9,  -999.0,9,-999.000,9,-999.000,-999.000,9,-999.000,9,   63.22,4,    7.62,4, -999.00,1, -999.00,9, -999.00,9,-999.000,-999.0000,9,-999.0000,9,-999.0000,9,-999.0000,9,-999.0000,9,-999.0000,9,-999.0000,9,-999.0000,9,-999.0000,9,   4.6329,     -999.0,9,     -999.0,9,     -999.0,9,     -999.0,9,     -999.0,9,     -999.0,9,     -999.0,9,-999.0000, -999.00
33RO20071215,        P18,      75,          1,         17,      12016,2,20080109,       1300,   -14.6663,  -103.0003,       3987,  1000.5,   4.2849,  34.5334,2,  34.5328,2,     70.6,2,    70.6,2,   80.20,2,   42.80,2,    0.00,2,    3.02,2,-999.000,9,-999.000,9,-999.0000,9,  -999.0,9,  -999.0,9,   -999.0,9,  -999.00,-999.0000,9,  -999.00,-999.000,9,-999.0000,9, -999.00,9, -999.00,9,  -999.0,9,-999.000,9,-999.000,-999.000,9,-999.000,9,   39.21,2,   44.10,2, -999.00,1, -999.00,9, -999.00,9,-999.000,-999.0000,9,-999.0000,9,-999.0000,9,-999.0000,9,-999.0000,9,-999.0000,9,-999.0000,9,-999.0000,9,-999.0000,9,   4.2069,     -999.0,9,     -999.0,9,     -999.0,9,     -999.0,9,     -999.0,9,     -999.0,9,     -999.0,9,-999.0000, -999.00
33RO20071215,        P18,      75,          1,         16,      12051,2,20080109,       1300,   -14.6663,  -103.0003,       3987,  1100.2,   3.9512,  34.5460,2,  34.5451,2,     77.6,2,    80.1,2,   87.80,2,   42.10,2,    0.00,2,    2.98,2,-999.000,9,-999.000,9,-999.0000,9,  2308.4,2,  -999.0,9,   -999.0,9,  -999.00,-999.0000,9,  -999.00,-999.000,9,-999.0000,9, -999.00,9, -999.00,9,  -999.0,9,-999.000,9,-999.000,-999.000,9,-999.000,9,   39.10,2,   43.42,2, -999.00,9, -999.00,9, -999.00,9,-999.000,-999.0000,9,-999.0000,9,-999.0000,9,-999.0000,9,-999.0000,9,-999.0000,9,-999.0000,9,-999.0000,9,-999.0000,9,   3.8674,     -999.0,9,     -999.0,9,     -999.0,9,     -999.0,9,     -999.0,9,     -999.0,9,     -999.0,9,-999.0000, -999.00
33RO20071215,        P18,      75,          1,         15,      12014,2,20080109,       1300,   -14.6663,  -103.0003,       3987,  1200.5,   3.6530,  34.5588,2,  34.5580,2,     83.5,2,    83.7,2,   94.70,2,   41.70,2,    0.00,2,    2.95,2,-999.000,9,-999.000,9,-999.0000,9,  -999.0,9,  -999.0,9,   -999.0,9,  -999.00,-999.0000,9,  -999.00,-999.000,9,-999.0000,9, -999.00,9, -999.00,9,  -999.0,9,-999.000,9,-999.000,-999.000,9,-999.000,9,   38.65,2,   43.07,2, -999.00,9, -999.00,9, -999.00,9,-999.000,-999.0000,9,-999.0000,9,-999.0000,9,-999.0000,9,-999.0000,9,-999.0000,9,-999.0000,9,-999.0000,9,-999.0000,9,   3.5635,     -999.0,9,     -999.0,9,     -999.0,9,     -999.0,9,     -999.0,9,     -999.0,9,     -999.0,9,-999.0000, -999.00
33RO20071215,        P18,      75,          1,         14,      12013,2,20080109,       1300,   -14.6663,  -103.0003,       3987,  1301.3,   3.3652,  34.5727,2,  34.5731,2,     89.4,2,    89.7,2,  102.00,2,   41.30,2,    0.00,2,    2.92,2,-999.000,9,-999.000,9,-999.0000,9,  2316.6,2,  2352.0,4,   -999.0,9,  -999.00,   7.4637,2,    25.00,-999.000,9,-999.0000,9, -999.00,9, -999.00,9,  -999.0,9,-999.000,9,-999.000,-999.000,9,-999.000,9,   38.42,2,   42.49,2, -999.00,9, -999.00,9, -999.00,9,-999.000,-999.0000,9,-999.0000,9,-999.0000,9,-999.0000,9,-999.0000,9,-999.0000,9,-999.0000,9,-999.0000,9,-999.0000,9,   3.2700,     -999.0,9,     -999.0,9,     -999.0,9,     -999.0,9,     -999.0,9,     -999.0,9,     -999.0,9,-999.0000, -999.00
33RO20071215,        P18,      75,          1,         13,      12012,2,20080109,       1300,   -14.6663,  -103.0003,       3987,  1400.5,   3.1860,  34.5824,2,  34.5813,2,     91.1,2,    91.6,2,  106.60,2,   41.10,2,    0.00,2,    2.91,2,-999.000,9,-999.000,9,-999.0000,9,  -999.0,9,  -999.0,9,   -999.0,9,  -999.00,-999.0000,9,  -999.00,-999.000,9,-999.0000,9, -999.00,9, -999.00,9,  -999.0,9,-999.000,9,-999.000,-999.000,9,-999.000,9,   38.29,2,   42.46,2, -999.00,9, -999.00,9, -999.00,9,-999.000,-999.0000,9,-999.0000,9,-999.0000,9,-999.0000,9,-999.0000,9,-999.0000,9,-999.0000,9,-999.0000,9,-999.0000,9,   3.0844,     -999.0,9,     -999.0,9,     -999.0,9,     -999.0,9,     -999.0,9,     -999.0,9,     -999.0,9,-999.0000, -999.00
33RO20071215,        P18,      75,          1,         12,      12031,2,20080109,       1300,   -14.6663,  -103.0003,       3987,  1600.4,   2.7350,  34.6086,2,  34.6089,2,    103.0,2,   103.0,2,  117.80,2,   40.20,2,    0.00,2,    2.83,2,-999.000,9,-999.000,9,-999.0000,9,  2325.2,2,  -999.0,9,   -999.0,9,  -999.00,-999.0000,9,  -999.00,-999.000,9,-999.0000,9, -999.00,9, -999.00,9,  -999.0,9,-999.000,9,-999.000,-999.000,9,-999.000,9,   37.50,2,   41.54,2, -999.00,9, -999.00,9, -999.00,9,-999.000,-999.0000,9,-999.0000,9,-999.0000,9,-999.0000,9,-999.0000,9,-999.0000,9,-999.0000,9,-999.0000,9,-999.0000,9,   2.6219,     -999.0,9,     -999.0,9,     -999.0,9,     -999.0,9,     -999.0,9,     -999.0,9,     -999.0,9,-999.0000, -999.00