BOTTLE,20220818CCHSIOAMB
EXPOCODE,SECT_ID,STNNBR,CASTNO,SAMPNO,BTLNBR,BTLNBR_FLAG_W,DATE,TIME,LATITUDE,LONGITUDE,DEPTH,CTDPRS,CTDTMP,CTDSAL,CTDSAL_FLAG_W,SALNTY,SALNTY_FLAG_W,CTDOXY,CTDOXY_FLAG_W,OXYGEN,OXYGEN_FLAG_W,SILCAT,SILCAT_FLAG_W,NITRAT,NITRAT_FLAG_W,NITRIT,NITRIT_FLAG_W,PHSPHT,PHSPHT_FLAG_W,CFC-11,CFC-11_FLAG_W,CFC-12,CFC-12_FLAG_W,SF6,SF6_FLAG_W,TCARBN,TCARBN_FLAG_W,ALKALI,ALKALI_FLAG_W,FCO2,FCO2_FLAG_W,FCO2TMP,PH_SWS,PH_SWS_FLAG_W,PH_TMP,TRITUM,TRITUM_FLAG_W,HELIUM,HELIUM_FLAG_W,DELHE3,DELHE3_FLAG_W,DELC13,DELC13_FLAG_W,DELC14,DELC14_FLAG_W,NEON,NEON_FLAG_W,NEONER,CCL4,CCL4_FLAG_W,POC,POC_FLAG_W,DOC,DOC_FLAG_W,TDN,TDN_FLAG_W,DON,DON_FLAG_W,CHLORA,CHLORA_FLAG_W,ARGON,ARGON_FLAG_W,TRITER,CDOM325,CDOM325_FLAG_W,CDOM340,CDOM340_FLAG_W,CDOM380,CDOM380_FLAG_W,CDOM412,CDOM412_FLAG_W,CDOM443,CDOM443_FLAG_W,CDOM490,CDOM490_FLAG_W,CDOM555,CDOM555_FLAG_W,CDOMSL,CDOMSL_FLAG_W,CDOMSN,CDOMSN_FLAG_W,THETA,D18O_NO3,D18O_NO3_FLAG_W,CDOM2C,CDOM2C_FLAG_W,CDOM3C,CDOM3C_FLAG_W,LAB_DEN,LAB_DEN_FLAG_W,DELSI30,DELSI30_FLAG_W,N2,N2_FLAG_W,D15N_NO3,D15N_NO3_FLAG_W,HELIER,DELHER
,,,,,,,,,,,METERS,DBAR,ITS-90,PSS-78,,PSS-78,,UMOL/KG,,UMOL/KG,,UMOL/KG,,UMOL/KG,,UMOL/KG,,UMOL/KG,,PMOL/KG,,PMOL/KG,,FMOL/KG,,UMOL/KG,,UMOL/KG,,UATM,,DEG C,,,DEG C,TU,,NMOL/KG,,PERCNT,,/MILLE,,/MILLE,,NMOL/KG,,NMOL/KG,PMOL/KG,,UG/KG,,UMOL/KG,,UMOL/KG,,UMOL/KG,,UG/KG,,UMOL/KG,,TU,1/M,,1/M,,1/M,,1/M,,1/M,,1/M,,1/M,,1/NM,,1/NM,,DEG C,/MILLE,,,,,,,,/MILLE,,UMOL/KG,,/MILLE,,NMOL/KG,PERCNT
33RO20071215,        P18,     146,          1,         36,      12017,2,20080206,       1019,   -56.0830,  -103.0003,       4545,     5.1,   7.3706,  34.1366,2,  34.1384,2,    295.3,2,   295.9,2,    1.30,2,   18.10,2,    0.19,2,    1.27,2,-999.000,9,-999.000,9,-999.0000,9,  2106.9,6,  2276.1,2,   -999.0,9,  -999.00,   7.8089,2,    25.00,-999.000,9,-999.0000,9, -999.00,9, -999.00,9,  -999.0,9,-999.000,9,-999.000,-999.000,9,-999.000,9,   49.69,2,   22.65,2, -999.00,9, -999.00,9, -999.00,9,-999.000,-999.0000,9,-999.0000,9,-999.0000,9,-999.0000,9,-999.0000,9,-999.0000,9,-999.0000,9,-999.0000,9,-999.0000,9,   7.3701,     -999.0,9,     -999.0,9,     -999.0,9,     -999.0,9,     -999.0,9,     -999.0,9,     -999.0,9,-999.0000, -999.00
33RO20071215,        P18,     146,          1,         35,      12029,2,20080206,       1019,   -56.0830,  -103.0003,       4545,    14.4,   7.2535,  34.1339,2,  34.1337,2,    295.9,2,   295.7,2,    1.30,2,   18.10,2,    0.18,2,    1.27,2,-999.000,9,-999.000,9,-999.0000,9,  2106.9,2,  2277.1,2,   -999.0,9,  -999.00,-999.0000,9,  -999.00,-999.000,9,-999.0000,9, -999.00,9, -999.00,9,  -999.0,9,-999.000,9,-999.000,-999.000,9,-999.000,9,   48.95,2,   22.74,2, -999.00,9, -999.00,9, -999.00,9,-999.000,-999.0000,9,-999.0000,9,-999.0000,9,-999.0000,9,-999.0000,9,-999.0000,9,-999.0000,9,-999.0000,9,-999.0000,9,   7.2521,     -999.0,9,     -999.0,9,     -999.0,9,     -999.0,9,     -999.0,9,     -999.0,9,     -999.0,9,-999.0000, -999.00
33RO20071215,        P18,     146,          1,         34,      12049,2,20080206,       1019,   -56.0830,  -103.0003,       4545,    33.3,   7.2219,  34.1338,2,  34.1325,2,    296.2,2,   295.7,2,    1.40,2,   18.10,2,    0.18,2,    1.27,2,-999.000,9,-999.000,9,-999.0000,9,  2107.4,2,  2276.9,2,   -999.0,9,  -999.00,   7.8109,2,    25.00,-999.000,9,-999.0000,9, -999.00,9, -999.00,9,  -999.0,9,-999.000,9,-999.000,-999.000,9,-999.000,9,   48.70,2,   22.47,2, -999.00,9, -999.00,9, -999.00,9,-999.000,-999.0000,9,-999.0000,9,-999.0000,9,-999.0000,9,-999.0000,9,-999.0000,9,-999.0000,9,-999.0000,9,-999.0000,9,   7.2188,     -999.0,9,     -999.0,9,     -999.0,9,     -999.0,9,     -999.0,9,     -999.0,9,     -999.0,9,-999.0000, -999.00
33RO20071215,        P18,     146,          1,         33,      12027,2,20080206,       1019,   -56.0830,  -103.0003,       4545,    57.2,   7.2063,  34.1334,2,  34.1333,2,    296.0,2,   295.8,2,    1.30,2,   18.10,2,    0.18,2,    1.28,2,-999.000,9,-999.000,9,-999.0000,9,  2107.0,2,  2276.0,2,   -999.0,9,  -999.00,   7.8056,2,    25.00,-999.000,9,-999.0000,9, -999.00,9, -999.00,9,  -999.0,9,-999.000,9,-999.000,-999.000,9,-999.000,9,   47.19,2,   22.41,2, -999.00,9, -999.00,9, -999.00,9,-999.000,-999.0000,9,-999.0000,9,-999.0000,9,-999.0000,9,-999.0000,9,-999.0000,9,-999.0000,9,-999.0000,9,-999.0000,9,   7.2010,     -999.0,9,     -999.0,9,     -999.0,9,     -999.0,9,     -999.0,9,     -999.0,9,     -999.0,9,-999.0000, -999.00
33RO20071215,        P18,     146,          1,         32,      12023,2,20080206,       1019,   -56.0830,  -103.0003,       4545,    83.5,   7.1916,  34.1325,2,  34.1335,2,    296.4,2,   295.8,2,    1.40,2,   18.20,2,    0.18,2,    1.29,2,-999.000,9,-999.000,9,-999.0000,9,  2108.3,2,  2271.7,2,   -999.0,9,  -999.00,   7.7872,2,    25.00,-999.000,9,-999.0000,9, -999.00,9, -999.00,9,  -999.0,9,-999.000,9,-999.000,-999.000,9,-999.000,9,   46.89,2,   21.83,2, -999.00,9, -999.00,9, -999.00,9,-999.000,-999.0000,9,-999.0000,9,-999.0000,9,-999.0000,9,-999.0000,9,-999.0000,9,-999.0000,9,-999.0000,9,-999.0000,9,   7.1838,     -999.0,9,     -999.0,9,     -999.0,9,     -999.0,9,     -999.0,9,     -999.0,9,     -999.0,9,-999.0000, -999.00
33RO20071215,        P18,     146,          1,         31,      12037,2,20080206,       1019,   -56.0830,  -103.0003,       4545,   107.4,   6.3668,  34.1311,2,  34.1325,2,    296.9,2,   296.8,2,    3.20,2,   19.30,2,    0.21,2,    1.43,2,-999.000,9,-999.000,9,-999.0000,9,  2117.1,2,  2278.7,2,   -999.0,9,  -999.00,   7.7767,2,    25.00,-999.000,9,-999.0000,9, -999.00,9, -999.00,9,  -999.0,9,-999.000,9,-999.000,-999.000,9,-999.000,9,   46.60,2,   23.08,2, -999.00,9, -999.00,9, -999.00,9,-999.000,-999.0000,9,-999.0000,9,-999.0000,9,-999.0000,9,-999.0000,9,-999.0000,9,-999.0000,9,-999.0000,9,-999.0000,9,   6.3574,     -999.0,9,     -999.0,9,     -999.0,9,     -999.0,9,     -999.0,9,     -999.0,9,     -999.0,9,-999.0000, -999.00
33RO20071215,        P18,     146,          1,         30,      12036,2,20080206,       1019,   -56.0830,  -103.0003,       4545,   133.4,   5.7980,  34.1355,2,  34.1374,2,    292.6,2,   294.3,2,    6.30,2,   20.90,2,    0.31,2,    1.53,2,-999.000,9,-999.000,9,-999.0000,9,  2123.4,2,  2278.4,2,   -999.0,9,  -999.00,   7.7645,2,    25.00,-999.000,9,-999.0000,9, -999.00,9, -999.00,9,  -999.0,9,-999.000,9,-999.000,-999.000,9,-999.000,9,   45.58,2,   23.90,2, -999.00,9, -999.00,9, -999.00,9,-999.000,-999.0000,9,-999.0000,9,-999.0000,9,-999.0000,9,-999.0000,9,-999.0000,9,-999.0000,9,-999.0000,9,-999.0000,9,   5.7870,     -999.0,9,     -999.0,9,     -999.0,9,     -999.0,9,     -999.0,9,     -999.0,9,     -999.0,9,-999.0000, -999.00
33RO20071215,        P18,     146,          1,         29,      12044,2,20080206,       1019,   -56.0830,  -103.0003,       4545,   166.9,   5.5587,  34.1742,2,  34.1794,2,    289.6,2,   288.5,2,    7.70,2,   22.20,2,    0.01,2,    1.56,2,-999.000,9,-999.000,9,-999.0000,9,  2131.1,2,  2277.9,2,   -999.0,9,  -999.00,   7.7439,2,    25.00,-999.000,9,-999.0000,9, -999.00,9, -999.00,9,  -999.0,9,-999.000,9,-999.000,-999.000,9,-999.000,9,   44.95,2,   24.09,2, -999.00,9, -999.00,9, -999.00,9,-999.000,-999.0000,9,-999.0000,9,-999.0000,9,-999.0000,9,-999.0000,9,-999.0000,9,-999.0000,9,-999.0000,9,-999.0000,9,   5.5451,     -999.0,9,     -999.0,9,     -999.0,9,     -999.0,9,     -999.0,9,     -999.0,9,     -999.0,9,-999.0000, -999.00
33RO20071215,        P18,     146,          1,         28,      12057,2,20080206,       1019,   -56.0830,  -103.0003,       4545,   216.8,   5.3775,  34.1721,2,  34.1731,2,    288.0,2,   288.5,2,    8.10,2,   22.50,2,    0.01,2,    1.57,2,-999.000,9,-999.000,9,-999.0000,9,  2132.7,2,  2277.3,2,   -999.0,9,  -999.00,   7.7532,2,    25.00,-999.000,9,-999.0000,9, -999.00,9, -999.00,9,  -999.0,9,-999.000,9,-999.000,-999.000,9,-999.000,9,   44.65,2,   24.82,2, -999.00,9, -999.00,9, -999.00,9,-999.000,-999.0000,9,-999.0000,9,-999.0000,9,-999.0000,9,-999.0000,9,-999.0000,9,-999.0000,9,-999.0000,9,-999.0000,9,   5.3602,     -999.0,9,     -999.0,9,     -999.0,9,     -999.0,9,     -999.0,9,     -999.0,9,     -999.0,9,-999.0000, -999.00
33RO20071215,        P18,     146,          1,         27,      12026,2,20080206,       1019,   -56.0830,  -103.0003,       4545,   266.1,   5.2756,  34.1688,2,  34.1683,2,    289.8,2,   287.8,2,    8.40,2,   22.80,2,    0.01,2,    1.60,2,-999.000,9,-999.000,9,-999.0000,9,  2137.5,2,  2278.9,2,   -999.0,9,  -999.00,   7.7438,2,    25.00,-999.000,9,-999.0000,9, -999.00,9, -999.00,9,  -999.0,9,-999.000,9,-999.000,-999.000,9,-999.000,9,   42.95,2,   24.22,2, -999.00,9, -999.00,9, -999.00,9,-999.000,-999.0000,9,-999.0000,9,-999.0000,9,-999.0000,9,-999.0000,9,-999.0000,9,-999.0000,9,-999.0000,9,-999.0000,9,   5.2545,     -999.0,9,     -999.0,9,     -999.0,9,     -999.0,9,     -999.0,9,     -999.0,9,     -999.0,9,-999.0000, -999.00
33RO20071215,        P18,     146,          1,         26,      12030,2,20080206,       1019,   -56.0830,  -103.0003,       4545,   315.9,   5.0968,  34.1617,2,  34.1604,2,    288.2,2,   283.7,2,    9.50,2,   23.50,2,    0.01,2,    1.65,2,-999.000,9,-999.000,9,-999.0000,9,  2139.9,2,  2279.6,2,   -999.0,9,  -999.00,   7.7308,2,    25.00,-999.000,9,-999.0000,9, -999.00,9, -999.00,9,  -999.0,9,-999.000,9,-999.000,-999.000,9,-999.000,9,   42.75,2,   25.19,2, -999.00,9, -999.00,9, -999.00,9,-999.000,-999.0000,9,-999.0000,9,-999.0000,9,-999.0000,9,-999.0000,9,-999.0000,9,-999.0000,9,-999.0000,9,-999.0000,9,   5.0720,     -999.0,9,     -999.0,9,     -999.0,9,     -999.0,9,     -999.0,9,     -999.0,9,     -999.0,9,-999.0000, -999.00
33RO20071215,        P18,     146,          1,         25,      12024,2,20080206,       1019,   -56.0830,  -103.0003,       4545,   367.2,   4.9136,  34.1549,2,  34.1553,2,    288.8,2,   281.7,2,   10.40,2,   24.10,2,    0.01,2,    1.69,2,-999.000,9,-999.000,9,-999.0000,9,  2142.5,2,  2278.0,2,   -999.0,9,  -999.00,   7.7284,2,    25.00,-999.000,9,-999.0000,9, -999.00,9, -999.00,9,  -999.0,9,-999.000,9,-999.000,-999.000,9,-999.000,9,   42.69,2,   25.39,2, -999.00,9, -999.00,9, -999.00,9,-999.000,-999.0000,9,-999.0000,9,-999.0000,9,-999.0000,9,-999.0000,9,-999.0000,9,-999.0000,9,-999.0000,9,-999.0000,9,   4.8852,     -999.0,9,     -999.0,9,     -999.0,9,     -999.0,9,     -999.0,9,     -999.0,9,     -999.0,9,-999.0000, -999.00
33RO20071215,        P18,     146,          1,         24,      12019,2,20080206,       1019,   -56.0830,  -103.0003,       4545,   434.0,   4.6089,  34.1395,2,  34.1378,2,    281.9,2,   279.4,2,   11.90,2,   25.00,2,    0.01,2,    1.74,2,-999.000,9,-999.000,9,-999.0000,9,  2148.5,2,  2278.4,2,   -999.0,9,  -999.00,   7.7179,2,    25.00,-999.000,9,-999.0000,9, -999.00,9, -999.00,9,  -999.0,9,-999.000,9,-999.000,-999.000,9,-999.000,9,   42.07,2,   26.24,2, -999.00,9, -999.00,9, -999.00,9,-999.000,-999.0000,9,-999.0000,9,-999.0000,9,-999.0000,9,-999.0000,9,-999.0000,9,-999.0000,9,-999.0000,9,-999.0000,9,   4.5761,     -999.0,9,     -999.0,9,     -999.0,9,     -999.0,9,     -999.0,9,     -999.0,9,     -999.0,9,-999.0000, -999.00
33RO20071215,        P18,     146,          1,         23,      12022,2,20080206,       1019,   -56.0830,  -103.0003,       4545,   532.8,   4.2827,  34.1387,2,  34.1396,2,    272.6,2,   269.9,2,   15.00,2,   26.50,2,    0.01,2,    1.84,2,-999.000,9,-999.000,9,-999.0000,9,  -999.0,9,  -999.0,9,   -999.0,9,  -999.00,-999.0000,9,  -999.00,-999.000,9,-999.0000,9, -999.00,9, -999.00,9,  -999.0,9,-999.000,9,-999.000,-999.000,9,-999.000,9,   41.99,2,   27.86,2, -999.00,9, -999.00,9, -999.00,9,-999.000,-999.0000,9,-999.0000,9,-999.0000,9,-999.0000,9,-999.0000,9,-999.0000,9,-999.0000,9,-999.0000,9,-999.0000,9,   4.2434,     -999.0,9,     -999.0,9,     -999.0,9,     -999.0,9,     -999.0,9,     -999.0,9,     -999.0,9,-999.0000, -999.00
33RO20071215,        P18,     146,          1,         22,      12015,2,20080206,       1019,   -56.0830,  -103.0003,       4545,   633.2,   4.1754,  34.1909,2,  34.1931,2,    254.5,2,   247.6,2,   20.90,2,   28.40,2,    0.01,2,    1.97,2,-999.000,9,-999.000,9,-999.0000,9,  2173.9,2,  2284.2,2,   -999.0,9,  -999.00,   7.6657,2,    25.00,-999.000,9,-999.0000,9, -999.00,9, -999.00,9,  -999.0,9,-999.000,9,-999.000,-999.000,9,-999.000,9,   41.02,2,   29.49,2, -999.00,9, -999.00,9, -999.00,9,-999.000,-999.0000,9,-999.0000,9,-999.0000,9,-999.0000,9,-999.0000,9,-999.0000,9,-999.0000,9,-999.0000,9,-999.0000,9,   4.1287,     -999.0,9,     -999.0,9,     -999.0,9,     -999.0,9,     -999.0,9,     -999.0,9,     -999.0,9,-999.0000, -999.00
33RO20071215,        P18,     146,          1,         21,      12020,2,20080206,       1019,   -56.0830,  -103.0003,       4545,   733.2,   3.9875,  34.2537,2,  34.2550,2,    223.7,2,   225.0,2,   28.80,2,   30.30,2,    0.00,2,    2.10,2,-999.000,9,-999.000,9,-999.0000,9,  -999.0,9,  -999.0,9,   -999.0,9,  -999.00,-999.0000,9,  -999.00,-999.000,9,-999.0000,9, -999.00,9, -999.00,9,  -999.0,9,-999.000,9,-999.000,-999.000,9,-999.000,9,   40.42,2,   31.87,2, -999.00,9, -999.00,9, -999.00,9,-999.000,-999.0000,9,-999.0000,9,-999.0000,9,-999.0000,9,-999.0000,9,-999.0000,9,-999.0000,9,-999.0000,9,-999.0000,9,   3.9339,     -999.0,9,     -999.0,9,     -999.0,9,     -999.0,9,     -999.0,9,     -999.0,9,     -999.0,9,-999.0000, -999.00
33RO20071215,        P18,     146,          1,         20,      12055,2,20080206,       1019,   -56.0830,  -103.0003,       4545,   833.0,   3.6165,  34.2932,2,  34.2937,2,    214.3,2,   213.4,2,   36.80,2,   31.70,2,    0.00,2,    2.20,2,-999.000,9,-999.000,9,-999.0000,9,  2203.8,2,  2299.7,2,   -999.0,9,  -999.00,   7.6144,2,    25.00,-999.000,9,-999.0000,9, -999.00,9, -999.00,9,  -999.0,9,-999.000,9,-999.000,-999.000,9,-999.000,9,   40.19,2,   33.02,2, -999.00,9, -999.00,9, -999.00,9,-999.000,-999.0000,9,-999.0000,9,-999.0000,9,-999.0000,9,-999.0000,9,-999.0000,9,-999.0000,9,-999.0000,9,-999.0000,9,   3.5573,     -999.0,9,     -999.0,9,     -999.0,9,     -999.0,9,     -999.0,9,     -999.0,9,     -999.0,9,-999.0000, -999.00
33RO20071215,        P18,     146,          1,         19,      12018,2,20080206,       1019,   -56.0830,  -103.0003,       4545,   933.4,   3.2888,  34.3344,2,  34.3425,2,    203.6,2,   203.2,2,   44.80,2,   32.90,2,    0.00,2,    2.28,2,-999.000,9,-999.000,9,-999.0000,9,  -999.0,9,  -999.0,9,   -999.0,9,  -999.00,-999.0000,9,  -999.00,-999.000,9,-999.0000,9, -999.00,9, -999.00,9,  -999.0,9,-999.000,9,-999.000,-999.000,9,-999.000,9,   39.82,3,   34.51,3, -999.00,9, -999.00,9, -999.00,9,-999.000,-999.0000,9,-999.0000,9,-999.0000,9,-999.0000,9,-999.0000,9,-999.0000,9,-999.0000,9,-999.0000,9,-999.0000,9,   3.2241,     -999.0,9,     -999.0,9,     -999.0,9,     -999.0,9,     -999.0,9,     -999.0,9,     -999.0,9,-999.0000, -999.00
33RO20071215,        P18,     146,          1,         18,      12025,2,20080206,       1019,   -56.0830,  -103.0003,       4545,  1067.3,   2.9638,  34.4019,2,  34.4030,2,    190.2,2,   189.4,2,   55.10,2,   33.80,2,    0.00,2,    2.36,2,-999.000,9,-999.000,9,-999.0000,9,  2232.0,2,  2319.4,2,   -999.0,9,  -999.00,   7.5868,2,    25.00,-999.000,9,-999.0000,9, -999.00,9, -999.00,9,  -999.0,9,-999.000,9,-999.000,-999.000,9,-999.000,9,   39.56,2,   35.26,2, -999.00,9, -999.00,9, -999.00,9,-999.000,-999.0000,9,-999.0000,9,-999.0000,9,-999.0000,9,-999.0000,9,-999.0000,9,-999.0000,9,-999.0000,9,-999.0000,9,   2.8912,     -999.0,9,     -999.0,9,     -999.0,9,     -999.0,9,     -999.0,9,     -999.0,9,     -999.0,9,-999.0000, -999.00
33RO20071215,        P18,     146,          1,         17,      12016,2,20080206,       1019,   -56.0830,  -103.0003,       4545,  1264.8,   2.6518,  34.4942,2,  34.4957,2,    177.7,2,   176.8,2,   67.20,2,   34.40,2,    0.00,2,    2.40,2,-999.000,9,-999.000,9,-999.0000,9,  -999.0,9,  -999.0,9,   -999.0,9,  -999.00,-999.0000,9,  -999.00,-999.000,9,-999.0000,9, -999.00,9, -999.00,9,  -999.0,9,-999.000,9,-999.000,-999.000,9,-999.000,9,   39.63,2,   35.55,2, -999.00,9, -999.00,9, -999.00,9,-999.000,-999.0000,9,-999.0000,9,-999.0000,9,-999.0000,9,-999.0000,9,-999.0000,9,-999.0000,9,-999.0000,9,-999.0000,9,   2.5667,     -999.0,9,     -999.0,9,     -999.0,9,     -999.0,9,     -999.0,9,     -999.0,9,     -999.0,9,-999.0000, -999.00
33RO20071215,        P18,     146,          1,         16,      12051,2,20080206,       1019,   -56.0830,  -103.0003,       4545,  1466.7,   2.4754,  34.5743,2,  34.5751,2,    172.9,2,   171.9,2,   74.80,2,   34.20,2,    0.00,2,    2.38,2,-999.000,9,-999.000,9,-999.0000,9,  2254.9,6,  2336.7,2,   -999.0,9,  -999.00,   7.5652,2,    25.00,-999.000,9,-999.0000,9, -999.00,9, -999.00,9,  -999.0,9,-999.000,9,-999.000,-999.000,9,-999.000,9,   39.74,2,   35.53,2, -999.00,9, -999.00,9, -999.00,9,-999.000,-999.0000,9,-999.0000,9,-999.0000,9,-999.0000,9,-999.0000,9,-999.0000,9,-999.0000,9,-999.0000,9,-999.0000,9,   2.3762,     -999.0,9,     -999.0,9,     -999.0,9,     -999.0,9,     -999.0,9,     -999.0,9,     -999.0,9,-999.0000, -999.00
33RO20071215,        P18,     146,          1,         15,      12014,2,20080206,       1019,   -56.0830,  -103.0003,       4545,  1667.0,   2.3427,  34.6381,2,  34.6381,2,    173.7,2,   173.6,2,   79.80,2,   33.50,2,    0.00,2,    2.33,2,-999.000,9,-999.000,9,-999.0000,9,  -999.0,9,  -999.0,9,   -999.0,9,  -999.00,-999.0000,9,  -999.00,-999.000,9,-999.0000,9, -999.00,9, -999.00,9,  -999.0,9,-999.000,9,-999.000,-999.000,9,-999.000,9,   40.01,2,   35.29,2, -999.00,9, -999.00,9, -999.00,9,-999.000,-999.0000,9,-999.0000,9,-999.0000,9,-999.0000,9,-999.0000,9,-999.0000,9,-999.0000,9,-999.0000,9,-999.0000,9,   2.2289,     -999.0,9,     -999.0,9,     -999.0,9,     -999.0,9,     -999.0,9,     -999.0,9,     -999.0,9,-999.0000, -999.00
33RO20071215,        P18,     146,          1,         14,      12013,2,20080206,       1019,   -56.0830,  -103.0003,       4545,  1867.1,   2.2174,  34.6835,2,  34.6845,2,    177.6,2,   177.4,2,   83.60,2,   32.80,2,    0.00,2,    2.28,2,-999.000,9,-999.000,9,-999.0000,9,  2257.2,2,  2348.8,2,   -999.0,9,  -999.00,   7.5934,2,    25.00,-999.000,9,-999.0000,9, -999.00,9, -999.00,9,  -999.0,9,-999.000,9,-999.000,-999.000,9,-999.000,9,   39.58,2,   34.45,2, -999.00,9, -999.00,9, -999.00,9,-999.000,-999.0000,9,-999.0000,9,-999.0000,9,-999.0000,9,-999.0000,9,-999.0000,9,-999.0000,9,-999.0000,9,-999.0000,9,   2.0887,     -999.0,9,     -999.0,9,     -999.0,9,     -999.0,9,     -999.0,9,     -999.0,9,     -999.0,9,-999.0000, -999.00
33RO20071215,        P18,     146,          1,         13,      12012,2,20080206,       1019,   -56.0830,  -103.0003,       4545,  2067.2,   2.0735,  34.7113,2,  34.7121,2,    181.5,2,   181.7,2,   88.00,2,   32.20,2,    0.00,2,    2.24,2,-999.000,9,-999.000,9,-999.0000,9,  -999.0,9,  -999.0,9,   -999.0,9,  -999.00,-999.0000,9,  -999.00,-999.000,9,-999.0000,9, -999.00,9, -999.00,9,  -999.0,9,-999.000,9,-999.000,-999.000,9,-999.000,9,   39.77,2,   33.59,2, -999.00,9, -999.00,9, -999.00,9,-999.000,-999.0000,9,-999.0000,9,-999.0000,9,-999.0000,9,-999.0000,9,-999.0000,9,-999.0000,9,-999.0000,9,-999.0000,9,   1.9299,     -999.0,9,     -999.0,9,     -999.0,9,     -999.0,9,     -999.0,9,     -999.0,9,     -999.0,9,-999.0000, -999.00
33RO20071215,        P18,     146,          1,         12,      12031,2,20080206,       1019,   -56.0830,  -103.0003,       4545,  2267.1,   1.9005,  34.7221,2,  34.7234,2,    184.4,2,   184.9,2,   94.40,2,   32.10,2,    0.00,2,    2.23,2,-999.000,9,-999.000,9,-999.0000,9,  2261.6,2,  2358.8,2,   -999.0,9,  -999.00,   7.6025,2,    25.00,-999.000,9,-999.0000,9, -999.00,9, -999.00,9,  -999.0,9,-999.000,9,-999.000,-999.000,9,-999.000,9,   39.65,2,   33.67,2, -999.00,9, -999.00,9, -999.00,9,-999.000,-999.0000,9,-999.0000,9,-999.0000,9,-999.0000,9,-999.0000,9,-999.0000,9,-999.0000,9,-999.0000,9,-999.0000,9,   1.7425,     -999.0,9,     -999.0,9,     -999.0,9,     -999.0,9,     -999.0,9,     -999.0,9,     -999.0,9,-999.0000, -999.00