BOTTLE,20220818CCHSIOAMB
EXPOCODE,SECT_ID,STNNBR,CASTNO,SAMPNO,BTLNBR,BTLNBR_FLAG_W,DATE,TIME,LATITUDE,LONGITUDE,DEPTH,CTDPRS,CTDTMP,CTDSAL,CTDSAL_FLAG_W,SALNTY,SALNTY_FLAG_W,CTDOXY,CTDOXY_FLAG_W,OXYGEN,OXYGEN_FLAG_W,SILCAT,SILCAT_FLAG_W,NITRAT,NITRAT_FLAG_W,NITRIT,NITRIT_FLAG_W,PHSPHT,PHSPHT_FLAG_W,CFC-11,CFC-11_FLAG_W,CFC-12,CFC-12_FLAG_W,SF6,SF6_FLAG_W,TCARBN,TCARBN_FLAG_W,ALKALI,ALKALI_FLAG_W,FCO2,FCO2_FLAG_W,FCO2TMP,PH_SWS,PH_SWS_FLAG_W,PH_TMP,TRITUM,TRITUM_FLAG_W,HELIUM,HELIUM_FLAG_W,DELHE3,DELHE3_FLAG_W,DELC13,DELC13_FLAG_W,DELC14,DELC14_FLAG_W,NEON,NEON_FLAG_W,NEONER,CCL4,CCL4_FLAG_W,POC,POC_FLAG_W,DOC,DOC_FLAG_W,TDN,TDN_FLAG_W,DON,DON_FLAG_W,CHLORA,CHLORA_FLAG_W,ARGON,ARGON_FLAG_W,TRITER,CDOM325,CDOM325_FLAG_W,CDOM340,CDOM340_FLAG_W,CDOM380,CDOM380_FLAG_W,CDOM412,CDOM412_FLAG_W,CDOM443,CDOM443_FLAG_W,CDOM490,CDOM490_FLAG_W,CDOM555,CDOM555_FLAG_W,CDOMSL,CDOMSL_FLAG_W,CDOMSN,CDOMSN_FLAG_W,THETA,D18O_NO3,D18O_NO3_FLAG_W,CDOM2C,CDOM2C_FLAG_W,CDOM3C,CDOM3C_FLAG_W,LAB_DEN,LAB_DEN_FLAG_W,DELSI30,DELSI30_FLAG_W,N2,N2_FLAG_W,D15N_NO3,D15N_NO3_FLAG_W,HELIER,DELHER
,,,,,,,,,,,METERS,DBAR,ITS-90,PSS-78,,PSS-78,,UMOL/KG,,UMOL/KG,,UMOL/KG,,UMOL/KG,,UMOL/KG,,UMOL/KG,,PMOL/KG,,PMOL/KG,,FMOL/KG,,UMOL/KG,,UMOL/KG,,UATM,,DEG C,,,DEG C,TU,,NMOL/KG,,PERCNT,,/MILLE,,/MILLE,,NMOL/KG,,NMOL/KG,PMOL/KG,,UG/KG,,UMOL/KG,,UMOL/KG,,UMOL/KG,,UG/KG,,UMOL/KG,,TU,1/M,,1/M,,1/M,,1/M,,1/M,,1/M,,1/M,,1/NM,,1/NM,,DEG C,/MILLE,,,,,,,,/MILLE,,UMOL/KG,,/MILLE,,NMOL/KG,PERCNT
33RO20071215,        P18,     169,          1,         24,      11024,2,20080213,       1152,   -67.7502,  -102.9998,       4535,     5.4,   1.2597,  33.6693,2,  33.6720,2,    343.2,2,   342.2,2,   14.70,2,   22.80,2,    0.21,2,    1.41,2,   5.907,2,   3.357,2,   2.4540,2,  2129.2,6,  2279.0,2,   -999.0,9,  -999.00,   7.7625,2,    25.00,-999.000,9,-999.0000,9, -999.00,9, -999.00,9,  -999.0,9,-999.000,9,-999.000,-999.000,9,-999.000,9,   46.24,2,   27.37,2, -999.00,9,    0.49,2, -999.00,9,-999.000,   0.1578,2,   0.1171,2,   0.0445,2,   0.0314,2,   0.0218,2,   0.0113,2,   0.0044,2,   0.0150,2,   0.0196,2,   1.2595,     -999.0,9,     -999.0,9,     -999.0,9,     -999.0,9,     -999.0,9,     -999.0,9,     -999.0,9,-999.0000, -999.00
33RO20071215,        P18,     169,          1,         23,      11023,2,20080213,       1152,   -67.7502,  -102.9998,       4535,    25.2,   1.2543,  33.6737,2,  33.6750,2,    343.8,2,   342.7,2,   14.70,2,   22.90,2,    0.21,2,    1.42,2,   5.909,2,   3.327,2,   2.2810,2,  2129.8,2,  2278.2,2,   -999.0,9,  -999.00,   7.7563,2,    25.00,-999.000,9,-999.0000,9, -999.00,9, -999.00,9,  -999.0,9,-999.000,9,-999.000,-999.000,9,-999.000,9,   45.57,2,   27.51,2, -999.00,9,    0.48,2, -999.00,9,-999.000,   0.1284,2,   0.0910,2,   0.0292,2,   0.0182,2,   0.0106,2,   0.0034,2,   0.0000,4,   0.0211,2,   0.0252,2,   1.2532,     -999.0,9,     -999.0,9,     -999.0,9,     -999.0,9,     -999.0,9,     -999.0,9,     -999.0,9,-999.0000, -999.00
33RO20071215,        P18,     169,          1,         22,      11022,2,20080213,       1152,   -67.7502,  -102.9998,       4535,    50.5,   0.5325,  33.7378,2,  33.7950,2,    342.7,2,   345.2,2,   25.90,2,   25.00,2,    0.20,2,    1.79,2,   5.971,2,   3.281,2,   2.2283,2,  2154.7,2,  2285.1,2,   -999.0,9,  -999.00,   7.7148,2,    25.00,-999.000,9,-999.0000,9, -999.00,9, -999.00,9,  -999.0,9,-999.000,9,-999.000,-999.000,9,-999.000,9,   44.88,3,   28.43,3, -999.00,9,    0.56,2, -999.00,9,-999.000,   0.1074,2,   0.0698,2,   0.0269,2,   0.0175,2,   0.0094,2,   0.0025,2,  -0.0002,4,   0.0195,2,   0.0240,2,   0.5305,     -999.0,9,     -999.0,9,     -999.0,9,     -999.0,9,     -999.0,9,     -999.0,9,     -999.0,9,-999.0000, -999.00
33RO20071215,        P18,     169,          1,         21,      11021,2,20080213,       1152,   -67.7502,  -102.9998,       4535,    74.7,  -1.6068,  33.9993,2,  33.9988,2,    337.9,2,   338.4,2,   39.40,2,   28.60,2,    0.22,2,    2.08,2,-999.000,9,-999.000,9,-999.0000,9,  2182.7,2,  2292.8,2,   -999.0,9,  -999.00,   7.6602,2,    25.00,-999.000,9,-999.0000,9, -999.00,9, -999.00,9,  -999.0,9,-999.000,9,-999.000,-999.000,9,-999.000,9,   44.56,2,   31.69,2, -999.00,9,    0.11,2, -999.00,9,-999.000,   0.0931,2,   0.0586,2,   0.0262,2,   0.0185,2,   0.0098,2,   0.0028,2,   0.0002,3,   0.0172,2,   0.0215,2,  -1.6084,     -999.0,9,     -999.0,9,     -999.0,9,     -999.0,9,     -999.0,9,     -999.0,9,     -999.0,9,-999.0000, -999.00
33RO20071215,        P18,     169,          1,         20,      11020,2,20080213,       1152,   -67.7502,  -102.9998,       4535,    99.4,  -1.5912,  34.0491,2,  34.0533,2,    332.8,2,   332.4,2,   42.00,2,   29.40,2,    0.21,2,    2.08,2,   5.989,2,   3.333,2,   2.2387,2,  2189.3,2,  2298.7,2,   -999.0,9,  -999.00,   7.6475,2,    25.00,-999.000,9,-999.0000,9, -999.00,9, -999.00,9,  -999.0,9,-999.000,9,-999.000,-999.000,9,-999.000,9,   42.61,2,   32.18,2, -999.00,9,    0.07,2, -999.00,9,-999.000,   0.0963,2,   0.0619,2,   0.0299,2,   0.0223,2,   0.0135,2,   0.0054,2,   0.0016,2,   0.0151,2,   0.0186,2,  -1.5933,     -999.0,9,     -999.0,9,     -999.0,9,     -999.0,9,     -999.0,9,     -999.0,9,     -999.0,9,-999.0000, -999.00
33RO20071215,        P18,     169,          1,         19,      11019,2,20080213,       1152,   -67.7502,  -102.9998,       4535,   149.3,  -0.9578,  34.1483,2,  34.1481,2,    306.4,2,   306.3,2,   49.10,2,   30.80,2,    0.02,2,    2.14,2,-999.000,9,-999.000,9,-999.0000,9,  2202.1,2,  2304.4,2,   -999.0,9,  -999.00,   7.6234,2,    25.00,-999.000,9,-999.0000,9, -999.00,9, -999.00,9,  -999.0,9,-999.000,9,-999.000,-999.000,9,-999.000,9,   42.17,2,   33.33,2, -999.00,9,    0.07,2, -999.00,9,-999.000,   0.0865,2,   0.0522,2,   0.0227,2,   0.0154,2,   0.0074,2,   0.0011,2,  -0.0008,4,   0.0183,2,   0.0235,2,  -0.9619,     -999.0,9,     -999.0,9,     -999.0,9,     -999.0,9,     -999.0,9,     -999.0,9,     -999.0,9,-999.0000, -999.00
33RO20071215,        P18,     169,          1,         18,      11018,2,20080213,       1152,   -67.7502,  -102.9998,       4535,   224.9,   1.2625,  34.4124,2,  34.4164,2,    217.4,2,   209.6,2,   67.30,2,   34.50,2,    0.01,2,    2.37,2,   2.235,2,   1.181,2,   0.7920,2,  2242.3,2,  2323.0,2,   -999.0,9,  -999.00,   7.5574,2,    25.00,-999.000,9,-999.0000,9, -999.00,9, -999.00,9,  -999.0,9,-999.000,9,-999.000,-999.000,9,-999.000,9,   40.81,2,   36.42,2, -999.00,9,    0.01,2, -999.00,9,-999.000,   0.1219,2,   0.0822,2,   0.0398,2,   0.0283,2,   0.0164,2,   0.0057,2,   0.0015,2,   0.0161,2,   0.0183,2,   1.2519,     -999.0,9,     -999.0,9,     -999.0,9,     -999.0,9,     -999.0,9,     -999.0,9,     -999.0,9,-999.0000, -999.00
33RO20071215,        P18,     169,          1,         17,      11017,2,20080213,       1152,   -67.7502,  -102.9998,       4535,   300.2,   1.8615,  34.5422,2,  34.5408,2,    184.7,2,   183.2,2,   75.00,2,   34.70,2,    0.01,2,    2.38,2,   1.167,2,   0.600,2,   0.3705,2,  2254.7,2,  2330.8,2,   -999.0,9,  -999.00,   7.5484,2,    25.00,-999.000,9,-999.0000,9, -999.00,9, -999.00,9,  -999.0,9,-999.000,9,-999.000,-999.000,9,-999.000,9,   40.45,2,   36.42,2, -999.00,9, -999.00,9, -999.00,9,-999.000,   0.1168,2,   0.0762,2,   0.0362,2,   0.0243,2,   0.0131,2,   0.0038,2,   0.0003,4,   0.0172,2,   0.0198,2,   1.8455,     -999.0,9,     -999.0,9,     -999.0,9,     -999.0,9,     -999.0,9,     -999.0,9,     -999.0,9,-999.0000, -999.00
33RO20071215,        P18,     169,          1,         16,      11016,2,20080213,       1152,   -67.7502,  -102.9998,       4535,   399.4,   2.0082,  34.6178,2,  34.6176,2,    177.5,2,   176.6,2,   78.80,2,   34.10,2,    0.00,2,    2.34,2,   0.691,2,   0.347,2,   0.2509,2,  2257.0,2,  2334.9,2,   -999.0,9,  -999.00,   7.5582,2,    25.00,-999.000,9,-999.0000,9, -999.00,9, -999.00,9,  -999.0,9,-999.000,9,-999.000,-999.000,9,-999.000,9,   40.01,2,   35.74,2, -999.00,9, -999.00,9, -999.00,9,-999.000,   0.1217,2,   0.0802,2,   0.0386,2,   0.0260,2,   0.0145,2,   0.0047,2,   0.0008,3,   0.0169,2,   0.0193,2,   1.9861,     -999.0,9,     -999.0,9,     -999.0,9,     -999.0,9,     -999.0,9,     -999.0,9,     -999.0,9,-999.0000, -999.00
33RO20071215,        P18,     169,          1,         15,      11015,2,20080213,       1152,   -67.7502,  -102.9998,       4535,   498.8,   2.0352,  34.6626,2,  34.6657,2,    176.8,2,   176.2,2,   81.40,2,   33.60,2,    0.00,2,    2.30,2,   0.449,6,   0.226,6,   0.0574,6,  2256.5,6,  2343.2,2,   -999.0,9,  -999.00,   7.5658,2,    25.00,-999.000,9,-999.0000,9, -999.00,9, -999.00,9,  -999.0,9,-999.000,9,-999.000,-999.000,9,-999.000,9,   39.53,2,   35.17,2, -999.00,9, -999.00,9, -999.00,9,-999.000,   0.1277,2,   0.0857,2,   0.0423,2,   0.0287,2,   0.0166,2,   0.0063,2,   0.0015,2,   0.0163,2,   0.0184,2,   2.0070,     -999.0,9,     -999.0,9,     -999.0,9,     -999.0,9,     -999.0,9,     -999.0,9,     -999.0,9,-999.0000, -999.00
33RO20071215,        P18,     169,          1,         14,      11014,2,20080213,       1152,   -67.7502,  -102.9998,       4535,   649.3,   1.9925,  34.6963,2,  34.6978,2,    179.4,2,   179.3,2,   84.20,2,   32.80,2,    0.00,2,    2.25,2,   0.302,2,   0.150,2,   0.0000,2,  2256.6,2,  2346.4,2,   -999.0,9,  -999.00,   7.5806,2,    25.00,-999.000,9,-999.0000,9, -999.00,9, -999.00,9,  -999.0,9,-999.000,9,-999.000,-999.000,9,-999.000,9,   39.87,2,   34.36,2, -999.00,9, -999.00,9, -999.00,9,-999.000,   0.1216,2,   0.0807,2,   0.0385,2,   0.0251,2,   0.0137,2,   0.0041,2,   0.0001,3,   0.0174,2,   0.0197,2,   1.9552,     -999.0,9,     -999.0,9,     -999.0,9,     -999.0,9,     -999.0,9,     -999.0,9,     -999.0,9,-999.0000, -999.00
33RO20071215,        P18,     169,          1,         13,      11013,2,20080213,       1152,   -67.7502,  -102.9998,       4535,   799.0,   1.8949,  34.7184,2,  34.7190,2,    183.3,2,   183.4,2,   87.20,2,   32.30,2,    0.00,2,    2.22,2,   0.246,2,   0.120,2,   0.0000,2,  2257.1,2,  2347.6,2,   -999.0,9,  -999.00,   7.5833,2,    25.00,-999.000,9,-999.0000,9, -999.00,9, -999.00,9,  -999.0,9,-999.000,9,-999.000,-999.000,9,-999.000,9,   39.11,2,   33.80,2, -999.00,9, -999.00,9, -999.00,9,-999.000,   0.1199,2,   0.0791,2,   0.0371,2,   0.0238,2,   0.0129,2,   0.0035,2,  -0.0001,4,   0.0178,2,   0.0202,2,   1.8487,     -999.0,9,     -999.0,9,     -999.0,9,     -999.0,9,     -999.0,9,     -999.0,9,     -999.0,9,-999.0000, -999.00
33RO20071215,        P18,     169,          1,         12,      11012,2,20080213,       1152,   -67.7502,  -102.9998,       4535,   949.9,   1.7752,  34.7298,2,  34.7277,2,    186.9,2,   187.0,2,   90.60,2,   31.90,2,    0.00,2,    2.20,2,   0.210,2,   0.101,2,   0.0000,2,  2255.9,2,  2353.2,2,   -999.0,9,  -999.00,   7.5945,2,    25.00,-999.000,9,-999.0000,9, -999.00,9, -999.00,9,  -999.0,9,-999.000,9,-999.000,-999.000,9,-999.000,9,   39.28,3,   33.46,3, -999.00,9, -999.00,9, -999.00,9,-999.000,   0.1219,2,   0.0811,2,   0.0390,2,   0.0252,2,   0.0143,2,   0.0045,2,   0.0005,3,   0.0172,2,   0.0194,2,   1.7199,     -999.0,9,     -999.0,9,     -999.0,9,     -999.0,9,     -999.0,9,     -999.0,9,     -999.0,9,-999.0000, -999.00
33RO20071215,        P18,     169,          1,         11,      11010,2,20080213,       1152,   -67.7502,  -102.9998,       4535,  1100.2,   1.6626,  34.7340,2,  34.7317,2,    190.5,2,   190.4,2,   93.70,2,   31.70,2,    0.00,2,    2.19,2,-999.000,9,-999.000,9,-999.0000,9,  2255.5,2,  2349.7,2,   -999.0,9,  -999.00,   7.5992,2,    25.00,-999.000,9,-999.0000,9, -999.00,9, -999.00,9,  -999.0,9,-999.000,9,-999.000,-999.000,9,-999.000,9,   39.30,3,   33.10,3, -999.00,9, -999.00,9, -999.00,9,-999.000,   0.1216,2,   0.0810,2,   0.0391,2,   0.0257,2,   0.0145,2,   0.0046,2,   0.0007,2,   0.0170,2,   0.0192,2,   1.5982,     -999.0,9,     -999.0,9,     -999.0,9,     -999.0,9,     -999.0,9,     -999.0,9,     -999.0,9,-999.0000, -999.00
33RO20071215,        P18,     169,          1,         10,      11011,2,20080213,       1152,   -67.7502,  -102.9998,       4535,  1299.6,   1.5027,  34.7348,2,  34.7341,2,    192.2,2,   192.9,2,   98.90,2,   31.70,2,    0.00,2,    2.19,2,   0.148,2,   0.068,2,   0.0000,2,  2256.6,2,  2352.8,2,   -999.0,9,  -999.00,   7.6025,2,    25.00,-999.000,9,-999.0000,9, -999.00,9, -999.00,9,  -999.0,9,-999.000,9,-999.000,-999.000,9,-999.000,9,   39.53,3,   33.19,3, -999.00,9, -999.00,9, -999.00,9,-999.000,   0.1254,2,   0.0843,2,   0.0417,2,   0.0276,2,   0.0162,2,   0.0058,2,   0.0014,2,   0.0165,2,   0.0185,2,   1.4261,     -999.0,9,     -999.0,9,     -999.0,9,     -999.0,9,     -999.0,9,     -999.0,9,     -999.0,9,-999.0000, -999.00
33RO20071215,        P18,     169,          1,          9,      11009,2,20080213,       1152,   -67.7502,  -102.9998,       4535,  1600.6,   1.2931,  34.7307,2,  34.7282,2,    195.3,2,   195.6,2,  106.00,2,   31.90,2,    0.00,2,    2.21,2,   0.133,2,   0.069,2,   0.0000,2,  2258.5,2,  2355.3,2,   -999.0,9,  -999.00,   7.6012,2,    25.00,-999.000,9,-999.0000,9, -999.00,9, -999.00,9,  -999.0,9,-999.000,9,-999.000,-999.000,9,-999.000,9,   39.35,3,   33.09,3, -999.00,9, -999.00,9, -999.00,9,-999.000,   0.1246,2,   0.0834,2,   0.0407,2,   0.0268,2,   0.0156,2,   0.0053,2,   0.0011,2,   0.0167,2,   0.0189,2,   1.1974,     -999.0,9,     -999.0,9,     -999.0,9,     -999.0,9,     -999.0,9,     -999.0,9,     -999.0,9,-999.0000, -999.00
33RO20071215,        P18,     169,          1,          8,      11008,2,20080213,       1152,   -67.7502,  -102.9998,       4535,  2001.5,   1.0562,  34.7228,2,  34.7203,2,    199.5,2,   199.7,2,  114.10,2,   32.20,2,    0.00,2,    2.22,2,-999.000,9,-999.000,9,-999.0000,9,  2260.9,2,  2362.7,2,   -999.0,9,  -999.00,   7.6017,2,    25.00,-999.000,9,-999.0000,9, -999.00,9, -999.00,9,  -999.0,9,-999.000,9,-999.000,-999.000,9,-999.000,9,   39.55,3,   33.74,3, -999.00,9, -999.00,9, -999.00,9,-999.000,   0.1231,2,   0.0826,2,   0.0410,2,   0.0273,2,   0.0161,2,   0.0059,2,   0.0015,2,   0.0163,2,   0.0184,2,   0.9338,     -999.0,9,     -999.0,9,     -999.0,9,     -999.0,9,     -999.0,9,     -999.0,9,     -999.0,9,-999.0000, -999.00
33RO20071215,        P18,     169,          1,          7,      11007,2,20080213,       1152,   -67.7502,  -102.9998,       4535,  2401.3,   0.8769,  34.7160,2,  34.7136,2,    203.1,2,   203.4,2,  120.50,2,   32.30,2,    0.00,2,    2.24,2,   0.097,2,   0.048,2,   0.0000,2,  2260.8,2,  2362.6,2,   -999.0,9,  -999.00,   7.6024,2,    25.00,-999.000,9,-999.0000,9, -999.00,9, -999.00,9,  -999.0,9,-999.000,9,-999.000,   0.120,3,-999.000,9,   39.78,3,   34.01,3, -999.00,9, -999.00,9, -999.00,9,-999.000,-999.0000,5,-999.0000,5,-999.0000,5,-999.0000,5,-999.0000,5,-999.0000,5,-999.0000,5,-999.0000,5,-999.0000,5,   0.7256,     -999.0,9,     -999.0,9,     -999.0,9,     -999.0,9,     -999.0,9,     -999.0,9,     -999.0,9,-999.0000, -999.00
33RO20071215,        P18,     169,          1,          6,      11006,2,20080213,       1152,   -67.7502,  -102.9998,       4535,  2778.6,   0.7335,  34.7114,2,  34.7111,2,    205.9,2,   206.3,2,  125.20,2,   32.60,2,    0.00,2,    2.25,2,   0.123,2,   0.062,2,   0.0000,2,  2262.4,6,  2362.9,2,   -999.0,9,  -999.00,   7.5968,2,    25.00,-999.000,9,-999.0000,9, -999.00,9, -999.00,9,  -999.0,9,-999.000,9,-999.000,   0.177,3,-999.000,9,   39.29,3,   33.74,3, -999.00,9, -999.00,9, -999.00,9,-999.000,   0.1188,2,   0.0786,2,   0.0382,2,   0.0249,2,   0.0140,2,   0.0043,2,   0.0004,3,   0.0170,2,   0.0193,2,   0.5531,     -999.0,9,     -999.0,9,     -999.0,9,     -999.0,9,     -999.0,9,     -999.0,9,     -999.0,9,-999.0000, -999.00
33RO20071215,        P18,     169,          1,          5,      11005,2,20080213,       1152,   -67.7502,  -102.9998,       4535,  3199.8,   0.5649,  34.7081,2,  34.7042,3,    209.4,2,   209.6,2,  128.80,2,   32.60,2,    0.00,2,    2.26,2,   0.152,2,   0.075,2,   0.0000,2,  2261.1,2,  2363.9,2,   -999.0,9,  -999.00,   7.6040,2,    25.00,-999.000,9,-999.0000,9, -999.00,9, -999.00,9,  -999.0,9,-999.000,9,-999.000,   0.212,3,-999.000,9,   39.32,3,   34.03,3, -999.00,9, -999.00,9, -999.00,9,-999.000,   0.1150,2,   0.0753,2,   0.0358,2,   0.0229,2,   0.0127,2,   0.0036,2,   0.0001,4,   0.0175,2,   0.0201,2,   0.3505,     -999.0,9,     -999.0,9,     -999.0,9,     -999.0,9,     -999.0,9,     -999.0,9,     -999.0,9,-999.0000, -999.00
33RO20071215,        P18,     169,          1,          4,      11004,2,20080213,       1152,   -67.7502,  -102.9998,       4535,  3600.5,   0.4483,  34.7067,2,  34.7014,3,    212.4,2,   213.2,2,  133.20,6,   32.90,6,    0.00,6,    2.27,2,   0.155,2,   0.079,2,   0.0000,2,  2261.3,2,  -999.0,5,   -999.0,9,  -999.00,   7.6025,2,    25.00,-999.000,9,-999.0000,9, -999.00,9, -999.00,9,  -999.0,9,-999.000,9,-999.000,   0.231,3,-999.000,9,   39.53,3,   34.18,3, -999.00,9, -999.00,9, -999.00,9,-999.000,   0.1143,2,   0.0747,2,   0.0356,2,   0.0229,2,   0.0127,2,   0.0035,2,   0.0000,4,   0.0174,2,   0.0200,2,   0.1989,     -999.0,9,     -999.0,9,     -999.0,9,     -999.0,9,     -999.0,9,     -999.0,9,     -999.0,9,-999.0000, -999.00
33RO20071215,        P18,     169,          1,          3,      11003,2,20080213,       1152,   -67.7502,  -102.9998,       4535,  3999.5,   0.3876,  34.7057,2,  34.7019,3,    214.5,2,   214.2,2,  136.40,6,   33.00,6,    0.00,6,    2.27,2,   0.196,2,   0.099,2,   0.0000,2,  2262.5,2,  2365.0,2,   -999.0,9,  -999.00,   7.5995,2,    25.00,-999.000,9,-999.0000,9, -999.00,9, -999.00,9,  -999.0,9,-999.000,9,-999.000,   0.271,3,-999.000,9,   39.63,3,   34.79,3, -999.00,9, -999.00,9, -999.00,9,-999.000,   0.1264,2,   0.0850,2,   0.0430,2,   0.0293,2,   0.0176,2,   0.0067,2,   0.0020,2,   0.0158,2,   0.0178,2,   0.1001,     -999.0,9,     -999.0,9,     -999.0,9,     -999.0,9,     -999.0,9,     -999.0,9,     -999.0,9,-999.0000, -999.00
33RO20071215,        P18,     169,          1,          2,      11002,2,20080213,       1152,   -67.7502,  -102.9998,       4535,  4256.6,   0.3687,  34.7050,2,  34.7007,3,    215.6,2,   215.3,2,  138.50,6,   32.90,6,    0.01,6,    2.27,2,   0.231,2,   0.116,2,   0.0000,2,  2262.6,2,  2362.9,2,   -999.0,9,  -999.00,   7.5978,2,    25.00,-999.000,9,-999.0000,9, -999.00,9, -999.00,9,  -999.0,9,-999.000,9,-999.000,   0.300,3,-999.000,9,   40.25,3,   34.63,3, -999.00,9, -999.00,9, -999.00,9,-999.000,   0.1165,2,   0.0767,2,   0.0370,2,   0.0242,2,   0.0137,2,   0.0045,2,   0.0008,2,   0.0170,2,   0.0195,2,   0.0551,     -999.0,9,     -999.0,9,     -999.0,9,     -999.0,9,     -999.0,9,     -999.0,9,     -999.0,9,-999.0000, -999.00
33RO20071215,        P18,     169,          1,          1,      11001,2,20080213,       1152,   -67.7502,  -102.9998,       4535,  4606.8,   0.3714,  34.7038,2,  34.7009,3,    215.1,2,   215.5,2,  146.70,2,   33.30,2,    0.01,2,    2.28,2,   0.311,2,   0.155,2,   0.0946,2,  2265.1,6,  2361.6,2,   -999.0,9,  -999.00,   7.5880,2,    25.00,-999.000,9,-999.0000,9, -999.00,9, -999.00,9,  -999.0,9,-999.000,9,-999.000,   0.382,3,-999.000,9,   40.44,3,   34.84,3, -999.00,9, -999.00,9, -999.00,9,-999.000,   0.1146,2,   0.0746,2,   0.0350,2,   0.0222,2,   0.0120,2,   0.0032,2,   0.0000,4,   0.0179,2,   0.0206,2,   0.0199,     -999.0,9,     -999.0,9,     -999.0,9,     -999.0,9,     -999.0,9,     -999.0,9,     -999.0,9,-999.0000, -999.00