BOTTLE,20220818CCHSIOAMB
EXPOCODE,SECT_ID,STNNBR,CASTNO,SAMPNO,BTLNBR,BTLNBR_FLAG_W,DATE,TIME,LATITUDE,LONGITUDE,DEPTH,CTDPRS,CTDTMP,CTDSAL,CTDSAL_FLAG_W,SALNTY,SALNTY_FLAG_W,CTDOXY,CTDOXY_FLAG_W,OXYGEN,OXYGEN_FLAG_W,SILCAT,SILCAT_FLAG_W,NITRAT,NITRAT_FLAG_W,NITRIT,NITRIT_FLAG_W,PHSPHT,PHSPHT_FLAG_W,CFC-11,CFC-11_FLAG_W,CFC-12,CFC-12_FLAG_W,SF6,SF6_FLAG_W,TCARBN,TCARBN_FLAG_W,ALKALI,ALKALI_FLAG_W,FCO2,FCO2_FLAG_W,FCO2TMP,PH_SWS,PH_SWS_FLAG_W,PH_TMP,TRITUM,TRITUM_FLAG_W,HELIUM,HELIUM_FLAG_W,DELHE3,DELHE3_FLAG_W,DELC13,DELC13_FLAG_W,DELC14,DELC14_FLAG_W,NEON,NEON_FLAG_W,NEONER,CCL4,CCL4_FLAG_W,POC,POC_FLAG_W,DOC,DOC_FLAG_W,TDN,TDN_FLAG_W,DON,DON_FLAG_W,CHLORA,CHLORA_FLAG_W,ARGON,ARGON_FLAG_W,TRITER,CDOM325,CDOM325_FLAG_W,CDOM340,CDOM340_FLAG_W,CDOM380,CDOM380_FLAG_W,CDOM412,CDOM412_FLAG_W,CDOM443,CDOM443_FLAG_W,CDOM490,CDOM490_FLAG_W,CDOM555,CDOM555_FLAG_W,CDOMSL,CDOMSL_FLAG_W,CDOMSN,CDOMSN_FLAG_W,THETA,D18O_NO3,D18O_NO3_FLAG_W,CDOM2C,CDOM2C_FLAG_W,CDOM3C,CDOM3C_FLAG_W,LAB_DEN,LAB_DEN_FLAG_W,DELSI30,DELSI30_FLAG_W,N2,N2_FLAG_W,D15N_NO3,D15N_NO3_FLAG_W,HELIER,DELHER
,,,,,,,,,,,METERS,DBAR,ITS-90,PSS-78,,PSS-78,,UMOL/KG,,UMOL/KG,,UMOL/KG,,UMOL/KG,,UMOL/KG,,UMOL/KG,,PMOL/KG,,PMOL/KG,,FMOL/KG,,UMOL/KG,,UMOL/KG,,UATM,,DEG C,,,DEG C,TU,,NMOL/KG,,PERCNT,,/MILLE,,/MILLE,,NMOL/KG,,NMOL/KG,PMOL/KG,,UG/KG,,UMOL/KG,,UMOL/KG,,UMOL/KG,,UG/KG,,UMOL/KG,,TU,1/M,,1/M,,1/M,,1/M,,1/M,,1/M,,1/M,,1/NM,,1/NM,,DEG C,/MILLE,,,,,,,,/MILLE,,UMOL/KG,,/MILLE,,NMOL/KG,PERCNT
33RO20071215,        P18,      74,          1,         36,      12017,2,20080109,       0541,   -14.0835,  -103.0000,       4068,     6.3,  22.4297,  35.6404,2,  35.6399,2,    220.4,2,   221.2,2,    1.50,2,    7.40,2,    0.21,2,    0.62,2,   2.001,2,   1.241,2,   1.0824,2,  2067.2,6,  2351.8,4,    378.5,2,    20.00,   8.0584,2,    25.00,   0.375,2,   1.7328,2,   -1.56,2,    1.31,2,  -999.0,1,   6.866,2,   0.023,-999.000,9,-999.000,9, -999.00,9, -999.00,9, -999.00,9, -999.00,9, -999.00,9,   0.007,-999.0000,9,-999.0000,9,-999.0000,9,-999.0000,9,-999.0000,9,-999.0000,9,-999.0000,9,-999.0000,9,-999.0000,9,  22.4284,     -999.0,9,     -999.0,9,     -999.0,9,     -999.0,9,     -999.0,9,     -999.0,9,     -999.0,9,   0.0049,    0.15
33RO20071215,        P18,      74,          1,         35,      12029,2,20080109,       0541,   -14.0835,  -103.0000,       4068,    11.7,  22.4359,  35.6399,2,  35.6396,2,    220.5,2,   221.3,2,    1.50,2,    7.40,2,    0.21,2,    0.62,2,   2.013,6,   1.250,6,   1.1046,6,  2066.0,2,  2352.6,2,   -999.0,9,  -999.00,   8.0011,2,    25.00,-999.000,9,-999.0000,9, -999.00,9, -999.00,9,  -999.0,9,-999.000,9,-999.000,-999.000,9,-999.000,9, -999.00,9, -999.00,9, -999.00,9, -999.00,9, -999.00,9,-999.000,-999.0000,9,-999.0000,9,-999.0000,9,-999.0000,9,-999.0000,9,-999.0000,9,-999.0000,9,-999.0000,9,-999.0000,9,  22.4336,     -999.0,9,     -999.0,9,     -999.0,9,     -999.0,9,     -999.0,9,     -999.0,9,     -999.0,9,-999.0000, -999.00
33RO20071215,        P18,      74,          1,         34,      12049,2,20080109,       0541,   -14.0835,  -103.0000,       4068,    19.8,  22.4354,  35.6399,2,  35.6415,2,    220.7,2,   221.6,2,    1.50,2,    7.40,2,    0.21,2,    0.63,2,   2.015,2,   1.249,2,   1.0882,2,  2066.4,2,  2353.2,2,    379.0,2,    20.00,   7.9807,2,    25.00,-999.000,9,-999.0000,9, -999.00,9, -999.00,9,  -999.0,9,-999.000,9,-999.000,-999.000,9,-999.000,9, -999.00,9, -999.00,9, -999.00,9, -999.00,9, -999.00,9,-999.000,-999.0000,9,-999.0000,9,-999.0000,9,-999.0000,9,-999.0000,9,-999.0000,9,-999.0000,9,-999.0000,9,-999.0000,9,  22.4314,     -999.0,9,     -999.0,9,     -999.0,9,     -999.0,9,     -999.0,9,     -999.0,9,     -999.0,9,-999.0000, -999.00
33RO20071215,        P18,      74,          1,         33,      12027,2,20080109,       0541,   -14.0835,  -103.0000,       4068,    41.5,  22.3701,  35.6306,2,  35.6318,2,    220.5,2,   221.4,2,    1.50,2,    7.40,2,    0.21,2,    0.63,2,   2.005,2,   1.243,2,   1.0829,2,  2066.6,2,  2353.1,2,    380.6,2,    20.00,   7.9741,2,    25.00,   0.360,2,-999.0000,9, -999.00,9, -999.00,9,  -999.0,9,-999.000,9,-999.000,-999.000,9,-999.000,9, -999.00,9, -999.00,9, -999.00,9, -999.00,9, -999.00,9,   0.007,-999.0000,9,-999.0000,9,-999.0000,9,-999.0000,9,-999.0000,9,-999.0000,9,-999.0000,9,-999.0000,9,-999.0000,9,  22.3618,     -999.0,9,     -999.0,9,     -999.0,9,     -999.0,9,     -999.0,9,     -999.0,9,     -999.0,9,-999.0000, -999.00
33RO20071215,        P18,      74,          1,         32,      12023,2,20080109,       0541,   -14.0835,  -103.0000,       4068,    66.8,  21.8104,  35.6867,2,  35.7143,2,    215.1,2,   215.8,2,    1.70,2,    5.90,2,    0.20,2,    0.62,2,   2.063,2,   1.268,2,   1.1445,2,  2077.1,2,  2359.0,2,    386.9,2,    20.00,   7.9587,2,    25.00,-999.000,9,-999.0000,9, -999.00,9, -999.00,9,  -999.0,9,-999.000,9,-999.000,-999.000,9,-999.000,9, -999.00,9, -999.00,9, -999.00,9, -999.00,9, -999.00,9,-999.000,-999.0000,9,-999.0000,9,-999.0000,9,-999.0000,9,-999.0000,9,-999.0000,9,-999.0000,9,-999.0000,9,-999.0000,9,  21.7972,     -999.0,9,     -999.0,9,     -999.0,9,     -999.0,9,     -999.0,9,     -999.0,9,     -999.0,9,-999.0000, -999.00
33RO20071215,        P18,      74,          1,         31,      12037,2,20080109,       0541,   -14.0835,  -103.0000,       4068,    91.9,  21.2577,  35.8570,2,  35.8632,2,    212.3,2,   211.4,2,    1.20,2,    2.50,2,    0.18,2,    0.48,2,   2.087,2,   1.287,2,   1.1074,2,  2083.5,2,  2372.9,2,   -999.0,9,  -999.00,   8.0001,2,    25.00,   0.345,2,   1.7147,2,   -1.48,2, -999.00,9,  -999.0,9,   6.939,2,   0.024,-999.000,9,-999.000,9, -999.00,9, -999.00,9, -999.00,9, -999.00,9, -999.00,9,   0.007,-999.0000,9,-999.0000,9,-999.0000,9,-999.0000,9,-999.0000,9,-999.0000,9,-999.0000,9,-999.0000,9,-999.0000,9,  21.2399,     -999.0,9,     -999.0,9,     -999.0,9,     -999.0,9,     -999.0,9,     -999.0,9,     -999.0,9,   0.0048,    0.15
33RO20071215,        P18,      74,          1,         30,      12036,2,20080109,       0541,   -14.0835,  -103.0000,       4068,   116.9,  20.8433,  35.8679,2,  35.8711,2,    211.7,2,   213.6,2,    0.90,2,    1.30,2,    0.22,2,    0.42,2,   2.132,2,   1.306,2,   1.0772,2,  2087.0,2,  2375.0,2,    381.4,2,    20.00,   8.0004,2,    25.00,   0.336,2,   1.7184,2,   -1.68,2, -999.00,9,  -999.0,9,   6.870,2,   0.023,-999.000,9,-999.000,9, -999.00,9, -999.00,9, -999.00,9, -999.00,9, -999.00,9,   0.007,-999.0000,9,-999.0000,9,-999.0000,9,-999.0000,9,-999.0000,9,-999.0000,9,-999.0000,9,-999.0000,9,-999.0000,9,  20.8210,     -999.0,9,     -999.0,9,     -999.0,9,     -999.0,9,     -999.0,9,     -999.0,9,     -999.0,9,   0.0048,    0.15
33RO20071215,        P18,      74,          1,         29,      12044,2,20080109,       0541,   -14.0835,  -103.0000,       4068,   141.9,  20.4865,  35.8153,2,  35.8129,2,    210.9,2,   210.8,2,    0.80,2,    1.60,2,    0.71,2,    0.45,2,   2.153,2,   1.324,2,   1.1921,2,  2091.2,2,  2375.4,2,   -999.0,9,  -999.00,   7.9801,2,    25.00,-999.000,9,-999.0000,9, -999.00,9, -999.00,9,  -999.0,9,-999.000,9,-999.000,-999.000,9,-999.000,9, -999.00,9, -999.00,9, -999.00,9, -999.00,9, -999.00,9,-999.000,-999.0000,9,-999.0000,9,-999.0000,9,-999.0000,9,-999.0000,9,-999.0000,9,-999.0000,9,-999.0000,9,-999.0000,9,  20.4597,     -999.0,9,     -999.0,9,     -999.0,9,     -999.0,9,     -999.0,9,     -999.0,9,     -999.0,9,-999.0000, -999.00
33RO20071215,        P18,      74,          1,         28,      12057,2,20080109,       0541,   -14.0835,  -103.0000,       4068,   167.1,  19.9638,  35.7050,2,  35.6748,2,    206.3,2,   211.7,2,    1.00,2,    3.20,2,    0.74,2,    0.55,2,   2.240,2,   1.362,2,   1.0586,2,  2097.4,2,  -999.0,5,    424.8,2,    20.00,   7.9555,2,    25.00,   0.093,2,   1.7285,2,   -1.46,2, -999.00,9,  -999.0,9,   6.944,2,   0.024,-999.000,9,-999.000,9, -999.00,9, -999.00,9, -999.00,9, -999.00,9, -999.00,9,   0.005,-999.0000,9,-999.0000,9,-999.0000,9,-999.0000,9,-999.0000,9,-999.0000,9,-999.0000,9,-999.0000,9,-999.0000,9,  19.9328,     -999.0,9,     -999.0,9,     -999.0,9,     -999.0,9,     -999.0,9,     -999.0,9,     -999.0,9,   0.0048,    0.15
33RO20071215,        P18,      74,          1,         27,      12026,2,20080109,       0541,   -14.0835,  -103.0000,       4068,   191.6,  16.1113,  35.0215,2,  34.9405,2,    155.6,2,   158.8,2,    3.30,2,   11.70,2,    0.02,2,    1.02,2,   2.580,2,   1.496,2,   0.9763,2,  2129.5,2,  2305.5,2,   -999.0,9,  -999.00,   7.7858,2,    25.00,-999.000,9,-999.0000,9, -999.00,9, -999.00,9,  -999.0,9,-999.000,9,-999.000,-999.000,9,-999.000,9, -999.00,9, -999.00,9, -999.00,9, -999.00,9, -999.00,9,-999.000,-999.0000,9,-999.0000,9,-999.0000,9,-999.0000,9,-999.0000,9,-999.0000,9,-999.0000,9,-999.0000,9,-999.0000,9,  16.0808,     -999.0,9,     -999.0,9,     -999.0,9,     -999.0,9,     -999.0,9,     -999.0,9,     -999.0,9,-999.0000, -999.00
33RO20071215,        P18,      74,          1,         26,      12030,2,20080109,       0541,   -14.0835,  -103.0000,       4068,   232.4,  12.8319,  34.7044,2,  34.6855,2,     46.4,2,    46.5,2,   15.60,2,   22.00,2,    0.01,2,    2.21,2,   1.746,2,   0.968,2,   0.4266,2,  2228.0,2,  -999.0,5,   1394.4,2,    20.00,   7.5007,2,    25.00,   0.194,2,   1.7707,2,    1.94,2, -999.00,9,  -999.0,9,   7.288,2,   0.025,-999.000,9,-999.000,9, -999.00,9, -999.00,9, -999.00,9, -999.00,9, -999.00,9,   0.007,-999.0000,9,-999.0000,9,-999.0000,9,-999.0000,9,-999.0000,9,-999.0000,9,-999.0000,9,-999.0000,9,-999.0000,9,  12.8003,     -999.0,9,     -999.0,9,     -999.0,9,     -999.0,9,     -999.0,9,     -999.0,9,     -999.0,9,   0.0050,    0.15
33RO20071215,        P18,      74,          1,         25,      12024,2,20080109,       0541,   -14.0835,  -103.0000,       4068,   282.3,  10.7527,  34.6615,2,  34.6597,2,     18.4,2,    18.9,2,   22.60,2,   28.90,2,    0.00,2,    2.56,2,   0.704,2,   0.380,2,   0.0829,2,  2259.1,6,  2281.4,4,   -999.0,9,  -999.00,   7.4008,2,    25.00,   0.071,2,   1.7816,2,    2.87,2, -999.00,9,  -999.0,9,   7.408,2,   0.025,-999.000,9,-999.000,9, -999.00,9, -999.00,9, -999.00,9, -999.00,9, -999.00,9,   0.007,-999.0000,9,-999.0000,9,-999.0000,9,-999.0000,9,-999.0000,9,-999.0000,9,-999.0000,9,-999.0000,9,-999.0000,9,  10.7184,     -999.0,9,     -999.0,9,     -999.0,9,     -999.0,9,     -999.0,9,     -999.0,9,     -999.0,9,   0.0050,    0.15
33RO20071215,        P18,      74,          1,         24,      12019,2,20080109,       0541,   -14.0835,  -103.0000,       4068,   332.6,   9.7621,  34.6702,2,  34.6735,2,     24.9,2,    23.6,2,   25.90,2,   33.80,2,    0.00,2,    2.55,2,   0.275,2,   0.155,2,   0.0000,2,  2258.6,2,  -999.0,9,   -999.0,9,  -999.00,   7.4134,2,    25.00,-999.000,9,-999.0000,9, -999.00,9, -999.00,9,  -999.0,9,-999.000,9,-999.000,-999.000,9,-999.000,9, -999.00,9, -999.00,9, -999.00,9, -999.00,9, -999.00,9,-999.000,-999.0000,9,-999.0000,9,-999.0000,9,-999.0000,9,-999.0000,9,-999.0000,9,-999.0000,9,-999.0000,9,-999.0000,9,   9.7239,     -999.0,9,     -999.0,9,     -999.0,9,     -999.0,9,     -999.0,9,     -999.0,9,     -999.0,9,-999.0000, -999.00
33RO20071215,        P18,      74,          1,         23,      12022,2,20080109,       0541,   -14.0835,  -103.0000,       4068,   381.6,   8.7725,  34.6342,2,  34.6382,2,     46.5,2,    46.3,2,   29.00,2,   35.60,2,    0.00,2,    2.47,2,   0.152,2,   0.086,2,   0.0316,2,  2250.0,2,  2298.2,2,   1569.5,2,    20.00,   7.4547,2,    25.00,   0.029,6,   1.7927,2,    4.27,2, -999.00,9,  -999.0,9,   7.500,2,   0.026,-999.000,9,-999.000,9, -999.00,9, -999.00,9, -999.00,9, -999.00,9, -999.00,9,   0.006,-999.0000,9,-999.0000,9,-999.0000,9,-999.0000,9,-999.0000,9,-999.0000,9,-999.0000,9,-999.0000,9,-999.0000,9,   8.7314,     -999.0,9,     -999.0,9,     -999.0,9,     -999.0,9,     -999.0,9,     -999.0,9,     -999.0,9,   0.0050,    0.15
33RO20071215,        P18,      74,          1,         22,      12015,2,20080109,       0541,   -14.0835,  -103.0000,       4068,   466.3,   7.7354,  34.5937,2,  34.5923,2,     51.2,2,    51.3,2,   35.60,2,   38.20,2,    0.00,2,    2.58,2,   0.050,2,   0.030,2,   0.0000,2,  2256.9,2,  2301.9,2,   -999.0,9,  -999.00,   7.4441,2,    25.00,-999.000,9,   1.7935,2,    5.99,2, -999.00,9,  -999.0,9,   7.578,2,   0.026,-999.000,9,-999.000,9, -999.00,9, -999.00,9, -999.00,9, -999.00,9, -999.00,9,-999.000,-999.0000,9,-999.0000,9,-999.0000,9,-999.0000,9,-999.0000,9,-999.0000,9,-999.0000,9,-999.0000,9,-999.0000,9,   7.6886,     -999.0,9,     -999.0,9,     -999.0,9,     -999.0,9,     -999.0,9,     -999.0,9,     -999.0,9,   0.0050,    0.15
33RO20071215,        P18,      74,          1,         21,      12020,2,20080109,       0541,   -14.0835,  -103.0000,       4068,   567.1,   6.7851,  34.5534,2,  34.5529,2,     47.8,2,    48.0,2,   42.90,2,   41.00,2,    0.00,2,    2.78,2,   0.013,2,   0.008,2,   0.0000,2,  2270.6,2,  2304.9,2,   1711.6,2,    20.00,   7.4149,2,    25.00,   0.005,2,   1.8585,2,    7.10,2, -999.00,9,  -999.0,9,   7.847,2,   0.027,-999.000,9,-999.000,9, -999.00,9, -999.00,9, -999.00,9, -999.00,9, -999.00,9,   0.005,-999.0000,9,-999.0000,9,-999.0000,9,-999.0000,9,-999.0000,9,-999.0000,9,-999.0000,9,-999.0000,9,-999.0000,9,   6.7318,     -999.0,9,     -999.0,9,     -999.0,9,     -999.0,9,     -999.0,9,     -999.0,9,     -999.0,9,   0.0052,    0.15
33RO20071215,        P18,      74,          1,         20,      12055,2,20080109,       0541,   -14.0835,  -103.0000,       4068,   667.0,   6.0456,  34.5289,2,  34.5283,2,     46.9,2,    48.6,2,   51.00,2,   42.60,2,    0.00,2,    2.92,2,   0.003,2,   0.002,2,   0.0000,2,  2281.7,2,  2309.7,2,   -999.0,9,  -999.00,   7.3984,2,    25.00,   0.008,2,   1.8193,2,    9.50,2, -999.00,9,  -999.0,9,   7.708,2,   0.026,-999.000,9,-999.000,9, -999.00,9, -999.00,9, -999.00,9, -999.00,9, -999.00,9,   0.006,-999.0000,9,-999.0000,9,-999.0000,9,-999.0000,9,-999.0000,9,-999.0000,9,-999.0000,9,-999.0000,9,-999.0000,9,   5.9863,     -999.0,9,     -999.0,9,     -999.0,9,     -999.0,9,     -999.0,9,     -999.0,9,     -999.0,9,   0.0051,    0.15
33RO20071215,        P18,      74,          1,         19,      12018,2,20080109,       0541,   -14.0835,  -103.0000,       4068,   766.6,   5.4107,  34.5204,2,  34.5201,2,     49.9,2,    50.7,2,   59.50,2,   43.60,2,    0.00,2,    2.99,2,   0.001,2,   0.000,2,   0.0000,2,  2291.7,2,  2312.7,2,   -999.0,9,  -999.00,   7.3982,2,    25.00,  -0.007,2,-999.0000,9, -999.00,9, -999.00,9,  -999.0,9,-999.000,9,-999.000,-999.000,9,-999.000,9, -999.00,9, -999.00,9, -999.00,9, -999.00,9, -999.00,9,   0.006,-999.0000,9,-999.0000,9,-999.0000,9,-999.0000,9,-999.0000,9,-999.0000,9,-999.0000,9,-999.0000,9,-999.0000,9,   5.3457,     -999.0,9,     -999.0,9,     -999.0,9,     -999.0,9,     -999.0,9,     -999.0,9,     -999.0,9,-999.0000, -999.00
33RO20071215,        P18,      74,          1,         18,      12025,4,20080109,       0541,   -14.0835,  -103.0000,       4068,   866.8,   4.9465,  34.5201,2,-999.0000,9,     61.8,2,  -999.0,9, -999.00,9, -999.00,9, -999.00,9, -999.00,9,-999.000,9,-999.000,9,-999.0000,9,  -999.0,9,  -999.0,9,   -999.0,9,  -999.00,-999.0000,9,  -999.00,-999.000,9,-999.0000,9, -999.00,9, -999.00,9,  -999.0,9,-999.000,9,-999.000,-999.000,9,-999.000,9, -999.00,9, -999.00,9, -999.00,9, -999.00,9, -999.00,9,-999.000,-999.0000,9,-999.0000,9,-999.0000,9,-999.0000,9,-999.0000,9,-999.0000,9,-999.0000,9,-999.0000,9,-999.0000,9,   4.8755,     -999.0,9,     -999.0,9,     -999.0,9,     -999.0,9,     -999.0,9,     -999.0,9,     -999.0,9,-999.0000, -999.00
33RO20071215,        P18,      74,          1,         17,      12016,2,20080109,       0541,   -14.0835,  -103.0000,       4068,   966.3,   4.4567,  34.5313,2,  34.5315,2,     63.8,2,    64.4,2,   77.20,2,   43.00,2,    0.00,2,    2.99,2,   0.001,2,   0.001,2,   0.0000,2,  2305.3,2,  2344.0,3,   1737.5,2,    20.00,   7.4213,2,    25.00,  -0.002,2,   1.8712,2,   15.69,2, -999.00,9,  -999.0,9,   7.856,2,   0.027,-999.000,9,-999.000,9, -999.00,9, -999.00,9, -999.00,9, -999.00,9, -999.00,9,   0.006,-999.0000,9,-999.0000,9,-999.0000,9,-999.0000,9,-999.0000,9,-999.0000,9,-999.0000,9,-999.0000,9,-999.0000,9,   4.3804,     -999.0,9,     -999.0,9,     -999.0,9,     -999.0,9,     -999.0,9,     -999.0,9,     -999.0,9,   0.0052,    0.15
33RO20071215,        P18,      74,          1,         16,      12051,2,20080109,       0541,   -14.0835,  -103.0000,       4068,  1066.2,   4.1020,  34.5429,2,  34.5437,2,     70.9,2,    71.5,2,   85.20,2,   42.50,2,    0.00,2,    2.97,2,   0.000,2,   0.000,2,   0.0000,2,  2310.4,2,  -999.0,5,   -999.0,9,  -999.00,   7.4304,2,    25.00,-999.000,9,   1.8874,2,   17.06,2, -999.00,9,  -999.0,9,   7.895,2,   0.027,-999.000,9,-999.000,9, -999.00,9, -999.00,9, -999.00,9, -999.00,9, -999.00,9,-999.000,-999.0000,9,-999.0000,9,-999.0000,9,-999.0000,9,-999.0000,9,-999.0000,9,-999.0000,9,-999.0000,9,-999.0000,9,   4.0199,     -999.0,9,     -999.0,9,     -999.0,9,     -999.0,9,     -999.0,9,     -999.0,9,     -999.0,9,   0.0053,    0.15
33RO20071215,        P18,      74,          1,         15,      12014,2,20080109,       0541,   -14.0835,  -103.0000,       4068,  1167.7,   3.7718,  34.5563,2,  34.5574,2,     76.8,2,    77.1,2,   93.30,2,   42.10,2,    0.00,2,    2.94,2,-999.000,9,-999.000,9,-999.0000,9,  2316.0,2,  1488.1,4,   -999.0,9,  -999.00,   7.4393,2,    25.00,   0.008,2,-999.0000,9, -999.00,9, -999.00,9,  -999.0,9,-999.000,9,-999.000,-999.000,9,-999.000,9, -999.00,9, -999.00,9, -999.00,9, -999.00,9, -999.00,9,   0.006,-999.0000,9,-999.0000,9,-999.0000,9,-999.0000,9,-999.0000,9,-999.0000,9,-999.0000,9,-999.0000,9,-999.0000,9,   3.6839,     -999.0,9,     -999.0,9,     -999.0,9,     -999.0,9,     -999.0,9,     -999.0,9,     -999.0,9,-999.0000, -999.00
33RO20071215,        P18,      74,          1,         14,      12013,2,20080109,       0541,   -14.0835,  -103.0000,       4068,  1331.8,   3.3412,  34.5751,2,  34.5762,2,     89.6,2,    90.4,2,  102.40,2,   40.90,2,    0.00,2,    2.85,2,-999.000,9,-999.000,9,-999.0000,9,  2318.5,2,  2341.5,4,   -999.0,9,  -999.00,   7.4698,2,    25.00,-999.000,9,-999.0000,9, -999.00,9, -999.00,9,  -999.0,9,-999.000,9,-999.000,-999.000,9,-999.000,9, -999.00,9, -999.00,9, -999.00,9, -999.00,9, -999.00,9,-999.000,-999.0000,9,-999.0000,9,-999.0000,9,-999.0000,9,-999.0000,9,-999.0000,9,-999.0000,9,-999.0000,9,-999.0000,9,   3.2437,     -999.0,9,     -999.0,9,     -999.0,9,     -999.0,9,     -999.0,9,     -999.0,9,     -999.0,9,-999.0000, -999.00
33RO20071215,        P18,      74,          1,         13,      12012,2,20080109,       0541,   -14.0835,  -103.0000,       4068,  1533.1,   2.8705,  34.6011,2,  34.6024,2,     96.3,2,   101.2,2,  114.00,2,   39.90,2,    0.00,2,    2.78,2,   0.000,2,  -0.001,2,   0.0000,2,  2323.7,2,  -999.0,5,   -999.0,9,  -999.00,   7.4894,2,    25.00,-999.000,9,-999.0000,9, -999.00,9, -999.00,9,  -999.0,9,-999.000,9,-999.000,-999.000,9,-999.000,9, -999.00,9, -999.00,9, -999.00,9, -999.00,9, -999.00,9,-999.000,-999.0000,9,-999.0000,9,-999.0000,9,-999.0000,9,-999.0000,9,-999.0000,9,-999.0000,9,-999.0000,9,-999.0000,9,   2.7613,     -999.0,9,     -999.0,9,     -999.0,9,     -999.0,9,     -999.0,9,     -999.0,9,     -999.0,9,-999.0000, -999.00
33RO20071215,        P18,      74,          1,         12,      12031,2,20080109,       0541,   -14.0835,  -103.0000,       4068,  1732.3,   2.5754,  34.6199,2,  34.6206,2,    110.9,2,   111.2,2,  121.70,2,   39.20,2,    0.00,2,    2.71,2,-999.000,9,-999.000,9,-999.0000,9,  2326.6,2,  -999.0,5,   1415.3,6,    20.00,   7.5113,2,    25.00,-999.000,9,-999.0000,9, -999.00,9, -999.00,9,  -999.0,9,-999.000,9,-999.000,-999.000,9,-999.000,9, -999.00,9, -999.00,9, -999.00,9, -999.00,9, -999.00,9,-999.000,-999.0000,9,-999.0000,9,-999.0000,9,-999.0000,9,-999.0000,9,-999.0000,9,-999.0000,9,-999.0000,9,-999.0000,9,   2.4532,     -999.0,9,     -999.0,9,     -999.0,9,     -999.0,9,     -999.0,9,     -999.0,9,     -999.0,9,-999.0000, -999.00