BOTTLE,20220818CCHSIOAMB
EXPOCODE,SECT_ID,STNNBR,CASTNO,SAMPNO,BTLNBR,BTLNBR_FLAG_W,DATE,TIME,LATITUDE,LONGITUDE,DEPTH,CTDPRS,CTDTMP,CTDSAL,CTDSAL_FLAG_W,SALNTY,SALNTY_FLAG_W,CTDOXY,CTDOXY_FLAG_W,OXYGEN,OXYGEN_FLAG_W,SILCAT,SILCAT_FLAG_W,NITRAT,NITRAT_FLAG_W,NITRIT,NITRIT_FLAG_W,PHSPHT,PHSPHT_FLAG_W,CFC-11,CFC-11_FLAG_W,CFC-12,CFC-12_FLAG_W,SF6,SF6_FLAG_W,TCARBN,TCARBN_FLAG_W,ALKALI,ALKALI_FLAG_W,FCO2,FCO2_FLAG_W,FCO2TMP,PH_SWS,PH_SWS_FLAG_W,PH_TMP,TRITUM,TRITUM_FLAG_W,HELIUM,HELIUM_FLAG_W,DELHE3,DELHE3_FLAG_W,DELC13,DELC13_FLAG_W,DELC14,DELC14_FLAG_W,NEON,NEON_FLAG_W,NEONER,CCL4,CCL4_FLAG_W,POC,POC_FLAG_W,DOC,DOC_FLAG_W,TDN,TDN_FLAG_W,DON,DON_FLAG_W,CHLORA,CHLORA_FLAG_W,ARGON,ARGON_FLAG_W,TRITER,CDOM325,CDOM325_FLAG_W,CDOM340,CDOM340_FLAG_W,CDOM380,CDOM380_FLAG_W,CDOM412,CDOM412_FLAG_W,CDOM443,CDOM443_FLAG_W,CDOM490,CDOM490_FLAG_W,CDOM555,CDOM555_FLAG_W,CDOMSL,CDOMSL_FLAG_W,CDOMSN,CDOMSN_FLAG_W,THETA,D18O_NO3,D18O_NO3_FLAG_W,CDOM2C,CDOM2C_FLAG_W,CDOM3C,CDOM3C_FLAG_W,LAB_DEN,LAB_DEN_FLAG_W,DELSI30,DELSI30_FLAG_W,N2,N2_FLAG_W,D15N_NO3,D15N_NO3_FLAG_W,HELIER,DELHER
,,,,,,,,,,,METERS,DBAR,ITS-90,PSS-78,,PSS-78,,UMOL/KG,,UMOL/KG,,UMOL/KG,,UMOL/KG,,UMOL/KG,,UMOL/KG,,PMOL/KG,,PMOL/KG,,FMOL/KG,,UMOL/KG,,UMOL/KG,,UATM,,DEG C,,,DEG C,TU,,NMOL/KG,,PERCNT,,/MILLE,,/MILLE,,NMOL/KG,,NMOL/KG,PMOL/KG,,UG/KG,,UMOL/KG,,UMOL/KG,,UMOL/KG,,UG/KG,,UMOL/KG,,TU,1/M,,1/M,,1/M,,1/M,,1/M,,1/M,,1/M,,1/NM,,1/NM,,DEG C,/MILLE,,,,,,,,/MILLE,,UMOL/KG,,/MILLE,,NMOL/KG,PERCNT
33RO20071215,        P18,      46,          1,         36,      12017,2,20071230,       1713,    -0.6677,  -110.0008,       3875,     7.0,  21.4691,  34.3193,2,  34.3203,2,    198.3,2,   196.6,2,    7.10,2,    9.60,2,    0.17,2,    0.73,2,   1.869,2,   1.143,2,   0.9109,2,  2035.4,6,  2270.2,2,    453.9,2,    20.00,   7.9221,2,    25.00,-999.000,9,-999.0000,9, -999.00,9, -999.00,9,  -999.0,9,-999.000,9,-999.000,-999.000,9,-999.000,9, -999.00,9, -999.00,9, -999.00,9,    0.32,2, -999.00,9,-999.000,   0.1544,2,   0.1039,2,   0.0355,2,   0.0238,2,   0.0146,2,   0.0064,2,   0.0010,2,   0.0184,2,   0.0248,2,  21.4678,     -999.0,9,     -999.0,9,     -999.0,9,     -999.0,9,     -999.0,9,     -999.0,9,     -999.0,9,-999.0000, -999.00
33RO20071215,        P18,      46,          1,         35,      12029,2,20071230,       1713,    -0.6677,  -110.0008,       3875,    10.2,  20.7448,  34.3834,2,  34.3812,2,    186.1,2,   189.9,2,    7.90,2,   10.70,2,    0.18,2,    0.80,2,-999.000,9,-999.000,9,-999.0000,9,  2047.6,2,  2273.4,2,   -999.0,9,  -999.00,   7.9029,2,    25.00,-999.000,9,-999.0000,9, -999.00,9, -999.00,9,  -999.0,9,-999.000,9,-999.000,-999.000,9,-999.000,9, -999.00,9, -999.00,9, -999.00,9,    0.23,2, -999.00,9,-999.000,   0.1529,2,   0.1059,2,   0.0455,2,   0.0321,2,   0.0210,2,   0.0110,2,   0.0035,2,   0.0149,2,   0.0190,2,  20.7429,     -999.0,9,     -999.0,1,     -999.0,9,     -999.0,9,     -999.0,9,     -999.0,9,     -999.0,9,-999.0000, -999.00
33RO20071215,        P18,      46,          1,         34,      12049,2,20071230,       1713,    -0.6677,  -110.0008,       3875,    20.4,  18.4993,  34.6324,2,  34.6522,2,    158.7,2,   157.7,2,   11.10,2,   14.70,2,    0.24,2,    1.03,2,   1.774,6,   1.038,6,   0.7122,6,  2094.9,2,  2292.3,2,    577.5,2,    20.00,   7.8367,2,    25.00,-999.000,9,-999.0000,9, -999.00,9, -999.00,9,  -999.0,9,-999.000,9,-999.000,-999.000,9,-999.000,1, -999.00,9, -999.00,9, -999.00,9,    0.44,2, -999.00,9,-999.000,   0.1450,2,   0.1019,2,   0.0515,2,   0.0377,2,   0.0235,2,   0.0117,2,   0.0045,2,   0.0143,2,   0.0162,2,  18.4957,     -999.0,9,     -999.0,1,     -999.0,1,     -999.0,9,     -999.0,9,     -999.0,9,     -999.0,9,-999.0000, -999.00
33RO20071215,        P18,      46,          1,         33,      12027,2,20071230,       1713,    -0.6677,  -110.0008,       3875,    40.3,  16.9701,  34.8406,2,  34.8448,2,    139.2,2,   139.0,2,   12.80,2,   16.30,2,    0.21,2,    1.15,2,-999.000,9,-999.000,9,-999.0000,9,  2121.4,2,  2292.0,2,   -999.0,9,  -999.00,   7.8022,2,    25.00,-999.000,9,-999.0000,9, -999.00,9, -999.00,9,  -999.0,9,-999.000,9,-999.000,-999.000,9,-999.000,9, -999.00,9, -999.00,9, -999.00,9,    0.29,2, -999.00,9,-999.000,   0.1315,2,   0.0906,2,   0.0443,2,   0.0324,2,   0.0182,2,   0.0072,2,   0.0022,2,   0.0159,2,   0.0175,2,  16.9635,     -999.0,9,     -999.0,1,     -999.0,9,     -999.0,9,     -999.0,9,     -999.0,9,     -999.0,9,-999.0000, -999.00
33RO20071215,        P18,      46,          1,         32,      12023,2,20071230,       1713,    -0.6677,  -110.0008,       3875,    60.5,  16.3866,  34.9849,2,  34.9873,2,    129.5,2,   129.9,2,   12.50,2,   16.90,2,    0.14,2,    1.20,2,   1.784,2,   0.998,2,   0.6128,2,  2134.1,2,  2301.5,2,    662.6,2,    20.00,   7.7884,2,    25.00,-999.000,9,-999.0000,9, -999.00,9, -999.00,9,  -999.0,9,-999.000,9,-999.000,-999.000,9,-999.000,9, -999.00,9, -999.00,9, -999.00,9,    0.23,2, -999.00,9,-999.000,   0.1494,2,   0.1062,2,   0.0562,2,   0.0430,2,   0.0271,2,   0.0137,2,   0.0060,2,   0.0134,2,   0.0149,2,  16.3769,     -999.0,9,     -999.0,1,     -999.0,9,     -999.0,9,     -999.0,9,     -999.0,9,     -999.0,9,-999.0000, -999.00
33RO20071215,        P18,      46,          1,         31,      12037,2,20071230,       1713,    -0.6677,  -110.0008,       3875,    80.8,  15.8137,  35.1271,2,  35.1246,2,    112.6,2,   112.2,2,   12.30,2,   18.80,2,    0.11,2,    1.32,2,-999.000,9,-999.000,9,-999.0000,9,  2153.1,2,  2276.6,4,   -999.0,9,  -999.00,   7.7422,2,    25.00,-999.000,9,-999.0000,9, -999.00,9, -999.00,9,  -999.0,9,-999.000,9,-999.000,-999.000,9,-999.000,9, -999.00,9, -999.00,9, -999.00,9,    0.19,2, -999.00,9,-999.000,   0.1200,2,   0.0817,2,   0.0403,2,   0.0308,2,   0.0171,2,   0.0065,2,   0.0019,2,   0.0155,2,   0.0173,2,  15.8010,     -999.0,9,     -999.0,1,     -999.0,9,     -999.0,9,     -999.0,9,     -999.0,9,     -999.0,9,-999.0000, -999.00
33RO20071215,        P18,      46,          1,         30,      12036,2,20071230,       1713,    -0.6677,  -110.0008,       3875,   100.7,  14.6006,  35.0551,2,  35.0567,2,     93.3,2,    96.3,2,   15.10,2,   21.40,2,    0.06,2,    1.49,2,   1.542,2,   0.854,2,   0.4363,2,  2168.4,2,  2303.0,2,    813.5,2,    20.00,   7.7057,2,    25.00,-999.000,9,-999.0000,9, -999.00,9, -999.00,9,  -999.0,9,-999.000,9,-999.000,-999.000,9,-999.000,9, -999.00,9, -999.00,9, -999.00,9,    0.21,2, -999.00,9,-999.000,   0.1447,2,   0.1036,2,   0.0567,2,   0.0445,2,   0.0278,2,   0.0139,2,   0.0063,2,   0.0132,2,   0.0142,2,  14.5857,     -999.0,9,     -999.0,1,     -999.0,9,     -999.0,9,     -999.0,9,     -999.0,9,     -999.0,9,-999.0000, -999.00
33RO20071215,        P18,      46,          1,         29,      12044,2,20071230,       1713,    -0.6677,  -110.0008,       3875,   125.6,  14.1062,  35.0358,2,  35.0323,2,     99.8,2,    96.6,2,   15.90,2,   22.30,2,    0.04,2,    1.53,2,-999.000,9,-999.000,9,-999.0000,9,  2172.8,2,  2304.6,2,   -999.0,9,  -999.00,   7.6979,2,    25.00,-999.000,9,-999.0000,9, -999.00,9, -999.00,9,  -999.0,9,-999.000,9,-999.000,-999.000,9,-999.000,9, -999.00,9, -999.00,9, -999.00,9,    0.08,2, -999.00,9,-999.000,   0.1220,2,   0.0840,2,   0.0432,2,   0.0337,2,   0.0189,2,   0.0071,2,   0.0024,2,   0.0150,2,   0.0163,2,  14.0880,     -999.0,9,     -999.0,1,     -999.0,9,     -999.0,9,     -999.0,9,     -999.0,9,     -999.0,9,-999.0000, -999.00
33RO20071215,        P18,      46,          1,         28,      12057,2,20071230,       1713,    -0.6677,  -110.0008,       3875,   151.5,  13.3686,  34.9661,2,  34.9625,2,     75.7,2,    74.5,2,   19.00,2,   25.60,2,    0.02,2,    1.75,2,   1.272,2,   0.697,2,   0.3529,2,  2191.3,2,  2301.1,2,    965.4,2,    20.00,   7.6393,2,    25.00,-999.000,9,-999.0000,9, -999.00,9, -999.00,9,  -999.0,9,-999.000,9,-999.000,-999.000,9,-999.000,9, -999.00,9, -999.00,9, -999.00,9,    0.04,2, -999.00,9,-999.000,   0.1381,2,   0.0965,2,   0.0508,2,   0.0390,2,   0.0218,2,   0.0078,2,   0.0024,2,   0.0152,2,   0.0159,2,  13.3474,     -999.0,9,     -999.0,1,     -999.0,9,     -999.0,9,     -999.0,9,     -999.0,9,     -999.0,9,-999.0000, -999.00
33RO20071215,        P18,      46,          1,         27,      12026,2,20071230,       1713,    -0.6677,  -110.0008,       3875,   175.2,  12.8337,  34.9150,2,  34.9174,2,     79.5,2,    82.6,2,   20.30,2,   25.90,2,    0.01,2,    1.77,2,-999.000,9,-999.000,9,-999.0000,9,  2193.7,2,  2310.6,2,   -999.0,9,  -999.00,   7.6311,2,    25.00,-999.000,9,-999.0000,9, -999.00,9, -999.00,9,  -999.0,9,-999.000,9,-999.000,-999.000,9,-999.000,9, -999.00,9, -999.00,9, -999.00,9,    0.01,2, -999.00,9,-999.000,   0.1417,2,   0.1002,2,   0.0544,2,   0.0421,2,   0.0253,2,   0.0106,2,   0.0041,2,   0.0145,2,   0.0150,2,  12.8099,     -999.0,9,     -999.0,1,     -999.0,9,     -999.0,9,     -999.0,9,     -999.0,9,     -999.0,9,-999.0000, -999.00
33RO20071215,        P18,      46,          1,         26,      12030,2,20071230,       1713,    -0.6677,  -110.0008,       3875,   200.0,  12.3644,  34.8856,2,  34.8860,2,     72.5,2,    70.9,2,   22.20,2,   27.40,2,    0.01,2,    1.86,2,   1.124,2,   0.591,2,   0.2633,2,  2204.7,2,  2310.2,2,   1040.4,2,    20.00,   7.6165,2,    25.00,-999.000,9,-999.0000,9, -999.00,9, -999.00,9,  -999.0,9,-999.000,9,-999.000,-999.000,9,-999.000,9, -999.00,9, -999.00,9, -999.00,9,    0.00,2, -999.00,9,-999.000,   0.1521,2,   0.1087,2,   0.0608,2,   0.0494,2,   0.0316,2,   0.0162,2,   0.0084,3,   0.0122,4,   0.0133,4,  12.3378,     -999.0,9,     -999.0,9,     -999.0,9,     -999.0,9,     -999.0,9,     -999.0,9,     -999.0,9,-999.0000, -999.00
33RO20071215,        P18,      46,          1,         25,      12024,2,20071230,       1713,    -0.6677,  -110.0008,       3875,   249.8,  12.1435,  34.8684,2,  34.8709,2,     45.4,2,    45.6,2,   24.90,2,   30.40,2,    0.01,2,    2.06,2,-999.000,9,-999.000,9,-999.0000,9,  2225.2,2,  2309.2,2,   -999.0,9,  -999.00,   7.5328,2,    25.00,-999.000,9,-999.0000,9, -999.00,9, -999.00,9,  -999.0,9,-999.000,9,-999.000,-999.000,9,-999.000,9, -999.00,9, -999.00,9, -999.00,9,    0.00,2, -999.00,9,-999.000,   0.1654,2,   0.1203,2,   0.0699,2,   0.0562,2,   0.0346,2,   0.0153,2,   0.0065,2,   0.0136,2,   0.0134,2,  12.1106,     -999.0,9,     -999.0,1,     -999.0,9,     -999.0,9,     -999.0,9,     -999.0,9,     -999.0,9,-999.0000, -999.00
33RO20071215,        P18,      46,          1,         24,      12019,2,20071230,       1713,    -0.6677,  -110.0008,       3875,   299.9,  11.6678,  34.8365,2,  34.8354,2,     20.3,2,    20.7,2,   28.60,2,   33.50,2,    0.01,2,    2.30,2,   0.703,2,   0.377,2,   0.1309,2,  2246.8,2,  2295.6,4,   -999.0,9,  -999.00,   7.4789,2,    25.00,-999.000,9,-999.0000,9, -999.00,9, -999.00,9,  -999.0,9,-999.000,9,-999.000,-999.000,9,-999.000,9, -999.00,9, -999.00,9, -999.00,9, -999.00,9, -999.00,9,-999.000,   0.1666,2,   0.1192,2,   0.0680,2,   0.0549,2,   0.0318,2,   0.0114,2,   0.0038,2,   0.0148,2,   0.0141,2,  11.6293,     -999.0,9,     -999.0,9,     -999.0,9,     -999.0,9,     -999.0,9,     -999.0,9,     -999.0,9,-999.0000, -999.00
33RO20071215,        P18,      46,          1,         23,      12022,2,20071230,       1713,    -0.6677,  -110.0008,       3875,   350.9,  10.9322,  34.7901,2,  34.7892,2,     17.7,2,    17.8,2,   31.00,2,   34.90,2,    0.01,2,    2.41,2,-999.000,9,-999.000,9,-999.0000,9,  -999.0,9,  2308.3,2,   -999.0,9,  -999.00,   7.4584,2,    25.00,-999.000,9,-999.0000,9, -999.00,9, -999.00,9,  -999.0,9,-999.000,9,-999.000,-999.000,9,-999.000,9, -999.00,9, -999.00,9, -999.00,9, -999.00,9, -999.00,9,-999.000,   0.1757,2,   0.1271,2,   0.0740,2,   0.0599,2,   0.0360,2,   0.0140,2,   0.0050,2,   0.0145,2,   0.0136,2,  10.8889,     -999.0,9,     -999.0,1,     -999.0,9,     -999.0,9,     -999.0,9,     -999.0,9,     -999.0,9,-999.0000, -999.00
33RO20071215,        P18,      46,          1,         22,      12015,2,20071230,       1713,    -0.6677,  -110.0008,       3875,   401.1,   9.4736,  34.7007,2,  34.7016,2,     16.6,2,    16.4,2,   37.70,2,   38.10,2,    0.00,2,    2.60,2,   0.258,2,   0.140,2,   0.0292,2,  -999.0,9,  2312.2,2,   -999.0,9,  -999.00,   7.4206,2,    25.00,-999.000,9,-999.0000,9, -999.00,9, -999.00,9,  -999.0,9,-999.000,9,-999.000,-999.000,9,-999.000,9, -999.00,9, -999.00,9, -999.00,9, -999.00,9, -999.00,9,-999.000,   0.1717,2,   0.1233,2,   0.0722,2,   0.0583,2,   0.0348,2,   0.0123,2,   0.0037,2,   0.0146,2,   0.0137,2,   9.4283,     -999.0,9,     -999.0,9,     -999.0,9,     -999.0,9,     -999.0,9,     -999.0,9,     -999.0,9,-999.0000, -999.00
33RO20071215,        P18,      46,          1,         21,      12020,2,20071230,       1713,    -0.6677,  -110.0008,       3875,   498.0,   8.5776,  34.6530,2,  34.6514,2,     30.1,2,    31.7,2,   40.80,2,   38.80,2,    0.00,2,    2.65,2,-999.000,9,-999.000,9,-999.0000,9,  2265.9,2,  2313.2,2,   -999.0,9,  -999.00,   7.4344,2,    25.00,-999.000,9,-999.0000,9, -999.00,9, -999.00,9,  -999.0,9,-999.000,9,-999.000,-999.000,9,-999.000,1, -999.00,9, -999.00,9, -999.00,9, -999.00,9, -999.00,9,-999.000,   0.1746,2,   0.1266,2,   0.0752,2,   0.0604,2,   0.0380,2,   0.0153,2,   0.0058,2,   0.0140,2,   0.0132,2,   8.5244,     -999.0,9,     -999.0,1,     -999.0,1,     -999.0,9,     -999.0,9,     -999.0,9,     -999.0,9,-999.0000, -999.00
33RO20071215,        P18,      46,          1,         20,      12055,2,20071230,       1713,    -0.6677,  -110.0008,       3875,   590.5,   7.2729,  34.5893,2,  34.5884,2,     56.6,2,    57.4,2,   46.90,2,   38.90,2,    0.00,2,    2.68,2,   0.097,2,   0.056,2,   0.0000,2,  -999.0,9,  2318.7,2,   -999.0,9,  -999.00,   7.4581,2,    25.00,-999.000,9,-999.0000,9, -999.00,9, -999.00,9,  -999.0,9,-999.000,9,-999.000,-999.000,9,-999.000,9, -999.00,9, -999.00,9, -999.00,9, -999.00,9, -999.00,9,-999.000,   0.1529,2,   0.1076,2,   0.0611,2,   0.0477,2,   0.0292,2,   0.0106,2,   0.0031,2,   0.0145,2,   0.0144,2,   7.2151,     -999.0,9,     -999.0,9,     -999.0,9,     -999.0,9,     -999.0,9,     -999.0,9,     -999.0,9,-999.0000, -999.00
33RO20071215,        P18,      46,          1,         19,      12018,2,20071230,       1713,    -0.6677,  -110.0008,       3875,   700.0,   6.3104,  34.5541,2,  34.5554,2,     75.7,2,    76.8,2,   54.20,2,   38.90,2,    0.00,2,    2.68,2,-999.000,9,-999.000,9,-999.0000,9,  2263.4,2,  2328.2,2,   -999.0,9,  -999.00,   7.4888,2,    25.00,-999.000,9,-999.0000,9, -999.00,9, -999.00,9,  -999.0,9,-999.000,9,-999.000,-999.000,9,-999.000,9, -999.00,9, -999.00,9, -999.00,9, -999.00,9, -999.00,9,-999.000,   0.1425,2,   0.0974,2,   0.0534,2,   0.0406,2,   0.0242,2,   0.0079,2,   0.0017,2,   0.0149,2,   0.0155,2,   6.2465,     -999.0,9,     -999.0,9,     -999.0,9,     -999.0,9,     -999.0,9,     -999.0,9,     -999.0,9,-999.0000, -999.00
33RO20071215,        P18,      46,          1,         18,      12025,2,20071230,       1713,    -0.6677,  -110.0008,       3875,   801.2,   5.7643,  34.5516,2,  34.5514,2,     70.2,2,    70.1,2,   64.60,2,   40.50,2,    0.00,2,    2.81,2,   0.023,2,   0.012,2,   0.0102,2,  -999.0,9,  2336.8,2,   -999.0,9,  -999.00,   7.4683,2,    25.00,-999.000,9,-999.0000,9, -999.00,9, -999.00,9,  -999.0,9,-999.000,9,-999.000,-999.000,9,-999.000,9, -999.00,9, -999.00,9, -999.00,9, -999.00,9, -999.00,9,-999.000,   0.1798,2,   0.1301,2,   0.0771,2,   0.0600,2,   0.0394,2,   0.0174,2,   0.0068,2,   0.0134,2,   0.0132,2,   5.6940,     -999.0,9,     -999.0,9,     -999.0,9,     -999.0,9,     -999.0,9,     -999.0,9,     -999.0,9,-999.0000, -999.00
33RO20071215,        P18,      46,          1,         17,      12016,2,20071230,       1713,    -0.6677,  -110.0008,       3875,   899.5,   5.3060,  34.5490,2,  34.5491,2,     76.9,2,    76.6,2,   71.30,2,   40.40,2,    0.00,2,    2.81,2,-999.000,9,-999.000,9,-999.0000,9,  -999.0,9,  2333.0,2,   -999.0,9,  -999.00,   7.4653,2,    25.00,-999.000,9,-999.0000,9, -999.00,9, -999.00,9,  -999.0,9,-999.000,9,-999.000,-999.000,9,-999.000,9, -999.00,9, -999.00,9, -999.00,9, -999.00,9, -999.00,9,-999.000,   0.1589,2,   0.1119,2,   0.0633,2,   0.0477,2,   0.0299,2,   0.0112,2,   0.0032,2,   0.0146,2,   0.0146,2,   5.2296,     -999.0,9,     -999.0,9,     -999.0,9,     -999.0,9,     -999.0,9,     -999.0,9,     -999.0,9,-999.0000, -999.00
33RO20071215,        P18,      46,          1,         16,      12051,2,20071230,       1713,    -0.6677,  -110.0008,       3875,  1000.0,   4.7885,  34.5513,2,  34.5513,2,     83.3,2,    82.5,2,   80.00,2,   40.40,2,    0.00,2,    2.82,2,-999.000,9,-999.000,9,-999.0000,9,  2291.5,2,  2342.3,2,   -999.0,9,  -999.00,   7.4784,2,    25.00,-999.000,9,-999.0000,9, -999.00,9, -999.00,9,  -999.0,9,-999.000,9,-999.000,-999.000,9,-999.000,1, -999.00,9, -999.00,9, -999.00,9, -999.00,9, -999.00,9,-999.000,   0.1487,2,   0.1036,2,   0.0574,2,   0.0423,2,   0.0261,2,   0.0089,2,   0.0019,2,   0.0148,2,   0.0153,2,   4.7067,     -999.0,9,     -999.0,9,     -999.0,1,     -999.0,9,     -999.0,9,     -999.0,9,     -999.0,9,-999.0000, -999.00
33RO20071215,        P18,      46,          1,         15,      12014,2,20071230,       1713,    -0.6677,  -110.0008,       3875,  1100.0,   4.2898,  34.5606,2,  34.5613,2,     86.8,2,    86.1,2,   90.70,2,   40.30,2,    0.00,2,    2.83,2,-999.000,9,-999.000,9,-999.0000,9,  -999.0,9,  2354.4,2,   -999.0,9,  -999.00,   7.4867,2,    25.00,-999.000,9,-999.0000,9, -999.00,9, -999.00,9,  -999.0,9,-999.000,9,-999.000,-999.000,9,-999.000,9, -999.00,9, -999.00,9, -999.00,9, -999.00,9, -999.00,9,-999.000,   0.1764,2,   0.1266,2,   0.0710,2,   0.0516,2,   0.0325,2,   0.0127,2,   0.0037,2,   0.0149,2,   0.0148,2,   4.2032,     -999.0,9,     -999.0,9,     -999.0,9,     -999.0,9,     -999.0,9,     -999.0,9,     -999.0,9,-999.0000, -999.00
33RO20071215,        P18,      46,          1,         14,      12013,2,20071230,       1713,    -0.6677,  -110.0008,       3875,  1199.0,   3.9210,  34.5748,2,  34.5794,2,     81.8,2,    82.1,2,  101.70,2,   41.10,2,    0.00,2,    2.90,2,-999.000,9,-999.000,9,-999.0000,9,  -999.0,9,  2365.4,2,   -999.0,9,  -999.00,   7.4692,2,    25.00,-999.000,9,-999.0000,9, -999.00,9, -999.00,9,  -999.0,9,-999.000,9,-999.000,-999.000,9,-999.000,9, -999.00,9, -999.00,9, -999.00,9, -999.00,9, -999.00,9,-999.000,   0.1696,2,   0.1200,2,   0.0674,2,   0.0501,2,   0.0312,2,   0.0114,2,   0.0030,2,   0.0149,2,   0.0148,2,   3.8290,     -999.0,9,     -999.0,9,     -999.0,9,     -999.0,9,     -999.0,9,     -999.0,9,     -999.0,9,-999.0000, -999.00
33RO20071215,        P18,      46,          1,         13,      12012,2,20071230,       1713,    -0.6677,  -110.0008,       3875,  1300.1,   3.7655,  34.5772,2,  34.5775,2,     88.5,2,    87.7,2,  103.70,2,   40.60,2,    0.00,2,    2.86,2,-999.000,9,-999.000,9,-999.0000,9,  2314.0,2,  2379.1,2,   -999.0,9,  -999.00,   7.4793,2,    25.00,-999.000,9,-999.0000,9, -999.00,9, -999.00,9,  -999.0,9,-999.000,9,-999.000,-999.000,9,-999.000,9, -999.00,9, -999.00,9, -999.00,9, -999.00,9, -999.00,9,-999.000,   0.1793,2,   0.1282,2,   0.0725,2,   0.0532,2,   0.0338,2,   0.0135,2,   0.0042,2,   0.0147,2,   0.0146,2,   3.6664,     -999.0,9,     -999.0,9,     -999.0,9,     -999.0,9,     -999.0,9,     -999.0,9,     -999.0,9,-999.0000, -999.00
33RO20071215,        P18,      46,          1,         12,      12031,2,20071230,       1713,    -0.6677,  -110.0008,       3875,  1399.6,   3.4295,  34.5903,2,  34.5942,2,     87.1,2,    87.3,2,  113.10,2,   40.80,2,    0.00,2,    2.88,2,-999.000,9,-999.000,9,-999.0000,9,  -999.0,9,  2389.1,2,   -999.0,9,  -999.00,   7.4734,2,    25.00,-999.000,9,-999.0000,9, -999.00,9, -999.00,9,  -999.0,9,-999.000,9,-999.000,-999.000,9,-999.000,9, -999.00,9, -999.00,9, -999.00,9, -999.00,9, -999.00,9,-999.000,   0.1635,2,   0.1150,2,   0.0639,2,   0.0465,2,   0.0285,2,   0.0096,2,   0.0020,2,   0.0152,2,   0.0153,2,   3.3253,     -999.0,9,     -999.0,9,     -999.0,9,     -999.0,9,     -999.0,9,     -999.0,9,     -999.0,9,-999.0000, -999.00