BOTTLE,20220818CCHSIOAMB
EXPOCODE,SECT_ID,STNNBR,CASTNO,SAMPNO,BTLNBR,BTLNBR_FLAG_W,DATE,TIME,LATITUDE,LONGITUDE,DEPTH,CTDPRS,CTDTMP,CTDSAL,CTDSAL_FLAG_W,SALNTY,SALNTY_FLAG_W,CTDOXY,CTDOXY_FLAG_W,OXYGEN,OXYGEN_FLAG_W,SILCAT,SILCAT_FLAG_W,NITRAT,NITRAT_FLAG_W,NITRIT,NITRIT_FLAG_W,PHSPHT,PHSPHT_FLAG_W,CFC-11,CFC-11_FLAG_W,CFC-12,CFC-12_FLAG_W,SF6,SF6_FLAG_W,TCARBN,TCARBN_FLAG_W,ALKALI,ALKALI_FLAG_W,FCO2,FCO2_FLAG_W,FCO2TMP,PH_SWS,PH_SWS_FLAG_W,PH_TMP,TRITUM,TRITUM_FLAG_W,HELIUM,HELIUM_FLAG_W,DELHE3,DELHE3_FLAG_W,DELC13,DELC13_FLAG_W,DELC14,DELC14_FLAG_W,NEON,NEON_FLAG_W,NEONER,CCL4,CCL4_FLAG_W,POC,POC_FLAG_W,DOC,DOC_FLAG_W,TDN,TDN_FLAG_W,DON,DON_FLAG_W,CHLORA,CHLORA_FLAG_W,ARGON,ARGON_FLAG_W,TRITER,CDOM325,CDOM325_FLAG_W,CDOM340,CDOM340_FLAG_W,CDOM380,CDOM380_FLAG_W,CDOM412,CDOM412_FLAG_W,CDOM443,CDOM443_FLAG_W,CDOM490,CDOM490_FLAG_W,CDOM555,CDOM555_FLAG_W,CDOMSL,CDOMSL_FLAG_W,CDOMSN,CDOMSN_FLAG_W,THETA,D18O_NO3,D18O_NO3_FLAG_W,CDOM2C,CDOM2C_FLAG_W,CDOM3C,CDOM3C_FLAG_W,LAB_DEN,LAB_DEN_FLAG_W,DELSI30,DELSI30_FLAG_W,N2,N2_FLAG_W,D15N_NO3,D15N_NO3_FLAG_W,HELIER,DELHER
,,,,,,,,,,,METERS,DBAR,ITS-90,PSS-78,,PSS-78,,UMOL/KG,,UMOL/KG,,UMOL/KG,,UMOL/KG,,UMOL/KG,,UMOL/KG,,PMOL/KG,,PMOL/KG,,FMOL/KG,,UMOL/KG,,UMOL/KG,,UATM,,DEG C,,,DEG C,TU,,NMOL/KG,,PERCNT,,/MILLE,,/MILLE,,NMOL/KG,,NMOL/KG,PMOL/KG,,UG/KG,,UMOL/KG,,UMOL/KG,,UMOL/KG,,UG/KG,,UMOL/KG,,TU,1/M,,1/M,,1/M,,1/M,,1/M,,1/M,,1/M,,1/NM,,1/NM,,DEG C,/MILLE,,,,,,,,/MILLE,,UMOL/KG,,/MILLE,,NMOL/KG,PERCNT
33RO20071215,        P18,     141,          1,         24,      11024,2,20080204,       2159,   -53.1672,  -102.9988,       4113,     5.8,   8.6680,  34.1646,2,  34.1679,2,    286.4,2,   285.9,2,    1.10,2,   16.80,2,    0.26,2,    1.19,2,   3.993,2,   2.265,2,   1.8127,2,  2098.3,6,  2274.7,2,   -999.0,9,  -999.00,   7.8236,2,    25.00,-999.000,9,-999.0000,9, -999.00,9,    1.61,2,  -999.0,1,-999.000,9,-999.000,-999.000,9,-999.000,9, -999.00,9, -999.00,9, -999.00,9, -999.00,9, -999.00,1,-999.000,-999.0000,9,-999.0000,9,-999.0000,9,-999.0000,9,-999.0000,9,-999.0000,9,-999.0000,9,-999.0000,9,-999.0000,9,   8.6674,     -999.0,1,     -999.0,9,     -999.0,9,     -999.0,9,     -999.0,9,     -999.0,1,     -999.0,9,-999.0000, -999.00
33RO20071215,        P18,     141,          1,         23,      11023,2,20080204,       2159,   -53.1672,  -102.9988,       4113,    33.6,   8.6620,  34.1643,2,  34.1647,2,    287.3,2,   286.0,2,    1.10,2,   16.80,2,    0.25,2,    1.18,2,-999.000,9,-999.000,9,-999.0000,9,  2098.8,2,  2276.3,2,   -999.0,9,  -999.00,   7.8255,2,    25.00,-999.000,9,-999.0000,9, -999.00,9, -999.00,9,  -999.0,9,-999.000,9,-999.000,-999.000,9,-999.000,9, -999.00,9, -999.00,9, -999.00,9, -999.00,9, -999.00,9,-999.000,-999.0000,9,-999.0000,9,-999.0000,9,-999.0000,9,-999.0000,9,-999.0000,9,-999.0000,9,-999.0000,9,-999.0000,9,   8.6585,     -999.0,9,     -999.0,9,     -999.0,9,     -999.0,9,     -999.0,9,     -999.0,9,     -999.0,9,-999.0000, -999.00
33RO20071215,        P18,     141,          1,         22,      11022,2,20080204,       2159,   -53.1672,  -102.9988,       4113,    57.0,   8.6355,  34.1637,2,  34.1644,2,    287.0,2,   285.2,2,    1.10,2,   16.80,2,    0.25,2,    1.19,2,   3.987,2,   2.264,2,   1.7332,2,  2097.9,2,  2276.6,2,   -999.0,9,  -999.00,   7.8318,2,    25.00,-999.000,9,-999.0000,9, -999.00,9, -999.00,9,  -999.0,9,-999.000,9,-999.000,-999.000,9,-999.000,9, -999.00,9, -999.00,9, -999.00,9, -999.00,9, -999.00,9,-999.000,-999.0000,9,-999.0000,9,-999.0000,9,-999.0000,9,-999.0000,9,-999.0000,9,-999.0000,9,-999.0000,9,-999.0000,9,   8.6296,     -999.0,9,     -999.0,9,     -999.0,9,     -999.0,9,     -999.0,9,     -999.0,9,     -999.0,9,-999.0000, -999.00
33RO20071215,        P18,     141,          1,         21,      11021,2,20080204,       2159,   -53.1672,  -102.9988,       4113,    78.6,   8.5087,  34.1656,2,  34.1670,2,    285.8,2,   285.5,2,    1.20,2,   16.80,2,    0.24,2,    1.19,2,-999.000,9,-999.000,9,-999.0000,9,  2100.0,2,  2281.3,2,   -999.0,9,  -999.00,   7.8333,2,    25.00,-999.000,9,-999.0000,9, -999.00,9, -999.00,9,  -999.0,9,-999.000,9,-999.000,-999.000,9,-999.000,9, -999.00,9, -999.00,9, -999.00,9, -999.00,9, -999.00,9,-999.000,-999.0000,9,-999.0000,9,-999.0000,9,-999.0000,9,-999.0000,9,-999.0000,9,-999.0000,9,-999.0000,9,-999.0000,9,   8.5006,     -999.0,9,     -999.0,9,     -999.0,9,     -999.0,9,     -999.0,9,     -999.0,9,     -999.0,9,-999.0000, -999.00
33RO20071215,        P18,     141,          1,         20,      11020,2,20080204,       2159,   -53.1672,  -102.9988,       4113,   101.9,   7.2812,  34.1807,2,  34.1827,2,    292.4,2,   290.9,2,    2.80,2,   17.70,2,    0.25,2,    1.33,2,   4.274,2,   2.402,2,   1.7990,2,  2108.8,2,  2280.6,2,   -999.0,9,  -999.00,   7.8007,2,    25.00,-999.000,9,-999.0000,9, -999.00,9, -999.00,9,  -999.0,9,-999.000,9,-999.000,-999.000,9,-999.000,9, -999.00,9, -999.00,9, -999.00,9, -999.00,9, -999.00,9,-999.000,-999.0000,9,-999.0000,9,-999.0000,9,-999.0000,9,-999.0000,9,-999.0000,9,-999.0000,9,-999.0000,9,-999.0000,9,   7.2716,     -999.0,9,     -999.0,9,     -999.0,9,     -999.0,9,     -999.0,9,     -999.0,9,     -999.0,9,-999.0000, -999.00
33RO20071215,        P18,     141,          1,         19,      11019,2,20080204,       2159,   -53.1672,  -102.9988,       4113,   134.2,   6.2604,  34.1995,2,  34.2023,2,    292.5,2,   291.8,2,    4.40,2,   19.30,2,    0.39,2,    1.40,2,-999.000,9,-999.000,9,-999.0000,9,  2117.9,2,  2281.8,2,   -999.0,9,  -999.00,   7.7826,2,    25.00,-999.000,9,-999.0000,9, -999.00,9, -999.00,9,  -999.0,9,-999.000,9,-999.000,-999.000,9,-999.000,9, -999.00,9, -999.00,9, -999.00,9, -999.00,9, -999.00,9,-999.000,-999.0000,9,-999.0000,9,-999.0000,9,-999.0000,9,-999.0000,9,-999.0000,9,-999.0000,9,-999.0000,9,-999.0000,9,   6.2488,     -999.0,9,     -999.0,9,     -999.0,9,     -999.0,9,     -999.0,9,     -999.0,9,     -999.0,9,-999.0000, -999.00
33RO20071215,        P18,     141,          1,         18,      11018,2,20080204,       2159,   -53.1672,  -102.9988,       4113,   166.7,   6.1574,  34.2040,2,  34.2049,2,    290.6,2,   290.9,2,    4.70,2,   19.90,2,    0.27,2,    1.41,2,-999.000,9,-999.000,9,-999.0000,9,  2119.5,2,  2272.0,2,   -999.0,9,  -999.00,   7.7742,2,    25.00,-999.000,9,-999.0000,9, -999.00,9, -999.00,9,  -999.0,9,-999.000,9,-999.000,-999.000,9,-999.000,9, -999.00,9, -999.00,9, -999.00,9, -999.00,9, -999.00,9,-999.000,-999.0000,9,-999.0000,9,-999.0000,9,-999.0000,9,-999.0000,9,-999.0000,9,-999.0000,9,-999.0000,9,-999.0000,9,   6.1431,     -999.0,9,     -999.0,9,     -999.0,9,     -999.0,9,     -999.0,9,     -999.0,9,     -999.0,9,-999.0000, -999.00
33RO20071215,        P18,     141,          1,         17,      11017,2,20080204,       2159,   -53.1672,  -102.9988,       4113,   224.6,   6.1570,  34.2393,2,  34.2454,2,    286.2,2,   283.6,2,    5.70,2,   20.80,2,    0.02,2,    1.45,2,   4.321,2,   2.403,2,   1.6691,2,  2125.7,2,  2276.9,2,   -999.0,9,  -999.00,   7.7658,2,    25.00,-999.000,9,-999.0000,9, -999.00,9, -999.00,9,  -999.0,9,-999.000,9,-999.000,-999.000,9,-999.000,9, -999.00,9, -999.00,9, -999.00,9, -999.00,9, -999.00,9,-999.000,-999.0000,9,-999.0000,9,-999.0000,9,-999.0000,9,-999.0000,9,-999.0000,9,-999.0000,9,-999.0000,9,-999.0000,9,   6.1377,     -999.0,9,     -999.0,9,     -999.0,9,     -999.0,9,     -999.0,9,     -999.0,9,     -999.0,9,-999.0000, -999.00
33RO20071215,        P18,     141,          1,         16,      11016,2,20080204,       2159,   -53.1672,  -102.9988,       4113,   300.9,   6.1872,  34.2778,2,  34.2777,2,    276.4,2,   276.9,2,    7.10,2,   21.60,2,    0.01,2,    1.50,2,   4.247,2,   2.347,2,   1.6214,2,  2131.8,2,  2279.6,2,   -999.0,9,  -999.00,   7.7588,2,    25.00,-999.000,9,-999.0000,9, -999.00,9, -999.00,9,  -999.0,9,-999.000,9,-999.000,-999.000,9,-999.000,9, -999.00,9, -999.00,9, -999.00,9, -999.00,9, -999.00,9,-999.000,-999.0000,9,-999.0000,9,-999.0000,9,-999.0000,9,-999.0000,9,-999.0000,9,-999.0000,9,-999.0000,9,-999.0000,9,   6.1610,     -999.0,9,     -999.0,9,     -999.0,9,     -999.0,9,     -999.0,9,     -999.0,9,     -999.0,9,-999.0000, -999.00
33RO20071215,        P18,     141,          1,         15,      11015,2,20080204,       2159,   -53.1672,  -102.9988,       4113,   375.8,   6.0037,  34.2648,2,  34.2685,2,    278.5,2,   276.4,2,    7.50,2,   22.00,2,    0.01,2,    1.53,2,-999.000,9,-999.000,9,-999.0000,9,  2133.1,2,  2286.0,2,   -999.0,9,  -999.00,   7.7515,2,    25.00,-999.000,9,-999.0000,9, -999.00,9, -999.00,9,  -999.0,9,-999.000,9,-999.000,-999.000,9,-999.000,9, -999.00,9, -999.00,9, -999.00,9, -999.00,9, -999.00,9,-999.000,-999.0000,9,-999.0000,9,-999.0000,9,-999.0000,9,-999.0000,9,-999.0000,9,-999.0000,9,-999.0000,9,-999.0000,9,   5.9713,     -999.0,9,     -999.0,9,     -999.0,9,     -999.0,9,     -999.0,9,     -999.0,9,     -999.0,9,-999.0000, -999.00
33RO20071215,        P18,     141,          1,         14,      11014,2,20080204,       2159,   -53.1672,  -102.9988,       4113,   447.8,   5.8080,  34.2481,2,  34.2489,2,    277.4,2,   276.6,2,    8.20,2,   22.50,2,    0.01,2,    1.56,2,   4.226,2,   2.310,2,   1.5791,2,  2134.9,2,  2287.2,2,   -999.0,9,  -999.00,   7.7401,2,    25.00,-999.000,9,-999.0000,9, -999.00,9, -999.00,9,  -999.0,9,-999.000,9,-999.000,-999.000,9,-999.000,9, -999.00,9, -999.00,9, -999.00,9, -999.00,9, -999.00,9,-999.000,-999.0000,9,-999.0000,9,-999.0000,9,-999.0000,9,-999.0000,9,-999.0000,9,-999.0000,9,-999.0000,9,-999.0000,9,   5.7699,     -999.0,9,     -999.0,9,     -999.0,9,     -999.0,9,     -999.0,9,     -999.0,9,     -999.0,9,-999.0000, -999.00
33RO20071215,        P18,     141,          1,         13,      11013,2,20080204,       2159,   -53.1672,  -102.9988,       4113,   550.0,   5.5220,  34.2322,2,  34.2346,2,    266.9,2,   267.6,2,   10.30,2,   24.00,2,    0.00,2,    1.66,2,   4.042,2,   2.179,2,   1.2404,2,  2142.5,2,  2286.5,2,   -999.0,9,  -999.00,   7.7302,2,    25.00,-999.000,9,-999.0000,9, -999.00,9, -999.00,9,  -999.0,9,-999.000,9,-999.000,-999.000,9,-999.000,9, -999.00,9, -999.00,9, -999.00,9, -999.00,9, -999.00,9,-999.000,-999.0000,9,-999.0000,9,-999.0000,9,-999.0000,9,-999.0000,9,-999.0000,9,-999.0000,9,-999.0000,9,-999.0000,9,   5.4760,     -999.0,9,     -999.0,9,     -999.0,9,     -999.0,9,     -999.0,9,     -999.0,9,     -999.0,9,-999.0000, -999.00
33RO20071215,        P18,     141,          1,         12,      11012,2,20080204,       2159,   -53.1672,  -102.9988,       4113,   700.8,   5.0238,  34.2551,2,  34.2562,2,    235.4,2,   234.2,2,   18.60,2,   27.90,2,    0.00,2,    1.91,2,-999.000,9,-999.000,9,-999.0000,9,  2166.7,2,  2293.1,2,   -999.0,9,  -999.00,   7.6799,2,    25.00,-999.000,9,-999.0000,9, -999.00,9, -999.00,9,  -999.0,9,-999.000,9,-999.000,-999.000,9,-999.000,9, -999.00,9, -999.00,9, -999.00,9, -999.00,9, -999.00,9,-999.000,-999.0000,9,-999.0000,9,-999.0000,9,-999.0000,9,-999.0000,9,-999.0000,9,-999.0000,9,-999.0000,9,-999.0000,9,   4.9671,     -999.0,9,     -999.0,9,     -999.0,9,     -999.0,9,     -999.0,9,     -999.0,9,     -999.0,9,-999.0000, -999.00
33RO20071215,        P18,     141,          1,         11,      11010,2,20080204,       2159,   -53.1672,  -102.9988,       4113,   850.5,   4.4392,  34.2893,2,  34.2883,2,    215.0,2,   216.1,2,   27.60,2,   30.40,2,    0.00,2,    2.09,2,   2.424,2,   1.221,2,   0.5803,2,  2186.5,2,  2298.5,2,   -999.0,9,  -999.00,   7.6445,2,    25.00,-999.000,9,-999.0000,9, -999.00,9, -999.00,9,  -999.0,9,-999.000,9,-999.000,-999.000,9,-999.000,9, -999.00,9, -999.00,9, -999.00,9, -999.00,9, -999.00,9,-999.000,-999.0000,9,-999.0000,9,-999.0000,9,-999.0000,9,-999.0000,9,-999.0000,9,-999.0000,9,-999.0000,9,-999.0000,9,   4.3732,     -999.0,9,     -999.0,9,     -999.0,9,     -999.0,9,     -999.0,9,     -999.0,9,     -999.0,9,-999.0000, -999.00
33RO20071215,        P18,     141,          1,         10,      11011,2,20080204,       2159,   -53.1672,  -102.9988,       4113,   999.6,   3.8240,  34.3199,2,  34.3195,2,    206.2,2,   206.8,2,   37.50,2,   32.10,2,    0.00,2,    2.21,2,   2.009,2,   1.009,2,   0.4067,2,  2203.6,2,  2309.0,2,   -999.0,9,  -999.00,   7.6253,2,    25.00,-999.000,9,-999.0000,9, -999.00,9, -999.00,9,  -999.0,9,-999.000,9,-999.000,-999.000,9,-999.000,9, -999.00,9, -999.00,9, -999.00,9, -999.00,9, -999.00,9,-999.000,-999.0000,9,-999.0000,9,-999.0000,9,-999.0000,9,-999.0000,9,-999.0000,9,-999.0000,9,-999.0000,9,-999.0000,9,   3.7500,     -999.0,9,     -999.0,9,     -999.0,9,     -999.0,9,     -999.0,9,     -999.0,9,     -999.0,9,-999.0000, -999.00
33RO20071215,        P18,     141,          1,          9,      11009,2,20080204,       2159,   -53.1672,  -102.9988,       4113,  1167.7,   3.2992,  34.3704,2,  34.3703,2,    194.8,2,   194.8,2,   48.80,2,   33.40,2,    0.00,2,    2.32,2,   1.462,2,   0.726,2,   0.2868,3,  2220.0,2,  2313.6,2,   -999.0,9,  -999.00,   7.5993,2,    25.00,-999.000,9,-999.0000,9, -999.00,9, -999.00,9,  -999.0,9,-999.000,9,-999.000,-999.000,9,-999.000,9, -999.00,9, -999.00,9, -999.00,9, -999.00,9, -999.00,9,-999.000,-999.0000,9,-999.0000,9,-999.0000,9,-999.0000,9,-999.0000,9,-999.0000,9,-999.0000,9,-999.0000,9,-999.0000,9,   3.2159,     -999.0,9,     -999.0,9,     -999.0,9,     -999.0,9,     -999.0,9,     -999.0,9,     -999.0,9,-999.0000, -999.00
33RO20071215,        P18,     141,          1,          8,      11008,2,20080204,       2159,   -53.1672,  -102.9988,       4113,  1399.4,   2.8062,  34.4690,2,  34.4686,2,    179.0,2,   178.9,2,   63.90,2,   34.70,2,    0.00,2,    2.40,2,   0.833,2,   0.424,2,   0.2161,3,  2241.6,6,  2329.5,2,   -999.0,9,  -999.00,   7.5738,2,    25.00,-999.000,9,-999.0000,9, -999.00,9, -999.00,9,  -999.0,9,-999.000,9,-999.000,-999.000,9,-999.000,9, -999.00,9, -999.00,9, -999.00,9, -999.00,9, -999.00,9,-999.000,-999.0000,9,-999.0000,9,-999.0000,9,-999.0000,9,-999.0000,9,-999.0000,9,-999.0000,9,-999.0000,9,-999.0000,9,   2.7090,     -999.0,9,     -999.0,9,     -999.0,9,     -999.0,9,     -999.0,9,     -999.0,9,     -999.0,9,-999.0000, -999.00
33RO20071215,        P18,     141,          1,          7,      11007,2,20080204,       2159,   -53.1672,  -102.9988,       4113,  1735.0,   2.4678,  34.5959,2,  34.5952,2,    169.9,2,   170.9,2,   78.00,2,   34.40,2,    0.00,2,    2.38,2,   0.335,2,   0.175,2,   0.0000,2,  2256.8,2,  2340.2,2,   -999.0,9,  -999.00,   7.5757,2,    25.00,-999.000,9,-999.0000,9, -999.00,9, -999.00,9,  -999.0,9,-999.000,9,-999.000,-999.000,9,-999.000,9, -999.00,9, -999.00,9, -999.00,9, -999.00,9, -999.00,9,-999.000,-999.0000,9,-999.0000,9,-999.0000,9,-999.0000,9,-999.0000,9,-999.0000,9,-999.0000,9,-999.0000,9,-999.0000,9,   2.3469,     -999.0,9,     -999.0,9,     -999.0,9,     -999.0,9,     -999.0,9,     -999.0,9,     -999.0,9,-999.0000, -999.00
33RO20071215,        P18,     141,          1,          6,      11006,2,20080204,       2159,   -53.1672,  -102.9988,       4113,  2133.3,   2.2145,  34.6805,2,  34.6804,2,    173.5,2,   173.2,2,   88.60,2,   33.50,2,    0.00,2,    2.31,2,   0.114,2,   0.060,2,   0.0000,2,  2261.4,2,  2353.3,2,   -999.0,9,  -999.00,   7.5881,2,    25.00,-999.000,9,-999.0000,9, -999.00,9, -999.00,9,  -999.0,9,-999.000,9,-999.000,   0.123,3,-999.000,9, -999.00,9, -999.00,9, -999.00,9, -999.00,9, -999.00,9,-999.000,-999.0000,9,-999.0000,9,-999.0000,9,-999.0000,9,-999.0000,9,-999.0000,9,-999.0000,9,-999.0000,9,-999.0000,9,   2.0631,     -999.0,9,     -999.0,9,     -999.0,9,     -999.0,9,     -999.0,9,     -999.0,9,     -999.0,9,-999.0000, -999.00
33RO20071215,        P18,     141,          1,          5,      11005,2,20080204,       2159,   -53.1672,  -102.9988,       4113,  2531.2,   1.9067,  34.7117,2,  34.7118,2,    178.4,2,   178.4,2,   99.70,2,   33.20,2,    0.00,2,    2.29,2,   0.047,2,   0.026,2,   0.0000,2,  2178.4,4,  2365.1,2,   -999.0,9,  -999.00,   7.6049,2,    25.00,-999.000,9,-999.0000,9, -999.00,9, -999.00,9,  -999.0,9,-999.000,9,-999.000,   0.063,3,-999.000,9, -999.00,9, -999.00,9, -999.00,9, -999.00,9, -999.00,9,-999.000,-999.0000,9,-999.0000,9,-999.0000,9,-999.0000,9,-999.0000,9,-999.0000,9,-999.0000,9,-999.0000,9,-999.0000,9,   1.7251,     -999.0,9,     -999.0,9,     -999.0,9,     -999.0,9,     -999.0,9,     -999.0,9,     -999.0,9,-999.0000, -999.00
33RO20071215,        P18,     141,          1,          4,      11004,2,20080204,       2159,   -53.1672,  -102.9988,       4113,  2932.9,   1.6483,  34.7165,2,  34.7167,2,    183.8,2,   184.2,2,  108.40,6,   33.40,6,    0.00,6,    2.29,2,   0.024,2,   0.014,2,   0.0000,2,  2272.3,2,  2375.0,4,   -999.0,9,  -999.00,   7.6325,2,    25.00,-999.000,9,-999.0000,9, -999.00,9, -999.00,9,  -999.0,9,-999.000,9,-999.000,   0.041,3,-999.000,9, -999.00,9, -999.00,9, -999.00,9, -999.00,9, -999.00,9,-999.000,-999.0000,9,-999.0000,9,-999.0000,9,-999.0000,9,-999.0000,9,-999.0000,9,-999.0000,9,-999.0000,9,-999.0000,9,   1.4344,     -999.0,9,     -999.0,9,     -999.0,9,     -999.0,9,     -999.0,9,     -999.0,9,     -999.0,9,-999.0000, -999.00
33RO20071215,        P18,     141,          1,          3,      11003,2,20080204,       2159,   -53.1672,  -102.9988,       4113,  3332.2,   1.4435,  34.7205,2,  34.7201,2,    191.1,2,   191.0,2,  112.30,6,   33.10,6,    0.00,6,    2.27,2,   0.021,2,   0.014,2,   0.0000,2,  2175.1,4,  2377.4,4,   -999.0,9,  -999.00,-999.0000,9,  -999.00,-999.000,9,-999.0000,9, -999.00,9, -999.00,9,  -999.0,9,-999.000,9,-999.000,   0.041,3,-999.000,9, -999.00,9, -999.00,9, -999.00,9, -999.00,9, -999.00,9,-999.000,-999.0000,9,-999.0000,9,-999.0000,9,-999.0000,9,-999.0000,9,-999.0000,9,-999.0000,9,-999.0000,9,-999.0000,9,   1.1954,     -999.0,9,     -999.0,9,     -999.0,9,     -999.0,9,     -999.0,9,     -999.0,9,     -999.0,9,-999.0000, -999.00
33RO20071215,        P18,     141,          1,          2,      11002,2,20080204,       2159,   -53.1672,  -102.9988,       4113,  3734.5,   1.0926,  34.7154,2,  34.7157,2,    198.5,2,   198.5,2,  122.40,6,   33.20,6,    0.00,6,    2.28,2,   0.015,2,   0.011,2,   0.0000,2,  2171.0,4,  2381.6,2,   -999.0,9,  -999.00,   7.6204,2,    25.00,-999.000,9,-999.0000,9, -999.00,9, -999.00,9,  -999.0,9,-999.000,9,-999.000,   0.040,3,-999.000,9, -999.00,9, -999.00,9, -999.00,9, -999.00,9, -999.00,9,-999.000,-999.0000,9,-999.0000,9,-999.0000,9,-999.0000,9,-999.0000,9,-999.0000,9,-999.0000,9,-999.0000,9,-999.0000,9,   0.8128,     -999.0,9,     -999.0,9,     -999.0,9,     -999.0,9,     -999.0,9,     -999.0,9,     -999.0,9,-999.0000, -999.00
33RO20071215,        P18,     141,          1,          1,      11001,2,20080204,       2159,   -53.1672,  -102.9988,       4113,  4173.4,   0.7746,  34.7104,2,  34.7104,2,    205.6,2,   205.1,2,  133.00,2,   33.50,2,    0.01,2,    2.29,2,   0.028,2,   0.018,2,   0.0000,2,  2270.9,2,  2382.9,2,   -999.0,9,  -999.00,   7.6173,2,    25.00,-999.000,9,-999.0000,9, -999.00,9, -999.00,9,  -999.0,9,-999.000,9,-999.000,   0.069,3,-999.000,9, -999.00,9, -999.00,9, -999.00,9, -999.00,9, -999.00,9,-999.000,-999.0000,9,-999.0000,9,-999.0000,9,-999.0000,9,-999.0000,9,-999.0000,9,-999.0000,9,-999.0000,9,-999.0000,9,   0.4577,     -999.0,9,     -999.0,9,     -999.0,9,     -999.0,9,     -999.0,9,     -999.0,9,     -999.0,9,-999.0000, -999.00