BOTTLE,20220818CCHSIOAMB
EXPOCODE,SECT_ID,STNNBR,CASTNO,SAMPNO,BTLNBR,BTLNBR_FLAG_W,DATE,TIME,LATITUDE,LONGITUDE,DEPTH,CTDPRS,CTDTMP,CTDSAL,CTDSAL_FLAG_W,SALNTY,SALNTY_FLAG_W,CTDOXY,CTDOXY_FLAG_W,OXYGEN,OXYGEN_FLAG_W,SILCAT,SILCAT_FLAG_W,NITRAT,NITRAT_FLAG_W,NITRIT,NITRIT_FLAG_W,PHSPHT,PHSPHT_FLAG_W,CFC-11,CFC-11_FLAG_W,CFC-12,CFC-12_FLAG_W,SF6,SF6_FLAG_W,TCARBN,TCARBN_FLAG_W,ALKALI,ALKALI_FLAG_W,FCO2,FCO2_FLAG_W,FCO2TMP,PH_SWS,PH_SWS_FLAG_W,PH_TMP,TRITUM,TRITUM_FLAG_W,HELIUM,HELIUM_FLAG_W,DELHE3,DELHE3_FLAG_W,DELC13,DELC13_FLAG_W,DELC14,DELC14_FLAG_W,NEON,NEON_FLAG_W,NEONER,CCL4,CCL4_FLAG_W,POC,POC_FLAG_W,DOC,DOC_FLAG_W,TDN,TDN_FLAG_W,DON,DON_FLAG_W,CHLORA,CHLORA_FLAG_W,ARGON,ARGON_FLAG_W,TRITER,CDOM325,CDOM325_FLAG_W,CDOM340,CDOM340_FLAG_W,CDOM380,CDOM380_FLAG_W,CDOM412,CDOM412_FLAG_W,CDOM443,CDOM443_FLAG_W,CDOM490,CDOM490_FLAG_W,CDOM555,CDOM555_FLAG_W,CDOMSL,CDOMSL_FLAG_W,CDOMSN,CDOMSN_FLAG_W,THETA,D18O_NO3,D18O_NO3_FLAG_W,CDOM2C,CDOM2C_FLAG_W,CDOM3C,CDOM3C_FLAG_W,LAB_DEN,LAB_DEN_FLAG_W,DELSI30,DELSI30_FLAG_W,N2,N2_FLAG_W,D15N_NO3,D15N_NO3_FLAG_W,HELIER,DELHER
,,,,,,,,,,,METERS,DBAR,ITS-90,PSS-78,,PSS-78,,UMOL/KG,,UMOL/KG,,UMOL/KG,,UMOL/KG,,UMOL/KG,,UMOL/KG,,PMOL/KG,,PMOL/KG,,FMOL/KG,,UMOL/KG,,UMOL/KG,,UATM,,DEG C,,,DEG C,TU,,NMOL/KG,,PERCNT,,/MILLE,,/MILLE,,NMOL/KG,,NMOL/KG,PMOL/KG,,UG/KG,,UMOL/KG,,UMOL/KG,,UMOL/KG,,UG/KG,,UMOL/KG,,TU,1/M,,1/M,,1/M,,1/M,,1/M,,1/M,,1/M,,1/NM,,1/NM,,DEG C,/MILLE,,,,,,,,/MILLE,,UMOL/KG,,/MILLE,,NMOL/KG,PERCNT
33RO20071215,        P18,      83,          1,         36,      12017,2,20080112,       0259,   -19.3323,  -103.0007,       4078,     5.4,  22.3967,  35.9881,2,  35.9921,2,    218.9,2,   219.6,2,    0.60,2,    0.20,2,    0.00,2,    0.32,2,   2.042,6,   1.261,6,   1.0760,6,  2078.5,6,  2384.0,2,   -999.0,9,  -999.00,   8.0126,2,    25.00,-999.000,9,-999.0000,9, -999.00,9,    1.63,2,  -999.0,1,-999.000,9,-999.000,-999.000,9,-999.000,9,   72.53,2,    5.24,2, -999.00,1, -999.00,9, -999.00,9,-999.000,-999.0000,9,-999.0000,9,-999.0000,9,-999.0000,9,-999.0000,9,-999.0000,9,-999.0000,9,-999.0000,9,-999.0000,9,  22.3956,     -999.0,9,     -999.0,9,     -999.0,9,     -999.0,9,     -999.0,9,     -999.0,9,     -999.0,9,-999.0000, -999.00
33RO20071215,        P18,      83,          1,         35,      12029,2,20080112,       0259,   -19.3323,  -103.0007,       4078,    15.4,  22.4003,  35.9889,2,  35.9911,2,    219.2,2,   219.7,2,    0.70,2,    0.20,2,    0.00,2,    0.32,2,-999.000,9,-999.000,9,-999.0000,9,  2077.4,2,  2386.6,2,   -999.0,9,  -999.00,   8.0236,2,    25.00,-999.000,9,-999.0000,9, -999.00,9, -999.00,9,  -999.0,9,-999.000,9,-999.000,-999.000,9,-999.000,9,   69.53,2,    4.36,2, -999.00,1, -999.00,9, -999.00,9,-999.000,-999.0000,9,-999.0000,9,-999.0000,9,-999.0000,9,-999.0000,9,-999.0000,9,-999.0000,9,-999.0000,9,-999.0000,9,  22.3972,     -999.0,9,     -999.0,9,     -999.0,9,     -999.0,9,     -999.0,9,     -999.0,9,     -999.0,9,-999.0000, -999.00
33RO20071215,        P18,      83,          1,         34,      12049,2,20080112,       0259,   -19.3323,  -103.0007,       4078,    32.1,  22.3904,  35.9912,2,  35.9934,2,    219.8,2,   219.9,2,    0.70,2,    0.20,2,    0.00,2,    0.32,2,   2.044,2,   1.262,2,   1.0157,2,  2078.1,2,  2382.0,2,   -999.0,9,  -999.00,   8.0066,2,    25.00,-999.000,9,-999.0000,9, -999.00,9, -999.00,9,  -999.0,9,-999.000,9,-999.000,-999.000,9,-999.000,9,   68.81,2,    4.21,2, -999.00,1, -999.00,9, -999.00,9,-999.000,-999.0000,9,-999.0000,9,-999.0000,9,-999.0000,9,-999.0000,9,-999.0000,9,-999.0000,9,-999.0000,9,-999.0000,9,  22.3840,     -999.0,9,     -999.0,9,     -999.0,9,     -999.0,9,     -999.0,9,     -999.0,9,     -999.0,9,-999.0000, -999.00
33RO20071215,        P18,      83,          1,         33,      12027,2,20080112,       0259,   -19.3323,  -103.0007,       4078,    41.9,  22.1704,  36.0444,2,  36.0426,2,    221.7,2,   221.6,2,    0.70,2,    0.20,2,    0.00,2,    0.29,2,-999.000,9,-999.000,9,-999.0000,9,  2079.4,2,  2383.1,2,   -999.0,9,  -999.00,   8.0111,2,    25.00,-999.000,9,-999.0000,9, -999.00,9, -999.00,9,  -999.0,9,-999.000,9,-999.000,-999.000,9,-999.000,9,   66.51,2,    4.39,2, -999.00,1, -999.00,9, -999.00,9,-999.000,-999.0000,9,-999.0000,9,-999.0000,9,-999.0000,9,-999.0000,9,-999.0000,9,-999.0000,9,-999.0000,9,-999.0000,9,  22.1620,     -999.0,9,     -999.0,9,     -999.0,9,     -999.0,9,     -999.0,9,     -999.0,9,     -999.0,9,-999.0000, -999.00
33RO20071215,        P18,      83,          1,         32,      12023,2,20080112,       0259,   -19.3323,  -103.0007,       4078,    56.9,  21.5340,  35.9939,2,  35.9938,2,    225.9,2,   225.7,2,    0.60,2,    0.20,2,    0.00,2,    0.29,2,   2.108,2,   1.295,2,   1.1446,2,  2077.3,2,  -999.0,5,   -999.0,9,  -999.00,   7.9894,2,    25.00,-999.000,9,-999.0000,9, -999.00,9, -999.00,9,  -999.0,9,-999.000,9,-999.000,-999.000,9,-999.000,9,   66.14,2,    4.24,2, -999.00,1, -999.00,9, -999.00,9,-999.000,-999.0000,9,-999.0000,9,-999.0000,9,-999.0000,9,-999.0000,9,-999.0000,9,-999.0000,9,-999.0000,9,-999.0000,9,  21.5229,     -999.0,9,     -999.0,9,     -999.0,9,     -999.0,9,     -999.0,9,     -999.0,9,     -999.0,9,-999.0000, -999.00
33RO20071215,        P18,      83,          1,         31,      12037,2,20080112,       0259,   -19.3323,  -103.0007,       4078,   105.7,  20.7454,  35.9475,2,  35.9457,2,    219.1,2,   218.1,2,    0.60,2,    0.30,2,    0.11,2,    0.31,2,-999.000,9,-999.000,9,-999.0000,9,  2084.6,2,  2375.2,2,   -999.0,9,  -999.00,   8.0038,2,    25.00,-999.000,9,-999.0000,9, -999.00,9, -999.00,9,  -999.0,9,-999.000,9,-999.000,-999.000,9,-999.000,9,   65.28,2,    4.31,2, -999.00,1, -999.00,9, -999.00,9,-999.000,-999.0000,9,-999.0000,9,-999.0000,9,-999.0000,9,-999.0000,9,-999.0000,9,-999.0000,9,-999.0000,9,-999.0000,9,  20.7253,     -999.0,9,     -999.0,9,     -999.0,9,     -999.0,9,     -999.0,9,     -999.0,9,     -999.0,9,-999.0000, -999.00
33RO20071215,        P18,      83,          1,         30,      12036,2,20080112,       0259,   -19.3323,  -103.0007,       4078,   131.3,  20.4075,  35.8675,2,  35.8650,2,    218.5,2,   218.7,2,    0.60,2,    0.30,2,    0.12,2,    0.31,2,   2.185,2,   1.345,2,   1.0628,2,  2086.0,2,  2371.9,2,   -999.0,9,  -999.00,   7.9904,2,    25.00,-999.000,9,-999.0000,9, -999.00,9, -999.00,9,  -999.0,9,-999.000,9,-999.000,-999.000,9,-999.000,9,   62.25,2,    4.54,2, -999.00,1, -999.00,9, -999.00,9,-999.000,-999.0000,9,-999.0000,9,-999.0000,9,-999.0000,9,-999.0000,9,-999.0000,9,-999.0000,9,-999.0000,9,-999.0000,9,  20.3828,     -999.0,9,     -999.0,9,     -999.0,9,     -999.0,9,     -999.0,9,     -999.0,9,     -999.0,9,-999.0000, -999.00
33RO20071215,        P18,      83,          1,         29,      12044,2,20080112,       0259,   -19.3323,  -103.0007,       4078,   153.5,  20.1565,  35.8068,2,  35.8069,2,    217.6,2,   217.5,2,    0.60,2,    0.40,2,    0.33,2,    0.33,2,-999.000,9,-999.000,9,-999.0000,9,  2030.4,3,  2368.9,4,   -999.0,9,  -999.00,   7.9802,2,    25.00,-999.000,9,-999.0000,9, -999.00,9, -999.00,9,  -999.0,9,-999.000,9,-999.000,-999.000,9,-999.000,9,   58.53,2,    4.83,2, -999.00,1, -999.00,9, -999.00,9,-999.000,-999.0000,9,-999.0000,9,-999.0000,9,-999.0000,9,-999.0000,9,-999.0000,9,-999.0000,9,-999.0000,9,-999.0000,9,  20.1278,     -999.0,9,     -999.0,9,     -999.0,9,     -999.0,9,     -999.0,9,     -999.0,9,     -999.0,9,-999.0000, -999.00
33RO20071215,        P18,      83,          1,         28,      12057,2,20080112,       0259,   -19.3323,  -103.0007,       4078,   182.0,  19.8639,  35.7363,2,  35.7370,2,    216.3,2,   226.1,3,    0.60,2,    0.60,2,    0.42,2,    0.33,2,   2.244,2,   1.377,2,   1.0804,2,  2082.2,2,  -999.0,9,   -999.0,9,  -999.00,   7.9746,2,    25.00,-999.000,9,-999.0000,9, -999.00,9, -999.00,9,  -999.0,9,-999.000,9,-999.000,-999.000,9,-999.000,9,   58.24,2,    4.81,2, -999.00,1, -999.00,9, -999.00,9,-999.000,-999.0000,9,-999.0000,9,-999.0000,9,-999.0000,9,-999.0000,9,-999.0000,9,-999.0000,9,-999.0000,9,-999.0000,9,  19.8303,     -999.0,9,     -999.0,9,     -999.0,9,     -999.0,9,     -999.0,9,     -999.0,9,     -999.0,9,-999.0000, -999.00
33RO20071215,        P18,      83,          1,         27,      12026,2,20080112,       0259,   -19.3323,  -103.0007,       4078,   217.9,  19.2622,  35.6095,2,  35.4665,2,    213.4,2,   211.2,2,    0.80,2,    2.20,2,    0.20,2,    0.39,2,-999.000,9,-999.000,9,-999.0000,9,  2079.7,2,  2341.7,4,   -999.0,9,  -999.00,   7.9528,2,    25.00,-999.000,9,-999.0000,9, -999.00,9, -999.00,9,  -999.0,9,-999.000,9,-999.000,-999.000,9,-999.000,9,   56.07,2,    5.69,2, -999.00,1, -999.00,9, -999.00,9,-999.000,-999.0000,9,-999.0000,9,-999.0000,9,-999.0000,9,-999.0000,9,-999.0000,9,-999.0000,9,-999.0000,9,-999.0000,9,  19.2228,     -999.0,9,     -999.0,9,     -999.0,9,     -999.0,9,     -999.0,9,     -999.0,9,     -999.0,9,-999.0000, -999.00
33RO20071215,        P18,      83,          1,         26,      12030,2,20080112,       0259,   -19.3323,  -103.0007,       4078,   263.8,  14.4438,  34.7021,2,  34.7264,2,    184.2,2,   185.4,2,    2.30,2,    9.30,2,    0.01,2,    0.84,2,   2.804,2,   1.611,2,   0.9543,2,  2099.2,2,  -999.0,9,   -999.0,9,  -999.00,   7.8403,2,    25.00,-999.000,9,-999.0000,9, -999.00,9, -999.00,9,  -999.0,9,-999.000,9,-999.000,-999.000,9,-999.000,9,   49.13,2,   12.36,2, -999.00,1, -999.00,9, -999.00,9,-999.000,-999.0000,9,-999.0000,9,-999.0000,9,-999.0000,9,-999.0000,9,-999.0000,9,-999.0000,9,-999.0000,9,-999.0000,9,  14.4049,     -999.0,9,     -999.0,9,     -999.0,9,     -999.0,9,     -999.0,9,     -999.0,9,     -999.0,9,-999.0000, -999.00
33RO20071215,        P18,      83,          1,         25,      12024,2,20080112,       0259,   -19.3323,  -103.0007,       4078,   289.4,  12.4110,  34.5144,2,  34.5160,2,    107.3,2,   102.7,2,   10.50,2,   19.60,2,    0.01,2,    1.86,2,-999.000,9,-999.000,9,-999.0000,9,  2184.2,2,  2282.8,4,   -999.0,9,  -999.00,   7.6009,2,    25.00,-999.000,9,-999.0000,9, -999.00,9, -999.00,9,  -999.0,9,-999.000,9,-999.000,-999.000,9,-999.000,9,   47.79,2,   22.16,2, -999.00,1, -999.00,9, -999.00,9,-999.000,-999.0000,9,-999.0000,9,-999.0000,9,-999.0000,9,-999.0000,9,-999.0000,9,-999.0000,9,-999.0000,9,-999.0000,9,  12.3725,     -999.0,9,     -999.0,9,     -999.0,9,     -999.0,9,     -999.0,9,     -999.0,9,     -999.0,9,-999.0000, -999.00
33RO20071215,        P18,      83,          1,         24,      12019,2,20080112,       0259,   -19.3323,  -103.0007,       4078,   316.6,  11.8178,  34.5923,2,  34.5928,2,     46.2,2,    52.3,2,   17.40,2,   22.40,2,    0.01,2,    2.34,2,   1.770,2,   0.970,2,   0.4681,2,  2227.7,2,  -999.0,9,   -999.0,9,  -999.00,   7.4685,2,    25.00,-999.000,9,-999.0000,9, -999.00,9, -999.00,9,  -999.0,9,-999.000,9,-999.000,-999.000,9,-999.000,9,   44.95,2,   24.30,2, -999.00,1, -999.00,9, -999.00,9,-999.000,-999.0000,9,-999.0000,9,-999.0000,9,-999.0000,9,-999.0000,9,-999.0000,9,-999.0000,9,-999.0000,9,-999.0000,9,  11.7768,     -999.0,9,     -999.0,9,     -999.0,9,     -999.0,9,     -999.0,9,     -999.0,9,     -999.0,9,-999.0000, -999.00
33RO20071215,        P18,      83,          1,         23,      12022,2,20080112,       0259,   -19.3323,  -103.0007,       4078,   366.4,  10.8083,  34.6562,2,  34.6569,2,     20.4,2,    19.4,2,   23.60,2,   27.80,2,    0.00,2,    2.66,2,-999.000,9,-999.000,9,-999.0000,9,  2259.0,6,  2292.9,2,   -999.0,9,  -999.00,   7.4007,2,    25.00,-999.000,9,-999.0000,9, -999.00,9, -999.00,9,  -999.0,9,-999.000,9,-999.000,-999.000,9,-999.000,9,   42.75,2,   29.80,2, -999.00,1, -999.00,9, -999.00,9,-999.000,-999.0000,9,-999.0000,9,-999.0000,9,-999.0000,9,-999.0000,9,-999.0000,9,-999.0000,9,-999.0000,9,-999.0000,9,  10.7635,     -999.0,9,     -999.0,9,     -999.0,9,     -999.0,9,     -999.0,9,     -999.0,9,     -999.0,9,-999.0000, -999.00
33RO20071215,        P18,      83,          1,         22,      12015,2,20080112,       0259,   -19.3323,  -103.0007,       4078,   531.5,   7.3633,  34.4937,2,  34.4934,2,     62.6,2,    61.9,2,   28.80,2,   38.30,2,    0.00,2,    2.70,2,   0.333,2,   0.175,2,   0.0000,2,  2251.5,2,  2379.8,4,   -999.0,9,  -999.00,   7.4262,2,    25.00,-999.000,9,-999.0000,9, -999.00,9, -999.00,9,  -999.0,9,-999.000,9,-999.000,-999.000,9,-999.000,9,   41.34,2,   40.07,2, -999.00,1, -999.00,9, -999.00,9,-999.000,-999.0000,9,-999.0000,9,-999.0000,9,-999.0000,9,-999.0000,9,-999.0000,9,-999.0000,9,-999.0000,9,-999.0000,9,   7.3113,     -999.0,9,     -999.0,9,     -999.0,9,     -999.0,9,     -999.0,9,     -999.0,9,     -999.0,9,-999.0000, -999.00
33RO20071215,        P18,      83,          1,         21,      12020,2,20080112,       0259,   -19.3323,  -103.0007,       4078,   635.0,   6.2199,  34.4553,2,  34.4569,2,     77.8,2,    77.7,2,   35.50,2,   39.90,2,    0.00,2,    2.76,2,-999.000,9,-999.000,9,-999.0000,9,  -999.0,9,  -999.0,9,   -999.0,9,  -999.00,-999.0000,9,  -999.00,-999.000,9,-999.0000,9, -999.00,9, -999.00,9,  -999.0,9,-999.000,9,-999.000,-999.000,9,-999.000,9,   40.56,2,   41.23,2, -999.00,1, -999.00,9, -999.00,9,-999.000,-999.0000,9,-999.0000,9,-999.0000,9,-999.0000,9,-999.0000,9,-999.0000,9,-999.0000,9,-999.0000,9,-999.0000,9,   6.1628,     -999.0,9,     -999.0,9,     -999.0,9,     -999.0,9,     -999.0,9,     -999.0,9,     -999.0,9,-999.0000, -999.00
33RO20071215,        P18,      83,          1,         20,      12055,2,20080112,       0259,   -19.3323,  -103.0007,       4078,   731.8,   5.5753,  34.4564,2,  34.4566,2,     78.1,2,    78.5,2,   43.50,2,   41.00,2,    0.00,2,    2.83,2,-999.000,9,-999.000,9,-999.0000,9,  2259.9,2,  2301.2,4,   -999.0,9,  -999.00,   7.4387,2,    25.00,-999.000,9,-999.0000,9, -999.00,9, -999.00,9,  -999.0,9,-999.000,9,-999.000,-999.000,9,-999.000,9,   39.64,2,   41.99,2, -999.00,1, -999.00,9, -999.00,9,-999.000,-999.0000,9,-999.0000,9,-999.0000,9,-999.0000,9,-999.0000,9,-999.0000,9,-999.0000,9,-999.0000,9,-999.0000,9,   5.5125,     -999.0,9,     -999.0,9,     -999.0,9,     -999.0,9,     -999.0,9,     -999.0,9,     -999.0,9,-999.0000, -999.00
33RO20071215,        P18,      83,          1,         19,      12018,2,20080112,       0259,   -19.3323,  -103.0007,       4078,   832.1,   5.0547,  34.4772,2,  34.4767,2,     76.4,2,    77.2,2,   55.50,2,   41.80,2,    0.00,2,    2.90,2,-999.000,9,-999.000,9,-999.0000,9,  -999.0,9,  -999.0,9,   -999.0,9,  -999.00,-999.0000,9,  -999.00,-999.000,9,-999.0000,9, -999.00,9, -999.00,9,  -999.0,9,-999.000,9,-999.000,-999.000,9,-999.000,9,   38.20,2,   42.81,2, -999.00,1, -999.00,9, -999.00,9,-999.000,-999.0000,9,-999.0000,9,-999.0000,9,-999.0000,9,-999.0000,9,-999.0000,9,-999.0000,9,-999.0000,9,-999.0000,9,   4.9860,     -999.0,9,     -999.0,9,     -999.0,9,     -999.0,9,     -999.0,9,     -999.0,9,     -999.0,9,-999.0000, -999.00
33RO20071215,        P18,      83,          1,         18,      12025,2,20080112,       0259,   -19.3323,  -103.0007,       4078,   934.3,   4.5414,  34.4992,2,  34.4995,2,     79.9,2,    79.6,2,   67.30,2,   41.90,2,    0.00,2,    2.92,2,-999.000,9,-999.000,9,-999.0000,9,  2285.1,2,  -999.0,9,   -999.0,9,  -999.00,   7.4489,2,    25.00,-999.000,9,-999.0000,9, -999.00,9, -999.00,9,  -999.0,9,-999.000,9,-999.000,-999.000,9,-999.000,9,   37.53,2,   42.88,2, -999.00,1, -999.00,9, -999.00,9,-999.000,-999.0000,9,-999.0000,9,-999.0000,9,-999.0000,9,-999.0000,9,-999.0000,9,-999.0000,9,-999.0000,9,-999.0000,9,   4.4673,     -999.0,9,     -999.0,9,     -999.0,9,     -999.0,9,     -999.0,9,     -999.0,9,     -999.0,9,-999.0000, -999.00
33RO20071215,        P18,      83,          1,         17,      12016,2,20080112,       0259,   -19.3323,  -103.0007,       4078,  1034.2,   4.1731,  34.5182,2,  34.5190,2,     83.9,2,    84.2,2,   76.70,2,   41.70,2,    0.00,2,    2.92,2,-999.000,9,-999.000,9,-999.0000,9,  -999.0,9,  -999.0,9,   -999.0,9,  -999.00,-999.0000,9,  -999.00,-999.000,9,-999.0000,9, -999.00,9, -999.00,9,  -999.0,9,-999.000,9,-999.000,-999.000,9,-999.000,9,   36.85,2,   43.36,2, -999.00,1, -999.00,9, -999.00,9,-999.000,-999.0000,9,-999.0000,9,-999.0000,9,-999.0000,9,-999.0000,9,-999.0000,9,-999.0000,9,-999.0000,9,-999.0000,9,   4.0932,     -999.0,9,     -999.0,9,     -999.0,9,     -999.0,9,     -999.0,9,     -999.0,9,     -999.0,9,-999.0000, -999.00
33RO20071215,        P18,      83,          1,         16,      12051,2,20080112,       0259,   -19.3323,  -103.0007,       4078,  1126.5,   3.8650,  34.5332,2,  34.5336,2,     89.6,2,    89.5,2,   83.60,2,   41.30,2,    0.00,2,    2.89,2,-999.000,9,-999.000,9,-999.0000,9,  2297.5,2,  2345.2,2,   -999.0,9,  -999.00,   7.4663,2,    25.00,-999.000,9,-999.0000,9, -999.00,9, -999.00,9,  -999.0,9,-999.000,9,-999.000,-999.000,9,-999.000,9,   37.04,2,   42.80,2, -999.00,9, -999.00,9, -999.00,9,-999.000,-999.0000,9,-999.0000,9,-999.0000,9,-999.0000,9,-999.0000,9,-999.0000,9,-999.0000,9,-999.0000,9,-999.0000,9,   3.7798,     -999.0,9,     -999.0,9,     -999.0,9,     -999.0,9,     -999.0,9,     -999.0,9,     -999.0,9,-999.0000, -999.00
33RO20071215,        P18,      83,          1,         15,      12014,2,20080112,       0259,   -19.3323,  -103.0007,       4078,  1233.6,   3.5379,  34.5511,2,  34.5505,2,     94.1,2,    94.2,2,   91.80,2,   40.90,2,    0.00,2,    2.87,2,-999.000,9,-999.000,9,-999.0000,9,  -999.0,9,  -999.0,9,   -999.0,9,  -999.00,-999.0000,9,  -999.00,-999.000,9,-999.0000,9, -999.00,9, -999.00,9,  -999.0,9,-999.000,9,-999.000,-999.000,9,-999.000,9,   36.51,2,   42.67,2, -999.00,9, -999.00,9, -999.00,9,-999.000,-999.0000,9,-999.0000,9,-999.0000,9,-999.0000,9,-999.0000,9,-999.0000,9,-999.0000,9,-999.0000,9,-999.0000,9,   3.4466,     -999.0,9,     -999.0,9,     -999.0,9,     -999.0,9,     -999.0,9,     -999.0,9,     -999.0,9,-999.0000, -999.00
33RO20071215,        P18,      83,          1,         14,      12013,2,20080112,       0259,   -19.3323,  -103.0007,       4078,  1334.4,   3.2736,  34.5659,2,  34.5665,2,     98.6,2,    99.4,2,   98.30,2,   40.50,2,    0.00,2,    2.84,2,-999.000,9,-999.000,9,-999.0000,9,  2307.1,2,  -999.0,9,   -999.0,9,  -999.00,   7.4778,2,    25.00,-999.000,9,-999.0000,9, -999.00,9, -999.00,9,  -999.0,9,-999.000,9,-999.000,-999.000,9,-999.000,9,   36.02,2,   42.24,2, -999.00,9, -999.00,9, -999.00,9,-999.000,-999.0000,9,-999.0000,9,-999.0000,9,-999.0000,9,-999.0000,9,-999.0000,9,-999.0000,9,-999.0000,9,-999.0000,9,   3.1766,     -999.0,9,     -999.0,9,     -999.0,9,     -999.0,9,     -999.0,9,     -999.0,9,     -999.0,9,-999.0000, -999.00
33RO20071215,        P18,      83,          1,         13,      12012,2,20080112,       0259,   -19.3323,  -103.0007,       4078,  1467.6,   3.0208,  34.5830,2,  34.5829,2,    102.0,2,   102.0,2,  105.60,2,   40.30,2,    0.00,2,    2.82,2,-999.000,9,-999.000,9,-999.0000,9,  -999.0,9,  -999.0,9,   -999.0,9,  -999.00,-999.0000,9,  -999.00,-999.000,9,-999.0000,9, -999.00,9, -999.00,9,  -999.0,9,-999.000,9,-999.000,-999.000,9,-999.000,9,   36.20,2,   41.82,2, -999.00,9, -999.00,9, -999.00,9,-999.000,-999.0000,9,-999.0000,9,-999.0000,9,-999.0000,9,-999.0000,9,-999.0000,9,-999.0000,9,-999.0000,9,-999.0000,9,   2.9154,     -999.0,9,     -999.0,9,     -999.0,9,     -999.0,9,     -999.0,9,     -999.0,9,     -999.0,9,-999.0000, -999.00
33RO20071215,        P18,      83,          1,         12,      12031,2,20080112,       0259,   -19.3323,  -103.0007,       4078,  1666.3,   2.6527,  34.6093,2,  34.6108,2,    108.0,2,   109.3,2,  116.00,2,   39.60,2,    0.00,2,    2.76,2,-999.000,9,-999.000,9,-999.0000,9,  2319.7,2,  2380.4,2,   -999.0,9,  -999.00,   7.4717,2,    25.00,-999.000,9,-999.0000,9, -999.00,9, -999.00,9,  -999.0,9,-999.000,9,-999.000,-999.000,9,-999.000,9,   36.44,2,   41.30,2, -999.00,9, -999.00,9, -999.00,9,-999.000,-999.0000,9,-999.0000,9,-999.0000,9,-999.0000,9,-999.0000,9,-999.0000,9,-999.0000,9,-999.0000,9,-999.0000,9,   2.5351,     -999.0,9,     -999.0,9,     -999.0,9,     -999.0,9,     -999.0,9,     -999.0,9,     -999.0,9,-999.0000, -999.00