BOTTLE,20220818CCHSIOAMB
EXPOCODE,SECT_ID,STNNBR,CASTNO,SAMPNO,BTLNBR,BTLNBR_FLAG_W,DATE,TIME,LATITUDE,LONGITUDE,DEPTH,CTDPRS,CTDTMP,CTDSAL,CTDSAL_FLAG_W,SALNTY,SALNTY_FLAG_W,CTDOXY,CTDOXY_FLAG_W,OXYGEN,OXYGEN_FLAG_W,SILCAT,SILCAT_FLAG_W,NITRAT,NITRAT_FLAG_W,NITRIT,NITRIT_FLAG_W,PHSPHT,PHSPHT_FLAG_W,CFC-11,CFC-11_FLAG_W,CFC-12,CFC-12_FLAG_W,SF6,SF6_FLAG_W,TCARBN,TCARBN_FLAG_W,ALKALI,ALKALI_FLAG_W,FCO2,FCO2_FLAG_W,FCO2TMP,PH_SWS,PH_SWS_FLAG_W,PH_TMP,TRITUM,TRITUM_FLAG_W,HELIUM,HELIUM_FLAG_W,DELHE3,DELHE3_FLAG_W,DELC13,DELC13_FLAG_W,DELC14,DELC14_FLAG_W,NEON,NEON_FLAG_W,NEONER,CCL4,CCL4_FLAG_W,POC,POC_FLAG_W,DOC,DOC_FLAG_W,TDN,TDN_FLAG_W,DON,DON_FLAG_W,CHLORA,CHLORA_FLAG_W,ARGON,ARGON_FLAG_W,TRITER,CDOM325,CDOM325_FLAG_W,CDOM340,CDOM340_FLAG_W,CDOM380,CDOM380_FLAG_W,CDOM412,CDOM412_FLAG_W,CDOM443,CDOM443_FLAG_W,CDOM490,CDOM490_FLAG_W,CDOM555,CDOM555_FLAG_W,CDOMSL,CDOMSL_FLAG_W,CDOMSN,CDOMSN_FLAG_W,THETA,D18O_NO3,D18O_NO3_FLAG_W,CDOM2C,CDOM2C_FLAG_W,CDOM3C,CDOM3C_FLAG_W,LAB_DEN,LAB_DEN_FLAG_W,DELSI30,DELSI30_FLAG_W,N2,N2_FLAG_W,D15N_NO3,D15N_NO3_FLAG_W,HELIER,DELHER
,,,,,,,,,,,METERS,DBAR,ITS-90,PSS-78,,PSS-78,,UMOL/KG,,UMOL/KG,,UMOL/KG,,UMOL/KG,,UMOL/KG,,UMOL/KG,,PMOL/KG,,PMOL/KG,,FMOL/KG,,UMOL/KG,,UMOL/KG,,UATM,,DEG C,,,DEG C,TU,,NMOL/KG,,PERCNT,,/MILLE,,/MILLE,,NMOL/KG,,NMOL/KG,PMOL/KG,,UG/KG,,UMOL/KG,,UMOL/KG,,UMOL/KG,,UG/KG,,UMOL/KG,,TU,1/M,,1/M,,1/M,,1/M,,1/M,,1/M,,1/M,,1/NM,,1/NM,,DEG C,/MILLE,,,,,,,,/MILLE,,UMOL/KG,,/MILLE,,NMOL/KG,PERCNT
33RO20071215,        P18,      23,          1,         36,      12017,2,20071223,       0922,    11.5007,  -110.0000,       3763,     4.6,  27.2331,  32.8377,2,  32.8384,2,    205.5,2,   203.8,2,    1.00,2,    0.00,2,    0.00,2,    0.04,2,-999.000,9,-999.000,9,-999.0000,9,  1859.0,6,  2165.4,2,    264.6,2,    20.00,   8.0911,2,    25.00,-999.000,9,-999.0000,9, -999.00,9, -999.00,9,  -999.0,9,-999.000,9,-999.000,-999.000,9,-999.000,9, -999.00,9, -999.00,9, -999.00,9, -999.00,9, -999.00,9,-999.000,-999.0000,9,-999.0000,9,-999.0000,9,-999.0000,9,-999.0000,9,-999.0000,9,-999.0000,9,-999.0000,9,-999.0000,9,  27.2320,     -999.0,9,     -999.0,9,     -999.0,9,     -999.0,9,     -999.0,9,     -999.0,9,     -999.0,9,-999.0000, -999.00
33RO20071215,        P18,      23,          1,         35,      12029,2,20071223,       0922,    11.5007,  -110.0000,       3763,    13.7,  27.2433,  32.8391,2,  32.8410,2,    205.8,2,   203.8,2,    1.10,2,    0.10,2,    0.00,2,    0.05,2,-999.000,9,-999.000,9,-999.0000,9,  1858.3,2,  2165.7,2,    264.8,2,    20.00,   8.0938,2,    25.00,-999.000,9,-999.0000,9, -999.00,9, -999.00,9,  -999.0,9,-999.000,9,-999.000,-999.000,9,-999.000,9, -999.00,9, -999.00,9, -999.00,9, -999.00,9, -999.00,9,-999.000,-999.0000,9,-999.0000,9,-999.0000,9,-999.0000,9,-999.0000,9,-999.0000,9,-999.0000,9,-999.0000,9,-999.0000,9,  27.2401,     -999.0,9,     -999.0,9,     -999.0,9,     -999.0,9,     -999.0,9,     -999.0,9,     -999.0,9,-999.0000, -999.00
33RO20071215,        P18,      23,          1,         34,      12049,2,20071223,       0922,    11.5007,  -110.0000,       3763,    26.9,  27.2630,  32.8517,2,  32.8587,2,    206.1,2,   203.5,2,    1.10,2,    0.10,2,    0.01,2,    0.07,2,-999.000,9,-999.000,9,-999.0000,9,  1860.1,2,  2163.8,2,    266.6,2,    20.00,   8.0868,2,    25.00,-999.000,9,-999.0000,9, -999.00,9, -999.00,9,  -999.0,9,-999.000,9,-999.000,-999.000,9,-999.000,9, -999.00,9, -999.00,9, -999.00,9, -999.00,9, -999.00,9,-999.000,-999.0000,9,-999.0000,9,-999.0000,9,-999.0000,9,-999.0000,9,-999.0000,9,-999.0000,9,-999.0000,9,-999.0000,9,  27.2568,     -999.0,9,     -999.0,9,     -999.0,9,     -999.0,9,     -999.0,9,     -999.0,9,     -999.0,9,-999.0000, -999.00
33RO20071215,        P18,      23,          1,         33,      12027,2,20071223,       0922,    11.5007,  -110.0000,       3763,    47.2,  25.5673,  34.2447,2,  34.2662,2,    212.2,2,   206.1,2,    2.10,2,    0.50,2,    0.02,2,    0.17,2,-999.000,9,-999.000,9,-999.0000,9,  1975.9,2,  2258.5,2,    329.0,2,    20.00,   8.0401,2,    25.00,-999.000,9,-999.0000,9, -999.00,9, -999.00,9,  -999.0,9,-999.000,9,-999.000,-999.000,9,-999.000,9, -999.00,9, -999.00,9, -999.00,9, -999.00,9, -999.00,9,-999.000,-999.0000,9,-999.0000,9,-999.0000,9,-999.0000,9,-999.0000,9,-999.0000,9,-999.0000,9,-999.0000,9,-999.0000,9,  25.5569,     -999.0,9,     -999.0,9,     -999.0,9,     -999.0,9,     -999.0,9,     -999.0,9,     -999.0,9,-999.0000, -999.00
33RO20071215,        P18,      23,          1,         32,      12023,2,20071223,       0922,    11.5007,  -110.0000,       3763,    67.8,  19.4447,  34.5394,2,  34.5499,2,     59.6,2,    45.8,2,   13.30,2,   21.70,2,    0.58,2,    1.73,2,-999.000,9,-999.000,9,-999.0000,9,  2168.1,2,  -999.0,9,   -999.0,9,  -999.00,-999.0000,9,  -999.00,-999.000,9,-999.0000,9, -999.00,9, -999.00,9,  -999.0,9,-999.000,9,-999.000,-999.000,9,-999.000,9, -999.00,9, -999.00,9, -999.00,9, -999.00,9, -999.00,9,-999.000,-999.0000,9,-999.0000,9,-999.0000,9,-999.0000,9,-999.0000,9,-999.0000,9,-999.0000,9,-999.0000,9,-999.0000,9,  19.4325,     -999.0,9,     -999.0,9,     -999.0,9,     -999.0,9,     -999.0,9,     -999.0,9,     -999.0,9,-999.0000, -999.00
33RO20071215,        P18,      23,          1,         31,      12037,2,20071223,       0922,    11.5007,  -110.0000,       3763,    86.7,  15.3411,  34.7111,2,  34.7244,2,      7.8,2,     4.9,2,   21.20,2,   28.60,2,    0.19,2,    2.25,2,-999.000,9,-999.000,9,-999.0000,9,  2231.8,2,  2282.9,2,   1444.9,2,    20.00,   7.4913,2,    25.00,-999.000,9,-999.0000,9, -999.00,9, -999.00,9,  -999.0,9,-999.000,9,-999.000,-999.000,9,-999.000,9, -999.00,9, -999.00,9, -999.00,9, -999.00,9, -999.00,9,-999.000,-999.0000,9,-999.0000,9,-999.0000,9,-999.0000,9,-999.0000,9,-999.0000,9,-999.0000,9,-999.0000,9,-999.0000,9,  15.3279,     -999.0,9,     -999.0,9,     -999.0,9,     -999.0,9,     -999.0,9,     -999.0,9,     -999.0,9,-999.0000, -999.00
33RO20071215,        P18,      23,          1,         30,      12036,2,20071223,       0922,    11.5007,  -110.0000,       3763,   107.1,  13.4154,  34.7976,2,  34.7881,2,      3.3,2,     2.4,2,   24.70,2,   29.80,2,    0.03,2,    2.31,2,-999.000,9,-999.000,9,-999.0000,9,  2244.9,2,  2289.7,2,   -999.0,9,  -999.00,   7.4597,2,    25.00,-999.000,9,-999.0000,9, -999.00,9, -999.00,9,  -999.0,9,-999.000,9,-999.000,-999.000,9,-999.000,9, -999.00,9, -999.00,9, -999.00,9, -999.00,9, -999.00,9,-999.000,-999.0000,9,-999.0000,9,-999.0000,9,-999.0000,9,-999.0000,9,-999.0000,9,-999.0000,9,-999.0000,9,-999.0000,9,  13.4004,     -999.0,9,     -999.0,9,     -999.0,9,     -999.0,9,     -999.0,9,     -999.0,9,     -999.0,9,-999.0000, -999.00
33RO20071215,        P18,      23,          1,         29,      12044,2,20071223,       0922,    11.5007,  -110.0000,       3763,   132.4,  12.5022,  34.8045,2,  34.8032,2,      4.1,2,     3.6,2,   26.30,2,   32.20,2,    0.01,2,    2.27,2,-999.000,9,-999.000,9,-999.0000,9,  2249.8,2,  -999.0,9,   1558.4,2,    20.00,-999.0000,9,  -999.00,-999.000,9,-999.0000,9, -999.00,9, -999.00,9,  -999.0,9,-999.000,9,-999.000,-999.000,9,-999.000,9, -999.00,9, -999.00,9, -999.00,9, -999.00,9, -999.00,9,-999.000,-999.0000,9,-999.0000,9,-999.0000,9,-999.0000,9,-999.0000,9,-999.0000,9,-999.0000,9,-999.0000,9,-999.0000,9,  12.4845,     -999.0,9,     -999.0,9,     -999.0,9,     -999.0,9,     -999.0,9,     -999.0,9,     -999.0,9,-999.0000, -999.00
33RO20071215,        P18,      23,          1,         28,      12057,2,20071223,       0922,    11.5007,  -110.0000,       3763,   157.8,  12.1267,  34.7882,2,  34.7865,2,      4.3,2,     5.8,2,   27.50,2,   32.20,2,    0.01,2,    2.27,2,-999.000,9,-999.000,9,-999.0000,9,  2251.9,2,  2292.5,2,   -999.0,9,  -999.00,   7.4483,2,    25.00,-999.000,9,-999.0000,9, -999.00,9, -999.00,9,  -999.0,9,-999.000,9,-999.000,-999.000,9,-999.000,9, -999.00,9, -999.00,9, -999.00,9, -999.00,9, -999.00,9,-999.000,-999.0000,9,-999.0000,9,-999.0000,9,-999.0000,9,-999.0000,9,-999.0000,9,-999.0000,9,-999.0000,9,-999.0000,9,  12.1060,     -999.0,9,     -999.0,9,     -999.0,9,     -999.0,9,     -999.0,9,     -999.0,9,     -999.0,9,-999.0000, -999.00
33RO20071215,        P18,      23,          1,         27,      12026,2,20071223,       0922,    11.5007,  -110.0000,       3763,   182.8,  11.8323,  34.7763,2,  34.7741,2,      8.2,2,     7.5,2,   28.20,2,   32.40,2,    0.01,2,    2.30,2,-999.000,9,-999.000,9,-999.0000,9,  2252.1,2,  2283.9,4,   1585.8,2,    20.00,   7.4520,2,    25.00,-999.000,9,-999.0000,9, -999.00,9, -999.00,9,  -999.0,9,-999.000,9,-999.000,-999.000,9,-999.000,9, -999.00,9, -999.00,9, -999.00,9, -999.00,9, -999.00,9,-999.000,-999.0000,9,-999.0000,9,-999.0000,9,-999.0000,9,-999.0000,9,-999.0000,9,-999.0000,9,-999.0000,9,-999.0000,9,  11.8087,     -999.0,9,     -999.0,9,     -999.0,9,     -999.0,9,     -999.0,9,     -999.0,9,     -999.0,9,-999.0000, -999.00
33RO20071215,        P18,      23,          1,         26,      12030,2,20071223,       0922,    11.5007,  -110.0000,       3763,   216.3,  11.3090,  34.7527,2,  34.7521,2,      6.2,2,     6.5,2,   30.00,2,   32.20,2,    0.01,2,    2.35,2,-999.000,9,-999.000,9,-999.0000,9,  2258.8,2,  -999.0,9,   -999.0,9,  -999.00,-999.0000,9,  -999.00,-999.000,9,-999.0000,9, -999.00,9, -999.00,9,  -999.0,9,-999.000,9,-999.000,-999.000,9,-999.000,9, -999.00,9, -999.00,9, -999.00,9, -999.00,9, -999.00,9,-999.000,-999.0000,9,-999.0000,9,-999.0000,9,-999.0000,9,-999.0000,9,-999.0000,9,-999.0000,9,-999.0000,9,-999.0000,9,  11.2819,     -999.0,9,     -999.0,9,     -999.0,9,     -999.0,9,     -999.0,9,     -999.0,9,     -999.0,9,-999.0000, -999.00
33RO20071215,        P18,      23,          1,         25,      12024,2,20071223,       0922,    11.5007,  -110.0000,       3763,   266.4,  10.9032,  34.7313,2,  34.7309,2,      2.8,2,     3.7,2,   32.50,2,   31.10,2,    0.11,2,    2.43,2,-999.000,9,-999.000,9,-999.0000,9,  2268.2,2,  2303.5,2,   1752.0,2,    20.00,   7.4215,2,    25.00,-999.000,9,-999.0000,9, -999.00,9, -999.00,9,  -999.0,9,-999.000,9,-999.000,-999.000,9,-999.000,9, -999.00,9, -999.00,9, -999.00,9, -999.00,9, -999.00,9,-999.000,-999.0000,9,-999.0000,9,-999.0000,9,-999.0000,9,-999.0000,9,-999.0000,9,-999.0000,9,-999.0000,9,-999.0000,9,  10.8705,     -999.0,9,     -999.0,9,     -999.0,9,     -999.0,9,     -999.0,9,     -999.0,9,     -999.0,9,-999.0000, -999.00
33RO20071215,        P18,      23,          1,         24,      12019,2,20071223,       0922,    11.5007,  -110.0000,       3763,   317.2,  10.2822,  34.6985,2,  34.6928,2,      2.4,2,     2.4,2,   37.00,2,   29.50,2,    0.43,2,    2.59,2,-999.000,9,-999.000,9,-999.0000,9,  2280.3,2,  2305.3,2,   -999.0,9,  -999.00,   7.3918,2,    25.00,-999.000,9,-999.0000,9, -999.00,9, -999.00,9,  -999.0,9,-999.000,9,-999.000,-999.000,9,-999.000,9, -999.00,9, -999.00,9, -999.00,9, -999.00,9, -999.00,9,-999.000,-999.0000,9,-999.0000,9,-999.0000,9,-999.0000,9,-999.0000,9,-999.0000,9,-999.0000,9,-999.0000,9,-999.0000,9,  10.2447,     -999.0,9,     -999.0,9,     -999.0,9,     -999.0,9,     -999.0,9,     -999.0,9,     -999.0,9,-999.0000, -999.00
33RO20071215,        P18,      23,          1,         23,      12022,2,20071223,       0922,    11.5007,  -110.0000,       3763,   367.0,   9.6280,  34.6612,2,  34.6594,2,      2.4,2,     1.9,2,   42.00,2,   29.10,2,    0.80,2,    2.68,2,-999.000,9,-999.000,9,-999.0000,9,  2289.6,2,  -999.0,9,   1887.3,2,    20.00,-999.0000,9,  -999.00,-999.000,9,-999.0000,9, -999.00,9, -999.00,9,  -999.0,9,-999.000,9,-999.000,-999.000,9,-999.000,9, -999.00,9, -999.00,9, -999.00,9, -999.00,9, -999.00,9,-999.000,-999.0000,9,-999.0000,9,-999.0000,9,-999.0000,9,-999.0000,9,-999.0000,9,-999.0000,9,-999.0000,9,-999.0000,9,   9.5862,     -999.0,9,     -999.0,9,     -999.0,9,     -999.0,9,     -999.0,9,     -999.0,9,     -999.0,9,-999.0000, -999.00
33RO20071215,        P18,      23,          1,         22,      12015,4,20071223,       0922,    11.5007,  -110.0000,       3763,   433.1,   8.7795,  34.6221,2,-999.0000,9,      2.3,2,  -999.0,9, -999.00,9, -999.00,9, -999.00,9, -999.00,9,-999.000,9,-999.000,9,-999.0000,9,  -999.0,9,  -999.0,9,   -999.0,9,  -999.00,-999.0000,9,  -999.00,-999.000,9,-999.0000,9, -999.00,9, -999.00,9,  -999.0,9,-999.000,9,-999.000,-999.000,9,-999.000,9, -999.00,9, -999.00,9, -999.00,9, -999.00,9, -999.00,9,-999.000,-999.0000,9,-999.0000,9,-999.0000,9,-999.0000,9,-999.0000,9,-999.0000,9,-999.0000,9,-999.0000,9,-999.0000,9,   8.7327,     -999.0,9,     -999.0,9,     -999.0,9,     -999.0,9,     -999.0,9,     -999.0,9,     -999.0,9,-999.0000, -999.00
33RO20071215,        P18,      23,          1,         21,      12020,2,20071223,       0922,    11.5007,  -110.0000,       3763,   533.1,   7.4306,  34.5769,2,  34.5785,2,      2.3,2,     2.0,2,   61.50,2,   36.40,2,    0.12,2,    3.03,2,-999.000,9,-999.000,9,-999.0000,9,  2315.3,2,  2329.8,4,   -999.0,9,  -999.00,   7.3574,2,    25.00,-999.000,9,-999.0000,9, -999.00,9, -999.00,9,  -999.0,9,-999.000,9,-999.000,-999.000,9,-999.000,9, -999.00,9, -999.00,9, -999.00,9, -999.00,9, -999.00,9,-999.000,-999.0000,9,-999.0000,9,-999.0000,9,-999.0000,9,-999.0000,9,-999.0000,9,-999.0000,9,-999.0000,9,-999.0000,9,   7.3781,     -999.0,9,     -999.0,9,     -999.0,9,     -999.0,9,     -999.0,9,     -999.0,9,     -999.0,9,-999.0000, -999.00
33RO20071215,        P18,      23,          1,         20,      12055,2,20071223,       0922,    11.5007,  -110.0000,       3763,   632.7,   6.6893,  34.5655,2,  34.5646,2,      2.3,2,     3.0,2,   67.80,2,   40.30,2,    0.00,2,    3.07,2,-999.000,9,-999.000,9,-999.0000,9,  2322.5,2,  -999.0,9,   -999.0,9,  -999.00,-999.0000,9,  -999.00,-999.000,9,-999.0000,9, -999.00,9, -999.00,9,  -999.0,9,-999.000,9,-999.000,-999.000,9,-999.000,9, -999.00,9, -999.00,9, -999.00,9, -999.00,9, -999.00,9,-999.000,-999.0000,9,-999.0000,9,-999.0000,9,-999.0000,9,-999.0000,9,-999.0000,9,-999.0000,9,-999.0000,9,-999.0000,9,   6.6301,     -999.0,9,     -999.0,9,     -999.0,9,     -999.0,9,     -999.0,9,     -999.0,9,     -999.0,9,-999.0000, -999.00
33RO20071215,        P18,      23,          1,         19,      12018,2,20071223,       0922,    11.5007,  -110.0000,       3763,   732.9,   5.8419,  34.5531,2,  34.5544,2,      4.3,2,     4.4,2,   77.70,2,   43.20,2,    0.00,2,    3.15,2,-999.000,9,-999.000,9,-999.0000,9,  2333.5,2,  -999.0,9,   -999.0,9,  -999.00,-999.0000,9,  -999.00,-999.000,9,-999.0000,9, -999.00,9, -999.00,9,  -999.0,9,-999.000,9,-999.000,-999.000,9,-999.000,9, -999.00,9, -999.00,9, -999.00,9, -999.00,9, -999.00,9,-999.000,-999.0000,9,-999.0000,9,-999.0000,9,-999.0000,9,-999.0000,9,-999.0000,9,-999.0000,9,-999.0000,9,-999.0000,9,   5.7775,     -999.0,9,     -999.0,9,     -999.0,9,     -999.0,9,     -999.0,9,     -999.0,9,     -999.0,9,-999.0000, -999.00
33RO20071215,        P18,      23,          1,         18,      12025,2,20071223,       0922,    11.5007,  -110.0000,       3763,   832.8,   5.2449,  34.5542,2,  34.5548,2,     10.1,2,    10.7,2,   86.00,2,   44.40,2,    0.00,2,    3.19,2,-999.000,9,-999.000,9,-999.0000,9,  2340.7,2,  2352.2,2,   2118.9,2,    20.00,   7.3389,2,    25.00,-999.000,9,-999.0000,9, -999.00,9, -999.00,9,  -999.0,9,-999.000,9,-999.000,-999.000,9,-999.000,9, -999.00,9, -999.00,9, -999.00,9, -999.00,9, -999.00,9,-999.000,-999.0000,9,-999.0000,9,-999.0000,9,-999.0000,9,-999.0000,9,-999.0000,9,-999.0000,9,-999.0000,9,-999.0000,9,   5.1749,     -999.0,9,     -999.0,9,     -999.0,9,     -999.0,9,     -999.0,9,     -999.0,9,     -999.0,9,-999.0000, -999.00
33RO20071215,        P18,      23,          1,         17,      12016,2,20071223,       0922,    11.5007,  -110.0000,       3763,   932.8,   4.7076,  34.5554,2,  34.5555,2,     15.0,2,    15.2,2,   96.50,2,   44.80,2,    0.00,2,    3.20,2,-999.000,9,-999.000,9,-999.0000,9,  2349.1,2,  -999.0,9,   -999.0,9,  -999.00,-999.0000,9,  -999.00,-999.000,9,-999.0000,9, -999.00,9, -999.00,9,  -999.0,9,-999.000,9,-999.000,-999.000,9,-999.000,9, -999.00,9, -999.00,9, -999.00,9, -999.00,9, -999.00,9,-999.000,-999.0000,9,-999.0000,9,-999.0000,9,-999.0000,9,-999.0000,9,-999.0000,9,-999.0000,9,-999.0000,9,-999.0000,9,   4.6323,     -999.0,9,     -999.0,9,     -999.0,9,     -999.0,9,     -999.0,9,     -999.0,9,     -999.0,9,-999.0000, -999.00
33RO20071215,        P18,      23,          1,         16,      12051,2,20071223,       0922,    11.5007,  -110.0000,       3763,  1033.4,   4.3285,  34.5628,2,  34.5624,2,     21.4,2,    21.9,2,  103.90,2,   44.70,2,    0.00,2,    3.19,2,-999.000,9,-999.000,9,-999.0000,9,  2353.3,2,  -999.0,9,   -999.0,9,  -999.00,-999.0000,9,  -999.00,-999.000,9,-999.0000,9, -999.00,9, -999.00,9,  -999.0,9,-999.000,9,-999.000,-999.000,9,-999.000,9, -999.00,9, -999.00,9, -999.00,9, -999.00,9, -999.00,9,-999.000,-999.0000,9,-999.0000,9,-999.0000,9,-999.0000,9,-999.0000,9,-999.0000,9,-999.0000,9,-999.0000,9,-999.0000,9,   4.2473,     -999.0,9,     -999.0,9,     -999.0,9,     -999.0,9,     -999.0,9,     -999.0,9,     -999.0,9,-999.0000, -999.00
33RO20071215,        P18,      23,          1,         15,      12014,2,20071223,       0922,    11.5007,  -110.0000,       3763,  1132.8,   4.0138,  34.5709,2,  34.5720,2,     29.3,2,    29.0,2,  110.00,2,   44.30,2,    0.00,2,    3.15,2,-999.000,9,-999.000,9,-999.0000,9,  2355.5,2,  2376.2,2,   -999.0,9,  -999.00,   7.3660,2,    25.00,-999.000,9,-999.0000,9, -999.00,9, -999.00,9,  -999.0,9,-999.000,9,-999.000,-999.000,9,-999.000,9, -999.00,9, -999.00,9, -999.00,9, -999.00,9, -999.00,9,-999.000,-999.0000,9,-999.0000,9,-999.0000,9,-999.0000,9,-999.0000,9,-999.0000,9,-999.0000,9,-999.0000,9,-999.0000,9,   3.9267,     -999.0,9,     -999.0,9,     -999.0,9,     -999.0,9,     -999.0,9,     -999.0,9,     -999.0,9,-999.0000, -999.00
33RO20071215,        P18,      23,          1,         14,      12013,2,20071223,       0922,    11.5007,  -110.0000,       3763,  1232.9,   3.7253,  34.5795,2,  34.5798,2,     35.1,2,    36.1,2,  115.70,2,   43.90,2,    0.00,2,    3.10,2,-999.000,9,-999.000,9,-999.0000,9,  2359.1,2,  -999.0,9,   -999.0,9,  -999.00,-999.0000,9,  -999.00,-999.000,9,-999.0000,9, -999.00,9, -999.00,9,  -999.0,9,-999.000,9,-999.000,-999.000,9,-999.000,9, -999.00,9, -999.00,9, -999.00,9, -999.00,9, -999.00,9,-999.000,-999.0000,9,-999.0000,9,-999.0000,9,-999.0000,9,-999.0000,9,-999.0000,9,-999.0000,9,-999.0000,9,-999.0000,9,   3.6323,     -999.0,9,     -999.0,9,     -999.0,9,     -999.0,9,     -999.0,9,     -999.0,9,     -999.0,9,-999.0000, -999.00
33RO20071215,        P18,      23,          1,         13,      12012,2,20071223,       0922,    11.5007,  -110.0000,       3763,  1333.8,   3.4578,  34.5895,2,  34.5897,2,     43.1,2,    43.4,2,  121.50,2,   43.30,2,    0.00,2,    3.03,2,-999.000,9,-999.000,9,-999.0000,9,  2360.2,2,  -999.0,9,   1886.6,2,    20.00,-999.0000,9,  -999.00,-999.000,9,-999.0000,9, -999.00,9, -999.00,9,  -999.0,9,-999.000,9,-999.000,-999.000,9,-999.000,9, -999.00,9, -999.00,9, -999.00,9, -999.00,9, -999.00,9,-999.000,-999.0000,9,-999.0000,9,-999.0000,9,-999.0000,9,-999.0000,9,-999.0000,9,-999.0000,9,-999.0000,9,-999.0000,9,   3.3588,     -999.0,9,     -999.0,9,     -999.0,9,     -999.0,9,     -999.0,9,     -999.0,9,     -999.0,9,-999.0000, -999.00
33RO20071215,        P18,      23,          1,         12,      12031,2,20071223,       0922,    11.5007,  -110.0000,       3763,  1431.9,   3.2155,  34.5994,2,  34.5990,2,     53.5,2,    54.7,2,  125.60,2,   42.60,2,    0.00,2,    2.94,2,-999.000,9,-999.000,9,-999.0000,9,  2357.8,2,  2388.8,2,   -999.0,9,  -999.00,   7.4115,2,    25.00,-999.000,9,-999.0000,9, -999.00,9, -999.00,9,  -999.0,9,-999.000,9,-999.000,-999.000,9,-999.000,9, -999.00,9, -999.00,9, -999.00,9, -999.00,9, -999.00,9,-999.000,-999.0000,9,-999.0000,9,-999.0000,9,-999.0000,9,-999.0000,9,-999.0000,9,-999.0000,9,-999.0000,9,-999.0000,9,   3.1109,     -999.0,9,     -999.0,9,     -999.0,9,     -999.0,9,     -999.0,9,     -999.0,9,     -999.0,9,-999.0000, -999.00