BOTTLE,20220818CCHSIOAMB
EXPOCODE,SECT_ID,STNNBR,CASTNO,SAMPNO,BTLNBR,BTLNBR_FLAG_W,DATE,TIME,LATITUDE,LONGITUDE,DEPTH,CTDPRS,CTDTMP,CTDSAL,CTDSAL_FLAG_W,SALNTY,SALNTY_FLAG_W,CTDOXY,CTDOXY_FLAG_W,OXYGEN,OXYGEN_FLAG_W,SILCAT,SILCAT_FLAG_W,NITRAT,NITRAT_FLAG_W,NITRIT,NITRIT_FLAG_W,PHSPHT,PHSPHT_FLAG_W,CFC-11,CFC-11_FLAG_W,CFC-12,CFC-12_FLAG_W,SF6,SF6_FLAG_W,TCARBN,TCARBN_FLAG_W,ALKALI,ALKALI_FLAG_W,FCO2,FCO2_FLAG_W,FCO2TMP,PH_SWS,PH_SWS_FLAG_W,PH_TMP,TRITUM,TRITUM_FLAG_W,HELIUM,HELIUM_FLAG_W,DELHE3,DELHE3_FLAG_W,DELC13,DELC13_FLAG_W,DELC14,DELC14_FLAG_W,NEON,NEON_FLAG_W,NEONER,CCL4,CCL4_FLAG_W,POC,POC_FLAG_W,DOC,DOC_FLAG_W,TDN,TDN_FLAG_W,DON,DON_FLAG_W,CHLORA,CHLORA_FLAG_W,ARGON,ARGON_FLAG_W,TRITER,CDOM325,CDOM325_FLAG_W,CDOM340,CDOM340_FLAG_W,CDOM380,CDOM380_FLAG_W,CDOM412,CDOM412_FLAG_W,CDOM443,CDOM443_FLAG_W,CDOM490,CDOM490_FLAG_W,CDOM555,CDOM555_FLAG_W,CDOMSL,CDOMSL_FLAG_W,CDOMSN,CDOMSN_FLAG_W,THETA,D18O_NO3,D18O_NO3_FLAG_W,CDOM2C,CDOM2C_FLAG_W,CDOM3C,CDOM3C_FLAG_W,LAB_DEN,LAB_DEN_FLAG_W,DELSI30,DELSI30_FLAG_W,N2,N2_FLAG_W,D15N_NO3,D15N_NO3_FLAG_W,HELIER,DELHER
,,,,,,,,,,,METERS,DBAR,ITS-90,PSS-78,,PSS-78,,UMOL/KG,,UMOL/KG,,UMOL/KG,,UMOL/KG,,UMOL/KG,,UMOL/KG,,PMOL/KG,,PMOL/KG,,FMOL/KG,,UMOL/KG,,UMOL/KG,,UATM,,DEG C,,,DEG C,TU,,NMOL/KG,,PERCNT,,/MILLE,,/MILLE,,NMOL/KG,,NMOL/KG,PMOL/KG,,UG/KG,,UMOL/KG,,UMOL/KG,,UMOL/KG,,UG/KG,,UMOL/KG,,TU,1/M,,1/M,,1/M,,1/M,,1/M,,1/M,,1/M,,1/NM,,1/NM,,DEG C,/MILLE,,,,,,,,/MILLE,,UMOL/KG,,/MILLE,,NMOL/KG,PERCNT
33RO20071215,        P18,      54,          1,         11,      12003,2,20080101,       2155,    -4.4972,  -110.0010,       3576,  1500.2,   3.1206,  34.5995,2,  34.6005,2,     96.4,2,    96.6,2,  117.20,2,   39.70,2,    0.00,2,    2.84,2,-999.000,9,-999.000,9,-999.0000,9,  -999.0,9,  -999.0,9,   -999.0,9,  -999.00,-999.0000,9,  -999.00,-999.000,9,-999.0000,9, -999.00,9, -999.00,9,  -999.0,9,-999.000,9,-999.000,-999.000,9,-999.000,9, -999.00,9, -999.00,9, -999.00,9, -999.00,9, -999.00,9,-999.000,   0.1566,2,   0.1084,2,   0.0580,2,   0.0433,2,   0.0284,2,   0.0131,2,   0.0060,2,   0.0138,4,   0.0152,4,   3.0112,     -999.0,9,     -999.0,9,     -999.0,9,     -999.0,9,     -999.0,9,     -999.0,9,     -999.0,9,-999.0000, -999.00
33RO20071215,        P18,      54,          1,         10,      12032,2,20080101,       2155,    -4.4972,  -110.0010,       3576,  1600.6,   2.9060,  34.6103,2,  34.6114,2,     97.0,2,    97.0,2,  123.60,2,   39.90,2,    0.00,2,    2.85,2,-999.000,9,-999.000,9,-999.0000,9,  2327.4,2,  2366.9,4,   -999.0,9,  -999.00,   7.4930,2,    25.00,-999.000,9,-999.0000,9, -999.00,9, -999.00,9,  -999.0,9,-999.000,9,-999.000,-999.000,9,-999.000,9, -999.00,9, -999.00,9, -999.00,9, -999.00,9, -999.00,9,-999.000,   0.1700,2,   0.1195,2,   0.0654,2,   0.0486,2,   0.0324,2,   0.0158,2,   0.0075,2,   0.0132,2,   0.0145,2,   2.7907,     -999.0,9,     -999.0,9,     -999.0,9,     -999.0,9,     -999.0,9,     -999.0,9,     -999.0,9,-999.0000, -999.00
33RO20071215,        P18,      54,          1,          9,      12002,2,20080101,       2155,    -4.4972,  -110.0010,       3576,  1800.1,   2.5650,  34.6277,2,  34.6288,2,    103.4,2,   103.6,2,  132.10,2,   39.50,2,    0.00,2,    2.80,2,-999.000,9,-999.000,9,-999.0000,9,  -999.0,9,  -999.0,9,   -999.0,9,  -999.00,-999.0000,9,  -999.00,-999.000,9,-999.0000,9, -999.00,9, -999.00,9,  -999.0,9,-999.000,9,-999.000,-999.000,9,-999.000,9, -999.00,9, -999.00,9, -999.00,9, -999.00,9, -999.00,9,-999.000,   0.1605,2,   0.1110,2,   0.0586,2,   0.0430,2,   0.0277,2,   0.0125,2,   0.0056,2,   0.0143,2,   0.0157,2,   2.4372,     -999.0,9,     -999.0,9,     -999.0,9,     -999.0,9,     -999.0,9,     -999.0,9,     -999.0,9,-999.0000, -999.00
33RO20071215,        P18,      54,          1,          8,      12021,2,20080101,       2155,    -4.4972,  -110.0010,       3576,  2000.1,   2.2917,  34.6426,2,  34.6438,2,    110.9,2,   111.0,2,  137.80,2,   39.10,2,    0.00,2,    2.75,2,-999.000,9,-999.000,9,-999.0000,9,  2335.1,2,  -999.0,9,   -999.0,9,  -999.00,   7.5153,2,    25.00,-999.000,9,-999.0000,9, -999.00,9, -999.00,9,  -999.0,9,-999.000,9,-999.000,-999.000,9,-999.000,9, -999.00,9, -999.00,9, -999.00,9, -999.00,9, -999.00,9,-999.000,   0.1547,2,   0.1070,2,   0.0565,2,   0.0407,2,   0.0264,2,   0.0123,2,   0.0055,2,   0.0143,2,   0.0158,2,   2.1508,     -999.0,9,     -999.0,9,     -999.0,9,     -999.0,9,     -999.0,9,     -999.0,9,     -999.0,9,-999.0000, -999.00
33RO20071215,        P18,      54,          1,          7,      12001,2,20080101,       2155,    -4.4972,  -110.0010,       3576,  2199.7,   2.1019,  34.6532,2,  34.6549,2,    117.8,2,   117.9,2,  141.90,2,   38.50,2,    0.00,2,    2.71,2,-999.000,9,-999.000,9,-999.0000,9,  -999.0,9,  -999.0,9,   -999.0,9,  -999.00,-999.0000,9,  -999.00,-999.000,9,-999.0000,9, -999.00,9, -999.00,9,  -999.0,9,-999.000,9,-999.000,-999.000,9,-999.000,9, -999.00,9, -999.00,9, -999.00,9, -999.00,9, -999.00,9,-999.000,   0.1603,2,   0.1122,2,   0.0602,2,   0.0435,2,   0.0288,2,   0.0142,2,   0.0066,2,   0.0136,2,   0.0152,2,   1.9466,     -999.0,9,     -999.0,9,     -999.0,9,     -999.0,9,     -999.0,9,     -999.0,9,     -999.0,9,-999.0000, -999.00
33RO20071215,        P18,      54,          1,          6,      12033,2,20080101,       2155,    -4.4972,  -110.0010,       3576,  2399.1,   1.9560,  34.6623,2,  34.6643,2,    122.8,2,   123.3,2,  144.70,2,   38.20,2,    0.00,2,    2.67,2,-999.000,9,-999.000,9,-999.0000,9,  2335.7,2,  2417.6,2,   -999.0,9,  -999.00,   7.5463,2,    25.00,-999.000,9,-999.0000,9, -999.00,9, -999.00,9,  -999.0,9,-999.000,9,-999.000,-999.000,9,-999.000,9, -999.00,9, -999.00,9, -999.00,9, -999.00,9, -999.00,9,-999.000,   0.1492,2,   0.1022,2,   0.0529,2,   0.0372,2,   0.0237,2,   0.0104,2,   0.0042,2,   0.0149,2,   0.0166,2,   1.7856,     -999.0,9,     -999.0,9,     -999.0,9,     -999.0,9,     -999.0,9,     -999.0,9,     -999.0,9,-999.0000, -999.00
33RO20071215,        P18,      54,          1,          5,      12008,2,20080101,       2155,    -4.4972,  -110.0010,       3576,  2600.1,   1.8302,  34.6714,2,  34.6723,2,    131.5,2,   131.6,2,  145.70,2,   37.70,2,    0.00,2,    2.63,2,-999.000,9,-999.000,9,-999.0000,9,  -999.0,9,  -999.0,9,   -999.0,9,  -999.00,-999.0000,9,  -999.00,-999.000,9,-999.0000,9, -999.00,9, -999.00,9,  -999.0,9,-999.000,9,-999.000,-999.000,9,-999.000,9, -999.00,9, -999.00,9, -999.00,9, -999.00,9, -999.00,9,-999.000,   0.1455,2,   0.0997,2,   0.0514,2,   0.0349,2,   0.0223,2,   0.0098,2,   0.0038,2,   0.0151,2,   0.0169,2,   1.6438,     -999.0,9,     -999.0,9,     -999.0,9,     -999.0,9,     -999.0,9,     -999.0,9,     -999.0,9,-999.0000, -999.00
33RO20071215,        P18,      54,          1,          4,      12009,2,20080101,       2155,    -4.4972,  -110.0010,       3576,  2800.3,   1.7625,  34.6767,2,  34.6784,2,    136.7,2,   136.8,2,  146.30,6,   37.20,6,    0.00,6,    2.59,2,-999.000,9,-999.000,9,-999.0000,9,  2330.5,2,  -999.0,9,   -999.0,9,  -999.00,   7.6008,2,    25.00,-999.000,9,-999.0000,9, -999.00,9, -999.00,9,  -999.0,9,-999.000,9,-999.000,-999.000,9,-999.000,9, -999.00,9, -999.00,9, -999.00,9, -999.00,9, -999.00,9,-999.000,   0.1439,2,   0.0992,2,   0.0522,2,   0.0357,2,   0.0232,2,   0.0111,2,   0.0046,2,   0.0145,2,   0.0163,2,   1.5589,     -999.0,9,     -999.0,9,     -999.0,9,     -999.0,9,     -999.0,9,     -999.0,9,     -999.0,9,-999.0000, -999.00
33RO20071215,        P18,      54,          1,          3,      12006,2,20080101,       2155,    -4.4972,  -110.0010,       3576,  2999.6,   1.6315,  34.6824,2,  34.6831,2,    144.0,2,   144.7,2,  147.10,6,   36.80,6,    0.00,6,    2.55,2,-999.000,9,-999.000,9,-999.0000,9,  -999.0,9,  -999.0,9,   -999.0,9,  -999.00,-999.0000,9,  -999.00,-999.000,9,-999.0000,9, -999.00,9, -999.00,9,  -999.0,9,-999.000,9,-999.000,-999.000,9,-999.000,9, -999.00,9, -999.00,9, -999.00,9, -999.00,9, -999.00,9,-999.000,   0.1481,2,   0.1027,2,   0.0544,2,   0.0380,2,   0.0250,2,   0.0126,2,   0.0056,2,   0.0139,2,   0.0158,2,   1.4118,     -999.0,9,     -999.0,9,     -999.0,9,     -999.0,9,     -999.0,9,     -999.0,9,     -999.0,9,-999.0000, -999.00
33RO20071215,        P18,      54,          1,          2,      12007,2,20080101,       2155,    -4.4972,  -110.0010,       3576,  3250.7,   1.5291,  34.6883,2,  34.6895,2,    152.1,2,   152.5,2,  147.70,6,   36.30,6,    0.00,6,    2.51,2,-999.000,9,-999.000,9,-999.0000,9,  2325.0,2,  2426.4,2,   -999.0,9,  -999.00,   7.5947,2,    25.00,-999.000,9,-999.0000,9, -999.00,9, -999.00,9,  -999.0,9,-999.000,9,-999.000,-999.000,9,-999.000,9, -999.00,9, -999.00,9, -999.00,9, -999.00,9, -999.00,9,-999.000,   0.1342,2,   0.0906,2,   0.0451,2,   0.0298,2,   0.0184,2,   0.0076,2,   0.0025,2,   0.0159,2,   0.0181,2,   1.2872,     -999.0,9,     -999.0,9,     -999.0,9,     -999.0,9,     -999.0,9,     -999.0,9,     -999.0,9,-999.0000, -999.00
33RO20071215,        P18,      54,          1,          1,      12035,2,20080101,       2155,    -4.4972,  -110.0010,       3576,  3598.4,   1.5148,  34.6904,2,  34.6916,2,    155.0,2,   154.9,2,  147.90,2,   36.10,2,    0.00,2,    2.49,2,-999.000,9,-999.000,9,-999.0000,9,  2325.0,6,  2427.8,2,   -999.0,9,  -999.00,   7.6181,2,    25.00,-999.000,9,-999.0000,9, -999.00,9, -999.00,9,  -999.0,9,-999.000,9,-999.000,-999.000,9,-999.000,9, -999.00,9, -999.00,9, -999.00,9, -999.00,9, -999.00,9,-999.000,   0.1502,2,   0.1048,2,   0.0561,2,   0.0388,2,   0.0256,2,   0.0125,2,   0.0053,2,   0.0141,2,   0.0157,2,   1.2381,     -999.0,9,     -999.0,9,     -999.0,9,     -999.0,9,     -999.0,9,     -999.0,9,     -999.0,9,-999.0000, -999.00