BOTTLE,20220818CCHSIOAMB
EXPOCODE,SECT_ID,STNNBR,CASTNO,SAMPNO,BTLNBR,BTLNBR_FLAG_W,DATE,TIME,LATITUDE,LONGITUDE,DEPTH,CTDPRS,CTDTMP,CTDSAL,CTDSAL_FLAG_W,SALNTY,SALNTY_FLAG_W,CTDOXY,CTDOXY_FLAG_W,OXYGEN,OXYGEN_FLAG_W,SILCAT,SILCAT_FLAG_W,NITRAT,NITRAT_FLAG_W,NITRIT,NITRIT_FLAG_W,PHSPHT,PHSPHT_FLAG_W,CFC-11,CFC-11_FLAG_W,CFC-12,CFC-12_FLAG_W,SF6,SF6_FLAG_W,TCARBN,TCARBN_FLAG_W,ALKALI,ALKALI_FLAG_W,FCO2,FCO2_FLAG_W,FCO2TMP,PH_SWS,PH_SWS_FLAG_W,PH_TMP,TRITUM,TRITUM_FLAG_W,HELIUM,HELIUM_FLAG_W,DELHE3,DELHE3_FLAG_W,DELC13,DELC13_FLAG_W,DELC14,DELC14_FLAG_W,NEON,NEON_FLAG_W,NEONER,CCL4,CCL4_FLAG_W,POC,POC_FLAG_W,DOC,DOC_FLAG_W,TDN,TDN_FLAG_W,DON,DON_FLAG_W,CHLORA,CHLORA_FLAG_W,ARGON,ARGON_FLAG_W,TRITER,CDOM325,CDOM325_FLAG_W,CDOM340,CDOM340_FLAG_W,CDOM380,CDOM380_FLAG_W,CDOM412,CDOM412_FLAG_W,CDOM443,CDOM443_FLAG_W,CDOM490,CDOM490_FLAG_W,CDOM555,CDOM555_FLAG_W,CDOMSL,CDOMSL_FLAG_W,CDOMSN,CDOMSN_FLAG_W,THETA,D18O_NO3,D18O_NO3_FLAG_W,CDOM2C,CDOM2C_FLAG_W,CDOM3C,CDOM3C_FLAG_W,LAB_DEN,LAB_DEN_FLAG_W,DELSI30,DELSI30_FLAG_W,N2,N2_FLAG_W,D15N_NO3,D15N_NO3_FLAG_W,HELIER,DELHER
,,,,,,,,,,,METERS,DBAR,ITS-90,PSS-78,,PSS-78,,UMOL/KG,,UMOL/KG,,UMOL/KG,,UMOL/KG,,UMOL/KG,,UMOL/KG,,PMOL/KG,,PMOL/KG,,FMOL/KG,,UMOL/KG,,UMOL/KG,,UATM,,DEG C,,,DEG C,TU,,NMOL/KG,,PERCNT,,/MILLE,,/MILLE,,NMOL/KG,,NMOL/KG,PMOL/KG,,UG/KG,,UMOL/KG,,UMOL/KG,,UMOL/KG,,UG/KG,,UMOL/KG,,TU,1/M,,1/M,,1/M,,1/M,,1/M,,1/M,,1/M,,1/NM,,1/NM,,DEG C,/MILLE,,,,,,,,/MILLE,,UMOL/KG,,/MILLE,,NMOL/KG,PERCNT
33RO20071215,        P18,      39,          1,         36,      12017,2,20071227,       1737,     2.4987,  -110.0028,       3750,     5.9,  24.4963,  33.8732,2,  33.8717,2,    210.9,2,   211.5,2,    2.00,2,    1.30,2,    0.03,2,    0.19,2,   1.798,6,   1.127,6,   1.0834,6,  1941.0,6,  2233.6,2,   -999.0,9,  -999.00,   8.0432,2,    25.00,-999.000,9,-999.0000,9, -999.00,9, -999.00,9,  -999.0,9,-999.000,9,-999.000,-999.000,9,-999.000,9, -999.00,9, -999.00,9, -999.00,9,    0.15,2, -999.00,9,-999.000,   0.0966,2,   0.0645,2,   0.0237,2,   0.0165,2,   0.0096,2,   0.0050,2,   0.0012,2,   0.0188,2,   0.0241,2,  24.4951,     -999.0,9,     -999.0,9,     -999.0,9,     -999.0,9,     -999.0,9,     -999.0,9,     -999.0,9,-999.0000, -999.00
33RO20071215,        P18,      39,          1,         35,      12029,2,20071227,       1737,     2.4987,  -110.0028,       3750,     9.4,  24.4878,  33.8727,2,  33.8708,2,    211.0,2,   212.0,2,    2.00,2,    1.30,2,    0.03,2,    0.20,2,   1.789,2,   1.124,2,   1.1320,2,  1940.2,2,  2228.6,2,   -999.0,9,  -999.00,   8.0512,2,    25.00,-999.000,9,-999.0000,9, -999.00,9,    1.13,2,  -999.0,9,-999.000,9,-999.000,-999.000,9,-999.000,9, -999.00,9, -999.00,9, -999.00,9,    0.15,2, -999.00,9,-999.000,   0.0993,2,   0.0676,2,   0.0273,2,   0.0195,2,   0.0121,2,   0.0066,2,   0.0022,2,   0.0164,2,   0.0212,2,  24.4858,     -999.0,9,     -999.0,9,     -999.0,9,     -999.0,9,     -999.0,9,     -999.0,9,     -999.0,9,-999.0000, -999.00
33RO20071215,        P18,      39,          1,         34,      12049,2,20071227,       1737,     2.4987,  -110.0028,       3750,    17.4,  24.4368,  33.8718,2,  33.8697,2,    211.2,2,   203.3,2,    2.10,2,    1.30,2,    0.03,2,    0.20,2,   1.794,2,   1.126,2,   1.0305,2,  1939.8,2,  2234.7,2,   -999.0,9,  -999.00,   8.0489,2,    25.00,-999.000,9,-999.0000,9, -999.00,9, -999.00,9,  -999.0,9,-999.000,9,-999.000,-999.000,9,-999.000,1, -999.00,9, -999.00,9, -999.00,9,    0.14,2, -999.00,9,-999.000,   0.1003,2,   0.0686,2,   0.0299,2,   0.0216,2,   0.0135,2,   0.0072,2,   0.0026,2,   0.0154,2,   0.0194,2,  24.4332,     -999.0,9,     -999.0,9,     -999.0,9,     -999.0,9,     -999.0,9,     -999.0,9,     -999.0,9,-999.0000, -999.00
33RO20071215,        P18,      39,          1,         33,      12027,9,20071227,       1737,     2.4987,  -110.0028,       3750,    35.1,  24.4271,  33.8735,2,-999.0000,9,    211.7,2,  -999.0,9, -999.00,9, -999.00,9, -999.00,9, -999.00,9,-999.000,9,-999.000,9,-999.0000,9,  -999.0,9,  -999.0,9,   -999.0,9,  -999.00,-999.0000,9,  -999.00,-999.000,9,-999.0000,9, -999.00,9, -999.00,9,  -999.0,9,-999.000,9,-999.000,-999.000,9,-999.000,9, -999.00,9, -999.00,9, -999.00,9, -999.00,9, -999.00,9,-999.000,-999.0000,9,-999.0000,9,-999.0000,9,-999.0000,9,-999.0000,9,-999.0000,9,-999.0000,9,-999.0000,9,-999.0000,9,  24.4197,     -999.0,9,     -999.0,9,     -999.0,9,     -999.0,9,     -999.0,9,     -999.0,9,     -999.0,9,-999.0000, -999.00
33RO20071215,        P18,      39,          1,         32,      12023,2,20071227,       1737,     2.4987,  -110.0028,       3750,    51.9,  21.6281,  34.3206,2,  34.3150,2,    190.7,2,   184.4,2,    5.90,2,    8.20,2,    0.21,2,    0.67,2,   1.849,2,   1.129,2,   0.9510,2,  2030.0,2,  2263.2,2,   -999.0,9,  -999.00,   7.9455,2,    25.00,-999.000,9,-999.0000,9, -999.00,9, -999.00,9,  -999.0,9,-999.000,9,-999.000,-999.000,9,-999.000,9, -999.00,9, -999.00,9, -999.00,9,    0.19,2, -999.00,9,-999.000,   0.1330,2,   0.0929,2,   0.0448,2,   0.0324,2,   0.0195,2,   0.0102,2,   0.0043,2,   0.0148,2,   0.0172,2,  21.6180,     -999.0,9,     -999.0,9,     -999.0,9,     -999.0,9,     -999.0,9,     -999.0,9,     -999.0,9,-999.0000, -999.00
33RO20071215,        P18,      39,          1,         31,      12037,2,20071227,       1737,     2.4987,  -110.0028,       3750,    73.3,  17.4233,  34.7908,2,  34.8430,2,    138.4,2,   100.6,2,   14.30,2,   20.10,2,    0.69,2,    1.41,2,   1.650,2,   0.945,2,   0.5351,2,  2154.0,2,  2294.5,2,   -999.0,9,  -999.00,   7.7197,2,    25.00,-999.000,9,-999.0000,9, -999.00,9, -999.00,9,  -999.0,9,-999.000,9,-999.000,-999.000,9,-999.000,9, -999.00,9, -999.00,9, -999.00,9,    0.21,2, -999.00,9,-999.000,   0.1528,2,   0.1089,2,   0.0564,2,   0.0430,2,   0.0242,2,   0.0096,2,   0.0030,2,   0.0153,2,   0.0159,2,  17.4111,     -999.0,9,     -999.0,9,     -999.0,9,     -999.0,9,     -999.0,9,     -999.0,9,     -999.0,9,-999.0000, -999.00
33RO20071215,        P18,      39,          1,         30,      12036,2,20071227,       1737,     2.4987,  -110.0028,       3750,    93.3,  14.1844,  34.9445,2,  34.9423,2,     67.8,2,    65.1,2,   18.10,2,   25.60,2,    0.06,2,    1.69,2,   1.392,2,   0.780,2,   0.3616,2,  2190.9,2,  2302.7,2,   -999.0,9,  -999.00,   7.6272,2,    25.00,-999.000,9,-999.0000,9, -999.00,9, -999.00,9,  -999.0,9,-999.000,9,-999.000,-999.000,9,-999.000,9, -999.00,9, -999.00,9, -999.00,9,    0.07,2, -999.00,9,-999.000,   0.1576,2,   0.1132,2,   0.0624,2,   0.0505,2,   0.0297,2,   0.0130,2,   0.0052,2,   0.0142,2,   0.0143,2,  14.1708,     -999.0,9,     -999.0,9,     -999.0,9,     -999.0,9,     -999.0,9,     -999.0,9,     -999.0,9,-999.0000, -999.00
33RO20071215,        P18,      39,          1,         29,      12044,2,20071227,       1737,     2.4987,  -110.0028,       3750,   117.5,  13.5893,  34.9415,2,  34.9404,2,     49.5,2,    49.0,2,   19.90,2,   28.00,2,    0.01,2,    1.84,2,-999.000,9,-999.000,9,-999.0000,9,  2207.2,2,  2303.0,2,   -999.0,9,  -999.00,   7.5812,2,    25.00,-999.000,9,-999.0000,9, -999.00,9, -999.00,9,  -999.0,9,-999.000,9,-999.000,-999.000,9,-999.000,9, -999.00,9, -999.00,9, -999.00,9,    0.02,2, -999.00,9,-999.000,   0.1561,2,   0.1129,2,   0.0644,2,   0.0521,2,   0.0309,2,   0.0130,2,   0.0049,2,   0.0142,2,   0.0138,2,  13.5727,     -999.0,9,     -999.0,9,     -999.0,9,     -999.0,9,     -999.0,9,     -999.0,9,     -999.0,9,-999.0000, -999.00
33RO20071215,        P18,      39,          1,         28,      12057,2,20071227,       1737,     2.4987,  -110.0028,       3750,   140.3,  13.2939,  34.9325,2,  34.9325,2,     64.9,2,    56.3,2,   20.40,2,   27.40,2,    0.01,2,    1.81,2,   1.198,2,   0.669,2,   0.2964,2,  2205.2,2,  2304.5,2,   -999.0,9,  -999.00,-999.0000,9,  -999.00,-999.000,9,-999.0000,9, -999.00,9, -999.00,9,  -999.0,9,-999.000,9,-999.000,-999.000,9,-999.000,9, -999.00,9, -999.00,9, -999.00,9,    0.00,2, -999.00,9,-999.000,   0.1497,2,   0.1081,2,   0.0618,2,   0.0499,2,   0.0293,2,   0.0116,2,   0.0041,2,   0.0143,2,   0.0139,2,  13.2744,     -999.0,9,     -999.0,9,     -999.0,9,     -999.0,9,     -999.0,9,     -999.0,9,     -999.0,9,-999.0000, -999.00
33RO20071215,        P18,      39,          1,         27,      12026,2,20071227,       1737,     2.4987,  -110.0028,       3750,   166.9,  13.0201,  34.9092,2,  34.9086,2,     40.8,2,    38.6,2,   22.20,2,   29.60,2,    0.01,2,    1.97,2,-999.000,9,-999.000,9,-999.0000,9,  2220.5,2,  2301.0,2,   -999.0,9,  -999.00,   7.5469,2,    25.00,-999.000,9,-999.0000,9, -999.00,9, -999.00,9,  -999.0,9,-999.000,9,-999.000,-999.000,9,-999.000,9, -999.00,9, -999.00,9, -999.00,9,    0.00,2, -999.00,9,-999.000,   0.1660,2,   0.1215,2,   0.0708,2,   0.0572,2,   0.0347,2,   0.0150,2,   0.0061,2,   0.0139,2,   0.0134,2,  12.9971,     -999.0,9,     -999.0,9,     -999.0,9,     -999.0,9,     -999.0,9,     -999.0,9,     -999.0,9,-999.0000, -999.00
33RO20071215,        P18,      39,          1,         26,      12030,2,20071227,       1737,     2.4987,  -110.0028,       3750,   192.1,  12.8006,  34.9034,2,  34.9016,2,     49.2,2,    41.4,2,   22.80,2,   29.60,2,    0.00,2,    1.96,2,   1.016,2,   0.564,2,   0.2107,2,  2220.8,2,  2304.8,2,   -999.0,9,  -999.00,   7.5586,2,    25.00,-999.000,9,-999.0000,9, -999.00,9, -999.00,9,  -999.0,9,-999.000,9,-999.000,-999.000,9,-999.000,9, -999.00,9, -999.00,9, -999.00,9,    0.01,2, -999.00,9,-999.000,   0.1557,2,   0.1128,2,   0.0650,2,   0.0526,2,   0.0312,2,   0.0123,2,   0.0045,2,   0.0143,2,   0.0137,2,  12.7745,     -999.0,9,     -999.0,9,     -999.0,9,     -999.0,9,     -999.0,9,     -999.0,9,     -999.0,9,-999.0000, -999.00
33RO20071215,        P18,      39,          1,         25,      12024,2,20071227,       1737,     2.4987,  -110.0028,       3750,   233.5,  12.2216,  34.8497,2,  34.8459,2,     28.2,2,    20.4,2,   26.00,2,   32.20,2,    0.00,2,    2.15,2,-999.000,9,-999.000,9,-999.0000,9,  2238.3,2,  2300.9,2,   -999.0,9,  -999.00,-999.0000,9,  -999.00,-999.000,9,-999.0000,9, -999.00,9, -999.00,9,  -999.0,9,-999.000,9,-999.000,-999.000,9,-999.000,9, -999.00,9, -999.00,9, -999.00,9,    0.00,2, -999.00,9,-999.000,   0.1712,2,   0.1259,2,   0.0748,2,   0.0604,2,   0.0371,2,   0.0153,2,   0.0057,2,   0.0140,2,   0.0131,2,  12.1907,     -999.0,9,     -999.0,9,     -999.0,9,     -999.0,9,     -999.0,9,     -999.0,9,     -999.0,9,-999.0000, -999.00
33RO20071215,        P18,      39,          1,         24,      12019,2,20071227,       1737,     2.4987,  -110.0028,       3750,   283.1,  11.3482,  34.7890,2,  34.7865,2,     24.5,2,    24.1,2,   28.70,2,   33.00,2,    0.00,2,    2.23,2,   0.657,2,   0.367,2,   0.1403,2,  2243.8,2,  2300.3,2,   -999.0,9,  -999.00,   7.4832,2,    25.00,-999.000,9,-999.0000,9, -999.00,9, -999.00,9,  -999.0,9,-999.000,9,-999.000,-999.000,9,-999.000,9, -999.00,9, -999.00,9, -999.00,9, -999.00,9, -999.00,9,-999.000,   0.1728,2,   0.1265,2,   0.0748,2,   0.0608,2,   0.0369,2,   0.0147,2,   0.0053,2,   0.0142,2,   0.0133,2,  11.3125,     -999.0,9,     -999.0,9,     -999.0,9,     -999.0,9,     -999.0,9,     -999.0,9,     -999.0,9,-999.0000, -999.00
33RO20071215,        P18,      39,          1,         23,      12022,2,20071227,       1737,     2.4987,  -110.0028,       3750,   333.4,  10.4990,  34.7345,2,  34.7319,2,     31.3,2,    31.8,2,   31.20,2,   33.40,2,    0.00,2,    2.25,2,-999.000,9,-999.000,9,-999.0000,9,  2245.7,2,  2299.2,2,   -999.0,9,  -999.00,-999.0000,9,  -999.00,-999.000,9,-999.0000,9, -999.00,9, -999.00,9,  -999.0,9,-999.000,9,-999.000,-999.000,9,-999.000,9, -999.00,9, -999.00,9, -999.00,9, -999.00,9, -999.00,9,-999.000,   0.1749,2,   0.1284,2,   0.0765,2,   0.0624,2,   0.0383,2,   0.0154,2,   0.0055,2,   0.0141,2,   0.0131,2,  10.4589,     -999.0,9,     -999.0,9,     -999.0,9,     -999.0,9,     -999.0,9,     -999.0,9,     -999.0,9,-999.0000, -999.00
33RO20071215,        P18,      39,          1,         22,      12015,2,20071227,       1737,     2.4987,  -110.0028,       3750,   382.9,   9.6313,  34.6882,2,  34.6872,2,     25.6,2,    25.1,2,   36.00,2,   35.60,2,    0.00,2,    2.46,2,   0.306,2,   0.175,2,   0.0813,2,  2260.1,2,  2298.9,2,   -999.0,9,  -999.00,-999.0000,9,  -999.00,-999.000,9,-999.0000,9, -999.00,9, -999.00,9,  -999.0,9,-999.000,9,-999.000,-999.000,9,-999.000,9, -999.00,9, -999.00,9, -999.00,9, -999.00,9, -999.00,9,-999.000,   0.1874,2,   0.1380,2,   0.0834,2,   0.0685,2,   0.0425,2,   0.0172,2,   0.0063,2,   0.0141,2,   0.0128,2,   9.5876,     -999.0,9,     -999.0,9,     -999.0,9,     -999.0,9,     -999.0,9,     -999.0,9,     -999.0,9,-999.0000, -999.00
33RO20071215,        P18,      39,          1,         21,      12020,2,20071227,       1737,     2.4987,  -110.0028,       3750,   467.5,   8.3832,  34.6315,2,  34.6291,2,     17.3,2,    13.8,2,   44.70,2,   38.70,2,    0.00,2,    2.77,2,-999.000,9,-999.000,9,-999.0000,9,  2281.4,6,  2304.3,2,   -999.0,9,  -999.00,   7.3956,2,    25.00,-999.000,9,-999.0000,9, -999.00,9, -999.00,9,  -999.0,9,-999.000,9,-999.000,-999.000,9,-999.000,1, -999.00,9, -999.00,9, -999.00,9, -999.00,9, -999.00,9,-999.000,   0.2013,2,   0.1507,2,   0.0935,2,   0.0767,2,   0.0495,2,   0.0210,2,   0.0082,2,   0.0136,2,   0.0122,2,   8.3340,     -999.0,9,     -999.0,9,     -999.0,9,     -999.0,9,     -999.0,9,     -999.0,9,     -999.0,9,-999.0000, -999.00
33RO20071215,        P18,      39,          1,         20,      12055,2,20071227,       1737,     2.4987,  -110.0028,       3750,   566.4,   7.2100,  34.5885,2,  34.5875,2,     39.1,2,    39.2,2,   50.50,2,   39.90,2,    0.00,2,    2.79,2,   0.048,2,   0.028,2,   0.0000,2,  2277.5,2,  2316.3,2,   -999.0,9,  -999.00,   7.4239,2,    25.00,-999.000,9,-999.0000,9, -999.00,9, -999.00,9,  -999.0,9,-999.000,9,-999.000,-999.000,9,-999.000,9, -999.00,9, -999.00,9, -999.00,9, -999.00,9, -999.00,9,-999.000,   0.1703,2,   0.1236,2,   0.0738,2,   0.0594,2,   0.0376,2,   0.0151,2,   0.0052,2,   0.0139,2,   0.0131,2,   7.1550,     -999.0,9,     -999.0,9,     -999.0,9,     -999.0,9,     -999.0,9,     -999.0,9,     -999.0,9,-999.0000, -999.00
33RO20071215,        P18,      39,          1,         19,      12018,4,20071227,       1737,     2.4987,  -110.0028,       3750,   667.8,   6.4205,  34.5725,2,  34.8798,4,     28.2,2,    28.8,4,   24.40,3,   31.10,3,    0.00,3,    2.08,3,-999.000,9,-999.000,9,-999.0000,9,  -999.0,9,  -999.0,9,   -999.0,9,  -999.00,-999.0000,9,  -999.00,-999.000,9,-999.0000,9, -999.00,9, -999.00,9,  -999.0,9,-999.000,9,-999.000,-999.000,9,-999.000,9, -999.00,9, -999.00,9, -999.00,9, -999.00,9, -999.00,9,-999.000,   0.1764,2,   0.1294,2,   0.0756,2,   0.0606,2,   0.0372,2,   0.0166,2,   0.0069,2,   0.0138,2,   0.0133,2,   6.3591,     -999.0,9,     -999.0,9,     -999.0,9,     -999.0,9,     -999.0,9,     -999.0,9,     -999.0,9,-999.0000, -999.00
33RO20071215,        P18,      39,          1,         18,      12025,2,20071227,       1737,     2.4987,  -110.0028,       3750,   765.8,   5.8639,  34.5601,2,  34.5593,2,     39.7,2,    47.0,2,   66.80,2,   41.50,2,    0.00,2,    2.91,2,-999.000,9,-999.000,9,-999.0000,9,  2293.7,2,  2332.0,2,   -999.0,9,  -999.00,-999.0000,9,  -999.00,-999.000,9,-999.0000,9, -999.00,9, -999.00,9,  -999.0,9,-999.000,9,-999.000,-999.000,9,-999.000,9, -999.00,9, -999.00,9, -999.00,9, -999.00,9, -999.00,9,-999.000,   0.1865,2,   0.1368,2,   0.0828,2,   0.0658,2,   0.0434,2,   0.0192,2,   0.0075,2,   0.0134,2,   0.0127,2,   5.7963,     -999.0,9,     -999.0,9,     -999.0,9,     -999.0,9,     -999.0,9,     -999.0,9,     -999.0,9,-999.0000, -999.00
33RO20071215,        P18,      39,          1,         17,      12016,2,20071227,       1737,     2.4987,  -110.0028,       3750,   865.9,   5.3306,  34.5562,2,  34.5554,2,     45.8,2,    52.8,2,   75.10,2,   41.60,2,    0.00,2,    2.93,2,-999.000,9,-999.000,9,-999.0000,9,  -999.0,9,  -999.0,9,   -999.0,9,  -999.00,-999.0000,9,  -999.00,-999.000,9,-999.0000,9, -999.00,9, -999.00,9,  -999.0,9,-999.000,9,-999.000,-999.000,9,-999.000,9, -999.00,9, -999.00,9, -999.00,9, -999.00,9, -999.00,9,-999.000,   0.1779,2,   0.1289,2,   0.0763,2,   0.0600,2,   0.0389,2,   0.0162,2,   0.0058,2,   0.0139,2,   0.0133,2,   5.2571,     -999.0,9,     -999.0,9,     -999.0,9,     -999.0,9,     -999.0,9,     -999.0,9,     -999.0,9,-999.0000, -999.00
33RO20071215,        P18,      39,          1,         16,      12051,2,20071227,       1737,     2.4987,  -110.0028,       3750,   966.7,   4.7648,  34.5593,2,  34.5591,2,     54.1,2,    66.0,2,   84.30,2,   40.90,2,    0.00,2,    2.89,2,-999.000,9,-999.000,9,-999.0000,9,  2304.5,2,  2352.3,2,   -999.0,9,  -999.00,   7.4449,2,    25.00,-999.000,9,-999.0000,9, -999.00,9, -999.00,9,  -999.0,9,-999.000,9,-999.000,-999.000,9,-999.000,9, -999.00,9, -999.00,9, -999.00,9, -999.00,9, -999.00,9,-999.000,   0.1676,2,   0.1197,2,   0.0695,2,   0.0540,2,   0.0342,2,   0.0132,2,   0.0040,2,   0.0142,2,   0.0139,2,   4.6861,     -999.0,9,     -999.0,9,     -999.0,9,     -999.0,9,     -999.0,9,     -999.0,9,     -999.0,9,-999.0000, -999.00
33RO20071215,        P18,      39,          1,         15,      12014,2,20071227,       1737,     2.4987,  -110.0028,       3750,  1067.8,   4.4780,  34.5634,2,  34.5632,2,     61.3,2,    69.7,2,   90.20,2,   40.70,2,    0.00,2,    2.86,2,-999.000,9,-999.000,9,-999.0000,9,  -999.0,9,  -999.0,9,   -999.0,9,  -999.00,-999.0000,9,  -999.00,-999.000,9,-999.0000,9, -999.00,9, -999.00,9,  -999.0,9,-999.000,9,-999.000,-999.000,9,-999.000,1, -999.00,9, -999.00,9, -999.00,9, -999.00,9, -999.00,9,-999.000,   0.1716,2,   0.1234,2,   0.0725,2,   0.0558,2,   0.0354,2,   0.0137,2,   0.0041,2,   0.0143,2,   0.0137,2,   4.3927,     -999.0,9,     -999.0,9,     -999.0,9,     -999.0,9,     -999.0,9,     -999.0,9,     -999.0,9,-999.0000, -999.00
33RO20071215,        P18,      39,          1,         14,      12013,2,20071227,       1737,     2.4987,  -110.0028,       3750,  1167.0,   4.1840,  34.5714,2,  34.5722,2,     62.9,4,    70.4,2,   96.50,2,   40.80,2,    0.00,2,    2.89,2,-999.000,9,-999.000,9,-999.0000,9,  2316.6,2,  2365.0,2,   -999.0,9,  -999.00,-999.0000,9,  -999.00,-999.000,9,-999.0000,9, -999.00,9, -999.00,9,  -999.0,9,-999.000,9,-999.000,-999.000,9,-999.000,9, -999.00,9, -999.00,9, -999.00,9, -999.00,9, -999.00,9,-999.000,   0.1679,2,   0.1200,2,   0.0695,2,   0.0533,2,   0.0332,2,   0.0121,2,   0.0032,2,   0.0146,2,   0.0141,2,   4.0925,     -999.0,9,     -999.0,9,     -999.0,9,     -999.0,9,     -999.0,9,     -999.0,9,     -999.0,9,-999.0000, -999.00
33RO20071215,        P18,      39,          1,         13,      12012,2,20071227,       1737,     2.4987,  -110.0028,       3750,  1266.8,   3.8503,  34.5843,2,  34.5855,2,     62.0,4,    70.2,2,  106.30,2,   41.00,2,    0.00,2,    2.89,2,-999.000,9,-999.000,9,-999.0000,9,  -999.0,9,  -999.0,9,   -999.0,9,  -999.00,-999.0000,9,  -999.00,-999.000,9,-999.0000,9, -999.00,9, -999.00,9,  -999.0,9,-999.000,9,-999.000,-999.000,9,-999.000,9, -999.00,9, -999.00,9, -999.00,9, -999.00,9, -999.00,9,-999.000,   0.1895,2,   0.1386,2,   0.0826,2,   0.0637,2,   0.0416,2,   0.0176,2,   0.0064,2,   0.0139,2,   0.0132,2,   3.7532,     -999.0,9,     -999.0,9,     -999.0,9,     -999.0,9,     -999.0,9,     -999.0,9,     -999.0,9,-999.0000, -999.00
33RO20071215,        P18,      39,          1,         12,      12031,2,20071227,       1737,     2.4987,  -110.0028,       3750,  1367.3,   3.6405,  34.5909,2,  34.5910,2,     62.5,4,    72.7,2,  111.40,2,   41.00,2,    0.00,2,    2.90,2,-999.000,9,-999.000,9,-999.0000,9,  2331.4,2,  2378.0,2,   -999.0,9,  -999.00,   7.4465,2,    25.00,-999.000,9,-999.0000,9, -999.00,9, -999.00,9,  -999.0,9,-999.000,9,-999.000,-999.000,9,-999.000,9, -999.00,9, -999.00,9, -999.00,9, -999.00,9, -999.00,9,-999.000,   0.1781,2,   0.1289,2,   0.0754,2,   0.0574,2,   0.0364,2,   0.0142,2,   0.0044,2,   0.0145,2,   0.0138,2,   3.5369,     -999.0,9,     -999.0,9,     -999.0,9,     -999.0,9,     -999.0,9,     -999.0,9,     -999.0,9,-999.0000, -999.00