BOTTLE,20220818CCHSIOAMB
EXPOCODE,SECT_ID,STNNBR,CASTNO,SAMPNO,BTLNBR,BTLNBR_FLAG_W,DATE,TIME,LATITUDE,LONGITUDE,DEPTH,CTDPRS,CTDTMP,CTDSAL,CTDSAL_FLAG_W,SALNTY,SALNTY_FLAG_W,CTDOXY,CTDOXY_FLAG_W,OXYGEN,OXYGEN_FLAG_W,SILCAT,SILCAT_FLAG_W,NITRAT,NITRAT_FLAG_W,NITRIT,NITRIT_FLAG_W,PHSPHT,PHSPHT_FLAG_W,CFC-11,CFC-11_FLAG_W,CFC-12,CFC-12_FLAG_W,SF6,SF6_FLAG_W,TCARBN,TCARBN_FLAG_W,ALKALI,ALKALI_FLAG_W,FCO2,FCO2_FLAG_W,FCO2TMP,PH_SWS,PH_SWS_FLAG_W,PH_TMP,TRITUM,TRITUM_FLAG_W,HELIUM,HELIUM_FLAG_W,DELHE3,DELHE3_FLAG_W,DELC13,DELC13_FLAG_W,DELC14,DELC14_FLAG_W,NEON,NEON_FLAG_W,NEONER,CCL4,CCL4_FLAG_W,POC,POC_FLAG_W,DOC,DOC_FLAG_W,TDN,TDN_FLAG_W,DON,DON_FLAG_W,CHLORA,CHLORA_FLAG_W,ARGON,ARGON_FLAG_W,TRITER,CDOM325,CDOM325_FLAG_W,CDOM340,CDOM340_FLAG_W,CDOM380,CDOM380_FLAG_W,CDOM412,CDOM412_FLAG_W,CDOM443,CDOM443_FLAG_W,CDOM490,CDOM490_FLAG_W,CDOM555,CDOM555_FLAG_W,CDOMSL,CDOMSL_FLAG_W,CDOMSN,CDOMSN_FLAG_W,THETA,D18O_NO3,D18O_NO3_FLAG_W,CDOM2C,CDOM2C_FLAG_W,CDOM3C,CDOM3C_FLAG_W,LAB_DEN,LAB_DEN_FLAG_W,DELSI30,DELSI30_FLAG_W,N2,N2_FLAG_W,D15N_NO3,D15N_NO3_FLAG_W,HELIER,DELHER
,,,,,,,,,,,METERS,DBAR,ITS-90,PSS-78,,PSS-78,,UMOL/KG,,UMOL/KG,,UMOL/KG,,UMOL/KG,,UMOL/KG,,UMOL/KG,,PMOL/KG,,PMOL/KG,,FMOL/KG,,UMOL/KG,,UMOL/KG,,UATM,,DEG C,,,DEG C,TU,,NMOL/KG,,PERCNT,,/MILLE,,/MILLE,,NMOL/KG,,NMOL/KG,PMOL/KG,,UG/KG,,UMOL/KG,,UMOL/KG,,UMOL/KG,,UG/KG,,UMOL/KG,,TU,1/M,,1/M,,1/M,,1/M,,1/M,,1/M,,1/M,,1/NM,,1/NM,,DEG C,/MILLE,,,,,,,,/MILLE,,UMOL/KG,,/MILLE,,NMOL/KG,PERCNT
33RO20071215,        P18,      78,          1,         36,      12017,2,20080110,       1130,   -16.4153,  -103.0005,       3543,     4.2,  22.1293,  35.9472,2,  35.9469,2,    221.8,2,   222.7,2,    0.70,2,    0.90,2,    0.02,2,    0.35,2,   2.041,2,   1.263,2,   1.0751,2,  2071.4,6,  2361.3,2,    346.0,2,    20.00,   8.0080,2,    25.00,-999.000,9,-999.0000,9, -999.00,9,    1.47,2,  -999.0,1,-999.000,9,-999.000,-999.000,9,-999.000,9, -999.00,9, -999.00,9, -999.00,9, -999.00,9, -999.00,9,-999.000,-999.0000,9,-999.0000,9,-999.0000,9,-999.0000,9,-999.0000,9,-999.0000,9,-999.0000,9,-999.0000,9,-999.0000,9,  22.1285,     -999.0,9,     -999.0,9,     -999.0,9,     -999.0,9,     -999.0,9,     -999.0,9,     -999.0,9,-999.0000, -999.00
33RO20071215,        P18,      78,          1,         35,      12029,2,20080110,       1130,   -16.4153,  -103.0005,       3543,     9.6,  22.1365,  35.9471,2,  35.9471,2,    221.8,2,   222.5,2,    0.70,2,    0.90,2,    0.02,2,    0.35,2,   2.040,6,   1.258,6,   1.1138,6,  2073.2,2,  2378.1,2,   -999.0,9,  -999.00,   8.0191,2,    25.00,-999.000,9,-999.0000,9, -999.00,9, -999.00,9,  -999.0,9,-999.000,9,-999.000,-999.000,9,-999.000,9, -999.00,9, -999.00,9, -999.00,9, -999.00,9, -999.00,9,-999.000,-999.0000,9,-999.0000,9,-999.0000,9,-999.0000,9,-999.0000,9,-999.0000,9,-999.0000,9,-999.0000,9,-999.0000,9,  22.1346,     -999.0,9,     -999.0,9,     -999.0,9,     -999.0,9,     -999.0,9,     -999.0,9,     -999.0,9,-999.0000, -999.00
33RO20071215,        P18,      78,          1,         34,      12049,2,20080110,       1130,   -16.4153,  -103.0005,       3543,    19.3,  22.1362,  35.9464,2,  35.9451,2,    222.1,2,   222.6,2,    0.60,2,    0.90,2,    0.02,2,    0.36,2,   2.037,2,   1.260,2,   1.0234,2,  2072.5,2,  2379.4,2,    346.8,2,    20.00,   8.0192,2,    25.00,-999.000,9,-999.0000,9, -999.00,9, -999.00,9,  -999.0,9,-999.000,9,-999.000,-999.000,9,-999.000,9, -999.00,9, -999.00,9, -999.00,9, -999.00,9, -999.00,9,-999.000,-999.0000,9,-999.0000,9,-999.0000,9,-999.0000,9,-999.0000,9,-999.0000,9,-999.0000,9,-999.0000,9,-999.0000,9,  22.1323,     -999.0,9,     -999.0,9,     -999.0,9,     -999.0,9,     -999.0,9,     -999.0,9,     -999.0,9,-999.0000, -999.00
33RO20071215,        P18,      78,          1,         33,      12027,2,20080110,       1130,   -16.4153,  -103.0005,       3543,    40.1,  21.9751,  35.9132,2,  35.8836,2,    223.5,2,   224.3,2,    0.80,2,    0.40,2,    0.01,2,    0.34,2,   2.079,2,   1.284,2,   1.1461,2,  2074.3,2,  2375.1,2,   -999.0,9,  -999.00,   8.0180,2,    25.00,-999.000,9,-999.0000,9, -999.00,9, -999.00,9,  -999.0,9,-999.000,9,-999.000,-999.000,9,-999.000,9, -999.00,9, -999.00,9, -999.00,9, -999.00,9, -999.00,9,-999.000,-999.0000,9,-999.0000,9,-999.0000,9,-999.0000,9,-999.0000,9,-999.0000,9,-999.0000,9,-999.0000,9,-999.0000,9,  21.9672,     -999.0,9,     -999.0,9,     -999.0,9,     -999.0,9,     -999.0,9,     -999.0,9,     -999.0,9,-999.0000, -999.00
33RO20071215,        P18,      78,          1,         32,      12023,2,20080110,       1130,   -16.4153,  -103.0005,       3543,    59.5,  21.4314,  35.8993,2,  35.8992,2,    227.3,2,   227.6,2,    0.90,2,    0.30,2,    0.01,2,    0.36,2,   2.111,2,   1.295,2,   1.1591,2,  2075.1,2,  2375.9,2,    353.6,2,    20.00,   8.0063,2,    25.00,-999.000,9,-999.0000,9, -999.00,9, -999.00,9,  -999.0,9,-999.000,9,-999.000,-999.000,9,-999.000,9, -999.00,9, -999.00,9, -999.00,9, -999.00,9, -999.00,9,-999.000,-999.0000,9,-999.0000,9,-999.0000,9,-999.0000,9,-999.0000,9,-999.0000,9,-999.0000,9,-999.0000,9,-999.0000,9,  21.4198,     -999.0,9,     -999.0,9,     -999.0,9,     -999.0,9,     -999.0,9,     -999.0,9,     -999.0,9,-999.0000, -999.00
33RO20071215,        P18,      78,          1,         31,      12037,2,20080110,       1130,   -16.4153,  -103.0005,       3543,    79.3,  20.6563,  35.8419,2,  35.8442,2,    222.4,2,   223.0,2,    0.90,2,    0.60,2,    0.03,2,    0.38,2,   2.159,2,   1.323,2,   1.1484,2,  2082.7,2,  2372.1,2,   -999.0,9,  -999.00,   7.9973,2,    25.00,-999.000,9,-999.0000,9, -999.00,9, -999.00,9,  -999.0,9,-999.000,9,-999.000,-999.000,9,-999.000,9, -999.00,9, -999.00,9, -999.00,9, -999.00,9, -999.00,9,-999.000,-999.0000,9,-999.0000,9,-999.0000,9,-999.0000,9,-999.0000,9,-999.0000,9,-999.0000,9,-999.0000,9,-999.0000,9,  20.6413,     -999.0,9,     -999.0,9,     -999.0,9,     -999.0,9,     -999.0,9,     -999.0,9,     -999.0,9,-999.0000, -999.00
33RO20071215,        P18,      78,          1,         30,      12036,2,20080110,       1130,   -16.4153,  -103.0005,       3543,    99.2,  20.3084,  35.8017,2,  35.8001,2,    217.2,2,   217.1,2,    0.80,2,    0.80,2,    0.22,2,    0.41,2,   2.173,2,   1.330,2,   1.1482,2,  2087.3,2,  2368.3,2,    387.2,2,    20.00,   7.9705,2,    25.00,-999.000,9,-999.0000,9, -999.00,9, -999.00,9,  -999.0,9,-999.000,9,-999.000,-999.000,9,-999.000,9, -999.00,9, -999.00,9, -999.00,9, -999.00,9, -999.00,9,-999.000,-999.0000,9,-999.0000,9,-999.0000,9,-999.0000,9,-999.0000,9,-999.0000,9,-999.0000,9,-999.0000,9,-999.0000,9,  20.2898,     -999.0,9,     -999.0,9,     -999.0,9,     -999.0,9,     -999.0,9,     -999.0,9,     -999.0,9,-999.0000, -999.00
33RO20071215,        P18,      78,          1,         29,      12044,2,20080110,       1130,   -16.4153,  -103.0005,       3543,   124.2,  20.0480,  35.7448,2,  35.7446,2,    214.8,2,   215.1,2,    0.80,2,    0.90,2,    0.86,2,    0.43,2,   2.205,2,   1.352,2,   1.1066,2,  2088.4,2,  2364.6,2,   -999.0,9,  -999.00,   7.9747,2,    25.00,-999.000,9,-999.0000,9, -999.00,9, -999.00,9,  -999.0,9,-999.000,9,-999.000,-999.000,9,-999.000,9, -999.00,9, -999.00,9, -999.00,9, -999.00,9, -999.00,9,-999.000,-999.0000,9,-999.0000,9,-999.0000,9,-999.0000,9,-999.0000,9,-999.0000,9,-999.0000,9,-999.0000,9,-999.0000,9,  20.0249,     -999.0,9,     -999.0,9,     -999.0,9,     -999.0,9,     -999.0,9,     -999.0,9,     -999.0,9,-999.0000, -999.00
33RO20071215,        P18,      78,          1,         28,      12057,2,20080110,       1130,   -16.4153,  -103.0005,       3543,   149.4,  19.9359,  35.7272,2,  35.7300,2,    217.8,2,   226.3,3,    0.80,2,    0.70,2,    0.29,2,    0.40,2,   2.211,2,   1.354,2,   1.0731,2,  2086.2,2,  2363.1,2,    389.6,2,    20.00,   7.9792,2,    25.00,-999.000,9,-999.0000,9, -999.00,9, -999.00,9,  -999.0,9,-999.000,9,-999.000,-999.000,9,-999.000,9, -999.00,9, -999.00,9, -999.00,9, -999.00,9, -999.00,9,-999.000,-999.0000,9,-999.0000,9,-999.0000,9,-999.0000,9,-999.0000,9,-999.0000,9,-999.0000,9,-999.0000,9,-999.0000,9,  19.9083,     -999.0,9,     -999.0,9,     -999.0,9,     -999.0,9,     -999.0,9,     -999.0,9,     -999.0,9,-999.0000, -999.00
33RO20071215,        P18,      78,          1,         27,      12026,2,20080110,       1130,   -16.4153,  -103.0005,       3543,   174.9,  19.6009,  35.6447,2,  35.6451,2,    216.3,2,   216.4,2,    0.90,2,    1.30,2,    0.73,2,    0.46,2,   2.275,2,   1.396,2,   1.0893,2,  2086.7,2,  2357.0,2,   -999.0,9,  -999.00,   7.9459,2,    25.00,-999.000,9,-999.0000,9, -999.00,9, -999.00,9,  -999.0,9,-999.000,9,-999.000,-999.000,9,-999.000,9, -999.00,9, -999.00,9, -999.00,9, -999.00,9, -999.00,9,-999.000,-999.0000,9,-999.0000,9,-999.0000,9,-999.0000,9,-999.0000,9,-999.0000,9,-999.0000,9,-999.0000,9,-999.0000,9,  19.5689,     -999.0,9,     -999.0,9,     -999.0,9,     -999.0,9,     -999.0,9,     -999.0,9,     -999.0,9,-999.0000, -999.00
33RO20071215,        P18,      78,          1,         26,      12030,2,20080110,       1130,   -16.4153,  -103.0005,       3543,   200.1,  15.7961,  34.9744,2,  34.9940,2,    167.4,2,   169.3,2,    3.10,2,   10.60,2,    0.02,2,    1.03,2,   2.548,2,   1.490,2,   1.0829,2,  2122.5,2,  2314.0,2,    595.6,2,    20.00,   7.8250,2,    25.00,-999.000,9,-999.0000,9, -999.00,9, -999.00,9,  -999.0,9,-999.000,9,-999.000,-999.000,9,-999.000,9, -999.00,9, -999.00,9, -999.00,9, -999.00,9, -999.00,9,-999.000,-999.0000,9,-999.0000,9,-999.0000,9,-999.0000,9,-999.0000,9,-999.0000,9,-999.0000,9,-999.0000,9,-999.0000,9,  15.7647,     -999.0,9,     -999.0,9,     -999.0,9,     -999.0,9,     -999.0,9,     -999.0,9,     -999.0,9,-999.0000, -999.00
33RO20071215,        P18,      78,          1,         25,      12024,2,20080110,       1130,   -16.4153,  -103.0005,       3543,   249.4,  12.7667,  34.7834,2,  34.7874,2,      9.7,2,    10.5,2,   24.40,2,   16.40,2,    0.01,2,    2.72,2,   1.266,2,   0.749,2,   0.2857,2,  2265.4,2,  2294.5,2,   -999.0,9,  -999.00,   7.4141,2,    25.00,-999.000,9,-999.0000,9, -999.00,9, -999.00,9,  -999.0,9,-999.000,9,-999.000,-999.000,9,-999.000,9, -999.00,9, -999.00,9, -999.00,9, -999.00,9, -999.00,9,-999.000,-999.0000,9,-999.0000,9,-999.0000,9,-999.0000,9,-999.0000,9,-999.0000,9,-999.0000,9,-999.0000,9,-999.0000,9,  12.7328,     -999.0,9,     -999.0,9,     -999.0,9,     -999.0,9,     -999.0,9,     -999.0,9,     -999.0,9,-999.0000, -999.00
33RO20071215,        P18,      78,          1,         24,      12019,2,20080110,       1130,   -16.4153,  -103.0005,       3543,   300.2,  12.0173,  34.8181,2,  34.8172,2,      4.8,2,     2.7,2,   28.10,2,   20.50,2,    0.02,2,    2.76,2,   0.661,2,   0.391,2,   0.1270,2,  2272.7,6,  2296.9,2,   1794.5,2,    20.00,   7.4019,2,    25.00,-999.000,9,-999.0000,9, -999.00,9, -999.00,9,  -999.0,9,-999.000,9,-999.000,-999.000,9,-999.000,9, -999.00,9, -999.00,9, -999.00,9, -999.00,9, -999.00,9,-999.000,-999.0000,9,-999.0000,9,-999.0000,9,-999.0000,9,-999.0000,9,-999.0000,9,-999.0000,9,-999.0000,9,-999.0000,9,  11.9780,     -999.0,9,     -999.0,9,     -999.0,9,     -999.0,9,     -999.0,9,     -999.0,9,     -999.0,9,-999.0000, -999.00
33RO20071215,        P18,      78,          1,         23,      12022,2,20080110,       1130,   -16.4153,  -103.0005,       3543,   348.8,  10.9590,  34.7349,2,  34.7346,2,      3.9,2,     3.4,2,   27.80,2,   27.90,2,    0.00,2,    2.78,2,   0.513,2,   0.291,2,   0.0521,2,  2273.1,2,  2298.9,2,   -999.0,9,  -999.00,   7.3796,2,    25.00,-999.000,9,-999.0000,9, -999.00,9, -999.00,9,  -999.0,9,-999.000,9,-999.000,-999.000,9,-999.000,9, -999.00,9, -999.00,9, -999.00,9, -999.00,9, -999.00,9,-999.000,-999.0000,9,-999.0000,9,-999.0000,9,-999.0000,9,-999.0000,9,-999.0000,9,-999.0000,9,-999.0000,9,-999.0000,9,  10.9159,     -999.0,9,     -999.0,9,     -999.0,9,     -999.0,9,     -999.0,9,     -999.0,9,     -999.0,9,-999.0000, -999.00
33RO20071215,        P18,      78,          1,         22,      12015,2,20080110,       1130,   -16.4153,  -103.0005,       3543,   399.9,   9.8251,  34.6630,2,  34.6624,2,      9.7,2,     9.3,2,   28.50,2,   33.40,2,    0.00,2,    2.81,2,   0.374,2,   0.208,2,   0.0365,2,  2273.5,2,  -999.0,5,   1926.7,2,    20.00,   7.3703,2,    25.00,-999.000,9,-999.0000,9, -999.00,9, -999.00,9,  -999.0,9,-999.000,9,-999.000,-999.000,9,-999.000,9, -999.00,9, -999.00,9, -999.00,9, -999.00,9, -999.00,9,-999.000,-999.0000,9,-999.0000,9,-999.0000,9,-999.0000,9,-999.0000,9,-999.0000,9,-999.0000,9,-999.0000,9,-999.0000,9,   9.7790,     -999.0,9,     -999.0,9,     -999.0,9,     -999.0,9,     -999.0,9,     -999.0,9,     -999.0,9,-999.0000, -999.00
33RO20071215,        P18,      78,          1,         21,      12020,2,20080110,       1130,   -16.4153,  -103.0005,       3543,   497.3,   8.1509,  34.5926,2,  34.5921,2,     32.4,2,    32.2,2,   32.60,2,   38.80,2,    0.00,2,    2.76,2,   0.096,2,   0.053,2,   0.0196,2,  2265.1,2,  2302.4,2,   -999.0,9,  -999.00,   7.4091,2,    25.00,-999.000,9,-999.0000,9, -999.00,9, -999.00,9,  -999.0,9,-999.000,9,-999.000,-999.000,9,-999.000,9, -999.00,9, -999.00,9, -999.00,9, -999.00,9, -999.00,9,-999.000,-999.0000,9,-999.0000,9,-999.0000,9,-999.0000,9,-999.0000,9,-999.0000,9,-999.0000,9,-999.0000,9,-999.0000,9,   8.0994,     -999.0,9,     -999.0,9,     -999.0,9,     -999.0,9,     -999.0,9,     -999.0,9,     -999.0,9,-999.0000, -999.00
33RO20071215,        P18,      78,          1,         20,      12055,2,20080110,       1130,   -16.4153,  -103.0005,       3543,   599.0,   6.8987,  34.5205,2,  34.5201,2,     45.9,2,    46.3,2,   37.40,2,   40.90,2,    0.00,2,    2.88,2,   0.079,2,   0.044,2,   0.0000,2,  2267.1,2,  2305.3,2,   1757.4,2,    20.00,   7.3976,2,    25.00,-999.000,9,-999.0000,9, -999.00,9, -999.00,9,  -999.0,9,-999.000,9,-999.000,-999.000,9,-999.000,9, -999.00,9, -999.00,9, -999.00,9, -999.00,9, -999.00,9,-999.000,-999.0000,9,-999.0000,9,-999.0000,9,-999.0000,9,-999.0000,9,-999.0000,9,-999.0000,9,-999.0000,9,-999.0000,9,   6.8419,     -999.0,9,     -999.0,9,     -999.0,9,     -999.0,9,     -999.0,9,     -999.0,9,     -999.0,9,-999.0000, -999.00
33RO20071215,        P18,      78,          1,         19,      12018,2,20080110,       1130,   -16.4153,  -103.0005,       3543,   698.1,   6.2492,  34.5081,2,  34.5082,2,     46.8,2,    47.9,2,   44.60,2,   42.30,2,    0.00,2,    2.98,2,   0.021,2,   0.012,2,   0.0228,2,  2275.0,2,  2309.0,2,   -999.0,9,  -999.00,   7.3972,2,    25.00,-999.000,9,-999.0000,9, -999.00,9, -999.00,9,  -999.0,9,-999.000,9,-999.000,-999.000,9,-999.000,9, -999.00,9, -999.00,9, -999.00,9, -999.00,9, -999.00,9,-999.000,-999.0000,9,-999.0000,9,-999.0000,9,-999.0000,9,-999.0000,9,-999.0000,9,-999.0000,9,-999.0000,9,-999.0000,9,   6.1859,     -999.0,9,     -999.0,9,     -999.0,9,     -999.0,9,     -999.0,9,     -999.0,9,     -999.0,9,-999.0000, -999.00
33RO20071215,        P18,      78,          1,         18,      12025,2,20080110,       1130,   -16.4153,  -103.0005,       3543,   799.8,   5.5181,  34.5062,2,  34.5055,2,     48.5,2,    48.9,2,   55.80,2,   43.50,2,    0.00,2,    3.07,2,-999.000,9,-999.000,9,-999.0000,9,  2287.3,2,  2319.7,2,   -999.0,9,  -999.00,   7.4015,2,    25.00,-999.000,9,-999.0000,9, -999.00,9, -999.00,9,  -999.0,9,-999.000,9,-999.000,-999.000,9,-999.000,9, -999.00,9, -999.00,9, -999.00,9, -999.00,9, -999.00,9,-999.000,-999.0000,9,-999.0000,9,-999.0000,9,-999.0000,9,-999.0000,9,-999.0000,9,-999.0000,9,-999.0000,9,-999.0000,9,   5.4494,     -999.0,9,     -999.0,9,     -999.0,9,     -999.0,9,     -999.0,9,     -999.0,9,     -999.0,9,-999.0000, -999.00
33RO20071215,        P18,      78,          1,         17,      12016,2,20080110,       1130,   -16.4153,  -103.0005,       3543,   898.9,   4.9972,  34.5141,2,  34.5135,2,     51.9,2,    51.8,2,   65.70,2,   43.90,2,    0.00,2,    3.11,2,   0.002,2,   0.001,2,   0.0000,2,  2297.9,2,  2331.1,2,   -999.0,9,  -999.00,   7.3963,2,    25.00,-999.000,9,-999.0000,9, -999.00,9, -999.00,9,  -999.0,9,-999.000,9,-999.000,-999.000,9,-999.000,9, -999.00,9, -999.00,9, -999.00,9, -999.00,9, -999.00,9,-999.000,-999.0000,9,-999.0000,9,-999.0000,9,-999.0000,9,-999.0000,9,-999.0000,9,-999.0000,9,-999.0000,9,-999.0000,9,   4.9230,     -999.0,9,     -999.0,9,     -999.0,9,     -999.0,9,     -999.0,9,     -999.0,9,     -999.0,9,-999.0000, -999.00
33RO20071215,        P18,      78,          1,         16,      12051,2,20080110,       1130,   -16.4153,  -103.0005,       3543,   997.7,   4.5787,  34.5235,2,  34.5232,2,     59.0,2,    60.3,2,   74.60,2,   43.30,2,    0.00,2,    3.09,2,-999.000,9,-999.000,9,-999.0000,9,  2304.5,2,  2340.7,2,   1755.1,2,    20.00,   7.4082,2,    25.00,-999.000,9,-999.0000,9, -999.00,9, -999.00,9,  -999.0,9,-999.000,9,-999.000,-999.000,9,-999.000,9, -999.00,9, -999.00,9, -999.00,9, -999.00,9, -999.00,9,-999.000,-999.0000,9,-999.0000,9,-999.0000,9,-999.0000,9,-999.0000,9,-999.0000,9,-999.0000,9,-999.0000,9,-999.0000,9,   4.4988,     -999.0,9,     -999.0,9,     -999.0,9,     -999.0,9,     -999.0,9,     -999.0,9,     -999.0,9,-999.0000, -999.00
33RO20071215,        P18,      78,          1,         15,      12014,2,20080110,       1130,   -16.4153,  -103.0005,       3543,  1099.2,   4.1029,  34.5391,2,  34.5389,2,     69.3,2,    68.9,2,   84.90,2,   42.70,2,    0.00,2,    3.05,2,-999.000,9,-999.000,9,-999.0000,9,  2310.9,2,  2351.7,2,   -999.0,9,  -999.00,   7.4319,2,    25.00,-999.000,9,-999.0000,9, -999.00,9, -999.00,9,  -999.0,9,-999.000,9,-999.000,-999.000,9,-999.000,9, -999.00,9, -999.00,9, -999.00,9, -999.00,9, -999.00,9,-999.000,-999.0000,9,-999.0000,9,-999.0000,9,-999.0000,9,-999.0000,9,-999.0000,9,-999.0000,9,-999.0000,9,-999.0000,9,   4.0180,     -999.0,9,     -999.0,9,     -999.0,9,     -999.0,9,     -999.0,9,     -999.0,9,     -999.0,9,-999.0000, -999.00
33RO20071215,        P18,      78,          1,         14,      12013,2,20080110,       1130,   -16.4153,  -103.0005,       3543,  1199.3,   3.7675,  34.5522,2,  34.5526,2,     76.4,2,    76.0,2,   92.40,2,   42.00,2,    0.00,2,    3.03,2,  -0.001,2,   0.000,2,   0.0000,2,  2315.0,2,  2364.8,2,   1663.2,2,    20.00,   7.4437,2,    25.00,-999.000,9,-999.0000,9, -999.00,9, -999.00,9,  -999.0,9,-999.000,9,-999.000,-999.000,9,-999.000,9, -999.00,9, -999.00,9, -999.00,9, -999.00,9, -999.00,9,-999.000,-999.0000,9,-999.0000,9,-999.0000,9,-999.0000,9,-999.0000,9,-999.0000,9,-999.0000,9,-999.0000,9,-999.0000,9,   3.6770,     -999.0,9,     -999.0,9,     -999.0,9,     -999.0,9,     -999.0,9,     -999.0,9,     -999.0,9,-999.0000, -999.00
33RO20071215,        P18,      78,          1,         13,      12012,2,20080110,       1130,   -16.4153,  -103.0005,       3543,  1297.7,   3.4616,  34.5672,2,  34.5675,2,     82.3,2,    82.4,2,   99.90,2,   41.60,2,    0.00,2,    2.98,2,-999.000,9,-999.000,9,-999.0000,9,  2319.7,2,  2371.1,2,   -999.0,9,  -999.00,   7.4512,2,    25.00,-999.000,9,-999.0000,9, -999.00,9, -999.00,9,  -999.0,9,-999.000,9,-999.000,-999.000,9,-999.000,9, -999.00,9, -999.00,9, -999.00,9, -999.00,9, -999.00,9,-999.000,-999.0000,9,-999.0000,9,-999.0000,9,-999.0000,9,-999.0000,9,-999.0000,9,-999.0000,9,-999.0000,9,-999.0000,9,   3.3657,     -999.0,9,     -999.0,9,     -999.0,9,     -999.0,9,     -999.0,9,     -999.0,9,     -999.0,9,-999.0000, -999.00
33RO20071215,        P18,      78,          1,         12,      12031,2,20080110,       1130,   -16.4153,  -103.0005,       3543,  1399.1,   3.2195,  34.5794,2,  34.5789,2,     88.2,2,    88.3,2,  105.70,2,   41.10,2,    0.00,2,    2.94,2,-999.000,9,-999.000,9,-999.0000,9,  2323.4,2,  2376.5,2,   -999.0,9,  -999.00,   7.4569,2,    25.00,-999.000,9,-999.0000,9, -999.00,9, -999.00,9,  -999.0,9,-999.000,9,-999.000,-999.000,9,-999.000,9, -999.00,9, -999.00,9, -999.00,9, -999.00,9, -999.00,9,-999.000,-999.0000,9,-999.0000,9,-999.0000,9,-999.0000,9,-999.0000,9,-999.0000,9,-999.0000,9,-999.0000,9,-999.0000,9,   3.1176,     -999.0,9,     -999.0,9,     -999.0,9,     -999.0,9,     -999.0,9,     -999.0,9,     -999.0,9,-999.0000, -999.00