BOTTLE,20220818CCHSIOAMB
EXPOCODE,SECT_ID,STNNBR,CASTNO,SAMPNO,BTLNBR,BTLNBR_FLAG_W,DATE,TIME,LATITUDE,LONGITUDE,DEPTH,CTDPRS,CTDTMP,CTDSAL,CTDSAL_FLAG_W,SALNTY,SALNTY_FLAG_W,CTDOXY,CTDOXY_FLAG_W,OXYGEN,OXYGEN_FLAG_W,SILCAT,SILCAT_FLAG_W,NITRAT,NITRAT_FLAG_W,NITRIT,NITRIT_FLAG_W,PHSPHT,PHSPHT_FLAG_W,CFC-11,CFC-11_FLAG_W,CFC-12,CFC-12_FLAG_W,SF6,SF6_FLAG_W,TCARBN,TCARBN_FLAG_W,ALKALI,ALKALI_FLAG_W,FCO2,FCO2_FLAG_W,FCO2TMP,PH_SWS,PH_SWS_FLAG_W,PH_TMP,TRITUM,TRITUM_FLAG_W,HELIUM,HELIUM_FLAG_W,DELHE3,DELHE3_FLAG_W,DELC13,DELC13_FLAG_W,DELC14,DELC14_FLAG_W,NEON,NEON_FLAG_W,NEONER,CCL4,CCL4_FLAG_W,POC,POC_FLAG_W,DOC,DOC_FLAG_W,TDN,TDN_FLAG_W,DON,DON_FLAG_W,CHLORA,CHLORA_FLAG_W,ARGON,ARGON_FLAG_W,TRITER,CDOM325,CDOM325_FLAG_W,CDOM340,CDOM340_FLAG_W,CDOM380,CDOM380_FLAG_W,CDOM412,CDOM412_FLAG_W,CDOM443,CDOM443_FLAG_W,CDOM490,CDOM490_FLAG_W,CDOM555,CDOM555_FLAG_W,CDOMSL,CDOMSL_FLAG_W,CDOMSN,CDOMSN_FLAG_W,THETA,D18O_NO3,D18O_NO3_FLAG_W,CDOM2C,CDOM2C_FLAG_W,CDOM3C,CDOM3C_FLAG_W,LAB_DEN,LAB_DEN_FLAG_W,DELSI30,DELSI30_FLAG_W,N2,N2_FLAG_W,D15N_NO3,D15N_NO3_FLAG_W,HELIER,DELHER
,,,,,,,,,,,METERS,DBAR,ITS-90,PSS-78,,PSS-78,,UMOL/KG,,UMOL/KG,,UMOL/KG,,UMOL/KG,,UMOL/KG,,UMOL/KG,,PMOL/KG,,PMOL/KG,,FMOL/KG,,UMOL/KG,,UMOL/KG,,UATM,,DEG C,,,DEG C,TU,,NMOL/KG,,PERCNT,,/MILLE,,/MILLE,,NMOL/KG,,NMOL/KG,PMOL/KG,,UG/KG,,UMOL/KG,,UMOL/KG,,UMOL/KG,,UG/KG,,UMOL/KG,,TU,1/M,,1/M,,1/M,,1/M,,1/M,,1/M,,1/M,,1/NM,,1/NM,,DEG C,/MILLE,,,,,,,,/MILLE,,UMOL/KG,,/MILLE,,NMOL/KG,PERCNT
33RO20071215,        P18,      21,          1,         24,      11024,2,20071222,       1837,    12.6665,  -110.0002,       4201,     6.1,  27.2250,  33.0546,2,  33.0607,2,    203.8,2,   203.7,2,    1.20,2,    0.10,2,    0.00,2,    0.09,2,   1.661,6,   1.045,6,   1.0161,6,  1872.2,6,  2179.9,2,    269.1,2,    20.00,   8.0869,2,    25.00,-999.000,9,-999.0000,9, -999.00,9, -999.00,9,  -999.0,9,-999.000,9,-999.000,-999.000,9,-999.000,9, -999.00,9, -999.00,9, -999.00,9,    0.15,2, -999.00,9,-999.000,-999.0000,5,-999.0000,5,-999.0000,5,-999.0000,5,-999.0000,5,-999.0000,5,-999.0000,5,-999.0000,5,-999.0000,5,  27.2236,     -999.0,9,     -999.0,9,     -999.0,9,     -999.0,9,     -999.0,9,     -999.0,9,     -999.0,9,-999.0000, -999.00
33RO20071215,        P18,      21,          1,         23,      11023,2,20071222,       1837,    12.6665,  -110.0002,       4201,    20.9,  27.2085,  33.0583,2,  33.2271,2,    204.4,2,   198.2,2,    1.50,2,    0.70,2,    0.02,2,    0.15,2,   1.666,2,   1.042,2,   0.9665,2,  1892.5,2,  2189.6,2,    284.8,2,    20.00,   8.0756,2,    25.00,-999.000,9,-999.0000,9, -999.00,9, -999.00,9,  -999.0,9,-999.000,9,-999.000,-999.000,9,-999.000,9, -999.00,9, -999.00,9, -999.00,9,    0.19,2, -999.00,9,-999.000,   0.0691,2,   0.0478,2,   0.0186,2,   0.0102,2,   0.0042,2,   0.0011,2,  -0.0012,4,   0.0220,2,   0.0236,2,  27.2037,     -999.0,9,     -999.0,9,     -999.0,9,     -999.0,9,     -999.0,9,     -999.0,9,     -999.0,9,-999.0000, -999.00
33RO20071215,        P18,      21,          1,         22,      11022,2,20071222,       1837,    12.6665,  -110.0002,       4201,    42.0,  21.6495,  34.4116,2,  34.4217,2,     90.9,2,    98.5,2,    7.10,2,   12.20,2,    0.50,2,    1.25,2,   1.617,2,   0.977,2,   0.7731,2,  2116.3,2,  2285.6,2,    678.9,2,    20.00,   7.7841,2,    25.00,-999.000,9,-999.0000,9, -999.00,9, -999.00,9,  -999.0,9,-999.000,9,-999.000,-999.000,9,-999.000,9, -999.00,9, -999.00,9, -999.00,9,    0.39,2, -999.00,9,-999.000,   0.2931,2,   0.2155,2,   0.1076,2,   0.0737,2,   0.0415,2,   0.0193,2,   0.0078,2,   0.0159,2,   0.0167,2,  21.6413,     -999.0,9,     -999.0,9,     -999.0,9,     -999.0,9,     -999.0,9,     -999.0,9,     -999.0,9,-999.0000, -999.00
33RO20071215,        P18,      21,          1,         21,      11021,2,20071222,       1837,    12.6665,  -110.0002,       4201,    67.3,  17.6100,  34.5557,2,  34.5626,2,     22.8,2,    23.2,2,   15.80,2,   23.90,2,    0.39,2,    2.05,2,   1.425,2,   0.846,2,   0.5419,2,  2202.3,2,  2288.0,2,   1232.2,2,    20.00,   7.5457,2,    25.00,-999.000,9,-999.0000,9, -999.00,9, -999.00,9,  -999.0,9,-999.000,9,-999.000,-999.000,9,-999.000,9, -999.00,9, -999.00,9, -999.00,9,    0.20,2, -999.00,9,-999.000,   0.2522,2,   0.1884,2,   0.1007,2,   0.0744,2,   0.0415,2,   0.0178,2,   0.0069,2,   0.0158,2,   0.0153,2,  17.5987,     -999.0,9,     -999.0,9,     -999.0,9,     -999.0,9,     -999.0,9,     -999.0,9,     -999.0,9,-999.0000, -999.00
33RO20071215,        P18,      21,          1,         20,      11020,2,20071222,       1837,    12.6665,  -110.0002,       4201,    91.2,  14.9101,  34.7284,2,  34.7485,2,      4.1,2,     4.6,2,   23.20,2,   26.90,2,    0.04,2,    2.35,2,   1.089,2,   0.623,2,   0.3260,2,  2241.3,2,  2300.8,2,   1505.0,6,    20.00,   7.4671,2,    25.00,-999.000,9,-999.0000,9, -999.00,9, -999.00,9,  -999.0,9,-999.000,9,-999.000,-999.000,9,-999.000,9, -999.00,9, -999.00,9, -999.00,9, -999.00,5, -999.00,9,-999.000,   0.2089,2,   0.1585,2,   0.0918,2,   0.0738,2,   0.0414,2,   0.0169,2,   0.0062,2,   0.0150,2,   0.0136,2,  14.8964,     -999.0,9,     -999.0,9,     -999.0,9,     -999.0,9,     -999.0,9,     -999.0,9,     -999.0,9,-999.0000, -999.00
33RO20071215,        P18,      21,          1,         19,      11019,2,20071222,       1837,    12.6665,  -110.0002,       4201,   116.6,  13.0332,  34.7858,2,  34.7953,2,      3.7,2,     2.9,2,   27.20,2,   27.00,2,    1.12,2,    2.41,2,   0.781,2,   0.441,2,   0.1935,2,  2252.6,2,  2307.0,2,   1572.2,2,    20.00,   7.4429,2,    25.00,-999.000,9,-999.0000,9, -999.00,9, -999.00,9,  -999.0,9,-999.000,9,-999.000,-999.000,9,-999.000,9, -999.00,9, -999.00,9, -999.00,9,    0.01,2, -999.00,9,-999.000,   0.1896,2,   0.1462,2,   0.0865,2,   0.0707,2,   0.0389,2,   0.0141,2,   0.0046,2,   0.0154,2,   0.0133,2,  13.0172,     -999.0,9,     -999.0,9,     -999.0,9,     -999.0,9,     -999.0,9,     -999.0,9,     -999.0,9,-999.0000, -999.00
33RO20071215,        P18,      21,          1,         18,      11018,2,20071222,       1837,    12.6665,  -110.0002,       4201,   158.4,  12.1307,  34.7794,2,  34.7824,2,      3.6,2,     3.1,2,   29.00,2,   29.30,2,    0.35,2,    2.43,2,   0.609,6,   0.335,6,   0.1052,6,  2257.8,2,  2308.6,2,   1633.4,2,    20.00,   7.4360,2,    25.00,-999.000,9,-999.0000,9, -999.00,9, -999.00,9,  -999.0,9,-999.000,9,-999.000,-999.000,9,-999.000,9, -999.00,9, -999.00,9, -999.00,9,    0.01,2, -999.00,9,-999.000,   0.1987,2,   0.1527,2,   0.0936,2,   0.0779,2,   0.0457,2,   0.0185,2,   0.0071,2,   0.0144,2,   0.0125,2,  12.1099,     -999.0,9,     -999.0,9,     -999.0,9,     -999.0,9,     -999.0,9,     -999.0,9,     -999.0,9,-999.0000, -999.00
33RO20071215,        P18,      21,          1,         17,      11017,2,20071222,       1837,    12.6665,  -110.0002,       4201,   223.3,  11.2622,  34.7401,2,  34.7408,2,      3.5,2,     3.0,2,   31.50,2,   29.60,2,    1.19,2,    2.49,2,-999.000,9,-999.000,9,-999.0000,9,  2265.5,2,  2308.5,2,   1725.1,2,    20.00,   7.4131,2,    25.00,-999.000,9,-999.0000,9, -999.00,9, -999.00,9,  -999.0,9,-999.000,9,-999.000,-999.000,9,-999.000,9, -999.00,9, -999.00,9, -999.00,9,    0.01,2, -999.00,9,-999.000,   0.1884,2,   0.1452,2,   0.0878,2,   0.0728,2,   0.0416,2,   0.0151,2,   0.0050,2,   0.0149,2,   0.0128,2,  11.2343,     -999.0,9,     -999.0,9,     -999.0,9,     -999.0,9,     -999.0,9,     -999.0,9,     -999.0,9,-999.0000, -999.00
33RO20071215,        P18,      21,          1,         16,      11016,2,20071222,       1837,    12.6665,  -110.0002,       4201,   298.4,  10.4846,  34.7015,2,  34.7014,2,      3.5,2,     2.5,2,   37.60,2,   25.20,2,    1.00,2,    2.64,2,   0.184,2,   0.110,2,   0.0324,2,  2281.8,2,  2318.2,2,   -999.0,9,  -999.00,   7.3944,2,    25.00,-999.000,9,-999.0000,9, -999.00,9, -999.00,9,  -999.0,9,-999.000,9,-999.000,-999.000,9,-999.000,9, -999.00,9, -999.00,9, -999.00,9, -999.00,9, -999.00,9,-999.000,   0.2002,2,   0.1563,2,   0.0969,2,   0.0813,2,   0.0470,2,   0.0174,2,   0.0059,2,   0.0148,2,   0.0124,2,  10.4489,     -999.0,9,     -999.0,9,     -999.0,9,     -999.0,9,     -999.0,9,     -999.0,9,     -999.0,9,-999.0000, -999.00
33RO20071215,        P18,      21,          1,         15,      11015,2,20071222,       1837,    12.6665,  -110.0002,       4201,   376.2,   9.4219,  34.6469,2,  34.6500,2,      3.5,2,     3.7,2,   45.30,2,   27.50,2,    0.71,2,    2.80,2,-999.000,9,-999.000,9,-999.0000,9,  2292.6,2,  2323.5,4,   1909.4,2,    20.00,   7.3762,2,    25.00,-999.000,9,-999.0000,9, -999.00,9, -999.00,9,  -999.0,9,-999.000,9,-999.000,-999.000,9,-999.000,9, -999.00,9, -999.00,9, -999.00,9, -999.00,9, -999.00,9,-999.000,   0.2170,2,   0.1698,2,   0.1074,2,   0.0907,2,   0.0546,2,   0.0219,2,   0.0082,2,   0.0142,2,   0.0119,2,   9.3797,     -999.0,9,     -999.0,9,     -999.0,9,     -999.0,9,     -999.0,9,     -999.0,9,     -999.0,9,-999.0000, -999.00
33RO20071215,        P18,      21,          1,         14,      11014,2,20071222,       1837,    12.6665,  -110.0002,       4201,   466.5,   8.1480,  34.5860,2,  34.5948,2,      3.6,2,     3.3,2,   55.60,2,   32.90,2,    0.24,2,    2.95,2,   0.024,2,   0.014,2,   0.0000,2,  2303.7,2,  2331.6,4,   -999.0,9,  -999.00,   7.3550,2,    25.00,-999.000,9,-999.0000,9, -999.00,9, -999.00,9,  -999.0,9,-999.000,9,-999.000,-999.000,9,-999.000,9, -999.00,9, -999.00,9, -999.00,9, -999.00,9, -999.00,9,-999.000,   0.2291,2,   0.1768,2,   0.1121,2,   0.0944,2,   0.0591,2,   0.0248,2,   0.0098,2,   0.0138,2,   0.0118,2,   8.0998,     -999.0,9,     -999.0,9,     -999.0,9,     -999.0,9,     -999.0,9,     -999.0,9,     -999.0,9,-999.0000, -999.00
33RO20071215,        P18,      21,          1,         13,      11013,2,20071222,       1837,    12.6665,  -110.0002,       4201,   601.0,   6.6867,  34.5342,2,  34.5350,2,      4.7,2,     4.9,2,   69.10,2,   39.50,2,    0.00,2,    3.10,2,-999.000,9,-999.000,9,-999.0000,9,  2318.1,2,  2338.3,4,   -999.0,9,  -999.00,   7.3428,2,    25.00,-999.000,9,-999.0000,9, -999.00,9, -999.00,9,  -999.0,9,-999.000,9,-999.000,-999.000,9,-999.000,9, -999.00,9, -999.00,9, -999.00,9, -999.00,9, -999.00,9,-999.000,   0.2008,2,   0.1517,2,   0.0951,2,   0.0780,2,   0.0496,2,   0.0192,2,   0.0062,2,   0.0142,2,   0.0122,2,   6.6306,     -999.0,9,     -999.0,9,     -999.0,9,     -999.0,9,     -999.0,9,     -999.0,9,     -999.0,9,-999.0000, -999.00
33RO20071215,        P18,      21,          1,         12,      11012,2,20071222,       1837,    12.6665,  -110.0002,       4201,   749.8,   5.6976,  34.5417,2,  34.5423,2,      5.1,2,     6.7,3,   81.40,2,   43.20,2,    0.00,2,    3.21,2,   0.003,2,   0.002,2,   0.0000,2,  2335.4,2,  2355.2,4,   -999.0,9,  -999.00,   7.3324,2,    25.00,-999.000,9,-999.0000,9, -999.00,9, -999.00,9,  -999.0,9,-999.000,9,-999.000,-999.000,9,-999.000,9, -999.00,9, -999.00,9, -999.00,9, -999.00,9, -999.00,9,-999.000,   0.2139,2,   0.1625,2,   0.1021,2,   0.0819,2,   0.0534,2,   0.0221,2,   0.0079,2,   0.0139,2,   0.0122,2,   5.6325,     -999.0,9,     -999.0,9,     -999.0,9,     -999.0,9,     -999.0,9,     -999.0,9,     -999.0,9,-999.0000, -999.00
33RO20071215,        P18,      21,          1,         11,      11010,2,20071222,       1837,    12.6665,  -110.0002,       4201,   901.6,   4.8911,  34.5560,2,  34.5567,2,      9.7,2,     9.7,2,   94.10,2,   45.20,2,    0.00,2,    3.28,2,-999.000,9,-999.000,9,-999.0000,9,  2347.9,2,  -999.0,5,   2157.2,2,    20.00,   7.3319,2,    25.00,-999.000,9,-999.0000,9, -999.00,9, -999.00,9,  -999.0,9,-999.000,9,-999.000,-999.000,9,-999.000,9, -999.00,9, -999.00,9, -999.00,9, -999.00,9, -999.00,9,-999.000,   0.2023,2,   0.1539,2,   0.0969,2,   0.0763,2,   0.0491,2,   0.0192,2,   0.0061,2,   0.0142,2,   0.0124,2,   4.8173,     -999.0,9,     -999.0,9,     -999.0,9,     -999.0,9,     -999.0,9,     -999.0,9,     -999.0,9,-999.0000, -999.00
33RO20071215,        P18,      21,          1,         10,      11011,2,20071222,       1837,    12.6665,  -110.0002,       4201,  1049.6,   4.2723,  34.5669,2,  34.5693,2,     19.7,2,    21.1,2,  105.60,2,   45.10,2,    0.00,2,    3.26,2,   0.002,2,   0.002,2,   0.0000,2,  2353.9,2,  2374.6,4,   -999.0,9,  -999.00,   7.3515,2,    25.00,-999.000,9,-999.0000,9, -999.00,9, -999.00,9,  -999.0,9,-999.000,9,-999.000,-999.000,9,-999.000,9, -999.00,9, -999.00,9, -999.00,9, -999.00,9, -999.00,9,-999.000,   0.2019,2,   0.1539,2,   0.0958,2,   0.0737,2,   0.0476,2,   0.0194,2,   0.0061,2,   0.0142,2,   0.0126,2,   4.1902,     -999.0,9,     -999.0,9,     -999.0,9,     -999.0,9,     -999.0,9,     -999.0,9,     -999.0,9,-999.0000, -999.00
33RO20071215,        P18,      21,          1,          9,      11009,2,20071222,       1837,    12.6665,  -110.0002,       4201,  1233.5,   3.6331,  34.5846,2,  34.5861,2,     41.4,2,    40.7,2,  117.70,2,   43.90,2,    0.00,2,    3.09,2,-999.000,9,-999.000,9,-999.0000,9,  2356.9,2,  2388.5,2,   -999.0,9,  -999.00,   7.3854,2,    25.00,-999.000,9,-999.0000,9, -999.00,9, -999.00,9,  -999.0,9,-999.000,9,-999.000,-999.000,9,-999.000,9, -999.00,9, -999.00,9, -999.00,9, -999.00,9, -999.00,9,-999.000,   0.2089,2,   0.1614,2,   0.1013,2,   0.0771,2,   0.0510,2,   0.0229,2,   0.0083,2,   0.0136,2,   0.0123,2,   3.5409,     -999.0,9,     -999.0,9,     -999.0,9,     -999.0,9,     -999.0,9,     -999.0,9,     -999.0,9,-999.0000, -999.00
33RO20071215,        P18,      21,          1,          8,      11008,2,20071222,       1837,    12.6665,  -110.0002,       4201,  1499.9,   2.9819,  34.6098,2,  34.6114,2,     62.9,2,    63.8,2,  130.80,2,   42.20,2,    0.00,2,    2.95,2,   0.002,2,   0.001,2,   0.0000,2,  2358.9,2,  2412.3,4,   -999.0,9,  -999.00,   7.4302,2,    25.00,-999.000,9,-999.0000,9, -999.00,9, -999.00,9,  -999.0,9,-999.000,9,-999.000,-999.000,9,-999.000,9, -999.00,9, -999.00,9, -999.00,9, -999.00,9, -999.00,9,-999.000,   0.1723,2,   0.1290,2,   0.0767,2,   0.0557,2,   0.0346,2,   0.0128,2,   0.0026,2,   0.0149,2,   0.0138,2,   2.8742,     -999.0,9,     -999.0,9,     -999.0,9,     -999.0,9,     -999.0,9,     -999.0,9,     -999.0,9,-999.0000, -999.00
33RO20071215,        P18,      21,          1,          7,      11007,2,20071222,       1837,    12.6665,  -110.0002,       4201,  1866.5,   2.3665,  34.6373,2,  34.6391,2,     82.7,2,    83.9,2,  145.30,2,   40.70,2,    0.00,2,    2.80,2,-999.000,9,-999.000,9,-999.0000,9,  2361.0,2,  2427.3,4,   1574.1,2,    20.00,   7.4601,2,    25.00,-999.000,9,-999.0000,9, -999.00,9, -999.00,9,  -999.0,9,-999.000,9,-999.000,-999.000,9,-999.000,9, -999.00,9, -999.00,9, -999.00,9, -999.00,9, -999.00,9,-999.000,   0.1841,2,   0.1384,2,   0.0820,2,   0.0596,2,   0.0382,2,   0.0163,2,   0.0052,2,   0.0144,2,   0.0136,2,   2.2359,     -999.0,9,     -999.0,9,     -999.0,9,     -999.0,9,     -999.0,9,     -999.0,9,     -999.0,9,-999.0000, -999.00
33RO20071215,        P18,      21,          1,          6,      11006,2,20071222,       1837,    12.6665,  -110.0002,       4201,  2265.4,   2.0135,  34.6578,2,  34.6590,2,    100.1,2,   101.0,2,  152.80,2,   39.50,2,    0.00,2,    2.69,2,-999.000,9,-999.000,9,-999.0000,9,  2360.5,2,  2436.3,4,   1451.1,2,    20.00,   7.4925,2,    25.00,-999.000,9,-999.0000,9, -999.00,9, -999.00,9,  -999.0,9,-999.000,9,-999.000,-999.000,9,-999.000,9, -999.00,9, -999.00,9, -999.00,9, -999.00,9, -999.00,9,-999.000,   0.1830,2,   0.1369,2,   0.0799,2,   0.0567,2,   0.0366,2,   0.0168,2,   0.0057,2,   0.0142,2,   0.0139,2,   1.8540,     -999.0,9,     -999.0,9,     -999.0,9,     -999.0,9,     -999.0,9,     -999.0,9,     -999.0,9,-999.0000, -999.00
33RO20071215,        P18,      21,          1,          5,      11005,2,20071222,       1837,    12.6665,  -110.0002,       4201,  2667.0,   1.8377,  34.6683,2,  34.6700,2,    111.5,2,   111.3,2,  155.90,2,   38.70,2,    0.00,2,    2.59,2,-999.000,9,-999.000,9,-999.0000,9,  2356.3,2,  2437.9,2,   1371.9,2,    20.00,   7.5163,2,    25.00,-999.000,9,-999.0000,9, -999.00,9, -999.00,9,  -999.0,9,-999.000,9,-999.000,-999.000,9,-999.000,9, -999.00,9, -999.00,9, -999.00,9, -999.00,9, -999.00,9,-999.000,   0.1591,2,   0.1153,2,   0.0636,2,   0.0426,2,   0.0261,2,   0.0103,2,   0.0022,2,   0.0156,2,   0.0157,2,   1.6450,     -999.0,9,     -999.0,9,     -999.0,9,     -999.0,9,     -999.0,9,     -999.0,9,     -999.0,9,-999.0000, -999.00
33RO20071215,        P18,      21,          1,          4,      11004,2,20071222,       1837,    12.6665,  -110.0002,       4201,  3067.6,   1.7251,  34.6741,2,  34.6750,2,    120.0,2,   120.9,2,  157.60,6,   38.30,6,    0.00,6,    2.56,2,-999.000,9,-999.000,9,-999.0000,9,  2351.8,2,  2438.2,2,   -999.0,9,  -999.00,   7.5310,2,    25.00,-999.000,9,-999.0000,9, -999.00,9, -999.00,9,  -999.0,9,-999.000,9,-999.000,-999.000,9,-999.000,9, -999.00,9, -999.00,9, -999.00,9, -999.00,9, -999.00,9,-999.000,   0.1524,2,   0.1089,2,   0.0587,2,   0.0387,2,   0.0232,2,   0.0087,2,   0.0015,2,   0.0159,2,   0.0164,2,   1.4967,     -999.0,9,     -999.0,9,     -999.0,9,     -999.0,9,     -999.0,9,     -999.0,9,     -999.0,9,-999.0000, -999.00
33RO20071215,        P18,      21,          1,          3,      11003,2,20071222,       1837,    12.6665,  -110.0002,       4201,  3464.4,   1.5996,  34.6813,2,  34.6822,2,    132.5,2,   133.7,2,  155.80,6,   37.50,6,    0.00,6,    2.51,2,-999.000,9,-999.000,9,-999.0000,9,  2342.7,2,  2435.8,2,   1262.9,2,    20.00,   7.5498,2,    25.00,-999.000,9,-999.0000,9, -999.00,9, -999.00,9,  -999.0,9,-999.000,9,-999.000,-999.000,9,-999.000,9, -999.00,9, -999.00,9, -999.00,9, -999.00,9, -999.00,9,-999.000,   0.1520,2,   0.1084,2,   0.0589,2,   0.0396,2,   0.0248,2,   0.0106,2,   0.0030,2,   0.0152,2,   0.0159,2,   1.3346,     -999.0,9,     -999.0,9,     -999.0,9,     -999.0,9,     -999.0,9,     -999.0,9,     -999.0,9,-999.0000, -999.00
33RO20071215,        P18,      21,          1,          2,      11002,2,20071222,       1837,    12.6665,  -110.0002,       4201,  3867.8,   1.5650,  34.6846,2,  34.6864,2,    139.4,2,   139.3,2,  155.70,6,   37.20,6,    0.00,6,    2.47,2,-999.000,9,-999.000,9,-999.0000,9,  2338.5,2,  2434.8,2,   -999.0,9,  -999.00,   7.5862,2,    25.00,-999.000,9,-999.0000,9, -999.00,9, -999.00,9,  -999.0,9,-999.000,9,-999.000,-999.000,9,-999.000,9, -999.00,9, -999.00,9, -999.00,9, -999.00,9, -999.00,9,-999.000,   0.1370,2,   0.0948,2,   0.0490,2,   0.0318,2,   0.0191,2,   0.0069,2,   0.0010,2,   0.0163,2,   0.0175,2,   1.2586,     -999.0,9,     -999.0,9,     -999.0,9,     -999.0,9,     -999.0,9,     -999.0,9,     -999.0,9,-999.0000, -999.00
33RO20071215,        P18,      21,          1,          1,      11001,2,20071222,       1837,    12.6665,  -110.0002,       4201,  4283.5,   1.6100,  34.6845,2,  34.6849,2,    144.1,4,   139.0,2,  155.50,2,   37.20,2,    0.00,2,    2.50,2,-999.000,9,-999.000,9,-999.0000,9,  2338.4,6,  2437.0,2,   1227.6,2,    20.00,   7.5677,2,    25.00,-999.000,9,-999.0000,9, -999.00,9, -999.00,9,  -999.0,9,-999.000,9,-999.000,-999.000,9,-999.000,9, -999.00,9, -999.00,9, -999.00,9, -999.00,9, -999.00,9,-999.000,   0.1503,2,   0.1056,2,   0.0563,2,   0.0378,2,   0.0237,2,   0.0098,2,   0.0028,2,   0.0153,2,   0.0164,2,   1.2564,     -999.0,9,     -999.0,9,     -999.0,9,     -999.0,9,     -999.0,9,     -999.0,9,     -999.0,9,-999.0000, -999.00