BOTTLE,20220818CCHSIOAMB
EXPOCODE,SECT_ID,STNNBR,CASTNO,SAMPNO,BTLNBR,BTLNBR_FLAG_W,DATE,TIME,LATITUDE,LONGITUDE,DEPTH,CTDPRS,CTDTMP,CTDSAL,CTDSAL_FLAG_W,SALNTY,SALNTY_FLAG_W,CTDOXY,CTDOXY_FLAG_W,OXYGEN,OXYGEN_FLAG_W,SILCAT,SILCAT_FLAG_W,NITRAT,NITRAT_FLAG_W,NITRIT,NITRIT_FLAG_W,PHSPHT,PHSPHT_FLAG_W,CFC-11,CFC-11_FLAG_W,CFC-12,CFC-12_FLAG_W,SF6,SF6_FLAG_W,TCARBN,TCARBN_FLAG_W,ALKALI,ALKALI_FLAG_W,FCO2,FCO2_FLAG_W,FCO2TMP,PH_SWS,PH_SWS_FLAG_W,PH_TMP,TRITUM,TRITUM_FLAG_W,HELIUM,HELIUM_FLAG_W,DELHE3,DELHE3_FLAG_W,DELC13,DELC13_FLAG_W,DELC14,DELC14_FLAG_W,NEON,NEON_FLAG_W,NEONER,CCL4,CCL4_FLAG_W,POC,POC_FLAG_W,DOC,DOC_FLAG_W,TDN,TDN_FLAG_W,DON,DON_FLAG_W,CHLORA,CHLORA_FLAG_W,ARGON,ARGON_FLAG_W,TRITER,CDOM325,CDOM325_FLAG_W,CDOM340,CDOM340_FLAG_W,CDOM380,CDOM380_FLAG_W,CDOM412,CDOM412_FLAG_W,CDOM443,CDOM443_FLAG_W,CDOM490,CDOM490_FLAG_W,CDOM555,CDOM555_FLAG_W,CDOMSL,CDOMSL_FLAG_W,CDOMSN,CDOMSN_FLAG_W,THETA,D18O_NO3,D18O_NO3_FLAG_W,CDOM2C,CDOM2C_FLAG_W,CDOM3C,CDOM3C_FLAG_W,LAB_DEN,LAB_DEN_FLAG_W,DELSI30,DELSI30_FLAG_W,N2,N2_FLAG_W,D15N_NO3,D15N_NO3_FLAG_W,HELIER,DELHER
,,,,,,,,,,,METERS,DBAR,ITS-90,PSS-78,,PSS-78,,UMOL/KG,,UMOL/KG,,UMOL/KG,,UMOL/KG,,UMOL/KG,,UMOL/KG,,PMOL/KG,,PMOL/KG,,FMOL/KG,,UMOL/KG,,UMOL/KG,,UATM,,DEG C,,,DEG C,TU,,NMOL/KG,,PERCNT,,/MILLE,,/MILLE,,NMOL/KG,,NMOL/KG,PMOL/KG,,UG/KG,,UMOL/KG,,UMOL/KG,,UMOL/KG,,UG/KG,,UMOL/KG,,TU,1/M,,1/M,,1/M,,1/M,,1/M,,1/M,,1/M,,1/NM,,1/NM,,DEG C,/MILLE,,,,,,,,/MILLE,,UMOL/KG,,/MILLE,,NMOL/KG,PERCNT
33RO20071215,        P18,      11,          1,         24,      11024,2,20071220,       0011,    18.4998,  -110.0000,       3452,     3.9,  25.0124,  34.7114,2,  34.7135,2,    208.2,2,   208.5,2,    2.00,2,    0.00,2,    0.00,2,    0.25,2,   1.747,6,   1.106,6,   1.0497,6,  2009.1,6,  2312.1,2,    324.5,2,    20.00,   8.0666,2,    25.00,-999.000,9,-999.0000,9, -999.00,9, -999.00,9,  -999.0,9,-999.000,9,-999.000,-999.000,9,-999.000,9,   81.54,2,    5.05,2, -999.00,1, -999.00,9, -999.00,9,-999.000,-999.0000,9,-999.0000,9,-999.0000,9,-999.0000,9,-999.0000,9,-999.0000,9,-999.0000,9,-999.0000,9,-999.0000,9,  25.0115,     -999.0,9,     -999.0,9,     -999.0,9,     -999.0,9,     -999.0,9,     -999.0,9,     -999.0,9,-999.0000, -999.00
33RO20071215,        P18,      11,          1,         23,      11023,2,20071220,       0011,    18.4998,  -110.0000,       3452,    19.9,  25.0268,  34.7189,2,  34.7218,2,    208.7,2,   207.8,2,    2.10,2,    0.00,2,    0.00,2,    0.26,2,-999.000,9,-999.000,9,-999.0000,9,  2008.1,2,  2313.2,2,    325.2,2,    20.00,   8.0436,2,    25.00,-999.000,9,-999.0000,9, -999.00,9, -999.00,9,  -999.0,9,-999.000,9,-999.000,-999.000,9,-999.000,9, -999.00,9, -999.00,9, -999.00,1, -999.00,9, -999.00,9,-999.000,-999.0000,9,-999.0000,9,-999.0000,9,-999.0000,9,-999.0000,9,-999.0000,9,-999.0000,9,-999.0000,9,-999.0000,9,  25.0225,     -999.0,9,     -999.0,9,     -999.0,9,     -999.0,9,     -999.0,9,     -999.0,9,     -999.0,9,-999.0000, -999.00
33RO20071215,        P18,      11,          1,         22,      11022,2,20071220,       0011,    18.4998,  -110.0000,       3452,    43.6,  24.9658,  34.7195,2,  34.7241,2,    207.5,2,   208.3,2,    2.10,2,    0.10,2,    0.00,2,    0.27,2,   1.762,2,   1.119,2,   1.1058,2,  2009.9,2,  2313.4,2,    325.7,2,    20.00,   8.0366,2,    25.00,-999.000,9,-999.0000,9, -999.00,9, -999.00,9,  -999.0,9,-999.000,9,-999.000,-999.000,9,-999.000,9,   78.13,2,    5.02,2, -999.00,1, -999.00,9, -999.00,9,-999.000,-999.0000,9,-999.0000,9,-999.0000,9,-999.0000,9,-999.0000,9,-999.0000,9,-999.0000,9,-999.0000,9,-999.0000,9,  24.9564,     -999.0,9,     -999.0,9,     -999.0,9,     -999.0,9,     -999.0,9,     -999.0,9,     -999.0,9,-999.0000, -999.00
33RO20071215,        P18,      11,          1,         21,      11021,2,20071220,       0011,    18.4998,  -110.0000,       3452,    68.6,  18.2275,  34.1294,2,  34.1424,2,    196.1,2,   192.0,2,    5.40,2,    2.70,2,    0.18,2,    0.61,2,-999.000,9,-999.000,9,-999.0000,9,  2074.4,2,  2275.6,2,    532.3,2,    20.00,   7.8638,2,    25.00,-999.000,9,-999.0000,9, -999.00,9, -999.00,9,  -999.0,9,-999.000,9,-999.000,-999.000,9,-999.000,9,   64.40,2,    7.03,2, -999.00,1, -999.00,9, -999.00,9,-999.000,-999.0000,9,-999.0000,9,-999.0000,9,-999.0000,9,-999.0000,9,-999.0000,9,-999.0000,9,-999.0000,9,-999.0000,9,  18.2157,     -999.0,9,     -999.0,9,     -999.0,9,     -999.0,9,     -999.0,9,     -999.0,9,     -999.0,9,-999.0000, -999.00
33RO20071215,        P18,      11,          1,         20,      11020,2,20071220,       0011,    18.4998,  -110.0000,       3452,    92.2,  15.7749,  34.4345,2,  34.4292,2,     52.4,2,    48.9,2,   18.80,2,   21.50,2,    0.04,2,    1.97,2,   1.822,2,   1.067,2,   0.7378,2,  2204.7,2,  2281.8,2,   1244.3,2,    20.00,   7.5418,2,    25.00,-999.000,9,-999.0000,9, -999.00,9, -999.00,9,  -999.0,9,-999.000,9,-999.000,-999.000,9,-999.000,9, -999.00,9, -999.00,9, -999.00,1, -999.00,9, -999.00,9,-999.000,-999.0000,9,-999.0000,9,-999.0000,9,-999.0000,9,-999.0000,9,-999.0000,9,-999.0000,9,-999.0000,9,-999.0000,9,  15.7606,     -999.0,9,     -999.0,9,     -999.0,9,     -999.0,9,     -999.0,9,     -999.0,9,     -999.0,9,-999.0000, -999.00
33RO20071215,        P18,      11,          1,         19,      11019,2,20071220,       0011,    18.4998,  -110.0000,       3452,   117.1,  13.8981,  34.5788,2,  34.5893,2,     21.7,2,    16.5,2,   25.50,2,   24.50,2,    0.01,2,    2.35,2,   1.348,2,   0.790,2,   0.4850,2,  2242.2,2,  2291.3,2,   1551.3,2,    20.00,   7.4559,2,    25.00,-999.000,9,-999.0000,9, -999.00,9, -999.00,9,  -999.0,9,-999.000,9,-999.000,-999.000,9,-999.000,9,   50.86,2,   27.83,2, -999.00,1, -999.00,9, -999.00,9,-999.000,-999.0000,9,-999.0000,9,-999.0000,9,-999.0000,9,-999.0000,9,-999.0000,9,-999.0000,9,-999.0000,9,-999.0000,9,  13.8813,     -999.0,9,     -999.0,9,     -999.0,9,     -999.0,9,     -999.0,9,     -999.0,9,     -999.0,9,-999.0000, -999.00
33RO20071215,        P18,      11,          1,         18,      11018,2,20071220,       0011,    18.4998,  -110.0000,       3452,   142.4,  12.9119,  34.6995,2,  34.7024,2,      6.0,2,     4.7,2,   29.80,2,   24.90,2,    0.01,2,    2.50,2,   0.916,2,   0.543,2,   0.2936,2,  2259.8,2,  2300.5,2,   -999.0,9,  -999.00,   7.4252,2,    25.00,-999.000,9,-999.0000,9, -999.00,9, -999.00,9,  -999.0,9,-999.000,9,-999.000,-999.000,9,-999.000,9, -999.00,9, -999.00,9, -999.00,1, -999.00,9, -999.00,9,-999.000,-999.0000,9,-999.0000,9,-999.0000,9,-999.0000,9,-999.0000,9,-999.0000,9,-999.0000,9,-999.0000,9,-999.0000,9,  12.8925,     -999.0,9,     -999.0,9,     -999.0,9,     -999.0,9,     -999.0,9,     -999.0,9,     -999.0,9,-999.0000, -999.00
33RO20071215,        P18,      11,          1,         17,      11017,2,20071220,       0011,    18.4998,  -110.0000,       3452,   183.7,  12.2504,  34.7471,2,  34.7500,2,      3.8,2,     2.7,2,   32.00,2,   23.40,2,    0.87,2,    2.53,2,   0.578,2,   0.358,2,   0.1275,2,  2265.9,2,  2305.6,2,   -999.0,9,  -999.00,   7.4274,2,    25.00,-999.000,9,-999.0000,9, -999.00,9, -999.00,9,  -999.0,9,-999.000,9,-999.000,-999.000,9,-999.000,9,   45.96,2,   26.87,2, -999.00,1, -999.00,9, -999.00,9,-999.000,-999.0000,9,-999.0000,9,-999.0000,9,-999.0000,9,-999.0000,9,-999.0000,9,-999.0000,9,-999.0000,9,-999.0000,9,  12.2261,     -999.0,9,     -999.0,9,     -999.0,9,     -999.0,9,     -999.0,9,     -999.0,9,     -999.0,9,-999.0000, -999.00
33RO20071215,        P18,      11,          1,         16,      11016,2,20071220,       0011,    18.4998,  -110.0000,       3452,   250.1,  11.2606,  34.7082,2,  34.7042,2,      3.5,2,     3.1,2,   36.20,2,   24.30,2,    0.29,2,    2.60,2,   0.370,2,   0.225,2,   0.0433,2,  2277.0,2,  2308.1,2,   1790.4,2,    20.00,   7.3997,2,    25.00,-999.000,9,-999.0000,9, -999.00,9, -999.00,9,  -999.0,9,-999.000,9,-999.000,-999.000,9,-999.000,9,   42.67,2,   26.84,2, -999.00,1, -999.00,9, -999.00,9,-999.000,-999.0000,9,-999.0000,9,-999.0000,9,-999.0000,9,-999.0000,9,-999.0000,9,-999.0000,9,-999.0000,9,-999.0000,9,  11.2293,     -999.0,9,     -999.0,9,     -999.0,9,     -999.0,9,     -999.0,9,     -999.0,9,     -999.0,9,-999.0000, -999.00
33RO20071215,        P18,      11,          1,         15,      11015,2,20071220,       0011,    18.4998,  -110.0000,       3452,   325.0,  10.0881,  34.6422,2,  34.6421,2,      3.5,2,     3.4,2,   42.00,2,   26.30,2,    0.01,2,    2.71,2,   0.204,2,   0.122,2,   0.0879,2,  2287.6,2,  -999.0,9,   -999.0,9,  -999.00,   7.3789,2,    25.00,-999.000,9,-999.0000,9, -999.00,9, -999.00,9,  -999.0,9,-999.000,9,-999.000,-999.000,9,-999.000,9,   41.18,2,   27.26,2, -999.00,1, -999.00,9, -999.00,9,-999.000,-999.0000,9,-999.0000,9,-999.0000,9,-999.0000,9,-999.0000,9,-999.0000,9,-999.0000,9,-999.0000,9,-999.0000,9,  10.0501,     -999.0,9,     -999.0,9,     -999.0,9,     -999.0,9,     -999.0,9,     -999.0,9,     -999.0,9,-999.0000, -999.00
33RO20071215,        P18,      11,          1,         14,      11014,2,20071220,       0011,    18.4998,  -110.0000,       3452,   401.6,   9.0596,  34.6129,2,  34.6138,2,      3.6,2,     4.6,2,   50.30,2,   28.40,2,    0.35,2,    2.86,2,-999.000,9,-999.000,9,-999.0000,9,  2298.1,2,  2319.2,2,   -999.0,9,  -999.00,   7.3677,2,    25.00,-999.000,9,-999.0000,9, -999.00,9, -999.00,9,  -999.0,9,-999.000,9,-999.000,-999.000,9,-999.000,9,   41.05,2,   30.27,2, -999.00,1, -999.00,9, -999.00,9,-999.000,-999.0000,9,-999.0000,9,-999.0000,9,-999.0000,9,-999.0000,9,-999.0000,9,-999.0000,9,-999.0000,9,-999.0000,9,   9.0155,     -999.0,9,     -999.0,9,     -999.0,9,     -999.0,9,     -999.0,9,     -999.0,9,     -999.0,9,-999.0000, -999.00
33RO20071215,        P18,      11,          1,         13,      11013,2,20071220,       0011,    18.4998,  -110.0000,       3452,   476.2,   8.0866,  34.5745,2,  34.5734,2,      3.6,2,     3.9,2,   59.20,2,   32.00,2,    0.22,2,    2.99,2,   0.043,2,   0.026,2,   0.0208,2,  2308.4,2,  2325.2,2,   2022.7,2,    20.00,   7.3571,2,    25.00,-999.000,9,-999.0000,9, -999.00,9, -999.00,9,  -999.0,9,-999.000,9,-999.000,-999.000,9,-999.000,9,   40.41,2,   33.48,2, -999.00,1, -999.00,9, -999.00,9,-999.000,-999.0000,9,-999.0000,9,-999.0000,9,-999.0000,9,-999.0000,9,-999.0000,9,-999.0000,9,-999.0000,9,-999.0000,9,   8.0375,     -999.0,9,     -999.0,9,     -999.0,9,     -999.0,9,     -999.0,9,     -999.0,9,     -999.0,9,-999.0000, -999.00
33RO20071215,        P18,      11,          1,         12,      11012,2,20071220,       0011,    18.4998,  -110.0000,       3452,   519.5,   7.5337,  34.5537,2,  34.5561,2,      3.7,2,     3.9,2,   64.40,2,   34.50,2,    0.02,2,    3.02,2,-999.000,9,-999.000,9,-999.0000,9,  2314.5,2,  2328.9,2,   -999.0,9,  -999.00,   7.3441,2,    25.00,-999.000,9,-999.0000,9, -999.00,9, -999.00,9,  -999.0,9,-999.000,9,-999.000,-999.000,9,-999.000,9,   39.62,2,   35.67,2, -999.00,1, -999.00,9, -999.00,9,-999.000,-999.0000,9,-999.0000,9,-999.0000,9,-999.0000,9,-999.0000,9,-999.0000,9,-999.0000,9,-999.0000,9,-999.0000,9,   7.4822,     -999.0,9,     -999.0,9,     -999.0,9,     -999.0,9,     -999.0,9,     -999.0,9,     -999.0,9,-999.0000, -999.00
33RO20071215,        P18,      11,          1,         11,      11010,2,20071220,       0011,    18.4998,  -110.0000,       3452,   700.6,   5.9967,  34.5283,2,  34.5276,2,      3.8,2,     3.7,2,   81.90,2,   40.80,2,    0.00,2,    3.19,2,   0.010,2,   0.006,2,   0.0000,2,  2334.7,2,  -999.0,9,   -999.0,9,  -999.00,   7.3314,2,    25.00,-999.000,9,-999.0000,9, -999.00,9, -999.00,9,  -999.0,9,-999.000,9,-999.000,-999.000,9,-999.000,9,   38.90,2,   42.21,2, -999.00,1, -999.00,9, -999.00,9,-999.000,-999.0000,9,-999.0000,9,-999.0000,9,-999.0000,9,-999.0000,9,-999.0000,9,-999.0000,9,-999.0000,9,-999.0000,9,   5.9344,     -999.0,9,     -999.0,9,     -999.0,9,     -999.0,9,     -999.0,9,     -999.0,9,     -999.0,9,-999.0000, -999.00
33RO20071215,        P18,      11,          1,         10,      11011,2,20071220,       0011,    18.4998,  -110.0000,       3452,   850.8,   5.2192,  34.5361,2,  34.5367,2,      4.7,2,     4.4,2,   92.90,2,   43.60,2,    0.00,2,    3.26,2,-999.000,9,-999.000,9,-999.0000,9,  2346.6,2,  -999.0,9,   -999.0,9,  -999.00,   7.3255,2,    25.00,-999.000,9,-999.0000,9, -999.00,9, -999.00,9,  -999.0,9,-999.000,9,-999.000,-999.000,9,-999.000,9,   38.49,2,   45.31,2, -999.00,1, -999.00,9, -999.00,9,-999.000,-999.0000,9,-999.0000,9,-999.0000,9,-999.0000,9,-999.0000,9,-999.0000,9,-999.0000,9,-999.0000,9,-999.0000,9,   5.1478,     -999.0,9,     -999.0,9,     -999.0,9,     -999.0,9,     -999.0,9,     -999.0,9,     -999.0,9,-999.0000, -999.00
33RO20071215,        P18,      11,          1,          9,      11009,2,20071220,       0011,    18.4998,  -110.0000,       3452,  1001.0,   4.5572,  34.5477,2,  34.5480,2,     10.5,2,    10.7,2,  105.00,2,   44.60,2,    0.00,2,    3.29,2,   0.008,2,   0.006,2,   0.0000,2,  2358.3,2,  2365.7,2,   2181.5,2,    20.00,   7.3322,2,    25.00,-999.000,9,-999.0000,9, -999.00,9, -999.00,9,  -999.0,9,-999.000,9,-999.000,-999.000,9,-999.000,9,   38.26,2,   45.99,2, -999.00,1, -999.00,9, -999.00,9,-999.000,-999.0000,9,-999.0000,9,-999.0000,9,-999.0000,9,-999.0000,9,-999.0000,9,-999.0000,9,-999.0000,9,-999.0000,9,   4.4771,     -999.0,9,     -999.0,9,     -999.0,9,     -999.0,9,     -999.0,9,     -999.0,9,     -999.0,9,-999.0000, -999.00
33RO20071215,        P18,      11,          1,          8,      11008,2,20071220,       0011,    18.4998,  -110.0000,       3452,  1151.0,   3.9578,  34.5640,2,  34.5653,2,     22.0,2,    22.3,2,  116.60,2,   44.60,2,    0.00,2,    3.25,2,-999.000,9,-999.000,9,-999.0000,9,  2364.8,2,  2309.6,4,   2107.3,2,    20.00,   7.3492,2,    25.00,-999.000,9,-999.0000,9, -999.00,9, -999.00,9,  -999.0,9,-999.000,9,-999.000,-999.000,9,-999.000,9,   37.29,2,   45.92,2, -999.00,1, -999.00,9, -999.00,9,-999.000,-999.0000,9,-999.0000,9,-999.0000,9,-999.0000,9,-999.0000,9,-999.0000,9,-999.0000,9,-999.0000,9,-999.0000,9,   3.8697,     -999.0,9,     -999.0,9,     -999.0,9,     -999.0,9,     -999.0,9,     -999.0,9,     -999.0,9,-999.0000, -999.00
33RO20071215,        P18,      11,          1,          7,      11007,2,20071220,       0011,    18.4998,  -110.0000,       3452,  1333.6,   3.4993,  34.5828,2,  34.5832,2,     34.7,2,    35.6,2,  125.40,2,   44.00,2,    0.00,2,    3.15,2,   0.006,2,   0.003,2,   0.0000,2,  2367.1,2,  2391.2,2,   1985.5,2,    20.00,   7.3819,2,    25.00,-999.000,9,-999.0000,9, -999.00,9, -999.00,9,  -999.0,9,-999.000,9,-999.000,-999.000,9,-999.000,9,   36.83,2,   44.93,2, -999.00,1, -999.00,9, -999.00,9,-999.000,-999.0000,9,-999.0000,9,-999.0000,9,-999.0000,9,-999.0000,9,-999.0000,9,-999.0000,9,-999.0000,9,-999.0000,9,   3.4000,     -999.0,9,     -999.0,9,     -999.0,9,     -999.0,9,     -999.0,9,     -999.0,9,     -999.0,9,-999.0000, -999.00
33RO20071215,        P18,      11,          1,          6,      11006,2,20071220,       0011,    18.4998,  -110.0000,       3452,  1532.5,   3.0463,  34.6026,2,  34.6059,2,     50.5,2,    50.6,2,  134.20,2,   43.10,2,    0.00,2,    3.05,2,-999.000,9,-999.000,9,-999.0000,9,  2367.7,2,  -999.0,9,   -999.0,9,  -999.00,   7.4181,2,    25.00,-999.000,9,-999.0000,9, -999.00,9, -999.00,9,  -999.0,9,-999.000,9,-999.000,-999.000,9,-999.000,9,   36.70,2,   44.25,2, -999.00,1, -999.00,9, -999.00,9,-999.000,-999.0000,9,-999.0000,9,-999.0000,9,-999.0000,9,-999.0000,9,-999.0000,9,-999.0000,9,-999.0000,9,-999.0000,9,   2.9351,     -999.0,9,     -999.0,9,     -999.0,9,     -999.0,9,     -999.0,9,     -999.0,9,     -999.0,9,-999.0000, -999.00
33RO20071215,        P18,      11,          1,          5,      11005,2,20071220,       0011,    18.4998,  -110.0000,       3452,  1866.8,   2.4094,  34.6331,2,  34.6340,2,     76.2,2,    75.6,2,  147.30,2,   41.30,2,    0.00,2,    2.84,2,   0.003,2,   0.004,2,   0.0000,2,  2366.7,2,  2417.6,2,   1637.6,2,    20.00,   7.4531,2,    25.00,-999.000,9,-999.0000,9, -999.00,9, -999.00,9,  -999.0,9,-999.000,9,-999.000,-999.000,9,-999.000,9,   35.75,2,   42.43,2, -999.00,1, -999.00,9, -999.00,9,-999.000,-999.0000,9,-999.0000,9,-999.0000,9,-999.0000,9,-999.0000,9,-999.0000,9,-999.0000,9,-999.0000,9,-999.0000,9,   2.2782,     -999.0,9,     -999.0,9,     -999.0,9,     -999.0,9,     -999.0,9,     -999.0,9,     -999.0,9,-999.0000, -999.00
33RO20071215,        P18,      11,          1,          4,      11004,2,20071220,       0011,    18.4998,  -110.0000,       3452,  2257.6,   1.9495,  34.6563,2,  34.6581,2,     99.3,2,   100.6,2,  156.40,6,   39.60,6,    0.00,6,    2.70,2,-999.000,9,-999.000,9,-999.0000,9,  2360.6,2,  -999.0,9,   -999.0,9,  -999.00,   7.4922,2,    25.00,-999.000,9,-999.0000,9, -999.00,9, -999.00,9,  -999.0,9,-999.000,9,-999.000,-999.000,9,-999.000,9,   35.73,2,   40.89,2, -999.00,9, -999.00,9, -999.00,9,-999.000,-999.0000,9,-999.0000,9,-999.0000,9,-999.0000,9,-999.0000,9,-999.0000,9,-999.0000,9,-999.0000,9,-999.0000,9,   1.7917,     -999.0,9,     -999.0,9,     -999.0,9,     -999.0,9,     -999.0,9,     -999.0,9,     -999.0,9,-999.0000, -999.00
33RO20071215,        P18,      11,          1,          3,      11003,2,20071220,       0011,    18.4998,  -110.0000,       3452,  2667.1,   1.7925,  34.6665,2,  34.6672,2,    111.0,2,   110.6,2,  159.40,6,   38.90,6,    0.00,6,    2.61,2,   0.005,2,   0.006,2,   0.0434,2,  2356.7,2,  2432.0,2,   1390.3,6,    20.00,   7.5160,2,    25.00,-999.000,9,-999.0000,9, -999.00,9, -999.00,9,  -999.0,9,-999.000,9,-999.000,   0.007,3,-999.000,9,   35.86,2,   40.69,2, -999.00,9, -999.00,9, -999.00,9,-999.000,-999.0000,9,-999.0000,9,-999.0000,9,-999.0000,9,-999.0000,9,-999.0000,9,-999.0000,9,-999.0000,9,-999.0000,9,   1.6007,     -999.0,9,     -999.0,9,     -999.0,9,     -999.0,9,     -999.0,9,     -999.0,9,     -999.0,9,-999.0000, -999.00
33RO20071215,        P18,      11,          1,          2,      11002,2,20071220,       0011,    18.4998,  -110.0000,       3452,  3064.4,   1.7133,  34.6726,2,  34.6727,2,    118.0,2,   117.8,2,  161.30,6,   38.50,6,    0.00,6,    2.57,2,   0.005,2,   0.006,2,   0.0475,2,  2353.8,2,  2433.0,2,   1361.9,2,    20.00,   7.5314,2,    25.00,-999.000,9,-999.0000,9, -999.00,9, -999.00,9,  -999.0,9,-999.000,9,-999.000,   0.008,3,-999.000,9,   36.15,2,   39.93,2, -999.00,9, -999.00,9, -999.00,9,-999.000,-999.0000,9,-999.0000,9,-999.0000,9,-999.0000,9,-999.0000,9,-999.0000,9,-999.0000,9,-999.0000,9,-999.0000,9,   1.4855,     -999.0,9,     -999.0,9,     -999.0,9,     -999.0,9,     -999.0,9,     -999.0,9,     -999.0,9,-999.0000, -999.00
33RO20071215,        P18,      11,          1,          1,      11001,2,20071220,       0011,    18.4998,  -110.0000,       3452,  3474.9,   1.7256,  34.6755,2,  34.6772,2,    121.5,2,   119.9,2,  160.30,2,   38.40,2,    0.00,2,    2.55,2,   0.004,6,   0.005,6,   0.0000,6,  2353.7,6,  2407.5,4,   1320.9,2,    20.00,   7.5366,2,    25.00,-999.000,9,-999.0000,9, -999.00,9, -999.00,9,  -999.0,9,-999.000,9,-999.000,   0.006,3,-999.000,9,   36.36,2,   39.69,2, -999.00,9, -999.00,9, -999.00,9,-999.000,-999.0000,9,-999.0000,9,-999.0000,9,-999.0000,9,-999.0000,9,-999.0000,9,-999.0000,9,-999.0000,9,-999.0000,9,   1.4563,     -999.0,9,     -999.0,9,     -999.0,9,     -999.0,9,     -999.0,9,     -999.0,9,     -999.0,9,-999.0000, -999.00