BOTTLE,20220818CCHSIOAMB
EXPOCODE,SECT_ID,STNNBR,CASTNO,SAMPNO,BTLNBR,BTLNBR_FLAG_W,DATE,TIME,LATITUDE,LONGITUDE,DEPTH,CTDPRS,CTDTMP,CTDSAL,CTDSAL_FLAG_W,SALNTY,SALNTY_FLAG_W,CTDOXY,CTDOXY_FLAG_W,OXYGEN,OXYGEN_FLAG_W,SILCAT,SILCAT_FLAG_W,NITRAT,NITRAT_FLAG_W,NITRIT,NITRIT_FLAG_W,PHSPHT,PHSPHT_FLAG_W,CFC-11,CFC-11_FLAG_W,CFC-12,CFC-12_FLAG_W,SF6,SF6_FLAG_W,TCARBN,TCARBN_FLAG_W,ALKALI,ALKALI_FLAG_W,FCO2,FCO2_FLAG_W,FCO2TMP,PH_SWS,PH_SWS_FLAG_W,PH_TMP,TRITUM,TRITUM_FLAG_W,HELIUM,HELIUM_FLAG_W,DELHE3,DELHE3_FLAG_W,DELC13,DELC13_FLAG_W,DELC14,DELC14_FLAG_W,NEON,NEON_FLAG_W,NEONER,CCL4,CCL4_FLAG_W,POC,POC_FLAG_W,DOC,DOC_FLAG_W,TDN,TDN_FLAG_W,DON,DON_FLAG_W,CHLORA,CHLORA_FLAG_W,ARGON,ARGON_FLAG_W,TRITER,CDOM325,CDOM325_FLAG_W,CDOM340,CDOM340_FLAG_W,CDOM380,CDOM380_FLAG_W,CDOM412,CDOM412_FLAG_W,CDOM443,CDOM443_FLAG_W,CDOM490,CDOM490_FLAG_W,CDOM555,CDOM555_FLAG_W,CDOMSL,CDOMSL_FLAG_W,CDOMSN,CDOMSN_FLAG_W,THETA,D18O_NO3,D18O_NO3_FLAG_W,CDOM2C,CDOM2C_FLAG_W,CDOM3C,CDOM3C_FLAG_W,LAB_DEN,LAB_DEN_FLAG_W,DELSI30,DELSI30_FLAG_W,N2,N2_FLAG_W,D15N_NO3,D15N_NO3_FLAG_W,HELIER,DELHER
,,,,,,,,,,,METERS,DBAR,ITS-90,PSS-78,,PSS-78,,UMOL/KG,,UMOL/KG,,UMOL/KG,,UMOL/KG,,UMOL/KG,,UMOL/KG,,PMOL/KG,,PMOL/KG,,FMOL/KG,,UMOL/KG,,UMOL/KG,,UATM,,DEG C,,,DEG C,TU,,NMOL/KG,,PERCNT,,/MILLE,,/MILLE,,NMOL/KG,,NMOL/KG,PMOL/KG,,UG/KG,,UMOL/KG,,UMOL/KG,,UMOL/KG,,UG/KG,,UMOL/KG,,TU,1/M,,1/M,,1/M,,1/M,,1/M,,1/M,,1/M,,1/NM,,1/NM,,DEG C,/MILLE,,,,,,,,/MILLE,,UMOL/KG,,/MILLE,,NMOL/KG,PERCNT
33RO20071215,        P18,      99,          1,         36,      12017,2,20080123,       0616,   -28.6660,  -103.0002,       3611,     4.0,  23.7304,  35.6851,2,  35.6866,2,    215.0,2,   214.8,2,    0.60,2,    0.00,2,    0.00,2,    0.08,2,-999.000,9,-999.000,9,-999.0000,9,  2061.7,6,  2350.1,2,   -999.0,9,  -999.00,   8.0113,2,    25.00,-999.000,9,-999.0000,9, -999.00,9, -999.00,9,  -999.0,9,-999.000,9,-999.000,-999.000,9,-999.000,9, -999.00,9, -999.00,9, -999.00,9, -999.00,9, -999.00,9,-999.000,-999.0000,9,-999.0000,9,-999.0000,9,-999.0000,9,-999.0000,9,-999.0000,9,-999.0000,9,-999.0000,9,-999.0000,9,  23.7296,     -999.0,9,     -999.0,9,     -999.0,9,     -999.0,9,     -999.0,9,     -999.0,9,     -999.0,9,-999.0000, -999.00
33RO20071215,        P18,      99,          1,         35,      12029,2,20080123,       0616,   -28.6660,  -103.0002,       3611,     8.7,  23.7223,  35.6842,2,  35.6822,2,    215.0,2,   214.1,2,    0.60,2,    0.00,2,    0.00,2,    0.08,2,-999.000,9,-999.000,9,-999.0000,9,  2062.5,2,  2350.0,2,   -999.0,9,  -999.00,   8.0291,2,    25.00,-999.000,9,-999.0000,9, -999.00,9, -999.00,9,  -999.0,9,-999.000,9,-999.000,-999.000,9,-999.000,9, -999.00,9, -999.00,9, -999.00,9, -999.00,9, -999.00,9,-999.000,-999.0000,9,-999.0000,9,-999.0000,9,-999.0000,9,-999.0000,9,-999.0000,9,-999.0000,9,-999.0000,9,-999.0000,9,  23.7205,     -999.0,9,     -999.0,9,     -999.0,9,     -999.0,9,     -999.0,9,     -999.0,9,     -999.0,9,-999.0000, -999.00
33RO20071215,        P18,      99,          1,         34,      12049,2,20080123,       0616,   -28.6660,  -103.0002,       3611,    20.1,  23.0464,  35.7247,2,  35.7047,2,    219.8,2,   223.9,2,    0.70,2,    0.00,2,    0.00,2,    0.07,2,-999.000,9,-999.000,9,-999.0000,9,  2062.3,2,  2350.3,2,   -999.0,9,  -999.00,   8.0029,2,    25.00,-999.000,9,-999.0000,9, -999.00,9, -999.00,9,  -999.0,9,-999.000,9,-999.000,-999.000,9,-999.000,9, -999.00,9, -999.00,9, -999.00,9, -999.00,9, -999.00,9,-999.000,-999.0000,9,-999.0000,9,-999.0000,9,-999.0000,9,-999.0000,9,-999.0000,9,-999.0000,9,-999.0000,9,-999.0000,9,  23.0423,     -999.0,9,     -999.0,9,     -999.0,9,     -999.0,9,     -999.0,9,     -999.0,9,     -999.0,9,-999.0000, -999.00
33RO20071215,        P18,      99,          1,         33,      12027,2,20080123,       0616,   -28.6660,  -103.0002,       3611,    41.9,  21.2003,  35.7745,2,  35.7773,2,    230.5,2,   230.6,2,    0.70,2,    0.00,2,    0.00,2,    0.08,2,-999.000,9,-999.000,9,-999.0000,9,  2060.6,2,  2350.1,2,   -999.0,9,  -999.00,   8.0375,2,    25.00,-999.000,9,-999.0000,9, -999.00,9, -999.00,9,  -999.0,9,-999.000,9,-999.000,-999.000,9,-999.000,9, -999.00,9, -999.00,9, -999.00,9, -999.00,9, -999.00,9,-999.000,-999.0000,9,-999.0000,9,-999.0000,9,-999.0000,9,-999.0000,9,-999.0000,9,-999.0000,9,-999.0000,9,-999.0000,9,  21.1922,     -999.0,9,     -999.0,9,     -999.0,9,     -999.0,9,     -999.0,9,     -999.0,9,     -999.0,9,-999.0000, -999.00
33RO20071215,        P18,      99,          1,         32,      12023,2,20080123,       0616,   -28.6660,  -103.0002,       3611,    67.0,  20.3242,  35.7240,2,  35.6871,2,    239.7,2,   235.1,2,    0.70,2,    0.00,2,    0.00,2,    0.08,2,-999.000,9,-999.000,9,-999.0000,9,  2055.9,2,  -999.0,5,   -999.0,9,  -999.00,   7.9536,2,    25.00,-999.000,9,-999.0000,9, -999.00,9, -999.00,9,  -999.0,9,-999.000,9,-999.000,-999.000,9,-999.000,9, -999.00,9, -999.00,9, -999.00,9, -999.00,9, -999.00,9,-999.000,-999.0000,9,-999.0000,9,-999.0000,9,-999.0000,9,-999.0000,9,-999.0000,9,-999.0000,9,-999.0000,9,-999.0000,9,  20.3117,     -999.0,9,     -999.0,9,     -999.0,9,     -999.0,9,     -999.0,9,     -999.0,9,     -999.0,9,-999.0000, -999.00
33RO20071215,        P18,      99,          1,         31,      12037,2,20080123,       0616,   -28.6660,  -103.0002,       3611,    89.2,  19.0200,  35.4202,2,  35.4226,2,    242.1,2,   241.6,2,    0.70,2,    0.00,2,    0.00,2,    0.10,2,-999.000,9,-999.000,9,-999.0000,9,  2052.2,2,  2335.7,2,   -999.0,9,  -999.00,   7.9954,2,    25.00,-999.000,9,-999.0000,9, -999.00,9, -999.00,9,  -999.0,9,-999.000,9,-999.000,-999.000,9,-999.000,9, -999.00,9, -999.00,9, -999.00,9, -999.00,9, -999.00,9,-999.000,-999.0000,9,-999.0000,9,-999.0000,9,-999.0000,9,-999.0000,9,-999.0000,9,-999.0000,9,-999.0000,9,-999.0000,9,  19.0041,     -999.0,9,     -999.0,9,     -999.0,9,     -999.0,9,     -999.0,9,     -999.0,9,     -999.0,9,-999.0000, -999.00
33RO20071215,        P18,      99,          1,         30,      12036,2,20080123,       0616,   -28.6660,  -103.0002,       3611,   118.1,  18.1202,  35.3277,2,  35.3259,2,    240.3,2,   240.9,2,    0.60,2,    0.00,2,    0.00,2,    0.10,2,-999.000,9,-999.000,9,-999.0000,9,  2052.2,2,  2337.2,2,   -999.0,9,  -999.00,   7.9924,2,    25.00,-999.000,9,-999.0000,9, -999.00,9, -999.00,9,  -999.0,9,-999.000,9,-999.000,-999.000,9,-999.000,9, -999.00,9, -999.00,9, -999.00,9, -999.00,9, -999.00,9,-999.000,-999.0000,9,-999.0000,9,-999.0000,9,-999.0000,9,-999.0000,9,-999.0000,9,-999.0000,9,-999.0000,9,-999.0000,9,  18.0998,     -999.0,9,     -999.0,9,     -999.0,9,     -999.0,9,     -999.0,9,     -999.0,9,     -999.0,9,-999.0000, -999.00
33RO20071215,        P18,      99,          1,         29,      12044,2,20080123,       0616,   -28.6660,  -103.0002,       3611,   140.7,  17.7971,  35.2826,2,  35.2876,2,    238.9,2,   237.6,2,    0.60,2,    0.00,2,    0.00,2,    0.12,2,-999.000,9,-999.000,9,-999.0000,9,  2055.9,2,  -999.0,5,   -999.0,9,  -999.00,   7.9451,2,    25.00,-999.000,9,-999.0000,9, -999.00,9, -999.00,9,  -999.0,9,-999.000,9,-999.000,-999.000,9,-999.000,9, -999.00,9, -999.00,9, -999.00,9, -999.00,9, -999.00,9,-999.000,-999.0000,9,-999.0000,9,-999.0000,9,-999.0000,9,-999.0000,9,-999.0000,9,-999.0000,9,-999.0000,9,-999.0000,9,  17.7731,     -999.0,9,     -999.0,9,     -999.0,9,     -999.0,9,     -999.0,9,     -999.0,9,     -999.0,9,-999.0000, -999.00
33RO20071215,        P18,      99,          1,         28,      12057,2,20080123,       0616,   -28.6660,  -103.0002,       3611,   165.9,  17.2319,  35.1621,2,  35.1710,2,    232.9,2,   234.0,2,    0.60,2,    0.20,2,    0.10,2,    0.15,2,-999.000,9,-999.000,9,-999.0000,9,  2056.4,2,  2319.9,4,   -999.0,9,  -999.00,   8.0358,2,    25.00,-999.000,9,-999.0000,9, -999.00,9, -999.00,9,  -999.0,9,-999.000,9,-999.000,-999.000,9,-999.000,9, -999.00,9, -999.00,9, -999.00,9, -999.00,9, -999.00,9,-999.000,-999.0000,9,-999.0000,9,-999.0000,9,-999.0000,9,-999.0000,9,-999.0000,9,-999.0000,9,-999.0000,9,-999.0000,9,  17.2042,     -999.0,9,     -999.0,9,     -999.0,9,     -999.0,9,     -999.0,9,     -999.0,9,     -999.0,9,-999.0000, -999.00
33RO20071215,        P18,      99,          1,         27,      12026,2,20080123,       0616,   -28.6660,  -103.0002,       3611,   193.5,  16.7349,  35.0662,2,  35.0640,2,    230.8,2,   229.7,2,    0.70,2,    1.00,2,    0.26,2,    0.20,2,-999.000,9,-999.000,9,-999.0000,9,  2058.3,2,  2313.2,2,   -999.0,9,  -999.00,   7.9482,2,    25.00,-999.000,9,-999.0000,9, -999.00,9, -999.00,9,  -999.0,9,-999.000,9,-999.000,-999.000,9,-999.000,9, -999.00,9, -999.00,9, -999.00,9, -999.00,9, -999.00,9,-999.000,-999.0000,9,-999.0000,9,-999.0000,9,-999.0000,9,-999.0000,9,-999.0000,9,-999.0000,9,-999.0000,9,-999.0000,9,  16.7033,     -999.0,9,     -999.0,9,     -999.0,9,     -999.0,9,     -999.0,9,     -999.0,9,     -999.0,9,-999.0000, -999.00
33RO20071215,        P18,      99,          1,         26,      12030,2,20080123,       0616,   -28.6660,  -103.0002,       3611,   231.7,  14.2010,  34.6501,2,  34.6574,2,    213.9,2,   214.9,2,    1.10,2,    6.00,2,    0.01,2,    0.46,2,-999.000,9,-999.000,9,-999.0000,9,  2074.7,2,  2285.9,2,   -999.0,9,  -999.00,   7.8812,2,    25.00,-999.000,9,-999.0000,9, -999.00,9, -999.00,9,  -999.0,9,-999.000,9,-999.000,-999.000,9,-999.000,9, -999.00,9, -999.00,9, -999.00,9, -999.00,9, -999.00,9,-999.000,-999.0000,9,-999.0000,9,-999.0000,9,-999.0000,9,-999.0000,9,-999.0000,9,-999.0000,9,-999.0000,9,-999.0000,9,  14.1672,     -999.0,9,     -999.0,9,     -999.0,9,     -999.0,9,     -999.0,9,     -999.0,9,     -999.0,9,-999.0000, -999.00
33RO20071215,        P18,      99,          1,         25,      12024,2,20080123,       0616,   -28.6660,  -103.0002,       3611,   281.9,  12.1645,  34.4870,2,  34.4716,2,    208.6,2,   208.3,2,    2.10,2,   12.20,2,    0.00,2,    0.84,2,-999.000,9,-999.000,9,-999.0000,9,  2100.4,2,  2277.1,2,   -999.0,9,  -999.00,   7.7998,2,    25.00,-999.000,9,-999.0000,9, -999.00,9, -999.00,9,  -999.0,9,-999.000,9,-999.000,-999.000,9,-999.000,9, -999.00,9, -999.00,9, -999.00,9, -999.00,9, -999.00,1,-999.000,-999.0000,9,-999.0000,9,-999.0000,9,-999.0000,9,-999.0000,9,-999.0000,9,-999.0000,9,-999.0000,9,-999.0000,9,  12.1274,     -999.0,1,     -999.0,9,     -999.0,9,     -999.0,9,     -999.0,9,     -999.0,1,     -999.0,9,-999.0000, -999.00
33RO20071215,        P18,      99,          1,         24,      12019,2,20080123,       0616,   -28.6660,  -103.0002,       3611,   331.9,   9.8927,  34.3686,2,  34.3628,2,    208.4,2,   206.9,2,    4.00,2,   17.50,2,    0.00,2,    1.20,2,-999.000,9,-999.000,9,-999.0000,9,  2123.5,2,  2304.8,4,   -999.0,9,  -999.00,   7.7394,2,    25.00,-999.000,9,-999.0000,9, -999.00,9, -999.00,9,  -999.0,9,-999.000,9,-999.000,-999.000,9,-999.000,9, -999.00,9, -999.00,9, -999.00,9, -999.00,9, -999.00,1,-999.000,-999.0000,9,-999.0000,9,-999.0000,9,-999.0000,9,-999.0000,9,-999.0000,9,-999.0000,9,-999.0000,9,-999.0000,9,   9.8545,     -999.0,1,     -999.0,9,     -999.0,9,     -999.0,9,     -999.0,9,     -999.0,1,     -999.0,9,-999.0000, -999.00
33RO20071215,        P18,      99,          1,         23,      12022,2,20080123,       0616,   -28.6660,  -103.0002,       3611,   364.2,   8.7320,  34.3248,2,  34.3250,2,    198.9,2,   197.5,2,    6.30,2,   21.10,2,    0.00,2,    1.47,2,-999.000,9,-999.000,9,-999.0000,9,  2142.5,2,  2268.1,2,   -999.0,9,  -999.00,   7.6862,2,    25.00,-999.000,9,-999.0000,9, -999.00,9, -999.00,9,  -999.0,9,-999.000,9,-999.000,-999.000,9,-999.000,9, -999.00,9, -999.00,9, -999.00,9, -999.00,9, -999.00,1,-999.000,-999.0000,9,-999.0000,9,-999.0000,9,-999.0000,9,-999.0000,9,-999.0000,9,-999.0000,9,-999.0000,9,-999.0000,9,   8.6931,     -999.0,1,     -999.0,9,     -999.0,9,     -999.0,9,     -999.0,9,     -999.0,1,     -999.0,9,-999.0000, -999.00
33RO20071215,        P18,      99,          1,         22,      12015,2,20080123,       0616,   -28.6660,  -103.0002,       3611,   465.6,   6.8805,  34.3188,2,  34.3170,2,    200.6,2,   198.1,2,   10.10,2,   26.10,2,    0.00,2,    1.78,2,-999.000,9,-999.000,9,-999.0000,9,  -999.0,9,  -999.0,9,   -999.0,9,  -999.00,-999.0000,9,  -999.00,-999.000,9,-999.0000,9, -999.00,9, -999.00,9,  -999.0,9,-999.000,9,-999.000,-999.000,9,-999.000,9, -999.00,9, -999.00,9, -999.00,9, -999.00,9, -999.00,1,-999.000,-999.0000,9,-999.0000,9,-999.0000,9,-999.0000,9,-999.0000,9,-999.0000,9,-999.0000,9,-999.0000,9,-999.0000,9,   6.8370,     -999.0,1,     -999.0,9,     -999.0,9,     -999.0,9,     -999.0,9,     -999.0,1,     -999.0,9,-999.0000, -999.00
33RO20071215,        P18,      99,          1,         21,      12020,2,20080123,       0616,   -28.6660,  -103.0002,       3611,   566.2,   6.0037,  34.2956,2,  34.2933,2,    228.6,2,   229.0,2,   10.80,2,   26.00,2,    0.00,2,    1.72,2,-999.000,9,-999.000,9,-999.0000,9,  2153.6,2,  2277.4,2,   -999.0,9,  -999.00,   7.6668,2,    25.00,-999.000,9,-999.0000,9, -999.00,9, -999.00,9,  -999.0,9,-999.000,9,-999.000,-999.000,9,-999.000,9, -999.00,9, -999.00,9, -999.00,9, -999.00,9, -999.00,1,-999.000,-999.0000,9,-999.0000,9,-999.0000,9,-999.0000,9,-999.0000,9,-999.0000,9,-999.0000,9,-999.0000,9,-999.0000,9,   5.9541,     -999.0,1,     -999.0,9,     -999.0,9,     -999.0,9,     -999.0,9,     -999.0,1,     -999.0,9,-999.0000, -999.00
33RO20071215,        P18,      99,          1,         20,      12055,2,20080123,       0616,   -28.6660,  -103.0002,       3611,   667.4,   5.4823,  34.2774,2,  34.2762,2,    226.1,2,   225.7,2,   13.70,2,   27.40,2,    0.00,2,    1.83,2,-999.000,9,-999.000,9,-999.0000,9,  -999.0,9,  -999.0,9,   -999.0,9,  -999.00,-999.0000,9,  -999.00,-999.000,9,-999.0000,9, -999.00,9, -999.00,9,  -999.0,9,-999.000,9,-999.000,-999.000,9,-999.000,9, -999.00,9, -999.00,9, -999.00,9, -999.00,9, -999.00,9,-999.000,-999.0000,9,-999.0000,9,-999.0000,9,-999.0000,9,-999.0000,9,-999.0000,9,-999.0000,9,-999.0000,9,-999.0000,9,   5.4261,     -999.0,9,     -999.0,9,     -999.0,9,     -999.0,9,     -999.0,9,     -999.0,9,     -999.0,9,-999.0000, -999.00
33RO20071215,        P18,      99,          1,         19,      12018,2,20080123,       0616,   -28.6660,  -103.0002,       3611,   767.4,   4.9900,  34.2853,2,  34.2844,2,    205.6,2,   204.9,2,   31.20,3,   33.10,3,    0.00,3,    2.27,3,-999.000,9,-999.000,9,-999.0000,9,  2178.9,2,  2269.0,4,   -999.0,9,  -999.00,-999.0000,9,  -999.00,-999.000,9,-999.0000,9, -999.00,9, -999.00,9,  -999.0,9,-999.000,9,-999.000,-999.000,9,-999.000,9, -999.00,9, -999.00,9, -999.00,9, -999.00,9, -999.00,9,-999.000,-999.0000,9,-999.0000,9,-999.0000,9,-999.0000,9,-999.0000,9,-999.0000,9,-999.0000,9,-999.0000,9,-999.0000,9,   4.9277,     -999.0,9,     -999.0,9,     -999.0,9,     -999.0,9,     -999.0,9,     -999.0,9,     -999.0,9,-999.0000, -999.00
33RO20071215,        P18,      99,          1,         18,      12025,2,20080123,       0616,   -28.6660,  -103.0002,       3611,   866.1,   4.5607,  34.3209,2,  34.3186,2,    178.3,2,   178.3,2,   20.90,3,   30.30,3,    0.00,3,    2.04,3,-999.000,9,-999.000,9,-999.0000,9,  -999.0,9,  -999.0,9,   -999.0,9,  -999.00,-999.0000,9,  -999.00,-999.000,9,-999.0000,9, -999.00,9, -999.00,9,  -999.0,9,-999.000,9,-999.000,-999.000,9,-999.000,9, -999.00,9, -999.00,9, -999.00,9, -999.00,9, -999.00,9,-999.000,-999.0000,9,-999.0000,9,-999.0000,9,-999.0000,9,-999.0000,9,-999.0000,9,-999.0000,9,-999.0000,9,-999.0000,9,   4.4926,     -999.0,9,     -999.0,9,     -999.0,9,     -999.0,9,     -999.0,9,     -999.0,9,     -999.0,9,-999.0000, -999.00
33RO20071215,        P18,      99,          1,         17,      12016,2,20080123,       0616,   -28.6660,  -103.0002,       3611,   967.0,   4.1587,  34.3825,2,  34.3808,2,    151.2,2,   149.2,2,   46.40,2,   35.80,2,    0.00,2,    2.50,2,-999.000,9,-999.000,9,-999.0000,9,  2233.5,2,  2307.0,2,   -999.0,9,  -999.00,   7.5376,2,    25.00,-999.000,9,-999.0000,9, -999.00,9, -999.00,9,  -999.0,9,-999.000,9,-999.000,-999.000,9,-999.000,9, -999.00,9, -999.00,9, -999.00,9, -999.00,9, -999.00,9,-999.000,-999.0000,9,-999.0000,9,-999.0000,9,-999.0000,9,-999.0000,9,-999.0000,9,-999.0000,9,-999.0000,9,-999.0000,9,   4.0848,     -999.0,9,     -999.0,9,     -999.0,9,     -999.0,9,     -999.0,9,     -999.0,9,     -999.0,9,-999.0000, -999.00
33RO20071215,        P18,      99,          1,         16,      12051,2,20080123,       0616,   -28.6660,  -103.0002,       3611,  1065.8,   3.8652,  34.4414,2,  34.4400,2,    133.8,2,   132.5,2,   60.40,2,   37.20,2,    0.00,2,    2.62,2,-999.000,9,-999.000,9,-999.0000,9,  -999.0,9,  -999.0,9,   -999.0,9,  -999.00,-999.0000,9,  -999.00,-999.000,9,-999.0000,9, -999.00,9, -999.00,9,  -999.0,9,-999.000,9,-999.000,-999.000,9,-999.000,9, -999.00,9, -999.00,9, -999.00,9, -999.00,9, -999.00,9,-999.000,-999.0000,9,-999.0000,9,-999.0000,9,-999.0000,9,-999.0000,9,-999.0000,9,-999.0000,9,-999.0000,9,-999.0000,9,   3.7852,     -999.0,9,     -999.0,9,     -999.0,9,     -999.0,9,     -999.0,9,     -999.0,9,     -999.0,9,-999.0000, -999.00
33RO20071215,        P18,      99,          1,         15,      12014,2,20080123,       0616,   -28.6660,  -103.0002,       3611,  1166.5,   3.5614,  34.4865,2,  34.4863,2,    128.2,2,   127.8,2,   71.70,2,   37.50,2,    0.00,2,    2.64,2,-999.000,9,-999.000,9,-999.0000,9,  2270.0,6,  2335.5,2,   -999.0,9,  -999.00,   7.5125,2,    25.00,-999.000,9,-999.0000,9, -999.00,9, -999.00,9,  -999.0,9,-999.000,9,-999.000,-999.000,9,-999.000,9, -999.00,9, -999.00,9, -999.00,9, -999.00,9, -999.00,9,-999.000,-999.0000,9,-999.0000,9,-999.0000,9,-999.0000,9,-999.0000,9,-999.0000,9,-999.0000,9,-999.0000,9,-999.0000,9,   3.4757,     -999.0,9,     -999.0,9,     -999.0,9,     -999.0,9,     -999.0,9,     -999.0,9,     -999.0,9,-999.0000, -999.00
33RO20071215,        P18,      99,          1,         14,      12013,2,20080123,       0616,   -28.6660,  -103.0002,       3611,  1266.6,   3.3204,  34.5143,2,  34.5140,2,    127.9,2,   127.6,2,   78.90,2,   37.60,2,    0.00,2,    2.66,2,-999.000,9,-999.000,9,-999.0000,9,  -999.0,9,  -999.0,9,   -999.0,9,  -999.00,-999.0000,9,  -999.00,-999.000,9,-999.0000,9, -999.00,9, -999.00,9,  -999.0,9,-999.000,9,-999.000,-999.000,9,-999.000,9, -999.00,9, -999.00,9, -999.00,9, -999.00,9, -999.00,9,-999.000,-999.0000,9,-999.0000,9,-999.0000,9,-999.0000,9,-999.0000,9,-999.0000,9,-999.0000,9,-999.0000,9,-999.0000,9,   3.2286,     -999.0,9,     -999.0,9,     -999.0,9,     -999.0,9,     -999.0,9,     -999.0,9,     -999.0,9,-999.0000, -999.00
33RO20071215,        P18,      99,          1,         13,      12012,2,20080123,       0616,   -28.6660,  -103.0002,       3611,  1366.0,   3.0186,  34.5381,2,  34.5370,2,    136.8,2,   136.6,2,   84.40,2,   36.90,2,    0.00,2,    2.59,2,-999.000,9,-999.000,9,-999.0000,9,  2279.6,2,  2349.8,2,   -999.0,9,  -999.00,   7.5323,2,    25.00,-999.000,9,-999.0000,9, -999.00,9, -999.00,9,  -999.0,9,-999.000,9,-999.000,-999.000,9,-999.000,9, -999.00,9, -999.00,9, -999.00,9, -999.00,9, -999.00,9,-999.000,-999.0000,9,-999.0000,9,-999.0000,9,-999.0000,9,-999.0000,9,-999.0000,9,-999.0000,9,-999.0000,9,-999.0000,9,   2.9217,     -999.0,9,     -999.0,9,     -999.0,9,     -999.0,9,     -999.0,9,     -999.0,9,     -999.0,9,-999.0000, -999.00
33RO20071215,        P18,      99,          1,         12,      12031,2,20080123,       0616,   -28.6660,  -103.0002,       3611,  1528.8,   2.6589,  34.5672,2,  34.5671,2,    147.5,2,   147.0,2,   90.70,2,   36.00,2,    0.00,2,    2.51,2,-999.000,9,-999.000,9,-999.0000,9,  -999.0,9,  -999.0,9,   -999.0,9,  -999.00,-999.0000,9,  -999.00,-999.000,9,-999.0000,9, -999.00,9, -999.00,9,  -999.0,9,-999.000,9,-999.000,-999.000,9,-999.000,9, -999.00,9, -999.00,9, -999.00,9, -999.00,9, -999.00,9,-999.000,-999.0000,9,-999.0000,9,-999.0000,9,-999.0000,9,-999.0000,9,-999.0000,9,-999.0000,9,-999.0000,9,-999.0000,9,   2.5526,     -999.0,9,     -999.0,9,     -999.0,9,     -999.0,9,     -999.0,9,     -999.0,9,     -999.0,9,-999.0000, -999.00