BOTTLE,20220818CCHSIOAMB
EXPOCODE,SECT_ID,STNNBR,CASTNO,SAMPNO,BTLNBR,BTLNBR_FLAG_W,DATE,TIME,LATITUDE,LONGITUDE,DEPTH,CTDPRS,CTDTMP,CTDSAL,CTDSAL_FLAG_W,SALNTY,SALNTY_FLAG_W,CTDOXY,CTDOXY_FLAG_W,OXYGEN,OXYGEN_FLAG_W,SILCAT,SILCAT_FLAG_W,NITRAT,NITRAT_FLAG_W,NITRIT,NITRIT_FLAG_W,PHSPHT,PHSPHT_FLAG_W,CFC-11,CFC-11_FLAG_W,CFC-12,CFC-12_FLAG_W,SF6,SF6_FLAG_W,TCARBN,TCARBN_FLAG_W,ALKALI,ALKALI_FLAG_W,FCO2,FCO2_FLAG_W,FCO2TMP,PH_SWS,PH_SWS_FLAG_W,PH_TMP,TRITUM,TRITUM_FLAG_W,HELIUM,HELIUM_FLAG_W,DELHE3,DELHE3_FLAG_W,DELC13,DELC13_FLAG_W,DELC14,DELC14_FLAG_W,NEON,NEON_FLAG_W,NEONER,CCL4,CCL4_FLAG_W,POC,POC_FLAG_W,DOC,DOC_FLAG_W,TDN,TDN_FLAG_W,DON,DON_FLAG_W,CHLORA,CHLORA_FLAG_W,ARGON,ARGON_FLAG_W,TRITER,CDOM325,CDOM325_FLAG_W,CDOM340,CDOM340_FLAG_W,CDOM380,CDOM380_FLAG_W,CDOM412,CDOM412_FLAG_W,CDOM443,CDOM443_FLAG_W,CDOM490,CDOM490_FLAG_W,CDOM555,CDOM555_FLAG_W,CDOMSL,CDOMSL_FLAG_W,CDOMSN,CDOMSN_FLAG_W,THETA,D18O_NO3,D18O_NO3_FLAG_W,CDOM2C,CDOM2C_FLAG_W,CDOM3C,CDOM3C_FLAG_W,LAB_DEN,LAB_DEN_FLAG_W,DELSI30,DELSI30_FLAG_W,N2,N2_FLAG_W,D15N_NO3,D15N_NO3_FLAG_W,HELIER,DELHER
,,,,,,,,,,,METERS,DBAR,ITS-90,PSS-78,,PSS-78,,UMOL/KG,,UMOL/KG,,UMOL/KG,,UMOL/KG,,UMOL/KG,,UMOL/KG,,PMOL/KG,,PMOL/KG,,FMOL/KG,,UMOL/KG,,UMOL/KG,,UATM,,DEG C,,,DEG C,TU,,NMOL/KG,,PERCNT,,/MILLE,,/MILLE,,NMOL/KG,,NMOL/KG,PMOL/KG,,UG/KG,,UMOL/KG,,UMOL/KG,,UMOL/KG,,UG/KG,,UMOL/KG,,TU,1/M,,1/M,,1/M,,1/M,,1/M,,1/M,,1/M,,1/NM,,1/NM,,DEG C,/MILLE,,,,,,,,/MILLE,,UMOL/KG,,/MILLE,,NMOL/KG,PERCNT
33RO20071215,        P18,      34,          1,         36,      12017,2,20071226,       1113,     5.0345,  -109.9905,       3961,     4.7,  24.1431,  33.9633,2,  33.9650,2,    211.0,2,   207.1,2,    2.60,2,    2.30,2,    0.05,2,    0.23,2,   1.836,6,   1.155,6,   1.0833,2,  1953.0,6,  2239.3,2,   -999.0,9,  -999.00,   8.0340,2,    25.00,-999.000,9,-999.0000,9, -999.00,9, -999.00,9,  -999.0,9,-999.000,9,-999.000,-999.000,9,-999.000,9, -999.00,9, -999.00,9, -999.00,1, -999.00,9, -999.00,9,-999.000,-999.0000,9,-999.0000,9,-999.0000,9,-999.0000,9,-999.0000,9,-999.0000,9,-999.0000,9,-999.0000,9,-999.0000,9,  24.1421,     -999.0,9,     -999.0,9,     -999.0,9,     -999.0,1,     -999.0,9,     -999.0,9,     -999.0,9,-999.0000, -999.00
33RO20071215,        P18,      34,          1,         35,      12029,2,20071226,       1113,     5.0345,  -109.9905,       3961,     9.6,  24.1412,  33.9654,2,  33.9681,2,    211.0,2,   180.4,3,    2.70,2,    2.30,2,    0.05,2,    0.24,2,   1.866,2,   1.174,2,   1.0786,2,  1952.6,2,  2237.7,2,   -999.0,9,  -999.00,   8.0341,2,    25.00,-999.000,9,-999.0000,9, -999.00,9, -999.00,9,  -999.0,9,-999.000,9,-999.000,-999.000,9,-999.000,9,   73.53,2,    7.26,2, -999.00,1, -999.00,9, -999.00,9,-999.000,-999.0000,9,-999.0000,9,-999.0000,9,-999.0000,9,-999.0000,9,-999.0000,9,-999.0000,9,-999.0000,9,-999.0000,9,  24.1392,     -999.0,9,     -999.0,9,     -999.0,9,     -999.0,1,     -999.0,9,     -999.0,9,     -999.0,9,-999.0000, -999.00
33RO20071215,        P18,      34,          1,         34,      12049,2,20071226,       1113,     5.0345,  -109.9905,       3961,    25.1,  24.1317,  33.9688,2,  33.9691,2,    211.5,2,   204.0,2,    2.80,2,    2.40,2,    0.05,2,    0.25,2,   1.839,2,   1.154,2,   1.0230,2,  1952.8,2,  2237.7,2,   -999.0,9,  -999.00,   8.0309,2,    25.00,-999.000,9,-999.0000,9, -999.00,9, -999.00,9,  -999.0,9,-999.000,9,-999.000,-999.000,9,-999.000,9, -999.00,9, -999.00,9, -999.00,1, -999.00,9, -999.00,9,-999.000,-999.0000,9,-999.0000,9,-999.0000,9,-999.0000,9,-999.0000,9,-999.0000,9,-999.0000,9,-999.0000,9,-999.0000,9,  24.1264,     -999.0,9,     -999.0,9,     -999.0,9,     -999.0,1,     -999.0,9,     -999.0,9,     -999.0,9,-999.0000, -999.00
33RO20071215,        P18,      34,          1,         33,      12027,2,20071226,       1113,     5.0345,  -109.9905,       3961,    50.0,  23.9658,  34.0106,2,  34.0140,2,    211.3,2,   197.4,3,    3.10,2,    3.00,2,    0.06,2,    0.30,2,   1.883,2,   1.177,2,   1.0269,2,  1960.0,2,  2243.6,2,   -999.0,9,  -999.00,   8.0376,2,    25.00,-999.000,9,-999.0000,9, -999.00,9, -999.00,9,  -999.0,9,-999.000,9,-999.000,-999.000,9,-999.000,9,   73.58,2,    7.88,2, -999.00,1, -999.00,9, -999.00,9,-999.000,-999.0000,9,-999.0000,9,-999.0000,9,-999.0000,9,-999.0000,9,-999.0000,9,-999.0000,9,-999.0000,9,-999.0000,9,  23.9554,     -999.0,9,     -999.0,9,     -999.0,9,     -999.0,1,     -999.0,9,     -999.0,9,     -999.0,9,-999.0000, -999.00
33RO20071215,        P18,      34,          1,         32,      12023,2,20071226,       1113,     5.0345,  -109.9905,       3961,    74.0,  22.0174,  34.4293,2,  34.4473,2,    207.4,2,   203.9,2,    6.40,2,    8.60,2,    0.14,2,    0.64,2,   1.956,2,   1.208,2,   1.0828,2,  2031.3,2,  -999.0,5,   -999.0,9,  -999.00,   7.9323,2,    25.00,-999.000,9,-999.0000,9, -999.00,9, -999.00,9,  -999.0,9,-999.000,9,-999.000,-999.000,9,-999.000,9, -999.00,9, -999.00,9, -999.00,1, -999.00,9, -999.00,9,-999.000,-999.0000,9,-999.0000,9,-999.0000,9,-999.0000,9,-999.0000,9,-999.0000,9,-999.0000,9,-999.0000,9,-999.0000,9,  22.0028,     -999.0,9,     -999.0,9,     -999.0,9,     -999.0,1,     -999.0,9,     -999.0,9,     -999.0,9,-999.0000, -999.00
33RO20071215,        P18,      34,          1,         31,      12037,2,20071226,       1113,     5.0345,  -109.9905,       3961,    99.6,  18.9356,  34.7390,2,  34.7023,2,    156.0,2,   150.3,2,   10.40,2,   15.00,2,    0.32,2,    1.10,2,   1.803,2,   1.071,2,   0.8292,2,  2104.1,2,  2016.8,4,   -999.0,9,  -999.00,   7.8143,2,    25.00,-999.000,9,-999.0000,9, -999.00,9, -999.00,9,  -999.0,9,-999.000,9,-999.000,-999.000,9,-999.000,9,   55.43,2,   18.30,2, -999.00,1, -999.00,9, -999.00,9,-999.000,-999.0000,9,-999.0000,9,-999.0000,9,-999.0000,9,-999.0000,9,-999.0000,9,-999.0000,9,-999.0000,9,-999.0000,9,  18.9179,     -999.0,9,     -999.0,9,     -999.0,9,     -999.0,1,     -999.0,9,     -999.0,9,     -999.0,9,-999.0000, -999.00
33RO20071215,        P18,      34,          1,         30,      12036,2,20071226,       1113,     5.0345,  -109.9905,       3961,   123.3,  15.9777,  34.8954,2,  34.8940,2,     81.2,2,    76.1,2,   15.60,2,   23.30,2,    0.14,2,    1.59,2,   1.587,2,   0.902,2,   0.4792,2,  2169.7,2,  2297.0,2,   -999.0,9,  -999.00,   7.6699,2,    25.00,-999.000,9,-999.0000,9, -999.00,9, -999.00,9,  -999.0,9,-999.000,9,-999.000,-999.000,9,-999.000,9, -999.00,9, -999.00,9, -999.00,1, -999.00,9, -999.00,9,-999.000,-999.0000,9,-999.0000,9,-999.0000,9,-999.0000,9,-999.0000,9,-999.0000,9,-999.0000,9,-999.0000,9,-999.0000,9,  15.9582,     -999.0,9,     -999.0,9,     -999.0,9,     -999.0,1,     -999.0,9,     -999.0,9,     -999.0,9,-999.0000, -999.00
33RO20071215,        P18,      34,          1,         29,      12044,2,20071226,       1113,     5.0345,  -109.9905,       3961,   150.3,  13.5404,  34.6831,2,  34.6841,2,     45.3,2,    44.4,2,   22.90,2,   28.20,2,    0.02,2,    2.01,2,   1.283,2,   0.713,2,   0.3810,2,  2205.8,2,  2288.1,2,   -999.0,9,  -999.00,   7.5530,2,    25.00,-999.000,9,-999.0000,9, -999.00,9, -999.00,9,  -999.0,9,-999.000,9,-999.000,-999.000,9,-999.000,9,   48.78,2,   30.92,2, -999.00,1, -999.00,9, -999.00,9,-999.000,-999.0000,9,-999.0000,9,-999.0000,9,-999.0000,9,-999.0000,9,-999.0000,9,-999.0000,9,-999.0000,9,-999.0000,9,  13.5193,     -999.0,9,     -999.0,9,     -999.0,9,     -999.0,1,     -999.0,9,     -999.0,9,     -999.0,9,-999.0000, -999.00
33RO20071215,        P18,      34,          1,         28,      12057,2,20071226,       1113,     5.0345,  -109.9905,       3961,   173.5,  12.2940,  34.7052,2,  34.7080,2,     49.5,2,    47.2,2,   25.70,2,   29.50,2,    0.01,2,    2.10,2,   1.086,2,   0.596,2,   0.2249,2,  2215.8,2,  2292.7,2,   -999.0,9,  -999.00,   7.5390,2,    25.00,-999.000,9,-999.0000,9, -999.00,9, -999.00,9,  -999.0,9,-999.000,9,-999.000,-999.000,9,-999.000,9, -999.00,9, -999.00,9, -999.00,1, -999.00,9, -999.00,9,-999.000,-999.0000,9,-999.0000,9,-999.0000,9,-999.0000,9,-999.0000,9,-999.0000,9,-999.0000,9,-999.0000,9,-999.0000,9,  12.2711,     -999.0,9,     -999.0,9,     -999.0,9,     -999.0,9,     -999.0,9,     -999.0,9,     -999.0,9,-999.0000, -999.00
33RO20071215,        P18,      34,          1,         27,      12026,2,20071226,       1113,     5.0345,  -109.9905,       3961,   200.6,  11.6801,  34.7531,2,  34.7522,2,     44.1,2,    45.0,2,   27.10,2,   31.00,2,    0.01,2,    2.12,2,   0.874,2,   0.480,2,   0.1538,2,  2225.9,2,  2300.3,2,   -999.0,9,  -999.00,   7.5262,2,    25.00,-999.000,9,-999.0000,9, -999.00,9, -999.00,9,  -999.0,9,-999.000,9,-999.000,-999.000,9,-999.000,9,   45.67,2,   32.91,2, -999.00,1, -999.00,9, -999.00,9,-999.000,-999.0000,9,-999.0000,9,-999.0000,9,-999.0000,9,-999.0000,9,-999.0000,9,-999.0000,9,-999.0000,9,-999.0000,9,  11.6544,     -999.0,9,     -999.0,9,     -999.0,9,     -999.0,1,     -999.0,9,     -999.0,9,     -999.0,9,-999.0000, -999.00
33RO20071215,        P18,      34,          1,         26,      12030,2,20071226,       1113,     5.0345,  -109.9905,       3961,   250.9,  10.7663,  34.7114,2,  34.7121,2,     48.8,2,    47.9,2,   29.40,2,   31.90,2,    0.01,2,    2.22,2,   0.685,2,   0.375,2,   0.1285,2,  2231.0,2,  2299.3,2,   -999.0,9,  -999.00,   7.5153,2,    25.00,-999.000,9,-999.0000,9, -999.00,9, -999.00,9,  -999.0,9,-999.000,9,-999.000,-999.000,9,-999.000,9,   44.71,2,   33.35,2, -999.00,1, -999.00,9, -999.00,9,-999.000,-999.0000,9,-999.0000,9,-999.0000,9,-999.0000,9,-999.0000,9,-999.0000,9,-999.0000,9,-999.0000,9,-999.0000,9,  10.7358,     -999.0,9,     -999.0,9,     -999.0,9,     -999.0,9,     -999.0,9,     -999.0,9,     -999.0,9,-999.0000, -999.00
33RO20071215,        P18,      34,          1,         25,      12024,2,20071226,       1113,     5.0345,  -109.9905,       3961,   300.9,  10.2639,  34.7130,2,  34.7119,2,     17.5,2,    17.9,2,   33.80,2,   34.50,2,    0.01,2,    2.52,2,   0.364,2,   0.204,2,   0.0000,2,  2259.2,2,  2302.9,2,   -999.0,9,  -999.00,   7.4247,2,    25.00,-999.000,9,-999.0000,9, -999.00,9, -999.00,9,  -999.0,9,-999.000,9,-999.000,-999.000,9,-999.000,9,   43.11,2,   35.63,2, -999.00,1, -999.00,9, -999.00,9,-999.000,-999.0000,9,-999.0000,9,-999.0000,9,-999.0000,9,-999.0000,9,-999.0000,9,-999.0000,9,-999.0000,9,-999.0000,9,  10.2284,     -999.0,9,     -999.0,9,     -999.0,9,     -999.0,1,     -999.0,9,     -999.0,9,     -999.0,9,-999.0000, -999.00
33RO20071215,        P18,      34,          1,         24,      12019,2,20071226,       1113,     5.0345,  -109.9905,       3961,   351.8,   9.9197,  34.6967,2,  34.6966,2,     38.2,2,    39.8,2,   33.20,2,   34.30,2,    0.01,2,    2.38,2,   0.431,2,   0.237,2,   0.0411,2,  2245.6,2,  2304.0,2,   -999.0,9,  -999.00,   7.4799,2,    25.00,-999.000,9,-999.0000,9, -999.00,9, -999.00,9,  -999.0,9,-999.000,9,-999.000,-999.000,9,-999.000,9,   42.43,2,   35.77,2, -999.00,1, -999.00,9, -999.00,9,-999.000,-999.0000,9,-999.0000,9,-999.0000,9,-999.0000,9,-999.0000,9,-999.0000,9,-999.0000,9,-999.0000,9,-999.0000,9,   9.8789,     -999.0,9,     -999.0,9,     -999.0,9,     -999.0,1,     -999.0,9,     -999.0,9,     -999.0,9,-999.0000, -999.00
33RO20071215,        P18,      34,          1,         23,      12022,2,20071226,       1113,     5.0345,  -109.9905,       3961,   401.5,   9.4348,  34.6754,2,  34.6763,2,     21.6,2,    21.0,2,   37.60,2,   36.20,2,    0.01,2,    2.62,2,   0.243,2,   0.136,2,   0.0000,2,  2263.5,2,  2307.8,2,   -999.0,9,  -999.00,   7.4307,2,    25.00,-999.000,9,-999.0000,9, -999.00,9, -999.00,9,  -999.0,9,-999.000,9,-999.000,-999.000,9,-999.000,9,   41.72,2,   37.57,2, -999.00,1, -999.00,9, -999.00,9,-999.000,-999.0000,9,-999.0000,9,-999.0000,9,-999.0000,9,-999.0000,9,-999.0000,9,-999.0000,9,-999.0000,9,-999.0000,9,   9.3896,     -999.0,9,     -999.0,9,     -999.0,9,     -999.0,9,     -999.0,9,     -999.0,9,     -999.0,9,-999.0000, -999.00
33RO20071215,        P18,      34,          1,         22,      12015,2,20071226,       1113,     5.0345,  -109.9905,       3961,   502.9,   8.2053,  34.6272,2,  34.6282,2,      6.6,2,     6.1,2,   48.30,2,   39.60,2,    0.00,2,    3.02,2,   0.036,2,   0.022,2,   0.0000,2,  2290.5,2,  2314.2,2,   -999.0,9,  -999.00,   7.3766,2,    25.00,-999.000,9,-999.0000,9, -999.00,9, -999.00,9,  -999.0,9,-999.000,9,-999.000,-999.000,9,-999.000,9,   41.37,2,   40.78,2, -999.00,1, -999.00,9, -999.00,9,-999.000,-999.0000,9,-999.0000,9,-999.0000,9,-999.0000,9,-999.0000,9,-999.0000,9,-999.0000,9,-999.0000,9,-999.0000,9,   8.1529,     -999.0,9,     -999.0,9,     -999.0,9,     -999.0,9,     -999.0,9,     -999.0,9,     -999.0,9,-999.0000, -999.00
33RO20071215,        P18,      34,          1,         21,      12020,2,20071226,       1113,     5.0345,  -109.9905,       3961,   602.6,   7.2370,  34.5926,2,  34.5933,2,      9.6,2,     9.3,2,   56.10,2,   41.40,2,    0.00,2,    3.16,2,   0.011,2,   0.008,2,   0.0000,2,  2300.2,6,  2321.6,2,   -999.0,9,  -999.00,   7.3634,2,    25.00,-999.000,9,-999.0000,9, -999.00,9, -999.00,9,  -999.0,9,-999.000,9,-999.000,-999.000,9,-999.000,9,   41.13,2,   42.45,2, -999.00,1, -999.00,9, -999.00,9,-999.000,-999.0000,9,-999.0000,9,-999.0000,9,-999.0000,9,-999.0000,9,-999.0000,9,-999.0000,9,-999.0000,9,-999.0000,9,   7.1782,     -999.0,9,     -999.0,9,     -999.0,9,     -999.0,9,     -999.0,9,     -999.0,9,     -999.0,9,-999.0000, -999.00
33RO20071215,        P18,      34,          1,         20,      12055,2,20071226,       1113,     5.0345,  -109.9905,       3961,   702.2,   6.1831,  34.5642,2,  34.5643,2,     25.9,2,    25.3,2,   65.70,2,   43.00,2,    0.01,2,    3.19,2,   0.004,2,   0.003,2,   0.0000,2,  2305.3,2,  2330.5,2,   -999.0,9,  -999.00,   7.3316,2,    25.00,-999.000,9,-999.0000,9, -999.00,9, -999.00,9,  -999.0,9,-999.000,9,-999.000,-999.000,9,-999.000,9,   40.36,2,   44.08,2, -999.00,1, -999.00,9, -999.00,9,-999.000,-999.0000,9,-999.0000,9,-999.0000,9,-999.0000,9,-999.0000,9,-999.0000,9,-999.0000,9,-999.0000,9,-999.0000,9,   6.1197,     -999.0,9,     -999.0,9,     -999.0,9,     -999.0,1,     -999.0,9,     -999.0,9,     -999.0,9,-999.0000, -999.00
33RO20071215,        P18,      34,          1,         19,      12018,2,20071226,       1113,     5.0345,  -109.9905,       3961,   802.9,   5.4566,  34.5558,2,  34.5564,2,     42.5,2,    39.3,2,   74.40,2,   42.90,2,    0.00,2,    3.11,2,   0.002,2,   0.002,2,   0.0000,2,  2307.5,2,  2342.4,2,   -999.0,9,  -999.00,   7.4067,2,    25.00,-999.000,9,-999.0000,9, -999.00,9, -999.00,9,  -999.0,9,-999.000,9,-999.000,-999.000,9,-999.000,9,   39.47,2,   44.39,2, -999.00,1, -999.00,9, -999.00,9,-999.000,-999.0000,9,-999.0000,9,-999.0000,9,-999.0000,9,-999.0000,9,-999.0000,9,-999.0000,9,-999.0000,9,-999.0000,9,   5.3880,     -999.0,9,     -999.0,9,     -999.0,9,     -999.0,9,     -999.0,9,     -999.0,9,     -999.0,9,-999.0000, -999.00
33RO20071215,        P18,      34,          1,         18,      12025,2,20071226,       1113,     5.0345,  -109.9905,       3961,   903.1,   4.9357,  34.5588,2,  34.5615,2,     49.3,2,    48.8,2,   83.50,2,   42.80,2,    0.00,2,    3.12,2,   0.001,2,   0.001,2,   0.0140,2,  2315.0,2,  2350.6,2,   -999.0,9,  -999.00,   7.4184,2,    25.00,-999.000,9,-999.0000,9, -999.00,9, -999.00,9,  -999.0,9,-999.000,9,-999.000,-999.000,9,-999.000,9,   39.29,2,   44.18,2, -999.00,1, -999.00,9, -999.00,9,-999.000,-999.0000,9,-999.0000,9,-999.0000,9,-999.0000,9,-999.0000,9,-999.0000,9,-999.0000,9,-999.0000,9,-999.0000,9,   4.8615,     -999.0,9,     -999.0,9,     -999.0,9,     -999.0,9,     -999.0,9,     -999.0,9,     -999.0,9,-999.0000, -999.00
33RO20071215,        P18,      34,          1,         17,      12016,2,20071226,       1113,     5.0345,  -109.9905,       3961,   998.3,   4.5846,  34.5633,2,  34.5643,2,     55.4,2,    53.8,2,   90.20,2,   42.40,2,    0.00,2,    3.05,2,   0.000,2,   0.000,2,   0.0136,2,  2319.1,2,  2357.2,2,   -999.0,9,  -999.00,   7.4270,2,    25.00,-999.000,9,-999.0000,9, -999.00,9, -999.00,9,  -999.0,9,-999.000,9,-999.000,-999.000,9,-999.000,9,   38.63,2,   44.05,2, -999.00,1, -999.00,9, -999.00,9,-999.000,-999.0000,9,-999.0000,9,-999.0000,9,-999.0000,9,-999.0000,9,-999.0000,9,-999.0000,9,-999.0000,9,-999.0000,9,   4.5045,     -999.0,9,     -999.0,9,     -999.0,9,     -999.0,9,     -999.0,9,     -999.0,9,     -999.0,9,-999.0000, -999.00
33RO20071215,        P18,      34,          1,         16,      12051,2,20071226,       1113,     5.0345,  -109.9905,       3961,  1095.3,   4.2623,  34.5693,2,  34.5703,2,     61.9,2,    49.3,3,   96.90,2,   42.00,2,    0.00,2,    3.05,2,   0.001,2,   0.001,2,   0.0000,2,  2323.6,2,  2364.8,2,   -999.0,9,  -999.00,   7.4367,2,    25.00,-999.000,9,-999.0000,9, -999.00,9, -999.00,9,  -999.0,9,-999.000,9,-999.000,-999.000,9,-999.000,9,   38.46,2,   43.20,2, -999.00,9, -999.00,9, -999.00,9,-999.000,-999.0000,9,-999.0000,9,-999.0000,9,-999.0000,9,-999.0000,9,-999.0000,9,-999.0000,9,-999.0000,9,-999.0000,9,   4.1763,     -999.0,9,     -999.0,9,     -999.0,9,     -999.0,1,     -999.0,9,     -999.0,9,     -999.0,9,-999.0000, -999.00
33RO20071215,        P18,      34,          1,         15,      12014,2,20071226,       1113,     5.0345,  -109.9905,       3961,  1195.0,   3.8929,  34.5796,2,  34.5804,2,     67.2,2,    66.3,2,  105.40,2,   41.90,2,    0.00,2,    3.05,2,   0.001,2,   0.001,2,   0.0000,2,  2329.9,2,  2373.7,2,   -999.0,9,  -999.00,   7.4404,2,    25.00,-999.000,9,-999.0000,9, -999.00,9, -999.00,9,  -999.0,9,-999.000,9,-999.000,-999.000,9,-999.000,9,   37.97,2,   43.52,2, -999.00,9, -999.00,9, -999.00,9,-999.000,-999.0000,9,-999.0000,9,-999.0000,9,-999.0000,9,-999.0000,9,-999.0000,9,-999.0000,9,-999.0000,9,-999.0000,9,   3.8015,     -999.0,9,     -999.0,9,     -999.0,9,     -999.0,9,     -999.0,9,     -999.0,9,     -999.0,9,-999.0000, -999.00
33RO20071215,        P18,      34,          1,         14,      12013,2,20071226,       1113,     5.0345,  -109.9905,       3961,  1298.8,   3.5848,  34.5936,2,  34.5940,2,     66.2,2,    66.2,2,  114.60,2,   42.10,2,    0.00,2,    3.06,2,   0.001,2,   0.002,2,   0.0000,2,  2340.3,2,  2383.5,2,   -999.0,9,  -999.00,   7.4425,2,    25.00,-999.000,9,-999.0000,9, -999.00,9, -999.00,9,  -999.0,9,-999.000,9,-999.000,-999.000,9,-999.000,9,   37.90,2,   43.76,2, -999.00,9, -999.00,9, -999.00,9,-999.000,-999.0000,9,-999.0000,9,-999.0000,9,-999.0000,9,-999.0000,9,-999.0000,9,-999.0000,9,-999.0000,9,-999.0000,9,   3.4876,     -999.0,9,     -999.0,9,     -999.0,9,     -999.0,9,     -999.0,9,     -999.0,9,     -999.0,9,-999.0000, -999.00
33RO20071215,        P18,      34,          1,         13,      12012,2,20071226,       1113,     5.0345,  -109.9905,       3961,  1405.1,   3.3221,  34.6034,2,  34.6034,2,     70.7,2,    69.9,2,  120.70,2,   41.70,2,    0.00,2,    3.02,2,   0.001,2,   0.001,2,   0.0131,2,  2344.8,2,  2393.2,4,   -999.0,9,  -999.00,   7.4494,2,    25.00,-999.000,9,-999.0000,9, -999.00,9, -999.00,9,  -999.0,9,-999.000,9,-999.000,-999.000,9,-999.000,9,   38.21,2,   42.97,2, -999.00,9, -999.00,9, -999.00,9,-999.000,-999.0000,9,-999.0000,9,-999.0000,9,-999.0000,9,-999.0000,9,-999.0000,9,-999.0000,9,-999.0000,9,-999.0000,9,   3.2186,     -999.0,9,     -999.0,9,     -999.0,9,     -999.0,9,     -999.0,9,     -999.0,9,     -999.0,9,-999.0000, -999.00
33RO20071215,        P18,      34,          1,         12,      12031,2,20071226,       1113,     5.0345,  -109.9905,       3961,  1607.6,   2.8519,  34.6191,2,  34.6191,2,     81.5,2,    81.1,2,  131.50,2,   41.10,2,    0.00,2,    2.96,2,   0.000,2,   0.001,2,   0.0000,2,  2350.1,2,  2405.4,2,   -999.0,9,  -999.00,   7.4647,2,    25.00,-999.000,9,-999.0000,9, -999.00,9, -999.00,9,  -999.0,9,-999.000,9,-999.000,-999.000,9,-999.000,9,   37.97,2,   42.70,2, -999.00,9, -999.00,9, -999.00,9,-999.000,-999.0000,9,-999.0000,9,-999.0000,9,-999.0000,9,-999.0000,9,-999.0000,9,-999.0000,9,-999.0000,9,-999.0000,9,   2.7367,     -999.0,9,     -999.0,9,     -999.0,9,     -999.0,1,     -999.0,9,     -999.0,9,     -999.0,9,-999.0000, -999.00