BOTTLE,20220818CCHSIOAMB
EXPOCODE,SECT_ID,STNNBR,CASTNO,SAMPNO,BTLNBR,BTLNBR_FLAG_W,DATE,TIME,LATITUDE,LONGITUDE,DEPTH,CTDPRS,CTDTMP,CTDSAL,CTDSAL_FLAG_W,SALNTY,SALNTY_FLAG_W,CTDOXY,CTDOXY_FLAG_W,OXYGEN,OXYGEN_FLAG_W,SILCAT,SILCAT_FLAG_W,NITRAT,NITRAT_FLAG_W,NITRIT,NITRIT_FLAG_W,PHSPHT,PHSPHT_FLAG_W,CFC-11,CFC-11_FLAG_W,CFC-12,CFC-12_FLAG_W,SF6,SF6_FLAG_W,TCARBN,TCARBN_FLAG_W,ALKALI,ALKALI_FLAG_W,FCO2,FCO2_FLAG_W,FCO2TMP,PH_SWS,PH_SWS_FLAG_W,PH_TMP,TRITUM,TRITUM_FLAG_W,HELIUM,HELIUM_FLAG_W,DELHE3,DELHE3_FLAG_W,DELC13,DELC13_FLAG_W,DELC14,DELC14_FLAG_W,NEON,NEON_FLAG_W,NEONER,CCL4,CCL4_FLAG_W,POC,POC_FLAG_W,DOC,DOC_FLAG_W,TDN,TDN_FLAG_W,DON,DON_FLAG_W,CHLORA,CHLORA_FLAG_W,ARGON,ARGON_FLAG_W,TRITER,CDOM325,CDOM325_FLAG_W,CDOM340,CDOM340_FLAG_W,CDOM380,CDOM380_FLAG_W,CDOM412,CDOM412_FLAG_W,CDOM443,CDOM443_FLAG_W,CDOM490,CDOM490_FLAG_W,CDOM555,CDOM555_FLAG_W,CDOMSL,CDOMSL_FLAG_W,CDOMSN,CDOMSN_FLAG_W,THETA,D18O_NO3,D18O_NO3_FLAG_W,CDOM2C,CDOM2C_FLAG_W,CDOM3C,CDOM3C_FLAG_W,LAB_DEN,LAB_DEN_FLAG_W,DELSI30,DELSI30_FLAG_W,N2,N2_FLAG_W,D15N_NO3,D15N_NO3_FLAG_W,HELIER,DELHER
,,,,,,,,,,,METERS,DBAR,ITS-90,PSS-78,,PSS-78,,UMOL/KG,,UMOL/KG,,UMOL/KG,,UMOL/KG,,UMOL/KG,,UMOL/KG,,PMOL/KG,,PMOL/KG,,FMOL/KG,,UMOL/KG,,UMOL/KG,,UATM,,DEG C,,,DEG C,TU,,NMOL/KG,,PERCNT,,/MILLE,,/MILLE,,NMOL/KG,,NMOL/KG,PMOL/KG,,UG/KG,,UMOL/KG,,UMOL/KG,,UMOL/KG,,UG/KG,,UMOL/KG,,TU,1/M,,1/M,,1/M,,1/M,,1/M,,1/M,,1/M,,1/NM,,1/NM,,DEG C,/MILLE,,,,,,,,/MILLE,,UMOL/KG,,/MILLE,,NMOL/KG,PERCNT
33RO20071215,        P18,     122,          1,         11,      12003,2,20080129,       1606,   -42.0818,  -102.9995,       3829,  1866.9,   2.4102,  34.6073,2,-999.0000,9,    157.3,2,   157.6,2,   91.40,2,   35.00,2,    0.00,2,    2.40,2,   0.032,2,   0.018,2,   0.0000,2,  -999.0,9,  -999.0,9,   -999.0,9,  -999.00,-999.0000,9,  -999.00,-999.000,9,-999.0000,9, -999.00,9, -999.00,9,  -999.0,9,-999.000,9,-999.000,-999.000,9,-999.000,9,   36.31,2,   36.54,2, -999.00,9, -999.00,9, -999.00,9,-999.000,   0.1225,2,   0.0833,2,   0.0442,2,   0.0300,2,   0.0183,2,   0.0065,2,   0.0010,2,   0.0155,2,   0.0169,2,   2.2790,     -999.0,9,     -999.0,9,     -999.0,9,     -999.0,9,     -999.0,9,     -999.0,9,     -999.0,9,-999.0000, -999.00
33RO20071215,        P18,     122,          1,         10,      12032,2,20080129,       1606,   -42.0818,  -102.9995,       3829,  2066.4,   2.2228,  34.6502,2,  34.6507,2,    164.3,2,   164.6,2,   95.40,2,   34.10,2,    0.00,2,    2.33,2,-999.000,9,-999.000,9,-999.0000,9,  2272.1,2,  2364.3,2,   -999.0,9,  -999.00,   7.5717,2,    25.00,-999.000,9,-999.0000,9, -999.00,9, -999.00,9,  -999.0,9,-999.000,9,-999.000,-999.000,9,-999.000,9,   36.46,2,   35.25,2, -999.00,9, -999.00,9, -999.00,9,-999.000,   0.1231,2,   0.0839,2,   0.0440,2,   0.0295,2,   0.0180,2,   0.0064,2,   0.0009,2,   0.0157,2,   0.0172,2,   2.0772,     -999.0,9,     -999.0,9,     -999.0,9,     -999.0,9,     -999.0,9,     -999.0,9,     -999.0,9,-999.0000, -999.00
33RO20071215,        P18,     122,          1,          9,      12002,2,20080129,       1606,   -42.0818,  -102.9995,       3829,  2268.0,   2.0566,  34.6769,2,  34.6777,2,    167.2,2,   167.9,2,  101.70,2,   33.70,2,    0.00,2,    2.31,2,   0.022,2,   0.011,2,   0.0000,2,  -999.0,9,  -999.0,9,   -999.0,9,  -999.00,-999.0000,9,  -999.00,-999.000,9,-999.0000,9, -999.00,9, -999.00,9,  -999.0,9,-999.000,9,-999.000,   0.050,3,-999.000,9,   37.07,2,   35.30,2, -999.00,9, -999.00,9, -999.00,9,-999.000,   0.1210,2,   0.0818,2,   0.0421,2,   0.0278,2,   0.0166,2,   0.0053,2,   0.0004,3,   0.0161,2,   0.0178,2,   1.8960,     -999.0,9,     -999.0,9,     -999.0,9,     -999.0,9,     -999.0,9,     -999.0,9,     -999.0,9,-999.0000, -999.00
33RO20071215,        P18,     122,          1,          8,      12021,2,20080129,       1606,   -42.0818,  -102.9995,       3829,  2465.6,   1.9122,  34.6916,2,  34.6924,2,    169.8,2,   170.3,2,  107.00,2,   33.60,2,    0.00,2,    2.29,2,-999.000,9,-999.000,9,-999.0000,9,  2279.1,2,  2379.8,2,   -999.0,9,  -999.00,   7.5752,2,    25.00,-999.000,9,-999.0000,9, -999.00,9, -999.00,9,  -999.0,9,-999.000,9,-999.000,-999.000,9,-999.000,9,   37.69,2,   35.18,2, -999.00,9, -999.00,9, -999.00,9,-999.000,   0.1194,2,   0.0804,2,   0.0410,2,   0.0267,2,   0.0157,2,   0.0046,2,   0.0000,4,   0.0164,2,   0.0181,2,   1.7365,     -999.0,9,     -999.0,9,     -999.0,9,     -999.0,9,     -999.0,9,     -999.0,9,     -999.0,9,-999.0000, -999.00
33RO20071215,        P18,     122,          1,          7,      12001,2,20080129,       1606,   -42.0818,  -102.9995,       3829,  2666.6,   1.7959,  34.6987,2,  34.7012,2,    172.1,2,   172.6,2,  111.10,2,   33.50,2,    0.00,2,    2.29,2,-999.000,5,-999.000,5,-999.0000,5,  -999.0,9,  -999.0,9,   -999.0,9,  -999.00,-999.0000,9,  -999.00,-999.000,9,-999.0000,9, -999.00,9, -999.00,9,  -999.0,9,-999.000,9,-999.000,-999.000,1,-999.000,9,   37.22,2,   35.32,2, -999.00,9, -999.00,9, -999.00,9,-999.000,   0.1205,2,   0.0814,2,   0.0414,2,   0.0271,2,   0.0162,2,   0.0054,2,   0.0006,3,   0.0162,2,   0.0180,2,   1.6040,     -999.0,9,     -999.0,9,     -999.0,9,     -999.0,9,     -999.0,9,     -999.0,9,     -999.0,9,-999.0000, -999.00
33RO20071215,        P18,     122,          1,          6,      12033,2,20080129,       1606,   -42.0818,  -102.9995,       3829,  2865.2,   1.7248,  34.7026,2,  34.7044,2,    174.7,2,   174.9,2,  112.10,2,   33.40,2,    0.00,2,    2.27,2,-999.000,9,-999.000,9,-999.0000,9,  2281.1,2,  2379.9,2,   -999.0,9,  -999.00,   7.5964,2,    25.00,-999.000,9,-999.0000,9, -999.00,9, -999.00,9,  -999.0,9,-999.000,9,-999.000,-999.000,9,-999.000,9,   37.51,2,   34.79,2, -999.00,9, -999.00,9, -999.00,9,-999.000,   0.1137,2,   0.0748,2,   0.0365,2,   0.0237,2,   0.0143,2,   0.0053,3,   0.0013,3,   0.0165,2,   0.0192,2,   1.5158,     -999.0,9,     -999.0,9,     -999.0,9,     -999.0,9,     -999.0,9,     -999.0,9,     -999.0,9,-999.0000, -999.00
33RO20071215,        P18,     122,          1,          5,      12008,2,20080129,       1606,   -42.0818,  -102.9995,       3829,  3083.6,   1.6464,  34.7065,2,  34.7079,2,    178.3,2,   179.1,2,  114.00,2,   33.20,2,    0.00,2,    2.26,2,   0.006,2,   0.004,2,   0.0000,2,  -999.0,9,  -999.0,9,   -999.0,9,  -999.00,-999.0000,9,  -999.00,-999.000,9,-999.0000,9, -999.00,9, -999.00,9,  -999.0,9,-999.000,9,-999.000,   0.022,3,-999.000,9,   38.79,2,   34.49,2, -999.00,9, -999.00,9, -999.00,9,-999.000,   0.1067,2,   0.0680,2,   0.0305,2,   0.0191,2,   0.0112,2,   0.0045,2,   0.0017,2,   0.0180,2,   0.0217,2,   1.4181,     -999.0,9,     -999.0,9,     -999.0,9,     -999.0,9,     -999.0,9,     -999.0,9,     -999.0,9,-999.0000, -999.00
33RO20071215,        P18,     122,          1,          4,      12009,2,20080129,       1606,   -42.0818,  -102.9995,       3829,  3333.1,   1.4680,  34.7081,2,  34.7091,2,    183.6,2,   183.7,2,  119.00,6,   33.20,6,    0.00,6,    2.25,2,-999.000,9,-999.000,9,-999.0000,9,  2281.8,2,  2383.7,2,   -999.0,9,  -999.00,   7.5933,2,    25.00,-999.000,9,-999.0000,9, -999.00,9, -999.00,9,  -999.0,9,-999.000,9,-999.000,-999.000,9,-999.000,9,   39.21,2,   34.74,2, -999.00,9, -999.00,9, -999.00,9,-999.000,   0.1048,2,   0.0667,2,   0.0301,2,   0.0184,2,   0.0105,2,   0.0037,2,   0.0009,2,   0.0184,2,   0.0218,2,   1.2193,     -999.0,9,     -999.0,9,     -999.0,9,     -999.0,9,     -999.0,9,     -999.0,9,     -999.0,9,-999.0000, -999.00
33RO20071215,        P18,     122,          1,          3,      12006,2,20080129,       1606,   -42.0818,  -102.9995,       3829,  3582.8,   1.2820,  34.7089,2,  34.7103,2,    188.4,2,   189.1,2,  123.70,6,   33.20,6,    0.00,6,    2.25,2,   0.003,2,   0.002,2,   0.0000,2,  -999.0,9,  -999.0,9,   -999.0,9,  -999.00,-999.0000,9,  -999.00,-999.000,9,-999.0000,9, -999.00,9, -999.00,9,  -999.0,9,-999.000,9,-999.000,   0.018,3,-999.000,9,   39.34,2,   34.45,2, -999.00,9, -999.00,9, -999.00,9,-999.000,   0.1047,2,   0.0665,2,   0.0300,2,   0.0184,2,   0.0107,2,   0.0043,2,   0.0014,2,   0.0183,2,   0.0218,2,   1.0128,     -999.0,9,     -999.0,9,     -999.0,9,     -999.0,9,     -999.0,9,     -999.0,9,     -999.0,9,-999.0000, -999.00
33RO20071215,        P18,     122,          1,          2,      12007,2,20080129,       1606,   -42.0818,  -102.9995,       3829,  3833.2,   1.2147,  34.7092,2,  34.7109,2,    191.9,2,   192.1,2,  125.20,6,   33.10,6,    0.00,6,    2.25,2,-999.000,9,-999.000,9,-999.0000,9,  -999.0,9,  -999.0,9,   -999.0,9,  -999.00,-999.0000,9,  -999.00,-999.000,9,-999.0000,9, -999.00,9, -999.00,9,  -999.0,9,-999.000,9,-999.000,-999.000,9,-999.000,9,   39.46,2,   34.65,2, -999.00,9, -999.00,9, -999.00,9,-999.000,   0.1057,2,   0.0677,2,   0.0310,2,   0.0190,2,   0.0109,2,   0.0040,2,   0.0010,2,   0.0181,2,   0.0214,2,   0.9213,     -999.0,9,     -999.0,9,     -999.0,9,     -999.0,9,     -999.0,9,     -999.0,9,     -999.0,9,-999.0000, -999.00
33RO20071215,        P18,     122,          1,          1,      12035,2,20080129,       1606,   -42.0818,  -102.9995,       3829,  3850.6,   1.2166,  34.7091,2,  34.7112,2,    192.3,2,   191.8,2,  125.10,2,   33.10,2,    0.01,2,    2.24,2,   0.003,2,   0.002,2,   0.0000,2,  2279.9,6,  2387.7,2,   -999.0,9,  -999.00,   7.6154,2,    25.00,-999.000,9,-999.0000,9, -999.00,9, -999.00,9,  -999.0,9,-999.000,9,-999.000,   0.014,3,-999.000,9,   39.16,2,   34.43,2, -999.00,9, -999.00,9, -999.00,9,-999.000,   0.1078,2,   0.0696,2,   0.0321,2,   0.0195,2,   0.0111,2,   0.0036,2,   0.0004,3,   0.0182,2,   0.0212,2,   0.9214,     -999.0,9,     -999.0,9,     -999.0,9,     -999.0,9,     -999.0,9,     -999.0,9,     -999.0,9,-999.0000, -999.00