BOTTLE,20220818CCHSIOAMB
EXPOCODE,SECT_ID,STNNBR,CASTNO,SAMPNO,BTLNBR,BTLNBR_FLAG_W,DATE,TIME,LATITUDE,LONGITUDE,DEPTH,CTDPRS,CTDTMP,CTDSAL,CTDSAL_FLAG_W,SALNTY,SALNTY_FLAG_W,CTDOXY,CTDOXY_FLAG_W,OXYGEN,OXYGEN_FLAG_W,SILCAT,SILCAT_FLAG_W,NITRAT,NITRAT_FLAG_W,NITRIT,NITRIT_FLAG_W,PHSPHT,PHSPHT_FLAG_W,CFC-11,CFC-11_FLAG_W,CFC-12,CFC-12_FLAG_W,SF6,SF6_FLAG_W,TCARBN,TCARBN_FLAG_W,ALKALI,ALKALI_FLAG_W,FCO2,FCO2_FLAG_W,FCO2TMP,PH_SWS,PH_SWS_FLAG_W,PH_TMP,TRITUM,TRITUM_FLAG_W,HELIUM,HELIUM_FLAG_W,DELHE3,DELHE3_FLAG_W,DELC13,DELC13_FLAG_W,DELC14,DELC14_FLAG_W,NEON,NEON_FLAG_W,NEONER,CCL4,CCL4_FLAG_W,POC,POC_FLAG_W,DOC,DOC_FLAG_W,TDN,TDN_FLAG_W,DON,DON_FLAG_W,CHLORA,CHLORA_FLAG_W,ARGON,ARGON_FLAG_W,TRITER,CDOM325,CDOM325_FLAG_W,CDOM340,CDOM340_FLAG_W,CDOM380,CDOM380_FLAG_W,CDOM412,CDOM412_FLAG_W,CDOM443,CDOM443_FLAG_W,CDOM490,CDOM490_FLAG_W,CDOM555,CDOM555_FLAG_W,CDOMSL,CDOMSL_FLAG_W,CDOMSN,CDOMSN_FLAG_W,THETA,D18O_NO3,D18O_NO3_FLAG_W,CDOM2C,CDOM2C_FLAG_W,CDOM3C,CDOM3C_FLAG_W,LAB_DEN,LAB_DEN_FLAG_W,DELSI30,DELSI30_FLAG_W,N2,N2_FLAG_W,D15N_NO3,D15N_NO3_FLAG_W,HELIER,DELHER
,,,,,,,,,,,METERS,DBAR,ITS-90,PSS-78,,PSS-78,,UMOL/KG,,UMOL/KG,,UMOL/KG,,UMOL/KG,,UMOL/KG,,UMOL/KG,,PMOL/KG,,PMOL/KG,,FMOL/KG,,UMOL/KG,,UMOL/KG,,UATM,,DEG C,,,DEG C,TU,,NMOL/KG,,PERCNT,,/MILLE,,/MILLE,,NMOL/KG,,NMOL/KG,PMOL/KG,,UG/KG,,UMOL/KG,,UMOL/KG,,UMOL/KG,,UG/KG,,UMOL/KG,,TU,1/M,,1/M,,1/M,,1/M,,1/M,,1/M,,1/M,,1/NM,,1/NM,,DEG C,/MILLE,,,,,,,,/MILLE,,UMOL/KG,,/MILLE,,NMOL/KG,PERCNT
33RO20071215,        P18,     104,          1,         36,      12017,2,20080124,       1332,   -31.5828,  -103.0005,       3448,     4.6,  23.9966,  35.1220,2,  35.0995,2,    218.4,2,   217.8,2,    0.60,2,    0.00,2,    0.00,2,    0.08,2,   1.990,2,   1.239,2,   1.0304,2,  2043.7,6,  2329.2,2,   -999.0,9,  -999.00,   7.9885,2,    25.00,-999.000,9,-999.0000,9, -999.00,9, -999.00,9,  -999.0,9,-999.000,9,-999.000,-999.000,9,-999.000,9,   68.38,2,    4.90,2, -999.00,9,    0.03,2, -999.00,9,-999.000,   0.0314,2,   0.0191,2,   0.0050,2,   0.0036,2,   0.0009,2,   0.0001,4,  -0.0015,4,   0.0022,4,   0.0352,2,  23.9957,     -999.0,9,     -999.0,9,     -999.0,9,     -999.0,9,     -999.0,9,     -999.0,9,     -999.0,9,-999.0000, -999.00
33RO20071215,        P18,     104,          1,         35,      12029,2,20080124,       1332,   -31.5828,  -103.0005,       3448,    13.2,  22.8370,  35.0106,2,  35.0311,2,    220.0,2,   221.4,2,    0.60,2,    0.00,2,    0.00,2,    0.07,2,   2.034,2,   1.256,2,   1.1335,2,  2041.1,2,  2333.9,2,   -999.0,9,  -999.00,   7.9889,2,    25.00,-999.000,9,-999.0000,9, -999.00,9, -999.00,9,  -999.0,9,-999.000,9,-999.000,-999.000,9,-999.000,9,   68.35,2,    3.85,2, -999.00,9,    0.03,2, -999.00,9,-999.000,   0.0296,2,   0.0173,2,   0.0045,2,   0.0028,2,   0.0002,4,  -0.0007,4,  -0.0019,4,   0.0021,4,   0.0366,2,  22.8343,     -999.0,9,     -999.0,9,     -999.0,9,     -999.0,9,     -999.0,9,     -999.0,9,     -999.0,9,-999.0000, -999.00
33RO20071215,        P18,     104,          1,         34,      12049,2,20080124,       1332,   -31.5828,  -103.0005,       3448,    26.9,  21.5485,  35.1177,2,  35.1347,2,    232.2,2,   232.6,2,    0.60,2,    0.00,2,    0.00,2,    0.08,2,-999.000,5,-999.000,5,-999.0000,5,  2044.7,2,  2310.2,2,   -999.0,9,  -999.00,   7.9812,2,    25.00,-999.000,9,-999.0000,9, -999.00,9, -999.00,9,  -999.0,9,-999.000,9,-999.000,-999.000,9,-999.000,9,   65.59,2,    4.48,2, -999.00,9,    0.04,2, -999.00,9,-999.000,   0.0403,2,   0.0259,2,   0.0097,2,   0.0068,2,   0.0033,2,   0.0016,2,  -0.0006,4,   0.0042,2,   0.0300,2,  21.5433,     -999.0,9,     -999.0,9,     -999.0,9,     -999.0,9,     -999.0,9,     -999.0,9,     -999.0,9,-999.0000, -999.00
33RO20071215,        P18,     104,          1,         33,      12027,2,20080124,       1332,   -31.5828,  -103.0005,       3448,    47.0,  18.6957,  34.8838,2,  34.8846,2,    247.0,2,   249.2,2,    0.60,2,    0.00,2,    0.00,2,    0.07,2,   2.558,2,   1.530,2,   1.3333,2,  2035.1,2,  2307.2,2,   -999.0,9,  -999.00,   7.9772,2,    25.00,-999.000,9,-999.0000,9, -999.00,9, -999.00,9,  -999.0,9,-999.000,9,-999.000,-999.000,9,-999.000,9,   64.92,2,    3.99,2, -999.00,9,    0.04,2, -999.00,9,-999.000,   0.0559,2,   0.0354,2,   0.0130,2,   0.0082,2,   0.0037,2,   0.0014,2,  -0.0009,4,   0.0073,2,   0.0277,2,  18.6874,     -999.0,9,     -999.0,9,     -999.0,9,     -999.0,9,     -999.0,9,     -999.0,9,     -999.0,9,-999.0000, -999.00
33RO20071215,        P18,     104,          1,         32,      12023,2,20080124,       1332,   -31.5828,  -103.0005,       3448,    65.5,  17.6079,  34.8921,2,  34.8973,2,    252.9,2,   253.2,2,    0.60,2,    0.00,2,    0.00,2,    0.08,2,   2.597,2,   1.555,2,   1.3084,2,  2034.4,2,  2398.7,4,   -999.0,9,  -999.00,   8.0179,2,    25.00,-999.000,9,-999.0000,9, -999.00,9, -999.00,9,  -999.0,9,-999.000,9,-999.000,-999.000,9,-999.000,9,   64.75,2,    4.26,2, -999.00,9,    0.04,2, -999.00,9,-999.000,   0.0727,2,   0.0470,2,   0.0185,2,   0.0116,2,   0.0062,2,   0.0028,2,  -0.0002,4,   0.0097,2,   0.0247,2,  17.5968,     -999.0,9,     -999.0,9,     -999.0,9,     -999.0,9,     -999.0,9,     -999.0,9,     -999.0,9,-999.0000, -999.00
33RO20071215,        P18,     104,          1,         31,      12037,2,20080124,       1332,   -31.5828,  -103.0005,       3448,    87.2,  17.2305,  34.9424,2,  34.9412,2,    250.1,2,   251.2,2,    0.60,2,    0.10,2,    0.00,2,    0.09,2,   2.601,2,   1.556,2,   1.3302,2,  2038.0,2,  2309.6,2,   -999.0,9,  -999.00,   7.9811,2,    25.00,-999.000,9,-999.0000,9, -999.00,9, -999.00,9,  -999.0,9,-999.000,9,-999.000,-999.000,9,-999.000,9,   63.70,2,    4.07,2, -999.00,9,    0.07,2, -999.00,9,-999.000,   0.0846,2,   0.0565,2,   0.0233,2,   0.0149,2,   0.0080,2,   0.0036,2,   0.0002,4,   0.0109,2,   0.0226,2,  17.2160,     -999.0,9,     -999.0,9,     -999.0,9,     -999.0,9,     -999.0,9,     -999.0,9,     -999.0,9,-999.0000, -999.00
33RO20071215,        P18,     104,          1,         30,      12036,2,20080124,       1332,   -31.5828,  -103.0005,       3448,   109.3,  16.7900,  34.9373,2,  34.9273,2,    248.6,2,   248.4,2,    0.60,2,    0.00,2,    0.00,2,    0.10,2,   2.625,2,   1.570,2,   1.2788,2,  2039.5,2,  2305.7,2,   -999.0,9,  -999.00,   7.9569,2,    25.00,-999.000,9,-999.0000,9, -999.00,9, -999.00,9,  -999.0,9,-999.000,9,-999.000,-999.000,9,-999.000,9,   61.80,2,    3.96,2, -999.00,9,    0.12,2, -999.00,9,-999.000,   0.1098,2,   0.0786,2,   0.0394,2,   0.0285,2,   0.0188,2,   0.0105,2,   0.0043,2,   0.0135,2,   0.0158,2,  16.7721,     -999.0,9,     -999.0,9,     -999.0,9,     -999.0,9,     -999.0,9,     -999.0,9,     -999.0,9,-999.0000, -999.00
33RO20071215,        P18,     104,          1,         29,      12044,2,20080124,       1332,   -31.5828,  -103.0005,       3448,   132.7,  16.3890,  34.9225,2,  34.9229,2,    240.0,2,   243.0,2,    0.60,2,    0.10,2,    0.02,2,    0.12,2,   2.636,2,   1.568,2,   1.2773,2,  2045.6,2,  2301.0,2,   -999.0,9,  -999.00,   7.9398,2,    25.00,-999.000,9,-999.0000,9, -999.00,9, -999.00,9,  -999.0,9,-999.000,9,-999.000,-999.000,9,-999.000,9,   59.00,2,    4.06,2, -999.00,9,    0.19,2, -999.00,9,-999.000,   0.0821,2,   0.0577,2,   0.0275,2,   0.0200,2,   0.0110,2,   0.0048,2,   0.0009,2,   0.0156,2,   0.0180,2,  16.3677,     -999.0,9,     -999.0,9,     -999.0,9,     -999.0,9,     -999.0,9,     -999.0,9,     -999.0,9,-999.0000, -999.00
33RO20071215,        P18,     104,          1,         28,      12057,2,20080124,       1332,   -31.5828,  -103.0005,       3448,   158.0,  15.8468,  34.8318,2,  34.8313,2,    236.9,2,   236.1,2,    0.70,2,    1.10,2,    0.34,2,    0.19,2,   2.688,6,   1.593,6,   1.2593,6,  2051.3,2,  -999.0,5,   -999.0,9,  -999.00,   7.9197,2,    25.00,-999.000,9,-999.0000,9, -999.00,9, -999.00,9,  -999.0,9,-999.000,9,-999.000,-999.000,9,-999.000,9,   56.66,2,    5.21,2, -999.00,9,    0.15,2, -999.00,9,-999.000,   0.0655,2,   0.0452,2,   0.0203,2,   0.0144,2,   0.0068,2,   0.0019,2,  -0.0008,4,   0.0170,2,   0.0200,2,  15.8220,     -999.0,9,     -999.0,9,     -999.0,9,     -999.0,9,     -999.0,9,     -999.0,9,     -999.0,9,-999.0000, -999.00
33RO20071215,        P18,     104,          1,         27,      12026,2,20080124,       1332,   -31.5828,  -103.0005,       3448,   183.2,  14.8182,  34.6832,2,  34.6671,2,    228.1,2,   226.9,2,    0.80,2,    3.90,2,    0.08,2,    0.34,2,   2.808,2,   1.633,2,   1.1190,2,  2061.9,2,  2305.0,4,   -999.0,9,  -999.00,   7.8650,2,    25.00,-999.000,9,-999.0000,9, -999.00,9, -999.00,9,  -999.0,9,-999.000,9,-999.000,-999.000,9,-999.000,9,   53.40,2,    7.01,2, -999.00,9,    0.08,2, -999.00,9,-999.000,   0.0682,2,   0.0460,2,   0.0205,2,   0.0153,2,   0.0072,2,   0.0022,2,  -0.0004,4,   0.0166,2,   0.0203,2,  14.7908,     -999.0,9,     -999.0,9,     -999.0,9,     -999.0,9,     -999.0,9,     -999.0,9,     -999.0,9,-999.0000, -999.00
33RO20071215,        P18,     104,          1,         26,      12030,2,20080124,       1332,   -31.5828,  -103.0005,       3448,   217.1,  13.0410,  34.4319,2,  34.4332,2,    229.4,2,   229.4,2,    1.00,2,    6.90,2,    0.02,2,    0.51,2,   3.117,2,   1.791,2,   1.2853,2,  2072.5,2,  2293.8,4,   -999.0,9,  -999.00,   7.8021,2,    25.00,-999.000,9,-999.0000,9, -999.00,9, -999.00,9,  -999.0,9,-999.000,9,-999.000,-999.000,9,-999.000,9,   49.98,2,    9.12,2, -999.00,9,    0.04,2, -999.00,9,-999.000,   0.0737,2,   0.0497,2,   0.0229,2,   0.0172,2,   0.0085,2,   0.0026,2,  -0.0004,4,   0.0160,2,   0.0194,2,  13.0112,     -999.0,9,     -999.0,9,     -999.0,9,     -999.0,9,     -999.0,9,     -999.0,9,     -999.0,9,-999.0000, -999.00
33RO20071215,        P18,     104,          1,         25,      12024,2,20080124,       1332,   -31.5828,  -103.0005,       3448,   266.8,  11.4396,  34.4234,2,  34.4189,2,    212.5,2,   216.4,2,    1.90,2,   12.70,2,    0.01,2,    0.85,2,   3.321,2,   1.824,2,   1.0472,2,  2100.9,2,  2293.5,4,   -999.0,9,  -999.00,   7.7551,2,    25.00,-999.000,9,-999.0000,9, -999.00,9, -999.00,9,  -999.0,9,-999.000,9,-999.000,-999.000,9,-999.000,9,   46.36,2,   14.62,2, -999.00,9, -999.00,9, -999.00,9,-999.000,   0.0729,2,   0.0481,2,   0.0222,2,   0.0166,2,   0.0081,2,   0.0021,2,  -0.0008,4,   0.0162,2,   0.0199,2,  11.4059,     -999.0,9,     -999.0,9,     -999.0,9,     -999.0,9,     -999.0,9,     -999.0,9,     -999.0,9,-999.0000, -999.00
33RO20071215,        P18,     104,          1,         24,      12019,2,20080124,       1332,   -31.5828,  -103.0005,       3448,   317.5,   9.6674,  34.3221,2,  34.3232,2,    219.9,2,   218.8,2,    3.00,2,   16.90,2,    0.00,2,    1.13,2,   3.526,2,   1.878,2,   1.0328,2,  2116.6,2,  2289.5,2,   -999.0,9,  -999.00,-999.0000,9,  -999.00,-999.000,9,-999.0000,9, -999.00,9, -999.00,9,  -999.0,9,-999.000,9,-999.000,-999.000,9,-999.000,9,   44.80,2,   17.97,2, -999.00,9, -999.00,9, -999.00,9,-999.000,   0.0763,2,   0.0504,2,   0.0248,2,   0.0184,2,   0.0099,2,   0.0037,2,   0.0002,3,   0.0153,2,   0.0185,2,   9.6314,     -999.0,9,     -999.0,9,     -999.0,9,     -999.0,9,     -999.0,9,     -999.0,9,     -999.0,9,-999.0000, -999.00
33RO20071215,        P18,     104,          1,         23,      12022,2,20080124,       1332,   -31.5828,  -103.0005,       3448,   364.5,   8.3755,  34.2840,2,  34.2854,2,    222.2,2,   221.6,2,    4.40,2,   20.10,2,    0.00,2,    1.34,2,  -0.001,4,   0.000,4,   0.0000,2,  2130.4,2,  2270.7,2,   -999.0,9,  -999.00,   7.6787,2,    25.00,-999.000,9,-999.0000,9, -999.00,9, -999.00,9,  -999.0,9,-999.000,9,-999.000,-999.000,9,-999.000,9,   43.58,2,   21.59,2, -999.00,9, -999.00,9, -999.00,9,-999.000,   0.0753,2,   0.0490,2,   0.0237,2,   0.0173,2,   0.0091,2,   0.0030,2,  -0.0004,4,   0.0158,2,   0.0193,2,   8.3376,     -999.0,9,     -999.0,9,     -999.0,9,     -999.0,9,     -999.0,9,     -999.0,9,     -999.0,9,-999.0000, -999.00
33RO20071215,        P18,     104,          1,         22,      12015,2,20080124,       1332,   -31.5828,  -103.0005,       3448,   433.3,   6.9507,  34.3003,2,  34.2998,2,    232.2,2,   232.0,2,    6.90,2,   23.20,2,    0.00,2,    1.53,2,   3.674,2,   1.869,2,   0.8402,2,  -999.0,9,  -999.0,9,   -999.0,9,  -999.00,-999.0000,9,  -999.00,-999.000,9,-999.0000,9, -999.00,9, -999.00,9,  -999.0,9,-999.000,9,-999.000,-999.000,9,-999.000,9,   42.84,2,   24.43,2, -999.00,9, -999.00,9, -999.00,9,-999.000,   0.0704,2,   0.0440,2,   0.0204,2,   0.0146,2,   0.0073,2,   0.0020,2,  -0.0009,4,   0.0169,2,   0.0215,2,   6.9101,     -999.0,9,     -999.0,9,     -999.0,9,     -999.0,9,     -999.0,9,     -999.0,9,     -999.0,9,-999.0000, -999.00
33RO20071215,        P18,     104,          1,         21,      12020,2,20080124,       1332,   -31.5828,  -103.0005,       3448,   531.3,   6.3070,  34.3042,2,  34.3041,2,    245.1,2,   244.7,2,    8.30,2,   23.80,2,    0.00,2,    1.56,2,   3.613,2,   1.802,2,   0.8111,2,  2141.8,2,  -999.0,9,   -999.0,9,  -999.00,   7.7026,2,    25.00,-999.000,9,-999.0000,9, -999.00,9, -999.00,9,  -999.0,9,-999.000,9,-999.000,-999.000,9,-999.000,9,   42.37,2,   25.44,2, -999.00,9, -999.00,9, -999.00,9,-999.000,   0.0644,2,   0.0390,2,   0.0172,2,   0.0116,2,   0.0052,2,   0.0005,3,  -0.0018,4,   0.0189,2,   0.0242,2,   6.2594,     -999.0,9,     -999.0,9,     -999.0,9,     -999.0,9,     -999.0,9,     -999.0,9,     -999.0,9,-999.0000, -999.00
33RO20071215,        P18,     104,          1,         20,      12055,2,20080124,       1332,   -31.5828,  -103.0005,       3448,   632.2,   5.8589,  34.2831,2,  34.2843,2,    247.3,2,   246.8,2,    9.90,2,   24.70,2,    0.00,2,    1.62,2,   3.306,2,   1.630,2,   0.6157,2,  -999.0,9,  -999.0,9,   -999.0,9,  -999.00,-999.0000,9,  -999.00,-999.000,9,-999.0000,9, -999.00,9, -999.00,9,  -999.0,9,-999.000,9,-999.000,-999.000,9,-999.000,9,   41.87,2,   26.14,2, -999.00,9, -999.00,9, -999.00,9,-999.000,   0.0673,2,   0.0415,2,   0.0188,2,   0.0129,2,   0.0063,2,   0.0015,3,  -0.0012,4,   0.0180,2,   0.0228,2,   5.8040,     -999.0,9,     -999.0,9,     -999.0,9,     -999.0,9,     -999.0,9,     -999.0,9,     -999.0,9,-999.0000, -999.00
33RO20071215,        P18,     104,          1,         19,      12018,2,20080124,       1332,   -31.5828,  -103.0005,       3448,   734.8,   5.4102,  34.2663,2,  34.2657,2,    240.5,2,   240.8,2,   12.60,2,   26.30,2,    0.00,2,    1.74,2,-999.000,9,-999.000,9,-999.0000,9,  2152.2,2,  2273.9,2,   -999.0,9,  -999.00,   7.7036,2,    25.00,-999.000,9,-999.0000,9, -999.00,9, -999.00,9,  -999.0,9,-999.000,9,-999.000,-999.000,9,-999.000,9,   41.30,2,   27.34,2, -999.00,9, -999.00,9, -999.00,9,-999.000,   0.0707,2,   0.0437,2,   0.0202,2,   0.0139,2,   0.0072,2,   0.0022,2,  -0.0007,4,   0.0175,2,   0.0221,2,   5.3484,     -999.0,9,     -999.0,9,     -999.0,9,     -999.0,9,     -999.0,9,     -999.0,9,     -999.0,9,-999.0000, -999.00
33RO20071215,        P18,     104,          1,         18,      12025,2,20080124,       1332,   -31.5828,  -103.0005,       3448,   832.5,   4.9320,  34.2646,2,  34.2650,2,    225.5,2,   225.4,2,   18.40,2,   28.70,2,    0.00,2,    1.93,2,   1.760,2,   0.873,2,   0.2370,2,  -999.0,9,  -999.0,9,   -999.0,9,  -999.00,-999.0000,9,  -999.00,-999.000,9,-999.0000,9, -999.00,9, -999.00,9,  -999.0,9,-999.000,9,-999.000,-999.000,9,-999.000,9,   40.73,2,   29.72,2, -999.00,9, -999.00,9, -999.00,9,-999.000,   0.0777,2,   0.0486,2,   0.0226,2,   0.0154,2,   0.0081,3,   0.0022,3,  -0.0011,4,   0.0172,2,   0.0214,4,   4.8644,     -999.0,9,     -999.0,9,     -999.0,9,     -999.0,9,     -999.0,9,     -999.0,9,     -999.0,9,-999.0000, -999.00
33RO20071215,        P18,     104,          1,         17,      12016,2,20080124,       1332,   -31.5828,  -103.0005,       3448,   932.9,   4.3538,  34.2935,2,  34.2926,2,    200.3,2,   200.4,2,   29.10,2,   31.60,2,    0.00,2,    2.16,2,   0.719,2,   0.388,2,   0.0000,2,  2190.8,2,  -999.0,9,   -999.0,9,  -999.00,   7.6194,2,    25.00,-999.000,9,-999.0000,9, -999.00,9, -999.00,9,  -999.0,9,-999.000,9,-999.000,-999.000,9,-999.000,9,   40.15,2,   33.02,2, -999.00,9, -999.00,9, -999.00,9,-999.000,   0.0863,2,   0.0550,2,   0.0266,2,   0.0184,2,   0.0100,2,   0.0029,2,  -0.0006,4,   0.0165,2,   0.0201,2,   4.2814,     -999.0,9,     -999.0,9,     -999.0,9,     -999.0,9,     -999.0,9,     -999.0,9,     -999.0,9,-999.0000, -999.00
33RO20071215,        P18,     104,          1,         16,      12051,2,20080124,       1332,   -31.5828,  -103.0005,       3448,  1033.6,   3.8756,  34.3443,2,  34.3424,2,    175.2,2,   176.2,2,   42.10,2,   34.10,2,    0.00,2,    2.35,2,   0.227,2,   0.135,2,   0.0000,2,  -999.0,9,  -999.0,9,   -999.0,9,  -999.00,-999.0000,9,  -999.00,-999.000,9,-999.0000,9, -999.00,9, -999.00,9,  -999.0,9,-999.000,9,-999.000,-999.000,9,-999.000,9,   39.56,2,   35.72,2, -999.00,9, -999.00,9, -999.00,9,-999.000,   0.0983,2,   0.0640,2,   0.0323,2,   0.0227,2,   0.0135,2,   0.0052,2,   0.0009,2,   0.0154,2,   0.0182,2,   3.7984,     -999.0,9,     -999.0,9,     -999.0,9,     -999.0,9,     -999.0,9,     -999.0,9,     -999.0,9,-999.0000, -999.00
33RO20071215,        P18,     104,          1,         15,      12014,2,20080124,       1332,   -31.5828,  -103.0005,       3448,  1132.4,   3.6222,  34.4136,2,  34.4144,2,    148.5,2,   145.6,2,   57.90,2,   36.70,2,    0.00,2,    2.57,2,-999.000,9,-999.000,9,-999.0000,9,  2247.7,2,  -999.0,9,   -999.0,9,  -999.00,   7.5483,2,    25.00,-999.000,9,-999.0000,9, -999.00,9, -999.00,9,  -999.0,9,-999.000,9,-999.000,-999.000,9,-999.000,9,   38.85,2,   37.99,2, -999.00,9, -999.00,9, -999.00,9,-999.000,   0.1145,2,   0.0767,2,   0.0401,2,   0.0283,2,   0.0172,2,   0.0068,3,   0.0014,3,   0.0150,2,   0.0170,4,   3.5389,     -999.0,9,     -999.0,9,     -999.0,9,     -999.0,9,     -999.0,9,     -999.0,9,     -999.0,9,-999.0000, -999.00
33RO20071215,        P18,     104,          1,         14,      12013,2,20080124,       1332,   -31.5828,  -103.0005,       3448,  1233.4,   3.4510,  34.4827,2,  34.4822,2,    124.1,2,   123.8,2,   73.40,2,   38.20,2,    0.00,2,    2.71,2,   0.007,2,   0.005,2,   0.0000,2,  -999.0,9,  -999.0,9,   -999.0,9,  -999.00,-999.0000,9,  -999.00,-999.000,9,-999.0000,9, -999.00,9, -999.00,9,  -999.0,9,-999.000,9,-999.000,-999.000,9,-999.000,9,   37.80,2,   39.49,2, -999.00,9, -999.00,9, -999.00,9,-999.000,   0.1213,2,   0.0818,2,   0.0433,2,   0.0303,2,   0.0184,2,   0.0069,2,   0.0014,2,   0.0152,2,   0.0168,2,   3.3607,     -999.0,9,     -999.0,9,     -999.0,9,     -999.0,9,     -999.0,9,     -999.0,9,     -999.0,9,-999.0000, -999.00
33RO20071215,        P18,     104,          1,         13,      12012,2,20080124,       1332,   -31.5828,  -103.0005,       3448,  1332.7,   3.2642,  34.5192,2,  34.5183,2,    122.0,2,   121.6,2,   82.90,2,   38.30,2,    0.00,2,    2.73,2,   0.000,6,   0.001,6,   0.0000,6,  2282.9,6,  -999.0,5,   -999.0,9,  -999.00,   7.5018,2,    25.00,-999.000,9,-999.0000,9, -999.00,9, -999.00,9,  -999.0,9,-999.000,9,-999.000,-999.000,9,-999.000,9,   37.06,2,   39.85,2, -999.00,9, -999.00,9, -999.00,9,-999.000,   0.1175,2,   0.0782,2,   0.0404,2,   0.0277,2,   0.0165,2,   0.0055,3,   0.0007,3,   0.0157,2,   0.0177,2,   3.1675,     -999.0,9,     -999.0,9,     -999.0,9,     -999.0,9,     -999.0,9,     -999.0,9,     -999.0,9,-999.0000, -999.00
33RO20071215,        P18,     104,          1,         12,      12031,2,20080124,       1332,   -31.5828,  -103.0005,       3448,  1431.8,   3.0686,  34.5437,2,  34.5450,2,    124.4,2,   124.3,2,   89.30,2,   38.00,2,    0.00,2,    2.71,2,-999.000,9,-999.000,9,-999.0000,9,  -999.0,9,  -999.0,9,   -999.0,9,  -999.00,-999.0000,9,  -999.00,-999.000,9,-999.0000,9, -999.00,9, -999.00,9,  -999.0,9,-999.000,9,-999.000,-999.000,9,-999.000,9,   36.69,2,   39.01,2, -999.00,9, -999.00,9, -999.00,9,-999.000,   0.1243,2,   0.0841,2,   0.0449,2,   0.0314,2,   0.0195,3,   0.0077,3,   0.0020,3,   0.0149,2,   0.0165,4,   2.9657,     -999.0,9,     -999.0,9,     -999.0,9,     -999.0,9,     -999.0,9,     -999.0,9,     -999.0,9,-999.0000, -999.00