BOTTLE,20220818CCHSIOAMB
EXPOCODE,SECT_ID,STNNBR,CASTNO,SAMPNO,BTLNBR,BTLNBR_FLAG_W,DATE,TIME,LATITUDE,LONGITUDE,DEPTH,CTDPRS,CTDTMP,CTDSAL,CTDSAL_FLAG_W,SALNTY,SALNTY_FLAG_W,CTDOXY,CTDOXY_FLAG_W,OXYGEN,OXYGEN_FLAG_W,SILCAT,SILCAT_FLAG_W,NITRAT,NITRAT_FLAG_W,NITRIT,NITRIT_FLAG_W,PHSPHT,PHSPHT_FLAG_W,CFC-11,CFC-11_FLAG_W,CFC-12,CFC-12_FLAG_W,SF6,SF6_FLAG_W,TCARBN,TCARBN_FLAG_W,ALKALI,ALKALI_FLAG_W,FCO2,FCO2_FLAG_W,FCO2TMP,PH_SWS,PH_SWS_FLAG_W,PH_TMP,TRITUM,TRITUM_FLAG_W,HELIUM,HELIUM_FLAG_W,DELHE3,DELHE3_FLAG_W,DELC13,DELC13_FLAG_W,DELC14,DELC14_FLAG_W,NEON,NEON_FLAG_W,NEONER,CCL4,CCL4_FLAG_W,POC,POC_FLAG_W,DOC,DOC_FLAG_W,TDN,TDN_FLAG_W,DON,DON_FLAG_W,CHLORA,CHLORA_FLAG_W,ARGON,ARGON_FLAG_W,TRITER,CDOM325,CDOM325_FLAG_W,CDOM340,CDOM340_FLAG_W,CDOM380,CDOM380_FLAG_W,CDOM412,CDOM412_FLAG_W,CDOM443,CDOM443_FLAG_W,CDOM490,CDOM490_FLAG_W,CDOM555,CDOM555_FLAG_W,CDOMSL,CDOMSL_FLAG_W,CDOMSN,CDOMSN_FLAG_W,THETA,D18O_NO3,D18O_NO3_FLAG_W,CDOM2C,CDOM2C_FLAG_W,CDOM3C,CDOM3C_FLAG_W,LAB_DEN,LAB_DEN_FLAG_W,DELSI30,DELSI30_FLAG_W,N2,N2_FLAG_W,D15N_NO3,D15N_NO3_FLAG_W,HELIER,DELHER
,,,,,,,,,,,METERS,DBAR,ITS-90,PSS-78,,PSS-78,,UMOL/KG,,UMOL/KG,,UMOL/KG,,UMOL/KG,,UMOL/KG,,UMOL/KG,,PMOL/KG,,PMOL/KG,,FMOL/KG,,UMOL/KG,,UMOL/KG,,UATM,,DEG C,,,DEG C,TU,,NMOL/KG,,PERCNT,,/MILLE,,/MILLE,,NMOL/KG,,NMOL/KG,PMOL/KG,,UG/KG,,UMOL/KG,,UMOL/KG,,UMOL/KG,,UG/KG,,UMOL/KG,,TU,1/M,,1/M,,1/M,,1/M,,1/M,,1/M,,1/M,,1/NM,,1/NM,,DEG C,/MILLE,,,,,,,,/MILLE,,UMOL/KG,,/MILLE,,NMOL/KG,PERCNT
33RO20071215,        P18,      27,          1,         36,      12017,2,20071224,       1046,     9.1668,  -110.0002,       4572,     5.2,  27.3732,  33.0493,2,  33.0779,2,    203.9,2,   202.3,2,    1.20,2,    0.00,2,    0.00,2,    0.10,2,   1.627,6,   1.035,6,   1.0342,6,  1879.2,6,  2174.8,2,    272.3,2,    20.00,   8.0859,2,    25.00,-999.000,9,-999.0000,9, -999.00,9,    1.23,2,  -999.0,1,-999.000,9,-999.000,-999.000,9,-999.000,9, -999.00,9, -999.00,9, -999.00,9, -999.00,9, -999.00,9,-999.000,-999.0000,9,-999.0000,9,-999.0000,9,-999.0000,9,-999.0000,9,-999.0000,9,-999.0000,9,-999.0000,9,-999.0000,9,  27.3720,     -999.0,9,     -999.0,9,     -999.0,9,     -999.0,9,     -999.0,9,     -999.0,9,     -999.0,9,-999.0000, -999.00
33RO20071215,        P18,      27,          1,         35,      12029,2,20071224,       1046,     9.1668,  -110.0002,       4572,    14.8,  27.3835,  33.0755,2,  33.0783,2,    204.1,2,   201.7,2,    1.20,2,    0.10,2,    0.01,2,    0.12,2,   1.618,2,   1.033,2,   1.0506,2,  1879.9,2,  2175.2,2,    273.2,2,    20.00,   8.0900,2,    25.00,-999.000,9,-999.0000,9, -999.00,9, -999.00,9,  -999.0,9,-999.000,9,-999.000,-999.000,9,-999.000,9, -999.00,9, -999.00,9, -999.00,9, -999.00,9, -999.00,9,-999.000,-999.0000,9,-999.0000,9,-999.0000,9,-999.0000,9,-999.0000,9,-999.0000,9,-999.0000,9,-999.0000,9,-999.0000,9,  27.3801,     -999.0,9,     -999.0,9,     -999.0,9,     -999.0,9,     -999.0,9,     -999.0,9,     -999.0,9,-999.0000, -999.00
33RO20071215,        P18,      27,          1,         34,      12049,2,20071224,       1046,     9.1668,  -110.0002,       4572,    19.4,  27.3789,  33.0765,2,  33.0806,2,    204.2,2,   201.5,2,    1.20,2,    0.10,2,    0.00,2,    0.14,2,   1.601,2,   1.017,2,   0.9721,2,  1879.5,2,  2175.1,2,   -999.0,9,  -999.00,   8.0709,2,    25.00,-999.000,9,-999.0000,9, -999.00,9, -999.00,9,  -999.0,9,-999.000,9,-999.000,-999.000,9,-999.000,9, -999.00,9, -999.00,9, -999.00,9, -999.00,9, -999.00,9,-999.000,-999.0000,9,-999.0000,9,-999.0000,9,-999.0000,9,-999.0000,9,-999.0000,9,-999.0000,9,-999.0000,9,-999.0000,9,  27.3745,     -999.0,9,     -999.0,9,     -999.0,9,     -999.0,9,     -999.0,9,     -999.0,9,     -999.0,9,-999.0000, -999.00
33RO20071215,        P18,      27,          1,         33,      12027,2,20071224,       1046,     9.1668,  -110.0002,       4572,    42.3,  26.2654,  34.0346,2,  34.0863,2,    194.9,2,   180.7,2,    3.20,2,    2.50,2,    0.13,2,    0.35,2,   1.663,2,   1.031,2,   0.9009,2,  1979.7,2,  2225.8,2,    356.5,2,    20.00,   7.9993,2,    25.00,-999.000,9,-999.0000,9, -999.00,9, -999.00,9,  -999.0,9,-999.000,9,-999.000,-999.000,9,-999.000,9, -999.00,9, -999.00,9, -999.00,9, -999.00,9, -999.00,9,-999.000,-999.0000,9,-999.0000,9,-999.0000,9,-999.0000,9,-999.0000,9,-999.0000,9,-999.0000,9,-999.0000,9,-999.0000,9,  26.2559,     -999.0,9,     -999.0,9,     -999.0,9,     -999.0,9,     -999.0,9,     -999.0,9,     -999.0,9,-999.0000, -999.00
33RO20071215,        P18,      27,          1,         32,      12023,2,20071224,       1046,     9.1668,  -110.0002,       4572,    66.7,  17.3764,  34.6469,2,  34.6697,2,     57.4,2,    49.3,2,   15.90,2,   24.00,2,    0.70,2,    1.83,2,   1.485,2,   0.857,2,   0.5029,2,  2180.7,2,  2262.0,2,   1028.9,2,    20.00,   7.6138,2,    25.00,-999.000,9,-999.0000,9, -999.00,9, -999.00,9,  -999.0,9,-999.000,9,-999.000,-999.000,9,-999.000,9, -999.00,9, -999.00,9, -999.00,9, -999.00,9, -999.00,9,-999.000,-999.0000,9,-999.0000,9,-999.0000,9,-999.0000,9,-999.0000,9,-999.0000,9,-999.0000,9,-999.0000,9,-999.0000,9,  17.3653,     -999.0,9,     -999.0,9,     -999.0,9,     -999.0,9,     -999.0,9,     -999.0,9,     -999.0,9,-999.0000, -999.00
33RO20071215,        P18,      27,          1,         31,      12037,2,20071224,       1046,     9.1668,  -110.0002,       4572,    92.0,  14.0422,  34.7413,2,  34.7507,2,     13.4,2,    12.1,2,   22.50,2,   30.60,2,    0.05,2,    2.26,2,   1.162,2,   0.643,2,   0.2952,2,  2229.6,2,  2271.2,2,   1428.7,2,    20.00,   7.4881,2,    25.00,-999.000,9,-999.0000,9, -999.00,9, -999.00,9,  -999.0,9,-999.000,9,-999.000,-999.000,9,-999.000,9, -999.00,9, -999.00,9, -999.00,9, -999.00,9, -999.00,9,-999.000,-999.0000,9,-999.0000,9,-999.0000,9,-999.0000,9,-999.0000,9,-999.0000,9,-999.0000,9,-999.0000,9,-999.0000,9,  14.0290,     -999.0,9,     -999.0,9,     -999.0,9,     -999.0,9,     -999.0,9,     -999.0,9,     -999.0,9,-999.0000, -999.00
33RO20071215,        P18,      27,          1,         30,      12036,2,20071224,       1046,     9.1668,  -110.0002,       4572,   116.9,  12.2232,  34.7697,2,  34.7892,2,     11.4,2,     8.4,2,   26.70,2,   32.50,2,    0.01,2,    2.36,2,   0.790,2,   0.431,2,   0.1420,2,  2244.5,2,  2278.3,2,   1534.8,2,    20.00,   7.4601,2,    25.00,-999.000,9,-999.0000,9, -999.00,9, -999.00,9,  -999.0,9,-999.000,9,-999.000,-999.000,9,-999.000,9, -999.00,9, -999.00,9, -999.00,9, -999.00,9, -999.00,9,-999.000,-999.0000,9,-999.0000,9,-999.0000,9,-999.0000,9,-999.0000,9,-999.0000,9,-999.0000,9,-999.0000,9,-999.0000,9,  12.2078,     -999.0,9,     -999.0,9,     -999.0,9,     -999.0,9,     -999.0,9,     -999.0,9,     -999.0,9,-999.0000, -999.00
33RO20071215,        P18,      27,          1,         29,      12044,2,20071224,       1046,     9.1668,  -110.0002,       4572,   141.4,  11.7577,  34.7400,2,  34.7564,2,     27.7,2,    26.4,2,   27.30,2,   32.20,2,    0.01,2,    2.25,2,   0.802,2,   0.437,2,   0.1495,2,  2235.6,2,  2289.6,2,   1419.4,6,    20.00,   7.4926,2,    25.00,-999.000,9,-999.0000,9, -999.00,9, -999.00,9,  -999.0,9,-999.000,9,-999.000,-999.000,9,-999.000,9, -999.00,9, -999.00,9, -999.00,9, -999.00,9, -999.00,9,-999.000,-999.0000,9,-999.0000,9,-999.0000,9,-999.0000,9,-999.0000,9,-999.0000,9,-999.0000,9,-999.0000,9,-999.0000,9,  11.7396,     -999.0,9,     -999.0,9,     -999.0,9,     -999.0,9,     -999.0,9,     -999.0,9,     -999.0,9,-999.0000, -999.00
33RO20071215,        P18,      27,          1,         28,      12057,2,20071224,       1046,     9.1668,  -110.0002,       4572,   166.5,  11.5522,  34.7355,2,  34.7520,2,     28.1,2,    29.5,2,   27.70,2,   32.20,2,    0.01,2,    2.26,2,   0.762,2,   0.414,2,   0.1205,2,  2237.4,2,  2290.9,2,   -999.0,9,  -999.00,   7.4913,2,    25.00,-999.000,9,-999.0000,9, -999.00,9, -999.00,9,  -999.0,9,-999.000,9,-999.000,-999.000,9,-999.000,9, -999.00,9, -999.00,9, -999.00,9, -999.00,9, -999.00,9,-999.000,-999.0000,9,-999.0000,9,-999.0000,9,-999.0000,9,-999.0000,9,-999.0000,9,-999.0000,9,-999.0000,9,-999.0000,9,  11.5311,     -999.0,9,     -999.0,9,     -999.0,9,     -999.0,9,     -999.0,9,     -999.0,9,     -999.0,9,-999.0000, -999.00
33RO20071215,        P18,      27,          1,         27,      12026,2,20071224,       1046,     9.1668,  -110.0002,       4572,   191.2,  11.3546,  34.7355,2,  34.7540,2,     27.3,2,    29.6,2,   28.30,2,   32.30,2,    0.01,2,    2.25,2,   0.705,2,   0.385,2,   0.1755,4,  2239.0,2,  2291.6,2,   1419.4,2,    20.00,   7.4855,2,    25.00,-999.000,9,-999.0000,9, -999.00,9, -999.00,9,  -999.0,9,-999.000,9,-999.000,-999.000,9,-999.000,9, -999.00,9, -999.00,9, -999.00,9, -999.00,9, -999.00,9,-999.000,-999.0000,9,-999.0000,9,-999.0000,9,-999.0000,9,-999.0000,9,-999.0000,9,-999.0000,9,-999.0000,9,-999.0000,9,  11.3306,     -999.0,9,     -999.0,9,     -999.0,9,     -999.0,9,     -999.0,9,     -999.0,9,     -999.0,9,-999.0000, -999.00
33RO20071215,        P18,      27,          1,         26,      12030,2,20071224,       1046,     9.1668,  -110.0002,       4572,   233.0,  11.0531,  34.7264,2,  34.7489,2,     15.9,2,    16.6,2,   30.00,2,   33.60,2,    0.01,2,    2.39,2,   0.530,2,   0.288,2,   0.1468,2,  2252.2,2,  2292.9,2,   -999.0,9,  -999.00,   7.4533,2,    25.00,-999.000,9,-999.0000,9, -999.00,9, -999.00,9,  -999.0,9,-999.000,9,-999.000,-999.000,9,-999.000,9, -999.00,9, -999.00,9, -999.00,9, -999.00,9, -999.00,9,-999.000,-999.0000,9,-999.0000,9,-999.0000,9,-999.0000,9,-999.0000,9,-999.0000,9,-999.0000,9,-999.0000,9,-999.0000,9,  11.0244,     -999.0,9,     -999.0,9,     -999.0,9,     -999.0,9,     -999.0,9,     -999.0,9,     -999.0,9,-999.0000, -999.00
33RO20071215,        P18,      27,          1,         25,      12024,2,20071224,       1046,     9.1668,  -110.0002,       4572,   283.4,  10.5432,  34.7008,2,  34.7227,2,      4.9,2,     5.6,2,   32.80,2,   34.30,2,    0.00,2,    2.55,2,   0.300,6,   0.165,6,   0.0543,6,  2266.8,2,  2295.5,2,   1743.3,2,    20.00,   7.4027,2,    25.00,-999.000,9,-999.0000,9, -999.00,9, -999.00,9,  -999.0,9,-999.000,9,-999.000,-999.000,9,-999.000,9, -999.00,9, -999.00,9, -999.00,9, -999.00,9, -999.00,9,-999.000,-999.0000,9,-999.0000,9,-999.0000,9,-999.0000,9,-999.0000,9,-999.0000,9,-999.0000,9,-999.0000,9,-999.0000,9,  10.5091,     -999.0,9,     -999.0,9,     -999.0,9,     -999.0,9,     -999.0,9,     -999.0,9,     -999.0,9,-999.0000, -999.00
33RO20071215,        P18,      27,          1,         24,      12019,2,20071224,       1046,     9.1668,  -110.0002,       4572,   334.5,  10.0450,  34.6787,2,  34.6891,2,      2.5,2,     3.0,2,   36.30,2,   34.70,2,    0.01,2,    2.62,2,-999.000,9,-999.000,9,-999.0000,9,  -999.0,9,  -999.0,9,   -999.0,9,  -999.00,-999.0000,9,  -999.00,-999.000,9,-999.0000,9, -999.00,9, -999.00,9,  -999.0,9,-999.000,9,-999.000,-999.000,9,-999.000,9, -999.00,9, -999.00,9, -999.00,9, -999.00,9, -999.00,9,-999.000,-999.0000,9,-999.0000,9,-999.0000,9,-999.0000,9,-999.0000,9,-999.0000,9,-999.0000,9,-999.0000,9,-999.0000,9,  10.0059,     -999.0,9,     -999.0,9,     -999.0,9,     -999.0,9,     -999.0,9,     -999.0,9,     -999.0,9,-999.0000, -999.00
33RO20071215,        P18,      27,          1,         23,      12022,2,20071224,       1046,     9.1668,  -110.0002,       4572,   382.9,   9.4516,  34.6436,2,  34.6551,2,      2.4,2,     2.1,2,   40.70,2,   34.10,2,    0.01,2,    2.79,2,-999.000,9,-999.000,9,-999.0000,9,  2283.1,2,  2304.3,2,   -999.0,9,  -999.00,   7.3797,2,    25.00,-999.000,9,-999.0000,9, -999.00,9, -999.00,9,  -999.0,9,-999.000,9,-999.000,-999.000,9,-999.000,9, -999.00,9, -999.00,9, -999.00,9, -999.00,9, -999.00,9,-999.000,-999.0000,9,-999.0000,9,-999.0000,9,-999.0000,9,-999.0000,9,-999.0000,9,-999.0000,9,-999.0000,9,-999.0000,9,   9.4085,     -999.0,9,     -999.0,9,     -999.0,9,     -999.0,9,     -999.0,9,     -999.0,9,     -999.0,9,-999.0000, -999.00
33RO20071215,        P18,      27,          1,         22,      12015,2,20071224,       1046,     9.1668,  -110.0002,       4572,   466.6,   8.4358,  34.5941,2,  34.6055,2,      2.4,2,     2.0,2,   49.90,2,   34.60,2,    0.18,2,    2.99,2,-999.000,9,-999.000,9,-999.0000,9,  -999.0,9,  -999.0,9,   -999.0,9,  -999.00,-999.0000,9,  -999.00,-999.000,9,-999.0000,9, -999.00,9, -999.00,9,  -999.0,9,-999.000,9,-999.000,-999.000,9,-999.000,9, -999.00,9, -999.00,9, -999.00,9, -999.00,9, -999.00,9,-999.000,-999.0000,9,-999.0000,9,-999.0000,9,-999.0000,9,-999.0000,9,-999.0000,9,-999.0000,9,-999.0000,9,-999.0000,9,   8.3865,     -999.0,9,     -999.0,9,     -999.0,9,     -999.0,9,     -999.0,9,     -999.0,9,     -999.0,9,-999.0000, -999.00
33RO20071215,        P18,      27,          1,         21,      12020,2,20071224,       1046,     9.1668,  -110.0002,       4572,   566.1,   6.9119,  34.5520,2,  34.5598,2,      2.4,2,     2.7,2,   64.80,2,   40.10,2,    0.00,2,    3.21,2,-999.000,9,-999.000,9,-999.0000,9,  2315.5,2,  2323.0,2,   -999.0,9,  -999.00,   7.3462,2,    25.00,-999.000,9,-999.0000,9, -999.00,9, -999.00,9,  -999.0,9,-999.000,9,-999.000,-999.000,9,-999.000,9, -999.00,9, -999.00,9, -999.00,9, -999.00,9, -999.00,9,-999.000,-999.0000,9,-999.0000,9,-999.0000,9,-999.0000,9,-999.0000,9,-999.0000,9,-999.0000,9,-999.0000,9,-999.0000,9,   6.8583,     -999.0,9,     -999.0,9,     -999.0,9,     -999.0,9,     -999.0,9,     -999.0,9,     -999.0,9,-999.0000, -999.00
33RO20071215,        P18,      27,          1,         20,      12055,2,20071224,       1046,     9.1668,  -110.0002,       4572,   667.1,   6.0128,  34.5523,2,  34.5521,2,      6.2,2,     6.8,2,   74.00,2,   43.20,2,    0.00,2,    3.29,2,-999.000,9,-999.000,9,-999.0000,9,  2325.0,2,  2330.8,4,   -999.0,9,  -999.00,   7.3386,2,    25.00,-999.000,9,-999.0000,9, -999.00,9, -999.00,9,  -999.0,9,-999.000,9,-999.000,-999.000,9,-999.000,9, -999.00,9, -999.00,9, -999.00,9, -999.00,9, -999.00,9,-999.000,-999.0000,9,-999.0000,9,-999.0000,9,-999.0000,9,-999.0000,9,-999.0000,9,-999.0000,9,-999.0000,9,-999.0000,9,   5.9536,     -999.0,9,     -999.0,9,     -999.0,9,     -999.0,9,     -999.0,9,     -999.0,9,     -999.0,9,-999.0000, -999.00
33RO20071215,        P18,      27,          1,         19,      12018,4,20071224,       1046,     9.1668,  -110.0002,       4572,   766.8,   5.4345,  34.5511,2,  34.6710,4,     12.9,2,     2.1,4,   38.60,3,   34.40,3,    0.01,3,    2.72,3,-999.000,9,-999.000,9,-999.0000,9,  -999.0,9,  -999.0,9,   1845.4,2,    20.00,-999.0000,9,  -999.00,-999.000,9,-999.0000,9, -999.00,9, -999.00,9,  -999.0,9,-999.000,9,-999.000,-999.000,9,-999.000,9, -999.00,9, -999.00,9, -999.00,9, -999.00,9, -999.00,9,-999.000,-999.0000,9,-999.0000,9,-999.0000,9,-999.0000,9,-999.0000,9,-999.0000,9,-999.0000,9,-999.0000,9,-999.0000,9,   5.3693,     -999.0,9,     -999.0,9,     -999.0,9,     -999.0,9,     -999.0,9,     -999.0,9,     -999.0,9,-999.0000, -999.00
33RO20071215,        P18,      27,          1,         18,      12025,2,20071224,       1046,     9.1668,  -110.0002,       4572,   866.9,   4.9868,  34.5547,2,  34.5546,2,     23.6,2,    24.4,2,   88.00,2,   44.50,2,    0.00,2,    3.24,2,-999.000,9,-999.000,9,-999.0000,9,  -999.0,9,  -999.0,9,   -999.0,9,  -999.00,-999.0000,9,  -999.00,-999.000,9,-999.0000,9, -999.00,9, -999.00,9,  -999.0,9,-999.000,9,-999.000,-999.000,9,-999.000,9, -999.00,9, -999.00,9, -999.00,9, -999.00,9, -999.00,9,-999.000,-999.0000,9,-999.0000,9,-999.0000,9,-999.0000,9,-999.0000,9,-999.0000,9,-999.0000,9,-999.0000,9,-999.0000,9,   4.9154,     -999.0,9,     -999.0,9,     -999.0,9,     -999.0,9,     -999.0,9,     -999.0,9,     -999.0,9,-999.0000, -999.00
33RO20071215,        P18,      27,          1,         17,      12016,2,20071224,       1046,     9.1668,  -110.0002,       4572,   966.3,   4.5000,  34.5634,2,  34.5629,2,     33.5,2,    33.9,2,   97.10,2,   44.00,2,    0.00,2,    3.22,2,-999.000,9,-999.000,9,-999.0000,9,  2337.1,2,  2411.3,4,   -999.0,9,  -999.00,   7.3773,2,    25.00,-999.000,9,-999.0000,9, -999.00,9, -999.00,9,  -999.0,9,-999.000,9,-999.000,-999.000,9,-999.000,9, -999.00,9, -999.00,9, -999.00,9, -999.00,9, -999.00,9,-999.000,-999.0000,9,-999.0000,9,-999.0000,9,-999.0000,9,-999.0000,9,-999.0000,9,-999.0000,9,-999.0000,9,-999.0000,9,   4.4233,     -999.0,9,     -999.0,9,     -999.0,9,     -999.0,9,     -999.0,9,     -999.0,9,     -999.0,9,-999.0000, -999.00
33RO20071215,        P18,      27,          1,         16,      12051,2,20071224,       1046,     9.1668,  -110.0002,       4572,  1131.7,   4.0032,  34.5745,2,  34.5746,2,     47.8,2,    44.2,3,  106.90,2,   43.00,2,    0.00,2,    3.15,2,-999.000,9,-999.000,9,-999.0000,9,  -999.0,9,  -999.0,9,   -999.0,9,  -999.00,-999.0000,9,  -999.00,-999.000,9,-999.0000,9, -999.00,9, -999.00,9,  -999.0,9,-999.000,9,-999.000,-999.000,9,-999.000,9, -999.00,9, -999.00,9, -999.00,9, -999.00,9, -999.00,9,-999.000,-999.0000,9,-999.0000,9,-999.0000,9,-999.0000,9,-999.0000,9,-999.0000,9,-999.0000,9,-999.0000,9,-999.0000,9,   3.9163,     -999.0,9,     -999.0,9,     -999.0,9,     -999.0,9,     -999.0,9,     -999.0,9,     -999.0,9,-999.0000, -999.00
33RO20071215,        P18,      27,          1,         15,      12014,2,20071224,       1046,     9.1668,  -110.0002,       4572,  1332.6,   3.4386,  34.5952,2,  34.5952,2,     58.1,2,    58.5,2,  119.80,2,   42.30,2,    0.00,2,    3.09,2,-999.000,9,-999.000,9,-999.0000,9,  2348.6,2,  2386.0,4,   -999.0,9,  -999.00,   7.4296,2,    25.00,-999.000,9,-999.0000,9, -999.00,9, -999.00,9,  -999.0,9,-999.000,9,-999.000,-999.000,9,-999.000,9, -999.00,9, -999.00,9, -999.00,9, -999.00,9, -999.00,9,-999.000,-999.0000,9,-999.0000,9,-999.0000,9,-999.0000,9,-999.0000,9,-999.0000,9,-999.0000,9,-999.0000,9,-999.0000,9,   3.3399,     -999.0,9,     -999.0,9,     -999.0,9,     -999.0,9,     -999.0,9,     -999.0,9,     -999.0,9,-999.0000, -999.00
33RO20071215,        P18,      27,          1,         14,      12013,2,20071224,       1046,     9.1668,  -110.0002,       4572,  1532.1,   3.0463,  34.6099,2,  34.6100,2,     68.8,2,    69.5,2,  128.30,2,   41.80,2,    0.00,2,    3.03,2,-999.000,9,-999.000,9,-999.0000,9,  -999.0,9,  -999.0,9,   -999.0,9,  -999.00,-999.0000,9,  -999.00,-999.000,9,-999.0000,9, -999.00,9, -999.00,9,  -999.0,9,-999.000,9,-999.000,-999.000,9,-999.000,9, -999.00,9, -999.00,9, -999.00,9, -999.00,9, -999.00,9,-999.000,-999.0000,9,-999.0000,9,-999.0000,9,-999.0000,9,-999.0000,9,-999.0000,9,-999.0000,9,-999.0000,9,-999.0000,9,   2.9351,     -999.0,9,     -999.0,9,     -999.0,9,     -999.0,9,     -999.0,9,     -999.0,9,     -999.0,9,-999.0000, -999.00
33RO20071215,        P18,      27,          1,         13,      12012,2,20071224,       1046,     9.1668,  -110.0002,       4572,  1734.2,   2.6531,  34.6246,2,  34.6245,2,     81.2,2,    81.2,2,  136.40,2,   41.00,2,    0.00,2,    2.92,2,-999.000,9,-999.000,9,-999.0000,9,  -999.0,9,  -999.0,9,   -999.0,9,  -999.00,-999.0000,9,  -999.00,-999.000,9,-999.0000,9, -999.00,9, -999.00,9,  -999.0,9,-999.000,9,-999.000,-999.000,9,-999.000,9, -999.00,9, -999.00,9, -999.00,9, -999.00,9, -999.00,9,-999.000,-999.0000,9,-999.0000,9,-999.0000,9,-999.0000,9,-999.0000,9,-999.0000,9,-999.0000,9,-999.0000,9,-999.0000,9,   2.5297,     -999.0,9,     -999.0,9,     -999.0,9,     -999.0,9,     -999.0,9,     -999.0,9,     -999.0,9,-999.0000, -999.00
33RO20071215,        P18,      27,          1,         12,      12031,2,20071224,       1046,     9.1668,  -110.0002,       4572,  1932.6,   2.3586,  34.6394,2,  34.6376,2,     90.5,2,    90.5,2,  143.40,2,   40.20,2,    0.00,2,    2.85,2,-999.000,9,-999.000,9,-999.0000,9,  2356.0,6,  2365.4,4,   1510.4,2,    20.00,   7.4731,2,    25.00,-999.000,9,-999.0000,9, -999.00,9, -999.00,9,  -999.0,9,-999.000,9,-999.000,-999.000,9,-999.000,9, -999.00,9, -999.00,9, -999.00,9, -999.00,9, -999.00,9,-999.000,-999.0000,9,-999.0000,9,-999.0000,9,-999.0000,9,-999.0000,9,-999.0000,9,-999.0000,9,-999.0000,9,-999.0000,9,   2.2225,     -999.0,9,     -999.0,9,     -999.0,9,     -999.0,9,     -999.0,9,     -999.0,9,     -999.0,9,-999.0000, -999.00