BOTTLE,20220818CCHSIOAMB
EXPOCODE,SECT_ID,STNNBR,CASTNO,SAMPNO,BTLNBR,BTLNBR_FLAG_W,DATE,TIME,LATITUDE,LONGITUDE,DEPTH,CTDPRS,CTDTMP,CTDSAL,CTDSAL_FLAG_W,SALNTY,SALNTY_FLAG_W,CTDOXY,CTDOXY_FLAG_W,OXYGEN,OXYGEN_FLAG_W,SILCAT,SILCAT_FLAG_W,NITRAT,NITRAT_FLAG_W,NITRIT,NITRIT_FLAG_W,PHSPHT,PHSPHT_FLAG_W,CFC-11,CFC-11_FLAG_W,CFC-12,CFC-12_FLAG_W,SF6,SF6_FLAG_W,TCARBN,TCARBN_FLAG_W,ALKALI,ALKALI_FLAG_W,FCO2,FCO2_FLAG_W,FCO2TMP,PH_SWS,PH_SWS_FLAG_W,PH_TMP,TRITUM,TRITUM_FLAG_W,HELIUM,HELIUM_FLAG_W,DELHE3,DELHE3_FLAG_W,DELC13,DELC13_FLAG_W,DELC14,DELC14_FLAG_W,NEON,NEON_FLAG_W,NEONER,CCL4,CCL4_FLAG_W,POC,POC_FLAG_W,DOC,DOC_FLAG_W,TDN,TDN_FLAG_W,DON,DON_FLAG_W,CHLORA,CHLORA_FLAG_W,ARGON,ARGON_FLAG_W,TRITER,CDOM325,CDOM325_FLAG_W,CDOM340,CDOM340_FLAG_W,CDOM380,CDOM380_FLAG_W,CDOM412,CDOM412_FLAG_W,CDOM443,CDOM443_FLAG_W,CDOM490,CDOM490_FLAG_W,CDOM555,CDOM555_FLAG_W,CDOMSL,CDOMSL_FLAG_W,CDOMSN,CDOMSN_FLAG_W,THETA,D18O_NO3,D18O_NO3_FLAG_W,CDOM2C,CDOM2C_FLAG_W,CDOM3C,CDOM3C_FLAG_W,LAB_DEN,LAB_DEN_FLAG_W,DELSI30,DELSI30_FLAG_W,N2,N2_FLAG_W,D15N_NO3,D15N_NO3_FLAG_W,HELIER,DELHER
,,,,,,,,,,,METERS,DBAR,ITS-90,PSS-78,,PSS-78,,UMOL/KG,,UMOL/KG,,UMOL/KG,,UMOL/KG,,UMOL/KG,,UMOL/KG,,PMOL/KG,,PMOL/KG,,FMOL/KG,,UMOL/KG,,UMOL/KG,,UATM,,DEG C,,,DEG C,TU,,NMOL/KG,,PERCNT,,/MILLE,,/MILLE,,NMOL/KG,,NMOL/KG,PMOL/KG,,UG/KG,,UMOL/KG,,UMOL/KG,,UMOL/KG,,UG/KG,,UMOL/KG,,TU,1/M,,1/M,,1/M,,1/M,,1/M,,1/M,,1/M,,1/NM,,1/NM,,DEG C,/MILLE,,,,,,,,/MILLE,,UMOL/KG,,/MILLE,,NMOL/KG,PERCNT
33RO20071215,        P18,     168,          1,         24,      11024,2,20080213,       0352,   -67.2505,  -102.9995,       4674,     5.0,   1.4278,  33.7848,2,  33.7834,2,    336.0,2,   337.1,2,   13.40,2,   23.70,2,    0.25,2,    1.46,2,   5.929,2,   3.298,2,   2.2595,2,  2138.9,2,  2284.7,2,    734.2,2,    20.00,   7.7475,2,    25.00,-999.000,9,-999.0000,9, -999.00,9,    1.52,2,  -999.0,1,-999.000,9,-999.000,-999.000,9,-999.000,9, -999.00,9, -999.00,9, -999.00,9, -999.00,9, -999.00,9,-999.000,-999.0000,9,-999.0000,9,-999.0000,9,-999.0000,9,-999.0000,9,-999.0000,9,-999.0000,9,-999.0000,9,-999.0000,9,   1.4275,     -999.0,9,     -999.0,9,     -999.0,9,     -999.0,9,     -999.0,9,     -999.0,9,     -999.0,9,-999.0000, -999.00
33RO20071215,        P18,     168,          1,         23,      11023,2,20080213,       0352,   -67.2505,  -102.9995,       4674,    20.5,   1.4308,  33.7846,2,  33.7840,2,    337.6,2,   337.0,2,   13.50,2,   23.70,2,    0.24,2,    1.46,2,   5.866,2,   3.304,2,   2.2588,2,  2138.0,2,  -999.0,5,   -999.0,9,  -999.00,   7.7437,2,    25.00,-999.000,9,-999.0000,9, -999.00,9, -999.00,9,  -999.0,9,-999.000,9,-999.000,-999.000,9,-999.000,9, -999.00,9, -999.00,9, -999.00,9, -999.00,9, -999.00,1,-999.000,-999.0000,9,-999.0000,9,-999.0000,9,-999.0000,9,-999.0000,9,-999.0000,9,-999.0000,9,-999.0000,9,-999.0000,9,   1.4298,     -999.0,1,     -999.0,9,     -999.0,9,     -999.0,9,     -999.0,9,     -999.0,1,     -999.0,9,-999.0000, -999.00
33RO20071215,        P18,     168,          1,         22,      11022,2,20080213,       0352,   -67.2505,  -102.9995,       4674,    42.0,   1.4153,  33.7842,2,  33.7836,2,    337.2,2,   338.3,2,   13.90,2,   23.80,2,    0.24,2,    1.48,2,-999.000,9,-999.000,9,-999.0000,9,  2140.1,2,  2287.8,2,    736.0,6,    20.00,   7.7420,2,    25.00,-999.000,9,-999.0000,9, -999.00,9,    1.54,2,  -999.0,1,-999.000,9,-999.000,-999.000,9,-999.000,9, -999.00,9, -999.00,9, -999.00,9, -999.00,9, -999.00,9,-999.000,-999.0000,9,-999.0000,9,-999.0000,9,-999.0000,9,-999.0000,9,-999.0000,9,-999.0000,9,-999.0000,9,-999.0000,9,   1.4133,     -999.0,9,     -999.0,9,     -999.0,9,     -999.0,9,     -999.0,9,     -999.0,9,     -999.0,9,-999.0000, -999.00
33RO20071215,        P18,     168,          1,         21,      11021,2,20080213,       0352,   -67.2505,  -102.9995,       4674,    67.5,   0.1671,  33.8602,2,  33.8549,2,    345.3,2,   343.0,2,   23.10,2,   25.70,2,    0.24,2,    1.85,2,   6.177,2,   3.417,2,   2.3185,2,  2153.8,2,  2290.4,2,    799.0,2,    20.00,   7.7177,2,    25.00,-999.000,9,-999.0000,9, -999.00,9, -999.00,9,  -999.0,9,-999.000,9,-999.000,-999.000,9,-999.000,9, -999.00,9, -999.00,9, -999.00,9, -999.00,9, -999.00,9,-999.000,-999.0000,9,-999.0000,9,-999.0000,9,-999.0000,9,-999.0000,9,-999.0000,9,-999.0000,9,-999.0000,9,-999.0000,9,   0.1646,     -999.0,9,     -999.0,9,     -999.0,9,     -999.0,9,     -999.0,9,     -999.0,9,     -999.0,9,-999.0000, -999.00
33RO20071215,        P18,     168,          1,         20,      11020,2,20080213,       0352,   -67.2505,  -102.9995,       4674,    91.6,  -0.1645,  33.9779,2,  33.9775,2,    340.4,2,   333.2,2,   34.90,2,   28.80,2,    0.27,2,    2.10,2,-999.000,9,-999.000,9,-999.0000,9,  2174.9,2,  1668.9,4,   -999.0,9,  -999.00,   7.6694,2,    25.00,-999.000,9,-999.0000,9, -999.00,9,    1.07,2,  -999.0,1,-999.000,9,-999.000,-999.000,9,-999.000,9, -999.00,9, -999.00,9, -999.00,9, -999.00,9, -999.00,9,-999.000,-999.0000,9,-999.0000,9,-999.0000,9,-999.0000,9,-999.0000,9,-999.0000,9,-999.0000,9,-999.0000,9,-999.0000,9,  -0.1675,     -999.0,9,     -999.0,9,     -999.0,9,     -999.0,9,     -999.0,9,     -999.0,9,     -999.0,9,-999.0000, -999.00
33RO20071215,        P18,     168,          1,         19,      11019,2,20080213,       0352,   -67.2505,  -102.9995,       4674,   132.2,  -1.0153,  33.9932,2,  33.9964,2,    337.8,2,   334.9,2,   39.70,2,   29.60,2,    0.34,2,    2.11,2,-999.000,5,-999.000,5,-999.0000,5,  2180.3,2,  -999.0,5,    928.0,2,    20.00,   7.6564,2,    25.00,-999.000,9,-999.0000,9, -999.00,9,    1.02,2,  -999.0,1,-999.000,9,-999.000,-999.000,9,-999.000,9, -999.00,9, -999.00,9, -999.00,9, -999.00,9, -999.00,9,-999.000,-999.0000,9,-999.0000,9,-999.0000,9,-999.0000,9,-999.0000,9,-999.0000,9,-999.0000,9,-999.0000,9,-999.0000,9,  -1.0187,     -999.0,9,     -999.0,9,     -999.0,9,     -999.0,9,     -999.0,9,     -999.0,9,     -999.0,9,-999.0000, -999.00
33RO20071215,        P18,     168,          1,         18,      11018,2,20080213,       0352,   -67.2505,  -102.9995,       4674,   198.7,  -0.9665,  34.0840,2,  34.0831,2,    319.2,2,   317.0,2,   44.90,2,   30.50,2,    0.13,2,    2.13,2,   5.566,2,   3.122,2,   2.0385,2,  2194.4,2,  2303.6,2,    975.3,2,    20.00,   7.6203,2,    25.00,-999.000,9,-999.0000,9, -999.00,9,    0.92,2,  -999.0,1,-999.000,9,-999.000,-999.000,9,-999.000,9, -999.00,9, -999.00,9, -999.00,9, -999.00,9, -999.00,9,-999.000,-999.0000,9,-999.0000,9,-999.0000,9,-999.0000,9,-999.0000,9,-999.0000,9,-999.0000,9,-999.0000,9,-999.0000,9,  -0.9720,     -999.0,9,     -999.0,9,     -999.0,9,     -999.0,9,     -999.0,9,     -999.0,9,     -999.0,9,-999.0000, -999.00
33RO20071215,        P18,     168,          1,         17,      11017,2,20080213,       0352,   -67.2505,  -102.9995,       4674,   275.3,   1.7981,  34.4116,2,  34.4092,2,    197.6,2,   200.8,2,   65.20,2,   34.80,2,    0.02,2,    2.41,2,   1.994,2,   1.032,2,   0.6177,2,  2240.5,2,  2317.1,2,   1216.0,2,    20.00,   7.5542,2,    25.00,-999.000,9,-999.0000,9, -999.00,9,    0.37,2,  -999.0,1,-999.000,9,-999.000,-999.000,9,-999.000,9, -999.00,9, -999.00,9, -999.00,9, -999.00,9, -999.00,9,-999.000,-999.0000,9,-999.0000,9,-999.0000,9,-999.0000,9,-999.0000,9,-999.0000,9,-999.0000,9,-999.0000,9,-999.0000,9,   1.7837,     -999.0,9,     -999.0,9,     -999.0,9,     -999.0,9,     -999.0,9,     -999.0,9,     -999.0,9,-999.0000, -999.00
33RO20071215,        P18,     168,          1,         16,      11016,2,20080213,       0352,   -67.2505,  -102.9995,       4674,   367.3,   2.0520,  34.5308,2,  34.5291,2,    187.3,2,   181.4,2,   72.80,2,   34.80,2,    0.01,2,    2.39,2,   1.075,2,   0.551,2,   0.2966,2,  2251.1,2,  2333.2,2,   1227.5,2,    20.00,   7.5566,2,    25.00,-999.000,9,-999.0000,9, -999.00,9,    0.28,2,  -999.0,1,-999.000,9,-999.000,-999.000,9,-999.000,9, -999.00,9, -999.00,9, -999.00,9, -999.00,9, -999.00,9,-999.000,-999.0000,9,-999.0000,9,-999.0000,9,-999.0000,9,-999.0000,9,-999.0000,9,-999.0000,9,-999.0000,9,-999.0000,9,   2.0317,     -999.0,9,     -999.0,9,     -999.0,9,     -999.0,9,     -999.0,9,     -999.0,9,     -999.0,9,-999.0000, -999.00
33RO20071215,        P18,     168,          1,         15,      11015,2,20080213,       0352,   -67.2505,  -102.9995,       4674,   465.9,   2.0454,  34.5931,2,  34.5901,2,    179.1,2,   178.2,2,   76.90,2,   34.30,2,    0.00,2,    2.36,2,   0.779,2,   0.401,2,   0.2645,2,  2254.6,2,  2336.3,2,   1214.6,2,    20.00,   7.5574,2,    25.00,-999.000,9,-999.0000,9, -999.00,9,    0.31,2,  -999.0,1,-999.000,9,-999.000,-999.000,9,-999.000,9, -999.00,9, -999.00,9, -999.00,9, -999.00,9, -999.00,9,-999.000,-999.0000,9,-999.0000,9,-999.0000,9,-999.0000,9,-999.0000,9,-999.0000,9,-999.0000,9,-999.0000,9,-999.0000,9,   2.0192,     -999.0,9,     -999.0,9,     -999.0,9,     -999.0,9,     -999.0,9,     -999.0,9,     -999.0,9,-999.0000, -999.00
33RO20071215,        P18,     168,          1,         14,      11014,2,20080213,       0352,   -67.2505,  -102.9995,       4674,   599.6,   2.0708,  34.6494,2,  34.6498,2,    177.9,2,   177.5,2,   80.10,2,   33.50,2,    0.00,2,    2.31,2,   0.482,2,   0.244,2,   0.1331,2,  2255.1,6,  2343.7,2,   1183.5,2,    20.00,   7.5675,2,    25.00,-999.000,9,-999.0000,9, -999.00,9,    0.24,2,  -999.0,1,-999.000,9,-999.000,-999.000,9,-999.000,9, -999.00,9, -999.00,9, -999.00,9, -999.00,9, -999.00,9,-999.000,-999.0000,9,-999.0000,9,-999.0000,9,-999.0000,9,-999.0000,9,-999.0000,9,-999.0000,9,-999.0000,9,-999.0000,9,   2.0363,     -999.0,9,     -999.0,9,     -999.0,9,     -999.0,9,     -999.0,9,     -999.0,9,     -999.0,9,-999.0000, -999.00
33RO20071215,        P18,     168,          1,         13,      11013,2,20080213,       0352,   -67.2505,  -102.9995,       4674,   749.1,   2.0316,  34.6882,2,  34.6885,2,    180.1,2,   179.3,2,   82.90,2,   32.90,2,    0.00,2,    2.27,2,   0.332,2,   0.169,2,   0.1089,2,  2254.6,2,  2346.1,2,   1150.8,2,    20.00,   7.5790,2,    25.00,-999.000,9,-999.0000,9, -999.00,9,    0.32,2,  -999.0,1,-999.000,9,-999.000,-999.000,9,-999.000,9, -999.00,9, -999.00,9, -999.00,9, -999.00,9, -999.00,9,-999.000,-999.0000,9,-999.0000,9,-999.0000,9,-999.0000,9,-999.0000,9,-999.0000,9,-999.0000,9,-999.0000,9,-999.0000,9,   1.9878,     -999.0,9,     -999.0,9,     -999.0,9,     -999.0,9,     -999.0,9,     -999.0,9,     -999.0,9,-999.0000, -999.00
33RO20071215,        P18,     168,          1,         12,      11012,2,20080213,       0352,   -67.2505,  -102.9995,       4674,   901.2,   1.9542,  34.7138,2,  34.7158,2,    183.5,2,   183.4,2,   85.70,2,   32.20,2,    0.00,2,    2.23,2,-999.000,9,-999.000,9,-999.0000,9,  2253.7,2,  2350.2,2,   -999.0,9,  -999.00,   7.5891,2,    25.00,-999.000,9,-999.0000,9, -999.00,9, -999.00,9,  -999.0,9,-999.000,9,-999.000,-999.000,9,-999.000,9, -999.00,9, -999.00,9, -999.00,9, -999.00,9, -999.00,9,-999.000,-999.0000,9,-999.0000,9,-999.0000,9,-999.0000,9,-999.0000,9,-999.0000,9,-999.0000,9,-999.0000,9,-999.0000,9,   1.9009,     -999.0,9,     -999.0,9,     -999.0,9,     -999.0,9,     -999.0,9,     -999.0,9,     -999.0,9,-999.0000, -999.00
33RO20071215,        P18,     168,          1,         11,      11010,2,20080213,       0352,   -67.2505,  -102.9995,       4674,  1050.0,   1.8424,  34.7268,2,  34.7265,2,    187.1,2,   187.0,2,   88.80,2,   31.80,2,    0.00,2,    2.20,2,   0.200,2,   0.099,2,   0.0299,2,  1477.7,4,  2352.0,2,   1096.7,2,    20.00,   7.5967,2,    25.00,-999.000,9,-999.0000,9, -999.00,9,    0.38,2,  -999.0,1,-999.000,9,-999.000,-999.000,9,-999.000,9, -999.00,9, -999.00,9, -999.00,9, -999.00,9, -999.00,9,-999.000,-999.0000,9,-999.0000,9,-999.0000,9,-999.0000,9,-999.0000,9,-999.0000,9,-999.0000,9,-999.0000,9,-999.0000,9,   1.7798,     -999.0,9,     -999.0,9,     -999.0,9,     -999.0,9,     -999.0,9,     -999.0,9,     -999.0,9,-999.0000, -999.00
33RO20071215,        P18,     168,          1,         10,      11011,2,20080213,       0352,   -67.2505,  -102.9995,       4674,  1232.3,   1.7101,  34.7334,2,  34.7374,2,    190.1,2,   191.0,2,   92.60,2,   31.60,2,    0.00,2,    2.19,2,   0.169,2,   0.087,2,   0.0000,2,  2254.6,2,  2354.4,2,   1082.7,2,    20.00,   7.6007,2,    25.00,-999.000,9,-999.0000,9, -999.00,9, -999.00,9,  -999.0,9,-999.000,9,-999.000,-999.000,9,-999.000,9, -999.00,9, -999.00,9, -999.00,9, -999.00,9, -999.00,9,-999.000,-999.0000,9,-999.0000,9,-999.0000,9,-999.0000,9,-999.0000,9,-999.0000,9,-999.0000,9,-999.0000,9,-999.0000,9,   1.6361,     -999.0,9,     -999.0,9,     -999.0,9,     -999.0,9,     -999.0,9,     -999.0,9,     -999.0,9,-999.0000, -999.00
33RO20071215,        P18,     168,          1,          9,      11009,2,20080213,       0352,   -67.2505,  -102.9995,       4674,  1500.6,   1.4951,  34.7338,2,  34.7322,2,    193.3,2,   194.2,2,   99.80,2,   31.90,2,    0.00,2,    2.20,2,   0.124,2,   0.061,2,   0.0000,2,  2255.7,2,  2358.6,2,   -999.0,9,  -999.00,   7.6021,2,    25.00,-999.000,9,-999.0000,9, -999.00,9,     0.3,3,  -999.0,1,-999.000,9,-999.000,-999.000,9,-999.000,9, -999.00,9, -999.00,9, -999.00,9, -999.00,9, -999.00,9,-999.000,-999.0000,9,-999.0000,9,-999.0000,9,-999.0000,9,-999.0000,9,-999.0000,9,-999.0000,9,-999.0000,9,-999.0000,9,   1.4043,     -999.0,9,     -999.0,9,     -999.0,9,     -999.0,9,     -999.0,9,     -999.0,9,     -999.0,9,-999.0000, -999.00
33RO20071215,        P18,     168,          1,          8,      11008,2,20080213,       0352,   -67.2505,  -102.9995,       4674,  1866.8,   1.2601,  34.7292,2,  34.7284,2,    197.0,2,   197.3,2,  107.60,2,   32.10,2,    0.00,2,    2.22,2,   0.092,2,   0.048,2,   0.0480,2,  2258.1,2,  2365.0,2,   1075.0,2,    20.00,   7.6041,2,    25.00,-999.000,9,-999.0000,9, -999.00,9, -999.00,9,  -999.0,9,-999.000,9,-999.000,-999.000,9,-999.000,9, -999.00,9, -999.00,9, -999.00,9, -999.00,9, -999.00,9,-999.000,-999.0000,9,-999.0000,9,-999.0000,9,-999.0000,9,-999.0000,9,-999.0000,9,-999.0000,9,-999.0000,9,-999.0000,9,   1.1450,     -999.0,9,     -999.0,9,     -999.0,9,     -999.0,9,     -999.0,9,     -999.0,9,     -999.0,9,-999.0000, -999.00
33RO20071215,        P18,     168,          1,          7,      11007,2,20080213,       0352,   -67.2505,  -102.9995,       4674,  2266.6,   1.0426,  34.7219,2,  34.7197,2,    200.5,2,   200.8,2,  114.80,2,   32.30,2,    0.00,2,    2.23,2,   0.097,2,   0.048,2,   0.0000,2,  2259.3,2,  2357.6,2,   1077.5,2,    20.00,   7.6079,2,    25.00,-999.000,9,-999.0000,9, -999.00,9,    0.35,2,  -999.0,1,-999.000,9,-999.000,   0.145,3,-999.000,9, -999.00,9, -999.00,9, -999.00,9, -999.00,9, -999.00,9,-999.000,-999.0000,9,-999.0000,9,-999.0000,9,-999.0000,9,-999.0000,9,-999.0000,9,-999.0000,9,-999.0000,9,-999.0000,9,   0.8994,     -999.0,9,     -999.0,9,     -999.0,9,     -999.0,9,     -999.0,9,     -999.0,9,     -999.0,9,-999.0000, -999.00
33RO20071215,        P18,     168,          1,          6,      11006,2,20080213,       0352,   -67.2505,  -102.9995,       4674,  2666.5,   0.8704,  34.7154,2,  34.7121,2,    203.6,2,   204.6,2,  121.10,2,   32.60,2,    0.00,2,    2.25,2,   0.098,2,   0.050,2,   0.0000,2,  2260.5,2,  2361.2,2,   1080.7,2,    20.00,   7.6087,2,    25.00,-999.000,9,-999.0000,9, -999.00,9,    0.27,3,  -999.0,1,-999.000,9,-999.000,   0.155,3,-999.000,9, -999.00,9, -999.00,9, -999.00,9, -999.00,9, -999.00,9,-999.000,-999.0000,9,-999.0000,9,-999.0000,9,-999.0000,9,-999.0000,9,-999.0000,9,-999.0000,9,-999.0000,9,-999.0000,9,   0.6969,     -999.0,9,     -999.0,9,     -999.0,9,     -999.0,9,     -999.0,9,     -999.0,9,     -999.0,9,-999.0000, -999.00
33RO20071215,        P18,     168,          1,          5,      11005,2,20080213,       0352,   -67.2505,  -102.9995,       4674,  3066.9,   0.7114,  34.7105,2,  34.7073,2,    206.7,2,   207.0,2,  125.90,2,   32.80,2,    0.00,2,    2.26,2,-999.000,9,-999.000,9,-999.0000,9,  2262.2,6,  2365.8,2,   -999.0,9,  -999.00,   7.6030,2,    25.00,-999.000,9,-999.0000,9, -999.00,9,    0.35,2,  -999.0,1,-999.000,9,-999.000,-999.000,9,-999.000,9, -999.00,9, -999.00,9, -999.00,9, -999.00,9, -999.00,9,-999.000,-999.0000,9,-999.0000,9,-999.0000,9,-999.0000,9,-999.0000,9,-999.0000,9,-999.0000,9,-999.0000,9,-999.0000,9,   0.5058,     -999.0,9,     -999.0,9,     -999.0,9,     -999.0,9,     -999.0,9,     -999.0,9,     -999.0,9,-999.0000, -999.00
33RO20071215,        P18,     168,          1,          4,      11004,2,20080213,       0352,   -67.2505,  -102.9995,       4674,  3532.9,   0.5504,  34.7074,2,  34.7044,2,    210.6,2,   210.8,2,  130.10,6,   32.80,6,    0.00,6,    2.27,2,   0.148,2,   0.074,2,   0.0000,2,  2260.2,2,  2366.5,2,   1082.3,6,    20.00,   7.5974,2,    25.00,-999.000,9,-999.0000,9, -999.00,9,    0.39,2,  -999.0,1,-999.000,9,-999.000,   0.202,3,-999.000,9, -999.00,9, -999.00,9, -999.00,9, -999.00,9, -999.00,9,-999.000,-999.0000,9,-999.0000,9,-999.0000,9,-999.0000,9,-999.0000,9,-999.0000,9,-999.0000,9,-999.0000,9,-999.0000,9,   0.3049,     -999.0,9,     -999.0,9,     -999.0,9,     -999.0,9,     -999.0,9,     -999.0,9,     -999.0,9,-999.0000, -999.00
33RO20071215,        P18,     168,          1,          3,      11003,2,20080213,       0352,   -67.2505,  -102.9995,       4674,  4031.4,   0.4403,  34.7063,2,  34.7052,2,    213.6,2,   213.9,2,  134.80,6,   32.90,6,    0.00,6,    2.28,2,   0.165,6,   0.082,6,   0.0000,6,  2261.1,2,  2359.5,2,   1066.9,2,    20.00,   7.6029,2,    25.00,-999.000,9,-999.0000,9, -999.00,9,    0.22,3,  -999.0,1,-999.000,9,-999.000,   0.244,3,-999.000,9, -999.00,9, -999.00,9, -999.00,9, -999.00,9, -999.00,9,-999.000,-999.0000,9,-999.0000,9,-999.0000,9,-999.0000,9,-999.0000,9,-999.0000,9,-999.0000,9,-999.0000,9,-999.0000,9,   0.1480,     -999.0,9,     -999.0,9,     -999.0,9,     -999.0,9,     -999.0,9,     -999.0,9,     -999.0,9,-999.0000, -999.00
33RO20071215,        P18,     168,          1,          2,      11002,2,20080213,       0352,   -67.2505,  -102.9995,       4674,  4532.8,   0.3875,  34.7045,2,  34.7030,2,    216.1,2,   215.5,2,  139.90,6,   32.90,6,    0.00,6,    2.28,2,   0.267,2,   0.132,2,   0.0000,2,  2261.9,2,  2365.4,2,   -999.0,9,  -999.00,   7.6027,2,    25.00,-999.000,9,-999.0000,9, -999.00,9, -999.00,9,  -999.0,9,-999.000,9,-999.000,   0.313,3,-999.000,9, -999.00,9, -999.00,9, -999.00,9, -999.00,9, -999.00,9,-999.000,-999.0000,9,-999.0000,9,-999.0000,9,-999.0000,9,-999.0000,9,-999.0000,9,-999.0000,9,-999.0000,9,-999.0000,9,   0.0436,     -999.0,9,     -999.0,9,     -999.0,9,     -999.0,9,     -999.0,9,     -999.0,9,     -999.0,9,-999.0000, -999.00
33RO20071215,        P18,     168,          1,          1,      11001,2,20080213,       0352,   -67.2505,  -102.9995,       4674,  4753.6,   0.3903,  34.7038,2,  34.7073,2,    217.3,2,   215.6,2,  145.40,2,   33.10,2,    0.01,2,    2.28,2,   0.316,2,   0.154,2,   0.0753,2,  2263.9,6,  2369.1,2,   1069.6,2,    20.00,   7.6033,2,    25.00,-999.000,9,-999.0000,9, -999.00,9, -999.00,9,  -999.0,9,-999.000,9,-999.000,   0.314,3,-999.000,9, -999.00,9, -999.00,9, -999.00,9, -999.00,9, -999.00,9,-999.000,-999.0000,9,-999.0000,9,-999.0000,9,-999.0000,9,-999.0000,9,-999.0000,9,-999.0000,9,-999.0000,9,-999.0000,9,   0.0218,     -999.0,9,     -999.0,9,     -999.0,9,     -999.0,9,     -999.0,9,     -999.0,9,     -999.0,9,-999.0000, -999.00