BOTTLE,20220818CCHSIOAMB
EXPOCODE,SECT_ID,STNNBR,CASTNO,SAMPNO,BTLNBR,BTLNBR_FLAG_W,DATE,TIME,LATITUDE,LONGITUDE,DEPTH,CTDPRS,CTDTMP,CTDSAL,CTDSAL_FLAG_W,SALNTY,SALNTY_FLAG_W,CTDOXY,CTDOXY_FLAG_W,OXYGEN,OXYGEN_FLAG_W,SILCAT,SILCAT_FLAG_W,NITRAT,NITRAT_FLAG_W,NITRIT,NITRIT_FLAG_W,PHSPHT,PHSPHT_FLAG_W,CFC-11,CFC-11_FLAG_W,CFC-12,CFC-12_FLAG_W,SF6,SF6_FLAG_W,TCARBN,TCARBN_FLAG_W,ALKALI,ALKALI_FLAG_W,FCO2,FCO2_FLAG_W,FCO2TMP,PH_SWS,PH_SWS_FLAG_W,PH_TMP,TRITUM,TRITUM_FLAG_W,HELIUM,HELIUM_FLAG_W,DELHE3,DELHE3_FLAG_W,DELC13,DELC13_FLAG_W,DELC14,DELC14_FLAG_W,NEON,NEON_FLAG_W,NEONER,CCL4,CCL4_FLAG_W,POC,POC_FLAG_W,DOC,DOC_FLAG_W,TDN,TDN_FLAG_W,DON,DON_FLAG_W,CHLORA,CHLORA_FLAG_W,ARGON,ARGON_FLAG_W,TRITER,CDOM325,CDOM325_FLAG_W,CDOM340,CDOM340_FLAG_W,CDOM380,CDOM380_FLAG_W,CDOM412,CDOM412_FLAG_W,CDOM443,CDOM443_FLAG_W,CDOM490,CDOM490_FLAG_W,CDOM555,CDOM555_FLAG_W,CDOMSL,CDOMSL_FLAG_W,CDOMSN,CDOMSN_FLAG_W,THETA,D18O_NO3,D18O_NO3_FLAG_W,CDOM2C,CDOM2C_FLAG_W,CDOM3C,CDOM3C_FLAG_W,LAB_DEN,LAB_DEN_FLAG_W,DELSI30,DELSI30_FLAG_W,N2,N2_FLAG_W,D15N_NO3,D15N_NO3_FLAG_W,HELIER,DELHER
,,,,,,,,,,,METERS,DBAR,ITS-90,PSS-78,,PSS-78,,UMOL/KG,,UMOL/KG,,UMOL/KG,,UMOL/KG,,UMOL/KG,,UMOL/KG,,PMOL/KG,,PMOL/KG,,FMOL/KG,,UMOL/KG,,UMOL/KG,,UATM,,DEG C,,,DEG C,TU,,NMOL/KG,,PERCNT,,/MILLE,,/MILLE,,NMOL/KG,,NMOL/KG,PMOL/KG,,UG/KG,,UMOL/KG,,UMOL/KG,,UMOL/KG,,UG/KG,,UMOL/KG,,TU,1/M,,1/M,,1/M,,1/M,,1/M,,1/M,,1/M,,1/NM,,1/NM,,DEG C,/MILLE,,,,,,,,/MILLE,,UMOL/KG,,/MILLE,,NMOL/KG,PERCNT
33RO20071215,        P18,     140,          1,         24,      11024,2,20080204,       1508,   -52.5820,  -102.9987,       4338,     5.1,   8.9045,  34.1519,2,  34.1527,2,    284.8,2,   284.8,2,    1.30,2,   16.80,2,    0.25,2,    1.18,2,   3.966,2,   2.251,2,   1.6063,2,  2096.9,6,  2274.7,2,    603.7,2,    20.00,   7.8193,2,    25.00,-999.000,9,-999.0000,9, -999.00,9, -999.00,9,  -999.0,9,-999.000,9,-999.000,-999.000,9,-999.000,9,   49.60,2,   21.22,2, -999.00,1,    0.09,2, -999.00,9,-999.000,   0.0545,2,   0.0337,2,   0.0148,2,   0.0110,2,   0.0057,2,   0.0011,2,  -0.0017,4,   0.0177,2,   0.0236,2,   8.9039,     -999.0,9,     -999.0,9,     -999.0,9,     -999.0,1,     -999.0,9,     -999.0,9,     -999.0,9,-999.0000, -999.00
33RO20071215,        P18,     140,          1,         23,      11023,2,20080204,       1508,   -52.5820,  -102.9987,       4338,    33.4,   8.9009,  34.1517,2,  34.1524,2,    285.9,2,   284.5,2,    1.30,2,   16.80,2,    0.25,2,    1.18,2,   3.956,2,   2.238,2,   1.6773,2,  2097.1,2,  2274.4,2,   -999.0,9,  -999.00,   7.8198,2,    25.00,-999.000,9,-999.0000,9, -999.00,9, -999.00,9,  -999.0,9,-999.000,9,-999.000,-999.000,9,-999.000,9,   49.26,2,   21.30,2, -999.00,1,    0.08,2, -999.00,9,-999.000,   0.0519,2,   0.0312,2,   0.0123,2,   0.0088,2,   0.0039,2,  -0.0001,4,  -0.0025,4,   0.0221,2,   0.0283,2,   8.8973,     -999.0,9,     -999.0,9,     -999.0,9,     -999.0,1,     -999.0,9,     -999.0,9,     -999.0,9,-999.0000, -999.00
33RO20071215,        P18,     140,          1,         22,      11022,2,20080204,       1508,   -52.5820,  -102.9987,       4338,    57.6,   8.5954,  34.1652,2,  34.1684,2,    285.3,2,   286.6,2,    1.00,2,   16.60,2,    0.25,2,    1.19,2,   4.034,2,   2.277,2,   1.7458,2,  2099.0,2,  2276.7,2,    604.1,6,    20.00,   7.8266,2,    25.00,-999.000,9,-999.0000,9, -999.00,9, -999.00,9,  -999.0,9,-999.000,9,-999.000,-999.000,9,-999.000,9,   48.29,2,   20.91,2, -999.00,1,    0.11,2, -999.00,9,-999.000,   0.0543,2,   0.0324,2,   0.0138,2,   0.0098,2,   0.0043,2,  -0.0001,4,  -0.0024,4,   0.0198,2,   0.0260,2,   8.5895,     -999.0,9,     -999.0,9,     -999.0,9,     -999.0,1,     -999.0,9,     -999.0,9,     -999.0,9,-999.0000, -999.00
33RO20071215,        P18,     140,          1,         21,      11021,2,20080204,       1508,   -52.5820,  -102.9987,       4338,    82.1,   8.3433,  34.1712,2,  34.1729,2,    287.2,2,   286.6,2,    1.20,2,   16.80,2,    0.25,2,    1.21,2,   4.066,2,   2.291,2,   1.6235,2,  2099.0,2,  2275.9,2,   -999.0,9,  -999.00,   7.8216,2,    25.00,-999.000,9,-999.0000,9, -999.00,9, -999.00,9,  -999.0,9,-999.000,9,-999.000,-999.000,9,-999.000,9,   46.60,2,   20.68,2, -999.00,1,    0.12,2, -999.00,9,-999.000,   0.0589,2,   0.0363,2,   0.0161,2,   0.0116,2,   0.0057,2,   0.0007,2,  -0.0020,4,   0.0178,2,   0.0233,2,   8.3349,     -999.0,9,     -999.0,9,     -999.0,9,     -999.0,9,     -999.0,9,     -999.0,9,     -999.0,9,-999.0000, -999.00
33RO20071215,        P18,     140,          1,         20,      11020,2,20080204,       1508,   -52.5820,  -102.9987,       4338,   108.0,   6.6698,  34.1732,2,  34.1748,2,    294.9,2,   295.4,2,    3.60,2,   18.50,2,    0.22,2,    1.36,2,   4.382,2,   2.453,2,   1.8845,2,  2110.8,2,  2273.7,2,    657.1,2,    20.00,   7.7984,2,    25.00,-999.000,9,-999.0000,9, -999.00,9, -999.00,9,  -999.0,9,-999.000,9,-999.000,-999.000,9,-999.000,9,   46.36,2,   21.87,2, -999.00,1,    0.13,2, -999.00,9,-999.000,   0.0732,2,   0.0477,2,   0.0223,2,   0.0159,2,   0.0085,2,   0.0023,2,  -0.0012,4,   0.0164,2,   0.0201,2,   6.6602,     -999.0,9,     -999.0,9,     -999.0,9,     -999.0,1,     -999.0,9,     -999.0,9,     -999.0,9,-999.0000, -999.00
33RO20071215,        P18,     140,          1,         19,      11019,2,20080204,       1508,   -52.5820,  -102.9987,       4338,   142.3,   6.2424,  34.1953,2,  34.1976,2,    292.2,2,   291.8,2,    4.40,2,   19.30,2,    0.40,2,    1.41,2,   4.436,2,   2.474,2,   1.8115,2,  2121.4,2,  2269.7,2,   -999.0,9,  -999.00,   7.7809,2,    25.00,-999.000,9,-999.0000,9, -999.00,9, -999.00,9,  -999.0,9,-999.000,9,-999.000,-999.000,9,-999.000,9,   45.43,2,   23.17,2, -999.00,1,    0.16,2, -999.00,9,-999.000,   0.0650,2,   0.0408,2,   0.0188,2,   0.0134,2,   0.0063,2,   0.0008,2,  -0.0019,4,   0.0172,2,   0.0216,2,   6.2301,     -999.0,9,     -999.0,9,     -999.0,9,     -999.0,1,     -999.0,9,     -999.0,9,     -999.0,9,-999.0000, -999.00
33RO20071215,        P18,     140,          1,         18,      11018,2,20080204,       1508,   -52.5820,  -102.9987,       4338,   195.8,   6.0517,  34.1999,2,  34.2001,2,    290.3,2,   291.0,2,    4.70,2,   20.20,2,    0.10,2,    1.43,2,   4.419,2,   2.467,2,   1.7557,2,  2125.0,2,  2273.6,2,    693.1,2,    20.00,   7.7701,2,    25.00,-999.000,9,-999.0000,9, -999.00,9, -999.00,9,  -999.0,9,-999.000,9,-999.000,-999.000,9,-999.000,9,   45.04,2,   22.64,2, -999.00,1,    0.02,2, -999.00,9,-999.000,   0.0613,2,   0.0376,2,   0.0177,2,   0.0129,2,   0.0060,2,   0.0005,4,  -0.0022,4,   0.0168,2,   0.0218,2,   6.0351,     -999.0,9,     -999.0,9,     -999.0,9,     -999.0,1,     -999.0,9,     -999.0,9,     -999.0,9,-999.0000, -999.00
33RO20071215,        P18,     140,          1,         17,      11017,2,20080204,       1508,   -52.5820,  -102.9987,       4338,   273.2,   6.1970,  34.2660,2,  34.2670,2,    279.0,2,   278.0,2,    6.50,2,   21.50,2,    0.01,2,    1.49,2,   4.291,2,   2.365,2,   1.6477,2,  2134.2,2,  2277.9,2,    725.7,2,    20.00,   7.7635,2,    25.00,-999.000,9,-999.0000,9, -999.00,9, -999.00,9,  -999.0,9,-999.000,9,-999.000,-999.000,9,-999.000,9,   44.60,2,   22.55,2, -999.00,1, -999.00,9, -999.00,9,-999.000,   0.0647,2,   0.0397,2,   0.0184,2,   0.0133,2,   0.0060,2,   0.0006,2,  -0.0021,4,   0.0172,2,   0.0222,2,   6.1733,     -999.0,9,     -999.0,9,     -999.0,9,     -999.0,9,     -999.0,9,     -999.0,9,     -999.0,9,-999.0000, -999.00
33RO20071215,        P18,     140,          1,         16,      11016,2,20080204,       1508,   -52.5820,  -102.9987,       4338,   347.9,   6.0468,  34.2648,2,  34.2649,2,    276.7,2,   277.2,2,    7.20,2,   21.90,2,    0.01,2,    1.52,2,   4.228,2,   2.333,2,   1.5586,2,  2136.9,2,  2279.4,2,   -999.0,9,  -999.00,   7.7464,2,    25.00,-999.000,9,-999.0000,9, -999.00,9, -999.00,9,  -999.0,9,-999.000,9,-999.000,-999.000,9,-999.000,9,   44.05,2,   23.06,2, -999.00,1, -999.00,9, -999.00,9,-999.000,   0.0640,2,   0.0395,2,   0.0186,2,   0.0134,2,   0.0062,2,   0.0010,2,  -0.0017,4,   0.0168,2,   0.0218,2,   6.0168,     -999.0,9,     -999.0,9,     -999.0,9,     -999.0,1,     -999.0,9,     -999.0,9,     -999.0,9,-999.0000, -999.00
33RO20071215,        P18,     140,          1,         15,      11015,2,20080204,       1508,   -52.5820,  -102.9987,       4338,   432.7,   5.8395,  34.2487,2,  34.2510,2,    275.3,2,   276.2,2,    8.00,2,   22.50,2,    0.01,2,    1.56,2,   4.214,2,   2.317,2,   1.5397,2,  2140.2,2,  2279.4,2,    744.9,2,    20.00,   7.7490,2,    25.00,-999.000,9,-999.0000,9, -999.00,9, -999.00,9,  -999.0,9,-999.000,9,-999.000,-999.000,9,-999.000,9,   43.06,2,   24.42,2, -999.00,1, -999.00,9, -999.00,9,-999.000,   0.0619,2,   0.0372,2,   0.0169,2,   0.0118,2,   0.0051,2,   0.0002,4,  -0.0022,4,   0.0180,2,   0.0235,2,   5.8026,     -999.0,9,     -999.0,9,     -999.0,9,     -999.0,9,     -999.0,9,     -999.0,9,     -999.0,9,-999.0000, -999.00
33RO20071215,        P18,     140,          1,         14,      11014,2,20080204,       1508,   -52.5820,  -102.9987,       4338,   549.9,   5.5532,  34.2344,2,  34.2347,2,    265.7,2,   265.4,2,   10.50,2,   24.30,2,    0.01,2,    1.67,2,   3.982,2,   2.151,2,   1.3596,2,  2143.9,2,  2281.0,2,    788.0,2,    20.00,   7.7305,2,    25.00,-999.000,9,-999.0000,9, -999.00,9, -999.00,9,  -999.0,9,-999.000,9,-999.000,-999.000,9,-999.000,9,   41.74,2,   25.49,2, -999.00,1, -999.00,9, -999.00,9,-999.000,   0.0679,2,   0.0420,2,   0.0199,2,   0.0140,2,   0.0068,2,   0.0012,2,  -0.0016,4,   0.0169,2,   0.0215,2,   5.5070,     -999.0,9,     -999.0,9,     -999.0,9,     -999.0,1,     -999.0,9,     -999.0,9,     -999.0,9,-999.0000, -999.00
33RO20071215,        P18,     140,          1,         13,      11013,2,20080204,       1508,   -52.5820,  -102.9987,       4338,   700.9,   5.1552,  34.2518,2,  34.2525,2,    238.1,2,   237.9,2,   17.00,2,   27.40,2,    0.00,2,    1.88,2,   3.260,2,   1.697,2,   0.9861,2,  2163.9,2,  2286.0,2,    880.7,2,    20.00,   7.6863,2,    25.00,-999.000,9,-999.0000,9, -999.00,9, -999.00,9,  -999.0,9,-999.000,9,-999.000,-999.000,9,-999.000,9,   40.26,2,   29.24,2, -999.00,1, -999.00,9, -999.00,9,-999.000,   0.0768,2,   0.0482,2,   0.0231,2,   0.0162,2,   0.0082,2,   0.0021,2,  -0.0012,4,   0.0167,2,   0.0207,2,   5.0977,     -999.0,9,     -999.0,9,     -999.0,9,     -999.0,9,     -999.0,9,     -999.0,9,     -999.0,9,-999.0000, -999.00
33RO20071215,        P18,     140,          1,         12,      11012,2,20080204,       1508,   -52.5820,  -102.9987,       4338,   850.4,   4.6014,  34.2855,2,  34.2845,2,    218.3,2,   218.2,2,   25.80,2,   30.00,2,    0.00,2,    2.06,2,   2.571,2,   1.303,2,   0.5348,2,  2183.3,2,  2291.3,2,    974.0,2,    20.00,   7.6512,2,    25.00,-999.000,9,-999.0000,9, -999.00,9, -999.00,9,  -999.0,9,-999.000,9,-999.000,-999.000,9,-999.000,9,   39.97,2,   31.14,2, -999.00,1, -999.00,9, -999.00,9,-999.000,   0.0865,2,   0.0556,2,   0.0276,2,   0.0194,2,   0.0101,2,   0.0022,2,  -0.0015,4,   0.0161,2,   0.0192,2,   4.5344,     -999.0,9,     -999.0,9,     -999.0,9,     -999.0,1,     -999.0,9,     -999.0,9,     -999.0,9,-999.0000, -999.00
33RO20071215,        P18,     140,          1,         11,      11010,2,20080204,       1508,   -52.5820,  -102.9987,       4338,  1000.7,   3.8876,  34.3174,2,  34.3152,2,    207.6,2,   207.1,2,   36.40,2,   32.10,2,    0.00,2,    2.20,2,   2.027,2,   1.017,2,   0.4808,2,  2201.1,2,  2300.6,2,   -999.0,9,  -999.00,   7.6217,2,    25.00,-999.000,9,-999.0000,9, -999.00,9, -999.00,9,  -999.0,9,-999.000,9,-999.000,-999.000,9,-999.000,9,   40.14,2,   33.38,2, -999.00,1, -999.00,9, -999.00,9,-999.000,   0.0930,2,   0.0604,2,   0.0306,2,   0.0213,2,   0.0115,2,   0.0025,2,  -0.0013,4,   0.0160,2,   0.0186,2,   3.8130,     -999.0,9,     -999.0,9,     -999.0,9,     -999.0,9,     -999.0,9,     -999.0,9,     -999.0,9,-999.0000, -999.00
33RO20071215,        P18,     140,          1,         10,      11011,2,20080204,       1508,   -52.5820,  -102.9987,       4338,  1167.5,   3.3057,  34.3686,2,  34.3672,2,    195.2,2,   195.1,2,   48.50,2,   33.80,2,    0.00,2,    2.32,2,   1.457,2,   0.731,2,   0.3086,2,  2219.1,2,  2310.9,2,   1109.1,2,    20.00,   7.5973,2,    25.00,-999.000,9,-999.0000,9, -999.00,9, -999.00,9,  -999.0,9,-999.000,9,-999.000,-999.000,9,-999.000,9,   39.23,2,   34.94,2, -999.00,1, -999.00,9, -999.00,9,-999.000,   0.1033,2,   0.0684,2,   0.0356,2,   0.0248,2,   0.0138,2,   0.0036,2,  -0.0010,4,   0.0157,2,   0.0178,2,   3.2224,     -999.0,9,     -999.0,9,     -999.0,9,     -999.0,1,     -999.0,9,     -999.0,9,     -999.0,9,-999.0000, -999.00
33RO20071215,        P18,     140,          1,          9,      11009,2,20080204,       1508,   -52.5820,  -102.9987,       4338,  1397.5,   2.8107,  34.4675,2,  34.4657,2,    178.3,2,   178.6,2,   64.00,2,   34.90,2,    0.00,2,    2.40,2,   0.719,2,   0.368,2,   0.1015,2,  2241.4,2,  2325.3,2,   1180.3,2,    20.00,   7.5749,2,    25.00,-999.000,9,-999.0000,9, -999.00,9, -999.00,9,  -999.0,9,-999.000,9,-999.000,-999.000,9,-999.000,9,   39.30,2,   36.48,2, -999.00,1, -999.00,9, -999.00,9,-999.000,   0.1158,2,   0.0783,2,   0.0415,2,   0.0287,2,   0.0167,2,   0.0050,2,  -0.0003,4,   0.0155,2,   0.0170,2,   2.7136,     -999.0,9,     -999.0,9,     -999.0,9,     -999.0,1,     -999.0,9,     -999.0,9,     -999.0,9,-999.0000, -999.00
33RO20071215,        P18,     140,          1,          8,      11008,2,20080204,       1508,   -52.5820,  -102.9987,       4338,  1732.5,   2.4737,  34.5944,2,  34.5913,2,    168.5,2,   168.5,2,   79.70,2,   34.80,2,    0.00,2,    2.40,2,   0.237,2,   0.123,2,   0.0000,2,  2262.0,6,  2344.8,2,   1191.9,2,    20.00,   7.5740,2,    25.00,-999.000,9,-999.0000,9, -999.00,9, -999.00,9,  -999.0,9,-999.000,9,-999.000,-999.000,9,-999.000,9,   39.97,2,   36.29,2, -999.00,1, -999.00,9, -999.00,9,-999.000,   0.1215,2,   0.0825,2,   0.0431,2,   0.0291,2,   0.0165,2,   0.0043,3,  -0.0009,4,   0.0161,2,   0.0174,2,   2.3529,     -999.0,9,     -999.0,9,     -999.0,9,     -999.0,1,     -999.0,9,     -999.0,9,     -999.0,9,-999.0000, -999.00
33RO20071215,        P18,     140,          1,          7,      11007,2,20080204,       1508,   -52.5820,  -102.9987,       4338,  2135.1,   2.2022,  34.6811,2,  34.6869,2,    172.9,2,   172.7,2,   89.60,2,   33.70,2,    0.00,2,    2.32,2,   0.099,2,   0.051,2,   0.0000,2,  2264.4,2,  2354.1,2,   1147.1,2,    20.00,   7.5969,2,    25.00,-999.000,9,-999.0000,9, -999.00,9, -999.00,9,  -999.0,9,-999.000,9,-999.000,   0.119,3,-999.000,9,   39.54,3,   35.28,3, -999.00,1, -999.00,9, -999.00,9,-999.000,   0.1232,2,   0.0840,2,   0.0434,2,   0.0288,2,   0.0161,2,   0.0038,3,  -0.0013,4,   0.0165,2,   0.0177,2,   2.0508,     -999.0,9,     -999.0,9,     -999.0,9,     -999.0,9,     -999.0,9,     -999.0,9,     -999.0,9,-999.0000, -999.00
33RO20071215,        P18,     140,          1,          6,      11006,2,20080204,       1508,   -52.5820,  -102.9987,       4338,  2531.4,   1.8919,  34.7076,2,  34.7062,2,    175.8,2,   176.5,2,  102.60,2,   33.60,2,    0.00,2,    2.31,2,   0.031,2,   0.017,2,   0.0000,2,  2272.8,2,  2369.7,4,   1123.8,6,    20.00,   7.6004,2,    25.00,-999.000,9,-999.0000,9, -999.00,9, -999.00,9,  -999.0,9,-999.000,9,-999.000,   0.055,3,-999.000,9,   39.22,2,   35.36,2, -999.00,1, -999.00,9, -999.00,9,-999.000,   0.1240,2,   0.0846,2,   0.0441,2,   0.0288,2,   0.0165,2,   0.0043,2,  -0.0009,4,   0.0164,2,   0.0176,2,   1.7106,     -999.0,9,     -999.0,9,     -999.0,9,     -999.0,1,     -999.0,9,     -999.0,9,     -999.0,9,-999.0000, -999.00
33RO20071215,        P18,     140,          1,          5,      11005,2,20080204,       1508,   -52.5820,  -102.9987,       4338,  2934.1,   1.6391,  34.7130,2,  34.7103,2,    181.7,2,   181.1,2,  110.70,2,   33.50,2,    0.00,2,    2.31,2,   0.015,2,   0.008,2,   0.0000,2,  2277.5,6,  2374.3,2,   1103.2,2,    20.00,   7.6096,2,    25.00,-999.000,9,-999.0000,9, -999.00,9, -999.00,9,  -999.0,9,-999.000,9,-999.000,   0.035,3,-999.000,9,   40.15,2,   34.99,2, -999.00,1, -999.00,9, -999.00,9,-999.000,   0.1238,2,   0.0848,2,   0.0445,2,   0.0292,2,   0.0168,2,   0.0045,2,  -0.0010,4,   0.0163,2,   0.0174,2,   1.4253,     -999.0,9,     -999.0,9,     -999.0,9,     -999.0,1,     -999.0,9,     -999.0,9,     -999.0,9,-999.0000, -999.00
33RO20071215,        P18,     140,          1,          4,      11004,2,20080204,       1508,   -52.5820,  -102.9987,       4338,  3330.0,   1.4730,  34.7211,2,  34.7198,2,    190.6,2,   191.2,2,  111.60,6,   33.00,6,    0.00,6,    2.27,2,   0.029,6,   0.017,6,   0.0000,6,  2270.1,2,  2373.5,4,   1083.4,2,    20.00,   7.5999,2,    25.00,-999.000,9,-999.0000,9, -999.00,9, -999.00,9,  -999.0,9,-999.000,9,-999.000,   0.049,3,-999.000,9,   39.66,2,   34.49,2, -999.00,9, -999.00,9, -999.00,9,-999.000,   0.1231,2,   0.0843,2,   0.0438,2,   0.0286,2,   0.0160,2,   0.0033,4,  -0.0018,4,   0.0166,2,   0.0177,2,   1.2244,     -999.0,9,     -999.0,9,     -999.0,9,     -999.0,1,     -999.0,9,     -999.0,9,     -999.0,9,-999.0000, -999.00
33RO20071215,        P18,     140,          1,          3,      11003,2,20080204,       1508,   -52.5820,  -102.9987,       4338,  3732.3,   1.1236,  34.7155,2,  34.7129,2,    198.1,2,   197.7,2,  122.50,6,   33.30,6,    0.00,6,    2.28,2,   0.014,2,   0.008,2,   0.0000,2,  2270.3,2,  2374.2,2,   1070.8,2,    20.00,   7.6173,2,    25.00,-999.000,9,-999.0000,9, -999.00,9, -999.00,9,  -999.0,9,-999.000,9,-999.000,   0.041,3,-999.000,9,   39.39,2,   34.57,2, -999.00,9, -999.00,9, -999.00,9,-999.000,   0.1211,2,   0.0827,2,   0.0429,2,   0.0280,2,   0.0155,3,   0.0031,4,  -0.0019,4,   0.0166,2,   0.0178,2,   0.8432,     -999.0,9,     -999.0,9,     -999.0,9,     -999.0,1,     -999.0,9,     -999.0,9,     -999.0,9,-999.0000, -999.00
33RO20071215,        P18,     140,          1,          2,      11002,2,20080204,       1508,   -52.5820,  -102.9987,       4338,  4132.8,   0.7928,  34.7108,2,  34.7099,2,    205.5,2,   205.4,2,  132.20,6,   33.40,6,    0.00,6,    2.29,2,   0.026,2,   0.017,2,   0.0000,2,  2270.8,2,  2376.1,2,   -999.0,9,  -999.00,   7.6224,2,    25.00,-999.000,9,-999.0000,9, -999.00,9, -999.00,9,  -999.0,9,-999.000,9,-999.000,   0.064,3,-999.000,9,   39.88,2,   34.28,2, -999.00,9, -999.00,9, -999.00,9,-999.000,   0.1053,2,   0.0671,2,   0.0298,2,   0.0185,2,   0.0098,2,   0.0029,3,   0.0003,4,   0.0188,2,   0.0222,2,   0.4797,     -999.0,9,     -999.0,9,     -999.0,9,     -999.0,1,     -999.0,9,     -999.0,9,     -999.0,9,-999.0000, -999.00
33RO20071215,        P18,     140,          1,          1,      11001,2,20080204,       1508,   -52.5820,  -102.9987,       4338,  4400.0,   0.7549,  34.7097,2,  34.7080,2,    206.8,2,   206.3,2,  134.70,2,   33.40,2,    0.01,2,    2.29,2,  -0.002,2,   0.015,2,   0.0000,2,  2273.2,6,  2379.5,2,   1061.5,2,    20.00,   7.6164,2,    25.00,-999.000,9,-999.0000,9, -999.00,9, -999.00,9,  -999.0,9,-999.000,9,-999.000,   0.000,3,-999.000,9,   39.54,2,   34.82,2, -999.00,9, -999.00,9, -999.00,9,-999.000,   0.1127,2,   0.0735,2,   0.0345,2,   0.0223,2,   0.0124,2,   0.0041,3,   0.0006,3,   0.0175,2,   0.0203,2,   0.4140,     -999.0,9,     -999.0,9,     -999.0,9,     -999.0,1,     -999.0,9,     -999.0,9,     -999.0,9,-999.0000, -999.00