BOTTLE,20220818CCHSIOAMB
EXPOCODE,SECT_ID,STNNBR,CASTNO,SAMPNO,BTLNBR,BTLNBR_FLAG_W,DATE,TIME,LATITUDE,LONGITUDE,DEPTH,CTDPRS,CTDTMP,CTDSAL,CTDSAL_FLAG_W,SALNTY,SALNTY_FLAG_W,CTDOXY,CTDOXY_FLAG_W,OXYGEN,OXYGEN_FLAG_W,SILCAT,SILCAT_FLAG_W,NITRAT,NITRAT_FLAG_W,NITRIT,NITRIT_FLAG_W,PHSPHT,PHSPHT_FLAG_W,CFC-11,CFC-11_FLAG_W,CFC-12,CFC-12_FLAG_W,SF6,SF6_FLAG_W,TCARBN,TCARBN_FLAG_W,ALKALI,ALKALI_FLAG_W,FCO2,FCO2_FLAG_W,FCO2TMP,PH_SWS,PH_SWS_FLAG_W,PH_TMP,TRITUM,TRITUM_FLAG_W,HELIUM,HELIUM_FLAG_W,DELHE3,DELHE3_FLAG_W,DELC13,DELC13_FLAG_W,DELC14,DELC14_FLAG_W,NEON,NEON_FLAG_W,NEONER,CCL4,CCL4_FLAG_W,POC,POC_FLAG_W,DOC,DOC_FLAG_W,TDN,TDN_FLAG_W,DON,DON_FLAG_W,CHLORA,CHLORA_FLAG_W,ARGON,ARGON_FLAG_W,TRITER,CDOM325,CDOM325_FLAG_W,CDOM340,CDOM340_FLAG_W,CDOM380,CDOM380_FLAG_W,CDOM412,CDOM412_FLAG_W,CDOM443,CDOM443_FLAG_W,CDOM490,CDOM490_FLAG_W,CDOM555,CDOM555_FLAG_W,CDOMSL,CDOMSL_FLAG_W,CDOMSN,CDOMSN_FLAG_W,THETA,D18O_NO3,D18O_NO3_FLAG_W,CDOM2C,CDOM2C_FLAG_W,CDOM3C,CDOM3C_FLAG_W,LAB_DEN,LAB_DEN_FLAG_W,DELSI30,DELSI30_FLAG_W,N2,N2_FLAG_W,D15N_NO3,D15N_NO3_FLAG_W,HELIER,DELHER
,,,,,,,,,,,METERS,DBAR,ITS-90,PSS-78,,PSS-78,,UMOL/KG,,UMOL/KG,,UMOL/KG,,UMOL/KG,,UMOL/KG,,UMOL/KG,,PMOL/KG,,PMOL/KG,,FMOL/KG,,UMOL/KG,,UMOL/KG,,UATM,,DEG C,,,DEG C,TU,,NMOL/KG,,PERCNT,,/MILLE,,/MILLE,,NMOL/KG,,NMOL/KG,PMOL/KG,,UG/KG,,UMOL/KG,,UMOL/KG,,UMOL/KG,,UG/KG,,UMOL/KG,,TU,1/M,,1/M,,1/M,,1/M,,1/M,,1/M,,1/M,,1/NM,,1/NM,,DEG C,/MILLE,,,,,,,,/MILLE,,UMOL/KG,,/MILLE,,NMOL/KG,PERCNT
33RO20071215,        P18,     100,          1,         36,      12017,2,20080123,       1218,   -29.2492,  -103.0003,       3177,     6.1,  23.3418,  35.5538,2,  35.5547,2,    216.1,2,   216.8,2,    0.40,2,    0.10,2,    0.00,2,    0.09,2,   1.950,2,   1.217,2,   1.1060,2,  2058.0,6,  2343.9,2,   -999.0,9,  -999.00,   8.0115,2,    25.00,-999.000,9,-999.0000,9, -999.00,9, -999.00,9,  -999.0,9,-999.000,9,-999.000,-999.000,9,-999.000,9,   67.37,2,    3.75,2, -999.00,9,    0.02,2, -999.00,9,-999.000,-999.0000,5,-999.0000,5,-999.0000,5,-999.0000,5,-999.0000,5,-999.0000,5,-999.0000,5,-999.0000,5,-999.0000,5,  23.3405,     -999.0,9,     -999.0,9,     -999.0,9,     -999.0,9,     -999.0,9,     -999.0,9,     -999.0,9,-999.0000, -999.00
33RO20071215,        P18,     100,          1,         35,      12029,2,20080123,       1218,   -29.2492,  -103.0003,       3177,    11.7,  23.3440,  35.5541,2,  35.5567,2,    216.3,2,   216.8,2,    0.50,2,    0.10,2,    0.00,2,    0.09,2,   1.966,2,   1.251,2,   1.3369,3,  2058.6,2,  2343.4,2,   -999.0,9,  -999.00,   7.9914,2,    25.00,-999.000,9,-999.0000,9, -999.00,9,    1.28,2,  -999.0,1,-999.000,9,-999.000,-999.000,9,-999.000,9,   66.92,2,    4.11,2, -999.00,9,    0.02,2, -999.00,9,-999.000,   0.0410,2,   0.0265,2,   0.0076,2,   0.0039,2,   0.0021,2,   0.0006,3,  -0.0004,4,   0.0302,2,   0.0298,2,  23.3416,     -999.0,9,     -999.0,9,     -999.0,9,     -999.0,9,     -999.0,9,     -999.0,9,     -999.0,9,-999.0000, -999.00
33RO20071215,        P18,     100,          1,         34,      12049,2,20080123,       1218,   -29.2492,  -103.0003,       3177,    20.6,  23.3304,  35.5862,2,  35.6577,2,    216.7,2,   218.6,2,    0.50,2,    0.10,2,    0.00,2,    0.09,2,   1.979,2,   1.228,2,   1.0555,2,  2061.5,2,  2351.0,2,   -999.0,9,  -999.00,   8.0040,2,    25.00,-999.000,9,-999.0000,9, -999.00,9, -999.00,9,  -999.0,9,-999.000,9,-999.000,-999.000,9,-999.000,9,   66.73,2,    4.07,2, -999.00,9,    0.02,2, -999.00,9,-999.000,   0.0520,2,   0.0347,2,   0.0140,2,   0.0091,2,   0.0065,2,   0.0040,2,   0.0018,2,   0.0217,2,   0.0239,2,  23.3262,     -999.0,9,     -999.0,9,     -999.0,9,     -999.0,9,     -999.0,9,     -999.0,9,     -999.0,9,-999.0000, -999.00
33RO20071215,        P18,     100,          1,         33,      12027,2,20080123,       1218,   -29.2492,  -103.0003,       3177,    40.8,  21.7794,  35.9616,2,  35.9634,2,    227.6,2,   227.8,2,    0.60,2,    0.10,2,    0.00,2,    0.10,2,   2.118,2,   1.298,2,   1.1777,2,  2067.4,2,  2369.1,2,   -999.0,9,  -999.00,   8.0246,2,    25.00,-999.000,9,-999.0000,9, -999.00,9, -999.00,9,  -999.0,9,-999.000,9,-999.000,-999.000,9,-999.000,9,   66.36,2,    4.04,2, -999.00,9,    0.02,2, -999.00,9,-999.000,   0.0459,2,   0.0283,2,   0.0083,2,   0.0041,2,   0.0021,2,   0.0009,3,   0.0000,4,   0.0310,2,   0.0314,2,  21.7713,     -999.0,9,     -999.0,9,     -999.0,9,     -999.0,9,     -999.0,9,     -999.0,9,     -999.0,9,-999.0000, -999.00
33RO20071215,        P18,     100,          1,         32,      12023,2,20080123,       1218,   -29.2492,  -103.0003,       3177,    59.5,  21.4704,  35.9646,2,  35.9643,2,    227.7,2,   228.2,2,    0.60,2,    0.10,2,    0.00,2,    0.10,2,   2.104,2,   1.300,2,   1.1862,2,  2067.7,2,  2372.1,2,   -999.0,9,  -999.00,   8.0123,2,    25.00,-999.000,9,-999.0000,9, -999.00,9, -999.00,9,  -999.0,9,-999.000,9,-999.000,-999.000,9,-999.000,9,   65.75,2,    3.71,2, -999.00,9,    0.03,2, -999.00,9,-999.000,   0.0437,2,   0.0274,2,   0.0080,2,   0.0038,2,   0.0019,2,   0.0006,3,  -0.0002,4,   0.0301,2,   0.0303,2,  21.4588,     -999.0,9,     -999.0,9,     -999.0,9,     -999.0,9,     -999.0,9,     -999.0,9,     -999.0,9,-999.0000, -999.00
33RO20071215,        P18,     100,          1,         31,      12037,2,20080123,       1218,   -29.2492,  -103.0003,       3177,    79.6,  20.5157,  35.8330,2,  35.8368,2,    232.5,2,   232.2,2,    0.60,2,    0.10,2,    0.00,2,    0.09,2,   2.192,6,   1.343,6,   1.2006,6,  2061.2,2,  -999.0,5,   -999.0,9,  -999.00,   8.0148,2,    25.00,-999.000,9,-999.0000,9, -999.00,9, -999.00,9,  -999.0,9,-999.000,9,-999.000,-999.000,9,-999.000,9,   65.55,2,    4.25,2, -999.00,9,    0.03,2, -999.00,9,-999.000,   0.0661,2,   0.0432,2,   0.0164,2,   0.0096,2,   0.0058,2,   0.0031,2,   0.0011,2,   0.0232,2,   0.0252,2,  20.5007,     -999.0,9,     -999.0,9,     -999.0,9,     -999.0,9,     -999.0,9,     -999.0,9,     -999.0,9,-999.0000, -999.00
33RO20071215,        P18,     100,          1,         30,      12036,2,20080123,       1218,   -29.2492,  -103.0003,       3177,   101.0,  19.4084,  35.5968,2,  35.6000,2,    235.3,2,   236.1,2,    0.60,2,    0.10,2,    0.00,2,    0.09,2,   2.297,2,   1.396,2,   1.2696,2,  2054.4,2,  2344.9,2,   -999.0,9,  -999.00,   7.9987,2,    25.00,-999.000,9,-999.0000,9, -999.00,9, -999.00,9,  -999.0,9,-999.000,9,-999.000,-999.000,9,-999.000,9,   65.39,2,    3.63,2, -999.00,9,    0.05,2, -999.00,9,-999.000,   0.0767,2,   0.0499,2,   0.0185,2,   0.0106,2,   0.0061,2,   0.0027,2,   0.0008,2,   0.0231,2,   0.0256,2,  19.3901,     -999.0,9,     -999.0,9,     -999.0,9,     -999.0,9,     -999.0,9,     -999.0,9,     -999.0,9,-999.0000, -999.00
33RO20071215,        P18,     100,          1,         29,      12044,2,20080123,       1218,   -29.2492,  -103.0003,       3177,   122.0,  19.1575,  35.6095,2,  35.6202,2,    232.4,2,   231.5,2,    0.60,2,    0.10,2,    0.00,2,    0.10,2,   2.294,2,   1.397,2,   1.2405,2,  2057.2,2,  2343.4,2,   -999.0,9,  -999.00,   8.0013,2,    25.00,-999.000,9,-999.0000,9, -999.00,9, -999.00,9,  -999.0,9,-999.000,9,-999.000,-999.000,9,-999.000,9,   63.87,2,    4.17,2, -999.00,9,    0.08,2, -999.00,9,-999.000,   0.0733,2,   0.0483,2,   0.0184,2,   0.0109,2,   0.0059,2,   0.0024,2,   0.0007,2,   0.0221,2,   0.0247,2,  19.1356,     -999.0,9,     -999.0,9,     -999.0,9,     -999.0,9,     -999.0,9,     -999.0,9,     -999.0,9,-999.0000, -999.00
33RO20071215,        P18,     100,          1,         28,      12057,2,20080123,       1218,   -29.2492,  -103.0003,       3177,   149.4,  18.4518,  35.4560,2,  35.4644,2,    233.2,2,   233.6,2,    0.60,2,    0.10,2,    0.00,2,    0.11,2,   2.375,2,   1.436,2,   1.1646,2,  2056.1,2,  2334.9,2,   -999.0,9,  -999.00,   7.9889,2,    25.00,-999.000,9,-999.0000,9, -999.00,9, -999.00,9,  -999.0,9,-999.000,9,-999.000,-999.000,9,-999.000,9,   61.72,2,    3.98,2, -999.00,9,    0.10,2, -999.00,9,-999.000,   0.0769,2,   0.0516,2,   0.0207,2,   0.0126,2,   0.0068,2,   0.0027,2,   0.0007,2,   0.0205,2,   0.0232,2,  18.4256,     -999.0,9,     -999.0,9,     -999.0,9,     -999.0,9,     -999.0,9,     -999.0,9,     -999.0,9,-999.0000, -999.00
33RO20071215,        P18,     100,          1,         27,      12026,2,20080123,       1218,   -29.2492,  -103.0003,       3177,   175.2,  17.9502,  35.3468,2,  35.3444,2,    231.2,2,   230.7,2,    0.60,2,    0.20,2,    0.03,2,    0.13,2,   2.422,2,   1.458,2,   1.1036,2,  2058.0,2,  2328.0,2,   -999.0,9,  -999.00,   7.9661,2,    25.00,-999.000,9,-999.0000,9, -999.00,9, -999.00,9,  -999.0,9,-999.000,9,-999.000,-999.000,9,-999.000,9,   60.51,2,    4.35,2, -999.00,9,    0.14,2, -999.00,9,-999.000,   0.0725,2,   0.0495,2,   0.0200,2,   0.0127,2,   0.0066,2,   0.0021,2,   0.0002,3,   0.0198,2,   0.0225,2,  17.9201,     -999.0,9,     -999.0,9,     -999.0,9,     -999.0,9,     -999.0,9,     -999.0,9,     -999.0,9,-999.0000, -999.00
33RO20071215,        P18,     100,          1,         26,      12030,2,20080123,       1218,   -29.2492,  -103.0003,       3177,   202.2,  16.8128,  35.1279,2,  35.1494,2,    221.1,2,   221.2,2,    0.80,2,    1.60,2,    0.13,2,    0.21,2,-999.000,9,-999.000,9,-999.0000,9,  2061.6,2,  2315.2,2,   -999.0,9,  -999.00,   7.9482,2,    25.00,-999.000,9,-999.0000,9, -999.00,9, -999.00,9,  -999.0,9,-999.000,9,-999.000,-999.000,9,-999.000,9,   56.02,2,    4.87,2, -999.00,9,    0.12,2, -999.00,9,-999.000,   0.0885,2,   0.0626,2,   0.0288,2,   0.0191,2,   0.0107,2,   0.0045,2,   0.0012,2,   0.0171,2,   0.0190,2,  16.7796,     -999.0,9,     -999.0,9,     -999.0,9,     -999.0,9,     -999.0,9,     -999.0,9,     -999.0,9,-999.0000, -999.00
33RO20071215,        P18,     100,          1,         25,      12024,2,20080123,       1218,   -29.2492,  -103.0003,       3177,   226.3,  15.4603,  34.8803,2,  34.8779,2,    208.9,2,   209.1,2,    1.20,2,    4.80,2,    0.02,2,    0.40,2,   2.725,2,   1.569,2,   1.0834,2,  2072.8,2,  2295.1,2,   -999.0,9,  -999.00,   7.9050,2,    25.00,-999.000,9,-999.0000,9, -999.00,9, -999.00,9,  -999.0,9,-999.000,9,-999.000,-999.000,9,-999.000,9,   51.16,2,    7.89,2, -999.00,9,    0.06,2, -999.00,9,-999.000,-999.0000,5,-999.0000,5,-999.0000,5,-999.0000,5,-999.0000,5,-999.0000,5,-999.0000,5,-999.0000,5,-999.0000,5,  15.4253,     -999.0,9,     -999.0,9,     -999.0,9,     -999.0,9,     -999.0,9,     -999.0,9,     -999.0,9,-999.0000, -999.00
33RO20071215,        P18,     100,          1,         24,      12019,2,20080123,       1218,   -29.2492,  -103.0003,       3177,   249.2,  14.2998,  34.7389,2,  34.7435,2,    201.9,2,   202.3,2,    1.60,2,    7.40,2,    0.01,2,    0.56,2,-999.000,9,-999.000,9,-999.0000,9,  2084.6,2,  2290.7,2,   -999.0,9,  -999.00,   7.8584,2,    25.00,-999.000,9,-999.0000,9, -999.00,9, -999.00,9,  -999.0,9,-999.000,9,-999.000,-999.000,9,-999.000,9,   48.55,2,    9.92,2, -999.00,9,    0.02,2, -999.00,1,-999.000,   0.0746,2,   0.0491,2,   0.0197,2,   0.0137,2,   0.0063,2,   0.0011,2,  -0.0003,4,   0.0189,2,   0.0230,2,  14.2632,     -999.0,1,     -999.0,9,     -999.0,9,     -999.0,9,     -999.0,9,     -999.0,1,     -999.0,9,-999.0000, -999.00
33RO20071215,        P18,     100,          1,         23,      12022,2,20080123,       1218,   -29.2492,  -103.0003,       3177,   302.0,  11.8677,  34.5023,2,  34.5033,2,    191.0,2,   191.3,2,    3.60,2,   13.60,2,    0.00,2,    1.00,2,   3.018,2,   1.611,2,   0.4509,6,  2112.5,2,  2273.1,2,   -999.0,9,  -999.00,   7.7760,2,    25.00,-999.000,9,-999.0000,9, -999.00,9, -999.00,9,  -999.0,9,-999.000,9,-999.000,-999.000,9,-999.000,9,   43.89,2,   14.84,2, -999.00,9, -999.00,9, -999.00,1,-999.000,   0.0855,2,   0.0565,2,   0.0242,2,   0.0167,2,   0.0084,2,   0.0020,2,  -0.0001,4,   0.0178,2,   0.0214,2,  11.8286,     -999.0,1,     -999.0,9,     -999.0,9,     -999.0,9,     -999.0,9,     -999.0,1,     -999.0,9,-999.0000, -999.00
33RO20071215,        P18,     100,          1,         22,      12015,2,20080123,       1218,   -29.2492,  -103.0003,       3177,   349.6,  10.0495,  34.3711,2,  34.3700,2,    202.9,2,   203.1,2,    4.10,2,   17.30,2,    0.00,2,    1.20,2,   3.139,2,   1.599,2,   0.6604,2,  -999.0,9,  -999.0,9,   -999.0,9,  -999.00,-999.0000,9,  -999.00,-999.000,9,-999.0000,9, -999.00,9, -999.00,9,  -999.0,9,-999.000,9,-999.000,-999.000,9,-999.000,9,   42.21,2,   18.70,2, -999.00,9, -999.00,9, -999.00,1,-999.000,   0.0732,2,   0.0463,2,   0.0194,2,   0.0130,2,   0.0060,2,   0.0005,3,  -0.0011,4,   0.0191,2,   0.0234,2,  10.0088,     -999.0,1,     -999.0,9,     -999.0,9,     -999.0,9,     -999.0,9,     -999.0,1,     -999.0,9,-999.0000, -999.00
33RO20071215,        P18,     100,          1,         21,      12020,2,20080123,       1218,   -29.2492,  -103.0003,       3177,   399.4,   8.5026,  34.3214,2,  34.3245,2,    193.8,2,   191.8,2,    7.30,2,   22.70,2,    0.00,2,    1.60,2,   3.136,2,   1.593,2,   0.6749,2,  2150.7,2,  2264.3,2,   -999.0,9,  -999.00,   7.6642,2,    25.00,-999.000,9,-999.0000,9, -999.00,9, -999.00,9,  -999.0,9,-999.000,9,-999.000,-999.000,9,-999.000,9,   41.27,2,   23.85,2, -999.00,9, -999.00,9, -999.00,1,-999.000,   0.0834,2,   0.0537,2,   0.0234,2,   0.0162,2,   0.0083,3,   0.0015,3,  -0.0005,4,   0.0176,2,   0.0217,2,   8.4605,     -999.0,1,     -999.0,9,     -999.0,9,     -999.0,9,     -999.0,9,     -999.0,1,     -999.0,9,-999.0000, -999.00
33RO20071215,        P18,     100,          1,         20,      12055,2,20080123,       1218,   -29.2492,  -103.0003,       3177,   499.8,   6.5957,  34.3165,2,  34.3176,2,    210.6,2,   213.5,2,    9.70,2,   25.70,2,    0.00,2,    1.73,2,   3.108,2,   1.547,2,   0.6081,2,  -999.0,9,  -999.0,9,   -999.0,9,  -999.00,-999.0000,9,  -999.00,-999.000,9,-999.0000,9, -999.00,9, -999.00,9,  -999.0,9,-999.000,9,-999.000,-999.000,9,-999.000,9,   40.92,2,   26.67,2, -999.00,9, -999.00,9, -999.00,1,-999.000,   0.0933,2,   0.0612,2,   0.0288,2,   0.0203,2,   0.0120,2,   0.0041,3,   0.0008,3,   0.0160,4,   0.0194,4,   6.5499,     -999.0,1,     -999.0,9,     -999.0,9,     -999.0,9,     -999.0,9,     -999.0,1,     -999.0,9,-999.0000, -999.00
33RO20071215,        P18,     100,          1,         19,      12018,2,20080123,       1218,   -29.2492,  -103.0003,       3177,   600.7,   5.9365,  34.2935,2,  34.2944,2,    232.9,2,   231.9,2,   10.70,2,   25.90,2,    0.00,2,    1.72,2,-999.000,9,-999.000,9,-999.0000,9,  2151.4,2,  2272.4,2,   -999.0,9,  -999.00,   7.6873,2,    25.00,-999.000,9,-999.0000,9, -999.00,9, -999.00,9,  -999.0,9,-999.000,9,-999.000,-999.000,9,-999.000,9,   40.59,2,   27.11,2, -999.00,9, -999.00,9, -999.00,9,-999.000,-999.0000,5,-999.0000,5,-999.0000,5,-999.0000,5,-999.0000,5,-999.0000,5,-999.0000,5,-999.0000,5,-999.0000,5,   5.8841,     -999.0,9,     -999.0,9,     -999.0,9,     -999.0,9,     -999.0,9,     -999.0,9,     -999.0,9,-999.0000, -999.00
33RO20071215,        P18,     100,          1,         18,      12025,2,20080123,       1218,   -29.2492,  -103.0003,       3177,   700.7,   5.4521,  34.2792,2,  34.2799,2,    226.2,2,   224.9,2,   13.90,2,   27.70,2,    0.00,2,    1.84,2,-999.000,9,-999.000,9,-999.0000,9,  -999.0,9,  -999.0,9,   -999.0,9,  -999.00,-999.0000,9,  -999.00,-999.000,9,-999.0000,9, -999.00,9, -999.00,9,  -999.0,9,-999.000,9,-999.000,-999.000,9,-999.000,9,   39.40,2,   28.96,2, -999.00,9, -999.00,9, -999.00,9,-999.000,   0.0737,2,   0.0445,2,   0.0181,2,   0.0109,2,   0.0048,2,  -0.0003,4,  -0.0019,4,   0.0214,2,   0.0259,2,   5.3931,     -999.0,9,     -999.0,9,     -999.0,9,     -999.0,9,     -999.0,9,     -999.0,9,     -999.0,9,-999.0000, -999.00
33RO20071215,        P18,     100,          1,         17,      12016,2,20080123,       1218,   -29.2492,  -103.0003,       3177,   800.1,   4.9517,  34.2877,2,  34.2870,2,    204.0,2,   203.2,2,   21.40,2,   30.50,2,    0.00,2,    2.06,2,   1.189,2,   0.608,2,   0.1225,2,  2179.8,2,  2287.3,2,   -999.0,9,  -999.00,   7.6353,2,    25.00,-999.000,9,-999.0000,9, -999.00,9, -999.00,9,  -999.0,9,-999.000,9,-999.000,-999.000,9,-999.000,9,   38.55,2,   31.65,2, -999.00,9, -999.00,9, -999.00,9,-999.000,   0.0881,2,   0.0558,2,   0.0233,2,   0.0144,2,   0.0071,2,   0.0007,2,  -0.0016,4,   0.0198,2,   0.0236,2,   4.8868,     -999.0,9,     -999.0,9,     -999.0,9,     -999.0,9,     -999.0,9,     -999.0,9,     -999.0,9,-999.0000, -999.00
33RO20071215,        P18,     100,          1,         16,      12051,2,20080123,       1218,   -29.2492,  -103.0003,       3177,   899.5,   4.5713,  34.3337,2,  34.3327,2,    171.5,2,   171.0,2,   33.20,2,   33.70,2,    0.00,2,    2.33,2,-999.000,9,-999.000,9,-999.0000,9,  -999.0,9,  -999.0,9,   -999.0,9,  -999.00,-999.0000,9,  -999.00,-999.000,9,-999.0000,9, -999.00,9, -999.00,9,  -999.0,9,-999.000,9,-999.000,-999.000,9,-999.000,9,   37.79,2,   35.04,2, -999.00,9, -999.00,9, -999.00,9,-999.000,   0.1003,2,   0.0642,2,   0.0296,2,   0.0193,2,   0.0106,2,   0.0029,2,  -0.0006,4,   0.0176,2,   0.0210,2,   4.5002,     -999.0,9,     -999.0,9,     -999.0,9,     -999.0,9,     -999.0,9,     -999.0,9,     -999.0,9,-999.0000, -999.00
33RO20071215,        P18,     100,          1,         15,      12014,2,20080123,       1218,   -29.2492,  -103.0003,       3177,   998.9,   4.0997,  34.3797,2,  34.3799,2,    151.6,2,   150.5,2,   46.50,2,   35.90,2,    0.00,2,    2.51,2,   0.128,2,   0.076,2,   0.0000,2,  2232.8,2,  2309.1,2,   -999.0,9,  -999.00,   7.5651,2,    25.00,-999.000,9,-999.0000,9, -999.00,9, -999.00,9,  -999.0,9,-999.000,9,-999.000,-999.000,9,-999.000,9,   37.41,2,   37.36,2, -999.00,9, -999.00,9, -999.00,9,-999.000,   0.1027,2,   0.0659,2,   0.0315,2,   0.0182,2,   0.0092,2,   0.0019,2,  -0.0013,4,   0.0189,2,   0.0212,2,   4.0236,     -999.0,9,     -999.0,9,     -999.0,9,     -999.0,9,     -999.0,9,     -999.0,9,     -999.0,9,-999.0000, -999.00
33RO20071215,        P18,     100,          1,         14,      12013,2,20080123,       1218,   -29.2492,  -103.0003,       3177,  1100.1,   3.8048,  34.4517,2,  34.4514,2,    127.4,2,   126.3,2,   62.30,2,   37.80,2,    0.00,2,    2.66,2,   0.018,2,   0.012,2,   0.0000,2,  -999.0,9,  -999.0,9,   -999.0,9,  -999.00,-999.0000,9,  -999.00,-999.000,9,-999.0000,9, -999.00,9, -999.00,9,  -999.0,9,-999.000,9,-999.000,-999.000,9,-999.000,9,   36.72,2,   38.75,2, -999.00,9, -999.00,9, -999.00,9,-999.000,   0.1102,2,   0.0713,2,   0.0324,2,   0.0193,2,   0.0098,2,   0.0020,3,  -0.0014,4,   0.0190,2,   0.0216,2,   3.7225,     -999.0,9,     -999.0,9,     -999.0,9,     -999.0,9,     -999.0,9,     -999.0,9,     -999.0,9,-999.0000, -999.00
33RO20071215,        P18,     100,          1,         13,      12012,2,20080123,       1218,   -29.2492,  -103.0003,       3177,  1203.4,   3.5638,  34.4932,2,  34.4934,2,    122.5,2,   121.8,2,   73.40,2,   38.10,2,    0.00,2,    2.69,2,   0.004,2,   0.003,2,   0.0000,2,  2274.8,6,  2337.6,2,   -999.0,9,  -999.00,   7.5093,2,    25.00,-999.000,9,-999.0000,9, -999.00,9, -999.00,9,  -999.0,9,-999.000,9,-999.000,-999.000,9,-999.000,9,   37.07,2,   39.06,2, -999.00,9, -999.00,9, -999.00,9,-999.000,   0.1094,2,   0.0701,2,   0.0313,2,   0.0178,2,   0.0087,2,   0.0015,2,  -0.0018,4,   0.0200,2,   0.0225,2,   3.4750,     -999.0,9,     -999.0,9,     -999.0,9,     -999.0,9,     -999.0,9,     -999.0,9,     -999.0,9,-999.0000, -999.00
33RO20071215,        P18,     100,          1,         12,      12031,2,20080123,       1218,   -29.2492,  -103.0003,       3177,  1299.6,   3.2797,  34.5229,2,  34.5221,2,    126.1,2,   126.3,2,   80.80,2,   37.70,2,    0.00,2,    2.65,2,   0.001,2,   0.001,2,   0.0000,2,  -999.0,9,  -999.0,9,   -999.0,9,  -999.00,-999.0000,9,  -999.00,-999.000,9,-999.0000,9, -999.00,9, -999.00,9,  -999.0,9,-999.000,9,-999.000,-999.000,9,-999.000,9,   36.89,2,   39.05,2, -999.00,9, -999.00,9, -999.00,9,-999.000,   0.1125,2,   0.0726,2,   0.0326,2,   0.0185,2,   0.0092,2,   0.0021,2,  -0.0014,4,   0.0199,2,   0.0223,2,   3.1856,     -999.0,9,     -999.0,9,     -999.0,9,     -999.0,9,     -999.0,9,     -999.0,9,     -999.0,9,-999.0000, -999.00