BOTTLE,20220818CCHSIOAMB
EXPOCODE,SECT_ID,STNNBR,CASTNO,SAMPNO,BTLNBR,BTLNBR_FLAG_W,DATE,TIME,LATITUDE,LONGITUDE,DEPTH,CTDPRS,CTDTMP,CTDSAL,CTDSAL_FLAG_W,SALNTY,SALNTY_FLAG_W,CTDOXY,CTDOXY_FLAG_W,OXYGEN,OXYGEN_FLAG_W,SILCAT,SILCAT_FLAG_W,NITRAT,NITRAT_FLAG_W,NITRIT,NITRIT_FLAG_W,PHSPHT,PHSPHT_FLAG_W,CFC-11,CFC-11_FLAG_W,CFC-12,CFC-12_FLAG_W,SF6,SF6_FLAG_W,TCARBN,TCARBN_FLAG_W,ALKALI,ALKALI_FLAG_W,FCO2,FCO2_FLAG_W,FCO2TMP,PH_SWS,PH_SWS_FLAG_W,PH_TMP,TRITUM,TRITUM_FLAG_W,HELIUM,HELIUM_FLAG_W,DELHE3,DELHE3_FLAG_W,DELC13,DELC13_FLAG_W,DELC14,DELC14_FLAG_W,NEON,NEON_FLAG_W,NEONER,CCL4,CCL4_FLAG_W,POC,POC_FLAG_W,DOC,DOC_FLAG_W,TDN,TDN_FLAG_W,DON,DON_FLAG_W,CHLORA,CHLORA_FLAG_W,ARGON,ARGON_FLAG_W,TRITER,CDOM325,CDOM325_FLAG_W,CDOM340,CDOM340_FLAG_W,CDOM380,CDOM380_FLAG_W,CDOM412,CDOM412_FLAG_W,CDOM443,CDOM443_FLAG_W,CDOM490,CDOM490_FLAG_W,CDOM555,CDOM555_FLAG_W,CDOMSL,CDOMSL_FLAG_W,CDOMSN,CDOMSN_FLAG_W,THETA,D18O_NO3,D18O_NO3_FLAG_W,CDOM2C,CDOM2C_FLAG_W,CDOM3C,CDOM3C_FLAG_W,LAB_DEN,LAB_DEN_FLAG_W,DELSI30,DELSI30_FLAG_W,N2,N2_FLAG_W,D15N_NO3,D15N_NO3_FLAG_W,HELIER,DELHER
,,,,,,,,,,,METERS,DBAR,ITS-90,PSS-78,,PSS-78,,UMOL/KG,,UMOL/KG,,UMOL/KG,,UMOL/KG,,UMOL/KG,,UMOL/KG,,PMOL/KG,,PMOL/KG,,FMOL/KG,,UMOL/KG,,UMOL/KG,,UATM,,DEG C,,,DEG C,TU,,NMOL/KG,,PERCNT,,/MILLE,,/MILLE,,NMOL/KG,,NMOL/KG,PMOL/KG,,UG/KG,,UMOL/KG,,UMOL/KG,,UMOL/KG,,UG/KG,,UMOL/KG,,TU,1/M,,1/M,,1/M,,1/M,,1/M,,1/M,,1/M,,1/NM,,1/NM,,DEG C,/MILLE,,,,,,,,/MILLE,,UMOL/KG,,/MILLE,,NMOL/KG,PERCNT
33RO20071215,        P18,      68,          1,         36,      12017,2,20080107,       0817,   -10.5820,  -103.0002,       4319,     4.8,  22.7692,  35.5545,2,  35.5554,2,    219.8,2,   219.9,2,    2.00,2,    8.20,2,    0.22,2,    0.71,2,-999.000,9,-999.000,9,-999.0000,9,  2063.7,6,  2354.0,2,   -999.0,9,  -999.00,   7.9947,2,    25.00,-999.000,9,-999.0000,9, -999.00,9, -999.00,9,  -999.0,9,-999.000,9,-999.000,-999.000,9,-999.000,9, -999.00,9, -999.00,9, -999.00,9, -999.00,9, -999.00,9,-999.000,-999.0000,9,-999.0000,9,-999.0000,9,-999.0000,9,-999.0000,9,-999.0000,9,-999.0000,9,-999.0000,9,-999.0000,9,  22.7683,     -999.0,9,     -999.0,9,     -999.0,9,     -999.0,9,     -999.0,9,     -999.0,9,     -999.0,9,-999.0000, -999.00
33RO20071215,        P18,      68,          1,         35,      12029,2,20080107,       0817,   -10.5820,  -103.0002,       4319,     9.9,  22.7692,  35.5545,2,  35.5544,2,    219.9,2,   219.9,2,    1.90,2,    8.20,2,    0.23,2,    0.71,2,-999.000,9,-999.000,9,-999.0000,9,  2062.2,2,  2347.4,2,   -999.0,9,  -999.00,   7.9845,2,    25.00,-999.000,9,-999.0000,9, -999.00,9, -999.00,9,  -999.0,9,-999.000,9,-999.000,-999.000,9,-999.000,9, -999.00,9, -999.00,9, -999.00,9, -999.00,9, -999.00,9,-999.000,-999.0000,9,-999.0000,9,-999.0000,9,-999.0000,9,-999.0000,9,-999.0000,9,-999.0000,9,-999.0000,9,-999.0000,9,  22.7672,     -999.0,9,     -999.0,9,     -999.0,9,     -999.0,9,     -999.0,9,     -999.0,9,     -999.0,9,-999.0000, -999.00
33RO20071215,        P18,      68,          1,         34,      12049,2,20080107,       0817,   -10.5820,  -103.0002,       4319,    20.1,  22.7726,  35.5542,2,  35.5557,2,    220.2,2,   219.8,2,    2.00,2,    8.20,2,    0.23,2,    0.72,2,-999.000,9,-999.000,9,-999.0000,9,  2062.6,2,  2346.0,2,   -999.0,9,  -999.00,   7.9896,2,    25.00,-999.000,9,-999.0000,9, -999.00,9, -999.00,9,  -999.0,9,-999.000,9,-999.000,-999.000,9,-999.000,9, -999.00,9, -999.00,9, -999.00,9, -999.00,9, -999.00,9,-999.000,-999.0000,9,-999.0000,9,-999.0000,9,-999.0000,9,-999.0000,9,-999.0000,9,-999.0000,9,-999.0000,9,-999.0000,9,  22.7685,     -999.0,9,     -999.0,9,     -999.0,9,     -999.0,9,     -999.0,9,     -999.0,9,     -999.0,9,-999.0000, -999.00
33RO20071215,        P18,      68,          1,         33,      12027,2,20080107,       0817,   -10.5820,  -103.0002,       4319,    42.0,  21.6896,  35.7028,2,  35.7045,2,    228.4,2,   229.3,3,    1.40,2,    6.10,2,    0.18,2,    0.67,2,-999.000,9,-999.000,9,-999.0000,9,  2068.7,2,  2357.8,2,   -999.0,9,  -999.00,   7.9982,2,    25.00,-999.000,9,-999.0000,9, -999.00,9, -999.00,9,  -999.0,9,-999.000,9,-999.000,-999.000,9,-999.000,9, -999.00,9, -999.00,9, -999.00,9, -999.00,9, -999.00,9,-999.000,-999.0000,9,-999.0000,9,-999.0000,9,-999.0000,9,-999.0000,9,-999.0000,9,-999.0000,9,-999.0000,9,-999.0000,9,  21.6813,     -999.0,9,     -999.0,9,     -999.0,9,     -999.0,9,     -999.0,9,     -999.0,9,     -999.0,9,-999.0000, -999.00
33RO20071215,        P18,      68,          1,         32,      12023,2,20080107,       0817,   -10.5820,  -103.0002,       4319,    66.8,  20.6503,  35.7354,2,  35.7474,2,    210.0,2,   210.4,2,    2.30,2,    4.70,2,    0.42,2,    0.70,2,-999.000,9,-999.000,9,-999.0000,9,  2089.2,2,  2371.1,2,   -999.0,9,  -999.00,   7.9702,2,    25.00,-999.000,9,-999.0000,9, -999.00,9, -999.00,9,  -999.0,9,-999.000,9,-999.000,-999.000,9,-999.000,9, -999.00,9, -999.00,9, -999.00,9, -999.00,9, -999.00,9,-999.000,-999.0000,9,-999.0000,9,-999.0000,9,-999.0000,9,-999.0000,9,-999.0000,9,-999.0000,9,-999.0000,9,-999.0000,9,  20.6377,     -999.0,9,     -999.0,9,     -999.0,9,     -999.0,9,     -999.0,9,     -999.0,9,     -999.0,9,-999.0000, -999.00
33RO20071215,        P18,      68,          1,         31,      12037,2,20080107,       0817,   -10.5820,  -103.0002,       4319,    91.7,  20.4464,  35.8208,2,  35.8183,2,    211.6,2,   211.3,2,    1.50,2,    2.00,2,    0.39,2,    0.55,2,-999.000,9,-999.000,9,-999.0000,9,  2089.2,2,  2378.4,2,   -999.0,9,  -999.00,   7.9713,2,    25.00,-999.000,9,-999.0000,9, -999.00,9, -999.00,9,  -999.0,9,-999.000,9,-999.000,-999.000,9,-999.000,9, -999.00,9, -999.00,9, -999.00,9, -999.00,9, -999.00,9,-999.000,-999.0000,9,-999.0000,9,-999.0000,9,-999.0000,9,-999.0000,9,-999.0000,9,-999.0000,9,-999.0000,9,-999.0000,9,  20.4291,     -999.0,9,     -999.0,9,     -999.0,9,     -999.0,9,     -999.0,9,     -999.0,9,     -999.0,9,-999.0000, -999.00
33RO20071215,        P18,      68,          1,         30,      12036,2,20080107,       0817,   -10.5820,  -103.0002,       4319,   116.3,  20.1938,  35.7637,2,  35.7644,2,    205.7,2,   206.6,2,    1.60,2,    2.70,2,    1.10,2,    0.59,2,-999.000,9,-999.000,9,-999.0000,9,  2092.5,2,  2373.0,2,   -999.0,9,  -999.00,   7.9678,2,    25.00,-999.000,9,-999.0000,9, -999.00,9, -999.00,9,  -999.0,9,-999.000,9,-999.000,-999.000,9,-999.000,9, -999.00,9, -999.00,9, -999.00,9, -999.00,9, -999.00,9,-999.000,-999.0000,9,-999.0000,9,-999.0000,9,-999.0000,9,-999.0000,9,-999.0000,9,-999.0000,9,-999.0000,9,-999.0000,9,  20.1720,     -999.0,9,     -999.0,9,     -999.0,9,     -999.0,9,     -999.0,9,     -999.0,9,     -999.0,9,-999.0000, -999.00
33RO20071215,        P18,      68,          1,         29,      12044,2,20080107,       0817,   -10.5820,  -103.0002,       4319,   141.9,  17.2637,  35.2506,2,  35.2375,2,    154.9,2,   160.4,2,    3.40,2,   11.00,2,    0.20,2,    1.05,2,-999.000,9,-999.000,9,-999.0000,9,  2128.9,2,  2336.0,2,   -999.0,9,  -999.00,   7.8503,2,    25.00,-999.000,9,-999.0000,9, -999.00,9, -999.00,9,  -999.0,9,-999.000,9,-999.000,-999.000,9,-999.000,9, -999.00,9, -999.00,9, -999.00,9, -999.00,9, -999.00,9,-999.000,-999.0000,9,-999.0000,9,-999.0000,9,-999.0000,9,-999.0000,9,-999.0000,9,-999.0000,9,-999.0000,9,-999.0000,9,  17.2400,     -999.0,9,     -999.0,9,     -999.0,9,     -999.0,9,     -999.0,9,     -999.0,9,     -999.0,9,-999.0000, -999.00
33RO20071215,        P18,      68,          1,         28,      12057,2,20080107,       0817,   -10.5820,  -103.0002,       4319,   166.7,  13.6252,  34.8167,2,  34.8149,2,     33.4,2,    23.2,2,   15.80,2,   22.30,2,    0.03,2,    2.42,2,-999.000,9,-999.000,9,-999.0000,9,  2245.5,2,  2299.7,2,   -999.0,9,  -999.00,   7.4642,2,    25.00,-999.000,9,-999.0000,9, -999.00,9, -999.00,9,  -999.0,9,-999.000,9,-999.000,-999.000,9,-999.000,9, -999.00,9, -999.00,9, -999.00,9, -999.00,9, -999.00,9,-999.000,-999.0000,9,-999.0000,9,-999.0000,9,-999.0000,9,-999.0000,9,-999.0000,9,-999.0000,9,-999.0000,9,-999.0000,9,  13.6016,     -999.0,9,     -999.0,9,     -999.0,9,     -999.0,9,     -999.0,9,     -999.0,9,     -999.0,9,-999.0000, -999.00
33RO20071215,        P18,      68,          1,         27,      12026,2,20080107,       0817,   -10.5820,  -103.0002,       4319,   191.7,  12.9487,  34.8328,2,  34.8357,2,      5.5,2,     4.4,2,   20.40,2,   23.10,2,    0.19,2,    2.59,2,-999.000,9,-999.000,9,-999.0000,9,  2258.8,2,  2302.9,2,   -999.0,9,  -999.00,   7.4312,2,    25.00,-999.000,9,-999.0000,9, -999.00,9, -999.00,9,  -999.0,9,-999.000,9,-999.000,-999.000,9,-999.000,9, -999.00,9, -999.00,9, -999.00,9, -999.00,9, -999.00,9,-999.000,-999.0000,9,-999.0000,9,-999.0000,9,-999.0000,9,-999.0000,9,-999.0000,9,-999.0000,9,-999.0000,9,-999.0000,9,  12.9224,     -999.0,9,     -999.0,9,     -999.0,9,     -999.0,9,     -999.0,9,     -999.0,9,     -999.0,9,-999.0000, -999.00
33RO20071215,        P18,      68,          1,         26,      12030,2,20080107,       0817,   -10.5820,  -103.0002,       4319,   232.1,  11.8580,  34.8411,2,  34.8402,2,      4.6,2,     4.3,2,   25.20,2,   28.90,2,    0.01,2,    2.56,2,-999.000,9,-999.000,9,-999.0000,9,  2263.4,6,  2303.8,2,   -999.0,9,  -999.00,   7.4296,2,    25.00,-999.000,9,-999.0000,9, -999.00,9, -999.00,9,  -999.0,9,-999.000,9,-999.000,-999.000,9,-999.000,9, -999.00,9, -999.00,9, -999.00,9, -999.00,9, -999.00,9,-999.000,-999.0000,9,-999.0000,9,-999.0000,9,-999.0000,9,-999.0000,9,-999.0000,9,-999.0000,9,-999.0000,9,-999.0000,9,  11.8279,     -999.0,9,     -999.0,9,     -999.0,9,     -999.0,9,     -999.0,9,     -999.0,9,     -999.0,9,-999.0000, -999.00
33RO20071215,        P18,      68,          1,         25,      12024,2,20080107,       0817,   -10.5820,  -103.0002,       4319,   282.9,  11.0444,  34.8066,2,  34.8075,2,     21.2,2,    21.4,2,   26.30,2,   32.50,2,    0.00,2,    2.45,2,-999.000,9,-999.000,9,-999.0000,9,  2253.3,2,  2304.1,2,   -999.0,9,  -999.00,   7.4679,2,    25.00,-999.000,9,-999.0000,9, -999.00,9, -999.00,9,  -999.0,9,-999.000,9,-999.000,-999.000,9,-999.000,9, -999.00,9, -999.00,9, -999.00,9, -999.00,9, -999.00,9,-999.000,-999.0000,9,-999.0000,9,-999.0000,9,-999.0000,9,-999.0000,9,-999.0000,9,-999.0000,9,-999.0000,9,-999.0000,9,  11.0094,     -999.0,9,     -999.0,9,     -999.0,9,     -999.0,9,     -999.0,9,     -999.0,9,     -999.0,9,-999.0000, -999.00
33RO20071215,        P18,      68,          1,         24,      12019,2,20080107,       0817,   -10.5820,  -103.0002,       4319,   332.5,  10.3861,  34.7707,2,  34.7711,2,     15.9,2,    15.9,2,   30.20,2,   34.60,2,    0.00,2,    2.55,2,-999.000,9,-999.000,9,-999.0000,9,  -999.0,5,  2305.6,2,   -999.0,9,  -999.00,   7.4261,2,    25.00,-999.000,9,-999.0000,9, -999.00,9, -999.00,9,  -999.0,9,-999.000,9,-999.000,-999.000,9,-999.000,9, -999.00,9, -999.00,9, -999.00,9, -999.00,9, -999.00,9,-999.000,-999.0000,9,-999.0000,9,-999.0000,9,-999.0000,9,-999.0000,9,-999.0000,9,-999.0000,9,-999.0000,9,-999.0000,9,  10.3464,     -999.0,9,     -999.0,9,     -999.0,9,     -999.0,9,     -999.0,9,     -999.0,9,     -999.0,9,-999.0000, -999.00
33RO20071215,        P18,      68,          1,         23,      12022,2,20080107,       0817,   -10.5820,  -103.0002,       4319,   383.0,   9.7764,  34.7312,2,  34.7345,2,     10.1,2,    10.2,2,   33.50,2,   36.30,2,    0.00,2,    2.69,2,-999.000,9,-999.000,9,-999.0000,9,  2271.7,2,  2302.6,2,   -999.0,9,  -999.00,   7.4025,2,    25.00,-999.000,9,-999.0000,9, -999.00,9, -999.00,9,  -999.0,9,-999.000,9,-999.000,-999.000,9,-999.000,9, -999.00,9, -999.00,9, -999.00,9, -999.00,9, -999.00,9,-999.000,-999.0000,9,-999.0000,9,-999.0000,9,-999.0000,9,-999.0000,9,-999.0000,9,-999.0000,9,-999.0000,9,-999.0000,9,   9.7323,     -999.0,9,     -999.0,9,     -999.0,9,     -999.0,9,     -999.0,9,     -999.0,9,     -999.0,9,-999.0000, -999.00
33RO20071215,        P18,      68,          1,         22,      12015,2,20080107,       0817,   -10.5820,  -103.0002,       4319,   465.7,   8.9604,  34.6787,2,  34.6764,2,     10.9,2,    11.7,2,   35.90,2,   38.80,2,    0.00,2,    2.78,2,-999.000,9,-999.000,9,-999.0000,9,  2276.6,2,  -999.0,5,   -999.0,9,  -999.00,   7.3962,2,    25.00,-999.000,9,-999.0000,9, -999.00,9, -999.00,9,  -999.0,9,-999.000,9,-999.000,-999.000,9,-999.000,9, -999.00,9, -999.00,9, -999.00,9, -999.00,9, -999.00,9,-999.000,-999.0000,9,-999.0000,9,-999.0000,9,-999.0000,9,-999.0000,9,-999.0000,9,-999.0000,9,-999.0000,9,-999.0000,9,   8.9094,     -999.0,9,     -999.0,9,     -999.0,9,     -999.0,9,     -999.0,9,     -999.0,9,     -999.0,9,-999.0000, -999.00
33RO20071215,        P18,      68,          1,         21,      12020,2,20080107,       0817,   -10.5820,  -103.0002,       4319,   565.6,   7.5558,  34.6000,2,  34.5985,2,     17.7,2,    17.6,2,   42.40,2,   42.10,2,    0.00,2,    2.97,2,-999.000,9,-999.000,9,-999.0000,9,  2285.2,2,  2316.8,2,   -999.0,9,  -999.00,   7.3791,2,    25.00,-999.000,9,-999.0000,9, -999.00,9, -999.00,9,  -999.0,9,-999.000,9,-999.000,-999.000,9,-999.000,9, -999.00,9, -999.00,9, -999.00,9, -999.00,9, -999.00,9,-999.000,-999.0000,9,-999.0000,9,-999.0000,9,-999.0000,9,-999.0000,9,-999.0000,9,-999.0000,9,-999.0000,9,-999.0000,9,   7.4994,     -999.0,9,     -999.0,9,     -999.0,9,     -999.0,9,     -999.0,9,     -999.0,9,     -999.0,9,-999.0000, -999.00
33RO20071215,        P18,      68,          1,         20,      12055,2,20080107,       0817,   -10.5820,  -103.0002,       4319,   666.1,   6.5196,  34.5527,2,  34.5528,2,     29.0,2,    29.7,2,   48.80,2,   43.50,2,    0.00,2,    3.03,2,-999.000,9,-999.000,9,-999.0000,9,  2288.9,2,  2323.1,2,   -999.0,9,  -999.00,   7.3837,2,    25.00,-999.000,9,-999.0000,9, -999.00,9, -999.00,9,  -999.0,9,-999.000,9,-999.000,-999.000,9,-999.000,9, -999.00,9, -999.00,9, -999.00,9, -999.00,9, -999.00,9,-999.000,-999.0000,9,-999.0000,9,-999.0000,9,-999.0000,9,-999.0000,9,-999.0000,9,-999.0000,9,-999.0000,9,-999.0000,9,   6.4580,     -999.0,9,     -999.0,9,     -999.0,9,     -999.0,9,     -999.0,9,     -999.0,9,     -999.0,9,-999.0000, -999.00
33RO20071215,        P18,      68,          1,         19,      12018,2,20080107,       0817,   -10.5820,  -103.0002,       4319,   765.5,   5.6572,  34.5315,2,  34.5308,2,     39.2,2,    38.6,2,   58.70,2,   44.30,2,    0.00,2,    3.09,2,-999.000,9,-999.000,9,-999.0000,9,  2296.1,2,  2334.2,4,   -999.0,9,  -999.00,   7.3820,2,    25.00,-999.000,9,-999.0000,9, -999.00,9, -999.00,9,  -999.0,9,-999.000,9,-999.000,-999.000,9,-999.000,9, -999.00,9, -999.00,9, -999.00,9, -999.00,9, -999.00,9,-999.000,-999.0000,9,-999.0000,9,-999.0000,9,-999.0000,9,-999.0000,9,-999.0000,9,-999.0000,9,-999.0000,9,-999.0000,9,   5.5909,     -999.0,9,     -999.0,9,     -999.0,9,     -999.0,9,     -999.0,9,     -999.0,9,     -999.0,9,-999.0000, -999.00
33RO20071215,        P18,      68,          1,         18,      12025,2,20080107,       0817,   -10.5820,  -103.0002,       4319,   862.9,   5.0463,  34.5323,2,  34.5331,2,     50.7,2,    51.1,2,   68.90,2,   43.90,2,    0.00,2,    3.07,2,-999.000,9,-999.000,9,-999.0000,9,  2300.9,2,  2347.4,3,   -999.0,9,  -999.00,   7.4011,2,    25.00,-999.000,9,-999.0000,9, -999.00,9, -999.00,9,  -999.0,9,-999.000,9,-999.000,-999.000,9,-999.000,9, -999.00,9, -999.00,9, -999.00,9, -999.00,9, -999.00,9,-999.000,-999.0000,9,-999.0000,9,-999.0000,9,-999.0000,9,-999.0000,9,-999.0000,9,-999.0000,9,-999.0000,9,-999.0000,9,   4.9749,     -999.0,9,     -999.0,9,     -999.0,9,     -999.0,9,     -999.0,9,     -999.0,9,     -999.0,9,-999.0000, -999.00
33RO20071215,        P18,      68,          1,         17,      12016,2,20080107,       0817,   -10.5820,  -103.0002,       4319,   966.5,   4.5469,  34.5390,2,  34.5405,2,     63.8,2,    63.8,2,   78.00,2,   42.80,2,    0.00,2,    3.02,2,-999.000,9,-999.000,9,-999.0000,9,  2304.9,2,  2342.1,2,   -999.0,9,  -999.00,   7.4232,2,    25.00,-999.000,9,-999.0000,9, -999.00,9, -999.00,9,  -999.0,9,-999.000,9,-999.000,-999.000,9,-999.000,9, -999.00,9, -999.00,9, -999.00,9, -999.00,9, -999.00,9,-999.000,-999.0000,9,-999.0000,9,-999.0000,9,-999.0000,9,-999.0000,9,-999.0000,9,-999.0000,9,-999.0000,9,-999.0000,9,   4.4699,     -999.0,9,     -999.0,9,     -999.0,9,     -999.0,9,     -999.0,9,     -999.0,9,     -999.0,9,-999.0000, -999.00
33RO20071215,        P18,      68,          1,         16,      12051,2,20080107,       0817,   -10.5820,  -103.0002,       4319,  1132.8,   3.9540,  34.5555,2,  34.5551,2,     80.1,2,    79.4,2,   90.20,2,   41.50,2,    0.00,2,    2.94,2,-999.000,9,-999.000,9,-999.0000,9,  2310.7,2,  2358.1,2,   -999.0,9,  -999.00,   7.4484,2,    25.00,-999.000,9,-999.0000,9, -999.00,9, -999.00,9,  -999.0,9,-999.000,9,-999.000,-999.000,9,-999.000,9, -999.00,9, -999.00,9, -999.00,9, -999.00,9, -999.00,9,-999.000,-999.0000,9,-999.0000,9,-999.0000,9,-999.0000,9,-999.0000,9,-999.0000,9,-999.0000,9,-999.0000,9,-999.0000,9,   3.8674,     -999.0,9,     -999.0,9,     -999.0,9,     -999.0,9,     -999.0,9,     -999.0,9,     -999.0,9,-999.0000, -999.00
33RO20071215,        P18,      68,          1,         15,      12014,2,20080107,       0817,   -10.5820,  -103.0002,       4319,  1332.3,   3.3860,  34.5791,2,  34.5785,2,     88.7,2,    88.3,2,  104.20,2,   40.90,2,    0.00,2,    2.90,2,-999.000,9,-999.000,9,-999.0000,9,  2321.6,2,  2373.4,2,   -999.0,9,  -999.00,   7.4662,2,    25.00,-999.000,9,-999.0000,9, -999.00,9, -999.00,9,  -999.0,9,-999.000,9,-999.000,-999.000,9,-999.000,9, -999.00,9, -999.00,9, -999.00,9, -999.00,9, -999.00,9,-999.000,-999.0000,9,-999.0000,9,-999.0000,9,-999.0000,9,-999.0000,9,-999.0000,9,-999.0000,9,-999.0000,9,-999.0000,9,   3.2879,     -999.0,9,     -999.0,9,     -999.0,9,     -999.0,9,     -999.0,9,     -999.0,9,     -999.0,9,-999.0000, -999.00
33RO20071215,        P18,      68,          1,         14,      12013,2,20080107,       0817,   -10.5820,  -103.0002,       4319,  1533.8,   2.9041,  34.6031,2,  34.6035,2,     98.8,2,    98.8,2,  116.20,2,   40.10,2,    0.00,2,    2.83,2,-999.000,9,-999.000,9,-999.0000,9,  2329.3,2,  2384.2,2,   -999.0,9,  -999.00,   7.4879,2,    25.00,-999.000,9,-999.0000,9, -999.00,9, -999.00,9,  -999.0,9,-999.000,9,-999.000,-999.000,9,-999.000,9, -999.00,9, -999.00,9, -999.00,9, -999.00,9, -999.00,9,-999.000,-999.0000,9,-999.0000,9,-999.0000,9,-999.0000,9,-999.0000,9,-999.0000,9,-999.0000,9,-999.0000,9,-999.0000,9,   2.7945,     -999.0,9,     -999.0,9,     -999.0,9,     -999.0,9,     -999.0,9,     -999.0,9,     -999.0,9,-999.0000, -999.00
33RO20071215,        P18,      68,          1,         13,      12012,2,20080107,       0817,   -10.5820,  -103.0002,       4319,  1732.1,   2.5380,  34.6247,2,  34.6249,2,    107.8,2,   107.9,2,  126.30,2,   39.30,2,    0.00,2,    2.76,2,-999.000,9,-999.000,9,-999.0000,9,  2334.5,2,  2399.7,2,   -999.0,9,  -999.00,   7.5045,2,    25.00,-999.000,9,-999.0000,9, -999.00,9, -999.00,9,  -999.0,9,-999.000,9,-999.000,-999.000,9,-999.000,9, -999.00,9, -999.00,9, -999.00,9, -999.00,9, -999.00,9,-999.000,-999.0000,9,-999.0000,9,-999.0000,9,-999.0000,9,-999.0000,9,-999.0000,9,-999.0000,9,-999.0000,9,-999.0000,9,   2.4163,     -999.0,9,     -999.0,9,     -999.0,9,     -999.0,9,     -999.0,9,     -999.0,9,     -999.0,9,-999.0000, -999.00
33RO20071215,        P18,      68,          1,         12,      12031,2,20080107,       0817,   -10.5820,  -103.0002,       4319,  1932.6,   2.3011,  34.6405,2,  34.6409,2,    112.6,2,   113.1,2,  133.30,2,   38.90,2,    0.00,2,    2.72,2,-999.000,9,-999.000,9,-999.0000,9,  2337.5,2,  2403.1,2,   -999.0,9,  -999.00,   7.5128,2,    25.00,-999.000,9,-999.0000,9, -999.00,9, -999.00,9,  -999.0,9,-999.000,9,-999.000,-999.000,9,-999.000,9, -999.00,9, -999.00,9, -999.00,9, -999.00,9, -999.00,9,-999.000,-999.0000,9,-999.0000,9,-999.0000,9,-999.0000,9,-999.0000,9,-999.0000,9,-999.0000,9,-999.0000,9,-999.0000,9,   2.1658,     -999.0,9,     -999.0,9,     -999.0,9,     -999.0,9,     -999.0,9,     -999.0,9,     -999.0,9,-999.0000, -999.00