BOTTLE,20220818CCHSIOAMB
EXPOCODE,SECT_ID,STNNBR,CASTNO,SAMPNO,BTLNBR,BTLNBR_FLAG_W,DATE,TIME,LATITUDE,LONGITUDE,DEPTH,CTDPRS,CTDTMP,CTDSAL,CTDSAL_FLAG_W,SALNTY,SALNTY_FLAG_W,CTDOXY,CTDOXY_FLAG_W,OXYGEN,OXYGEN_FLAG_W,SILCAT,SILCAT_FLAG_W,NITRAT,NITRAT_FLAG_W,NITRIT,NITRIT_FLAG_W,PHSPHT,PHSPHT_FLAG_W,CFC-11,CFC-11_FLAG_W,CFC-12,CFC-12_FLAG_W,SF6,SF6_FLAG_W,TCARBN,TCARBN_FLAG_W,ALKALI,ALKALI_FLAG_W,FCO2,FCO2_FLAG_W,FCO2TMP,PH_SWS,PH_SWS_FLAG_W,PH_TMP,TRITUM,TRITUM_FLAG_W,HELIUM,HELIUM_FLAG_W,DELHE3,DELHE3_FLAG_W,DELC13,DELC13_FLAG_W,DELC14,DELC14_FLAG_W,NEON,NEON_FLAG_W,NEONER,CCL4,CCL4_FLAG_W,POC,POC_FLAG_W,DOC,DOC_FLAG_W,TDN,TDN_FLAG_W,DON,DON_FLAG_W,CHLORA,CHLORA_FLAG_W,ARGON,ARGON_FLAG_W,TRITER,CDOM325,CDOM325_FLAG_W,CDOM340,CDOM340_FLAG_W,CDOM380,CDOM380_FLAG_W,CDOM412,CDOM412_FLAG_W,CDOM443,CDOM443_FLAG_W,CDOM490,CDOM490_FLAG_W,CDOM555,CDOM555_FLAG_W,CDOMSL,CDOMSL_FLAG_W,CDOMSN,CDOMSN_FLAG_W,THETA,D18O_NO3,D18O_NO3_FLAG_W,CDOM2C,CDOM2C_FLAG_W,CDOM3C,CDOM3C_FLAG_W,LAB_DEN,LAB_DEN_FLAG_W,DELSI30,DELSI30_FLAG_W,N2,N2_FLAG_W,D15N_NO3,D15N_NO3_FLAG_W,HELIER,DELHER
,,,,,,,,,,,METERS,DBAR,ITS-90,PSS-78,,PSS-78,,UMOL/KG,,UMOL/KG,,UMOL/KG,,UMOL/KG,,UMOL/KG,,UMOL/KG,,PMOL/KG,,PMOL/KG,,FMOL/KG,,UMOL/KG,,UMOL/KG,,UATM,,DEG C,,,DEG C,TU,,NMOL/KG,,PERCNT,,/MILLE,,/MILLE,,NMOL/KG,,NMOL/KG,PMOL/KG,,UG/KG,,UMOL/KG,,UMOL/KG,,UMOL/KG,,UG/KG,,UMOL/KG,,TU,1/M,,1/M,,1/M,,1/M,,1/M,,1/M,,1/M,,1/NM,,1/NM,,DEG C,/MILLE,,,,,,,,/MILLE,,UMOL/KG,,/MILLE,,NMOL/KG,PERCNT
33RO20071215,        P18,       5,          1,         24,      11024,2,20071218,       1317,    22.0007,  -110.0000,       3161,     4.9,  23.3666,  34.7717,2,  34.7741,2,    211.5,2,   212.8,2,    2.10,2,    0.00,2,    0.00,2,    0.36,2,   1.870,2,   1.182,2,   1.0813,2,  2026.1,6,  2316.5,2,    343.8,2,    20.00,   8.0154,2,    25.00,-999.000,9,-999.0000,9, -999.00,9, -999.00,9,  -999.0,9,-999.000,9,-999.000,-999.000,9,-999.000,9,   73.17,2,    5.90,2, -999.00,1, -999.00,9, -999.00,9,-999.000,-999.0000,9,-999.0000,9,-999.0000,9,-999.0000,9,-999.0000,9,-999.0000,9,-999.0000,9,-999.0000,9,-999.0000,9,  23.3656,     -999.0,9,     -999.0,9,     -999.0,9,     -999.0,9,     -999.0,9,     -999.0,9,     -999.0,9,-999.0000, -999.00
33RO20071215,        P18,       5,          1,         23,      11023,2,20071218,       1317,    22.0007,  -110.0000,       3161,    19.6,  23.3705,  34.7739,2,  34.7809,2,    211.7,2,   212.2,2,    2.00,2,    0.10,2,    0.00,2,    0.38,2,   1.858,6,   1.173,6,   1.1291,6,  2028.3,2,  2317.8,2,    344.8,2,    20.00,   8.0080,2,    25.00,-999.000,9,-999.0000,9, -999.00,9, -999.00,9,  -999.0,9,-999.000,9,-999.000,-999.000,9,-999.000,9, -999.00,9, -999.00,9, -999.00,1, -999.00,9, -999.00,9,-999.000,-999.0000,9,-999.0000,9,-999.0000,9,-999.0000,9,-999.0000,9,-999.0000,9,-999.0000,9,-999.0000,9,-999.0000,9,  23.3664,     -999.0,9,     -999.0,9,     -999.0,9,     -999.0,9,     -999.0,9,     -999.0,9,     -999.0,9,-999.0000, -999.00
33RO20071215,        P18,       5,          1,         22,      11022,2,20071218,       1317,    22.0007,  -110.0000,       3161,    42.0,  21.5700,  34.6321,2,  34.4604,2,    192.8,2,   180.8,2,    5.70,2,    3.70,2,    0.45,2,    0.76,2,   1.845,2,   1.161,2,   1.1400,2,  2080.4,2,  2295.9,2,    502.2,2,    20.00,   7.8808,2,    25.00,-999.000,9,-999.0000,9, -999.00,9, -999.00,9,  -999.0,9,-999.000,9,-999.000,-999.000,9,-999.000,9,   72.30,2,    8.68,2, -999.00,1, -999.00,9, -999.00,9,-999.000,-999.0000,9,-999.0000,9,-999.0000,9,-999.0000,9,-999.0000,9,-999.0000,9,-999.0000,9,-999.0000,9,-999.0000,9,  21.5619,     -999.0,9,     -999.0,9,     -999.0,9,     -999.0,9,     -999.0,9,     -999.0,9,     -999.0,9,-999.0000, -999.00
33RO20071215,        P18,       5,          1,         21,      11021,2,20071218,       1317,    22.0007,  -110.0000,       3161,    66.7,  16.0383,  34.1691,2,  34.2210,2,    113.2,2,   111.7,2,   13.50,2,   14.40,2,    0.06,2,    1.44,2,   2.318,2,   1.361,2,   1.1351,2,  2155.2,2,  2273.9,2,    904.4,6,    20.00,   7.6662,2,    25.00,-999.000,9,-999.0000,9, -999.00,9, -999.00,9,  -999.0,9,-999.000,9,-999.000,-999.000,9,-999.000,9, -999.00,9, -999.00,9, -999.00,1, -999.00,9, -999.00,9,-999.000,-999.0000,9,-999.0000,9,-999.0000,9,-999.0000,9,-999.0000,9,-999.0000,9,-999.0000,9,-999.0000,9,-999.0000,9,  16.0279,     -999.0,9,     -999.0,9,     -999.0,9,     -999.0,9,     -999.0,9,     -999.0,9,     -999.0,9,-999.0000, -999.00
33RO20071215,        P18,       5,          1,         20,      11020,2,20071218,       1317,    22.0007,  -110.0000,       3161,    92.0,  14.4068,  34.4985,2,  34.4988,2,     46.7,2,    47.2,2,   24.00,2,   23.00,2,    0.02,2,    2.16,2,   1.828,2,   1.069,2,   0.7346,2,  2224.5,2,  2289.6,2,   1372.4,2,    20.00,   7.5171,2,    25.00,-999.000,9,-999.0000,9, -999.00,9, -999.00,9,  -999.0,9,-999.000,9,-999.000,-999.000,9,-999.000,9,   53.30,2,   25.68,2, -999.00,1, -999.00,9, -999.00,9,-999.000,-999.0000,9,-999.0000,9,-999.0000,9,-999.0000,9,-999.0000,9,-999.0000,9,-999.0000,9,-999.0000,9,-999.0000,9,  14.3934,     -999.0,9,     -999.0,9,     -999.0,9,     -999.0,9,     -999.0,9,     -999.0,9,     -999.0,9,-999.0000, -999.00
33RO20071215,        P18,       5,          1,         19,      11019,2,20071218,       1317,    22.0007,  -110.0000,       3161,   116.3,  13.2321,  34.5338,2,  34.5262,2,     29.7,2,    30.5,2,   28.70,2,   25.00,2,    0.01,2,    2.36,2,   1.593,2,   0.923,2,   0.5922,2,  2242.8,2,  2291.5,2,   1556.6,2,    20.00,   7.4562,2,    25.00,-999.000,9,-999.0000,9, -999.00,9, -999.00,9,  -999.0,9,-999.000,9,-999.000,-999.000,9,-999.000,9,   51.11,2,   28.17,2, -999.00,1, -999.00,9, -999.00,9,-999.000,-999.0000,9,-999.0000,9,-999.0000,9,-999.0000,9,-999.0000,9,-999.0000,9,-999.0000,9,-999.0000,9,-999.0000,9,  13.2161,     -999.0,9,     -999.0,9,     -999.0,9,     -999.0,9,     -999.0,9,     -999.0,9,     -999.0,9,-999.0000, -999.00
33RO20071215,        P18,       5,          1,         18,      11018,2,20071218,       1317,    22.0007,  -110.0000,       3161,   141.6,  12.2089,  34.5433,2,  34.5463,2,     24.7,2,    25.2,2,   30.80,2,   26.00,2,    0.01,2,    2.40,2,   1.358,2,   0.767,2,   0.3968,2,  2248.6,2,  2293.0,2,   1633.2,2,    20.00,   7.4413,2,    25.00,-999.000,9,-999.0000,9, -999.00,9, -999.00,9,  -999.0,9,-999.000,9,-999.000,-999.000,9,-999.000,9,   50.09,2,   28.19,2, -999.00,1, -999.00,9, -999.00,9,-999.000,-999.0000,9,-999.0000,9,-999.0000,9,-999.0000,9,-999.0000,9,-999.0000,9,-999.0000,9,-999.0000,9,-999.0000,9,  12.1903,     -999.0,9,     -999.0,9,     -999.0,9,     -999.0,9,     -999.0,9,     -999.0,9,     -999.0,9,-999.0000, -999.00
33RO20071215,        P18,       5,          1,         17,      11017,2,20071218,       1317,    22.0007,  -110.0000,       3161,   182.4,  11.4792,  34.6147,2,  34.6200,2,     13.2,2,    11.7,2,   34.80,2,   26.40,2,    0.00,2,    2.53,2,   0.844,2,   0.478,2,   0.2029,2,  2263.9,2,  2302.2,2,   1734.3,2,    20.00,   7.4220,2,    25.00,-999.000,9,-999.0000,9, -999.00,9, -999.00,9,  -999.0,9,-999.000,9,-999.000,-999.000,9,-999.000,9,   47.00,2,   28.66,2, -999.00,1, -999.00,9, -999.00,9,-999.000,-999.0000,9,-999.0000,9,-999.0000,9,-999.0000,9,-999.0000,9,-999.0000,9,-999.0000,9,-999.0000,9,-999.0000,9,  11.4562,     -999.0,9,     -999.0,9,     -999.0,9,     -999.0,9,     -999.0,9,     -999.0,9,     -999.0,9,-999.0000, -999.00
33RO20071215,        P18,       5,          1,         16,      11016,2,20071218,       1317,    22.0007,  -110.0000,       3161,   249.9,  10.5683,  34.6136,2,  34.6117,2,      6.8,2,     6.5,2,   39.60,2,   26.90,2,    0.00,2,    2.65,2,   0.479,2,   0.271,2,   0.1120,2,  2273.8,3,  2305.3,2,   -999.0,9,  -999.00,   7.3905,2,    25.00,-999.000,9,-999.0000,9, -999.00,9, -999.00,9,  -999.0,9,-999.000,9,-999.000,-999.000,9,-999.000,9,   45.62,2,   28.80,2, -999.00,1, -999.00,9, -999.00,9,-999.000,-999.0000,9,-999.0000,9,-999.0000,9,-999.0000,9,-999.0000,9,-999.0000,9,-999.0000,9,-999.0000,9,-999.0000,9,  10.5383,     -999.0,9,     -999.0,9,     -999.0,9,     -999.0,9,     -999.0,9,     -999.0,9,     -999.0,9,-999.0000, -999.00
33RO20071215,        P18,       5,          1,         15,      11015,2,20071218,       1317,    22.0007,  -110.0000,       3161,   324.0,   9.5657,  34.5774,2,  34.5752,2,      4.4,2,     5.3,2,   45.90,2,   28.60,2,    0.00,2,    2.76,2,   0.256,2,   0.147,2,   0.0144,2,  2286.3,2,  2310.7,2,   -999.0,9,  -999.00,   7.3661,2,    25.00,-999.000,9,-999.0000,9, -999.00,9, -999.00,9,  -999.0,9,-999.000,9,-999.000,-999.000,9,-999.000,9,   43.64,2,   29.84,2, -999.00,1, -999.00,9, -999.00,9,-999.000,-999.0000,9,-999.0000,9,-999.0000,9,-999.0000,9,-999.0000,9,-999.0000,9,-999.0000,9,-999.0000,9,-999.0000,9,   9.5291,     -999.0,9,     -999.0,9,     -999.0,9,     -999.0,9,     -999.0,9,     -999.0,9,     -999.0,9,-999.0000, -999.00
33RO20071215,        P18,       5,          1,         14,      11014,2,20071218,       1317,    22.0007,  -110.0000,       3161,   399.9,   8.7888,  34.5564,2,  34.5546,2,      4.1,2,     5.5,2,   51.40,2,   30.80,2,    0.00,2,    2.86,2,   0.114,2,   0.066,2,   0.0405,2,  2293.7,2,  2316.0,2,   -999.0,9,  -999.00,   7.3608,2,    25.00,-999.000,9,-999.0000,9, -999.00,9, -999.00,9,  -999.0,9,-999.000,9,-999.000,-999.000,9,-999.000,9,   42.14,2,   32.17,2, -999.00,1, -999.00,9, -999.00,9,-999.000,-999.0000,9,-999.0000,9,-999.0000,9,-999.0000,9,-999.0000,9,-999.0000,9,-999.0000,9,-999.0000,9,-999.0000,9,   8.7457,     -999.0,9,     -999.0,9,     -999.0,9,     -999.0,9,     -999.0,9,     -999.0,9,     -999.0,9,-999.0000, -999.00
33RO20071215,        P18,       5,          1,         13,      11013,2,20071218,       1317,    22.0007,  -110.0000,       3161,   475.9,   7.9257,  34.5325,2,  34.5338,2,      3.6,2,     4.2,2,   61.10,2,   33.20,2,    0.00,2,    2.97,2,   0.077,2,   0.044,2,   0.0505,2,  2307.1,2,  2324.6,2,   -999.0,9,  -999.00,   7.3530,2,    25.00,-999.000,9,-999.0000,9, -999.00,9, -999.00,9,  -999.0,9,-999.000,9,-999.000,-999.000,9,-999.000,9,   41.25,2,   34.82,2, -999.00,1, -999.00,9, -999.00,9,-999.000,-999.0000,9,-999.0000,9,-999.0000,9,-999.0000,9,-999.0000,9,-999.0000,9,-999.0000,9,-999.0000,9,-999.0000,9,   7.8773,     -999.0,9,     -999.0,9,     -999.0,9,     -999.0,9,     -999.0,9,     -999.0,9,     -999.0,9,-999.0000, -999.00
33RO20071215,        P18,       5,          1,         12,      11012,2,20071218,       1317,    22.0007,  -110.0000,       3161,   566.4,   7.0192,  34.5077,2,  34.5072,2,      3.8,2,     4.7,2,   70.70,2,   36.40,2,    0.00,2,    3.06,2,   0.039,2,   0.022,2,   0.0394,2,  2318.9,6,  2331.4,2,   2099.0,2,    20.00,   7.3392,2,    25.00,-999.000,9,-999.0000,9, -999.00,9, -999.00,9,  -999.0,9,-999.000,9,-999.000,-999.000,9,-999.000,9,   40.32,2,   37.64,2, -999.00,1, -999.00,9, -999.00,9,-999.000,-999.0000,9,-999.0000,9,-999.0000,9,-999.0000,9,-999.0000,9,-999.0000,9,-999.0000,9,-999.0000,9,-999.0000,9,   6.9651,     -999.0,9,     -999.0,9,     -999.0,9,     -999.0,9,     -999.0,9,     -999.0,9,     -999.0,9,-999.0000, -999.00
33RO20071215,        P18,       5,          1,         11,      11010,2,20071218,       1317,    22.0007,  -110.0000,       3161,   699.5,   5.9873,  34.4980,2,  34.4967,2,      4.9,2,     5.5,2,   83.30,2,   39.90,2,    0.00,2,    3.15,2,   0.020,2,   0.010,2,   0.0214,2,  2333.0,2,  2345.1,4,   -999.0,9,  -999.00,   7.2394,2,    25.00,-999.000,9,-999.0000,9, -999.00,9, -999.00,9,  -999.0,9,-999.000,9,-999.000,-999.000,9,-999.000,9,   39.34,2,   41.09,2, -999.00,1, -999.00,9, -999.00,9,-999.000,-999.0000,9,-999.0000,9,-999.0000,9,-999.0000,9,-999.0000,9,-999.0000,9,-999.0000,9,-999.0000,9,-999.0000,9,   5.9252,     -999.0,9,     -999.0,9,     -999.0,9,     -999.0,9,     -999.0,9,     -999.0,9,     -999.0,9,-999.0000, -999.00
33RO20071215,        P18,       5,          1,         10,      11011,2,20071218,       1317,    22.0007,  -110.0000,       3161,   849.9,   5.0782,  34.5195,2,  34.5196,2,      7.1,2,     7.0,2,   97.40,2,   42.60,2,    0.00,2,    3.24,2,   0.012,2,   0.005,2,   0.0497,2,  2349.6,2,  2356.9,2,   -999.0,9,  -999.00,   7.3241,2,    25.00,-999.000,9,-999.0000,9, -999.00,9, -999.00,9,  -999.0,9,-999.000,9,-999.000,-999.000,9,-999.000,9,   38.89,2,   43.97,2, -999.00,1, -999.00,9, -999.00,9,-999.000,-999.0000,9,-999.0000,9,-999.0000,9,-999.0000,9,-999.0000,9,-999.0000,9,-999.0000,9,-999.0000,9,-999.0000,9,   5.0078,     -999.0,9,     -999.0,9,     -999.0,9,     -999.0,9,     -999.0,9,     -999.0,9,     -999.0,9,-999.0000, -999.00
33RO20071215,        P18,       5,          1,          9,      11009,2,20071218,       1317,    22.0007,  -110.0000,       3161,  1000.7,   4.4711,  34.5404,2,  34.5405,2,     12.6,2,    13.0,2,  108.10,2,   43.90,2,    0.00,2,    3.27,2,   0.013,2,   0.008,2,   0.0623,2,  2358.9,2,  2367.2,2,   2182.0,2,    20.00,   7.3290,2,    25.00,-999.000,9,-999.0000,9, -999.00,9, -999.00,9,  -999.0,9,-999.000,9,-999.000,-999.000,9,-999.000,9,   38.79,2,   45.17,2, -999.00,1, -999.00,9, -999.00,9,-999.000,-999.0000,9,-999.0000,9,-999.0000,9,-999.0000,9,-999.0000,9,-999.0000,9,-999.0000,9,-999.0000,9,-999.0000,9,   4.3917,     -999.0,9,     -999.0,9,     -999.0,9,     -999.0,9,     -999.0,9,     -999.0,9,     -999.0,9,-999.0000, -999.00
33RO20071215,        P18,       5,          1,          8,      11008,2,20071218,       1317,    22.0007,  -110.0000,       3161,  1150.1,   3.9096,  34.5589,2,  34.5584,2,     21.7,2,    22.1,2,  120.40,2,   43.70,2,    0.00,2,    3.21,2,   0.018,2,   0.005,2,   0.0146,2,  2366.9,2,  2380.2,2,   -999.0,9,  -999.00,   7.3454,2,    25.00,-999.000,9,-999.0000,9, -999.00,9, -999.00,9,  -999.0,9,-999.000,9,-999.000,-999.000,9,-999.000,9,   38.53,2,   45.37,2, -999.00,1, -999.00,9, -999.00,9,-999.000,-999.0000,9,-999.0000,9,-999.0000,9,-999.0000,9,-999.0000,9,-999.0000,9,-999.0000,9,-999.0000,9,-999.0000,9,   3.8219,     -999.0,9,     -999.0,9,     -999.0,9,     -999.0,9,     -999.0,9,     -999.0,9,     -999.0,9,-999.0000, -999.00
33RO20071215,        P18,       5,          1,          7,      11007,2,20071218,       1317,    22.0007,  -110.0000,       3161,  1332.4,   3.3784,  34.5815,2,  34.5810,2,     35.1,2,    36.1,2,  131.10,2,   43.30,2,    0.00,2,    3.14,2,   0.011,2,   0.002,2,   0.0476,2,  2371.4,2,  2394.0,2,   -999.0,9,  -999.00,   7.3719,2,    25.00,-999.000,9,-999.0000,9, -999.00,9, -999.00,9,  -999.0,9,-999.000,9,-999.000,-999.000,9,-999.000,9,   38.54,2,   44.49,2, -999.00,1, -999.00,9, -999.00,9,-999.000,-999.0000,9,-999.0000,9,-999.0000,9,-999.0000,9,-999.0000,9,-999.0000,9,-999.0000,9,-999.0000,9,-999.0000,9,   3.2804,     -999.0,9,     -999.0,9,     -999.0,9,     -999.0,9,     -999.0,9,     -999.0,9,     -999.0,9,-999.0000, -999.00
33RO20071215,        P18,       5,          1,          6,      11006,2,20071218,       1317,    22.0007,  -110.0000,       3161,  1531.7,   2.9823,  34.5995,2,  34.6004,2,     48.9,2,    50.0,2,  139.00,2,   42.40,2,    0.00,2,    3.03,2,   0.009,2,   0.004,2,   0.0214,2,  2371.7,2,  2409.5,2,   1884.8,2,    20.00,   7.4005,2,    25.00,-999.000,9,-999.0000,9, -999.00,9, -999.00,9,  -999.0,9,-999.000,9,-999.000,-999.000,9,-999.000,9,   37.71,2,   43.48,2, -999.00,1, -999.00,9, -999.00,9,-999.000,-999.0000,9,-999.0000,9,-999.0000,9,-999.0000,9,-999.0000,9,-999.0000,9,-999.0000,9,-999.0000,9,-999.0000,9,   2.8719,     -999.0,9,     -999.0,9,     -999.0,9,     -999.0,9,     -999.0,9,     -999.0,9,     -999.0,9,-999.0000, -999.00
33RO20071215,        P18,       5,          1,          5,      11005,2,20071218,       1317,    22.0007,  -110.0000,       3161,  1867.6,   2.3608,  34.6315,2,  34.6330,2,     75.4,2,    75.2,2,  150.80,2,   40.90,2,    0.00,2,    2.85,2,   0.011,2,   0.003,2,   0.0213,2,  2368.9,2,  2419.5,2,   -999.0,9,  -999.00,   7.4457,2,    25.00,-999.000,9,-999.0000,9, -999.00,9, -999.00,9,  -999.0,9,-999.000,9,-999.000,-999.000,9,-999.000,9,   36.86,2,   42.02,2, -999.00,1, -999.00,9, -999.00,9,-999.000,-999.0000,9,-999.0000,9,-999.0000,9,-999.0000,9,-999.0000,9,-999.0000,9,-999.0000,9,-999.0000,9,-999.0000,9,   2.2302,     -999.0,9,     -999.0,9,     -999.0,9,     -999.0,9,     -999.0,9,     -999.0,9,     -999.0,9,-999.0000, -999.00
33RO20071215,        P18,       5,          1,          4,      11004,2,20071218,       1317,    22.0007,  -110.0000,       3161,  2266.7,   1.9539,  34.6554,2,  34.6560,2,     95.6,2,    96.5,2,  159.80,6,   39.60,6,    0.00,6,    2.71,2,   0.008,2,   0.005,2,   0.0222,2,  2366.3,2,  2431.9,4,   1501.5,2,    20.00,   7.4854,2,    25.00,-999.000,9,-999.0000,9, -999.00,9, -999.00,9,  -999.0,9,-999.000,9,-999.000,   0.005,3,-999.000,9,   37.47,2,   40.68,2, -999.00,9, -999.00,9, -999.00,9,-999.000,-999.0000,9,-999.0000,9,-999.0000,9,-999.0000,9,-999.0000,9,-999.0000,9,-999.0000,9,-999.0000,9,-999.0000,9,   1.7953,     -999.0,9,     -999.0,9,     -999.0,9,     -999.0,9,     -999.0,9,     -999.0,9,     -999.0,9,-999.0000, -999.00
33RO20071215,        P18,       5,          1,          3,      11003,2,20071218,       1317,    22.0007,  -110.0000,       3161,  2666.3,   1.8035,  34.6640,2,  34.6651,2,    107.7,2,   108.0,2,  161.10,6,   38.90,6,    0.00,6,    2.63,2,   0.004,2,   0.005,2,   0.0204,2,  2359.7,2,  2441.6,4,   1415.2,2,    20.00,   7.4979,2,    25.00,-999.000,9,-999.0000,9, -999.00,9, -999.00,9,  -999.0,9,-999.000,9,-999.000,   0.004,3,-999.000,9,   36.90,2,   39.93,2, -999.00,9, -999.00,9, -999.00,9,-999.000,-999.0000,9,-999.0000,9,-999.0000,9,-999.0000,9,-999.0000,9,-999.0000,9,-999.0000,9,-999.0000,9,-999.0000,9,   1.6116,     -999.0,9,     -999.0,9,     -999.0,9,     -999.0,9,     -999.0,9,     -999.0,9,     -999.0,9,-999.0000, -999.00
33RO20071215,        P18,       5,          1,          2,      11002,2,20071218,       1317,    22.0007,  -110.0000,       3161,  3067.3,   1.6775,  34.6716,2,  34.6732,2,    116.5,2,   117.0,2,  165.60,6,   38.50,6,    0.00,6,    2.57,2,   0.010,2,   0.011,2,   0.0186,2,  2357.4,2,  2437.6,2,   1355.6,2,    20.00,   7.5205,2,    25.00,-999.000,9,-999.0000,9, -999.00,9, -999.00,9,  -999.0,9,-999.000,9,-999.000,   0.004,3,-999.000,9,   36.84,2,   39.77,2, -999.00,9, -999.00,9, -999.00,9,-999.000,-999.0000,9,-999.0000,9,-999.0000,9,-999.0000,9,-999.0000,9,-999.0000,9,-999.0000,9,-999.0000,9,-999.0000,9,   1.4503,     -999.0,9,     -999.0,9,     -999.0,9,     -999.0,9,     -999.0,9,     -999.0,9,     -999.0,9,-999.0000, -999.00
33RO20071215,        P18,       5,          1,          1,      11001,2,20071218,       1317,    22.0007,  -110.0000,       3161,  3111.7,   1.6682,  34.6723,2,  34.6741,2,    117.0,2,   116.9,2,  166.40,2,   38.50,2,    0.00,2,    2.58,2,   0.012,2,   0.011,2,   0.0265,2,  2357.6,6,  2336.4,2,   1367.3,2,    20.00,   7.5275,2,    25.00,-999.000,9,-999.0000,9, -999.00,9, -999.00,9,  -999.0,9,-999.000,9,-999.000,   0.004,3,-999.000,9,   36.68,2,   39.46,2, -999.00,9, -999.00,9, -999.00,9,-999.000,-999.0000,9,-999.0000,9,-999.0000,9,-999.0000,9,-999.0000,9,-999.0000,9,-999.0000,9,-999.0000,9,-999.0000,9,   1.4368,     -999.0,9,     -999.0,9,     -999.0,9,     -999.0,9,     -999.0,9,     -999.0,9,     -999.0,9,-999.0000, -999.00