BOTTLE,20220818CCHSIOAMB
EXPOCODE,SECT_ID,STNNBR,CASTNO,SAMPNO,BTLNBR,BTLNBR_FLAG_W,DATE,TIME,LATITUDE,LONGITUDE,DEPTH,CTDPRS,CTDTMP,CTDSAL,CTDSAL_FLAG_W,SALNTY,SALNTY_FLAG_W,CTDOXY,CTDOXY_FLAG_W,OXYGEN,OXYGEN_FLAG_W,SILCAT,SILCAT_FLAG_W,NITRAT,NITRAT_FLAG_W,NITRIT,NITRIT_FLAG_W,PHSPHT,PHSPHT_FLAG_W,CFC-11,CFC-11_FLAG_W,CFC-12,CFC-12_FLAG_W,SF6,SF6_FLAG_W,TCARBN,TCARBN_FLAG_W,ALKALI,ALKALI_FLAG_W,FCO2,FCO2_FLAG_W,FCO2TMP,PH_SWS,PH_SWS_FLAG_W,PH_TMP,TRITUM,TRITUM_FLAG_W,HELIUM,HELIUM_FLAG_W,DELHE3,DELHE3_FLAG_W,DELC13,DELC13_FLAG_W,DELC14,DELC14_FLAG_W,NEON,NEON_FLAG_W,NEONER,CCL4,CCL4_FLAG_W,POC,POC_FLAG_W,DOC,DOC_FLAG_W,TDN,TDN_FLAG_W,DON,DON_FLAG_W,CHLORA,CHLORA_FLAG_W,ARGON,ARGON_FLAG_W,TRITER,CDOM325,CDOM325_FLAG_W,CDOM340,CDOM340_FLAG_W,CDOM380,CDOM380_FLAG_W,CDOM412,CDOM412_FLAG_W,CDOM443,CDOM443_FLAG_W,CDOM490,CDOM490_FLAG_W,CDOM555,CDOM555_FLAG_W,CDOMSL,CDOMSL_FLAG_W,CDOMSN,CDOMSN_FLAG_W,THETA,D18O_NO3,D18O_NO3_FLAG_W,CDOM2C,CDOM2C_FLAG_W,CDOM3C,CDOM3C_FLAG_W,LAB_DEN,LAB_DEN_FLAG_W,DELSI30,DELSI30_FLAG_W,N2,N2_FLAG_W,D15N_NO3,D15N_NO3_FLAG_W,HELIER,DELHER
,,,,,,,,,,,METERS,DBAR,ITS-90,PSS-78,,PSS-78,,UMOL/KG,,UMOL/KG,,UMOL/KG,,UMOL/KG,,UMOL/KG,,UMOL/KG,,PMOL/KG,,PMOL/KG,,FMOL/KG,,UMOL/KG,,UMOL/KG,,UATM,,DEG C,,,DEG C,TU,,NMOL/KG,,PERCNT,,/MILLE,,/MILLE,,NMOL/KG,,NMOL/KG,PMOL/KG,,UG/KG,,UMOL/KG,,UMOL/KG,,UMOL/KG,,UG/KG,,UMOL/KG,,TU,1/M,,1/M,,1/M,,1/M,,1/M,,1/M,,1/M,,1/NM,,1/NM,,DEG C,/MILLE,,,,,,,,/MILLE,,UMOL/KG,,/MILLE,,NMOL/KG,PERCNT
33RO20071215,        P18,      22,          1,         36,      12017,2,20071223,       0210,    12.0833,  -110.0000,       3728,     4.8,  27.2778,  32.8895,2,  32.8907,2,    204.8,2,   203.6,2,    1.30,2,    0.00,2,    0.00,2,    0.04,2,   1.633,6,   1.039,6,   1.0675,6,  1862.3,6,  2168.0,2,   -999.0,9,  -999.00,   8.0875,2,    25.00,   0.551,2,   1.7072,2,   -1.64,2,    1.22,3,  -999.0,1,   6.692,2,   0.023,-999.000,9,-999.000,9,   70.82,2,    4.78,2, -999.00,1, -999.00,9, -999.00,9,   0.007,-999.0000,9,-999.0000,9,-999.0000,9,-999.0000,9,-999.0000,9,-999.0000,9,-999.0000,9,-999.0000,9,-999.0000,9,  27.2766,     -999.0,9,     -999.0,9,     -999.0,9,     -999.0,9,     -999.0,9,     -999.0,9,     -999.0,9,   0.0048,    0.15
33RO20071215,        P18,      22,          1,         35,      12029,2,20071223,       0210,    12.0833,  -110.0000,       3728,    10.0,  27.2774,  32.8884,2,  32.8909,2,    204.9,2,   203.1,2,    1.30,2,    0.10,2,    0.00,2,    0.07,2,-999.000,9,-999.000,9,-999.0000,9,  1862.3,2,  2165.9,2,   -999.0,9,  -999.00,   8.0798,2,    25.00,-999.000,9,-999.0000,9, -999.00,9, -999.00,9,  -999.0,9,-999.000,9,-999.000,-999.000,9,-999.000,9, -999.00,9, -999.00,9, -999.00,1, -999.00,9, -999.00,9,-999.000,-999.0000,9,-999.0000,9,-999.0000,9,-999.0000,9,-999.0000,9,-999.0000,9,-999.0000,9,-999.0000,9,-999.0000,9,  27.2751,     -999.0,9,     -999.0,9,     -999.0,9,     -999.0,9,     -999.0,9,     -999.0,9,     -999.0,9,-999.0000, -999.00
33RO20071215,        P18,      22,          1,         34,      12049,2,20071223,       0210,    12.0833,  -110.0000,       3728,    19.9,  27.2896,  32.8944,2,  32.9152,2,    205.1,2,   203.0,2,    1.40,2,    0.10,2,    0.00,2,    0.08,2,   1.663,2,   1.045,2,   1.0063,2,  1863.4,2,  2168.7,2,   -999.0,9,  -999.00,   8.0998,2,    25.00,   0.561,2,   1.7029,2,   -1.89,2, -999.00,9,  -999.0,9,   6.798,2,   0.023,-999.000,9,-999.000,9,   70.68,2,    4.81,2, -999.00,1, -999.00,9, -999.00,9,   0.007,-999.0000,9,-999.0000,9,-999.0000,9,-999.0000,9,-999.0000,9,-999.0000,9,-999.0000,9,-999.0000,9,-999.0000,9,  27.2851,     -999.0,9,     -999.0,9,     -999.0,9,     -999.0,9,     -999.0,9,     -999.0,9,     -999.0,9,   0.0048,    0.15
33RO20071215,        P18,      22,          1,         33,      12027,2,20071223,       0210,    12.0833,  -110.0000,       3728,    39.8,  27.1268,  33.2628,2,  33.4737,2,    205.7,2,   203.7,2,    1.70,2,    0.20,2,    0.01,2,    0.12,2,   0.003,4,   0.001,4,   0.0146,4,  1915.1,2,  2210.7,2,   -999.0,9,  -999.00,   8.0697,2,    25.00,-999.000,9,-999.0000,9, -999.00,9, -999.00,9,  -999.0,9,-999.000,9,-999.000,-999.000,9,-999.000,9, -999.00,9, -999.00,9, -999.00,1, -999.00,9, -999.00,9,-999.000,-999.0000,9,-999.0000,9,-999.0000,9,-999.0000,9,-999.0000,9,-999.0000,9,-999.0000,9,-999.0000,9,-999.0000,9,  27.1177,     -999.0,9,     -999.0,9,     -999.0,9,     -999.0,9,     -999.0,9,     -999.0,9,     -999.0,9,-999.0000, -999.00
33RO20071215,        P18,      22,          1,         32,      12023,2,20071223,       0210,    12.0833,  -110.0000,       3728,    60.3,  21.4845,  34.4101,2,  34.4497,2,    112.6,2,   101.8,2,    8.80,2,   14.20,2,    0.35,2,    1.24,2,   1.648,2,   0.980,2,   0.6934,2,  2115.4,2,  2279.4,2,   -999.0,9,  -999.00,   7.7858,2,    25.00,   0.496,2,   1.7628,2,    1.73,2, -999.00,9,  -999.0,9,   6.998,2,   0.024,-999.000,9,-999.000,9,   64.85,2,   17.75,2, -999.00,1, -999.00,9, -999.00,9,   0.009,-999.0000,9,-999.0000,9,-999.0000,9,-999.0000,9,-999.0000,9,-999.0000,9,-999.0000,9,-999.0000,9,-999.0000,9,  21.4729,     -999.0,9,     -999.0,9,     -999.0,9,     -999.0,9,     -999.0,9,     -999.0,9,     -999.0,9,   0.0049,    0.15
33RO20071215,        P18,      22,          1,         31,      12037,2,20071223,       0210,    12.0833,  -110.0000,       3728,    80.2,  15.8465,  34.6505,2,  34.6662,2,     11.3,2,     5.8,2,   20.40,2,   26.80,2,    0.24,2,    2.29,2,   1.248,2,   0.704,2,   0.4100,2,  2227.9,2,  2288.0,2,   -999.0,9,  -999.00,   7.4849,2,    25.00,-999.000,9,-999.0000,9, -999.00,9, -999.00,9,  -999.0,9,-999.000,9,-999.000,-999.000,9,-999.000,9, -999.00,9, -999.00,9, -999.00,1, -999.00,9, -999.00,9,-999.000,-999.0000,9,-999.0000,9,-999.0000,9,-999.0000,9,-999.0000,9,-999.0000,9,-999.0000,9,-999.0000,9,-999.0000,9,  15.8340,     -999.0,9,     -999.0,9,     -999.0,9,     -999.0,9,     -999.0,9,     -999.0,9,     -999.0,9,-999.0000, -999.00
33RO20071215,        P18,      22,          1,         30,      12036,2,20071223,       0210,    12.0833,  -110.0000,       3728,   100.0,  13.8108,  34.7695,2,  34.7696,2,      4.0,2,     1.7,2,   25.00,2,   28.30,2,    0.17,2,    2.34,2,   0.714,3,   0.406,3,   0.0929,3,  2243.7,2,  2297.0,2,   -999.0,9,  -999.00,   7.4566,2,    25.00,   0.310,2,   1.7467,2,    6.25,2, -999.00,9,  -999.0,9,   7.269,2,   0.025,-999.000,9,-999.000,9,   47.70,2,   31.47,2, -999.00,1, -999.00,9, -999.00,9,   0.006,-999.0000,9,-999.0000,9,-999.0000,9,-999.0000,9,-999.0000,9,-999.0000,9,-999.0000,9,-999.0000,9,-999.0000,9,  13.7965,     -999.0,9,     -999.0,9,     -999.0,9,     -999.0,9,     -999.0,9,     -999.0,9,     -999.0,9,   0.0049,    0.15
33RO20071215,        P18,      22,          1,         29,      12044,2,20071223,       0210,    12.0833,  -110.0000,       3728,   125.5,  12.6515,  34.7946,2,  34.7930,2,      3.3,2,     2.3,2,   28.00,2,   27.60,2,    1.32,2,    2.39,2,   0.736,2,   0.407,2,   0.1658,2,  2252.5,2,  2301.7,2,   -999.0,9,  -999.00,   7.4461,2,    25.00,-999.000,9,-999.0000,9, -999.00,9, -999.00,9,  -999.0,9,-999.000,9,-999.000,-999.000,9,-999.000,9, -999.00,9, -999.00,9, -999.00,1, -999.00,9, -999.00,9,-999.000,-999.0000,9,-999.0000,9,-999.0000,9,-999.0000,9,-999.0000,9,-999.0000,9,-999.0000,9,-999.0000,9,-999.0000,9,  12.6346,     -999.0,9,     -999.0,9,     -999.0,9,     -999.0,9,     -999.0,9,     -999.0,9,     -999.0,9,-999.0000, -999.00
33RO20071215,        P18,      22,          1,         28,      12057,2,20071223,       0210,    12.0833,  -110.0000,       3728,   150.1,  12.1953,  34.7799,2,  34.7785,2,      3.0,2,     2.0,2,   29.30,2,   28.40,2,    1.05,2,    2.40,2,   0.604,2,   0.343,2,   0.1196,2,  2257.5,2,  2301.6,2,   -999.0,9,  -999.00,   7.4347,2,    25.00,   0.277,2,   1.7853,2,    6.57,2, -999.00,9,  -999.0,9,   7.300,2,   0.025,-999.000,9,-999.000,9,   45.65,2,   31.62,2, -999.00,1, -999.00,9, -999.00,9,   0.006,-999.0000,9,-999.0000,9,-999.0000,9,-999.0000,9,-999.0000,9,-999.0000,9,-999.0000,9,-999.0000,9,-999.0000,9,  12.1756,     -999.0,9,     -999.0,9,     -999.0,9,     -999.0,9,     -999.0,9,     -999.0,9,     -999.0,9,   0.0050,    0.15
33RO20071215,        P18,      22,          1,         27,      12026,2,20071223,       0210,    12.0833,  -110.0000,       3728,   175.8,  11.8392,  34.7639,2,  34.7654,2,      2.9,2,     2.0,2,   30.60,2,   27.90,2,    0.92,2,    2.44,2,-999.000,9,-999.000,9,-999.0000,9,  2262.2,2,  2302.7,2,   -999.0,9,  -999.00,   7.4283,2,    25.00,-999.000,9,-999.0000,9, -999.00,9, -999.00,9,  -999.0,9,-999.000,9,-999.000,-999.000,9,-999.000,9, -999.00,9, -999.00,9, -999.00,1, -999.00,9, -999.00,9,-999.000,-999.0000,9,-999.0000,9,-999.0000,9,-999.0000,9,-999.0000,9,-999.0000,9,-999.0000,9,-999.0000,9,-999.0000,9,  11.8165,     -999.0,9,     -999.0,9,     -999.0,9,     -999.0,9,     -999.0,9,     -999.0,9,     -999.0,9,-999.0000, -999.00
33RO20071215,        P18,      22,          1,         26,      12030,2,20071223,       0210,    12.0833,  -110.0000,       3728,   200.0,  11.6129,  34.7543,2,  34.7530,2,      2.8,2,     2.4,2,   31.10,2,   29.70,2,    0.65,2,    2.44,2,   0.448,2,   0.253,2,   0.0443,2,  2263.6,2,  2301.7,2,   -999.0,9,  -999.00,-999.0000,5,  -999.00,   0.229,2,   1.7843,2,    7.22,2, -999.00,9,  -999.0,9,   7.303,2,   0.025,-999.000,9,-999.000,9,   43.61,2,   32.50,2, -999.00,1, -999.00,9, -999.00,9,   0.006,-999.0000,9,-999.0000,9,-999.0000,9,-999.0000,9,-999.0000,9,-999.0000,9,-999.0000,9,-999.0000,9,-999.0000,9,  11.5874,     -999.0,9,     -999.0,9,     -999.0,9,     -999.0,9,     -999.0,9,     -999.0,9,     -999.0,9,   0.0050,    0.15
33RO20071215,        P18,      22,          1,         25,      12024,2,20071223,       0210,    12.0833,  -110.0000,       3728,   250.3,  11.0582,  34.7275,2,  34.7262,2,      2.6,2,     3.2,2,   33.10,2,   27.30,2,    2.41,2,    2.49,2,   0.302,2,   0.171,2,   0.0253,2,  2271.8,2,  2304.6,2,   -999.0,9,  -999.00,   7.4009,2,    25.00,-999.000,9,-999.0000,9, -999.00,9, -999.00,9,  -999.0,9,-999.000,9,-999.000,-999.000,9,-999.000,9,   42.07,2,   31.01,2, -999.00,1, -999.00,9, -999.00,9,-999.000,-999.0000,9,-999.0000,9,-999.0000,9,-999.0000,9,-999.0000,9,-999.0000,9,-999.0000,9,-999.0000,9,-999.0000,9,  11.0273,     -999.0,9,     -999.0,9,     -999.0,9,     -999.0,9,     -999.0,9,     -999.0,9,     -999.0,9,-999.0000, -999.00
33RO20071215,        P18,      22,          1,         24,      12019,2,20071223,       0210,    12.0833,  -110.0000,       3728,   301.4,  10.5095,  34.6970,2,  34.6967,2,      2.5,2,     1.9,2,   35.90,2,   26.50,2,    1.72,2,    2.56,2,   0.189,2,   0.111,2,   0.0879,2,  2279.6,2,  2310.2,2,   -999.0,9,  -999.00,   7.3896,2,    25.00,   0.152,2,   1.7726,2,    6.73,2, -999.00,9,  -999.0,9,   7.378,2,   0.025,-999.000,9,-999.000,9,   41.99,2,   29.45,2, -999.00,1, -999.00,9, -999.00,9,   0.006,-999.0000,9,-999.0000,9,-999.0000,9,-999.0000,9,-999.0000,9,-999.0000,9,-999.0000,9,-999.0000,9,-999.0000,9,  10.4733,     -999.0,9,     -999.0,9,     -999.0,9,     -999.0,9,     -999.0,9,     -999.0,9,     -999.0,9,   0.0050,    0.15
33RO20071215,        P18,      22,          1,         23,      12022,2,20071223,       0210,    12.0833,  -110.0000,       3728,   349.9,   9.7226,  34.6469,2,  34.6452,2,      2.4,2,     1.6,2,   40.60,2,   30.90,2,    0.59,2,    2.66,2,   0.088,2,   0.052,2,   0.0000,2,  2284.4,2,  2311.5,2,   -999.0,9,  -999.00,   7.3757,2,    25.00,-999.000,9,-999.0000,9, -999.00,9, -999.00,9,  -999.0,9,-999.000,9,-999.000,-999.000,9,-999.000,9,   41.40,2,   32.71,2, -999.00,1, -999.00,9, -999.00,9,-999.000,-999.0000,9,-999.0000,9,-999.0000,9,-999.0000,9,-999.0000,9,-999.0000,9,-999.0000,9,-999.0000,9,-999.0000,9,   9.6825,     -999.0,9,     -999.0,9,     -999.0,9,     -999.0,9,     -999.0,9,     -999.0,9,     -999.0,9,-999.0000, -999.00
33RO20071215,        P18,      22,          1,         22,      12015,2,20071223,       0210,    12.0833,  -110.0000,       3728,   399.9,   9.0405,  34.6061,2,  34.5989,2,      2.4,2,  -999.0,5,   45.30,2,   34.40,2,    0.00,2,    2.74,2,   0.050,2,   0.030,2,   0.0000,2,  2288.8,2,  2311.2,2,   -999.0,9,  -999.00,   7.3669,2,    25.00,   0.074,2,   1.7834,2,    6.56,2, -999.00,9,  -999.0,9,   7.599,2,   0.026,-999.000,9,-999.000,9,   40.45,2,   35.86,2, -999.00,1, -999.00,9, -999.00,9,   0.006,-999.0000,9,-999.0000,9,-999.0000,9,-999.0000,9,-999.0000,9,-999.0000,9,-999.0000,9,-999.0000,9,-999.0000,9,   8.9967,     -999.0,9,     -999.0,9,     -999.0,9,     -999.0,9,     -999.0,9,     -999.0,9,     -999.0,9,   0.0050,    0.15
33RO20071215,        P18,      22,          1,         21,      12020,2,20071223,       0210,    12.0833,  -110.0000,       3728,   500.2,   7.6434,  34.5616,2,  34.5605,2,      2.6,2,     1.4,2,   59.90,2,   36.30,2,    0.00,2,    2.97,2,   0.010,2,   0.007,2,   0.0000,2,  2308.5,2,  2329.2,4,   -999.0,9,  -999.00,   7.3478,2,    25.00,-999.000,9,-999.0000,9, -999.00,9, -999.00,9,  -999.0,9,-999.000,9,-999.000,-999.000,9,-999.000,9,   39.71,2,   38.06,2, -999.00,1, -999.00,9, -999.00,9,-999.000,-999.0000,9,-999.0000,9,-999.0000,9,-999.0000,9,-999.0000,9,-999.0000,9,-999.0000,9,-999.0000,9,-999.0000,9,   7.5934,     -999.0,9,     -999.0,9,     -999.0,9,     -999.0,9,     -999.0,9,     -999.0,9,     -999.0,9,-999.0000, -999.00
33RO20071215,        P18,      22,          1,         20,      12055,4,20071223,       0210,    12.0833,  -110.0000,       3728,   600.5,   6.8074,  34.5553,2,  32.9277,4,      2.3,2,   206.8,4,    2.30,3,    0.70,3,    0.01,3,    0.09,3,   1.631,4,   1.058,4,   1.2021,4,  1864.1,4,  2167.8,4,   -999.0,9,  -999.00,-999.0000,5,  -999.00,-999.000,9,-999.0000,9, -999.00,9, -999.00,9,  -999.0,9,-999.000,9,-999.000,-999.000,9,-999.000,9,   75.61,4,    5.80,4, -999.00,1, -999.00,9, -999.00,9,-999.000,-999.0000,9,-999.0000,9,-999.0000,9,-999.0000,9,-999.0000,9,-999.0000,9,-999.0000,9,-999.0000,9,-999.0000,9,   6.7508,     -999.0,9,     -999.0,9,     -999.0,9,     -999.0,9,     -999.0,9,     -999.0,9,     -999.0,9,-999.0000, -999.00
33RO20071215,        P18,      22,          1,         19,      12018,4,20071223,       0210,    12.0833,  -110.0000,       3728,   699.5,   6.0529,  34.5443,2,-999.0000,9,      3.1,2,  -999.0,9, -999.00,9, -999.00,9, -999.00,9, -999.00,9,-999.000,9,-999.000,9,-999.0000,9,  -999.0,9,  -999.0,9,   -999.0,9,  -999.00,-999.0000,9,  -999.00,-999.000,9,-999.0000,9, -999.00,9, -999.00,9,  -999.0,9,-999.000,9,-999.000,-999.000,9,-999.000,9, -999.00,9, -999.00,9, -999.00,9, -999.00,9, -999.00,9,-999.000,-999.0000,9,-999.0000,9,-999.0000,9,-999.0000,9,-999.0000,9,-999.0000,9,-999.0000,9,-999.0000,9,-999.0000,9,   5.9905,     -999.0,9,     -999.0,9,     -999.0,9,     -999.0,9,     -999.0,9,     -999.0,9,     -999.0,9,-999.0000, -999.00
33RO20071215,        P18,      22,          1,         18,      12025,2,20071223,       0210,    12.0833,  -110.0000,       3728,   799.9,   5.4345,  34.5465,2,  34.5460,2,      5.3,2,     5.3,2,   85.40,2,   44.10,2,    0.00,2,    3.22,2,   0.000,2,   0.001,2,   0.0267,2,  2338.4,2,  2348.3,3,   -999.0,9,  -999.00,   7.3276,2,    25.00,-999.000,9,-999.0000,9, -999.00,9, -999.00,9,  -999.0,9,-999.000,9,-999.000,-999.000,9,-999.000,9,   38.30,2,   45.34,2, -999.00,1, -999.00,9, -999.00,9,-999.000,-999.0000,9,-999.0000,9,-999.0000,9,-999.0000,9,-999.0000,9,-999.0000,9,-999.0000,9,-999.0000,9,-999.0000,9,   5.3663,     -999.0,9,     -999.0,9,     -999.0,9,     -999.0,9,     -999.0,9,     -999.0,9,     -999.0,9,-999.0000, -999.00
33RO20071215,        P18,      22,          1,         17,      12016,2,20071223,       0210,    12.0833,  -110.0000,       3728,   900.0,   4.9595,  34.5525,2,  34.5539,2,      8.9,2,     9.5,2,   93.80,2,   45.00,2,    0.00,2,    3.24,2,-999.000,9,-999.000,9,-999.0000,9,  2346.3,2,  2357.5,2,   -999.0,9,  -999.00,   7.3328,2,    25.00,-999.000,9,-999.0000,9, -999.00,9, -999.00,9,  -999.0,9,-999.000,9,-999.000,-999.000,9,-999.000,9,   37.58,2,   46.47,2, -999.00,1, -999.00,9, -999.00,9,-999.000,-999.0000,9,-999.0000,9,-999.0000,9,-999.0000,9,-999.0000,9,-999.0000,9,-999.0000,9,-999.0000,9,-999.0000,9,   4.8854,     -999.0,9,     -999.0,9,     -999.0,9,     -999.0,9,     -999.0,9,     -999.0,9,     -999.0,9,-999.0000, -999.00
33RO20071215,        P18,      22,          1,         16,      12051,2,20071223,       0210,    12.0833,  -110.0000,       3728,  1000.3,   4.4458,  34.5624,2,  34.5613,2,     17.3,2,    16.6,2,  102.40,2,   45.20,2,    0.00,2,    3.24,2,   1.708,4,   1.082,4,   1.0237,4,  2352.5,2,  2366.9,2,   -999.0,9,  -999.00,   7.3448,2,    25.00,-999.000,9,-999.0000,9, -999.00,9, -999.00,9,  -999.0,9,-999.000,9,-999.000,-999.000,9,-999.000,9,   36.87,2,   46.71,2, -999.00,9, -999.00,9, -999.00,9,-999.000,-999.0000,9,-999.0000,9,-999.0000,9,-999.0000,9,-999.0000,9,-999.0000,9,-999.0000,9,-999.0000,9,-999.0000,9,   4.3666,     -999.0,9,     -999.0,9,     -999.0,9,     -999.0,9,     -999.0,9,     -999.0,9,     -999.0,9,-999.0000, -999.00
33RO20071215,        P18,      22,          1,         15,      12014,2,20071223,       0210,    12.0833,  -110.0000,       3728,  1100.1,   4.1289,  34.5671,2,  34.5674,2,     25.4,2,    25.3,2,  108.90,2,   44.80,2,    0.00,2,    3.19,2,-999.000,9,-999.000,9,-999.0000,9,  2354.0,2,  2373.1,2,   -999.0,9,  -999.00,   7.3599,2,    25.00,-999.000,9,-999.0000,9, -999.00,9, -999.00,9,  -999.0,9,-999.000,9,-999.000,-999.000,9,-999.000,9,   36.09,2,   45.83,2, -999.00,9, -999.00,9, -999.00,9,-999.000,-999.0000,9,-999.0000,9,-999.0000,9,-999.0000,9,-999.0000,9,-999.0000,9,-999.0000,9,-999.0000,9,-999.0000,9,   4.0436,     -999.0,9,     -999.0,9,     -999.0,9,     -999.0,9,     -999.0,9,     -999.0,9,     -999.0,9,-999.0000, -999.00
33RO20071215,        P18,      22,          1,         14,      12013,2,20071223,       0210,    12.0833,  -110.0000,       3728,  1200.0,   3.8184,  34.5763,2,  34.5764,2,     33.2,2,    37.1,2,  115.00,2,   44.40,2,    0.00,2,    3.16,2,   0.000,2,   0.001,2,   0.0000,2,  2355.6,2,  2383.5,2,   -999.0,9,  -999.00,   7.3737,2,    25.00,-999.000,9,-999.0000,9, -999.00,9, -999.00,9,  -999.0,9,-999.000,9,-999.000,-999.000,9,-999.000,9,   36.31,2,   45.63,2, -999.00,9, -999.00,9, -999.00,9,-999.000,-999.0000,9,-999.0000,9,-999.0000,9,-999.0000,9,-999.0000,9,-999.0000,9,-999.0000,9,-999.0000,9,-999.0000,9,   3.7273,     -999.0,9,     -999.0,9,     -999.0,9,     -999.0,9,     -999.0,9,     -999.0,9,     -999.0,9,-999.0000, -999.00
33RO20071215,        P18,      22,          1,         13,      12012,2,20071223,       0210,    12.0833,  -110.0000,       3728,  1300.1,   3.4658,  34.5897,2,  34.5903,2,     43.3,2,    43.0,2,  122.20,2,   43.80,2,    0.00,2,    3.06,2,-999.000,9,-999.000,9,-999.0000,9,  2357.9,2,  2391.2,2,   -999.0,9,  -999.00,   7.3909,2,    25.00,-999.000,9,-999.0000,9, -999.00,9, -999.00,9,  -999.0,9,-999.000,9,-999.000,-999.000,9,-999.000,9,   36.33,2,   45.18,2, -999.00,9, -999.00,9, -999.00,9,-999.000,-999.0000,9,-999.0000,9,-999.0000,9,-999.0000,9,-999.0000,9,-999.0000,9,-999.0000,9,-999.0000,9,-999.0000,9,   3.3696,     -999.0,9,     -999.0,9,     -999.0,9,     -999.0,9,     -999.0,9,     -999.0,9,     -999.0,9,-999.0000, -999.00
33RO20071215,        P18,      22,          1,         12,      12031,2,20071223,       0210,    12.0833,  -110.0000,       3728,  1401.0,   3.2398,  34.5986,2,  34.5995,2,     51.5,2,    51.4,2,  126.90,2,   43.20,2,    0.00,2,    3.01,2,   0.000,2,   0.000,2,   0.0000,2,  2358.2,2,  2396.6,2,   -999.0,9,  -999.00,   7.4059,2,    25.00,-999.000,9,-999.0000,9, -999.00,9, -999.00,9,  -999.0,9,-999.000,9,-999.000,-999.000,9,-999.000,9,   36.88,2,   44.23,2, -999.00,9, -999.00,9, -999.00,9,-999.000,-999.0000,9,-999.0000,9,-999.0000,9,-999.0000,9,-999.0000,9,-999.0000,9,-999.0000,9,-999.0000,9,-999.0000,9,   3.1375,     -999.0,9,     -999.0,9,     -999.0,9,     -999.0,9,     -999.0,9,     -999.0,9,     -999.0,9,-999.0000, -999.00