BOTTLE,20220818CCHSIOAMB
EXPOCODE,SECT_ID,STNNBR,CASTNO,SAMPNO,BTLNBR,BTLNBR_FLAG_W,DATE,TIME,LATITUDE,LONGITUDE,DEPTH,CTDPRS,CTDTMP,CTDSAL,CTDSAL_FLAG_W,SALNTY,SALNTY_FLAG_W,CTDOXY,CTDOXY_FLAG_W,OXYGEN,OXYGEN_FLAG_W,SILCAT,SILCAT_FLAG_W,NITRAT,NITRAT_FLAG_W,NITRIT,NITRIT_FLAG_W,PHSPHT,PHSPHT_FLAG_W,CFC-11,CFC-11_FLAG_W,CFC-12,CFC-12_FLAG_W,SF6,SF6_FLAG_W,TCARBN,TCARBN_FLAG_W,ALKALI,ALKALI_FLAG_W,FCO2,FCO2_FLAG_W,FCO2TMP,PH_SWS,PH_SWS_FLAG_W,PH_TMP,TRITUM,TRITUM_FLAG_W,HELIUM,HELIUM_FLAG_W,DELHE3,DELHE3_FLAG_W,DELC13,DELC13_FLAG_W,DELC14,DELC14_FLAG_W,NEON,NEON_FLAG_W,NEONER,CCL4,CCL4_FLAG_W,POC,POC_FLAG_W,DOC,DOC_FLAG_W,TDN,TDN_FLAG_W,DON,DON_FLAG_W,CHLORA,CHLORA_FLAG_W,ARGON,ARGON_FLAG_W,TRITER,CDOM325,CDOM325_FLAG_W,CDOM340,CDOM340_FLAG_W,CDOM380,CDOM380_FLAG_W,CDOM412,CDOM412_FLAG_W,CDOM443,CDOM443_FLAG_W,CDOM490,CDOM490_FLAG_W,CDOM555,CDOM555_FLAG_W,CDOMSL,CDOMSL_FLAG_W,CDOMSN,CDOMSN_FLAG_W,THETA,D18O_NO3,D18O_NO3_FLAG_W,CDOM2C,CDOM2C_FLAG_W,CDOM3C,CDOM3C_FLAG_W,LAB_DEN,LAB_DEN_FLAG_W,DELSI30,DELSI30_FLAG_W,N2,N2_FLAG_W,D15N_NO3,D15N_NO3_FLAG_W,HELIER,DELHER
,,,,,,,,,,,METERS,DBAR,ITS-90,PSS-78,,PSS-78,,UMOL/KG,,UMOL/KG,,UMOL/KG,,UMOL/KG,,UMOL/KG,,UMOL/KG,,PMOL/KG,,PMOL/KG,,FMOL/KG,,UMOL/KG,,UMOL/KG,,UATM,,DEG C,,,DEG C,TU,,NMOL/KG,,PERCNT,,/MILLE,,/MILLE,,NMOL/KG,,NMOL/KG,PMOL/KG,,UG/KG,,UMOL/KG,,UMOL/KG,,UMOL/KG,,UG/KG,,UMOL/KG,,TU,1/M,,1/M,,1/M,,1/M,,1/M,,1/M,,1/M,,1/NM,,1/NM,,DEG C,/MILLE,,,,,,,,/MILLE,,UMOL/KG,,/MILLE,,NMOL/KG,PERCNT
33RO20071215,        P18,     130,          1,         11,      12003,2,20080201,       0338,   -46.7493,  -103.0002,       3881,  1798.4,   2.4571,  34.5981,2,  34.5977,2,    159.3,2,   159.7,2,   86.90,2,   35.00,2,    0.00,2,    2.43,2,   0.159,2,   0.092,2,   0.0000,2,  2269.8,2,  -999.0,5,   -999.0,9,  -999.00,   7.5496,2,    25.00,-999.000,9,-999.0000,9, -999.00,9, -999.00,9,  -999.0,9,-999.000,9,-999.000,-999.000,9,-999.000,9,   38.84,2,   36.45,2, -999.00,9, -999.00,9, -999.00,9,-999.000,-999.0000,9,-999.0000,9,-999.0000,9,-999.0000,9,-999.0000,9,-999.0000,9,-999.0000,9,-999.0000,9,-999.0000,9,   2.3311,     -999.0,9,     -999.0,9,     -999.0,9,     -999.0,9,     -999.0,9,     -999.0,9,     -999.0,9,-999.0000, -999.00
33RO20071215,        P18,     130,          1,         10,      12032,2,20080201,       0338,   -46.7493,  -103.0002,       3881,  2000.1,   2.3004,  34.6419,2,  34.6421,2,    165.9,2,   166.6,2,   90.20,2,   34.10,2,    0.00,2,    2.37,2,-999.000,9,-999.000,9,-999.0000,9,  2268.7,2,  2350.1,2,   1179.7,2,    20.00,   7.5675,2,    25.00,-999.000,9,-999.0000,9, -999.00,9, -999.00,9,  -999.0,9,-999.000,9,-999.000,-999.000,9,-999.000,9,   38.51,2,   35.54,2, -999.00,9, -999.00,9, -999.00,9,-999.000,-999.0000,9,-999.0000,9,-999.0000,9,-999.0000,9,-999.0000,9,-999.0000,9,-999.0000,9,-999.0000,9,-999.0000,9,   2.1594,     -999.0,9,     -999.0,9,     -999.0,9,     -999.0,9,     -999.0,9,     -999.0,9,     -999.0,9,-999.0000, -999.00
33RO20071215,        P18,     130,          1,          9,      12002,2,20080201,       0338,   -46.7493,  -103.0002,       3881,  2199.6,   2.1411,  34.6743,2,  34.6741,2,    168.3,2,   166.0,3,   96.00,2,   33.70,2,    0.00,2,    2.34,2,   0.107,2,   0.064,2,   0.0000,2,  2271.4,2,  2359.0,2,   -999.0,9,  -999.00,   7.5844,2,    25.00,-999.000,9,-999.0000,9, -999.00,9, -999.00,9,  -999.0,9,-999.000,9,-999.000,   0.115,3,-999.000,9,   39.00,2,   35.23,2, -999.00,9, -999.00,9, -999.00,9,-999.000,-999.0000,9,-999.0000,9,-999.0000,9,-999.0000,9,-999.0000,9,-999.0000,9,-999.0000,9,-999.0000,9,-999.0000,9,   1.9851,     -999.0,9,     -999.0,9,     -999.0,9,     -999.0,9,     -999.0,9,     -999.0,9,     -999.0,9,-999.0000, -999.00
33RO20071215,        P18,     130,          1,          8,      12021,2,20080201,       0338,   -46.7493,  -103.0002,       3881,  2399.8,   2.0025,  34.6916,2,  34.6915,2,    170.6,2,   171.2,2,  101.60,2,   33.40,2,    0.00,2,    2.33,2,-999.000,9,-999.000,9,-999.0000,9,  2273.1,2,  2376.7,2,   1144.3,6,    20.00,   7.5835,2,    25.00,-999.000,9,-999.0000,9, -999.00,9, -999.00,9,  -999.0,9,-999.000,9,-999.000,-999.000,9,-999.000,9,   38.75,2,   34.80,2, -999.00,9, -999.00,9, -999.00,9,-999.000,-999.0000,9,-999.0000,9,-999.0000,9,-999.0000,9,-999.0000,9,-999.0000,9,-999.0000,9,-999.0000,9,-999.0000,9,   1.8311,     -999.0,9,     -999.0,9,     -999.0,9,     -999.0,9,     -999.0,9,     -999.0,9,     -999.0,9,-999.0000, -999.00
33RO20071215,        P18,     130,          1,          7,      12001,2,20080201,       0338,   -46.7493,  -103.0002,       3881,  2599.2,   1.8535,  34.6985,2,  34.6993,2,    172.2,2,   171.8,2,  108.10,2,   33.60,2,    0.00,2,    2.33,2,   0.176,3,   0.108,3,   0.0455,3,  2278.4,2,  -999.0,5,   -999.0,9,  -999.00,   7.5979,2,    25.00,-999.000,9,-999.0000,9, -999.00,9, -999.00,9,  -999.0,9,-999.000,9,-999.000,   0.155,3,-999.000,9,   38.38,2,   34.91,2, -999.00,9, -999.00,9, -999.00,9,-999.000,-999.0000,9,-999.0000,9,-999.0000,9,-999.0000,9,-999.0000,9,-999.0000,9,-999.0000,9,-999.0000,9,-999.0000,9,   1.6666,     -999.0,9,     -999.0,9,     -999.0,9,     -999.0,9,     -999.0,9,     -999.0,9,     -999.0,9,-999.0000, -999.00
33RO20071215,        P18,     130,          1,          6,      12033,2,20080201,       0338,   -46.7493,  -103.0002,       3881,  2799.9,   1.7413,  34.7038,2,  34.7034,2,    175.4,2,   174.5,2,  111.30,2,   33.50,2,    0.00,2,    2.32,2,   0.106,3,   0.065,3,   0.0000,2,  2277.7,2,  -999.0,5,   1122.2,2,    20.00,   7.5913,2,    25.00,-999.000,9,-999.0000,9, -999.00,9, -999.00,9,  -999.0,9,-999.000,9,-999.000,   0.094,3,-999.000,9,   38.41,2,   34.81,2, -999.00,9, -999.00,9, -999.00,9,-999.000,-999.0000,9,-999.0000,9,-999.0000,9,-999.0000,9,-999.0000,9,-999.0000,9,-999.0000,9,-999.0000,9,-999.0000,9,   1.5381,     -999.0,9,     -999.0,9,     -999.0,9,     -999.0,9,     -999.0,9,     -999.0,9,     -999.0,9,-999.0000, -999.00
33RO20071215,        P18,     130,          1,          5,      12008,2,20080201,       0338,   -46.7493,  -103.0002,       3881,  2998.7,   1.6559,  34.7080,2,  34.7075,2,    179.0,2,   179.4,2,  112.90,2,   33.40,2,    0.00,2,    2.31,2,   0.062,2,   0.038,3,   0.0000,2,  2276.6,6,  2382.2,2,   -999.0,9,  -999.00,   7.5934,2,    25.00,-999.000,9,-999.0000,9, -999.00,9, -999.00,9,  -999.0,9,-999.000,9,-999.000,   0.065,3,-999.000,9,   37.69,2,   35.09,2, -999.00,9, -999.00,9, -999.00,9,-999.000,-999.0000,9,-999.0000,9,-999.0000,9,-999.0000,9,-999.0000,9,-999.0000,9,-999.0000,9,-999.0000,9,-999.0000,9,   1.4356,     -999.0,9,     -999.0,9,     -999.0,9,     -999.0,9,     -999.0,9,     -999.0,9,     -999.0,9,-999.0000, -999.00
33RO20071215,        P18,     130,          1,          4,      12009,2,20080201,       0338,   -46.7493,  -103.0002,       3881,  3249.4,   1.5611,  34.7118,2,  34.7109,2,    183.7,2,   183.9,2,  114.70,6,   33.20,6,    0.00,6,    2.29,2,-999.000,9,-999.000,9,-999.0000,9,  2274.5,2,  2354.7,4,   1096.3,2,    20.00,   7.6009,2,    25.00,-999.000,9,-999.0000,9, -999.00,9, -999.00,9,  -999.0,9,-999.000,9,-999.000,-999.000,9,-999.000,9,   37.17,2,   34.58,2, -999.00,9, -999.00,9, -999.00,9,-999.000,-999.0000,9,-999.0000,9,-999.0000,9,-999.0000,9,-999.0000,9,-999.0000,9,-999.0000,9,-999.0000,9,-999.0000,9,   1.3185,     -999.0,9,     -999.0,9,     -999.0,9,     -999.0,9,     -999.0,9,     -999.0,9,     -999.0,9,-999.0000, -999.00
33RO20071215,        P18,     130,          1,          3,      12006,2,20080201,       0338,   -46.7493,  -103.0002,       3881,  3499.5,   1.3774,  34.7113,2,  34.7098,2,    188.3,2,   188.6,2,  120.10,6,   33.20,6,    0.00,6,    2.29,2,   0.153,3,   0.094,3,   0.0623,3,  2276.5,2,  -999.0,5,   -999.0,9,  -999.00,   7.6106,2,    25.00,-999.000,9,-999.0000,9, -999.00,9, -999.00,9,  -999.0,9,-999.000,9,-999.000,   0.141,3,-999.000,9,   38.12,2,   34.66,2, -999.00,9, -999.00,9, -999.00,9,-999.000,-999.0000,9,-999.0000,9,-999.0000,9,-999.0000,9,-999.0000,9,-999.0000,9,-999.0000,9,-999.0000,9,-999.0000,9,   1.1141,     -999.0,9,     -999.0,9,     -999.0,9,     -999.0,9,     -999.0,9,     -999.0,9,     -999.0,9,-999.0000, -999.00
33RO20071215,        P18,     130,          1,          2,      12007,2,20080201,       0338,   -46.7493,  -103.0002,       3881,  3748.6,   1.1615,  34.7104,2,  34.7099,2,    194.0,2,   193.7,2,  125.70,6,   33.30,6,    0.00,6,    2.29,2,-999.000,9,-999.000,9,-999.0000,9,  2277.9,2,  -999.0,5,   -999.0,9,  -999.00,   7.6142,2,    25.00,-999.000,9,-999.0000,9, -999.00,9, -999.00,9,  -999.0,9,-999.000,9,-999.000,-999.000,9,-999.000,9,   38.33,2,   34.79,2, -999.00,9, -999.00,9, -999.00,9,-999.000,-999.0000,9,-999.0000,9,-999.0000,9,-999.0000,9,-999.0000,9,-999.0000,9,-999.0000,9,-999.0000,9,-999.0000,9,   0.8784,     -999.0,9,     -999.0,9,     -999.0,9,     -999.0,9,     -999.0,9,     -999.0,9,     -999.0,9,-999.0000, -999.00
33RO20071215,        P18,     130,          1,          1,      12035,2,20080201,       0338,   -46.7493,  -103.0002,       3881,  3943.8,   1.0038,  34.7104,2,  34.7097,2,    199.4,2,   198.6,2,  129.80,2,   33.10,2,    0.01,2,    2.28,2,   0.038,2,   0.025,2,   0.0000,2,  2276.4,6,  2392.3,2,   1061.8,2,    20.00,   7.6204,2,    25.00,-999.000,9,-999.0000,9, -999.00,9, -999.00,9,  -999.0,9,-999.000,9,-999.000,   0.050,3,-999.000,9,   38.55,2,   34.42,2, -999.00,9, -999.00,9, -999.00,9,-999.000,-999.0000,9,-999.0000,9,-999.0000,9,-999.0000,9,-999.0000,9,-999.0000,9,-999.0000,9,-999.0000,9,-999.0000,9,   0.7046,     -999.0,9,     -999.0,9,     -999.0,9,     -999.0,9,     -999.0,9,     -999.0,9,     -999.0,9,-999.0000, -999.00