BOTTLE,20220818CCHSIOAMB
EXPOCODE,SECT_ID,STNNBR,CASTNO,SAMPNO,BTLNBR,BTLNBR_FLAG_W,DATE,TIME,LATITUDE,LONGITUDE,DEPTH,CTDPRS,CTDTMP,CTDSAL,CTDSAL_FLAG_W,SALNTY,SALNTY_FLAG_W,CTDOXY,CTDOXY_FLAG_W,OXYGEN,OXYGEN_FLAG_W,SILCAT,SILCAT_FLAG_W,NITRAT,NITRAT_FLAG_W,NITRIT,NITRIT_FLAG_W,PHSPHT,PHSPHT_FLAG_W,CFC-11,CFC-11_FLAG_W,CFC-12,CFC-12_FLAG_W,SF6,SF6_FLAG_W,TCARBN,TCARBN_FLAG_W,ALKALI,ALKALI_FLAG_W,FCO2,FCO2_FLAG_W,FCO2TMP,PH_SWS,PH_SWS_FLAG_W,PH_TMP,TRITUM,TRITUM_FLAG_W,HELIUM,HELIUM_FLAG_W,DELHE3,DELHE3_FLAG_W,DELC13,DELC13_FLAG_W,DELC14,DELC14_FLAG_W,NEON,NEON_FLAG_W,NEONER,CCL4,CCL4_FLAG_W,POC,POC_FLAG_W,DOC,DOC_FLAG_W,TDN,TDN_FLAG_W,DON,DON_FLAG_W,CHLORA,CHLORA_FLAG_W,ARGON,ARGON_FLAG_W,TRITER,CDOM325,CDOM325_FLAG_W,CDOM340,CDOM340_FLAG_W,CDOM380,CDOM380_FLAG_W,CDOM412,CDOM412_FLAG_W,CDOM443,CDOM443_FLAG_W,CDOM490,CDOM490_FLAG_W,CDOM555,CDOM555_FLAG_W,CDOMSL,CDOMSL_FLAG_W,CDOMSN,CDOMSN_FLAG_W,THETA,D18O_NO3,D18O_NO3_FLAG_W,CDOM2C,CDOM2C_FLAG_W,CDOM3C,CDOM3C_FLAG_W,LAB_DEN,LAB_DEN_FLAG_W,DELSI30,DELSI30_FLAG_W,N2,N2_FLAG_W,D15N_NO3,D15N_NO3_FLAG_W,HELIER,DELHER
,,,,,,,,,,,METERS,DBAR,ITS-90,PSS-78,,PSS-78,,UMOL/KG,,UMOL/KG,,UMOL/KG,,UMOL/KG,,UMOL/KG,,UMOL/KG,,PMOL/KG,,PMOL/KG,,FMOL/KG,,UMOL/KG,,UMOL/KG,,UATM,,DEG C,,,DEG C,TU,,NMOL/KG,,PERCNT,,/MILLE,,/MILLE,,NMOL/KG,,NMOL/KG,PMOL/KG,,UG/KG,,UMOL/KG,,UMOL/KG,,UMOL/KG,,UG/KG,,UMOL/KG,,TU,1/M,,1/M,,1/M,,1/M,,1/M,,1/M,,1/M,,1/NM,,1/NM,,DEG C,/MILLE,,,,,,,,/MILLE,,UMOL/KG,,/MILLE,,NMOL/KG,PERCNT
33RO20071215,        P18,     104,          1,         11,      12003,2,20080124,       1332,   -31.5828,  -103.0005,       3448,  1530.0,   2.8593,  34.5598,2,  34.5602,2,    130.6,2,   130.7,2,   92.90,2,   37.50,2,    0.00,2,    2.64,2,   0.001,4,   0.002,4,   0.0000,2,  2287.9,2,  -999.0,9,   -999.0,9,  -999.00,   7.5273,2,    25.00,-999.000,9,-999.0000,9, -999.00,9, -999.00,9,  -999.0,9,-999.000,9,-999.000,-999.000,9,-999.000,9,   36.59,2,   39.20,2, -999.00,9, -999.00,9, -999.00,9,-999.000,   0.1187,2,   0.0790,2,   0.0408,2,   0.0277,2,   0.0168,2,   0.0062,2,   0.0012,2,   0.0156,2,   0.0177,2,   2.7506,     -999.0,9,     -999.0,9,     -999.0,9,     -999.0,9,     -999.0,9,     -999.0,9,     -999.0,9,-999.0000, -999.00
33RO20071215,        P18,     104,          1,         10,      12032,2,20080124,       1332,   -31.5828,  -103.0005,       3448,  1667.0,   2.5821,  34.5838,2,  34.5830,2,    142.0,2,   141.8,2,   97.40,2,   36.50,2,    0.00,2,    2.57,2,-999.000,9,-999.000,9,-999.0000,9,  -999.0,9,  -999.0,9,   -999.0,9,  -999.00,-999.0000,9,  -999.00,-999.000,9,-999.0000,9, -999.00,9, -999.00,9,  -999.0,9,-999.000,9,-999.000,-999.000,9,-999.000,9,   36.60,2,   37.54,2, -999.00,9, -999.00,9, -999.00,9,-999.000,   0.1127,2,   0.0741,2,   0.0372,2,   0.0246,2,   0.0145,2,   0.0048,2,   0.0005,3,   0.0163,2,   0.0186,2,   2.4654,     -999.0,9,     -999.0,9,     -999.0,9,     -999.0,9,     -999.0,9,     -999.0,9,     -999.0,9,-999.0000, -999.00
33RO20071215,        P18,     104,          1,          9,      12002,2,20080124,       1332,   -31.5828,  -103.0005,       3448,  1877.4,   2.2624,  34.6212,2,  34.6215,2,    152.3,2,   151.9,2,  104.50,2,   35.50,2,    0.00,2,    2.48,2,-999.000,9,-999.000,9,-999.0000,9,  2286.4,2,  -999.0,9,   -999.0,9,  -999.00,   7.5527,2,    25.00,-999.000,9,-999.0000,9, -999.00,9, -999.00,9,  -999.0,9,-999.000,9,-999.000,-999.000,9,-999.000,9,   36.71,2,   36.80,2, -999.00,9, -999.00,9, -999.00,9,-999.000,   0.1104,2,   0.0720,2,   0.0353,2,   0.0230,2,   0.0133,2,   0.0044,2,   0.0004,3,   0.0167,2,   0.0194,2,   2.1323,     -999.0,9,     -999.0,9,     -999.0,9,     -999.0,9,     -999.0,9,     -999.0,9,     -999.0,9,-999.0000, -999.00
33RO20071215,        P18,     104,          1,          8,      12021,2,20080124,       1332,   -31.5828,  -103.0005,       3448,  2067.0,   2.0666,  34.6488,2,  34.6480,2,    157.3,2,   157.9,2,  109.60,2,   35.10,2,    0.00,2,    2.42,2,   0.003,2,   0.002,2,   0.0000,2,  -999.0,9,  -999.0,9,   -999.0,9,  -999.00,-999.0000,9,  -999.00,-999.000,9,-999.0000,9, -999.00,9, -999.00,9,  -999.0,9,-999.000,9,-999.000,   0.016,3,-999.000,9,   36.95,2,   36.38,2, -999.00,9, -999.00,9, -999.00,9,-999.000,   0.1171,2,   0.0780,2,   0.0395,2,   0.0261,2,   0.0157,2,   0.0059,2,   0.0013,2,   0.0160,2,   0.0182,2,   1.9234,     -999.0,9,     -999.0,9,     -999.0,9,     -999.0,9,     -999.0,9,     -999.0,9,     -999.0,9,-999.0000, -999.00
33RO20071215,        P18,     104,          1,          7,      12001,2,20080124,       1332,   -31.5828,  -103.0005,       3448,  2265.0,   1.9007,  34.6662,2,  34.6668,2,    160.8,2,   160.8,2,  116.00,2,   34.90,2,    0.00,2,    2.41,2,-999.000,9,-999.000,9,-999.0000,9,  2291.0,2,  2368.3,4,   -999.0,9,  -999.00,   7.5809,2,    25.00,-999.000,9,-999.0000,9, -999.00,9, -999.00,9,  -999.0,9,-999.000,9,-999.000,-999.000,9,-999.000,9,   36.71,2,   35.79,2, -999.00,9, -999.00,9, -999.00,9,-999.000,   0.1131,2,   0.0747,2,   0.0365,2,   0.0234,2,   0.0138,2,   0.0048,2,   0.0007,2,   0.0168,2,   0.0193,2,   1.7431,     -999.0,9,     -999.0,9,     -999.0,9,     -999.0,9,     -999.0,9,     -999.0,9,     -999.0,9,-999.0000, -999.00
33RO20071215,        P18,     104,          1,          6,      12033,2,20080124,       1332,   -31.5828,  -103.0005,       3448,  2465.7,   1.8098,  34.6760,2,  34.6770,2,    162.8,2,   163.2,2,  119.10,2,   34.70,2,    0.00,2,    2.41,2,-999.000,9,-999.000,9,-999.0000,9,  -999.0,9,  -999.0,9,   -999.0,9,  -999.00,-999.0000,9,  -999.00,-999.000,9,-999.0000,9, -999.00,9, -999.00,9,  -999.0,9,-999.000,9,-999.000,-999.000,9,-999.000,9,   36.94,2,   35.90,2, -999.00,9, -999.00,9, -999.00,9,-999.000,   0.1071,2,   0.0691,2,   0.0328,2,   0.0204,2,   0.0116,2,   0.0036,2,   0.0002,3,   0.0177,2,   0.0206,2,   1.6360,     -999.0,9,     -999.0,9,     -999.0,9,     -999.0,9,     -999.0,9,     -999.0,9,     -999.0,9,-999.0000, -999.00
33RO20071215,        P18,     104,          1,          5,      12008,2,20080124,       1332,   -31.5828,  -103.0005,       3448,  2667.1,   1.7807,  34.6813,2,  34.6812,2,    164.3,2,   164.3,2,  120.20,2,   34.70,2,    0.00,2,    2.41,2,-999.000,9,-999.000,9,-999.0000,9,  2293.3,2,  -999.0,9,   -999.0,9,  -999.00,   7.5445,2,    25.00,-999.000,9,-999.0000,9, -999.00,9, -999.00,9,  -999.0,9,-999.000,9,-999.000,-999.000,9,-999.000,9,   37.07,2,   36.21,2, -999.00,9, -999.00,9, -999.00,9,-999.000,   0.1077,2,   0.0696,2,   0.0333,2,   0.0206,2,   0.0117,2,   0.0038,2,   0.0002,4,   0.0177,2,   0.0204,2,   1.5891,     -999.0,9,     -999.0,9,     -999.0,9,     -999.0,9,     -999.0,9,     -999.0,9,     -999.0,9,-999.0000, -999.00
33RO20071215,        P18,     104,          1,          4,      12009,2,20080124,       1332,   -31.5828,  -103.0005,       3448,  2866.2,   1.7709,  34.6854,2,  34.6832,2,    165.7,2,   165.7,2,  120.50,6,   34.50,6,    0.00,6,    2.39,2,   0.001,2,   0.001,2,   0.0000,2,  -999.0,9,  -999.0,9,   -999.0,9,  -999.00,-999.0000,9,  -999.00,-999.000,9,-999.0000,9, -999.00,9, -999.00,9,  -999.0,9,-999.000,9,-999.000,   0.004,3,-999.000,9,   36.93,2,   36.13,2, -999.00,9, -999.00,9, -999.00,9,-999.000,   0.1086,2,   0.0707,2,   0.0342,2,   0.0214,2,   0.0124,2,   0.0044,2,   0.0006,2,   0.0173,2,   0.0200,2,   1.5609,     -999.0,9,     -999.0,9,     -999.0,9,     -999.0,9,     -999.0,9,     -999.0,9,     -999.0,9,-999.0000, -999.00
33RO20071215,        P18,     104,          1,          3,      12006,2,20080124,       1332,   -31.5828,  -103.0005,       3448,  3084.1,   1.7730,  34.6886,2,  34.6882,2,    166.6,2,   166.4,2,  120.50,6,   34.40,6,    0.00,6,    2.39,2,-999.000,9,-999.000,9,-999.0000,9,  2293.4,2,  -999.0,9,   -999.0,9,  -999.00,   7.5900,2,    25.00,-999.000,9,-999.0000,9, -999.00,9, -999.00,9,  -999.0,9,-999.000,9,-999.000,-999.000,9,-999.000,9,   36.57,2,   35.96,2, -999.00,9, -999.00,9, -999.00,9,-999.000,   0.1115,2,   0.0728,2,   0.0353,2,   0.0220,2,   0.0129,2,   0.0044,2,   0.0004,3,   0.0173,2,   0.0199,2,   1.5419,     -999.0,9,     -999.0,9,     -999.0,9,     -999.0,9,     -999.0,9,     -999.0,9,     -999.0,9,-999.0000, -999.00
33RO20071215,        P18,     104,          1,          2,      12007,2,20080124,       1332,   -31.5828,  -103.0005,       3448,  3335.0,   1.7830,  34.6904,2,  34.6900,2,    167.5,2,   167.1,2,  120.20,6,   34.50,6,    0.00,6,    2.38,2,-999.000,9,-999.000,9,-999.0000,9,  -999.0,9,  -999.0,9,   -999.0,9,  -999.00,-999.0000,9,  -999.00,-999.000,9,-999.0000,9, -999.00,9, -999.00,9,  -999.0,9,-999.000,9,-999.000,-999.000,9,-999.000,9,   36.81,2,   35.80,2, -999.00,9, -999.00,9, -999.00,9,-999.000,   0.1136,2,   0.0748,2,   0.0369,2,   0.0235,2,   0.0142,2,   0.0058,3,   0.0015,3,   0.0166,2,   0.0191,2,   1.5266,     -999.0,9,     -999.0,9,     -999.0,9,     -999.0,9,     -999.0,9,     -999.0,9,     -999.0,9,-999.0000, -999.00
33RO20071215,        P18,     104,          1,          1,      12035,2,20080124,       1332,   -31.5828,  -103.0005,       3448,  3484.7,   1.7917,  34.6912,2,  34.6911,2,    168.0,2,   167.9,2,  120.60,2,   34.40,2,    0.00,2,    2.37,2,   0.000,6,   0.000,6,   0.0000,6,  2293.4,6,  2394.3,2,   -999.0,9,  -999.00,   7.5862,2,    25.00,-999.000,9,-999.0000,9, -999.00,9, -999.00,9,  -999.0,9,-999.000,9,-999.000,   0.000,3,-999.000,9,   38.05,2,   36.02,2, -999.00,9, -999.00,9, -999.00,9,-999.000,   0.1061,2,   0.0682,2,   0.0319,2,   0.0194,2,   0.0106,2,   0.0031,2,  -0.0002,4,   0.0183,2,   0.0211,2,   1.5197,     -999.0,9,     -999.0,9,     -999.0,9,     -999.0,9,     -999.0,9,     -999.0,9,     -999.0,9,-999.0000, -999.00