BOTTLE,20220818CCHSIOAMB
EXPOCODE,SECT_ID,STNNBR,CASTNO,SAMPNO,BTLNBR,BTLNBR_FLAG_W,DATE,TIME,LATITUDE,LONGITUDE,DEPTH,CTDPRS,CTDTMP,CTDSAL,CTDSAL_FLAG_W,SALNTY,SALNTY_FLAG_W,CTDOXY,CTDOXY_FLAG_W,OXYGEN,OXYGEN_FLAG_W,SILCAT,SILCAT_FLAG_W,NITRAT,NITRAT_FLAG_W,NITRIT,NITRIT_FLAG_W,PHSPHT,PHSPHT_FLAG_W,CFC-11,CFC-11_FLAG_W,CFC-12,CFC-12_FLAG_W,SF6,SF6_FLAG_W,TCARBN,TCARBN_FLAG_W,ALKALI,ALKALI_FLAG_W,FCO2,FCO2_FLAG_W,FCO2TMP,PH_SWS,PH_SWS_FLAG_W,PH_TMP,TRITUM,TRITUM_FLAG_W,HELIUM,HELIUM_FLAG_W,DELHE3,DELHE3_FLAG_W,DELC13,DELC13_FLAG_W,DELC14,DELC14_FLAG_W,NEON,NEON_FLAG_W,NEONER,CCL4,CCL4_FLAG_W,POC,POC_FLAG_W,DOC,DOC_FLAG_W,TDN,TDN_FLAG_W,DON,DON_FLAG_W,CHLORA,CHLORA_FLAG_W,ARGON,ARGON_FLAG_W,TRITER,CDOM325,CDOM325_FLAG_W,CDOM340,CDOM340_FLAG_W,CDOM380,CDOM380_FLAG_W,CDOM412,CDOM412_FLAG_W,CDOM443,CDOM443_FLAG_W,CDOM490,CDOM490_FLAG_W,CDOM555,CDOM555_FLAG_W,CDOMSL,CDOMSL_FLAG_W,CDOMSN,CDOMSN_FLAG_W,THETA,D18O_NO3,D18O_NO3_FLAG_W,CDOM2C,CDOM2C_FLAG_W,CDOM3C,CDOM3C_FLAG_W,LAB_DEN,LAB_DEN_FLAG_W,DELSI30,DELSI30_FLAG_W,N2,N2_FLAG_W,D15N_NO3,D15N_NO3_FLAG_W,HELIER,DELHER
,,,,,,,,,,,METERS,DBAR,ITS-90,PSS-78,,PSS-78,,UMOL/KG,,UMOL/KG,,UMOL/KG,,UMOL/KG,,UMOL/KG,,UMOL/KG,,PMOL/KG,,PMOL/KG,,FMOL/KG,,UMOL/KG,,UMOL/KG,,UATM,,DEG C,,,DEG C,TU,,NMOL/KG,,PERCNT,,/MILLE,,/MILLE,,NMOL/KG,,NMOL/KG,PMOL/KG,,UG/KG,,UMOL/KG,,UMOL/KG,,UMOL/KG,,UG/KG,,UMOL/KG,,TU,1/M,,1/M,,1/M,,1/M,,1/M,,1/M,,1/M,,1/NM,,1/NM,,DEG C,/MILLE,,,,,,,,/MILLE,,UMOL/KG,,/MILLE,,NMOL/KG,PERCNT
33RO20071215,        P18,      70,          1,         11,      12003,2,20080107,       2335,   -11.7497,  -103.0008,       4153,  1866.8,   2.4001,  34.6318,2,  34.6319,2,    115.0,2,   114.9,2,  127.60,2,   38.60,2,    0.00,2,    2.71,2,-999.000,9,-999.000,9,-999.0000,9,  2328.7,2,  2398.8,2,   -999.0,9,  -999.00,   7.5138,2,    25.00,-999.000,9,-999.0000,9, -999.00,9, -999.00,9,  -999.0,9,-999.000,9,-999.000,-999.000,9,-999.000,9, -999.00,9, -999.00,9, -999.00,9, -999.00,9, -999.00,9,-999.000,-999.0000,9,-999.0000,9,-999.0000,9,-999.0000,9,-999.0000,9,-999.0000,9,-999.0000,9,-999.0000,9,-999.0000,9,   2.2690,     -999.0,9,     -999.0,9,     -999.0,9,     -999.0,9,     -999.0,1,     -999.0,9,     -999.0,9,-999.0000, -999.00
33RO20071215,        P18,      70,          1,         10,      12032,2,20080107,       2335,   -11.7497,  -103.0008,       4153,  2066.4,   2.1902,  34.6455,2,  34.6454,2,    123.9,2,   124.2,2,  130.70,2,   38.00,2,    0.00,2,    2.64,2,-999.000,9,-999.000,9,-999.0000,9,  2326.9,6,  2403.0,2,   -999.0,9,  -999.00,   7.5253,2,    25.00,-999.000,9,-999.0000,9, -999.00,9, -999.00,9,  -999.0,9,-999.000,9,-999.000,-999.000,9,-999.000,9, -999.00,9, -999.00,9, -999.00,9, -999.00,9, -999.00,9,-999.000,-999.0000,9,-999.0000,9,-999.0000,9,-999.0000,9,-999.0000,9,-999.0000,9,-999.0000,9,-999.0000,9,-999.0000,9,   2.0451,     -999.0,9,     -999.0,9,     -999.0,9,     -999.0,9,     -999.0,9,     -999.0,9,     -999.0,9,-999.0000, -999.00
33RO20071215,        P18,      70,          1,          9,      12002,2,20080107,       2335,   -11.7497,  -103.0008,       4153,  2265.8,   1.9903,  34.6602,2,  34.6606,2,    131.8,2,   132.1,2,  134.00,2,   37.40,2,    0.00,2,    2.59,2,-999.000,9,-999.000,9,-999.0000,9,  2326.8,2,  2409.8,2,   -999.0,9,  -999.00,   7.5502,2,    25.00,-999.000,9,-999.0000,9, -999.00,9, -999.00,9,  -999.0,9,-999.000,9,-999.000,-999.000,9,-999.000,9, -999.00,9, -999.00,9, -999.00,9, -999.00,9, -999.00,9,-999.000,-999.0000,9,-999.0000,9,-999.0000,9,-999.0000,9,-999.0000,9,-999.0000,9,-999.0000,9,-999.0000,9,-999.0000,9,   1.8311,     -999.0,9,     -999.0,9,     -999.0,9,     -999.0,9,     -999.0,1,     -999.0,9,     -999.0,9,-999.0000, -999.00
33RO20071215,        P18,      70,          1,          8,      12021,2,20080107,       2335,   -11.7497,  -103.0008,       4153,  2465.8,   1.8740,  34.6698,2,  34.6709,2,    138.3,2,   138.5,2,  135.00,2,   36.90,2,    0.00,2,    2.54,2,-999.000,9,-999.000,9,-999.0000,9,  2324.7,2,  2413.3,2,   -999.0,9,  -999.00,   7.5641,2,    25.00,-999.000,9,-999.0000,9, -999.00,9, -999.00,9,  -999.0,9,-999.000,9,-999.000,-999.000,9,-999.000,9, -999.00,9, -999.00,9, -999.00,9, -999.00,9, -999.00,9,-999.000,-999.0000,9,-999.0000,9,-999.0000,9,-999.0000,9,-999.0000,9,-999.0000,9,-999.0000,9,-999.0000,9,-999.0000,9,   1.6990,     -999.0,9,     -999.0,9,     -999.0,9,     -999.0,9,     -999.0,9,     -999.0,9,     -999.0,9,-999.0000, -999.00
33RO20071215,        P18,      70,          1,          7,      12001,2,20080107,       2335,   -11.7497,  -103.0008,       4153,  2666.5,   1.8087,  34.6749,2,  34.6754,2,    137.6,2,   137.8,2,  140.40,2,   37.00,2,    0.00,2,    2.55,2,-999.000,9,-999.000,9,-999.0000,9,  2330.1,2,  2422.3,2,   -999.0,9,  -999.00,   7.5551,2,    25.00,-999.000,9,-999.0000,9, -999.00,9, -999.00,9,  -999.0,9,-999.000,9,-999.000,-999.000,9,-999.000,9, -999.00,9, -999.00,9, -999.00,9, -999.00,9, -999.00,9,-999.000,-999.0000,9,-999.0000,9,-999.0000,9,-999.0000,9,-999.0000,9,-999.0000,9,-999.0000,9,-999.0000,9,-999.0000,9,   1.6166,     -999.0,9,     -999.0,9,     -999.0,9,     -999.0,9,     -999.0,9,     -999.0,9,     -999.0,9,-999.0000, -999.00
33RO20071215,        P18,      70,          1,          6,      12033,2,20080107,       2335,   -11.7497,  -103.0008,       4153,  2867.0,   1.7756,  34.6776,2,  34.6798,2,    137.6,2,   138.0,2,  143.40,2,   37.10,2,    0.00,2,    2.55,2,-999.000,9,-999.000,9,-999.0000,9,  2332.3,2,  2421.2,2,   -999.0,9,  -999.00,   7.5596,2,    25.00,-999.000,9,-999.0000,9, -999.00,9, -999.00,9,  -999.0,9,-999.000,9,-999.000,-999.000,9,-999.000,9, -999.00,9, -999.00,9, -999.00,9, -999.00,9, -999.00,9,-999.000,-999.0000,9,-999.0000,9,-999.0000,9,-999.0000,9,-999.0000,9,-999.0000,9,-999.0000,9,-999.0000,9,-999.0000,9,   1.5654,     -999.0,9,     -999.0,9,     -999.0,9,     -999.0,9,     -999.0,1,     -999.0,9,     -999.0,9,-999.0000, -999.00
33RO20071215,        P18,      70,          1,          5,      12008,2,20080107,       2335,   -11.7497,  -103.0008,       4153,  3082.4,   1.7716,  34.6777,2,  34.6777,2,    137.6,2,   137.5,2,  145.90,2,   37.20,2,    0.00,2,    2.55,2,-999.000,9,-999.000,9,-999.0000,9,  2334.9,2,  2425.1,2,   -999.0,9,  -999.00,   7.5496,2,    25.00,-999.000,9,-999.0000,9, -999.00,9, -999.00,9,  -999.0,9,-999.000,9,-999.000,-999.000,9,-999.000,9, -999.00,9, -999.00,9, -999.00,9, -999.00,9, -999.00,9,-999.000,-999.0000,9,-999.0000,9,-999.0000,9,-999.0000,9,-999.0000,9,-999.0000,9,-999.0000,9,-999.0000,9,-999.0000,9,   1.5407,     -999.0,9,     -999.0,9,     -999.0,9,     -999.0,9,     -999.0,9,     -999.0,9,     -999.0,9,-999.0000, -999.00
33RO20071215,        P18,      70,          1,          4,      12009,2,20080107,       2335,   -11.7497,  -103.0008,       4153,  3331.9,   1.7691,  34.6782,2,  34.6794,2,    137.3,2,   137.0,2,  148.20,6,   37.10,6,    0.00,6,    2.55,2,-999.000,9,-999.000,9,-999.0000,9,  2336.5,2,  2427.7,2,   -999.0,9,  -999.00,   7.5722,2,    25.00,-999.000,9,-999.0000,9, -999.00,9, -999.00,9,  -999.0,9,-999.000,9,-999.000,-999.000,9,-999.000,9, -999.00,9, -999.00,9, -999.00,9, -999.00,9, -999.00,9,-999.000,-999.0000,9,-999.0000,9,-999.0000,9,-999.0000,9,-999.0000,9,-999.0000,9,-999.0000,9,-999.0000,9,-999.0000,9,   1.5134,     -999.0,9,     -999.0,9,     -999.0,9,     -999.0,9,     -999.0,9,     -999.0,9,     -999.0,9,-999.0000, -999.00
33RO20071215,        P18,      70,          1,          3,      12006,2,20080107,       2335,   -11.7497,  -103.0008,       4153,  3582.9,   1.7787,  34.6786,2,  34.6788,2,    137.2,2,   137.3,2,  149.30,6,   37.20,6,    0.00,6,    2.56,2,-999.000,9,-999.000,9,-999.0000,9,  2336.9,2,  2428.5,2,   -999.0,9,  -999.00,   7.6029,2,    25.00,-999.000,9,-999.0000,9, -999.00,9, -999.00,9,  -999.0,9,-999.000,9,-999.000,-999.000,9,-999.000,9, -999.00,9, -999.00,9, -999.00,9, -999.00,9, -999.00,9,-999.000,-999.0000,9,-999.0000,9,-999.0000,9,-999.0000,9,-999.0000,9,-999.0000,9,-999.0000,9,-999.0000,9,-999.0000,9,   1.4968,     -999.0,9,     -999.0,9,     -999.0,9,     -999.0,9,     -999.0,1,     -999.0,9,     -999.0,9,-999.0000, -999.00
33RO20071215,        P18,      70,          1,          2,      12007,2,20080107,       2335,   -11.7497,  -103.0008,       4153,  3832.0,   1.7976,  34.6788,2,  34.6797,2,    137.3,2,   137.5,2,  150.00,6,   37.20,6,    0.00,6,    2.56,2,-999.000,9,-999.000,9,-999.0000,9,  2333.2,3,  2428.3,2,   -999.0,9,  -999.00,   7.5736,2,    25.00,-999.000,9,-999.0000,9, -999.00,9, -999.00,9,  -999.0,9,-999.000,9,-999.000,-999.000,9,-999.000,9, -999.00,9, -999.00,9, -999.00,9, -999.00,9, -999.00,9,-999.000,-999.0000,9,-999.0000,9,-999.0000,9,-999.0000,9,-999.0000,9,-999.0000,9,-999.0000,9,-999.0000,9,-999.0000,9,   1.4887,     -999.0,9,     -999.0,9,     -999.0,9,     -999.0,9,     -999.0,1,     -999.0,9,     -999.0,9,-999.0000, -999.00
33RO20071215,        P18,      70,          1,          1,      12035,2,20080107,       2335,   -11.7497,  -103.0008,       4153,  4196.8,   1.8345,  34.6788,2,  34.6805,2,    137.7,2,   137.3,2,  150.20,2,   37.20,2,    0.00,2,    2.55,2,-999.000,9,-999.000,9,-999.0000,9,  2338.8,6,  2430.3,2,   -999.0,9,  -999.00,   7.5728,2,    25.00,-999.000,9,-999.0000,9, -999.00,9, -999.00,9,  -999.0,9,-999.000,9,-999.000,-999.000,9,-999.000,9, -999.00,9, -999.00,9, -999.00,9, -999.00,9, -999.00,9,-999.000,-999.0000,9,-999.0000,9,-999.0000,9,-999.0000,9,-999.0000,9,-999.0000,9,-999.0000,9,-999.0000,9,-999.0000,9,   1.4841,     -999.0,9,     -999.0,9,     -999.0,9,     -999.0,9,     -999.0,1,     -999.0,9,     -999.0,9,-999.0000, -999.00