BOTTLE,20220818CCHSIOAMB
EXPOCODE,SECT_ID,STNNBR,CASTNO,SAMPNO,BTLNBR,BTLNBR_FLAG_W,DATE,TIME,LATITUDE,LONGITUDE,DEPTH,CTDPRS,CTDTMP,CTDSAL,CTDSAL_FLAG_W,SALNTY,SALNTY_FLAG_W,CTDOXY,CTDOXY_FLAG_W,OXYGEN,OXYGEN_FLAG_W,SILCAT,SILCAT_FLAG_W,NITRAT,NITRAT_FLAG_W,NITRIT,NITRIT_FLAG_W,PHSPHT,PHSPHT_FLAG_W,CFC-11,CFC-11_FLAG_W,CFC-12,CFC-12_FLAG_W,SF6,SF6_FLAG_W,TCARBN,TCARBN_FLAG_W,ALKALI,ALKALI_FLAG_W,FCO2,FCO2_FLAG_W,FCO2TMP,PH_SWS,PH_SWS_FLAG_W,PH_TMP,TRITUM,TRITUM_FLAG_W,HELIUM,HELIUM_FLAG_W,DELHE3,DELHE3_FLAG_W,DELC13,DELC13_FLAG_W,DELC14,DELC14_FLAG_W,NEON,NEON_FLAG_W,NEONER,CCL4,CCL4_FLAG_W,POC,POC_FLAG_W,DOC,DOC_FLAG_W,TDN,TDN_FLAG_W,DON,DON_FLAG_W,CHLORA,CHLORA_FLAG_W,ARGON,ARGON_FLAG_W,TRITER,CDOM325,CDOM325_FLAG_W,CDOM340,CDOM340_FLAG_W,CDOM380,CDOM380_FLAG_W,CDOM412,CDOM412_FLAG_W,CDOM443,CDOM443_FLAG_W,CDOM490,CDOM490_FLAG_W,CDOM555,CDOM555_FLAG_W,CDOMSL,CDOMSL_FLAG_W,CDOMSN,CDOMSN_FLAG_W,THETA,D18O_NO3,D18O_NO3_FLAG_W,CDOM2C,CDOM2C_FLAG_W,CDOM3C,CDOM3C_FLAG_W,LAB_DEN,LAB_DEN_FLAG_W,DELSI30,DELSI30_FLAG_W,N2,N2_FLAG_W,D15N_NO3,D15N_NO3_FLAG_W,HELIER,DELHER
,,,,,,,,,,,METERS,DBAR,ITS-90,PSS-78,,PSS-78,,UMOL/KG,,UMOL/KG,,UMOL/KG,,UMOL/KG,,UMOL/KG,,UMOL/KG,,PMOL/KG,,PMOL/KG,,FMOL/KG,,UMOL/KG,,UMOL/KG,,UATM,,DEG C,,,DEG C,TU,,NMOL/KG,,PERCNT,,/MILLE,,/MILLE,,NMOL/KG,,NMOL/KG,PMOL/KG,,UG/KG,,UMOL/KG,,UMOL/KG,,UMOL/KG,,UG/KG,,UMOL/KG,,TU,1/M,,1/M,,1/M,,1/M,,1/M,,1/M,,1/M,,1/NM,,1/NM,,DEG C,/MILLE,,,,,,,,/MILLE,,UMOL/KG,,/MILLE,,NMOL/KG,PERCNT
33RO20071215,        S4P,     173,          1,         24,      11024,2,20080216,       1329,   -67.0005,  -107.2502,       4643,     4.1,   1.6976,  33.8928,2,-999.0000,9,    332.3,2,   329.5,2,    7.40,2,   24.50,2,    0.26,2,    1.51,2,   5.726,2,   3.153,2,   2.2887,2,  2142.4,6,  2287.2,2,    745.2,2,    20.00,   7.7431,2,    25.00,-999.000,9,-999.0000,9, -999.00,9,    1.54,2,  -999.0,1,-999.000,9,-999.000,-999.000,9,-999.000,9,   45.54,2,   29.02,2, -999.00,1,    0.34,2, -999.00,1,-999.000,   0.1100,2,   0.0751,2,   0.0375,2,   0.0271,2,   0.0148,2,   0.0053,2,  -0.0013,4,   0.0074,2,   0.0177,2,   1.6974,     -999.0,1,     -999.0,9,     -999.0,9,     -999.0,9,     -999.0,9,     -999.0,1,     -999.0,9,-999.0000, -999.00
33RO20071215,        S4P,     173,          1,         23,      11023,2,20080216,       1329,   -67.0005,  -107.2502,       4643,    33.3,   1.7035,  33.8942,2,  33.8987,2,    329.2,2,   329.6,2,    7.40,2,   24.60,2,    0.26,2,    1.52,2,   5.725,2,   3.148,2,   2.2411,2,  2142.8,2,  2283.8,2,   -999.0,9,  -999.00,   7.7535,2,    25.00,-999.000,9,-999.0000,9, -999.00,9, -999.00,9,  -999.0,9,-999.000,9,-999.000,-999.000,9,-999.000,9,   45.25,2,   28.84,2, -999.00,1,    0.37,2, -999.00,9,-999.000,   0.1012,2,   0.0688,2,   0.0344,2,   0.0251,2,   0.0132,2,   0.0043,2,  -0.0019,4,   0.0062,2,   0.0178,2,   1.7019,     -999.0,9,     -999.0,9,     -999.0,9,     -999.0,1,     -999.0,9,     -999.0,9,     -999.0,9,-999.0000, -999.00
33RO20071215,        S4P,     173,          1,         22,      11022,2,20080216,       1329,   -67.0005,  -107.2502,       4643,    58.0,   1.6625,  33.8963,2,  33.8998,2,    330.3,2,   330.6,2,    9.50,2,   24.90,2,    0.25,2,    1.58,2,   5.813,2,   3.196,2,   2.3059,2,  2145.0,2,  2281.2,2,    752.0,6,    20.00,   7.7438,2,    25.00,-999.000,9,-999.0000,9, -999.00,9, -999.00,9,  -999.0,9,-999.000,9,-999.000,-999.000,9,-999.000,9,   44.69,2,   28.80,2, -999.00,1,    0.37,2, -999.00,9,-999.000,   0.1012,2,   0.0687,2,   0.0346,2,   0.0253,2,   0.0132,2,   0.0044,2,  -0.0020,4,   0.0061,2,   0.0178,2,   1.6597,     -999.0,9,     -999.0,9,     -999.0,9,     -999.0,1,     -999.0,9,     -999.0,9,     -999.0,9,-999.0000, -999.00
33RO20071215,        S4P,     173,          1,         21,      11021,2,20080216,       1329,   -67.0005,  -107.2502,       4643,    83.6,   0.3092,  33.9391,2,  33.9473,2,    333.1,2,   333.4,2,   28.40,2,   27.10,2,    0.24,2,    2.02,2,-999.000,9,-999.000,9,-999.0000,9,  2165.0,2,  2285.1,2,   -999.0,9,  -999.00,   7.6987,2,    25.00,-999.000,9,-999.0000,9, -999.00,9, -999.00,9,  -999.0,9,-999.000,9,-999.000,-999.000,9,-999.000,9,   44.84,2,   30.61,2, -999.00,1,    0.07,2, -999.00,9,-999.000,   0.0982,2,   0.0671,2,   0.0359,2,   0.0270,2,   0.0138,2,   0.0045,2,  -0.0019,4,   0.0057,4,   0.0165,4,   0.3061,     -999.0,9,     -999.0,9,     -999.0,9,     -999.0,1,     -999.0,9,     -999.0,9,     -999.0,9,-999.0000, -999.00
33RO20071215,        S4P,     173,          1,         20,      11020,2,20080216,       1329,   -67.0005,  -107.2502,       4643,   116.3,   0.0997,  34.0203,2,  34.0221,2,    322.7,2,   323.6,2,   35.90,2,   29.90,2,    0.20,2,    2.08,2,   5.748,2,   3.150,2,   2.2124,2,  2178.2,2,  2285.6,2,    914.5,2,    20.00,   7.6701,2,    25.00,-999.000,9,-999.0000,9, -999.00,9, -999.00,9,  -999.0,9,-999.000,9,-999.000,-999.000,9,-999.000,9,   44.16,2,   32.58,2, -999.00,1,    0.03,2, -999.00,9,-999.000,   0.0894,2,   0.0597,2,   0.0327,2,   0.0249,2,   0.0120,2,   0.0032,2,  -0.0026,4,   0.0049,4,   0.0165,4,   0.0955,     -999.0,9,     -999.0,9,     -999.0,9,     -999.0,1,     -999.0,9,     -999.0,9,     -999.0,9,-999.0000, -999.00
33RO20071215,        S4P,     173,          1,         19,      11019,2,20080216,       1329,   -67.0005,  -107.2502,       4643,   173.6,   0.6249,  34.1285,2,  34.1394,2,    287.7,2,   282.1,2,   45.40,2,   32.00,2,    0.02,2,    2.19,2,   4.567,2,   2.522,2,   1.7230,2,  2200.3,2,  2295.0,2,   1010.1,2,    20.00,   7.6318,2,    25.00,-999.000,9,-999.0000,9, -999.00,9, -999.00,9,  -999.0,9,-999.000,9,-999.000,-999.000,9,-999.000,9,   43.73,2,   34.41,2, -999.00,1,    0.04,2, -999.00,9,-999.000,   0.0965,2,   0.0644,2,   0.0353,2,   0.0266,2,   0.0129,2,   0.0037,2,  -0.0025,4,   0.0053,4,   0.0166,4,   0.6177,     -999.0,9,     -999.0,9,     -999.0,9,     -999.0,1,     -999.0,9,     -999.0,9,     -999.0,9,-999.0000, -999.00
33RO20071215,        S4P,     173,          1,         18,      11018,2,20080216,       1329,   -67.0005,  -107.2502,       4643,   249.3,   1.9681,  34.3537,2,  34.3578,2,    211.4,2,   206.3,2,   58.90,2,   34.60,2,    0.01,2,    2.37,2,   2.241,2,   1.155,2,   0.6524,2,  2234.2,2,  2309.4,2,   1177.6,2,    20.00,   7.5764,2,    25.00,-999.000,9,-999.0000,9, -999.00,9, -999.00,9,  -999.0,9,-999.000,9,-999.000,-999.000,9,-999.000,9,   43.31,2,   35.91,2, -999.00,1,    0.05,2, -999.00,9,-999.000,   0.1133,2,   0.0778,2,   0.0427,2,   0.0312,2,   0.0156,2,   0.0047,2,  -0.0023,4,   0.0063,4,   0.0164,4,   1.9548,     -999.0,9,     -999.0,9,     -999.0,9,     -999.0,9,     -999.0,9,     -999.0,9,     -999.0,9,-999.0000, -999.00
33RO20071215,        S4P,     173,          1,         17,      11017,2,20080216,       1329,   -67.0005,  -107.2502,       4643,   332.1,   2.1006,  34.4490,2,  34.4506,2,    192.9,2,   188.9,2,   66.50,2,   35.00,2,    0.01,2,    2.40,2,   1.526,2,   0.775,2,   0.4572,2,  2245.7,2,  2323.2,2,   1216.3,2,    20.00,   7.5534,2,    25.00,-999.000,9,-999.0000,9, -999.00,9, -999.00,9,  -999.0,9,-999.000,9,-999.000,-999.000,9,-999.000,9,   42.97,2,   36.61,2, -999.00,1,    0.01,2, -999.00,9,-999.000,   0.1173,2,   0.0809,2,   0.0439,2,   0.0316,2,   0.0157,2,   0.0047,2,  -0.0024,4,   0.0064,4,   0.0166,4,   2.0823,     -999.0,9,     -999.0,9,     -999.0,9,     -999.0,1,     -999.0,9,     -999.0,9,     -999.0,9,-999.0000, -999.00
33RO20071215,        S4P,     173,          1,         16,      11016,2,20080216,       1329,   -67.0005,  -107.2502,       4643,   433.3,   2.0917,  34.5326,2,  34.5346,2,    180.9,2,   180.3,2,   72.60,2,   34.60,2,    0.00,2,    2.37,2,   1.044,2,   0.532,2,   0.2553,2,  2252.0,2,  2330.3,2,   1212.7,2,    20.00,   7.5686,2,    25.00,-999.000,9,-999.0000,9, -999.00,9, -999.00,9,  -999.0,9,-999.000,9,-999.000,-999.000,9,-999.000,9,   42.28,2,   35.99,2, -999.00,1, -999.00,9, -999.00,9,-999.000,-999.0000,5,-999.0000,5,-999.0000,5,-999.0000,5,-999.0000,5,-999.0000,5,-999.0000,5,-999.0000,5,-999.0000,5,   2.0674,     -999.0,9,     -999.0,9,     -999.0,9,     -999.0,9,     -999.0,9,     -999.0,9,     -999.0,9,-999.0000, -999.00
33RO20071215,        S4P,     173,          1,         15,      11015,2,20080216,       1329,   -67.0005,  -107.2502,       4643,   549.2,   2.1342,  34.6044,2,  34.6051,2,    176.3,2,   175.7,2,   76.80,2,   34.20,2,    0.00,2,    2.33,2,   0.634,2,   0.320,2,   0.1506,2,  2254.6,6,  2333.3,2,   1164.7,2,    20.00,   7.5772,2,    25.00,-999.000,9,-999.0000,9, -999.00,9, -999.00,9,  -999.0,9,-999.000,9,-999.000,-999.000,9,-999.000,9,   42.10,2,   35.48,2, -999.00,1, -999.00,9, -999.00,9,-999.000,   0.1222,2,   0.0844,2,   0.0451,2,   0.0315,2,   0.0151,2,   0.0046,2,  -0.0027,4,   0.0062,4,   0.0171,4,   2.1026,     -999.0,9,     -999.0,9,     -999.0,9,     -999.0,1,     -999.0,9,     -999.0,9,     -999.0,9,-999.0000, -999.00
33RO20071215,        S4P,     173,          1,         14,      11014,2,20080216,       1329,   -67.0005,  -107.2502,       4643,   699.1,   2.1242,  34.6617,2,  34.6620,2,    176.7,2,   176.5,2,   80.40,2,   33.30,2,    0.00,2,    2.28,2,   0.380,2,   0.190,2,   0.1040,2,  2255.7,2,  2336.7,2,   -999.0,9,  -999.00,   7.5874,2,    25.00,-999.000,9,-999.0000,9, -999.00,9, -999.00,9,  -999.0,9,-999.000,9,-999.000,-999.000,9,-999.000,9,   41.20,2,   34.59,2, -999.00,1, -999.00,9, -999.00,9,-999.000,-999.0000,5,-999.0000,5,-999.0000,5,-999.0000,5,-999.0000,5,-999.0000,5,-999.0000,5,-999.0000,5,-999.0000,5,   2.0831,     -999.0,9,     -999.0,9,     -999.0,9,     -999.0,1,     -999.0,9,     -999.0,9,     -999.0,9,-999.0000, -999.00
33RO20071215,        S4P,     173,          1,         13,      11013,2,20080216,       1329,   -67.0005,  -107.2502,       4643,   850.2,   2.0575,  34.6906,2,  34.6917,2,    179.5,2,   179.2,2,   82.60,2,   32.90,2,    0.00,2,    2.25,2,   0.328,2,   0.165,2,   0.0248,2,  2255.0,2,  2339.5,2,   1116.7,2,    20.00,   7.5970,2,    25.00,-999.000,9,-999.0000,9, -999.00,9, -999.00,9,  -999.0,9,-999.000,9,-999.000,-999.000,9,-999.000,9,   40.66,2,   34.26,2, -999.00,1, -999.00,9, -999.00,9,-999.000,   0.1234,2,   0.0857,2,   0.0451,2,   0.0306,2,   0.0142,2,   0.0041,2,  -0.0034,4,   0.0054,4,   0.0176,4,   2.0068,     -999.0,9,     -999.0,9,     -999.0,9,     -999.0,1,     -999.0,9,     -999.0,9,     -999.0,9,-999.0000, -999.00
33RO20071215,        S4P,     173,          1,         12,      11012,2,20080216,       1329,   -67.0005,  -107.2502,       4643,  1000.1,   1.9463,  34.7140,2,  34.7129,2,    182.4,2,   182.4,2,   85.70,2,   32.30,2,    0.00,2,    2.21,2,   0.583,3,   0.781,3,   6.5996,3,  2254.9,2,  2341.1,2,   -999.0,9,  -999.00,   7.6017,2,    25.00,-999.000,9,-999.0000,9, -999.00,9, -999.00,9,  -999.0,9,-999.000,9,-999.000,-999.000,9,-999.000,9,   39.85,2,   33.48,2, -999.00,1, -999.00,9, -999.00,9,-999.000,   0.1250,2,   0.0873,2,   0.0462,2,   0.0315,2,   0.0149,2,   0.0046,2,  -0.0035,4,   0.0054,4,   0.0173,4,   1.8864,     -999.0,9,     -999.0,9,     -999.0,9,     -999.0,1,     -999.0,9,     -999.0,9,     -999.0,9,-999.0000, -999.00
33RO20071215,        S4P,     173,          1,         11,      11010,2,20080216,       1329,   -67.0005,  -107.2502,       4643,  1166.7,   1.8129,  34.7289,2,  34.7281,2,    186.3,2,   187.0,2,   89.60,2,   32.00,2,    0.00,2,    2.19,2,-999.000,9,-999.000,9,-999.0000,9,  2254.1,2,  2333.3,4,   1097.0,2,    20.00,   7.6078,2,    25.00,-999.000,9,-999.0000,9, -999.00,9, -999.00,9,  -999.0,9,-999.000,9,-999.000,-999.000,9,-999.000,9,   39.58,2,   33.29,2, -999.00,1, -999.00,9, -999.00,9,-999.000,   0.1248,2,   0.0872,2,   0.0462,2,   0.0316,2,   0.0149,2,   0.0047,2,  -0.0034,4,   0.0055,4,   0.0173,4,   1.7425,     -999.0,9,     -999.0,9,     -999.0,9,     -999.0,1,     -999.0,9,     -999.0,9,     -999.0,9,-999.0000, -999.00
33RO20071215,        S4P,     173,          1,         10,      11011,2,20080216,       1329,   -67.0005,  -107.2502,       4643,  1400.0,   1.6344,  34.7349,2,  34.7334,2,    191.2,2,   191.1,2,   94.90,2,   31.90,2,    0.00,2,    2.18,2,   0.211,2,   0.180,3,   1.1486,3,  2255.5,2,  2331.0,4,   1086.3,2,    20.00,   7.6175,2,    25.00,-999.000,9,-999.0000,9, -999.00,9, -999.00,9,  -999.0,9,-999.000,9,-999.000,-999.000,9,-999.000,9,   39.30,2,   32.94,2, -999.00,1, -999.00,9, -999.00,9,-999.000,   0.1267,2,   0.0889,2,   0.0472,2,   0.0324,2,   0.0157,2,   0.0053,2,  -0.0031,4,   0.0056,4,   0.0171,4,   1.5493,     -999.0,9,     -999.0,9,     -999.0,9,     -999.0,9,     -999.0,9,     -999.0,9,     -999.0,9,-999.0000, -999.00
33RO20071215,        S4P,     173,          1,          9,      11009,2,20080216,       1329,   -67.0005,  -107.2502,       4643,  1732.2,   1.3863,  34.7326,2,  34.7310,2,    195.0,2,   195.4,2,  102.70,2,   32.00,2,    0.00,2,    2.19,2,   0.122,2,   0.059,2,   0.0381,2,  2257.6,2,  2354.5,2,   1077.9,2,    20.00,   7.6202,2,    25.00,-999.000,9,-999.0000,9, -999.00,9, -999.00,9,  -999.0,9,-999.000,9,-999.000,-999.000,9,-999.000,9,   39.85,2,   33.54,2, -999.00,1, -999.00,9, -999.00,9,-999.000,   0.1221,2,   0.0851,2,   0.0448,2,   0.0301,2,   0.0138,2,   0.0040,2,  -0.0039,4,   0.0048,4,   0.0176,4,   1.2796,     -999.0,9,     -999.0,9,     -999.0,9,     -999.0,1,     -999.0,9,     -999.0,9,     -999.0,9,-999.0000, -999.00
33RO20071215,        S4P,     173,          1,          8,      11008,2,20080216,       1329,   -67.0005,  -107.2502,       4643,  2133.6,   1.1392,  34.7251,2,  34.7226,2,    198.2,2,   198.2,2,  111.60,2,   32.30,2,    0.00,2,    2.22,2,   0.083,2,   0.042,2,   0.0179,2,  2260.4,2,  2354.7,2,   1078.4,2,    20.00,   7.6228,2,    25.00,-999.000,9,-999.0000,9, -999.00,9, -999.00,9,  -999.0,9,-999.000,9,-999.000,   0.126,3,-999.000,9,   39.82,2,   33.54,2, -999.00,1, -999.00,9, -999.00,9,-999.000,   0.1199,2,   0.0830,2,   0.0435,2,   0.0291,2,   0.0131,2,   0.0035,2,  -0.0043,4,   0.0048,4,   0.0178,4,   1.0051,     -999.0,9,     -999.0,9,     -999.0,9,     -999.0,9,     -999.0,9,     -999.0,9,     -999.0,9,-999.0000, -999.00
33RO20071215,        S4P,     173,          1,          7,      11007,2,20080216,       1329,   -67.0005,  -107.2502,       4643,  2531.2,   0.9341,  34.7179,2,  34.7159,2,    202.1,2,   202.1,2,  118.50,2,   32.60,2,    0.00,2,    2.23,2,   0.101,6,   0.057,6,   0.0169,2,  2261.3,2,  2356.0,2,   1080.8,2,    20.00,   7.6187,2,    25.00,-999.000,9,-999.0000,9, -999.00,9, -999.00,9,  -999.0,9,-999.000,9,-999.000,   0.135,3,-999.000,9,   39.30,2,   33.80,2, -999.00,1, -999.00,9, -999.00,9,-999.000,   0.1182,2,   0.0816,2,   0.0425,2,   0.0283,2,   0.0121,2,   0.0030,2,  -0.0046,4,   0.0050,4,   0.0181,4,   0.7708,     -999.0,9,     -999.0,9,     -999.0,9,     -999.0,1,     -999.0,9,     -999.0,9,     -999.0,9,-999.0000, -999.00
33RO20071215,        S4P,     173,          1,          6,      11006,2,20080216,       1329,   -67.0005,  -107.2502,       4643,  2931.1,   0.7593,  34.7119,2,  34.7094,2,    205.3,2,   205.9,2,  124.40,2,   32.80,2,    0.00,2,    2.24,2,   0.138,2,   0.068,2,   0.0000,2,  2262.6,6,  2355.1,2,   1082.5,6,    20.00,   7.6182,2,    25.00,-999.000,9,-999.0000,9, -999.00,9, -999.00,9,  -999.0,9,-999.000,9,-999.000,   0.177,3,-999.000,9,   39.20,2,   34.00,2, -999.00,1, -999.00,9, -999.00,9,-999.000,   0.1259,2,   0.0883,2,   0.0474,2,   0.0325,2,   0.0156,2,   0.0052,2,  -0.0032,4,   0.0058,4,   0.0170,4,   0.5649,     -999.0,9,     -999.0,9,     -999.0,9,     -999.0,9,     -999.0,9,     -999.0,9,     -999.0,9,-999.0000, -999.00
33RO20071215,        S4P,     173,          1,          5,      11005,2,20080216,       1329,   -67.0005,  -107.2502,       4643,  3332.1,   0.5922,  34.7081,2,  34.7096,2,    208.9,2,   208.9,2,  128.20,2,   32.90,2,    0.00,2,    2.25,2,-999.000,9,-999.000,9,-999.0000,9,  2263.0,2,  2285.7,4,   -999.0,9,  -999.00,   7.6187,2,    25.00,-999.000,9,-999.0000,9, -999.00,9, -999.00,9,  -999.0,9,-999.000,9,-999.000,-999.000,9,-999.000,9,   39.49,2,   34.50,2, -999.00,1, -999.00,9, -999.00,9,-999.000,   0.1159,2,   0.0797,2,   0.0414,2,   0.0274,2,   0.0116,2,   0.0028,2,  -0.0047,4,   0.0045,4,   0.0183,4,   0.3648,     -999.0,9,     -999.0,9,     -999.0,9,     -999.0,1,     -999.0,9,     -999.0,9,     -999.0,9,-999.0000, -999.00
33RO20071215,        S4P,     173,          1,          4,      11004,2,20080216,       1329,   -67.0005,  -107.2502,       4643,  3765.5,   0.4475,  34.7063,2,  34.7048,2,    213.1,2,   212.6,2,  132.60,6,   33.00,6,    0.00,6,    2.26,2,   0.194,2,   0.097,2,   0.0000,2,  2263.7,2,  2355.6,2,   1084.3,2,    20.00,   7.6073,2,    25.00,-999.000,9,-999.0000,9, -999.00,9, -999.00,9,  -999.0,9,-999.000,9,-999.000,   0.239,3,-999.000,9,   39.94,2,   34.52,2, -999.00,9, -999.00,9, -999.00,9,-999.000,   0.1153,2,   0.0791,2,   0.0409,2,   0.0271,2,   0.0111,2,   0.0024,2,  -0.0050,4,   0.0045,4,   0.0184,4,   0.1820,     -999.0,9,     -999.0,9,     -999.0,9,     -999.0,1,     -999.0,9,     -999.0,9,     -999.0,9,-999.0000, -999.00
33RO20071215,        S4P,     173,          1,          3,      11003,2,20080216,       1329,   -67.0005,  -107.2502,       4643,  4266.4,   0.3738,  34.7049,2,  34.7031,2,    215.1,2,   214.8,2,  137.90,6,   33.00,6,    0.01,6,    2.27,2,   0.253,2,   0.126,2,   0.0000,2,  2263.3,2,  2281.2,4,   1078.0,2,    20.00,   7.6138,2,    25.00,-999.000,9,-999.0000,9, -999.00,9, -999.00,9,  -999.0,9,-999.000,9,-999.000,   0.287,3,-999.000,9,   39.58,2,   34.42,2, -999.00,9, -999.00,9, -999.00,9,-999.000,   0.1197,2,   0.0826,2,   0.0435,2,   0.0291,2,   0.0126,2,   0.0033,2,  -0.0045,4,   0.0046,4,   0.0179,4,   0.0590,     -999.0,9,     -999.0,9,     -999.0,9,     -999.0,1,     -999.0,9,     -999.0,9,     -999.0,9,-999.0000, -999.00
33RO20071215,        S4P,     173,          1,          2,      11002,2,20080216,       1329,   -67.0005,  -107.2502,       4643,  4701.8,   0.3956,  34.7042,2,  34.7030,2,    215.8,2,   214.9,2,  141.40,6,   33.10,6,    0.01,6,    2.27,2,   0.298,2,   0.149,2,   0.0452,2,  2263.7,2,  2355.8,2,   -999.0,9,  -999.00,   7.6195,2,    25.00,-999.000,9,-999.0000,9, -999.00,9, -999.00,9,  -999.0,9,-999.000,9,-999.000,   0.316,3,-999.000,9,   39.87,2,   34.32,2, -999.00,9, -999.00,9, -999.00,9,-999.000,   0.1204,2,   0.0832,2,   0.0436,2,   0.0292,2,   0.0124,2,   0.0029,2,  -0.0049,4,   0.0044,4,   0.0179,4,   0.0327,     -999.0,9,     -999.0,9,     -999.0,9,     -999.0,1,     -999.0,9,     -999.0,9,     -999.0,9,-999.0000, -999.00
33RO20071215,        S4P,     173,          1,          1,      11001,2,20080216,       1329,   -67.0005,  -107.2502,       4643,  4723.1,   0.3980,  34.7042,2,  34.7038,2,    215.9,2,   215.0,2,  141.70,2,   34.20,2,    0.01,2,    2.28,2,   0.291,2,   0.144,2,   0.0344,2,  2262.9,6,  2357.7,2,   1071.1,2,    20.00,   7.6074,2,    25.00,-999.000,9,-999.0000,9, -999.00,9, -999.00,9,  -999.0,9,-999.000,9,-999.000,   0.317,3,-999.000,9,   40.43,2,   35.72,2, -999.00,9, -999.00,9, -999.00,9,-999.000,   0.1176,2,   0.0811,2,   0.0418,2,   0.0275,2,   0.0109,2,   0.0021,2,  -0.0054,4,   0.0038,4,   0.0184,4,   0.0326,     -999.0,9,     -999.0,9,     -999.0,9,     -999.0,1,     -999.0,9,     -999.0,9,     -999.0,9,-999.0000, -999.00