BOTTLE,20220818CCHSIOAMB
EXPOCODE,SECT_ID,STNNBR,CASTNO,SAMPNO,BTLNBR,BTLNBR_FLAG_W,DATE,TIME,LATITUDE,LONGITUDE,DEPTH,CTDPRS,CTDTMP,CTDSAL,CTDSAL_FLAG_W,SALNTY,SALNTY_FLAG_W,CTDOXY,CTDOXY_FLAG_W,OXYGEN,OXYGEN_FLAG_W,SILCAT,SILCAT_FLAG_W,NITRAT,NITRAT_FLAG_W,NITRIT,NITRIT_FLAG_W,PHSPHT,PHSPHT_FLAG_W,CFC-11,CFC-11_FLAG_W,CFC-12,CFC-12_FLAG_W,SF6,SF6_FLAG_W,TCARBN,TCARBN_FLAG_W,ALKALI,ALKALI_FLAG_W,FCO2,FCO2_FLAG_W,FCO2TMP,PH_SWS,PH_SWS_FLAG_W,PH_TMP,TRITUM,TRITUM_FLAG_W,HELIUM,HELIUM_FLAG_W,DELHE3,DELHE3_FLAG_W,DELC13,DELC13_FLAG_W,DELC14,DELC14_FLAG_W,NEON,NEON_FLAG_W,NEONER,CCL4,CCL4_FLAG_W,POC,POC_FLAG_W,DOC,DOC_FLAG_W,TDN,TDN_FLAG_W,DON,DON_FLAG_W,CHLORA,CHLORA_FLAG_W,ARGON,ARGON_FLAG_W,TRITER,CDOM325,CDOM325_FLAG_W,CDOM340,CDOM340_FLAG_W,CDOM380,CDOM380_FLAG_W,CDOM412,CDOM412_FLAG_W,CDOM443,CDOM443_FLAG_W,CDOM490,CDOM490_FLAG_W,CDOM555,CDOM555_FLAG_W,CDOMSL,CDOMSL_FLAG_W,CDOMSN,CDOMSN_FLAG_W,THETA,D18O_NO3,D18O_NO3_FLAG_W,CDOM2C,CDOM2C_FLAG_W,CDOM3C,CDOM3C_FLAG_W,LAB_DEN,LAB_DEN_FLAG_W,DELSI30,DELSI30_FLAG_W,N2,N2_FLAG_W,D15N_NO3,D15N_NO3_FLAG_W,HELIER,DELHER
,,,,,,,,,,,METERS,DBAR,ITS-90,PSS-78,,PSS-78,,UMOL/KG,,UMOL/KG,,UMOL/KG,,UMOL/KG,,UMOL/KG,,UMOL/KG,,PMOL/KG,,PMOL/KG,,FMOL/KG,,UMOL/KG,,UMOL/KG,,UATM,,DEG C,,,DEG C,TU,,NMOL/KG,,PERCNT,,/MILLE,,/MILLE,,NMOL/KG,,NMOL/KG,PMOL/KG,,UG/KG,,UMOL/KG,,UMOL/KG,,UMOL/KG,,UG/KG,,UMOL/KG,,TU,1/M,,1/M,,1/M,,1/M,,1/M,,1/M,,1/M,,1/NM,,1/NM,,DEG C,/MILLE,,,,,,,,/MILLE,,UMOL/KG,,/MILLE,,NMOL/KG,PERCNT
33RO20071215,        P18,      44,          1,         11,      12003,2,20071230,       0543,     0.0005,  -109.9775,       3812,  1668.5,   2.7648,  34.6186,2,  34.6191,2,     95.0,2,    94.7,2,  130.00,2,   39.80,2,    0.00,2,    2.83,2,  -0.001,2,  -0.001,2,   0.0000,2,  2339.3,2,  2397.6,2,   -999.0,9,  -999.00,   7.4824,2,    25.00,-999.000,9,-999.0000,9, -999.00,9,   -0.06,2,  -999.0,1,-999.000,9,-999.000,-999.000,9,-999.000,9,   37.15,2,   40.66,2, -999.00,9, -999.00,9, -999.00,9,-999.000,-999.0000,9,-999.0000,9,-999.0000,9,-999.0000,9,-999.0000,9,-999.0000,9,-999.0000,9,-999.0000,9,-999.0000,9,   2.6456,     -999.0,9,     -999.0,9,     -999.0,9,     -999.0,9,     -999.0,9,     -999.0,9,     -999.0,9,-999.0000, -999.00
33RO20071215,        P18,      44,          1,         10,      12032,2,20071230,       0543,     0.0005,  -109.9775,       3812,  1867.5,   2.5324,  34.6309,2,  34.6331,2,     98.8,2,    98.7,2,  136.90,2,   39.70,2,    0.00,2,    2.81,2,  -0.001,2,  -0.001,2,   0.0000,2,  2344.1,2,  2406.9,2,   1451.6,2,    20.00,   7.4906,2,    25.00,-999.000,9,-999.0000,9, -999.00,9, -999.00,9,  -999.0,9,-999.000,9,-999.000,-999.000,9,-999.000,9,   36.99,2,   40.82,2, -999.00,9, -999.00,9, -999.00,9,-999.000,-999.0000,9,-999.0000,9,-999.0000,9,-999.0000,9,-999.0000,9,-999.0000,9,-999.0000,9,-999.0000,9,-999.0000,9,   2.3993,     -999.0,9,     -999.0,9,     -999.0,9,     -999.0,9,     -999.0,9,     -999.0,9,     -999.0,9,-999.0000, -999.00
33RO20071215,        P18,      44,          1,          9,      12002,2,20071230,       0543,     0.0005,  -109.9775,       3812,  2070.0,   2.2577,  34.6458,2,  34.6472,2,    104.1,2,   106.9,3,  144.20,2,   39.00,2,    0.00,2,    2.76,2,  -0.001,2,  -0.001,2,   0.0000,2,  2348.3,2,  2414.2,2,   -999.0,9,  -999.00,   7.5086,2,    25.00,-999.000,9,-999.0000,9, -999.00,9,   -0.07,2,  -999.0,1,-999.000,9,-999.000,   0.000,3,-999.000,9,   36.68,2,   40.62,2, -999.00,9, -999.00,9, -999.00,9,-999.000,-999.0000,9,-999.0000,9,-999.0000,9,-999.0000,9,-999.0000,9,-999.0000,9,-999.0000,9,-999.0000,9,-999.0000,9,   2.1112,     -999.0,9,     -999.0,9,     -999.0,9,     -999.0,9,     -999.0,9,     -999.0,9,     -999.0,9,-999.0000, -999.00
33RO20071215,        P18,      44,          1,          8,      12021,2,20071230,       0543,     0.0005,  -109.9775,       3812,  2268.6,   2.1125,  34.6526,2,  34.6540,2,    111.0,2,   110.8,2,  146.20,2,   38.90,2,    0.00,2,    2.73,2,  -0.001,2,   0.000,2,   0.0000,2,  2346.5,2,  2416.2,2,   1376.6,2,    20.00,   7.5191,2,    25.00,-999.000,9,-999.0000,9, -999.00,9, -999.00,9,  -999.0,9,-999.000,9,-999.000,   0.000,3,-999.000,9,   37.15,2,   40.22,2, -999.00,9, -999.00,9, -999.00,9,-999.000,-999.0000,9,-999.0000,9,-999.0000,9,-999.0000,9,-999.0000,9,-999.0000,9,-999.0000,9,-999.0000,9,-999.0000,9,   1.9510,     -999.0,9,     -999.0,9,     -999.0,9,     -999.0,9,     -999.0,9,     -999.0,9,     -999.0,9,-999.0000, -999.00
33RO20071215,        P18,      44,          1,          7,      12001,2,20071230,       0543,     0.0005,  -109.9775,       3812,  2468.6,   1.9741,  34.6596,2,  34.6607,2,    117.7,2,   117.1,2,  148.10,2,   38.40,2,    0.00,2,    2.69,2,  -0.001,2,  -0.001,2,   0.0000,2,  2345.8,2,  2417.7,2,   -999.0,9,  -999.00,   7.5348,2,    25.00,-999.000,9,-999.0000,9, -999.00,9, -999.00,9,  -999.0,9,-999.000,9,-999.000,   0.001,3,-999.000,9,   36.27,2,   39.54,2, -999.00,9, -999.00,9, -999.00,9,-999.000,-999.0000,9,-999.0000,9,-999.0000,9,-999.0000,9,-999.0000,9,-999.0000,9,-999.0000,9,-999.0000,9,-999.0000,9,   1.7971,     -999.0,9,     -999.0,9,     -999.0,9,     -999.0,9,     -999.0,9,     -999.0,9,     -999.0,9,-999.0000, -999.00
33RO20071215,        P18,      44,          1,          6,      12033,2,20071230,       0543,     0.0005,  -109.9775,       3812,  2665.6,   1.8659,  34.6670,2,  34.6673,2,    123.5,2,   125.9,3,  150.30,2,   38.10,2,    0.00,2,    2.65,2,  -0.001,2,  -0.001,2,   0.0000,2,  2344.6,2,  2426.9,2,   1307.0,2,    20.00,   7.5318,2,    25.00,-999.000,9,-999.0000,9, -999.00,9,   -0.17,3,  -999.0,1,-999.000,9,-999.000,   0.000,3,-999.000,9,   36.20,2,   39.02,2, -999.00,9, -999.00,9, -999.00,9,-999.000,-999.0000,9,-999.0000,9,-999.0000,9,-999.0000,9,-999.0000,9,-999.0000,9,-999.0000,9,-999.0000,9,-999.0000,9,   1.6728,     -999.0,9,     -999.0,9,     -999.0,9,     -999.0,1,     -999.0,9,     -999.0,9,     -999.0,9,-999.0000, -999.00
33RO20071215,        P18,      44,          1,          5,      12008,2,20071230,       0543,     0.0005,  -109.9775,       3812,  2866.9,   1.7655,  34.6721,2,  34.6719,2,    130.9,2,   130.4,2,  150.00,2,   37.60,2,    0.00,2,    2.61,2,  -0.001,2,   0.000,2,   0.0000,2,  2340.8,2,  2426.0,2,   -999.0,9,  -999.00,   7.5511,2,    25.00,-999.000,9,-999.0000,9, -999.00,9, -999.00,9,  -999.0,9,-999.000,9,-999.000,  -0.001,3,-999.000,9,   35.79,2,   38.85,2, -999.00,9, -999.00,9, -999.00,9,-999.000,-999.0000,9,-999.0000,9,-999.0000,9,-999.0000,9,-999.0000,9,-999.0000,9,-999.0000,9,-999.0000,9,-999.0000,9,   1.5556,     -999.0,9,     -999.0,9,     -999.0,9,     -999.0,9,     -999.0,9,     -999.0,9,     -999.0,9,-999.0000, -999.00
33RO20071215,        P18,      44,          1,          4,      12009,2,20071230,       0543,     0.0005,  -109.9775,       3812,  3067.3,   1.6615,  34.6771,2,  34.6775,2,    136.1,2,   136.0,2,  151.00,6,   37.40,6,    0.00,6,    2.58,2,   0.000,2,  -0.001,2,   0.0000,2,  2338.4,2,  2426.3,2,   1239.4,2,    20.00,   7.5472,2,    25.00,-999.000,9,-999.0000,9, -999.00,9,   -0.08,2,  -999.0,1,-999.000,9,-999.000,   0.000,3,-999.000,9,   36.05,2,   38.69,2, -999.00,9, -999.00,9, -999.00,9,-999.000,-999.0000,9,-999.0000,9,-999.0000,9,-999.0000,9,-999.0000,9,-999.0000,9,-999.0000,9,-999.0000,9,-999.0000,9,   1.4346,     -999.0,9,     -999.0,9,     -999.0,9,     -999.0,1,     -999.0,9,     -999.0,9,     -999.0,9,-999.0000, -999.00
33RO20071215,        P18,      44,          1,          3,      12006,2,20071230,       0543,     0.0005,  -109.9775,       3812,  3333.9,   1.5893,  34.6824,2,  34.6832,2,    142.5,2,   142.3,2,  151.50,6,   37.00,6,    0.00,6,    2.54,2,  -0.001,2,  -0.001,2,   0.0228,2,  2335.2,2,  2426.6,2,   -999.0,9,  -999.00,   7.5772,2,    25.00,-999.000,9,-999.0000,9, -999.00,9, -999.00,9,  -999.0,9,-999.000,9,-999.000,  -0.001,3,-999.000,9,   36.44,2,   38.15,2, -999.00,9, -999.00,9, -999.00,9,-999.000,-999.0000,9,-999.0000,9,-999.0000,9,-999.0000,9,-999.0000,9,-999.0000,9,-999.0000,9,-999.0000,9,-999.0000,9,   1.3377,     -999.0,9,     -999.0,9,     -999.0,9,     -999.0,9,     -999.0,9,     -999.0,9,     -999.0,9,-999.0000, -999.00
33RO20071215,        P18,      44,          1,          2,      12007,2,20071230,       0543,     0.0005,  -109.9775,       3812,  3585.0,   1.4691,  34.6913,2,  34.6922,2,    152.8,2,   153.8,2,  152.00,6,   36.40,6,    0.00,6,    2.48,2,  -0.001,2,   0.000,2,   0.0000,2,  2331.9,2,  2430.9,2,   1127.3,2,    20.00,   7.5965,2,    25.00,-999.000,9,-999.0000,9, -999.00,9,    0.04,2,  -999.0,1,-999.000,9,-999.000,  -0.001,3,-999.000,9,   36.28,2,   37.99,2, -999.00,9, -999.00,9, -999.00,9,-999.000,-999.0000,9,-999.0000,9,-999.0000,9,-999.0000,9,-999.0000,9,-999.0000,9,-999.0000,9,-999.0000,9,-999.0000,9,   1.1950,     -999.0,9,     -999.0,9,     -999.0,9,     -999.0,1,     -999.0,9,     -999.0,9,     -999.0,9,-999.0000, -999.00
33RO20071215,        P18,      44,          1,          1,      12035,2,20071230,       0543,     0.0005,  -109.9775,       3812,  3857.3,   1.4764,  34.6923,2,  34.6946,2,    155.6,2,   155.8,2,  150.60,2,   36.20,2,    0.00,2,    2.47,2,  -0.001,6,   0.000,6,   0.0195,6,  2330.5,6,  2427.3,4,   1100.8,2,    20.00,   7.5987,2,    25.00,-999.000,9,-999.0000,9, -999.00,9,    0.09,2,  -999.0,1,-999.000,9,-999.000,   0.001,3,-999.000,9,   33.44,2,   37.48,2, -999.00,9, -999.00,9, -999.00,9,-999.000,-999.0000,9,-999.0000,9,-999.0000,9,-999.0000,9,-999.0000,9,-999.0000,9,-999.0000,9,-999.0000,9,-999.0000,9,   1.1735,     -999.0,9,     -999.0,9,     -999.0,9,     -999.0,1,     -999.0,9,     -999.0,9,     -999.0,9,-999.0000, -999.00