BOTTLE,20220818CCHSIOAMB
EXPOCODE,SECT_ID,STNNBR,CASTNO,SAMPNO,BTLNBR,BTLNBR_FLAG_W,DATE,TIME,LATITUDE,LONGITUDE,DEPTH,CTDPRS,CTDTMP,CTDSAL,CTDSAL_FLAG_W,SALNTY,SALNTY_FLAG_W,CTDOXY,CTDOXY_FLAG_W,OXYGEN,OXYGEN_FLAG_W,SILCAT,SILCAT_FLAG_W,NITRAT,NITRAT_FLAG_W,NITRIT,NITRIT_FLAG_W,PHSPHT,PHSPHT_FLAG_W,CFC-11,CFC-11_FLAG_W,CFC-12,CFC-12_FLAG_W,SF6,SF6_FLAG_W,TCARBN,TCARBN_FLAG_W,ALKALI,ALKALI_FLAG_W,FCO2,FCO2_FLAG_W,FCO2TMP,PH_SWS,PH_SWS_FLAG_W,PH_TMP,TRITUM,TRITUM_FLAG_W,HELIUM,HELIUM_FLAG_W,DELHE3,DELHE3_FLAG_W,DELC13,DELC13_FLAG_W,DELC14,DELC14_FLAG_W,NEON,NEON_FLAG_W,NEONER,CCL4,CCL4_FLAG_W,POC,POC_FLAG_W,DOC,DOC_FLAG_W,TDN,TDN_FLAG_W,DON,DON_FLAG_W,CHLORA,CHLORA_FLAG_W,ARGON,ARGON_FLAG_W,TRITER,CDOM325,CDOM325_FLAG_W,CDOM340,CDOM340_FLAG_W,CDOM380,CDOM380_FLAG_W,CDOM412,CDOM412_FLAG_W,CDOM443,CDOM443_FLAG_W,CDOM490,CDOM490_FLAG_W,CDOM555,CDOM555_FLAG_W,CDOMSL,CDOMSL_FLAG_W,CDOMSN,CDOMSN_FLAG_W,THETA,D18O_NO3,D18O_NO3_FLAG_W,CDOM2C,CDOM2C_FLAG_W,CDOM3C,CDOM3C_FLAG_W,LAB_DEN,LAB_DEN_FLAG_W,DELSI30,DELSI30_FLAG_W,N2,N2_FLAG_W,D15N_NO3,D15N_NO3_FLAG_W,HELIER,DELHER
,,,,,,,,,,,METERS,DBAR,ITS-90,PSS-78,,PSS-78,,UMOL/KG,,UMOL/KG,,UMOL/KG,,UMOL/KG,,UMOL/KG,,UMOL/KG,,PMOL/KG,,PMOL/KG,,FMOL/KG,,UMOL/KG,,UMOL/KG,,UATM,,DEG C,,,DEG C,TU,,NMOL/KG,,PERCNT,,/MILLE,,/MILLE,,NMOL/KG,,NMOL/KG,PMOL/KG,,UG/KG,,UMOL/KG,,UMOL/KG,,UMOL/KG,,UG/KG,,UMOL/KG,,TU,1/M,,1/M,,1/M,,1/M,,1/M,,1/M,,1/M,,1/NM,,1/NM,,DEG C,/MILLE,,,,,,,,/MILLE,,UMOL/KG,,/MILLE,,NMOL/KG,PERCNT
33RO20071215,        P18,      86,          1,         36,      12017,2,20080113,       0233,   -21.0835,  -103.0000,       3989,     5.4,  22.5310,  35.9607,2,  35.9700,2,    218.5,2,   218.8,2,    0.60,2,    0.10,2,    0.00,2,    0.24,2,   2.002,6,   1.243,6,   1.1049,6,  2081.9,6,  2378.9,2,    363.7,2,    20.00,   8.0007,2,    25.00,-999.000,9,-999.0000,9, -999.00,9,     1.5,2,  -999.0,1,-999.000,9,-999.000,-999.000,9,-999.000,9, -999.00,9, -999.00,9, -999.00,9, -999.00,9, -999.00,9,-999.000,-999.0000,9,-999.0000,9,-999.0000,9,-999.0000,9,-999.0000,9,-999.0000,9,-999.0000,9,-999.0000,9,-999.0000,9,  22.5299,     -999.0,9,     -999.0,9,     -999.0,9,     -999.0,9,     -999.0,9,     -999.0,9,     -999.0,9,-999.0000, -999.00
33RO20071215,        P18,      86,          1,         35,      12029,2,20080113,       0233,   -21.0835,  -103.0000,       3989,    15.8,  22.5078,  35.9597,2,  35.9606,2,    218.3,2,   219.8,2,    0.60,2,    0.20,2,    0.00,2,    0.24,2,   2.018,2,   1.245,2,   1.1969,2,  2082.7,2,  2380.7,2,   -999.0,9,  -999.00,   8.0102,2,    25.00,-999.000,9,-999.0000,9, -999.00,9, -999.00,9,  -999.0,9,-999.000,9,-999.000,-999.000,9,-999.000,9, -999.00,9, -999.00,9, -999.00,9, -999.00,9, -999.00,9,-999.000,-999.0000,9,-999.0000,9,-999.0000,9,-999.0000,9,-999.0000,9,-999.0000,9,-999.0000,9,-999.0000,9,-999.0000,9,  22.5046,     -999.0,9,     -999.0,9,     -999.0,9,     -999.0,9,     -999.0,9,     -999.0,9,     -999.0,9,-999.0000, -999.00
33RO20071215,        P18,      86,          1,         34,      12049,2,20080113,       0233,   -21.0835,  -103.0000,       3989,    34.4,  22.2179,  35.9361,2,  35.9528,2,    221.1,2,   219.9,2,    0.50,2,    0.20,2,    0.00,2,    0.24,2,   2.030,2,   1.252,2,   1.1046,2,  2082.0,2,  2376.8,2,    363.3,2,    20.00,   7.9988,2,    25.00,-999.000,9,-999.0000,9, -999.00,9, -999.00,9,  -999.0,9,-999.000,9,-999.000,-999.000,9,-999.000,9, -999.00,9, -999.00,9, -999.00,9, -999.00,9, -999.00,9,-999.000,-999.0000,9,-999.0000,9,-999.0000,9,-999.0000,9,-999.0000,9,-999.0000,9,-999.0000,9,-999.0000,9,-999.0000,9,  22.2110,     -999.0,9,     -999.0,9,     -999.0,9,     -999.0,9,     -999.0,9,     -999.0,9,     -999.0,9,-999.0000, -999.00
33RO20071215,        P18,      86,          1,         33,      12027,2,20080113,       0233,   -21.0835,  -103.0000,       3989,    57.4,  21.4543,  35.9617,2,  35.9731,2,    227.4,2,   227.3,2,    0.70,2,    0.20,2,    0.00,2,    0.23,2,   2.110,2,   1.300,2,   1.1395,2,  2079.0,2,  2376.8,2,    357.8,2,    20.00,   8.0452,2,    25.00,-999.000,9,-999.0000,9, -999.00,9,    1.47,2,  -999.0,1,-999.000,9,-999.000,-999.000,9,-999.000,9, -999.00,9, -999.00,9, -999.00,9, -999.00,9, -999.00,9,-999.000,-999.0000,9,-999.0000,9,-999.0000,9,-999.0000,9,-999.0000,9,-999.0000,9,-999.0000,9,-999.0000,9,-999.0000,9,  21.4432,     -999.0,9,     -999.0,9,     -999.0,9,     -999.0,9,     -999.0,9,     -999.0,9,     -999.0,9,-999.0000, -999.00
33RO20071215,        P18,      86,          1,         32,      12023,2,20080113,       0233,   -21.0835,  -103.0000,       3989,    77.2,  21.0916,  35.9614,2,  35.9666,2,    228.6,2,   229.1,2,    0.50,2,    0.20,2,    0.00,2,    0.23,2,   2.146,2,   1.309,2,   1.1541,2,  2078.4,2,  2375.6,2,    355.5,2,    20.00,   7.9994,2,    25.00,-999.000,9,-999.0000,9, -999.00,9, -999.00,9,  -999.0,9,-999.000,9,-999.000,-999.000,9,-999.000,9, -999.00,9, -999.00,9, -999.00,9, -999.00,9, -999.00,9,-999.000,-999.0000,9,-999.0000,9,-999.0000,9,-999.0000,9,-999.0000,9,-999.0000,9,-999.0000,9,-999.0000,9,-999.0000,9,  21.0768,     -999.0,9,     -999.0,9,     -999.0,9,     -999.0,9,     -999.0,9,     -999.0,9,     -999.0,9,-999.0000, -999.00
33RO20071215,        P18,      86,          1,         31,      12037,2,20080113,       0233,   -21.0835,  -103.0000,       3989,   108.7,  20.6702,  35.9274,2,  35.9319,2,    226.1,2,   227.4,2,    0.60,2,    0.20,2,    0.00,2,    0.23,2,   2.157,2,   1.323,2,   1.1016,2,  2078.4,2,  2377.2,2,    361.1,2,    20.00,   8.0086,2,    25.00,-999.000,9,-999.0000,9, -999.00,9, -999.00,9,  -999.0,1,-999.000,9,-999.000,-999.000,9,-999.000,9, -999.00,9, -999.00,9, -999.00,9, -999.00,9, -999.00,9,-999.000,-999.0000,9,-999.0000,9,-999.0000,9,-999.0000,9,-999.0000,9,-999.0000,9,-999.0000,9,-999.0000,9,-999.0000,9,  20.6496,     -999.0,9,     -999.0,9,     -999.0,9,     -999.0,9,     -999.0,9,     -999.0,9,     -999.0,9,-999.0000, -999.00
33RO20071215,        P18,      86,          1,         30,      12036,2,20080113,       0233,   -21.0835,  -103.0000,       3989,   134.7,  20.3942,  35.8935,2,  35.8940,2,    221.8,2,   222.0,2,    0.60,2,    0.20,2,    0.00,2,    0.23,2,   2.162,6,   1.328,6,   1.0970,6,  2079.9,2,  2374.3,2,    368.1,2,    20.00,   8.0005,2,    25.00,-999.000,9,-999.0000,9, -999.00,9, -999.00,9,  -999.0,9,-999.000,9,-999.000,-999.000,9,-999.000,9, -999.00,9, -999.00,9, -999.00,9, -999.00,9, -999.00,9,-999.000,-999.0000,9,-999.0000,9,-999.0000,9,-999.0000,9,-999.0000,9,-999.0000,9,-999.0000,9,-999.0000,9,-999.0000,9,  20.3689,     -999.0,9,     -999.0,9,     -999.0,9,     -999.0,9,     -999.0,9,     -999.0,9,     -999.0,9,-999.0000, -999.00
33RO20071215,        P18,      86,          1,         29,      12044,2,20080113,       0233,   -21.0835,  -103.0000,       3989,   158.1,  20.1697,  35.8501,2,  35.8567,2,    220.6,2,   220.7,2,    0.70,2,    0.20,2,    0.06,2,    0.24,2,   2.186,2,   1.337,2,   1.1962,2,  2080.8,2,  2369.5,2,   -999.0,9,  -999.00,   7.9882,2,    25.00,-999.000,9,-999.0000,9, -999.00,9,    1.26,2,  -999.0,1,-999.000,9,-999.000,-999.000,9,-999.000,9, -999.00,9, -999.00,9, -999.00,9, -999.00,9, -999.00,9,-999.000,-999.0000,9,-999.0000,9,-999.0000,9,-999.0000,9,-999.0000,9,-999.0000,9,-999.0000,9,-999.0000,9,-999.0000,9,  20.1401,     -999.0,9,     -999.0,9,     -999.0,9,     -999.0,9,     -999.0,9,     -999.0,9,     -999.0,9,-999.0000, -999.00
33RO20071215,        P18,      86,          1,         28,      12057,2,20080113,       0233,   -21.0835,  -103.0000,       3989,   175.4,  19.9296,  35.7848,2,  35.7851,2,    219.5,2,   219.9,2,    0.70,2,    0.30,2,    0.21,2,    0.26,2,   2.202,2,   1.350,2,   1.1292,2,  2081.1,2,  2361.8,2,    380.8,2,    20.00,   7.9879,2,    25.00,-999.000,9,-999.0000,9, -999.00,9, -999.00,9,  -999.0,9,-999.000,9,-999.000,-999.000,9,-999.000,9, -999.00,9, -999.00,9, -999.00,9, -999.00,9, -999.00,9,-999.000,-999.0000,9,-999.0000,9,-999.0000,9,-999.0000,9,-999.0000,9,-999.0000,9,-999.0000,9,-999.0000,9,-999.0000,9,  19.8971,     -999.0,9,     -999.0,9,     -999.0,9,     -999.0,9,     -999.0,9,     -999.0,9,     -999.0,9,-999.0000, -999.00
33RO20071215,        P18,      86,          1,         27,      12026,2,20080113,       0233,   -21.0835,  -103.0000,       3989,   213.6,  19.6523,  35.7159,2,  35.7147,2,    218.0,2,   218.4,2,    0.70,2,    0.60,2,    0.38,2,    0.29,2,   2.249,2,   1.367,2,   1.1938,2,  2080.2,2,  2355.4,2,   -999.0,9,  -999.00,   7.9816,2,    25.00,-999.000,9,-999.0000,9, -999.00,9,    1.24,2,  -999.0,1,-999.000,9,-999.000,-999.000,9,-999.000,9, -999.00,9, -999.00,9, -999.00,9, -999.00,9, -999.00,9,-999.000,-999.0000,9,-999.0000,9,-999.0000,9,-999.0000,9,-999.0000,9,-999.0000,9,-999.0000,9,-999.0000,9,-999.0000,9,  19.6131,     -999.0,9,     -999.0,9,     -999.0,9,     -999.0,9,     -999.0,9,     -999.0,9,     -999.0,9,-999.0000, -999.00
33RO20071215,        P18,      86,          1,         26,      12030,2,20080113,       0233,   -21.0835,  -103.0000,       3989,   269.0,  15.9904,  34.9575,2,  34.9653,2,    201.6,2,   202.3,2,    1.20,2,    5.40,2,    0.01,2,    0.56,2,   2.657,2,   1.545,2,   1.0820,2,  2082.1,2,  2306.5,2,    482.9,2,    20.00,   7.8922,2,    25.00,-999.000,9,-999.0000,9, -999.00,9,    1.05,2,  -999.0,1,-999.000,9,-999.000,-999.000,9,-999.000,9, -999.00,9, -999.00,9, -999.00,9, -999.00,9, -999.00,9,-999.000,-999.0000,9,-999.0000,9,-999.0000,9,-999.0000,9,-999.0000,9,-999.0000,9,-999.0000,9,-999.0000,9,-999.0000,9,  15.9477,     -999.0,9,     -999.0,9,     -999.0,9,     -999.0,9,     -999.0,9,     -999.0,9,     -999.0,9,-999.0000, -999.00
33RO20071215,        P18,      86,          1,         25,      12024,2,20080113,       0233,   -21.0835,  -103.0000,       3989,   315.8,  12.0892,  34.4544,2,  34.4720,2,    167.6,2,   172.6,2,    4.70,2,   14.40,2,    0.01,2,    1.20,2,   2.921,2,   1.599,2,   0.8269,2,  2124.5,2,  2275.2,2,   -999.0,9,  -999.00,   7.7523,2,    25.00,-999.000,9,-999.0000,9, -999.00,9,    0.94,2,  -999.0,1,-999.000,9,-999.000,-999.000,9,-999.000,9, -999.00,9, -999.00,9, -999.00,9, -999.00,9, -999.00,9,-999.000,-999.0000,9,-999.0000,9,-999.0000,9,-999.0000,9,-999.0000,9,-999.0000,9,-999.0000,9,-999.0000,9,-999.0000,9,  12.0478,     -999.0,9,     -999.0,9,     -999.0,9,     -999.0,9,     -999.0,9,     -999.0,9,     -999.0,9,-999.0000, -999.00
33RO20071215,        P18,      86,          1,         24,      12019,2,20080113,       0233,   -21.0835,  -103.0000,       3989,   363.0,  10.2811,  34.4108,2,  34.4110,2,    136.2,2,   135.6,2,   10.60,2,   22.10,2,    0.00,2,    1.79,2,   2.520,2,   1.314,2,   0.5702,2,  2173.8,2,  2275.2,2,   1012.4,2,    20.00,   7.6277,2,    25.00,-999.000,9,-999.0000,9, -999.00,9, -999.00,9,  -999.0,9,-999.000,9,-999.000,-999.000,9,-999.000,9, -999.00,9, -999.00,9, -999.00,9, -999.00,9, -999.00,9,-999.000,-999.0000,9,-999.0000,9,-999.0000,9,-999.0000,9,-999.0000,9,-999.0000,9,-999.0000,9,-999.0000,9,-999.0000,9,  10.2382,     -999.0,9,     -999.0,9,     -999.0,9,     -999.0,9,     -999.0,9,     -999.0,9,     -999.0,9,-999.0000, -999.00
33RO20071215,        P18,      86,          1,         23,      12022,2,20080113,       0233,   -21.0835,  -103.0000,       3989,   425.7,   8.7310,  34.4527,2,  34.4549,2,     89.1,2,    91.1,2,   17.70,2,   30.20,2,    0.00,2,    2.32,2,   1.476,2,   0.747,2,   0.2172,2,  2221.5,6,  2275.3,2,   -999.0,9,  -999.00,   7.4888,2,    25.00,-999.000,9,-999.0000,9, -999.00,9, -999.00,9,  -999.0,1,-999.000,9,-999.000,-999.000,9,-999.000,9, -999.00,9, -999.00,9, -999.00,9, -999.00,9, -999.00,9,-999.000,-999.0000,9,-999.0000,9,-999.0000,9,-999.0000,9,-999.0000,9,-999.0000,9,-999.0000,9,-999.0000,9,-999.0000,9,   8.6853,     -999.0,9,     -999.0,9,     -999.0,9,     -999.0,9,     -999.0,9,     -999.0,9,     -999.0,9,-999.0000, -999.00
33RO20071215,        P18,      86,          1,         22,      12015,2,20080113,       0233,   -21.0835,  -103.0000,       3989,   533.4,   6.7603,  34.3893,2,  34.3882,2,    136.4,2,   136.2,2,   19.40,2,   32.80,2,    0.00,2,    2.27,2,   1.128,2,   0.567,2,   0.1739,2,  2206.7,2,  2285.8,2,   1233.0,2,    20.00,   7.5422,2,    25.00,-999.000,9,-999.0000,9, -999.00,9,    0.67,2,  -999.0,1,-999.000,9,-999.000,-999.000,9,-999.000,9, -999.00,9, -999.00,9, -999.00,9, -999.00,9, -999.00,9,-999.000,-999.0000,9,-999.0000,9,-999.0000,9,-999.0000,9,-999.0000,9,-999.0000,9,-999.0000,9,-999.0000,9,-999.0000,9,   6.7106,     -999.0,9,     -999.0,9,     -999.0,9,     -999.0,9,     -999.0,9,     -999.0,9,     -999.0,9,-999.0000, -999.00
33RO20071215,        P18,      86,          1,         21,      12020,2,20080113,       0233,   -21.0835,  -103.0000,       3989,   632.2,   5.9132,  34.3717,2,  34.3724,2,    144.3,2,   143.2,2,   24.20,2,   34.20,2,    0.00,2,    2.33,2,   0.497,2,   0.263,2,   0.0371,2,  2208.6,2,  2291.8,2,   -999.0,9,  -999.00,   7.5717,2,    25.00,-999.000,9,-999.0000,9, -999.00,9,    0.72,2,  -999.0,1,-999.000,9,-999.000,-999.000,9,-999.000,9, -999.00,9, -999.00,9, -999.00,9, -999.00,9, -999.00,9,-999.000,-999.0000,9,-999.0000,9,-999.0000,9,-999.0000,9,-999.0000,9,-999.0000,9,-999.0000,9,-999.0000,9,-999.0000,9,   5.8579,     -999.0,9,     -999.0,9,     -999.0,9,     -999.0,9,     -999.0,9,     -999.0,9,     -999.0,9,-999.0000, -999.00
33RO20071215,        P18,      86,          1,         20,      12055,2,20080113,       0233,   -21.0835,  -103.0000,       3989,   731.4,   5.1610,  34.3693,2,  34.3677,2,    143.0,2,   141.0,2,   33.00,2,   35.90,2,    0.00,2,    2.45,2,   0.230,2,   0.126,2,   0.0000,2,  2219.7,2,  2290.0,3,   1251.7,2,    20.00,   7.5337,2,    25.00,-999.000,9,-999.0000,9, -999.00,9, -999.00,9,  -999.0,9,-999.000,9,-999.000,-999.000,9,-999.000,9, -999.00,9, -999.00,9, -999.00,9, -999.00,9, -999.00,9,-999.000,-999.0000,9,-999.0000,9,-999.0000,9,-999.0000,9,-999.0000,9,-999.0000,9,-999.0000,9,-999.0000,9,-999.0000,9,   5.1007,     -999.0,9,     -999.0,9,     -999.0,9,     -999.0,9,     -999.0,9,     -999.0,9,     -999.0,9,-999.0000, -999.00
33RO20071215,        P18,      86,          1,         19,      12018,2,20080113,       0233,   -21.0835,  -103.0000,       3989,   836.1,   4.5424,  34.4148,2,  34.4138,2,    125.7,2,   125.6,2,   49.00,2,   38.10,2,    0.00,2,    2.62,2,   0.041,2,   0.023,2,   0.0000,2,  2243.5,2,  2306.7,4,   -999.0,9,  -999.00,   7.5149,2,    25.00,-999.000,9,-999.0000,9, -999.00,9,    0.53,2,  -999.0,1,-999.000,9,-999.000,-999.000,9,-999.000,9, -999.00,9, -999.00,9, -999.00,9, -999.00,9, -999.00,9,-999.000,-999.0000,9,-999.0000,9,-999.0000,9,-999.0000,9,-999.0000,9,-999.0000,9,-999.0000,9,-999.0000,9,-999.0000,9,   4.4768,     -999.0,9,     -999.0,9,     -999.0,9,     -999.0,9,     -999.0,9,     -999.0,9,     -999.0,9,-999.0000, -999.00
33RO20071215,        P18,      86,          1,         18,      12025,2,20080113,       0233,   -21.0835,  -103.0000,       3989,   928.2,   4.3154,  34.4673,2,  34.4676,2,    117.8,2,   115.6,2,   61.70,2,   38.80,2,    0.00,2,    2.67,2,   0.007,2,   0.003,2,   0.0000,2,  2260.0,2,  2320.2,2,   1382.5,2,    20.00,   7.5071,2,    25.00,-999.000,9,-999.0000,9, -999.00,9, -999.00,9,  -999.0,9,-999.000,9,-999.000,-999.000,9,-999.000,9, -999.00,9, -999.00,9, -999.00,9, -999.00,9, -999.00,9,-999.000,-999.0000,9,-999.0000,9,-999.0000,9,-999.0000,9,-999.0000,9,-999.0000,9,-999.0000,9,-999.0000,9,-999.0000,9,   4.2434,     -999.0,9,     -999.0,9,     -999.0,9,     -999.0,9,     -999.0,9,     -999.0,9,     -999.0,9,-999.0000, -999.00
33RO20071215,        P18,      86,          1,         17,      12016,2,20080113,       0233,   -21.0835,  -103.0000,       3989,  1032.4,   4.0507,  34.5114,2,  34.5109,2,    113.4,2,   112.4,2,   73.50,2,   39.00,2,    0.00,2,    2.70,2,   0.001,2,   0.001,2,   0.0000,2,  2273.1,2,  2331.9,2,   -999.0,9,  -999.00,   7.5039,2,    25.00,-999.000,9,-999.0000,9, -999.00,9,    0.31,2,  -999.0,1,-999.000,9,-999.000,-999.000,9,-999.000,9, -999.00,9, -999.00,9, -999.00,9, -999.00,9, -999.00,9,-999.000,-999.0000,9,-999.0000,9,-999.0000,9,-999.0000,9,-999.0000,9,-999.0000,9,-999.0000,9,-999.0000,9,-999.0000,9,   3.9719,     -999.0,9,     -999.0,9,     -999.0,9,     -999.0,9,     -999.0,9,     -999.0,9,     -999.0,9,-999.0000, -999.00
33RO20071215,        P18,      86,          1,         16,      12051,2,20080113,       0233,   -21.0835,  -103.0000,       3989,  1125.3,   3.8050,  34.5301,2,  34.5294,2,    110.3,2,   109.8,2,   81.30,2,   39.40,2,    0.00,2,    2.74,2,   0.001,2,   0.001,2,   0.0000,2,  2283.8,2,  2338.2,2,   1410.5,2,    20.00,   7.4679,2,    25.00,-999.000,9,-999.0000,9, -999.00,9, -999.00,9,  -999.0,9,-999.000,9,-999.000,-999.000,9,-999.000,9, -999.00,9, -999.00,9, -999.00,9, -999.00,9, -999.00,9,-999.000,-999.0000,9,-999.0000,9,-999.0000,9,-999.0000,9,-999.0000,9,-999.0000,9,-999.0000,9,-999.0000,9,-999.0000,9,   3.7204,     -999.0,9,     -999.0,9,     -999.0,9,     -999.0,9,     -999.0,9,     -999.0,9,     -999.0,9,-999.0000, -999.00
33RO20071215,        P18,      86,          1,         15,      12014,2,20080113,       0233,   -21.0835,  -103.0000,       3989,  1233.5,   3.5103,  34.5484,2,  34.5484,2,    107.9,2,   107.4,2,   89.60,2,   39.70,2,    0.00,2,    2.77,2,-999.000,9,-999.000,9,-999.0000,9,  2294.2,2,  2359.5,2,   -999.0,9,  -999.00,   7.5199,2,    25.00,-999.000,9,-999.0000,9, -999.00,9, -999.00,9,  -999.0,9,-999.000,9,-999.000,-999.000,9,-999.000,9, -999.00,9, -999.00,9, -999.00,9, -999.00,9, -999.00,9,-999.000,-999.0000,9,-999.0000,9,-999.0000,9,-999.0000,9,-999.0000,9,-999.0000,9,-999.0000,9,-999.0000,9,-999.0000,9,   3.4193,     -999.0,9,     -999.0,9,     -999.0,9,     -999.0,9,     -999.0,9,     -999.0,9,     -999.0,9,-999.0000, -999.00
33RO20071215,        P18,      86,          1,         14,      12013,2,20080113,       0233,   -21.0835,  -103.0000,       3989,  1332.0,   3.2776,  34.5624,2,  34.5614,2,    108.7,2,   108.3,2,   95.70,2,   39.70,2,    0.00,2,    2.78,2,  -0.001,2,   0.000,2,   0.0000,2,  2300.8,2,  2367.6,2,   1438.5,2,    20.00,   7.4951,2,    25.00,-999.000,9,-999.0000,9, -999.00,9, -999.00,9,  -999.0,9,-999.000,9,-999.000,-999.000,9,-999.000,9, -999.00,9, -999.00,9, -999.00,9, -999.00,9, -999.00,9,-999.000,-999.0000,9,-999.0000,9,-999.0000,9,-999.0000,9,-999.0000,9,-999.0000,9,-999.0000,9,-999.0000,9,-999.0000,9,   3.1807,     -999.0,9,     -999.0,9,     -999.0,9,     -999.0,9,     -999.0,9,     -999.0,9,     -999.0,9,-999.0000, -999.00
33RO20071215,        P18,      86,          1,         13,      12012,2,20080113,       0233,   -21.0835,  -103.0000,       3989,  1465.6,   3.0305,  34.5787,2,  34.5783,2,    109.7,2,   109.4,2,  102.80,2,   39.70,2,    0.00,2,    2.77,2,-999.000,9,-999.000,9,-999.0000,9,  2308.4,2,  2373.6,2,   -999.0,9,  -999.00,   7.4992,2,    25.00,-999.000,9,-999.0000,9, -999.00,9,    0.12,2,  -999.0,1,-999.000,9,-999.000,-999.000,9,-999.000,9, -999.00,9, -999.00,9, -999.00,9, -999.00,9, -999.00,9,-999.000,-999.0000,9,-999.0000,9,-999.0000,9,-999.0000,9,-999.0000,9,-999.0000,9,-999.0000,9,-999.0000,9,-999.0000,9,   2.9251,     -999.0,9,     -999.0,9,     -999.0,9,     -999.0,9,     -999.0,9,     -999.0,9,     -999.0,9,-999.0000, -999.00
33RO20071215,        P18,      86,          1,         12,      12031,2,20080113,       0233,   -21.0835,  -103.0000,       3989,  1662.8,   2.6677,  34.5986,2,  34.5982,2,    123.2,2,   123.0,2,  108.80,2,   38.50,2,    0.00,2,    2.67,2,-999.000,9,-999.000,9,-999.0000,9,  2307.1,2,  2381.0,2,   1347.6,2,    20.00,   7.5149,2,    25.00,-999.000,9,-999.0000,9, -999.00,9, -999.00,9,  -999.0,9,-999.000,9,-999.000,-999.000,9,-999.000,9, -999.00,9, -999.00,9, -999.00,9, -999.00,9, -999.00,9,-999.000,-999.0000,9,-999.0000,9,-999.0000,9,-999.0000,9,-999.0000,9,-999.0000,9,-999.0000,9,-999.0000,9,-999.0000,9,   2.5502,     -999.0,9,     -999.0,9,     -999.0,9,     -999.0,9,     -999.0,9,     -999.0,9,     -999.0,9,-999.0000, -999.00