BOTTLE,20220818CCHSIOAMB
EXPOCODE,SECT_ID,STNNBR,CASTNO,SAMPNO,BTLNBR,BTLNBR_FLAG_W,DATE,TIME,LATITUDE,LONGITUDE,DEPTH,CTDPRS,CTDTMP,CTDSAL,CTDSAL_FLAG_W,SALNTY,SALNTY_FLAG_W,CTDOXY,CTDOXY_FLAG_W,OXYGEN,OXYGEN_FLAG_W,SILCAT,SILCAT_FLAG_W,NITRAT,NITRAT_FLAG_W,NITRIT,NITRIT_FLAG_W,PHSPHT,PHSPHT_FLAG_W,CFC-11,CFC-11_FLAG_W,CFC-12,CFC-12_FLAG_W,SF6,SF6_FLAG_W,TCARBN,TCARBN_FLAG_W,ALKALI,ALKALI_FLAG_W,FCO2,FCO2_FLAG_W,FCO2TMP,PH_SWS,PH_SWS_FLAG_W,PH_TMP,TRITUM,TRITUM_FLAG_W,HELIUM,HELIUM_FLAG_W,DELHE3,DELHE3_FLAG_W,DELC13,DELC13_FLAG_W,DELC14,DELC14_FLAG_W,NEON,NEON_FLAG_W,NEONER,CCL4,CCL4_FLAG_W,POC,POC_FLAG_W,DOC,DOC_FLAG_W,TDN,TDN_FLAG_W,DON,DON_FLAG_W,CHLORA,CHLORA_FLAG_W,ARGON,ARGON_FLAG_W,TRITER,CDOM325,CDOM325_FLAG_W,CDOM340,CDOM340_FLAG_W,CDOM380,CDOM380_FLAG_W,CDOM412,CDOM412_FLAG_W,CDOM443,CDOM443_FLAG_W,CDOM490,CDOM490_FLAG_W,CDOM555,CDOM555_FLAG_W,CDOMSL,CDOMSL_FLAG_W,CDOMSN,CDOMSN_FLAG_W,THETA,D18O_NO3,D18O_NO3_FLAG_W,CDOM2C,CDOM2C_FLAG_W,CDOM3C,CDOM3C_FLAG_W,LAB_DEN,LAB_DEN_FLAG_W,DELSI30,DELSI30_FLAG_W,N2,N2_FLAG_W,D15N_NO3,D15N_NO3_FLAG_W,HELIER,DELHER
,,,,,,,,,,,METERS,DBAR,ITS-90,PSS-78,,PSS-78,,UMOL/KG,,UMOL/KG,,UMOL/KG,,UMOL/KG,,UMOL/KG,,UMOL/KG,,PMOL/KG,,PMOL/KG,,FMOL/KG,,UMOL/KG,,UMOL/KG,,UATM,,DEG C,,,DEG C,TU,,NMOL/KG,,PERCNT,,/MILLE,,/MILLE,,NMOL/KG,,NMOL/KG,PMOL/KG,,UG/KG,,UMOL/KG,,UMOL/KG,,UMOL/KG,,UG/KG,,UMOL/KG,,TU,1/M,,1/M,,1/M,,1/M,,1/M,,1/M,,1/M,,1/NM,,1/NM,,DEG C,/MILLE,,,,,,,,/MILLE,,UMOL/KG,,/MILLE,,NMOL/KG,PERCNT
33RO20071215,        P18,     163,          1,         24,      11024,2,20080211,       1417,   -64.7510,  -102.9998,       4956,     6.5,   2.4419,  33.8719,2,  33.8745,2,    329.6,2,   329.2,2,    4.50,2,   24.70,2,    0.16,2,    1.52,2,   5.599,2,   3.116,2,   2.2399,2,  2135.4,6,  2283.5,2,    722.5,2,    20.00,   7.7520,2,    25.00,-999.000,9,-999.0000,9, -999.00,9, -999.00,9,  -999.0,9,-999.000,9,-999.000,-999.000,9,-999.000,9,   47.36,2,   29.39,2, -999.00,1,    0.19,2, -999.00,9,-999.000,   0.1259,2,   0.0898,2,   0.0496,2,   0.0376,2,   0.0260,2,   0.0144,2,   0.0058,3,   0.0122,4,   0.0137,4,   2.4416,     -999.0,9,     -999.0,9,     -999.0,9,     -999.0,9,     -999.0,9,     -999.0,9,     -999.0,9,-999.0000, -999.00
33RO20071215,        P18,     163,          1,         23,      11023,2,20080211,       1417,   -64.7510,  -102.9998,       4956,    24.7,   2.4437,  33.8720,2,  33.8734,2,    330.5,2,   329.0,2,    4.50,2,   24.70,2,    0.16,2,    1.53,2,   5.634,2,   3.121,2,   2.3651,2,  2136.0,2,  2284.4,2,   -999.0,9,  -999.00,   7.7512,2,    25.00,-999.000,9,-999.0000,9, -999.00,9, -999.00,9,  -999.0,9,-999.000,9,-999.000,-999.000,9,-999.000,9,   45.41,2,   29.17,2, -999.00,1,    0.24,2, -999.00,9,-999.000,   0.1014,2,   0.0687,2,   0.0340,2,   0.0242,2,   0.0150,2,   0.0067,2,   0.0014,2,   0.0125,4,   0.0176,4,   2.4424,     -999.0,9,     -999.0,9,     -999.0,9,     -999.0,9,     -999.0,9,     -999.0,9,     -999.0,9,-999.0000, -999.00
33RO20071215,        P18,     163,          1,         22,      11022,2,20080211,       1417,   -64.7510,  -102.9998,       4956,    50.7,   2.4004,  33.8733,2,  33.8758,2,    329.1,2,   329.0,2,    4.90,2,   24.90,2,    0.16,2,    1.55,2,   5.628,2,   3.133,2,   2.3067,2,  2135.4,2,  2283.5,2,    725.6,6,    20.00,   7.7497,2,    25.00,-999.000,9,-999.0000,9, -999.00,9, -999.00,9,  -999.0,9,-999.000,9,-999.000,-999.000,9,-999.000,9,   45.37,2,   28.12,2, -999.00,1,    0.19,2, -999.00,9,-999.000,-999.0000,5,-999.0000,5,-999.0000,5,-999.0000,5,-999.0000,5,-999.0000,5,-999.0000,5,-999.0000,5,-999.0000,5,   2.3977,     -999.0,9,     -999.0,9,     -999.0,9,     -999.0,9,     -999.0,9,     -999.0,9,     -999.0,9,-999.0000, -999.00
33RO20071215,        P18,     163,          1,         21,      11021,2,20080211,       1417,   -64.7510,  -102.9998,       4956,    62.7,   1.0533,  33.9472,2,  33.9484,2,    334.4,2,   335.6,2,   16.60,2,   26.80,2,    0.16,2,    2.00,2,-999.000,9,-999.000,9,-999.0000,9,  2154.4,2,  2287.2,2,   -999.0,9,  -999.00,   7.7101,2,    25.00,-999.000,9,-999.0000,9, -999.00,9, -999.00,9,  -999.0,9,-999.000,9,-999.000,-999.000,9,-999.000,9,   44.56,2,   30.28,2, -999.00,1,    0.32,2, -999.00,9,-999.000,   0.0985,2,   0.0651,2,   0.0316,2,   0.0223,2,   0.0126,2,   0.0045,3,   0.0000,4,   0.0159,4,   0.0188,4,   1.0506,     -999.0,9,     -999.0,9,     -999.0,9,     -999.0,9,     -999.0,9,     -999.0,9,     -999.0,9,-999.0000, -999.00
33RO20071215,        P18,     163,          1,         20,      11020,2,20080211,       1417,   -64.7510,  -102.9998,       4956,    76.0,   0.7957,  33.9659,2,  33.9688,2,    337.5,2,   334.5,2,   20.60,2,   27.40,2,    0.15,2,    2.04,2,   5.988,2,   3.276,2,   2.3143,2,  2158.3,2,  2288.6,2,    824.2,2,    20.00,   7.7054,2,    25.00,-999.000,9,-999.0000,9, -999.00,9, -999.00,9,  -999.0,9,-999.000,9,-999.000,-999.000,9,-999.000,9,   43.74,2,   30.21,2, -999.00,1,    0.21,2, -999.00,9,-999.000,   0.1007,2,   0.0679,2,   0.0361,2,   0.0264,2,   0.0163,2,   0.0072,2,   0.0019,2,   0.0127,4,   0.0162,4,   0.7926,     -999.0,9,     -999.0,9,     -999.0,9,     -999.0,9,     -999.0,9,     -999.0,9,     -999.0,9,-999.0000, -999.00
33RO20071215,        P18,     163,          1,         19,      11019,2,20080211,       1417,   -64.7510,  -102.9998,       4956,   149.3,   0.0885,  33.9943,2,  33.9968,2,    327.1,2,   328.4,2,   28.20,2,   29.90,2,    0.22,2,    2.06,2,-999.000,9,-999.000,9,-999.0000,9,  2168.9,2,  2287.0,2,    895.9,2,    20.00,   7.6696,2,    25.00,-999.000,9,-999.0000,9, -999.00,9, -999.00,9,  -999.0,9,-999.000,9,-999.000,-999.000,9,-999.000,9,   42.93,2,   32.40,2, -999.00,1,    0.04,2, -999.00,9,-999.000,   0.0804,2,   0.0505,2,   0.0253,2,   0.0186,2,   0.0097,2,   0.0026,2,  -0.0008,4,   0.0155,2,   0.0193,2,   0.0831,     -999.0,9,     -999.0,9,     -999.0,9,     -999.0,9,     -999.0,9,     -999.0,9,     -999.0,9,-999.0000, -999.00
33RO20071215,        P18,     163,          1,         18,      11018,2,20080211,       1417,   -64.7510,  -102.9998,       4956,   225.3,   1.0040,  34.1279,2,  34.1213,2,    283.2,2,   282.8,2,   38.70,2,   32.20,2,    0.01,2,    2.18,2,   4.490,2,   2.490,2,   1.6681,2,  2190.6,2,  2295.2,2,    995.2,2,    20.00,   7.6314,2,    25.00,-999.000,9,-999.0000,9, -999.00,9, -999.00,9,  -999.0,9,-999.000,9,-999.000,-999.000,9,-999.000,9,   42.12,2,   34.67,2, -999.00,1,    0.01,2, -999.00,9,-999.000,   0.0947,2,   0.0618,2,   0.0325,2,   0.0241,2,   0.0137,2,   0.0048,2,   0.0004,4,   0.0148,2,   0.0173,2,   0.9939,     -999.0,9,     -999.0,9,     -999.0,9,     -999.0,9,     -999.0,9,     -999.0,9,     -999.0,9,-999.0000, -999.00
33RO20071215,        P18,     163,          1,         17,      11017,2,20080211,       1417,   -64.7510,  -102.9998,       4956,   300.0,   1.9210,  34.3006,2,  34.3042,2,    222.1,2,   222.6,2,   53.70,2,   34.60,2,    0.01,2,    2.34,2,   2.723,2,   1.450,2,   0.8780,2,  2220.9,2,  2310.1,2,   1139.6,2,    20.00,   7.5801,2,    25.00,-999.000,9,-999.0000,9, -999.00,9, -999.00,9,  -999.0,9,-999.000,9,-999.000,-999.000,9,-999.000,9,   41.47,2,   36.17,2, -999.00,1, -999.00,9, -999.00,9,-999.000,   0.1073,2,   0.0716,2,   0.0377,2,   0.0273,2,   0.0157,2,   0.0058,2,   0.0009,2,   0.0151,2,   0.0170,2,   1.9051,     -999.0,9,     -999.0,9,     -999.0,9,     -999.0,9,     -999.0,9,     -999.0,9,     -999.0,9,-999.0000, -999.00
33RO20071215,        P18,     163,          1,         16,      11016,2,20080211,       1417,   -64.7510,  -102.9998,       4956,   399.5,   2.2421,  34.4213,2,  34.4215,2,    191.4,2,   191.2,2,   63.20,2,   35.40,2,    0.00,2,    2.40,2,   1.620,2,   0.824,2,   0.5011,2,  2236.9,2,  2321.7,2,   1211.7,2,    20.00,   7.5572,2,    25.00,-999.000,9,-999.0000,9, -999.00,9, -999.00,9,  -999.0,9,-999.000,9,-999.000,-999.000,9,-999.000,9,   40.82,2,   37.10,2, -999.00,1, -999.00,9, -999.00,9,-999.000,   0.1187,2,   0.0804,2,   0.0425,2,   0.0307,2,   0.0179,2,   0.0068,2,   0.0013,2,   0.0151,2,   0.0167,2,   2.2193,     -999.0,9,     -999.0,9,     -999.0,9,     -999.0,9,     -999.0,9,     -999.0,9,     -999.0,9,-999.0000, -999.00
33RO20071215,        P18,     163,          1,         15,      11015,2,20080211,       1417,   -64.7510,  -102.9998,       4956,   501.4,   2.3013,  34.5002,2,  34.5019,2,    180.4,2,   178.9,2,   69.60,2,   35.60,2,    0.00,2,    2.41,2,   1.007,2,   0.509,2,   0.2765,2,  2248.0,2,  2328.8,2,   1246.6,2,    20.00,   7.5560,2,    25.00,-999.000,9,-999.0000,9, -999.00,9, -999.00,9,  -999.0,9,-999.000,9,-999.000,-999.000,9,-999.000,9,   40.21,2,   36.96,2, -999.00,1, -999.00,9, -999.00,9,-999.000,   0.1153,2,   0.0769,2,   0.0392,2,   0.0273,2,   0.0150,2,   0.0047,2,   0.0000,4,   0.0161,2,   0.0180,2,   2.2721,     -999.0,9,     -999.0,9,     -999.0,9,     -999.0,9,     -999.0,9,     -999.0,9,     -999.0,9,-999.0000, -999.00
33RO20071215,        P18,     163,          1,         14,      11014,2,20080211,       1417,   -64.7510,  -102.9998,       4956,   650.2,   2.2482,  34.5759,2,  34.5762,2,    175.2,2,   174.9,2,   75.10,2,   34.90,2,    0.00,2,    2.38,2,   0.667,2,   0.343,2,   0.1766,2,  2252.3,2,  2335.9,2,   1221.6,2,    20.00,   7.5535,2,    25.00,-999.000,9,-999.0000,9, -999.00,9, -999.00,9,  -999.0,9,-999.000,9,-999.000,-999.000,9,-999.000,9,   39.78,2,   36.35,2, -999.00,1, -999.00,9, -999.00,9,-999.000,   0.1243,2,   0.0844,2,   0.0436,2,   0.0306,2,   0.0175,2,   0.0064,2,   0.0009,2,   0.0157,2,   0.0173,2,   2.2096,     -999.0,9,     -999.0,9,     -999.0,9,     -999.0,9,     -999.0,9,     -999.0,9,     -999.0,9,-999.0000, -999.00
33RO20071215,        P18,     163,          1,         13,      11013,2,20080211,       1417,   -64.7510,  -102.9998,       4956,   799.9,   2.1851,  34.6384,2,  34.6389,2,    174.5,2,   175.0,2,   79.40,2,   34.20,2,    0.00,2,    2.33,2,   0.439,2,   0.220,2,   0.0000,2,  2253.4,6,  2340.9,2,   1189.4,2,    20.00,   7.5705,2,    25.00,-999.000,9,-999.0000,9, -999.00,9, -999.00,9,  -999.0,9,-999.000,9,-999.000,-999.000,9,-999.000,9,   40.17,2,   35.70,2, -999.00,1, -999.00,9, -999.00,9,-999.000,   0.1187,2,   0.0796,2,   0.0401,2,   0.0272,2,   0.0148,2,   0.0046,2,  -0.0003,4,   0.0166,2,   0.0184,2,   2.1370,     -999.0,9,     -999.0,9,     -999.0,9,     -999.0,9,     -999.0,9,     -999.0,9,     -999.0,9,-999.0000, -999.00
33RO20071215,        P18,     163,          1,         12,      11012,2,20080211,       1417,   -64.7510,  -102.9998,       4956,   949.9,   2.1271,  34.6784,2,  34.6810,2,    177.2,2,   176.9,2,   82.20,2,   33.40,2,    0.00,2,    2.28,2,   0.290,2,   0.147,2,   0.1233,2,  2253.4,2,  2344.6,2,   -999.0,9,  -999.00,   7.5845,2,    25.00,-999.000,9,-999.0000,9, -999.00,9, -999.00,9,  -999.0,9,-999.000,9,-999.000,-999.000,9,-999.000,9,   39.37,2,   34.64,2, -999.00,1, -999.00,9, -999.00,9,-999.000,   0.1229,2,   0.0830,2,   0.0420,2,   0.0286,2,   0.0160,2,   0.0056,3,   0.0005,4,   0.0163,2,   0.0180,4,   2.0692,     -999.0,9,     -999.0,9,     -999.0,9,     -999.0,9,     -999.0,9,     -999.0,9,     -999.0,9,-999.0000, -999.00
33RO20071215,        P18,     163,          1,         11,      11010,2,20080211,       1417,   -64.7510,  -102.9998,       4956,  1101.7,   2.0334,  34.7060,2,  34.7057,2,    180.8,2,   181.3,2,   85.10,2,   32.90,2,    0.00,2,    2.23,2,-999.000,9,-999.000,9,-999.0000,9,  2251.8,2,  2347.3,2,   1131.8,2,    20.00,   7.5983,2,    25.00,-999.000,9,-999.0000,9, -999.00,9, -999.00,9,  -999.0,9,-999.000,9,-999.000,-999.000,9,-999.000,9,   38.85,2,   34.29,2, -999.00,1, -999.00,9, -999.00,9,-999.000,   0.1225,2,   0.0828,2,   0.0415,2,   0.0279,2,   0.0157,2,   0.0054,2,   0.0004,4,   0.0165,2,   0.0182,2,   1.9657,     -999.0,9,     -999.0,9,     -999.0,9,     -999.0,9,     -999.0,9,     -999.0,9,     -999.0,9,-999.0000, -999.00
33RO20071215,        P18,     163,          1,         10,      11011,2,20080211,       1417,   -64.7510,  -102.9998,       4956,  1302.5,   1.8785,  34.7252,2,  34.7257,2,    185.7,2,   185.9,2,   89.50,2,   32.40,2,    0.00,2,    2.21,2,   0.211,2,   0.176,2,   1.1734,3,  2252.0,2,  2351.4,2,   1103.6,2,    20.00,   7.5989,2,    25.00,-999.000,9,-999.0000,9, -999.00,9, -999.00,9,  -999.0,9,-999.000,9,-999.000,-999.000,9,-999.000,9,   39.53,2,   33.39,2, -999.00,1, -999.00,9, -999.00,9,-999.000,   0.1254,2,   0.0852,2,   0.0431,2,   0.0294,2,   0.0170,2,   0.0064,2,   0.0012,2,   0.0161,2,   0.0178,2,   1.7979,     -999.0,9,     -999.0,9,     -999.0,9,     -999.0,9,     -999.0,9,     -999.0,9,     -999.0,9,-999.0000, -999.00
33RO20071215,        P18,     163,          1,          9,      11009,2,20080211,       1417,   -64.7510,  -102.9998,       4956,  1598.7,   1.6305,  34.7337,2,  34.7321,2,    191.2,2,   191.8,2,   96.80,2,   32.10,2,    0.00,2,    2.19,2,   0.119,2,   0.061,2,   0.0624,2,  2253.4,2,  2354.7,2,   1086.1,2,    20.00,   7.6099,2,    25.00,-999.000,9,-999.0000,9, -999.00,9, -999.00,9,  -999.0,9,-999.000,9,-999.000,-999.000,9,-999.000,9,   39.03,2,   33.33,2, -999.00,1, -999.00,9, -999.00,9,-999.000,   0.1252,2,   0.0852,2,   0.0431,2,   0.0291,2,   0.0169,2,   0.0066,3,   0.0013,3,   0.0161,2,   0.0178,2,   1.5308,     -999.0,9,     -999.0,9,     -999.0,9,     -999.0,9,     -999.0,9,     -999.0,9,     -999.0,9,-999.0000, -999.00
33RO20071215,        P18,     163,          1,          8,      11008,2,20080211,       1417,   -64.7510,  -102.9998,       4956,  2000.4,   1.3630,  34.7307,2,  34.7311,2,    195.5,2,   195.5,2,  105.60,2,   32.40,2,    0.00,2,    2.21,2,   0.093,2,   0.043,2,   0.1384,3,  2255.7,2,  2346.4,4,   1077.4,2,    20.00,   7.6082,2,    25.00,-999.000,9,-999.0000,9, -999.00,9, -999.00,9,  -999.0,9,-999.000,9,-999.000,   0.115,3,-999.000,9,   38.48,2,   34.09,2, -999.00,1, -999.00,9, -999.00,9,-999.000,   0.1200,2,   0.0805,2,   0.0399,2,   0.0266,2,   0.0151,2,   0.0052,2,   0.0006,3,   0.0166,2,   0.0186,2,   1.2359,     -999.0,9,     -999.0,9,     -999.0,9,     -999.0,9,     -999.0,9,     -999.0,9,     -999.0,9,-999.0000, -999.00
33RO20071215,        P18,     163,          1,          7,      11007,2,20080211,       1417,   -64.7510,  -102.9998,       4956,  2401.5,   1.1671,  34.7253,2,  34.7244,2,    199.6,2,   199.2,2,  112.10,2,   32.50,2,    0.00,2,    2.22,2,   0.085,2,   0.042,2,   0.0000,2,  2256.9,2,  2370.5,4,   1079.1,6,    20.00,   7.6103,2,    25.00,-999.000,9,-999.0000,9, -999.00,9, -999.00,9,  -999.0,9,-999.000,9,-999.000,   0.095,3,-999.000,9,   39.19,2,   33.43,2, -999.00,1, -999.00,9, -999.00,9,-999.000,   0.1182,2,   0.0790,2,   0.0389,2,   0.0257,2,   0.0144,2,   0.0047,2,   0.0003,3,   0.0168,2,   0.0189,2,   1.0105,     -999.0,9,     -999.0,9,     -999.0,9,     -999.0,9,     -999.0,9,     -999.0,9,     -999.0,9,-999.0000, -999.00
33RO20071215,        P18,     163,          1,          6,      11006,2,20080211,       1417,   -64.7510,  -102.9998,       4956,  2898.0,   0.9321,  34.7165,2,  34.7153,2,    203.9,2,   204.3,2,  120.20,2,   32.80,2,    0.00,2,    2.24,2,   0.110,2,   0.053,2,   0.0000,2,  2259.3,6,  2363.0,2,   -999.0,9,  -999.00,   7.6077,2,    25.00,-999.000,9,-999.0000,9, -999.00,9, -999.00,9,  -999.0,9,-999.000,9,-999.000,   0.120,3,-999.000,9,   39.51,2,   34.30,2, -999.00,1, -999.00,9, -999.00,9,-999.000,   0.1176,2,   0.0782,2,   0.0383,2,   0.0251,2,   0.0140,2,   0.0044,2,   0.0004,3,   0.0169,2,   0.0191,2,   0.7369,     -999.0,9,     -999.0,9,     -999.0,9,     -999.0,9,     -999.0,9,     -999.0,9,     -999.0,9,-999.0000, -999.00
33RO20071215,        P18,     163,          1,          5,      11005,2,20080211,       1417,   -64.7510,  -102.9998,       4956,  3398.4,   0.7334,  34.7101,2,  34.7130,2,    207.9,2,   207.5,2,  126.40,2,   32.90,2,    0.00,2,    2.26,2,-999.000,9,-999.000,9,-999.0000,9,  2258.8,2,  2360.7,2,   1090.6,2,    20.00,   7.5998,2,    25.00,-999.000,9,-999.0000,9, -999.00,9, -999.00,9,  -999.0,9,-999.000,9,-999.000,-999.000,9,-999.000,9,   39.66,2,   34.35,2, -999.00,1, -999.00,9, -999.00,9,-999.000,   0.1223,2,   0.0826,2,   0.0422,2,   0.0285,2,   0.0171,2,   0.0067,2,   0.0018,2,   0.0158,2,   0.0177,2,   0.4963,     -999.0,9,     -999.0,9,     -999.0,9,     -999.0,9,     -999.0,9,     -999.0,9,     -999.0,9,-999.0000, -999.00
33RO20071215,        P18,     163,          1,          4,      11004,2,20080211,       1417,   -64.7510,  -102.9998,       4956,  3903.8,   0.5232,  34.7066,2,  34.7075,2,    213.0,2,   212.6,2,  131.00,6,   33.00,6,    0.00,6,    2.27,2,   0.200,6,   0.099,6,   0.0000,6,  2259.5,2,  2359.6,2,   -999.0,9,  -999.00,   7.6056,2,    25.00,-999.000,9,-999.0000,9, -999.00,9, -999.00,9,  -999.0,9,-999.000,9,-999.000,   0.192,3,-999.000,9,   39.78,2,   34.32,2, -999.00,9, -999.00,9, -999.00,9,-999.000,   0.1124,2,   0.0739,2,   0.0356,2,   0.0232,2,   0.0126,2,   0.0035,2,  -0.0001,4,   0.0172,2,   0.0197,2,   0.2416,     -999.0,9,     -999.0,9,     -999.0,9,     -999.0,9,     -999.0,9,     -999.0,9,     -999.0,9,-999.0000, -999.00
33RO20071215,        P18,     163,          1,          3,      11003,2,20080211,       1417,   -64.7510,  -102.9998,       4956,  4400.2,   0.4280,  34.7054,2,  34.7067,2,    215.1,2,   214.9,2,  136.70,6,   33.20,6,    0.00,6,    2.28,2,   0.200,2,   0.102,2,   0.0000,2,  2260.6,2,  2378.8,4,   1092.7,2,    20.00,   7.6062,2,    25.00,-999.000,9,-999.0000,9, -999.00,9, -999.00,9,  -999.0,9,-999.000,9,-999.000,   0.224,3,-999.000,9,   40.44,2,   34.26,2, -999.00,9, -999.00,9, -999.00,9,-999.000,   0.1133,2,   0.0745,2,   0.0360,2,   0.0234,2,   0.0127,2,   0.0036,2,   0.0000,4,   0.0173,2,   0.0197,2,   0.0972,     -999.0,9,     -999.0,9,     -999.0,9,     -999.0,9,     -999.0,9,     -999.0,9,     -999.0,9,-999.0000, -999.00
33RO20071215,        P18,     163,          1,          2,      11002,2,20080211,       1417,   -64.7510,  -102.9998,       4956,  4722.1,   0.4185,  34.7048,2,  34.7058,2,    216.8,2,   215.9,2,  139.10,6,   33.20,6,    0.00,6,    2.28,2,   0.240,2,   0.121,2,   0.0000,2,  2261.6,2,  2364.8,2,   -999.0,9,  -999.00,   7.6027,2,    25.00,-999.000,9,-999.0000,9, -999.00,9, -999.00,9,  -999.0,9,-999.000,9,-999.000,   0.242,3,-999.000,9,   39.78,2,   34.40,2, -999.00,9, -999.00,9, -999.00,9,-999.000,   0.1148,2,   0.0753,2,   0.0361,2,   0.0233,2,   0.0127,2,   0.0037,2,   0.0001,4,   0.0174,2,   0.0199,2,   0.0526,     -999.0,9,     -999.0,9,     -999.0,9,     -999.0,9,     -999.0,9,     -999.0,9,     -999.0,9,-999.0000, -999.00
33RO20071215,        P18,     163,          1,          1,      11001,2,20080211,       1417,   -64.7510,  -102.9998,       4956,  5043.0,   0.4191,  34.7033,2,  34.7064,2,    216.5,2,   216.1,2,  149.20,2,   33.30,2,    0.01,2,    2.29,2,   0.336,2,   0.168,2,   0.0000,2,  2262.2,6,  2364.9,2,   1105.6,2,    20.00,   7.6060,2,    25.00,-999.000,9,-999.0000,9, -999.00,9, -999.00,9,  -999.0,9,-999.000,9,-999.000,   0.270,3,-999.000,9,   40.02,2,   34.71,2, -999.00,9, -999.00,9, -999.00,9,-999.000,   0.1242,2,   0.0838,2,   0.0426,2,   0.0285,2,   0.0169,2,   0.0065,2,   0.0018,2,   0.0160,2,   0.0179,2,   0.0165,     -999.0,9,     -999.0,9,     -999.0,9,     -999.0,9,     -999.0,9,     -999.0,9,     -999.0,9,-999.0000, -999.00