BOTTLE,20220818CCHSIOAMB
EXPOCODE,SECT_ID,STNNBR,CASTNO,SAMPNO,BTLNBR,BTLNBR_FLAG_W,DATE,TIME,LATITUDE,LONGITUDE,DEPTH,CTDPRS,CTDTMP,CTDSAL,CTDSAL_FLAG_W,SALNTY,SALNTY_FLAG_W,CTDOXY,CTDOXY_FLAG_W,OXYGEN,OXYGEN_FLAG_W,SILCAT,SILCAT_FLAG_W,NITRAT,NITRAT_FLAG_W,NITRIT,NITRIT_FLAG_W,PHSPHT,PHSPHT_FLAG_W,CFC-11,CFC-11_FLAG_W,CFC-12,CFC-12_FLAG_W,SF6,SF6_FLAG_W,TCARBN,TCARBN_FLAG_W,ALKALI,ALKALI_FLAG_W,FCO2,FCO2_FLAG_W,FCO2TMP,PH_SWS,PH_SWS_FLAG_W,PH_TMP,TRITUM,TRITUM_FLAG_W,HELIUM,HELIUM_FLAG_W,DELHE3,DELHE3_FLAG_W,DELC13,DELC13_FLAG_W,DELC14,DELC14_FLAG_W,NEON,NEON_FLAG_W,NEONER,CCL4,CCL4_FLAG_W,POC,POC_FLAG_W,DOC,DOC_FLAG_W,TDN,TDN_FLAG_W,DON,DON_FLAG_W,CHLORA,CHLORA_FLAG_W,ARGON,ARGON_FLAG_W,TRITER,CDOM325,CDOM325_FLAG_W,CDOM340,CDOM340_FLAG_W,CDOM380,CDOM380_FLAG_W,CDOM412,CDOM412_FLAG_W,CDOM443,CDOM443_FLAG_W,CDOM490,CDOM490_FLAG_W,CDOM555,CDOM555_FLAG_W,CDOMSL,CDOMSL_FLAG_W,CDOMSN,CDOMSN_FLAG_W,THETA,D18O_NO3,D18O_NO3_FLAG_W,CDOM2C,CDOM2C_FLAG_W,CDOM3C,CDOM3C_FLAG_W,LAB_DEN,LAB_DEN_FLAG_W,DELSI30,DELSI30_FLAG_W,N2,N2_FLAG_W,D15N_NO3,D15N_NO3_FLAG_W,HELIER,DELHER
,,,,,,,,,,,METERS,DBAR,ITS-90,PSS-78,,PSS-78,,UMOL/KG,,UMOL/KG,,UMOL/KG,,UMOL/KG,,UMOL/KG,,UMOL/KG,,PMOL/KG,,PMOL/KG,,FMOL/KG,,UMOL/KG,,UMOL/KG,,UATM,,DEG C,,,DEG C,TU,,NMOL/KG,,PERCNT,,/MILLE,,/MILLE,,NMOL/KG,,NMOL/KG,PMOL/KG,,UG/KG,,UMOL/KG,,UMOL/KG,,UMOL/KG,,UG/KG,,UMOL/KG,,TU,1/M,,1/M,,1/M,,1/M,,1/M,,1/M,,1/M,,1/NM,,1/NM,,DEG C,/MILLE,,,,,,,,/MILLE,,UMOL/KG,,/MILLE,,NMOL/KG,PERCNT
33RO20071215,        P18,      35,          1,         11,      12003,2,20071226,       1811,     4.5010,  -109.9983,       3920,  1667.5,   2.7749,  34.6224,2,  34.6234,2,     84.7,2,    83.3,2,  132.70,2,   40.70,2,    0.00,2,    2.86,2,-999.000,9,-999.000,9,-999.0000,9,  2347.8,2,  2403.6,2,   1545.4,2,    20.00,   7.4713,2,    25.00,-999.000,9,-999.0000,9, -999.00,9, -999.00,9,  -999.0,9,-999.000,9,-999.000,-999.000,9,-999.000,9, -999.00,9, -999.00,9, -999.00,9, -999.00,9, -999.00,9,-999.000,   0.1784,2,   0.1287,2,   0.0743,2,   0.0561,2,   0.0372,2,   0.0162,2,   0.0061,2,   0.0139,2,   0.0138,2,   2.6556,     -999.0,9,     -999.0,9,     -999.0,9,     -999.0,9,     -999.0,9,     -999.0,9,     -999.0,9,-999.0000, -999.00
33RO20071215,        P18,      35,          1,         10,      12032,2,20071226,       1811,     4.5010,  -109.9983,       3920,  1867.9,   2.4573,  34.6349,2,  34.6374,2,     92.0,2,    91.4,2,  139.80,2,   40.30,2,    0.00,2,    2.81,2,-999.000,9,-999.000,9,-999.0000,9,  -999.0,9,  -999.0,9,   -999.0,9,  -999.00,-999.0000,9,  -999.00,-999.000,9,-999.0000,9, -999.00,9, -999.00,9,  -999.0,9,-999.000,9,-999.000,-999.000,9,-999.000,9, -999.00,9, -999.00,9, -999.00,9, -999.00,9, -999.00,9,-999.000,   0.1763,2,   0.1268,2,   0.0730,2,   0.0552,2,   0.0365,2,   0.0160,2,   0.0061,2,   0.0139,2,   0.0138,2,   2.3253,     -999.0,9,     -999.0,9,     -999.0,9,     -999.0,9,     -999.0,9,     -999.0,9,     -999.0,9,-999.0000, -999.00
33RO20071215,        P18,      35,          1,          9,      12002,2,20071226,       1811,     4.5010,  -109.9983,       3920,  2067.5,   2.1633,  34.6505,2,  34.6529,2,    101.6,2,   103.3,3,  146.70,2,   39.50,2,    0.00,2,    2.73,2,-999.000,9,-999.000,9,-999.0000,9,  2352.2,2,  -999.0,9,   1439.6,2,    20.00,-999.0000,9,  -999.00,-999.000,9,-999.0000,9, -999.00,9, -999.00,9,  -999.0,9,-999.000,9,-999.000,-999.000,9,-999.000,9, -999.00,9, -999.00,9, -999.00,9, -999.00,9, -999.00,9,-999.000,   0.1778,2,   0.1286,2,   0.0739,2,   0.0549,2,   0.0368,2,   0.0170,2,   0.0069,2,   0.0136,2,   0.0138,2,   2.0185,     -999.0,9,     -999.0,9,     -999.0,9,     -999.0,9,     -999.0,9,     -999.0,9,     -999.0,9,-999.0000, -999.00
33RO20071215,        P18,      35,          1,          8,      12021,2,20071226,       1811,     4.5010,  -109.9983,       3920,  2266.7,   1.9670,  34.6610,2,  34.6628,2,    108.5,2,   107.8,2,  151.20,2,   39.20,2,    0.00,2,    2.68,2,-999.000,9,-999.000,9,-999.0000,9,  -999.0,9,  2427.0,2,   -999.0,9,  -999.00,   7.5179,2,    25.00,-999.000,9,-999.0000,9, -999.00,9, -999.00,9,  -999.0,9,-999.000,9,-999.000,-999.000,9,-999.000,9, -999.00,9, -999.00,9, -999.00,9, -999.00,9, -999.00,9,-999.000,   0.1767,2,   0.1262,2,   0.0706,2,   0.0514,2,   0.0336,2,   0.0151,2,   0.0058,2,   0.0141,2,   0.0146,2,   1.8081,     -999.0,9,     -999.0,9,     -999.0,9,     -999.0,9,     -999.0,9,     -999.0,9,     -999.0,9,-999.0000, -999.00
33RO20071215,        P18,      35,          1,          7,      12001,2,20071226,       1811,     4.5010,  -109.9983,       3920,  2467.6,   1.8621,  34.6673,2,  34.6693,2,    113.7,2,   113.5,2,  153.30,2,   38.70,2,    0.00,2,    2.64,2,-999.000,9,-999.000,9,-999.0000,9,  2353.5,2,  -999.0,9,   1349.8,2,    20.00,-999.0000,9,  -999.00,-999.000,9,-999.0000,9, -999.00,9, -999.00,9,  -999.0,9,-999.000,9,-999.000,-999.000,9,-999.000,9, -999.00,9, -999.00,9, -999.00,9, -999.00,9, -999.00,9,-999.000,   0.1688,2,   0.1203,2,   0.0665,2,   0.0471,2,   0.0312,2,   0.0140,2,   0.0054,2,   0.0142,2,   0.0149,2,   1.6872,     -999.0,9,     -999.0,9,     -999.0,9,     -999.0,9,     -999.0,9,     -999.0,9,     -999.0,9,-999.0000, -999.00
33RO20071215,        P18,      35,          1,          6,      12033,2,20071226,       1811,     4.5010,  -109.9983,       3920,  2666.8,   1.8213,  34.6706,2,  34.6729,2,    115.8,2,   118.2,3,  154.90,2,   38.40,2,    0.00,2,    2.62,2,-999.000,9,-999.000,9,-999.0000,9,  -999.0,9,  -999.0,9,   -999.0,9,  -999.00,-999.0000,9,  -999.00,-999.000,9,-999.0000,9, -999.00,9, -999.00,9,  -999.0,9,-999.000,9,-999.000,-999.000,9,-999.000,9, -999.00,9, -999.00,9, -999.00,9, -999.00,9, -999.00,9,-999.000,   0.1797,2,   0.1302,2,   0.0736,2,   0.0525,2,   0.0357,2,   0.0176,2,   0.0076,2,   0.0134,2,   0.0141,2,   1.6290,     -999.0,9,     -999.0,9,     -999.0,9,     -999.0,9,     -999.0,9,     -999.0,9,     -999.0,9,-999.0000, -999.00
33RO20071215,        P18,      35,          1,          5,      12008,2,20071226,       1811,     4.5010,  -109.9983,       3920,  2867.1,   1.7535,  34.6747,2,  34.6759,2,    122.1,2,   122.1,2,  154.50,2,   38.10,2,    0.00,2,    2.57,2,-999.000,9,-999.000,9,-999.0000,9,  2350.7,2,  2432.6,2,   1308.1,6,    20.00,   7.5443,2,    25.00,-999.000,9,-999.0000,9, -999.00,9, -999.00,9,  -999.0,9,-999.000,9,-999.000,-999.000,9,-999.000,9, -999.00,9, -999.00,9, -999.00,9, -999.00,9, -999.00,9,-999.000,   0.1652,2,   0.1166,2,   0.0639,2,   0.0448,2,   0.0296,2,   0.0136,2,   0.0051,2,   0.0143,2,   0.0152,2,   1.5438,     -999.0,9,     -999.0,9,     -999.0,9,     -999.0,9,     -999.0,9,     -999.0,9,     -999.0,9,-999.0000, -999.00
33RO20071215,        P18,      35,          1,          4,      12009,2,20071226,       1811,     4.5010,  -109.9983,       3920,  3083.0,   1.6521,  34.6794,2,  34.6813,2,    131.3,2,   131.8,2,  153.00,6,   37.60,6,    0.00,6,    2.53,2,-999.000,9,-999.000,9,-999.0000,9,  -999.0,9,  -999.0,9,   -999.0,9,  -999.00,-999.0000,9,  -999.00,-999.000,9,-999.0000,9, -999.00,9, -999.00,9,  -999.0,9,-999.000,9,-999.000,-999.000,9,-999.000,9, -999.00,9, -999.00,9, -999.00,9, -999.00,9, -999.00,9,-999.000,   0.1495,2,   0.1039,2,   0.0549,2,   0.0379,2,   0.0240,2,   0.0096,2,   0.0028,2,   0.0151,2,   0.0163,2,   1.4239,     -999.0,9,     -999.0,9,     -999.0,9,     -999.0,9,     -999.0,9,     -999.0,9,     -999.0,9,-999.0000, -999.00
33RO20071215,        P18,      35,          1,          3,      12006,2,20071226,       1811,     4.5010,  -109.9983,       3920,  3334.2,   1.5249,  34.6860,2,  34.6877,2,    141.0,2,   139.3,2,  153.10,6,   37.10,6,    0.00,6,    2.47,2,-999.000,9,-999.000,9,-999.0000,9,  2338.4,2,  -999.0,9,   1203.6,2,    20.00,-999.0000,9,  -999.00,-999.000,9,-999.0000,9, -999.00,9, -999.00,9,  -999.0,9,-999.000,9,-999.000,-999.000,9,-999.000,9, -999.00,9, -999.00,9, -999.00,9, -999.00,9, -999.00,9,-999.000,   0.1422,2,   0.0976,2,   0.0503,2,   0.0338,2,   0.0212,2,   0.0084,2,   0.0022,2,   0.0155,2,   0.0171,2,   1.2749,     -999.0,9,     -999.0,9,     -999.0,9,     -999.0,9,     -999.0,9,     -999.0,9,     -999.0,9,-999.0000, -999.00
33RO20071215,        P18,      35,          1,          2,      12007,2,20071226,       1811,     4.5010,  -109.9983,       3920,  3582.3,   1.4688,  34.6897,2,  34.6910,2,    147.5,2,   147.7,2,  152.10,6,   36.80,6,    0.00,6,    2.44,2,-999.000,9,-999.000,9,-999.0000,9,  2334.2,2,  2434.1,2,   -999.0,9,  -999.00,   7.5800,2,    25.00,-999.000,9,-999.0000,9, -999.00,9, -999.00,9,  -999.0,9,-999.000,9,-999.000,-999.000,9,-999.000,9, -999.00,9, -999.00,9, -999.00,9, -999.00,9, -999.00,9,-999.000,   0.1476,2,   0.1032,2,   0.0561,2,   0.0391,2,   0.0243,2,   0.0097,2,   0.0023,2,   0.0111,2,   0.0158,2,   1.1950,     -999.0,9,     -999.0,9,     -999.0,9,     -999.0,9,     -999.0,9,     -999.0,9,     -999.0,9,-999.0000, -999.00
33RO20071215,        P18,      35,          1,          1,      12035,2,20071226,       1811,     4.5010,  -109.9983,       3920,  3958.9,   1.4814,  34.6906,2,  34.6877,2,    149.8,2,   149.1,2,  151.90,2,   36.70,2,    0.00,2,    2.42,2,-999.000,9,-999.000,9,-999.0000,9,  2335.3,6,  2437.9,2,   1156.2,2,    20.00,   7.5867,2,    25.00,-999.000,9,-999.0000,9, -999.00,9, -999.00,9,  -999.0,9,-999.000,9,-999.000,-999.000,9,-999.000,9, -999.00,9, -999.00,9, -999.00,9, -999.00,9, -999.00,9,-999.000,   0.1626,2,   0.1166,2,   0.0664,2,   0.0474,2,   0.0313,2,   0.0148,2,   0.0053,2,   0.0115,2,   0.0143,2,   1.1674,     -999.0,9,     -999.0,9,     -999.0,9,     -999.0,9,     -999.0,9,     -999.0,9,     -999.0,9,-999.0000, -999.00