BOTTLE,20220818CCHSIOAMB
EXPOCODE,SECT_ID,STNNBR,CASTNO,SAMPNO,BTLNBR,BTLNBR_FLAG_W,DATE,TIME,LATITUDE,LONGITUDE,DEPTH,CTDPRS,CTDTMP,CTDSAL,CTDSAL_FLAG_W,SALNTY,SALNTY_FLAG_W,CTDOXY,CTDOXY_FLAG_W,OXYGEN,OXYGEN_FLAG_W,SILCAT,SILCAT_FLAG_W,NITRAT,NITRAT_FLAG_W,NITRIT,NITRIT_FLAG_W,PHSPHT,PHSPHT_FLAG_W,CFC-11,CFC-11_FLAG_W,CFC-12,CFC-12_FLAG_W,SF6,SF6_FLAG_W,TCARBN,TCARBN_FLAG_W,ALKALI,ALKALI_FLAG_W,FCO2,FCO2_FLAG_W,FCO2TMP,PH_SWS,PH_SWS_FLAG_W,PH_TMP,TRITUM,TRITUM_FLAG_W,HELIUM,HELIUM_FLAG_W,DELHE3,DELHE3_FLAG_W,DELC13,DELC13_FLAG_W,DELC14,DELC14_FLAG_W,NEON,NEON_FLAG_W,NEONER,CCL4,CCL4_FLAG_W,POC,POC_FLAG_W,DOC,DOC_FLAG_W,TDN,TDN_FLAG_W,DON,DON_FLAG_W,CHLORA,CHLORA_FLAG_W,ARGON,ARGON_FLAG_W,TRITER,CDOM325,CDOM325_FLAG_W,CDOM340,CDOM340_FLAG_W,CDOM380,CDOM380_FLAG_W,CDOM412,CDOM412_FLAG_W,CDOM443,CDOM443_FLAG_W,CDOM490,CDOM490_FLAG_W,CDOM555,CDOM555_FLAG_W,CDOMSL,CDOMSL_FLAG_W,CDOMSN,CDOMSN_FLAG_W,THETA,D18O_NO3,D18O_NO3_FLAG_W,CDOM2C,CDOM2C_FLAG_W,CDOM3C,CDOM3C_FLAG_W,LAB_DEN,LAB_DEN_FLAG_W,DELSI30,DELSI30_FLAG_W,N2,N2_FLAG_W,D15N_NO3,D15N_NO3_FLAG_W,HELIER,DELHER
,,,,,,,,,,,METERS,DBAR,ITS-90,PSS-78,,PSS-78,,UMOL/KG,,UMOL/KG,,UMOL/KG,,UMOL/KG,,UMOL/KG,,UMOL/KG,,PMOL/KG,,PMOL/KG,,FMOL/KG,,UMOL/KG,,UMOL/KG,,UATM,,DEG C,,,DEG C,TU,,NMOL/KG,,PERCNT,,/MILLE,,/MILLE,,NMOL/KG,,NMOL/KG,PMOL/KG,,UG/KG,,UMOL/KG,,UMOL/KG,,UMOL/KG,,UG/KG,,UMOL/KG,,TU,1/M,,1/M,,1/M,,1/M,,1/M,,1/M,,1/M,,1/NM,,1/NM,,DEG C,/MILLE,,,,,,,,/MILLE,,UMOL/KG,,/MILLE,,NMOL/KG,PERCNT
33RO20071215,        P18,       6,          1,         24,      11024,2,20071218,       1910,    21.4147,  -109.9983,       3162,    10.7,  23.6067,  34.7009,2,  34.7054,2,    211.7,2,   213.6,2,    1.70,2,    0.10,2,    0.00,2,    0.24,2,   1.862,2,   1.176,2,   1.0764,2,  2018.9,6,  2311.5,2,   -999.0,9,  -999.00,   8.0278,2,    25.00,-999.000,9,-999.0000,9, -999.00,9, -999.00,9,  -999.0,1,-999.000,9,-999.000,-999.000,9,-999.000,9, -999.00,9, -999.00,9, -999.00,9,    0.14,2, -999.00,9,-999.000,   0.1334,2,   0.0900,2,   0.0377,2,   0.0244,2,   0.0130,2,   0.0053,2,   0.0008,2,   0.0186,2,   0.0216,2,  23.6045,     -999.0,9,     -999.0,9,     -999.0,9,     -999.0,9,     -999.0,9,     -999.0,9,     -999.0,9,-999.0000, -999.00
33RO20071215,        P18,       6,          1,         23,      11023,2,20071218,       1910,    21.4147,  -109.9983,       3162,    24.9,  23.5056,  34.6902,2,  34.6214,2,    211.8,2,   212.0,2,    2.10,2,    0.30,2,    0.03,2,    0.28,2,   1.936,2,   1.206,2,   1.0881,2,  2023.9,2,  2306.2,2,   -999.0,9,  -999.00,   8.0122,2,    25.00,-999.000,9,-999.0000,9, -999.00,9, -999.00,9,  -999.0,9,-999.000,9,-999.000,-999.000,9,-999.000,9, -999.00,9, -999.00,9, -999.00,9,    0.28,2, -999.00,9,-999.000,   0.1619,2,   0.1117,2,   0.0502,2,   0.0331,2,   0.0180,2,   0.0074,2,   0.0018,2,   0.0177,2,   0.0197,2,  23.5004,     -999.0,9,     -999.0,9,     -999.0,9,     -999.0,9,     -999.0,9,     -999.0,9,     -999.0,9,-999.0000, -999.00
33RO20071215,        P18,       6,          1,         22,      11022,2,20071218,       1910,    21.4147,  -109.9983,       3162,    49.8,  17.9258,  34.3447,2,  34.3415,2,    141.9,2,   126.7,2,   10.50,2,   11.00,2,    0.08,2,    1.19,2,-999.000,9,-999.000,9,-999.0000,9,  2139.4,2,  2283.5,2,   -999.0,9,  -999.00,   7.7306,2,    25.00,-999.000,9,-999.0000,9, -999.00,9,    0.41,2,  -999.0,1,-999.000,9,-999.000,-999.000,9,-999.000,9, -999.00,9, -999.00,9, -999.00,9,    0.15,2, -999.00,9,-999.000,   0.3020,2,   0.2251,2,   0.1190,2,   0.0867,2,   0.0475,2,   0.0204,2,   0.0082,2,   0.0160,2,   0.0156,2,  17.9173,     -999.0,9,     -999.0,9,     -999.0,9,     -999.0,9,     -999.0,9,     -999.0,9,     -999.0,9,-999.0000, -999.00
33RO20071215,        P18,       6,          1,         21,      11021,2,20071218,       1910,    21.4147,  -109.9983,       3162,    74.6,  15.0337,  34.2459,2,  34.3279,2,     83.9,2,  -999.0,5,   18.70,2,   19.70,2,    0.03,2,    1.78,2,   2.142,2,   1.255,2,   0.9551,2,  2193.3,2,  2276.9,2,   -999.0,9,  -999.00,   7.5704,2,    25.00,-999.000,9,-999.0000,9, -999.00,9, -999.00,9,  -999.0,9,-999.000,9,-999.000,-999.000,9,-999.000,9, -999.00,9, -999.00,9, -999.00,9,    0.05,2, -999.00,9,-999.000,   0.2586,2,   0.1936,2,   0.1075,2,   0.0817,2,   0.0457,2,   0.0190,2,   0.0073,2,   0.0156,2,   0.0146,2,  15.0225,     -999.0,9,     -999.0,9,     -999.0,9,     -999.0,9,     -999.0,9,     -999.0,9,     -999.0,9,-999.0000, -999.00
33RO20071215,        P18,       6,          1,         20,      11020,2,20071218,       1910,    21.4147,  -109.9983,       3162,   100.6,  13.4653,  34.3321,2,  34.3435,2,     51.3,2,    52.3,2,   23.30,2,   23.60,2,    0.01,2,    2.04,2,-999.000,9,-999.000,9,-999.0000,9,  2215.5,2,  2276.4,2,   -999.0,9,  -999.00,   7.5045,2,    25.00,-999.000,9,-999.0000,9, -999.00,9,   -0.28,2,  -999.0,1,-999.000,9,-999.000,-999.000,9,-999.000,9, -999.00,9, -999.00,9, -999.00,9,    0.02,2, -999.00,9,-999.000,   0.2297,2,   0.1707,2,   0.0956,2,   0.0740,2,   0.0412,2,   0.0157,2,   0.0054,2,   0.0159,2,   0.0145,2,  13.4512,     -999.0,9,     -999.0,9,     -999.0,9,     -999.0,9,     -999.0,9,     -999.0,9,     -999.0,9,-999.0000, -999.00
33RO20071215,        P18,       6,          1,         19,      11019,2,20071218,       1910,    21.4147,  -109.9983,       3162,   125.0,  12.5277,  34.4618,2,  34.4812,2,     32.0,2,    31.8,2,   28.30,2,   25.70,2,    0.01,2,    2.27,2,   1.596,2,   0.896,2,   0.4856,2,  2239.0,2,  2285.9,2,   -999.0,9,  -999.00,   7.4580,2,    25.00,-999.000,9,-999.0000,9, -999.00,9, -999.00,9,  -999.0,9,-999.000,9,-999.000,-999.000,9,-999.000,9, -999.00,9, -999.00,9, -999.00,9,    0.01,2, -999.00,9,-999.000,   0.2214,2,   0.1664,2,   0.0980,2,   0.0781,2,   0.0459,2,   0.0185,2,   0.0070,2,   0.0149,2,   0.0134,2,  12.5110,     -999.0,9,     -999.0,9,     -999.0,9,     -999.0,9,     -999.0,9,     -999.0,9,     -999.0,9,-999.0000, -999.00
33RO20071215,        P18,       6,          1,         18,      11018,2,20071218,       1910,    21.4147,  -109.9983,       3162,   150.3,  12.0861,  34.5682,2,  34.5783,2,     22.0,2,    21.0,2,   31.30,2,   26.00,2,    0.01,2,    2.38,2,-999.000,9,-999.000,9,-999.0000,9,  2251.8,2,  2293.5,2,   -999.0,9,  -999.00,   7.4360,2,    25.00,-999.000,9,-999.0000,9, -999.00,9,   -0.36,2,  -999.0,1,-999.000,9,-999.000,-999.000,9,-999.000,9, -999.00,9, -999.00,9, -999.00,9,    0.00,2, -999.00,9,-999.000,   0.2096,2,   0.1575,2,   0.0936,2,   0.0758,2,   0.0439,2,   0.0168,2,   0.0059,2,   0.0150,2,   0.0133,2,  12.0665,     -999.0,9,     -999.0,9,     -999.0,9,     -999.0,9,     -999.0,9,     -999.0,9,     -999.0,9,-999.0000, -999.00
33RO20071215,        P18,       6,          1,         17,      11017,2,20071218,       1910,    21.4147,  -109.9983,       3162,   200.5,  11.7632,  34.6869,2,  34.6843,2,      6.7,2,     6.7,2,   33.00,2,   25.50,2,    0.00,2,    2.48,2,   0.639,2,   0.370,2,   0.1815,2,  2265.4,2,  2302.5,2,   -999.0,9,  -999.00,   7.4213,2,    25.00,-999.000,9,-999.0000,9, -999.00,9,   -0.34,2,  -999.0,1,-999.000,9,-999.000,-999.000,9,-999.000,9, -999.00,9, -999.00,9, -999.00,9,    0.00,2, -999.00,9,-999.000,   0.2098,2,   0.1591,2,   0.0976,2,   0.0818,2,   0.0475,2,   0.0179,2,   0.0063,2,   0.0148,2,   0.0126,2,  11.7374,     -999.0,9,     -999.0,9,     -999.0,9,     -999.0,9,     -999.0,9,     -999.0,9,     -999.0,9,-999.0000, -999.00
33RO20071215,        P18,       6,          1,         16,      11016,2,20071218,       1910,    21.4147,  -109.9983,       3162,   249.3,  10.7182,  34.6072,2,  34.6060,2,     11.0,2,     9.9,2,   37.00,2,   26.60,2,    0.01,2,    2.53,2,-999.000,9,-999.000,9,-999.0000,9,  2271.9,2,  2302.2,2,   -999.0,9,  -999.00,   7.4049,2,    25.00,-999.000,9,-999.0000,9, -999.00,9,   -0.66,4,  -999.0,1,-999.000,9,-999.000,-999.000,9,-999.000,9, -999.00,9, -999.00,9, -999.00,9,    0.00,2, -999.00,9,-999.000,   0.2060,2,   0.1554,2,   0.0942,2,   0.0785,2,   0.0461,2,   0.0171,2,   0.0058,2,   0.0148,2,   0.0128,2,  10.6881,     -999.0,9,     -999.0,9,     -999.0,9,     -999.0,9,     -999.0,9,     -999.0,9,     -999.0,9,-999.0000, -999.00
33RO20071215,        P18,       6,          1,         15,      11015,2,20071218,       1910,    21.4147,  -109.9983,       3162,   325.2,   9.9178,  34.6087,2,  34.6111,2,      3.9,2,     3.6,2,   43.00,2,   27.40,2,    0.00,2,    2.68,2,   0.240,2,   0.139,2,   0.0658,2,  2286.7,2,  2309.3,2,   -999.0,9,  -999.00,   7.3715,2,    25.00,-999.000,9,-999.0000,9, -999.00,9,   -0.32,2,  -999.0,1,-999.000,9,-999.000,-999.000,9,-999.000,9, -999.00,9, -999.00,9, -999.00,9, -999.00,9, -999.00,9,-999.000,   0.2064,2,   0.1561,2,   0.0957,2,   0.0802,2,   0.0473,2,   0.0176,2,   0.0058,2,   0.0147,2,   0.0126,2,   9.8802,     -999.0,9,     -999.0,9,     -999.0,9,     -999.0,9,     -999.0,9,     -999.0,9,     -999.0,9,-999.0000, -999.00
33RO20071215,        P18,       6,          1,         14,      11014,2,20071218,       1910,    21.4147,  -109.9983,       3162,   400.8,   8.8112,  34.5362,2,  34.5288,2,      5.7,2,     5.8,2,   51.60,2,   31.50,2,    0.00,2,    2.78,2,-999.000,9,-999.000,9,-999.0000,9,  2295.1,2,  2312.8,2,   -999.0,9,  -999.00,   7.3622,2,    25.00,-999.000,9,-999.0000,9, -999.00,9,   -0.34,2,  -999.0,1,-999.000,9,-999.000,-999.000,9,-999.000,9, -999.00,9, -999.00,9, -999.00,9, -999.00,9, -999.00,9,-999.000,   0.2026,2,   0.1519,2,   0.0918,2,   0.0747,2,   0.0457,2,   0.0173,2,   0.0057,2,   0.0146,2,   0.0129,2,   8.7679,     -999.0,9,     -999.0,9,     -999.0,9,     -999.0,9,     -999.0,9,     -999.0,9,     -999.0,9,-999.0000, -999.00
33RO20071215,        P18,       6,          1,         13,      11013,2,20071218,       1910,    21.4147,  -109.9983,       3162,   474.0,   8.0113,  34.5259,2,  34.5257,2,      3.8,2,     3.8,2,   59.60,2,   33.60,2,    0.00,2,    2.90,2,   0.079,2,   0.046,2,   0.0407,2,  2305.4,6,  2320.5,2,   -999.0,9,  -999.00,   7.3492,2,    25.00,-999.000,9,-999.0000,9, -999.00,9,   -0.33,2,  -999.0,1,-999.000,9,-999.000,-999.000,9,-999.000,9, -999.00,9, -999.00,9, -999.00,9, -999.00,9, -999.00,9,-999.000,   0.2104,2,   0.1586,2,   0.0983,2,   0.0811,2,   0.0506,2,   0.0194,2,   0.0065,2,   0.0144,2,   0.0124,2,   7.9627,     -999.0,9,     -999.0,9,     -999.0,9,     -999.0,9,     -999.0,9,     -999.0,9,     -999.0,9,-999.0000, -999.00
33RO20071215,        P18,       6,          1,         12,      11012,2,20071218,       1910,    21.4147,  -109.9983,       3162,   549.3,   7.2530,  34.5115,2,  34.5115,2,      4.0,2,     3.8,2,   67.90,2,   36.00,2,    0.00,2,    2.99,2,-999.000,9,-999.000,9,-999.0000,9,  2316.2,2,  2331.4,2,   -999.0,9,  -999.00,   7.3478,2,    25.00,-999.000,9,-999.0000,9, -999.00,9, -999.00,9,  -999.0,9,-999.000,9,-999.000,-999.000,9,-999.000,9, -999.00,9, -999.00,9, -999.00,9, -999.00,9, -999.00,9,-999.000,   0.2079,2,   0.1567,2,   0.0992,2,   0.0778,2,   0.0483,2,   0.0181,2,   0.0058,2,   0.0147,2,   0.0126,2,   7.1996,     -999.0,9,     -999.0,9,     -999.0,9,     -999.0,9,     -999.0,9,     -999.0,9,     -999.0,9,-999.0000, -999.00
33RO20071215,        P18,       6,          1,         11,      11010,2,20071218,       1910,    21.4147,  -109.9983,       3162,   649.2,   6.1723,  34.4787,2,  34.4786,2,      5.6,2,     5.8,2,   79.60,2,   39.70,2,    0.00,2,    3.06,2,   0.019,2,   0.010,2,   0.0000,2,  2327.1,2,  2337.2,2,   -999.0,9,  -999.00,   7.3349,2,    25.00,-999.000,9,-999.0000,9, -999.00,9,   -0.37,2,  -999.0,1,-999.000,9,-999.000,-999.000,9,-999.000,9, -999.00,9, -999.00,9, -999.00,9, -999.00,9, -999.00,9,-999.000,   0.2021,2,   0.1496,2,   0.0910,2,   0.0725,2,   0.0464,2,   0.0177,2,   0.0056,2,   0.0144,2,   0.0129,2,   6.1141,     -999.0,9,     -999.0,9,     -999.0,9,     -999.0,9,     -999.0,9,     -999.0,9,     -999.0,9,-999.0000, -999.00
33RO20071215,        P18,       6,          1,         10,      11011,2,20071218,       1910,    21.4147,  -109.9983,       3162,   751.0,   5.5323,  34.4828,2,  34.4822,2,      7.6,2,     7.0,2,   88.50,2,   41.70,2,    0.00,2,    3.11,2,-999.000,9,-999.000,9,-999.0000,9,  2338.4,2,  2345.6,2,   -999.0,9,  -999.00,   7.3239,2,    25.00,-999.000,9,-999.0000,9, -999.00,9,   -0.36,2,  -999.0,1,-999.000,9,-999.000,-999.000,9,-999.000,9, -999.00,9, -999.00,9, -999.00,9, -999.00,9, -999.00,9,-999.000,   0.2101,2,   0.1564,2,   0.0961,2,   0.0766,2,   0.0505,2,   0.0208,2,   0.0074,2,   0.0140,2,   0.0125,2,   5.4680,     -999.0,9,     -999.0,9,     -999.0,9,     -999.0,9,     -999.0,9,     -999.0,9,     -999.0,9,-999.0000, -999.00
33RO20071215,        P18,       6,          1,          9,      11009,2,20071218,       1910,    21.4147,  -109.9983,       3162,   900.3,   4.7880,  34.5130,2,  34.5139,2,     10.1,2,    10.4,2,  102.00,2,   43.30,2,    0.00,2,    3.17,2,   0.010,2,   0.004,2,   0.0489,2,  2353.7,2,  2361.3,2,   -999.0,9,  -999.00,   7.3356,2,    25.00,-999.000,9,-999.0000,9, -999.00,9, -999.00,9,  -999.0,9,-999.000,9,-999.000,-999.000,9,-999.000,9, -999.00,9, -999.00,9, -999.00,9, -999.00,9, -999.00,9,-999.000,   0.2066,2,   0.1519,2,   0.0918,2,   0.0717,2,   0.0464,2,   0.0179,2,   0.0057,2,   0.0144,2,   0.0131,2,   4.7150,     -999.0,9,     -999.0,9,     -999.0,9,     -999.0,9,     -999.0,9,     -999.0,9,     -999.0,9,-999.0000, -999.00
33RO20071215,        P18,       6,          1,          8,      11008,2,20071218,       1910,    21.4147,  -109.9983,       3162,  1050.0,   4.1650,  34.5373,2,  34.5382,2,     17.8,2,    17.8,2,  114.60,2,   43.90,2,    0.00,2,    3.17,2,-999.000,9,-999.000,9,-999.0000,9,  2363.7,2,  2374.5,2,   -999.0,9,  -999.00,   7.3428,2,    25.00,-999.000,9,-999.0000,9, -999.00,9,   -0.38,2,  -999.0,1,-999.000,9,-999.000,-999.000,9,-999.000,9, -999.00,9, -999.00,9, -999.00,9, -999.00,9, -999.00,9,-999.000,   0.2012,2,   0.1468,2,   0.0878,2,   0.0677,2,   0.0436,2,   0.0159,2,   0.0046,2,   0.0147,2,   0.0134,2,   4.0838,     -999.0,9,     -999.0,9,     -999.0,9,     -999.0,9,     -999.0,9,     -999.0,9,     -999.0,9,-999.0000, -999.00
33RO20071215,        P18,       6,          1,          7,      11007,2,20071218,       1910,    21.4147,  -109.9983,       3162,  1199.7,   3.7164,  34.5661,2,  34.5676,2,     26.2,2,    26.1,2,  124.50,2,   43.70,2,    0.00,2,    3.14,2,   0.015,2,   0.004,2,   0.0402,2,  2368.8,2,  2387.9,2,   -999.0,9,  -999.00,   7.3531,2,    25.00,-999.000,9,-999.0000,9, -999.00,9,   -0.38,2,  -999.0,1,-999.000,9,-999.000,-999.000,9,-999.000,9, -999.00,9, -999.00,9, -999.00,9, -999.00,9, -999.00,9,-999.000,   0.2107,2,   0.1550,2,   0.0932,2,   0.0717,2,   0.0468,2,   0.0184,2,   0.0061,2,   0.0144,2,   0.0132,2,   3.6263,     -999.0,9,     -999.0,9,     -999.0,9,     -999.0,9,     -999.0,9,     -999.0,9,     -999.0,9,-999.0000, -999.00
33RO20071215,        P18,       6,          1,          6,      11006,2,20071218,       1910,    21.4147,  -109.9983,       3162,  1350.2,   3.3463,  34.5826,2,  34.5851,2,     36.1,2,    36.5,2,  133.10,2,   43.30,2,    0.00,2,    3.09,2,-999.000,9,-999.000,9,-999.0000,9,  2372.3,2,  2401.7,2,   -999.0,9,  -999.00,   7.3750,2,    25.00,-999.000,9,-999.0000,9, -999.00,9, -999.00,9,  -999.0,9,-999.000,9,-999.000,-999.000,9,-999.000,9, -999.00,9, -999.00,9, -999.00,9, -999.00,9, -999.00,9,-999.000,   0.2028,2,   0.1481,2,   0.0873,2,   0.0657,2,   0.0421,2,   0.0157,2,   0.0047,2,   0.0148,2,   0.0138,2,   3.2472,     -999.0,9,     -999.0,9,     -999.0,9,     -999.0,9,     -999.0,9,     -999.0,9,     -999.0,9,-999.0000, -999.00
33RO20071215,        P18,       6,          1,          5,      11005,2,20071218,       1910,    21.4147,  -109.9983,       3162,  1600.6,   2.8275,  34.6087,2,  34.6100,2,     55.1,2,    54.1,2,  142.00,2,   42.50,2,    0.00,2,    2.98,2,   0.011,2,   0.002,2,   0.0200,2,  2371.6,2,  2403.7,4,   -999.0,9,  -999.00,   7.4107,2,    25.00,-999.000,9,-999.0000,9, -999.00,9,    -0.3,2,  -999.0,1,-999.000,9,-999.000,-999.000,9,-999.000,9, -999.00,9, -999.00,9, -999.00,9, -999.00,9, -999.00,9,-999.000,   0.1882,2,   0.1359,2,   0.0791,2,   0.0583,2,   0.0372,2,   0.0134,2,   0.0035,2,   0.0149,2,   0.0142,2,   2.7132,     -999.0,9,     -999.0,9,     -999.0,9,     -999.0,9,     -999.0,9,     -999.0,9,     -999.0,9,-999.0000, -999.00
33RO20071215,        P18,       6,          1,          4,      11004,2,20071218,       1910,    21.4147,  -109.9983,       3162,  1991.1,   2.1791,  34.6390,2,  34.6418,2,     84.1,2,    83.9,2,  154.00,6,   40.60,6,    0.00,6,    2.78,2,-999.000,9,-999.000,9,-999.0000,9,  2367.4,2,  2420.0,2,   -999.0,9,  -999.00,   7.4630,2,    25.00,-999.000,9,-999.0000,9, -999.00,9,   -0.22,2,  -999.0,1,-999.000,9,-999.000,-999.000,9,-999.000,9, -999.00,9, -999.00,9, -999.00,9, -999.00,9, -999.00,9,-999.000,   0.1890,2,   0.1369,2,   0.0780,2,   0.0556,2,   0.0349,2,   0.0134,2,   0.0036,2,   0.0151,2,   0.0147,2,   2.0406,     -999.0,9,     -999.0,9,     -999.0,9,     -999.0,9,     -999.0,9,     -999.0,9,     -999.0,9,-999.0000, -999.00
33RO20071215,        P18,       6,          1,          3,      11003,2,20071218,       1910,    21.4147,  -109.9983,       3162,  2400.4,   1.8807,  34.6583,2,  34.6591,2,    103.4,2,   102.4,2,  158.50,6,   39.30,6,    0.00,6,    2.65,2,   0.003,2,   0.002,2,   0.0215,2,  2361.1,2,  2426.3,2,   -999.0,9,  -999.00,   7.4978,2,    25.00,-999.000,9,-999.0000,9, -999.00,9,   -0.15,2,  -999.0,1,-999.000,9,-999.000,   0.003,3,-999.000,9, -999.00,9, -999.00,9, -999.00,9, -999.00,9, -999.00,9,-999.000,   0.1698,2,   0.1206,2,   0.0679,2,   0.0480,2,   0.0305,2,   0.0122,2,   0.0037,2,   0.0149,2,   0.0150,2,   1.7116,     -999.0,9,     -999.0,9,     -999.0,9,     -999.0,9,     -999.0,9,     -999.0,9,     -999.0,9,-999.0000, -999.00
33RO20071215,        P18,       6,          1,          2,      11002,2,20071218,       1910,    21.4147,  -109.9983,       3162,  2799.5,   1.7268,  34.6678,2,  34.6694,2,    113.7,2,   114.1,2,  162.50,6,   38.80,6,    0.00,6,    2.59,2,   0.005,2,   0.005,2,   0.0000,2,  2357.3,2,  2428.4,2,   -999.0,9,  -999.00,   7.5178,2,    25.00,-999.000,9,-999.0000,9, -999.00,9,   -0.11,2,  -999.0,1,-999.000,9,-999.000,   0.006,3,-999.000,9, -999.00,9, -999.00,9, -999.00,9, -999.00,9, -999.00,9,-999.000,   0.1601,2,   0.1121,2,   0.0608,2,   0.0419,2,   0.0260,2,   0.0096,2,   0.0023,2,   0.0154,2,   0.0160,2,   1.5241,     -999.0,9,     -999.0,9,     -999.0,9,     -999.0,9,     -999.0,9,     -999.0,9,     -999.0,9,-999.0000, -999.00
33RO20071215,        P18,       6,          1,          1,      11001,2,20071218,       1910,    21.4147,  -109.9983,       3162,  3168.9,   1.6731,  34.6723,2,  34.6732,2,    117.8,2,   116.3,2,  166.00,2,   38.60,2,    0.00,2,    2.57,2,   0.011,2,   0.011,2,   0.0478,2,  2357.5,6,  2434.6,2,   -999.0,9,  -999.00,   7.5440,2,    25.00,-999.000,9,-999.0000,9, -999.00,9,    -0.1,2,  -999.0,1,-999.000,9,-999.000,   0.005,3,-999.000,9, -999.00,9, -999.00,9, -999.00,9, -999.00,9, -999.00,9,-999.000,   0.1574,2,   0.1095,2,   0.0591,2,   0.0402,2,   0.0249,2,   0.0090,2,   0.0019,2,   0.0155,2,   0.0163,2,   1.4360,     -999.0,9,     -999.0,9,     -999.0,9,     -999.0,9,     -999.0,9,     -999.0,9,     -999.0,9,-999.0000, -999.00