BOTTLE,20220818CCHSIOAMB
EXPOCODE,SECT_ID,STNNBR,CASTNO,SAMPNO,BTLNBR,BTLNBR_FLAG_W,DATE,TIME,LATITUDE,LONGITUDE,DEPTH,CTDPRS,CTDTMP,CTDSAL,CTDSAL_FLAG_W,SALNTY,SALNTY_FLAG_W,CTDOXY,CTDOXY_FLAG_W,OXYGEN,OXYGEN_FLAG_W,SILCAT,SILCAT_FLAG_W,NITRAT,NITRAT_FLAG_W,NITRIT,NITRIT_FLAG_W,PHSPHT,PHSPHT_FLAG_W,CFC-11,CFC-11_FLAG_W,CFC-12,CFC-12_FLAG_W,SF6,SF6_FLAG_W,TCARBN,TCARBN_FLAG_W,ALKALI,ALKALI_FLAG_W,FCO2,FCO2_FLAG_W,FCO2TMP,PH_SWS,PH_SWS_FLAG_W,PH_TMP,TRITUM,TRITUM_FLAG_W,HELIUM,HELIUM_FLAG_W,DELHE3,DELHE3_FLAG_W,DELC13,DELC13_FLAG_W,DELC14,DELC14_FLAG_W,NEON,NEON_FLAG_W,NEONER,CCL4,CCL4_FLAG_W,POC,POC_FLAG_W,DOC,DOC_FLAG_W,TDN,TDN_FLAG_W,DON,DON_FLAG_W,CHLORA,CHLORA_FLAG_W,ARGON,ARGON_FLAG_W,TRITER,CDOM325,CDOM325_FLAG_W,CDOM340,CDOM340_FLAG_W,CDOM380,CDOM380_FLAG_W,CDOM412,CDOM412_FLAG_W,CDOM443,CDOM443_FLAG_W,CDOM490,CDOM490_FLAG_W,CDOM555,CDOM555_FLAG_W,CDOMSL,CDOMSL_FLAG_W,CDOMSN,CDOMSN_FLAG_W,THETA,D18O_NO3,D18O_NO3_FLAG_W,CDOM2C,CDOM2C_FLAG_W,CDOM3C,CDOM3C_FLAG_W,LAB_DEN,LAB_DEN_FLAG_W,DELSI30,DELSI30_FLAG_W,N2,N2_FLAG_W,D15N_NO3,D15N_NO3_FLAG_W,HELIER,DELHER
,,,,,,,,,,,METERS,DBAR,ITS-90,PSS-78,,PSS-78,,UMOL/KG,,UMOL/KG,,UMOL/KG,,UMOL/KG,,UMOL/KG,,UMOL/KG,,PMOL/KG,,PMOL/KG,,FMOL/KG,,UMOL/KG,,UMOL/KG,,UATM,,DEG C,,,DEG C,TU,,NMOL/KG,,PERCNT,,/MILLE,,/MILLE,,NMOL/KG,,NMOL/KG,PMOL/KG,,UG/KG,,UMOL/KG,,UMOL/KG,,UMOL/KG,,UG/KG,,UMOL/KG,,TU,1/M,,1/M,,1/M,,1/M,,1/M,,1/M,,1/M,,1/NM,,1/NM,,DEG C,/MILLE,,,,,,,,/MILLE,,UMOL/KG,,/MILLE,,NMOL/KG,PERCNT
33RO20071215,        P18,     144,          1,         11,      12003,2,20080205,       1805,   -54.9168,  -102.9980,       4279,  2132.3,   2.1067,  34.6976,2,  34.6982,2,    176.0,2,   175.8,2,   91.70,2,   32.80,2,    0.00,2,    2.29,2,-999.000,9,-999.000,9,-999.0000,9,  -999.0,9,  -999.0,9,   -999.0,9,  -999.00,-999.0000,9,  -999.00,-999.000,9,-999.0000,9, -999.00,9, -999.00,9,  -999.0,9,-999.000,9,-999.000,-999.000,9,-999.000,9,   39.17,2,   33.69,2, -999.00,9, -999.00,9, -999.00,9,-999.000,   0.1181,2,   0.0788,2,   0.0384,2,   0.0254,2,   0.0146,2,   0.0049,2,   0.0006,2,   0.0167,2,   0.0190,2,   1.9570,     -999.0,9,     -999.0,9,     -999.0,9,     -999.0,9,     -999.0,9,     -999.0,9,     -999.0,9,-999.0000, -999.00
33RO20071215,        P18,     144,          1,         10,      12032,2,20080205,       1805,   -54.9168,  -102.9980,       4279,  2330.5,   1.9564,  34.7102,2,  34.7095,2,    178.6,2,   178.4,2,   97.10,2,   32.60,2,    0.00,2,    2.28,2,-999.000,9,-999.000,9,-999.0000,9,  2265.2,2,  2362.2,2,   -999.0,9,  -999.00,   7.5880,2,    25.00,-999.000,9,-999.0000,9, -999.00,9, -999.00,9,  -999.0,9,-999.000,9,-999.000,-999.000,9,-999.000,9,   38.75,2,   33.57,2, -999.00,9, -999.00,9, -999.00,9,-999.000,   0.1179,2,   0.0787,2,   0.0385,2,   0.0255,2,   0.0148,2,   0.0054,2,   0.0011,2,   0.0165,2,   0.0189,2,   1.7919,     -999.0,9,     -999.0,9,     -999.0,9,     -999.0,9,     -999.0,9,     -999.0,9,     -999.0,9,-999.0000, -999.00
33RO20071215,        P18,     144,          1,          9,      12002,2,20080205,       1805,   -54.9168,  -102.9980,       4279,  2531.1,   1.8045,  34.7211,2,  34.7214,2,    184.6,2,   184.2,2,   99.70,2,   32.30,2,    0.00,2,    2.25,2,-999.000,9,-999.000,9,-999.0000,9,  -999.0,9,  -999.0,9,   -999.0,9,  -999.00,-999.0000,9,  -999.00,-999.000,9,-999.0000,9, -999.00,9, -999.00,9,  -999.0,9,-999.000,9,-999.000,-999.000,9,-999.000,9,   38.36,2,   33.79,2, -999.00,9, -999.00,9, -999.00,9,-999.000,   0.1151,2,   0.0761,2,   0.0363,2,   0.0236,2,   0.0135,2,   0.0047,2,   0.0008,2,   0.0170,2,   0.0196,2,   1.6247,     -999.0,9,     -999.0,9,     -999.0,9,     -999.0,9,     -999.0,9,     -999.0,9,     -999.0,9,-999.0000, -999.00
33RO20071215,        P18,     144,          1,          8,      12021,2,20080205,       1805,   -54.9168,  -102.9980,       4279,  2731.0,   1.6447,  34.7167,2,  34.7158,2,    183.7,2,   183.6,2,  107.50,2,   32.60,2,    0.00,2,    2.28,2,-999.000,9,-999.000,9,-999.0000,9,  2270.6,2,  2369.7,2,   -999.0,9,  -999.00,   7.5941,2,    25.00,-999.000,9,-999.0000,9, -999.00,9, -999.00,9,  -999.0,9,-999.000,9,-999.000,-999.000,9,-999.000,9,   39.06,2,   34.20,2, -999.00,9, -999.00,9, -999.00,9,-999.000,   0.1138,2,   0.0746,2,   0.0356,2,   0.0231,2,   0.0134,2,   0.0047,2,   0.0010,2,   0.0170,2,   0.0197,2,   1.4498,     -999.0,9,     -999.0,9,     -999.0,9,     -999.0,9,     -999.0,9,     -999.0,9,     -999.0,9,-999.0000, -999.00
33RO20071215,        P18,     144,          1,          7,      12001,2,20080205,       1805,   -54.9168,  -102.9980,       4279,  2930.3,   1.5739,  34.7196,2,  34.7209,2,    187.3,2,   187.1,2,  108.70,2,   32.50,2,    0.00,2,    2.27,2,-999.000,9,-999.000,9,-999.0000,9,  -999.0,9,  -999.0,9,   -999.0,9,  -999.00,-999.0000,9,  -999.00,-999.000,9,-999.0000,9, -999.00,9, -999.00,9,  -999.0,9,-999.000,9,-999.000,-999.000,9,-999.000,9,   39.43,2,   33.68,2, -999.00,9, -999.00,9, -999.00,9,-999.000,   0.1124,2,   0.0734,2,   0.0340,2,   0.0220,2,   0.0124,2,   0.0041,2,   0.0008,2,   0.0175,2,   0.0204,2,   1.3619,     -999.0,9,     -999.0,9,     -999.0,9,     -999.0,9,     -999.0,9,     -999.0,9,     -999.0,9,-999.0000, -999.00
33RO20071215,        P18,     144,          1,          6,      12033,2,20080205,       1805,   -54.9168,  -102.9980,       4279,  3165.9,   1.4767,  34.7223,2,  34.7248,2,    192.1,2,   191.8,2,  110.00,2,   32.40,2,    0.00,2,    2.25,2,   0.043,2,   0.022,2,   0.0000,2,  2264.4,2,  2360.8,2,   -999.0,9,  -999.00,   7.6077,2,    25.00,-999.000,9,-999.0000,9, -999.00,9, -999.00,9,  -999.0,9,-999.000,9,-999.000,   0.062,3,-999.000,9,   38.34,2,   33.73,2, -999.00,9, -999.00,9, -999.00,9,-999.000,   0.1128,2,   0.0735,2,   0.0341,2,   0.0220,2,   0.0125,2,   0.0043,2,   0.0010,2,   0.0174,2,   0.0204,2,   1.2442,     -999.0,9,     -999.0,9,     -999.0,9,     -999.0,9,     -999.0,9,     -999.0,9,     -999.0,9,-999.0000, -999.00
33RO20071215,        P18,     144,          1,          5,      12008,2,20080205,       1805,   -54.9168,  -102.9980,       4279,  3416.9,   1.3123,  34.7212,2,  34.7225,2,    196.8,2,   196.8,2,  114.10,2,   32.40,2,    0.00,2,    2.25,2,   0.057,2,   0.029,2,   0.0000,2,  -999.0,9,  -999.0,9,   -999.0,9,  -999.00,-999.0000,9,  -999.00,-999.000,9,-999.0000,9, -999.00,9, -999.00,9,  -999.0,9,-999.000,9,-999.000,   0.076,3,-999.000,9,   39.13,2,   33.89,2, -999.00,9, -999.00,9, -999.00,9,-999.000,   0.1165,2,   0.0766,2,   0.0363,2,   0.0239,2,   0.0139,2,   0.0051,2,   0.0014,2,   0.0169,2,   0.0197,2,   1.0589,     -999.0,9,     -999.0,9,     -999.0,9,     -999.0,9,     -999.0,9,     -999.0,9,     -999.0,9,-999.0000, -999.00
33RO20071215,        P18,     144,          1,          4,      12009,2,20080205,       1805,   -54.9168,  -102.9980,       4279,  3666.3,   1.0797,  34.7167,2,  34.7171,2,    201.5,2,   201.5,2,  120.90,6,   32.50,6,    0.00,6,    2.26,2,   0.087,2,   0.046,2,   0.0000,2,  2263.6,2,  2365.7,2,   -999.0,9,  -999.00,   7.6027,2,    25.00,-999.000,9,-999.0000,9, -999.00,9, -999.00,9,  -999.0,9,-999.000,9,-999.000,   0.105,3,-999.000,9,   39.68,2,   33.99,2, -999.00,9, -999.00,9, -999.00,9,-999.000,   0.1112,2,   0.0720,2,   0.0331,2,   0.0215,2,   0.0120,2,   0.0039,2,   0.0008,2,   0.0176,2,   0.0207,2,   0.8072,     -999.0,9,     -999.0,9,     -999.0,9,     -999.0,9,     -999.0,9,     -999.0,9,     -999.0,9,-999.0000, -999.00
33RO20071215,        P18,     144,          1,          3,      12006,2,20080205,       1805,   -54.9168,  -102.9980,       4279,  3915.1,   0.8652,  34.7119,2,  34.7130,2,    204.7,2,   204.8,2,  128.60,6,   32.80,6,    0.00,6,    2.28,2,   0.082,6,   0.044,6,   0.0000,6,  2266.4,2,  2365.9,2,   -999.0,9,  -999.00,   7.6114,2,    25.00,-999.000,9,-999.0000,9, -999.00,9, -999.00,9,  -999.0,9,-999.000,9,-999.000,   0.108,3,-999.000,9,   38.74,2,   33.80,2, -999.00,9, -999.00,9, -999.00,9,-999.000,   0.1112,2,   0.0721,2,   0.0331,2,   0.0214,2,   0.0119,2,   0.0037,2,   0.0006,2,   0.0177,2,   0.0208,2,   0.5729,     -999.0,9,     -999.0,9,     -999.0,9,     -999.0,9,     -999.0,9,     -999.0,9,     -999.0,9,-999.0000, -999.00
33RO20071215,        P18,     144,          1,          2,      12007,2,20080205,       1805,   -54.9168,  -102.9980,       4279,  4165.4,   0.8108,  34.7105,2,  34.7110,2,    205.9,2,   206.0,2,  131.20,6,   32.90,6,    0.00,6,    2.28,2,   0.084,2,   0.047,2,   0.0000,2,  2267.3,2,  2372.1,2,   -999.0,9,  -999.00,   7.6099,2,    25.00,-999.000,9,-999.0000,9, -999.00,9, -999.00,9,  -999.0,9,-999.000,9,-999.000,   0.111,3,-999.000,9,   39.01,2,   34.22,2, -999.00,9, -999.00,9, -999.00,9,-999.000,   0.1113,2,   0.0717,2,   0.0326,2,   0.0207,2,   0.0115,2,   0.0037,2,   0.0008,2,   0.0180,2,   0.0212,2,   0.4937,     -999.0,9,     -999.0,9,     -999.0,9,     -999.0,9,     -999.0,9,     -999.0,9,     -999.0,9,-999.0000, -999.00
33RO20071215,        P18,     144,          1,          1,      12035,2,20080205,       1805,   -54.9168,  -102.9980,       4279,  4363.0,   0.7506,  34.7087,2,  34.7097,2,    208.2,2,   208.3,2,  131.70,2,   32.70,2,    0.01,2,    2.28,2,   0.136,2,   0.072,2,   0.0000,2,  2264.5,2,  2366.0,2,   -999.0,9,  -999.00,   7.5997,2,    25.00,-999.000,9,-999.0000,9, -999.00,9, -999.00,9,  -999.0,9,-999.000,9,-999.000,   0.165,3,-999.000,9,   39.32,2,   33.72,2, -999.00,9, -999.00,9, -999.00,9,-999.000,   0.1186,2,   0.0770,2,   0.0352,2,   0.0228,2,   0.0129,2,   0.0043,2,   0.0009,2,   0.0176,2,   0.0208,2,   0.4139,     -999.0,9,     -999.0,9,     -999.0,9,     -999.0,9,     -999.0,9,     -999.0,9,     -999.0,9,-999.0000, -999.00