BOTTLE,20220818CCHSIOAMB
EXPOCODE,SECT_ID,STNNBR,CASTNO,SAMPNO,BTLNBR,BTLNBR_FLAG_W,DATE,TIME,LATITUDE,LONGITUDE,DEPTH,CTDPRS,CTDTMP,CTDSAL,CTDSAL_FLAG_W,SALNTY,SALNTY_FLAG_W,CTDOXY,CTDOXY_FLAG_W,OXYGEN,OXYGEN_FLAG_W,SILCAT,SILCAT_FLAG_W,NITRAT,NITRAT_FLAG_W,NITRIT,NITRIT_FLAG_W,PHSPHT,PHSPHT_FLAG_W,CFC-11,CFC-11_FLAG_W,CFC-12,CFC-12_FLAG_W,SF6,SF6_FLAG_W,TCARBN,TCARBN_FLAG_W,ALKALI,ALKALI_FLAG_W,FCO2,FCO2_FLAG_W,FCO2TMP,PH_SWS,PH_SWS_FLAG_W,PH_TMP,TRITUM,TRITUM_FLAG_W,HELIUM,HELIUM_FLAG_W,DELHE3,DELHE3_FLAG_W,DELC13,DELC13_FLAG_W,DELC14,DELC14_FLAG_W,NEON,NEON_FLAG_W,NEONER,CCL4,CCL4_FLAG_W,POC,POC_FLAG_W,DOC,DOC_FLAG_W,TDN,TDN_FLAG_W,DON,DON_FLAG_W,CHLORA,CHLORA_FLAG_W,ARGON,ARGON_FLAG_W,TRITER,CDOM325,CDOM325_FLAG_W,CDOM340,CDOM340_FLAG_W,CDOM380,CDOM380_FLAG_W,CDOM412,CDOM412_FLAG_W,CDOM443,CDOM443_FLAG_W,CDOM490,CDOM490_FLAG_W,CDOM555,CDOM555_FLAG_W,CDOMSL,CDOMSL_FLAG_W,CDOMSN,CDOMSN_FLAG_W,THETA,D18O_NO3,D18O_NO3_FLAG_W,CDOM2C,CDOM2C_FLAG_W,CDOM3C,CDOM3C_FLAG_W,LAB_DEN,LAB_DEN_FLAG_W,DELSI30,DELSI30_FLAG_W,N2,N2_FLAG_W,D15N_NO3,D15N_NO3_FLAG_W,HELIER,DELHER
,,,,,,,,,,,METERS,DBAR,ITS-90,PSS-78,,PSS-78,,UMOL/KG,,UMOL/KG,,UMOL/KG,,UMOL/KG,,UMOL/KG,,UMOL/KG,,PMOL/KG,,PMOL/KG,,FMOL/KG,,UMOL/KG,,UMOL/KG,,UATM,,DEG C,,,DEG C,TU,,NMOL/KG,,PERCNT,,/MILLE,,/MILLE,,NMOL/KG,,NMOL/KG,PMOL/KG,,UG/KG,,UMOL/KG,,UMOL/KG,,UMOL/KG,,UG/KG,,UMOL/KG,,TU,1/M,,1/M,,1/M,,1/M,,1/M,,1/M,,1/M,,1/NM,,1/NM,,DEG C,/MILLE,,,,,,,,/MILLE,,UMOL/KG,,/MILLE,,NMOL/KG,PERCNT
33RO20071215,        P18,     124,          1,         36,      12017,2,20080130,       0651,   -43.2517,  -103.0003,       3759,     4.3,  14.4541,  33.9968,2,  33.9972,2,    260.3,2,   261.0,2,    1.30,2,   12.50,2,    0.31,2,    0.89,2,-999.000,9,-999.000,9,-999.0000,9,  2064.2,6,  2259.7,2,   -999.0,9,  -999.00,   7.8722,2,    25.00,-999.000,9,-999.0000,9, -999.00,9, -999.00,9,  -999.0,9,-999.000,9,-999.000,-999.000,9,-999.000,9,   52.91,2,   17.14,2, -999.00,1, -999.00,9, -999.00,9,-999.000,-999.0000,9,-999.0000,9,-999.0000,9,-999.0000,9,-999.0000,9,-999.0000,9,-999.0000,9,-999.0000,9,-999.0000,9,  14.4535,     -999.0,9,     -999.0,9,     -999.0,9,     -999.0,9,     -999.0,9,     -999.0,9,     -999.0,9,-999.0000, -999.00
33RO20071215,        P18,     124,          1,         35,      12029,2,20080130,       0651,   -43.2517,  -103.0003,       3759,    10.3,  14.3026,  34.0049,2,  34.0146,2,    260.8,2,   261.6,2,    1.40,2,   12.40,2,    0.29,2,    0.88,2,   3.121,2,   1.809,2,   1.5043,2,  2066.1,2,  2259.6,2,   -999.0,9,  -999.00,   7.8744,2,    25.00,-999.000,9,-999.0000,9, -999.00,9,    1.67,2,  -999.0,1,-999.000,9,-999.000,-999.000,9,-999.000,9,   53.09,2,   16.65,2, -999.00,1, -999.00,9, -999.00,1,-999.000,-999.0000,9,-999.0000,9,-999.0000,9,-999.0000,9,-999.0000,9,-999.0000,9,-999.0000,9,-999.0000,9,-999.0000,9,  14.3011,     -999.0,1,     -999.0,9,     -999.0,9,     -999.0,9,     -999.0,9,     -999.0,1,     -999.0,9,-999.0000, -999.00
33RO20071215,        P18,     124,          1,         34,      12049,2,20080130,       0651,   -43.2517,  -103.0003,       3759,    24.9,  14.1434,  34.0145,2,  34.0162,2,    262.0,2,   261.9,2,    1.40,2,   12.40,2,    0.29,2,    0.88,2,-999.000,9,-999.000,9,-999.0000,9,  2066.1,2,  2261.4,2,   -999.0,9,  -999.00,   7.8591,2,    25.00,-999.000,9,-999.0000,9, -999.00,9, -999.00,9,  -999.0,9,-999.000,9,-999.000,-999.000,9,-999.000,9,   53.16,2,   16.69,2, -999.00,1, -999.00,9, -999.00,9,-999.000,-999.0000,9,-999.0000,9,-999.0000,9,-999.0000,9,-999.0000,9,-999.0000,9,-999.0000,9,-999.0000,9,-999.0000,9,  14.1398,     -999.0,9,     -999.0,9,     -999.0,9,     -999.0,9,     -999.0,9,     -999.0,9,     -999.0,9,-999.0000, -999.00
33RO20071215,        P18,     124,          1,         33,      12027,2,20080130,       0651,   -43.2517,  -103.0003,       3759,    50.7,  11.1643,  34.0403,2,  34.0435,2,    284.0,2,   286.1,2,    1.40,2,   12.70,2,    0.20,2,    0.90,2,   3.628,3,   2.066,3,   1.6869,2,  2073.3,2,  2264.6,2,   -999.0,9,  -999.00,   7.8565,2,    25.00,-999.000,9,-999.0000,9, -999.00,9,    1.66,2,  -999.0,1,-999.000,9,-999.000,-999.000,9,-999.000,9,   51.86,2,   17.50,2, -999.00,1, -999.00,9, -999.00,9,-999.000,-999.0000,9,-999.0000,9,-999.0000,9,-999.0000,9,-999.0000,9,-999.0000,9,-999.0000,9,-999.0000,9,-999.0000,9,  11.1581,     -999.0,9,     -999.0,9,     -999.0,9,     -999.0,9,     -999.0,9,     -999.0,9,     -999.0,9,-999.0000, -999.00
33RO20071215,        P18,     124,          1,         32,      12023,2,20080130,       0651,   -43.2517,  -103.0003,       3759,    74.0,  10.2823,  34.0507,2,  34.0509,2,    283.3,2,   283.9,2,    1.50,2,   12.90,2,    0.25,2,    0.92,2,-999.000,9,-999.000,9,-999.0000,9,  2077.2,2,  2262.1,2,   -999.0,9,  -999.00,   7.8465,2,    25.00,-999.000,9,-999.0000,9, -999.00,9, -999.00,9,  -999.0,9,-999.000,9,-999.000,-999.000,9,-999.000,9,   51.63,2,   16.61,2, -999.00,1, -999.00,9, -999.00,9,-999.000,-999.0000,9,-999.0000,9,-999.0000,9,-999.0000,9,-999.0000,9,-999.0000,9,-999.0000,9,-999.0000,9,-999.0000,9,  10.2737,     -999.0,9,     -999.0,9,     -999.0,9,     -999.0,9,     -999.0,9,     -999.0,9,     -999.0,9,-999.0000, -999.00
33RO20071215,        P18,     124,          1,         31,      12037,2,20080130,       0651,   -43.2517,  -103.0003,       3759,   100.4,   9.4993,  34.0673,2,  34.0705,2,    282.4,2,   282.4,2,    1.60,2,   14.00,2,    0.31,2,    0.99,2,   3.471,3,   2.136,2,   1.8314,2,  2086.9,2,  2266.1,2,   -999.0,9,  -999.00,   7.8323,2,    25.00,-999.000,9,-999.0000,9, -999.00,9,     1.6,2,  -999.0,1,-999.000,9,-999.000,-999.000,9,-999.000,9,   50.60,2,   17.74,2, -999.00,1, -999.00,9, -999.00,9,-999.000,-999.0000,9,-999.0000,9,-999.0000,9,-999.0000,9,-999.0000,9,-999.0000,9,-999.0000,9,-999.0000,9,-999.0000,9,   9.4882,     -999.0,9,     -999.0,9,     -999.0,9,     -999.0,9,     -999.0,9,     -999.0,9,     -999.0,9,-999.0000, -999.00
33RO20071215,        P18,     124,          1,         30,      12036,2,20080130,       0651,   -43.2517,  -103.0003,       3759,   124.4,   8.8634,  34.0800,2,  34.0831,2,    280.3,2,   281.3,2,    1.90,2,   14.90,2,    0.36,2,    1.07,2,-999.000,9,-999.000,9,-999.0000,9,  2093.7,2,  2262.9,2,   -999.0,9,  -999.00,   7.8180,2,    25.00,-999.000,9,-999.0000,9, -999.00,9, -999.00,9,  -999.0,9,-999.000,9,-999.000,-999.000,9,-999.000,9,   50.48,2,   18.14,2, -999.00,1, -999.00,9, -999.00,9,-999.000,-999.0000,9,-999.0000,9,-999.0000,9,-999.0000,9,-999.0000,9,-999.0000,9,-999.0000,9,-999.0000,9,-999.0000,9,   8.8502,     -999.0,9,     -999.0,9,     -999.0,9,     -999.0,9,     -999.0,9,     -999.0,9,     -999.0,9,-999.0000, -999.00
33RO20071215,        P18,     124,          1,         29,      12044,2,20080130,       0651,   -43.2517,  -103.0003,       3759,   150.5,   8.3510,  34.1119,2,  34.1130,2,    270.2,2,   271.4,2,    2.40,2,   16.60,2,    0.32,2,    1.16,2,   4.045,3,   2.245,3,   1.6355,2,  2105.3,2,  2267.7,2,   -999.0,9,  -999.00,   7.7868,2,    25.00,-999.000,9,-999.0000,9, -999.00,9,    1.43,2,  -999.0,1,-999.000,9,-999.000,-999.000,9,-999.000,9,   48.79,2,   19.27,2, -999.00,1, -999.00,9, -999.00,9,-999.000,-999.0000,9,-999.0000,9,-999.0000,9,-999.0000,9,-999.0000,9,-999.0000,9,-999.0000,9,-999.0000,9,-999.0000,9,   8.3356,     -999.0,9,     -999.0,9,     -999.0,9,     -999.0,9,     -999.0,9,     -999.0,9,     -999.0,9,-999.0000, -999.00
33RO20071215,        P18,     124,          1,         28,      12057,2,20080130,       0651,   -43.2517,  -103.0003,       3759,   176.8,   7.6281,  34.1537,2,  34.1507,2,    269.3,2,   270.0,2,    3.10,2,   18.10,2,    0.19,2,    1.24,2,-999.000,9,-999.000,9,-999.0000,9,  2114.2,2,  2269.1,2,   -999.0,9,  -999.00,   7.7696,2,    25.00,-999.000,9,-999.0000,9, -999.00,9, -999.00,9,  -999.0,9,-999.000,9,-999.000,-999.000,9,-999.000,9,   47.51,2,   20.76,2, -999.00,1, -999.00,9, -999.00,9,-999.000,-999.0000,9,-999.0000,9,-999.0000,9,-999.0000,9,-999.0000,9,-999.0000,9,-999.0000,9,-999.0000,9,-999.0000,9,   7.6109,     -999.0,9,     -999.0,9,     -999.0,9,     -999.0,9,     -999.0,9,     -999.0,9,     -999.0,9,-999.0000, -999.00
33RO20071215,        P18,     124,          1,         27,      12026,2,20080130,       0651,   -43.2517,  -103.0003,       3759,   200.7,   7.0765,  34.2026,2,  34.1974,2,    263.1,2,   264.4,2,    4.30,2,   19.90,2,    0.01,2,    1.33,2,   3.606,3,   2.242,2,   1.6311,2,  2125.0,2,  2267.7,2,   -999.0,9,  -999.00,   7.7516,2,    25.00,-999.000,9,-999.0000,9, -999.00,9,    1.25,2,  -999.0,1,-999.000,9,-999.000,-999.000,9,-999.000,9,   47.27,2,   22.37,2, -999.00,1, -999.00,9, -999.00,9,-999.000,-999.0000,9,-999.0000,9,-999.0000,9,-999.0000,9,-999.0000,9,-999.0000,9,-999.0000,9,-999.0000,9,-999.0000,9,   7.0578,     -999.0,9,     -999.0,9,     -999.0,9,     -999.0,9,     -999.0,9,     -999.0,9,     -999.0,9,-999.0000, -999.00
33RO20071215,        P18,     124,          1,         26,      12030,2,20080130,       0651,   -43.2517,  -103.0003,       3759,   250.0,   6.6816,  34.2524,2,  34.2505,2,    261.1,2,   261.6,2,    5.70,2,   21.20,2,    0.01,2,    1.41,2,-999.000,9,-999.000,9,-999.0000,9,  2133.6,2,  2274.7,2,   -999.0,9,  -999.00,   7.7396,2,    25.00,-999.000,9,-999.0000,9, -999.00,9,    1.22,2,  -999.0,1,-999.000,9,-999.000,-999.000,9,-999.000,9,   45.95,2,   23.11,2, -999.00,1, -999.00,9, -999.00,9,-999.000,-999.0000,9,-999.0000,9,-999.0000,9,-999.0000,9,-999.0000,9,-999.0000,9,-999.0000,9,-999.0000,9,-999.0000,9,   6.6590,     -999.0,9,     -999.0,9,     -999.0,9,     -999.0,9,     -999.0,9,     -999.0,9,     -999.0,9,-999.0000, -999.00
33RO20071215,        P18,     124,          1,         25,      12024,2,20080130,       0651,   -43.2517,  -103.0003,       3759,   301.3,   6.5572,  34.2980,2,  34.2975,2,    261.4,2,   261.5,2,    6.90,2,   21.60,2,    0.01,2,    1.43,2,   3.768,3,   2.208,2,   1.4229,2,  2137.4,2,  2276.5,2,   -999.0,9,  -999.00,   7.7266,2,    25.00,-999.000,9,-999.0000,9, -999.00,9,    1.23,2,  -999.0,1,-999.000,9,-999.000,-999.000,9,-999.000,9,   44.70,2,   23.06,2, -999.00,1, -999.00,9, -999.00,9,-999.000,-999.0000,9,-999.0000,9,-999.0000,9,-999.0000,9,-999.0000,9,-999.0000,9,-999.0000,9,-999.0000,9,-999.0000,9,   6.5301,     -999.0,9,     -999.0,9,     -999.0,9,     -999.0,9,     -999.0,9,     -999.0,9,     -999.0,9,-999.0000, -999.00
33RO20071215,        P18,     124,          1,         24,      12019,2,20080130,       0651,   -43.2517,  -103.0003,       3759,   350.6,   6.4747,  34.3062,2,  34.3053,2,    262.1,2,   262.4,2,    7.50,2,   21.90,2,    0.00,2,    1.44,2,-999.000,9,-999.000,9,-999.0000,9,  2137.2,2,  2276.8,2,   -999.0,9,  -999.00,   7.7319,2,    25.00,-999.000,9,-999.0000,9, -999.00,9, -999.00,9,  -999.0,9,-999.000,9,-999.000,-999.000,9,-999.000,9,   44.01,2,   23.14,2, -999.00,1, -999.00,9, -999.00,9,-999.000,-999.0000,9,-999.0000,9,-999.0000,9,-999.0000,9,-999.0000,9,-999.0000,9,-999.0000,9,-999.0000,9,-999.0000,9,   6.4433,     -999.0,9,     -999.0,9,     -999.0,9,     -999.0,9,     -999.0,9,     -999.0,9,     -999.0,9,-999.0000, -999.00
33RO20071215,        P18,     124,          1,         23,      12022,2,20080130,       0651,   -43.2517,  -103.0003,       3759,   401.2,   6.3351,  34.3017,2,  34.3018,2,    262.5,2,   261.9,2,    8.00,2,   22.30,2,    0.00,2,    1.48,2,   3.660,3,   2.147,6,   1.1997,6,  2138.2,2,  2279.8,2,   -999.0,9,  -999.00,   7.7314,2,    25.00,-999.000,9,-999.0000,9, -999.00,9,    1.21,2,  -999.0,1,-999.000,9,-999.000,-999.000,9,-999.000,9,   43.07,2,   23.78,2, -999.00,1, -999.00,9, -999.00,9,-999.000,-999.0000,9,-999.0000,9,-999.0000,9,-999.0000,9,-999.0000,9,-999.0000,9,-999.0000,9,-999.0000,9,-999.0000,9,   6.2994,     -999.0,9,     -999.0,9,     -999.0,9,     -999.0,9,     -999.0,9,     -999.0,9,     -999.0,9,-999.0000, -999.00
33RO20071215,        P18,     124,          1,         22,      12015,2,20080130,       0651,   -43.2517,  -103.0003,       3759,   502.1,   6.0734,  34.2862,2,  34.2863,2,    261.8,2,   261.9,2,    8.90,2,   23.10,2,    0.00,2,    1.53,2,-999.000,9,-999.000,9,-999.0000,9,  2139.8,2,  2279.9,2,   -999.0,9,  -999.00,   7.7235,2,    25.00,-999.000,9,-999.0000,9, -999.00,9,    1.16,2,  -999.0,1,-999.000,9,-999.000,-999.000,9,-999.000,9,   42.29,2,   24.04,2, -999.00,1, -999.00,9, -999.00,9,-999.000,-999.0000,9,-999.0000,9,-999.0000,9,-999.0000,9,-999.0000,9,-999.0000,9,-999.0000,9,-999.0000,9,-999.0000,9,   6.0294,     -999.0,9,     -999.0,9,     -999.0,9,     -999.0,9,     -999.0,9,     -999.0,9,     -999.0,9,-999.0000, -999.00
33RO20071215,        P18,     124,          1,         21,      12020,2,20080130,       0651,   -43.2517,  -103.0003,       3759,   599.2,   5.7444,  34.2655,2,  34.2667,2,    258.0,2,   258.7,2,   10.20,2,   24.10,2,    0.00,2,    1.59,2,   3.814,2,   1.966,2,   1.0231,2,  2143.3,2,  2280.1,2,   -999.0,9,  -999.00,   7.7275,2,    25.00,-999.000,9,-999.0000,9, -999.00,9,    1.18,2,  -999.0,1,-999.000,9,-999.000,-999.000,9,-999.000,9,   41.48,2,   25.59,2, -999.00,1, -999.00,9, -999.00,9,-999.000,-999.0000,9,-999.0000,9,-999.0000,9,-999.0000,9,-999.0000,9,-999.0000,9,-999.0000,9,-999.0000,9,-999.0000,9,   5.6930,     -999.0,9,     -999.0,9,     -999.0,9,     -999.0,9,     -999.0,9,     -999.0,9,     -999.0,9,-999.0000, -999.00
33RO20071215,        P18,     124,          1,         20,      12055,2,20080130,       0651,   -43.2517,  -103.0003,       3759,   699.3,   5.4008,  34.2567,2,  34.2562,2,    245.8,2,   243.2,3,   13.40,2,   25.90,2,    0.00,2,    1.73,2,-999.000,9,-999.000,9,-999.0000,9,  2153.5,2,  2262.8,4,   -999.0,9,  -999.00,   7.7325,2,    25.00,-999.000,9,-999.0000,9, -999.00,9, -999.00,9,  -999.0,9,-999.000,9,-999.000,-999.000,9,-999.000,9,   40.66,2,   27.31,2, -999.00,1, -999.00,9, -999.00,9,-999.000,-999.0000,9,-999.0000,9,-999.0000,9,-999.0000,9,-999.0000,9,-999.0000,9,-999.0000,9,-999.0000,9,-999.0000,9,   5.3422,     -999.0,9,     -999.0,9,     -999.0,9,     -999.0,9,     -999.0,9,     -999.0,9,     -999.0,9,-999.0000, -999.00
33RO20071215,        P18,     124,          1,         19,      12018,2,20080130,       0651,   -43.2517,  -103.0003,       3759,   800.1,   5.0588,  34.2642,2,  34.2662,2,    231.2,2,   231.6,2,   18.00,2,   27.90,2,    0.00,2,    1.86,2,   2.587,2,   1.294,2,   0.5324,2,  2166.8,2,  2288.9,2,   -999.0,9,  -999.00,   7.6768,2,    25.00,-999.000,9,-999.0000,9, -999.00,9,     1.1,2,  -999.0,1,-999.000,9,-999.000,-999.000,9,-999.000,9,   39.91,2,   28.91,2, -999.00,1, -999.00,9, -999.00,9,-999.000,-999.0000,9,-999.0000,9,-999.0000,9,-999.0000,9,-999.0000,9,-999.0000,9,-999.0000,9,-999.0000,9,-999.0000,9,   4.9932,     -999.0,9,     -999.0,9,     -999.0,9,     -999.0,9,     -999.0,9,     -999.0,9,     -999.0,9,-999.0000, -999.00
33RO20071215,        P18,     124,          1,         18,      12025,2,20080130,       0651,   -43.2517,  -103.0003,       3759,   899.3,   4.6275,  34.2825,2,  34.2816,2,    216.4,2,   217.7,2,   24.40,2,   29.70,2,    0.00,2,    2.00,2,-999.000,9,-999.000,9,-999.0000,9,  2183.9,2,  2289.6,2,   -999.0,9,  -999.00,   7.6581,2,    25.00,-999.000,9,-999.0000,9, -999.00,9, -999.00,9,  -999.0,9,-999.000,9,-999.000,-999.000,9,-999.000,9,   39.54,2,   31.05,2, -999.00,1, -999.00,9, -999.00,9,-999.000,-999.0000,9,-999.0000,9,-999.0000,9,-999.0000,9,-999.0000,9,-999.0000,9,-999.0000,9,-999.0000,9,-999.0000,9,   4.5561,     -999.0,9,     -999.0,9,     -999.0,9,     -999.0,9,     -999.0,9,     -999.0,9,     -999.0,9,-999.0000, -999.00
33RO20071215,        P18,     124,          1,         17,      12016,2,20080130,       0651,   -43.2517,  -103.0003,       3759,   999.3,   4.1864,  34.3052,2,  34.3050,2,    204.8,2,   205.6,2,   32.00,2,   31.50,2,    0.00,2,    2.13,2,   1.272,2,   0.647,2,   0.1937,2,  2196.3,2,  2299.4,2,   -999.0,9,  -999.00,   7.6275,2,    25.00,-999.000,9,-999.0000,9, -999.00,9,    0.92,2,  -999.0,1,-999.000,9,-999.000,-999.000,9,-999.000,9,   39.06,2,   32.69,2, -999.00,1, -999.00,9, -999.00,9,-999.000,-999.0000,9,-999.0000,9,-999.0000,9,-999.0000,9,-999.0000,9,-999.0000,9,-999.0000,9,-999.0000,9,-999.0000,9,   4.1097,     -999.0,9,     -999.0,9,     -999.0,9,     -999.0,9,     -999.0,9,     -999.0,9,     -999.0,9,-999.0000, -999.00
33RO20071215,        P18,     124,          1,         16,      12051,2,20080130,       0651,   -43.2517,  -103.0003,       3759,  1099.6,   3.7210,  34.3410,2,  34.3404,2,    190.9,2,   191.4,2,   41.80,2,   33.10,2,    0.00,2,    2.25,2,-999.000,9,-999.000,9,-999.0000,9,  2213.7,2,  2302.6,2,   -999.0,9,  -999.00,   7.6025,2,    25.00,-999.000,9,-999.0000,9, -999.00,9, -999.00,9,  -999.0,9,-999.000,9,-999.000,-999.000,9,-999.000,9,   38.72,2,   34.53,2, -999.00,9, -999.00,9, -999.00,9,-999.000,-999.0000,9,-999.0000,9,-999.0000,9,-999.0000,9,-999.0000,9,-999.0000,9,-999.0000,9,-999.0000,9,-999.0000,9,   3.6396,     -999.0,9,     -999.0,9,     -999.0,9,     -999.0,9,     -999.0,9,     -999.0,9,     -999.0,9,-999.0000, -999.00
33RO20071215,        P18,     124,          1,         15,      12014,2,20080130,       0651,   -43.2517,  -103.0003,       3759,  1200.0,   3.4248,  34.3867,2,  34.3864,2,    172.8,2,   174.8,2,   51.90,2,   34.60,2,    0.00,2,    2.36,2,   0.433,2,   0.240,2,   0.1330,2,  2231.1,2,  2312.8,2,   -999.0,9,  -999.00,   7.5675,2,    25.00,-999.000,9,-999.0000,9, -999.00,9, -999.00,9,  -999.0,9,-999.000,9,-999.000,-999.000,9,-999.000,9,   38.85,2,   35.90,2, -999.00,9, -999.00,9, -999.00,9,-999.000,-999.0000,9,-999.0000,9,-999.0000,9,-999.0000,9,-999.0000,9,-999.0000,9,-999.0000,9,-999.0000,9,-999.0000,9,   3.3377,     -999.0,9,     -999.0,9,     -999.0,9,     -999.0,9,     -999.0,9,     -999.0,9,     -999.0,9,-999.0000, -999.00
33RO20071215,        P18,     124,          1,         14,      12013,2,20080130,       0651,   -43.2517,  -103.0003,       3759,  1300.1,   3.2026,  34.4319,2,  34.4330,2,    164.0,2,   162.6,2,   61.40,2,   35.60,2,    0.00,2,    2.44,2,   0.291,2,   0.161,2,   0.0000,2,  2247.9,2,  2327.1,2,   -999.0,9,  -999.00,   7.5646,2,    25.00,-999.000,9,-999.0000,9, -999.00,9, -999.00,9,  -999.0,9,-999.000,9,-999.000,-999.000,9,-999.000,9,   38.08,2,   36.65,2, -999.00,9, -999.00,9, -999.00,9,-999.000,-999.0000,9,-999.0000,9,-999.0000,9,-999.0000,9,-999.0000,9,-999.0000,9,-999.0000,9,-999.0000,9,-999.0000,9,   3.1094,     -999.0,9,     -999.0,9,     -999.0,9,     -999.0,9,     -999.0,9,     -999.0,9,     -999.0,9,-999.0000, -999.00
33RO20071215,        P18,     124,          1,         13,      12012,2,20080130,       0651,   -43.2517,  -103.0003,       3759,  1400.9,   3.0263,  34.4856,2,  34.4851,2,    149.3,2,   150.0,2,   72.10,2,   36.50,2,    0.00,2,    2.51,2,   0.144,2,   0.082,2,   0.0000,2,  2264.0,2,  2338.5,2,   -999.0,9,  -999.00,   7.5577,2,    25.00,-999.000,9,-999.0000,9, -999.00,9,    0.41,2,  -999.0,1,-999.000,9,-999.000,-999.000,9,-999.000,9,   37.82,2,   37.45,2, -999.00,9, -999.00,9, -999.00,9,-999.000,-999.0000,9,-999.0000,9,-999.0000,9,-999.0000,9,-999.0000,9,-999.0000,9,-999.0000,9,-999.0000,9,-999.0000,9,   2.9265,     -999.0,9,     -999.0,9,     -999.0,9,     -999.0,9,     -999.0,9,     -999.0,9,     -999.0,9,-999.0000, -999.00
33RO20071215,        P18,     124,          1,         12,      12031,2,20080130,       0651,   -43.2517,  -103.0003,       3759,  1600.1,   2.7427,  34.5444,2,  34.5440,2,    148.7,2,   148.5,2,   82.90,2,   36.40,2,    0.00,2,    2.51,2,-999.000,9,-999.000,9,-999.0000,9,  2274.2,6,  2347.7,2,   -999.0,9,  -999.00,   7.5429,2,    25.00,-999.000,9,-999.0000,9, -999.00,9, -999.00,9,  -999.0,9,-999.000,9,-999.000,-999.000,9,-999.000,9,   37.51,2,   37.81,2, -999.00,9, -999.00,9, -999.00,9,-999.000,-999.0000,9,-999.0000,9,-999.0000,9,-999.0000,9,-999.0000,9,-999.0000,9,-999.0000,9,-999.0000,9,-999.0000,9,   2.6297,     -999.0,9,     -999.0,9,     -999.0,9,     -999.0,9,     -999.0,9,     -999.0,9,     -999.0,9,-999.0000, -999.00