BOTTLE,20220818CCHSIOAMB
EXPOCODE,SECT_ID,STNNBR,CASTNO,SAMPNO,BTLNBR,BTLNBR_FLAG_W,DATE,TIME,LATITUDE,LONGITUDE,DEPTH,CTDPRS,CTDTMP,CTDSAL,CTDSAL_FLAG_W,SALNTY,SALNTY_FLAG_W,CTDOXY,CTDOXY_FLAG_W,OXYGEN,OXYGEN_FLAG_W,SILCAT,SILCAT_FLAG_W,NITRAT,NITRAT_FLAG_W,NITRIT,NITRIT_FLAG_W,PHSPHT,PHSPHT_FLAG_W,CFC-11,CFC-11_FLAG_W,CFC-12,CFC-12_FLAG_W,SF6,SF6_FLAG_W,TCARBN,TCARBN_FLAG_W,ALKALI,ALKALI_FLAG_W,FCO2,FCO2_FLAG_W,FCO2TMP,PH_SWS,PH_SWS_FLAG_W,PH_TMP,TRITUM,TRITUM_FLAG_W,HELIUM,HELIUM_FLAG_W,DELHE3,DELHE3_FLAG_W,DELC13,DELC13_FLAG_W,DELC14,DELC14_FLAG_W,NEON,NEON_FLAG_W,NEONER,CCL4,CCL4_FLAG_W,POC,POC_FLAG_W,DOC,DOC_FLAG_W,TDN,TDN_FLAG_W,DON,DON_FLAG_W,CHLORA,CHLORA_FLAG_W,ARGON,ARGON_FLAG_W,TRITER,CDOM325,CDOM325_FLAG_W,CDOM340,CDOM340_FLAG_W,CDOM380,CDOM380_FLAG_W,CDOM412,CDOM412_FLAG_W,CDOM443,CDOM443_FLAG_W,CDOM490,CDOM490_FLAG_W,CDOM555,CDOM555_FLAG_W,CDOMSL,CDOMSL_FLAG_W,CDOMSN,CDOMSN_FLAG_W,THETA,D18O_NO3,D18O_NO3_FLAG_W,CDOM2C,CDOM2C_FLAG_W,CDOM3C,CDOM3C_FLAG_W,LAB_DEN,LAB_DEN_FLAG_W,DELSI30,DELSI30_FLAG_W,N2,N2_FLAG_W,D15N_NO3,D15N_NO3_FLAG_W,HELIER,DELHER
,,,,,,,,,,,METERS,DBAR,ITS-90,PSS-78,,PSS-78,,UMOL/KG,,UMOL/KG,,UMOL/KG,,UMOL/KG,,UMOL/KG,,UMOL/KG,,PMOL/KG,,PMOL/KG,,FMOL/KG,,UMOL/KG,,UMOL/KG,,UATM,,DEG C,,,DEG C,TU,,NMOL/KG,,PERCNT,,/MILLE,,/MILLE,,NMOL/KG,,NMOL/KG,PMOL/KG,,UG/KG,,UMOL/KG,,UMOL/KG,,UMOL/KG,,UG/KG,,UMOL/KG,,TU,1/M,,1/M,,1/M,,1/M,,1/M,,1/M,,1/M,,1/NM,,1/NM,,DEG C,/MILLE,,,,,,,,/MILLE,,UMOL/KG,,/MILLE,,NMOL/KG,PERCNT
33RO20071215,        P18,      43,          1,         36,      12017,2,20071229,       1330,     0.4998,  -110.0040,       3832,     4.8,  23.5378,  33.9153,2,  33.9180,2,    211.4,2,   211.0,2,    2.70,2,    3.00,2,    0.07,2,    0.33,2,   1.854,6,   1.161,6,   1.0181,6,  1962.6,6,  2238.5,2,    335.3,2,    20.00,   8.0159,2,    25.00,-999.000,9,-999.0000,9, -999.00,9, -999.00,9,  -999.0,9,-999.000,9,-999.000,-999.000,9,-999.000,9,   67.42,2,    8.58,2, -999.00,1, -999.00,9, -999.00,9,-999.000,-999.0000,9,-999.0000,9,-999.0000,9,-999.0000,9,-999.0000,9,-999.0000,9,-999.0000,9,-999.0000,9,-999.0000,9,  23.5369,     -999.0,9,     -999.0,9,     -999.0,9,     -999.0,9,     -999.0,9,     -999.0,9,     -999.0,9,-999.0000, -999.00
33RO20071215,        P18,      43,          1,         35,      12029,2,20071229,       1330,     0.4998,  -110.0040,       3832,    10.4,  23.5341,  33.9137,2,  33.9236,2,    211.5,2,   210.5,2,    2.90,2,    3.10,2,    0.07,2,    0.34,2,-999.000,9,-999.000,9,-999.0000,9,  1965.3,2,  2239.4,2,   -999.0,9,  -999.00,   8.0532,2,    25.00,-999.000,9,-999.0000,9, -999.00,9, -999.00,9,  -999.0,9,-999.000,9,-999.000,-999.000,9,-999.000,9, -999.00,9, -999.00,9, -999.00,1, -999.00,9, -999.00,9,-999.000,-999.0000,9,-999.0000,9,-999.0000,9,-999.0000,9,-999.0000,9,-999.0000,9,-999.0000,9,-999.0000,9,-999.0000,9,  23.5319,     -999.0,9,     -999.0,9,     -999.0,9,     -999.0,9,     -999.0,9,     -999.0,9,     -999.0,9,-999.0000, -999.00
33RO20071215,        P18,      43,          1,         34,      12049,2,20071229,       1330,     0.4998,  -110.0040,       3832,    24.0,  21.9453,  34.3236,2,  34.0442,2,    200.3,2,   204.9,2,    3.60,2,    4.50,2,    0.12,2,    0.43,2,   1.845,2,   1.149,2,   1.0296,2,  1982.6,2,  2247.2,2,    359.6,2,    20.00,   7.9927,2,    25.00,-999.000,9,-999.0000,9, -999.00,9, -999.00,9,  -999.0,9,-999.000,9,-999.000,-999.000,9,-999.000,9,   63.04,2,    9.41,2, -999.00,1, -999.00,9, -999.00,9,-999.000,-999.0000,9,-999.0000,9,-999.0000,9,-999.0000,9,-999.0000,9,-999.0000,9,-999.0000,9,-999.0000,9,-999.0000,9,  21.9406,     -999.0,9,     -999.0,9,     -999.0,9,     -999.0,9,     -999.0,9,     -999.0,9,     -999.0,9,-999.0000, -999.00
33RO20071215,        P18,      43,          1,         33,      12027,2,20071229,       1330,     0.4998,  -110.0040,       3832,    50.0,  15.6291,  34.8990,2,  34.9091,2,     93.5,2,    91.6,2,   15.30,2,   22.20,2,    0.41,2,    1.53,2,-999.000,9,-999.000,9,-999.0000,9,  2168.0,2,  2296.2,2,    842.1,2,    20.00,   7.6996,2,    25.00,-999.000,9,-999.0000,9, -999.00,9, -999.00,9,  -999.0,9,-999.000,9,-999.000,-999.000,9,-999.000,9, -999.00,9, -999.00,9, -999.00,1, -999.00,9, -999.00,9,-999.000,-999.0000,9,-999.0000,9,-999.0000,9,-999.0000,9,-999.0000,9,-999.0000,9,-999.0000,9,-999.0000,9,-999.0000,9,  15.6214,     -999.0,9,     -999.0,9,     -999.0,9,     -999.0,9,     -999.0,9,     -999.0,9,     -999.0,9,-999.0000, -999.00
33RO20071215,        P18,      43,          1,         32,      12023,2,20071229,       1330,     0.4998,  -110.0040,       3832,    75.5,  13.6679,  34.9063,2,  34.8930,2,     81.9,2,    81.9,2,   18.70,2,   24.30,2,    0.04,2,    1.63,2,   1.416,2,   0.797,2,   0.3976,2,  2184.4,2,  -999.0,9,    924.3,2,    20.00,-999.0000,9,  -999.00,-999.000,9,-999.0000,9, -999.00,9, -999.00,9,  -999.0,9,-999.000,9,-999.000,-999.000,9,-999.000,9,   47.22,2,   27.22,2, -999.00,1, -999.00,9, -999.00,9,-999.000,-999.0000,9,-999.0000,9,-999.0000,9,-999.0000,9,-999.0000,9,-999.0000,9,-999.0000,9,-999.0000,9,-999.0000,9,  13.6572,     -999.0,9,     -999.0,9,     -999.0,9,     -999.0,9,     -999.0,9,     -999.0,9,     -999.0,9,-999.0000, -999.00
33RO20071215,        P18,      43,          1,         31,      12037,2,20071229,       1330,     0.4998,  -110.0040,       3832,   100.2,  13.4012,  34.9113,2,  34.9117,2,     70.3,2,    73.9,2,   19.50,2,   25.50,2,    0.02,2,    1.71,2,-999.000,9,-999.000,9,-999.0000,9,  2192.8,2,  2303.0,2,   -999.0,9,  -999.00,   7.6347,2,    25.00,-999.000,9,-999.0000,9, -999.00,9, -999.00,9,  -999.0,9,-999.000,9,-999.000,-999.000,9,-999.000,9, -999.00,9, -999.00,9, -999.00,1, -999.00,9, -999.00,9,-999.000,-999.0000,9,-999.0000,9,-999.0000,9,-999.0000,9,-999.0000,9,-999.0000,9,-999.0000,9,-999.0000,9,-999.0000,9,  13.3872,     -999.0,9,     -999.0,9,     -999.0,9,     -999.0,9,     -999.0,9,     -999.0,9,     -999.0,9,-999.0000, -999.00
33RO20071215,        P18,      43,          1,         30,      12036,2,20071229,       1330,     0.4998,  -110.0040,       3832,   126.4,  12.9674,  34.9039,2,  34.9037,2,     59.6,2,    60.0,2,   21.20,2,   27.50,2,    0.01,2,    1.85,2,   1.158,2,   0.647,2,   0.2901,2,  2205.4,2,  2301.8,2,   1070.4,2,    20.00,   7.6004,2,    25.00,-999.000,9,-999.0000,9, -999.00,9, -999.00,9,  -999.0,9,-999.000,9,-999.000,-999.000,9,-999.000,9,   46.30,2,   29.95,2, -999.00,1, -999.00,9, -999.00,9,-999.000,-999.0000,9,-999.0000,9,-999.0000,9,-999.0000,9,-999.0000,9,-999.0000,9,-999.0000,9,-999.0000,9,-999.0000,9,  12.9501,     -999.0,9,     -999.0,9,     -999.0,9,     -999.0,9,     -999.0,9,     -999.0,9,     -999.0,9,-999.0000, -999.00
33RO20071215,        P18,      43,          1,         29,      12044,2,20071229,       1330,     0.4998,  -110.0040,       3832,   150.3,  12.6041,  34.8885,2,  34.8902,2,     66.5,2,  -999.0,5,   21.70,2,   27.40,2,    0.01,2,    1.85,2,-999.000,9,-999.000,9,-999.0000,9,  2206.0,2,  2302.7,2,   -999.0,9,  -999.00,   7.6031,2,    25.00,-999.000,9,-999.0000,9, -999.00,9, -999.00,9,  -999.0,9,-999.000,9,-999.000,-999.000,9,-999.000,9, -999.00,9, -999.00,9, -999.00,1, -999.00,9, -999.00,9,-999.000,-999.0000,9,-999.0000,9,-999.0000,9,-999.0000,9,-999.0000,9,-999.0000,9,-999.0000,9,-999.0000,9,-999.0000,9,  12.5839,     -999.0,9,     -999.0,9,     -999.0,9,     -999.0,9,     -999.0,9,     -999.0,9,     -999.0,9,-999.0000, -999.00
33RO20071215,        P18,      43,          1,         28,      12057,2,20071229,       1330,     0.4998,  -110.0040,       3832,   175.4,  12.4263,  34.8824,2,  34.8819,2,     53.0,2,    53.7,2,   23.00,2,   28.70,2,    0.01,2,    1.94,2,   1.000,2,   0.559,2,   0.2009,2,  2214.4,2,  -999.0,9,   -999.0,9,  -999.00,-999.0000,9,  -999.00,-999.000,9,-999.0000,9, -999.00,9, -999.00,9,  -999.0,9,-999.000,9,-999.000,-999.000,9,-999.000,9,   45.43,2,   31.01,2, -999.00,1, -999.00,9, -999.00,9,-999.000,-999.0000,9,-999.0000,9,-999.0000,9,-999.0000,9,-999.0000,9,-999.0000,9,-999.0000,9,-999.0000,9,-999.0000,9,  12.4030,     -999.0,9,     -999.0,9,     -999.0,9,     -999.0,9,     -999.0,9,     -999.0,9,     -999.0,9,-999.0000, -999.00
33RO20071215,        P18,      43,          1,         27,      12026,2,20071229,       1330,     0.4998,  -110.0040,       3832,   200.2,  12.3305,  34.8816,2,  34.8814,2,     58.7,2,    60.6,2,   22.80,2,   28.50,2,    0.01,2,    1.93,2,-999.000,9,-999.000,9,-999.0000,9,  2213.1,2,  2303.5,2,   1127.1,2,    20.00,   7.5771,2,    25.00,-999.000,9,-999.0000,9, -999.00,9, -999.00,9,  -999.0,9,-999.000,9,-999.000,-999.000,9,-999.000,9, -999.00,9, -999.00,9, -999.00,1, -999.00,9, -999.00,9,-999.000,-999.0000,9,-999.0000,9,-999.0000,9,-999.0000,9,-999.0000,9,-999.0000,9,-999.0000,9,-999.0000,9,-999.0000,9,  12.3040,     -999.0,9,     -999.0,9,     -999.0,9,     -999.0,9,     -999.0,9,     -999.0,9,     -999.0,9,-999.0000, -999.00
33RO20071215,        P18,      43,          1,         26,      12030,2,20071229,       1330,     0.4998,  -110.0040,       3832,   250.4,  12.1876,  34.8699,2,  34.8707,2,     40.8,2,    42.2,2,   24.50,2,   30.30,2,    0.01,2,    2.05,2,   0.894,2,   0.502,2,   0.1696,2,  2225.1,2,  2327.5,4,   -999.0,9,  -999.00,   7.5411,2,    25.00,-999.000,9,-999.0000,9, -999.00,9, -999.00,9,  -999.0,9,-999.000,9,-999.000,-999.000,9,-999.000,9,   44.94,2,   32.26,2, -999.00,1, -999.00,9, -999.00,9,-999.000,-999.0000,9,-999.0000,9,-999.0000,9,-999.0000,9,-999.0000,9,-999.0000,9,-999.0000,9,-999.0000,9,-999.0000,9,  12.1545,     -999.0,9,     -999.0,9,     -999.0,9,     -999.0,9,     -999.0,9,     -999.0,9,     -999.0,9,-999.0000, -999.00
33RO20071215,        P18,      43,          1,         25,      12024,2,20071229,       1330,     0.4998,  -110.0040,       3832,   300.1,  11.6399,  34.8282,2,  34.8305,2,     13.5,2,    15.1,2,   28.90,2,   33.70,2,    0.01,2,    2.31,2,-999.000,9,-999.000,9,-999.0000,9,  2249.9,2,  -999.0,9,   -999.0,9,  -999.00,-999.0000,9,  -999.00,-999.000,9,-999.0000,9, -999.00,9, -999.00,9,  -999.0,9,-999.000,9,-999.000,-999.000,9,-999.000,9,   44.12,2,   34.95,2, -999.00,1, -999.00,9, -999.00,9,-999.000,-999.0000,9,-999.0000,9,-999.0000,9,-999.0000,9,-999.0000,9,-999.0000,9,-999.0000,9,-999.0000,9,-999.0000,9,  11.6014,     -999.0,9,     -999.0,9,     -999.0,9,     -999.0,9,     -999.0,9,     -999.0,9,     -999.0,9,-999.0000, -999.00
33RO20071215,        P18,      43,          1,         24,      12019,2,20071229,       1330,     0.4998,  -110.0040,       3832,   351.2,  10.5678,  34.7654,2,  34.7628,2,     10.6,2,    11.8,2,   33.60,2,   35.90,2,    0.00,2,    2.48,2,   0.401,2,   0.230,2,   0.0852,2,  2263.6,6,  2304.7,2,   -999.0,9,  -999.00,   7.4254,2,    25.00,-999.000,9,-999.0000,9, -999.00,9, -999.00,9,  -999.0,9,-999.000,9,-999.000,-999.000,9,-999.000,9,   43.50,2,   37.21,2, -999.00,1, -999.00,9, -999.00,9,-999.000,-999.0000,9,-999.0000,9,-999.0000,9,-999.0000,9,-999.0000,9,-999.0000,9,-999.0000,9,-999.0000,9,-999.0000,9,  10.5254,     -999.0,9,     -999.0,9,     -999.0,9,     -999.0,9,     -999.0,9,     -999.0,9,     -999.0,9,-999.0000, -999.00
33RO20071215,        P18,      43,          1,         23,      12022,2,20071229,       1330,     0.4998,  -110.0040,       3832,   400.6,   9.4209,  34.6990,2,  34.6961,2,     17.0,2,    16.9,2,   37.60,2,   37.80,2,    0.00,2,    2.58,2,-999.000,9,-999.000,9,-999.0000,9,  -999.0,9,  -999.0,9,   -999.0,9,  -999.00,-999.0000,9,  -999.00,-999.000,9,-999.0000,9, -999.00,9, -999.00,9,  -999.0,9,-999.000,9,-999.000,-999.000,9,-999.000,9,   42.20,2,   38.66,2, -999.00,1, -999.00,9, -999.00,9,-999.000,-999.0000,9,-999.0000,9,-999.0000,9,-999.0000,9,-999.0000,9,-999.0000,9,-999.0000,9,-999.0000,9,-999.0000,9,   9.3758,     -999.0,9,     -999.0,9,     -999.0,9,     -999.0,9,     -999.0,9,     -999.0,9,     -999.0,9,-999.0000, -999.00
33RO20071215,        P18,      43,          1,         22,      12015,2,20071229,       1330,     0.4998,  -110.0040,       3832,   500.0,   8.4688,  34.6485,2,  34.6480,2,     27.1,2,    27.3,2,   41.90,2,   38.90,2,    0.00,2,    2.67,2,   0.133,2,   0.078,2,   0.0170,2,  2269.5,2,  2306.4,2,   -999.0,9,  -999.00,   7.4231,2,    25.00,-999.000,9,-999.0000,9, -999.00,9, -999.00,9,  -999.0,9,-999.000,9,-999.000,-999.000,9,-999.000,9,   41.55,2,   40.29,2, -999.00,1, -999.00,9, -999.00,9,-999.000,-999.0000,9,-999.0000,9,-999.0000,9,-999.0000,9,-999.0000,9,-999.0000,9,-999.0000,9,-999.0000,9,-999.0000,9,   8.4157,     -999.0,9,     -999.0,9,     -999.0,9,     -999.0,9,     -999.0,9,     -999.0,9,     -999.0,9,-999.0000, -999.00
33RO20071215,        P18,      43,          1,         21,      12020,2,20071229,       1330,     0.4998,  -110.0040,       3832,   601.1,   7.6009,  34.6054,2,  34.6029,2,     42.5,2,    43.5,2,   46.60,2,   39.20,2,    0.00,2,    2.71,2,-999.000,9,-999.000,9,-999.0000,9,  -999.0,9,  -999.0,9,   -999.0,9,  -999.00,-999.0000,9,  -999.00,-999.000,9,-999.0000,9, -999.00,9, -999.00,9,  -999.0,9,-999.000,9,-999.000,-999.000,9,-999.000,9,   40.70,2,   41.02,2, -999.00,1, -999.00,9, -999.00,9,-999.000,-999.0000,9,-999.0000,9,-999.0000,9,-999.0000,9,-999.0000,9,-999.0000,9,-999.0000,9,-999.0000,9,-999.0000,9,   7.5406,     -999.0,9,     -999.0,9,     -999.0,9,     -999.0,9,     -999.0,9,     -999.0,9,     -999.0,9,-999.0000, -999.00
33RO20071215,        P18,      43,          1,         20,      12055,2,20071229,       1330,     0.4998,  -110.0040,       3832,   699.8,   6.3589,  34.5653,2,  34.5655,2,     57.0,2,    55.1,2,   57.90,2,   40.00,2,    0.00,2,    2.78,2,   0.031,2,   0.019,2,   0.0000,2,  2277.4,2,  2320.3,2,   -999.0,9,  -999.00,   7.4455,2,    25.00,-999.000,9,-999.0000,9, -999.00,9, -999.00,9,  -999.0,9,-999.000,9,-999.000,-999.000,9,-999.000,9,   40.16,2,   41.05,2, -999.00,1, -999.00,9, -999.00,9,-999.000,-999.0000,9,-999.0000,9,-999.0000,9,-999.0000,9,-999.0000,9,-999.0000,9,-999.0000,9,-999.0000,9,-999.0000,9,   6.2948,     -999.0,9,     -999.0,9,     -999.0,9,     -999.0,9,     -999.0,9,     -999.0,9,     -999.0,9,-999.0000, -999.00
33RO20071215,        P18,      43,          1,         19,      12018,2,20071229,       1330,     0.4998,  -110.0040,       3832,   800.9,   5.8593,  34.5528,2,  34.5532,2,     68.0,2,    68.2,2,   63.40,2,   39.70,2,    0.00,2,    2.77,2,-999.000,9,-999.000,9,-999.0000,9,  2278.6,2,  -999.0,9,   -999.0,9,  -999.00,-999.0000,9,  -999.00,-999.000,9,-999.0000,9, -999.00,9, -999.00,9,  -999.0,9,-999.000,9,-999.000,-999.000,9,-999.000,9,   39.09,2,   41.37,2, -999.00,1, -999.00,9, -999.00,9,-999.000,-999.0000,9,-999.0000,9,-999.0000,9,-999.0000,9,-999.0000,9,-999.0000,9,-999.0000,9,-999.0000,9,-999.0000,9,   5.7884,     -999.0,9,     -999.0,9,     -999.0,9,     -999.0,9,     -999.0,9,     -999.0,9,     -999.0,9,-999.0000, -999.00
33RO20071215,        P18,      43,          1,         18,      12025,2,20071229,       1330,     0.4998,  -110.0040,       3832,   895.7,   5.4966,  34.5532,2,-999.0000,9,     68.8,2,  -999.0,9, -999.00,9, -999.00,9, -999.00,9, -999.00,9,-999.000,9,-999.000,9,-999.0000,9,  -999.0,9,  -999.0,9,   -999.0,9,  -999.00,-999.0000,9,  -999.00,-999.000,9,-999.0000,9, -999.00,9, -999.00,9,  -999.0,9,-999.000,9,-999.000,-999.000,9,-999.000,9, -999.00,9, -999.00,9, -999.00,1, -999.00,9, -999.00,9,-999.000,-999.0000,9,-999.0000,9,-999.0000,9,-999.0000,9,-999.0000,9,-999.0000,9,-999.0000,9,-999.0000,9,-999.0000,9,   5.4192,     -999.0,9,     -999.0,9,     -999.0,9,     -999.0,9,     -999.0,9,     -999.0,9,     -999.0,9,-999.0000, -999.00
33RO20071215,        P18,      43,          1,         17,      12016,2,20071229,       1330,     0.4998,  -110.0040,       3832,  1000.8,   4.7001,  34.5553,2,  34.5560,2,     79.3,2,    78.3,2,   83.50,2,   40.00,2,    0.00,2,    2.81,2,   0.004,2,   0.003,2,   0.0000,2,  -999.0,9,  -999.0,9,   -999.0,9,  -999.00,-999.0000,9,  -999.00,-999.000,9,-999.0000,9, -999.00,9, -999.00,9,  -999.0,9,-999.000,9,-999.000,-999.000,9,-999.000,9,   39.14,2,   41.37,2, -999.00,1, -999.00,9, -999.00,9,-999.000,-999.0000,9,-999.0000,9,-999.0000,9,-999.0000,9,-999.0000,9,-999.0000,9,-999.0000,9,-999.0000,9,-999.0000,9,   4.6189,     -999.0,9,     -999.0,9,     -999.0,9,     -999.0,9,     -999.0,9,     -999.0,9,     -999.0,9,-999.0000, -999.00
33RO20071215,        P18,      43,          1,         16,      12051,2,20071229,       1330,     0.4998,  -110.0040,       3832,  1101.1,   4.4740,  34.5596,2,  34.5604,2,     79.8,2,    79.4,2,   88.70,2,   40.10,2,    0.00,2,    2.83,2,   0.005,2,   0.004,2,   0.0000,2,  2301.8,2,  2355.5,2,   -999.0,9,  -999.00,   7.4729,2,    25.00,-999.000,9,-999.0000,9, -999.00,9, -999.00,9,  -999.0,9,-999.000,9,-999.000,-999.000,9,-999.000,9,   38.31,2,   41.83,2, -999.00,9, -999.00,9, -999.00,9,-999.000,-999.0000,9,-999.0000,9,-999.0000,9,-999.0000,9,-999.0000,9,-999.0000,9,-999.0000,9,-999.0000,9,-999.0000,9,   4.3858,     -999.0,9,     -999.0,9,     -999.0,9,     -999.0,9,     -999.0,9,     -999.0,9,     -999.0,9,-999.0000, -999.00
33RO20071215,        P18,      43,          1,         15,      12014,2,20071229,       1330,     0.4998,  -110.0040,       3832,  1200.9,   4.1564,  34.5691,2,  34.5710,2,     78.8,2,    79.7,2,   97.40,2,   40.50,2,    0.00,2,    2.86,2,-999.000,9,-999.000,9,-999.0000,9,  -999.0,9,  -999.0,9,   -999.0,9,  -999.00,-999.0000,9,  -999.00,-999.000,9,-999.0000,9, -999.00,9, -999.00,9,  -999.0,9,-999.000,9,-999.000,-999.000,9,-999.000,9,   38.41,2,   41.48,2, -999.00,9, -999.00,9, -999.00,9,-999.000,-999.0000,9,-999.0000,9,-999.0000,9,-999.0000,9,-999.0000,9,-999.0000,9,-999.0000,9,-999.0000,9,-999.0000,9,   4.0622,     -999.0,9,     -999.0,9,     -999.0,9,     -999.0,9,     -999.0,9,     -999.0,9,     -999.0,9,-999.0000, -999.00
33RO20071215,        P18,      43,          1,         14,      12013,2,20071229,       1330,     0.4998,  -110.0040,       3832,  1300.3,   3.7196,  34.5829,2,  34.5837,2,     81.2,2,    81.4,2,  107.30,2,   40.50,2,    0.00,2,    2.87,2,-999.000,9,-999.000,9,-999.0000,9,  2321.2,2,  -999.0,9,   -999.0,9,  -999.00,-999.0000,9,  -999.00,-999.000,9,-999.0000,9, -999.00,9, -999.00,9,  -999.0,9,-999.000,9,-999.000,-999.000,9,-999.000,9,   38.32,2,   42.07,2, -999.00,9, -999.00,9, -999.00,9,-999.000,-999.0000,9,-999.0000,9,-999.0000,9,-999.0000,9,-999.0000,9,-999.0000,9,-999.0000,9,-999.0000,9,-999.0000,9,   3.6209,     -999.0,9,     -999.0,9,     -999.0,9,     -999.0,9,     -999.0,9,     -999.0,9,     -999.0,9,-999.0000, -999.00
33RO20071215,        P18,      43,          1,         13,      12012,2,20071229,       1330,     0.4998,  -110.0040,       3832,  1402.0,   3.4052,  34.5926,2,  34.5979,2,     85.3,2,    84.7,2,  114.40,2,   40.30,2,    0.00,2,    2.85,2,-999.000,9,-999.000,9,-999.0000,9,  -999.0,9,  -999.0,9,   -999.0,9,  -999.00,-999.0000,9,  -999.00,-999.000,9,-999.0000,9, -999.00,9, -999.00,9,  -999.0,9,-999.000,9,-999.000,-999.000,9,-999.000,9,   38.29,3,   41.75,3, -999.00,9, -999.00,9, -999.00,9,-999.000,-999.0000,9,-999.0000,9,-999.0000,9,-999.0000,9,-999.0000,9,-999.0000,9,-999.0000,9,-999.0000,9,-999.0000,9,   3.3010,     -999.0,9,     -999.0,9,     -999.0,9,     -999.0,9,     -999.0,9,     -999.0,9,     -999.0,9,-999.0000, -999.00
33RO20071215,        P18,      43,          1,         12,      12031,4,20071229,       1330,     0.4998,  -110.0040,       3832,  1599.6,   2.9640,  34.6113,2,  34.6289,4,     90.7,2,    89.9,3,  125.90,2,   40.10,2,    0.00,2,    2.83,2,-999.000,9,-999.000,9,-999.0000,9,  2336.1,2,  2395.9,2,   -999.0,9,  -999.00,   7.4849,2,    25.00,-999.000,9,-999.0000,9, -999.00,9, -999.00,9,  -999.0,9,-999.000,9,-999.000,-999.000,9,-999.000,9,   38.16,3,   41.44,3, -999.00,9, -999.00,9, -999.00,9,-999.000,-999.0000,9,-999.0000,9,-999.0000,9,-999.0000,9,-999.0000,9,-999.0000,9,-999.0000,9,-999.0000,9,-999.0000,9,   2.8481,     -999.0,9,     -999.0,9,     -999.0,9,     -999.0,9,     -999.0,9,     -999.0,9,     -999.0,9,-999.0000, -999.00