BOTTLE,20220818CCHSIOAMB
EXPOCODE,SECT_ID,STNNBR,CASTNO,SAMPNO,BTLNBR,BTLNBR_FLAG_W,DATE,TIME,LATITUDE,LONGITUDE,DEPTH,CTDPRS,CTDTMP,CTDSAL,CTDSAL_FLAG_W,SALNTY,SALNTY_FLAG_W,CTDOXY,CTDOXY_FLAG_W,OXYGEN,OXYGEN_FLAG_W,SILCAT,SILCAT_FLAG_W,NITRAT,NITRAT_FLAG_W,NITRIT,NITRIT_FLAG_W,PHSPHT,PHSPHT_FLAG_W,CFC-11,CFC-11_FLAG_W,CFC-12,CFC-12_FLAG_W,SF6,SF6_FLAG_W,TCARBN,TCARBN_FLAG_W,ALKALI,ALKALI_FLAG_W,FCO2,FCO2_FLAG_W,FCO2TMP,PH_SWS,PH_SWS_FLAG_W,PH_TMP,TRITUM,TRITUM_FLAG_W,HELIUM,HELIUM_FLAG_W,DELHE3,DELHE3_FLAG_W,DELC13,DELC13_FLAG_W,DELC14,DELC14_FLAG_W,NEON,NEON_FLAG_W,NEONER,CCL4,CCL4_FLAG_W,POC,POC_FLAG_W,DOC,DOC_FLAG_W,TDN,TDN_FLAG_W,DON,DON_FLAG_W,CHLORA,CHLORA_FLAG_W,ARGON,ARGON_FLAG_W,TRITER,CDOM325,CDOM325_FLAG_W,CDOM340,CDOM340_FLAG_W,CDOM380,CDOM380_FLAG_W,CDOM412,CDOM412_FLAG_W,CDOM443,CDOM443_FLAG_W,CDOM490,CDOM490_FLAG_W,CDOM555,CDOM555_FLAG_W,CDOMSL,CDOMSL_FLAG_W,CDOMSN,CDOMSN_FLAG_W,THETA,D18O_NO3,D18O_NO3_FLAG_W,CDOM2C,CDOM2C_FLAG_W,CDOM3C,CDOM3C_FLAG_W,LAB_DEN,LAB_DEN_FLAG_W,DELSI30,DELSI30_FLAG_W,N2,N2_FLAG_W,D15N_NO3,D15N_NO3_FLAG_W,HELIER,DELHER
,,,,,,,,,,,METERS,DBAR,ITS-90,PSS-78,,PSS-78,,UMOL/KG,,UMOL/KG,,UMOL/KG,,UMOL/KG,,UMOL/KG,,UMOL/KG,,PMOL/KG,,PMOL/KG,,FMOL/KG,,UMOL/KG,,UMOL/KG,,UATM,,DEG C,,,DEG C,TU,,NMOL/KG,,PERCNT,,/MILLE,,/MILLE,,NMOL/KG,,NMOL/KG,PMOL/KG,,UG/KG,,UMOL/KG,,UMOL/KG,,UMOL/KG,,UG/KG,,UMOL/KG,,TU,1/M,,1/M,,1/M,,1/M,,1/M,,1/M,,1/M,,1/NM,,1/NM,,DEG C,/MILLE,,,,,,,,/MILLE,,UMOL/KG,,/MILLE,,NMOL/KG,PERCNT
33RO20071215,        P18,      88,          1,         11,      12003,2,20080113,       1710,   -22.2493,  -102.9997,       3938,  1801.3,   2.4122,  34.6124,2,  34.6124,2,    138.8,2,   138.1,2,  109.70,2,   37.20,2,    0.00,2,    2.61,2,-999.000,9,-999.000,9,-999.0000,9,  2298.8,2,  2384.8,2,   1265.6,2,    20.00,   7.5376,2,    25.00,-999.000,9,-999.0000,9, -999.00,9, -999.00,9,  -999.0,9,-999.000,9,-999.000,-999.000,9,-999.000,9, -999.00,9, -999.00,9, -999.00,9, -999.00,9, -999.00,9,-999.000,   0.1264,2,   0.0855,2,   0.0439,2,   0.0286,2,   0.0172,2,   0.0059,2,   0.0009,2,   0.0162,2,   0.0179,2,   2.2865,     -999.0,9,     -999.0,9,     -999.0,9,     -999.0,9,     -999.0,9,     -999.0,9,     -999.0,9,-999.0000, -999.00
33RO20071215,        P18,      88,          1,         10,      12032,2,20080113,       1710,   -22.2493,  -102.9997,       3938,  1999.7,   2.1755,  34.6338,2,  34.6344,2,    147.8,2,   148.9,2,  114.00,2,   36.50,2,    0.00,2,    2.54,2,   0.000,2,  -0.001,2,   0.0000,2,  2298.0,2,  2388.8,2,   -999.0,9,  -999.00,   7.5653,2,    25.00,-999.000,9,-999.0000,9, -999.00,9, -999.00,9,  -999.0,9,-999.000,9,-999.000,-999.000,9,-999.000,9, -999.00,9, -999.00,9, -999.00,9, -999.00,9, -999.00,9,-999.000,   0.1183,2,   0.0793,2,   0.0401,2,   0.0251,2,   0.0148,2,   0.0048,2,   0.0005,3,   0.0168,2,   0.0186,2,   2.0364,     -999.0,9,     -999.0,9,     -999.0,9,     -999.0,9,     -999.0,9,     -999.0,9,     -999.0,9,-999.0000, -999.00
33RO20071215,        P18,      88,          1,          9,      12002,2,20080113,       1710,   -22.2493,  -102.9997,       3938,  2200.4,   2.0063,  34.6519,2,  34.6509,2,    152.9,2,   152.6,2,  118.10,2,   36.20,2,    0.00,2,    2.51,2,-999.000,9,-999.000,9,-999.0000,9,  2298.9,2,  2392.6,2,   -999.0,9,  -999.00,   7.5737,2,    25.00,-999.000,9,-999.0000,9, -999.00,9, -999.00,9,  -999.0,9,-999.000,9,-999.000,-999.000,9,-999.000,9, -999.00,9, -999.00,9, -999.00,9, -999.00,9, -999.00,9,-999.000,   0.1202,2,   0.0806,2,   0.0405,2,   0.0253,2,   0.0148,2,   0.0049,2,   0.0004,3,   0.0169,2,   0.0188,2,   1.8526,     -999.0,9,     -999.0,9,     -999.0,9,     -999.0,9,     -999.0,9,     -999.0,9,     -999.0,9,-999.0000, -999.00
33RO20071215,        P18,      88,          1,          8,      12021,2,20080113,       1710,   -22.2493,  -102.9997,       3938,  2398.9,   1.9043,  34.6642,2,  34.6649,2,    156.0,2,   156.0,2,  120.80,2,   35.80,2,    0.00,2,    2.49,2,-999.000,9,-999.000,9,-999.0000,9,  2300.3,2,  2396.7,2,   1177.9,2,    20.00,   7.5810,2,    25.00,-999.000,9,-999.0000,9, -999.00,9, -999.00,9,  -999.0,9,-999.000,9,-999.000,-999.000,9,-999.000,9, -999.00,9, -999.00,9, -999.00,9, -999.00,9, -999.00,9,-999.000,   0.1283,2,   0.0871,2,   0.0440,2,   0.0272,2,   0.0165,2,   0.0060,2,   0.0011,2,   0.0167,2,   0.0184,2,   1.7348,     -999.0,9,     -999.0,9,     -999.0,9,     -999.0,9,     -999.0,9,     -999.0,9,     -999.0,9,-999.0000, -999.00
33RO20071215,        P18,      88,          1,          7,      12001,2,20080113,       1710,   -22.2493,  -102.9997,       3938,  2600.8,   1.8518,  34.6718,2,  34.6737,2,    157.3,2,   158.1,2,  122.90,2,   35.70,2,    0.00,2,    2.47,2,   0.000,2,   0.000,2,   0.0000,2,  2301.4,2,  2400.2,2,   -999.0,9,  -999.00,   7.5996,2,    25.00,-999.000,9,-999.0000,9, -999.00,9, -999.00,9,  -999.0,9,-999.000,9,-999.000,   0.008,3,-999.000,9, -999.00,9, -999.00,9, -999.00,9, -999.00,9, -999.00,9,-999.000,   0.1275,2,   0.0864,2,   0.0435,2,   0.0269,2,   0.0163,2,   0.0061,2,   0.0012,2,   0.0167,2,   0.0185,2,   1.6650,     -999.0,9,     -999.0,9,     -999.0,9,     -999.0,9,     -999.0,9,     -999.0,9,     -999.0,9,-999.0000, -999.00
33RO20071215,        P18,      88,          1,          6,      12033,2,20080113,       1710,   -22.2493,  -102.9997,       3938,  2800.1,   1.8189,  34.6775,2,  34.6638,4,    156.7,2,   155.8,3,  120.00,3,   35.80,3,    0.00,3,    2.49,3,-999.000,9,-999.000,9,-999.0000,9,  2300.3,3,  2389.4,4,   -999.0,9,  -999.00,   7.5705,2,    25.00,-999.000,9,-999.0000,9, -999.00,9, -999.00,9,  -999.0,9,-999.000,9,-999.000,-999.000,9,-999.000,9, -999.00,9, -999.00,9, -999.00,9, -999.00,9, -999.00,9,-999.000,   0.1194,2,   0.0801,2,   0.0405,2,   0.0250,2,   0.0150,2,   0.0054,2,   0.0009,2,   0.0167,2,   0.0187,2,   1.6142,     -999.0,9,     -999.0,9,     -999.0,9,     -999.0,9,     -999.0,9,     -999.0,9,     -999.0,9,-999.0000, -999.00
33RO20071215,        P18,      88,          1,          5,      12008,2,20080113,       1710,   -22.2493,  -102.9997,       3938,  3000.0,   1.8011,  34.6814,2,  34.6820,2,    155.2,2,   155.7,2,  127.60,2,   35.90,2,    0.00,2,    2.50,2,-999.000,9,-999.000,9,-999.0000,9,  2310.9,6,  2400.2,2,   -999.0,9,  -999.00,   7.5836,2,    25.00,-999.000,9,-999.0000,9, -999.00,9, -999.00,9,  -999.0,9,-999.000,9,-999.000,-999.000,9,-999.000,9, -999.00,9, -999.00,9, -999.00,9, -999.00,9, -999.00,9,-999.000,   0.1218,2,   0.0819,2,   0.0397,2,   0.0236,2,   0.0135,2,   0.0042,2,   0.0001,3,   0.0179,2,   0.0197,2,   1.5776,     -999.0,9,     -999.0,9,     -999.0,9,     -999.0,9,     -999.0,9,     -999.0,9,     -999.0,9,-999.0000, -999.00
33RO20071215,        P18,      88,          1,          4,      12009,2,20080113,       1710,   -22.2493,  -102.9997,       3938,  3249.8,   1.7900,  34.6855,2,  34.6875,2,    152.7,2,   152.4,2,  130.80,6,   36.00,6,    0.00,6,    2.52,2,   0.000,2,   0.000,2,   0.0000,2,  2316.5,2,  2408.3,2,   1164.6,2,    20.00,   7.5774,2,    25.00,-999.000,9,-999.0000,9, -999.00,9, -999.00,9,  -999.0,9,-999.000,9,-999.000,   0.007,3,-999.000,9, -999.00,9, -999.00,9, -999.00,9, -999.00,9, -999.00,9,-999.000,   0.1239,2,   0.0838,2,   0.0423,2,   0.0253,2,   0.0149,2,   0.0052,2,   0.0008,2,   0.0172,2,   0.0189,2,   1.5420,     -999.0,9,     -999.0,9,     -999.0,9,     -999.0,9,     -999.0,9,     -999.0,9,     -999.0,9,-999.0000, -999.00
33RO20071215,        P18,      88,          1,          3,      12006,2,20080113,       1710,   -22.2493,  -102.9997,       3938,  3502.3,   1.8012,  34.6882,2,  34.6890,2,    150.6,2,   150.8,2,  132.90,6,   36.20,6,    0.00,6,    2.53,2,-999.000,9,-999.000,9,-999.0000,9,  2321.5,2,  2411.7,2,   -999.0,9,  -999.00,   7.5813,2,    25.00,-999.000,9,-999.0000,9, -999.00,9, -999.00,9,  -999.0,9,-999.000,9,-999.000,-999.000,9,-999.000,9, -999.00,9, -999.00,9, -999.00,9, -999.00,9, -999.00,9,-999.000,   0.1294,2,   0.0872,2,   0.0442,2,   0.0269,2,   0.0158,2,   0.0057,2,   0.0011,2,   0.0171,2,   0.0187,2,   1.5271,     -999.0,9,     -999.0,9,     -999.0,9,     -999.0,9,     -999.0,9,     -999.0,9,     -999.0,9,-999.0000, -999.00
33RO20071215,        P18,      88,          1,          2,      12007,2,20080113,       1710,   -22.2493,  -102.9997,       3938,  3750.2,   1.8229,  34.6885,2,  34.6892,2,    150.8,2,   150.2,2,  133.50,6,   36.10,6,    0.00,6,    2.53,2,   0.000,2,   0.000,2,   0.0000,2,  2321.6,2,  2413.0,2,   -999.0,9,  -999.00,   7.5715,2,    25.00,-999.000,9,-999.0000,9, -999.00,9, -999.00,9,  -999.0,9,-999.000,9,-999.000,   0.007,3,-999.000,9, -999.00,9, -999.00,9, -999.00,9, -999.00,9, -999.00,9,-999.000,   0.1308,2,   0.0889,2,   0.0451,2,   0.0275,2,   0.0163,2,   0.0061,2,   0.0013,2,   0.0170,2,   0.0185,2,   1.5221,     -999.0,9,     -999.0,9,     -999.0,9,     -999.0,9,     -999.0,9,     -999.0,9,     -999.0,9,-999.0000, -999.00
33RO20071215,        P18,      88,          1,          1,      12035,2,20080113,       1710,   -22.2493,  -102.9997,       3938,  3984.9,   1.8394,  34.6886,2,  34.6855,2,    151.2,2,   150.1,2,  133.20,2,   36.20,2,    0.01,2,    2.53,2,   0.001,6,   0.000,6,   0.0102,6,  2320.9,2,  2422.0,2,   1163.2,2,    20.00,   7.5961,2,    25.00,-999.000,9,-999.0000,9, -999.00,9, -999.00,9,  -999.0,9,-999.000,9,-999.000,   0.007,3,-999.000,9, -999.00,9, -999.00,9, -999.00,9, -999.00,9, -999.00,9,-999.000,   0.1323,2,   0.0897,2,   0.0449,2,   0.0270,2,   0.0157,2,   0.0054,2,   0.0008,2,   0.0174,2,   0.0189,2,   1.5125,     -999.0,9,     -999.0,9,     -999.0,9,     -999.0,9,     -999.0,9,     -999.0,9,     -999.0,9,-999.0000, -999.00