BOTTLE,20220818CCHSIOAMB
EXPOCODE,SECT_ID,STNNBR,CASTNO,SAMPNO,BTLNBR,BTLNBR_FLAG_W,DATE,TIME,LATITUDE,LONGITUDE,DEPTH,CTDPRS,CTDTMP,CTDSAL,CTDSAL_FLAG_W,SALNTY,SALNTY_FLAG_W,CTDOXY,CTDOXY_FLAG_W,OXYGEN,OXYGEN_FLAG_W,SILCAT,SILCAT_FLAG_W,NITRAT,NITRAT_FLAG_W,NITRIT,NITRIT_FLAG_W,PHSPHT,PHSPHT_FLAG_W,CFC-11,CFC-11_FLAG_W,CFC-12,CFC-12_FLAG_W,SF6,SF6_FLAG_W,TCARBN,TCARBN_FLAG_W,ALKALI,ALKALI_FLAG_W,FCO2,FCO2_FLAG_W,FCO2TMP,PH_SWS,PH_SWS_FLAG_W,PH_TMP,TRITUM,TRITUM_FLAG_W,HELIUM,HELIUM_FLAG_W,DELHE3,DELHE3_FLAG_W,DELC13,DELC13_FLAG_W,DELC14,DELC14_FLAG_W,NEON,NEON_FLAG_W,NEONER,CCL4,CCL4_FLAG_W,POC,POC_FLAG_W,DOC,DOC_FLAG_W,TDN,TDN_FLAG_W,DON,DON_FLAG_W,CHLORA,CHLORA_FLAG_W,ARGON,ARGON_FLAG_W,TRITER,CDOM325,CDOM325_FLAG_W,CDOM340,CDOM340_FLAG_W,CDOM380,CDOM380_FLAG_W,CDOM412,CDOM412_FLAG_W,CDOM443,CDOM443_FLAG_W,CDOM490,CDOM490_FLAG_W,CDOM555,CDOM555_FLAG_W,CDOMSL,CDOMSL_FLAG_W,CDOMSN,CDOMSN_FLAG_W,THETA,D18O_NO3,D18O_NO3_FLAG_W,CDOM2C,CDOM2C_FLAG_W,CDOM3C,CDOM3C_FLAG_W,LAB_DEN,LAB_DEN_FLAG_W,DELSI30,DELSI30_FLAG_W,N2,N2_FLAG_W,D15N_NO3,D15N_NO3_FLAG_W,HELIER,DELHER
,,,,,,,,,,,METERS,DBAR,ITS-90,PSS-78,,PSS-78,,UMOL/KG,,UMOL/KG,,UMOL/KG,,UMOL/KG,,UMOL/KG,,UMOL/KG,,PMOL/KG,,PMOL/KG,,FMOL/KG,,UMOL/KG,,UMOL/KG,,UATM,,DEG C,,,DEG C,TU,,NMOL/KG,,PERCNT,,/MILLE,,/MILLE,,NMOL/KG,,NMOL/KG,PMOL/KG,,UG/KG,,UMOL/KG,,UMOL/KG,,UMOL/KG,,UG/KG,,UMOL/KG,,TU,1/M,,1/M,,1/M,,1/M,,1/M,,1/M,,1/M,,1/NM,,1/NM,,DEG C,/MILLE,,,,,,,,/MILLE,,UMOL/KG,,/MILLE,,NMOL/KG,PERCNT
33RO20071215,        P18,     153,          1,         11,      12003,2,20080208,       1337,   -59.7507,  -102.9993,       4895,  2661.5,   1.3783,  34.7267,2,  34.7263,2,    195.3,2,   195.5,2,  108.20,2,   32.20,2,    0.00,2,    2.23,2,   0.072,2,   0.036,2,   0.0000,2,  2256.1,2,  2361.5,2,   -999.0,9,  -999.00,   7.6040,2,    25.00,-999.000,9,-999.0000,9, -999.00,9, -999.00,9,  -999.0,9,-999.000,9,-999.000,   0.084,3,-999.000,9,   39.40,2,   33.31,2, -999.00,9, -999.00,9, -999.00,9,-999.000,-999.0000,5,-999.0000,5,-999.0000,5,-999.0000,5,-999.0000,5,-999.0000,5,-999.0000,5,-999.0000,5,-999.0000,5,   1.1950,     -999.0,9,     -999.0,9,     -999.0,9,     -999.0,9,     -999.0,9,     -999.0,9,     -999.0,9,-999.0000, -999.00
33RO20071215,        P18,     153,          1,         10,      12032,2,20080208,       1337,   -59.7507,  -102.9993,       4895,  2916.4,   1.2362,  34.7238,2,  34.7237,2,    198.5,2,   198.6,2,  112.10,2,   32.20,2,    0.00,2,    2.23,2,   0.087,2,   0.043,2,   0.0000,2,  2257.4,6,  2361.4,2,   1070.3,2,    20.00,   7.6040,2,    25.00,-999.000,9,-999.0000,9, -999.00,9, -999.00,9,  -999.0,9,-999.000,9,-999.000,   0.099,3,-999.000,9,   39.32,2,   33.37,2, -999.00,9, -999.00,9, -999.00,9,-999.000,-999.0000,5,-999.0000,5,-999.0000,5,-999.0000,5,-999.0000,5,-999.0000,5,-999.0000,5,-999.0000,5,-999.0000,5,   1.0327,     -999.0,9,     -999.0,9,     -999.0,9,     -999.0,9,     -999.0,9,     -999.0,9,     -999.0,9,-999.0000, -999.00
33RO20071215,        P18,     153,          1,          9,      12002,2,20080208,       1337,   -59.7507,  -102.9993,       4895,  3166.4,   1.1065,  34.7199,2,  34.7195,2,    201.2,2,   201.5,2,  116.20,2,   32.40,2,    0.00,2,    2.24,2,   0.105,2,   0.051,2,   0.0000,2,  2257.0,2,  2359.6,2,   -999.0,9,  -999.00,   7.5994,2,    25.00,-999.000,9,-999.0000,9, -999.00,9, -999.00,9,  -999.0,9,-999.000,9,-999.000,   0.124,3,-999.000,9,   38.45,2,   33.25,2, -999.00,9, -999.00,9, -999.00,9,-999.000,   0.1148,2,   0.0758,2,   0.0367,2,   0.0238,2,   0.0133,2,   0.0042,2,   0.0005,4,   0.0171,2,   0.0195,2,   0.8826,     -999.0,9,     -999.0,9,     -999.0,9,     -999.0,9,     -999.0,9,     -999.0,9,     -999.0,9,-999.0000, -999.00
33RO20071215,        P18,     153,          1,          8,      12021,2,20080208,       1337,   -59.7507,  -102.9993,       4895,  3415.9,   0.9749,  34.7156,2,  34.7145,2,    204.0,2,   203.7,2,  120.90,2,   32.50,2,    0.00,2,    2.26,2,   0.110,2,   0.058,2,   0.0000,2,  2258.7,2,  2360.7,2,   -999.0,9,  -999.00,   7.5971,2,    25.00,-999.000,9,-999.0000,9, -999.00,9, -999.00,9,  -999.0,9,-999.000,9,-999.000,   0.142,3,-999.000,9,   38.94,2,   33.59,2, -999.00,9, -999.00,9, -999.00,9,-999.000,   0.1124,2,   0.0736,2,   0.0354,2,   0.0228,2,   0.0125,2,   0.0033,2,  -0.0004,4,   0.0174,2,   0.0199,2,   0.7300,     -999.0,9,     -999.0,9,     -999.0,9,     -999.0,9,     -999.0,9,     -999.0,9,     -999.0,9,-999.0000, -999.00
33RO20071215,        P18,     153,          1,          7,      12001,2,20080208,       1337,   -59.7507,  -102.9993,       4895,  3661.8,   0.8534,  34.7116,2,  34.7116,2,    206.7,2,   206.4,2,  124.70,2,   32.60,2,    0.00,2,    2.26,2,   0.147,2,   0.075,2,   0.0000,2,  2259.4,2,  2360.8,2,   1082.9,2,    20.00,   7.5983,2,    25.00,-999.000,9,-999.0000,9, -999.00,9, -999.00,9,  -999.0,9,-999.000,9,-999.000,   0.168,3,-999.000,9,   38.56,2,   33.63,2, -999.00,9, -999.00,9, -999.00,9,-999.000,   0.1165,2,   0.0772,2,   0.0384,2,   0.0249,2,   0.0141,2,   0.0042,2,   0.0007,3,   0.0169,2,   0.0190,2,   0.5873,     -999.0,9,     -999.0,9,     -999.0,9,     -999.0,9,     -999.0,9,     -999.0,9,     -999.0,9,-999.0000, -999.00
33RO20071215,        P18,     153,          1,          6,      12033,2,20080208,       1337,   -59.7507,  -102.9993,       4895,  3915.5,   0.7238,  34.7087,2,  34.7065,2,    209.2,2,   208.2,2,  128.40,2,   32.80,2,    0.00,2,    2.27,2,   0.166,2,   0.083,2,   0.0000,2,  2259.4,2,  2364.6,2,   -999.0,9,  -999.00,   7.5996,2,    25.00,-999.000,9,-999.0000,9, -999.00,9, -999.00,9,  -999.0,9,-999.000,9,-999.000,   0.186,3,-999.000,9,   39.22,2,   34.26,2, -999.00,9, -999.00,9, -999.00,9,-999.000,   0.1110,2,   0.0723,2,   0.0343,2,   0.0217,2,   0.0114,2,   0.0022,2,  -0.0015,4,   0.0179,2,   0.0204,2,   0.4355,     -999.0,9,     -999.0,9,     -999.0,9,     -999.0,9,     -999.0,9,     -999.0,9,     -999.0,9,-999.0000, -999.00
33RO20071215,        P18,     153,          1,          5,      12008,2,20080208,       1337,   -59.7507,  -102.9993,       4895,  4165.3,   0.6100,  34.7062,2,  34.7058,2,    211.9,2,   211.3,2,  131.10,2,   32.90,2,    0.00,2,    2.27,2,   0.192,2,   0.100,2,   0.0000,2,  2260.0,2,  2364.2,2,   -999.0,9,  -999.00,   7.5889,2,    25.00,-999.000,9,-999.0000,9, -999.00,9, -999.00,9,  -999.0,9,-999.000,9,-999.000,   0.212,3,-999.000,9,   39.38,2,   34.44,2, -999.00,9, -999.00,9, -999.00,9,-999.000,   0.1150,2,   0.0758,2,   0.0373,2,   0.0243,2,   0.0137,2,   0.0040,2,   0.0007,2,   0.0169,2,   0.0192,2,   0.2988,     -999.0,9,     -999.0,9,     -999.0,9,     -999.0,9,     -999.0,9,     -999.0,9,     -999.0,9,-999.0000, -999.00
33RO20071215,        P18,     153,          1,          4,      12009,2,20080208,       1337,   -59.7507,  -102.9993,       4895,  4415.9,   0.5289,  34.7050,2,  34.7049,2,    213.7,2,   214.7,3,  134.70,6,   32.90,6,    0.00,6,    2.28,2,   0.228,2,   0.115,2,   0.0000,2,  2259.8,2,  2364.6,2,   1073.0,2,    20.00,   7.6010,2,    25.00,-999.000,9,-999.0000,9, -999.00,9, -999.00,9,  -999.0,9,-999.000,9,-999.000,   0.224,3,-999.000,9,   39.68,2,   34.12,2, -999.00,9, -999.00,9, -999.00,9,-999.000,   0.1165,2,   0.0769,2,   0.0385,2,   0.0254,2,   0.0146,2,   0.0045,2,   0.0012,2,   0.0126,4,   0.0187,4,   0.1933,     -999.0,9,     -999.0,9,     -999.0,9,     -999.0,9,     -999.0,9,     -999.0,9,     -999.0,9,-999.0000, -999.00
33RO20071215,        P18,     153,          1,          3,      12006,2,20080208,       1337,   -59.7507,  -102.9993,       4895,  4665.9,   0.4918,  34.7040,2,  34.7044,2,    215.2,2,   214.0,2,  136.60,6,   32.90,6,    0.00,6,    2.28,2,   0.245,2,   0.124,2,   0.0000,2,  2259.6,2,  2360.7,2,   -999.0,9,  -999.00,   7.6002,2,    25.00,-999.000,9,-999.0000,9, -999.00,9, -999.00,9,  -999.0,9,-999.000,9,-999.000,   0.256,3,-999.000,9,   39.68,2,   34.29,2, -999.00,9, -999.00,9, -999.00,9,-999.000,   0.1220,2,   0.0826,2,   0.0432,2,   0.0282,2,   0.0159,2,   0.0033,3,  -0.0013,4,   0.0165,2,   0.0178,2,   0.1298,     -999.0,9,     -999.0,9,     -999.0,9,     -999.0,9,     -999.0,9,     -999.0,9,     -999.0,9,-999.0000, -999.00
33RO20071215,        P18,     153,          1,          2,      12007,2,20080208,       1337,   -59.7507,  -102.9993,       4895,  4829.1,   0.4680,  34.7035,2,  34.7033,2,    215.8,2,   215.6,2,  138.30,6,   32.90,6,    0.00,6,    2.29,2,-999.000,5,-999.000,5,-999.0000,5,  2259.3,2,  2360.3,2,   -999.0,9,  -999.00,   7.5984,2,    25.00,-999.000,9,-999.0000,9, -999.00,9, -999.00,9,  -999.0,9,-999.000,9,-999.000,-999.000,1,-999.000,9,   39.66,2,   34.27,2, -999.00,9, -999.00,9, -999.00,9,-999.000,   0.1114,2,   0.0724,2,   0.0343,2,   0.0217,2,   0.0117,2,   0.0029,2,  -0.0001,4,   0.0178,2,   0.0205,2,   0.0883,     -999.0,9,     -999.0,9,     -999.0,9,     -999.0,9,     -999.0,9,     -999.0,9,     -999.0,9,-999.0000, -999.00
33RO20071215,        P18,     153,          1,          1,      12035,2,20080208,       1337,   -59.7507,  -102.9993,       4895,  4991.0,   0.4609,  34.7032,2,  34.7030,2,    217.1,2,   215.6,2,  140.20,2,   33.00,2,    0.01,2,    2.29,2,   0.266,6,   0.134,6,   0.0000,6,  2260.2,6,  2364.8,4,   1075.6,2,    20.00,   7.5962,2,    25.00,-999.000,9,-999.0000,9, -999.00,9, -999.00,9,  -999.0,9,-999.000,9,-999.000,   0.286,3,-999.000,9,   40.39,2,   34.34,2, -999.00,9, -999.00,9, -999.00,9,-999.000,   0.1096,2,   0.0703,2,   0.0323,2,   0.0200,2,   0.0102,2,   0.0020,2,  -0.0010,4,   0.0185,2,   0.0214,2,   0.0629,     -999.0,9,     -999.0,9,     -999.0,9,     -999.0,9,     -999.0,9,     -999.0,9,     -999.0,9,-999.0000, -999.00