BOTTLE,20220818CCHSIOAMB
EXPOCODE,SECT_ID,STNNBR,CASTNO,SAMPNO,BTLNBR,BTLNBR_FLAG_W,DATE,TIME,LATITUDE,LONGITUDE,DEPTH,CTDPRS,CTDTMP,CTDSAL,CTDSAL_FLAG_W,SALNTY,SALNTY_FLAG_W,CTDOXY,CTDOXY_FLAG_W,OXYGEN,OXYGEN_FLAG_W,SILCAT,SILCAT_FLAG_W,NITRAT,NITRAT_FLAG_W,NITRIT,NITRIT_FLAG_W,PHSPHT,PHSPHT_FLAG_W,CFC-11,CFC-11_FLAG_W,CFC-12,CFC-12_FLAG_W,SF6,SF6_FLAG_W,TCARBN,TCARBN_FLAG_W,ALKALI,ALKALI_FLAG_W,FCO2,FCO2_FLAG_W,FCO2TMP,PH_SWS,PH_SWS_FLAG_W,PH_TMP,TRITUM,TRITUM_FLAG_W,HELIUM,HELIUM_FLAG_W,DELHE3,DELHE3_FLAG_W,DELC13,DELC13_FLAG_W,DELC14,DELC14_FLAG_W,NEON,NEON_FLAG_W,NEONER,CCL4,CCL4_FLAG_W,POC,POC_FLAG_W,DOC,DOC_FLAG_W,TDN,TDN_FLAG_W,DON,DON_FLAG_W,CHLORA,CHLORA_FLAG_W,ARGON,ARGON_FLAG_W,TRITER,CDOM325,CDOM325_FLAG_W,CDOM340,CDOM340_FLAG_W,CDOM380,CDOM380_FLAG_W,CDOM412,CDOM412_FLAG_W,CDOM443,CDOM443_FLAG_W,CDOM490,CDOM490_FLAG_W,CDOM555,CDOM555_FLAG_W,CDOMSL,CDOMSL_FLAG_W,CDOMSN,CDOMSN_FLAG_W,THETA,D18O_NO3,D18O_NO3_FLAG_W,CDOM2C,CDOM2C_FLAG_W,CDOM3C,CDOM3C_FLAG_W,LAB_DEN,LAB_DEN_FLAG_W,DELSI30,DELSI30_FLAG_W,N2,N2_FLAG_W,D15N_NO3,D15N_NO3_FLAG_W,HELIER,DELHER
,,,,,,,,,,,METERS,DBAR,ITS-90,PSS-78,,PSS-78,,UMOL/KG,,UMOL/KG,,UMOL/KG,,UMOL/KG,,UMOL/KG,,UMOL/KG,,PMOL/KG,,PMOL/KG,,FMOL/KG,,UMOL/KG,,UMOL/KG,,UATM,,DEG C,,,DEG C,TU,,NMOL/KG,,PERCNT,,/MILLE,,/MILLE,,NMOL/KG,,NMOL/KG,PMOL/KG,,UG/KG,,UMOL/KG,,UMOL/KG,,UMOL/KG,,UG/KG,,UMOL/KG,,TU,1/M,,1/M,,1/M,,1/M,,1/M,,1/M,,1/M,,1/NM,,1/NM,,DEG C,/MILLE,,,,,,,,/MILLE,,UMOL/KG,,/MILLE,,NMOL/KG,PERCNT
33RO20071215,        P18,      35,          1,         36,      12017,2,20071226,       1811,     4.5010,  -109.9983,       3920,     5.6,  24.2704,  33.9095,2,  33.9109,2,    210.9,2,   211.6,2,    2.40,2,    1.90,2,    0.04,2,    0.25,2,   1.849,6,   1.162,6,   1.0380,6,  1947.5,6,  2208.5,2,    317.0,2,    20.00,   8.0357,2,    25.00,-999.000,9,-999.0000,9, -999.00,9, -999.00,9,  -999.0,9,-999.000,9,-999.000,-999.000,9,-999.000,9, -999.00,9, -999.00,9, -999.00,9,    0.14,2, -999.00,9,-999.000,   0.1093,2,   0.0756,2,   0.0305,2,   0.0216,2,   0.0144,2,   0.0078,2,   0.0025,2,   0.0153,2,   0.0205,2,  24.2692,     -999.0,9,     -999.0,9,     -999.0,9,     -999.0,9,     -999.0,9,     -999.0,9,     -999.0,9,-999.0000, -999.00
33RO20071215,        P18,      35,          1,         35,      12029,2,20071226,       1811,     4.5010,  -109.9983,       3920,    17.0,  24.1639,  33.9202,2,  33.9211,2,    211.0,2,   211.8,2,    2.50,2,    2.00,2,    0.04,2,    0.26,2,-999.000,9,-999.000,9,-999.0000,9,  1947.4,2,  2236.5,2,   -999.0,9,  -999.00,   8.0412,2,    25.00,-999.000,9,-999.0000,9, -999.00,9, -999.00,9,  -999.0,9,-999.000,9,-999.000,-999.000,9,-999.000,9, -999.00,9, -999.00,9, -999.00,9,    0.17,2, -999.00,9,-999.000,   0.1109,2,   0.0780,2,   0.0374,2,   0.0273,2,   0.0193,2,   0.0113,2,   0.0043,2,   0.0127,2,   0.0163,2,  24.1603,     -999.0,9,     -999.0,9,     -999.0,9,     -999.0,9,     -999.0,9,     -999.0,9,     -999.0,9,-999.0000, -999.00
33RO20071215,        P18,      35,          1,         34,      12049,2,20071226,       1811,     4.5010,  -109.9983,       3920,    27.9,  24.0625,  33.9617,2,  33.9589,2,    210.7,2,   210.9,2,    2.70,2,    2.40,2,    0.05,2,    0.30,2,   1.863,2,   1.167,2,   1.0183,2,  1953.1,2,  2236.7,2,    322.5,2,    20.00,   8.0295,2,    25.00,-999.000,9,-999.0000,9, -999.00,9, -999.00,9,  -999.0,9,-999.000,9,-999.000,-999.000,9,-999.000,9, -999.00,9, -999.00,9, -999.00,9,    0.18,2, -999.00,9,-999.000,   0.1021,2,   0.0707,2,   0.0337,2,   0.0243,2,   0.0163,2,   0.0087,2,   0.0031,2,   0.0140,2,   0.0172,2,  24.0567,     -999.0,9,     -999.0,9,     -999.0,9,     -999.0,9,     -999.0,9,     -999.0,9,     -999.0,9,-999.0000, -999.00
33RO20071215,        P18,      35,          1,         33,      12027,9,20071226,       1811,     4.5010,  -109.9983,       3920,    47.8,  23.8694,  34.0254,2,-999.0000,9,    210.6,2,  -999.0,9, -999.00,9, -999.00,9, -999.00,9, -999.00,9,-999.000,9,-999.000,9,-999.0000,9,  -999.0,9,  -999.0,9,   -999.0,9,  -999.00,-999.0000,9,  -999.00,-999.000,9,-999.0000,9, -999.00,9, -999.00,9,  -999.0,9,-999.000,9,-999.000,-999.000,9,-999.000,9, -999.00,9, -999.00,9, -999.00,9, -999.00,9, -999.00,9,-999.000,-999.0000,9,-999.0000,9,-999.0000,9,-999.0000,9,-999.0000,9,-999.0000,9,-999.0000,9,-999.0000,9,-999.0000,9,  23.8594,     -999.0,9,     -999.0,9,     -999.0,9,     -999.0,9,     -999.0,9,     -999.0,9,     -999.0,9,-999.0000, -999.00
33RO20071215,        P18,      35,          1,         32,      12023,2,20071226,       1811,     4.5010,  -109.9983,       3920,    67.1,  22.6426,  34.3590,2,  34.3723,2,    211.5,2,   210.4,2,    5.90,2,    7.30,2,    0.12,2,    0.59,2,   1.939,2,   1.202,2,   1.0520,2,  2015.8,2,  2267.7,2,    397.7,2,    20.00,   7.9604,2,    25.00,-999.000,9,-999.0000,9, -999.00,9, -999.00,9,  -999.0,9,-999.000,9,-999.000,-999.000,9,-999.000,9, -999.00,9, -999.00,9, -999.00,9,    0.14,2, -999.00,9,-999.000,   0.1040,2,   0.0733,2,   0.0371,2,   0.0273,2,   0.0184,2,   0.0096,2,   0.0034,2,   0.0133,2,   0.0157,2,  22.6291,     -999.0,9,     -999.0,9,     -999.0,9,     -999.0,9,     -999.0,9,     -999.0,9,     -999.0,9,-999.0000, -999.00
33RO20071215,        P18,      35,          1,         31,      12037,2,20071226,       1811,     4.5010,  -109.9983,       3920,    87.0,  20.9180,  34.4517,2,  34.4867,2,    186.5,2,   183.4,2,    7.60,2,   10.60,2,    0.20,2,    0.84,2,-999.000,9,-999.000,9,-999.0000,9,  2056.0,2,  2277.9,2,    479.4,2,    20.00,   7.8929,2,    25.00,-999.000,9,-999.0000,9, -999.00,9, -999.00,9,  -999.0,9,-999.000,9,-999.000,-999.000,9,-999.000,9, -999.00,9, -999.00,9, -999.00,9,    0.12,2, -999.00,9,-999.000,   0.1488,2,   0.1077,2,   0.0550,2,   0.0401,2,   0.0257,2,   0.0129,2,   0.0050,2,   0.0140,2,   0.0156,2,  20.9015,     -999.0,9,     -999.0,9,     -999.0,9,     -999.0,9,     -999.0,9,     -999.0,9,     -999.0,9,-999.0000, -999.00
33RO20071215,        P18,      35,          1,         30,      12036,2,20071226,       1811,     4.5010,  -109.9983,       3920,   108.3,  17.3140,  34.8115,2,  34.8486,2,    127.3,2,   107.7,2,   13.90,2,   20.10,2,    0.37,2,    1.42,2,   1.663,2,   0.968,2,   0.5951,2,  2149.8,2,  -999.0,9,    777.4,2,    20.00,-999.0000,9,  -999.00,-999.000,9,-999.0000,9, -999.00,9, -999.00,9,  -999.0,9,-999.000,9,-999.000,-999.000,9,-999.000,9, -999.00,9, -999.00,9, -999.00,9,    0.08,2, -999.00,9,-999.000,   0.1815,2,   0.1336,2,   0.0743,2,   0.0573,2,   0.0367,2,   0.0188,2,   0.0082,2,   0.0131,2,   0.0137,2,  17.2960,     -999.0,9,     -999.0,9,     -999.0,9,     -999.0,9,     -999.0,9,     -999.0,9,     -999.0,9,-999.0000, -999.00
33RO20071215,        P18,      35,          1,         29,      12044,2,20071226,       1811,     4.5010,  -109.9983,       3920,   134.0,  14.4173,  34.9587,2,  34.9603,2,     53.9,2,    50.6,2,   17.90,2,   26.90,2,    0.04,2,    1.80,2,-999.000,9,-999.000,9,-999.0000,9,  2195.7,2,  2302.2,2,   -999.0,9,  -999.00,   7.6073,2,    25.00,-999.000,9,-999.0000,9, -999.00,9, -999.00,9,  -999.0,9,-999.000,9,-999.000,-999.000,9,-999.000,9, -999.00,9, -999.00,9, -999.00,9,    0.04,2, -999.00,9,-999.000,   0.1605,2,   0.1149,2,   0.0633,2,   0.0505,2,   0.0295,2,   0.0123,2,   0.0047,2,   0.0146,2,   0.0146,2,  14.3976,     -999.0,9,     -999.0,9,     -999.0,9,     -999.0,9,     -999.0,9,     -999.0,9,     -999.0,9,-999.0000, -999.00
33RO20071215,        P18,      35,          1,         28,      12057,2,20071226,       1811,     4.5010,  -109.9983,       3920,   157.9,  13.6346,  34.9459,2,  34.9462,2,     48.1,2,    45.6,2,   20.30,2,   28.30,2,    0.02,2,    1.90,2,   1.243,6,   0.690,6,   0.2935,6,  2207.2,2,  2304.2,2,   1129.3,2,    20.00,   7.5815,2,    25.00,-999.000,9,-999.0000,9, -999.00,9, -999.00,9,  -999.0,9,-999.000,9,-999.000,-999.000,9,-999.000,9, -999.00,9, -999.00,9, -999.00,9,    0.01,2, -999.00,9,-999.000,   0.1562,2,   0.1127,2,   0.0634,2,   0.0503,2,   0.0302,2,   0.0123,2,   0.0044,2,   0.0144,2,   0.0142,2,  13.6123,     -999.0,9,     -999.0,9,     -999.0,9,     -999.0,9,     -999.0,9,     -999.0,9,     -999.0,9,-999.0000, -999.00
33RO20071215,        P18,      35,          1,         27,      12026,2,20071226,       1811,     4.5010,  -109.9983,       3920,   183.2,  13.1886,  34.9195,2,  34.9180,2,     41.2,2,    36.4,2,   21.90,2,   29.90,2,    0.01,2,    2.00,2,-999.000,9,-999.000,9,-999.0000,9,  2216.9,2,  -999.0,9,   -999.0,9,  -999.00,-999.0000,9,  -999.00,-999.000,9,-999.0000,9, -999.00,9, -999.00,9,  -999.0,9,-999.000,9,-999.000,-999.000,9,-999.000,9, -999.00,9, -999.00,9, -999.00,9,    0.00,2, -999.00,9,-999.000,   0.1800,2,   0.1333,2,   0.0787,2,   0.0630,2,   0.0406,2,   0.0193,2,   0.0086,2,   0.0130,2,   0.0128,2,  13.1632,     -999.0,9,     -999.0,9,     -999.0,9,     -999.0,9,     -999.0,9,     -999.0,9,     -999.0,9,-999.0000, -999.00
33RO20071215,        P18,      35,          1,         26,      12030,2,20071226,       1811,     4.5010,  -109.9983,       3920,   217.8,  12.7753,  34.8882,2,  34.8876,2,     29.7,2,    26.2,2,   23.90,2,   31.40,2,    0.01,2,    2.12,2,   0.951,2,   0.527,2,   0.1994,2,  2228.3,2,  2299.7,2,   -999.0,9,  -999.00,   7.5200,2,    25.00,-999.000,9,-999.0000,9, -999.00,9, -999.00,9,  -999.0,9,-999.000,9,-999.000,-999.000,9,-999.000,9, -999.00,9, -999.00,9, -999.00,9,    0.01,2, -999.00,9,-999.000,   0.1832,2,   0.1361,2,   0.0812,2,   0.0656,2,   0.0421,2,   0.0194,2,   0.0084,2,   0.0131,2,   0.0127,2,  12.7457,     -999.0,9,     -999.0,9,     -999.0,9,     -999.0,9,     -999.0,9,     -999.0,9,     -999.0,9,-999.0000, -999.00
33RO20071215,        P18,      35,          1,         25,      12024,2,20071226,       1811,     4.5010,  -109.9983,       3920,   267.3,  11.9185,  34.8158,2,  34.8155,2,     37.4,2,    53.4,2,   25.00,2,   29.70,2,    0.01,2,    2.01,2,-999.000,9,-999.000,9,-999.0000,9,  2217.3,2,  2303.3,2,   1199.1,2,    20.00,   7.5514,2,    25.00,-999.000,9,-999.0000,9, -999.00,9, -999.00,9,  -999.0,9,-999.000,9,-999.000,-999.000,9,-999.000,9, -999.00,9, -999.00,9, -999.00,9,    0.01,2, -999.00,9,-999.000,   0.1672,2,   0.1233,2,   0.0723,2,   0.0579,2,   0.0372,2,   0.0167,2,   0.0071,2,   0.0133,2,   0.0130,2,  11.8838,     -999.0,9,     -999.0,9,     -999.0,9,     -999.0,9,     -999.0,9,     -999.0,9,     -999.0,9,-999.0000, -999.00
33RO20071215,        P18,      35,          1,         24,      12019,2,20071226,       1811,     4.5010,  -109.9983,       3920,   317.6,  10.6799,  34.7384,2,  34.7387,2,     41.8,2,    29.0,2,   31.50,2,   32.90,2,    0.01,2,    2.34,2,   0.541,2,   0.298,2,   0.1043,2,  2247.2,2,  -999.0,9,   -999.0,9,  -999.00,-999.0000,9,  -999.00,-999.000,9,-999.0000,9, -999.00,9, -999.00,9,  -999.0,9,-999.000,9,-999.000,-999.000,9,-999.000,9, -999.00,9, -999.00,9, -999.00,9, -999.00,9, -999.00,9,-999.000,   0.1854,2,   0.1384,2,   0.0838,2,   0.0688,2,   0.0441,2,   0.0193,2,   0.0080,2,   0.0134,2,   0.0124,2,  10.6414,     -999.0,9,     -999.0,9,     -999.0,9,     -999.0,9,     -999.0,9,     -999.0,9,     -999.0,9,-999.0000, -999.00
33RO20071215,        P18,      35,          1,         23,      12022,2,20071226,       1811,     4.5010,  -109.9983,       3920,   367.0,   9.9993,  34.6996,2,  34.6992,2,     45.3,2,    43.9,2,   32.50,2,   33.80,2,    0.01,2,    2.29,2,-999.000,9,-999.000,9,-999.0000,9,  2242.3,2,  2307.5,2,   1426.3,2,    20.00,   7.4923,2,    25.00,-999.000,9,-999.0000,9, -999.00,9, -999.00,9,  -999.0,9,-999.000,9,-999.000,-999.000,9,-999.000,9, -999.00,9, -999.00,9, -999.00,9, -999.00,9, -999.00,9,-999.000,   0.1688,2,   0.1237,2,   0.0737,2,   0.0603,2,   0.0383,2,   0.0160,2,   0.0061,2,   0.0137,2,   0.0129,2,   9.9565,     -999.0,9,     -999.0,9,     -999.0,9,     -999.0,9,     -999.0,9,     -999.0,9,     -999.0,9,-999.0000, -999.00
33RO20071215,        P18,      35,          1,         22,      12015,2,20071226,       1811,     4.5010,  -109.9983,       3920,   433.3,   9.1522,  34.6633,2,  34.6635,2,     16.8,2,    15.8,2,   40.20,2,   37.00,2,    0.01,2,    2.67,2,   0.165,2,   0.092,2,   0.0000,2,  2273.7,2,  -999.0,9,   -999.0,9,  -999.00,-999.0000,9,  -999.00,-999.000,9,-999.0000,9, -999.00,9, -999.00,9,  -999.0,9,-999.000,9,-999.000,-999.000,9,-999.000,9, -999.00,9, -999.00,9, -999.00,9, -999.00,9, -999.00,9,-999.000,   0.1956,2,   0.1464,2,   0.0897,2,   0.0741,2,   0.0479,2,   0.0203,2,   0.0081,2,   0.0136,2,   0.0123,2,   9.1042,     -999.0,9,     -999.0,9,     -999.0,9,     -999.0,9,     -999.0,9,     -999.0,9,     -999.0,9,-999.0000, -999.00
33RO20071215,        P18,      35,          1,         21,      12020,2,20071226,       1811,     4.5010,  -109.9983,       3920,   533.4,   7.7788,  34.6104,2,  34.6098,2,      8.7,2,    10.1,2,   51.50,2,   40.40,2,    0.00,2,    2.98,2,   0.022,2,   0.013,2,   0.0000,2,  2294.7,2,  -999.0,9,   1927.4,2,    20.00,-999.0000,9,  -999.00,-999.000,9,-999.0000,9, -999.00,9, -999.00,9,  -999.0,9,-999.000,9,-999.000,-999.000,9,-999.000,9, -999.00,9, -999.00,9, -999.00,9, -999.00,9, -999.00,9,-999.000,   0.2052,2,   0.1534,2,   0.0958,2,   0.0793,2,   0.0525,2,   0.0228,2,   0.0094,2,   0.0132,2,   0.0120,2,   7.7249,     -999.0,9,     -999.0,9,     -999.0,9,     -999.0,9,     -999.0,9,     -999.0,9,     -999.0,9,-999.0000, -999.00
33RO20071215,        P18,      35,          1,         20,      12055,2,20071226,       1811,     4.5010,  -109.9983,       3920,   633.3,   6.7075,  34.5687,2,  34.5699,2,     34.9,2,    33.7,2,   57.10,2,   41.30,2,    0.00,2,    2.93,2,-999.000,9,-999.000,9,-999.0000,9,  -999.0,9,  2325.3,2,   -999.0,9,  -999.00,   7.4099,2,    25.00,-999.000,9,-999.0000,9, -999.00,9, -999.00,9,  -999.0,9,-999.000,9,-999.000,-999.000,9,-999.000,9, -999.00,9, -999.00,9, -999.00,9, -999.00,9, -999.00,9,-999.000,   0.1745,2,   0.1269,2,   0.0759,2,   0.0610,2,   0.0402,2,   0.0165,2,   0.0060,2,   0.0137,2,   0.0129,2,   6.6481,     -999.0,9,     -999.0,9,     -999.0,9,     -999.0,9,     -999.0,9,     -999.0,9,     -999.0,9,-999.0000, -999.00
33RO20071215,        P18,      35,          1,         19,      12018,2,20071226,       1811,     4.5010,  -109.9983,       3920,   732.4,   6.0430,  34.5542,2,  34.5550,2,     50.2,2,    51.1,2,   63.70,2,   41.00,2,    0.00,2,    2.88,2,   0.013,2,   0.008,2,   0.0322,2,  2288.7,2,  -999.0,9,   -999.0,9,  -999.00,-999.0000,9,  -999.00,-999.000,9,-999.0000,9, -999.00,9, -999.00,9,  -999.0,9,-999.000,9,-999.000,-999.000,9,-999.000,9, -999.00,9, -999.00,9, -999.00,9, -999.00,9, -999.00,9,-999.000,   0.1606,2,   0.1146,2,   0.0666,2,   0.0525,2,   0.0340,2,   0.0132,2,   0.0042,2,   0.0140,2,   0.0136,2,   5.9776,     -999.0,9,     -999.0,9,     -999.0,9,     -999.0,9,     -999.0,9,     -999.0,9,     -999.0,9,-999.0000, -999.00
33RO20071215,        P18,      35,          1,         18,      12025,2,20071226,       1811,     4.5010,  -109.9983,       3920,   833.2,   5.3748,  34.5517,2,  34.5530,2,     55.7,2,    53.5,2,   74.20,2,   41.40,2,    0.01,2,    2.94,2,-999.000,9,-999.000,9,-999.0000,9,  -999.0,9,  -999.0,9,   -999.0,9,  -999.00,-999.0000,9,  -999.00,-999.000,9,-999.0000,9, -999.00,9, -999.00,9,  -999.0,9,-999.000,9,-999.000,-999.000,9,-999.000,9, -999.00,9, -999.00,9, -999.00,9, -999.00,9, -999.00,9,-999.000,   0.1748,2,   0.1268,2,   0.0753,2,   0.0596,2,   0.0399,2,   0.0173,2,   0.0066,2,   0.0134,2,   0.0130,2,   5.3039,     -999.0,9,     -999.0,9,     -999.0,9,     -999.0,9,     -999.0,9,     -999.0,9,     -999.0,9,-999.0000, -999.00
33RO20071215,        P18,      35,          1,         17,      12016,2,20071226,       1811,     4.5010,  -109.9983,       3920,   933.4,   4.9410,  34.5594,2,  34.5606,2,     54.2,2,    53.7,2,   83.00,2,   42.10,2,    0.00,2,    2.98,2,-999.000,9,-999.000,9,-999.0000,9,  2309.4,2,  2350.6,2,   1719.9,2,    20.00,   7.4253,2,    25.00,-999.000,9,-999.0000,9, -999.00,9, -999.00,9,  -999.0,9,-999.000,9,-999.000,-999.000,9,-999.000,9, -999.00,9, -999.00,9, -999.00,9, -999.00,9, -999.00,9,-999.000,   0.1781,2,   0.1285,2,   0.0757,2,   0.0595,2,   0.0393,2,   0.0161,2,   0.0059,2,   0.0138,2,   0.0133,2,   4.8640,     -999.0,9,     -999.0,9,     -999.0,9,     -999.0,9,     -999.0,9,     -999.0,9,     -999.0,9,-999.0000, -999.00
33RO20071215,        P18,      35,          1,         16,      12051,2,20071226,       1811,     4.5010,  -109.9983,       3920,  1032.8,   4.6337,  34.5637,2,  34.5655,2,     57.3,2,    57.0,2,   89.60,2,   42.00,2,    0.00,2,    2.98,2,-999.000,9,-999.000,9,-999.0000,9,  -999.0,9,  -999.0,9,   -999.0,9,  -999.00,-999.0000,9,  -999.00,-999.000,9,-999.0000,9, -999.00,9, -999.00,9,  -999.0,9,-999.000,9,-999.000,-999.000,9,-999.000,9, -999.00,9, -999.00,9, -999.00,9, -999.00,9, -999.00,9,-999.000,   0.1773,2,   0.1285,2,   0.0755,2,   0.0587,2,   0.0390,2,   0.0166,2,   0.0062,2,   0.0137,2,   0.0133,2,   4.5502,     -999.0,9,     -999.0,9,     -999.0,9,     -999.0,9,     -999.0,9,     -999.0,9,     -999.0,9,-999.0000, -999.00
33RO20071215,        P18,      35,          1,         15,      12014,2,20071226,       1811,     4.5010,  -109.9983,       3920,  1133.0,   4.1899,  34.5718,2,  34.5738,2,     62.4,2,    62.1,2,   98.90,2,   41.90,2,    0.01,2,    2.97,2,-999.000,9,-999.000,9,-999.0000,9,  2322.8,2,  -999.0,9,   -999.0,9,  -999.00,-999.0000,9,  -999.00,-999.000,9,-999.0000,9, -999.00,9, -999.00,9,  -999.0,9,-999.000,9,-999.000,-999.000,9,-999.000,9, -999.00,9, -999.00,9, -999.00,9, -999.00,9, -999.00,9,-999.000,   0.1830,2,   0.1332,2,   0.0792,2,   0.0616,2,   0.0415,2,   0.0185,2,   0.0074,2,   0.0134,2,   0.0130,2,   4.1013,     -999.0,9,     -999.0,9,     -999.0,9,     -999.0,9,     -999.0,9,     -999.0,9,     -999.0,9,-999.0000, -999.00
33RO20071215,        P18,      35,          1,         14,      12013,2,20071226,       1811,     4.5010,  -109.9983,       3920,  1232.6,   3.8730,  34.5834,2,  34.5851,2,     63.0,2,    63.2,2,  107.30,2,   42.10,2,    0.00,2,    2.98,2,-999.000,9,-999.000,9,-999.0000,9,  -999.0,9,  1877.6,4,   -999.0,9,  -999.00,   7.4319,2,    25.00,-999.000,9,-999.0000,9, -999.00,9, -999.00,9,  -999.0,9,-999.000,9,-999.000,-999.000,9,-999.000,9, -999.00,9, -999.00,9, -999.00,9, -999.00,9, -999.00,9,-999.000,   0.1830,2,   0.1326,2,   0.0774,2,   0.0601,2,   0.0394,2,   0.0160,2,   0.0057,2,   0.0141,2,   0.0135,2,   3.7786,     -999.0,9,     -999.0,9,     -999.0,9,     -999.0,9,     -999.0,9,     -999.0,9,     -999.0,9,-999.0000, -999.00
33RO20071215,        P18,      35,          1,         13,      12012,2,20071226,       1811,     4.5010,  -109.9983,       3920,  1332.5,   3.5927,  34.5949,2,  34.5969,2,     66.1,2,    65.7,2,  115.00,2,   42.00,2,    0.00,2,    2.96,2,-999.000,9,-999.000,9,-999.0000,9,  2337.8,2,  -999.0,9,   1675.0,2,    20.00,-999.0000,9,  -999.00,-999.000,9,-999.0000,9, -999.00,9, -999.00,9,  -999.0,9,-999.000,9,-999.000,-999.000,9,-999.000,9, -999.00,9, -999.00,9, -999.00,9, -999.00,9, -999.00,9,-999.000,-999.0000,5,-999.0000,5,-999.0000,5,-999.0000,5,-999.0000,5,-999.0000,5,-999.0000,5,-999.0000,5,-999.0000,5,   3.4925,     -999.0,9,     -999.0,9,     -999.0,9,     -999.0,9,     -999.0,9,     -999.0,9,     -999.0,9,-999.0000, -999.00
33RO20071215,        P18,      35,          1,         12,      12031,2,20071226,       1811,     4.5010,  -109.9983,       3920,  1464.5,   3.1689,  34.6084,2,  34.6100,2,     74.4,2,    74.0,2,  124.20,2,   41.40,2,    0.00,2,    2.92,2,-999.000,9,-999.000,9,-999.0000,9,  -999.0,9,  -999.0,9,   -999.0,9,  -999.00,-999.0000,9,  -999.00,-999.000,9,-999.0000,9, -999.00,9, -999.00,9,  -999.0,9,-999.000,9,-999.000,-999.000,9,-999.000,9, -999.00,9, -999.00,9, -999.00,9, -999.00,9, -999.00,9,-999.000,   0.1817,2,   0.1311,2,   0.0764,2,   0.0582,2,   0.0384,2,   0.0161,2,   0.0059,2,   0.0140,2,   0.0137,2,   3.0621,     -999.0,9,     -999.0,9,     -999.0,9,     -999.0,9,     -999.0,9,     -999.0,9,     -999.0,9,-999.0000, -999.00