BOTTLE,20220818CCHSIOAMB
EXPOCODE,SECT_ID,STNNBR,CASTNO,SAMPNO,BTLNBR,BTLNBR_FLAG_W,DATE,TIME,LATITUDE,LONGITUDE,DEPTH,CTDPRS,CTDTMP,CTDSAL,CTDSAL_FLAG_W,SALNTY,SALNTY_FLAG_W,CTDOXY,CTDOXY_FLAG_W,OXYGEN,OXYGEN_FLAG_W,SILCAT,SILCAT_FLAG_W,NITRAT,NITRAT_FLAG_W,NITRIT,NITRIT_FLAG_W,PHSPHT,PHSPHT_FLAG_W,CFC-11,CFC-11_FLAG_W,CFC-12,CFC-12_FLAG_W,SF6,SF6_FLAG_W,TCARBN,TCARBN_FLAG_W,ALKALI,ALKALI_FLAG_W,FCO2,FCO2_FLAG_W,FCO2TMP,PH_SWS,PH_SWS_FLAG_W,PH_TMP,TRITUM,TRITUM_FLAG_W,HELIUM,HELIUM_FLAG_W,DELHE3,DELHE3_FLAG_W,DELC13,DELC13_FLAG_W,DELC14,DELC14_FLAG_W,NEON,NEON_FLAG_W,NEONER,CCL4,CCL4_FLAG_W,POC,POC_FLAG_W,DOC,DOC_FLAG_W,TDN,TDN_FLAG_W,DON,DON_FLAG_W,CHLORA,CHLORA_FLAG_W,ARGON,ARGON_FLAG_W,TRITER,CDOM325,CDOM325_FLAG_W,CDOM340,CDOM340_FLAG_W,CDOM380,CDOM380_FLAG_W,CDOM412,CDOM412_FLAG_W,CDOM443,CDOM443_FLAG_W,CDOM490,CDOM490_FLAG_W,CDOM555,CDOM555_FLAG_W,CDOMSL,CDOMSL_FLAG_W,CDOMSN,CDOMSN_FLAG_W,THETA,D18O_NO3,D18O_NO3_FLAG_W,CDOM2C,CDOM2C_FLAG_W,CDOM3C,CDOM3C_FLAG_W,LAB_DEN,LAB_DEN_FLAG_W,DELSI30,DELSI30_FLAG_W,N2,N2_FLAG_W,D15N_NO3,D15N_NO3_FLAG_W,HELIER,DELHER
,,,,,,,,,,,METERS,DBAR,ITS-90,PSS-78,,PSS-78,,UMOL/KG,,UMOL/KG,,UMOL/KG,,UMOL/KG,,UMOL/KG,,UMOL/KG,,PMOL/KG,,PMOL/KG,,FMOL/KG,,UMOL/KG,,UMOL/KG,,UATM,,DEG C,,,DEG C,TU,,NMOL/KG,,PERCNT,,/MILLE,,/MILLE,,NMOL/KG,,NMOL/KG,PMOL/KG,,UG/KG,,UMOL/KG,,UMOL/KG,,UMOL/KG,,UG/KG,,UMOL/KG,,TU,1/M,,1/M,,1/M,,1/M,,1/M,,1/M,,1/M,,1/NM,,1/NM,,DEG C,/MILLE,,,,,,,,/MILLE,,UMOL/KG,,/MILLE,,NMOL/KG,PERCNT
33RO20071215,        P18,      90,          1,         36,      12017,2,20080114,       0759,   -23.4165,  -103.0002,       3930,     3.8,  23.2474,  36.0896,2,  36.0839,2,    215.7,2,   216.7,2,    0.50,2,    0.10,2,    0.00,2,    0.18,2,   1.968,2,   1.220,2,   0.9979,2,  2081.1,6,  2390.1,2,    358.4,2,    20.00,   8.0117,2,    25.00,-999.000,9,-999.0000,9, -999.00,9, -999.00,9,  -999.0,9,-999.000,9,-999.000,-999.000,9,-999.000,9, -999.00,9, -999.00,9, -999.00,9, -999.00,9, -999.00,9,-999.000,-999.0000,9,-999.0000,9,-999.0000,9,-999.0000,9,-999.0000,9,-999.0000,9,-999.0000,9,-999.0000,9,-999.0000,9,  23.2466,     -999.0,9,     -999.0,9,     -999.0,9,     -999.0,9,     -999.0,9,     -999.0,9,     -999.0,9,-999.0000, -999.00
33RO20071215,        P18,      90,          1,         35,      12029,2,20080114,       0759,   -23.4165,  -103.0002,       3930,    10.9,  23.1156,  36.0741,2,  36.0709,2,    216.5,2,   217.0,2,    0.50,2,    0.10,2,    0.00,2,    0.18,2,   1.970,6,   1.223,6,   1.0416,6,  -999.0,9,  2384.9,2,   -999.0,9,  -999.00,   8.0129,2,    25.00,-999.000,9,-999.0000,9, -999.00,9, -999.00,9,  -999.0,9,-999.000,9,-999.000,-999.000,9,-999.000,9, -999.00,9, -999.00,9, -999.00,9, -999.00,9, -999.00,9,-999.000,-999.0000,9,-999.0000,9,-999.0000,9,-999.0000,9,-999.0000,9,-999.0000,9,-999.0000,9,-999.0000,9,-999.0000,9,  23.1133,     -999.0,9,     -999.0,9,     -999.0,9,     -999.0,9,     -999.0,9,     -999.0,9,     -999.0,9,-999.0000, -999.00
33RO20071215,        P18,      90,          1,         34,      12049,2,20080114,       0759,   -23.4165,  -103.0002,       3930,    20.7,  22.9039,  36.0636,2,  36.0639,2,    217.2,2,   218.1,2,    0.40,2,    0.10,2,    0.00,2,    0.19,2,   1.990,2,   1.231,2,   1.0348,2,  2080.4,2,  2382.8,2,    359.1,2,    20.00,   8.0134,2,    25.00,-999.000,9,-999.0000,9, -999.00,9, -999.00,9,  -999.0,9,-999.000,9,-999.000,-999.000,9,-999.000,9, -999.00,9, -999.00,9, -999.00,9, -999.00,9, -999.00,9,-999.000,-999.0000,9,-999.0000,9,-999.0000,9,-999.0000,9,-999.0000,9,-999.0000,9,-999.0000,9,-999.0000,9,-999.0000,9,  22.8997,     -999.0,9,     -999.0,9,     -999.0,9,     -999.0,9,     -999.0,9,     -999.0,9,     -999.0,9,-999.0000, -999.00
33RO20071215,        P18,      90,          1,         33,      12027,2,20080114,       0759,   -23.4165,  -103.0002,       3930,    41.4,  22.1113,  36.0367,2,  36.0408,2,    222.8,2,   223.0,2,    0.50,2,    0.00,2,    0.00,2,    0.20,2,   2.068,2,   1.273,2,   1.0452,2,  -999.0,9,  2381.2,2,   -999.0,9,  -999.00,   8.0229,2,    25.00,-999.000,9,-999.0000,9, -999.00,9, -999.00,9,  -999.0,9,-999.000,9,-999.000,-999.000,9,-999.000,9, -999.00,9, -999.00,9, -999.00,9, -999.00,9, -999.00,9,-999.000,-999.0000,9,-999.0000,9,-999.0000,9,-999.0000,9,-999.0000,9,-999.0000,9,-999.0000,9,-999.0000,9,-999.0000,9,  22.1030,     -999.0,9,     -999.0,9,     -999.0,9,     -999.0,9,     -999.0,9,     -999.0,9,     -999.0,9,-999.0000, -999.00
33RO20071215,        P18,      90,          1,         32,      12023,2,20080114,       0759,   -23.4165,  -103.0002,       3930,    66.9,  21.4694,  36.0320,2,  36.0380,2,    226.3,2,   226.4,2,    0.40,2,    0.00,2,    0.00,2,    0.17,2,   2.108,2,   1.294,2,   1.0820,2,  2076.8,2,  2387.4,2,    355.0,2,    20.00,   8.0255,2,    25.00,-999.000,9,-999.0000,9, -999.00,9, -999.00,9,  -999.0,9,-999.000,9,-999.000,-999.000,9,-999.000,9, -999.00,9, -999.00,9, -999.00,9, -999.00,9, -999.00,9,-999.000,-999.0000,9,-999.0000,9,-999.0000,9,-999.0000,9,-999.0000,9,-999.0000,9,-999.0000,9,-999.0000,9,-999.0000,9,  21.4564,     -999.0,9,     -999.0,9,     -999.0,9,     -999.0,9,     -999.0,9,     -999.0,9,     -999.0,9,-999.0000, -999.00
33RO20071215,        P18,      90,          1,         31,      12037,2,20080114,       0759,   -23.4165,  -103.0002,       3930,    91.9,  20.9315,  35.9714,2,  35.9744,2,    228.0,2,   228.2,2,    0.40,2,    0.10,2,    0.00,2,    0.19,2,   2.143,2,   1.318,2,   1.0632,2,  -999.0,9,  2380.2,2,   -999.0,9,  -999.00,   8.0223,2,    25.00,-999.000,9,-999.0000,9, -999.00,9, -999.00,9,  -999.0,9,-999.000,9,-999.000,-999.000,9,-999.000,9, -999.00,9, -999.00,9, -999.00,9, -999.00,9, -999.00,9,-999.000,-999.0000,9,-999.0000,9,-999.0000,9,-999.0000,9,-999.0000,9,-999.0000,9,-999.0000,9,-999.0000,9,-999.0000,9,  20.9139,     -999.0,9,     -999.0,9,     -999.0,9,     -999.0,9,     -999.0,9,     -999.0,9,     -999.0,9,-999.0000, -999.00
33RO20071215,        P18,      90,          1,         30,      12036,2,20080114,       0759,   -23.4165,  -103.0002,       3930,   115.8,  20.6079,  35.9400,2,  35.9402,2,    226.2,2,   225.7,2,    0.40,2,    0.10,2,    0.00,2,    0.19,2,   2.163,2,   1.325,2,   1.0713,2,  2075.1,2,  2377.8,2,    361.3,2,    20.00,   8.0043,2,    25.00,-999.000,9,-999.0000,9, -999.00,9, -999.00,9,  -999.0,9,-999.000,9,-999.000,-999.000,9,-999.000,9, -999.00,9, -999.00,9, -999.00,9, -999.00,9, -999.00,9,-999.000,-999.0000,9,-999.0000,9,-999.0000,9,-999.0000,9,-999.0000,9,-999.0000,9,-999.0000,9,-999.0000,9,-999.0000,9,  20.5859,     -999.0,9,     -999.0,9,     -999.0,9,     -999.0,9,     -999.0,9,     -999.0,9,     -999.0,9,-999.0000, -999.00
33RO20071215,        P18,      90,          1,         29,      12044,2,20080114,       0759,   -23.4165,  -103.0002,       3930,   141.2,  20.3406,  35.8999,2,  35.9006,2,    223.0,2,   222.2,2,    0.40,2,    0.10,2,    0.00,2,    0.19,2,   2.163,2,   1.328,2,   1.0841,2,  2076.5,2,  2377.3,2,   -999.0,9,  -999.00,   8.0019,2,    25.00,-999.000,9,-999.0000,9, -999.00,9, -999.00,9,  -999.0,9,-999.000,9,-999.000,-999.000,9,-999.000,9, -999.00,9, -999.00,9, -999.00,9, -999.00,9, -999.00,9,-999.000,-999.0000,9,-999.0000,9,-999.0000,9,-999.0000,9,-999.0000,9,-999.0000,9,-999.0000,9,-999.0000,9,-999.0000,9,  20.3141,     -999.0,9,     -999.0,9,     -999.0,9,     -999.0,9,     -999.0,9,     -999.0,9,     -999.0,9,-999.0000, -999.00
33RO20071215,        P18,      90,          1,         28,      12057,2,20080114,       0759,   -23.4165,  -103.0002,       3930,   166.7,  20.0893,  35.8461,2,  35.8471,2,    220.3,2,   221.2,2,    0.40,2,    0.10,2,    0.07,2,    0.20,2,   2.204,2,   1.342,2,   1.0981,2,  2075.2,2,  2365.8,2,    373.0,2,    20.00,   8.0055,2,    25.00,-999.000,9,-999.0000,9, -999.00,9, -999.00,9,  -999.0,9,-999.000,9,-999.000,-999.000,9,-999.000,9, -999.00,9, -999.00,9, -999.00,9, -999.00,9, -999.00,9,-999.000,-999.0000,9,-999.0000,9,-999.0000,9,-999.0000,9,-999.0000,9,-999.0000,9,-999.0000,9,-999.0000,9,-999.0000,9,  20.0582,     -999.0,9,     -999.0,9,     -999.0,9,     -999.0,9,     -999.0,9,     -999.0,9,     -999.0,9,-999.0000, -999.00
33RO20071215,        P18,      90,          1,         27,      12026,2,20080114,       0759,   -23.4165,  -103.0002,       3930,   191.3,  19.8618,  35.7878,2,  35.7902,2,    220.6,2,   220.1,2,    0.40,2,    0.20,2,    0.18,2,    0.21,2,   2.224,2,   1.356,2,   1.0741,2,  2075.0,2,  2364.2,2,    379.3,2,    20.00,-999.0000,9,  -999.00,-999.000,9,-999.0000,9, -999.00,9, -999.00,9,  -999.0,9,-999.000,9,-999.000,-999.000,9,-999.000,9, -999.00,9, -999.00,9, -999.00,9, -999.00,9, -999.00,9,-999.000,-999.0000,9,-999.0000,9,-999.0000,9,-999.0000,9,-999.0000,9,-999.0000,9,-999.0000,9,-999.0000,9,-999.0000,9,  19.8265,     -999.0,9,     -999.0,9,     -999.0,9,     -999.0,9,     -999.0,9,     -999.0,9,     -999.0,9,-999.0000, -999.00
33RO20071215,        P18,      90,          1,         26,      12030,2,20080114,       0759,   -23.4165,  -103.0002,       3930,   233.1,  19.1397,  35.6211,2,  35.5971,2,    219.0,2,   217.3,2,    0.50,2,    1.00,2,    0.19,2,    0.25,2,   2.318,2,   1.400,2,   0.9764,2,  2072.3,2,  2346.0,2,    395.5,2,    20.00,   7.9607,2,    25.00,-999.000,9,-999.0000,9, -999.00,9, -999.00,9,  -999.0,9,-999.000,9,-999.000,-999.000,9,-999.000,9, -999.00,9, -999.00,9, -999.00,9, -999.00,9, -999.00,9,-999.000,-999.0000,9,-999.0000,9,-999.0000,9,-999.0000,9,-999.0000,9,-999.0000,9,-999.0000,9,-999.0000,9,-999.0000,9,  19.0977,     -999.0,9,     -999.0,9,     -999.0,9,     -999.0,9,     -999.0,9,     -999.0,9,     -999.0,9,-999.0000, -999.00
33RO20071215,        P18,      90,          1,         25,      12024,2,20080114,       0759,   -23.4165,  -103.0002,       3930,   281.0,  16.3515,  35.0324,2,  34.9809,2,    206.9,2,   206.1,2,    0.90,2,    4.60,2,    0.01,2,    0.46,2,   2.652,2,   1.552,2,   1.0067,2,  2073.6,2,  2306.9,2,    472.5,2,    20.00,   7.9087,2,    25.00,-999.000,9,-999.0000,9, -999.00,9, -999.00,9,  -999.0,9,-999.000,9,-999.000,-999.000,9,-999.000,9, -999.00,9, -999.00,9, -999.00,9, -999.00,9, -999.00,9,-999.000,-999.0000,9,-999.0000,9,-999.0000,9,-999.0000,9,-999.0000,9,-999.0000,9,-999.0000,9,-999.0000,9,-999.0000,9,  16.3062,     -999.0,9,     -999.0,9,     -999.0,9,     -999.0,9,     -999.0,9,     -999.0,9,     -999.0,9,-999.0000, -999.00
33RO20071215,        P18,      90,          1,         24,      12019,2,20080114,       0759,   -23.4165,  -103.0002,       3930,   333.6,  12.8893,  34.5437,2,  34.5292,2,    189.4,2,   185.8,2,    3.20,2,   12.50,2,    0.01,2,    1.01,2,   2.958,2,   1.634,2,   0.8261,2,  2108.3,2,  2282.5,2,    645.9,2,    20.00,   7.7981,2,    25.00,-999.000,9,-999.0000,9, -999.00,9, -999.00,9,  -999.0,9,-999.000,9,-999.000,-999.000,9,-999.000,9, -999.00,9, -999.00,9, -999.00,9, -999.00,9, -999.00,9,-999.000,-999.0000,9,-999.0000,9,-999.0000,9,-999.0000,9,-999.0000,9,-999.0000,9,-999.0000,9,-999.0000,9,-999.0000,9,  12.8436,     -999.0,9,     -999.0,9,     -999.0,9,     -999.0,9,     -999.0,9,     -999.0,9,     -999.0,9,-999.0000, -999.00
33RO20071215,        P18,      90,          1,         23,      12022,2,20080114,       0759,   -23.4165,  -103.0002,       3930,   381.9,  10.4199,  34.4032,2,  34.4041,2,    155.1,2,   154.5,2,    8.20,2,   20.20,2,    0.00,2,    1.63,2,   2.740,2,   1.437,2,   0.6233,2,  -999.0,9,  2274.9,2,   -999.0,9,  -999.00,   7.6595,2,    25.00,-999.000,9,-999.0000,9, -999.00,9, -999.00,9,  -999.0,9,-999.000,9,-999.000,-999.000,9,-999.000,9, -999.00,9, -999.00,9, -999.00,9, -999.00,9, -999.00,9,-999.000,-999.0000,9,-999.0000,9,-999.0000,9,-999.0000,9,-999.0000,9,-999.0000,9,-999.0000,9,-999.0000,9,-999.0000,9,  10.3743,     -999.0,9,     -999.0,9,     -999.0,9,     -999.0,9,     -999.0,9,     -999.0,9,     -999.0,9,-999.0000, -999.00
33RO20071215,        P18,      90,          1,         22,      12015,2,20080114,       0759,   -23.4165,  -103.0002,       3930,   465.9,   8.0476,  34.4034,2,  34.4039,2,    121.4,2,   120.0,2,   15.80,2,   29.70,2,    0.00,2,    2.24,2,   1.946,2,   0.976,2,   0.3168,2,  -999.0,9,  2279.2,2,   -999.0,9,  -999.00,   7.5235,2,    25.00,-999.000,9,-999.0000,9, -999.00,9, -999.00,9,  -999.0,9,-999.000,9,-999.000,-999.000,9,-999.000,9, -999.00,9, -999.00,9, -999.00,9, -999.00,9, -999.00,9,-999.000,-999.0000,9,-999.0000,9,-999.0000,9,-999.0000,9,-999.0000,9,-999.0000,9,-999.0000,9,-999.0000,9,-999.0000,9,   7.9998,     -999.0,9,     -999.0,9,     -999.0,9,     -999.0,9,     -999.0,9,     -999.0,9,     -999.0,9,-999.0000, -999.00
33RO20071215,        P18,      90,          1,         21,      12020,2,20080114,       0759,   -23.4165,  -103.0002,       3930,   566.4,   6.4530,  34.3432,2,  34.3447,2,    176.3,2,   175.7,2,   15.10,2,   29.60,2,    0.00,2,    2.08,2,   1.934,2,   0.948,2,   0.2690,2,  2182.4,2,  2281.2,2,   1060.9,2,    20.00,   7.6007,2,    25.00,-999.000,9,-999.0000,9, -999.00,9, -999.00,9,  -999.0,9,-999.000,9,-999.000,-999.000,9,-999.000,9, -999.00,9, -999.00,9, -999.00,9, -999.00,9, -999.00,9,-999.000,-999.0000,9,-999.0000,9,-999.0000,9,-999.0000,9,-999.0000,9,-999.0000,9,-999.0000,9,-999.0000,9,-999.0000,9,   6.4014,     -999.0,9,     -999.0,9,     -999.0,9,     -999.0,9,     -999.0,9,     -999.0,9,     -999.0,9,-999.0000, -999.00
33RO20071215,        P18,      90,          1,         20,      12055,2,20080114,       0759,   -23.4165,  -103.0002,       3930,   661.5,   5.6618,  34.3215,2,  34.3211,2,    185.5,2,   184.7,2,   19.10,2,   30.90,2,    0.00,2,    2.14,2,   1.391,2,   0.693,2,   0.1960,2,  -999.0,9,  2284.4,2,   -999.0,9,  -999.00,   7.6134,2,    25.00,-999.000,9,-999.0000,9, -999.00,9, -999.00,9,  -999.0,9,-999.000,9,-999.000,-999.000,9,-999.000,9, -999.00,9, -999.00,9, -999.00,9, -999.00,9, -999.00,9,-999.000,-999.0000,9,-999.0000,9,-999.0000,9,-999.0000,9,-999.0000,9,-999.0000,9,-999.0000,9,-999.0000,9,-999.0000,9,   5.6052,     -999.0,9,     -999.0,9,     -999.0,9,     -999.0,9,     -999.0,9,     -999.0,9,     -999.0,9,-999.0000, -999.00
33RO20071215,        P18,      90,          1,         19,      12018,2,20080114,       0759,   -23.4165,  -103.0002,       3930,   765.2,   5.0425,  34.3421,2,  34.3429,2,    164.0,2,   163.2,2,   30.10,2,   34.10,2,    0.00,2,    2.37,2,   0.672,2,   0.343,2,   0.0856,2,  2209.8,2,  2296.6,2,   1150.8,2,    20.00,   7.5686,2,    25.00,-999.000,9,-999.0000,9, -999.00,9, -999.00,9,  -999.0,9,-999.000,9,-999.000,-999.000,9,-999.000,9, -999.00,9, -999.00,9, -999.00,9, -999.00,9, -999.00,9,-999.000,-999.0000,9,-999.0000,9,-999.0000,9,-999.0000,9,-999.0000,9,-999.0000,9,-999.0000,9,-999.0000,9,-999.0000,9,   4.9800,     -999.0,9,     -999.0,9,     -999.0,9,     -999.0,9,     -999.0,9,     -999.0,9,     -999.0,9,-999.0000, -999.00
33RO20071215,        P18,      90,          1,         18,      12025,4,20080114,       0759,   -23.4165,  -103.0002,       3930,   865.9,   4.5516,  34.3874,2,  34.4251,4,    143.3,2,   170.5,4,    6.10,3,   17.40,3,    0.00,3,    1.39,3,-999.000,5,-999.000,5,-999.0000,5,  -999.0,9,  2276.0,4,   -999.0,9,  -999.00,-999.0000,5,  -999.00,-999.000,9,-999.0000,9, -999.00,9, -999.00,9,  -999.0,9,-999.000,9,-999.000,-999.000,9,-999.000,9, -999.00,9, -999.00,9, -999.00,9, -999.00,9, -999.00,9,-999.000,-999.0000,9,-999.0000,9,-999.0000,9,-999.0000,9,-999.0000,9,-999.0000,9,-999.0000,9,-999.0000,9,-999.0000,9,   4.4834,     -999.0,9,     -999.0,9,     -999.0,9,     -999.0,9,     -999.0,9,     -999.0,9,     -999.0,9,-999.0000, -999.00
33RO20071215,        P18,      90,          1,         17,      12016,2,20080114,       0759,   -23.4165,  -103.0002,       3930,   967.8,   4.1506,  34.4353,2,  34.4367,2,    128.7,2,   128.5,2,   57.70,2,   37.70,2,    0.00,2,    2.67,2,-999.000,9,-999.000,9,-999.0000,9,  -999.0,9,  2327.6,4,   -999.0,9,  -999.00,   7.5131,2,    25.00,-999.000,9,-999.0000,9, -999.00,9, -999.00,9,  -999.0,9,-999.000,9,-999.000,-999.000,9,-999.000,9, -999.00,9, -999.00,9, -999.00,9, -999.00,9, -999.00,9,-999.000,-999.0000,9,-999.0000,9,-999.0000,9,-999.0000,9,-999.0000,9,-999.0000,9,-999.0000,9,-999.0000,9,-999.0000,9,   4.0766,     -999.0,9,     -999.0,9,     -999.0,9,     -999.0,9,     -999.0,9,     -999.0,9,     -999.0,9,-999.0000, -999.00
33RO20071215,        P18,      90,          1,         16,      12051,2,20080114,       0759,   -23.4165,  -103.0002,       3930,  1066.4,   3.8578,  34.4828,2,  34.4817,2,    128.6,2,   128.4,2,   68.80,2,   37.50,2,    0.00,2,    2.67,2,   0.017,2,   0.006,2,   0.0000,2,  -999.0,9,  2341.0,4,   -999.0,9,  -999.00,   7.5191,2,    25.00,-999.000,9,-999.0000,9, -999.00,9, -999.00,9,  -999.0,9,-999.000,9,-999.000,-999.000,9,-999.000,9, -999.00,9, -999.00,9, -999.00,9, -999.00,9, -999.00,9,-999.000,-999.0000,9,-999.0000,9,-999.0000,9,-999.0000,9,-999.0000,9,-999.0000,9,-999.0000,9,-999.0000,9,-999.0000,9,   3.7778,     -999.0,9,     -999.0,9,     -999.0,9,     -999.0,9,     -999.0,9,     -999.0,9,     -999.0,9,-999.0000, -999.00
33RO20071215,        P18,      90,          1,         15,      12014,2,20080114,       0759,   -23.4165,  -103.0002,       3930,  1165.9,   3.5438,  34.5139,2,  34.5133,2,    130.1,2,   130.6,2,   77.80,2,   37.30,2,    0.00,2,    2.65,2,-999.000,9,-999.000,9,-999.0000,9,  2270.7,2,  2349.5,4,   1297.5,2,    20.00,   7.5336,2,    25.00,-999.000,9,-999.0000,9, -999.00,9, -999.00,9,  -999.0,9,-999.000,9,-999.000,-999.000,9,-999.000,9, -999.00,9, -999.00,9, -999.00,9, -999.00,9, -999.00,9,-999.000,-999.0000,9,-999.0000,9,-999.0000,9,-999.0000,9,-999.0000,9,-999.0000,9,-999.0000,9,-999.0000,9,-999.0000,9,   3.4582,     -999.0,9,     -999.0,9,     -999.0,9,     -999.0,9,     -999.0,9,     -999.0,9,     -999.0,9,-999.0000, -999.00
33RO20071215,        P18,      90,          1,         14,      12013,2,20080114,       0759,   -23.4165,  -103.0002,       3930,  1264.9,   3.2665,  34.5373,2,  34.5368,2,    135.1,2,   135.6,2,   85.10,2,   36.90,2,    0.00,2,    2.61,2,   0.000,2,   0.001,2,   0.0303,2,  -999.0,9,  2361.6,4,   -999.0,9,  -999.00,   7.5404,2,    25.00,-999.000,9,-999.0000,9, -999.00,9, -999.00,9,  -999.0,9,-999.000,9,-999.000,-999.000,9,-999.000,9, -999.00,9, -999.00,9, -999.00,9, -999.00,9, -999.00,9,-999.000,-999.0000,9,-999.0000,9,-999.0000,9,-999.0000,9,-999.0000,9,-999.0000,9,-999.0000,9,-999.0000,9,-999.0000,9,   3.1753,     -999.0,9,     -999.0,9,     -999.0,9,     -999.0,9,     -999.0,9,     -999.0,9,     -999.0,9,-999.0000, -999.00
33RO20071215,        P18,      90,          1,         13,      12012,2,20080114,       0759,   -23.4165,  -103.0002,       3930,  1366.1,   3.0542,  34.5576,2,  34.5580,2,    136.6,2,   135.4,2,   91.80,2,   37.00,2,    0.00,2,    2.62,2,-999.000,9,-999.000,9,-999.0000,9,  -999.0,9,  2369.7,4,   -999.0,9,  -999.00,   7.5311,2,    25.00,-999.000,9,-999.0000,9, -999.00,9, -999.00,9,  -999.0,9,-999.000,9,-999.000,-999.000,9,-999.000,9, -999.00,9, -999.00,9, -999.00,9, -999.00,9, -999.00,9,-999.000,-999.0000,9,-999.0000,9,-999.0000,9,-999.0000,9,-999.0000,9,-999.0000,9,-999.0000,9,-999.0000,9,-999.0000,9,   2.9568,     -999.0,9,     -999.0,9,     -999.0,9,     -999.0,9,     -999.0,9,     -999.0,9,     -999.0,9,-999.0000, -999.00
33RO20071215,        P18,      90,          1,         12,      12031,2,20080114,       0759,   -23.4165,  -103.0002,       3930,  1533.7,   2.7853,  34.5837,2,  34.5828,2,    129.6,2,   130.2,2,  101.90,2,   37.60,2,    0.00,2,    2.68,2,  -0.001,2,   0.001,2,   0.0000,2,  2296.6,2,  2381.3,4,   1303.2,6,    20.00,   7.5328,2,    25.00,-999.000,9,-999.0000,9, -999.00,9, -999.00,9,  -999.0,9,-999.000,9,-999.000,-999.000,9,-999.000,9, -999.00,9, -999.00,9, -999.00,9, -999.00,9, -999.00,9,-999.000,-999.0000,9,-999.0000,9,-999.0000,9,-999.0000,9,-999.0000,9,-999.0000,9,-999.0000,9,-999.0000,9,-999.0000,9,   2.6772,     -999.0,9,     -999.0,9,     -999.0,9,     -999.0,9,     -999.0,9,     -999.0,9,     -999.0,9,-999.0000, -999.00