BOTTLE,20220818CCHSIOAMB
EXPOCODE,SECT_ID,STNNBR,CASTNO,SAMPNO,BTLNBR,BTLNBR_FLAG_W,DATE,TIME,LATITUDE,LONGITUDE,DEPTH,CTDPRS,CTDTMP,CTDSAL,CTDSAL_FLAG_W,SALNTY,SALNTY_FLAG_W,CTDOXY,CTDOXY_FLAG_W,OXYGEN,OXYGEN_FLAG_W,SILCAT,SILCAT_FLAG_W,NITRAT,NITRAT_FLAG_W,NITRIT,NITRIT_FLAG_W,PHSPHT,PHSPHT_FLAG_W,CFC-11,CFC-11_FLAG_W,CFC-12,CFC-12_FLAG_W,SF6,SF6_FLAG_W,TCARBN,TCARBN_FLAG_W,ALKALI,ALKALI_FLAG_W,FCO2,FCO2_FLAG_W,FCO2TMP,PH_SWS,PH_SWS_FLAG_W,PH_TMP,TRITUM,TRITUM_FLAG_W,HELIUM,HELIUM_FLAG_W,DELHE3,DELHE3_FLAG_W,DELC13,DELC13_FLAG_W,DELC14,DELC14_FLAG_W,NEON,NEON_FLAG_W,NEONER,CCL4,CCL4_FLAG_W,POC,POC_FLAG_W,DOC,DOC_FLAG_W,TDN,TDN_FLAG_W,DON,DON_FLAG_W,CHLORA,CHLORA_FLAG_W,ARGON,ARGON_FLAG_W,TRITER,CDOM325,CDOM325_FLAG_W,CDOM340,CDOM340_FLAG_W,CDOM380,CDOM380_FLAG_W,CDOM412,CDOM412_FLAG_W,CDOM443,CDOM443_FLAG_W,CDOM490,CDOM490_FLAG_W,CDOM555,CDOM555_FLAG_W,CDOMSL,CDOMSL_FLAG_W,CDOMSN,CDOMSN_FLAG_W,THETA,D18O_NO3,D18O_NO3_FLAG_W,CDOM2C,CDOM2C_FLAG_W,CDOM3C,CDOM3C_FLAG_W,LAB_DEN,LAB_DEN_FLAG_W,DELSI30,DELSI30_FLAG_W,N2,N2_FLAG_W,D15N_NO3,D15N_NO3_FLAG_W,HELIER,DELHER
,,,,,,,,,,,METERS,DBAR,ITS-90,PSS-78,,PSS-78,,UMOL/KG,,UMOL/KG,,UMOL/KG,,UMOL/KG,,UMOL/KG,,UMOL/KG,,PMOL/KG,,PMOL/KG,,FMOL/KG,,UMOL/KG,,UMOL/KG,,UATM,,DEG C,,,DEG C,TU,,NMOL/KG,,PERCNT,,/MILLE,,/MILLE,,NMOL/KG,,NMOL/KG,PMOL/KG,,UG/KG,,UMOL/KG,,UMOL/KG,,UMOL/KG,,UG/KG,,UMOL/KG,,TU,1/M,,1/M,,1/M,,1/M,,1/M,,1/M,,1/M,,1/NM,,1/NM,,DEG C,/MILLE,,,,,,,,/MILLE,,UMOL/KG,,/MILLE,,NMOL/KG,PERCNT
33RO20071215,        P18,      55,          1,         11,      12003,2,20080102,       0909,    -5.0125,  -110.0005,       3581,  1533.2,   2.9693,  34.6053,2,  34.6063,2,     98.8,2,    98.9,2,  119.90,2,   39.80,2,    0.00,2,    2.83,2,   0.001,2,   0.001,2,   0.0000,2,  2325.2,3,  2378.3,4,   -999.0,9,  -999.00,   7.4904,2,    25.00,-999.000,9,-999.0000,9, -999.00,9, -999.00,9,  -999.0,9,-999.000,9,-999.000,-999.000,9,-999.000,9,   37.20,2,   40.88,2, -999.00,9, -999.00,9, -999.00,9,-999.000,-999.0000,9,-999.0000,9,-999.0000,9,-999.0000,9,-999.0000,9,-999.0000,9,-999.0000,9,-999.0000,9,-999.0000,9,   2.8589,     -999.0,9,     -999.0,9,     -999.0,9,     -999.0,9,     -999.0,9,     -999.0,9,     -999.0,9,-999.0000, -999.00
33RO20071215,        P18,      55,          1,         10,      12032,2,20080102,       0909,    -5.0125,  -110.0005,       3581,  1666.3,   2.7646,  34.6157,2,  34.6162,2,    101.9,2,   104.0,3,  125.00,2,   39.50,2,    0.00,2,    2.81,2,  -0.001,2,  -0.001,2,   0.0000,2,  2328.8,2,  2314.4,4,   1446.3,2,    20.00,   7.5099,2,    25.00,-999.000,9,-999.0000,9, -999.00,9, -999.00,9,  -999.0,9,-999.000,9,-999.000,-999.000,9,-999.000,9,   36.90,2,   40.65,2, -999.00,9, -999.00,9, -999.00,9,-999.000,-999.0000,9,-999.0000,9,-999.0000,9,-999.0000,9,-999.0000,9,-999.0000,9,-999.0000,9,-999.0000,9,-999.0000,9,   2.6456,     -999.0,9,     -999.0,9,     -999.0,9,     -999.0,9,     -999.0,9,     -999.0,9,     -999.0,9,-999.0000, -999.00
33RO20071215,        P18,      55,          1,          9,      12002,2,20080102,       0909,    -5.0125,  -110.0005,       3581,  1866.0,   2.4808,  34.6313,2,  34.6320,2,    107.3,2,   107.2,2,  132.40,2,   39.10,2,    0.00,2,    2.77,2,  -0.002,2,  -0.001,2,   0.0000,2,  2333.0,2,  -999.0,5,   -999.0,9,  -999.00,   7.5202,2,    25.00,-999.000,9,-999.0000,9, -999.00,9, -999.00,9,  -999.0,9,-999.000,9,-999.000,-999.000,9,-999.000,9,   37.29,2,   40.36,2, -999.00,9, -999.00,9, -999.00,9,-999.000,-999.0000,9,-999.0000,9,-999.0000,9,-999.0000,9,-999.0000,9,-999.0000,9,-999.0000,9,-999.0000,9,-999.0000,9,   2.3486,     -999.0,9,     -999.0,9,     -999.0,9,     -999.0,9,     -999.0,9,     -999.0,9,     -999.0,9,-999.0000, -999.00
33RO20071215,        P18,      55,          1,          8,      12021,2,20080102,       0909,    -5.0125,  -110.0005,       3581,  2066.3,   2.2500,  34.6448,2,  34.6450,2,    112.8,2,   113.2,2,  138.30,2,   38.80,2,    0.00,2,    2.74,2,  -0.001,2,   0.000,2,   0.0000,2,  2335.8,2,  2415.2,2,   -999.0,9,  -999.00,   7.5312,2,    25.00,-999.000,9,-999.0000,9, -999.00,9, -999.00,9,  -999.0,9,-999.000,9,-999.000,   0.001,3,-999.000,9,   37.03,2,   39.70,2, -999.00,9, -999.00,9, -999.00,9,-999.000,-999.0000,9,-999.0000,9,-999.0000,9,-999.0000,9,-999.0000,9,-999.0000,9,-999.0000,9,-999.0000,9,-999.0000,9,   2.1039,     -999.0,9,     -999.0,9,     -999.0,9,     -999.0,9,     -999.0,9,     -999.0,9,     -999.0,9,-999.0000, -999.00
33RO20071215,        P18,      55,          1,          7,      12001,2,20080102,       0909,    -5.0125,  -110.0005,       3581,  2266.3,   2.0815,  34.6557,2,  34.6568,2,    116.7,2,   120.0,3,  143.20,2,   38.50,2,    0.00,2,    2.71,2,  -0.001,2,   0.000,2,   0.0000,2,  2339.4,2,  2420.0,2,   1344.8,2,    20.00,   7.5441,2,    25.00,-999.000,9,-999.0000,9, -999.00,9, -999.00,9,  -999.0,9,-999.000,9,-999.000,   0.001,3,-999.000,9,   37.27,2,   39.54,2, -999.00,9, -999.00,9, -999.00,9,-999.000,-999.0000,9,-999.0000,9,-999.0000,9,-999.0000,9,-999.0000,9,-999.0000,9,-999.0000,9,-999.0000,9,-999.0000,9,   1.9207,     -999.0,9,     -999.0,9,     -999.0,9,     -999.0,9,     -999.0,9,     -999.0,9,     -999.0,9,-999.0000, -999.00
33RO20071215,        P18,      55,          1,          6,      12033,2,20080102,       0909,    -5.0125,  -110.0005,       3581,  2466.8,   1.9056,  34.6662,2,  34.6668,2,    125.5,2,   125.7,2,  145.70,2,   38.10,2,    0.00,2,    2.66,2,  -0.002,2,   0.000,2,   0.0380,2,  2337.2,2,  2419.7,2,   -999.0,9,  -999.00,   7.5072,2,    25.00,-999.000,9,-999.0000,9, -999.00,9, -999.00,9,  -999.0,9,-999.000,9,-999.000,   0.002,3,-999.000,9,   36.96,2,   39.23,2, -999.00,9, -999.00,9, -999.00,9,-999.000,-999.0000,9,-999.0000,9,-999.0000,9,-999.0000,9,-999.0000,9,-999.0000,9,-999.0000,9,-999.0000,9,-999.0000,9,   1.7300,     -999.0,9,     -999.0,9,     -999.0,9,     -999.0,1,     -999.0,9,     -999.0,9,     -999.0,9,-999.0000, -999.00
33RO20071215,        P18,      55,          1,          5,      12008,2,20080102,       0909,    -5.0125,  -110.0005,       3581,  2666.8,   1.8053,  34.6734,2,  34.6738,2,    133.3,2,   133.6,2,  145.70,2,   37.50,2,    0.00,2,    2.61,2,  -0.001,2,   0.000,2,   0.0000,2,  2334.2,2,  2423.4,2,   -999.0,9,  -999.00,   7.5330,2,    25.00,-999.000,9,-999.0000,9, -999.00,9, -999.00,9,  -999.0,9,-999.000,9,-999.000,   0.002,3,-999.000,9,   37.35,2,   38.95,2, -999.00,9, -999.00,9, -999.00,9,-999.000,-999.0000,9,-999.0000,9,-999.0000,9,-999.0000,9,-999.0000,9,-999.0000,9,-999.0000,9,-999.0000,9,-999.0000,9,   1.6133,     -999.0,9,     -999.0,9,     -999.0,9,     -999.0,9,     -999.0,9,     -999.0,9,     -999.0,9,-999.0000, -999.00
33RO20071215,        P18,      55,          1,          4,      12009,2,20080102,       0909,    -5.0125,  -110.0005,       3581,  2833.5,   1.7204,  34.6789,2,  34.6799,2,    139.0,2,   139.4,2,  146.80,6,   37.10,6,    0.00,6,    2.58,2,  -0.001,2,   0.000,2,   0.0000,2,  2332.2,2,  2425.6,2,   1208.6,2,    20.00,   7.5661,2,    25.00,-999.000,9,-999.0000,9, -999.00,9, -999.00,9,  -999.0,9,-999.000,9,-999.000,   0.001,3,-999.000,9,   36.90,2,   38.50,2, -999.00,9, -999.00,9, -999.00,9,-999.000,-999.0000,9,-999.0000,9,-999.0000,9,-999.0000,9,-999.0000,9,-999.0000,9,-999.0000,9,-999.0000,9,-999.0000,9,   1.5146,     -999.0,9,     -999.0,9,     -999.0,9,     -999.0,1,     -999.0,9,     -999.0,9,     -999.0,9,-999.0000, -999.00
33RO20071215,        P18,      55,          1,          3,      12006,2,20080102,       0909,    -5.0125,  -110.0005,       3581,  3075.5,   1.5525,  34.6868,2,  34.6875,2,    150.0,2,   150.1,2,  147.20,6,   36.40,6,    0.00,6,    2.52,2,  -0.001,2,   0.000,2,   0.0000,2,  2326.1,2,  2427.0,2,   -999.0,9,  -999.00,   7.5811,2,    25.00,-999.000,9,-999.0000,9, -999.00,9, -999.00,9,  -999.0,9,-999.000,9,-999.000,   0.002,3,-999.000,9,   37.04,2,   37.82,2, -999.00,9, -999.00,9, -999.00,9,-999.000,-999.0000,9,-999.0000,9,-999.0000,9,-999.0000,9,-999.0000,9,-999.0000,9,-999.0000,9,-999.0000,9,-999.0000,9,   1.3272,     -999.0,9,     -999.0,9,     -999.0,9,     -999.0,9,     -999.0,9,     -999.0,9,     -999.0,9,-999.0000, -999.00
33RO20071215,        P18,      55,          1,          2,      12007,2,20080102,       0909,    -5.0125,  -110.0005,       3581,  3298.2,   1.5531,  34.6876,2,  34.6886,2,    151.3,2,   151.5,2,  147.50,6,   36.30,6,    0.00,6,    2.51,2,  -0.001,2,  -0.001,2,   0.0000,2,  2326.0,2,  2429.2,2,   -999.0,9,  -999.00,   7.5964,2,    25.00,-999.000,9,-999.0000,9, -999.00,9, -999.00,9,  -999.0,9,-999.000,9,-999.000,   0.000,3,-999.000,9,   36.83,2,   37.62,2, -999.00,9, -999.00,9, -999.00,9,-999.000,-999.0000,9,-999.0000,9,-999.0000,9,-999.0000,9,-999.0000,9,-999.0000,9,-999.0000,9,-999.0000,9,-999.0000,9,   1.3060,     -999.0,9,     -999.0,9,     -999.0,9,     -999.0,1,     -999.0,9,     -999.0,9,     -999.0,9,-999.0000, -999.00
33RO20071215,        P18,      55,          1,          1,      12035,2,20080102,       0909,    -5.0125,  -110.0005,       3581,  3589.3,   1.5629,  34.6885,2,  34.6902,2,    153.3,2,   153.1,2,  147.40,2,   36.40,2,    0.00,2,    2.50,2,  -0.001,6,  -0.001,6,   0.0000,6,  2325.7,6,  2431.1,2,   1129.5,2,    20.00,-999.0000,5,  -999.00,-999.000,9,-999.0000,9, -999.00,9, -999.00,9,  -999.0,9,-999.000,9,-999.000,   0.002,3,-999.000,9,   38.09,2,   37.72,2, -999.00,9, -999.00,9, -999.00,9,-999.000,-999.0000,9,-999.0000,9,-999.0000,9,-999.0000,9,-999.0000,9,-999.0000,9,-999.0000,9,-999.0000,9,-999.0000,9,   1.2859,     -999.0,9,     -999.0,9,     -999.0,9,     -999.0,1,     -999.0,9,     -999.0,9,     -999.0,9,-999.0000, -999.00