BOTTLE,20220818CCHSIOAMB
EXPOCODE,SECT_ID,STNNBR,CASTNO,SAMPNO,BTLNBR,BTLNBR_FLAG_W,DATE,TIME,LATITUDE,LONGITUDE,DEPTH,CTDPRS,CTDTMP,CTDSAL,CTDSAL_FLAG_W,SALNTY,SALNTY_FLAG_W,CTDOXY,CTDOXY_FLAG_W,OXYGEN,OXYGEN_FLAG_W,SILCAT,SILCAT_FLAG_W,NITRAT,NITRAT_FLAG_W,NITRIT,NITRIT_FLAG_W,PHSPHT,PHSPHT_FLAG_W,CFC-11,CFC-11_FLAG_W,CFC-12,CFC-12_FLAG_W,SF6,SF6_FLAG_W,TCARBN,TCARBN_FLAG_W,ALKALI,ALKALI_FLAG_W,FCO2,FCO2_FLAG_W,FCO2TMP,PH_SWS,PH_SWS_FLAG_W,PH_TMP,TRITUM,TRITUM_FLAG_W,HELIUM,HELIUM_FLAG_W,DELHE3,DELHE3_FLAG_W,DELC13,DELC13_FLAG_W,DELC14,DELC14_FLAG_W,NEON,NEON_FLAG_W,NEONER,CCL4,CCL4_FLAG_W,POC,POC_FLAG_W,DOC,DOC_FLAG_W,TDN,TDN_FLAG_W,DON,DON_FLAG_W,CHLORA,CHLORA_FLAG_W,ARGON,ARGON_FLAG_W,TRITER,CDOM325,CDOM325_FLAG_W,CDOM340,CDOM340_FLAG_W,CDOM380,CDOM380_FLAG_W,CDOM412,CDOM412_FLAG_W,CDOM443,CDOM443_FLAG_W,CDOM490,CDOM490_FLAG_W,CDOM555,CDOM555_FLAG_W,CDOMSL,CDOMSL_FLAG_W,CDOMSN,CDOMSN_FLAG_W,THETA,D18O_NO3,D18O_NO3_FLAG_W,CDOM2C,CDOM2C_FLAG_W,CDOM3C,CDOM3C_FLAG_W,LAB_DEN,LAB_DEN_FLAG_W,DELSI30,DELSI30_FLAG_W,N2,N2_FLAG_W,D15N_NO3,D15N_NO3_FLAG_W,HELIER,DELHER
,,,,,,,,,,,METERS,DBAR,ITS-90,PSS-78,,PSS-78,,UMOL/KG,,UMOL/KG,,UMOL/KG,,UMOL/KG,,UMOL/KG,,UMOL/KG,,PMOL/KG,,PMOL/KG,,FMOL/KG,,UMOL/KG,,UMOL/KG,,UATM,,DEG C,,,DEG C,TU,,NMOL/KG,,PERCNT,,/MILLE,,/MILLE,,NMOL/KG,,NMOL/KG,PMOL/KG,,UG/KG,,UMOL/KG,,UMOL/KG,,UMOL/KG,,UG/KG,,UMOL/KG,,TU,1/M,,1/M,,1/M,,1/M,,1/M,,1/M,,1/M,,1/NM,,1/NM,,DEG C,/MILLE,,,,,,,,/MILLE,,UMOL/KG,,/MILLE,,NMOL/KG,PERCNT
33RO20071215,        P18,      82,          1,         11,      12003,2,20080111,       1844,   -18.7497,  -102.9998,       4216,  2067.5,   2.1634,  34.6432,2,  34.6443,2,    131.8,2,   133.3,2,  122.70,2,   37.70,2,    0.00,2,    2.61,2,  -0.002,2,   0.000,2,   0.0000,2,  2315.9,2,  2394.1,2,   -999.0,9,  -999.00,   7.5662,2,    25.00,-999.000,9,-999.0000,9, -999.00,9, -999.00,9,  -999.0,9,-999.000,9,-999.000,   0.018,3,-999.000,9, -999.00,9, -999.00,9, -999.00,9, -999.00,9, -999.00,9,-999.000,-999.0000,5,-999.0000,5,-999.0000,5,-999.0000,5,-999.0000,5,-999.0000,5,-999.0000,5,-999.0000,5,-999.0000,5,   2.0186,     -999.0,9,     -999.0,9,     -999.0,9,     -999.0,9,     -999.0,9,     -999.0,9,     -999.0,9,-999.0000, -999.00
33RO20071215,        P18,      82,          1,         10,      12032,2,20080111,       1844,   -18.7497,  -102.9998,       4216,  2267.6,   1.9966,  34.6564,2,  34.6573,2,    144.5,2,   144.8,2,  123.10,2,   36.70,2,    0.00,2,    2.53,2,-999.000,9,-999.000,9,-999.0000,9,  2310.1,2,  2394.8,2,   1233.8,2,    20.00,   7.5580,2,    25.00,-999.000,9,-999.0000,9, -999.00,9, -999.00,9,  -999.0,9,-999.000,9,-999.000,-999.000,9,-999.000,9, -999.00,9, -999.00,9, -999.00,9, -999.00,9, -999.00,9,-999.000,-999.0000,5,-999.0000,5,-999.0000,5,-999.0000,5,-999.0000,5,-999.0000,5,-999.0000,5,-999.0000,5,-999.0000,5,   1.8372,     -999.0,9,     -999.0,9,     -999.0,9,     -999.0,9,     -999.0,9,     -999.0,9,     -999.0,9,-999.0000, -999.00
33RO20071215,        P18,      82,          1,          9,      12002,2,20080111,       1844,   -18.7497,  -102.9998,       4216,  2467.6,   1.8980,  34.6664,2,  34.6664,2,    150.7,2,   150.8,2,  123.90,2,   36.20,2,    0.00,2,    2.49,2,-999.000,9,-999.000,9,-999.0000,9,  2307.9,2,  2389.4,4,   -999.0,9,  -999.00,   7.5521,2,    25.00,-999.000,9,-999.0000,9, -999.00,9, -999.00,9,  -999.0,9,-999.000,9,-999.000,-999.000,9,-999.000,9, -999.00,9, -999.00,9, -999.00,9, -999.00,9, -999.00,9,-999.000,-999.0000,5,-999.0000,5,-999.0000,5,-999.0000,5,-999.0000,5,-999.0000,5,-999.0000,5,-999.0000,5,-999.0000,5,   1.7225,     -999.0,9,     -999.0,9,     -999.0,9,     -999.0,9,     -999.0,9,     -999.0,9,     -999.0,9,-999.0000, -999.00
33RO20071215,        P18,      82,          1,          8,      12021,4,20080111,       1844,   -18.7497,  -102.9998,       4216,  2666.8,   1.8313,  34.6748,2,  34.6655,4,    152.8,2,   149.8,4,  123.70,2,   36.30,2,    0.00,2,    2.49,2,  -0.002,2,   0.000,2,   0.0992,3,  2307.0,2,  2397.9,2,   -999.0,9,  -999.00,   7.5671,2,    25.00,-999.000,9,-999.0000,9, -999.00,9, -999.00,9,  -999.0,9,-999.000,9,-999.000,   0.021,3,-999.000,9, -999.00,9, -999.00,9, -999.00,9, -999.00,9, -999.00,9,-999.000,   0.1205,2,   0.0788,2,   0.0328,2,   0.0147,2,   0.0054,2,   0.0003,3,  -0.0030,4,   0.0238,2,   0.0244,2,   1.6388,     -999.0,9,     -999.0,9,     -999.0,9,     -999.0,9,     -999.0,9,     -999.0,9,     -999.0,9,-999.0000, -999.00
33RO20071215,        P18,      82,          1,          7,      12001,2,20080111,       1844,   -18.7497,  -102.9998,       4216,  2868.6,   1.7958,  34.6803,2,  34.6806,2,    151.5,2,   151.1,2,  130.00,2,   36.20,2,    0.00,2,    2.48,2,-999.000,9,-999.000,9,-999.0000,9,  2314.5,2,  2406.1,2,   1180.9,2,    20.00,   7.5775,2,    25.00,-999.000,9,-999.0000,9, -999.00,9, -999.00,9,  -999.0,9,-999.000,9,-999.000,-999.000,9,-999.000,9, -999.00,9, -999.00,9, -999.00,9, -999.00,9, -999.00,9,-999.000,-999.0000,5,-999.0000,5,-999.0000,5,-999.0000,5,-999.0000,5,-999.0000,5,-999.0000,5,-999.0000,5,-999.0000,5,   1.5850,     -999.0,9,     -999.0,9,     -999.0,9,     -999.0,9,     -999.0,9,     -999.0,9,     -999.0,9,-999.0000, -999.00
33RO20071215,        P18,      82,          1,          6,      12033,2,20080111,       1844,   -18.7497,  -102.9998,       4216,  3081.6,   1.7795,  34.6837,2,  34.6850,2,    149.5,2,   149.4,2,  132.60,2,   36.30,2,    0.00,2,    2.50,2,-999.000,9,-999.000,9,-999.0000,9,  2318.6,2,  2410.0,2,   -999.0,9,  -999.00,   7.5740,2,    25.00,-999.000,9,-999.0000,9, -999.00,9, -999.00,9,  -999.0,9,-999.000,9,-999.000,-999.000,9,-999.000,9, -999.00,9, -999.00,9, -999.00,9, -999.00,9, -999.00,9,-999.000,   0.1318,2,   0.0873,2,   0.0360,2,   0.0151,2,   0.0046,2,  -0.0004,4,  -0.0039,4,   0.0093,2,   0.0244,2,   1.5485,     -999.0,9,     -999.0,9,     -999.0,9,     -999.0,9,     -999.0,9,     -999.0,9,     -999.0,9,-999.0000, -999.00
33RO20071215,        P18,      82,          1,          5,      12008,2,20080111,       1844,   -18.7497,  -102.9998,       4216,  3333.6,   1.7742,  34.6869,2,  34.6873,2,    149.8,2,   149.9,2,  133.50,2,   36.30,2,    0.00,2,    2.50,2,   0.000,2,  -0.001,2,   0.0000,2,  2320.6,2,  2408.9,4,   -999.0,9,  -999.00,   7.5708,2,    25.00,-999.000,9,-999.0000,9, -999.00,9, -999.00,9,  -999.0,9,-999.000,9,-999.000,   0.003,3,-999.000,9, -999.00,9, -999.00,9, -999.00,9, -999.00,9, -999.00,9,-999.000,   0.1477,2,   0.1011,2,   0.0436,2,   0.0197,2,   0.0079,2,   0.0018,2,  -0.0029,4,   0.0086,2,   0.0229,2,   1.5182,     -999.0,9,     -999.0,9,     -999.0,9,     -999.0,9,     -999.0,9,     -999.0,9,     -999.0,9,-999.0000, -999.00
33RO20071215,        P18,      82,          1,          4,      12009,2,20080111,       1844,   -18.7497,  -102.9998,       4216,  3582.1,   1.7820,  34.6886,2,  34.6900,2,    150.3,2,   150.1,2,  133.50,6,   36.10,6,    0.00,6,    2.50,2,-999.000,9,-999.000,9,-999.0000,9,  2321.5,2,  2432.5,4,   1171.2,2,    20.00,   7.5762,2,    25.00,-999.000,9,-999.0000,9, -999.00,9, -999.00,9,  -999.0,9,-999.000,9,-999.000,-999.000,9,-999.000,9, -999.00,9, -999.00,9, -999.00,9, -999.00,9, -999.00,9,-999.000,   0.1112,2,   0.0711,2,   0.0274,2,   0.0085,3,   0.0002,4,  -0.0028,4,  -0.0052,4,   0.0053,2,   0.0266,2,   1.5001,     -999.0,9,     -999.0,9,     -999.0,9,     -999.0,9,     -999.0,9,     -999.0,9,     -999.0,9,-999.0000, -999.00
33RO20071215,        P18,      82,          1,          3,      12006,2,20080111,       1844,   -18.7497,  -102.9998,       4216,  3833.2,   1.8006,  34.6891,2,  34.6896,2,    151.0,2,   150.2,2,  133.40,6,   36.10,6,    0.00,6,    2.49,2,   0.000,2,   0.000,2,   0.0000,2,  2322.0,2,  2437.6,4,   -999.0,9,  -999.00,   7.5846,2,    25.00,-999.000,9,-999.0000,9, -999.00,9, -999.00,9,  -999.0,9,-999.000,9,-999.000,   0.012,3,-999.000,9, -999.00,9, -999.00,9, -999.00,9, -999.00,9, -999.00,9,-999.000,   0.1157,2,   0.0751,2,   0.0299,2,   0.0097,3,   0.0009,3,  -0.0020,4,  -0.0047,4,   0.0052,4,   0.0258,4,   1.4914,     -999.0,9,     -999.0,9,     -999.0,9,     -999.0,9,     -999.0,9,     -999.0,9,     -999.0,9,-999.0000, -999.00
33RO20071215,        P18,      82,          1,          2,      12007,2,20080111,       1844,   -18.7497,  -102.9998,       4216,  4083.1,   1.8282,  34.6893,2,  34.6884,2,    150.3,2,   149.6,2,  133.40,6,   36.00,6,    0.00,6,    2.49,2,   0.000,2,   0.000,2,   0.0000,2,  2322.1,2,  2439.5,4,   -999.0,9,  -999.00,-999.0000,5,  -999.00,-999.000,9,-999.0000,9, -999.00,9, -999.00,9,  -999.0,9,-999.000,9,-999.000,   0.010,3,-999.000,9, -999.00,9, -999.00,9, -999.00,9, -999.00,9, -999.00,9,-999.000,   0.1265,2,   0.0835,2,   0.0334,2,   0.0117,2,   0.0023,2,  -0.0007,4,  -0.0040,4,   0.0052,4,   0.0252,4,   1.4907,     -999.0,9,     -999.0,9,     -999.0,9,     -999.0,9,     -999.0,9,     -999.0,9,     -999.0,9,-999.0000, -999.00
33RO20071215,        P18,      82,          1,          1,      12035,2,20080111,       1844,   -18.7497,  -102.9998,       4216,  4271.3,   1.8505,  34.6891,2,  34.6861,2,    150.6,2,   149.7,2,  133.60,2,   36.20,2,    0.00,2,    2.49,2,   0.001,6,  -0.001,6,   0.0000,6,  2323.3,6,  2456.7,4,   1160.6,2,    20.00,   7.5842,2,    25.00,-999.000,9,-999.0000,9, -999.00,9, -999.00,9,  -999.0,9,-999.000,9,-999.000,   0.009,3,-999.000,9, -999.00,9, -999.00,9, -999.00,9, -999.00,9, -999.00,9,-999.000,   0.1381,2,   0.0930,2,   0.0379,2,   0.0137,2,   0.0030,2,  -0.0003,4,  -0.0041,4,   0.0053,4,   0.0245,4,   1.4910,     -999.0,9,     -999.0,9,     -999.0,9,     -999.0,9,     -999.0,9,     -999.0,9,     -999.0,9,-999.0000, -999.00