BOTTLE,20220818CCHSIOAMB
EXPOCODE,SECT_ID,STNNBR,CASTNO,SAMPNO,BTLNBR,BTLNBR_FLAG_W,DATE,TIME,LATITUDE,LONGITUDE,DEPTH,CTDPRS,CTDTMP,CTDSAL,CTDSAL_FLAG_W,SALNTY,SALNTY_FLAG_W,CTDOXY,CTDOXY_FLAG_W,OXYGEN,OXYGEN_FLAG_W,SILCAT,SILCAT_FLAG_W,NITRAT,NITRAT_FLAG_W,NITRIT,NITRIT_FLAG_W,PHSPHT,PHSPHT_FLAG_W,CFC-11,CFC-11_FLAG_W,CFC-12,CFC-12_FLAG_W,SF6,SF6_FLAG_W,TCARBN,TCARBN_FLAG_W,ALKALI,ALKALI_FLAG_W,FCO2,FCO2_FLAG_W,FCO2TMP,PH_SWS,PH_SWS_FLAG_W,PH_TMP,TRITUM,TRITUM_FLAG_W,HELIUM,HELIUM_FLAG_W,DELHE3,DELHE3_FLAG_W,DELC13,DELC13_FLAG_W,DELC14,DELC14_FLAG_W,NEON,NEON_FLAG_W,NEONER,CCL4,CCL4_FLAG_W,POC,POC_FLAG_W,DOC,DOC_FLAG_W,TDN,TDN_FLAG_W,DON,DON_FLAG_W,CHLORA,CHLORA_FLAG_W,ARGON,ARGON_FLAG_W,TRITER,CDOM325,CDOM325_FLAG_W,CDOM340,CDOM340_FLAG_W,CDOM380,CDOM380_FLAG_W,CDOM412,CDOM412_FLAG_W,CDOM443,CDOM443_FLAG_W,CDOM490,CDOM490_FLAG_W,CDOM555,CDOM555_FLAG_W,CDOMSL,CDOMSL_FLAG_W,CDOMSN,CDOMSN_FLAG_W,THETA,D18O_NO3,D18O_NO3_FLAG_W,CDOM2C,CDOM2C_FLAG_W,CDOM3C,CDOM3C_FLAG_W,LAB_DEN,LAB_DEN_FLAG_W,DELSI30,DELSI30_FLAG_W,N2,N2_FLAG_W,D15N_NO3,D15N_NO3_FLAG_W,HELIER,DELHER
,,,,,,,,,,,METERS,DBAR,ITS-90,PSS-78,,PSS-78,,UMOL/KG,,UMOL/KG,,UMOL/KG,,UMOL/KG,,UMOL/KG,,UMOL/KG,,PMOL/KG,,PMOL/KG,,FMOL/KG,,UMOL/KG,,UMOL/KG,,UATM,,DEG C,,,DEG C,TU,,NMOL/KG,,PERCNT,,/MILLE,,/MILLE,,NMOL/KG,,NMOL/KG,PMOL/KG,,UG/KG,,UMOL/KG,,UMOL/KG,,UMOL/KG,,UG/KG,,UMOL/KG,,TU,1/M,,1/M,,1/M,,1/M,,1/M,,1/M,,1/M,,1/NM,,1/NM,,DEG C,/MILLE,,,,,,,,/MILLE,,UMOL/KG,,/MILLE,,NMOL/KG,PERCNT
33RO20071215,        P18,      93,          1,         11,      12003,2,20080115,       0714,   -25.1667,  -103.0000,       3297,  1403.0,   3.0745,  34.5544,2,  34.5539,2,    137.2,2,   136.0,2,   91.20,2,   37.20,2,    0.00,2,    2.61,2,-999.000,9,-999.000,9,-999.0000,9,  -999.0,9,  -999.0,9,   -999.0,9,  -999.00,-999.0000,9,  -999.00,-999.000,9,-999.0000,9, -999.00,9, -999.00,9,  -999.0,9,-999.000,9,-999.000,-999.000,9,-999.000,9,   36.60,2,   38.33,2, -999.00,9, -999.00,9, -999.00,9,-999.000,-999.0000,9,-999.0000,9,-999.0000,9,-999.0000,9,-999.0000,9,-999.0000,9,-999.0000,9,-999.0000,9,-999.0000,9,   2.9739,     -999.0,9,     -999.0,9,     -999.0,9,     -999.0,9,     -999.0,9,     -999.0,9,     -999.0,9,-999.0000, -999.00
33RO20071215,        P18,      93,          1,         10,      12032,2,20080115,       0714,   -25.1667,  -103.0000,       3297,  1499.3,   2.8742,  34.5696,2,  34.5690,2,    137.3,2,   136.7,2,   96.30,2,   37.30,2,    0.00,2,    2.61,2,-999.000,9,-999.000,9,-999.0000,9,  2285.4,2,  2363.3,2,   -999.0,9,  -999.00,   7.5367,2,    25.00,-999.000,9,-999.0000,9, -999.00,9,    0.31,2,  -999.0,1,-999.000,9,-999.000,-999.000,9,-999.000,9,   36.31,2,   38.99,2, -999.00,9, -999.00,9, -999.00,9,-999.000,-999.0000,9,-999.0000,9,-999.0000,9,-999.0000,9,-999.0000,9,-999.0000,9,-999.0000,9,-999.0000,9,-999.0000,9,   2.7679,     -999.0,9,     -999.0,9,     -999.0,9,     -999.0,9,     -999.0,9,     -999.0,9,     -999.0,9,-999.0000, -999.00
33RO20071215,        P18,      93,          1,          9,      12002,2,20080115,       0714,   -25.1667,  -103.0000,       3297,  1599.7,   2.7003,  34.5852,2,  34.5852,2,    136.5,2,   136.1,2,  101.60,2,   37.30,2,    0.00,2,    2.61,2,-999.000,9,-999.000,9,-999.0000,9,  -999.0,9,  -999.0,9,   -999.0,9,  -999.00,-999.0000,9,  -999.00,-999.000,9,-999.0000,9, -999.00,9, -999.00,9,  -999.0,9,-999.000,9,-999.000,-999.000,9,-999.000,9,   36.29,2,   38.72,2, -999.00,9, -999.00,9, -999.00,9,-999.000,-999.0000,9,-999.0000,9,-999.0000,9,-999.0000,9,-999.0000,9,-999.0000,9,-999.0000,9,-999.0000,9,-999.0000,9,   2.5877,     -999.0,9,     -999.0,9,     -999.0,9,     -999.0,9,     -999.0,9,     -999.0,9,     -999.0,9,-999.0000, -999.00
33RO20071215,        P18,      93,          1,          8,      12021,2,20080115,       0714,   -25.1667,  -103.0000,       3297,  1797.0,   2.3829,  34.6123,2,  34.6129,2,    143.1,2,   143.5,2,  108.30,2,   36.70,2,    0.00,2,    2.57,2,-999.000,9,-999.000,9,-999.0000,9,  2295.2,6,  -999.0,9,   -999.0,9,  -999.00,-999.0000,9,  -999.00,-999.000,9,-999.0000,9, -999.00,9,    0.25,2,  -999.0,1,-999.000,9,-999.000,-999.000,9,-999.000,9,   36.50,2,   37.67,2, -999.00,9, -999.00,9, -999.00,9,-999.000,-999.0000,9,-999.0000,9,-999.0000,9,-999.0000,9,-999.0000,9,-999.0000,9,-999.0000,9,-999.0000,9,-999.0000,9,   2.2580,     -999.0,9,     -999.0,9,     -999.0,9,     -999.0,9,     -999.0,9,     -999.0,9,     -999.0,9,-999.0000, -999.00
33RO20071215,        P18,      93,          1,          7,      12001,2,20080115,       0714,   -25.1667,  -103.0000,       3297,  2000.1,   2.1489,  34.6341,2,  34.6355,2,    151.6,2,   151.2,2,  113.10,2,   36.10,2,    0.00,2,    2.51,2,-999.000,9,-999.000,9,-999.0000,9,  -999.0,9,  -999.0,9,   -999.0,9,  -999.00,-999.0000,9,  -999.00,-999.000,9,-999.0000,9, -999.00,9, -999.00,9,  -999.0,9,-999.000,9,-999.000,-999.000,9,-999.000,9,   36.49,2,   37.64,2, -999.00,9, -999.00,9, -999.00,9,-999.000,-999.0000,9,-999.0000,9,-999.0000,9,-999.0000,9,-999.0000,9,-999.0000,9,-999.0000,9,-999.0000,9,-999.0000,9,   2.0101,     -999.0,9,     -999.0,9,     -999.0,9,     -999.0,9,     -999.0,9,     -999.0,9,     -999.0,9,-999.0000, -999.00
33RO20071215,        P18,      93,          1,          6,      12033,2,20080115,       0714,   -25.1667,  -103.0000,       3297,  2199.8,   2.0218,  34.6487,2,  34.6489,2,    154.9,2,   154.7,2,  117.00,2,   35.90,2,    0.00,2,    2.47,2,-999.000,9,-999.000,9,-999.0000,9,  2295.8,2,  2382.5,2,   -999.0,9,  -999.00,   7.5565,2,    25.00,-999.000,9,-999.0000,9, -999.00,9,    0.19,2,  -999.0,1,-999.000,9,-999.000,-999.000,9,-999.000,9,   36.52,2,   37.23,2, -999.00,9, -999.00,9, -999.00,9,-999.000,-999.0000,9,-999.0000,9,-999.0000,9,-999.0000,9,-999.0000,9,-999.0000,9,-999.0000,9,-999.0000,9,-999.0000,9,   1.8679,     -999.0,9,     -999.0,9,     -999.0,9,     -999.0,9,     -999.0,9,     -999.0,9,     -999.0,9,-999.0000, -999.00
33RO20071215,        P18,      93,          1,          5,      12008,2,20080115,       0714,   -25.1667,  -103.0000,       3297,  2399.2,   1.9381,  34.6596,2,  34.6595,2,    156.5,2,   157.3,2,  119.90,2,   35.80,2,    0.00,2,    2.48,2,-999.000,9,-999.000,9,-999.0000,9,  -999.0,9,  -999.0,9,   -999.0,9,  -999.00,-999.0000,9,  -999.00,-999.000,9,   1.9446,2,   30.42,2, -999.00,9,  -999.0,9,   8.115,2,   0.028,-999.000,9,-999.000,9,   36.52,2,   37.02,2, -999.00,9, -999.00,9, -999.00,9,-999.000,-999.0000,9,-999.0000,9,-999.0000,9,-999.0000,9,-999.0000,9,-999.0000,9,-999.0000,9,-999.0000,9,-999.0000,9,   1.7680,     -999.0,9,     -999.0,9,     -999.0,9,     -999.0,9,     -999.0,9,     -999.0,9,     -999.0,9,   0.0054,    0.15
33RO20071215,        P18,      93,          1,          4,      12009,2,20080115,       0714,   -25.1667,  -103.0000,       3297,  2600.9,   1.8866,  34.6676,2,  34.6671,2,    157.7,2,   170.7,3,  122.10,6,   35.50,6,    0.00,6,    2.47,2,-999.000,9,-999.000,9,-999.0000,9,  2299.7,2,  -999.0,9,   -999.0,9,  -999.00,-999.0000,9,  -999.00,-999.000,9,-999.0000,9, -999.00,9,    0.23,2,  -999.0,1,-999.000,9,-999.000,-999.000,9,-999.000,9,   36.75,2,   37.23,2, -999.00,9, -999.00,9, -999.00,9,-999.000,-999.0000,9,-999.0000,9,-999.0000,9,-999.0000,9,-999.0000,9,-999.0000,9,-999.0000,9,-999.0000,9,-999.0000,9,   1.6992,     -999.0,9,     -999.0,9,     -999.0,9,     -999.0,9,     -999.0,9,     -999.0,9,     -999.0,9,-999.0000, -999.00
33RO20071215,        P18,      93,          1,          3,      12006,2,20080115,       0714,   -25.1667,  -103.0000,       3297,  2799.8,   1.8624,  34.6729,2,  34.6729,2,    157.5,2,   166.8,3,  123.60,6,   35.50,6,    0.00,6,    2.47,2,-999.000,9,-999.000,9,-999.0000,9,  -999.0,9,  -999.0,9,   -999.0,9,  -999.00,-999.0000,9,  -999.00,  -0.004,6,-999.0000,9, -999.00,9, -999.00,9,  -999.0,9,-999.000,9,-999.000,-999.000,9,-999.000,9,   36.83,2,   36.74,2, -999.00,9, -999.00,9, -999.00,9,   0.006,-999.0000,9,-999.0000,9,-999.0000,9,-999.0000,9,-999.0000,9,-999.0000,9,-999.0000,9,-999.0000,9,-999.0000,9,   1.6568,     -999.0,9,     -999.0,9,     -999.0,9,     -999.0,9,     -999.0,9,     -999.0,9,     -999.0,9,-999.0000, -999.00
33RO20071215,        P18,      93,          1,          2,      12007,2,20080115,       0714,   -25.1667,  -103.0000,       3297,  3000.2,   1.8380,  34.6787,2,  34.6797,2,    155.5,2,   156.0,2,  126.80,6,   35.70,6,    0.00,6,    2.48,2,-999.000,9,-999.000,9,-999.0000,9,  2307.8,2,  2405.3,2,   -999.0,9,  -999.00,   7.5858,2,    25.00,-999.000,9,-999.0000,9, -999.00,9,    0.17,2,  -999.0,1,-999.000,9,-999.000,-999.000,9,-999.000,9,   36.91,2,   36.84,2, -999.00,9, -999.00,9, -999.00,9,-999.000,-999.0000,9,-999.0000,9,-999.0000,9,-999.0000,9,-999.0000,9,-999.0000,9,-999.0000,9,-999.0000,9,-999.0000,9,   1.6137,     -999.0,9,     -999.0,9,     -999.0,9,     -999.0,9,     -999.0,9,     -999.0,9,     -999.0,9,-999.0000, -999.00
33RO20071215,        P18,      93,          1,          1,      12035,2,20080115,       0714,   -25.1667,  -103.0000,       3297,  3331.7,   1.8394,  34.6830,2,  34.6835,2,    154.1,2,   153.2,2,  129.80,2,   36.00,2,    0.01,2,    2.51,2,-999.000,9,-999.000,9,-999.0000,9,  2314.8,6,  2416.5,2,   -999.0,9,  -999.00,   7.5821,2,    25.00,-999.000,9,-999.0000,9, -999.00,9,    0.17,2,  -999.0,1,-999.000,9,-999.000,-999.000,9,-999.000,9,   36.65,2,   36.85,2, -999.00,9, -999.00,9, -999.00,9,-999.000,-999.0000,9,-999.0000,9,-999.0000,9,-999.0000,9,-999.0000,9,-999.0000,9,-999.0000,9,-999.0000,9,-999.0000,9,   1.5820,     -999.0,9,     -999.0,9,     -999.0,9,     -999.0,9,     -999.0,9,     -999.0,9,     -999.0,9,-999.0000, -999.00