BOTTLE,20220818CCHSIOAMB
EXPOCODE,SECT_ID,STNNBR,CASTNO,SAMPNO,BTLNBR,BTLNBR_FLAG_W,DATE,TIME,LATITUDE,LONGITUDE,DEPTH,CTDPRS,CTDTMP,CTDSAL,CTDSAL_FLAG_W,SALNTY,SALNTY_FLAG_W,CTDOXY,CTDOXY_FLAG_W,OXYGEN,OXYGEN_FLAG_W,SILCAT,SILCAT_FLAG_W,NITRAT,NITRAT_FLAG_W,NITRIT,NITRIT_FLAG_W,PHSPHT,PHSPHT_FLAG_W,CFC-11,CFC-11_FLAG_W,CFC-12,CFC-12_FLAG_W,SF6,SF6_FLAG_W,TCARBN,TCARBN_FLAG_W,ALKALI,ALKALI_FLAG_W,FCO2,FCO2_FLAG_W,FCO2TMP,PH_SWS,PH_SWS_FLAG_W,PH_TMP,TRITUM,TRITUM_FLAG_W,HELIUM,HELIUM_FLAG_W,DELHE3,DELHE3_FLAG_W,DELC13,DELC13_FLAG_W,DELC14,DELC14_FLAG_W,NEON,NEON_FLAG_W,NEONER,CCL4,CCL4_FLAG_W,POC,POC_FLAG_W,DOC,DOC_FLAG_W,TDN,TDN_FLAG_W,DON,DON_FLAG_W,CHLORA,CHLORA_FLAG_W,ARGON,ARGON_FLAG_W,TRITER,CDOM325,CDOM325_FLAG_W,CDOM340,CDOM340_FLAG_W,CDOM380,CDOM380_FLAG_W,CDOM412,CDOM412_FLAG_W,CDOM443,CDOM443_FLAG_W,CDOM490,CDOM490_FLAG_W,CDOM555,CDOM555_FLAG_W,CDOMSL,CDOMSL_FLAG_W,CDOMSN,CDOMSN_FLAG_W,THETA,D18O_NO3,D18O_NO3_FLAG_W,CDOM2C,CDOM2C_FLAG_W,CDOM3C,CDOM3C_FLAG_W,LAB_DEN,LAB_DEN_FLAG_W,DELSI30,DELSI30_FLAG_W,N2,N2_FLAG_W,D15N_NO3,D15N_NO3_FLAG_W,HELIER,DELHER
,,,,,,,,,,,METERS,DBAR,ITS-90,PSS-78,,PSS-78,,UMOL/KG,,UMOL/KG,,UMOL/KG,,UMOL/KG,,UMOL/KG,,UMOL/KG,,PMOL/KG,,PMOL/KG,,FMOL/KG,,UMOL/KG,,UMOL/KG,,UATM,,DEG C,,,DEG C,TU,,NMOL/KG,,PERCNT,,/MILLE,,/MILLE,,NMOL/KG,,NMOL/KG,PMOL/KG,,UG/KG,,UMOL/KG,,UMOL/KG,,UMOL/KG,,UG/KG,,UMOL/KG,,TU,1/M,,1/M,,1/M,,1/M,,1/M,,1/M,,1/M,,1/NM,,1/NM,,DEG C,/MILLE,,,,,,,,/MILLE,,UMOL/KG,,/MILLE,,NMOL/KG,PERCNT
33RO20071215,        P18,      96,          1,         11,      12003,2,20080116,       0856,   -26.9165,  -103.0005,       3026,  1366.6,   2.9488,  34.5388,2,  34.5379,2,    140.6,2,   140.4,2,   85.00,2,   37.40,2,    0.00,2,    2.57,2,-999.000,9,-999.000,9,-999.0000,9,  2274.7,2,  2354.0,2,   1282.0,2,    20.00,   7.5372,2,    25.00,-999.000,9,-999.0000,9, -999.00,9, -999.00,9,  -999.0,9,-999.000,9,-999.000,-999.000,9,-999.000,9, -999.00,9, -999.00,9, -999.00,9, -999.00,9, -999.00,9,-999.000,-999.0000,9,-999.0000,9,-999.0000,9,-999.0000,9,-999.0000,9,-999.0000,9,-999.0000,9,-999.0000,9,-999.0000,9,   2.8526,     -999.0,9,     -999.0,9,     -999.0,9,     -999.0,9,     -999.0,9,     -999.0,9,     -999.0,9,-999.0000, -999.00
33RO20071215,        P18,      96,          1,         10,      12032,2,20080116,       0856,   -26.9165,  -103.0005,       3026,  1467.4,   2.6820,  34.5648,2,  34.5644,2,    147.2,2,   147.1,2,   91.60,2,   36.70,2,    0.00,2,    2.52,2,-999.000,9,-999.000,9,-999.0000,9,  2276.4,2,  2360.1,2,   -999.0,9,  -999.00,   7.5445,2,    25.00,-999.000,9,-999.0000,9, -999.00,9, -999.00,9,  -999.0,9,-999.000,9,-999.000,-999.000,9,-999.000,9, -999.00,9, -999.00,9, -999.00,9, -999.00,9, -999.00,9,-999.000,-999.0000,9,-999.0000,9,-999.0000,9,-999.0000,9,-999.0000,9,-999.0000,9,-999.0000,9,-999.0000,9,-999.0000,9,   2.5804,     -999.0,9,     -999.0,9,     -999.0,9,     -999.0,9,     -999.0,9,     -999.0,9,     -999.0,9,-999.0000, -999.00
33RO20071215,        P18,      96,          1,          9,      12002,2,20080116,       0856,   -26.9165,  -103.0005,       3026,  1568.0,   2.4571,  34.5888,2,  34.5880,2,    153.0,2,   152.9,2,   97.80,2,   36.20,2,    0.00,2,    2.47,2,-999.000,9,-999.000,9,-999.0000,9,  2278.4,2,  2367.8,2,   -999.0,9,  -999.00,   7.5626,2,    25.00,-999.000,9,-999.0000,9, -999.00,9, -999.00,9,  -999.0,9,-999.000,9,-999.000,-999.000,9,-999.000,9, -999.00,9, -999.00,9, -999.00,9, -999.00,9, -999.00,9,-999.000,-999.0000,9,-999.0000,9,-999.0000,9,-999.0000,9,-999.0000,9,-999.0000,9,-999.0000,9,-999.0000,9,-999.0000,9,   2.3500,     -999.0,9,     -999.0,9,     -999.0,9,     -999.0,9,     -999.0,9,     -999.0,9,     -999.0,9,-999.0000, -999.00
33RO20071215,        P18,      96,          1,          8,      12021,2,20080116,       0856,   -26.9165,  -103.0005,       3026,  1732.7,   2.2506,  34.6153,2,  34.6154,2,    154.2,2,   154.5,2,  106.40,2,   36.00,2,    0.00,2,    2.45,2,-999.000,9,-999.000,9,-999.0000,9,  2286.6,2,  2373.9,2,   1196.4,2,    20.00,   7.5575,2,    25.00,-999.000,9,-999.0000,9, -999.00,9, -999.00,9,  -999.0,9,-999.000,9,-999.000,-999.000,9,-999.000,9, -999.00,9, -999.00,9, -999.00,9, -999.00,9, -999.00,9,-999.000,-999.0000,9,-999.0000,9,-999.0000,9,-999.0000,9,-999.0000,9,-999.0000,9,-999.0000,9,-999.0000,9,-999.0000,9,   2.1327,     -999.0,9,     -999.0,9,     -999.0,9,     -999.0,9,     -999.0,9,     -999.0,9,     -999.0,9,-999.0000, -999.00
33RO20071215,        P18,      96,          1,          7,      12001,2,20080116,       0856,   -26.9165,  -103.0005,       3026,  1898.0,   2.1088,  34.6335,2,  34.6337,2,    154.9,2,   154.7,2,  112.60,2,   36.00,2,    0.00,2,    2.45,2,-999.000,9,-999.000,9,-999.0000,9,  2292.3,2,  2384.1,2,   -999.0,9,  -999.00,   7.5633,2,    25.00,-999.000,9,-999.0000,9, -999.00,9, -999.00,9,  -999.0,9,-999.000,9,-999.000,-999.000,9,-999.000,9, -999.00,9, -999.00,9, -999.00,9, -999.00,9, -999.00,9,-999.000,-999.0000,9,-999.0000,9,-999.0000,9,-999.0000,9,-999.0000,9,-999.0000,9,-999.0000,9,-999.0000,9,-999.0000,9,   1.9792,     -999.0,9,     -999.0,9,     -999.0,9,     -999.0,9,     -999.0,9,     -999.0,9,     -999.0,9,-999.0000, -999.00
33RO20071215,        P18,      96,          1,          6,      12033,2,20080116,       0856,   -26.9165,  -103.0005,       3026,  2064.1,   1.9991,  34.6472,2,  34.6466,2,    155.7,2,   155.8,2,  117.50,2,   35.90,2,    0.00,2,    2.43,2,-999.000,9,-999.000,9,-999.0000,9,  2296.3,2,  2389.0,2,   -999.0,9,  -999.00,   7.5694,2,    25.00,-999.000,9,-999.0000,9, -999.00,9, -999.00,9,  -999.0,9,-999.000,9,-999.000,-999.000,9,-999.000,9, -999.00,9, -999.00,9, -999.00,9, -999.00,9, -999.00,9,-999.000,-999.0000,9,-999.0000,9,-999.0000,9,-999.0000,9,-999.0000,9,-999.0000,9,-999.0000,9,-999.0000,9,-999.0000,9,   1.8572,     -999.0,9,     -999.0,9,     -999.0,9,     -999.0,9,     -999.0,9,     -999.0,9,     -999.0,9,-999.0000, -999.00
33RO20071215,        P18,      96,          1,          5,      12008,2,20080116,       0856,   -26.9165,  -103.0005,       3026,  2231.6,   1.9307,  34.6569,2,  34.6565,2,    156.1,2,   157.0,2,  120.50,2,   35.90,2,    0.00,2,    2.44,2,-999.000,9,-999.000,9,-999.0000,9,  2298.5,2,  -999.0,5,   1158.1,2,    20.00,   7.5755,2,    25.00,-999.000,9,-999.0000,9, -999.00,9, -999.00,9,  -999.0,9,-999.000,9,-999.000,-999.000,9,-999.000,9, -999.00,9, -999.00,9, -999.00,9, -999.00,9, -999.00,9,-999.000,-999.0000,9,-999.0000,9,-999.0000,9,-999.0000,9,-999.0000,9,-999.0000,9,-999.0000,9,-999.0000,9,-999.0000,9,   1.7755,     -999.0,9,     -999.0,9,     -999.0,9,     -999.0,9,     -999.0,9,     -999.0,9,     -999.0,9,-999.0000, -999.00
33RO20071215,        P18,      96,          1,          4,      12009,2,20080116,       0856,   -26.9165,  -103.0005,       3026,  2394.6,   1.8993,  34.6621,2,  34.6659,2,    156.4,2,   157.7,2,  121.90,6,   35.80,6,    0.00,6,    2.44,2,-999.000,9,-999.000,9,-999.0000,9,  2299.8,2,  2394.8,2,   -999.0,9,  -999.00,   7.5799,2,    25.00,-999.000,9,-999.0000,9, -999.00,9, -999.00,9,  -999.0,9,-999.000,9,-999.000,-999.000,9,-999.000,9, -999.00,9, -999.00,9, -999.00,9, -999.00,9, -999.00,9,-999.000,-999.0000,9,-999.0000,9,-999.0000,9,-999.0000,9,-999.0000,9,-999.0000,9,-999.0000,9,-999.0000,9,-999.0000,9,   1.7303,     -999.0,9,     -999.0,9,     -999.0,9,     -999.0,9,     -999.0,9,     -999.0,9,     -999.0,9,-999.0000, -999.00
33RO20071215,        P18,      96,          1,          3,      12006,2,20080116,       0856,   -26.9165,  -103.0005,       3026,  2562.0,   1.8855,  34.6655,2,  34.6654,2,    158.0,2,   157.9,2,  122.60,6,   35.70,6,    0.00,6,    2.42,2,-999.000,9,-999.000,9,-999.0000,9,  2301.1,2,  2391.0,2,   -999.0,9,  -999.00,   7.5711,2,    25.00,-999.000,9,-999.0000,9, -999.00,9, -999.00,9,  -999.0,9,-999.000,9,-999.000,-999.000,9,-999.000,9, -999.00,9, -999.00,9, -999.00,9, -999.00,9, -999.00,9,-999.000,-999.0000,9,-999.0000,9,-999.0000,9,-999.0000,9,-999.0000,9,-999.0000,9,-999.0000,9,-999.0000,9,-999.0000,9,   1.7017,     -999.0,9,     -999.0,9,     -999.0,9,     -999.0,9,     -999.0,9,     -999.0,9,     -999.0,9,-999.0000, -999.00
33RO20071215,        P18,      96,          1,          2,      12007,2,20080116,       0856,   -26.9165,  -103.0005,       3026,  2783.5,   1.8762,  34.6698,2,  34.6699,2,    158.3,2,   159.3,2,  122.90,6,   35.60,6,    0.00,6,    2.43,2,-999.000,9,-999.000,9,-999.0000,9,  2299.9,2,  2391.8,2,   -999.0,9,  -999.00,   7.5838,2,    25.00,-999.000,9,-999.0000,9, -999.00,9, -999.00,9,  -999.0,9,-999.000,9,-999.000,-999.000,9,-999.000,9, -999.00,9, -999.00,9, -999.00,9, -999.00,9, -999.00,9,-999.000,-999.0000,9,-999.0000,9,-999.0000,9,-999.0000,9,-999.0000,9,-999.0000,9,-999.0000,9,-999.0000,9,-999.0000,9,   1.6720,     -999.0,9,     -999.0,9,     -999.0,9,     -999.0,9,     -999.0,9,     -999.0,9,     -999.0,9,-999.0000, -999.00
33RO20071215,        P18,      96,          1,          1,      12035,2,20080116,       0856,   -26.9165,  -103.0005,       3026,  3005.9,   1.8897,  34.6712,2,  34.6710,2,    159.3,2,   159.3,2,  122.60,2,   35.60,2,    0.01,2,    2.42,2,-999.000,9,-999.000,9,-999.0000,9,  2299.8,6,  2398.4,2,   1135.7,2,    20.00,   7.6772,2,    25.00,-999.000,9,-999.0000,9, -999.00,9, -999.00,9,  -999.0,9,-999.000,9,-999.000,-999.000,9,-999.000,9, -999.00,9, -999.00,9, -999.00,9, -999.00,9, -999.00,9,-999.000,-999.0000,9,-999.0000,9,-999.0000,9,-999.0000,9,-999.0000,9,-999.0000,9,-999.0000,9,-999.0000,9,-999.0000,9,   1.6638,     -999.0,9,     -999.0,9,     -999.0,9,     -999.0,9,     -999.0,9,     -999.0,9,     -999.0,9,-999.0000, -999.00