BOTTLE,20220818CCHSIOAMB
EXPOCODE,SECT_ID,STNNBR,CASTNO,SAMPNO,BTLNBR,BTLNBR_FLAG_W,DATE,TIME,LATITUDE,LONGITUDE,DEPTH,CTDPRS,CTDTMP,CTDSAL,CTDSAL_FLAG_W,SALNTY,SALNTY_FLAG_W,CTDOXY,CTDOXY_FLAG_W,OXYGEN,OXYGEN_FLAG_W,SILCAT,SILCAT_FLAG_W,NITRAT,NITRAT_FLAG_W,NITRIT,NITRIT_FLAG_W,PHSPHT,PHSPHT_FLAG_W,CFC-11,CFC-11_FLAG_W,CFC-12,CFC-12_FLAG_W,SF6,SF6_FLAG_W,TCARBN,TCARBN_FLAG_W,ALKALI,ALKALI_FLAG_W,FCO2,FCO2_FLAG_W,FCO2TMP,PH_SWS,PH_SWS_FLAG_W,PH_TMP,TRITUM,TRITUM_FLAG_W,HELIUM,HELIUM_FLAG_W,DELHE3,DELHE3_FLAG_W,DELC13,DELC13_FLAG_W,DELC14,DELC14_FLAG_W,NEON,NEON_FLAG_W,NEONER,CCL4,CCL4_FLAG_W,POC,POC_FLAG_W,DOC,DOC_FLAG_W,TDN,TDN_FLAG_W,DON,DON_FLAG_W,CHLORA,CHLORA_FLAG_W,ARGON,ARGON_FLAG_W,TRITER,CDOM325,CDOM325_FLAG_W,CDOM340,CDOM340_FLAG_W,CDOM380,CDOM380_FLAG_W,CDOM412,CDOM412_FLAG_W,CDOM443,CDOM443_FLAG_W,CDOM490,CDOM490_FLAG_W,CDOM555,CDOM555_FLAG_W,CDOMSL,CDOMSL_FLAG_W,CDOMSN,CDOMSN_FLAG_W,THETA,D18O_NO3,D18O_NO3_FLAG_W,CDOM2C,CDOM2C_FLAG_W,CDOM3C,CDOM3C_FLAG_W,LAB_DEN,LAB_DEN_FLAG_W,DELSI30,DELSI30_FLAG_W,N2,N2_FLAG_W,D15N_NO3,D15N_NO3_FLAG_W,HELIER,DELHER
,,,,,,,,,,,METERS,DBAR,ITS-90,PSS-78,,PSS-78,,UMOL/KG,,UMOL/KG,,UMOL/KG,,UMOL/KG,,UMOL/KG,,UMOL/KG,,PMOL/KG,,PMOL/KG,,FMOL/KG,,UMOL/KG,,UMOL/KG,,UATM,,DEG C,,,DEG C,TU,,NMOL/KG,,PERCNT,,/MILLE,,/MILLE,,NMOL/KG,,NMOL/KG,PMOL/KG,,UG/KG,,UMOL/KG,,UMOL/KG,,UMOL/KG,,UG/KG,,UMOL/KG,,TU,1/M,,1/M,,1/M,,1/M,,1/M,,1/M,,1/M,,1/NM,,1/NM,,DEG C,/MILLE,,,,,,,,/MILLE,,UMOL/KG,,/MILLE,,NMOL/KG,PERCNT
33RO20071215,        P18,     128,          1,         11,      12003,2,20080131,       1223,   -45.5842,  -102.9998,       3879,  1867.4,   2.4072,  34.6091,2,  34.6081,2,    159.2,2,   159.7,2,   89.00,2,   35.00,2,    0.00,2,    2.44,2,   0.264,3,   0.162,3,   0.1058,3,  2272.2,2,  2353.0,2,   1203.6,2,    20.00,   7.5627,2,    25.00,-999.000,9,-999.0000,9, -999.00,9, -999.00,9,  -999.0,9,-999.000,9,-999.000,-999.000,9,-999.000,9,   38.24,2,   36.01,2, -999.00,9, -999.00,9, -999.00,9,-999.000,   0.1168,2,   0.0770,2,   0.0378,2,   0.0246,2,   0.0147,2,   0.0051,2,   0.0010,2,   0.0166,2,   0.0191,2,   2.2760,     -999.0,9,     -999.0,9,     -999.0,9,     -999.0,9,     -999.0,9,     -999.0,9,     -999.0,9,-999.0000, -999.00
33RO20071215,        P18,     128,          1,         10,      12032,2,20080131,       1223,   -45.5842,  -102.9998,       3879,  2066.2,   2.2590,  34.6483,2,  34.6454,2,    164.9,2,   164.9,2,   92.30,2,   34.30,2,    0.00,2,    2.38,2,-999.000,9,-999.000,9,-999.0000,9,  2272.3,2,  2357.8,2,   -999.0,9,  -999.00,   7.5741,2,    25.00,-999.000,9,-999.0000,9, -999.00,9, -999.00,9,  -999.0,9,-999.000,9,-999.000,-999.000,9,-999.000,9,   38.31,2,   35.47,2, -999.00,9, -999.00,9, -999.00,9,-999.000,-999.0000,5,-999.0000,5,-999.0000,5,-999.0000,5,-999.0000,5,-999.0000,5,-999.0000,5,-999.0000,5,-999.0000,5,   2.1128,     -999.0,9,     -999.0,9,     -999.0,9,     -999.0,9,     -999.0,9,     -999.0,9,     -999.0,9,-999.0000, -999.00
33RO20071215,        P18,     128,          1,          9,      12002,2,20080131,       1223,   -45.5842,  -102.9998,       3879,  2266.6,   2.0865,  34.6767,2,  34.6754,2,    167.0,2,   166.7,2,   99.30,2,   34.00,2,    0.00,2,    2.37,2,   0.062,2,   0.038,2,   0.0000,2,  2276.3,2,  2367.4,2,   1154.1,2,    20.00,   7.5834,2,    25.00,-999.000,9,-999.0000,9, -999.00,9, -999.00,9,  -999.0,9,-999.000,9,-999.000,   0.083,3,-999.000,9,   38.04,2,   35.46,2, -999.00,9, -999.00,9, -999.00,9,-999.000,   0.1158,2,   0.0757,2,   0.0363,2,   0.0228,2,   0.0132,2,   0.0040,2,   0.0003,4,   0.0174,2,   0.0199,2,   1.9255,     -999.0,9,     -999.0,9,     -999.0,9,     -999.0,9,     -999.0,9,     -999.0,9,     -999.0,9,-999.0000, -999.00
33RO20071215,        P18,     128,          1,          8,      12021,2,20080131,       1223,   -45.5842,  -102.9998,       3879,  2465.6,   1.9392,  34.6931,2,  34.6911,2,    170.5,2,   170.2,2,  104.60,2,   33.70,2,    0.00,2,    2.35,2,-999.000,9,-999.000,9,-999.0000,9,  2277.3,2,  2374.8,2,   -999.0,9,  -999.00,   7.5881,2,    25.00,-999.000,9,-999.0000,9, -999.00,9, -999.00,9,  -999.0,9,-999.000,9,-999.000,-999.000,9,-999.000,9,   38.49,2,   35.01,2, -999.00,9, -999.00,9, -999.00,9,-999.000,   0.1177,2,   0.0774,2,   0.0373,2,   0.0238,2,   0.0140,2,   0.0047,2,   0.0009,2,   0.0170,2,   0.0196,2,   1.7630,     -999.0,9,     -999.0,9,     -999.0,9,     -999.0,9,     -999.0,9,     -999.0,9,     -999.0,9,-999.0000, -999.00
33RO20071215,        P18,     128,          1,          7,      12001,2,20080131,       1223,   -45.5842,  -102.9998,       3879,  2667.0,   1.8190,  34.7007,2,  34.6991,2,    173.3,2,   172.5,2,  108.70,2,   33.70,2,    0.00,2,    2.34,2,   0.033,2,   0.020,2,   0.0000,2,  2280.0,2,  2374.6,2,   -999.0,9,  -999.00,   7.6065,2,    25.00,-999.000,9,-999.0000,9, -999.00,9, -999.00,9,  -999.0,9,-999.000,9,-999.000,   0.050,3,-999.000,9,   39.11,2,   34.87,2, -999.00,9, -999.00,9, -999.00,9,-999.000,   0.1162,2,   0.0765,2,   0.0364,2,   0.0229,2,   0.0133,2,   0.0042,2,   0.0006,3,   0.0173,2,   0.0199,2,   1.6266,     -999.0,9,     -999.0,9,     -999.0,9,     -999.0,9,     -999.0,9,     -999.0,9,     -999.0,9,-999.0000, -999.00
33RO20071215,        P18,     128,          1,          6,      12033,2,20080131,       1223,   -45.5842,  -102.9998,       3879,  2866.4,   1.7091,  34.7051,2,  34.7042,2,    176.6,2,   175.8,2,  111.40,2,   33.50,2,    0.00,2,    2.33,2,-999.000,9,-999.000,9,-999.0000,9,  2280.4,2,  2362.1,4,   1113.0,2,    20.00,   7.6005,2,    25.00,-999.000,9,-999.0000,9, -999.00,9, -999.00,9,  -999.0,9,-999.000,9,-999.000,-999.000,9,-999.000,9,   38.95,2,   35.00,2, -999.00,9, -999.00,9, -999.00,9,-999.000,   0.1163,2,   0.0765,2,   0.0367,2,   0.0232,2,   0.0135,2,   0.0046,2,   0.0008,2,   0.0172,2,   0.0198,2,   1.5003,     -999.0,9,     -999.0,9,     -999.0,9,     -999.0,9,     -999.0,9,     -999.0,9,     -999.0,9,-999.0000, -999.00
33RO20071215,        P18,     128,          1,          5,      12008,2,20080131,       1223,   -45.5842,  -102.9998,       3879,  3082.6,   1.6137,  34.7091,2,  34.7050,3,    180.8,2,   180.2,2,  113.40,2,   33.40,2,    0.00,2,    2.32,2,   0.030,2,   0.018,2,   0.0000,2,  2281.1,6,  2387.2,2,   -999.0,9,  -999.00,   7.5986,2,    25.00,-999.000,9,-999.0000,9, -999.00,9, -999.00,9,  -999.0,9,-999.000,9,-999.000,   0.044,3,-999.000,9,   38.47,3,   34.85,3, -999.00,9, -999.00,9, -999.00,9,-999.000,   0.1145,2,   0.0750,2,   0.0357,2,   0.0225,2,   0.0130,2,   0.0043,2,   0.0007,2,   0.0174,2,   0.0200,2,   1.3862,     -999.0,9,     -999.0,9,     -999.0,9,     -999.0,9,     -999.0,9,     -999.0,9,     -999.0,9,-999.0000, -999.00
33RO20071215,        P18,     128,          1,          4,      12009,2,20080131,       1223,   -45.5842,  -102.9998,       3879,  3332.4,   1.5211,  34.7105,2,  34.7091,2,    183.8,2,   183.7,2,  116.30,6,   33.30,6,    0.00,6,    2.31,2,-999.000,9,-999.000,9,-999.0000,9,  2279.6,2,  2393.6,4,   1077.3,2,    20.00,   7.6040,2,    25.00,-999.000,9,-999.0000,9, -999.00,9, -999.00,9,  -999.0,9,-999.000,9,-999.000,-999.000,9,-999.000,9,   38.79,2,   35.07,2, -999.00,9, -999.00,9, -999.00,9,-999.000,   0.1123,2,   0.0732,2,   0.0344,2,   0.0213,2,   0.0121,2,   0.0038,2,   0.0004,3,   0.0178,2,   0.0205,2,   1.2712,     -999.0,9,     -999.0,9,     -999.0,9,     -999.0,9,     -999.0,9,     -999.0,9,     -999.0,9,-999.0000, -999.00
33RO20071215,        P18,     128,          1,          3,      12006,2,20080131,       1223,   -45.5842,  -102.9998,       3879,  3582.5,   1.3695,  34.7094,2,  34.7083,2,    187.4,2,   187.3,2,  121.30,6,   33.30,6,    0.00,6,    2.31,2,   0.027,2,   0.012,2,   0.0000,2,  2282.0,2,  -999.0,5,   -999.0,9,  -999.00,   7.6060,2,    25.00,-999.000,9,-999.0000,9, -999.00,9, -999.00,9,  -999.0,9,-999.000,9,-999.000,   0.029,3,-999.000,9,   37.64,2,   34.94,2, -999.00,9, -999.00,9, -999.00,9,-999.000,   0.1117,2,   0.0728,2,   0.0344,2,   0.0211,2,   0.0121,2,   0.0040,2,   0.0006,3,   0.0178,2,   0.0205,2,   1.0980,     -999.0,9,     -999.0,9,     -999.0,9,     -999.0,9,     -999.0,9,     -999.0,9,     -999.0,9,-999.0000, -999.00
33RO20071215,        P18,     128,          1,          2,      12007,2,20080131,       1223,   -45.5842,  -102.9998,       3879,  3754.4,   1.2325,  34.7097,2,  34.7060,2,    192.4,2,   191.3,2,  124.10,6,   33.30,6,    0.00,6,    2.31,2,-999.000,9,-999.000,9,-999.0000,9,  2281.2,2,  2396.6,4,   -999.0,9,  -999.00,   7.6052,2,    25.00,-999.000,9,-999.0000,9, -999.00,9, -999.00,9,  -999.0,9,-999.000,9,-999.000,-999.000,9,-999.000,9,   37.56,3,   34.84,3, -999.00,9, -999.00,9, -999.00,9,-999.000,   0.1109,2,   0.0720,2,   0.0340,2,   0.0209,2,   0.0119,2,   0.0038,2,   0.0004,3,   0.0178,2,   0.0206,2,   0.9469,     -999.0,9,     -999.0,9,     -999.0,9,     -999.0,9,     -999.0,9,     -999.0,9,     -999.0,9,-999.0000, -999.00
33RO20071215,        P18,     128,          1,          1,      12035,2,20080131,       1223,   -45.5842,  -102.9998,       3879,  3925.9,   1.2202,  34.7097,2,  34.7091,2,    193.5,2,   192.1,2,  124.80,2,   33.30,2,    0.01,2,    2.31,2,   0.009,2,   0.003,2,   0.0000,2,  2282.1,6,  2401.4,2,   1054.5,2,    20.00,   7.6162,2,    25.00,-999.000,9,-999.0000,9, -999.00,9, -999.00,9,  -999.0,9,-999.000,9,-999.000,   0.042,3,-999.000,9,   38.62,2,   34.49,2, -999.00,9, -999.00,9, -999.00,9,-999.000,   0.1127,2,   0.0735,2,   0.0348,2,   0.0215,2,   0.0124,2,   0.0041,2,   0.0007,2,   0.0177,2,   0.0204,2,   0.9169,     -999.0,9,     -999.0,9,     -999.0,9,     -999.0,9,     -999.0,9,     -999.0,9,     -999.0,9,-999.0000, -999.00