BOTTLE,20220818CCHSIOAMB
EXPOCODE,SECT_ID,STNNBR,CASTNO,SAMPNO,BTLNBR,BTLNBR_FLAG_W,DATE,TIME,LATITUDE,LONGITUDE,DEPTH,CTDPRS,CTDTMP,CTDSAL,CTDSAL_FLAG_W,SALNTY,SALNTY_FLAG_W,CTDOXY,CTDOXY_FLAG_W,OXYGEN,OXYGEN_FLAG_W,SILCAT,SILCAT_FLAG_W,NITRAT,NITRAT_FLAG_W,NITRIT,NITRIT_FLAG_W,PHSPHT,PHSPHT_FLAG_W,CFC-11,CFC-11_FLAG_W,CFC-12,CFC-12_FLAG_W,SF6,SF6_FLAG_W,TCARBN,TCARBN_FLAG_W,ALKALI,ALKALI_FLAG_W,FCO2,FCO2_FLAG_W,FCO2TMP,PH_SWS,PH_SWS_FLAG_W,PH_TMP,TRITUM,TRITUM_FLAG_W,HELIUM,HELIUM_FLAG_W,DELHE3,DELHE3_FLAG_W,DELC13,DELC13_FLAG_W,DELC14,DELC14_FLAG_W,NEON,NEON_FLAG_W,NEONER,CCL4,CCL4_FLAG_W,POC,POC_FLAG_W,DOC,DOC_FLAG_W,TDN,TDN_FLAG_W,DON,DON_FLAG_W,CHLORA,CHLORA_FLAG_W,ARGON,ARGON_FLAG_W,TRITER,CDOM325,CDOM325_FLAG_W,CDOM340,CDOM340_FLAG_W,CDOM380,CDOM380_FLAG_W,CDOM412,CDOM412_FLAG_W,CDOM443,CDOM443_FLAG_W,CDOM490,CDOM490_FLAG_W,CDOM555,CDOM555_FLAG_W,CDOMSL,CDOMSL_FLAG_W,CDOMSN,CDOMSN_FLAG_W,THETA,D18O_NO3,D18O_NO3_FLAG_W,CDOM2C,CDOM2C_FLAG_W,CDOM3C,CDOM3C_FLAG_W,LAB_DEN,LAB_DEN_FLAG_W,DELSI30,DELSI30_FLAG_W,N2,N2_FLAG_W,D15N_NO3,D15N_NO3_FLAG_W,HELIER,DELHER
,,,,,,,,,,,METERS,DBAR,ITS-90,PSS-78,,PSS-78,,UMOL/KG,,UMOL/KG,,UMOL/KG,,UMOL/KG,,UMOL/KG,,UMOL/KG,,PMOL/KG,,PMOL/KG,,FMOL/KG,,UMOL/KG,,UMOL/KG,,UATM,,DEG C,,,DEG C,TU,,NMOL/KG,,PERCNT,,/MILLE,,/MILLE,,NMOL/KG,,NMOL/KG,PMOL/KG,,UG/KG,,UMOL/KG,,UMOL/KG,,UMOL/KG,,UG/KG,,UMOL/KG,,TU,1/M,,1/M,,1/M,,1/M,,1/M,,1/M,,1/M,,1/NM,,1/NM,,DEG C,/MILLE,,,,,,,,/MILLE,,UMOL/KG,,/MILLE,,NMOL/KG,PERCNT
33RO20071215,        P18,      49,          1,         36,      12017,2,20071231,       1146,    -1.9158,  -110.0382,       3932,     4.6,  21.3727,  34.6521,2,  34.6533,2,    197.8,2,   184.6,2,    8.00,2,   11.00,2,    0.21,2,    0.81,2,   1.918,2,   1.170,2,   0.9030,2,  2064.7,6,  2286.8,2,    481.2,2,    20.00,   7.8866,2,    25.00,   0.407,2,   1.7030,2,   -0.89,2,    0.84,2,  -999.0,1,   6.873,2,   0.023,-999.000,9,-999.000,9,   67.66,2,   15.87,2, -999.00,1, -999.00,9, -999.00,9,   0.007,-999.0000,9,-999.0000,9,-999.0000,9,-999.0000,9,-999.0000,9,-999.0000,9,-999.0000,9,-999.0000,9,-999.0000,9,  21.3718,     -999.0,9,     -999.0,9,     -999.0,9,     -999.0,9,     -999.0,9,     -999.0,9,     -999.0,9,   0.0048,    0.15
33RO20071215,        P18,      49,          1,         35,      12029,2,20071231,       1146,    -1.9158,  -110.0382,       3932,     9.5,  21.2805,  34.6629,2,  34.6677,2,    196.9,2,   192.8,2,    8.00,2,   11.20,2,    0.22,2,    0.82,2,   1.899,6,   1.153,6,   0.9542,6,  2064.6,2,  2287.6,2,   -999.0,9,  -999.00,   7.8933,2,    25.00,-999.000,9,-999.0000,9, -999.00,9, -999.00,9,  -999.0,9,-999.000,9,-999.000,-999.000,9,-999.000,9, -999.00,9, -999.00,9, -999.00,1, -999.00,9, -999.00,9,-999.000,-999.0000,9,-999.0000,9,-999.0000,9,-999.0000,9,-999.0000,9,-999.0000,9,-999.0000,9,-999.0000,9,-999.0000,9,  21.2787,     -999.0,9,     -999.0,9,     -999.0,9,     -999.0,9,     -999.0,9,     -999.0,9,     -999.0,9,-999.0000, -999.00
33RO20071215,        P18,      49,          1,         34,      12049,2,20071231,       1146,    -1.9158,  -110.0382,       3932,    19.3,  20.9212,  34.7344,2,  34.7374,2,    192.6,2,   193.2,2,    8.20,2,   11.60,2,    0.23,2,    0.85,2,   1.897,2,   1.146,2,   0.8712,2,  2072.0,2,  2291.4,2,    495.9,2,    20.00,   7.8883,2,    25.00,-999.000,9,-999.0000,9, -999.00,9, -999.00,9,  -999.0,9,-999.000,9,-999.000,-999.000,9,-999.000,9,   58.96,2,   15.02,2, -999.00,1, -999.00,9, -999.00,9,-999.000,-999.0000,9,-999.0000,9,-999.0000,9,-999.0000,9,-999.0000,9,-999.0000,9,-999.0000,9,-999.0000,9,-999.0000,9,  20.9175,     -999.0,9,     -999.0,9,     -999.0,9,     -999.0,9,     -999.0,9,     -999.0,9,     -999.0,9,-999.0000, -999.00
33RO20071215,        P18,      49,          1,         33,      12027,2,20071231,       1146,    -1.9158,  -110.0382,       3932,    52.4,  21.0541,  34.9266,2,  34.9211,2,    192.9,2,   192.7,2,    8.40,2,   12.60,2,    0.27,2,    0.94,2,   1.923,2,   1.160,2,   0.8848,2,  2090.5,2,  2301.9,2,    524.9,2,    20.00,   7.8726,2,    25.00,   0.403,2,   1.7034,2,   -0.62,2,    0.69,2,  -999.0,1,   6.911,2,   0.024,-999.000,9,-999.000,9, -999.00,9, -999.00,9, -999.00,1, -999.00,9, -999.00,9,   0.007,-999.0000,9,-999.0000,9,-999.0000,9,-999.0000,9,-999.0000,9,-999.0000,9,-999.0000,9,-999.0000,9,-999.0000,9,  21.0441,     -999.0,9,     -999.0,9,     -999.0,9,     -999.0,9,     -999.0,9,     -999.0,9,     -999.0,9,   0.0048,    0.15
33RO20071215,        P18,      49,          1,         32,      12023,2,20071231,       1146,    -1.9158,  -110.0382,       3932,    69.8,  17.1116,  35.0395,2,  35.0360,2,     94.4,2,    97.1,2,   12.80,2,   20.40,2,    0.52,2,    1.52,2,   1.597,2,   0.927,2,   0.5667,2,  2165.7,2,  2307.4,2,    810.6,2,    20.00,   7.7101,2,    25.00,-999.000,9,-999.0000,9, -999.00,9, -999.00,9,  -999.0,9,-999.000,9,-999.000,-999.000,9,-999.000,9,   56.82,2,   25.17,2, -999.00,1, -999.00,9, -999.00,9,-999.000,-999.0000,9,-999.0000,9,-999.0000,9,-999.0000,9,-999.0000,9,-999.0000,9,-999.0000,9,-999.0000,9,-999.0000,9,  17.1001,     -999.0,9,     -999.0,9,     -999.0,9,     -999.0,9,     -999.0,9,     -999.0,9,     -999.0,9,-999.0000, -999.00
33RO20071215,        P18,      49,          1,         31,      12037,2,20071231,       1146,    -1.9158,  -110.0382,       3932,   100.4,  13.7106,  34.9785,2,  34.9779,2,     53.4,2,    56.2,2,   18.70,2,   27.10,2,    0.09,2,    1.82,2,   1.308,2,   0.727,2,   0.2778,2,  2202.8,2,  2300.4,2,   1066.3,2,    20.00,   7.5971,2,    25.00,   0.285,2,   1.7683,2,    4.05,2,       0,2,  -999.0,1,   7.281,2,   0.025,-999.000,9,-999.000,9, -999.00,9, -999.00,9, -999.00,1, -999.00,9, -999.00,9,   0.007,-999.0000,9,-999.0000,9,-999.0000,9,-999.0000,9,-999.0000,9,-999.0000,9,-999.0000,9,-999.0000,9,-999.0000,9,  13.6964,     -999.0,9,     -999.0,9,     -999.0,9,     -999.0,9,     -999.0,9,     -999.0,9,     -999.0,9,   0.0050,    0.15
33RO20071215,        P18,      49,          1,         30,      12036,2,20071231,       1146,    -1.9158,  -110.0382,       3932,   123.6,  13.3395,  34.9547,2,  34.9566,2,     52.7,2,    56.4,2,   19.80,2,   27.30,2,    0.03,2,    1.84,2,   1.232,2,   0.684,2,   0.3452,2,  2204.7,2,  2301.3,2,   1084.8,2,    20.00,   7.5925,2,    25.00,-999.000,9,-999.0000,9, -999.00,9, -999.00,9,  -999.0,9,-999.000,9,-999.000,-999.000,9,-999.000,9,   49.86,2,   31.36,2, -999.00,1, -999.00,9, -999.00,9,-999.000,-999.0000,9,-999.0000,9,-999.0000,9,-999.0000,9,-999.0000,9,-999.0000,9,-999.0000,9,-999.0000,9,-999.0000,9,  13.3223,     -999.0,9,     -999.0,9,     -999.0,9,     -999.0,9,     -999.0,9,     -999.0,9,     -999.0,9,-999.0000, -999.00
33RO20071215,        P18,      49,          1,         29,      12044,2,20071231,       1146,    -1.9158,  -110.0382,       3932,   150.4,  13.0788,  34.9366,2,  34.9351,2,     57.4,2,    58.0,2,   20.50,2,   27.50,2,    0.02,2,    1.85,2,   1.191,2,   0.665,2,   0.3206,2,  2205.7,2,  2305.6,2,   -999.0,9,  -999.00,   7.5772,2,    25.00,   0.241,2,   1.7768,2,    4.21,2,     0.1,2,  -999.0,1,   7.297,2,   0.025,-999.000,9,-999.000,9, -999.00,9, -999.00,9, -999.00,1, -999.00,9, -999.00,9,   0.006,-999.0000,9,-999.0000,9,-999.0000,9,-999.0000,9,-999.0000,9,-999.0000,9,-999.0000,9,-999.0000,9,-999.0000,9,  13.0580,     -999.0,9,     -999.0,9,     -999.0,9,     -999.0,9,     -999.0,9,     -999.0,9,     -999.0,9,   0.0050,    0.15
33RO20071215,        P18,      49,          1,         28,      12057,2,20071231,       1146,    -1.9158,  -110.0382,       3932,   174.3,  12.7973,  34.9193,2,  34.9185,2,     43.6,2,    44.7,2,   22.00,2,   29.30,2,    0.01,2,    1.98,2,   1.056,2,   0.586,2,   0.3175,2,  2218.0,2,  2304.3,2,   1199.9,2,    20.00,   7.5608,2,    25.00,-999.000,9,-999.0000,9, -999.00,9, -999.00,9,  -999.0,9,-999.000,9,-999.000,-999.000,9,-999.000,9,   49.31,2,   31.81,2, -999.00,1, -999.00,9, -999.00,9,-999.000,-999.0000,9,-999.0000,9,-999.0000,9,-999.0000,9,-999.0000,9,-999.0000,9,-999.0000,9,-999.0000,9,-999.0000,9,  12.7736,     -999.0,9,     -999.0,9,     -999.0,9,     -999.0,9,     -999.0,9,     -999.0,9,     -999.0,9,-999.0000, -999.00
33RO20071215,        P18,      49,          1,         27,      12026,2,20071231,       1146,    -1.9158,  -110.0382,       3932,   201.0,  12.4796,  34.8968,2,  34.8978,2,     49.6,2,    52.3,2,   22.60,2,   29.30,2,    0.01,2,    1.98,2,   0.996,2,   0.556,2,   0.2362,2,  2217.5,2,  2303.3,2,   -999.0,9,  -999.00,   7.5583,2,    25.00,   0.225,2,   1.7665,2,    4.97,2,   -0.03,2,  -999.0,1,   7.312,2,   0.025,-999.000,9,-999.000,9, -999.00,9, -999.00,9, -999.00,1, -999.00,9, -999.00,9,   0.006,-999.0000,9,-999.0000,9,-999.0000,9,-999.0000,9,-999.0000,9,-999.0000,9,-999.0000,9,-999.0000,9,-999.0000,9,  12.4527,     -999.0,9,     -999.0,9,     -999.0,9,     -999.0,9,     -999.0,9,     -999.0,9,     -999.0,9,   0.0049,    0.15
33RO20071215,        P18,      49,          1,         26,      12030,2,20071231,       1146,    -1.9158,  -110.0382,       3932,   250.0,  12.1566,  34.8710,2,  34.8703,2,     38.9,2,    39.4,2,   24.60,2,   30.80,2,    0.01,2,    2.08,2,   0.868,2,   0.484,2,   0.1532,2,  2226.7,2,  2302.8,2,   1289.3,2,    20.00,   7.5405,2,    25.00,-999.000,9,-999.0000,9, -999.00,9,   -0.04,2,  -999.0,1,-999.000,9,-999.000,-999.000,9,-999.000,9,   47.34,2,   33.24,2, -999.00,1, -999.00,9, -999.00,9,-999.000,-999.0000,9,-999.0000,9,-999.0000,9,-999.0000,9,-999.0000,9,-999.0000,9,-999.0000,9,-999.0000,9,-999.0000,9,  12.1237,     -999.0,9,     -999.0,9,     -999.0,9,     -999.0,9,     -999.0,9,     -999.0,9,     -999.0,9,-999.0000, -999.00
33RO20071215,        P18,      49,          1,         25,      12024,2,20071231,       1146,    -1.9158,  -110.0382,       3932,   284.8,  11.9443,  34.8631,2,  34.8610,2,     18.6,2,    17.1,2,   26.60,2,   32.80,2,    0.01,2,    2.29,2,   0.649,2,   0.366,2,   0.1232,2,  2245.0,2,  2301.7,2,   -999.0,9,  -999.00,   7.4753,2,    25.00,   0.173,2,   1.7657,2,    5.29,2,    -0.1,2,  -999.0,1,   7.372,2,   0.025,-999.000,9,-999.000,9,   46.15,2,   33.93,2, -999.00,1, -999.00,9, -999.00,9,   0.006,-999.0000,9,-999.0000,9,-999.0000,9,-999.0000,9,-999.0000,9,-999.0000,9,-999.0000,9,-999.0000,9,-999.0000,9,  11.9072,     -999.0,9,     -999.0,9,     -999.0,9,     -999.0,9,     -999.0,9,     -999.0,9,     -999.0,9,   0.0049,    0.15
33RO20071215,        P18,      49,          1,         24,      12019,2,20071231,       1146,    -1.9158,  -110.0382,       3932,   336.1,  11.1801,  34.8177,2,  34.8161,2,      9.9,2,    10.4,2,   29.90,2,   33.90,2,    0.01,2,    2.45,2,   0.426,2,   0.241,2,   0.1188,2,  2258.4,2,  2302.7,2,   -999.0,9,  -999.00,   7.4374,2,    25.00,   0.134,2,   1.7814,2,    5.57,2, -999.00,9,  -999.0,9,   7.377,2,   0.025,-999.000,9,-999.000,9,   44.51,2,   35.18,2, -999.00,1, -999.00,9, -999.00,9,   0.006,-999.0000,9,-999.0000,9,-999.0000,9,-999.0000,9,-999.0000,9,-999.0000,9,-999.0000,9,-999.0000,9,-999.0000,9,  11.1381,     -999.0,9,     -999.0,9,     -999.0,9,     -999.0,9,     -999.0,9,     -999.0,9,     -999.0,9,   0.0050,    0.15
33RO20071215,        P18,      49,          1,         23,      12022,2,20071231,       1146,    -1.9158,  -110.0382,       3932,   400.0,   9.6308,  34.7217,2,  34.7195,2,     12.1,2,    12.6,2,   36.20,2,   37.30,2,    0.01,2,    2.63,2,   0.208,2,   0.118,2,   0.0000,2,  2270.0,2,  2304.6,2,   1767.0,2,    20.00,   7.4055,2,    25.00,   0.047,2,   1.7833,2,    5.92,2,   -0.14,2,  -999.0,1,   7.416,2,   0.025,-999.000,9,-999.000,9,   43.73,2,   38.71,2, -999.00,1, -999.00,9, -999.00,9,   0.006,-999.0000,9,-999.0000,9,-999.0000,9,-999.0000,9,-999.0000,9,-999.0000,9,-999.0000,9,-999.0000,9,-999.0000,9,   9.5851,     -999.0,9,     -999.0,9,     -999.0,9,     -999.0,9,     -999.0,9,     -999.0,9,     -999.0,9,   0.0050,    0.15
33RO20071215,        P18,      49,          1,         22,      12015,2,20071231,       1146,    -1.9158,  -110.0382,       3932,   500.4,   8.1656,  34.6386,2,  34.6373,2,     24.2,2,    26.1,2,   42.50,2,   39.90,2,    0.01,2,    2.74,2,   0.089,2,   0.052,2,   0.0000,2,  2273.2,2,  2312.0,2,   -999.0,9,  -999.00,   7.4113,2,    25.00,   0.041,2,   1.7987,2,    6.92,2,    0.05,2,  -999.0,1,   7.504,2,   0.026,-999.000,9,-999.000,9,   42.93,2,   41.34,2, -999.00,1, -999.00,9, -999.00,9,   0.006,-999.0000,9,-999.0000,9,-999.0000,9,-999.0000,9,-999.0000,9,-999.0000,9,-999.0000,9,-999.0000,9,-999.0000,9,   8.1137,     -999.0,9,     -999.0,9,     -999.0,9,     -999.0,9,     -999.0,9,     -999.0,9,     -999.0,9,   0.0050,    0.15
33RO20071215,        P18,      49,          1,         21,      12020,2,20071231,       1146,    -1.9158,  -110.0382,       3932,   599.5,   6.9461,  34.5781,2,  34.5774,2,     56.3,2,    58.3,2,   48.30,2,   39.20,2,    0.00,2,    2.70,2,   0.075,2,   0.043,2,   0.0000,2,  2266.5,2,  2315.1,2,   -999.0,9,  -999.00,   7.4553,2,    25.00,   0.013,2,   1.8007,2,    8.86,2,    0.21,2,  -999.0,1,   7.615,2,   0.026,-999.000,9,-999.000,9,   42.20,2,   40.86,2, -999.00,1, -999.00,9, -999.00,9,   0.006,-999.0000,9,-999.0000,9,-999.0000,9,-999.0000,9,-999.0000,9,-999.0000,9,-999.0000,9,-999.0000,9,-999.0000,9,   6.8890,     -999.0,9,     -999.0,9,     -999.0,9,     -999.0,9,     -999.0,9,     -999.0,9,     -999.0,9,   0.0050,    0.15
33RO20071215,        P18,      49,          1,         20,      12055,2,20071231,       1146,    -1.9158,  -110.0382,       3932,   700.1,   6.2696,  34.5541,2,  34.5526,2,     76.7,2,    77.2,2,   54.10,2,   38.60,2,    0.00,2,    2.67,2,   0.062,2,   0.036,2,   0.0000,2,  2264.7,6,  2321.7,2,   1494.1,2,    20.00,   7.4801,2,    25.00,  -0.004,2,   1.8123,2,   10.66,2, -999.00,9,  -999.0,9,   7.670,2,   0.026,-999.000,9,-999.000,9,   41.30,2,   40.13,2, -999.00,1, -999.00,9, -999.00,9,   0.005,-999.0000,9,-999.0000,9,-999.0000,9,-999.0000,9,-999.0000,9,-999.0000,9,-999.0000,9,-999.0000,9,-999.0000,9,   6.2060,     -999.0,9,     -999.0,9,     -999.0,9,     -999.0,9,     -999.0,9,     -999.0,9,     -999.0,9,   0.0051,    0.15
33RO20071215,        P18,      49,          1,         19,      12018,2,20071231,       1146,    -1.9158,  -110.0382,       3932,   799.5,   5.6279,  34.5472,2,  34.5470,2,     77.5,2,    76.9,2,   64.30,2,   39.40,2,    0.00,2,    2.74,2,   0.023,2,   0.015,2,   0.0000,2,  2276.8,2,  2333.5,2,   -999.0,9,  -999.00,   7.4762,2,    25.00,   0.001,2,   1.8334,2,   12.62,2,     0.1,2,  -999.0,1,   7.813,2,   0.027,-999.000,9,-999.000,9,   40.49,2,   40.88,2, -999.00,1, -999.00,9, -999.00,9,   0.006,-999.0000,9,-999.0000,9,-999.0000,9,-999.0000,9,-999.0000,9,-999.0000,9,-999.0000,9,-999.0000,9,-999.0000,9,   5.5586,     -999.0,9,     -999.0,9,     -999.0,9,     -999.0,9,     -999.0,9,     -999.0,9,     -999.0,9,   0.0051,    0.15
33RO20071215,        P18,      49,          1,         18,      12025,4,20071231,       1146,    -1.9158,  -110.0382,       3932,   899.7,   5.1867,  34.5489,2,-999.0000,9,     76.1,2,  -999.0,9, -999.00,9, -999.00,9, -999.00,9, -999.00,9,-999.000,9,-999.000,9,-999.0000,9,  -999.0,9,  -999.0,9,   -999.0,9,  -999.00,-999.0000,9,  -999.00,-999.000,9,-999.0000,9, -999.00,9, -999.00,9,  -999.0,9,-999.000,9,-999.000,-999.000,9,-999.000,9, -999.00,9, -999.00,9, -999.00,9, -999.00,9, -999.00,9,-999.000,-999.0000,9,-999.0000,9,-999.0000,9,-999.0000,9,-999.0000,9,-999.0000,9,-999.0000,9,-999.0000,9,-999.0000,9,   5.1110,     -999.0,9,     -999.0,9,     -999.0,9,     -999.0,9,     -999.0,9,     -999.0,9,     -999.0,9,-999.0000, -999.00
33RO20071215,        P18,      49,          1,         17,      12016,2,20071231,       1146,    -1.9158,  -110.0382,       3932,   998.5,   4.7343,  34.5574,2,  34.5577,2,     75.5,2,    75.3,2,   83.30,2,   40.40,2,    0.00,2,    2.85,2,   0.003,2,   0.003,2,   0.0000,2,  2298.7,2,  2350.7,2,   -999.0,9,  -999.00,   7.4599,2,    25.00,  -0.008,2,   1.8522,2,   16.06,2, -999.00,9,  -999.0,9,   7.864,2,   0.027,-999.000,9,-999.000,9,   39.82,2,   41.50,2, -999.00,1, -999.00,9, -999.00,9,   0.006,-999.0000,9,-999.0000,9,-999.0000,9,-999.0000,9,-999.0000,9,-999.0000,9,-999.0000,9,-999.0000,9,-999.0000,9,   4.6530,     -999.0,9,     -999.0,9,     -999.0,9,     -999.0,9,     -999.0,9,     -999.0,9,     -999.0,9,   0.0052,    0.15
33RO20071215,        P18,      49,          1,         16,      12051,2,20071231,       1146,    -1.9158,  -110.0382,       3932,  1099.5,   4.3198,  34.5603,2,  34.5601,2,     84.8,2,    84.8,2,   89.70,2,   40.00,2,    0.00,2,    2.81,2,   0.002,2,   0.002,2,   0.0000,2,  2302.2,2,  2358.4,2,   1517.7,2,    20.00,   7.4766,2,    25.00,-999.000,9,   1.8767,2,   17.77,2,    0.13,2,  -999.0,1,   7.981,2,   0.027,-999.000,9,-999.000,9,   39.35,2,   40.90,2, -999.00,9, -999.00,9, -999.00,9,-999.000,-999.0000,9,-999.0000,9,-999.0000,9,-999.0000,9,-999.0000,9,-999.0000,9,-999.0000,9,-999.0000,9,-999.0000,9,   4.2329,     -999.0,9,     -999.0,9,     -999.0,9,     -999.0,9,     -999.0,9,     -999.0,9,     -999.0,9,   0.0053,    0.15
33RO20071215,        P18,      49,          1,         15,      12014,2,20071231,       1146,    -1.9158,  -110.0382,       3932,  1200.9,   3.9751,  34.5702,2,  34.5700,2,     85.7,2,    85.5,2,   98.30,2,   40.20,2,    0.00,2,    2.83,2,   0.005,2,   0.001,2,   0.0000,2,  2311.1,2,  2366.3,2,   -999.0,9,  -999.00,   7.4721,2,    25.00,   0.005,6,   1.8727,2,   19.32,2, -999.00,9,  -999.0,9,   7.973,2,   0.027,-999.000,9,-999.000,9,   38.86,2,   41.01,2, -999.00,9, -999.00,9, -999.00,9,   0.005,-999.0000,9,-999.0000,9,-999.0000,9,-999.0000,9,-999.0000,9,-999.0000,9,-999.0000,9,-999.0000,9,-999.0000,9,   3.8826,     -999.0,9,     -999.0,9,     -999.0,9,     -999.0,9,     -999.0,9,     -999.0,9,     -999.0,9,   0.0052,    0.15
33RO20071215,        P18,      49,          1,         14,      12013,2,20071231,       1146,    -1.9158,  -110.0382,       3932,  1300.0,   3.6727,  34.5825,2,  34.5823,2,     84.1,2,    84.6,2,  107.10,2,   40.40,2,    0.00,2,    2.86,2,-999.000,9,-999.000,9,-999.0000,9,  2321.7,2,  2377.2,2,   -999.0,9,  -999.00,   7.4700,2,    25.00,-999.000,9,-999.0000,9, -999.00,9, -999.00,9,  -999.0,9,-999.000,9,-999.000,-999.000,9,-999.000,9,   38.43,2,   42.22,2, -999.00,9, -999.00,9, -999.00,9,-999.000,-999.0000,9,-999.0000,9,-999.0000,9,-999.0000,9,-999.0000,9,-999.0000,9,-999.0000,9,-999.0000,9,-999.0000,9,   3.5745,     -999.0,9,     -999.0,9,     -999.0,9,     -999.0,9,     -999.0,9,     -999.0,9,     -999.0,9,-999.0000, -999.00
33RO20071215,        P18,      49,          1,         13,      12012,2,20071231,       1146,    -1.9158,  -110.0382,       3932,  1399.1,   3.3627,  34.5958,2,  34.5963,2,     84.8,2,    84.5,2,  116.20,2,   40.50,2,    0.00,2,    2.87,2,   0.001,2,   0.001,2,   0.0000,2,  2329.8,2,  2387.2,2,   -999.0,9,  -999.00,   7.4741,2,    25.00,-999.000,9,-999.0000,9, -999.00,9, -999.00,9,  -999.0,9,-999.000,9,-999.000,-999.000,9,-999.000,9,   38.05,2,   41.97,2, -999.00,9, -999.00,9, -999.00,9,-999.000,-999.0000,9,-999.0000,9,-999.0000,9,-999.0000,9,-999.0000,9,-999.0000,9,-999.0000,9,-999.0000,9,-999.0000,9,   3.2592,     -999.0,9,     -999.0,9,     -999.0,9,     -999.0,9,     -999.0,9,     -999.0,9,     -999.0,9,-999.0000, -999.00
33RO20071215,        P18,      49,          1,         12,      12031,2,20071231,       1146,    -1.9158,  -110.0382,       3932,  1599.7,   2.8746,  34.6126,2,  34.6141,2,     83.3,3,    95.6,2,  126.20,2,   40.00,2,    0.00,2,    2.81,2,-999.000,9,-999.000,9,-999.0000,9,  2335.2,2,  2400.7,2,   1487.0,2,    20.00,   7.4871,2,    25.00,-999.000,9,-999.0000,9, -999.00,9, -999.00,9,  -999.0,9,-999.000,9,-999.000,-999.000,9,-999.000,9,   37.57,2,   40.99,2, -999.00,9, -999.00,9, -999.00,9,-999.000,-999.0000,9,-999.0000,9,-999.0000,9,-999.0000,9,-999.0000,9,-999.0000,9,-999.0000,9,-999.0000,9,-999.0000,9,   2.7598,     -999.0,9,     -999.0,9,     -999.0,9,     -999.0,9,     -999.0,9,     -999.0,9,     -999.0,9,-999.0000, -999.00