BOTTLE,20220818CCHSIOAMB
EXPOCODE,SECT_ID,STNNBR,CASTNO,SAMPNO,BTLNBR,BTLNBR_FLAG_W,DATE,TIME,LATITUDE,LONGITUDE,DEPTH,CTDPRS,CTDTMP,CTDSAL,CTDSAL_FLAG_W,SALNTY,SALNTY_FLAG_W,CTDOXY,CTDOXY_FLAG_W,OXYGEN,OXYGEN_FLAG_W,SILCAT,SILCAT_FLAG_W,NITRAT,NITRAT_FLAG_W,NITRIT,NITRIT_FLAG_W,PHSPHT,PHSPHT_FLAG_W,CFC-11,CFC-11_FLAG_W,CFC-12,CFC-12_FLAG_W,SF6,SF6_FLAG_W,TCARBN,TCARBN_FLAG_W,ALKALI,ALKALI_FLAG_W,FCO2,FCO2_FLAG_W,FCO2TMP,PH_SWS,PH_SWS_FLAG_W,PH_TMP,TRITUM,TRITUM_FLAG_W,HELIUM,HELIUM_FLAG_W,DELHE3,DELHE3_FLAG_W,DELC13,DELC13_FLAG_W,DELC14,DELC14_FLAG_W,NEON,NEON_FLAG_W,NEONER,CCL4,CCL4_FLAG_W,POC,POC_FLAG_W,DOC,DOC_FLAG_W,TDN,TDN_FLAG_W,DON,DON_FLAG_W,CHLORA,CHLORA_FLAG_W,ARGON,ARGON_FLAG_W,TRITER,CDOM325,CDOM325_FLAG_W,CDOM340,CDOM340_FLAG_W,CDOM380,CDOM380_FLAG_W,CDOM412,CDOM412_FLAG_W,CDOM443,CDOM443_FLAG_W,CDOM490,CDOM490_FLAG_W,CDOM555,CDOM555_FLAG_W,CDOMSL,CDOMSL_FLAG_W,CDOMSN,CDOMSN_FLAG_W,THETA,D18O_NO3,D18O_NO3_FLAG_W,CDOM2C,CDOM2C_FLAG_W,CDOM3C,CDOM3C_FLAG_W,LAB_DEN,LAB_DEN_FLAG_W,DELSI30,DELSI30_FLAG_W,N2,N2_FLAG_W,D15N_NO3,D15N_NO3_FLAG_W,HELIER,DELHER
,,,,,,,,,,,METERS,DBAR,ITS-90,PSS-78,,PSS-78,,UMOL/KG,,UMOL/KG,,UMOL/KG,,UMOL/KG,,UMOL/KG,,UMOL/KG,,PMOL/KG,,PMOL/KG,,FMOL/KG,,UMOL/KG,,UMOL/KG,,UATM,,DEG C,,,DEG C,TU,,NMOL/KG,,PERCNT,,/MILLE,,/MILLE,,NMOL/KG,,NMOL/KG,PMOL/KG,,UG/KG,,UMOL/KG,,UMOL/KG,,UMOL/KG,,UG/KG,,UMOL/KG,,TU,1/M,,1/M,,1/M,,1/M,,1/M,,1/M,,1/M,,1/NM,,1/NM,,DEG C,/MILLE,,,,,,,,/MILLE,,UMOL/KG,,/MILLE,,NMOL/KG,PERCNT
33RO20071215,        P18,      55,          1,         36,      12017,2,20080102,       0909,    -5.0125,  -110.0005,       3581,     4.8,  23.3212,  35.0063,2,  35.0072,2,    215.7,2,   223.2,3,    6.10,2,   11.90,2,    0.27,2,    0.84,2,   1.949,2,   1.218,2,   1.0336,2,  2068.5,6,  2309.7,2,    450.2,2,    20.00,   7.9439,2,    25.00,-999.000,9,-999.0000,9, -999.00,9,    1.09,2,  -999.0,1,-999.000,9,-999.000,-999.000,9,-999.000,9,   65.52,2,   14.80,2, -999.00,1, -999.00,9, -999.00,9,-999.000,-999.0000,9,-999.0000,9,-999.0000,9,-999.0000,9,-999.0000,9,-999.0000,9,-999.0000,9,-999.0000,9,-999.0000,9,  23.3202,     -999.0,9,     -999.0,9,     -999.0,9,     -999.0,1,     -999.0,9,     -999.0,9,     -999.0,9,-999.0000, -999.00
33RO20071215,        P18,      55,          1,         35,      12029,2,20080102,       0909,    -5.0125,  -110.0005,       3581,    13.0,  23.3218,  35.0068,2,  35.0081,2,    215.9,2,   218.0,2,    6.10,2,   11.90,2,    0.27,2,    0.85,2,   1.945,6,   1.210,6,   1.0457,6,  2068.0,2,  2312.3,2,   -999.0,9,  -999.00,-999.0000,9,  -999.00,-999.000,9,-999.0000,9, -999.00,9, -999.00,9,  -999.0,9,-999.000,9,-999.000,-999.000,9,-999.000,9, -999.00,9, -999.00,9, -999.00,1, -999.00,9, -999.00,9,-999.000,-999.0000,9,-999.0000,9,-999.0000,9,-999.0000,9,-999.0000,9,-999.0000,9,-999.0000,9,-999.0000,9,-999.0000,9,  23.3191,     -999.0,9,     -999.0,9,     -999.0,9,     -999.0,1,     -999.0,9,     -999.0,9,     -999.0,9,-999.0000, -999.00
33RO20071215,        P18,      55,          1,         34,      12049,2,20080102,       0909,    -5.0125,  -110.0005,       3581,    27.0,  23.2984,  35.0140,2,  35.0161,2,    217.0,2,   218.1,2,    6.00,2,   11.90,2,    0.26,2,    0.86,2,   1.938,2,   1.207,2,   0.9920,2,  2069.3,2,  2310.5,2,    451.0,2,    20.00,   7.9299,2,    25.00,-999.000,9,-999.0000,9, -999.00,9, -999.00,9,  -999.0,9,-999.000,9,-999.000,-999.000,9,-999.000,9,   61.33,2,   14.15,2, -999.00,1, -999.00,9, -999.00,9,-999.000,-999.0000,9,-999.0000,9,-999.0000,9,-999.0000,9,-999.0000,9,-999.0000,9,-999.0000,9,-999.0000,9,-999.0000,9,  23.2928,     -999.0,9,     -999.0,9,     -999.0,9,     -999.0,1,     -999.0,9,     -999.0,9,     -999.0,9,-999.0000, -999.00
33RO20071215,        P18,      55,          1,         33,      12027,2,20080102,       0909,    -5.0125,  -110.0005,       3581,    46.1,  22.7788,  35.0206,2,  35.0221,2,    216.7,2,   217.8,2,    6.10,2,   12.10,2,    0.25,2,    0.89,2,   1.982,2,   1.228,2,   1.0079,2,  2075.7,2,  2309.8,2,    463.1,2,    20.00,   7.9215,2,    25.00,-999.000,9,-999.0000,9, -999.00,9, -999.00,9,  -999.0,9,-999.000,9,-999.000,-999.000,9,-999.000,9, -999.00,9, -999.00,9, -999.00,1, -999.00,9, -999.00,9,-999.000,-999.0000,9,-999.0000,9,-999.0000,9,-999.0000,9,-999.0000,9,-999.0000,9,-999.0000,9,-999.0000,9,-999.0000,9,  22.7695,     -999.0,9,     -999.0,9,     -999.0,9,     -999.0,1,     -999.0,9,     -999.0,9,     -999.0,9,-999.0000, -999.00
33RO20071215,        P18,      55,          1,         32,      12023,2,20080102,       0909,    -5.0125,  -110.0005,       3581,    67.0,  21.2411,  35.0296,2,  35.0797,2,    198.6,2,   183.3,2,    7.40,2,   12.50,2,    0.65,2,    1.06,2,   1.989,2,   1.209,2,   0.9967,2,  2108.1,2,  2314.0,2,   -999.0,9,  -999.00,   7.9232,2,    25.00,-999.000,9,-999.0000,9, -999.00,9, -999.00,9,  -999.0,9,-999.000,9,-999.000,-999.000,9,-999.000,9,   58.51,2,   16.57,2, -999.00,1, -999.00,9, -999.00,9,-999.000,-999.0000,9,-999.0000,9,-999.0000,9,-999.0000,9,-999.0000,9,-999.0000,9,-999.0000,9,-999.0000,9,-999.0000,9,  21.2282,     -999.0,9,     -999.0,9,     -999.0,9,     -999.0,1,     -999.0,9,     -999.0,9,     -999.0,9,-999.0000, -999.00
33RO20071215,        P18,      55,          1,         31,      12037,2,20080102,       0909,    -5.0125,  -110.0005,       3581,    86.8,  17.2939,  35.1734,2,  35.1687,2,     90.7,2,    91.9,2,    9.50,2,   18.50,2,    0.94,2,    1.55,2,   1.836,2,   1.080,2,   0.6332,2,  2174.7,2,  2319.3,2,    816.1,2,    20.00,   7.8410,2,    25.00,-999.000,9,-999.0000,9, -999.00,9, -999.00,9,  -999.0,9,-999.000,9,-999.000,-999.000,9,-999.000,9, -999.00,9, -999.00,9, -999.00,1, -999.00,9, -999.00,9,-999.000,-999.0000,9,-999.0000,9,-999.0000,9,-999.0000,9,-999.0000,9,-999.0000,9,-999.0000,9,-999.0000,9,-999.0000,9,  17.2795,     -999.0,9,     -999.0,9,     -999.0,9,     -999.0,1,     -999.0,9,     -999.0,9,     -999.0,9,-999.0000, -999.00
33RO20071215,        P18,      55,          1,         30,      12036,2,20080102,       0909,    -5.0125,  -110.0005,       3581,   107.4,  15.1358,  35.0934,2,  35.0944,2,     57.1,2,    54.4,2,   12.10,2,   22.90,2,    0.71,2,    1.80,2,   1.695,2,   0.974,2,   0.5172,2,  2201.3,2,  2312.6,2,   -999.0,9,  -999.00,   7.7022,2,    25.00,-999.000,9,-999.0000,9, -999.00,9, -999.00,9,  -999.0,9,-999.000,9,-999.000,-999.000,9,-999.000,9,   49.47,2,   26.58,2, -999.00,1, -999.00,9, -999.00,9,-999.000,-999.0000,9,-999.0000,9,-999.0000,9,-999.0000,9,-999.0000,9,-999.0000,9,-999.0000,9,-999.0000,9,-999.0000,9,  15.1194,     -999.0,9,     -999.0,9,     -999.0,9,     -999.0,1,     -999.0,9,     -999.0,9,     -999.0,9,-999.0000, -999.00
33RO20071215,        P18,      55,          1,         29,      12044,2,20080102,       0909,    -5.0125,  -110.0005,       3581,   132.9,  13.8485,  35.0245,2,  35.0256,2,     32.3,2,    30.8,2,   18.40,2,   29.40,2,    0.08,2,    2.04,2,   1.195,6,   0.676,6,   0.3070,6,  2221.5,2,  2306.3,2,   1212.1,2,    20.00,   7.5825,2,    25.00,-999.000,9,-999.0000,9, -999.00,9, -999.00,9,  -999.0,9,-999.000,9,-999.000,-999.000,9,-999.000,9, -999.00,9, -999.00,9, -999.00,1, -999.00,9, -999.00,9,-999.000,-999.0000,9,-999.0000,9,-999.0000,9,-999.0000,9,-999.0000,9,-999.0000,9,-999.0000,9,-999.0000,9,-999.0000,9,  13.8294,     -999.0,9,     -999.0,9,     -999.0,9,     -999.0,1,     -999.0,9,     -999.0,9,     -999.0,9,-999.0000, -999.00
33RO20071215,        P18,      55,          1,         28,      12057,2,20080102,       0909,    -5.0125,  -110.0005,       3581,   158.6,  13.0141,  34.9439,2,  34.9453,2,     16.6,2,    17.4,2,   22.10,2,   31.90,2,    0.01,2,    2.21,2,   0.941,2,   0.529,2,   0.2193,2,  2233.6,2,  2300.8,2,   -999.0,9,  -999.00,   7.5533,2,    25.00,-999.000,9,-999.0000,9, -999.00,9, -999.00,9,  -999.0,9,-999.000,9,-999.000,-999.000,9,-999.000,9,   47.05,2,   35.19,2, -999.00,1, -999.00,9, -999.00,9,-999.000,-999.0000,9,-999.0000,9,-999.0000,9,-999.0000,9,-999.0000,9,-999.0000,9,-999.0000,9,-999.0000,9,-999.0000,9,  12.9923,     -999.0,9,     -999.0,9,     -999.0,9,     -999.0,9,     -999.0,9,     -999.0,9,     -999.0,9,-999.0000, -999.00
33RO20071215,        P18,      55,          1,         27,      12026,2,20080102,       0909,    -5.0125,  -110.0005,       3581,   183.0,  12.8561,  34.9292,2,  34.9298,2,     15.7,2,    15.1,2,   23.10,2,   32.20,2,    0.01,2,    2.24,2,   0.899,2,   0.509,2,   0.1354,2,  2234.9,2,  2300.4,2,   1403.0,2,    20.00,   7.6060,2,    25.00,-999.000,9,-999.0000,9, -999.00,9, -999.00,9,  -999.0,9,-999.000,9,-999.000,-999.000,9,-999.000,9, -999.00,9, -999.00,9, -999.00,1, -999.00,9, -999.00,9,-999.000,-999.0000,9,-999.0000,9,-999.0000,9,-999.0000,9,-999.0000,9,-999.0000,9,-999.0000,9,-999.0000,9,-999.0000,9,  12.8312,     -999.0,9,     -999.0,9,     -999.0,9,     -999.0,1,     -999.0,9,     -999.0,9,     -999.0,9,-999.0000, -999.00
33RO20071215,        P18,      55,          1,         26,      12030,2,20080102,       0909,    -5.0125,  -110.0005,       3581,   217.9,  12.6383,  34.9102,2,  34.9091,2,      7.8,2,     7.5,2,   24.90,2,   32.80,2,    0.01,2,    2.33,2,   0.759,2,   0.427,2,   0.1543,2,  2243.3,2,  2298.8,2,   -999.0,9,  -999.00,   7.6229,2,    25.00,-999.000,9,-999.0000,9, -999.00,9, -999.00,9,  -999.0,9,-999.000,9,-999.000,-999.000,9,-999.000,9,   46.15,2,   35.01,2, -999.00,1, -999.00,9, -999.00,9,-999.000,-999.0000,9,-999.0000,9,-999.0000,9,-999.0000,9,-999.0000,9,-999.0000,9,-999.0000,9,-999.0000,9,-999.0000,9,  12.6089,     -999.0,9,     -999.0,9,     -999.0,9,     -999.0,9,     -999.0,9,     -999.0,9,     -999.0,9,-999.0000, -999.00
33RO20071215,        P18,      55,          1,         25,      12024,2,20080102,       0909,    -5.0125,  -110.0005,       3581,   266.2,  12.2001,  34.8837,2,  34.8837,2,      7.1,2,     8.1,2,   26.40,2,   32.90,2,    0.00,2,    2.38,2,   0.641,2,   0.365,2,   0.1083,2,  2249.4,2,  2299.0,2,   1535.7,2,    20.00,   7.5395,2,    25.00,-999.000,9,-999.0000,9, -999.00,9, -999.00,9,  -999.0,9,-999.000,9,-999.000,-999.000,9,-999.000,9,   44.75,2,   34.77,2, -999.00,1, -999.00,9, -999.00,9,-999.000,-999.0000,9,-999.0000,9,-999.0000,9,-999.0000,9,-999.0000,9,-999.0000,9,-999.0000,9,-999.0000,9,-999.0000,9,  12.1649,     -999.0,9,     -999.0,9,     -999.0,9,     -999.0,1,     -999.0,9,     -999.0,9,     -999.0,9,-999.0000, -999.00
33RO20071215,        P18,      55,          1,         24,      12019,2,20080102,       0909,    -5.0125,  -110.0005,       3581,   317.2,  11.6523,  34.8508,2,  34.8506,2,     10.1,2,    12.3,2,   27.70,2,   33.00,2,    0.01,2,    2.41,2,   0.526,2,   0.302,2,   0.1084,2,  2252.8,2,  2301.2,2,   -999.0,9,  -999.00,   7.4607,2,    25.00,-999.000,9,-999.0000,9, -999.00,9, -999.00,9,  -999.0,9,-999.000,9,-999.000,-999.000,9,-999.000,9,   43.89,2,   34.11,2, -999.00,1, -999.00,9, -999.00,9,-999.000,-999.0000,9,-999.0000,9,-999.0000,9,-999.0000,9,-999.0000,9,-999.0000,9,-999.0000,9,-999.0000,9,-999.0000,9,  11.6116,     -999.0,9,     -999.0,9,     -999.0,9,     -999.0,1,     -999.0,9,     -999.0,9,     -999.0,9,-999.0000, -999.00
33RO20071215,        P18,      55,          1,         23,      12022,2,20080102,       0909,    -5.0125,  -110.0005,       3581,   367.0,  10.9886,  34.8095,2,  34.8095,2,     13.2,2,    12.6,2,   30.20,2,   33.70,2,    0.01,2,    2.50,2,   0.389,2,   0.224,2,   0.0654,2,  2259.4,2,  2291.6,4,   -999.0,9,  -999.00,   7.4370,2,    25.00,-999.000,9,-999.0000,9, -999.00,9, -999.00,9,  -999.0,9,-999.000,9,-999.000,-999.000,9,-999.000,9,   42.74,2,   35.28,2, -999.00,1, -999.00,9, -999.00,9,-999.000,-999.0000,9,-999.0000,9,-999.0000,9,-999.0000,9,-999.0000,9,-999.0000,9,-999.0000,9,-999.0000,9,-999.0000,9,  10.9431,     -999.0,9,     -999.0,9,     -999.0,9,     -999.0,9,     -999.0,9,     -999.0,9,     -999.0,9,-999.0000, -999.00
33RO20071215,        P18,      55,          1,         22,      12015,2,20080102,       0909,    -5.0125,  -110.0005,       3581,   432.3,   9.5901,  34.7208,2,  34.7217,2,      3.3,2,     3.4,2,   37.30,2,   36.90,2,    0.00,2,    2.77,2,   0.120,2,   0.074,2,   0.0000,2,  2278.2,6,  2237.9,4,   1861.3,2,    20.00,   7.4101,2,    25.00,-999.000,9,-999.0000,9, -999.00,9, -999.00,9,  -999.0,9,-999.000,9,-999.000,-999.000,9,-999.000,9,   41.98,2,   38.59,2, -999.00,1, -999.00,9, -999.00,9,-999.000,-999.0000,9,-999.0000,9,-999.0000,9,-999.0000,9,-999.0000,9,-999.0000,9,-999.0000,9,-999.0000,9,-999.0000,9,   9.5408,     -999.0,9,     -999.0,9,     -999.0,9,     -999.0,9,     -999.0,9,     -999.0,9,     -999.0,9,-999.0000, -999.00
33RO20071215,        P18,      55,          1,         21,      12020,2,20080102,       0909,    -5.0125,  -110.0005,       3581,   532.7,   7.9189,  34.6280,2,  34.6278,2,     18.4,2,    20.1,2,   42.60,2,   40.90,2,    0.00,2,    2.87,2,   0.030,2,   0.018,2,   0.0000,2,  2279.5,2,  2309.3,2,   -999.0,9,  -999.00,   7.4112,2,    25.00,-999.000,9,-999.0000,9, -999.00,9, -999.00,9,  -999.0,9,-999.000,9,-999.000,-999.000,9,-999.000,9,   41.64,2,   41.02,2, -999.00,1, -999.00,9, -999.00,9,-999.000,-999.0000,9,-999.0000,9,-999.0000,9,-999.0000,9,-999.0000,9,-999.0000,9,-999.0000,9,-999.0000,9,-999.0000,9,   7.8644,     -999.0,9,     -999.0,9,     -999.0,9,     -999.0,9,     -999.0,9,     -999.0,9,     -999.0,9,-999.0000, -999.00
33RO20071215,        P18,      55,          1,         20,      12055,2,20080102,       0909,    -5.0125,  -110.0005,       3581,   632.3,   6.6838,  34.5771,2,  34.5764,2,     28.9,2,    28.9,2,   53.30,2,   43.20,2,    0.00,2,    3.00,2,   0.007,2,   0.004,2,   0.0033,2,  2289.6,2,  2317.2,2,   -999.0,9,  -999.00,   7.4568,2,    25.00,-999.000,9,-999.0000,9, -999.00,9, -999.00,9,  -999.0,9,-999.000,9,-999.000,-999.000,9,-999.000,9,   39.82,2,   44.88,2, -999.00,1, -999.00,9, -999.00,9,-999.000,-999.0000,9,-999.0000,9,-999.0000,9,-999.0000,9,-999.0000,9,-999.0000,9,-999.0000,9,-999.0000,9,-999.0000,9,   6.6246,     -999.0,9,     -999.0,9,     -999.0,9,     -999.0,9,     -999.0,9,     -999.0,9,     -999.0,9,-999.0000, -999.00
33RO20071215,        P18,      55,          1,         19,      12018,2,20080102,       0909,    -5.0125,  -110.0005,       3581,   732.1,   5.8180,  34.5533,2,  34.5546,2,     56.0,2,    55.6,2,   61.90,2,   41.70,2,    0.00,2,    2.92,2,   0.004,2,   0.004,2,   0.0000,2,  2285.3,2,  2328.1,2,   1680.4,2,    20.00,   7.4694,2,    25.00,-999.000,9,-999.0000,9, -999.00,9, -999.00,9,  -999.0,9,-999.000,9,-999.000,-999.000,9,-999.000,9,   39.27,2,   43.16,2, -999.00,1, -999.00,9, -999.00,9,-999.000,-999.0000,9,-999.0000,9,-999.0000,9,-999.0000,9,-999.0000,9,-999.0000,9,-999.0000,9,-999.0000,9,-999.0000,9,   5.7538,     -999.0,9,     -999.0,9,     -999.0,9,     -999.0,9,     -999.0,9,     -999.0,9,     -999.0,9,-999.0000, -999.00
33RO20071215,        P18,      55,          1,         18,      12025,2,20080102,       0909,    -5.0125,  -110.0005,       3581,   833.2,   5.1682,  34.5428,2,  34.5429,2,     77.0,2,    76.4,2,   69.00,2,   40.50,2,    0.00,2,    2.84,2,   0.003,2,   0.002,2,   0.0000,2,  2283.7,2,  2344.1,4,   -999.0,9,  -999.00,   7.4744,2,    25.00,-999.000,9,-999.0000,9, -999.00,9, -999.00,9,  -999.0,9,-999.000,9,-999.000,-999.000,9,-999.000,9,   38.58,2,   41.57,2, -999.00,1, -999.00,9, -999.00,9,-999.000,-999.0000,9,-999.0000,9,-999.0000,9,-999.0000,9,-999.0000,9,-999.0000,9,-999.0000,9,-999.0000,9,-999.0000,9,   5.0986,     -999.0,9,     -999.0,9,     -999.0,9,     -999.0,9,     -999.0,9,     -999.0,9,     -999.0,9,-999.0000, -999.00
33RO20071215,        P18,      55,          1,         17,      12016,2,20080102,       0909,    -5.0125,  -110.0005,       3581,   931.8,   4.8188,  34.5436,2,  34.5444,2,     87.2,2,    85.2,2,   74.70,2,   39.70,2,    0.00,2,    2.80,2,   0.004,2,   0.004,2,   0.0000,2,  2285.1,2,  2341.6,2,   -999.0,9,  -999.00,   7.4600,2,    25.00,-999.000,9,-999.0000,9, -999.00,9, -999.00,9,  -999.0,9,-999.000,9,-999.000,-999.000,9,-999.000,9,   38.05,2,   40.89,2, -999.00,1, -999.00,9, -999.00,9,-999.000,-999.0000,9,-999.0000,9,-999.0000,9,-999.0000,9,-999.0000,9,-999.0000,9,-999.0000,9,-999.0000,9,-999.0000,9,   4.7429,     -999.0,9,     -999.0,9,     -999.0,9,     -999.0,9,     -999.0,9,     -999.0,9,     -999.0,9,-999.0000, -999.00
33RO20071215,        P18,      55,          1,         16,      12051,2,20080102,       0909,    -5.0125,  -110.0005,       3581,  1032.7,   4.3737,  34.5502,2,  34.5519,2,     95.2,2,    95.3,2,   82.80,2,   39.20,2,    0.00,2,    2.77,2,   0.004,2,   0.003,2,   0.0000,2,  2289.9,2,  2351.0,2,   1455.0,2,    20.00,   7.4779,2,    25.00,-999.000,9,-999.0000,9, -999.00,9, -999.00,9,  -999.0,9,-999.000,9,-999.000,-999.000,9,-999.000,9,   37.55,2,   40.61,2, -999.00,9, -999.00,9, -999.00,9,-999.000,-999.0000,9,-999.0000,9,-999.0000,9,-999.0000,9,-999.0000,9,-999.0000,9,-999.0000,9,-999.0000,9,-999.0000,9,   4.2922,     -999.0,9,     -999.0,9,     -999.0,9,     -999.0,1,     -999.0,9,     -999.0,9,     -999.0,9,-999.0000, -999.00
33RO20071215,        P18,      55,          1,         15,      12014,2,20080102,       0909,    -5.0125,  -110.0005,       3581,  1133.3,   3.9707,  34.5615,2,  34.5618,2,     98.7,2,    98.2,2,   91.60,2,   39.20,2,    0.00,2,    2.77,2,   0.002,2,   0.001,2,   0.0000,2,  2298.1,2,  2359.5,2,   -999.0,9,  -999.00,   7.4733,2,    25.00,-999.000,9,-999.0000,9, -999.00,9, -999.00,9,  -999.0,9,-999.000,9,-999.000,-999.000,9,-999.000,9,   37.56,2,   40.27,2, -999.00,9, -999.00,9, -999.00,9,-999.000,-999.0000,9,-999.0000,9,-999.0000,9,-999.0000,9,-999.0000,9,-999.0000,9,-999.0000,9,-999.0000,9,-999.0000,9,   3.8840,     -999.0,9,     -999.0,9,     -999.0,9,     -999.0,9,     -999.0,9,     -999.0,9,     -999.0,9,-999.0000, -999.00
33RO20071215,        P18,      55,          1,         14,      12013,2,20080102,       0909,    -5.0125,  -110.0005,       3581,  1233.8,   3.6096,  34.5748,2,  34.5751,2,    102.3,2,   102.0,2,  100.40,2,   39.10,2,    0.00,2,    2.77,2,   0.001,2,   0.001,2,   0.0000,2,  2305.2,2,  2370.4,2,   -999.0,9,  -999.00,   7.4675,2,    25.00,-999.000,9,-999.0000,9, -999.00,9, -999.00,9,  -999.0,9,-999.000,9,-999.000,-999.000,9,-999.000,9,   37.60,2,   40.54,2, -999.00,9, -999.00,9, -999.00,9,-999.000,-999.0000,9,-999.0000,9,-999.0000,9,-999.0000,9,-999.0000,9,-999.0000,9,-999.0000,9,-999.0000,9,-999.0000,9,   3.5177,     -999.0,9,     -999.0,9,     -999.0,9,     -999.0,9,     -999.0,9,     -999.0,9,     -999.0,9,-999.0000, -999.00
33RO20071215,        P18,      55,          1,         13,      12012,2,20080102,       0909,    -5.0125,  -110.0005,       3581,  1333.0,   3.3793,  34.5849,2,  34.5857,2,    101.7,2,   101.8,2,  107.40,2,   39.10,2,    0.00,2,    2.78,2,   0.000,2,  -0.001,2,   0.0000,2,  2311.9,2,  2376.5,2,   1433.1,6,    20.00,   7.4725,2,    25.00,-999.000,9,-999.0000,9, -999.00,9, -999.00,9,  -999.0,9,-999.000,9,-999.000,-999.000,9,-999.000,9,   37.23,2,   40.33,2, -999.00,9, -999.00,9, -999.00,9,-999.000,-999.0000,9,-999.0000,9,-999.0000,9,-999.0000,9,-999.0000,9,-999.0000,9,-999.0000,9,-999.0000,9,-999.0000,9,   3.2812,     -999.0,9,     -999.0,9,     -999.0,9,     -999.0,9,     -999.0,9,     -999.0,9,     -999.0,9,-999.0000, -999.00
33RO20071215,        P18,      55,          1,         12,      12031,2,20080102,       0909,    -5.0125,  -110.0005,       3581,  1432.6,   3.1659,  34.5971,2,  34.5970,2,     95.6,2,    96.2,2,  115.00,2,   40.00,2,    0.00,2,    2.84,2,  -0.001,2,   0.000,2,   0.0000,2,  2321.9,2,  2385.6,2,   -999.0,9,  -999.00,   7.4892,2,    25.00,-999.000,9,-999.0000,9, -999.00,9, -999.00,9,  -999.0,9,-999.000,9,-999.000,-999.000,9,-999.000,9,   37.44,2,   41.11,2, -999.00,9, -999.00,9, -999.00,9,-999.000,-999.0000,9,-999.0000,9,-999.0000,9,-999.0000,9,-999.0000,9,-999.0000,9,-999.0000,9,-999.0000,9,-999.0000,9,   3.0618,     -999.0,9,     -999.0,9,     -999.0,9,     -999.0,1,     -999.0,9,     -999.0,9,     -999.0,9,-999.0000, -999.00