BOTTLE,20220818CCHSIOAMB
EXPOCODE,SECT_ID,STNNBR,CASTNO,SAMPNO,BTLNBR,BTLNBR_FLAG_W,DATE,TIME,LATITUDE,LONGITUDE,DEPTH,CTDPRS,CTDTMP,CTDSAL,CTDSAL_FLAG_W,SALNTY,SALNTY_FLAG_W,CTDOXY,CTDOXY_FLAG_W,OXYGEN,OXYGEN_FLAG_W,SILCAT,SILCAT_FLAG_W,NITRAT,NITRAT_FLAG_W,NITRIT,NITRIT_FLAG_W,PHSPHT,PHSPHT_FLAG_W,CFC-11,CFC-11_FLAG_W,CFC-12,CFC-12_FLAG_W,SF6,SF6_FLAG_W,TCARBN,TCARBN_FLAG_W,ALKALI,ALKALI_FLAG_W,FCO2,FCO2_FLAG_W,FCO2TMP,PH_SWS,PH_SWS_FLAG_W,PH_TMP,TRITUM,TRITUM_FLAG_W,HELIUM,HELIUM_FLAG_W,DELHE3,DELHE3_FLAG_W,DELC13,DELC13_FLAG_W,DELC14,DELC14_FLAG_W,NEON,NEON_FLAG_W,NEONER,CCL4,CCL4_FLAG_W,POC,POC_FLAG_W,DOC,DOC_FLAG_W,TDN,TDN_FLAG_W,DON,DON_FLAG_W,CHLORA,CHLORA_FLAG_W,ARGON,ARGON_FLAG_W,TRITER,CDOM325,CDOM325_FLAG_W,CDOM340,CDOM340_FLAG_W,CDOM380,CDOM380_FLAG_W,CDOM412,CDOM412_FLAG_W,CDOM443,CDOM443_FLAG_W,CDOM490,CDOM490_FLAG_W,CDOM555,CDOM555_FLAG_W,CDOMSL,CDOMSL_FLAG_W,CDOMSN,CDOMSN_FLAG_W,THETA,D18O_NO3,D18O_NO3_FLAG_W,CDOM2C,CDOM2C_FLAG_W,CDOM3C,CDOM3C_FLAG_W,LAB_DEN,LAB_DEN_FLAG_W,DELSI30,DELSI30_FLAG_W,N2,N2_FLAG_W,D15N_NO3,D15N_NO3_FLAG_W,HELIER,DELHER
,,,,,,,,,,,METERS,DBAR,ITS-90,PSS-78,,PSS-78,,UMOL/KG,,UMOL/KG,,UMOL/KG,,UMOL/KG,,UMOL/KG,,UMOL/KG,,PMOL/KG,,PMOL/KG,,FMOL/KG,,UMOL/KG,,UMOL/KG,,UATM,,DEG C,,,DEG C,TU,,NMOL/KG,,PERCNT,,/MILLE,,/MILLE,,NMOL/KG,,NMOL/KG,PMOL/KG,,UG/KG,,UMOL/KG,,UMOL/KG,,UMOL/KG,,UG/KG,,UMOL/KG,,TU,1/M,,1/M,,1/M,,1/M,,1/M,,1/M,,1/M,,1/NM,,1/NM,,DEG C,/MILLE,,,,,,,,/MILLE,,UMOL/KG,,/MILLE,,NMOL/KG,PERCNT
33RO20071215,        P18,     114,          1,         36,      12017,2,20080127,       0525,   -37.4177,  -102.9993,       3952,     5.1,  20.2707,  34.1486,2,  34.1483,2,    232.2,2,   231.7,2,    0.00,2,    4.50,2,    0.11,2,    0.39,2,-999.000,9,-999.000,9,-999.0000,9,  2029.0,6,  2298.9,4,   -999.0,9,  -999.00,   7.9475,2,    25.00,-999.000,9,-999.0000,9, -999.00,9, -999.00,9,  -999.0,9,-999.000,9,-999.000,-999.000,9,-999.000,9,   61.02,2,    9.18,2, -999.00,9, -999.00,9, -999.00,9,-999.000,-999.0000,9,-999.0000,9,-999.0000,9,-999.0000,9,-999.0000,9,-999.0000,9,-999.0000,9,-999.0000,9,-999.0000,9,  20.2698,     -999.0,9,     -999.0,9,     -999.0,9,     -999.0,9,     -999.0,9,     -999.0,9,     -999.0,9,-999.0000, -999.00
33RO20071215,        P18,     114,          1,         35,      12029,2,20080127,       0525,   -37.4177,  -102.9993,       3952,     9.4,  20.2685,  34.1484,2,  34.1496,2,    232.3,2,   231.8,2,    0.10,2,    4.50,2,    0.11,2,    0.39,2,   2.313,2,   1.406,2,   1.2901,2,  2029.6,2,  2299.1,4,   -999.0,9,  -999.00,   7.8935,2,    25.00,-999.000,9,-999.0000,9, -999.00,9,    1.75,2,  -999.0,9,-999.000,9,-999.000,-999.000,9,-999.000,9,   61.39,2,    9.17,2, -999.00,9, -999.00,9, -999.00,1,-999.000,-999.0000,9,-999.0000,9,-999.0000,9,-999.0000,9,-999.0000,9,-999.0000,9,-999.0000,9,-999.0000,9,-999.0000,9,  20.2668,     -999.0,1,     -999.0,9,     -999.0,9,     -999.0,9,     -999.0,1,     -999.0,1,     -999.0,9,-999.0000, -999.00
33RO20071215,        P18,     114,          1,         34,      12049,2,20080127,       0525,   -37.4177,  -102.9993,       3952,    20.1,  20.2148,  34.1484,2,  34.1506,2,    233.2,2,   233.3,2,    0.10,2,    4.50,2,    0.11,2,    0.39,2,-999.000,9,-999.000,9,-999.0000,9,  2028.7,2,  2302.2,4,   -999.0,9,  -999.00,   7.9447,2,    25.00,-999.000,9,-999.0000,9, -999.00,9, -999.00,9,  -999.0,9,-999.000,9,-999.000,-999.000,9,-999.000,9,   61.40,2,    8.49,2, -999.00,9, -999.00,9, -999.00,9,-999.000,-999.0000,9,-999.0000,9,-999.0000,9,-999.0000,9,-999.0000,9,-999.0000,9,-999.0000,9,-999.0000,9,-999.0000,9,  20.2111,     -999.0,9,     -999.0,9,     -999.0,9,     -999.0,9,     -999.0,9,     -999.0,9,     -999.0,9,-999.0000, -999.00
33RO20071215,        P18,     114,          1,         33,      12027,2,20080127,       0525,   -37.4177,  -102.9993,       3952,    42.2,  15.6665,  34.1298,2,  34.1399,2,    270.4,2,   269.7,2,    0.30,2,    4.40,2,    0.05,2,    0.39,2,   2.998,2,   1.747,2,   1.3634,2,  2035.2,2,  2295.6,4,   -999.0,9,  -999.00,   7.9278,2,    25.00,-999.000,9,-999.0000,9, -999.00,9, -999.00,9,  -999.0,9,-999.000,9,-999.000,-999.000,9,-999.000,9,   61.42,2,    8.74,2, -999.00,9, -999.00,9, -999.00,9,-999.000,-999.0000,9,-999.0000,9,-999.0000,9,-999.0000,9,-999.0000,9,-999.0000,9,-999.0000,9,-999.0000,9,-999.0000,9,  15.6600,     -999.0,9,     -999.0,9,     -999.0,9,     -999.0,9,     -999.0,9,     -999.0,9,     -999.0,9,-999.0000, -999.00
33RO20071215,        P18,     114,          1,         32,      12023,2,20080127,       0525,   -37.4177,  -102.9993,       3952,    66.8,  14.3580,  34.2771,2,  34.2681,2,    272.4,2,   266.7,2,    0.20,2,    3.40,2,    0.08,2,    0.33,2,-999.000,9,-999.000,9,-999.0000,9,  2038.6,2,  2300.5,4,   -999.0,9,  -999.00,   7.9207,2,    25.00,-999.000,9,-999.0000,9, -999.00,9, -999.00,9,  -999.0,9,-999.000,9,-999.000,-999.000,9,-999.000,9,   59.75,2,    7.26,2, -999.00,9, -999.00,9, -999.00,9,-999.000,-999.0000,9,-999.0000,9,-999.0000,9,-999.0000,9,-999.0000,9,-999.0000,9,-999.0000,9,-999.0000,9,-999.0000,9,  14.3482,     -999.0,9,     -999.0,9,     -999.0,9,     -999.0,9,     -999.0,9,     -999.0,9,     -999.0,9,-999.0000, -999.00
33RO20071215,        P18,     114,          1,         31,      12037,2,20080127,       0525,   -37.4177,  -102.9993,       3952,    92.2,  13.1727,  34.1863,2,  34.1875,2,    264.1,2,   262.9,2,    0.40,2,    5.60,2,    0.15,2,    0.46,2,   3.170,2,   1.844,2,   1.4956,2,  2047.6,2,  2410.5,4,   -999.0,9,  -999.00,   7.8974,2,    25.00,-999.000,9,-999.0000,9, -999.00,9, -999.00,9,  -999.0,9,-999.000,9,-999.000,-999.000,9,-999.000,9,   57.79,2,    9.34,2, -999.00,9, -999.00,9, -999.00,9,-999.000,-999.0000,9,-999.0000,9,-999.0000,9,-999.0000,9,-999.0000,9,-999.0000,9,-999.0000,9,-999.0000,9,-999.0000,9,  13.1601,     -999.0,9,     -999.0,9,     -999.0,9,     -999.0,9,     -999.0,1,     -999.0,9,     -999.0,9,-999.0000, -999.00
33RO20071215,        P18,     114,          1,         30,      12036,2,20080127,       0525,   -37.4177,  -102.9993,       3952,   116.7,  12.4297,  34.1382,2,  34.1364,2,    264.1,2,   265.0,2,    0.60,2,    7.40,2,    0.21,2,    0.58,2,-999.000,9,-999.000,9,-999.0000,9,  2056.3,2,  2294.5,4,   -999.0,9,  -999.00,   7.8773,2,    25.00,-999.000,9,-999.0000,9, -999.00,9, -999.00,9,  -999.0,9,-999.000,9,-999.000,-999.000,9,-999.000,9,   54.37,2,   10.70,2, -999.00,9, -999.00,9, -999.00,9,-999.000,-999.0000,9,-999.0000,9,-999.0000,9,-999.0000,9,-999.0000,9,-999.0000,9,-999.0000,9,-999.0000,9,-999.0000,9,  12.4143,     -999.0,9,     -999.0,9,     -999.0,9,     -999.0,9,     -999.0,9,     -999.0,9,     -999.0,9,-999.0000, -999.00
33RO20071215,        P18,     114,          1,         29,      12044,2,20080127,       0525,   -37.4177,  -102.9993,       3952,   142.6,  11.4530,  34.1505,2,  34.1502,2,    256.9,2,   256.4,2,    0.70,2,    9.40,2,    0.60,2,    0.73,2,   3.437,2,   1.971,2,   1.6198,2,  2070.3,2,  2293.8,4,   -999.0,9,  -999.00,   7.8336,2,    25.00,-999.000,9,-999.0000,9, -999.00,9, -999.00,9,  -999.0,9,-999.000,9,-999.000,-999.000,9,-999.000,9,   52.60,2,   12.31,2, -999.00,9, -999.00,9, -999.00,9,-999.000,-999.0000,9,-999.0000,9,-999.0000,9,-999.0000,9,-999.0000,9,-999.0000,9,-999.0000,9,-999.0000,9,-999.0000,9,  11.4351,     -999.0,9,     -999.0,9,     -999.0,9,     -999.0,9,     -999.0,9,     -999.0,9,     -999.0,9,-999.0000, -999.00
33RO20071215,        P18,     114,          1,         28,      12057,2,20080127,       0525,   -37.4177,  -102.9993,       3952,   166.9,  10.6866,  34.1744,2,  34.1869,2,    253.2,2,   250.0,2,    0.90,2,   12.00,2,    0.32,2,    0.86,2,-999.000,9,-999.000,9,-999.0000,9,  2083.8,2,  2296.5,4,   -999.0,9,  -999.00,   7.8176,2,    25.00,-999.000,9,-999.0000,9, -999.00,9, -999.00,9,  -999.0,9,-999.000,9,-999.000,-999.000,9,-999.000,9,   49.24,2,   14.47,2, -999.00,9, -999.00,9, -999.00,9,-999.000,-999.0000,9,-999.0000,9,-999.0000,9,-999.0000,9,-999.0000,9,-999.0000,9,-999.0000,9,-999.0000,9,-999.0000,9,  10.6667,     -999.0,9,     -999.0,9,     -999.0,9,     -999.0,9,     -999.0,9,     -999.0,9,     -999.0,9,-999.0000, -999.00
33RO20071215,        P18,     114,          1,         27,      12026,2,20080127,       0525,   -37.4177,  -102.9993,       3952,   192.4,  10.3835,  34.2421,2,  34.2304,2,    242.2,2,   243.1,2,    1.30,2,   13.80,2,    0.03,2,    0.95,2,   3.635,2,   2.038,2,   1.4247,2,  2095.6,2,  2282.3,2,   -999.0,9,  -999.00,   7.8047,2,    25.00,-999.000,9,-999.0000,9, -999.00,9, -999.00,9,  -999.0,9,-999.000,9,-999.000,-999.000,9,-999.000,9,   48.10,2,   16.50,2, -999.00,9, -999.00,9, -999.00,9,-999.000,-999.0000,9,-999.0000,9,-999.0000,9,-999.0000,9,-999.0000,9,-999.0000,9,-999.0000,9,-999.0000,9,-999.0000,9,  10.3609,     -999.0,9,     -999.0,9,     -999.0,9,     -999.0,9,     -999.0,1,     -999.0,9,     -999.0,9,-999.0000, -999.00
33RO20071215,        P18,     114,          1,         26,      12030,2,20080127,       0525,   -37.4177,  -102.9993,       3952,   232.9,   8.8294,  34.2457,2,  34.2470,2,    238.9,2,   239.5,2,    2.40,2,   17.70,2,    0.01,2,    1.19,2,-999.000,9,-999.000,9,-999.0000,9,  2114.1,2,  2296.8,4,   -999.0,9,  -999.00,   7.7600,2,    25.00,-999.000,9,-999.0000,9, -999.00,9, -999.00,9,  -999.0,9,-999.000,9,-999.000,-999.000,9,-999.000,9,   46.78,2,   20.40,2, -999.00,9, -999.00,9, -999.00,9,-999.000,-999.0000,9,-999.0000,9,-999.0000,9,-999.0000,9,-999.0000,9,-999.0000,9,-999.0000,9,-999.0000,9,-999.0000,9,   8.8046,     -999.0,9,     -999.0,9,     -999.0,9,     -999.0,9,     -999.0,9,     -999.0,9,     -999.0,9,-999.0000, -999.00
33RO20071215,        P18,     114,          1,         25,      12024,2,20080127,       0525,   -37.4177,  -102.9993,       3952,   283.1,   7.8277,  34.2781,2,  34.2777,2,    237.6,2,   238.7,2,    3.90,2,   20.50,2,    0.00,2,    1.36,2,   3.948,6,   2.076,6,   1.1038,6,  2129.6,2,  2299.6,4,   -999.0,9,  -999.00,   7.7245,2,    25.00,-999.000,9,-999.0000,9, -999.00,9, -999.00,9,  -999.0,9,-999.000,9,-999.000,-999.000,9,-999.000,9,   45.66,2,   22.74,2, -999.00,9, -999.00,9, -999.00,9,-999.000,-999.0000,9,-999.0000,9,-999.0000,9,-999.0000,9,-999.0000,9,-999.0000,9,-999.0000,9,-999.0000,9,-999.0000,9,   7.7996,     -999.0,9,     -999.0,9,     -999.0,9,     -999.0,9,     -999.0,9,     -999.0,9,     -999.0,9,-999.0000, -999.00
33RO20071215,        P18,     114,          1,         24,      12019,2,20080127,       0525,   -37.4177,  -102.9993,       3952,   332.9,   7.0947,  34.2896,2,  34.2878,2,    243.1,2,   242.1,2,    5.20,2,   22.00,2,    0.00,2,    1.45,2,-999.000,9,-999.000,9,-999.0000,9,  2135.5,2,  2300.6,4,   -999.0,9,  -999.00,   7.7172,2,    25.00,-999.000,9,-999.0000,9, -999.00,9, -999.00,9,  -999.0,9,-999.000,9,-999.000,-999.000,9,-999.000,9,   43.92,2,   23.42,2, -999.00,9, -999.00,9, -999.00,9,-999.000,-999.0000,9,-999.0000,9,-999.0000,9,-999.0000,9,-999.0000,9,-999.0000,9,-999.0000,9,-999.0000,9,-999.0000,9,   7.0633,     -999.0,9,     -999.0,9,     -999.0,9,     -999.0,9,     -999.0,9,     -999.0,9,     -999.0,9,-999.0000, -999.00
33RO20071215,        P18,     114,          1,         23,      12022,2,20080127,       0525,   -37.4177,  -102.9993,       3952,   382.6,   6.8580,  34.3156,2,  34.3156,2,    246.2,2,   245.7,2,    6.20,2,   22.30,2,    0.00,2,    1.47,2,   3.939,2,   2.021,2,   1.0258,2,  2137.4,2,  2400.2,4,   -999.0,9,  -999.00,   7.7175,2,    25.00,-999.000,9,-999.0000,9, -999.00,9, -999.00,9,  -999.0,9,-999.000,9,-999.000,-999.000,9,-999.000,9,   42.42,2,   23.80,2, -999.00,9, -999.00,9, -999.00,9,-999.000,-999.0000,9,-999.0000,9,-999.0000,9,-999.0000,9,-999.0000,9,-999.0000,9,-999.0000,9,-999.0000,9,-999.0000,9,   6.8224,     -999.0,9,     -999.0,9,     -999.0,9,     -999.0,9,     -999.0,1,     -999.0,9,     -999.0,9,-999.0000, -999.00
33RO20071215,        P18,     114,          1,         22,      12015,2,20080127,       0525,   -37.4177,  -102.9993,       3952,   466.7,   6.3795,  34.3107,2,  34.3110,2,    251.7,2,   252.2,2,    7.60,2,   23.10,2,    0.00,2,    1.53,2,-999.000,9,-999.000,9,-999.0000,9,  -999.0,9,  -999.0,9,   -999.0,9,  -999.00,-999.0000,9,  -999.00,-999.000,9,-999.0000,9, -999.00,9, -999.00,9,  -999.0,9,-999.000,9,-999.000,-999.000,9,-999.000,9,   41.75,2,   24.68,2, -999.00,9, -999.00,9, -999.00,9,-999.000,-999.0000,9,-999.0000,9,-999.0000,9,-999.0000,9,-999.0000,9,-999.0000,9,-999.0000,9,-999.0000,9,-999.0000,9,   6.3376,     -999.0,9,     -999.0,9,     -999.0,9,     -999.0,9,     -999.0,9,     -999.0,9,     -999.0,9,-999.0000, -999.00
33RO20071215,        P18,     114,          1,         21,      12020,2,20080127,       0525,   -37.4177,  -102.9993,       3952,   566.8,   6.0475,  34.2958,2,  34.2958,2,    251.3,2,   251.2,2,    8.70,2,   23.90,2,    0.00,2,    1.59,2,   3.582,2,   1.783,2,   0.8298,2,  2141.3,2,  2303.8,4,   -999.0,9,  -999.00,   7.7201,2,    25.00,-999.000,9,-999.0000,9, -999.00,9, -999.00,9,  -999.0,9,-999.000,9,-999.000,-999.000,9,-999.000,9,   40.99,2,   25.19,2, -999.00,9, -999.00,9, -999.00,9,-999.000,-999.0000,9,-999.0000,9,-999.0000,9,-999.0000,9,-999.0000,9,-999.0000,9,-999.0000,9,-999.0000,9,-999.0000,9,   5.9977,     -999.0,9,     -999.0,9,     -999.0,9,     -999.0,9,     -999.0,9,     -999.0,9,     -999.0,9,-999.0000, -999.00
33RO20071215,        P18,     114,          1,         20,      12055,2,20080127,       0525,   -37.4177,  -102.9993,       3952,   666.5,   5.7372,  34.2803,2,  34.2803,2,    249.0,2,   247.7,2,   10.40,2,   25.00,2,    0.00,2,    1.66,2,-999.000,9,-999.000,9,-999.0000,9,  -999.0,9,  -999.0,9,   -999.0,9,  -999.00,-999.0000,9,  -999.00,-999.000,9,-999.0000,9, -999.00,9, -999.00,9,  -999.0,9,-999.000,9,-999.000,-999.000,9,-999.000,9,   40.28,2,   26.27,2, -999.00,9, -999.00,9, -999.00,9,-999.000,-999.0000,9,-999.0000,9,-999.0000,9,-999.0000,9,-999.0000,9,-999.0000,9,-999.0000,9,-999.0000,9,-999.0000,9,   5.6798,     -999.0,9,     -999.0,9,     -999.0,9,     -999.0,9,     -999.0,1,     -999.0,9,     -999.0,9,-999.0000, -999.00
33RO20071215,        P18,     114,          1,         19,      12018,2,20080127,       0525,   -37.4177,  -102.9993,       3952,   767.1,   5.2762,  34.2663,2,  34.2664,2,    237.8,2,   237.6,2,   13.90,2,   26.90,2,    0.00,2,    1.80,2,-999.000,9,-999.000,9,-999.0000,9,  2153.6,2,  2307.1,4,   -999.0,9,  -999.00,   7.6860,2,    25.00,-999.000,9,-999.0000,9, -999.00,9, -999.00,9,  -999.0,9,-999.000,9,-999.000,-999.000,9,-999.000,9,   39.73,2,   28.45,2, -999.00,9, -999.00,9, -999.00,9,-999.000,-999.0000,9,-999.0000,9,-999.0000,9,-999.0000,9,-999.0000,9,-999.0000,9,-999.0000,9,-999.0000,9,-999.0000,9,   5.2123,     -999.0,9,     -999.0,9,     -999.0,9,     -999.0,9,     -999.0,9,     -999.0,9,     -999.0,9,-999.0000, -999.00
33RO20071215,        P18,     114,          1,         18,      12025,2,20080127,       0525,   -37.4177,  -102.9993,       3952,   866.6,   4.8378,  34.2719,2,  34.2710,2,    221.3,2,   222.0,2,   19.60,2,   29.10,2,    0.00,2,    1.97,2,-999.000,9,-999.000,9,-999.0000,9,  -999.0,9,  -999.0,9,   -999.0,9,  -999.00,-999.0000,9,  -999.00,-999.000,9,-999.0000,9, -999.00,9, -999.00,9,  -999.0,9,-999.000,9,-999.000,-999.000,9,-999.000,9,   39.68,2,   30.15,2, -999.00,9, -999.00,9, -999.00,9,-999.000,-999.0000,9,-999.0000,9,-999.0000,9,-999.0000,9,-999.0000,9,-999.0000,9,-999.0000,9,-999.0000,9,-999.0000,9,   4.7679,     -999.0,9,     -999.0,9,     -999.0,9,     -999.0,9,     -999.0,1,     -999.0,9,     -999.0,9,-999.0000, -999.00
33RO20071215,        P18,     114,          1,         17,      12016,2,20080127,       0525,   -37.4177,  -102.9993,       3952,   966.5,   4.3827,  34.2899,2,  34.2898,2,    205.4,2,   204.2,2,   28.20,2,   31.40,2,    0.00,2,    2.15,2,   0.820,2,   0.428,2,   0.1751,2,  2187.9,2,  2316.9,4,   -999.0,9,  -999.00,   7.6598,2,    25.00,-999.000,9,-999.0000,9, -999.00,9, -999.00,9,  -999.0,9,-999.000,9,-999.000,-999.000,9,-999.000,9,   39.65,2,   32.43,2, -999.00,9, -999.00,9, -999.00,9,-999.000,-999.0000,9,-999.0000,9,-999.0000,9,-999.0000,9,-999.0000,9,-999.0000,9,-999.0000,9,-999.0000,9,-999.0000,9,   4.3074,     -999.0,9,     -999.0,9,     -999.0,9,     -999.0,9,     -999.0,9,     -999.0,9,     -999.0,9,-999.0000, -999.00
33RO20071215,        P18,     114,          1,         16,      12051,2,20080127,       0525,   -37.4177,  -102.9993,       3952,  1067.9,   3.9523,  34.3273,2,  34.3257,2,    187.5,2,   186.5,2,   37.80,2,   33.40,2,    0.00,2,    2.30,2,-999.000,9,-999.000,9,-999.0000,9,  -999.0,9,  -999.0,9,   -999.0,9,  -999.00,-999.0000,9,  -999.00,-999.000,9,-999.0000,9, -999.00,9, -999.00,9,  -999.0,9,-999.000,9,-999.000,-999.000,9,-999.000,9,   39.57,2,   34.72,2, -999.00,9, -999.00,9, -999.00,9,-999.000,-999.0000,9,-999.0000,9,-999.0000,9,-999.0000,9,-999.0000,9,-999.0000,9,-999.0000,9,-999.0000,9,-999.0000,9,   3.8716,     -999.0,9,     -999.0,9,     -999.0,9,     -999.0,9,     -999.0,1,     -999.0,9,     -999.0,9,-999.0000, -999.00
33RO20071215,        P18,     114,          1,         15,      12014,2,20080127,       0525,   -37.4177,  -102.9993,       3952,  1168.1,   3.5721,  34.3875,2,  34.3871,2,    163.9,2,   162.6,2,   52.30,2,   35.60,2,    0.00,2,    2.48,2,   0.100,2,   0.057,2,   0.0546,2,  2234.5,2,  2328.9,4,   -999.0,9,  -999.00,   7.5616,2,    25.00,-999.000,9,-999.0000,9, -999.00,9, -999.00,9,  -999.0,9,-999.000,9,-999.000,-999.000,9,-999.000,9,   38.58,2,   37.24,2, -999.00,9, -999.00,9, -999.00,9,-999.000,-999.0000,9,-999.0000,9,-999.0000,9,-999.0000,9,-999.0000,9,-999.0000,9,-999.0000,9,-999.0000,9,-999.0000,9,   3.4864,     -999.0,9,     -999.0,9,     -999.0,9,     -999.0,9,     -999.0,1,     -999.0,9,     -999.0,9,-999.0000, -999.00
33RO20071215,        P18,     114,          1,         14,      12013,2,20080127,       0525,   -37.4177,  -102.9993,       3952,  1333.2,   3.2525,  34.4759,2,  34.4725,2,    136.9,2,   136.2,2,   71.40,2,   37.50,2,    0.00,2,    2.65,2,-999.000,9,-999.000,9,-999.0000,9,  -999.0,9,  -999.0,9,   -999.0,9,  -999.00,-999.0000,9,  -999.00,-999.000,9,-999.0000,9, -999.00,9, -999.00,9,  -999.0,9,-999.000,9,-999.000,-999.000,9,-999.000,9,   37.96,3,   38.72,3, -999.00,9, -999.00,9, -999.00,9,-999.000,-999.0000,9,-999.0000,9,-999.0000,9,-999.0000,9,-999.0000,9,-999.0000,9,-999.0000,9,-999.0000,9,-999.0000,9,   3.1560,     -999.0,9,     -999.0,9,     -999.0,9,     -999.0,9,     -999.0,1,     -999.0,9,     -999.0,9,-999.0000, -999.00
33RO20071215,        P18,     114,          1,         13,      12012,2,20080127,       0525,   -37.4177,  -102.9993,       3952,  1533.1,   2.9161,  34.5436,2,  34.5427,2,    131.5,2,   131.3,2,   88.00,2,   37.60,2,    0.00,2,    2.66,2,   0.014,2,   0.007,2,   0.0000,2,  2285.5,6,  2385.0,4,   -999.0,9,  -999.00,   7.5237,2,    25.00,-999.000,9,-999.0000,9, -999.00,9, -999.00,9,  -999.0,9,-999.000,9,-999.000,-999.000,9,-999.000,9,   37.78,2,   38.90,2, -999.00,9, -999.00,9, -999.00,9,-999.000,-999.0000,9,-999.0000,9,-999.0000,9,-999.0000,9,-999.0000,9,-999.0000,9,-999.0000,9,-999.0000,9,-999.0000,9,   2.8065,     -999.0,9,     -999.0,9,     -999.0,9,     -999.0,9,     -999.0,1,     -999.0,9,     -999.0,9,-999.0000, -999.00
33RO20071215,        P18,     114,          1,         12,      12031,2,20080127,       0525,   -37.4177,  -102.9993,       3952,  1733.1,   2.5788,  34.5835,2,  34.5822,2,    142.9,2,   143.3,2,   95.30,2,   36.60,2,    0.00,2,    2.57,2,-999.000,9,-999.000,9,-999.0000,9,  -999.0,9,  -999.0,9,   -999.0,9,  -999.00,-999.0000,9,  -999.00,-999.000,9,-999.0000,9, -999.00,9, -999.00,9,  -999.0,9,-999.000,9,-999.000,-999.000,9,-999.000,9,   37.66,2,   37.62,2, -999.00,9, -999.00,9, -999.00,9,-999.000,-999.0000,9,-999.0000,9,-999.0000,9,-999.0000,9,-999.0000,9,-999.0000,9,-999.0000,9,-999.0000,9,-999.0000,9,   2.4566,     -999.0,9,     -999.0,9,     -999.0,9,     -999.0,9,     -999.0,9,     -999.0,9,     -999.0,9,-999.0000, -999.00