BOTTLE,20220818CCHSIOAMB
EXPOCODE,SECT_ID,STNNBR,CASTNO,SAMPNO,BTLNBR,BTLNBR_FLAG_W,DATE,TIME,LATITUDE,LONGITUDE,DEPTH,CTDPRS,CTDTMP,CTDSAL,CTDSAL_FLAG_W,SALNTY,SALNTY_FLAG_W,CTDOXY,CTDOXY_FLAG_W,OXYGEN,OXYGEN_FLAG_W,SILCAT,SILCAT_FLAG_W,NITRAT,NITRAT_FLAG_W,NITRIT,NITRIT_FLAG_W,PHSPHT,PHSPHT_FLAG_W,CFC-11,CFC-11_FLAG_W,CFC-12,CFC-12_FLAG_W,SF6,SF6_FLAG_W,TCARBN,TCARBN_FLAG_W,ALKALI,ALKALI_FLAG_W,FCO2,FCO2_FLAG_W,FCO2TMP,PH_SWS,PH_SWS_FLAG_W,PH_TMP,TRITUM,TRITUM_FLAG_W,HELIUM,HELIUM_FLAG_W,DELHE3,DELHE3_FLAG_W,DELC13,DELC13_FLAG_W,DELC14,DELC14_FLAG_W,NEON,NEON_FLAG_W,NEONER,CCL4,CCL4_FLAG_W,POC,POC_FLAG_W,DOC,DOC_FLAG_W,TDN,TDN_FLAG_W,DON,DON_FLAG_W,CHLORA,CHLORA_FLAG_W,ARGON,ARGON_FLAG_W,TRITER,CDOM325,CDOM325_FLAG_W,CDOM340,CDOM340_FLAG_W,CDOM380,CDOM380_FLAG_W,CDOM412,CDOM412_FLAG_W,CDOM443,CDOM443_FLAG_W,CDOM490,CDOM490_FLAG_W,CDOM555,CDOM555_FLAG_W,CDOMSL,CDOMSL_FLAG_W,CDOMSN,CDOMSN_FLAG_W,THETA,D18O_NO3,D18O_NO3_FLAG_W,CDOM2C,CDOM2C_FLAG_W,CDOM3C,CDOM3C_FLAG_W,LAB_DEN,LAB_DEN_FLAG_W,DELSI30,DELSI30_FLAG_W,N2,N2_FLAG_W,D15N_NO3,D15N_NO3_FLAG_W,HELIER,DELHER
,,,,,,,,,,,METERS,DBAR,ITS-90,PSS-78,,PSS-78,,UMOL/KG,,UMOL/KG,,UMOL/KG,,UMOL/KG,,UMOL/KG,,UMOL/KG,,PMOL/KG,,PMOL/KG,,FMOL/KG,,UMOL/KG,,UMOL/KG,,UATM,,DEG C,,,DEG C,TU,,NMOL/KG,,PERCNT,,/MILLE,,/MILLE,,NMOL/KG,,NMOL/KG,PMOL/KG,,UG/KG,,UMOL/KG,,UMOL/KG,,UMOL/KG,,UG/KG,,UMOL/KG,,TU,1/M,,1/M,,1/M,,1/M,,1/M,,1/M,,1/M,,1/NM,,1/NM,,DEG C,/MILLE,,,,,,,,/MILLE,,UMOL/KG,,/MILLE,,NMOL/KG,PERCNT
33RO20071215,        P18,      65,          1,         36,      12017,2,20080106,       0937,    -9.1660,  -104.1742,       3698,     5.2,  23.0324,  34.9872,2,  34.9872,2,    220.0,2,   219.1,2,    5.20,2,   10.90,2,    0.22,2,    0.78,2,   1.969,2,   1.220,2,   1.0406,2,  2061.6,6,  2307.8,2,    432.3,2,    20.00,   7.9408,2,    25.00,-999.000,9,-999.0000,9, -999.00,9,    1.07,2,  -999.0,1,-999.000,9,-999.000,-999.000,9,-999.000,9,   63.27,2,   15.88,2, -999.00,1, -999.00,9, -999.00,9,-999.000,-999.0000,9,-999.0000,9,-999.0000,9,-999.0000,9,-999.0000,9,-999.0000,9,-999.0000,9,-999.0000,9,-999.0000,9,  23.0313,     -999.0,9,     -999.0,9,     -999.0,9,     -999.0,9,     -999.0,9,     -999.0,9,     -999.0,9,-999.0000, -999.00
33RO20071215,        P18,      65,          1,         35,      12029,2,20080106,       0937,    -9.1660,  -104.1742,       3698,    12.0,  23.0434,  34.9868,2,  34.9874,2,    218.9,2,   219.5,2,    5.20,2,   10.90,2,    0.22,2,    0.78,2,   1.810,6,   1.083,6,   0.7833,6,  2063.0,2,  2306.4,2,   -999.0,9,  -999.00,   7.9310,2,    25.00,-999.000,9,-999.0000,9, -999.00,9, -999.00,9,  -999.0,9,-999.000,9,-999.000,-999.000,9,-999.000,9,   63.03,2,   14.82,2, -999.00,1, -999.00,9, -999.00,9,-999.000,-999.0000,9,-999.0000,9,-999.0000,9,-999.0000,9,-999.0000,9,-999.0000,9,-999.0000,9,-999.0000,9,-999.0000,9,  23.0409,     -999.0,9,     -999.0,9,     -999.0,9,     -999.0,9,     -999.0,9,     -999.0,9,     -999.0,9,-999.0000, -999.00
33RO20071215,        P18,      65,          1,         34,      12049,2,20080106,       0937,    -9.1660,  -104.1742,       3698,    19.4,  23.0477,  34.9865,2,  34.9871,2,    219.2,2,   220.1,2,    5.20,2,   10.90,2,    0.22,2,    0.79,2,   1.970,2,   1.219,2,   1.0781,2,  2062.5,2,  2306.7,2,    434.0,2,    20.00,   7.9363,2,    25.00,-999.000,9,-999.0000,9, -999.00,9, -999.00,9,  -999.0,9,-999.000,9,-999.000,-999.000,9,-999.000,9,   61.96,2,   14.12,2, -999.00,1, -999.00,9, -999.00,9,-999.000,-999.0000,9,-999.0000,9,-999.0000,9,-999.0000,9,-999.0000,9,-999.0000,9,-999.0000,9,-999.0000,9,-999.0000,9,  23.0437,     -999.0,9,     -999.0,9,     -999.0,9,     -999.0,9,     -999.0,9,     -999.0,9,     -999.0,9,-999.0000, -999.00
33RO20071215,        P18,      65,          1,         33,      12027,2,20080106,       0937,    -9.1660,  -104.1742,       3698,    41.0,  23.0444,  34.9891,2,  34.9908,2,    219.4,2,   219.3,2,    5.20,2,   10.90,2,    0.22,2,    0.80,2,   1.975,2,   1.221,2,   1.0760,2,  2062.4,2,  -999.0,5,    433.2,2,    20.00,   7.9353,2,    25.00,-999.000,9,-999.0000,9, -999.00,9, -999.00,9,  -999.0,9,-999.000,9,-999.000,-999.000,9,-999.000,9,   61.87,2,   13.68,2, -999.00,1, -999.00,9, -999.00,9,-999.000,-999.0000,9,-999.0000,9,-999.0000,9,-999.0000,9,-999.0000,9,-999.0000,9,-999.0000,9,-999.0000,9,-999.0000,9,  23.0360,     -999.0,9,     -999.0,9,     -999.0,9,     -999.0,9,     -999.0,9,     -999.0,9,     -999.0,9,-999.0000, -999.00
33RO20071215,        P18,      65,          1,         32,      12023,2,20080106,       0937,    -9.1660,  -104.1742,       3698,    66.6,  22.9768,  35.2604,2,  35.2645,2,    218.7,2,   218.3,2,    3.70,2,   10.10,2,    0.23,2,    0.82,2,   1.971,2,   1.222,2,   1.0908,2,  2069.9,2,  -999.0,5,   -999.0,9,  -999.00,   7.9465,2,    25.00,-999.000,9,-999.0000,9, -999.00,9, -999.00,9,  -999.0,9,-999.000,9,-999.000,-999.000,9,-999.000,9,   61.93,2,   13.02,2, -999.00,1, -999.00,9, -999.00,9,-999.000,-999.0000,9,-999.0000,9,-999.0000,9,-999.0000,9,-999.0000,9,-999.0000,9,-999.0000,9,-999.0000,9,-999.0000,9,  22.9632,     -999.0,9,     -999.0,9,     -999.0,9,     -999.0,9,     -999.0,9,     -999.0,9,     -999.0,9,-999.0000, -999.00
33RO20071215,        P18,      65,          1,         31,      12037,2,20080106,       0937,    -9.1660,  -104.1742,       3698,    91.7,  21.0840,  35.2451,2,  35.2413,2,    188.5,2,   171.8,2,    4.50,2,   12.50,2,    0.79,2,    1.15,2,   2.088,2,   1.267,2,   0.9873,2,  2118.0,2,  2311.7,2,    557.3,2,    20.00,   7.8511,2,    25.00,-999.000,9,-999.0000,9, -999.00,9, -999.00,9,  -999.0,9,-999.000,9,-999.000,-999.000,9,-999.000,9,   57.97,2,   16.01,2, -999.00,1, -999.00,9, -999.00,9,-999.000,-999.0000,9,-999.0000,9,-999.0000,9,-999.0000,9,-999.0000,9,-999.0000,9,-999.0000,9,-999.0000,9,-999.0000,9,  21.0664,     -999.0,9,     -999.0,9,     -999.0,9,     -999.0,9,     -999.0,9,     -999.0,9,     -999.0,9,-999.0000, -999.00
33RO20071215,        P18,      65,          1,         30,      12036,2,20080106,       0937,    -9.1660,  -104.1742,       3698,   117.2,  16.1944,  35.0977,2,  35.0892,2,     62.9,2,    50.0,2,    9.60,2,   22.90,2,    0.77,2,    1.92,2,   1.985,2,   1.163,2,   0.7212,2,  2208.6,2,  2309.9,2,   1080.0,2,    20.00,   7.6126,2,    25.00,-999.000,9,-999.0000,9, -999.00,9, -999.00,9,  -999.0,9,-999.000,9,-999.000,-999.000,9,-999.000,9,   52.69,2,   25.74,2, -999.00,1, -999.00,9, -999.00,9,-999.000,-999.0000,9,-999.0000,9,-999.0000,9,-999.0000,9,-999.0000,9,-999.0000,9,-999.0000,9,-999.0000,9,-999.0000,9,  16.1757,     -999.0,9,     -999.0,9,     -999.0,9,     -999.0,9,     -999.0,9,     -999.0,9,     -999.0,9,-999.0000, -999.00
33RO20071215,        P18,      65,          1,         29,      12044,2,20080106,       0937,    -9.1660,  -104.1742,       3698,   142.0,  14.0919,  34.9278,2,  34.9211,2,     25.7,2,    26.7,2,   14.10,2,   24.90,2,    0.02,2,    2.20,2,   1.968,2,   1.215,2,   1.0104,3,  2230.1,2,  2295.5,2,   -999.0,9,  -999.00,   7.5064,2,    25.00,-999.000,9,-999.0000,9, -999.00,9, -999.00,9,  -999.0,9,-999.000,9,-999.000,-999.000,9,-999.000,9,   48.72,2,   27.53,2, -999.00,1, -999.00,9, -999.00,9,-999.000,-999.0000,9,-999.0000,9,-999.0000,9,-999.0000,9,-999.0000,9,-999.0000,9,-999.0000,9,-999.0000,9,-999.0000,9,  14.0714,     -999.0,9,     -999.0,9,     -999.0,9,     -999.0,9,     -999.0,9,     -999.0,9,     -999.0,9,-999.0000, -999.00
33RO20071215,        P18,      65,          1,         28,      12057,2,20080106,       0937,    -9.1660,  -104.1742,       3698,   166.3,  12.8106,  34.8256,2,  34.8361,2,     24.6,2,    17.7,2,   18.60,2,   26.40,2,    0.01,2,    2.36,2,   1.181,2,   0.670,2,   0.2949,2,  2243.4,2,  2296.6,2,   1507.2,2,    20.00,   7.4672,2,    25.00,-999.000,9,-999.0000,9, -999.00,9, -999.00,9,  -999.0,9,-999.000,9,-999.000,-999.000,9,-999.000,9,   48.19,2,   29.20,2, -999.00,1, -999.00,9, -999.00,9,-999.000,-999.0000,9,-999.0000,9,-999.0000,9,-999.0000,9,-999.0000,9,-999.0000,9,-999.0000,9,-999.0000,9,-999.0000,9,  12.7880,     -999.0,9,     -999.0,9,     -999.0,9,     -999.0,9,     -999.0,9,     -999.0,9,     -999.0,9,-999.0000, -999.00
33RO20071215,        P18,      65,          1,         27,      12026,2,20080106,       0937,    -9.1660,  -104.1742,       3698,   191.4,  12.2692,  34.8505,2,  34.8574,2,     13.0,2,    20.7,2,   21.90,2,   29.50,2,    0.01,2,    2.33,2,   0.752,2,   0.428,2,   0.1461,2,  2242.4,2,  2300.3,2,   -999.0,9,  -999.00,   7.4806,2,    25.00,-999.000,9,-999.0000,9, -999.00,9, -999.00,9,  -999.0,9,-999.000,9,-999.000,-999.000,9,-999.000,9,   46.71,2,   32.24,2, -999.00,1, -999.00,9, -999.00,9,-999.000,-999.0000,9,-999.0000,9,-999.0000,9,-999.0000,9,-999.0000,9,-999.0000,9,-999.0000,9,-999.0000,9,-999.0000,9,  12.2439,     -999.0,9,     -999.0,9,     -999.0,9,     -999.0,9,     -999.0,9,     -999.0,9,     -999.0,9,-999.0000, -999.00
33RO20071215,        P18,      65,          1,         26,      12030,2,20080106,       0937,    -9.1660,  -104.1742,       3698,   232.8,  11.5214,  34.8461,2,  34.8447,2,     11.7,2,    11.4,2,   26.70,2,   32.80,2,    0.01,2,    2.41,2,   0.468,2,   0.273,2,   0.0876,2,  2255.3,2,  2301.5,2,   -999.0,9,  -999.00,   7.4586,2,    25.00,-999.000,9,-999.0000,9, -999.00,9, -999.00,9,  -999.0,9,-999.000,9,-999.000,-999.000,9,-999.000,9,   45.41,2,   35.50,2, -999.00,1, -999.00,9, -999.00,9,-999.000,-999.0000,9,-999.0000,9,-999.0000,9,-999.0000,9,-999.0000,9,-999.0000,9,-999.0000,9,-999.0000,9,-999.0000,9,  11.4919,     -999.0,9,     -999.0,9,     -999.0,9,     -999.0,9,     -999.0,9,     -999.0,9,     -999.0,9,-999.0000, -999.00
33RO20071215,        P18,      65,          1,         25,      12024,2,20080106,       0937,    -9.1660,  -104.1742,       3698,   283.4,  10.9560,  34.8094,2,  34.8080,2,     13.0,2,    12.3,2,   29.10,2,   33.70,2,    0.01,2,    2.47,2,   0.349,2,   0.197,2,   0.0281,2,  2259.7,6,  2302.7,2,   1625.7,2,    20.00,   7.4374,2,    25.00,-999.000,9,-999.0000,9, -999.00,9, -999.00,9,  -999.0,9,-999.000,9,-999.000,-999.000,9,-999.000,9,   44.40,2,   35.78,2, -999.00,1, -999.00,9, -999.00,9,-999.000,-999.0000,9,-999.0000,9,-999.0000,9,-999.0000,9,-999.0000,9,-999.0000,9,-999.0000,9,-999.0000,9,-999.0000,9,  10.9211,     -999.0,9,     -999.0,9,     -999.0,9,     -999.0,9,     -999.0,9,     -999.0,9,     -999.0,9,-999.0000, -999.00
33RO20071215,        P18,      65,          1,         24,      12019,2,20080106,       0937,    -9.1660,  -104.1742,       3698,   332.9,  10.4527,  34.7758,2,  34.7746,2,     12.9,2,    13.4,2,   30.90,2,   34.60,2,    0.00,2,    2.53,2,   0.253,2,   0.145,2,   0.0425,2,  2265.1,2,  2306.0,2,   -999.0,9,  -999.00,   7.4175,2,    25.00,-999.000,9,-999.0000,9, -999.00,9, -999.00,9,  -999.0,9,-999.000,9,-999.000,-999.000,9,-999.000,9,   43.78,2,   35.98,2, -999.00,1, -999.00,9, -999.00,9,-999.000,-999.0000,9,-999.0000,9,-999.0000,9,-999.0000,9,-999.0000,9,-999.0000,9,-999.0000,9,-999.0000,9,-999.0000,9,  10.4128,     -999.0,9,     -999.0,9,     -999.0,9,     -999.0,9,     -999.0,9,     -999.0,9,     -999.0,9,-999.0000, -999.00
33RO20071215,        P18,      65,          1,         23,      12022,2,20080106,       0937,    -9.1660,  -104.1742,       3698,   382.4,   9.7095,  34.7275,2,  34.7260,2,     19.4,2,    17.8,2,   32.80,2,   36.00,2,    0.00,2,    2.59,2,   0.170,2,   0.097,2,   0.0000,2,  2266.0,2,  2284.6,4,   -999.0,9,  -999.00,   7.4287,2,    25.00,-999.000,9,-999.0000,9, -999.00,9, -999.00,9,  -999.0,9,-999.000,9,-999.000,-999.000,9,-999.000,9,   43.08,2,   37.54,2, -999.00,1, -999.00,9, -999.00,9,-999.000,-999.0000,9,-999.0000,9,-999.0000,9,-999.0000,9,-999.0000,9,-999.0000,9,-999.0000,9,-999.0000,9,-999.0000,9,   9.6656,     -999.0,9,     -999.0,9,     -999.0,9,     -999.0,9,     -999.0,9,     -999.0,9,     -999.0,9,-999.0000, -999.00
33RO20071215,        P18,      65,          1,         22,      12015,2,20080106,       0937,    -9.1660,  -104.1742,       3698,   466.6,   8.6667,  34.6624,2,  34.6615,2,     20.3,2,    25.8,2,   35.50,2,   38.20,2,    0.00,2,    2.66,2,   0.071,2,   0.042,2,   0.0353,2,  2268.2,2,  -999.0,5,   1715.2,2,    20.00,   7.4203,2,    25.00,-999.000,9,-999.0000,9, -999.00,9, -999.00,9,  -999.0,9,-999.000,9,-999.000,-999.000,9,-999.000,9,   42.60,2,   39.48,2, -999.00,1, -999.00,9, -999.00,9,-999.000,-999.0000,9,-999.0000,9,-999.0000,9,-999.0000,9,-999.0000,9,-999.0000,9,-999.0000,9,-999.0000,9,-999.0000,9,   8.6166,     -999.0,9,     -999.0,9,     -999.0,9,     -999.0,9,     -999.0,9,     -999.0,9,     -999.0,9,-999.0000, -999.00
33RO20071215,        P18,      65,          1,         21,      12020,2,20080106,       0937,    -9.1660,  -104.1742,       3698,   566.7,   7.4520,  34.5984,2,  34.5978,2,     18.9,2,    20.0,2,   43.60,2,   42.00,2,    0.00,2,    2.91,2,   0.013,2,   0.006,2,   0.0188,2,  2285.6,2,  2296.7,4,   -999.0,9,  -999.00,   7.3821,2,    25.00,-999.000,9,-999.0000,9, -999.00,9, -999.00,9,  -999.0,9,-999.000,9,-999.000,-999.000,9,-999.000,9,   41.82,2,   42.97,2, -999.00,1, -999.00,9, -999.00,9,-999.000,-999.0000,9,-999.0000,9,-999.0000,9,-999.0000,9,-999.0000,9,-999.0000,9,-999.0000,9,-999.0000,9,-999.0000,9,   7.3959,     -999.0,9,     -999.0,9,     -999.0,9,     -999.0,9,     -999.0,9,     -999.0,9,     -999.0,9,-999.0000, -999.00
33RO20071215,        P18,      65,          1,         20,      12055,2,20080106,       0937,    -9.1660,  -104.1742,       3698,   665.9,   6.3833,  34.5519,2,  34.5512,2,     23.9,2,    26.5,2,   51.50,2,   44.00,2,    0.00,2,    3.04,2,   0.000,2,   0.002,2,   0.0000,2,  2294.8,2,  2313.4,2,   -999.0,9,  -999.00,   7.3745,2,    25.00,-999.000,9,-999.0000,9, -999.00,9, -999.00,9,  -999.0,9,-999.000,9,-999.000,-999.000,9,-999.000,9,   40.85,2,   45.45,2, -999.00,1, -999.00,9, -999.00,9,-999.000,-999.0000,9,-999.0000,9,-999.0000,9,-999.0000,9,-999.0000,9,-999.0000,9,-999.0000,9,-999.0000,9,-999.0000,9,   6.3223,     -999.0,9,     -999.0,9,     -999.0,9,     -999.0,9,     -999.0,9,     -999.0,9,     -999.0,9,-999.0000, -999.00
33RO20071215,        P18,      65,          1,         19,      12018,2,20080106,       0937,    -9.1660,  -104.1742,       3698,   766.1,   5.5074,  34.5360,2,  34.5359,2,     44.4,2,    42.3,2,   61.90,2,   43.80,2,    0.00,2,    3.03,2,-999.000,9,-999.000,9,-999.0000,9,  2298.5,2,  2324.9,2,   1848.6,2,    20.00,   7.3951,2,    25.00,-999.000,9,-999.0000,9, -999.00,9, -999.00,9,  -999.0,9,-999.000,9,-999.000,-999.000,9,-999.000,9,   40.12,2,   45.17,2, -999.00,1, -999.00,9, -999.00,9,-999.000,-999.0000,9,-999.0000,9,-999.0000,9,-999.0000,9,-999.0000,9,-999.0000,9,-999.0000,9,-999.0000,9,-999.0000,9,   5.4418,     -999.0,9,     -999.0,9,     -999.0,9,     -999.0,9,     -999.0,9,     -999.0,9,     -999.0,9,-999.0000, -999.00
33RO20071215,        P18,      65,          1,         18,      12025,2,20080106,       0937,    -9.1660,  -104.1742,       3698,   867.1,   4.9014,  34.5359,2,  34.5370,2,     60.5,2,    45.3,3,   64.20,2,   43.80,2,    0.00,2,    3.03,2,   0.002,2,   0.001,2,   0.0000,2,  2300.0,2,  2329.0,2,   -999.0,9,  -999.00,   7.4003,2,    25.00,-999.000,9,-999.0000,9, -999.00,9, -999.00,9,  -999.0,9,-999.000,9,-999.000,-999.000,9,-999.000,9,   39.67,2,   44.88,2, -999.00,1, -999.00,9, -999.00,9,-999.000,-999.0000,9,-999.0000,9,-999.0000,9,-999.0000,9,-999.0000,9,-999.0000,9,-999.0000,9,-999.0000,9,-999.0000,9,   4.8306,     -999.0,9,     -999.0,9,     -999.0,9,     -999.0,9,     -999.0,9,     -999.0,9,     -999.0,9,-999.0000, -999.00
33RO20071215,        P18,      65,          1,         17,      12016,2,20080106,       0937,    -9.1660,  -104.1742,       3698,   967.3,   4.5060,  34.5417,2,  34.5429,2,     71.3,2,    71.2,2,   79.20,2,   41.90,2,    0.00,2,    2.93,2,   0.000,2,   0.000,2,   0.0000,2,  -999.0,5,  2343.2,2,   -999.0,9,  -999.00,   7.4425,2,    25.00,-999.000,9,-999.0000,9, -999.00,9, -999.00,9,  -999.0,9,-999.000,9,-999.000,-999.000,9,-999.000,9,   39.09,2,   43.50,2, -999.00,1, -999.00,9, -999.00,9,-999.000,-999.0000,9,-999.0000,9,-999.0000,9,-999.0000,9,-999.0000,9,-999.0000,9,-999.0000,9,-999.0000,9,-999.0000,9,   4.4292,     -999.0,9,     -999.0,9,     -999.0,9,     -999.0,9,     -999.0,9,     -999.0,9,     -999.0,9,-999.0000, -999.00
33RO20071215,        P18,      65,          1,         16,      12051,2,20080106,       0937,    -9.1660,  -104.1742,       3698,  1066.2,   4.0667,  34.5520,2,  34.5813,4,     82.8,2,    47.6,3,   60.50,3,   41.20,3,    0.00,3,    2.87,3,   0.019,3,   0.012,3,   0.0000,2,  1685.5,4,  2325.1,4,   1735.5,2,    20.00,   7.4148,2,    25.00,-999.000,9,-999.0000,9, -999.00,9, -999.00,9,  -999.0,9,-999.000,9,-999.000,-999.000,9,-999.000,9,   38.56,3,   42.24,3, -999.00,9, -999.00,9, -999.00,9,-999.000,-999.0000,9,-999.0000,9,-999.0000,9,-999.0000,9,-999.0000,9,-999.0000,9,-999.0000,9,-999.0000,9,-999.0000,9,   3.9849,     -999.0,9,     -999.0,9,     -999.0,9,     -999.0,9,     -999.0,9,     -999.0,9,     -999.0,9,-999.0000, -999.00
33RO20071215,        P18,      65,          1,         15,      12014,2,20080106,       0937,    -9.1660,  -104.1742,       3698,  1157.2,   3.7315,  34.5647,2,  34.5643,2,     85.3,2,    85.5,2,   95.90,2,   40.80,2,    0.00,2,    2.88,2,   0.000,2,   0.001,2,   0.0000,2,  2311.1,2,  2362.0,2,   -999.0,9,  -999.00,   7.4675,2,    25.00,-999.000,9,-999.0000,9, -999.00,9, -999.00,9,  -999.0,9,-999.000,9,-999.000,-999.000,9,-999.000,9,   37.38,2,   41.94,2, -999.00,9, -999.00,9, -999.00,9,-999.000,-999.0000,9,-999.0000,9,-999.0000,9,-999.0000,9,-999.0000,9,-999.0000,9,-999.0000,9,-999.0000,9,-999.0000,9,   3.6448,     -999.0,9,     -999.0,9,     -999.0,9,     -999.0,9,     -999.0,9,     -999.0,9,     -999.0,9,-999.0000, -999.00
33RO20071215,        P18,      65,          1,         14,      12013,2,20080106,       0937,    -9.1660,  -104.1742,       3698,  1265.7,   3.4309,  34.5782,2,  34.5780,2,     89.3,2,    89.2,2,  103.70,2,   40.50,2,    0.00,2,    2.86,2,   0.000,2,   0.000,2,   0.0000,2,  2317.7,2,  2370.4,2,   1537.7,2,    20.00,   7.4678,2,    25.00,-999.000,9,-999.0000,9, -999.00,9, -999.00,9,  -999.0,9,-999.000,9,-999.000,-999.000,9,-999.000,9,   36.78,2,   42.11,2, -999.00,9, -999.00,9, -999.00,9,-999.000,-999.0000,9,-999.0000,9,-999.0000,9,-999.0000,9,-999.0000,9,-999.0000,9,-999.0000,9,-999.0000,9,-999.0000,9,   3.3379,     -999.0,9,     -999.0,9,     -999.0,9,     -999.0,9,     -999.0,9,     -999.0,9,     -999.0,9,-999.0000, -999.00
33RO20071215,        P18,      65,          1,         13,      12012,2,20080106,       0937,    -9.1660,  -104.1742,       3698,  1366.2,   3.1906,  34.5885,2,  34.5893,2,     93.2,2,    94.5,2,  109.30,2,   40.20,2,    0.00,2,    2.83,2,-999.000,9,-999.000,9,-999.0000,9,  2321.0,2,  2377.1,2,   -999.0,9,  -999.00,   7.4817,2,    25.00,-999.000,9,-999.0000,9, -999.00,9, -999.00,9,  -999.0,9,-999.000,9,-999.000,-999.000,9,-999.000,9,   37.61,2,   41.73,2, -999.00,9, -999.00,9, -999.00,9,-999.000,-999.0000,9,-999.0000,9,-999.0000,9,-999.0000,9,-999.0000,9,-999.0000,9,-999.0000,9,-999.0000,9,-999.0000,9,   3.0918,     -999.0,9,     -999.0,9,     -999.0,9,     -999.0,9,     -999.0,9,     -999.0,9,     -999.0,9,-999.0000, -999.00
33RO20071215,        P18,      65,          1,         12,      12031,2,20080106,       0937,    -9.1660,  -104.1742,       3698,  1533.1,   2.8308,  34.6077,2,  34.6079,2,    101.9,2,   101.1,2,  117.80,2,   39.70,2,    0.00,2,    2.79,2,   0.000,2,  -0.001,2,   0.0000,2,  2326.3,2,  2388.6,2,   1460.4,2,    20.00,   7.4844,2,    25.00,-999.000,9,-999.0000,9, -999.00,9, -999.00,9,  -999.0,9,-999.000,9,-999.000,-999.000,9,-999.000,9,   37.58,2,   40.72,2, -999.00,9, -999.00,9, -999.00,9,-999.000,-999.0000,9,-999.0000,9,-999.0000,9,-999.0000,9,-999.0000,9,-999.0000,9,-999.0000,9,-999.0000,9,-999.0000,9,   2.7221,     -999.0,9,     -999.0,9,     -999.0,9,     -999.0,9,     -999.0,9,     -999.0,9,     -999.0,9,-999.0000, -999.00