BOTTLE,20220818CCHSIOAMB
EXPOCODE,SECT_ID,STNNBR,CASTNO,SAMPNO,BTLNBR,BTLNBR_FLAG_W,DATE,TIME,LATITUDE,LONGITUDE,DEPTH,CTDPRS,CTDTMP,CTDSAL,CTDSAL_FLAG_W,SALNTY,SALNTY_FLAG_W,CTDOXY,CTDOXY_FLAG_W,OXYGEN,OXYGEN_FLAG_W,SILCAT,SILCAT_FLAG_W,NITRAT,NITRAT_FLAG_W,NITRIT,NITRIT_FLAG_W,PHSPHT,PHSPHT_FLAG_W,CFC-11,CFC-11_FLAG_W,CFC-12,CFC-12_FLAG_W,SF6,SF6_FLAG_W,TCARBN,TCARBN_FLAG_W,ALKALI,ALKALI_FLAG_W,FCO2,FCO2_FLAG_W,FCO2TMP,PH_SWS,PH_SWS_FLAG_W,PH_TMP,TRITUM,TRITUM_FLAG_W,HELIUM,HELIUM_FLAG_W,DELHE3,DELHE3_FLAG_W,DELC13,DELC13_FLAG_W,DELC14,DELC14_FLAG_W,NEON,NEON_FLAG_W,NEONER,CCL4,CCL4_FLAG_W,POC,POC_FLAG_W,DOC,DOC_FLAG_W,TDN,TDN_FLAG_W,DON,DON_FLAG_W,CHLORA,CHLORA_FLAG_W,ARGON,ARGON_FLAG_W,TRITER,CDOM325,CDOM325_FLAG_W,CDOM340,CDOM340_FLAG_W,CDOM380,CDOM380_FLAG_W,CDOM412,CDOM412_FLAG_W,CDOM443,CDOM443_FLAG_W,CDOM490,CDOM490_FLAG_W,CDOM555,CDOM555_FLAG_W,CDOMSL,CDOMSL_FLAG_W,CDOMSN,CDOMSN_FLAG_W,THETA,D18O_NO3,D18O_NO3_FLAG_W,CDOM2C,CDOM2C_FLAG_W,CDOM3C,CDOM3C_FLAG_W,LAB_DEN,LAB_DEN_FLAG_W,DELSI30,DELSI30_FLAG_W,N2,N2_FLAG_W,D15N_NO3,D15N_NO3_FLAG_W,HELIER,DELHER
,,,,,,,,,,,METERS,DBAR,ITS-90,PSS-78,,PSS-78,,UMOL/KG,,UMOL/KG,,UMOL/KG,,UMOL/KG,,UMOL/KG,,UMOL/KG,,PMOL/KG,,PMOL/KG,,FMOL/KG,,UMOL/KG,,UMOL/KG,,UATM,,DEG C,,,DEG C,TU,,NMOL/KG,,PERCNT,,/MILLE,,/MILLE,,NMOL/KG,,NMOL/KG,PMOL/KG,,UG/KG,,UMOL/KG,,UMOL/KG,,UMOL/KG,,UG/KG,,UMOL/KG,,TU,1/M,,1/M,,1/M,,1/M,,1/M,,1/M,,1/M,,1/NM,,1/NM,,DEG C,/MILLE,,,,,,,,/MILLE,,UMOL/KG,,/MILLE,,NMOL/KG,PERCNT
33RO20071215,        P18,      32,          1,         36,      12017,2,20071225,       2227,     6.2492,  -109.9992,       3390,     5.6,  26.7492,  34.4645,2,  34.4693,2,    205.4,2,   205.5,2,    0.80,2,    0.00,2,    0.00,2,    0.09,2,   1.647,6,   1.051,6,   1.0373,6,  1943.7,6,  2254.2,2,   -999.0,9,  -999.00,   8.0672,2,    25.00,   0.531,2,   1.7143,2,   -1.78,2,    1.16,2,  -999.0,1,   6.689,2,   0.023,-999.000,9,-999.000,9, -999.00,9, -999.00,9, -999.00,1,    0.10,2, -999.00,9,   0.007,   0.0741,2,   0.0503,2,   0.0241,2,   0.0176,2,   0.0102,2,   0.0040,2,  -0.0002,4,   0.0154,2,   0.0185,2,  26.7479,     -999.0,9,     -999.0,9,     -999.0,9,     -999.0,9,     -999.0,9,     -999.0,9,     -999.0,9,   0.0048,    0.15
33RO20071215,        P18,      32,          1,         35,      12029,2,20071225,       2227,     6.2492,  -109.9992,       3390,    14.2,  26.7496,  34.4643,2,  34.4648,2,    205.6,2,   204.4,2,    0.90,2,    0.00,2,    0.00,2,    0.10,2,   1.636,2,   1.046,2,   0.9715,2,  1943.8,2,  2266.0,2,   -999.0,9,  -999.00,   8.0793,2,    25.00,-999.000,9,-999.0000,9, -999.00,9, -999.00,9,  -999.0,9,-999.000,9,-999.000,-999.000,9,-999.000,9,   67.60,2,    4.78,2, -999.00,1,    0.10,2, -999.00,9,-999.000,   0.0681,2,   0.0454,2,   0.0205,2,   0.0146,2,   0.0077,2,   0.0022,2,  -0.0012,4,   0.0167,2,   0.0204,2,  26.7464,     -999.0,9,     -999.0,9,     -999.0,9,     -999.0,9,     -999.0,9,     -999.0,9,     -999.0,9,-999.0000, -999.00
33RO20071215,        P18,      32,          1,         34,      12049,2,20071225,       2227,     6.2492,  -109.9992,       3390,    27.3,  26.7128,  34.4628,2,  34.4628,2,    205.9,2,   203.9,2,    0.90,2,    0.10,2,    0.00,2,    0.12,2,-999.000,5,-999.000,5,-999.0000,5,  1943.5,2,  2265.4,2,   -999.0,9,  -999.00,   8.0844,2,    25.00,-999.000,9,-999.0000,9, -999.00,9, -999.00,9,  -999.0,9,-999.000,9,-999.000,-999.000,9,-999.000,9, -999.00,9, -999.00,9, -999.00,1,    0.13,2, -999.00,9,-999.000,   0.0916,2,   0.0659,2,   0.0361,2,   0.0279,2,   0.0192,2,   0.0103,2,   0.0034,2,   0.0121,2,   0.0138,2,  26.7066,     -999.0,9,     -999.0,9,     -999.0,9,     -999.0,9,     -999.0,9,     -999.0,9,     -999.0,9,-999.0000, -999.00
33RO20071215,        P18,      32,          1,         33,      12027,2,20071225,       2227,     6.2492,  -109.9992,       3390,    46.9,  25.9325,  34.6715,2,  34.6362,2,    201.6,2,   203.0,2,    1.40,2,    0.80,2,    0.11,2,    0.20,2,   1.732,2,   1.097,2,   1.0226,2,  1974.5,2,  2277.6,2,   -999.0,9,  -999.00,   8.0618,2,    25.00,   0.543,2,   1.7023,2,   -1.31,2, -999.00,9,  -999.0,9,   6.661,2,   0.023,-999.000,9,-999.000,9,   65.54,2,    5.45,2, -999.00,1,    0.29,2, -999.00,9,   0.007,   0.1276,2,   0.0903,2,   0.0454,2,   0.0341,2,   0.0212,2,   0.0109,2,   0.0043,2,   0.0140,2,   0.0159,2,  25.9221,     -999.0,9,     -999.0,9,     -999.0,9,     -999.0,9,     -999.0,9,     -999.0,9,     -999.0,9,   0.0048,    0.15
33RO20071215,        P18,      32,          1,         32,      12023,2,20071225,       2227,     6.2492,  -109.9992,       3390,    67.5,  22.0070,  34.5201,2,  34.5361,2,    159.2,2,   157.3,2,    5.90,2,    9.40,2,    1.21,2,    0.76,2,   1.840,2,   1.120,2,   0.9388,2,  2056.5,2,  2274.9,2,   -999.0,9,  -999.00,   7.8726,2,    25.00,-999.000,9,-999.0000,9, -999.00,9, -999.00,9,  -999.0,9,-999.000,9,-999.000,-999.000,9,-999.000,9, -999.00,9, -999.00,9, -999.00,1,    0.29,2, -999.00,9,-999.000,   0.1495,2,   0.1083,2,   0.0539,2,   0.0392,2,   0.0228,2,   0.0100,2,   0.0033,2,   0.0156,2,   0.0165,2,  21.9937,     -999.0,9,     -999.0,9,     -999.0,9,     -999.0,9,     -999.0,9,     -999.0,9,     -999.0,9,-999.0000, -999.00
33RO20071215,        P18,      32,          1,         31,      12037,2,20071225,       2227,     6.2492,  -109.9992,       3390,    86.7,  17.1467,  34.7094,2,  34.7188,2,     75.0,2,    67.9,2,   15.40,2,   23.30,2,    0.09,2,    1.63,2,   1.619,2,   0.934,2,   0.5757,2,  2168.5,2,  2285.3,2,   -999.0,9,  -999.00,   7.6503,2,    25.00,   0.466,2,   1.7663,2,    3.91,2, -999.00,9,  -999.0,9,   7.171,2,   0.024,-999.000,9,-999.000,9,   51.78,2,   26.60,2, -999.00,1,    0.11,2, -999.00,9,   0.008,   0.1834,2,   0.1325,2,   0.0728,2,   0.0575,2,   0.0330,2,   0.0139,2,   0.0053,2,   0.0149,2,   0.0146,2,  17.1324,     -999.0,9,     -999.0,9,     -999.0,9,     -999.0,9,     -999.0,9,     -999.0,9,     -999.0,9,   0.0049,    0.15
33RO20071215,        P18,      32,          1,         30,      12036,2,20071225,       2227,     6.2492,  -109.9992,       3390,   108.9,  13.6183,  34.7189,2,  34.7220,2,     31.5,2,    30.1,2,   23.20,2,   29.70,2,    0.02,2,    2.12,2,   1.189,2,   0.663,2,   0.3755,2,  2218.6,2,  2290.0,2,   -999.0,9,  -999.00,   7.5224,2,    25.00,-999.000,9,-999.0000,9, -999.00,9, -999.00,9,  -999.0,9,-999.000,9,-999.000,-999.000,9,-999.000,9, -999.00,9, -999.00,9, -999.00,1,    0.05,2, -999.00,9,-999.000,   0.1896,2,   0.1388,2,   0.0796,2,   0.0639,2,   0.0367,2,   0.0140,2,   0.0045,2,   0.0151,2,   0.0139,2,  13.6030,     -999.0,9,     -999.0,9,     -999.0,9,     -999.0,9,     -999.0,9,     -999.0,9,     -999.0,9,-999.0000, -999.00
33RO20071215,        P18,      32,          1,         29,      12044,2,20071225,       2227,     6.2492,  -109.9992,       3390,   133.3,  11.8827,  34.7158,2,  34.7103,2,     41.4,2,    41.9,2,   27.30,2,   30.90,2,    0.01,2,    2.18,2,   0.918,6,   0.505,6,   0.1981,6,  2223.8,2,  2296.0,2,   -999.0,9,  -999.00,   7.5180,2,    25.00,   0.305,2,   1.7805,2,    7.35,2, -999.00,9,  -999.0,9,   7.384,2,   0.025,-999.000,9,-999.000,9,   50.16,2,   33.20,2, -999.00,1,    0.00,2, -999.00,9,   0.007,   0.1684,2,   0.1234,2,   0.0728,2,   0.0581,2,   0.0335,2,   0.0115,2,   0.0029,2,   0.0149,2,   0.0136,2,  11.8656,     -999.0,9,     -999.0,9,     -999.0,9,     -999.0,9,     -999.0,9,     -999.0,9,     -999.0,9,   0.0050,    0.15
33RO20071215,        P18,      32,          1,         28,      12057,2,20071225,       2227,     6.2492,  -109.9992,       3390,   158.2,  11.4128,  34.7239,2,  34.7225,2,     39.9,2,    39.9,2,   28.20,2,   31.50,2,    0.00,2,    2.21,2,   0.810,2,   0.443,2,   0.1596,2,  2228.6,2,  2300.1,2,   -999.0,9,  -999.00,   7.5098,2,    25.00,-999.000,9,-999.0000,9, -999.00,9, -999.00,9,  -999.0,9,-999.000,9,-999.000,-999.000,9,-999.000,9, -999.00,9, -999.00,9, -999.00,1,    0.00,2, -999.00,9,-999.000,   0.1843,2,   0.1379,2,   0.0844,2,   0.0683,2,   0.0417,2,   0.0167,2,   0.0058,2,   0.0142,2,   0.0127,2,  11.3929,     -999.0,9,     -999.0,9,     -999.0,9,     -999.0,9,     -999.0,9,     -999.0,9,     -999.0,9,-999.0000, -999.00
33RO20071215,        P18,      32,          1,         27,      12026,2,20071225,       2227,     6.2492,  -109.9992,       3390,   183.9,  11.0302,  34.7497,2,  34.7582,2,     45.9,2,    50.0,2,   28.40,2,   31.30,2,    0.00,2,    2.17,2,   0.722,2,   0.397,2,   0.1401,2,  2228.9,2,  -999.0,5,   -999.0,9,  -999.00,   7.5146,2,    25.00,   0.208,2,   1.7835,2,    6.19,2, -999.00,9,  -999.0,9,   7.400,2,   0.025,-999.000,9,-999.000,9,   45.32,2,   33.91,2, -999.00,1,    0.00,2, -999.00,9,   0.006,   0.1781,2,   0.1325,2,   0.0805,2,   0.0652,2,   0.0398,2,   0.0153,2,   0.0049,2,   0.0143,2,   0.0128,2,  11.0075,     -999.0,9,     -999.0,9,     -999.0,9,     -999.0,9,     -999.0,9,     -999.0,9,     -999.0,9,   0.0050,    0.15
33RO20071215,        P18,      32,          1,         26,      12030,2,20071225,       2227,     6.2492,  -109.9992,       3390,   209.1,  10.7143,  34.7331,2,  34.7338,2,     37.2,2,    38.0,2,   30.00,2,   32.60,2,    0.01,2,    2.27,2,   0.605,2,   0.332,2,   0.0675,2,  2238.8,2,  2304.0,2,   -999.0,9,  -999.00,   7.4911,2,    25.00,   0.196,2,   1.7849,2,    6.53,2, -999.00,9,  -999.0,9,   7.408,2,   0.025,-999.000,9,-999.000,9, -999.00,9, -999.00,9, -999.00,1,    0.00,2, -999.00,9,   0.006,   0.1860,2,   0.1387,2,   0.0849,2,   0.0699,2,   0.0444,2,   0.0194,2,   0.0080,2,   0.0134,2,   0.0124,2,  10.6890,     -999.0,9,     -999.0,9,     -999.0,9,     -999.0,9,     -999.0,9,     -999.0,9,     -999.0,9,   0.0050,    0.15
33RO20071215,        P18,      32,          1,         25,      12024,2,20071225,       2227,     6.2492,  -109.9992,       3390,   233.8,  10.5525,  34.7260,2,  34.7266,2,     42.8,2,    43.8,2,   30.20,2,   32.50,2,    0.01,2,    2.26,2,   0.590,2,   0.324,2,   0.0878,2,  2237.2,2,  2303.6,2,   -999.0,9,  -999.00,   7.5046,2,    25.00,   0.197,2,   1.7890,2,    6.49,2, -999.00,9,  -999.0,9,   7.434,2,   0.025,-999.000,9,-999.000,9,   44.10,2,   34.40,2, -999.00,1,    0.00,2, -999.00,9,   0.006,   0.1692,2,   0.1249,2,   0.0756,2,   0.0623,2,   0.0383,2,   0.0154,2,   0.0055,2,   0.0139,2,   0.0127,2,  10.5244,     -999.0,9,     -999.0,9,     -999.0,9,     -999.0,9,     -999.0,9,     -999.0,9,     -999.0,9,   0.0050,    0.15
33RO20071215,        P18,      32,          1,         24,      12019,2,20071225,       2227,     6.2492,  -109.9992,       3390,   267.0,  10.2849,  34.7160,2,  34.7147,2,     26.3,2,    32.8,2,   32.30,2,   33.60,2,    0.01,2,    2.38,2,-999.000,9,-999.000,9,-999.0000,9,  2247.9,2,  2301.6,2,   -999.0,9,  -999.00,   7.4726,2,    25.00,   0.170,2,   1.7891,2,    6.35,2, -999.00,9,  -999.0,9,   7.454,2,   0.025,-999.000,9,-999.000,9,   42.86,2,   34.78,2, -999.00,1,    0.00,2, -999.00,9,   0.006,   0.1808,2,   0.1343,2,   0.0822,2,   0.0683,2,   0.0421,2,   0.0169,2,   0.0060,2,   0.0140,2,   0.0125,2,  10.2534,     -999.0,9,     -999.0,9,     -999.0,9,     -999.0,9,     -999.0,9,     -999.0,9,     -999.0,9,   0.0050,    0.15
33RO20071215,        P18,      32,          1,         23,      12022,2,20071225,       2227,     6.2492,  -109.9992,       3390,   317.1,   9.8420,  34.6935,2,  34.6917,2,     19.2,2,    18.2,2,   35.90,2,   35.20,2,    0.01,2,    2.55,2,   0.283,2,   0.159,2,   0.0848,2,  2263.8,2,  2278.2,4,   -999.0,9,  -999.00,   7.4295,2,    25.00,   0.101,2,   1.7875,2,    6.86,2, -999.00,9,  -999.0,9,   7.514,2,   0.026,-999.000,9,-999.000,9,   42.31,2,   36.32,2, -999.00,1, -999.00,9, -999.00,9,   0.006,   0.1893,2,   0.1414,2,   0.0880,2,   0.0732,2,   0.0453,2,   0.0172,2,   0.0058,2,   0.0142,2,   0.0124,2,   9.8055,     -999.0,9,     -999.0,9,     -999.0,9,     -999.0,9,     -999.0,9,     -999.0,9,     -999.0,9,   0.0050,    0.15
33RO20071215,        P18,      32,          1,         22,      12015,2,20071225,       2227,     6.2492,  -109.9992,       3390,   368.4,   9.2520,  34.6651,2,  34.6664,2,      4.2,2,     4.2,2,   42.10,2,   35.80,2,    0.00,2,    2.84,2,-999.000,9,-999.000,9,-999.0000,9,  2282.8,2,  2308.8,2,   -999.0,9,  -999.00,   7.3772,2,    25.00,   0.064,2,   1.8350,2,    5.67,2, -999.00,9,  -999.0,9,   7.638,2,   0.026,-999.000,9,-999.000,9,   41.92,2,   36.97,2, -999.00,1, -999.00,9, -999.00,9,   0.006,-999.0000,5,-999.0000,5,-999.0000,5,-999.0000,5,-999.0000,5,-999.0000,5,-999.0000,5,-999.0000,5,-999.0000,5,   9.2110,     -999.0,9,     -999.0,9,     -999.0,9,     -999.0,9,     -999.0,9,     -999.0,9,     -999.0,9,   0.0051,    0.15
33RO20071215,        P18,      32,          1,         21,      12020,2,20071225,       2227,     6.2492,  -109.9992,       3390,   432.8,   8.5767,  34.6386,2,  34.6373,2,      3.8,2,     3.7,2,   46.90,2,   37.80,2,    0.01,2,    2.95,2,   0.046,2,   0.027,2,   0.0204,2,  2291.2,2,  2313.6,2,   -999.0,9,  -999.00,   7.3726,2,    25.00,   0.031,2,   1.8081,2,    6.82,2, -999.00,9,  -999.0,9,   7.561,2,   0.026,-999.000,9,-999.000,9,   41.05,2,   38.97,2, -999.00,1, -999.00,9, -999.00,9,   0.006,   0.2045,2,   0.1547,2,   0.0982,2,   0.0821,2,   0.0507,2,   0.0187,2,   0.0057,2,   0.0144,2,   0.0121,2,   8.5306,     -999.0,9,     -999.0,9,     -999.0,9,     -999.0,9,     -999.0,9,     -999.0,9,     -999.0,9,   0.0051,    0.15
33RO20071215,        P18,      32,          1,         20,      12055,2,20071225,       2227,     6.2492,  -109.9992,       3390,   532.4,   7.6419,  34.6067,2,  34.6066,2,      4.3,2,     4.7,2,   54.60,2,   40.00,2,    0.01,2,    3.14,2,-999.000,9,-999.000,9,-999.0000,9,  -999.0,9,  -999.0,9,   -999.0,9,  -999.00,-999.0000,9,  -999.00,-999.000,9,-999.0000,9, -999.00,9, -999.00,9,  -999.0,9,-999.000,9,-999.000,-999.000,9,-999.000,9,   40.24,2,   41.26,2, -999.00,1, -999.00,9, -999.00,9,-999.000,   0.2110,2,   0.1596,2,   0.1014,2,   0.0842,2,   0.0531,2,   0.0204,2,   0.0066,2,   0.0143,2,   0.0121,2,   7.5885,     -999.0,9,     -999.0,9,     -999.0,9,     -999.0,9,     -999.0,9,     -999.0,9,     -999.0,9,-999.0000, -999.00
33RO20071215,        P18,      32,          1,         19,      12018,2,20071225,       2227,     6.2492,  -109.9992,       3390,   632.2,   6.9185,  34.5834,2,  34.5849,2,      7.1,2,     7.5,2,   60.70,2,   42.30,2,    0.00,2,    3.21,2,   0.005,2,   0.004,2,   0.0000,2,  2309.0,2,  2324.8,2,   -999.0,9,  -999.00,   7.3542,2,    25.00,   0.029,2,   1.8211,2,    9.84,2, -999.00,9,  -999.0,9,   7.677,2,   0.026,-999.000,9,-999.000,9,   39.20,2,   43.38,2, -999.00,1, -999.00,9, -999.00,9,   0.006,   0.2097,2,   0.1582,2,   0.1000,2,   0.0820,2,   0.0521,2,   0.0205,2,   0.0068,2,   0.0142,2,   0.0122,2,   6.8582,     -999.0,9,     -999.0,9,     -999.0,9,     -999.0,9,     -999.0,9,     -999.0,9,     -999.0,9,   0.0051,    0.15
33RO20071215,        P18,      32,          1,         18,      12025,2,20071225,       2227,     6.2492,  -109.9992,       3390,   732.5,   5.9377,  34.5638,2,  34.5661,2,     11.4,2,    11.4,2,   72.90,2,   44.30,2,    0.01,2,    3.29,2,-999.000,9,-999.000,9,-999.0000,9,  -999.0,9,  -999.0,9,   -999.0,9,  -999.00,-999.0000,9,  -999.00,-999.000,9,-999.0000,9, -999.00,9, -999.00,9,  -999.0,9,-999.000,9,-999.000,-999.000,9,-999.000,9,   39.13,2,   45.53,2, -999.00,1, -999.00,9, -999.00,9,-999.000,   0.2153,2,   0.1608,2,   0.1004,2,   0.0819,2,   0.0540,2,   0.0231,2,   0.0090,2,   0.0136,2,   0.0121,2,   5.8727,     -999.0,9,     -999.0,9,     -999.0,9,     -999.0,9,     -999.0,9,     -999.0,9,     -999.0,9,-999.0000, -999.00
33RO20071215,        P18,      32,          1,         17,      12016,2,20071225,       2227,     6.2492,  -109.9992,       3390,   832.4,   5.2843,  34.5614,2,  34.5604,2,     22.6,2,    23.1,2,   82.20,2,   44.60,2,    0.01,2,    3.28,2,   0.001,2,   0.001,2,   0.0000,2,  2327.9,2,  2346.6,2,   -999.0,9,  -999.00,   7.3600,2,    25.00,  -0.002,2,   1.8484,2,   15.38,2, -999.00,9,  -999.0,9,   7.812,2,   0.027,-999.000,9,-999.000,9,   38.95,2,   46.01,2, -999.00,1, -999.00,9, -999.00,9,   0.006,   0.2231,2,   0.1668,2,   0.1036,2,   0.0836,2,   0.0558,2,   0.0250,2,   0.0102,2,   0.0132,2,   0.0121,2,   5.2141,     -999.0,9,     -999.0,9,     -999.0,9,     -999.0,9,     -999.0,9,     -999.0,9,     -999.0,9,   0.0052,    0.15
33RO20071215,        P18,      32,          1,         16,      12051,2,20071225,       2227,     6.2492,  -109.9992,       3390,   931.5,   4.7506,  34.5651,2,  34.5649,2,     38.7,2,    37.1,2,   90.00,2,   44.00,2,    0.01,2,    3.18,2,-999.000,9,-999.000,9,-999.0000,9,  -999.0,9,  -999.0,9,   -999.0,9,  -999.00,-999.0000,9,  -999.00,-999.000,9,-999.0000,9, -999.00,9, -999.00,9,  -999.0,9,-999.000,9,-999.000,-999.000,9,-999.000,9,   38.73,2,   45.15,2, -999.00,9, -999.00,9, -999.00,9,-999.000,   0.2076,2,   0.1547,2,   0.0958,2,   0.0761,2,   0.0501,2,   0.0211,2,   0.0075,2,   0.0139,2,   0.0125,2,   4.6751,     -999.0,9,     -999.0,9,     -999.0,9,     -999.0,9,     -999.0,9,     -999.0,9,     -999.0,9,-999.0000, -999.00
33RO20071215,        P18,      32,          1,         15,      12014,2,20071225,       2227,     6.2492,  -109.9992,       3390,  1033.1,   4.4195,  34.5691,2,  34.5715,2,     44.3,2,    44.8,2,   96.70,2,   43.50,2,    0.01,2,    3.20,2,   0.000,2,   0.001,2,   0.0000,2,  2331.4,2,  2363.0,2,   -999.0,9,  -999.00,   7.3924,2,    25.00,   0.001,6,   1.8812,2,   18.57,2, -999.00,9,  -999.0,9,   7.911,2,   0.027,-999.000,9,-999.000,9,   38.33,2,   44.87,2, -999.00,9, -999.00,9, -999.00,9,   0.005,   0.2121,2,   0.1583,2,   0.0977,2,   0.0771,2,   0.0523,2,   0.0242,2,   0.0101,2,   0.0130,2,   0.0122,2,   4.3377,     -999.0,9,     -999.0,9,     -999.0,9,     -999.0,9,     -999.0,9,     -999.0,9,     -999.0,9,   0.0053,    0.15
33RO20071215,        P18,      32,          1,         14,      12013,2,20071225,       2227,     6.2492,  -109.9992,       3390,  1132.0,   4.0548,  34.5752,2,  34.5746,2,     56.0,2,    56.0,2,  103.70,2,   42.70,2,    0.00,2,    3.10,2,-999.000,9,-999.000,9,-999.0000,9,  -999.0,9,  -999.0,9,   -999.0,9,  -999.00,-999.0000,9,  -999.00,-999.000,9,-999.0000,9, -999.00,9, -999.00,9,  -999.0,9,-999.000,9,-999.000,-999.000,9,-999.000,9,   37.92,2,   43.98,2, -999.00,9, -999.00,9, -999.00,9,-999.000,   0.2065,2,   0.1521,2,   0.0911,2,   0.0707,2,   0.0465,2,   0.0200,2,   0.0073,2,   0.0139,2,   0.0130,2,   3.9674,     -999.0,9,     -999.0,9,     -999.0,9,     -999.0,9,     -999.0,9,     -999.0,9,     -999.0,9,-999.0000, -999.00
33RO20071215,        P18,      32,          1,         13,      12012,2,20071225,       2227,     6.2492,  -109.9992,       3390,  1233.0,   3.6611,  34.5855,2,  34.5857,2,     65.9,2,    65.3,2,  111.40,2,   42.00,2,    0.01,2,    3.05,2,   0.000,2,   0.001,2,   0.0000,2,  2335.0,2,  2382.1,2,   -999.0,9,  -999.00,   7.4385,2,    25.00,   0.020,2,   1.8895,2,   21.24,2, -999.00,9,  -999.0,9,   7.894,2,   0.027,-999.000,9,-999.000,9,   37.68,2,   43.53,2, -999.00,9, -999.00,9, -999.00,9,   0.006,   0.1856,2,   0.1356,2,   0.0812,2,   0.0618,2,   0.0396,2,   0.0152,2,   0.0042,2,   0.0144,2,   0.0135,2,   3.5687,     -999.0,9,     -999.0,9,     -999.0,9,     -999.0,9,     -999.0,9,     -999.0,9,     -999.0,9,   0.0053,    0.15
33RO20071215,        P18,      32,          1,         12,      12031,2,20071225,       2227,     6.2492,  -109.9992,       3390,  1332.8,   3.4100,  34.5938,2,  34.5949,2,     70.3,2,    70.1,2,  117.20,2,   41.80,2,    0.00,2,    3.00,2,-999.000,9,-999.000,9,-999.0000,9,  -999.0,9,  -999.0,9,   -999.0,9,  -999.00,-999.0000,9,  -999.00,-999.000,9,-999.0000,9, -999.00,9, -999.00,9,  -999.0,9,-999.000,9,-999.000,-999.000,9,-999.000,9,   37.21,2,   43.16,2, -999.00,9, -999.00,9, -999.00,9,-999.000,   0.1867,2,   0.1364,2,   0.0812,2,   0.0617,2,   0.0395,2,   0.0152,2,   0.0043,2,   0.0145,2,   0.0135,2,   3.3116,     -999.0,9,     -999.0,9,     -999.0,9,     -999.0,9,     -999.0,9,     -999.0,9,     -999.0,9,-999.0000, -999.00