BOTTLE,20220818CCHSIOAMB
EXPOCODE,SECT_ID,STNNBR,CASTNO,SAMPNO,BTLNBR,BTLNBR_FLAG_W,DATE,TIME,LATITUDE,LONGITUDE,DEPTH,CTDPRS,CTDTMP,CTDSAL,CTDSAL_FLAG_W,SALNTY,SALNTY_FLAG_W,CTDOXY,CTDOXY_FLAG_W,OXYGEN,OXYGEN_FLAG_W,SILCAT,SILCAT_FLAG_W,NITRAT,NITRAT_FLAG_W,NITRIT,NITRIT_FLAG_W,PHSPHT,PHSPHT_FLAG_W,CFC-11,CFC-11_FLAG_W,CFC-12,CFC-12_FLAG_W,SF6,SF6_FLAG_W,TCARBN,TCARBN_FLAG_W,ALKALI,ALKALI_FLAG_W,FCO2,FCO2_FLAG_W,FCO2TMP,PH_SWS,PH_SWS_FLAG_W,PH_TMP,TRITUM,TRITUM_FLAG_W,HELIUM,HELIUM_FLAG_W,DELHE3,DELHE3_FLAG_W,DELC13,DELC13_FLAG_W,DELC14,DELC14_FLAG_W,NEON,NEON_FLAG_W,NEONER,CCL4,CCL4_FLAG_W,POC,POC_FLAG_W,DOC,DOC_FLAG_W,TDN,TDN_FLAG_W,DON,DON_FLAG_W,CHLORA,CHLORA_FLAG_W,ARGON,ARGON_FLAG_W,TRITER,CDOM325,CDOM325_FLAG_W,CDOM340,CDOM340_FLAG_W,CDOM380,CDOM380_FLAG_W,CDOM412,CDOM412_FLAG_W,CDOM443,CDOM443_FLAG_W,CDOM490,CDOM490_FLAG_W,CDOM555,CDOM555_FLAG_W,CDOMSL,CDOMSL_FLAG_W,CDOMSN,CDOMSN_FLAG_W,THETA,D18O_NO3,D18O_NO3_FLAG_W,CDOM2C,CDOM2C_FLAG_W,CDOM3C,CDOM3C_FLAG_W,LAB_DEN,LAB_DEN_FLAG_W,DELSI30,DELSI30_FLAG_W,N2,N2_FLAG_W,D15N_NO3,D15N_NO3_FLAG_W,HELIER,DELHER
,,,,,,,,,,,METERS,DBAR,ITS-90,PSS-78,,PSS-78,,UMOL/KG,,UMOL/KG,,UMOL/KG,,UMOL/KG,,UMOL/KG,,UMOL/KG,,PMOL/KG,,PMOL/KG,,FMOL/KG,,UMOL/KG,,UMOL/KG,,UATM,,DEG C,,,DEG C,TU,,NMOL/KG,,PERCNT,,/MILLE,,/MILLE,,NMOL/KG,,NMOL/KG,PMOL/KG,,UG/KG,,UMOL/KG,,UMOL/KG,,UMOL/KG,,UG/KG,,UMOL/KG,,TU,1/M,,1/M,,1/M,,1/M,,1/M,,1/M,,1/M,,1/NM,,1/NM,,DEG C,/MILLE,,,,,,,,/MILLE,,UMOL/KG,,/MILLE,,NMOL/KG,PERCNT
33RO20071215,        P18,     105,          1,         36,      12017,2,20080124,       2008,   -32.1670,  -102.9993,       3599,     5.7,  23.1998,  34.8201,2,  34.8172,2,    220.4,2,   220.6,2,    0.40,2,    0.20,2,    0.01,2,    0.09,2,   2.027,2,   1.257,2,   1.0821,2,  2036.2,6,  2296.6,2,    381.3,2,    20.00,   7.9705,2,    25.00,-999.000,9,-999.0000,9, -999.00,9, -999.00,9,  -999.0,9,-999.000,9,-999.000,-999.000,9,-999.000,9, -999.00,9, -999.00,9, -999.00,9, -999.00,9, -999.00,9,-999.000,-999.0000,9,-999.0000,9,-999.0000,9,-999.0000,9,-999.0000,9,-999.0000,9,-999.0000,9,-999.0000,9,-999.0000,9,  23.1987,     -999.0,9,     -999.0,9,     -999.0,9,     -999.0,9,     -999.0,9,     -999.0,9,     -999.0,9,-999.0000, -999.00
33RO20071215,        P18,     105,          1,         35,      12029,2,20080124,       2008,   -32.1670,  -102.9993,       3599,    10.9,  23.1829,  34.8177,2,  34.8048,2,    220.6,2,   221.0,2,    0.50,2,    0.20,2,    0.01,2,    0.10,2,-999.000,9,-999.000,9,-999.0000,9,  2036.3,2,  2297.7,2,   -999.0,9,  -999.00,   7.9782,2,    25.00,-999.000,9,-999.0000,9, -999.00,9,    1.49,2,  -999.0,1,-999.000,9,-999.000,-999.000,9,-999.000,9, -999.00,9, -999.00,9, -999.00,9, -999.00,9, -999.00,9,-999.000,-999.0000,9,-999.0000,9,-999.0000,9,-999.0000,9,-999.0000,9,-999.0000,9,-999.0000,9,-999.0000,9,-999.0000,9,  23.1807,     -999.0,9,     -999.0,9,     -999.0,9,     -999.0,9,     -999.0,9,     -999.0,9,     -999.0,9,-999.0000, -999.00
33RO20071215,        P18,     105,          1,         34,      12049,2,20080124,       2008,   -32.1670,  -102.9993,       3599,    16.0,  23.1511,  34.8118,2,  34.7837,2,    220.9,2,   223.0,2,    0.50,2,    0.20,2,    0.01,2,    0.10,2,-999.000,9,-999.000,9,-999.0000,9,  2035.3,2,  2295.3,2,    383.0,2,    20.00,   7.9767,2,    25.00,-999.000,9,-999.0000,9, -999.00,9, -999.00,9,  -999.0,9,-999.000,9,-999.000,-999.000,9,-999.000,9, -999.00,9, -999.00,9, -999.00,9, -999.00,9, -999.00,9,-999.000,-999.0000,9,-999.0000,9,-999.0000,9,-999.0000,9,-999.0000,9,-999.0000,9,-999.0000,9,-999.0000,9,-999.0000,9,  23.1479,     -999.0,9,     -999.0,9,     -999.0,9,     -999.0,9,     -999.0,9,     -999.0,9,     -999.0,9,-999.0000, -999.00
33RO20071215,        P18,     105,          1,         33,      12027,2,20080124,       2008,   -32.1670,  -102.9993,       3599,    32.7,  21.0531,  35.2613,2,  35.2681,2,    233.6,2,   235.4,2,    0.60,2,    0.00,2,    0.00,2,    0.07,2,-999.000,9,-999.000,9,-999.0000,9,  2048.5,2,  2321.1,2,   -999.0,9,  -999.00,   7.9810,2,    25.00,-999.000,9,-999.0000,9, -999.00,9, -999.00,9,  -999.0,9,-999.000,9,-999.000,-999.000,9,-999.000,9, -999.00,9, -999.00,9, -999.00,9, -999.00,9, -999.00,9,-999.000,-999.0000,9,-999.0000,9,-999.0000,9,-999.0000,9,-999.0000,9,-999.0000,9,-999.0000,9,-999.0000,9,-999.0000,9,  21.0469,     -999.0,9,     -999.0,9,     -999.0,9,     -999.0,9,     -999.0,9,     -999.0,9,     -999.0,9,-999.0000, -999.00
33RO20071215,        P18,     105,          1,         32,      12023,2,20080124,       2008,   -32.1670,  -102.9993,       3599,    52.0,  19.6358,  35.2180,2,  35.2050,2,    241.4,2,   242.0,2,    0.60,2,    0.00,2,    0.00,2,    0.08,2,   2.427,2,   1.459,2,   1.2211,2,  2046.7,2,  2317.1,2,    374.7,2,    20.00,   7.9701,2,    25.00,-999.000,9,-999.0000,9, -999.00,9, -999.00,9,  -999.0,9,-999.000,9,-999.000,-999.000,9,-999.000,9, -999.00,9, -999.00,9, -999.00,9, -999.00,9, -999.00,9,-999.000,-999.0000,9,-999.0000,9,-999.0000,9,-999.0000,9,-999.0000,9,-999.0000,9,-999.0000,9,-999.0000,9,-999.0000,9,  19.6263,     -999.0,9,     -999.0,9,     -999.0,9,     -999.0,9,     -999.0,9,     -999.0,9,     -999.0,9,-999.0000, -999.00
33RO20071215,        P18,     105,          1,         31,      12037,2,20080124,       2008,   -32.1670,  -102.9993,       3599,    72.8,  17.7137,  34.9698,2,  34.9676,2,    250.7,2,   250.6,2,    0.60,2,    0.00,2,    0.00,2,    0.09,2,-999.000,9,-999.000,9,-999.0000,9,  2038.8,2,  2304.1,2,   -999.0,9,  -999.00,   7.9864,2,    25.00,-999.000,9,-999.0000,9, -999.00,9, -999.00,9,  -999.0,9,-999.000,9,-999.000,-999.000,9,-999.000,9, -999.00,9, -999.00,9, -999.00,9, -999.00,9, -999.00,9,-999.000,-999.0000,9,-999.0000,9,-999.0000,9,-999.0000,9,-999.0000,9,-999.0000,9,-999.0000,9,-999.0000,9,-999.0000,9,  17.7014,     -999.0,9,     -999.0,9,     -999.0,9,     -999.0,9,     -999.0,9,     -999.0,9,     -999.0,9,-999.0000, -999.00
33RO20071215,        P18,     105,          1,         30,      12036,2,20080124,       2008,   -32.1670,  -102.9993,       3599,    91.8,  17.0440,  34.9021,2,  34.9136,2,    250.0,2,   250.5,2,    0.60,2,    0.00,2,    0.00,2,    0.09,2,-999.000,9,-999.000,9,-999.0000,9,  2038.1,2,  2302.7,2,    386.0,2,    20.00,   7.9749,2,    25.00,-999.000,9,-999.0000,9, -999.00,9, -999.00,9,  -999.0,9,-999.000,9,-999.000,-999.000,9,-999.000,9, -999.00,9, -999.00,9, -999.00,9, -999.00,9, -999.00,9,-999.000,-999.0000,9,-999.0000,9,-999.0000,9,-999.0000,9,-999.0000,9,-999.0000,9,-999.0000,9,-999.0000,9,-999.0000,9,  17.0289,     -999.0,9,     -999.0,9,     -999.0,9,     -999.0,9,     -999.0,9,     -999.0,9,     -999.0,9,-999.0000, -999.00
33RO20071215,        P18,     105,          1,         29,      12044,2,20080124,       2008,   -32.1670,  -102.9993,       3599,   115.6,  16.5795,  34.9267,2,  34.9201,2,    247.9,2,   246.8,2,    0.60,2,    0.00,2,    0.00,2,    0.11,2,   2.644,2,   1.575,2,   1.2333,2,  2042.7,2,  2427.1,4,   -999.0,9,  -999.00,   7.9859,2,    25.00,-999.000,9,-999.0000,9, -999.00,9, -999.00,9,  -999.0,9,-999.000,9,-999.000,-999.000,9,-999.000,9, -999.00,9, -999.00,9, -999.00,9, -999.00,9, -999.00,9,-999.000,-999.0000,9,-999.0000,9,-999.0000,9,-999.0000,9,-999.0000,9,-999.0000,9,-999.0000,9,-999.0000,9,-999.0000,9,  16.5608,     -999.0,9,     -999.0,9,     -999.0,9,     -999.0,9,     -999.0,9,     -999.0,9,     -999.0,9,-999.0000, -999.00
33RO20071215,        P18,     105,          1,         28,      12057,2,20080124,       2008,   -32.1670,  -102.9993,       3599,   142.2,  15.8025,  34.7981,2,  34.7951,2,    241.6,2,   241.7,2,    0.60,2,    0.70,2,    0.10,2,    0.17,2,-999.000,9,-999.000,9,-999.0000,9,  2048.0,2,  -999.0,5,    418.1,2,    20.00,   7.9475,2,    25.00,-999.000,9,-999.0000,9, -999.00,9, -999.00,9,  -999.0,9,-999.000,9,-999.000,-999.000,9,-999.000,9, -999.00,9, -999.00,9, -999.00,9, -999.00,9, -999.00,9,-999.000,-999.0000,9,-999.0000,9,-999.0000,9,-999.0000,9,-999.0000,9,-999.0000,9,-999.0000,9,-999.0000,9,-999.0000,9,  15.7803,     -999.0,9,     -999.0,9,     -999.0,9,     -999.0,9,     -999.0,9,     -999.0,9,     -999.0,9,-999.0000, -999.00
33RO20071215,        P18,     105,          1,         27,      12026,2,20080124,       2008,   -32.1670,  -102.9993,       3599,   167.0,  15.5263,  34.8070,2,  34.7896,2,    230.6,2,   232.1,2,    0.80,2,    2.10,2,    0.23,2,    0.26,2,   2.741,2,   1.621,2,   1.3421,2,  2056.3,2,  2292.2,2,    438.7,2,    20.00,   7.9374,2,    25.00,-999.000,9,-999.0000,9, -999.00,9, -999.00,9,  -999.0,9,-999.000,9,-999.000,-999.000,9,-999.000,9, -999.00,9, -999.00,9, -999.00,9, -999.00,9, -999.00,9,-999.000,-999.0000,9,-999.0000,9,-999.0000,9,-999.0000,9,-999.0000,9,-999.0000,9,-999.0000,9,-999.0000,9,-999.0000,9,  15.5004,     -999.0,9,     -999.0,9,     -999.0,9,     -999.0,9,     -999.0,9,     -999.0,9,     -999.0,9,-999.0000, -999.00
33RO20071215,        P18,     105,          1,         26,      12030,2,20080124,       2008,   -32.1670,  -102.9993,       3599,   192.2,  13.8591,  34.5030,2,  34.4929,2,    232.5,2,   232.1,2,    0.90,2,    4.90,2,    0.17,2,    0.40,2,   2.996,2,   1.745,2,   1.2977,2,  2064.5,2,  2275.7,2,    492.3,2,    20.00,   7.8785,2,    25.00,-999.000,9,-999.0000,9, -999.00,9, -999.00,9,  -999.0,9,-999.000,9,-999.000,-999.000,9,-999.000,9, -999.00,9, -999.00,9, -999.00,9, -999.00,9, -999.00,9,-999.000,-999.0000,9,-999.0000,9,-999.0000,9,-999.0000,9,-999.0000,9,-999.0000,9,-999.0000,9,-999.0000,9,-999.0000,9,  13.8316,     -999.0,9,     -999.0,9,     -999.0,9,     -999.0,9,     -999.0,9,     -999.0,9,     -999.0,9,-999.0000, -999.00
33RO20071215,        P18,     105,          1,         25,      12024,2,20080124,       2008,   -32.1670,  -102.9993,       3599,   233.3,  12.3774,  34.4037,2,  34.3966,2,    227.3,2,   228.3,2,    1.20,2,    9.10,2,    0.02,2,    0.65,2,-999.000,9,-999.000,9,-999.0000,9,  2083.0,2,  2275.4,2,    557.0,2,    20.00,   7.8569,2,    25.00,-999.000,9,-999.0000,9, -999.00,9, -999.00,9,  -999.0,9,-999.000,9,-999.000,-999.000,9,-999.000,9, -999.00,9, -999.00,9, -999.00,9, -999.00,9, -999.00,9,-999.000,-999.0000,9,-999.0000,9,-999.0000,9,-999.0000,9,-999.0000,9,-999.0000,9,-999.0000,9,-999.0000,9,-999.0000,9,  12.3465,     -999.0,9,     -999.0,9,     -999.0,9,     -999.0,9,     -999.0,9,     -999.0,9,     -999.0,9,-999.0000, -999.00
33RO20071215,        P18,     105,          1,         24,      12019,2,20080124,       2008,   -32.1670,  -102.9993,       3599,   281.9,  10.8251,  34.3860,2,  34.3835,2,    217.9,2,   223.0,2,    2.00,2,   13.30,2,    0.01,2,    0.90,2,-999.000,9,-999.000,9,-999.0000,9,  2103.9,2,  -999.0,9,    628.0,2,    20.00,   7.7974,2,    25.00,-999.000,9,-999.0000,9, -999.00,9, -999.00,9,  -999.0,9,-999.000,9,-999.000,-999.000,9,-999.000,9, -999.00,9, -999.00,9, -999.00,9, -999.00,9, -999.00,9,-999.000,-999.0000,9,-999.0000,9,-999.0000,9,-999.0000,9,-999.0000,9,-999.0000,9,-999.0000,9,-999.0000,9,-999.0000,9,  10.7908,     -999.0,9,     -999.0,9,     -999.0,9,     -999.0,9,     -999.0,9,     -999.0,9,     -999.0,9,-999.0000, -999.00
33RO20071215,        P18,     105,          1,         23,      12022,2,20080124,       2008,   -32.1670,  -102.9993,       3599,   333.0,   9.1616,  34.3071,2,  34.3067,2,    229.2,2,   228.5,2,    3.00,2,   17.70,2,    0.00,2,    1.17,2,   3.683,2,   1.974,2,   1.0939,2,  -999.0,9,  -999.0,9,   -999.0,9,  -999.00,-999.0000,9,  -999.00,-999.000,9,-999.0000,9, -999.00,9, -999.00,9,  -999.0,9,-999.000,9,-999.000,-999.000,9,-999.000,9, -999.00,9, -999.00,9, -999.00,9, -999.00,9, -999.00,9,-999.000,-999.0000,9,-999.0000,9,-999.0000,9,-999.0000,9,-999.0000,9,-999.0000,9,-999.0000,9,-999.0000,9,-999.0000,9,   9.1251,     -999.0,9,     -999.0,9,     -999.0,9,     -999.0,9,     -999.0,9,     -999.0,9,     -999.0,9,-999.0000, -999.00
33RO20071215,        P18,     105,          1,         22,      12015,2,20080124,       2008,   -32.1670,  -102.9993,       3599,   383.1,   7.7747,  34.2859,2,  34.2857,2,    216.2,2,   216.1,2,    6.20,2,   22.50,2,    0.00,2,    1.53,2,-999.000,9,-999.000,9,-999.0000,9,  2144.3,2,  2270.7,2,    826.7,6,    20.00,   7.6840,2,    25.00,-999.000,9,-999.0000,9, -999.00,9, -999.00,9,  -999.0,9,-999.000,9,-999.000,-999.000,9,-999.000,9, -999.00,9, -999.00,9, -999.00,9, -999.00,9, -999.00,9,-999.000,-999.0000,9,-999.0000,9,-999.0000,9,-999.0000,9,-999.0000,9,-999.0000,9,-999.0000,9,-999.0000,9,-999.0000,9,   7.7365,     -999.0,9,     -999.0,9,     -999.0,9,     -999.0,9,     -999.0,9,     -999.0,9,     -999.0,9,-999.0000, -999.00
33RO20071215,        P18,     105,          1,         21,      12020,2,20080124,       2008,   -32.1670,  -102.9993,       3599,   466.4,   6.7787,  34.3116,2,  34.3110,2,    215.6,2,   216.1,2,    9.10,2,   25.10,2,    0.00,2,    1.70,2,-999.000,9,-999.000,9,-999.0000,9,  -999.0,9,  -999.0,9,   -999.0,9,  -999.00,-999.0000,9,  -999.00,-999.000,9,-999.0000,9, -999.00,9, -999.00,9,  -999.0,9,-999.000,9,-999.000,-999.000,9,-999.000,9, -999.00,9, -999.00,9, -999.00,9, -999.00,9, -999.00,9,-999.000,-999.0000,9,-999.0000,9,-999.0000,9,-999.0000,9,-999.0000,9,-999.0000,9,-999.0000,9,-999.0000,9,-999.0000,9,   6.7354,     -999.0,9,     -999.0,9,     -999.0,9,     -999.0,9,     -999.0,9,     -999.0,9,     -999.0,9,-999.0000, -999.00
33RO20071215,        P18,     105,          1,         20,      12055,2,20080124,       2008,   -32.1670,  -102.9993,       3599,   566.2,   6.0787,  34.2975,2,  34.2962,2,    241.2,2,   235.9,2,    9.80,2,   25.00,2,    0.00,2,    1.66,2,   3.272,2,   1.615,2,   0.5499,2,  2150.8,2,  -999.0,9,    831.5,2,    20.00,   7.6916,2,    25.00,-999.000,9,-999.0000,9, -999.00,9, -999.00,9,  -999.0,9,-999.000,9,-999.000,-999.000,9,-999.000,9, -999.00,9, -999.00,9, -999.00,9, -999.00,9, -999.00,9,-999.000,-999.0000,9,-999.0000,9,-999.0000,9,-999.0000,9,-999.0000,9,-999.0000,9,-999.0000,9,-999.0000,9,-999.0000,9,   6.0289,     -999.0,9,     -999.0,9,     -999.0,9,     -999.0,9,     -999.0,9,     -999.0,9,     -999.0,9,-999.0000, -999.00
33RO20071215,        P18,     105,          1,         19,      12018,2,20080124,       2008,   -32.1670,  -102.9993,       3599,   667.4,   5.6599,  34.2763,2,  34.2748,2,    242.0,2,   237.8,2,   11.60,2,   26.10,2,    0.00,2,    1.73,2,-999.000,9,-999.000,9,-999.0000,9,  -999.0,9,  -999.0,9,   -999.0,9,  -999.00,-999.0000,9,  -999.00,-999.000,9,-999.0000,9, -999.00,9, -999.00,9,  -999.0,9,-999.000,9,-999.000,-999.000,9,-999.000,9, -999.00,9, -999.00,9, -999.00,9, -999.00,9, -999.00,9,-999.000,-999.0000,9,-999.0000,9,-999.0000,9,-999.0000,9,-999.0000,9,-999.0000,9,-999.0000,9,-999.0000,9,-999.0000,9,   5.6028,     -999.0,9,     -999.0,9,     -999.0,9,     -999.0,9,     -999.0,9,     -999.0,9,     -999.0,9,-999.0000, -999.00
33RO20071215,        P18,     105,          1,         18,      12025,2,20080124,       2008,   -32.1670,  -102.9993,       3599,   767.4,   5.1756,  34.2632,2,  34.2619,2,    231.8,2,   231.8,2,   15.10,2,   27.70,2,    0.00,2,    1.85,2,-999.000,9,-999.000,9,-999.0000,9,  2160.8,2,  -999.0,9,    874.0,2,    20.00,   7.6799,2,    25.00,-999.000,9,-999.0000,9, -999.00,9, -999.00,9,  -999.0,9,-999.000,9,-999.000,-999.000,9,-999.000,9, -999.00,9, -999.00,9, -999.00,9, -999.00,9, -999.00,9,-999.000,-999.0000,9,-999.0000,9,-999.0000,9,-999.0000,9,-999.0000,9,-999.0000,9,-999.0000,9,-999.0000,9,-999.0000,9,   5.1122,     -999.0,9,     -999.0,9,     -999.0,9,     -999.0,9,     -999.0,9,     -999.0,9,     -999.0,9,-999.0000, -999.00
33RO20071215,        P18,     105,          1,         17,      12016,2,20080124,       2008,   -32.1670,  -102.9993,       3599,   867.8,   4.7515,  34.2761,2,  34.2760,2,    211.4,2,   210.1,2,   22.60,2,   30.40,2,    0.00,2,    2.07,2,-999.000,9,-999.000,9,-999.0000,9,  -999.0,9,  -999.0,9,   -999.0,9,  -999.00,-999.0000,9,  -999.00,-999.000,9,-999.0000,9, -999.00,9, -999.00,9,  -999.0,9,-999.000,9,-999.000,-999.000,9,-999.000,9, -999.00,9, -999.00,9, -999.00,9, -999.00,9, -999.00,9,-999.000,-999.0000,9,-999.0000,9,-999.0000,9,-999.0000,9,-999.0000,9,-999.0000,9,-999.0000,9,-999.0000,9,-999.0000,9,   4.6820,     -999.0,9,     -999.0,9,     -999.0,9,     -999.0,9,     -999.0,9,     -999.0,9,     -999.0,9,-999.0000, -999.00
33RO20071215,        P18,     105,          1,         16,      12051,2,20080124,       2008,   -32.1670,  -102.9993,       3599,   967.0,   4.2443,  34.3150,2,  34.3130,2,    182.0,2,   184.8,2,   34.00,2,   33.30,2,    0.00,2,    2.29,2,-999.000,9,-999.000,9,-999.0000,9,  2205.2,2,  -999.0,9,   1088.5,2,    20.00,   7.5893,2,    25.00,-999.000,9,-999.0000,9, -999.00,9, -999.00,9,  -999.0,9,-999.000,9,-999.000,-999.000,9,-999.000,9, -999.00,9, -999.00,9, -999.00,9, -999.00,9, -999.00,9,-999.000,-999.0000,9,-999.0000,9,-999.0000,9,-999.0000,9,-999.0000,9,-999.0000,9,-999.0000,9,-999.0000,9,-999.0000,9,   4.1698,     -999.0,9,     -999.0,9,     -999.0,9,     -999.0,9,     -999.0,9,     -999.0,9,     -999.0,9,-999.0000, -999.00
33RO20071215,        P18,     105,          1,         15,      12014,2,20080124,       2008,   -32.1670,  -102.9993,       3599,  1067.2,   3.8086,  34.3599,2,  34.3608,2,    167.5,2,   166.6,2,   46.20,2,   35.20,2,    0.00,2,    2.43,2,   0.176,6,   0.110,6,   0.0720,6,  -999.0,9,  -999.0,9,   -999.0,9,  -999.00,-999.0000,9,  -999.00,-999.000,9,-999.0000,9, -999.00,9, -999.00,9,  -999.0,9,-999.000,9,-999.000,-999.000,9,-999.000,9, -999.00,9, -999.00,9, -999.00,9, -999.00,9, -999.00,9,-999.000,-999.0000,9,-999.0000,9,-999.0000,9,-999.0000,9,-999.0000,9,-999.0000,9,-999.0000,9,-999.0000,9,-999.0000,9,   3.7291,     -999.0,9,     -999.0,9,     -999.0,9,     -999.0,9,     -999.0,9,     -999.0,9,     -999.0,9,-999.0000, -999.00
33RO20071215,        P18,     105,          1,         14,      12013,2,20080124,       2008,   -32.1670,  -102.9993,       3599,  1167.0,   3.5627,  34.4297,2,  34.4255,2,    140.0,2,   140.2,2,   61.10,2,   37.20,2,    0.00,2,    2.61,2,-999.000,9,-999.000,9,-999.0000,9,  2255.2,2,  2320.7,2,   1310.4,2,    20.00,   7.5204,2,    25.00,-999.000,9,-999.0000,9, -999.00,9, -999.00,9,  -999.0,9,-999.000,9,-999.000,-999.000,9,-999.000,9, -999.00,9, -999.00,9, -999.00,9, -999.00,9, -999.00,9,-999.000,-999.0000,9,-999.0000,9,-999.0000,9,-999.0000,9,-999.0000,9,-999.0000,9,-999.0000,9,-999.0000,9,-999.0000,9,   3.4770,     -999.0,9,     -999.0,9,     -999.0,9,     -999.0,9,     -999.0,9,     -999.0,9,     -999.0,9,-999.0000, -999.00
33RO20071215,        P18,     105,          1,         13,      12012,2,20080124,       2008,   -32.1670,  -102.9993,       3599,  1266.4,   3.4307,  34.4903,2,  34.4888,2,    122.9,2,   122.0,2,   75.70,2,   38.30,2,    0.00,2,    2.72,2,-999.000,9,-999.000,9,-999.0000,9,  -999.0,9,  -999.0,9,   -999.0,9,  -999.00,-999.0000,9,  -999.00,-999.000,9,-999.0000,9, -999.00,9, -999.00,9,  -999.0,9,-999.000,9,-999.000,-999.000,9,-999.000,9, -999.00,9, -999.00,9, -999.00,9, -999.00,9, -999.00,9,-999.000,-999.0000,9,-999.0000,9,-999.0000,9,-999.0000,9,-999.0000,9,-999.0000,9,-999.0000,9,-999.0000,9,-999.0000,9,   3.3379,     -999.0,9,     -999.0,9,     -999.0,9,     -999.0,9,     -999.0,9,     -999.0,9,     -999.0,9,-999.0000, -999.00
33RO20071215,        P18,     105,          1,         12,      12031,2,20080124,       2008,   -32.1670,  -102.9993,       3599,  1368.1,   3.2443,  34.5242,2,  34.5218,2,    122.1,2,   121.8,2,   84.10,2,   38.30,2,    0.00,2,    2.73,2,-999.000,9,-999.000,9,-999.0000,9,  2284.8,6,  -999.0,9,   1367.0,2,    20.00,   7.5014,2,    25.00,-999.000,9,-999.0000,9, -999.00,9, -999.00,9,  -999.0,9,-999.000,9,-999.000,-999.000,9,-999.000,9, -999.00,9, -999.00,9, -999.00,9, -999.00,9, -999.00,9,-999.000,-999.0000,9,-999.0000,9,-999.0000,9,-999.0000,9,-999.0000,9,-999.0000,9,-999.0000,9,-999.0000,9,-999.0000,9,   3.1449,     -999.0,9,     -999.0,9,     -999.0,9,     -999.0,9,     -999.0,9,     -999.0,9,     -999.0,9,-999.0000, -999.00