BOTTLE,20220818CCHSIOAMB
EXPOCODE,SECT_ID,STNNBR,CASTNO,SAMPNO,BTLNBR,BTLNBR_FLAG_W,DATE,TIME,LATITUDE,LONGITUDE,DEPTH,CTDPRS,CTDTMP,CTDSAL,CTDSAL_FLAG_W,SALNTY,SALNTY_FLAG_W,CTDOXY,CTDOXY_FLAG_W,OXYGEN,OXYGEN_FLAG_W,SILCAT,SILCAT_FLAG_W,NITRAT,NITRAT_FLAG_W,NITRIT,NITRIT_FLAG_W,PHSPHT,PHSPHT_FLAG_W,CFC-11,CFC-11_FLAG_W,CFC-12,CFC-12_FLAG_W,SF6,SF6_FLAG_W,TCARBN,TCARBN_FLAG_W,ALKALI,ALKALI_FLAG_W,FCO2,FCO2_FLAG_W,FCO2TMP,PH_SWS,PH_SWS_FLAG_W,PH_TMP,TRITUM,TRITUM_FLAG_W,HELIUM,HELIUM_FLAG_W,DELHE3,DELHE3_FLAG_W,DELC13,DELC13_FLAG_W,DELC14,DELC14_FLAG_W,NEON,NEON_FLAG_W,NEONER,CCL4,CCL4_FLAG_W,POC,POC_FLAG_W,DOC,DOC_FLAG_W,TDN,TDN_FLAG_W,DON,DON_FLAG_W,CHLORA,CHLORA_FLAG_W,ARGON,ARGON_FLAG_W,TRITER,CDOM325,CDOM325_FLAG_W,CDOM340,CDOM340_FLAG_W,CDOM380,CDOM380_FLAG_W,CDOM412,CDOM412_FLAG_W,CDOM443,CDOM443_FLAG_W,CDOM490,CDOM490_FLAG_W,CDOM555,CDOM555_FLAG_W,CDOMSL,CDOMSL_FLAG_W,CDOMSN,CDOMSN_FLAG_W,THETA,D18O_NO3,D18O_NO3_FLAG_W,CDOM2C,CDOM2C_FLAG_W,CDOM3C,CDOM3C_FLAG_W,LAB_DEN,LAB_DEN_FLAG_W,DELSI30,DELSI30_FLAG_W,N2,N2_FLAG_W,D15N_NO3,D15N_NO3_FLAG_W,HELIER,DELHER
,,,,,,,,,,,METERS,DBAR,ITS-90,PSS-78,,PSS-78,,UMOL/KG,,UMOL/KG,,UMOL/KG,,UMOL/KG,,UMOL/KG,,UMOL/KG,,PMOL/KG,,PMOL/KG,,FMOL/KG,,UMOL/KG,,UMOL/KG,,UATM,,DEG C,,,DEG C,TU,,NMOL/KG,,PERCNT,,/MILLE,,/MILLE,,NMOL/KG,,NMOL/KG,PMOL/KG,,UG/KG,,UMOL/KG,,UMOL/KG,,UMOL/KG,,UG/KG,,UMOL/KG,,TU,1/M,,1/M,,1/M,,1/M,,1/M,,1/M,,1/M,,1/NM,,1/NM,,DEG C,/MILLE,,,,,,,,/MILLE,,UMOL/KG,,/MILLE,,NMOL/KG,PERCNT
33RO20071215,        P18,     126,          1,         36,      12017,2,20080130,       2158,   -44.4168,  -102.9998,       3791,     5.3,  14.4323,  34.0053,2,  34.0050,2,    258.5,2,   259.3,2,    1.20,2,   12.70,2,    0.32,2,    0.97,2,-999.000,5,-999.000,5,-999.0000,5,  2059.5,6,  2259.0,2,   -999.0,9,  -999.00,   7.8530,2,    25.00,-999.000,9,-999.0000,9, -999.00,9, -999.00,9,  -999.0,9,-999.000,9,-999.000,-999.000,9,-999.000,9,   50.75,2,   17.28,2, -999.00,9,    0.08,2, -999.00,9,-999.000,   0.0700,2,   0.0467,2,   0.0214,2,   0.0170,2,   0.0108,2,   0.0045,2,   0.0004,3,   0.0142,2,   0.0187,2,  14.4316,     -999.0,9,     -999.0,9,     -999.0,9,     -999.0,9,     -999.0,9,     -999.0,9,     -999.0,9,-999.0000, -999.00
33RO20071215,        P18,     126,          1,         35,      12029,2,20080130,       2158,   -44.4168,  -102.9998,       3791,     9.4,  14.4203,  34.0062,2,  34.0052,2,    257.5,2,   259.3,2,    1.20,2,   12.70,2,    0.32,2,    0.97,2,   3.058,2,   1.780,2,   1.5500,2,  2059.7,2,  2265.0,2,   -999.0,9,  -999.00,   7.8644,2,    25.00,-999.000,9,-999.0000,9, -999.00,9, -999.00,9,  -999.0,1,-999.000,9,-999.000,-999.000,9,-999.000,9,   50.75,2,   16.91,2, -999.00,9,    0.09,2, -999.00,1,-999.000,   0.0548,2,   0.0331,2,   0.0111,2,   0.0086,2,   0.0038,2,  -0.0003,4,  -0.0025,4,   0.0272,2,   0.0326,2,  14.4190,     -999.0,1,     -999.0,9,     -999.0,9,     -999.0,9,     -999.0,9,     -999.0,1,     -999.0,9,-999.0000, -999.00
33RO20071215,        P18,     126,          1,         34,      12049,2,20080130,       2158,   -44.4168,  -102.9998,       3791,    19.1,  14.4225,  34.0059,2,  34.0063,2,    258.1,2,   259.5,2,    1.20,2,   12.70,2,    0.32,2,    0.97,2,-999.000,9,-999.000,9,-999.0000,9,  2058.8,2,  2260.1,2,   -999.0,9,  -999.00,   7.8618,2,    25.00,-999.000,9,-999.0000,9, -999.00,9, -999.00,9,  -999.0,9,-999.000,9,-999.000,-999.000,9,-999.000,9,   49.31,2,   17.37,2, -999.00,9,    0.08,2, -999.00,9,-999.000,   0.0623,2,   0.0390,2,   0.0143,2,   0.0112,2,   0.0059,2,   0.0012,2,  -0.0016,4,   0.0195,2,   0.0268,2,  14.4198,     -999.0,9,     -999.0,9,     -999.0,9,     -999.0,9,     -999.0,9,     -999.0,9,     -999.0,9,-999.0000, -999.00
33RO20071215,        P18,     126,          1,         33,      12027,2,20080130,       2158,   -44.4168,  -102.9998,       3791,    42.3,  13.7015,  34.0172,2,  34.0191,2,    263.0,2,   264.1,2,    1.20,2,   12.80,2,    0.29,2,    0.97,2,   3.160,2,   1.835,2,   1.4917,2,  2060.6,2,  2261.9,2,   -999.0,9,  -999.00,   7.8659,2,    25.00,-999.000,9,-999.0000,9, -999.00,9, -999.00,9,  -999.0,9,-999.000,9,-999.000,-999.000,9,-999.000,9,   48.60,2,   16.54,2, -999.00,9,    0.10,2, -999.00,9,-999.000,   0.0504,2,   0.0302,2,   0.0130,2,   0.0100,2,   0.0049,2,   0.0005,4,  -0.0020,4,   0.0186,2,   0.0252,2,  13.6956,     -999.0,9,     -999.0,9,     -999.0,9,     -999.0,9,     -999.0,9,     -999.0,9,     -999.0,9,-999.0000, -999.00
33RO20071215,        P18,     126,          1,         32,      12023,2,20080130,       2158,   -44.4168,  -102.9998,       3791,    66.5,  10.9052,  34.0429,2,  34.0465,2,    287.1,2,   285.0,2,    1.30,2,   13.10,2,    0.21,2,    0.99,2,-999.000,9,-999.000,9,-999.0000,9,  2070.8,2,  2264.3,2,   -999.0,9,  -999.00,-999.0000,9,  -999.00,-999.000,9,-999.0000,9, -999.00,9, -999.00,9,  -999.0,9,-999.000,9,-999.000,-999.000,9,-999.000,9,   48.22,2,   16.05,2, -999.00,9,    0.13,2, -999.00,9,-999.000,   0.0663,2,   0.0413,2,   0.0173,2,   0.0117,2,   0.0056,2,   0.0009,2,  -0.0017,4,   0.0191,2,   0.0240,2,  10.8972,     -999.0,9,     -999.0,9,     -999.0,9,     -999.0,9,     -999.0,9,     -999.0,9,     -999.0,9,-999.0000, -999.00
33RO20071215,        P18,     126,          1,         31,      12037,2,20080130,       2158,   -44.4168,  -102.9998,       3791,    91.6,   9.7989,  34.0639,2,  34.0668,2,    284.2,2,   283.4,2,    1.40,2,   13.60,2,    0.28,2,    1.03,2,   3.797,2,   2.149,2,   1.7307,2,  2078.4,2,  2264.8,2,   -999.0,9,  -999.00,   7.8436,2,    25.00,-999.000,9,-999.0000,9, -999.00,9, -999.00,9,  -999.0,9,-999.000,9,-999.000,-999.000,9,-999.000,9,   47.87,2,   16.24,2, -999.00,9,    0.14,2, -999.00,1,-999.000,   0.0713,2,   0.0459,2,   0.0208,2,   0.0146,2,   0.0072,2,   0.0016,2,  -0.0017,4,   0.0172,2,   0.0212,2,   9.7886,     -999.0,1,     -999.0,9,     -999.0,9,     -999.0,9,     -999.0,9,     -999.0,1,     -999.0,9,-999.0000, -999.00
33RO20071215,        P18,     126,          1,         30,      12036,2,20080130,       2158,   -44.4168,  -102.9998,       3791,   117.2,   8.9738,  34.0805,2,  34.0807,2,    283.1,2,   281.4,2,    1.60,2,   14.70,2,    0.36,2,    1.11,2,-999.000,9,-999.000,9,-999.0000,9,  2087.3,2,  2264.5,2,   -999.0,9,  -999.00,   7.8297,2,    25.00,-999.000,9,-999.0000,9, -999.00,9, -999.00,9,  -999.0,9,-999.000,9,-999.000,-999.000,9,-999.000,9,   47.81,2,   17.44,2, -999.00,9,    0.15,2, -999.00,1,-999.000,   0.0698,2,   0.0456,2,   0.0216,2,   0.0159,2,   0.0085,2,   0.0022,2,  -0.0009,4,   0.0159,2,   0.0196,2,   8.9613,     -999.0,1,     -999.0,9,     -999.0,9,     -999.0,9,     -999.0,9,     -999.0,1,     -999.0,9,-999.0000, -999.00
33RO20071215,        P18,     126,          1,         29,      12044,2,20080130,       2158,   -44.4168,  -102.9998,       3791,   143.6,   8.3840,  34.1026,2,  34.1085,2,    280.3,2,   278.7,2,    2.00,2,   16.10,2,    0.32,2,    1.20,2,   4.026,2,   2.253,2,   1.6797,2,  2097.1,2,  2272.4,2,   -999.0,9,  -999.00,   7.7974,2,    25.00,-999.000,9,-999.0000,9, -999.00,9, -999.00,9,  -999.0,9,-999.000,9,-999.000,-999.000,9,-999.000,9,   47.57,2,   18.83,2, -999.00,9,    0.12,2, -999.00,1,-999.000,   0.0638,2,   0.0403,2,   0.0186,2,   0.0141,2,   0.0067,2,   0.0013,2,  -0.0014,4,   0.0163,2,   0.0209,2,   8.3693,     -999.0,1,     -999.0,9,     -999.0,9,     -999.0,9,     -999.0,9,     -999.0,1,     -999.0,9,-999.0000, -999.00
33RO20071215,        P18,     126,          1,         28,      12057,2,20080130,       2158,   -44.4168,  -102.9998,       3791,   167.7,   7.8120,  34.1540,2,  34.1563,2,    269.8,2,   268.3,2,    2.90,2,   18.30,2,    0.13,2,    1.31,2,-999.000,9,-999.000,9,-999.0000,9,  2123.0,2,  2272.9,2,   -999.0,9,  -999.00,   7.7642,2,    25.00,-999.000,9,-999.0000,9, -999.00,9, -999.00,9,  -999.0,9,-999.000,9,-999.000,-999.000,9,-999.000,9,   47.49,2,   20.63,2, -999.00,9,    0.08,2, -999.00,1,-999.000,   0.0674,2,   0.0424,2,   0.0196,2,   0.0150,2,   0.0072,2,   0.0015,2,  -0.0011,4,   0.0161,2,   0.0208,2,   7.7955,     -999.0,1,     -999.0,9,     -999.0,9,     -999.0,9,     -999.0,9,     -999.0,1,     -999.0,9,-999.0000, -999.00
33RO20071215,        P18,     126,          1,         27,      12026,2,20080130,       2158,   -44.4168,  -102.9998,       3791,   191.9,   7.0249,  34.1998,2,  34.2058,2,    263.6,2,   263.6,2,    4.40,2,   20.40,2,    0.01,2,    1.42,2,   4.276,2,   2.320,2,   1.5579,2,  2122.1,2,  2276.5,2,   -999.0,9,  -999.00,   7.7924,2,    25.00,-999.000,9,-999.0000,9, -999.00,9, -999.00,9,  -999.0,9,-999.000,9,-999.000,-999.000,9,-999.000,9,   46.81,2,   22.38,2, -999.00,9,    0.04,2, -999.00,1,-999.000,   0.0692,2,   0.0431,2,   0.0205,2,   0.0158,2,   0.0075,2,   0.0018,2,  -0.0010,4,   0.0156,2,   0.0204,2,   7.0071,     -999.0,1,     -999.0,9,     -999.0,9,     -999.0,9,     -999.0,9,     -999.0,1,     -999.0,9,-999.0000, -999.00
33RO20071215,        P18,     126,          1,         26,      12030,2,20080130,       2158,   -44.4168,  -102.9998,       3791,   232.4,   6.7056,  34.2592,2,  34.2602,2,    261.0,2,   261.8,2,    5.60,2,   21.20,2,    0.00,2,    1.47,2,-999.000,9,-999.000,9,-999.0000,9,  2129.3,2,  2272.9,2,   -999.0,9,  -999.00,   7.7379,2,    25.00,-999.000,9,-999.0000,9, -999.00,9, -999.00,9,  -999.0,9,-999.000,9,-999.000,-999.000,9,-999.000,9,   45.00,2,   23.15,2, -999.00,9,    0.01,2, -999.00,9,-999.000,   0.0681,2,   0.0420,2,   0.0194,2,   0.0145,2,   0.0070,2,   0.0016,2,  -0.0011,4,   0.0165,2,   0.0216,2,   6.6846,     -999.0,9,     -999.0,9,     -999.0,9,     -999.0,9,     -999.0,9,     -999.0,9,     -999.0,9,-999.0000, -999.00
33RO20071215,        P18,     126,          1,         25,      12024,2,20080130,       2158,   -44.4168,  -102.9998,       3791,   283.7,   6.5720,  34.2881,2,  34.2893,2,    262.1,2,   262.4,2,    6.40,2,   21.50,2,    0.00,2,    1.49,2,   4.223,2,   2.265,2,   1.2542,2,  2131.3,2,  2277.1,2,   -999.0,9,  -999.00,   7.7452,2,    25.00,-999.000,9,-999.0000,9, -999.00,9, -999.00,9,  -999.0,9,-999.000,9,-999.000,-999.000,9,-999.000,9,   44.31,2,   23.19,2, -999.00,9, -999.00,9, -999.00,9,-999.000,   0.0660,2,   0.0404,2,   0.0182,2,   0.0132,2,   0.0061,2,   0.0011,2,  -0.0013,4,   0.0174,2,   0.0227,2,   6.5465,     -999.0,9,     -999.0,9,     -999.0,9,     -999.0,9,     -999.0,9,     -999.0,9,     -999.0,9,-999.0000, -999.00
33RO20071215,        P18,     126,          1,         24,      12019,2,20080130,       2158,   -44.4168,  -102.9998,       3791,   333.1,   6.4604,  34.3001,2,  34.3013,2,    263.5,2,   263.2,2,    7.10,2,   21.70,2,    0.00,2,    1.51,2,-999.000,9,-999.000,9,-999.0000,9,  2133.1,2,  2275.7,2,   -999.0,9,  -999.00,   7.7351,2,    25.00,-999.000,9,-999.0000,9, -999.00,9, -999.00,9,  -999.0,9,-999.000,9,-999.000,-999.000,9,-999.000,9,   44.26,2,   23.19,2, -999.00,9, -999.00,9, -999.00,9,-999.000,   0.0657,2,   0.0402,2,   0.0181,2,   0.0128,2,   0.0060,2,   0.0012,2,  -0.0014,4,   0.0177,2,   0.0229,2,   6.4307,     -999.0,9,     -999.0,9,     -999.0,9,     -999.0,9,     -999.0,9,     -999.0,9,     -999.0,9,-999.0000, -999.00
33RO20071215,        P18,     126,          1,         23,      12022,2,20080130,       2158,   -44.4168,  -102.9998,       3791,   383.6,   6.3198,  34.2974,2,  34.2974,2,    264.6,2,   264.1,2,    7.80,2,   22.20,2,    0.00,2,    1.54,2,   4.195,2,   2.207,2,   1.1613,2,  2134.4,2,  2282.2,2,   -999.0,9,  -999.00,   7.7271,2,    25.00,-999.000,9,-999.0000,9, -999.00,9, -999.00,9,  -999.0,9,-999.000,9,-999.000,-999.000,9,-999.000,9,   43.18,2,   23.24,2, -999.00,9, -999.00,9, -999.00,9,-999.000,   0.0660,2,   0.0405,2,   0.0187,2,   0.0134,2,   0.0066,2,   0.0015,2,  -0.0012,4,   0.0171,2,   0.0221,2,   6.2858,     -999.0,9,     -999.0,9,     -999.0,9,     -999.0,9,     -999.0,9,     -999.0,9,     -999.0,9,-999.0000, -999.00
33RO20071215,        P18,     126,          1,         22,      12015,2,20080130,       2158,   -44.4168,  -102.9998,       3791,   465.8,   6.0757,  34.2823,2,  34.2826,2,    263.9,2,   264.1,2,    8.40,2,   22.70,2,    0.00,2,    1.57,2,-999.000,9,-999.000,9,-999.0000,9,  2136.1,2,  2283.4,2,   -999.0,9,  -999.00,   7.7243,2,    25.00,-999.000,9,-999.0000,9, -999.00,9, -999.00,9,  -999.0,9,-999.000,9,-999.000,-999.000,9,-999.000,9,   42.41,2,   24.19,2, -999.00,9, -999.00,9, -999.00,9,-999.000,   0.0653,2,   0.0399,2,   0.0188,2,   0.0134,2,   0.0065,2,   0.0013,3,  -0.0015,4,   0.0169,2,   0.0218,2,   6.0350,     -999.0,9,     -999.0,9,     -999.0,9,     -999.0,9,     -999.0,9,     -999.0,9,     -999.0,9,-999.0000, -999.00
33RO20071215,        P18,     126,          1,         21,      12020,2,20080130,       2158,   -44.4168,  -102.9998,       3791,   566.9,   5.7761,  34.2642,2,  34.2648,2,    261.2,2,   261.5,2,    9.50,2,   23.80,2,    0.00,2,    1.64,2,   3.950,2,   2.035,2,   0.9814,2,  2140.0,2,  2283.4,2,   -999.0,9,  -999.00,   7.7125,2,    25.00,-999.000,9,-999.0000,9, -999.00,9, -999.00,9,  -999.0,9,-999.000,9,-999.000,-999.000,9,-999.000,9,   41.80,2,   25.19,2, -999.00,9, -999.00,9, -999.00,9,-999.000,   0.0632,2,   0.0377,2,   0.0166,2,   0.0113,2,   0.0050,2,   0.0006,3,  -0.0017,4,   0.0190,2,   0.0246,2,   5.7275,     -999.0,9,     -999.0,9,     -999.0,9,     -999.0,9,     -999.0,9,     -999.0,9,     -999.0,9,-999.0000, -999.00
33RO20071215,        P18,     126,          1,         20,      12055,2,20080130,       2158,   -44.4168,  -102.9998,       3791,   667.2,   5.5041,  34.2536,2,  34.2550,2,    253.9,2,   253.3,2,   11.60,2,   25.10,2,    0.00,2,    1.72,2,-999.000,9,-999.000,9,-999.0000,9,  2148.2,2,  2281.4,2,   -999.0,9,  -999.00,   7.7150,2,    25.00,-999.000,9,-999.0000,9, -999.00,9, -999.00,9,  -999.0,9,-999.000,9,-999.000,-999.000,9,-999.000,9,   41.39,2,   26.71,2, -999.00,9, -999.00,9, -999.00,9,-999.000,   0.0661,2,   0.0399,2,   0.0178,2,   0.0122,2,   0.0056,2,   0.0012,2,  -0.0015,4,   0.0185,2,   0.0238,2,   5.4478,     -999.0,9,     -999.0,9,     -999.0,9,     -999.0,9,     -999.0,9,     -999.0,9,     -999.0,9,-999.0000, -999.00
33RO20071215,        P18,     126,          1,         19,      12018,2,20080130,       2158,   -44.4168,  -102.9998,       3791,   767.3,   5.1379,  34.2524,2,  34.2538,2,    240.3,2,   239.0,2,   15.80,2,   27.10,2,    0.00,2,    1.86,2,   2.990,2,   1.498,2,   0.6004,2,  2160.5,2,  2282.7,2,   -999.0,9,  -999.00,   7.6786,2,    25.00,-999.000,9,-999.0000,9, -999.00,9, -999.00,9,  -999.0,9,-999.000,9,-999.000,-999.000,9,-999.000,9,   41.45,2,   28.27,2, -999.00,9, -999.00,9, -999.00,9,-999.000,   0.0693,2,   0.0421,2,   0.0189,2,   0.0126,2,   0.0058,2,   0.0011,2,  -0.0015,4,   0.0185,2,   0.0235,2,   5.0747,     -999.0,9,     -999.0,9,     -999.0,9,     -999.0,9,     -999.0,9,     -999.0,9,     -999.0,9,-999.0000, -999.00
33RO20071215,        P18,     126,          1,         18,      12025,2,20080130,       2158,   -44.4168,  -102.9998,       3791,   866.8,   4.7646,  34.2702,2,  34.2712,2,    224.1,2,   223.2,2,   21.40,2,   29.10,2,    0.00,2,    2.00,2,-999.000,9,-999.000,9,-999.0000,9,  2175.1,2,  2288.8,2,   -999.0,9,  -999.00,   7.6528,2,    25.00,-999.000,9,-999.0000,9, -999.00,9, -999.00,9,  -999.0,9,-999.000,9,-999.000,-999.000,9,-999.000,9,   41.29,2,   30.38,2, -999.00,9, -999.00,9, -999.00,9,-999.000,   0.0833,2,   0.0533,2,   0.0255,2,   0.0181,2,   0.0105,2,   0.0038,2,   0.0005,3,   0.0159,2,   0.0196,2,   4.6951,     -999.0,9,     -999.0,9,     -999.0,9,     -999.0,9,     -999.0,9,     -999.0,9,     -999.0,9,-999.0000, -999.00
33RO20071215,        P18,     126,          1,         17,      12016,2,20080130,       2158,   -44.4168,  -102.9998,       3791,   967.4,   4.3571,  34.2917,2,  34.2938,2,    211.5,2,   210.7,2,   28.40,2,   30.80,2,    0.00,2,    2.12,2,   1.842,2,   0.935,2,   0.3869,2,  2190.9,2,  2300.5,2,   -999.0,9,  -999.00,   7.6224,2,    25.00,-999.000,9,-999.0000,9, -999.00,9, -999.00,9,  -999.0,9,-999.000,9,-999.000,-999.000,9,-999.000,9,   40.72,2,   32.21,2, -999.00,9, -999.00,9, -999.00,9,-999.000,   0.0855,2,   0.0538,2,   0.0261,2,   0.0181,2,   0.0104,2,   0.0035,2,   0.0003,3,   0.0162,2,   0.0200,2,   4.2818,     -999.0,9,     -999.0,9,     -999.0,9,     -999.0,9,     -999.0,9,     -999.0,9,     -999.0,9,-999.0000, -999.00
33RO20071215,        P18,     126,          1,         16,      12051,2,20080130,       2158,   -44.4168,  -102.9998,       3791,  1066.8,   3.9268,  34.3205,2,  34.3209,2,    199.5,2,   199.6,2,   36.20,2,   32.30,2,    0.00,2,    2.23,2,-999.000,9,-999.000,9,-999.0000,9,  2205.3,2,  2305.5,2,   -999.0,9,  -999.00,   7.6046,2,    25.00,-999.000,9,-999.0000,9, -999.00,9, -999.00,9,  -999.0,9,-999.000,9,-999.000,-999.000,9,-999.000,9,   40.19,2,   33.89,2, -999.00,9, -999.00,9, -999.00,9,-999.000,   0.0907,2,   0.0576,2,   0.0284,2,   0.0197,2,   0.0115,2,   0.0040,2,   0.0005,3,   0.0159,2,   0.0194,2,   3.8464,     -999.0,9,     -999.0,9,     -999.0,9,     -999.0,9,     -999.0,9,     -999.0,9,     -999.0,9,-999.0000, -999.00
33RO20071215,        P18,     126,          1,         15,      12014,2,20080130,       2158,   -44.4168,  -102.9998,       3791,  1167.8,   3.5613,  34.3612,2,  34.3625,2,    185.4,2,   185.2,2,   45.80,2,   33.80,2,    0.00,2,    2.34,2,   0.598,2,   0.316,2,   0.0719,2,  2221.2,2,  2315.2,2,   -999.0,9,  -999.00,   7.5874,2,    25.00,-999.000,9,-999.0000,9, -999.00,9, -999.00,9,  -999.0,9,-999.000,9,-999.000,-999.000,9,-999.000,9,   39.94,2,   34.87,2, -999.00,9, -999.00,9, -999.00,9,-999.000,   0.0976,2,   0.0625,2,   0.0307,2,   0.0210,2,   0.0122,2,   0.0041,2,   0.0005,3,   0.0161,2,   0.0193,2,   3.4757,     -999.0,9,     -999.0,9,     -999.0,9,     -999.0,9,     -999.0,9,     -999.0,9,     -999.0,9,-999.0000, -999.00
33RO20071215,        P18,     126,          1,         14,      12013,2,20080130,       2158,   -44.4168,  -102.9998,       3791,  1267.0,   3.2818,  34.4100,2,  34.4103,2,    170.3,2,   170.3,2,   55.80,2,   35.00,2,    0.00,2,    2.43,2,-999.000,9,-999.000,9,-999.0000,9,  2237.3,2,  2319.8,2,   -999.0,9,  -999.00,   7.5604,2,    25.00,-999.000,9,-999.0000,9, -999.00,9, -999.00,9,  -999.0,9,-999.000,9,-999.000,-999.000,9,-999.000,9,   39.60,2,   36.52,2, -999.00,9, -999.00,9, -999.00,9,-999.000,   0.1022,2,   0.0661,2,   0.0328,2,   0.0223,2,   0.0131,2,   0.0046,2,   0.0007,2,   0.0160,2,   0.0189,2,   3.1906,     -999.0,9,     -999.0,9,     -999.0,9,     -999.0,9,     -999.0,9,     -999.0,9,     -999.0,9,-999.0000, -999.00
33RO20071215,        P18,     126,          1,         13,      12012,2,20080130,       2158,   -44.4168,  -102.9998,       3791,  1366.9,   3.1106,  34.4573,2,  34.4582,2,    157.1,2,   156.7,2,   65.80,2,   35.90,2,    0.00,2,    2.51,2,   0.230,2,   0.131,2,   0.0000,2,  2253.3,2,  2326.1,2,   -999.0,9,  -999.00,   7.5460,2,    25.00,-999.000,9,-999.0000,9, -999.00,9, -999.00,9,  -999.0,9,-999.000,9,-999.000,-999.000,9,-999.000,9,   38.94,2,   37.14,2, -999.00,9, -999.00,9, -999.00,9,-999.000,   0.1118,2,   0.0738,2,   0.0376,2,   0.0261,2,   0.0160,2,   0.0063,2,   0.0019,2,   0.0153,2,   0.0177,2,   3.0128,     -999.0,9,     -999.0,9,     -999.0,9,     -999.0,9,     -999.0,9,     -999.0,9,     -999.0,9,-999.0000, -999.00
33RO20071215,        P18,     126,          1,         12,      12031,2,20080130,       2158,   -44.4168,  -102.9998,       3791,  1533.4,   2.8684,  34.5179,2,  34.5189,2,    148.9,2,   148.7,2,   77.60,2,   36.40,2,    0.00,2,    2.54,2,-999.000,9,-999.000,9,-999.0000,9,  2265.5,6,  2343.3,2,   -999.0,9,  -999.00,   7.5352,2,    25.00,-999.000,9,-999.0000,9, -999.00,9, -999.00,9,  -999.0,9,-999.000,9,-999.000,-999.000,9,-999.000,9,   38.86,2,   37.73,2, -999.00,9, -999.00,9, -999.00,9,-999.000,   0.1142,2,   0.0754,2,   0.0382,2,   0.0260,2,   0.0159,2,   0.0061,2,   0.0016,2,   0.0156,2,   0.0180,2,   2.7595,     -999.0,9,     -999.0,9,     -999.0,9,     -999.0,9,     -999.0,9,     -999.0,9,     -999.0,9,-999.0000, -999.00