BOTTLE,20220818CCHSIOAMB
EXPOCODE,SECT_ID,STNNBR,CASTNO,SAMPNO,BTLNBR,BTLNBR_FLAG_W,DATE,TIME,LATITUDE,LONGITUDE,DEPTH,CTDPRS,CTDTMP,CTDSAL,CTDSAL_FLAG_W,SALNTY,SALNTY_FLAG_W,CTDOXY,CTDOXY_FLAG_W,OXYGEN,OXYGEN_FLAG_W,SILCAT,SILCAT_FLAG_W,NITRAT,NITRAT_FLAG_W,NITRIT,NITRIT_FLAG_W,PHSPHT,PHSPHT_FLAG_W,CFC-11,CFC-11_FLAG_W,CFC-12,CFC-12_FLAG_W,SF6,SF6_FLAG_W,TCARBN,TCARBN_FLAG_W,ALKALI,ALKALI_FLAG_W,FCO2,FCO2_FLAG_W,FCO2TMP,PH_SWS,PH_SWS_FLAG_W,PH_TMP,TRITUM,TRITUM_FLAG_W,HELIUM,HELIUM_FLAG_W,DELHE3,DELHE3_FLAG_W,DELC13,DELC13_FLAG_W,DELC14,DELC14_FLAG_W,NEON,NEON_FLAG_W,NEONER,CCL4,CCL4_FLAG_W,POC,POC_FLAG_W,DOC,DOC_FLAG_W,TDN,TDN_FLAG_W,DON,DON_FLAG_W,CHLORA,CHLORA_FLAG_W,ARGON,ARGON_FLAG_W,TRITER,CDOM325,CDOM325_FLAG_W,CDOM340,CDOM340_FLAG_W,CDOM380,CDOM380_FLAG_W,CDOM412,CDOM412_FLAG_W,CDOM443,CDOM443_FLAG_W,CDOM490,CDOM490_FLAG_W,CDOM555,CDOM555_FLAG_W,CDOMSL,CDOMSL_FLAG_W,CDOMSN,CDOMSN_FLAG_W,THETA,D18O_NO3,D18O_NO3_FLAG_W,CDOM2C,CDOM2C_FLAG_W,CDOM3C,CDOM3C_FLAG_W,LAB_DEN,LAB_DEN_FLAG_W,DELSI30,DELSI30_FLAG_W,N2,N2_FLAG_W,D15N_NO3,D15N_NO3_FLAG_W,HELIER,DELHER
,,,,,,,,,,,METERS,DBAR,ITS-90,PSS-78,,PSS-78,,UMOL/KG,,UMOL/KG,,UMOL/KG,,UMOL/KG,,UMOL/KG,,UMOL/KG,,PMOL/KG,,PMOL/KG,,FMOL/KG,,UMOL/KG,,UMOL/KG,,UATM,,DEG C,,,DEG C,TU,,NMOL/KG,,PERCNT,,/MILLE,,/MILLE,,NMOL/KG,,NMOL/KG,PMOL/KG,,UG/KG,,UMOL/KG,,UMOL/KG,,UMOL/KG,,UG/KG,,UMOL/KG,,TU,1/M,,1/M,,1/M,,1/M,,1/M,,1/M,,1/M,,1/NM,,1/NM,,DEG C,/MILLE,,,,,,,,/MILLE,,UMOL/KG,,/MILLE,,NMOL/KG,PERCNT
33RO20071215,        P18,     162,          1,         24,      11024,2,20080211,       0428,   -64.2483,  -102.9965,       4987,     5.8,   2.8086,  33.9205,2,  33.9239,2,    325.9,2,   326.3,2,    8.90,2,   25.10,2,    0.22,2,    1.67,2,   5.422,2,   3.044,2,   2.1942,2,  2140.5,6,  2277.9,2,   -999.0,9,  -999.00,   7.7487,2,    25.00,-999.000,9,-999.0000,9, -999.00,9, -999.00,9,  -999.0,1,-999.000,9,-999.000,-999.000,9,-999.000,9, -999.00,9, -999.00,9, -999.00,9, -999.00,9, -999.00,9,-999.000,-999.0000,9,-999.0000,9,-999.0000,9,-999.0000,9,-999.0000,9,-999.0000,9,-999.0000,9,-999.0000,9,-999.0000,9,   2.8083,     -999.0,9,     -999.0,9,     -999.0,9,     -999.0,9,     -999.0,9,     -999.0,9,     -999.0,9,-999.0000, -999.00
33RO20071215,        P18,     162,          1,         23,      11023,2,20080211,       0428,   -64.2483,  -102.9965,       4987,    20.4,   2.8109,  33.9205,2,  33.9249,2,    326.5,2,   326.5,2,    8.90,2,   25.10,2,    0.22,2,    1.67,2,-999.000,9,-999.000,9,-999.0000,9,  2140.5,2,  2284.5,2,   -999.0,9,  -999.00,   7.7495,2,    25.00,-999.000,9,-999.0000,9, -999.00,9, -999.00,9,  -999.0,9,-999.000,9,-999.000,-999.000,9,-999.000,9, -999.00,9, -999.00,9, -999.00,9, -999.00,9, -999.00,1,-999.000,-999.0000,9,-999.0000,9,-999.0000,9,-999.0000,9,-999.0000,9,-999.0000,9,-999.0000,9,-999.0000,9,-999.0000,9,   2.8098,     -999.0,1,     -999.0,9,     -999.0,9,     -999.0,9,     -999.0,9,     -999.0,1,     -999.0,9,-999.0000, -999.00
33RO20071215,        P18,     162,          1,         22,      11022,2,20080211,       0428,   -64.2483,  -102.9965,       4987,    43.9,   2.7978,  33.9218,2,  33.9248,2,    327.7,2,   326.4,2,    8.80,2,   25.10,2,    0.22,2,    1.67,2,-999.000,9,-999.000,9,-999.0000,9,  2141.3,2,  2284.9,2,   -999.0,9,  -999.00,   7.7539,2,    25.00,-999.000,9,-999.0000,9, -999.00,9,    1.51,2,  -999.0,1,-999.000,9,-999.000,-999.000,9,-999.000,9, -999.00,9, -999.00,9, -999.00,9, -999.00,9, -999.00,9,-999.000,-999.0000,9,-999.0000,9,-999.0000,9,-999.0000,9,-999.0000,9,-999.0000,9,-999.0000,9,-999.0000,9,-999.0000,9,   2.7953,     -999.0,9,     -999.0,9,     -999.0,9,     -999.0,9,     -999.0,9,     -999.0,9,     -999.0,9,-999.0000, -999.00
33RO20071215,        P18,     162,          1,         21,      11021,2,20080211,       0428,   -64.2483,  -102.9965,       4987,    68.7,   1.6111,  33.9411,2,  33.9458,2,    332.2,2,   334.5,2,   15.20,2,   26.10,2,    0.21,2,    1.87,2,   5.754,2,   3.205,2,   2.2310,2,  2149.3,2,  2287.3,2,   -999.0,9,  -999.00,   7.7357,2,    25.00,-999.000,9,-999.0000,9, -999.00,9, -999.00,9,  -999.0,9,-999.000,9,-999.000,-999.000,9,-999.000,9, -999.00,9, -999.00,9, -999.00,9, -999.00,9, -999.00,9,-999.000,-999.0000,9,-999.0000,9,-999.0000,9,-999.0000,9,-999.0000,9,-999.0000,9,-999.0000,9,-999.0000,9,-999.0000,9,   1.6078,     -999.0,9,     -999.0,9,     -999.0,9,     -999.0,9,     -999.0,9,     -999.0,9,     -999.0,9,-999.0000, -999.00
33RO20071215,        P18,     162,          1,         20,      11020,2,20080211,       0428,   -64.2483,  -102.9965,       4987,    92.8,   0.9700,  33.9516,2,  33.9561,2,    330.5,2,   330.6,2,   23.70,2,   27.10,2,    0.21,2,    2.02,2,-999.000,9,-999.000,9,-999.0000,9,  2161.5,2,  2280.6,2,   -999.0,9,  -999.00,   7.7106,2,    25.00,-999.000,9,-999.0000,9, -999.00,9,    1.07,2,  -999.0,1,-999.000,9,-999.000,-999.000,9,-999.000,9, -999.00,9, -999.00,9, -999.00,9, -999.00,9, -999.00,9,-999.000,-999.0000,9,-999.0000,9,-999.0000,9,-999.0000,9,-999.0000,9,-999.0000,9,-999.0000,9,-999.0000,9,-999.0000,9,   0.9660,     -999.0,9,     -999.0,9,     -999.0,9,     -999.0,9,     -999.0,9,     -999.0,9,     -999.0,9,-999.0000, -999.00
33RO20071215,        P18,     162,          1,         19,      11019,2,20080211,       0428,   -64.2483,  -102.9965,       4987,   133.0,   0.5250,  34.0175,2,  34.0244,2,    321.5,2,   320.8,2,   32.50,2,   29.90,2,    0.24,2,    2.10,2,   5.531,2,   3.092,2,   2.1583,2,  2174.7,2,  2289.1,2,   -999.0,9,  -999.00,   7.6694,2,    25.00,-999.000,9,-999.0000,9, -999.00,9,     1.1,2,  -999.0,1,-999.000,9,-999.000,-999.000,9,-999.000,9, -999.00,9, -999.00,9, -999.00,9, -999.00,9, -999.00,9,-999.000,-999.0000,9,-999.0000,9,-999.0000,9,-999.0000,9,-999.0000,9,-999.0000,9,-999.0000,9,-999.0000,9,-999.0000,9,   0.5197,     -999.0,9,     -999.0,9,     -999.0,9,     -999.0,9,     -999.0,9,     -999.0,9,     -999.0,9,-999.0000, -999.00
33RO20071215,        P18,     162,          1,         18,      11018,2,20080211,       0428,   -64.2483,  -102.9965,       4987,   201.4,   0.6568,  34.0868,2,  34.0897,2,    301.4,2,   298.7,2,   39.30,2,   31.30,2,    0.01,2,    2.15,2,   4.923,2,   2.748,2,   1.7948,2,  2189.3,2,  2294.1,2,   -999.0,9,  -999.00,   7.6463,2,    25.00,-999.000,9,-999.0000,9, -999.00,9,    0.57,4,  -999.0,1,-999.000,9,-999.000,-999.000,9,-999.000,9, -999.00,9, -999.00,9, -999.00,9, -999.00,9, -999.00,9,-999.000,-999.0000,9,-999.0000,9,-999.0000,9,-999.0000,9,-999.0000,9,-999.0000,9,-999.0000,9,-999.0000,9,-999.0000,9,   0.6485,     -999.0,9,     -999.0,9,     -999.0,9,     -999.0,9,     -999.0,9,     -999.0,9,     -999.0,9,-999.0000, -999.00
33RO20071215,        P18,     162,          1,         17,      11017,2,20080211,       0428,   -64.2483,  -102.9965,       4987,   274.3,   1.5928,  34.2525,2,  34.2577,2,    248.9,2,   236.3,2,   50.40,2,   33.60,2,    0.01,2,    2.31,2,   3.139,2,   1.691,2,   1.0166,2,  2215.0,2,  2306.2,2,   -999.0,9,  -999.00,   7.6046,2,    25.00,-999.000,9,-999.0000,9, -999.00,9,     0.7,2,  -999.0,1,-999.000,9,-999.000,-999.000,9,-999.000,9, -999.00,9, -999.00,9, -999.00,9, -999.00,9, -999.00,9,-999.000,-999.0000,9,-999.0000,9,-999.0000,9,-999.0000,9,-999.0000,9,-999.0000,9,-999.0000,9,-999.0000,9,-999.0000,9,   1.5790,     -999.0,9,     -999.0,9,     -999.0,9,     -999.0,9,     -999.0,9,     -999.0,9,     -999.0,9,-999.0000, -999.00
33RO20071215,        P18,     162,          1,         16,      11016,2,20080211,       0428,   -64.2483,  -102.9965,       4987,   366.9,   2.0512,  34.3882,2,  34.3913,2,    200.8,2,   200.7,2,   61.80,6,   34.90,6,    0.00,6,    2.39,2,-999.000,9,-999.000,9,-999.0000,9,  2234.5,2,  2306.1,2,   -999.0,9,  -999.00,   7.5716,2,    25.00,-999.000,9,-999.0000,9, -999.00,9,    0.53,2,  -999.0,1,-999.000,9,-999.000,-999.000,9,-999.000,9, -999.00,9, -999.00,9, -999.00,9, -999.00,9, -999.00,9,-999.000,-999.0000,9,-999.0000,9,-999.0000,9,-999.0000,9,-999.0000,9,-999.0000,9,-999.0000,9,-999.0000,9,-999.0000,9,   2.0310,     -999.0,9,     -999.0,9,     -999.0,9,     -999.0,9,     -999.0,9,     -999.0,9,     -999.0,9,-999.0000, -999.00
33RO20071215,        P18,     162,          1,         15,      11015,2,20080211,       0428,   -64.2483,  -102.9965,       4987,   466.8,   2.2538,  34.4933,2,  34.4951,2,    181.1,2,   181.0,2,   69.10,2,   35.10,2,    0.00,2,    2.41,2,   1.128,2,   0.583,2,   0.2862,2,  2245.2,2,  2317.3,2,   -999.0,9,  -999.00,   7.5679,2,    25.00,-999.000,9,-999.0000,9, -999.00,9,    0.45,2,  -999.0,1,-999.000,9,-999.000,-999.000,9,-999.000,9, -999.00,9, -999.00,9, -999.00,9, -999.00,9, -999.00,9,-999.000,-999.0000,9,-999.0000,9,-999.0000,9,-999.0000,9,-999.0000,9,-999.0000,9,-999.0000,9,-999.0000,9,-999.0000,9,   2.2268,     -999.0,9,     -999.0,9,     -999.0,9,     -999.0,9,     -999.0,9,     -999.0,9,     -999.0,9,-999.0000, -999.00
33RO20071215,        P18,     162,          1,         14,      11014,2,20080211,       0428,   -64.2483,  -102.9965,       4987,   599.9,   2.2907,  34.5737,2,  34.5764,2,    174.8,2,   174.7,2,   74.50,2,   34.70,2,    0.00,2,    2.38,2,   0.640,2,   0.328,2,   0.1252,2,  2250.5,2,  2331.9,2,   -999.0,9,  -999.00,   7.5667,2,    25.00,-999.000,9,-999.0000,9, -999.00,9,    0.39,2,  -999.0,1,-999.000,9,-999.000,-999.000,9,-999.000,9, -999.00,9, -999.00,9, -999.00,9, -999.00,9, -999.00,9,-999.000,-999.0000,9,-999.0000,9,-999.0000,9,-999.0000,9,-999.0000,9,-999.0000,9,-999.0000,9,-999.0000,9,-999.0000,9,   2.2551,     -999.0,9,     -999.0,9,     -999.0,9,     -999.0,9,     -999.0,9,     -999.0,9,     -999.0,9,-999.0000, -999.00
33RO20071215,        P18,     162,          1,         13,      11013,2,20080211,       0428,   -64.2483,  -102.9965,       4987,   749.3,   2.2429,  34.6316,2,  34.6352,2,    174.4,2,   174.8,2,   78.60,2,   33.90,2,    0.00,2,    2.33,2,   0.399,2,   0.202,2,   0.0825,2,  2255.1,6,  2341.4,2,   -999.0,9,  -999.00,   7.5777,2,    25.00,-999.000,9,-999.0000,9, -999.00,9,    0.35,2,  -999.0,1,-999.000,9,-999.000,-999.000,9,-999.000,9, -999.00,9, -999.00,9, -999.00,9, -999.00,9, -999.00,9,-999.000,-999.0000,9,-999.0000,9,-999.0000,9,-999.0000,9,-999.0000,9,-999.0000,9,-999.0000,9,-999.0000,9,-999.0000,9,   2.1978,     -999.0,9,     -999.0,9,     -999.0,9,     -999.0,9,     -999.0,9,     -999.0,9,     -999.0,9,-999.0000, -999.00
33RO20071215,        P18,     162,          1,         12,      11012,2,20080211,       0428,   -64.2483,  -102.9965,       4987,   899.1,   2.1530,  34.6697,2,  34.6716,2,    176.5,2,   177.0,2,   81.30,2,   33.40,2,    0.00,2,    2.29,2,-999.000,9,-999.000,9,-999.0000,9,  2253.5,2,  2344.7,2,   -999.0,9,  -999.00,   7.5890,2,    25.00,-999.000,9,-999.0000,9, -999.00,9, -999.00,9,  -999.0,9,-999.000,9,-999.000,-999.000,9,-999.000,9, -999.00,9, -999.00,9, -999.00,9, -999.00,9, -999.00,9,-999.000,-999.0000,9,-999.0000,9,-999.0000,9,-999.0000,9,-999.0000,9,-999.0000,9,-999.0000,9,-999.0000,9,-999.0000,9,   2.0984,     -999.0,9,     -999.0,9,     -999.0,9,     -999.0,9,     -999.0,9,     -999.0,9,     -999.0,9,-999.0000, -999.00
33RO20071215,        P18,     162,          1,         11,      11010,2,20080211,       0428,   -64.2483,  -102.9965,       4987,  1049.3,   2.0719,  34.6964,2,  34.6974,2,    179.8,2,   180.3,2,   83.70,2,   32.80,2,    0.00,2,    2.25,2,   0.244,2,   0.123,2,   0.0394,2,  2252.1,2,  2347.1,2,   -999.0,9,  -999.00,   7.5907,2,    25.00,-999.000,9,-999.0000,9, -999.00,9,    0.35,2,  -999.0,1,-999.000,9,-999.000,-999.000,9,-999.000,9, -999.00,9, -999.00,9, -999.00,9, -999.00,9, -999.00,9,-999.000,-999.0000,9,-999.0000,9,-999.0000,9,-999.0000,9,-999.0000,9,-999.0000,9,-999.0000,9,-999.0000,9,-999.0000,9,   2.0075,     -999.0,9,     -999.0,9,     -999.0,9,     -999.0,9,     -999.0,9,     -999.0,9,     -999.0,9,-999.0000, -999.00
33RO20071215,        P18,     162,          1,         10,      11011,2,20080211,       0428,   -64.2483,  -102.9965,       4987,  1232.2,   1.9570,  34.7191,2,  34.7176,2,    184.2,2,   184.4,2,   87.20,2,   32.20,2,    0.00,2,    2.22,2,   0.179,2,   0.090,2,   0.0546,2,  2251.1,2,  -999.0,5,   -999.0,9,  -999.00,   7.6058,2,    25.00,-999.000,9,-999.0000,9, -999.00,9, -999.00,9,  -999.0,9,-999.000,9,-999.000,-999.000,9,-999.000,9, -999.00,9, -999.00,9, -999.00,9, -999.00,9, -999.00,9,-999.000,-999.0000,9,-999.0000,9,-999.0000,9,-999.0000,9,-999.0000,9,-999.0000,9,-999.0000,9,-999.0000,9,-999.0000,9,   1.8807,     -999.0,9,     -999.0,9,     -999.0,9,     -999.0,9,     -999.0,9,     -999.0,9,     -999.0,9,-999.0000, -999.00
33RO20071215,        P18,     162,          1,          9,      11009,2,20080211,       0428,   -64.2483,  -102.9965,       4987,  1500.3,   1.7603,  34.7324,2,  34.7320,2,    189.0,2,   190.1,2,   92.70,2,   31.90,2,    0.00,2,    2.20,2,   0.146,2,   0.076,2,   0.0524,2,  2252.9,2,  2359.5,2,   -999.0,9,  -999.00,   7.6068,2,    25.00,-999.000,9,-999.0000,9, -999.00,9,    0.43,2,  -999.0,1,-999.000,9,-999.000,-999.000,9,-999.000,9, -999.00,9, -999.00,9, -999.00,9, -999.00,9, -999.00,9,-999.000,-999.0000,9,-999.0000,9,-999.0000,9,-999.0000,9,-999.0000,9,-999.0000,9,-999.0000,9,-999.0000,9,-999.0000,9,   1.6664,     -999.0,9,     -999.0,9,     -999.0,9,     -999.0,9,     -999.0,9,     -999.0,9,     -999.0,9,-999.0000, -999.00
33RO20071215,        P18,     162,          1,          8,      11008,2,20080211,       0428,   -64.2483,  -102.9965,       4987,  1866.1,   1.4658,  34.7329,2,  34.7322,2,    193.2,2,   194.9,2,  102.00,2,   32.10,2,    0.00,2,    2.21,2,   0.105,2,   0.053,2,   0.0000,2,  2256.6,2,  2358.3,2,   -999.0,9,  -999.00,   7.6109,2,    25.00,-999.000,9,-999.0000,9, -999.00,9,    0.43,2,  -999.0,1,-999.000,9,-999.000,-999.000,9,-999.000,9, -999.00,9, -999.00,9, -999.00,9, -999.00,9, -999.00,9,-999.000,-999.0000,9,-999.0000,9,-999.0000,9,-999.0000,9,-999.0000,9,-999.0000,9,-999.0000,9,-999.0000,9,-999.0000,9,   1.3478,     -999.0,9,     -999.0,9,     -999.0,9,     -999.0,9,     -999.0,9,     -999.0,9,     -999.0,9,-999.0000, -999.00
33RO20071215,        P18,     162,          1,          7,      11007,2,20080211,       0428,   -64.2483,  -102.9965,       4987,  2332.9,   1.1769,  34.7256,2,  34.7265,2,    197.9,2,   198.8,2,  111.80,2,   32.40,2,    0.00,2,    2.23,2,   0.075,2,   0.038,3,   0.0000,2,  2256.4,2,  2361.9,2,   -999.0,9,  -999.00,   7.6171,2,    25.00,-999.000,9,-999.0000,9, -999.00,9,    0.41,2,  -999.0,1,-999.000,9,-999.000,   0.112,3,-999.000,9, -999.00,9, -999.00,9, -999.00,9, -999.00,9, -999.00,9,-999.000,-999.0000,9,-999.0000,9,-999.0000,9,-999.0000,9,-999.0000,9,-999.0000,9,-999.0000,9,-999.0000,9,-999.0000,9,   1.0258,     -999.0,9,     -999.0,9,     -999.0,9,     -999.0,9,     -999.0,9,     -999.0,9,     -999.0,9,-999.0000, -999.00
33RO20071215,        P18,     162,          1,          6,      11006,2,20080211,       0428,   -64.2483,  -102.9965,       4987,  2835.3,   0.9407,  34.7173,2,  34.7160,2,    203.2,2,   204.1,2,  120.10,2,   32.60,2,    0.00,2,    2.25,2,   0.097,2,   0.048,2,   0.0000,2,  2260.1,6,  2362.0,2,   -999.0,9,  -999.00,   7.6074,2,    25.00,-999.000,9,-999.0000,9, -999.00,9,    0.41,2,  -999.0,1,-999.000,9,-999.000,   0.129,3,-999.000,9, -999.00,9, -999.00,9, -999.00,9, -999.00,9, -999.00,9,-999.000,-999.0000,9,-999.0000,9,-999.0000,9,-999.0000,9,-999.0000,9,-999.0000,9,-999.0000,9,-999.0000,9,-999.0000,9,   0.7509,     -999.0,9,     -999.0,9,     -999.0,9,     -999.0,9,     -999.0,9,     -999.0,9,     -999.0,9,-999.0000, -999.00
33RO20071215,        P18,     162,          1,          5,      11005,2,20080211,       0428,   -64.2483,  -102.9965,       4987,  3334.9,   0.7324,  34.7105,2,  34.7089,2,    207.0,2,   207.5,2,  126.50,2,   32.70,2,    0.00,2,    2.25,2,   0.158,2,   0.079,2,   0.0000,2,  2259.4,2,  2362.4,2,   -999.0,9,  -999.00,   7.6104,2,    25.00,-999.000,9,-999.0000,9, -999.00,9,    0.41,2,  -999.0,1,-999.000,9,-999.000,   0.186,3,-999.000,9, -999.00,9, -999.00,9, -999.00,9, -999.00,9, -999.00,9,-999.000,-999.0000,9,-999.0000,9,-999.0000,9,-999.0000,9,-999.0000,9,-999.0000,9,-999.0000,9,-999.0000,9,-999.0000,9,   0.5014,     -999.0,9,     -999.0,9,     -999.0,9,     -999.0,9,     -999.0,9,     -999.0,9,     -999.0,9,-999.0000, -999.00
33RO20071215,        P18,     162,          1,          4,      11004,2,20080211,       0428,   -64.2483,  -102.9965,       4987,  3833.2,   0.5417,  34.7069,2,  34.7083,2,    212.1,2,   211.9,2,  130.90,2,   32.90,2,    0.00,2,    2.27,2,   0.181,6,   0.092,6,   0.0000,6,  2261.3,2,  2365.5,2,   -999.0,9,  -999.00,   7.6057,2,    25.00,-999.000,9,-999.0000,9, -999.00,9,    0.41,2,  -999.0,1,-999.000,9,-999.000,   0.220,3,-999.000,9, -999.00,9, -999.00,9, -999.00,9, -999.00,9, -999.00,9,-999.000,-999.0000,9,-999.0000,9,-999.0000,9,-999.0000,9,-999.0000,9,-999.0000,9,-999.0000,9,-999.0000,9,-999.0000,9,   0.2668,     -999.0,9,     -999.0,9,     -999.0,9,     -999.0,9,     -999.0,9,     -999.0,9,     -999.0,9,-999.0000, -999.00
33RO20071215,        P18,     162,          1,          3,      11003,2,20080211,       0428,   -64.2483,  -102.9965,       4987,  4333.1,   0.4308,  34.7054,2,  34.7065,2,    215.0,2,   214.6,2,  135.50,6,   33.10,6,    0.00,6,    2.28,2,   0.223,2,   0.114,2,   0.0000,2,  2261.0,2,  2357.4,2,   -999.0,9,  -999.00,   7.6071,2,    25.00,-999.000,9,-999.0000,9, -999.00,9,     0.4,2,  -999.0,1,-999.000,9,-999.000,   0.246,3,-999.000,9, -999.00,9, -999.00,9, -999.00,9, -999.00,9, -999.00,9,-999.000,-999.0000,9,-999.0000,9,-999.0000,9,-999.0000,9,-999.0000,9,-999.0000,9,-999.0000,9,-999.0000,9,-999.0000,9,   0.1071,     -999.0,9,     -999.0,9,     -999.0,9,     -999.0,9,     -999.0,9,     -999.0,9,     -999.0,9,-999.0000, -999.00
33RO20071215,        P18,     162,          1,          2,      11002,2,20080211,       0428,   -64.2483,  -102.9965,       4987,  4833.8,   0.4099,  34.7041,2,  34.7044,2,    216.9,2,   216.9,2,  138.90,6,   33.10,6,    0.00,6,    2.28,2,-999.000,9,-999.000,9,-999.0000,9,  2262.6,2,  2365.9,2,   -999.0,9,  -999.00,   7.6134,2,    25.00,-999.000,9,-999.0000,9, -999.00,9, -999.00,9,  -999.0,9,-999.000,9,-999.000,-999.000,9,-999.000,9, -999.00,9, -999.00,9, -999.00,9, -999.00,9, -999.00,9,-999.000,-999.0000,9,-999.0000,9,-999.0000,9,-999.0000,9,-999.0000,9,-999.0000,9,-999.0000,9,-999.0000,9,-999.0000,9,   0.0317,     -999.0,9,     -999.0,9,     -999.0,9,     -999.0,9,     -999.0,9,     -999.0,9,     -999.0,9,-999.0000, -999.00
33RO20071215,        P18,     162,          1,          1,      11001,2,20080211,       0428,   -64.2483,  -102.9965,       4987,  5065.6,   0.4155,  34.7032,2,  34.7025,2,    217.1,2,   216.0,2,  146.90,2,   33.20,2,    0.01,2,    2.29,2,   0.352,6,   0.174,6,   0.0000,6,  2262.0,6,  2367.1,2,   -999.0,9,  -999.00,   7.6000,2,    25.00,-999.000,9,-999.0000,9, -999.00,9, -999.00,9,  -999.0,9,-999.000,9,-999.000,   0.333,3,-999.000,9, -999.00,9, -999.00,9, -999.00,9, -999.00,9, -999.00,9,-999.000,-999.0000,9,-999.0000,9,-999.0000,9,-999.0000,9,-999.0000,9,-999.0000,9,-999.0000,9,-999.0000,9,-999.0000,9,   0.0104,     -999.0,9,     -999.0,9,     -999.0,9,     -999.0,9,     -999.0,9,     -999.0,9,     -999.0,9,-999.0000, -999.00