BOTTLE,20220818CCHSIOAMB
EXPOCODE,SECT_ID,STNNBR,CASTNO,SAMPNO,BTLNBR,BTLNBR_FLAG_W,DATE,TIME,LATITUDE,LONGITUDE,DEPTH,CTDPRS,CTDTMP,CTDSAL,CTDSAL_FLAG_W,SALNTY,SALNTY_FLAG_W,CTDOXY,CTDOXY_FLAG_W,OXYGEN,OXYGEN_FLAG_W,SILCAT,SILCAT_FLAG_W,NITRAT,NITRAT_FLAG_W,NITRIT,NITRIT_FLAG_W,PHSPHT,PHSPHT_FLAG_W,CFC-11,CFC-11_FLAG_W,CFC-12,CFC-12_FLAG_W,SF6,SF6_FLAG_W,TCARBN,TCARBN_FLAG_W,ALKALI,ALKALI_FLAG_W,FCO2,FCO2_FLAG_W,FCO2TMP,PH_SWS,PH_SWS_FLAG_W,PH_TMP,TRITUM,TRITUM_FLAG_W,HELIUM,HELIUM_FLAG_W,DELHE3,DELHE3_FLAG_W,DELC13,DELC13_FLAG_W,DELC14,DELC14_FLAG_W,NEON,NEON_FLAG_W,NEONER,CCL4,CCL4_FLAG_W,POC,POC_FLAG_W,DOC,DOC_FLAG_W,TDN,TDN_FLAG_W,DON,DON_FLAG_W,CHLORA,CHLORA_FLAG_W,ARGON,ARGON_FLAG_W,TRITER,CDOM325,CDOM325_FLAG_W,CDOM340,CDOM340_FLAG_W,CDOM380,CDOM380_FLAG_W,CDOM412,CDOM412_FLAG_W,CDOM443,CDOM443_FLAG_W,CDOM490,CDOM490_FLAG_W,CDOM555,CDOM555_FLAG_W,CDOMSL,CDOMSL_FLAG_W,CDOMSN,CDOMSN_FLAG_W,THETA,D18O_NO3,D18O_NO3_FLAG_W,CDOM2C,CDOM2C_FLAG_W,CDOM3C,CDOM3C_FLAG_W,LAB_DEN,LAB_DEN_FLAG_W,DELSI30,DELSI30_FLAG_W,N2,N2_FLAG_W,D15N_NO3,D15N_NO3_FLAG_W,HELIER,DELHER
,,,,,,,,,,,METERS,DBAR,ITS-90,PSS-78,,PSS-78,,UMOL/KG,,UMOL/KG,,UMOL/KG,,UMOL/KG,,UMOL/KG,,UMOL/KG,,PMOL/KG,,PMOL/KG,,FMOL/KG,,UMOL/KG,,UMOL/KG,,UATM,,DEG C,,,DEG C,TU,,NMOL/KG,,PERCNT,,/MILLE,,/MILLE,,NMOL/KG,,NMOL/KG,PMOL/KG,,UG/KG,,UMOL/KG,,UMOL/KG,,UMOL/KG,,UG/KG,,UMOL/KG,,TU,1/M,,1/M,,1/M,,1/M,,1/M,,1/M,,1/M,,1/NM,,1/NM,,DEG C,/MILLE,,,,,,,,/MILLE,,UMOL/KG,,/MILLE,,NMOL/KG,PERCNT
33RO20071215,        P18,     171,          1,         24,      11024,2,20080214,       0435,   -68.9090,  -102.5413,       4106,     5.3,   0.8554,  33.5139,2,  33.5180,2,    347.8,2,   347.6,2,   19.30,2,   22.70,2,    0.21,2,    1.36,2,   6.043,2,   3.323,2,   2.3736,2,  2117.8,6,  2272.1,2,    699.8,2,    20.00,   7.7503,2,    25.00,-999.000,9,-999.0000,9, -999.00,9, -999.00,9,  -999.0,9,-999.000,9,-999.000,-999.000,9,-999.000,9,   45.76,2,   27.31,2, -999.00,1, -999.00,9, -999.00,1,-999.000,-999.0000,9,-999.0000,9,-999.0000,9,-999.0000,9,-999.0000,9,-999.0000,9,-999.0000,9,-999.0000,9,-999.0000,9,   0.8552,     -999.0,1,     -999.0,9,     -999.0,9,     -999.0,9,     -999.0,9,     -999.0,1,     -999.0,9,-999.0000, -999.00
33RO20071215,        P18,     171,          1,         23,      11023,2,20080214,       0435,   -68.9090,  -102.5413,       4106,    20.0,   0.8439,  33.5162,2,  33.5266,2,    347.4,2,   347.9,2,   19.60,2,   22.80,2,    0.21,2,    1.37,2,   6.123,2,   3.368,2,   2.3931,2,  2118.1,2,  2275.0,2,   -999.0,9,  -999.00,   7.7525,2,    25.00,-999.000,9,-999.0000,9, -999.00,9, -999.00,9,  -999.0,9,-999.000,9,-999.000,-999.000,9,-999.000,9,   45.46,2,   26.96,2, -999.00,1, -999.00,9, -999.00,9,-999.000,-999.0000,9,-999.0000,9,-999.0000,9,-999.0000,9,-999.0000,9,-999.0000,9,-999.0000,9,-999.0000,9,-999.0000,9,   0.8431,     -999.0,9,     -999.0,9,     -999.0,9,     -999.0,9,     -999.0,9,     -999.0,9,     -999.0,9,-999.0000, -999.00
33RO20071215,        P18,     171,          1,         22,      11022,2,20080214,       0435,   -68.9090,  -102.5413,       4106,    43.4,  -1.4259,  33.9864,2,  33.9887,2,    338.4,2,   338.7,2,   41.10,2,   28.50,2,    0.23,2,    2.05,2,   6.212,2,   3.376,2,   2.2512,2,  2179.1,2,  2300.4,2,    908.8,6,    20.00,   7.6509,2,    25.00,-999.000,9,-999.0000,9, -999.00,9, -999.00,9,  -999.0,9,-999.000,9,-999.000,-999.000,9,-999.000,9,   45.55,2,   32.41,2, -999.00,1, -999.00,9, -999.00,9,-999.000,-999.0000,9,-999.0000,9,-999.0000,9,-999.0000,9,-999.0000,9,-999.0000,9,-999.0000,9,-999.0000,9,-999.0000,9,  -1.4268,     -999.0,9,     -999.0,9,     -999.0,9,     -999.0,9,     -999.0,9,     -999.0,9,     -999.0,9,-999.0000, -999.00
33RO20071215,        P18,     171,          1,         21,      11021,2,20080214,       0435,   -68.9090,  -102.5413,       4106,    67.0,  -1.5435,  34.0566,2,  34.0565,2,    330.1,2,   330.5,2,   43.20,2,   29.30,2,    0.21,2,    2.07,2,-999.000,9,-999.000,9,-999.0000,9,  2186.4,2,  2299.5,2,   -999.0,9,  -999.00,   7.6431,2,    25.00,-999.000,9,-999.0000,9, -999.00,9, -999.00,9,  -999.0,9,-999.000,9,-999.000,-999.000,9,-999.000,9,   45.19,2,   33.15,2, -999.00,1, -999.00,9, -999.00,9,-999.000,-999.0000,9,-999.0000,9,-999.0000,9,-999.0000,9,-999.0000,9,-999.0000,9,-999.0000,9,-999.0000,9,-999.0000,9,  -1.5450,     -999.0,9,     -999.0,9,     -999.0,9,     -999.0,9,     -999.0,9,     -999.0,9,     -999.0,9,-999.0000, -999.00
33RO20071215,        P18,     171,          1,         20,      11020,2,20080214,       0435,   -68.9090,  -102.5413,       4106,    92.7,  -1.2541,  34.1085,2,  34.1076,2,    317.8,2,   317.0,2,   47.50,2,   30.60,2,    0.13,2,    2.10,2,   5.606,2,   3.073,2,   2.0186,2,  2194.0,2,  2305.3,2,    982.5,2,    20.00,   7.6290,2,    25.00,-999.000,9,-999.0000,9, -999.00,9, -999.00,9,  -999.0,9,-999.000,9,-999.000,-999.000,9,-999.000,9,   44.64,2,   33.12,2, -999.00,1, -999.00,9, -999.00,1,-999.000,-999.0000,9,-999.0000,9,-999.0000,9,-999.0000,9,-999.0000,9,-999.0000,9,-999.0000,9,-999.0000,9,-999.0000,9,  -1.2563,     -999.0,1,     -999.0,9,     -999.0,9,     -999.0,9,     -999.0,9,     -999.0,1,     -999.0,9,-999.0000, -999.00
33RO20071215,        P18,     171,          1,         19,      11019,2,20080214,       0435,   -68.9090,  -102.5413,       4106,   116.3,  -0.3300,  34.2019,2,  34.2019,2,    300.8,2,   281.7,2,   53.80,2,   32.00,2,    0.02,2,    2.20,2,   3.634,2,   1.987,2,   1.3336,2,  2209.3,2,  2313.0,2,   1055.1,2,    20.00,   7.5969,2,    25.00,-999.000,9,-999.0000,9, -999.00,9, -999.00,9,  -999.0,9,-999.000,9,-999.000,-999.000,9,-999.000,9,   43.88,2,   34.05,2, -999.00,1, -999.00,9, -999.00,9,-999.000,-999.0000,9,-999.0000,9,-999.0000,9,-999.0000,9,-999.0000,9,-999.0000,9,-999.0000,9,-999.0000,9,-999.0000,9,  -0.3338,     -999.0,9,     -999.0,9,     -999.0,9,     -999.0,9,     -999.0,9,     -999.0,9,     -999.0,9,-999.0000, -999.00
33RO20071215,        P18,     171,          1,         18,      11018,2,20080214,       0435,   -68.9090,  -102.5413,       4106,   157.8,   0.2279,  34.2993,2,  34.3011,2,    260.6,2,   251.7,2,   59.60,2,   33.20,2,    0.01,2,    2.27,2,   4.561,2,   2.534,2,   1.6003,2,  2223.9,2,  2317.7,2,   -999.0,9,  -999.00,   7.5781,2,    25.00,-999.000,9,-999.0000,9, -999.00,9, -999.00,9,  -999.0,9,-999.000,9,-999.000,-999.000,9,-999.000,9,   43.17,2,   35.64,2, -999.00,1, -999.00,9, -999.00,9,-999.000,-999.0000,9,-999.0000,9,-999.0000,9,-999.0000,9,-999.0000,9,-999.0000,9,-999.0000,9,-999.0000,9,-999.0000,9,   0.2220,     -999.0,9,     -999.0,9,     -999.0,9,     -999.0,9,     -999.0,9,     -999.0,9,     -999.0,9,-999.0000, -999.00
33RO20071215,        P18,     171,          1,         17,      11017,2,20080214,       0435,   -68.9090,  -102.5413,       4106,   224.3,   1.6238,  34.5053,2,  34.5022,2,    191.6,2,   190.8,2,   73.20,2,   35.00,2,    0.01,2,    2.38,2,   1.563,2,   0.808,2,   0.4611,2,  2249.3,2,  2332.9,2,   1243.2,2,    20.00,   7.5523,2,    25.00,-999.000,9,-999.0000,9, -999.00,9, -999.00,9,  -999.0,9,-999.000,9,-999.000,-999.000,9,-999.000,9,   42.63,2,   37.11,2, -999.00,1, -999.00,9, -999.00,9,-999.000,-999.0000,9,-999.0000,9,-999.0000,9,-999.0000,9,-999.0000,9,-999.0000,9,-999.0000,9,-999.0000,9,-999.0000,9,   1.6125,     -999.0,9,     -999.0,9,     -999.0,9,     -999.0,9,     -999.0,9,     -999.0,9,     -999.0,9,-999.0000, -999.00
33RO20071215,        P18,     171,          1,         16,      11016,2,20080214,       0435,   -68.9090,  -102.5413,       4106,   298.7,   1.8201,  34.5774,2,  34.5757,2,    180.7,2,   180.2,2,   77.80,2,   34.70,2,    0.00,2,    2.37,2,   1.012,2,   0.517,2,   0.2376,2,  2254.3,2,  2339.2,2,   1242.0,2,    20.00,   7.5474,2,    25.00,-999.000,9,-999.0000,9, -999.00,9, -999.00,9,  -999.0,9,-999.000,9,-999.000,-999.000,9,-999.000,9,   42.24,2,   36.15,2, -999.00,1, -999.00,9, -999.00,9,-999.000,-999.0000,9,-999.0000,9,-999.0000,9,-999.0000,9,-999.0000,9,-999.0000,9,-999.0000,9,-999.0000,9,-999.0000,9,   1.8043,     -999.0,9,     -999.0,9,     -999.0,9,     -999.0,9,     -999.0,9,     -999.0,9,     -999.0,9,-999.0000, -999.00
33RO20071215,        P18,     171,          1,         15,      11015,2,20080214,       0435,   -68.9090,  -102.5413,       4106,   374.8,   1.9969,  34.6432,2,  34.6412,2,    175.9,2,   174.9,2,   80.60,2,   34.10,2,    0.00,2,    2.32,2,   0.575,2,   0.291,2,   0.0786,2,  2255.7,6,  2342.7,2,   1207.3,2,    20.00,   7.5589,2,    25.00,-999.000,9,-999.0000,9, -999.00,9, -999.00,9,  -999.0,9,-999.000,9,-999.000,-999.000,9,-999.000,9,   41.68,2,   35.28,2, -999.00,1, -999.00,9, -999.00,1,-999.000,-999.0000,9,-999.0000,9,-999.0000,9,-999.0000,9,-999.0000,9,-999.0000,9,-999.0000,9,-999.0000,9,-999.0000,9,   1.9763,     -999.0,1,     -999.0,9,     -999.0,9,     -999.0,9,     -999.0,9,     -999.0,1,     -999.0,9,-999.0000, -999.00
33RO20071215,        P18,     171,          1,         14,      11014,2,20080214,       0435,   -68.9090,  -102.5413,       4106,   466.4,   2.0075,  34.6775,2,  34.6770,2,    175.8,2,   175.9,2,   82.80,2,   33.40,2,    0.00,2,    2.28,2,   0.389,2,   0.196,2,   0.0000,2,  2255.0,2,  2344.2,2,   1176.9,2,    20.00,   7.5668,2,    25.00,-999.000,9,-999.0000,9, -999.00,9, -999.00,9,  -999.0,9,-999.000,9,-999.000,-999.000,9,-999.000,9,   41.22,2,   35.23,2, -999.00,1, -999.00,9, -999.00,1,-999.000,-999.0000,9,-999.0000,9,-999.0000,9,-999.0000,9,-999.0000,9,-999.0000,9,-999.0000,9,-999.0000,9,-999.0000,9,   1.9814,     -999.0,1,     -999.0,9,     -999.0,9,     -999.0,9,     -999.0,9,     -999.0,1,     -999.0,9,-999.0000, -999.00
33RO20071215,        P18,     171,          1,         13,      11013,2,20080214,       0435,   -68.9090,  -102.5413,       4106,   599.9,   1.9420,  34.7080,2,  34.7083,2,    180.5,2,   180.4,2,   85.70,2,   32.70,2,    0.00,2,    2.23,2,   0.268,2,   0.133,2,   0.0683,2,  2253.8,2,  2349.5,2,   1143.4,2,    20.00,   7.5852,2,    25.00,-999.000,9,-999.0000,9, -999.00,9, -999.00,9,  -999.0,9,-999.000,9,-999.000,-999.000,9,-999.000,9,   40.73,2,   34.10,2, -999.00,1, -999.00,9, -999.00,9,-999.000,-999.0000,9,-999.0000,9,-999.0000,9,-999.0000,9,-999.0000,9,-999.0000,9,-999.0000,9,-999.0000,9,-999.0000,9,   1.9081,     -999.0,9,     -999.0,9,     -999.0,9,     -999.0,9,     -999.0,9,     -999.0,9,     -999.0,9,-999.0000, -999.00
33RO20071215,        P18,     171,          1,         12,      11012,2,20080214,       0435,   -68.9090,  -102.5413,       4106,   749.3,   1.8303,  34.7241,2,  34.7241,2,    184.4,2,   184.3,2,   89.00,2,   32.30,2,    0.00,2,    2.21,2,   0.217,2,   0.106,2,   0.0000,2,  2252.7,2,  2352.9,2,   1113.3,2,    20.00,   7.5910,2,    25.00,-999.000,9,-999.0000,9, -999.00,9, -999.00,9,  -999.0,9,-999.000,9,-999.000,-999.000,9,-999.000,9,   39.92,2,   33.59,2, -999.00,1, -999.00,9, -999.00,1,-999.000,-999.0000,9,-999.0000,9,-999.0000,9,-999.0000,9,-999.0000,9,-999.0000,9,-999.0000,9,-999.0000,9,-999.0000,9,   1.7876,     -999.0,1,     -999.0,9,     -999.0,9,     -999.0,9,     -999.0,9,     -999.0,1,     -999.0,9,-999.0000, -999.00
33RO20071215,        P18,     171,          1,         11,      11010,2,20080214,       0435,   -68.9090,  -102.5413,       4106,   899.1,   1.7056,  34.7321,2,  34.7331,2,    187.9,2,   187.3,2,   92.90,2,   32.00,2,    0.00,2,    2.19,2,-999.000,9,-999.000,9,-999.0000,9,  2254.3,2,  2354.0,2,   1101.7,2,    20.00,   7.6009,2,    25.00,-999.000,9,-999.0000,9, -999.00,9, -999.00,9,  -999.0,9,-999.000,9,-999.000,-999.000,9,-999.000,9,   39.66,2,   33.09,2, -999.00,1, -999.00,9, -999.00,9,-999.000,-999.0000,9,-999.0000,9,-999.0000,9,-999.0000,9,-999.0000,9,-999.0000,9,-999.0000,9,-999.0000,9,-999.0000,9,   1.6541,     -999.0,9,     -999.0,9,     -999.0,9,     -999.0,9,     -999.0,9,     -999.0,9,     -999.0,9,-999.0000, -999.00
33RO20071215,        P18,     171,          1,         10,      11011,2,20080214,       0435,   -68.9090,  -102.5413,       4106,  1049.1,   1.5782,  34.7347,2,  34.7349,2,    190.6,2,   191.2,2,   96.30,2,   31.90,2,    0.00,2,    2.18,2,   0.155,2,   0.072,2,   0.0000,2,  2253.9,2,  2356.8,2,   -999.0,9,  -999.00,   7.6008,2,    25.00,-999.000,9,-999.0000,9, -999.00,9, -999.00,9,  -999.0,9,-999.000,9,-999.000,-999.000,9,-999.000,9,   39.22,2,   33.38,2, -999.00,1, -999.00,9, -999.00,9,-999.000,-999.0000,9,-999.0000,9,-999.0000,9,-999.0000,9,-999.0000,9,-999.0000,9,-999.0000,9,-999.0000,9,-999.0000,9,   1.5179,     -999.0,9,     -999.0,9,     -999.0,9,     -999.0,9,     -999.0,9,     -999.0,9,     -999.0,9,-999.0000, -999.00
33RO20071215,        P18,     171,          1,          9,      11009,2,20080214,       0435,   -68.9090,  -102.5413,       4106,  1233.4,   1.4204,  34.7338,2,  34.7323,2,    192.8,2,   193.6,2,  101.20,2,   32.00,2,    0.00,2,    2.20,2,   0.123,2,   0.060,2,   0.0000,2,  2255.3,2,  2361.0,2,   1079.4,2,    20.00,   7.6064,2,    25.00,-999.000,9,-999.0000,9, -999.00,9, -999.00,9,  -999.0,9,-999.000,9,-999.000,-999.000,9,-999.000,9,   39.60,2,   33.39,2, -999.00,1, -999.00,9, -999.00,9,-999.000,-999.0000,9,-999.0000,9,-999.0000,9,-999.0000,9,-999.0000,9,-999.0000,9,-999.0000,9,-999.0000,9,-999.0000,9,   1.3491,     -999.0,9,     -999.0,9,     -999.0,9,     -999.0,9,     -999.0,9,     -999.0,9,     -999.0,9,-999.0000, -999.00
33RO20071215,        P18,     171,          1,          8,      11008,2,20080214,       0435,   -68.9090,  -102.5413,       4106,  1500.2,   1.2299,  34.7291,2,  34.7280,2,    195.8,2,   195.9,2,  107.60,2,   32.10,2,    0.00,2,    2.21,2,   0.094,2,   0.046,2,   0.0000,2,  2257.0,2,  2362.6,2,   1080.9,2,    20.00,   7.6053,2,    25.00,-999.000,9,-999.0000,9, -999.00,9, -999.00,9,  -999.0,9,-999.000,9,-999.000,-999.000,9,-999.000,9,   39.40,2,   33.15,2, -999.00,1, -999.00,9, -999.00,9,-999.000,-999.0000,9,-999.0000,9,-999.0000,9,-999.0000,9,-999.0000,9,-999.0000,9,-999.0000,9,-999.0000,9,-999.0000,9,   1.1422,     -999.0,9,     -999.0,9,     -999.0,9,     -999.0,9,     -999.0,9,     -999.0,9,     -999.0,9,-999.0000, -999.00
33RO20071215,        P18,     171,          1,          7,      11007,2,20080214,       0435,   -68.9090,  -102.5413,       4106,  1867.0,   1.0205,  34.7219,2,  34.7227,2,    199.8,2,   200.4,2,  114.40,2,   32.30,2,    0.00,2,    2.22,2,   0.094,6,   0.045,6,   0.0000,6,  2259.1,2,  2317.7,4,   1075.8,2,    20.00,   7.6055,2,    25.00,-999.000,9,-999.0000,9, -999.00,9, -999.00,9,  -999.0,9,-999.000,9,-999.000,-999.000,9,-999.000,9,   39.74,2,   33.54,2, -999.00,1, -999.00,9, -999.00,9,-999.000,-999.0000,9,-999.0000,9,-999.0000,9,-999.0000,9,-999.0000,9,-999.0000,9,-999.0000,9,-999.0000,9,-999.0000,9,   0.9088,     -999.0,9,     -999.0,9,     -999.0,9,     -999.0,9,     -999.0,9,     -999.0,9,     -999.0,9,-999.0000, -999.00
33RO20071215,        P18,     171,          1,          6,      11006,2,20080214,       0435,   -68.9090,  -102.5413,       4106,  2267.1,   0.8099,  34.7145,2,  34.7140,2,    202.3,2,   203.5,2,  122.10,2,   32.70,2,    0.00,2,    2.24,2,   0.190,3,   0.277,3,   2.5734,3,  2260.5,2,  2365.9,2,   1080.1,2,    20.00,   7.6090,2,    25.00,-999.000,9,-999.0000,9, -999.00,9, -999.00,9,  -999.0,9,-999.000,9,-999.000,   0.144,3,-999.000,9,   40.06,2,   33.77,2, -999.00,1, -999.00,9, -999.00,9,-999.000,-999.0000,9,-999.0000,9,-999.0000,9,-999.0000,9,-999.0000,9,-999.0000,9,-999.0000,9,-999.0000,9,-999.0000,9,   0.6707,     -999.0,9,     -999.0,9,     -999.0,9,     -999.0,9,     -999.0,9,     -999.0,9,     -999.0,9,-999.0000, -999.00
33RO20071215,        P18,     171,          1,          5,      11005,2,20080214,       0435,   -68.9090,  -102.5413,       4106,  2666.3,   0.6288,  34.7100,2,  34.7093,2,    206.7,2,   206.5,2,  127.00,2,   32.80,2,    0.00,2,    2.25,2,-999.000,9,-999.000,9,-999.0000,9,  2261.6,2,  2366.9,2,   1079.1,6,    20.00,   7.6017,2,    25.00,-999.000,9,-999.0000,9, -999.00,9, -999.00,9,  -999.0,9,-999.000,9,-999.000,-999.000,9,-999.000,9,   39.64,2,   34.43,2, -999.00,1, -999.00,9, -999.00,9,-999.000,-999.0000,9,-999.0000,9,-999.0000,9,-999.0000,9,-999.0000,9,-999.0000,9,-999.0000,9,-999.0000,9,-999.0000,9,   0.4602,     -999.0,9,     -999.0,9,     -999.0,9,     -999.0,9,     -999.0,9,     -999.0,9,     -999.0,9,-999.0000, -999.00
33RO20071215,        P18,     171,          1,          4,      11004,2,20080214,       0435,   -68.9090,  -102.5413,       4106,  3065.5,   0.4936,  34.7078,2,  34.7074,2,    209.2,2,   209.6,2,  132.20,6,   32.90,6,    0.00,6,    2.26,2,   0.099,2,   0.051,2,   0.0000,2,  2261.8,6,  2364.2,2,   -999.0,9,  -999.00,   7.5994,2,    25.00,-999.000,9,-999.0000,9, -999.00,9, -999.00,9,  -999.0,9,-999.000,9,-999.000,   0.157,3,-999.000,9,   39.34,2,   34.60,2, -999.00,9, -999.00,9, -999.00,9,-999.000,-999.0000,9,-999.0000,9,-999.0000,9,-999.0000,9,-999.0000,9,-999.0000,9,-999.0000,9,-999.0000,9,-999.0000,9,   0.2931,     -999.0,9,     -999.0,9,     -999.0,9,     -999.0,9,     -999.0,9,     -999.0,9,     -999.0,9,-999.0000, -999.00
33RO20071215,        P18,     171,          1,          3,      11003,2,20080214,       0435,   -68.9090,  -102.5413,       4106,  3465.6,   0.4443,  34.7073,2,  34.7084,2,    211.0,2,   210.4,2,  136.20,6,   33.00,6,    0.00,6,    2.27,2,   0.101,2,   0.050,2,   0.0000,2,  2263.2,2,  2368.4,2,   1070.0,2,    20.00,   7.6000,2,    25.00,-999.000,9,-999.0000,9, -999.00,9, -999.00,9,  -999.0,9,-999.000,9,-999.000,   0.167,3,-999.000,9,   39.76,2,   34.36,2, -999.00,9, -999.00,9, -999.00,9,-999.000,-999.0000,9,-999.0000,9,-999.0000,9,-999.0000,9,-999.0000,9,-999.0000,9,-999.0000,9,-999.0000,9,-999.0000,9,   0.2080,     -999.0,9,     -999.0,9,     -999.0,9,     -999.0,9,     -999.0,9,     -999.0,9,     -999.0,9,-999.0000, -999.00
33RO20071215,        P18,     171,          1,          2,      11002,2,20080214,       0435,   -68.9090,  -102.5413,       4106,  3868.0,   0.4022,  34.7064,2,  34.7062,2,    212.6,2,   212.9,2,  138.90,6,   33.10,6,    0.00,6,    2.27,2,   0.134,2,   0.066,2,   0.0000,2,  2262.6,2,  2367.8,2,   -999.0,9,  -999.00,-999.0000,9,  -999.00,-999.000,9,-999.0000,9, -999.00,9, -999.00,9,  -999.0,9,-999.000,9,-999.000,   0.210,3,-999.000,9,   39.66,2,   34.63,2, -999.00,9, -999.00,9, -999.00,9,-999.000,-999.0000,9,-999.0000,9,-999.0000,9,-999.0000,9,-999.0000,9,-999.0000,9,-999.0000,9,-999.0000,9,-999.0000,9,   0.1277,     -999.0,9,     -999.0,9,     -999.0,9,     -999.0,9,     -999.0,9,     -999.0,9,     -999.0,9,-999.0000, -999.00
33RO20071215,        P18,     171,          1,          1,      11001,2,20080214,       0435,   -68.9090,  -102.5413,       4106,  4165.6,   0.3536,  34.7048,2,  34.7055,2,    214.4,2,   213.5,2,  145.50,2,   33.10,2,    0.01,2,    2.27,2,   0.231,2,   0.115,2,   0.0000,2,  2264.4,6,  2368.5,2,   1071.8,2,    20.00,   7.6076,2,    25.00,-999.000,9,-999.0000,9, -999.00,9, -999.00,9,  -999.0,9,-999.000,9,-999.000,   0.246,3,-999.000,9,   40.65,2,   34.49,2, -999.00,9, -999.00,9, -999.00,9,-999.000,-999.0000,9,-999.0000,9,-999.0000,9,-999.0000,9,-999.0000,9,-999.0000,9,-999.0000,9,-999.0000,9,-999.0000,9,   0.0500,     -999.0,9,     -999.0,9,     -999.0,9,     -999.0,9,     -999.0,9,     -999.0,9,     -999.0,9,-999.0000, -999.00