BOTTLE,20220818CCHSIOAMB
EXPOCODE,SECT_ID,STNNBR,CASTNO,SAMPNO,BTLNBR,BTLNBR_FLAG_W,DATE,TIME,LATITUDE,LONGITUDE,DEPTH,CTDPRS,CTDTMP,CTDSAL,CTDSAL_FLAG_W,SALNTY,SALNTY_FLAG_W,CTDOXY,CTDOXY_FLAG_W,OXYGEN,OXYGEN_FLAG_W,SILCAT,SILCAT_FLAG_W,NITRAT,NITRAT_FLAG_W,NITRIT,NITRIT_FLAG_W,PHSPHT,PHSPHT_FLAG_W,CFC-11,CFC-11_FLAG_W,CFC-12,CFC-12_FLAG_W,SF6,SF6_FLAG_W,TCARBN,TCARBN_FLAG_W,ALKALI,ALKALI_FLAG_W,FCO2,FCO2_FLAG_W,FCO2TMP,PH_SWS,PH_SWS_FLAG_W,PH_TMP,TRITUM,TRITUM_FLAG_W,HELIUM,HELIUM_FLAG_W,DELHE3,DELHE3_FLAG_W,DELC13,DELC13_FLAG_W,DELC14,DELC14_FLAG_W,NEON,NEON_FLAG_W,NEONER,CCL4,CCL4_FLAG_W,POC,POC_FLAG_W,DOC,DOC_FLAG_W,TDN,TDN_FLAG_W,DON,DON_FLAG_W,CHLORA,CHLORA_FLAG_W,ARGON,ARGON_FLAG_W,TRITER,CDOM325,CDOM325_FLAG_W,CDOM340,CDOM340_FLAG_W,CDOM380,CDOM380_FLAG_W,CDOM412,CDOM412_FLAG_W,CDOM443,CDOM443_FLAG_W,CDOM490,CDOM490_FLAG_W,CDOM555,CDOM555_FLAG_W,CDOMSL,CDOMSL_FLAG_W,CDOMSN,CDOMSN_FLAG_W,THETA,D18O_NO3,D18O_NO3_FLAG_W,CDOM2C,CDOM2C_FLAG_W,CDOM3C,CDOM3C_FLAG_W,LAB_DEN,LAB_DEN_FLAG_W,DELSI30,DELSI30_FLAG_W,N2,N2_FLAG_W,D15N_NO3,D15N_NO3_FLAG_W,HELIER,DELHER
,,,,,,,,,,,METERS,DBAR,ITS-90,PSS-78,,PSS-78,,UMOL/KG,,UMOL/KG,,UMOL/KG,,UMOL/KG,,UMOL/KG,,UMOL/KG,,PMOL/KG,,PMOL/KG,,FMOL/KG,,UMOL/KG,,UMOL/KG,,UATM,,DEG C,,,DEG C,TU,,NMOL/KG,,PERCNT,,/MILLE,,/MILLE,,NMOL/KG,,NMOL/KG,PMOL/KG,,UG/KG,,UMOL/KG,,UMOL/KG,,UMOL/KG,,UG/KG,,UMOL/KG,,TU,1/M,,1/M,,1/M,,1/M,,1/M,,1/M,,1/M,,1/NM,,1/NM,,DEG C,/MILLE,,,,,,,,/MILLE,,UMOL/KG,,/MILLE,,NMOL/KG,PERCNT
33RO20071215,        P18,      57,          1,         11,      12003,2,20080102,       2316,    -5.8330,  -108.8400,       3430,  1466.7,   3.0490,  34.5989,2,  34.6001,2,    102.0,2,   101.4,2,  115.80,2,   39.40,2,    0.00,2,    2.83,2,-999.000,9,-999.000,9,-999.0000,9,  2320.1,2,  2328.4,4,   -999.0,9,  -999.00,   7.4934,2,    25.00,-999.000,9,-999.0000,9, -999.00,9, -999.00,9,  -999.0,9,-999.000,9,-999.000,-999.000,9,-999.000,9,   37.20,2,   41.20,2, -999.00,9, -999.00,9, -999.00,9,-999.000,-999.0000,9,-999.0000,9,-999.0000,9,-999.0000,9,-999.0000,9,-999.0000,9,-999.0000,9,-999.0000,9,-999.0000,9,   2.9433,     -999.0,9,     -999.0,9,     -999.0,9,     -999.0,9,     -999.0,9,     -999.0,9,     -999.0,9,-999.0000, -999.00
33RO20071215,        P18,      57,          1,         10,      12032,2,20080102,       2316,    -5.8330,  -108.8400,       3430,  1565.2,   2.8686,  34.6115,2,  34.6125,2,     97.3,2,    97.5,2,  124.20,2,   39.70,2,    0.00,2,    2.85,2,   0.002,2,   0.000,2,   0.0000,2,  2330.9,2,  -999.0,5,   1480.0,2,    20.00,   7.4747,2,    25.00,-999.000,9,-999.0000,9, -999.00,9, -999.00,9,  -999.0,9,-999.000,9,-999.000,-999.000,9,-999.000,9,   37.10,2,   40.57,2, -999.00,9, -999.00,9, -999.00,9,-999.000,-999.0000,9,-999.0000,9,-999.0000,9,-999.0000,9,-999.0000,9,-999.0000,9,-999.0000,9,-999.0000,9,-999.0000,9,   2.7568,     -999.0,9,     -999.0,9,     -999.0,9,     -999.0,9,     -999.0,9,     -999.0,9,     -999.0,9,-999.0000, -999.00
33RO20071215,        P18,      57,          1,          9,      12002,2,20080102,       2316,    -5.8330,  -108.8400,       3430,  1732.7,   2.5738,  34.6281,2,  34.6288,2,    101.2,2,   100.4,2,  133.10,2,   39.60,2,    0.00,2,    2.84,2,-999.000,9,-999.000,9,-999.0000,9,  2338.0,2,  2343.9,4,   -999.0,9,  -999.00,   7.5002,2,    25.00,-999.000,9,-999.0000,9, -999.00,9, -999.00,9,  -999.0,9,-999.000,9,-999.000,-999.000,9,-999.000,9,   36.27,2,   40.66,2, -999.00,9, -999.00,9, -999.00,9,-999.000,-999.0000,9,-999.0000,9,-999.0000,9,-999.0000,9,-999.0000,9,-999.0000,9,-999.0000,9,-999.0000,9,-999.0000,9,   2.4516,     -999.0,9,     -999.0,9,     -999.0,9,     -999.0,9,     -999.0,9,     -999.0,9,     -999.0,9,-999.0000, -999.00
33RO20071215,        P18,      57,          1,          8,      12021,2,20080102,       2316,    -5.8330,  -108.8400,       3430,  1931.7,   2.3572,  34.6405,2,  34.6411,2,    106.1,2,   106.0,2,  139.00,2,   39.20,2,    0.00,2,    2.80,2,   0.001,2,   0.000,2,   0.0000,2,  2340.8,2,  2348.4,4,   1418.4,2,    20.00,   7.5169,2,    25.00,-999.000,9,-999.0000,9, -999.00,9, -999.00,9,  -999.0,9,-999.000,9,-999.000,-999.000,9,-999.000,9,   36.21,2,   40.74,2, -999.00,9, -999.00,9, -999.00,9,-999.000,-999.0000,9,-999.0000,9,-999.0000,9,-999.0000,9,-999.0000,9,-999.0000,9,-999.0000,9,-999.0000,9,-999.0000,9,   2.2212,     -999.0,9,     -999.0,9,     -999.0,9,     -999.0,9,     -999.0,9,     -999.0,9,     -999.0,9,-999.0000, -999.00
33RO20071215,        P18,      57,          1,          7,      12001,2,20080102,       2316,    -5.8330,  -108.8400,       3430,  2132.0,   2.1748,  34.6496,2,  34.6498,2,    114.9,2,   114.8,2,  140.60,2,   38.60,2,    0.00,2,    2.74,2,-999.000,9,-999.000,9,-999.0000,9,  2337.8,2,  2357.5,4,   -999.0,9,  -999.00,   7.5048,2,    25.00,-999.000,9,-999.0000,9, -999.00,9, -999.00,9,  -999.0,9,-999.000,9,-999.000,-999.000,9,-999.000,9,   36.70,2,   39.39,2, -999.00,9, -999.00,9, -999.00,9,-999.000,-999.0000,9,-999.0000,9,-999.0000,9,-999.0000,9,-999.0000,9,-999.0000,9,-999.0000,9,-999.0000,9,-999.0000,9,   2.0242,     -999.0,9,     -999.0,9,     -999.0,9,     -999.0,9,     -999.0,9,     -999.0,9,     -999.0,9,-999.0000, -999.00
33RO20071215,        P18,      57,          1,          6,      12033,2,20080102,       2316,    -5.8330,  -108.8400,       3430,  2329.0,   2.0197,  34.6602,2,  34.6607,2,    117.6,2,   117.7,2,  146.70,2,   38.50,2,    0.00,2,    2.72,2,   0.000,2,   0.000,2,   0.0000,2,  2342.2,2,  -999.0,5,   1345.8,2,    20.00,   7.5428,2,    25.00,-999.000,9,-999.0000,9, -999.00,9, -999.00,9,  -999.0,9,-999.000,9,-999.000,   0.001,3,-999.000,9,   37.27,2,   39.40,2, -999.00,9, -999.00,9, -999.00,9,-999.000,-999.0000,9,-999.0000,9,-999.0000,9,-999.0000,9,-999.0000,9,-999.0000,9,-999.0000,9,-999.0000,9,-999.0000,9,   1.8544,     -999.0,9,     -999.0,9,     -999.0,9,     -999.0,9,     -999.0,9,     -999.0,9,     -999.0,9,-999.0000, -999.00
33RO20071215,        P18,      57,          1,          5,      12008,2,20080102,       2316,    -5.8330,  -108.8400,       3430,  2531.9,   1.8752,  34.6688,2,  34.6690,2,    127.8,2,   128.7,2,  146.00,2,   37.70,2,    0.00,2,    2.66,2,-999.000,9,-999.000,9,-999.0000,9,  2336.2,2,  2370.6,4,   -999.0,9,  -999.00,   7.5451,2,    25.00,-999.000,9,-999.0000,9, -999.00,9, -999.00,9,  -999.0,9,-999.000,9,-999.000,-999.000,9,-999.000,9,   38.78,2,   39.01,2, -999.00,9, -999.00,9, -999.00,9,-999.000,-999.0000,9,-999.0000,9,-999.0000,9,-999.0000,9,-999.0000,9,-999.0000,9,-999.0000,9,-999.0000,9,-999.0000,9,   1.6943,     -999.0,9,     -999.0,9,     -999.0,9,     -999.0,9,     -999.0,9,     -999.0,9,     -999.0,9,-999.0000, -999.00
33RO20071215,        P18,      57,          1,          4,      12009,2,20080102,       2316,    -5.8330,  -108.8400,       3430,  2729.7,   1.7962,  34.6750,2,  34.6754,2,    134.3,2,   135.0,2,  146.50,6,   37.40,6,    0.00,6,    2.62,2,   0.000,2,   0.000,2,   0.0000,2,  2334.2,2,  2375.1,4,   1242.9,2,    20.00,   7.5597,2,    25.00,-999.000,9,-999.0000,9, -999.00,9, -999.00,9,  -999.0,9,-999.000,9,-999.000,   0.003,3,-999.000,9,   38.55,2,   38.64,2, -999.00,9, -999.00,9, -999.00,9,-999.000,-999.0000,9,-999.0000,9,-999.0000,9,-999.0000,9,-999.0000,9,-999.0000,9,-999.0000,9,-999.0000,9,-999.0000,9,   1.5985,     -999.0,9,     -999.0,9,     -999.0,9,     -999.0,9,     -999.0,9,     -999.0,9,     -999.0,9,-999.0000, -999.00
33RO20071215,        P18,      57,          1,          3,      12006,2,20080102,       2316,    -5.8330,  -108.8400,       3430,  2931.1,   1.7436,  34.6789,2,  34.6796,2,    139.2,2,   139.2,2,  147.20,6,   36.90,6,    0.00,6,    2.59,2,-999.000,9,-999.000,9,-999.0000,9,  2332.1,2,  2374.3,4,   -999.0,9,  -999.00,   7.5757,2,    25.00,-999.000,9,-999.0000,9, -999.00,9, -999.00,9,  -999.0,9,-999.000,9,-999.000,-999.000,9,-999.000,9,   38.56,2,   38.03,2, -999.00,9, -999.00,9, -999.00,9,-999.000,-999.0000,9,-999.0000,9,-999.0000,9,-999.0000,9,-999.0000,9,-999.0000,9,-999.0000,9,-999.0000,9,-999.0000,9,   1.5280,     -999.0,9,     -999.0,9,     -999.0,9,     -999.0,9,     -999.0,9,     -999.0,9,     -999.0,9,-999.0000, -999.00
33RO20071215,        P18,      57,          1,          2,      12007,2,20080102,       2316,    -5.8330,  -108.8400,       3430,  3166.5,   1.6554,  34.6830,2,  34.6834,2,    144.7,2,   145.3,2,  148.00,6,   36.50,6,    0.00,6,    2.57,2,   0.001,2,   0.000,2,   0.0000,2,  2329.3,2,  2373.3,4,   1186.1,2,    20.00,   7.5810,2,    25.00,-999.000,9,-999.0000,9, -999.00,9, -999.00,9,  -999.0,9,-999.000,9,-999.000,   0.001,3,-999.000,9,   39.19,2,   38.12,2, -999.00,9, -999.00,9, -999.00,9,-999.000,-999.0000,9,-999.0000,9,-999.0000,9,-999.0000,9,-999.0000,9,-999.0000,9,-999.0000,9,-999.0000,9,-999.0000,9,   1.4189,     -999.0,9,     -999.0,9,     -999.0,9,     -999.0,9,     -999.0,9,     -999.0,9,     -999.0,9,-999.0000, -999.00
33RO20071215,        P18,      57,          1,          1,      12035,2,20080102,       2316,    -5.8330,  -108.8400,       3430,  3467.7,   1.6324,  34.6854,2,  34.6859,2,    148.2,2,   148.0,2,  147.70,2,   36.60,2,    0.00,2,    2.54,2,   0.001,6,   0.000,6,   0.0000,6,  2328.7,6,  2374.6,4,   -999.0,9,  -999.00,   7.5853,2,    25.00,-999.000,9,-999.0000,9, -999.00,9, -999.00,9,  -999.0,9,-999.000,9,-999.000,   0.002,3,-999.000,9,   39.03,2,   38.05,2, -999.00,9, -999.00,9, -999.00,9,-999.000,-999.0000,9,-999.0000,9,-999.0000,9,-999.0000,9,-999.0000,9,-999.0000,9,-999.0000,9,-999.0000,9,-999.0000,9,   1.3662,     -999.0,9,     -999.0,9,     -999.0,9,     -999.0,9,     -999.0,9,     -999.0,9,     -999.0,9,-999.0000, -999.00