BOTTLE,20220818CCHSIOAMB
EXPOCODE,SECT_ID,STNNBR,CASTNO,SAMPNO,BTLNBR,BTLNBR_FLAG_W,DATE,TIME,LATITUDE,LONGITUDE,DEPTH,CTDPRS,CTDTMP,CTDSAL,CTDSAL_FLAG_W,SALNTY,SALNTY_FLAG_W,CTDOXY,CTDOXY_FLAG_W,OXYGEN,OXYGEN_FLAG_W,SILCAT,SILCAT_FLAG_W,NITRAT,NITRAT_FLAG_W,NITRIT,NITRIT_FLAG_W,PHSPHT,PHSPHT_FLAG_W,CFC-11,CFC-11_FLAG_W,CFC-12,CFC-12_FLAG_W,SF6,SF6_FLAG_W,TCARBN,TCARBN_FLAG_W,ALKALI,ALKALI_FLAG_W,FCO2,FCO2_FLAG_W,FCO2TMP,PH_SWS,PH_SWS_FLAG_W,PH_TMP,TRITUM,TRITUM_FLAG_W,HELIUM,HELIUM_FLAG_W,DELHE3,DELHE3_FLAG_W,DELC13,DELC13_FLAG_W,DELC14,DELC14_FLAG_W,NEON,NEON_FLAG_W,NEONER,CCL4,CCL4_FLAG_W,POC,POC_FLAG_W,DOC,DOC_FLAG_W,TDN,TDN_FLAG_W,DON,DON_FLAG_W,CHLORA,CHLORA_FLAG_W,ARGON,ARGON_FLAG_W,TRITER,CDOM325,CDOM325_FLAG_W,CDOM340,CDOM340_FLAG_W,CDOM380,CDOM380_FLAG_W,CDOM412,CDOM412_FLAG_W,CDOM443,CDOM443_FLAG_W,CDOM490,CDOM490_FLAG_W,CDOM555,CDOM555_FLAG_W,CDOMSL,CDOMSL_FLAG_W,CDOMSN,CDOMSN_FLAG_W,THETA,D18O_NO3,D18O_NO3_FLAG_W,CDOM2C,CDOM2C_FLAG_W,CDOM3C,CDOM3C_FLAG_W,LAB_DEN,LAB_DEN_FLAG_W,DELSI30,DELSI30_FLAG_W,N2,N2_FLAG_W,D15N_NO3,D15N_NO3_FLAG_W,HELIER,DELHER
,,,,,,,,,,,METERS,DBAR,ITS-90,PSS-78,,PSS-78,,UMOL/KG,,UMOL/KG,,UMOL/KG,,UMOL/KG,,UMOL/KG,,UMOL/KG,,PMOL/KG,,PMOL/KG,,FMOL/KG,,UMOL/KG,,UMOL/KG,,UATM,,DEG C,,,DEG C,TU,,NMOL/KG,,PERCNT,,/MILLE,,/MILLE,,NMOL/KG,,NMOL/KG,PMOL/KG,,UG/KG,,UMOL/KG,,UMOL/KG,,UMOL/KG,,UG/KG,,UMOL/KG,,TU,1/M,,1/M,,1/M,,1/M,,1/M,,1/M,,1/M,,1/NM,,1/NM,,DEG C,/MILLE,,,,,,,,/MILLE,,UMOL/KG,,/MILLE,,NMOL/KG,PERCNT
33RO20071215,        P18,      38,          1,         36,      12017,2,20071227,       1200,     3.0003,  -110.0020,       3888,     4.7,  24.4383,  33.8793,2,  33.8838,2,    210.7,2,   181.7,3,    2.10,2,    1.20,2,    0.03,2,    0.19,2,   1.810,6,   1.137,6,   1.0250,6,  1941.0,6,  2232.4,2,    306.2,2,    20.00,   8.0456,2,    25.00,-999.000,9,-999.0000,9, -999.00,9, -999.00,9,  -999.0,1,-999.000,9,-999.000,-999.000,9,-999.000,9,   73.12,2,    6.32,2, -999.00,1, -999.00,9, -999.00,9,-999.000,-999.0000,9,-999.0000,9,-999.0000,9,-999.0000,9,-999.0000,9,-999.0000,9,-999.0000,9,-999.0000,9,-999.0000,9,  24.4373,     -999.0,9,     -999.0,9,     -999.0,9,     -999.0,9,     -999.0,9,     -999.0,9,     -999.0,9,-999.0000, -999.00
33RO20071215,        P18,      38,          1,         35,      12029,2,20071227,       1200,     3.0003,  -110.0020,       3888,    13.0,  24.4445,  33.8802,2,  33.8873,2,    211.0,2,   209.8,2,    2.10,2,    1.30,2,    0.03,2,    0.20,2,   1.793,2,   1.128,2,   1.0570,2,  1942.0,2,  -999.0,5,   -999.0,9,  -999.00,   8.0411,2,    25.00,-999.000,9,-999.0000,9, -999.00,9, -999.00,9,  -999.0,9,-999.000,9,-999.000,-999.000,9,-999.000,9, -999.00,9, -999.00,9, -999.00,1, -999.00,9, -999.00,9,-999.000,-999.0000,9,-999.0000,9,-999.0000,9,-999.0000,9,-999.0000,9,-999.0000,9,-999.0000,9,-999.0000,9,-999.0000,9,  24.4418,     -999.0,9,     -999.0,9,     -999.0,9,     -999.0,9,     -999.0,9,     -999.0,9,     -999.0,9,-999.0000, -999.00
33RO20071215,        P18,      38,          1,         34,      12049,2,20071227,       1200,     3.0003,  -110.0020,       3888,    27.7,  24.3748,  33.8999,2,  33.9016,2,    210.9,2,   202.7,3,    2.20,2,    1.60,2,    0.04,2,    0.23,2,   1.788,2,   1.127,2,   1.0928,2,  1946.0,2,  2233.1,2,    310.5,2,    20.00,   8.0344,2,    25.00,-999.000,9,-999.0000,9, -999.00,9, -999.00,9,  -999.0,9,-999.000,9,-999.000,-999.000,9,-999.000,9,   73.97,2,    6.28,2, -999.00,1, -999.00,9, -999.00,9,-999.000,-999.0000,9,-999.0000,9,-999.0000,9,-999.0000,9,-999.0000,9,-999.0000,9,-999.0000,9,-999.0000,9,-999.0000,9,  24.3690,     -999.0,9,     -999.0,9,     -999.0,9,     -999.0,9,     -999.0,9,     -999.0,9,     -999.0,9,-999.0000, -999.00
33RO20071215,        P18,      38,          1,         33,      12027,2,20071227,       1200,     3.0003,  -110.0020,       3888,    47.4,  23.2621,  34.1525,2,  34.1506,2,    207.3,2,   203.3,2,    4.00,2,    4.70,2,    0.09,2,    0.42,2,   1.859,2,   1.159,2,   1.0331,2,  1987.9,2,  2243.5,2,    363.5,2,    20.00,   7.9852,2,    25.00,-999.000,9,-999.0000,9, -999.00,9, -999.00,9,  -999.0,9,-999.000,9,-999.000,-999.000,9,-999.000,9, -999.00,9, -999.00,9, -999.00,1, -999.00,9, -999.00,9,-999.000,-999.0000,9,-999.0000,9,-999.0000,9,-999.0000,9,-999.0000,9,-999.0000,9,-999.0000,9,-999.0000,9,-999.0000,9,  23.2524,     -999.0,9,     -999.0,9,     -999.0,9,     -999.0,9,     -999.0,9,     -999.0,9,     -999.0,9,-999.0000, -999.00
33RO20071215,        P18,      38,          1,         32,      12023,2,20071227,       1200,     3.0003,  -110.0020,       3888,    66.7,  20.5308,  34.4762,2,  34.4857,2,    177.5,2,   168.8,2,    7.60,2,   11.00,2,    0.25,2,    0.86,2,   1.846,2,   1.123,2,   0.9091,2,  2063.6,2,  2257.7,2,    502.0,2,    20.00,   7.8901,2,    25.00,-999.000,9,-999.0000,9, -999.00,9, -999.00,9,  -999.0,9,-999.000,9,-999.000,-999.000,9,-999.000,9,   60.39,2,   14.76,2, -999.00,1, -999.00,9, -999.00,9,-999.000,-999.0000,9,-999.0000,9,-999.0000,9,-999.0000,9,-999.0000,9,-999.0000,9,-999.0000,9,-999.0000,9,-999.0000,9,  20.5183,     -999.0,9,     -999.0,9,     -999.0,9,     -999.0,9,     -999.0,9,     -999.0,9,     -999.0,9,-999.0000, -999.00
33RO20071215,        P18,      38,          1,         31,      12037,2,20071227,       1200,     3.0003,  -110.0020,       3888,    86.5,  17.3952,  34.7954,2,  34.7967,2,    123.6,2,   125.4,2,   12.90,2,   18.60,2,    0.37,2,    1.32,2,   1.720,2,   1.005,2,   0.6927,2,  2138.1,2,  2288.9,2,   -999.0,9,  -999.00,   7.7519,2,    25.00,-999.000,9,-999.0000,9, -999.00,9, -999.00,9,  -999.0,9,-999.000,9,-999.000,-999.000,9,-999.000,9, -999.00,9, -999.00,9, -999.00,1, -999.00,9, -999.00,9,-999.000,-999.0000,9,-999.0000,9,-999.0000,9,-999.0000,9,-999.0000,9,-999.0000,9,-999.0000,9,-999.0000,9,-999.0000,9,  17.3808,     -999.0,9,     -999.0,9,     -999.0,9,     -999.0,9,     -999.0,9,     -999.0,9,     -999.0,9,-999.0000, -999.00
33RO20071215,        P18,      38,          1,         30,      12036,2,20071227,       1200,     3.0003,  -110.0020,       3888,   106.8,  14.6058,  34.9433,2,  34.9487,2,     55.5,2,    55.7,2,   17.50,2,   26.30,2,    0.07,2,    1.75,2,   1.435,2,   0.809,2,   0.4150,2,  2192.5,2,  2298.0,2,   1018.3,2,    20.00,   7.6209,2,    25.00,-999.000,9,-999.0000,9, -999.00,9, -999.00,9,  -999.0,9,-999.000,9,-999.000,-999.000,9,-999.000,9,   48.05,2,   28.76,2, -999.00,1, -999.00,9, -999.00,9,-999.000,-999.0000,9,-999.0000,9,-999.0000,9,-999.0000,9,-999.0000,9,-999.0000,9,-999.0000,9,-999.0000,9,-999.0000,9,  14.5900,     -999.0,9,     -999.0,9,     -999.0,9,     -999.0,9,     -999.0,9,     -999.0,9,     -999.0,9,-999.0000, -999.00
33RO20071215,        P18,      38,          1,         29,      12044,2,20071227,       1200,     3.0003,  -110.0020,       3888,   132.8,  13.8376,  34.9508,2,  34.9518,2,     48.8,2,    44.6,2,   19.30,2,   28.10,2,    0.01,2,    1.87,2,   1.275,2,   0.711,2,   0.3502,2,  2205.2,2,  2297.9,2,   -999.0,9,  -999.00,   7.5892,2,    25.00,-999.000,9,-999.0000,9, -999.00,9, -999.00,9,  -999.0,9,-999.000,9,-999.000,-999.000,9,-999.000,9, -999.00,9, -999.00,9, -999.00,1, -999.00,9, -999.00,9,-999.000,-999.0000,9,-999.0000,9,-999.0000,9,-999.0000,9,-999.0000,9,-999.0000,9,-999.0000,9,-999.0000,9,-999.0000,9,  13.8186,     -999.0,9,     -999.0,9,     -999.0,9,     -999.0,9,     -999.0,9,     -999.0,9,     -999.0,9,-999.0000, -999.00
33RO20071215,        P18,      38,          1,         28,      12057,2,20071227,       1200,     3.0003,  -110.0020,       3888,   158.4,  13.4676,  34.9357,2,  34.9346,2,     44.0,2,    42.6,2,   20.50,2,   28.80,2,    0.01,2,    1.91,2,   1.178,2,   0.660,2,   0.3056,2,  2209.9,2,  2297.0,2,   1149.2,2,    20.00,   7.5793,2,    25.00,-999.000,9,-999.0000,9, -999.00,9, -999.00,9,  -999.0,9,-999.000,9,-999.000,-999.000,9,-999.000,9,   46.65,2,   30.89,2, -999.00,1, -999.00,9, -999.00,9,-999.000,-999.0000,9,-999.0000,9,-999.0000,9,-999.0000,9,-999.0000,9,-999.0000,9,-999.0000,9,-999.0000,9,-999.0000,9,  13.4453,     -999.0,9,     -999.0,9,     -999.0,9,     -999.0,9,     -999.0,9,     -999.0,9,     -999.0,9,-999.0000, -999.00
33RO20071215,        P18,      38,          1,         27,      12026,2,20071227,       1200,     3.0003,  -110.0020,       3888,   183.3,  13.1356,  34.9170,2,  34.9144,2,     33.9,2,    34.5,2,   22.20,2,   30.10,2,    0.01,2,    2.02,2,   1.040,2,   0.581,2,   0.2469,2,  2219.2,2,  2299.9,2,   1235.3,2,    20.00,   7.5434,2,    25.00,-999.000,9,-999.0000,9, -999.00,9, -999.00,9,  -999.0,9,-999.000,9,-999.000,-999.000,9,-999.000,9, -999.00,9, -999.00,9, -999.00,1, -999.00,9, -999.00,9,-999.000,-999.0000,9,-999.0000,9,-999.0000,9,-999.0000,9,-999.0000,9,-999.0000,9,-999.0000,9,-999.0000,9,-999.0000,9,  13.1103,     -999.0,9,     -999.0,9,     -999.0,9,     -999.0,9,     -999.0,9,     -999.0,9,     -999.0,9,-999.0000, -999.00
33RO20071215,        P18,      38,          1,         26,      12030,2,20071227,       1200,     3.0003,  -110.0020,       3888,   215.7,  12.7480,  34.8897,2,  34.8882,2,     27.5,2,    26.7,2,   24.00,2,   31.30,2,    0.01,2,    2.10,2,   0.930,2,   0.517,2,   0.1862,2,  2231.1,2,  2299.9,2,   1330.1,2,    20.00,   7.5198,2,    25.00,-999.000,9,-999.0000,9, -999.00,9, -999.00,9,  -999.0,9,-999.000,9,-999.000,-999.000,9,-999.000,9,   45.24,2,   33.72,2, -999.00,1, -999.00,9, -999.00,9,-999.000,-999.0000,9,-999.0000,9,-999.0000,9,-999.0000,9,-999.0000,9,-999.0000,9,-999.0000,9,-999.0000,9,-999.0000,9,  12.7188,     -999.0,9,     -999.0,9,     -999.0,9,     -999.0,9,     -999.0,9,     -999.0,9,     -999.0,9,-999.0000, -999.00
33RO20071215,        P18,      38,          1,         25,      12024,2,20071227,       1200,     3.0003,  -110.0020,       3888,   267.1,  11.9093,  34.8225,2,  34.8173,2,     21.6,2,    26.0,2,   27.00,2,   32.40,2,    0.01,2,    2.19,2,   0.765,2,   0.428,2,   0.1213,2,  2239.5,2,  2300.5,2,   -999.0,9,  -999.00,   7.4863,2,    25.00,-999.000,9,-999.0000,9, -999.00,9, -999.00,9,  -999.0,9,-999.000,9,-999.000,-999.000,9,-999.000,9,   44.02,2,   34.63,2, -999.00,1, -999.00,9, -999.00,9,-999.000,-999.0000,9,-999.0000,9,-999.0000,9,-999.0000,9,-999.0000,9,-999.0000,9,-999.0000,9,-999.0000,9,-999.0000,9,  11.8746,     -999.0,9,     -999.0,9,     -999.0,9,     -999.0,9,     -999.0,9,     -999.0,9,     -999.0,9,-999.0000, -999.00
33RO20071215,        P18,      38,          1,         24,      12019,2,20071227,       1200,     3.0003,  -110.0020,       3888,   316.8,  11.1475,  34.7679,2,  34.7628,2,     32.8,2,    34.2,2,   28.90,2,   32.60,2,    0.00,2,    2.20,2,-999.000,9,-999.000,9,-999.0000,9,  2239.6,2,  2298.1,2,   1396.3,2,    20.00,   7.4992,2,    25.00,-999.000,9,-999.0000,9, -999.00,9, -999.00,9,  -999.0,9,-999.000,9,-999.000,-999.000,9,-999.000,9,   43.38,2,   34.27,2, -999.00,1, -999.00,9, -999.00,9,-999.000,-999.0000,9,-999.0000,9,-999.0000,9,-999.0000,9,-999.0000,9,-999.0000,9,-999.0000,9,-999.0000,9,-999.0000,9,  11.1080,     -999.0,9,     -999.0,9,     -999.0,9,     -999.0,9,     -999.0,9,     -999.0,9,     -999.0,9,-999.0000, -999.00
33RO20071215,        P18,      38,          1,         23,      12022,2,20071227,       1200,     3.0003,  -110.0020,       3888,   366.1,  10.2722,  34.7194,2,  34.7185,2,     24.6,2,    20.5,2,   33.30,2,   34.50,2,    0.01,2,    2.39,2,   0.428,2,   0.240,2,   0.0789,2,  -999.0,9,  -999.0,9,   -999.0,9,  -999.00,   7.4528,2,    25.00,-999.000,9,-999.0000,9, -999.00,9, -999.00,9,  -999.0,9,-999.000,9,-999.000,-999.000,9,-999.000,9,   42.75,2,   36.07,2, -999.00,1, -999.00,9, -999.00,9,-999.000,-999.0000,9,-999.0000,9,-999.0000,9,-999.0000,9,-999.0000,9,-999.0000,9,-999.0000,9,-999.0000,9,-999.0000,9,  10.2288,     -999.0,9,     -999.0,9,     -999.0,9,     -999.0,9,     -999.0,9,     -999.0,9,     -999.0,9,-999.0000, -999.00
33RO20071215,        P18,      38,          1,         22,      12015,2,20071227,       1200,     3.0003,  -110.0020,       3888,   432.7,   9.2485,  34.6717,2,  34.6713,2,     12.1,2,     9.5,2,   40.60,2,   37.20,2,    0.01,2,    2.69,2,-999.000,9,-999.000,9,-999.0000,9,  2276.7,6,  2306.1,2,   -999.0,9,  -999.00,   7.4056,2,    25.00,-999.000,9,-999.0000,9, -999.00,9, -999.00,9,  -999.0,9,-999.000,9,-999.000,-999.000,9,-999.000,9,   42.04,2,   38.48,2, -999.00,1, -999.00,9, -999.00,9,-999.000,-999.0000,9,-999.0000,9,-999.0000,9,-999.0000,9,-999.0000,9,-999.0000,9,-999.0000,9,-999.0000,9,-999.0000,9,   9.2002,     -999.0,9,     -999.0,9,     -999.0,9,     -999.0,9,     -999.0,9,     -999.0,9,     -999.0,9,-999.0000, -999.00
33RO20071215,        P18,      38,          1,         21,      12020,2,20071227,       1200,     3.0003,  -110.0020,       3888,   532.1,   7.6281,  34.6029,2,  34.6011,2,     30.0,2,    27.8,2,   48.00,2,   39.70,2,    0.00,2,    2.79,2,   0.056,2,   0.031,2,   0.0000,2,  -999.0,9,  -999.0,9,   -999.0,9,  -999.00,   7.4163,2,    25.00,-999.000,9,-999.0000,9, -999.00,9, -999.00,9,  -999.0,9,-999.000,9,-999.000,-999.000,9,-999.000,9,   41.19,2,   40.97,2, -999.00,1, -999.00,9, -999.00,9,-999.000,-999.0000,9,-999.0000,9,-999.0000,9,-999.0000,9,-999.0000,9,-999.0000,9,-999.0000,9,-999.0000,9,-999.0000,9,   7.5748,     -999.0,9,     -999.0,9,     -999.0,9,     -999.0,9,     -999.0,9,     -999.0,9,     -999.0,9,-999.0000, -999.00
33RO20071215,        P18,      38,          1,         20,      12055,2,20071227,       1200,     3.0003,  -110.0020,       3888,   632.9,   6.7518,  34.5778,2,  34.5785,2,     36.2,2,    36.2,2,   56.10,2,   41.10,2,    0.00,2,    2.88,2,-999.000,9,-999.000,9,-999.0000,9,  2287.3,2,  -999.0,5,   1748.4,2,    20.00,   7.4065,2,    25.00,-999.000,9,-999.0000,9, -999.00,9, -999.00,9,  -999.0,9,-999.000,9,-999.000,-999.000,9,-999.000,9,   40.65,2,   42.76,2, -999.00,1, -999.00,9, -999.00,9,-999.000,-999.0000,9,-999.0000,9,-999.0000,9,-999.0000,9,-999.0000,9,-999.0000,9,-999.0000,9,-999.0000,9,-999.0000,9,   6.6922,     -999.0,9,     -999.0,9,     -999.0,9,     -999.0,9,     -999.0,9,     -999.0,9,     -999.0,9,-999.0000, -999.00
33RO20071215,        P18,      38,          1,         19,      12018,2,20071227,       1200,     3.0003,  -110.0020,       3888,   731.9,   6.0552,  34.5642,2,  34.5648,2,     44.8,2,    44.2,2,   64.20,2,   41.60,2,    0.00,2,    2.92,2,   0.009,2,   0.005,2,   0.0000,2,  -999.0,9,  -999.0,9,   -999.0,9,  -999.00,   7.4228,2,    25.00,-999.000,9,-999.0000,9, -999.00,9, -999.00,9,  -999.0,9,-999.000,9,-999.000,-999.000,9,-999.000,9,   40.07,2,   42.77,2, -999.00,1, -999.00,9, -999.00,9,-999.000,-999.0000,9,-999.0000,9,-999.0000,9,-999.0000,9,-999.0000,9,-999.0000,9,-999.0000,9,-999.0000,9,-999.0000,9,   5.9897,     -999.0,9,     -999.0,9,     -999.0,9,     -999.0,9,     -999.0,9,     -999.0,9,     -999.0,9,-999.0000, -999.00
33RO20071215,        P18,      38,          1,         18,      12025,2,20071227,       1200,     3.0003,  -110.0020,       3888,   832.9,   5.4171,  34.5557,2,  34.5576,2,     54.2,2,    51.0,2,   73.00,2,   41.60,2,    0.00,2,    2.93,2,-999.000,9,-999.000,9,-999.0000,9,  2301.2,2,  2338.3,2,   -999.0,9,  -999.00,   7.4222,2,    25.00,-999.000,9,-999.0000,9, -999.00,9, -999.00,9,  -999.0,9,-999.000,9,-999.000,-999.000,9,-999.000,9,   39.36,2,   43.02,2, -999.00,1, -999.00,9, -999.00,9,-999.000,-999.0000,9,-999.0000,9,-999.0000,9,-999.0000,9,-999.0000,9,-999.0000,9,-999.0000,9,-999.0000,9,-999.0000,9,   5.3460,     -999.0,9,     -999.0,9,     -999.0,9,     -999.0,9,     -999.0,9,     -999.0,9,     -999.0,9,-999.0000, -999.00
33RO20071215,        P18,      38,          1,         17,      12016,2,20071227,       1200,     3.0003,  -110.0020,       3888,   933.4,   4.9689,  34.5568,2,  34.5575,2,     56.5,2,    55.5,2,   81.50,2,   42.00,2,    0.00,2,    2.95,2,   0.001,2,   0.000,2,   0.0000,2,  -999.0,9,  -999.0,9,   -999.0,9,  -999.00,   7.4270,2,    25.00,-999.000,9,-999.0000,9, -999.00,9, -999.00,9,  -999.0,9,-999.000,9,-999.000,-999.000,9,-999.000,9,   38.75,2,   43.28,2, -999.00,1, -999.00,9, -999.00,9,-999.000,-999.0000,9,-999.0000,9,-999.0000,9,-999.0000,9,-999.0000,9,-999.0000,9,-999.0000,9,-999.0000,9,-999.0000,9,   4.8917,     -999.0,9,     -999.0,9,     -999.0,9,     -999.0,9,     -999.0,9,     -999.0,9,     -999.0,9,-999.0000, -999.00
33RO20071215,        P18,      38,          1,         16,      12051,2,20071227,       1200,     3.0003,  -110.0020,       3888,  1032.9,   4.5038,  34.5650,2,  34.5659,2,     62.6,2,    61.0,2,   90.90,2,   41.60,2,    0.00,2,    2.95,2,-999.000,9,-999.000,9,-999.0000,9,  2316.4,2,  2358.7,2,   -999.0,9,  -999.00,   7.4388,2,    25.00,-999.000,9,-999.0000,9, -999.00,9, -999.00,9,  -999.0,9,-999.000,9,-999.000,-999.000,9,-999.000,9,   38.33,2,   43.04,2, -999.00,9, -999.00,9, -999.00,9,-999.000,-999.0000,9,-999.0000,9,-999.0000,9,-999.0000,9,-999.0000,9,-999.0000,9,-999.0000,9,-999.0000,9,-999.0000,9,   4.4213,     -999.0,9,     -999.0,9,     -999.0,9,     -999.0,9,     -999.0,9,     -999.0,9,     -999.0,9,-999.0000, -999.00
33RO20071215,        P18,      38,          1,         15,      12014,2,20071227,       1200,     3.0003,  -110.0020,       3888,  1133.5,   4.1253,  34.5728,2,  34.5746,2,     70.0,2,    68.6,2,   98.90,2,   41.30,2,    0.00,2,    2.91,2,   0.000,2,   0.000,2,   0.0000,2,  -999.0,9,  -999.0,9,   -999.0,9,  -999.00,   7.4469,2,    25.00,-999.000,9,-999.0000,9, -999.00,9, -999.00,9,  -999.0,9,-999.000,9,-999.000,-999.000,9,-999.000,9,   37.82,2,   42.86,2, -999.00,9, -999.00,9, -999.00,9,-999.000,-999.0000,9,-999.0000,9,-999.0000,9,-999.0000,9,-999.0000,9,-999.0000,9,-999.0000,9,-999.0000,9,-999.0000,9,   4.0372,     -999.0,9,     -999.0,9,     -999.0,9,     -999.0,9,     -999.0,9,     -999.0,9,     -999.0,9,-999.0000, -999.00
33RO20071215,        P18,      38,          1,         14,      12013,2,20071227,       1200,     3.0003,  -110.0020,       3888,  1232.5,   3.8779,  34.5834,2,  34.5844,2,     71.6,2,    71.7,2,  105.40,2,   41.10,2,    0.00,2,    2.92,2,-999.000,9,-999.000,9,-999.0000,9,  2327.4,2,  2374.1,2,   1611.3,2,    20.00,   7.4516,2,    25.00,-999.000,9,-999.0000,9, -999.00,9, -999.00,9,  -999.0,9,-999.000,9,-999.000,-999.000,9,-999.000,9,   37.40,2,   42.57,2, -999.00,9, -999.00,9, -999.00,9,-999.000,-999.0000,9,-999.0000,9,-999.0000,9,-999.0000,9,-999.0000,9,-999.0000,9,-999.0000,9,-999.0000,9,-999.0000,9,   3.7835,     -999.0,9,     -999.0,9,     -999.0,9,     -999.0,9,     -999.0,9,     -999.0,9,     -999.0,9,-999.0000, -999.00
33RO20071215,        P18,      38,          1,         13,      12012,2,20071227,       1200,     3.0003,  -110.0020,       3888,  1332.8,   3.6068,  34.5925,2,  34.5929,2,     74.7,2,    71.4,2,  111.70,2,   41.10,2,    0.00,2,    2.89,2,   0.002,2,   0.000,2,   0.0000,2,  -999.0,9,  -999.0,9,   -999.0,9,  -999.00,   7.4592,2,    25.00,-999.000,9,-999.0000,9, -999.00,9, -999.00,9,  -999.0,9,-999.000,9,-999.000,-999.000,9,-999.000,9,   36.98,2,   42.37,2, -999.00,9, -999.00,9, -999.00,9,-999.000,-999.0000,9,-999.0000,9,-999.0000,9,-999.0000,9,-999.0000,9,-999.0000,9,-999.0000,9,-999.0000,9,-999.0000,9,   3.5065,     -999.0,9,     -999.0,9,     -999.0,9,     -999.0,9,     -999.0,9,     -999.0,9,     -999.0,9,-999.0000, -999.00
33RO20071215,        P18,      38,          1,         12,      12031,2,20071227,       1200,     3.0003,  -110.0020,       3888,  1467.0,   3.2532,  34.6054,2,  34.6069,2,     78.4,2,    78.0,2,  121.00,2,   40.90,2,    0.00,2,    2.89,2,-999.000,9,-999.000,9,-999.0000,9,  2342.0,2,  2391.5,2,   -999.0,9,  -999.00,   7.4631,2,    25.00,-999.000,9,-999.0000,9, -999.00,9, -999.00,9,  -999.0,9,-999.000,9,-999.000,-999.000,9,-999.000,9,   37.43,2,   41.98,2, -999.00,9, -999.00,9, -999.00,9,-999.000,-999.0000,9,-999.0000,9,-999.0000,9,-999.0000,9,-999.0000,9,-999.0000,9,-999.0000,9,-999.0000,9,-999.0000,9,   3.1452,     -999.0,9,     -999.0,9,     -999.0,9,     -999.0,9,     -999.0,9,     -999.0,9,     -999.0,9,-999.0000, -999.00