BOTTLE,20220818CCHSIOAMB
EXPOCODE,SECT_ID,STNNBR,CASTNO,SAMPNO,BTLNBR,BTLNBR_FLAG_W,DATE,TIME,LATITUDE,LONGITUDE,DEPTH,CTDPRS,CTDTMP,CTDSAL,CTDSAL_FLAG_W,SALNTY,SALNTY_FLAG_W,CTDOXY,CTDOXY_FLAG_W,OXYGEN,OXYGEN_FLAG_W,SILCAT,SILCAT_FLAG_W,NITRAT,NITRAT_FLAG_W,NITRIT,NITRIT_FLAG_W,PHSPHT,PHSPHT_FLAG_W,CFC-11,CFC-11_FLAG_W,CFC-12,CFC-12_FLAG_W,SF6,SF6_FLAG_W,TCARBN,TCARBN_FLAG_W,ALKALI,ALKALI_FLAG_W,FCO2,FCO2_FLAG_W,FCO2TMP,PH_SWS,PH_SWS_FLAG_W,PH_TMP,TRITUM,TRITUM_FLAG_W,HELIUM,HELIUM_FLAG_W,DELHE3,DELHE3_FLAG_W,DELC13,DELC13_FLAG_W,DELC14,DELC14_FLAG_W,NEON,NEON_FLAG_W,NEONER,CCL4,CCL4_FLAG_W,POC,POC_FLAG_W,DOC,DOC_FLAG_W,TDN,TDN_FLAG_W,DON,DON_FLAG_W,CHLORA,CHLORA_FLAG_W,ARGON,ARGON_FLAG_W,TRITER,CDOM325,CDOM325_FLAG_W,CDOM340,CDOM340_FLAG_W,CDOM380,CDOM380_FLAG_W,CDOM412,CDOM412_FLAG_W,CDOM443,CDOM443_FLAG_W,CDOM490,CDOM490_FLAG_W,CDOM555,CDOM555_FLAG_W,CDOMSL,CDOMSL_FLAG_W,CDOMSN,CDOMSN_FLAG_W,THETA,D18O_NO3,D18O_NO3_FLAG_W,CDOM2C,CDOM2C_FLAG_W,CDOM3C,CDOM3C_FLAG_W,LAB_DEN,LAB_DEN_FLAG_W,DELSI30,DELSI30_FLAG_W,N2,N2_FLAG_W,D15N_NO3,D15N_NO3_FLAG_W,HELIER,DELHER
,,,,,,,,,,,METERS,DBAR,ITS-90,PSS-78,,PSS-78,,UMOL/KG,,UMOL/KG,,UMOL/KG,,UMOL/KG,,UMOL/KG,,UMOL/KG,,PMOL/KG,,PMOL/KG,,FMOL/KG,,UMOL/KG,,UMOL/KG,,UATM,,DEG C,,,DEG C,TU,,NMOL/KG,,PERCNT,,/MILLE,,/MILLE,,NMOL/KG,,NMOL/KG,PMOL/KG,,UG/KG,,UMOL/KG,,UMOL/KG,,UMOL/KG,,UG/KG,,UMOL/KG,,TU,1/M,,1/M,,1/M,,1/M,,1/M,,1/M,,1/M,,1/NM,,1/NM,,DEG C,/MILLE,,,,,,,,/MILLE,,UMOL/KG,,/MILLE,,NMOL/KG,PERCNT
33RO20071215,        P18,      96,          1,         36,      12017,2,20080116,       0856,   -26.9165,  -103.0005,       3026,     4.4,  23.6397,  36.1200,2,  36.1261,2,    214.2,2,   214.9,2,    0.60,2,    0.30,2,    0.00,2,    0.12,2,   1.927,6,   1.204,6,   1.0233,6,  2078.6,6,  2381.3,2,    352.9,2,    20.00,   8.0008,2,    25.00,-999.000,9,-999.0000,9, -999.00,9,     1.3,2,  -999.0,1,-999.000,9,-999.000,-999.000,9,-999.000,9, -999.00,9, -999.00,9, -999.00,9, -999.00,9, -999.00,9,-999.000,-999.0000,9,-999.0000,9,-999.0000,9,-999.0000,9,-999.0000,9,-999.0000,9,-999.0000,9,-999.0000,9,-999.0000,9,  23.6388,     -999.0,9,     -999.0,9,     -999.0,9,     -999.0,9,     -999.0,9,     -999.0,9,     -999.0,9,-999.0000, -999.00
33RO20071215,        P18,      96,          1,         35,      12029,2,20080116,       0856,   -26.9165,  -103.0005,       3026,     8.7,  23.6508,  36.1205,2,  36.1199,2,    214.2,2,   214.7,2,    0.60,2,    0.30,2,    0.00,2,    0.11,2,-999.000,9,-999.000,9,-999.0000,9,  2079.3,2,  2381.0,2,   -999.0,9,  -999.00,   8.0252,2,    25.00,-999.000,9,-999.0000,9, -999.00,9, -999.00,9,  -999.0,9,-999.000,9,-999.000,-999.000,9,-999.000,9, -999.00,9, -999.00,9, -999.00,9, -999.00,9, -999.00,9,-999.000,-999.0000,9,-999.0000,9,-999.0000,9,-999.0000,9,-999.0000,9,-999.0000,9,-999.0000,9,-999.0000,9,-999.0000,9,  23.6490,     -999.0,9,     -999.0,9,     -999.0,9,     -999.0,9,     -999.0,9,     -999.0,9,     -999.0,9,-999.0000, -999.00
33RO20071215,        P18,      96,          1,         34,      12049,2,20080116,       0856,   -26.9165,  -103.0005,       3026,    16.4,  23.6326,  36.1182,2,  36.1062,2,    214.5,2,   216.2,2,    0.60,2,    0.30,2,    0.00,2,    0.11,2,-999.000,9,-999.000,9,-999.0000,9,  2078.3,2,  2380.4,2,   -999.0,9,  -999.00,   8.0145,2,    25.00,-999.000,9,-999.0000,9, -999.00,9, -999.00,9,  -999.0,9,-999.000,9,-999.000,-999.000,9,-999.000,9, -999.00,9, -999.00,9, -999.00,9, -999.00,9, -999.00,9,-999.000,-999.0000,9,-999.0000,9,-999.0000,9,-999.0000,9,-999.0000,9,-999.0000,9,-999.0000,9,-999.0000,9,-999.0000,9,  23.6292,     -999.0,9,     -999.0,9,     -999.0,9,     -999.0,9,     -999.0,9,     -999.0,9,     -999.0,9,-999.0000, -999.00
33RO20071215,        P18,      96,          1,         33,      12027,2,20080116,       0856,   -26.9165,  -103.0005,       3026,    33.5,  21.8658,  35.9891,2,  35.9882,2,    226.0,2,   226.8,2,    0.60,2,    0.30,2,    0.00,2,    0.11,2,-999.000,9,-999.000,9,-999.0000,9,  2073.3,2,  2375.9,2,    355.8,2,    20.00,   8.0146,2,    25.00,-999.000,9,-999.0000,9, -999.00,9, -999.00,9,  -999.0,9,-999.000,9,-999.000,-999.000,9,-999.000,9, -999.00,9, -999.00,9, -999.00,9, -999.00,9, -999.00,9,-999.000,-999.0000,9,-999.0000,9,-999.0000,9,-999.0000,9,-999.0000,9,-999.0000,9,-999.0000,9,-999.0000,9,-999.0000,9,  21.8591,     -999.0,9,     -999.0,9,     -999.0,9,     -999.0,9,     -999.0,9,     -999.0,9,     -999.0,9,-999.0000, -999.00
33RO20071215,        P18,      96,          1,         32,      12023,2,20080116,       0856,   -26.9165,  -103.0005,       3026,    51.7,  21.5565,  35.9774,2,  35.9691,2,    226.6,2,   227.3,2,    0.60,2,    0.30,2,    0.00,2,    0.11,2,   2.128,2,   1.313,2,   1.0943,2,  2072.9,2,  2374.8,2,   -999.0,9,  -999.00,   8.0329,2,    25.00,-999.000,9,-999.0000,9, -999.00,9, -999.00,9,  -999.0,9,-999.000,9,-999.000,-999.000,9,-999.000,9, -999.00,9, -999.00,9, -999.00,9, -999.00,9, -999.00,9,-999.000,-999.0000,9,-999.0000,9,-999.0000,9,-999.0000,9,-999.0000,9,-999.0000,9,-999.0000,9,-999.0000,9,-999.0000,9,  21.5464,     -999.0,9,     -999.0,9,     -999.0,9,     -999.0,9,     -999.0,9,     -999.0,9,     -999.0,9,-999.0000, -999.00
33RO20071215,        P18,      96,          1,         31,      12037,2,20080116,       0856,   -26.9165,  -103.0005,       3026,    72.8,  21.0219,  35.9604,2,  35.9592,2,    229.6,2,   229.6,2,    0.60,2,    0.30,2,    0.00,2,    0.12,2,-999.000,9,-999.000,9,-999.0000,9,  2069.8,2,  2370.7,2,    353.5,2,    20.00,   8.0012,2,    25.00,-999.000,9,-999.0000,9, -999.00,9, -999.00,9,  -999.0,9,-999.000,9,-999.000,-999.000,9,-999.000,9, -999.00,9, -999.00,9, -999.00,9, -999.00,9, -999.00,9,-999.000,-999.0000,9,-999.0000,9,-999.0000,9,-999.0000,9,-999.0000,9,-999.0000,9,-999.0000,9,-999.0000,9,-999.0000,9,  21.0079,     -999.0,9,     -999.0,9,     -999.0,9,     -999.0,9,     -999.0,9,     -999.0,9,     -999.0,9,-999.0000, -999.00
33RO20071215,        P18,      96,          1,         30,      12036,2,20080116,       0856,   -26.9165,  -103.0005,       3026,    91.9,  20.7072,  35.9367,2,  35.9340,2,    228.7,2,   229.3,2,    0.60,2,    0.30,2,    0.00,2,    0.12,2,-999.000,9,-999.000,9,-999.0000,9,  2070.5,2,  2372.9,2,   -999.0,9,  -999.00,   8.0020,2,    25.00,-999.000,9,-999.0000,9, -999.00,9, -999.00,9,  -999.0,9,-999.000,9,-999.000,-999.000,9,-999.000,9, -999.00,9, -999.00,9, -999.00,9, -999.00,9, -999.00,9,-999.000,-999.0000,9,-999.0000,9,-999.0000,9,-999.0000,9,-999.0000,9,-999.0000,9,-999.0000,9,-999.0000,9,-999.0000,9,  20.6898,     -999.0,9,     -999.0,9,     -999.0,9,     -999.0,9,     -999.0,9,     -999.0,9,     -999.0,9,-999.0000, -999.00
33RO20071215,        P18,      96,          1,         29,      12044,2,20080116,       0856,   -26.9165,  -103.0005,       3026,   117.3,  20.4347,  35.9090,2,  35.9052,2,    227.3,2,   227.0,2,    0.50,2,    0.30,2,    0.00,2,    0.12,2,   2.173,2,   1.340,2,   1.0810,2,  2070.0,2,  2368.3,2,    359.8,2,    20.00,   8.0025,2,    25.00,-999.000,9,-999.0000,9, -999.00,9, -999.00,9,  -999.0,9,-999.000,9,-999.000,-999.000,9,-999.000,9, -999.00,9, -999.00,9, -999.00,9, -999.00,9, -999.00,9,-999.000,-999.0000,9,-999.0000,9,-999.0000,9,-999.0000,9,-999.0000,9,-999.0000,9,-999.0000,9,-999.0000,9,-999.0000,9,  20.4126,     -999.0,9,     -999.0,9,     -999.0,9,     -999.0,9,     -999.0,9,     -999.0,9,     -999.0,9,-999.0000, -999.00
33RO20071215,        P18,      96,          1,         28,      12057,2,20080116,       0856,   -26.9165,  -103.0005,       3026,   143.1,  20.0972,  35.8483,2,  35.8409,2,    225.2,2,   224.9,2,    0.60,2,    0.30,2,    0.00,2,    0.12,2,-999.000,9,-999.000,9,-999.0000,9,  2070.5,2,  2361.8,2,   -999.0,9,  -999.00,   7.9960,2,    25.00,-999.000,9,-999.0000,9, -999.00,9, -999.00,9,  -999.0,9,-999.000,9,-999.000,-999.000,9,-999.000,9, -999.00,9, -999.00,9, -999.00,9, -999.00,9, -999.00,9,-999.000,-999.0000,9,-999.0000,9,-999.0000,9,-999.0000,9,-999.0000,9,-999.0000,9,-999.0000,9,-999.0000,9,-999.0000,9,  20.0705,     -999.0,9,     -999.0,9,     -999.0,9,     -999.0,9,     -999.0,9,     -999.0,9,     -999.0,9,-999.0000, -999.00
33RO20071215,        P18,      96,          1,         27,      12026,2,20080116,       0856,   -26.9165,  -103.0005,       3026,   167.9,  19.8139,  35.7916,2,  35.7924,2,    224.5,2,   223.6,2,    0.60,2,    0.30,2,    0.00,2,    0.14,2,-999.000,9,-999.000,9,-999.0000,9,  2067.9,2,  2358.7,2,    372.0,6,    20.00,   7.9911,2,    25.00,-999.000,9,-999.0000,9, -999.00,9, -999.00,9,  -999.0,9,-999.000,9,-999.000,-999.000,9,-999.000,9, -999.00,9, -999.00,9, -999.00,9, -999.00,9, -999.00,9,-999.000,-999.0000,9,-999.0000,9,-999.0000,9,-999.0000,9,-999.0000,9,-999.0000,9,-999.0000,9,-999.0000,9,-999.0000,9,  19.7830,     -999.0,9,     -999.0,9,     -999.0,9,     -999.0,9,     -999.0,9,     -999.0,9,     -999.0,9,-999.0000, -999.00
33RO20071215,        P18,      96,          1,         26,      12030,2,20080116,       0856,   -26.9165,  -103.0005,       3026,   191.5,  19.3463,  35.6931,2,  35.7202,2,    221.1,2,   221.9,2,    0.60,2,    0.40,2,    0.12,2,    0.14,2,   2.269,2,   1.389,2,   1.0382,2,  2067.2,2,  2381.1,4,   -999.0,9,  -999.00,   8.0000,2,    25.00,-999.000,9,-999.0000,9, -999.00,9, -999.00,9,  -999.0,9,-999.000,9,-999.000,-999.000,9,-999.000,9, -999.00,9, -999.00,9, -999.00,9, -999.00,9, -999.00,9,-999.000,-999.0000,9,-999.0000,9,-999.0000,9,-999.0000,9,-999.0000,9,-999.0000,9,-999.0000,9,-999.0000,9,-999.0000,9,  19.3115,     -999.0,9,     -999.0,9,     -999.0,9,     -999.0,9,     -999.0,9,     -999.0,9,     -999.0,9,-999.0000, -999.00
33RO20071215,        P18,      96,          1,         25,      12024,2,20080116,       0856,   -26.9165,  -103.0005,       3026,   213.9,  18.6825,  35.5396,2,  35.5088,2,    219.6,2,   219.6,2,    0.60,2,    1.10,2,    0.15,2,    0.18,2,-999.000,9,-999.000,9,-999.0000,9,  2066.2,2,  2339.4,2,   -999.0,9,  -999.00,   7.9498,2,    25.00,-999.000,9,-999.0000,9, -999.00,9, -999.00,9,  -999.0,9,-999.000,9,-999.000,-999.000,9,-999.000,9, -999.00,9, -999.00,9, -999.00,9, -999.00,9, -999.00,9,-999.000,-999.0000,9,-999.0000,9,-999.0000,9,-999.0000,9,-999.0000,9,-999.0000,9,-999.0000,9,-999.0000,9,-999.0000,9,  18.6447,     -999.0,9,     -999.0,9,     -999.0,9,     -999.0,9,     -999.0,9,     -999.0,9,     -999.0,9,-999.0000, -999.00
33RO20071215,        P18,      96,          1,         24,      12019,2,20080116,       0856,   -26.9165,  -103.0005,       3026,   240.8,  17.3262,  35.2376,2,  35.1754,2,    213.8,2,   212.9,2,    0.70,2,    2.80,2,    0.04,2,    0.29,2,-999.000,9,-999.000,9,-999.0000,9,  2068.3,2,  2319.6,2,    435.4,2,    20.00,   7.9393,2,    25.00,-999.000,9,-999.0000,9, -999.00,9, -999.00,9,  -999.0,9,-999.000,9,-999.000,-999.000,9,-999.000,9, -999.00,9, -999.00,9, -999.00,9, -999.00,9, -999.00,9,-999.000,-999.0000,9,-999.0000,9,-999.0000,9,-999.0000,9,-999.0000,9,-999.0000,9,-999.0000,9,-999.0000,9,-999.0000,9,  17.2859,     -999.0,9,     -999.0,9,     -999.0,9,     -999.0,9,     -999.0,9,     -999.0,9,     -999.0,9,-999.0000, -999.00
33RO20071215,        P18,      96,          1,         23,      12022,2,20080116,       0856,   -26.9165,  -103.0005,       3026,   282.8,  14.9832,  34.7962,2,  34.7948,2,    204.4,2,   204.5,2,    1.20,2,    6.50,2,    0.01,2,    0.51,2,   2.806,2,   1.623,2,   0.9997,2,  2079.4,2,  2296.8,2,   -999.0,9,  -999.00,   7.8813,2,    25.00,-999.000,9,-999.0000,9, -999.00,9, -999.00,9,  -999.0,9,-999.000,9,-999.000,-999.000,9,-999.000,9, -999.00,9, -999.00,9, -999.00,9, -999.00,9, -999.00,9,-999.000,-999.0000,9,-999.0000,9,-999.0000,9,-999.0000,9,-999.0000,9,-999.0000,9,-999.0000,9,-999.0000,9,-999.0000,9,  14.9404,     -999.0,9,     -999.0,9,     -999.0,9,     -999.0,9,     -999.0,9,     -999.0,9,     -999.0,9,-999.0000, -999.00
33RO20071215,        P18,      96,          1,         22,      12015,2,20080116,       0856,   -26.9165,  -103.0005,       3026,   332.0,  12.4362,  34.5455,2,  34.5515,2,    193.7,2,   193.1,2,    2.90,2,   12.40,2,    0.01,2,    0.92,2,-999.000,9,-999.000,9,-999.0000,9,  2106.7,2,  2280.4,2,    638.0,2,    20.00,   7.8069,2,    25.00,-999.000,9,-999.0000,9, -999.00,9, -999.00,9,  -999.0,9,-999.000,9,-999.000,-999.000,9,-999.000,9, -999.00,9, -999.00,9, -999.00,9, -999.00,9, -999.00,9,-999.000,-999.0000,9,-999.0000,9,-999.0000,9,-999.0000,9,-999.0000,9,-999.0000,9,-999.0000,9,-999.0000,9,-999.0000,9,  12.3918,     -999.0,9,     -999.0,9,     -999.0,9,     -999.0,9,     -999.0,9,     -999.0,9,     -999.0,9,-999.0000, -999.00
33RO20071215,        P18,      96,          1,         21,      12020,2,20080116,       0856,   -26.9165,  -103.0005,       3026,   381.7,  10.0403,  34.3768,2,  34.3769,2,    200.5,2,   198.9,2,    4.40,2,   17.90,2,    0.01,2,    1.25,2,-999.000,9,-999.000,9,-999.0000,9,  2127.2,2,  2271.6,2,   -999.0,9,  -999.00,   7.7347,2,    25.00,-999.000,9,-999.0000,9, -999.00,9, -999.00,9,  -999.0,9,-999.000,9,-999.000,-999.000,9,-999.000,9, -999.00,9, -999.00,9, -999.00,9, -999.00,9, -999.00,9,-999.000,-999.0000,9,-999.0000,9,-999.0000,9,-999.0000,9,-999.0000,9,-999.0000,9,-999.0000,9,-999.0000,9,-999.0000,9,   9.9958,     -999.0,9,     -999.0,9,     -999.0,9,     -999.0,9,     -999.0,9,     -999.0,9,     -999.0,9,-999.0000, -999.00
33RO20071215,        P18,      96,          1,         20,      12055,2,20080116,       0856,   -26.9165,  -103.0005,       3026,   466.0,   7.6567,  34.3375,2,-999.0000,9,    178.8,2,   179.1,2,   10.20,2,   26.20,2,    0.00,2,    1.82,2,   2.856,2,   1.441,2,   0.4733,2,  2170.2,6,  2274.6,2,    982.3,2,    20.00,   7.6242,2,    25.00,-999.000,9,-999.0000,9, -999.00,9, -999.00,9,  -999.0,9,-999.000,9,-999.000,-999.000,9,-999.000,9, -999.00,9, -999.00,9, -999.00,9, -999.00,9, -999.00,9,-999.000,-999.0000,9,-999.0000,9,-999.0000,9,-999.0000,9,-999.0000,9,-999.0000,9,-999.0000,9,-999.0000,9,-999.0000,9,   7.6103,     -999.0,9,     -999.0,9,     -999.0,9,     -999.0,9,     -999.0,9,     -999.0,9,     -999.0,9,-999.0000, -999.00
33RO20071215,        P18,      96,          1,         19,      12018,2,20080116,       0856,   -26.9165,  -103.0005,       3026,   565.7,   6.4717,  34.3191,2,  34.3194,2,    215.1,2,   213.6,2,   10.50,2,   26.40,2,    0.00,2,    1.76,2,-999.000,9,-999.000,9,-999.0000,9,  2159.2,2,  2275.0,2,   -999.0,9,  -999.00,   7.6665,2,    25.00,-999.000,9,-999.0000,9, -999.00,9, -999.00,9,  -999.0,9,-999.000,9,-999.000,-999.000,9,-999.000,9, -999.00,9, -999.00,9, -999.00,9, -999.00,9, -999.00,9,-999.000,-999.0000,9,-999.0000,9,-999.0000,9,-999.0000,9,-999.0000,9,-999.0000,9,-999.0000,9,-999.0000,9,-999.0000,9,   6.4202,     -999.0,9,     -999.0,9,     -999.0,9,     -999.0,9,     -999.0,9,     -999.0,9,     -999.0,9,-999.0000, -999.00
33RO20071215,        P18,      96,          1,         18,      12025,2,20080116,       0856,   -26.9165,  -103.0005,       3026,   666.2,   5.6896,  34.2853,2,  34.2850,2,    231.9,2,   231.7,2,   12.10,2,   27.00,2,    0.00,2,    1.78,2,-999.000,9,-999.000,9,-999.0000,9,  2154.6,2,  2278.8,2,    863.1,2,    20.00,   7.6818,2,    25.00,-999.000,9,-999.0000,9, -999.00,9, -999.00,9,  -999.0,9,-999.000,9,-999.000,-999.000,9,-999.000,9, -999.00,9, -999.00,9, -999.00,9, -999.00,9, -999.00,9,-999.000,-999.0000,9,-999.0000,9,-999.0000,9,-999.0000,9,-999.0000,9,-999.0000,9,-999.0000,9,-999.0000,9,-999.0000,9,   5.6325,     -999.0,9,     -999.0,9,     -999.0,9,     -999.0,9,     -999.0,9,     -999.0,9,     -999.0,9,-999.0000, -999.00
33RO20071215,        P18,      96,          1,         17,      12016,2,20080116,       0856,   -26.9165,  -103.0005,       3026,   766.1,   5.0609,  34.2792,2,  34.2793,2,    215.9,2,   215.0,2,   18.60,2,   29.90,2,    0.00,2,    1.98,2,   1.431,2,   0.712,2,   0.1556,2,  2170.9,2,  2286.8,2,   -999.0,9,  -999.00,   7.6402,2,    25.00,-999.000,9,-999.0000,9, -999.00,9, -999.00,9,  -999.0,9,-999.000,9,-999.000,-999.000,9,-999.000,9, -999.00,9, -999.00,9, -999.00,9, -999.00,9, -999.00,9,-999.000,-999.0000,9,-999.0000,9,-999.0000,9,-999.0000,9,-999.0000,9,-999.0000,9,-999.0000,9,-999.0000,9,-999.0000,9,   4.9983,     -999.0,9,     -999.0,9,     -999.0,9,     -999.0,9,     -999.0,9,     -999.0,9,     -999.0,9,-999.0000, -999.00
33RO20071215,        P18,      96,          1,         16,      12051,2,20080116,       0856,   -26.9165,  -103.0005,       3026,   865.3,   4.6136,  34.3298,2,  34.3291,2,    177.3,2,   175.4,2,   32.90,2,   33.90,2,    0.00,2,    2.29,2,-999.000,9,-999.000,9,-999.0000,9,  2205.6,2,  2299.1,2,   1113.4,2,    20.00,   7.5856,2,    25.00,-999.000,9,-999.0000,9, -999.00,9, -999.00,9,  -999.0,9,-999.000,9,-999.000,-999.000,9,-999.000,9, -999.00,9, -999.00,9, -999.00,9, -999.00,9, -999.00,9,-999.000,-999.0000,9,-999.0000,9,-999.0000,9,-999.0000,9,-999.0000,9,-999.0000,9,-999.0000,9,-999.0000,9,-999.0000,9,   4.5451,     -999.0,9,     -999.0,9,     -999.0,9,     -999.0,9,     -999.0,9,     -999.0,9,     -999.0,9,-999.0000, -999.00
33RO20071215,        P18,      96,          1,         15,      12014,2,20080116,       0856,   -26.9165,  -103.0005,       3026,   966.2,   4.1795,  34.3881,2,  34.3862,2,    150.0,2,   150.0,2,   47.80,2,   36.40,2,    0.00,2,    2.49,2,-999.000,9,-999.000,9,-999.0000,9,  2233.3,2,  2312.7,2,   -999.0,9,  -999.00,   7.5405,2,    25.00,-999.000,9,-999.0000,9, -999.00,9, -999.00,9,  -999.0,9,-999.000,9,-999.000,-999.000,9,-999.000,9, -999.00,9, -999.00,9, -999.00,9, -999.00,9, -999.00,9,-999.000,-999.0000,9,-999.0000,9,-999.0000,9,-999.0000,9,-999.0000,9,-999.0000,9,-999.0000,9,-999.0000,9,-999.0000,9,   4.1055,     -999.0,9,     -999.0,9,     -999.0,9,     -999.0,9,     -999.0,9,     -999.0,9,     -999.0,9,-999.0000, -999.00
33RO20071215,        P18,      96,          1,         14,      12013,2,20080116,       0856,   -26.9165,  -103.0005,       3026,  1066.6,   3.8612,  34.4395,2,  34.4398,2,    136.3,2,   135.7,2,   60.90,2,   37.80,2,    0.00,2,    2.60,2,   0.054,2,   0.030,2,   0.0000,2,  2253.2,2,  2325.8,4,   1311.5,2,    20.00,   7.5288,2,    25.00,-999.000,9,-999.0000,9, -999.00,9, -999.00,9,  -999.0,9,-999.000,9,-999.000,-999.000,9,-999.000,9, -999.00,9, -999.00,9, -999.00,9, -999.00,9, -999.00,9,-999.000,-999.0000,9,-999.0000,9,-999.0000,9,-999.0000,9,-999.0000,9,-999.0000,9,-999.0000,9,-999.0000,9,-999.0000,9,   3.7812,     -999.0,9,     -999.0,9,     -999.0,9,     -999.0,9,     -999.0,9,     -999.0,9,     -999.0,9,-999.0000, -999.00
33RO20071215,        P18,      96,          1,         13,      12012,2,20080116,       0856,   -26.9165,  -103.0005,       3026,  1165.4,   3.5799,  34.4811,2,  34.4797,2,    131.0,2,   130.4,2,   71.20,2,   38.10,2,    0.00,2,    2.62,2,-999.000,9,-999.000,9,-999.0000,9,  2266.6,2,  2336.5,2,   -999.0,9,  -999.00,   7.5212,2,    25.00,-999.000,9,-999.0000,9, -999.00,9, -999.00,9,  -999.0,9,-999.000,9,-999.000,-999.000,9,-999.000,9, -999.00,9, -999.00,9, -999.00,9, -999.00,9, -999.00,9,-999.000,-999.0000,9,-999.0000,9,-999.0000,9,-999.0000,9,-999.0000,9,-999.0000,9,-999.0000,9,-999.0000,9,-999.0000,9,   3.4941,     -999.0,9,     -999.0,9,     -999.0,9,     -999.0,9,     -999.0,9,     -999.0,9,     -999.0,9,-999.0000, -999.00
33RO20071215,        P18,      96,          1,         12,      12031,2,20080116,       0856,   -26.9165,  -103.0005,       3026,  1266.8,   3.2317,  34.5151,2,  34.5143,2,    134.8,2,   134.9,2,   80.10,2,   37.80,2,    0.00,2,    2.59,2,-999.000,9,-999.000,9,-999.0000,9,  2272.3,6,  2346.3,2,   -999.0,9,  -999.00,   7.5270,2,    25.00,-999.000,9,-999.0000,9, -999.00,9, -999.00,9,  -999.0,9,-999.000,9,-999.000,-999.000,9,-999.000,9, -999.00,9, -999.00,9, -999.00,9, -999.00,9, -999.00,9,-999.000,-999.0000,9,-999.0000,9,-999.0000,9,-999.0000,9,-999.0000,9,-999.0000,9,-999.0000,9,-999.0000,9,-999.0000,9,   3.1408,     -999.0,9,     -999.0,9,     -999.0,9,     -999.0,9,     -999.0,9,     -999.0,9,     -999.0,9,-999.0000, -999.00