BOTTLE,20220818CCHSIOAMB
EXPOCODE,SECT_ID,STNNBR,CASTNO,SAMPNO,BTLNBR,BTLNBR_FLAG_W,DATE,TIME,LATITUDE,LONGITUDE,DEPTH,CTDPRS,CTDTMP,CTDSAL,CTDSAL_FLAG_W,SALNTY,SALNTY_FLAG_W,CTDOXY,CTDOXY_FLAG_W,OXYGEN,OXYGEN_FLAG_W,SILCAT,SILCAT_FLAG_W,NITRAT,NITRAT_FLAG_W,NITRIT,NITRIT_FLAG_W,PHSPHT,PHSPHT_FLAG_W,CFC-11,CFC-11_FLAG_W,CFC-12,CFC-12_FLAG_W,SF6,SF6_FLAG_W,TCARBN,TCARBN_FLAG_W,ALKALI,ALKALI_FLAG_W,FCO2,FCO2_FLAG_W,FCO2TMP,PH_SWS,PH_SWS_FLAG_W,PH_TMP,TRITUM,TRITUM_FLAG_W,HELIUM,HELIUM_FLAG_W,DELHE3,DELHE3_FLAG_W,DELC13,DELC13_FLAG_W,DELC14,DELC14_FLAG_W,NEON,NEON_FLAG_W,NEONER,CCL4,CCL4_FLAG_W,POC,POC_FLAG_W,DOC,DOC_FLAG_W,TDN,TDN_FLAG_W,DON,DON_FLAG_W,CHLORA,CHLORA_FLAG_W,ARGON,ARGON_FLAG_W,TRITER,CDOM325,CDOM325_FLAG_W,CDOM340,CDOM340_FLAG_W,CDOM380,CDOM380_FLAG_W,CDOM412,CDOM412_FLAG_W,CDOM443,CDOM443_FLAG_W,CDOM490,CDOM490_FLAG_W,CDOM555,CDOM555_FLAG_W,CDOMSL,CDOMSL_FLAG_W,CDOMSN,CDOMSN_FLAG_W,THETA,D18O_NO3,D18O_NO3_FLAG_W,CDOM2C,CDOM2C_FLAG_W,CDOM3C,CDOM3C_FLAG_W,LAB_DEN,LAB_DEN_FLAG_W,DELSI30,DELSI30_FLAG_W,N2,N2_FLAG_W,D15N_NO3,D15N_NO3_FLAG_W,HELIER,DELHER
,,,,,,,,,,,METERS,DBAR,ITS-90,PSS-78,,PSS-78,,UMOL/KG,,UMOL/KG,,UMOL/KG,,UMOL/KG,,UMOL/KG,,UMOL/KG,,PMOL/KG,,PMOL/KG,,FMOL/KG,,UMOL/KG,,UMOL/KG,,UATM,,DEG C,,,DEG C,TU,,NMOL/KG,,PERCNT,,/MILLE,,/MILLE,,NMOL/KG,,NMOL/KG,PMOL/KG,,UG/KG,,UMOL/KG,,UMOL/KG,,UMOL/KG,,UG/KG,,UMOL/KG,,TU,1/M,,1/M,,1/M,,1/M,,1/M,,1/M,,1/M,,1/NM,,1/NM,,DEG C,/MILLE,,,,,,,,/MILLE,,UMOL/KG,,/MILLE,,NMOL/KG,PERCNT
33RO20071215,        P18,      56,          1,         36,      12017,2,20080102,       1614,    -5.4162,  -109.4210,       3495,     5.5,  23.3118,  35.0052,2,  35.0057,2,    218.3,2,   218.5,2,    5.90,2,   12.00,2,    0.26,2,    0.85,2,   1.954,6,   1.216,6,   1.0751,6,  2070.2,6,  2236.1,4,   -999.0,9,  -999.00,   7.9332,2,    25.00,-999.000,9,-999.0000,9, -999.00,9, -999.00,9,  -999.0,9,-999.000,9,-999.000,-999.000,9,-999.000,9, -999.00,9, -999.00,9, -999.00,9,    0.08,2, -999.00,9,-999.000,   0.0879,2,   0.0587,2,   0.0246,2,   0.0188,2,   0.0121,2,   0.0047,2,   0.0009,2,   0.0152,2,   0.0204,2,  23.3107,     -999.0,9,     -999.0,9,     -999.0,9,     -999.0,9,     -999.0,9,     -999.0,9,     -999.0,9,-999.0000, -999.00
33RO20071215,        P18,      56,          1,         35,      12029,2,20080102,       1614,    -5.4162,  -109.4210,       3495,     7.2,  23.3115,  35.0052,2,  35.0083,2,    218.4,2,   218.3,2,    5.90,2,   11.90,2,    0.26,2,    0.85,2,-999.000,9,-999.000,9,-999.0000,9,  2068.6,2,  2309.5,2,   -999.0,9,  -999.00,   7.9267,2,    25.00,-999.000,9,-999.0000,9, -999.00,9, -999.00,9,  -999.0,9,-999.000,9,-999.000,-999.000,9,-999.000,9, -999.00,9, -999.00,9, -999.00,9,    0.10,2, -999.00,9,-999.000,   0.0861,2,   0.0574,2,   0.0243,2,   0.0183,2,   0.0118,2,   0.0046,2,   0.0010,2,   0.0154,2,   0.0205,2,  23.3100,     -999.0,9,     -999.0,9,     -999.0,9,     -999.0,9,     -999.0,9,     -999.0,9,     -999.0,9,-999.0000, -999.00
33RO20071215,        P18,      56,          1,         34,      12049,2,20080102,       1614,    -5.4162,  -109.4210,       3495,    16.6,  23.2150,  35.0049,2,  35.0064,2,    217.5,2,   218.3,2,    6.00,2,   11.90,2,    0.26,2,    0.86,2,-999.000,9,-999.000,9,-999.0000,9,  2069.1,2,  -999.0,5,   -999.0,9,  -999.00,   7.9316,2,    25.00,-999.000,9,-999.0000,9, -999.00,9, -999.00,9,  -999.0,9,-999.000,9,-999.000,-999.000,9,-999.000,9, -999.00,9, -999.00,9, -999.00,9,    0.10,2, -999.00,9,-999.000,   0.1034,2,   0.0728,2,   0.0367,2,   0.0286,2,   0.0202,2,   0.0106,2,   0.0045,2,   0.0124,2,   0.0150,2,  23.2116,     -999.0,9,     -999.0,9,     -999.0,9,     -999.0,9,     -999.0,9,     -999.0,9,     -999.0,9,-999.0000, -999.00
33RO20071215,        P18,      56,          1,         33,      12027,2,20080102,       1614,    -5.4162,  -109.4210,       3495,    32.9,  23.1886,  35.0025,2,  35.0007,2,    218.1,2,   218.2,2,    6.00,2,   12.00,2,    0.26,2,    0.87,2,   1.962,2,   1.221,2,   1.0430,2,  2069.5,2,  2309.0,2,   -999.0,9,  -999.00,   7.9236,2,    25.00,-999.000,9,-999.0000,9, -999.00,9, -999.00,9,  -999.0,9,-999.000,9,-999.000,-999.000,9,-999.000,1, -999.00,9, -999.00,9, -999.00,9,    0.10,2, -999.00,9,-999.000,   0.0786,2,   0.0514,2,   0.0247,2,   0.0189,2,   0.0123,2,   0.0047,2,   0.0009,2,   0.0141,2,   0.0182,2,  23.1819,     -999.0,9,     -999.0,9,     -999.0,9,     -999.0,9,     -999.0,9,     -999.0,9,     -999.0,9,-999.0000, -999.00
33RO20071215,        P18,      56,          1,         32,      12023,2,20080102,       1614,    -5.4162,  -109.4210,       3495,    53.1,  22.4058,  34.9480,2,  34.9564,2,    217.6,2,   216.8,2,    7.20,2,   12.90,2,    0.26,2,    0.94,2,-999.000,9,-999.000,9,-999.0000,9,  2080.0,2,  2312.2,2,   -999.0,9,  -999.00,   7.9206,2,    25.00,-999.000,9,-999.0000,9, -999.00,9, -999.00,9,  -999.0,9,-999.000,9,-999.000,-999.000,9,-999.000,9, -999.00,9, -999.00,9, -999.00,9,    0.13,2, -999.00,9,-999.000,   0.1270,2,   0.0938,2,   0.0567,2,   0.0459,2,   0.0371,2,   0.0229,2,   0.0090,2,   0.0101,2,   0.0106,2,  22.3952,     -999.0,9,     -999.0,9,     -999.0,9,     -999.0,9,     -999.0,9,     -999.0,9,     -999.0,9,-999.0000, -999.00
33RO20071215,        P18,      56,          1,         31,      12037,2,20080102,       1614,    -5.4162,  -109.4210,       3495,    73.1,  20.4008,  35.3717,2,  35.3560,2,    155.9,2,   149.7,2,    4.20,2,   10.70,2,    1.71,2,    1.09,2,-999.000,9,-999.000,9,-999.0000,9,  2128.5,2,  2308.3,2,   -999.0,9,  -999.00,   7.8393,2,    25.00,-999.000,9,-999.0000,9, -999.00,9, -999.00,9,  -999.0,9,-999.000,9,-999.000,-999.000,9,-999.000,9, -999.00,9, -999.00,9, -999.00,9,    0.17,2, -999.00,9,-999.000,   0.1699,2,   0.1255,2,   0.0639,2,   0.0457,2,   0.0292,2,   0.0146,2,   0.0064,2,   0.0142,2,   0.0155,2,  20.3871,     -999.0,9,     -999.0,9,     -999.0,9,     -999.0,9,     -999.0,9,     -999.0,9,     -999.0,9,-999.0000, -999.00
33RO20071215,        P18,      56,          1,         30,      12036,2,20080102,       1614,    -5.4162,  -109.4210,       3495,    92.9,  17.0953,  35.2101,2,  35.1907,2,     89.8,2,    85.7,2,    7.40,2,   18.60,2,    0.85,2,    1.55,2,-999.000,5,-999.000,5,-999.0000,5,  2179.7,2,  2320.1,4,   -999.0,9,  -999.00,   7.6999,2,    25.00,-999.000,9,-999.0000,9, -999.00,9, -999.00,9,  -999.0,9,-999.000,9,-999.000,-999.000,9,-999.000,9, -999.00,9, -999.00,9, -999.00,9,    0.12,2, -999.00,9,-999.000,   0.1620,2,   0.1159,2,   0.0579,2,   0.0433,2,   0.0248,2,   0.0102,2,   0.0038,2,   0.0158,2,   0.0165,2,  17.0799,     -999.0,9,     -999.0,9,     -999.0,9,     -999.0,9,     -999.0,9,     -999.0,9,     -999.0,9,-999.0000, -999.00
33RO20071215,        P18,      56,          1,         29,      12044,2,20080102,       1614,    -5.4162,  -109.4210,       3495,   117.4,  14.6184,  35.0505,2,  35.0447,2,     51.2,2,    48.3,2, -999.00,5, -999.00,5, -999.00,5, -999.00,5,-999.000,9,-999.000,9,-999.0000,9,  2209.6,2,  2305.7,2,   -999.0,9,  -999.00,   7.5827,2,    25.00,-999.000,9,-999.0000,9, -999.00,9, -999.00,9,  -999.0,9,-999.000,9,-999.000,-999.000,9,-999.000,9, -999.00,9, -999.00,9, -999.00,9,    0.06,2, -999.00,9,-999.000,   0.1474,2,   0.1041,2,   0.0539,2,   0.0420,2,   0.0241,2,   0.0096,2,   0.0034,2,   0.0150,2,   0.0158,2,  14.6010,     -999.0,9,     -999.0,9,     -999.0,9,     -999.0,9,     -999.0,9,     -999.0,9,     -999.0,9,-999.0000, -999.00
33RO20071215,        P18,      56,          1,         28,      12057,2,20080102,       1614,    -5.4162,  -109.4210,       3495,   142.6,  13.2186,  34.9700,2,  34.9674,2,     47.7,2,    40.0,2,   17.70,2,   27.50,2,    0.01,2,    2.08,2,   1.103,2,   0.623,2,   0.2270,2,  2224.1,2,  2302.3,2,   -999.0,9,  -999.00,   7.5513,2,    25.00,-999.000,9,-999.0000,9, -999.00,9, -999.00,9,  -999.0,9,-999.000,9,-999.000,-999.000,9,-999.000,9, -999.00,9, -999.00,9, -999.00,9,    0.02,2, -999.00,9,-999.000,   0.1622,2,   0.1166,2,   0.0628,2,   0.0486,2,   0.0290,2,   0.0121,2,   0.0046,2,   0.0147,2,   0.0149,2,  13.1988,     -999.0,9,     -999.0,9,     -999.0,9,     -999.0,9,     -999.0,9,     -999.0,9,     -999.0,9,-999.0000, -999.00
33RO20071215,        P18,      56,          1,         27,      12026,2,20080102,       1614,    -5.4162,  -109.4210,       3495,   167.0,  12.7573,  34.9567,2,  34.9553,2,     57.5,2,    65.1,2,   18.60,2,   26.60,2,    0.01,2,    1.91,2,-999.000,9,-999.000,9,-999.0000,9,  2208.8,2,  -999.0,9,   -999.0,9,  -999.00,-999.0000,9,  -999.00,-999.000,9,-999.0000,9, -999.00,9, -999.00,9,  -999.0,9,-999.000,9,-999.000,-999.000,9,-999.000,9, -999.00,9, -999.00,9, -999.00,9,    0.01,2, -999.00,9,-999.000,   0.1526,2,   0.1096,2,   0.0603,2,   0.0472,2,   0.0287,2,   0.0122,2,   0.0050,2,   0.0143,2,   0.0145,2,  12.7347,     -999.0,9,     -999.0,9,     -999.0,9,     -999.0,9,     -999.0,9,     -999.0,9,     -999.0,9,-999.0000, -999.00
33RO20071215,        P18,      56,          1,         26,      12030,2,20080102,       1614,    -5.4162,  -109.4210,       3495,   192.7,  12.3920,  34.9290,2,  34.9269,2,     83.3,2,    76.1,2,   19.20,2,   26.40,2,    0.01,2,    1.85,2,   1.054,2,   0.593,2,   0.2230,2,  2203.0,2,  2303.2,2,   -999.0,9,  -999.00,   7.6242,2,    25.00,-999.000,9,-999.0000,9, -999.00,9, -999.00,9,  -999.0,9,-999.000,9,-999.000,-999.000,9,-999.000,9, -999.00,9, -999.00,9, -999.00,9,    0.01,2, -999.00,9,-999.000,   0.1480,2,   0.1061,2,   0.0589,2,   0.0461,2,   0.0281,2,   0.0116,2,   0.0044,2,   0.0143,2,   0.0144,2,  12.3664,     -999.0,9,     -999.0,9,     -999.0,9,     -999.0,9,     -999.0,9,     -999.0,9,     -999.0,9,-999.0000, -999.00
33RO20071215,        P18,      56,          1,         25,      12024,2,20080102,       1614,    -5.4162,  -109.4210,       3495,   233.3,  11.8976,  34.8758,2,  34.8737,2,     44.2,2,    38.4,2,   24.30,2,   30.60,2,    0.01,2,    2.18,2,-999.000,9,-999.000,9,-999.0000,9,  2232.8,2,  -999.0,9,   -999.0,9,  -999.00,-999.0000,9,  -999.00,-999.000,9,-999.0000,9, -999.00,9, -999.00,9,  -999.0,9,-999.000,9,-999.000,-999.000,9,-999.000,9, -999.00,9, -999.00,9, -999.00,9,    0.00,2, -999.00,9,-999.000,   0.1741,2,   0.1286,2,   0.0753,2,   0.0599,2,   0.0378,2,   0.0170,2,   0.0073,2,   0.0135,4,   0.0131,4,  11.8674,     -999.0,9,     -999.0,9,     -999.0,9,     -999.0,9,     -999.0,9,     -999.0,9,     -999.0,9,-999.0000, -999.00
33RO20071215,        P18,      56,          1,         24,      12019,2,20080102,       1614,    -5.4162,  -109.4210,       3495,   283.0,  11.2644,  34.8358,2,  34.8305,2,     43.3,2,    41.7,2,   25.80,2,   31.50,2,    0.01,2,    2.24,2,   0.565,2,   0.320,2,   0.1162,2,  2236.9,2,  2299.0,2,   -999.0,9,  -999.00,   7.5177,2,    25.00,-999.000,9,-999.0000,9, -999.00,9, -999.00,9,  -999.0,9,-999.000,9,-999.000,-999.000,9,-999.000,9, -999.00,9, -999.00,9, -999.00,9, -999.00,9, -999.00,9,-999.000,   0.1594,2,   0.1148,2,   0.0651,2,   0.0512,2,   0.0311,2,   0.0121,2,   0.0043,2,   0.0144,2,   0.0141,2,  11.2289,     -999.0,9,     -999.0,9,     -999.0,9,     -999.0,9,     -999.0,9,     -999.0,9,     -999.0,9,-999.0000, -999.00
33RO20071215,        P18,      56,          1,         23,      12022,2,20080102,       1614,    -5.4162,  -109.4210,       3495,   332.9,  10.4679,  34.7790,2,  34.7766,2,     17.8,2,    17.8,2,   31.00,2,   34.60,2,    0.01,2,    2.51,2,-999.000,9,-999.000,9,-999.0000,9,  2259.7,2,  -999.0,9,   -999.0,9,  -999.00,-999.0000,9,  -999.00,-999.000,9,-999.0000,9, -999.00,9, -999.00,9,  -999.0,9,-999.000,9,-999.000,-999.000,9,-999.000,9, -999.00,9, -999.00,9, -999.00,9, -999.00,9, -999.00,9,-999.000,   0.1759,2,   0.1285,2,   0.0759,2,   0.0614,2,   0.0378,2,   0.0149,2,   0.0055,2,   0.0142,2,   0.0133,2,  10.4280,     -999.0,9,     -999.0,9,     -999.0,9,     -999.0,9,     -999.0,9,     -999.0,9,     -999.0,9,-999.0000, -999.00
33RO20071215,        P18,      56,          1,         22,      12015,2,20080102,       1614,    -5.4162,  -109.4210,       3495,   383.7,   9.4087,  34.7110,2,  34.7117,2,     14.3,2,    14.5,2,   35.80,2,   37.40,2,    0.01,2,    2.67,2,   0.145,2,   0.086,2,   0.0000,2,  2270.1,2,  2301.7,2,   -999.0,9,  -999.00,   7.3994,2,    25.00,-999.000,9,-999.0000,9, -999.00,9, -999.00,9,  -999.0,9,-999.000,9,-999.000,-999.000,9,-999.000,9, -999.00,9, -999.00,9, -999.00,9, -999.00,9, -999.00,9,-999.000,   0.1869,2,   0.1345,2,   0.0785,2,   0.0633,2,   0.0393,2,   0.0158,2,   0.0058,2,   0.0143,2,   0.0135,2,   9.3656,     -999.0,9,     -999.0,9,     -999.0,9,     -999.0,9,     -999.0,9,     -999.0,9,     -999.0,9,-999.0000, -999.00
33RO20071215,        P18,      56,          1,         21,      12020,2,20080102,       1614,    -5.4162,  -109.4210,       3495,   467.4,   8.2840,  34.6473,2,  34.6491,2,     10.5,2,    11.4,2,   42.10,2,   40.70,2,    0.01,2,    2.88,2,-999.000,9,-999.000,9,-999.0000,9,  -999.0,9,  -999.0,9,   -999.0,9,  -999.00,-999.0000,9,  -999.00,-999.000,9,-999.0000,9, -999.00,9, -999.00,9,  -999.0,9,-999.000,9,-999.000,-999.000,9,-999.000,1, -999.00,9, -999.00,9, -999.00,9, -999.00,9, -999.00,9,-999.000,   0.1763,2,   0.1276,2,   0.0743,2,   0.0593,2,   0.0368,2,   0.0139,2,   0.0046,2,   0.0144,2,   0.0136,2,   8.2351,     -999.0,9,     -999.0,9,     -999.0,9,     -999.0,9,     -999.0,9,     -999.0,9,     -999.0,9,-999.0000, -999.00
33RO20071215,        P18,      56,          1,         20,      12055,2,20080102,       1614,    -5.4162,  -109.4210,       3495,   566.3,   7.1189,  34.5944,2,  34.5934,2,     18.1,2,    18.4,2,   50.00,2,   43.50,2,    0.00,2,    3.00,2,   0.013,2,   0.007,2,   0.0000,2,  2290.6,2,  -999.0,9,   -999.0,9,  -999.00,-999.0000,9,  -999.00,-999.000,9,-999.0000,9, -999.00,9, -999.00,9,  -999.0,9,-999.000,9,-999.000,-999.000,9,-999.000,9, -999.00,9, -999.00,9, -999.00,9, -999.00,9, -999.00,9,-999.000,   0.1719,2,   0.1233,2,   0.0720,2,   0.0569,2,   0.0356,2,   0.0135,2,   0.0044,2,   0.0143,2,   0.0137,2,   7.0643,     -999.0,9,     -999.0,9,     -999.0,9,     -999.0,9,     -999.0,9,     -999.0,9,     -999.0,9,-999.0000, -999.00
33RO20071215,        P18,      56,          1,         19,      12018,2,20080102,       1614,    -5.4162,  -109.4210,       3495,   666.7,   6.1743,  34.5622,2,  34.5624,2,     40.8,2,    40.9,2,   58.60,2,   42.80,2,    0.00,2,    2.97,2,-999.000,9,-999.000,9,-999.0000,9,  -999.0,9,  -999.0,9,   -999.0,9,  -999.00,-999.0000,9,  -999.00,-999.000,9,-999.0000,9, -999.00,9, -999.00,9,  -999.0,9,-999.000,9,-999.000,-999.000,9,-999.000,9, -999.00,9, -999.00,9, -999.00,9, -999.00,9, -999.00,9,-999.000,   0.1701,2,   0.1217,2,   0.0704,2,   0.0541,2,   0.0349,2,   0.0141,2,   0.0050,2,   0.0142,2,   0.0139,2,   6.1143,     -999.0,9,     -999.0,9,     -999.0,9,     -999.0,9,     -999.0,9,     -999.0,9,     -999.0,9,-999.0000, -999.00
33RO20071215,        P18,      56,          1,         18,      12025,2,20080102,       1614,    -5.4162,  -109.4210,       3495,   768.2,   5.4878,  34.5493,2,  34.5506,2,     59.9,2,    60.1,2,   66.70,2,   41.60,2,    0.00,2,    2.92,2,-999.000,9,-999.000,9,-999.0000,9,  2288.3,2,  2326.6,2,   -999.0,9,  -999.00,   7.4330,2,    25.00,-999.000,9,-999.0000,9, -999.00,9, -999.00,9,  -999.0,9,-999.000,9,-999.000,-999.000,9,-999.000,9, -999.00,9, -999.00,9, -999.00,9, -999.00,9, -999.00,9,-999.000,   0.1637,2,   0.1169,2,   0.0671,2,   0.0507,2,   0.0324,2,   0.0129,2,   0.0042,2,   0.0143,2,   0.0142,2,   5.4221,     -999.0,9,     -999.0,9,     -999.0,9,     -999.0,9,     -999.0,9,     -999.0,9,     -999.0,9,-999.0000, -999.00
33RO20071215,        P18,      56,          1,         17,      12016,2,20080102,       1614,    -5.4162,  -109.4210,       3495,   867.8,   4.9562,  34.5419,2,  34.5420,2,     82.2,2,    82.6,2,   71.60,2,   39.90,2,    0.00,2,    2.81,2,-999.000,9,-999.000,9,-999.0000,9,  -999.0,9,  -999.0,9,   -999.0,9,  -999.00,-999.0000,9,  -999.00,-999.000,9,-999.0000,9, -999.00,9, -999.00,9,  -999.0,9,-999.000,9,-999.000,-999.000,9,-999.000,9, -999.00,9, -999.00,9, -999.00,9, -999.00,9, -999.00,9,-999.000,   0.1683,2,   0.1217,2,   0.0696,2,   0.0517,2,   0.0343,2,   0.0158,2,   0.0060,2,   0.0137,2,   0.0139,2,   4.8850,     -999.0,9,     -999.0,9,     -999.0,9,     -999.0,9,     -999.0,9,     -999.0,9,     -999.0,9,-999.0000, -999.00
33RO20071215,        P18,      56,          1,         16,      12051,2,20080102,       1614,    -5.4162,  -109.4210,       3495,   968.5,   4.5323,  34.5459,2,  34.5462,2,     91.0,2,    90.6,2,   78.80,2,   39.40,2,    0.00,2,    2.78,2,-999.000,9,-999.000,9,-999.0000,9,  2287.1,2,  -999.0,9,   -999.0,9,  -999.00,-999.0000,9,  -999.00,-999.000,9,-999.0000,9, -999.00,9, -999.00,9,  -999.0,9,-999.000,9,-999.000,-999.000,9,-999.000,9, -999.00,9, -999.00,9, -999.00,9, -999.00,9, -999.00,9,-999.000,   0.1486,2,   0.1042,2,   0.0570,2,   0.0408,2,   0.0257,2,   0.0102,2,   0.0027,2,   0.0148,2,   0.0155,2,   4.4552,     -999.0,9,     -999.0,9,     -999.0,9,     -999.0,9,     -999.0,9,     -999.0,9,     -999.0,9,-999.0000, -999.00
33RO20071215,        P18,      56,          1,         15,      12014,2,20080102,       1614,    -5.4162,  -109.4210,       3495,  1067.2,   4.1626,  34.5538,2,  34.5457,2,     96.8,2,    97.3,2,   86.70,2,   39.20,2,    0.00,2,    2.76,2,-999.000,9,-999.000,9,-999.0000,9,  -999.0,9,  -999.0,9,   -999.0,9,  -999.00,-999.0000,9,  -999.00,-999.000,9,-999.0000,9, -999.00,9, -999.00,9,  -999.0,9,-999.000,9,-999.000,-999.000,9,-999.000,1, -999.00,9, -999.00,9, -999.00,9, -999.00,9, -999.00,9,-999.000,   0.1434,2,   0.1003,2,   0.0543,2,   0.0378,2,   0.0235,2,   0.0091,2,   0.0021,2,   0.0150,2,   0.0159,2,   4.0799,     -999.0,9,     -999.0,9,     -999.0,9,     -999.0,9,     -999.0,9,     -999.0,9,     -999.0,9,-999.0000, -999.00
33RO20071215,        P18,      56,          1,         14,      12013,2,20080102,       1614,    -5.4162,  -109.4210,       3495,  1167.5,   3.8254,  34.5647,2,  34.5667,2,    100.7,2,   100.5,2,   94.80,2,   39.20,2,    0.00,2,    2.75,2,-999.000,9,-999.000,9,-999.0000,9,  2299.1,2,  2359.9,2,   -999.0,9,  -999.00,   7.5037,2,    25.00,-999.000,9,-999.0000,9, -999.00,9, -999.00,9,  -999.0,9,-999.000,9,-999.000,-999.000,9,-999.000,9, -999.00,9, -999.00,9, -999.00,9, -999.00,9, -999.00,9,-999.000,   0.1590,2,   0.1131,2,   0.0623,2,   0.0439,2,   0.0282,2,   0.0125,2,   0.0040,2,   0.0145,2,   0.0151,2,   3.7370,     -999.0,9,     -999.0,9,     -999.0,9,     -999.0,9,     -999.0,9,     -999.0,9,     -999.0,9,-999.0000, -999.00
33RO20071215,        P18,      56,          1,         13,      12012,2,20080102,       1614,    -5.4162,  -109.4210,       3495,  1267.1,   3.5767,  34.5768,2,  34.5777,2,     96.8,2,    97.6,2,  102.60,2,   39.60,2,    0.00,2,    2.79,2,-999.000,9,-999.000,9,-999.0000,9,  -999.0,9,  -999.0,9,   -999.0,9,  -999.00,-999.0000,9,  -999.00,-999.000,9,-999.0000,9, -999.00,9, -999.00,9,  -999.0,9,-999.000,9,-999.000,-999.000,9,-999.000,9, -999.00,9, -999.00,9, -999.00,9, -999.00,9, -999.00,9,-999.000,   0.1504,2,   0.1062,2,   0.0578,2,   0.0398,2,   0.0247,2,   0.0099,2,   0.0023,2,   0.0151,2,   0.0158,2,   3.4823,     -999.0,9,     -999.0,9,     -999.0,9,     -999.0,9,     -999.0,9,     -999.0,9,     -999.0,9,-999.0000, -999.00
33RO20071215,        P18,      56,          1,         12,      12031,2,20080102,       1614,    -5.4162,  -109.4210,       3495,  1368.7,   3.3236,  34.5866,2,  34.5874,2,     98.9,2,    99.2,2,  108.00,2,   39.70,2,    0.00,2,    2.80,2,-999.000,9,-999.000,9,-999.0000,9,  2313.3,2,  -999.0,9,   -999.0,9,  -999.00,-999.0000,9,  -999.00,-999.000,9,-999.0000,9, -999.00,9, -999.00,9,  -999.0,9,-999.000,9,-999.000,-999.000,9,-999.000,9, -999.00,9, -999.00,9, -999.00,9, -999.00,9, -999.00,9,-999.000,   0.1411,2,   0.0982,2,   0.0514,2,   0.0342,2,   0.0198,2,   0.0064,2,   0.0003,4,   0.0163,2,   0.0171,2,   3.2231,     -999.0,9,     -999.0,9,     -999.0,9,     -999.0,9,     -999.0,9,     -999.0,9,     -999.0,9,-999.0000, -999.00