BOTTLE,20220818CCHSIOAMB
EXPOCODE,SECT_ID,STNNBR,CASTNO,SAMPNO,BTLNBR,BTLNBR_FLAG_W,DATE,TIME,LATITUDE,LONGITUDE,DEPTH,CTDPRS,CTDTMP,CTDSAL,CTDSAL_FLAG_W,SALNTY,SALNTY_FLAG_W,CTDOXY,CTDOXY_FLAG_W,OXYGEN,OXYGEN_FLAG_W,SILCAT,SILCAT_FLAG_W,NITRAT,NITRAT_FLAG_W,NITRIT,NITRIT_FLAG_W,PHSPHT,PHSPHT_FLAG_W,CFC-11,CFC-11_FLAG_W,CFC-12,CFC-12_FLAG_W,SF6,SF6_FLAG_W,TCARBN,TCARBN_FLAG_W,ALKALI,ALKALI_FLAG_W,FCO2,FCO2_FLAG_W,FCO2TMP,PH_SWS,PH_SWS_FLAG_W,PH_TMP,TRITUM,TRITUM_FLAG_W,HELIUM,HELIUM_FLAG_W,DELHE3,DELHE3_FLAG_W,DELC13,DELC13_FLAG_W,DELC14,DELC14_FLAG_W,NEON,NEON_FLAG_W,NEONER,CCL4,CCL4_FLAG_W,POC,POC_FLAG_W,DOC,DOC_FLAG_W,TDN,TDN_FLAG_W,DON,DON_FLAG_W,CHLORA,CHLORA_FLAG_W,ARGON,ARGON_FLAG_W,TRITER,CDOM325,CDOM325_FLAG_W,CDOM340,CDOM340_FLAG_W,CDOM380,CDOM380_FLAG_W,CDOM412,CDOM412_FLAG_W,CDOM443,CDOM443_FLAG_W,CDOM490,CDOM490_FLAG_W,CDOM555,CDOM555_FLAG_W,CDOMSL,CDOMSL_FLAG_W,CDOMSN,CDOMSN_FLAG_W,THETA,D18O_NO3,D18O_NO3_FLAG_W,CDOM2C,CDOM2C_FLAG_W,CDOM3C,CDOM3C_FLAG_W,LAB_DEN,LAB_DEN_FLAG_W,DELSI30,DELSI30_FLAG_W,N2,N2_FLAG_W,D15N_NO3,D15N_NO3_FLAG_W,HELIER,DELHER
,,,,,,,,,,,METERS,DBAR,ITS-90,PSS-78,,PSS-78,,UMOL/KG,,UMOL/KG,,UMOL/KG,,UMOL/KG,,UMOL/KG,,UMOL/KG,,PMOL/KG,,PMOL/KG,,FMOL/KG,,UMOL/KG,,UMOL/KG,,UATM,,DEG C,,,DEG C,TU,,NMOL/KG,,PERCNT,,/MILLE,,/MILLE,,NMOL/KG,,NMOL/KG,PMOL/KG,,UG/KG,,UMOL/KG,,UMOL/KG,,UMOL/KG,,UG/KG,,UMOL/KG,,TU,1/M,,1/M,,1/M,,1/M,,1/M,,1/M,,1/M,,1/NM,,1/NM,,DEG C,/MILLE,,,,,,,,/MILLE,,UMOL/KG,,/MILLE,,NMOL/KG,PERCNT
33RO20071215,        P18,      39,          1,         11,      12003,2,20071227,       1737,     2.4987,  -110.0028,       3750,  1533.6,   3.1312,  34.6103,2,  34.6105,2,     69.7,4,    79.3,2,  123.30,2,   40.40,2,    0.00,2,    2.84,2,-999.000,9,-999.000,9,-999.0000,9,  -999.0,9,  -999.0,9,   -999.0,9,  -999.00,-999.0000,9,  -999.00,-999.000,9,-999.0000,9, -999.00,9, -999.00,9,  -999.0,9,-999.000,9,-999.000,-999.000,9,-999.000,9, -999.00,9, -999.00,9, -999.00,9, -999.00,9, -999.00,9,-999.000,   0.1984,2,   0.1462,2,   0.0872,2,   0.0662,2,   0.0437,2,   0.0199,2,   0.0079,2,   0.0137,2,   0.0131,2,   3.0190,     -999.0,9,     -999.0,9,     -999.0,9,     -999.0,9,     -999.0,9,     -999.0,9,     -999.0,9,-999.0000, -999.00
33RO20071215,        P18,      39,          1,         10,      12032,2,20071227,       1737,     2.4987,  -110.0028,       3750,  1733.3,   2.8269,  34.6201,2,  34.6203,2,     76.9,4,    89.4,2,  129.60,2,   39.90,2,    0.00,2,    2.79,2,-999.000,9,-999.000,9,-999.0000,9,  2341.1,2,  2404.0,2,   -999.0,9,  -999.00,-999.0000,9,  -999.00,-999.000,9,-999.0000,9, -999.00,9, -999.00,9,  -999.0,9,-999.000,9,-999.000,-999.000,9,-999.000,9, -999.00,9, -999.00,9, -999.00,9, -999.00,9, -999.00,9,-999.000,   0.1754,2,   0.1269,2,   0.0737,2,   0.0546,2,   0.0350,2,   0.0145,2,   0.0048,2,   0.0144,2,   0.0140,2,   2.7014,     -999.0,9,     -999.0,9,     -999.0,9,     -999.0,9,     -999.0,9,     -999.0,9,     -999.0,9,-999.0000, -999.00
33RO20071215,        P18,      39,          1,          9,      12002,2,20071227,       1737,     2.4987,  -110.0028,       3750,  1933.3,   2.5174,  34.6352,2,  34.6341,2,     82.8,4,    95.6,2,  137.60,2,   39.60,2,    0.00,2,    2.75,2,-999.000,9,-999.000,9,-999.0000,9,  -999.0,9,  -999.0,9,   -999.0,9,  -999.00,-999.0000,9,  -999.00,-999.000,9,-999.0000,9, -999.00,9, -999.00,9,  -999.0,9,-999.000,9,-999.000,-999.000,9,-999.000,9, -999.00,9, -999.00,9, -999.00,9, -999.00,9, -999.00,9,-999.000,   0.1744,2,   0.1253,2,   0.0714,2,   0.0525,2,   0.0335,2,   0.0141,2,   0.0049,2,   0.0145,2,   0.0144,2,   2.3789,     -999.0,9,     -999.0,9,     -999.0,9,     -999.0,9,     -999.0,9,     -999.0,9,     -999.0,9,-999.0000, -999.00
33RO20071215,        P18,      39,          1,          8,      12021,2,20071227,       1737,     2.4987,  -110.0028,       3750,  2134.4,   2.2681,  34.6447,2,  34.6458,2,     90.0,4,   104.2,2,  141.50,2,   39.20,2,    0.00,2,    2.69,2,-999.000,9,-999.000,9,-999.0000,9,  2346.0,2,  -999.0,5,   -999.0,9,  -999.00,   7.5056,2,    25.00,-999.000,9,-999.0000,9, -999.00,9, -999.00,9,  -999.0,9,-999.000,9,-999.000,-999.000,9,-999.000,9, -999.00,9, -999.00,9, -999.00,9, -999.00,9, -999.00,9,-999.000,   0.1604,2,   0.1128,2,   0.0624,2,   0.0453,2,   0.0278,2,   0.0104,2,   0.0027,2,   0.0151,2,   0.0153,2,   2.1158,     -999.0,9,     -999.0,9,     -999.0,9,     -999.0,9,     -999.0,9,     -999.0,9,     -999.0,9,-999.0000, -999.00
33RO20071215,        P18,      39,          1,          7,      12001,2,20071227,       1737,     2.4987,  -110.0028,       3750,  2332.9,   2.0231,  34.6577,2,  34.6593,2,     97.8,4,   112.1,2,  146.70,2,   38.60,2,    0.00,2,    2.64,2,-999.000,9,-999.000,9,-999.0000,9,  -999.0,9,  -999.0,9,   -999.0,9,  -999.00,-999.0000,9,  -999.00,-999.000,9,-999.0000,9, -999.00,9, -999.00,9,  -999.0,9,-999.000,9,-999.000,-999.000,9,-999.000,9, -999.00,9, -999.00,9, -999.00,9, -999.00,9, -999.00,9,-999.000,   0.1564,2,   0.1096,2,   0.0598,2,   0.0426,2,   0.0259,2,   0.0097,2,   0.0024,2,   0.0152,2,   0.0157,2,   1.8574,     -999.0,9,     -999.0,9,     -999.0,9,     -999.0,9,     -999.0,9,     -999.0,9,     -999.0,9,-999.0000, -999.00
33RO20071215,        P18,      39,          1,          6,      12033,2,20071227,       1737,     2.4987,  -110.0028,       3750,  2533.9,   1.8481,  34.6679,2,  34.6689,2,    104.0,4,   119.4,2,  150.10,2,   38.20,2,    0.00,2,    2.58,2,-999.000,9,-999.000,9,-999.0000,9,  2347.8,2,  2428.0,2,   -999.0,9,  -999.00,-999.0000,9,  -999.00,-999.000,9,-999.0000,9, -999.00,9, -999.00,9,  -999.0,9,-999.000,9,-999.000,-999.000,9,-999.000,9, -999.00,9, -999.00,9, -999.00,9, -999.00,9, -999.00,9,-999.000,   0.1515,2,   0.1054,2,   0.0569,2,   0.0397,2,   0.0241,2,   0.0091,2,   0.0023,2,   0.0153,2,   0.0161,2,   1.6674,     -999.0,9,     -999.0,9,     -999.0,9,     -999.0,9,     -999.0,9,     -999.0,9,     -999.0,9,-999.0000, -999.00
33RO20071215,        P18,      39,          1,          5,      12008,2,20071227,       1737,     2.4987,  -110.0028,       3750,  2734.2,   1.7790,  34.6721,2,  34.6707,2,    108.5,4,   124.1,2,  150.50,2,   37.90,2,    0.00,2,    2.55,2,-999.000,9,-999.000,9,-999.0000,9,  -999.0,9,  -999.0,9,   -999.0,9,  -999.00,-999.0000,9,  -999.00,-999.000,9,-999.0000,9, -999.00,9, -999.00,9,  -999.0,9,-999.000,9,-999.000,-999.000,9,-999.000,9, -999.00,9, -999.00,9, -999.00,9, -999.00,9, -999.00,9,-999.000,   0.1616,2,   0.1143,2,   0.0633,2,   0.0451,2,   0.0287,2,   0.0128,2,   0.0046,2,   0.0145,2,   0.0151,2,   1.5813,     -999.0,9,     -999.0,9,     -999.0,9,     -999.0,9,     -999.0,9,     -999.0,9,     -999.0,9,-999.0000, -999.00
33RO20071215,        P18,      39,          1,          4,      12009,2,20071227,       1737,     2.4987,  -110.0028,       3750,  2933.8,   1.7329,  34.6747,2,  34.6747,2,    114.9,4,   126.1,3,  149.10,6,   37.50,6,    0.00,6,    2.50,2,-999.000,9,-999.000,9,-999.0000,9,  2339.8,2,  2426.6,2,   -999.0,9,  -999.00,   7.5574,2,    25.00,-999.000,9,-999.0000,9, -999.00,9, -999.00,9,  -999.0,9,-999.000,9,-999.000,-999.000,9,-999.000,9, -999.00,9, -999.00,9, -999.00,9, -999.00,9, -999.00,9,-999.000,   0.1492,2,   0.1037,2,   0.0559,2,   0.0392,2,   0.0241,2,   0.0096,2,   0.0027,2,   0.0151,2,   0.0161,2,   1.5173,     -999.0,9,     -999.0,9,     -999.0,9,     -999.0,9,     -999.0,9,     -999.0,9,     -999.0,9,-999.0000, -999.00
33RO20071215,        P18,      39,          1,          3,      12006,2,20071227,       1737,     2.4987,  -110.0028,       3750,  3166.1,   1.6501,  34.6789,2,  34.6783,2,    119.7,4,   136.0,2,  148.90,6,   37.20,6,    0.00,6,    2.49,2,-999.000,9,-999.000,9,-999.0000,9,  -999.0,9,  -999.0,9,   -999.0,9,  -999.00,-999.0000,9,  -999.00,-999.000,9,-999.0000,9, -999.00,9, -999.00,9,  -999.0,9,-999.000,9,-999.000,-999.000,9,-999.000,9, -999.00,9, -999.00,9, -999.00,9, -999.00,9, -999.00,9,-999.000,   0.1644,2,   0.1176,2,   0.0669,2,   0.0487,2,   0.0322,2,   0.0157,2,   0.0064,2,   0.0135,2,   0.0142,2,   1.4138,     -999.0,9,     -999.0,9,     -999.0,9,     -999.0,9,     -999.0,9,     -999.0,9,     -999.0,9,-999.0000, -999.00
33RO20071215,        P18,      39,          1,          2,      12007,2,20071227,       1737,     2.4987,  -110.0028,       3750,  3417.6,   1.5595,  34.6856,2,  34.6859,2,    126.8,4,   143.2,2,  150.70,6,   36.80,6,    0.00,6,    2.44,2,-999.000,9,-999.000,9,-999.0000,9,  2336.0,2,  2429.8,2,   -999.0,9,  -999.00,   7.5820,2,    25.00,-999.000,9,-999.0000,9, -999.00,9, -999.00,9,  -999.0,9,-999.000,9,-999.000,-999.000,9,-999.000,9, -999.00,9, -999.00,9, -999.00,9, -999.00,9, -999.00,9,-999.000,   0.1456,2,   0.1010,2,   0.0543,2,   0.0379,2,   0.0234,2,   0.0099,2,   0.0030,2,   0.0110,2,   0.0161,2,   1.3002,     -999.0,9,     -999.0,9,     -999.0,9,     -999.0,9,     -999.0,9,     -999.0,9,     -999.0,9,-999.0000, -999.00
33RO20071215,        P18,      39,          1,          1,      12035,2,20071227,       1737,     2.4987,  -110.0028,       3750,  3789.6,   1.4692,  34.6915,2,  34.6931,2,    133.6,4,   148.0,2,  152.00,2,   36.60,2,    0.00,2,    2.41,2,-999.000,9,-999.000,9,-999.0000,9,  2336.0,6,  2434.2,2,   -999.0,9,  -999.00,   7.5847,2,    25.00,-999.000,9,-999.0000,9, -999.00,9, -999.00,9,  -999.0,9,-999.000,9,-999.000,-999.000,9,-999.000,9, -999.00,9, -999.00,9, -999.00,9, -999.00,9, -999.00,9,-999.000,   0.1449,2,   0.1004,2,   0.0536,2,   0.0370,2,   0.0229,2,   0.0096,2,   0.0029,2,   0.0109,2,   0.0163,2,   1.1737,     -999.0,9,     -999.0,9,     -999.0,9,     -999.0,9,     -999.0,9,     -999.0,9,     -999.0,9,-999.0000, -999.00