BOTTLE,20220818CCHSIOAMB
EXPOCODE,SECT_ID,STNNBR,CASTNO,SAMPNO,BTLNBR,BTLNBR_FLAG_W,DATE,TIME,LATITUDE,LONGITUDE,DEPTH,CTDPRS,CTDTMP,CTDSAL,CTDSAL_FLAG_W,SALNTY,SALNTY_FLAG_W,CTDOXY,CTDOXY_FLAG_W,OXYGEN,OXYGEN_FLAG_W,SILCAT,SILCAT_FLAG_W,NITRAT,NITRAT_FLAG_W,NITRIT,NITRIT_FLAG_W,PHSPHT,PHSPHT_FLAG_W,CFC-11,CFC-11_FLAG_W,CFC-12,CFC-12_FLAG_W,SF6,SF6_FLAG_W,TCARBN,TCARBN_FLAG_W,ALKALI,ALKALI_FLAG_W,FCO2,FCO2_FLAG_W,FCO2TMP,PH_SWS,PH_SWS_FLAG_W,PH_TMP,TRITUM,TRITUM_FLAG_W,HELIUM,HELIUM_FLAG_W,DELHE3,DELHE3_FLAG_W,DELC13,DELC13_FLAG_W,DELC14,DELC14_FLAG_W,NEON,NEON_FLAG_W,NEONER,CCL4,CCL4_FLAG_W,POC,POC_FLAG_W,DOC,DOC_FLAG_W,TDN,TDN_FLAG_W,DON,DON_FLAG_W,CHLORA,CHLORA_FLAG_W,ARGON,ARGON_FLAG_W,TRITER,CDOM325,CDOM325_FLAG_W,CDOM340,CDOM340_FLAG_W,CDOM380,CDOM380_FLAG_W,CDOM412,CDOM412_FLAG_W,CDOM443,CDOM443_FLAG_W,CDOM490,CDOM490_FLAG_W,CDOM555,CDOM555_FLAG_W,CDOMSL,CDOMSL_FLAG_W,CDOMSN,CDOMSN_FLAG_W,THETA,D18O_NO3,D18O_NO3_FLAG_W,CDOM2C,CDOM2C_FLAG_W,CDOM3C,CDOM3C_FLAG_W,LAB_DEN,LAB_DEN_FLAG_W,DELSI30,DELSI30_FLAG_W,N2,N2_FLAG_W,D15N_NO3,D15N_NO3_FLAG_W,HELIER,DELHER
,,,,,,,,,,,METERS,DBAR,ITS-90,PSS-78,,PSS-78,,UMOL/KG,,UMOL/KG,,UMOL/KG,,UMOL/KG,,UMOL/KG,,UMOL/KG,,PMOL/KG,,PMOL/KG,,FMOL/KG,,UMOL/KG,,UMOL/KG,,UATM,,DEG C,,,DEG C,TU,,NMOL/KG,,PERCNT,,/MILLE,,/MILLE,,NMOL/KG,,NMOL/KG,PMOL/KG,,UG/KG,,UMOL/KG,,UMOL/KG,,UMOL/KG,,UG/KG,,UMOL/KG,,TU,1/M,,1/M,,1/M,,1/M,,1/M,,1/M,,1/M,,1/NM,,1/NM,,DEG C,/MILLE,,,,,,,,/MILLE,,UMOL/KG,,/MILLE,,NMOL/KG,PERCNT
33RO20071215,        P18,      95,          1,         31,      12037,2,20080116,       0034,   -26.3330,  -102.9995,       2125,     6.5,  24.2939,  36.1154,2,  36.1155,2,    213.0,2,   212.2,2,    0.70,2,    0.20,2,    0.00,2,    0.10,2,   1.885,6,   1.173,6,   0.9414,6,  2076.4,6,  2379.7,2,   -999.0,9,  -999.00,   8.0110,2,    25.00,   0.403,2,   1.7234,2,   -1.88,2, -999.00,9,  -999.0,9,   6.754,2,   0.023,-999.000,9,-999.000,9,   65.64,2,    3.76,2, -999.00,1, -999.00,9, -999.00,9,   0.007,-999.0000,9,-999.0000,9,-999.0000,9,-999.0000,9,-999.0000,9,-999.0000,9,-999.0000,9,-999.0000,9,-999.0000,9,  24.2925,     -999.0,9,     -999.0,9,     -999.0,9,     -999.0,9,     -999.0,1,     -999.0,9,     -999.0,9,   0.0048,    0.15
33RO20071215,        P18,      95,          1,         30,      12036,2,20080116,       0034,   -26.3330,  -102.9995,       2125,    14.3,  24.2756,  36.1120,2,  36.1007,2,    213.2,2,   214.4,2,    0.70,2,    0.20,2,    0.00,2,    0.10,2,-999.000,9,-999.000,9,-999.0000,9,  2077.0,2,  2381.0,2,   -999.0,9,  -999.00,   8.0143,2,    25.00,-999.000,9,-999.0000,9, -999.00,9, -999.00,9,  -999.0,9,-999.000,9,-999.000,-999.000,9,-999.000,9,   65.50,2,    3.78,2, -999.00,1, -999.00,9, -999.00,9,-999.000,-999.0000,9,-999.0000,9,-999.0000,9,-999.0000,9,-999.0000,9,-999.0000,9,-999.0000,9,-999.0000,9,-999.0000,9,  24.2725,     -999.0,9,     -999.0,9,     -999.0,9,     -999.0,9,     -999.0,9,     -999.0,9,     -999.0,9,-999.0000, -999.00
33RO20071215,        P18,      95,          1,         29,      12044,2,20080116,       0034,   -26.3330,  -102.9995,       2125,    23.0,  22.9141,  36.0355,2,  36.0330,2,    220.5,2,   221.4,2,    0.70,2,    0.20,2,    0.00,2,    0.11,2,   2.037,2,   1.256,2,   1.0094,2,  2075.0,2,  2375.0,2,   -999.0,9,  -999.00,   7.9941,2,    25.00,   0.431,2,   1.7289,2,   -1.62,2, -999.00,9,  -999.0,9,   6.868,2,   0.023,-999.000,9,-999.000,9,   65.13,2,    3.48,2, -999.00,1, -999.00,9, -999.00,9,   0.007,-999.0000,9,-999.0000,9,-999.0000,9,-999.0000,9,-999.0000,9,-999.0000,9,-999.0000,9,-999.0000,9,-999.0000,9,  22.9094,     -999.0,9,     -999.0,9,     -999.0,9,     -999.0,9,     -999.0,9,     -999.0,9,     -999.0,9,   0.0048,    0.15
33RO20071215,        P18,      95,          1,         28,      12057,2,20080116,       0034,   -26.3330,  -102.9995,       2125,    46.8,  21.7507,  35.9697,2,  35.9659,2,    226.7,2,   226.7,2,    0.70,2,    0.20,2,    0.00,2,    0.10,2,-999.000,9,-999.000,9,-999.0000,9,  2068.9,2,  2369.3,2,   -999.0,9,  -999.00,   8.0165,2,    25.00,-999.000,9,-999.0000,9, -999.00,9, -999.00,9,  -999.0,9,-999.000,9,-999.000,-999.000,9,-999.000,9,   63.11,2,    3.88,2, -999.00,1, -999.00,9, -999.00,9,-999.000,-999.0000,9,-999.0000,9,-999.0000,9,-999.0000,9,-999.0000,9,-999.0000,9,-999.0000,9,-999.0000,9,-999.0000,9,  21.7415,     -999.0,9,     -999.0,9,     -999.0,9,     -999.0,9,     -999.0,1,     -999.0,9,     -999.0,9,-999.0000, -999.00
33RO20071215,        P18,      95,          1,         27,      12026,2,20080116,       0034,   -26.3330,  -102.9995,       2125,    60.8,  21.4186,  35.9658,2,  35.9664,2,    227.6,2,   228.5,2,    0.70,2,    0.20,2,    0.00,2,    0.10,2,   2.137,2,   1.312,2,   1.0611,2,  2068.1,2,  2365.2,2,   -999.0,9,  -999.00,   8.0205,2,    25.00,   0.420,2,   1.7370,2,   -1.90,2, -999.00,9,  -999.0,9,   7.026,2,   0.024,-999.000,9,-999.000,9,   62.83,2,    4.36,2, -999.00,1, -999.00,9, -999.00,9,   0.007,-999.0000,9,-999.0000,9,-999.0000,9,-999.0000,9,-999.0000,9,-999.0000,9,-999.0000,9,-999.0000,9,-999.0000,9,  21.4067,     -999.0,9,     -999.0,9,     -999.0,9,     -999.0,9,     -999.0,9,     -999.0,9,     -999.0,9,   0.0049,    0.15
33RO20071215,        P18,      95,          1,         26,      12030,2,20080116,       0034,   -26.3330,  -102.9995,       2125,    78.7,  20.8612,  35.9392,2,  35.9387,2,    230.1,2,   230.7,2,    0.70,2,    0.20,2,    0.00,2,    0.12,2,-999.000,9,-999.000,9,-999.0000,9,  2069.9,2,  2365.7,2,   -999.0,9,  -999.00,   7.9966,2,    25.00,-999.000,9,-999.0000,9, -999.00,9, -999.00,9,  -999.0,9,-999.000,9,-999.000,-999.000,9,-999.000,9,   61.34,2,    3.64,2, -999.00,1, -999.00,9, -999.00,9,-999.000,-999.0000,9,-999.0000,9,-999.0000,9,-999.0000,9,-999.0000,9,-999.0000,9,-999.0000,9,-999.0000,9,-999.0000,9,  20.8462,     -999.0,9,     -999.0,9,     -999.0,9,     -999.0,9,     -999.0,9,     -999.0,9,     -999.0,9,-999.0000, -999.00
33RO20071215,        P18,      95,          1,         25,      12024,2,20080116,       0034,   -26.3330,  -102.9995,       2125,   105.3,  20.5738,  35.9192,2,  35.9177,2,    228.8,2,   229.2,2,    0.70,2,    0.20,2,    0.00,2,    0.12,2,   2.179,2,   1.336,2,   1.0211,2,  2068.5,2,  2363.2,2,   -999.0,9,  -999.00,   8.0011,2,    25.00,   0.413,2,-999.0000,9, -999.00,9, -999.00,9,  -999.0,9,-999.000,9,-999.000,-999.000,9,-999.000,9,   60.61,2,    3.81,2, -999.00,1, -999.00,9, -999.00,9,   0.007,-999.0000,9,-999.0000,9,-999.0000,9,-999.0000,9,-999.0000,9,-999.0000,9,-999.0000,9,-999.0000,9,-999.0000,9,  20.5538,     -999.0,9,     -999.0,9,     -999.0,9,     -999.0,9,     -999.0,1,     -999.0,9,     -999.0,9,-999.0000, -999.00
33RO20071215,        P18,      95,          1,         24,      12019,2,20080116,       0034,   -26.3330,  -102.9995,       2125,   131.4,  20.0203,  35.8265,2,  35.8270,2,    226.9,2,   227.0,2,    0.70,2,    0.20,2,    0.00,2,    0.13,2,-999.000,9,-999.000,9,-999.0000,9,  2067.5,2,  2358.5,2,   -999.0,9,  -999.00,   8.0153,2,    25.00,-999.000,9,-999.0000,9, -999.00,9, -999.00,9,  -999.0,9,-999.000,9,-999.000,-999.000,9,-999.000,9,   60.51,2,    3.32,2, -999.00,1, -999.00,9, -999.00,9,-999.000,-999.0000,9,-999.0000,9,-999.0000,9,-999.0000,9,-999.0000,9,-999.0000,9,-999.0000,9,-999.0000,9,-999.0000,9,  19.9959,     -999.0,9,     -999.0,9,     -999.0,9,     -999.0,9,     -999.0,9,     -999.0,9,     -999.0,9,-999.0000, -999.00
33RO20071215,        P18,      95,          1,         23,      12022,2,20080116,       0034,   -26.3330,  -102.9995,       2125,   157.9,  19.6515,  35.7590,2,  35.7633,2,    224.8,2,   225.2,2,    0.70,2,    0.20,2,    0.00,2,    0.12,2,   2.257,2,   1.372,2,   1.0866,2,  2066.0,2,  2352.0,2,   -999.0,9,  -999.00,   7.9644,2,    25.00,   0.449,2,   1.7466,2,   -1.84,2, -999.00,9,  -999.0,9,   7.050,2,   0.024,-999.000,9,-999.000,9,   58.82,2,    3.83,2, -999.00,1, -999.00,9, -999.00,9,   0.007,-999.0000,9,-999.0000,9,-999.0000,9,-999.0000,9,-999.0000,9,-999.0000,9,-999.0000,9,-999.0000,9,-999.0000,9,  19.6225,     -999.0,9,     -999.0,9,     -999.0,9,     -999.0,9,     -999.0,9,     -999.0,9,     -999.0,9,   0.0049,    0.15
33RO20071215,        P18,      95,          1,         22,      12015,2,20080116,       0034,   -26.3330,  -102.9995,       2125,   179.9,  19.1698,  35.6482,2,  35.6568,2,    223.8,2,   223.7,2,    0.70,2,    0.40,2,    0.08,2,    0.14,2,-999.000,9,-999.000,9,-999.0000,9,  2065.9,2,  2346.6,2,   -999.0,9,  -999.00,   8.0000,2,    25.00,-999.000,9,-999.0000,9, -999.00,9, -999.00,9,  -999.0,9,-999.000,9,-999.000,-999.000,9,-999.000,9,   57.58,2,    3.44,2, -999.00,1, -999.00,9, -999.00,9,-999.000,-999.0000,9,-999.0000,9,-999.0000,9,-999.0000,9,-999.0000,9,-999.0000,9,-999.0000,9,-999.0000,9,-999.0000,9,  19.1374,     -999.0,9,     -999.0,9,     -999.0,9,     -999.0,9,     -999.0,9,     -999.0,9,     -999.0,9,-999.0000, -999.00
33RO20071215,        P18,      95,          1,         21,      12020,2,20080116,       0034,   -26.3330,  -102.9995,       2125,   207.6,  18.3120,  35.4479,2,  35.4583,2,    221.4,2,   228.1,2,    0.70,2,    0.50,2,    0.05,2,    0.15,2,   2.395,2,   1.453,2,   1.1342,2,  2061.8,2,  2330.7,2,   -999.0,9,  -999.00,   7.9817,2,    25.00,   0.412,2,   1.7613,2,   -2.02,2, -999.00,9,  -999.0,9,   7.176,2,   0.024,-999.000,9,-999.000,9,   55.29,2,    4.03,2, -999.00,1, -999.00,9, -999.00,9,   0.007,-999.0000,9,-999.0000,9,-999.0000,9,-999.0000,9,-999.0000,9,-999.0000,9,-999.0000,9,-999.0000,9,-999.0000,9,  18.2758,     -999.0,9,     -999.0,9,     -999.0,9,     -999.0,9,     -999.0,1,     -999.0,9,     -999.0,9,   0.0049,    0.15
33RO20071215,        P18,      95,          1,         20,      12055,2,20080116,       0034,   -26.3330,  -102.9995,       2125,   230.4,  17.2600,  35.2178,2,  35.2579,2,    220.2,2,   215.2,2,    0.90,2,    2.20,2,    0.06,2,    0.26,2,-999.000,9,-999.000,9,-999.0000,9,  2068.4,2,  -999.0,9,   -999.0,9,  -999.00,   7.9461,2,    25.00,-999.000,9,-999.0000,9, -999.00,9, -999.00,9,  -999.0,9,-999.000,9,-999.000,-999.000,9,-999.000,9,   52.27,2,    5.44,2, -999.00,1, -999.00,9, -999.00,9,-999.000,-999.0000,9,-999.0000,9,-999.0000,9,-999.0000,9,-999.0000,9,-999.0000,9,-999.0000,9,-999.0000,9,-999.0000,9,  17.2214,     -999.0,9,     -999.0,9,     -999.0,9,     -999.0,9,     -999.0,9,     -999.0,9,     -999.0,9,-999.0000, -999.00
33RO20071215,        P18,      95,          1,         19,      12018,2,20080116,       0034,   -26.3330,  -102.9995,       2125,   268.3,  15.5143,  34.8775,2,  34.8736,2,    216.0,2,   213.1,2,    1.10,2,    4.30,2,    0.02,2,    0.39,2,   2.737,2,   1.599,2,   1.0706,2,  2069.6,2,  2295.5,2,   -999.0,9,  -999.00,   7.9084,2,    25.00,   0.400,2,   1.7470,2,   -1.21,2, -999.00,9,  -999.0,9,   7.300,2,   0.025,-999.000,9,-999.000,9,   43.51,2,    6.38,2, -999.00,1, -999.00,9, -999.00,9,   0.007,-999.0000,9,-999.0000,9,-999.0000,9,-999.0000,9,-999.0000,9,-999.0000,9,-999.0000,9,-999.0000,9,-999.0000,9,  15.4726,     -999.0,9,     -999.0,9,     -999.0,9,     -999.0,9,     -999.0,9,     -999.0,9,     -999.0,9,   0.0049,    0.15
33RO20071215,        P18,      95,          1,         18,      12025,2,20080116,       0034,   -26.3330,  -102.9995,       2125,   314.0,  13.5124,  34.6775,2,  34.6804,2,    202.5,2,   201.4,2,    2.00,2,    9.30,2,    0.01,2,    0.68,2,-999.000,9,-999.000,9,-999.0000,9,  2092.7,2,  -999.0,9,   -999.0,9,  -999.00,   7.8543,2,    25.00,-999.000,9,-999.0000,9, -999.00,9, -999.00,9,  -999.0,9,-999.000,9,-999.000,-999.000,9,-999.000,9,   43.09,2,   10.35,2, -999.00,1, -999.00,9, -999.00,9,-999.000,-999.0000,9,-999.0000,9,-999.0000,9,-999.0000,9,-999.0000,9,-999.0000,9,-999.0000,9,-999.0000,9,-999.0000,9,  13.4680,     -999.0,9,     -999.0,9,     -999.0,9,     -999.0,9,     -999.0,9,     -999.0,9,     -999.0,9,-999.0000, -999.00
33RO20071215,        P18,      95,          1,         17,      12016,2,20080116,       0034,   -26.3330,  -102.9995,       2125,   368.7,  10.7510,  34.4383,2,  34.4397,2,    168.8,2,   183.4,2,    5.50,2,   17.30,2,    0.01,2,    1.25,2,   3.020,2,   1.605,2,   0.7105,2,  2132.1,2,  2272.8,2,   -999.0,9,  -999.00,   7.7395,2,    25.00,   0.266,2,   1.7784,2,   -0.24,2, -999.00,9,  -999.0,9,   7.542,2,   0.026,-999.000,9,-999.000,9,   42.84,2,   18.23,2, -999.00,1, -999.00,9, -999.00,9,   0.007,-999.0000,9,-999.0000,9,-999.0000,9,-999.0000,9,-999.0000,9,-999.0000,9,-999.0000,9,-999.0000,9,-999.0000,9,  10.7061,     -999.0,9,     -999.0,9,     -999.0,9,     -999.0,9,     -999.0,1,     -999.0,9,     -999.0,9,   0.0050,    0.15
33RO20071215,        P18,      95,          1,         16,      12051,2,20080116,       0034,   -26.3330,  -102.9995,       2125,   433.4,   8.6267,  34.3961,2,  34.3982,2,    133.3,2,   132.7,2,   13.50,2,   27.10,2,    0.00,2,    2.01,2,-999.000,9,-999.000,9,-999.0000,9,  2192.9,6,  2277.4,2,   -999.0,9,  -999.00,   7.5667,2,    25.00,-999.000,9,-999.0000,9, -999.00,9, -999.00,9,  -999.0,9,-999.000,9,-999.000,-999.000,9,-999.000,9,   42.27,2,   28.39,2, -999.00,1, -999.00,9, -999.00,9,-999.000,-999.0000,9,-999.0000,9,-999.0000,9,-999.0000,9,-999.0000,9,-999.0000,9,-999.0000,9,-999.0000,9,-999.0000,9,   8.5806,     -999.0,9,     -999.0,9,     -999.0,9,     -999.0,9,     -999.0,1,     -999.0,9,     -999.0,9,-999.0000, -999.00
33RO20071215,        P18,      95,          1,         15,      12014,2,20080116,       0034,   -26.3330,  -102.9995,       2125,   527.1,   6.7678,  34.3441,2,  34.3471,2,    173.0,2,   172.6,2,   14.70,2,   29.30,2,    0.00,2,    2.00,2,   2.271,2,   1.121,2,   0.2733,2,  2184.4,2,  2279.6,2,   -999.0,9,  -999.00,   7.6015,2,    25.00,   0.090,2,   1.7945,2,    0.72,2, -999.00,9,  -999.0,9,   7.610,2,   0.026,-999.000,9,-999.000,9,   41.63,2,   30.34,2, -999.00,1, -999.00,9, -999.00,9,   0.006,-999.0000,9,-999.0000,9,-999.0000,9,-999.0000,9,-999.0000,9,-999.0000,9,-999.0000,9,-999.0000,9,-999.0000,9,   6.7187,     -999.0,9,     -999.0,9,     -999.0,9,     -999.0,9,     -999.0,9,     -999.0,9,     -999.0,9,   0.0050,    0.15
33RO20071215,        P18,      95,          1,         14,      12013,2,20080116,       0034,   -26.3330,  -102.9995,       2125,   633.9,   5.8961,  34.3093,2,  34.3134,2,    205.3,2,   204.6,2,   14.80,2,   28.90,2,    0.00,2,    1.90,2,   2.182,2,   1.067,2,   0.1967,2,  2171.1,2,  -999.0,9,   -999.0,9,  -999.00,   7.6423,2,    25.00,   0.101,2,   1.7866,2,    1.13,2, -999.00,9,  -999.0,9,   7.622,2,   0.026,-999.000,9,-999.000,9,   41.05,2,   30.07,2, -999.00,1, -999.00,9, -999.00,9,   0.006,-999.0000,9,-999.0000,9,-999.0000,9,-999.0000,9,-999.0000,9,-999.0000,9,-999.0000,9,-999.0000,9,-999.0000,9,   5.8408,     -999.0,9,     -999.0,9,     -999.0,9,     -999.0,9,     -999.0,1,     -999.0,9,     -999.0,9,   0.0050,    0.15
33RO20071215,        P18,      95,          1,         13,      12012,2,20080116,       0034,   -26.3330,  -102.9995,       2125,   732.8,   5.3932,  34.3098,2,  34.3100,2,    196.2,2,   191.8,2,   20.80,2,   31.10,2,    0.00,2,    2.08,2,   1.373,2,   0.680,2,   0.1441,2,  2184.7,2,  2288.0,2,   -999.0,9,  -999.00,   7.6190,2,    25.00,   0.090,2,   1.8041,2,    1.62,2, -999.00,9,  -999.0,9,   7.675,2,   0.026,-999.000,9,-999.000,9,   39.13,2,   32.10,2, -999.00,1, -999.00,9, -999.00,9,   0.007,-999.0000,9,-999.0000,9,-999.0000,9,-999.0000,9,-999.0000,9,-999.0000,9,-999.0000,9,-999.0000,9,-999.0000,9,   5.3316,     -999.0,9,     -999.0,9,     -999.0,9,     -999.0,9,     -999.0,1,     -999.0,9,     -999.0,9,   0.0051,    0.15
33RO20071215,        P18,      95,          1,         12,      12031,2,20080116,       0034,   -26.3330,  -102.9995,       2125,   833.5,   4.9549,  34.3389,2,  34.3426,2,    166.9,2,   167.1,2,   31.10,2,   34.10,2,    0.00,2,    2.30,2,   0.655,2,   0.337,2,   0.0978,2,  2207.7,2,  -999.0,9,   -999.0,9,  -999.00,   7.5671,2,    25.00,-999.000,9,   1.8175,2,    3.55,2, -999.00,9,  -999.0,9,   7.750,2,   0.026,-999.000,9,-999.000,9,   39.13,2,   35.38,2, -999.00,1, -999.00,9, -999.00,9,-999.000,-999.0000,9,-999.0000,9,-999.0000,9,-999.0000,9,-999.0000,9,-999.0000,9,-999.0000,9,-999.0000,9,-999.0000,9,   4.8870,     -999.0,9,     -999.0,9,     -999.0,9,     -999.0,9,     -999.0,1,     -999.0,9,     -999.0,9,   0.0051,    0.15
33RO20071215,        P18,      95,          1,         11,      12003,2,20080116,       0034,   -26.3330,  -102.9995,       2125,   931.8,   4.5153,  34.3892,2,  34.3930,2,    143.4,2,   140.7,2,   45.50,2,   36.80,2,    0.00,2,    2.51,2,   0.216,2,   0.117,2,   0.0000,2,  -999.0,9,  -999.0,9,   -999.0,9,  -999.00,-999.0000,9,  -999.00,   0.025,2,   1.8271,2,    7.05,2, -999.00,9,  -999.0,9,   7.797,2,   0.026,-999.000,9,-999.000,9,   37.87,2,   38.01,2, -999.00,9, -999.00,9, -999.00,9,   0.006,-999.0000,9,-999.0000,9,-999.0000,9,-999.0000,9,-999.0000,9,-999.0000,9,-999.0000,9,-999.0000,9,-999.0000,9,   4.4418,     -999.0,9,     -999.0,9,     -999.0,9,     -999.0,9,     -999.0,1,     -999.0,9,     -999.0,9,   0.0051,    0.15
33RO20071215,        P18,      95,          1,         10,      12032,2,20080116,       0034,   -26.3330,  -102.9995,       2125,  1031.7,   3.9828,  34.4224,2,  34.4216,2,    138.0,2,   137.1,2,   56.90,2,   37.50,2,    0.00,2,    2.56,2,   0.067,2,   0.036,2,   0.0000,2,  2248.8,2,  2325.3,2,   -999.0,9,  -999.00,   7.5194,2,    25.00,   0.024,2,   1.8585,2,    9.06,2, -999.00,9,  -999.0,9,   7.857,2,   0.027,-999.000,9,-999.000,9,   37.17,2,   39.17,2, -999.00,9, -999.00,9, -999.00,9,   0.006,-999.0000,9,-999.0000,9,-999.0000,9,-999.0000,9,-999.0000,9,-999.0000,9,-999.0000,9,-999.0000,9,-999.0000,9,   3.9048,     -999.0,9,     -999.0,9,     -999.0,9,     -999.0,9,     -999.0,1,     -999.0,9,     -999.0,9,   0.0052,    0.15
33RO20071215,        P18,      95,          1,          9,      12002,2,20080116,       0034,   -26.3330,  -102.9995,       2125,  1132.8,   3.6916,  34.4677,2,  34.4681,2,    131.4,2,   131.0,2,   68.40,2,   38.00,2,    0.00,2,    2.61,2,   0.018,2,   0.011,2,   0.0000,2,  -999.0,9,  -999.0,9,   -999.0,9,  -999.00,-999.0000,9,  -999.00,   0.000,2,   1.8634,2,   12.67,2, -999.00,9,  -999.0,9,   7.913,2,   0.027,-999.000,9,-999.000,9,   37.45,2,   39.51,2, -999.00,9, -999.00,9, -999.00,9,   0.006,-999.0000,9,-999.0000,9,-999.0000,9,-999.0000,9,-999.0000,9,-999.0000,9,-999.0000,9,-999.0000,9,-999.0000,9,   3.6075,     -999.0,9,     -999.0,9,     -999.0,9,     -999.0,9,     -999.0,1,     -999.0,9,     -999.0,9,   0.0052,    0.15
33RO20071215,        P18,      95,          1,          8,      12021,2,20080116,       0034,   -26.3330,  -102.9995,       2125,  1234.7,   3.4122,  34.4994,2,  34.4995,2,    131.5,2,   131.3,2,   76.40,2,   38.00,2,    0.00,2,    2.60,2,-999.000,9,-999.000,9,-999.0000,9,  2270.5,2,  -999.0,9,   -999.0,9,  -999.00,   7.5197,2,    25.00,-999.000,9,-999.0000,9, -999.00,9, -999.00,9,  -999.0,9,-999.000,9,-999.000,-999.000,9,-999.000,9,   36.91,2,   39.26,2, -999.00,9, -999.00,9, -999.00,9,-999.000,-999.0000,9,-999.0000,9,-999.0000,9,-999.0000,9,-999.0000,9,-999.0000,9,-999.0000,9,-999.0000,9,-999.0000,9,   3.3222,     -999.0,9,     -999.0,9,     -999.0,9,     -999.0,9,     -999.0,1,     -999.0,9,     -999.0,9,-999.0000, -999.00
33RO20071215,        P18,      95,          1,          7,      12001,2,20080116,       0034,   -26.3330,  -102.9995,       2125,  1333.8,   3.0025,  34.5377,2,  34.5430,3,    139.1,2,   139.2,2,   85.70,2,   37.20,2,    0.00,2,    2.54,2,-999.000,9,-999.000,9,-999.0000,9,  -999.0,9,  -999.0,9,   -999.0,9,  -999.00,-999.0000,9,  -999.00,-999.000,9,-999.0000,9, -999.00,9, -999.00,9,  -999.0,9,-999.000,9,-999.000,-999.000,9,-999.000,9,   37.36,2,   38.14,3, -999.00,9, -999.00,9, -999.00,9,-999.000,-999.0000,9,-999.0000,9,-999.0000,9,-999.0000,9,-999.0000,9,-999.0000,9,-999.0000,9,-999.0000,9,-999.0000,9,   2.9083,     -999.0,9,     -999.0,9,     -999.0,9,     -999.0,9,     -999.0,1,     -999.0,9,     -999.0,9,-999.0000, -999.00