BOTTLE,20220818CCHSIOAMB
EXPOCODE,SECT_ID,STNNBR,CASTNO,SAMPNO,BTLNBR,BTLNBR_FLAG_W,DATE,TIME,LATITUDE,LONGITUDE,DEPTH,CTDPRS,CTDTMP,CTDSAL,CTDSAL_FLAG_W,SALNTY,SALNTY_FLAG_W,CTDOXY,CTDOXY_FLAG_W,OXYGEN,OXYGEN_FLAG_W,SILCAT,SILCAT_FLAG_W,NITRAT,NITRAT_FLAG_W,NITRIT,NITRIT_FLAG_W,PHSPHT,PHSPHT_FLAG_W,CFC-11,CFC-11_FLAG_W,CFC-12,CFC-12_FLAG_W,SF6,SF6_FLAG_W,TCARBN,TCARBN_FLAG_W,ALKALI,ALKALI_FLAG_W,FCO2,FCO2_FLAG_W,FCO2TMP,PH_SWS,PH_SWS_FLAG_W,PH_TMP,TRITUM,TRITUM_FLAG_W,HELIUM,HELIUM_FLAG_W,DELHE3,DELHE3_FLAG_W,DELC13,DELC13_FLAG_W,DELC14,DELC14_FLAG_W,NEON,NEON_FLAG_W,NEONER,CCL4,CCL4_FLAG_W,POC,POC_FLAG_W,DOC,DOC_FLAG_W,TDN,TDN_FLAG_W,DON,DON_FLAG_W,CHLORA,CHLORA_FLAG_W,ARGON,ARGON_FLAG_W,TRITER,CDOM325,CDOM325_FLAG_W,CDOM340,CDOM340_FLAG_W,CDOM380,CDOM380_FLAG_W,CDOM412,CDOM412_FLAG_W,CDOM443,CDOM443_FLAG_W,CDOM490,CDOM490_FLAG_W,CDOM555,CDOM555_FLAG_W,CDOMSL,CDOMSL_FLAG_W,CDOMSN,CDOMSN_FLAG_W,THETA,D18O_NO3,D18O_NO3_FLAG_W,CDOM2C,CDOM2C_FLAG_W,CDOM3C,CDOM3C_FLAG_W,LAB_DEN,LAB_DEN_FLAG_W,DELSI30,DELSI30_FLAG_W,N2,N2_FLAG_W,D15N_NO3,D15N_NO3_FLAG_W,HELIER,DELHER
,,,,,,,,,,,METERS,DBAR,ITS-90,PSS-78,,PSS-78,,UMOL/KG,,UMOL/KG,,UMOL/KG,,UMOL/KG,,UMOL/KG,,UMOL/KG,,PMOL/KG,,PMOL/KG,,FMOL/KG,,UMOL/KG,,UMOL/KG,,UATM,,DEG C,,,DEG C,TU,,NMOL/KG,,PERCNT,,/MILLE,,/MILLE,,NMOL/KG,,NMOL/KG,PMOL/KG,,UG/KG,,UMOL/KG,,UMOL/KG,,UMOL/KG,,UG/KG,,UMOL/KG,,TU,1/M,,1/M,,1/M,,1/M,,1/M,,1/M,,1/M,,1/NM,,1/NM,,DEG C,/MILLE,,,,,,,,/MILLE,,UMOL/KG,,/MILLE,,NMOL/KG,PERCNT
33RO20071215,        P18,      13,          1,         24,      11024,2,20071220,       1120,    17.3330,  -110.0003,       3436,    15.2,  26.2524,  34.3268,2,  34.3327,2,    202.6,2,   202.5,2,    1.60,2,    0.10,2,    0.00,2,    0.20,2,-999.000,9,-999.000,9,-999.0000,9,  1977.7,6,  2280.6,2,    300.8,2,    20.00,   8.0763,2,    25.00,-999.000,9,-999.0000,9, -999.00,9,    1.47,2,  -999.0,1,-999.000,9,-999.000,-999.000,9,-999.000,9,   79.43,2,    5.45,2, -999.00,1, -999.00,9, -999.00,9,-999.000,-999.0000,9,-999.0000,9,-999.0000,9,-999.0000,9,-999.0000,9,-999.0000,9,-999.0000,9,-999.0000,9,-999.0000,9,  26.2490,     -999.0,9,     -999.0,9,     -999.0,9,     -999.0,9,     -999.0,9,     -999.0,9,     -999.0,9,-999.0000, -999.00
33RO20071215,        P18,      13,          1,         23,      11023,2,20071220,       1120,    17.3330,  -110.0003,       3436,    32.3,  26.2495,  34.3600,2,  34.3506,2,    203.2,2,   202.3,2,    1.70,2,    0.10,2,    0.00,2,    0.22,2,-999.000,9,-999.000,9,-999.0000,9,  1974.9,2,  2281.6,2,    304.9,2,    20.00,   8.0585,2,    25.00,-999.000,9,-999.0000,9, -999.00,9, -999.00,9,  -999.0,9,-999.000,9,-999.000,-999.000,9,-999.000,9, -999.00,9, -999.00,9, -999.00,1, -999.00,9, -999.00,9,-999.000,-999.0000,9,-999.0000,9,-999.0000,9,-999.0000,9,-999.0000,9,-999.0000,9,-999.0000,9,-999.0000,9,-999.0000,9,  26.2423,     -999.0,9,     -999.0,9,     -999.0,9,     -999.0,9,     -999.0,9,     -999.0,9,     -999.0,9,-999.0000, -999.00
33RO20071215,        P18,      13,          1,         22,      11022,2,20071220,       1120,    17.3330,  -110.0003,       3436,    50.4,  25.7270,  34.4336,2,  34.4324,2,    202.6,2,   198.3,2,    2.00,2,    0.50,2,    0.04,2,    0.28,2,-999.000,9,-999.000,9,-999.0000,9,  1997.5,2,  -999.0,5,    331.4,2,    20.00,   8.0367,2,    25.00,-999.000,9,-999.0000,9, -999.00,9, -999.00,9,  -999.0,9,-999.000,9,-999.000,-999.000,9,-999.000,9,   77.40,2,    5.01,2, -999.00,1, -999.00,9, -999.00,9,-999.000,-999.0000,9,-999.0000,9,-999.0000,9,-999.0000,9,-999.0000,9,-999.0000,9,-999.0000,9,-999.0000,9,-999.0000,9,  25.7159,     -999.0,9,     -999.0,9,     -999.0,9,     -999.0,9,     -999.0,9,     -999.0,9,     -999.0,9,-999.0000, -999.00
33RO20071215,        P18,      13,          1,         21,      11021,2,20071220,       1120,    17.3330,  -110.0003,       3436,    82.9,  17.5109,  34.3414,2,  34.3901,2,    101.5,2,    94.3,2,   12.60,2,   15.20,2,    0.06,2,    1.55,2,-999.000,9,-999.000,9,-999.0000,9,  2162.3,2,  2293.3,2,   -999.0,9,  -999.00,   7.6730,2,    25.00,-999.000,9,-999.0000,9, -999.00,9, -999.00,9,  -999.0,9,-999.000,9,-999.000,-999.000,9,-999.000,9, -999.00,9, -999.00,9, -999.00,1, -999.00,9, -999.00,9,-999.000,-999.0000,9,-999.0000,9,-999.0000,9,-999.0000,9,-999.0000,9,-999.0000,9,-999.0000,9,-999.0000,9,-999.0000,9,  17.4970,     -999.0,9,     -999.0,9,     -999.0,9,     -999.0,9,     -999.0,9,     -999.0,9,     -999.0,9,-999.0000, -999.00
33RO20071215,        P18,      13,          1,         20,      11020,2,20071220,       1120,    17.3330,  -110.0003,       3436,   107.5,  14.9358,  34.6103,2,  34.6267,2,     15.8,2,    16.2,2,   23.50,2,   23.80,2,    0.03,2,    2.35,2,-999.000,9,-999.000,9,-999.0000,9,  2238.7,2,  2304.9,2,   1520.7,2,    20.00,   7.4694,2,    25.00,-999.000,9,-999.0000,9, -999.00,9, -999.00,9,  -999.0,9,-999.000,9,-999.000,-999.000,9,-999.000,9,   49.58,2,   26.17,2, -999.00,1, -999.00,9, -999.00,9,-999.000,-999.0000,9,-999.0000,9,-999.0000,9,-999.0000,9,-999.0000,9,-999.0000,9,-999.0000,9,-999.0000,9,-999.0000,9,  14.9197,     -999.0,9,     -999.0,9,     -999.0,9,     -999.0,9,     -999.0,9,     -999.0,9,     -999.0,9,-999.0000, -999.00
33RO20071215,        P18,      13,          1,         19,      11019,2,20071220,       1120,    17.3330,  -110.0003,       3436,   132.2,  13.1360,  34.7008,2,  34.7056,2,      2.9,2,     5.8,2,   28.80,2,   24.50,2,    0.02,2,    2.50,2,-999.000,9,-999.000,9,-999.0000,9,  2257.1,2,  2296.4,2,   -999.0,9,  -999.00,   7.4349,2,    25.00,-999.000,9,-999.0000,9, -999.00,9, -999.00,9,  -999.0,9,-999.000,9,-999.000,-999.000,9,-999.000,9,   49.09,2,   26.50,2, -999.00,1, -999.00,9, -999.00,9,-999.000,-999.0000,9,-999.0000,9,-999.0000,9,-999.0000,9,-999.0000,9,-999.0000,9,-999.0000,9,-999.0000,9,-999.0000,9,  13.1178,     -999.0,9,     -999.0,9,     -999.0,9,     -999.0,9,     -999.0,9,     -999.0,9,     -999.0,9,-999.0000, -999.00
33RO20071215,        P18,      13,          1,         18,      11018,2,20071220,       1120,    17.3330,  -110.0003,       3436,   165.9,  12.4294,  34.7535,2,  34.7518,2,      3.7,2,     3.5,2,   31.30,2,   23.00,2,    1.10,2,    2.54,2,-999.000,9,-999.000,9,-999.0000,9,  2262.0,2,  2301.2,2,   1668.3,2,    20.00,   7.4313,2,    25.00,-999.000,9,-999.0000,9, -999.00,9, -999.00,9,  -999.0,9,-999.000,9,-999.000,-999.000,9,-999.000,9,   46.95,2,   26.25,2, -999.00,1, -999.00,9, -999.00,9,-999.000,-999.0000,9,-999.0000,9,-999.0000,9,-999.0000,9,-999.0000,9,-999.0000,9,-999.0000,9,-999.0000,9,-999.0000,9,  12.4074,     -999.0,9,     -999.0,9,     -999.0,9,     -999.0,9,     -999.0,9,     -999.0,9,     -999.0,9,-999.0000, -999.00
33RO20071215,        P18,      13,          1,         17,      11017,2,20071220,       1120,    17.3330,  -110.0003,       3436,   224.2,  11.5505,  34.7336,2,  34.7318,2,      3.4,2,     2.8,2,   34.40,2,   22.20,2,    1.58,2,    2.58,2,-999.000,9,-999.000,9,-999.0000,9,  2274.8,2,  2305.6,2,   -999.0,9,  -999.00,   7.4123,2,    25.00,-999.000,9,-999.0000,9, -999.00,9, -999.00,9,  -999.0,9,-999.000,9,-999.000,-999.000,9,-999.000,9,   45.85,2,   25.68,2, -999.00,1, -999.00,9, -999.00,9,-999.000,-999.0000,9,-999.0000,9,-999.0000,9,-999.0000,9,-999.0000,9,-999.0000,9,-999.0000,9,-999.0000,9,-999.0000,9,  11.5220,     -999.0,9,     -999.0,9,     -999.0,9,     -999.0,9,     -999.0,9,     -999.0,9,     -999.0,9,-999.0000, -999.00
33RO20071215,        P18,      13,          1,         16,      11016,2,20071220,       1120,    17.3330,  -110.0003,       3436,   299.3,  10.5150,  34.6691,2,  34.6679,2,      3.4,2,     3.7,2,   39.30,2,   23.90,2,    1.05,2,    2.67,2,-999.000,9,-999.000,9,-999.0000,9,  2282.3,2,  2319.9,2,   -999.0,9,  -999.00,   7.3890,2,    25.00,-999.000,9,-999.0000,9, -999.00,9, -999.00,9,  -999.0,9,-999.000,9,-999.000,-999.000,9,-999.000,9,   44.13,2,   26.37,2, -999.00,1, -999.00,9, -999.00,9,-999.000,-999.0000,9,-999.0000,9,-999.0000,9,-999.0000,9,-999.0000,9,-999.0000,9,-999.0000,9,-999.0000,9,-999.0000,9,  10.4791,     -999.0,9,     -999.0,9,     -999.0,9,     -999.0,9,     -999.0,9,     -999.0,9,     -999.0,9,-999.0000, -999.00
33RO20071215,        P18,      13,          1,         15,      11015,2,20071220,       1120,    17.3330,  -110.0003,       3436,   374.4,   9.4745,  34.6195,2,  34.6214,2,      3.5,2,     4.2,2,   46.00,2,   27.60,2,    0.16,2,    2.79,2,-999.000,9,-999.000,9,-999.0000,9,  2289.1,2,  2324.6,4,   -999.0,9,  -999.00,   7.3716,2,    25.00,-999.000,9,-999.0000,9, -999.00,9, -999.00,9,  -999.0,9,-999.000,9,-999.000,-999.000,9,-999.000,9,   43.04,2,   28.81,2, -999.00,1, -999.00,9, -999.00,9,-999.000,-999.0000,9,-999.0000,9,-999.0000,9,-999.0000,9,-999.0000,9,-999.0000,9,-999.0000,9,-999.0000,9,-999.0000,9,   9.4323,     -999.0,9,     -999.0,9,     -999.0,9,     -999.0,9,     -999.0,9,     -999.0,9,     -999.0,9,-999.0000, -999.00
33RO20071215,        P18,      13,          1,         14,      11014,2,20071220,       1120,    17.3330,  -110.0003,       3436,   449.9,   8.3901,  34.5777,2,  34.5749,2,      3.5,2,     3.5,2,   56.30,2,   31.40,2,    0.07,2,    2.94,2,-999.000,9,-999.000,9,-999.0000,9,  2303.7,2,  2332.8,2,   1996.4,2,    20.00,   7.3579,2,    25.00,-999.000,9,-999.0000,9, -999.00,9, -999.00,9,  -999.0,9,-999.000,9,-999.000,-999.000,9,-999.000,9,   41.57,2,   32.63,2, -999.00,1, -999.00,9, -999.00,9,-999.000,-999.0000,9,-999.0000,9,-999.0000,9,-999.0000,9,-999.0000,9,-999.0000,9,-999.0000,9,-999.0000,9,-999.0000,9,   8.3428,     -999.0,9,     -999.0,9,     -999.0,9,     -999.0,9,     -999.0,9,     -999.0,9,     -999.0,9,-999.0000, -999.00
33RO20071215,        P18,      13,          1,         13,      11013,2,20071220,       1120,    17.3330,  -110.0003,       3436,   532.1,   7.4989,  34.5520,2,  34.5502,2,      3.6,2,     3.8,2,   64.60,2,   34.80,2,    0.00,2,    3.05,2,-999.000,9,-999.000,9,-999.0000,9,  2313.9,2,  2331.9,4,   -999.0,9,  -999.00,   7.3509,2,    25.00,-999.000,9,-999.0000,9, -999.00,9, -999.00,9,  -999.0,9,-999.000,9,-999.000,-999.000,9,-999.000,9,   40.63,2,   36.25,2, -999.00,1, -999.00,9, -999.00,9,-999.000,-999.0000,9,-999.0000,9,-999.0000,9,-999.0000,9,-999.0000,9,-999.0000,9,-999.0000,9,-999.0000,9,-999.0000,9,   7.4462,     -999.0,9,     -999.0,9,     -999.0,9,     -999.0,9,     -999.0,9,     -999.0,9,     -999.0,9,-999.0000, -999.00
33RO20071215,        P18,      13,          1,         12,      11012,2,20071220,       1120,    17.3330,  -110.0003,       3436,   650.7,   6.4848,  34.5419,2,  34.5416,2,      3.7,2,     3.9,2,   74.80,2,   39.00,2,    0.00,2,    3.16,2,-999.000,9,-999.000,9,-999.0000,9,  2329.0,2,  2349.2,4,   -999.0,9,  -999.00,   7.3423,2,    25.00,-999.000,9,-999.0000,9, -999.00,9, -999.00,9,  -999.0,9,-999.000,9,-999.000,-999.000,9,-999.000,9,   39.19,2,   39.96,2, -999.00,1, -999.00,9, -999.00,9,-999.000,-999.0000,9,-999.0000,9,-999.0000,9,-999.0000,9,-999.0000,9,-999.0000,9,-999.0000,9,-999.0000,9,-999.0000,9,   6.4249,     -999.0,9,     -999.0,9,     -999.0,9,     -999.0,9,     -999.0,9,     -999.0,9,     -999.0,9,-999.0000, -999.00
33RO20071215,        P18,      13,          1,         11,      11010,2,20071220,       1120,    17.3330,  -110.0003,       3436,   799.9,   5.5812,  34.5336,2,  34.5328,2,      4.4,2,     4.2,2,   87.00,2,   42.50,2,    0.00,2,    3.25,2,-999.000,9,-999.000,9,-999.0000,9,  2341.9,2,  2360.9,4,   -999.0,9,  -999.00,   7.3419,2,    25.00,-999.000,9,-999.0000,9, -999.00,9, -999.00,9,  -999.0,9,-999.000,9,-999.000,-999.000,9,-999.000,9,   38.15,2,   43.38,2, -999.00,1, -999.00,9, -999.00,9,-999.000,-999.0000,9,-999.0000,9,-999.0000,9,-999.0000,9,-999.0000,9,-999.0000,9,-999.0000,9,-999.0000,9,-999.0000,9,   5.5121,     -999.0,9,     -999.0,9,     -999.0,9,     -999.0,9,     -999.0,9,     -999.0,9,     -999.0,9,-999.0000, -999.00
33RO20071215,        P18,      13,          1,         10,      11011,2,20071220,       1120,    17.3330,  -110.0003,       3436,   949.5,   4.7885,  34.5403,2,  34.5396,2,      8.8,2,     8.0,2,  100.10,2,   44.40,2,    0.00,2,    3.29,2,-999.000,9,-999.000,9,-999.0000,9,  2353.1,2,  2356.9,2,   2187.3,2,    20.00,   7.3315,2,    25.00,-999.000,9,-999.0000,9, -999.00,9, -999.00,9,  -999.0,9,-999.000,9,-999.000,-999.000,9,-999.000,9,   38.13,2,   45.76,2, -999.00,1, -999.00,9, -999.00,9,-999.000,-999.0000,9,-999.0000,9,-999.0000,9,-999.0000,9,-999.0000,9,-999.0000,9,-999.0000,9,-999.0000,9,-999.0000,9,   4.7112,     -999.0,9,     -999.0,9,     -999.0,9,     -999.0,9,     -999.0,9,     -999.0,9,     -999.0,9,-999.0000, -999.00
33RO20071215,        P18,      13,          1,          9,      11009,2,20071220,       1120,    17.3330,  -110.0003,       3436,  1099.8,   4.1431,  34.5579,2,  34.5577,2,     18.4,2,    21.1,3,  112.40,2,   44.70,2,    0.00,2,    3.27,2,-999.000,9,-999.000,9,-999.0000,9,  2362.2,2,  2369.0,2,   -999.0,9,  -999.00,   7.3392,2,    25.00,-999.000,9,-999.0000,9, -999.00,9, -999.00,9,  -999.0,9,-999.000,9,-999.000,-999.000,9,-999.000,9,   38.04,2,   45.74,2, -999.00,1, -999.00,9, -999.00,9,-999.000,-999.0000,9,-999.0000,9,-999.0000,9,-999.0000,9,-999.0000,9,-999.0000,9,-999.0000,9,-999.0000,9,-999.0000,9,   4.0578,     -999.0,9,     -999.0,9,     -999.0,9,     -999.0,9,     -999.0,9,     -999.0,9,     -999.0,9,-999.0000, -999.00
33RO20071215,        P18,      13,          1,          8,      11008,2,20071220,       1120,    17.3330,  -110.0003,       3436,  1266.1,   3.6684,  34.5740,2,  34.5753,2,     29.4,2,    29.3,2,  122.70,2,   44.20,2,    0.00,2,    3.19,2,-999.000,9,-999.000,9,-999.0000,9,  2366.3,2,  2380.6,2,   -999.0,9,  -999.00,   7.3638,2,    25.00,-999.000,9,-999.0000,9, -999.00,9, -999.00,9,  -999.0,9,-999.000,9,-999.000,-999.000,9,-999.000,9,   37.49,2,   45.51,2, -999.00,1, -999.00,9, -999.00,9,-999.000,-999.0000,9,-999.0000,9,-999.0000,9,-999.0000,9,-999.0000,9,-999.0000,9,-999.0000,9,-999.0000,9,-999.0000,9,   3.5732,     -999.0,9,     -999.0,9,     -999.0,9,     -999.0,9,     -999.0,9,     -999.0,9,     -999.0,9,-999.0000, -999.00
33RO20071215,        P18,      13,          1,          7,      11007,2,20071220,       1120,    17.3330,  -110.0003,       3436,  1466.6,   3.1032,  34.5989,2,  34.5990,2,     47.7,2,    48.4,2,  133.40,2,   43.20,2,    0.00,2,    3.06,2,-999.000,9,-999.000,9,-999.0000,9,  2368.0,2,  2394.8,2,   -999.0,9,  -999.00,   7.3961,2,    25.00,-999.000,9,-999.0000,9, -999.00,9, -999.00,9,  -999.0,9,-999.000,9,-999.000,-999.000,9,-999.000,9,   37.20,2,   44.67,2, -999.00,1, -999.00,9, -999.00,9,-999.000,-999.0000,9,-999.0000,9,-999.0000,9,-999.0000,9,-999.0000,9,-999.0000,9,-999.0000,9,-999.0000,9,-999.0000,9,   2.9969,     -999.0,9,     -999.0,9,     -999.0,9,     -999.0,9,     -999.0,9,     -999.0,9,     -999.0,9,-999.0000, -999.00
33RO20071215,        P18,      13,          1,          6,      11006,2,20071220,       1120,    17.3330,  -110.0003,       3436,  1732.8,   2.5711,  34.6248,2,  34.6249,2,     69.3,2,    69.2,2,  144.30,2,   41.90,2,    0.00,2,    2.91,2,-999.000,9,-999.000,9,-999.0000,9,  2367.6,2,  2409.6,2,   -999.0,9,  -999.00,   7.4339,2,    25.00,-999.000,9,-999.0000,9, -999.00,9, -999.00,9,  -999.0,9,-999.000,9,-999.000,-999.000,9,-999.000,9,   37.49,2,   43.34,2, -999.00,1, -999.00,9, -999.00,9,-999.000,-999.0000,9,-999.0000,9,-999.0000,9,-999.0000,9,-999.0000,9,-999.0000,9,-999.0000,9,-999.0000,9,-999.0000,9,   2.4489,     -999.0,9,     -999.0,9,     -999.0,9,     -999.0,9,     -999.0,9,     -999.0,9,     -999.0,9,-999.0000, -999.00
33RO20071215,        P18,      13,          1,          5,      11005,2,20071220,       1120,    17.3330,  -110.0003,       3436,  2132.0,   2.0343,  34.6530,2,  34.6534,2,     95.0,2,    95.3,2,  154.50,2,   40.00,2,    0.00,2,    2.72,2,-999.000,9,-999.000,9,-999.0000,9,  2362.9,2,  2435.1,4,   1500.0,2,    20.00,   7.4822,2,    25.00,-999.000,9,-999.0000,9, -999.00,9, -999.00,9,  -999.0,9,-999.000,9,-999.000,-999.000,9,-999.000,9,   37.07,2,   41.36,2, -999.00,1, -999.00,9, -999.00,9,-999.000,-999.0000,9,-999.0000,9,-999.0000,9,-999.0000,9,-999.0000,9,-999.0000,9,-999.0000,9,-999.0000,9,-999.0000,9,   1.8860,     -999.0,9,     -999.0,9,     -999.0,9,     -999.0,9,     -999.0,9,     -999.0,9,     -999.0,9,-999.0000, -999.00
33RO20071215,        P18,      13,          1,          4,      11004,2,20071220,       1120,    17.3330,  -110.0003,       3436,  2531.0,   1.8055,  34.6656,2,  34.6666,2,    109.0,2,   109.6,2,  159.10,6,   39.10,6,    0.00,6,    2.64,2,-999.000,9,-999.000,9,-999.0000,9,  2360.8,2,  2440.1,4,   -999.0,9,  -999.00,   7.5112,2,    25.00,-999.000,9,-999.0000,9, -999.00,9, -999.00,9,  -999.0,9,-999.000,9,-999.000,-999.000,9,-999.000,9,   37.73,2,   40.10,2, -999.00,1, -999.00,9, -999.00,9,-999.000,-999.0000,9,-999.0000,9,-999.0000,9,-999.0000,9,-999.0000,9,-999.0000,9,-999.0000,9,-999.0000,9,-999.0000,9,   1.6259,     -999.0,9,     -999.0,9,     -999.0,9,     -999.0,9,     -999.0,9,     -999.0,9,     -999.0,9,-999.0000, -999.00
33RO20071215,        P18,      13,          1,          3,      11003,2,20071220,       1120,    17.3330,  -110.0003,       3436,  2933.6,   1.7161,  34.6720,2,  34.6724,2,    117.1,2,   116.6,2,  160.70,6,   38.60,6,    0.00,6,    2.58,2,-999.000,9,-999.000,9,-999.0000,9,  2355.5,2,  2441.7,4,   1350.5,2,    20.00,   7.5289,2,    25.00,-999.000,9,-999.0000,9, -999.00,9, -999.00,9,  -999.0,9,-999.000,9,-999.000,-999.000,9,-999.000,9,   37.97,2,   39.58,2, -999.00,1, -999.00,9, -999.00,9,-999.000,-999.0000,9,-999.0000,9,-999.0000,9,-999.0000,9,-999.0000,9,-999.0000,9,-999.0000,9,-999.0000,9,-999.0000,9,   1.5009,     -999.0,9,     -999.0,9,     -999.0,9,     -999.0,9,     -999.0,9,     -999.0,9,     -999.0,9,-999.0000, -999.00
33RO20071215,        P18,      13,          1,          2,      11002,2,20071220,       1120,    17.3330,  -110.0003,       3436,  3333.9,   1.7068,  34.6759,2,  34.6769,2,    122.2,2,   122.4,2,  159.40,6,   38.30,6,    0.00,6,    2.55,2,-999.000,9,-999.000,9,-999.0000,9,  2351.4,2,  2441.6,4,   -999.0,9,  -999.00,   7.5384,2,    25.00,-999.000,9,-999.0000,9, -999.00,9, -999.00,9,  -999.0,9,-999.000,9,-999.000,-999.000,9,-999.000,9,   37.59,2,   39.11,2, -999.00,1, -999.00,9, -999.00,9,-999.000,-999.0000,9,-999.0000,9,-999.0000,9,-999.0000,9,-999.0000,9,-999.0000,9,-999.0000,9,-999.0000,9,-999.0000,9,   1.4524,     -999.0,9,     -999.0,9,     -999.0,9,     -999.0,9,     -999.0,9,     -999.0,9,     -999.0,9,-999.0000, -999.00
33RO20071215,        P18,      13,          1,          1,      11001,2,20071220,       1120,    17.3330,  -110.0003,       3436,  3452.2,   1.7159,  34.6762,2,  34.6773,2,    123.1,2,   122.0,2,  159.30,2,   38.30,2,    0.00,2,    2.54,2,-999.000,9,-999.000,9,-999.0000,9,  2351.4,6,  2444.3,4,   1315.0,2,    20.00,   7.5308,2,    25.00,-999.000,9,-999.0000,9, -999.00,9, -999.00,9,  -999.0,9,-999.000,9,-999.000,-999.000,9,-999.000,9,   37.84,2,   39.73,2, -999.00,1, -999.00,9, -999.00,9,-999.000,-999.0000,9,-999.0000,9,-999.0000,9,-999.0000,9,-999.0000,9,-999.0000,9,-999.0000,9,-999.0000,9,-999.0000,9,   1.4492,     -999.0,9,     -999.0,9,     -999.0,9,     -999.0,9,     -999.0,9,     -999.0,9,     -999.0,9,-999.0000, -999.00