BOTTLE,20220818CCHSIOAMB
EXPOCODE,SECT_ID,STNNBR,CASTNO,SAMPNO,BTLNBR,BTLNBR_FLAG_W,DATE,TIME,LATITUDE,LONGITUDE,DEPTH,CTDPRS,CTDTMP,CTDSAL,CTDSAL_FLAG_W,SALNTY,SALNTY_FLAG_W,CTDOXY,CTDOXY_FLAG_W,OXYGEN,OXYGEN_FLAG_W,SILCAT,SILCAT_FLAG_W,NITRAT,NITRAT_FLAG_W,NITRIT,NITRIT_FLAG_W,PHSPHT,PHSPHT_FLAG_W,CFC-11,CFC-11_FLAG_W,CFC-12,CFC-12_FLAG_W,SF6,SF6_FLAG_W,TCARBN,TCARBN_FLAG_W,ALKALI,ALKALI_FLAG_W,FCO2,FCO2_FLAG_W,FCO2TMP,PH_SWS,PH_SWS_FLAG_W,PH_TMP,TRITUM,TRITUM_FLAG_W,HELIUM,HELIUM_FLAG_W,DELHE3,DELHE3_FLAG_W,DELC13,DELC13_FLAG_W,DELC14,DELC14_FLAG_W,NEON,NEON_FLAG_W,NEONER,CCL4,CCL4_FLAG_W,POC,POC_FLAG_W,DOC,DOC_FLAG_W,TDN,TDN_FLAG_W,DON,DON_FLAG_W,CHLORA,CHLORA_FLAG_W,ARGON,ARGON_FLAG_W,TRITER,CDOM325,CDOM325_FLAG_W,CDOM340,CDOM340_FLAG_W,CDOM380,CDOM380_FLAG_W,CDOM412,CDOM412_FLAG_W,CDOM443,CDOM443_FLAG_W,CDOM490,CDOM490_FLAG_W,CDOM555,CDOM555_FLAG_W,CDOMSL,CDOMSL_FLAG_W,CDOMSN,CDOMSN_FLAG_W,THETA,D18O_NO3,D18O_NO3_FLAG_W,CDOM2C,CDOM2C_FLAG_W,CDOM3C,CDOM3C_FLAG_W,LAB_DEN,LAB_DEN_FLAG_W,DELSI30,DELSI30_FLAG_W,N2,N2_FLAG_W,D15N_NO3,D15N_NO3_FLAG_W,HELIER,DELHER
,,,,,,,,,,,METERS,DBAR,ITS-90,PSS-78,,PSS-78,,UMOL/KG,,UMOL/KG,,UMOL/KG,,UMOL/KG,,UMOL/KG,,UMOL/KG,,PMOL/KG,,PMOL/KG,,FMOL/KG,,UMOL/KG,,UMOL/KG,,UATM,,DEG C,,,DEG C,TU,,NMOL/KG,,PERCNT,,/MILLE,,/MILLE,,NMOL/KG,,NMOL/KG,PMOL/KG,,UG/KG,,UMOL/KG,,UMOL/KG,,UMOL/KG,,UG/KG,,UMOL/KG,,TU,1/M,,1/M,,1/M,,1/M,,1/M,,1/M,,1/M,,1/NM,,1/NM,,DEG C,/MILLE,,,,,,,,/MILLE,,UMOL/KG,,/MILLE,,NMOL/KG,PERCNT
33RO20071215,        P18,      56,          1,         11,      12003,2,20080102,       1614,    -5.4162,  -109.4210,       3495,  1467.4,   3.0781,  34.5967,2,  34.6261,4,    103.4,2,   103.2,2,  113.20,2,   39.30,2,    0.00,2,    2.78,2,-999.000,9,-999.000,9,-999.0000,9,  -999.0,9,  -999.0,9,   -999.0,9,  -999.00,-999.0000,9,  -999.00,-999.000,9,-999.0000,9, -999.00,9, -999.00,9,  -999.0,9,-999.000,9,-999.000,-999.000,9,-999.000,9, -999.00,9, -999.00,9, -999.00,9, -999.00,9, -999.00,9,-999.000,   0.1515,2,   0.1074,2,   0.0578,2,   0.0387,2,   0.0240,2,   0.0101,2,   0.0024,2,   0.0131,2,   0.0161,2,   2.9720,     -999.0,9,     -999.0,9,     -999.0,9,     -999.0,9,     -999.0,9,     -999.0,9,     -999.0,9,-999.0000, -999.00
33RO20071215,        P18,      56,          1,         10,      12032,2,20080102,       1614,    -5.4162,  -109.4210,       3495,  1566.0,   2.8459,  34.6096,2,  34.6242,4,    103.2,2,   103.3,2,  121.00,2,   39.50,2,    0.00,2,    2.79,2,-999.000,9,-999.000,9,-999.0000,9,  2324.6,2,  2389.0,2,   -999.0,9,  -999.00,   7.5082,2,    25.00,-999.000,9,-999.0000,9, -999.00,9, -999.00,9,  -999.0,9,-999.000,9,-999.000,-999.000,9,-999.000,9, -999.00,9, -999.00,9, -999.00,9, -999.00,9, -999.00,9,-999.000,   0.1445,2,   0.1009,2,   0.0526,2,   0.0337,2,   0.0198,2,   0.0069,2,   0.0004,3,   0.0133,2,   0.0174,2,   2.7343,     -999.0,9,     -999.0,9,     -999.0,9,     -999.0,9,     -999.0,9,     -999.0,9,     -999.0,9,-999.0000, -999.00
33RO20071215,        P18,      56,          1,          9,      12002,2,20080102,       1614,    -5.4162,  -109.4210,       3495,  1733.5,   2.5799,  34.6249,2,  34.6253,2,    105.5,2,   106.8,2,  129.40,2,   39.30,2,    0.00,2,    2.77,2,-999.000,9,-999.000,9,-999.0000,9,  -999.0,9,  -999.0,9,   -999.0,9,  -999.00,-999.0000,9,  -999.00,-999.000,9,-999.0000,9, -999.00,9, -999.00,9,  -999.0,9,-999.000,9,-999.000,-999.000,9,-999.000,9, -999.00,9, -999.00,9, -999.00,9, -999.00,9, -999.00,9,-999.000,   0.1484,2,   0.1041,2,   0.0543,2,   0.0347,2,   0.0202,2,   0.0074,2,   0.0006,4,   0.0135,2,   0.0173,2,   2.4575,     -999.0,9,     -999.0,9,     -999.0,9,     -999.0,9,     -999.0,9,     -999.0,9,     -999.0,9,-999.0000, -999.00
33RO20071215,        P18,      56,          1,          8,      12021,2,20080102,       1614,    -5.4162,  -109.4210,       3495,  1934.5,   2.3492,  34.6388,2,  34.6400,2,    110.5,2,   110.6,2,  135.80,2,   39.10,2,    0.00,2,    2.74,2,-999.000,9,-999.000,9,-999.0000,9,  2335.4,2,  -999.0,9,   -999.0,9,  -999.00,-999.0000,9,  -999.00,-999.000,9,-999.0000,9, -999.00,9, -999.00,9,  -999.0,9,-999.000,9,-999.000,-999.000,9,-999.000,9, -999.00,9, -999.00,9, -999.00,9, -999.00,9, -999.00,9,-999.000,   0.1480,2,   0.1040,2,   0.0542,2,   0.0343,2,   0.0199,2,   0.0075,2,   0.0008,2,   0.0134,2,   0.0174,2,   2.2131,     -999.0,9,     -999.0,9,     -999.0,9,     -999.0,9,     -999.0,9,     -999.0,9,     -999.0,9,-999.0000, -999.00
33RO20071215,        P18,      56,          1,          7,      12001,2,20080102,       1614,    -5.4162,  -109.4210,       3495,  2134.0,   2.2011,  34.6500,2,  34.6503,2,    110.4,2,   110.5,2,  142.70,2,   39.10,2,    0.00,2,    2.74,2,-999.000,9,-999.000,9,-999.0000,9,  -999.0,9,  -999.0,9,   -999.0,9,  -999.00,-999.0000,9,  -999.00,-999.000,9,-999.0000,9, -999.00,9, -999.00,9,  -999.0,9,-999.000,9,-999.000,-999.000,9,-999.000,9, -999.00,9, -999.00,9, -999.00,9, -999.00,9, -999.00,9,-999.000,   0.1503,2,   0.1057,2,   0.0546,2,   0.0336,2,   0.0189,2,   0.0068,2,   0.0001,3,   0.0118,2,   0.0178,2,   2.0499,     -999.0,9,     -999.0,9,     -999.0,9,     -999.0,9,     -999.0,9,     -999.0,9,     -999.0,9,-999.0000, -999.00
33RO20071215,        P18,      56,          1,          6,      12033,2,20080102,       1614,    -5.4162,  -109.4210,       3495,  2333.8,   2.0486,  34.6588,2,  34.6636,3,    115.7,2,   115.8,2,  145.90,2,   38.60,2,    0.00,2,    2.70,2,-999.000,9,-999.000,9,-999.0000,9,  2342.7,2,  2415.3,2,   -999.0,9,  -999.00,   7.5062,2,    25.00,-999.000,9,-999.0000,9, -999.00,9, -999.00,9,  -999.0,9,-999.000,9,-999.000,-999.000,9,-999.000,9, -999.00,9, -999.00,9, -999.00,9, -999.00,9, -999.00,9,-999.000,   0.1494,2,   0.1051,2,   0.0535,2,   0.0324,2,   0.0180,2,   0.0066,2,   0.0000,4,   0.0117,2,   0.0181,2,   1.8824,     -999.0,9,     -999.0,9,     -999.0,9,     -999.0,9,     -999.0,9,     -999.0,9,     -999.0,9,-999.0000, -999.00
33RO20071215,        P18,      56,          1,          5,      12008,2,20080102,       1614,    -5.4162,  -109.4210,       3495,  2533.4,   1.8676,  34.6686,2,  34.6718,3,    127.8,2,   127.7,2,  146.50,2,   38.00,2,    0.00,2,    2.63,2,-999.000,9,-999.000,9,-999.0000,9,  -999.0,9,  -999.0,9,   -999.0,9,  -999.00,-999.0000,9,  -999.00,-999.000,9,-999.0000,9, -999.00,9, -999.00,9,  -999.0,9,-999.000,9,-999.000,-999.000,9,-999.000,9, -999.00,9, -999.00,9, -999.00,9, -999.00,9, -999.00,9,-999.000,   0.1319,2,   0.0909,2,   0.0441,2,   0.0242,2,   0.0125,2,   0.0040,2,  -0.0013,4,   0.0093,2,   0.0200,2,   1.6866,     -999.0,9,     -999.0,9,     -999.0,9,     -999.0,9,     -999.0,9,     -999.0,9,     -999.0,9,-999.0000, -999.00
33RO20071215,        P18,      56,          1,          4,      12009,2,20080102,       1614,    -5.4162,  -109.4210,       3495,  2733.7,   1.7803,  34.6752,2,  34.6757,2,    134.5,2,   134.9,2,  146.30,6,   37.40,6,    0.00,6,    2.58,2,-999.000,9,-999.000,9,-999.0000,9,  2334.3,2,  -999.0,9,   -999.0,9,  -999.00,-999.0000,9,  -999.00,-999.000,9,-999.0000,9, -999.00,9, -999.00,9,  -999.0,9,-999.000,9,-999.000,-999.000,9,-999.000,9, -999.00,9, -999.00,9, -999.00,9, -999.00,9, -999.00,9,-999.000,   0.1179,2,   0.0792,2,   0.0358,2,   0.0169,2,   0.0070,2,   0.0007,2,  -0.0033,4,   0.0072,2,   0.0224,2,   1.5826,     -999.0,9,     -999.0,9,     -999.0,9,     -999.0,9,     -999.0,9,     -999.0,9,     -999.0,9,-999.0000, -999.00
33RO20071215,        P18,      56,          1,          3,      12006,2,20080102,       1614,    -5.4162,  -109.4210,       3495,  2932.8,   1.7400,  34.6779,2,  34.6813,2,    137.7,2,   139.0,2,  146.70,6,   37.10,6,    0.00,6,    2.56,2,-999.000,9,-999.000,9,-999.0000,9,  -999.0,9,  -999.0,9,   -999.0,9,  -999.00,-999.0000,9,  -999.00,-999.000,9,-999.0000,9, -999.00,9, -999.00,9,  -999.0,9,-999.000,9,-999.000,-999.000,9,-999.000,9, -999.00,9, -999.00,9, -999.00,9, -999.00,9, -999.00,9,-999.000,   0.1379,2,   0.0966,2,   0.0483,2,   0.0269,2,   0.0153,2,   0.0070,2,   0.0005,4,   0.0104,2,   0.0189,2,   1.5243,     -999.0,9,     -999.0,9,     -999.0,9,     -999.0,9,     -999.0,9,     -999.0,9,     -999.0,9,-999.0000, -999.00
33RO20071215,        P18,      56,          1,          2,      12007,2,20080102,       1614,    -5.4162,  -109.4210,       3495,  3166.5,   1.6074,  34.6846,2,  34.6862,2,    147.1,2,   147.6,2,  147.40,6,   36.70,6,    0.00,6,    2.52,2,-999.000,9,-999.000,9,-999.0000,9,  2331.6,2,  2421.3,2,   -999.0,9,  -999.00,   7.5873,2,    25.00,-999.000,9,-999.0000,9, -999.00,9, -999.00,9,  -999.0,9,-999.000,9,-999.000,-999.000,9,-999.000,9, -999.00,9, -999.00,9, -999.00,9, -999.00,9, -999.00,9,-999.000,   0.1243,2,   0.0851,2,   0.0393,2,   0.0192,2,   0.0089,2,   0.0028,2,  -0.0022,4,   0.0096,2,   0.0215,2,   1.3720,     -999.0,9,     -999.0,9,     -999.0,9,     -999.0,9,     -999.0,9,     -999.0,9,     -999.0,9,-999.0000, -999.00
33RO20071215,        P18,      56,          1,          1,      12035,2,20080102,       1614,    -5.4162,  -109.4210,       3495,  3514.8,   1.5838,  34.6876,2,  34.6881,2,    152.1,2,   151.1,2,  147.30,2,   36.50,2,    0.00,2,    2.50,2,-999.000,9,-999.000,9,-999.0000,9,  2329.4,2,  2431.5,2,   -999.0,9,  -999.00,   7.5886,2,    25.00,-999.000,9,-999.0000,9, -999.00,9, -999.00,9,  -999.0,9,-999.000,9,-999.000,-999.000,9,-999.000,9, -999.00,9, -999.00,9, -999.00,9, -999.00,9, -999.00,9,-999.000,   0.1243,2,   0.0851,2,   0.0413,2,   0.0210,3,   0.0105,3,   0.0032,3,  -0.0017,4,   0.0205,2,   0.0205,2,   1.3140,     -999.0,9,     -999.0,9,     -999.0,9,     -999.0,9,     -999.0,9,     -999.0,9,     -999.0,9,-999.0000, -999.00