BOTTLE,20220818CCHSIOAMB
EXPOCODE,SECT_ID,STNNBR,CASTNO,SAMPNO,BTLNBR,BTLNBR_FLAG_W,DATE,TIME,LATITUDE,LONGITUDE,DEPTH,CTDPRS,CTDTMP,CTDSAL,CTDSAL_FLAG_W,SALNTY,SALNTY_FLAG_W,CTDOXY,CTDOXY_FLAG_W,OXYGEN,OXYGEN_FLAG_W,SILCAT,SILCAT_FLAG_W,NITRAT,NITRAT_FLAG_W,NITRIT,NITRIT_FLAG_W,PHSPHT,PHSPHT_FLAG_W,CFC-11,CFC-11_FLAG_W,CFC-12,CFC-12_FLAG_W,SF6,SF6_FLAG_W,TCARBN,TCARBN_FLAG_W,ALKALI,ALKALI_FLAG_W,FCO2,FCO2_FLAG_W,FCO2TMP,PH_SWS,PH_SWS_FLAG_W,PH_TMP,TRITUM,TRITUM_FLAG_W,HELIUM,HELIUM_FLAG_W,DELHE3,DELHE3_FLAG_W,DELC13,DELC13_FLAG_W,DELC14,DELC14_FLAG_W,NEON,NEON_FLAG_W,NEONER,CCL4,CCL4_FLAG_W,POC,POC_FLAG_W,DOC,DOC_FLAG_W,TDN,TDN_FLAG_W,DON,DON_FLAG_W,CHLORA,CHLORA_FLAG_W,ARGON,ARGON_FLAG_W,TRITER,CDOM325,CDOM325_FLAG_W,CDOM340,CDOM340_FLAG_W,CDOM380,CDOM380_FLAG_W,CDOM412,CDOM412_FLAG_W,CDOM443,CDOM443_FLAG_W,CDOM490,CDOM490_FLAG_W,CDOM555,CDOM555_FLAG_W,CDOMSL,CDOMSL_FLAG_W,CDOMSN,CDOMSN_FLAG_W,THETA,D18O_NO3,D18O_NO3_FLAG_W,CDOM2C,CDOM2C_FLAG_W,CDOM3C,CDOM3C_FLAG_W,LAB_DEN,LAB_DEN_FLAG_W,DELSI30,DELSI30_FLAG_W,N2,N2_FLAG_W,D15N_NO3,D15N_NO3_FLAG_W,HELIER,DELHER
,,,,,,,,,,,METERS,DBAR,ITS-90,PSS-78,,PSS-78,,UMOL/KG,,UMOL/KG,,UMOL/KG,,UMOL/KG,,UMOL/KG,,UMOL/KG,,PMOL/KG,,PMOL/KG,,FMOL/KG,,UMOL/KG,,UMOL/KG,,UATM,,DEG C,,,DEG C,TU,,NMOL/KG,,PERCNT,,/MILLE,,/MILLE,,NMOL/KG,,NMOL/KG,PMOL/KG,,UG/KG,,UMOL/KG,,UMOL/KG,,UMOL/KG,,UG/KG,,UMOL/KG,,TU,1/M,,1/M,,1/M,,1/M,,1/M,,1/M,,1/M,,1/NM,,1/NM,,DEG C,/MILLE,,,,,,,,/MILLE,,UMOL/KG,,/MILLE,,NMOL/KG,PERCNT
33RO20071215,        P18,     118,          1,         36,      12017,2,20080128,       1023,   -39.7520,  -103.0008,       4096,     5.1,  18.2946,  34.0299,2,  34.0314,2,    240.7,2,   241.9,2,    0.80,2,    7.90,2,    0.22,2,    0.57,2,-999.000,9,-999.000,9,-999.0000,9,  2039.3,6,  2261.6,2,    451.6,2,    20.00,   7.9111,2,    25.00,-999.000,9,-999.0000,9, -999.00,9, -999.00,9,  -999.0,9,-999.000,9,-999.000,-999.000,9,-999.000,9,   57.40,2,   12.02,2, -999.00,9,    0.05,2, -999.00,9,-999.000,   0.0609,2,   0.0383,2,   0.0157,2,   0.0135,2,   0.0074,2,   0.0020,2,  -0.0005,4,   0.0046,2,   0.0238,2,  18.2937,     -999.0,9,     -999.0,9,     -999.0,9,     -999.0,9,     -999.0,9,     -999.0,9,     -999.0,9,-999.0000, -999.00
33RO20071215,        P18,     118,          1,         35,      12029,2,20080128,       1023,   -39.7520,  -103.0008,       4096,     9.6,  18.2089,  34.0314,2,  34.0417,2,    240.7,2,   241.9,2,    0.80,2,    8.00,2,    0.22,2,    0.57,2,   2.484,2,   1.497,2,   1.4161,2,  2039.3,2,  -999.0,9,    454.1,2,    20.00,   7.9116,2,    25.00,-999.000,9,-999.0000,9, -999.00,9,    1.75,2,  -999.0,1,-999.000,9,-999.000,-999.000,9,-999.000,9,   57.27,2,   11.88,2, -999.00,9,    0.06,2, -999.00,1,-999.000,   0.0547,2,   0.0348,2,   0.0159,2,   0.0137,2,   0.0077,2,   0.0024,2,  -0.0003,4,   0.0053,2,   0.0208,2,  18.2073,     -999.0,1,     -999.0,9,     -999.0,9,     -999.0,9,     -999.0,9,     -999.0,1,     -999.0,9,-999.0000, -999.00
33RO20071215,        P18,     118,          1,         34,      12049,2,20080128,       1023,   -39.7520,  -103.0008,       4096,    25.2,  17.6542,  34.0454,2,  34.0499,2,    243.9,2,   247.4,2,    0.90,2,    8.50,2,    0.21,2,    0.62,2,-999.000,9,-999.000,9,-999.0000,9,  2042.5,2,  -999.0,9,    461.2,2,    20.00,   7.8985,2,    25.00,-999.000,9,-999.0000,9, -999.00,9, -999.00,9,  -999.0,9,-999.000,9,-999.000,-999.000,9,-999.000,9,   56.42,2,   12.07,2, -999.00,9,    0.08,2, -999.00,9,-999.000,   0.0636,2,   0.0406,2,   0.0182,2,   0.0153,2,   0.0090,2,   0.0032,2,   0.0002,4,   0.0063,2,   0.0207,2,  17.6499,     -999.0,9,     -999.0,9,     -999.0,9,     -999.0,9,     -999.0,9,     -999.0,9,     -999.0,9,-999.0000, -999.00
33RO20071215,        P18,     118,          1,         33,      12027,2,20080128,       1023,   -39.7520,  -103.0008,       4096,    49.9,  13.6388,  34.0672,2,  34.0203,2,    279.3,2,   282.2,2,    0.90,2,    8.10,2,    0.11,2,    0.60,2,   3.246,2,   1.880,2,   1.5554,2,  2051.6,2,  -999.0,9,   -999.0,9,  -999.00,   7.8956,2,    25.00,-999.000,9,-999.0000,9, -999.00,9,    1.76,2,  -999.0,1,-999.000,9,-999.000,-999.000,9,-999.000,1,   56.06,2,   11.57,2, -999.00,9,    0.13,2, -999.00,9,-999.000,   0.0817,2,   0.0524,2,   0.0235,2,   0.0170,2,   0.0099,2,   0.0041,2,   0.0006,2,   0.0077,2,   0.0212,2,  13.6318,     -999.0,9,     -999.0,9,     -999.0,9,     -999.0,9,     -999.0,9,     -999.0,9,     -999.0,9,-999.0000, -999.00
33RO20071215,        P18,     118,          1,         32,      12023,2,20080128,       1023,   -39.7520,  -103.0008,       4096,    75.3,  11.4087,  34.0198,2,  34.0148,2,    282.8,2,   282.3,2,    1.20,2,   10.70,2,    0.17,2,    0.74,2,-999.000,9,-999.000,9,-999.0000,9,  2061.4,2,  -999.0,9,    513.3,2,    20.00,   7.8694,2,    25.00,-999.000,9,-999.0000,9, -999.00,9, -999.00,9,  -999.0,9,-999.000,9,-999.000,-999.000,9,-999.000,9,   53.37,2,   13.43,2, -999.00,9,    0.15,2, -999.00,9,-999.000,   0.0916,2,   0.0620,2,   0.0298,2,   0.0214,2,   0.0121,2,   0.0047,2,   0.0008,2,   0.0088,2,   0.0187,2,  11.3993,     -999.0,9,     -999.0,9,     -999.0,9,     -999.0,9,     -999.0,9,     -999.0,9,     -999.0,9,-999.0000, -999.00
33RO20071215,        P18,     118,          1,         31,      12037,2,20080128,       1023,   -39.7520,  -103.0008,       4096,   100.2,  10.8945,  34.0145,2,  34.0244,2,    275.9,2,   276.7,2,    1.30,2,   11.80,2,    0.24,2,    0.82,2,   3.525,2,   2.028,2,   1.9293,3,  2070.1,2,  -999.0,9,   -999.0,9,  -999.00,   7.8522,2,    25.00,-999.000,9,-999.0000,9, -999.00,9,    1.59,2,  -999.0,1,-999.000,9,-999.000,-999.000,9,-999.000,9,   51.80,2,   14.81,2, -999.00,9,    0.17,2, -999.00,9,-999.000,   0.0773,2,   0.0517,2,   0.0265,2,   0.0204,2,   0.0116,2,   0.0042,2,   0.0006,3,   0.0078,2,   0.0172,2,  10.8824,     -999.0,9,     -999.0,9,     -999.0,9,     -999.0,9,     -999.0,9,     -999.0,9,     -999.0,9,-999.0000, -999.00
33RO20071215,        P18,     118,          1,         30,      12036,2,20080128,       1023,   -39.7520,  -103.0008,       4096,   124.8,  10.4184,  34.0242,2,  34.0293,2,    272.1,2,   274.3,2,    1.40,2,   12.30,2,    0.33,2,    0.90,2,   3.592,2,   2.053,2,   1.4626,2,  2077.5,2,  -999.0,9,    561.1,2,    20.00,   7.8461,2,    25.00,-999.000,9,-999.0000,9, -999.00,9, -999.00,9,  -999.0,9,-999.000,9,-999.000,-999.000,9,-999.000,9,   50.08,2,   15.50,2, -999.00,9,    0.14,2, -999.00,9,-999.000,   0.0731,2,   0.0495,2,   0.0254,2,   0.0200,2,   0.0113,2,   0.0037,2,   0.0002,4,   0.0075,2,   0.0168,2,  10.4038,     -999.0,9,     -999.0,9,     -999.0,9,     -999.0,9,     -999.0,9,     -999.0,9,     -999.0,9,-999.0000, -999.00
33RO20071215,        P18,     118,          1,         29,      12044,2,20080128,       1023,   -39.7520,  -103.0008,       4096,   149.5,   9.9509,  34.0343,2,  34.0386,2,    271.3,2,   272.4,2,    1.50,2,   13.30,2,    0.70,2,    0.97,2,   3.718,2,   2.125,2,   1.6632,2,  2082.0,2,  -999.0,9,   -999.0,9,  -999.00,   7.8074,2,    25.00,-999.000,9,-999.0000,9, -999.00,9,    1.48,2,  -999.0,1,-999.000,9,-999.000,-999.000,9,-999.000,9,   46.78,2,   16.33,2, -999.00,9,    0.08,2, -999.00,9,-999.000,   0.0678,2,   0.0455,2,   0.0232,2,   0.0177,2,   0.0095,2,   0.0027,2,  -0.0002,4,   0.0070,2,   0.0175,2,   9.9339,     -999.0,9,     -999.0,9,     -999.0,9,     -999.0,9,     -999.0,9,     -999.0,9,     -999.0,9,-999.0000, -999.00
33RO20071215,        P18,     118,          1,         28,      12057,2,20080128,       1023,   -39.7520,  -103.0008,       4096,   174.5,   9.3322,  34.0919,2,  34.0911,2,    263.7,2,   263.7,2,    1.90,2,   15.50,2,    0.36,2,    1.06,2,-999.000,9,-999.000,9,-999.0000,9,  2097.7,2,  -999.0,9,    627.8,2,    20.00,   7.7930,2,    25.00,-999.000,9,-999.0000,9, -999.00,9, -999.00,9,  -999.0,9,-999.000,9,-999.000,-999.000,9,-999.000,9,   44.81,2,   18.44,2, -999.00,9,    0.07,2, -999.00,9,-999.000,   0.0738,2,   0.0493,2,   0.0249,2,   0.0194,2,   0.0102,2,   0.0032,2,   0.0001,4,   0.0094,2,   0.0176,2,   9.3130,     -999.0,9,     -999.0,9,     -999.0,9,     -999.0,9,     -999.0,9,     -999.0,9,     -999.0,9,-999.0000, -999.00
33RO20071215,        P18,     118,          1,         27,      12026,2,20080128,       1023,   -39.7520,  -103.0008,       4096,   200.1,   8.3493,  34.1190,2,  34.1381,2,    259.1,2,   259.0,2,    2.70,2,   18.00,2,    0.03,2,    1.19,2,   3.989,2,   2.216,2,   1.5794,2,  2110.3,2,  -999.0,9,   -999.0,9,  -999.00,   7.7479,2,    25.00,-999.000,9,-999.0000,9, -999.00,9,    1.33,2,  -999.0,1,-999.000,9,-999.000,-999.000,9,-999.000,9,   44.47,2,   20.45,2, -999.00,9,    0.04,2, -999.00,9,-999.000,   0.0737,2,   0.0476,2,   0.0246,2,   0.0200,2,   0.0106,2,   0.0037,2,   0.0006,2,   0.0092,2,   0.0175,2,   8.3288,     -999.0,9,     -999.0,9,     -999.0,9,     -999.0,9,     -999.0,9,     -999.0,9,     -999.0,9,-999.0000, -999.00
33RO20071215,        P18,     118,          1,         26,      12030,2,20080128,       1023,   -39.7520,  -103.0008,       4096,   250.4,   7.3954,  34.2207,2,  34.2187,2,    251.5,2,   253.3,2,    4.20,2,   20.30,2,    0.01,2,    1.34,2,-999.000,9,-999.000,9,-999.0000,9,  2130.5,2,  -999.0,9,    734.9,2,    20.00,   7.7419,2,    25.00,-999.000,9,-999.0000,9, -999.00,9,    1.18,2,  -999.0,1,-999.000,9,-999.000,-999.000,9,-999.000,9,   44.02,2,   23.01,2, -999.00,9,    0.01,2, -999.00,9,-999.000,   0.0722,2,   0.0457,2,   0.0226,2,   0.0179,2,   0.0094,2,   0.0031,2,   0.0003,4,   0.0092,2,   0.0191,2,   7.3714,     -999.0,9,     -999.0,9,     -999.0,9,     -999.0,9,     -999.0,9,     -999.0,9,     -999.0,9,-999.0000, -999.00
33RO20071215,        P18,     118,          1,         25,      12024,2,20080128,       1023,   -39.7520,  -103.0008,       4096,   299.4,   6.9211,  34.2795,2,  34.2811,2,    249.8,2,   251.0,2,    5.80,2,   21.60,2,    0.00,2,    1.41,2,   4.093,2,   2.168,2,   1.2016,2,  2140.3,2,  -999.0,9,    764.2,2,    20.00,   7.7222,2,    25.00,-999.000,9,-999.0000,9, -999.00,9,     1.2,2,  -999.0,1,-999.000,9,-999.000,-999.000,9,-999.000,9,   43.40,2,   22.82,2, -999.00,9, -999.00,9, -999.00,9,-999.000,   0.0720,2,   0.0457,2,   0.0223,2,   0.0166,2,   0.0087,2,   0.0027,2,  -0.0001,4,   0.0093,2,   0.0198,2,   6.8934,     -999.0,9,     -999.0,9,     -999.0,9,     -999.0,9,     -999.0,9,     -999.0,9,     -999.0,9,-999.0000, -999.00
33RO20071215,        P18,     118,          1,         24,      12019,2,20080128,       1023,   -39.7520,  -103.0008,       4096,   349.5,   6.7202,  34.3130,2,  34.3141,2,    251.6,2,   252.7,2,    6.70,2,   22.00,2,    0.00,2,    1.45,2,-999.000,9,-999.000,9,-999.0000,9,  2138.4,6,  -999.0,9,    758.8,2,    20.00,   7.7203,2,    25.00,-999.000,9,-999.0000,9, -999.00,9, -999.00,9,  -999.0,9,-999.000,9,-999.000,-999.000,9,-999.000,9,   42.80,2,   23.72,2, -999.00,9, -999.00,9, -999.00,9,-999.000,-999.0000,5,-999.0000,5,-999.0000,5,-999.0000,5,-999.0000,5,-999.0000,5,-999.0000,5,-999.0000,5,-999.0000,5,   6.6882,     -999.0,9,     -999.0,9,     -999.0,9,     -999.0,9,     -999.0,9,     -999.0,9,     -999.0,9,-999.0000, -999.00
33RO20071215,        P18,     118,          1,         23,      12022,2,20080128,       1023,   -39.7520,  -103.0008,       4096,   399.9,   6.4989,  34.3156,2,  34.3155,2,    255.3,2,   256.9,2,    7.60,2,   22.30,2,    0.00,2,    1.47,2,   4.036,6,   2.102,6,   1.0818,6,  2140.1,2,  -999.0,9,    758.7,2,    20.00,   7.7189,2,    25.00,-999.000,9,-999.0000,9, -999.00,9,    1.16,2,  -999.0,1,-999.000,9,-999.000,-999.000,9,-999.000,9,   42.16,2,   23.42,2, -999.00,9, -999.00,9, -999.00,9,-999.000,   0.0670,2,   0.0411,2,   0.0185,2,   0.0132,2,   0.0069,2,   0.0023,2,   0.0002,3,   0.0091,2,   0.0227,2,   6.4629,     -999.0,9,     -999.0,9,     -999.0,9,     -999.0,9,     -999.0,9,     -999.0,9,     -999.0,9,-999.0000, -999.00
33RO20071215,        P18,     118,          1,         22,      12015,2,20080128,       1023,   -39.7520,  -103.0008,       4096,   498.4,   6.1712,  34.2989,2,  34.2998,2,    255.9,2,   258.2,2,    8.60,2,   23.00,2,    0.00,2,    1.50,2,-999.000,9,-999.000,9,-999.0000,9,  2140.5,2,  -999.0,9,    768.3,2,    20.00,   7.7157,2,    25.00,-999.000,9,-999.0000,9, -999.00,9,    1.18,2,  -999.0,1,-999.000,9,-999.000,-999.000,9,-999.000,1,   41.63,2,   24.07,2, -999.00,9, -999.00,9, -999.00,9,-999.000,   0.0637,2,   0.0381,2,   0.0166,2,   0.0113,2,   0.0054,2,   0.0016,2,  -0.0002,4,   0.0192,2,   0.0248,2,   6.1272,     -999.0,9,     -999.0,9,     -999.0,9,     -999.0,9,     -999.0,9,     -999.0,9,     -999.0,9,-999.0000, -999.00
33RO20071215,        P18,     118,          1,         21,      12020,2,20080128,       1023,   -39.7520,  -103.0008,       4096,   600.0,   5.8546,  34.2812,2,  34.2816,2,    253.0,2,   255.1,2,   10.00,2,   24.10,2,    0.00,2,    1.58,2,   3.558,2,   1.802,2,   0.8552,2,  2142.9,2,  -999.0,9,    784.6,6,    20.00,   7.7112,2,    25.00,-999.000,9,-999.0000,9, -999.00,9,     1.2,2,  -999.0,1,-999.000,9,-999.000,-999.000,9,-999.000,9,   41.07,2,   25.35,2, -999.00,9, -999.00,9, -999.00,9,-999.000,   0.0703,2,   0.0434,2,   0.0200,2,   0.0138,2,   0.0075,2,   0.0027,2,   0.0003,3,   0.0176,2,   0.0222,2,   5.8026,     -999.0,9,     -999.0,9,     -999.0,9,     -999.0,9,     -999.0,9,     -999.0,9,     -999.0,9,-999.0000, -999.00
33RO20071215,        P18,     118,          1,         20,      12055,2,20080128,       1023,   -39.7520,  -103.0008,       4096,   650.9,   5.6802,  34.2705,2,  34.2711,2,    252.0,2,   253.0,2,   11.00,2,   24.60,2,    0.00,2,    1.62,2,-999.000,9,-999.000,9,-999.0000,9,  2143.7,2,  -999.0,9,   -999.0,9,  -999.00,   7.7042,2,    25.00,-999.000,9,-999.0000,9, -999.00,9, -999.00,9,  -999.0,9,-999.000,9,-999.000,-999.000,9,-999.000,9,   40.36,2,   26.05,2, -999.00,9, -999.00,9, -999.00,9,-999.000,   0.0652,2,   0.0391,2,   0.0172,2,   0.0116,2,   0.0057,2,   0.0014,2,  -0.0005,4,   0.0191,2,   0.0245,2,   5.6245,     -999.0,9,     -999.0,9,     -999.0,9,     -999.0,9,     -999.0,9,     -999.0,9,     -999.0,9,-999.0000, -999.00
33RO20071215,        P18,     118,          1,         19,      12018,2,20080128,       1023,   -39.7520,  -103.0008,       4096,   799.5,   5.0937,  34.2680,2,  34.2680,2,    230.8,2,   231.7,2,   17.40,2,   27.70,2,    0.00,2,    1.85,2,   2.292,2,   1.144,2,   0.4051,2,  2164.7,2,  -999.0,9,    875.7,2,    20.00,   7.6722,2,    25.00,-999.000,9,-999.0000,9, -999.00,9,     1.1,2,  -999.0,1,-999.000,9,-999.000,-999.000,9,-999.000,9,   39.80,2,   28.67,2, -999.00,9, -999.00,9, -999.00,9,-999.000,   0.0741,2,   0.0458,2,   0.0212,2,   0.0143,2,   0.0076,2,   0.0025,2,   0.0000,4,   0.0097,2,   0.0221,2,   5.0280,     -999.0,9,     -999.0,9,     -999.0,9,     -999.0,9,     -999.0,9,     -999.0,9,     -999.0,9,-999.0000, -999.00
33RO20071215,        P18,     118,          1,         18,      12025,4,20080128,       1023,   -39.7520,  -103.0008,       4096,   898.3,   4.6532,  34.2818,2,  34.2688,3,    215.3,2,   231.9,4,   17.40,2,   27.70,2,    0.00,2,    1.85,2,-999.000,9,-999.000,9,-999.0000,9,  2163.1,2,  -999.0,9,   -999.0,9,  -999.00,   7.5317,2,    25.00,-999.000,9,-999.0000,9, -999.00,9, -999.00,9,  -999.0,9,-999.000,9,-999.000,-999.000,9,-999.000,9,   39.12,3,   29.13,4, -999.00,9, -999.00,9, -999.00,9,-999.000,   0.0834,2,   0.0553,2,   0.0239,2,   0.0165,2,   0.0089,2,   0.0020,2,  -0.0011,4,   0.0175,2,   0.0210,2,   4.5817,     -999.0,9,     -999.0,9,     -999.0,9,     -999.0,9,     -999.0,9,     -999.0,9,     -999.0,9,-999.0000, -999.00
33RO20071215,        P18,     118,          1,         17,      12016,2,20080128,       1023,   -39.7520,  -103.0008,       4096,   999.5,   4.1461,  34.3099,2,  34.3091,2,    199.1,2,   200.4,2,   33.10,2,   31.80,2,    0.00,2,    2.17,2,   0.806,2,   0.422,2,   0.1077,2,  2196.1,2,  -999.0,9,   1018.3,2,    20.00,   7.6179,2,    25.00,-999.000,9,-999.0000,9, -999.00,9,    0.88,2,  -999.0,1,-999.000,9,-999.000,-999.000,9,-999.000,1,   37.90,2,   32.91,2, -999.00,9, -999.00,9, -999.00,9,-999.000,   0.0858,2,   0.0537,2,   0.0253,2,   0.0169,2,   0.0093,2,   0.0025,2,  -0.0006,4,   0.0171,2,   0.0211,2,   4.0697,     -999.0,9,     -999.0,9,     -999.0,9,     -999.0,9,     -999.0,9,     -999.0,9,     -999.0,9,-999.0000, -999.00
33RO20071215,        P18,     118,          1,         16,      12051,2,20080128,       1023,   -39.7520,  -103.0008,       4096,  1100.8,   3.7623,  34.3456,2,  34.3455,2,    187.2,2,   184.9,2,   42.50,2,   33.50,2,    0.00,2,    2.29,2,-999.000,9,-999.000,9,-999.0000,9,  2215.2,2,  -999.0,9,   -999.0,9,  -999.00,   7.5849,2,    25.00,-999.000,9,-999.0000,9, -999.00,9, -999.00,9,  -999.0,9,-999.000,9,-999.000,-999.000,9,-999.000,9,   36.95,2,   35.10,2, -999.00,9, -999.00,9, -999.00,9,-999.000,   0.0949,2,   0.0607,2,   0.0294,2,   0.0201,2,   0.0114,2,   0.0035,2,  -0.0002,4,   0.0164,2,   0.0197,2,   3.6805,     -999.0,9,     -999.0,9,     -999.0,9,     -999.0,9,     -999.0,9,     -999.0,9,     -999.0,9,-999.0000, -999.00
33RO20071215,        P18,     118,          1,         15,      12014,2,20080128,       1023,   -39.7520,  -103.0008,       4096,  1199.9,   3.4735,  34.3962,2,  34.3967,2,    164.9,2,   165.3,2,   54.10,2,   35.20,2,    0.00,2,    2.45,2,   0.145,2,   0.084,2,   0.0000,2,  2234.8,2,  -999.0,9,   1182.9,2,    20.00,   7.5590,2,    25.00,-999.000,9,-999.0000,9, -999.00,9, -999.00,9,  -999.0,9,-999.000,9,-999.000,-999.000,9,-999.000,9,   36.34,2,   36.58,2, -999.00,9, -999.00,9, -999.00,9,-999.000,   0.1035,2,   0.0674,2,   0.0338,2,   0.0229,2,   0.0133,2,   0.0042,2,   0.0001,4,   0.0160,2,   0.0187,2,   3.3859,     -999.0,9,     -999.0,9,     -999.0,9,     -999.0,9,     -999.0,9,     -999.0,9,     -999.0,9,-999.0000, -999.00
33RO20071215,        P18,     118,          1,         14,      12013,2,20080128,       1023,   -39.7520,  -103.0008,       4096,  1399.6,   3.0926,  34.4964,2,  34.4964,2,    139.8,2,   140.9,2,   75.60,2,   36.90,2,    0.00,2,    2.60,2,-999.000,9,-999.000,9,-999.0000,9,  2270.2,6,  2339.6,2,   -999.0,9,  -999.00,   7.5312,2,    25.00,-999.000,9,-999.0000,9, -999.00,9,    0.34,2,  -999.0,1,-999.000,9,-999.000,-999.000,9,-999.000,9,   36.46,2,   38.37,2, -999.00,9, -999.00,9, -999.00,9,-999.000,   0.1154,2,   0.0764,2,   0.0381,2,   0.0258,2,   0.0153,2,   0.0051,2,   0.0007,2,   0.0161,2,   0.0184,2,   2.9922,     -999.0,9,     -999.0,9,     -999.0,9,     -999.0,9,     -999.0,9,     -999.0,9,     -999.0,9,-999.0000, -999.00
33RO20071215,        P18,     118,          1,         13,      12012,2,20080128,       1023,   -39.7520,  -103.0008,       4096,  1600.1,   2.7352,  34.5543,2,  34.5555,2,    144.0,2,   145.1,2,   86.60,2,   36.20,2,    0.00,2,    2.54,2,   0.025,2,   0.014,2,   0.0000,2,  2278.0,2,  -999.0,9,   -999.0,9,  -999.00,   7.5363,2,    25.00,-999.000,9,-999.0000,9, -999.00,9, -999.00,9,  -999.0,9,-999.000,9,-999.000,-999.000,9,-999.000,9,   36.24,2,   37.83,2, -999.00,9, -999.00,9, -999.00,9,-999.000,   0.1154,2,   0.0764,2,   0.0382,2,   0.0257,2,   0.0153,2,   0.0053,2,   0.0008,2,   0.0161,2,   0.0184,2,   2.6223,     -999.0,9,     -999.0,9,     -999.0,9,     -999.0,9,     -999.0,9,     -999.0,9,     -999.0,9,-999.0000, -999.00
33RO20071215,        P18,     118,          1,         12,      12031,2,20080128,       1023,   -39.7520,  -103.0008,       4096,  1800.1,   2.4588,  34.5958,2,  34.5962,2,    153.3,2,   153.5,2,   93.10,2,   35.40,2,    0.00,2,    2.46,2,-999.000,9,-999.000,9,-999.0000,9,  2279.2,2,  -999.0,9,   1216.9,2,    20.00,   7.5499,2,    25.00,-999.000,9,-999.0000,9, -999.00,9, -999.00,9,  -999.0,9,-999.000,9,-999.000,-999.000,9,-999.000,9,   36.52,2,   36.32,2, -999.00,9, -999.00,9, -999.00,9,-999.000,   0.1132,2,   0.0744,2,   0.0364,2,   0.0238,2,   0.0140,2,   0.0046,2,   0.0006,3,   0.0166,2,   0.0191,2,   2.3326,     -999.0,9,     -999.0,9,     -999.0,9,     -999.0,9,     -999.0,9,     -999.0,9,     -999.0,9,-999.0000, -999.00