BOTTLE,20220818CCHSIOAMB
EXPOCODE,SECT_ID,STNNBR,CASTNO,SAMPNO,BTLNBR,BTLNBR_FLAG_W,DATE,TIME,LATITUDE,LONGITUDE,DEPTH,CTDPRS,CTDTMP,CTDSAL,CTDSAL_FLAG_W,SALNTY,SALNTY_FLAG_W,CTDOXY,CTDOXY_FLAG_W,OXYGEN,OXYGEN_FLAG_W,SILCAT,SILCAT_FLAG_W,NITRAT,NITRAT_FLAG_W,NITRIT,NITRIT_FLAG_W,PHSPHT,PHSPHT_FLAG_W,CFC-11,CFC-11_FLAG_W,CFC-12,CFC-12_FLAG_W,SF6,SF6_FLAG_W,TCARBN,TCARBN_FLAG_W,ALKALI,ALKALI_FLAG_W,FCO2,FCO2_FLAG_W,FCO2TMP,PH_SWS,PH_SWS_FLAG_W,PH_TMP,TRITUM,TRITUM_FLAG_W,HELIUM,HELIUM_FLAG_W,DELHE3,DELHE3_FLAG_W,DELC13,DELC13_FLAG_W,DELC14,DELC14_FLAG_W,NEON,NEON_FLAG_W,NEONER,CCL4,CCL4_FLAG_W,POC,POC_FLAG_W,DOC,DOC_FLAG_W,TDN,TDN_FLAG_W,DON,DON_FLAG_W,CHLORA,CHLORA_FLAG_W,ARGON,ARGON_FLAG_W,TRITER,CDOM325,CDOM325_FLAG_W,CDOM340,CDOM340_FLAG_W,CDOM380,CDOM380_FLAG_W,CDOM412,CDOM412_FLAG_W,CDOM443,CDOM443_FLAG_W,CDOM490,CDOM490_FLAG_W,CDOM555,CDOM555_FLAG_W,CDOMSL,CDOMSL_FLAG_W,CDOMSN,CDOMSN_FLAG_W,THETA,D18O_NO3,D18O_NO3_FLAG_W,CDOM2C,CDOM2C_FLAG_W,CDOM3C,CDOM3C_FLAG_W,LAB_DEN,LAB_DEN_FLAG_W,DELSI30,DELSI30_FLAG_W,N2,N2_FLAG_W,D15N_NO3,D15N_NO3_FLAG_W,HELIER,DELHER
,,,,,,,,,,,METERS,DBAR,ITS-90,PSS-78,,PSS-78,,UMOL/KG,,UMOL/KG,,UMOL/KG,,UMOL/KG,,UMOL/KG,,UMOL/KG,,PMOL/KG,,PMOL/KG,,FMOL/KG,,UMOL/KG,,UMOL/KG,,UATM,,DEG C,,,DEG C,TU,,NMOL/KG,,PERCNT,,/MILLE,,/MILLE,,NMOL/KG,,NMOL/KG,PMOL/KG,,UG/KG,,UMOL/KG,,UMOL/KG,,UMOL/KG,,UG/KG,,UMOL/KG,,TU,1/M,,1/M,,1/M,,1/M,,1/M,,1/M,,1/M,,1/NM,,1/NM,,DEG C,/MILLE,,,,,,,,/MILLE,,UMOL/KG,,/MILLE,,NMOL/KG,PERCNT
33RO20071215,        P18,     167,          1,         24,      11024,2,20080212,       2109,   -66.7498,  -102.9995,       4757,     5.9,   1.8533,  33.8484,2,  33.8496,2,    332.7,2,   332.5,2,    5.90,2,   24.30,2,    0.23,2,    1.45,2,   5.710,2,   3.190,2,   2.2103,2,  2139.4,6,  2285.6,2,   -999.0,9,  -999.00,   7.7418,2,    25.00,-999.000,9,-999.0000,9, -999.00,9, -999.00,9,  -999.0,9,-999.000,9,-999.000,-999.000,9,-999.000,9,   45.14,2,   28.61,2, -999.00,1,    0.22,2, -999.00,9,-999.000,   0.1012,2,   0.0690,2,   0.0361,2,   0.0258,2,   0.0146,2,   0.0045,2,  -0.0016,4,   0.0152,2,   0.0171,2,   1.8530,     -999.0,9,     -999.0,9,     -999.0,9,     -999.0,9,     -999.0,9,     -999.0,9,     -999.0,9,-999.0000, -999.00
33RO20071215,        P18,     167,          1,         23,      11023,2,20080212,       2109,   -66.7498,  -102.9995,       4757,    33.4,   1.8445,  33.8481,2,  33.8485,2,    334.0,2,   332.7,2,    6.00,2,   24.30,2,    0.23,2,    1.46,2,   5.711,2,   3.193,2,   2.2498,2,  2139.5,2,  2284.3,2,   -999.0,9,  -999.00,   7.7448,2,    25.00,-999.000,9,-999.0000,9, -999.00,9, -999.00,9,  -999.0,9,-999.000,9,-999.000,-999.000,9,-999.000,9,   44.91,2,   28.86,2, -999.00,1,    0.27,2, -999.00,9,-999.000,   0.1059,2,   0.0731,2,   0.0386,2,   0.0278,2,   0.0161,2,   0.0051,2,  -0.0016,4,   0.0151,2,   0.0166,2,   1.8428,     -999.0,9,     -999.0,9,     -999.0,9,     -999.0,9,     -999.0,9,     -999.0,9,     -999.0,9,-999.0000, -999.00
33RO20071215,        P18,     167,          1,         22,      11022,2,20080212,       2109,   -66.7498,  -102.9995,       4757,    57.8,   1.7395,  33.8518,2,  33.8670,2,    332.0,2,   333.1,2,    8.70,2,   24.70,2,    0.22,2,    1.58,2,   5.830,2,   3.231,2,   2.2096,2,  2142.2,2,  2279.9,2,   -999.0,9,  -999.00,   7.7441,2,    25.00,-999.000,9,-999.0000,9, -999.00,9, -999.00,9,  -999.0,9,-999.000,9,-999.000,-999.000,9,-999.000,9,   43.52,2,   28.86,2, -999.00,1,    0.29,2, -999.00,9,-999.000,   0.1153,2,   0.0816,2,   0.0458,2,   0.0335,2,   0.0207,2,   0.0079,2,  -0.0002,4,   0.0142,2,   0.0150,2,   1.7367,     -999.0,9,     -999.0,9,     -999.0,9,     -999.0,9,     -999.0,9,     -999.0,9,     -999.0,9,-999.0000, -999.00
33RO20071215,        P18,     167,          1,         21,      11021,2,20080212,       2109,   -66.7498,  -102.9995,       4757,    83.5,   0.2740,  33.9447,2,  33.9498,2,    336.0,2,   336.5,2,   25.40,2,   27.00,2,    0.19,2,    2.02,2,-999.000,9,-999.000,9,-999.0000,9,  2161.2,2,  2283.7,2,   -999.0,9,  -999.00,   7.6958,2,    25.00,-999.000,9,-999.0000,9, -999.00,9, -999.00,9,  -999.0,9,-999.000,9,-999.000,-999.000,9,-999.000,9,   43.32,2,   30.74,2, -999.00,1,    0.12,2, -999.00,9,-999.000,   0.1128,2,   0.0801,2,   0.0471,2,   0.0351,2,   0.0207,2,   0.0069,2,  -0.0011,4,   0.0141,2,   0.0143,2,   0.2710,     -999.0,9,     -999.0,9,     -999.0,9,     -999.0,9,     -999.0,9,     -999.0,9,     -999.0,9,-999.0000, -999.00
33RO20071215,        P18,     167,          1,         20,      11020,2,20080212,       2109,   -66.7498,  -102.9995,       4757,   116.1,  -0.0619,  34.0047,2,  34.0063,2,    328.8,2,   329.3,2,   32.70,2,   29.50,2,    0.23,2,    2.09,2,   5.764,2,   3.270,2,   2.1741,2,  2173.2,2,  2287.3,2,   -999.0,9,  -999.00,   7.6678,2,    25.00,-999.000,9,-999.0000,9, -999.00,9, -999.00,9,  -999.0,9,-999.000,9,-999.000,-999.000,9,-999.000,9,   42.39,2,   32.82,2, -999.00,1,    0.05,2, -999.00,9,-999.000,   0.0984,2,   0.0681,2,   0.0406,2,   0.0304,2,   0.0169,2,   0.0041,3,  -0.0026,4,   0.0141,2,   0.0145,2,  -0.0659,     -999.0,9,     -999.0,9,     -999.0,9,     -999.0,9,     -999.0,9,     -999.0,9,     -999.0,9,-999.0000, -999.00
33RO20071215,        P18,     167,          1,         19,      11019,2,20080212,       2109,   -66.7498,  -102.9995,       4757,   174.7,  -0.1869,  34.0279,2,  34.0295,2,    325.2,2,   326.2,2,   36.70,2,   30.20,2,    0.08,2,    2.10,2,-999.000,9,-999.000,9,-999.0000,9,  2177.2,2,  2290.2,2,   -999.0,9,  -999.00,   7.6652,2,    25.00,-999.000,9,-999.0000,9, -999.00,9, -999.00,9,  -999.0,9,-999.000,9,-999.000,-999.000,9,-999.000,9,   42.68,2,   32.70,2, -999.00,1,    0.05,2, -999.00,9,-999.000,-999.0000,5,-999.0000,5,-999.0000,5,-999.0000,5,-999.0000,5,-999.0000,5,-999.0000,5,-999.0000,5,-999.0000,5,  -0.1928,     -999.0,9,     -999.0,9,     -999.0,9,     -999.0,9,     -999.0,9,     -999.0,9,     -999.0,9,-999.0000, -999.00
33RO20071215,        P18,     167,          1,         18,      11018,2,20080212,       2109,   -66.7498,  -102.9995,       4757,   250.6,   1.2976,  34.2373,2,  34.2433,2,    255.6,2,   243.2,2,   51.30,2,   33.50,2,    0.02,2,    2.30,2,   3.421,2,   1.852,2,   1.0832,2,  2214.6,2,  2305.2,2,   -999.0,9,  -999.00,   7.5947,2,    25.00,-999.000,9,-999.0000,9, -999.00,9, -999.00,9,  -999.0,9,-999.000,9,-999.000,-999.000,9,-999.000,9,   41.40,2,   35.50,2, -999.00,1,    0.03,2, -999.00,9,-999.000,-999.0000,5,-999.0000,5,-999.0000,5,-999.0000,5,-999.0000,5,-999.0000,5,-999.0000,5,-999.0000,5,-999.0000,5,   1.2857,     -999.0,9,     -999.0,9,     -999.0,9,     -999.0,9,     -999.0,9,     -999.0,9,     -999.0,9,-999.0000, -999.00
33RO20071215,        P18,     167,          1,         17,      11017,2,20080212,       2109,   -66.7498,  -102.9995,       4757,   331.5,   1.9883,  34.3878,2,  34.3861,2,    206.2,2,   202.6,2,   62.00,2,   34.90,2,    0.01,2,    2.40,2,   2.055,2,   1.061,2,   0.5355,2,  2235.5,2,  2314.9,2,   -999.0,9,  -999.00,   7.5552,2,    25.00,-999.000,9,-999.0000,9, -999.00,9, -999.00,9,  -999.0,9,-999.000,9,-999.000,-999.000,9,-999.000,9,   41.03,2,   36.11,2, -999.00,1, -999.00,9, -999.00,9,-999.000,   0.1231,2,   0.0864,2,   0.0499,2,   0.0360,2,   0.0202,2,   0.0052,3,  -0.0025,4,   0.0109,4,   0.0150,4,   1.9704,     -999.0,9,     -999.0,9,     -999.0,9,     -999.0,9,     -999.0,9,     -999.0,9,     -999.0,9,-999.0000, -999.00
33RO20071215,        P18,     167,          1,         16,      11016,2,20080212,       2109,   -66.7498,  -102.9995,       4757,   428.7,   2.1584,  34.4934,2,  34.4939,2,    184.7,2,   182.6,2,   69.50,2,   35.10,2,    0.01,2,    2.41,2,   1.212,2,   0.615,2,   0.2853,2,  2247.8,2,  2328.0,2,   -999.0,9,  -999.00,   7.5571,2,    25.00,-999.000,9,-999.0000,9, -999.00,9, -999.00,9,  -999.0,9,-999.000,9,-999.000,-999.000,9,-999.000,9,   40.53,2,   36.47,2, -999.00,1, -999.00,9, -999.00,9,-999.000,   0.1306,2,   0.0924,2,   0.0529,2,   0.0379,2,   0.0216,2,   0.0059,3,  -0.0019,4,   0.0152,2,   0.0152,2,   2.1341,     -999.0,9,     -999.0,9,     -999.0,9,     -999.0,9,     -999.0,9,     -999.0,9,     -999.0,9,-999.0000, -999.00
33RO20071215,        P18,     167,          1,         15,      11015,2,20080212,       2109,   -66.7498,  -102.9995,       4757,   553.7,   2.1882,  34.5687,2,  34.5682,2,    176.4,2,   176.4,2,   74.70,2,   34.60,2,    0.00,2,    2.38,2,-999.000,5,-999.000,5,-999.0000,5,  2253.3,2,  2332.3,2,   -999.0,9,  -999.00,   7.5604,2,    25.00,-999.000,9,-999.0000,9, -999.00,9, -999.00,9,  -999.0,9,-999.000,9,-999.000,-999.000,9,-999.000,9,   40.80,2,   36.19,2, -999.00,1, -999.00,9, -999.00,9,-999.000,   0.1332,2,   0.0942,2,   0.0535,2,   0.0377,2,   0.0216,2,   0.0062,2,  -0.0017,4,   0.0153,2,   0.0154,2,   2.1561,     -999.0,9,     -999.0,9,     -999.0,9,     -999.0,9,     -999.0,9,     -999.0,9,     -999.0,9,-999.0000, -999.00
33RO20071215,        P18,     167,          1,         14,      11014,2,20080212,       2109,   -66.7498,  -102.9995,       4757,   697.4,   2.1653,  34.6281,2,  34.6277,2,    176.4,2,   175.0,2,   78.50,2,   34.00,2,    0.00,2,    2.35,2,   0.501,2,   0.251,2,   0.1154,2,  2255.2,6,  -999.0,5,   -999.0,9,  -999.00,   7.5643,2,    25.00,-999.000,9,-999.0000,9, -999.00,9, -999.00,9,  -999.0,9,-999.000,9,-999.000,-999.000,9,-999.000,9,   39.64,2,   35.18,2, -999.00,1, -999.00,9, -999.00,9,-999.000,   0.1298,2,   0.0905,2,   0.0494,2,   0.0343,2,   0.0199,3,   0.0066,3,  -0.0005,4,   0.0156,2,   0.0162,2,   2.1241,     -999.0,9,     -999.0,9,     -999.0,9,     -999.0,9,     -999.0,9,     -999.0,9,     -999.0,9,-999.0000, -999.00
33RO20071215,        P18,     167,          1,         13,      11013,2,20080212,       2109,   -66.7498,  -102.9995,       4757,   850.5,   2.1100,  34.6750,2,  34.6748,2,    177.6,2,   177.2,2,   81.80,2,   33.20,2,    0.00,2,    2.27,2,   0.323,2,   0.161,2,   0.0441,2,  2254.6,2,  2343.8,2,   -999.0,9,  -999.00,   7.5782,2,    25.00,-999.000,9,-999.0000,9, -999.00,9, -999.00,9,  -999.0,9,-999.000,9,-999.000,-999.000,9,-999.000,9,   39.95,2,   34.20,2, -999.00,1, -999.00,9, -999.00,9,-999.000,   0.1194,2,   0.0803,2,   0.0403,2,   0.0275,2,   0.0150,2,   0.0050,2,  -0.0001,4,   0.0165,2,   0.0183,2,   2.0590,     -999.0,9,     -999.0,9,     -999.0,9,     -999.0,9,     -999.0,9,     -999.0,9,     -999.0,9,-999.0000, -999.00
33RO20071215,        P18,     167,          1,         12,      11012,2,20080212,       2109,   -66.7498,  -102.9995,       4757,   999.6,   2.0289,  34.7030,2,  34.7028,2,    180.8,2,   180.6,2,   84.40,2,   32.60,2,    0.00,2,    2.24,2,   0.247,2,   0.123,2,   0.0000,2,  2254.0,2,  2346.2,2,   -999.0,9,  -999.00,   7.5752,2,    25.00,-999.000,9,-999.0000,9, -999.00,9, -999.00,9,  -999.0,9,-999.000,9,-999.000,-999.000,9,-999.000,9,   39.80,2,   34.09,2, -999.00,1, -999.00,9, -999.00,9,-999.000,   0.1187,2,   0.0798,2,   0.0393,2,   0.0261,2,   0.0140,2,   0.0043,2,  -0.0006,4,   0.0170,2,   0.0189,2,   1.9683,     -999.0,9,     -999.0,9,     -999.0,9,     -999.0,9,     -999.0,9,     -999.0,9,     -999.0,9,-999.0000, -999.00
33RO20071215,        P18,     167,          1,         11,      11010,2,20080212,       2109,   -66.7498,  -102.9995,       4757,  1167.3,   1.9219,  34.7214,2,  34.7212,2,    185.6,2,   184.7,2,   87.40,2,   32.20,2,    0.00,2,    2.21,2,-999.000,9,-999.000,9,-999.0000,9,  2253.5,2,  2346.1,4,   -999.0,9,  -999.00,   7.5942,2,    25.00,-999.000,9,-999.0000,9, -999.00,9, -999.00,9,  -999.0,9,-999.000,9,-999.000,-999.000,9,-999.000,9,   39.49,2,   33.64,2, -999.00,1, -999.00,9, -999.00,9,-999.000,   0.1199,2,   0.0808,2,   0.0399,2,   0.0265,2,   0.0143,2,   0.0046,2,  -0.0003,4,   0.0170,2,   0.0188,2,   1.8506,     -999.0,9,     -999.0,9,     -999.0,9,     -999.0,9,     -999.0,9,     -999.0,9,     -999.0,9,-999.0000, -999.00
33RO20071215,        P18,     167,          1,         10,      11011,2,20080212,       2109,   -66.7498,  -102.9995,       4757,  1399.1,   1.7422,  34.7325,2,  34.7315,2,    189.9,2,   189.8,2,   92.70,2,   31.90,2,    0.00,2,    2.19,2,   0.155,2,   0.075,2,   0.0000,2,  2254.5,2,  2350.3,2,   -999.0,9,  -999.00,   7.6055,2,    25.00,-999.000,9,-999.0000,9, -999.00,9, -999.00,9,  -999.0,9,-999.000,9,-999.000,-999.000,9,-999.000,9,   39.19,2,   33.01,2, -999.00,1, -999.00,9, -999.00,9,-999.000,   0.1179,2,   0.0788,2,   0.0383,2,   0.0251,2,   0.0134,2,   0.0040,2,  -0.0005,4,   0.0173,2,   0.0193,2,   1.6559,     -999.0,9,     -999.0,9,     -999.0,9,     -999.0,9,     -999.0,9,     -999.0,9,     -999.0,9,-999.0000, -999.00
33RO20071215,        P18,     167,          1,          9,      11009,2,20080212,       2109,   -66.7498,  -102.9995,       4757,  1734.2,   1.4700,  34.7338,2,  34.7324,2,    194.0,2,   194.1,2,  101.00,2,   32.00,2,    0.00,2,    2.20,2,   0.117,2,   0.057,2,   0.0000,2,  2256.4,2,  2353.7,2,   -999.0,9,  -999.00,   7.6090,2,    25.00,-999.000,9,-999.0000,9, -999.00,9, -999.00,9,  -999.0,9,-999.000,9,-999.000,-999.000,9,-999.000,9,   39.17,2,   33.37,2, -999.00,1, -999.00,9, -999.00,9,-999.000,   0.1163,2,   0.0776,2,   0.0375,2,   0.0244,2,   0.0131,2,   0.0039,2,  -0.0005,4,   0.0173,2,   0.0194,2,   1.3621,     -999.0,9,     -999.0,9,     -999.0,9,     -999.0,9,     -999.0,9,     -999.0,9,     -999.0,9,-999.0000, -999.00
33RO20071215,        P18,     167,          1,          8,      11008,2,20080212,       2109,   -66.7498,  -102.9995,       4757,  2133.6,   1.2018,  34.7272,2,  34.7261,2,    197.5,2,   198.0,2,  109.90,2,   32.30,2,    0.00,2,    2.22,2,   0.085,2,   0.042,2,   0.0000,2,  2258.5,2,  2360.6,2,   -999.0,9,  -999.00,   7.6107,2,    25.00,-999.000,9,-999.0000,9, -999.00,9, -999.00,9,  -999.0,9,-999.000,9,-999.000,   0.134,3,-999.000,9,   39.40,2,   33.96,2, -999.00,1, -999.00,9, -999.00,9,-999.000,   0.1139,2,   0.0751,2,   0.0358,2,   0.0231,2,   0.0123,2,   0.0034,2,  -0.0006,4,   0.0176,2,   0.0199,2,   1.0666,     -999.0,9,     -999.0,9,     -999.0,9,     -999.0,9,     -999.0,9,     -999.0,9,     -999.0,9,-999.0000, -999.00
33RO20071215,        P18,     167,          1,          7,      11007,2,20080212,       2109,   -66.7498,  -102.9995,       4757,  2534.2,   1.0048,  34.7201,2,  34.7189,2,    201.5,2,   202.0,2,  116.70,2,   32.40,2,    0.00,2,    2.24,2,   0.092,6,   0.045,6,   0.0000,6,  2260.2,2,  2360.5,2,   -999.0,9,  -999.00,   7.6062,2,    25.00,-999.000,9,-999.0000,9, -999.00,9, -999.00,9,  -999.0,9,-999.000,9,-999.000,   0.121,3,-999.000,9,   39.46,2,   33.67,2, -999.00,1, -999.00,9, -999.00,9,-999.000,   0.1150,2,   0.0764,2,   0.0367,2,   0.0240,2,   0.0127,2,   0.0036,2,  -0.0005,4,   0.0174,2,   0.0196,2,   0.8399,     -999.0,9,     -999.0,9,     -999.0,9,     -999.0,9,     -999.0,9,     -999.0,9,     -999.0,9,-999.0000, -999.00
33RO20071215,        P18,     167,          1,          6,      11006,2,20080212,       2109,   -66.7498,  -102.9995,       4757,  2932.0,   0.8309,  34.7135,2,  34.7134,2,    204.9,2,   205.3,2,  123.10,2,   32.70,2,    0.00,2,    2.24,2,   0.123,2,   0.060,2,   0.0000,2,  2261.2,6,  2361.4,2,   -999.0,9,  -999.00,   7.6027,2,    25.00,-999.000,9,-999.0000,9, -999.00,9, -999.00,9,  -999.0,9,-999.000,9,-999.000,   0.153,3,-999.000,9,   40.37,2,   33.85,2, -999.00,1, -999.00,9, -999.00,9,-999.000,   0.1127,2,   0.0740,2,   0.0350,2,   0.0224,2,   0.0120,2,   0.0034,2,  -0.0004,4,   0.0177,2,   0.0202,2,   0.6348,     -999.0,9,     -999.0,9,     -999.0,9,     -999.0,9,     -999.0,9,     -999.0,9,     -999.0,9,-999.0000, -999.00
33RO20071215,        P18,     167,          1,          5,      11005,2,20080212,       2109,   -66.7498,  -102.9995,       4757,  3333.8,   0.6693,  34.7092,2,  34.7091,2,    208.1,2,   208.4,2,  127.10,2,   32.80,2,    0.00,2,    2.27,2,-999.000,9,-999.000,9,-999.0000,9,  2260.8,2,  2358.8,2,   -999.0,9,  -999.00,   7.6069,2,    25.00,-999.000,9,-999.0000,9, -999.00,9, -999.00,9,  -999.0,9,-999.000,9,-999.000,-999.000,9,-999.000,9,   40.20,2,   33.89,2, -999.00,1, -999.00,9, -999.00,9,-999.000,   0.1138,2,   0.0753,2,   0.0368,2,   0.0239,2,   0.0125,2,   0.0027,3,  -0.0013,4,   0.0174,2,   0.0195,2,   0.4400,     -999.0,9,     -999.0,9,     -999.0,9,     -999.0,9,     -999.0,9,     -999.0,9,     -999.0,9,-999.0000, -999.00
33RO20071215,        P18,     167,          1,          4,      11004,2,20080212,       2109,   -66.7498,  -102.9995,       4757,  3768.5,   0.5072,  34.7068,2,  34.7057,2,    212.1,2,   212.5,2,  131.40,6,   32.90,6,    0.00,6,    2.27,2,  -0.002,3,  -0.001,3,   0.0000,2,  2261.6,2,  2360.3,2,   -999.0,9,  -999.00,   7.6047,2,    25.00,-999.000,9,-999.0000,9, -999.00,9, -999.00,9,  -999.0,9,-999.000,9,-999.000,   0.000,3,-999.000,9,   40.84,2,   34.07,2, -999.00,9, -999.00,9, -999.00,9,-999.000,   0.1097,2,   0.0715,2,   0.0333,2,   0.0211,2,   0.0108,2,   0.0024,2,  -0.0011,4,   0.0181,2,   0.0208,2,   0.2397,     -999.0,9,     -999.0,9,     -999.0,9,     -999.0,9,     -999.0,9,     -999.0,9,     -999.0,9,-999.0000, -999.00
33RO20071215,        P18,     167,          1,          3,      11003,2,20080212,       2109,   -66.7498,  -102.9995,       4757,  4266.9,   0.4206,  34.7055,2,  34.7046,2,    215.1,2,   214.5,2,  135.80,6,   32.90,6,    0.00,6,    2.27,2,   0.211,2,   0.106,2,   0.0000,2,  2262.3,2,  2362.0,2,   -999.0,9,  -999.00,   7.6028,2,    25.00,-999.000,9,-999.0000,9, -999.00,9, -999.00,9,  -999.0,9,-999.000,9,-999.000,   0.256,3,-999.000,9,   40.37,2,   34.06,2, -999.00,9, -999.00,9, -999.00,9,-999.000,   0.1100,2,   0.0715,2,   0.0334,2,   0.0212,2,   0.0108,2,   0.0024,2,  -0.0010,4,   0.0181,2,   0.0207,2,   0.1043,     -999.0,9,     -999.0,9,     -999.0,9,     -999.0,9,     -999.0,9,     -999.0,9,     -999.0,9,-999.0000, -999.00
33RO20071215,        P18,     167,          1,          2,      11002,2,20080212,       2109,   -66.7498,  -102.9995,       4757,  4766.4,   0.4032,  34.7041,2,  34.7034,2,    216.4,2,   215.9,2,  140.80,6,   33.00,6,    0.00,6,    2.28,2,   0.283,2,   0.140,2,   0.0000,2,  2262.4,2,  2364.5,2,   -999.0,9,  -999.00,   7.6056,2,    25.00,-999.000,9,-999.0000,9, -999.00,9, -999.00,9,  -999.0,9,-999.000,9,-999.000,   0.292,3,-999.000,9,   40.30,2,   34.25,2, -999.00,9, -999.00,9, -999.00,9,-999.000,   0.1116,2,   0.0729,2,   0.0343,2,   0.0218,2,   0.0112,2,   0.0027,2,  -0.0009,4,   0.0180,2,   0.0205,2,   0.0328,     -999.0,9,     -999.0,9,     -999.0,9,     -999.0,9,     -999.0,9,     -999.0,9,     -999.0,9,-999.0000, -999.00
33RO20071215,        P18,     167,          1,          1,      11001,2,20080212,       2109,   -66.7498,  -102.9995,       4757,  4846.5,   0.4043,  34.7038,2,  34.7022,2,    216.8,2,   215.5,2,  145.00,2,   33.00,2,    0.01,2,    2.28,2,   0.302,2,   0.148,2,   0.0000,2,  2262.9,6,  2364.1,2,   -999.0,9,  -999.00,   7.5958,2,    25.00,-999.000,9,-999.0000,9, -999.00,9, -999.00,9,  -999.0,9,-999.000,9,-999.000,   0.291,3,-999.000,9,   40.01,2,   34.31,2, -999.00,9, -999.00,9, -999.00,9,-999.000,   0.1188,2,   0.0787,2,   0.0387,2,   0.0254,2,   0.0140,2,   0.0041,2,  -0.0002,4,   0.0170,2,   0.0192,2,   0.0248,     -999.0,9,     -999.0,9,     -999.0,9,     -999.0,9,     -999.0,9,     -999.0,9,     -999.0,9,-999.0000, -999.00