BOTTLE,20220818CCHSIOAMB
EXPOCODE,SECT_ID,STNNBR,CASTNO,SAMPNO,BTLNBR,BTLNBR_FLAG_W,DATE,TIME,LATITUDE,LONGITUDE,DEPTH,CTDPRS,CTDTMP,CTDSAL,CTDSAL_FLAG_W,SALNTY,SALNTY_FLAG_W,CTDOXY,CTDOXY_FLAG_W,OXYGEN,OXYGEN_FLAG_W,SILCAT,SILCAT_FLAG_W,NITRAT,NITRAT_FLAG_W,NITRIT,NITRIT_FLAG_W,PHSPHT,PHSPHT_FLAG_W,CFC-11,CFC-11_FLAG_W,CFC-12,CFC-12_FLAG_W,SF6,SF6_FLAG_W,TCARBN,TCARBN_FLAG_W,ALKALI,ALKALI_FLAG_W,FCO2,FCO2_FLAG_W,FCO2TMP,PH_SWS,PH_SWS_FLAG_W,PH_TMP,TRITUM,TRITUM_FLAG_W,HELIUM,HELIUM_FLAG_W,DELHE3,DELHE3_FLAG_W,DELC13,DELC13_FLAG_W,DELC14,DELC14_FLAG_W,NEON,NEON_FLAG_W,NEONER,CCL4,CCL4_FLAG_W,POC,POC_FLAG_W,DOC,DOC_FLAG_W,TDN,TDN_FLAG_W,DON,DON_FLAG_W,CHLORA,CHLORA_FLAG_W,ARGON,ARGON_FLAG_W,TRITER,CDOM325,CDOM325_FLAG_W,CDOM340,CDOM340_FLAG_W,CDOM380,CDOM380_FLAG_W,CDOM412,CDOM412_FLAG_W,CDOM443,CDOM443_FLAG_W,CDOM490,CDOM490_FLAG_W,CDOM555,CDOM555_FLAG_W,CDOMSL,CDOMSL_FLAG_W,CDOMSN,CDOMSN_FLAG_W,THETA,D18O_NO3,D18O_NO3_FLAG_W,CDOM2C,CDOM2C_FLAG_W,CDOM3C,CDOM3C_FLAG_W,LAB_DEN,LAB_DEN_FLAG_W,DELSI30,DELSI30_FLAG_W,N2,N2_FLAG_W,D15N_NO3,D15N_NO3_FLAG_W,HELIER,DELHER
,,,,,,,,,,,METERS,DBAR,ITS-90,PSS-78,,PSS-78,,UMOL/KG,,UMOL/KG,,UMOL/KG,,UMOL/KG,,UMOL/KG,,UMOL/KG,,PMOL/KG,,PMOL/KG,,FMOL/KG,,UMOL/KG,,UMOL/KG,,UATM,,DEG C,,,DEG C,TU,,NMOL/KG,,PERCNT,,/MILLE,,/MILLE,,NMOL/KG,,NMOL/KG,PMOL/KG,,UG/KG,,UMOL/KG,,UMOL/KG,,UMOL/KG,,UG/KG,,UMOL/KG,,TU,1/M,,1/M,,1/M,,1/M,,1/M,,1/M,,1/M,,1/NM,,1/NM,,DEG C,/MILLE,,,,,,,,/MILLE,,UMOL/KG,,/MILLE,,NMOL/KG,PERCNT
33RO20071215,        P18,     110,          1,         36,      12017,2,20080126,       0424,   -35.0842,  -103.0005,       3561,     5.2,  22.3455,  34.5124,2,  34.5169,2,    224.1,2,   223.9,2,    0.50,2,    1.20,2,    0.02,2,    0.18,2,   2.098,2,   1.294,2,   1.1493,2,  2028.0,6,  -999.0,5,    390.4,2,    20.00,   7.9628,2,    25.00,-999.000,9,-999.0000,9, -999.00,9, -999.00,9,  -999.0,9,-999.000,9,-999.000,-999.000,9,-999.000,9,   62.17,2,    5.84,2, -999.00,9, -999.00,9, -999.00,9,-999.000,-999.0000,9,-999.0000,9,-999.0000,9,-999.0000,9,-999.0000,9,-999.0000,9,-999.0000,9,-999.0000,9,-999.0000,9,  22.3445,     -999.0,9,     -999.0,9,     -999.0,9,     -999.0,9,     -999.0,9,     -999.0,9,     -999.0,9,-999.0000, -999.00
33RO20071215,        P18,     110,          1,         35,      12029,2,20080126,       0424,   -35.0842,  -103.0005,       3561,    13.0,  22.2066,  34.4984,2,  34.4988,2,    224.3,2,   224.4,2,    0.50,2,    1.20,2,    0.02,2,    0.19,2,-999.000,9,-999.000,9,-999.0000,9,  2028.0,2,  2283.6,2,   -999.0,9,  -999.00,   7.9685,2,    25.00,-999.000,9,-999.0000,9, -999.00,9, -999.00,9,  -999.0,9,-999.000,9,-999.000,-999.000,9,-999.000,9,   61.68,2,    5.58,2, -999.00,9, -999.00,9, -999.00,1,-999.000,-999.0000,9,-999.0000,9,-999.0000,9,-999.0000,9,-999.0000,9,-999.0000,9,-999.0000,9,-999.0000,9,-999.0000,9,  22.2040,     -999.0,1,     -999.0,9,     -999.0,9,     -999.0,9,     -999.0,9,     -999.0,1,     -999.0,9,-999.0000, -999.00
33RO20071215,        P18,     110,          1,         34,      12049,2,20080126,       0424,   -35.0842,  -103.0005,       3561,    26.6,  21.7208,  34.5464,2,  34.4984,2,    228.6,2,   238.9,2,    0.50,2,    0.80,2,    0.01,2,    0.16,2,   2.341,2,   1.418,2,   1.2156,2,  2028.1,2,  2281.7,2,    395.6,2,    20.00,   7.9664,2,    25.00,-999.000,9,-999.0000,9, -999.00,9, -999.00,9,  -999.0,9,-999.000,9,-999.000,-999.000,9,-999.000,9,   61.66,2,    5.71,2, -999.00,9, -999.00,9, -999.00,9,-999.000,-999.0000,9,-999.0000,9,-999.0000,9,-999.0000,9,-999.0000,9,-999.0000,9,-999.0000,9,-999.0000,9,-999.0000,9,  21.7156,     -999.0,9,     -999.0,9,     -999.0,9,     -999.0,9,     -999.0,9,     -999.0,9,     -999.0,9,-999.0000, -999.00
33RO20071215,        P18,     110,          1,         33,      12027,2,20080126,       0424,   -35.0842,  -103.0005,       3561,    46.5,  16.4809,  34.4490,2,  34.4666,2,    264.8,2,   265.2,2,    0.60,2,    0.50,2,    0.02,2,    0.14,2,-999.000,9,-999.000,9,-999.0000,9,  2028.6,2,  2276.2,2,    400.4,2,    20.00,   7.9518,2,    25.00,-999.000,9,-999.0000,9, -999.00,9, -999.00,9,  -999.0,9,-999.000,9,-999.000,-999.000,9,-999.000,9,   60.23,2,    5.23,2, -999.00,9, -999.00,9, -999.00,9,-999.000,-999.0000,9,-999.0000,9,-999.0000,9,-999.0000,9,-999.0000,9,-999.0000,9,-999.0000,9,-999.0000,9,-999.0000,9,  16.4735,     -999.0,9,     -999.0,9,     -999.0,9,     -999.0,9,     -999.0,9,     -999.0,9,     -999.0,9,-999.0000, -999.00
33RO20071215,        P18,     110,          1,         32,      12023,2,20080126,       0424,   -35.0842,  -103.0005,       3561,    67.0,  15.6679,  34.5064,2,  34.4913,2,    263.3,2,   263.9,2,    0.60,2,    0.70,2,    0.03,2,    0.16,2,   2.859,2,   1.683,2,   1.2370,2,  2032.9,2,  2279.3,2,   -999.0,9,  -999.00,   7.9456,2,    25.00,-999.000,9,-999.0000,9, -999.00,9, -999.00,9,  -999.0,9,-999.000,9,-999.000,-999.000,9,-999.000,9,   59.99,2,    5.13,2, -999.00,9, -999.00,9, -999.00,9,-999.000,-999.0000,9,-999.0000,9,-999.0000,9,-999.0000,9,-999.0000,9,-999.0000,9,-999.0000,9,-999.0000,9,-999.0000,9,  15.6576,     -999.0,9,     -999.0,9,     -999.0,9,     -999.0,9,     -999.0,9,     -999.0,9,     -999.0,9,-999.0000, -999.00
33RO20071215,        P18,     110,          1,         31,      12037,2,20080126,       0424,   -35.0842,  -103.0005,       3561,    86.6,  14.8553,  34.4498,2,  34.4440,2,    258.7,2,   256.5,2,    0.60,2,    1.80,2,    0.07,2,    0.24,2,-999.000,9,-999.000,9,-999.0000,9,  2041.3,2,  2273.5,2,    430.0,2,    20.00,   7.9384,2,    25.00,-999.000,9,-999.0000,9, -999.00,9, -999.00,9,  -999.0,9,-999.000,9,-999.000,-999.000,9,-999.000,9,   56.92,2,    6.64,2, -999.00,9, -999.00,9, -999.00,9,-999.000,-999.0000,9,-999.0000,9,-999.0000,9,-999.0000,9,-999.0000,9,-999.0000,9,-999.0000,9,-999.0000,9,-999.0000,9,  14.8424,     -999.0,9,     -999.0,9,     -999.0,9,     -999.0,9,     -999.0,9,     -999.0,9,     -999.0,9,-999.0000, -999.00
33RO20071215,        P18,     110,          1,         30,      12036,2,20080126,       0424,   -35.0842,  -103.0005,       3561,   102.8,  14.5779,  34.4666,2,  34.4622,2,    251.3,2,   251.5,2,    0.70,2,    2.20,2,    0.13,2,    0.28,2,   2.927,2,   1.728,2,   1.2723,2,  2046.8,2,  2276.4,2,    442.3,2,    20.00,   7.9231,2,    25.00,-999.000,9,-999.0000,9, -999.00,9, -999.00,9,  -999.0,9,-999.000,9,-999.000,-999.000,9,-999.000,9,   54.69,2,    6.02,2, -999.00,9, -999.00,9, -999.00,9,-999.000,-999.0000,9,-999.0000,9,-999.0000,9,-999.0000,9,-999.0000,9,-999.0000,9,-999.0000,9,-999.0000,9,-999.0000,9,  14.5628,     -999.0,9,     -999.0,9,     -999.0,9,     -999.0,9,     -999.0,9,     -999.0,9,     -999.0,9,-999.0000, -999.00
33RO20071215,        P18,     110,          1,         29,      12044,2,20080126,       0424,   -35.0842,  -103.0005,       3561,   132.9,  13.0899,  34.2913,2,  34.2920,2,    248.9,2,   249.0,2,    0.80,2,    5.20,2,    0.44,2,    0.48,2,-999.000,9,-999.000,9,-999.0000,9,  2058.9,2,  -999.0,5,    492.5,2,    20.00,   7.9008,2,    25.00,-999.000,9,-999.0000,9, -999.00,9, -999.00,9,  -999.0,9,-999.000,9,-999.000,-999.000,9,-999.000,9,   50.35,2,    8.53,2, -999.00,9, -999.00,9, -999.00,9,-999.000,-999.0000,9,-999.0000,9,-999.0000,9,-999.0000,9,-999.0000,9,-999.0000,9,-999.0000,9,-999.0000,9,-999.0000,9,  13.0717,     -999.0,9,     -999.0,9,     -999.0,9,     -999.0,9,     -999.0,9,     -999.0,9,     -999.0,9,-999.0000, -999.00
33RO20071215,        P18,     110,          1,         28,      12057,2,20080126,       0424,   -35.0842,  -103.0005,       3561,   158.2,  12.1890,  34.2620,2,  34.2637,2,    242.8,2,   243.7,2,    1.10,2,    8.00,2,    0.51,2,    0.63,2,-999.000,9,-999.000,9,-999.0000,9,  2074.9,2,  2253.3,4,   -999.0,9,  -999.00,   7.8591,2,    25.00,-999.000,9,-999.0000,9, -999.00,9, -999.00,9,  -999.0,9,-999.000,9,-999.000,-999.000,9,-999.000,9,   47.55,2,   11.11,2, -999.00,9, -999.00,9, -999.00,9,-999.000,-999.0000,9,-999.0000,9,-999.0000,9,-999.0000,9,-999.0000,9,-999.0000,9,-999.0000,9,-999.0000,9,-999.0000,9,  12.1683,     -999.0,9,     -999.0,9,     -999.0,9,     -999.0,9,     -999.0,9,     -999.0,9,     -999.0,9,-999.0000, -999.00
33RO20071215,        P18,     110,          1,         27,      12026,2,20080126,       0424,   -35.0842,  -103.0005,       3561,   182.7,  11.6972,  34.3322,2,  34.3308,2,    231.3,2,   232.7,2,    1.40,2,   10.70,2,    0.02,2,    0.75,2,-999.000,9,-999.000,9,-999.0000,9,  2087.0,2,  -999.0,5,    583.3,2,    20.00,   7.8115,2,    25.00,-999.000,9,-999.0000,9, -999.00,9, -999.00,9,  -999.0,9,-999.000,9,-999.000,-999.000,9,-999.000,9,   46.76,2,   13.28,2, -999.00,9, -999.00,9, -999.00,9,-999.000,-999.0000,9,-999.0000,9,-999.0000,9,-999.0000,9,-999.0000,9,-999.0000,9,-999.0000,9,-999.0000,9,-999.0000,9,  11.6739,     -999.0,9,     -999.0,9,     -999.0,9,     -999.0,9,     -999.0,9,     -999.0,9,     -999.0,9,-999.0000, -999.00
33RO20071215,        P18,     110,          1,         26,      12030,2,20080126,       0424,   -35.0842,  -103.0005,       3561,   217.3,  10.7511,  34.3428,2,  34.3431,2,    227.9,2,   228.1,2,    1.90,2,   13.40,2,    0.01,2,    0.91,2,   3.481,2,   1.932,2,   1.1207,2,  2100.8,2,  2270.8,2,   -999.0,9,  -999.00,   7.7969,2,    25.00,-999.000,9,-999.0000,9, -999.00,9, -999.00,9,  -999.0,9,-999.000,9,-999.000,-999.000,9,-999.000,9,   44.89,2,   15.07,2, -999.00,9, -999.00,9, -999.00,1,-999.000,-999.0000,9,-999.0000,9,-999.0000,9,-999.0000,9,-999.0000,9,-999.0000,9,-999.0000,9,-999.0000,9,-999.0000,9,  10.7249,     -999.0,1,     -999.0,9,     -999.0,9,     -999.0,9,     -999.0,9,     -999.0,1,     -999.0,9,-999.0000, -999.00
33RO20071215,        P18,     110,          1,         25,      12024,2,20080126,       0424,   -35.0842,  -103.0005,       3561,   266.9,   9.2098,  34.3336,2,  34.3353,2,    225.4,2,   223.2,2,    3.50,2,   18.00,2,    0.01,2,    1.21,2,-999.000,9,-999.000,9,-999.0000,9,  2121.8,2,  2271.8,2,    718.2,2,    20.00,   7.7755,2,    25.00,-999.000,9,-999.0000,9, -999.00,9, -999.00,9,  -999.0,9,-999.000,9,-999.000,-999.000,9,-999.000,9,   44.41,2,   19.83,2, -999.00,9, -999.00,9, -999.00,1,-999.000,-999.0000,9,-999.0000,9,-999.0000,9,-999.0000,9,-999.0000,9,-999.0000,9,-999.0000,9,-999.0000,9,-999.0000,9,   9.1805,     -999.0,1,     -999.0,9,     -999.0,9,     -999.0,9,     -999.0,9,     -999.0,1,     -999.0,9,-999.0000, -999.00
33RO20071215,        P18,     110,          1,         24,      12019,2,20080126,       0424,   -35.0842,  -103.0005,       3561,   316.8,   7.9141,  34.2974,2,  34.2973,2,    231.6,2,   232.7,2,    4.70,2,   20.80,2,    0.00,2,    1.38,2,   3.782,2,   1.977,2,   0.9575,2,  2134.4,2,  2271.0,2,   -999.0,9,  -999.00,   7.7260,2,    25.00,-999.000,9,-999.0000,9, -999.00,9, -999.00,9,  -999.0,9,-999.000,9,-999.000,-999.000,9,-999.000,9,   43.53,2,   21.90,2, -999.00,9, -999.00,9, -999.00,1,-999.000,-999.0000,9,-999.0000,9,-999.0000,9,-999.0000,9,-999.0000,9,-999.0000,9,-999.0000,9,-999.0000,9,-999.0000,9,   7.8823,     -999.0,1,     -999.0,9,     -999.0,9,     -999.0,9,     -999.0,9,     -999.0,1,     -999.0,9,-999.0000, -999.00
33RO20071215,        P18,     110,          1,         23,      12022,2,20080126,       0424,   -35.0842,  -103.0005,       3561,   366.9,   7.0296,  34.3040,2,  34.3050,2,    238.1,2,   240.0,2,    6.20,2,   22.40,2,    0.00,2,    1.48,2,-999.000,9,-999.000,9,-999.0000,9,  2139.0,2,  2272.5,2,    786.9,2,    20.00,   7.7194,2,    25.00,-999.000,9,-999.0000,9, -999.00,9, -999.00,9,  -999.0,9,-999.000,9,-999.000,-999.000,9,-999.000,9,   41.66,2,   23.59,2, -999.00,9, -999.00,9, -999.00,1,-999.000,-999.0000,9,-999.0000,9,-999.0000,9,-999.0000,9,-999.0000,9,-999.0000,9,-999.0000,9,-999.0000,9,-999.0000,9,   6.9951,     -999.0,1,     -999.0,9,     -999.0,9,     -999.0,9,     -999.0,9,     -999.0,1,     -999.0,9,-999.0000, -999.00
33RO20071215,        P18,     110,          1,         22,      12015,2,20080126,       0424,   -35.0842,  -103.0005,       3561,   432.1,   6.6422,  34.3205,2,  34.3206,2,    246.9,2,   246.8,2,    7.30,2,   22.80,2,    0.00,2,    1.50,2,   3.877,2,   1.988,2,   0.9319,2,  -999.0,9,  -999.0,9,   -999.0,9,  -999.00,-999.0000,9,  -999.00,-999.000,9,-999.0000,9, -999.00,9, -999.00,9,  -999.0,9,-999.000,9,-999.000,-999.000,9,-999.000,9,   40.73,2,   24.04,2, -999.00,9, -999.00,9, -999.00,1,-999.000,-999.0000,9,-999.0000,9,-999.0000,9,-999.0000,9,-999.0000,9,-999.0000,9,-999.0000,9,-999.0000,9,-999.0000,9,   6.6027,     -999.0,1,     -999.0,9,     -999.0,9,     -999.0,9,     -999.0,9,     -999.0,1,     -999.0,9,-999.0000, -999.00
33RO20071215,        P18,     110,          1,         21,      12020,2,20080126,       0424,   -35.0842,  -103.0005,       3561,   533.0,   6.2472,  34.3096,2,  34.3110,2,    250.8,2,   250.7,2,    8.50,2,   23.50,2,    0.00,2,    1.54,2,   3.665,6,   1.841,6,   0.7054,6,  2141.0,2,  2269.4,4,    782.0,2,    20.00,   7.7228,2,    25.00,-999.000,9,-999.0000,9, -999.00,9, -999.00,9,  -999.0,9,-999.000,9,-999.000,-999.000,9,-999.000,9,   40.04,2,   24.85,2, -999.00,9, -999.00,9, -999.00,9,-999.000,-999.0000,9,-999.0000,9,-999.0000,9,-999.0000,9,-999.0000,9,-999.0000,9,-999.0000,9,-999.0000,9,-999.0000,9,   6.1997,     -999.0,9,     -999.0,9,     -999.0,9,     -999.0,9,     -999.0,9,     -999.0,9,     -999.0,9,-999.0000, -999.00
33RO20071215,        P18,     110,          1,         20,      12055,2,20080126,       0424,   -35.0842,  -103.0005,       3561,   632.5,   5.9212,  34.2913,2,  34.2934,2,    249.5,2,   249.3,2,    9.90,2,   24.40,2,    0.00,2,    1.61,2,   3.266,2,   1.629,2,   0.5076,2,  -999.0,9,  -999.0,9,   -999.0,9,  -999.00,-999.0000,9,  -999.00,-999.000,9,-999.0000,9, -999.00,9, -999.00,9,  -999.0,9,-999.000,9,-999.000,-999.000,9,-999.000,9,   40.26,2,   25.66,2, -999.00,9, -999.00,9, -999.00,9,-999.000,-999.0000,9,-999.0000,9,-999.0000,9,-999.0000,9,-999.0000,9,-999.0000,9,-999.0000,9,-999.0000,9,-999.0000,9,   5.8659,     -999.0,9,     -999.0,9,     -999.0,9,     -999.0,9,     -999.0,9,     -999.0,9,     -999.0,9,-999.0000, -999.00
33RO20071215,        P18,     110,          1,         19,      12018,2,20080126,       0424,   -35.0842,  -103.0005,       3561,   732.7,   5.5052,  34.2741,2,  34.2743,2,    241.7,2,   241.5,2,   12.60,2,   26.10,2,    0.00,2,    1.73,2,   2.549,2,   1.254,2,   0.3613,2,  2151.3,2,  2283.2,2,    827.6,2,    20.00,   7.6618,2,    25.00,-999.000,9,-999.0000,9, -999.00,9, -999.00,9,  -999.0,9,-999.000,9,-999.000,-999.000,9,-999.000,9,   40.05,2,   27.82,2, -999.00,9, -999.00,9, -999.00,9,-999.000,-999.0000,9,-999.0000,9,-999.0000,9,-999.0000,9,-999.0000,9,-999.0000,9,-999.0000,9,-999.0000,9,-999.0000,9,   5.4430,     -999.0,9,     -999.0,9,     -999.0,9,     -999.0,9,     -999.0,9,     -999.0,9,     -999.0,9,-999.0000, -999.00
33RO20071215,        P18,     110,          1,         18,      12025,2,20080126,       0424,   -35.0842,  -103.0005,       3561,   834.0,   5.0439,  34.2714,2,  34.2737,2,    226.9,2,   227.6,2,   17.60,2,   28.20,2,    0.00,2,    1.89,2,   1.702,2,   0.853,2,   0.2018,2,  -999.0,9,  -999.0,9,   -999.0,9,  -999.00,-999.0000,9,  -999.00,-999.000,9,-999.0000,9, -999.00,9, -999.00,9,  -999.0,9,-999.000,9,-999.000,-999.000,9,-999.000,9,   39.96,2,   29.59,2, -999.00,9, -999.00,9, -999.00,9,-999.000,-999.0000,9,-999.0000,9,-999.0000,9,-999.0000,9,-999.0000,9,-999.0000,9,-999.0000,9,-999.0000,9,-999.0000,9,   4.9754,     -999.0,9,     -999.0,9,     -999.0,9,     -999.0,9,     -999.0,9,     -999.0,9,     -999.0,9,-999.0000, -999.00
33RO20071215,        P18,     110,          1,         17,      12016,2,20080126,       0424,   -35.0842,  -103.0005,       3561,   933.3,   4.4937,  34.2876,2,  34.2892,2,    208.8,2,   208.6,2,   26.30,2,   30.70,2,    0.00,2,    2.09,2,   0.955,2,   0.497,2,   0.0000,2,  2183.1,2,  2238.6,4,    977.6,2,    20.00,   7.6413,2,    25.00,-999.000,9,-999.0000,9, -999.00,9, -999.00,9,  -999.0,9,-999.000,9,-999.000,-999.000,9,-999.000,9,   39.68,2,   32.37,2, -999.00,9, -999.00,9, -999.00,9,-999.000,-999.0000,9,-999.0000,9,-999.0000,9,-999.0000,9,-999.0000,9,-999.0000,9,-999.0000,9,-999.0000,9,-999.0000,9,   4.4204,     -999.0,9,     -999.0,9,     -999.0,9,     -999.0,9,     -999.0,9,     -999.0,9,     -999.0,9,-999.0000, -999.00
33RO20071215,        P18,     110,          1,         16,      12051,2,20080126,       0424,   -35.0842,  -103.0005,       3561,  1033.7,   3.9848,  34.3242,2,  34.3252,2,    188.6,2,   188.6,2,   37.20,2,   33.10,2,    0.00,2,    2.27,2,   0.407,2,   0.226,2,   0.0000,2,  -999.0,9,  -999.0,9,   -999.0,9,  -999.00,-999.0000,9,  -999.00,-999.000,9,-999.0000,9, -999.00,9, -999.00,9,  -999.0,9,-999.000,9,-999.000,-999.000,9,-999.000,9,   39.24,2,   34.26,2, -999.00,9, -999.00,9, -999.00,9,-999.000,-999.0000,9,-999.0000,9,-999.0000,9,-999.0000,9,-999.0000,9,-999.0000,9,-999.0000,9,-999.0000,9,-999.0000,9,   3.9068,     -999.0,9,     -999.0,9,     -999.0,9,     -999.0,9,     -999.0,9,     -999.0,9,     -999.0,9,-999.0000, -999.00
33RO20071215,        P18,     110,          1,         15,      12014,2,20080126,       0424,   -35.0842,  -103.0005,       3561,  1132.7,   3.6196,  34.3843,2,  34.3855,2,    161.8,2,   161.4,2,   52.00,2,   35.60,2,    0.00,2,    2.47,2,   0.096,2,   0.056,2,   0.0000,2,  2234.9,2,  2303.7,2,   1208.0,2,    20.00,   7.5537,2,    25.00,-999.000,9,-999.0000,9, -999.00,9, -999.00,9,  -999.0,9,-999.000,9,-999.000,-999.000,9,-999.000,9,   38.12,2,   37.36,2, -999.00,9, -999.00,9, -999.00,9,-999.000,-999.0000,9,-999.0000,9,-999.0000,9,-999.0000,9,-999.0000,9,-999.0000,9,-999.0000,9,-999.0000,9,-999.0000,9,   3.5363,     -999.0,9,     -999.0,9,     -999.0,9,     -999.0,9,     -999.0,9,     -999.0,9,     -999.0,9,-999.0000, -999.00
33RO20071215,        P18,     110,          1,         14,      12013,2,20080126,       0424,   -35.0842,  -103.0005,       3561,  1232.8,   3.3967,  34.4380,2,  34.4391,2,    144.5,2,   144.0,2,   63.70,2,   36.90,2,    0.00,2,    2.59,2,-999.000,9,-999.000,9,-999.0000,9,  -999.0,9,  -999.0,9,   -999.0,9,  -999.00,-999.0000,9,  -999.00,-999.000,9,-999.0000,9, -999.00,9, -999.00,9,  -999.0,9,-999.000,9,-999.000,-999.000,9,-999.000,9,   38.29,2,   38.19,2, -999.00,9, -999.00,9, -999.00,9,-999.000,-999.0000,9,-999.0000,9,-999.0000,9,-999.0000,9,-999.0000,9,-999.0000,9,-999.0000,9,-999.0000,9,-999.0000,9,   3.3071,     -999.0,9,     -999.0,9,     -999.0,9,     -999.0,9,     -999.0,9,     -999.0,9,     -999.0,9,-999.0000, -999.00
33RO20071215,        P18,     110,          1,         13,      12012,2,20080126,       0424,   -35.0842,  -103.0005,       3561,  1332.5,   3.2183,  34.4882,2,  34.4894,2,    132.8,2,   132.5,2,   75.10,2,   37.80,2,    0.00,2,    2.67,2,-999.000,9,-999.000,9,-999.0000,9,  2271.8,2,  2336.5,2,   1343.6,2,    20.00,-999.0000,9,  -999.00,-999.000,9,-999.0000,9, -999.00,9, -999.00,9,  -999.0,9,-999.000,9,-999.000,-999.000,9,-999.000,9,   37.95,2,   39.39,2, -999.00,9, -999.00,9, -999.00,9,-999.000,-999.0000,9,-999.0000,9,-999.0000,9,-999.0000,9,-999.0000,9,-999.0000,9,-999.0000,9,-999.0000,9,-999.0000,9,   3.1222,     -999.0,9,     -999.0,9,     -999.0,9,     -999.0,9,     -999.0,9,     -999.0,9,     -999.0,9,-999.0000, -999.00
33RO20071215,        P18,     110,          1,         12,      12031,2,20080126,       0424,   -35.0842,  -103.0005,       3561,  1467.2,   2.9802,  34.5385,2,  34.5397,2,    128.4,2,   128.0,2,   87.40,2,   37.90,2,    0.00,2,    2.67,2,   0.002,2,   0.001,2,   0.0000,2,  -999.0,9,  -999.0,9,   -999.0,9,  -999.00,-999.0000,9,  -999.00,-999.000,9,-999.0000,9, -999.00,9, -999.00,9,  -999.0,9,-999.000,9,-999.000,-999.000,9,-999.000,9,   37.32,2,   38.90,2, -999.00,9, -999.00,9, -999.00,9,-999.000,-999.0000,9,-999.0000,9,-999.0000,9,-999.0000,9,-999.0000,9,-999.0000,9,-999.0000,9,-999.0000,9,-999.0000,9,   2.8754,     -999.0,9,     -999.0,9,     -999.0,9,     -999.0,9,     -999.0,9,     -999.0,9,     -999.0,9,-999.0000, -999.00