BOTTLE,20220818CCHSIOAMB
EXPOCODE,SECT_ID,STNNBR,CASTNO,SAMPNO,BTLNBR,BTLNBR_FLAG_W,DATE,TIME,LATITUDE,LONGITUDE,DEPTH,CTDPRS,CTDTMP,CTDSAL,CTDSAL_FLAG_W,SALNTY,SALNTY_FLAG_W,CTDOXY,CTDOXY_FLAG_W,OXYGEN,OXYGEN_FLAG_W,SILCAT,SILCAT_FLAG_W,NITRAT,NITRAT_FLAG_W,NITRIT,NITRIT_FLAG_W,PHSPHT,PHSPHT_FLAG_W,CFC-11,CFC-11_FLAG_W,CFC-12,CFC-12_FLAG_W,SF6,SF6_FLAG_W,TCARBN,TCARBN_FLAG_W,ALKALI,ALKALI_FLAG_W,FCO2,FCO2_FLAG_W,FCO2TMP,PH_SWS,PH_SWS_FLAG_W,PH_TMP,TRITUM,TRITUM_FLAG_W,HELIUM,HELIUM_FLAG_W,DELHE3,DELHE3_FLAG_W,DELC13,DELC13_FLAG_W,DELC14,DELC14_FLAG_W,NEON,NEON_FLAG_W,NEONER,CCL4,CCL4_FLAG_W,POC,POC_FLAG_W,DOC,DOC_FLAG_W,TDN,TDN_FLAG_W,DON,DON_FLAG_W,CHLORA,CHLORA_FLAG_W,ARGON,ARGON_FLAG_W,TRITER,CDOM325,CDOM325_FLAG_W,CDOM340,CDOM340_FLAG_W,CDOM380,CDOM380_FLAG_W,CDOM412,CDOM412_FLAG_W,CDOM443,CDOM443_FLAG_W,CDOM490,CDOM490_FLAG_W,CDOM555,CDOM555_FLAG_W,CDOMSL,CDOMSL_FLAG_W,CDOMSN,CDOMSN_FLAG_W,THETA,D18O_NO3,D18O_NO3_FLAG_W,CDOM2C,CDOM2C_FLAG_W,CDOM3C,CDOM3C_FLAG_W,LAB_DEN,LAB_DEN_FLAG_W,DELSI30,DELSI30_FLAG_W,N2,N2_FLAG_W,D15N_NO3,D15N_NO3_FLAG_W,HELIER,DELHER
,,,,,,,,,,,METERS,DBAR,ITS-90,PSS-78,,PSS-78,,UMOL/KG,,UMOL/KG,,UMOL/KG,,UMOL/KG,,UMOL/KG,,UMOL/KG,,PMOL/KG,,PMOL/KG,,FMOL/KG,,UMOL/KG,,UMOL/KG,,UATM,,DEG C,,,DEG C,TU,,NMOL/KG,,PERCNT,,/MILLE,,/MILLE,,NMOL/KG,,NMOL/KG,PMOL/KG,,UG/KG,,UMOL/KG,,UMOL/KG,,UMOL/KG,,UG/KG,,UMOL/KG,,TU,1/M,,1/M,,1/M,,1/M,,1/M,,1/M,,1/M,,1/NM,,1/NM,,DEG C,/MILLE,,,,,,,,/MILLE,,UMOL/KG,,/MILLE,,NMOL/KG,PERCNT
33RO20071215,        P18,      36,          1,         36,      12017,2,20071227,       0027,     3.9998,  -109.9998,       3879,     5.4,  24.3473,  33.8957,2,  33.8964,2,    212.4,2,   212.6,2,    2.20,2,    1.80,2,    0.04,2,    0.24,2,   1.820,6,   1.147,6,   1.0497,6,  1945.4,6,  2229.2,2,   -999.0,9,  -999.00,   8.0661,2,    25.00,-999.000,9,   1.7020,2,   -1.40,2, -999.00,9,  -999.0,1,   6.703,2,   0.023,-999.000,9,-999.000,9,   74.17,2,    6.92,2, -999.00,1, -999.00,9, -999.00,9,-999.000,-999.0000,9,-999.0000,9,-999.0000,9,-999.0000,9,-999.0000,9,-999.0000,9,-999.0000,9,-999.0000,9,-999.0000,9,  24.3461,     -999.0,9,     -999.0,9,     -999.0,9,     -999.0,9,     -999.0,9,     -999.0,9,     -999.0,9,   0.0048,    0.15
33RO20071215,        P18,      36,          1,         35,      12029,2,20071227,       0027,     3.9998,  -109.9998,       3879,     9.6,  24.2895,  33.8999,2,  33.9078,2,    213.1,2,   211.8,2,    2.40,2,    2.10,2,    0.04,2,    0.26,2,   1.800,2,   1.133,2,   1.0437,2,  1946.7,2,  2229.3,2,   -999.0,9,  -999.00,   8.0350,2,    25.00,-999.000,9,-999.0000,9, -999.00,9, -999.00,9,  -999.0,9,-999.000,9,-999.000,-999.000,9,-999.000,9, -999.00,9, -999.00,9, -999.00,1, -999.00,9, -999.00,9,-999.000,-999.0000,9,-999.0000,9,-999.0000,9,-999.0000,9,-999.0000,9,-999.0000,9,-999.0000,9,-999.0000,9,-999.0000,9,  24.2874,     -999.0,9,     -999.0,9,     -999.0,9,     -999.0,9,     -999.0,9,     -999.0,9,     -999.0,9,-999.0000, -999.00
33RO20071215,        P18,      36,          1,         34,      12049,2,20071227,       0027,     3.9998,  -109.9998,       3879,    20.1,  24.0685,  33.9332,2,  33.9365,2,    212.3,2,   211.4,2,    2.60,2,    2.40,2,    0.05,2,    0.28,2,   1.837,2,   1.153,2,   1.0645,2,  1951.1,2,  2231.3,2,   -999.0,9,  -999.00,   8.0363,2,    25.00,-999.000,9,-999.0000,9, -999.00,9, -999.00,9,  -999.0,9,-999.000,9,-999.000,-999.000,9,-999.000,9,   74.03,2,    6.93,2, -999.00,1, -999.00,9, -999.00,9,-999.000,-999.0000,9,-999.0000,9,-999.0000,9,-999.0000,9,-999.0000,9,-999.0000,9,-999.0000,9,-999.0000,9,-999.0000,9,  24.0643,     -999.0,9,     -999.0,9,     -999.0,9,     -999.0,9,     -999.0,9,     -999.0,9,     -999.0,9,-999.0000, -999.00
33RO20071215,        P18,      36,          1,         33,      12027,2,20071227,       0027,     3.9998,  -109.9998,       3879,    42.7,  23.8366,  33.9946,2,  33.9937,2,    211.4,2,   210.4,2,    3.00,2,    3.10,2,    0.06,2,    0.34,2,   1.815,2,   1.138,2,   1.0174,2,  1961.8,2,  2234.9,2,   -999.0,9,  -999.00,   8.0716,2,    25.00,   0.493,2,   1.7107,2,   -1.33,2, -999.00,9,  -999.0,9,   6.800,2,   0.023,-999.000,9,-999.000,9, -999.00,9, -999.00,9, -999.00,1, -999.00,9, -999.00,9,   0.008,-999.0000,9,-999.0000,9,-999.0000,9,-999.0000,9,-999.0000,9,-999.0000,9,-999.0000,9,-999.0000,9,-999.0000,9,  23.8277,     -999.0,9,     -999.0,9,     -999.0,9,     -999.0,9,     -999.0,9,     -999.0,9,     -999.0,9,   0.0048,    0.15
33RO20071215,        P18,      36,          1,         32,      12023,2,20071227,       0027,     3.9998,  -109.9998,       3879,    68.1,  22.3211,  34.3281,2,  34.3282,2,    204.7,2,   206.6,2,    5.80,2,    7.60,2,    0.12,2,    0.63,2,   1.910,2,   1.180,2,   1.0308,2,  2019.7,2,  2259.6,2,   -999.0,9,  -999.00,   7.9506,2,    25.00,-999.000,9,-999.0000,9, -999.00,9, -999.00,9,  -999.0,9,-999.000,9,-999.000,-999.000,9,-999.000,9,   64.63,2,   11.98,2, -999.00,1, -999.00,9, -999.00,9,-999.000,-999.0000,9,-999.0000,9,-999.0000,9,-999.0000,9,-999.0000,9,-999.0000,9,-999.0000,9,-999.0000,9,-999.0000,9,  22.3076,     -999.0,9,     -999.0,9,     -999.0,9,     -999.0,9,     -999.0,9,     -999.0,9,     -999.0,9,-999.0000, -999.00
33RO20071215,        P18,      36,          1,         31,      12037,2,20071227,       0027,     3.9998,  -109.9998,       3879,    91.8,  19.3183,  34.5966,2,  34.6219,2,    157.4,2,   149.8,2,    9.90,2,   14.60,2,    0.35,2,    1.12,2,-999.000,5,-999.000,5,-999.0000,5,  2100.7,2,  2279.6,2,   -999.0,9,  -999.00,   7.8192,2,    25.00,   0.418,2,   1.7406,2,    0.65,2, -999.00,9,  -999.0,9,   7.054,2,   0.024,-999.000,9,-999.000,9, -999.00,9, -999.00,9, -999.00,1, -999.00,9, -999.00,9,   0.007,-999.0000,9,-999.0000,9,-999.0000,9,-999.0000,9,-999.0000,9,-999.0000,9,-999.0000,9,-999.0000,9,-999.0000,9,  19.3018,     -999.0,9,     -999.0,9,     -999.0,9,     -999.0,9,     -999.0,9,     -999.0,9,     -999.0,9,   0.0049,    0.15
33RO20071215,        P18,      36,          1,         30,      12036,2,20071227,       0027,     3.9998,  -109.9998,       3879,   117.9,  15.1297,  34.9182,2,  34.9184,2,     59.2,2,    58.1,2,   17.10,2,   25.60,2,    0.41,2,    1.77,2,   1.779,2,   1.063,2,   0.7604,2,  2191.3,2,  2295.0,2,   -999.0,9,  -999.00,   7.6256,2,    25.00,-999.000,9,-999.0000,9, -999.00,9, -999.00,9,  -999.0,9,-999.000,9,-999.000,-999.000,9,-999.000,9,   55.26,2,   29.42,2, -999.00,1, -999.00,9, -999.00,9,-999.000,-999.0000,9,-999.0000,9,-999.0000,9,-999.0000,9,-999.0000,9,-999.0000,9,-999.0000,9,-999.0000,9,-999.0000,9,  15.1118,     -999.0,9,     -999.0,9,     -999.0,9,     -999.0,9,     -999.0,9,     -999.0,9,     -999.0,9,-999.0000, -999.00
33RO20071215,        P18,      36,          1,         29,      12044,2,20071227,       0027,     3.9998,  -109.9998,       3879,   130.6,  14.3567,  34.9507,2,  34.9468,2,     50.3,2,    48.8,2,   18.20,2,   27.40,2,    0.07,2,    1.85,2,   1.392,2,   0.776,2,   0.3412,2,  2202.4,2,  2297.2,2,   -999.0,9,  -999.00,   7.5955,2,    25.00,   0.335,2,   1.7747,2,    4.36,2, -999.00,9,  -999.0,9,   7.304,2,   0.025,-999.000,9,-999.000,9, -999.00,9, -999.00,9, -999.00,1, -999.00,9, -999.00,9,   0.007,-999.0000,9,-999.0000,9,-999.0000,9,-999.0000,9,-999.0000,9,-999.0000,9,-999.0000,9,-999.0000,9,-999.0000,9,  14.3375,     -999.0,9,     -999.0,9,     -999.0,9,     -999.0,9,     -999.0,9,     -999.0,9,     -999.0,9,   0.0050,    0.15
33RO20071215,        P18,      36,          1,         28,      12057,2,20071227,       0027,     3.9998,  -109.9998,       3879,   167.8,  13.5235,  34.9339,2,  34.9328,2,     40.1,2,    40.0,2,   20.70,2,   29.40,2,    0.01,2,    1.98,2,   1.160,2,   0.644,2,   0.2772,2,  2213.4,2,  2298.4,2,   -999.0,9,  -999.00,   7.5638,2,    25.00,-999.000,9,-999.0000,9, -999.00,9, -999.00,9,  -999.0,9,-999.000,9,-999.000,-999.000,9,-999.000,9,   52.44,2,   32.14,2, -999.00,1, -999.00,9, -999.00,9,-999.000,-999.0000,9,-999.0000,9,-999.0000,9,-999.0000,9,-999.0000,9,-999.0000,9,-999.0000,9,-999.0000,9,-999.0000,9,  13.4998,     -999.0,9,     -999.0,9,     -999.0,9,     -999.0,9,     -999.0,9,     -999.0,9,     -999.0,9,-999.0000, -999.00
33RO20071215,        P18,      36,          1,         27,      12026,2,20071227,       0027,     3.9998,  -109.9998,       3879,   191.3,  13.2960,  34.9239,2,  34.9215,2,     35.4,2,    36.5,2,   21.50,2,   30.00,2,    0.01,2,    2.02,2,   1.093,2,   0.604,2,   0.2396,2,  2216.9,2,  -999.0,5,   -999.0,9,  -999.00,   7.5391,2,    25.00,-999.000,9,   1.7692,2,    5.14,2, -999.00,9,  -999.0,9,   7.261,2,   0.025,-999.000,9,-999.000,9, -999.00,9, -999.00,9, -999.00,1, -999.00,9, -999.00,9,-999.000,-999.0000,9,-999.0000,9,-999.0000,9,-999.0000,9,-999.0000,9,-999.0000,9,-999.0000,9,-999.0000,9,-999.0000,9,  13.2693,     -999.0,9,     -999.0,9,     -999.0,9,     -999.0,9,     -999.0,9,     -999.0,9,     -999.0,9,   0.0050,    0.15
33RO20071215,        P18,      36,          1,         26,      12030,2,20071227,       0027,     3.9998,  -109.9998,       3879,   233.7,  12.8131,  34.8923,2,  34.8900,2,     28.0,2,    27.5,2,   23.70,2,   31.30,2,    0.01,2,    2.12,2,   0.939,2,   0.524,2,   0.2089,2,  2227.8,2,  2299.9,2,   -999.0,9,  -999.00,   7.5172,2,    25.00,-999.000,9,-999.0000,9, -999.00,9, -999.00,9,  -999.0,9,-999.000,9,-999.000,-999.000,9,-999.000,9,   48.90,2,   33.92,2, -999.00,1, -999.00,9, -999.00,9,-999.000,-999.0000,9,-999.0000,9,-999.0000,9,-999.0000,9,-999.0000,9,-999.0000,9,-999.0000,9,-999.0000,9,-999.0000,9,  12.7813,     -999.0,9,     -999.0,9,     -999.0,9,     -999.0,9,     -999.0,9,     -999.0,9,     -999.0,9,-999.0000, -999.00
33RO20071215,        P18,      36,          1,         25,      12024,2,20071227,       0027,     3.9998,  -109.9998,       3879,   282.9,  12.0948,  34.8316,2,  34.8311,2,     14.6,2,    15.0,2,   27.10,2,   32.90,2,    0.00,2,    2.28,2,   0.741,2,   0.414,2,   0.1246,2,  2243.2,2,  2300.7,2,   -999.0,9,  -999.00,   7.4706,2,    25.00,   0.239,2,   1.7751,2,    6.25,2, -999.00,9,  -999.0,9,   7.322,2,   0.025,-999.000,9,-999.000,9,   47.14,2,   34.36,2, -999.00,1, -999.00,9, -999.00,9,   0.006,-999.0000,9,-999.0000,9,-999.0000,9,-999.0000,9,-999.0000,9,-999.0000,9,-999.0000,9,-999.0000,9,-999.0000,9,  12.0576,     -999.0,9,     -999.0,9,     -999.0,9,     -999.0,9,     -999.0,9,     -999.0,9,     -999.0,9,   0.0050,    0.15
33RO20071215,        P18,      36,          1,         24,      12019,2,20071227,       0027,     3.9998,  -109.9998,       3879,   320.1,  11.5954,  34.7979,2,  34.7968,2,     38.3,2,    35.2,2,   27.20,2,   31.80,2,    0.01,2,    2.17,2,   0.770,2,   0.425,2,   0.1623,2,  2232.9,2,  2301.2,2,   -999.0,9,  -999.00,   7.5083,2,    25.00,-999.000,9,-999.0000,9, -999.00,9, -999.00,9,  -999.0,9,-999.000,9,-999.000,-999.000,9,-999.000,9,   45.60,2,   33.36,2, -999.00,1, -999.00,9, -999.00,9,-999.000,-999.0000,9,-999.0000,9,-999.0000,9,-999.0000,9,-999.0000,9,-999.0000,9,-999.0000,9,-999.0000,9,-999.0000,9,  11.5544,     -999.0,9,     -999.0,9,     -999.0,9,     -999.0,9,     -999.0,9,     -999.0,9,     -999.0,9,-999.0000, -999.00
33RO20071215,        P18,      36,          1,         23,      12022,2,20071227,       0027,     3.9998,  -109.9998,       3879,   381.9,  10.3979,  34.7255,2,  34.7284,2,     10.8,2,    11.4,2,   35.10,2,   34.00,2,    0.00,2,    2.53,2,   0.357,2,   0.200,2,   0.0405,2,  -999.0,9,  -999.0,9,   -999.0,9,  -999.00,-999.0000,9,  -999.00,   0.147,2,   1.7956,2,    6.55,2, -999.00,9,  -999.0,9,   7.417,2,   0.025,-999.000,9,-999.000,9,   44.19,2,   35.36,2, -999.00,1, -999.00,9, -999.00,9,   0.006,-999.0000,9,-999.0000,9,-999.0000,9,-999.0000,9,-999.0000,9,-999.0000,9,-999.0000,9,-999.0000,9,-999.0000,9,  10.3522,     -999.0,9,     -999.0,9,     -999.0,9,     -999.0,9,     -999.0,9,     -999.0,9,     -999.0,9,   0.0050,    0.15
33RO20071215,        P18,      36,          1,         22,      12015,2,20071227,       0027,     3.9998,  -109.9998,       3879,   467.2,   8.6980,  34.6485,2,  34.6454,2,      3.9,2,     3.8,2,   47.10,2,   37.40,2,    0.00,2,    2.89,2,   0.059,2,   0.035,2,   0.0000,2,  2290.7,6,  2315.2,2,   -999.0,9,  -999.00,   7.3707,2,    25.00,-999.000,9,-999.0000,9, -999.00,9, -999.00,9,  -999.0,9,-999.000,9,-999.000,-999.000,9,-999.000,9,   43.11,2,   38.43,2, -999.00,1, -999.00,9, -999.00,9,-999.000,-999.0000,9,-999.0000,9,-999.0000,9,-999.0000,9,-999.0000,9,-999.0000,9,-999.0000,9,-999.0000,9,-999.0000,9,   8.6477,     -999.0,9,     -999.0,9,     -999.0,9,     -999.0,9,     -999.0,9,     -999.0,9,     -999.0,9,-999.0000, -999.00
33RO20071215,        P18,      36,          1,         21,      12020,2,20071227,       0027,     3.9998,  -109.9998,       3879,   567.8,   7.1995,  34.5877,2,  34.5869,2,     24.9,2,    26.7,2,   53.10,2,   41.00,2,    0.00,2,    2.92,2,   0.025,2,   0.016,2,   0.0000,2,  -999.0,9,  -999.0,9,   -999.0,9,  -999.00,-999.0000,9,  -999.00,-999.000,9,-999.0000,9, -999.00,9, -999.00,9,  -999.0,9,-999.000,9,-999.000,-999.000,9,-999.000,9,   42.17,2,   42.08,2, -999.00,1, -999.00,9, -999.00,9,-999.000,-999.0000,9,-999.0000,9,-999.0000,9,-999.0000,9,-999.0000,9,-999.0000,9,-999.0000,9,-999.0000,9,-999.0000,9,   7.1444,     -999.0,9,     -999.0,9,     -999.0,9,     -999.0,9,     -999.0,9,     -999.0,9,     -999.0,9,-999.0000, -999.00
33RO20071215,        P18,      36,          1,         20,      12055,2,20071227,       0027,     3.9998,  -109.9998,       3879,   666.4,   6.3470,  34.5639,2,  34.5636,2,     44.2,2,    43.9,2,   60.00,2,   41.30,2,    0.00,2,    2.91,2,   0.014,2,   0.010,2,   0.0196,2,  2286.8,2,  2320.3,2,   -999.0,9,  -999.00,   7.4206,2,    25.00,-999.000,9,-999.0000,9, -999.00,9, -999.00,9,  -999.0,9,-999.000,9,-999.000,-999.000,9,-999.000,9,   41.32,2,   42.68,2, -999.00,1, -999.00,9, -999.00,9,-999.000,-999.0000,9,-999.0000,9,-999.0000,9,-999.0000,9,-999.0000,9,-999.0000,9,-999.0000,9,-999.0000,9,-999.0000,9,   6.2862,     -999.0,9,     -999.0,9,     -999.0,9,     -999.0,9,     -999.0,9,     -999.0,9,     -999.0,9,-999.0000, -999.00
33RO20071215,        P18,      36,          1,         19,      12018,2,20071227,       0027,     3.9998,  -109.9998,       3879,   767.7,   5.7577,  34.5581,2,  34.5570,2,     49.2,2,    49.7,2,   68.60,2,   41.70,2,    0.00,2,    2.92,2,   0.006,2,   0.004,2,   0.0000,2,  -999.0,9,  -999.0,9,   -999.0,9,  -999.00,-999.0000,9,  -999.00,-999.000,9,-999.0000,9, -999.00,9, -999.00,9,  -999.0,9,-999.000,9,-999.000,-999.000,9,-999.000,9,   40.45,2,   42.93,2, -999.00,1, -999.00,9, -999.00,9,-999.000,-999.0000,9,-999.0000,9,-999.0000,9,-999.0000,9,-999.0000,9,-999.0000,9,-999.0000,9,-999.0000,9,-999.0000,9,   5.6905,     -999.0,9,     -999.0,9,     -999.0,9,     -999.0,9,     -999.0,9,     -999.0,9,     -999.0,9,-999.0000, -999.00
33RO20071215,        P18,      36,          1,         18,      12025,2,20071227,       0027,     3.9998,  -109.9998,       3879,   867.9,   5.2550,  34.5570,2,  34.5579,2,     51.7,2,    51.5,2,   77.00,2,   42.10,2,    0.00,2,    2.97,2,   0.003,2,   0.002,2,   0.0000,2,  2304.7,2,  2340.5,2,   -999.0,9,  -999.00,   7.4222,2,    25.00,-999.000,9,-999.0000,9, -999.00,9, -999.00,9,  -999.0,9,-999.000,9,-999.000,-999.000,9,-999.000,9,   39.82,2,   43.11,2, -999.00,1, -999.00,9, -999.00,9,-999.000,-999.0000,9,-999.0000,9,-999.0000,9,-999.0000,9,-999.0000,9,-999.0000,9,-999.0000,9,-999.0000,9,-999.0000,9,   5.1818,     -999.0,9,     -999.0,9,     -999.0,9,     -999.0,9,     -999.0,9,     -999.0,9,     -999.0,9,-999.0000, -999.00
33RO20071215,        P18,      36,          1,         17,      12016,2,20071227,       0027,     3.9998,  -109.9998,       3879,   967.0,   4.7468,  34.5601,2,  34.5603,2,     58.3,2,    58.5,2,   86.40,2,   41.90,2,    0.00,2,    2.98,2,-999.000,9,-999.000,9,-999.0000,9,  -999.0,9,  -999.0,9,   -999.0,9,  -999.00,-999.0000,9,  -999.00,-999.000,9,-999.0000,9, -999.00,9, -999.00,9,  -999.0,9,-999.000,9,-999.000,-999.000,9,-999.000,9,   39.63,2,   43.69,2, -999.00,1, -999.00,9, -999.00,9,-999.000,-999.0000,9,-999.0000,9,-999.0000,9,-999.0000,9,-999.0000,9,-999.0000,9,-999.0000,9,-999.0000,9,-999.0000,9,   4.6682,     -999.0,9,     -999.0,9,     -999.0,9,     -999.0,9,     -999.0,9,     -999.0,9,     -999.0,9,-999.0000, -999.00
33RO20071215,        P18,      36,          1,         16,      12051,2,20071227,       0027,     3.9998,  -109.9998,       3879,  1067.5,   4.2991,  34.5681,2,  34.5689,2,     65.7,2,    65.0,2,   95.30,2,   41.60,2,    0.00,2,    2.95,2,   0.002,2,   0.001,2,   0.0000,2,  2318.2,2,  2364.3,2,   -999.0,9,  -999.00,   7.4400,2,    25.00,-999.000,9,-999.0000,9, -999.00,9, -999.00,9,  -999.0,9,-999.000,9,-999.000,-999.000,9,-999.000,9,   39.36,2,   42.63,2, -999.00,9, -999.00,9, -999.00,9,-999.000,-999.0000,9,-999.0000,9,-999.0000,9,-999.0000,9,-999.0000,9,-999.0000,9,-999.0000,9,-999.0000,9,-999.0000,9,   4.2152,     -999.0,9,     -999.0,9,     -999.0,9,     -999.0,9,     -999.0,9,     -999.0,9,     -999.0,9,-999.0000, -999.00
33RO20071215,        P18,      36,          1,         15,      12014,2,20071227,       0027,     3.9998,  -109.9998,       3879,  1168.4,   3.9889,  34.5766,2,  34.5765,2,     66.8,2,    67.7,2,  102.80,2,   41.60,2,    0.00,2,    2.95,2,-999.000,9,-999.000,9,-999.0000,9,  -999.0,9,  -999.0,9,   -999.0,9,  -999.00,-999.0000,9,  -999.00,-999.000,9,-999.0000,9, -999.00,9, -999.00,9,  -999.0,9,-999.000,9,-999.000,-999.000,9,-999.000,9,   38.91,2,   43.20,2, -999.00,9, -999.00,9, -999.00,9,-999.000,-999.0000,9,-999.0000,9,-999.0000,9,-999.0000,9,-999.0000,9,-999.0000,9,-999.0000,9,-999.0000,9,-999.0000,9,   3.8990,     -999.0,9,     -999.0,9,     -999.0,9,     -999.0,9,     -999.0,9,     -999.0,9,     -999.0,9,-999.0000, -999.00
33RO20071215,        P18,      36,          1,         14,      12013,2,20071227,       0027,     3.9998,  -109.9998,       3879,  1266.1,   3.7256,  34.5869,2,  34.5871,2,     66.0,2,    66.7,2,  110.10,2,   41.90,2,    0.00,2,    2.96,2,   0.001,2,   0.000,2,   0.0000,2,  2334.7,2,  2381.3,2,   -999.0,9,  -999.00,   7.4363,2,    25.00,-999.000,9,-999.0000,9, -999.00,9, -999.00,9,  -999.0,9,-999.000,9,-999.000,-999.000,9,-999.000,9,   38.53,2,   43.15,2, -999.00,9, -999.00,9, -999.00,9,-999.000,-999.0000,9,-999.0000,9,-999.0000,9,-999.0000,9,-999.0000,9,-999.0000,9,-999.0000,9,-999.0000,9,-999.0000,9,   3.6298,     -999.0,9,     -999.0,9,     -999.0,9,     -999.0,9,     -999.0,9,     -999.0,9,     -999.0,9,-999.0000, -999.00
33RO20071215,        P18,      36,          1,         13,      12012,2,20071227,       0027,     3.9998,  -109.9998,       3879,  1367.3,   3.3980,  34.6009,2,  34.6009,2,     69.2,2,    69.1,2,  119.00,2,   41.80,2,    0.00,2,    2.96,2,-999.000,9,-999.000,9,-999.0000,9,  -999.0,9,  -999.0,9,   -999.0,9,  -999.00,-999.0000,9,  -999.00,-999.000,9,-999.0000,9, -999.00,9, -999.00,9,  -999.0,9,-999.000,9,-999.000,-999.000,9,-999.000,9,   38.20,2,   42.90,2, -999.00,9, -999.00,9, -999.00,9,-999.000,-999.0000,9,-999.0000,9,-999.0000,9,-999.0000,9,-999.0000,9,-999.0000,9,-999.0000,9,-999.0000,9,-999.0000,9,   3.2968,     -999.0,9,     -999.0,9,     -999.0,9,     -999.0,9,     -999.0,9,     -999.0,9,     -999.0,9,-999.0000, -999.00
33RO20071215,        P18,      36,          1,         12,      12031,2,20071227,       0027,     3.9998,  -109.9998,       3879,  1532.9,   3.0151,  34.6138,2,  34.6146,2,     77.9,2,    78.2,2,  127.50,2,   41.20,2,    0.00,2,    2.91,2,   0.001,2,   0.001,2,   0.0000,2,  2346.8,2,  2402.5,2,   -999.0,9,  -999.00,   7.4630,2,    25.00,-999.000,9,-999.0000,9, -999.00,9, -999.00,9,  -999.0,9,-999.000,9,-999.000,-999.000,9,-999.000,9,   38.17,2,   42.71,2, -999.00,9, -999.00,9, -999.00,9,-999.000,-999.0000,9,-999.0000,9,-999.0000,9,-999.0000,9,-999.0000,9,-999.0000,9,-999.0000,9,-999.0000,9,-999.0000,9,   2.9042,     -999.0,9,     -999.0,9,     -999.0,9,     -999.0,9,     -999.0,9,     -999.0,9,     -999.0,9,-999.0000, -999.00