BOTTLE,20220818CCHSIOAMB
EXPOCODE,SECT_ID,STNNBR,CASTNO,SAMPNO,BTLNBR,BTLNBR_FLAG_W,DATE,TIME,LATITUDE,LONGITUDE,DEPTH,CTDPRS,CTDTMP,CTDSAL,CTDSAL_FLAG_W,SALNTY,SALNTY_FLAG_W,CTDOXY,CTDOXY_FLAG_W,OXYGEN,OXYGEN_FLAG_W,SILCAT,SILCAT_FLAG_W,NITRAT,NITRAT_FLAG_W,NITRIT,NITRIT_FLAG_W,PHSPHT,PHSPHT_FLAG_W,CFC-11,CFC-11_FLAG_W,CFC-12,CFC-12_FLAG_W,SF6,SF6_FLAG_W,TCARBN,TCARBN_FLAG_W,ALKALI,ALKALI_FLAG_W,FCO2,FCO2_FLAG_W,FCO2TMP,PH_SWS,PH_SWS_FLAG_W,PH_TMP,TRITUM,TRITUM_FLAG_W,HELIUM,HELIUM_FLAG_W,DELHE3,DELHE3_FLAG_W,DELC13,DELC13_FLAG_W,DELC14,DELC14_FLAG_W,NEON,NEON_FLAG_W,NEONER,CCL4,CCL4_FLAG_W,POC,POC_FLAG_W,DOC,DOC_FLAG_W,TDN,TDN_FLAG_W,DON,DON_FLAG_W,CHLORA,CHLORA_FLAG_W,ARGON,ARGON_FLAG_W,TRITER,CDOM325,CDOM325_FLAG_W,CDOM340,CDOM340_FLAG_W,CDOM380,CDOM380_FLAG_W,CDOM412,CDOM412_FLAG_W,CDOM443,CDOM443_FLAG_W,CDOM490,CDOM490_FLAG_W,CDOM555,CDOM555_FLAG_W,CDOMSL,CDOMSL_FLAG_W,CDOMSN,CDOMSN_FLAG_W,THETA,D18O_NO3,D18O_NO3_FLAG_W,CDOM2C,CDOM2C_FLAG_W,CDOM3C,CDOM3C_FLAG_W,LAB_DEN,LAB_DEN_FLAG_W,DELSI30,DELSI30_FLAG_W,N2,N2_FLAG_W,D15N_NO3,D15N_NO3_FLAG_W,HELIER,DELHER
,,,,,,,,,,,METERS,DBAR,ITS-90,PSS-78,,PSS-78,,UMOL/KG,,UMOL/KG,,UMOL/KG,,UMOL/KG,,UMOL/KG,,UMOL/KG,,PMOL/KG,,PMOL/KG,,FMOL/KG,,UMOL/KG,,UMOL/KG,,UATM,,DEG C,,,DEG C,TU,,NMOL/KG,,PERCNT,,/MILLE,,/MILLE,,NMOL/KG,,NMOL/KG,PMOL/KG,,UG/KG,,UMOL/KG,,UMOL/KG,,UMOL/KG,,UG/KG,,UMOL/KG,,TU,1/M,,1/M,,1/M,,1/M,,1/M,,1/M,,1/M,,1/NM,,1/NM,,DEG C,/MILLE,,,,,,,,/MILLE,,UMOL/KG,,/MILLE,,NMOL/KG,PERCNT
33RO20071215,        P18,      63,          1,         36,      12017,2,20080105,       2015,    -8.3325,  -105.3440,       3564,     5.4,  23.1775,  35.0367,2,  35.0377,2,    220.1,2,   220.0,2,    4.80,2,   11.10,2,    0.24,2,    0.79,2,   1.970,2,   1.227,2,   1.0799,2,  2062.9,6,  2313.8,2,   -999.0,9,  -999.00,   7.9421,2,    25.00,-999.000,9,-999.0000,9, -999.00,9,    1.11,2,  -999.0,1,-999.000,9,-999.000,-999.000,9,-999.000,9,   61.63,2,   15.32,2, -999.00,1,    0.12,2, -999.00,9,-999.000,   0.1100,2,   0.0761,2,   0.0356,2,   0.0286,2,   0.0200,2,   0.0108,2,   0.0044,2,   0.0124,2,   0.0161,2,  23.1764,     -999.0,9,     -999.0,9,     -999.0,9,     -999.0,1,     -999.0,9,     -999.0,9,     -999.0,9,-999.0000, -999.00
33RO20071215,        P18,      63,          1,         35,      12029,2,20080105,       2015,    -8.3325,  -105.3440,       3564,    10.1,  23.0588,  35.0356,2,  35.0364,2,    220.2,2,   220.7,2,    4.80,2,   11.10,2,    0.23,2,    0.79,2,-999.000,9,-999.000,9,-999.0000,9,  2064.0,2,  2312.2,2,   -999.0,9,  -999.00,   7.9259,2,    25.00,-999.000,9,-999.0000,9, -999.00,9, -999.00,9,  -999.0,9,-999.000,9,-999.000,-999.000,9,-999.000,9,   62.70,2,   16.09,2, -999.00,1,    0.15,2, -999.00,9,-999.000,   0.1275,2,   0.0901,2,   0.0445,2,   0.0354,2,   0.0255,2,   0.0144,2,   0.0064,2,   0.0118,2,   0.0146,2,  23.0567,     -999.0,9,     -999.0,9,     -999.0,9,     -999.0,1,     -999.0,9,     -999.0,9,     -999.0,9,-999.0000, -999.00
33RO20071215,        P18,      63,          1,         34,      12049,2,20080105,       2015,    -8.3325,  -105.3440,       3564,    19.3,  22.9965,  35.0353,2,  35.0373,2,    220.2,2,  -999.0,5,    4.80,2,   11.20,2,    0.23,2,    0.79,2,   1.972,6,   1.225,6,   1.0469,6,  2064.1,2,  2312.0,2,   -999.0,9,  -999.00,   7.9554,2,    25.00,-999.000,9,-999.0000,9, -999.00,9, -999.00,9,  -999.0,9,-999.000,9,-999.000,-999.000,9,-999.000,9,   61.82,2,   14.62,2, -999.00,1,    0.15,2, -999.00,9,-999.000,   0.1118,2,   0.0794,2,   0.0431,2,   0.0340,2,   0.0240,2,   0.0129,2,   0.0053,2,   0.0119,2,   0.0136,2,  22.9926,     -999.0,9,     -999.0,9,     -999.0,9,     -999.0,1,     -999.0,9,     -999.0,9,     -999.0,9,-999.0000, -999.00
33RO20071215,        P18,      63,          1,         33,      12027,2,20080105,       2015,    -8.3325,  -105.3440,       3564,    39.8,  22.4017,  34.9867,2,  34.9953,2,    220.4,2,   220.5,2,    5.40,2,   11.70,2,    0.22,2,    0.86,2,-999.000,9,-999.000,9,-999.0000,9,  2071.8,2,  2309.3,2,   -999.0,9,  -999.00,   7.9125,2,    25.00,-999.000,9,-999.0000,9, -999.00,9, -999.00,9,  -999.0,9,-999.000,9,-999.000,-999.000,9,-999.000,1,   62.27,2,   14.71,2, -999.00,1,    0.18,2, -999.00,9,-999.000,   0.1036,2,   0.0719,2,   0.0378,2,   0.0293,2,   0.0200,2,   0.0103,2,   0.0041,2,   0.0127,2,   0.0148,2,  22.3938,     -999.0,9,     -999.0,9,     -999.0,9,     -999.0,1,     -999.0,9,     -999.0,9,     -999.0,9,-999.0000, -999.00
33RO20071215,        P18,      63,          1,         32,      12023,2,20080105,       2015,    -8.3325,  -105.3440,       3564,    60.7,  22.0750,  35.0189,2,  34.9928,2,    217.4,2,   215.7,2,    6.30,2,   12.50,2,    0.23,2,    0.94,2,   2.025,2,   1.249,2,   1.0392,2,  2082.0,2,  2310.5,2,   -999.0,9,  -999.00,   7.8745,2,    25.00,-999.000,9,-999.0000,9, -999.00,9, -999.00,9,  -999.0,9,-999.000,9,-999.000,-999.000,9,-999.000,9,   60.82,2,   15.28,2, -999.00,1,    0.18,2, -999.00,9,-999.000,   0.1305,2,   0.0941,2,   0.0525,2,   0.0403,2,   0.0281,2,   0.0156,2,   0.0072,2,   0.0119,2,   0.0133,2,  22.0630,     -999.0,9,     -999.0,9,     -999.0,9,     -999.0,1,     -999.0,9,     -999.0,9,     -999.0,9,-999.0000, -999.00
33RO20071215,        P18,      63,          1,         31,      12037,2,20080105,       2015,    -8.3325,  -105.3440,       3564,    79.9,  19.9242,  34.9191,2,  34.9440,2,    178.8,2,   177.6,2,    8.90,2,   15.20,2,    0.36,2,    1.20,2,   1.971,2,   1.190,2,   0.8673,2,  2120.8,2,  2305.8,2,   -999.0,9,  -999.00,   7.8227,2,    25.00,-999.000,9,-999.0000,9, -999.00,9, -999.00,9,  -999.0,9,-999.000,9,-999.000,-999.000,9,-999.000,9,   58.99,2,   17.92,2, -999.00,1,    0.19,2, -999.00,9,-999.000,   0.1682,2,   0.1227,2,   0.0674,2,   0.0510,2,   0.0351,2,   0.0197,2,   0.0094,2,   0.0120,2,   0.0135,2,  19.9095,     -999.0,9,     -999.0,9,     -999.0,9,     -999.0,1,     -999.0,9,     -999.0,9,     -999.0,9,-999.0000, -999.00
33RO20071215,        P18,      63,          1,         30,      12036,2,20080105,       2015,    -8.3325,  -105.3440,       3564,   101.1,  18.3366,  35.2832,2,  35.2857,2,    141.5,2,   141.8,2,    3.80,2,   11.40,2,    0.78,2,    1.10,2,   2.292,3,   1.371,3,   0.9631,2,  2140.5,2,  2328.9,2,   -999.0,9,  -999.00,   7.8140,2,    25.00,-999.000,9,-999.0000,9, -999.00,9, -999.00,9,  -999.0,9,-999.000,9,-999.000,-999.000,9,-999.000,9,   59.10,2,   14.37,2, -999.00,1,    0.12,2, -999.00,9,-999.000,   0.1714,2,   0.1253,2,   0.0659,2,   0.0502,2,   0.0306,2,   0.0149,2,   0.0065,2,   0.0141,2,   0.0149,2,  18.3190,     -999.0,9,     -999.0,9,     -999.0,9,     -999.0,1,     -999.0,9,     -999.0,9,     -999.0,9,-999.0000, -999.00
33RO20071215,        P18,      63,          1,         29,      12044,2,20080105,       2015,    -8.3325,  -105.3440,       3564,   123.7,  15.3418,  35.0740,2,  35.0747,2,     50.5,2,    46.8,2,   10.80,2,   22.70,2,    0.54,2,    1.89,2,   1.841,2,   1.063,2,   0.6215,2,  2210.2,2,  2308.2,2,   -999.0,9,  -999.00,   7.6010,2,    25.00,-999.000,9,-999.0000,9, -999.00,9, -999.00,9,  -999.0,9,-999.000,9,-999.000,-999.000,9,-999.000,9,   52.31,2,   25.31,2, -999.00,1,    0.09,2, -999.00,9,-999.000,   0.1838,2,   0.1345,2,   0.0736,2,   0.0579,2,   0.0354,2,   0.0169,2,   0.0076,2,   0.0138,2,   0.0141,2,  15.3228,     -999.0,9,     -999.0,9,     -999.0,9,     -999.0,1,     -999.0,9,     -999.0,9,     -999.0,9,-999.0000, -999.00
33RO20071215,        P18,      63,          1,         28,      12057,2,20080105,       2015,    -8.3325,  -105.3440,       3564,   149.8,  13.8251,  34.9695,2,  34.9731,2,     12.4,2,    12.4,2,   17.40,2,   27.40,2,    0.06,2,    2.27,2,   1.304,2,   0.754,2,   0.3321,2,  2240.9,2,  -999.0,9,   -999.0,9,  -999.00,   7.4817,2,    25.00,-999.000,9,-999.0000,9, -999.00,9, -999.00,9,  -999.0,9,-999.000,9,-999.000,-999.000,9,-999.000,9,   49.15,2,   29.37,2, -999.00,1,    0.03,2, -999.00,9,-999.000,   0.1976,2,   0.1470,2,   0.0852,2,   0.0692,2,   0.0439,2,   0.0220,2,   0.0104,2,   0.0126,2,   0.0128,2,  13.8037,     -999.0,9,     -999.0,9,     -999.0,9,     -999.0,1,     -999.0,9,     -999.0,9,     -999.0,9,-999.0000, -999.00
33RO20071215,        P18,      63,          1,         27,      12026,2,20080105,       2015,    -8.3325,  -105.3440,       3564,   172.8,  13.0728,  34.9433,2,  34.9439,2,     16.5,2,    14.9,2,   20.30,2,   28.80,2,    0.02,2,    2.28,2,   0.987,2,   0.572,2,   0.2704,2,  2240.3,2,  2303.4,2,   -999.0,9,  -999.00,   7.4914,2,    25.00,-999.000,9,-999.0000,9, -999.00,9, -999.00,9,  -999.0,9,-999.000,9,-999.000,-999.000,9,-999.000,9,   47.73,2,   31.36,2, -999.00,1,    0.02,2, -999.00,9,-999.000,   0.1812,2,   0.1333,2,   0.0757,2,   0.0611,2,   0.0372,2,   0.0171,2,   0.0075,2,   0.0137,2,   0.0135,2,  13.0489,     -999.0,9,     -999.0,9,     -999.0,9,     -999.0,1,     -999.0,9,     -999.0,9,     -999.0,9,-999.0000, -999.00
33RO20071215,        P18,      63,          1,         26,      12030,2,20080105,       2015,    -8.3325,  -105.3440,       3564,   199.4,  12.6435,  34.9311,2,  34.9301,2,     34.3,2,    29.1,2,   20.70,2,   29.30,2,    0.01,2,    2.19,2,   0.877,2,   0.504,2,   0.1824,2,  2232.0,2,  -999.0,9,   -999.0,9,  -999.00,   7.5215,2,    25.00,-999.000,9,-999.0000,9, -999.00,9, -999.00,9,  -999.0,9,-999.000,9,-999.000,-999.000,9,-999.000,9,   47.01,2,   31.57,2, -999.00,1,    0.01,2, -999.00,9,-999.000,   0.1744,2,   0.1278,2,   0.0736,2,   0.0592,2,   0.0370,2,   0.0173,2,   0.0078,2,   0.0134,2,   0.0133,2,  12.6166,     -999.0,9,     -999.0,9,     -999.0,9,     -999.0,1,     -999.0,9,     -999.0,9,     -999.0,9,-999.0000, -999.00
33RO20071215,        P18,      63,          1,         25,      12024,2,20080105,       2015,    -8.3325,  -105.3440,       3564,   250.5,  11.6048,  34.8554,2,  34.8547,2,     16.1,2,    17.3,2,   26.40,2,   32.70,2,    0.01,2,    2.34,2,   0.526,2,   0.309,2,   0.0791,2,  2248.2,2,  2303.8,2,   -999.0,9,  -999.00,   7.4567,2,    25.00,-999.000,9,-999.0000,9, -999.00,9, -999.00,9,  -999.0,9,-999.000,9,-999.000,-999.000,9,-999.000,9,   46.16,2,   34.03,2, -999.00,1,    0.00,2, -999.00,9,-999.000,-999.0000,5,-999.0000,5,-999.0000,5,-999.0000,5,-999.0000,5,-999.0000,5,-999.0000,5,-999.0000,5,-999.0000,5,  11.5728,     -999.0,9,     -999.0,9,     -999.0,9,     -999.0,1,     -999.0,9,     -999.0,9,     -999.0,9,-999.0000, -999.00
33RO20071215,        P18,      63,          1,         24,      12019,2,20080105,       2015,    -8.3325,  -105.3440,       3564,   300.8,  11.1877,  34.8243,2,  34.8252,2,      8.4,2,     9.8,2,   29.00,2,   33.80,2,    0.01,2,    2.45,2,   0.368,2,   0.221,2,   0.0989,2,  2258.2,2,  -999.0,9,   -999.0,9,  -999.00,   7.4314,2,    25.00,-999.000,9,-999.0000,9, -999.00,9, -999.00,9,  -999.0,9,-999.000,9,-999.000,-999.000,9,-999.000,9,   44.95,2,   35.04,2, -999.00,1, -999.00,9, -999.00,9,-999.000,   0.1735,2,   0.1270,2,   0.0751,2,   0.0618,2,   0.0368,2,   0.0140,2,   0.0049,2,   0.0145,2,   0.0133,2,  11.1501,     -999.0,9,     -999.0,9,     -999.0,9,     -999.0,1,     -999.0,9,     -999.0,9,     -999.0,9,-999.0000, -999.00
33RO20071215,        P18,      63,          1,         23,      12022,2,20080105,       2015,    -8.3325,  -105.3440,       3564,   348.7,  10.6147,  34.7858,2,  34.7829,2,      5.1,2,     5.8,2,   32.00,2,   34.90,2,    0.00,2,    2.57,2,   0.226,2,   0.139,2,   0.0000,2,  2265.8,2,  2303.8,2,   -999.0,9,  -999.00,   7.4128,2,    25.00,-999.000,9,-999.0000,9, -999.00,9, -999.00,9,  -999.0,9,-999.000,9,-999.000,-999.000,9,-999.000,9,   43.78,2,   36.31,2, -999.00,1, -999.00,9, -999.00,9,-999.000,   0.1972,2,   0.1475,2,   0.0898,2,   0.0742,2,   0.0465,2,   0.0199,2,   0.0081,2,   0.0137,2,   0.0125,2,  10.5724,     -999.0,9,     -999.0,9,     -999.0,9,     -999.0,1,     -999.0,9,     -999.0,9,     -999.0,9,-999.0000, -999.00
33RO20071215,        P18,      63,          1,         22,      12015,2,20080105,       2015,    -8.3325,  -105.3440,       3564,   398.2,   9.9462,  34.7430,2,  34.7429,2,      8.0,2,     8.1,2,   33.90,2,   36.20,2,    0.00,2,    2.63,2,   0.150,2,   0.095,2,   0.0000,2,  2268.2,2,  -999.0,5,   -999.0,9,  -999.00,   7.4028,2,    25.00,-999.000,9,-999.0000,9, -999.00,9, -999.00,9,  -999.0,9,-999.000,9,-999.000,-999.000,9,-999.000,9,   42.54,2,   37.60,2, -999.00,1, -999.00,9, -999.00,9,-999.000,   0.2084,2,   0.1573,2,   0.0974,2,   0.0795,2,   0.0515,2,   0.0238,2,   0.0103,2,   0.0130,2,   0.0121,2,   9.8998,     -999.0,9,     -999.0,9,     -999.0,9,     -999.0,1,     -999.0,9,     -999.0,9,     -999.0,9,-999.0000, -999.00
33RO20071215,        P18,      63,          1,         21,      12020,2,20080105,       2015,    -8.3325,  -105.3440,       3564,   499.5,   8.2188,  34.6393,2,  34.6384,2,      6.4,2,     6.2,2,   42.00,2,   41.20,2,    0.00,2,    2.92,2,   0.019,2,   0.015,2,   0.0000,2,  2283.7,2,  -999.0,9,   -999.0,9,  -999.00,   7.3577,2,    25.00,-999.000,9,-999.0000,9, -999.00,9, -999.00,9,  -999.0,9,-999.000,9,-999.000,-999.000,9,-999.000,1,   41.64,2,   42.77,2, -999.00,1, -999.00,9, -999.00,9,-999.000,   0.1942,2,   0.1436,2,   0.0881,2,   0.0717,2,   0.0460,2,   0.0199,2,   0.0080,2,   0.0136,2,   0.0125,2,   8.1667,     -999.0,9,     -999.0,9,     -999.0,9,     -999.0,1,     -999.0,9,     -999.0,9,     -999.0,9,-999.0000, -999.00
33RO20071215,        P18,      63,          1,         20,      12055,2,20080105,       2015,    -8.3325,  -105.3440,       3564,   599.9,   7.0927,  34.5907,2,  34.5913,2,      9.7,2,    10.0,2,   49.90,2,   44.20,2,    0.00,2,    3.06,2,   0.005,2,   0.005,2,   0.0000,2,  2293.0,2,  2313.5,2,   -999.0,9,  -999.00,   7.3495,2,    25.00,-999.000,9,-999.0000,9, -999.00,9, -999.00,9,  -999.0,9,-999.000,9,-999.000,-999.000,9,-999.000,9,   40.73,2,   45.29,2, -999.00,1, -999.00,9, -999.00,9,-999.000,   0.1856,2,   0.1352,2,   0.0817,2,   0.0656,2,   0.0419,2,   0.0174,2,   0.0065,2,   0.0139,2,   0.0129,2,   7.0348,     -999.0,9,     -999.0,9,     -999.0,9,     -999.0,1,     -999.0,9,     -999.0,9,     -999.0,9,-999.0000, -999.00
33RO20071215,        P18,      63,          1,         19,      12018,2,20080105,       2015,    -8.3325,  -105.3440,       3564,   700.2,   6.2610,  34.5617,2,  34.5621,2,     27.2,2,    28.6,2,   56.90,2,   44.40,2,    0.00,2,    3.02,2,-999.000,9,-999.000,9,-999.0000,9,  2292.3,2,  -999.0,9,   -999.0,9,  -999.00,   7.3716,2,    25.00,-999.000,9,-999.0000,9, -999.00,9, -999.00,9,  -999.0,9,-999.000,9,-999.000,-999.000,9,-999.000,9,   40.21,2,   45.70,2, -999.00,1, -999.00,9, -999.00,9,-999.000,   0.1739,2,   0.1249,2,   0.0738,2,   0.0575,2,   0.0369,2,   0.0153,2,   0.0055,2,   0.0140,2,   0.0135,2,   6.1974,     -999.0,9,     -999.0,9,     -999.0,9,     -999.0,1,     -999.0,9,     -999.0,9,     -999.0,9,-999.0000, -999.00
33RO20071215,        P18,      63,          1,         18,      12025,2,20080105,       2015,    -8.3325,  -105.3440,       3564,   799.6,   5.4821,  34.5469,2,  34.5473,2,     45.6,2,    43.5,2,   66.80,2,   44.00,2,    0.00,2,    3.03,2,   0.002,2,   0.000,2,   0.0000,2,  2297.2,2,  2331.3,2,   -999.0,9,  -999.00,   7.3933,2,    25.00,-999.000,9,-999.0000,9, -999.00,9, -999.00,9,  -999.0,9,-999.000,9,-999.000,-999.000,9,-999.000,9,   39.53,2,   45.58,2, -999.00,1, -999.00,9, -999.00,9,-999.000,   0.1917,2,   0.1410,2,   0.0857,2,   0.0670,2,   0.0451,2,   0.0209,2,   0.0088,2,   0.0131,2,   0.0126,2,   5.4136,     -999.0,9,     -999.0,9,     -999.0,9,     -999.0,1,     -999.0,9,     -999.0,9,     -999.0,9,-999.0000, -999.00
33RO20071215,        P18,      63,          1,         17,      12016,2,20080105,       2015,    -8.3325,  -105.3440,       3564,   900.7,   4.9351,  34.5424,2,  34.5427,2,     72.6,2,    73.1,2,   72.90,2,   41.50,2,    0.00,2,    2.85,2,-999.000,9,-999.000,9,-999.0000,9,  -999.0,9,  -999.0,9,   -999.0,9,  -999.00,-999.0000,9,  -999.00,-999.000,9,-999.0000,9, -999.00,9, -999.00,9,  -999.0,9,-999.000,9,-999.000,-999.000,9,-999.000,9,   39.08,2,   42.90,2, -999.00,1, -999.00,9, -999.00,9,-999.000,   0.1849,2,   0.1357,2,   0.0818,2,   0.0628,2,   0.0430,2,   0.0210,2,   0.0091,2,   0.0128,2,   0.0127,2,   4.8611,     -999.0,9,     -999.0,9,     -999.0,9,     -999.0,1,     -999.0,9,     -999.0,9,     -999.0,9,-999.0000, -999.00
33RO20071215,        P18,      63,          1,         16,      12051,2,20080105,       2015,    -8.3325,  -105.3440,       3564,   999.0,   4.5586,  34.5469,2,  34.5461,2,     73.7,2,    75.2,2,   80.60,2,   41.40,2,    0.00,2,    2.88,2,   0.002,2,   0.001,2,   0.0000,2,  2297.0,2,  2348.9,2,   -999.0,9,  -999.00,   7.4499,2,    25.00,-999.000,9,-999.0000,9, -999.00,9, -999.00,9,  -999.0,9,-999.000,9,-999.000,-999.000,9,-999.000,1,   39.08,2,   42.67,2, -999.00,9, -999.00,9, -999.00,9,-999.000,   0.1661,2,   0.1190,2,   0.0694,2,   0.0525,2,   0.0346,2,   0.0148,2,   0.0055,2,   0.0139,2,   0.0137,2,   4.4787,     -999.0,9,     -999.0,9,     -999.0,9,     -999.0,1,     -999.0,9,     -999.0,9,     -999.0,9,-999.0000, -999.00
33RO20071215,        P18,      63,          1,         15,      12014,2,20080105,       2015,    -8.3325,  -105.3440,       3564,  1101.1,   4.1590,  34.5527,2,  34.5532,2,     94.0,2,    92.6,2,   86.20,2,   40.00,2,    0.00,2,    2.77,2,-999.000,9,-999.000,9,-999.0000,9,  -999.0,9,  -999.0,9,   -999.0,9,  -999.00,-999.0000,9,  -999.00,-999.000,9,-999.0000,9, -999.00,9, -999.00,9,  -999.0,9,-999.000,9,-999.000,-999.000,9,-999.000,9,   38.62,2,   41.01,2, -999.00,9, -999.00,9, -999.00,9,-999.000,   0.1590,2,   0.1137,2,   0.0656,2,   0.0488,2,   0.0324,2,   0.0145,2,   0.0055,2,   0.0137,2,   0.0139,2,   4.0734,     -999.0,9,     -999.0,9,     -999.0,9,     -999.0,1,     -999.0,9,     -999.0,9,     -999.0,9,-999.0000, -999.00
33RO20071215,        P18,      63,          1,         14,      12013,2,20080105,       2015,    -8.3325,  -105.3440,       3564,  1200.9,   3.8408,  34.5644,2,  34.5664,2,     89.5,2,    89.5,2,   94.80,2,   40.50,2,    0.00,2,    2.82,2,  -0.001,2,   0.000,2,   0.0000,2,  2305.4,2,  -999.0,5,   -999.0,9,  -999.00,   7.4678,2,    25.00,-999.000,9,-999.0000,9, -999.00,9, -999.00,9,  -999.0,9,-999.000,9,-999.000,-999.000,9,-999.000,9,   37.54,2,   42.17,2, -999.00,9, -999.00,9, -999.00,9,-999.000,   0.1819,2,   0.1332,2,   0.0797,2,   0.0603,2,   0.0416,2,   0.0206,2,   0.0092,2,   0.0127,2,   0.0128,2,   3.7494,     -999.0,9,     -999.0,9,     -999.0,9,     -999.0,1,     -999.0,9,     -999.0,9,     -999.0,9,-999.0000, -999.00
33RO20071215,        P18,      63,          1,         13,      12012,2,20080105,       2015,    -8.3325,  -105.3440,       3564,  1300.2,   3.5196,  34.5742,2,  34.5744,2,    100.3,2,    99.9,2,  100.50,2,   39.70,2,    0.00,2,    2.75,2,-999.000,9,-999.000,9,-999.0000,9,  -999.0,9,  -999.0,9,   -999.0,9,  -999.00,-999.0000,9,  -999.00,-999.000,9,-999.0000,9, -999.00,9, -999.00,9,  -999.0,9,-999.000,9,-999.000,-999.000,9,-999.000,9,   37.97,2,   40.83,2, -999.00,9, -999.00,9, -999.00,9,-999.000,   0.1671,2,   0.1203,2,   0.0697,2,   0.0516,2,   0.0348,2,   0.0162,2,   0.0067,2,   0.0135,2,   0.0137,2,   3.4229,     -999.0,9,     -999.0,9,     -999.0,9,     -999.0,1,     -999.0,9,     -999.0,9,     -999.0,9,-999.0000, -999.00
33RO20071215,        P18,      63,          1,         12,      12031,2,20080105,       2015,    -8.3325,  -105.3440,       3564,  1399.9,   3.2768,  34.5847,2,  34.5847,2,    100.7,2,   100.3,2,  106.80,2,   39.80,2,    0.00,2,    2.76,2,   0.001,2,  -0.001,2,   0.0000,2,  2312.2,2,  -999.0,9,   -999.0,9,  -999.00,   7.4913,2,    25.00,-999.000,9,-999.0000,9, -999.00,9, -999.00,9,  -999.0,9,-999.000,9,-999.000,-999.000,9,-999.000,9,   37.32,2,   40.94,2, -999.00,9, -999.00,9, -999.00,9,-999.000,   0.1747,2,   0.1269,2,   0.0746,2,   0.0558,2,   0.0382,2,   0.0189,2,   0.0083,2,   0.0129,2,   0.0132,2,   3.1742,     -999.0,9,     -999.0,9,     -999.0,9,     -999.0,1,     -999.0,9,     -999.0,9,     -999.0,9,-999.0000, -999.00