BOTTLE,20220818CCHSIOAMB
EXPOCODE,SECT_ID,STNNBR,CASTNO,SAMPNO,BTLNBR,BTLNBR_FLAG_W,DATE,TIME,LATITUDE,LONGITUDE,DEPTH,CTDPRS,CTDTMP,CTDSAL,CTDSAL_FLAG_W,SALNTY,SALNTY_FLAG_W,CTDOXY,CTDOXY_FLAG_W,OXYGEN,OXYGEN_FLAG_W,SILCAT,SILCAT_FLAG_W,NITRAT,NITRAT_FLAG_W,NITRIT,NITRIT_FLAG_W,PHSPHT,PHSPHT_FLAG_W,CFC-11,CFC-11_FLAG_W,CFC-12,CFC-12_FLAG_W,SF6,SF6_FLAG_W,TCARBN,TCARBN_FLAG_W,ALKALI,ALKALI_FLAG_W,FCO2,FCO2_FLAG_W,FCO2TMP,PH_SWS,PH_SWS_FLAG_W,PH_TMP,TRITUM,TRITUM_FLAG_W,HELIUM,HELIUM_FLAG_W,DELHE3,DELHE3_FLAG_W,DELC13,DELC13_FLAG_W,DELC14,DELC14_FLAG_W,NEON,NEON_FLAG_W,NEONER,CCL4,CCL4_FLAG_W,POC,POC_FLAG_W,DOC,DOC_FLAG_W,TDN,TDN_FLAG_W,DON,DON_FLAG_W,CHLORA,CHLORA_FLAG_W,ARGON,ARGON_FLAG_W,TRITER,CDOM325,CDOM325_FLAG_W,CDOM340,CDOM340_FLAG_W,CDOM380,CDOM380_FLAG_W,CDOM412,CDOM412_FLAG_W,CDOM443,CDOM443_FLAG_W,CDOM490,CDOM490_FLAG_W,CDOM555,CDOM555_FLAG_W,CDOMSL,CDOMSL_FLAG_W,CDOMSN,CDOMSN_FLAG_W,THETA,D18O_NO3,D18O_NO3_FLAG_W,CDOM2C,CDOM2C_FLAG_W,CDOM3C,CDOM3C_FLAG_W,LAB_DEN,LAB_DEN_FLAG_W,DELSI30,DELSI30_FLAG_W,N2,N2_FLAG_W,D15N_NO3,D15N_NO3_FLAG_W,HELIER,DELHER
,,,,,,,,,,,METERS,DBAR,ITS-90,PSS-78,,PSS-78,,UMOL/KG,,UMOL/KG,,UMOL/KG,,UMOL/KG,,UMOL/KG,,UMOL/KG,,PMOL/KG,,PMOL/KG,,FMOL/KG,,UMOL/KG,,UMOL/KG,,UATM,,DEG C,,,DEG C,TU,,NMOL/KG,,PERCNT,,/MILLE,,/MILLE,,NMOL/KG,,NMOL/KG,PMOL/KG,,UG/KG,,UMOL/KG,,UMOL/KG,,UMOL/KG,,UG/KG,,UMOL/KG,,TU,1/M,,1/M,,1/M,,1/M,,1/M,,1/M,,1/M,,1/NM,,1/NM,,DEG C,/MILLE,,,,,,,,/MILLE,,UMOL/KG,,/MILLE,,NMOL/KG,PERCNT
33RO20071215,        P18,      71,          1,         36,      12017,2,20080108,       0656,   -12.3323,  -103.0000,       4187,     5.7,  22.8910,  35.5307,2,  35.5313,2,    218.1,2,   218.7,2,    2.40,2,    8.40,2,    0.22,2,    0.73,2,   1.956,2,   1.214,2,   1.0439,2,  2064.3,6,  2342.3,2,   -999.0,9,  -999.00,   7.9770,2,    25.00,-999.000,9,-999.0000,9, -999.00,9,    1.12,2,  -999.0,1,-999.000,9,-999.000,-999.000,9,-999.000,9,   66.29,2,   12.82,2, -999.00,1, -999.00,9, -999.00,9,-999.000,-999.0000,9,-999.0000,9,-999.0000,9,-999.0000,9,-999.0000,9,-999.0000,9,-999.0000,9,-999.0000,9,-999.0000,9,  22.8898,     -999.0,9,     -999.0,9,     -999.0,9,     -999.0,9,     -999.0,9,     -999.0,9,     -999.0,9,-999.0000, -999.00
33RO20071215,        P18,      71,          1,         35,      12029,2,20080108,       0656,   -12.3323,  -103.0000,       4187,    12.2,  22.8890,  35.5310,2,  35.5303,2,    218.2,2,   218.7,2,    2.40,2,    8.40,2,    0.22,2,    0.72,2,   1.942,6,   1.208,6,   1.0798,6,  2064.6,2,  2341.8,2,   -999.0,9,  -999.00,   7.9942,2,    25.00,-999.000,9,-999.0000,9, -999.00,9, -999.00,9,  -999.0,9,-999.000,9,-999.000,-999.000,9,-999.000,9,   66.13,2,   12.55,2, -999.00,1, -999.00,9, -999.00,9,-999.000,-999.0000,9,-999.0000,9,-999.0000,9,-999.0000,9,-999.0000,9,-999.0000,9,-999.0000,9,-999.0000,9,-999.0000,9,  22.8865,     -999.0,9,     -999.0,9,     -999.0,9,     -999.0,9,     -999.0,9,     -999.0,9,     -999.0,9,-999.0000, -999.00
33RO20071215,        P18,      71,          1,         34,      12049,2,20080108,       0656,   -12.3323,  -103.0000,       4187,    19.9,  22.8915,  35.5309,2,  35.5301,2,    218.5,2,   218.7,2,    2.40,2,    8.40,2,    0.22,2,    0.73,2,   1.942,2,   1.208,2,   1.0076,2,  2064.9,2,  2340.6,2,   -999.0,9,  -999.00,   7.9861,2,    25.00,-999.000,9,-999.0000,9, -999.00,9, -999.00,9,  -999.0,9,-999.000,9,-999.000,-999.000,9,-999.000,9,   66.00,2,   12.91,2, -999.00,1, -999.00,9, -999.00,9,-999.000,-999.0000,9,-999.0000,9,-999.0000,9,-999.0000,9,-999.0000,9,-999.0000,9,-999.0000,9,-999.0000,9,-999.0000,9,  22.8875,     -999.0,9,     -999.0,9,     -999.0,9,     -999.0,9,     -999.0,9,     -999.0,9,     -999.0,9,-999.0000, -999.00
33RO20071215,        P18,      71,          1,         33,      12027,2,20080108,       0656,   -12.3323,  -103.0000,       4187,    41.3,  22.7155,  35.6172,2,  35.6721,2,    219.5,2,   221.1,2,    2.00,2,    6.80,2,    0.18,2,    0.65,2,   1.986,2,   1.234,2,   1.0571,2,  2066.3,2,  2334.0,2,   -999.0,9,  -999.00,   8.0009,2,    25.00,-999.000,9,-999.0000,9, -999.00,9, -999.00,9,  -999.0,9,-999.000,9,-999.000,-999.000,9,-999.000,9,   65.21,2,   11.39,2, -999.00,1, -999.00,9, -999.00,9,-999.000,-999.0000,9,-999.0000,9,-999.0000,9,-999.0000,9,-999.0000,9,-999.0000,9,-999.0000,9,-999.0000,9,-999.0000,9,  22.7072,     -999.0,9,     -999.0,9,     -999.0,9,     -999.0,9,     -999.0,9,     -999.0,9,     -999.0,9,-999.0000, -999.00
33RO20071215,        P18,      71,          1,         32,      12023,2,20080108,       0656,   -12.3323,  -103.0000,       4187,    66.7,  21.9924,  35.7663,2,  35.7998,2,    218.7,2,   219.1,2,    1.70,2,    4.90,2,    0.14,2,    0.60,2,   2.043,2,   1.264,2,   1.1106,2,  2073.3,2,  2350.9,2,   -999.0,9,  -999.00,   8.0070,2,    25.00,-999.000,9,-999.0000,9, -999.00,9, -999.00,9,  -999.0,9,-999.000,9,-999.000,-999.000,9,-999.000,9,   64.90,2,    9.20,2, -999.00,1, -999.00,9, -999.00,9,-999.000,-999.0000,9,-999.0000,9,-999.0000,9,-999.0000,9,-999.0000,9,-999.0000,9,-999.0000,9,-999.0000,9,-999.0000,9,  21.9792,     -999.0,9,     -999.0,9,     -999.0,9,     -999.0,9,     -999.0,9,     -999.0,9,     -999.0,9,-999.0000, -999.00
33RO20071215,        P18,      71,          1,         31,      12037,2,20080108,       0656,   -12.3323,  -103.0000,       4187,    89.5,  21.5434,  35.9719,2,  35.9720,2,    211.7,2,   212.1,2,    1.20,2,    0.90,2,    0.11,2,    0.44,2,   2.053,2,   1.271,2,   1.0532,2,  2079.1,2,  2366.0,2,   -999.0,9,  -999.00,   8.0103,2,    25.00,-999.000,9,-999.0000,9, -999.00,9, -999.00,9,  -999.0,9,-999.000,9,-999.000,-999.000,9,-999.000,9,   64.03,2,    5.65,2, -999.00,1, -999.00,9, -999.00,9,-999.000,-999.0000,9,-999.0000,9,-999.0000,9,-999.0000,9,-999.0000,9,-999.0000,9,-999.0000,9,-999.0000,9,-999.0000,9,  21.5259,     -999.0,9,     -999.0,9,     -999.0,9,     -999.0,9,     -999.0,9,     -999.0,9,     -999.0,9,-999.0000, -999.00
33RO20071215,        P18,      71,          1,         30,      12036,2,20080108,       0656,   -12.3323,  -103.0000,       4187,   116.8,  20.5579,  35.8149,2,  35.8290,2,    207.6,2,   210.7,2,    1.30,2,    1.80,2,    0.36,2,    0.52,2,   2.155,2,   1.323,2,   1.0594,2,  2090.5,2,  2374.2,2,   -999.0,9,  -999.00,   7.9674,2,    25.00,-999.000,9,-999.0000,9, -999.00,9, -999.00,9,  -999.0,9,-999.000,9,-999.000,-999.000,9,-999.000,9,   62.57,2,    7.09,2, -999.00,1, -999.00,9, -999.00,9,-999.000,-999.0000,9,-999.0000,9,-999.0000,9,-999.0000,9,-999.0000,9,-999.0000,9,-999.0000,9,-999.0000,9,-999.0000,9,  20.5358,     -999.0,9,     -999.0,9,     -999.0,9,     -999.0,9,     -999.0,9,     -999.0,9,     -999.0,9,-999.0000, -999.00
33RO20071215,        P18,      71,          1,         29,      12044,2,20080108,       0656,   -12.3323,  -103.0000,       4187,   141.9,  17.3723,  35.2261,2,  35.2008,2,    179.0,2,   175.7,2,    2.30,2,    8.60,2,    0.04,2,    0.87,2,   2.442,2,   1.451,2,   1.0724,2,  2116.5,2,  -999.0,5,   -999.0,9,  -999.00,   7.8659,2,    25.00,-999.000,9,-999.0000,9, -999.00,9, -999.00,9,  -999.0,9,-999.000,9,-999.000,-999.000,9,-999.000,9,   53.39,2,   12.04,2, -999.00,1, -999.00,9, -999.00,9,-999.000,-999.0000,9,-999.0000,9,-999.0000,9,-999.0000,9,-999.0000,9,-999.0000,9,-999.0000,9,-999.0000,9,-999.0000,9,  17.3485,     -999.0,9,     -999.0,9,     -999.0,9,     -999.0,9,     -999.0,9,     -999.0,9,     -999.0,9,-999.0000, -999.00
33RO20071215,        P18,      71,          1,         28,      12057,2,20080108,       0656,   -12.3323,  -103.0000,       4187,   166.0,  14.2700,  34.7618,2,  34.7667,2,    144.8,2,   138.4,2,    5.80,2,   15.50,2,    0.01,2,    1.38,2,   2.545,2,   1.446,2,   0.8786,2,  2153.8,2,  2296.5,2,   -999.0,9,  -999.00,   7.7201,2,    25.00,-999.000,9,-999.0000,9, -999.00,9, -999.00,9,  -999.0,9,-999.000,9,-999.000,-999.000,9,-999.000,9,   51.54,2,   19.03,2, -999.00,1, -999.00,9, -999.00,9,-999.000,-999.0000,9,-999.0000,9,-999.0000,9,-999.0000,9,-999.0000,9,-999.0000,9,-999.0000,9,-999.0000,9,-999.0000,9,  14.2457,     -999.0,9,     -999.0,9,     -999.0,9,     -999.0,9,     -999.0,9,     -999.0,9,     -999.0,9,-999.0000, -999.00
33RO20071215,        P18,      71,          1,         27,      12026,2,20080108,       0656,   -12.3323,  -103.0000,       4187,   191.1,  13.0801,  34.7542,2,  34.7594,2,     42.5,2,    32.2,2,   16.10,2,   23.60,2,    0.01,2,    2.33,2,   1.595,2,   0.887,2,   0.4092,2,  2236.3,2,  -999.0,9,   -999.0,9,  -999.00,-999.0000,9,  -999.00,-999.000,9,-999.0000,9, -999.00,9, -999.00,9,  -999.0,9,-999.000,9,-999.000,-999.000,9,-999.000,9,   49.63,2,   26.09,2, -999.00,1, -999.00,9, -999.00,9,-999.000,-999.0000,9,-999.0000,9,-999.0000,9,-999.0000,9,-999.0000,9,-999.0000,9,-999.0000,9,-999.0000,9,-999.0000,9,  13.0537,     -999.0,9,     -999.0,9,     -999.0,9,     -999.0,9,     -999.0,9,     -999.0,9,     -999.0,9,-999.0000, -999.00
33RO20071215,        P18,      71,          1,         26,      12030,2,20080108,       0656,   -12.3323,  -103.0000,       4187,   232.8,  11.6964,  34.7684,2,  34.7668,2,      7.9,2,     7.2,2,   23.50,2,   28.10,2,    0.01,2,    2.62,2,   0.648,2,   0.362,2,   0.1123,2,  2261.8,2,  2300.0,2,   -999.0,9,  -999.00,   7.4138,2,    25.00,-999.000,9,-999.0000,9, -999.00,9, -999.00,9,  -999.0,9,-999.000,9,-999.000,-999.000,9,-999.000,9,   48.41,2,   30.08,2, -999.00,1, -999.00,9, -999.00,9,-999.000,-999.0000,9,-999.0000,9,-999.0000,9,-999.0000,9,-999.0000,9,-999.0000,9,-999.0000,9,-999.0000,9,-999.0000,9,  11.6666,     -999.0,9,     -999.0,9,     -999.0,9,     -999.0,9,     -999.0,9,     -999.0,9,     -999.0,9,-999.0000, -999.00
33RO20071215,        P18,      71,          1,         25,      12024,2,20080108,       0656,   -12.3323,  -103.0000,       4187,   282.4,  10.5156,  34.7340,2,  34.7313,2,     12.3,2,    13.3,2,   26.60,2,   33.10,2,    0.01,2,    2.62,2,   0.315,2,   0.176,2,   0.0351,2,  2263.4,2,  -999.0,9,   -999.0,9,  -999.00,-999.0000,9,  -999.00,-999.000,9,-999.0000,9, -999.00,9, -999.00,9,  -999.0,9,-999.000,9,-999.000,-999.000,9,-999.000,9,   45.92,2,   34.32,2, -999.00,1, -999.00,9, -999.00,9,-999.000,-999.0000,9,-999.0000,9,-999.0000,9,-999.0000,9,-999.0000,9,-999.0000,9,-999.0000,9,-999.0000,9,-999.0000,9,  10.4817,     -999.0,9,     -999.0,9,     -999.0,9,     -999.0,9,     -999.0,9,     -999.0,9,     -999.0,9,-999.0000, -999.00
33RO20071215,        P18,      71,          1,         24,      12019,2,20080108,       0656,   -12.3323,  -103.0000,       4187,   332.8,   9.7793,  34.7117,2,  34.7119,2,     25.5,2,    27.8,2,   28.70,2,   34.90,2,    0.01,2,    2.55,2,   0.218,2,   0.123,2,   0.0000,2,  2256.6,2,  2302.4,2,   -999.0,9,  -999.00,   7.4399,2,    25.00,-999.000,9,-999.0000,9, -999.00,9, -999.00,9,  -999.0,9,-999.000,9,-999.000,-999.000,9,-999.000,9,   43.31,2,   36.03,2, -999.00,1, -999.00,9, -999.00,9,-999.000,-999.0000,9,-999.0000,9,-999.0000,9,-999.0000,9,-999.0000,9,-999.0000,9,-999.0000,9,-999.0000,9,-999.0000,9,   9.7410,     -999.0,9,     -999.0,9,     -999.0,9,     -999.0,9,     -999.0,9,     -999.0,9,     -999.0,9,-999.0000, -999.00
33RO20071215,        P18,      71,          1,         23,      12022,2,20080108,       0656,   -12.3323,  -103.0000,       4187,   382.3,   9.2329,  34.6887,2,  34.6879,2,     29.1,2,    34.2,2,   31.10,2,   36.00,2,    0.00,2,    2.56,2,   0.154,2,   0.087,2,   0.0000,2,  2254.8,2,  -999.0,9,   -999.0,9,  -999.00,-999.0000,9,  -999.00,-999.000,9,-999.0000,9, -999.00,9, -999.00,9,  -999.0,9,-999.000,9,-999.000,-999.000,9,-999.000,9,   42.18,2,   37.61,2, -999.00,1, -999.00,9, -999.00,9,-999.000,-999.0000,9,-999.0000,9,-999.0000,9,-999.0000,9,-999.0000,9,-999.0000,9,-999.0000,9,-999.0000,9,-999.0000,9,   9.1904,     -999.0,9,     -999.0,9,     -999.0,9,     -999.0,9,     -999.0,9,     -999.0,9,     -999.0,9,-999.0000, -999.00
33RO20071215,        P18,      71,          1,         22,      12015,2,20080108,       0656,   -12.3323,  -103.0000,       4187,   467.7,   8.3856,  34.6427,2,  34.6407,2,     28.6,2,    29.1,2,   36.10,2,   38.80,2,    0.00,2,    2.72,2,   0.056,2,   0.032,2,   0.0000,2,  2266.0,2,  2304.3,2,   -999.0,9,  -999.00,   7.4180,2,    25.00,-999.000,9,-999.0000,9, -999.00,9, -999.00,9,  -999.0,9,-999.000,9,-999.000,-999.000,9,-999.000,9,   41.76,2,   40.35,2, -999.00,1, -999.00,9, -999.00,9,-999.000,-999.0000,9,-999.0000,9,-999.0000,9,-999.0000,9,-999.0000,9,-999.0000,9,-999.0000,9,-999.0000,9,-999.0000,9,   8.3363,     -999.0,9,     -999.0,9,     -999.0,9,     -999.0,9,     -999.0,9,     -999.0,9,     -999.0,9,-999.0000, -999.00
33RO20071215,        P18,      71,          1,         21,      12020,2,20080108,       0656,   -12.3323,  -103.0000,       4187,   566.8,   7.4680,  34.5927,2,  34.5911,2,     31.4,2,    32.3,2,   41.00,2,   40.80,2,    0.00,2,    2.84,2,   0.016,2,   0.010,2,   0.0000,2,  -999.0,9,  -999.0,9,   -999.0,9,  -999.00,-999.0000,9,  -999.00,-999.000,9,-999.0000,9, -999.00,9, -999.00,9,  -999.0,9,-999.000,9,-999.000,-999.000,9,-999.000,9,   40.95,2,   42.23,2, -999.00,1, -999.00,9, -999.00,9,-999.000,-999.0000,9,-999.0000,9,-999.0000,9,-999.0000,9,-999.0000,9,-999.0000,9,-999.0000,9,-999.0000,9,-999.0000,9,   7.4119,     -999.0,9,     -999.0,9,     -999.0,9,     -999.0,9,     -999.0,9,     -999.0,9,     -999.0,9,-999.0000, -999.00
33RO20071215,        P18,      71,          1,         20,      12055,2,20080108,       0656,   -12.3323,  -103.0000,       4187,   666.6,   6.5689,  34.5520,2,  34.5507,2,     38.1,2,    38.5,2,   47.50,2,   42.40,2,    0.00,2,    2.95,2,-999.000,9,-999.000,9,-999.0000,9,  2280.7,2,  -999.0,9,   -999.0,9,  -999.00,-999.0000,9,  -999.00,-999.000,9,-999.0000,9, -999.00,9, -999.00,9,  -999.0,9,-999.000,9,-999.000,-999.000,9,-999.000,9,   40.17,2,   43.57,2, -999.00,1, -999.00,9, -999.00,9,-999.000,-999.0000,9,-999.0000,9,-999.0000,9,-999.0000,9,-999.0000,9,-999.0000,9,-999.0000,9,-999.0000,9,-999.0000,9,   6.5070,     -999.0,9,     -999.0,9,     -999.0,9,     -999.0,9,     -999.0,9,     -999.0,9,     -999.0,9,-999.0000, -999.00
33RO20071215,        P18,      71,          1,         19,      12018,2,20080108,       0656,   -12.3323,  -103.0000,       4187,   766.3,   5.8585,  34.5269,2,  34.5275,2,     41.6,2,    42.0,2,   54.70,2,   43.50,2,    0.00,2,    3.04,2,   0.001,2,   0.001,2,   0.0000,2,  -999.0,9,  -999.0,9,   -999.0,9,  -999.00,-999.0000,9,  -999.00,-999.000,9,-999.0000,9, -999.00,9, -999.00,9,  -999.0,9,-999.000,9,-999.000,-999.000,9,-999.000,9,   38.70,2,   44.33,2, -999.00,1, -999.00,9, -999.00,9,-999.000,-999.0000,9,-999.0000,9,-999.0000,9,-999.0000,9,-999.0000,9,-999.0000,9,-999.0000,9,-999.0000,9,-999.0000,9,   5.7909,     -999.0,9,     -999.0,9,     -999.0,9,     -999.0,9,     -999.0,9,     -999.0,9,     -999.0,9,-999.0000, -999.00
33RO20071215,        P18,      71,          1,         18,      12025,2,20080108,       0656,   -12.3323,  -103.0000,       4187,   866.5,   5.2151,  34.5233,2,  34.5227,2,     44.4,2,    44.7,2,   64.80,2,   44.30,2,    0.00,2,    3.12,2,-999.000,9,-999.000,9,-999.0000,9,  2300.7,2,  2327.2,2,   -999.0,9,  -999.00,   7.3875,2,    25.00,-999.000,9,-999.0000,9, -999.00,9, -999.00,9,  -999.0,9,-999.000,9,-999.000,-999.000,9,-999.000,9,   37.76,2,   45.82,2, -999.00,1, -999.00,9, -999.00,9,-999.000,-999.0000,9,-999.0000,9,-999.0000,9,-999.0000,9,-999.0000,9,-999.0000,9,-999.0000,9,-999.0000,9,-999.0000,9,   5.1423,     -999.0,9,     -999.0,9,     -999.0,9,     -999.0,9,     -999.0,9,     -999.0,9,     -999.0,9,-999.0000, -999.00
33RO20071215,        P18,      71,          1,         17,      12016,2,20080108,       0656,   -12.3323,  -103.0000,       4187,   967.0,   4.6921,  34.5292,2,  34.5292,2,     58.4,2,    58.6,2,   74.20,2,   43.40,2,    0.00,2,    3.06,2,   0.000,2,   0.001,2,   0.0000,2,  -999.0,9,  -999.0,9,   -999.0,9,  -999.00,-999.0000,9,  -999.00,-999.000,9,-999.0000,9, -999.00,9, -999.00,9,  -999.0,9,-999.000,9,-999.000,-999.000,9,-999.000,9,   37.45,2,   44.70,2, -999.00,1, -999.00,9, -999.00,9,-999.000,-999.0000,9,-999.0000,9,-999.0000,9,-999.0000,9,-999.0000,9,-999.0000,9,-999.0000,9,-999.0000,9,-999.0000,9,   4.6140,     -999.0,9,     -999.0,9,     -999.0,9,     -999.0,9,     -999.0,9,     -999.0,9,     -999.0,9,-999.0000, -999.00
33RO20071215,        P18,      71,          1,         16,      12051,2,20080108,       0656,   -12.3323,  -103.0000,       4187,  1067.1,   4.2336,  34.5413,2,  34.5406,2,     71.9,2,    71.9,2,   83.50,2,   42.10,2,    0.00,2,    3.00,2,-999.000,9,-999.000,9,-999.0000,9,  2305.6,2,  -999.0,9,   -999.0,9,  -999.00,-999.0000,9,  -999.00,-999.000,9,-999.0000,9, -999.00,9, -999.00,9,  -999.0,9,-999.000,9,-999.000,-999.000,9,-999.000,9,   37.71,2,   43.05,2, -999.00,9, -999.00,9, -999.00,9,-999.000,-999.0000,9,-999.0000,9,-999.0000,9,-999.0000,9,-999.0000,9,-999.0000,9,-999.0000,9,-999.0000,9,-999.0000,9,   4.1503,     -999.0,9,     -999.0,9,     -999.0,9,     -999.0,9,     -999.0,9,     -999.0,9,     -999.0,9,-999.0000, -999.00
33RO20071215,        P18,      71,          1,         15,      12014,2,20080108,       0656,   -12.3323,  -103.0000,       4187,  1166.7,   3.8303,  34.5561,2,  34.5556,2,     80.5,2,    80.7,2,   92.30,2,   41.50,2,    0.00,2,    2.95,2,  -0.001,2,   0.000,2,   0.0000,2,  -999.0,9,  -999.0,9,   -999.0,9,  -999.00,-999.0000,9,  -999.00,-999.000,9,-999.0000,9, -999.00,9, -999.00,9,  -999.0,9,-999.000,9,-999.000,-999.000,9,-999.000,9,   37.31,2,   42.70,2, -999.00,9, -999.00,9, -999.00,9,-999.000,-999.0000,9,-999.0000,9,-999.0000,9,-999.0000,9,-999.0000,9,-999.0000,9,-999.0000,9,-999.0000,9,-999.0000,9,   3.7420,     -999.0,9,     -999.0,9,     -999.0,9,     -999.0,9,     -999.0,9,     -999.0,9,     -999.0,9,-999.0000, -999.00
33RO20071215,        P18,      71,          1,         14,      12013,2,20080108,       0656,   -12.3323,  -103.0000,       4187,  1318.9,   3.4456,  34.5732,2,  34.5724,2,     88.4,2,    87.9,2,  101.80,2,   41.10,2,    0.00,2,    2.91,2,-999.000,9,-999.000,9,-999.0000,9,  2315.3,2,  2368.6,2,   -999.0,9,  -999.00,   7.4739,2,    25.00,-999.000,9,-999.0000,9, -999.00,9, -999.00,9,  -999.0,9,-999.000,9,-999.000,-999.000,9,-999.000,9,   37.80,2,   42.64,2, -999.00,9, -999.00,9, -999.00,9,-999.000,-999.0000,9,-999.0000,9,-999.0000,9,-999.0000,9,-999.0000,9,-999.0000,9,-999.0000,9,-999.0000,9,-999.0000,9,   3.3481,     -999.0,9,     -999.0,9,     -999.0,9,     -999.0,9,     -999.0,9,     -999.0,9,     -999.0,9,-999.0000, -999.00
33RO20071215,        P18,      71,          1,         13,      12012,2,20080108,       0656,   -12.3323,  -103.0000,       4187,  1531.9,   2.9608,  34.5983,2,  34.5975,2,     97.3,2,    97.3,2,  114.10,2,   40.10,2,    0.00,2,    2.84,2,   0.000,2,  -0.001,2,   0.0000,2,  -999.0,9,  -999.0,9,   -999.0,9,  -999.00,-999.0000,9,  -999.00,-999.000,9,-999.0000,9, -999.00,9, -999.00,9,  -999.0,9,-999.000,9,-999.000,-999.000,9,-999.000,9,   37.96,2,   41.15,2, -999.00,9, -999.00,9, -999.00,9,-999.000,-999.0000,9,-999.0000,9,-999.0000,9,-999.0000,9,-999.0000,9,-999.0000,9,-999.0000,9,-999.0000,9,-999.0000,9,   2.8507,     -999.0,9,     -999.0,9,     -999.0,9,     -999.0,9,     -999.0,9,     -999.0,9,     -999.0,9,-999.0000, -999.00
33RO20071215,        P18,      71,          1,         12,      12031,2,20080108,       0656,   -12.3323,  -103.0000,       4187,  1733.4,   2.6099,  34.6187,2,  34.6182,2,    108.7,2,   108.5,2,  122.20,2,   39.30,2,    0.00,2,    2.77,2,-999.000,9,-999.000,9,-999.0000,9,  2325.1,2,  -999.0,9,   -999.0,9,  -999.00,-999.0000,9,  -999.00,-999.000,9,-999.0000,9, -999.00,9, -999.00,9,  -999.0,9,-999.000,9,-999.000,-999.000,9,-999.000,9,   37.52,2,   40.38,2, -999.00,9, -999.00,9, -999.00,9,-999.000,-999.0000,9,-999.0000,9,-999.0000,9,-999.0000,9,-999.0000,9,-999.0000,9,-999.0000,9,-999.0000,9,-999.0000,9,   2.4872,     -999.0,9,     -999.0,9,     -999.0,9,     -999.0,9,     -999.0,9,     -999.0,9,     -999.0,9,-999.0000, -999.00