BOTTLE,20220818CCHSIOAMB
EXPOCODE,SECT_ID,STNNBR,CASTNO,SAMPNO,BTLNBR,BTLNBR_FLAG_W,DATE,TIME,LATITUDE,LONGITUDE,DEPTH,CTDPRS,CTDTMP,CTDSAL,CTDSAL_FLAG_W,SALNTY,SALNTY_FLAG_W,CTDOXY,CTDOXY_FLAG_W,OXYGEN,OXYGEN_FLAG_W,SILCAT,SILCAT_FLAG_W,NITRAT,NITRAT_FLAG_W,NITRIT,NITRIT_FLAG_W,PHSPHT,PHSPHT_FLAG_W,CFC-11,CFC-11_FLAG_W,CFC-12,CFC-12_FLAG_W,SF6,SF6_FLAG_W,TCARBN,TCARBN_FLAG_W,ALKALI,ALKALI_FLAG_W,FCO2,FCO2_FLAG_W,FCO2TMP,PH_SWS,PH_SWS_FLAG_W,PH_TMP,TRITUM,TRITUM_FLAG_W,HELIUM,HELIUM_FLAG_W,DELHE3,DELHE3_FLAG_W,DELC13,DELC13_FLAG_W,DELC14,DELC14_FLAG_W,NEON,NEON_FLAG_W,NEONER,CCL4,CCL4_FLAG_W,POC,POC_FLAG_W,DOC,DOC_FLAG_W,TDN,TDN_FLAG_W,DON,DON_FLAG_W,CHLORA,CHLORA_FLAG_W,ARGON,ARGON_FLAG_W,TRITER,CDOM325,CDOM325_FLAG_W,CDOM340,CDOM340_FLAG_W,CDOM380,CDOM380_FLAG_W,CDOM412,CDOM412_FLAG_W,CDOM443,CDOM443_FLAG_W,CDOM490,CDOM490_FLAG_W,CDOM555,CDOM555_FLAG_W,CDOMSL,CDOMSL_FLAG_W,CDOMSN,CDOMSN_FLAG_W,THETA,D18O_NO3,D18O_NO3_FLAG_W,CDOM2C,CDOM2C_FLAG_W,CDOM3C,CDOM3C_FLAG_W,LAB_DEN,LAB_DEN_FLAG_W,DELSI30,DELSI30_FLAG_W,N2,N2_FLAG_W,D15N_NO3,D15N_NO3_FLAG_W,HELIER,DELHER
,,,,,,,,,,,METERS,DBAR,ITS-90,PSS-78,,PSS-78,,UMOL/KG,,UMOL/KG,,UMOL/KG,,UMOL/KG,,UMOL/KG,,UMOL/KG,,PMOL/KG,,PMOL/KG,,FMOL/KG,,UMOL/KG,,UMOL/KG,,UATM,,DEG C,,,DEG C,TU,,NMOL/KG,,PERCNT,,/MILLE,,/MILLE,,NMOL/KG,,NMOL/KG,PMOL/KG,,UG/KG,,UMOL/KG,,UMOL/KG,,UMOL/KG,,UG/KG,,UMOL/KG,,TU,1/M,,1/M,,1/M,,1/M,,1/M,,1/M,,1/M,,1/NM,,1/NM,,DEG C,/MILLE,,,,,,,,/MILLE,,UMOL/KG,,/MILLE,,NMOL/KG,PERCNT
33RO20071215,        P18,      20,          1,         24,      11024,2,20071222,       1137,    13.2498,  -110.0017,       3783,     4.5,  27.4783,  33.6492,2,  33.6534,2,    201.1,2,   200.7,2,    1.20,2,    0.10,2,    0.00,2,    0.14,2,   1.622,6,   1.031,6,   0.9834,6,  1912.1,6,  2222.2,2,   -999.0,9,  -999.00,   8.0821,2,    25.00,   0.577,2,   1.7442,2,   -2.23,3,    1.35,2,  -999.0,1,   6.845,2,   0.023,-999.000,9,-999.000,9,   81.79,2,    5.61,2, -999.00,1, -999.00,9, -999.00,9,   0.007,-999.0000,9,-999.0000,9,-999.0000,9,-999.0000,9,-999.0000,9,-999.0000,9,-999.0000,9,-999.0000,9,-999.0000,9,  27.4773,     -999.0,9,     -999.0,9,     -999.0,9,     -999.0,9,     -999.0,9,     -999.0,9,     -999.0,9,   0.0049,    0.15
33RO20071215,        P18,      20,          1,         23,      11023,2,20071222,       1137,    13.2498,  -110.0017,       3783,    33.4,  24.4377,  34.1874,2,  34.1673,2,    164.7,2,   169.8,2,    3.30,2,    3.10,2,    0.10,2,    0.52,2,   1.660,2,   1.039,2,   1.0096,2,  2014.6,2,  2287.8,2,   -999.0,9,  -999.00,   7.9506,2,    25.00,   0.544,2,   1.7251,2,    0.28,2,    1.01,2,  -999.0,1,   6.912,2,   0.024,-999.000,9,-999.000,9,   77.24,2,    8.78,2, -999.00,1, -999.00,9, -999.00,9,   0.007,-999.0000,9,-999.0000,9,-999.0000,9,-999.0000,9,-999.0000,9,-999.0000,9,-999.0000,9,-999.0000,9,-999.0000,9,  24.4306,     -999.0,9,     -999.0,9,     -999.0,9,     -999.0,9,     -999.0,9,     -999.0,9,     -999.0,9,   0.0048,    0.15
33RO20071215,        P18,      20,          1,         22,      11022,2,20071222,       1137,    13.2498,  -110.0017,       3783,    57.9,  16.1680,  34.7402,2,  34.7238,2,      6.7,2,     9.2,2,   15.40,2,   26.80,2,    0.80,2,    2.22,2,   1.286,2,   0.755,2,   0.4632,2,  2223.2,2,  2264.6,2,   -999.0,9,  -999.00,   7.5039,2,    25.00,   0.402,2,   1.7688,2,    4.14,2,   -0.33,2,  -999.0,1,   7.292,2,   0.025,-999.000,9,-999.000,9, -999.00,9, -999.00,9, -999.00,1, -999.00,9, -999.00,9,   0.007,-999.0000,9,-999.0000,9,-999.0000,9,-999.0000,9,-999.0000,9,-999.0000,9,-999.0000,9,-999.0000,9,-999.0000,9,  16.1588,     -999.0,9,     -999.0,9,     -999.0,9,     -999.0,9,     -999.0,9,     -999.0,9,     -999.0,9,   0.0050,    0.15
33RO20071215,        P18,      20,          1,         21,      11021,2,20071222,       1137,    13.2498,  -110.0017,       3783,    82.1,  14.1238,  34.8330,2,  34.8305,2,      4.0,2,     4.1,2,   23.70,2,   28.10,2,    0.03,2,    2.29,2,   1.135,2,   0.656,2,   0.3219,2,  2240.5,2,  2295.1,2,   -999.0,9,  -999.00,   7.4700,2,    25.00,   0.350,2,   1.7675,2,    4.72,2,   -0.34,2,  -999.0,1,   7.299,2,   0.025,-999.000,9,-999.000,9,   52.70,2,   31.67,2, -999.00,1, -999.00,9, -999.00,9,   0.007,-999.0000,9,-999.0000,9,-999.0000,9,-999.0000,9,-999.0000,9,-999.0000,9,-999.0000,9,-999.0000,9,-999.0000,9,  14.1119,     -999.0,9,     -999.0,9,     -999.0,9,     -999.0,9,     -999.0,9,     -999.0,9,     -999.0,9,   0.0049,    0.15
33RO20071215,        P18,      20,          1,         20,      11020,2,20071222,       1137,    13.2498,  -110.0017,       3783,   108.2,  13.7723,  34.8430,2,  34.8420,2,      3.7,2,     4.5,2,   24.40,2,   28.20,2,    0.89,2,    2.28,2,   1.117,2,   0.624,2,   0.2551,2,  2241.6,2,  2295.1,2,   -999.0,9,  -999.00,   7.4636,2,    25.00,   0.407,2,   1.7739,2,    5.12,2,   -0.31,2,  -999.0,1,   7.366,2,   0.025,-999.000,9,-999.000,9, -999.00,9, -999.00,9, -999.00,1, -999.00,9, -999.00,9,   0.008,-999.0000,9,-999.0000,9,-999.0000,9,-999.0000,9,-999.0000,9,-999.0000,9,-999.0000,9,-999.0000,9,-999.0000,9,  13.7569,     -999.0,9,     -999.0,9,     -999.0,9,     -999.0,9,     -999.0,9,     -999.0,9,     -999.0,9,   0.0050,    0.15
33RO20071215,        P18,      20,          1,         19,      11019,2,20071222,       1137,    13.2498,  -110.0017,       3783,   132.9,  13.3661,  34.8488,2,  34.8572,2,      3.5,2,     3.4,2,   25.00,2,   29.70,2,    0.25,2,    2.30,2,   1.029,2,   0.569,2,   0.2608,2,  2243.7,2,  2296.1,2,   -999.0,9,  -999.00,   7.4651,2,    25.00,-999.000,9,-999.0000,9, -999.00,9,    -0.4,2,  -999.0,1,-999.000,9,-999.000,-999.000,9,-999.000,9,   47.36,2,   32.12,2, -999.00,1, -999.00,9, -999.00,9,-999.000,-999.0000,9,-999.0000,9,-999.0000,9,-999.0000,9,-999.0000,9,-999.0000,9,-999.0000,9,-999.0000,9,-999.0000,9,  13.3475,     -999.0,9,     -999.0,9,     -999.0,9,     -999.0,9,     -999.0,9,     -999.0,9,     -999.0,9,-999.0000, -999.00
33RO20071215,        P18,      20,          1,         18,      11018,2,20071222,       1137,    13.2498,  -110.0017,       3783,   166.5,  12.9213,  34.8412,2,  34.8386,2,      3.4,2,     2.4,2,   26.00,2,   29.80,2,    0.21,2,    2.33,2,   0.989,2,   0.512,2,   0.2028,2,  2247.5,2,  2297.1,2,   -999.0,9,  -999.00,   7.4583,2,    25.00,-999.000,9,   1.7718,2,    6.08,2,   -0.32,2,  -999.0,1,   7.313,2,   0.025,-999.000,9,-999.000,9,   46.80,2,   32.26,2, -999.00,1, -999.00,9, -999.00,9,-999.000,-999.0000,9,-999.0000,9,-999.0000,9,-999.0000,9,-999.0000,9,-999.0000,9,-999.0000,9,-999.0000,9,-999.0000,9,  12.8986,     -999.0,9,     -999.0,9,     -999.0,9,     -999.0,9,     -999.0,9,     -999.0,9,     -999.0,9,   0.0050,    0.15
33RO20071215,        P18,      20,          1,         17,      11017,2,20071222,       1137,    13.2498,  -110.0017,       3783,   224.7,  12.0495,  34.7979,2,  34.7986,2,      3.3,2,     2.6,2,   29.50,2,   27.50,2,    1.31,2,    2.40,2,   0.709,2,   0.356,2,   0.1247,2,  2259.4,2,  2300.8,2,   -999.0,9,  -999.00,   7.4350,2,    25.00,   0.280,2,   1.7733,2,    6.61,2,   -0.31,2,  -999.0,1,   7.324,2,   0.025,-999.000,9,-999.000,9,   45.74,2,   30.19,2, -999.00,1, -999.00,9, -999.00,9,   0.008,-999.0000,9,-999.0000,9,-999.0000,9,-999.0000,9,-999.0000,9,-999.0000,9,-999.0000,9,-999.0000,9,-999.0000,9,  12.0201,     -999.0,9,     -999.0,9,     -999.0,9,     -999.0,9,     -999.0,9,     -999.0,9,     -999.0,9,   0.0050,    0.15
33RO20071215,        P18,      20,          1,         16,      11016,2,20071222,       1137,    13.2498,  -110.0017,       3783,   299.6,  10.9913,  34.7165,2,  34.7145,2,      3.3,2,     3.4,2,   32.90,2,   26.60,2,    2.60,2,    2.51,2,   0.339,2,   0.165,2,   0.0000,2,  2269.7,2,  2302.4,2,   -999.0,9,  -999.00,   7.4050,2,    25.00,   0.200,2,   1.8020,2,    7.63,2,   -0.24,2,  -999.0,1,   7.500,2,   0.026,-999.000,9,-999.000,9,   44.00,2,   30.60,2, -999.00,1, -999.00,9, -999.00,9,   0.008,-999.0000,9,-999.0000,9,-999.0000,9,-999.0000,9,-999.0000,9,-999.0000,9,-999.0000,9,-999.0000,9,-999.0000,9,  10.9543,     -999.0,9,     -999.0,9,     -999.0,9,     -999.0,9,     -999.0,9,     -999.0,9,     -999.0,9,   0.0050,    0.15
33RO20071215,        P18,      20,          1,         15,      11015,2,20071222,       1137,    13.2498,  -110.0017,       3783,   375.8,   9.9679,  34.6571,2,  34.6557,2,      3.4,2,     3.9,2,   38.50,2,   29.70,2,    0.77,2,    2.64,2,   0.125,2,   0.070,2,   0.0000,2,  2282.5,2,  2307.7,2,   -999.0,9,  -999.00,   7.3847,2,    25.00,   0.098,2,   1.7947,2,    7.32,2,   -0.23,2,  -999.0,1,   7.491,2,   0.026,-999.000,9,-999.000,9,   43.13,2,   31.91,2, -999.00,1, -999.00,9, -999.00,9,   0.007,-999.0000,9,-999.0000,9,-999.0000,9,-999.0000,9,-999.0000,9,-999.0000,9,-999.0000,9,-999.0000,9,-999.0000,9,   9.9242,     -999.0,9,     -999.0,9,     -999.0,9,     -999.0,9,     -999.0,9,     -999.0,9,     -999.0,9,   0.0050,    0.15
33RO20071215,        P18,      20,          1,         14,      11014,2,20071222,       1137,    13.2498,  -110.0017,       3783,   449.8,   9.0232,  34.6162,2,  34.6192,2,      3.5,2,     5.1,2,   47.00,2,   30.60,2,    0.44,2,    2.83,2,   0.050,2,   0.030,2,   0.0292,2,  2294.9,2,  2315.9,2,   -999.0,9,  -999.00,   7.3739,2,    25.00,   0.086,2,   1.8207,2,    7.26,2,   -0.24,2,  -999.0,1,   7.617,2,   0.026,-999.000,9,-999.000,9,   42.15,2,   32.42,2, -999.00,1, -999.00,9, -999.00,9,   0.007,-999.0000,9,-999.0000,9,-999.0000,9,-999.0000,9,-999.0000,9,-999.0000,9,-999.0000,9,-999.0000,9,-999.0000,9,   8.9738,     -999.0,9,     -999.0,9,     -999.0,9,     -999.0,9,     -999.0,9,     -999.0,9,     -999.0,9,   0.0051,    0.15
33RO20071215,        P18,      20,          1,         13,      11013,2,20071222,       1137,    13.2498,  -110.0017,       3783,   532.6,   7.8325,  34.5702,2,  34.5694,2,      3.5,2,     4.4,2,   58.10,2,   34.50,2,    0.02,2,    2.99,2,   0.017,2,   0.010,2,   0.0000,2,  2308.1,2,  2324.5,2,   -999.0,9,  -999.00,   7.3583,2,    25.00,   0.038,2,   1.8094,2,    8.74,2,   -0.35,2,  -999.0,1,   7.662,2,   0.026,-999.000,9,-999.000,9,   41.09,2,   35.91,2, -999.00,1, -999.00,9, -999.00,9,   0.006,-999.0000,9,-999.0000,9,-999.0000,9,-999.0000,9,-999.0000,9,-999.0000,9,-999.0000,9,-999.0000,9,-999.0000,9,   7.7784,     -999.0,9,     -999.0,9,     -999.0,9,     -999.0,9,     -999.0,9,     -999.0,9,     -999.0,9,   0.0051,    0.15
33RO20071215,        P18,      20,          1,         12,      11012,2,20071222,       1137,    13.2498,  -110.0017,       3783,   649.7,   6.6259,  34.5543,2,  34.5545,2,      3.6,2,     4.2,2,   71.30,2,   39.00,2,    0.00,2,    3.16,2,   0.009,2,   0.004,2,   0.0000,2,  2325.1,2,  2337.1,2,   -999.0,9,  -999.00,   7.3367,2,    25.00,   0.017,3,   1.8337,2,   11.37,2,   -0.43,2,  -999.0,1,   7.680,2,   0.026,-999.000,9,-999.000,9,   39.59,2,   40.60,2, -999.00,1, -999.00,9, -999.00,9,   0.006,-999.0000,9,-999.0000,9,-999.0000,9,-999.0000,9,-999.0000,9,-999.0000,9,-999.0000,9,-999.0000,9,-999.0000,9,   6.5653,     -999.0,9,     -999.0,9,     -999.0,9,     -999.0,9,     -999.0,9,     -999.0,9,     -999.0,9,   0.0051,    0.15
33RO20071215,        P18,      20,          1,         11,      11010,2,20071222,       1137,    13.2498,  -110.0017,       3783,   799.5,   5.3230,  34.5376,2,  34.5383,2,      7.7,2,     8.5,2,   87.80,2,   44.10,2,    0.00,2,    3.24,2,   0.003,2,   0.001,2,   0.0000,2,  2341.2,2,  2342.3,2,   -999.0,9,  -999.00,   7.3328,2,    25.00,  -0.001,2,   1.9105,2,   15.44,2,   -0.35,2,  -999.0,1,   8.016,2,   0.027,-999.000,9,-999.000,9,   38.41,2,   45.65,2, -999.00,1, -999.00,9, -999.00,9,   0.006,-999.0000,9,-999.0000,9,-999.0000,9,-999.0000,9,-999.0000,9,-999.0000,9,-999.0000,9,-999.0000,9,-999.0000,9,   5.2555,     -999.0,9,     -999.0,9,     -999.0,9,     -999.0,9,     -999.0,9,     -999.0,9,     -999.0,9,   0.0053,    0.15
33RO20071215,        P18,      20,          1,         10,      11011,2,20071222,       1137,    13.2498,  -110.0017,       3783,   950.5,   4.6636,  34.5532,2,  34.5528,2,     13.5,2,    13.9,2,   98.60,2,   45.10,2,    0.00,2,    3.27,2,   0.003,2,   0.001,2,   0.0000,2,  2350.4,2,  2362.0,4,   -999.0,9,  -999.00,   7.3404,2,    25.00,   0.005,2,   1.8731,2,   18.64,2,   -0.34,2,  -999.0,1,   7.900,2,   0.027,-999.000,9,-999.000,9,   37.83,2,   46.73,2, -999.00,1, -999.00,9, -999.00,9,   0.006,-999.0000,9,-999.0000,9,-999.0000,9,-999.0000,9,-999.0000,9,-999.0000,9,-999.0000,9,-999.0000,9,-999.0000,9,   4.5871,     -999.0,9,     -999.0,9,     -999.0,9,     -999.0,9,     -999.0,9,     -999.0,9,     -999.0,9,   0.0052,    0.15
33RO20071215,        P18,      20,          1,          9,      11009,2,20071222,       1137,    13.2498,  -110.0017,       3783,  1099.8,   4.1672,  34.5703,2,  34.5706,2,     24.6,2,    23.8,2,  107.50,2,   45.00,2,    0.00,2,    3.24,2,   0.003,2,   0.001,2,   0.0000,2,  2355.2,2,  2371.8,4,   -999.0,9,  -999.00,   7.3583,2,    25.00,   0.005,2,-999.0000,9, -999.00,9,   -0.32,2,  -999.0,1,-999.000,9,-999.000,-999.000,9,-999.000,9,   36.95,2,   46.31,2, -999.00,1, -999.00,9, -999.00,9,   0.006,-999.0000,9,-999.0000,9,-999.0000,9,-999.0000,9,-999.0000,9,-999.0000,9,-999.0000,9,-999.0000,9,-999.0000,9,   4.0816,     -999.0,9,     -999.0,9,     -999.0,9,     -999.0,9,     -999.0,9,     -999.0,9,     -999.0,9,-999.0000, -999.00
33RO20071215,        P18,      20,          1,          8,      11008,2,20071222,       1137,    13.2498,  -110.0017,       3783,  1266.7,   3.6149,  34.5863,2,  34.5856,2,     38.7,2,    38.8,2,  118.90,2,   44.20,2,    0.00,2,    3.13,2,   0.001,2,   0.000,2,   0.0000,2,  2359.1,2,  2383.8,2,   -999.0,9,  -999.00,   7.3795,2,    25.00,-999.000,9,-999.0000,9, -999.00,9,   -0.29,2,  -999.0,1,-999.000,9,-999.000,-999.000,9,-999.000,9,   36.13,2,   45.55,2, -999.00,1, -999.00,9, -999.00,9,-999.000,-999.0000,9,-999.0000,9,-999.0000,9,-999.0000,9,-999.0000,9,-999.0000,9,-999.0000,9,-999.0000,9,-999.0000,9,   3.5201,     -999.0,9,     -999.0,9,     -999.0,9,     -999.0,9,     -999.0,9,     -999.0,9,     -999.0,9,-999.0000, -999.00
33RO20071215,        P18,      20,          1,          7,      11007,2,20071222,       1137,    13.2498,  -110.0017,       3783,  1465.6,   3.1497,  34.6030,2,  34.6035,2,     53.6,2,    54.6,2,  128.90,2,   43.10,2,    0.00,2,    3.00,2,   0.000,2,   0.000,2,   0.0000,2,  2361.3,2,  2398.3,4,   -999.0,9,  -999.00,   7.4059,2,    25.00,-999.000,9,-999.0000,9, -999.00,9,   -0.26,2,  -999.0,1,-999.000,9,-999.000,-999.000,9,-999.000,9,   36.70,2,   44.08,2, -999.00,1, -999.00,9, -999.00,9,-999.000,-999.0000,9,-999.0000,9,-999.0000,9,-999.0000,9,-999.0000,9,-999.0000,9,-999.0000,9,-999.0000,9,-999.0000,9,   3.0430,     -999.0,9,     -999.0,9,     -999.0,9,     -999.0,9,     -999.0,9,     -999.0,9,     -999.0,9,-999.0000, -999.00
33RO20071215,        P18,      20,          1,          6,      11006,2,20071222,       1137,    13.2498,  -110.0017,       3783,  1732.3,   2.6614,  34.6234,2,  34.6226,2,     72.8,2,    73.6,2,  139.10,2,   41.60,2,    0.00,2,    2.88,2,   0.001,2,   0.001,2,   0.0000,2,  2361.0,2,  2409.8,2,   -999.0,9,  -999.00,   7.4487,2,    25.00,-999.000,9,-999.0000,9, -999.00,9,   -0.27,2,  -999.0,1,-999.000,9,-999.000,-999.000,9,-999.000,9,   36.95,2,   42.65,2, -999.00,1, -999.00,9, -999.00,9,-999.000,-999.0000,9,-999.0000,9,-999.0000,9,-999.0000,9,-999.0000,9,-999.0000,9,-999.0000,9,-999.0000,9,-999.0000,9,   2.5381,     -999.0,9,     -999.0,9,     -999.0,9,     -999.0,9,     -999.0,9,     -999.0,9,     -999.0,9,-999.0000, -999.00
33RO20071215,        P18,      20,          1,          5,      11005,2,20071222,       1137,    13.2498,  -110.0017,       3783,  2132.9,   2.0999,  34.6515,2,  34.6516,2,     94.5,2,    95.8,2,  151.90,2,   40.00,2,    0.00,2,    2.70,2,   0.002,2,   0.001,2,   0.0000,2,  2360.9,2,  2422.0,2,   -999.0,9,  -999.00,   7.4888,2,    25.00,-999.000,9,-999.0000,9, -999.00,9,    0.03,3,  -999.0,1,-999.000,9,-999.000,   0.008,3,-999.000,9,   36.31,2,   41.05,2, -999.00,1, -999.00,9, -999.00,9,-999.000,-999.0000,9,-999.0000,9,-999.0000,9,-999.0000,9,-999.0000,9,-999.0000,9,-999.0000,9,-999.0000,9,-999.0000,9,   1.9505,     -999.0,9,     -999.0,9,     -999.0,9,     -999.0,9,     -999.0,9,     -999.0,9,     -999.0,9,-999.0000, -999.00
33RO20071215,        P18,      20,          1,          4,      11004,2,20071222,       1137,    13.2498,  -110.0017,       3783,  2533.7,   1.8980,  34.6636,2,  34.6637,2,    107.0,2,   106.7,2,  155.90,6,   39.20,6,    0.00,6,    2.63,2,   0.001,2,   0.000,2,   0.0000,2,  2357.4,2,  2428.0,2,   -999.0,9,  -999.00,   7.5131,2,    25.00,-999.000,9,-999.0000,9, -999.00,9,   -0.19,2,  -999.0,1,-999.000,9,-999.000,   0.004,3,-999.000,9,   35.57,2,   40.64,2, -999.00,9, -999.00,9, -999.00,9,-999.000,-999.0000,9,-999.0000,9,-999.0000,9,-999.0000,9,-999.0000,9,-999.0000,9,-999.0000,9,-999.0000,9,-999.0000,9,   1.7165,     -999.0,9,     -999.0,9,     -999.0,9,     -999.0,9,     -999.0,9,     -999.0,9,     -999.0,9,-999.0000, -999.00
33RO20071215,        P18,      20,          1,          3,      11003,2,20071222,       1137,    13.2498,  -110.0017,       3783,  2932.8,   1.7504,  34.6722,2,  34.6725,2,    117.6,2,   118.8,2,  157.70,6,   38.50,6,    0.00,6,    2.56,2,   0.002,2,   0.001,2,   0.0000,2,  2353.0,2,  2429.6,2,   -999.0,9,  -999.00,   7.5339,2,    25.00,-999.000,9,-999.0000,9, -999.00,9,   -0.08,2,  -999.0,1,-999.000,9,-999.000,   0.005,3,-999.000,9,   35.76,2,   40.03,2, -999.00,9, -999.00,9, -999.00,9,-999.000,-999.0000,9,-999.0000,9,-999.0000,9,-999.0000,9,-999.0000,9,-999.0000,9,-999.0000,9,-999.0000,9,-999.0000,9,   1.5345,     -999.0,9,     -999.0,9,     -999.0,9,     -999.0,9,     -999.0,9,     -999.0,9,     -999.0,9,-999.0000, -999.00
33RO20071215,        P18,      20,          1,          2,      11002,2,20071222,       1137,    13.2498,  -110.0017,       3783,  3333.6,   1.6480,  34.6783,2,  34.6790,2,    128.2,2,   128.9,2,  157.60,6,   37.90,6,    0.00,6,    2.50,2,   0.003,2,   0.002,2,   0.0336,2,  2340.4,2,  2429.0,2,   -999.0,9,  -999.00,   7.5536,2,    25.00,-999.000,9,-999.0000,9, -999.00,9,   -0.08,2,  -999.0,1,-999.000,9,-999.000,   0.004,3,-999.000,9,   35.59,2,   38.94,2, -999.00,9, -999.00,9, -999.00,9,-999.000,-999.0000,9,-999.0000,9,-999.0000,9,-999.0000,9,-999.0000,9,-999.0000,9,-999.0000,9,-999.0000,9,-999.0000,9,   1.3951,     -999.0,9,     -999.0,9,     -999.0,9,     -999.0,9,     -999.0,9,     -999.0,9,     -999.0,9,-999.0000, -999.00
33RO20071215,        P18,      20,          1,          1,      11001,2,20071222,       1137,    13.2498,  -110.0017,       3783,  3820.4,   1.6205,  34.6818,2,  34.6813,2,    135.2,2,   135.0,2,  156.70,2,   37.60,2,    0.00,2,    2.46,2,   0.003,6,   0.002,6,   0.0164,6,  2349.1,6,  2428.1,2,   -999.0,9,  -999.00,   7.5534,2,    25.00,-999.000,9,-999.0000,9, -999.00,9,   -0.47,3,  -999.0,1,-999.000,9,-999.000,   0.005,3,-999.000,9,   36.20,2,   38.45,2, -999.00,9, -999.00,9, -999.00,9,-999.000,-999.0000,9,-999.0000,9,-999.0000,9,-999.0000,9,-999.0000,9,-999.0000,9,-999.0000,9,-999.0000,9,-999.0000,9,   1.3176,     -999.0,9,     -999.0,9,     -999.0,9,     -999.0,9,     -999.0,9,     -999.0,9,     -999.0,9,-999.0000, -999.00