BOTTLE,20220818CCHSIOAMB
EXPOCODE,SECT_ID,STNNBR,CASTNO,SAMPNO,BTLNBR,BTLNBR_FLAG_W,DATE,TIME,LATITUDE,LONGITUDE,DEPTH,CTDPRS,CTDTMP,CTDSAL,CTDSAL_FLAG_W,SALNTY,SALNTY_FLAG_W,CTDOXY,CTDOXY_FLAG_W,OXYGEN,OXYGEN_FLAG_W,SILCAT,SILCAT_FLAG_W,NITRAT,NITRAT_FLAG_W,NITRIT,NITRIT_FLAG_W,PHSPHT,PHSPHT_FLAG_W,CFC-11,CFC-11_FLAG_W,CFC-12,CFC-12_FLAG_W,CFC113,CFC113_FLAG_W,TCARBN,TCARBN_FLAG_W,ALKALI,ALKALI_FLAG_W,PCO2,PCO2_FLAG_W,PCO2TMP,PH_SWS,PH_SWS_FLAG_W,PH_TMP,TRITUM,TRITUM_FLAG_W,TRITER,HELIUM,HELIUM_FLAG_W,DELHE3,DELHE3_FLAG_W,DELC13,DELC13_FLAG_W,DELC14,DELC14_FLAG_W,C14ERR,NEON,NEON_FLAG_W,NEONER,CCL4,CCL4_FLAG_W,DOC,DOC_FLAG_W,CTDRAW,CDOM325,CDOM325_FLAG_W,CDOM340,CDOM340_FLAG_W,CDOM380,CDOM380_FLAG_W,CDOM412,CDOM412_FLAG_W,CDOMSL,CDOMSL_FLAG_W,CDOMSN,CDOMSN_FLAG_W,THETA,HELIER,DELHER,CH3CL,CH3CL_FLAG_W,CH3BR,CH3BR_FLAG_W,CH3I,CH3I_FLAG_W
,,,,,,,,,,,METERS,DBAR,ITS-90,PSS-78,,PSS-78,,UMOL/KG,,UMOL/KG,,UMOL/KG,,UMOL/KG,,UMOL/KG,,UMOL/KG,,PMOL/KG,,PMOL/KG,,PMOL/KG,,UMOL/KG,,UMOL/KG,,UATM,,DEG C,,,DEG C,TU,,TU,NMOL/KG,,PERCNT,,/MILLE,,/MILLE,,/MILLE,NMOL/KG,,NMOL/KG,PMOL/KG,,UMOL/KG,,DBAR,1/M,,1/M,,1/M,,1/M,,1/NM,,1/NM,,DEG C,NMOL/KG,PERCNT,PMOL/KG,,PMOL/KG,,PMOL/KG,
 33RO200501,       A16S,      67,          1,         36,         36,2,20050205,       0840,   -29.0005,   -25.0023,       5233,     2.5,  23.2523,  36.2576,2,  36.2559,2,    216.0,2,   215.0,2,    0.71,2,    0.02,2,    0.00,2,    0.01,2,   1.931,2,   1.229,2,   0.164,2,  2059.9,6,  2378.9,2,  -999.0,9,   20.00,   8.0454,2,    25.00,-999.000,9, -999.00,-999.000,9,-999.000,9,    1.63,2,    64.3,2,     3.2,-999.000,9,-999.000,   1.664,4,   68.26,2,    2.50,   0.0710,2,   0.0500,2,   0.0250,2,   0.0160,2,   0.0197,2,   0.0206,2,  23.2518,     -999.0,-999.000,     -999.0,          9,     -999.0,          9,-999.000,          9
 33RO200501,       A16S,      67,          1,         35,         35,2,20050205,       0840,   -29.0005,   -25.0023,       5233,    24.9,  23.2290,  36.2561,2,  36.2548,2,    216.7,2,   215.3,2,    0.67,2,    0.02,2,    0.00,2,    0.00,2,   1.910,2,   1.225,2,   0.150,2,  2059.4,2,  2374.4,6,  -999.0,9,   20.00,   8.0442,6,    25.00,-999.000,9, -999.00,-999.000,9,-999.000,9, -999.00,9,  -999.0,9,  -999.0,-999.000,9,-999.000,   1.650,4,   66.91,2,   24.90,   0.0750,2,   0.0520,2,   0.0160,2,   0.0090,2,   0.0242,2,   0.0241,2,  23.2239,     -999.0,-999.000,     -999.0,          9,     -999.0,          9,-999.000,          9
 33RO200501,       A16S,      67,          1,         34,         34,2,20050205,       0840,   -29.0005,   -25.0023,       5233,    49.6,  22.7809,  36.2702,2,  36.2831,2,    218.2,2,   221.3,2,    0.62,2,    0.03,2,    0.00,2,    0.04,2,-999.000,9,-999.000,9,-999.000,9,  2063.0,2,  2380.0,2,  -999.0,9,   20.00,   8.0425,2,    25.00,-999.000,9, -999.00,-999.000,9,-999.000,9,    1.63,2,    78.8,2,     3.7,-999.000,9,-999.000,-999.000,9,   65.89,2,   49.60,   0.0180,4,  -0.0030,4,  -0.0190,4,  -0.0150,4,-999.0000,9,-999.0000,9,  22.7708,     -999.0,-999.000,     -999.0,          9,     -999.0,          9,-999.000,          9
 33RO200501,       A16S,      67,          1,         33,         33,2,20050205,       0840,   -29.0005,   -25.0023,       5233,    69.2,  21.1245,  36.1578,2,  36.1426,2,    231.9,2,   230.8,2,    0.54,2,    0.04,2,    0.00,2,    0.05,2,   2.155,2,   1.370,2,   0.160,2,  2063.3,2,  2366.9,2,  -999.0,9,   20.00,   8.0348,2,    25.00,-999.000,9, -999.00,-999.000,9,-999.000,9, -999.00,9,  -999.0,9,  -999.0,-999.000,9,-999.000,   1.565,4, -999.00,9,   69.20,-999.0000,9,-999.0000,9,-999.0000,9,-999.0000,9,-999.0000,9,-999.0000,9,  21.1111,     -999.0,-999.000,     -999.0,          9,     -999.0,          9,-999.000,          9
 33RO200501,       A16S,      67,          1,         32,         32,2,20050205,       0840,   -29.0005,   -25.0023,       5233,    89.1,  19.5761,  35.9929,2,  35.9879,2,    233.4,2,   234.4,2,    0.51,2,    0.07,2,    0.00,2,    0.07,2,-999.000,9,-999.000,9,-999.000,9,  2062.4,2,  2357.6,2,  -999.0,9,   20.00,   8.0209,2,    25.00,-999.000,9, -999.00,-999.000,9,-999.000,9,    1.60,2,    80.1,2,     3.7,-999.000,9,-999.000,-999.000,9,   62.62,2,   89.10,   0.0880,2,   0.0560,2,   0.0220,2,   0.0140,2,   0.0268,2,   0.0277,2,  19.5598,     -999.0,-999.000,     -999.0,          9,     -999.0,          9,-999.000,          9
 33RO200501,       A16S,      67,          1,         31,         31,2,20050205,       0840,   -29.0005,   -25.0023,       5233,   114.2,  19.1593,  36.0237,2,  36.0210,2,    229.1,2,   228.8,2,    0.46,2,    0.07,2,    0.00,2,    0.08,2,   2.294,2,   1.416,2,   0.209,2,  2069.6,2,  2357.2,2,  -999.0,9,   20.00,   8.0137,2,    25.00,-999.000,9, -999.00,-999.000,9,-999.000,9, -999.00,9,  -999.0,9,  -999.0,-999.000,9,-999.000,   1.419,4, -999.00,9,  114.20,-999.0000,9,-999.0000,9,-999.0000,9,-999.0000,9,-999.0000,9,-999.0000,9,  19.1388,     -999.0,-999.000,     -999.0,          9,     -999.0,          9,-999.000,          9
 33RO200501,       A16S,      67,          1,         30,         30,4,20050205,       0840,   -29.0005,   -25.0023,       5233,   138.3,  18.4937,  35.9285,2,  34.7079,4,   -999.0,9,   198.4,4,   52.80,4,   28.99,4,    0.00,2,    1.96,4,-999.000,9,-999.000,9,-999.000,9,  2219.4,4,  2327.6,4,  -999.0,9,   20.00,   7.6333,4,    25.00,-999.000,9, -999.00,-999.000,9,-999.000,9,    0.84,4,  -124.6,4,     2.9,-999.000,9,-999.000,-999.000,9,   60.35,2,  138.30,   0.1260,2,   0.0870,2,   0.0440,2,   0.0300,2,   0.0168,2,   0.0188,2,  18.4694,     -999.0,-999.000,     -999.0,          9,     -999.0,          9,-999.000,          9
 33RO200501,       A16S,      67,          1,         29,         29,2,20050205,       0840,   -29.0005,   -25.0023,       5233,   163.4,  17.2433,  35.7218,2,  35.7122,2,    218.1,2,   220.3,2,    0.61,2,    0.67,2,    0.07,2,    0.20,2,   2.498,2,   1.512,2,   0.151,2,  2083.3,2,  2342.3,2,  -999.0,9,   20.00,   7.9647,2,    25.00,-999.000,9, -999.00,-999.000,9,-999.000,9, -999.00,9,  -999.0,9,  -999.0,-999.000,9,-999.000,   1.185,4, -999.00,9,  163.40,-999.0000,9,-999.0000,9,-999.0000,9,-999.0000,9,-999.0000,9,-999.0000,9,  17.2159,     -999.0,-999.000,     -999.0,          9,     -999.0,          9,-999.000,          9
 33RO200501,       A16S,      67,          1,         28,         28,2,20050205,       0840,   -29.0005,   -25.0023,       5233,   188.6,  16.1090,  35.5403,2,  35.5478,2,    223.5,2,   222.7,2,    0.78,2,    1.68,2,    0.02,2,    0.28,2,   2.610,2,   1.548,2,   0.151,2,  2086.9,2,  2332.5,2,  -999.0,9,   20.00,   7.9446,2,    25.00,-999.000,9, -999.00,-999.000,9,-999.000,9,    1.40,2,    78.8,2,     3.8,-999.000,9,-999.000,   1.108,4,   54.04,2,  188.60,   0.1100,2,   0.0790,2,   0.0340,2,   0.0230,2,   0.0209,2,   0.0211,2,  16.0788,     -999.0,-999.000,     -999.0,          9,     -999.0,          9,-999.000,          9
 33RO200501,       A16S,      67,          1,         27,         27,2,20050205,       0840,   -29.0005,   -25.0023,       5233,   224.8,  15.2623,  35.4557,2,  35.4570,2,    218.0,2,   216.0,2,    1.13,2,    3.89,2,    0.01,2,    0.38,2,   2.753,2,   1.622,2,   0.077,2,  2097.6,2,  2325.3,2,  -999.0,9,   20.00,   7.9133,2,    25.00,-999.000,9, -999.00,-999.000,9,-999.000,9, -999.00,9,  -999.0,9,  -999.0,-999.000,9,-999.000,   0.766,4,   49.52,2,  224.80,-999.0000,9,-999.0000,9,-999.0000,9,-999.0000,9,-999.0000,9,-999.0000,9,  15.2277,     -999.0,-999.000,     -999.0,          9,     -999.0,          9,-999.000,          9
 33RO200501,       A16S,      67,          1,         26,         26,2,20050205,       0840,   -29.0005,   -25.0023,       5233,   274.3,  14.3560,  35.3551,2,  35.3528,2,    213.7,2,   214.0,2,    1.62,2,    6.33,2,    0.00,2,    0.53,2,   2.842,2,   1.652,2,   0.051,2,  2104.2,2,  2319.3,2,  -999.0,9,   20.00,   7.8927,2,    25.00,-999.000,9, -999.00,-999.000,9,-999.000,9,    1.25,2,    85.7,2,     4.4,-999.000,9,-999.000,   0.665,4,   49.52,2,  274.30,   0.1000,2,   0.0710,2,   0.0310,2,   0.0200,2,   0.0216,2,   0.0219,2,  14.3155,     -999.0,-999.000,     -999.0,          9,     -999.0,          9,-999.000,          9
 33RO200501,       A16S,      67,          1,         25,         25,2,20050205,       0840,   -29.0005,   -25.0023,       5233,   324.3,  13.6529,  35.2749,2,  35.2722,2,    213.4,2,   212.8,2,    2.08,2,    8.17,2,    0.00,2,    0.63,2,   2.926,2,   1.697,2,   0.039,2,  2109.0,2,  2319.1,2,  -999.0,9,   20.00,   7.8749,2,    25.00,-999.000,9, -999.00,-999.000,9,-999.000,9, -999.00,9,  -999.0,9,  -999.0,-999.000,9,-999.000,   0.667,4,   47.36,2,  324.30,-999.0000,9,-999.0000,9,-999.0000,9,-999.0000,9,-999.0000,9,-999.0000,9,  13.6065,     -999.0,-999.000,     -999.0,          9,     -999.0,          9,-999.000,          9
 33RO200501,       A16S,      67,          1,         24,         24,2,20050205,       0840,   -29.0005,   -25.0023,       5233,   372.0,  12.7828,  35.1576,2,  35.1526,2,    207.5,2,   208.2,2,    3.07,2,   10.73,2,    0.00,2,    0.78,2,   2.950,2,   1.664,2,   0.039,2,  2117.3,2,  2312.4,2,  -999.0,9,   20.00,   7.8462,2,    25.00,-999.000,9, -999.00,-999.000,9,-999.000,9,    1.20,2,    75.0,2,     3.5,-999.000,9,-999.000,   0.693,4,   44.93,2,  372.00,   0.0880,2,   0.0600,2,   0.0280,2,   0.0190,2,   0.0219,2,   0.0230,2,  12.7318,     -999.0,-999.000,     -999.0,          9,     -999.0,          9,-999.000,          9
 33RO200501,       A16S,      67,          1,         23,         23,2,20050205,       0840,   -29.0005,   -25.0023,       5233,   450.2,  11.2587,  34.9570,2,  34.9567,2,    200.4,2,   199.8,2,    5.43,6,   15.11,6,    0.00,6,    1.04,6,   2.889,6,   1.570,6,   0.058,6,  2131.2,2,  2327.4,3,  -999.0,9,   20.00,   7.7880,2,    25.00,-999.000,9, -999.00,-999.000,9,-999.000,9,    1.18,2,    63.4,2,     3.4,-999.000,9,-999.000,   0.863,4, -999.00,9,  450.20,-999.0000,9,-999.0000,9,-999.0000,9,-999.0000,9,-999.0000,9,-999.0000,9,  11.2018,     -999.0,-999.000,     -999.0,          9,     -999.0,          9,-999.000,          9
 33RO200501,       A16S,      67,          1,         22,         22,2,20050205,       0840,   -29.0005,   -25.0023,       5233,   550.5,   9.1144,  34.6982,2,  34.6997,2,    205.5,2,   204.8,2,    8.20,6,   19.65,6,    0.00,6,    1.32,6,   2.905,2,   1.547,2,   0.102,2,  2143.2,2,  2289.5,2,  -999.0,9,   20.00,   7.7474,2,    25.00,-999.000,9, -999.00,-999.000,9,-999.000,9,    1.20,2,    49.0,2,     4.2,-999.000,9,-999.000,   1.300,4,   41.57,2,  550.50,   0.1100,2,   0.0770,2,   0.0360,2,   0.0240,2,   0.0201,2,   0.0209,2,   9.0531,     -999.0,-999.000,     -999.0,          9,     -999.0,          9,-999.000,          9
 33RO200501,       A16S,      67,          1,         21,         21,2,20050205,       0840,   -29.0005,   -25.0023,       5233,   649.7,   7.0250,  34.4843,2,  34.4870,2,    206.8,2,   208.7,2,   12.82,6,   24.53,6,    0.00,6,    1.62,6,   2.760,2,   1.425,2,   0.119,2,  2160.9,2,  2282.4,2,  -999.0,9,   20.00,   7.6970,2,    25.00,-999.000,9, -999.00,-999.000,9,-999.000,9,    1.20,2,    10.6,2,     3.4,-999.000,9,-999.000,   1.808,4, -999.00,9,  649.70,-999.0000,9,-999.0000,9,-999.0000,9,-999.0000,9,-999.0000,9,-999.0000,9,   6.9626,     -999.0,-999.000,     -999.0,          9,     -999.0,          9,-999.000,          9
 33RO200501,       A16S,      67,          1,         20,         20,2,20050205,       0840,   -29.0005,   -25.0023,       5233,   751.1,   5.6895,  34.3700,2,  34.3696,2,    216.0,2,   217.6,2,   16.56,2,   27.09,2,    0.00,2,    1.77,2,   2.670,2,   1.341,2,   0.142,2,  2169.0,2,  2283.0,2,  -999.0,9,   20.00,   7.6702,2,    25.00,-999.000,9, -999.00,-999.000,9,-999.000,9,    1.22,2,    -3.4,2,     3.0,-999.000,9,-999.000,   2.204,4,   41.03,2,  751.10,   0.1030,2,   0.0710,2,   0.0350,2,   0.0240,2,   0.0190,2,   0.0206,2,   5.6245,     -999.0,-999.000,     -999.0,          9,     -999.0,          9,-999.000,          9
 33RO200501,       A16S,      67,          1,         19,         19,2,20050205,       0840,   -29.0005,   -25.0023,       5233,   850.0,   4.6042,  34.3214,2,  34.3210,2,    217.3,2,   217.6,2,   23.82,2,   29.44,2,    0.00,2,    1.93,2,   2.226,2,   1.098,2,   0.120,2,  2180.3,2,  2285.8,6,  -999.0,9,   20.00,   7.6501,6,    25.00,-999.000,9, -999.00,-999.000,9,-999.000,9,    0.82,4,   -38.8,2,     2.9,-999.000,9,-999.000,   2.156,4, -999.00,9,  850.00,-999.0000,9,-999.0000,9,-999.0000,9,-999.0000,9,-999.0000,9,-999.0000,9,   4.5372,     -999.0,-999.000,     -999.0,          9,     -999.0,          9,-999.000,          9
 33RO200501,       A16S,      67,          1,         18,         18,2,20050205,       0840,   -29.0005,   -25.0023,       5233,   952.0,   4.0985,  34.3271,2,  34.3261,2,    211.9,2,   212.5,2,   29.97,2,   30.71,2,    0.00,2,    2.02,2,   1.800,2,   0.879,2,   0.093,2,  2191.5,6,  2292.1,2,  -999.0,9,   20.00,   7.6312,2,    25.00,-999.000,9, -999.00,-999.000,9,-999.000,9,    1.08,2,   -64.2,2,     3.3,-999.000,9,-999.000,   1.884,4,   40.14,2,  952.00,   0.1540,2,   0.1140,2,   0.0530,2,   0.0330,2,   0.0183,2,   0.0188,2,   4.0264,     -999.0,-999.000,     -999.0,          9,     -999.0,          9,-999.000,          9
 33RO200501,       A16S,      67,          1,         17,         17,2,20050205,       0840,   -29.0005,   -25.0023,       5233,  1099.3,   3.4608,  34.3851,2,  34.3828,2,    200.3,2,   200.2,2,   41.57,2,   32.22,2,    0.00,2,    2.14,2,   1.094,2,   0.545,2,   0.044,2,  2209.7,2,  2303.6,2,  -999.0,9,   20.00,   7.6094,2,    25.00,-999.000,9, -999.00,-999.000,9,-999.000,9,    0.96,2,   -93.8,2,     2.9,-999.000,9,-999.000,   1.306,4,   39.48,2, 1099.30,-999.0000,9,-999.0000,9,-999.0000,9,-999.0000,9,-999.0000,9,-999.0000,9,   3.3816,     -999.0,-999.000,     -999.0,          9,     -999.0,          9,-999.000,          9
 33RO200501,       A16S,      67,          1,         16,         16,2,20050205,       0840,   -29.0005,   -25.0023,       5233,  1302.7,   3.0522,  34.5204,2,  34.5196,2,    189.1,2,   187.9,2,   52.62,2,   32.31,2,    0.00,2,    2.16,2,   0.384,2,   0.191,2,   0.016,2,  2226.2,2,  2320.0,2,  -999.0,9,   20.00,   7.6113,2,    25.00,-999.000,9, -999.00,-999.000,9,-999.000,9,    0.79,2,  -117.4,2,     3.1,-999.000,9,-999.000,   0.577,4,   39.05,2, 1302.70,-999.0000,9,-999.0000,9,-999.0000,9,-999.0000,9,-999.0000,9,-999.0000,9,   2.9601,     -999.0,-999.000,     -999.0,          9,     -999.0,          9,-999.000,          9
 33RO200501,       A16S,      67,          1,         15,         15,2,20050205,       0840,   -29.0005,   -25.0023,       5233,  1494.3,   2.9289,  34.6392,2,  34.6391,2,    191.2,2,   190.9,2,   54.33,2,   30.71,2,    0.00,2,    2.05,2,   0.122,2,   0.064,2,   0.000,2,  2225.0,2,  2321.2,2,  -999.0,9,   20.00,   7.6275,2,    25.00,-999.000,9, -999.00,-999.000,9,-999.000,9,    0.76,2,  -131.7,6,     7.5,-999.000,9,-999.000,   0.241,4,   39.83,2, 1494.30,-999.0000,9,-999.0000,9,-999.0000,9,-999.0000,9,-999.0000,9,-999.0000,9,   2.8222,     -999.0,-999.000,     -999.0,          9,     -999.0,          9,-999.000,          9
 33RO200501,       A16S,      67,          1,         14,         14,2,20050205,       0840,   -29.0005,   -25.0023,       5233,  1700.6,   2.8624,  34.7261,2,  34.7253,2,    201.0,2,   201.7,2,   52.10,2,   28.65,2,    0.00,2,    1.90,2,   0.021,4,   0.000,4,   0.000,4,  2216.7,2,  2322.8,2,  -999.0,9,   20.00,   7.6468,2,    25.00,-999.000,9, -999.00,-999.000,9,-999.000,9, -999.00,9,  -999.0,9,  -999.0,-999.000,9,-999.000,   0.000,4,   39.61,2, 1700.60,-999.0000,9,-999.0000,9,-999.0000,9,-999.0000,9,-999.0000,9,-999.0000,9,   2.7389,     -999.0,-999.000,     -999.0,          9,     -999.0,          9,-999.000,          9
 33RO200501,       A16S,      67,          1,         13,         13,2,20050205,       0840,   -29.0005,   -25.0023,       5233,  1901.1,   2.8046,  34.7933,2,  34.7928,2,    214.8,2,   215.2,2,   48.35,2,   26.44,2,    0.00,2,    1.75,2,   0.018,6,   0.007,6,   0.000,6,  2207.2,2,  2322.4,2,  -999.0,9,   20.00,   7.6680,2,    25.00,-999.000,9, -999.00,-999.000,9,-999.000,9, -999.00,9,  -999.0,9,  -999.0,-999.000,9,-999.000,   0.054,4,   39.24,2, 1901.10,-999.0000,9,-999.0000,9,-999.0000,9,-999.0000,9,-999.0000,9,-999.0000,9,   2.6642,     -999.0,-999.000,     -999.0,          9,     -999.0,          9,-999.000,          9
 33RO200501,       A16S,      67,          1,         12,         12,2,20050205,       0840,   -29.0005,   -25.0023,       5233,  2099.7,   2.8147,  34.8397,2,  34.8397,2,    226.5,2,   226.2,2,   43.54,2,   24.65,2,    0.00,2,    1.62,2,   0.004,2,   0.000,2,   0.000,2,  2196.9,2,  2322.7,2,  -999.0,9,   20.00,   7.6814,2,    25.00,-999.000,9, -999.00,-999.000,9,-999.000,9, -999.00,9,  -999.0,9,  -999.0,-999.000,9,-999.000,   0.041,4, -999.00,9, 2099.70,   0.1660,2,   0.1230,2,   0.0630,2,   0.0420,2,   0.0152,2,   0.0166,2,   2.6563,     -999.0,-999.000,     -999.0,          9,     -999.0,          9,-999.000,          9
 33RO200501,       A16S,      67,          1,         11,         11,2,20050205,       0840,   -29.0005,   -25.0023,       5233,  2293.2,   2.7797,  34.8657,2,  34.8659,2,    233.9,2,   233.6,2,   41.34,2,   23.58,2,    0.00,2,    1.54,2,  -0.001,2,   0.003,2,   0.000,2,  2191.7,2,  2323.2,2,  -999.0,9,   20.00,   7.7081,2,    25.00,-999.000,9, -999.00,-999.000,9,-999.000,9, -999.00,9,  -999.0,9,  -999.0,-999.000,9,-999.000,   0.031,4,   38.56,2, 2293.20,-999.0000,9,-999.0000,9,-999.0000,9,-999.0000,9,-999.0000,9,-999.0000,9,   2.6038,     -999.0,-999.000,     -999.0,          9,     -999.0,          9,-999.000,          9
 33RO200501,       A16S,      67,          1,         10,         10,2,20050205,       0840,   -29.0005,   -25.0023,       5233,  2499.1,   2.7938,  34.8920,2,  34.8929,2,    240.9,2,   241.7,2,   37.46,2,   22.36,2,    0.00,2,    1.47,2,-999.000,5,-999.000,5,-999.000,5,  2185.1,2,  2311.5,3,  -999.0,9,   20.00,   7.7105,2,    25.00,-999.000,9, -999.00,-999.000,9,-999.000,9, -999.00,9,  -999.0,9,  -999.0,-999.000,9,-999.000,-999.000,5, -999.00,9, 2499.10,-999.0000,9,-999.0000,9,-999.0000,9,-999.0000,9,-999.0000,9,-999.0000,9,   2.5979,     -999.0,-999.000,     -999.0,          9,     -999.0,          9,-999.000,          9
 33RO200501,       A16S,      67,          1,          9,          9,2,20050205,       0840,   -29.0005,   -25.0023,       5233,  2751.1,   2.7704,  34.9073,2,  34.9078,2,    246.6,2,   246.6,2,   35.28,2,   21.62,2,    0.00,2,    1.42,2,   0.000,2,  -0.002,2,   0.000,2,  2182.2,2,  2321.1,2,  -999.0,9,   20.00,   7.7295,2,    25.00,-999.000,9, -999.00,-999.000,9,-999.000,9, -999.00,9,  -999.0,9,  -999.0,-999.000,9,-999.000,   0.022,4,   39.77,2, 2751.10,-999.0000,9,-999.0000,9,-999.0000,9,-999.0000,9,-999.0000,9,-999.0000,9,   2.5501,     -999.0,-999.000,     -999.0,          9,     -999.0,          9,-999.000,          9
 33RO200501,       A16S,      67,          1,          8,          8,2,20050205,       0840,   -29.0005,   -25.0023,       5233,  3049.4,   2.6496,  34.9064,2,  34.9064,2,    249.0,2,   248.8,2,   37.13,2,   21.51,2,    0.00,2,    1.41,2,   0.000,2,   0.004,2,   0.000,2,  2183.0,2,  2328.0,2,  -999.0,9,   20.00,   7.7372,2,    25.00,-999.000,9, -999.00,-999.000,9,-999.000,9, -999.00,9,  -999.0,9,  -999.0,-999.000,9,-999.000,   0.029,4, -999.00,9, 3049.40,   0.1280,2,   0.0900,2,   0.0460,2,   0.0300,2,   0.0166,2,   0.0183,2,   2.4014,     -999.0,-999.000,     -999.0,          9,     -999.0,          9,-999.000,          9