BOTTLE,20220818CCHSIOAMB
EXPOCODE,SECT_ID,STNNBR,CASTNO,SAMPNO,BTLNBR,BTLNBR_FLAG_W,DATE,TIME,LATITUDE,LONGITUDE,DEPTH,CTDPRS,CTDTMP,CTDSAL,CTDSAL_FLAG_W,SALNTY,SALNTY_FLAG_W,CTDOXY,CTDOXY_FLAG_W,OXYGEN,OXYGEN_FLAG_W,SILCAT,SILCAT_FLAG_W,NITRAT,NITRAT_FLAG_W,NITRIT,NITRIT_FLAG_W,PHSPHT,PHSPHT_FLAG_W,CFC-11,CFC-11_FLAG_W,CFC-12,CFC-12_FLAG_W,CFC113,CFC113_FLAG_W,TCARBN,TCARBN_FLAG_W,ALKALI,ALKALI_FLAG_W,PCO2,PCO2_FLAG_W,PCO2TMP,PH_SWS,PH_SWS_FLAG_W,PH_TMP,TRITUM,TRITUM_FLAG_W,TRITER,HELIUM,HELIUM_FLAG_W,DELHE3,DELHE3_FLAG_W,DELC13,DELC13_FLAG_W,DELC14,DELC14_FLAG_W,C14ERR,NEON,NEON_FLAG_W,NEONER,CCL4,CCL4_FLAG_W,DOC,DOC_FLAG_W,CTDRAW,CDOM325,CDOM325_FLAG_W,CDOM340,CDOM340_FLAG_W,CDOM380,CDOM380_FLAG_W,CDOM412,CDOM412_FLAG_W,CDOMSL,CDOMSL_FLAG_W,CDOMSN,CDOMSN_FLAG_W,THETA,HELIER,DELHER,CH3CL,CH3CL_FLAG_W,CH3BR,CH3BR_FLAG_W,CH3I,CH3I_FLAG_W
,,,,,,,,,,,METERS,DBAR,ITS-90,PSS-78,,PSS-78,,UMOL/KG,,UMOL/KG,,UMOL/KG,,UMOL/KG,,UMOL/KG,,UMOL/KG,,PMOL/KG,,PMOL/KG,,PMOL/KG,,UMOL/KG,,UMOL/KG,,UATM,,DEG C,,,DEG C,TU,,TU,NMOL/KG,,PERCNT,,/MILLE,,/MILLE,,/MILLE,NMOL/KG,,NMOL/KG,PMOL/KG,,UMOL/KG,,DBAR,1/M,,1/M,,1/M,,1/M,,1/NM,,1/NM,,DEG C,NMOL/KG,PERCNT,PMOL/KG,,PMOL/KG,,PMOL/KG,
 33RO200501,       A16S,      85,          1,          7,          7,2,20050210,       2109,   -20.0015,   -24.9992,       5405,  4199.6,   1.5321,  34.8012,2,  34.8025,2,    236.2,2,   236.4,2,   76.84,2,   26.07,2,    0.00,2,    1.77,2,   0.007,2,   0.003,2,   0.000,2,  2222.8,2,  2347.6,2,   877.7,2,   20.00,   7.6778,2,    25.00,-999.000,9, -999.00,-999.000,9,-999.000,9,    0.90,2,  -149.8,2,     2.9,-999.000,9,-999.000,   0.037,4,   40.14,2, 4199.60,-999.0000,9,-999.0000,9,-999.0000,9,-999.0000,9,-999.0000,9,-999.0000,9,   1.1895,     -999.0,-999.000,     -999.0,          9,     -999.0,          9,-999.000,          9
 33RO200501,       A16S,      85,          1,          6,          6,2,20050210,       2109,   -20.0015,   -24.9992,       5405,  4499.3,   1.1475,  34.7601,2,  34.7605,2,    229.7,2,   230.3,2,   92.76,2,   28.17,2,    0.00,2,    1.93,2,   0.016,2,   0.007,2,   0.004,2,  2238.5,2,  2357.3,2,   934.0,2,   20.00,   7.6545,2,    25.00,-999.000,9, -999.00,-999.000,9,-999.000,9,    0.81,2,  -154.9,2,     5.1,-999.000,9,-999.000,   0.053,4, -999.00,9, 4499.30,-999.0000,9,-999.0000,9,-999.0000,9,-999.0000,9,-999.0000,9,-999.0000,9,   0.7831,     -999.0,-999.000,     -999.0,          9,     -999.0,          9,-999.000,          9
 33RO200501,       A16S,      85,          1,          5,          5,2,20050210,       2109,   -20.0015,   -24.9992,       5405,  4799.0,   0.9348,  34.7358,2,  34.7385,3,    226.2,2,   226.9,2,  102.10,2,   29.42,2,    0.00,2,    2.02,2,   0.038,2,   0.020,2,   0.007,2,  2246.5,2,  2358.0,2,   965.7,2,   20.00,   7.6375,2,    25.00,-999.000,9, -999.00,-999.000,9,-999.000,9,    0.77,2,  -160.9,2,     3.2,-999.000,9,-999.000,   0.086,4,   39.54,2, 4799.00,-999.0000,9,-999.0000,9,-999.0000,9,-999.0000,9,-999.0000,9,-999.0000,9,   0.5430,     -999.0,-999.000,     -999.0,          9,     -999.0,          9,-999.000,          9
 33RO200501,       A16S,      85,          1,          4,          4,2,20050210,       2109,   -20.0015,   -24.9992,       5405,  5100.1,   0.8298,  34.7214,2,  34.7215,2,    224.3,2,   224.6,2,  108.02,6,   30.16,6,    0.00,6,    2.08,6,   0.046,2,   0.024,2,   0.000,2,  2252.0,2,  2355.5,2,  -999.0,9,   20.00,   7.6285,2,    25.00,-999.000,9, -999.00,-999.000,9,-999.000,9, -999.00,5,  -999.0,5,  -999.0,-999.000,9,-999.000,   0.113,4, -999.00,9, 5100.10,-999.0000,9,-999.0000,9,-999.0000,9,-999.0000,9,-999.0000,9,-999.0000,9,   0.4062,     -999.0,-999.000,     -999.0,          9,     -999.0,          9,-999.000,          9
 33RO200501,       A16S,      85,          1,          3,          3,2,20050210,       2109,   -20.0015,   -24.9992,       5405,  5399.2,   0.7865,  34.7129,2,  34.7139,2,    223.4,2,   223.7,2,  111.30,6,   30.56,6,    0.00,6,    2.11,6,   0.061,2,   0.027,2,   0.004,2,  2253.9,2,  2356.0,2,  1006.1,2,   20.00,   7.6268,2,    25.00,-999.000,9, -999.00,-999.000,9,-999.000,9,    0.69,2,  -160.4,2,     3.6,-999.000,9,-999.000,   0.134,4,   39.66,2, 5399.20,-999.0000,9,-999.0000,9,-999.0000,9,-999.0000,9,-999.0000,9,-999.0000,9,   0.3283,     -999.0,-999.000,     -999.0,          9,     -999.0,          9,-999.000,          9
 33RO200501,       A16S,      85,          1,          2,          2,2,20050210,       2109,   -20.0015,   -24.9992,       5405,  5697.2,   0.6906,  34.6993,2,  34.6997,2,    221.8,2,   222.0,2,  116.20,6,   31.19,6,    0.00,6,    2.16,6,   0.111,2,   0.055,2,   0.006,2,  2260.8,2,  2359.8,6,  1025.5,2,   20.00,   7.6172,6,    25.00,-999.000,9, -999.00,-999.000,9,-999.000,9,    0.69,2,  -163.7,2,     2.8,-999.000,9,-999.000,   0.198,4, -999.00,9, 5697.20,-999.0000,9,-999.0000,9,-999.0000,9,-999.0000,9,-999.0000,9,-999.0000,9,   0.1990,     -999.0,-999.000,     -999.0,          9,     -999.0,          9,-999.000,          9
 33RO200501,       A16S,      85,          1,          1,          1,2,20050210,       2109,   -20.0015,   -24.9992,       5405,  6129.8,   0.7383,  34.6978,2,  34.6993,3,    221.7,2,   221.6,2,  116.71,6,   31.22,6,    0.00,6,    2.17,6,   0.113,6,   0.057,6,   0.003,6,  2258.7,6,  2357.7,2,  1025.9,2,   20.00,   7.6132,2,    25.00,-999.000,9, -999.00,-999.000,9,-999.000,9,    0.70,2,  -156.6,2,     2.7,-999.000,9,-999.000,   0.202,4,   39.85,2, 6129.80,-999.0000,9,-999.0000,9,-999.0000,9,-999.0000,9,-999.0000,9,-999.0000,9,   0.1893,     -999.0,-999.000,     -999.0,          9,     -999.0,          9,-999.000,          9