BOTTLE,20220818CCHSIOAMB
EXPOCODE,SECT_ID,STNNBR,CASTNO,SAMPNO,BTLNBR,BTLNBR_FLAG_W,DATE,TIME,LATITUDE,LONGITUDE,DEPTH,CTDPRS,CTDTMP,CTDSAL,CTDSAL_FLAG_W,SALNTY,SALNTY_FLAG_W,CTDOXY,CTDOXY_FLAG_W,OXYGEN,OXYGEN_FLAG_W,SILCAT,SILCAT_FLAG_W,NITRAT,NITRAT_FLAG_W,NITRIT,NITRIT_FLAG_W,PHSPHT,PHSPHT_FLAG_W,CFC-11,CFC-11_FLAG_W,CFC-12,CFC-12_FLAG_W,CFC113,CFC113_FLAG_W,TCARBN,TCARBN_FLAG_W,ALKALI,ALKALI_FLAG_W,PCO2,PCO2_FLAG_W,PCO2TMP,PH_SWS,PH_SWS_FLAG_W,PH_TMP,TRITUM,TRITUM_FLAG_W,TRITER,HELIUM,HELIUM_FLAG_W,DELHE3,DELHE3_FLAG_W,DELC13,DELC13_FLAG_W,DELC14,DELC14_FLAG_W,C14ERR,NEON,NEON_FLAG_W,NEONER,CCL4,CCL4_FLAG_W,DOC,DOC_FLAG_W,CTDRAW,CDOM325,CDOM325_FLAG_W,CDOM340,CDOM340_FLAG_W,CDOM380,CDOM380_FLAG_W,CDOM412,CDOM412_FLAG_W,CDOMSL,CDOMSL_FLAG_W,CDOMSN,CDOMSN_FLAG_W,THETA,HELIER,DELHER,CH3CL,CH3CL_FLAG_W,CH3BR,CH3BR_FLAG_W,CH3I,CH3I_FLAG_W
,,,,,,,,,,,METERS,DBAR,ITS-90,PSS-78,,PSS-78,,UMOL/KG,,UMOL/KG,,UMOL/KG,,UMOL/KG,,UMOL/KG,,UMOL/KG,,PMOL/KG,,PMOL/KG,,PMOL/KG,,UMOL/KG,,UMOL/KG,,UATM,,DEG C,,,DEG C,TU,,TU,NMOL/KG,,PERCNT,,/MILLE,,/MILLE,,/MILLE,NMOL/KG,,NMOL/KG,PMOL/KG,,UMOL/KG,,DBAR,1/M,,1/M,,1/M,,1/M,,1/NM,,1/NM,,DEG C,NMOL/KG,PERCNT,PMOL/KG,,PMOL/KG,,PMOL/KG,
 33RO200501,       A16S,       5,          2,          7,          7,2,20050118,       1538,   -58.0268,   -30.9155,       3439,  2098.7,   0.4071,  34.6797,2,  34.6798,2,    210.3,2,   213.8,2,  116.71,2,   32.29,2,    0.00,2,    2.20,2,   0.572,2,   0.284,2,   0.022,2,  2259.9,2,  2353.3,2,  1097.2,2,   20.00,   7.6037,2,    25.00,-999.000,9, -999.00,-999.000,9,-999.000,9, -999.00,9,  -999.0,9,  -999.0,-999.000,9,-999.000,   0.640,3,   39.66,2, 2098.70,-999.0000,9,-999.0000,9,-999.0000,9,-999.0000,9,-999.0000,9,-999.0000,9,   0.2877,     -999.0,-999.000,     -999.0,          9,     -999.0,          9,-999.000,          9
 33RO200501,       A16S,       5,          2,          6,          6,9,20050118,       1538,   -58.0268,   -30.9155,       3439,  2350.4,   0.2998,  34.6767,2,-999.0000,9,    216.9,2,  -999.0,9, -999.00,9, -999.00,9, -999.00,9, -999.00,9,-999.000,9,-999.000,9,-999.000,9,  -999.0,9,  -999.0,9,  -999.0,9,   20.00,-999.0000,9,    25.00,-999.000,9, -999.00,-999.000,9,-999.000,9, -999.00,9,  -999.0,9,  -999.0,-999.000,9,-999.000,-999.000,9, -999.00,9, 2350.40,-999.0000,9,-999.0000,9,-999.0000,9,-999.0000,9,-999.0000,9,-999.0000,9,   0.1632,     -999.0,-999.000,     -999.0,          9,     -999.0,          9,-999.000,          9
 33RO200501,       A16S,       5,          2,          5,          5,2,20050118,       1538,   -58.0268,   -30.9155,       3439,  2598.5,   0.1998,  34.6730,2,  34.6734,2,    217.9,2,   220.9,2,  119.38,2,   32.31,2,    0.00,2,    2.19,2,   0.656,6,   0.325,6,   0.013,6,  2257.7,2,  2353.2,2,  1096.5,2,   20.00,   7.6063,2,    25.00,-999.000,9, -999.00,-999.000,9,-999.000,9, -999.00,9,  -999.0,9,  -999.0,-999.000,9,-999.000,   0.706,6,   40.16,2, 2598.50,-999.0000,9,-999.0000,9,-999.0000,9,-999.0000,9,-999.0000,9,-999.0000,9,   0.0455,     -999.0,-999.000,     -999.0,          9,     -999.0,          9,-999.000,          9
 33RO200501,       A16S,       5,          2,          4,          4,2,20050118,       1538,   -58.0268,   -30.9155,       3439,  2848.1,   0.1186,  34.6695,2,  34.6690,2,    221.4,2,   223.7,2,  120.35,6,   32.34,6,    0.00,6,    2.20,6,   0.710,2,   0.351,2,   0.010,2,  2257.0,2,  2351.5,2,  -999.0,9,   20.00,   7.6091,2,    25.00,-999.000,9, -999.00,-999.000,9,-999.000,9, -999.00,9,  -999.0,9,  -999.0,-999.000,9,-999.000,   0.738,3, -999.00,9, 2848.10,-999.0000,9,-999.0000,9,-999.0000,9,-999.0000,9,-999.0000,9,-999.0000,9,  -0.0545,     -999.0,-999.000,     -999.0,          9,     -999.0,          9,-999.000,          9
 33RO200501,       A16S,       5,          2,          3,          3,2,20050118,       1538,   -58.0268,   -30.9155,       3439,  3098.8,   0.0560,  34.6666,2,  34.6663,2,    224.7,2,   226.1,2,  121.48,6,   32.31,6,    0.00,6,    2.21,6,   0.764,2,   0.374,2,   0.019,2,  2257.4,2,  2349.8,2,  1093.8,6,   20.00,   7.6047,2,    25.00,-999.000,9, -999.00,-999.000,9,-999.000,9, -999.00,9,  -999.0,9,  -999.0,-999.000,9,-999.000,   0.810,3,   39.92,2, 3098.80,-999.0000,9,-999.0000,9,-999.0000,9,-999.0000,9,-999.0000,9,-999.0000,9,  -0.1372,     -999.0,-999.000,     -999.0,          9,     -999.0,          9,-999.000,          9
 33RO200501,       A16S,       5,          2,          2,          2,2,20050118,       1538,   -58.0268,   -30.9155,       3439,  3340.3,   0.0397,  34.6653,2,  34.6655,2,    227.2,2,   227.6,2,  122.17,6,   32.34,6,    0.00,6,    2.21,6,   0.786,2,   0.382,2,   0.020,2,  2257.7,2,  2353.7,6,  1091.2,2,   20.00,   7.6129,6,    25.00,-999.000,9, -999.00,-999.000,9,-999.000,9, -999.00,9,  -999.0,9,  -999.0,-999.000,9,-999.000,   0.842,3, -999.00,9, 3340.30,-999.0000,9,-999.0000,9,-999.0000,9,-999.0000,9,-999.0000,9,-999.0000,9,  -0.1745,     -999.0,-999.000,     -999.0,          9,     -999.0,          9,-999.000,          9
 33RO200501,       A16S,       5,          2,          1,          1,2,20050118,       1538,   -58.0268,   -30.9155,       3439,  3604.9,   0.0334,  34.6642,2,  34.6645,2,    229.6,2,   228.1,2,  122.91,6,   32.34,6,    0.01,6,    2.21,6,   0.819,2,   0.398,2,   0.032,2,  2255.4,6,  2350.9,2,  1089.1,2,   20.00,   7.6032,2,    25.00,   0.006,2,    0.01,-999.000,9,-999.000,9, -999.00,9,  -999.0,9,  -999.0,-999.000,9,-999.000,   0.889,3,   39.75,2, 3604.90,   0.1620,3,   0.1190,3,   0.0640,3,   0.0450,3,   0.0136,3,   0.0153,3,  -0.2052,     -999.0,-999.000,     -999.0,          9,     -999.0,          9,-999.000,          9