BOTTLE,20220818CCHSIOAMB
EXPOCODE,SECT_ID,STNNBR,CASTNO,SAMPNO,BTLNBR,BTLNBR_FLAG_W,DATE,TIME,LATITUDE,LONGITUDE,DEPTH,CTDPRS,CTDTMP,CTDSAL,CTDSAL_FLAG_W,SALNTY,SALNTY_FLAG_W,CTDOXY,CTDOXY_FLAG_W,OXYGEN,OXYGEN_FLAG_W,SILCAT,SILCAT_FLAG_W,NITRAT,NITRAT_FLAG_W,NITRIT,NITRIT_FLAG_W,PHSPHT,PHSPHT_FLAG_W,CFC-11,CFC-11_FLAG_W,CFC-12,CFC-12_FLAG_W,CFC113,CFC113_FLAG_W,TCARBN,TCARBN_FLAG_W,ALKALI,ALKALI_FLAG_W,PCO2,PCO2_FLAG_W,PCO2TMP,PH_SWS,PH_SWS_FLAG_W,PH_TMP,TRITUM,TRITUM_FLAG_W,TRITER,HELIUM,HELIUM_FLAG_W,DELHE3,DELHE3_FLAG_W,DELC13,DELC13_FLAG_W,DELC14,DELC14_FLAG_W,C14ERR,NEON,NEON_FLAG_W,NEONER,CCL4,CCL4_FLAG_W,DOC,DOC_FLAG_W,CTDRAW,CDOM325,CDOM325_FLAG_W,CDOM340,CDOM340_FLAG_W,CDOM380,CDOM380_FLAG_W,CDOM412,CDOM412_FLAG_W,CDOMSL,CDOMSL_FLAG_W,CDOMSN,CDOMSN_FLAG_W,THETA,HELIER,DELHER,CH3CL,CH3CL_FLAG_W,CH3BR,CH3BR_FLAG_W,CH3I,CH3I_FLAG_W
,,,,,,,,,,,METERS,DBAR,ITS-90,PSS-78,,PSS-78,,UMOL/KG,,UMOL/KG,,UMOL/KG,,UMOL/KG,,UMOL/KG,,UMOL/KG,,PMOL/KG,,PMOL/KG,,PMOL/KG,,UMOL/KG,,UMOL/KG,,UATM,,DEG C,,,DEG C,TU,,TU,NMOL/KG,,PERCNT,,/MILLE,,/MILLE,,/MILLE,NMOL/KG,,NMOL/KG,PMOL/KG,,UMOL/KG,,DBAR,1/M,,1/M,,1/M,,1/M,,1/NM,,1/NM,,DEG C,NMOL/KG,PERCNT,PMOL/KG,,PMOL/KG,,PMOL/KG,
 33RO200501,       A16S,      32,          1,          7,          7,2,20050125,       1445,   -46.5000,   -31.8082,       5256,  3545.6,   0.6532,  34.6953,2,  34.6939,2,    212.2,2,   212.4,2,  118.10,2,   32.22,2,    0.00,2,    2.25,2,   0.264,2,   0.131,2,   0.009,2,  -999.0,9,  -999.0,9,  -999.0,9,   20.00,-999.0000,9,    25.00,-999.000,9, -999.00,-999.000,9,-999.000,9, -999.00,9,  -999.0,9,  -999.0,-999.000,9,-999.000,   0.342,3, -999.00,9, 3545.60,-999.0000,9,-999.0000,9,-999.0000,9,-999.0000,9,-999.0000,9,-999.0000,9,   0.4040,     -999.0,-999.000,      1.071,          2,      0.137,          2,   0.022,          2
 33RO200501,       A16S,      32,          1,          6,          6,2,20050125,       1445,   -46.5000,   -31.8082,       5256,  3849.5,   0.3980,  34.6832,2,  34.6831,2,    217.1,2,   217.7,2,  123.16,2,   32.47,2,    0.00,2,    2.28,2,-999.000,9,-999.000,9,-999.000,9,  -999.0,9,  -999.0,9,  -999.0,9,   20.00,-999.0000,9,    25.00,-999.000,9, -999.00,-999.000,9,-999.000,9, -999.00,9,  -999.0,9,  -999.0,-999.000,9,-999.000,-999.000,9, -999.00,9, 3849.50,-999.0000,9,-999.0000,9,-999.0000,9,-999.0000,9,-999.0000,9,-999.0000,9,   0.1257,     -999.0,-999.000,     -999.0,          9,     -999.0,          9,-999.000,          9
 33RO200501,       A16S,      32,          1,          5,          5,2,20050125,       1445,   -46.5000,   -31.8082,       5256,  4153.7,   0.2871,  34.6771,2,  34.6760,2,    220.2,2,   220.4,2,  125.41,2,   32.65,2,    0.00,2,    2.30,2,-999.000,9,-999.000,9,-999.000,9,  -999.0,9,  -999.0,9,  -999.0,9,   20.00,-999.0000,9,    25.00,-999.000,9, -999.00,-999.000,9,-999.000,9, -999.00,9,  -999.0,9,  -999.0,-999.000,9,-999.000,-999.000,9, -999.00,9, 4153.70,-999.0000,9,-999.0000,9,-999.0000,9,-999.0000,9,-999.0000,9,-999.0000,9,  -0.0130,     -999.0,-999.000,     -999.0,          9,     -999.0,          9,-999.000,          9
 33RO200501,       A16S,      32,          1,          4,          4,2,20050125,       1445,   -46.5000,   -31.8082,       5256,  4443.5,   0.2476,  34.6740,2,  34.6733,2,    222.0,2,   221.9,2,  125.65,6,   32.64,6,    0.00,6,    2.30,6,   0.310,2,   0.155,2,   0.013,2,  -999.0,9,  -999.0,9,  -999.0,9,   20.00,-999.0000,9,    25.00,-999.000,9, -999.00,-999.000,9,-999.000,9, -999.00,9,  -999.0,9,  -999.0,-999.000,9,-999.000,   0.465,3, -999.00,9, 4443.50,-999.0000,9,-999.0000,9,-999.0000,9,-999.0000,9,-999.0000,9,-999.0000,9,  -0.0820,     -999.0,-999.000,      6.780,          2,      0.027,          2,   0.034,          2
 33RO200501,       A16S,      32,          1,          3,          3,2,20050125,       1445,   -46.5000,   -31.8082,       5256,  4750.6,   0.2394,  34.6722,2,  34.6713,2,    223.3,2,   222.8,2,  126.38,6,   32.66,6,    0.00,6,    2.30,6,-999.000,9,-999.000,9,-999.000,9,  -999.0,9,  -999.0,9,  -999.0,9,   20.00,-999.0000,9,    25.00,-999.000,9, -999.00,-999.000,9,-999.000,9, -999.00,9,  -999.0,9,  -999.0,-999.000,9,-999.000,-999.000,9, -999.00,9, 4750.60,-999.0000,9,-999.0000,9,-999.0000,9,-999.0000,9,-999.0000,9,-999.0000,9,  -0.1235,     -999.0,-999.000,     -999.0,          9,     -999.0,          9,-999.000,          9
 33RO200501,       A16S,      32,          1,          2,          2,2,20050125,       1445,   -46.5000,   -31.8082,       5256,  5049.3,   0.2425,  34.6707,2,  34.6708,2,    224.1,2,   223.5,2,  126.90,6,   32.61,6,    0.00,6,    2.31,6,-999.000,9,-999.000,9,-999.000,9,  2262.0,2,  2357.7,2,  -999.0,9,   20.00,   7.6394,2,    25.00,-999.000,9, -999.00,-999.000,9,-999.000,9,    0.60,6,  -155.6,6,     2.1,-999.000,9,-999.000,-999.000,9, -999.00,9, 5049.30,-999.0000,9,-999.0000,9,-999.0000,9,-999.0000,9,-999.0000,9,-999.0000,9,  -0.1544,     -999.0,-999.000,     -999.0,          9,     -999.0,          9,-999.000,          9
 33RO200501,       A16S,      32,          1,          1,          1,2,20050125,       1445,   -46.5000,   -31.8082,       5256,  5358.4,   0.2066,  34.6672,2,  34.6663,2,    227.1,2,   226.7,2,  127.36,6,   32.56,6,    0.00,6,    2.32,2,   0.480,2,   0.238,2,   0.025,2,  -999.0,9,  -999.0,9,  -999.0,9,   20.00,-999.0000,9,    25.00,-999.000,9, -999.00,-999.000,9,-999.000,9, -999.00,9,  -999.0,9,  -999.0,-999.000,9,-999.000,   0.620,3, -999.00,9, 5358.40,-999.0000,9,-999.0000,9,-999.0000,9,-999.0000,9,-999.0000,9,-999.0000,9,  -0.2252,     -999.0,-999.000,      8.494,          2,      0.633,          2,   0.071,          2