BOTTLE,20220818CCHSIOAMB
EXPOCODE,SECT_ID,STNNBR,CASTNO,SAMPNO,BTLNBR,BTLNBR_FLAG_W,DATE,TIME,LATITUDE,LONGITUDE,DEPTH,CTDPRS,CTDTMP,CTDSAL,CTDSAL_FLAG_W,SALNTY,SALNTY_FLAG_W,CTDOXY,CTDOXY_FLAG_W,OXYGEN,OXYGEN_FLAG_W,SILCAT,SILCAT_FLAG_W,NITRAT,NITRAT_FLAG_W,NITRIT,NITRIT_FLAG_W,PHSPHT,PHSPHT_FLAG_W,CFC-11,CFC-11_FLAG_W,CFC-12,CFC-12_FLAG_W,CFC113,CFC113_FLAG_W,TCARBN,TCARBN_FLAG_W,ALKALI,ALKALI_FLAG_W,PCO2,PCO2_FLAG_W,PCO2TMP,PH_SWS,PH_SWS_FLAG_W,PH_TMP,TRITUM,TRITUM_FLAG_W,TRITER,HELIUM,HELIUM_FLAG_W,DELHE3,DELHE3_FLAG_W,DELC13,DELC13_FLAG_W,DELC14,DELC14_FLAG_W,C14ERR,NEON,NEON_FLAG_W,NEONER,CCL4,CCL4_FLAG_W,DOC,DOC_FLAG_W,CTDRAW,CDOM325,CDOM325_FLAG_W,CDOM340,CDOM340_FLAG_W,CDOM380,CDOM380_FLAG_W,CDOM412,CDOM412_FLAG_W,CDOMSL,CDOMSL_FLAG_W,CDOMSN,CDOMSN_FLAG_W,THETA,HELIER,DELHER,CH3CL,CH3CL_FLAG_W,CH3BR,CH3BR_FLAG_W,CH3I,CH3I_FLAG_W
,,,,,,,,,,,METERS,DBAR,ITS-90,PSS-78,,PSS-78,,UMOL/KG,,UMOL/KG,,UMOL/KG,,UMOL/KG,,UMOL/KG,,UMOL/KG,,PMOL/KG,,PMOL/KG,,PMOL/KG,,UMOL/KG,,UMOL/KG,,UATM,,DEG C,,,DEG C,TU,,TU,NMOL/KG,,PERCNT,,/MILLE,,/MILLE,,/MILLE,NMOL/KG,,NMOL/KG,PMOL/KG,,UMOL/KG,,DBAR,1/M,,1/M,,1/M,,1/M,,1/NM,,1/NM,,DEG C,NMOL/KG,PERCNT,PMOL/KG,,PMOL/KG,,PMOL/KG,
 33RO200501,       A16S,      52,          1,         36,         36,2,20050131,       2127,   -36.4992,   -25.5582,       3995,     1.7,  18.6802,  35.4133,2,  35.4131,2,    238.4,2,   237.3,2,    2.25,2,    0.00,2,    0.01,2,    0.13,2,   2.431,2,   1.499,2,   0.203,2,  2051.5,6,  -999.0,9,  -999.0,9,   20.00,   7.9890,2,    25.00,-999.000,9, -999.00,-999.000,9,-999.000,9, -999.00,9,  -999.0,9,  -999.0,-999.000,9,-999.000,   2.176,4, -999.00,9,    1.70,-999.0000,9,-999.0000,9,-999.0000,9,-999.0000,9,-999.0000,9,-999.0000,9,  18.6799,     -999.0,-999.000,     60.319,          2,      0.352,          2,   6.366,          2
 33RO200501,       A16S,      52,          1,         35,         35,2,20050131,       2127,   -36.4992,   -25.5582,       3995,    19.5,  18.6726,  35.4127,2,  35.4119,2,    238.9,2,   237.6,2,    2.18,2,    0.00,2,    0.01,2,    0.13,2,   2.440,2,   1.513,2,   0.199,2,  -999.0,9,  2325.7,2,  -999.0,9,   20.00,   7.9912,6,    25.00,-999.000,9, -999.00,-999.000,9,-999.000,9, -999.00,9,  -999.0,9,  -999.0,-999.000,9,-999.000,   2.173,4, -999.00,9,   19.50,-999.0000,9,-999.0000,9,-999.0000,9,-999.0000,9,-999.0000,9,-999.0000,9,  18.6691,     -999.0,-999.000,     71.589,          2,      0.482,          2,   6.537,          2
 33RO200501,       A16S,      52,          1,         34,         34,2,20050131,       2127,   -36.4992,   -25.5582,       3995,    39.4,  18.0888,  35.4050,2,  35.4055,2,    240.9,2,   242.4,2,    2.17,2,    0.00,2,    0.01,2,    0.14,2,-999.000,9,-999.000,9,-999.000,9,  -999.0,9,  -999.0,9,  -999.0,9,   20.00,-999.0000,9,    25.00,-999.000,9, -999.00,-999.000,9,-999.000,9, -999.00,9,  -999.0,9,  -999.0,-999.000,9,-999.000,-999.000,9, -999.00,9,   39.40,-999.0000,9,-999.0000,9,-999.0000,9,-999.0000,9,-999.0000,9,-999.0000,9,  18.0820,     -999.0,-999.000,     -999.0,          9,     -999.0,          9,-999.000,          9
 33RO200501,       A16S,      52,          1,         33,         33,2,20050131,       2127,   -36.4992,   -25.5582,       3995,    58.7,  16.0551,  35.4873,2,  35.4840,2,    249.2,2,   251.9,2,    2.18,2,    0.05,2,    0.02,2,    0.18,2,   2.721,2,   1.667,2,   0.211,2,  -999.0,9,  2332.3,2,  -999.0,9,   20.00,   7.9750,2,    25.00,-999.000,9, -999.00,-999.000,9,-999.000,9, -999.00,9,  -999.0,9,  -999.0,-999.000,9,-999.000,   1.953,4, -999.00,9,   58.70,-999.0000,9,-999.0000,9,-999.0000,9,-999.0000,9,-999.0000,9,-999.0000,9,  16.0458,     -999.0,-999.000,     94.813,          2,      0.621,          2,   6.688,          2
 33RO200501,       A16S,      52,          1,         32,         32,2,20050131,       2127,   -36.4992,   -25.5582,       3995,    78.5,  15.2837,  35.4908,2,  35.4915,2,    246.2,2,   242.2,2,    2.32,2,    1.53,2,    0.37,2,    0.29,2,-999.000,9,-999.000,9,-999.000,9,  -999.0,9,  -999.0,9,  -999.0,9,   20.00,-999.0000,9,    25.00,-999.000,9, -999.00,-999.000,9,-999.000,9, -999.00,9,  -999.0,9,  -999.0,-999.000,9,-999.000,-999.000,9, -999.00,9,   78.50,-999.0000,9,-999.0000,9,-999.0000,9,-999.0000,9,-999.0000,9,-999.0000,9,  15.2716,     -999.0,-999.000,     -999.0,          9,     -999.0,          9,-999.000,          9
 33RO200501,       A16S,      52,          1,         31,         31,2,20050131,       2127,   -36.4992,   -25.5582,       3995,    99.4,  14.8364,  35.5098,2,  35.5095,2,    236.6,2,   233.0,2,    2.58,2,    3.85,2,    0.04,2,    0.39,2,-999.000,9,-999.000,9,-999.000,9,  -999.0,9,  -999.0,9,  -999.0,9,   20.00,-999.0000,9,    25.00,-999.000,9, -999.00,-999.000,9,-999.000,9, -999.00,9,  -999.0,9,  -999.0,-999.000,9,-999.000,-999.000,9, -999.00,9,   99.40,-999.0000,9,-999.0000,9,-999.0000,9,-999.0000,9,-999.0000,9,-999.0000,9,  14.8215,     -999.0,-999.000,     -999.0,          9,     -999.0,          9,-999.000,          9
 33RO200501,       A16S,      52,          1,         30,         30,2,20050131,       2127,   -36.4992,   -25.5582,       3995,   124.3,  14.6177,  35.5049,2,  35.4988,2,    227.9,2,   225.0,2,    2.61,2,    4.62,2,    0.02,2,    0.43,2,   2.831,2,   1.656,2,   0.171,2,  -999.0,9,  2335.4,2,  -999.0,9,   20.00,   7.9278,2,    25.00,-999.000,9, -999.00,-999.000,9,-999.000,9, -999.00,9,  -999.0,9,  -999.0,-999.000,9,-999.000,   1.310,4, -999.00,9,  124.30,-999.0000,9,-999.0000,9,-999.0000,9,-999.0000,9,-999.0000,9,-999.0000,9,  14.5991,     -999.0,-999.000,     19.361,          2,      0.000,          2,   0.404,          2
 33RO200501,       A16S,      52,          1,         29,         29,2,20050131,       2127,   -36.4992,   -25.5582,       3995,   148.4,  14.3506,  35.4650,2,  35.4645,2,    224.9,2,   237.0,2,    2.66,2,    4.67,2,    0.01,2,    0.44,2,-999.000,9,-999.000,9,-999.000,9,  -999.0,9,  -999.0,9,  -999.0,9,   20.00,-999.0000,9,    25.00,-999.000,9, -999.00,-999.000,9,-999.000,9, -999.00,9,  -999.0,9,  -999.0,-999.000,9,-999.000,-999.000,9, -999.00,9,  148.40,-999.0000,9,-999.0000,9,-999.0000,9,-999.0000,9,-999.0000,9,-999.0000,9,  14.3287,     -999.0,-999.000,     -999.0,          9,     -999.0,          9,-999.000,          9
 33RO200501,       A16S,      52,          1,         28,         28,2,20050131,       2127,   -36.4992,   -25.5582,       3995,   173.9,  14.3071,  35.4755,2,  35.4753,2,    229.1,2,   235.6,2,    2.70,2,    5.02,2,    0.01,2,    0.46,2,-999.000,9,-999.000,9,-999.000,9,  -999.0,9,  -999.0,9,  -999.0,9,   20.00,-999.0000,9,    25.00,-999.000,9, -999.00,-999.000,9,-999.000,9, -999.00,9,  -999.0,9,  -999.0,-999.000,9,-999.000,-999.000,9, -999.00,9,  173.90,-999.0000,9,-999.0000,9,-999.0000,9,-999.0000,9,-999.0000,9,-999.0000,9,  14.2815,     -999.0,-999.000,     -999.0,          9,     -999.0,          9,-999.000,          9
 33RO200501,       A16S,      52,          1,         27,         27,2,20050131,       2127,   -36.4992,   -25.5582,       3995,   199.0,  14.0882,  35.4404,2,  35.4313,2,    222.9,2,   230.6,2,    2.83,2,    6.15,2,    0.01,2,    0.52,2,   2.875,2,   1.690,2,   0.154,2,  -999.0,9,  2330.7,2,  -999.0,9,   20.00,   7.9093,2,    25.00,-999.000,9, -999.00,-999.000,9,-999.000,9, -999.00,9,  -999.0,9,  -999.0,-999.000,9,-999.000,   1.097,4, -999.00,9,  199.00,-999.0000,9,-999.0000,9,-999.0000,9,-999.0000,9,-999.0000,9,-999.0000,9,  14.0592,     -999.0,-999.000,     18.914,          2,      0.154,          2,   0.209,          2
 33RO200501,       A16S,      52,          1,         26,         26,2,20050131,       2127,   -36.4992,   -25.5582,       3995,   248.3,  13.4626,  35.3173,2,  35.3146,2,    226.3,2,   222.0,2,    3.27,2,    7.91,2,    0.01,2,    0.62,2,-999.000,9,-999.000,9,-999.000,9,  -999.0,9,  -999.0,9,  -999.0,9,   20.00,-999.0000,9,    25.00,-999.000,9, -999.00,-999.000,9,-999.000,9, -999.00,9,  -999.0,9,  -999.0,-999.000,9,-999.000,-999.000,9, -999.00,9,  248.30,-999.0000,9,-999.0000,9,-999.0000,9,-999.0000,9,-999.0000,9,-999.0000,9,  13.4275,     -999.0,-999.000,     -999.0,          9,     -999.0,          9,-999.000,          9
 33RO200501,       A16S,      52,          1,         25,         25,2,20050131,       2127,   -36.4992,   -25.5582,       3995,   298.3,  13.0009,  35.2474,2,  35.2383,2,    223.5,2,   217.9,2,    3.67,2,    9.57,2,    0.01,2,    0.72,2,-999.000,9,-999.000,9,-999.000,9,  -999.0,9,  -999.0,9,  -999.0,9,   20.00,-999.0000,9,    25.00,-999.000,9, -999.00,-999.000,9,-999.000,9, -999.00,9,  -999.0,9,  -999.0,-999.000,9,-999.000,-999.000,9, -999.00,9,  298.30,-999.0000,9,-999.0000,9,-999.0000,9,-999.0000,9,-999.0000,9,-999.0000,9,  12.9596,     -999.0,-999.000,     -999.0,          9,     -999.0,          9,-999.000,          9
 33RO200501,       A16S,      52,          1,         24,         24,2,20050131,       2127,   -36.4992,   -25.5582,       3995,   348.7,  12.2191,  35.1166,2,  35.1073,2,    218.4,2,   214.0,2,    4.26,2,   11.82,2,    0.01,2,    0.84,2,-999.000,9,-999.000,9,-999.000,9,  -999.0,9,  -999.0,9,  -999.0,9,   20.00,-999.0000,9,    25.00,-999.000,9, -999.00,-999.000,9,-999.000,9, -999.00,9,  -999.0,9,  -999.0,-999.000,9,-999.000,-999.000,9, -999.00,9,  348.70,-999.0000,9,-999.0000,9,-999.0000,9,-999.0000,9,-999.0000,9,-999.0000,9,  12.1727,     -999.0,-999.000,     -999.0,          9,     -999.0,          9,-999.000,          9
 33RO200501,       A16S,      52,          1,         23,         23,2,20050131,       2127,   -36.4992,   -25.5582,       3995,   399.4,  10.7612,  34.8893,2,  34.8905,2,    215.2,2,   211.7,2,    5.30,2,   15.28,2,    0.01,2,    1.03,2,-999.000,5,-999.000,5,-999.000,5,  -999.0,9,  2299.5,2,  -999.0,9,   20.00,   7.7997,2,    25.00,-999.000,9, -999.00,-999.000,9,-999.000,9, -999.00,9,  -999.0,9,  -999.0,-999.000,9,-999.000,-999.000,5, -999.00,9,  399.40,-999.0000,9,-999.0000,9,-999.0000,9,-999.0000,9,-999.0000,9,-999.0000,9,  10.7123,     -999.0,-999.000,     20.546,          2,      1.046,          2,   0.079,          2
 33RO200501,       A16S,      52,          1,         22,         22,2,20050131,       2127,   -36.4992,   -25.5582,       3995,   499.7,   8.6489,  34.6174,2,  34.6156,2,    216.1,2,   215.4,2,    7.96,2,   20.32,2,    0.01,2,    1.34,2,-999.000,9,-999.000,9,-999.000,9,  -999.0,9,  -999.0,9,  -999.0,9,   20.00,-999.0000,9,    25.00,-999.000,9, -999.00,-999.000,9,-999.000,9, -999.00,9,  -999.0,9,  -999.0,-999.000,9,-999.000,-999.000,9, -999.00,9,  499.70,-999.0000,9,-999.0000,9,-999.0000,9,-999.0000,9,-999.0000,9,-999.0000,9,   8.5953,     -999.0,-999.000,     -999.0,          9,     -999.0,          9,-999.000,          9
 33RO200501,       A16S,      52,          1,         21,         21,2,20050131,       2127,   -36.4992,   -25.5582,       3995,   599.7,   6.1827,  34.3382,2,  34.3388,2,    234.0,2,   236.8,2,   10.74,2,   24.44,2,    0.00,2,    1.60,2,   3.612,2,   1.884,2,   0.231,2,  -999.0,9,  2277.7,2,  -999.0,9,   20.00,   7.7098,2,    25.00,-999.000,9, -999.00,-999.000,9,-999.000,9, -999.00,9,  -999.0,9,  -999.0,-999.000,9,-999.000,   2.791,4, -999.00,9,  599.70,-999.0000,9,-999.0000,9,-999.0000,9,-999.0000,9,-999.0000,9,-999.0000,9,   6.1292,     -999.0,-999.000,     56.095,          2,      3.022,          2,   0.122,          2
 33RO200501,       A16S,      52,          1,         20,         20,2,20050131,       2127,   -36.4992,   -25.5582,       3995,   699.3,   4.9508,  34.2328,2,  34.6152,3,    255.7,2,   253.7,2,   13.29,2,   25.91,2,    0.00,2,    1.70,2,-999.000,9,-999.000,9,-999.000,9,  -999.0,9,  -999.0,9,  -999.0,9,   20.00,-999.0000,9,    25.00,-999.000,9, -999.00,-999.000,9,-999.000,9, -999.00,9,  -999.0,9,  -999.0,-999.000,9,-999.000,-999.000,9, -999.00,9,  699.30,-999.0000,9,-999.0000,9,-999.0000,9,-999.0000,9,-999.0000,9,-999.0000,9,   4.8947,     -999.0,-999.000,     -999.0,          9,     -999.0,          9,-999.000,          9
 33RO200501,       A16S,      52,          1,         19,         19,2,20050131,       2127,   -36.4992,   -25.5582,       3995,   798.8,   4.4683,  34.2427,2,  34.2399,2,    251.1,2,   258.6,2,   18.57,2,   27.71,2,    0.00,2,    1.82,2,   3.204,2,   1.640,2,   0.209,2,  -999.0,9,  2281.0,2,  -999.0,9,   20.00,   7.6781,2,    25.00,-999.000,9, -999.00,-999.000,9,-999.000,9, -999.00,9,  -999.0,9,  -999.0,-999.000,9,-999.000,   3.065,4, -999.00,9,  798.80,-999.0000,9,-999.0000,9,-999.0000,9,-999.0000,9,-999.0000,9,-999.0000,9,   4.4066,     -999.0,-999.000,     25.559,          2,      0.791,          2,   0.072,          2
 33RO200501,       A16S,      52,          1,         18,         18,2,20050131,       2127,   -36.4992,   -25.5582,       3995,   899.1,   4.0055,  34.2510,2,  34.2505,2,    243.6,2,   241.4,2,   24.03,2,   29.11,2,    0.00,2,    1.91,2,-999.000,9,-999.000,9,-999.000,9,  -999.0,9,  -999.0,9,  -999.0,9,   20.00,-999.0000,9,    25.00,-999.000,9, -999.00,-999.000,9,-999.000,9, -999.00,9,  -999.0,9,  -999.0,-999.000,9,-999.000,-999.000,9, -999.00,9,  899.10,-999.0000,9,-999.0000,9,-999.0000,9,-999.0000,9,-999.0000,9,-999.0000,9,   3.9385,     -999.0,-999.000,     -999.0,          9,     -999.0,          9,-999.000,          9
 33RO200501,       A16S,      52,          1,         17,         17,2,20050131,       2127,   -36.4992,   -25.5582,       3995,   999.2,   3.5326,  34.2483,2,  34.2489,2,    236.7,2,   232.9,2,   29.05,2,   30.32,2,    0.00,2,    1.99,2,-999.000,9,-999.000,9,-999.000,9,  -999.0,9,  -999.0,9,  -999.0,9,   20.00,-999.0000,9,    25.00,-999.000,9, -999.00,-999.000,9,-999.000,9, -999.00,9,  -999.0,9,  -999.0,-999.000,9,-999.000,-999.000,9, -999.00,9,  999.20,-999.0000,9,-999.0000,9,-999.0000,9,-999.0000,9,-999.0000,9,-999.0000,9,   3.4611,     -999.0,-999.000,     -999.0,          9,     -999.0,          9,-999.000,          9
 33RO200501,       A16S,      52,          1,         16,         16,2,20050131,       2127,   -36.4992,   -25.5582,       3995,  1099.2,   3.2538,  34.2842,2,  34.2838,2,    224.8,2,   221.0,2,   36.13,2,   31.54,2,    0.00,2,    2.08,2,-999.000,9,-999.000,9,-999.000,9,  -999.0,9,  -999.0,9,  -999.0,9,   20.00,-999.0000,9,    25.00,-999.000,9, -999.00,-999.000,9,-999.000,9, -999.00,9,  -999.0,9,  -999.0,-999.000,9,-999.000,-999.000,9, -999.00,9, 1099.20,-999.0000,9,-999.0000,9,-999.0000,9,-999.0000,9,-999.0000,9,-999.0000,9,   3.1765,     -999.0,-999.000,     -999.0,          9,     -999.0,          9,-999.000,          9
 33RO200501,       A16S,      52,          1,         15,         15,2,20050131,       2127,   -36.4992,   -25.5582,       3995,  1199.5,   3.0904,  34.3431,2,  34.3424,2,    207.4,2,   205.7,2,   43.92,2,   32.64,2,    0.00,2,    2.15,2,   1.390,2,   0.679,2,   0.076,2,  -999.0,9,  2302.6,2,  -999.0,9,   20.00,   7.6037,2,    25.00,-999.000,9, -999.00,-999.000,9,-999.000,9, -999.00,9,  -999.0,9,  -999.0,-999.000,9,-999.000,   1.594,4, -999.00,9, 1199.50,-999.0000,9,-999.0000,9,-999.0000,9,-999.0000,9,-999.0000,9,-999.0000,9,   3.0066,     -999.0,-999.000,      7.141,          2,      0.032,          2,   0.035,          2
 33RO200501,       A16S,      52,          1,         14,         14,2,20050131,       2127,   -36.4992,   -25.5582,       3995,  1298.9,   2.9712,  34.3961,2,  34.3976,2,    197.3,2,   195.1,2,   50.08,2,   33.18,2,    0.00,2,    2.20,2,-999.000,9,-999.000,9,-999.000,9,  -999.0,9,  -999.0,9,  -999.0,9,   20.00,-999.0000,9,    25.00,-999.000,9, -999.00,-999.000,9,-999.000,9, -999.00,9,  -999.0,9,  -999.0,-999.000,9,-999.000,-999.000,9, -999.00,9, 1298.90,-999.0000,9,-999.0000,9,-999.0000,9,-999.0000,9,-999.0000,9,-999.0000,9,   2.8805,     -999.0,-999.000,     -999.0,          9,     -999.0,          9,-999.000,          9
 33RO200501,       A16S,      52,          1,         13,         13,2,20050131,       2127,   -36.4992,   -25.5582,       3995,  1399.5,   2.8863,  34.4653,2,  34.4651,2,    188.5,2,   187.8,2,   55.23,2,   33.11,2,    0.00,2,    2.21,2,-999.000,9,-999.000,9,-999.000,9,  -999.0,9,  -999.0,9,  -999.0,9,   20.00,-999.0000,9,    25.00,-999.000,9, -999.00,-999.000,9,-999.000,9, -999.00,9,  -999.0,9,  -999.0,-999.000,9,-999.000,-999.000,9, -999.00,9, 1399.50,-999.0000,9,-999.0000,9,-999.0000,9,-999.0000,9,-999.0000,9,-999.0000,9,   2.7882,     -999.0,-999.000,     -999.0,          9,     -999.0,          9,-999.000,          9
 33RO200501,       A16S,      52,          1,         12,         12,2,20050131,       2127,   -36.4992,   -25.5582,       3995,  1599.7,   2.8315,  34.5742,2,  34.5776,2,    180.7,2,   181.2,2,   61.01,2,   32.48,2,    0.00,2,    2.18,2,-999.000,9,-999.000,9,-999.000,9,  -999.0,9,  -999.0,9,  -999.0,9,   20.00,-999.0000,9,    25.00,-999.000,9, -999.00,-999.000,9,-999.000,9, -999.00,9,  -999.0,9,  -999.0,-999.000,9,-999.000,-999.000,9, -999.00,9, 1599.70,-999.0000,9,-999.0000,9,-999.0000,9,-999.0000,9,-999.0000,9,-999.0000,9,   2.7173,     -999.0,-999.000,     -999.0,          9,     -999.0,          9,-999.000,          9
 33RO200501,       A16S,      52,          1,         11,         11,2,20050131,       2127,   -36.4992,   -25.5582,       3995,  1799.0,   2.8699,  34.6860,2,  34.6853,2,    186.7,2,   188.9,2,   59.28,2,   30.27,2,    0.00,2,    2.02,2,   0.116,2,   0.058,2,   0.002,2,  -999.0,9,  2325.7,2,  -999.0,9,   20.00,   7.6130,2,    25.00,-999.000,9, -999.00,-999.000,9,-999.000,9, -999.00,9,  -999.0,9,  -999.0,-999.000,9,-999.000,   0.210,4, -999.00,9, 1799.00,-999.0000,9,-999.0000,9,-999.0000,9,-999.0000,9,-999.0000,9,-999.0000,9,   2.7379,     -999.0,-999.000,      4.999,          2,      0.000,          2,   0.044,          2
 33RO200501,       A16S,      52,          1,         10,         10,2,20050131,       2127,   -36.4992,   -25.5582,       3995,  1999.2,   2.9300,  34.7609,2,  34.7613,2,    196.7,2,   200.9,2,   55.02,2,   28.15,2,    0.00,2,    1.88,2,-999.000,9,-999.000,9,-999.000,9,  -999.0,9,  -999.0,9,  -999.0,9,   20.00,-999.0000,9,    25.00,-999.000,9, -999.00,-999.000,9,-999.000,9, -999.00,9,  -999.0,9,  -999.0,-999.000,9,-999.000,-999.000,9, -999.00,9, 1999.20,-999.0000,9,-999.0000,9,-999.0000,9,-999.0000,9,-999.0000,9,-999.0000,9,   2.7791,     -999.0,-999.000,     -999.0,          9,     -999.0,          9,-999.000,          9
 33RO200501,       A16S,      52,          1,          9,          9,2,20050131,       2127,   -36.4992,   -25.5582,       3995,  2199.5,   2.9638,  34.8242,2,  34.8248,2,    210.8,2,   214.2,2,   49.67,6,   25.39,6,    0.00,6,    1.73,6,-999.000,9,-999.000,9,-999.000,9,  -999.0,9,  -999.0,9,  -999.0,9,   20.00,-999.0000,9,    25.00,-999.000,9, -999.00,-999.000,9,-999.000,9, -999.00,9,  -999.0,9,  -999.0,-999.000,9,-999.000,-999.000,9, -999.00,9, 2199.50,-999.0000,9,-999.0000,9,-999.0000,9,-999.0000,9,-999.0000,9,-999.0000,9,   2.7937,     -999.0,-999.000,     -999.0,          9,     -999.0,          9,-999.000,          9
 33RO200501,       A16S,      52,          1,          8,          8,2,20050131,       2127,   -36.4992,   -25.5582,       3995,  2399.9,   2.9640,  34.8638,2,  34.8641,2,    223.3,2,   226.3,2,   44.46,6,   24.14,2,    0.00,6,    1.60,6,   0.038,2,   0.022,2,  -0.002,2,  -999.0,9,  2327.4,2,  -999.0,9,   20.00,   7.6921,2,    25.00,-999.000,9, -999.00,-999.000,9,-999.000,9, -999.00,9,  -999.0,9,  -999.0,-999.000,9,-999.000,   0.114,4, -999.00,9, 2399.90,-999.0000,9,-999.0000,9,-999.0000,9,-999.0000,9,-999.0000,9,-999.0000,9,   2.7747,     -999.0,-999.000,      0.000,          2,      0.000,          2,   0.014,          2