BOTTLE,20220818CCHSIOAMB
EXPOCODE,SECT_ID,STNNBR,CASTNO,SAMPNO,BTLNBR,BTLNBR_FLAG_W,DATE,TIME,LATITUDE,LONGITUDE,DEPTH,CTDPRS,CTDTMP,CTDSAL,CTDSAL_FLAG_W,SALNTY,SALNTY_FLAG_W,CTDOXY,CTDOXY_FLAG_W,OXYGEN,OXYGEN_FLAG_W,SILCAT,SILCAT_FLAG_W,NITRAT,NITRAT_FLAG_W,NITRIT,NITRIT_FLAG_W,PHSPHT,PHSPHT_FLAG_W,CFC-11,CFC-11_FLAG_W,CFC-12,CFC-12_FLAG_W,CFC113,CFC113_FLAG_W,TCARBN,TCARBN_FLAG_W,ALKALI,ALKALI_FLAG_W,PCO2,PCO2_FLAG_W,PCO2TMP,PH_SWS,PH_SWS_FLAG_W,PH_TMP,TRITUM,TRITUM_FLAG_W,TRITER,HELIUM,HELIUM_FLAG_W,DELHE3,DELHE3_FLAG_W,DELC13,DELC13_FLAG_W,DELC14,DELC14_FLAG_W,C14ERR,NEON,NEON_FLAG_W,NEONER,CCL4,CCL4_FLAG_W,DOC,DOC_FLAG_W,CTDRAW,CDOM325,CDOM325_FLAG_W,CDOM340,CDOM340_FLAG_W,CDOM380,CDOM380_FLAG_W,CDOM412,CDOM412_FLAG_W,CDOMSL,CDOMSL_FLAG_W,CDOMSN,CDOMSN_FLAG_W,THETA,HELIER,DELHER,CH3CL,CH3CL_FLAG_W,CH3BR,CH3BR_FLAG_W,CH3I,CH3I_FLAG_W
,,,,,,,,,,,METERS,DBAR,ITS-90,PSS-78,,PSS-78,,UMOL/KG,,UMOL/KG,,UMOL/KG,,UMOL/KG,,UMOL/KG,,UMOL/KG,,PMOL/KG,,PMOL/KG,,PMOL/KG,,UMOL/KG,,UMOL/KG,,UATM,,DEG C,,,DEG C,TU,,TU,NMOL/KG,,PERCNT,,/MILLE,,/MILLE,,/MILLE,NMOL/KG,,NMOL/KG,PMOL/KG,,UMOL/KG,,DBAR,1/M,,1/M,,1/M,,1/M,,1/NM,,1/NM,,DEG C,NMOL/KG,PERCNT,PMOL/KG,,PMOL/KG,,PMOL/KG,
 33RO200501,       A16S,       1,          2,         22,         22,2,20050117,       1347,   -60.0137,   -30.8955,       2746,     0.4,   0.0473,  32.9826,2,-999.0000,9,    361.0,2,   354.1,2, -999.00,9, -999.00,9, -999.00,9, -999.00,9,   6.367,2,   3.434,2,   0.600,2,  -999.0,9,  -999.0,9,  -999.0,9,   20.00,-999.0000,9,    25.00,   0.280,2,    0.02,   1.963,2,  -1.750,2, -999.00,9,  -999.0,9,  -999.0,   8.929,3,   0.015,   6.851,4, -999.00,9,    0.40,-999.0000,9,-999.0000,9,-999.0000,9,-999.0000,9,-999.0000,9,-999.0000,9,   0.0473,      0.002,   0.213,     -999.0,          9,     -999.0,          9,-999.000,          9
 33RO200501,       A16S,       1,          2,         24,         24,2,20050117,       1347,   -60.0137,   -30.8955,       2746,     0.5,   0.0547,  33.0139,2,  33.0186,2,    360.1,2,  -999.0,9,   70.71,2,   22.46,2,    0.19,2,    2.00,4,-999.000,9,-999.000,9,-999.000,9,  -999.0,9,  2240.7,4,  -999.0,9,   20.00,   7.7427,2,    25.00,-999.000,9, -999.00,-999.000,9,-999.000,9,    1.49,2,  -118.9,2,     4.2,-999.000,9,-999.000,-999.000,9,   47.88,2,    0.50,-999.0000,9,-999.0000,9,-999.0000,9,-999.0000,9,-999.0000,9,-999.0000,9,   0.0547,     -999.0,-999.000,     -999.0,          9,     -999.0,          9,-999.000,          9
 33RO200501,       A16S,       1,          2,         23,         23,2,20050117,       1347,   -60.0137,   -30.8955,       2746,     0.5,   0.0481,  32.9747,2,-999.0000,9,    339.6,2,  -999.0,9,   70.79,2,   22.44,2,    0.19,2,    2.01,4,-999.000,9,-999.000,9,-999.000,9,  2105.1,6,  -999.0,9,   727.6,2,   20.00,-999.0000,9,    25.00,-999.000,9, -999.00,-999.000,9,-999.000,9, -999.00,9,  -999.0,9,  -999.0,-999.000,9,-999.000,-999.000,9, -999.00,9,    0.50,-999.0000,9,-999.0000,9,-999.0000,9,-999.0000,9,-999.0000,9,-999.0000,9,   0.0481,     -999.0,-999.000,     -999.0,          9,     -999.0,          9,-999.000,          9
 33RO200501,       A16S,       1,          2,         21,         21,2,20050117,       1347,   -60.0137,   -30.8955,       2746,    48.8,  -1.4768,  34.0664,2,-999.0000,9,    327.1,2,  -999.0,9,   76.62,2,   27.52,2,    0.10,2,    2.29,4,-999.000,9,-999.000,9,-999.000,9,  -999.0,9,  2308.6,2,  -999.0,9,   20.00,   7.6736,2,    25.00,-999.000,9, -999.00,-999.000,9,-999.000,9,    1.03,2,  -135.5,2,     3.3,-999.000,9,-999.000,-999.000,9,   45.02,2,   48.80,-999.0000,9,-999.0000,9,-999.0000,9,-999.0000,9,-999.0000,9,-999.0000,9,  -1.4779,     -999.0,-999.000,     -999.0,          9,     -999.0,          9,-999.000,          9
 33RO200501,       A16S,       1,          2,         20,         20,2,20050117,       1347,   -60.0137,   -30.8955,       2746,    48.8,  -1.4768,  34.0666,2,  34.0638,2,    327.1,2,  -999.0,9,   76.56,2,   27.51,2,    0.10,2,    2.30,4,-999.000,9,-999.000,9,-999.000,9,  2193.2,2,  -999.0,9,   901.5,2,   20.00,-999.0000,9,    25.00,-999.000,9, -999.00,-999.000,9,-999.000,9, -999.00,9,  -999.0,9,  -999.0,-999.000,9,-999.000,-999.000,9, -999.00,9,   48.80,-999.0000,9,-999.0000,9,-999.0000,9,-999.0000,9,-999.0000,9,-999.0000,9,  -1.4778,     -999.0,-999.000,     -999.0,          9,     -999.0,          9,-999.000,          9
 33RO200501,       A16S,       1,          2,         19,         19,2,20050117,       1347,   -60.0137,   -30.8955,       2746,    49.0,  -1.4763,  34.0654,2,-999.0000,9,    329.2,2,   328.9,2, -999.00,9, -999.00,9, -999.00,9, -999.00,9,   5.369,2,   2.823,2,   0.507,2,  -999.0,9,  -999.0,9,  -999.0,9,   20.00,-999.0000,9,    25.00,   0.221,2,    0.01,   1.867,2,  -0.530,2, -999.00,9,  -999.0,9,  -999.0,   8.522,2,   0.013,   5.262,4, -999.00,9,   49.00,-999.0000,9,-999.0000,9,-999.0000,9,-999.0000,9,-999.0000,9,-999.0000,9,  -1.4774,      0.002,   0.214,     -999.0,          9,     -999.0,          9,-999.000,          9
 33RO200501,       A16S,       1,          2,         18,         18,2,20050117,       1347,   -60.0137,   -30.8955,       2746,    98.9,  -1.2100,  34.2869,2,  34.2767,2,    294.4,2,  -999.0,9,   81.22,2,   30.10,2,    0.12,2,    2.41,4,-999.000,9,-999.000,9,-999.000,9,  -999.0,9,  2322.1,2,  -999.0,9,   20.00,   7.6282,2,    25.00,-999.000,9, -999.00,-999.000,9,-999.000,9,    0.90,2,  -138.2,2,     3.5,-999.000,9,-999.000,-999.000,9,   43.79,2,   98.90,-999.0000,9,-999.0000,9,-999.0000,9,-999.0000,9,-999.0000,9,-999.0000,9,  -1.2125,     -999.0,-999.000,     -999.0,          9,     -999.0,          9,-999.000,          9
 33RO200501,       A16S,       1,          2,         17,         17,9,20050117,       1347,   -60.0137,   -30.8955,       2746,    98.9,  -1.2182,  34.2851,2,-999.0000,9,    294.4,2,  -999.0,9, -999.00,9, -999.00,9, -999.00,9, -999.00,9,-999.000,9,-999.000,9,-999.000,9,  -999.0,9,  -999.0,9,  -999.0,9,   20.00,-999.0000,9,    25.00,-999.000,9, -999.00,-999.000,9,-999.000,9, -999.00,9,  -999.0,9,  -999.0,-999.000,9,-999.000,-999.000,9, -999.00,9,   98.90,-999.0000,9,-999.0000,9,-999.0000,9,-999.0000,9,-999.0000,9,-999.0000,9,  -1.2207,     -999.0,-999.000,     -999.0,          9,     -999.0,          9,-999.000,          9
 33RO200501,       A16S,       1,          2,         16,         16,2,20050117,       1347,   -60.0137,   -30.8955,       2746,    98.9,  -1.2284,  34.2815,2,-999.0000,9,    295.4,2,   294.6,2, -999.00,9, -999.00,9, -999.00,9, -999.00,9,-999.000,5,-999.000,5,-999.000,5,  -999.0,9,  -999.0,9,  -999.0,9,   20.00,-999.0000,9,    25.00,   0.190,2,    0.01,-999.000,9,-999.000,9, -999.00,9,  -999.0,9,  -999.0,-999.000,9,-999.000,-999.000,5, -999.00,9,   98.90,-999.0000,9,-999.0000,9,-999.0000,9,-999.0000,9,-999.0000,9,-999.0000,9,  -1.2308,     -999.0,-999.000,     -999.0,          9,     -999.0,          9,-999.000,          9
 33RO200501,       A16S,       1,          2,         15,         15,2,20050117,       1347,   -60.0137,   -30.8955,       2746,   198.7,  -0.2693,  34.5371,2,  34.5379,2,    244.5,2,  -999.0,9,   93.25,2,   31.79,2,    0.02,2,    2.46,4,-999.000,9,-999.000,9,-999.000,9,  -999.0,9,  2335.3,2,  -999.0,9,   20.00,   7.5981,6,    25.00,-999.000,9, -999.00,-999.000,9,-999.000,9,    0.67,2,  -143.6,2,     3.4,-999.000,9,-999.000,-999.000,9,   42.16,2,  198.70,-999.0000,9,-999.0000,9,-999.0000,9,-999.0000,9,-999.0000,9,-999.0000,9,  -0.2762,     -999.0,-999.000,     -999.0,          9,     -999.0,          9,-999.000,          9
 33RO200501,       A16S,       1,          2,         13,         13,2,20050117,       1347,   -60.0137,   -30.8955,       2746,   198.7,  -0.2676,  34.5376,2,-999.0000,9,    244.4,2,   243.7,2, -999.00,9, -999.00,9, -999.00,9, -999.00,9,   2.586,2,   1.345,2,   0.208,2,  -999.0,9,  -999.0,9,  -999.0,9,   20.00,-999.0000,9,    25.00,-999.000,9, -999.00,-999.000,9,-999.000,9, -999.00,9,  -999.0,9,  -999.0,-999.000,9,-999.000,   2.404,3, -999.00,9,  198.70,-999.0000,9,-999.0000,9,-999.0000,9,-999.0000,9,-999.0000,9,-999.0000,9,  -0.2745,     -999.0,-999.000,     -999.0,          9,     -999.0,          9,-999.000,          9
 33RO200501,       A16S,       1,          2,         14,         14,2,20050117,       1347,   -60.0137,   -30.8955,       2746,   198.8,  -0.2679,  34.5375,2,  34.5375,2,    244.5,2,  -999.0,9,   92.89,2,   31.78,2,    0.02,2,    2.47,4,-999.000,9,-999.000,9,-999.000,9,  2245.5,2,  -999.0,9,  1088.4,2,   20.00,-999.0000,9,    25.00,-999.000,9, -999.00,-999.000,9,-999.000,9, -999.00,9,  -999.0,9,  -999.0,-999.000,9,-999.000,-999.000,9, -999.00,9,  198.80,-999.0000,9,-999.0000,9,-999.0000,9,-999.0000,9,-999.0000,9,-999.0000,9,  -0.2747,     -999.0,-999.000,     -999.0,          9,     -999.0,          9,-999.000,          9
 33RO200501,       A16S,       1,          2,         10,         10,2,20050117,       1347,   -60.0137,   -30.8955,       2746,   298.6,   0.1963,  34.6246,2,-999.0000,9,    222.6,2,   221.1,2, -999.00,9, -999.00,9, -999.00,9, -999.00,9,   1.537,2,   0.785,2,   0.119,2,  -999.0,9,  -999.0,9,  -999.0,9,   20.00,-999.0000,9,    25.00,   0.121,2,    0.01,-999.000,9,-999.000,9, -999.00,9,  -999.0,9,  -999.0,-999.000,9,-999.000,   1.482,3, -999.00,9,  298.60,-999.0000,9,-999.0000,9,-999.0000,9,-999.0000,9,-999.0000,9,-999.0000,9,   0.1845,     -999.0,-999.000,     -999.0,          9,     -999.0,          9,-999.000,          9
 33RO200501,       A16S,       1,          2,         11,         11,2,20050117,       1347,   -60.0137,   -30.8955,       2746,   298.7,   0.1961,  34.6246,2,  34.6237,2,    222.5,2,  -999.0,9,  100.71,2,   32.14,2,    0.01,2,    2.46,4,-999.000,9,-999.000,9,-999.000,9,  2255.2,2,  -999.0,9,  1117.1,2,   20.00,-999.0000,9,    25.00,-999.000,9, -999.00,-999.000,9,-999.000,9, -999.00,9,  -999.0,9,  -999.0,-999.000,9,-999.000,-999.000,9, -999.00,9,  298.70,-999.0000,9,-999.0000,9,-999.0000,9,-999.0000,9,-999.0000,9,-999.0000,9,   0.1843,     -999.0,-999.000,     -999.0,          9,     -999.0,          9,-999.000,          9
 33RO200501,       A16S,       1,          2,         12,         12,2,20050117,       1347,   -60.0137,   -30.8955,       2746,   298.9,   0.1959,  34.6245,2,  34.6347,2,    222.5,2,  -999.0,9,  101.00,2,   32.16,2,    0.02,2,    2.47,4,-999.000,9,-999.000,9,-999.000,9,  -999.0,9,  2341.9,2,  -999.0,9,   20.00,   7.5810,6,    25.00,-999.000,9, -999.00,-999.000,9,-999.000,9,    0.59,2,  -153.7,2,     3.2,-999.000,9,-999.000,-999.000,9,   41.86,2,  298.90,-999.0000,9,-999.0000,9,-999.0000,9,-999.0000,9,-999.0000,9,-999.0000,9,   0.1841,     -999.0,-999.000,     -999.0,          9,     -999.0,          9,-999.000,          9
 33RO200501,       A16S,       1,          2,          8,          8,2,20050117,       1347,   -60.0137,   -30.8955,       2746,   398.1,   0.4186,  34.6592,2,  34.6590,2,    211.8,2,  -999.0,9,  105.96,2,   32.26,2,    0.01,2,    2.48,4,-999.000,9,-999.000,9,-999.000,9,  2259.6,2,  -999.0,9,  1120.2,2,   20.00,-999.0000,9,    25.00,-999.000,9, -999.00,-999.000,9,-999.000,9, -999.00,9,  -999.0,9,  -999.0,-999.000,9,-999.000,-999.000,9, -999.00,9,  398.10,-999.0000,9,-999.0000,9,-999.0000,9,-999.0000,9,-999.0000,9,-999.0000,9,   0.4017,     -999.0,-999.000,     -999.0,          9,     -999.0,          9,-999.000,          9
 33RO200501,       A16S,       1,          2,          9,          9,2,20050117,       1347,   -60.0137,   -30.8955,       2746,   398.2,   0.4186,  34.6591,2,  34.6589,2,    211.8,2,  -999.0,9,  105.74,2,   32.23,2,    0.01,2,    2.48,4,-999.000,9,-999.000,9,-999.000,9,  -999.0,9,  2346.6,2,  -999.0,9,   20.00,   7.5892,6,    25.00,-999.000,9, -999.00,-999.000,9,-999.000,9,    0.61,2,  -153.7,2,     3.2,-999.000,9,-999.000,-999.000,9,   40.49,2,  398.20,-999.0000,9,-999.0000,9,-999.0000,9,-999.0000,9,-999.0000,9,-999.0000,9,   0.4018,     -999.0,-999.000,     -999.0,          9,     -999.0,          9,-999.000,          9
 33RO200501,       A16S,       1,          2,          7,          7,2,20050117,       1347,   -60.0137,   -30.8955,       2746,   398.3,   0.4185,  34.6591,2,-999.0000,9,    211.9,2,   211.6,2,  105.84,2,   32.28,2,    0.01,2,    2.50,4,   1.022,2,   0.519,2,   0.066,2,  -999.0,9,  -999.0,9,  -999.0,9,   20.00,-999.0000,9,    25.00,   0.113,2,    0.01,   1.915,2,   6.830,2, -999.00,9,  -999.0,9,  -999.0,   8.822,3,   0.010,   1.002,3, -999.00,9,  398.30,-999.0000,9,-999.0000,9,-999.0000,9,-999.0000,9,-999.0000,9,-999.0000,9,   0.4017,      0.001,   0.216,     -999.0,          9,     -999.0,          9,-999.000,          9
 33RO200501,       A16S,       1,          2,          4,          4,2,20050117,       1347,   -60.0137,   -30.8955,       2746,   498.5,   0.4680,  34.6722,2,-999.0000,9,    207.1,2,   207.6,2, -999.00,9, -999.00,9, -999.00,9, -999.00,9,   0.770,2,   0.395,2,   0.044,2,  -999.0,9,  -999.0,9,  -999.0,9,   20.00,-999.0000,9,    25.00,-999.000,9, -999.00,-999.000,9,-999.000,9, -999.00,9,  -999.0,9,  -999.0,-999.000,9,-999.000,   0.827,3, -999.00,9,  498.50,-999.0000,9,-999.0000,9,-999.0000,9,-999.0000,9,-999.0000,9,-999.0000,9,   0.4462,     -999.0,-999.000,     -999.0,          9,     -999.0,          9,-999.000,          9
 33RO200501,       A16S,       1,          2,          5,          5,2,20050117,       1347,   -60.0137,   -30.8955,       2746,   498.6,   0.4675,  34.6722,2,  34.6722,2,    207.0,2,  -999.0,9,  109.77,2,   32.47,2,    0.01,2,    2.51,4,-999.000,9,-999.000,9,-999.000,9,  2262.7,2,  -999.0,9,  1126.8,2,   20.00,-999.0000,9,    25.00,-999.000,9, -999.00,-999.000,9,-999.000,9, -999.00,9,  -999.0,9,  -999.0,-999.000,9,-999.000,-999.000,9, -999.00,9,  498.60,-999.0000,9,-999.0000,9,-999.0000,9,-999.0000,9,-999.0000,9,-999.0000,9,   0.4458,     -999.0,-999.000,     -999.0,          9,     -999.0,          9,-999.000,          9
 33RO200501,       A16S,       1,          2,          6,          6,2,20050117,       1347,   -60.0137,   -30.8955,       2746,   498.8,   0.4676,  34.6722,2,  34.6730,2,    207.0,2,  -999.0,9,  109.66,2,   32.45,2,    0.01,2,    2.51,4,-999.000,9,-999.000,9,-999.000,9,  -999.0,9,  2347.2,2,  -999.0,9,   20.00,   7.5859,6,    25.00,-999.000,9, -999.00,-999.000,9,-999.000,9,    0.53,2,  -151.7,2,     3.2,-999.000,9,-999.000,-999.000,9,   39.76,2,  498.80,-999.0000,9,-999.0000,9,-999.0000,9,-999.0000,9,-999.0000,9,-999.0000,9,   0.4458,     -999.0,-999.000,     -999.0,          9,     -999.0,          9,-999.000,          9
 33RO200501,       A16S,       1,          2,          1,          1,2,20050117,       1347,   -60.0137,   -30.8955,       2746,   600.9,   0.4668,  34.6793,2,-999.0000,9,    207.9,2,   207.5,2, -999.00,9, -999.00,9, -999.00,9, -999.00,9,   0.599,2,   0.304,2,   0.016,2,  -999.0,9,  -999.0,9,  -999.0,9,   20.00,-999.0000,9,    25.00,   0.001,2,    0.01,-999.000,9,-999.000,9, -999.00,9,  -999.0,9,  -999.0,-999.000,9,-999.000,   0.637,3, -999.00,9,  600.90,-999.0000,9,-999.0000,9,-999.0000,9,-999.0000,9,-999.0000,9,-999.0000,9,   0.4400,     -999.0,-999.000,     -999.0,          9,     -999.0,          9,-999.000,          9
 33RO200501,       A16S,       1,          2,          3,          3,2,20050117,       1347,   -60.0137,   -30.8955,       2746,   601.0,   0.4663,  34.6793,2,  34.6792,2,    207.5,2,  -999.0,9,  113.03,2,   32.54,2,    0.01,2,    2.50,4,-999.000,9,-999.000,9,-999.000,9,  -999.0,9,  2350.6,2,  -999.0,9,   20.00,   7.5849,2,    25.00,-999.000,9, -999.00,-999.000,9,-999.000,9,    0.57,2,  -153.3,2,     3.3,-999.000,9,-999.000,-999.000,9,   38.77,2,  601.00,-999.0000,9,-999.0000,9,-999.0000,9,-999.0000,9,-999.0000,9,-999.0000,9,   0.4396,     -999.0,-999.000,     -999.0,          9,     -999.0,          9,-999.000,          9
 33RO200501,       A16S,       1,          2,          2,          2,2,20050117,       1347,   -60.0137,   -30.8955,       2746,   601.3,   0.4663,  34.6793,2,  34.6824,2,    208.5,2,  -999.0,9,  112.97,2,   32.53,2,    0.01,2,    2.51,4,-999.000,9,-999.000,9,-999.000,9,  2263.5,2,  -999.0,9,  1125.1,2,   20.00,-999.0000,9,    25.00,-999.000,9, -999.00,-999.000,9,-999.000,9, -999.00,9,  -999.0,9,  -999.0,-999.000,9,-999.000,-999.000,9, -999.00,9,  601.30,-999.0000,9,-999.0000,9,-999.0000,9,-999.0000,9,-999.0000,9,-999.0000,9,   0.4395,     -999.0,-999.000,     -999.0,          9,     -999.0,          9,-999.000,          9