BOTTLE,20220818CCHSIOAMB
EXPOCODE,SECT_ID,STNNBR,CASTNO,SAMPNO,BTLNBR,BTLNBR_FLAG_W,DATE,TIME,LATITUDE,LONGITUDE,DEPTH,CTDPRS,CTDTMP,CTDSAL,CTDSAL_FLAG_W,SALNTY,SALNTY_FLAG_W,CTDOXY,CTDOXY_FLAG_W,OXYGEN,OXYGEN_FLAG_W,SILCAT,SILCAT_FLAG_W,NITRAT,NITRAT_FLAG_W,NITRIT,NITRIT_FLAG_W,PHSPHT,PHSPHT_FLAG_W,CFC-11,CFC-11_FLAG_W,CFC-12,CFC-12_FLAG_W,CFC113,CFC113_FLAG_W,TCARBN,TCARBN_FLAG_W,ALKALI,ALKALI_FLAG_W,PCO2,PCO2_FLAG_W,PCO2TMP,PH_SWS,PH_SWS_FLAG_W,PH_TMP,TRITUM,TRITUM_FLAG_W,TRITER,HELIUM,HELIUM_FLAG_W,DELHE3,DELHE3_FLAG_W,DELC13,DELC13_FLAG_W,DELC14,DELC14_FLAG_W,C14ERR,NEON,NEON_FLAG_W,NEONER,CCL4,CCL4_FLAG_W,DOC,DOC_FLAG_W,CTDRAW,CDOM325,CDOM325_FLAG_W,CDOM340,CDOM340_FLAG_W,CDOM380,CDOM380_FLAG_W,CDOM412,CDOM412_FLAG_W,CDOMSL,CDOMSL_FLAG_W,CDOMSN,CDOMSN_FLAG_W,THETA,HELIER,DELHER,CH3CL,CH3CL_FLAG_W,CH3BR,CH3BR_FLAG_W,CH3I,CH3I_FLAG_W
,,,,,,,,,,,METERS,DBAR,ITS-90,PSS-78,,PSS-78,,UMOL/KG,,UMOL/KG,,UMOL/KG,,UMOL/KG,,UMOL/KG,,UMOL/KG,,PMOL/KG,,PMOL/KG,,PMOL/KG,,UMOL/KG,,UMOL/KG,,UATM,,DEG C,,,DEG C,TU,,TU,NMOL/KG,,PERCNT,,/MILLE,,/MILLE,,/MILLE,NMOL/KG,,NMOL/KG,PMOL/KG,,UMOL/KG,,DBAR,1/M,,1/M,,1/M,,1/M,,1/NM,,1/NM,,DEG C,NMOL/KG,PERCNT,PMOL/KG,,PMOL/KG,,PMOL/KG,
 33RO200501,       A16S,      83,          1,          7,          7,2,20050210,       0608,   -20.9998,   -24.9995,       5000,  3450.8,   2.4887,  34.9014,2,  34.9007,2,    251.2,2,   251.2,2,   39.38,2,   20.90,2,    0.00,2,    1.37,2,   0.015,2,   0.010,2,   0.000,2,  2182.0,2,  2328.4,2,  -999.0,9,   20.00,-999.0000,5,    25.00,-999.000,9, -999.00,-999.000,9,-999.000,9, -999.00,9,  -999.0,9,  -999.0,-999.000,9,-999.000,   0.093,4,   40.23,2, 3450.80,-999.0000,9,-999.0000,9,-999.0000,9,-999.0000,9,-999.0000,9,-999.0000,9,   2.2019,     -999.0,-999.000,     -999.0,          9,     -999.0,          9,-999.000,          9
 33RO200501,       A16S,      83,          1,          6,          6,2,20050210,       0608,   -20.9998,   -24.9995,       5000,  3717.1,   2.2218,  34.8743,2,  34.8737,2,    247.8,2,   247.5,2,   49.48,2,   22.21,2,    0.00,2,    1.48,2,   0.007,2,   0.007,2,   0.000,2,  2191.6,2,  2334.5,2,  -999.0,9,   20.00,   7.7264,2,    25.00,-999.000,9, -999.00,-999.000,9,-999.000,9, -999.00,9,  -999.0,9,  -999.0,-999.000,9,-999.000,   0.064,4, -999.00,9, 3717.10,-999.0000,9,-999.0000,9,-999.0000,9,-999.0000,9,-999.0000,9,-999.0000,9,   1.9130,     -999.0,-999.000,     -999.0,          9,     -999.0,          9,-999.000,          9
 33RO200501,       A16S,      83,          1,          5,          5,2,20050210,       0608,   -20.9998,   -24.9995,       5000,  4049.2,   1.7734,  34.8264,2,  34.8287,3,    240.3,2,   240.0,2,   67.82,2,   24.76,2,    0.00,2,    1.67,2,   0.009,2,   0.007,2,   0.003,2,  2210.6,2,  2340.1,2,  -999.0,9,   20.00,   7.7071,2,    25.00,-999.000,9, -999.00,-999.000,9,-999.000,9, -999.00,9,  -999.0,9,  -999.0,-999.000,9,-999.000,   0.040,4,   39.76,2, 4049.20,-999.0000,9,-999.0000,9,-999.0000,9,-999.0000,9,-999.0000,9,-999.0000,9,   1.4405,     -999.0,-999.000,     -999.0,          9,     -999.0,          9,-999.000,          9
 33RO200501,       A16S,      83,          1,          4,          4,2,20050210,       0608,   -20.9998,   -24.9995,       5000,  4350.5,   1.3623,  34.7824,2,  34.7831,2,    233.3,2,   233.0,2,   84.74,6,   26.98,6,    0.00,6,    1.85,6,   0.007,2,   0.007,2,   0.000,2,  2227.2,2,  2342.6,2,  -999.0,9,   20.00,   7.6733,2,    25.00,-999.000,9, -999.00,-999.000,9,-999.000,9, -999.00,9,  -999.0,9,  -999.0,-999.000,9,-999.000,   0.040,4, -999.00,9, 4350.50,   0.1550,2,   0.1140,2,   0.0650,3,   0.0460,3,   0.0128,3,   0.0142,3,   1.0079,     -999.0,-999.000,     -999.0,          9,     -999.0,          9,-999.000,          9
 33RO200501,       A16S,      83,          1,          3,          3,2,20050210,       0608,   -20.9998,   -24.9995,       5000,  4648.4,   1.0359,  34.7469,2,  34.7498,3,    228.0,2,   228.0,2,   98.35,6,   28.79,6,    0.00,6,    1.99,6,   0.018,2,   0.013,2,   0.000,2,  2240.9,2,  2352.1,2,  -999.0,9,   20.00,   7.6700,2,    25.00,-999.000,9, -999.00,-999.000,9,-999.000,9, -999.00,9,  -999.0,9,  -999.0,-999.000,9,-999.000,   0.067,4,   39.90,2, 4648.40,-999.0000,9,-999.0000,9,-999.0000,9,-999.0000,9,-999.0000,9,-999.0000,9,   0.6581,     -999.0,-999.000,     -999.0,          9,     -999.0,          9,-999.000,          9
 33RO200501,       A16S,      83,          1,          2,          2,2,20050210,       0608,   -20.9998,   -24.9995,       5000,  4950.1,   0.8259,  34.7225,2,  34.7225,2,    224.6,2,   224.5,2,  107.65,6,   29.97,6,    0.00,6,    2.09,6,   0.044,2,   0.018,2,   0.006,2,  2248.2,2,  2359.0,6,  -999.0,9,   20.00,   7.6345,6,    25.00,   0.038,2,    0.01,   1.924,2,   5.270,2, -999.00,9,  -999.0,9,  -999.0,   8.272,2,   0.037,   0.110,4, -999.00,9, 4950.10,-999.0000,9,-999.0000,9,-999.0000,9,-999.0000,9,-999.0000,9,-999.0000,9,   0.4202,      0.004,   0.244,     -999.0,          9,     -999.0,          9,-999.000,          9
 33RO200501,       A16S,      83,          1,          1,          1,2,20050210,       0608,   -20.9998,   -24.9995,       5000,  5254.0,   0.7438,  34.7102,2,  34.7099,2,    222.9,2,   223.0,2,  112.27,6,   30.58,6,    0.00,6,    2.14,6,   0.069,2,   0.038,2,   0.006,2,  2254.0,6,  2359.2,2,  -999.0,9,   20.00,   7.6273,2,    25.00,   0.001,2,    0.01,   1.894,2,   6.320,2, -999.00,9,  -999.0,9,  -999.0,   8.145,2,   0.037,   0.146,4,   39.83,2, 5254.00,   0.1870,3,   0.1410,3,   0.0840,3,   0.0610,3,   0.0118,3,   0.0128,3,   0.3049,      0.004,   0.244,     -999.0,          9,     -999.0,          9,-999.000,          9