BOTTLE,20220818CCHSIOAMB
EXPOCODE,SECT_ID,STNNBR,CASTNO,SAMPNO,BTLNBR,BTLNBR_FLAG_W,DATE,TIME,LATITUDE,LONGITUDE,DEPTH,CTDPRS,CTDTMP,CTDSAL,CTDSAL_FLAG_W,SALNTY,SALNTY_FLAG_W,CTDOXY,CTDOXY_FLAG_W,OXYGEN,OXYGEN_FLAG_W,SILCAT,SILCAT_FLAG_W,NITRAT,NITRAT_FLAG_W,NITRIT,NITRIT_FLAG_W,PHSPHT,PHSPHT_FLAG_W,CFC-11,CFC-11_FLAG_W,CFC-12,CFC-12_FLAG_W,CFC113,CFC113_FLAG_W,TCARBN,TCARBN_FLAG_W,ALKALI,ALKALI_FLAG_W,PCO2,PCO2_FLAG_W,PCO2TMP,PH_SWS,PH_SWS_FLAG_W,PH_TMP,TRITUM,TRITUM_FLAG_W,TRITER,HELIUM,HELIUM_FLAG_W,DELHE3,DELHE3_FLAG_W,DELC13,DELC13_FLAG_W,DELC14,DELC14_FLAG_W,C14ERR,NEON,NEON_FLAG_W,NEONER,CCL4,CCL4_FLAG_W,DOC,DOC_FLAG_W,CTDRAW,CDOM325,CDOM325_FLAG_W,CDOM340,CDOM340_FLAG_W,CDOM380,CDOM380_FLAG_W,CDOM412,CDOM412_FLAG_W,CDOMSL,CDOMSL_FLAG_W,CDOMSN,CDOMSN_FLAG_W,THETA,HELIER,DELHER,CH3CL,CH3CL_FLAG_W,CH3BR,CH3BR_FLAG_W,CH3I,CH3I_FLAG_W
,,,,,,,,,,,METERS,DBAR,ITS-90,PSS-78,,PSS-78,,UMOL/KG,,UMOL/KG,,UMOL/KG,,UMOL/KG,,UMOL/KG,,UMOL/KG,,PMOL/KG,,PMOL/KG,,PMOL/KG,,UMOL/KG,,UMOL/KG,,UATM,,DEG C,,,DEG C,TU,,TU,NMOL/KG,,PERCNT,,/MILLE,,/MILLE,,/MILLE,NMOL/KG,,NMOL/KG,PMOL/KG,,UMOL/KG,,DBAR,1/M,,1/M,,1/M,,1/M,,1/NM,,1/NM,,DEG C,NMOL/KG,PERCNT,PMOL/KG,,PMOL/KG,,PMOL/KG,
 33RO200501,       A16S,      63,          1,          7,          7,2,20050204,       0213,   -31.0012,   -25.0003,       4373,  2847.4,   2.7111,  34.8946,2,  34.8951,2,    243.6,2,   243.7,2,   38.01,2,   22.18,2,    0.00,2,    1.48,2,  -0.004,2,   0.004,2,   0.000,2,  2185.2,2,  2324.9,2,  -999.0,9,   20.00,   7.7194,2,    25.00,-999.000,9, -999.00,-999.000,9,-999.000,9, -999.00,9,  -999.0,9,  -999.0,-999.000,9,-999.000,   0.024,4,   40.09,2, 2847.40,-999.0000,9,-999.0000,9,-999.0000,9,-999.0000,9,-999.0000,9,-999.0000,9,   2.4824,     -999.0,-999.000,     -999.0,          9,     -999.0,          9,-999.000,          9
 33RO200501,       A16S,      63,          1,          6,          6,2,20050204,       0213,   -31.0012,   -25.0003,       4373,  3147.6,   2.6169,  34.8990,2,  34.9022,3,    247.5,2,   247.2,2,   38.79,2,   21.66,2,    0.00,2,    1.46,2,-999.000,9,-999.000,9,-999.000,9,  2184.6,2,  2324.9,2,  -999.0,9,   20.00,   7.7223,2,    25.00,-999.000,9, -999.00,-999.000,9,-999.000,9, -999.00,9,  -999.0,9,  -999.0,-999.000,9,-999.000,-999.000,9, -999.00,9, 3147.60,-999.0000,9,-999.0000,9,-999.0000,9,-999.0000,9,-999.0000,9,-999.0000,9,   2.3593,     -999.0,-999.000,     -999.0,          9,     -999.0,          9,-999.000,          9
 33RO200501,       A16S,      63,          1,          5,          5,2,20050204,       0213,   -31.0012,   -25.0003,       4373,  3449.4,   2.3738,  34.8810,2,  34.8813,2,    246.6,2,   246.3,2,   46.30,2,   22.58,2,    0.00,2,    1.52,2,   0.000,2,   0.005,2,   0.000,2,  2191.3,2,  2326.7,2,  -999.0,9,   20.00,   7.7159,2,    25.00,-999.000,9, -999.00,-999.000,9,-999.000,9, -999.00,9,  -999.0,9,  -999.0,-999.000,9,-999.000,   0.029,4,   39.94,2, 3449.40,-999.0000,9,-999.0000,9,-999.0000,9,-999.0000,9,-999.0000,9,-999.0000,9,   2.0901,     -999.0,-999.000,     -999.0,          9,     -999.0,          9,-999.000,          9
 33RO200501,       A16S,      63,          1,          4,          4,2,20050204,       0213,   -31.0012,   -25.0003,       4373,  3748.7,   2.0060,  34.8457,2,  34.8455,2,    241.5,2,   241.3,2,   60.44,6,   24.30,6,    0.00,6,    1.65,6,   0.002,2,   0.003,2,   0.000,2,  2204.6,2,  2321.1,4,  -999.0,9,   20.00,   7.7006,2,    25.00,-999.000,9, -999.00,-999.000,9,-999.000,9, -999.00,9,  -999.0,9,  -999.0,-999.000,9,-999.000,   0.028,4, -999.00,9, 3748.70,-999.0000,9,-999.0000,9,-999.0000,9,-999.0000,9,-999.0000,9,-999.0000,9,   1.6996,     -999.0,-999.000,     -999.0,          9,     -999.0,          9,-999.000,          9
 33RO200501,       A16S,      63,          1,          3,          3,2,20050204,       0213,   -31.0012,   -25.0003,       4373,  4047.6,   1.4977,  34.7889,2,  34.7894,2,    230.8,2,   231.0,2,   82.39,6,   27.29,6,    0.00,6,    1.88,6,   0.013,2,   0.008,2,   0.000,2,  2227.0,2,  2508.2,4,  -999.0,9,   20.00,   7.6654,2,    25.00,-999.000,9, -999.00,-999.000,9,-999.000,9, -999.00,9,  -999.0,9,  -999.0,-999.000,9,-999.000,   0.062,4,   39.91,2, 4047.60,-999.0000,9,-999.0000,9,-999.0000,9,-999.0000,9,-999.0000,9,-999.0000,9,   1.1730,     -999.0,-999.000,     -999.0,          9,     -999.0,          9,-999.000,          9
 33RO200501,       A16S,      63,          1,          2,          2,2,20050204,       0213,   -31.0012,   -25.0003,       4373,  4349.2,   1.2726,  34.7606,2,  34.7609,2,    225.4,2,   225.5,2,   93.31,6,   28.72,6,    0.00,6,    2.00,6,   0.048,2,   0.025,2,   0.000,2,  2238.2,2,  2351.1,6,  -999.0,9,   20.00,   7.6517,6,    25.00,-999.000,9, -999.00,-999.000,9,-999.000,9, -999.00,9,  -999.0,9,  -999.0,-999.000,9,-999.000,   0.103,4, -999.00,9, 4349.20,-999.0000,9,-999.0000,9,-999.0000,9,-999.0000,9,-999.0000,9,-999.0000,9,   0.9213,     -999.0,-999.000,     -999.0,          9,     -999.0,          9,-999.000,          9
 33RO200501,       A16S,      63,          1,          1,          1,2,20050204,       0213,   -31.0012,   -25.0003,       4373,  4595.9,   1.2258,  34.7520,2,  34.7530,2,    223.4,2,   224.1,2,   96.76,6,   29.18,6,    0.00,6,    2.04,6,   0.068,2,   0.037,2,   0.000,2,  2242.4,6,  2351.0,2,  -999.0,9,   20.00,   7.6426,2,    25.00,-999.000,9, -999.00,-999.000,9,-999.000,9, -999.00,9,  -999.0,9,  -999.0,-999.000,9,-999.000,   0.127,4,   38.92,2, 4595.90,-999.0000,9,-999.0000,9,-999.0000,9,-999.0000,9,-999.0000,9,-999.0000,9,   0.8480,     -999.0,-999.000,     -999.0,          9,     -999.0,          9,-999.000,          9