BOTTLE,20220818CCHSIOAMB
EXPOCODE,SECT_ID,STNNBR,CASTNO,SAMPNO,BTLNBR,BTLNBR_FLAG_W,DATE,TIME,LATITUDE,LONGITUDE,DEPTH,CTDPRS,CTDTMP,CTDSAL,CTDSAL_FLAG_W,SALNTY,SALNTY_FLAG_W,CTDOXY,CTDOXY_FLAG_W,OXYGEN,OXYGEN_FLAG_W,SILCAT,SILCAT_FLAG_W,NITRAT,NITRAT_FLAG_W,NITRIT,NITRIT_FLAG_W,PHSPHT,PHSPHT_FLAG_W,CFC-11,CFC-11_FLAG_W,CFC-12,CFC-12_FLAG_W,CFC113,CFC113_FLAG_W,TCARBN,TCARBN_FLAG_W,ALKALI,ALKALI_FLAG_W,PCO2,PCO2_FLAG_W,PCO2TMP,PH_SWS,PH_SWS_FLAG_W,PH_TMP,TRITUM,TRITUM_FLAG_W,TRITER,HELIUM,HELIUM_FLAG_W,DELHE3,DELHE3_FLAG_W,DELC13,DELC13_FLAG_W,DELC14,DELC14_FLAG_W,C14ERR,NEON,NEON_FLAG_W,NEONER,CCL4,CCL4_FLAG_W,DOC,DOC_FLAG_W,CTDRAW,CDOM325,CDOM325_FLAG_W,CDOM340,CDOM340_FLAG_W,CDOM380,CDOM380_FLAG_W,CDOM412,CDOM412_FLAG_W,CDOMSL,CDOMSL_FLAG_W,CDOMSN,CDOMSN_FLAG_W,THETA,HELIER,DELHER,CH3CL,CH3CL_FLAG_W,CH3BR,CH3BR_FLAG_W,CH3I,CH3I_FLAG_W
,,,,,,,,,,,METERS,DBAR,ITS-90,PSS-78,,PSS-78,,UMOL/KG,,UMOL/KG,,UMOL/KG,,UMOL/KG,,UMOL/KG,,UMOL/KG,,PMOL/KG,,PMOL/KG,,PMOL/KG,,UMOL/KG,,UMOL/KG,,UATM,,DEG C,,,DEG C,TU,,TU,NMOL/KG,,PERCNT,,/MILLE,,/MILLE,,/MILLE,NMOL/KG,,NMOL/KG,PMOL/KG,,UMOL/KG,,DBAR,1/M,,1/M,,1/M,,1/M,,1/NM,,1/NM,,DEG C,NMOL/KG,PERCNT,PMOL/KG,,PMOL/KG,,PMOL/KG,
 33RO200501,       A16S,      23,          1,          7,          7,2,20050122,       1553,   -51.0018,   -34.6157,       5174,  3350.5,   0.2834,  34.6758,2,  34.6762,2,    218.6,2,   220.2,2,  122.62,2,   32.50,2,    0.00,2,    2.25,2,   0.501,6,   0.246,6,   0.025,6,  2259.5,2,  2359.8,2,  -999.0,9,   20.00,   7.6157,6,    25.00,   0.021,2,    0.01,   1.947,2,   7.810,2,    0.64,2,  -168.5,2,     2.4,   8.392,2,   0.008,   0.577,3,   39.86,2, 3350.50,-999.0000,9,-999.0000,9,-999.0000,9,-999.0000,9,-999.0000,9,-999.0000,9,   0.0621,      0.001,   0.251,     -999.0,          9,     -999.0,          9,-999.000,          9
 33RO200501,       A16S,      23,          1,          6,          6,2,20050122,       1553,   -51.0018,   -34.6157,       5174,  3649.5,   0.1976,  34.6717,2,  34.6721,2,    222.0,2,   223.1,2,  123.43,2,   32.50,2,    0.00,2,    2.26,2,-999.000,9,-999.000,9,-999.000,9,  2258.9,2,  2359.4,2,  -999.0,9,   20.00,   7.6122,2,    25.00,-999.000,9, -999.00,-999.000,9,-999.000,9,    0.66,2,  -168.7,2,     2.7,-999.000,9,-999.000,-999.000,9, -999.00,9, 3649.50,-999.0000,9,-999.0000,9,-999.0000,9,-999.0000,9,-999.0000,9,-999.0000,9,  -0.0496,     -999.0,-999.000,     -999.0,          9,     -999.0,          9,-999.000,          9
 33RO200501,       A16S,      23,          1,          5,          5,2,20050122,       1553,   -51.0018,   -34.6157,       5174,  3930.5,   0.1232,  34.6689,2,  34.6695,2,    225.2,2,   226.3,2,  124.25,2,   32.46,2,    0.00,2,    2.27,2,   0.509,2,   0.250,2,   0.023,2,  2259.4,2,  2356.9,2,  -999.0,9,   20.00,   7.6127,2,    25.00,-999.000,9, -999.00,-999.000,9,-999.000,9,    0.66,2,  -164.7,2,     2.5,-999.000,9,-999.000,   0.605,3,   39.72,2, 3930.50,   0.1940,3,   0.1530,3,   0.0690,3,   0.0440,3,   0.0171,3,   0.0176,3,  -0.1495,     -999.0,-999.000,     -999.0,          9,     -999.0,          9,-999.000,          9
 33RO200501,       A16S,      23,          1,          4,          4,2,20050122,       1553,   -51.0018,   -34.6157,       5174,  4249.7,  -0.0083,  34.6623,2,  34.6627,2,    231.0,2,   232.1,2,  124.94,6,   32.35,6,    0.00,6,    2.25,6,   0.683,2,   0.332,2,   0.035,2,  2256.3,2,  2352.6,2,  -999.0,9,   20.00,   7.6106,2,    25.00,   0.006,2,    0.01,-999.000,9,-999.000,9,    0.70,2,  -163.0,2,     2.5,-999.000,9,-999.000,   0.764,3, -999.00,9, 4249.70,-999.0000,9,-999.0000,9,-999.0000,9,-999.0000,9,-999.0000,9,-999.0000,9,  -0.3095,     -999.0,-999.000,     -999.0,          9,     -999.0,          9,-999.000,          9
 33RO200501,       A16S,      23,          1,          3,          3,2,20050122,       1553,   -51.0018,   -34.6157,       5174,  4549.1,  -0.0433,  34.6600,2,  34.6591,2,    234.6,2,   235.1,2,  125.40,6,   32.31,6,    0.00,6,    2.25,6,   0.736,2,   0.363,2,   0.041,2,  2255.4,2,  2352.0,2,  -999.0,9,   20.00,   7.6087,2,    25.00,   0.006,2,    0.03,-999.000,9,-999.000,9,    0.72,2,  -151.7,2,     3.8,-999.000,9,-999.000,   0.817,3,   39.82,2, 4549.10,-999.0000,9,-999.0000,9,-999.0000,9,-999.0000,9,-999.0000,9,-999.0000,9,  -0.3748,     -999.0,-999.000,     -999.0,          9,     -999.0,          9,-999.000,          9
 33RO200501,       A16S,      23,          1,          2,          2,2,20050122,       1553,   -51.0018,   -34.6157,       5174,  4849.4,  -0.0859,  34.6571,2,  34.6566,2,    237.5,2,   237.9,2,  125.38,6,   32.25,6,    0.00,6,    2.24,6,   0.808,2,   0.398,2,   0.042,2,  2255.2,2,  2352.9,6,  -999.0,9,   20.00,   7.6157,2,    25.00,   0.001,2,    0.01,-999.000,9,-999.000,9,    0.72,2,  -159.8,2,     4.3,-999.000,9,-999.000,   0.880,3, -999.00,9, 4849.40,-999.0000,9,-999.0000,9,-999.0000,9,-999.0000,9,-999.0000,9,-999.0000,9,  -0.4489,     -999.0,-999.000,     -999.0,          9,     -999.0,          9,-999.000,          9
 33RO200501,       A16S,      23,          1,          1,          1,2,20050122,       1553,   -51.0018,   -34.6157,       5174,  5078.2,  -0.1026,  34.6553,2,  34.6557,2,    239.7,2,   239.5,2,  125.23,6,   32.29,6,    0.00,6,    2.25,6,   0.863,2,   0.422,2,   0.046,2,  2254.0,6,  2351.6,2,  -999.0,9,   20.00,   7.6128,2,    25.00,   0.001,2,    0.01,   1.926,2,   5.070,2,    0.74,2,  -166.5,2,     3.5,   8.280,2,   0.007,   0.923,3,   40.12,2, 5078.20,   0.2310,2,   0.1910,3,   0.0720,3,   0.0400,3,   0.0212,4,   0.0198,4,  -0.4907,      0.001,   0.213,     -999.0,          9,     -999.0,          9,-999.000,          9