BOTTLE,20220818CCHSIOAMB
EXPOCODE,SECT_ID,STNNBR,CASTNO,SAMPNO,BTLNBR,BTLNBR_FLAG_W,DATE,TIME,LATITUDE,LONGITUDE,DEPTH,CTDPRS,CTDTMP,CTDSAL,CTDSAL_FLAG_W,SALNTY,SALNTY_FLAG_W,CTDOXY,CTDOXY_FLAG_W,OXYGEN,OXYGEN_FLAG_W,SILCAT,SILCAT_FLAG_W,NITRAT,NITRAT_FLAG_W,NITRIT,NITRIT_FLAG_W,PHSPHT,PHSPHT_FLAG_W,CFC-11,CFC-11_FLAG_W,CFC-12,CFC-12_FLAG_W,CFC113,CFC113_FLAG_W,TCARBN,TCARBN_FLAG_W,ALKALI,ALKALI_FLAG_W,PCO2,PCO2_FLAG_W,PCO2TMP,PH_SWS,PH_SWS_FLAG_W,PH_TMP,TRITUM,TRITUM_FLAG_W,TRITER,HELIUM,HELIUM_FLAG_W,DELHE3,DELHE3_FLAG_W,DELC13,DELC13_FLAG_W,DELC14,DELC14_FLAG_W,C14ERR,NEON,NEON_FLAG_W,NEONER,CCL4,CCL4_FLAG_W,DOC,DOC_FLAG_W,CTDRAW,CDOM325,CDOM325_FLAG_W,CDOM340,CDOM340_FLAG_W,CDOM380,CDOM380_FLAG_W,CDOM412,CDOM412_FLAG_W,CDOMSL,CDOMSL_FLAG_W,CDOMSN,CDOMSN_FLAG_W,THETA,HELIER,DELHER,CH3CL,CH3CL_FLAG_W,CH3BR,CH3BR_FLAG_W,CH3I,CH3I_FLAG_W
,,,,,,,,,,,METERS,DBAR,ITS-90,PSS-78,,PSS-78,,UMOL/KG,,UMOL/KG,,UMOL/KG,,UMOL/KG,,UMOL/KG,,UMOL/KG,,PMOL/KG,,PMOL/KG,,PMOL/KG,,UMOL/KG,,UMOL/KG,,UATM,,DEG C,,,DEG C,TU,,TU,NMOL/KG,,PERCNT,,/MILLE,,/MILLE,,/MILLE,NMOL/KG,,NMOL/KG,PMOL/KG,,UMOL/KG,,DBAR,1/M,,1/M,,1/M,,1/M,,1/NM,,1/NM,,DEG C,NMOL/KG,PERCNT,PMOL/KG,,PMOL/KG,,PMOL/KG,
 33RO200501,       A16S,     117,          1,          7,          7,2,20050220,       1336,    -4.0018,   -25.0010,       5413,  3600.7,   2.5281,  34.9116,2,  34.9116,2,    257.3,2,   258.9,2,   32.92,2,   19.71,2,    0.00,2,    1.27,2,   0.114,2,   0.061,2,   0.005,2,  2176.9,2,  2326.6,2,   749.4,2,   20.00,   7.7377,2,    25.00,-999.000,9, -999.00,-999.000,9,-999.000,9, -999.00,9,  -999.0,9,  -999.0,-999.000,9,-999.000,   0.313,4,   40.64,2, 3600.70,-999.0000,9,-999.0000,9,-999.0000,9,-999.0000,9,-999.0000,9,-999.0000,9,   2.2239,     -999.0,-999.000,     -999.0,          9,     -999.0,          9,-999.000,          9
 33RO200501,       A16S,     117,          1,          6,          6,2,20050220,       1336,    -4.0018,   -25.0010,       5413,  3899.6,   2.1936,  34.8798,2,  34.8800,2,    256.1,2,   255.2,2,   43.92,2,   21.15,2,    0.00,2,    1.38,2,   0.076,2,   0.043,2,   0.007,2,  2187.4,2,  2332.9,2,   776.1,2,   20.00,   7.7225,2,    25.00,-999.000,9, -999.00,-999.000,9,-999.000,9, -999.00,9,  -999.0,9,  -999.0,-999.000,9,-999.000,   0.255,4, -999.00,9, 3899.60,-999.0000,9,-999.0000,9,-999.0000,9,-999.0000,9,-999.0000,9,-999.0000,9,   1.8653,     -999.0,-999.000,     -999.0,          9,     -999.0,          9,-999.000,          9
 33RO200501,       A16S,     117,          1,          5,          5,2,20050220,       1336,    -4.0018,   -25.0010,       5413,  4200.2,   1.4077,  34.7929,2,  34.7921,2,    236.4,2,   236.4,2,   80.49,2,   26.47,2,    0.00,2,    1.76,2,   0.030,2,   0.021,2,   0.000,2,  2226.8,2,  2353.4,2,   883.9,2,   20.00,   7.6734,2,    25.00,-999.000,9, -999.00,-999.000,9,-999.000,9, -999.00,9,  -999.0,9,  -999.0,-999.000,9,-999.000,   0.120,4,   39.91,2, 4200.20,   0.1530,2,   0.1090,2,   0.0560,2,   0.0380,2,   0.0155,2,   0.0172,2,   1.0688,     -999.0,-999.000,     -999.0,          9,     -999.0,          9,-999.000,          9
 33RO200501,       A16S,     117,          1,          4,          4,2,20050220,       1336,    -4.0018,   -25.0010,       5413,  4500.7,   0.9648,  34.7432,2,  34.7433,2,    227.5,2,   224.9,3,  100.12,6,   29.09,6,    0.00,6,    1.96,6,   0.019,2,   0.007,2,   0.000,2,  2247.4,2,  2362.7,2,  -999.0,9,   20.00,   7.6476,2,    25.00,-999.000,9, -999.00,-999.000,9,-999.000,9, -999.00,9,  -999.0,9,  -999.0,-999.000,9,-999.000,   0.075,4, -999.00,9, 4500.70,-999.0000,9,-999.0000,9,-999.0000,9,-999.0000,9,-999.0000,9,-999.0000,9,   0.6061,     -999.0,-999.000,     -999.0,          9,     -999.0,          9,-999.000,          9
 33RO200501,       A16S,     117,          1,          3,          3,2,20050220,       1336,    -4.0018,   -25.0010,       5413,  4799.8,   0.8170,  34.7241,2,  34.7248,2,    224.2,2,   224.2,2,  107.48,6,   30.19,6,    0.00,6,    2.04,6,-999.000,9,-999.000,9,-999.000,9,  2254.6,2,  2363.9,2,   980.2,2,   20.00,   7.6497,2,    25.00,-999.000,9, -999.00,-999.000,9,-999.000,9, -999.00,9,  -999.0,9,  -999.0,-999.000,9,-999.000,-999.000,9,   39.83,2, 4799.80,-999.0000,9,-999.0000,9,-999.0000,9,-999.0000,9,-999.0000,9,-999.0000,9,   0.4291,     -999.0,-999.000,     -999.0,          9,     -999.0,          9,-999.000,          9
 33RO200501,       A16S,     117,          1,          2,          2,2,20050220,       1336,    -4.0018,   -25.0010,       5413,  5098.9,   0.7587,  34.7134,2,  34.7140,2,    222.5,2,   222.5,2,  111.58,6,   30.72,6,    0.00,6,    2.07,6,   0.032,2,   0.013,2,   0.006,2,  2257.6,2,  2365.8,6,   995.8,2,   20.00,   7.6469,2,    25.00,-999.000,9, -999.00,   1.911,2,   5.570,2, -999.00,9,  -999.0,9,  -999.0,  -0.019,4,   0.002,   0.095,4, -999.00,9, 5098.90,-999.0000,9,-999.0000,9,-999.0000,9,-999.0000,9,-999.0000,9,-999.0000,9,   0.3378,      0.000,   0.204,     -999.0,          9,     -999.0,          9,-999.000,          9
 33RO200501,       A16S,     117,          1,          1,          1,2,20050220,       1336,    -4.0018,   -25.0010,       5413,  5424.8,   0.7583,  34.7086,2,  34.7109,3,    221.7,2,   221.4,2,  113.17,6,   30.78,6,    0.00,6,    2.09,6,   0.040,2,   0.019,2,   0.000,2,  2257.7,6,  2364.2,2,   999.8,2,   20.00,   7.6219,2,    25.00,-999.000,9, -999.00,   1.928,2,   5.397,2, -999.00,9,  -999.0,9,  -999.0,   8.223,2,   0.009,   0.106,4,   39.81,2, 5424.80,   0.1590,2,   0.1150,2,   0.0640,2,   0.0450,2,   0.0136,2,   0.0151,2,   0.2980,      0.001,   0.208,     -999.0,          9,     -999.0,          9,-999.000,          9