BOTTLE,20220818CCHSIOAMB
EXPOCODE,SECT_ID,STNNBR,CASTNO,SAMPNO,BTLNBR,BTLNBR_FLAG_W,DATE,TIME,LATITUDE,LONGITUDE,DEPTH,CTDPRS,CTDTMP,CTDSAL,CTDSAL_FLAG_W,SALNTY,SALNTY_FLAG_W,CTDOXY,CTDOXY_FLAG_W,OXYGEN,OXYGEN_FLAG_W,SILCAT,SILCAT_FLAG_W,NITRAT,NITRAT_FLAG_W,NITRIT,NITRIT_FLAG_W,PHSPHT,PHSPHT_FLAG_W,CFC-11,CFC-11_FLAG_W,CFC-12,CFC-12_FLAG_W,CFC113,CFC113_FLAG_W,TCARBN,TCARBN_FLAG_W,ALKALI,ALKALI_FLAG_W,PCO2,PCO2_FLAG_W,PCO2TMP,PH_SWS,PH_SWS_FLAG_W,PH_TMP,TRITUM,TRITUM_FLAG_W,TRITER,HELIUM,HELIUM_FLAG_W,DELHE3,DELHE3_FLAG_W,DELC13,DELC13_FLAG_W,DELC14,DELC14_FLAG_W,C14ERR,NEON,NEON_FLAG_W,NEONER,CCL4,CCL4_FLAG_W,DOC,DOC_FLAG_W,CTDRAW,CDOM325,CDOM325_FLAG_W,CDOM340,CDOM340_FLAG_W,CDOM380,CDOM380_FLAG_W,CDOM412,CDOM412_FLAG_W,CDOMSL,CDOMSL_FLAG_W,CDOMSN,CDOMSN_FLAG_W,THETA,HELIER,DELHER,CH3CL,CH3CL_FLAG_W,CH3BR,CH3BR_FLAG_W,CH3I,CH3I_FLAG_W
,,,,,,,,,,,METERS,DBAR,ITS-90,PSS-78,,PSS-78,,UMOL/KG,,UMOL/KG,,UMOL/KG,,UMOL/KG,,UMOL/KG,,UMOL/KG,,PMOL/KG,,PMOL/KG,,PMOL/KG,,UMOL/KG,,UMOL/KG,,UATM,,DEG C,,,DEG C,TU,,TU,NMOL/KG,,PERCNT,,/MILLE,,/MILLE,,/MILLE,NMOL/KG,,NMOL/KG,PMOL/KG,,UMOL/KG,,DBAR,1/M,,1/M,,1/M,,1/M,,1/NM,,1/NM,,DEG C,NMOL/KG,PERCNT,PMOL/KG,,PMOL/KG,,PMOL/KG,
 33RO200501,       A16S,      45,          1,          7,          7,2,20050129,       1522,   -40.0013,   -27.8032,       4356,  2699.8,   2.5013,  34.8227,2,  34.8233,2,    214.8,2,   214.8,2,   61.56,2,   26.49,2,    0.00,2,    1.77,2,   0.054,2,   0.021,2,   0.006,2,  2214.9,2,  2331.8,2,   915.4,2,   20.00,   7.6707,2,    25.00,   0.032,2,    0.01,-999.000,9,-999.000,9,    0.85,2,  -121.3,2,     2.6,-999.000,9,-999.000,   0.141,3, -999.00,9, 2699.80,-999.0000,9,-999.0000,9,-999.0000,9,-999.0000,9,-999.0000,9,-999.0000,9,   2.2918,     -999.0,-999.000,     -999.0,          9,     -999.0,          9,-999.000,          9
 33RO200501,       A16S,      45,          1,          6,          6,2,20050129,       1522,   -40.0013,   -27.8032,       4356,  2899.0,   2.3352,  34.8267,2,  34.8271,2,    219.6,2,   219.6,2,   63.61,2,   26.22,2,    0.00,2,    1.75,2,   0.053,6,   0.022,6,   0.006,6,  2215.8,2,  2335.0,2,   898.5,2,   20.00,   7.6798,2,    25.00,-999.000,9, -999.00,-999.000,9,-999.000,9,    0.86,2,  -121.8,2,     3.3,-999.000,9,-999.000,   0.133,3,   39.57,2, 2899.00,-999.0000,9,-999.0000,9,-999.0000,9,-999.0000,9,-999.0000,9,-999.0000,9,   2.1095,     -999.0,-999.000,     -999.0,          9,     -999.0,          9,-999.000,          9
 33RO200501,       A16S,      45,          1,          5,          5,2,20050129,       1522,   -40.0013,   -27.8032,       4356,  3099.8,   1.9933,  34.7941,2,  34.7946,2,    214.5,2,   213.5,2,   76.60,2,   27.81,2,    0.00,2,    1.85,2,   0.072,2,   0.029,2,   0.005,2,  2226.5,2,  2340.2,2,   950.8,2,   20.00,   7.6582,2,    25.00,   0.001,2,    0.00,-999.000,9,-999.000,9,    0.79,2,  -137.0,2,     2.9,-999.000,9,-999.000,   0.147,3, -999.00,9, 3099.80,   0.1610,2,   0.1180,2,   0.0600,2,   0.0390,2,   0.0159,2,   0.0171,2,   1.7552,     -999.0,-999.000,     -999.0,          9,     -999.0,          9,-999.000,          9
 33RO200501,       A16S,      45,          1,          4,          4,2,20050129,       1522,   -40.0013,   -27.8032,       4356,  3400.9,   1.5170,  34.7584,2,  34.7583,2,    211.9,2,   211.1,2,   92.82,6,   29.44,6,    0.00,6,    2.02,6,   0.086,2,   0.043,2,   0.006,2,  2238.9,2,  2347.2,2,  -999.0,9,   20.00,   7.6361,2,    25.00,   0.006,2,    0.01,-999.000,9,-999.000,9,    0.69,2,  -147.2,2,     3.6,-999.000,9,-999.000,   0.155,3,   39.34,2, 3400.90,-999.0000,9,-999.0000,9,-999.0000,9,-999.0000,9,-999.0000,9,-999.0000,9,   1.2601,     -999.0,-999.000,     -999.0,          9,     -999.0,          9,-999.000,          9
 33RO200501,       A16S,      45,          1,          3,          3,2,20050129,       1522,   -40.0013,   -27.8032,       4356,  3697.8,   1.1437,  34.7313,2,  34.7315,2,    212.6,2,   212.0,2,  103.73,6,   30.56,6,    0.00,6,    2.12,6,   0.121,2,   0.057,2,   0.004,2,  2248.8,2,  2355.0,2,  1024.0,2,   20.00,   7.6504,3,    25.00,   0.001,2,    0.00,   1.908,2,   6.930,2,    0.67,2,  -159.0,2,     3.1,   8.197,2,   0.008,   0.200,3, -999.00,9, 3697.80,-999.0000,9,-999.0000,9,-999.0000,9,-999.0000,9,-999.0000,9,-999.0000,9,   0.8662,      0.002,   0.218,     -999.0,          9,     -999.0,          9,-999.000,          9
 33RO200501,       A16S,      45,          1,          2,          2,2,20050129,       1522,   -40.0013,   -27.8032,       4356,  3999.4,   0.7936,  34.7059,2,  34.7062,2,    213.6,2,   213.5,2,  113.54,6,   31.54,6,    0.00,6,    2.20,6,   0.173,2,   0.080,2,   0.005,2,  2257.2,2,  2362.5,6,  1041.8,2,   20.00,   7.6223,6,    25.00,-999.000,9, -999.00,-999.000,9,-999.000,9,    0.65,2,  -162.8,2,     3.0,-999.000,9,-999.000,   0.288,3,   38.87,2, 3999.40,-999.0000,9,-999.0000,9,-999.0000,9,-999.0000,9,-999.0000,9,-999.0000,9,   0.4947,     -999.0,-999.000,     -999.0,          9,     -999.0,          9,-999.000,          9
 33RO200501,       A16S,      45,          1,          1,          1,2,20050129,       1522,   -40.0013,   -27.8032,       4356,  4352.0,   0.4307,  34.6819,2,  34.6822,2,    217.1,2,   217.3,2,  123.02,6,   32.35,6,    0.00,6,    2.27,6,   0.271,2,   0.131,2,   0.010,2,  2262.6,2,  2363.5,2,  1060.0,2,   20.00,   7.6125,2,    25.00,   0.017,2,    0.01,   2.052,3,   6.150,2,    0.64,2,  -161.8,2,     2.7,   8.718,3,   0.008,   0.410,3,   39.45,2, 4352.00,   0.1610,2,   0.1170,2,   0.0650,2,   0.0450,2,   0.0139,2,   0.0153,2,   0.1053,      0.002,   0.214,     -999.0,          9,     -999.0,          9,-999.000,          9