BOTTLE,20220818CCHSIOAMB
EXPOCODE,SECT_ID,STNNBR,CASTNO,SAMPNO,BTLNBR,BTLNBR_FLAG_W,DATE,TIME,LATITUDE,LONGITUDE,DEPTH,CTDPRS,CTDTMP,CTDSAL,CTDSAL_FLAG_W,SALNTY,SALNTY_FLAG_W,CTDOXY,CTDOXY_FLAG_W,OXYGEN,OXYGEN_FLAG_W,SILCAT,SILCAT_FLAG_W,NITRAT,NITRAT_FLAG_W,NITRIT,NITRIT_FLAG_W,PHSPHT,PHSPHT_FLAG_W,CFC-11,CFC-11_FLAG_W,CFC-12,CFC-12_FLAG_W,CFC113,CFC113_FLAG_W,TCARBN,TCARBN_FLAG_W,ALKALI,ALKALI_FLAG_W,PCO2,PCO2_FLAG_W,PCO2TMP,PH_SWS,PH_SWS_FLAG_W,PH_TMP,TRITUM,TRITUM_FLAG_W,TRITER,HELIUM,HELIUM_FLAG_W,DELHE3,DELHE3_FLAG_W,DELC13,DELC13_FLAG_W,DELC14,DELC14_FLAG_W,C14ERR,NEON,NEON_FLAG_W,NEONER,CCL4,CCL4_FLAG_W,DOC,DOC_FLAG_W,CTDRAW,CDOM325,CDOM325_FLAG_W,CDOM340,CDOM340_FLAG_W,CDOM380,CDOM380_FLAG_W,CDOM412,CDOM412_FLAG_W,CDOMSL,CDOMSL_FLAG_W,CDOMSN,CDOMSN_FLAG_W,THETA,HELIER,DELHER,CH3CL,CH3CL_FLAG_W,CH3BR,CH3BR_FLAG_W,CH3I,CH3I_FLAG_W
,,,,,,,,,,,METERS,DBAR,ITS-90,PSS-78,,PSS-78,,UMOL/KG,,UMOL/KG,,UMOL/KG,,UMOL/KG,,UMOL/KG,,UMOL/KG,,PMOL/KG,,PMOL/KG,,PMOL/KG,,UMOL/KG,,UMOL/KG,,UATM,,DEG C,,,DEG C,TU,,TU,NMOL/KG,,PERCNT,,/MILLE,,/MILLE,,/MILLE,NMOL/KG,,NMOL/KG,PMOL/KG,,UMOL/KG,,DBAR,1/M,,1/M,,1/M,,1/M,,1/NM,,1/NM,,DEG C,NMOL/KG,PERCNT,PMOL/KG,,PMOL/KG,,PMOL/KG,
 33RO200501,       A16S,     103,          1,          7,          7,2,20050216,       0858,   -11.0007,   -25.0005,       5542,  3849.4,   2.1777,  34.8730,2,  34.8718,2,    249.4,2,   250.2,2,   50.54,2,   22.19,2,    0.00,2,    1.48,2,   0.026,2,   0.015,2,   0.000,2,  2192.2,2,  2337.6,2,  -999.0,9,   20.00,   7.7203,2,    25.00,-999.000,9, -999.00,-999.000,9,-999.000,9, -999.00,9,  -999.0,9,  -999.0,-999.000,9,-999.000,   0.100,4,   40.39,2, 3849.40,   0.1350,2,   0.0960,2,   0.0490,2,   0.0320,2,   0.0165,3,   0.0180,3,   1.8555,     -999.0,-999.000,     -999.0,          9,     -999.0,          9,-999.000,          9
 33RO200501,       A16S,     103,          1,          6,          6,2,20050216,       0858,   -11.0007,   -25.0005,       5542,  4149.9,   1.6354,  34.8135,2,  34.8130,2,    239.0,2,   239.7,2,   74.60,2,   25.62,2,    0.00,2,    1.74,2,   0.015,2,   0.006,2,   0.005,2,  2216.0,2,  2349.4,2,  -999.0,9,   20.00,   7.6855,2,    25.00,-999.000,9, -999.00,-999.000,9,-999.000,9, -999.00,9,  -999.0,9,  -999.0,-999.000,9,-999.000,   0.044,4, -999.00,9, 4149.90,-999.0000,9,-999.0000,9,-999.0000,9,-999.0000,9,-999.0000,9,-999.0000,9,   1.2953,     -999.0,-999.000,     -999.0,          9,     -999.0,          9,-999.000,          9
 33RO200501,       A16S,     103,          1,          5,          5,2,20050216,       0858,   -11.0007,   -25.0005,       5542,  4450.2,   1.1665,  34.7631,2,  34.7626,2,    230.6,2,   231.0,2,   94.06,2,   28.26,2,    0.00,2,    1.95,2,   0.013,2,   0.007,2,   0.000,2,  2235.9,2,  2353.7,2,  -999.0,9,   20.00,   7.6561,2,    25.00,-999.000,9, -999.00,-999.000,9,-999.000,9, -999.00,9,  -999.0,9,  -999.0,-999.000,9,-999.000,   0.042,4,   39.41,2, 4450.20,-999.0000,9,-999.0000,9,-999.0000,9,-999.0000,9,-999.0000,9,-999.0000,9,   0.8070,     -999.0,-999.000,     -999.0,          9,     -999.0,          9,-999.000,          9
 33RO200501,       A16S,     103,          1,          4,          4,2,20050216,       0858,   -11.0007,   -25.0005,       5542,  4750.9,   0.8954,  34.7333,2,  34.7319,2,    226.1,2,   226.5,2,  105.20,6,   29.82,6,    0.00,6,    2.06,6,-999.000,9,-999.000,9,-999.000,9,  2247.2,2,  2358.3,2,  -999.0,9,   20.00,   7.6398,2,    25.00,-999.000,9, -999.00,-999.000,9,-999.000,9, -999.00,9,  -999.0,9,  -999.0,-999.000,9,-999.000,-999.000,9, -999.00,9, 4750.90,   0.1220,3,   0.0840,3,   0.0430,3,   0.0280,3,   0.0174,3,   0.0189,3,   0.5104,     -999.0,-999.000,     -999.0,          9,     -999.0,          9,-999.000,          9
 33RO200501,       A16S,     103,          1,          3,          3,2,20050216,       0858,   -11.0007,   -25.0005,       5542,  5050.5,   0.7969,  34.7198,2,  34.7199,2,    224.0,2,   224.6,2,  110.19,6,   30.41,6,    0.00,6,    2.11,6,   0.030,2,   0.007,2,  -0.002,2,  2252.6,2,  2361.3,2,  -999.0,9,   20.00,   7.6339,2,    25.00,-999.000,9, -999.00,-999.000,9,-999.000,9, -999.00,9,  -999.0,9,  -999.0,-999.000,9,-999.000,   0.063,4,   39.15,2, 5050.50,-999.0000,9,-999.0000,9,-999.0000,9,-999.0000,9,-999.0000,9,-999.0000,9,   0.3804,     -999.0,-999.000,     -999.0,          9,     -999.0,          9,-999.000,          9
 33RO200501,       A16S,     103,          1,          2,          2,2,20050216,       0858,   -11.0007,   -25.0005,       5542,  5350.1,   0.7724,  34.7131,2,  34.7135,2,    223.3,2,   223.3,2,  112.64,6,   30.70,6,    0.00,6,    2.14,6,   0.033,2,   0.016,2,   0.004,2,  2254.8,2,  2365.1,6,  -999.0,9,   20.00,   7.6267,6,    25.00,-999.000,9, -999.00,-999.000,9,-999.000,9, -999.00,9,  -999.0,9,  -999.0,-999.000,9,-999.000,   0.078,4, -999.00,9, 5350.10,-999.0000,9,-999.0000,9,-999.0000,9,-999.0000,9,-999.0000,9,-999.0000,9,   0.3207,     -999.0,-999.000,     -999.0,          9,     -999.0,          9,-999.000,          9
 33RO200501,       A16S,     103,          1,          1,          1,2,20050216,       0858,   -11.0007,   -25.0005,       5542,  5493.0,   0.7633,  34.7101,2,  34.7131,3,    222.7,2,   222.9,2,  113.42,6,   30.80,6,    0.00,6,    2.15,6,   0.033,2,   0.014,2,   0.000,2,  2256.3,6,  2361.7,2,  -999.0,9,   20.00,   7.6258,2,    25.00,-999.000,9, -999.00,-999.000,9,-999.000,9, -999.00,9,  -999.0,9,  -999.0,-999.000,9,-999.000,   0.084,4,   40.33,2, 5493.00,   0.1400,3,   0.0990,3,   0.0520,3,   0.0330,3,   0.0163,3,   0.0176,3,   0.2944,     -999.0,-999.000,     -999.0,          9,     -999.0,          9,-999.000,          9