BOTTLE,20220818CCHSIOAMB
EXPOCODE,SECT_ID,STNNBR,CASTNO,SAMPNO,BTLNBR,BTLNBR_FLAG_W,DATE,TIME,LATITUDE,LONGITUDE,DEPTH,CTDPRS,CTDTMP,CTDSAL,CTDSAL_FLAG_W,SALNTY,SALNTY_FLAG_W,CTDOXY,CTDOXY_FLAG_W,OXYGEN,OXYGEN_FLAG_W,SILCAT,SILCAT_FLAG_W,NITRAT,NITRAT_FLAG_W,NITRIT,NITRIT_FLAG_W,PHSPHT,PHSPHT_FLAG_W,CFC-11,CFC-11_FLAG_W,CFC-12,CFC-12_FLAG_W,CFC113,CFC113_FLAG_W,TCARBN,TCARBN_FLAG_W,ALKALI,ALKALI_FLAG_W,PCO2,PCO2_FLAG_W,PCO2TMP,PH_SWS,PH_SWS_FLAG_W,PH_TMP,TRITUM,TRITUM_FLAG_W,TRITER,HELIUM,HELIUM_FLAG_W,DELHE3,DELHE3_FLAG_W,DELC13,DELC13_FLAG_W,DELC14,DELC14_FLAG_W,C14ERR,NEON,NEON_FLAG_W,NEONER,CCL4,CCL4_FLAG_W,DOC,DOC_FLAG_W,CTDRAW,CDOM325,CDOM325_FLAG_W,CDOM340,CDOM340_FLAG_W,CDOM380,CDOM380_FLAG_W,CDOM412,CDOM412_FLAG_W,CDOMSL,CDOMSL_FLAG_W,CDOMSN,CDOMSN_FLAG_W,THETA,HELIER,DELHER,CH3CL,CH3CL_FLAG_W,CH3BR,CH3BR_FLAG_W,CH3I,CH3I_FLAG_W
,,,,,,,,,,,METERS,DBAR,ITS-90,PSS-78,,PSS-78,,UMOL/KG,,UMOL/KG,,UMOL/KG,,UMOL/KG,,UMOL/KG,,UMOL/KG,,PMOL/KG,,PMOL/KG,,PMOL/KG,,UMOL/KG,,UMOL/KG,,UATM,,DEG C,,,DEG C,TU,,TU,NMOL/KG,,PERCNT,,/MILLE,,/MILLE,,/MILLE,NMOL/KG,,NMOL/KG,PMOL/KG,,UMOL/KG,,DBAR,1/M,,1/M,,1/M,,1/M,,1/NM,,1/NM,,DEG C,NMOL/KG,PERCNT,PMOL/KG,,PMOL/KG,,PMOL/KG,
 33RO200501,       A16S,     121,          1,         36,         36,2,20050221,       1521,    -2.3335,   -25.0002,       5264,     1.7,  28.5646,  36.1282,2,  36.1346,2,    191.3,2,   198.6,2,    1.00,2,    0.03,2,    0.00,2,    0.03,2,   1.572,2,   1.042,2,   0.123,2,  2030.2,2,  2368.8,2,   294.9,2,   20.00,   8.0762,6,    25.00,-999.000,9, -999.00,-999.000,9,-999.000,9,    1.71,2,    59.6,2,     3.4,-999.000,9,-999.000,   1.309,4,   70.81,2,    1.70,-999.0000,9,-999.0000,9,-999.0000,9,-999.0000,9,-999.0000,9,-999.0000,9,  28.5642,     -999.0,-999.000,     71.691,          2,      0.939,          2,   2.755,          2
 33RO200501,       A16S,     121,          1,         35,         35,2,20050221,       1521,    -2.3335,   -25.0002,       5264,    24.1,  28.1315,  36.1574,2,  36.1645,2,    192.0,2,   199.6,2,    1.05,2,    0.08,2,    0.00,2,    0.03,2,-999.000,9,-999.000,9,-999.000,9,  2032.1,2,  2372.1,2,   297.5,2,   20.00,   8.0753,2,    25.00,-999.000,9, -999.00,-999.000,9,-999.000,9, -999.00,9,  -999.0,9,  -999.0,-999.000,9,-999.000,-999.000,9,   71.06,2,   24.10,-999.0000,9,-999.0000,9,-999.0000,9,-999.0000,9,-999.0000,9,-999.0000,9,  28.1257,     -999.0,-999.000,     -999.0,          9,     -999.0,          9,-999.000,          9
 33RO200501,       A16S,     121,          1,         34,         34,2,20050221,       1521,    -2.3335,   -25.0002,       5264,    48.9,  26.6263,  36.1285,2,  36.0945,2,    195.2,2,   187.9,2,    1.75,2,    1.30,2,    0.04,2,    0.21,2,   1.726,2,   1.119,2,   0.102,2,  2061.5,2,  2372.0,2,   354.3,2,   20.00,   8.0275,6,    25.00,-999.000,9, -999.00,-999.000,9,-999.000,9,    1.53,2,    62.5,2,     4.2,-999.000,9,-999.000,   0.933,4,   70.24,2,   48.90,-999.0000,9,-999.0000,9,-999.0000,9,-999.0000,9,-999.0000,9,-999.0000,9,  26.6152,     -999.0,-999.000,    113.585,          2,      0.874,          2,   3.121,          2
 33RO200501,       A16S,     121,          1,         33,         33,2,20050221,       1521,    -2.3335,   -25.0002,       5264,    73.9,  16.1746,  35.6147,2,  35.5817,2,    107.4,2,   106.6,2,    6.33,2,   18.77,2,    0.15,2,    1.23,2,-999.000,9,-999.000,9,-999.000,9,  2178.1,2,  2335.6,2,  -999.0,9,   20.00,   7.7378,2,    25.00,-999.000,9, -999.00,-999.000,9,-999.000,9,    0.68,2,    52.4,2,     4.1,-999.000,9,-999.000,-999.000,9,   57.97,2,   73.90,-999.0000,9,-999.0000,9,-999.0000,9,-999.0000,9,-999.0000,9,-999.0000,9,  16.1628,     -999.0,-999.000,     -999.0,          9,     -999.0,          9,-999.000,          9
 33RO200501,       A16S,     121,          1,         32,         32,2,20050221,       1521,    -2.3335,   -25.0002,       5264,    99.2,  13.8490,  35.3835,2,  35.3832,2,     96.5,2,    97.0,2,    8.05,2,   22.27,2,    0.02,2,    1.41,2,   1.856,2,   1.081,2,   0.018,2,  2190.0,2,  2322.0,2,   850.5,2,   20.00,   7.6810,6,    25.00,-999.000,9, -999.00,-999.000,9,-999.000,9,    0.60,2,    39.2,2,     3.9,-999.000,9,-999.000,   0.297,4,   56.75,2,   99.20,-999.0000,9,-999.0000,9,-999.0000,9,-999.0000,9,-999.0000,9,-999.0000,9,  13.8347,     -999.0,-999.000,      3.887,          2,      0.001,          2,   0.109,          2
 33RO200501,       A16S,     121,          1,         31,         31,2,20050221,       1521,    -2.3335,   -25.0002,       5264,   149.0,  13.3844,  35.3240,2,  35.3247,2,    143.5,2,   144.8,2,    7.25,2,   17.73,2,    0.01,2,    1.18,2,-999.000,9,-999.000,9,-999.000,9,  2160.5,2,  2324.3,3,   696.5,2,   20.00,   7.7583,2,    25.00,-999.000,9, -999.00,-999.000,9,-999.000,9,    0.89,2,    38.3,2,     3.3,-999.000,9,-999.000,-999.000,9,   55.85,2,  149.00,-999.0000,9,-999.0000,9,-999.0000,9,-999.0000,9,-999.0000,9,-999.0000,9,  13.3635,     -999.0,-999.000,     -999.0,          9,     -999.0,          9,-999.000,          9
 33RO200501,       A16S,     121,          1,         30,         30,2,20050221,       1521,    -2.3335,   -25.0002,       5264,   198.3,  12.8952,  35.2606,2,  35.2613,2,    103.2,2,   105.6,2,    9.02,2,   22.82,2,    0.01,2,    1.44,2,   1.758,2,   0.966,2,   0.020,2,  2189.5,2,  2317.7,2,   861.0,2,   20.00,   7.6803,6,    25.00,-999.000,9, -999.00,-999.000,9,-999.000,9,    0.67,2,    43.8,2,     3.3,-999.000,9,-999.000,   0.312,4,   52.76,2,  198.30,-999.0000,9,-999.0000,9,-999.0000,9,-999.0000,9,-999.0000,9,-999.0000,9,  12.8680,     -999.0,-999.000,      1.499,          2,      0.000,          2,   0.052,          2
 33RO200501,       A16S,     121,          1,         29,         29,2,20050221,       1521,    -2.3335,   -25.0002,       5264,   248.6,  12.4097,  35.1974,2,  35.1972,2,     98.3,2,    97.3,2,    9.80,2,   24.59,2,    0.00,2,    1.53,2,   1.627,2,   0.899,2,   0.013,2,  2197.0,2,  2315.7,2,   929.1,2,   20.00,   7.6465,2,    25.00,-999.000,9, -999.00,-999.000,9,-999.000,9,    0.64,2,    26.4,2,     3.8,-999.000,9,-999.000,   0.306,4,   48.33,2,  248.60,-999.0000,9,-999.0000,9,-999.0000,9,-999.0000,9,-999.0000,9,-999.0000,9,  12.3764,     -999.0,-999.000,     -999.0,          9,     -999.0,          9,-999.000,          9
 33RO200501,       A16S,     121,          1,         28,         28,2,20050221,       1521,    -2.3335,   -25.0002,       5264,   324.2,  11.2069,  35.0547,2,  35.0527,2,     84.9,2,    76.1,2,   12.04,2,   28.93,2,    0.00,2,    1.76,2,   1.254,2,   0.667,2,   0.011,2,  2216.3,2,  2308.4,2,  1123.9,2,   20.00,   7.5716,6,    25.00,-999.000,9, -999.00,-999.000,9,-999.000,9,    0.51,2,     9.2,2,     4.0,-999.000,9,-999.000,   0.245,4,   46.46,2,  324.20,-999.0000,9,-999.0000,9,-999.0000,9,-999.0000,9,-999.0000,9,-999.0000,9,  11.1662,     -999.0,-999.000,     -999.0,          9,     -999.0,          9,-999.000,          9
 33RO200501,       A16S,     121,          1,         27,         27,2,20050221,       1521,    -2.3335,   -25.0002,       5264,   398.9,   9.1990,  34.8278,2,  34.8259,2,     87.9,2,    85.3,2,   15.38,2,   31.95,2,    0.00,2,    1.95,2,   0.851,2,   0.454,2,   0.013,2,  2222.8,2,  2300.7,2,  1214.9,2,   20.00,   7.5421,2,    25.00,-999.000,9, -999.00,-999.000,9,-999.000,9,    0.49,2,   -25.5,2,     3.4,-999.000,9,-999.000,   0.308,4,   44.59,2,  398.90,-999.0000,9,-999.0000,9,-999.0000,9,-999.0000,9,-999.0000,9,-999.0000,9,   9.1547,     -999.0,-999.000,      2.423,          2,      0.000,          2,   0.017,          2
 33RO200501,       A16S,     121,          1,         26,         26,2,20050221,       1521,    -2.3335,   -25.0002,       5264,   499.5,   7.2164,  34.6358,2,  34.6342,2,     98.4,2,   103.5,2,   20.23,2,   34.35,2,    0.00,2,    2.13,2,   0.507,2,   0.262,2,   0.010,2,  2224.4,2,  2294.7,2,  1280.9,2,   20.00,   7.5214,6,    25.00,-999.000,9, -999.00,-999.000,9,-999.000,9,    0.69,2,   -63.2,2,     4.1,-999.000,9,-999.000,   0.350,4,   43.64,2,  499.50,-999.0000,9,-999.0000,9,-999.0000,9,-999.0000,9,-999.0000,9,-999.0000,9,   7.1680,     -999.0,-999.000,     -999.0,          9,     -999.0,          9,-999.000,          9
 33RO200501,       A16S,     121,          1,         25,         25,9,20050221,       1521,    -2.3335,   -25.0002,       5264,   599.3,   5.5535,  34.4861,2,-999.0000,9,   -999.0,9,  -999.0,9, -999.00,9, -999.00,9, -999.00,9, -999.00,9,-999.000,9,-999.000,9,-999.000,9,  -999.0,9,  -999.0,9,  -999.0,9,   20.00,-999.0000,9,    25.00,-999.000,9, -999.00,-999.000,9,-999.000,9, -999.00,9,  -999.0,9,  -999.0,-999.000,9,-999.000,-999.000,9, -999.00,9,  599.30,-999.0000,9,-999.0000,9,-999.0000,9,-999.0000,9,-999.0000,9,-999.0000,9,   5.5028,     -999.0,-999.000,     -999.0,          9,     -999.0,          9,-999.000,          9
 33RO200501,       A16S,     121,          1,         24,         24,2,20050221,       1521,    -2.3335,   -25.0002,       5264,   698.5,   4.8462,  34.4502,2,  34.4492,2,    166.0,2,   169.4,2,   28.99,2,   32.38,2,    0.00,2,    2.10,2,   0.634,2,   0.313,2,   0.005,2,  2206.8,4,  2299.0,2,  1087.7,2,   20.00,   7.5824,2,    25.00,-999.000,9, -999.00,-999.000,9,-999.000,9,    0.90,2,   -76.0,2,     3.7,-999.000,9,-999.000,   0.727,4,   42.64,2,  698.50,-999.0000,9,-999.0000,9,-999.0000,9,-999.0000,9,-999.0000,9,-999.0000,9,   4.7904,     -999.0,-999.000,      4.583,          2,      0.171,          2,   0.009,          2
 33RO200501,       A16S,     121,          1,         23,         23,2,20050221,       1521,    -2.3335,   -25.0002,       5264,   798.6,   4.6353,  34.4757,2,  34.4752,2,    164.0,2,   163.2,2,   31.16,2,   33.04,2,    0.00,2,    2.14,2,   0.366,2,   0.177,2,   0.013,2,  2213.2,2,  2300.7,2,  1124.0,2,   20.00,   7.5716,6,    25.00,-999.000,9, -999.00,-999.000,9,-999.000,9,    0.88,2,   -92.8,2,     2.8,-999.000,9,-999.000,   0.488,4,   42.61,2,  798.60,-999.0000,9,-999.0000,9,-999.0000,9,-999.0000,9,-999.0000,9,-999.0000,9,   4.5722,     -999.0,-999.000,      0.000,          2,      0.000,          2,   0.005,          2
 33RO200501,       A16S,     121,          1,         22,         22,2,20050221,       1521,    -2.3335,   -25.0002,       5264,   899.7,   4.4549,  34.5061,2,  34.5058,2,    163.8,2,   161.6,2,   32.56,2,   33.21,2,    0.00,2,    2.15,2,   0.211,2,   0.108,2,   0.009,2,  2216.7,2,  2299.6,2,  1141.3,2,   20.00,   7.5645,2,    25.00,-999.000,9, -999.00,-999.000,9,-999.000,9,    0.85,2,   -95.0,2,     3.1,-999.000,9,-999.000,   0.325,4,   42.72,2,  899.70,-999.0000,9,-999.0000,9,-999.0000,9,-999.0000,9,-999.0000,9,-999.0000,9,   4.3844,     -999.0,-999.000,     -999.0,          9,     -999.0,          9,-999.000,          9
 33RO200501,       A16S,     121,          1,         20,         20,2,20050221,       1521,    -2.3335,   -25.0002,       5264,   998.5,   4.3537,  34.5777,2,  34.5781,2,    159.3,2,   160.3,2,   32.80,6,   32.67,6,    0.00,6,    2.13,6,   0.070,2,   0.029,2,   0.000,2,  2218.1,2,  2303.7,2,  1124.7,2,   20.00,   7.5728,6,    25.00,-999.000,9, -999.00,-999.000,9,-999.000,9,    0.83,2,  -103.4,2,     3.1,-999.000,9,-999.000,   0.155,4, -999.00,9,  998.50,-999.0000,9,-999.0000,9,-999.0000,9,-999.0000,9,-999.0000,9,-999.0000,9,   4.2754,     -999.0,-999.000,      3.467,          2,      0.403,          2,   0.000,          2
 33RO200501,       A16S,     121,          1,         21,         21,5,20050221,       1521,    -2.3335,   -25.0002,       5264,   998.7,   4.3540,  34.5780,2,-999.0000,9,   -999.0,9,  -999.0,9, -999.00,9, -999.00,9, -999.00,9, -999.00,9,-999.000,9,-999.000,9,-999.000,9,  -999.0,9,  -999.0,9,  -999.0,9,   20.00,-999.0000,9,    25.00,-999.000,9, -999.00,-999.000,9,-999.000,9, -999.00,9,  -999.0,9,  -999.0,-999.000,9,-999.000,-999.000,9,   42.52,2,  998.70,-999.0000,9,-999.0000,9,-999.0000,9,-999.0000,9,-999.0000,9,-999.0000,9,   4.2757,     -999.0,-999.000,     -999.0,          9,     -999.0,          9,-999.000,          9
 33RO200501,       A16S,     121,          1,         19,         19,5,20050221,       1521,    -2.3335,   -25.0002,       5264,   998.9,   4.3525,  34.5782,2,-999.0000,9,   -999.0,9,  -999.0,9, -999.00,9, -999.00,9, -999.00,9, -999.00,9,-999.000,9,-999.000,9,-999.000,9,  -999.0,9,  -999.0,9,  -999.0,9,   20.00,-999.0000,9,    25.00,-999.000,9, -999.00,-999.000,9,-999.000,9, -999.00,9,  -999.0,9,  -999.0,-999.000,9,-999.000,-999.000,9, -999.00,9,  998.90,-999.0000,9,-999.0000,9,-999.0000,9,-999.0000,9,-999.0000,9,-999.0000,9,   4.2741,     -999.0,-999.000,     -999.0,          9,     -999.0,          9,-999.000,          9
 33RO200501,       A16S,     121,          1,         18,         18,2,20050221,       1521,    -2.3335,   -25.0002,       5264,  1099.2,   4.4528,  34.7198,2,  34.7194,2,    168.2,2,   169.6,2,   28.96,2,   30.06,2,    0.00,2,    1.94,2,   0.045,2,   0.028,2,   0.005,2,  2210.9,2,  2308.0,2,  1047.7,2,   20.00,   7.6019,2,    25.00,-999.000,9, -999.00,-999.000,9,-999.000,9,    0.83,2,  -104.6,2,     3.1,-999.000,9,-999.000,   0.094,4,   41.70,2, 1099.20,-999.0000,9,-999.0000,9,-999.0000,9,-999.0000,9,-999.0000,9,-999.0000,9,   4.3646,     -999.0,-999.000,     -999.0,          9,     -999.0,          9,-999.000,          9
 33RO200501,       A16S,     121,          1,         17,         17,2,20050221,       1521,    -2.3335,   -25.0002,       5264,  1198.5,   4.5123,  34.7982,2,  34.7994,2,    177.3,2,   179.9,2,   26.15,2,   28.07,2,    0.00,2,    1.80,2,   0.060,2,   0.033,2,   0.000,2,  2203.7,2,  2310.3,2,   978.5,2,   20.00,   7.6259,6,    25.00,-999.000,9, -999.00,-999.000,9,-999.000,9,    0.90,2,   -98.8,2,     3.1,-999.000,9,-999.000,   0.124,4,   41.69,2, 1198.50,-999.0000,9,-999.0000,9,-999.0000,9,-999.0000,9,-999.0000,9,-999.0000,9,   4.4146,     -999.0,-999.000,     -999.0,          9,     -999.0,          9,-999.000,          9
 33RO200501,       A16S,     121,          1,         16,         16,2,20050221,       1521,    -2.3335,   -25.0002,       5264,  1398.9,   4.4910,  34.9277,2,  34.9292,2,    206.6,2,   210.0,2,   20.37,2,   23.46,2,    0.00,2,    1.49,2,   0.189,2,   0.100,2,   0.006,2,  2185.0,2,  2312.6,2,   856.2,2,   20.00,   7.6790,2,    25.00,-999.000,9, -999.00,-999.000,9,-999.000,9,    1.04,2,   -83.5,2,     3.0,-999.000,9,-999.000,   0.335,4, -999.00,9, 1398.90,-999.0000,9,-999.0000,9,-999.0000,9,-999.0000,9,-999.0000,9,-999.0000,9,   4.3749,     -999.0,-999.000,      0.000,          2,      0.000,          2,   0.005,          2
 33RO200501,       A16S,     121,          1,         15,         15,2,20050221,       1521,    -2.3335,   -25.0002,       5264,  1598.2,   4.0199,  34.9813,2,  34.9808,2,    244.6,2,   243.7,2,   17.09,2,   19.75,2,    0.00,2,    1.24,2,   0.368,2,   0.188,2,   0.015,2,  2167.6,2,  2312.7,2,   766.1,2,   20.00,   7.7233,6,    25.00,-999.000,9, -999.00,-999.000,9,-999.000,9,    1.13,2,   -74.3,2,     3.5,-999.000,9,-999.000,   0.635,4,   41.95,2, 1598.20,-999.0000,9,-999.0000,9,-999.0000,9,-999.0000,9,-999.0000,9,-999.0000,9,   3.8904,     -999.0,-999.000,     -999.0,          9,     -999.0,          9,-999.000,          9
 33RO200501,       A16S,     121,          1,         14,         14,2,20050221,       1521,    -2.3335,   -25.0002,       5264,  1799.1,   3.7100,  34.9762,2,  34.9764,2,    251.4,2,   249.5,2,   18.46,2,   19.37,2,    0.00,2,    1.21,2,   0.248,2,   0.130,2,   0.010,2,  2166.0,2,  2316.2,2,   756.0,2,   20.00,   7.7324,2,    25.00,-999.000,9, -999.00,-999.000,9,-999.000,9,    1.14,2,   -75.2,2,     2.9,-999.000,9,-999.000,   0.503,4, -999.00,9, 1799.10,-999.0000,9,-999.0000,9,-999.0000,9,-999.0000,9,-999.0000,9,-999.0000,9,   3.5657,     -999.0,-999.000,     -999.0,          9,     -999.0,          9,-999.000,          9
 33RO200501,       A16S,     121,          1,         13,         13,2,20050221,       1521,    -2.3335,   -25.0002,       5264,  1998.7,   3.4346,  34.9654,2,  34.9648,2,    252.5,2,   252.0,2,   21.24,2,   19.46,2,    0.00,2,    1.24,2,   0.137,2,   0.072,2,   0.000,2,  2167.6,2,  2315.7,2,   750.6,2,   20.00,   7.7325,6,    25.00,-999.000,9, -999.00,-999.000,9,-999.000,9,    1.14,2,   -82.7,2,     2.6,-999.000,9,-999.000,   0.339,4,   41.54,2, 1998.70,-999.0000,9,-999.0000,9,-999.0000,9,-999.0000,9,-999.0000,9,-999.0000,9,   3.2756,     -999.0,-999.000,      0.000,          2,      0.000,          2,   0.007,          2
 33RO200501,       A16S,     121,          1,         12,         12,2,20050221,       1521,    -2.3335,   -25.0002,       5264,  2198.7,   3.1531,  34.9480,2,  34.9493,2,    250.1,2,   249.5,2,   26.38,2,   20.10,2,    0.00,2,    1.29,2,   0.058,2,   0.032,2,   0.000,2,  2172.7,2,  2322.4,2,   754.5,2,   20.00,   7.7328,2,    25.00,-999.000,9, -999.00,-999.000,9,-999.000,9,    1.16,2,   -89.3,2,     3.2,-999.000,9,-999.000,   0.187,4, -999.00,9, 2198.70,-999.0000,9,-999.0000,9,-999.0000,9,-999.0000,9,-999.0000,9,-999.0000,9,   2.9796,     -999.0,-999.000,     -999.0,          9,     -999.0,          9,-999.000,          9
 33RO200501,       A16S,     121,          1,         11,         11,2,20050221,       1521,    -2.3335,   -25.0002,       5264,  2398.3,   2.9755,  34.9375,2,  34.9391,2,    250.1,2,   248.8,2,   29.44,2,   20.36,2,    0.00,2,    1.31,2,   0.049,2,   0.034,2,   0.000,2,  2176.7,2,  2116.7,4,   755.8,2,   20.00,   7.7301,6,    25.00,-999.000,9, -999.00,-999.000,9,-999.000,9,    1.10,2,   -89.1,2,     3.1,-999.000,9,-999.000,   0.156,4,   41.01,2, 2398.30,-999.0000,9,-999.0000,9,-999.0000,9,-999.0000,9,-999.0000,9,-999.0000,9,   2.7859,     -999.0,-999.000,     -999.0,          9,     -999.0,          9,-999.000,          9
 33RO200501,       A16S,     121,          1,         10,         10,2,20050221,       1521,    -2.3335,   -25.0002,       5264,  2599.3,   2.8702,  34.9283,2,  34.9277,2,    246.5,2,   245.6,2,   32.69,2,   20.92,2,    0.00,2,    1.35,2,   0.028,2,   0.014,2,   0.000,2,  2181.4,2,  2330.6,2,  -999.0,9,   20.00,   7.7232,2,    25.00,-999.000,9, -999.00,-999.000,9,-999.000,9,    1.10,2,   -94.6,2,     2.8,-999.000,9,-999.000,   0.103,4,   41.14,2, 2599.30,-999.0000,9,-999.0000,9,-999.0000,9,-999.0000,9,-999.0000,9,-999.0000,9,   2.6630,     -999.0,-999.000,      3.997,          2,      1.699,          2,   0.023,          2
 33RO200501,       A16S,     121,          1,          9,          9,2,20050221,       1521,    -2.3335,   -25.0002,       5264,  2798.6,   2.7678,  34.9213,2,  34.9212,2,    246.5,2,   246.4,2,   34.73,2,   21.04,2,    0.00,2,    1.36,2,   0.022,2,   0.013,2,   0.002,2,  2183.2,2,  2334.2,2,   767.5,2,   20.00,   7.7268,6,    25.00,-999.000,9, -999.00,-999.000,9,-999.000,9,    1.08,2,  -101.2,2,     3.2,-999.000,9,-999.000,   0.096,4,   41.27,2, 2798.60,-999.0000,9,-999.0000,9,-999.0000,9,-999.0000,9,-999.0000,9,-999.0000,9,   2.5427,     -999.0,-999.000,     -999.0,          9,     -999.0,          9,-999.000,          9
 33RO200501,       A16S,     121,          1,          8,          8,2,20050221,       1521,    -2.3335,   -25.0002,       5264,  3099.4,   2.6288,  34.9120,2,  34.9116,2,    247.0,2,   247.3,2,   36.99,2,   21.12,2,    0.00,2,    1.37,2,   0.030,2,   0.020,2,   0.000,2,  2185.7,2,  2332.2,2,   768.5,2,   20.00,   7.7243,6,    25.00,-999.000,9, -999.00,-999.000,9,-999.000,9,    1.10,2,  -103.0,2,     2.7,-999.000,9,-999.000,   0.104,4,   40.84,2, 3099.40,-999.0000,9,-999.0000,9,-999.0000,9,-999.0000,9,-999.0000,9,-999.0000,9,   2.3759,     -999.0,-999.000,     -999.0,          9,     -999.0,          9,-999.000,          9