BOTTLE,20220818CCHSIOAMB
EXPOCODE,SECT_ID,STNNBR,CASTNO,SAMPNO,BTLNBR,BTLNBR_FLAG_W,DATE,TIME,LATITUDE,LONGITUDE,DEPTH,CTDPRS,CTDTMP,CTDSAL,CTDSAL_FLAG_W,SALNTY,SALNTY_FLAG_W,CTDOXY,CTDOXY_FLAG_W,OXYGEN,OXYGEN_FLAG_W,SILCAT,SILCAT_FLAG_W,NITRAT,NITRAT_FLAG_W,NITRIT,NITRIT_FLAG_W,PHSPHT,PHSPHT_FLAG_W,CFC-11,CFC-11_FLAG_W,CFC-12,CFC-12_FLAG_W,CFC113,CFC113_FLAG_W,TCARBN,TCARBN_FLAG_W,ALKALI,ALKALI_FLAG_W,PCO2,PCO2_FLAG_W,PCO2TMP,PH_SWS,PH_SWS_FLAG_W,PH_TMP,TRITUM,TRITUM_FLAG_W,TRITER,HELIUM,HELIUM_FLAG_W,DELHE3,DELHE3_FLAG_W,DELC13,DELC13_FLAG_W,DELC14,DELC14_FLAG_W,C14ERR,NEON,NEON_FLAG_W,NEONER,CCL4,CCL4_FLAG_W,DOC,DOC_FLAG_W,CTDRAW,CDOM325,CDOM325_FLAG_W,CDOM340,CDOM340_FLAG_W,CDOM380,CDOM380_FLAG_W,CDOM412,CDOM412_FLAG_W,CDOMSL,CDOMSL_FLAG_W,CDOMSN,CDOMSN_FLAG_W,THETA,HELIER,DELHER,CH3CL,CH3CL_FLAG_W,CH3BR,CH3BR_FLAG_W,CH3I,CH3I_FLAG_W
,,,,,,,,,,,METERS,DBAR,ITS-90,PSS-78,,PSS-78,,UMOL/KG,,UMOL/KG,,UMOL/KG,,UMOL/KG,,UMOL/KG,,UMOL/KG,,PMOL/KG,,PMOL/KG,,PMOL/KG,,UMOL/KG,,UMOL/KG,,UATM,,DEG C,,,DEG C,TU,,TU,NMOL/KG,,PERCNT,,/MILLE,,/MILLE,,/MILLE,NMOL/KG,,NMOL/KG,PMOL/KG,,UMOL/KG,,DBAR,1/M,,1/M,,1/M,,1/M,,1/NM,,1/NM,,DEG C,NMOL/KG,PERCNT,PMOL/KG,,PMOL/KG,,PMOL/KG,
 33RO200501,       A16S,      98,          1,         36,         36,2,20050214,       2052,   -13.5003,   -24.9978,       5160,     2.5,  27.4333,  36.8774,2,  36.8792,2,    200.3,2,   199.1,2,    0.49,2,    0.00,2,    0.00,2,    0.05,2,   1.625,2,   1.039,2,   0.133,2,  2065.1,6,  2416.6,3,  -999.0,9,   20.00,   8.0855,6,    25.00,-999.000,9, -999.00,-999.000,9,-999.000,9, -999.00,9,  -999.0,9,  -999.0,-999.000,9,-999.000,   1.399,4, -999.00,9,    2.50,-999.0000,9,-999.0000,9,-999.0000,9,-999.0000,9,-999.0000,9,-999.0000,9,  27.4327,     -999.0,-999.000,     56.734,          2,      0.877,          2,   3.236,          2
 33RO200501,       A16S,      98,          1,         35,         35,2,20050214,       2052,   -13.5003,   -24.9978,       5160,    23.2,  27.4167,  36.8880,2,  36.9177,2,    200.1,2,   201.7,2,    0.49,2,    0.00,2,    0.00,2,    0.05,2,-999.000,9,-999.000,9,-999.000,9,  -999.0,9,  -999.0,9,  -999.0,9,   20.00,-999.0000,9,    25.00,-999.000,9, -999.00,-999.000,9,-999.000,9, -999.00,9,  -999.0,9,  -999.0,-999.000,9,-999.000,-999.000,9, -999.00,9,   23.20,-999.0000,9,-999.0000,9,-999.0000,9,-999.0000,9,-999.0000,9,-999.0000,9,  27.4112,     -999.0,-999.000,     -999.0,          9,     -999.0,          9,-999.000,          9
 33RO200501,       A16S,      98,          1,         34,         34,2,20050214,       2052,   -13.5003,   -24.9978,       5160,    54.0,  24.8346,  37.0266,2,  37.0251,2,    217.2,2,   217.3,2,    0.29,2,    0.00,2,    0.00,2,    0.10,2,-999.000,9,-999.000,9,-999.000,9,  -999.0,9,  -999.0,9,  -999.0,9,   20.00,-999.0000,9,    25.00,-999.000,9, -999.00,-999.000,9,-999.000,9, -999.00,9,  -999.0,9,  -999.0,-999.000,9,-999.000,-999.000,9, -999.00,9,   54.00,-999.0000,9,-999.0000,9,-999.0000,9,-999.0000,9,-999.0000,9,-999.0000,9,  24.8229,     -999.0,-999.000,    215.483,          2,      0.878,          2,   5.409,          2
 33RO200501,       A16S,      98,          1,         33,         33,2,20050214,       2052,   -13.5003,   -24.9978,       5160,    83.4,  23.5579,  36.9841,2,  36.9719,2,    217.2,2,   215.9,2,    0.39,2,    0.00,2,    0.00,2,    0.15,2,-999.000,9,-999.000,9,-999.000,9,  -999.0,9,  -999.0,9,  -999.0,9,   20.00,-999.0000,9,    25.00,-999.000,9, -999.00,-999.000,9,-999.000,9, -999.00,9,  -999.0,9,  -999.0,-999.000,9,-999.000,-999.000,9, -999.00,9,   83.40,-999.0000,9,-999.0000,9,-999.0000,9,-999.0000,9,-999.0000,9,-999.0000,9,  23.5404,     -999.0,-999.000,     -999.0,          9,     -999.0,          9,-999.000,          9
 33RO200501,       A16S,      98,          1,         32,         32,2,20050214,       2052,   -13.5003,   -24.9978,       5160,   113.8,  22.5402,  36.8283,2,  36.7883,2,    205.0,2,   206.2,2,    0.49,2,    0.20,2,    0.02,2,    0.22,2,   2.017,2,   1.248,2,   0.140,2,  -999.0,9,  -999.0,9,  -999.0,9,   20.00,-999.0000,9,    25.00,-999.000,9, -999.00,-999.000,9,-999.000,9, -999.00,9,  -999.0,9,  -999.0,-999.000,9,-999.000,   0.953,4, -999.00,9,  113.80,-999.0000,9,-999.0000,9,-999.0000,9,-999.0000,9,-999.0000,9,-999.0000,9,  22.5171,     -999.0,-999.000,     64.535,          2,      0.204,          2,   2.161,          2
 33RO200501,       A16S,      98,          1,         31,         31,2,20050214,       2052,   -13.5003,   -24.9978,       5160,   163.4,  17.2907,  35.8839,2,  35.8335,2,    176.1,2,   177.1,2,    2.25,2,    8.11,2,    0.02,2,    0.66,2,-999.000,9,-999.000,9,-999.000,9,  2127.3,2,  2351.5,2,  -999.0,9,   20.00,   7.8833,2,    25.00,-999.000,9, -999.00,-999.000,9,-999.000,9, -999.00,9,  -999.0,9,  -999.0,-999.000,9,-999.000,-999.000,9, -999.00,9,  163.40,-999.0000,9,-999.0000,9,-999.0000,9,-999.0000,9,-999.0000,9,-999.0000,9,  17.2633,     -999.0,-999.000,     -999.0,          9,     -999.0,          9,-999.000,          9
 33RO200501,       A16S,      98,          1,         30,         30,2,20050214,       2052,   -13.5003,   -24.9978,       5160,   213.7,  14.0919,  35.3844,2,  35.3638,2,    159.0,2,   157.1,2,    4.49,2,   14.56,2,    0.01,2,    1.00,2,-999.000,9,-999.000,9,-999.000,9,  -999.0,9,  -999.0,9,  -999.0,9,   20.00,-999.0000,9,    25.00,-999.000,9, -999.00,-999.000,9,-999.000,9, -999.00,9,  -999.0,9,  -999.0,-999.000,9,-999.000,-999.000,9, -999.00,9,  213.70,-999.0000,9,-999.0000,9,-999.0000,9,-999.0000,9,-999.0000,9,-999.0000,9,  14.0607,     -999.0,-999.000,      4.294,          2,      0.100,          2,   0.037,          2
 33RO200501,       A16S,      98,          1,         29,         29,2,20050214,       2052,   -13.5003,   -24.9978,       5160,   263.1,  12.2719,  35.1380,2,  35.1300,2,    136.5,2,   139.4,2,    6.84,2,   19.64,2,    0.00,2,    1.28,2,   2.210,2,   1.209,2,   0.033,2,  -999.0,9,  -999.0,9,  -999.0,9,   20.00,-999.0000,9,    25.00,-999.000,9, -999.00,-999.000,9,-999.000,9, -999.00,9,  -999.0,9,  -999.0,-999.000,9,-999.000,   0.468,4, -999.00,9,  263.10,-999.0000,9,-999.0000,9,-999.0000,9,-999.0000,9,-999.0000,9,-999.0000,9,  12.2370,     -999.0,-999.000,     -999.0,          9,     -999.0,          9,-999.000,          9
 33RO200501,       A16S,      98,          1,         28,         28,2,20050214,       2052,   -13.5003,   -24.9978,       5160,   313.8,  10.4923,  34.9375,2,  34.9310,2,    116.1,2,   114.9,2,   10.65,2,   25.80,2,    0.00,2,    1.63,2,-999.000,9,-999.000,9,-999.000,9,  2193.4,2,  2298.4,2,  -999.0,9,   20.00,   7.6277,2,    25.00,-999.000,9, -999.00,-999.000,9,-999.000,9, -999.00,9,  -999.0,9,  -999.0,-999.000,9,-999.000,-999.000,9, -999.00,9,  313.80,-999.0000,9,-999.0000,9,-999.0000,9,-999.0000,9,-999.0000,9,-999.0000,9,  10.4545,     -999.0,-999.000,      7.192,          2,      0.424,          2,   0.027,          2
 33RO200501,       A16S,      98,          1,         27,         27,2,20050214,       2052,   -13.5003,   -24.9978,       5160,   363.6,   9.0595,  34.7947,2,  34.7896,2,    108.9,2,   107.5,2,   14.17,2,   29.61,2,    0.00,2,    1.85,2,-999.000,9,-999.000,9,-999.000,9,  -999.0,9,  -999.0,9,  -999.0,9,   20.00,-999.0000,9,    25.00,-999.000,9, -999.00,-999.000,9,-999.000,9, -999.00,9,  -999.0,9,  -999.0,-999.000,9,-999.000,-999.000,9, -999.00,9,  363.60,-999.0000,9,-999.0000,9,-999.0000,9,-999.0000,9,-999.0000,9,-999.0000,9,   9.0196,     -999.0,-999.000,     -999.0,          9,     -999.0,          9,-999.000,          9
 33RO200501,       A16S,      98,          1,         26,         26,2,20050214,       2052,   -13.5003,   -24.9978,       5160,   413.9,   8.0001,  34.6872,2,  34.6842,2,    121.0,2,   123.0,2,   16.23,2,   30.50,2,    0.00,2,    1.91,2,-999.000,9,-999.000,9,-999.000,9,  -999.0,9,  -999.0,9,  -999.0,9,   20.00,-999.0000,9,    25.00,-999.000,9, -999.00,-999.000,9,-999.000,9, -999.00,9,  -999.0,9,  -999.0,-999.000,9,-999.000,-999.000,9, -999.00,9,  413.90,-999.0000,9,-999.0000,9,-999.0000,9,-999.0000,9,-999.0000,9,-999.0000,9,   7.9578,     -999.0,-999.000,     -999.0,          9,     -999.0,          9,-999.000,          9
 33RO200501,       A16S,      98,          1,         25,         25,2,20050214,       2052,   -13.5003,   -24.9978,       5160,   463.9,   7.1853,  34.6092,2,  34.6103,2,    133.2,2,   133.8,2,   18.08,2,   30.99,2,    0.00,2,    1.94,2,-999.000,9,-999.000,9,-999.000,9,  -999.0,9,  -999.0,9,  -999.0,9,   20.00,-999.0000,9,    25.00,-999.000,9, -999.00,-999.000,9,-999.000,9, -999.00,9,  -999.0,9,  -999.0,-999.000,9,-999.000,-999.000,9, -999.00,9,  463.90,-999.0000,9,-999.0000,9,-999.0000,9,-999.0000,9,-999.0000,9,-999.0000,9,   7.1407,     -999.0,-999.000,      4.009,          2,      0.325,          2,   0.025,          2
 33RO200501,       A16S,      98,          1,         24,         24,2,20050214,       2052,   -13.5003,   -24.9978,       5160,   547.7,   5.7793,  34.4881,2,  34.4868,2,    152.9,2,   155.2,2,   22.68,2,   31.97,2,    0.00,2,    2.03,2,-999.000,9,-999.000,9,-999.000,9,  2203.3,2,  2295.0,2,  -999.0,9,   20.00,   7.5803,2,    25.00,-999.000,9, -999.00,-999.000,9,-999.000,9, -999.00,9,  -999.0,9,  -999.0,-999.000,9,-999.000,-999.000,9, -999.00,9,  547.70,-999.0000,9,-999.0000,9,-999.0000,9,-999.0000,9,-999.0000,9,-999.0000,9,   5.7322,     -999.0,-999.000,     -999.0,          9,     -999.0,          9,-999.000,          9
 33RO200501,       A16S,      98,          1,         23,         23,2,20050214,       2052,   -13.5003,   -24.9978,       5160,   649.5,   4.9924,  34.4408,2,  34.4389,2,    165.2,2,   165.0,2,   27.08,2,   32.55,2,    0.00,2,    2.09,2,-999.000,9,-999.000,9,-999.000,9,  -999.0,9,  -999.0,9,  -999.0,9,   20.00,-999.0000,9,    25.00,-999.000,9, -999.00,-999.000,9,-999.000,9, -999.00,9,  -999.0,9,  -999.0,-999.000,9,-999.000,-999.000,9, -999.00,9,  649.50,-999.0000,9,-999.0000,9,-999.0000,9,-999.0000,9,-999.0000,9,-999.0000,9,   4.9401,     -999.0,-999.000,     -999.0,          9,     -999.0,          9,-999.000,          9
 33RO200501,       A16S,      98,          1,         22,         22,2,20050214,       2052,   -13.5003,   -24.9978,       5160,   748.7,   4.5549,  34.4390,2,  34.4374,2,    167.1,2,   166.1,2,   30.80,2,   33.24,2,    0.00,2,    2.14,2,-999.000,9,-999.000,9,-999.000,9,  -999.0,9,  -999.0,9,  -999.0,9,   20.00,-999.0000,9,    25.00,-999.000,9, -999.00,-999.000,9,-999.000,9, -999.00,9,  -999.0,9,  -999.0,-999.000,9,-999.000,-999.000,9, -999.00,9,  748.70,-999.0000,9,-999.0000,9,-999.0000,9,-999.0000,9,-999.0000,9,-999.0000,9,   4.4966,     -999.0,-999.000,      3.558,          2,      0.318,          2,   0.012,          2
 33RO200501,       A16S,      98,          1,         21,         21,2,20050214,       2052,   -13.5003,   -24.9978,       5160,   849.0,   4.1612,  34.4651,2,  34.4639,2,    169.0,2,   168.5,2,   34.61,2,   33.43,2,    0.00,2,    2.16,2,   0.141,2,   0.068,2,   0.008,2,  -999.0,9,  -999.0,9,  -999.0,9,   20.00,-999.0000,9,    25.00,-999.000,9, -999.00,-999.000,9,-999.000,9, -999.00,9,  -999.0,9,  -999.0,-999.000,9,-999.000,   0.288,4, -999.00,9,  849.00,-999.0000,9,-999.0000,9,-999.0000,9,-999.0000,9,-999.0000,9,-999.0000,9,   4.0969,     -999.0,-999.000,     -999.0,          9,     -999.0,          9,-999.000,          9
 33RO200501,       A16S,      98,          1,         20,         20,2,20050214,       2052,   -13.5003,   -24.9978,       5160,   949.5,   3.9732,  34.5176,2,  34.5171,2,    171.4,2,   170.1,2,   36.37,2,   32.85,2,    0.00,2,    2.13,2,-999.000,9,-999.000,9,-999.000,9,  2217.1,2,  2309.5,2,  -999.0,9,   20.00,   7.5789,2,    25.00,-999.000,9, -999.00,-999.000,9,-999.000,9, -999.00,9,  -999.0,9,  -999.0,-999.000,9,-999.000,-999.000,9, -999.00,9,  949.50,-999.0000,9,-999.0000,9,-999.0000,9,-999.0000,9,-999.0000,9,-999.0000,9,   3.9019,     -999.0,-999.000,     -999.0,          9,     -999.0,          9,-999.000,          9
 33RO200501,       A16S,      98,          1,         19,         19,2,20050214,       2052,   -13.5003,   -24.9978,       5160,  1048.3,   3.9158,  34.5807,2,  34.5789,2,    174.6,2,   174.2,2,   36.07,2,   31.87,2,    0.00,2,    2.06,2,-999.000,9,-999.000,9,-999.000,9,  -999.0,9,  -999.0,9,  -999.0,9,   20.00,-999.0000,9,    25.00,-999.000,9, -999.00,-999.000,9,-999.000,9, -999.00,9,  -999.0,9,  -999.0,-999.000,9,-999.000,-999.000,9, -999.00,9, 1048.30,-999.0000,9,-999.0000,9,-999.0000,9,-999.0000,9,-999.0000,9,-999.0000,9,   3.8367,     -999.0,-999.000,      3.960,          2,      0.683,          2,   0.009,          2
 33RO200501,       A16S,      98,          1,         18,         18,2,20050214,       2052,   -13.5003,   -24.9978,       5160,  1150.0,   3.9532,  34.6609,2,  34.6599,2,    179.0,2,   178.3,2,   33.92,2,   30.40,2,    0.00,2,    1.96,2,-999.000,9,-999.000,9,-999.000,9,  -999.0,9,  -999.0,9,  -999.0,9,   20.00,-999.0000,9,    25.00,-999.000,9, -999.00,-999.000,9,-999.000,9, -999.00,9,  -999.0,9,  -999.0,-999.000,9,-999.000,-999.000,9, -999.00,9, 1150.00,-999.0000,9,-999.0000,9,-999.0000,9,-999.0000,9,-999.0000,9,-999.0000,9,   3.8650,     -999.0,-999.000,     -999.0,          9,     -999.0,          9,-999.000,          9
 33RO200501,       A16S,      98,          1,         17,         17,2,20050214,       2052,   -13.5003,   -24.9978,       5160,  1247.4,   4.0442,  34.7609,2,  34.7627,2,    186.5,2,   188.1,2,   29.91,2,   28.15,2,    0.00,2,    1.81,2,-999.000,9,-999.000,9,-999.000,9,  -999.0,9,  -999.0,9,  -999.0,9,   20.00,-999.0000,9,    25.00,-999.000,9, -999.00,-999.000,9,-999.000,9, -999.00,9,  -999.0,9,  -999.0,-999.000,9,-999.000,-999.000,9, -999.00,9, 1247.40,-999.0000,9,-999.0000,9,-999.0000,9,-999.0000,9,-999.0000,9,-999.0000,9,   3.9465,     -999.0,-999.000,     -999.0,          9,     -999.0,          9,-999.000,          9
 33RO200501,       A16S,      98,          1,         16,         16,2,20050214,       2052,   -13.5003,   -24.9978,       5160,  1398.9,   4.0727,  34.8539,2,  34.8533,2,    201.4,2,   204.5,2,   25.90,2,   25.41,2,    0.00,2,    1.61,2,   0.023,2,   0.011,2,   0.004,2,  -999.0,9,  -999.0,9,  -999.0,9,   20.00,-999.0000,9,    25.00,-999.000,9, -999.00,-999.000,9,-999.000,9, -999.00,9,  -999.0,9,  -999.0,-999.000,9,-999.000,   0.078,4, -999.00,9, 1398.90,-999.0000,9,-999.0000,9,-999.0000,9,-999.0000,9,-999.0000,9,-999.0000,9,   3.9611,     -999.0,-999.000,      3.716,          2,      0.450,          2,   0.016,          2
 33RO200501,       A16S,      98,          1,         15,         15,2,20050214,       2052,   -13.5003,   -24.9978,       5160,  1599.6,   3.9490,  34.9200,2,  34.9194,2,    223.6,2,   223.9,2,   23.06,2,   22.77,2,    0.00,2,    1.43,2,-999.000,9,-999.000,9,-999.000,9,  -999.0,9,  -999.0,9,  -999.0,9,   20.00,-999.0000,9,    25.00,-999.000,9, -999.00,-999.000,9,-999.000,9, -999.00,9,  -999.0,9,  -999.0,-999.000,9,-999.000,-999.000,9, -999.00,9, 1599.60,-999.0000,9,-999.0000,9,-999.0000,9,-999.0000,9,-999.0000,9,-999.0000,9,   3.8204,     -999.0,-999.000,     -999.0,          9,     -999.0,          9,-999.000,          9
 33RO200501,       A16S,      98,          1,         14,         14,2,20050214,       2052,   -13.5003,   -24.9978,       5160,  1799.4,   3.6124,  34.9402,2,  34.9403,2,    238.6,2,   238.7,2,   23.94,2,   21.30,2,    0.00,2,    1.34,2,   0.037,2,   0.020,2,   0.000,2,  -999.0,9,  -999.0,9,  -999.0,9,   20.00,-999.0000,9,    25.00,-999.000,9, -999.00,-999.000,9,-999.000,9, -999.00,9,  -999.0,9,  -999.0,-999.000,9,-999.000,   0.132,4, -999.00,9, 1799.40,-999.0000,9,-999.0000,9,-999.0000,9,-999.0000,9,-999.0000,9,-999.0000,9,   3.4696,     -999.0,-999.000,     -999.0,          9,     -999.0,          9,-999.000,          9
 33RO200501,       A16S,      98,          1,         13,         13,2,20050214,       2052,   -13.5003,   -24.9978,       5160,  1994.0,   3.2953,  34.9313,2,  34.9318,2,    242.5,2,   242.5,2,   28.05,2,   21.30,2,    0.00,2,    1.35,2,-999.000,9,-999.000,9,-999.000,9,  -999.0,9,  -999.0,9,  -999.0,9,   20.00,-999.0000,9,    25.00,-999.000,9, -999.00,-999.000,9,-999.000,9, -999.00,9,  -999.0,9,  -999.0,-999.000,9,-999.000,-999.000,9, -999.00,9, 1994.00,-999.0000,9,-999.0000,9,-999.0000,9,-999.0000,9,-999.0000,9,-999.0000,9,   3.1389,     -999.0,-999.000,      6.219,          2,      0.183,          2,   0.010,          2
 33RO200501,       A16S,      98,          1,         12,         12,2,20050214,       2052,   -13.5003,   -24.9978,       5160,  2199.2,   2.9999,  34.9164,2,  34.9155,2,    242.3,2,   242.5,2,   33.62,2,   21.70,2,    0.00,2,    1.39,2,   0.010,2,   0.007,2,   0.000,2,  2177.3,2,  2325.4,2,  -999.0,9,   20.00,   7.7203,2,    25.00,-999.000,9, -999.00,-999.000,9,-999.000,9, -999.00,9,  -999.0,9,  -999.0,-999.000,9,-999.000,   0.042,4, -999.00,9, 2199.20,-999.0000,9,-999.0000,9,-999.0000,9,-999.0000,9,-999.0000,9,-999.0000,9,   2.8290,     -999.0,-999.000,     -999.0,          9,     -999.0,          9,-999.000,          9
 33RO200501,       A16S,      98,          1,         11,         11,2,20050214,       2052,   -13.5003,   -24.9978,       5160,  2399.1,   2.8807,  34.9116,2,  34.9151,2,    243.1,2,   242.7,2,   35.77,2,   21.79,2,    0.01,2,    1.41,2,-999.000,9,-999.000,9,-999.000,9,  -999.0,9,  -999.0,9,  -999.0,9,   20.00,-999.0000,9,    25.00,-999.000,9, -999.00,-999.000,9,-999.000,9, -999.00,9,  -999.0,9,  -999.0,-999.000,9,-999.000,-999.000,9, -999.00,9, 2399.10,-999.0000,9,-999.0000,9,-999.0000,9,-999.0000,9,-999.0000,9,-999.0000,9,   2.6928,     -999.0,-999.000,     -999.0,          9,     -999.0,          9,-999.000,          9
 33RO200501,       A16S,      98,          1,         10,         10,2,20050214,       2052,   -13.5003,   -24.9978,       5160,  2599.2,   2.7755,  34.9081,2,  34.9076,2,    243.6,2,   243.5,2,   37.82,2,   21.79,2,    0.01,2,    1.42,2,-999.000,9,-999.000,9,-999.000,9,  -999.0,9,  -999.0,9,  -999.0,9,   20.00,-999.0000,9,    25.00,-999.000,9, -999.00,-999.000,9,-999.000,9, -999.00,9,  -999.0,9,  -999.0,-999.000,9,-999.000,-999.000,9, -999.00,9, 2599.20,-999.0000,9,-999.0000,9,-999.0000,9,-999.0000,9,-999.0000,9,-999.0000,9,   2.5702,     -999.0,-999.000,      4.062,          2,      0.240,          2,   0.015,          2
 33RO200501,       A16S,      98,          1,          9,          9,2,20050214,       2052,   -13.5003,   -24.9978,       5160,  2799.2,   2.7184,  34.9059,2,  34.9061,2,    243.6,2,   243.8,2,   38.90,2,   21.89,2,    0.01,2,    1.42,2,-999.000,9,-999.000,9,-999.000,9,  -999.0,9,  -999.0,9,  -999.0,9,   20.00,-999.0000,9,    25.00,-999.000,9, -999.00,-999.000,9,-999.000,9, -999.00,9,  -999.0,9,  -999.0,-999.000,9,-999.000,-999.000,9, -999.00,9, 2799.20,-999.0000,9,-999.0000,9,-999.0000,9,-999.0000,9,-999.0000,9,-999.0000,9,   2.4943,     -999.0,-999.000,     -999.0,          9,     -999.0,          9,-999.000,          9
 33RO200501,       A16S,      98,          1,          8,          8,2,20050214,       2052,   -13.5003,   -24.9978,       5160,  3049.2,   2.6440,  34.9025,2,  34.9019,2,    244.0,2,   244.2,2,   40.56,2,   21.89,2,    0.01,2,    1.43,2,   0.012,2,   0.007,2,   0.000,2,  -999.0,9,  -999.0,9,  -999.0,9,   20.00,-999.0000,9,    25.00,-999.000,9, -999.00,-999.000,9,-999.000,9, -999.00,9,  -999.0,9,  -999.0,-999.000,9,-999.000,   0.032,4, -999.00,9, 3049.20,-999.0000,9,-999.0000,9,-999.0000,9,-999.0000,9,-999.0000,9,-999.0000,9,   2.3961,     -999.0,-999.000,      2.641,          2,      0.332,          2,   0.012,          2