BOTTLE,20220818CCHSIOAMB
EXPOCODE,SECT_ID,STNNBR,CASTNO,SAMPNO,BTLNBR,BTLNBR_FLAG_W,DATE,TIME,LATITUDE,LONGITUDE,DEPTH,CTDPRS,CTDTMP,CTDSAL,CTDSAL_FLAG_W,SALNTY,SALNTY_FLAG_W,CTDOXY,CTDOXY_FLAG_W,OXYGEN,OXYGEN_FLAG_W,SILCAT,SILCAT_FLAG_W,NITRAT,NITRAT_FLAG_W,NITRIT,NITRIT_FLAG_W,PHSPHT,PHSPHT_FLAG_W,CFC-11,CFC-11_FLAG_W,CFC-12,CFC-12_FLAG_W,CFC113,CFC113_FLAG_W,TCARBN,TCARBN_FLAG_W,ALKALI,ALKALI_FLAG_W,PCO2,PCO2_FLAG_W,PCO2TMP,PH_SWS,PH_SWS_FLAG_W,PH_TMP,TRITUM,TRITUM_FLAG_W,TRITER,HELIUM,HELIUM_FLAG_W,DELHE3,DELHE3_FLAG_W,DELC13,DELC13_FLAG_W,DELC14,DELC14_FLAG_W,C14ERR,NEON,NEON_FLAG_W,NEONER,CCL4,CCL4_FLAG_W,DOC,DOC_FLAG_W,CTDRAW,CDOM325,CDOM325_FLAG_W,CDOM340,CDOM340_FLAG_W,CDOM380,CDOM380_FLAG_W,CDOM412,CDOM412_FLAG_W,CDOMSL,CDOMSL_FLAG_W,CDOMSN,CDOMSN_FLAG_W,THETA,HELIER,DELHER,CH3CL,CH3CL_FLAG_W,CH3BR,CH3BR_FLAG_W,CH3I,CH3I_FLAG_W
,,,,,,,,,,,METERS,DBAR,ITS-90,PSS-78,,PSS-78,,UMOL/KG,,UMOL/KG,,UMOL/KG,,UMOL/KG,,UMOL/KG,,UMOL/KG,,PMOL/KG,,PMOL/KG,,PMOL/KG,,UMOL/KG,,UMOL/KG,,UATM,,DEG C,,,DEG C,TU,,TU,NMOL/KG,,PERCNT,,/MILLE,,/MILLE,,/MILLE,NMOL/KG,,NMOL/KG,PMOL/KG,,UMOL/KG,,DBAR,1/M,,1/M,,1/M,,1/M,,1/NM,,1/NM,,DEG C,NMOL/KG,PERCNT,PMOL/KG,,PMOL/KG,,PMOL/KG,
 33RO200501,       A16S,     105,          1,         36,         36,2,20050216,       2300,    -9.9995,   -25.0007,       5595,     2.3,  27.4503,  36.7460,2,  36.7468,2,   -999.0,9,   199.2,2,    1.17,2,    0.00,2,    0.00,2,    0.03,2,   1.629,6,   1.050,6,   0.134,6,  2061.3,6,  2409.0,2,   296.9,2,   20.00,   8.0822,2,    25.00,-999.000,9, -999.00,-999.000,9,-999.000,9, -999.00,9,  -999.0,9,  -999.0,-999.000,9,-999.000,   1.339,4,   71.51,2,    2.30,-999.0000,9,-999.0000,9,-999.0000,9,-999.0000,9,-999.0000,9,-999.0000,9,  27.4497,     -999.0,-999.000,     -999.0,          9,     -999.0,          9,-999.000,          9
 33RO200501,       A16S,     105,          1,         35,         35,2,20050216,       2300,    -9.9995,   -25.0007,       5595,    24.1,  27.4576,  36.7457,2,  36.7464,2,    214.6,2,   199.3,2,    1.17,2,    0.00,2,    0.00,2,    0.02,2,   1.633,2,   1.055,2,   0.129,2,  2060.7,2,  2408.5,6,  -999.0,9,   20.00,   8.0822,6,    25.00,-999.000,9, -999.00,-999.000,9,-999.000,9, -999.00,9,  -999.0,9,  -999.0,-999.000,9,-999.000,   1.362,4,   71.66,2,   24.10,-999.0000,9,-999.0000,9,-999.0000,9,-999.0000,9,-999.0000,9,-999.0000,9,  27.4520,     -999.0,-999.000,     -999.0,          9,     -999.0,          9,-999.000,          9
 33RO200501,       A16S,     105,          1,         34,         34,2,20050216,       2300,    -9.9995,   -25.0007,       5595,    49.0,  27.4193,  36.7442,2,  36.7484,2,    214.6,2,   200.6,2,    1.17,2,    0.00,2,    0.00,2,    0.06,2,-999.000,9,-999.000,9,-999.000,9,  2061.5,2,  2409.2,2,   297.7,2,   20.00,   8.0820,2,    25.00,-999.000,9, -999.00,-999.000,9,-999.000,9, -999.00,9,  -999.0,9,  -999.0,-999.000,9,-999.000,-999.000,9,   71.11,2,   49.00,-999.0000,9,-999.0000,9,-999.0000,9,-999.0000,9,-999.0000,9,-999.0000,9,  27.4078,     -999.0,-999.000,     -999.0,          9,     -999.0,          9,-999.000,          9
 33RO200501,       A16S,     105,          1,         33,         33,2,20050216,       2300,    -9.9995,   -25.0007,       5595,    74.5,  24.7717,  36.9111,2,  36.9185,2,    215.3,2,   215.6,2,    1.17,2,    0.00,2,    0.00,2,    0.06,2,   1.851,2,   1.181,2,   0.141,2,  2070.8,2,  2419.3,2,  -999.0,9,   20.00,   8.0775,2,    25.00,-999.000,9, -999.00,-999.000,9,-999.000,9, -999.00,9,  -999.0,9,  -999.0,-999.000,9,-999.000,   1.133,4,   67.58,2,   74.50,-999.0000,9,-999.0000,9,-999.0000,9,-999.0000,9,-999.0000,9,-999.0000,9,  24.7555,     -999.0,-999.000,     -999.0,          9,     -999.0,          9,-999.000,          9
 33RO200501,       A16S,     105,          1,         32,         32,2,20050216,       2300,    -9.9995,   -25.0007,       5595,    98.5,  23.7471,  36.9770,2,  36.9455,2,    213.7,2,   212.3,2,    1.17,2,    0.10,2,    0.00,2,    0.11,2,   1.933,2,   1.217,2,   0.149,2,  2088.1,2,  2423.2,2,   326.0,2,   20.00,   8.0309,2,    25.00,-999.000,9, -999.00,-999.000,9,-999.000,9, -999.00,9,  -999.0,9,  -999.0,-999.000,9,-999.000,   1.079,4,   60.72,2,   98.50,-999.0000,9,-999.0000,9,-999.0000,9,-999.0000,9,-999.0000,9,-999.0000,9,  23.7263,     -999.0,-999.000,     -999.0,          9,     -999.0,          9,-999.000,          9
 33RO200501,       A16S,     105,          1,         31,         31,2,20050216,       2300,    -9.9995,   -25.0007,       5595,   148.3,  18.2382,  36.0330,2,  35.9659,2,    172.7,2,   148.5,2,    3.71,2,   10.64,2,    0.09,2,    0.80,2,-999.000,9,-999.000,9,-999.000,9,  2146.3,2,  2359.3,2,   549.2,2,   20.00,   7.8565,2,    25.00,-999.000,9, -999.00,-999.000,9,-999.000,9, -999.00,9,  -999.0,9,  -999.0,-999.000,9,-999.000,-999.000,9,   56.80,2,  148.30,-999.0000,9,-999.0000,9,-999.0000,9,-999.0000,9,-999.0000,9,-999.0000,9,  18.2124,     -999.0,-999.000,     -999.0,          9,     -999.0,          9,-999.000,          9
 33RO200501,       A16S,     105,          1,         30,         30,2,20050216,       2300,    -9.9995,   -25.0007,       5595,   198.7,  13.5835,  35.3740,2,  35.3220,2,    108.3,2,   106.1,2,    8.11,2,   21.98,2,    0.01,2,    1.41,2,   1.749,2,   0.973,2,   0.025,2,  2185.7,2,  2321.8,2,  -999.0,9,   20.00,   7.6929,2,    25.00,-999.000,9, -999.00,-999.000,9,-999.000,9, -999.00,9,  -999.0,9,  -999.0,-999.000,9,-999.000,   0.301,4,   48.75,2,  198.70,-999.0000,9,-999.0000,9,-999.0000,9,-999.0000,9,-999.0000,9,-999.0000,9,  13.5553,     -999.0,-999.000,     -999.0,          9,     -999.0,          9,-999.000,          9
 33RO200501,       A16S,     105,          1,         29,         29,2,20050216,       2300,    -9.9995,   -25.0007,       5595,   249.8,  10.7971,  35.0112,2,  35.0091,2,    101.9,2,   102.9,2,   11.33,2,   26.47,2,    0.01,2,    1.68,2,-999.000,9,-999.000,9,-999.000,9,  2198.2,2,  2306.4,2,   998.7,2,   20.00,   7.6172,2,    25.00,-999.000,9, -999.00,-999.000,9,-999.000,9, -999.00,9,  -999.0,9,  -999.0,-999.000,9,-999.000,-999.000,9,   47.69,2,  249.80,-999.0000,9,-999.0000,9,-999.0000,9,-999.0000,9,-999.0000,9,-999.0000,9,  10.7666,     -999.0,-999.000,     -999.0,          9,     -999.0,          9,-999.000,          9
 33RO200501,       A16S,     105,          1,         28,         28,2,20050216,       2300,    -9.9995,   -25.0007,       5595,   291.1,   9.8290,  34.9039,2,  34.8973,2,     93.6,2,    82.2,2,   14.07,2,   30.77,2,    0.01,2,    1.91,2,-999.000,9,-999.000,9,-999.000,9,  2217.3,2,  2301.3,2,  -999.0,9,   20.00,   7.5533,2,    25.00,-999.000,9, -999.00,-999.000,9,-999.000,9, -999.00,9,  -999.0,9,  -999.0,-999.000,9,-999.000,-999.000,9,   46.22,2,  291.10,-999.0000,9,-999.0000,9,-999.0000,9,-999.0000,9,-999.0000,9,-999.0000,9,   9.7954,     -999.0,-999.000,     -999.0,          9,     -999.0,          9,-999.000,          9
 33RO200501,       A16S,     105,          1,         27,         27,2,20050216,       2300,    -9.9995,   -25.0007,       5595,   348.8,   8.7412,  34.7871,2,  34.7856,2,     88.2,2,    87.2,2,   16.22,2,   32.44,2,    0.01,2,    2.02,2,   0.549,2,   0.296,2,   0.002,2,  2223.0,2,  2298.2,2,  1223.8,2,   20.00,   7.5375,2,    25.00,-999.000,9, -999.00,-999.000,9,-999.000,9, -999.00,9,  -999.0,9,  -999.0,-999.000,9,-999.000,   0.231,4,   44.51,2,  348.80,-999.0000,9,-999.0000,9,-999.0000,9,-999.0000,9,-999.0000,9,-999.0000,9,   8.7037,     -999.0,-999.000,     -999.0,          9,     -999.0,          9,-999.000,          9
 33RO200501,       A16S,     105,          1,         26,         26,2,20050216,       2300,    -9.9995,   -25.0007,       5595,   398.5,   8.0732,  34.7172,2,  34.7140,2,     96.2,2,    93.7,2,   17.59,6,   33.32,6,    0.00,6,    2.07,6,   0.454,2,   0.249,2,   0.004,2,  2220.3,2,  2297.1,2,  1254.8,2,   20.00,   7.5294,2,    25.00,-999.000,9, -999.00,-999.000,9,-999.000,9, -999.00,9,  -999.0,9,  -999.0,-999.000,9,-999.000,   0.261,4,   43.62,2,  398.50,-999.0000,9,-999.0000,9,-999.0000,9,-999.0000,9,-999.0000,9,-999.0000,9,   8.0323,     -999.0,-999.000,     -999.0,          9,     -999.0,          9,-999.000,          9
 33RO200501,       A16S,     105,          1,         25,         25,2,20050216,       2300,    -9.9995,   -25.0007,       5595,   498.4,   7.0108,  34.6153,2,  34.6156,2,    108.2,2,   106.1,2,   20.52,6,   34.30,6,    0.00,6,    2.15,6,   0.322,2,   0.162,2,   0.005,2,  2224.4,2,  2288.4,2,  1268.0,2,   20.00,   7.5241,2,    25.00,-999.000,9, -999.00,-999.000,9,-999.000,9, -999.00,9,  -999.0,9,  -999.0,-999.000,9,-999.000,   0.275,4,   42.60,2,  498.40,-999.0000,9,-999.0000,9,-999.0000,9,-999.0000,9,-999.0000,9,-999.0000,9,   6.9633,     -999.0,-999.000,     -999.0,          9,     -999.0,          9,-999.000,          9
 33RO200501,       A16S,     105,          1,         24,         24,2,20050216,       2300,    -9.9995,   -25.0007,       5595,   598.5,   5.8403,  34.5084,2,  34.5080,2,    138.4,2,   137.4,2,   24.04,6,   33.72,6,    0.00,6,    2.16,6,   0.413,2,   0.223,2,   0.009,2,  2215.7,3,  2289.0,2,  1183.9,2,   20.00,   7.5525,2,    25.00,-999.000,9, -999.00,-999.000,9,-999.000,9, -999.00,9,  -999.0,9,  -999.0,-999.000,9,-999.000,   0.475,4, -999.00,9,  598.50,-999.0000,9,-999.0000,9,-999.0000,9,-999.0000,9,-999.0000,9,-999.0000,9,   5.7883,     -999.0,-999.000,     -999.0,          9,     -999.0,          9,-999.000,          9
 33RO200501,       A16S,     105,          1,         23,         23,2,20050216,       2300,    -9.9995,   -25.0007,       5595,   699.3,   5.0830,  34.4678,2,  34.4673,2,    156.3,2,   149.2,2,   28.05,6,   33.91,6,    0.00,6,    2.19,6,   0.322,2,   0.168,2,   0.006,2,  2215.9,3,  2291.9,2,  1172.3,2,   20.00,   7.5562,2,    25.00,-999.000,9, -999.00,-999.000,9,-999.000,9, -999.00,9,  -999.0,9,  -999.0,-999.000,9,-999.000,   0.451,4,   40.37,2,  699.30,-999.0000,9,-999.0000,9,-999.0000,9,-999.0000,9,-999.0000,9,-999.0000,9,   5.0259,     -999.0,-999.000,     -999.0,          9,     -999.0,          9,-999.000,          9
 33RO200501,       A16S,     105,          1,         21,         21,2,20050216,       2300,    -9.9995,   -25.0007,       5595,   898.4,   4.2400,  34.5041,2,  34.5062,2,    162.3,2,   159.4,2,   34.69,2,   33.72,2,    0.00,2,    2.20,2,   0.066,2,   0.052,2,   0.004,2,  2222.7,2,  2299.2,2,  1152.4,2,   20.00,   7.5631,2,    25.00,-999.000,9, -999.00,-999.000,9,-999.000,9, -999.00,9,  -999.0,9,  -999.0,-999.000,9,-999.000,   0.185,4, -999.00,9,  898.40,-999.0000,9,-999.0000,9,-999.0000,9,-999.0000,9,-999.0000,9,-999.0000,9,   4.1711,     -999.0,-999.000,     -999.0,          9,     -999.0,          9,-999.000,          9
 33RO200501,       A16S,     105,          1,         22,         22,2,20050216,       2300,    -9.9995,   -25.0007,       5595,   898.6,   4.2393,  34.5030,2,  34.5046,2,    162.3,2,   160.0,2,   34.69,2,   33.72,2,    0.00,2,    2.19,2,   0.083,2,   0.042,2,   0.000,2,  2223.7,2,  2298.8,2,  1152.7,2,   20.00,   7.5613,2,    25.00,-999.000,9, -999.00,-999.000,9,-999.000,9, -999.00,9,  -999.0,9,  -999.0,-999.000,9,-999.000,   0.189,4,   39.70,2,  898.60,-999.0000,9,-999.0000,9,-999.0000,9,-999.0000,9,-999.0000,9,-999.0000,9,   4.1703,     -999.0,-999.000,     -999.0,          9,     -999.0,          9,-999.000,          9
 33RO200501,       A16S,     105,          1,         20,         20,2,20050216,       2300,    -9.9995,   -25.0007,       5595,   998.8,   3.9818,  34.5505,2,  34.5500,2,    168.6,2,   170.2,2,   36.06,6,   32.35,6,    0.00,6,    2.13,6,   0.090,2,   0.045,2,   0.001,2,  2216.2,6,  2309.5,2,  1101.0,2,   20.00,   7.5826,2,    25.00,-999.000,9, -999.00,-999.000,9,-999.000,9, -999.00,9,  -999.0,9,  -999.0,-999.000,9,-999.000,   0.190,4, -999.00,9,  998.80,-999.0000,9,-999.0000,9,-999.0000,9,-999.0000,9,-999.0000,9,-999.0000,9,   3.9063,     -999.0,-999.000,     -999.0,          9,     -999.0,          9,-999.000,          9
 33RO200501,       A16S,     105,          1,         19,         19,2,20050216,       2300,    -9.9995,   -25.0007,       5595,  1098.8,   4.0391,  34.6416,2,  34.6427,2,    175.4,2,   174.6,2,   34.01,2,   30.88,2,    0.00,2,    2.02,2,   0.038,2,   0.015,2,   0.000,2,  2215.0,2,  2308.9,6,  1055.4,2,   20.00,   7.6005,6,    25.00,-999.000,9, -999.00,-999.000,9,-999.000,9, -999.00,9,  -999.0,9,  -999.0,-999.000,9,-999.000,   0.108,4,   39.89,2, 1098.80,-999.0000,9,-999.0000,9,-999.0000,9,-999.0000,9,-999.0000,9,-999.0000,9,   3.9546,     -999.0,-999.000,     -999.0,          9,     -999.0,          9,-999.000,          9
 33RO200501,       A16S,     105,          1,         18,         18,2,20050216,       2300,    -9.9995,   -25.0007,       5595,  1199.4,   4.0953,  34.7272,2,  34.7272,2,    182.8,2,   181.8,2,   30.97,2,   29.02,2,    0.00,2,    1.89,2,   0.008,2,   0.017,2,   0.002,2,  2210.0,2,  2311.4,2,  1000.3,2,   20.00,   7.6203,2,    25.00,-999.000,9, -999.00,-999.000,9,-999.000,9, -999.00,9,  -999.0,9,  -999.0,-999.000,9,-999.000,   0.070,4, -999.00,9, 1199.40,-999.0000,9,-999.0000,9,-999.0000,9,-999.0000,9,-999.0000,9,-999.0000,9,   4.0014,     -999.0,-999.000,     -999.0,          9,     -999.0,          9,-999.000,          9
 33RO200501,       A16S,     105,          1,         17,         17,2,20050216,       2300,    -9.9995,   -25.0007,       5595,  1399.7,   4.1341,  34.8615,2,  34.8668,2,    204.4,2,   204.1,2,   25.11,2,   25.11,2,    0.00,2,    1.62,2,   0.021,2,   0.020,2,  -0.001,2,  2193.1,2,  2313.1,2,   890.4,2,   20.00,   7.6684,2,    25.00,-999.000,9, -999.00,-999.000,9,-999.000,9, -999.00,9,  -999.0,9,  -999.0,-999.000,9,-999.000,   0.101,4,   39.61,2, 1399.70,-999.0000,9,-999.0000,9,-999.0000,9,-999.0000,9,-999.0000,9,-999.0000,9,   4.0218,     -999.0,-999.000,     -999.0,          9,     -999.0,          9,-999.000,          9
 33RO200501,       A16S,     105,          1,         16,         16,2,20050216,       2300,    -9.9995,   -25.0007,       5595,  1598.9,   3.9130,  34.9518,2,  34.9516,2,    233.3,2,   234.4,2,   20.71,2,   21.20,2,    0.00,2,    1.34,2,   0.080,2,   0.046,2,   0.003,2,  2169.9,2,  2316.1,2,   786.4,2,   20.00,   7.7159,2,    25.00,-999.000,9, -999.00,-999.000,9,-999.000,9, -999.00,9,  -999.0,9,  -999.0,-999.000,9,-999.000,   0.236,4, -999.00,9, 1598.90,-999.0000,9,-999.0000,9,-999.0000,9,-999.0000,9,-999.0000,9,-999.0000,9,   3.7848,     -999.0,-999.000,     -999.0,          9,     -999.0,          9,-999.000,          9
 33RO200501,       A16S,     105,          1,         15,         15,2,20050216,       2300,    -9.9995,   -25.0007,       5595,  1799.4,   3.5946,  34.9620,2,  34.9644,2,    246.3,2,   246.4,2,   21.39,2,   20.03,2,    0.00,2,    1.26,2,   0.078,2,   0.060,2,   0.003,2,  2168.3,2,  2314.5,2,   755.5,2,   20.00,   7.7303,2,    25.00,-999.000,9, -999.00,-999.000,9,-999.000,9, -999.00,9,  -999.0,9,  -999.0,-999.000,9,-999.000,   0.274,4,   39.74,2, 1799.40,-999.0000,9,-999.0000,9,-999.0000,9,-999.0000,9,-999.0000,9,-999.0000,9,   3.4520,     -999.0,-999.000,     -999.0,          9,     -999.0,          9,-999.000,          9
 33RO200501,       A16S,     105,          1,         14,         14,2,20050216,       2300,    -9.9995,   -25.0007,       5595,  1999.1,   3.4600,  34.9665,2,  34.9663,2,    253.3,2,   252.4,2,   20.61,2,   19.15,2,    0.00,2,    1.22,2,   0.205,2,   0.113,2,   0.006,2,  2172.3,2,  2316.2,2,   744.9,2,   20.00,   7.7348,2,    25.00,-999.000,9, -999.00,-999.000,9,-999.000,9, -999.00,9,  -999.0,9,  -999.0,-999.000,9,-999.000,   0.448,4, -999.00,9, 1999.10,-999.0000,9,-999.0000,9,-999.0000,9,-999.0000,9,-999.0000,9,-999.0000,9,   3.3006,     -999.0,-999.000,     -999.0,          9,     -999.0,          9,-999.000,          9
 33RO200501,       A16S,     105,          1,         13,         13,2,20050216,       2300,    -9.9995,   -25.0007,       5595,  2198.3,   3.2078,  34.9473,2,  34.9467,2,    249.5,2,   250.2,2,   25.79,2,   20.03,2,    0.00,2,    1.29,2,   0.091,2,   0.049,2,   0.005,2,  2176.8,2,  2319.6,2,   753.7,2,   20.00,   7.7296,2,    25.00,-999.000,9, -999.00,-999.000,9,-999.000,9, -999.00,9,  -999.0,9,  -999.0,-999.000,9,-999.000,   0.224,4,   40.00,2, 2198.30,-999.0000,9,-999.0000,9,-999.0000,9,-999.0000,9,-999.0000,9,-999.0000,9,   3.0335,     -999.0,-999.000,     -999.0,          9,     -999.0,          9,-999.000,          9
 33RO200501,       A16S,     105,          1,         12,         12,2,20050216,       2300,    -9.9995,   -25.0007,       5595,  2399.3,   2.9958,  34.9289,2,  34.9284,2,    245.6,2,   245.4,2,   31.56,2,   21.00,2,    0.00,2,    1.36,2,   0.015,2,   0.015,2,   0.006,2,  2181.9,2,  2325.9,2,   763.2,2,   20.00,   7.7270,2,    25.00,-999.000,9, -999.00,-999.000,9,-999.000,9, -999.00,9,  -999.0,9,  -999.0,-999.000,9,-999.000,   0.084,4, -999.00,9, 2399.30,-999.0000,9,-999.0000,9,-999.0000,9,-999.0000,9,-999.0000,9,-999.0000,9,   2.8058,     -999.0,-999.000,     -999.0,          9,     -999.0,          9,-999.000,          9
 33RO200501,       A16S,     105,          1,         11,         11,2,20050216,       2300,    -9.9995,   -25.0007,       5595,  2598.9,   2.8841,  34.9227,2,  34.9248,3,    245.8,2,   241.1,3,   33.51,2,   21.10,2,    0.00,2,    1.37,2,   0.017,2,   0.007,2,   0.002,2,  2183.6,2,  2329.2,2,   762.9,2,   20.00,   7.7226,2,    25.00,-999.000,9, -999.00,-999.000,9,-999.000,9, -999.00,9,  -999.0,9,  -999.0,-999.000,9,-999.000,   0.069,4,   39.84,2, 2598.90,-999.0000,9,-999.0000,9,-999.0000,9,-999.0000,9,-999.0000,9,-999.0000,9,   2.6767,     -999.0,-999.000,     -999.0,          9,     -999.0,          9,-999.000,          9
 33RO200501,       A16S,     105,          1,         10,         10,2,20050216,       2300,    -9.9995,   -25.0007,       5595,  2798.6,   2.7800,  34.9176,2,  34.9183,2,    246.3,2,   246.2,2,   35.27,2,   21.20,2,    0.00,2,    1.37,2,-999.000,9,-999.000,9,-999.000,9,  2184.8,2,  2330.7,2,  -999.0,9,   20.00,   7.7278,2,    25.00,-999.000,9, -999.00,-999.000,9,-999.000,9, -999.00,9,  -999.0,9,  -999.0,-999.000,9,-999.000,-999.000,9, -999.00,9, 2798.60,-999.0000,9,-999.0000,9,-999.0000,9,-999.0000,9,-999.0000,9,-999.0000,9,   2.5546,     -999.0,-999.000,     -999.0,          9,     -999.0,          9,-999.000,          9
 33RO200501,       A16S,     105,          1,          9,          9,2,20050216,       2300,    -9.9995,   -25.0007,       5595,  3098.9,   2.6829,  34.9148,2,  34.9140,2,    249.4,2,   249.5,2,   35.56,2,   20.91,2,    0.00,2,    1.36,2,   0.020,2,   0.007,2,   0.000,2,  2183.4,2,  2331.4,2,   771.5,2,   20.00,   7.7315,2,    25.00,-999.000,9, -999.00,-999.000,9,-999.000,9, -999.00,9,  -999.0,9,  -999.0,-999.000,9,-999.000,   0.077,4,   39.67,2, 3098.90,-999.0000,9,-999.0000,9,-999.0000,9,-999.0000,9,-999.0000,9,-999.0000,9,   2.4288,     -999.0,-999.000,     -999.0,          9,     -999.0,          9,-999.000,          9
 33RO200501,       A16S,     105,          1,          8,          8,2,20050216,       2300,    -9.9995,   -25.0007,       5595,  3398.6,   2.5731,  34.9084,2,  34.9077,2,    250.7,2,   251.4,2,   37.03,2,   20.91,2,    0.00,2,    1.36,2,   0.016,2,   0.019,2,   0.000,2,  2183.6,2,  2330.5,2,   788.9,2,   20.00,-999.0000,1,    25.00,-999.000,9, -999.00,-999.000,9,-999.000,9, -999.00,9,  -999.0,9,  -999.0,-999.000,9,-999.000,   0.078,4, -999.00,9, 3398.60,-999.0000,9,-999.0000,9,-999.0000,9,-999.0000,9,-999.0000,9,-999.0000,9,   2.2899,     -999.0,-999.000,     -999.0,          9,     -999.0,          9,-999.000,          9