BOTTLE,20220818CCHSIOAMB
EXPOCODE,SECT_ID,STNNBR,CASTNO,SAMPNO,BTLNBR,BTLNBR_FLAG_W,DATE,TIME,LATITUDE,LONGITUDE,DEPTH,CTDPRS,CTDTMP,CTDSAL,CTDSAL_FLAG_W,SALNTY,SALNTY_FLAG_W,CTDOXY,CTDOXY_FLAG_W,OXYGEN,OXYGEN_FLAG_W,SILCAT,SILCAT_FLAG_W,NITRAT,NITRAT_FLAG_W,NITRIT,NITRIT_FLAG_W,PHSPHT,PHSPHT_FLAG_W,CFC-11,CFC-11_FLAG_W,CFC-12,CFC-12_FLAG_W,CFC113,CFC113_FLAG_W,TCARBN,TCARBN_FLAG_W,ALKALI,ALKALI_FLAG_W,PCO2,PCO2_FLAG_W,PCO2TMP,PH_SWS,PH_SWS_FLAG_W,PH_TMP,TRITUM,TRITUM_FLAG_W,TRITER,HELIUM,HELIUM_FLAG_W,DELHE3,DELHE3_FLAG_W,DELC13,DELC13_FLAG_W,DELC14,DELC14_FLAG_W,C14ERR,NEON,NEON_FLAG_W,NEONER,CCL4,CCL4_FLAG_W,DOC,DOC_FLAG_W,CTDRAW,CDOM325,CDOM325_FLAG_W,CDOM340,CDOM340_FLAG_W,CDOM380,CDOM380_FLAG_W,CDOM412,CDOM412_FLAG_W,CDOMSL,CDOMSL_FLAG_W,CDOMSN,CDOMSN_FLAG_W,THETA,HELIER,DELHER,CH3CL,CH3CL_FLAG_W,CH3BR,CH3BR_FLAG_W,CH3I,CH3I_FLAG_W
,,,,,,,,,,,METERS,DBAR,ITS-90,PSS-78,,PSS-78,,UMOL/KG,,UMOL/KG,,UMOL/KG,,UMOL/KG,,UMOL/KG,,UMOL/KG,,PMOL/KG,,PMOL/KG,,PMOL/KG,,UMOL/KG,,UMOL/KG,,UATM,,DEG C,,,DEG C,TU,,TU,NMOL/KG,,PERCNT,,/MILLE,,/MILLE,,/MILLE,NMOL/KG,,NMOL/KG,PMOL/KG,,UMOL/KG,,DBAR,1/M,,1/M,,1/M,,1/M,,1/NM,,1/NM,,DEG C,NMOL/KG,PERCNT,PMOL/KG,,PMOL/KG,,PMOL/KG,
 33RO200501,       A16S,      43,          1,          7,          7,2,20050129,       0125,   -41.0000,   -28.4163,       4317,  2848.5,   2.1268,  34.7924,2,  34.7925,2,    208.8,2,   208.6,2,   74.61,2,   27.85,2,    0.00,2,    1.87,2,-999.000,9,-999.000,9,-999.000,9,  2230.0,2,  2350.5,2,  -999.0,9,   20.00,   7.6462,2,    25.00,-999.000,9, -999.00,-999.000,9,-999.000,9, -999.00,9,  -999.0,9,  -999.0,-999.000,9,-999.000,-999.000,9, -999.00,9, 2848.50,-999.0000,9,-999.0000,9,-999.0000,9,-999.0000,9,-999.0000,9,-999.0000,9,   1.9105,     -999.0,-999.000,     -999.0,          9,     -999.0,          9,-999.000,          9
 33RO200501,       A16S,      43,          1,          6,          6,2,20050129,       0125,   -41.0000,   -28.4163,       4317,  3150.9,   1.7153,  34.7596,2,  34.7593,2,    205.1,2,   204.4,2,   90.00,2,   29.52,2,    0.00,2,    2.00,2,   0.089,6,   0.043,6,   0.002,6,  2242.9,2,  2346.0,2,  -999.0,9,   20.00,   7.6380,2,    25.00,-999.000,9, -999.00,-999.000,9,-999.000,9, -999.00,9,  -999.0,9,  -999.0,-999.000,9,-999.000,   0.145,3,   38.05,2, 3150.90,-999.0000,9,-999.0000,9,-999.0000,9,-999.0000,9,-999.0000,9,-999.0000,9,   1.4787,     -999.0,-999.000,     -999.0,          9,     -999.0,          9,-999.000,          9
 33RO200501,       A16S,      43,          1,          5,          5,2,20050129,       0125,   -41.0000,   -28.4163,       4317,  3449.6,   1.2836,  34.7312,2,  34.7473,3,    205.4,2,   205.0,2,  103.79,2,   30.80,2,    0.00,2,    2.11,2,-999.000,9,-999.000,9,-999.000,9,  2251.8,2,  2350.9,2,  -999.0,9,   20.00,   7.6193,2,    25.00,-999.000,9, -999.00,-999.000,9,-999.000,9, -999.00,9,  -999.0,9,  -999.0,-999.000,9,-999.000,-999.000,9, -999.00,9, 3449.60,-999.0000,9,-999.0000,9,-999.0000,9,-999.0000,9,-999.0000,9,-999.0000,9,   1.0277,     -999.0,-999.000,     -999.0,          9,     -999.0,          9,-999.000,          9
 33RO200501,       A16S,      43,          1,          4,          4,2,20050129,       0125,   -41.0000,   -28.4163,       4317,  3748.0,   0.9500,  34.7135,2,  34.7128,2,    210.0,2,   209.8,2,  111.08,6,   31.35,6,    0.00,6,    2.16,6,   0.166,2,   0.080,2,   0.001,2,  2254.9,2,  2353.8,2,  -999.0,9,   20.00,   7.6177,2,    25.00,-999.000,9, -999.00,-999.000,9,-999.000,9, -999.00,9,  -999.0,9,  -999.0,-999.000,9,-999.000,   0.259,3,   38.55,2, 3748.00,-999.0000,9,-999.0000,9,-999.0000,9,-999.0000,9,-999.0000,9,-999.0000,9,   0.6727,     -999.0,-999.000,     -999.0,          9,     -999.0,          9,-999.000,          9
 33RO200501,       A16S,      43,          1,          3,          3,2,20050129,       0125,   -41.0000,   -28.4163,       4317,  4048.6,   0.5582,  34.6897,2,  34.6963,3,    215.0,2,   214.5,2,  120.93,6,   32.15,6,    0.00,6,    2.23,6,-999.000,9,-999.000,9,-999.000,9,  2261.0,2,  2358.7,2,  -999.0,9,   20.00,   7.6087,2,    25.00,-999.000,9, -999.00,-999.000,9,-999.000,9, -999.00,9,  -999.0,9,  -999.0,-999.000,9,-999.000,-999.000,9, -999.00,9, 4048.60,-999.0000,9,-999.0000,9,-999.0000,9,-999.0000,9,-999.0000,9,-999.0000,9,   0.2610,     -999.0,-999.000,     -999.0,          9,     -999.0,          9,-999.000,          9
 33RO200501,       A16S,      43,          1,          2,          2,2,20050129,       0125,   -41.0000,   -28.4163,       4317,  4350.3,   0.3818,  34.6793,2,  34.6792,2,    218.5,2,   218.1,2,  124.95,6,   32.40,6,    0.00,6,    2.24,6,   0.289,2,   0.141,2,   0.007,2,  2264.8,2,  2358.9,6,  -999.0,9,   20.00,   7.6100,6,    25.00,-999.000,9, -999.00,-999.000,9,-999.000,9, -999.00,9,  -999.0,9,  -999.0,-999.000,9,-999.000,   0.432,3,   38.54,2, 4350.30,-999.0000,9,-999.0000,9,-999.0000,9,-999.0000,9,-999.0000,9,-999.0000,9,   0.0581,     -999.0,-999.000,     -999.0,          9,     -999.0,          9,-999.000,          9
 33RO200501,       A16S,      43,          1,          1,          1,2,20050129,       0125,   -41.0000,   -28.4163,       4317,  4407.2,   0.3670,  34.6783,2,  34.6782,2,    219.0,2,   218.1,2,  125.23,6,   32.40,6,    0.00,6,    2.25,6,   0.307,2,   0.136,2,   0.007,2,  2262.5,6,  2360.4,2,  -999.0,9,   20.00,   7.6046,2,    25.00,-999.000,9, -999.00,-999.000,9,-999.000,9, -999.00,9,  -999.0,9,  -999.0,-999.000,9,-999.000,   0.431,3,   39.27,2, 4407.20,-999.0000,9,-999.0000,9,-999.0000,9,-999.0000,9,-999.0000,9,-999.0000,9,   0.0376,     -999.0,-999.000,     -999.0,          9,     -999.0,          9,-999.000,          9