BOTTLE,20220818CCHSIOAMB
EXPOCODE,SECT_ID,STNNBR,CASTNO,SAMPNO,BTLNBR,BTLNBR_FLAG_W,DATE,TIME,LATITUDE,LONGITUDE,DEPTH,CTDPRS,CTDTMP,CTDSAL,CTDSAL_FLAG_W,SALNTY,SALNTY_FLAG_W,CTDOXY,CTDOXY_FLAG_W,OXYGEN,OXYGEN_FLAG_W,SILCAT,SILCAT_FLAG_W,NITRAT,NITRAT_FLAG_W,NITRIT,NITRIT_FLAG_W,PHSPHT,PHSPHT_FLAG_W,CFC-11,CFC-11_FLAG_W,CFC-12,CFC-12_FLAG_W,CFC113,CFC113_FLAG_W,TCARBN,TCARBN_FLAG_W,ALKALI,ALKALI_FLAG_W,PCO2,PCO2_FLAG_W,PCO2TMP,PH_SWS,PH_SWS_FLAG_W,PH_TMP,TRITUM,TRITUM_FLAG_W,TRITER,HELIUM,HELIUM_FLAG_W,DELHE3,DELHE3_FLAG_W,DELC13,DELC13_FLAG_W,DELC14,DELC14_FLAG_W,C14ERR,NEON,NEON_FLAG_W,NEONER,CCL4,CCL4_FLAG_W,DOC,DOC_FLAG_W,CTDRAW,CDOM325,CDOM325_FLAG_W,CDOM340,CDOM340_FLAG_W,CDOM380,CDOM380_FLAG_W,CDOM412,CDOM412_FLAG_W,CDOMSL,CDOMSL_FLAG_W,CDOMSN,CDOMSN_FLAG_W,THETA,HELIER,DELHER,CH3CL,CH3CL_FLAG_W,CH3BR,CH3BR_FLAG_W,CH3I,CH3I_FLAG_W
,,,,,,,,,,,METERS,DBAR,ITS-90,PSS-78,,PSS-78,,UMOL/KG,,UMOL/KG,,UMOL/KG,,UMOL/KG,,UMOL/KG,,UMOL/KG,,PMOL/KG,,PMOL/KG,,PMOL/KG,,UMOL/KG,,UMOL/KG,,UATM,,DEG C,,,DEG C,TU,,TU,NMOL/KG,,PERCNT,,/MILLE,,/MILLE,,/MILLE,NMOL/KG,,NMOL/KG,PMOL/KG,,UMOL/KG,,DBAR,1/M,,1/M,,1/M,,1/M,,1/NM,,1/NM,,DEG C,NMOL/KG,PERCNT,PMOL/KG,,PMOL/KG,,PMOL/KG,
 33RO200501,       A16S,      69,          1,          7,          7,2,20050205,       2308,   -27.9993,   -24.9997,       5318,  3698.3,   1.9022,  34.8394,2,  34.8395,2,    241.7,2,   241.5,2,   63.15,2,   24.36,2,    0.00,2,    1.68,2,   0.005,2,   0.001,2,   0.000,2,  2203.3,2,  2342.2,2,   839.4,2,   20.00,   7.7093,2,    25.00,-999.000,9, -999.00,-999.000,9,-999.000,9, -999.00,9,  -999.0,9,  -999.0,-999.000,9,-999.000,   0.027,4,   39.58,2, 3698.30,-999.0000,9,-999.0000,9,-999.0000,9,-999.0000,9,-999.0000,9,-999.0000,9,   1.6040,     -999.0,-999.000,     -999.0,          9,     -999.0,          9,-999.000,          9
 33RO200501,       A16S,      69,          1,          6,          6,2,20050205,       2308,   -27.9993,   -24.9997,       5318,  3997.9,   1.5215,  34.7983,2,  34.7988,2,    235.3,2,   235.0,2,   78.97,2,   26.51,2,    0.00,2,    1.84,2,   0.006,2,   0.040,2,   0.000,2,  2222.5,2,  2348.9,2,   883.2,2,   20.00,   7.6866,2,    25.00,-999.000,9, -999.00,-999.000,9,-999.000,9, -999.00,9,  -999.0,9,  -999.0,-999.000,9,-999.000,   0.046,4, -999.00,9, 3997.90,-999.0000,9,-999.0000,9,-999.0000,9,-999.0000,9,-999.0000,9,-999.0000,9,   1.2015,     -999.0,-999.000,     -999.0,          9,     -999.0,          9,-999.000,          9
 33RO200501,       A16S,      69,          1,          5,          5,2,20050205,       2308,   -27.9993,   -24.9997,       5318,  4299.6,   1.3173,  34.7738,2,  34.7742,2,    230.8,2,   230.8,2,   88.33,2,   27.79,2,    0.00,2,    1.93,2,   0.013,2,   0.012,2,   0.000,2,  2232.8,2,  2353.8,2,   919.1,2,   20.00,   7.6837,2,    25.00,-999.000,9, -999.00,-999.000,9,-999.000,9, -999.00,9,  -999.0,9,  -999.0,-999.000,9,-999.000,   0.053,4,   39.62,2, 4299.60,-999.0000,9,-999.0000,9,-999.0000,9,-999.0000,9,-999.0000,9,-999.0000,9,   0.9701,     -999.0,-999.000,     -999.0,          9,     -999.0,          9,-999.000,          9
 33RO200501,       A16S,      69,          1,          4,          4,2,20050205,       2308,   -27.9993,   -24.9997,       5318,  4600.2,   1.2565,  34.7649,2,  34.7649,2,    229.3,2,   229.9,2,   91.93,6,   28.30,6,    0.00,6,    1.96,6,-999.000,9,-999.000,9,-999.000,9,  2233.6,2,  2354.3,2,  -999.0,9,   20.00,   7.6599,2,    25.00,-999.000,9, -999.00,-999.000,9,-999.000,9, -999.00,9,  -999.0,9,  -999.0,-999.000,9,-999.000,-999.000,9, -999.00,9, 4600.20,-999.0000,9,-999.0000,9,-999.0000,9,-999.0000,9,-999.0000,9,-999.0000,9,   0.8770,     -999.0,-999.000,     -999.0,          9,     -999.0,          9,-999.000,          9
 33RO200501,       A16S,      69,          1,          3,          3,2,20050205,       2308,   -27.9993,   -24.9997,       5318,  4896.0,   1.2083,  34.7578,2,  34.7585,2,    229.0,2,   229.3,2,   94.58,6,   28.54,6,    0.00,6,    2.00,6,   0.017,2,   0.011,2,   0.005,2,  2090.5,4,  2355.9,2,   941.4,2,   20.00,   7.6537,2,    25.00,-999.000,9, -999.00,-999.000,9,-999.000,9, -999.00,9,  -999.0,9,  -999.0,-999.000,9,-999.000,   0.062,4,   39.18,2, 4896.00,-999.0000,9,-999.0000,9,-999.0000,9,-999.0000,9,-999.0000,9,-999.0000,9,   0.7959,     -999.0,-999.000,     -999.0,          9,     -999.0,          9,-999.000,          9
 33RO200501,       A16S,      69,          1,          2,          2,2,20050205,       2308,   -27.9993,   -24.9997,       5318,  5198.8,   1.1820,  34.7518,2,  34.7528,2,    228.4,2,   228.4,2,   96.61,6,   28.80,6,    0.00,6,    2.01,6,   0.021,2,   0.012,2,   0.000,2,  1654.6,4,  2355.8,6,   945.6,2,   20.00,   7.6584,6,    25.00,-999.000,9, -999.00,-999.000,9,-999.000,9, -999.00,9,  -999.0,9,  -999.0,-999.000,9,-999.000,   0.070,4, -999.00,9, 5198.80,-999.0000,9,-999.0000,9,-999.0000,9,-999.0000,9,-999.0000,9,-999.0000,9,   0.7339,     -999.0,-999.000,     -999.0,          9,     -999.0,          9,-999.000,          9
 33RO200501,       A16S,      69,          1,          1,          1,2,20050205,       2308,   -27.9993,   -24.9997,       5318,  5391.2,   1.1746,  34.7488,2,  34.7490,2,    227.9,2,   228.2,2,   97.66,6,   28.94,6,    0.00,6,    2.02,6,   0.017,2,   0.007,2,   0.000,2,  2238.2,2,  2358.2,2,   937.0,2,   20.00,   7.6480,2,    25.00,-999.000,9, -999.00,-999.000,9,-999.000,9, -999.00,9,  -999.0,9,  -999.0,-999.000,9,-999.000,   0.070,4,   39.70,2, 5391.20,-999.0000,9,-999.0000,9,-999.0000,9,-999.0000,9,-999.0000,9,-999.0000,9,   0.7030,     -999.0,-999.000,     -999.0,          9,     -999.0,          9,-999.000,          9