BOTTLE,20220818CCHSIOAMB
EXPOCODE,SECT_ID,STNNBR,CASTNO,SAMPNO,BTLNBR,BTLNBR_FLAG_W,DATE,TIME,LATITUDE,LONGITUDE,DEPTH,CTDPRS,CTDTMP,CTDSAL,CTDSAL_FLAG_W,SALNTY,SALNTY_FLAG_W,CTDOXY,CTDOXY_FLAG_W,OXYGEN,OXYGEN_FLAG_W,SILCAT,SILCAT_FLAG_W,NITRAT,NITRAT_FLAG_W,NITRIT,NITRIT_FLAG_W,PHSPHT,PHSPHT_FLAG_W,CFC-11,CFC-11_FLAG_W,CFC-12,CFC-12_FLAG_W,CFC113,CFC113_FLAG_W,TCARBN,TCARBN_FLAG_W,ALKALI,ALKALI_FLAG_W,PCO2,PCO2_FLAG_W,PCO2TMP,PH_SWS,PH_SWS_FLAG_W,PH_TMP,TRITUM,TRITUM_FLAG_W,TRITER,HELIUM,HELIUM_FLAG_W,DELHE3,DELHE3_FLAG_W,DELC13,DELC13_FLAG_W,DELC14,DELC14_FLAG_W,C14ERR,NEON,NEON_FLAG_W,NEONER,CCL4,CCL4_FLAG_W,DOC,DOC_FLAG_W,CTDRAW,CDOM325,CDOM325_FLAG_W,CDOM340,CDOM340_FLAG_W,CDOM380,CDOM380_FLAG_W,CDOM412,CDOM412_FLAG_W,CDOMSL,CDOMSL_FLAG_W,CDOMSN,CDOMSN_FLAG_W,THETA,HELIER,DELHER,CH3CL,CH3CL_FLAG_W,CH3BR,CH3BR_FLAG_W,CH3I,CH3I_FLAG_W
,,,,,,,,,,,METERS,DBAR,ITS-90,PSS-78,,PSS-78,,UMOL/KG,,UMOL/KG,,UMOL/KG,,UMOL/KG,,UMOL/KG,,UMOL/KG,,PMOL/KG,,PMOL/KG,,PMOL/KG,,UMOL/KG,,UMOL/KG,,UATM,,DEG C,,,DEG C,TU,,TU,NMOL/KG,,PERCNT,,/MILLE,,/MILLE,,/MILLE,NMOL/KG,,NMOL/KG,PMOL/KG,,UMOL/KG,,DBAR,1/M,,1/M,,1/M,,1/M,,1/NM,,1/NM,,DEG C,NMOL/KG,PERCNT,PMOL/KG,,PMOL/KG,,PMOL/KG,
 33RO200501,       A16S,      25,          1,         36,         36,2,20050123,       0717,   -50.0003,   -34.0010,       5111,     3.8,   5.6448,  33.7425,2,  33.7424,2,    322.9,2,   326.0,2,    0.63,2,   16.15,2,    0.37,2,    0.98,2,   5.025,2,   2.789,2,   0.454,2,  2088.8,6,  2283.9,2,   541.1,2,   20.00,   7.8560,2,    25.00,-999.000,9, -999.00,-999.000,9,-999.000,9, -999.00,9,  -999.0,9,  -999.0,-999.000,9,-999.000,   5.509,4,   51.60,2,    3.80,-999.0000,9,-999.0000,9,-999.0000,9,-999.0000,9,-999.0000,9,-999.0000,9,   5.6445,     -999.0,-999.000,     -999.0,          9,     -999.0,          9,-999.000,          9
 33RO200501,       A16S,      25,          1,         35,         35,2,20050123,       0717,   -50.0003,   -34.0010,       5111,    21.8,   5.1357,  33.7456,2,  33.7459,2,    327.9,2,   328.5,2,    0.68,2,   16.51,2,    0.35,2,    1.00,2,   5.224,2,   2.882,2,   0.473,2,  2091.1,2,  2284.1,6,   549.2,2,   20.00,   7.8526,6,    25.00,-999.000,9, -999.00,-999.000,9,-999.000,9, -999.00,9,  -999.0,9,  -999.0,-999.000,9,-999.000,   5.900,4,   52.32,2,   21.80,   0.1420,2,   0.1030,2,   0.0550,2,   0.0380,2,   0.0147,2,   0.0163,2,   5.1341,     -999.0,-999.000,     -999.0,          9,     -999.0,          9,-999.000,          9
 33RO200501,       A16S,      25,          1,         34,         34,2,20050123,       0717,   -50.0003,   -34.0010,       5111,    43.5,   4.1853,  33.7828,2,  33.7763,2,    322.5,2,   323.7,2,    2.18,2,   17.82,2,    0.35,2,    1.23,2,   5.378,2,   2.935,2,   0.497,2,  2109.0,2,  2286.8,2,   604.5,2,   20.00,   7.8207,2,    25.00,-999.000,9, -999.00,-999.000,9,-999.000,9, -999.00,9,  -999.0,9,  -999.0,-999.000,9,-999.000,   5.851,4, -999.00,9,   43.50,-999.0000,9,-999.0000,9,-999.0000,9,-999.0000,9,-999.0000,9,-999.0000,9,   4.1823,     -999.0,-999.000,     -999.0,          9,     -999.0,          9,-999.000,          9
 33RO200501,       A16S,      25,          1,         33,         33,2,20050123,       0717,   -50.0003,   -34.0010,       5111,    61.5,   3.4894,  33.8152,2,  33.8162,2,    325.2,2,   325.1,2,    5.11,2,   19.13,2,    0.34,2,    1.43,2,   6.303,2,   3.451,2,   0.563,2,  2123.6,2,  2292.9,2,   652.7,2,   20.00,   7.7931,2,    25.00,-999.000,9, -999.00,-999.000,9,-999.000,9, -999.00,9,  -999.0,9,  -999.0,-999.000,9,-999.000,   6.475,4,   49.77,2,   61.50,-999.0000,9,-999.0000,9,-999.0000,9,-999.0000,9,-999.0000,9,-999.0000,9,   3.4855,     -999.0,-999.000,     -999.0,          9,     -999.0,          9,-999.000,          9
 33RO200501,       A16S,      25,          1,         32,         32,2,20050123,       0717,   -50.0003,   -34.0010,       5111,    81.7,   2.4477,  33.8667,2,  33.8666,2,    326.7,2,   326.7,2,   14.01,2,   21.25,2,    0.33,2,    1.61,2,-999.000,9,-999.000,9,-999.000,9,  2140.7,2,  2295.5,2,   720.1,2,   20.00,   7.7623,2,    25.00,-999.000,9, -999.00,-999.000,9,-999.000,9, -999.00,9,  -999.0,9,  -999.0,-999.000,9,-999.000,-999.000,9, -999.00,9,   81.70,-999.0000,9,-999.0000,9,-999.0000,9,-999.0000,9,-999.0000,9,-999.0000,9,   2.4432,     -999.0,-999.000,     -999.0,          9,     -999.0,          9,-999.000,          9
 33RO200501,       A16S,      25,          1,         31,         31,2,20050123,       0717,   -50.0003,   -34.0010,       5111,   101.7,   2.0142,  33.8927,2,  33.8944,2,    326.9,2,   327.4,2,   20.02,2,   22.56,2,    0.33,2,    1.70,2,   5.827,2,   3.120,2,   0.530,2,  2149.1,2,  2295.6,2,   765.1,2,   20.00,   7.7455,2,    25.00,-999.000,9, -999.00,-999.000,9,-999.000,9, -999.00,9,  -999.0,9,  -999.0,-999.000,9,-999.000,   6.073,4,   46.72,2,  101.70,   0.1290,2,   0.0920,2,   0.0510,2,   0.0360,2,   0.0142,2,   0.0158,2,   2.0090,     -999.0,-999.000,     -999.0,          9,     -999.0,          9,-999.000,          9
 33RO200501,       A16S,      25,          1,         30,         30,2,20050123,       0717,   -50.0003,   -34.0010,       5111,   126.5,   1.3444,  33.9402,2,  33.9432,2,    324.7,2,   325.4,2,   29.79,2,   24.79,2,    0.34,2,    1.82,2,   5.883,2,   3.154,2,   0.533,2,  2161.9,2,  2297.6,2,  -999.0,9,   20.00,   7.7120,2,    25.00,-999.000,9, -999.00,-999.000,9,-999.000,9, -999.00,9,  -999.0,9,  -999.0,-999.000,9,-999.000,   6.191,4, -999.00,9,  126.50,-999.0000,9,-999.0000,9,-999.0000,9,-999.0000,9,-999.0000,9,-999.0000,9,   1.3385,     -999.0,-999.000,     -999.0,          9,     -999.0,          9,-999.000,          9
 33RO200501,       A16S,      25,          1,         29,         29,2,20050123,       0717,   -50.0003,   -34.0010,       5111,   151.9,   1.0372,  33.9694,2,  33.9716,2,    320.9,2,   323.1,2,   34.61,2,   25.88,2,    0.33,2,    1.88,2,-999.000,9,-999.000,9,-999.000,9,  2169.2,2,  2294.3,2,   851.5,2,   20.00,   7.6924,2,    25.00,-999.000,9, -999.00,-999.000,9,-999.000,9, -999.00,9,  -999.0,9,  -999.0,-999.000,9,-999.000,-999.000,9,   44.82,2,  151.90,   0.1290,2,   0.0930,2,   0.0510,2,   0.0360,2,   0.0140,2,   0.0156,2,   1.0305,     -999.0,-999.000,     -999.0,          9,     -999.0,          9,-999.000,          9
 33RO200501,       A16S,      25,          1,         28,         28,2,20050123,       0717,   -50.0003,   -34.0010,       5111,   175.7,   0.7308,  34.0179,2,  34.0204,2,    312.9,2,   315.0,2,   41.19,2,   27.74,2,    0.23,2,    1.95,2,   5.591,2,   2.981,2,   0.504,2,  2177.8,2,  2296.2,2,  -999.0,9,   20.00,   7.6785,2,    25.00,-999.000,9, -999.00,-999.000,9,-999.000,9, -999.00,9,  -999.0,9,  -999.0,-999.000,9,-999.000,   5.755,4, -999.00,9,  175.70,-999.0000,9,-999.0000,9,-999.0000,9,-999.0000,9,-999.0000,9,-999.0000,9,   0.7235,     -999.0,-999.000,     -999.0,          9,     -999.0,          9,-999.000,          9
 33RO200501,       A16S,      25,          1,         27,         27,2,20050123,       0717,   -50.0003,   -34.0010,       5111,   200.2,   0.6216,  34.0573,2,  34.0624,2,    302.4,2,   304.9,2,   45.55,2,   29.17,2,    0.15,2,    2.01,2,   5.304,2,   2.823,2,   0.478,2,  2186.0,2,  2297.8,2,   938.4,2,   20.00,   7.6681,2,    25.00,-999.000,9, -999.00,-999.000,9,-999.000,9, -999.00,9,  -999.0,9,  -999.0,-999.000,9,-999.000,   5.524,4,   43.36,2,  200.20,   0.1540,2,   0.1160,2,   0.0590,2,   0.0400,2,   0.0153,2,   0.0162,2,   0.6134,     -999.0,-999.000,     -999.0,          9,     -999.0,          9,-999.000,          9
 33RO200501,       A16S,      25,          1,         26,         26,2,20050123,       0717,   -50.0003,   -34.0010,       5111,   251.1,   0.6522,  34.1515,2,  34.1551,2,    278.6,2,   278.5,2,   52.76,2,   31.47,2,    0.06,2,    2.13,2,-999.000,9,-999.000,9,-999.000,9,  2201.9,2,  2300.6,2,  1024.7,2,   20.00,   7.6310,2,    25.00,-999.000,9, -999.00,-999.000,9,-999.000,9, -999.00,9,  -999.0,9,  -999.0,-999.000,9,-999.000,-999.000,9,   43.73,2,  251.10,-999.0000,9,-999.0000,9,-999.0000,9,-999.0000,9,-999.0000,9,-999.0000,9,   0.6417,     -999.0,-999.000,     -999.0,          9,     -999.0,          9,-999.000,          9
 33RO200501,       A16S,      25,          1,         25,         25,2,20050123,       0717,   -50.0003,   -34.0010,       5111,   301.8,   1.2768,  34.2922,2,  34.2947,2,    230.2,2,   232.4,2,   60.08,2,   33.59,2,    0.03,2,    2.28,2,   3.040,6,   1.599,6,   0.260,6,  2222.7,2,  2314.0,2,  1135.8,2,   20.00,   7.5942,2,    25.00,-999.000,9, -999.00,-999.000,9,-999.000,9, -999.00,9,  -999.0,9,  -999.0,-999.000,9,-999.000,   3.198,6,   42.82,2,  301.80,   0.1420,2,   0.1020,2,   0.0550,2,   0.0380,2,   0.0145,2,   0.0161,2,   1.2623,     -999.0,-999.000,     -999.0,          9,     -999.0,          9,-999.000,          9
 33RO200501,       A16S,      25,          1,         24,         24,2,20050123,       0717,   -50.0003,   -34.0010,       5111,   351.7,   1.8980,  34.4290,2,  34.4270,2,    199.0,2,   195.6,2,   66.78,2,   34.63,2,    0.03,2,    2.37,2,-999.000,9,-999.000,9,-999.000,9,  2239.9,2,  2323.3,2,  1208.5,2,   20.00,   7.5724,2,    25.00,-999.000,9, -999.00,-999.000,9,-999.000,9, -999.00,9,  -999.0,9,  -999.0,-999.000,9,-999.000,-999.000,9, -999.00,9,  351.70,-999.0000,9,-999.0000,9,-999.0000,9,-999.0000,9,-999.0000,9,-999.0000,9,   1.8791,     -999.0,-999.000,     -999.0,          9,     -999.0,          9,-999.000,          9
 33RO200501,       A16S,      25,          1,         23,         23,2,20050123,       0717,   -50.0003,   -34.0010,       5111,   399.4,   2.0512,  34.4978,2,  34.4983,2,    185.9,2,   182.1,2,   71.96,2,   34.76,2,    0.02,2,    2.38,2,   1.164,2,   0.594,2,   0.092,2,  2247.9,2,  2330.4,2,  1228.1,2,   20.00,   7.5711,2,    25.00,-999.000,9, -999.00,-999.000,9,-999.000,9, -999.00,9,  -999.0,9,  -999.0,-999.000,9,-999.000,   1.419,3,   41.91,2,  399.40,   0.1670,2,   0.1240,2,   0.0620,2,   0.0410,2,   0.0160,2,   0.0171,2,   2.0291,     -999.0,-999.000,     -999.0,          9,     -999.0,          9,-999.000,          9
 33RO200501,       A16S,      25,          1,         22,         22,2,20050123,       0717,   -50.0003,   -34.0010,       5111,   501.7,   2.1556,  34.5686,2,  34.5696,2,    174.3,2,   173.9,2,   77.39,2,   34.43,2,    0.01,2,    2.36,2,   0.641,2,   0.326,2,   0.041,2,  2254.1,2,  2337.9,2,  1208.0,2,   20.00,   7.5649,2,    25.00,-999.000,9, -999.00,-999.000,9,-999.000,9, -999.00,9,  -999.0,9,  -999.0,-999.000,9,-999.000,   0.827,3,   41.39,2,  501.70,-999.0000,9,-999.0000,9,-999.0000,9,-999.0000,9,-999.0000,9,-999.0000,9,   2.1268,     -999.0,-999.000,     -999.0,          9,     -999.0,          9,-999.000,          9
 33RO200501,       A16S,      25,          1,         21,         21,2,20050123,       0717,   -50.0003,   -34.0010,       5111,   601.4,   2.1159,  34.6202,2,  34.6195,2,    170.8,2,   172.9,2,   82.24,2,   34.02,2,    0.01,2,    2.34,2,   0.416,2,   0.217,2,   0.034,2,  2256.9,2,  2339.0,2,  1191.1,2,   20.00,   7.5669,2,    25.00,-999.000,9, -999.00,-999.000,9,-999.000,9, -999.00,9,  -999.0,9,  -999.0,-999.000,9,-999.000,   0.577,3,   39.98,2,  601.40,   0.1420,2,   0.1020,2,   0.0550,2,   0.0380,2,   0.0147,2,   0.0163,2,   2.0811,     -999.0,-999.000,     -999.0,          9,     -999.0,          9,-999.000,          9
 33RO200501,       A16S,      25,          1,         20,         20,2,20050123,       0717,   -50.0003,   -34.0010,       5111,   700.8,   2.0583,  34.6492,2,  34.6488,2,    172.1,2,   173.5,2,   85.39,2,   33.65,2,    0.01,2,    2.32,2,   0.314,2,   0.164,2,   0.014,2,  2258.2,2,  2347.1,2,  1174.2,2,   20.00,   7.5648,2,    25.00,-999.000,9, -999.00,-999.000,9,-999.000,9, -999.00,9,  -999.0,9,  -999.0,-999.000,9,-999.000,   0.440,3, -999.00,9,  700.80,-999.0000,9,-999.0000,9,-999.0000,9,-999.0000,9,-999.0000,9,-999.0000,9,   2.0174,     -999.0,-999.000,     -999.0,          9,     -999.0,          9,-999.000,          9
 33RO200501,       A16S,      25,          1,         19,         19,2,20050123,       0717,   -50.0003,   -34.0010,       5111,   800.8,   2.0267,  34.6653,2,  34.6654,2,    172.5,2,   174.4,2,   87.00,2,   33.36,2,    0.01,2,    2.30,2,   0.272,2,   0.138,2,   0.016,2,  2259.1,2,  2348.8,2,  1167.4,2,   20.00,   7.5826,2,    25.00,-999.000,9, -999.00,-999.000,9,-999.000,9, -999.00,9,  -999.0,9,  -999.0,-999.000,9,-999.000,   0.384,3,   39.59,2,  800.80,-999.0000,9,-999.0000,9,-999.0000,9,-999.0000,9,-999.0000,9,-999.0000,9,   1.9796,     -999.0,-999.000,     -999.0,          9,     -999.0,          9,-999.000,          9
 33RO200501,       A16S,      25,          1,         18,         18,2,20050123,       0717,   -50.0003,   -34.0010,       5111,   900.9,   1.9986,  34.6821,2,  34.6819,2,    174.3,2,   176.0,2,   88.46,2,   33.06,2,    0.01,2,    2.29,2,   0.207,2,   0.109,2,   0.010,2,  2258.5,2,  2345.4,3,  1148.8,2,   20.00,   7.5875,2,    25.00,-999.000,9, -999.00,-999.000,9,-999.000,9, -999.00,9,  -999.0,9,  -999.0,-999.000,9,-999.000,   0.316,3, -999.00,9,  900.90,-999.0000,9,-999.0000,9,-999.0000,9,-999.0000,9,-999.0000,9,-999.0000,9,   1.9450,     -999.0,-999.000,     -999.0,          9,     -999.0,          9,-999.000,          9
 33RO200501,       A16S,      25,          1,         17,         17,2,20050123,       0717,   -50.0003,   -34.0010,       5111,   998.5,   1.9387,  34.6931,2,  34.6939,2,    177.9,2,   178.6,2,   89.04,2,   32.68,2,    0.00,2,    2.27,2,   0.210,2,   0.116,2,   0.007,2,  2258.6,2,  2347.5,3,  1141.8,2,   20.00,   7.6032,2,    25.00,-999.000,9, -999.00,-999.000,9,-999.000,9, -999.00,9,  -999.0,9,  -999.0,-999.000,9,-999.000,   0.296,3,   39.45,2,  998.50,   0.1470,3,   0.1050,3,   0.0550,3,   0.0380,2,   0.0150,3,   0.0167,3,   1.8790,     -999.0,-999.000,     -999.0,          9,     -999.0,          9,-999.000,          9
 33RO200501,       A16S,      25,          1,         16,         16,2,20050123,       0717,   -50.0003,   -34.0010,       5111,  1199.6,   1.8066,  34.7147,2,  34.7150,2,    184.0,2,   186.3,2,   90.59,2,   32.05,2,    0.00,2,    2.22,2,   0.203,2,   0.110,2,   0.010,2,  2258.5,2,  2355.1,2,  -999.0,9,   20.00,   7.6121,6,    25.00,-999.000,9, -999.00,-999.000,9,-999.000,9, -999.00,9,  -999.0,9,  -999.0,-999.000,9,-999.000,   0.286,3,   39.12,2, 1199.60,   0.1370,2,   0.0960,2,   0.0390,2,   0.0280,2,   0.0220,2,   0.0225,2,   1.7341,     -999.0,-999.000,     -999.0,          9,     -999.0,          9,-999.000,          9
 33RO200501,       A16S,      25,          1,         15,         15,2,20050123,       0717,   -50.0003,   -34.0010,       5111,  1401.7,   1.6483,  34.7247,2,  34.7248,2,    191.0,2,   192.7,2,   93.01,2,   31.41,2,    0.00,2,    2.19,2,   0.220,2,   0.121,2,   0.010,2,  2262.3,2,  2355.7,2,  1074.5,2,   20.00,   7.6338,3,    25.00,-999.000,9, -999.00,-999.000,9,-999.000,9, -999.00,9,  -999.0,9,  -999.0,-999.000,9,-999.000,   0.300,3,   39.66,2, 1401.70,-999.0000,9,-999.0000,9,-999.0000,9,-999.0000,9,-999.0000,9,-999.0000,9,   1.5629,     -999.0,-999.000,     -999.0,          9,     -999.0,          9,-999.000,          9
 33RO200501,       A16S,      25,          1,         14,         14,2,20050123,       0717,   -50.0003,   -34.0010,       5111,  1600.7,   1.4363,  34.7201,2,  34.7209,2,    195.5,2,   196.5,2,   98.57,2,   31.58,2,    0.00,2,    2.20,2,   0.258,2,   0.135,2,   0.016,2,  2259.1,2,  2355.4,2,  -999.0,9,   20.00,   7.6137,2,    25.00,-999.000,9, -999.00,-999.000,9,-999.000,9, -999.00,9,  -999.0,9,  -999.0,-999.000,9,-999.000,   0.324,3, -999.00,9, 1600.70,-999.0000,9,-999.0000,9,-999.0000,9,-999.0000,9,-999.0000,9,-999.0000,9,   1.3388,     -999.0,-999.000,     -999.0,          9,     -999.0,          9,-999.000,          9
 33RO200501,       A16S,      25,          1,         13,         13,2,20050123,       0717,   -50.0003,   -34.0010,       5111,  1800.7,   1.2970,  34.7171,2,  34.7174,2,    198.2,2,   198.8,2,  102.60,2,   31.74,2,    0.00,2,    2.21,2,   0.270,2,   0.148,2,   0.016,2,  2258.9,2,  2356.3,2,  1077.5,2,   20.00,   7.6154,2,    25.00,-999.000,9, -999.00,-999.000,9,-999.000,9, -999.00,9,  -999.0,9,  -999.0,-999.000,9,-999.000,   0.338,3,   38.90,2, 1800.70,-999.0000,9,-999.0000,9,-999.0000,9,-999.0000,9,-999.0000,9,-999.0000,9,   1.1864,     -999.0,-999.000,     -999.0,          9,     -999.0,          9,-999.000,          9
 33RO200501,       A16S,      25,          1,         12,         12,2,20050123,       0717,   -50.0003,   -34.0010,       5111,  1999.9,   1.1695,  34.7160,2,  34.7161,2,    201.0,2,   201.5,2,  105.91,2,   31.83,2,    0.00,2,    2.21,2,   0.255,2,   0.137,2,   0.018,2,  2257.0,2,  2358.0,2,  1069.6,2,   20.00,   7.6106,2,    25.00,-999.000,9, -999.00,-999.000,9,-999.000,9, -999.00,9,  -999.0,9,  -999.0,-999.000,9,-999.000,   0.330,3, -999.00,9, 1999.90,-999.0000,9,-999.0000,9,-999.0000,9,-999.0000,9,-999.0000,9,-999.0000,9,   1.0455,     -999.0,-999.000,     -999.0,          9,     -999.0,          9,-999.000,          9
 33RO200501,       A16S,      25,          1,         11,         11,2,20050123,       0717,   -50.0003,   -34.0010,       5111,  2202.0,   1.0527,  34.7146,2,  34.7149,2,    203.4,2,   204.0,2,  108.58,2,   31.91,2,    0.00,2,    2.22,2,   0.230,2,   0.121,2,   0.015,2,  2258.9,2,  2358.5,2,  1069.4,2,   20.00,   7.6185,2,    25.00,-999.000,9, -999.00,-999.000,9,-999.000,9, -999.00,9,  -999.0,9,  -999.0,-999.000,9,-999.000,   0.305,3,   38.97,2, 2202.00,   0.1350,2,   0.0940,2,   0.0450,2,   0.0330,2,   0.0159,2,   0.0185,2,   0.9146,     -999.0,-999.000,     -999.0,          9,     -999.0,          9,-999.000,          9
 33RO200501,       A16S,      25,          1,         10,         10,2,20050123,       0717,   -50.0003,   -34.0010,       5111,  2401.0,   0.9623,  34.7148,2,  34.7143,2,    205.8,2,   206.2,2,  109.89,2,   31.80,2,    0.00,2,    2.23,2,   0.184,2,   0.096,2,   0.004,2,  2257.5,2,  2358.8,2,  -999.0,9,   20.00,   7.6168,2,    25.00,-999.000,9, -999.00,-999.000,9,-999.000,9, -999.00,9,  -999.0,9,  -999.0,-999.000,9,-999.000,   0.272,3, -999.00,9, 2401.00,-999.0000,9,-999.0000,9,-999.0000,9,-999.0000,9,-999.0000,9,-999.0000,9,   0.8095,     -999.0,-999.000,     -999.0,          9,     -999.0,          9,-999.000,          9
 33RO200501,       A16S,      25,          1,          9,          9,2,20050123,       0717,   -50.0003,   -34.0010,       5111,  2601.9,   0.8093,  34.7064,2,  34.7065,2,    208.2,2,   194.9,3,  113.02,2,   31.99,2,    0.00,2,    2.25,2,   0.234,2,   0.115,2,   0.012,2,  2259.0,2,  2356.5,2,  1066.1,2,   20.00,   7.6147,2,    25.00,-999.000,9, -999.00,-999.000,9,-999.000,9, -999.00,9,  -999.0,9,  -999.0,-999.000,9,-999.000,   0.338,3,   39.05,2, 2601.90,-999.0000,9,-999.0000,9,-999.0000,9,-999.0000,9,-999.0000,9,-999.0000,9,   0.6426,     -999.0,-999.000,     -999.0,          9,     -999.0,          9,-999.000,          9
 33RO200501,       A16S,      25,          1,          8,          8,2,20050123,       0717,   -50.0003,   -34.0010,       5111,  2900.8,   0.5914,  34.6943,2,  34.6941,2,    211.7,2,   212.5,2,  117.92,2,   32.31,2,    0.00,2,    2.28,2,   0.287,2,   0.168,2,   0.013,2,  2264.0,2,  2359.9,2,  1069.6,2,   20.00,   7.6216,2,    25.00,-999.000,9, -999.00,-999.000,9,-999.000,9, -999.00,9,  -999.0,9,  -999.0,-999.000,9,-999.000,   0.381,3, -999.00,9, 2900.80,-999.0000,9,-999.0000,9,-999.0000,9,-999.0000,9,-999.0000,9,-999.0000,9,   0.4035,     -999.0,-999.000,     -999.0,          9,     -999.0,          9,-999.000,          9