BOTTLE,20220818CCHSIOAMB
EXPOCODE,SECT_ID,STNNBR,CASTNO,SAMPNO,BTLNBR,BTLNBR_FLAG_W,DATE,TIME,LATITUDE,LONGITUDE,DEPTH,CTDPRS,CTDTMP,CTDSAL,CTDSAL_FLAG_W,SALNTY,SALNTY_FLAG_W,CTDOXY,CTDOXY_FLAG_W,OXYGEN,OXYGEN_FLAG_W,SILCAT,SILCAT_FLAG_W,NITRAT,NITRAT_FLAG_W,NITRIT,NITRIT_FLAG_W,PHSPHT,PHSPHT_FLAG_W,CFC-11,CFC-11_FLAG_W,CFC-12,CFC-12_FLAG_W,CFC113,CFC113_FLAG_W,TCARBN,TCARBN_FLAG_W,ALKALI,ALKALI_FLAG_W,PCO2,PCO2_FLAG_W,PCO2TMP,PH_SWS,PH_SWS_FLAG_W,PH_TMP,TRITUM,TRITUM_FLAG_W,TRITER,HELIUM,HELIUM_FLAG_W,DELHE3,DELHE3_FLAG_W,DELC13,DELC13_FLAG_W,DELC14,DELC14_FLAG_W,C14ERR,NEON,NEON_FLAG_W,NEONER,CCL4,CCL4_FLAG_W,DOC,DOC_FLAG_W,CTDRAW,CDOM325,CDOM325_FLAG_W,CDOM340,CDOM340_FLAG_W,CDOM380,CDOM380_FLAG_W,CDOM412,CDOM412_FLAG_W,CDOMSL,CDOMSL_FLAG_W,CDOMSN,CDOMSN_FLAG_W,THETA,HELIER,DELHER,CH3CL,CH3CL_FLAG_W,CH3BR,CH3BR_FLAG_W,CH3I,CH3I_FLAG_W
,,,,,,,,,,,METERS,DBAR,ITS-90,PSS-78,,PSS-78,,UMOL/KG,,UMOL/KG,,UMOL/KG,,UMOL/KG,,UMOL/KG,,UMOL/KG,,PMOL/KG,,PMOL/KG,,PMOL/KG,,UMOL/KG,,UMOL/KG,,UATM,,DEG C,,,DEG C,TU,,TU,NMOL/KG,,PERCNT,,/MILLE,,/MILLE,,/MILLE,NMOL/KG,,NMOL/KG,PMOL/KG,,UMOL/KG,,DBAR,1/M,,1/M,,1/M,,1/M,,1/NM,,1/NM,,DEG C,NMOL/KG,PERCNT,PMOL/KG,,PMOL/KG,,PMOL/KG,
 33RO200501,       A16S,      68,          1,         36,         36,2,20050205,       1553,   -28.5005,   -25.0018,       5072,     2.4,  23.2097,  36.2711,2,  36.2705,2,    216.0,2,   216.4,2,    1.26,2,    0.00,2,    0.00,2,    0.04,2,   1.924,2,   1.213,2,   0.163,2,  2070.1,6,  1927.7,4,  -999.0,9,   20.00,   8.0325,6,    25.00,   0.539,2,    0.01,-999.000,9,-999.000,9, -999.00,9,  -999.0,9,  -999.0,-999.000,9,-999.000,   1.670,4, -999.00,9,    2.40,-999.0000,9,-999.0000,9,-999.0000,9,-999.0000,9,-999.0000,9,-999.0000,9,  23.2092,     -999.0,-999.000,     58.806,          2,      0.194,          2,   3.473,          2
 33RO200501,       A16S,      68,          1,         35,         35,2,20050205,       1553,   -28.5005,   -25.0018,       5072,    19.5,  23.2111,  36.2698,2,  36.2681,2,    216.1,2,   216.0,2,    1.30,2,    0.00,2,    0.00,2,    0.04,2,-999.000,9,-999.000,9,-999.000,9,  -999.0,9,  -999.0,9,  -999.0,9,   20.00,-999.0000,9,    25.00,   0.536,2,    0.02,-999.000,9,-999.000,9, -999.00,9,  -999.0,9,  -999.0,-999.000,9,-999.000,-999.000,9, -999.00,9,   19.50,-999.0000,9,-999.0000,9,-999.0000,9,-999.0000,9,-999.0000,9,-999.0000,9,  23.2070,     -999.0,-999.000,     65.447,          2,      0.061,          2,   3.697,          2
 33RO200501,       A16S,      68,          1,         34,         34,2,20050205,       1553,   -28.5005,   -25.0018,       5072,    38.8,  23.1406,  36.2738,2,  36.2731,2,    216.4,2,   216.2,2,    1.31,2,    0.00,2,    0.00,2,    0.07,2,-999.000,9,-999.000,9,-999.000,9,  -999.0,9,  -999.0,9,  -999.0,9,   20.00,-999.0000,9,    25.00,   0.554,2,    0.01,-999.000,9,-999.000,9, -999.00,9,  -999.0,9,  -999.0,-999.000,9,-999.000,-999.000,9, -999.00,9,   38.80,-999.0000,9,-999.0000,9,-999.0000,9,-999.0000,9,-999.0000,9,-999.0000,9,  23.1326,     -999.0,-999.000,     -999.0,          9,     -999.0,          9,-999.000,          9
 33RO200501,       A16S,      68,          1,         33,         33,2,20050205,       1553,   -28.5005,   -25.0018,       5072,    58.7,  21.1433,  36.2125,2,  36.2120,2,    231.1,2,   232.0,2,    1.34,2,    0.00,2,    0.00,2,    0.08,2,-999.000,9,-999.000,9,-999.000,9,  -999.0,9,  -999.0,9,  -999.0,9,   20.00,-999.0000,9,    25.00,   0.682,2,    0.02,-999.000,9,-999.000,9, -999.00,9,  -999.0,9,  -999.0,-999.000,9,-999.000,-999.000,9, -999.00,9,   58.70,-999.0000,9,-999.0000,9,-999.0000,9,-999.0000,9,-999.0000,9,-999.0000,9,  21.1320,     -999.0,-999.000,    145.558,          2,      1.488,          2,   6.407,          2
 33RO200501,       A16S,      68,          1,         32,         32,2,20050205,       1553,   -28.5005,   -25.0018,       5072,    78.6,  20.3495,  36.2220,2,  36.2205,2,    233.0,2,   233.0,2,    1.45,2,    0.00,2,    0.00,2,    0.09,2,-999.000,9,-999.000,9,-999.000,9,  2073.9,2,  2373.0,2,  -999.0,9,   20.00,   8.0156,2,    25.00,-999.000,9, -999.00,-999.000,9,-999.000,9, -999.00,9,  -999.0,9,  -999.0,-999.000,9,-999.000,-999.000,9, -999.00,9,   78.60,-999.0000,9,-999.0000,9,-999.0000,9,-999.0000,9,-999.0000,9,-999.0000,9,  20.3347,     -999.0,-999.000,     -999.0,          9,     -999.0,          9,-999.000,          9
 33RO200501,       A16S,      68,          1,         31,         31,2,20050205,       1553,   -28.5005,   -25.0018,       5072,    98.7,  19.8755,  36.2125,2,  36.2116,2,    230.8,2,   230.3,2,    1.41,2,    0.00,2,    0.00,2,    0.10,2,-999.000,9,-999.000,9,-999.000,9,  -999.0,9,  -999.0,9,  -999.0,9,   20.00,-999.0000,9,    25.00,   0.562,2,    0.02,-999.000,9,-999.000,9, -999.00,9,  -999.0,9,  -999.0,-999.000,9,-999.000,-999.000,9, -999.00,9,   98.70,-999.0000,9,-999.0000,9,-999.0000,9,-999.0000,9,-999.0000,9,-999.0000,9,  19.8572,     -999.0,-999.000,     85.372,          2,      0.000,          2,   3.610,          2
 33RO200501,       A16S,      68,          1,         30,         30,2,20050205,       1553,   -28.5005,   -25.0018,       5072,   124.3,  19.4678,  36.1491,2,  36.1437,2,    227.0,2,   227.5,2,    1.46,2,    0.00,2,    0.00,2,    0.12,2,-999.000,9,-999.000,9,-999.000,9,  -999.0,9,  -999.0,9,  -999.0,9,   20.00,-999.0000,9,    25.00,-999.000,9, -999.00,-999.000,9,-999.000,9, -999.00,9,  -999.0,9,  -999.0,-999.000,9,-999.000,-999.000,9, -999.00,9,  124.30,-999.0000,9,-999.0000,9,-999.0000,9,-999.0000,9,-999.0000,9,-999.0000,9,  19.4451,     -999.0,-999.000,     -999.0,          9,     -999.0,          9,-999.000,          9
 33RO200501,       A16S,      68,          1,         29,         29,2,20050205,       1553,   -28.5005,   -25.0018,       5072,   148.9,  18.7983,  36.0212,2,  35.9802,2,    225.3,2,   226.2,2,    1.52,2,    0.00,2,    0.03,2,    0.15,2,   2.365,2,   1.431,2,   0.187,2,  -999.0,9,  -999.0,9,  -999.0,9,   20.00,-999.0000,9,    25.00,   0.507,2,    0.02,-999.000,9,-999.000,9, -999.00,9,  -999.0,9,  -999.0,-999.000,9,-999.000,   1.458,4, -999.00,9,  148.90,-999.0000,9,-999.0000,9,-999.0000,9,-999.0000,9,-999.0000,9,-999.0000,9,  18.7718,     -999.0,-999.000,     26.150,          2,      0.000,          2,   0.667,          2
 33RO200501,       A16S,      68,          1,         28,         28,2,20050205,       1553,   -28.5005,   -25.0018,       5072,   174.3,  17.3738,  35.7704,2,  35.7636,2,    222.1,2,   220.7,2,    1.68,2,    0.63,2,    0.08,2,    0.22,2,-999.000,9,-999.000,9,-999.000,9,  -999.0,9,  -999.0,9,  -999.0,9,   20.00,-999.0000,9,    25.00,-999.000,9, -999.00,-999.000,9,-999.000,9, -999.00,9,  -999.0,9,  -999.0,-999.000,9,-999.000,-999.000,9, -999.00,9,  174.30,-999.0000,9,-999.0000,9,-999.0000,9,-999.0000,9,-999.0000,9,-999.0000,9,  17.3445,     -999.0,-999.000,     -999.0,          9,     -999.0,          9,-999.000,          9
 33RO200501,       A16S,      68,          1,         27,         27,2,20050205,       1553,   -28.5005,   -25.0018,       5072,   199.6,  16.3675,  35.6280,2,  35.6304,2,    214.9,2,   216.0,2,    2.15,2,    2.49,2,    0.02,2,    0.33,2,-999.000,9,-999.000,9,-999.000,9,  -999.0,9,  -999.0,9,  -999.0,9,   20.00,-999.0000,9,    25.00,   0.567,2,    0.03,-999.000,9,-999.000,9, -999.00,9,  -999.0,9,  -999.0,-999.000,9,-999.000,-999.000,9, -999.00,9,  199.60,-999.0000,9,-999.0000,9,-999.0000,9,-999.0000,9,-999.0000,9,-999.0000,9,  16.3353,     -999.0,-999.000,      7.048,          2,      0.000,          2,   0.070,          2
 33RO200501,       A16S,      68,          1,         26,         26,2,20050205,       1553,   -28.5005,   -25.0018,       5072,   247.9,  15.1640,  35.4655,2,  35.4637,2,    212.8,2,   213.4,2,    2.81,2,    5.14,2,    0.01,2,    0.47,2,-999.000,9,-999.000,9,-999.000,9,  2101.1,2,  2330.1,2,  -999.0,9,   20.00,   7.9067,2,    25.00,-999.000,9, -999.00,-999.000,9,-999.000,9, -999.00,9,  -999.0,9,  -999.0,-999.000,9,-999.000,-999.000,9, -999.00,9,  247.90,-999.0000,9,-999.0000,9,-999.0000,9,-999.0000,9,-999.0000,9,-999.0000,9,  15.1260,     -999.0,-999.000,     -999.0,          9,     -999.0,          9,-999.000,          9
 33RO200501,       A16S,      68,          1,         25,         25,2,20050205,       1553,   -28.5005,   -25.0018,       5072,   298.4,  13.9823,  35.3171,2,  35.3127,2,    213.0,2,   213.2,2,    3.06,2,    7.34,2,    0.00,2,    0.58,2,   2.909,2,   1.646,2,   0.048,2,  -999.0,9,  -999.0,9,  -999.0,9,   20.00,-999.0000,9,    25.00,   0.451,2,    0.02,-999.000,9,-999.000,9, -999.00,9,  -999.0,9,  -999.0,-999.000,9,-999.000,   0.637,4, -999.00,9,  298.40,-999.0000,9,-999.0000,9,-999.0000,9,-999.0000,9,-999.0000,9,-999.0000,9,  13.9389,     -999.0,-999.000,     13.226,          2,      0.094,          2,   0.035,          2
 33RO200501,       A16S,      68,          1,         24,         24,2,20050205,       1553,   -28.5005,   -25.0018,       5072,   348.4,  13.0474,  35.1941,2,  35.1976,2,    212.4,2,   212.5,2,    3.76,2,    9.39,2,    0.00,2,    0.70,2,-999.000,9,-999.000,9,-999.000,9,  -999.0,9,  -999.0,9,  -999.0,9,   20.00,-999.0000,9,    25.00,-999.000,9, -999.00,-999.000,9,-999.000,9, -999.00,9,  -999.0,9,  -999.0,-999.000,9,-999.000,-999.000,9, -999.00,9,  348.40,-999.0000,9,-999.0000,9,-999.0000,9,-999.0000,9,-999.0000,9,-999.0000,9,  12.9990,     -999.0,-999.000,     -999.0,          9,     -999.0,          9,-999.000,          9
 33RO200501,       A16S,      68,          1,         23,         23,2,20050205,       1553,   -28.5005,   -25.0018,       5072,   399.3,  12.2507,  35.0778,2,  35.0759,2,    209.1,2,   208.9,2,    5.03,2,   11.87,2,    0.00,2,    0.85,2,-999.000,9,-999.000,9,-999.000,9,  -999.0,9,  -999.0,9,  -999.0,9,   20.00,-999.0000,9,    25.00,   0.397,2,    0.01,-999.000,9,-999.000,9, -999.00,9,  -999.0,9,  -999.0,-999.000,9,-999.000,-999.000,9, -999.00,9,  399.30,-999.0000,9,-999.0000,9,-999.0000,9,-999.0000,9,-999.0000,9,-999.0000,9,  12.1974,     -999.0,-999.000,     -999.0,          9,     -999.0,          9,-999.000,          9
 33RO200501,       A16S,      68,          1,         22,         22,2,20050205,       1553,   -28.5005,   -25.0018,       5072,   498.4,  10.3849,  34.8488,2,  34.8491,2,    207.1,2,   207.3,2,    7.02,2,   16.34,2,    0.00,2,    1.11,2,-999.000,9,-999.000,9,-999.000,9,  -999.0,9,  -999.0,9,  -999.0,9,   20.00,-999.0000,9,    25.00,-999.000,9, -999.00,-999.000,9,-999.000,9, -999.00,9,  -999.0,9,  -999.0,-999.000,9,-999.000,-999.000,9, -999.00,9,  498.40,-999.0000,9,-999.0000,9,-999.0000,9,-999.0000,9,-999.0000,9,-999.0000,9,  10.3249,     -999.0,-999.000,      2.913,          2,      0.326,          2,   0.024,          2
 33RO200501,       A16S,      68,          1,         21,         21,2,20050205,       1553,   -28.5005,   -25.0018,       5072,   598.2,   8.0634,  34.5847,2,  34.5871,2,    206.6,2,   206.6,2,   11.33,2,   22.08,2,    0.00,2,    1.46,2,   2.872,2,   1.480,2,   0.116,2,  2152.0,2,  2293.7,2,  -999.0,9,   20.00,   7.7190,2,    25.00,   0.193,2,    0.01,-999.000,9,-999.000,9, -999.00,9,  -999.0,9,  -999.0,-999.000,9,-999.000,   1.554,4, -999.00,9,  598.20,-999.0000,9,-999.0000,9,-999.0000,9,-999.0000,9,-999.0000,9,-999.0000,9,   8.0014,     -999.0,-999.000,     -999.0,          9,     -999.0,          9,-999.000,          9
 33RO200501,       A16S,      68,          1,         20,         20,2,20050205,       1553,   -28.5005,   -25.0018,       5072,   699.5,   6.4878,  34.4342,2,  34.4345,2,    212.1,2,   213.0,2,   15.26,2,   25.46,2,    0.00,2,    1.66,2,-999.000,9,-999.000,9,-999.000,9,  -999.0,9,  -999.0,9,  -999.0,9,   20.00,-999.0000,9,    25.00,   0.143,2,    0.01,-999.000,9,-999.000,9, -999.00,9,  -999.0,9,  -999.0,-999.000,9,-999.000,-999.000,9, -999.00,9,  699.50,-999.0000,9,-999.0000,9,-999.0000,9,-999.0000,9,-999.0000,9,-999.0000,9,   6.4232,     -999.0,-999.000,     -999.0,          9,     -999.0,          9,-999.000,          9
 33RO200501,       A16S,      68,          1,         19,         19,2,20050205,       1553,   -28.5005,   -25.0018,       5072,   798.7,   5.1227,  34.3400,2,  34.3392,2,    217.6,2,   218.1,2,   21.50,2,   28.30,2,    0.00,2,    1.85,2,-999.000,9,-999.000,9,-999.000,9,  -999.0,9,  -999.0,9,  -999.0,9,   20.00,-999.0000,9,    25.00,   0.092,2,    0.01,-999.000,9,-999.000,9, -999.00,9,  -999.0,9,  -999.0,-999.000,9,-999.000,-999.000,9, -999.00,9,  798.70,-999.0000,9,-999.0000,9,-999.0000,9,-999.0000,9,-999.0000,9,-999.0000,9,   5.0568,     -999.0,-999.000,      2.406,          2,      0.151,          2,   0.014,          2
 33RO200501,       A16S,      68,          1,         18,         18,2,20050205,       1553,   -28.5005,   -25.0018,       5072,   898.5,   4.3270,  34.3207,2,  34.3200,2,    215.9,2,   216.1,2,   28.00,2,   29.96,2,    0.00,2,    1.97,2,-999.000,9,-999.000,9,-999.000,9,  -999.0,9,  -999.0,9,  -999.0,9,   20.00,-999.0000,9,    25.00,   0.055,2,    0.01,-999.000,9,-999.000,9, -999.00,9,  -999.0,9,  -999.0,-999.000,9,-999.000,-999.000,9, -999.00,9,  898.50,-999.0000,9,-999.0000,9,-999.0000,9,-999.0000,9,-999.0000,9,-999.0000,9,   4.2577,     -999.0,-999.000,     -999.0,          9,     -999.0,          9,-999.000,          9
 33RO200501,       A16S,      68,          1,         17,         17,2,20050205,       1553,   -28.5005,   -25.0018,       5072,  1099.1,   3.4062,  34.3951,2,  34.3977,2,    199.1,2,   199.2,2,   43.85,2,   32.20,2,    0.00,2,    2.14,2,-999.000,9,-999.000,9,-999.000,9,  2212.7,2,  2305.4,2,  -999.0,9,   20.00,   7.6114,2,    25.00,   0.025,2,    0.00,-999.000,9,-999.000,9, -999.00,9,  -999.0,9,  -999.0,-999.000,9,-999.000,-999.000,9, -999.00,9, 1099.10,-999.0000,9,-999.0000,9,-999.0000,9,-999.0000,9,-999.0000,9,-999.0000,9,   3.3274,     -999.0,-999.000,     -999.0,          9,     -999.0,          9,-999.000,          9
 33RO200501,       A16S,      68,          1,         16,         16,2,20050205,       1553,   -28.5005,   -25.0018,       5072,  1297.9,   3.0383,  34.5212,2,  34.5214,2,    189.0,2,   188.6,2,   53.54,2,   32.17,2,    0.00,2,    2.15,2,   0.391,2,   0.183,2,   0.016,2,  -999.0,9,  -999.0,9,  -999.0,9,   20.00,-999.0000,9,    25.00,   0.033,2,    0.00,-999.000,9,-999.000,9, -999.00,9,  -999.0,9,  -999.0,-999.000,9,-999.000,   0.591,4, -999.00,9, 1297.90,-999.0000,9,-999.0000,9,-999.0000,9,-999.0000,9,-999.0000,9,-999.0000,9,   2.9467,     -999.0,-999.000,      3.538,          2,      0.430,          2,   0.016,          2
 33RO200501,       A16S,      68,          1,         15,         15,2,20050205,       1553,   -28.5005,   -25.0018,       5072,  1499.0,   2.9064,  34.6570,2,  34.6549,2,    192.6,2,   192.6,2,   54.88,2,   30.25,2,    0.00,2,    2.01,2,-999.000,9,-999.000,9,-999.000,9,  -999.0,9,  -999.0,9,  -999.0,9,   20.00,-999.0000,9,    25.00,   0.001,2,    0.01,-999.000,9,-999.000,9, -999.00,9,  -999.0,9,  -999.0,-999.000,9,-999.000,-999.000,9, -999.00,9, 1499.00,-999.0000,9,-999.0000,9,-999.0000,9,-999.0000,9,-999.0000,9,-999.0000,9,   2.7995,     -999.0,-999.000,     -999.0,          9,     -999.0,          9,-999.000,          9
 33RO200501,       A16S,      68,          1,         14,         14,2,20050205,       1553,   -28.5005,   -25.0018,       5072,  1698.0,   2.8368,  34.7359,2,  34.7365,2,    203.5,2,   204.0,2,   52.58,2,   28.15,2,    0.00,2,    1.85,2,-999.000,9,-999.000,9,-999.000,9,  -999.0,9,  -999.0,9,  -999.0,9,   20.00,-999.0000,9,    25.00,   0.001,2,    0.00,-999.000,9,-999.000,9, -999.00,9,  -999.0,9,  -999.0,-999.000,9,-999.000,-999.000,9, -999.00,9, 1698.00,-999.0000,9,-999.0000,9,-999.0000,9,-999.0000,9,-999.0000,9,-999.0000,9,   2.7138,     -999.0,-999.000,     -999.0,          9,     -999.0,          9,-999.000,          9
 33RO200501,       A16S,      68,          1,         13,         13,2,20050205,       1553,   -28.5005,   -25.0018,       5072,  1897.3,   2.8177,  34.8022,2,  34.8014,2,    217.4,2,   217.6,2,   47.81,2,   25.94,2,    0.00,2,    1.70,2,-999.000,9,-999.000,9,-999.000,9,  -999.0,9,  -999.0,9,  -999.0,9,   20.00,-999.0000,9,    25.00,   0.001,2,    0.00,-999.000,9,-999.000,9, -999.00,9,  -999.0,9,  -999.0,-999.000,9,-999.000,-999.000,9, -999.00,9, 1897.30,-999.0000,9,-999.0000,9,-999.0000,9,-999.0000,9,-999.0000,9,-999.0000,9,   2.6775,     -999.0,-999.000,      1.880,          2,      0.233,          2,   0.010,          2
 33RO200501,       A16S,      68,          1,         12,         12,2,20050205,       1553,   -28.5005,   -25.0018,       5072,  2199.1,   2.8502,  34.8727,2,  34.8737,2,   -999.0,9,   240.8,3,   39.74,2,   23.11,2,    0.00,2,    1.50,2,-999.000,9,-999.000,9,-999.000,9,  2189.1,2,  2323.1,2,  -999.0,9,   20.00,   7.7058,2,    25.00,   0.027,2,    0.00,-999.000,9,-999.000,9, -999.00,9,  -999.0,9,  -999.0,-999.000,9,-999.000,-999.000,9, -999.00,9, 2199.10,-999.0000,9,-999.0000,9,-999.0000,9,-999.0000,9,-999.0000,9,-999.0000,9,   2.6819,     -999.0,-999.000,     -999.0,          9,     -999.0,          9,-999.000,          9
 33RO200501,       A16S,      68,          1,         11,         11,2,20050205,       1553,   -28.5005,   -25.0018,       5072,  2499.0,   2.8577,  34.9051,2,  34.9052,2,    244.3,2,   244.6,2,   35.27,2,   21.74,2,    0.00,2,    1.40,2,   0.009,2,   0.001,2,   0.000,2,  -999.0,9,  -999.0,9,  -999.0,9,   20.00,-999.0000,9,    25.00,-999.000,9, -999.00,-999.000,9,-999.000,9, -999.00,9,  -999.0,9,  -999.0,-999.000,9,-999.000,   0.040,4, -999.00,9, 2499.00,-999.0000,9,-999.0000,9,-999.0000,9,-999.0000,9,-999.0000,9,-999.0000,9,   2.6606,     -999.0,-999.000,      3.775,          2,      0.397,          2,   0.013,          2
 33RO200501,       A16S,      68,          1,         10,         10,2,20050205,       1553,   -28.5005,   -25.0018,       5072,  2797.9,   2.7827,  34.9139,2,  34.9141,2,    248.6,2,   248.8,2,   34.84,2,   21.20,2,    0.00,2,    1.37,2,-999.000,9,-999.000,9,-999.000,9,  -999.0,9,  -999.0,9,  -999.0,9,   20.00,-999.0000,9,    25.00,-999.000,9, -999.00,-999.000,9,-999.000,9, -999.00,9,  -999.0,9,  -999.0,-999.000,9,-999.000,-999.000,9, -999.00,9, 2797.90,-999.0000,9,-999.0000,9,-999.0000,9,-999.0000,9,-999.0000,9,-999.0000,9,   2.5574,     -999.0,-999.000,     -999.0,          9,     -999.0,          9,-999.000,          9
 33RO200501,       A16S,      68,          1,          9,          9,2,20050205,       1553,   -28.5005,   -25.0018,       5072,  3094.2,   2.6378,  34.9067,2,  34.9070,2,    249.5,2,   249.6,2,   37.97,2,   21.36,2,    0.00,2,    1.39,2,-999.000,9,-999.000,9,-999.000,9,  -999.0,9,  -999.0,9,  -999.0,9,   20.00,-999.0000,9,    25.00,-999.000,9, -999.00,-999.000,9,-999.000,9, -999.00,9,  -999.0,9,  -999.0,-999.000,9,-999.000,-999.000,9, -999.00,9, 3094.20,-999.0000,9,-999.0000,9,-999.0000,9,-999.0000,9,-999.0000,9,-999.0000,9,   2.3852,     -999.0,-999.000,      2.529,          2,      0.007,          2,   0.024,          2
 33RO200501,       A16S,      68,          1,          8,          8,2,20050205,       1553,   -28.5005,   -25.0018,       5072,  3399.6,   2.3527,  34.8825,2,  34.8836,2,    247.4,2,   247.5,2,   47.04,2,   22.39,2,    0.00,2,    1.48,2,-999.000,9,-999.000,9,-999.000,9,  2190.8,2,  2330.2,2,  -999.0,9,   20.00,   7.7212,2,    25.00,-999.000,9, -999.00,-999.000,9,-999.000,9, -999.00,9,  -999.0,9,  -999.0,-999.000,9,-999.000,-999.000,9, -999.00,9, 3399.60,-999.0000,9,-999.0000,9,-999.0000,9,-999.0000,9,-999.0000,9,-999.0000,9,   2.0748,     -999.0,-999.000,     -999.0,          9,     -999.0,          9,-999.000,          9