BOTTLE,20220818CCHSIOAMB
EXPOCODE,SECT_ID,STNNBR,CASTNO,SAMPNO,BTLNBR,BTLNBR_FLAG_W,DATE,TIME,LATITUDE,LONGITUDE,DEPTH,CTDPRS,CTDTMP,CTDSAL,CTDSAL_FLAG_W,SALNTY,SALNTY_FLAG_W,CTDOXY,CTDOXY_FLAG_W,OXYGEN,OXYGEN_FLAG_W,SILCAT,SILCAT_FLAG_W,NITRAT,NITRAT_FLAG_W,NITRIT,NITRIT_FLAG_W,PHSPHT,PHSPHT_FLAG_W,CFC-11,CFC-11_FLAG_W,CFC-12,CFC-12_FLAG_W,CFC113,CFC113_FLAG_W,TCARBN,TCARBN_FLAG_W,ALKALI,ALKALI_FLAG_W,PCO2,PCO2_FLAG_W,PCO2TMP,PH_SWS,PH_SWS_FLAG_W,PH_TMP,TRITUM,TRITUM_FLAG_W,TRITER,HELIUM,HELIUM_FLAG_W,DELHE3,DELHE3_FLAG_W,DELC13,DELC13_FLAG_W,DELC14,DELC14_FLAG_W,C14ERR,NEON,NEON_FLAG_W,NEONER,CCL4,CCL4_FLAG_W,DOC,DOC_FLAG_W,CTDRAW,CDOM325,CDOM325_FLAG_W,CDOM340,CDOM340_FLAG_W,CDOM380,CDOM380_FLAG_W,CDOM412,CDOM412_FLAG_W,CDOMSL,CDOMSL_FLAG_W,CDOMSN,CDOMSN_FLAG_W,THETA,HELIER,DELHER,CH3CL,CH3CL_FLAG_W,CH3BR,CH3BR_FLAG_W,CH3I,CH3I_FLAG_W
,,,,,,,,,,,METERS,DBAR,ITS-90,PSS-78,,PSS-78,,UMOL/KG,,UMOL/KG,,UMOL/KG,,UMOL/KG,,UMOL/KG,,UMOL/KG,,PMOL/KG,,PMOL/KG,,PMOL/KG,,UMOL/KG,,UMOL/KG,,UATM,,DEG C,,,DEG C,TU,,TU,NMOL/KG,,PERCNT,,/MILLE,,/MILLE,,/MILLE,NMOL/KG,,NMOL/KG,PMOL/KG,,UMOL/KG,,DBAR,1/M,,1/M,,1/M,,1/M,,1/NM,,1/NM,,DEG C,NMOL/KG,PERCNT,PMOL/KG,,PMOL/KG,,PMOL/KG,
 33RO200501,       A16S,     108,          1,          7,          7,2,20050217,       2022,    -8.5002,   -25.0003,       5733,  4200.0,   1.4818,  34.7984,2,  34.7968,2,    236.9,2,   236.7,2,   78.38,6,   26.00,2,    0.00,6,    1.72,6,-999.000,9,-999.000,9,-999.000,9,  -999.0,9,  -999.0,9,  -999.0,9,   20.00,-999.0000,9,    25.00,-999.000,9, -999.00,-999.000,9,-999.000,9, -999.00,9,  -999.0,9,  -999.0,-999.000,9,-999.000,-999.000,9, -999.00,9, 4200.00,-999.0000,9,-999.0000,9,-999.0000,9,-999.0000,9,-999.0000,9,-999.0000,9,   1.1407,     -999.0,-999.000,      0.128,          2,      0.080,          2,   0.015,          2
 33RO200501,       A16S,     108,          1,          6,          6,2,20050217,       2022,    -8.5002,   -25.0003,       5733,  4498.3,   1.0583,  34.7528,2,  34.7520,2,    229.0,2,   229.0,2,   96.17,6,   28.44,2,    0.00,6,    1.90,6,-999.000,9,-999.000,9,-999.000,9,  -999.0,9,  -999.0,9,  -999.0,9,   20.00,-999.0000,9,    25.00,-999.000,9, -999.00,-999.000,9,-999.000,9, -999.00,9,  -999.0,9,  -999.0,-999.000,9,-999.000,-999.000,9, -999.00,9, 4498.30,-999.0000,9,-999.0000,9,-999.0000,9,-999.0000,9,-999.0000,9,-999.0000,9,   0.6968,     -999.0,-999.000,     -999.0,          9,     -999.0,          9,-999.000,          9
 33RO200501,       A16S,     108,          1,          5,          5,2,20050217,       2022,    -8.5002,   -25.0003,       5733,  4848.9,   0.8369,  34.7266,2,  34.7243,3,    224.8,2,   224.8,2,  106.33,6,   29.81,6,    0.00,6,    2.00,6,   0.025,2,   0.007,2,   0.001,2,  2249.7,2,  2359.6,2,  -999.0,9,   20.00,   7.6397,2,    25.00,-999.000,9, -999.00,-999.000,9,-999.000,9, -999.00,9,  -999.0,9,  -999.0,-999.000,9,-999.000,   0.064,4, -999.00,9, 4848.90,-999.0000,9,-999.0000,9,-999.0000,9,-999.0000,9,-999.0000,9,-999.0000,9,   0.4426,     -999.0,-999.000,      0.000,          2,      0.000,          2,   0.010,          2
 33RO200501,       A16S,     108,          1,          4,          4,2,20050217,       2022,    -8.5002,   -25.0003,       5733,  5348.7,   0.7421,  34.7102,2,  34.7093,2,    222.9,2,   222.1,2,  112.00,6,   30.59,6,    0.00,6,    2.05,6,-999.000,9,-999.000,9,-999.000,9,  -999.0,9,  -999.0,9,  -999.0,9,   20.00,-999.0000,9,    25.00,-999.000,9, -999.00,-999.000,9,-999.000,9, -999.00,9,  -999.0,9,  -999.0,-999.000,9,-999.000,-999.000,9, -999.00,9, 5348.70,-999.0000,9,-999.0000,9,-999.0000,9,-999.0000,9,-999.0000,9,-999.0000,9,   0.2917,     -999.0,-999.000,     -999.0,          9,     -999.0,          9,-999.000,          9
 33RO200501,       A16S,     108,          1,          2,          2,2,20050217,       2022,    -8.5002,   -25.0003,       5733,  5699.6,   0.7351,  34.7042,2,  34.7038,2,    222.4,2,   222.1,2,  114.15,6,   30.88,6,    0.00,6,    2.08,6,-999.000,9,-999.000,9,-999.000,9,  -999.0,9,  -999.0,9,  -999.0,9,   20.00,-999.0000,9,    25.00,-999.000,9, -999.00,-999.000,9,-999.000,9, -999.00,9,  -999.0,9,  -999.0,-999.000,9,-999.000,-999.000,9, -999.00,9, 5699.60,-999.0000,9,-999.0000,9,-999.0000,9,-999.0000,9,-999.0000,9,-999.0000,9,   0.2416,     -999.0,-999.000,     -999.0,          9,     -999.0,          9,-999.000,          9
 33RO200501,       A16S,     108,          1,          3,          3,2,20050217,       2022,    -8.5002,   -25.0003,       5733,  5699.9,   0.7357,  34.7042,2,  34.7032,3,    222.4,2,   223.3,2,  114.15,6,   30.88,6,    0.00,6,    2.07,6,-999.000,9,-999.000,9,-999.000,9,  -999.0,9,  -999.0,9,  -999.0,9,   20.00,-999.0000,9,    25.00,-999.000,9, -999.00,-999.000,9,-999.000,9, -999.00,9,  -999.0,9,  -999.0,-999.000,9,-999.000,-999.000,9, -999.00,9, 5699.90,-999.0000,9,-999.0000,9,-999.0000,9,-999.0000,9,-999.0000,9,-999.0000,9,   0.2420,     -999.0,-999.000,      0.000,          2,      0.067,          2,   0.021,          2
 33RO200501,       A16S,     108,          1,          1,          1,2,20050217,       2022,    -8.5002,   -25.0003,       5733,  5818.9,   0.7407,  34.7028,2,  34.7058,3,    222.1,2,   221.8,2,  114.45,6,   30.88,6,    0.00,6,    2.08,6,   0.062,2,   0.028,2,   0.001,2,  2257.4,2,  2359.0,2,  -999.0,9,   20.00,   7.6247,2,    25.00,-999.000,9, -999.00,-999.000,9,-999.000,9, -999.00,9,  -999.0,9,  -999.0,-999.000,9,-999.000,   0.131,4, -999.00,9, 5818.90,-999.0000,9,-999.0000,9,-999.0000,9,-999.0000,9,-999.0000,9,-999.0000,9,   0.2317,     -999.0,-999.000,     10.900,          2,      0.944,          2,   0.138,          2