BOTTLE,20220818CCHSIOAMB
EXPOCODE,SECT_ID,STNNBR,CASTNO,SAMPNO,BTLNBR,BTLNBR_FLAG_W,DATE,TIME,LATITUDE,LONGITUDE,DEPTH,CTDPRS,CTDTMP,CTDSAL,CTDSAL_FLAG_W,SALNTY,SALNTY_FLAG_W,CTDOXY,CTDOXY_FLAG_W,OXYGEN,OXYGEN_FLAG_W,SILCAT,SILCAT_FLAG_W,NITRAT,NITRAT_FLAG_W,NITRIT,NITRIT_FLAG_W,PHSPHT,PHSPHT_FLAG_W,CFC-11,CFC-11_FLAG_W,CFC-12,CFC-12_FLAG_W,CFC113,CFC113_FLAG_W,TCARBN,TCARBN_FLAG_W,ALKALI,ALKALI_FLAG_W,PCO2,PCO2_FLAG_W,PCO2TMP,PH_SWS,PH_SWS_FLAG_W,PH_TMP,TRITUM,TRITUM_FLAG_W,TRITER,HELIUM,HELIUM_FLAG_W,DELHE3,DELHE3_FLAG_W,DELC13,DELC13_FLAG_W,DELC14,DELC14_FLAG_W,C14ERR,NEON,NEON_FLAG_W,NEONER,CCL4,CCL4_FLAG_W,DOC,DOC_FLAG_W,CTDRAW,CDOM325,CDOM325_FLAG_W,CDOM340,CDOM340_FLAG_W,CDOM380,CDOM380_FLAG_W,CDOM412,CDOM412_FLAG_W,CDOMSL,CDOMSL_FLAG_W,CDOMSN,CDOMSN_FLAG_W,THETA,HELIER,DELHER,CH3CL,CH3CL_FLAG_W,CH3BR,CH3BR_FLAG_W,CH3I,CH3I_FLAG_W
,,,,,,,,,,,METERS,DBAR,ITS-90,PSS-78,,PSS-78,,UMOL/KG,,UMOL/KG,,UMOL/KG,,UMOL/KG,,UMOL/KG,,UMOL/KG,,PMOL/KG,,PMOL/KG,,PMOL/KG,,UMOL/KG,,UMOL/KG,,UATM,,DEG C,,,DEG C,TU,,TU,NMOL/KG,,PERCNT,,/MILLE,,/MILLE,,/MILLE,NMOL/KG,,NMOL/KG,PMOL/KG,,UMOL/KG,,DBAR,1/M,,1/M,,1/M,,1/M,,1/NM,,1/NM,,DEG C,NMOL/KG,PERCNT,PMOL/KG,,PMOL/KG,,PMOL/KG,
 33RO200501,       A16S,      59,          1,          7,          7,2,20050202,       2104,   -33.0003,   -24.9980,       4437,  2838.8,   2.7546,  34.8930,2,  34.8937,2,    242.8,2,   242.6,2,   39.44,6,   22.23,6,    0.00,6,    1.44,4,   0.008,6,   0.001,6,   0.000,6,  2186.6,2,  2328.4,2,  -999.0,9,   20.00,   7.7202,2,    25.00,-999.000,9, -999.00,-999.000,9,-999.000,9, -999.00,9,  -999.0,9,  -999.0,-999.000,9,-999.000,   0.037,4, -999.00,9, 2838.80,-999.0000,9,-999.0000,9,-999.0000,9,-999.0000,9,-999.0000,9,-999.0000,9,   2.5259,     -999.0,-999.000,     -999.0,          9,     -999.0,          9,-999.000,          9
 33RO200501,       A16S,      59,          1,          6,          6,2,20050202,       2104,   -33.0003,   -24.9980,       4437,  3149.4,   2.6153,  34.8928,2,  34.8933,2,    245.1,2,   244.9,2,   42.06,6,   22.19,6,    0.00,6,    1.43,4,-999.000,9,-999.000,9,-999.000,9,  2188.6,2,  2330.1,2,  -999.0,9,   20.00,   7.7231,2,    25.00,-999.000,9, -999.00,-999.000,9,-999.000,9, -999.00,9,  -999.0,9,  -999.0,-999.000,9,-999.000,-999.000,9,   38.93,2, 3149.40,-999.0000,9,-999.0000,9,-999.0000,9,-999.0000,9,-999.0000,9,-999.0000,9,   2.3576,     -999.0,-999.000,     -999.0,          9,     -999.0,          9,-999.000,          9
 33RO200501,       A16S,      59,          1,          5,          5,2,20050202,       2104,   -33.0003,   -24.9980,       4437,  3450.0,   2.3235,  34.8691,2,  34.8705,2,    242.5,2,   242.5,2,   51.41,6,   23.03,6,    0.00,6,    1.51,4,   0.014,2,   0.001,2,   0.000,2,  2197.7,2,  2336.8,2,  -999.0,9,   20.00,   7.7109,2,    25.00,-999.000,9, -999.00,-999.000,9,-999.000,9, -999.00,9,  -999.0,9,  -999.0,-999.000,9,-999.000,   0.038,4,   38.67,2, 3450.00,-999.0000,9,-999.0000,9,-999.0000,9,-999.0000,9,-999.0000,9,-999.0000,9,   2.0410,     -999.0,-999.000,     -999.0,          9,     -999.0,          9,-999.000,          9
 33RO200501,       A16S,      59,          1,          4,          4,2,20050202,       2104,   -33.0003,   -24.9980,       4437,  3749.9,   1.9643,  34.8361,2,  34.8365,2,    238.3,2,   238.4,2,   64.29,6,   24.71,6,    0.00,6,    1.63,4,   0.014,2,   0.008,2,   0.000,2,  2210.1,2,  2342.9,2,  -999.0,9,   20.00,   7.6943,2,    25.00,-999.000,9, -999.00,-999.000,9,-999.000,9, -999.00,9,  -999.0,9,  -999.0,-999.000,9,-999.000,   0.047,4, -999.00,9, 3749.90,-999.0000,9,-999.0000,9,-999.0000,9,-999.0000,9,-999.0000,9,-999.0000,9,   1.6589,     -999.0,-999.000,     -999.0,          9,     -999.0,          9,-999.000,          9
 33RO200501,       A16S,      59,          1,          3,          3,2,20050202,       2104,   -33.0003,   -24.9980,       4437,  3998.8,   1.5658,  34.7945,2,  34.7944,2,    231.4,2,   232.0,2,   80.43,6,   26.97,6,    0.00,6,    1.80,4,   0.027,2,   0.054,2,   0.000,2,  2226.6,2,  2355.7,2,  -999.0,9,   20.00,   7.6793,2,    25.00,-999.000,9, -999.00,-999.000,9,-999.000,9, -999.00,9,  -999.0,9,  -999.0,-999.000,9,-999.000,   0.067,4,   38.94,2, 3998.80,-999.0000,9,-999.0000,9,-999.0000,9,-999.0000,9,-999.0000,9,-999.0000,9,   1.2445,     -999.0,-999.000,     -999.0,          9,     -999.0,          9,-999.000,          9
 33RO200501,       A16S,      59,          1,          2,          2,2,20050202,       2104,   -33.0003,   -24.9980,       4437,  4398.6,   1.0672,  34.7377,2,  34.7374,2,    221.5,2,   221.9,2,  102.04,6,   29.90,6,    0.00,6,    2.03,4,   0.104,2,   0.053,2,   0.007,2,  2247.8,2,  2363.9,6,  -999.0,9,   20.00,   7.6465,2,    25.00,-999.000,9, -999.00,-999.000,9,-999.000,9, -999.00,9,  -999.0,9,  -999.0,-999.000,9,-999.000,   0.177,4, -999.00,9, 4398.60,-999.0000,9,-999.0000,9,-999.0000,9,-999.0000,9,-999.0000,9,-999.0000,9,   0.7167,     -999.0,-999.000,     -999.0,          9,     -999.0,          9,-999.000,          9
 33RO200501,       A16S,      59,          1,          1,          1,2,20050202,       2104,   -33.0003,   -24.9980,       4437,  4661.0,   0.9931,  34.7271,2,  34.7280,2,    219.2,2,   220.5,2,  105.89,6,   30.45,6,    0.00,6,    2.08,4,   0.120,2,   0.119,3,   0.008,2,  2250.3,6,  2364.3,2,  -999.0,9,   20.00,   7.6311,2,    25.00,-999.000,9, -999.00,-999.000,9,-999.000,9, -999.00,9,  -999.0,9,  -999.0,-999.000,9,-999.000,   0.201,4,   39.17,2, 4661.00,-999.0000,9,-999.0000,9,-999.0000,9,-999.0000,9,-999.0000,9,-999.0000,9,   0.6153,     -999.0,-999.000,     -999.0,          9,     -999.0,          9,-999.000,          9