BOTTLE,20220818CCHSIOAMB
EXPOCODE,SECT_ID,STNNBR,CASTNO,SAMPNO,BTLNBR,BTLNBR_FLAG_W,DATE,TIME,LATITUDE,LONGITUDE,DEPTH,CTDPRS,CTDTMP,CTDSAL,CTDSAL_FLAG_W,SALNTY,SALNTY_FLAG_W,CTDOXY,CTDOXY_FLAG_W,OXYGEN,OXYGEN_FLAG_W,SILCAT,SILCAT_FLAG_W,NITRAT,NITRAT_FLAG_W,NITRIT,NITRIT_FLAG_W,PHSPHT,PHSPHT_FLAG_W,CFC-11,CFC-11_FLAG_W,CFC-12,CFC-12_FLAG_W,CFC113,CFC113_FLAG_W,TCARBN,TCARBN_FLAG_W,ALKALI,ALKALI_FLAG_W,PCO2,PCO2_FLAG_W,PCO2TMP,PH_SWS,PH_SWS_FLAG_W,PH_TMP,TRITUM,TRITUM_FLAG_W,TRITER,HELIUM,HELIUM_FLAG_W,DELHE3,DELHE3_FLAG_W,DELC13,DELC13_FLAG_W,DELC14,DELC14_FLAG_W,C14ERR,NEON,NEON_FLAG_W,NEONER,CCL4,CCL4_FLAG_W,DOC,DOC_FLAG_W,CTDRAW,CDOM325,CDOM325_FLAG_W,CDOM340,CDOM340_FLAG_W,CDOM380,CDOM380_FLAG_W,CDOM412,CDOM412_FLAG_W,CDOMSL,CDOMSL_FLAG_W,CDOMSN,CDOMSN_FLAG_W,THETA,HELIER,DELHER,CH3CL,CH3CL_FLAG_W,CH3BR,CH3BR_FLAG_W,CH3I,CH3I_FLAG_W
,,,,,,,,,,,METERS,DBAR,ITS-90,PSS-78,,PSS-78,,UMOL/KG,,UMOL/KG,,UMOL/KG,,UMOL/KG,,UMOL/KG,,UMOL/KG,,PMOL/KG,,PMOL/KG,,PMOL/KG,,UMOL/KG,,UMOL/KG,,UATM,,DEG C,,,DEG C,TU,,TU,NMOL/KG,,PERCNT,,/MILLE,,/MILLE,,/MILLE,NMOL/KG,,NMOL/KG,PMOL/KG,,UMOL/KG,,DBAR,1/M,,1/M,,1/M,,1/M,,1/NM,,1/NM,,DEG C,NMOL/KG,PERCNT,PMOL/KG,,PMOL/KG,,PMOL/KG,
 33RO200501,       A16S,      53,          1,         36,         36,2,20050201,       0423,   -36.0002,   -25.3002,       4058,     2.6,  18.5424,  35.4365,2,  35.4361,2,    236.4,2,   236.6,2,    1.21,2,    0.00,2,    0.00,2,    0.13,2,   2.430,2,   1.516,2,   0.203,2,  2058.1,6,  2329.4,2,   378.1,2,   20.00,   7.9908,2,    25.00,-999.000,9, -999.00,   1.749,2,  -2.064,2,    1.63,2,    74.0,2,     4.0,   7.174,2,   0.006,   2.156,4,   59.30,2,    2.60,   0.0860,2,   0.0590,2,   0.0270,2,   0.0160,2,   0.0210,2,   0.0221,2,  18.5420,      0.001,   0.235,     -999.0,          9,     -999.0,          9,-999.000,          9
 33RO200501,       A16S,      53,          1,         35,         35,2,20050201,       0423,   -36.0002,   -25.3002,       4058,    19.9,  18.5514,  35.4361,2,  35.4354,2,    236.4,2,   236.8,2,    1.27,2,    0.00,2,    0.00,2,    0.12,2,   2.435,2,   1.516,2,   0.199,2,  2056.6,2,  2329.0,6,   377.4,2,   20.00,   7.9835,6,    25.00,-999.000,9, -999.00,   1.745,2,  -1.936,2, -999.00,9,  -999.0,9,  -999.0,   7.172,2,   0.006,   2.158,4, -999.00,9,   19.90,   0.1280,2,   0.0960,2,   0.0440,2,   0.0240,2,   0.0198,2,   0.0191,2,  18.5479,      0.001,   0.223,     -999.0,          9,     -999.0,          9,-999.000,          9
 33RO200501,       A16S,      53,          1,         34,         34,2,20050201,       0423,   -36.0002,   -25.3002,       4058,    40.1,  17.9855,  35.4404,2,  35.4442,2,    240.4,2,   242.6,2,    1.32,2,    0.00,2,    0.00,2,    0.12,2,   2.499,2,   1.556,2,   0.210,2,  2057.5,2,  2329.4,2,   378.0,2,   20.00,   7.9904,2,    25.00,-999.000,9, -999.00,   1.780,2,  -3.099,4, -999.00,9,  -999.0,9,  -999.0,   7.114,2,   0.006,   2.106,4,   56.59,2,   40.10,   0.1160,2,   0.0830,2,   0.0420,2,   0.0250,2,   0.0180,2,   0.0187,2,  17.9786,      0.002,   0.195,     -999.0,          9,     -999.0,          9,-999.000,          9
 33RO200501,       A16S,      53,          1,         33,         33,2,20050201,       0423,   -36.0002,   -25.3002,       4058,    59.4,  16.4001,  35.4885,2,  35.4880,2,    246.5,2,   250.6,2,    1.37,2,    0.00,2,    0.00,2,    0.14,2,-999.000,9,-999.000,9,-999.000,9,  2062.4,2,  2334.0,2,   384.5,2,   20.00,   7.9835,2,    25.00,-999.000,9, -999.00,-999.000,9,-999.000,9,    1.59,2,    80.6,2,     3.9,-999.000,9,-999.000,-999.000,9, -999.00,9,   59.40,-999.0000,9,-999.0000,9,-999.0000,9,-999.0000,9,-999.0000,9,-999.0000,9,  16.3905,     -999.0,-999.000,     -999.0,          9,     -999.0,          9,-999.000,          9
 33RO200501,       A16S,      53,          1,         32,         32,2,20050201,       0423,   -36.0002,   -25.3002,       4058,    79.5,  15.9311,  35.5277,2,  35.5263,2,    239.1,2,   239.0,2,    1.39,2,    0.22,2,    0.02,2,    0.18,2,   2.681,2,   1.615,2,   0.182,2,  2076.5,2,  2335.5,2,   408.9,2,   20.00,   7.9654,2,    25.00,-999.000,9, -999.00,   1.773,2,  -2.711,4, -999.00,9,  -999.0,9,  -999.0,   7.199,2,   0.006,   1.546,4,   55.18,2,   79.50,   0.1350,2,   0.1000,2,   0.0530,2,   0.0360,2,   0.0149,2,   0.0162,2,  15.9185,      0.002,   0.206,     -999.0,          9,     -999.0,          9,-999.000,          9
 33RO200501,       A16S,      53,          1,         31,         31,2,20050201,       0423,   -36.0002,   -25.3002,       4058,   100.0,  15.4253,  35.5094,2,  35.5093,2,    237.2,2,   231.2,2,    1.62,2,    2.13,2,    0.12,2,    0.29,2,-999.000,9,-999.000,9,-999.000,9,  2086.0,2,  2334.4,2,   428.9,2,   20.00,   7.9449,2,    25.00,-999.000,9, -999.00,-999.000,9,-999.000,9,    1.41,2,    78.0,2,     3.4,-999.000,9,-999.000,-999.000,9, -999.00,9,  100.00,-999.0000,9,-999.0000,9,-999.0000,9,-999.0000,9,-999.0000,9,-999.0000,9,  15.4098,     -999.0,-999.000,     -999.0,          9,     -999.0,          9,-999.000,          9
 33RO200501,       A16S,      53,          1,         30,         30,2,20050201,       0423,   -36.0002,   -25.3002,       4058,   124.7,  14.9933,  35.5380,2,  35.5361,2,    219.7,2,   218.4,2,    1.93,2,    4.31,2,    0.02,2,    0.39,2,   2.781,2,   1.636,2,   0.151,2,  2095.8,2,  2332.0,2,  -999.0,9,   20.00,   7.9266,2,    25.00,-999.000,9, -999.00,-999.000,9,-999.000,9, -999.00,9,  -999.0,9,  -999.0,-999.000,9,-999.000,   1.145,4,   52.81,2,  124.70,   0.1490,2,   0.1160,2,   0.0530,2,   0.0310,2,   0.0188,2,   0.0183,2,  14.9744,     -999.0,-999.000,     -999.0,          9,     -999.0,          9,-999.000,          9
 33RO200501,       A16S,      53,          1,         29,         29,2,20050201,       0423,   -36.0002,   -25.3002,       4058,   150.5,  14.6009,  35.5033,2,  35.5046,2,    225.8,2,   223.6,2,    2.20,2,    5.42,2,    0.02,2,    0.46,2,-999.000,9,-999.000,9,-999.000,9,  2100.1,2,  2330.8,2,   468.5,2,   20.00,   7.9160,2,    25.00,-999.000,9, -999.00,-999.000,9,-999.000,9,    1.31,2,    78.7,2,     3.5,-999.000,9,-999.000,-999.000,9, -999.00,9,  150.50,-999.0000,9,-999.0000,9,-999.0000,9,-999.0000,9,-999.0000,9,-999.0000,9,  14.5784,     -999.0,-999.000,     -999.0,          9,     -999.0,          9,-999.000,          9
 33RO200501,       A16S,      53,          1,         28,         28,2,20050201,       0423,   -36.0002,   -25.3002,       4058,   174.9,  14.3984,  35.4815,2,  35.4797,2,    226.6,2,   227.0,2,    2.26,2,    5.58,2,    0.01,2,    0.47,2,   2.838,2,   1.666,2,   0.139,2,  2103.4,2,  2333.4,2,  -999.0,9,   20.00,   7.9134,2,    25.00,-999.000,9, -999.00,   1.776,2,  -2.155,2, -999.00,9,  -999.0,9,  -999.0,   7.268,2,   4.719,   1.138,4,   51.85,2,  174.90,   0.1890,2,   0.1510,2,   0.0700,2,   0.0420,3,   0.0176,3,   0.0175,3,  14.3725,      0.478,   0.206,     -999.0,          9,     -999.0,          9,-999.000,          9
 33RO200501,       A16S,      53,          1,         27,         27,2,20050201,       0423,   -36.0002,   -25.3002,       4058,   199.2,  14.0355,  35.4250,2,  35.4261,2,    218.9,2,   220.6,2,    2.65,2,    6.97,2,    0.01,2,    0.55,2,-999.000,9,-999.000,9,-999.000,9,  2108.5,2,  2329.2,2,   491.8,2,   20.00,   7.8977,2,    25.00,-999.000,9, -999.00,-999.000,9,-999.000,9,    1.29,2,    76.8,2,     3.8,-999.000,9,-999.000,-999.000,9, -999.00,9,  199.20,-999.0000,9,-999.0000,9,-999.0000,9,-999.0000,9,-999.0000,9,-999.0000,9,  14.0065,     -999.0,-999.000,     -999.0,          9,     -999.0,          9,-999.000,          9
 33RO200501,       A16S,      53,          1,         26,         26,2,20050201,       0423,   -36.0002,   -25.3002,       4058,   249.2,  13.5835,  35.3640,2,  35.3628,2,    235.3,2,   236.2,2,    2.48,2,    6.18,2,    0.01,2,    0.52,2,   2.937,2,   1.728,2,   0.177,2,  2104.3,2,  2328.2,2,   481.2,2,   20.00,   7.9042,2,    25.00,-999.000,9, -999.00,   1.771,2,  -2.151,2,    0.99,3,    66.7,2,     3.6,   7.289,2,   0.006,   1.224,4,   49.59,2,  249.20,   0.1140,2,   0.0840,2,   0.0460,2,   0.0330,2,   0.0141,2,   0.0156,2,  13.5481,      0.002,   0.204,     -999.0,          9,     -999.0,          9,-999.000,          9
 33RO200501,       A16S,      53,          1,         25,         25,2,20050201,       0423,   -36.0002,   -25.3002,       4058,   300.0,  13.1175,  35.2786,2,  35.2781,2,    230.4,2,   231.7,2,    2.81,2,    7.66,2,    0.01,2,    0.60,2,-999.000,9,-999.000,9,-999.000,9,  2107.1,2,  2322.0,2,   503.8,2,   20.00,   7.8874,2,    25.00,-999.000,9, -999.00,-999.000,9,-999.000,9,    1.35,2,    83.8,2,     3.3,-999.000,9,-999.000,-999.000,9,   48.50,2,  300.00,-999.0000,9,-999.0000,9,-999.0000,9,-999.0000,9,-999.0000,9,-999.0000,9,  13.0758,     -999.0,-999.000,     -999.0,          9,     -999.0,          9,-999.000,          9
 33RO200501,       A16S,      53,          1,         24,         24,2,20050201,       0423,   -36.0002,   -25.3002,       4058,   349.4,  11.9935,  35.0804,2,  35.0780,2,    218.7,2,   216.1,2,    4.03,2,   11.99,2,    0.01,2,    0.85,2,   3.054,2,   1.712,2,   0.101,2,  2121.1,2,  2311.3,2,   569.8,3,   20.00,   7.8386,2,    25.00,-999.000,9, -999.00,   1.774,2,  -0.758,2,    1.28,2,    73.9,2,     3.1,   7.360,2,   0.007,   1.008,4,   46.86,2,  349.40,   0.1450,3,   0.1110,3,   0.0550,3,   0.0350,3,   0.0163,3,   0.0170,3,  11.9476,      0.002,   0.195,     -999.0,          9,     -999.0,          9,-999.000,          9
 33RO200501,       A16S,      53,          1,         23,         23,2,20050201,       0423,   -36.0002,   -25.3002,       4058,   398.9,  11.0444,  34.9303,2,  34.9303,2,    212.2,2,   212.2,2,    4.89,2,   14.54,2,    0.00,2,    1.00,2,   3.128,2,   1.735,2,   0.104,2,  2127.9,2,  2304.6,2,   633.6,2,   20.00,   7.8195,2,    25.00,-999.000,9, -999.00,   1.771,2,  -0.181,2,    1.23,2,    77.9,2,     3.4,   7.386,2,   4.887,   1.101,4,   44.15,2,  398.90,-999.0000,9,-999.0000,9,-999.0000,9,-999.0000,9,-999.0000,9,-999.0000,9,  10.9947,      0.602,   0.204,     -999.0,          9,     -999.0,          9,-999.000,          9
 33RO200501,       A16S,      53,          1,         22,         22,2,20050201,       0423,   -36.0002,   -25.3002,       4058,   499.5,   8.2728,  34.5696,2,  34.5663,2,    213.9,2,   217.7,2,    8.31,2,   20.97,2,    0.00,2,    1.39,2,   3.257,2,   1.728,2,   0.169,2,  2144.6,2,  2285.5,2,   751.6,2,   20.00,   7.7396,2,    25.00,-999.000,9, -999.00,   1.771,2,   0.026,2,    1.22,2,    43.7,2,     3.4,   7.556,2,   0.007,   1.849,4,   42.64,2,  499.50,   0.1280,2,   0.0940,2,   0.0460,3,   0.0290,3,   0.0176,3,   0.0182,3,   8.2205,      0.002,   0.204,     -999.0,          9,     -999.0,          9,-999.000,          9
 33RO200501,       A16S,      53,          1,         21,         21,2,20050201,       0423,   -36.0002,   -25.3002,       4058,   600.1,   6.5747,  34.3952,2,  34.3971,2,    227.8,2,   228.3,2,   11.11,2,   24.01,2,    0.00,2,    1.59,2,   3.345,2,   1.747,2,   0.183,2,  2151.4,2,  2280.6,2,   811.1,2,   20.00,   7.7057,2,    25.00,-999.000,9, -999.00,   1.809,2,  -0.128,2,    1.27,2,    25.8,2,     3.4,   7.706,2,   0.007,   2.383,4, -999.00,9,  600.10,-999.0000,9,-999.0000,9,-999.0000,9,-999.0000,9,-999.0000,9,-999.0000,9,   6.5194,      0.002,   0.204,     -999.0,          9,     -999.0,          9,-999.000,          9
 33RO200501,       A16S,      53,          1,         20,         20,2,20050201,       0423,   -36.0002,   -25.3002,       4058,   700.4,   4.9320,  34.2362,2,  34.2366,2,    249.5,2,   252.2,2,   13.48,6,   25.99,6,    0.01,6,    1.71,6,   3.749,2,   1.964,2,   0.269,2,  2153.8,2,  2277.1,2,   842.1,2,   20.00,   7.6902,2,    25.00,-999.000,9, -999.00,   1.801,2,  -0.298,2,    1.33,2,    -3.7,2,     4.2,   7.750,2,   0.007,   3.299,4,   41.46,2,  700.40,   0.1030,3,   0.0710,3,   0.0340,3,   0.0220,3,   0.0199,3,   0.0208,3,   4.8758,      0.002,   0.197,     -999.0,          9,     -999.0,          9,-999.000,          9
 33RO200501,       A16S,      53,          1,         19,         19,2,20050201,       0423,   -36.0002,   -25.3002,       4058,   799.7,   4.3116,  34.2098,2,  34.2097,2,    253.3,2,   255.1,2,   17.12,2,   27.22,2,    0.00,2,    1.79,2,   3.645,2,   1.900,2,   0.253,2,  2158.6,2,  2280.0,6,   862.7,2,   20.00,   7.6866,6,    25.00,-999.000,9, -999.00,   1.802,2,  -0.592,2,    1.32,2,   -13.1,2,     3.8,   7.933,2,   0.007,   3.360,4,   40.58,2,  799.70,-999.0000,9,-999.0000,9,-999.0000,9,-999.0000,9,-999.0000,9,-999.0000,9,   4.2508,      0.001,   0.227,     -999.0,          9,     -999.0,          9,-999.000,          9
 33RO200501,       A16S,      53,          1,         18,         18,2,20050201,       0423,   -36.0002,   -25.3002,       4058,   899.6,   3.8750,  34.2149,2,  34.2148,2,    248.5,2,   247.6,2,   22.15,2,   28.69,2,    0.00,2,    1.89,2,   3.211,2,   1.660,2,   0.216,2,  2167.8,2,  2282.1,2,   905.4,2,   20.00,   7.6662,2,    25.00,-999.000,9, -999.00,   1.820,2,   0.025,2, -999.00,9,  -999.0,9,  -999.0,   8.019,2,   0.009,   3.112,4,   39.79,2,  899.60,   0.1240,3,   0.0890,3,   0.0410,3,   0.0260,3,   0.0198,3,   0.0201,3,   3.8089,      0.001,   0.217,     -999.0,          9,     -999.0,          9,-999.000,          9
 33RO200501,       A16S,      53,          1,         17,         17,2,20050201,       0423,   -36.0002,   -25.3002,       4058,   999.4,   3.4716,  34.2418,2,  34.2411,2,    237.0,2,   234.5,2,   29.27,2,   30.30,2,    0.00,2,    2.00,2,   2.622,2,   1.323,2,   0.171,2,  2184.5,6,  2289.6,2,   966.6,2,   20.00,   7.6431,2,    25.00,-999.000,9, -999.00,   1.821,2,   1.240,2,    1.17,2,   -66.2,2,     3.3,   7.872,2,   0.007,   2.693,4,   39.29,2,  999.40,-999.0000,9,-999.0000,9,-999.0000,9,-999.0000,9,-999.0000,9,-999.0000,9,   3.4005,      0.002,   0.210,     -999.0,          9,     -999.0,          9,-999.000,          9
 33RO200501,       A16S,      53,          1,         16,         16,2,20050201,       0423,   -36.0002,   -25.3002,       4058,  1099.2,   3.2660,  34.2902,2,  34.2903,2,    221.6,2,   218.7,2,   36.51,6,   31.51,6,    0.01,6,    2.10,6,   1.902,2,   0.943,2,   0.107,2,  2196.8,2,  2293.6,2,  -999.0,9,   20.00,   7.6331,2,    25.00,-999.000,9, -999.00,   1.819,2,   2.654,2, -999.00,9,  -999.0,9,  -999.0,   7.868,2,   0.007,   2.085,4,   39.66,2, 1099.20,   0.1290,3,   0.0940,3,   0.0570,3,   0.0410,3,   0.0123,3,   0.0135,3,   3.1886,      0.002,   0.205,     -999.0,          9,     -999.0,          9,-999.000,          9
 33RO200501,       A16S,      53,          1,         15,         15,2,20050201,       0423,   -36.0002,   -25.3002,       4058,  1200.1,   3.0831,  34.3388,2,  34.3358,2,    206.6,2,   207.3,2,   43.98,2,   32.59,2,    0.00,2,    2.16,2,   1.503,2,   0.746,2,   0.087,2,  2209.4,2,  2302.1,2,  1070.1,2,   20.00,   7.6109,2,    25.00,-999.000,9, -999.00,   1.829,2,   3.829,2,    0.93,2,   -99.6,2,     3.0,   8.028,2,   0.011,   1.673,4,   40.04,2, 1200.10,-999.0000,9,-999.0000,9,-999.0000,9,-999.0000,9,-999.0000,9,-999.0000,9,   2.9993,      0.001,   0.225,     -999.0,          9,     -999.0,          9,-999.000,          9
 33RO200501,       A16S,      53,          1,         14,         14,2,20050201,       0423,   -36.0002,   -25.3002,       4058,  1299.1,   2.9752,  34.3913,2,  34.3937,2,    196.7,2,   195.7,2,   50.31,2,   33.15,2,    0.00,2,    2.20,2,   1.051,2,   0.510,2,   0.054,2,  2220.4,2,  2308.2,2,  -999.0,9,   20.00,   7.5945,2,    25.00,-999.000,9, -999.00,   1.856,2,   5.446,2, -999.00,9,  -999.0,9,  -999.0,   8.102,2,   0.012,   1.247,4,   39.27,2, 1299.10,-999.0000,9,-999.0000,9,-999.0000,9,-999.0000,9,-999.0000,9,-999.0000,9,   2.8845,      0.001,   0.228,     -999.0,          9,     -999.0,          9,-999.000,          9
 33RO200501,       A16S,      53,          1,         13,         13,2,20050201,       0423,   -36.0002,   -25.3002,       4058,  1400.0,   2.8940,  34.4554,2,  34.4547,2,    188.5,2,   187.6,2,   55.34,2,   33.25,2,    0.00,2,    2.22,2,-999.000,9,-999.000,9,-999.000,9,  2228.1,2,  2315.9,2,  1119.5,2,   20.00,   7.5887,2,    25.00,-999.000,9, -999.00,-999.000,9,-999.000,9,    0.79,2,  -125.9,2,     2.6,-999.000,9,-999.000,-999.000,9,   39.36,2, 1400.00,-999.0000,9,-999.0000,9,-999.0000,9,-999.0000,9,-999.0000,9,-999.0000,9,   2.7959,     -999.0,-999.000,     -999.0,          9,     -999.0,          9,-999.000,          9
 33RO200501,       A16S,      53,          1,         12,         12,2,20050201,       0423,   -36.0002,   -25.3002,       4058,  1600.4,   2.8387,  34.5819,2,  34.5832,2,    182.2,2,   182.3,2,   60.29,6,   32.23,6,    0.01,6,    2.16,6,   0.263,2,   0.127,2,   0.005,2,  2233.3,2,  2327.0,2,  1105.8,2,   20.00,   7.5911,2,    25.00,-999.000,9, -999.00,   1.863,2,   6.472,2, -999.00,9,  -999.0,9,  -999.0,   8.118,2,   0.011,   0.400,4, -999.00,9, 1600.40,-999.0000,9,-999.0000,9,-999.0000,9,-999.0000,9,-999.0000,9,-999.0000,9,   2.7244,      0.001,   0.239,     -999.0,          9,     -999.0,          9,-999.000,          9
 33RO200501,       A16S,      53,          1,         11,         11,2,20050201,       0423,   -36.0002,   -25.3002,       4058,  1800.3,   2.8724,  34.6915,2,  34.6906,2,    187.6,2,   189.0,2,   59.77,2,   30.24,2,    0.00,2,    2.02,2,-999.000,9,-999.000,9,-999.000,9,  2230.5,2,  2330.4,2,  1044.0,2,   20.00,   7.6189,2,    25.00,-999.000,9, -999.00,-999.000,9,-999.000,9, -999.00,9,  -999.0,9,  -999.0,-999.000,9,-999.000,-999.000,9,   39.21,2, 1800.30,-999.0000,9,-999.0000,9,-999.0000,9,-999.0000,9,-999.0000,9,-999.0000,9,   2.7403,     -999.0,-999.000,     -999.0,          9,     -999.0,          9,-999.000,          9
 33RO200501,       A16S,      53,          1,         10,         10,2,20050201,       0423,   -36.0002,   -25.3002,       4058,  2000.2,   2.9296,  34.7615,2,  34.7604,2,    198.4,2,   200.4,2,   55.34,2,   28.17,2,    0.00,2,    1.88,2,   0.084,2,   0.039,2,   0.001,2,  2220.2,2,  2329.2,2,  -999.0,9,   20.00,   7.6424,2,    25.00,-999.000,9, -999.00,-999.000,9,-999.000,9, -999.00,9,  -999.0,9,  -999.0,-999.000,9,-999.000,   0.155,4, -999.00,9, 2000.20,   0.1740,3,   0.1330,3,   0.0790,3,   0.0550,3,   0.0132,3,   0.0136,3,   2.7787,     -999.0,-999.000,     -999.0,          9,     -999.0,          9,-999.000,          9
 33RO200501,       A16S,      53,          1,          9,          9,2,20050201,       0423,   -36.0002,   -25.3002,       4058,  2199.8,   2.9830,  34.8290,2,  34.8285,2,    212.8,2,   215.5,2,   48.47,2,   25.67,2,    0.00,2,    1.70,2,   0.060,2,   0.025,2,   0.000,2,  2206.5,2,  2328.6,2,   897.3,2,   20.00,   7.6404,3,    25.00,-999.000,9, -999.00,   1.892,2,   5.251,2, -999.00,9,  -999.0,9,  -999.0,   8.213,2,   0.011,   0.134,4,   40.74,2, 2199.80,-999.0000,9,-999.0000,9,-999.0000,9,-999.0000,9,-999.0000,9,-999.0000,9,   2.8126,      0.001,   0.231,     -999.0,          9,     -999.0,          9,-999.000,          9
 33RO200501,       A16S,      53,          1,          8,          8,2,20050201,       0423,   -36.0002,   -25.3002,       4058,  2400.3,   2.9658,  34.8638,2,  34.8629,2,    224.1,2,   225.6,2,   44.39,6,   24.13,6,    0.00,6,    1.60,6,-999.000,9,-999.000,9,-999.000,9,  2198.6,2,  2329.1,2,   858.2,2,   20.00,   7.6980,2,    25.00,-999.000,9, -999.00,-999.000,9,-999.000,9, -999.00,9,  -999.0,9,  -999.0,-999.000,9,-999.000,-999.000,9, -999.00,9, 2400.30,-999.0000,9,-999.0000,9,-999.0000,9,-999.0000,9,-999.0000,9,-999.0000,9,   2.7765,     -999.0,-999.000,     -999.0,          9,     -999.0,          9,-999.000,          9