BOTTLE,20220818CCHSIOAMB
EXPOCODE,SECT_ID,STNNBR,CASTNO,SAMPNO,BTLNBR,BTLNBR_FLAG_W,DATE,TIME,LATITUDE,LONGITUDE,DEPTH,CTDPRS,CTDTMP,CTDSAL,CTDSAL_FLAG_W,SALNTY,SALNTY_FLAG_W,CTDOXY,CTDOXY_FLAG_W,OXYGEN,OXYGEN_FLAG_W,SILCAT,SILCAT_FLAG_W,NITRAT,NITRAT_FLAG_W,NITRIT,NITRIT_FLAG_W,PHSPHT,PHSPHT_FLAG_W,CFC-11,CFC-11_FLAG_W,CFC-12,CFC-12_FLAG_W,CFC113,CFC113_FLAG_W,TCARBN,TCARBN_FLAG_W,ALKALI,ALKALI_FLAG_W,PCO2,PCO2_FLAG_W,PCO2TMP,PH_SWS,PH_SWS_FLAG_W,PH_TMP,TRITUM,TRITUM_FLAG_W,TRITER,HELIUM,HELIUM_FLAG_W,DELHE3,DELHE3_FLAG_W,DELC13,DELC13_FLAG_W,DELC14,DELC14_FLAG_W,C14ERR,NEON,NEON_FLAG_W,NEONER,CCL4,CCL4_FLAG_W,DOC,DOC_FLAG_W,CTDRAW,CDOM325,CDOM325_FLAG_W,CDOM340,CDOM340_FLAG_W,CDOM380,CDOM380_FLAG_W,CDOM412,CDOM412_FLAG_W,CDOMSL,CDOMSL_FLAG_W,CDOMSN,CDOMSN_FLAG_W,THETA,HELIER,DELHER,CH3CL,CH3CL_FLAG_W,CH3BR,CH3BR_FLAG_W,CH3I,CH3I_FLAG_W
,,,,,,,,,,,METERS,DBAR,ITS-90,PSS-78,,PSS-78,,UMOL/KG,,UMOL/KG,,UMOL/KG,,UMOL/KG,,UMOL/KG,,UMOL/KG,,PMOL/KG,,PMOL/KG,,PMOL/KG,,UMOL/KG,,UMOL/KG,,UATM,,DEG C,,,DEG C,TU,,TU,NMOL/KG,,PERCNT,,/MILLE,,/MILLE,,/MILLE,NMOL/KG,,NMOL/KG,PMOL/KG,,UMOL/KG,,DBAR,1/M,,1/M,,1/M,,1/M,,1/NM,,1/NM,,DEG C,NMOL/KG,PERCNT,PMOL/KG,,PMOL/KG,,PMOL/KG,
 33RO200501,       A16S,      94,          1,         36,         36,2,20050213,       1644,   -15.5003,   -24.9997,       5120,     2.6,  27.1802,  37.1522,2,  37.1528,2,    201.4,2,   200.7,2,    0.99,2,    0.00,2,    0.00,2,    0.06,2,   1.652,2,   1.057,2,   0.135,2,  2085.0,6,  2434.6,6,  -999.0,9,   20.00,   8.0802,6,    25.00,-999.000,9, -999.00,-999.000,9,-999.000,9, -999.00,9,  -999.0,9,  -999.0,-999.000,9,-999.000,   1.414,4, -999.00,9,    2.60,-999.0000,9,-999.0000,9,-999.0000,9,-999.0000,9,-999.0000,9,-999.0000,9,  27.1796,     -999.0,-999.000,     62.643,          2,      0.892,          2,   3.879,          2
 33RO200501,       A16S,      94,          1,         35,         35,2,20050213,       1644,   -15.5003,   -24.9997,       5120,    23.3,  26.5664,  37.1979,2,  37.2059,2,    205.4,2,   205.8,2,    0.89,2,    0.00,2,    0.00,2,    0.07,2,-999.000,9,-999.000,9,-999.000,9,  -999.0,9,  -999.0,9,  -999.0,9,   20.00,-999.0000,9,    25.00,-999.000,9, -999.00,-999.000,9,-999.000,9, -999.00,9,  -999.0,9,  -999.0,-999.000,9,-999.000,-999.000,9, -999.00,9,   23.30,-999.0000,9,-999.0000,9,-999.0000,9,-999.0000,9,-999.0000,9,-999.0000,9,  26.5610,     -999.0,-999.000,     87.984,          2,      1.141,          2,   5.795,          2
 33RO200501,       A16S,      94,          1,         34,         34,2,20050213,       1644,   -15.5003,   -24.9997,       5120,    54.0,  25.0594,  37.1444,2,  37.1409,2,    216.1,2,   214.6,2,    0.73,2,    0.00,2,    0.00,2,    0.12,2,-999.000,9,-999.000,9,-999.000,9,  -999.0,9,  -999.0,9,  -999.0,9,   20.00,-999.0000,9,    25.00,-999.000,9, -999.00,-999.000,9,-999.000,9, -999.00,9,  -999.0,9,  -999.0,-999.000,9,-999.000,-999.000,9, -999.00,9,   54.00,-999.0000,9,-999.0000,9,-999.0000,9,-999.0000,9,-999.0000,9,-999.0000,9,  25.0476,     -999.0,-999.000,     -999.0,          9,     -999.0,          9,-999.000,          9
 33RO200501,       A16S,      94,          1,         33,         33,2,20050213,       1644,   -15.5003,   -24.9997,       5120,    84.0,  24.0005,  37.0925,2,  37.0924,2,    217.7,2,   219.4,2,    0.62,2,    0.01,2,    0.00,2,    0.15,2,-999.000,9,-999.000,9,-999.000,9,  -999.0,9,  -999.0,9,  -999.0,9,   20.00,-999.0000,9,    25.00,-999.000,9, -999.00,-999.000,9,-999.000,9, -999.00,9,  -999.0,9,  -999.0,-999.000,9,-999.000,-999.000,9, -999.00,9,   84.00,-999.0000,9,-999.0000,9,-999.0000,9,-999.0000,9,-999.0000,9,-999.0000,9,  23.9826,     -999.0,-999.000,    234.279,          2,      0.861,          2,   7.313,          2
 33RO200501,       A16S,      94,          1,         32,         32,2,20050213,       1644,   -15.5003,   -24.9997,       5120,   114.3,  23.4899,  37.0532,2,  37.0505,2,    211.3,2,   212.9,2,    0.55,2,    0.02,2,    0.01,2,    0.14,2,   1.919,2,   1.214,2,   0.149,2,  -999.0,9,  -999.0,9,  -999.0,9,   20.00,-999.0000,9,    25.00,-999.000,9, -999.00,-999.000,9,-999.000,9, -999.00,9,  -999.0,9,  -999.0,-999.000,9,-999.000,   1.125,4, -999.00,9,  114.30,-999.0000,9,-999.0000,9,-999.0000,9,-999.0000,9,-999.0000,9,-999.0000,9,  23.4660,     -999.0,-999.000,    131.843,          2,      0.553,          2,   4.247,          2
 33RO200501,       A16S,      94,          1,         31,         31,2,20050213,       1644,   -15.5003,   -24.9997,       5120,   164.7,  21.5501,  36.6718,2,  36.6437,2,    199.7,2,   201.3,2,    0.64,2,    0.67,2,    0.13,2,    0.24,2,-999.000,9,-999.000,9,-999.000,9,  2110.8,2,  2404.8,2,  -999.0,9,   20.00,   7.9966,2,    25.00,-999.000,9, -999.00,-999.000,9,-999.000,9, -999.00,9,  -999.0,9,  -999.0,-999.000,9,-999.000,-999.000,9, -999.00,9,  164.70,-999.0000,9,-999.0000,9,-999.0000,9,-999.0000,9,-999.0000,9,-999.0000,9,  21.5177,     -999.0,-999.000,     -999.0,          9,     -999.0,          9,-999.000,          9
 33RO200501,       A16S,      94,          1,         30,         30,2,20050213,       1644,   -15.5003,   -24.9997,       5120,   214.2,  16.9242,  35.8108,2,  35.7793,2,    184.6,2,   181.6,2,    2.20,2,    7.72,2,    0.02,2,    0.60,2,   2.487,2,   1.450,2,   0.068,2,  -999.0,9,  -999.0,9,  -999.0,9,   20.00,-999.0000,9,    25.00,-999.000,9, -999.00,-999.000,9,-999.000,9, -999.00,9,  -999.0,9,  -999.0,-999.000,9,-999.000,   0.557,4, -999.00,9,  214.20,-999.0000,9,-999.0000,9,-999.0000,9,-999.0000,9,-999.0000,9,-999.0000,9,  16.8887,     -999.0,-999.000,      9.444,          2,      0.047,          2,   0.093,          2
 33RO200501,       A16S,      94,          1,         29,         29,2,20050213,       1644,   -15.5003,   -24.9997,       5120,   264.1,  13.8559,  35.3355,2,  35.3253,2,    165.0,2,   165.6,2,    4.19,2,   13.86,2,    0.01,2,    0.92,2,-999.000,9,-999.000,9,-999.000,9,  -999.0,9,  -999.0,9,  -999.0,9,   20.00,-999.0000,9,    25.00,-999.000,9, -999.00,-999.000,9,-999.000,9, -999.00,9,  -999.0,9,  -999.0,-999.000,9,-999.000,-999.000,9, -999.00,9,  264.10,-999.0000,9,-999.0000,9,-999.0000,9,-999.0000,9,-999.0000,9,-999.0000,9,  13.8178,     -999.0,-999.000,     -999.0,          9,     -999.0,          9,-999.000,          9
 33RO200501,       A16S,      94,          1,         28,         28,2,20050213,       1644,   -15.5003,   -24.9997,       5120,   313.5,  11.7578,  35.0509,2,  35.0419,2,    154.3,2,   156.1,2,    6.66,2,   18.84,2,    0.01,2,    1.19,2,   2.386,2,   1.298,2,   0.029,2,  -999.0,9,  -999.0,9,  -999.0,9,   20.00,-999.0000,9,    25.00,-999.000,9, -999.00,-999.000,9,-999.000,9, -999.00,9,  -999.0,9,  -999.0,-999.000,9,-999.000,   0.555,4, -999.00,9,  313.50,-999.0000,9,-999.0000,9,-999.0000,9,-999.0000,9,-999.0000,9,-999.0000,9,  11.7173,     -999.0,-999.000,      9.053,          2,      0.706,          2,   0.054,          2
 33RO200501,       A16S,      94,          1,         27,         27,2,20050213,       1644,   -15.5003,   -24.9997,       5120,   364.3,  10.1885,  34.8544,2,  34.8514,2,    159.8,2,   161.3,2,    9.06,2,   21.46,2,    0.01,2,    1.36,2,-999.000,9,-999.000,9,-999.000,9,  -999.0,9,  -999.0,9,  -999.0,9,   20.00,-999.0000,9,    25.00,-999.000,9, -999.00,-999.000,9,-999.000,9, -999.00,9,  -999.0,9,  -999.0,-999.000,9,-999.000,-999.000,9, -999.00,9,  364.30,-999.0000,9,-999.0000,9,-999.0000,9,-999.0000,9,-999.0000,9,-999.0000,9,  10.1455,     -999.0,-999.000,     -999.0,          9,     -999.0,          9,-999.000,          9
 33RO200501,       A16S,      94,          1,         26,         26,2,20050213,       1644,   -15.5003,   -24.9997,       5120,   409.4,   9.2066,  34.7596,2,  34.7510,2,    152.1,2,   150.3,2,   11.97,2,   24.94,2,    0.01,2,    1.56,2,-999.000,9,-999.000,9,-999.000,9,  -999.0,9,  -999.0,9,  -999.0,9,   20.00,-999.0000,9,    25.00,-999.000,9, -999.00,-999.000,9,-999.000,9, -999.00,9,  -999.0,9,  -999.0,-999.000,9,-999.000,-999.000,9, -999.00,9,  409.40,-999.0000,9,-999.0000,9,-999.0000,9,-999.0000,9,-999.0000,9,-999.0000,9,   9.1611,     -999.0,-999.000,     -999.0,          9,     -999.0,          9,-999.000,          9
 33RO200501,       A16S,      94,          1,         25,         25,2,20050213,       1644,   -15.5003,   -24.9997,       5120,   464.5,   7.8346,  34.6376,2,  34.6303,2,    146.2,2,   147.8,2,   16.05,2,   28.30,2,    0.01,2,    1.77,2,   1.170,2,   0.602,2,   0.021,2,  -999.0,9,  -999.0,9,  -999.0,9,   20.00,-999.0000,9,    25.00,-999.000,9, -999.00,-999.000,9,-999.000,9, -999.00,9,  -999.0,9,  -999.0,-999.000,9,-999.000,   0.645,4, -999.00,9,  464.50,-999.0000,9,-999.0000,9,-999.0000,9,-999.0000,9,-999.0000,9,-999.0000,9,   7.7876,     -999.0,-999.000,      3.443,          2,      0.112,          2,   0.042,          2
 33RO200501,       A16S,      94,          1,         24,         24,2,20050213,       1644,   -15.5003,   -24.9997,       5120,   549.3,   6.3032,  34.5149,2,  34.5137,2,    158.3,2,   157.9,2,   20.84,2,   30.40,2,    0.01,2,    1.91,2,-999.000,9,-999.000,9,-999.000,9,  2197.4,2,  2291.8,2,  -999.0,9,   20.00,   7.5973,2,    25.00,-999.000,9, -999.00,-999.000,9,-999.000,9, -999.00,9,  -999.0,9,  -999.0,-999.000,9,-999.000,-999.000,9, -999.00,9,  549.30,-999.0000,9,-999.0000,9,-999.0000,9,-999.0000,9,-999.0000,9,-999.0000,9,   6.2538,     -999.0,-999.000,     -999.0,          9,     -999.0,          9,-999.000,          9
 33RO200501,       A16S,      94,          1,         23,         23,2,20050213,       1644,   -15.5003,   -24.9997,       5120,   649.4,   5.0031,  34.4267,2,  34.4241,2,    174.0,2,   173.9,2,   26.79,2,   31.62,2,    0.01,2,    2.01,2,-999.000,9,-999.000,9,-999.000,9,  -999.0,9,  -999.0,9,  -999.0,9,   20.00,-999.0000,9,    25.00,-999.000,9, -999.00,-999.000,9,-999.000,9, -999.00,9,  -999.0,9,  -999.0,-999.000,9,-999.000,-999.000,9, -999.00,9,  649.40,-999.0000,9,-999.0000,9,-999.0000,9,-999.0000,9,-999.0000,9,-999.0000,9,   4.9508,     -999.0,-999.000,     -999.0,          9,     -999.0,          9,-999.000,          9
 33RO200501,       A16S,      94,          1,         22,         22,2,20050213,       1644,   -15.5003,   -24.9997,       5120,   749.5,   4.3542,  34.4244,2,  34.4232,2,    176.3,2,   175.7,2,   31.58,2,   32.52,2,    0.00,2,    2.09,2,-999.000,9,-999.000,9,-999.000,9,  -999.0,9,  -999.0,9,  -999.0,9,   20.00,-999.0000,9,    25.00,-999.000,9, -999.00,-999.000,9,-999.000,9, -999.00,9,  -999.0,9,  -999.0,-999.000,9,-999.000,-999.000,9, -999.00,9,  749.50,-999.0000,9,-999.0000,9,-999.0000,9,-999.0000,9,-999.0000,9,-999.0000,9,   4.2970,     -999.0,-999.000,      1.013,          2,      0.165,          2,   0.016,          2
 33RO200501,       A16S,      94,          1,         21,         21,2,20050213,       1644,   -15.5003,   -24.9997,       5120,   848.8,   4.0121,  34.4522,2,  34.4509,2,    177.4,2,   176.4,2,   34.91,2,   32.63,2,    0.00,2,    2.11,2,-999.000,9,-999.000,9,-999.000,9,  -999.0,9,  -999.0,9,  -999.0,9,   20.00,-999.0000,9,    25.00,-999.000,9, -999.00,-999.000,9,-999.000,9, -999.00,9,  -999.0,9,  -999.0,-999.000,9,-999.000,-999.000,9, -999.00,9,  848.80,-999.0000,9,-999.0000,9,-999.0000,9,-999.0000,9,-999.0000,9,-999.0000,9,   3.9488,     -999.0,-999.000,     -999.0,          9,     -999.0,          9,-999.000,          9
 33RO200501,       A16S,      94,          1,         20,         20,2,20050213,       1644,   -15.5003,   -24.9997,       5120,   948.5,   3.8779,  34.4930,2,  34.4935,2,    175.4,2,   177.0,2,   37.00,6,   32.34,6,    0.00,6,    2.10,6,-999.000,9,-999.000,9,-999.000,9,  -999.0,9,  -999.0,9,  -999.0,9,   20.00,-999.0000,9,    25.00,-999.000,9, -999.00,-999.000,9,-999.000,9, -999.00,9,  -999.0,9,  -999.0,-999.000,9,-999.000,-999.000,9, -999.00,9,  948.50,-999.0000,9,-999.0000,9,-999.0000,9,-999.0000,9,-999.0000,9,-999.0000,9,   3.8074,     -999.0,-999.000,     -999.0,          9,     -999.0,          9,-999.000,          9
 33RO200501,       A16S,      94,          1,         19,         19,2,20050213,       1644,   -15.5003,   -24.9997,       5120,  1049.5,   3.7987,  34.5603,2,  34.5596,2,    178.6,2,   180.0,2,   36.20,2,   31.34,2,    0.00,2,    2.03,2,   0.103,2,   0.073,2,   0.004,2,  -999.0,9,  -999.0,9,  -999.0,9,   20.00,-999.0000,9,    25.00,-999.000,9, -999.00,-999.000,9,-999.000,9, -999.00,9,  -999.0,9,  -999.0,-999.000,9,-999.000,   0.215,4, -999.00,9, 1049.50,-999.0000,9,-999.0000,9,-999.0000,9,-999.0000,9,-999.0000,9,-999.0000,9,   3.7204,     -999.0,-999.000,      6.461,          2,      0.747,          2,   0.052,          2
 33RO200501,       A16S,      94,          1,         18,         18,2,20050213,       1644,   -15.5003,   -24.9997,       5120,  1149.2,   3.8927,  34.6438,2,  34.6429,2,    181.0,2,   181.6,2,   33.49,2,   30.09,2,    0.00,2,    1.94,2,-999.000,9,-999.000,9,-999.000,9,  2212.4,2,  2310.7,2,  -999.0,9,   20.00,   7.6107,2,    25.00,-999.000,9, -999.00,-999.000,9,-999.000,9, -999.00,9,  -999.0,9,  -999.0,-999.000,9,-999.000,-999.000,9, -999.00,9, 1149.20,-999.0000,9,-999.0000,9,-999.0000,9,-999.0000,9,-999.0000,9,-999.0000,9,   3.8051,     -999.0,-999.000,     -999.0,          9,     -999.0,          9,-999.000,          9
 33RO200501,       A16S,      94,          1,         17,         17,2,20050213,       1644,   -15.5003,   -24.9997,       5120,  1249.8,   4.0043,  34.7288,2,  34.7322,2,    188.0,2,   187.3,2,   29.80,2,   28.37,2,    0.00,2,    1.82,2,-999.000,9,-999.000,9,-999.000,9,  -999.0,9,  -999.0,9,  -999.0,9,   20.00,-999.0000,9,    25.00,-999.000,9, -999.00,-999.000,9,-999.000,9, -999.00,9,  -999.0,9,  -999.0,-999.000,9,-999.000,-999.000,9, -999.00,9, 1249.80,-999.0000,9,-999.0000,9,-999.0000,9,-999.0000,9,-999.0000,9,-999.0000,9,   3.9069,     -999.0,-999.000,     -999.0,          9,     -999.0,          9,-999.000,          9
 33RO200501,       A16S,      94,          1,         16,         16,2,20050213,       1644,   -15.5003,   -24.9997,       5120,  1399.4,   4.0181,  34.8420,2,  34.8429,2,    205.9,2,   204.7,2,   25.23,2,   25.29,2,    0.00,2,    1.60,2,-999.000,9,-999.000,9,-999.000,9,  -999.0,9,  -999.0,9,  -999.0,9,   20.00,-999.0000,9,    25.00,-999.000,9, -999.00,-999.000,9,-999.000,9, -999.00,9,  -999.0,9,  -999.0,-999.000,9,-999.000,-999.000,9, -999.00,9, 1399.40,-999.0000,9,-999.0000,9,-999.0000,9,-999.0000,9,-999.0000,9,-999.0000,9,   3.9071,     -999.0,-999.000,      6.016,          2,      0.529,          2,   0.027,          2
 33RO200501,       A16S,      94,          1,         15,         15,2,20050213,       1644,   -15.5003,   -24.9997,       5120,  1598.6,   3.7573,  34.9108,2,  34.9111,2,    226.5,2,   225.8,2,   23.37,2,   22.40,2,    0.00,2,    1.41,2,-999.000,9,-999.000,9,-999.000,9,  -999.0,9,  -999.0,9,  -999.0,9,   20.00,-999.0000,9,    25.00,-999.000,9, -999.00,-999.000,9,-999.000,9, -999.00,9,  -999.0,9,  -999.0,-999.000,9,-999.000,-999.000,9, -999.00,9, 1598.60,-999.0000,9,-999.0000,9,-999.0000,9,-999.0000,9,-999.0000,9,-999.0000,9,   3.6311,     -999.0,-999.000,     -999.0,          9,     -999.0,          9,-999.000,          9
 33RO200501,       A16S,      94,          1,         14,         14,2,20050213,       1644,   -15.5003,   -24.9997,       5120,  1799.0,   3.3442,  34.9100,2,  34.9109,2,    234.1,2,   235.2,2,   27.60,2,   21.99,2,    0.00,2,    1.38,2,-999.000,9,-999.000,9,-999.000,9,  -999.0,9,  -999.0,9,  -999.0,9,   20.00,-999.0000,9,    25.00,-999.000,9, -999.00,-999.000,9,-999.000,9, -999.00,9,  -999.0,9,  -999.0,-999.000,9,-999.000,-999.000,9, -999.00,9, 1799.00,-999.0000,9,-999.0000,9,-999.0000,9,-999.0000,9,-999.0000,9,-999.0000,9,   3.2051,     -999.0,-999.000,     -999.0,          9,     -999.0,          9,-999.000,          9
 33RO200501,       A16S,      94,          1,         13,         13,2,20050213,       1644,   -15.5003,   -24.9997,       5120,  1999.2,   3.0735,  34.9013,2,  34.9015,2,    236.2,2,   237.3,2,   32.23,2,   22.15,2,    0.00,2,    1.40,2,   0.014,2,   0.004,2,   0.002,2,  -999.0,9,  -999.0,9,  -999.0,9,   20.00,-999.0000,9,    25.00,-999.000,9, -999.00,-999.000,9,-999.000,9, -999.00,9,  -999.0,9,  -999.0,-999.000,9,-999.000,   0.043,4, -999.00,9, 1999.20,-999.0000,9,-999.0000,9,-999.0000,9,-999.0000,9,-999.0000,9,-999.0000,9,   2.9201,     -999.0,-999.000,      7.640,          2,      0.409,          2,   0.029,          2
 33RO200501,       A16S,      94,          1,         12,         12,2,20050213,       1644,   -15.5003,   -24.9997,       5120,  2198.5,   2.9802,  34.9059,2,  34.9062,2,    239.4,2,   239.8,2,   33.34,2,   21.86,2,    0.00,2,    1.39,2,-999.000,9,-999.000,9,-999.000,9,  2185.2,2,  2324.0,2,  -999.0,9,   20.00,   7.7152,2,    25.00,-999.000,9, -999.00,-999.000,9,-999.000,9, -999.00,9,  -999.0,9,  -999.0,-999.000,9,-999.000,-999.000,9, -999.00,9, 2198.50,-999.0000,9,-999.0000,9,-999.0000,9,-999.0000,9,-999.0000,9,-999.0000,9,   2.8097,     -999.0,-999.000,     -999.0,          9,     -999.0,          9,-999.000,          9
 33RO200501,       A16S,      94,          1,         11,         11,2,20050213,       1644,   -15.5003,   -24.9997,       5120,  2398.3,   2.8256,  34.9022,2,  34.9025,2,    239.8,2,   240.6,2,   36.47,2,   21.97,2,    0.00,2,    1.41,2,-999.000,9,-999.000,9,-999.000,9,  -999.0,9,  -999.0,9,  -999.0,9,   20.00,-999.0000,9,    25.00,-999.000,9, -999.00,-999.000,9,-999.000,9, -999.00,9,  -999.0,9,  -999.0,-999.000,9,-999.000,-999.000,9, -999.00,9, 2398.30,-999.0000,9,-999.0000,9,-999.0000,9,-999.0000,9,-999.0000,9,-999.0000,9,   2.6389,     -999.0,-999.000,     -999.0,          9,     -999.0,          9,-999.000,          9
 33RO200501,       A16S,      94,          1,         10,         10,2,20050213,       1644,   -15.5003,   -24.9997,       5120,  2598.3,   2.7515,  34.8995,2,  34.9005,2,    240.5,2,   241.0,2,   38.28,2,   22.05,2,    0.00,2,    1.42,2,-999.000,9,-999.000,9,-999.000,9,  -999.0,9,  -999.0,9,  -999.0,9,   20.00,-999.0000,9,    25.00,-999.000,9, -999.00,-999.000,9,-999.000,9, -999.00,9,  -999.0,9,  -999.0,-999.000,9,-999.000,-999.000,9, -999.00,9, 2598.30,-999.0000,9,-999.0000,9,-999.0000,9,-999.0000,9,-999.0000,9,-999.0000,9,   2.5467,     -999.0,-999.000,      2.026,          2,      0.127,          2,   0.008,          2
 33RO200501,       A16S,      94,          1,          9,          9,2,20050213,       1644,   -15.5003,   -24.9997,       5120,  2798.8,   2.6980,  34.8985,2,  34.8990,2,    241.1,2,   241.4,2,   39.53,2,   22.07,2,    0.00,2,    1.43,2,-999.000,9,-999.000,9,-999.000,9,  -999.0,9,  -999.0,9,  -999.0,9,   20.00,-999.0000,9,    25.00,-999.000,9, -999.00,-999.000,9,-999.000,9, -999.00,9,  -999.0,9,  -999.0,-999.000,9,-999.000,-999.000,9, -999.00,9, 2798.80,-999.0000,9,-999.0000,9,-999.0000,9,-999.0000,9,-999.0000,9,-999.0000,9,   2.4744,     -999.0,-999.000,     -999.0,          9,     -999.0,          9,-999.000,          9
 33RO200501,       A16S,      94,          1,          8,          8,2,20050213,       1644,   -15.5003,   -24.9997,       5120,  3049.3,   2.6307,  34.8967,2,  34.8958,2,    242.0,2,   242.2,2,   40.96,2,   22.08,2,    0.00,2,    1.43,2,   0.007,2,   0.006,2,   0.000,2,  -999.0,9,  -999.0,9,  -999.0,9,   20.00,-999.0000,9,    25.00,-999.000,9, -999.00,-999.000,9,-999.000,9, -999.00,9,  -999.0,9,  -999.0,-999.000,9,-999.000,   0.021,4, -999.00,9, 3049.30,-999.0000,9,-999.0000,9,-999.0000,9,-999.0000,9,-999.0000,9,-999.0000,9,   2.3830,     -999.0,-999.000,      2.613,          2,      0.181,          2,   0.058,          2