BOTTLE,20220818CCHSIOAMB
EXPOCODE,SECT_ID,STNNBR,CASTNO,SAMPNO,BTLNBR,BTLNBR_FLAG_W,DATE,TIME,LATITUDE,LONGITUDE,DEPTH,CTDPRS,CTDTMP,CTDSAL,CTDSAL_FLAG_W,SALNTY,SALNTY_FLAG_W,CTDOXY,CTDOXY_FLAG_W,OXYGEN,OXYGEN_FLAG_W,SILCAT,SILCAT_FLAG_W,NITRAT,NITRAT_FLAG_W,NITRIT,NITRIT_FLAG_W,PHSPHT,PHSPHT_FLAG_W,CFC-11,CFC-11_FLAG_W,CFC-12,CFC-12_FLAG_W,CFC113,CFC113_FLAG_W,TCARBN,TCARBN_FLAG_W,ALKALI,ALKALI_FLAG_W,PCO2,PCO2_FLAG_W,PCO2TMP,PH_SWS,PH_SWS_FLAG_W,PH_TMP,TRITUM,TRITUM_FLAG_W,TRITER,HELIUM,HELIUM_FLAG_W,DELHE3,DELHE3_FLAG_W,DELC13,DELC13_FLAG_W,DELC14,DELC14_FLAG_W,C14ERR,NEON,NEON_FLAG_W,NEONER,CCL4,CCL4_FLAG_W,DOC,DOC_FLAG_W,CTDRAW,CDOM325,CDOM325_FLAG_W,CDOM340,CDOM340_FLAG_W,CDOM380,CDOM380_FLAG_W,CDOM412,CDOM412_FLAG_W,CDOMSL,CDOMSL_FLAG_W,CDOMSN,CDOMSN_FLAG_W,THETA,HELIER,DELHER,CH3CL,CH3CL_FLAG_W,CH3BR,CH3BR_FLAG_W,CH3I,CH3I_FLAG_W
,,,,,,,,,,,METERS,DBAR,ITS-90,PSS-78,,PSS-78,,UMOL/KG,,UMOL/KG,,UMOL/KG,,UMOL/KG,,UMOL/KG,,UMOL/KG,,PMOL/KG,,PMOL/KG,,PMOL/KG,,UMOL/KG,,UMOL/KG,,UATM,,DEG C,,,DEG C,TU,,TU,NMOL/KG,,PERCNT,,/MILLE,,/MILLE,,/MILLE,NMOL/KG,,NMOL/KG,PMOL/KG,,UMOL/KG,,DBAR,1/M,,1/M,,1/M,,1/M,,1/NM,,1/NM,,DEG C,NMOL/KG,PERCNT,PMOL/KG,,PMOL/KG,,PMOL/KG,
 33RO200501,       A16S,      28,          1,         36,         36,2,20050124,       0626,   -48.5003,   -33.0668,       5071,     3.6,   9.4328,  34.1422,2,  34.1397,2,    286.4,2,   286.7,2,    1.49,2,   13.03,2,    0.17,2,    0.95,2,   3.815,2,   2.254,2,   0.329,2,  2075.4,2,  2276.5,2,  -999.0,9,   20.00,   7.8747,2,    25.00,-999.000,9, -999.00,-999.000,9,-999.000,9, -999.00,9,  -999.0,9,  -999.0,-999.000,9,-999.000,   5.186,4, -999.00,9,    3.60,-999.0000,9,-999.0000,9,-999.0000,9,-999.0000,9,-999.0000,9,-999.0000,9,   9.4324,     -999.0,-999.000,     68.933,          2,      2.214,          2,   2.204,          2
 33RO200501,       A16S,      28,          1,         35,         35,2,20050124,       0626,   -48.5003,   -33.0668,       5071,    21.6,   9.4259,  34.1429,2,  34.1411,2,    286.6,2,   286.4,2,    1.41,2,   13.01,2,    0.17,2,    0.96,2,-999.000,9,-999.000,9,-999.000,9,  -999.0,9,  -999.0,9,  -999.0,9,   20.00,-999.0000,9,    25.00,-999.000,9, -999.00,-999.000,9,-999.000,9, -999.00,9,  -999.0,9,  -999.0,-999.000,9,-999.000,-999.000,9, -999.00,9,   21.60,-999.0000,9,-999.0000,9,-999.0000,9,-999.0000,9,-999.0000,9,-999.0000,9,   9.4235,     -999.0,-999.000,     76.540,          2,      1.867,          2,   2.346,          2
 33RO200501,       A16S,      28,          1,         34,         34,2,20050124,       0626,   -48.5003,   -33.0668,       5071,    40.9,   9.3911,  34.1501,2,  34.1576,2,    287.2,2,   285.9,2,    1.63,2,   13.28,2,    0.19,2,    0.98,2,-999.000,9,-999.000,9,-999.000,9,  -999.0,9,  -999.0,9,  -999.0,9,   20.00,-999.0000,9,    25.00,-999.000,9, -999.00,-999.000,9,-999.000,9, -999.00,9,  -999.0,9,  -999.0,-999.000,9,-999.000,-999.000,9, -999.00,9,   40.90,-999.0000,9,-999.0000,9,-999.0000,9,-999.0000,9,-999.0000,9,-999.0000,9,   9.3867,     -999.0,-999.000,     64.477,          2,      1.802,          2,   2.176,          2
 33RO200501,       A16S,      28,          1,         33,         33,2,20050124,       0626,   -48.5003,   -33.0668,       5071,    61.6,   6.5989,  34.1262,2,  34.1370,2,    290.9,2,   290.8,2,    3.70,2,   17.99,2,    0.37,2,    1.34,2,-999.000,9,-999.000,9,-999.000,9,  -999.0,9,  -999.0,9,  -999.0,9,   20.00,-999.0000,9,    25.00,-999.000,9, -999.00,-999.000,9,-999.000,9, -999.00,9,  -999.0,9,  -999.0,-999.000,9,-999.000,-999.000,9, -999.00,9,   61.60,-999.0000,9,-999.0000,9,-999.0000,9,-999.0000,9,-999.0000,9,-999.0000,9,   6.5934,     -999.0,-999.000,     48.599,          2,      0.976,          2,   1.004,          2
 33RO200501,       A16S,      28,          1,         32,         32,2,20050124,       0626,   -48.5003,   -33.0668,       5071,    80.9,   6.1661,  34.1543,2,  34.3750,3,    282.9,2,   208.5,3,   54.83,3,   30.15,3,    0.01,3,    2.03,3,-999.000,9,-999.000,9,-999.000,9,  -999.0,9,  -999.0,9,  -999.0,9,   20.00,-999.0000,9,    25.00,-999.000,9, -999.00,-999.000,9,-999.000,9, -999.00,9,  -999.0,9,  -999.0,-999.000,9,-999.000,-999.000,9, -999.00,9,   80.90,-999.0000,9,-999.0000,9,-999.0000,9,-999.0000,9,-999.0000,9,-999.0000,9,   6.1592,     -999.0,-999.000,     -999.0,          9,     -999.0,          9,-999.000,          9
 33RO200501,       A16S,      28,          1,         31,         31,2,20050124,       0626,   -48.5003,   -33.0668,       5071,   101.8,   5.4171,  34.1179,2,  34.1208,2,    283.5,2,   287.3,2,    7.51,2,   21.92,2,    0.24,2,    1.49,2,   4.521,2,   2.524,2,   0.435,2,  2129.0,2,  2270.3,2,  -999.0,9,   20.00,   7.7487,2,    25.00,-999.000,9, -999.00,-999.000,9,-999.000,9, -999.00,9,  -999.0,9,  -999.0,-999.000,9,-999.000,   4.737,3, -999.00,9,  101.80,-999.0000,9,-999.0000,9,-999.0000,9,-999.0000,9,-999.0000,9,-999.0000,9,   5.4090,     -999.0,-999.000,     37.314,          2,      0.917,          2,   0.487,          2
 33RO200501,       A16S,      28,          1,         30,         30,2,20050124,       0626,   -48.5003,   -33.0668,       5071,   126.8,   4.8999,  34.1164,2,  34.1140,2,    281.6,2,   274.7,2,    9.05,2,   23.87,2,    0.16,2,    1.57,2,-999.000,9,-999.000,9,-999.000,9,  -999.0,9,  -999.0,9,  -999.0,9,   20.00,-999.0000,9,    25.00,-999.000,9, -999.00,-999.000,9,-999.000,9, -999.00,9,  -999.0,9,  -999.0,-999.000,9,-999.000,-999.000,9, -999.00,9,  126.80,-999.0000,9,-999.0000,9,-999.0000,9,-999.0000,9,-999.0000,9,-999.0000,9,   4.8904,     -999.0,-999.000,     -999.0,          9,     -999.0,          9,-999.000,          9
 33RO200501,       A16S,      28,          1,         29,         29,2,20050124,       0626,   -48.5003,   -33.0668,       5071,   150.1,   4.4615,  34.0934,2,  34.0916,2,    283.6,2,   288.5,2,   10.02,2,   24.24,2,    0.13,2,    1.61,2,-999.000,9,-999.000,9,-999.000,9,  -999.0,9,  -999.0,9,  -999.0,9,   20.00,-999.0000,9,    25.00,-999.000,9, -999.00,-999.000,9,-999.000,9, -999.00,9,  -999.0,9,  -999.0,-999.000,9,-999.000,-999.000,9, -999.00,9,  150.10,-999.0000,9,-999.0000,9,-999.0000,9,-999.0000,9,-999.0000,9,-999.0000,9,   4.4507,     -999.0,-999.000,     33.197,          2,      0.751,          2,   0.290,          2
 33RO200501,       A16S,      28,          1,         28,         28,2,20050124,       0626,   -48.5003,   -33.0668,       5071,   172.6,   4.1967,  34.0951,2,  34.0963,2,    292.6,2,   288.6,2,   10.84,2,   24.73,2,    0.04,2,    1.64,2,-999.000,9,-999.000,9,-999.000,9,  -999.0,9,  -999.0,9,  -999.0,9,   20.00,-999.0000,9,    25.00,-999.000,9, -999.00,-999.000,9,-999.000,9, -999.00,9,  -999.0,9,  -999.0,-999.000,9,-999.000,-999.000,9, -999.00,9,  172.60,-999.0000,9,-999.0000,9,-999.0000,9,-999.0000,9,-999.0000,9,-999.0000,9,   4.1846,     -999.0,-999.000,     -999.0,          9,     -999.0,          9,-999.000,          9
 33RO200501,       A16S,      28,          1,         27,         27,2,20050124,       0626,   -48.5003,   -33.0668,       5071,   202.1,   4.0374,  34.1085,2,  34.1089,2,    286.4,2,   285.6,2,   12.04,2,   25.25,2,    0.02,2,    1.68,2,   4.582,2,   2.519,2,   0.374,2,  2143.3,2,  2274.3,2,  -999.0,9,   20.00,   7.7085,2,    25.00,-999.000,9, -999.00,-999.000,9,-999.000,9, -999.00,9,  -999.0,9,  -999.0,-999.000,9,-999.000,   4.371,3, -999.00,9,  202.10,-999.0000,9,-999.0000,9,-999.0000,9,-999.0000,9,-999.0000,9,-999.0000,9,   4.0234,     -999.0,-999.000,     30.812,          2,      0.725,          2,   0.164,          2
 33RO200501,       A16S,      28,          1,         26,         26,2,20050124,       0626,   -48.5003,   -33.0668,       5071,   251.3,   3.6882,  34.1029,2,  34.1024,2,    278.7,2,   284.6,2,   14.27,2,   26.03,2,    0.01,2,    1.72,2,-999.000,9,-999.000,9,-999.000,9,  -999.0,9,  -999.0,9,  -999.0,9,   20.00,-999.0000,9,    25.00,-999.000,9, -999.00,-999.000,9,-999.000,9, -999.00,9,  -999.0,9,  -999.0,-999.000,9,-999.000,-999.000,9, -999.00,9,  251.30,-999.0000,9,-999.0000,9,-999.0000,9,-999.0000,9,-999.0000,9,-999.0000,9,   3.6714,     -999.0,-999.000,     -999.0,          9,     -999.0,          9,-999.000,          9
 33RO200501,       A16S,      28,          1,         25,         25,2,20050124,       0626,   -48.5003,   -33.0668,       5071,   301.6,   3.3782,  34.0973,2,  34.1015,2,    279.8,2,   280.7,2,   16.61,2,   26.90,2,    0.01,2,    1.77,2,-999.000,9,-999.000,9,-999.000,9,  -999.0,9,  -999.0,9,  -999.0,9,   20.00,-999.0000,9,    25.00,-999.000,9, -999.00,-999.000,9,-999.000,9, -999.00,9,  -999.0,9,  -999.0,-999.000,9,-999.000,-999.000,9, -999.00,9,  301.60,-999.0000,9,-999.0000,9,-999.0000,9,-999.0000,9,-999.0000,9,-999.0000,9,   3.3587,     -999.0,-999.000,     11.171,          2,      0.219,          2,   0.104,          2
 33RO200501,       A16S,      28,          1,         24,         24,2,20050124,       0626,   -48.5003,   -33.0668,       5071,   352.9,   3.2698,  34.1251,2,  34.1252,2,    267.2,2,   265.8,2,   21.45,2,   28.47,2,    0.01,2,    1.87,2,-999.000,9,-999.000,9,-999.000,9,  -999.0,9,  -999.0,9,  -999.0,9,   20.00,-999.0000,9,    25.00,-999.000,9, -999.00,-999.000,9,-999.000,9, -999.00,9,  -999.0,9,  -999.0,-999.000,9,-999.000,-999.000,9, -999.00,9,  352.90,-999.0000,9,-999.0000,9,-999.0000,9,-999.0000,9,-999.0000,9,-999.0000,9,   3.2471,     -999.0,-999.000,     -999.0,          9,     -999.0,          9,-999.000,          9
 33RO200501,       A16S,      28,          1,         23,         23,2,20050124,       0626,   -48.5003,   -33.0668,       5071,   402.6,   3.2184,  34.1689,2,  34.1638,2,    252.7,2,   253.6,2,   25.81,2,   29.59,2,    0.01,2,    1.95,2,   3.618,2,   1.924,2,   0.276,2,  2173.7,2,  2396.4,3,  -999.0,9,   20.00,-999.0000,5,    25.00,-999.000,9, -999.00,-999.000,9,-999.000,9, -999.00,9,  -999.0,9,  -999.0,-999.000,9,-999.000,   3.432,3, -999.00,9,  402.60,-999.0000,9,-999.0000,9,-999.0000,9,-999.0000,9,-999.0000,9,-999.0000,9,   3.1925,     -999.0,-999.000,      0.847,          2,      0.000,          2,   0.064,          2
 33RO200501,       A16S,      28,          1,         22,         22,2,20050124,       0626,   -48.5003,   -33.0668,       5071,   500.1,   3.0257,  34.2390,2,  34.2380,2,    236.1,2,   231.6,2,   35.02,2,   31.37,2,    0.01,2,    2.08,2,-999.000,9,-999.000,9,-999.000,9,  -999.0,9,  -999.0,9,  -999.0,9,   20.00,-999.0000,9,    25.00,-999.000,9, -999.00,-999.000,9,-999.000,9, -999.00,9,  -999.0,9,  -999.0,-999.000,9,-999.000,-999.000,9, -999.00,9,  500.10,-999.0000,9,-999.0000,9,-999.0000,9,-999.0000,9,-999.0000,9,-999.0000,9,   2.9938,     -999.0,-999.000,     -999.0,          9,     -999.0,          9,-999.000,          9
 33RO200501,       A16S,      28,          1,         21,         21,2,20050124,       0626,   -48.5003,   -33.0668,       5071,   603.6,   2.8561,  34.2995,2,  34.2990,2,    217.5,2,   215.0,2,   43.46,6,   32.54,6,    0.00,6,    2.17,6,-999.000,9,-999.000,9,-999.000,9,  -999.0,9,  -999.0,9,  -999.0,9,   20.00,-999.0000,9,    25.00,-999.000,9, -999.00,-999.000,9,-999.000,9, -999.00,9,  -999.0,9,  -999.0,-999.000,9,-999.000,-999.000,9, -999.00,9,  603.60,-999.0000,9,-999.0000,9,-999.0000,9,-999.0000,9,-999.0000,9,-999.0000,9,   2.8179,     -999.0,-999.000,      2.577,          2,      0.186,          2,   0.065,          2
 33RO200501,       A16S,      28,          1,         20,         20,2,20050124,       0626,   -48.5003,   -33.0668,       5071,   701.9,   2.7510,  34.3660,2,  34.3640,2,    200.8,2,   201.2,2,   51.30,2,   33.41,2,    0.00,2,    2.24,2,-999.000,9,-999.000,9,-999.000,9,  -999.0,9,  -999.0,9,  -999.0,9,   20.00,-999.0000,9,    25.00,-999.000,9, -999.00,-999.000,9,-999.000,9, -999.00,9,  -999.0,9,  -999.0,-999.000,9,-999.000,-999.000,9, -999.00,9,  701.90,-999.0000,9,-999.0000,9,-999.0000,9,-999.0000,9,-999.0000,9,-999.0000,9,   2.7065,     -999.0,-999.000,     -999.0,          9,     -999.0,          9,-999.000,          9
 33RO200501,       A16S,      28,          1,         19,         19,2,20050124,       0626,   -48.5003,   -33.0668,       5071,   802.9,   2.6378,  34.4236,2,  34.4225,2,    188.6,2,   189.7,2,   58.97,2,   33.94,2,    0.00,2,    2.28,2,   1.164,2,   0.586,2,   0.078,2,  2231.7,2,  2317.6,2,  -999.0,9,   20.00,   7.5799,2,    25.00,-999.000,9, -999.00,-999.000,9,-999.000,9, -999.00,9,  -999.0,9,  -999.0,-999.000,9,-999.000,   1.370,3, -999.00,9,  802.90,-999.0000,9,-999.0000,9,-999.0000,9,-999.0000,9,-999.0000,9,-999.0000,9,   2.5870,     -999.0,-999.000,      4.456,          2,      0.563,          2,   0.087,          2
 33RO200501,       A16S,      28,          1,         18,         18,2,20050124,       0626,   -48.5003,   -33.0668,       5071,   901.3,   2.4913,  34.4719,2,  34.4727,2,    182.1,2,   181.9,2,   66.14,2,   34.41,2,    0.00,2,    2.31,2,-999.000,9,-999.000,9,-999.000,9,  -999.0,9,  -999.0,9,  -999.0,9,   20.00,-999.0000,9,    25.00,-999.000,9, -999.00,-999.000,9,-999.000,9, -999.00,9,  -999.0,9,  -999.0,-999.000,9,-999.000,-999.000,9, -999.00,9,  901.30,-999.0000,9,-999.0000,9,-999.0000,9,-999.0000,9,-999.0000,9,-999.0000,9,   2.4344,     -999.0,-999.000,     -999.0,          9,     -999.0,          9,-999.000,          9
 33RO200501,       A16S,      28,          1,         17,         17,2,20050124,       0626,   -48.5003,   -33.0668,       5071,  1002.7,   2.5158,  34.5367,2,  34.5354,2,    177.9,2,   176.4,2,   69.83,2,   34.15,2,    0.00,2,    2.29,2,-999.000,9,-999.000,9,-999.000,9,  -999.0,9,  -999.0,9,  -999.0,9,   20.00,-999.0000,9,    25.00,-999.000,9, -999.00,-999.000,9,-999.000,9, -999.00,9,  -999.0,9,  -999.0,-999.000,9,-999.000,-999.000,9, -999.00,9, 1002.70,-999.0000,9,-999.0000,9,-999.0000,9,-999.0000,9,-999.0000,9,-999.0000,9,   2.4515,     -999.0,-999.000,     -999.0,          9,     -999.0,          9,-999.000,          9
 33RO200501,       A16S,      28,          1,         16,         16,2,20050124,       0626,   -48.5003,   -33.0668,       5071,  1203.4,   2.6901,  34.6541,2,  34.6541,2,    179.5,2,   180.0,2,   66.90,6,   31.84,6,    0.00,6,    2.15,6,-999.000,9,-999.000,9,-999.000,9,  -999.0,9,  -999.0,9,  -999.0,9,   20.00,-999.0000,9,    25.00,-999.000,9, -999.00,-999.000,9,-999.000,9, -999.00,9,  -999.0,9,  -999.0,-999.000,9,-999.000,-999.000,9, -999.00,9, 1203.40,-999.0000,9,-999.0000,9,-999.0000,9,-999.0000,9,-999.0000,9,-999.0000,9,   2.6091,     -999.0,-999.000,      5.408,          2,      0.198,          2,   0.043,          2
 33RO200501,       A16S,      28,          1,         15,         15,2,20050124,       0626,   -48.5003,   -33.0668,       5071,  1402.3,   2.5335,  34.6992,2,  34.6987,2,    184.1,2,   182.3,2,   72.51,2,   31.32,2,    0.00,2,    2.12,2,   0.161,2,   0.085,2,   0.007,2,  -999.0,9,  -999.0,9,  -999.0,9,   20.00,-999.0000,9,    25.00,-999.000,9, -999.00,-999.000,9,-999.000,9, -999.00,9,  -999.0,9,  -999.0,-999.000,9,-999.000,   0.288,3, -999.00,9, 1402.30,-999.0000,9,-999.0000,9,-999.0000,9,-999.0000,9,-999.0000,9,-999.0000,9,   2.4385,     -999.0,-999.000,     -999.0,          9,     -999.0,          9,-999.000,          9
 33RO200501,       A16S,      28,          1,         14,         14,2,20050124,       0626,   -48.5003,   -33.0668,       5071,  1602.7,   2.6840,  34.7661,2,  34.7656,2,    193.1,2,   196.4,2,   63.80,2,   28.83,2,    0.00,2,    1.94,2,-999.000,9,-999.000,9,-999.000,9,  -999.0,9,  -999.0,9,  -999.0,9,   20.00,-999.0000,9,    25.00,-999.000,9, -999.00,-999.000,9,-999.000,9, -999.00,9,  -999.0,9,  -999.0,-999.000,9,-999.000,-999.000,9, -999.00,9, 1602.70,-999.0000,9,-999.0000,9,-999.0000,9,-999.0000,9,-999.0000,9,-999.0000,9,   2.5708,     -999.0,-999.000,     -999.0,          9,     -999.0,          9,-999.000,          9
 33RO200501,       A16S,      28,          1,         13,         13,2,20050124,       0626,   -48.5003,   -33.0668,       5071,  1793.5,   2.5452,  34.7892,2,  34.7904,2,    200.9,2,   202.2,2,   65.36,2,   28.04,2,    0.00,2,    1.90,2,-999.000,9,-999.000,9,-999.000,9,  -999.0,9,  -999.0,9,  -999.0,9,   20.00,-999.0000,9,    25.00,-999.000,9, -999.00,-999.000,9,-999.000,9, -999.00,9,  -999.0,9,  -999.0,-999.000,9,-999.000,-999.000,9, -999.00,9, 1793.50,-999.0000,9,-999.0000,9,-999.0000,9,-999.0000,9,-999.0000,9,-999.0000,9,   2.4178,     -999.0,-999.000,      4.112,          2,      0.461,          2,   0.029,          2
 33RO200501,       A16S,      28,          1,         12,         12,2,20050124,       0626,   -48.5003,   -33.0668,       5071,  2002.0,   2.3733,  34.7967,2,  34.7886,2,    204.1,2,   205.6,2,   68.46,6,   27.71,6,    0.00,6,    1.89,6,-999.000,9,-999.000,9,-999.000,9,  -999.0,9,  -999.0,9,  -999.0,9,   20.00,-999.0000,9,    25.00,-999.000,9, -999.00,-999.000,9,-999.000,9, -999.00,9,  -999.0,9,  -999.0,-999.000,9,-999.000,-999.000,9, -999.00,9, 2002.00,-999.0000,9,-999.0000,9,-999.0000,9,-999.0000,9,-999.0000,9,-999.0000,9,   2.2304,     -999.0,-999.000,     -999.0,          9,     -999.0,          9,-999.000,          9
 33RO200501,       A16S,      28,          1,         11,         11,2,20050124,       0626,   -48.5003,   -33.0668,       5071,  2202.3,   2.1593,  34.7972,2,  34.7969,2,    207.9,2,   209.4,2,   72.85,2,   27.78,2,    0.00,2,    1.89,2,   0.072,2,   0.034,2,   0.002,2,  -999.0,9,  -999.0,9,  -999.0,9,   20.00,-999.0000,9,    25.00,-999.000,9, -999.00,-999.000,9,-999.000,9, -999.00,9,  -999.0,9,  -999.0,-999.000,9,-999.000,   0.182,3, -999.00,9, 2202.30,-999.0000,9,-999.0000,9,-999.0000,9,-999.0000,9,-999.0000,9,-999.0000,9,   2.0024,     -999.0,-999.000,     -999.0,          9,     -999.0,          9,-999.000,          9
 33RO200501,       A16S,      28,          1,         10,         10,2,20050124,       0626,   -48.5003,   -33.0668,       5071,  2401.7,   1.8019,  34.7634,2,  34.7633,2,    205.4,2,   202.9,2,   87.66,2,   29.55,2,    0.00,2,    2.02,2,-999.000,9,-999.000,9,-999.000,9,  -999.0,9,  -999.0,9,  -999.0,9,   20.00,-999.0000,9,    25.00,-999.000,9, -999.00,-999.000,9,-999.000,9, -999.00,9,  -999.0,9,  -999.0,-999.000,9,-999.000,-999.000,9, -999.00,9, 2401.70,-999.0000,9,-999.0000,9,-999.0000,9,-999.0000,9,-999.0000,9,-999.0000,9,   1.6336,     -999.0,-999.000,      1.567,          2,      0.303,          2,   0.022,          2
 33RO200501,       A16S,      28,          1,          9,          9,2,20050124,       0626,   -48.5003,   -33.0668,       5071,  2599.7,   1.5779,  34.7503,2,  34.7499,2,    202.4,2,   202.5,2,   95.54,2,   30.22,2,    0.00,2,    2.07,2,-999.000,9,-999.000,9,-999.000,9,  -999.0,9,  -999.0,9,  -999.0,9,   20.00,-999.0000,9,    25.00,-999.000,9, -999.00,-999.000,9,-999.000,9, -999.00,9,  -999.0,9,  -999.0,-999.000,9,-999.000,-999.000,9, -999.00,9, 2599.70,-999.0000,9,-999.0000,9,-999.0000,9,-999.0000,9,-999.0000,9,-999.0000,9,   1.3962,     -999.0,-999.000,     -999.0,          9,     -999.0,          9,-999.000,          9
 33RO200501,       A16S,      28,          1,          8,          8,2,20050124,       0626,   -48.5003,   -33.0668,       5071,  2902.3,   1.2082,  34.7243,2,  34.7238,2,    203.1,2,   203.2,2,  107.16,6,   31.31,6,    0.00,6,    2.18,6,-999.000,9,-999.000,9,-999.000,9,  -999.0,9,  -999.0,9,  -999.0,9,   20.00,-999.0000,9,    25.00,-999.000,9, -999.00,-999.000,9,-999.000,9, -999.00,9,  -999.0,9,  -999.0,-999.000,9,-999.000,-999.000,9, -999.00,9, 2902.30,-999.0000,9,-999.0000,9,-999.0000,9,-999.0000,9,-999.0000,9,-999.0000,9,   1.0067,     -999.0,-999.000,     -999.0,          9,     -999.0,          9,-999.000,          9