BOTTLE,20220818CCHSIOAMB
EXPOCODE,SECT_ID,STNNBR,CASTNO,SAMPNO,BTLNBR,BTLNBR_FLAG_W,DATE,TIME,LATITUDE,LONGITUDE,DEPTH,CTDPRS,CTDTMP,CTDSAL,CTDSAL_FLAG_W,SALNTY,SALNTY_FLAG_W,CTDOXY,CTDOXY_FLAG_W,OXYGEN,OXYGEN_FLAG_W,SILCAT,SILCAT_FLAG_W,NITRAT,NITRAT_FLAG_W,NITRIT,NITRIT_FLAG_W,PHSPHT,PHSPHT_FLAG_W,CFC-11,CFC-11_FLAG_W,CFC-12,CFC-12_FLAG_W,CFC113,CFC113_FLAG_W,TCARBN,TCARBN_FLAG_W,ALKALI,ALKALI_FLAG_W,PCO2,PCO2_FLAG_W,PCO2TMP,PH_SWS,PH_SWS_FLAG_W,PH_TMP,TRITUM,TRITUM_FLAG_W,TRITER,HELIUM,HELIUM_FLAG_W,DELHE3,DELHE3_FLAG_W,DELC13,DELC13_FLAG_W,DELC14,DELC14_FLAG_W,C14ERR,NEON,NEON_FLAG_W,NEONER,CCL4,CCL4_FLAG_W,DOC,DOC_FLAG_W,CTDRAW,CDOM325,CDOM325_FLAG_W,CDOM340,CDOM340_FLAG_W,CDOM380,CDOM380_FLAG_W,CDOM412,CDOM412_FLAG_W,CDOMSL,CDOMSL_FLAG_W,CDOMSN,CDOMSN_FLAG_W,THETA,HELIER,DELHER,CH3CL,CH3CL_FLAG_W,CH3BR,CH3BR_FLAG_W,CH3I,CH3I_FLAG_W
,,,,,,,,,,,METERS,DBAR,ITS-90,PSS-78,,PSS-78,,UMOL/KG,,UMOL/KG,,UMOL/KG,,UMOL/KG,,UMOL/KG,,UMOL/KG,,PMOL/KG,,PMOL/KG,,PMOL/KG,,UMOL/KG,,UMOL/KG,,UATM,,DEG C,,,DEG C,TU,,TU,NMOL/KG,,PERCNT,,/MILLE,,/MILLE,,/MILLE,NMOL/KG,,NMOL/KG,PMOL/KG,,UMOL/KG,,DBAR,1/M,,1/M,,1/M,,1/M,,1/NM,,1/NM,,DEG C,NMOL/KG,PERCNT,PMOL/KG,,PMOL/KG,,PMOL/KG,
 33RO200501,       A16S,       3,          1,         24,         24,2,20050118,       0030,   -58.9998,   -30.9212,       2941,     1.6,   1.5009,  33.8781,2,  33.8788,2,    335.3,2,   334.3,2,   64.97,6,   23.92,6,    0.26,6,    1.62,6,   6.153,3,   3.285,2,   0.576,2,  2157.6,2,  2306.1,4,  -999.0,9,   20.00,-999.0000,9,    25.00,-999.000,9, -999.00,-999.000,9,-999.000,9, -999.00,9,  -999.0,9,  -999.0,-999.000,9,-999.000,   6.617,4, -999.00,9,    1.60,-999.0000,9,-999.0000,9,-999.0000,9,-999.0000,9,-999.0000,9,-999.0000,9,   1.5009,     -999.0,-999.000,     -999.0,          9,     -999.0,          9,-999.000,          9
 33RO200501,       A16S,       3,          1,         23,         23,2,20050118,       0030,   -58.9998,   -30.9212,       2941,    28.9,   1.4877,  33.8990,2,  33.8980,2,    335.3,2,   334.8,2,   64.73,6,   23.93,6,    0.26,6,    1.63,6,   6.144,2,   3.287,2,   0.568,2,  2159.7,2,  2316.7,4,  -999.0,9,   20.00,-999.0000,9,    25.00,-999.000,9, -999.00,-999.000,9,-999.000,9, -999.00,9,  -999.0,9,  -999.0,-999.000,9,-999.000,   6.688,4, -999.00,9,   28.90,-999.0000,9,-999.0000,9,-999.0000,9,-999.0000,9,-999.0000,9,-999.0000,9,   1.4864,     -999.0,-999.000,     -999.0,          9,     -999.0,          9,-999.000,          9
 33RO200501,       A16S,       3,          1,         22,         22,2,20050118,       0030,   -58.9998,   -30.9212,       2941,    57.6,  -0.0089,  34.1049,2,  34.1054,2,    348.8,2,   350.1,2,   66.38,6,   25.56,6,    0.23,6,    1.76,6,   6.315,3,   3.329,3,   0.599,3,  2176.4,2,  -999.0,5,  -999.0,9,   20.00,-999.0000,9,    25.00,-999.000,9, -999.00,-999.000,9,-999.000,9, -999.00,9,  -999.0,9,  -999.0,-999.000,9,-999.000,   6.492,4, -999.00,9,   57.60,-999.0000,9,-999.0000,9,-999.0000,9,-999.0000,9,-999.0000,9,-999.0000,9,  -0.0108,     -999.0,-999.000,     -999.0,          9,     -999.0,          9,-999.000,          9
 33RO200501,       A16S,       3,          1,         21,         21,2,20050118,       0030,   -58.9998,   -30.9212,       2941,    88.7,  -0.5623,  34.1786,2,  34.1801,2,    335.9,2,   331.5,2,   71.31,2,   27.61,2,    0.30,2,    1.95,2,   6.020,2,   3.186,2,   0.539,2,  2197.6,2,  -999.0,5,  -999.0,9,   20.00,-999.0000,9,    25.00,-999.000,9, -999.00,-999.000,9,-999.000,9, -999.00,9,  -999.0,9,  -999.0,-999.000,9,-999.000,   6.072,3, -999.00,9,   88.70,-999.0000,9,-999.0000,9,-999.0000,9,-999.0000,9,-999.0000,9,-999.0000,9,  -0.5650,     -999.0,-999.000,     -999.0,          9,     -999.0,          9,-999.000,          9
 33RO200501,       A16S,       3,          1,         20,         20,2,20050118,       0030,   -58.9998,   -30.9212,       2941,   108.4,  -0.6402,  34.2220,2,  34.2221,2,    314.9,2,   317.1,2,   74.22,2,   29.06,2,    0.28,2,    2.03,2,   5.528,2,   2.932,2,   0.487,2,  2205.7,2,  2314.8,4,  -999.0,9,   20.00,-999.0000,9,    25.00,-999.000,9, -999.00,-999.000,9,-999.000,9, -999.00,9,  -999.0,9,  -999.0,-999.000,9,-999.000,   5.659,3, -999.00,9,  108.40,-999.0000,9,-999.0000,9,-999.0000,9,-999.0000,9,-999.0000,9,-999.0000,9,  -0.6435,     -999.0,-999.000,     -999.0,          9,     -999.0,          9,-999.000,          9
 33RO200501,       A16S,       3,          1,         19,         19,2,20050118,       0030,   -58.9998,   -30.9212,       2941,   138.1,  -0.3930,  34.3469,2,  34.3472,2,    282.0,2,   283.7,2,   81.11,2,   31.89,2,    0.07,2,    2.15,2,   4.117,2,   2.186,2,   0.375,2,  2225.8,2,  2327.1,4,  -999.0,9,   20.00,-999.0000,9,    25.00,-999.000,9, -999.00,-999.000,9,-999.000,9, -999.00,9,  -999.0,9,  -999.0,-999.000,9,-999.000,   4.086,3, -999.00,9,  138.10,-999.0000,9,-999.0000,9,-999.0000,9,-999.0000,9,-999.0000,9,-999.0000,9,  -0.3975,     -999.0,-999.000,     -999.0,          9,     -999.0,          9,-999.000,          9
 33RO200501,       A16S,       3,          1,         18,         18,2,20050118,       0030,   -58.9998,   -30.9212,       2941,   173.3,  -0.0467,  34.4435,2,  34.4438,2,    255.9,2,   253.9,2,   85.26,2,   32.33,2,    0.01,2,    2.17,2,   3.237,2,   1.720,2,   0.281,2,  2234.8,2,  2335.4,4,  -999.0,9,   20.00,-999.0000,9,    25.00,-999.000,9, -999.00,-999.000,9,-999.000,9, -999.00,9,  -999.0,9,  -999.0,-999.000,9,-999.000,   3.194,3, -999.00,9,  173.30,-999.0000,9,-999.0000,9,-999.0000,9,-999.0000,9,-999.0000,9,-999.0000,9,  -0.0529,     -999.0,-999.000,     -999.0,          9,     -999.0,          9,-999.000,          9
 33RO200501,       A16S,       3,          1,         17,         17,2,20050118,       0030,   -58.9998,   -30.9212,       2941,   222.8,   0.3453,  34.5417,2,  34.5408,2,    236.9,2,   234.2,2,   89.74,2,   32.44,2,    0.02,2,    2.18,2,   2.362,2,   1.245,2,   0.195,2,  2242.8,2,  2330.5,2,  -999.0,9,   20.00,-999.0000,9,    25.00,   0.161,2,    0.01,-999.000,9,-999.000,9, -999.00,9,  -999.0,9,  -999.0,-999.000,9,-999.000,   2.311,3, -999.00,9,  222.80,-999.0000,9,-999.0000,9,-999.0000,9,-999.0000,9,-999.0000,9,-999.0000,9,   0.3364,     -999.0,-999.000,     -999.0,          9,     -999.0,          9,-999.000,          9
 33RO200501,       A16S,       3,          1,         16,         16,2,20050118,       0030,   -58.9998,   -30.9212,       2941,   272.8,   0.6250,  34.5976,2,  34.5954,2,    222.7,2,   221.7,2,   92.23,2,   32.32,2,    0.02,2,    2.18,2,   1.769,2,   0.921,2,   0.143,2,  2248.0,2,  2348.6,4,  -999.0,9,   20.00,-999.0000,9,    25.00,-999.000,9, -999.00,-999.000,9,-999.000,9, -999.00,9,  -999.0,9,  -999.0,-999.000,9,-999.000,   1.750,3, -999.00,9,  272.80,-999.0000,9,-999.0000,9,-999.0000,9,-999.0000,9,-999.0000,9,-999.0000,9,   0.6133,     -999.0,-999.000,     -999.0,          9,     -999.0,          9,-999.000,          9
 33RO200501,       A16S,       3,          1,         15,         15,2,20050118,       0030,   -58.9998,   -30.9212,       2941,   349.4,   0.7826,  34.6369,2,  34.6378,2,    212.8,2,   213.4,2,   96.12,2,   32.21,2,    0.01,2,    2.18,2,   1.301,2,   0.672,2,   0.085,2,  2252.2,2,  2353.0,2,  -999.0,9,   20.00,-999.0000,9,    25.00,-999.000,9, -999.00,-999.000,9,-999.000,9, -999.00,9,  -999.0,9,  -999.0,-999.000,9,-999.000,   1.286,3, -999.00,9,  349.40,-999.0000,9,-999.0000,9,-999.0000,9,-999.0000,9,-999.0000,9,-999.0000,9,   0.7670,     -999.0,-999.000,     -999.0,          9,     -999.0,          9,-999.000,          9
 33RO200501,       A16S,       3,          1,         14,         14,2,20050118,       0030,   -58.9998,   -30.9212,       2941,   449.4,   0.7204,  34.6555,2,  34.6551,2,    212.3,2,   212.5,2,  100.84,2,   32.17,2,    0.00,2,    2.19,2,   1.102,2,   0.570,2,   0.072,2,  2255.2,2,  2369.4,2,  -999.0,9,   20.00,-999.0000,9,    25.00,-999.000,9, -999.00,-999.000,9,-999.000,9, -999.00,9,  -999.0,9,  -999.0,-999.000,9,-999.000,   1.135,3, -999.00,9,  449.40,-999.0000,9,-999.0000,9,-999.0000,9,-999.0000,9,-999.0000,9,-999.0000,9,   0.7000,     -999.0,-999.000,     -999.0,          9,     -999.0,          9,-999.000,          9
 33RO200501,       A16S,       3,          1,         13,         13,2,20050118,       0030,   -58.9998,   -30.9212,       2941,   548.9,   0.6001,  34.6593,2,  34.6594,2,    212.5,2,   213.2,2,  104.66,2,   32.28,2,    0.00,2,    2.20,2,   1.030,2,   0.534,2,   0.068,2,  2256.2,2,  2358.2,2,  -999.0,9,   20.00,-999.0000,9,    25.00,-999.000,9, -999.00,-999.000,9,-999.000,9, -999.00,9,  -999.0,9,  -999.0,-999.000,9,-999.000,   1.075,3, -999.00,9,  548.90,-999.0000,9,-999.0000,9,-999.0000,9,-999.0000,9,-999.0000,9,-999.0000,9,   0.5754,     -999.0,-999.000,     -999.0,          9,     -999.0,          9,-999.000,          9
 33RO200501,       A16S,       3,          1,         12,         12,2,20050118,       0030,   -58.9998,   -30.9212,       2941,   649.5,   0.6273,  34.6713,2,  34.6708,2,    211.7,2,   210.8,2,  107.47,2,   32.28,2,    0.00,2,    2.19,2,   0.856,2,   0.442,2,   0.038,2,  2257.9,2,  2367.7,2,  -999.0,9,   20.00,-999.0000,9,    25.00,-999.000,9, -999.00,-999.000,9,-999.000,9, -999.00,9,  -999.0,9,  -999.0,-999.000,9,-999.000,   0.826,3, -999.00,9,  649.50,-999.0000,9,-999.0000,9,-999.0000,9,-999.0000,9,-999.0000,9,-999.0000,9,   0.5972,     -999.0,-999.000,     -999.0,          9,     -999.0,          9,-999.000,          9
 33RO200501,       A16S,       3,          1,         11,         11,2,20050118,       0030,   -58.9998,   -30.9212,       2941,   748.5,   0.5728,  34.6738,2,  34.6735,2,    210.0,2,   210.8,2,  109.74,2,   32.34,2,    0.00,2,    2.19,2,   0.745,2,   0.388,2,   0.047,2,  2256.5,2,  2354.9,2,  -999.0,9,   20.00,-999.0000,9,    25.00,-999.000,9, -999.00,-999.000,9,-999.000,9, -999.00,9,  -999.0,9,  -999.0,-999.000,9,-999.000,   0.812,3, -999.00,9,  748.50,-999.0000,9,-999.0000,9,-999.0000,9,-999.0000,9,-999.0000,9,-999.0000,9,   0.5379,     -999.0,-999.000,     -999.0,          9,     -999.0,          9,-999.000,          9
 33RO200501,       A16S,       3,          1,         10,         10,2,20050118,       0030,   -58.9998,   -30.9212,       2941,   847.5,   0.5403,  34.6776,2,  34.6773,2,    211.1,2,   210.2,2,  112.23,2,   32.48,2,    0.00,2,    2.21,2,   0.705,2,   0.359,2,   0.026,2,  2256.2,2,  2350.1,2,  -999.0,9,   20.00,-999.0000,9,    25.00,-999.000,9, -999.00,-999.000,9,-999.000,9, -999.00,9,  -999.0,9,  -999.0,-999.000,9,-999.000,   0.778,3, -999.00,9,  847.50,-999.0000,9,-999.0000,9,-999.0000,9,-999.0000,9,-999.0000,9,-999.0000,9,   0.5003,     -999.0,-999.000,     -999.0,          9,     -999.0,          9,-999.000,          9
 33RO200501,       A16S,       3,          1,          9,          9,2,20050118,       0030,   -58.9998,   -30.9212,       2941,   998.8,   0.4617,  34.6777,2,  34.6789,2,    212.1,2,   210.9,2,  114.89,2,   32.59,2,    0.00,2,    2.22,2,   0.634,2,   0.321,2,   0.030,2,  2258.8,2,  2362.9,2,  -999.0,9,   20.00,-999.0000,9,    25.00,-999.000,9, -999.00,-999.000,9,-999.000,9, -999.00,9,  -999.0,9,  -999.0,-999.000,9,-999.000,   0.633,3, -999.00,9,  998.80,-999.0000,9,-999.0000,9,-999.0000,9,-999.0000,9,-999.0000,9,-999.0000,9,   0.4138,     -999.0,-999.000,     -999.0,          9,     -999.0,          9,-999.000,          9
 33RO200501,       A16S,       3,          1,          8,          8,2,20050118,       0030,   -58.9998,   -30.9212,       2941,  1198.5,   0.3868,  34.6788,2,  34.6781,2,    212.7,2,   212.0,2,  117.78,2,   32.67,2,    0.00,2,    2.24,2,   0.577,2,   0.287,2,   0.016,2,  2258.5,2,  -999.0,5,  -999.0,9,   20.00,-999.0000,9,    25.00,-999.000,9, -999.00,-999.000,9,-999.000,9, -999.00,9,  -999.0,9,  -999.0,-999.000,9,-999.000,   0.630,3, -999.00,9, 1198.50,-999.0000,9,-999.0000,9,-999.0000,9,-999.0000,9,-999.0000,9,-999.0000,9,   0.3280,     -999.0,-999.000,     -999.0,          9,     -999.0,          9,-999.000,          9
 33RO200501,       A16S,       3,          1,          7,          7,2,20050118,       0030,   -58.9998,   -30.9212,       2941,  1398.8,   0.3057,  34.6773,2,  34.6779,2,    213.8,2,   213.1,2,  120.25,2,   32.78,2,    0.00,2,    2.25,2,   0.522,2,   0.265,2,   0.014,2,  2259.6,2,  2361.6,2,  -999.0,9,   20.00,-999.0000,9,    25.00,-999.000,9, -999.00,-999.000,9,-999.000,9, -999.00,9,  -999.0,9,  -999.0,-999.000,9,-999.000,   0.599,3, -999.00,9, 1398.80,-999.0000,9,-999.0000,9,-999.0000,9,-999.0000,9,-999.0000,9,-999.0000,9,   0.2355,     -999.0,-999.000,     -999.0,          9,     -999.0,          9,-999.000,          9
 33RO200501,       A16S,       3,          1,          6,          6,2,20050118,       0030,   -58.9998,   -30.9212,       2941,  1648.0,   0.2094,  34.6748,2,  34.6747,2,    217.0,2,   216.6,2,  122.43,2,   32.76,2,    0.00,2,    2.25,2,   0.532,2,   0.264,2,   0.008,2,  2258.1,2,  2361.6,2,  -999.0,9,   20.00,-999.0000,9,    25.00,-999.000,9, -999.00,-999.000,9,-999.000,9, -999.00,9,  -999.0,9,  -999.0,-999.000,9,-999.000,   0.612,3, -999.00,9, 1648.00,-999.0000,9,-999.0000,9,-999.0000,9,-999.0000,9,-999.0000,9,-999.0000,9,   0.1244,     -999.0,-999.000,     -999.0,          9,     -999.0,          9,-999.000,          9
 33RO200501,       A16S,       3,          1,          5,          5,2,20050118,       0030,   -58.9998,   -30.9212,       2941,  1948.9,   0.0900,  34.6702,2,  34.6702,2,    221.8,2,   222.0,2,  123.30,2,   32.71,2,    0.00,2,    2.25,2,   0.612,2,   0.303,2,   0.024,2,  2257.5,2,  2357.1,2,  -999.0,9,   20.00,-999.0000,9,    25.00,-999.000,9, -999.00,-999.000,9,-999.000,9, -999.00,9,  -999.0,9,  -999.0,-999.000,9,-999.000,   0.666,3, -999.00,9, 1948.90,-999.0000,9,-999.0000,9,-999.0000,9,-999.0000,9,-999.0000,9,-999.0000,9,  -0.0135,     -999.0,-999.000,     -999.0,          9,     -999.0,          9,-999.000,          9
 33RO200501,       A16S,       3,          1,          4,          4,2,20050118,       0030,   -58.9998,   -30.9212,       2941,  2248.1,   0.0013,  34.6668,2,  34.6663,2,    225.3,2,   225.3,2,  122.37,6,   32.58,6,    0.00,6,    2.24,6,   0.711,2,   0.355,2,   0.029,2,  2256.6,2,  2357.1,2,  -999.0,9,   20.00,-999.0000,9,    25.00,-999.000,9, -999.00,-999.000,9,-999.000,9, -999.00,9,  -999.0,9,  -999.0,-999.000,9,-999.000,   0.800,3, -999.00,9, 2248.10,-999.0000,9,-999.0000,9,-999.0000,9,-999.0000,9,-999.0000,9,-999.0000,9,  -0.1222,     -999.0,-999.000,     -999.0,          9,     -999.0,          9,-999.000,          9
 33RO200501,       A16S,       3,          1,          3,          3,2,20050118,       0030,   -58.9998,   -30.9212,       2941,  2549.1,  -0.0740,  34.6636,2,  34.6628,2,    228.8,2,   228.8,2,  123.01,6,   32.54,6,    0.00,6,    2.25,6,   0.792,2,   0.391,2,   0.032,2,  2254.4,2,  2361.8,2,  -999.0,9,   20.00,-999.0000,9,    25.00,-999.000,9, -999.00,-999.000,9,-999.000,9, -999.00,9,  -999.0,9,  -999.0,-999.000,9,-999.000,   0.779,3, -999.00,9, 2549.10,-999.0000,9,-999.0000,9,-999.0000,9,-999.0000,9,-999.0000,9,-999.0000,9,  -0.2189,     -999.0,-999.000,     -999.0,          9,     -999.0,          9,-999.000,          9
 33RO200501,       A16S,       3,          1,          2,          2,2,20050118,       0030,   -58.9998,   -30.9212,       2941,  2900.5,  -0.1305,  34.6609,2,  34.6598,2,    232.6,2,   232.2,2,  122.32,6,   32.45,6,    0.00,6,    2.24,6,   0.898,2,   0.440,2,   0.037,2,  2255.9,2,  2361.6,2,  -999.0,9,   20.00,-999.0000,9,    25.00,-999.000,9, -999.00,-999.000,9,-999.000,9, -999.00,9,  -999.0,9,  -999.0,-999.000,9,-999.000,   0.888,3, -999.00,9, 2900.50,-999.0000,9,-999.0000,9,-999.0000,9,-999.0000,9,-999.0000,9,-999.0000,9,  -0.3025,     -999.0,-999.000,     -999.0,          9,     -999.0,          9,-999.000,          9
 33RO200501,       A16S,       3,          1,          1,          1,2,20050118,       0030,   -58.9998,   -30.9212,       2941,  3131.6,  -0.1925,  34.6581,2,  34.6574,2,    236.5,2,   236.1,2,  120.35,6,   32.34,6,    0.00,6,    2.22,6,   1.011,2,   0.498,2,   0.053,2,  2252.4,2,  -999.0,5,  -999.0,9,   20.00,-999.0000,9,    25.00,-999.000,9, -999.00,-999.000,9,-999.000,9, -999.00,9,  -999.0,9,  -999.0,-999.000,9,-999.000,   0.963,3, -999.00,9, 3131.60,-999.0000,9,-999.0000,9,-999.0000,9,-999.0000,9,-999.0000,9,-999.0000,9,  -0.3827,     -999.0,-999.000,     -999.0,          9,     -999.0,          9,-999.000,          9