BOTTLE,20220818CCHSIOAMB
EXPOCODE,SECT_ID,STNNBR,CASTNO,SAMPNO,BTLNBR,BTLNBR_FLAG_W,DATE,TIME,LATITUDE,LONGITUDE,DEPTH,CTDPRS,CTDTMP,CTDSAL,CTDSAL_FLAG_W,SALNTY,SALNTY_FLAG_W,CTDOXY,CTDOXY_FLAG_W,OXYGEN,OXYGEN_FLAG_W,SILCAT,SILCAT_FLAG_W,NITRAT,NITRAT_FLAG_W,NITRIT,NITRIT_FLAG_W,PHSPHT,PHSPHT_FLAG_W,CFC-11,CFC-11_FLAG_W,CFC-12,CFC-12_FLAG_W,CFC113,CFC113_FLAG_W,TCARBN,TCARBN_FLAG_W,ALKALI,ALKALI_FLAG_W,PCO2,PCO2_FLAG_W,PCO2TMP,PH_SWS,PH_SWS_FLAG_W,PH_TMP,TRITUM,TRITUM_FLAG_W,TRITER,HELIUM,HELIUM_FLAG_W,DELHE3,DELHE3_FLAG_W,DELC13,DELC13_FLAG_W,DELC14,DELC14_FLAG_W,C14ERR,NEON,NEON_FLAG_W,NEONER,CCL4,CCL4_FLAG_W,DOC,DOC_FLAG_W,CTDRAW,CDOM325,CDOM325_FLAG_W,CDOM340,CDOM340_FLAG_W,CDOM380,CDOM380_FLAG_W,CDOM412,CDOM412_FLAG_W,CDOMSL,CDOMSL_FLAG_W,CDOMSN,CDOMSN_FLAG_W,THETA,HELIER,DELHER,CH3CL,CH3CL_FLAG_W,CH3BR,CH3BR_FLAG_W,CH3I,CH3I_FLAG_W
,,,,,,,,,,,METERS,DBAR,ITS-90,PSS-78,,PSS-78,,UMOL/KG,,UMOL/KG,,UMOL/KG,,UMOL/KG,,UMOL/KG,,UMOL/KG,,PMOL/KG,,PMOL/KG,,PMOL/KG,,UMOL/KG,,UMOL/KG,,UATM,,DEG C,,,DEG C,TU,,TU,NMOL/KG,,PERCNT,,/MILLE,,/MILLE,,/MILLE,NMOL/KG,,NMOL/KG,PMOL/KG,,UMOL/KG,,DBAR,1/M,,1/M,,1/M,,1/M,,1/NM,,1/NM,,DEG C,NMOL/KG,PERCNT,PMOL/KG,,PMOL/KG,,PMOL/KG,
 33RO200501,       A16S,       5,          2,         36,         36,2,20050118,       1538,   -58.0268,   -30.9155,       3439,     3.3,   1.8630,  34.0088,2,-999.0000,9,    337.2,2,   337.4,2, -999.00,9, -999.00,9, -999.00,9, -999.00,9,   6.040,2,   3.209,2,   0.541,2,  2148.9,6,  2304.0,2,   703.6,2,   20.00,   7.7572,2,    25.00,   0.286,2,    0.01,   1.903,2,  -1.750,2, -999.00,9,  -999.0,9,  -999.0,   8.470,2,   0.014,   6.394,4,   49.34,2,    3.30,-999.0000,9,-999.0000,9,-999.0000,9,-999.0000,9,-999.0000,9,-999.0000,9,   1.8628,      0.001,   0.223,     -999.0,          9,     -999.0,          9,-999.000,          9
 33RO200501,       A16S,       5,          2,         35,         35,2,20050118,       1538,   -58.0268,   -30.9155,       3439,    10.1,   1.8554,  34.0086,2,-999.0000,9,    337.2,2,   337.3,2, -999.00,9, -999.00,9, -999.00,9, -999.00,9,   6.039,2,   3.205,2,   0.541,2,  2147.4,2,  2302.8,6,   706.5,2,   20.00,   7.7583,6,    25.00,   0.165,2,    0.01,   1.826,2,  -2.130,2,    1.62,2,   -91.9,2,     3.1,   8.209,2,   0.007,   6.463,4, -999.00,9,   10.10,-999.0000,9,-999.0000,9,-999.0000,9,-999.0000,9,-999.0000,9,-999.0000,9,   1.8549,      0.001,   0.218,     -999.0,          9,     -999.0,          9,-999.000,          9
 33RO200501,       A16S,       5,          2,         34,         34,2,20050118,       1538,   -58.0268,   -30.9155,       3439,    21.1,   1.8350,  34.0085,2,  34.0096,2,    337.2,2,   337.4,2,   28.51,2,   22.38,2,    0.35,2,    1.29,2,   6.054,2,   3.217,2,   0.528,2,  2148.1,2,  2302.5,2,   703.4,2,   20.00,-999.0000,5,    25.00,   0.483,2,    0.01,   1.794,2,  -1.910,2, -999.00,9,  -999.0,9,  -999.0,   8.116,2,   0.007,   6.411,4,   48.34,2,   21.10,   0.1230,2,   0.0890,2,   0.0520,2,   0.0340,2,   0.0142,2,   0.0153,2,   1.8339,      0.001,   0.226,     -999.0,          9,     -999.0,          9,-999.000,          9
 33RO200501,       A16S,       5,          2,         33,         33,2,20050118,       1538,   -58.0268,   -30.9155,       3439,    39.3,   1.8290,  34.0085,2,  34.0096,2,    337.0,2,   337.2,2,   28.49,2,   22.37,2,    0.35,2,    1.30,2,   5.990,2,   3.188,2,   0.564,2,  2147.9,2,  2303.5,2,   706.3,2,   20.00,   7.7636,2,    25.00,-999.000,9, -999.00,-999.000,9,-999.000,9, -999.00,9,  -999.0,9,  -999.0,-999.000,9,-999.000,   6.621,4,   46.71,2,   39.30,-999.0000,9,-999.0000,9,-999.0000,9,-999.0000,9,-999.0000,9,-999.0000,9,   1.8270,     -999.0,-999.000,     -999.0,          9,     -999.0,          9,-999.000,          9
 33RO200501,       A16S,       5,          2,         32,         32,2,20050118,       1538,   -58.0268,   -30.9155,       3439,    60.4,   1.8090,  34.0083,2,  34.0112,2,    337.5,2,   337.2,2,   28.89,2,   22.42,2,    0.35,2,    1.30,2,   6.052,2,   3.223,2,   0.538,2,  2149.4,2,  2301.3,2,   717.1,2,   20.00,   7.7562,2,    25.00,   0.108,2,    0.00,   1.939,2,  -1.310,2,    1.61,2,   -99.3,2,     2.7,   8.812,3,   0.008,   6.529,4,   45.72,2,   60.40,-999.0000,9,-999.0000,9,-999.0000,9,-999.0000,9,-999.0000,9,-999.0000,9,   1.8059,      0.001,   0.208,     -999.0,          9,     -999.0,          9,-999.000,          9
 33RO200501,       A16S,       5,          2,         31,         31,2,20050118,       1538,   -58.0268,   -30.9155,       3439,    79.7,   0.4308,  34.1095,2,  34.1121,2,    332.0,2,   355.2,3,   51.57,2,   25.02,2,    0.37,2,    1.73,2,-999.000,9,-999.000,9,-999.000,9,  2180.8,2,  2309.2,3,  -999.0,9,   20.00,   7.7057,2,    25.00,-999.000,9, -999.00,-999.000,9,-999.000,9, -999.00,9,  -999.0,9,  -999.0,-999.000,9,-999.000,-999.000,9,   44.31,2,   79.70,-999.0000,9,-999.0000,9,-999.0000,9,-999.0000,9,-999.0000,9,-999.0000,9,   0.4277,     -999.0,-999.000,     -999.0,          9,     -999.0,          9,-999.000,          9
 33RO200501,       A16S,       5,          2,         30,         30,2,20050118,       1538,   -58.0268,   -30.9155,       3439,    99.6,   0.1145,  34.1677,2,  34.1693,2,    307.2,2,   309.5,2,   56.70,2,   28.57,2,    0.25,2,    1.97,2,   5.440,2,   2.854,2,   0.475,2,  2196.6,2,  2309.0,2,   931.0,2,   20.00,   7.6543,2,    25.00,   0.384,2,    0.01,   1.910,2,  -0.950,2,    1.01,2,  -118.2,2,     2.6,   8.695,2,   0.008,   5.558,4,   43.13,2,   99.60,-999.0000,9,-999.0000,9,-999.0000,9,-999.0000,9,-999.0000,9,-999.0000,9,   0.1109,      0.001,   0.218,     -999.0,          9,     -999.0,          9,-999.000,          9
 33RO200501,       A16S,       5,          2,         29,         29,2,20050118,       1538,   -58.0268,   -30.9155,       3439,   123.9,   0.6741,  34.2598,2,  34.2625,2,    269.7,2,   262.6,2,   61.58,2,   31.97,2,    0.19,2,    2.14,2,   4.002,2,   2.111,2,   0.343,2,  2216.0,2,  2308.4,2,  -999.0,9,   20.00,   7.6031,2,    25.00,   0.187,2,    0.01,-999.000,9,-999.000,9, -999.00,9,  -999.0,9,  -999.0,-999.000,9,-999.000,   4.125,3, -999.00,9,  123.90,-999.0000,9,-999.0000,9,-999.0000,9,-999.0000,9,-999.0000,9,-999.0000,9,   0.6690,     -999.0,-999.000,     -999.0,          9,     -999.0,          9,-999.000,          9
 33RO200501,       A16S,       5,          2,         28,         28,2,20050118,       1538,   -58.0268,   -30.9155,       3439,   149.9,   1.0039,  34.3240,2,  34.3242,2,    242.0,2,   240.2,2,   65.13,2,   33.17,2,    0.10,2,    2.21,2,   3.254,2,   1.712,2,   0.268,2,  2226.3,2,  2315.5,2,  1127.7,2,   20.00,   7.5833,2,    25.00,   0.048,2,    0.01,   1.905,2,   3.630,2,    0.71,2,  -133.7,2,     3.2,   8.452,2,   0.007,   3.405,3,   42.39,2,  149.90,   0.1200,2,   0.0820,2,   0.0430,2,   0.0290,2,   0.0163,2,   0.0185,2,   0.9973,      0.001,   0.229,     -999.0,          9,     -999.0,          9,-999.000,          9
 33RO200501,       A16S,       5,          2,         27,         27,2,20050118,       1538,   -58.0268,   -30.9155,       3439,   175.2,   1.2393,  34.3935,2,  34.3933,2,    223.3,2,   219.7,2,   69.66,2,   33.96,2,    0.01,2,    2.26,2,-999.000,9,-999.000,9,-999.000,9,  2235.4,2,  2316.2,2,  -999.0,9,   20.00,   7.5687,2,    25.00,   0.251,2,    0.01,   2.010,3,   5.660,2, -999.00,9,  -999.0,9,  -999.0,   9.048,4,   0.008,-999.000,9, -999.00,9,  175.20,-999.0000,9,-999.0000,9,-999.0000,9,-999.0000,9,-999.0000,9,-999.0000,9,   1.2311,      0.001,   0.219,     -999.0,          9,     -999.0,          9,-999.000,          9
 33RO200501,       A16S,       5,          2,         26,         26,2,20050118,       1538,   -58.0268,   -30.9155,       3439,   199.9,   1.5485,  34.4574,2,  34.4587,2,    201.3,2,   201.3,2,   73.36,2,   34.29,2,    0.01,2,    2.28,2,   1.863,2,   0.958,2,   0.127,2,  2243.6,2,  2322.6,2,  1204.6,2,   20.00,   7.5627,2,    25.00,   0.113,2,    0.02,   1.924,2,   6.520,2,    0.57,2,  -139.9,2,     2.9,   8.366,2,   0.011,   2.046,3,   42.39,2,  199.90,-999.0000,9,-999.0000,9,-999.0000,9,-999.0000,9,-999.0000,9,-999.0000,9,   1.5386,      0.001,   0.212,     -999.0,          9,     -999.0,          9,-999.000,          9
 33RO200501,       A16S,       5,          2,         25,         25,2,20050118,       1538,   -58.0268,   -30.9155,       3439,   250.2,   1.7664,  34.5206,2,  34.5201,2,    185.7,2,   187.2,2,   76.89,2,   34.35,2,    0.02,2,    2.28,2,   1.301,6,   0.665,6,   0.078,6,  2249.8,2,  2328.3,2,  -999.0,9,   20.00,   7.5592,2,    25.00,   0.042,2,    0.01,-999.000,9,-999.000,9,    0.53,2,  -151.3,2,     2.9,-999.000,9,-999.000,   1.456,6,   41.55,2,  250.20,-999.0000,9,-999.0000,9,-999.0000,9,-999.0000,9,-999.0000,9,-999.0000,9,   1.7534,     -999.0,-999.000,     -999.0,          9,     -999.0,          9,-999.000,          9
 33RO200501,       A16S,       5,          2,         24,         24,2,20050118,       1538,   -58.0268,   -30.9155,       3439,   300.1,   1.9195,  34.5705,2,  34.5700,2,    180.6,2,   179.9,2,   79.68,2,   34.09,2,    0.01,2,    2.26,2,   0.865,2,   0.440,2,   0.042,2,  2253.7,2,  2333.7,2,  1207.2,2,   20.00,   7.5646,2,    25.00,-999.000,9, -999.00,-999.000,9,-999.000,9,    0.51,2,  -149.7,2,     2.3,-999.000,9,-999.000,   1.058,3,   40.60,2,  300.10,   0.1420,2,   0.1000,2,   0.0540,2,   0.0380,2,   0.0145,2,   0.0164,2,   1.9034,     -999.0,-999.000,     -999.0,          9,     -999.0,          9,-999.000,          9
 33RO200501,       A16S,       5,          2,         23,         23,2,20050118,       1538,   -58.0268,   -30.9155,       3439,   349.8,   1.9307,  34.6036,2,  34.6038,2,    179.8,2,   177.5,2,   82.10,2,   33.78,2,    0.03,2,    2.24,2,   0.688,2,   0.354,2,   0.024,2,  2254.9,2,  2336.2,2,  -999.0,9,   20.00,   7.5668,2,    25.00,   0.011,2,    0.01,   1.905,2,   3.720,4,    0.49,2,  -161.3,2,     2.6,   8.344,2,   0.011,   0.851,3,   40.48,2,  349.80,   0.1390,2,   0.0980,2,   0.0510,2,   0.0360,2,   0.0151,2,   0.0171,2,   1.9117,      0.001,   0.225,     -999.0,          9,     -999.0,          9,-999.000,          9
 33RO200501,       A16S,       5,          2,         22,         22,9,20050118,       1538,   -58.0268,   -30.9155,       3439,   399.9,   1.9563,  34.6373,2,-999.0000,9,    176.4,2,  -999.0,9, -999.00,9, -999.00,9, -999.00,9, -999.00,9,-999.000,9,-999.000,9,-999.000,9,  -999.0,9,  -999.0,9,  -999.0,9,   20.00,-999.0000,9,    25.00,-999.000,9, -999.00,-999.000,9,-999.000,9,    0.49,2,  -154.9,2,     2.8,-999.000,9,-999.000,-999.000,9, -999.00,9,  399.90,-999.0000,9,-999.0000,9,-999.0000,9,-999.0000,9,-999.0000,9,-999.0000,9,   1.9344,     -999.0,-999.000,     -999.0,          9,     -999.0,          9,-999.000,          9
 33RO200501,       A16S,       5,          2,         21,         21,2,20050118,       1538,   -58.0268,   -30.9155,       3439,   450.5,   1.9444,  34.6593,2,  34.6588,2,    179.3,2,   175.8,2,   86.98,2,   33.11,2,    0.05,2,    2.21,2,   0.363,2,   0.184,2,   0.016,2,  2257.8,2,  2343.8,2,  1168.5,2,   20.00,   7.5791,2,    25.00,   0.001,2,    0.01,-999.000,9,-999.000,9, -999.00,9,  -999.0,9,  -999.0,-999.000,9,-999.000,   0.474,3, -999.00,9,  450.50,-999.0000,9,-999.0000,9,-999.0000,9,-999.0000,9,-999.0000,9,-999.0000,9,   1.9194,     -999.0,-999.000,     -999.0,          9,     -999.0,          9,-999.000,          9
 33RO200501,       A16S,       5,          2,         20,         20,2,20050118,       1538,   -58.0268,   -30.9155,       3439,   500.3,   1.9021,  34.6684,2,  34.6686,2,    180.8,2,   177.3,2,   88.42,2,   32.93,2,    0.04,2,    2.21,2,   0.341,2,   0.177,2,   0.012,2,  2259.7,2,  2347.0,2,  1152.9,2,   20.00,   7.5776,2,    25.00,   0.001,2,    0.01,-999.000,9,-999.000,9,    0.48,2,  -161.7,2,     2.8,-999.000,9,-999.000,   0.457,3,   40.07,2,  500.30,   0.1300,2,   0.0910,2,   0.0480,2,   0.0320,3,   0.0156,3,   0.0175,3,   1.8744,     -999.0,-999.000,     -999.0,          9,     -999.0,          9,-999.000,          9
 33RO200501,       A16S,       5,          2,         19,         19,2,20050118,       1538,   -58.0268,   -30.9155,       3439,   550.4,   1.8747,  34.6775,2,  34.6775,2,    178.6,2,   182.3,3,   89.72,2,   32.81,2,    0.04,2,    2.19,2,-999.000,9,-999.000,9,-999.000,9,  2260.0,2,  2345.5,2,  1131.6,2,   20.00,   7.5836,2,    25.00,-999.000,9, -999.00,-999.000,9,-999.000,9, -999.00,9,  -999.0,9,  -999.0,-999.000,9,-999.000,-999.000,9, -999.00,9,  550.40,-999.0000,9,-999.0000,9,-999.0000,9,-999.0000,9,-999.0000,9,-999.0000,9,   1.8441,     -999.0,-999.000,     -999.0,          9,     -999.0,          9,-999.000,          9
 33RO200501,       A16S,       5,          2,         18,         18,2,20050118,       1538,   -58.0268,   -30.9155,       3439,   599.2,   1.7926,  34.6863,2,  34.6865,2,    184.2,2,   180.7,2,   91.10,2,   32.62,2,    0.03,2,    2.17,2,   0.324,2,   0.164,2,   0.006,2,  2259.2,2,  2347.0,2,  1137.1,2,   20.00,   7.5807,2,    25.00,   0.015,2,    0.01,-999.000,9,-999.000,9,    0.50,2,  -173.5,2,     2.8,-999.000,9,-999.000,   0.417,3,   40.12,2,  599.20,   0.1590,2,   0.1140,2,   0.0620,2,   0.0430,3,   0.0141,3,   0.0159,3,   1.7594,     -999.0,-999.000,     -999.0,          9,     -999.0,          9,-999.000,          9
 33RO200501,       A16S,       5,          2,         17,         17,2,20050118,       1538,   -58.0268,   -30.9155,       3439,   701.7,   1.6952,  34.7025,2,  34.7028,2,    185.7,2,   183.3,2,   94.94,2,   32.31,2,    0.03,2,    2.16,2,   0.254,2,   0.130,2,   0.008,2,  2260.8,2,  2348.8,2,  1120.4,2,   20.00,   7.5944,2,    25.00,   0.001,2,    0.01,   1.944,3,   9.950,2,    0.53,2,  -170.9,2,     2.8,   8.269,2,   0.011,   0.369,3,   39.76,2,  701.70,   0.1330,3,   0.0930,3,   0.0480,3,   0.0340,3,   0.0155,3,   0.0177,3,   1.6563,      0.001,   0.223,     -999.0,          9,     -999.0,          9,-999.000,          9
 33RO200501,       A16S,       5,          2,         16,         16,2,20050118,       1538,   -58.0268,   -30.9155,       3439,   800.0,   1.5615,  34.7064,2,  34.7062,2,    189.0,2,   187.7,2,   97.25,6,   32.06,6,    0.02,6,    2.15,6,   0.277,2,   0.150,2,   0.003,2,  2258.2,2,  2352.5,2,  1104.4,2,   20.00,   7.5945,2,    25.00,   0.109,2,    0.01,   1.923,2,   8.660,2,    0.51,2,  -166.5,2,     2.3,   8.340,2,   0.010,   0.336,3,   40.14,2,  800.00,   0.1370,3,   0.0950,3,   0.0470,3,   0.0320,3,   0.0168,3,   0.0190,3,   1.5173,      0.001,   0.217,     -999.0,          9,     -999.0,          9,-999.000,          9
 33RO200501,       A16S,       5,          2,         15,         15,2,20050118,       1538,   -58.0268,   -30.9155,       3439,   899.7,   1.4368,  34.7081,2,  34.7085,2,    191.6,2,   191.3,2,   99.42,6,   31.94,6,    0.02,6,    2.15,6,   0.289,2,   0.152,2,   0.011,2,  2256.5,2,  2353.4,6,  1101.1,2,   20.00,   7.5998,6,    25.00,-999.000,9, -999.00,-999.000,9,-999.000,9, -999.00,9,  -999.0,9,  -999.0,-999.000,9,-999.000,   0.373,3,   39.32,2,  899.70,-999.0000,9,-999.0000,9,-999.0000,9,-999.0000,9,-999.0000,9,-999.0000,9,   1.3872,     -999.0,-999.000,     -999.0,          9,     -999.0,          9,-999.000,          9
 33RO200501,       A16S,       5,          2,         14,         14,2,20050118,       1538,   -58.0268,   -30.9155,       3439,  1000.4,   1.3227,  34.7097,2,  34.7097,2,    193.8,2,   194.3,2,  102.34,6,   31.86,6,    0.01,6,    2.14,6,-999.000,5,-999.000,5,-999.000,5,  2258.4,6,  2354.8,2,  1088.7,2,   20.00,   7.5990,2,    25.00,-999.000,9, -999.00,-999.000,9,-999.000,9,    0.54,2,  -159.5,2,     3.1,-999.000,9,-999.000,-999.000,5,   39.88,2, 1000.40,-999.0000,9,-999.0000,9,-999.0000,9,-999.0000,9,-999.0000,9,-999.0000,9,   1.2677,     -999.0,-999.000,     -999.0,          9,     -999.0,          9,-999.000,          9
 33RO200501,       A16S,       5,          2,         13,         13,2,20050118,       1538,   -58.0268,   -30.9155,       3439,  1098.5,   1.1988,  34.7080,2,  34.7081,2,    195.3,2,   197.3,2,  104.66,6,   31.84,6,    0.01,6,    2.14,6,   0.304,2,   0.155,2,   0.021,2,  2258.9,2,  2354.3,2,  1087.5,2,   20.00,   7.6020,2,    25.00,-999.000,9, -999.00,-999.000,9,-999.000,9, -999.00,9,  -999.0,9,  -999.0,-999.000,9,-999.000,   0.359,3, -999.00,9, 1098.50,-999.0000,9,-999.0000,9,-999.0000,9,-999.0000,9,-999.0000,9,-999.0000,9,   1.1386,     -999.0,-999.000,     -999.0,          9,     -999.0,          9,-999.000,          9
 33RO200501,       A16S,       5,          2,         12,         12,2,20050118,       1538,   -58.0268,   -30.9155,       3439,  1199.3,   1.1011,  34.7037,2,  34.7036,2,    197.8,2,   199.8,2,  105.93,6,   31.82,6,    0.01,6,    2.15,6,   0.362,2,   0.188,2,   0.010,2,  2258.5,2,  2351.1,2,  1082.8,2,   20.00,   7.6032,2,    25.00,   0.001,2,    0.01,-999.000,9,-999.000,9,    0.54,2,  -163.1,2,     2.3,-999.000,9,-999.000,   0.420,3,   39.73,2, 1199.30,-999.0000,9,-999.0000,9,-999.0000,9,-999.0000,9,-999.0000,9,-999.0000,9,   1.0353,     -999.0,-999.000,     -999.0,          9,     -999.0,          9,-999.000,          9
 33RO200501,       A16S,       5,          2,         11,         11,2,20050118,       1538,   -58.0268,   -30.9155,       3439,  1300.0,   0.9202,  34.6923,2,  34.6930,2,    201.2,2,   205.2,2,  106.91,6,   31.88,6,    0.01,6,    2.17,6,-999.000,9,-999.000,9,-999.000,9,  2257.6,2,  2347.7,2,  1082.3,2,   20.00,   7.6049,2,    25.00,-999.000,9, -999.00,-999.000,9,-999.000,9, -999.00,9,  -999.0,9,  -999.0,-999.000,9,-999.000,-999.000,9, -999.00,9, 1300.00,-999.0000,9,-999.0000,9,-999.0000,9,-999.0000,9,-999.0000,9,-999.0000,9,   0.8497,     -999.0,-999.000,     -999.0,          9,     -999.0,          9,-999.000,          9
 33RO200501,       A16S,       5,          2,         10,         10,2,20050118,       1538,   -58.0268,   -30.9155,       3439,  1399.2,   0.8173,  34.6891,2,  34.6932,2,    203.2,2,   207.2,2,  108.43,2,   31.91,2,    0.01,2,    2.18,2,   0.562,2,   0.287,2,   0.027,2,  2258.6,2,  2350.5,2,  -999.0,9,   20.00,   7.6046,2,    25.00,-999.000,9, -999.00,-999.000,9,-999.000,9,    0.56,2,  -160.1,2,     2.8,-999.000,9,-999.000,   0.625,3,   40.17,2, 1399.20,-999.0000,9,-999.0000,9,-999.0000,9,-999.0000,9,-999.0000,9,-999.0000,9,   0.7414,     -999.0,-999.000,     -999.0,          9,     -999.0,          9,-999.000,          9
 33RO200501,       A16S,       5,          2,          9,          9,2,20050118,       1538,   -58.0268,   -30.9155,       3439,  1599.3,   0.6454,  34.6835,2,  34.6836,2,    205.8,2,   210.3,2,  111.28,2,   32.03,2,    0.00,2,    2.20,2,   0.621,2,   0.313,2,   0.026,2,  2257.6,2,  2353.6,2,  1089.0,6,   20.00,   7.6083,2,    25.00,-999.000,9, -999.00,-999.000,9,-999.000,9, -999.00,9,  -999.0,9,  -999.0,-999.000,9,-999.000,   0.668,3,   39.14,2, 1599.30,   0.1570,3,   0.1120,3,   0.0520,3,   0.0350,2,   0.0170,3,   0.0188,3,   0.5581,     -999.0,-999.000,     -999.0,          9,     -999.0,          9,-999.000,          9
 33RO200501,       A16S,       5,          2,          8,          8,9,20050118,       1538,   -58.0268,   -30.9155,       3439,  1848.3,   0.5427,  34.6844,2,-999.0000,9,    211.3,2,  -999.0,9, -999.00,9, -999.00,9, -999.00,9, -999.00,9,-999.000,9,-999.000,9,-999.000,9,  -999.0,9,  -999.0,9,  -999.0,9,   20.00,-999.0000,9,    25.00,-999.000,9, -999.00,-999.000,9,-999.000,9, -999.00,9,  -999.0,9,  -999.0,-999.000,9,-999.000,-999.000,9, -999.00,9, 1848.30,-999.0000,9,-999.0000,9,-999.0000,9,-999.0000,9,-999.0000,9,-999.0000,9,   0.4395,     -999.0,-999.000,     -999.0,          9,     -999.0,          9,-999.000,          9