BOTTLE,20220818CCHSIOAMB
EXPOCODE,SECT_ID,STNNBR,CASTNO,SAMPNO,BTLNBR,BTLNBR_FLAG_W,DATE,TIME,LATITUDE,LONGITUDE,DEPTH,CTDPRS,CTDTMP,CTDSAL,CTDSAL_FLAG_W,SALNTY,SALNTY_FLAG_W,CTDOXY,CTDOXY_FLAG_W,OXYGEN,OXYGEN_FLAG_W,SILCAT,SILCAT_FLAG_W,NITRAT,NITRAT_FLAG_W,NITRIT,NITRIT_FLAG_W,PHSPHT,PHSPHT_FLAG_W,CFC-11,CFC-11_FLAG_W,CFC-12,CFC-12_FLAG_W,CFC113,CFC113_FLAG_W,TCARBN,TCARBN_FLAG_W,ALKALI,ALKALI_FLAG_W,PCO2,PCO2_FLAG_W,PCO2TMP,PH_SWS,PH_SWS_FLAG_W,PH_TMP,TRITUM,TRITUM_FLAG_W,TRITER,HELIUM,HELIUM_FLAG_W,DELHE3,DELHE3_FLAG_W,DELC13,DELC13_FLAG_W,DELC14,DELC14_FLAG_W,C14ERR,NEON,NEON_FLAG_W,NEONER,CCL4,CCL4_FLAG_W,DOC,DOC_FLAG_W,CTDRAW,CDOM325,CDOM325_FLAG_W,CDOM340,CDOM340_FLAG_W,CDOM380,CDOM380_FLAG_W,CDOM412,CDOM412_FLAG_W,CDOMSL,CDOMSL_FLAG_W,CDOMSN,CDOMSN_FLAG_W,THETA,HELIER,DELHER,CH3CL,CH3CL_FLAG_W,CH3BR,CH3BR_FLAG_W,CH3I,CH3I_FLAG_W
,,,,,,,,,,,METERS,DBAR,ITS-90,PSS-78,,PSS-78,,UMOL/KG,,UMOL/KG,,UMOL/KG,,UMOL/KG,,UMOL/KG,,UMOL/KG,,PMOL/KG,,PMOL/KG,,PMOL/KG,,UMOL/KG,,UMOL/KG,,UATM,,DEG C,,,DEG C,TU,,TU,NMOL/KG,,PERCNT,,/MILLE,,/MILLE,,/MILLE,NMOL/KG,,NMOL/KG,PMOL/KG,,UMOL/KG,,DBAR,1/M,,1/M,,1/M,,1/M,,1/NM,,1/NM,,DEG C,NMOL/KG,PERCNT,PMOL/KG,,PMOL/KG,,PMOL/KG,
 33RO200501,       A16S,      20,          1,         36,         36,2,20050121,       1834,   -52.5008,   -35.5503,       3699,     3.3,   4.3530,  33.8340,2,  33.8468,2,    406.9,2,   343.9,2,    1.37,2,   17.20,2,    0.31,2,    0.53,2,   5.696,2,   3.139,2,   0.508,2,  2097.2,2,  2294.1,6,  -999.0,9,   20.00,   7.8521,6,    25.00,-999.000,9, -999.00,-999.000,9,-999.000,9, -999.00,9,  -999.0,9,  -999.0,-999.000,9,-999.000,   6.166,4, -999.00,9,    3.30,-999.0000,9,-999.0000,9,-999.0000,9,-999.0000,9,-999.0000,9,-999.0000,9,   4.3528,     -999.0,-999.000,     65.030,          2,      1.371,          2,   0.835,          2
 33RO200501,       A16S,      20,          1,         35,         35,2,20050121,       1834,   -52.5008,   -35.5503,       3699,    20.5,   3.3730,  33.8402,2,  33.8415,2,    353.1,2,   358.4,2,    1.27,2,   17.14,2,    0.29,2,    0.84,2,-999.000,9,-999.000,9,-999.000,9,  -999.0,9,  -999.0,9,  -999.0,9,   20.00,-999.0000,9,    25.00,-999.000,9, -999.00,-999.000,9,-999.000,9, -999.00,9,  -999.0,9,  -999.0,-999.000,9,-999.000,-999.000,9, -999.00,9,   20.50,-999.0000,9,-999.0000,9,-999.0000,9,-999.0000,9,-999.0000,9,-999.0000,9,   3.3717,     -999.0,-999.000,     64.257,          2,      1.439,          2,   0.860,          2
 33RO200501,       A16S,      20,          1,         34,         34,2,20050121,       1834,   -52.5008,   -35.5503,       3699,    41.0,   2.8895,  33.8386,2,  33.8404,2,    336.4,2,   337.4,2,    5.36,2,   19.11,2,    0.25,2,    1.20,2,-999.000,9,-999.000,9,-999.000,9,  -999.0,9,  -999.0,9,  -999.0,9,   20.00,-999.0000,9,    25.00,-999.000,9, -999.00,-999.000,9,-999.000,9, -999.00,9,  -999.0,9,  -999.0,-999.000,9,-999.000,-999.000,9, -999.00,9,   41.00,-999.0000,9,-999.0000,9,-999.0000,9,-999.0000,9,-999.0000,9,-999.0000,9,   2.8871,     -999.0,-999.000,     52.173,          2,      0.788,          2,   0.833,          2
 33RO200501,       A16S,      20,          1,         33,         33,2,20050121,       1834,   -52.5008,   -35.5503,       3699,    61.0,   2.7891,  33.8495,2,  33.8523,2,    337.2,2,   333.5,2,    9.03,2,   20.01,2,    0.25,2,    1.34,2,-999.000,9,-999.000,9,-999.000,9,  -999.0,9,  -999.0,9,  -999.0,9,   20.00,-999.0000,9,    25.00,-999.000,9, -999.00,-999.000,9,-999.000,9, -999.00,9,  -999.0,9,  -999.0,-999.000,9,-999.000,-999.000,9, -999.00,9,   61.00,-999.0000,9,-999.0000,9,-999.0000,9,-999.0000,9,-999.0000,9,-999.0000,9,   2.7856,     -999.0,-999.000,     45.396,          2,      0.625,          2,   0.743,          2
 33RO200501,       A16S,      20,          1,         32,         32,2,20050121,       1834,   -52.5008,   -35.5503,       3699,    80.9,   1.0584,  33.9081,2,  33.9106,2,    319.4,2,   318.9,2,   27.42,2,   25.13,2,    0.22,2,    1.81,2,-999.000,9,-999.000,9,-999.000,9,  -999.0,9,  -999.0,9,  -999.0,9,   20.00,-999.0000,9,    25.00,-999.000,9, -999.00,-999.000,9,-999.000,9, -999.00,9,  -999.0,9,  -999.0,-999.000,9,-999.000,-999.000,9, -999.00,9,   80.90,-999.0000,9,-999.0000,9,-999.0000,9,-999.0000,9,-999.0000,9,-999.0000,9,   1.0549,     -999.0,-999.000,     -999.0,          9,     -999.0,          9,-999.000,          9
 33RO200501,       A16S,      20,          1,         31,         31,2,20050121,       1834,   -52.5008,   -35.5503,       3699,   100.8,   0.8908,  33.9801,2,  33.9798,2,    320.5,2,   323.2,2,   31.54,2,   25.38,2,    0.22,2,    1.76,2,   6.080,2,   3.268,2,   0.547,2,  2166.0,2,  2296.1,2,  -999.0,9,   20.00,   7.7096,2,    25.00,-999.000,9, -999.00,-999.000,9,-999.000,9, -999.00,9,  -999.0,9,  -999.0,-999.000,9,-999.000,   6.236,4, -999.00,9,  100.80,-999.0000,9,-999.0000,9,-999.0000,9,-999.0000,9,-999.0000,9,-999.0000,9,   0.8866,     -999.0,-999.000,     18.846,          2,      0.229,          2,   0.267,          2
 33RO200501,       A16S,      20,          1,         30,         30,2,20050121,       1834,   -52.5008,   -35.5503,       3699,   126.1,   0.4956,  34.0386,2,  34.0446,2,    306.5,2,   303.8,2,   42.01,2,   27.64,2,    0.23,2,    1.91,2,-999.000,9,-999.000,9,-999.000,9,  -999.0,9,  -999.0,9,  -999.0,9,   20.00,-999.0000,9,    25.00,-999.000,9, -999.00,-999.000,9,-999.000,9, -999.00,9,  -999.0,9,  -999.0,-999.000,9,-999.000,-999.000,9, -999.00,9,  126.10,-999.0000,9,-999.0000,9,-999.0000,9,-999.0000,9,-999.0000,9,-999.0000,9,   0.4907,     -999.0,-999.000,     -999.0,          9,     -999.0,          9,-999.000,          9
 33RO200501,       A16S,      20,          1,         29,         29,2,20050121,       1834,   -52.5008,   -35.5503,       3699,   150.8,   0.7745,  34.1379,2,  34.1397,2,    288.9,2,   280.4,2,   49.07,2,   30.32,2,    0.19,2,    2.06,2,-999.000,9,-999.000,9,-999.000,9,  -999.0,9,  -999.0,9,  -999.0,9,   20.00,-999.0000,9,    25.00,-999.000,9, -999.00,-999.000,9,-999.000,9, -999.00,9,  -999.0,9,  -999.0,-999.000,9,-999.000,-999.000,9, -999.00,9,  150.80,-999.0000,9,-999.0000,9,-999.0000,9,-999.0000,9,-999.0000,9,-999.0000,9,   0.7681,     -999.0,-999.000,     -999.0,          9,     -999.0,          9,-999.000,          9
 33RO200501,       A16S,      20,          1,         28,         28,2,20050121,       1834,   -52.5008,   -35.5503,       3699,   175.0,   0.7352,  34.1777,2,  34.1885,2,    272.2,2,   272.1,2,   52.79,2,   30.90,2,    0.18,2,    2.10,2,-999.000,9,-999.000,9,-999.000,9,  -999.0,9,  -999.0,9,  -999.0,9,   20.00,-999.0000,9,    25.00,-999.000,9, -999.00,-999.000,9,-999.000,9, -999.00,9,  -999.0,9,  -999.0,-999.000,9,-999.000,-999.000,9, -999.00,9,  175.00,-999.0000,9,-999.0000,9,-999.0000,9,-999.0000,9,-999.0000,9,-999.0000,9,   0.7278,     -999.0,-999.000,      3.278,          2,      0.000,          2,   0.170,          2
 33RO200501,       A16S,      20,          1,         27,         27,2,20050121,       1834,   -52.5008,   -35.5503,       3699,   199.6,   1.1242,  34.2569,2,  34.2585,2,    244.5,2,   246.2,2,   57.27,2,   32.61,2,    0.13,2,    2.20,2,   3.467,2,   1.845,2,   0.304,2,  2216.5,2,  2309.4,2,  -999.0,9,   20.00,   7.6104,2,    25.00,-999.000,9, -999.00,-999.000,9,-999.000,9, -999.00,9,  -999.0,9,  -999.0,-999.000,9,-999.000,   3.640,3, -999.00,9,  199.60,-999.0000,9,-999.0000,9,-999.0000,9,-999.0000,9,-999.0000,9,-999.0000,9,   1.1151,     -999.0,-999.000,     -999.0,          9,     -999.0,          9,-999.000,          9
 33RO200501,       A16S,      20,          1,         26,         26,2,20050121,       1834,   -52.5008,   -35.5503,       3699,   224.0,   1.4635,  34.3403,2,  34.3432,2,    213.8,2,   218.3,2,   63.36,2,   33.63,2,    0.02,2,    2.27,2,-999.000,9,-999.000,9,-999.000,9,  -999.0,9,  -999.0,9,  -999.0,9,   20.00,-999.0000,9,    25.00,-999.000,9, -999.00,-999.000,9,-999.000,9, -999.00,9,  -999.0,9,  -999.0,-999.000,9,-999.000,-999.000,9, -999.00,9,  224.00,-999.0000,9,-999.0000,9,-999.0000,9,-999.0000,9,-999.0000,9,-999.0000,9,   1.4526,     -999.0,-999.000,     -999.0,          9,     -999.0,          9,-999.000,          9
 33RO200501,       A16S,      20,          1,         25,         25,2,20050121,       1834,   -52.5008,   -35.5503,       3699,   249.6,   1.7493,  34.4056,2,  34.4088,2,    205.2,2,   201.7,2,   67.55,2,   34.16,2,    0.02,2,    2.30,2,-999.000,9,-999.000,9,-999.000,9,  -999.0,9,  -999.0,9,  -999.0,9,   20.00,-999.0000,9,    25.00,-999.000,9, -999.00,-999.000,9,-999.000,9, -999.00,9,  -999.0,9,  -999.0,-999.000,9,-999.000,-999.000,9, -999.00,9,  249.60,-999.0000,9,-999.0000,9,-999.0000,9,-999.0000,9,-999.0000,9,-999.0000,9,   1.7364,     -999.0,-999.000,      0.000,          2,      0.000,          2,   0.133,          2
 33RO200501,       A16S,      20,          1,         24,         24,2,20050121,       1834,   -52.5008,   -35.5503,       3699,   300.5,   1.9130,  34.4923,2,  34.4934,2,    189.7,2,   187.6,2,   73.68,2,   34.25,2,    0.01,2,    2.32,2,   1.284,2,   0.663,2,   0.097,2,  2246.9,2,  2329.2,2,  -999.0,9,   20.00,   7.5618,2,    25.00,-999.000,9, -999.00,-999.000,9,-999.000,9, -999.00,9,  -999.0,9,  -999.0,-999.000,9,-999.000,   1.529,3, -999.00,9,  300.50,-999.0000,9,-999.0000,9,-999.0000,9,-999.0000,9,-999.0000,9,-999.0000,9,   1.8970,     -999.0,-999.000,     -999.0,          9,     -999.0,          9,-999.000,          9
 33RO200501,       A16S,      20,          1,         23,         23,2,20050121,       1834,   -52.5008,   -35.5503,       3699,   350.4,   1.9602,  34.5356,2,  34.5344,2,    181.1,2,   181.1,2,   76.89,2,   34.15,2,    0.01,2,    2.31,2,-999.000,9,-999.000,9,-999.000,9,  -999.0,9,  -999.0,9,  -999.0,9,   20.00,-999.0000,9,    25.00,-999.000,9, -999.00,-999.000,9,-999.000,9, -999.00,9,  -999.0,9,  -999.0,-999.000,9,-999.000,-999.000,9, -999.00,9,  350.40,-999.0000,9,-999.0000,9,-999.0000,9,-999.0000,9,-999.0000,9,-999.0000,9,   1.9411,     -999.0,-999.000,     -999.0,          9,     -999.0,          9,-999.000,          9
 33RO200501,       A16S,      20,          1,         22,         22,2,20050121,       1834,   -52.5008,   -35.5503,       3699,   399.9,   2.0092,  34.5786,2,  34.5794,2,    178.9,2,   177.5,2,   79.87,2,   33.87,2,    0.01,2,    2.29,2,-999.000,9,-999.000,9,-999.000,9,  -999.0,9,  -999.0,9,  -999.0,9,   20.00,-999.0000,9,    25.00,-999.000,9, -999.00,-999.000,9,-999.000,9, -999.00,9,  -999.0,9,  -999.0,-999.000,9,-999.000,-999.000,9, -999.00,9,  399.90,-999.0000,9,-999.0000,9,-999.0000,9,-999.0000,9,-999.0000,9,-999.0000,9,   1.9871,     -999.0,-999.000,      0.000,          2,      0.000,          2,   0.077,          2
 33RO200501,       A16S,      20,          1,         21,         21,2,20050121,       1834,   -52.5008,   -35.5503,       3699,   449.3,   2.0316,  34.6023,2,  34.6034,2,    176.5,2,   176.7,2,   81.43,2,   33.60,2,    0.01,2,    2.28,2,   0.570,2,   0.295,2,   0.039,2,  -999.0,9,  -999.0,9,  -999.0,9,   20.00,-999.0000,9,    25.00,-999.000,9, -999.00,-999.000,9,-999.000,9, -999.00,9,  -999.0,9,  -999.0,-999.000,9,-999.000,   0.695,3, -999.00,9,  449.30,-999.0000,9,-999.0000,9,-999.0000,9,-999.0000,9,-999.0000,9,-999.0000,9,   2.0065,     -999.0,-999.000,     -999.0,          9,     -999.0,          9,-999.000,          9
 33RO200501,       A16S,      20,          1,         20,         20,2,20050121,       1834,   -52.5008,   -35.5503,       3699,   500.6,   2.0033,  34.6238,2,  34.6252,2,    176.3,2,   177.1,2,   83.24,2,   33.34,2,    0.01,2,    2.28,2,   0.504,2,   0.264,2,   0.029,2,  2256.0,2,  2342.7,2,  -999.0,9,   20.00,   7.5734,2,    25.00,-999.000,9, -999.00,-999.000,9,-999.000,9, -999.00,9,  -999.0,9,  -999.0,-999.000,9,-999.000,   0.679,3, -999.00,9,  500.60,-999.0000,9,-999.0000,9,-999.0000,9,-999.0000,9,-999.0000,9,-999.0000,9,   1.9752,     -999.0,-999.000,     -999.0,          9,     -999.0,          9,-999.000,          9
 33RO200501,       A16S,      20,          1,         19,         19,2,20050121,       1834,   -52.5008,   -35.5503,       3699,   600.8,   1.9746,  34.6571,2,  34.6574,2,    176.1,2,   178.2,2,   86.84,2,   32.82,2,    0.00,2,    2.25,2,   0.298,2,   0.161,2,   0.013,2,  -999.0,9,  -999.0,9,  -999.0,9,   20.00,-999.0000,9,    25.00,-999.000,9, -999.00,-999.000,9,-999.000,9, -999.00,9,  -999.0,9,  -999.0,-999.000,9,-999.000,   0.434,3, -999.00,9,  600.80,-999.0000,9,-999.0000,9,-999.0000,9,-999.0000,9,-999.0000,9,-999.0000,9,   1.9404,     -999.0,-999.000,      0.000,          2,      0.131,          2,   0.065,          2
 33RO200501,       A16S,      20,          1,         18,         18,2,20050121,       1834,   -52.5008,   -35.5503,       3699,   700.9,   1.8741,  34.6777,2,  34.6780,2,    179.2,2,   179.5,2,   90.05,2,   32.52,2,    0.00,2,    2.23,2,-999.000,9,-999.000,9,-999.000,9,  -999.0,9,  -999.0,9,  -999.0,9,   20.00,-999.0000,9,    25.00,-999.000,9, -999.00,-999.000,9,-999.000,9, -999.00,9,  -999.0,9,  -999.0,-999.000,9,-999.000,-999.000,9, -999.00,9,  700.90,-999.0000,9,-999.0000,9,-999.0000,9,-999.0000,9,-999.0000,9,-999.0000,9,   1.8342,     -999.0,-999.000,     -999.0,          9,     -999.0,          9,-999.000,          9
 33RO200501,       A16S,      20,          1,         17,         17,2,20050121,       1834,   -52.5008,   -35.5503,       3699,   800.6,   1.7493,  34.6874,2,  34.6880,2,    182.2,2,   183.3,2,   92.58,2,   32.29,2,    0.00,2,    2.21,2,-999.000,9,-999.000,9,-999.000,9,  -999.0,9,  -999.0,9,  -999.0,9,   20.00,-999.0000,9,    25.00,-999.000,9, -999.00,-999.000,9,-999.000,9, -999.00,9,  -999.0,9,  -999.0,-999.000,9,-999.000,-999.000,9, -999.00,9,  800.60,-999.0000,9,-999.0000,9,-999.0000,9,-999.0000,9,-999.0000,9,-999.0000,9,   1.7039,     -999.0,-999.000,     -999.0,          9,     -999.0,          9,-999.000,          9
 33RO200501,       A16S,      20,          1,         16,         16,2,20050121,       1834,   -52.5008,   -35.5503,       3699,   899.7,   1.6746,  34.7004,2,  34.7008,2,    184.1,2,   185.0,2,   95.52,2,   32.05,2,    0.00,2,    2.20,2,-999.000,9,-999.000,9,-999.000,9,  -999.0,9,  -999.0,9,  -999.0,9,   20.00,-999.0000,9,    25.00,-999.000,9, -999.00,-999.000,9,-999.000,9, -999.00,9,  -999.0,9,  -999.0,-999.000,9,-999.000,-999.000,9, -999.00,9,  899.70,-999.0000,9,-999.0000,9,-999.0000,9,-999.0000,9,-999.0000,9,-999.0000,9,   1.6233,     -999.0,-999.000,      0.273,          2,      0.000,          2,   0.049,          2
 33RO200501,       A16S,      20,          1,         15,         15,2,20050121,       1834,   -52.5008,   -35.5503,       3699,  1000.4,   1.6256,  34.7112,2,  34.7116,2,    187.5,2,   187.8,2,   97.11,2,   31.82,2,    0.00,2,    2.18,2,   0.204,2,   0.110,2,   0.003,2,  2257.0,2,  -999.0,9,  -999.0,9,   20.00,   7.6173,2,    25.00,-999.000,9, -999.00,-999.000,9,-999.000,9, -999.00,9,  -999.0,9,  -999.0,-999.000,9,-999.000,   0.312,3, -999.00,9, 1000.40,-999.0000,9,-999.0000,9,-999.0000,9,-999.0000,9,-999.0000,9,-999.0000,9,   1.5682,     -999.0,-999.000,     -999.0,          9,     -999.0,          9,-999.000,          9
 33RO200501,       A16S,      20,          1,         14,         14,2,20050121,       1834,   -52.5008,   -35.5503,       3699,  1100.0,   1.6891,  34.7338,2,  34.7346,2,    194.1,2,   193.9,2,   92.17,2,   30.69,2,    0.00,2,    2.11,2,-999.000,9,-999.000,9,-999.000,9,  -999.0,9,  -999.0,9,  -999.0,9,   20.00,-999.0000,9,    25.00,-999.000,9, -999.00,-999.000,9,-999.000,9, -999.00,9,  -999.0,9,  -999.0,-999.000,9,-999.000,-999.000,9, -999.00,9, 1100.00,-999.0000,9,-999.0000,9,-999.0000,9,-999.0000,9,-999.0000,9,-999.0000,9,   1.6245,     -999.0,-999.000,     -999.0,          9,     -999.0,          9,-999.000,          9
 33RO200501,       A16S,      20,          1,         13,         13,2,20050121,       1834,   -52.5008,   -35.5503,       3699,  1300.8,   1.4762,  34.7291,2,  34.7291,2,    196.3,2,   196.3,2,   98.74,2,   30.94,2,    0.00,2,    2.14,2,-999.000,9,-999.000,9,-999.000,9,  -999.0,9,  -999.0,9,  -999.0,9,   20.00,-999.0000,9,    25.00,-999.000,9, -999.00,-999.000,9,-999.000,9, -999.00,9,  -999.0,9,  -999.0,-999.000,9,-999.000,-999.000,9, -999.00,9, 1300.80,-999.0000,9,-999.0000,9,-999.0000,9,-999.0000,9,-999.0000,9,-999.0000,9,   1.3998,     -999.0,-999.000,      0.000,          2,      0.000,          2,   0.016,          2
 33RO200501,       A16S,      20,          1,         12,         12,2,20050121,       1834,   -52.5008,   -35.5503,       3699,  1500.5,   1.2575,  34.7212,2,  34.7204,2,    199.4,2,   200.1,2,  103.86,2,   31.14,2,    0.00,2,    2.15,2,-999.000,9,-999.000,9,-999.000,9,  -999.0,9,  -999.0,9,  -999.0,9,   20.00,-999.0000,9,    25.00,-999.000,9, -999.00,-999.000,9,-999.000,9, -999.00,9,  -999.0,9,  -999.0,-999.000,9,-999.000,-999.000,9, -999.00,9, 1500.50,-999.0000,9,-999.0000,9,-999.0000,9,-999.0000,9,-999.0000,9,-999.0000,9,   1.1695,     -999.0,-999.000,     -999.0,          9,     -999.0,          9,-999.000,          9
 33RO200501,       A16S,      20,          1,         11,         11,2,20050121,       1834,   -52.5008,   -35.5503,       3699,  1700.0,   1.1025,  34.7152,2,  34.7159,2,    202.2,2,   202.3,2,  108.16,2,   31.44,2,    0.00,2,    2.17,2,-999.000,9,-999.000,9,-999.000,9,  -999.0,9,  -999.0,9,  -999.0,9,   20.00,-999.0000,9,    25.00,-999.000,9, -999.00,-999.000,9,-999.000,9, -999.00,9,  -999.0,9,  -999.0,-999.000,9,-999.000,-999.000,9, -999.00,9, 1700.00,-999.0000,9,-999.0000,9,-999.0000,9,-999.0000,9,-999.0000,9,-999.0000,9,   1.0021,     -999.0,-999.000,     -999.0,          9,     -999.0,          9,-999.000,          9
 33RO200501,       A16S,      20,          1,         10,         10,2,20050121,       1834,   -52.5008,   -35.5503,       3699,  1900.9,   0.9042,  34.7044,2,  34.7045,2,    205.1,2,   205.8,2,  112.15,2,   31.79,2,    0.00,2,    2.20,2,   0.310,2,   0.227,2,   0.009,2,  2255.8,2,  2356.9,2,  -999.0,9,   20.00,   7.6170,2,    25.00,-999.000,9, -999.00,-999.000,9,-999.000,9, -999.00,9,  -999.0,9,  -999.0,-999.000,9,-999.000,   0.428,3, -999.00,9, 1900.90,-999.0000,9,-999.0000,9,-999.0000,9,-999.0000,9,-999.0000,9,-999.0000,9,   0.7918,     -999.0,-999.000,      0.000,          2,      0.000,          2,   0.030,          2
 33RO200501,       A16S,      20,          1,          9,          9,2,20050121,       1834,   -52.5008,   -35.5503,       3699,  2100.5,   0.7329,  34.6941,2,  34.6943,2,    208.2,2,   209.0,2,  114.72,2,   31.99,2,    0.00,2,    2.21,2,-999.000,9,-999.000,9,-999.000,9,  -999.0,9,  -999.0,9,  -999.0,9,   20.00,-999.0000,9,    25.00,-999.000,9, -999.00,-999.000,9,-999.000,9, -999.00,9,  -999.0,9,  -999.0,-999.000,9,-999.000,-999.000,9, -999.00,9, 2100.50,-999.0000,9,-999.0000,9,-999.0000,9,-999.0000,9,-999.0000,9,-999.0000,9,   0.6080,     -999.0,-999.000,     -999.0,          9,     -999.0,          9,-999.000,          9
 33RO200501,       A16S,      20,          1,          8,          8,2,20050121,       1834,   -52.5008,   -35.5503,       3699,  2299.2,   0.6300,  34.6918,2,  34.6917,2,    210.5,2,   211.1,2,  116.09,2,   31.93,2,    0.00,2,    2.22,2,-999.000,9,-999.000,9,-999.000,9,  -999.0,9,  -999.0,9,  -999.0,9,   20.00,-999.0000,9,    25.00,-999.000,9, -999.00,-999.000,9,-999.000,9, -999.00,9,  -999.0,9,  -999.0,-999.000,9,-999.000,-999.000,9, -999.00,9, 2299.20,-999.0000,9,-999.0000,9,-999.0000,9,-999.0000,9,-999.0000,9,-999.0000,9,   0.4914,     -999.0,-999.000,     -999.0,          9,     -999.0,          9,-999.000,          9