BOTTLE,20220818CCHSIOAMB
EXPOCODE,SECT_ID,STNNBR,CASTNO,SAMPNO,BTLNBR,BTLNBR_FLAG_W,DATE,TIME,LATITUDE,LONGITUDE,DEPTH,CTDPRS,CTDTMP,CTDSAL,CTDSAL_FLAG_W,SALNTY,SALNTY_FLAG_W,CTDOXY,CTDOXY_FLAG_W,OXYGEN,OXYGEN_FLAG_W,SILCAT,SILCAT_FLAG_W,NITRAT,NITRAT_FLAG_W,NITRIT,NITRIT_FLAG_W,PHSPHT,PHSPHT_FLAG_W,CFC-11,CFC-11_FLAG_W,CFC-12,CFC-12_FLAG_W,CFC113,CFC113_FLAG_W,TCARBN,TCARBN_FLAG_W,ALKALI,ALKALI_FLAG_W,PCO2,PCO2_FLAG_W,PCO2TMP,PH_SWS,PH_SWS_FLAG_W,PH_TMP,TRITUM,TRITUM_FLAG_W,TRITER,HELIUM,HELIUM_FLAG_W,DELHE3,DELHE3_FLAG_W,DELC13,DELC13_FLAG_W,DELC14,DELC14_FLAG_W,C14ERR,NEON,NEON_FLAG_W,NEONER,CCL4,CCL4_FLAG_W,DOC,DOC_FLAG_W,CTDRAW,CDOM325,CDOM325_FLAG_W,CDOM340,CDOM340_FLAG_W,CDOM380,CDOM380_FLAG_W,CDOM412,CDOM412_FLAG_W,CDOMSL,CDOMSL_FLAG_W,CDOMSN,CDOMSN_FLAG_W,THETA,HELIER,DELHER,CH3CL,CH3CL_FLAG_W,CH3BR,CH3BR_FLAG_W,CH3I,CH3I_FLAG_W
,,,,,,,,,,,METERS,DBAR,ITS-90,PSS-78,,PSS-78,,UMOL/KG,,UMOL/KG,,UMOL/KG,,UMOL/KG,,UMOL/KG,,UMOL/KG,,PMOL/KG,,PMOL/KG,,PMOL/KG,,UMOL/KG,,UMOL/KG,,UATM,,DEG C,,,DEG C,TU,,TU,NMOL/KG,,PERCNT,,/MILLE,,/MILLE,,/MILLE,NMOL/KG,,NMOL/KG,PMOL/KG,,UMOL/KG,,DBAR,1/M,,1/M,,1/M,,1/M,,1/NM,,1/NM,,DEG C,NMOL/KG,PERCNT,PMOL/KG,,PMOL/KG,,PMOL/KG,
 33RO200501,       A16S,      52,          1,          7,          7,2,20050131,       2127,   -36.4992,   -25.5582,       3995,  2599.7,   2.8247,  34.8714,2,  34.8718,2,    228.1,2,   229.7,2,   46.07,6,   23.78,2,    0.00,6,    1.59,6,-999.000,9,-999.000,9,-999.000,9,  -999.0,9,  -999.0,9,  -999.0,9,   20.00,-999.0000,9,    25.00,-999.000,9, -999.00,-999.000,9,-999.000,9, -999.00,9,  -999.0,9,  -999.0,-999.000,9,-999.000,-999.000,9, -999.00,9, 2599.70,-999.0000,9,-999.0000,9,-999.0000,9,-999.0000,9,-999.0000,9,-999.0000,9,   2.6185,     -999.0,-999.000,     -999.0,          9,     -999.0,          9,-999.000,          9
 33RO200501,       A16S,      52,          1,          6,          6,2,20050131,       2127,   -36.4992,   -25.5582,       3995,  2797.9,   2.6971,  34.8763,2,  34.8771,2,    232.7,2,   232.7,2,   46.78,6,   23.47,2,    0.00,6,    1.57,6,-999.000,9,-999.000,9,-999.000,9,  -999.0,9,  -999.0,9,  -999.0,9,   20.00,-999.0000,9,    25.00,-999.000,9, -999.00,-999.000,9,-999.000,9, -999.00,9,  -999.0,9,  -999.0,-999.000,9,-999.000,-999.000,9, -999.00,9, 2797.90,-999.0000,9,-999.0000,9,-999.0000,9,-999.0000,9,-999.0000,9,-999.0000,9,   2.4738,     -999.0,-999.000,     -999.0,          9,     -999.0,          9,-999.000,          9
 33RO200501,       A16S,      52,          1,          5,          5,2,20050131,       2127,   -36.4992,   -25.5582,       3995,  3000.4,   2.5198,  34.8683,2,  34.8692,2,    233.7,2,   234.5,2,   50.77,6,   23.66,6,    0.00,6,    1.59,6,   0.027,2,   0.016,2,  -0.002,2,  -999.0,9,  2350.7,4,  -999.0,9,   20.00,   7.7043,2,    25.00,-999.000,9, -999.00,-999.000,9,-999.000,9,    0.93,6,  -122.4,6,     2.2,-999.000,9,-999.000,   0.097,4, -999.00,9, 3000.40,-999.0000,9,-999.0000,9,-999.0000,9,-999.0000,9,-999.0000,9,-999.0000,9,   2.2798,     -999.0,-999.000,      0.000,          2,      0.000,          2,   0.006,          2
 33RO200501,       A16S,      52,          1,          4,          4,2,20050131,       2127,   -36.4992,   -25.5582,       3995,  3249.6,   2.1611,  34.8360,2,  34.8360,2,    230.2,2,   229.3,2,   63.63,6,   25.23,6,    0.00,6,    1.71,6,-999.000,9,-999.000,9,-999.000,9,  -999.0,9,  -999.0,9,  -999.0,9,   20.00,-999.0000,9,    25.00,-999.000,9, -999.00,-999.000,9,-999.000,9, -999.00,9,  -999.0,9,  -999.0,-999.000,9,-999.000,-999.000,9, -999.00,9, 3249.60,-999.0000,9,-999.0000,9,-999.0000,9,-999.0000,9,-999.0000,9,-999.0000,9,   1.9037,     -999.0,-999.000,     -999.0,          9,     -999.0,          9,-999.000,          9
 33RO200501,       A16S,      52,          1,          3,          3,2,20050131,       2127,   -36.4992,   -25.5582,       3995,  3500.1,   1.7655,  34.7999,2,  34.8002,2,    225.9,2,   225.3,2,   78.02,6,   26.95,6,    0.00,6,    1.85,6,-999.000,9,-999.000,9,-999.000,9,  -999.0,9,  -999.0,9,  -999.0,9,   20.00,-999.0000,9,    25.00,-999.000,9, -999.00,-999.000,9,-999.000,9, -999.00,9,  -999.0,9,  -999.0,-999.000,9,-999.000,-999.000,9, -999.00,9, 3500.10,-999.0000,9,-999.0000,9,-999.0000,9,-999.0000,9,-999.0000,9,-999.0000,9,   1.4921,     -999.0,-999.000,     -999.0,          9,     -999.0,          9,-999.000,          9
 33RO200501,       A16S,      52,          1,          2,          2,2,20050131,       2127,   -36.4992,   -25.5582,       3995,  3749.2,   1.2280,  34.7561,2,  34.7561,2,    224.1,2,   222.3,2,   95.81,6,   29.02,6,    0.00,6,    2.01,6,   0.260,3,   0.149,3,   0.009,3,  -999.0,9,  2355.1,4,  -999.0,9,   20.00,   7.6544,2,    25.00,-999.000,9, -999.00,-999.000,9,-999.000,9, -999.00,9,  -999.0,9,  -999.0,-999.000,9,-999.000,   0.178,4, -999.00,9, 3749.20,-999.0000,9,-999.0000,9,-999.0000,9,-999.0000,9,-999.0000,9,-999.0000,9,   0.9428,     -999.0,-999.000,      0.873,          2,      0.000,          2,   0.029,          2
 33RO200501,       A16S,      52,          1,          1,          1,2,20050131,       2127,   -36.4992,   -25.5582,       3995,  4033.0,   0.9800,  34.7287,2,  34.7290,2,    219.5,2,   218.1,2,  106.30,6,   30.39,6,    0.01,6,    2.11,6,   0.116,2,   0.055,2,   0.002,2,  -999.0,9,  2358.8,4,  -999.0,9,   20.00,   7.6452,2,    25.00,-999.000,9, -999.00,-999.000,9,-999.000,9, -999.00,9,  -999.0,9,  -999.0,-999.000,9,-999.000,   0.181,4, -999.00,9, 4033.00,-999.0000,9,-999.0000,9,-999.0000,9,-999.0000,9,-999.0000,9,-999.0000,9,   0.6720,     -999.0,-999.000,      2.387,          2,      0.000,          2,   0.072,          2