BOTTLE,20220818CCHSIOAMB
EXPOCODE,SECT_ID,STNNBR,CASTNO,SAMPNO,BTLNBR,BTLNBR_FLAG_W,DATE,TIME,LATITUDE,LONGITUDE,DEPTH,CTDPRS,CTDTMP,CTDSAL,CTDSAL_FLAG_W,SALNTY,SALNTY_FLAG_W,CTDOXY,CTDOXY_FLAG_W,OXYGEN,OXYGEN_FLAG_W,SILCAT,SILCAT_FLAG_W,NITRAT,NITRAT_FLAG_W,NITRIT,NITRIT_FLAG_W,PHSPHT,PHSPHT_FLAG_W,CFC-11,CFC-11_FLAG_W,CFC-12,CFC-12_FLAG_W,CFC113,CFC113_FLAG_W,TCARBN,TCARBN_FLAG_W,ALKALI,ALKALI_FLAG_W,PCO2,PCO2_FLAG_W,PCO2TMP,PH_SWS,PH_SWS_FLAG_W,PH_TMP,TRITUM,TRITUM_FLAG_W,TRITER,HELIUM,HELIUM_FLAG_W,DELHE3,DELHE3_FLAG_W,DELC13,DELC13_FLAG_W,DELC14,DELC14_FLAG_W,C14ERR,NEON,NEON_FLAG_W,NEONER,CCL4,CCL4_FLAG_W,DOC,DOC_FLAG_W,CTDRAW,CDOM325,CDOM325_FLAG_W,CDOM340,CDOM340_FLAG_W,CDOM380,CDOM380_FLAG_W,CDOM412,CDOM412_FLAG_W,CDOMSL,CDOMSL_FLAG_W,CDOMSN,CDOMSN_FLAG_W,THETA,HELIER,DELHER,CH3CL,CH3CL_FLAG_W,CH3BR,CH3BR_FLAG_W,CH3I,CH3I_FLAG_W
,,,,,,,,,,,METERS,DBAR,ITS-90,PSS-78,,PSS-78,,UMOL/KG,,UMOL/KG,,UMOL/KG,,UMOL/KG,,UMOL/KG,,UMOL/KG,,PMOL/KG,,PMOL/KG,,PMOL/KG,,UMOL/KG,,UMOL/KG,,UATM,,DEG C,,,DEG C,TU,,TU,NMOL/KG,,PERCNT,,/MILLE,,/MILLE,,/MILLE,NMOL/KG,,NMOL/KG,PMOL/KG,,UMOL/KG,,DBAR,1/M,,1/M,,1/M,,1/M,,1/NM,,1/NM,,DEG C,NMOL/KG,PERCNT,PMOL/KG,,PMOL/KG,,PMOL/KG,
 33RO200501,       A16S,      60,          1,         36,         36,2,20050203,       0356,   -32.5002,   -25.0000,       4169,     2.0,  21.7741,  35.8261,2,  35.8248,2,    221.5,2,   221.9,2,    1.16,2,    0.11,2,    0.00,4,    0.03,2,   2.050,2,   1.305,2,   0.169,2,  2052.6,2,  2352.1,2,  -999.0,9,   20.00,   8.0196,2,    25.00,-999.000,9, -999.00,-999.000,9,-999.000,9, -999.00,9,  -999.0,9,  -999.0,-999.000,9,-999.000,   1.814,4, -999.00,9,    2.00,-999.0000,9,-999.0000,9,-999.0000,9,-999.0000,9,-999.0000,9,-999.0000,9,  21.7738,     -999.0,-999.000,     54.900,          2,      0.695,          2,   5.140,          2
 33RO200501,       A16S,      60,          1,         35,         35,2,20050203,       0356,   -32.5002,   -25.0000,       4169,    23.5,  21.7806,  35.8257,2,  35.8250,2,    221.9,2,   222.0,2,    1.22,2,    0.11,2,    0.00,4,    0.02,2,-999.000,9,-999.000,9,-999.000,9,  -999.0,9,  -999.0,9,  -999.0,9,   20.00,-999.0000,9,    25.00,-999.000,9, -999.00,-999.000,9,-999.000,9, -999.00,9,  -999.0,9,  -999.0,-999.000,9,-999.000,-999.000,9, -999.00,9,   23.50,-999.0000,9,-999.0000,9,-999.0000,9,-999.0000,9,-999.0000,9,-999.0000,9,  21.7760,     -999.0,-999.000,     52.048,          2,      0.377,          2,   5.656,          2
 33RO200501,       A16S,      60,          1,         34,         34,2,20050203,       0356,   -32.5002,   -25.0000,       4169,    38.8,  21.6826,  35.8117,2,  35.8072,2,    221.7,2,   223.2,2,    1.25,2,    0.11,2,    0.00,4,    0.05,2,-999.000,9,-999.000,9,-999.000,9,  -999.0,9,  -999.0,9,  -999.0,9,   20.00,-999.0000,9,    25.00,-999.000,9, -999.00,-999.000,9,-999.000,9, -999.00,9,  -999.0,9,  -999.0,-999.000,9,-999.000,-999.000,9, -999.00,9,   38.80,-999.0000,9,-999.0000,9,-999.0000,9,-999.0000,9,-999.0000,9,-999.0000,9,  21.6750,     -999.0,-999.000,     54.795,          2,      0.922,          2,   6.315,          2
 33RO200501,       A16S,      60,          1,         33,         33,2,20050203,       0356,   -32.5002,   -25.0000,       4169,    59.6,  20.1528,  35.8281,2,  35.8260,2,    231.7,2,   232.0,2,    1.24,2,    0.12,2,    0.00,4,    0.03,2,-999.000,9,-999.000,9,-999.000,9,  -999.0,9,  -999.0,9,  -999.0,9,   20.00,-999.0000,9,    25.00,-999.000,9, -999.00,-999.000,9,-999.000,9, -999.00,9,  -999.0,9,  -999.0,-999.000,9,-999.000,-999.000,9, -999.00,9,   59.60,-999.0000,9,-999.0000,9,-999.0000,9,-999.0000,9,-999.0000,9,-999.0000,9,  20.1417,     -999.0,-999.000,     -999.0,          9,     -999.0,          9,-999.000,          9
 33RO200501,       A16S,      60,          1,         32,         32,2,20050203,       0356,   -32.5002,   -25.0000,       4169,    79.4,  19.5303,  35.7840,2,  35.7853,2,    232.2,2,   232.8,2,    1.31,2,    0.12,2,    0.00,4,    0.04,2,-999.000,9,-999.000,9,-999.000,9,  -999.0,9,  -999.0,9,  -999.0,9,   20.00,-999.0000,9,    25.00,-999.000,9, -999.00,-999.000,9,-999.000,9, -999.00,9,  -999.0,9,  -999.0,-999.000,9,-999.000,-999.000,9, -999.00,9,   79.40,-999.0000,9,-999.0000,9,-999.0000,9,-999.0000,9,-999.0000,9,-999.0000,9,  19.5158,     -999.0,-999.000,     84.586,          2,      0.573,          2,   5.771,          2
 33RO200501,       A16S,      60,          1,         31,         31,2,20050203,       0356,   -32.5002,   -25.0000,       4169,    99.7,  18.5574,  35.7904,2,  35.7892,2,    235.5,2,   235.4,2,    1.37,2,    0.13,2,    0.00,4,    0.07,2,   2.388,2,   1.477,2,   0.198,2,  2061.2,2,  2347.8,2,  -999.0,9,   20.00,   8.0039,2,    25.00,-999.000,9, -999.00,-999.000,9,-999.000,9, -999.00,9,  -999.0,9,  -999.0,-999.000,9,-999.000,   1.680,4, -999.00,9,   99.70,-999.0000,9,-999.0000,9,-999.0000,9,-999.0000,9,-999.0000,9,-999.0000,9,  18.5399,     -999.0,-999.000,     -999.0,          9,     -999.0,          9,-999.000,          9
 33RO200501,       A16S,      60,          1,         30,         30,2,20050203,       0356,   -32.5002,   -25.0000,       4169,   123.7,  17.7828,  35.7406,2,  35.7349,2,    234.5,2,   233.4,2,    1.40,2,    0.14,2,    0.00,4,    0.09,2,-999.000,9,-999.000,9,-999.000,9,  -999.0,9,  -999.0,9,  -999.0,9,   20.00,-999.0000,9,    25.00,-999.000,9, -999.00,-999.000,9,-999.000,9, -999.00,9,  -999.0,9,  -999.0,-999.000,9,-999.000,-999.000,9, -999.00,9,  123.70,-999.0000,9,-999.0000,9,-999.0000,9,-999.0000,9,-999.0000,9,-999.0000,9,  17.7616,     -999.0,-999.000,     40.390,          2,      0.182,          2,   2.189,          2
 33RO200501,       A16S,      60,          1,         29,         29,2,20050203,       0356,   -32.5002,   -25.0000,       4169,   149.2,  17.0830,  35.6543,2,  35.6567,2,    230.6,2,   230.4,2,    1.40,2,    0.21,2,    0.06,4,    0.12,2,-999.000,9,-999.000,9,-999.000,9,  -999.0,9,  -999.0,9,  -999.0,9,   20.00,-999.0000,9,    25.00,-999.000,9, -999.00,-999.000,9,-999.000,9, -999.00,9,  -999.0,9,  -999.0,-999.000,9,-999.000,-999.000,9, -999.00,9,  149.20,-999.0000,9,-999.0000,9,-999.0000,9,-999.0000,9,-999.0000,9,-999.0000,9,  17.0582,     -999.0,-999.000,     -999.0,          9,     -999.0,          9,-999.000,          9
 33RO200501,       A16S,      60,          1,         28,         28,2,20050203,       0356,   -32.5002,   -25.0000,       4169,   174.1,  16.6156,  35.6066,2,  35.6060,2,    225.6,2,   225.3,2,    1.51,2,    0.89,2,    0.03,4,    0.14,2,-999.000,9,-999.000,9,-999.000,9,  -999.0,9,  -999.0,9,  -999.0,9,   20.00,-999.0000,9,    25.00,-999.000,9, -999.00,-999.000,9,-999.000,9, -999.00,9,  -999.0,9,  -999.0,-999.000,9,-999.000,-999.000,9, -999.00,9,  174.10,-999.0000,9,-999.0000,9,-999.0000,9,-999.0000,9,-999.0000,9,-999.0000,9,  16.5872,     -999.0,-999.000,      6.766,          2,      0.000,          2,   0.334,          2
 33RO200501,       A16S,      60,          1,         27,         27,2,20050203,       0356,   -32.5002,   -25.0000,       4169,   198.6,  16.0310,  35.5587,2,  35.5529,2,    220.7,2,   222.6,2,    1.65,2,    1.98,2,    0.01,4,    0.18,2,   2.672,2,   1.597,2,   0.153,2,  2084.5,2,  2335.5,2,  -999.0,9,   20.00,   7.9423,2,    25.00,-999.000,9, -999.00,-999.000,9,-999.000,9, -999.00,9,  -999.0,9,  -999.0,-999.000,9,-999.000,   1.138,4, -999.00,9,  198.60,-999.0000,9,-999.0000,9,-999.0000,9,-999.0000,9,-999.0000,9,-999.0000,9,  15.9994,     -999.0,-999.000,     -999.0,          9,     -999.0,          9,-999.000,          9
 33RO200501,       A16S,      60,          1,         26,         26,2,20050203,       0356,   -32.5002,   -25.0000,       4169,   248.1,  14.7736,  35.4418,2,  35.4432,2,    216.3,2,   218.1,2,    2.33,2,    5.17,2,    0.00,4,    0.33,2,-999.000,9,-999.000,9,-999.000,9,  -999.0,9,  -999.0,9,  -999.0,9,   20.00,-999.0000,9,    25.00,-999.000,9, -999.00,-999.000,9,-999.000,9, -999.00,9,  -999.0,9,  -999.0,-999.000,9,-999.000,-999.000,9, -999.00,9,  248.10,-999.0000,9,-999.0000,9,-999.0000,9,-999.0000,9,-999.0000,9,-999.0000,9,  14.7362,     -999.0,-999.000,      0.000,          2,      0.000,          2,   0.129,          2
 33RO200501,       A16S,      60,          1,         25,         25,2,20050203,       0356,   -32.5002,   -25.0000,       4169,   299.2,  14.2062,  35.3916,2,  35.3920,2,    218.6,2,   217.6,2,    2.72,2,    6.59,2,    0.00,4,    0.41,2,-999.000,9,-999.000,9,-999.000,9,  -999.0,9,  -999.0,9,  -999.0,9,   20.00,-999.0000,9,    25.00,-999.000,9, -999.00,-999.000,9,-999.000,9, -999.00,9,  -999.0,9,  -999.0,-999.000,9,-999.000,-999.000,9, -999.00,9,  299.20,-999.0000,9,-999.0000,9,-999.0000,9,-999.0000,9,-999.0000,9,-999.0000,9,  14.1622,     -999.0,-999.000,     -999.0,          9,     -999.0,          9,-999.000,          9
 33RO200501,       A16S,      60,          1,         24,         24,2,20050203,       0356,   -32.5002,   -25.0000,       4169,   346.0,  13.5125,  35.2943,2,  35.2936,2,    215.5,2,   216.6,2,    3.16,2,    8.29,2,    0.00,4,    0.52,2,-999.000,9,-999.000,9,-999.000,9,  -999.0,9,  -999.0,9,  -999.0,9,   20.00,-999.0000,9,    25.00,-999.000,9, -999.00,-999.000,9,-999.000,9, -999.00,9,  -999.0,9,  -999.0,-999.000,9,-999.000,-999.000,9, -999.00,9,  346.00,-999.0000,9,-999.0000,9,-999.0000,9,-999.0000,9,-999.0000,9,-999.0000,9,  13.4633,     -999.0,-999.000,     -999.0,          9,     -999.0,          9,-999.000,          9
 33RO200501,       A16S,      60,          1,         23,         23,2,20050203,       0356,   -32.5002,   -25.0000,       4169,   399.6,  12.7462,  35.1825,2,  35.1766,2,    215.2,2,   215.0,2,    3.67,2,   10.13,2,    0.00,4,    0.67,2,-999.000,9,-999.000,9,-999.000,9,  -999.0,9,  -999.0,9,  -999.0,9,   20.00,-999.0000,9,    25.00,-999.000,9, -999.00,-999.000,9,-999.000,9, -999.00,9,  -999.0,9,  -999.0,-999.000,9,-999.000,-999.000,9, -999.00,9,  399.60,-999.0000,9,-999.0000,9,-999.0000,9,-999.0000,9,-999.0000,9,-999.0000,9,  12.6914,     -999.0,-999.000,      0.000,          2,      0.131,          2,   0.007,          2
 33RO200501,       A16S,      60,          1,         22,         22,2,20050203,       0356,   -32.5002,   -25.0000,       4169,   500.6,  10.7561,  34.8937,2,  34.8936,2,    211.1,2,   211.1,2,    5.66,2,   15.12,2,    0.00,4,    1.02,2,   3.057,2,   1.668,2,   0.088,2,  -999.0,9,  -999.0,9,  -999.0,9,   20.00,-999.0000,9,    25.00,-999.000,9, -999.00,-999.000,9,-999.000,9, -999.00,9,  -999.0,9,  -999.0,-999.000,9,-999.000,   1.049,4, -999.00,9,  500.60,-999.0000,9,-999.0000,9,-999.0000,9,-999.0000,9,-999.0000,9,-999.0000,9,  10.6945,     -999.0,-999.000,     -999.0,          9,     -999.0,          9,-999.000,          9
 33RO200501,       A16S,      60,          1,         21,         21,2,20050203,       0356,   -32.5002,   -25.0000,       4169,   599.0,   8.4991,  34.6152,2,  34.6125,2,    212.5,2,   213.2,2,    8.60,2,   20.33,2,    0.00,4,    1.37,2,-999.000,9,-999.000,9,-999.000,9,  -999.0,9,  -999.0,9,  -999.0,9,   20.00,-999.0000,9,    25.00,-999.000,9, -999.00,-999.000,9,-999.000,9, -999.00,9,  -999.0,9,  -999.0,-999.000,9,-999.000,-999.000,9, -999.00,9,  599.00,-999.0000,9,-999.0000,9,-999.0000,9,-999.0000,9,-999.0000,9,-999.0000,9,   8.4350,     -999.0,-999.000,     -999.0,          9,     -999.0,          9,-999.000,          9
 33RO200501,       A16S,      60,          1,         20,         20,2,20050203,       0356,   -32.5002,   -25.0000,       4169,   698.8,   6.7235,  34.4213,2,  34.4122,2,    222.7,2,   224.6,2,   11.47,6,   24.17,6,    0.00,4,    1.59,6,-999.000,9,-999.000,9,-999.000,9,  -999.0,9,  -999.0,9,  -999.0,9,   20.00,-999.0000,9,    25.00,-999.000,9, -999.00,-999.000,9,-999.000,9, -999.00,9,  -999.0,9,  -999.0,-999.000,9,-999.000,-999.000,9, -999.00,9,  698.80,-999.0000,9,-999.0000,9,-999.0000,9,-999.0000,9,-999.0000,9,-999.0000,9,   6.6578,     -999.0,-999.000,      0.000,          2,      0.000,          2,   0.011,          2
 33RO200501,       A16S,      60,          1,         19,         19,2,20050203,       0356,   -32.5002,   -25.0000,       4169,   799.3,   5.3287,  34.2996,2,  34.2980,2,    234.6,2,   235.6,2,   14.81,2,   26.41,2,    0.00,4,    1.75,2,   3.243,2,   1.659,2,   0.212,2,  -999.0,9,  -999.0,9,  -999.0,9,   20.00,-999.0000,9,    25.00,-999.000,9, -999.00,-999.000,9,-999.000,9, -999.00,9,  -999.0,9,  -999.0,-999.000,9,-999.000,   2.763,4, -999.00,9,  799.30,-999.0000,9,-999.0000,9,-999.0000,9,-999.0000,9,-999.0000,9,-999.0000,9,   5.2615,     -999.0,-999.000,     -999.0,          9,     -999.0,          9,-999.000,          9
 33RO200501,       A16S,      60,          1,         18,         18,2,20050203,       0356,   -32.5002,   -25.0000,       4169,   900.3,   4.4474,  34.2565,2,  34.2562,2,    236.3,2,   237.7,2,   19.59,2,   28.22,2,    0.00,4,    1.87,2,-999.000,9,-999.000,9,-999.000,9,  -999.0,9,  -999.0,9,  -999.0,9,   20.00,-999.0000,9,    25.00,-999.000,9, -999.00,-999.000,9,-999.000,9, -999.00,9,  -999.0,9,  -999.0,-999.000,9,-999.000,-999.000,9, -999.00,9,  900.30,-999.0000,9,-999.0000,9,-999.0000,9,-999.0000,9,-999.0000,9,-999.0000,9,   4.3772,     -999.0,-999.000,     -999.0,          9,     -999.0,          9,-999.000,          9
 33RO200501,       A16S,      60,          1,         17,         17,2,20050203,       0356,   -32.5002,   -25.0000,       4169,   999.6,   3.9084,  34.2587,2,  34.2607,2,    232.0,2,   231.8,2,   25.67,6,   29.35,6,    0.00,4,    1.97,6,   2.480,2,   1.251,2,   0.143,2,  2177.5,2,  2288.3,2,  -999.0,9,   20.00,   7.6449,2,    25.00,-999.000,9, -999.00,-999.000,9,-999.000,9, -999.00,9,  -999.0,9,  -999.0,-999.000,9,-999.000,   2.508,4, -999.00,9,  999.60,-999.0000,9,-999.0000,9,-999.0000,9,-999.0000,9,-999.0000,9,-999.0000,9,   3.8339,     -999.0,-999.000,      0.000,          2,      0.000,          2,   0.000,          2
 33RO200501,       A16S,      60,          1,         16,         16,2,20050203,       0356,   -32.5002,   -25.0000,       4169,  1098.6,   3.5008,  34.2855,2,  34.2856,2,    222.6,2,   154.0,3,   32.32,2,   30.98,2,    0.00,4,    2.07,2,-999.000,9,-999.000,9,-999.000,9,  -999.0,9,  -999.0,9,  -999.0,9,   20.00,-999.0000,9,    25.00,-999.000,9, -999.00,-999.000,9,-999.000,9, -999.00,9,  -999.0,9,  -999.0,-999.000,9,-999.000,-999.000,9, -999.00,9, 1098.60,-999.0000,9,-999.0000,9,-999.0000,9,-999.0000,9,-999.0000,9,-999.0000,9,   3.4215,     -999.0,-999.000,     -999.0,          9,     -999.0,          9,-999.000,          9
 33RO200501,       A16S,      60,          1,         15,         15,2,20050203,       0356,   -32.5002,   -25.0000,       4169,  1199.3,   3.2415,  34.3299,2,  34.3341,2,    211.4,2,   211.2,2,   39.29,2,   31.88,2,    0.00,4,    2.14,2,   1.465,2,   0.720,2,   0.080,2,  -999.0,9,  -999.0,9,  -999.0,9,   20.00,-999.0000,9,    25.00,-999.000,9, -999.00,-999.000,9,-999.000,9, -999.00,9,  -999.0,9,  -999.0,-999.000,9,-999.000,   1.715,4, -999.00,9, 1199.30,-999.0000,9,-999.0000,9,-999.0000,9,-999.0000,9,-999.0000,9,-999.0000,9,   3.1563,     -999.0,-999.000,     -999.0,          9,     -999.0,          9,-999.000,          9
 33RO200501,       A16S,      60,          1,         14,         14,2,20050203,       0356,   -32.5002,   -25.0000,       4169,  1299.2,   3.0482,  34.3849,2,  34.3841,2,    201.1,2,   200.9,2,   45.92,2,   32.60,2,    0.00,4,    2.19,2,-999.000,9,-999.000,9,-999.000,9,  -999.0,9,  -999.0,9,  -999.0,9,   20.00,-999.0000,9,    25.00,-999.000,9, -999.00,-999.000,9,-999.000,9, -999.00,9,  -999.0,9,  -999.0,-999.000,9,-999.000,-999.000,9, -999.00,9, 1299.20,-999.0000,9,-999.0000,9,-999.0000,9,-999.0000,9,-999.0000,9,-999.0000,9,   2.9568,     -999.0,-999.000,      0.000,          2,      0.000,          2,   0.030,          2
 33RO200501,       A16S,      60,          1,         13,         13,2,20050203,       0356,   -32.5002,   -25.0000,       4169,  1499.4,   2.8409,  34.5450,2,  34.5443,2,    187.0,2,   186.9,2,   56.70,2,   32.37,2,    0.00,4,    2.19,2,   0.321,2,   0.160,2,   0.012,2,  2229.1,2,  2321.8,2,  -999.0,9,   20.00,   7.5882,2,    25.00,-999.000,9, -999.00,-999.000,9,-999.000,9, -999.00,9,  -999.0,9,  -999.0,-999.000,9,-999.000,   0.507,4, -999.00,9, 1499.40,-999.0000,9,-999.0000,9,-999.0000,9,-999.0000,9,-999.0000,9,-999.0000,9,   2.7350,     -999.0,-999.000,     -999.0,          9,     -999.0,          9,-999.000,          9
 33RO200501,       A16S,      60,          1,         12,         12,2,20050203,       0356,   -32.5002,   -25.0000,       4169,  1698.6,   2.8180,  34.6607,2,  34.6608,2,    192.2,2,   192.0,2,   56.80,6,   30.36,6,    0.00,4,    2.05,6,-999.000,9,-999.000,9,-999.000,9,  -999.0,9,  -999.0,9,  -999.0,9,   20.00,-999.0000,9,    25.00,-999.000,9, -999.00,-999.000,9,-999.000,9, -999.00,9,  -999.0,9,  -999.0,-999.000,9,-999.000,-999.000,9, -999.00,9, 1698.60,-999.0000,9,-999.0000,9,-999.0000,9,-999.0000,9,-999.0000,9,-999.0000,9,   2.6955,     -999.0,-999.000,     -999.0,          9,     -999.0,          9,-999.000,          9
 33RO200501,       A16S,      60,          1,         11,         11,2,20050203,       0356,   -32.5002,   -25.0000,       4169,  1900.6,   2.8163,  34.7408,2,  34.7410,2,    202.3,2,   202.5,2,   53.94,2,   28.32,2,    0.00,4,    1.92,2,-999.000,9,-999.000,9,-999.000,9,  -999.0,9,  -999.0,9,  -999.0,9,   20.00,-999.0000,9,    25.00,-999.000,9, -999.00,-999.000,9,-999.000,9, -999.00,9,  -999.0,9,  -999.0,-999.000,9,-999.000,-999.000,9, -999.00,9, 1900.60,-999.0000,9,-999.0000,9,-999.0000,9,-999.0000,9,-999.0000,9,-999.0000,9,   2.6760,     -999.0,-999.000,      3.654,          2,      0.055,          2,   0.051,          2
 33RO200501,       A16S,      60,          1,         10,         10,2,20050203,       0356,   -32.5002,   -25.0000,       4169,  2100.5,   2.8091,  34.8079,2,  34.8088,2,    214.7,2,   216.4,2,   49.01,2,   25.99,2,    0.00,4,    1.76,2,   0.016,6,   0.008,6,   0.000,6,  -999.0,9,  -999.0,9,  -999.0,9,   20.00,-999.0000,9,    25.00,-999.000,9, -999.00,-999.000,9,-999.000,9, -999.00,9,  -999.0,9,  -999.0,-999.000,9,-999.000,   0.068,4, -999.00,9, 2100.50,-999.0000,9,-999.0000,9,-999.0000,9,-999.0000,9,-999.0000,9,-999.0000,9,   2.6507,     -999.0,-999.000,     -999.0,          9,     -999.0,          9,-999.000,          9
 33RO200501,       A16S,      60,          1,          9,          9,2,20050203,       0356,   -32.5002,   -25.0000,       4169,  2300.5,   2.7809,  34.8441,2,  34.8442,2,    225.0,2,   226.7,2,   45.43,2,   24.45,2,    0.00,4,    1.66,2,-999.000,9,-999.000,9,-999.000,9,  -999.0,9,  -999.0,9,  -999.0,9,   20.00,-999.0000,9,    25.00,-999.000,9, -999.00,-999.000,9,-999.000,9, -999.00,9,  -999.0,9,  -999.0,-999.000,9,-999.000,-999.000,9, -999.00,9, 2300.50,-999.0000,9,-999.0000,9,-999.0000,9,-999.0000,9,-999.0000,9,-999.0000,9,   2.6044,     -999.0,-999.000,     -999.0,          9,     -999.0,          9,-999.000,          9
 33RO200501,       A16S,      60,          1,          8,          8,2,20050203,       0356,   -32.5002,   -25.0000,       4169,  2499.5,   2.7577,  34.8653,2,  34.8650,2,    232.9,2,   233.6,2,   42.78,6,   23.54,6,    0.00,4,    1.58,6,-999.000,9,-999.000,9,-999.000,9,  -999.0,9,  -999.0,9,  -999.0,9,   20.00,-999.0000,9,    25.00,-999.000,9, -999.00,-999.000,9,-999.000,9, -999.00,9,  -999.0,9,  -999.0,-999.000,9,-999.000,-999.000,9, -999.00,9, 2499.50,-999.0000,9,-999.0000,9,-999.0000,9,-999.0000,9,-999.0000,9,-999.0000,9,   2.5626,     -999.0,-999.000,      0.000,          2,      0.000,          2,   0.059,          2