BOTTLE,20220818CCHSIOAMB
EXPOCODE,SECT_ID,STNNBR,CASTNO,SAMPNO,BTLNBR,BTLNBR_FLAG_W,DATE,TIME,LATITUDE,LONGITUDE,DEPTH,CTDPRS,CTDTMP,CTDSAL,CTDSAL_FLAG_W,SALNTY,SALNTY_FLAG_W,CTDOXY,CTDOXY_FLAG_W,OXYGEN,OXYGEN_FLAG_W,SILCAT,SILCAT_FLAG_W,NITRAT,NITRAT_FLAG_W,NITRIT,NITRIT_FLAG_W,PHSPHT,PHSPHT_FLAG_W,CFC-11,CFC-11_FLAG_W,CFC-12,CFC-12_FLAG_W,CFC113,CFC113_FLAG_W,TCARBN,TCARBN_FLAG_W,ALKALI,ALKALI_FLAG_W,PCO2,PCO2_FLAG_W,PCO2TMP,PH_SWS,PH_SWS_FLAG_W,PH_TMP,TRITUM,TRITUM_FLAG_W,TRITER,HELIUM,HELIUM_FLAG_W,DELHE3,DELHE3_FLAG_W,DELC13,DELC13_FLAG_W,DELC14,DELC14_FLAG_W,C14ERR,NEON,NEON_FLAG_W,NEONER,CCL4,CCL4_FLAG_W,DOC,DOC_FLAG_W,CTDRAW,CDOM325,CDOM325_FLAG_W,CDOM340,CDOM340_FLAG_W,CDOM380,CDOM380_FLAG_W,CDOM412,CDOM412_FLAG_W,CDOMSL,CDOMSL_FLAG_W,CDOMSN,CDOMSN_FLAG_W,THETA,HELIER,DELHER,CH3CL,CH3CL_FLAG_W,CH3BR,CH3BR_FLAG_W,CH3I,CH3I_FLAG_W
,,,,,,,,,,,METERS,DBAR,ITS-90,PSS-78,,PSS-78,,UMOL/KG,,UMOL/KG,,UMOL/KG,,UMOL/KG,,UMOL/KG,,UMOL/KG,,PMOL/KG,,PMOL/KG,,PMOL/KG,,UMOL/KG,,UMOL/KG,,UATM,,DEG C,,,DEG C,TU,,TU,NMOL/KG,,PERCNT,,/MILLE,,/MILLE,,/MILLE,NMOL/KG,,NMOL/KG,PMOL/KG,,UMOL/KG,,DBAR,1/M,,1/M,,1/M,,1/M,,1/NM,,1/NM,,DEG C,NMOL/KG,PERCNT,PMOL/KG,,PMOL/KG,,PMOL/KG,
 33RO200501,       A16S,      61,          1,         36,         36,2,20050203,       1104,   -31.9987,   -24.9988,       4171,     2.4,  22.6887,  36.1244,2,  36.1225,2,    219.1,2,   219.1,2,    1.46,2,    0.10,2,    0.00,2,    0.00,2,-999.000,5,-999.000,5,-999.000,5,  2058.1,6,  2370.5,2,   336.5,2,   20.00,   8.0407,2,    25.00,-999.000,9, -999.00,-999.000,9,-999.000,9,    1.60,2,    73.6,2,     3.7,-999.000,9,-999.000,-999.000,5,   64.19,2,    2.40,   0.0710,2,   0.0510,2,   0.0240,2,   0.0140,3,   0.0203,2,   0.0209,2,  22.6882,     -999.0,-999.000,     -999.0,          9,     -999.0,          9,-999.000,          9
 33RO200501,       A16S,      61,          1,         35,         35,2,20050203,       1104,   -31.9987,   -24.9988,       4171,    18.7,  22.6640,  36.1243,2,  36.1229,2,    219.7,2,   219.0,2,    1.46,2,    0.10,2,    0.00,2, -999.00,5,-999.000,9,-999.000,9,-999.000,9,  2058.5,2,  2370.1,3,   331.7,2,   20.00,   8.0405,6,    25.00,-999.000,9, -999.00,-999.000,9,-999.000,9, -999.00,9,  -999.0,9,  -999.0,-999.000,9,-999.000,-999.000,9,   63.71,2,   18.70,   0.1290,2,   0.1020,2,   0.0460,2,   0.0250,2,   0.0195,2,   0.0180,2,  22.6602,     -999.0,-999.000,     -999.0,          9,     -999.0,          9,-999.000,          9
 33RO200501,       A16S,      61,          1,         34,         34,2,20050203,       1104,   -31.9987,   -24.9988,       4171,    39.3,  22.6359,  36.1252,2,  36.1239,2,    219.6,2,   218.9,2,    1.48,2,    0.10,2,    0.00,2,    0.02,2,   1.984,2,   1.240,2,   0.146,2,  2058.4,2,  2156.5,3,   335.2,2,   20.00,   8.0400,2,    25.00,-999.000,9, -999.00,-999.000,9,-999.000,9,    1.58,2,    79.7,2,     4.0,-999.000,9,-999.000,   1.671,4,   63.33,2,   39.30,   0.0920,2,   0.0680,2,   0.0340,2,   0.0210,2,   0.0177,2,   0.0180,2,  22.6279,     -999.0,-999.000,     -999.0,          9,     -999.0,          9,-999.000,          9
 33RO200501,       A16S,      61,          1,         33,         33,2,20050203,       1104,   -31.9987,   -24.9988,       4171,    59.3,  22.4313,  36.1164,2,  36.1084,2,    220.6,2,   223.3,2,    1.49,2,    0.12,2,    0.00,2,    0.02,2,-999.000,9,-999.000,9,-999.000,9,  2058.6,2,  2358.2,2,   332.8,2,   20.00,   8.0338,2,    25.00,-999.000,9, -999.00,-999.000,9,-999.000,9, -999.00,9,  -999.0,9,  -999.0,-999.000,9,-999.000,-999.000,9, -999.00,9,   59.30,-999.0000,9,-999.0000,9,-999.0000,9,-999.0000,9,-999.0000,9,-999.0000,9,  22.4194,     -999.0,-999.000,     -999.0,          9,     -999.0,          9,-999.000,          9
 33RO200501,       A16S,      61,          1,         32,         32,2,20050203,       1104,   -31.9987,   -24.9988,       4171,    74.0,  20.5425,  36.0513,2,  36.0511,2,    230.2,2,   232.4,2,    1.55,2,    0.16,2,    0.00,2,    0.05,2,   2.195,2,   1.382,2,   0.189,2,  2061.5,2,  2364.3,2,   346.1,2,   20.00,-999.0000,9,    25.00,-999.000,9, -999.00,-999.000,9,-999.000,9,    1.55,2,    78.5,2,     3.1,-999.000,9,-999.000,   1.588,4,   61.63,2,   74.00,   0.1190,2,   0.0860,2,   0.0460,2,   0.0290,2,   0.0161,2,   0.0172,2,  20.5285,     -999.0,-999.000,     -999.0,          9,     -999.0,          9,-999.000,          9
 33RO200501,       A16S,      61,          1,         31,         31,2,20050203,       1104,   -31.9987,   -24.9988,       4171,    99.1,  19.1258,  35.9396,2,  35.9467,2,    232.7,2,   235.4,2,    1.60,2,    0.19,2,    0.00,2,    0.08,2,-999.000,9,-999.000,9,-999.000,9,  2064.9,2,  2361.4,2,   353.2,2,   20.00,   8.0146,2,    25.00,-999.000,9, -999.00,-999.000,9,-999.000,9, -999.00,9,  -999.0,9,  -999.0,-999.000,9,-999.000,-999.000,9, -999.00,9,   99.10,-999.0000,9,-999.0000,9,-999.0000,9,-999.0000,9,-999.0000,9,-999.0000,9,  19.1080,     -999.0,-999.000,     -999.0,          9,     -999.0,          9,-999.000,          9
 33RO200501,       A16S,      61,          1,         30,         30,4,20050203,       1104,   -31.9987,   -24.9988,       4171,   125.1,  18.4819,  35.9146,2,  34.3686,4,   -999.0,9,   218.5,4,   17.59,4,   26.67,4,    0.00,6,    1.75,4,   2.760,2,   1.398,2,   0.152,2,  2165.6,4,  2284.1,3,  -999.0,9,   20.00,   7.6954,4,    25.00,-999.000,9, -999.00,-999.000,9,-999.000,9,    1.17,2,   -19.2,4,     3.4,-999.000,9,-999.000,   2.244,4,   56.98,2,  125.10,   0.1360,2,   0.1000,2,   0.0510,2,   0.0330,2,   0.0161,2,   0.0171,2,  18.4599,     -999.0,-999.000,     -999.0,          9,     -999.0,          9,-999.000,          9
 33RO200501,       A16S,      61,          1,         29,         29,2,20050203,       1104,   -31.9987,   -24.9988,       4171,   149.6,  17.1691,  35.6937,2,  35.6816,2,    223.8,2,   225.9,2,    1.82,2,    0.27,2,    0.11,2,    0.17,2,   2.545,2,   1.627,2,   0.180,2,  2079.6,2,  2347.0,2,   408.8,2,   20.00,   7.9689,2,    25.00,-999.000,9, -999.00,-999.000,9,-999.000,9, -999.00,9,  -999.0,9,  -999.0,-999.000,9,-999.000,   1.314,4, -999.00,9,  149.60,-999.0000,9,-999.0000,9,-999.0000,9,-999.0000,9,-999.0000,9,-999.0000,9,  17.1441,     -999.0,-999.000,     -999.0,          9,     -999.0,          9,-999.000,          9
 33RO200501,       A16S,      61,          1,         28,         28,2,20050203,       1104,   -31.9987,   -24.9988,       4171,   174.5,  16.1715,  35.5501,2,  35.5514,2,    222.1,2,   223.3,2,    2.05,2,    1.51,2,    0.05,2,    0.26,2,   2.647,2,   1.596,2,   0.155,2,  2085.8,2,  2338.2,2,  -999.0,9,   20.00,   7.9420,2,    25.00,-999.000,9, -999.00,-999.000,9,-999.000,9,    1.15,2,    72.0,2,     3.7,-999.000,9,-999.000,   1.149,4,   53.09,2,  174.50,   0.1620,2,   0.1250,2,   0.0640,2,   0.0420,2,   0.0154,2,   0.0161,2,  16.1436,     -999.0,-999.000,     -999.0,          9,     -999.0,          9,-999.000,          9
 33RO200501,       A16S,      61,          1,         27,         27,2,20050203,       1104,   -31.9987,   -24.9988,       4171,   204.3,  15.4056,  35.4773,2,  35.4764,2,    215.4,2,   216.0,2,    2.49,2,    3.74,2,    0.01,2,    0.37,2,   2.742,2,   1.621,2,   0.086,2,  2096.1,2,  2333.0,2,   464.1,2,   20.00,   7.9179,2,    25.00,-999.000,9, -999.00,-999.000,9,-999.000,9,    1.20,2,    81.6,2,     4.3,-999.000,9,-999.000,   0.758,4, -999.00,9,  204.30,-999.0000,9,-999.0000,9,-999.0000,9,-999.0000,9,-999.0000,9,-999.0000,9,  15.3739,     -999.0,-999.000,     -999.0,          9,     -999.0,          9,-999.000,          9
 33RO200501,       A16S,      61,          1,         26,         26,2,20050203,       1104,   -31.9987,   -24.9988,       4171,   258.6,  14.4186,  35.3690,2,  35.3690,2,    213.1,2,   214.7,2,    2.99,2,    6.19,2,    0.00,2,    0.51,2,   2.845,2,   1.639,2,   0.047,2,  2102.5,2,  2326.4,2,   500.0,2,   20.00,   7.8978,2,    25.00,-999.000,9, -999.00,-999.000,9,-999.000,9,    1.26,2,    70.4,2,     3.0,-999.000,9,-999.000,   0.642,4,   47.67,2,  258.60,   0.1130,2,   0.0840,2,   0.0450,2,   0.0310,2,   0.0149,2,   0.0162,2,  14.3803,     -999.0,-999.000,     -999.0,          9,     -999.0,          9,-999.000,          9
 33RO200501,       A16S,      61,          1,         25,         25,2,20050203,       1104,   -31.9987,   -24.9988,       4171,   299.5,  13.8513,  35.3050,2,  35.3039,2,    214.2,2,   214.9,2,    3.24,2,    7.51,2,    0.00,2,    0.58,2,   2.916,2,   1.654,2,   0.051,2,  2105.8,2,  2323.6,2,   512.8,2,   20.00,   7.8808,2,    25.00,-999.000,9, -999.00,-999.000,9,-999.000,9,    1.27,2,    76.6,2,     3.0,-999.000,9,-999.000,   0.654,4,   45.40,2,  299.50,-999.0000,9,-999.0000,9,-999.0000,9,-999.0000,9,-999.0000,9,-999.0000,9,  13.8081,     -999.0,-999.000,     -999.0,          9,     -999.0,          9,-999.000,          9
 33RO200501,       A16S,      61,          1,         24,         24,2,20050203,       1104,   -31.9987,   -24.9988,       4171,   349.8,  13.1923,  35.2213,2,  35.2135,2,    213.5,2,   213.5,2,    3.70,2,    9.37,2,    0.00,2,    0.68,2,   2.998,2,   1.704,2,   0.053,2,  2111.3,2,  2323.2,2,   544.0,2,   20.00,   7.8632,2,    25.00,-999.000,9, -999.00,-999.000,9,-999.000,9,    1.25,2,    73.2,2,     3.6,-999.000,9,-999.000,   0.691,4,   44.55,2,  349.80,   0.1380,2,   0.1040,2,   0.0520,2,   0.0330,2,   0.0166,2,   0.0172,2,  13.1433,     -999.0,-999.000,     -999.0,          9,     -999.0,          9,-999.000,          9
 33RO200501,       A16S,      61,          1,         23,         23,2,20050203,       1104,   -31.9987,   -24.9988,       4171,   399.5,  12.4818,  35.1230,2,  35.1229,2,    212.8,2,   212.2,2,    4.29,2,   10.94,2,    0.00,2,    0.77,2,   3.013,2,   1.676,2,   0.051,2,  2115.3,2,  2302.1,4,   568.0,2,   20.00,   7.8358,2,    25.00,-999.000,9, -999.00,-999.000,9,-999.000,9,    1.25,2,    52.3,2,     3.6,-999.000,9,-999.000,   0.740,4,   43.82,2,  399.50,   0.1400,2,   0.1050,2,   0.0530,2,   0.0350,2,   0.0161,2,   0.0169,2,  12.4278,     -999.0,-999.000,     -999.0,          9,     -999.0,          9,-999.000,          9
 33RO200501,       A16S,      61,          1,         22,         22,2,20050203,       1104,   -31.9987,   -24.9988,       4171,   499.7,  10.9154,  34.9130,2,  34.9078,2,    211.0,2,   210.2,2,    5.98,2,   14.95,2,    0.00,2,    1.01,2,   3.021,2,   1.652,2,   0.077,2,  2127.5,2,  2281.5,4,   642.6,2,   20.00,   7.7947,2,    25.00,-999.000,9, -999.00,-999.000,9,-999.000,9,    1.24,2,    42.8,2,     3.5,-999.000,9,-999.000,   1.006,4,   42.60,2,  499.70,-999.0000,9,-999.0000,9,-999.0000,9,-999.0000,9,-999.0000,9,-999.0000,9,  10.8533,     -999.0,-999.000,     -999.0,          9,     -999.0,          9,-999.000,          9
 33RO200501,       A16S,      61,          1,         21,         21,2,20050203,       1104,   -31.9987,   -24.9988,       4171,   599.4,   8.9244,  34.6743,2,  34.6746,2,    206.0,2,   206.2,2,    9.39,2,   20.16,2,    0.00,2,    1.32,2,   2.950,6,   1.563,6,   0.109,6,  2144.8,2,  2293.9,2,   745.3,2,   20.00,   7.7377,2,    25.00,-999.000,9, -999.00,-999.000,9,-999.000,9,    1.25,2,    27.5,2,     3.8,-999.000,9,-999.000,   1.391,4, -999.00,9,  599.40,-999.0000,9,-999.0000,9,-999.0000,9,-999.0000,9,-999.0000,9,-999.0000,9,   8.8584,     -999.0,-999.000,     -999.0,          9,     -999.0,          9,-999.000,          9
 33RO200501,       A16S,      61,          1,         20,         20,2,20050203,       1104,   -31.9987,   -24.9988,       4171,   700.9,   7.1441,  34.4852,2,  34.4854,2,    212.2,2,   213.9,2,   12.58,2,   24.02,2,    0.00,2,    1.56,2,   2.928,2,   1.508,2,   0.143,2,  2154.5,2,  2289.2,2,   823.4,2,   20.00,   7.6962,2,    25.00,-999.000,9, -999.00,-999.000,9,-999.000,9,    1.25,2,    12.2,2,     3.9,-999.000,9,-999.000,   1.932,4,   40.89,2,  700.90,   0.1620,3,   0.1230,3,   0.0630,3,   0.0430,3,   0.0148,3,   0.0159,3,   7.0758,     -999.0,-999.000,     -999.0,          9,     -999.0,          9,-999.000,          9
 33RO200501,       A16S,      61,          1,         19,         19,2,20050203,       1104,   -31.9987,   -24.9988,       4171,   800.0,   5.6637,  34.3608,2,  34.3587,2,    217.3,2,   220.0,2,   17.43,2,   27.08,2,    0.00,2,    1.76,2,   2.833,2,   1.437,2,   0.151,2,  2166.1,2,  2285.8,6,   885.3,2,   20.00,   7.6705,6,    25.00,-999.000,9, -999.00,-999.000,9,-999.000,9,    1.15,2,   -33.1,2,     3.3,-999.000,9,-999.000,   2.262,4, -999.00,9,  800.00,-999.0000,9,-999.0000,9,-999.0000,9,-999.0000,9,-999.0000,9,-999.0000,9,   5.5943,     -999.0,-999.000,     -999.0,          9,     -999.0,          9,-999.000,          9
 33RO200501,       A16S,      61,          1,         18,         18,2,20050203,       1104,   -31.9987,   -24.9988,       4171,   899.6,   4.7337,  34.3098,2,  34.3095,2,    221.5,2,   222.8,2,   22.45,2,   28.91,2,    0.00,2,    1.88,2,   2.545,2,   1.252,2,   0.132,2,  2172.2,2,  2288.5,2,   922.7,2,   20.00,   7.6504,2,    25.00,-999.000,9, -999.00,-999.000,9,-999.000,9,    1.14,2,   -37.7,2,     3.4,-999.000,9,-999.000,   2.277,4,   39.20,2,  899.60,   0.1670,2,   0.1260,2,   0.0610,2,   0.0390,3,   0.0169,3,   0.0175,3,   4.6615,     -999.0,-999.000,     -999.0,          9,     -999.0,          9,-999.000,          9
 33RO200501,       A16S,      61,          1,         17,         17,2,20050203,       1104,   -31.9987,   -24.9988,       4171,   999.8,   4.0344,  34.2931,2,  34.2916,2,    221.9,2,   223.0,2,   28.15,2,   30.24,2,    0.00,2,    1.98,2,   2.197,2,   1.080,2,   0.110,2,  2181.1,2,  2292.4,2,   967.6,2,   20.00,   7.6403,2,    25.00,-999.000,9, -999.00,-999.000,9,-999.000,9,    1.11,2,   -48.4,2,     3.2,-999.000,9,-999.000,   2.205,4,   39.65,2,  999.80,-999.0000,9,-999.0000,9,-999.0000,9,-999.0000,9,-999.0000,9,-999.0000,9,   3.9588,     -999.0,-999.000,     -999.0,          9,     -999.0,          9,-999.000,          9
 33RO200501,       A16S,      61,          1,         16,         16,2,20050203,       1104,   -31.9987,   -24.9988,       4171,  1100.4,   3.5364,  34.3075,2,  34.3071,2,    218.7,2,   217.5,2,   34.86,2,   31.34,2,    0.00,2,    2.06,2,   1.769,2,   0.863,2,   0.096,2,  2191.4,2,  2296.4,2,  -999.0,9,   20.00,   7.6286,2,    25.00,-999.000,9, -999.00,-999.000,9,-999.000,9,    1.08,2,   -77.7,2,     4.0,-999.000,9,-999.000,   1.923,4,   39.27,2, 1100.40,   0.1190,3,   0.0850,3,   0.0490,3,   0.0340,3,   0.0137,3,   0.0153,3,   3.4566,     -999.0,-999.000,     -999.0,          9,     -999.0,          9,-999.000,          9
 33RO200501,       A16S,      61,          1,         15,         15,2,20050203,       1104,   -31.9987,   -24.9988,       4171,  1199.2,   3.1876,  34.3608,2,  34.3603,2,    207.7,2,   206.2,2,   43.37,2,   32.39,2,    0.00,2,    2.13,2,   1.185,2,   0.579,2,   0.059,2,  2208.2,2,  2305.7,2,  1046.8,2,   20.00,   7.6118,2,    25.00,-999.000,9, -999.00,-999.000,9,-999.000,9,    0.97,2,  -100.0,2,     3.3,-999.000,9,-999.000,   1.447,4,   39.67,2, 1199.20,-999.0000,9,-999.0000,9,-999.0000,9,-999.0000,9,-999.0000,9,-999.0000,9,   3.1029,     -999.0,-999.000,     -999.0,          9,     -999.0,          9,-999.000,          9
 33RO200501,       A16S,      61,          1,         14,         14,2,20050203,       1104,   -31.9987,   -24.9988,       4171,  1299.6,   3.1047,  34.4306,2,  34.4296,2,    197.7,2,   195.8,2,   49.11,2,   32.69,2,    0.00,2,    2.20,2,   0.760,2,   0.370,2,   0.032,2,  2216.3,2,  2313.0,2,  -999.0,9,   20.00,   7.5992,2,    25.00,-999.000,9, -999.00,-999.000,9,-999.000,9,    0.88,2,  -108.8,2,     3.3,-999.000,9,-999.000,   0.998,4,   39.59,2, 1299.60,-999.0000,9,-999.0000,9,-999.0000,9,-999.0000,9,-999.0000,9,-999.0000,9,   3.0126,     -999.0,-999.000,     -999.0,          9,     -999.0,          9,-999.000,          9
 33RO200501,       A16S,      61,          1,         13,         13,2,20050203,       1104,   -31.9987,   -24.9988,       4171,  1499.8,   2.8900,  34.5378,2,  34.5358,2,    188.6,2,   189.2,2,   55.98,2,   32.31,2,    0.00,2,    2.18,2,   0.356,2,   0.167,2,   0.007,2,  2226.5,2,  2322.0,2,  1084.2,2,   20.00,   7.5899,2,    25.00,-999.000,9, -999.00,-999.000,9,-999.000,9,    0.78,2,  -125.0,2,     3.2,-999.000,9,-999.000,   0.522,4,   39.67,2, 1499.80,-999.0000,9,-999.0000,9,-999.0000,9,-999.0000,9,-999.0000,9,-999.0000,9,   2.7836,     -999.0,-999.000,     -999.0,          9,     -999.0,          9,-999.000,          9
 33RO200501,       A16S,      61,          1,         12,         12,2,20050203,       1104,   -31.9987,   -24.9988,       4171,  1699.8,   2.8413,  34.6636,2,  34.6637,2,    193.0,2,   193.8,2,   56.51,2,   30.25,2,    0.00,2,    2.04,2,   0.107,2,   0.052,2,   0.000,2,  2222.9,2,  2327.5,2,  1019.8,2,   20.00,   7.6112,2,    25.00,-999.000,9, -999.00,-999.000,9,-999.000,9,    0.80,2,  -133.9,2,     3.2,-999.000,9,-999.000,   0.223,4, -999.00,9, 1699.80,-999.0000,9,-999.0000,9,-999.0000,9,-999.0000,9,-999.0000,9,-999.0000,9,   2.7183,     -999.0,-999.000,     -999.0,          9,     -999.0,          9,-999.000,          9
 33RO200501,       A16S,      61,          1,         11,         11,2,20050203,       1104,   -31.9987,   -24.9988,       4171,  1899.9,   2.8108,  34.7456,2,  34.7443,2,    202.1,2,   203.6,2,   54.55,2,   28.32,2,    0.00,2,    1.87,2,   0.032,6,   0.021,6,   0.000,6,  2214.5,2,  2330.3,2,   931.5,2,   20.00,   7.6389,2,    25.00,-999.000,9, -999.00,-999.000,9,-999.000,9,    0.84,2,  -134.2,2,     3.2,-999.000,9,-999.000,   0.124,4,   39.63,2, 1899.90,-999.0000,9,-999.0000,9,-999.0000,9,-999.0000,9,-999.0000,9,-999.0000,9,   2.6706,     -999.0,-999.000,     -999.0,          9,     -999.0,          9,-999.000,          9
 33RO200501,       A16S,      61,          1,         10,         10,2,20050203,       1104,   -31.9987,   -24.9988,       4171,  2100.6,   2.7955,  34.8097,2,  34.8090,2,    216.9,2,   217.7,2,   49.52,2,   26.11,2,    0.00,2,    1.71,2,   0.009,2,   0.010,2,   0.000,2,  2204.0,2,  2330.5,2,  -999.0,9,   20.00,   7.6726,2,    25.00,-999.000,9, -999.00,-999.000,9,-999.000,9,    0.94,2,  -124.0,2,     3.1,-999.000,9,-999.000,   0.073,4, -999.00,9, 2100.60,   0.1410,3,   0.1030,3,   0.0590,3,   0.0410,3,   0.0136,3,   0.0149,3,   2.6373,     -999.0,-999.000,     -999.0,          9,     -999.0,          9,-999.000,          9
 33RO200501,       A16S,      61,          1,          9,          9,2,20050203,       1104,   -31.9987,   -24.9988,       4171,  2300.0,   2.7370,  34.8393,2,  34.8391,2,    226.5,2,   227.0,2,   46.64,2,   24.80,2,    0.00,2,    1.62,2,  -0.006,2,   0.007,2,   0.000,2,  2196.3,2,  2329.5,2,   851.0,2,   20.00,   7.6856,2,    25.00,-999.000,9, -999.00,-999.000,9,-999.000,9,    1.04,2,  -115.8,2,     2.7,-999.000,9,-999.000,   0.051,4,   39.28,2, 2300.00,-999.0000,9,-999.0000,9,-999.0000,9,-999.0000,9,-999.0000,9,-999.0000,9,   2.5613,     -999.0,-999.000,     -999.0,          9,     -999.0,          9,-999.000,          9
 33RO200501,       A16S,      61,          1,          8,          8,2,20050203,       1104,   -31.9987,   -24.9988,       4171,  2501.4,   2.7248,  34.8626,2,  34.8623,2,    233.8,2,   233.7,2,   44.01,2,   23.75,2,    0.00,2,    1.55,2,  -0.008,2,   0.002,2,   0.000,2,  2188.7,2,  2329.3,2,   819.2,2,   20.00,   7.7050,2,    25.00,-999.000,9, -999.00,-999.000,9,-999.000,9,    1.04,2,  -113.9,2,     2.5,-999.000,9,-999.000,   0.033,4, -999.00,9, 2501.40,-999.0000,9,-999.0000,9,-999.0000,9,-999.0000,9,-999.0000,9,-999.0000,9,   2.5301,     -999.0,-999.000,     -999.0,          9,     -999.0,          9,-999.000,          9