BOTTLE,20220818CCHSIOAMB
EXPOCODE,SECT_ID,STNNBR,CASTNO,SAMPNO,BTLNBR,BTLNBR_FLAG_W,DATE,TIME,LATITUDE,LONGITUDE,DEPTH,CTDPRS,CTDTMP,CTDSAL,CTDSAL_FLAG_W,SALNTY,SALNTY_FLAG_W,CTDOXY,CTDOXY_FLAG_W,OXYGEN,OXYGEN_FLAG_W,SILCAT,SILCAT_FLAG_W,NITRAT,NITRAT_FLAG_W,NITRIT,NITRIT_FLAG_W,PHSPHT,PHSPHT_FLAG_W,CFC-11,CFC-11_FLAG_W,CFC-12,CFC-12_FLAG_W,CFC113,CFC113_FLAG_W,TCARBN,TCARBN_FLAG_W,ALKALI,ALKALI_FLAG_W,PCO2,PCO2_FLAG_W,PCO2TMP,PH_SWS,PH_SWS_FLAG_W,PH_TMP,TRITUM,TRITUM_FLAG_W,TRITER,HELIUM,HELIUM_FLAG_W,DELHE3,DELHE3_FLAG_W,DELC13,DELC13_FLAG_W,DELC14,DELC14_FLAG_W,C14ERR,NEON,NEON_FLAG_W,NEONER,CCL4,CCL4_FLAG_W,DOC,DOC_FLAG_W,CTDRAW,CDOM325,CDOM325_FLAG_W,CDOM340,CDOM340_FLAG_W,CDOM380,CDOM380_FLAG_W,CDOM412,CDOM412_FLAG_W,CDOMSL,CDOMSL_FLAG_W,CDOMSN,CDOMSN_FLAG_W,THETA,HELIER,DELHER,CH3CL,CH3CL_FLAG_W,CH3BR,CH3BR_FLAG_W,CH3I,CH3I_FLAG_W
,,,,,,,,,,,METERS,DBAR,ITS-90,PSS-78,,PSS-78,,UMOL/KG,,UMOL/KG,,UMOL/KG,,UMOL/KG,,UMOL/KG,,UMOL/KG,,PMOL/KG,,PMOL/KG,,PMOL/KG,,UMOL/KG,,UMOL/KG,,UATM,,DEG C,,,DEG C,TU,,TU,NMOL/KG,,PERCNT,,/MILLE,,/MILLE,,/MILLE,NMOL/KG,,NMOL/KG,PMOL/KG,,UMOL/KG,,DBAR,1/M,,1/M,,1/M,,1/M,,1/NM,,1/NM,,DEG C,NMOL/KG,PERCNT,PMOL/KG,,PMOL/KG,,PMOL/KG,
 33RO200501,       A16S,      78,          1,         36,         36,2,20050208,       1802,   -23.4987,   -25.0003,       5354,     2.1,  25.3467,  36.4685,2,  36.4907,2,    208.5,2,   209.0,2,    1.98,2,    0.00,2,    0.00,2,    0.07,2,   1.750,2,   1.131,2,   0.160,2,  2074.1,6,  2390.6,6,  -999.0,9,   20.00,   8.0457,6,    25.00,   0.536,2,    0.01,-999.000,9,-999.000,9, -999.00,9,  -999.0,9,  -999.0,-999.000,9,-999.000,   1.447,4, -999.00,9,    2.10,-999.0000,9,-999.0000,9,-999.0000,9,-999.0000,9,-999.0000,9,-999.0000,9,  25.3463,     -999.0,-999.000,     69.638,          2,      1.143,          2,   2.431,          2
 33RO200501,       A16S,      78,          1,         35,         35,2,20050208,       1802,   -23.4987,   -25.0003,       5354,    23.7,  25.2794,  36.6704,2,  36.6628,2,    208.3,2,   209.3,2,    1.94,2,    0.00,2,    0.00,2,    0.07,2,-999.000,9,-999.000,9,-999.000,9,  -999.0,9,  -999.0,9,  -999.0,9,   20.00,-999.0000,9,    25.00,-999.000,9, -999.00,-999.000,9,-999.000,9, -999.00,9,  -999.0,9,  -999.0,-999.000,9,-999.000,-999.000,9, -999.00,9,   23.70,-999.0000,9,-999.0000,9,-999.0000,9,-999.0000,9,-999.0000,9,-999.0000,9,  25.2741,     -999.0,-999.000,     82.820,          2,      0.864,          2,   2.797,          2
 33RO200501,       A16S,      78,          1,         34,         34,2,20050208,       1802,   -23.4987,   -25.0003,       5354,    54.0,  21.2928,  36.2881,2,  36.2911,2,    238.3,2,   236.9,2,    2.07,2,    0.01,2,    0.00,2,    0.11,2,-999.000,9,-999.000,9,-999.000,9,  -999.0,9,  -999.0,9,  -999.0,9,   20.00,-999.0000,9,    25.00,-999.000,9, -999.00,-999.000,9,-999.000,9, -999.00,9,  -999.0,9,  -999.0,-999.000,9,-999.000,-999.000,9, -999.00,9,   54.00,-999.0000,9,-999.0000,9,-999.0000,9,-999.0000,9,-999.0000,9,-999.0000,9,  21.2823,     -999.0,-999.000,    202.922,          2,      1.096,          2,   5.699,          2
 33RO200501,       A16S,      78,          1,         33,         33,2,20050208,       1802,   -23.4987,   -25.0003,       5354,    85.0,  19.6503,  36.0655,2,  36.0576,2,    236.3,2,   236.9,2,    2.36,2,    0.03,2,    0.00,2,    0.13,2,   2.281,2,   1.419,2,   0.193,2,  2072.2,2,  2359.9,2,  -999.0,9,   20.00,   8.0105,2,    25.00,-999.000,9, -999.00,-999.000,9,-999.000,9, -999.00,9,  -999.0,9,  -999.0,-999.000,9,-999.000,   1.122,4, -999.00,9,   85.00,-999.0000,9,-999.0000,9,-999.0000,9,-999.0000,9,-999.0000,9,-999.0000,9,  19.6348,     -999.0,-999.000,     -999.0,          9,     -999.0,          9,-999.000,          9
 33RO200501,       A16S,      78,          1,         32,         32,2,20050208,       1802,   -23.4987,   -25.0003,       5354,   113.9,  17.4035,  35.7881,2,  35.7867,2,    230.3,2,   224.3,2,    3.14,2,    0.26,2,    0.03,2,    0.22,2,-999.000,9,-999.000,9,-999.000,9,  -999.0,9,  -999.0,9,  -999.0,9,   20.00,-999.0000,9,    25.00,   0.557,2,    0.01,-999.000,9,-999.000,9, -999.00,9,  -999.0,9,  -999.0,-999.000,9,-999.000,-999.000,9, -999.00,9,  113.90,-999.0000,9,-999.0000,9,-999.0000,9,-999.0000,9,-999.0000,9,-999.0000,9,  17.3844,     -999.0,-999.000,     24.370,          2,      0.274,          2,   1.443,          2
 33RO200501,       A16S,      78,          1,         31,         31,2,20050208,       1802,   -23.4987,   -25.0003,       5354,   165.2,  16.8907,  35.7366,2,  35.7353,2,    212.1,2,   213.1,2,    3.55,2,    3.78,2,    0.02,2,    0.36,2,-999.000,9,-999.000,9,-999.000,9,  -999.0,9,  -999.0,9,  -999.0,9,   20.00,-999.0000,9,    25.00,-999.000,9, -999.00,-999.000,9,-999.000,9, -999.00,9,  -999.0,9,  -999.0,-999.000,9,-999.000,-999.000,9, -999.00,9,  165.20,-999.0000,9,-999.0000,9,-999.0000,9,-999.0000,9,-999.0000,9,-999.0000,9,  16.8634,     -999.0,-999.000,     -999.0,          9,     -999.0,          9,-999.000,          9
 33RO200501,       A16S,      78,          1,         30,         30,2,20050208,       1802,   -23.4987,   -25.0003,       5354,   214.5,  15.7934,  35.6067,2,  35.6063,2,    209.5,2,   212.0,2,    3.89,2,    5.33,2,    0.01,2,    0.45,2,-999.000,9,-999.000,9,-999.000,9,  -999.0,9,  -999.0,9,  -999.0,9,   20.00,-999.0000,9,    25.00,   0.537,2,    0.01,-999.000,9,-999.000,9, -999.00,9,  -999.0,9,  -999.0,-999.000,9,-999.000,-999.000,9, -999.00,9,  214.50,-999.0000,9,-999.0000,9,-999.0000,9,-999.0000,9,-999.0000,9,-999.0000,9,  15.7596,     -999.0,-999.000,      4.245,          2,      0.199,          2,   0.033,          2
 33RO200501,       A16S,      78,          1,         29,         29,2,20050208,       1802,   -23.4987,   -25.0003,       5354,   265.1,  15.4045,  35.5774,2,  35.5759,2,    217.6,2,   220.6,2,    3.90,2,    5.42,2,    0.00,2,    0.45,2,   2.688,2,   1.619,2,   0.044,2,  2094.0,2,  2324.6,2,  -999.0,9,   20.00,   7.9205,2,    25.00,-999.000,9, -999.00,-999.000,9,-999.000,9, -999.00,9,  -999.0,9,  -999.0,-999.000,9,-999.000,   0.502,4, -999.00,9,  265.10,-999.0000,9,-999.0000,9,-999.0000,9,-999.0000,9,-999.0000,9,-999.0000,9,  15.3634,     -999.0,-999.000,     -999.0,          9,     -999.0,          9,-999.000,          9
 33RO200501,       A16S,      78,          1,         28,         28,2,20050208,       1802,   -23.4987,   -25.0003,       5354,   314.1,  15.1443,  35.5335,2,  35.5343,2,    217.5,2,   220.0,2,    3.82,2,    5.75,2,    0.00,2,    0.47,2,-999.000,9,-999.000,9,-999.000,9,  -999.0,9,  -999.0,9,  -999.0,9,   20.00,-999.0000,9,    25.00,   0.541,2,    0.01,-999.000,9,-999.000,9, -999.00,9,  -999.0,9,  -999.0,-999.000,9,-999.000,-999.000,9, -999.00,9,  314.10,-999.0000,9,-999.0000,9,-999.0000,9,-999.0000,9,-999.0000,9,-999.0000,9,  15.0960,     -999.0,-999.000,      4.483,          2,      0.322,          2,   0.020,          2
 33RO200501,       A16S,      78,          1,         27,         27,2,20050208,       1802,   -23.4987,   -25.0003,       5354,   365.9,  14.0719,  35.3584,2,  35.3560,2,    212.2,2,   214.1,2,    4.29,2,    7.82,2,    0.00,2,    0.61,2,-999.000,9,-999.000,9,-999.000,9,  -999.0,9,  -999.0,9,  -999.0,9,   20.00,-999.0000,9,    25.00,-999.000,9, -999.00,-999.000,9,-999.000,9, -999.00,9,  -999.0,9,  -999.0,-999.000,9,-999.000,-999.000,9, -999.00,9,  365.90,-999.0000,9,-999.0000,9,-999.0000,9,-999.0000,9,-999.0000,9,-999.0000,9,  14.0184,     -999.0,-999.000,     -999.0,          9,     -999.0,          9,-999.000,          9
 33RO200501,       A16S,      78,          1,         26,         26,2,20050208,       1802,   -23.4987,   -25.0003,       5354,   450.5,  12.4012,  35.1251,2,  35.1247,2,    209.4,2,   211.2,2,    5.45,2,   11.56,2,    0.00,2,    0.83,2,-999.000,9,-999.000,9,-999.000,9,  -999.0,9,  -999.0,9,  -999.0,9,   20.00,-999.0000,9,    25.00,   0.390,2,    0.01,-999.000,9,-999.000,9, -999.00,9,  -999.0,9,  -999.0,-999.000,9,-999.000,-999.000,9, -999.00,9,  450.50,-999.0000,9,-999.0000,9,-999.0000,9,-999.0000,9,-999.0000,9,-999.0000,9,  12.3404,     -999.0,-999.000,      6.184,          2,      0.175,          2,   0.017,          2
 33RO200501,       A16S,      78,          1,         25,         25,2,20050208,       1802,   -23.4987,   -25.0003,       5354,   549.4,  10.7658,  34.9087,2,  34.9092,2,    209.1,2,   209.9,2,    7.47,2,   15.31,2,    0.00,2,    1.05,2,   2.829,2,   1.531,2,   0.068,2,  2131.9,2,  2299.6,2,  -999.0,9,   20.00,   7.7900,2,    25.00,-999.000,9, -999.00,-999.000,9,-999.000,9, -999.00,9,  -999.0,9,  -999.0,-999.000,9,-999.000,   0.982,4, -999.00,9,  549.40,-999.0000,9,-999.0000,9,-999.0000,9,-999.0000,9,-999.0000,9,-999.0000,9,  10.6979,     -999.0,-999.000,     -999.0,          9,     -999.0,          9,-999.000,          9
 33RO200501,       A16S,      78,          1,         24,         24,2,20050208,       1802,   -23.4987,   -25.0003,       5354,   649.6,   8.9523,  34.6968,2,  34.6951,2,    199.1,2,   198.8,2,   12.68,2,   20.57,2,    0.00,2,    1.39,2,-999.000,9,-999.000,9,-999.000,9,  -999.0,9,  -999.0,9,  -999.0,9,   20.00,-999.0000,9,    25.00,-999.000,9, -999.00,-999.000,9,-999.000,9, -999.00,9,  -999.0,9,  -999.0,-999.000,9,-999.000,-999.000,9, -999.00,9,  649.60,-999.0000,9,-999.0000,9,-999.0000,9,-999.0000,9,-999.0000,9,-999.0000,9,   8.8804,     -999.0,-999.000,      3.869,          2,      0.221,          2,   0.016,          2
 33RO200501,       A16S,      78,          1,         23,         23,2,20050208,       1802,   -23.4987,   -25.0003,       5354,   748.5,   6.9286,  34.4989,2,  34.4967,2,    200.3,2,   201.5,2,   17.75,2,   25.22,2,    0.00,2,    1.67,2,-999.000,9,-999.000,9,-999.000,9,  -999.0,9,  -999.0,9,  -999.0,9,   20.00,-999.0000,9,    25.00,-999.000,9, -999.00,-999.000,9,-999.000,9, -999.00,9,  -999.0,9,  -999.0,-999.000,9,-999.000,-999.000,9, -999.00,9,  748.50,-999.0000,9,-999.0000,9,-999.0000,9,-999.0000,9,-999.0000,9,-999.0000,9,   6.8567,     -999.0,-999.000,     -999.0,          9,     -999.0,          9,-999.000,          9
 33RO200501,       A16S,      78,          1,         21,         21,2,20050208,       1802,   -23.4987,   -25.0003,       5354,   948.7,   4.2048,  34.3696,2,  34.3689,2,    199.7,2,   198.1,2,   33.83,2,   31.10,2,    0.00,2,    2.07,2,-999.000,9,-999.000,9,-999.000,9,  -999.0,9,  -999.0,9,  -999.0,9,   20.00,-999.0000,9,    25.00,-999.000,9, -999.00,-999.000,9,-999.000,9, -999.00,9,  -999.0,9,  -999.0,-999.000,9,-999.000,-999.000,9, -999.00,9,  948.70,-999.0000,9,-999.0000,9,-999.0000,9,-999.0000,9,-999.0000,9,-999.0000,9,   4.1321,     -999.0,-999.000,      2.352,          2,      0.186,          2,   0.006,          2
 33RO200501,       A16S,      78,          1,         22,         22,2,20050208,       1802,   -23.4987,   -25.0003,       5354,   949.1,   4.2151,  34.3688,2,  34.3752,2,    199.7,2,   197.9,2,   33.77,2,   31.09,2,    0.00,2,    2.08,2,-999.000,9,-999.000,9,-999.000,9,  -999.0,9,  -999.0,9,  -999.0,9,   20.00,-999.0000,9,    25.00,-999.000,9, -999.00,-999.000,9,-999.000,9, -999.00,9,  -999.0,9,  -999.0,-999.000,9,-999.000,-999.000,9, -999.00,9,  949.10,-999.0000,9,-999.0000,9,-999.0000,9,-999.0000,9,-999.0000,9,-999.0000,9,   4.1423,     -999.0,-999.000,     -999.0,          9,     -999.0,          9,-999.000,          9
 33RO200501,       A16S,      78,          1,         20,         20,2,20050208,       1802,   -23.4987,   -25.0003,       5354,  1049.8,   3.7895,  34.4047,2,  34.4047,2,    191.3,2,   191.6,2,   40.94,2,   31.90,2,    0.00,2,    2.14,2,   1.012,2,   0.496,2,   0.050,2,  2212.5,2,  2302.3,2,  -999.0,9,   20.00,   7.5937,2,    25.00,-999.000,9, -999.00,-999.000,9,-999.000,9, -999.00,9,  -999.0,9,  -999.0,-999.000,9,-999.000,   1.178,4, -999.00,9, 1049.80,-999.0000,9,-999.0000,9,-999.0000,9,-999.0000,9,-999.0000,9,-999.0000,9,   3.7115,     -999.0,-999.000,     -999.0,          9,     -999.0,          9,-999.000,          9
 33RO200501,       A16S,      78,          1,         19,         19,2,20050208,       1802,   -23.4987,   -25.0003,       5354,  1148.9,   3.4929,  34.4843,2,  34.4887,2,    184.0,2,   184.2,2,   45.63,2,   31.95,2,    0.00,2,    2.14,2,-999.000,9,-999.000,9,-999.000,9,  -999.0,9,  -999.0,9,  -999.0,9,   20.00,-999.0000,9,    25.00,-999.000,9, -999.00,-999.000,9,-999.000,9, -999.00,9,  -999.0,9,  -999.0,-999.000,9,-999.000,-999.000,9, -999.00,9, 1148.90,-999.0000,9,-999.0000,9,-999.0000,9,-999.0000,9,-999.0000,9,-999.0000,9,   3.4092,     -999.0,-999.000,     -999.0,          9,     -999.0,          9,-999.000,          9
 33RO200501,       A16S,      78,          1,         18,         18,9,20050208,       1802,   -23.4987,   -25.0003,       5354,  1298.5,   3.3588,  34.6035,2,-999.0000,9,   -999.0,9,  -999.0,9, -999.00,9, -999.00,9, -999.00,9, -999.00,9,-999.000,9,-999.000,9,-999.000,9,  -999.0,9,  -999.0,9,  -999.0,9,   20.00,-999.0000,9,    25.00,-999.000,9, -999.00,-999.000,9,-999.000,9, -999.00,9,  -999.0,9,  -999.0,-999.000,9,-999.000,-999.000,9, -999.00,9, 1298.50,-999.0000,9,-999.0000,9,-999.0000,9,-999.0000,9,-999.0000,9,-999.0000,9,   3.2638,     -999.0,-999.000,     -999.0,          9,     -999.0,          9,-999.000,          9
 33RO200501,       A16S,      78,          1,         17,         17,2,20050208,       1802,   -23.4987,   -25.0003,       5354,  1496.9,   3.2381,  34.7448,2,  34.7525,2,    202.6,2,   202.8,2,   43.70,2,   27.30,2,    0.00,2,    1.82,2,-999.000,9,-999.000,9,-999.000,9,  -999.0,9,  -999.0,9,  -999.0,9,   20.00,-999.0000,9,    25.00,-999.000,9, -999.00,-999.000,9,-999.000,9, -999.00,9,  -999.0,9,  -999.0,-999.000,9,-999.000,-999.000,9, -999.00,9, 1496.90,-999.0000,9,-999.0000,9,-999.0000,9,-999.0000,9,-999.0000,9,-999.0000,9,   3.1273,     -999.0,-999.000,      2.366,          2,      0.571,          2,   0.004,          2
 33RO200501,       A16S,      78,          1,         16,         16,2,20050208,       1802,   -23.4987,   -25.0003,       5354,  1700.1,   3.2069,  34.8430,2,  34.8428,2,    220.4,2,   222.6,2,   37.65,2,   24.18,2,    0.00,2,    1.60,2,-999.000,9,-999.000,9,-999.000,9,  -999.0,9,  -999.0,9,  -999.0,9,   20.00,-999.0000,9,    25.00,-999.000,9, -999.00,-999.000,9,-999.000,9, -999.00,9,  -999.0,9,  -999.0,-999.000,9,-999.000,-999.000,9, -999.00,9, 1700.10,-999.0000,9,-999.0000,9,-999.0000,9,-999.0000,9,-999.0000,9,-999.0000,9,   3.0786,     -999.0,-999.000,     -999.0,          9,     -999.0,          9,-999.000,          9
 33RO200501,       A16S,      78,          1,         15,         15,2,20050208,       1802,   -23.4987,   -25.0003,       5354,  1898.7,   3.2361,  34.9038,2,  34.9040,2,    236.4,2,   237.7,2,   30.95,2,   21.83,2,    0.00,2,    1.42,2,-999.000,9,-999.000,9,-999.000,9,  -999.0,9,  -999.0,9,  -999.0,9,   20.00,-999.0000,9,    25.00,-999.000,9, -999.00,-999.000,9,-999.000,9, -999.00,9,  -999.0,9,  -999.0,-999.000,9,-999.000,-999.000,9, -999.00,9, 1898.70,-999.0000,9,-999.0000,9,-999.0000,9,-999.0000,9,-999.0000,9,-999.0000,9,   3.0895,     -999.0,-999.000,      1.919,          2,      0.294,          2,   0.006,          2
 33RO200501,       A16S,      78,          1,         14,         14,2,20050208,       1802,   -23.4987,   -25.0003,       5354,  2099.5,   3.2194,  34.9376,2,  34.9376,2,    246.8,2,   248.2,2,   26.80,2,   20.31,2,    0.00,2,    1.32,2,   0.028,2,   0.019,2,   0.000,2,  2176.3,2,  2316.4,2,  -999.0,9,   20.00,   7.7283,2,    25.00,-999.000,9, -999.00,-999.000,9,-999.000,9, -999.00,9,  -999.0,9,  -999.0,-999.000,9,-999.000,   0.144,4, -999.00,9, 2099.50,-999.0000,9,-999.0000,9,-999.0000,9,-999.0000,9,-999.0000,9,-999.0000,9,   3.0542,     -999.0,-999.000,     -999.0,          9,     -999.0,          9,-999.000,          9
 33RO200501,       A16S,      78,          1,         13,         13,2,20050208,       1802,   -23.4987,   -25.0003,       5354,  2298.8,   3.0930,  34.9387,2,  34.9386,2,    250.0,2,   250.7,2,   27.68,2,   20.13,2,    0.00,2,    1.31,2,-999.000,9,-999.000,9,-999.000,9,  -999.0,9,  -999.0,9,  -999.0,9,   20.00,-999.0000,9,    25.00,-999.000,9, -999.00,-999.000,9,-999.000,9, -999.00,9,  -999.0,9,  -999.0,-999.000,9,-999.000,-999.000,9, -999.00,9, 2298.80,-999.0000,9,-999.0000,9,-999.0000,9,-999.0000,9,-999.0000,9,-999.0000,9,   2.9110,     -999.0,-999.000,     -999.0,          9,     -999.0,          9,-999.000,          9
 33RO200501,       A16S,      78,          1,         12,         12,2,20050208,       1802,   -23.4987,   -25.0003,       5354,  2500.2,   2.9735,  34.9333,2,  34.9327,2,    250.5,2,   250.6,2,   29.52,2,   20.23,2,    0.00,2,    1.32,2,-999.000,9,-999.000,9,-999.000,9,  -999.0,9,  -999.0,9,  -999.0,9,   20.00,-999.0000,9,    25.00,-999.000,9, -999.00,-999.000,9,-999.000,9, -999.00,9,  -999.0,9,  -999.0,-999.000,9,-999.000,-999.000,9, -999.00,9, 2500.20,-999.0000,9,-999.0000,9,-999.0000,9,-999.0000,9,-999.0000,9,-999.0000,9,   2.7740,     -999.0,-999.000,      3.742,          2,      0.275,          2,   0.013,          2
 33RO200501,       A16S,      78,          1,         11,         11,2,20050208,       1802,   -23.4987,   -25.0003,       5354,  2699.8,   2.8814,  34.9282,2,  34.9280,2,    250.5,2,   250.6,2,   31.10,2,   20.35,2,    0.00,2,    1.33,2,   0.013,2,   0.009,2,   0.000,2,  -999.0,9,  -999.0,9,  -999.0,9,   20.00,-999.0000,9,    25.00,-999.000,9, -999.00,-999.000,9,-999.000,9, -999.00,9,  -999.0,9,  -999.0,-999.000,9,-999.000,   0.083,4, -999.00,9, 2699.80,-999.0000,9,-999.0000,9,-999.0000,9,-999.0000,9,-999.0000,9,-999.0000,9,   2.6640,     -999.0,-999.000,     -999.0,          9,     -999.0,          9,-999.000,          9
 33RO200501,       A16S,      78,          1,         10,         10,2,20050208,       1802,   -23.4987,   -25.0003,       5354,  2949.1,   2.7672,  34.9213,2,  34.9209,2,    250.6,2,   251.2,2,   33.22,2,   20.47,2,    0.00,2,    1.34,2,-999.000,9,-999.000,9,-999.000,9,  -999.0,9,  -999.0,9,  -999.0,9,   20.00,-999.0000,9,    25.00,-999.000,9, -999.00,-999.000,9,-999.000,9, -999.00,9,  -999.0,9,  -999.0,-999.000,9,-999.000,-999.000,9, -999.00,9, 2949.10,-999.0000,9,-999.0000,9,-999.0000,9,-999.0000,9,-999.0000,9,-999.0000,9,   2.5268,     -999.0,-999.000,      3.623,          2,      0.046,          2,   0.008,          2
 33RO200501,       A16S,      78,          1,          9,          9,2,20050208,       1802,   -23.4987,   -25.0003,       5354,  3250.3,   2.6289,  34.9114,2,  34.9115,2,    250.8,2,   251.4,2,   36.24,2,   20.68,2,    0.00,2,    1.36,2,   0.011,2,   0.007,2,   0.000,2,  2182.1,2,  2325.5,2,  -999.0,9,   20.00,   7.7305,2,    25.00,-999.000,9, -999.00,-999.000,9,-999.000,9, -999.00,9,  -999.0,9,  -999.0,-999.000,9,-999.000,   0.053,4, -999.00,9, 3250.30,-999.0000,9,-999.0000,9,-999.0000,9,-999.0000,9,-999.0000,9,-999.0000,9,   2.3601,     -999.0,-999.000,     -999.0,          9,     -999.0,          9,-999.000,          9
 33RO200501,       A16S,      78,          1,          8,          8,2,20050208,       1802,   -23.4987,   -25.0003,       5354,  3548.9,   2.4334,  34.8930,2,  34.8932,2,    249.3,2,   249.9,2,   42.62,2,   21.45,2,    0.00,2,    1.42,2,-999.000,9,-999.000,9,-999.000,9,  -999.0,9,  -999.0,9,  -999.0,9,   20.00,-999.0000,9,    25.00,-999.000,9, -999.00,-999.000,9,-999.000,9, -999.00,9,  -999.0,9,  -999.0,-999.000,9,-999.000,-999.000,9, -999.00,9, 3548.90,-999.0000,9,-999.0000,9,-999.0000,9,-999.0000,9,-999.0000,9,-999.0000,9,   2.1374,     -999.0,-999.000,      2.803,          2,      0.070,          2,   0.021,          2