BOTTLE,20220818CCHSIOAMB
EXPOCODE,SECT_ID,STNNBR,CASTNO,SAMPNO,BTLNBR,BTLNBR_FLAG_W,DATE,TIME,LATITUDE,LONGITUDE,DEPTH,CTDPRS,CTDTMP,CTDSAL,CTDSAL_FLAG_W,SALNTY,SALNTY_FLAG_W,CTDOXY,CTDOXY_FLAG_W,OXYGEN,OXYGEN_FLAG_W,SILCAT,SILCAT_FLAG_W,NITRAT,NITRAT_FLAG_W,NITRIT,NITRIT_FLAG_W,PHSPHT,PHSPHT_FLAG_W,CFC-11,CFC-11_FLAG_W,CFC-12,CFC-12_FLAG_W,CFC113,CFC113_FLAG_W,TCARBN,TCARBN_FLAG_W,ALKALI,ALKALI_FLAG_W,PCO2,PCO2_FLAG_W,PCO2TMP,PH_SWS,PH_SWS_FLAG_W,PH_TMP,TRITUM,TRITUM_FLAG_W,TRITER,HELIUM,HELIUM_FLAG_W,DELHE3,DELHE3_FLAG_W,DELC13,DELC13_FLAG_W,DELC14,DELC14_FLAG_W,C14ERR,NEON,NEON_FLAG_W,NEONER,CCL4,CCL4_FLAG_W,DOC,DOC_FLAG_W,CTDRAW,CDOM325,CDOM325_FLAG_W,CDOM340,CDOM340_FLAG_W,CDOM380,CDOM380_FLAG_W,CDOM412,CDOM412_FLAG_W,CDOMSL,CDOMSL_FLAG_W,CDOMSN,CDOMSN_FLAG_W,THETA,HELIER,DELHER,CH3CL,CH3CL_FLAG_W,CH3BR,CH3BR_FLAG_W,CH3I,CH3I_FLAG_W
,,,,,,,,,,,METERS,DBAR,ITS-90,PSS-78,,PSS-78,,UMOL/KG,,UMOL/KG,,UMOL/KG,,UMOL/KG,,UMOL/KG,,UMOL/KG,,PMOL/KG,,PMOL/KG,,PMOL/KG,,UMOL/KG,,UMOL/KG,,UATM,,DEG C,,,DEG C,TU,,TU,NMOL/KG,,PERCNT,,/MILLE,,/MILLE,,/MILLE,NMOL/KG,,NMOL/KG,PMOL/KG,,UMOL/KG,,DBAR,1/M,,1/M,,1/M,,1/M,,1/NM,,1/NM,,DEG C,NMOL/KG,PERCNT,PMOL/KG,,PMOL/KG,,PMOL/KG,
 33RO200501,       A16S,     116,          1,         36,         36,2,20050220,       0613,    -4.5002,   -25.0000,       5532,     2.5,  27.9794,  36.0453,2,  36.0464,2,    198.1,2,   198.2,2,    1.22,2,    0.02,2,    0.00,2,    0.03,2,   1.596,2,   1.034,2,   0.120,2,  2028.6,6,  2360.2,6,  -999.0,9,   20.00,   8.0761,6,    25.00,-999.000,9, -999.00,-999.000,9,-999.000,9, -999.00,9,  -999.0,9,  -999.0,-999.000,9,-999.000,   1.334,4, -999.00,9,    2.50,-999.0000,9,-999.0000,9,-999.0000,9,-999.0000,9,-999.0000,9,-999.0000,9,  27.9788,     -999.0,-999.000,     73.196,          2,      0.862,          2,   2.978,          2
 33RO200501,       A16S,     116,          1,         35,         35,2,20050220,       0613,    -4.5002,   -25.0000,       5532,    24.7,  27.9913,  36.0449,2,  36.0456,2,    197.8,2,   198.4,2,    1.16,2,    0.01,2,    0.00,2,    0.03,2,-999.000,9,-999.000,9,-999.000,9,  -999.0,9,  -999.0,9,  -999.0,9,   20.00,-999.0000,9,    25.00,-999.000,9, -999.00,-999.000,9,-999.000,9, -999.00,9,  -999.0,9,  -999.0,-999.000,9,-999.000,-999.000,9, -999.00,9,   24.70,-999.0000,9,-999.0000,9,-999.0000,9,-999.0000,9,-999.0000,9,-999.0000,9,  27.9855,     -999.0,-999.000,     -999.0,          9,     -999.0,          9,-999.000,          9
 33RO200501,       A16S,     116,          1,         34,         34,2,20050220,       0613,    -4.5002,   -25.0000,       5532,    49.2,  27.1105,  36.2059,2,  36.2077,2,    205.1,2,   203.9,2,    1.19,2,    0.05,2,    0.00,2,    0.09,2,-999.000,9,-999.000,9,-999.000,9,  -999.0,9,  -999.0,9,  -999.0,9,   20.00,-999.0000,9,    25.00,-999.000,9, -999.00,-999.000,9,-999.000,9, -999.00,9,  -999.0,9,  -999.0,-999.000,9,-999.000,-999.000,9, -999.00,9,   49.20,-999.0000,9,-999.0000,9,-999.0000,9,-999.0000,9,-999.0000,9,-999.0000,9,  27.0991,     -999.0,-999.000,    124.732,          2,      0.794,          2,   4.131,          2
 33RO200501,       A16S,     116,          1,         33,         33,2,20050220,       0613,    -4.5002,   -25.0000,       5532,    71.3,  25.2832,  36.3260,2,  36.3252,2,    205.6,2,   204.9,2,    1.23,2,    0.08,2,    0.01,2,    0.13,2,-999.000,9,-999.000,9,-999.000,9,  -999.0,9,  -999.0,9,  -999.0,9,   20.00,-999.0000,9,    25.00,-999.000,9, -999.00,-999.000,9,-999.000,9, -999.00,9,  -999.0,9,  -999.0,-999.000,9,-999.000,-999.000,9, -999.00,9,   71.30,-999.0000,9,-999.0000,9,-999.0000,9,-999.0000,9,-999.0000,9,-999.0000,9,  25.2675,     -999.0,-999.000,     -999.0,          9,     -999.0,          9,-999.000,          9
 33RO200501,       A16S,     116,          1,         32,         32,2,20050220,       0613,    -4.5002,   -25.0000,       5532,    84.1,  23.5949,  36.2213,2,  36.2184,2,    183.4,2,   184.8,2,    1.83,2,    0.93,2,    0.05,2,    0.30,2,   1.833,2,   1.168,2,   0.120,2,  2090.3,2,  2375.8,2,  -999.0,9,   20.00,   7.9965,2,    25.00,-999.000,9, -999.00,-999.000,9,-999.000,9, -999.00,9,  -999.0,9,  -999.0,-999.000,9,-999.000,   0.754,4, -999.00,9,   84.10,-999.0000,9,-999.0000,9,-999.0000,9,-999.0000,9,-999.0000,9,-999.0000,9,  23.5773,     -999.0,-999.000,    104.997,          2,      0.916,          2,   2.849,          2
 33RO200501,       A16S,     116,          1,         31,         31,2,20050220,       0613,    -4.5002,   -25.0000,       5532,    99.7,  18.2179,  35.8410,2,  35.8488,2,    119.6,2,   118.1,2,    4.43,2,   14.21,2,    0.38,2,    1.02,2,-999.000,9,-999.000,9,-999.000,9,  -999.0,9,  -999.0,9,  -999.0,9,   20.00,-999.0000,9,    25.00,-999.000,9, -999.00,-999.000,9,-999.000,9, -999.00,9,  -999.0,9,  -999.0,-999.000,9,-999.000,-999.000,9, -999.00,9,   99.70,-999.0000,9,-999.0000,9,-999.0000,9,-999.0000,9,-999.0000,9,-999.0000,9,  18.2006,     -999.0,-999.000,     -999.0,          9,     -999.0,          9,-999.000,          9
 33RO200501,       A16S,     116,          1,         30,         30,2,20050220,       0613,    -4.5002,   -25.0000,       5532,   116.3,  15.9866,  35.6080,2,  35.6080,2,    100.3,2,    97.7,2,    6.03,2,   19.34,2,    0.25,2,    1.27,2,-999.000,9,-999.000,9,-999.000,9,  -999.0,9,  -999.0,9,  -999.0,9,   20.00,-999.0000,9,    25.00,-999.000,9, -999.00,-999.000,9,-999.000,9, -999.00,9,  -999.0,9,  -999.0,-999.000,9,-999.000,-999.000,9, -999.00,9,  116.30,-999.0000,9,-999.0000,9,-999.0000,9,-999.0000,9,-999.0000,9,-999.0000,9,  15.9681,     -999.0,-999.000,     20.671,          2,      0.435,          2,   0.506,          2
 33RO200501,       A16S,     116,          1,         29,         29,2,20050220,       0613,    -4.5002,   -25.0000,       5532,   150.0,  13.6588,  35.3604,2,  35.3620,2,     94.4,2,    98.9,2,    8.00,2,   22.31,2,    0.01,2,    1.42,2,-999.000,9,-999.000,9,-999.000,9,  -999.0,9,  -999.0,9,  -999.0,9,   20.00,-999.0000,9,    25.00,-999.000,9, -999.00,-999.000,9,-999.000,9, -999.00,9,  -999.0,9,  -999.0,-999.000,9,-999.000,-999.000,9, -999.00,9,  150.00,-999.0000,9,-999.0000,9,-999.0000,9,-999.0000,9,-999.0000,9,-999.0000,9,  13.6374,     -999.0,-999.000,     -999.0,          9,     -999.0,          9,-999.000,          9
 33RO200501,       A16S,     116,          1,         28,         28,2,20050220,       0613,    -4.5002,   -25.0000,       5532,   200.0,  12.3206,  35.1846,2,  35.1841,2,    112.2,2,   111.7,2,    9.05,2,   23.08,2,    0.01,2,    1.47,2,   1.745,2,   0.953,2,   0.019,2,  2189.4,2,  2314.0,2,  -999.0,9,   20.00,   7.6758,2,    25.00,-999.000,9, -999.00,-999.000,9,-999.000,9, -999.00,9,  -999.0,9,  -999.0,-999.000,9,-999.000,   0.350,4, -999.00,9,  200.00,-999.0000,9,-999.0000,9,-999.0000,9,-999.0000,9,-999.0000,9,-999.0000,9,  12.2940,     -999.0,-999.000,      7.426,          2,      0.481,          2,   0.065,          2
 33RO200501,       A16S,     116,          1,         27,         27,2,20050220,       0613,    -4.5002,   -25.0000,       5532,   249.9,  11.8301,  35.1190,2,  35.1184,2,    113.9,2,   117.2,2,    9.45,2,   23.36,2,    0.01,2,    1.48,2,-999.000,9,-999.000,9,-999.000,9,  -999.0,9,  -999.0,9,  -999.0,9,   20.00,-999.0000,9,    25.00,-999.000,9, -999.00,-999.000,9,-999.000,9, -999.00,9,  -999.0,9,  -999.0,-999.000,9,-999.000,-999.000,9, -999.00,9,  249.90,-999.0000,9,-999.0000,9,-999.0000,9,-999.0000,9,-999.0000,9,-999.0000,9,  11.7977,     -999.0,-999.000,     -999.0,          9,     -999.0,          9,-999.000,          9
 33RO200501,       A16S,     116,          1,         26,         26,2,20050220,       0613,    -4.5002,   -25.0000,       5532,   300.4,  10.8948,  35.0030,2,  34.9989,2,    123.0,2,   117.3,2,   10.71,2,   25.16,2,    0.00,2,    1.58,2,-999.000,9,-999.000,9,-999.000,9,  -999.0,9,  -999.0,9,  -999.0,9,   20.00,-999.0000,9,    25.00,-999.000,9, -999.00,-999.000,9,-999.000,9, -999.00,9,  -999.0,9,  -999.0,-999.000,9,-999.000,-999.000,9, -999.00,9,  300.40,-999.0000,9,-999.0000,9,-999.0000,9,-999.0000,9,-999.0000,9,-999.0000,9,  10.8578,     -999.0,-999.000,     11.975,          2,      0.395,          2,   0.043,          2
 33RO200501,       A16S,     116,          1,         25,         25,2,20050220,       0613,    -4.5002,   -25.0000,       5532,   400.7,   8.7736,  34.7698,2,  34.7690,2,   -999.0,9,  -999.0,9, -999.00,9, -999.00,9, -999.00,9, -999.00,9,-999.000,9,-999.000,9,-999.000,9,  -999.0,9,  -999.0,9,  -999.0,9,   20.00,-999.0000,9,    25.00,-999.000,9, -999.00,-999.000,9,-999.000,9, -999.00,9,  -999.0,9,  -999.0,-999.000,9,-999.000,-999.000,9, -999.00,9,  400.70,-999.0000,9,-999.0000,9,-999.0000,9,-999.0000,9,-999.0000,9,-999.0000,9,   8.7303,     -999.0,-999.000,     -999.0,          9,     -999.0,          9,-999.000,          9
 33RO200501,       A16S,     116,          1,         24,         24,2,20050220,       0613,    -4.5002,   -25.0000,       5532,   499.1,   7.2907,  34.6372,2,  34.6365,2,    106.1,2,   108.5,2,   19.24,2,   33.72,2,    0.00,2,    2.10,2,   0.598,2,   0.317,2,   0.017,2,  2224.6,2,  2292.3,2,  -999.0,9,   20.00,   7.5316,2,    25.00,-999.000,9, -999.00,-999.000,9,-999.000,9, -999.00,9,  -999.0,9,  -999.0,-999.000,9,-999.000,   0.395,4, -999.00,9,  499.10,-999.0000,9,-999.0000,9,-999.0000,9,-999.0000,9,-999.0000,9,-999.0000,9,   7.2421,     -999.0,-999.000,      2.698,          2,      0.117,          2,   0.037,          2
 33RO200501,       A16S,     116,          1,         23,         23,2,20050220,       0613,    -4.5002,   -25.0000,       5532,   599.5,   6.2381,  34.5514,2,  34.5529,2,    120.2,2,   122.4,2,   22.64,2,   34.27,2,    0.00,2,    2.17,2,-999.000,9,-999.000,9,-999.000,9,  -999.0,9,  -999.0,9,  -999.0,9,   20.00,-999.0000,9,    25.00,-999.000,9, -999.00,-999.000,9,-999.000,9, -999.00,9,  -999.0,9,  -999.0,-999.000,9,-999.000,-999.000,9, -999.00,9,  599.50,-999.0000,9,-999.0000,9,-999.0000,9,-999.0000,9,-999.0000,9,-999.0000,9,   6.1842,     -999.0,-999.000,     -999.0,          9,     -999.0,          9,-999.000,          9
 33RO200501,       A16S,     116,          1,         22,         22,2,20050220,       0613,    -4.5002,   -25.0000,       5532,   699.1,   5.4330,  34.4994,2,  34.4979,2,    133.4,2,   134.2,2,   26.42,2,   34.65,2,    0.00,2,    2.23,2,-999.000,9,-999.000,9,-999.000,9,  -999.0,9,  -999.0,9,  -999.0,9,   20.00,-999.0000,9,    25.00,-999.000,9, -999.00,-999.000,9,-999.000,9, -999.00,9,  -999.0,9,  -999.0,-999.000,9,-999.000,-999.000,9, -999.00,9,  699.10,-999.0000,9,-999.0000,9,-999.0000,9,-999.0000,9,-999.0000,9,-999.0000,9,   5.3740,     -999.0,-999.000,     -999.0,          9,     -999.0,          9,-999.000,          9
 33RO200501,       A16S,     116,          1,         21,         21,2,20050220,       0613,    -4.5002,   -25.0000,       5532,   797.4,   4.9002,  34.4811,2,  34.4802,2,    145.6,2,   144.8,2,   29.42,2,   34.44,2,    0.00,2,    2.23,2,-999.000,9,-999.000,9,-999.000,9,  -999.0,9,  -999.0,9,  -999.0,9,   20.00,-999.0000,9,    25.00,-999.000,9, -999.00,-999.000,9,-999.000,9, -999.00,9,  -999.0,9,  -999.0,-999.000,9,-999.000,-999.000,9, -999.00,9,  797.40,-999.0000,9,-999.0000,9,-999.0000,9,-999.0000,9,-999.0000,9,-999.0000,9,   4.8356,     -999.0,-999.000,      4.633,          2,      0.802,          2,   0.029,          2
 33RO200501,       A16S,     116,          1,         20,         20,2,20050220,       0613,    -4.5002,   -25.0000,       5532,   897.7,   4.3511,  34.4839,2,  34.4844,2,    163.7,2,   163.0,2,   33.41,6,   33.29,6,    0.00,6,    2.18,6,-999.000,9,-999.000,9,-999.000,9,  -999.0,9,  -999.0,9,  -999.0,9,   20.00,-999.0000,9,    25.00,-999.000,9, -999.00,-999.000,9,-999.000,9, -999.00,9,  -999.0,9,  -999.0,-999.000,9,-999.000,-999.000,9, -999.00,9,  897.70,-999.0000,9,-999.0000,9,-999.0000,9,-999.0000,9,-999.0000,9,-999.0000,9,   4.2815,     -999.0,-999.000,     -999.0,          9,     -999.0,          9,-999.000,          9
 33RO200501,       A16S,     116,          1,         19,         19,2,20050220,       0613,    -4.5002,   -25.0000,       5532,   999.4,   4.1608,  34.5796,2,  34.5820,2,    165.8,2,   165.0,2,   33.55,2,   32.12,2,    0.00,2,    2.10,2,-999.000,9,-999.000,9,-999.000,9,  2221.2,2,  2305.6,2,  -999.0,9,   20.00,   7.5795,2,    25.00,-999.000,9, -999.00,-999.000,9,-999.000,9, -999.00,9,  -999.0,9,  -999.0,-999.000,9,-999.000,-999.000,9, -999.00,9,  999.40,-999.0000,9,-999.0000,9,-999.0000,9,-999.0000,9,-999.0000,9,-999.0000,9,   4.0838,     -999.0,-999.000,     -999.0,          9,     -999.0,          9,-999.000,          9
 33RO200501,       A16S,     116,          1,         18,         18,2,20050220,       0613,    -4.5002,   -25.0000,       5532,  1100.0,   4.3045,  34.7292,2,  34.7311,2,    174.8,2,   173.9,2,   28.96,2,   29.40,2,    0.00,2,    1.91,2,-999.000,9,-999.000,9,-999.000,9,  -999.0,9,  -999.0,9,  -999.0,9,   20.00,-999.0000,9,    25.00,-999.000,9, -999.00,-999.000,9,-999.000,9, -999.00,9,  -999.0,9,  -999.0,-999.000,9,-999.000,-999.000,9, -999.00,9, 1100.00,-999.0000,9,-999.0000,9,-999.0000,9,-999.0000,9,-999.0000,9,-999.0000,9,   4.2175,     -999.0,-999.000,      2.800,          2,      0.386,          2,   0.028,          2
 33RO200501,       A16S,     116,          1,         17,         17,2,20050220,       0613,    -4.5002,   -25.0000,       5532,  1300.3,   4.4189,  34.9252,2,  34.9258,2,    209.3,2,   210.7,2,   20.68,2,   23.37,2,    0.00,2,    1.49,2,   0.148,2,   0.079,2,   0.009,2,  -999.0,9,  -999.0,9,  -999.0,9,   20.00,-999.0000,9,    25.00,-999.000,9, -999.00,-999.000,9,-999.000,9, -999.00,9,  -999.0,9,  -999.0,-999.000,9,-999.000,   0.285,4, -999.00,9, 1300.30,-999.0000,9,-999.0000,9,-999.0000,9,-999.0000,9,-999.0000,9,-999.0000,9,   4.3126,     -999.0,-999.000,     -999.0,          9,     -999.0,          9,-999.000,          9
 33RO200501,       A16S,     116,          1,         16,         16,2,20050220,       0613,    -4.5002,   -25.0000,       5532,  1499.5,   4.1781,  34.9638,2,  34.9638,2,    229.1,2,   229.5,2,   19.00,2,   21.34,2,    0.00,2,    1.34,2,   0.163,2,   0.086,2,   0.010,2,  -999.0,9,  -999.0,9,  -999.0,9,   20.00,-999.0000,9,    25.00,-999.000,9, -999.00,-999.000,9,-999.000,9, -999.00,9,  -999.0,9,  -999.0,-999.000,9,-999.000,   0.340,4, -999.00,9, 1499.50,-999.0000,9,-999.0000,9,-999.0000,9,-999.0000,9,-999.0000,9,-999.0000,9,   4.0560,     -999.0,-999.000,     -999.0,          9,     -999.0,          9,-999.000,          9
 33RO200501,       A16S,     116,          1,         15,         15,2,20050220,       0613,    -4.5002,   -25.0000,       5532,  1700.0,   3.9799,  34.9769,2,  34.9780,2,    242.0,2,   242.2,2,   18.08,2,   19.96,2,    0.00,2,    1.25,2,   0.253,2,   0.127,2,   0.008,2,  -999.0,9,  -999.0,9,  -999.0,9,   20.00,-999.0000,9,    25.00,-999.000,9, -999.00,-999.000,9,-999.000,9, -999.00,9,  -999.0,9,  -999.0,-999.000,9,-999.000,   0.491,4, -999.00,9, 1700.00,-999.0000,9,-999.0000,9,-999.0000,9,-999.0000,9,-999.0000,9,-999.0000,9,   3.8414,     -999.0,-999.000,      3.883,          2,      0.384,          2,   0.030,          2
 33RO200501,       A16S,     116,          1,         14,         14,2,20050220,       0613,    -4.5002,   -25.0000,       5532,  1900.9,   3.7123,  34.9692,2,  34.9692,2,    245.9,2,   244.6,2,   20.31,2,   19.96,2,    0.00,2,    1.26,2,-999.000,9,-999.000,9,-999.000,9,  2172.0,2,  2315.1,2,  -999.0,9,   20.00,   7.7270,2,    25.00,-999.000,9, -999.00,-999.000,9,-999.000,9, -999.00,9,  -999.0,9,  -999.0,-999.000,9,-999.000,-999.000,9, -999.00,9, 1900.90,-999.0000,9,-999.0000,9,-999.0000,9,-999.0000,9,-999.0000,9,-999.0000,9,   3.5585,     -999.0,-999.000,     -999.0,          9,     -999.0,          9,-999.000,          9
 33RO200501,       A16S,     116,          1,         13,         13,2,20050220,       0613,    -4.5002,   -25.0000,       5532,  2098.8,   3.5027,  34.9657,2,  34.9657,2,    252.3,2,   251.6,2,   21.06,2,   19.44,2,    0.00,2,    1.24,2,-999.000,9,-999.000,9,-999.000,9,  -999.0,9,  -999.0,9,  -999.0,9,   20.00,-999.0000,9,    25.00,-999.000,9, -999.00,-999.000,9,-999.000,9, -999.00,9,  -999.0,9,  -999.0,-999.000,9,-999.000,-999.000,9, -999.00,9, 2098.80,-999.0000,9,-999.0000,9,-999.0000,9,-999.0000,9,-999.0000,9,-999.0000,9,   3.3331,     -999.0,-999.000,     -999.0,          9,     -999.0,          9,-999.000,          9
 33RO200501,       A16S,     116,          1,         12,         12,2,20050220,       0613,    -4.5002,   -25.0000,       5532,  2300.6,   3.2518,  34.9519,2,  34.9525,2,    250.9,2,   250.8,2,   24.91,2,   19.79,2,    0.00,2,    1.27,2,-999.000,9,-999.000,9,-999.000,9,  -999.0,9,  -999.0,9,  -999.0,9,   20.00,-999.0000,9,    25.00,-999.000,9, -999.00,-999.000,9,-999.000,9, -999.00,9,  -999.0,9,  -999.0,-999.000,9,-999.000,-999.000,9, -999.00,9, 2300.60,-999.0000,9,-999.0000,9,-999.0000,9,-999.0000,9,-999.0000,9,-999.0000,9,   3.0668,     -999.0,-999.000,      8.054,          2,      0.267,          2,   0.024,          2
 33RO200501,       A16S,     116,          1,         11,         11,2,20050220,       0613,    -4.5002,   -25.0000,       5532,  2601.8,   2.8958,  34.9254,2,  34.9277,2,    244.7,2,   245.0,2,   33.45,2,   21.01,2,    0.00,2,    1.36,2,-999.000,9,-999.000,9,-999.000,9,  -999.0,9,  -999.0,9,  -999.0,9,   20.00,-999.0000,9,    25.00,-999.000,9, -999.00,-999.000,9,-999.000,9, -999.00,9,  -999.0,9,  -999.0,-999.000,9,-999.000,-999.000,9, -999.00,9, 2601.80,-999.0000,9,-999.0000,9,-999.0000,9,-999.0000,9,-999.0000,9,-999.0000,9,   2.6879,     -999.0,-999.000,     -999.0,          9,     -999.0,          9,-999.000,          9
 33RO200501,       A16S,     116,          1,         10,         10,2,20050220,       0613,    -4.5002,   -25.0000,       5532,  2900.5,   2.7221,  34.9136,2,  34.9193,3,    243.7,2,   244.2,2,   37.53,2,   21.52,2,    0.00,2,    1.39,2,-999.000,9,-999.000,9,-999.000,9,  -999.0,9,  -999.0,9,  -999.0,9,   20.00,-999.0000,9,    25.00,-999.000,9, -999.00,-999.000,9,-999.000,9, -999.00,9,  -999.0,9,  -999.0,-999.000,9,-999.000,-999.000,9, -999.00,9, 2900.50,-999.0000,9,-999.0000,9,-999.0000,9,-999.0000,9,-999.0000,9,-999.0000,9,   2.4877,     -999.0,-999.000,     -999.0,          9,     -999.0,          9,-999.000,          9
 33RO200501,       A16S,     116,          1,          9,          9,2,20050220,       0613,    -4.5002,   -25.0000,       5532,  3199.6,   2.6444,  34.9175,2,  34.9183,2,    252.2,2,   253.0,2,   33.71,2,   20.32,2,    0.00,2,    1.32,2,-999.000,9,-999.000,9,-999.000,9,  2182.9,2,  2328.5,2,  -999.0,9,   20.00,   7.7422,2,    25.00,-999.000,9, -999.00,-999.000,9,-999.000,9, -999.00,9,  -999.0,9,  -999.0,-999.000,9,-999.000,-999.000,9, -999.00,9, 3199.60,-999.0000,9,-999.0000,9,-999.0000,9,-999.0000,9,-999.0000,9,-999.0000,9,   2.3806,     -999.0,-999.000,      1.867,          2,      0.084,          2,   0.024,          2
 33RO200501,       A16S,     116,          1,          8,          8,2,20050220,       0613,    -4.5002,   -25.0000,       5532,  3501.3,   2.5377,  34.9121,2,  34.9124,2,    255.9,2,   256.9,2,   33.33,2,   19.89,2,    0.00,2,    1.29,2,   0.063,2,   0.030,2,   0.000,2,  -999.0,9,  -999.0,9,  -999.0,9,   20.00,-999.0000,9,    25.00,-999.000,9, -999.00,-999.000,9,-999.000,9, -999.00,9,  -999.0,9,  -999.0,-999.000,9,-999.000,   0.220,4, -999.00,9, 3501.30,-999.0000,9,-999.0000,9,-999.0000,9,-999.0000,9,-999.0000,9,-999.0000,9,   2.2442,     -999.0,-999.000,     -999.0,          9,     -999.0,          9,-999.000,          9