BOTTLE,20220818CCHSIOAMB
EXPOCODE,SECT_ID,STNNBR,CASTNO,SAMPNO,BTLNBR,BTLNBR_FLAG_W,DATE,TIME,LATITUDE,LONGITUDE,DEPTH,CTDPRS,CTDTMP,CTDSAL,CTDSAL_FLAG_W,SALNTY,SALNTY_FLAG_W,CTDOXY,CTDOXY_FLAG_W,OXYGEN,OXYGEN_FLAG_W,SILCAT,SILCAT_FLAG_W,NITRAT,NITRAT_FLAG_W,NITRIT,NITRIT_FLAG_W,PHSPHT,PHSPHT_FLAG_W,CFC-11,CFC-11_FLAG_W,CFC-12,CFC-12_FLAG_W,CFC113,CFC113_FLAG_W,TCARBN,TCARBN_FLAG_W,ALKALI,ALKALI_FLAG_W,PCO2,PCO2_FLAG_W,PCO2TMP,PH_SWS,PH_SWS_FLAG_W,PH_TMP,TRITUM,TRITUM_FLAG_W,TRITER,HELIUM,HELIUM_FLAG_W,DELHE3,DELHE3_FLAG_W,DELC13,DELC13_FLAG_W,DELC14,DELC14_FLAG_W,C14ERR,NEON,NEON_FLAG_W,NEONER,CCL4,CCL4_FLAG_W,DOC,DOC_FLAG_W,CTDRAW,CDOM325,CDOM325_FLAG_W,CDOM340,CDOM340_FLAG_W,CDOM380,CDOM380_FLAG_W,CDOM412,CDOM412_FLAG_W,CDOMSL,CDOMSL_FLAG_W,CDOMSN,CDOMSN_FLAG_W,THETA,HELIER,DELHER,CH3CL,CH3CL_FLAG_W,CH3BR,CH3BR_FLAG_W,CH3I,CH3I_FLAG_W
,,,,,,,,,,,METERS,DBAR,ITS-90,PSS-78,,PSS-78,,UMOL/KG,,UMOL/KG,,UMOL/KG,,UMOL/KG,,UMOL/KG,,UMOL/KG,,PMOL/KG,,PMOL/KG,,PMOL/KG,,UMOL/KG,,UMOL/KG,,UATM,,DEG C,,,DEG C,TU,,TU,NMOL/KG,,PERCNT,,/MILLE,,/MILLE,,/MILLE,NMOL/KG,,NMOL/KG,PMOL/KG,,UMOL/KG,,DBAR,1/M,,1/M,,1/M,,1/M,,1/NM,,1/NM,,DEG C,NMOL/KG,PERCNT,PMOL/KG,,PMOL/KG,,PMOL/KG,
 33RO200501,       A16S,      50,          1,         36,         36,2,20050131,       0224,   -37.5000,   -26.2335,       4163,     4.0,  18.3952,  35.3224,2,  35.3195,2,    237.9,2,   238.2,2,    1.28,2,    0.00,2,    0.00,2,    0.08,2,   2.474,2,   1.575,2,   0.208,2,  2052.5,2,  2318.2,2,  -999.0,9,   20.00,   7.9868,2,    25.00,-999.000,9, -999.00,-999.000,9,-999.000,9, -999.00,9,  -999.0,9,  -999.0,-999.000,9,-999.000,   5.834,4, -999.00,9,    4.00,-999.0000,9,-999.0000,9,-999.0000,9,-999.0000,9,-999.0000,9,-999.0000,9,  18.3945,     -999.0,-999.000,     81.311,          2,      1.672,          2,   4.238,          2
 33RO200501,       A16S,      50,          1,         35,         35,2,20050131,       0224,   -37.5000,   -26.2335,       4163,    26.1,  18.1477,  35.3310,2,  35.3230,2,    238.3,2,   239.6,2,    1.24,2,    0.00,2,    0.00,2,    0.08,2,-999.000,9,-999.000,9,-999.000,9,  -999.0,9,  -999.0,9,  -999.0,9,   20.00,-999.0000,9,    25.00,-999.000,9, -999.00,-999.000,9,-999.000,9, -999.00,9,  -999.0,9,  -999.0,-999.000,9,-999.000,-999.000,9, -999.00,9,   26.10,-999.0000,9,-999.0000,9,-999.0000,9,-999.0000,9,-999.0000,9,-999.0000,9,  18.1432,     -999.0,-999.000,    101.315,          2,      2.091,          2,   5.448,          2
 33RO200501,       A16S,      50,          1,         34,         34,2,20050131,       0224,   -37.5000,   -26.2335,       4163,    51.5,  15.2325,  35.4346,2,  35.4344,2,    257.9,2,   252.0,2,    1.49,2,    0.83,2,    0.14,2,    0.17,2,   2.820,2,   1.720,2,   0.218,2,  2071.7,2,  2327.1,2,  -999.0,9,   20.00,   7.9635,2,    25.00,-999.000,9, -999.00,-999.000,9,-999.000,9, -999.00,9,  -999.0,9,  -999.0,-999.000,9,-999.000,   5.930,4, -999.00,9,   51.50,-999.0000,9,-999.0000,9,-999.0000,9,-999.0000,9,-999.0000,9,-999.0000,9,  15.2246,     -999.0,-999.000,     -999.0,          9,     -999.0,          9,-999.000,          9
 33RO200501,       A16S,      50,          1,         33,         33,2,20050131,       0224,   -37.5000,   -26.2335,       4163,    70.6,  14.4500,  35.3939,2,  35.3930,2,    240.3,2,   241.0,2,    1.71,2,    3.27,2,    0.27,2,    0.32,2,-999.000,9,-999.000,9,-999.000,9,  -999.0,9,  -999.0,9,  -999.0,9,   20.00,-999.0000,9,    25.00,-999.000,9, -999.00,-999.000,9,-999.000,9, -999.00,9,  -999.0,9,  -999.0,-999.000,9,-999.000,-999.000,9, -999.00,9,   70.60,-999.0000,9,-999.0000,9,-999.0000,9,-999.0000,9,-999.0000,9,-999.0000,9,  14.4396,     -999.0,-999.000,     50.163,          2,      0.604,          2,   1.717,          2
 33RO200501,       A16S,      50,          1,         32,         32,2,20050131,       0224,   -37.5000,   -26.2335,       4163,    90.8,  14.3430,  35.4628,2,  35.4604,2,    233.9,2,   229.1,2,    1.99,2,    5.29,2,    0.03,2,    0.41,2,-999.000,9,-999.000,9,-999.000,9,  -999.0,9,  -999.0,9,  -999.0,9,   20.00,-999.0000,9,    25.00,-999.000,9, -999.00,-999.000,9,-999.000,9, -999.00,9,  -999.0,9,  -999.0,-999.000,9,-999.000,-999.000,9, -999.00,9,   90.80,-999.0000,9,-999.0000,9,-999.0000,9,-999.0000,9,-999.0000,9,-999.0000,9,  14.3296,     -999.0,-999.000,     -999.0,          9,     -999.0,          9,-999.000,          9
 33RO200501,       A16S,      50,          1,         31,         31,2,20050131,       0224,   -37.5000,   -26.2335,       4163,   115.3,  14.0469,  35.4272,2,  35.4250,2,    231.6,2,   231.2,2,    2.07,2,    5.66,2,    0.02,2,    0.43,2,   2.914,2,   1.677,2,   0.164,2,  2099.1,2,  2326.7,2,  -999.0,9,   20.00,   7.9130,2,    25.00,-999.000,9, -999.00,-999.000,9,-999.000,9, -999.00,9,  -999.0,9,  -999.0,-999.000,9,-999.000,   1.627,3, -999.00,9,  115.30,-999.0000,9,-999.0000,9,-999.0000,9,-999.0000,9,-999.0000,9,-999.0000,9,  14.0302,     -999.0,-999.000,     -999.0,          9,     -999.0,          9,-999.000,          9
 33RO200501,       A16S,      50,          1,         30,         30,2,20050131,       0224,   -37.5000,   -26.2335,       4163,   141.6,  13.7552,  35.3833,2,  35.3798,2,    229.0,2,   231.8,2,    2.18,2,    6.20,2,    0.01,2,    0.47,2,-999.000,9,-999.000,9,-999.000,9,  -999.0,9,  -999.0,9,  -999.0,9,   20.00,-999.0000,9,    25.00,-999.000,9, -999.00,-999.000,9,-999.000,9, -999.00,9,  -999.0,9,  -999.0,-999.000,9,-999.000,-999.000,9, -999.00,9,  141.60,-999.0000,9,-999.0000,9,-999.0000,9,-999.0000,9,-999.0000,9,-999.0000,9,  13.7350,     -999.0,-999.000,     19.742,          2,      0.270,          2,   0.284,          2
 33RO200501,       A16S,      50,          1,         29,         29,2,20050131,       0224,   -37.5000,   -26.2335,       4163,   164.9,  13.5534,  35.3562,2,  35.3544,2,    233.1,2,   234.1,2,    2.20,2,    6.33,2,    0.01,2,    0.48,2,-999.000,9,-999.000,9,-999.000,9,  -999.0,9,  -999.0,9,  -999.0,9,   20.00,-999.0000,9,    25.00,-999.000,9, -999.00,-999.000,9,-999.000,9, -999.00,9,  -999.0,9,  -999.0,-999.000,9,-999.000,-999.000,9, -999.00,9,  164.90,-999.0000,9,-999.0000,9,-999.0000,9,-999.0000,9,-999.0000,9,-999.0000,9,  13.5300,     -999.0,-999.000,     -999.0,          9,     -999.0,          9,-999.000,          9
 33RO200501,       A16S,      50,          1,         28,         28,2,20050131,       0224,   -37.5000,   -26.2335,       4163,   189.9,  13.3814,  35.3283,2,  35.3250,2,    234.8,2,   238.1,2,    2.11,2,    6.22,2,    0.01,2,    0.47,2,-999.000,9,-999.000,9,-999.000,9,  -999.0,9,  -999.0,9,  -999.0,9,   20.00,-999.0000,9,    25.00,-999.000,9, -999.00,-999.000,9,-999.000,9, -999.00,9,  -999.0,9,  -999.0,-999.000,9,-999.000,-999.000,9, -999.00,9,  189.90,-999.0000,9,-999.0000,9,-999.0000,9,-999.0000,9,-999.0000,9,-999.0000,9,  13.3547,     -999.0,-999.000,     -999.0,          9,     -999.0,          9,-999.000,          9
 33RO200501,       A16S,      50,          1,         27,         27,2,20050131,       0224,   -37.5000,   -26.2335,       4163,   225.6,  13.1492,  35.2868,2,  35.2756,2,    234.3,2,   235.0,2,    2.32,2,    7.21,2,    0.01,2,    0.53,2,   2.990,2,   1.759,2,   0.173,2,  2102.8,2,  2319.2,2,  -999.0,9,   20.00,   7.8911,2,    25.00,-999.000,9, -999.00,-999.000,9,-999.000,9, -999.00,9,  -999.0,9,  -999.0,-999.000,9,-999.000,   1.496,3, -999.00,9,  225.60,-999.0000,9,-999.0000,9,-999.0000,9,-999.0000,9,-999.0000,9,-999.0000,9,  13.1179,     -999.0,-999.000,     -999.0,          9,     -999.0,          9,-999.000,          9
 33RO200501,       A16S,      50,          1,         26,         26,2,20050131,       0224,   -37.5000,   -26.2335,       4163,   275.4,  12.6049,  35.1884,2,  35.1822,2,    232.4,2,   224.5,2,    2.98,2,    9.62,2,    0.01,2,    0.66,2,-999.000,9,-999.000,9,-999.000,9,  -999.0,9,  -999.0,9,  -999.0,9,   20.00,-999.0000,9,    25.00,-999.000,9, -999.00,-999.000,9,-999.000,9, -999.00,9,  -999.0,9,  -999.0,-999.000,9,-999.000,-999.000,9, -999.00,9,  275.40,-999.0000,9,-999.0000,9,-999.0000,9,-999.0000,9,-999.0000,9,-999.0000,9,  12.5676,     -999.0,-999.000,     -999.0,          9,     -999.0,          9,-999.000,          9
 33RO200501,       A16S,      50,          1,         25,         25,2,20050131,       0224,   -37.5000,   -26.2335,       4163,   325.4,  11.5115,  35.0038,2,  35.0022,2,    215.6,2,   214.3,2,    4.05,2,   13.24,2,    0.01,2,    0.87,2,-999.000,9,-999.000,9,-999.000,9,  -999.0,9,  -999.0,9,  -999.0,9,   20.00,-999.0000,9,    25.00,-999.000,9, -999.00,-999.000,9,-999.000,9, -999.00,9,  -999.0,9,  -999.0,-999.000,9,-999.000,-999.000,9, -999.00,9,  325.40,-999.0000,9,-999.0000,9,-999.0000,9,-999.0000,9,-999.0000,9,-999.0000,9,  11.4699,     -999.0,-999.000,     -999.0,          9,     -999.0,          9,-999.000,          9
 33RO200501,       A16S,      50,          1,         24,         24,2,20050131,       0224,   -37.5000,   -26.2335,       4163,   374.6,  10.1298,  34.8026,2,  34.7963,2,    210.7,2,   210.8,2,    5.61,2,   17.00,2,    0.01,2,    1.09,2,-999.000,9,-999.000,9,-999.000,9,  -999.0,9,  -999.0,9,  -999.0,9,   20.00,-999.0000,9,    25.00,-999.000,9, -999.00,-999.000,9,-999.000,9, -999.00,9,  -999.0,9,  -999.0,-999.000,9,-999.000,-999.000,9, -999.00,9,  374.60,-999.0000,9,-999.0000,9,-999.0000,9,-999.0000,9,-999.0000,9,-999.0000,9,  10.0857,     -999.0,-999.000,     -999.0,          9,     -999.0,          9,-999.000,          9
 33RO200501,       A16S,      50,          1,         23,         23,2,20050131,       0224,   -37.5000,   -26.2335,       4163,   450.4,   7.9196,  34.5240,2,  34.5210,2,    219.2,2,   221.2,2,    8.08,2,   21.41,2,    0.00,2,    1.37,2,   3.360,2,   1.794,2,   0.179,2,  2143.1,2,  2283.7,2,  -999.0,9,   20.00,   7.7394,2,    25.00,-999.000,9, -999.00,-999.000,9,-999.000,9, -999.00,9,  -999.0,9,  -999.0,-999.000,9,-999.000,   2.080,3, -999.00,9,  450.40,-999.0000,9,-999.0000,9,-999.0000,9,-999.0000,9,-999.0000,9,-999.0000,9,   7.8738,     -999.0,-999.000,     -999.0,          9,     -999.0,          9,-999.000,          9
 33RO200501,       A16S,      50,          1,         22,         22,2,20050131,       0224,   -37.5000,   -26.2335,       4163,   534.8,   6.4929,  34.3850,2,  34.3814,2,    227.7,2,   229.8,2,   10.85,2,   24.10,2,    0.00,2,    1.55,2,-999.000,9,-999.000,9,-999.000,9,  -999.0,9,  -999.0,9,  -999.0,9,   20.00,-999.0000,9,    25.00,-999.000,9, -999.00,-999.000,9,-999.000,9, -999.00,9,  -999.0,9,  -999.0,-999.000,9,-999.000,-999.000,9, -999.00,9,  534.80,-999.0000,9,-999.0000,9,-999.0000,9,-999.0000,9,-999.0000,9,-999.0000,9,   6.4442,     -999.0,-999.000,      4.535,          2,      0.429,          2,   0.045,          2
 33RO200501,       A16S,      50,          1,         21,         21,2,20050131,       0224,   -37.5000,   -26.2335,       4163,   651.3,   5.1017,  34.2801,2,  34.2782,2,    239.7,2,   240.5,2,   15.06,2,   26.43,2,    0.00,2,    1.70,2,-999.000,9,-999.000,9,-999.000,9,  -999.0,9,  -999.0,9,  -999.0,9,   20.00,-999.0000,9,    25.00,-999.000,9, -999.00,-999.000,9,-999.000,9, -999.00,9,  -999.0,9,  -999.0,-999.000,9,-999.000,-999.000,9, -999.00,9,  651.30,-999.0000,9,-999.0000,9,-999.0000,9,-999.0000,9,-999.0000,9,-999.0000,9,   5.0488,     -999.0,-999.000,     -999.0,          9,     -999.0,          9,-999.000,          9
 33RO200501,       A16S,      50,          1,         20,         20,2,20050131,       0224,   -37.5000,   -26.2335,       4163,   745.5,   4.3117,  34.2092,2,  34.2100,2,    255.0,2,   255.4,2,   16.80,6,   27.13,6,    0.00,6,    1.76,6,-999.000,9,-999.000,9,-999.000,9,  -999.0,9,  -999.0,9,  -999.0,9,   20.00,-999.0000,9,    25.00,-999.000,9, -999.00,-999.000,9,-999.000,9, -999.00,9,  -999.0,9,  -999.0,-999.000,9,-999.000,-999.000,9, -999.00,9,  745.50,-999.0000,9,-999.0000,9,-999.0000,9,-999.0000,9,-999.0000,9,-999.0000,9,   4.2553,     -999.0,-999.000,     -999.0,          9,     -999.0,          9,-999.000,          9
 33RO200501,       A16S,      50,          1,         19,         19,2,20050131,       0224,   -37.5000,   -26.2335,       4163,   850.6,   3.9876,  34.2398,2,  34.2390,2,    245.8,2,   239.4,2,   22.66,2,   28.85,2,    0.00,2,    1.86,2,-999.000,9,-999.000,9,-999.000,9,  -999.0,9,  -999.0,9,  -999.0,9,   20.00,-999.0000,9,    25.00,-999.000,9, -999.00,-999.000,9,-999.000,9, -999.00,9,  -999.0,9,  -999.0,-999.000,9,-999.000,-999.000,9, -999.00,9,  850.60,-999.0000,9,-999.0000,9,-999.0000,9,-999.0000,9,-999.0000,9,-999.0000,9,   3.9247,     -999.0,-999.000,      4.113,          2,      0.184,          2,   0.035,          2
 33RO200501,       A16S,      50,          1,         18,         18,2,20050131,       0224,   -37.5000,   -26.2335,       4163,   950.7,   3.5753,  34.2565,2,  34.2569,2,    233.0,2,   230.4,2,   29.05,2,   30.24,2,    0.00,2,    1.97,2,   2.374,2,   1.185,2,   0.148,2,  2182.5,2,  2289.3,2,  -999.0,9,   20.00,   7.6441,2,    25.00,-999.000,9, -999.00,-999.000,9,-999.000,9, -999.00,9,  -999.0,9,  -999.0,-999.000,9,-999.000,   2.408,3, -999.00,9,  950.70,-999.0000,9,-999.0000,9,-999.0000,9,-999.0000,9,-999.0000,9,-999.0000,9,   3.5073,     -999.0,-999.000,     -999.0,          9,     -999.0,          9,-999.000,          9
 33RO200501,       A16S,      50,          1,         17,         17,2,20050131,       0224,   -37.5000,   -26.2335,       4163,  1051.5,   3.2990,  34.3050,2,  34.3047,2,    218.5,2,   215.9,2,   36.88,2,   31.50,2,    0.00,2,    2.06,2,-999.000,9,-999.000,9,-999.000,9,  -999.0,9,  -999.0,9,  -999.0,9,   20.00,-999.0000,9,    25.00,-999.000,9, -999.00,-999.000,9,-999.000,9, -999.00,9,  -999.0,9,  -999.0,-999.000,9,-999.000,-999.000,9, -999.00,9, 1051.50,-999.0000,9,-999.0000,9,-999.0000,9,-999.0000,9,-999.0000,9,-999.0000,9,   3.2251,     -999.0,-999.000,     -999.0,          9,     -999.0,          9,-999.000,          9
 33RO200501,       A16S,      50,          1,         16,         16,2,20050131,       0224,   -37.5000,   -26.2335,       4163,  1149.2,   3.0958,  34.3503,2,  34.3506,2,    205.4,2,   204.9,2,   44.09,6,   32.38,6,    0.00,6,    2.14,6,-999.000,9,-999.000,9,-999.000,9,  -999.0,9,  -999.0,9,  -999.0,9,   20.00,-999.0000,9,    25.00,-999.000,9, -999.00,-999.000,9,-999.000,9, -999.00,9,  -999.0,9,  -999.0,-999.000,9,-999.000,-999.000,9, -999.00,9, 1149.20,-999.0000,9,-999.0000,9,-999.0000,9,-999.0000,9,-999.0000,9,-999.0000,9,   3.0158,     -999.0,-999.000,      6.891,          2,      0.287,          2,   0.033,          2
 33RO200501,       A16S,      50,          1,         15,         15,2,20050131,       0224,   -37.5000,   -26.2335,       4163,  1250.2,   2.9505,  34.4155,2,  34.4148,2,    193.7,2,   193.4,2,   50.82,2,   32.93,2,    0.00,2,    2.18,2,-999.000,9,-999.000,9,-999.000,9,  -999.0,9,  -999.0,9,  -999.0,9,   20.00,-999.0000,9,    25.00,-999.000,9, -999.00,-999.000,9,-999.000,9, -999.00,9,  -999.0,9,  -999.0,-999.000,9,-999.000,-999.000,9, -999.00,9, 1250.20,-999.0000,9,-999.0000,9,-999.0000,9,-999.0000,9,-999.0000,9,-999.0000,9,   2.8639,     -999.0,-999.000,     -999.0,          9,     -999.0,          9,-999.000,          9
 33RO200501,       A16S,      50,          1,         14,         14,2,20050131,       0224,   -37.5000,   -26.2335,       4163,  1351.1,   2.8732,  34.4714,2,  34.4721,2,    186.6,2,   186.1,2,   55.75,2,   33.06,2,    0.00,2,    2.20,2,-999.000,9,-999.000,9,-999.000,9,  -999.0,9,  -999.0,9,  -999.0,9,   20.00,-999.0000,9,    25.00,-999.000,9, -999.00,-999.000,9,-999.000,9, -999.00,9,  -999.0,9,  -999.0,-999.000,9,-999.000,-999.000,9, -999.00,9, 1351.10,-999.0000,9,-999.0000,9,-999.0000,9,-999.0000,9,-999.0000,9,-999.0000,9,   2.7791,     -999.0,-999.000,     -999.0,          9,     -999.0,          9,-999.000,          9
 33RO200501,       A16S,      50,          1,         13,         13,2,20050131,       0224,   -37.5000,   -26.2335,       4163,  1490.7,   2.8375,  34.5460,2,  34.5450,2,    182.1,2,   183.0,2,   58.72,2,   32.55,2,    0.00,2,    2.17,2,   0.329,2,   0.161,2,   0.013,2,  -999.0,9,  -999.0,9,  -999.0,9,   20.00,-999.0000,9,    25.00,-999.000,9, -999.00,-999.000,9,-999.000,9, -999.00,9,  -999.0,9,  -999.0,-999.000,9,-999.000,   0.549,3, -999.00,9, 1490.70,-999.0000,9,-999.0000,9,-999.0000,9,-999.0000,9,-999.0000,9,-999.0000,9,   2.7324,     -999.0,-999.000,      4.174,          2,      0.053,          2,   0.023,          2
 33RO200501,       A16S,      50,          1,         12,         12,2,20050131,       0224,   -37.5000,   -26.2335,       4163,  1699.7,   2.8565,  34.6521,2,  34.6527,2,    184.6,2,   185.5,2,   59.73,6,   30.99,6,    0.00,6,    2.06,6,-999.000,9,-999.000,9,-999.000,9,  -999.0,9,  -999.0,9,  -999.0,9,   20.00,-999.0000,9,    25.00,-999.000,9, -999.00,-999.000,9,-999.000,9, -999.00,9,  -999.0,9,  -999.0,-999.000,9,-999.000,-999.000,9, -999.00,9, 1699.70,-999.0000,9,-999.0000,9,-999.0000,9,-999.0000,9,-999.0000,9,-999.0000,9,   2.7333,     -999.0,-999.000,     -999.0,          9,     -999.0,          9,-999.000,          9
 33RO200501,       A16S,      50,          1,         11,         11,2,20050131,       0224,   -37.5000,   -26.2335,       4163,  1900.8,   2.9147,  34.7395,2,  34.7397,2,    197.2,2,   196.6,2,   55.82,2,   28.74,2,    0.00,2,    1.90,2,-999.000,9,-999.000,9,-999.000,9,  -999.0,9,  -999.0,9,  -999.0,9,   20.00,-999.0000,9,    25.00,-999.000,9, -999.00,-999.000,9,-999.000,9, -999.00,9,  -999.0,9,  -999.0,-999.000,9,-999.000,-999.000,9, -999.00,9, 1900.80,-999.0000,9,-999.0000,9,-999.0000,9,-999.0000,9,-999.0000,9,-999.0000,9,   2.7730,     -999.0,-999.000,     -999.0,          9,     -999.0,          9,-999.000,          9
 33RO200501,       A16S,      50,          1,         10,         10,2,20050131,       0224,   -37.5000,   -26.2335,       4163,  2094.8,   2.9561,  34.8049,2,  34.8056,2,    208.5,2,   209.3,2,   50.70,2,   26.59,2,    0.00,2,    1.75,2,   0.060,2,   0.032,2,  -0.005,2,  2211.3,2,  2326.6,2,  -999.0,9,   20.00,   7.6627,2,    25.00,-999.000,9, -999.00,-999.000,9,-999.000,9, -999.00,9,  -999.0,9,  -999.0,-999.000,9,-999.000,   0.186,3, -999.00,9, 2094.80,-999.0000,9,-999.0000,9,-999.0000,9,-999.0000,9,-999.0000,9,-999.0000,9,   2.7960,     -999.0,-999.000,      2.983,          2,      0.000,          2,   0.020,          2
 33RO200501,       A16S,      50,          1,          9,          9,2,20050131,       0224,   -37.5000,   -26.2335,       4163,  2299.8,   2.9520,  34.8471,2,  34.8469,2,    220.3,2,   220.5,2,   46.57,2,   24.87,2,    0.00,2,    1.63,2,-999.000,9,-999.000,9,-999.000,9,  -999.0,9,  -999.0,9,  -999.0,9,   20.00,-999.0000,9,    25.00,-999.000,9, -999.00,-999.000,9,-999.000,9, -999.00,9,  -999.0,9,  -999.0,-999.000,9,-999.000,-999.000,9, -999.00,9, 2299.80,-999.0000,9,-999.0000,9,-999.0000,9,-999.0000,9,-999.0000,9,-999.0000,9,   2.7726,     -999.0,-999.000,     -999.0,          9,     -999.0,          9,-999.000,          9
 33RO200501,       A16S,      50,          1,          8,          8,2,20050131,       0224,   -37.5000,   -26.2335,       4163,  2500.3,   2.9051,  34.8725,2,  34.8725,2,    228.1,2,   229.4,2,   43.58,6,   23.66,6,    0.00,6,    1.54,6,   0.040,2,   0.023,2,  -0.001,2,  2193.8,2,  2325.1,2,  -999.0,9,   20.00,   7.7007,2,    25.00,-999.000,9, -999.00,-999.000,9,-999.000,9, -999.00,9,  -999.0,9,  -999.0,-999.000,9,-999.000,   0.153,3, -999.00,9, 2500.30,-999.0000,9,-999.0000,9,-999.0000,9,-999.0000,9,-999.0000,9,-999.0000,9,   2.7071,     -999.0,-999.000,     -999.0,          9,     -999.0,          9,-999.000,          9