BOTTLE,20220818CCHSIOAMB
EXPOCODE,SECT_ID,STNNBR,CASTNO,SAMPNO,BTLNBR,BTLNBR_FLAG_W,DATE,TIME,LATITUDE,LONGITUDE,DEPTH,CTDPRS,CTDTMP,CTDSAL,CTDSAL_FLAG_W,SALNTY,SALNTY_FLAG_W,CTDOXY,CTDOXY_FLAG_W,OXYGEN,OXYGEN_FLAG_W,SILCAT,SILCAT_FLAG_W,NITRAT,NITRAT_FLAG_W,NITRIT,NITRIT_FLAG_W,PHSPHT,PHSPHT_FLAG_W,CFC-11,CFC-11_FLAG_W,CFC-12,CFC-12_FLAG_W,CFC113,CFC113_FLAG_W,TCARBN,TCARBN_FLAG_W,ALKALI,ALKALI_FLAG_W,PCO2,PCO2_FLAG_W,PCO2TMP,PH_SWS,PH_SWS_FLAG_W,PH_TMP,TRITUM,TRITUM_FLAG_W,TRITER,HELIUM,HELIUM_FLAG_W,DELHE3,DELHE3_FLAG_W,DELC13,DELC13_FLAG_W,DELC14,DELC14_FLAG_W,C14ERR,NEON,NEON_FLAG_W,NEONER,CCL4,CCL4_FLAG_W,DOC,DOC_FLAG_W,CTDRAW,CDOM325,CDOM325_FLAG_W,CDOM340,CDOM340_FLAG_W,CDOM380,CDOM380_FLAG_W,CDOM412,CDOM412_FLAG_W,CDOMSL,CDOMSL_FLAG_W,CDOMSN,CDOMSN_FLAG_W,THETA,HELIER,DELHER,CH3CL,CH3CL_FLAG_W,CH3BR,CH3BR_FLAG_W,CH3I,CH3I_FLAG_W
,,,,,,,,,,,METERS,DBAR,ITS-90,PSS-78,,PSS-78,,UMOL/KG,,UMOL/KG,,UMOL/KG,,UMOL/KG,,UMOL/KG,,UMOL/KG,,PMOL/KG,,PMOL/KG,,PMOL/KG,,UMOL/KG,,UMOL/KG,,UATM,,DEG C,,,DEG C,TU,,TU,NMOL/KG,,PERCNT,,/MILLE,,/MILLE,,/MILLE,NMOL/KG,,NMOL/KG,PMOL/KG,,UMOL/KG,,DBAR,1/M,,1/M,,1/M,,1/M,,1/NM,,1/NM,,DEG C,NMOL/KG,PERCNT,PMOL/KG,,PMOL/KG,,PMOL/KG,
 33RO200501,       A16S,      40,          1,         36,         36,2,20050128,       0332,   -42.5000,   -29.3497,       4545,     5.0,  14.4471,  34.7652,2,  34.7632,2,    254.8,2,   254.3,2,    0.57,2,    1.50,2,    0.11,2,    0.29,2,   2.940,2,   1.799,2,   0.259,2,  2049.5,6,  2309.5,2,  -999.0,9,   20.00,   7.9655,2,    25.00,-999.000,9, -999.00,-999.000,9,-999.000,9, -999.00,9,  -999.0,9,  -999.0,-999.000,9,-999.000,   5.720,4, -999.00,9,    5.00,-999.0000,9,-999.0000,9,-999.0000,9,-999.0000,9,-999.0000,9,-999.0000,9,  14.4464,     -999.0,-999.000,     72.981,          2,      1.869,          2,   4.174,          2
 33RO200501,       A16S,      40,          1,         35,         35,2,20050128,       0332,   -42.5000,   -29.3497,       4545,    21.6,  14.4433,  34.7643,2,  34.7624,2,    255.0,2,   254.9,2,    0.55,2,    1.51,2,    0.11,2,    0.29,2,-999.000,9,-999.000,9,-999.000,9,  2050.5,2,  2310.0,6,  -999.0,9,   20.00,-999.0000,5,    25.00,-999.000,9, -999.00,-999.000,9,-999.000,9, -999.00,9,  -999.0,9,  -999.0,-999.000,9,-999.000,-999.000,9, -999.00,9,   21.60,-999.0000,9,-999.0000,9,-999.0000,9,-999.0000,9,-999.0000,9,-999.0000,9,  14.4401,     -999.0,-999.000,     74.403,          2,      1.948,          2,   4.238,          2
 33RO200501,       A16S,      40,          1,         34,         34,2,20050128,       0332,   -42.5000,   -29.3497,       4545,    41.5,  14.0382,  34.7941,2,  34.7921,2,    250.4,2,   250.0,2,    0.88,2,    2.35,2,    0.26,2,    0.38,2,   3.003,2,   1.862,2,   0.236,2,  2060.9,2,  2311.7,2,  -999.0,9,   20.00,   7.9434,2,    25.00,-999.000,9, -999.00,-999.000,9,-999.000,9, -999.00,9,  -999.0,9,  -999.0,-999.000,9,-999.000,   5.799,4, -999.00,9,   41.50,-999.0000,9,-999.0000,9,-999.0000,9,-999.0000,9,-999.0000,9,-999.0000,9,  14.0322,     -999.0,-999.000,     78.834,          2,      1.855,          2,   4.032,          2
 33RO200501,       A16S,      40,          1,         33,         33,2,20050128,       0332,   -42.5000,   -29.3497,       4545,    61.2,  12.3783,  34.8228,2,  34.8206,2,    254.7,2,   253.9,2,    1.84,2,    5.95,2,    0.55,2,    0.58,2,-999.000,9,-999.000,9,-999.000,9,  2082.3,2,  -999.0,5,  -999.0,9,   20.00,   7.8766,2,    25.00,-999.000,9, -999.00,-999.000,9,-999.000,9, -999.00,9,  -999.0,9,  -999.0,-999.000,9,-999.000,-999.000,9, -999.00,9,   61.20,-999.0000,9,-999.0000,9,-999.0000,9,-999.0000,9,-999.0000,9,-999.0000,9,  12.3702,     -999.0,-999.000,     -999.0,          9,     -999.0,          9,-999.000,          9
 33RO200501,       A16S,      40,          1,         32,         32,2,20050128,       0332,   -42.5000,   -29.3497,       4545,    79.9,  11.3328,  34.7975,2,  34.7998,2,    257.6,2,   256.8,2,    2.29,2,    8.51,2,    0.07,2,    0.69,2,-999.000,9,-999.000,9,-999.000,9,  -999.0,9,  -999.0,9,  -999.0,9,   20.00,-999.0000,9,    25.00,-999.000,9, -999.00,-999.000,9,-999.000,9, -999.00,9,  -999.0,9,  -999.0,-999.000,9,-999.000,-999.000,9, -999.00,9,   79.90,-999.0000,9,-999.0000,9,-999.0000,9,-999.0000,9,-999.0000,9,-999.0000,9,  11.3229,     -999.0,-999.000,     50.032,          2,      0.806,          2,   1.131,          2
 33RO200501,       A16S,      40,          1,         31,         31,2,20050128,       0332,   -42.5000,   -29.3497,       4545,   101.4,  10.7620,  34.7318,2,  34.7308,2,    257.9,2,   255.9,2,    2.63,2,   10.06,2,    0.02,2,    0.78,2,-999.000,9,-999.000,9,-999.000,9,  -999.0,9,  -999.0,9,  -999.0,9,   20.00,-999.0000,9,    25.00,-999.000,9, -999.00,-999.000,9,-999.000,9, -999.00,9,  -999.0,9,  -999.0,-999.000,9,-999.000,-999.000,9, -999.00,9,  101.40,-999.0000,9,-999.0000,9,-999.0000,9,-999.0000,9,-999.0000,9,-999.0000,9,  10.7498,     -999.0,-999.000,     -999.0,          9,     -999.0,          9,-999.000,          9
 33RO200501,       A16S,      40,          1,         30,         30,2,20050128,       0332,   -42.5000,   -29.3497,       4545,   125.2,   9.7539,  34.6224,2,  34.6192,2,    250.9,2,   250.9,2,    3.38,2,   13.06,2,    0.02,2,    0.94,2,   3.606,2,   2.115,2,   0.256,2,  2107.9,2,  -999.0,5,  -999.0,9,   20.00,   7.8269,2,    25.00,-999.000,9, -999.00,-999.000,9,-999.000,9, -999.00,9,  -999.0,9,  -999.0,-999.000,9,-999.000,   2.471,3, -999.00,9,  125.20,-999.0000,9,-999.0000,9,-999.0000,9,-999.0000,9,-999.0000,9,-999.0000,9,   9.7398,     -999.0,-999.000,     -999.0,          9,     -999.0,          9,-999.000,          9
 33RO200501,       A16S,      40,          1,         29,         29,2,20050128,       0332,   -42.5000,   -29.3497,       4545,   149.5,   8.8377,  34.5491,2,  34.5487,2,    245.7,2,   245.0,2,    4.42,2,   16.09,2,    0.02,2,    1.11,2,-999.000,9,-999.000,9,-999.000,9,  -999.0,9,  -999.0,9,  -999.0,9,   20.00,-999.0000,9,    25.00,-999.000,9, -999.00,-999.000,9,-999.000,9, -999.00,9,  -999.0,9,  -999.0,-999.000,9,-999.000,-999.000,9, -999.00,9,  149.50,-999.0000,9,-999.0000,9,-999.0000,9,-999.0000,9,-999.0000,9,-999.0000,9,   8.8218,     -999.0,-999.000,     22.751,          2,      0.292,          2,   0.264,          2
 33RO200501,       A16S,      40,          1,         28,         28,2,20050128,       0332,   -42.5000,   -29.3497,       4545,   169.4,   8.2176,  34.4850,2,  34.4825,2,    247.3,2,   247.8,2,    5.00,2,   17.50,2,    0.01,2,    1.19,2,-999.000,9,-999.000,9,-999.000,9,  -999.0,9,  -999.0,9,  -999.0,9,   20.00,-999.0000,9,    25.00,-999.000,9, -999.00,-999.000,9,-999.000,9, -999.00,9,  -999.0,9,  -999.0,-999.000,9,-999.000,-999.000,9, -999.00,9,  169.40,-999.0000,9,-999.0000,9,-999.0000,9,-999.0000,9,-999.0000,9,-999.0000,9,   8.2004,     -999.0,-999.000,     -999.0,          9,     -999.0,          9,-999.000,          9
 33RO200501,       A16S,      40,          1,         27,         27,2,20050128,       0332,   -42.5000,   -29.3497,       4545,   200.9,   7.6814,  34.4343,2,  34.4326,2,    240.9,2,   240.1,2,    6.22,2,   20.02,2,    0.01,2,    1.34,2,-999.000,9,-999.000,9,-999.000,9,  -999.0,9,  -999.0,9,  -999.0,9,   20.00,-999.0000,9,    25.00,-999.000,9, -999.00,-999.000,9,-999.000,9, -999.00,9,  -999.0,9,  -999.0,-999.000,9,-999.000,-999.000,9, -999.00,9,  200.90,-999.0000,9,-999.0000,9,-999.0000,9,-999.0000,9,-999.0000,9,-999.0000,9,   7.6617,     -999.0,-999.000,     12.867,          2,      0.292,          2,   0.169,          2
 33RO200501,       A16S,      40,          1,         26,         26,2,20050128,       0332,   -42.5000,   -29.3497,       4545,   250.0,   6.5837,  34.3382,2,  34.3383,2,    239.9,2,   238.0,2,    8.38,2,   23.29,2,    0.01,2,    1.53,2,   3.801,2,   2.099,2,   0.250,2,  2143.0,2,  -999.0,5,  -999.0,9,   20.00,   7.7125,2,    25.00,-999.000,9, -999.00,-999.000,9,-999.000,9, -999.00,9,  -999.0,9,  -999.0,-999.000,9,-999.000,   2.668,3, -999.00,9,  250.00,-999.0000,9,-999.0000,9,-999.0000,9,-999.0000,9,-999.0000,9,-999.0000,9,   6.5612,     -999.0,-999.000,     -999.0,          9,     -999.0,          9,-999.000,          9
 33RO200501,       A16S,      40,          1,         25,         25,2,20050128,       0332,   -42.5000,   -29.3497,       4545,   302.5,   5.7572,  34.2677,2,  34.2588,2,    248.6,2,   247.3,2,    9.88,2,   24.77,2,    0.01,2,    1.62,2,-999.000,9,-999.000,9,-999.000,9,  -999.0,9,  -999.0,9,  -999.0,9,   20.00,-999.0000,9,    25.00,-999.000,9, -999.00,-999.000,9,-999.000,9, -999.00,9,  -999.0,9,  -999.0,-999.000,9,-999.000,-999.000,9, -999.00,9,  302.50,-999.0000,9,-999.0000,9,-999.0000,9,-999.0000,9,-999.0000,9,-999.0000,9,   5.7319,     -999.0,-999.000,     -999.0,          9,     -999.0,          9,-999.000,          9
 33RO200501,       A16S,      40,          1,         24,         24,2,20050128,       0332,   -42.5000,   -29.3497,       4545,   350.2,   5.0432,  34.2027,2,  34.2023,2,    258.0,2,   262.7,2,   10.98,2,   25.70,2,    0.01,2,    1.68,2,-999.000,9,-999.000,9,-999.000,9,  -999.0,9,  -999.0,9,  -999.0,9,   20.00,-999.0000,9,    25.00,-999.000,9, -999.00,-999.000,9,-999.000,9, -999.00,9,  -999.0,9,  -999.0,-999.000,9,-999.000,-999.000,9, -999.00,9,  350.20,-999.0000,9,-999.0000,9,-999.0000,9,-999.0000,9,-999.0000,9,-999.0000,9,   5.0157,     -999.0,-999.000,      7.413,          2,      0.436,          2,   0.078,          2
 33RO200501,       A16S,      40,          1,         23,         23,2,20050128,       0332,   -42.5000,   -29.3497,       4545,   400.8,   4.7313,  34.1885,2,  34.1886,2,    261.5,2,   259.3,2,   12.34,2,   26.18,2,    0.00,2,    1.71,2,-999.000,9,-999.000,9,-999.000,9,  -999.0,9,  -999.0,9,  -999.0,9,   20.00,-999.0000,9,    25.00,-999.000,9, -999.00,-999.000,9,-999.000,9, -999.00,9,  -999.0,9,  -999.0,-999.000,9,-999.000,-999.000,9, -999.00,9,  400.80,-999.0000,9,-999.0000,9,-999.0000,9,-999.0000,9,-999.0000,9,-999.0000,9,   4.7007,     -999.0,-999.000,     -999.0,          9,     -999.0,          9,-999.000,          9
 33RO200501,       A16S,      40,          1,         22,         22,2,20050128,       0332,   -42.5000,   -29.3497,       4545,   500.3,   4.2220,  34.1803,2,  34.1814,2,    262.5,2,   260.1,2,   15.85,2,   27.32,2,    0.00,2,    1.79,2,   3.962,2,   2.143,2,   0.297,2,  2153.4,2,  -999.0,5,  -999.0,9,   20.00,   7.6828,2,    25.00,-999.000,9, -999.00,-999.000,9,-999.000,9, -999.00,9,  -999.0,9,  -999.0,-999.000,9,-999.000,   3.346,3, -999.00,9,  500.30,-999.0000,9,-999.0000,9,-999.0000,9,-999.0000,9,-999.0000,9,-999.0000,9,   4.1855,     -999.0,-999.000,     -999.0,          9,     -999.0,          9,-999.000,          9
 33RO200501,       A16S,      40,          1,         21,         21,2,20050128,       0332,   -42.5000,   -29.3497,       4545,   601.5,   3.6704,  34.1745,2,  34.1745,2,    257.5,2,   255.9,2,   20.97,2,   28.80,2,    0.00,2,    1.89,2,-999.000,9,-999.000,9,-999.000,9,  -999.0,9,  -999.0,9,  -999.0,9,   20.00,-999.0000,9,    25.00,-999.000,9, -999.00,-999.000,9,-999.000,9, -999.00,9,  -999.0,9,  -999.0,-999.000,9,-999.000,-999.000,9, -999.00,9,  601.50,-999.0000,9,-999.0000,9,-999.0000,9,-999.0000,9,-999.0000,9,-999.0000,9,   3.6286,     -999.0,-999.000,      9.714,          2,      0.747,          2,   0.068,          2
 33RO200501,       A16S,      40,          1,         20,         20,2,20050128,       0332,   -42.5000,   -29.3497,       4545,   701.3,   3.3224,  34.1944,2,  34.1951,2,    247.8,2,   247.6,2,   26.44,6,   29.88,6,    0.00,6,    1.97,6,-999.000,9,-999.000,9,-999.000,9,  -999.0,9,  -999.0,9,  -999.0,9,   20.00,-999.0000,9,    25.00,-999.000,9, -999.00,-999.000,9,-999.000,9, -999.00,9,  -999.0,9,  -999.0,-999.000,9,-999.000,-999.000,9, -999.00,9,  701.30,-999.0000,9,-999.0000,9,-999.0000,9,-999.0000,9,-999.0000,9,-999.0000,9,   3.2750,     -999.0,-999.000,     -999.0,          9,     -999.0,          9,-999.000,          9
 33RO200501,       A16S,      40,          1,         19,         19,2,20050128,       0332,   -42.5000,   -29.3497,       4545,   800.3,   3.0894,  34.2377,2,  34.2375,2,    232.9,2,   232.7,2,   33.49,2,   31.27,2,    0.00,2,    2.07,2,-999.000,9,-999.000,9,-999.000,9,  -999.0,9,  -999.0,9,  -999.0,9,   20.00,-999.0000,9,    25.00,-999.000,9, -999.00,-999.000,9,-999.000,9, -999.00,9,  -999.0,9,  -999.0,-999.000,9,-999.000,-999.000,9, -999.00,9,  800.30,-999.0000,9,-999.0000,9,-999.0000,9,-999.0000,9,-999.0000,9,-999.0000,9,   3.0361,     -999.0,-999.000,     -999.0,          9,     -999.0,          9,-999.000,          9
 33RO200501,       A16S,      40,          1,         18,         18,2,20050128,       0332,   -42.5000,   -29.3497,       4545,   899.8,   2.9638,  34.2961,2,  34.2967,2,    215.1,2,   215.3,2,   41.61,2,   32.49,2,    0.00,2,    2.16,2,-999.000,9,-999.000,9,-999.000,9,  -999.0,5,  -999.0,5,  -999.0,9,   20.00,   7.6185,2,    25.00,-999.000,9, -999.00,-999.000,9,-999.000,9, -999.00,9,  -999.0,9,  -999.0,-999.000,9,-999.000,-999.000,9, -999.00,9,  899.80,-999.0000,9,-999.0000,9,-999.0000,9,-999.0000,9,-999.0000,9,-999.0000,9,   2.9040,     -999.0,-999.000,     15.462,          2,      0.890,          2,   0.133,          2
 33RO200501,       A16S,      40,          1,         17,         17,2,20050128,       0332,   -42.5000,   -29.3497,       4545,  1001.6,   2.8262,  34.3645,2,  34.3650,2,    202.4,2,   200.4,2,   50.02,2,   33.44,2,    0.00,2,    2.22,2,   1.558,2,   0.782,2,   0.084,2,  2215.9,2,  -999.0,5,  -999.0,9,   20.00,-999.0000,5,    25.00,-999.000,9, -999.00,-999.000,9,-999.000,9, -999.00,9,  -999.0,9,  -999.0,-999.000,9,-999.000,   1.653,3, -999.00,9, 1001.60,-999.0000,9,-999.0000,9,-999.0000,9,-999.0000,9,-999.0000,9,-999.0000,9,   2.7598,     -999.0,-999.000,     -999.0,          9,     -999.0,          9,-999.000,          9
 33RO200501,       A16S,      40,          1,         16,         16,2,20050128,       0332,   -42.5000,   -29.3497,       4545,  1098.5,   2.7721,  34.4284,2,  34.4290,2,    191.1,2,   189.0,2,   56.12,6,   33.71,6,    0.00,6,    2.25,6,   1.058,2,   0.526,2,   0.060,2,  2226.0,2,  2322.1,2,  -999.0,9,   20.00,   7.5769,2,    25.00,-999.000,9, -999.00,-999.000,9,-999.000,9, -999.00,9,  -999.0,9,  -999.0,-999.000,9,-999.000,   1.112,3, -999.00,9, 1098.50,-999.0000,9,-999.0000,9,-999.0000,9,-999.0000,9,-999.0000,9,-999.0000,9,   2.6988,     -999.0,-999.000,     -999.0,          9,     -999.0,          9,-999.000,          9
 33RO200501,       A16S,      40,          1,         15,         15,2,20050128,       0332,   -42.5000,   -29.3497,       4545,  1299.8,   2.7643,  34.5467,2,  34.5476,2,    180.1,2,   179.0,2,   62.35,2,   33.38,2,    0.00,2,    2.22,2,-999.000,9,-999.000,9,-999.000,9,  2234.2,2,  2332.6,2,  -999.0,9,   20.00,   7.5816,2,    25.00,-999.000,9, -999.00,-999.000,9,-999.000,9, -999.00,9,  -999.0,9,  -999.0,-999.000,9,-999.000,-999.000,9, -999.00,9, 1299.80,-999.0000,9,-999.0000,9,-999.0000,9,-999.0000,9,-999.0000,9,-999.0000,9,   2.6753,     -999.0,-999.000,     19.160,          2,      1.189,          2,   0.034,          2
 33RO200501,       A16S,      40,          1,         14,         14,2,20050128,       0332,   -42.5000,   -29.3497,       4545,  1500.5,   2.6287,  34.6275,2,  34.6310,2,    176.6,2,   176.9,2,   69.55,2,   32.79,2,    0.00,2,    2.19,2,   0.308,2,   0.153,2,   0.004,2,  2240.1,2,  2340.4,2,  -999.0,9,   20.00,-999.0000,5,    25.00,-999.000,9, -999.00,-999.000,9,-999.000,9, -999.00,9,  -999.0,9,  -999.0,-999.000,9,-999.000,   0.444,3, -999.00,9, 1500.50,-999.0000,9,-999.0000,9,-999.0000,9,-999.0000,9,-999.0000,9,-999.0000,9,   2.5250,     -999.0,-999.000,     -999.0,          9,     -999.0,          9,-999.000,          9
 33RO200501,       A16S,      40,          1,         13,         13,2,20050128,       0332,   -42.5000,   -29.3497,       4545,  1707.4,   2.8633,  34.7371,2,  34.7364,2,    190.6,2,   191.4,2,   60.16,2,   29.69,2,    0.00,2,    1.97,2,-999.000,9,-999.000,9,-999.000,9,  -999.0,9,  -999.0,9,  -999.0,9,   20.00,-999.0000,9,    25.00,-999.000,9, -999.00,-999.000,9,-999.000,9, -999.00,9,  -999.0,9,  -999.0,-999.000,9,-999.000,-999.000,9, -999.00,9, 1707.40,-999.0000,9,-999.0000,9,-999.0000,9,-999.0000,9,-999.0000,9,-999.0000,9,   2.7392,     -999.0,-999.000,     -999.0,          9,     -999.0,          9,-999.000,          9
 33RO200501,       A16S,      40,          1,         11,         11,3,20050128,       0332,   -42.5000,   -29.3497,       4545,  1900.9,   2.8025,  34.7735,2,  34.7734,2,    197.4,2,  -999.0,9,   59.55,2,   28.54,2,    0.00,2,    1.91,2,-999.000,9,-999.000,9,-999.000,9,  -999.0,9,  -999.0,9,  -999.0,9,   20.00,-999.0000,9,    25.00,-999.000,9, -999.00,-999.000,9,-999.000,9, -999.00,9,  -999.0,9,  -999.0,-999.000,9,-999.000,-999.000,9, -999.00,9, 1900.90,-999.0000,9,-999.0000,9,-999.0000,9,-999.0000,9,-999.0000,9,-999.0000,9,   2.6623,     -999.0,-999.000,     -999.0,          9,     -999.0,          9,-999.000,          9
 33RO200501,       A16S,      40,          1,         12,         12,2,20050128,       0332,   -42.5000,   -29.3497,       4545,  1901.6,   2.8023,  34.7731,2,  34.7732,2,    197.4,2,   197.5,2,   59.76,6,   28.55,6,    0.00,6,    1.90,6,-999.000,9,-999.000,9,-999.000,9,  -999.0,9,  -999.0,9,  -999.0,9,   20.00,-999.0000,9,    25.00,-999.000,9, -999.00,-999.000,9,-999.000,9, -999.00,9,  -999.0,9,  -999.0,-999.000,9,-999.000,-999.000,9, -999.00,9, 1901.60,-999.0000,9,-999.0000,9,-999.0000,9,-999.0000,9,-999.0000,9,-999.0000,9,   2.6620,     -999.0,-999.000,      1.852,          2,      0.189,          2,   0.021,          2
 33RO200501,       A16S,      40,          1,         10,         10,2,20050128,       0332,   -42.5000,   -29.3497,       4545,  2100.8,   2.6949,  34.8042,2,  34.8044,2,    205.1,2,   205.6,2,   59.64,2,   27.45,2,    0.00,2,    1.84,2,-999.000,9,-999.000,9,-999.000,9,  -999.0,9,  -999.0,9,  -999.0,9,   20.00,-999.0000,9,    25.00,-999.000,9, -999.00,-999.000,9,-999.000,9, -999.00,9,  -999.0,9,  -999.0,-999.000,9,-999.000,-999.000,9, -999.00,9, 2100.80,-999.0000,9,-999.0000,9,-999.0000,9,-999.0000,9,-999.0000,9,-999.0000,9,   2.5383,     -999.0,-999.000,     -999.0,          9,     -999.0,          9,-999.000,          9
 33RO200501,       A16S,      40,          1,          9,          9,2,20050128,       0332,   -42.5000,   -29.3497,       4545,  2298.5,   2.5559,  34.8080,2,  34.8083,2,    207.6,2,   207.5,2,   62.74,2,   27.37,2,    0.00,2,    1.83,2,-999.000,9,-999.000,9,-999.000,9,  -999.0,9,  -999.0,9,  -999.0,9,   20.00,-999.0000,9,    25.00,-999.000,9, -999.00,-999.000,9,-999.000,9, -999.00,9,  -999.0,9,  -999.0,-999.000,9,-999.000,-999.000,9, -999.00,9, 2298.50,-999.0000,9,-999.0000,9,-999.0000,9,-999.0000,9,-999.0000,9,-999.0000,9,   2.3835,     -999.0,-999.000,      2.047,          2,      0.000,          2,   0.018,          2
 33RO200501,       A16S,      40,          1,          8,          8,2,20050128,       0332,   -42.5000,   -29.3497,       4545,  2500.0,   2.4244,  34.8198,2,  34.8194,2,    213.6,2,   213.6,2,   63.47,6,   26.68,6,    0.00,6,    1.79,6,   0.052,2,   0.027,2,   0.004,2,  -999.0,9,  -999.0,9,  -999.0,9,   20.00,-999.0000,9,    25.00,-999.000,9, -999.00,-999.000,9,-999.000,9, -999.00,9,  -999.0,9,  -999.0,-999.000,9,-999.000,   0.097,3, -999.00,9, 2500.00,-999.0000,9,-999.0000,9,-999.0000,9,-999.0000,9,-999.0000,9,-999.0000,9,   2.2355,     -999.0,-999.000,     -999.0,          9,     -999.0,          9,-999.000,          9