BOTTLE,20220818CCHSIOAMB
EXPOCODE,SECT_ID,STNNBR,CASTNO,SAMPNO,BTLNBR,BTLNBR_FLAG_W,DATE,TIME,LATITUDE,LONGITUDE,DEPTH,CTDPRS,CTDTMP,CTDSAL,CTDSAL_FLAG_W,SALNTY,SALNTY_FLAG_W,CTDOXY,CTDOXY_FLAG_W,OXYGEN,OXYGEN_FLAG_W,SILCAT,SILCAT_FLAG_W,NITRAT,NITRAT_FLAG_W,NITRIT,NITRIT_FLAG_W,PHSPHT,PHSPHT_FLAG_W,CFC-11,CFC-11_FLAG_W,CFC-12,CFC-12_FLAG_W,CFC113,CFC113_FLAG_W,TCARBN,TCARBN_FLAG_W,ALKALI,ALKALI_FLAG_W,PCO2,PCO2_FLAG_W,PCO2TMP,PH_SWS,PH_SWS_FLAG_W,PH_TMP,TRITUM,TRITUM_FLAG_W,TRITER,HELIUM,HELIUM_FLAG_W,DELHE3,DELHE3_FLAG_W,DELC13,DELC13_FLAG_W,DELC14,DELC14_FLAG_W,C14ERR,NEON,NEON_FLAG_W,NEONER,CCL4,CCL4_FLAG_W,DOC,DOC_FLAG_W,CTDRAW,CDOM325,CDOM325_FLAG_W,CDOM340,CDOM340_FLAG_W,CDOM380,CDOM380_FLAG_W,CDOM412,CDOM412_FLAG_W,CDOMSL,CDOMSL_FLAG_W,CDOMSN,CDOMSN_FLAG_W,THETA,HELIER,DELHER,CH3CL,CH3CL_FLAG_W,CH3BR,CH3BR_FLAG_W,CH3I,CH3I_FLAG_W
,,,,,,,,,,,METERS,DBAR,ITS-90,PSS-78,,PSS-78,,UMOL/KG,,UMOL/KG,,UMOL/KG,,UMOL/KG,,UMOL/KG,,UMOL/KG,,PMOL/KG,,PMOL/KG,,PMOL/KG,,UMOL/KG,,UMOL/KG,,UATM,,DEG C,,,DEG C,TU,,TU,NMOL/KG,,PERCNT,,/MILLE,,/MILLE,,/MILLE,NMOL/KG,,NMOL/KG,PMOL/KG,,UMOL/KG,,DBAR,1/M,,1/M,,1/M,,1/M,,1/NM,,1/NM,,DEG C,NMOL/KG,PERCNT,PMOL/KG,,PMOL/KG,,PMOL/KG,
 33RO200501,       A16S,      89,          1,         36,         36,2,20050212,       0515,   -17.9992,   -25.0002,       5649,     2.3,  26.8722,  37.4371,2,  37.4371,2,    202.0,2,   200.2,2,    1.74,2,    0.00,2,    0.00,2,    0.10,2,   1.647,6,   1.068,6,   0.137,6,  2101.2,6,  2454.7,2,   308.8,2,   20.00,   8.0699,2,    25.00,-999.000,9, -999.00,   1.698,2,  -2.361,2, -999.00,9,  -999.0,9,  -999.0,   6.704,2,   0.007,   1.422,4,   71.33,2,    2.30,   0.0440,2,   0.0300,2,   0.0140,2,   0.0100,2,   0.0270,2,   0.0270,2,  26.8716,      0.001,   0.218,     -999.0,          9,     -999.0,          9,-999.000,          9
 33RO200501,       A16S,      89,          1,         35,         35,2,20050212,       0515,   -17.9992,   -25.0002,       5649,    24.2,  26.7829,  37.4296,2,  37.4194,2,    202.3,2,   201.9,2,    1.75,2,    0.00,2,    0.00,2,    0.10,2,   1.666,2,   1.076,2,   0.136,2,  2101.6,2,  2455.4,6,  -999.0,9,   20.00,   8.0694,2,    25.00,   0.479,2,    0.02,-999.000,9,-999.000,9, -999.00,9,  -999.0,9,  -999.0,-999.000,9,-999.000,   1.416,4,   71.57,2,   24.20,   0.0630,2,   0.0450,2,   0.0220,2,   0.0150,2,   0.0196,2,   0.0201,2,  26.7773,     -999.0,-999.000,     -999.0,          9,     -999.0,          9,-999.000,          9
 33RO200501,       A16S,      89,          1,         34,         34,2,20050212,       0515,   -17.9992,   -25.0002,       5649,    50.5,  25.4436,  37.2364,2,  37.2134,2,    209.4,2,   211.7,2,    1.78,2,    0.00,2,    0.00,2,    0.15,2,   1.793,2,   1.154,2,   0.146,2,  2098.5,2,  -999.0,5,   316.6,2,   20.00,   8.0567,2,    25.00,   0.462,2,    0.02,   1.705,2,  -2.470,2, -999.00,9,  -999.0,9,  -999.0,   6.786,2,   0.007,   1.317,4,   70.13,2,   50.50,   0.0620,2,   0.0410,2,   0.0180,2,   0.0120,2,   0.0257,2,   0.0262,2,  25.4324,      0.001,   0.223,     -999.0,          9,     -999.0,          9,-999.000,          9
 33RO200501,       A16S,      89,          1,         33,         33,2,20050212,       0515,   -17.9992,   -25.0002,       5649,    74.6,  24.0954,  37.0361,2,  37.0352,2,    220.2,2,   219.7,2,    1.84,2,    0.01,2,    0.00,2,    0.16,2,-999.000,9,-999.000,9,-999.000,9,  2093.5,2,  -999.0,5,  -999.0,9,   20.00,   8.0526,2,    25.00,-999.000,9, -999.00,-999.000,9,-999.000,9, -999.00,9,  -999.0,9,  -999.0,-999.000,9,-999.000,-999.000,9,   67.11,2,   74.60,-999.0000,9,-999.0000,9,-999.0000,9,-999.0000,9,-999.0000,9,-999.0000,9,  24.0795,     -999.0,-999.000,     -999.0,          9,     -999.0,          9,-999.000,          9
 33RO200501,       A16S,      89,          1,         32,         32,2,20050212,       0515,   -17.9992,   -25.0002,       5649,   101.0,  23.5978,  37.0362,2,  37.0358,2,    217.4,2,   216.0,2,    1.84,2,    0.01,2,    0.00,2,    0.16,2,   1.904,2,   1.221,2,   0.158,2,  2097.0,2,  2428.4,2,   327.7,2,   20.00,   8.0498,2,    25.00,   0.485,2,    0.02,   1.717,2,  -1.970,2, -999.00,9,  -999.0,9,  -999.0,   6.888,2,   0.007,   1.238,4,   66.95,2,  101.00,   0.0780,2,   0.0500,2,   0.0190,2,   0.0130,2,   0.0282,2,   0.0287,2,  23.5766,      0.001,   0.219,     -999.0,          9,     -999.0,          9,-999.000,          9
 33RO200501,       A16S,      89,          1,         31,         31,2,20050212,       0515,   -17.9992,   -25.0002,       5649,   148.9,  23.1404,  36.9641,2,  36.9784,2,    210.1,2,   211.5,2,    1.85,2,    0.03,2,    0.00,2,    0.17,2,   1.930,2,   1.226,2,   0.152,2,  2100.2,2,  2423.0,2,   337.2,2,   20.00,   8.0388,2,    25.00,   0.457,2,    0.02,   1.733,2,  -1.800,2, -999.00,9,  -999.0,9,  -999.0,   6.950,2,   0.007,   1.160,4,   64.41,2,  148.90,-999.0000,9,-999.0000,9,-999.0000,9,-999.0000,9,-999.0000,9,-999.0000,9,  23.1096,      0.001,   0.221,     -999.0,          9,     -999.0,          9,-999.000,          9
 33RO200501,       A16S,      89,          1,         30,         30,2,20050212,       0515,   -17.9992,   -25.0002,       5649,   200.2,  18.5353,  36.0785,2,  36.0647,2,    199.7,2,   199.5,2,    2.55,2,    2.25,2,    0.07,2,    0.35,2,   2.387,2,   1.451,2,   0.113,2,  2106.6,2,  2364.5,2,  -999.0,9,   20.00,   7.9522,2,    25.00,-999.000,9, -999.00,-999.000,9,-999.000,9, -999.00,9,  -999.0,9,  -999.0,-999.000,9,-999.000,   0.671,4,   60.42,2,  200.20,   0.1170,2,   0.0830,2,   0.0370,2,   0.0270,2,   0.0195,2,   0.0207,2,  18.5000,     -999.0,-999.000,     -999.0,          9,     -999.0,          9,-999.000,          9
 33RO200501,       A16S,      89,          1,         29,         29,2,20050212,       0515,   -17.9992,   -25.0002,       5649,   245.8,  15.5327,  35.5599,2,  35.5616,2,    197.6,2,   197.8,2,    3.50,2,    6.45,2,    0.01,2,    0.55,2,   2.683,2,   1.573,2,   0.047,2,  2110.9,2,  2331.6,2,   501.0,2,   20.00,   7.8890,2,    25.00,   0.449,2,    0.01,   1.764,2,  -0.850,2, -999.00,9,  -999.0,9,  -999.0,   7.320,2,   0.008,   0.510,4,   57.80,2,  245.80,-999.0000,9,-999.0000,9,-999.0000,9,-999.0000,9,-999.0000,9,-999.0000,9,  15.4944,      0.001,   0.213,     -999.0,          9,     -999.0,          9,-999.000,          9
 33RO200501,       A16S,      89,          1,         28,         28,2,20050212,       0515,   -17.9992,   -25.0002,       5649,   298.7,  13.5117,  35.2565,2,  35.2579,2,    193.1,2,   193.0,2,    4.82,2,   10.68,2,    0.01,2,    0.78,2,-999.000,9,-999.000,9,-999.000,9,  2119.0,2,  2314.2,2,  -999.0,9,   20.00,   7.8364,2,    25.00,-999.000,9, -999.00,-999.000,9,-999.000,9, -999.00,9,  -999.0,9,  -999.0,-999.000,9,-999.000,-999.000,9,   52.63,2,  298.70,   0.0960,2,   0.0670,2,   0.0330,2,   0.0240,2,   0.0195,2,   0.0209,2,  13.4693,     -999.0,-999.000,     -999.0,          9,     -999.0,          9,-999.000,          9
 33RO200501,       A16S,      89,          1,         27,         27,2,20050212,       0515,   -17.9992,   -25.0002,       5649,   351.1,  11.6236,  35.0089,2,  35.0090,2,    184.7,2,   182.2,2,    7.16,2,   16.01,2,    0.00,2,    1.09,2,   2.722,2,   1.469,2,   0.045,2,  2139.2,2,  2300.5,2,   679.3,2,   20.00,   7.7705,2,    25.00,   0.341,2,    0.01,   1.776,2,   0.060,2, -999.00,9,  -999.0,9,  -999.0,   7.529,2,   0.007,   0.711,4,   50.08,2,  351.10,-999.0000,9,-999.0000,9,-999.0000,9,-999.0000,9,-999.0000,9,-999.0000,9,  11.5784,      0.001,   0.226,     -999.0,          9,     -999.0,          9,-999.000,          9
 33RO200501,       A16S,      89,          1,         26,         26,2,20050212,       0515,   -17.9992,   -25.0002,       5649,   401.0,  10.1444,  34.8350,2,  34.8339,2,    177.0,2,   182.7,2,    9.48,2,   19.32,2,    0.00,2,    1.28,2,   2.567,2,   1.371,2,   0.061,2,  2148.6,2,  2294.4,2,   750.6,2,   20.00,   7.7313,2,    25.00,-999.000,9, -999.00,-999.000,9,-999.000,9, -999.00,9,  -999.0,9,  -999.0,-999.000,9,-999.000,   0.882,4,   46.98,2,  401.00,   0.1200,2,   0.0830,2,   0.0430,3,   0.0300,3,   0.0161,3,   0.0182,3,  10.0970,     -999.0,-999.000,     -999.0,          9,     -999.0,          9,-999.000,          9
 33RO200501,       A16S,      89,          1,         25,         25,2,20050212,       0515,   -17.9992,   -25.0002,       5649,   500.7,   8.1069,  34.6448,2,  34.6476,2,    157.6,2,   156.4,2,   15.72,2,   26.61,2,    0.00,2,    1.72,2,   1.712,2,   0.885,2,   0.045,2,  2181.4,2,  2296.3,2,   959.5,2,   20.00,   7.6369,2,    25.00,   0.152,2,    0.01,-999.000,9,-999.000,9, -999.00,9,  -999.0,9,  -999.0,-999.000,9,-999.000,   0.848,4,   43.48,2,  500.70,-999.0000,9,-999.0000,9,-999.0000,9,-999.0000,9,-999.0000,9,-999.0000,9,   8.0551,     -999.0,-999.000,     -999.0,          9,     -999.0,          9,-999.000,          9
 33RO200501,       A16S,      89,          1,         24,         24,2,20050212,       0515,   -17.9992,   -25.0002,       5649,   599.9,   5.9100,  34.4854,2,  34.4838,2,    158.0,2,   158.5,2,   23.94,2,   31.31,2,    0.00,2,    2.02,2,   0.775,2,   0.401,2,   0.020,2,  2198.6,2,  2295.8,2,  1079.4,2,   20.00,   7.5884,2,    25.00,   0.010,2,    0.01,   1.794,2,   1.150,2, -999.00,9,  -999.0,9,  -999.0,   7.714,2,   0.005,   0.693,4,   42.10,2,  599.90,   0.1370,3,   0.0980,3,   0.0540,3,   0.0400,3,   0.0129,4,   0.0149,4,   5.8576,      0.002,   0.204,     -999.0,          9,     -999.0,          9,-999.000,          9
 33RO200501,       A16S,      89,          1,         23,         23,2,20050212,       0515,   -17.9992,   -25.0002,       5649,   699.7,   4.7929,  34.4364,2,  34.4341,2,    168.5,2,   168.1,2,   30.33,2,   32.49,2,    0.00,2,    2.11,2,   0.379,2,   0.193,2,   0.014,2,  2203.5,2,  2299.7,2,  1096.8,2,   20.00,   7.5811,2,    25.00,   0.001,2,    0.01,   1.811,2,   2.140,2, -999.00,9,  -999.0,9,  -999.0,   7.920,2,   0.008,   0.531,4,   41.71,2,  699.70,-999.0000,9,-999.0000,9,-999.0000,9,-999.0000,9,-999.0000,9,-999.0000,9,   4.7373,      0.001,   0.224,     -999.0,          9,     -999.0,          9,-999.000,          9
 33RO200501,       A16S,      89,          1,         22,         22,2,20050212,       0515,   -17.9992,   -25.0002,       5649,   800.0,   4.2152,  34.4386,2,  34.4371,2,    174.6,2,   174.5,2,   35.04,2,   32.66,2,    0.00,2,    2.13,2,   0.225,2,   0.120,2,   0.003,2,  2207.3,2,  2305.4,2,  1093.9,2,   20.00,   7.5831,2,    25.00,-999.000,9, -999.00,-999.000,9,-999.000,9, -999.00,9,  -999.0,9,  -999.0,-999.000,9,-999.000,   0.426,4,   40.04,2,  800.00,   0.1340,3,   0.0940,3,   0.0520,3,   0.0390,3,   0.0124,4,   0.0149,4,   4.1546,     -999.0,-999.000,     -999.0,          9,     -999.0,          9,-999.000,          9
 33RO200501,       A16S,      89,          1,         21,         21,2,20050212,       0515,   -17.9992,   -25.0002,       5649,   899.8,   3.8608,  34.4685,2,  34.4654,2,    179.7,2,   179.1,2,   38.44,2,   32.35,2,    0.00,2,    2.11,2,   0.167,2,   0.090,2,   0.000,2,  2209.4,2,  2305.8,2,  1082.4,2,   20.00,   7.5880,2,    25.00,   0.019,2,    0.01,   1.832,2,   3.010,2, -999.00,9,  -999.0,9,  -999.0,   7.891,2,   0.006,   0.357,4,   39.80,2,  899.80,-999.0000,9,-999.0000,9,-999.0000,9,-999.0000,9,-999.0000,9,-999.0000,9,   3.7944,      0.002,   0.228,     -999.0,          9,     -999.0,          9,-999.000,          9
 33RO200501,       A16S,      89,          1,         20,         20,2,20050212,       0515,   -17.9992,   -25.0002,       5649,   999.4,   3.7473,  34.5274,2,  34.5274,2,    180.3,2,   180.2,2,   39.81,6,   31.77,6,    0.00,6,    2.08,6,   0.084,2,   0.047,2,   0.004,2,  2212.5,6,  2310.1,2,  1067.0,2,   20.00,   7.5939,2,    25.00,   0.001,2,    0.01,-999.000,9,-999.000,9, -999.00,9,  -999.0,9,  -999.0,-999.000,9,-999.000,   0.226,4,   39.24,2,  999.40,   0.1350,3,   0.0950,3,   0.0530,3,   0.0380,3,   0.0134,3,   0.0155,3,   3.6737,     -999.0,-999.000,     -999.0,          9,     -999.0,          9,-999.000,          9
 33RO200501,       A16S,      89,          1,         19,         19,2,20050212,       0515,   -17.9992,   -25.0002,       5649,  1099.4,   3.7604,  34.6148,2,  34.6138,2,    182.5,2,   182.5,2,   38.01,2,   30.52,2,    0.00,2,    1.99,2,   0.033,2,   0.015,2,   0.000,2,  2208.3,2,  2309.2,6,  1030.3,2,   20.00,   7.6074,2,    25.00,-999.000,9, -999.00,   1.820,2,   2.630,2, -999.00,9,  -999.0,9,  -999.0,   7.887,2,   0.005,   0.123,4,   39.37,2, 1099.40,-999.0000,9,-999.0000,9,-999.0000,9,-999.0000,9,-999.0000,9,-999.0000,9,   3.6782,      0.002,   0.206,     -999.0,          9,     -999.0,          9,-999.000,          9
 33RO200501,       A16S,      89,          1,         18,         18,2,20050212,       0515,   -17.9992,   -25.0002,       5649,  1201.5,   3.8094,  34.6889,2,  34.6889,2,    187.0,2,   187.5,2,   35.58,2,   29.10,2,    0.00,2,    1.89,2,   0.018,2,   0.012,2,   0.000,2,  2203.9,2,  2312.9,2,   993.6,2,   20.00,   7.6213,2,    25.00,-999.000,9, -999.00,-999.000,9,-999.000,9, -999.00,9,  -999.0,9,  -999.0,-999.000,9,-999.000,   0.078,4,   39.32,2, 1201.50,-999.0000,9,-999.0000,9,-999.0000,9,-999.0000,9,-999.0000,9,-999.0000,9,   3.7181,     -999.0,-999.000,     -999.0,          9,     -999.0,          9,-999.000,          9
 33RO200501,       A16S,      89,          1,         17,         17,2,20050212,       0515,   -17.9992,   -25.0002,       5649,  1400.3,   3.7481,  34.8204,2,  34.8204,2,    205.2,2,   207.2,2,   31.10,2,   25.67,2,    0.00,2,    1.65,2,   0.004,2,   0.007,2,   0.002,2,  2190.8,2,  2315.0,2,   893.8,2,   20.00,   7.6647,2,    25.00,   0.009,2,    0.01,   1.833,2,   2.590,2, -999.00,9,  -999.0,9,  -999.0,   7.920,2,   0.005,   0.059,4,   39.24,2, 1400.30,-999.0000,9,-999.0000,9,-999.0000,9,-999.0000,9,-999.0000,9,-999.0000,9,   3.6399,      0.002,   0.218,     -999.0,          9,     -999.0,          9,-999.000,          9
 33RO200501,       A16S,      89,          1,         16,         16,2,20050212,       0515,   -17.9992,   -25.0002,       5649,  1601.2,   3.5321,  34.8856,2,  34.8840,2,    223.5,2,   225.1,2,   29.61,2,   23.26,2,    0.00,2,    1.49,2,   0.005,2,   0.009,2,   0.001,2,  2181.3,2,  2318.2,2,   826.4,2,   20.00,   7.6941,2,    25.00,-999.000,9, -999.00,-999.000,9,-999.000,9, -999.00,9,  -999.0,9,  -999.0,-999.000,9,-999.000,   0.070,4,   39.64,2, 1601.20,-999.0000,9,-999.0000,9,-999.0000,9,-999.0000,9,-999.0000,9,-999.0000,9,   3.4084,     -999.0,-999.000,     -999.0,          9,     -999.0,          9,-999.000,          9
 33RO200501,       A16S,      89,          1,         15,         15,2,20050212,       0515,   -17.9992,   -25.0002,       5649,  1800.3,   3.3679,  34.9118,2,  34.9113,2,    235.3,2,   234.3,2,   29.30,2,   22.04,2,    0.00,2,    1.41,2,   0.009,2,   0.005,2,   0.003,2,  2179.4,2,  2316.0,2,   793.6,2,   20.00,   7.7106,2,    25.00,   0.010,2,    0.01,-999.000,9,-999.000,9, -999.00,9,  -999.0,9,  -999.0,-999.000,9,-999.000,   0.084,4,   39.48,2, 1800.30,-999.0000,9,-999.0000,9,-999.0000,9,-999.0000,9,-999.0000,9,-999.0000,9,   3.2284,     -999.0,-999.000,     -999.0,          9,     -999.0,          9,-999.000,          9
 33RO200501,       A16S,      89,          1,         14,         14,2,20050212,       0515,   -17.9992,   -25.0002,       5649,  1999.9,   3.1944,  34.9228,2,  34.9220,2,    242.1,2,   241.9,2,   30.13,2,   21.36,2,    0.00,2,    1.37,2,   0.018,2,   0.011,2,  -0.001,2,  2174.4,2,  2318.1,2,   776.2,2,   20.00,   7.7199,2,    25.00,-999.000,9, -999.00,-999.000,9,-999.000,9, -999.00,9,  -999.0,9,  -999.0,-999.000,9,-999.000,   0.086,4,   39.72,2, 1999.90,   0.1660,3,   0.1210,3,   0.0600,3,   0.0400,3,   0.0155,3,   0.0172,3,   3.0390,     -999.0,-999.000,     -999.0,          9,     -999.0,          9,-999.000,          9
 33RO200501,       A16S,      89,          1,         13,         13,2,20050212,       0515,   -17.9992,   -25.0002,       5649,  2200.9,   3.0383,  34.9228,2,  34.9225,2,    244.7,2,   244.6,2,   31.99,2,   21.18,2,    0.00,2,    1.36,2,-999.000,9,-999.000,9,-999.000,9,  2175.1,2,  2320.9,2,   770.8,2,   20.00,   7.7229,2,    25.00,-999.000,9, -999.00,-999.000,9,-999.000,9, -999.00,9,  -999.0,9,  -999.0,-999.000,9,-999.000,-999.000,9,   39.08,2, 2200.90,-999.0000,9,-999.0000,9,-999.0000,9,-999.0000,9,-999.0000,9,-999.0000,9,   2.8666,     -999.0,-999.000,     -999.0,          9,     -999.0,          9,-999.000,          9
 33RO200501,       A16S,      89,          1,         12,         12,2,20050212,       0515,   -17.9992,   -25.0002,       5649,  2398.3,   2.9361,  34.9223,2,  34.9220,2,    246.3,2,   246.1,2,   33.11,2,   21.04,2,    0.00,2,    1.36,2,   0.015,2,   0.011,2,   0.000,2,  2175.8,2,  2320.7,2,   765.4,2,   20.00,   7.7257,2,    25.00,   0.001,2,    0.01,-999.000,9,-999.000,9, -999.00,9,  -999.0,9,  -999.0,-999.000,9,-999.000,   0.074,4, -999.00,9, 2398.30,-999.0000,9,-999.0000,9,-999.0000,9,-999.0000,9,-999.0000,9,-999.0000,9,   2.7473,     -999.0,-999.000,     -999.0,          9,     -999.0,          9,-999.000,          9
 33RO200501,       A16S,      89,          1,         11,         11,2,20050212,       0515,   -17.9992,   -25.0002,       5649,  2600.0,   2.8523,  34.9196,2,  34.9188,2,    247.1,2,   246.7,2,   34.46,2,   21.06,2,    0.00,2,    1.37,2,-999.000,9,-999.000,9,-999.000,9,  2177.5,2,  2323.7,2,   762.5,2,   20.00,   7.7246,2,    25.00,-999.000,9, -999.00,-999.000,9,-999.000,9, -999.00,9,  -999.0,9,  -999.0,-999.000,9,-999.000,-999.000,9,   39.64,2, 2600.00,-999.0000,9,-999.0000,9,-999.0000,9,-999.0000,9,-999.0000,9,-999.0000,9,   2.6454,     -999.0,-999.000,     -999.0,          9,     -999.0,          9,-999.000,          9
 33RO200501,       A16S,      89,          1,         10,         10,2,20050212,       0515,   -17.9992,   -25.0002,       5649,  2897.7,   2.7544,  34.9139,2,  34.9135,2,    246.9,2,   247.1,2,   36.49,2,   21.18,2,    0.00,2,    1.37,2,   0.005,2,   0.009,2,   0.005,2,  2180.0,2,  2327.2,2,  -999.0,9,   20.00,   7.7292,2,    25.00,   0.024,2,    0.01,   1.840,2,   3.970,2, -999.00,9,  -999.0,9,  -999.0,   8.003,2,   0.005,   0.062,4, -999.00,9, 2897.70,-999.0000,9,-999.0000,9,-999.0000,9,-999.0000,9,-999.0000,9,-999.0000,9,   2.5196,      0.002,   0.209,     -999.0,          9,     -999.0,          9,-999.000,          9
 33RO200501,       A16S,      89,          1,          9,          9,2,20050212,       0515,   -17.9992,   -25.0002,       5649,  3207.2,   2.6418,  34.9106,2,  34.9098,2,    249.5,2,   249.8,2,   37.29,2,   20.98,2,    0.00,2,    1.36,2,   0.019,2,   0.012,2,   0.000,2,  2184.2,2,  2328.5,2,   762.6,2,   20.00,   7.7273,2,    25.00,   0.001,2,    0.01,   1.859,2,   3.570,2, -999.00,9,  -999.0,9,  -999.0,   8.046,2,   0.006,   0.076,4,   39.48,2, 3207.20,-999.0000,9,-999.0000,9,-999.0000,9,-999.0000,9,-999.0000,9,-999.0000,9,   2.3773,      0.002,   0.221,     -999.0,          9,     -999.0,          9,-999.000,          9
 33RO200501,       A16S,      89,          1,          8,          8,2,20050212,       0515,   -17.9992,   -25.0002,       5649,  3498.4,   2.4680,  34.8938,2,  34.8935,2,    248.1,2,   248.1,2,   43.11,2,   21.68,2,    0.00,2,    1.42,2,   0.011,2,   0.002,2,   0.000,2,  2188.0,2,  2333.4,2,   776.1,2,   20.00,   7.7228,2,    25.00,   0.009,2,    0.01,   1.887,2,   3.670,2, -999.00,9,  -999.0,9,  -999.0,   8.173,2,   0.006,   0.054,4, -999.00,9, 3498.40,-999.0000,9,-999.0000,9,-999.0000,9,-999.0000,9,-999.0000,9,-999.0000,9,   2.1766,      0.002,   0.216,     -999.0,          9,     -999.0,          9,-999.000,          9