BOTTLE,20220818CCHSIOAMB
EXPOCODE,SECT_ID,STNNBR,CASTNO,SAMPNO,BTLNBR,BTLNBR_FLAG_W,DATE,TIME,LATITUDE,LONGITUDE,DEPTH,CTDPRS,CTDTMP,CTDSAL,CTDSAL_FLAG_W,SALNTY,SALNTY_FLAG_W,CTDOXY,CTDOXY_FLAG_W,OXYGEN,OXYGEN_FLAG_W,SILCAT,SILCAT_FLAG_W,NITRAT,NITRAT_FLAG_W,NITRIT,NITRIT_FLAG_W,PHSPHT,PHSPHT_FLAG_W,CFC-11,CFC-11_FLAG_W,CFC-12,CFC-12_FLAG_W,CFC113,CFC113_FLAG_W,TCARBN,TCARBN_FLAG_W,ALKALI,ALKALI_FLAG_W,PCO2,PCO2_FLAG_W,PCO2TMP,PH_SWS,PH_SWS_FLAG_W,PH_TMP,TRITUM,TRITUM_FLAG_W,TRITER,HELIUM,HELIUM_FLAG_W,DELHE3,DELHE3_FLAG_W,DELC13,DELC13_FLAG_W,DELC14,DELC14_FLAG_W,C14ERR,NEON,NEON_FLAG_W,NEONER,CCL4,CCL4_FLAG_W,DOC,DOC_FLAG_W,CTDRAW,CDOM325,CDOM325_FLAG_W,CDOM340,CDOM340_FLAG_W,CDOM380,CDOM380_FLAG_W,CDOM412,CDOM412_FLAG_W,CDOMSL,CDOMSL_FLAG_W,CDOMSN,CDOMSN_FLAG_W,THETA,HELIER,DELHER,CH3CL,CH3CL_FLAG_W,CH3BR,CH3BR_FLAG_W,CH3I,CH3I_FLAG_W
,,,,,,,,,,,METERS,DBAR,ITS-90,PSS-78,,PSS-78,,UMOL/KG,,UMOL/KG,,UMOL/KG,,UMOL/KG,,UMOL/KG,,UMOL/KG,,PMOL/KG,,PMOL/KG,,PMOL/KG,,UMOL/KG,,UMOL/KG,,UATM,,DEG C,,,DEG C,TU,,TU,NMOL/KG,,PERCNT,,/MILLE,,/MILLE,,/MILLE,NMOL/KG,,NMOL/KG,PMOL/KG,,UMOL/KG,,DBAR,1/M,,1/M,,1/M,,1/M,,1/NM,,1/NM,,DEG C,NMOL/KG,PERCNT,PMOL/KG,,PMOL/KG,,PMOL/KG,
 33RO200501,       A16S,     115,          1,          7,          7,2,20050219,       2303,    -5.0012,   -25.0013,       5734,  3848.0,   2.2339,  34.8848,2,  34.8856,2,    255.6,2,   256.1,2,   40.90,2,   20.66,2,    0.00,2,    1.33,2,   0.097,2,   0.053,2,   0.000,2,  2184.5,2,  2332.4,2,  -999.0,9,   20.00,   7.7267,2,    25.00,-999.000,9, -999.00,-999.000,9,-999.000,9, -999.00,9,  -999.0,9,  -999.0,-999.000,9,-999.000,   0.280,4,   39.25,2, 3848.00,-999.0000,9,-999.0000,9,-999.0000,9,-999.0000,9,-999.0000,9,-999.0000,9,   1.9102,     -999.0,-999.000,     -999.0,          9,     -999.0,          9,-999.000,          9
 33RO200501,       A16S,     115,          1,          6,          6,2,20050219,       2303,    -5.0012,   -25.0013,       5734,  4148.5,   1.5628,  34.8095,2,  34.8091,2,    240.3,2,   239.1,2,   72.95,2,   25.35,2,    0.00,2,    1.67,2,   0.015,2,   0.011,2,   0.005,2,  2219.0,2,  2349.9,2,  -999.0,9,   20.00,   7.6868,2,    25.00,-999.000,9, -999.00,-999.000,9,-999.000,9, -999.00,9,  -999.0,9,  -999.0,-999.000,9,-999.000,   0.091,4, -999.00,9, 4148.50,-999.0000,9,-999.0000,9,-999.0000,9,-999.0000,9,-999.0000,9,-999.0000,9,   1.2249,     -999.0,-999.000,     -999.0,          9,     -999.0,          9,-999.000,          9
 33RO200501,       A16S,     115,          1,          5,          5,2,20050219,       2303,    -5.0012,   -25.0013,       5734,  4448.6,   1.0292,  34.7510,2,  34.7511,2,    228.6,2,   228.7,2,   95.99,2,   28.56,2,    0.00,2,    1.91,2,-999.000,9,-999.000,9,-999.000,9,  2243.7,2,  2360.0,2,  -999.0,9,   20.00,   7.6692,2,    25.00,-999.000,9, -999.00,-999.000,9,-999.000,9, -999.00,9,  -999.0,9,  -999.0,-999.000,9,-999.000,-999.000,9,   39.65,2, 4448.60,-999.0000,9,-999.0000,9,-999.0000,9,-999.0000,9,-999.0000,9,-999.0000,9,   0.6742,     -999.0,-999.000,     -999.0,          9,     -999.0,          9,-999.000,          9
 33RO200501,       A16S,     115,          1,          4,          4,2,20050219,       2303,    -5.0012,   -25.0013,       5734,  4748.4,   0.8347,  34.7267,2,  34.7267,2,    224.5,2,   224.1,2,  105.39,6,   29.88,6,    0.00,6,    2.01,6,   0.020,2,   0.007,2,   0.000,2,  2252.4,2,  2362.9,2,  -999.0,9,   20.00,   7.6360,2,    25.00,-999.000,9, -999.00,-999.000,9,-999.000,9, -999.00,9,  -999.0,9,  -999.0,-999.000,9,-999.000,   0.077,4, -999.00,9, 4748.40,-999.0000,9,-999.0000,9,-999.0000,9,-999.0000,9,-999.0000,9,-999.0000,9,   0.4521,     -999.0,-999.000,     -999.0,          9,     -999.0,          9,-999.000,          9
 33RO200501,       A16S,     115,          1,          3,          3,2,20050219,       2303,    -5.0012,   -25.0013,       5734,  5048.6,   0.7603,  34.7146,2,  34.7142,2,    222.7,2,   222.6,2,  110.04,6,   30.49,6,    0.00,6,    2.05,6,   0.034,2,   0.019,2,   0.000,2,  2264.4,4,  2364.7,2,  -999.0,9,   20.00,   7.6284,2,    25.00,-999.000,9, -999.00,-999.000,9,-999.000,9, -999.00,9,  -999.0,9,  -999.0,-999.000,9,-999.000,   0.099,4,   39.24,2, 5048.60,-999.0000,9,-999.0000,9,-999.0000,9,-999.0000,9,-999.0000,9,-999.0000,9,   0.3453,     -999.0,-999.000,     -999.0,          9,     -999.0,          9,-999.000,          9
 33RO200501,       A16S,     115,          1,          2,          2,2,20050219,       2303,    -5.0012,   -25.0013,       5734,  5350.0,   0.7520,  34.7095,2,  34.7101,2,    222.5,2,   221.3,2,  112.00,6,   30.74,6,    0.00,6,    2.07,6,   0.039,6,   0.021,6,   0.000,6,  2254.1,2,  2367.0,2,  -999.0,9,   20.00,   7.6283,2,    25.00,-999.000,9, -999.00,-999.000,9,-999.000,9, -999.00,9,  -999.0,9,  -999.0,-999.000,9,-999.000,   0.106,4, -999.00,9, 5350.00,-999.0000,9,-999.0000,9,-999.0000,9,-999.0000,9,-999.0000,9,-999.0000,9,   0.3011,     -999.0,-999.000,     -999.0,          9,     -999.0,          9,-999.000,          9
 33RO200501,       A16S,     115,          1,          1,          1,2,20050219,       2303,    -5.0012,   -25.0013,       5734,  5745.7,   0.7902,  34.7079,2,  34.7111,3,    222.2,2,   221.7,2,  112.25,6,   30.78,6,    0.00,6,    2.07,6,   0.041,2,   0.014,2,   0.000,2,  2257.2,6,  2365.1,2,  -999.0,9,   20.00,   7.6270,2,    25.00,-999.000,9, -999.00,-999.000,9,-999.000,9, -999.00,9,  -999.0,9,  -999.0,-999.000,9,-999.000,   0.105,4,   39.61,2, 5745.70,-999.0000,9,-999.0000,9,-999.0000,9,-999.0000,9,-999.0000,9,-999.0000,9,   0.2886,     -999.0,-999.000,     -999.0,          9,     -999.0,          9,-999.000,          9