BOTTLE,20220818CCHSIOAMB
EXPOCODE,SECT_ID,STNNBR,CASTNO,SAMPNO,BTLNBR,BTLNBR_FLAG_W,DATE,TIME,LATITUDE,LONGITUDE,DEPTH,CTDPRS,CTDTMP,CTDSAL,CTDSAL_FLAG_W,SALNTY,SALNTY_FLAG_W,CTDOXY,CTDOXY_FLAG_W,OXYGEN,OXYGEN_FLAG_W,SILCAT,SILCAT_FLAG_W,NITRAT,NITRAT_FLAG_W,NITRIT,NITRIT_FLAG_W,PHSPHT,PHSPHT_FLAG_W,CFC-11,CFC-11_FLAG_W,CFC-12,CFC-12_FLAG_W,CFC113,CFC113_FLAG_W,TCARBN,TCARBN_FLAG_W,ALKALI,ALKALI_FLAG_W,PCO2,PCO2_FLAG_W,PCO2TMP,PH_SWS,PH_SWS_FLAG_W,PH_TMP,TRITUM,TRITUM_FLAG_W,TRITER,HELIUM,HELIUM_FLAG_W,DELHE3,DELHE3_FLAG_W,DELC13,DELC13_FLAG_W,DELC14,DELC14_FLAG_W,C14ERR,NEON,NEON_FLAG_W,NEONER,CCL4,CCL4_FLAG_W,DOC,DOC_FLAG_W,CTDRAW,CDOM325,CDOM325_FLAG_W,CDOM340,CDOM340_FLAG_W,CDOM380,CDOM380_FLAG_W,CDOM412,CDOM412_FLAG_W,CDOMSL,CDOMSL_FLAG_W,CDOMSN,CDOMSN_FLAG_W,THETA,HELIER,DELHER,CH3CL,CH3CL_FLAG_W,CH3BR,CH3BR_FLAG_W,CH3I,CH3I_FLAG_W
,,,,,,,,,,,METERS,DBAR,ITS-90,PSS-78,,PSS-78,,UMOL/KG,,UMOL/KG,,UMOL/KG,,UMOL/KG,,UMOL/KG,,UMOL/KG,,PMOL/KG,,PMOL/KG,,PMOL/KG,,UMOL/KG,,UMOL/KG,,UATM,,DEG C,,,DEG C,TU,,TU,NMOL/KG,,PERCNT,,/MILLE,,/MILLE,,/MILLE,NMOL/KG,,NMOL/KG,PMOL/KG,,UMOL/KG,,DBAR,1/M,,1/M,,1/M,,1/M,,1/NM,,1/NM,,DEG C,NMOL/KG,PERCNT,PMOL/KG,,PMOL/KG,,PMOL/KG,
 33RO200501,       A16S,      38,          1,         36,         36,2,20050127,       1304,   -43.4970,   -29.9632,       4685,     3.8,  12.5840,  34.3981,2,  34.3955,2,    272.2,2,   273.6,2,    0.63,2,    5.49,2,    0.10,2,    0.56,2,   3.336,2,   2.011,2,   0.303,2,  2054.3,2,  2294.5,6,  -999.0,9,   20.00,   7.9358,2,    25.00,-999.000,9, -999.00,-999.000,9,-999.000,9, -999.00,9,  -999.0,9,  -999.0,-999.000,9,-999.000,   6.381,4, -999.00,9,    3.80,-999.0000,9,-999.0000,9,-999.0000,9,-999.0000,9,-999.0000,9,-999.0000,9,  12.5835,     -999.0,-999.000,     -999.0,          9,     -999.0,          9,-999.000,          9
 33RO200501,       A16S,      38,          1,         35,         35,2,20050127,       1304,   -43.4970,   -29.9632,       4685,    25.9,  12.5375,  34.3982,2,  34.3954,2,    272.5,2,   273.3,2,    0.51,2,    5.50,2,    0.10,2,    0.55,2,-999.000,9,-999.000,9,-999.000,9,  -999.0,9,  -999.0,9,  -999.0,9,   20.00,-999.0000,9,    25.00,-999.000,9, -999.00,-999.000,9,-999.000,9, -999.00,9,  -999.0,9,  -999.0,-999.000,9,-999.000,-999.000,9, -999.00,9,   25.90,-999.0000,9,-999.0000,9,-999.0000,9,-999.0000,9,-999.0000,9,-999.0000,9,  12.5340,     -999.0,-999.000,     75.197,          2,      2.178,          2,   4.483,          2
 33RO200501,       A16S,      38,          1,         34,         34,2,20050127,       1304,   -43.4970,   -29.9632,       4685,    50.2,  11.9365,  34.4348,2,  34.4340,2,    272.3,2,   270.1,2,    0.87,2,    6.55,2,    0.15,2,    0.65,2,-999.000,9,-999.000,9,-999.000,9,  -999.0,9,  -999.0,9,  -999.0,9,   20.00,-999.0000,9,    25.00,-999.000,9, -999.00,-999.000,9,-999.000,9, -999.00,9,  -999.0,9,  -999.0,-999.000,9,-999.000,-999.000,9, -999.00,9,   50.20,-999.0000,9,-999.0000,9,-999.0000,9,-999.0000,9,-999.0000,9,-999.0000,9,  11.9301,     -999.0,-999.000,     74.553,          2,      2.367,          2,   4.323,          2
 33RO200501,       A16S,      38,          1,         33,         33,2,20050127,       1304,   -43.4970,   -29.9632,       4685,    71.3,   9.1591,  34.4947,2,  34.4926,2,    269.1,2,   268.7,2,    2.99,2,   12.72,2,    0.27,2,    0.96,2,-999.000,9,-999.000,9,-999.000,9,  -999.0,9,  -999.0,9,  -999.0,9,   20.00,-999.0000,9,    25.00,-999.000,9, -999.00,-999.000,9,-999.000,9, -999.00,9,  -999.0,9,  -999.0,-999.000,9,-999.000,-999.000,9, -999.00,9,   71.30,-999.0000,9,-999.0000,9,-999.0000,9,-999.0000,9,-999.0000,9,-999.0000,9,   9.1513,     -999.0,-999.000,     52.290,          2,      1.322,          2,   1.251,          2
 33RO200501,       A16S,      38,          1,         32,         32,2,20050127,       1304,   -43.4970,   -29.9632,       4685,    90.2,   8.7082,  34.4821,2,  34.4889,2,    268.4,2,   266.3,2,    3.62,2,   14.08,2,    0.04,2,    1.02,2,-999.000,9,-999.000,9,-999.000,9,  2107.9,2,  2294.3,2,  -999.0,9,   20.00,   7.8204,6,    25.00,-999.000,9, -999.00,-999.000,9,-999.000,9, -999.00,9,  -999.0,9,  -999.0,-999.000,9,-999.000,-999.000,9, -999.00,9,   90.20,-999.0000,9,-999.0000,9,-999.0000,9,-999.0000,9,-999.0000,9,-999.0000,9,   8.6987,     -999.0,-999.000,     -999.0,          9,     -999.0,          9,-999.000,          9
 33RO200501,       A16S,      38,          1,         31,         31,2,20050127,       1304,   -43.4970,   -29.9632,       4685,   116.9,   8.3437,  34.4780,2,  34.4812,2,    264.5,2,   267.3,2,    4.22,2,   15.25,2,    0.02,2,    1.08,2,-999.000,9,-999.000,9,-999.000,9,  -999.0,9,  -999.0,9,  -999.0,9,   20.00,-999.0000,9,    25.00,-999.000,9, -999.00,-999.000,9,-999.000,9, -999.00,9,  -999.0,9,  -999.0,-999.000,9,-999.000,-999.000,9, -999.00,9,  116.90,-999.0000,9,-999.0000,9,-999.0000,9,-999.0000,9,-999.0000,9,-999.0000,9,   8.3317,     -999.0,-999.000,     32.886,          2,      0.467,          2,   0.569,          2
 33RO200501,       A16S,      38,          1,         30,         30,2,20050127,       1304,   -43.4970,   -29.9632,       4685,   141.4,   8.3084,  34.5315,2,  34.5343,2,    260.9,2,   252.3,2,    5.06,2,   16.19,2,    0.02,2,    1.13,2,-999.000,9,-999.000,9,-999.000,9,  -999.0,9,  -999.0,9,  -999.0,9,   20.00,-999.0000,9,    25.00,-999.000,9, -999.00,-999.000,9,-999.000,9, -999.00,9,  -999.0,9,  -999.0,-999.000,9,-999.000,-999.000,9, -999.00,9,  141.40,-999.0000,9,-999.0000,9,-999.0000,9,-999.0000,9,-999.0000,9,-999.0000,9,   8.2939,     -999.0,-999.000,     -999.0,          9,     -999.0,          9,-999.000,          9
 33RO200501,       A16S,      38,          1,         29,         29,2,20050127,       1304,   -43.4970,   -29.9632,       4685,   164.9,   7.2944,  34.3988,2,  34.3937,2,    258.4,2,   260.3,2,    6.16,2,   18.73,2,    0.01,2,    1.28,2,-999.000,9,-999.000,9,-999.000,9,  -999.0,9,  -999.0,9,  -999.0,9,   20.00,-999.0000,9,    25.00,-999.000,9, -999.00,-999.000,9,-999.000,9, -999.00,9,  -999.0,9,  -999.0,-999.000,9,-999.000,-999.000,9, -999.00,9,  164.90,-999.0000,9,-999.0000,9,-999.0000,9,-999.0000,9,-999.0000,9,-999.0000,9,   7.2787,     -999.0,-999.000,     21.745,          2,      0.389,          2,   0.309,          2
 33RO200501,       A16S,      38,          1,         28,         28,2,20050127,       1304,   -43.4970,   -29.9632,       4685,   191.1,   6.7980,  34.3566,2,  34.3600,2,    253.8,2,   253.8,2,    7.12,2,   20.73,2,    0.02,2,    1.39,2,   4.066,2,   2.250,2,   0.327,2,  2131.7,2,  2287.8,2,  -999.0,9,   20.00,   7.7543,2,    25.00,-999.000,9, -999.00,-999.000,9,-999.000,9, -999.00,9,  -999.0,9,  -999.0,-999.000,9,-999.000,   3.454,3, -999.00,9,  191.10,-999.0000,9,-999.0000,9,-999.0000,9,-999.0000,9,-999.0000,9,-999.0000,9,   6.7805,     -999.0,-999.000,     -999.0,          9,     -999.0,          9,-999.000,          9
 33RO200501,       A16S,      38,          1,         27,         27,2,20050127,       1304,   -43.4970,   -29.9632,       4685,   227.8,   5.8637,  34.2547,2,  34.2562,2,    255.4,2,   254.3,2,    8.82,2,   23.32,2,    0.01,2,    1.55,2,-999.000,9,-999.000,9,-999.000,9,  -999.0,9,  -999.0,9,  -999.0,9,   20.00,-999.0000,9,    25.00,-999.000,9, -999.00,-999.000,9,-999.000,9, -999.00,9,  -999.0,9,  -999.0,-999.000,9,-999.000,-999.000,9, -999.00,9,  227.80,-999.0000,9,-999.0000,9,-999.0000,9,-999.0000,9,-999.0000,9,-999.0000,9,   5.8446,     -999.0,-999.000,      9.860,          2,      0.292,          2,   0.157,          2
 33RO200501,       A16S,      38,          1,         26,         26,2,20050127,       1304,   -43.4970,   -29.9632,       4685,   270.7,   4.9586,  34.1709,2,  34.1686,2,    262.5,2,   266.8,2,   10.56,2,   24.70,2,    0.01,2,    1.64,2,-999.000,9,-999.000,9,-999.000,9,  -999.0,9,  -999.0,9,  -999.0,9,   20.00,-999.0000,9,    25.00,-999.000,9, -999.00,-999.000,9,-999.000,9, -999.00,9,  -999.0,9,  -999.0,-999.000,9,-999.000,-999.000,9, -999.00,9,  270.70,-999.0000,9,-999.0000,9,-999.0000,9,-999.0000,9,-999.0000,9,-999.0000,9,   4.9377,     -999.0,-999.000,     -999.0,          9,     -999.0,          9,-999.000,          9
 33RO200501,       A16S,      38,          1,         25,         25,2,20050127,       1304,   -43.4970,   -29.9632,       4685,   307.1,   4.6868,  34.1690,2,  34.1680,2,    264.9,2,   265.9,2,   12.26,2,   25.60,2,    0.00,2,    1.69,2,-999.000,9,-999.000,9,-999.000,9,  -999.0,9,  -999.0,9,  -999.0,9,   20.00,-999.0000,9,    25.00,-999.000,9, -999.00,-999.000,9,-999.000,9, -999.00,9,  -999.0,9,  -999.0,-999.000,9,-999.000,-999.000,9, -999.00,9,  307.10,-999.0000,9,-999.0000,9,-999.0000,9,-999.0000,9,-999.0000,9,-999.0000,9,   4.6637,     -999.0,-999.000,     -999.0,          9,     -999.0,          9,-999.000,          9
 33RO200501,       A16S,      38,          1,         24,         24,2,20050127,       1304,   -43.4970,   -29.9632,       4685,   376.1,   4.2969,  34.1608,2,  34.1605,2,    266.7,2,   264.9,2,   14.75,2,   26.67,2,    0.01,2,    1.76,2,-999.000,9,-999.000,9,-999.000,9,  -999.0,9,  -999.0,9,  -999.0,9,   20.00,-999.0000,9,    25.00,-999.000,9, -999.00,-999.000,9,-999.000,9, -999.00,9,  -999.0,9,  -999.0,-999.000,9,-999.000,-999.000,9, -999.00,9,  376.10,-999.0000,9,-999.0000,9,-999.0000,9,-999.0000,9,-999.0000,9,-999.0000,9,   4.2696,     -999.0,-999.000,     -999.0,          9,     -999.0,          9,-999.000,          9
 33RO200501,       A16S,      38,          1,         23,         23,2,20050127,       1304,   -43.4970,   -29.9632,       4685,   450.6,   3.9307,  34.1576,2,  34.1578,2,    264.0,2,   263.1,2,   17.76,2,   27.46,2,    0.00,2,    1.81,2,   4.068,2,   2.329,2,   0.320,2,  -999.0,9,  -999.0,9,  -999.0,9,   20.00,-999.0000,9,    25.00,-999.000,9, -999.00,-999.000,9,-999.000,9, -999.00,9,  -999.0,9,  -999.0,-999.000,9,-999.000,   3.673,3, -999.00,9,  450.60,-999.0000,9,-999.0000,9,-999.0000,9,-999.0000,9,-999.0000,9,-999.0000,9,   3.8990,     -999.0,-999.000,     -999.0,          9,     -999.0,          9,-999.000,          9
 33RO200501,       A16S,      38,          1,         22,         22,2,20050127,       1304,   -43.4970,   -29.9632,       4685,   548.6,   3.6881,  34.1884,2,  34.1876,2,    254.8,2,   253.8,2,   22.16,2,   28.49,2,    0.00,2,    1.90,2,-999.000,9,-999.000,9,-999.000,9,  -999.0,9,  -999.0,9,  -999.0,9,   20.00,   7.6641,2,    25.00,-999.000,9, -999.00,-999.000,9,-999.000,9, -999.00,9,  -999.0,9,  -999.0,-999.000,9,-999.000,-999.000,9, -999.00,9,  548.60,-999.0000,9,-999.0000,9,-999.0000,9,-999.0000,9,-999.0000,9,-999.0000,9,   3.6501,     -999.0,-999.000,      6.461,          2,      0.517,          2,   0.066,          2
 33RO200501,       A16S,      38,          1,         21,         21,2,20050127,       1304,   -43.4970,   -29.9632,       4685,   651.0,   3.2837,  34.2041,2,  34.2045,2,    245.2,2,   244.0,2,   28.35,2,   29.83,2,    0.00,2,    2.00,2,-999.000,9,-999.000,9,-999.000,9,  -999.0,9,  -999.0,9,  -999.0,9,   20.00,-999.0000,9,    25.00,-999.000,9, -999.00,-999.000,9,-999.000,9, -999.00,9,  -999.0,9,  -999.0,-999.000,9,-999.000,-999.000,9, -999.00,9,  651.00,-999.0000,9,-999.0000,9,-999.0000,9,-999.0000,9,-999.0000,9,-999.0000,9,   3.2401,     -999.0,-999.000,     -999.0,          9,     -999.0,          9,-999.000,          9
 33RO200501,       A16S,      38,          1,         20,         20,2,20050127,       1304,   -43.4970,   -29.9632,       4685,   749.0,   3.0857,  34.2506,2,  34.2498,2,    228.6,2,   229.1,2,   35.44,2,   31.19,2,    0.00,2,    2.09,2,-999.000,9,-999.000,9,-999.000,9,  -999.0,9,  -999.0,9,  -999.0,9,   20.00,-999.0000,9,    25.00,-999.000,9, -999.00,-999.000,9,-999.000,9, -999.00,9,  -999.0,9,  -999.0,-999.000,9,-999.000,-999.000,9, -999.00,9,  749.00,-999.0000,9,-999.0000,9,-999.0000,9,-999.0000,9,-999.0000,9,-999.0000,9,   3.0361,     -999.0,-999.000,     -999.0,          9,     -999.0,          9,-999.000,          9
 33RO200501,       A16S,      38,          1,         19,         19,2,20050127,       1304,   -43.4970,   -29.9632,       4685,   851.2,   2.8782,  34.3122,2,  34.3118,2,    213.5,2,   212.1,2,   44.88,2,   32.63,2,    0.00,2,    2.19,2,-999.000,9,-999.000,9,-999.000,9,  -999.0,9,  -999.0,9,  -999.0,9,   20.00,-999.0000,9,    25.00,-999.000,9, -999.00,-999.000,9,-999.000,9, -999.00,9,  -999.0,9,  -999.0,-999.000,9,-999.000,-999.000,9, -999.00,9,  851.20,-999.0000,9,-999.0000,9,-999.0000,9,-999.0000,9,-999.0000,9,-999.0000,9,   2.8225,     -999.0,-999.000,      5.908,          2,      0.560,          2,   0.158,          2
 33RO200501,       A16S,      38,          1,         18,         18,2,20050127,       1304,   -43.4970,   -29.9632,       4685,   950.9,   2.8083,  34.3803,2,  34.3798,2,    199.5,2,   198.2,2,   51.90,2,   33.33,2,    0.00,2,    2.24,2,-999.000,9,-999.000,9,-999.000,9,  2248.5,3,  2318.0,2,  -999.0,9,   20.00,   7.5860,2,    25.00,-999.000,9, -999.00,-999.000,9,-999.000,9, -999.00,9,  -999.0,9,  -999.0,-999.000,9,-999.000,-999.000,9, -999.00,9,  950.90,-999.0000,9,-999.0000,9,-999.0000,9,-999.0000,9,-999.0000,9,-999.0000,9,   2.7457,     -999.0,-999.000,     -999.0,          9,     -999.0,          9,-999.000,          9
 33RO200501,       A16S,      38,          1,         17,         17,2,20050127,       1304,   -43.4970,   -29.9632,       4685,  1051.5,   2.7547,  34.4534,2,  34.4538,2,    188.5,2,   186.4,2,   58.35,2,   33.71,2,    0.00,2,    2.27,2,   0.908,2,   0.440,2,   0.041,2,  -999.0,9,  -999.0,9,  -999.0,9,   20.00,-999.0000,9,    25.00,-999.000,9, -999.00,-999.000,9,-999.000,9, -999.00,9,  -999.0,9,  -999.0,-999.000,9,-999.000,   1.074,3, -999.00,9, 1051.50,-999.0000,9,-999.0000,9,-999.0000,9,-999.0000,9,-999.0000,9,-999.0000,9,   2.6850,     -999.0,-999.000,     -999.0,          9,     -999.0,          9,-999.000,          9
 33RO200501,       A16S,      38,          1,         16,         16,2,20050127,       1304,   -43.4970,   -29.9632,       4685,  1152.1,   2.6779,  34.5144,2,  34.5129,2,    181.5,2,   179.7,2,   63.95,2,   33.72,2,    0.00,2,    2.28,2,-999.000,9,-999.000,9,-999.000,9,  -999.0,9,  -999.0,9,  -999.0,9,   20.00,   7.5696,2,    25.00,-999.000,9, -999.00,-999.000,9,-999.000,9, -999.00,9,  -999.0,9,  -999.0,-999.000,9,-999.000,-999.000,9, -999.00,9, 1152.10,-999.0000,9,-999.0000,9,-999.0000,9,-999.0000,9,-999.0000,9,-999.0000,9,   2.6012,     -999.0,-999.000,      5.464,          2,      0.350,          2,   0.048,          2
 33RO200501,       A16S,      38,          1,         15,         15,2,20050127,       1304,   -43.4970,   -29.9632,       4685,  1252.5,   2.6707,  34.5598,2,  34.5577,2,    178.1,2,   177.4,2,   65.78,2,   33.35,2,    0.00,2,    2.26,2,-999.000,9,-999.000,9,-999.000,9,  -999.0,9,  -999.0,9,  -999.0,9,   20.00,-999.0000,9,    25.00,-999.000,9, -999.00,-999.000,9,-999.000,9, -999.00,9,  -999.0,9,  -999.0,-999.000,9,-999.000,-999.000,9, -999.00,9, 1252.50,-999.0000,9,-999.0000,9,-999.0000,9,-999.0000,9,-999.0000,9,-999.0000,9,   2.5863,     -999.0,-999.000,     -999.0,          9,     -999.0,          9,-999.000,          9
 33RO200501,       A16S,      38,          1,         14,         14,2,20050127,       1304,   -43.4970,   -29.9632,       4685,  1401.3,   2.8192,  34.6457,2,  34.6444,2,    180.9,2,   182.0,2,   62.05,2,   31.53,2,    0.00,2,    2.14,2,-999.000,9,-999.000,9,-999.000,9,  -999.0,9,  -999.0,9,  -999.0,9,   20.00,-999.0000,9,    25.00,-999.000,9, -999.00,-999.000,9,-999.000,9, -999.00,9,  -999.0,9,  -999.0,-999.000,9,-999.000,-999.000,9, -999.00,9, 1401.30,-999.0000,9,-999.0000,9,-999.0000,9,-999.0000,9,-999.0000,9,-999.0000,9,   2.7213,     -999.0,-999.000,     -999.0,          9,     -999.0,          9,-999.000,          9
 33RO200501,       A16S,      38,          1,         13,         13,2,20050127,       1304,   -43.4970,   -29.9632,       4685,  1599.5,   2.8532,  34.7221,2,  34.7218,2,    188.2,2,   189.6,2,   60.35,2,   29.78,2,    0.00,2,    2.02,2,-999.000,9,-999.000,9,-999.000,9,  -999.0,9,  -999.0,9,  -999.0,9,   20.00,-999.0000,5,    25.00,-999.000,9, -999.00,-999.000,9,-999.000,9, -999.00,9,  -999.0,9,  -999.0,-999.000,9,-999.000,-999.000,9, -999.00,9, 1599.50,-999.0000,9,-999.0000,9,-999.0000,9,-999.0000,9,-999.0000,9,-999.0000,9,   2.7384,     -999.0,-999.000,      3.698,          2,      0.113,          2,   0.045,          2
 33RO200501,       A16S,      38,          1,         12,         12,2,20050127,       1304,   -43.4970,   -29.9632,       4685,  1801.6,   2.7834,  34.7655,2,  34.7651,2,    195.4,2,   196.3,2,   60.99,2,   28.72,2,    0.00,2,    1.94,2,-999.000,9,-999.000,9,-999.000,9,  -999.0,9,  -999.0,9,  -999.0,9,   20.00,-999.0000,9,    25.00,-999.000,9, -999.00,-999.000,9,-999.000,9, -999.00,9,  -999.0,9,  -999.0,-999.000,9,-999.000,-999.000,9, -999.00,9, 1801.60,-999.0000,9,-999.0000,9,-999.0000,9,-999.0000,9,-999.0000,9,-999.0000,9,   2.6521,     -999.0,-999.000,     -999.0,          9,     -999.0,          9,-999.000,          9
 33RO200501,       A16S,      38,          1,         11,         11,2,20050127,       1304,   -43.4970,   -29.9632,       4685,  2000.8,   2.6502,  34.7886,2,  34.7881,2,    201.5,2,   201.4,2,   62.90,6,   27.95,6,    0.00,6,    1.90,6,-999.000,9,-999.000,9,-999.000,9,  -999.0,9,  -999.0,9,  -999.0,9,   20.00,-999.0000,9,    25.00,-999.000,9, -999.00,-999.000,9,-999.000,9, -999.00,9,  -999.0,9,  -999.0,-999.000,9,-999.000,-999.000,9, -999.00,9, 2000.80,-999.0000,9,-999.0000,9,-999.0000,9,-999.0000,9,-999.0000,9,-999.0000,9,   2.5034,     -999.0,-999.000,     -999.0,          9,     -999.0,          9,-999.000,          9
 33RO200501,       A16S,      38,          1,         10,         10,2,20050127,       1304,   -43.4970,   -29.9632,       4685,  2200.8,   2.6094,  34.8189,2,  34.8192,2,    212.4,2,   211.4,2,   59.78,6,   26.57,2,    0.00,2,    1.81,6,   0.077,2,   0.036,2,   0.003,2,  -999.0,9,  -999.0,9,  -999.0,9,   20.00,   7.6630,2,    25.00,-999.000,9, -999.00,-999.000,9,-999.000,9, -999.00,9,  -999.0,9,  -999.0,-999.000,9,-999.000,   0.196,3, -999.00,9, 2200.80,-999.0000,9,-999.0000,9,-999.0000,9,-999.0000,9,-999.0000,9,-999.0000,9,   2.4450,     -999.0,-999.000,      3.523,          2,      0.359,          2,   0.044,          2
 33RO200501,       A16S,      38,          1,          9,          9,2,20050127,       1304,   -43.4970,   -29.9632,       4685,  2401.3,   2.4819,  34.8329,2,  34.8328,2,    216.1,2,   217.8,2,   59.46,6,   25.77,2,    0.00,2,    1.75,6,-999.000,9,-999.000,9,-999.000,9,  -999.0,9,  -999.0,9,  -999.0,9,   20.00,-999.0000,9,    25.00,-999.000,9, -999.00,-999.000,9,-999.000,9, -999.00,9,  -999.0,9,  -999.0,-999.000,9,-999.000,-999.000,9, -999.00,9, 2401.30,-999.0000,9,-999.0000,9,-999.0000,9,-999.0000,9,-999.0000,9,-999.0000,9,   2.3012,     -999.0,-999.000,     -999.0,          9,     -999.0,          9,-999.000,          9
 33RO200501,       A16S,      38,          1,          8,          8,2,20050127,       1304,   -43.4970,   -29.9632,       4685,  2652.6,   2.0910,  34.7954,2,  34.7957,2,    213.7,2,   210.6,2,   74.35,6,   27.64,2,    0.00,2,    1.91,6,-999.000,9,-999.000,9,-999.000,9,  -999.0,9,  -999.0,9,  -999.0,9,   20.00,-999.0000,9,    25.00,-999.000,9, -999.00,-999.000,9,-999.000,9, -999.00,9,  -999.0,9,  -999.0,-999.000,9,-999.000,-999.000,9, -999.00,9, 2652.60,-999.0000,9,-999.0000,9,-999.0000,9,-999.0000,9,-999.0000,9,-999.0000,9,   1.8942,     -999.0,-999.000,     -999.0,          9,     -999.0,          9,-999.000,          9