BOTTLE,20220818CCHSIOAMB
EXPOCODE,SECT_ID,STNNBR,CASTNO,SAMPNO,BTLNBR,BTLNBR_FLAG_W,DATE,TIME,LATITUDE,LONGITUDE,DEPTH,CTDPRS,CTDTMP,CTDSAL,CTDSAL_FLAG_W,SALNTY,SALNTY_FLAG_W,CTDOXY,CTDOXY_FLAG_W,OXYGEN,OXYGEN_FLAG_W,SILCAT,SILCAT_FLAG_W,NITRAT,NITRAT_FLAG_W,NITRIT,NITRIT_FLAG_W,PHSPHT,PHSPHT_FLAG_W,CFC-11,CFC-11_FLAG_W,CFC-12,CFC-12_FLAG_W,CFC113,CFC113_FLAG_W,TCARBN,TCARBN_FLAG_W,ALKALI,ALKALI_FLAG_W,PCO2,PCO2_FLAG_W,PCO2TMP,PH_SWS,PH_SWS_FLAG_W,PH_TMP,TRITUM,TRITUM_FLAG_W,TRITER,HELIUM,HELIUM_FLAG_W,DELHE3,DELHE3_FLAG_W,DELC13,DELC13_FLAG_W,DELC14,DELC14_FLAG_W,C14ERR,NEON,NEON_FLAG_W,NEONER,CCL4,CCL4_FLAG_W,DOC,DOC_FLAG_W,CTDRAW,CDOM325,CDOM325_FLAG_W,CDOM340,CDOM340_FLAG_W,CDOM380,CDOM380_FLAG_W,CDOM412,CDOM412_FLAG_W,CDOMSL,CDOMSL_FLAG_W,CDOMSN,CDOMSN_FLAG_W,THETA,HELIER,DELHER,CH3CL,CH3CL_FLAG_W,CH3BR,CH3BR_FLAG_W,CH3I,CH3I_FLAG_W
,,,,,,,,,,,METERS,DBAR,ITS-90,PSS-78,,PSS-78,,UMOL/KG,,UMOL/KG,,UMOL/KG,,UMOL/KG,,UMOL/KG,,UMOL/KG,,PMOL/KG,,PMOL/KG,,PMOL/KG,,UMOL/KG,,UMOL/KG,,UATM,,DEG C,,,DEG C,TU,,TU,NMOL/KG,,PERCNT,,/MILLE,,/MILLE,,/MILLE,NMOL/KG,,NMOL/KG,PMOL/KG,,UMOL/KG,,DBAR,1/M,,1/M,,1/M,,1/M,,1/NM,,1/NM,,DEG C,NMOL/KG,PERCNT,PMOL/KG,,PMOL/KG,,PMOL/KG,
 33RO200501,       A16S,      89,          1,          7,          7,2,20050212,       0515,   -17.9992,   -25.0002,       5649,  3799.1,   2.1681,  34.8641,2,  34.8628,2,    244.5,2,   244.9,2,   54.21,2,   23.08,2,    0.00,2,    1.54,2,  -0.002,2,   0.004,2,   0.000,2,  2198.1,2,  2338.3,2,   802.7,2,   20.00,   7.7088,2,    25.00,-999.000,9, -999.00,-999.000,9,-999.000,9, -999.00,9,  -999.0,9,  -999.0,-999.000,9,-999.000,   0.036,4,   39.40,2, 3799.10,-999.0000,9,-999.0000,9,-999.0000,9,-999.0000,9,-999.0000,9,-999.0000,9,   1.8517,     -999.0,-999.000,     -999.0,          9,     -999.0,          9,-999.000,          9
 33RO200501,       A16S,      89,          1,          6,          6,2,20050212,       0515,   -17.9992,   -25.0002,       5649,  4099.6,   1.6992,  34.8171,2,  34.8170,2,    238.1,2,   238.3,2,   71.80,2,   25.39,2,    0.00,2,    1.72,2,   0.008,2,   0.009,2,   0.000,2,  2216.2,2,  2348.5,2,   855.6,2,   20.00,   7.6869,2,    25.00,-999.000,9, -999.00,-999.000,9,-999.000,9, -999.00,9,  -999.0,9,  -999.0,-999.000,9,-999.000,   0.034,4, -999.00,9, 4099.60,   0.1480,3,   0.1060,3,   0.0570,3,   0.0420,3,   0.0126,4,   0.0150,4,   1.3628,     -999.0,-999.000,     -999.0,          9,     -999.0,          9,-999.000,          9
 33RO200501,       A16S,      89,          1,          5,          5,2,20050212,       0515,   -17.9992,   -25.0002,       5649,  4398.6,   1.2671,  34.7728,2,  34.7735,2,    231.8,2,   231.9,2,   89.19,2,   27.61,2,    0.00,2,    1.90,2,   0.009,2,   0.007,2,   0.000,2,  2233.0,2,  2353.5,2,   909.3,2,   20.00,   7.6609,2,    25.00,-999.000,9, -999.00,-999.000,9,-999.000,9, -999.00,9,  -999.0,9,  -999.0,-999.000,9,-999.000,   0.045,4,   39.32,2, 4398.60,-999.0000,9,-999.0000,9,-999.0000,9,-999.0000,9,-999.0000,9,-999.0000,9,   0.9103,     -999.0,-999.000,     -999.0,          9,     -999.0,          9,-999.000,          9
 33RO200501,       A16S,      89,          1,          4,          4,2,20050212,       0515,   -17.9992,   -25.0002,       5649,  4699.7,   1.0018,  34.7435,2,  34.7435,2,    227.8,2,   227.8,2,  100.34,6,   29.07,6,    0.00,6,    2.00,6,-999.000,9,-999.000,9,-999.000,9,  2243.5,2,  2356.7,2,  -999.0,9,   20.00,   7.6479,2,    25.00,-999.000,9, -999.00,-999.000,9,-999.000,9, -999.00,9,  -999.0,9,  -999.0,-999.000,9,-999.000,-999.000,9, -999.00,9, 4699.70,-999.0000,9,-999.0000,9,-999.0000,9,-999.0000,9,-999.0000,9,-999.0000,9,   0.6192,     -999.0,-999.000,     -999.0,          9,     -999.0,          9,-999.000,          9
 33RO200501,       A16S,      89,          1,          3,          3,2,20050212,       0515,   -17.9992,   -25.0002,       5649,  4998.4,   0.8192,  34.7218,2,  34.7207,2,    225.0,2,   224.9,2,  108.54,6,   30.13,6,    0.00,6,    2.08,6,   0.044,2,   0.023,2,   0.006,2,  2250.6,2,  2357.4,2,   982.5,2,   20.00,   7.6363,2,    25.00,-999.000,9, -999.00,-999.000,9,-999.000,9, -999.00,9,  -999.0,9,  -999.0,-999.000,9,-999.000,   0.102,4,   39.54,2, 4998.40,   0.1310,3,   0.0930,2,   0.0510,3,   0.0370,3,   0.0137,3,   0.0159,3,   0.4080,     -999.0,-999.000,     -999.0,          9,     -999.0,          9,-999.000,          9
 33RO200501,       A16S,      89,          1,          2,          2,2,20050212,       0515,   -17.9992,   -25.0002,       5649,  5299.3,   0.7573,  34.7115,2,  34.7116,2,    223.7,2,   223.4,2,  112.24,6,   30.62,6,    0.00,6,    2.13,6,   0.062,6,   0.033,6,   0.001,6,  2254.0,2,  2358.0,2,   997.2,2,   20.00,   7.6267,2,    25.00,   0.001,2,    0.01,   1.921,2,   5.320,2, -999.00,9,  -999.0,9,  -999.0,   8.335,2,   0.005,   0.134,4, -999.00,9, 5299.30,-999.0000,9,-999.0000,9,-999.0000,9,-999.0000,9,-999.0000,9,-999.0000,9,   0.3124,      0.002,   0.198,     -999.0,          9,     -999.0,          9,-999.000,          9
 33RO200501,       A16S,      89,          1,          1,          1,2,20050212,       0515,   -17.9992,   -25.0002,       5649,  5640.0,   0.7244,  34.7033,2,  34.7052,3,    222.4,2,   222.7,2,  115.21,6,   30.93,6,    0.00,6,    2.16,6,   0.094,2,   0.050,2,   0.000,2,  2254.4,6,  2357.8,2,  1013.1,2,   20.00,   7.6176,2,    25.00,-999.000,9, -999.00,   1.886,2,   5.955,2, -999.00,9,  -999.0,9,  -999.0,   8.166,2,   0.006,   0.174,4,   39.72,2, 5640.00,   0.2010,2,   0.1510,2,   0.0850,2,   0.0590,2,   0.0131,3,   0.0141,3,   0.2388,      0.002,   0.221,     -999.0,          9,     -999.0,          9,-999.000,          9