BOTTLE,20220818CCHSIOAMB
EXPOCODE,SECT_ID,STNNBR,CASTNO,SAMPNO,BTLNBR,BTLNBR_FLAG_W,DATE,TIME,LATITUDE,LONGITUDE,DEPTH,CTDPRS,CTDTMP,CTDSAL,CTDSAL_FLAG_W,SALNTY,SALNTY_FLAG_W,CTDOXY,CTDOXY_FLAG_W,OXYGEN,OXYGEN_FLAG_W,SILCAT,SILCAT_FLAG_W,NITRAT,NITRAT_FLAG_W,NITRIT,NITRIT_FLAG_W,PHSPHT,PHSPHT_FLAG_W,CFC-11,CFC-11_FLAG_W,CFC-12,CFC-12_FLAG_W,CFC113,CFC113_FLAG_W,TCARBN,TCARBN_FLAG_W,ALKALI,ALKALI_FLAG_W,PCO2,PCO2_FLAG_W,PCO2TMP,PH_SWS,PH_SWS_FLAG_W,PH_TMP,TRITUM,TRITUM_FLAG_W,TRITER,HELIUM,HELIUM_FLAG_W,DELHE3,DELHE3_FLAG_W,DELC13,DELC13_FLAG_W,DELC14,DELC14_FLAG_W,C14ERR,NEON,NEON_FLAG_W,NEONER,CCL4,CCL4_FLAG_W,DOC,DOC_FLAG_W,CTDRAW,CDOM325,CDOM325_FLAG_W,CDOM340,CDOM340_FLAG_W,CDOM380,CDOM380_FLAG_W,CDOM412,CDOM412_FLAG_W,CDOMSL,CDOMSL_FLAG_W,CDOMSN,CDOMSN_FLAG_W,THETA,HELIER,DELHER,CH3CL,CH3CL_FLAG_W,CH3BR,CH3BR_FLAG_W,CH3I,CH3I_FLAG_W
,,,,,,,,,,,METERS,DBAR,ITS-90,PSS-78,,PSS-78,,UMOL/KG,,UMOL/KG,,UMOL/KG,,UMOL/KG,,UMOL/KG,,UMOL/KG,,PMOL/KG,,PMOL/KG,,PMOL/KG,,UMOL/KG,,UMOL/KG,,UATM,,DEG C,,,DEG C,TU,,TU,NMOL/KG,,PERCNT,,/MILLE,,/MILLE,,/MILLE,NMOL/KG,,NMOL/KG,PMOL/KG,,UMOL/KG,,DBAR,1/M,,1/M,,1/M,,1/M,,1/NM,,1/NM,,DEG C,NMOL/KG,PERCNT,PMOL/KG,,PMOL/KG,,PMOL/KG,
 33RO200501,       A16S,      32,          1,         36,         36,2,20050125,       1445,   -46.5000,   -31.8082,       5256,     4.5,   9.3698,  34.0901,2,  34.0888,2,    301.3,2,   288.1,2,    2.04,2,   13.37,2,    0.17,2,    0.97,2,   3.933,2,   2.328,2,   0.356,2,  2076.3,2,  2280.0,6,  -999.0,9,   20.00,   7.8991,6,    25.00,-999.000,9, -999.00,-999.000,9,-999.000,9, -999.00,9,  -999.0,9,  -999.0,-999.000,9,-999.000,   5.300,4, -999.00,9,    4.50,-999.0000,9,-999.0000,9,-999.0000,9,-999.0000,9,-999.0000,9,-999.0000,9,   9.3693,     -999.0,-999.000,     72.652,          2,      1.818,          2,   1.962,          2
 33RO200501,       A16S,      32,          1,         35,         35,2,20050125,       1445,   -46.5000,   -31.8082,       5256,    20.6,   9.3508,  34.0927,2,  34.0907,2,    301.1,2,   289.0,2,    2.01,2,   13.39,2,    0.17,2,    0.96,2,-999.000,9,-999.000,9,-999.000,9,  -999.0,9,  -999.0,9,  -999.0,9,   20.00,-999.0000,9,    25.00,-999.000,9, -999.00,-999.000,9,-999.000,9, -999.00,9,  -999.0,9,  -999.0,-999.000,9,-999.000,-999.000,9, -999.00,9,   20.60,-999.0000,9,-999.0000,9,-999.0000,9,-999.0000,9,-999.0000,9,-999.0000,9,   9.3486,     -999.0,-999.000,     66.356,          2,      1.652,          2,   1.888,          2
 33RO200501,       A16S,      32,          1,         34,         34,2,20050125,       1445,   -46.5000,   -31.8082,       5256,    40.8,   6.9164,  33.8256,2,  33.8250,2,    306.5,2,   308.1,2,    2.34,2,   19.05,2,    0.16,2,    1.27,2,-999.000,9,-999.000,9,-999.000,9,  -999.0,9,  -999.0,9,  -999.0,9,   20.00,-999.0000,9,    25.00,-999.000,9, -999.00,-999.000,9,-999.000,9, -999.00,9,  -999.0,9,  -999.0,-999.000,9,-999.000,-999.000,9, -999.00,9,   40.80,-999.0000,9,-999.0000,9,-999.0000,9,-999.0000,9,-999.0000,9,-999.0000,9,   6.9127,     -999.0,-999.000,     -999.0,          9,     -999.0,          9,-999.000,          9
 33RO200501,       A16S,      32,          1,         33,         33,2,20050125,       1445,   -46.5000,   -31.8082,       5256,    59.7,   6.0720,  33.8577,2,  33.8557,2,    307.7,2,   308.4,2,    3.33,2,   19.95,2,    0.19,2,    1.41,2,-999.000,9,-999.000,9,-999.000,9,  -999.0,9,  -999.0,9,  -999.0,9,   20.00,-999.0000,9,    25.00,-999.000,9, -999.00,-999.000,9,-999.000,9, -999.00,9,  -999.0,9,  -999.0,-999.000,9,-999.000,-999.000,9, -999.00,9,   59.70,-999.0000,9,-999.0000,9,-999.0000,9,-999.0000,9,-999.0000,9,-999.0000,9,   6.0669,     -999.0,-999.000,     54.156,          2,      1.036,          2,   1.808,          2
 33RO200501,       A16S,      32,          1,         32,         32,2,20050125,       1445,   -46.5000,   -31.8082,       5256,    79.7,   6.4613,  34.2347,2,  34.2325,2,    298.4,2,   270.2,2,    6.57,2,   20.97,2,    0.15,2,    1.43,2,-999.000,9,-999.000,9,-999.000,9,  -999.0,9,  -999.0,9,  -999.0,9,   20.00,-999.0000,9,    25.00,-999.000,9, -999.00,-999.000,9,-999.000,9, -999.00,9,  -999.0,9,  -999.0,-999.000,9,-999.000,-999.000,9, -999.00,9,   79.70,-999.0000,9,-999.0000,9,-999.0000,9,-999.0000,9,-999.0000,9,-999.0000,9,   6.4544,     -999.0,-999.000,     -999.0,          9,     -999.0,          9,-999.000,          9
 33RO200501,       A16S,      32,          1,         31,         31,2,20050125,       1445,   -46.5000,   -31.8082,       5256,   100.6,   4.6299,  34.0940,2,  34.0951,2,    291.9,2,   290.0,2,    9.89,2,   23.93,2,    0.17,2,    1.61,2,-999.000,9,-999.000,9,-999.000,9,  -999.0,9,  -999.0,9,  -999.0,9,   20.00,-999.0000,9,    25.00,-999.000,9, -999.00,-999.000,9,-999.000,9, -999.00,9,  -999.0,9,  -999.0,-999.000,9,-999.000,-999.000,9, -999.00,9,  100.60,-999.0000,9,-999.0000,9,-999.0000,9,-999.0000,9,-999.0000,9,-999.0000,9,   4.6225,     -999.0,-999.000,     24.756,          2,      0.530,          2,   0.402,          2
 33RO200501,       A16S,      32,          1,         30,         30,2,20050125,       1445,   -46.5000,   -31.8082,       5256,   126.1,   4.7557,  34.1477,2,  34.1478,2,    283.7,2,   267.3,2,   10.10,2,   24.51,2,    0.04,2,    1.63,2,-999.000,9,-999.000,9,-999.000,9,  2140.5,2,  2275.8,2,  -999.0,9,   20.00,   7.7663,2,    25.00,-999.000,9, -999.00,-999.000,9,-999.000,9, -999.00,9,  -999.0,9,  -999.0,-999.000,9,-999.000,-999.000,9, -999.00,9,  126.10,-999.0000,9,-999.0000,9,-999.0000,9,-999.0000,9,-999.0000,9,-999.0000,9,   4.7464,     -999.0,-999.000,     -999.0,          9,     -999.0,          9,-999.000,          9
 33RO200501,       A16S,      32,          1,         29,         29,2,20050125,       1445,   -46.5000,   -31.8082,       5256,   148.7,   4.2781,  34.1135,2,  34.1185,2,    285.9,2,   286.6,2,   10.86,2,   24.60,2,    0.02,2,    1.65,2,-999.000,9,-999.000,9,-999.000,9,  -999.0,9,  -999.0,9,  -999.0,9,   20.00,-999.0000,9,    25.00,-999.000,9, -999.00,-999.000,9,-999.000,9, -999.00,9,  -999.0,9,  -999.0,-999.000,9,-999.000,-999.000,9, -999.00,9,  148.70,-999.0000,9,-999.0000,9,-999.0000,9,-999.0000,9,-999.0000,9,-999.0000,9,   4.2675,     -999.0,-999.000,     14.507,          2,      0.120,          2,   0.180,          2
 33RO200501,       A16S,      32,          1,         28,         28,2,20050125,       1445,   -46.5000,   -31.8082,       5256,   177.8,   4.0647,  34.1109,2,  34.1102,2,    285.5,2,   292.7,2,   11.63,2,   24.51,2,    0.02,2,    1.65,2,-999.000,9,-999.000,9,-999.000,9,  -999.0,9,  -999.0,9,  -999.0,9,   20.00,-999.0000,9,    25.00,-999.000,9, -999.00,-999.000,9,-999.000,9, -999.00,9,  -999.0,9,  -999.0,-999.000,9,-999.000,-999.000,9, -999.00,9,  177.80,-999.0000,9,-999.0000,9,-999.0000,9,-999.0000,9,-999.0000,9,-999.0000,9,   4.0523,     -999.0,-999.000,     -999.0,          9,     -999.0,          9,-999.000,          9
 33RO200501,       A16S,      32,          1,         27,         27,2,20050125,       1445,   -46.5000,   -31.8082,       5256,   202.6,   3.9857,  34.1098,2,  34.1089,2,    275.9,2,   286.3,2,   12.64,2,   25.31,2,    0.01,2,    1.68,2,-999.000,9,-999.000,9,-999.000,9,  -999.0,9,  -999.0,9,  -999.0,9,   20.00,-999.0000,9,    25.00,-999.000,9, -999.00,-999.000,9,-999.000,9, -999.00,9,  -999.0,9,  -999.0,-999.000,9,-999.000,-999.000,9, -999.00,9,  202.60,-999.0000,9,-999.0000,9,-999.0000,9,-999.0000,9,-999.0000,9,-999.0000,9,   3.9718,     -999.0,-999.000,     18.720,          2,      0.407,          2,   0.153,          2
 33RO200501,       A16S,      32,          1,         26,         26,2,20050125,       1445,   -46.5000,   -31.8082,       5256,   252.1,   3.6249,  34.0985,2,  34.0993,2,    285.0,2,   291.5,2,   14.12,2,   25.49,2,    0.01,2,    1.69,2,-999.000,9,-999.000,9,-999.000,9,  2144.8,2,  2275.3,2,  -999.0,9,   20.00,   7.7805,6,    25.00,-999.000,9, -999.00,-999.000,9,-999.000,9, -999.00,9,  -999.0,9,  -999.0,-999.000,9,-999.000,-999.000,9, -999.00,9,  252.10,-999.0000,9,-999.0000,9,-999.0000,9,-999.0000,9,-999.0000,9,-999.0000,9,   3.6082,     -999.0,-999.000,     -999.0,          9,     -999.0,          9,-999.000,          9
 33RO200501,       A16S,      32,          1,         25,         25,2,20050125,       1445,   -46.5000,   -31.8082,       5256,   302.4,   3.5675,  34.1351,2,  34.1320,2,    266.4,2,   270.4,2,   18.73,2,   27.61,2,    0.01,2,    1.82,2,   4.122,2,   2.238,2,   0.340,2,  -999.0,9,  -999.0,9,  -999.0,9,   20.00,-999.0000,9,    25.00,-999.000,9, -999.00,-999.000,9,-999.000,9, -999.00,9,  -999.0,9,  -999.0,-999.000,9,-999.000,   3.903,3, -999.00,9,  302.40,-999.0000,9,-999.0000,9,-999.0000,9,-999.0000,9,-999.0000,9,-999.0000,9,   3.5475,     -999.0,-999.000,      9.805,          2,      0.209,          2,   0.091,          2
 33RO200501,       A16S,      32,          1,         24,         24,2,20050125,       1445,   -46.5000,   -31.8082,       5256,   351.4,   2.9635,  34.1042,2,  34.1038,2,    262.2,2,   276.9,2,   21.21,2,   27.94,2,    0.01,2,    1.86,2,-999.000,9,-999.000,9,-999.000,9,  -999.0,9,  -999.0,9,  -999.0,9,   20.00,-999.0000,9,    25.00,-999.000,9, -999.00,-999.000,9,-999.000,9, -999.00,9,  -999.0,9,  -999.0,-999.000,9,-999.000,-999.000,9, -999.00,9,  351.40,-999.0000,9,-999.0000,9,-999.0000,9,-999.0000,9,-999.0000,9,-999.0000,9,   2.9418,     -999.0,-999.000,     -999.0,          9,     -999.0,          9,-999.000,          9
 33RO200501,       A16S,      32,          1,         23,         23,2,20050125,       1445,   -46.5000,   -31.8082,       5256,   399.8,   3.1269,  34.1738,2,  34.1736,2,    249.2,2,   250.8,2,   27.49,2,   29.75,2,    0.01,2,    1.98,2,-999.000,9,-999.000,9,-999.000,9,  -999.0,9,  -999.0,9,  -999.0,9,   20.00,-999.0000,9,    25.00,-999.000,9, -999.00,-999.000,9,-999.000,9, -999.00,9,  -999.0,9,  -999.0,-999.000,9,-999.000,-999.000,9, -999.00,9,  399.80,-999.0000,9,-999.0000,9,-999.0000,9,-999.0000,9,-999.0000,9,-999.0000,9,   3.1015,     -999.0,-999.000,      9.516,          2,      0.000,          2,   0.079,          2
 33RO200501,       A16S,      32,          1,         22,         22,2,20050125,       1445,   -46.5000,   -31.8082,       5256,   500.8,   3.0286,  34.2584,2,  34.2558,2,    227.9,2,   226.5,2,   37.55,2,   31.72,2,    0.01,2,    2.12,2,-999.000,9,-999.000,9,-999.000,9,  2196.3,2,  2293.9,2,  -999.0,9,   20.00,   7.6765,6,    25.00,-999.000,9, -999.00,-999.000,9,-999.000,9, -999.00,9,  -999.0,9,  -999.0,-999.000,9,-999.000,-999.000,9, -999.00,9,  500.80,-999.0000,9,-999.0000,9,-999.0000,9,-999.0000,9,-999.0000,9,-999.0000,9,   2.9967,     -999.0,-999.000,     -999.0,          9,     -999.0,          9,-999.000,          9
 33RO200501,       A16S,      32,          1,         21,         21,2,20050125,       1445,   -46.5000,   -31.8082,       5256,   602.1,   2.8639,  34.3285,2,  34.3270,2,    212.1,2,   209.2,2,   46.58,2,   32.77,2,    0.00,2,    2.22,2,   1.913,2,   0.979,2,   0.127,2,  -999.0,9,  -999.0,9,  -999.0,9,   20.00,-999.0000,9,    25.00,-999.000,9, -999.00,-999.000,9,-999.000,9, -999.00,9,  -999.0,9,  -999.0,-999.000,9,-999.000,   1.978,3, -999.00,9,  602.10,-999.0000,9,-999.0000,9,-999.0000,9,-999.0000,9,-999.0000,9,-999.0000,9,   2.8258,     -999.0,-999.000,      2.087,          2,      0.118,          2,   0.052,          2
 33RO200501,       A16S,      32,          1,         20,         20,2,20050125,       1445,   -46.5000,   -31.8082,       5256,   700.7,   2.6585,  34.3829,2,  34.3826,2,    197.7,2,   197.4,2,   54.84,2,   33.60,2,    0.00,2,    2.27,2,-999.000,9,-999.000,9,-999.000,9,  -999.0,9,  -999.0,9,  -999.0,9,   20.00,-999.0000,9,    25.00,-999.000,9, -999.00,-999.000,9,-999.000,9, -999.00,9,  -999.0,9,  -999.0,-999.000,9,-999.000,-999.000,9, -999.00,9,  700.70,-999.0000,9,-999.0000,9,-999.0000,9,-999.0000,9,-999.0000,9,-999.0000,9,   2.6146,     -999.0,-999.000,     -999.0,          9,     -999.0,          9,-999.000,          9
 33RO200501,       A16S,      32,          1,         19,         19,2,20050125,       1445,   -46.5000,   -31.8082,       5256,   799.5,   2.6195,  34.4390,2,  34.4391,2,    188.2,2,   188.1,2,   60.28,2,   33.89,2,    0.00,2,    2.29,2,-999.000,9,-999.000,9,-999.000,9,  -999.0,9,  -999.0,9,  -999.0,9,   20.00,-999.0000,9,    25.00,-999.000,9, -999.00,-999.000,9,-999.000,9, -999.00,9,  -999.0,9,  -999.0,-999.000,9,-999.000,-999.000,9, -999.00,9,  799.50,-999.0000,9,-999.0000,9,-999.0000,9,-999.0000,9,-999.0000,9,-999.0000,9,   2.5690,     -999.0,-999.000,      0.000,          2,      0.079,          2,   0.082,          2
 33RO200501,       A16S,      32,          1,         18,         18,9,20050125,       1445,   -46.5000,   -31.8082,       5256,   900.9,   2.6281,  34.4987,2,-999.0000,9,    181.0,2,  -999.0,9, -999.00,9, -999.00,9, -999.00,9, -999.00,9,-999.000,9,-999.000,9,-999.000,9,  -999.0,9,  -999.0,9,  -999.0,9,   20.00,-999.0000,9,    25.00,-999.000,9, -999.00,-999.000,9,-999.000,9, -999.00,9,  -999.0,9,  -999.0,-999.000,9,-999.000,-999.000,9, -999.00,9,  900.90,-999.0000,9,-999.0000,9,-999.0000,9,-999.0000,9,-999.0000,9,-999.0000,9,   2.5703,     -999.0,-999.000,     -999.0,          9,     -999.0,          9,-999.000,          9
 33RO200501,       A16S,      32,          1,         17,         17,9,20050125,       1445,   -46.5000,   -31.8082,       5256,   999.8,   2.7033,  34.5611,2,-999.0000,9,    177.2,2,  -999.0,9, -999.00,9, -999.00,9, -999.00,9, -999.00,9,-999.000,9,-999.000,9,-999.000,9,  -999.0,9,  -999.0,9,  -999.0,9,   20.00,-999.0000,9,    25.00,-999.000,9, -999.00,-999.000,9,-999.000,9, -999.00,9,  -999.0,9,  -999.0,-999.000,9,-999.000,-999.000,9, -999.00,9,  999.80,-999.0000,9,-999.0000,9,-999.0000,9,-999.0000,9,-999.0000,9,-999.0000,9,   2.6377,     -999.0,-999.000,     -999.0,          9,     -999.0,          9,-999.000,          9
 33RO200501,       A16S,      32,          1,         16,         16,2,20050125,       1445,   -46.5000,   -31.8082,       5256,  1202.6,   2.6576,  34.6386,2,  34.6375,2,    178.3,2,   179.5,2,   68.06,2,   32.27,2,    0.00,2,    2.19,2,   0.269,2,   0.138,2,   0.012,2,  -999.0,9,  -999.0,9,  -999.0,9,   20.00,-999.0000,9,    25.00,-999.000,9, -999.00,-999.000,9,-999.000,9, -999.00,9,  -999.0,9,  -999.0,-999.000,9,-999.000,   0.406,3, -999.00,9, 1202.60,-999.0000,9,-999.0000,9,-999.0000,9,-999.0000,9,-999.0000,9,-999.0000,9,   2.5770,     -999.0,-999.000,      1.744,          2,      0.000,          2,   0.037,          2
 33RO200501,       A16S,      32,          1,         15,         15,2,20050125,       1445,   -46.5000,   -31.8082,       5256,  1400.7,   2.5222,  34.6785,2,  34.6780,2,    179.2,2,   181.1,2,   73.07,2,   31.89,2,    0.00,2,    2.16,2,-999.000,9,-999.000,9,-999.000,9,  2243.9,2,  2335.2,2,  -999.0,9,   20.00,   7.6354,2,    25.00,-999.000,9, -999.00,-999.000,9,-999.000,9, -999.00,9,  -999.0,9,  -999.0,-999.000,9,-999.000,-999.000,9, -999.00,9, 1400.70,-999.0000,9,-999.0000,9,-999.0000,9,-999.0000,9,-999.0000,9,-999.0000,9,   2.4275,     -999.0,-999.000,     -999.0,          9,     -999.0,          9,-999.000,          9
 33RO200501,       A16S,      32,          1,         14,         14,2,20050125,       1445,   -46.5000,   -31.8082,       5256,  1604.2,   2.4139,  34.7172,2,  34.7148,2,    184.9,2,   184.4,2,   76.08,2,   31.14,2,    0.00,2,    2.12,2,-999.000,9,-999.000,9,-999.000,9,  -999.0,9,  -999.0,9,  -999.0,9,   20.00,-999.0000,9,    25.00,-999.000,9, -999.00,-999.000,9,-999.000,9, -999.00,9,  -999.0,9,  -999.0,-999.000,9,-999.000,-999.000,9, -999.00,9, 1604.20,-999.0000,9,-999.0000,9,-999.0000,9,-999.0000,9,-999.0000,9,-999.0000,9,   2.3041,     -999.0,-999.000,     -999.0,          9,     -999.0,          9,-999.000,          9
 33RO200501,       A16S,      32,          1,         13,         13,2,20050125,       1445,   -46.5000,   -31.8082,       5256,  1799.2,   2.2829,  34.7415,2,  34.7411,2,    193.6,2,   189.8,2,   78.42,2,   30.48,2,    0.00,2,    2.08,2,   0.127,2,   0.064,2,   0.005,2,  -999.0,9,  -999.0,9,  -999.0,9,   20.00,-999.0000,9,    25.00,-999.000,9, -999.00,-999.000,9,-999.000,9, -999.00,9,  -999.0,9,  -999.0,-999.000,9,-999.000,   0.217,3, -999.00,9, 1799.20,-999.0000,9,-999.0000,9,-999.0000,9,-999.0000,9,-999.0000,9,-999.0000,9,   2.1588,     -999.0,-999.000,      2.475,          2,      0.000,          2,   0.029,          2
 33RO200501,       A16S,      32,          1,         12,         12,9,20050125,       1445,   -46.5000,   -31.8082,       5256,  2050.0,   2.1766,  34.7710,2,-999.0000,9,    198.9,2,  -999.0,9, -999.00,9, -999.00,9, -999.00,9, -999.00,9,-999.000,9,-999.000,9,-999.000,9,  -999.0,9,  -999.0,9,  -999.0,9,   20.00,-999.0000,9,    25.00,-999.000,9, -999.00,-999.000,9,-999.000,9, -999.00,9,  -999.0,9,  -999.0,-999.000,9,-999.000,-999.000,9, -999.00,9, 2050.00,-999.0000,9,-999.0000,9,-999.0000,9,-999.0000,9,-999.0000,9,-999.0000,9,   2.0328,     -999.0,-999.000,     -999.0,          9,     -999.0,          9,-999.000,          9
 33RO200501,       A16S,      32,          1,         11,         11,2,20050125,       1445,   -46.5000,   -31.8082,       5256,  2352.4,   1.8032,  34.7611,2,  34.7600,2,    200.8,2,   201.9,2,   87.17,2,   29.70,2,    0.00,2,    2.05,2,   0.095,2,   0.049,2,   0.004,2,  -999.0,9,  -999.0,9,  -999.0,9,   20.00,-999.0000,9,    25.00,-999.000,9, -999.00,-999.000,9,-999.000,9, -999.00,9,  -999.0,9,  -999.0,-999.000,9,-999.000,   0.159,3, -999.00,9, 2352.40,-999.0000,9,-999.0000,9,-999.0000,9,-999.0000,9,-999.0000,9,-999.0000,9,   1.6392,     -999.0,-999.000,     -999.0,          9,     -999.0,          9,-999.000,          9
 33RO200501,       A16S,      32,          1,         10,         10,2,20050125,       1445,   -46.5000,   -31.8082,       5256,  2650.1,   1.3879,  34.7328,2,  34.7325,2,    200.0,2,   201.1,2,  101.06,2,   30.99,2,    0.00,2,    2.16,2,   0.129,2,   0.070,2,   0.005,2,  -999.0,9,  -999.0,9,  -999.0,9,   20.00,-999.0000,9,    25.00,-999.000,9, -999.00,-999.000,9,-999.000,9, -999.00,9,  -999.0,9,  -999.0,-999.000,9,-999.000,   0.179,3, -999.00,9, 2650.10,-999.0000,9,-999.0000,9,-999.0000,9,-999.0000,9,-999.0000,9,-999.0000,9,   1.2055,     -999.0,-999.000,      3.508,          2,      0.000,          2,   0.027,          2
 33RO200501,       A16S,      32,          1,          9,          9,2,20050125,       1445,   -46.5000,   -31.8082,       5256,  2929.3,   1.1262,  34.7196,2,  34.7325,3,    203.3,2,   206.3,3,  108.27,2,   31.45,2,    0.00,2,    2.20,2,   0.178,2,   0.088,2,   0.007,2,  -999.0,9,  -999.0,9,  -999.0,9,   20.00,-999.0000,9,    25.00,-999.000,9, -999.00,-999.000,9,-999.000,9, -999.00,9,  -999.0,9,  -999.0,-999.000,9,-999.000,   0.247,3, -999.00,9, 2929.30,-999.0000,9,-999.0000,9,-999.0000,9,-999.0000,9,-999.0000,9,-999.0000,9,   0.9240,     -999.0,-999.000,     -999.0,          9,     -999.0,          9,-999.000,          9
 33RO200501,       A16S,      32,          1,          8,          8,2,20050125,       1445,   -46.5000,   -31.8082,       5256,  3249.9,   0.8164,  34.7040,2,  34.7035,2,    207.8,2,   209.2,2,  114.37,2,   31.88,2,    0.00,2,    2.24,2,-999.000,9,-999.000,9,-999.000,9,  -999.0,9,  -999.0,9,  -999.0,9,   20.00,-999.0000,9,    25.00,-999.000,9, -999.00,-999.000,9,-999.000,9, -999.00,9,  -999.0,9,  -999.0,-999.000,9,-999.000,-999.000,9, -999.00,9, 3249.90,-999.0000,9,-999.0000,9,-999.0000,9,-999.0000,9,-999.0000,9,-999.0000,9,   0.5914,     -999.0,-999.000,     -999.0,          9,     -999.0,          9,-999.000,          9