BOTTLE,20220818CCHSIOAMB
EXPOCODE,SECT_ID,STNNBR,CASTNO,SAMPNO,BTLNBR,BTLNBR_FLAG_W,DATE,TIME,LATITUDE,LONGITUDE,DEPTH,CTDPRS,CTDTMP,CTDSAL,CTDSAL_FLAG_W,SALNTY,SALNTY_FLAG_W,CTDOXY,CTDOXY_FLAG_W,OXYGEN,OXYGEN_FLAG_W,SILCAT,SILCAT_FLAG_W,NITRAT,NITRAT_FLAG_W,NITRIT,NITRIT_FLAG_W,PHSPHT,PHSPHT_FLAG_W,CFC-11,CFC-11_FLAG_W,CFC-12,CFC-12_FLAG_W,CFC113,CFC113_FLAG_W,TCARBN,TCARBN_FLAG_W,ALKALI,ALKALI_FLAG_W,PCO2,PCO2_FLAG_W,PCO2TMP,PH_SWS,PH_SWS_FLAG_W,PH_TMP,TRITUM,TRITUM_FLAG_W,TRITER,HELIUM,HELIUM_FLAG_W,DELHE3,DELHE3_FLAG_W,DELC13,DELC13_FLAG_W,DELC14,DELC14_FLAG_W,C14ERR,NEON,NEON_FLAG_W,NEONER,CCL4,CCL4_FLAG_W,DOC,DOC_FLAG_W,CTDRAW,CDOM325,CDOM325_FLAG_W,CDOM340,CDOM340_FLAG_W,CDOM380,CDOM380_FLAG_W,CDOM412,CDOM412_FLAG_W,CDOMSL,CDOMSL_FLAG_W,CDOMSN,CDOMSN_FLAG_W,THETA,HELIER,DELHER,CH3CL,CH3CL_FLAG_W,CH3BR,CH3BR_FLAG_W,CH3I,CH3I_FLAG_W
,,,,,,,,,,,METERS,DBAR,ITS-90,PSS-78,,PSS-78,,UMOL/KG,,UMOL/KG,,UMOL/KG,,UMOL/KG,,UMOL/KG,,UMOL/KG,,PMOL/KG,,PMOL/KG,,PMOL/KG,,UMOL/KG,,UMOL/KG,,UATM,,DEG C,,,DEG C,TU,,TU,NMOL/KG,,PERCNT,,/MILLE,,/MILLE,,/MILLE,NMOL/KG,,NMOL/KG,PMOL/KG,,UMOL/KG,,DBAR,1/M,,1/M,,1/M,,1/M,,1/NM,,1/NM,,DEG C,NMOL/KG,PERCNT,PMOL/KG,,PMOL/KG,,PMOL/KG,
 33RO200501,       A16S,      70,          1,         36,         36,2,20050206,       0611,   -27.4997,   -25.0005,       4716,     2.2,  23.8349,  36.3471,2,  36.3458,2,    212.9,2,   212.7,2,    1.14,2,    0.05,2,    0.00,2,    0.03,2,   1.879,2,   1.191,2,   0.160,2,  2068.6,6,  2382.4,6,  -999.0,9,   20.00,   8.0413,2,    25.00,-999.000,9, -999.00,-999.000,9,-999.000,9, -999.00,9,  -999.0,9,  -999.0,-999.000,9,-999.000,   1.625,4, -999.00,9,    2.20,-999.0000,9,-999.0000,9,-999.0000,9,-999.0000,9,-999.0000,9,-999.0000,9,  23.8344,     -999.0,-999.000,     58.652,          2,      1.004,          2,   3.363,          2
 33RO200501,       A16S,      70,          1,         35,         35,2,20050206,       0611,   -27.4997,   -25.0005,       4716,    23.8,  23.8332,  36.3551,2,  36.3573,2,    213.5,2,   213.1,2,    1.13,2,    0.05,2,    0.00,2,    0.02,2,-999.000,9,-999.000,9,-999.000,9,  -999.0,9,  -999.0,9,  -999.0,9,   20.00,-999.0000,9,    25.00,-999.000,9, -999.00,-999.000,9,-999.000,9, -999.00,9,  -999.0,9,  -999.0,-999.000,9,-999.000,-999.000,9, -999.00,9,   23.80,-999.0000,9,-999.0000,9,-999.0000,9,-999.0000,9,-999.0000,9,-999.0000,9,  23.8282,     -999.0,-999.000,     63.468,          2,      1.023,          2,   3.651,          2
 33RO200501,       A16S,      70,          1,         34,         34,2,20050206,       0611,   -27.4997,   -25.0005,       4716,    48.6,  22.8831,  36.2956,2,  36.2882,2,    218.6,2,   221.2,2,    1.24,2,    0.08,2,    0.00,2,    0.07,2,-999.000,9,-999.000,9,-999.000,9,  -999.0,9,  -999.0,9,  -999.0,9,   20.00,-999.0000,9,    25.00,-999.000,9, -999.00,-999.000,9,-999.000,9, -999.00,9,  -999.0,9,  -999.0,-999.000,9,-999.000,-999.000,9, -999.00,9,   48.60,-999.0000,9,-999.0000,9,-999.0000,9,-999.0000,9,-999.0000,9,-999.0000,9,  22.8732,     -999.0,-999.000,     94.958,          2,      1.007,          2,   4.985,          2
 33RO200501,       A16S,      70,          1,         33,         33,2,20050206,       0611,   -27.4997,   -25.0005,       4716,    69.7,  21.0923,  36.2332,2,  36.2383,2,    233.6,2,   232.5,2,    1.27,2,    0.03,2,    0.00,2,    0.09,2,   2.190,2,   1.358,2,   0.182,2,  -999.0,9,  -999.0,9,  -999.0,9,   20.00,-999.0000,9,    25.00,-999.000,9, -999.00,-999.000,9,-999.000,9, -999.00,9,  -999.0,9,  -999.0,-999.000,9,-999.000,   1.534,4, -999.00,9,   69.70,-999.0000,9,-999.0000,9,-999.0000,9,-999.0000,9,-999.0000,9,-999.0000,9,  21.0789,     -999.0,-999.000,     -999.0,          9,     -999.0,          9,-999.000,          9
 33RO200501,       A16S,      70,          1,         32,         32,2,20050206,       0611,   -27.4997,   -25.0005,       4716,    90.9,  20.1111,  36.2413,2,  36.2377,2,    230.5,2,   229.5,2,   36.76,4,   22.71,4,    0.00,4,    1.52,4,-999.000,9,-999.000,9,-999.000,9,  -999.0,9,  -999.0,9,  -999.0,9,   20.00,-999.0000,9,    25.00,-999.000,9, -999.00,-999.000,9,-999.000,9, -999.00,9,  -999.0,9,  -999.0,-999.000,9,-999.000,-999.000,9, -999.00,9,   90.90,-999.0000,9,-999.0000,9,-999.0000,9,-999.0000,9,-999.0000,9,-999.0000,9,  20.0942,     -999.0,-999.000,     91.659,          2,      0.679,          2,   3.148,          2
 33RO200501,       A16S,      70,          1,         31,         31,2,20050206,       0611,   -27.4997,   -25.0005,       4716,   113.7,  19.4304,  36.1199,2,  36.1146,2,    230.3,2,   229.5,2,    1.31,6,    0.02,6,    0.00,6,    0.13,6,   2.301,2,   1.415,2,   0.189,2,  -999.0,9,  -999.0,9,  -999.0,9,   20.00,-999.0000,9,    25.00,-999.000,9, -999.00,-999.000,9,-999.000,9, -999.00,9,  -999.0,9,  -999.0,-999.000,9,-999.000,   1.529,4, -999.00,9,  113.70,-999.0000,9,-999.0000,9,-999.0000,9,-999.0000,9,-999.0000,9,-999.0000,9,  19.4097,     -999.0,-999.000,     -999.0,          9,     -999.0,          9,-999.000,          9
 33RO200501,       A16S,      70,          1,         30,         30,4,20050206,       0611,   -27.4997,   -25.0005,       4716,   137.8,  18.5551,  35.9590,2,  34.8830,4,    228.3,2,   237.0,4,   36.75,4,   22.72,4,    0.00,6,    1.51,4,-999.000,9,-999.000,9,-999.000,9,  -999.0,9,  -999.0,9,  -999.0,9,   20.00,-999.0000,9,    25.00,-999.000,9, -999.00,-999.000,9,-999.000,9, -999.00,9,  -999.0,9,  -999.0,-999.000,9,-999.000,-999.000,9, -999.00,9,  137.80,-999.0000,9,-999.0000,9,-999.0000,9,-999.0000,9,-999.0000,9,-999.0000,9,  18.5308,     -999.0,-999.000,      2.220,          4,      0.000,          4,   0.010,          4
 33RO200501,       A16S,      70,          1,         29,         29,2,20050206,       0611,   -27.4997,   -25.0005,       4716,   164.7,  17.4037,  35.7740,2,  35.7722,2,    220.0,2,   220.4,2,    1.60,2,    0.52,2,    0.10,2,    0.21,2,   2.516,2,   1.505,2,   0.167,2,  -999.0,9,  -999.0,9,  -999.0,9,   20.00,-999.0000,9,    25.00,-999.000,9, -999.00,-999.000,9,-999.000,9, -999.00,9,  -999.0,9,  -999.0,-999.000,9,-999.000,   1.144,4, -999.00,9,  164.70,-999.0000,9,-999.0000,9,-999.0000,9,-999.0000,9,-999.0000,9,-999.0000,9,  17.3760,     -999.0,-999.000,     -999.0,          9,     -999.0,          9,-999.000,          9
 33RO200501,       A16S,      70,          1,         28,         28,2,20050206,       0611,   -27.4997,   -25.0005,       4716,   190.5,  16.2735,  35.6136,2,  35.6163,2,    214.4,2,   214.4,2,    1.91,2,    2.62,2,    0.02,2,    0.35,2,-999.000,9,-999.000,9,-999.000,9,  -999.0,9,  -999.0,9,  -999.0,9,   20.00,-999.0000,9,    25.00,-999.000,9, -999.00,-999.000,9,-999.000,9, -999.00,9,  -999.0,9,  -999.0,-999.000,9,-999.000,-999.000,9, -999.00,9,  190.50,-999.0000,9,-999.0000,9,-999.0000,9,-999.0000,9,-999.0000,9,-999.0000,9,  16.2429,     -999.0,-999.000,      7.416,          2,      0.106,          2,   0.085,          2
 33RO200501,       A16S,      70,          1,         27,         27,2,20050206,       0611,   -27.4997,   -25.0005,       4716,   224.9,  15.2292,  35.4752,2,  35.4734,2,    212.9,2,   212.8,2,    2.54,2,    5.06,2,    0.01,2,    0.45,2,   2.774,2,   1.595,2,   0.053,2,  -999.0,9,  -999.0,9,  -999.0,9,   20.00,-999.0000,9,    25.00,-999.000,9, -999.00,-999.000,9,-999.000,9, -999.00,9,  -999.0,9,  -999.0,-999.000,9,-999.000,   0.619,4, -999.00,9,  224.90,-999.0000,9,-999.0000,9,-999.0000,9,-999.0000,9,-999.0000,9,-999.0000,9,  15.1946,     -999.0,-999.000,     -999.0,          9,     -999.0,          9,-999.000,          9
 33RO200501,       A16S,      70,          1,         26,         26,2,20050206,       0611,   -27.4997,   -25.0005,       4716,   274.2,  14.2438,  35.3468,2,  35.3373,2,    213.0,2,   213.3,2,    2.63,2,    6.91,2,    0.01,2,    0.56,2,-999.000,9,-999.000,9,-999.000,9,  -999.0,9,  -999.0,9,  -999.0,9,   20.00,-999.0000,9,    25.00,-999.000,9, -999.00,-999.000,9,-999.000,9, -999.00,9,  -999.0,9,  -999.0,-999.000,9,-999.000,-999.000,9, -999.00,9,  274.20,-999.0000,9,-999.0000,9,-999.0000,9,-999.0000,9,-999.0000,9,-999.0000,9,  14.2035,     -999.0,-999.000,      6.626,          2,      0.421,          2,   0.056,          2
 33RO200501,       A16S,      70,          1,         25,         25,2,20050206,       0611,   -27.4997,   -25.0005,       4716,   323.8,  13.2717,  35.2120,2,  35.2090,2,    210.8,2,   210.9,2,    3.54,2,    9.34,2,    0.00,2,    0.70,2,   2.979,2,   1.674,2,   0.043,2,  -999.0,9,  -999.0,9,  -999.0,9,   20.00,-999.0000,9,    25.00,-999.000,9, -999.00,-999.000,9,-999.000,9, -999.00,9,  -999.0,9,  -999.0,-999.000,9,-999.000,   0.679,4, -999.00,9,  323.80,-999.0000,9,-999.0000,9,-999.0000,9,-999.0000,9,-999.0000,9,-999.0000,9,  13.2262,     -999.0,-999.000,     -999.0,          9,     -999.0,          9,-999.000,          9
 33RO200501,       A16S,      70,          1,         24,         24,2,20050206,       0611,   -27.4997,   -25.0005,       4716,   373.6,  12.1989,  35.0731,2,  35.0720,2,    208.3,2,   208.8,2,    4.45,2,   11.91,2,    0.00,2,    0.86,2,-999.000,9,-999.000,9,-999.000,9,  -999.0,9,  -999.0,9,  -999.0,9,   20.00,-999.0000,9,    25.00,-999.000,9, -999.00,-999.000,9,-999.000,9, -999.00,9,  -999.0,9,  -999.0,-999.000,9,-999.000,-999.000,9, -999.00,9,  373.60,-999.0000,9,-999.0000,9,-999.0000,9,-999.0000,9,-999.0000,9,-999.0000,9,  12.1492,     -999.0,-999.000,      3.766,          2,      0.056,          2,   0.044,          2
 33RO200501,       A16S,      70,          1,         23,         23,2,20050206,       0611,   -27.4997,   -25.0005,       4716,   449.9,  10.6044,  34.8733,2,  34.8736,2,    203.7,2,   203.4,2,    6.78,2,   16.29,2,    0.00,2,    1.11,2,-999.000,9,-999.000,9,-999.000,9,  -999.0,9,  -999.0,9,  -999.0,9,   20.00,-999.0000,9,    25.00,-999.000,9, -999.00,-999.000,9,-999.000,9, -999.00,9,  -999.0,9,  -999.0,-999.000,9,-999.000,-999.000,9, -999.00,9,  449.90,-999.0000,9,-999.0000,9,-999.0000,9,-999.0000,9,-999.0000,9,-999.0000,9,  10.5496,     -999.0,-999.000,     -999.0,          9,     -999.0,          9,-999.000,          9
 33RO200501,       A16S,      70,          1,         22,         22,2,20050206,       0611,   -27.4997,   -25.0005,       4716,   549.7,   8.9364,  34.6817,2,  34.6825,2,    199.4,2,   200.7,2,    9.68,2,   20.47,2,    0.00,2,    1.36,2,-999.000,9,-999.000,9,-999.000,9,  -999.0,9,  -999.0,9,  -999.0,9,   20.00,-999.0000,9,    25.00,-999.000,9, -999.00,-999.000,9,-999.000,9, -999.00,9,  -999.0,9,  -999.0,-999.000,9,-999.000,-999.000,9, -999.00,9,  549.70,-999.0000,9,-999.0000,9,-999.0000,9,-999.0000,9,-999.0000,9,-999.0000,9,   8.8760,     -999.0,-999.000,     -999.0,          9,     -999.0,          9,-999.000,          9
 33RO200501,       A16S,      70,          1,         21,         21,2,20050206,       0611,   -27.4997,   -25.0005,       4716,   650.5,   6.7627,  34.4474,2,  34.4462,2,    214.4,2,   215.7,2,   12.78,2,   24.50,2,    0.00,2,    1.61,2,   2.956,2,   1.501,2,   0.148,2,  -999.0,9,  -999.0,9,  -999.0,9,   20.00,-999.0000,9,    25.00,-999.000,9, -999.00,-999.000,9,-999.000,9, -999.00,9,  -999.0,9,  -999.0,-999.000,9,-999.000,   2.018,4, -999.00,9,  650.50,-999.0000,9,-999.0000,9,-999.0000,9,-999.0000,9,-999.0000,9,-999.0000,9,   6.7015,     -999.0,-999.000,      2.020,          2,      0.080,          2,   0.037,          2
 33RO200501,       A16S,      70,          1,         20,         20,2,20050206,       0611,   -27.4997,   -25.0005,       4716,   744.6,   5.3332,  34.3217,2,  34.3210,2,    226.6,2,   228.5,2,   16.54,6,   26.77,6,    0.00,6,    1.76,6,-999.000,9,-999.000,9,-999.000,9,  -999.0,9,  -999.0,9,  -999.0,9,   20.00,-999.0000,9,    25.00,-999.000,9, -999.00,-999.000,9,-999.000,9, -999.00,9,  -999.0,9,  -999.0,-999.000,9,-999.000,-999.000,9, -999.00,9,  744.60,-999.0000,9,-999.0000,9,-999.0000,9,-999.0000,9,-999.0000,9,-999.0000,9,   5.2709,     -999.0,-999.000,     -999.0,          9,     -999.0,          9,-999.000,          9
 33RO200501,       A16S,      70,          1,         19,         19,2,20050206,       0611,   -27.4997,   -25.0005,       4716,   849.6,   4.3987,  34.3060,2,  34.3051,2,    221.4,2,   220.9,2,   24.97,2,   29.39,2,    0.00,2,    1.93,2,-999.000,9,-999.000,9,-999.000,9,  -999.0,9,  -999.0,9,  -999.0,9,   20.00,-999.0000,9,    25.00,-999.000,9, -999.00,-999.000,9,-999.000,9, -999.00,9,  -999.0,9,  -999.0,-999.000,9,-999.000,-999.000,9, -999.00,9,  849.60,-999.0000,9,-999.0000,9,-999.0000,9,-999.0000,9,-999.0000,9,-999.0000,9,   4.3331,     -999.0,-999.000,     -999.0,          9,     -999.0,          9,-999.000,          9
 33RO200501,       A16S,      70,          1,         18,         18,2,20050206,       0611,   -27.4997,   -25.0005,       4716,   946.8,   3.7978,  34.3251,2,  34.3253,2,    214.1,2,   212.6,2,   33.42,2,   30.90,2,    0.00,2,    2.04,2,   1.721,2,   0.836,2,   0.085,2,  2195.8,2,  2300.1,2,  -999.0,9,   20.00,   7.4684,4,    25.00,-999.000,9, -999.00,-999.000,9,-999.000,9, -999.00,9,  -999.0,9,  -999.0,-999.000,9,-999.000,   1.829,4, -999.00,9,  946.80,-999.0000,9,-999.0000,9,-999.0000,9,-999.0000,9,-999.0000,9,-999.0000,9,   3.7283,     -999.0,-999.000,      3.630,          2,      0.258,          2,   0.017,          2
 33RO200501,       A16S,      70,          1,         17,         17,2,20050206,       0611,   -27.4997,   -25.0005,       4716,  1099.7,   3.3102,  34.4096,2,  34.4091,2,    197.4,2,   196.3,2,   45.33,2,   32.26,2,    0.00,2,    2.14,2,-999.000,9,-999.000,9,-999.000,9,  -999.0,9,  -999.0,9,  -999.0,9,   20.00,-999.0000,9,    25.00,-999.000,9, -999.00,-999.000,9,-999.000,9, -999.00,9,  -999.0,9,  -999.0,-999.000,9,-999.000,-999.000,9, -999.00,9, 1099.70,-999.0000,9,-999.0000,9,-999.0000,9,-999.0000,9,-999.0000,9,-999.0000,9,   3.2322,     -999.0,-999.000,     -999.0,          9,     -999.0,          9,-999.000,          9
 33RO200501,       A16S,      70,          1,         16,         16,2,20050206,       0611,   -27.4997,   -25.0005,       4716,  1299.9,   3.0575,  34.5556,2,  34.5528,2,    186.5,2,   187.2,2,   53.21,6,   31.68,6,    0.00,6,    2.13,6,   0.301,2,   0.145,2,   0.010,2,  2225.0,2,  2324.5,2,  -999.0,9,   20.00,   7.8079,4,    25.00,-999.000,9, -999.00,-999.000,9,-999.000,9, -999.00,9,  -999.0,9,  -999.0,-999.000,9,-999.000,   0.472,4, -999.00,9, 1299.90,-999.0000,9,-999.0000,9,-999.0000,9,-999.0000,9,-999.0000,9,-999.0000,9,   2.9655,     -999.0,-999.000,     -999.0,          9,     -999.0,          9,-999.000,          9
 33RO200501,       A16S,      70,          1,         15,         15,2,20050206,       0611,   -27.4997,   -25.0005,       4716,  1499.7,   2.9238,  34.6538,2,  34.6525,2,    192.4,2,   192.1,2,   54.34,2,   30.18,2,    0.00,2,    2.01,2,-999.000,9,-999.000,9,-999.000,9,  -999.0,9,  -999.0,9,  -999.0,9,   20.00,-999.0000,9,    25.00,-999.000,9, -999.00,-999.000,9,-999.000,9, -999.00,9,  -999.0,9,  -999.0,-999.000,9,-999.000,-999.000,9, -999.00,9, 1499.70,-999.0000,9,-999.0000,9,-999.0000,9,-999.0000,9,-999.0000,9,-999.0000,9,   2.8167,     -999.0,-999.000,      2.749,          2,      0.293,          2,   0.019,          2
 33RO200501,       A16S,      70,          1,         14,         14,2,20050206,       0611,   -27.4997,   -25.0005,       4716,  1694.8,   2.8412,  34.7537,2,  34.7530,2,    206.5,2,   206.6,2,   50.76,2,   27.52,2,    0.00,2,    1.82,2,-999.000,9,-999.000,9,-999.000,9,  -999.0,9,  -999.0,9,  -999.0,9,   20.00,-999.0000,9,    25.00,-999.000,9, -999.00,-999.000,9,-999.000,9, -999.00,9,  -999.0,9,  -999.0,-999.000,9,-999.000,-999.000,9, -999.00,9, 1694.80,-999.0000,9,-999.0000,9,-999.0000,9,-999.0000,9,-999.0000,9,-999.0000,9,   2.7184,     -999.0,-999.000,     -999.0,          9,     -999.0,          9,-999.000,          9
 33RO200501,       A16S,      70,          1,         13,         13,2,20050206,       0611,   -27.4997,   -25.0005,       4716,  1900.9,   2.8611,  34.8201,2,  34.8192,2,    220.2,2,   221.3,2,   44.80,2,   25.19,2,    0.00,2,    1.65,2,-999.000,9,-999.000,9,-999.000,9,  -999.0,9,  -999.0,9,  -999.0,9,   20.00,-999.0000,9,    25.00,-999.000,9, -999.00,-999.000,9,-999.000,9, -999.00,9,  -999.0,9,  -999.0,-999.000,9,-999.000,-999.000,9, -999.00,9, 1900.90,-999.0000,9,-999.0000,9,-999.0000,9,-999.0000,9,-999.0000,9,-999.0000,9,   2.7199,     -999.0,-999.000,     -999.0,          9,     -999.0,          9,-999.000,          9
 33RO200501,       A16S,      70,          1,         12,         12,2,20050206,       0611,   -27.4997,   -25.0005,       4716,  2100.4,   2.9149,  34.8759,2,  34.8758,2,    234.6,2,   235.3,2,   37.57,2,   22.90,2,    0.00,2,    1.48,2,-999.000,9,-999.000,9,-999.000,9,  -999.0,9,  -999.0,9,  -999.0,9,   20.00,-999.0000,9,    25.00,-999.000,9, -999.00,-999.000,9,-999.000,9, -999.00,9,  -999.0,9,  -999.0,-999.000,9,-999.000,-999.000,9, -999.00,9, 2100.40,-999.0000,9,-999.0000,9,-999.0000,9,-999.0000,9,-999.0000,9,-999.0000,9,   2.7546,     -999.0,-999.000,      5.263,          2,      0.320,          2,   0.023,          2
 33RO200501,       A16S,      70,          1,         11,         11,2,20050206,       0611,   -27.4997,   -25.0005,       4716,  2290.0,   2.9018,  34.9014,2,  34.9016,2,    242.2,2,   242.7,2,   34.51,2,   21.87,2,    0.00,2,    1.41,2,-999.000,9,-999.000,9,-999.000,9,  -999.0,9,  -999.0,9,  -999.0,9,   20.00,-999.0000,9,    25.00,-999.000,9, -999.00,-999.000,9,-999.000,9, -999.00,9,  -999.0,9,  -999.0,-999.000,9,-999.000,-999.000,9, -999.00,9, 2290.00,-999.0000,9,-999.0000,9,-999.0000,9,-999.0000,9,-999.0000,9,-999.0000,9,   2.7240,     -999.0,-999.000,     -999.0,          9,     -999.0,          9,-999.000,          9
 33RO200501,       A16S,      70,          1,         10,         10,2,20050206,       0611,   -27.4997,   -25.0005,       4716,  2500.9,   2.8456,  34.9119,2,  34.9120,2,    246.1,2,   246.9,2,   33.71,2,   21.23,2,    0.00,2,    1.37,2,-999.000,9,-999.000,9,-999.000,9,  -999.0,9,  -999.0,9,  -999.0,9,   20.00,-999.0000,9,    25.00,-999.000,9, -999.00,-999.000,9,-999.000,9, -999.00,9,  -999.0,9,  -999.0,-999.000,9,-999.000,-999.000,9, -999.00,9, 2500.90,-999.0000,9,-999.0000,9,-999.0000,9,-999.0000,9,-999.0000,9,-999.0000,9,   2.6486,     -999.0,-999.000,      3.336,          2,      0.203,          2,   0.011,          2
 33RO200501,       A16S,      70,          1,          9,          9,2,20050206,       0611,   -27.4997,   -25.0005,       4716,  2693.9,   2.7940,  34.9151,2,  34.9147,2,    248.5,2,   248.9,2,   34.55,2,   21.90,2,    0.00,2,    1.42,2,-999.000,9,-999.000,9,-999.000,9,  -999.0,9,  -999.0,9,  -999.0,9,   20.00,-999.0000,9,    25.00,-999.000,9, -999.00,-999.000,9,-999.000,9, -999.00,9,  -999.0,9,  -999.0,-999.000,9,-999.000,-999.000,9, -999.00,9, 2693.90,-999.0000,9,-999.0000,9,-999.0000,9,-999.0000,9,-999.0000,9,-999.0000,9,   2.5789,     -999.0,-999.000,     -999.0,          9,     -999.0,          9,-999.000,          9
 33RO200501,       A16S,      70,          1,          8,          8,2,20050206,       0611,   -27.4997,   -25.0005,       4716,  2899.3,   2.6981,  34.9129,2,  34.9132,2,    250.2,2,   250.1,2,   33.78,2,   21.35,2,    0.00,2,    1.38,2,-999.000,9,-999.000,9,-999.000,9,  2178.5,2,  2321.8,2,  -999.0,9,   20.00,   7.9851,4,    25.00,-999.000,9, -999.00,-999.000,9,-999.000,9, -999.00,9,  -999.0,9,  -999.0,-999.000,9,-999.000,-999.000,9, -999.00,9, 2899.30,-999.0000,9,-999.0000,9,-999.0000,9,-999.0000,9,-999.0000,9,-999.0000,9,   2.4643,     -999.0,-999.000,      3.933,          2,      0.185,          2,   0.029,          2