BOTTLE,20220818CCHSIOAMB
EXPOCODE,SECT_ID,STNNBR,CASTNO,SAMPNO,BTLNBR,BTLNBR_FLAG_W,DATE,TIME,LATITUDE,LONGITUDE,DEPTH,CTDPRS,CTDTMP,CTDSAL,CTDSAL_FLAG_W,SALNTY,SALNTY_FLAG_W,CTDOXY,CTDOXY_FLAG_W,OXYGEN,OXYGEN_FLAG_W,SILCAT,SILCAT_FLAG_W,NITRAT,NITRAT_FLAG_W,NITRIT,NITRIT_FLAG_W,PHSPHT,PHSPHT_FLAG_W,CFC-11,CFC-11_FLAG_W,CFC-12,CFC-12_FLAG_W,CFC113,CFC113_FLAG_W,TCARBN,TCARBN_FLAG_W,ALKALI,ALKALI_FLAG_W,PCO2,PCO2_FLAG_W,PCO2TMP,PH_SWS,PH_SWS_FLAG_W,PH_TMP,TRITUM,TRITUM_FLAG_W,TRITER,HELIUM,HELIUM_FLAG_W,DELHE3,DELHE3_FLAG_W,DELC13,DELC13_FLAG_W,DELC14,DELC14_FLAG_W,C14ERR,NEON,NEON_FLAG_W,NEONER,CCL4,CCL4_FLAG_W,DOC,DOC_FLAG_W,CTDRAW,CDOM325,CDOM325_FLAG_W,CDOM340,CDOM340_FLAG_W,CDOM380,CDOM380_FLAG_W,CDOM412,CDOM412_FLAG_W,CDOMSL,CDOMSL_FLAG_W,CDOMSN,CDOMSN_FLAG_W,THETA,HELIER,DELHER,CH3CL,CH3CL_FLAG_W,CH3BR,CH3BR_FLAG_W,CH3I,CH3I_FLAG_W
,,,,,,,,,,,METERS,DBAR,ITS-90,PSS-78,,PSS-78,,UMOL/KG,,UMOL/KG,,UMOL/KG,,UMOL/KG,,UMOL/KG,,UMOL/KG,,PMOL/KG,,PMOL/KG,,PMOL/KG,,UMOL/KG,,UMOL/KG,,UATM,,DEG C,,,DEG C,TU,,TU,NMOL/KG,,PERCNT,,/MILLE,,/MILLE,,/MILLE,NMOL/KG,,NMOL/KG,PMOL/KG,,UMOL/KG,,DBAR,1/M,,1/M,,1/M,,1/M,,1/NM,,1/NM,,DEG C,NMOL/KG,PERCNT,PMOL/KG,,PMOL/KG,,PMOL/KG,
 33RO200501,       A16S,      57,          1,          7,          7,2,20050202,       0708,   -34.0003,   -24.9998,       3997,  2600.6,   2.7998,  34.8798,2,  34.8817,2,    234.8,2,   235.9,2,   41.64,2,   23.22,2,    0.00,2,    1.54,2,   0.010,2,   0.002,2,   0.000,2,  2188.5,2,  2329.4,2,   815.2,2,   20.00,   7.6973,2,    25.00,-999.000,9, -999.00,-999.000,9,-999.000,9, -999.00,9,  -999.0,9,  -999.0,-999.000,9,-999.000,   0.058,4,   39.82,2, 2600.60,-999.0000,9,-999.0000,9,-999.0000,9,-999.0000,9,-999.0000,9,-999.0000,9,   2.5940,     -999.0,-999.000,     -999.0,          9,     -999.0,          9,-999.000,          9
 33RO200501,       A16S,      57,          1,          6,          6,2,20050202,       0708,   -34.0003,   -24.9998,       3997,  2800.7,   2.7218,  34.8883,2,  34.8877,2,    239.7,2,   240.2,2,   41.41,2,   22.65,2,    0.00,2,    1.51,2,   0.004,2,   0.002,2,   0.000,2,  2186.9,2,  2327.7,2,   801.7,2,   20.00,   7.7129,2,    25.00,-999.000,9, -999.00,-999.000,9,-999.000,9, -999.00,9,  -999.0,9,  -999.0,-999.000,9,-999.000,   0.048,4, -999.00,9, 2800.70,-999.0000,9,-999.0000,9,-999.0000,9,-999.0000,9,-999.0000,9,-999.0000,9,   2.4976,     -999.0,-999.000,     -999.0,          9,     -999.0,          9,-999.000,          9
 33RO200501,       A16S,      57,          1,          5,          5,2,20050202,       0708,   -34.0003,   -24.9998,       3997,  2999.4,   2.5925,  34.8872,2,  34.8884,2,    242.0,2,   242.2,2,   43.58,2,   22.64,2,    0.00,2,    1.51,2,   0.011,2,   0.009,2,   0.000,2,  2189.4,2,  2331.6,2,   796.3,2,   20.00,   7.7136,2,    25.00,-999.000,9, -999.00,-999.000,9,-999.000,9, -999.00,9,  -999.0,9,  -999.0,-999.000,9,-999.000,   0.057,4,   39.65,2, 2999.40,   0.1680,2,   0.1260,2,   0.0660,2,   0.0440,3,   0.0149,3,   0.0160,3,   2.3509,     -999.0,-999.000,     -999.0,          9,     -999.0,          9,-999.000,          9
 33RO200501,       A16S,      57,          1,          4,          4,2,20050202,       0708,   -34.0003,   -24.9998,       3997,  3250.0,   2.3626,  34.8729,2,  34.8725,2,    241.9,2,   241.8,2,   50.13,6,   23.26,6,    0.00,6,    1.56,6,   0.001,2,  -0.001,2,   0.000,2,  2193.5,2,  2335.4,2,  -999.0,9,   20.00,   7.7085,2,    25.00,-999.000,9, -999.00,-999.000,9,-999.000,9, -999.00,9,  -999.0,9,  -999.0,-999.000,9,-999.000,   0.043,4, -999.00,9, 3250.00,-999.0000,9,-999.0000,9,-999.0000,9,-999.0000,9,-999.0000,9,-999.0000,9,   2.1003,     -999.0,-999.000,     -999.0,          9,     -999.0,          9,-999.000,          9
 33RO200501,       A16S,      57,          1,          3,          3,2,20050202,       0708,   -34.0003,   -24.9998,       3997,  3500.2,   2.0524,  34.8460,2,  34.8456,2,    239.1,2,   238.9,2,   61.10,6,   24.45,6,    0.00,6,    1.65,6,   0.014,2,   0.008,2,   0.000,2,  2204.3,2,  2391.1,3,   837.7,2,   20.00,   7.6976,2,    25.00,-999.000,9, -999.00,-999.000,9,-999.000,9, -999.00,9,  -999.0,9,  -999.0,-999.000,9,-999.000,   0.047,4,   39.66,2, 3500.20,-999.0000,9,-999.0000,9,-999.0000,9,-999.0000,9,-999.0000,9,-999.0000,9,   1.7715,     -999.0,-999.000,     -999.0,          9,     -999.0,          9,-999.000,          9
 33RO200501,       A16S,      57,          1,          2,          2,2,20050202,       0708,   -34.0003,   -24.9998,       3997,  3799.8,   1.6765,  34.8093,2,  34.8084,2,    234.1,2,   233.8,2,   75.53,6,   26.18,6,    0.00,6,    1.80,6,   0.017,2,   0.008,2,   0.000,2,  2218.7,2,  2349.8,6,   873.4,2,   20.00,   7.6809,6,    25.00,-999.000,9, -999.00,-999.000,9,-999.000,9, -999.00,9,  -999.0,9,  -999.0,-999.000,9,-999.000,   0.049,4, -999.00,9, 3799.80,-999.0000,9,-999.0000,9,-999.0000,9,-999.0000,9,-999.0000,9,-999.0000,9,   1.3736,     -999.0,-999.000,     -999.0,          9,     -999.0,          9,-999.000,          9
 33RO200501,       A16S,      57,          1,          1,          1,2,20050202,       0708,   -34.0003,   -24.9998,       3997,  4102.8,   1.4566,  34.7832,2,  34.7830,2,    228.8,2,   229.3,2,   85.80,6,   27.47,6,    0.00,6,    1.90,6,   0.046,2,   0.018,2,   0.005,2,  2229.9,6,  2354.3,2,   907.7,2,   20.00,   7.6633,2,    25.00,-999.000,9, -999.00,-999.000,9,-999.000,9, -999.00,9,  -999.0,9,  -999.0,-999.000,9,-999.000,   0.084,4,   38.79,2, 4102.80,-999.0000,9,-999.0000,9,-999.0000,9,-999.0000,9,-999.0000,9,-999.0000,9,   1.1270,     -999.0,-999.000,     -999.0,          9,     -999.0,          9,-999.000,          9