BOTTLE,20220818CCHSIOAMB
EXPOCODE,SECT_ID,STNNBR,CASTNO,SAMPNO,BTLNBR,BTLNBR_FLAG_W,DATE,TIME,LATITUDE,LONGITUDE,DEPTH,CTDPRS,CTDTMP,CTDSAL,CTDSAL_FLAG_W,SALNTY,SALNTY_FLAG_W,CTDOXY,CTDOXY_FLAG_W,OXYGEN,OXYGEN_FLAG_W,SILCAT,SILCAT_FLAG_W,NITRAT,NITRAT_FLAG_W,NITRIT,NITRIT_FLAG_W,PHSPHT,PHSPHT_FLAG_W,CFC-11,CFC-11_FLAG_W,CFC-12,CFC-12_FLAG_W,CFC113,CFC113_FLAG_W,TCARBN,TCARBN_FLAG_W,ALKALI,ALKALI_FLAG_W,PCO2,PCO2_FLAG_W,PCO2TMP,PH_SWS,PH_SWS_FLAG_W,PH_TMP,TRITUM,TRITUM_FLAG_W,TRITER,HELIUM,HELIUM_FLAG_W,DELHE3,DELHE3_FLAG_W,DELC13,DELC13_FLAG_W,DELC14,DELC14_FLAG_W,C14ERR,NEON,NEON_FLAG_W,NEONER,CCL4,CCL4_FLAG_W,DOC,DOC_FLAG_W,CTDRAW,CDOM325,CDOM325_FLAG_W,CDOM340,CDOM340_FLAG_W,CDOM380,CDOM380_FLAG_W,CDOM412,CDOM412_FLAG_W,CDOMSL,CDOMSL_FLAG_W,CDOMSN,CDOMSN_FLAG_W,THETA,HELIER,DELHER,CH3CL,CH3CL_FLAG_W,CH3BR,CH3BR_FLAG_W,CH3I,CH3I_FLAG_W
,,,,,,,,,,,METERS,DBAR,ITS-90,PSS-78,,PSS-78,,UMOL/KG,,UMOL/KG,,UMOL/KG,,UMOL/KG,,UMOL/KG,,UMOL/KG,,PMOL/KG,,PMOL/KG,,PMOL/KG,,UMOL/KG,,UMOL/KG,,UATM,,DEG C,,,DEG C,TU,,TU,NMOL/KG,,PERCNT,,/MILLE,,/MILLE,,/MILLE,NMOL/KG,,NMOL/KG,PMOL/KG,,UMOL/KG,,DBAR,1/M,,1/M,,1/M,,1/M,,1/NM,,1/NM,,DEG C,NMOL/KG,PERCNT,PMOL/KG,,PMOL/KG,,PMOL/KG,
 33RO200501,       A16S,      95,          1,          7,          7,2,20050213,       2339,   -15.0002,   -25.0000,       5253,  3849.6,   2.0674,  34.8534,2,  34.8535,2,    243.0,2,   242.8,2,   57.69,2,   23.64,2,    0.00,2,    1.57,2,   0.013,2,   0.002,2,   0.005,2,  2203.6,2,  2342.4,2,  -999.0,9,   20.00,   7.7037,2,    25.00,-999.000,9, -999.00,-999.000,9,-999.000,9, -999.00,9,  -999.0,9,  -999.0,-999.000,9,-999.000,   0.043,4,   39.72,2, 3849.60,-999.0000,9,-999.0000,9,-999.0000,9,-999.0000,9,-999.0000,9,-999.0000,9,   1.7483,     -999.0,-999.000,     -999.0,          9,     -999.0,          9,-999.000,          9
 33RO200501,       A16S,      95,          1,          6,          6,2,20050213,       2339,   -15.0002,   -25.0000,       5253,  4045.0,   1.6990,  34.8171,2,  34.8185,2,    238.2,2,   238.1,2,   71.85,2,   25.45,2,    0.00,2,    1.71,2,   0.009,2,   0.004,2,   0.000,2,  2216.4,2,  2349.0,2,  -999.0,9,   20.00,   7.6814,2,    25.00,-999.000,9, -999.00,-999.000,9,-999.000,9, -999.00,9,  -999.0,9,  -999.0,-999.000,9,-999.000,   0.046,4, -999.00,9, 4045.00,-999.0000,9,-999.0000,9,-999.0000,9,-999.0000,9,-999.0000,9,-999.0000,9,   1.3687,     -999.0,-999.000,     -999.0,          9,     -999.0,          9,-999.000,          9
 33RO200501,       A16S,      95,          1,          5,          5,2,20050213,       2339,   -15.0002,   -25.0000,       5253,  4248.6,   1.3277,  34.7797,2,  34.7786,2,    232.9,2,   232.9,2,   86.31,2,   27.32,2,    0.00,2,    1.86,2,   0.021,2,   0.011,2,   0.000,2,  2234.0,2,  2348.8,2,  -999.0,9,   20.00,   7.6633,2,    25.00,-999.000,9, -999.00,-999.000,9,-999.000,9, -999.00,9,  -999.0,9,  -999.0,-999.000,9,-999.000,   0.050,4,   39.35,2, 4248.60,-999.0000,9,-999.0000,9,-999.0000,9,-999.0000,9,-999.0000,9,-999.0000,9,   0.9858,     -999.0,-999.000,     -999.0,          9,     -999.0,          9,-999.000,          9
 33RO200501,       A16S,      95,          1,          4,          4,2,20050213,       2339,   -15.0002,   -25.0000,       5253,  4499.7,   1.1045,  34.7555,2,  34.7564,2,    229.7,2,   229.7,2,   95.43,6,   28.54,6,    0.00,6,    1.95,6,   0.015,2,   0.005,2,   0.003,2,  2239.4,2,  2356.4,2,  -999.0,9,   20.00,   7.6477,2,    25.00,-999.000,9, -999.00,-999.000,9,-999.000,9, -999.00,9,  -999.0,9,  -999.0,-999.000,9,-999.000,   0.055,4, -999.00,9, 4499.70,-999.0000,9,-999.0000,9,-999.0000,9,-999.0000,9,-999.0000,9,-999.0000,9,   0.7414,     -999.0,-999.000,     -999.0,          9,     -999.0,          9,-999.000,          9
 33RO200501,       A16S,      95,          1,          3,          3,2,20050213,       2339,   -15.0002,   -25.0000,       5253,  4748.4,   0.9454,  34.7371,2,  34.7374,2,    227.0,2,   227.2,2,  102.31,6,   29.44,6,    0.00,6,    2.01,6,   0.030,2,   0.014,2,   0.000,2,  2246.6,2,  2356.7,2,  -999.0,9,   20.00,   7.6406,2,    25.00,-999.000,9, -999.00,-999.000,9,-999.000,9, -999.00,9,  -999.0,9,  -999.0,-999.000,9,-999.000,   0.073,4,   39.82,2, 4748.40,-999.0000,9,-999.0000,9,-999.0000,9,-999.0000,9,-999.0000,9,-999.0000,9,   0.5591,     -999.0,-999.000,     -999.0,          9,     -999.0,          9,-999.000,          9
 33RO200501,       A16S,      95,          1,          2,          2,2,20050213,       2339,   -15.0002,   -25.0000,       5253,  4998.9,   0.8361,  34.7233,2,  34.7240,2,    224.9,2,   225.6,2,  107.16,6,   30.09,6,    0.00,6,    2.07,6,   0.043,2,   0.027,2,   0.000,2,  2250.6,2,  2360.9,6,  -999.0,9,   20.00,   7.6340,6,    25.00,-999.000,9, -999.00,-999.000,9,-999.000,9, -999.00,9,  -999.0,9,  -999.0,-999.000,9,-999.000,   0.098,4, -999.00,9, 4998.90,-999.0000,9,-999.0000,9,-999.0000,9,-999.0000,9,-999.0000,9,-999.0000,9,   0.4243,     -999.0,-999.000,     -999.0,          9,     -999.0,          9,-999.000,          9
 33RO200501,       A16S,      95,          1,          1,          1,2,20050213,       2339,   -15.0002,   -25.0000,       5253,  5314.6,   0.7549,  34.7108,2,  34.7113,2,    223.0,2,   223.5,2,  111.89,6,   30.64,6,    0.00,6,    2.12,6,   0.079,6,   0.039,6,   0.000,6,  2254.6,6,  2360.4,2,  -999.0,9,   20.00,   7.6252,2,    25.00,-999.000,9, -999.00,-999.000,9,-999.000,9, -999.00,9,  -999.0,9,  -999.0,-999.000,9,-999.000,   0.143,4,   38.97,2, 5314.60,-999.0000,9,-999.0000,9,-999.0000,9,-999.0000,9,-999.0000,9,-999.0000,9,   0.3082,     -999.0,-999.000,     -999.0,          9,     -999.0,          9,-999.000,          9