BOTTLE,20220818CCHSIOAMB
EXPOCODE,SECT_ID,STNNBR,CASTNO,SAMPNO,BTLNBR,BTLNBR_FLAG_W,DATE,TIME,LATITUDE,LONGITUDE,DEPTH,CTDPRS,CTDTMP,CTDSAL,CTDSAL_FLAG_W,SALNTY,SALNTY_FLAG_W,CTDOXY,CTDOXY_FLAG_W,OXYGEN,OXYGEN_FLAG_W,SILCAT,SILCAT_FLAG_W,NITRAT,NITRAT_FLAG_W,NITRIT,NITRIT_FLAG_W,PHSPHT,PHSPHT_FLAG_W,CFC-11,CFC-11_FLAG_W,CFC-12,CFC-12_FLAG_W,CFC113,CFC113_FLAG_W,TCARBN,TCARBN_FLAG_W,ALKALI,ALKALI_FLAG_W,PCO2,PCO2_FLAG_W,PCO2TMP,PH_SWS,PH_SWS_FLAG_W,PH_TMP,TRITUM,TRITUM_FLAG_W,TRITER,HELIUM,HELIUM_FLAG_W,DELHE3,DELHE3_FLAG_W,DELC13,DELC13_FLAG_W,DELC14,DELC14_FLAG_W,C14ERR,NEON,NEON_FLAG_W,NEONER,CCL4,CCL4_FLAG_W,DOC,DOC_FLAG_W,CTDRAW,CDOM325,CDOM325_FLAG_W,CDOM340,CDOM340_FLAG_W,CDOM380,CDOM380_FLAG_W,CDOM412,CDOM412_FLAG_W,CDOMSL,CDOMSL_FLAG_W,CDOMSN,CDOMSN_FLAG_W,THETA,HELIER,DELHER,CH3CL,CH3CL_FLAG_W,CH3BR,CH3BR_FLAG_W,CH3I,CH3I_FLAG_W
,,,,,,,,,,,METERS,DBAR,ITS-90,PSS-78,,PSS-78,,UMOL/KG,,UMOL/KG,,UMOL/KG,,UMOL/KG,,UMOL/KG,,UMOL/KG,,PMOL/KG,,PMOL/KG,,PMOL/KG,,UMOL/KG,,UMOL/KG,,UATM,,DEG C,,,DEG C,TU,,TU,NMOL/KG,,PERCNT,,/MILLE,,/MILLE,,/MILLE,NMOL/KG,,NMOL/KG,PMOL/KG,,UMOL/KG,,DBAR,1/M,,1/M,,1/M,,1/M,,1/NM,,1/NM,,DEG C,NMOL/KG,PERCNT,PMOL/KG,,PMOL/KG,,PMOL/KG,
 33RO200501,       A16S,      64,          1,         36,         36,2,20050204,       1033,   -30.5013,   -24.9997,       4339,     2.8,  22.8504,  36.2261,2,  36.2274,2,    217.4,2,   217.6,2,    1.30,2,    0.11,2,    0.00,2,    0.01,2,   1.918,2,   1.200,2,   0.173,2,  2063.4,6,  2370.2,6,  -999.0,9,   20.00,   8.0316,6,    25.00,-999.000,9, -999.00,-999.000,9,-999.000,9, -999.00,9,  -999.0,9,  -999.0,-999.000,9,-999.000,   1.564,4, -999.00,9,    2.80,-999.0000,9,-999.0000,9,-999.0000,9,-999.0000,9,-999.0000,9,-999.0000,9,  22.8498,     -999.0,-999.000,     62.350,          2,      0.723,          2,   5.199,          2
 33RO200501,       A16S,      64,          1,         35,         35,2,20050204,       1033,   -30.5013,   -24.9997,       4339,    19.2,  22.8521,  36.2261,2,  36.2250,2,    216.8,2,   217.8,2,    1.28,2,    0.10,2,    0.00,2,    0.02,2,-999.000,9,-999.000,9,-999.000,9,  -999.0,9,  -999.0,9,  -999.0,9,   20.00,-999.0000,9,    25.00,-999.000,9, -999.00,-999.000,9,-999.000,9, -999.00,9,  -999.0,9,  -999.0,-999.000,9,-999.000,-999.000,9, -999.00,9,   19.20,-999.0000,9,-999.0000,9,-999.0000,9,-999.0000,9,-999.0000,9,-999.0000,9,  22.8482,     -999.0,-999.000,     62.648,          2,      0.737,          2,   5.443,          2
 33RO200501,       A16S,      64,          1,         34,         34,2,20050204,       1033,   -30.5013,   -24.9997,       4339,    38.3,  22.8494,  36.2267,2,  36.2234,2,    216.9,2,   217.3,2,    1.29,2,    0.11,2,    0.00,2,    0.04,2,   1.950,2,   1.223,2,   0.176,2,  -999.0,9,  -999.0,9,  -999.0,9,   20.00,-999.0000,9,    25.00,-999.000,9, -999.00,-999.000,9,-999.000,9, -999.00,9,  -999.0,9,  -999.0,-999.000,9,-999.000,   1.562,4, -999.00,9,   38.30,-999.0000,9,-999.0000,9,-999.0000,9,-999.0000,9,-999.0000,9,-999.0000,9,  22.8416,     -999.0,-999.000,     59.980,          2,      0.526,          2,   5.590,          2
 33RO200501,       A16S,      64,          1,         33,         33,2,20050204,       1033,   -30.5013,   -24.9997,       4339,    60.3,  22.2519,  36.1355,2,  36.1324,2,    224.3,2,   223.0,2,    1.29,2,    0.11,2,    0.00,2,    0.04,2,-999.000,9,-999.000,9,-999.000,9,  -999.0,9,  -999.0,9,  -999.0,9,   20.00,-999.0000,9,    25.00,-999.000,9, -999.00,-999.000,9,-999.000,9, -999.00,9,  -999.0,9,  -999.0,-999.000,9,-999.000,-999.000,9, -999.00,9,   60.30,-999.0000,9,-999.0000,9,-999.0000,9,-999.0000,9,-999.0000,9,-999.0000,9,  22.2399,     -999.0,-999.000,     -999.0,          9,     -999.0,          9,-999.000,          9
 33RO200501,       A16S,      64,          1,         32,         32,2,20050204,       1033,   -30.5013,   -24.9997,       4339,    80.3,  20.2927,  36.0457,2,  36.0456,2,    232.6,2,   233.7,2,    1.29,2,    0.11,2,    0.00,2,    0.07,2,   2.235,2,   1.384,2,   0.189,2,  2062.8,2,  2359.0,2,  -999.0,9,   20.00,   8.0211,2,    25.00,-999.000,9, -999.00,-999.000,9,-999.000,9, -999.00,9,  -999.0,9,  -999.0,-999.000,9,-999.000,   1.576,4, -999.00,9,   80.30,-999.0000,9,-999.0000,9,-999.0000,9,-999.0000,9,-999.0000,9,-999.0000,9,  20.2776,     -999.0,-999.000,    117.706,          2,      0.620,          2,   6.860,          2
 33RO200501,       A16S,      64,          1,         31,         31,2,20050204,       1033,   -30.5013,   -24.9997,       4339,    99.7,  19.7103,  36.1027,2,  36.0998,2,    230.6,2,   230.8,2,    1.28,2,    0.11,2,    0.00,2,    0.07,2,-999.000,9,-999.000,9,-999.000,9,  -999.0,9,  -999.0,9,  -999.0,9,   20.00,-999.0000,9,    25.00,-999.000,9, -999.00,-999.000,9,-999.000,9, -999.00,9,  -999.0,9,  -999.0,-999.000,9,-999.000,-999.000,9, -999.00,9,   99.70,-999.0000,9,-999.0000,9,-999.0000,9,-999.0000,9,-999.0000,9,-999.0000,9,  19.6919,     -999.0,-999.000,     -999.0,          9,     -999.0,          9,-999.000,          9
 33RO200501,       A16S,      64,          1,         30,         30,2,20050204,       1033,   -30.5013,   -24.9997,       4339,   125.3,  19.1319,  36.0483,2,  36.0484,2,    227.8,2,   226.8,2,    1.21,2,    0.12,2,    0.00,2,    0.07,2,-999.000,9,-999.000,9,-999.000,9,  -999.0,9,  -999.0,9,  -999.0,9,   20.00,-999.0000,9,    25.00,-999.000,9, -999.00,-999.000,9,-999.000,9, -999.00,9,  -999.0,9,  -999.0,-999.000,9,-999.000,-999.000,9, -999.00,9,  125.30,-999.0000,9,-999.0000,9,-999.0000,9,-999.0000,9,-999.0000,9,-999.0000,9,  19.1093,     -999.0,-999.000,     48.641,          2,      0.159,          2,   2.403,          2
 33RO200501,       A16S,      64,          1,         29,         29,2,20050204,       1033,   -30.5013,   -24.9997,       4339,   149.8,  18.1111,  35.8648,2,  35.8746,2,    222.8,2,   223.5,2,    1.33,2,    0.14,2,    0.07,2,    0.12,2,   2.312,2,   1.396,2,   0.195,2,  2073.5,2,  2349.2,2,  -999.0,9,   20.00,   7.9892,2,    25.00,-999.000,9, -999.00,-999.000,9,-999.000,9, -999.00,9,  -999.0,9,  -999.0,-999.000,9,-999.000,   1.251,4, -999.00,9,  149.80,-999.0000,9,-999.0000,9,-999.0000,9,-999.0000,9,-999.0000,9,-999.0000,9,  18.0851,     -999.0,-999.000,     -999.0,          9,     -999.0,          9,-999.000,          9
 33RO200501,       A16S,      64,          1,         28,         28,2,20050204,       1033,   -30.5013,   -24.9997,       4339,   175.7,  17.0757,  35.7188,2,  35.7196,2,    219.0,2,   216.5,2,    1.64,2,    1.09,2,    0.04,2,    0.23,2,-999.000,9,-999.000,9,-999.000,9,  -999.0,9,  -999.0,9,  -999.0,9,   20.00,-999.0000,9,    25.00,-999.000,9, -999.00,-999.000,9,-999.000,9, -999.00,9,  -999.0,9,  -999.0,-999.000,9,-999.000,-999.000,9, -999.00,9,  175.70,-999.0000,9,-999.0000,9,-999.0000,9,-999.0000,9,-999.0000,9,-999.0000,9,  17.0465,     -999.0,-999.000,     10.692,          2,      0.000,          2,   0.207,          2
 33RO200501,       A16S,      64,          1,         27,         27,2,20050204,       1033,   -30.5013,   -24.9997,       4339,   200.7,  15.9738,  35.5683,2,  35.5702,2,    212.8,2,   213.8,2,    2.07,2,    2.91,2,    0.01,2,    0.35,2,-999.000,9,-999.000,9,-999.000,9,  -999.0,9,  -999.0,9,  -999.0,9,   20.00,-999.0000,9,    25.00,-999.000,9, -999.00,-999.000,9,-999.000,9, -999.00,9,  -999.0,9,  -999.0,-999.000,9,-999.000,-999.000,9, -999.00,9,  200.70,-999.0000,9,-999.0000,9,-999.0000,9,-999.0000,9,-999.0000,9,-999.0000,9,  15.9419,     -999.0,-999.000,     -999.0,          9,     -999.0,          9,-999.000,          9
 33RO200501,       A16S,      64,          1,         26,         26,2,20050204,       1033,   -30.5013,   -24.9997,       4339,   248.6,  14.9219,  35.4343,2,  35.4341,2,    213.4,2,   214.1,2,    2.40,2,    5.02,2,    0.00,2,    0.45,2,-999.000,9,-999.000,9,-999.000,9,  -999.0,9,  -999.0,9,  -999.0,9,   20.00,-999.0000,9,    25.00,-999.000,9, -999.00,-999.000,9,-999.000,9, -999.00,9,  -999.0,9,  -999.0,-999.000,9,-999.000,-999.000,9, -999.00,9,  248.60,-999.0000,9,-999.0000,9,-999.0000,9,-999.0000,9,-999.0000,9,-999.0000,9,  14.8842,     -999.0,-999.000,      2.764,          2,      0.000,          2,   0.040,          2
 33RO200501,       A16S,      64,          1,         25,         25,2,20050204,       1033,   -30.5013,   -24.9997,       4339,   301.5,  13.9754,  35.3195,2,  35.3201,2,    213.1,2,   213.3,2,    2.93,2,    7.15,2,    0.00,2,    0.57,2,   2.732,2,   1.569,2,   0.049,2,  2106.0,2,  2316.5,2,  -999.0,9,   20.00,   7.8789,2,    25.00,-999.000,9, -999.00,-999.000,9,-999.000,9, -999.00,9,  -999.0,9,  -999.0,-999.000,9,-999.000,   0.596,4, -999.00,9,  301.50,-999.0000,9,-999.0000,9,-999.0000,9,-999.0000,9,-999.0000,9,-999.0000,9,  13.9316,     -999.0,-999.000,     -999.0,          9,     -999.0,          9,-999.000,          9
 33RO200501,       A16S,      64,          1,         24,         24,2,20050204,       1033,   -30.5013,   -24.9997,       4339,   399.9,  12.6034,  35.1371,2,  35.1298,2,    211.2,2,   211.2,2,    3.97,2,   10.55,2,    0.00,2,    0.77,2,-999.000,9,-999.000,9,-999.000,9,  -999.0,9,  -999.0,9,  -999.0,9,   20.00,-999.0000,9,    25.00,-999.000,9, -999.00,-999.000,9,-999.000,9, -999.00,9,  -999.0,9,  -999.0,-999.000,9,-999.000,-999.000,9, -999.00,9,  399.90,-999.0000,9,-999.0000,9,-999.0000,9,-999.0000,9,-999.0000,9,-999.0000,9,  12.5490,     -999.0,-999.000,     -999.0,          9,     -999.0,          9,-999.000,          9
 33RO200501,       A16S,      64,          1,         23,         23,2,20050204,       1033,   -30.5013,   -24.9997,       4339,   499.2,  10.6609,  34.8838,2,  34.8807,2,    207.5,2,   206.8,2,    6.28,2,   15.54,2,    0.00,2,    1.06,2,-999.000,9,-999.000,9,-999.000,9,  -999.0,9,  -999.0,9,  -999.0,9,   20.00,-999.0000,9,    25.00,-999.000,9, -999.00,-999.000,9,-999.000,9, -999.00,9,  -999.0,9,  -999.0,-999.000,9,-999.000,-999.000,9, -999.00,9,  499.20,-999.0000,9,-999.0000,9,-999.0000,9,-999.0000,9,-999.0000,9,-999.0000,9,  10.5998,     -999.0,-999.000,      0.089,          2,      0.000,          2,   0.012,          2
 33RO200501,       A16S,      64,          1,         22,         22,2,20050204,       1033,   -30.5013,   -24.9997,       4339,   601.1,   8.5455,  34.6356,2,  34.6356,2,    205.5,2,   205.7,2,    9.96,2,   20.86,2,    0.00,2,    1.38,2,-999.000,9,-999.000,9,-999.000,9,  -999.0,9,  -999.0,9,  -999.0,9,   20.00,-999.0000,9,    25.00,-999.000,9, -999.00,-999.000,9,-999.000,9, -999.00,9,  -999.0,9,  -999.0,-999.000,9,-999.000,-999.000,9, -999.00,9,  601.10,-999.0000,9,-999.0000,9,-999.0000,9,-999.0000,9,-999.0000,9,-999.0000,9,   8.4810,     -999.0,-999.000,     -999.0,          9,     -999.0,          9,-999.000,          9
 33RO200501,       A16S,      64,          1,         21,         21,2,20050204,       1033,   -30.5013,   -24.9997,       4339,   701.1,   6.8150,  34.4628,2,  34.4622,2,    210.4,2,   211.1,2,   13.92,2,   24.62,2,    0.00,2,    1.62,2,-999.000,9,-999.000,9,-999.000,9,  -999.0,9,  -999.0,9,  -999.0,9,   20.00,-999.0000,9,    25.00,-999.000,9, -999.00,-999.000,9,-999.000,9, -999.00,9,  -999.0,9,  -999.0,-999.000,9,-999.000,-999.000,9, -999.00,9,  701.10,-999.0000,9,-999.0000,9,-999.0000,9,-999.0000,9,-999.0000,9,-999.0000,9,   6.7485,     -999.0,-999.000,     -999.0,          9,     -999.0,          9,-999.000,          9
 33RO200501,       A16S,      64,          1,         20,         20,2,20050204,       1033,   -30.5013,   -24.9997,       4339,   701.5,   6.8116,  34.4623,2,  34.4614,2,    210.4,2,   211.0,2,   13.94,2,   24.68,2,    0.00,2,    1.62,2,   2.781,2,   1.414,2,   0.137,2,  -999.0,9,  -999.0,9,  -999.0,9,   20.00,-999.0000,9,    25.00,-999.000,9, -999.00,-999.000,9,-999.000,9, -999.00,9,  -999.0,9,  -999.0,-999.000,9,-999.000,   1.895,4, -999.00,9,  701.50,-999.0000,9,-999.0000,9,-999.0000,9,-999.0000,9,-999.0000,9,-999.0000,9,   6.7451,     -999.0,-999.000,      0.000,          2,      0.000,          2,   0.013,          2
 33RO200501,       A16S,      64,          1,         19,         19,2,20050204,       1033,   -30.5013,   -24.9997,       4339,   799.2,   5.4341,  34.3590,2,  34.3591,2,    215.5,2,   216.4,2,   19.32,2,   27.46,2,    0.00,2,    1.79,2,-999.000,9,-999.000,9,-999.000,9,  -999.0,9,  -999.0,9,  -999.0,9,   20.00,-999.0000,9,    25.00,-999.000,9, -999.00,-999.000,9,-999.000,9, -999.00,9,  -999.0,9,  -999.0,-999.000,9,-999.000,-999.000,9, -999.00,9,  799.20,-999.0000,9,-999.0000,9,-999.0000,9,-999.0000,9,-999.0000,9,-999.0000,9,   5.3662,     -999.0,-999.000,     -999.0,          9,     -999.0,          9,-999.000,          9
 33RO200501,       A16S,      64,          1,         18,         18,2,20050204,       1033,   -30.5013,   -24.9997,       4339,   899.4,   4.6277,  34.3260,2,  34.3258,2,    215.5,2,   216.3,2,   25.02,2,   29.28,2,    0.00,2,    1.92,2,-999.000,9,-999.000,9,-999.000,9,  -999.0,9,  -999.0,9,  -999.0,9,   20.00,-999.0000,9,    25.00,-999.000,9, -999.00,-999.000,9,-999.000,9, -999.00,9,  -999.0,9,  -999.0,-999.000,9,-999.000,-999.000,9, -999.00,9,  899.40,-999.0000,9,-999.0000,9,-999.0000,9,-999.0000,9,-999.0000,9,-999.0000,9,   4.5562,     -999.0,-999.000,     -999.0,          9,     -999.0,          9,-999.000,          9
 33RO200501,       A16S,      64,          1,         17,         17,2,20050204,       1033,   -30.5013,   -24.9997,       4339,  1000.6,   4.0676,  34.3328,2,  34.3328,2,    210.9,2,   210.5,2,   31.62,2,   29.76,2,    0.00,2,    2.02,2,-999.000,9,-999.000,9,-999.000,9,  2192.3,2,  2287.5,2,  -999.0,9,   20.00,   7.6269,2,    25.00,-999.000,9, -999.00,-999.000,9,-999.000,9, -999.00,9,  -999.0,9,  -999.0,-999.000,9,-999.000,-999.000,9, -999.00,9, 1000.60,-999.0000,9,-999.0000,9,-999.0000,9,-999.0000,9,-999.0000,9,-999.0000,9,   3.9916,     -999.0,-999.000,      0.639,          2,      0.000,          2,   0.045,          2
 33RO200501,       A16S,      64,          1,         16,         16,2,20050204,       1033,   -30.5013,   -24.9997,       4339,  1198.4,   3.3096,  34.4199,2,  34.4190,2,    196.0,2,   195.3,2,   46.23,2,   32.22,2,    0.00,2,    2.14,2,   0.853,2,   0.413,2,   0.041,2,  -999.0,9,  -999.0,9,  -999.0,9,   20.00,-999.0000,9,    25.00,-999.000,9, -999.00,-999.000,9,-999.000,9, -999.00,9,  -999.0,9,  -999.0,-999.000,9,-999.000,   1.063,4, -999.00,9, 1198.40,-999.0000,9,-999.0000,9,-999.0000,9,-999.0000,9,-999.0000,9,-999.0000,9,   3.2237,     -999.0,-999.000,     -999.0,          9,     -999.0,          9,-999.000,          9
 33RO200501,       A16S,      64,          1,         15,         15,2,20050204,       1033,   -30.5013,   -24.9997,       4339,  1398.8,   2.9806,  34.5335,2,  34.5327,2,    188.8,2,   188.2,2,   54.35,2,   32.08,2,    0.00,2,    2.13,2,-999.000,9,-999.000,9,-999.000,9,  2225.9,2,  2312.8,2,  -999.0,9,   20.00,   7.6008,2,    25.00,-999.000,9, -999.00,-999.000,9,-999.000,9, -999.00,9,  -999.0,9,  -999.0,-999.000,9,-999.000,-999.000,9, -999.00,9, 1398.80,-999.0000,9,-999.0000,9,-999.0000,9,-999.0000,9,-999.0000,9,-999.0000,9,   2.8814,     -999.0,-999.000,      0.000,          2,      0.000,          2,   0.000,          2
 33RO200501,       A16S,      64,          1,         14,         14,2,20050204,       1033,   -30.5013,   -24.9997,       4339,  1598.8,   2.8475,  34.6480,2,  34.6471,2,    193.0,2,   192.6,2,   56.25,2,   30.34,2,    0.00,2,    2.01,2,-999.000,9,-999.000,9,-999.000,9,  -999.0,9,  -999.0,9,  -999.0,9,   20.00,-999.0000,9,    25.00,-999.000,9, -999.00,-999.000,9,-999.000,9, -999.00,9,  -999.0,9,  -999.0,-999.000,9,-999.000,-999.000,9, -999.00,9, 1598.80,-999.0000,9,-999.0000,9,-999.0000,9,-999.0000,9,-999.0000,9,-999.0000,9,   2.7330,     -999.0,-999.000,     -999.0,          9,     -999.0,          9,-999.000,          9
 33RO200501,       A16S,      64,          1,         13,         13,2,20050204,       1033,   -30.5013,   -24.9997,       4339,  1799.8,   2.7631,  34.7418,2,  34.7410,2,    204.3,2,   204.8,2,   54.14,2,   27.97,2,    0.00,2,    1.85,2,-999.000,9,-999.000,9,-999.000,9,  -999.0,9,  -999.0,9,  -999.0,9,   20.00,-999.0000,9,    25.00,-999.000,9, -999.00,-999.000,9,-999.000,9, -999.00,9,  -999.0,9,  -999.0,-999.000,9,-999.000,-999.000,9, -999.00,9, 1799.80,-999.0000,9,-999.0000,9,-999.0000,9,-999.0000,9,-999.0000,9,-999.0000,9,   2.6323,     -999.0,-999.000,     -999.0,          9,     -999.0,          9,-999.000,          9
 33RO200501,       A16S,      64,          1,         12,         12,2,20050204,       1033,   -30.5013,   -24.9997,       4339,  2001.5,   2.7063,  34.7887,2,  34.7882,2,    214.2,2,   214.4,2,   51.81,2,   26.52,2,    0.00,2,    1.74,2,   0.016,2,   0.014,2,   0.000,2,  -999.0,9,  -999.0,9,  -999.0,9,   20.00,-999.0000,9,    25.00,-999.000,9, -999.00,-999.000,9,-999.000,9, -999.00,9,  -999.0,9,  -999.0,-999.000,9,-999.000,   0.074,4, -999.00,9, 2001.50,-999.0000,9,-999.0000,9,-999.0000,9,-999.0000,9,-999.0000,9,-999.0000,9,   2.5585,     -999.0,-999.000,     -999.0,          9,     -999.0,          9,-999.000,          9
 33RO200501,       A16S,      64,          1,         11,         11,2,20050204,       1033,   -30.5013,   -24.9997,       4339,  2200.5,   2.6919,  34.8287,2,  34.8281,2,    224.6,2,   225.9,2,   48.38,2,   24.95,2,    0.00,2,    1.64,2,-999.000,9,-999.000,9,-999.000,9,  -999.0,9,  -999.0,9,  -999.0,9,   20.00,-999.0000,9,    25.00,-999.000,9, -999.00,-999.000,9,-999.000,9, -999.00,9,  -999.0,9,  -999.0,-999.000,9,-999.000,-999.000,9, -999.00,9, 2200.50,-999.0000,9,-999.0000,9,-999.0000,9,-999.0000,9,-999.0000,9,-999.0000,9,   2.5262,     -999.0,-999.000,      3.345,          2,      0.000,          2,   0.014,          2
 33RO200501,       A16S,      64,          1,         10,         10,2,20050204,       1033,   -30.5013,   -24.9997,       4339,  2401.8,   2.6892,  34.8518,2,  34.8517,2,    231.4,2,   231.4,2,   45.57,2,   23.78,2,    0.00,2,    1.58,2,-999.000,9,-999.000,9,-999.000,9,  -999.0,9,  -999.0,9,  -999.0,9,   20.00,-999.0000,9,    25.00,-999.000,9, -999.00,-999.000,9,-999.000,9, -999.00,9,  -999.0,9,  -999.0,-999.000,9,-999.000,-999.000,9, -999.00,9, 2401.80,-999.0000,9,-999.0000,9,-999.0000,9,-999.0000,9,-999.0000,9,-999.0000,9,   2.5047,     -999.0,-999.000,     -999.0,          9,     -999.0,          9,-999.000,          9
 33RO200501,       A16S,      64,          1,          9,          9,2,20050204,       1033,   -30.5013,   -24.9997,       4339,  2599.8,   2.7099,  34.8767,2,  34.8763,2,    238.3,2,   238.4,2,   41.75,2,   22.91,2,    0.00,2,    1.51,2,-999.000,9,-999.000,9,-999.000,9,  -999.0,9,  -999.0,9,  -999.0,9,   20.00,-999.0000,9,    25.00,-999.000,9, -999.00,-999.000,9,-999.000,9, -999.00,9,  -999.0,9,  -999.0,-999.000,9,-999.000,-999.000,9, -999.00,9, 2599.80,-999.0000,9,-999.0000,9,-999.0000,9,-999.0000,9,-999.0000,9,-999.0000,9,   2.5059,     -999.0,-999.000,     -999.0,          9,     -999.0,          9,-999.000,          9
 33RO200501,       A16S,      64,          1,          8,          8,2,20050204,       1033,   -30.5013,   -24.9997,       4339,  2884.8,   2.7205,  34.9009,2,  34.9005,2,    245.4,2,   245.7,2,   37.65,2,   21.29,2,    0.00,2,    1.43,2,-999.000,9,-999.000,9,-999.000,9,  2182.3,2,  2323.1,2,  -999.0,9,   20.00,   7.7295,2,    25.00,-999.000,9, -999.00,-999.000,9,-999.000,9, -999.00,9,  -999.0,9,  -999.0,-999.000,9,-999.000,-999.000,9, -999.00,9, 2884.80,-999.0000,9,-999.0000,9,-999.0000,9,-999.0000,9,-999.0000,9,-999.0000,9,   2.4878,     -999.0,-999.000,      2.520,          2,      0.000,          2,   0.009,          2