BOTTLE,20220818CCHSIOAMB
EXPOCODE,SECT_ID,STNNBR,CASTNO,SAMPNO,BTLNBR,BTLNBR_FLAG_W,DATE,TIME,LATITUDE,LONGITUDE,DEPTH,CTDPRS,CTDTMP,CTDSAL,CTDSAL_FLAG_W,SALNTY,SALNTY_FLAG_W,CTDOXY,CTDOXY_FLAG_W,OXYGEN,OXYGEN_FLAG_W,SILCAT,SILCAT_FLAG_W,NITRAT,NITRAT_FLAG_W,NITRIT,NITRIT_FLAG_W,PHSPHT,PHSPHT_FLAG_W,CFC-11,CFC-11_FLAG_W,CFC-12,CFC-12_FLAG_W,CFC113,CFC113_FLAG_W,TCARBN,TCARBN_FLAG_W,ALKALI,ALKALI_FLAG_W,PCO2,PCO2_FLAG_W,PCO2TMP,PH_SWS,PH_SWS_FLAG_W,PH_TMP,TRITUM,TRITUM_FLAG_W,TRITER,HELIUM,HELIUM_FLAG_W,DELHE3,DELHE3_FLAG_W,DELC13,DELC13_FLAG_W,DELC14,DELC14_FLAG_W,C14ERR,NEON,NEON_FLAG_W,NEONER,CCL4,CCL4_FLAG_W,DOC,DOC_FLAG_W,CTDRAW,CDOM325,CDOM325_FLAG_W,CDOM340,CDOM340_FLAG_W,CDOM380,CDOM380_FLAG_W,CDOM412,CDOM412_FLAG_W,CDOMSL,CDOMSL_FLAG_W,CDOMSN,CDOMSN_FLAG_W,THETA,HELIER,DELHER,CH3CL,CH3CL_FLAG_W,CH3BR,CH3BR_FLAG_W,CH3I,CH3I_FLAG_W
,,,,,,,,,,,METERS,DBAR,ITS-90,PSS-78,,PSS-78,,UMOL/KG,,UMOL/KG,,UMOL/KG,,UMOL/KG,,UMOL/KG,,UMOL/KG,,PMOL/KG,,PMOL/KG,,PMOL/KG,,UMOL/KG,,UMOL/KG,,UATM,,DEG C,,,DEG C,TU,,TU,NMOL/KG,,PERCNT,,/MILLE,,/MILLE,,/MILLE,NMOL/KG,,NMOL/KG,PMOL/KG,,UMOL/KG,,DBAR,1/M,,1/M,,1/M,,1/M,,1/NM,,1/NM,,DEG C,NMOL/KG,PERCNT,PMOL/KG,,PMOL/KG,,PMOL/KG,
 33RO200501,       A16S,      99,          1,          7,          7,2,20050215,       0355,   -13.0013,   -25.0002,       5601,  4036.5,   1.7706,  34.8265,2,  34.8301,3,    239.9,2,   240.1,2,   67.27,2,   24.90,2,    0.00,2,    1.66,2,   0.010,2,   0.005,2,   0.005,2,  2211.4,2,  2347.1,2,  -999.0,9,   20.00,   7.6935,2,    25.00,-999.000,9, -999.00,-999.000,9,-999.000,9, -999.00,9,  -999.0,9,  -999.0,-999.000,9,-999.000,   0.046,4,   39.36,2, 4036.50,-999.0000,9,-999.0000,9,-999.0000,9,-999.0000,9,-999.0000,9,-999.0000,9,   1.4392,     -999.0,-999.000,     -999.0,          9,     -999.0,          9,-999.000,          9
 33RO200501,       A16S,      99,          1,          6,          6,2,20050215,       0355,   -13.0013,   -25.0002,       5601,  4349.2,   1.2268,  34.7696,2,  34.7695,2,    230.9,2,   231.5,2,   89.73,2,   27.83,2,    0.00,2,    1.89,2,   0.011,2,   0.008,2,   0.002,2,  2232.9,2,  2357.0,2,  -999.0,9,   20.00,   7.6615,2,    25.00,-999.000,9, -999.00,-999.000,9,-999.000,9, -999.00,9,  -999.0,9,  -999.0,-999.000,9,-999.000,   0.051,4, -999.00,9, 4349.20,-999.0000,9,-999.0000,9,-999.0000,9,-999.0000,9,-999.0000,9,-999.0000,9,   0.8768,     -999.0,-999.000,     -999.0,          9,     -999.0,          9,-999.000,          9
 33RO200501,       A16S,      99,          1,          5,          5,2,20050215,       0355,   -13.0013,   -25.0002,       5601,  4646.6,   0.9956,  34.7439,2,  34.7428,2,    227.2,2,   227.8,2,   99.49,2,   29.19,2,    0.00,2,    1.99,2,   0.019,2,   0.007,2,   0.000,2,  2242.5,2,  2358.1,2,  -999.0,9,   20.00,   7.6466,2,    25.00,-999.000,9, -999.00,-999.000,9,-999.000,9, -999.00,9,  -999.0,9,  -999.0,-999.000,9,-999.000,   0.056,4,   39.45,2, 4646.60,-999.0000,9,-999.0000,9,-999.0000,9,-999.0000,9,-999.0000,9,-999.0000,9,   0.6193,     -999.0,-999.000,     -999.0,          9,     -999.0,          9,-999.000,          9
 33RO200501,       A16S,      99,          1,          4,          4,2,20050215,       0355,   -13.0013,   -25.0002,       5601,  4948.8,   0.8409,  34.7252,2,  34.7247,2,    224.7,2,   225.0,2,  106.33,6,   30.07,6,    0.00,6,    2.06,6,   0.025,2,   0.015,2,   0.000,2,  2249.3,2,  2359.5,2,  -999.0,9,   20.00,   7.6323,2,    25.00,-999.000,9, -999.00,-999.000,9,-999.000,9, -999.00,9,  -999.0,9,  -999.0,-999.000,9,-999.000,   0.073,4, -999.00,9, 4948.80,-999.0000,9,-999.0000,9,-999.0000,9,-999.0000,9,-999.0000,9,-999.0000,9,   0.4348,     -999.0,-999.000,     -999.0,          9,     -999.0,          9,-999.000,          9
 33RO200501,       A16S,      99,          1,          3,          3,2,20050215,       0355,   -13.0013,   -25.0002,       5601,  5249.3,   0.7837,  34.7154,2,  34.7162,2,    223.3,2,   223.7,2,  109.85,6,   30.56,6,    0.00,6,    2.09,6,-999.000,9,-999.000,9,-999.000,9,  2251.9,2,  2359.7,2,  -999.0,9,   20.00,   7.6257,2,    25.00,-999.000,9, -999.00,-999.000,9,-999.000,9, -999.00,9,  -999.0,9,  -999.0,-999.000,9,-999.000,-999.000,9,   39.43,2, 5249.30,-999.0000,9,-999.0000,9,-999.0000,9,-999.0000,9,-999.0000,9,-999.0000,9,   0.3439,     -999.0,-999.000,     -999.0,          9,     -999.0,          9,-999.000,          9
 33RO200501,       A16S,      99,          1,          2,          2,2,20050215,       0355,   -13.0013,   -25.0002,       5601,  5549.0,   0.7830,  34.7110,2,  34.7117,2,    222.9,2,   223.0,2,  111.31,6,   30.66,6,    0.00,6,    2.11,6,   0.057,2,   0.029,2,   0.000,2,  2254.3,2,  2362.9,6,  -999.0,9,   20.00,   7.6238,6,    25.00,-999.000,9, -999.00,-999.000,9,-999.000,9, -999.00,9,  -999.0,9,  -999.0,-999.000,9,-999.000,   0.126,4, -999.00,9, 5549.00,-999.0000,9,-999.0000,9,-999.0000,9,-999.0000,9,-999.0000,9,-999.0000,9,   0.3064,     -999.0,-999.000,     -999.0,          9,     -999.0,          9,-999.000,          9
 33RO200501,       A16S,      99,          1,          1,          1,2,20050215,       0355,   -13.0013,   -25.0002,       5601,  5859.0,   0.8186,  34.7101,2,  34.7144,3,    222.9,2,   223.6,2,  111.31,6,   30.76,6,    0.00,6,    2.11,6,   0.060,6,   0.028,6,   0.001,6,  2255.0,6,  2369.6,2,  -999.0,9,   20.00,   7.6257,2,    25.00,-999.000,9, -999.00,-999.000,9,-999.000,9, -999.00,9,  -999.0,9,  -999.0,-999.000,9,-999.000,   0.128,4,   39.45,2, 5859.00,-999.0000,9,-999.0000,9,-999.0000,9,-999.0000,9,-999.0000,9,-999.0000,9,   0.3014,     -999.0,-999.000,     -999.0,          9,     -999.0,          9,-999.000,          9