BOTTLE,20220818CCHSIOAMB
EXPOCODE,SECT_ID,STNNBR,CASTNO,SAMPNO,BTLNBR,BTLNBR_FLAG_W,DATE,TIME,LATITUDE,LONGITUDE,DEPTH,CTDPRS,CTDTMP,CTDSAL,CTDSAL_FLAG_W,SALNTY,SALNTY_FLAG_W,CTDOXY,CTDOXY_FLAG_W,OXYGEN,OXYGEN_FLAG_W,SILCAT,SILCAT_FLAG_W,NITRAT,NITRAT_FLAG_W,NITRIT,NITRIT_FLAG_W,PHSPHT,PHSPHT_FLAG_W,CFC-11,CFC-11_FLAG_W,CFC-12,CFC-12_FLAG_W,CFC113,CFC113_FLAG_W,TCARBN,TCARBN_FLAG_W,ALKALI,ALKALI_FLAG_W,PCO2,PCO2_FLAG_W,PCO2TMP,PH_SWS,PH_SWS_FLAG_W,PH_TMP,TRITUM,TRITUM_FLAG_W,TRITER,HELIUM,HELIUM_FLAG_W,DELHE3,DELHE3_FLAG_W,DELC13,DELC13_FLAG_W,DELC14,DELC14_FLAG_W,C14ERR,NEON,NEON_FLAG_W,NEONER,CCL4,CCL4_FLAG_W,DOC,DOC_FLAG_W,CTDRAW,CDOM325,CDOM325_FLAG_W,CDOM340,CDOM340_FLAG_W,CDOM380,CDOM380_FLAG_W,CDOM412,CDOM412_FLAG_W,CDOMSL,CDOMSL_FLAG_W,CDOMSN,CDOMSN_FLAG_W,THETA,HELIER,DELHER,CH3CL,CH3CL_FLAG_W,CH3BR,CH3BR_FLAG_W,CH3I,CH3I_FLAG_W
,,,,,,,,,,,METERS,DBAR,ITS-90,PSS-78,,PSS-78,,UMOL/KG,,UMOL/KG,,UMOL/KG,,UMOL/KG,,UMOL/KG,,UMOL/KG,,PMOL/KG,,PMOL/KG,,PMOL/KG,,UMOL/KG,,UMOL/KG,,UATM,,DEG C,,,DEG C,TU,,TU,NMOL/KG,,PERCNT,,/MILLE,,/MILLE,,/MILLE,NMOL/KG,,NMOL/KG,PMOL/KG,,UMOL/KG,,DBAR,1/M,,1/M,,1/M,,1/M,,1/NM,,1/NM,,DEG C,NMOL/KG,PERCNT,PMOL/KG,,PMOL/KG,,PMOL/KG,
 33RO200501,       A16S,      92,          1,         36,         36,2,20050213,       0252,   -16.5002,   -25.0002,       5143,     2.7,  27.0781,  37.3533,2,  37.3563,2,    200.0,2,   200.0,2,    2.21,2,    0.00,2,    0.00,2,    0.07,2,   1.595,2,   1.013,2,   0.129,2,  2091.7,6,  2446.8,6,  -999.0,9,   20.00,   8.0822,6,    25.00,-999.000,9, -999.00,-999.000,9,-999.000,9, -999.00,9,  -999.0,9,  -999.0,-999.000,9,-999.000,   1.362,4, -999.00,9,    2.70,-999.0000,9,-999.0000,9,-999.0000,9,-999.0000,9,-999.0000,9,-999.0000,9,  27.0775,     -999.0,-999.000,     67.420,          2,      0.709,          2,   2.853,          2
 33RO200501,       A16S,      92,          1,         35,         35,2,20050213,       0252,   -16.5002,   -25.0002,       5143,    25.0,  27.0781,  37.3533,2,  37.3547,2,    200.1,2,   200.3,2,    2.20,2,    0.00,2,    0.00,2,    0.07,2,-999.000,9,-999.000,9,-999.000,9,  -999.0,9,  -999.0,9,  -999.0,9,   20.00,-999.0000,9,    25.00,-999.000,9, -999.00,-999.000,9,-999.000,9, -999.00,9,  -999.0,9,  -999.0,-999.000,9,-999.000,-999.000,9, -999.00,9,   25.00,-999.0000,9,-999.0000,9,-999.0000,9,-999.0000,9,-999.0000,9,-999.0000,9,  27.0723,     -999.0,-999.000,     -999.0,          9,     -999.0,          9,-999.000,          9
 33RO200501,       A16S,      92,          1,         34,         34,2,20050213,       0252,   -16.5002,   -25.0002,       5143,    49.6,  26.4167,  37.3662,2,  37.3547,2,    205.4,2,   207.1,2,    2.23,2,    0.01,2,    0.00,2,    0.11,2,-999.000,9,-999.000,9,-999.000,9,  -999.0,9,  -999.0,9,  -999.0,9,   20.00,-999.0000,9,    25.00,-999.000,9, -999.00,-999.000,9,-999.000,9, -999.00,9,  -999.0,9,  -999.0,-999.000,9,-999.000,-999.000,9, -999.00,9,   49.60,-999.0000,9,-999.0000,9,-999.0000,9,-999.0000,9,-999.0000,9,-999.0000,9,  26.4054,     -999.0,-999.000,    132.559,          2,      0.499,          2,   4.486,          2
 33RO200501,       A16S,      92,          1,         33,         33,2,20050213,       0252,   -16.5002,   -25.0002,       5143,    73.8,  24.7316,  37.2431,2,  37.2383,2,    216.3,2,   216.1,2,    2.28,2,    0.01,2,    0.00,2,    0.14,2,-999.000,9,-999.000,9,-999.000,9,  2096.6,2,  2442.0,2,  -999.0,9,   20.00,   8.0683,2,    25.00,-999.000,9, -999.00,-999.000,9,-999.000,9, -999.00,9,  -999.0,9,  -999.0,-999.000,9,-999.000,-999.000,9, -999.00,9,   73.80,-999.0000,9,-999.0000,9,-999.0000,9,-999.0000,9,-999.0000,9,-999.0000,9,  24.7155,     -999.0,-999.000,     -999.0,          9,     -999.0,          9,-999.000,          9
 33RO200501,       A16S,      92,          1,         32,         32,2,20050213,       0252,   -16.5002,   -25.0002,       5143,    98.9,  24.1999,  37.2075,2,  37.2047,2,    213.6,2,   212.5,2,    2.30,2,    0.02,2,    0.00,2,    0.15,2,-999.000,9,-999.000,9,-999.000,9,  -999.0,9,  -999.0,9,  -999.0,9,   20.00,-999.0000,9,    25.00,-999.000,9, -999.00,-999.000,9,-999.000,9, -999.00,9,  -999.0,9,  -999.0,-999.000,9,-999.000,-999.000,9, -999.00,9,   98.90,-999.0000,9,-999.0000,9,-999.0000,9,-999.0000,9,-999.0000,9,-999.0000,9,  24.1787,     -999.0,-999.000,    163.728,          2,      0.422,          2,   3.569,          2
 33RO200501,       A16S,      92,          1,         31,         31,2,20050213,       0252,   -16.5002,   -25.0002,       5143,   150.5,  22.6619,  36.8784,2,  36.8693,2,    206.6,2,   204.9,2,    2.47,2,    0.06,2,    0.02,2,    0.19,2,-999.000,9,-999.000,9,-999.000,9,  2104.7,2,  2419.0,2,  -999.0,9,   20.00,   8.0257,2,    25.00,-999.000,9, -999.00,-999.000,9,-999.000,9, -999.00,9,  -999.0,9,  -999.0,-999.000,9,-999.000,-999.000,9, -999.00,9,  150.50,-999.0000,9,-999.0000,9,-999.0000,9,-999.0000,9,-999.0000,9,-999.0000,9,  22.6312,     -999.0,-999.000,     -999.0,          9,     -999.0,          9,-999.000,          9
 33RO200501,       A16S,      92,          1,         30,         30,2,20050213,       0252,   -16.5002,   -25.0002,       5143,   199.8,  18.4067,  36.0688,2,  36.0337,2,    196.1,2,   196.5,2,    3.25,2,    3.04,2,    0.02,2,    0.40,2,-999.000,9,-999.000,9,-999.000,9,  -999.0,9,  -999.0,9,  -999.0,9,   20.00,-999.0000,9,    25.00,-999.000,9, -999.00,-999.000,9,-999.000,9, -999.00,9,  -999.0,9,  -999.0,-999.000,9,-999.000,-999.000,9, -999.00,9,  199.80,-999.0000,9,-999.0000,9,-999.0000,9,-999.0000,9,-999.0000,9,-999.0000,9,  18.3716,     -999.0,-999.000,     10.448,          2,      0.128,          2,   0.105,          2
 33RO200501,       A16S,      92,          1,         29,         29,2,20050213,       0252,   -16.5002,   -25.0002,       5143,   250.0,  15.0634,  35.4953,2,  35.4908,2,    189.6,2,   189.8,2,    4.64,2,    8.53,2,    0.01,2,    0.67,2,-999.000,9,-999.000,9,-999.000,9,  -999.0,9,  -999.0,9,  -999.0,9,   20.00,-999.0000,9,    25.00,-999.000,9, -999.00,-999.000,9,-999.000,9, -999.00,9,  -999.0,9,  -999.0,-999.000,9,-999.000,-999.000,9, -999.00,9,  250.00,-999.0000,9,-999.0000,9,-999.0000,9,-999.0000,9,-999.0000,9,-999.0000,9,  15.0252,     -999.0,-999.000,     -999.0,          9,     -999.0,          9,-999.000,          9
 33RO200501,       A16S,      92,          1,         28,         28,2,20050213,       0252,   -16.5002,   -25.0002,       5143,   299.1,  12.5603,  35.1333,2,  35.1274,2,    180.0,2,   179.6,2,    6.87,2,   14.44,2,    0.00,2,    0.99,2,   2.596,2,   1.442,2,   0.030,2,  2136.9,2,  2307.4,2,  -999.0,9,   20.00,   7.7935,2,    25.00,-999.000,9, -999.00,-999.000,9,-999.000,9, -999.00,9,  -999.0,9,  -999.0,-999.000,9,-999.000,   0.579,4, -999.00,9,  299.10,-999.0000,9,-999.0000,9,-999.0000,9,-999.0000,9,-999.0000,9,-999.0000,9,  12.5199,     -999.0,-999.000,      2.715,          2,      0.000,          2,   0.022,          2
 33RO200501,       A16S,      92,          1,         27,         27,2,20050213,       0252,   -16.5002,   -25.0002,       5143,   349.6,  11.4247,  34.9896,2,  34.9927,2,    174.1,2,   174.1,2,    8.45,2,   17.31,2,    0.00,2,    1.16,2,-999.000,9,-999.000,9,-999.000,9,  -999.0,9,  -999.0,9,  -999.0,9,   20.00,-999.0000,9,    25.00,-999.000,9, -999.00,-999.000,9,-999.000,9, -999.00,9,  -999.0,9,  -999.0,-999.000,9,-999.000,-999.000,9, -999.00,9,  349.60,-999.0000,9,-999.0000,9,-999.0000,9,-999.0000,9,-999.0000,9,-999.0000,9,  11.3802,     -999.0,-999.000,     -999.0,          9,     -999.0,          9,-999.000,          9
 33RO200501,       A16S,      92,          1,         26,         26,2,20050213,       0252,   -16.5002,   -25.0002,       5143,   399.7,  10.2594,  34.8581,2,  34.8497,2,    166.0,2,   165.9,2,   11.03,2,   21.01,2,    0.00,2,    1.38,2,-999.000,9,-999.000,9,-999.000,9,  -999.0,9,  -999.0,9,  -999.0,9,   20.00,-999.0000,9,    25.00,-999.000,9, -999.00,-999.000,9,-999.000,9, -999.00,9,  -999.0,9,  -999.0,-999.000,9,-999.000,-999.000,9, -999.00,9,  399.70,-999.0000,9,-999.0000,9,-999.0000,9,-999.0000,9,-999.0000,9,-999.0000,9,  10.2119,     -999.0,-999.000,      6.350,          2,      0.191,          2,   0.041,          2
 33RO200501,       A16S,      92,          1,         25,         25,2,20050213,       0252,   -16.5002,   -25.0002,       5143,   449.5,   9.2313,  34.7494,2,  34.7460,2,    159.2,2,   162.4,2,   13.35,2,   23.52,2,    0.00,2,    1.53,2,-999.000,9,-999.000,9,-999.000,9,  2172.6,2,  2293.4,2,  -999.0,9,   20.00,   7.7195,2,    25.00,-999.000,9, -999.00,-999.000,9,-999.000,9, -999.00,9,  -999.0,9,  -999.0,-999.000,9,-999.000,-999.000,9, -999.00,9,  449.50,-999.0000,9,-999.0000,9,-999.0000,9,-999.0000,9,-999.0000,9,-999.0000,9,   9.1812,     -999.0,-999.000,     -999.0,          9,     -999.0,          9,-999.000,          9
 33RO200501,       A16S,      92,          1,         24,         24,2,20050213,       0252,   -16.5002,   -25.0002,       5143,   499.4,   7.9095,  34.6363,2,  34.6299,2,    150.2,2,   151.0,2,   17.59,2,   27.77,2,    0.00,2,    1.78,2,-999.000,9,-999.000,9,-999.000,9,  -999.0,9,  -999.0,9,  -999.0,9,   20.00,-999.0000,9,    25.00,-999.000,9, -999.00,-999.000,9,-999.000,9, -999.00,9,  -999.0,9,  -999.0,-999.000,9,-999.000,-999.000,9, -999.00,9,  499.40,-999.0000,9,-999.0000,9,-999.0000,9,-999.0000,9,-999.0000,9,-999.0000,9,   7.8586,     -999.0,-999.000,      3.136,          2,      0.130,          2,   0.027,          2
 33RO200501,       A16S,      92,          1,         23,         23,2,20050213,       0252,   -16.5002,   -25.0002,       5143,   599.2,   6.0603,  34.4952,2,  34.4944,2,    158.4,2,   157.9,2,   24.11,2,   30.98,2,    0.00,2,    1.99,2,-999.000,9,-999.000,9,-999.000,9,  -999.0,9,  -999.0,9,  -999.0,9,   20.00,-999.0000,9,    25.00,-999.000,9, -999.00,-999.000,9,-999.000,9, -999.00,9,  -999.0,9,  -999.0,-999.000,9,-999.000,-999.000,9, -999.00,9,  599.20,-999.0000,9,-999.0000,9,-999.0000,9,-999.0000,9,-999.0000,9,-999.0000,9,   6.0073,     -999.0,-999.000,     -999.0,          9,     -999.0,          9,-999.000,          9
 33RO200501,       A16S,      92,          1,         22,         22,2,20050213,       0252,   -16.5002,   -25.0002,       5143,   699.5,   4.8888,  34.4382,2,  34.4370,2,    167.9,2,   167.3,2,   30.47,2,   32.37,2,    0.00,2,    2.10,2,-999.000,9,-999.000,9,-999.000,9,  -999.0,9,  -999.0,9,  -999.0,9,   20.00,-999.0000,9,    25.00,-999.000,9, -999.00,-999.000,9,-999.000,9, -999.00,9,  -999.0,9,  -999.0,-999.000,9,-999.000,-999.000,9, -999.00,9,  699.50,-999.0000,9,-999.0000,9,-999.0000,9,-999.0000,9,-999.0000,9,-999.0000,9,   4.8327,     -999.0,-999.000,      2.168,          2,      0.054,          2,   0.018,          2
 33RO200501,       A16S,      92,          1,         21,         21,2,20050213,       0252,   -16.5002,   -25.0002,       5143,   800.4,   4.2045,  34.4317,2,  34.4304,2,    176.3,2,   176.4,2,   35.85,2,   32.48,2,    0.00,2,    2.13,2,   0.249,2,   0.118,2,   0.006,2,  2210.5,2,  2299.6,2,  -999.0,9,   20.00,   7.5869,2,    25.00,-999.000,9, -999.00,-999.000,9,-999.000,9, -999.00,9,  -999.0,9,  -999.0,-999.000,9,-999.000,   0.452,4, -999.00,9,  800.40,-999.0000,9,-999.0000,9,-999.0000,9,-999.0000,9,-999.0000,9,-999.0000,9,   4.1440,     -999.0,-999.000,     -999.0,          9,     -999.0,          9,-999.000,          9
 33RO200501,       A16S,      92,          1,         20,         20,2,20050213,       0252,   -16.5002,   -25.0002,       5143,   900.2,   3.8003,  34.4712,2,  34.4722,2,    182.4,2,   181.2,2,   39.85,6,   32.18,6,    0.00,6,    2.12,6,-999.000,9,-999.000,9,-999.000,9,  -999.0,9,  -999.0,9,  -999.0,9,   20.00,-999.0000,9,    25.00,-999.000,9, -999.00,-999.000,9,-999.000,9, -999.00,9,  -999.0,9,  -999.0,-999.000,9,-999.000,-999.000,9, -999.00,9,  900.20,-999.0000,9,-999.0000,9,-999.0000,9,-999.0000,9,-999.0000,9,-999.0000,9,   3.7343,     -999.0,-999.000,     -999.0,          9,     -999.0,          9,-999.000,          9
 33RO200501,       A16S,      92,          1,         19,         19,2,20050213,       0252,   -16.5002,   -25.0002,       5143,   999.6,   3.6898,  34.5443,2,  34.5425,2,    182.4,2,   182.7,2,   41.34,2,   31.44,2,    0.00,2,    2.07,2,-999.000,9,-999.000,9,-999.000,9,  2214.7,2,  2313.3,2,  -999.0,9,   20.00,   7.6004,2,    25.00,-999.000,9, -999.00,-999.000,9,-999.000,9, -999.00,9,  -999.0,9,  -999.0,-999.000,9,-999.000,-999.000,9, -999.00,9,  999.60,-999.0000,9,-999.0000,9,-999.0000,9,-999.0000,9,-999.0000,9,-999.0000,9,   3.6165,     -999.0,-999.000,      4.367,          2,      0.369,          2,   0.019,          2
 33RO200501,       A16S,      92,          1,         18,         18,2,20050213,       0252,   -16.5002,   -25.0002,       5143,  1100.1,   3.8001,  34.6387,2,  34.6403,2,    184.6,2,   183.8,2,   38.37,2,   30.15,2,    0.00,2,    1.97,2,-999.000,9,-999.000,9,-999.000,9,  -999.0,9,  -999.0,9,  -999.0,9,   20.00,-999.0000,9,    25.00,-999.000,9, -999.00,-999.000,9,-999.000,9, -999.00,9,  -999.0,9,  -999.0,-999.000,9,-999.000,-999.000,9, -999.00,9, 1100.10,-999.0000,9,-999.0000,9,-999.0000,9,-999.0000,9,-999.0000,9,-999.0000,9,   3.7175,     -999.0,-999.000,     -999.0,          9,     -999.0,          9,-999.000,          9
 33RO200501,       A16S,      92,          1,         17,         17,2,20050213,       0252,   -16.5002,   -25.0002,       5143,  1199.3,   3.9322,  34.7233,2,  34.7275,2,    188.6,2,   189.3,2,   34.58,2,   28.44,2,    0.00,2,    1.85,2,   0.042,2,   0.016,2,   0.010,2,  2204.2,2,  -999.0,5,  -999.0,9,   20.00,   7.6312,2,    25.00,-999.000,9, -999.00,-999.000,9,-999.000,9, -999.00,9,  -999.0,9,  -999.0,-999.000,9,-999.000,   0.100,4, -999.00,9, 1199.30,-999.0000,9,-999.0000,9,-999.0000,9,-999.0000,9,-999.0000,9,-999.0000,9,   3.8398,     -999.0,-999.000,      3.872,          2,      0.241,          2,   0.029,          2
 33RO200501,       A16S,      92,          1,         16,         16,2,20050213,       0252,   -16.5002,   -25.0002,       5143,  1298.6,   4.0362,  34.8065,2,  34.8064,2,    197.5,2,   197.8,2,   30.53,2,   26.57,2,    0.00,2,    1.72,2,-999.000,9,-999.000,9,-999.000,9,  -999.0,9,  -999.0,9,  -999.0,9,   20.00,-999.0000,9,    25.00,-999.000,9, -999.00,-999.000,9,-999.000,9, -999.00,9,  -999.0,9,  -999.0,-999.000,9,-999.000,-999.000,9, -999.00,9, 1298.60,-999.0000,9,-999.0000,9,-999.0000,9,-999.0000,9,-999.0000,9,-999.0000,9,   3.9340,     -999.0,-999.000,     -999.0,          9,     -999.0,          9,-999.000,          9
 33RO200501,       A16S,      92,          1,         15,         15,2,20050213,       0252,   -16.5002,   -25.0002,       5143,  1499.5,   3.8156,  34.8869,2,  34.8870,2,    217.9,2,   217.7,2,   28.34,2,   23.58,2,    0.00,2,    1.51,2,-999.000,9,-999.000,9,-999.000,9,  -999.0,9,  -999.0,9,  -999.0,9,   20.00,-999.0000,9,    25.00,-999.000,9, -999.00,-999.000,9,-999.000,9, -999.00,9,  -999.0,9,  -999.0,-999.000,9,-999.000,-999.000,9, -999.00,9, 1499.50,-999.0000,9,-999.0000,9,-999.0000,9,-999.0000,9,-999.0000,9,-999.0000,9,   3.6977,     -999.0,-999.000,      6.487,          2,      0.335,          2,   0.024,          2
 33RO200501,       A16S,      92,          1,         14,         14,2,20050213,       0252,   -16.5002,   -25.0002,       5143,  1699.0,   3.4719,  34.9115,2,  34.9116,2,    232.4,2,   233.5,2,   29.71,2,   22.18,2,    0.00,2,    1.43,2,-999.000,9,-999.000,9,-999.000,9,  -999.0,9,  -999.0,9,  -999.0,9,   20.00,-999.0000,9,    25.00,-999.000,9, -999.00,-999.000,9,-999.000,9, -999.00,9,  -999.0,9,  -999.0,-999.000,9,-999.000,-999.000,9, -999.00,9, 1699.00,-999.0000,9,-999.0000,9,-999.0000,9,-999.0000,9,-999.0000,9,-999.0000,9,   3.3402,     -999.0,-999.000,     -999.0,          9,     -999.0,          9,-999.000,          9
 33RO200501,       A16S,      92,          1,         13,         13,2,20050213,       0252,   -16.5002,   -25.0002,       5143,  1899.7,   3.2888,  34.9220,2,  34.9210,2,    239.0,2,   240.2,2,   30.75,2,   21.54,2,    0.00,2,    1.38,2,-999.000,9,-999.000,9,-999.000,9,  2177.0,2,  2322.4,2,  -999.0,9,   20.00,   7.7228,2,    25.00,-999.000,9, -999.00,-999.000,9,-999.000,9, -999.00,9,  -999.0,9,  -999.0,-999.000,9,-999.000,-999.000,9, -999.00,9, 1899.70,-999.0000,9,-999.0000,9,-999.0000,9,-999.0000,9,-999.0000,9,-999.0000,9,   3.1413,     -999.0,-999.000,     -999.0,          9,     -999.0,          9,-999.000,          9
 33RO200501,       A16S,      92,          1,         12,         12,2,20050213,       0252,   -16.5002,   -25.0002,       5143,  2100.1,   3.0705,  34.9188,2,  34.9182,2,    242.4,2,   242.6,2,   33.88,2,   21.48,2,    0.00,2,    1.39,2,-999.000,9,-999.000,9,-999.000,9,  -999.0,9,  -999.0,9,  -999.0,9,   20.00,-999.0000,9,    25.00,-999.000,9, -999.00,-999.000,9,-999.000,9, -999.00,9,  -999.0,9,  -999.0,-999.000,9,-999.000,-999.000,9, -999.00,9, 2100.10,-999.0000,9,-999.0000,9,-999.0000,9,-999.0000,9,-999.0000,9,-999.0000,9,   2.9078,     -999.0,-999.000,      4.070,          2,      0.172,          2,   0.010,          2
 33RO200501,       A16S,      92,          1,         11,         11,2,20050213,       0252,   -16.5002,   -25.0002,       5143,  2299.6,   2.9331,  34.9106,2,  34.9108,2,    242.2,2,   241.9,2,   37.23,2,   21.81,2,    0.00,2,    1.42,2,   0.005,2,   0.002,2,   0.001,2,  2183.0,2,  2321.3,2,  -999.0,9,   20.00,   7.6752,2,    25.00,-999.000,9, -999.00,-999.000,9,-999.000,9, -999.00,9,  -999.0,9,  -999.0,-999.000,9,-999.000,   0.034,4, -999.00,9, 2299.60,-999.0000,9,-999.0000,9,-999.0000,9,-999.0000,9,-999.0000,9,-999.0000,9,   2.7538,     -999.0,-999.000,     -999.0,          9,     -999.0,          9,-999.000,          9
 33RO200501,       A16S,      92,          1,         10,         10,2,20050213,       0252,   -16.5002,   -25.0002,       5143,  2500.3,   2.8368,  34.9061,2,  34.9082,2,    242.0,2,   241.9,2,   39.36,2,   21.97,2,    0.00,2,    1.43,2,-999.000,9,-999.000,9,-999.000,9,  -999.0,9,  -999.0,9,  -999.0,9,   20.00,-999.0000,9,    25.00,-999.000,9, -999.00,-999.000,9,-999.000,9, -999.00,9,  -999.0,9,  -999.0,-999.000,9,-999.000,-999.000,9, -999.00,9, 2500.30,-999.0000,9,-999.0000,9,-999.0000,9,-999.0000,9,-999.0000,9,-999.0000,9,   2.6400,     -999.0,-999.000,     -999.0,          9,     -999.0,          9,-999.000,          9
 33RO200501,       A16S,      92,          1,          9,          9,2,20050213,       0252,   -16.5002,   -25.0002,       5143,  2699.6,   2.7530,  34.9029,2,  34.9037,2,    242.2,2,   242.1,2,   41.18,2,   22.02,2,    0.00,2,    1.44,2,-999.000,9,-999.000,9,-999.000,9,  2187.3,2,  2327.9,2,  -999.0,9,   20.00,   7.7164,2,    25.00,-999.000,9, -999.00,-999.000,9,-999.000,9, -999.00,9,  -999.0,9,  -999.0,-999.000,9,-999.000,-999.000,9, -999.00,9, 2699.60,-999.0000,9,-999.0000,9,-999.0000,9,-999.0000,9,-999.0000,9,-999.0000,9,   2.5382,     -999.0,-999.000,      4.210,          2,      0.151,          2,   0.041,          2
 33RO200501,       A16S,      92,          1,          8,          8,2,20050213,       0252,   -16.5002,   -25.0002,       5143,  2999.9,   2.6744,  34.9015,2,  34.9013,2,    243.3,2,   243.4,2,   42.32,2,   21.94,2,    0.00,2,    1.44,2,-999.000,9,-999.000,9,-999.000,9,  -999.0,9,  -999.0,9,  -999.0,9,   20.00,-999.0000,9,    25.00,-999.000,9, -999.00,-999.000,9,-999.000,9, -999.00,9,  -999.0,9,  -999.0,-999.000,9,-999.000,-999.000,9, -999.00,9, 2999.90,-999.0000,9,-999.0000,9,-999.0000,9,-999.0000,9,-999.0000,9,-999.0000,9,   2.4309,     -999.0,-999.000,     -999.0,          9,     -999.0,          9,-999.000,          9