BOTTLE,20220818CCHSIOAMB
EXPOCODE,SECT_ID,STNNBR,CASTNO,SAMPNO,BTLNBR,BTLNBR_FLAG_W,DATE,TIME,LATITUDE,LONGITUDE,DEPTH,CTDPRS,CTDTMP,CTDSAL,CTDSAL_FLAG_W,SALNTY,SALNTY_FLAG_W,CTDOXY,CTDOXY_FLAG_W,OXYGEN,OXYGEN_FLAG_W,SILCAT,SILCAT_FLAG_W,NITRAT,NITRAT_FLAG_W,NITRIT,NITRIT_FLAG_W,PHSPHT,PHSPHT_FLAG_W,CFC-11,CFC-11_FLAG_W,CFC-12,CFC-12_FLAG_W,CFC113,CFC113_FLAG_W,TCARBN,TCARBN_FLAG_W,ALKALI,ALKALI_FLAG_W,PCO2,PCO2_FLAG_W,PCO2TMP,PH_SWS,PH_SWS_FLAG_W,PH_TMP,TRITUM,TRITUM_FLAG_W,TRITER,HELIUM,HELIUM_FLAG_W,DELHE3,DELHE3_FLAG_W,DELC13,DELC13_FLAG_W,DELC14,DELC14_FLAG_W,C14ERR,NEON,NEON_FLAG_W,NEONER,CCL4,CCL4_FLAG_W,DOC,DOC_FLAG_W,CTDRAW,CDOM325,CDOM325_FLAG_W,CDOM340,CDOM340_FLAG_W,CDOM380,CDOM380_FLAG_W,CDOM412,CDOM412_FLAG_W,CDOMSL,CDOMSL_FLAG_W,CDOMSN,CDOMSN_FLAG_W,THETA,HELIER,DELHER,CH3CL,CH3CL_FLAG_W,CH3BR,CH3BR_FLAG_W,CH3I,CH3I_FLAG_W
,,,,,,,,,,,METERS,DBAR,ITS-90,PSS-78,,PSS-78,,UMOL/KG,,UMOL/KG,,UMOL/KG,,UMOL/KG,,UMOL/KG,,UMOL/KG,,PMOL/KG,,PMOL/KG,,PMOL/KG,,UMOL/KG,,UMOL/KG,,UATM,,DEG C,,,DEG C,TU,,TU,NMOL/KG,,PERCNT,,/MILLE,,/MILLE,,/MILLE,NMOL/KG,,NMOL/KG,PMOL/KG,,UMOL/KG,,DBAR,1/M,,1/M,,1/M,,1/M,,1/NM,,1/NM,,DEG C,NMOL/KG,PERCNT,PMOL/KG,,PMOL/KG,,PMOL/KG,
 33RO200501,       A16S,      51,          2,         36,         36,2,20050131,       1345,   -36.9973,   -25.9320,       4035,     2.2,  18.5349,  35.3439,2,  35.3443,2,    237.0,2,   238.2,2,    1.55,2,    0.00,2,    0.00,2,    0.11,2,   2.451,2,   1.505,2,   0.210,2,  2053.0,6,  2322.4,2,  -999.0,9,   20.00,   7.9877,2,    25.00,-999.000,9, -999.00,-999.000,9,-999.000,9, -999.00,9,  -999.0,9,  -999.0,-999.000,9,-999.000,   5.553,4,   59.24,2,    2.20,   0.1260,2,   0.0920,2,   0.0470,2,   0.0300,2,   0.0167,2,   0.0176,2,  18.5345,     -999.0,-999.000,     -999.0,          9,     -999.0,          9,-999.000,          9
 33RO200501,       A16S,      51,          2,         35,         35,2,20050131,       1345,   -36.9973,   -25.9320,       4035,    24.2,  18.4810,  35.3569,2,  35.3563,2,    237.2,2,   237.9,2,    1.55,2,    0.01,2,    0.00,2,    0.10,2,   2.467,2,   1.522,2,   0.222,2,  2054.2,2,  2323.1,6,  -999.0,9,   20.00,   7.9873,6,    25.00,-999.000,9, -999.00,-999.000,9,-999.000,9, -999.00,9,  -999.0,9,  -999.0,-999.000,9,-999.000,   6.482,4,   58.05,2,   24.20,   0.1130,2,   0.0810,2,   0.0330,2,   0.0190,2,   0.0221,2,   0.0220,2,  18.4768,     -999.0,-999.000,     -999.0,          9,     -999.0,          9,-999.000,          9
 33RO200501,       A16S,      51,          2,         34,         34,2,20050131,       1345,   -36.9973,   -25.9320,       4035,    50.3,  16.1869,  35.4151,2,  35.4151,2,    257.2,2,   257.3,2,    1.67,2,    0.02,2,    0.00,2,    0.13,2,   2.741,2,   1.703,2,   0.229,2,  2062.3,2,  2334.5,2,  -999.0,9,   20.00,   7.9854,2,    25.00,-999.000,9, -999.00,-999.000,9,-999.000,9, -999.00,9,  -999.0,9,  -999.0,-999.000,9,-999.000,   8.707,4,   56.76,2,   50.30,   0.2050,2,   0.1570,2,   0.0720,2,   0.0440,2,   0.0175,2,   0.0182,2,  16.1789,     -999.0,-999.000,     -999.0,          9,     -999.0,          9,-999.000,          9
 33RO200501,       A16S,      51,          2,         33,         33,2,20050131,       1345,   -36.9973,   -25.9320,       4035,    73.7,  15.2017,  35.4573,2,  35.4555,2,    252.3,2,   252.9,2,    1.90,2,    0.81,2,    0.08,2,    0.21,2,-999.000,9,-999.000,9,-999.000,9,  2075.2,2,  2332.5,2,  -999.0,9,   20.00,   7.9647,2,    25.00,-999.000,9, -999.00,-999.000,9,-999.000,9, -999.00,9,  -999.0,9,  -999.0,-999.000,9,-999.000,-999.000,9, -999.00,9,   73.70,-999.0000,9,-999.0000,9,-999.0000,9,-999.0000,9,-999.0000,9,-999.0000,9,  15.1904,     -999.0,-999.000,     -999.0,          9,     -999.0,          9,-999.000,          9
 33RO200501,       A16S,      51,          2,         32,         32,2,20050131,       1345,   -36.9973,   -25.9320,       4035,    74.0,  15.1586,  35.4626,2,  35.4656,2,    250.3,2,   248.8,2,    1.96,2,    1.44,2,    0.13,2,    0.25,2,   2.814,2,   1.683,2,   0.214,2,  2078.6,2,  2335.1,2,  -999.0,9,   20.00,   7.9544,2,    25.00,-999.000,9, -999.00,-999.000,9,-999.000,9, -999.00,9,  -999.0,9,  -999.0,-999.000,9,-999.000,   5.154,4,   55.92,2,   74.00,   0.1330,2,   0.0960,2,   0.0470,2,   0.0300,2,   0.0172,2,   0.0186,2,  15.1473,     -999.0,-999.000,     -999.0,          9,     -999.0,          9,-999.000,          9
 33RO200501,       A16S,      51,          2,         31,         31,2,20050131,       1345,   -36.9973,   -25.9320,       4035,   114.6,  14.3082,  35.4337,2,  35.4275,2,    229.9,2,   232.4,2,    2.36,2,    4.99,2,    0.08,2,    0.44,2,   2.868,2,   1.687,2,   0.186,2,  2098.9,2,  2331.0,2,  -999.0,9,   20.00,   7.9173,2,    25.00,-999.000,9, -999.00,-999.000,9,-999.000,9, -999.00,9,  -999.0,9,  -999.0,-999.000,9,-999.000,   2.353,3, -999.00,9,  114.60,-999.0000,9,-999.0000,9,-999.0000,9,-999.0000,9,-999.0000,9,-999.0000,9,  14.2913,     -999.0,-999.000,     -999.0,          9,     -999.0,          9,-999.000,          9
 33RO200501,       A16S,      51,          2,         30,         30,2,20050131,       1345,   -36.9973,   -25.9320,       4035,   139.6,  13.9079,  35.3732,2,  35.3729,2,    231.9,2,   226.6,2,    2.51,2,    5.56,2,    0.03,2,    0.48,2,   2.953,2,   1.712,2,   0.189,2,  2101.2,2,  2328.4,2,  -999.0,9,   20.00,   7.9092,2,    25.00,-999.000,9, -999.00,-999.000,9,-999.000,9, -999.00,9,  -999.0,9,  -999.0,-999.000,9,-999.000,   2.171,3,   54.89,2,  139.60,   0.1460,3,   0.1110,3,   0.0550,3,   0.0370,3,   0.0158,3,   0.0167,3,  13.8878,     -999.0,-999.000,     -999.0,          9,     -999.0,          9,-999.000,          9
 33RO200501,       A16S,      51,          2,         29,         29,2,20050131,       1345,   -36.9973,   -25.9320,       4035,   165.3,  13.7900,  35.3810,2,  35.3794,2,    231.0,2,   232.4,2,    2.64,2,    6.09,2,    0.02,2,    0.50,2,   2.942,2,   1.712,2,   0.175,2,  2101.8,2,  2329.7,2,  -999.0,9,   20.00,   7.9023,2,    25.00,-999.000,9, -999.00,-999.000,9,-999.000,9, -999.00,9,  -999.0,9,  -999.0,-999.000,9,-999.000,   1.575,3, -999.00,9,  165.30,-999.0000,9,-999.0000,9,-999.0000,9,-999.0000,9,-999.0000,9,-999.0000,9,  13.7663,     -999.0,-999.000,     -999.0,          9,     -999.0,          9,-999.000,          9
 33RO200501,       A16S,      51,          2,         28,         28,2,20050131,       1345,   -36.9973,   -25.9320,       4035,   188.9,  13.6247,  35.3648,2,  35.3644,2,    232.3,2,   233.7,2,    2.76,2,    6.36,2,    0.01,2,    0.52,2,   2.967,2,   1.704,2,   0.185,2,  2101.7,2,  2328.5,2,  -999.0,9,   20.00,   7.8999,2,    25.00,-999.000,9, -999.00,-999.000,9,-999.000,9, -999.00,9,  -999.0,9,  -999.0,-999.000,9,-999.000,   1.469,3,   54.17,2,  188.90,   0.1700,2,   0.1320,2,   0.0620,2,   0.0380,2,   0.0177,2,   0.0177,2,  13.5978,     -999.0,-999.000,     -999.0,          9,     -999.0,          9,-999.000,          9
 33RO200501,       A16S,      51,          2,         27,         27,2,20050131,       1345,   -36.9973,   -25.9320,       4035,   225.2,  13.4936,  35.3486,2,  35.3475,2,    236.7,2,   236.3,2,    2.79,2,    6.39,2,    0.01,2,    0.52,2,-999.000,9,-999.000,9,-999.000,9,  2100.9,2,  2327.4,2,  -999.0,9,   20.00,   7.9025,2,    25.00,-999.000,9, -999.00,-999.000,9,-999.000,9, -999.00,9,  -999.0,9,  -999.0,-999.000,9,-999.000,-999.000,9, -999.00,9,  225.20,-999.0000,9,-999.0000,9,-999.0000,9,-999.0000,9,-999.0000,9,-999.0000,9,  13.4617,     -999.0,-999.000,     -999.0,          9,     -999.0,          9,-999.000,          9
 33RO200501,       A16S,      51,          2,         26,         26,2,20050131,       1345,   -36.9973,   -25.9320,       4035,   275.1,  13.2378,  35.3023,2,  35.2986,2,    234.5,2,   236.4,2,    2.90,2,    6.91,2,    0.01,2,    0.56,2,   3.021,2,   1.729,2,   0.205,2,  2102.4,2,  2323.4,2,  -999.0,9,   20.00,   7.8949,2,    25.00,-999.000,9, -999.00,-999.000,9,-999.000,9, -999.00,9,  -999.0,9,  -999.0,-999.000,9,-999.000,   1.571,3,   51.68,2,  275.10,   0.1030,2,   0.0730,2,   0.0360,2,   0.0240,2,   0.0184,2,   0.0197,2,  13.1993,     -999.0,-999.000,     -999.0,          9,     -999.0,          9,-999.000,          9
 33RO200501,       A16S,      51,          2,         25,         25,2,20050131,       1345,   -36.9973,   -25.9320,       4035,   323.6,  12.2160,  35.1168,2,  35.1119,2,    217.3,2,   219.3,2,    4.01,2,   11.14,2,    0.01,2,    0.80,2,   3.104,2,   1.717,2,   0.127,2,  2116.5,2,  2313.8,2,  -999.0,9,   20.00,   7.8437,2,    25.00,-999.000,9, -999.00,-999.000,9,-999.000,9, -999.00,9,  -999.0,9,  -999.0,-999.000,9,-999.000,   1.242,3,   47.61,2,  323.60,-999.0000,9,-999.0000,9,-999.0000,9,-999.0000,9,-999.0000,9,-999.0000,9,  12.1730,     -999.0,-999.000,     -999.0,          9,     -999.0,          9,-999.000,          9
 33RO200501,       A16S,      51,          2,         24,         24,2,20050131,       1345,   -36.9973,   -25.9320,       4035,   373.8,  11.0488,  34.9338,2,  34.9328,2,    212.5,2,   210.9,2,    5.28,2,   14.71,2,    0.01,2,    1.01,2,   3.133,2,   1.714,2,   0.096,2,  2127.4,2,  2302.2,2,  -999.0,9,   20.00,   7.8056,2,    25.00,-999.000,9, -999.00,-999.000,9,-999.000,9, -999.00,9,  -999.0,9,  -999.0,-999.000,9,-999.000,   1.018,3,   46.47,2,  373.80,   0.1060,2,   0.0740,2,   0.0350,2,   0.0240,3,   0.0201,3,   0.0211,3,  11.0023,     -999.0,-999.000,     -999.0,          9,     -999.0,          9,-999.000,          9
 33RO200501,       A16S,      51,          2,         23,         23,2,20050131,       1345,   -36.9973,   -25.9320,       4035,   449.2,   8.9804,  34.6545,2,  34.6516,2,    213.8,2,   214.3,2,    7.55,2,   19.42,2,    0.01,2,    1.29,2,   3.681,3,   2.800,3,   0.360,3,  2139.4,2,  2289.5,2,  -999.0,9,   20.00,   7.7787,2,    25.00,-999.000,9, -999.00,-999.000,9,-999.000,9, -999.00,9,  -999.0,9,  -999.0,-999.000,9,-999.000,   1.855,3,   43.08,2,  449.20,-999.0000,9,-999.0000,9,-999.0000,9,-999.0000,9,-999.0000,9,-999.0000,9,   8.9312,     -999.0,-999.000,     -999.0,          9,     -999.0,          9,-999.000,          9
 33RO200501,       A16S,      51,          2,         22,         22,2,20050131,       1345,   -36.9973,   -25.9320,       4035,   554.7,   6.7718,  34.3963,2,  34.3985,2,    229.3,2,   231.1,2,   10.11,2,   23.25,2,    0.01,2,    1.54,2,   3.510,2,   1.817,2,   0.231,2,  2147.3,2,  2280.1,2,  -999.0,9,   20.00,   7.7141,2,    25.00,-999.000,9, -999.00,-999.000,9,-999.000,9, -999.00,9,  -999.0,9,  -999.0,-999.000,9,-999.000,   2.614,4,   41.71,2,  554.70,   0.1160,2,   0.0820,2,   0.0420,2,   0.0290,2,   0.0165,2,   0.0181,2,   6.7200,     -999.0,-999.000,     -999.0,          9,     -999.0,          9,-999.000,          9
 33RO200501,       A16S,      51,          2,         21,         21,2,20050131,       1345,   -36.9973,   -25.9320,       4035,   651.1,   5.5514,  34.3155,2,  34.3157,2,    233.7,2,   235.5,2,   14.17,2,   25.77,2,    0.00,2,    1.70,2,   3.287,2,   1.679,2,   0.200,2,  2157.9,2,  2280.1,2,  -999.0,9,   20.00,   7.6858,2,    25.00,-999.000,9, -999.00,-999.000,9,-999.000,9, -999.00,9,  -999.0,9,  -999.0,-999.000,9,-999.000,   2.523,3, -999.00,9,  651.10,-999.0000,9,-999.0000,9,-999.0000,9,-999.0000,9,-999.0000,9,-999.0000,9,   5.4963,     -999.0,-999.000,     -999.0,          9,     -999.0,          9,-999.000,          9
 33RO200501,       A16S,      51,          2,         20,         20,2,20050131,       1345,   -36.9973,   -25.9320,       4035,   749.8,   4.4211,  34.2095,2,  34.2096,2,    254.8,2,   256.8,2,   16.23,2,   26.87,2,    0.00,2,    1.78,2,   3.689,2,   1.923,2,   0.270,2,  2158.0,2,  2279.7,2,  -999.0,9,   20.00,   7.6831,2,    25.00,-999.000,9, -999.00,-999.000,9,-999.000,9, -999.00,9,  -999.0,9,  -999.0,-999.000,9,-999.000,   3.220,3,   40.66,2,  749.80,   0.0890,2,   0.0600,2,   0.0290,2,   0.0210,2,   0.0208,2,   0.0224,2,   4.3637,     -999.0,-999.000,     -999.0,          9,     -999.0,          9,-999.000,          9
 33RO200501,       A16S,      51,          2,         19,         19,2,20050131,       1345,   -36.9973,   -25.9320,       4035,   850.2,   4.1257,  34.2424,2,  34.2433,2,    242.4,2,   239.7,2,   22.06,2,   28.67,2,    0.00,2,    1.89,2,   2.897,6,   1.457,6,   0.187,6,  2171.9,2,  2284.8,6,  -999.0,9,   20.00,   7.6612,6,    25.00,-999.000,9, -999.00,-999.000,9,-999.000,9, -999.00,9,  -999.0,9,  -999.0,-999.000,9,-999.000,   2.619,3,   40.00,2,  850.20,-999.0000,9,-999.0000,9,-999.0000,9,-999.0000,9,-999.0000,9,-999.0000,9,   4.0619,     -999.0,-999.000,     -999.0,          9,     -999.0,          9,-999.000,          9
 33RO200501,       A16S,      51,          2,         18,         18,2,20050131,       1345,   -36.9973,   -25.9320,       4035,   950.6,   3.7396,  34.2635,2,  34.2647,2,    229.8,2,   230.0,2,   28.44,2,   30.10,2,    0.00,2,    1.99,2,   2.339,2,   1.145,2,   0.153,2,  2183.5,6,  2290.1,2,  -999.0,9,   20.00,   7.6414,2,    25.00,-999.000,9, -999.00,-999.000,9,-999.000,9, -999.00,9,  -999.0,9,  -999.0,-999.000,9,-999.000,   0.000,3,   39.34,2,  950.60,-999.0000,9,-999.0000,9,-999.0000,9,-999.0000,9,-999.0000,9,-999.0000,9,   3.6704,     -999.0,-999.000,     -999.0,          9,     -999.0,          9,-999.000,          9
 33RO200501,       A16S,      51,          2,         17,         17,2,20050131,       1345,   -36.9973,   -25.9320,       4035,  1048.7,   3.3330,  34.2926,2,  34.2941,2,    221.3,2,   219.2,2,   36.13,2,   31.42,2,    0.00,2,    2.09,2,   1.873,2,   0.892,2,   0.113,2,  2197.4,2,  2296.3,2,  -999.0,9,   20.00,   7.6210,2,    25.00,-999.000,9, -999.00,-999.000,9,-999.000,9, -999.00,9,  -999.0,9,  -999.0,-999.000,9,-999.000,   2.062,3,   39.46,2, 1048.70,-999.0000,9,-999.0000,9,-999.0000,9,-999.0000,9,-999.0000,9,-999.0000,9,   3.2590,     -999.0,-999.000,     -999.0,          9,     -999.0,          9,-999.000,          9
 33RO200501,       A16S,      51,          2,         16,         16,2,20050131,       1345,   -36.9973,   -25.9320,       4035,  1149.2,   3.0906,  34.3451,2,  34.3453,2,    206.6,2,   205.8,2,   44.40,2,   32.47,2,    0.00,2,    2.17,2,   1.391,2,   0.707,2,   0.070,2,  2211.1,2,  2304.1,2,  -999.0,9,   20.00,   7.6075,2,    25.00,-999.000,9, -999.00,-999.000,9,-999.000,9, -999.00,9,  -999.0,9,  -999.0,-999.000,9,-999.000,   1.636,4,   39.50,2, 1149.20,   0.1310,2,   0.0900,2,   0.0480,3,   0.0340,3,   0.0151,3,   0.0174,3,   3.0108,     -999.0,-999.000,     -999.0,          9,     -999.0,          9,-999.000,          9
 33RO200501,       A16S,      51,          2,         15,         15,2,20050131,       1345,   -36.9973,   -25.9320,       4035,  1249.2,   2.9851,  34.3954,2,  34.3971,2,    197.8,2,   196.4,2,   49.79,2,   32.89,2,    0.00,2,    2.20,2,   0.937,2,   0.460,2,   0.047,2,  2220.6,2,  2310.2,2,  -999.0,9,   20.00,   7.5952,2,    25.00,-999.000,9, -999.00,-999.000,9,-999.000,9, -999.00,9,  -999.0,9,  -999.0,-999.000,9,-999.000,   1.209,3,   39.54,2, 1249.20,-999.0000,9,-999.0000,9,-999.0000,9,-999.0000,9,-999.0000,9,-999.0000,9,   2.8982,     -999.0,-999.000,     -999.0,          9,     -999.0,          9,-999.000,          9
 33RO200501,       A16S,      51,          2,         14,         14,2,20050131,       1345,   -36.9973,   -25.9320,       4035,  1350.7,   2.8864,  34.4602,2,  34.4596,2,    188.0,2,   187.1,2,   55.69,2,   33.14,2,    0.00,2,    2.23,2,-999.000,9,-999.000,9,-999.000,9,  2231.5,2,  2315.9,2,  -999.0,9,   20.00,   7.5884,2,    25.00,-999.000,9, -999.00,-999.000,9,-999.000,9, -999.00,9,  -999.0,9,  -999.0,-999.000,9,-999.000,-999.000,9,   39.97,2, 1350.70,-999.0000,9,-999.0000,9,-999.0000,9,-999.0000,9,-999.0000,9,-999.0000,9,   2.7923,     -999.0,-999.000,     -999.0,          9,     -999.0,          9,-999.000,          9
 33RO200501,       A16S,      51,          2,         13,         13,2,20050131,       1345,   -36.9973,   -25.9320,       4035,  1499.4,   2.8311,  34.5558,2,  34.5556,2,    181.2,2,   182.1,2,   60.36,2,   32.57,2,    0.00,2,    2.19,2,   0.317,2,   0.156,2,   0.010,2,  2237.6,2,  2322.1,2,  -999.0,9,   20.00,   7.5848,2,    25.00,-999.000,9, -999.00,-999.000,9,-999.000,9, -999.00,9,  -999.0,9,  -999.0,-999.000,9,-999.000,   0.487,4, -999.00,9, 1499.40,-999.0000,9,-999.0000,9,-999.0000,9,-999.0000,9,-999.0000,9,-999.0000,9,   2.7253,     -999.0,-999.000,     -999.0,          9,     -999.0,          9,-999.000,          9
 33RO200501,       A16S,      51,          2,         12,         12,2,20050131,       1345,   -36.9973,   -25.9320,       4035,  1701.0,   2.8450,  34.6421,2,  34.6420,2,    183.6,2,   184.5,2,   61.18,2,   31.30,2,    0.00,2,    2.11,2,   0.169,2,   0.079,2,   0.006,2,  2236.9,2,  2328.2,2,  -999.0,9,   20.00,   7.5965,2,    25.00,-999.000,9, -999.00,-999.000,9,-999.000,9, -999.00,9,  -999.0,9,  -999.0,-999.000,9,-999.000,   0.284,4,   39.45,2, 1701.00,-999.0000,9,-999.0000,9,-999.0000,9,-999.0000,9,-999.0000,9,-999.0000,9,   2.7219,     -999.0,-999.000,     -999.0,          9,     -999.0,          9,-999.000,          9
 33RO200501,       A16S,      51,          2,         11,         11,2,20050131,       1345,   -36.9973,   -25.9320,       4035,  1899.7,   2.8988,  34.7308,2,  34.7314,2,    193.3,2,   194.9,2,   57.71,2,   29.09,2,    0.00,2,    1.96,2,   0.087,2,   0.042,2,   0.001,2,  2228.2,2,  2329.9,2,  -999.0,9,   20.00,   7.6256,2,    25.00,-999.000,9, -999.00,-999.000,9,-999.000,9, -999.00,9,  -999.0,9,  -999.0,-999.000,9,-999.000,   0.189,4, -999.00,9, 1899.70,-999.0000,9,-999.0000,9,-999.0000,9,-999.0000,9,-999.0000,9,-999.0000,9,   2.7574,     -999.0,-999.000,     -999.0,          9,     -999.0,          9,-999.000,          9
 33RO200501,       A16S,      51,          2,         10,         10,2,20050131,       1345,   -36.9973,   -25.9320,       4035,  2100.8,   2.9336,  34.7961,2,  34.7961,2,    207.0,2,   208.0,2,   52.76,2,   26.91,2,    0.00,2,    1.81,2,   0.068,2,   0.027,2,   0.002,2,  2214.1,2,  2329.0,2,  -999.0,9,   20.00,   7.6513,2,    25.00,-999.000,9, -999.00,-999.000,9,-999.000,9, -999.00,9,  -999.0,9,  -999.0,-999.000,9,-999.000,   0.151,4,   40.27,2, 2100.80,   0.1360,2,   0.0960,2,   0.0500,2,   0.0350,3,   0.0154,3,   0.0173,3,   2.7733,     -999.0,-999.000,     -999.0,          9,     -999.0,          9,-999.000,          9
 33RO200501,       A16S,      51,          2,          9,          9,2,20050131,       1345,   -36.9973,   -25.9320,       4035,  2300.1,   2.9503,  34.8432,2,  34.8429,2,    218.2,2,   219.8,2,   47.52,2,   25.06,2,    0.00,2,    1.67,2,   0.036,6,   0.021,6,   0.002,6,  2204.0,2,  2327.9,2,  -999.0,9,   20.00,   7.6804,2,    25.00,-999.000,9, -999.00,-999.000,9,-999.000,9, -999.00,9,  -999.0,9,  -999.0,-999.000,9,-999.000,   0.133,4, -999.00,9, 2300.10,-999.0000,9,-999.0000,9,-999.0000,9,-999.0000,9,-999.0000,9,-999.0000,9,   2.7709,     -999.0,-999.000,     -999.0,          9,     -999.0,          9,-999.000,          9
 33RO200501,       A16S,      51,          2,          8,          8,2,20050131,       1345,   -36.9973,   -25.9320,       4035,  2500.8,   2.8867,  34.8693,2,  34.8693,2,    227.3,2,   229.0,2,   45.03,2,   23.86,2,    0.00,2,    1.59,2,   0.022,2,   0.014,2,   0.000,2,  2198.6,2,  2328.0,2,  -999.0,9,   20.00,   7.6993,2,    25.00,-999.000,9, -999.00,-999.000,9,-999.000,9, -999.00,9,  -999.0,9,  -999.0,-999.000,9,-999.000,   0.116,4,   40.09,2, 2500.80,-999.0000,9,-999.0000,9,-999.0000,9,-999.0000,9,-999.0000,9,-999.0000,9,   2.6891,     -999.0,-999.000,     -999.0,          9,     -999.0,          9,-999.000,          9