BOTTLE,20220818CCHSIOAMB
EXPOCODE,SECT_ID,STNNBR,CASTNO,SAMPNO,BTLNBR,BTLNBR_FLAG_W,DATE,TIME,LATITUDE,LONGITUDE,DEPTH,CTDPRS,CTDTMP,CTDSAL,CTDSAL_FLAG_W,SALNTY,SALNTY_FLAG_W,CTDOXY,CTDOXY_FLAG_W,OXYGEN,OXYGEN_FLAG_W,SILCAT,SILCAT_FLAG_W,NITRAT,NITRAT_FLAG_W,NITRIT,NITRIT_FLAG_W,PHSPHT,PHSPHT_FLAG_W,CFC-11,CFC-11_FLAG_W,CFC-12,CFC-12_FLAG_W,CFC113,CFC113_FLAG_W,TCARBN,TCARBN_FLAG_W,ALKALI,ALKALI_FLAG_W,PCO2,PCO2_FLAG_W,PCO2TMP,PH_SWS,PH_SWS_FLAG_W,PH_TMP,TRITUM,TRITUM_FLAG_W,TRITER,HELIUM,HELIUM_FLAG_W,DELHE3,DELHE3_FLAG_W,DELC13,DELC13_FLAG_W,DELC14,DELC14_FLAG_W,C14ERR,NEON,NEON_FLAG_W,NEONER,CCL4,CCL4_FLAG_W,DOC,DOC_FLAG_W,CTDRAW,CDOM325,CDOM325_FLAG_W,CDOM340,CDOM340_FLAG_W,CDOM380,CDOM380_FLAG_W,CDOM412,CDOM412_FLAG_W,CDOMSL,CDOMSL_FLAG_W,CDOMSN,CDOMSN_FLAG_W,THETA,HELIER,DELHER,CH3CL,CH3CL_FLAG_W,CH3BR,CH3BR_FLAG_W,CH3I,CH3I_FLAG_W
,,,,,,,,,,,METERS,DBAR,ITS-90,PSS-78,,PSS-78,,UMOL/KG,,UMOL/KG,,UMOL/KG,,UMOL/KG,,UMOL/KG,,UMOL/KG,,PMOL/KG,,PMOL/KG,,PMOL/KG,,UMOL/KG,,UMOL/KG,,UATM,,DEG C,,,DEG C,TU,,TU,NMOL/KG,,PERCNT,,/MILLE,,/MILLE,,/MILLE,NMOL/KG,,NMOL/KG,PMOL/KG,,UMOL/KG,,DBAR,1/M,,1/M,,1/M,,1/M,,1/NM,,1/NM,,DEG C,NMOL/KG,PERCNT,PMOL/KG,,PMOL/KG,,PMOL/KG,
 33RO200501,       A16S,      69,          1,         36,         36,2,20050205,       2308,   -27.9993,   -24.9997,       5318,     1.6,  23.2405,  36.2796,2,  36.2786,2,    216.2,2,   215.8,2,    1.10,2,    0.00,2,    0.00,2,    0.05,2,   1.939,2,   1.238,2,   0.165,2,  2067.8,6,  2383.8,2,   337.0,2,   20.00,   8.0344,2,    25.00,-999.000,9, -999.00,-999.000,9,-999.000,9, -999.00,9,  -999.0,9,  -999.0,-999.000,9,-999.000,   1.677,4,   68.03,2,    1.60,-999.0000,9,-999.0000,9,-999.0000,9,-999.0000,9,-999.0000,9,-999.0000,9,  23.2402,     -999.0,-999.000,     -999.0,          9,     -999.0,          9,-999.000,          9
 33RO200501,       A16S,      69,          1,         35,         35,2,20050205,       2308,   -27.9993,   -24.9997,       5318,    19.9,  23.2482,  36.2793,2,  36.2790,2,    216.1,2,   215.5,2,    1.07,2,    0.00,2,    0.00,2,    0.05,2,   1.944,2,   1.230,2,   0.169,2,  2065.6,2,  2380.8,6,   335.9,2,   20.00,   8.0344,6,    25.00,-999.000,9, -999.00,-999.000,9,-999.000,9, -999.00,9,  -999.0,9,  -999.0,-999.000,9,-999.000,   1.672,4,   66.91,2,   19.90,-999.0000,9,-999.0000,9,-999.0000,9,-999.0000,9,-999.0000,9,-999.0000,9,  23.2441,     -999.0,-999.000,     -999.0,          9,     -999.0,          9,-999.000,          9
 33RO200501,       A16S,      69,          1,         34,         34,2,20050205,       2308,   -27.9993,   -24.9997,       5318,    38.6,  22.8373,  36.2761,2,  36.2780,2,    219.0,2,   221.8,2,    1.11,2,    0.00,2,    0.00,2,    0.09,2,   2.024,2,   1.288,2,   0.162,2,  2068.4,2,  2379.9,2,   338.0,2,   20.00,   8.0279,2,    25.00,-999.000,9, -999.00,-999.000,9,-999.000,9, -999.00,9,  -999.0,9,  -999.0,-999.000,9,-999.000,   1.621,4,   65.73,2,   38.60,-999.0000,9,-999.0000,9,-999.0000,9,-999.0000,9,-999.0000,9,-999.0000,9,  22.8295,     -999.0,-999.000,     -999.0,          9,     -999.0,          9,-999.000,          9
 33RO200501,       A16S,      69,          1,         33,         33,2,20050205,       2308,   -27.9993,   -24.9997,       5318,    59.2,  21.2873,  36.2784,2,  36.2768,2,    229.5,2,   229.3,2,    1.20,2,    0.00,2,    0.00,2,    0.10,2,   2.142,2,   1.349,2,   0.175,2,  2069.7,2,  2380.7,2,   342.3,2,   20.00,   8.0276,2,    25.00,-999.000,9, -999.00,-999.000,9,-999.000,9, -999.00,9,  -999.0,9,  -999.0,-999.000,9,-999.000,   1.609,4, -999.00,9,   59.20,-999.0000,9,-999.0000,9,-999.0000,9,-999.0000,9,-999.0000,9,-999.0000,9,  21.2758,     -999.0,-999.000,     -999.0,          9,     -999.0,          9,-999.000,          9
 33RO200501,       A16S,      69,          1,         32,         32,2,20050205,       2308,   -27.9993,   -24.9997,       5318,    79.3,  20.5234,  36.2764,2,  36.2748,2,    231.7,2,   231.4,2,    1.21,2,    0.00,2,    0.00,2,    0.10,2,   2.206,2,   1.381,2,   0.177,2,  2074.0,2,  2379.9,2,   346.2,2,   20.00,   8.0234,2,    25.00,-999.000,9, -999.00,-999.000,9,-999.000,9, -999.00,9,  -999.0,9,  -999.0,-999.000,9,-999.000,   1.508,4,   63.42,2,   79.30,-999.0000,9,-999.0000,9,-999.0000,9,-999.0000,9,-999.0000,9,-999.0000,9,  20.5084,     -999.0,-999.000,     -999.0,          9,     -999.0,          9,-999.000,          9
 33RO200501,       A16S,      69,          1,         31,         31,2,20050205,       2308,   -27.9993,   -24.9997,       5318,    99.3,  19.9555,  36.2260,2,  36.2226,2,    229.3,2,   228.9,2,    1.31,2,    0.01,2,    0.00,2,    0.12,2,   2.241,2,   1.400,2,   0.182,2,  2074.9,2,  2377.0,2,   355.1,2,   20.00,   8.0161,2,    25.00,-999.000,9, -999.00,-999.000,9,-999.000,9, -999.00,9,  -999.0,9,  -999.0,-999.000,9,-999.000,   1.487,4, -999.00,9,   99.30,-999.0000,9,-999.0000,9,-999.0000,9,-999.0000,9,-999.0000,9,-999.0000,9,  19.9371,     -999.0,-999.000,     -999.0,          9,     -999.0,          9,-999.000,          9
 33RO200501,       A16S,      69,          1,         30,         30,2,20050205,       2308,   -27.9993,   -24.9997,       5318,   124.3,  19.1489,  36.0727,2,  36.0536,2,    229.6,2,   228.8,2,    1.42,2,    0.01,2,    0.00,2,    0.15,2,-999.000,9,-999.000,9,-999.000,9,  2077.2,2,  2371.0,2,  -999.0,9,   20.00,   8.0005,2,    25.00,-999.000,9, -999.00,-999.000,9,-999.000,9, -999.00,9,  -999.0,9,  -999.0,-999.000,9,-999.000,-999.000,9,   58.02,2,  124.30,-999.0000,9,-999.0000,9,-999.0000,9,-999.0000,9,-999.0000,9,-999.0000,9,  19.1265,     -999.0,-999.000,     -999.0,          9,     -999.0,          9,-999.000,          9
 33RO200501,       A16S,      69,          1,         29,         29,2,20050205,       2308,   -27.9993,   -24.9997,       5318,   150.0,  18.5129,  35.9612,2,  35.9433,2,    227.8,2,   227.7,2,    1.48,2,    0.03,2,    0.04,2,    0.18,2,   2.394,2,   1.458,2,   0.188,2,  2082.3,2,  2363.5,2,   386.7,2,   20.00,   7.9881,2,    25.00,-999.000,9, -999.00,-999.000,9,-999.000,9, -999.00,9,  -999.0,9,  -999.0,-999.000,9,-999.000,   1.467,4, -999.00,9,  150.00,-999.0000,9,-999.0000,9,-999.0000,9,-999.0000,9,-999.0000,9,-999.0000,9,  18.4865,     -999.0,-999.000,     -999.0,          9,     -999.0,          9,-999.000,          9
 33RO200501,       A16S,      69,          1,         28,         28,2,20050205,       2308,   -27.9993,   -24.9997,       5318,   173.3,  17.5626,  35.8018,2,  35.7898,2,    223.0,2,   224.3,2,    1.57,2,    0.44,2,    0.12,2,    0.23,2,-999.000,9,-999.000,9,-999.000,9,  2086.2,2,  2352.8,2,  -999.0,9,   20.00,   7.9715,2,    25.00,-999.000,9, -999.00,-999.000,9,-999.000,9, -999.00,9,  -999.0,9,  -999.0,-999.000,9,-999.000,-999.000,9,   52.33,2,  173.30,-999.0000,9,-999.0000,9,-999.0000,9,-999.0000,9,-999.0000,9,-999.0000,9,  17.5332,     -999.0,-999.000,     -999.0,          9,     -999.0,          9,-999.000,          9
 33RO200501,       A16S,      69,          1,         27,         27,2,20050205,       2308,   -27.9993,   -24.9997,       5318,   199.5,  16.4813,  35.6462,2,  35.6409,2,    218.7,2,   216.9,2,    2.17,2,    2.64,2,    0.01,2,    0.36,2,   2.615,6,   1.573,6,   0.125,6,  2091.5,2,  2342.3,2,   439.7,2,   20.00,   7.9329,2,    25.00,-999.000,9, -999.00,-999.000,9,-999.000,9, -999.00,9,  -999.0,9,  -999.0,-999.000,9,-999.000,   0.886,4,   49.80,2,  199.50,-999.0000,9,-999.0000,9,-999.0000,9,-999.0000,9,-999.0000,9,-999.0000,9,  16.4489,     -999.0,-999.000,     -999.0,          9,     -999.0,          9,-999.000,          9
 33RO200501,       A16S,      69,          1,         26,         26,2,20050205,       2308,   -27.9993,   -24.9997,       5318,   248.9,  15.1479,  35.4609,2,  35.4590,2,    212.0,2,   213.1,2,    2.84,2,    5.43,2,    0.01,2,    0.51,2,   2.763,2,   1.625,2,   0.057,2,  2098.9,2,  2327.4,2,   480.6,2,   20.00,   7.9070,2,    25.00,-999.000,9, -999.00,-999.000,9,-999.000,9, -999.00,9,  -999.0,9,  -999.0,-999.000,9,-999.000,   0.609,4,   47.20,2,  248.90,-999.0000,9,-999.0000,9,-999.0000,9,-999.0000,9,-999.0000,9,-999.0000,9,  15.1097,     -999.0,-999.000,     -999.0,          9,     -999.0,          9,-999.000,          9
 33RO200501,       A16S,      69,          1,         25,         25,2,20050205,       2308,   -27.9993,   -24.9997,       5318,   298.9,  14.2340,  35.3349,2,  35.3344,2,    211.9,2,   212.0,2,    3.02,2,    7.27,2,    0.00,2,    0.60,2,   2.857,2,   1.671,2,   0.048,2,  2103.8,2,  2320.5,2,   514.1,2,   20.00,   7.8861,2,    25.00,-999.000,9, -999.00,-999.000,9,-999.000,9, -999.00,9,  -999.0,9,  -999.0,-999.000,9,-999.000,   0.610,4,   45.68,2,  298.90,-999.0000,9,-999.0000,9,-999.0000,9,-999.0000,9,-999.0000,9,-999.0000,9,  14.1901,     -999.0,-999.000,     -999.0,          9,     -999.0,          9,-999.000,          9
 33RO200501,       A16S,      69,          1,         24,         24,2,20050205,       2308,   -27.9993,   -24.9997,       5318,   349.2,  13.2108,  35.2047,2,  35.2052,2,    209.5,2,   210.6,2,    3.59,2,    9.49,2,    0.00,2,    0.73,2,   2.962,2,   1.691,2,   0.047,2,  2112.6,2,  2313.9,2,   549.4,2,   20.00,   7.8630,2,    25.00,-999.000,9, -999.00,-999.000,9,-999.000,9, -999.00,9,  -999.0,9,  -999.0,-999.000,9,-999.000,   0.681,4,   44.11,2,  349.20,-999.0000,9,-999.0000,9,-999.0000,9,-999.0000,9,-999.0000,9,-999.0000,9,  13.1619,     -999.0,-999.000,     -999.0,          9,     -999.0,          9,-999.000,          9
 33RO200501,       A16S,      69,          1,         23,         23,2,20050205,       2308,   -27.9993,   -24.9997,       5318,   399.1,  12.1441,  35.0651,2,  35.0573,2,    205.9,2,   206.4,2,    4.86,2,   12.52,2,    0.00,2,    0.91,2,   2.967,2,   1.658,2,   0.052,2,  2121.6,2,  2306.3,2,   603.1,2,   20.00,   7.8239,2,    25.00,-999.000,9, -999.00,-999.000,9,-999.000,9, -999.00,9,  -999.0,9,  -999.0,-999.000,9,-999.000,   0.774,4,   43.49,2,  399.10,-999.0000,9,-999.0000,9,-999.0000,9,-999.0000,9,-999.0000,9,-999.0000,9,  12.0912,     -999.0,-999.000,     -999.0,          9,     -999.0,          9,-999.000,          9
 33RO200501,       A16S,      69,          1,         22,         22,2,20050205,       2308,   -27.9993,   -24.9997,       5318,   497.9,  10.2929,  34.8368,2,  34.8353,2,    203.4,2,   203.7,2,    7.20,2,   16.92,2,    0.00,2,    1.16,2,   2.940,2,   1.588,2,   0.080,2,  2138.0,2,  2297.1,2,   687.6,2,   20.00,   7.7812,2,    25.00,-999.000,9, -999.00,-999.000,9,-999.000,9, -999.00,9,  -999.0,9,  -999.0,-999.000,9,-999.000,   1.051,4,   41.95,2,  497.90,-999.0000,9,-999.0000,9,-999.0000,9,-999.0000,9,-999.0000,9,-999.0000,9,  10.2333,     -999.0,-999.000,     -999.0,          9,     -999.0,          9,-999.000,          9
 33RO200501,       A16S,      69,          1,         21,         21,2,20050205,       2308,   -27.9993,   -24.9997,       5318,   598.7,   8.2774,  34.6070,2,  34.6083,2,    204.3,2,   204.9,2,   10.56,2,   21.79,2,    0.00,2,    1.46,2,   2.840,2,   1.498,2,   0.105,2,  2151.4,2,  2289.1,2,   783.9,2,   20.00,   7.7355,2,    25.00,-999.000,9, -999.00,-999.000,9,-999.000,9, -999.00,9,  -999.0,9,  -999.0,-999.000,9,-999.000,   1.460,4,   40.36,2,  598.70,-999.0000,9,-999.0000,9,-999.0000,9,-999.0000,9,-999.0000,9,-999.0000,9,   8.2143,     -999.0,-999.000,     -999.0,          9,     -999.0,          9,-999.000,          9
 33RO200501,       A16S,      69,          1,         20,         20,2,20050205,       2308,   -27.9993,   -24.9997,       5318,   697.6,   6.1900,  34.4058,2,  34.4069,2,    214.7,2,   215.8,2,   15.54,6,   25.91,6,    0.00,6,    1.80,6,   2.796,2,   1.422,2,   0.141,2,  2162.9,2,  -999.0,9,   867.4,2,   20.00,   7.6860,2,    25.00,-999.000,9, -999.00,-999.000,9,-999.000,9, -999.00,9,  -999.0,9,  -999.0,-999.000,9,-999.000,   2.083,4,   40.02,2,  697.60,-999.0000,9,-999.0000,9,-999.0000,9,-999.0000,9,-999.0000,9,-999.0000,9,   6.1271,     -999.0,-999.000,     -999.0,          9,     -999.0,          9,-999.000,          9
 33RO200501,       A16S,      69,          1,         19,         19,2,20050205,       2308,   -27.9993,   -24.9997,       5318,   798.5,   4.9984,  34.3233,2,  34.3217,2,    221.0,2,   222.1,2,   20.62,2,   28.08,2,    0.00,2,    1.87,2,   2.577,2,   1.293,2,   0.138,2,  2172.6,2,  2285.4,6,   915.2,2,   20.00,   7.6677,6,    25.00,-999.000,9, -999.00,-999.000,9,-999.000,9, -999.00,9,  -999.0,9,  -999.0,-999.000,9,-999.000,   2.280,4,   39.85,2,  798.50,-999.0000,9,-999.0000,9,-999.0000,9,-999.0000,9,-999.0000,9,-999.0000,9,   4.9333,     -999.0,-999.000,     -999.0,          9,     -999.0,          9,-999.000,          9
 33RO200501,       A16S,      69,          1,         18,         18,2,20050205,       2308,   -27.9993,   -24.9997,       5318,   898.1,   4.1989,  34.3258,2,  34.3258,2,    214.0,2,   213.3,2,   29.67,2,   30.28,2,    0.00,2,    2.02,2,   1.877,2,   0.923,2,   0.081,2,  2189.4,6,  2292.9,2,   981.5,2,   20.00,   7.6349,2,    25.00,-999.000,9, -999.00,-999.000,9,-999.000,9, -999.00,9,  -999.0,9,  -999.0,-999.000,9,-999.000,   1.918,4,   39.69,2,  898.10,-999.0000,9,-999.0000,9,-999.0000,9,-999.0000,9,-999.0000,9,-999.0000,9,   4.1305,     -999.0,-999.000,     -999.0,          9,     -999.0,          9,-999.000,          9
 33RO200501,       A16S,      69,          1,         17,         17,2,20050205,       2308,   -27.9993,   -24.9997,       5318,  1100.3,   3.4308,  34.4055,2,  34.4035,2,    197.1,2,   193.6,2,   44.06,2,   32.12,2,    0.00,2,    2.17,2,   0.961,2,   0.466,2,   0.040,2,  2211.0,2,  2306.8,2,  1060.1,2,   20.00,   7.6055,2,    25.00,-999.000,9, -999.00,-999.000,9,-999.000,9, -999.00,9,  -999.0,9,  -999.0,-999.000,9,-999.000,   1.181,4,   38.12,2, 1100.30,-999.0000,9,-999.0000,9,-999.0000,9,-999.0000,9,-999.0000,9,-999.0000,9,   3.3517,     -999.0,-999.000,     -999.0,          9,     -999.0,          9,-999.000,          9
 33RO200501,       A16S,      69,          1,         16,         16,2,20050205,       2308,   -27.9993,   -24.9997,       5318,  1298.9,   3.0346,  34.5375,2,  34.5400,2,    188.0,2,   187.5,2,   53.76,6,   31.89,6,    0.00,6,    2.16,6,-999.000,9,-999.000,9,-999.000,9,  2224.7,2,  2319.3,2,  -999.0,9,   20.00,   7.6145,2,    25.00,-999.000,9, -999.00,-999.000,9,-999.000,9, -999.00,9,  -999.0,9,  -999.0,-999.000,9,-999.000,-999.000,9,   38.07,2, 1298.90,-999.0000,9,-999.0000,9,-999.0000,9,-999.0000,9,-999.0000,9,-999.0000,9,   2.9430,     -999.0,-999.000,     -999.0,          9,     -999.0,          9,-999.000,          9
 33RO200501,       A16S,      69,          1,         15,         15,2,20050205,       2308,   -27.9993,   -24.9997,       5318,  1500.2,   2.9171,  34.6706,2,  34.6696,2,    192.1,2,   193.8,2,   53.75,2,   29.79,2,    0.00,2,    2.01,2,   0.090,2,   0.046,2,   0.004,2,  2221.9,2,  2325.0,2,  1015.8,2,   20.00,   7.6383,2,    25.00,-999.000,9, -999.00,-999.000,9,-999.000,9, -999.00,9,  -999.0,9,  -999.0,-999.000,9,-999.000,   0.191,4,   39.20,2, 1500.20,-999.0000,9,-999.0000,9,-999.0000,9,-999.0000,9,-999.0000,9,-999.0000,9,   2.8100,     -999.0,-999.000,     -999.0,          9,     -999.0,          9,-999.000,          9
 33RO200501,       A16S,      69,          1,         14,         14,2,20050205,       2308,   -27.9993,   -24.9997,       5318,  1698.9,   2.8573,  34.7523,2,  34.7555,2,    205.7,2,   206.6,2,   50.46,2,   27.53,2,    0.00,2,    1.85,2,-999.000,9,-999.000,9,-999.000,9,  2212.6,2,  2327.2,2,  -999.0,9,   20.00,   7.6625,2,    25.00,-999.000,9, -999.00,-999.000,9,-999.000,9, -999.00,9,  -999.0,9,  -999.0,-999.000,9,-999.000,-999.000,9,   39.22,2, 1698.90,-999.0000,9,-999.0000,9,-999.0000,9,-999.0000,9,-999.0000,9,-999.0000,9,   2.7339,     -999.0,-999.000,     -999.0,          9,     -999.0,          9,-999.000,          9
 33RO200501,       A16S,      69,          1,         13,         13,2,20050205,       2308,   -27.9993,   -24.9997,       5318,  1898.2,   2.8567,  34.8111,2,  34.8104,2,    218.5,2,   219.7,2,   45.48,2,   25.45,2,    0.00,2,    1.70,2,   0.011,2,   0.008,2,   0.000,2,  2201.2,2,  2325.9,2,   881.0,2,   20.00,   7.7029,2,    25.00,-999.000,9, -999.00,-999.000,9,-999.000,9, -999.00,9,  -999.0,9,  -999.0,-999.000,9,-999.000,   0.051,4,   39.19,2, 1898.20,-999.0000,9,-999.0000,9,-999.0000,9,-999.0000,9,-999.0000,9,-999.0000,9,   2.7159,     -999.0,-999.000,     -999.0,          9,     -999.0,          9,-999.000,          9
 33RO200501,       A16S,      69,          1,         12,         12,2,20050205,       2308,   -27.9993,   -24.9997,       5318,  2200.1,   2.8840,  34.8827,2,  34.8829,2,    237.1,2,   238.0,2,   37.24,2,   22.60,2,    0.00,2,    1.49,2,   0.002,2,   0.004,2,   0.000,2,  2185.5,2,  2325.2,2,   801.3,2,   20.00,   7.7133,2,    25.00,-999.000,9, -999.00,-999.000,9,-999.000,9, -999.00,9,  -999.0,9,  -999.0,-999.000,9,-999.000,   0.037,4,   40.23,2, 2200.10,-999.0000,9,-999.0000,9,-999.0000,9,-999.0000,9,-999.0000,9,-999.0000,9,   2.7150,     -999.0,-999.000,     -999.0,          9,     -999.0,          9,-999.000,          9
 33RO200501,       A16S,      69,          1,         11,         11,2,20050205,       2308,   -27.9993,   -24.9997,       5318,  2499.1,   2.8506,  34.9075,2,  34.9075,2,    245.0,2,   245.3,2,   34.43,2,   21.50,2,    0.00,2,    1.42,2,   0.005,2,   0.004,2,   0.000,2,  2179.8,2,  2323.7,2,   771.8,2,   20.00,   7.7288,2,    25.00,-999.000,9, -999.00,-999.000,9,-999.000,9, -999.00,9,  -999.0,9,  -999.0,-999.000,9,-999.000,   0.042,4,   40.66,2, 2499.10,-999.0000,9,-999.0000,9,-999.0000,9,-999.0000,9,-999.0000,9,-999.0000,9,   2.6536,     -999.0,-999.000,     -999.0,          9,     -999.0,          9,-999.000,          9
 33RO200501,       A16S,      69,          1,         10,         10,2,20050205,       2308,   -27.9993,   -24.9997,       5318,  2798.6,   2.7586,  34.9137,2,  34.9140,2,    249.2,2,   249.1,2,   34.57,2,   21.12,2,    0.00,2,    1.40,2,-999.000,9,-999.000,9,-999.000,9,  2179.1,2,  2326.8,2,  -999.0,9,   20.00,   7.7322,2,    25.00,-999.000,9, -999.00,-999.000,9,-999.000,9, -999.00,9,  -999.0,9,  -999.0,-999.000,9,-999.000,-999.000,9,   39.92,2, 2798.60,-999.0000,9,-999.0000,9,-999.0000,9,-999.0000,9,-999.0000,9,-999.0000,9,   2.5337,     -999.0,-999.000,     -999.0,          9,     -999.0,          9,-999.000,          9
 33RO200501,       A16S,      69,          1,          9,          9,2,20050205,       2308,   -27.9993,   -24.9997,       5318,  3099.1,   2.5931,  34.9052,2,  34.9048,2,    249.9,2,   250.1,2,   38.33,2,   21.26,2,    0.00,2,    1.42,2,   0.001,6,   0.003,6,   0.000,6,  2181.7,2,  2329.3,2,   769.2,2,   20.00,   7.7313,2,    25.00,-999.000,9, -999.00,-999.000,9,-999.000,9, -999.00,9,  -999.0,9,  -999.0,-999.000,9,-999.000,   0.039,4,   39.93,2, 3099.10,-999.0000,9,-999.0000,9,-999.0000,9,-999.0000,9,-999.0000,9,-999.0000,9,   2.3411,     -999.0,-999.000,     -999.0,          9,     -999.0,          9,-999.000,          9
 33RO200501,       A16S,      69,          1,          8,          8,2,20050205,       2308,   -27.9993,   -24.9997,       5318,  3398.9,   2.3061,  34.8802,2,  34.8800,2,    248.0,2,   247.9,2,   47.31,2,   22.35,2,    0.00,2,    1.51,2,   0.009,2,   0.006,2,   0.000,2,  2190.7,2,  2330.9,2,   783.6,2,   20.00,   7.7295,2,    25.00,-999.000,9, -999.00,-999.000,9,-999.000,9, -999.00,9,  -999.0,9,  -999.0,-999.000,9,-999.000,   0.045,4,   39.57,2, 3398.90,-999.0000,9,-999.0000,9,-999.0000,9,-999.0000,9,-999.0000,9,-999.0000,9,   2.0295,     -999.0,-999.000,     -999.0,          9,     -999.0,          9,-999.000,          9