BOTTLE,20220818CCHSIOAMB
EXPOCODE,SECT_ID,STNNBR,CASTNO,SAMPNO,BTLNBR,BTLNBR_FLAG_W,DATE,TIME,LATITUDE,LONGITUDE,DEPTH,CTDPRS,CTDTMP,CTDSAL,CTDSAL_FLAG_W,SALNTY,SALNTY_FLAG_W,CTDOXY,CTDOXY_FLAG_W,OXYGEN,OXYGEN_FLAG_W,SILCAT,SILCAT_FLAG_W,NITRAT,NITRAT_FLAG_W,NITRIT,NITRIT_FLAG_W,PHSPHT,PHSPHT_FLAG_W,CFC-11,CFC-11_FLAG_W,CFC-12,CFC-12_FLAG_W,CFC113,CFC113_FLAG_W,TCARBN,TCARBN_FLAG_W,ALKALI,ALKALI_FLAG_W,PCO2,PCO2_FLAG_W,PCO2TMP,PH_SWS,PH_SWS_FLAG_W,PH_TMP,TRITUM,TRITUM_FLAG_W,TRITER,HELIUM,HELIUM_FLAG_W,DELHE3,DELHE3_FLAG_W,DELC13,DELC13_FLAG_W,DELC14,DELC14_FLAG_W,C14ERR,NEON,NEON_FLAG_W,NEONER,CCL4,CCL4_FLAG_W,DOC,DOC_FLAG_W,CTDRAW,CDOM325,CDOM325_FLAG_W,CDOM340,CDOM340_FLAG_W,CDOM380,CDOM380_FLAG_W,CDOM412,CDOM412_FLAG_W,CDOMSL,CDOMSL_FLAG_W,CDOMSN,CDOMSN_FLAG_W,THETA,HELIER,DELHER,CH3CL,CH3CL_FLAG_W,CH3BR,CH3BR_FLAG_W,CH3I,CH3I_FLAG_W
,,,,,,,,,,,METERS,DBAR,ITS-90,PSS-78,,PSS-78,,UMOL/KG,,UMOL/KG,,UMOL/KG,,UMOL/KG,,UMOL/KG,,UMOL/KG,,PMOL/KG,,PMOL/KG,,PMOL/KG,,UMOL/KG,,UMOL/KG,,UATM,,DEG C,,,DEG C,TU,,TU,NMOL/KG,,PERCNT,,/MILLE,,/MILLE,,/MILLE,NMOL/KG,,NMOL/KG,PMOL/KG,,UMOL/KG,,DBAR,1/M,,1/M,,1/M,,1/M,,1/NM,,1/NM,,DEG C,NMOL/KG,PERCNT,PMOL/KG,,PMOL/KG,,PMOL/KG,
 33RO200501,       A16S,      80,          1,          7,          7,2,20050209,       0830,   -22.4998,   -24.9998,       5465,  3596.6,   2.2772,  34.8810,2,  34.8819,2,    249.2,2,   248.9,2,   47.12,2,   21.87,2,    0.00,2,    1.47,2,   0.010,2,   0.007,2,   0.000,2,  2189.4,2,  2313.2,3,  -999.0,9,   20.00,   7.7216,2,    25.00,-999.000,9, -999.00,-999.000,9,-999.000,9, -999.00,9,  -999.0,9,  -999.0,-999.000,9,-999.000,   0.071,4, -999.00,9, 3596.60,-999.0000,9,-999.0000,9,-999.0000,9,-999.0000,9,-999.0000,9,-999.0000,9,   1.9801,     -999.0,-999.000,      1.741,          2,      0.103,          2,   0.004,          2
 33RO200501,       A16S,      80,          1,          6,          6,2,20050209,       0830,   -22.4998,   -24.9998,       5465,  3900.6,   1.8380,  34.8355,2,  34.8355,2,    242.5,2,   241.9,2,   63.96,2,   24.23,2,    0.00,2,    1.65,2,-999.000,9,-999.000,9,-999.000,9,  -999.0,9,  -999.0,9,  -999.0,9,   20.00,-999.0000,9,    25.00,-999.000,9, -999.00,-999.000,9,-999.000,9, -999.00,9,  -999.0,9,  -999.0,-999.000,9,-999.000,-999.000,9, -999.00,9, 3900.60,-999.0000,9,-999.0000,9,-999.0000,9,-999.0000,9,-999.0000,9,-999.0000,9,   1.5196,     -999.0,-999.000,     -999.0,          9,     -999.0,          9,-999.000,          9
 33RO200501,       A16S,      80,          1,          5,          5,2,20050209,       0830,   -22.4998,   -24.9998,       5465,  4200.3,   1.4503,  34.7931,2,  34.7956,3,    235.2,2,   235.0,2,   80.62,2,   26.42,2,    0.00,2,    1.83,2,   0.015,2,   0.010,2,   0.000,2,  -999.0,9,  -999.0,9,  -999.0,9,   20.00,-999.0000,9,    25.00,-999.000,9, -999.00,-999.000,9,-999.000,9, -999.00,9,  -999.0,9,  -999.0,-999.000,9,-999.000,   0.055,4, -999.00,9, 4200.30,-999.0000,9,-999.0000,9,-999.0000,9,-999.0000,9,-999.0000,9,-999.0000,9,   1.1101,     -999.0,-999.000,     -999.0,          9,     -999.0,          9,-999.000,          9
 33RO200501,       A16S,      80,          1,          4,          4,2,20050209,       0830,   -22.4998,   -24.9998,       5465,  4491.7,   1.1630,  34.7613,2,  34.7604,2,    230.2,2,   230.2,2,   93.36,6,   28.09,6,    0.00,6,    1.95,6,-999.000,9,-999.000,9,-999.000,9,  -999.0,9,  -999.0,9,  -999.0,9,   20.00,-999.0000,9,    25.00,-999.000,9, -999.00,-999.000,9,-999.000,9, -999.00,9,  -999.0,9,  -999.0,-999.000,9,-999.000,-999.000,9, -999.00,9, 4491.70,-999.0000,9,-999.0000,9,-999.0000,9,-999.0000,9,-999.0000,9,-999.0000,9,   0.7990,     -999.0,-999.000,      3.104,          2,      0.287,          2,   0.018,          2
 33RO200501,       A16S,      80,          1,          3,          3,2,20050209,       0830,   -22.4998,   -24.9998,       5465,  4999.5,   0.8332,  34.7225,2,  34.7238,2,    224.6,2,   224.7,2,  108.02,6,   30.00,6,    0.00,6,    2.11,6,   0.051,2,   0.027,2,   0.000,2,  -999.0,9,  -999.0,9,  -999.0,9,   20.00,-999.0000,9,    25.00,-999.000,9, -999.00,-999.000,9,-999.000,9, -999.00,9,  -999.0,9,  -999.0,-999.000,9,-999.000,   0.119,4, -999.00,9, 4999.50,-999.0000,9,-999.0000,9,-999.0000,9,-999.0000,9,-999.0000,9,-999.0000,9,   0.4214,     -999.0,-999.000,     -999.0,          9,     -999.0,          9,-999.000,          9
 33RO200501,       A16S,      80,          1,          2,          2,2,20050209,       0830,   -22.4998,   -24.9998,       5465,  5300.1,   0.7356,  34.7088,2,  34.7093,2,    222.9,2,   222.9,2,  113.12,6,   30.59,6,    0.00,6,    2.17,6,-999.000,9,-999.000,9,-999.000,9,  -999.0,9,  -999.0,9,  -999.0,9,   20.00,-999.0000,9,    25.00,-999.000,9, -999.00,-999.000,9,-999.000,9, -999.00,9,  -999.0,9,  -999.0,-999.000,9,-999.000,-999.000,9, -999.00,9, 5300.10,-999.0000,9,-999.0000,9,-999.0000,9,-999.0000,9,-999.0000,9,-999.0000,9,   0.2913,     -999.0,-999.000,     -999.0,          9,     -999.0,          9,-999.000,          9
 33RO200501,       A16S,      80,          1,          1,          1,2,20050209,       0830,   -22.4998,   -24.9998,       5465,  5604.9,   0.6149,  34.6929,2,  34.6930,2,    220.8,2,   221.0,2,  119.06,6,   31.32,6,    0.00,6,    2.23,6,   0.134,2,   0.066,2,   0.004,2,  2260.3,2,  2363.0,2,  -999.0,9,   20.00,   7.6110,2,    25.00,-999.000,9, -999.00,-999.000,9,-999.000,9, -999.00,9,  -999.0,9,  -999.0,-999.000,9,-999.000,   0.223,4, -999.00,9, 5604.90,-999.0000,9,-999.0000,9,-999.0000,9,-999.0000,9,-999.0000,9,-999.0000,9,   0.1378,     -999.0,-999.000,      7.220,          2,      0.647,          2,   0.076,          2