BOTTLE,20220818CCHSIOAMB
EXPOCODE,SECT_ID,STNNBR,CASTNO,SAMPNO,BTLNBR,BTLNBR_FLAG_W,DATE,TIME,LATITUDE,LONGITUDE,DEPTH,CTDPRS,CTDTMP,CTDSAL,CTDSAL_FLAG_W,SALNTY,SALNTY_FLAG_W,CTDOXY,CTDOXY_FLAG_W,OXYGEN,OXYGEN_FLAG_W,SILCAT,SILCAT_FLAG_W,NITRAT,NITRAT_FLAG_W,NITRIT,NITRIT_FLAG_W,PHSPHT,PHSPHT_FLAG_W,CFC-11,CFC-11_FLAG_W,CFC-12,CFC-12_FLAG_W,CFC113,CFC113_FLAG_W,TCARBN,TCARBN_FLAG_W,ALKALI,ALKALI_FLAG_W,PCO2,PCO2_FLAG_W,PCO2TMP,PH_SWS,PH_SWS_FLAG_W,PH_TMP,TRITUM,TRITUM_FLAG_W,TRITER,HELIUM,HELIUM_FLAG_W,DELHE3,DELHE3_FLAG_W,DELC13,DELC13_FLAG_W,DELC14,DELC14_FLAG_W,C14ERR,NEON,NEON_FLAG_W,NEONER,CCL4,CCL4_FLAG_W,DOC,DOC_FLAG_W,CTDRAW,CDOM325,CDOM325_FLAG_W,CDOM340,CDOM340_FLAG_W,CDOM380,CDOM380_FLAG_W,CDOM412,CDOM412_FLAG_W,CDOMSL,CDOMSL_FLAG_W,CDOMSN,CDOMSN_FLAG_W,THETA,HELIER,DELHER,CH3CL,CH3CL_FLAG_W,CH3BR,CH3BR_FLAG_W,CH3I,CH3I_FLAG_W
,,,,,,,,,,,METERS,DBAR,ITS-90,PSS-78,,PSS-78,,UMOL/KG,,UMOL/KG,,UMOL/KG,,UMOL/KG,,UMOL/KG,,UMOL/KG,,PMOL/KG,,PMOL/KG,,PMOL/KG,,UMOL/KG,,UMOL/KG,,UATM,,DEG C,,,DEG C,TU,,TU,NMOL/KG,,PERCNT,,/MILLE,,/MILLE,,/MILLE,NMOL/KG,,NMOL/KG,PMOL/KG,,UMOL/KG,,DBAR,1/M,,1/M,,1/M,,1/M,,1/NM,,1/NM,,DEG C,NMOL/KG,PERCNT,PMOL/KG,,PMOL/KG,,PMOL/KG,
 33RO200501,       A16S,       9,          1,         34,         34,2,20050119,       1843,   -56.0000,   -33.6337,       2816,     3.4,   1.9761,  33.9828,2,  33.9831,2,    338.9,2,   333.9,2,   33.43,2,   23.07,2,    0.35,2,    1.49,2,   6.072,2,   3.282,2,   0.526,2,  2154.6,6,  2317.0,3,   740.2,2,   20.00,   7.7414,2,    25.00,-999.000,9, -999.00,   1.864,2,  -2.538,2, -999.00,9,  -999.0,9,  -999.0,   8.208,2,   0.011,   6.392,4,   50.58,2,    3.40,   0.0890,2,   0.0590,2,   0.0310,2,   0.0210,2,   0.0190,2,   0.0211,2,   1.9759,      0.001,   0.232,     -999.0,          9,     -999.0,          9,-999.000,          9
 33RO200501,       A16S,       9,          1,         33,         33,2,20050119,       1843,   -56.0000,   -33.6337,       2816,    20.4,   1.8774,  33.9847,2,  33.9849,2,    338.5,2,   333.7,2,   33.01,2,   22.95,2,    0.34,2,    1.50,2,-999.000,9,-999.000,9,-999.000,9,  2154.8,2,  2299.4,6,  -999.0,9,   20.00,   7.7457,6,    25.00,-999.000,9, -999.00,-999.000,9,-999.000,9, -999.00,9,  -999.0,9,  -999.0,-999.000,9,-999.000,-999.000,9,   49.66,2,   20.40,   0.1030,2,   0.0720,2,   0.0370,2,   0.0250,2,   0.0176,2,   0.0190,2,   1.8764,     -999.0,-999.000,     -999.0,          9,     -999.0,          9,-999.000,          9
 33RO200501,       A16S,       9,          1,         32,         32,2,20050119,       1843,   -56.0000,   -33.6337,       2816,    20.6,   1.8784,  33.9847,2,  33.9849,2,    338.5,2,   332.5,2,   32.97,2,   22.96,2,    0.34,2,    1.50,2,   6.085,2,   3.273,2,   0.567,2,  2152.5,2,  2296.5,2,   741.7,2,   20.00,   7.7468,2,    25.00,   0.068,2,    0.00,   1.861,2,  -2.650,2, -999.00,9,  -999.0,9,  -999.0,   8.252,2,   0.011,   6.577,4, -999.00,9,   20.60,-999.0000,9,-999.0000,9,-999.0000,9,-999.0000,9,-999.0000,9,-999.0000,9,   1.8774,      0.001,   0.226,     -999.0,          9,     -999.0,          9,-999.000,          9
 33RO200501,       A16S,       9,          1,         31,         31,2,20050119,       1843,   -56.0000,   -33.6337,       2816,    60.4,   1.6564,  33.9907,2,  33.9945,2,    337.5,2,   352.0,2,   35.40,2,   23.28,2,    0.34,2,    1.53,2,-999.000,9,-999.000,9,-999.000,9,  2157.1,2,  2297.8,2,   752.7,2,   20.00,   7.7378,2,    25.00,-999.000,9, -999.00,-999.000,9,-999.000,9, -999.00,9,  -999.0,9,  -999.0,-999.000,9,-999.000,-999.000,9,   46.90,2,   60.40,   0.0990,2,   0.0660,2,   0.0350,2,   0.0240,2,   0.0179,2,   0.0199,2,   1.6534,     -999.0,-999.000,     -999.0,          9,     -999.0,          9,-999.000,          9
 33RO200501,       A16S,       9,          1,         30,         30,2,20050119,       1843,   -56.0000,   -33.6337,       2816,    79.4,  -0.0969,  34.0894,2,  34.0911,2,    328.2,2,   332.8,2,   53.93,2,   26.46,2,    0.42,2,    1.86,2,   6.177,2,   3.293,2,   0.548,2,  2181.5,2,  2305.0,2,   866.1,2,   20.00,   7.6848,2,    25.00,   0.060,2,    0.00,-999.000,9,-999.000,9, -999.00,9,  -999.0,9,  -999.0,-999.000,9,-999.000,   6.330,4, -999.00,9,   79.40,-999.0000,9,-999.0000,9,-999.0000,9,-999.0000,9,-999.0000,9,-999.0000,9,  -0.0996,     -999.0,-999.000,     -999.0,          9,     -999.0,          9,-999.000,          9
 33RO200501,       A16S,       9,          1,         29,         29,2,20050119,       1843,   -56.0000,   -33.6337,       2816,   105.6,  -0.2802,  34.1473,2,  34.1513,2,    305.1,2,   159.9,3,   59.53,2,   28.55,2,    0.23,2,    1.97,2,   5.708,2,   3.047,2,   0.488,2,  2194.5,2,  2308.4,2,   925.1,2,   20.00,   7.6565,2,    25.00,-999.000,9, -999.00,   1.897,2,  -0.639,2, -999.00,9,  -999.0,9,  -999.0,   8.528,2,   0.012,   5.811,4,   44.16,2,  105.60,-999.0000,9,-999.0000,9,-999.0000,9,-999.0000,9,-999.0000,9,-999.0000,9,  -0.2837,      0.001,   0.222,     -999.0,          9,     -999.0,          9,-999.000,          9
 33RO200501,       A16S,       9,          1,         28,         28,2,20050119,       1843,   -56.0000,   -33.6337,       2816,   124.7,   0.0112,  34.2006,2,  34.2084,2,    295.0,2,   294.4,2,   61.35,2,   30.33,2,    0.16,2,    2.07,2,   4.959,2,   2.648,2,   0.428,2,  2204.3,2,  2310.1,2,  -999.0,9,   20.00,   7.6326,2,    25.00,-999.000,9, -999.00,   1.875,2,   0.837,2, -999.00,9,  -999.0,9,  -999.0,   8.388,2,   0.012,   5.047,3, -999.00,9,  124.70,-999.0000,9,-999.0000,9,-999.0000,9,-999.0000,9,-999.0000,9,-999.0000,9,   0.0068,      0.001,   0.224,     -999.0,          9,     -999.0,          9,-999.000,          9
 33RO200501,       A16S,       9,          1,         27,         27,2,20050119,       1843,   -56.0000,   -33.6337,       2816,   149.5,   0.4733,  34.2907,2,  34.2890,2,    263.8,2,   260.9,2,   65.30,2,   32.39,2,    0.02,2,    2.19,2,   3.922,2,   2.095,2,   0.346,2,  2219.9,2,  2313.5,2,  1085.8,2,   20.00,   7.6018,2,    25.00,-999.000,9, -999.00,-999.000,9,-999.000,9, -999.00,9,  -999.0,9,  -999.0,-999.000,9,-999.000,   4.020,3,   42.99,2,  149.50,-999.0000,9,-999.0000,9,-999.0000,9,-999.0000,9,-999.0000,9,-999.0000,9,   0.4673,     -999.0,-999.000,     -999.0,          9,     -999.0,          9,-999.000,          9
 33RO200501,       A16S,       9,          1,         26,         26,2,20050119,       1843,   -56.0000,   -33.6337,       2816,   175.9,   1.0149,  34.3711,2,  34.3723,2,    230.4,2,   228.2,2,   68.72,2,   33.58,2,    0.02,2,    2.28,2,   2.822,2,   1.491,2,   0.226,2,  2234.0,2,  2313.3,2,  -999.0,9,   20.00,   7.5733,2,    25.00,-999.000,9, -999.00,   1.916,2,   3.370,2, -999.00,9,  -999.0,9,  -999.0,   8.430,2,   0.009,   2.887,3, -999.00,9,  175.90,-999.0000,9,-999.0000,9,-999.0000,9,-999.0000,9,-999.0000,9,-999.0000,9,   1.0070,      0.001,   0.223,     -999.0,          9,     -999.0,          9,-999.000,          9
 33RO200501,       A16S,       9,          1,         25,         25,2,20050119,       1843,   -56.0000,   -33.6337,       2816,   199.4,   1.1827,  34.4080,2,  34.4091,2,    216.3,2,   218.4,2,   70.75,2,   33.76,2,    0.02,2,    2.29,2,   2.479,2,   1.311,2,   0.198,2,  2239.4,2,  2324.5,3,  1175.4,2,   20.00,   7.5655,2,    25.00,-999.000,9, -999.00,   1.907,2,   3.781,2, -999.00,9,  -999.0,9,  -999.0,   8.376,2,   0.012,   2.539,3,   42.07,2,  199.40,   0.1280,2,   0.0890,2,   0.0470,2,   0.0330,2,   0.0153,2,   0.0173,2,   1.1734,      0.001,   0.219,     -999.0,          9,     -999.0,          9,-999.000,          9
 33RO200501,       A16S,       9,          1,         24,         24,2,20050119,       1843,   -56.0000,   -33.6337,       2816,   226.0,   1.3362,  34.4467,2,  34.4462,2,    209.0,2,   209.2,2,   72.90,2,   33.92,2,    0.02,2,    2.31,2,-999.000,9,-999.000,9,-999.000,9,  2242.5,2,  2321.8,2,  1185.6,2,   20.00,   7.5634,2,    25.00,-999.000,9, -999.00,-999.000,9,-999.000,9, -999.00,9,  -999.0,9,  -999.0,-999.000,9,-999.000,-999.000,9, -999.00,9,  226.00,-999.0000,9,-999.0000,9,-999.0000,9,-999.0000,9,-999.0000,9,-999.0000,9,   1.3253,     -999.0,-999.000,     -999.0,          9,     -999.0,          9,-999.000,          9
 33RO200501,       A16S,       9,          1,         23,         23,2,20050119,       1843,   -56.0000,   -33.6337,       2816,   250.6,   1.3865,  34.4719,2,  34.4729,2,    198.4,2,   204.8,2,   74.96,2,   34.00,2,    0.02,2,    2.31,2,   1.745,3,   0.925,3,   0.134,3,  2245.7,2,  2323.2,2,  -999.0,9,   20.00,   7.5997,4,    25.00,-999.000,9, -999.00,   1.947,3,   5.533,2, -999.00,9,  -999.0,9,  -999.0,   8.506,2,   0.012,   1.885,4,   40.87,2,  250.60,   0.1560,2,   0.1140,2,   0.0580,2,   0.0400,2,   0.0152,2,   0.0166,2,   1.3743,      0.001,   0.235,     -999.0,          9,     -999.0,          9,-999.000,          9
 33RO200501,       A16S,       9,          1,         22,         22,2,20050119,       1843,   -56.0000,   -33.6337,       2816,   299.7,   1.5978,  34.5291,2,  34.5292,2,    189.1,2,   193.5,2,   78.27,2,   34.08,2,    0.01,2,    2.31,2,   1.425,2,   0.777,2,   0.110,2,  2250.0,2,  2330.5,2,  1198.3,2,   20.00,   7.5640,2,    25.00,-999.000,9, -999.00,   1.953,3,   6.160,2, -999.00,9,  -999.0,9,  -999.0,   8.455,2,   0.012,   1.596,3,   39.79,2,  299.70,   0.1500,2,   0.1090,2,   0.0570,2,   0.0390,2,   0.0147,2,   0.0164,2,   1.5825,      0.001,   0.226,     -999.0,          9,     -999.0,          9,-999.000,          9
 33RO200501,       A16S,       9,          1,         21,         21,2,20050119,       1843,   -56.0000,   -33.6337,       2816,   350.1,   1.7800,  34.5825,2,  34.5819,2,    185.7,2,   184.0,2,   80.79,2,   33.95,2,    0.01,2,    2.30,2,   0.961,2,   0.481,2,   0.068,2,  2254.2,2,  2335.8,2,  1197.0,2,   20.00,   7.5662,2,    25.00,-999.000,9, -999.00,   1.946,3,   7.368,2, -999.00,9,  -999.0,9,  -999.0,   8.464,2,   0.013,   1.137,3,   39.46,2,  350.10,-999.0000,9,-999.0000,9,-999.0000,9,-999.0000,9,-999.0000,9,-999.0000,9,   1.7614,      0.001,   0.231,     -999.0,          9,     -999.0,          9,-999.000,          9
 33RO200501,       A16S,       9,          1,         20,         20,2,20050119,       1843,   -56.0000,   -33.6337,       2816,   400.1,   1.8257,  34.6143,2,  34.6121,2,    189.8,2,   181.8,2,   82.47,2,   33.52,2,    0.02,2,    2.29,2,   0.751,6,   0.375,6,   0.050,6,  2256.1,2,  2337.6,2,  1180.8,3,   20.00,   7.5697,2,    25.00,-999.000,9, -999.00,   1.944,3,   7.861,2, -999.00,9,  -999.0,9,  -999.0,   8.457,2,   0.013,   0.916,6,   39.27,2,  400.10,-999.0000,9,-999.0000,9,-999.0000,9,-999.0000,9,-999.0000,9,-999.0000,9,   1.8042,      0.001,   0.234,     -999.0,          9,     -999.0,          9,-999.000,          9
 33RO200501,       A16S,       9,          1,         19,         19,2,20050119,       1843,   -56.0000,   -33.6337,       2816,   448.6,   1.5811,  34.6265,2,  34.6266,2,    191.4,2,   194.7,2,   84.64,2,   32.94,2,    0.02,2,    2.25,2,-999.000,9,-999.000,9,-999.000,9,  2254.4,2,  2340.9,2,  1156.9,2,   20.00,   7.5773,2,    25.00,-999.000,9, -999.00,-999.000,9,-999.000,9, -999.00,9,  -999.0,9,  -999.0,-999.000,9,-999.000,-999.000,9, -999.00,9,  448.60,-999.0000,9,-999.0000,9,-999.0000,9,-999.0000,9,-999.0000,9,-999.0000,9,   1.5577,     -999.0,-999.000,     -999.0,          9,     -999.0,          9,-999.000,          9
 33RO200501,       A16S,       9,          1,         18,         18,2,20050119,       1843,   -56.0000,   -33.6337,       2816,   500.9,   1.6348,  34.6532,2,  34.6530,2,    190.8,2,   187.6,2,   86.71,2,   32.67,2,    0.01,2,    2.25,2,   0.673,2,   0.360,2,   0.046,2,  2256.2,2,  2343.3,2,  1139.8,2,   20.00,   7.5816,2,    25.00,-999.000,9, -999.00,-999.000,9,-999.000,9, -999.00,9,  -999.0,9,  -999.0,-999.000,9,-999.000,   0.765,3,   39.29,2,  500.90,-999.0000,9,-999.0000,9,-999.0000,9,-999.0000,9,-999.0000,9,-999.0000,9,   1.6082,     -999.0,-999.000,     -999.0,          9,     -999.0,          9,-999.000,          9
 33RO200501,       A16S,       9,          1,         17,         17,2,20050119,       1843,   -56.0000,   -33.6337,       2816,   599.8,   1.5446,  34.6747,2,  34.6744,2,    191.3,2,   189.9,2,   90.76,2,   32.27,2,    0.01,2,    2.22,2,   0.581,2,   0.306,2,   0.038,2,  2256.2,2,  2347.2,2,  1118.1,2,   20.00,   7.5904,2,    25.00,-999.000,9, -999.00,   1.920,2,   9.499,2, -999.00,9,  -999.0,9,  -999.0,   8.302,2,   0.012,   0.680,3,   39.52,2,  599.80,   0.1370,2,   0.0960,2,   0.0520,2,   0.0360,2,   0.0146,2,   0.0164,2,   1.5126,      0.001,   0.241,     -999.0,          9,     -999.0,          9,-999.000,          9
 33RO200501,       A16S,       9,          1,         16,         16,2,20050119,       1843,   -56.0000,   -33.6337,       2816,   700.3,   1.3423,  34.6777,2,  34.6758,2,    192.3,2,   197.1,2,   94.16,2,   32.15,2,    0.01,2,    2.21,2,   0.682,2,   0.391,2,   0.049,2,  2254.7,2,  2343.8,3,  1108.7,2,   20.00,   7.5944,2,    25.00,-999.000,9, -999.00,   1.920,2,   9.534,2, -999.00,9,  -999.0,9,  -999.0,   8.368,2,   0.008,   0.746,3,   39.82,2,  700.30,-999.0000,9,-999.0000,9,-999.0000,9,-999.0000,9,-999.0000,9,-999.0000,9,   1.3055,      0.001,   0.227,     -999.0,          9,     -999.0,          9,-999.000,          9
 33RO200501,       A16S,       9,          1,         15,         15,2,20050119,       1843,   -56.0000,   -33.6337,       2816,   800.1,   1.2317,  34.6849,2,  34.6835,2,    197.3,2,   199.9,2,   97.93,2,   32.11,2,    0.01,2,    2.20,2,   0.680,2,   0.348,2,   0.047,2,  2255.8,2,  2349.9,2,  1100.4,2,   20.00,   7.6018,2,    25.00,-999.000,9, -999.00,-999.000,9,-999.000,9, -999.00,9,  -999.0,9,  -999.0,-999.000,9,-999.000,   0.767,3,   39.32,2,  800.10,   0.1370,2,   0.0970,2,   0.0540,2,   0.0380,2,   0.0136,2,   0.0155,2,   1.1897,     -999.0,-999.000,     -999.0,          9,     -999.0,          9,-999.000,          9
 33RO200501,       A16S,       9,          1,         14,         14,2,20050119,       1843,   -56.0000,   -33.6337,       2816,   900.9,   1.1996,  34.6969,2,  34.6964,2,    201.9,2,   199.2,2,  100.97,2,   32.08,2,    0.01,2,    2.20,2,   0.490,2,   0.256,2,   0.036,2,  2256.0,2,  2350.6,6,  1092.1,2,   20.00,   7.6045,6,    25.00,-999.000,9, -999.00,   1.956,3,   8.811,2, -999.00,9,  -999.0,9,  -999.0,   8.514,2,   0.007,   0.553,3,   39.17,2,  900.90,-999.0000,9,-999.0000,9,-999.0000,9,-999.0000,9,-999.0000,9,-999.0000,9,   1.1518,      0.001,   0.242,     -999.0,          9,     -999.0,          9,-999.000,          9
 33RO200501,       A16S,       9,          1,         13,         13,2,20050119,       1843,   -56.0000,   -33.6337,       2816,  1000.1,   1.0895,  34.6956,2,  34.6955,2,    201.0,2,   201.5,2,  102.14,2,   32.06,2,    0.01,2,    2.20,2,   1.053,3,   0.290,3,   0.043,3,  2256.2,6,  2354.0,2,  1088.4,2,   20.00,   7.6047,2,    25.00,-999.000,9, -999.00,   1.967,3,   9.296,2, -999.00,9,  -999.0,9,  -999.0,   8.534,2,   0.007,   0.600,4,   39.88,2, 1000.10,-999.0000,9,-999.0000,9,-999.0000,9,-999.0000,9,-999.0000,9,-999.0000,9,   1.0364,      0.001,   0.233,     -999.0,          9,     -999.0,          9,-999.000,          9
 33RO200501,       A16S,       9,          1,         12,         12,2,20050119,       1843,   -56.0000,   -33.6337,       2816,  1099.0,   1.0492,  34.6975,2,  34.6976,2,    202.5,2,   202.3,2,  103.44,2,   31.83,2,    0.01,2,    2.20,2,   0.480,2,   0.236,2,   0.029,2,  2257.1,2,  2354.2,2,  1085.0,2,   20.00,   7.6100,2,    25.00,-999.000,9, -999.00,   1.929,2,   9.100,2, -999.00,9,  -999.0,9,  -999.0,   8.423,2,   0.007,   0.530,3, -999.00,9, 1099.00,-999.0000,9,-999.0000,9,-999.0000,9,-999.0000,9,-999.0000,9,-999.0000,9,   0.9902,      0.001,   0.244,     -999.0,          9,     -999.0,          9,-999.000,          9
 33RO200501,       A16S,       9,          1,         11,         11,2,20050119,       1843,   -56.0000,   -33.6337,       2816,  1199.7,   0.9372,  34.6956,2,  34.6953,2,    205.0,2,   204.6,2,  105.65,2,   31.77,2,    0.01,2,    2.21,2,   0.486,2,   0.360,2,   0.023,2,  2257.9,2,  2354.9,2,  1086.4,2,   20.00,   7.6077,2,    25.00,-999.000,9, -999.00,-999.000,9,-999.000,9, -999.00,9,  -999.0,9,  -999.0,-999.000,9,-999.000,   0.507,3,   40.07,2, 1199.70,-999.0000,9,-999.0000,9,-999.0000,9,-999.0000,9,-999.0000,9,-999.0000,9,   0.8730,     -999.0,-999.000,     -999.0,          9,     -999.0,          9,-999.000,          9
 33RO200501,       A16S,       9,          1,         10,         10,2,20050119,       1843,   -56.0000,   -33.6337,       2816,  1301.0,   0.8730,  34.6958,2,  34.6955,2,    205.1,2,   205.8,2,  108.47,2,   31.83,2,    0.00,2,    2.21,2,   0.476,2,   0.238,2,   0.029,2,  2257.8,2,  2355.1,2,  -999.0,9,   20.00,   7.6089,2,    25.00,-999.000,9, -999.00,   2.001,3,   9.228,2, -999.00,9,  -999.0,9,  -999.0,   8.681,3,   0.007,   0.495,3, -999.00,9, 1301.00,-999.0000,9,-999.0000,9,-999.0000,9,-999.0000,9,-999.0000,9,-999.0000,9,   0.8029,      0.001,   0.246,     -999.0,          9,     -999.0,          9,-999.000,          9
 33RO200501,       A16S,       9,          1,          9,          9,2,20050119,       1843,   -56.0000,   -33.6337,       2816,  1400.0,   0.7922,  34.6915,2,  34.6917,2,    207.4,2,   207.7,2,  110.06,2,   31.95,2,    0.00,2,    2.21,2,   0.523,2,   0.263,2,   0.034,2,  2256.5,2,  2353.7,2,  1081.5,6,   20.00,   7.6072,2,    25.00,-999.000,9, -999.00,-999.000,9,-999.000,9, -999.00,9,  -999.0,9,  -999.0,-999.000,9,-999.000,   0.543,3,   39.10,2, 1400.00,-999.0000,9,-999.0000,9,-999.0000,9,-999.0000,9,-999.0000,9,-999.0000,9,   0.7165,     -999.0,-999.000,     -999.0,          9,     -999.0,          9,-999.000,          9
 33RO200501,       A16S,       9,          1,          8,          8,2,20050119,       1843,   -56.0000,   -33.6337,       2816,  1499.7,   0.7174,  34.6878,2,  34.6878,2,    208.4,2,   208.8,2,  110.83,2,   32.09,2,    0.00,2,    2.21,2,   0.517,2,   0.263,2,   0.037,2,  2257.1,2,  2354.4,2,  1086.1,2,   20.00,   7.6081,2,    25.00,-999.000,9, -999.00,-999.000,9,-999.000,9, -999.00,9,  -999.0,9,  -999.0,-999.000,9,-999.000,   0.528,3, -999.00,9, 1499.70,-999.0000,9,-999.0000,9,-999.0000,9,-999.0000,9,-999.0000,9,-999.0000,9,   0.6360,     -999.0,-999.000,     -999.0,          9,     -999.0,          9,-999.000,          9
 33RO200501,       A16S,       9,          1,          7,          7,2,20050119,       1843,   -56.0000,   -33.6337,       2816,  1599.7,   0.6573,  34.6893,2,  34.6888,2,    209.6,2,   209.5,2,  112.45,2,   32.10,2,    0.00,2,    2.22,2,   0.529,2,   0.446,2,   0.031,2,  2256.9,2,  2354.6,2,  1087.8,2,   20.00,   7.6058,2,    25.00,-999.000,9, -999.00,-999.000,9,-999.000,9, -999.00,9,  -999.0,9,  -999.0,-999.000,9,-999.000,   0.577,3,   38.95,2, 1599.70,-999.0000,9,-999.0000,9,-999.0000,9,-999.0000,9,-999.0000,9,-999.0000,9,   0.5698,     -999.0,-999.000,     -999.0,          9,     -999.0,          9,-999.000,          9
 33RO200501,       A16S,       9,          1,          6,          6,2,20050119,       1843,   -56.0000,   -33.6337,       2816,  1700.5,   0.6001,  34.6880,2,  34.6878,2,    210.6,2,   211.1,2,  112.98,2,   31.99,2,    0.00,2,    2.22,2,   0.531,2,   0.250,2,   0.027,2,  2257.9,2,  2353.8,2,  -999.0,9,   20.00,   7.6023,2,    25.00,-999.000,9, -999.00,   1.930,2,   8.034,2, -999.00,9,  -999.0,9,  -999.0,   8.412,2,   0.007,   0.557,3, -999.00,9, 1700.50,-999.0000,9,-999.0000,9,-999.0000,9,-999.0000,9,-999.0000,9,-999.0000,9,   0.5064,      0.001,   0.240,     -999.0,          9,     -999.0,          9,-999.000,          9