BOTTLE,20220818CCHSIOAMB
EXPOCODE,SECT_ID,STNNBR,CASTNO,SAMPNO,BTLNBR,BTLNBR_FLAG_W,DATE,TIME,LATITUDE,LONGITUDE,DEPTH,CTDPRS,CTDTMP,CTDSAL,CTDSAL_FLAG_W,SALNTY,SALNTY_FLAG_W,CTDOXY,CTDOXY_FLAG_W,OXYGEN,OXYGEN_FLAG_W,SILCAT,SILCAT_FLAG_W,NITRAT,NITRAT_FLAG_W,NITRIT,NITRIT_FLAG_W,PHSPHT,PHSPHT_FLAG_W,CFC-11,CFC-11_FLAG_W,CFC-12,CFC-12_FLAG_W,CFC113,CFC113_FLAG_W,TCARBN,TCARBN_FLAG_W,ALKALI,ALKALI_FLAG_W,PCO2,PCO2_FLAG_W,PCO2TMP,PH_SWS,PH_SWS_FLAG_W,PH_TMP,TRITUM,TRITUM_FLAG_W,TRITER,HELIUM,HELIUM_FLAG_W,DELHE3,DELHE3_FLAG_W,DELC13,DELC13_FLAG_W,DELC14,DELC14_FLAG_W,C14ERR,NEON,NEON_FLAG_W,NEONER,CCL4,CCL4_FLAG_W,DOC,DOC_FLAG_W,CTDRAW,CDOM325,CDOM325_FLAG_W,CDOM340,CDOM340_FLAG_W,CDOM380,CDOM380_FLAG_W,CDOM412,CDOM412_FLAG_W,CDOMSL,CDOMSL_FLAG_W,CDOMSN,CDOMSN_FLAG_W,THETA,HELIER,DELHER,CH3CL,CH3CL_FLAG_W,CH3BR,CH3BR_FLAG_W,CH3I,CH3I_FLAG_W
,,,,,,,,,,,METERS,DBAR,ITS-90,PSS-78,,PSS-78,,UMOL/KG,,UMOL/KG,,UMOL/KG,,UMOL/KG,,UMOL/KG,,UMOL/KG,,PMOL/KG,,PMOL/KG,,PMOL/KG,,UMOL/KG,,UMOL/KG,,UATM,,DEG C,,,DEG C,TU,,TU,NMOL/KG,,PERCNT,,/MILLE,,/MILLE,,/MILLE,NMOL/KG,,NMOL/KG,PMOL/KG,,UMOL/KG,,DBAR,1/M,,1/M,,1/M,,1/M,,1/NM,,1/NM,,DEG C,NMOL/KG,PERCNT,PMOL/KG,,PMOL/KG,,PMOL/KG,
 33RO200501,       A16S,      47,          1,          7,          7,2,20050130,       0533,   -38.9998,   -27.1665,       4215,  2697.1,   2.7073,  34.8605,2,  34.8613,2,    227.3,2,   226.5,2,   49.95,2,   24.34,2,    0.00,2,    1.60,2,   0.039,2,   0.017,2,   0.001,2,  2227.4,4,  -999.0,5,  -999.0,9,   20.00,   7.6837,2,    25.00,-999.000,9, -999.00,-999.000,9,-999.000,9, -999.00,9,  -999.0,9,  -999.0,-999.000,9,-999.000,   0.156,3, -999.00,9, 2697.10,-999.0000,9,-999.0000,9,-999.0000,9,-999.0000,9,-999.0000,9,-999.0000,9,   2.4938,     -999.0,-999.000,     -999.0,          9,     -999.0,          9,-999.000,          9
 33RO200501,       A16S,      47,          1,          6,          6,2,20050130,       0533,   -38.9998,   -27.1665,       4215,  2876.4,   2.5763,  34.8599,2,  34.8595,2,    229.0,2,   228.5,2,   52.21,2,   24.32,2,    0.00,2,    1.60,2,-999.000,9,-999.000,9,-999.000,9,  2202.6,2,  -999.0,5,  -999.0,9,   20.00,   7.6946,2,    25.00,-999.000,9, -999.00,-999.000,9,-999.000,9, -999.00,9,  -999.0,9,  -999.0,-999.000,9,-999.000,-999.000,9,   39.71,2, 2876.40,   0.1540,3,   0.1140,3,   0.0640,3,   0.0440,3,   0.0137,3,   0.0148,3,   2.3476,     -999.0,-999.000,     -999.0,          9,     -999.0,          9,-999.000,          9
 33RO200501,       A16S,      47,          1,          5,          5,2,20050130,       0533,   -38.9998,   -27.1665,       4215,  3098.2,   2.2736,  34.8401,2,  34.8406,2,    228.1,2,   227.4,2,   60.54,2,   25.09,2,    0.00,2,    1.66,2,   0.037,6,   0.017,6,   0.001,6,  2210.7,2,  -999.0,5,  -999.0,9,   20.00,   7.6829,2,    25.00,-999.000,9, -999.00,-999.000,9,-999.000,9, -999.00,9,  -999.0,9,  -999.0,-999.000,9,-999.000,   0.122,3, -999.00,9, 3098.20,-999.0000,9,-999.0000,9,-999.0000,9,-999.0000,9,-999.0000,9,-999.0000,9,   2.0291,     -999.0,-999.000,     -999.0,          9,     -999.0,          9,-999.000,          9
 33RO200501,       A16S,      47,          1,          4,          4,2,20050130,       0533,   -38.9998,   -27.1665,       4215,  3300.3,   1.9526,  34.8116,2,  34.8119,2,    224.4,2,   223.7,2,   71.95,6,   26.41,6,    0.00,6,    1.78,6,   0.047,2,   0.023,2,   0.000,2,  2223.2,2,  2338.0,2,  -999.0,9,   20.00,   7.6703,2,    25.00,-999.000,9, -999.00,-999.000,9,-999.000,9, -999.00,9,  -999.0,9,  -999.0,-999.000,9,-999.000,   0.122,3,   38.86,2, 3300.30,-999.0000,9,-999.0000,9,-999.0000,9,-999.0000,9,-999.0000,9,-999.0000,9,   1.6951,     -999.0,-999.000,     -999.0,          9,     -999.0,          9,-999.000,          9
 33RO200501,       A16S,      47,          1,          3,          3,2,20050130,       0533,   -38.9998,   -27.1665,       4215,  3549.9,   1.5211,  34.7711,2,  34.7710,2,    220.1,2,   200.2,3,   88.71,6,   28.45,6,    0.00,6,    1.94,6,   0.072,2,   0.033,2,   0.000,2,  2259.8,4,  2345.5,2,  -999.0,9,   20.00,   7.6457,2,    25.00,-999.000,9, -999.00,-999.000,9,-999.000,9, -999.00,9,  -999.0,9,  -999.0,-999.000,9,-999.000,   0.141,3, -999.00,9, 3549.90,-999.0000,9,-999.0000,9,-999.0000,9,-999.0000,9,-999.0000,9,-999.0000,9,   1.2488,     -999.0,-999.000,     -999.0,          9,     -999.0,          9,-999.000,          9
 33RO200501,       A16S,      47,          1,          2,          2,2,20050130,       0533,   -38.9998,   -27.1665,       4215,  3851.0,   1.0805,  34.7326,2,  34.7337,2,    215.7,2,   215.5,2,  103.39,6,   30.19,6,    0.00,6,    2.08,6,   0.114,2,   0.058,2,  -0.002,2,  2250.5,2,  2353.9,6,  -999.0,9,   20.00,   7.6595,6,    25.00,-999.000,9, -999.00,-999.000,9,-999.000,9, -999.00,9,  -999.0,9,  -999.0,-999.000,9,-999.000,   0.233,3,   38.82,2, 3851.00,   0.2110,3,   0.1620,3,   0.0880,3,   0.0590,3,   0.0143,3,   0.0150,3,   0.7888,     -999.0,-999.000,     -999.0,          9,     -999.0,          9,-999.000,          9
 33RO200501,       A16S,      47,          1,          1,          1,2,20050130,       0533,   -38.9998,   -27.1665,       4215,  4186.2,   0.6159,  34.6942,2,  34.6946,2,    214.9,2,   214.5,2,  118.91,6,   31.88,6,    0.00,6,    2.21,6,   0.203,2,   0.099,2,   0.007,2,  2269.2,2,  2358.2,2,  -999.0,9,   20.00,   7.6106,2,    25.00,-999.000,9, -999.00,-999.000,9,-999.000,9, -999.00,9,  -999.0,9,  -999.0,-999.000,9,-999.000,   0.336,3,   38.35,2, 4186.20,-999.0000,9,-999.0000,9,-999.0000,9,-999.0000,9,-999.0000,9,-999.0000,9,   0.3024,     -999.0,-999.000,     -999.0,          9,     -999.0,          9,-999.000,          9