BOTTLE,20220818CCHSIOAMB
EXPOCODE,SECT_ID,STNNBR,CASTNO,SAMPNO,BTLNBR,BTLNBR_FLAG_W,DATE,TIME,LATITUDE,LONGITUDE,DEPTH,CTDPRS,CTDTMP,CTDSAL,CTDSAL_FLAG_W,SALNTY,SALNTY_FLAG_W,CTDOXY,CTDOXY_FLAG_W,OXYGEN,OXYGEN_FLAG_W,SILCAT,SILCAT_FLAG_W,NITRAT,NITRAT_FLAG_W,NITRIT,NITRIT_FLAG_W,PHSPHT,PHSPHT_FLAG_W,CFC-11,CFC-11_FLAG_W,CFC-12,CFC-12_FLAG_W,CFC113,CFC113_FLAG_W,TCARBN,TCARBN_FLAG_W,ALKALI,ALKALI_FLAG_W,PCO2,PCO2_FLAG_W,PCO2TMP,PH_SWS,PH_SWS_FLAG_W,PH_TMP,TRITUM,TRITUM_FLAG_W,TRITER,HELIUM,HELIUM_FLAG_W,DELHE3,DELHE3_FLAG_W,DELC13,DELC13_FLAG_W,DELC14,DELC14_FLAG_W,C14ERR,NEON,NEON_FLAG_W,NEONER,CCL4,CCL4_FLAG_W,DOC,DOC_FLAG_W,CTDRAW,CDOM325,CDOM325_FLAG_W,CDOM340,CDOM340_FLAG_W,CDOM380,CDOM380_FLAG_W,CDOM412,CDOM412_FLAG_W,CDOMSL,CDOMSL_FLAG_W,CDOMSN,CDOMSN_FLAG_W,THETA,HELIER,DELHER,CH3CL,CH3CL_FLAG_W,CH3BR,CH3BR_FLAG_W,CH3I,CH3I_FLAG_W
,,,,,,,,,,,METERS,DBAR,ITS-90,PSS-78,,PSS-78,,UMOL/KG,,UMOL/KG,,UMOL/KG,,UMOL/KG,,UMOL/KG,,UMOL/KG,,PMOL/KG,,PMOL/KG,,PMOL/KG,,UMOL/KG,,UMOL/KG,,UATM,,DEG C,,,DEG C,TU,,TU,NMOL/KG,,PERCNT,,/MILLE,,/MILLE,,/MILLE,NMOL/KG,,NMOL/KG,PMOL/KG,,UMOL/KG,,DBAR,1/M,,1/M,,1/M,,1/M,,1/NM,,1/NM,,DEG C,NMOL/KG,PERCNT,PMOL/KG,,PMOL/KG,,PMOL/KG,
 33RO200501,       A16S,      11,          1,         31,         31,2,20050120,       0452,   -55.3327,   -34.5317,       1724,     9.8,   2.7511,  33.8112,2,  33.8111,2,    328.3,2,   322.3,2,    1.64,2,   19.05,2,    0.28,2,    1.26,2,   5.819,2,   3.204,2,   0.507,2,  2122.1,6,  -999.0,5,  -999.0,9,   20.00,   7.7982,6,    25.00,-999.000,9, -999.00,-999.000,9,-999.000,9,    1.97,2,   -82.0,2,     3.3,-999.000,9,-999.000,   6.741,4,   49.99,2,    9.80,-999.0000,9,-999.0000,9,-999.0000,9,-999.0000,9,-999.0000,9,-999.0000,9,   2.7505,     -999.0,-999.000,     -999.0,          9,     -999.0,          9,-999.000,          9
 33RO200501,       A16S,      11,          1,         30,         30,2,20050120,       0452,   -55.3327,   -34.5317,       1724,    30.1,   2.7001,  33.8181,2,  33.8171,2,    328.5,2,   331.5,2,    2.31,2,   19.42,2,    0.28,2,    1.30,2,-999.000,9,-999.000,9,-999.000,9,  2125.5,2,  2281.9,2,  -999.0,9,   20.00,   7.7902,2,    25.00,-999.000,9, -999.00,-999.000,9,-999.000,9,    1.94,2,   -78.6,2,     3.2,-999.000,9,-999.000,-999.000,9,   50.59,2,   30.10,-999.0000,9,-999.0000,9,-999.0000,9,-999.0000,9,-999.0000,9,-999.0000,9,   2.6984,     -999.0,-999.000,     -999.0,          9,     -999.0,          9,-999.000,          9
 33RO200501,       A16S,      11,          1,         29,         29,2,20050120,       0452,   -55.3327,   -34.5317,       1724,    49.5,   2.4273,  33.8306,2,  33.8285,2,    328.8,2,   332.0,2,    4.43,2,   20.06,2,    0.28,2,    1.36,2,-999.000,9,-999.000,9,-999.000,9,  2131.3,2,  2283.4,2,  -999.0,9,   20.00,   7.7797,2,    25.00,-999.000,9, -999.00,-999.000,9,-999.000,9,    1.45,2,   -94.5,2,     3.3,-999.000,9,-999.000,-999.000,9, -999.00,9,   49.50,-999.0000,9,-999.0000,9,-999.0000,9,-999.0000,9,-999.0000,9,-999.0000,9,   2.4246,     -999.0,-999.000,     -999.0,          9,     -999.0,          9,-999.000,          9
 33RO200501,       A16S,      11,          1,         28,         28,2,20050120,       0452,   -55.3327,   -34.5317,       1724,    70.3,   1.2081,  33.9068,2,  33.9049,2,    329.4,2,   329.5,2,   23.56,2,   24.01,2,    0.27,2,    1.71,2,   6.103,2,   3.280,2,   0.537,2,  2159.2,2,  2279.1,2,  -999.0,9,   20.00,   7.7084,2,    25.00,-999.000,9, -999.00,-999.000,9,-999.000,9,    1.52,2,   -82.5,2,     3.0,-999.000,9,-999.000,   6.424,4,   46.03,2,   70.30,-999.0000,9,-999.0000,9,-999.0000,9,-999.0000,9,-999.0000,9,-999.0000,9,   1.2050,     -999.0,-999.000,     -999.0,          9,     -999.0,          9,-999.000,          9
 33RO200501,       A16S,      11,          1,         27,         27,2,20050120,       0452,   -55.3327,   -34.5317,       1724,    91.5,   0.4022,  33.9146,2,  33.9136,2,    317.0,2,   319.1,2,   30.32,2,   26.53,2,    0.27,2,    1.92,2,-999.000,9,-999.000,9,-999.000,9,  2173.3,2,  2278.5,2,  -999.0,9,   20.00,-999.0000,5,    25.00,-999.000,9, -999.00,-999.000,9,-999.000,9,    1.27,2,   -84.9,2,     2.7,-999.000,9,-999.000,-999.000,9, -999.00,9,   91.50,-999.0000,9,-999.0000,9,-999.0000,9,-999.0000,9,-999.0000,9,-999.0000,9,   0.3988,     -999.0,-999.000,     -999.0,          9,     -999.0,          9,-999.000,          9
 33RO200501,       A16S,      11,          1,         26,         26,2,20050120,       0452,   -55.3327,   -34.5317,       1724,   114.7,   0.3432,  33.9797,2,  33.9847,2,    307.5,2,   308.3,2,   37.62,2,   28.18,2,    0.29,2,    2.00,2,-999.000,9,-999.000,9,-999.000,9,  2183.2,2,  2280.3,2,  -999.0,9,   20.00,   7.6457,2,    25.00,-999.000,9, -999.00,-999.000,9,-999.000,9,    1.23,2,   -87.0,2,     3.3,-999.000,9,-999.000,-999.000,9,   43.80,2,  114.70,-999.0000,9,-999.0000,9,-999.0000,9,-999.0000,9,-999.0000,9,-999.0000,9,   0.3388,     -999.0,-999.000,     -999.0,          9,     -999.0,          9,-999.000,          9
 33RO200501,       A16S,      11,          1,         25,         25,2,20050120,       0452,   -55.3327,   -34.5317,       1724,   140.0,   0.7135,  34.0697,2,  34.0723,2,    290.5,2,   284.2,2,   43.22,2,   30.20,2,    0.24,2,    2.09,2,-999.000,9,-999.000,9,-999.000,9,  2192.5,2,  2286.3,2,  -999.0,9,   20.00,   7.6231,2,    25.00,-999.000,9, -999.00,-999.000,9,-999.000,9,    1.17,2,   -96.3,2,     3.2,-999.000,9,-999.000,-999.000,9, -999.00,9,  140.00,-999.0000,9,-999.0000,9,-999.0000,9,-999.0000,9,-999.0000,9,-999.0000,9,   0.7077,     -999.0,-999.000,     -999.0,          9,     -999.0,          9,-999.000,          9
 33RO200501,       A16S,      11,          1,         24,         24,2,20050120,       0452,   -55.3327,   -34.5317,       1724,   164.8,   1.1605,  34.1584,2,  34.1595,2,    255.1,2,   257.5,2,   48.60,2,   32.06,2,    0.19,2,    2.17,2,   4.038,2,   2.137,2,   0.338,2,  2204.7,2,  2291.9,2,  -999.0,9,   20.00,   7.6036,2,    25.00,-999.000,9, -999.00,-999.000,9,-999.000,9,    0.98,2,   -92.3,2,     2.9,-999.000,9,-999.000,   4.067,3,   42.27,2,  164.80,-999.0000,9,-999.0000,9,-999.0000,9,-999.0000,9,-999.0000,9,-999.0000,9,   1.1530,     -999.0,-999.000,     -999.0,          9,     -999.0,          9,-999.000,          9
 33RO200501,       A16S,      11,          1,         23,         23,2,20050120,       0452,   -55.3327,   -34.5317,       1724,   191.4,   1.3889,  34.2176,2,  34.2199,2,    237.3,2,   242.9,2,   52.71,2,   32.81,2,    0.15,2,    2.21,2,-999.000,9,-999.000,9,-999.000,9,  2215.6,2,  -999.0,5,  -999.0,9,   20.00,   7.5900,2,    25.00,-999.000,9, -999.00,-999.000,9,-999.000,9,    0.91,2,   -93.2,2,     2.7,-999.000,9,-999.000,-999.000,9,   41.14,2,  191.40,-999.0000,9,-999.0000,9,-999.0000,9,-999.0000,9,-999.0000,9,-999.0000,9,   1.3798,     -999.0,-999.000,     -999.0,          9,     -999.0,          9,-999.000,          9
 33RO200501,       A16S,      11,          1,         22,         22,2,20050120,       0452,   -55.3327,   -34.5317,       1724,   214.8,   1.7161,  34.2912,2,  34.2933,2,    227.0,2,   223.2,2,   56.96,2,   33.68,2,    0.07,2,    2.25,2,-999.000,9,-999.000,9,-999.000,9,  2222.4,2,  2302.7,2,  -999.0,9,   20.00,   7.5765,2,    25.00,-999.000,9, -999.00,-999.000,9,-999.000,9,    0.83,2,  -103.7,2,     3.3,-999.000,9,-999.000,-999.000,9,   41.45,2,  214.80,-999.0000,9,-999.0000,9,-999.0000,9,-999.0000,9,-999.0000,9,-999.0000,9,   1.7052,     -999.0,-999.000,     -999.0,          9,     -999.0,          9,-999.000,          9
 33RO200501,       A16S,      11,          1,         21,         21,2,20050120,       0452,   -55.3327,   -34.5317,       1724,   240.6,   1.8416,  34.3335,2,  34.3322,2,    214.2,2,   213.9,2,   59.01,2,   33.97,2,    0.06,2,    2.28,2,   2.437,2,   1.263,2,   0.182,2,  2229.5,2,  2307.5,2,  -999.0,9,   20.00,   7.5709,2,    25.00,-999.000,9, -999.00,-999.000,9,-999.000,9,    0.78,2,  -105.6,2,     3.1,-999.000,9,-999.000,   2.529,3, -999.00,9,  240.60,-999.0000,9,-999.0000,9,-999.0000,9,-999.0000,9,-999.0000,9,-999.0000,9,   1.8291,     -999.0,-999.000,     -999.0,          9,     -999.0,          9,-999.000,          9
 33RO200501,       A16S,      11,          1,         20,         20,2,20050120,       0452,   -55.3327,   -34.5317,       1724,   275.9,   1.9506,  34.3783,2,  34.3773,2,    202.1,2,   204.1,2,   62.04,2,   34.06,2,    0.04,2,    2.30,2,-999.000,9,-999.000,9,-999.000,9,  2233.2,2,  2309.7,2,  -999.0,9,   20.00,   7.5651,2,    25.00,-999.000,9, -999.00,-999.000,9,-999.000,9,    0.75,2,  -113.4,2,     3.0,-999.000,9,-999.000,-999.000,9,   41.06,2,  275.90,-999.0000,9,-999.0000,9,-999.0000,9,-999.0000,9,-999.0000,9,-999.0000,9,   1.9358,     -999.0,-999.000,     -999.0,          9,     -999.0,          9,-999.000,          9
 33RO200501,       A16S,      11,          1,         19,         19,2,20050120,       0452,   -55.3327,   -34.5317,       1724,   325.3,   2.0534,  34.4383,2,  34.4366,2,    190.6,2,   192.5,2,   66.74,2,   34.28,2,    0.02,2,    2.32,2,-999.000,9,-999.000,9,-999.000,9,  2242.1,2,  2318.2,2,  -999.0,9,   20.00,   7.5634,2,    25.00,-999.000,9, -999.00,-999.000,9,-999.000,9,    0.69,2,  -119.2,2,     3.3,-999.000,9,-999.000,-999.000,9, -999.00,9,  325.30,-999.0000,9,-999.0000,9,-999.0000,9,-999.0000,9,-999.0000,9,-999.0000,9,   2.0355,     -999.0,-999.000,     -999.0,          9,     -999.0,          9,-999.000,          9
 33RO200501,       A16S,      11,          1,         18,         18,2,20050120,       0452,   -55.3327,   -34.5317,       1724,   375.2,   2.0183,  34.4734,2,  34.4751,2,    187.5,2,   188.4,2,   71.14,2,   34.32,2,    0.02,2,    2.33,2,   1.339,2,   0.696,2,   0.094,2,  2245.3,2,  2323.3,2,  -999.0,9,   20.00,   7.5602,2,    25.00,-999.000,9, -999.00,-999.000,9,-999.000,9,    0.63,2,  -121.1,2,     3.3,-999.000,9,-999.000,   1.536,3,   41.36,2,  375.20,-999.0000,9,-999.0000,9,-999.0000,9,-999.0000,9,-999.0000,9,-999.0000,9,   1.9977,     -999.0,-999.000,     -999.0,          9,     -999.0,          9,-999.000,          9
 33RO200501,       A16S,      11,          1,         17,         17,2,20050120,       0452,   -55.3327,   -34.5317,       1724,   425.5,   2.1048,  34.5172,2,  34.5109,2,    181.1,2,   181.6,2,   74.40,2,   34.39,2,    0.02,2,    2.32,2,-999.000,9,-999.000,9,-999.000,9,  2250.7,2,  2318.4,2,  -999.0,9,   20.00,   7.5637,2,    25.00,-999.000,9, -999.00,-999.000,9,-999.000,9,    0.55,2,  -139.0,2,     2.9,-999.000,9,-999.000,-999.000,9, -999.00,9,  425.50,-999.0000,9,-999.0000,9,-999.0000,9,-999.0000,9,-999.0000,9,-999.0000,9,   2.0809,     -999.0,-999.000,     -999.0,          9,     -999.0,          9,-999.000,          9
 33RO200501,       A16S,      11,          1,         16,         16,2,20050120,       0452,   -55.3327,   -34.5317,       1724,   475.1,   2.1000,  34.5489,2,  34.5466,2,    178.6,2,   178.4,2,   77.63,2,   34.34,2,    0.01,2,    2.32,2,-999.000,9,-999.000,9,-999.000,9,  2254.2,2,  2324.4,2,  -999.0,9,   20.00,   7.5600,2,    25.00,-999.000,9, -999.00,-999.000,9,-999.000,9,    0.49,2,  -149.2,2,     3.2,-999.000,9,-999.000,-999.000,9,   41.25,2,  475.10,-999.0000,9,-999.0000,9,-999.0000,9,-999.0000,9,-999.0000,9,-999.0000,9,   2.0731,     -999.0,-999.000,     -999.0,          9,     -999.0,          9,-999.000,          9
 33RO200501,       A16S,      11,          1,         15,         15,2,20050120,       0452,   -55.3327,   -34.5317,       1724,   551.5,   2.1176,  34.5942,2,  34.5930,2,    175.4,2,   175.3,2,   80.72,2,   34.02,2,    0.01,2,    2.31,2,   0.567,2,   0.297,2,   0.034,2,  2256.3,2,  2331.8,2,  -999.0,9,   20.00,   7.5640,2,    25.00,-999.000,9, -999.00,-999.000,9,-999.000,9,    0.45,2,  -149.4,2,     3.6,-999.000,9,-999.000,   0.713,3,   41.14,2,  551.50,-999.0000,9,-999.0000,9,-999.0000,9,-999.0000,9,-999.0000,9,-999.0000,9,   2.0859,     -999.0,-999.000,     -999.0,          9,     -999.0,          9,-999.000,          9
 33RO200501,       A16S,      11,          1,         14,         14,2,20050120,       0452,   -55.3327,   -34.5317,       1724,   651.1,   2.1102,  34.6400,2,  34.6384,2,    173.9,2,   172.8,2,   83.34,2,   33.40,2,    0.01,2,    2.28,2,-999.000,9,-999.000,9,-999.000,9,  2259.5,2,  2335.5,2,  -999.0,9,   20.00,   7.5701,2,    25.00,-999.000,9, -999.00,-999.000,9,-999.000,9,    0.46,2,  -152.2,2,     2.8,-999.000,9,-999.000,-999.000,9, -999.00,9,  651.10,-999.0000,9,-999.0000,9,-999.0000,9,-999.0000,9,-999.0000,9,-999.0000,9,   2.0722,     -999.0,-999.000,     -999.0,          9,     -999.0,          9,-999.000,          9
 33RO200501,       A16S,      11,          1,         13,         13,2,20050120,       0452,   -55.3327,   -34.5317,       1724,   750.5,   2.0336,  34.6610,2,  34.6601,2,    174.6,2,   173.5,2,   85.64,2,   32.93,2,    0.01,2,    2.26,2,-999.000,9,-999.000,9,-999.000,9,  2262.8,2,  -999.0,5,  -999.0,9,   20.00,   7.5761,2,    25.00,-999.000,9, -999.00,-999.000,9,-999.000,9,    0.47,2,  -151.4,2,     2.8,-999.000,9,-999.000,-999.000,9,   41.02,2,  750.50,-999.0000,9,-999.0000,9,-999.0000,9,-999.0000,9,-999.0000,9,-999.0000,9,   1.9897,     -999.0,-999.000,     -999.0,          9,     -999.0,          9,-999.000,          9
 33RO200501,       A16S,      11,          1,         12,         12,2,20050120,       0452,   -55.3327,   -34.5317,       1724,   848.7,   1.9432,  34.6755,2,  34.6748,2,    177.2,2,   177.3,2,   88.66,2,   32.63,2,    0.01,2,    2.25,2,   0.294,2,   0.164,2,   0.022,2,  2259.9,2,  -999.0,5,  -999.0,9,   20.00,   7.5807,2,    25.00,-999.000,9, -999.00,-999.000,9,-999.000,9,    0.46,2,  -156.1,2,     2.7,-999.000,9,-999.000,   0.430,3, -999.00,9,  848.70,-999.0000,9,-999.0000,9,-999.0000,9,-999.0000,9,-999.0000,9,-999.0000,9,   1.8935,     -999.0,-999.000,     -999.0,          9,     -999.0,          9,-999.000,          9
 33RO200501,       A16S,      11,          1,         11,         11,2,20050120,       0452,   -55.3327,   -34.5317,       1724,   950.2,   1.8504,  34.6914,2,  34.6908,2,    179.6,2,   179.6,2,   92.78,2,   32.38,2,    0.01,2,    2.23,2,-999.000,9,-999.000,9,-999.000,9,  2260.4,6,  2343.8,2,  -999.0,9,   20.00,   7.5853,6,    25.00,-999.000,9, -999.00,-999.000,9,-999.000,9,    0.49,2,  -155.0,2,     2.6,-999.000,9,-999.000,-999.000,9,   39.66,2,  950.20,-999.0000,9,-999.0000,9,-999.0000,9,-999.0000,9,-999.0000,9,-999.0000,9,   1.7945,     -999.0,-999.000,     -999.0,          9,     -999.0,          9,-999.000,          9
 33RO200501,       A16S,      11,          1,         10,         10,2,20050120,       0452,   -55.3327,   -34.5317,       1724,  1050.5,   1.7252,  34.6954,2,  34.6969,2,    183.4,2,   183.7,2,   95.40,2,   32.32,2,    0.01,2,    2.22,2,-999.000,9,-999.000,9,-999.000,9,  2260.2,2,  2343.1,2,  -999.0,9,   20.00,   7.5928,2,    25.00,-999.000,9, -999.00,-999.000,9,-999.000,9,    0.46,2,  -155.7,2,     2.6,-999.000,9,-999.000,-999.000,9, -999.00,9, 1050.50,-999.0000,9,-999.0000,9,-999.0000,9,-999.0000,9,-999.0000,9,-999.0000,9,   1.6636,     -999.0,-999.000,     -999.0,          9,     -999.0,          9,-999.000,          9
 33RO200501,       A16S,      11,          1,          9,          9,2,20050120,       0452,   -55.3327,   -34.5317,       1724,  1152.4,   1.5768,  34.6888,2,  34.6882,2,    188.6,2,   189.0,2,   95.70,2,   32.31,2,    0.01,2,    2.22,2,-999.000,9,-999.000,9,-999.000,9,  2259.2,2,  2344.4,2,  -999.0,9,   20.00,   7.5937,2,    25.00,-999.000,9, -999.00,-999.000,9,-999.000,9,    0.50,2,  -151.2,2,     2.9,-999.000,9,-999.000,-999.000,9,   39.72,2, 1152.40,-999.0000,9,-999.0000,9,-999.0000,9,-999.0000,9,-999.0000,9,-999.0000,9,   1.5097,     -999.0,-999.000,     -999.0,          9,     -999.0,          9,-999.000,          9
 33RO200501,       A16S,      11,          1,          8,          8,2,20050120,       0452,   -55.3327,   -34.5317,       1724,  1250.0,   1.5010,  34.6979,2,  34.6977,2,    189.5,2,   190.9,2,   96.80,2,   32.09,2,    0.01,2,    2.21,2,   0.390,2,   0.214,2,   0.027,2,  2265.9,4,  2344.2,2,  -999.0,9,   20.00,   7.5952,2,    25.00,-999.000,9, -999.00,-999.000,9,-999.000,9,    0.52,2,  -149.6,2,     2.6,-999.000,9,-999.000,   0.496,3, -999.00,9, 1250.00,-999.0000,9,-999.0000,9,-999.0000,9,-999.0000,9,-999.0000,9,-999.0000,9,   1.4280,     -999.0,-999.000,     -999.0,          9,     -999.0,          9,-999.000,          9
 33RO200501,       A16S,      11,          1,          7,          7,2,20050120,       0452,   -55.3327,   -34.5317,       1724,  1349.2,   1.4441,  34.7072,2,  34.7066,2,    191.8,2,   191.8,2,   99.03,2,   31.82,2,    0.01,2,    2.21,2,-999.000,9,-999.000,9,-999.000,9,  2259.2,2,  2345.5,2,  -999.0,9,   20.00,   7.6011,2,    25.00,-999.000,9, -999.00,-999.000,9,-999.000,9,    0.53,2,  -159.1,2,     2.4,-999.000,9,-999.000,-999.000,9,   39.87,2, 1349.20,-999.0000,9,-999.0000,9,-999.0000,9,-999.0000,9,-999.0000,9,-999.0000,9,   1.3647,     -999.0,-999.000,     -999.0,          9,     -999.0,          9,-999.000,          9
 33RO200501,       A16S,      11,          1,          6,          6,2,20050120,       0452,   -55.3327,   -34.5317,       1724,  1450.4,   1.3588,  34.7082,2,  34.7086,2,    193.9,2,   194.1,2,  101.68,2,   31.72,2,    0.00,2,    2.21,2,-999.000,9,-999.000,9,-999.000,9,  2259.6,2,  2353.5,2,  -999.0,9,   20.00,   7.6006,2,    25.00,-999.000,9, -999.00,-999.000,9,-999.000,9,    0.53,2,  -155.3,2,     2.8,-999.000,9,-999.000,-999.000,9, -999.00,9, 1450.40,-999.0000,9,-999.0000,9,-999.0000,9,-999.0000,9,-999.0000,9,-999.0000,9,   1.2732,     -999.0,-999.000,     -999.0,          9,     -999.0,          9,-999.000,          9
 33RO200501,       A16S,      11,          1,          5,          5,2,20050120,       0452,   -55.3327,   -34.5317,       1724,  1548.8,   1.2781,  34.7087,2,  34.7086,2,    196.0,2,   196.2,2,  105.07,2,   31.78,2,    0.01,2,    2.21,2,   0.288,2,   0.156,2,   0.007,2,  2261.0,2,  2353.8,2,  -999.0,9,   20.00,   7.6011,2,    25.00,-999.000,9, -999.00,-999.000,9,-999.000,9,    0.55,2,  -153.5,2,     3.1,-999.000,9,-999.000,   0.378,3,   40.32,2, 1548.80,-999.0000,9,-999.0000,9,-999.0000,9,-999.0000,9,-999.0000,9,-999.0000,9,   1.1864,     -999.0,-999.000,     -999.0,          9,     -999.0,          9,-999.000,          9
 33RO200501,       A16S,      11,          1,          4,          4,2,20050120,       0452,   -55.3327,   -34.5317,       1724,  1649.5,   1.1084,  34.7058,2,  34.7053,2,    199.8,2,   201.0,2,  109.95,6,   31.91,6,    0.00,6,    2.21,6,-999.000,9,-999.000,9,-999.000,9,  2260.6,2,  2356.3,2,  -999.0,9,   20.00,   7.6063,2,    25.00,-999.000,9, -999.00,-999.000,9,-999.000,9,    0.40,3,  -160.0,2,     2.6,-999.000,9,-999.000,-999.000,9, -999.00,9, 1649.50,-999.0000,9,-999.0000,9,-999.0000,9,-999.0000,9,-999.0000,9,-999.0000,9,   1.0116,     -999.0,-999.000,     -999.0,          9,     -999.0,          9,-999.000,          9
 33RO200501,       A16S,      11,          1,          3,          3,2,20050120,       0452,   -55.3327,   -34.5317,       1724,  1750.8,   0.9978,  34.7036,2,  34.7035,2,    202.5,2,   202.7,2,  111.85,6,   32.01,6,    0.00,6,    2.22,6,-999.000,9,-999.000,9,-999.000,9,  2262.2,2,  2355.3,2,  -999.0,9,   20.00,   7.6065,2,    25.00,-999.000,9, -999.00,-999.000,9,-999.000,9,    0.52,2,  -151.9,2,     2.8,-999.000,9,-999.000,-999.000,9,   39.24,2, 1750.80,-999.0000,9,-999.0000,9,-999.0000,9,-999.0000,9,-999.0000,9,-999.0000,9,   0.8951,     -999.0,-999.000,     -999.0,          9,     -999.0,          9,-999.000,          9