BOTTLE,20220818CCHSIOAMB
EXPOCODE,SECT_ID,STNNBR,CASTNO,SAMPNO,BTLNBR,BTLNBR_FLAG_W,DATE,TIME,LATITUDE,LONGITUDE,DEPTH,CTDPRS,CTDTMP,CTDSAL,CTDSAL_FLAG_W,SALNTY,SALNTY_FLAG_W,CTDOXY,CTDOXY_FLAG_W,OXYGEN,OXYGEN_FLAG_W,SILCAT,SILCAT_FLAG_W,NITRAT,NITRAT_FLAG_W,NITRIT,NITRIT_FLAG_W,PHSPHT,PHSPHT_FLAG_W,CFC-11,CFC-11_FLAG_W,CFC-12,CFC-12_FLAG_W,CFC113,CFC113_FLAG_W,TCARBN,TCARBN_FLAG_W,ALKALI,ALKALI_FLAG_W,PCO2,PCO2_FLAG_W,PCO2TMP,PH_SWS,PH_SWS_FLAG_W,PH_TMP,TRITUM,TRITUM_FLAG_W,TRITER,HELIUM,HELIUM_FLAG_W,DELHE3,DELHE3_FLAG_W,DELC13,DELC13_FLAG_W,DELC14,DELC14_FLAG_W,C14ERR,NEON,NEON_FLAG_W,NEONER,CCL4,CCL4_FLAG_W,DOC,DOC_FLAG_W,CTDRAW,CDOM325,CDOM325_FLAG_W,CDOM340,CDOM340_FLAG_W,CDOM380,CDOM380_FLAG_W,CDOM412,CDOM412_FLAG_W,CDOMSL,CDOMSL_FLAG_W,CDOMSN,CDOMSN_FLAG_W,THETA,HELIER,DELHER,CH3CL,CH3CL_FLAG_W,CH3BR,CH3BR_FLAG_W,CH3I,CH3I_FLAG_W
,,,,,,,,,,,METERS,DBAR,ITS-90,PSS-78,,PSS-78,,UMOL/KG,,UMOL/KG,,UMOL/KG,,UMOL/KG,,UMOL/KG,,UMOL/KG,,PMOL/KG,,PMOL/KG,,PMOL/KG,,UMOL/KG,,UMOL/KG,,UATM,,DEG C,,,DEG C,TU,,TU,NMOL/KG,,PERCNT,,/MILLE,,/MILLE,,/MILLE,NMOL/KG,,NMOL/KG,PMOL/KG,,UMOL/KG,,DBAR,1/M,,1/M,,1/M,,1/M,,1/NM,,1/NM,,DEG C,NMOL/KG,PERCNT,PMOL/KG,,PMOL/KG,,PMOL/KG,
 33RO200501,       A16S,      27,          1,          7,          7,2,20050123,       2250,   -49.0007,   -33.3780,       4802,  2849.5,   1.0497,  34.7164,2,  34.7167,2,    203.2,2,   203.4,2,  111.17,6,   31.70,6,    0.00,6,    2.22,6,   0.152,2,   0.078,2,   0.008,2,  2259.1,2,  2358.3,2,  -999.0,9,   20.00,   7.6121,2,    25.00,-999.000,9, -999.00,-999.000,9,-999.000,9, -999.00,9,  -999.0,9,  -999.0,-999.000,9,-999.000,   0.238,3, -999.00,9, 2849.50,-999.0000,9,-999.0000,9,-999.0000,9,-999.0000,9,-999.0000,9,-999.0000,9,   0.8564,     -999.0,-999.000,     -999.0,          9,     -999.0,          9,-999.000,          9
 33RO200501,       A16S,      27,          1,          6,          6,2,20050123,       2250,   -49.0007,   -33.3780,       4802,  3148.7,   0.9910,  34.7119,2,  34.7110,2,    204.8,2,   204.5,2,  113.27,2,   31.87,2,    0.00,2,    2.23,2,   0.169,2,   0.083,2,   0.009,2,  2259.5,2,  2360.2,2,  -999.0,9,   20.00,   7.6121,2,    25.00,-999.000,9, -999.00,-999.000,9,-999.000,9, -999.00,9,  -999.0,9,  -999.0,-999.000,9,-999.000,   0.249,3,   39.81,2, 3148.70,-999.0000,9,-999.0000,9,-999.0000,9,-999.0000,9,-999.0000,9,-999.0000,9,   0.7715,     -999.0,-999.000,     -999.0,          9,     -999.0,          9,-999.000,          9
 33RO200501,       A16S,      27,          1,          5,          5,2,20050123,       2250,   -49.0007,   -33.3780,       4802,  3449.0,   0.9014,  34.7073,2,  34.7073,2,    207.7,2,   207.1,2,  115.15,2,   31.93,2,    0.00,2,    2.23,2,   0.189,2,   0.099,2,   0.008,2,  2259.6,2,  2362.2,2,  -999.0,9,   20.00,   7.6105,2,    25.00,-999.000,9, -999.00,-999.000,9,-999.000,9, -999.00,9,  -999.0,9,  -999.0,-999.000,9,-999.000,   0.273,3, -999.00,9, 3449.00,-999.0000,9,-999.0000,9,-999.0000,9,-999.0000,9,-999.0000,9,-999.0000,9,   0.6553,     -999.0,-999.000,     -999.0,          9,     -999.0,          9,-999.000,          9
 33RO200501,       A16S,      27,          1,          4,          4,2,20050123,       2250,   -49.0007,   -33.3780,       4802,  3749.0,   0.5570,  34.6896,2,  34.6890,2,    214.2,2,   215.3,2,  120.12,6,   32.32,6,    0.00,6,    2.28,6,   0.302,6,   0.155,6,   0.014,6,  2260.6,2,  2357.6,2,  -999.0,9,   20.00,   7.6145,2,    25.00,-999.000,9, -999.00,-999.000,9,-999.000,9, -999.00,9,  -999.0,9,  -999.0,-999.000,9,-999.000,   0.416,3,   39.52,2, 3749.00,-999.0000,9,-999.0000,9,-999.0000,9,-999.0000,9,-999.0000,9,-999.0000,9,   0.2903,     -999.0,-999.000,     -999.0,          9,     -999.0,          9,-999.000,          9
 33RO200501,       A16S,      27,          1,          3,          3,2,20050123,       2250,   -49.0007,   -33.3780,       4802,  4048.7,   0.4153,  34.6823,2,  34.6821,2,    218.0,2,   217.6,2,  122.26,6,   32.37,6,    0.00,6,    2.29,6,   0.359,2,   0.264,2,   0.029,2,  2261.3,2,  2359.4,2,  -999.0,9,   20.00,   7.6079,2,    25.00,-999.000,9, -999.00,-999.000,9,-999.000,9, -999.00,9,  -999.0,9,  -999.0,-999.000,9,-999.000,   0.455,3, -999.00,9, 4048.70,-999.0000,9,-999.0000,9,-999.0000,9,-999.0000,9,-999.0000,9,-999.0000,9,   0.1223,     -999.0,-999.000,     -999.0,          9,     -999.0,          9,-999.000,          9
 33RO200501,       A16S,      27,          1,          2,          2,2,20050123,       2250,   -49.0007,   -33.3780,       4802,  4399.5,   0.1658,  34.6704,2,  34.6700,2,    223.5,2,   224.5,2,  125.45,6,   32.45,6,    0.00,6,    2.31,6,   0.414,2,   0.206,2,   0.017,2,  2262.0,2,  2359.1,6,  -999.0,9,   20.00,   7.6222,6,    25.00,-999.000,9, -999.00,-999.000,9,-999.000,9, -999.00,9,  -999.0,9,  -999.0,-999.000,9,-999.000,   0.555,3,   39.74,2, 4399.50,-999.0000,9,-999.0000,9,-999.0000,9,-999.0000,9,-999.0000,9,-999.0000,9,  -0.1565,     -999.0,-999.000,     -999.0,          9,     -999.0,          9,-999.000,          9
 33RO200501,       A16S,      27,          1,          1,          1,2,20050123,       2250,   -49.0007,   -33.3780,       4802,  4942.9,   0.1699,  34.6677,2,  34.6680,2,    227.6,2,   227.2,2,  125.49,6,   32.33,6,    0.00,6,    2.31,6,   0.482,2,   0.241,2,   0.023,2,  2261.3,6,  2300.4,3,  -999.0,9,   20.00,   7.6173,2,    25.00,-999.000,9, -999.00,-999.000,9,-999.000,9, -999.00,9,  -999.0,9,  -999.0,-999.000,9,-999.000,   0.604,3,   40.32,2, 4942.90,-999.0000,9,-999.0000,9,-999.0000,9,-999.0000,9,-999.0000,9,-999.0000,9,  -0.2123,     -999.0,-999.000,     -999.0,          9,     -999.0,          9,-999.000,          9