BOTTLE,20220818CCHSIOAMB
EXPOCODE,SECT_ID,STNNBR,CASTNO,SAMPNO,BTLNBR,BTLNBR_FLAG_W,DATE,TIME,LATITUDE,LONGITUDE,DEPTH,CTDPRS,CTDTMP,CTDSAL,CTDSAL_FLAG_W,SALNTY,SALNTY_FLAG_W,CTDOXY,CTDOXY_FLAG_W,OXYGEN,OXYGEN_FLAG_W,SILCAT,SILCAT_FLAG_W,NITRAT,NITRAT_FLAG_W,NITRIT,NITRIT_FLAG_W,PHSPHT,PHSPHT_FLAG_W,CFC-11,CFC-11_FLAG_W,CFC-12,CFC-12_FLAG_W,CFC113,CFC113_FLAG_W,TCARBN,TCARBN_FLAG_W,ALKALI,ALKALI_FLAG_W,PCO2,PCO2_FLAG_W,PCO2TMP,PH_SWS,PH_SWS_FLAG_W,PH_TMP,TRITUM,TRITUM_FLAG_W,TRITER,HELIUM,HELIUM_FLAG_W,DELHE3,DELHE3_FLAG_W,DELC13,DELC13_FLAG_W,DELC14,DELC14_FLAG_W,C14ERR,NEON,NEON_FLAG_W,NEONER,CCL4,CCL4_FLAG_W,DOC,DOC_FLAG_W,CTDRAW,CDOM325,CDOM325_FLAG_W,CDOM340,CDOM340_FLAG_W,CDOM380,CDOM380_FLAG_W,CDOM412,CDOM412_FLAG_W,CDOMSL,CDOMSL_FLAG_W,CDOMSN,CDOMSN_FLAG_W,THETA,HELIER,DELHER,CH3CL,CH3CL_FLAG_W,CH3BR,CH3BR_FLAG_W,CH3I,CH3I_FLAG_W
,,,,,,,,,,,METERS,DBAR,ITS-90,PSS-78,,PSS-78,,UMOL/KG,,UMOL/KG,,UMOL/KG,,UMOL/KG,,UMOL/KG,,UMOL/KG,,PMOL/KG,,PMOL/KG,,PMOL/KG,,UMOL/KG,,UMOL/KG,,UATM,,DEG C,,,DEG C,TU,,TU,NMOL/KG,,PERCNT,,/MILLE,,/MILLE,,/MILLE,NMOL/KG,,NMOL/KG,PMOL/KG,,UMOL/KG,,DBAR,1/M,,1/M,,1/M,,1/M,,1/NM,,1/NM,,DEG C,NMOL/KG,PERCNT,PMOL/KG,,PMOL/KG,,PMOL/KG,
 33RO200501,       A16S,      11,          1,          1,          1,2,20050120,       0452,   -55.3327,   -34.5317,       1724,  1854.0,   0.9175,  34.6996,2,  34.6996,2,    204.7,2,   204.5,2,  111.80,6,   31.85,6,    0.01,6,    2.23,6,   0.388,2,   0.212,2,   0.027,2,  2260.2,6,  2352.4,2,  -999.0,9,   20.00,   7.6079,2,    25.00,-999.000,9, -999.00,-999.000,9,-999.000,9,    0.56,2,  -157.2,2,     2.6,-999.000,9,-999.000,   0.472,3, -999.00,9, 1854.00,-999.0000,9,-999.0000,9,-999.0000,9,-999.0000,9,-999.0000,9,-999.0000,9,   0.8084,     -999.0,-999.000,     -999.0,          9,     -999.0,          9,-999.000,          9
 33RO200501,       A16S,      11,          1,          2,          2,2,20050120,       0452,   -55.3327,   -34.5317,       1724,  1854.5,   0.9171,  34.6996,2,  34.6994,2,    204.7,2,   204.4,2,  112.38,6,   31.96,6,    0.01,6,    2.22,6,-999.000,9,-999.000,9,-999.000,9,  -999.0,9,  -999.0,9,  -999.0,9,   20.00,-999.0000,9,    25.00,-999.000,9, -999.00,-999.000,9,-999.000,9, -999.00,9,  -999.0,9,  -999.0,-999.000,9,-999.000,-999.000,9,   40.11,2, 1854.50,-999.0000,9,-999.0000,9,-999.0000,9,-999.0000,9,-999.0000,9,-999.0000,9,   0.8080,     -999.0,-999.000,     -999.0,          9,     -999.0,          9,-999.000,          9
 33RO200501,       A16S,      12,          1,         21,         21,2,20050120,       0816,   -55.2665,   -34.6328,       1007,     3.5,   2.8291,  33.7864,2,  33.7852,2,    333.2,2,   332.2,2,    0.91,2,   18.28,2,    0.26,2,    1.24,2,   5.799,2,   3.186,2,   0.502,2,  2114.4,6,  2286.0,6,  -999.0,9,   20.00,   7.8085,6,    25.00,-999.000,9, -999.00,-999.000,9,-999.000,9, -999.00,9,  -999.0,9,  -999.0,-999.000,9,-999.000,   6.549,4, -999.00,9,    3.50,-999.0000,9,-999.0000,9,-999.0000,9,-999.0000,9,-999.0000,9,-999.0000,9,   2.8288,     -999.0,-999.000,     66.119,          2,      4.700,          2,   1.221,          2
 33RO200501,       A16S,      12,          1,         20,         20,2,20050120,       0816,   -55.2665,   -34.6328,       1007,    20.8,   2.8032,  33.7911,2,  33.7916,2,    332.3,2,   332.9,2,    1.01,2,   18.46,2,    0.26,2,    1.25,2,-999.000,9,-999.000,9,-999.000,9,  -999.0,9,  -999.0,9,  -999.0,9,   20.00,-999.0000,9,    25.00,-999.000,9, -999.00,-999.000,9,-999.000,9, -999.00,9,  -999.0,9,  -999.0,-999.000,9,-999.000,-999.000,9, -999.00,9,   20.80,-999.0000,9,-999.0000,9,-999.0000,9,-999.0000,9,-999.0000,9,-999.0000,9,   2.8020,     -999.0,-999.000,     63.124,          2,      4.631,          2,   1.234,          2
 33RO200501,       A16S,      12,          1,         19,         19,2,20050120,       0816,   -55.2665,   -34.6328,       1007,    40.9,   2.7724,  33.7956,2,  33.7950,2,    332.4,2,   333.1,2,    1.22,2,   18.62,2,    0.26,2,    1.26,2,   5.800,2,   3.183,2,   0.508,2,  -999.0,9,  -999.0,9,  -999.0,9,   20.00,-999.0000,9,    25.00,-999.000,9, -999.00,-999.000,9,-999.000,9, -999.00,9,  -999.0,9,  -999.0,-999.000,9,-999.000,   6.507,4, -999.00,9,   40.90,   0.1500,2,   0.1150,2,   0.0570,2,   0.0360,2,   0.0164,2,   0.0169,2,   2.7700,     -999.0,-999.000,     60.579,          2,      4.859,          2,   1.287,          2
 33RO200501,       A16S,      12,          1,         18,         18,2,20050120,       0816,   -55.2665,   -34.6328,       1007,    60.7,   2.4713,  33.8054,2,  33.8051,2,    332.3,2,   332.6,2,    2.38,2,   19.32,2,    0.26,2,    1.35,2,-999.000,9,-999.000,9,-999.000,9,  -999.0,9,  -999.0,9,  -999.0,9,   20.00,-999.0000,9,    25.00,-999.000,9, -999.00,-999.000,9,-999.000,9, -999.00,9,  -999.0,9,  -999.0,-999.000,9,-999.000,-999.000,9, -999.00,9,   60.70,-999.0000,9,-999.0000,9,-999.0000,9,-999.0000,9,-999.0000,9,-999.0000,9,   2.4680,     -999.0,-999.000,     45.727,          2,      5.101,          2,   1.032,          2
 33RO200501,       A16S,      12,          1,         17,         17,2,20050120,       0816,   -55.2665,   -34.6328,       1007,    80.4,   1.3859,  33.8643,2,  33.8735,2,    327.3,2,   327.4,2,   14.90,2,   22.82,2,    0.27,2,    1.70,2,   6.061,2,   3.276,2,   0.533,2,  -999.0,9,  -999.0,9,  -999.0,9,   20.00,-999.0000,9,    25.00,-999.000,9, -999.00,-999.000,9,-999.000,9, -999.00,9,  -999.0,9,  -999.0,-999.000,9,-999.000,   6.382,4, -999.00,9,   80.40,   0.1220,2,   0.0890,2,   0.0490,2,   0.0340,2,   0.0144,2,   0.0158,2,   1.3821,     -999.0,-999.000,     -999.0,          9,     -999.0,          9,-999.000,          9
 33RO200501,       A16S,      12,          1,         16,         16,2,20050120,       0816,   -55.2665,   -34.6328,       1007,   100.5,   0.4537,  33.9152,2,  33.9191,2,    322.9,2,   323.5,2,   28.37,2,   25.54,2,    0.29,2,    1.90,2,-999.000,9,-999.000,9,-999.000,9,  -999.0,9,  -999.0,9,  -999.0,9,   20.00,-999.0000,9,    25.00,-999.000,9, -999.00,-999.000,9,-999.000,9, -999.00,9,  -999.0,9,  -999.0,-999.000,9,-999.000,-999.000,9, -999.00,9,  100.50,-999.0000,9,-999.0000,9,-999.0000,9,-999.0000,9,-999.0000,9,-999.0000,9,   0.4498,     -999.0,-999.000,     -999.0,          9,     -999.0,          9,-999.000,          9
 33RO200501,       A16S,      12,          1,         15,         15,2,20050120,       0816,   -55.2665,   -34.6328,       1007,   125.9,   0.4550,  33.9976,2,  33.9969,2,    305.7,2,   304.8,2,   38.27,2,   28.35,2,    0.28,2,    2.00,2,-999.000,9,-999.000,9,-999.000,9,  -999.0,9,  -999.0,9,  -999.0,9,   20.00,-999.0000,9,    25.00,-999.000,9, -999.00,-999.000,9,-999.000,9, -999.00,9,  -999.0,9,  -999.0,-999.000,9,-999.000,-999.000,9, -999.00,9,  125.90,   0.1470,2,   0.1110,2,   0.0590,2,   0.0420,2,   0.0141,2,   0.0152,2,   0.4501,     -999.0,-999.000,     -999.0,          9,     -999.0,          9,-999.000,          9
 33RO200501,       A16S,      12,          1,         14,         14,2,20050120,       0816,   -55.2665,   -34.6328,       1007,   150.6,   0.7016,  34.0667,2,  34.0782,2,    282.6,2,   283.0,2,   43.70,2,   30.33,2,    0.24,2,    2.07,2,-999.000,9,-999.000,9,-999.000,9,  -999.0,9,  -999.0,9,  -999.0,9,   20.00,-999.0000,9,    25.00,-999.000,9, -999.00,-999.000,9,-999.000,9, -999.00,9,  -999.0,9,  -999.0,-999.000,9,-999.000,-999.000,9, -999.00,9,  150.60,-999.0000,9,-999.0000,9,-999.0000,9,-999.0000,9,-999.0000,9,-999.0000,9,   0.6954,     -999.0,-999.000,      0.000,          2,      4.445,          2,   0.254,          2
 33RO200501,       A16S,      12,          1,         13,         13,2,20050120,       0816,   -55.2665,   -34.6328,       1007,   175.7,   1.2101,  34.1820,2,  34.1885,2,    258.3,2,   252.4,2,   50.12,2,   32.38,2,    0.18,2,    2.17,2,   3.879,2,   2.008,2,   0.316,2,  -999.0,9,  -999.0,9,  -999.0,9,   20.00,-999.0000,9,    25.00,-999.000,9, -999.00,-999.000,9,-999.000,9, -999.00,9,  -999.0,9,  -999.0,-999.000,9,-999.000,   3.751,3, -999.00,9,  175.70,   0.1490,2,   0.1100,2,   0.0540,2,   0.0360,2,   0.0163,2,   0.0175,2,   1.2020,     -999.0,-999.000,     -999.0,          9,     -999.0,          9,-999.000,          9
 33RO200501,       A16S,      12,          1,         12,         12,2,20050120,       0816,   -55.2665,   -34.6328,       1007,   201.7,   1.5549,  34.2593,2,  34.2611,2,    234.2,2,   233.0,2,   54.31,2,   33.22,2,    0.10,2,    2.22,2,-999.000,9,-999.000,9,-999.000,9,  -999.0,9,  -999.0,9,  -999.0,9,   20.00,-999.0000,9,    25.00,-999.000,9, -999.00,-999.000,9,-999.000,9, -999.00,9,  -999.0,9,  -999.0,-999.000,9,-999.000,-999.000,9, -999.00,9,  201.70,-999.0000,9,-999.0000,9,-999.0000,9,-999.0000,9,-999.0000,9,-999.0000,9,   1.5450,     -999.0,-999.000,     -999.0,          9,     -999.0,          9,-999.000,          9
 33RO200501,       A16S,      12,          1,         11,         11,2,20050120,       0816,   -55.2665,   -34.6328,       1007,   224.5,   1.8288,  34.3223,2,  34.3248,2,    215.2,2,   215.2,2,   57.94,2,   33.77,2,    0.06,2,    2.26,2,   2.482,2,   1.288,2,   0.185,2,  -999.0,9,  -999.0,9,  -999.0,9,   20.00,-999.0000,9,    25.00,-999.000,9, -999.00,-999.000,9,-999.000,9, -999.00,9,  -999.0,9,  -999.0,-999.000,9,-999.000,   2.499,3, -999.00,9,  224.50,   0.1520,2,   0.1130,2,   0.0610,2,   0.0430,2,   0.0139,2,   0.0153,2,   1.8172,     -999.0,-999.000,     -999.0,          9,     -999.0,          9,-999.000,          9
 33RO200501,       A16S,      12,          1,         10,         10,2,20050120,       0816,   -55.2665,   -34.6328,       1007,   249.5,   1.9489,  34.3741,2,  34.3719,2,    206.0,2,   205.1,2,   61.39,2,   34.03,2,    0.04,2,    2.29,2,-999.000,9,-999.000,9,-999.000,9,  -999.0,9,  -999.0,9,  -999.0,9,   20.00,-999.0000,9,    25.00,-999.000,9, -999.00,-999.000,9,-999.000,9, -999.00,9,  -999.0,9,  -999.0,-999.000,9,-999.000,-999.000,9, -999.00,9,  249.50,-999.0000,9,-999.0000,9,-999.0000,9,-999.0000,9,-999.0000,9,-999.0000,9,   1.9357,     -999.0,-999.000,      0.000,          2,      4.557,          2,   0.113,          2
 33RO200501,       A16S,      12,          1,          9,          9,2,20050120,       0816,   -55.2665,   -34.6328,       1007,   301.3,   1.9828,  34.4277,2,  34.4275,2,    194.7,2,   195.7,2,   66.19,2,   34.17,2,    0.03,2,    2.31,2,   1.675,2,   0.863,2,   0.120,2,  -999.0,9,  -999.0,9,  -999.0,9,   20.00,-999.0000,9,    25.00,-999.000,9, -999.00,-999.000,9,-999.000,9, -999.00,9,  -999.0,9,  -999.0,-999.000,9,-999.000,   1.779,3, -999.00,9,  301.30,   0.1630,2,   0.1200,2,   0.0660,2,   0.0460,2,   0.0139,2,   0.0152,2,   1.9666,     -999.0,-999.000,     -999.0,          9,     -999.0,          9,-999.000,          9
 33RO200501,       A16S,      12,          1,          8,          8,2,20050120,       0816,   -55.2665,   -34.6328,       1007,   350.3,   2.0534,  34.4818,2,  34.4824,2,    188.6,2,   186.9,2,   71.08,2,   34.20,2,    0.03,2,    2.32,2,-999.000,9,-999.000,9,-999.000,9,  -999.0,9,  -999.0,9,  -999.0,9,   20.00,-999.0000,9,    25.00,-999.000,9, -999.00,-999.000,9,-999.000,9, -999.00,9,  -999.0,9,  -999.0,-999.000,9,-999.000,-999.000,9, -999.00,9,  350.30,-999.0000,9,-999.0000,9,-999.0000,9,-999.0000,9,-999.0000,9,-999.0000,9,   2.0341,     -999.0,-999.000,     -999.0,          9,     -999.0,          9,-999.000,          9
 33RO200501,       A16S,      12,          1,          7,          7,2,20050120,       0816,   -55.2665,   -34.6328,       1007,   401.2,   2.0501,  34.5202,2,  34.5184,2,    183.8,2,   182.8,2,   74.68,2,   34.21,2,    0.02,2,    2.32,2,   1.057,2,   0.550,2,   0.070,2,  -999.0,9,  -999.0,9,  -999.0,9,   20.00,-999.0000,9,    25.00,-999.000,9, -999.00,-999.000,9,-999.000,9, -999.00,9,  -999.0,9,  -999.0,-999.000,9,-999.000,   1.237,3, -999.00,9,  401.20,   0.1900,2,   0.1430,2,   0.0830,2,   0.0580,2,   0.0132,2,   0.0139,2,   2.0278,     -999.0,-999.000,     -999.0,          9,     -999.0,          9,-999.000,          9
 33RO200501,       A16S,      12,          1,          6,          6,2,20050120,       0816,   -55.2665,   -34.6328,       1007,   450.3,   2.0337,  34.5471,2,  34.5476,2,    181.2,2,   180.0,2,   77.48,2,   34.17,2,    0.03,2,    2.31,2,-999.000,9,-999.000,9,-999.000,9,  -999.0,9,  -999.0,9,  -999.0,9,   20.00,-999.0000,9,    25.00,-999.000,9, -999.00,-999.000,9,-999.000,9, -999.00,9,  -999.0,9,  -999.0,-999.000,9,-999.000,-999.000,9, -999.00,9,  450.30,-999.0000,9,-999.0000,9,-999.0000,9,-999.0000,9,-999.0000,9,-999.0000,9,   2.0086,     -999.0,-999.000,      0.000,          2,      4.937,          2,   0.067,          2
 33RO200501,       A16S,      12,          1,          5,          5,2,20050120,       0816,   -55.2665,   -34.6328,       1007,   501.4,   2.0783,  34.5798,2,  34.5781,2,    178.2,2,   176.2,2,   79.66,2,   34.04,2,    0.02,2,    2.30,2,   0.696,2,   0.361,2,   0.041,2,  -999.0,9,  -999.0,9,  -999.0,9,   20.00,-999.0000,9,    25.00,-999.000,9, -999.00,-999.000,9,-999.000,9, -999.00,9,  -999.0,9,  -999.0,-999.000,9,-999.000,   0.869,3, -999.00,9,  501.40,   0.1810,2,   0.1410,2,   0.0730,2,   0.0500,2,   0.0144,2,   0.0154,2,   2.0499,     -999.0,-999.000,     -999.0,          9,     -999.0,          9,-999.000,          9
 33RO200501,       A16S,      12,          1,          4,          4,2,20050120,       0816,   -55.2665,   -34.6328,       1007,   600.8,   2.0660,  34.6132,2,  34.6115,2,    176.1,2,   174.9,2,   82.35,6,   33.67,6,    0.03,6,    2.29,6,-999.000,9,-999.000,9,-999.000,9,  -999.0,9,  -999.0,9,  -999.0,9,   20.00,-999.0000,9,    25.00,-999.000,9, -999.00,-999.000,9,-999.000,9, -999.00,9,  -999.0,9,  -999.0,-999.000,9,-999.000,-999.000,9, -999.00,9,  600.80,-999.0000,9,-999.0000,9,-999.0000,9,-999.0000,9,-999.0000,9,-999.0000,9,   2.0315,     -999.0,-999.000,     -999.0,          9,     -999.0,          9,-999.000,          9
 33RO200501,       A16S,      12,          1,          3,          3,2,20050120,       0816,   -55.2665,   -34.6328,       1007,   700.3,   2.0456,  34.6393,2,  34.6378,2,    175.7,2,   174.6,2,   84.53,6,   33.29,6,    0.03,6,    2.28,6,-999.000,9,-999.000,9,-999.000,9,  -999.0,9,  -999.0,9,  -999.0,9,   20.00,-999.0000,9,    25.00,-999.000,9, -999.00,-999.000,9,-999.000,9, -999.00,9,  -999.0,9,  -999.0,-999.000,9,-999.000,-999.000,9, -999.00,9,  700.30,   0.1520,2,   0.1130,2,   0.0660,2,   0.0470,2,   0.0128,2,   0.0139,2,   2.0049,     -999.0,-999.000,     -999.0,          9,     -999.0,          9,-999.000,          9
 33RO200501,       A16S,      12,          1,          2,          2,2,20050120,       0816,   -55.2665,   -34.6328,       1007,   801.2,   1.9521,  34.6746,2,  34.6730,2,    176.3,2,   176.8,2,   88.48,6,   32.67,6,    0.02,6,    2.25,6,   0.282,2,   0.145,2,   0.012,2,  -999.0,9,  -999.0,9,  -999.0,9,   20.00,-999.0000,9,    25.00,-999.000,9, -999.00,-999.000,9,-999.000,9, -999.00,9,  -999.0,9,  -999.0,-999.000,9,-999.000,   0.378,3, -999.00,9,  801.20,-999.0000,9,-999.0000,9,-999.0000,9,-999.0000,9,-999.0000,9,-999.0000,9,   1.9054,     -999.0,-999.000,     -999.0,          9,     -999.0,          9,-999.000,          9
 33RO200501,       A16S,      12,          1,          1,          1,2,20050120,       0816,   -55.2665,   -34.6328,       1007,   869.5,   1.9319,  34.6805,2,  34.6781,2,    176.2,2,   177.8,2,   89.61,6,   32.52,6,    0.02,6,    2.25,6,   0.262,2,   0.172,2,   0.011,2,  -999.0,9,  -999.0,9,  -999.0,9,   20.00,-999.0000,9,    25.00,-999.000,9, -999.00,-999.000,9,-999.000,9, -999.00,9,  -999.0,9,  -999.0,-999.000,9,-999.000,   0.350,3, -999.00,9,  869.50,   0.1790,2,   0.1380,2,   0.0780,2,   0.0550,2,   0.0134,2,   0.0141,2,   1.8808,     -999.0,-999.000,      0.000,          2,      5.889,          2,   0.075,          2