BOTTLE,20220818CCHSIOAMB
EXPOCODE,SECT_ID,STNNBR,CASTNO,SAMPNO,BTLNBR,BTLNBR_FLAG_W,DATE,TIME,LATITUDE,LONGITUDE,DEPTH,CTDPRS,CTDTMP,CTDSAL,CTDSAL_FLAG_W,SALNTY,SALNTY_FLAG_W,CTDOXY,CTDOXY_FLAG_W,OXYGEN,OXYGEN_FLAG_W,SILCAT,SILCAT_FLAG_W,NITRAT,NITRAT_FLAG_W,NITRIT,NITRIT_FLAG_W,PHSPHT,PHSPHT_FLAG_W,CFC-11,CFC-11_FLAG_W,CFC-12,CFC-12_FLAG_W,CFC113,CFC113_FLAG_W,TCARBN,TCARBN_FLAG_W,ALKALI,ALKALI_FLAG_W,PCO2,PCO2_FLAG_W,PCO2TMP,PH_SWS,PH_SWS_FLAG_W,PH_TMP,TRITUM,TRITUM_FLAG_W,TRITER,HELIUM,HELIUM_FLAG_W,DELHE3,DELHE3_FLAG_W,DELC13,DELC13_FLAG_W,DELC14,DELC14_FLAG_W,C14ERR,NEON,NEON_FLAG_W,NEONER,CCL4,CCL4_FLAG_W,DOC,DOC_FLAG_W,CTDRAW,CDOM325,CDOM325_FLAG_W,CDOM340,CDOM340_FLAG_W,CDOM380,CDOM380_FLAG_W,CDOM412,CDOM412_FLAG_W,CDOMSL,CDOMSL_FLAG_W,CDOMSN,CDOMSN_FLAG_W,THETA,HELIER,DELHER,CH3CL,CH3CL_FLAG_W,CH3BR,CH3BR_FLAG_W,CH3I,CH3I_FLAG_W
,,,,,,,,,,,METERS,DBAR,ITS-90,PSS-78,,PSS-78,,UMOL/KG,,UMOL/KG,,UMOL/KG,,UMOL/KG,,UMOL/KG,,UMOL/KG,,PMOL/KG,,PMOL/KG,,PMOL/KG,,UMOL/KG,,UMOL/KG,,UATM,,DEG C,,,DEG C,TU,,TU,NMOL/KG,,PERCNT,,/MILLE,,/MILLE,,/MILLE,NMOL/KG,,NMOL/KG,PMOL/KG,,UMOL/KG,,DBAR,1/M,,1/M,,1/M,,1/M,,1/NM,,1/NM,,DEG C,NMOL/KG,PERCNT,PMOL/KG,,PMOL/KG,,PMOL/KG,
 33RO200501,       A16S,      30,          1,         36,         36,2,20050124,       2152,   -47.5065,   -32.4612,       5254,     4.7,   8.1244,  33.9313,2,  33.9306,2,    300.6,2,   299.0,2,    1.70,2,   17.05,2,    0.18,2,    1.17,2,   4.235,2,   2.442,2,   0.361,2,  2084.3,2,  2271.9,6,  -999.0,9,   20.00,   7.8366,6,    25.00,-999.000,9, -999.00,-999.000,9,-999.000,9, -999.00,9,  -999.0,9,  -999.0,-999.000,9,-999.000,   5.387,4, -999.00,9,    4.70,-999.0000,9,-999.0000,9,-999.0000,9,-999.0000,9,-999.0000,9,-999.0000,9,   8.1240,     -999.0,-999.000,     74.148,          2,      1.776,          2,   1.984,          2
 33RO200501,       A16S,      30,          1,         35,         35,2,20050124,       2152,   -47.5065,   -32.4612,       5254,    26.0,   8.0776,  33.9404,2,  33.9402,2,    301.2,2,   297.7,2,    1.72,2,   16.97,2,    0.18,2,    1.16,2,-999.000,9,-999.000,9,-999.000,9,  -999.0,9,  -999.0,9,  -999.0,9,   20.00,-999.0000,9,    25.00,-999.000,9, -999.00,-999.000,9,-999.000,9, -999.00,9,  -999.0,9,  -999.0,-999.000,9,-999.000,-999.000,9, -999.00,9,   26.00,-999.0000,9,-999.0000,9,-999.0000,9,-999.0000,9,-999.0000,9,-999.0000,9,   8.0750,     -999.0,-999.000,     67.034,          3,      1.589,          3,   1.947,          3
 33RO200501,       A16S,      30,          1,         34,         34,2,20050124,       2152,   -47.5065,   -32.4612,       5254,    50.5,   7.2043,  33.9566,2,  33.9594,2,    301.8,2,   300.9,2,    2.00,2,   18.08,2,    0.20,2,    1.27,2,-999.000,9,-999.000,9,-999.000,9,  -999.0,9,  -999.0,9,  -999.0,9,   20.00,-999.0000,9,    25.00,-999.000,9, -999.00,-999.000,9,-999.000,9, -999.00,9,  -999.0,9,  -999.0,-999.000,9,-999.000,-999.000,9, -999.00,9,   50.50,-999.0000,9,-999.0000,9,-999.0000,9,-999.0000,9,-999.0000,9,-999.0000,9,   7.1996,     -999.0,-999.000,     58.293,          2,      1.346,          2,   1.711,          2
 33RO200501,       A16S,      30,          1,         33,         33,2,20050124,       2152,   -47.5065,   -32.4612,       5254,    70.5,   6.4108,  33.9623,2,  33.9625,2,    306.4,2,   303.0,2,    2.13,2,   18.75,2,    0.21,2,    1.32,2,-999.000,9,-999.000,9,-999.000,9,  -999.0,9,  -999.0,9,  -999.0,9,   20.00,-999.0000,9,    25.00,-999.000,9, -999.00,-999.000,9,-999.000,9, -999.00,9,  -999.0,9,  -999.0,-999.000,9,-999.000,-999.000,9, -999.00,9,   70.50,-999.0000,9,-999.0000,9,-999.0000,9,-999.0000,9,-999.0000,9,-999.0000,9,   6.4047,     -999.0,-999.000,     55.892,          2,      1.131,          2,   1.560,          2
 33RO200501,       A16S,      30,          1,         32,         32,2,20050124,       2152,   -47.5065,   -32.4612,       5254,    92.6,   5.6272,  33.9763,2,  33.9768,2,    303.2,2,   305.8,2,    3.18,2,   19.96,2,    0.23,2,    1.43,2,   4.855,2,   2.710,2,   0.423,2,  2115.2,2,  2276.1,2,  -999.0,9,   20.00,   7.7775,6,    25.00,-999.000,9, -999.00,-999.000,9,-999.000,9, -999.00,9,  -999.0,9,  -999.0,-999.000,9,-999.000,   5.529,4, -999.00,9,   92.60,-999.0000,9,-999.0000,9,-999.0000,9,-999.0000,9,-999.0000,9,-999.0000,9,   5.6197,     -999.0,-999.000,     -999.0,          9,     -999.0,          9,-999.000,          9
 33RO200501,       A16S,      30,          1,         31,         31,2,20050124,       2152,   -47.5065,   -32.4612,       5254,   116.3,   4.8752,  34.0099,2,  34.0136,2,    303.6,2,   302.6,2,    7.29,2,   21.35,2,    0.37,2,    1.54,2,-999.000,9,-999.000,9,-999.000,9,  -999.0,9,  -999.0,9,  -999.0,9,   20.00,-999.0000,9,    25.00,-999.000,9, -999.00,-999.000,9,-999.000,9, -999.00,9,  -999.0,9,  -999.0,-999.000,9,-999.000,-999.000,9, -999.00,9,  116.30,-999.0000,9,-999.0000,9,-999.0000,9,-999.0000,9,-999.0000,9,-999.0000,9,   4.8664,     -999.0,-999.000,     30.417,          2,      0.626,          2,   0.636,          2
 33RO200501,       A16S,      30,          1,         30,         30,2,20050124,       2152,   -47.5065,   -32.4612,       5254,   141.8,   4.1678,  34.0350,2,  34.0365,2,    298.9,2,   297.9,2,   10.45,2,   24.13,2,    0.24,2,    1.63,2,-999.000,9,-999.000,9,-999.000,9,  -999.0,9,  -999.0,9,  -999.0,9,   20.00,-999.0000,9,    25.00,-999.000,9, -999.00,-999.000,9,-999.000,9, -999.00,9,  -999.0,9,  -999.0,-999.000,9,-999.000,-999.000,9, -999.00,9,  141.80,-999.0000,9,-999.0000,9,-999.0000,9,-999.0000,9,-999.0000,9,-999.0000,9,   4.1579,     -999.0,-999.000,     -999.0,          9,     -999.0,          9,-999.000,          9
 33RO200501,       A16S,      30,          1,         29,         29,2,20050124,       2152,   -47.5065,   -32.4612,       5254,   164.8,   3.9357,  34.0631,2,  34.0646,2,    294.0,2,   293.7,2,   11.74,2,   24.92,2,    0.04,2,    1.66,2,-999.000,9,-999.000,9,-999.000,9,  -999.0,9,  -999.0,9,  -999.0,9,   20.00,-999.0000,9,    25.00,-999.000,9, -999.00,-999.000,9,-999.000,9, -999.00,9,  -999.0,9,  -999.0,-999.000,9,-999.000,-999.000,9, -999.00,9,  164.80,-999.0000,9,-999.0000,9,-999.0000,9,-999.0000,9,-999.0000,9,-999.0000,9,   3.9245,     -999.0,-999.000,     21.155,          2,      0.310,          2,   0.234,          2
 33RO200501,       A16S,      30,          1,         28,         28,2,20050124,       2152,   -47.5065,   -32.4612,       5254,   190.7,   3.6706,  34.0669,2,  34.0679,2,    290.4,2,   291.6,2,   13.06,2,   25.70,2,    0.03,2,    1.69,2,   4.791,2,   2.615,2,   0.396,2,  2144.4,2,  2275.2,2,  -999.0,9,   20.00,   7.7126,6,    25.00,-999.000,9, -999.00,-999.000,9,-999.000,9, -999.00,9,  -999.0,9,  -999.0,-999.000,9,-999.000,   4.376,3, -999.00,9,  190.70,-999.0000,9,-999.0000,9,-999.0000,9,-999.0000,9,-999.0000,9,-999.0000,9,   3.6580,     -999.0,-999.000,     -999.0,          9,     -999.0,          9,-999.000,          9
 33RO200501,       A16S,      30,          1,         27,         27,2,20050124,       2152,   -47.5065,   -32.4612,       5254,   226.1,   3.2008,  34.0503,2,  34.0518,2,    284.3,2,   292.7,2,   15.14,2,   26.42,2,    0.02,2,    1.74,2,-999.000,9,-999.000,9,-999.000,9,  -999.0,9,  -999.0,9,  -999.0,9,   20.00,-999.0000,9,    25.00,-999.000,9, -999.00,-999.000,9,-999.000,9, -999.00,9,  -999.0,9,  -999.0,-999.000,9,-999.000,-999.000,9, -999.00,9,  226.10,-999.0000,9,-999.0000,9,-999.0000,9,-999.0000,9,-999.0000,9,-999.0000,9,   3.1867,     -999.0,-999.000,     15.313,          2,      0.739,          2,   0.159,          2
 33RO200501,       A16S,      30,          1,         26,         26,2,20050124,       2152,   -47.5065,   -32.4612,       5254,   275.0,   2.9125,  34.0554,2,  34.0559,2,    272.3,2,   288.6,2,   18.12,2,   27.32,2,    0.01,2,    1.79,2,-999.000,9,-999.000,9,-999.000,9,  -999.0,9,  -999.0,9,  -999.0,9,   20.00,-999.0000,9,    25.00,-999.000,9, -999.00,-999.000,9,-999.000,9, -999.00,9,  -999.0,9,  -999.0,-999.000,9,-999.000,-999.000,9, -999.00,9,  275.00,-999.0000,9,-999.0000,9,-999.0000,9,-999.0000,9,-999.0000,9,-999.0000,9,   2.8959,     -999.0,-999.000,     -999.0,          9,     -999.0,          9,-999.000,          9
 33RO200501,       A16S,      30,          1,         25,         25,2,20050124,       2152,   -47.5065,   -32.4612,       5254,   326.4,   2.5805,  34.0681,2,  34.0659,2,    259.6,2,   283.4,2,   21.87,2,   28.23,2,    0.01,2,    1.86,2,-999.000,9,-999.000,9,-999.000,9,  -999.0,9,  -999.0,9,  -999.0,9,   20.00,-999.0000,9,    25.00,-999.000,9, -999.00,-999.000,9,-999.000,9, -999.00,9,  -999.0,9,  -999.0,-999.000,9,-999.000,-999.000,9, -999.00,9,  326.40,-999.0000,9,-999.0000,9,-999.0000,9,-999.0000,9,-999.0000,9,-999.0000,9,   2.5615,     -999.0,-999.000,     12.660,          2,      0.239,          2,   0.119,          2
 33RO200501,       A16S,      30,          1,         24,         24,2,20050124,       2152,   -47.5065,   -32.4612,       5254,   375.1,   2.5720,  34.1127,2,  34.1135,2,    250.0,2,   266.9,2,   26.70,2,   29.46,2,    0.01,2,    1.94,2,   4.072,2,   2.158,2,   0.320,2,  2173.3,2,  2284.9,2,  -999.0,9,   20.00,   7.6651,2,    25.00,-999.000,9, -999.00,-999.000,9,-999.000,9, -999.00,9,  -999.0,9,  -999.0,-999.000,9,-999.000,   3.763,3, -999.00,9,  375.10,-999.0000,9,-999.0000,9,-999.0000,9,-999.0000,9,-999.0000,9,-999.0000,9,   2.5499,     -999.0,-999.000,     -999.0,          9,     -999.0,          9,-999.000,          9
 33RO200501,       A16S,      30,          1,         23,         23,2,20050124,       2152,   -47.5065,   -32.4612,       5254,   449.9,   2.8904,  34.2130,2,  34.2137,2,    241.4,2,   237.2,2,   34.12,2,   31.01,2,    0.01,2,    2.07,2,-999.000,9,-999.000,9,-999.000,9,  -999.0,9,  -999.0,9,  -999.0,9,   20.00,-999.0000,9,    25.00,-999.000,9, -999.00,-999.000,9,-999.000,9, -999.00,9,  -999.0,9,  -999.0,-999.000,9,-999.000,-999.000,9, -999.00,9,  449.90,-999.0000,9,-999.0000,9,-999.0000,9,-999.0000,9,-999.0000,9,-999.0000,9,   2.8624,     -999.0,-999.000,     -999.0,          9,     -999.0,          9,-999.000,          9
 33RO200501,       A16S,      30,          1,         22,         22,2,20050124,       2152,   -47.5065,   -32.4612,       5254,   551.1,   2.7508,  34.2932,2,  34.2931,2,    221.1,2,   216.7,2,   44.14,2,   32.51,2,    0.01,2,    2.18,2,-999.000,9,-999.000,9,-999.000,9,  -999.0,9,  -999.0,9,  -999.0,9,   20.00,-999.0000,9,    25.00,-999.000,9, -999.00,-999.000,9,-999.000,9, -999.00,9,  -999.0,9,  -999.0,-999.000,9,-999.000,-999.000,9, -999.00,9,  551.10,-999.0000,9,-999.0000,9,-999.0000,9,-999.0000,9,-999.0000,9,-999.0000,9,   2.7167,     -999.0,-999.000,     -999.0,          9,     -999.0,          9,-999.000,          9
 33RO200501,       A16S,      30,          1,         21,         21,2,20050124,       2152,   -47.5065,   -32.4612,       5254,   646.3,   2.6776,  34.3526,2,  34.3527,2,    210.0,2,   203.4,2,   51.35,2,   33.29,2,    0.00,2,    2.24,2,-999.000,9,-999.000,9,-999.000,9,  -999.0,9,  -999.0,9,  -999.0,9,   20.00,-999.0000,9,    25.00,-999.000,9, -999.00,-999.000,9,-999.000,9, -999.00,9,  -999.0,9,  -999.0,-999.000,9,-999.000,-999.000,9, -999.00,9,  646.30,-999.0000,9,-999.0000,9,-999.0000,9,-999.0000,9,-999.0000,9,-999.0000,9,   2.6373,     -999.0,-999.000,      0.958,          2,      0.031,          2,   0.066,          2
 33RO200501,       A16S,      30,          1,         20,         20,2,20050124,       2152,   -47.5065,   -32.4612,       5254,   751.2,   2.5977,  34.4230,2,  34.4242,2,    193.0,2,   190.0,2,   59.00,6,   33.79,6,    0.00,6,    2.29,6,   1.211,2,   0.613,2,   0.075,2,  2232.8,2,  2317.4,2,  -999.0,9,   20.00,   7.5853,6,    25.00,-999.000,9, -999.00,-999.000,9,-999.000,9, -999.00,9,  -999.0,9,  -999.0,-999.000,9,-999.000,   1.298,3, -999.00,9,  751.20,-999.0000,9,-999.0000,9,-999.0000,9,-999.0000,9,-999.0000,9,-999.0000,9,   2.5507,     -999.0,-999.000,     -999.0,          9,     -999.0,          9,-999.000,          9
 33RO200501,       A16S,      30,          1,         19,         19,2,20050124,       2152,   -47.5065,   -32.4612,       5254,   846.0,   2.5504,  34.4866,2,  34.4876,2,    185.9,2,   181.5,2,   65.15,2,   34.06,2,    0.00,2,    2.29,2,-999.000,9,-999.000,9,-999.000,9,  -999.0,9,  -999.0,9,  -999.0,9,   20.00,-999.0000,9,    25.00,-999.000,9, -999.00,-999.000,9,-999.000,9, -999.00,9,  -999.0,9,  -999.0,-999.000,9,-999.000,-999.000,9, -999.00,9,  846.00,-999.0000,9,-999.0000,9,-999.0000,9,-999.0000,9,-999.0000,9,-999.0000,9,   2.4970,     -999.0,-999.000,      2.446,          2,      0.403,          2,   0.086,          2
 33RO200501,       A16S,      30,          1,         18,         18,2,20050124,       2152,   -47.5065,   -32.4612,       5254,  1001.2,   2.4572,  34.5503,2,  34.5524,2,    177.0,2,   176.5,2,   70.51,2,   33.84,2,    0.00,2,    2.29,2,-999.000,9,-999.000,9,-999.000,9,  -999.0,9,  -999.0,9,  -999.0,9,   20.00,-999.0000,9,    25.00,-999.000,9, -999.00,-999.000,9,-999.000,9, -999.00,9,  -999.0,9,  -999.0,-999.000,9,-999.000,-999.000,9, -999.00,9, 1001.20,-999.0000,9,-999.0000,9,-999.0000,9,-999.0000,9,-999.0000,9,-999.0000,9,   2.3934,     -999.0,-999.000,     -999.0,          9,     -999.0,          9,-999.000,          9
 33RO200501,       A16S,      30,          1,         17,         17,2,20050124,       2152,   -47.5065,   -32.4612,       5254,  1199.3,   2.3484,  34.5996,2,  34.5997,2,    176.0,2,   175.3,2,   74.98,2,   33.43,2,    0.00,2,    2.28,2,-999.000,9,-999.000,9,-999.000,9,  -999.0,9,  -999.0,9,  -999.0,9,   20.00,-999.0000,9,    25.00,-999.000,9, -999.00,-999.000,9,-999.000,9, -999.00,9,  -999.0,9,  -999.0,-999.000,9,-999.000,-999.000,9, -999.00,9, 1199.30,-999.0000,9,-999.0000,9,-999.0000,9,-999.0000,9,-999.0000,9,-999.0000,9,   2.2710,     -999.0,-999.000,     -999.0,          9,     -999.0,          9,-999.000,          9
 33RO200501,       A16S,      30,          1,         16,         16,2,20050124,       2152,   -47.5065,   -32.4612,       5254,  1401.8,   2.6093,  34.7161,2,  34.7140,2,    187.1,2,   185.8,2,   68.24,6,   30.42,6,    0.00,6,    2.08,6,-999.000,9,-999.000,9,-999.000,9,  -999.0,9,  -999.0,9,  -999.0,9,   20.00,-999.0000,9,    25.00,-999.000,9, -999.00,-999.000,9,-999.000,9, -999.00,9,  -999.0,9,  -999.0,-999.000,9,-999.000,-999.000,9, -999.00,9, 1401.80,-999.0000,9,-999.0000,9,-999.0000,9,-999.0000,9,-999.0000,9,-999.0000,9,   2.5135,     -999.0,-999.000,      4.530,          2,      0.051,          2,   0.057,          2
 33RO200501,       A16S,      30,          1,         15,         15,2,20050124,       2152,   -47.5065,   -32.4612,       5254,  1601.4,   2.6008,  34.7628,2,  34.7630,2,    195.2,2,   196.1,2,   66.13,2,   29.01,2,    0.00,2,    1.97,2,-999.000,9,-999.000,9,-999.000,9,  -999.0,9,  -999.0,9,  -999.0,9,   20.00,-999.0000,9,    25.00,-999.000,9, -999.00,-999.000,9,-999.000,9, -999.00,9,  -999.0,9,  -999.0,-999.000,9,-999.000,-999.000,9, -999.00,9, 1601.40,-999.0000,9,-999.0000,9,-999.0000,9,-999.0000,9,-999.0000,9,-999.0000,9,   2.4888,     -999.0,-999.000,     -999.0,          9,     -999.0,          9,-999.000,          9
 33RO200501,       A16S,      30,          1,         14,         14,2,20050124,       2152,   -47.5065,   -32.4612,       5254,  1800.0,   2.5421,  34.7898,2,  34.7887,2,    202.8,2,   202.1,2,   65.73,2,   28.12,2,    0.00,2,    1.91,2,-999.000,9,-999.000,9,-999.000,9,  -999.0,9,  -999.0,9,  -999.0,9,   20.00,-999.0000,9,    25.00,-999.000,9, -999.00,-999.000,9,-999.000,9, -999.00,9,  -999.0,9,  -999.0,-999.000,9,-999.000,-999.000,9, -999.00,9, 1800.00,-999.0000,9,-999.0000,9,-999.0000,9,-999.0000,9,-999.0000,9,-999.0000,9,   2.4142,     -999.0,-999.000,     -999.0,          9,     -999.0,          9,-999.000,          9
 33RO200501,       A16S,      30,          1,         13,         13,2,20050124,       2152,   -47.5065,   -32.4612,       5254,  2050.6,   2.2890,  34.7949,2,  34.7956,2,    205.7,2,   206.1,2,   70.76,2,   27.96,2,    0.00,2,    1.90,2,   0.077,2,   0.038,2,  -0.004,2,  -999.0,9,  -999.0,9,  -999.0,9,   20.00,-999.0000,9,    25.00,-999.000,9, -999.00,-999.000,9,-999.000,9, -999.00,9,  -999.0,9,  -999.0,-999.000,9,-999.000,   0.167,3, -999.00,9, 2050.60,-999.0000,9,-999.0000,9,-999.0000,9,-999.0000,9,-999.0000,9,-999.0000,9,   2.1433,     -999.0,-999.000,      0.487,          2,      0.173,          2,   0.044,          2
 33RO200501,       A16S,      30,          1,         12,         12,2,20050124,       2152,   -47.5065,   -32.4612,       5254,  2350.9,   2.0013,  34.7771,2,  34.7775,2,    206.7,2,   204.7,2,   79.92,6,   28.72,6,    0.00,6,    1.98,6,-999.000,9,-999.000,9,-999.000,9,  -999.0,9,  -999.0,9,  -999.0,9,   20.00,-999.0000,9,    25.00,-999.000,9, -999.00,-999.000,9,-999.000,9, -999.00,9,  -999.0,9,  -999.0,-999.000,9,-999.000,-999.000,9, -999.00,9, 2350.90,-999.0000,9,-999.0000,9,-999.0000,9,-999.0000,9,-999.0000,9,-999.0000,9,   1.8339,     -999.0,-999.000,     -999.0,          9,     -999.0,          9,-999.000,          9
 33RO200501,       A16S,      30,          1,         11,         11,2,20050124,       2152,   -47.5065,   -32.4612,       5254,  2650.2,   1.5846,  34.7458,2,  34.7456,2,    201.5,2,   201.4,2,   94.99,2,   30.38,2,    0.00,2,    2.10,2,-999.000,9,-999.000,9,-999.000,9,  -999.0,9,  -999.0,9,  -999.0,9,   20.00,-999.0000,9,    25.00,-999.000,9, -999.00,-999.000,9,-999.000,9, -999.00,9,  -999.0,9,  -999.0,-999.000,9,-999.000,-999.000,9, -999.00,9, 2650.20,-999.0000,9,-999.0000,9,-999.0000,9,-999.0000,9,-999.0000,9,-999.0000,9,   1.3982,     -999.0,-999.000,     -999.0,          9,     -999.0,          9,-999.000,          9
 33RO200501,       A16S,      30,          1,         10,         10,2,20050124,       2152,   -47.5065,   -32.4612,       5254,  2949.1,   1.2332,  34.7232,2,  34.7218,2,    201.0,2,   189.4,3,  105.52,2,   31.28,2,    0.00,2,    2.18,2,-999.000,9,-999.000,9,-999.000,9,  -999.0,9,  -999.0,9,  -999.0,9,   20.00,-999.0000,9,    25.00,-999.000,9, -999.00,-999.000,9,-999.000,9, -999.00,9,  -999.0,9,  -999.0,-999.000,9,-999.000,-999.000,9, -999.00,9, 2949.10,-999.0000,9,-999.0000,9,-999.0000,9,-999.0000,9,-999.0000,9,-999.0000,9,   1.0268,     -999.0,-999.000,      1.241,          2,      0.159,          2,   0.039,          2
 33RO200501,       A16S,      30,          1,          9,          9,2,20050124,       2152,   -47.5065,   -32.4612,       5254,  3251.1,   0.9833,  34.7107,2,  34.7108,2,    206.2,2,   206.2,2,  111.33,2,   31.60,2,    0.00,2,    2.22,2,-999.000,9,-999.000,9,-999.000,9,  -999.0,9,  -999.0,9,  -999.0,9,   20.00,-999.0000,9,    25.00,-999.000,9, -999.00,-999.000,9,-999.000,9, -999.00,9,  -999.0,9,  -999.0,-999.000,9,-999.000,-999.000,9, -999.00,9, 3251.10,-999.0000,9,-999.0000,9,-999.0000,9,-999.0000,9,-999.0000,9,-999.0000,9,   0.7542,     -999.0,-999.000,     -999.0,          9,     -999.0,          9,-999.000,          9
 33RO200501,       A16S,      30,          1,          8,          8,2,20050124,       2152,   -47.5065,   -32.4612,       5254,  3551.0,   0.8021,  34.7023,2,  34.7028,2,    209.9,2,   209.8,2,  115.52,6,   31.83,6,    0.00,6,    2.24,6,-999.000,9,-999.000,9,-999.000,9,  -999.0,9,  -999.0,9,  -999.0,9,   20.00,-999.0000,9,    25.00,-999.000,9, -999.00,-999.000,9,-999.000,9, -999.00,9,  -999.0,9,  -999.0,-999.000,9,-999.000,-999.000,9, -999.00,9, 3551.00,-999.0000,9,-999.0000,9,-999.0000,9,-999.0000,9,-999.0000,9,-999.0000,9,   0.5485,     -999.0,-999.000,     -999.0,          9,     -999.0,          9,-999.000,          9