BOTTLE,20220818CCHSIOAMB
EXPOCODE,SECT_ID,STNNBR,CASTNO,SAMPNO,BTLNBR,BTLNBR_FLAG_W,DATE,TIME,LATITUDE,LONGITUDE,DEPTH,CTDPRS,CTDTMP,CTDSAL,CTDSAL_FLAG_W,SALNTY,SALNTY_FLAG_W,CTDOXY,CTDOXY_FLAG_W,OXYGEN,OXYGEN_FLAG_W,SILCAT,SILCAT_FLAG_W,NITRAT,NITRAT_FLAG_W,NITRIT,NITRIT_FLAG_W,PHSPHT,PHSPHT_FLAG_W,CFC-11,CFC-11_FLAG_W,CFC-12,CFC-12_FLAG_W,CFC113,CFC113_FLAG_W,TCARBN,TCARBN_FLAG_W,ALKALI,ALKALI_FLAG_W,PCO2,PCO2_FLAG_W,PCO2TMP,PH_SWS,PH_SWS_FLAG_W,PH_TMP,TRITUM,TRITUM_FLAG_W,TRITER,HELIUM,HELIUM_FLAG_W,DELHE3,DELHE3_FLAG_W,DELC13,DELC13_FLAG_W,DELC14,DELC14_FLAG_W,C14ERR,NEON,NEON_FLAG_W,NEONER,CCL4,CCL4_FLAG_W,DOC,DOC_FLAG_W,CTDRAW,CDOM325,CDOM325_FLAG_W,CDOM340,CDOM340_FLAG_W,CDOM380,CDOM380_FLAG_W,CDOM412,CDOM412_FLAG_W,CDOMSL,CDOMSL_FLAG_W,CDOMSN,CDOMSN_FLAG_W,THETA,HELIER,DELHER,CH3CL,CH3CL_FLAG_W,CH3BR,CH3BR_FLAG_W,CH3I,CH3I_FLAG_W
,,,,,,,,,,,METERS,DBAR,ITS-90,PSS-78,,PSS-78,,UMOL/KG,,UMOL/KG,,UMOL/KG,,UMOL/KG,,UMOL/KG,,UMOL/KG,,PMOL/KG,,PMOL/KG,,PMOL/KG,,UMOL/KG,,UMOL/KG,,UATM,,DEG C,,,DEG C,TU,,TU,NMOL/KG,,PERCNT,,/MILLE,,/MILLE,,/MILLE,NMOL/KG,,NMOL/KG,PMOL/KG,,UMOL/KG,,DBAR,1/M,,1/M,,1/M,,1/M,,1/NM,,1/NM,,DEG C,NMOL/KG,PERCNT,PMOL/KG,,PMOL/KG,,PMOL/KG,
 33RO200501,       A16S,      55,          1,          7,          7,2,20050201,       1756,   -35.0002,   -24.9987,       4104,  2699.6,   2.7932,  34.8845,2,  34.8857,2,    237.6,2,   237.6,2,   40.43,2,   22.77,2,    0.00,2,    1.50,2,   0.004,2,   0.002,2,   0.000,2,  2190.6,2,  2327.9,2,  -999.0,9,   20.00,   7.7150,2,    25.00,-999.000,9, -999.00,-999.000,9,-999.000,9, -999.00,9,  -999.0,9,  -999.0,-999.000,9,-999.000,   0.068,4,   39.30,2, 2699.60,-999.0000,9,-999.0000,9,-999.0000,9,-999.0000,9,-999.0000,9,-999.0000,9,   2.5777,     -999.0,-999.000,     -999.0,          9,     -999.0,          9,-999.000,          9
 33RO200501,       A16S,      55,          1,          6,          6,2,20050201,       1756,   -35.0002,   -24.9987,       4104,  2898.3,   2.6824,  34.8883,2,  34.8892,2,    241.2,2,   241.3,2,   41.33,2,   22.47,2,    0.00,2,    1.48,2,-999.000,9,-999.000,9,-999.000,9,  2188.8,2,  2329.8,2,  -999.0,9,   20.00,   7.7182,2,    25.00,-999.000,9, -999.00,-999.000,9,-999.000,9, -999.00,9,  -999.0,9,  -999.0,-999.000,9,-999.000,-999.000,9, -999.00,9, 2898.30,-999.0000,9,-999.0000,9,-999.0000,9,-999.0000,9,-999.0000,9,-999.0000,9,   2.4491,     -999.0,-999.000,     -999.0,          9,     -999.0,          9,-999.000,          9
 33RO200501,       A16S,      55,          1,          5,          5,2,20050201,       1756,   -35.0002,   -24.9987,       4104,  3097.1,   2.5048,  34.8792,2,  34.8792,2,    241.8,2,   241.5,2,   45.95,2,   22.86,2,    0.00,2,    1.51,2,   0.002,3,   0.070,4,   0.000,3,  2193.6,2,  2332.3,2,  -999.0,9,   20.00,   7.7108,2,    25.00,-999.000,9, -999.00,-999.000,9,-999.000,9, -999.00,9,  -999.0,9,  -999.0,-999.000,9,-999.000,   0.054,4,   38.71,2, 3097.10,-999.0000,9,-999.0000,9,-999.0000,9,-999.0000,9,-999.0000,9,-999.0000,9,   2.2551,     -999.0,-999.000,     -999.0,          9,     -999.0,          9,-999.000,          9
 33RO200501,       A16S,      55,          1,          4,          4,2,20050201,       1756,   -35.0002,   -24.9987,       4104,  3347.5,   2.2779,  34.8640,2,  34.8642,2,    241.7,2,   242.1,2,   52.67,6,   23.49,6,    0.00,6,    1.56,6,  -0.002,2,  -0.001,2,   0.002,2,  2198.0,2,  2333.4,2,  -999.0,9,   20.00,   7.7076,2,    25.00,-999.000,9, -999.00,-999.000,9,-999.000,9, -999.00,9,  -999.0,9,  -999.0,-999.000,9,-999.000,   0.045,4, -999.00,9, 3347.50,-999.0000,9,-999.0000,9,-999.0000,9,-999.0000,9,-999.0000,9,-999.0000,9,   2.0074,     -999.0,-999.000,     -999.0,          9,     -999.0,          9,-999.000,          9
 33RO200501,       A16S,      55,          1,          3,          3,2,20050201,       1756,   -35.0002,   -24.9987,       4104,  3598.3,   1.9604,  34.8346,2,  34.8342,2,    237.6,2,   238.1,2,   64.21,6,   24.90,6,    0.00,6,    1.67,6,   0.012,2,   0.002,2,   0.000,2,  2210.3,2,  2339.5,2,  -999.0,9,   20.00,   7.6970,2,    25.00,-999.000,9, -999.00,-999.000,9,-999.000,9, -999.00,9,  -999.0,9,  -999.0,-999.000,9,-999.000,   0.046,4,   38.53,2, 3598.30,-999.0000,9,-999.0000,9,-999.0000,9,-999.0000,9,-999.0000,9,-999.0000,9,   1.6714,     -999.0,-999.000,     -999.0,          9,     -999.0,          9,-999.000,          9
 33RO200501,       A16S,      55,          1,          2,          2,2,20050201,       1756,   -35.0002,   -24.9987,       4104,  3848.4,   1.7086,  34.8081,2,  34.8080,2,    233.2,2,   233.7,2,   74.55,6,   26.22,6,    0.00,6,    1.77,6,-999.000,5,-999.000,5,-999.000,5,  2219.7,2,  2346.9,6,  -999.0,9,   20.00,   7.6815,6,    25.00,-999.000,9, -999.00,-999.000,9,-999.000,9, -999.00,9,  -999.0,9,  -999.0,-999.000,9,-999.000,-999.000,5, -999.00,9, 3848.40,-999.0000,9,-999.0000,9,-999.0000,9,-999.0000,9,-999.0000,9,-999.0000,9,   1.3996,     -999.0,-999.000,     -999.0,          9,     -999.0,          9,-999.000,          9
 33RO200501,       A16S,      55,          1,          1,          1,2,20050201,       1756,   -35.0002,   -24.9987,       4104,  4159.9,   1.4293,  34.7732,2,  34.7738,2,    225.0,2,   225.9,2,   88.08,6,   28.07,6,    0.00,6,    1.92,6,   0.057,2,   0.024,2,   0.001,2,  2234.0,6,  2351.2,2,  -999.0,9,   20.00,   7.6690,2,    25.00,-999.000,9, -999.00,-999.000,9,-999.000,9, -999.00,9,  -999.0,9,  -999.0,-999.000,9,-999.000,   0.104,4,   38.43,2, 4159.90,-999.0000,9,-999.0000,9,-999.0000,9,-999.0000,9,-999.0000,9,-999.0000,9,   1.0943,     -999.0,-999.000,     -999.0,          9,     -999.0,          9,-999.000,          9