BOTTLE,20220818CCHSIOAMB
EXPOCODE,SECT_ID,STNNBR,CASTNO,SAMPNO,BTLNBR,BTLNBR_FLAG_W,DATE,TIME,LATITUDE,LONGITUDE,DEPTH,CTDPRS,CTDTMP,CTDSAL,CTDSAL_FLAG_W,SALNTY,SALNTY_FLAG_W,CTDOXY,CTDOXY_FLAG_W,OXYGEN,OXYGEN_FLAG_W,SILCAT,SILCAT_FLAG_W,NITRAT,NITRAT_FLAG_W,NITRIT,NITRIT_FLAG_W,PHSPHT,PHSPHT_FLAG_W,CFC-11,CFC-11_FLAG_W,CFC-12,CFC-12_FLAG_W,CFC113,CFC113_FLAG_W,TCARBN,TCARBN_FLAG_W,ALKALI,ALKALI_FLAG_W,PCO2,PCO2_FLAG_W,PCO2TMP,PH_SWS,PH_SWS_FLAG_W,PH_TMP,TRITUM,TRITUM_FLAG_W,TRITER,HELIUM,HELIUM_FLAG_W,DELHE3,DELHE3_FLAG_W,DELC13,DELC13_FLAG_W,DELC14,DELC14_FLAG_W,C14ERR,NEON,NEON_FLAG_W,NEONER,CCL4,CCL4_FLAG_W,DOC,DOC_FLAG_W,CTDRAW,CDOM325,CDOM325_FLAG_W,CDOM340,CDOM340_FLAG_W,CDOM380,CDOM380_FLAG_W,CDOM412,CDOM412_FLAG_W,CDOMSL,CDOMSL_FLAG_W,CDOMSN,CDOMSN_FLAG_W,THETA,HELIER,DELHER,CH3CL,CH3CL_FLAG_W,CH3BR,CH3BR_FLAG_W,CH3I,CH3I_FLAG_W
,,,,,,,,,,,METERS,DBAR,ITS-90,PSS-78,,PSS-78,,UMOL/KG,,UMOL/KG,,UMOL/KG,,UMOL/KG,,UMOL/KG,,UMOL/KG,,PMOL/KG,,PMOL/KG,,PMOL/KG,,UMOL/KG,,UMOL/KG,,UATM,,DEG C,,,DEG C,TU,,TU,NMOL/KG,,PERCNT,,/MILLE,,/MILLE,,/MILLE,NMOL/KG,,NMOL/KG,PMOL/KG,,UMOL/KG,,DBAR,1/M,,1/M,,1/M,,1/M,,1/NM,,1/NM,,DEG C,NMOL/KG,PERCNT,PMOL/KG,,PMOL/KG,,PMOL/KG,
 33RO200501,       A16S,      58,          1,         36,         36,2,20050202,       1351,   -33.5003,   -24.9997,       4331,     2.3,  21.6257,  35.7634,2,  35.7629,2,    223.4,2,   223.9,2,    1.88,2,    0.06,2,    0.00,2,    0.08,2,   2.067,2,   1.354,2,   0.171,2,  2051.9,2,  2348.9,6,  -999.0,9,   20.00,   8.0210,6,    25.00,-999.000,9, -999.00,-999.000,9,-999.000,9, -999.00,9,  -999.0,9,  -999.0,-999.000,9,-999.000,   1.837,4, -999.00,9,    2.30,-999.0000,9,-999.0000,9,-999.0000,9,-999.0000,9,-999.0000,9,-999.0000,9,  21.6253,     -999.0,-999.000,     59.967,          2,      0.000,          2,   4.669,          2
 33RO200501,       A16S,      58,          1,         35,         35,2,20050202,       1351,   -33.5003,   -24.9997,       4331,    24.5,  21.5297,  35.7580,2,  35.7572,2,    223.5,2,   223.7,2,    1.86,2,    0.06,2,    0.00,2,    0.07,2,-999.000,9,-999.000,9,-999.000,9,  -999.0,9,  -999.0,9,  -999.0,9,   20.00,-999.0000,9,    25.00,-999.000,9, -999.00,-999.000,9,-999.000,9, -999.00,9,  -999.0,9,  -999.0,-999.000,9,-999.000,-999.000,9, -999.00,9,   24.50,-999.0000,9,-999.0000,9,-999.0000,9,-999.0000,9,-999.0000,9,-999.0000,9,  21.5249,     -999.0,-999.000,     52.515,          2,      0.000,          2,   5.107,          2
 33RO200501,       A16S,      58,          1,         34,         34,2,20050202,       1351,   -33.5003,   -24.9997,       4331,    48.2,  20.3369,  35.8242,2,  35.8228,2,    230.9,2,   231.5,2,    1.83,2,    0.06,2,    0.00,2,    0.09,2,-999.000,9,-999.000,9,-999.000,9,  -999.0,9,  -999.0,9,  -999.0,9,   20.00,-999.0000,9,    25.00,-999.000,9, -999.00,-999.000,9,-999.000,9, -999.00,9,  -999.0,9,  -999.0,-999.000,9,-999.000,-999.000,9, -999.00,9,   48.20,-999.0000,9,-999.0000,9,-999.0000,9,-999.0000,9,-999.0000,9,-999.0000,9,  20.3278,     -999.0,-999.000,    135.218,          2,      0.000,          2,   8.368,          2
 33RO200501,       A16S,      58,          1,         33,         33,2,20050202,       1351,   -33.5003,   -24.9997,       4331,    68.8,  19.7591,  35.8024,2,  35.8056,2,    232.4,2,   233.7,2,    1.86,2,    0.06,2,    0.00,2,    0.10,2,-999.000,9,-999.000,9,-999.000,9,  -999.0,9,  -999.0,9,  -999.0,9,   20.00,-999.0000,9,    25.00,-999.000,9, -999.00,-999.000,9,-999.000,9, -999.00,9,  -999.0,9,  -999.0,-999.000,9,-999.000,-999.000,9, -999.00,9,   68.80,-999.0000,9,-999.0000,9,-999.0000,9,-999.0000,9,-999.0000,9,-999.0000,9,  19.7465,     -999.0,-999.000,     -999.0,          9,     -999.0,          9,-999.000,          9
 33RO200501,       A16S,      58,          1,         32,         32,2,20050202,       1351,   -33.5003,   -24.9997,       4331,    88.6,  18.9127,  35.8003,2,  35.8054,2,    237.6,2,   236.1,2,    1.84,2,    0.07,2,    0.00,2,    0.10,2,-999.000,9,-999.000,9,-999.000,9,  -999.0,9,  -999.0,9,  -999.0,9,   20.00,-999.0000,9,    25.00,-999.000,9, -999.00,-999.000,9,-999.000,9, -999.00,9,  -999.0,9,  -999.0,-999.000,9,-999.000,-999.000,9, -999.00,9,   88.60,-999.0000,9,-999.0000,9,-999.0000,9,-999.0000,9,-999.0000,9,-999.0000,9,  18.8969,     -999.0,-999.000,    120.594,          2,      0.000,          2,   5.418,          2
 33RO200501,       A16S,      58,          1,         31,         31,2,20050202,       1351,   -33.5003,   -24.9997,       4331,   113.4,  17.8975,  35.7716,2,  35.7716,2,    233.4,2,   231.9,2,    1.89,2,    0.07,2,    0.00,2,    0.12,2,   2.431,2,   1.557,2,   0.183,2,  2067.9,2,  2346.8,2,  -999.0,9,   20.00,   7.9960,2,    25.00,-999.000,9, -999.00,-999.000,9,-999.000,9, -999.00,9,  -999.0,9,  -999.0,-999.000,9,-999.000,   1.446,4, -999.00,9,  113.40,-999.0000,9,-999.0000,9,-999.0000,9,-999.0000,9,-999.0000,9,-999.0000,9,  17.8780,     -999.0,-999.000,     -999.0,          9,     -999.0,          9,-999.000,          9
 33RO200501,       A16S,      58,          1,         30,         30,2,20050202,       1351,   -33.5003,   -24.9997,       4331,   138.0,  16.9620,  35.6647,2,  35.6634,2,    225.9,2,   226.3,2,    2.09,2,    0.33,2,    0.07,2,    0.18,2,-999.000,9,-999.000,9,-999.000,9,  -999.0,9,  -999.0,9,  -999.0,9,   20.00,-999.0000,9,    25.00,-999.000,9, -999.00,-999.000,9,-999.000,9, -999.00,9,  -999.0,9,  -999.0,-999.000,9,-999.000,-999.000,9, -999.00,9,  138.00,-999.0000,9,-999.0000,9,-999.0000,9,-999.0000,9,-999.0000,9,-999.0000,9,  16.9392,     -999.0,-999.000,     -999.0,          9,     -999.0,          9,-999.000,          9
 33RO200501,       A16S,      58,          1,         29,         29,2,20050202,       1351,   -33.5003,   -24.9997,       4331,   164.4,  16.0556,  35.5613,2,  35.5628,2,    222.3,2,   222.6,2,    2.49,2,    1.60,2,    0.01,2,    0.26,2,-999.000,9,-999.000,9,-999.000,9,  -999.0,9,  -999.0,9,  -999.0,9,   20.00,-999.0000,9,    25.00,-999.000,9, -999.00,-999.000,9,-999.000,9, -999.00,9,  -999.0,9,  -999.0,-999.000,9,-999.000,-999.000,9, -999.00,9,  164.40,-999.0000,9,-999.0000,9,-999.0000,9,-999.0000,9,-999.0000,9,-999.0000,9,  16.0294,     -999.0,-999.000,     -999.0,          9,     -999.0,          9,-999.000,          9
 33RO200501,       A16S,      58,          1,         28,         28,2,20050202,       1351,   -33.5003,   -24.9997,       4331,   189.2,  15.4652,  35.4797,2,  35.4803,2,    219.2,2,   222.3,2,    2.69,2,    2.50,2,    0.01,2,    0.33,2,-999.000,9,-999.000,9,-999.000,9,  -999.0,9,  -999.0,9,  -999.0,9,   20.00,-999.0000,9,    25.00,-999.000,9, -999.00,-999.000,9,-999.000,9, -999.00,9,  -999.0,9,  -999.0,-999.000,9,-999.000,-999.000,9, -999.00,9,  189.20,-999.0000,9,-999.0000,9,-999.0000,9,-999.0000,9,-999.0000,9,-999.0000,9,  15.4358,     -999.0,-999.000,     -999.0,          9,     -999.0,          9,-999.000,          9
 33RO200501,       A16S,      58,          1,         27,         27,2,20050202,       1351,   -33.5003,   -24.9997,       4331,   222.4,  15.0891,  35.4888,2,  35.4880,2,    219.4,2,   220.7,2,    2.82,2,    3.57,2,    0.01,2,    0.38,2,   2.743,2,   1.665,2,   0.097,2,  -999.0,9,  2333.5,2,  -999.0,9,   20.00,   7.9230,6,    25.00,-999.000,9, -999.00,-999.000,9,-999.000,9, -999.00,9,  -999.0,9,  -999.0,-999.000,9,-999.000,   0.853,4, -999.00,9,  222.40,-999.0000,9,-999.0000,9,-999.0000,9,-999.0000,9,-999.0000,9,-999.0000,9,  15.0551,     -999.0,-999.000,     -999.0,          9,     -999.0,          9,-999.000,          9
 33RO200501,       A16S,      58,          1,         26,         26,2,20050202,       1351,   -33.5003,   -24.9997,       4331,   273.5,  14.3052,  35.4126,2,  35.4127,2,    216.7,2,   217.3,2,    3.42,2,    5.84,2,    0.01,2,    0.53,2,-999.000,9,-999.000,9,-999.000,9,  -999.0,9,  -999.0,9,  -999.0,9,   20.00,-999.0000,9,    25.00,-999.000,9, -999.00,-999.000,9,-999.000,9, -999.00,9,  -999.0,9,  -999.0,-999.000,9,-999.000,-999.000,9, -999.00,9,  273.50,-999.0000,9,-999.0000,9,-999.0000,9,-999.0000,9,-999.0000,9,-999.0000,9,  14.2649,     -999.0,-999.000,     -999.0,          9,     -999.0,          9,-999.000,          9
 33RO200501,       A16S,      58,          1,         25,         25,2,20050202,       1351,   -33.5003,   -24.9997,       4331,   324.6,  13.5851,  35.3054,2,  35.3082,2,    215.6,2,   216.6,2,    3.88,2,    7.51,2,    0.00,2,    0.65,2,-999.000,9,-999.000,9,-999.000,9,  -999.0,9,  -999.0,9,  -999.0,9,   20.00,-999.0000,9,    25.00,-999.000,9, -999.00,-999.000,9,-999.000,9, -999.00,9,  -999.0,9,  -999.0,-999.000,9,-999.000,-999.000,9, -999.00,9,  324.60,-999.0000,9,-999.0000,9,-999.0000,9,-999.0000,9,-999.0000,9,-999.0000,9,  13.5388,     -999.0,-999.000,     -999.0,          9,     -999.0,          9,-999.000,          9
 33RO200501,       A16S,      58,          1,         24,         24,2,20050202,       1351,   -33.5003,   -24.9997,       4331,   373.4,  12.6740,  35.1593,2,  35.1555,2,    213.9,2,   214.1,2,    4.62,2,    9.76,2,    0.00,2,    0.79,2,-999.000,9,-999.000,9,-999.000,9,  2116.8,2,  2318.3,2,  -999.0,9,   20.00,   7.8465,6,    25.00,-999.000,9, -999.00,-999.000,9,-999.000,9, -999.00,9,  -999.0,9,  -999.0,-999.000,9,-999.000,-999.000,9, -999.00,9,  373.40,-999.0000,9,-999.0000,9,-999.0000,9,-999.0000,9,-999.0000,9,-999.0000,9,  12.6231,     -999.0,-999.000,     -999.0,          9,     -999.0,          9,-999.000,          9
 33RO200501,       A16S,      58,          1,         23,         23,2,20050202,       1351,   -33.5003,   -24.9997,       4331,   449.2,  11.6370,  35.0154,2,  35.0144,2,    214.5,2,   212.9,2,    5.46,2,   12.33,2,    0.00,2,    0.94,2,   3.035,2,   1.714,2,   0.074,2,  -999.0,9,  -999.0,9,  -999.0,9,   20.00,-999.0000,9,    25.00,-999.000,9, -999.00,-999.000,9,-999.000,9, -999.00,9,  -999.0,9,  -999.0,-999.000,9,-999.000,   0.887,4, -999.00,9,  449.20,-999.0000,9,-999.0000,9,-999.0000,9,-999.0000,9,-999.0000,9,-999.0000,9,  11.5790,     -999.0,-999.000,     -999.0,          9,     -999.0,          9,-999.000,          9
 33RO200501,       A16S,      58,          1,         22,         22,2,20050202,       1351,   -33.5003,   -24.9997,       4331,   548.8,   9.5595,  34.7416,2,  34.7400,2,    211.6,2,   211.4,2,    7.98,2,   17.78,2,    0.00,2,    1.25,2,-999.000,9,-999.000,9,-999.000,9,  -999.0,9,  -999.0,9,  -999.0,9,   20.00,-999.0000,9,    25.00,-999.000,9, -999.00,-999.000,9,-999.000,9, -999.00,9,  -999.0,9,  -999.0,-999.000,9,-999.000,-999.000,9, -999.00,9,  548.80,-999.0000,9,-999.0000,9,-999.0000,9,-999.0000,9,-999.0000,9,-999.0000,9,   9.4966,     -999.0,-999.000,     -999.0,          9,     -999.0,          9,-999.000,          9
 33RO200501,       A16S,      58,          1,         21,         21,2,20050202,       1351,   -33.5003,   -24.9997,       4331,   650.3,   7.5669,  34.5175,2,  34.5195,2,    215.1,2,   214.5,2,   11.42,2,   22.52,2,    0.00,2,    1.53,2,-999.000,9,-999.000,9,-999.000,9,  -999.0,9,  -999.0,9,  -999.0,9,   20.00,-999.0000,9,    25.00,-999.000,9, -999.00,-999.000,9,-999.000,9, -999.00,9,  -999.0,9,  -999.0,-999.000,9,-999.000,-999.000,9, -999.00,9,  650.30,-999.0000,9,-999.0000,9,-999.0000,9,-999.0000,9,-999.0000,9,-999.0000,9,   7.5017,     -999.0,-999.000,     -999.0,          9,     -999.0,          9,-999.000,          9
 33RO200501,       A16S,      58,          1,         20,         20,2,20050202,       1351,   -33.5003,   -24.9997,       4331,   749.9,   5.8333,  34.3433,2,  34.3405,2,    228.6,2,   231.4,2,   14.37,2,   25.50,2,    0.00,2,    1.72,2,-999.000,9,-999.000,9,-999.000,9,  -999.0,9,  -999.0,9,  -999.0,9,   20.00,-999.0000,9,    25.00,-999.000,9, -999.00,-999.000,9,-999.000,9, -999.00,9,  -999.0,9,  -999.0,-999.000,9,-999.000,-999.000,9, -999.00,9,  749.90,-999.0000,9,-999.0000,9,-999.0000,9,-999.0000,9,-999.0000,9,-999.0000,9,   5.7676,     -999.0,-999.000,     -999.0,          9,     -999.0,          9,-999.000,          9
 33RO200501,       A16S,      58,          1,         19,         19,2,20050202,       1351,   -33.5003,   -24.9997,       4331,   849.6,   4.9044,  34.2819,2,  34.2809,2,    234.7,2,   236.2,2,   18.25,2,   27.35,2,    0.00,2,    1.83,2,-999.000,9,-999.000,9,-999.000,9,  -999.0,9,  -999.0,9,  -999.0,9,   20.00,-999.0000,9,    25.00,-999.000,9, -999.00,-999.000,9,-999.000,9, -999.00,9,  -999.0,9,  -999.0,-999.000,9,-999.000,-999.000,9, -999.00,9,  849.60,-999.0000,9,-999.0000,9,-999.0000,9,-999.0000,9,-999.0000,9,-999.0000,9,   4.8355,     -999.0,-999.000,     13.160,          2,      0.806,          2,   0.032,          2
 33RO200501,       A16S,      58,          1,         18,         18,2,20050202,       1351,   -33.5003,   -24.9997,       4331,   950.2,   4.2582,  34.2653,2,  34.2654,2,    232.7,2,   233.5,2,   23.32,2,   28.82,2,    0.00,2,    1.93,2,-999.000,9,-999.000,9,-999.000,9,  2175.6,2,  2290.0,2,  -999.0,9,   20.00,   7.6543,2,    25.00,-999.000,9, -999.00,-999.000,9,-999.000,9, -999.00,9,  -999.0,9,  -999.0,-999.000,9,-999.000,-999.000,9, -999.00,9,  950.20,-999.0000,9,-999.0000,9,-999.0000,9,-999.0000,9,-999.0000,9,-999.0000,9,   4.1852,     -999.0,-999.000,     -999.0,          9,     -999.0,          9,-999.000,          9
 33RO200501,       A16S,      58,          1,         17,         17,2,20050202,       1351,   -33.5003,   -24.9997,       4331,  1049.0,   3.6509,  34.2860,2,  34.2856,2,    224.2,2,   223.5,2,   31.82,2,   30.64,2,    0.00,2,    2.06,2,   2.013,2,   1.012,2,   0.114,2,  -999.0,9,  -999.0,9,  -999.0,9,   20.00,-999.0000,9,    25.00,-999.000,9, -999.00,-999.000,9,-999.000,9, -999.00,9,  -999.0,9,  -999.0,-999.000,9,-999.000,   2.126,4, -999.00,9, 1049.00,-999.0000,9,-999.0000,9,-999.0000,9,-999.0000,9,-999.0000,9,-999.0000,9,   3.5743,     -999.0,-999.000,     -999.0,          9,     -999.0,          9,-999.000,          9
 33RO200501,       A16S,      58,          1,         16,         16,2,20050202,       1351,   -33.5003,   -24.9997,       4331,  1149.1,   3.3477,  34.3261,2,  34.3282,2,    214.6,2,   212.5,2,   39.18,2,   31.83,2,    0.00,2,    2.13,2,-999.000,9,-999.000,9,-999.000,9,  -999.0,9,  -999.0,9,  -999.0,9,   20.00,-999.0000,9,    25.00,-999.000,9, -999.00,-999.000,9,-999.000,9, -999.00,9,  -999.0,9,  -999.0,-999.000,9,-999.000,-999.000,9, -999.00,9, 1149.10,-999.0000,9,-999.0000,9,-999.0000,9,-999.0000,9,-999.0000,9,-999.0000,9,   3.2656,     -999.0,-999.000,     13.116,          2,      0.926,          2,   0.035,          2
 33RO200501,       A16S,      58,          1,         15,         15,2,20050202,       1351,   -33.5003,   -24.9997,       4331,  1248.7,   3.1374,  34.3805,2,  34.3782,2,    203.7,2,   203.0,2,   45.73,2,   32.50,2,    0.00,2,    2.19,2,-999.000,9,-999.000,9,-999.000,9,  -999.0,9,  -999.0,9,  -999.0,9,   20.00,-999.0000,9,    25.00,-999.000,9, -999.00,-999.000,9,-999.000,9, -999.00,9,  -999.0,9,  -999.0,-999.000,9,-999.000,-999.000,9, -999.00,9, 1248.70,-999.0000,9,-999.0000,9,-999.0000,9,-999.0000,9,-999.0000,9,-999.0000,9,   3.0492,     -999.0,-999.000,     -999.0,          9,     -999.0,          9,-999.000,          9
 33RO200501,       A16S,      58,          1,         14,         14,2,20050202,       1351,   -33.5003,   -24.9997,       4331,  1396.3,   2.9512,  34.4883,2,  34.4870,2,    191.9,2,   191.2,2,   53.81,2,   32.66,2,    0.00,2,    2.20,2,-999.000,9,-999.000,9,-999.000,9,  -999.0,9,  -999.0,9,  -999.0,9,   20.00,-999.0000,9,    25.00,-999.000,9, -999.00,-999.000,9,-999.000,9, -999.00,9,  -999.0,9,  -999.0,-999.000,9,-999.000,-999.000,9, -999.00,9, 1396.30,-999.0000,9,-999.0000,9,-999.0000,9,-999.0000,9,-999.0000,9,-999.0000,9,   2.8527,     -999.0,-999.000,     -999.0,          9,     -999.0,          9,-999.000,          9
 33RO200501,       A16S,      58,          1,         13,         13,2,20050202,       1351,   -33.5003,   -24.9997,       4331,  1600.3,   2.8216,  34.6136,2,  34.6123,2,    186.5,2,   187.7,2,   59.35,2,   31.55,2,    0.00,2,    2.14,2,-999.000,9,-999.000,9,-999.000,9,  -999.0,9,  -999.0,9,  -999.0,9,   20.00,-999.0000,9,    25.00,-999.000,9, -999.00,-999.000,9,-999.000,9, -999.00,9,  -999.0,9,  -999.0,-999.000,9,-999.000,-999.000,9, -999.00,9, 1600.30,-999.0000,9,-999.0000,9,-999.0000,9,-999.0000,9,-999.0000,9,-999.0000,9,   2.7074,     -999.0,-999.000,     42.229,          2,      1.446,          2,   0.121,          2
 33RO200501,       A16S,      58,          1,         12,         12,2,20050202,       1351,   -33.5003,   -24.9997,       4331,  1800.4,   2.8431,  34.7132,2,  34.7131,2,    195.5,2,   196.2,2,   56.92,2,   29.26,2,    0.00,2,    1.99,2,-999.000,9,-999.000,9,-999.000,9,  -999.0,9,  -999.0,9,  -999.0,9,   20.00,-999.0000,9,    25.00,-999.000,9, -999.00,-999.000,9,-999.000,9, -999.00,9,  -999.0,9,  -999.0,-999.000,9,-999.000,-999.000,9, -999.00,9, 1800.40,-999.0000,9,-999.0000,9,-999.0000,9,-999.0000,9,-999.0000,9,-999.0000,9,   2.7113,     -999.0,-999.000,     -999.0,          9,     -999.0,          9,-999.000,          9
 33RO200501,       A16S,      58,          1,         11,         11,2,20050202,       1351,   -33.5003,   -24.9997,       4331,  1999.6,   2.8628,  34.7814,2,  34.7807,2,    206.8,2,   208.5,2,   52.01,2,   27.05,2,    0.00,2,    1.84,2,   0.043,2,   0.019,2,   0.000,2,  -999.0,9,  -999.0,9,  -999.0,9,   20.00,-999.0000,9,    25.00,-999.000,9, -999.00,-999.000,9,-999.000,9, -999.00,9,  -999.0,9,  -999.0,-999.000,9,-999.000,   0.115,4, -999.00,9, 1999.60,-999.0000,9,-999.0000,9,-999.0000,9,-999.0000,9,-999.0000,9,-999.0000,9,   2.7129,     -999.0,-999.000,     -999.0,          9,     -999.0,          9,-999.000,          9
 33RO200501,       A16S,      58,          1,         10,         10,2,20050202,       1351,   -33.5003,   -24.9997,       4331,  2199.3,   2.8331,  34.8212,2,  34.8206,2,    217.0,2,   219.3,2,   47.95,2,   25.37,2,    0.00,2,    1.73,2,-999.000,9,-999.000,9,-999.000,9,  2207.2,2,  2332.5,2,  -999.0,9,   20.00,   7.6742,6,    25.00,-999.000,9, -999.00,-999.000,9,-999.000,9, -999.00,9,  -999.0,9,  -999.0,-999.000,9,-999.000,-999.000,9, -999.00,9, 2199.30,-999.0000,9,-999.0000,9,-999.0000,9,-999.0000,9,-999.0000,9,-999.0000,9,   2.6652,     -999.0,-999.000,     10.020,          2,      0.358,          2,   0.051,          2
 33RO200501,       A16S,      58,          1,          9,          9,2,20050202,       1351,   -33.5003,   -24.9997,       4331,  2399.7,   2.7952,  34.8471,2,  34.8462,2,    225.4,2,   227.7,2,   45.19,2,   24.18,2,    0.00,2,    1.64,2,-999.000,9,-999.000,9,-999.000,9,  -999.0,9,  -999.0,9,  -999.0,9,   20.00,-999.0000,9,    25.00,-999.000,9, -999.00,-999.000,9,-999.000,9, -999.00,9,  -999.0,9,  -999.0,-999.000,9,-999.000,-999.000,9, -999.00,9, 2399.70,-999.0000,9,-999.0000,9,-999.0000,9,-999.0000,9,-999.0000,9,-999.0000,9,   2.6090,     -999.0,-999.000,     -999.0,          9,     -999.0,          9,-999.000,          9
 33RO200501,       A16S,      58,          1,          8,          8,2,20050202,       1351,   -33.5003,   -24.9997,       4331,  2600.3,   2.7937,  34.8723,2,  34.8711,2,    234.8,2,   235.4,2,   41.67,2,   22.97,2,    0.00,2,    1.56,2,-999.000,9,-999.000,9,-999.000,9,  -999.0,9,  -999.0,9,  -999.0,9,   20.00,-999.0000,9,    25.00,-999.000,9, -999.00,-999.000,9,-999.000,9, -999.00,9,  -999.0,9,  -999.0,-999.000,9,-999.000,-999.000,9, -999.00,9, 2600.30,-999.0000,9,-999.0000,9,-999.0000,9,-999.0000,9,-999.0000,9,-999.0000,9,   2.5881,     -999.0,-999.000,     -999.0,          9,     -999.0,          9,-999.000,          9