BOTTLE,20220818CCHSIOAMB
EXPOCODE,SECT_ID,STNNBR,CASTNO,SAMPNO,BTLNBR,BTLNBR_FLAG_W,DATE,TIME,LATITUDE,LONGITUDE,DEPTH,CTDPRS,CTDTMP,CTDSAL,CTDSAL_FLAG_W,SALNTY,SALNTY_FLAG_W,CTDOXY,CTDOXY_FLAG_W,OXYGEN,OXYGEN_FLAG_W,SILCAT,SILCAT_FLAG_W,NITRAT,NITRAT_FLAG_W,NITRIT,NITRIT_FLAG_W,PHSPHT,PHSPHT_FLAG_W,CFC-11,CFC-11_FLAG_W,CFC-12,CFC-12_FLAG_W,CFC113,CFC113_FLAG_W,TCARBN,TCARBN_FLAG_W,ALKALI,ALKALI_FLAG_W,PCO2,PCO2_FLAG_W,PCO2TMP,PH_SWS,PH_SWS_FLAG_W,PH_TMP,TRITUM,TRITUM_FLAG_W,TRITER,HELIUM,HELIUM_FLAG_W,DELHE3,DELHE3_FLAG_W,DELC13,DELC13_FLAG_W,DELC14,DELC14_FLAG_W,C14ERR,NEON,NEON_FLAG_W,NEONER,CCL4,CCL4_FLAG_W,DOC,DOC_FLAG_W,CTDRAW,CDOM325,CDOM325_FLAG_W,CDOM340,CDOM340_FLAG_W,CDOM380,CDOM380_FLAG_W,CDOM412,CDOM412_FLAG_W,CDOMSL,CDOMSL_FLAG_W,CDOMSN,CDOMSN_FLAG_W,THETA,HELIER,DELHER,CH3CL,CH3CL_FLAG_W,CH3BR,CH3BR_FLAG_W,CH3I,CH3I_FLAG_W
,,,,,,,,,,,METERS,DBAR,ITS-90,PSS-78,,PSS-78,,UMOL/KG,,UMOL/KG,,UMOL/KG,,UMOL/KG,,UMOL/KG,,UMOL/KG,,PMOL/KG,,PMOL/KG,,PMOL/KG,,UMOL/KG,,UMOL/KG,,UATM,,DEG C,,,DEG C,TU,,TU,NMOL/KG,,PERCNT,,/MILLE,,/MILLE,,/MILLE,NMOL/KG,,NMOL/KG,PMOL/KG,,UMOL/KG,,DBAR,1/M,,1/M,,1/M,,1/M,,1/NM,,1/NM,,DEG C,NMOL/KG,PERCNT,PMOL/KG,,PMOL/KG,,PMOL/KG,
 33RO200501,       A16S,      90,          1,         36,         36,2,20050212,       1238,   -17.5008,   -24.9998,       5264,     3.5,  26.8658,  37.3460,2,  37.3450,2,    202.8,2,   201.6,2,    2.22,2,    0.00,2,    0.01,2,    0.13,2,   1.658,2,   1.084,2,   0.131,2,  2107.5,6,  2429.1,4,  -999.0,9,   20.00,   8.0651,6,    25.00,-999.000,9, -999.00,-999.000,9,-999.000,9, -999.00,9,  -999.0,9,  -999.0,-999.000,9,-999.000,   1.437,4, -999.00,9,    3.50,-999.0000,9,-999.0000,9,-999.0000,9,-999.0000,9,-999.0000,9,-999.0000,9,  26.8650,     -999.0,-999.000,     62.436,          2,      0.443,          2,   1.917,          2
 33RO200501,       A16S,      90,          1,         35,         35,2,20050212,       1238,   -17.5008,   -24.9998,       5264,    23.5,  26.6261,  37.3362,2,  37.3373,2,    202.8,2,   203.0,2,    2.32,2,    0.00,2,    0.01,2,    0.12,2,-999.000,9,-999.000,9,-999.000,9,  -999.0,9,  -999.0,9,  -999.0,9,   20.00,-999.0000,9,    25.00,-999.000,9, -999.00,-999.000,9,-999.000,9, -999.00,9,  -999.0,9,  -999.0,-999.000,9,-999.000,-999.000,9, -999.00,9,   23.50,-999.0000,9,-999.0000,9,-999.0000,9,-999.0000,9,-999.0000,9,-999.0000,9,  26.6207,     -999.0,-999.000,     72.037,          2,      0.355,          2,   2.300,          2
 33RO200501,       A16S,      90,          1,         34,         34,2,20050212,       1238,   -17.5008,   -24.9998,       5264,    54.0,  25.2585,  37.1247,2,  37.1089,2,    210.9,2,   214.8,2,    2.46,2,    0.00,2,    0.01,2,    0.16,2,-999.000,9,-999.000,9,-999.000,9,  -999.0,9,  -999.0,9,  -999.0,9,   20.00,-999.0000,9,    25.00,-999.000,9, -999.00,-999.000,9,-999.000,9, -999.00,9,  -999.0,9,  -999.0,-999.000,9,-999.000,-999.000,9, -999.00,9,   54.00,-999.0000,9,-999.0000,9,-999.0000,9,-999.0000,9,-999.0000,9,-999.0000,9,  25.2466,     -999.0,-999.000,     -999.0,          9,     -999.0,          9,-999.000,          9
 33RO200501,       A16S,      90,          1,         33,         33,2,20050212,       1238,   -17.5008,   -24.9998,       5264,    83.8,  23.7717,  37.0562,2,  37.0561,2,    219.4,2,   217.9,2,    2.57,2,    0.01,2,    0.01,2,    0.16,2,   1.891,2,   1.221,2,   0.149,2,  2098.8,2,  2384.3,4,  -999.0,9,   20.00,   8.0528,2,    25.00,-999.000,9, -999.00,-999.000,9,-999.000,9, -999.00,9,  -999.0,9,  -999.0,-999.000,9,-999.000,   1.223,4, -999.00,9,   83.80,-999.0000,9,-999.0000,9,-999.0000,9,-999.0000,9,-999.0000,9,-999.0000,9,  23.7540,     -999.0,-999.000,    205.534,          2,      0.238,          2,   3.012,          2
 33RO200501,       A16S,      90,          1,         32,         32,2,20050212,       1238,   -17.5008,   -24.9998,       5264,   112.4,  23.4505,  37.0325,2,  37.0311,2,    214.8,2,   213.1,2,    2.66,2,    0.02,2,    0.01,2,    0.17,2,-999.000,9,-999.000,9,-999.000,9,  -999.0,9,  -999.0,9,  -999.0,9,   20.00,-999.0000,9,    25.00,-999.000,9, -999.00,-999.000,9,-999.000,9, -999.00,9,  -999.0,9,  -999.0,-999.000,9,-999.000,-999.000,9, -999.00,9,  112.40,-999.0000,9,-999.0000,9,-999.0000,9,-999.0000,9,-999.0000,9,-999.0000,9,  23.4270,     -999.0,-999.000,     -999.0,          9,     -999.0,          9,-999.000,          9
 33RO200501,       A16S,      90,          1,         31,         31,2,20050212,       1238,   -17.5008,   -24.9998,       5264,   163.4,  20.0150,  36.3633,2,  36.3681,2,    204.3,2,   202.6,2,    3.06,2,    0.60,2,    0.14,2,    0.27,2,   2.228,2,   1.398,2,   0.133,2,  2108.2,2,  2307.1,4,  -999.0,9,   20.00,   7.9826,2,    25.00,-999.000,9, -999.00,-999.000,9,-999.000,9, -999.00,9,  -999.0,9,  -999.0,-999.000,9,-999.000,   0.799,4, -999.00,9,  163.40,-999.0000,9,-999.0000,9,-999.0000,9,-999.0000,9,-999.0000,9,-999.0000,9,  19.9845,     -999.0,-999.000,     23.013,          2,      0.039,          2,   0.156,          2
 33RO200501,       A16S,      90,          1,         30,         30,2,20050212,       1238,   -17.5008,   -24.9998,       5264,   213.8,  16.6188,  35.7419,2,  35.7414,2,    197.2,2,   198.3,2,    3.88,2,    4.93,2,    0.02,2,    0.48,2,-999.000,9,-999.000,9,-999.000,9,  -999.0,9,  -999.0,9,  -999.0,9,   20.00,-999.0000,9,    25.00,-999.000,9, -999.00,-999.000,9,-999.000,9, -999.00,9,  -999.0,9,  -999.0,-999.000,9,-999.000,-999.000,9, -999.00,9,  213.80,-999.0000,9,-999.0000,9,-999.0000,9,-999.0000,9,-999.0000,9,-999.0000,9,  16.5839,     -999.0,-999.000,     -999.0,          9,     -999.0,          9,-999.000,          9
 33RO200501,       A16S,      90,          1,         29,         29,2,20050212,       1238,   -17.5008,   -24.9998,       5264,   263.5,  14.5774,  35.4136,2,  35.4123,2,    195.7,2,   197.7,2,    4.69,2,    8.38,2,    0.01,2,    0.66,2,-999.000,9,-999.000,9,-999.000,9,  -999.0,9,  -999.0,9,  -999.0,9,   20.00,-999.0000,9,    25.00,-999.000,9, -999.00,-999.000,9,-999.000,9, -999.00,9,  -999.0,9,  -999.0,-999.000,9,-999.000,-999.000,9, -999.00,9,  263.50,-999.0000,9,-999.0000,9,-999.0000,9,-999.0000,9,-999.0000,9,-999.0000,9,  14.5381,     -999.0,-999.000,      6.690,          2,      0.069,          2,   0.000,          2
 33RO200501,       A16S,      90,          1,         28,         28,2,20050212,       1238,   -17.5008,   -24.9998,       5264,   313.9,  12.6565,  35.1421,2,  35.1380,2,    184.0,2,   183.0,2,    6.43,2,   13.97,2,    0.01,2,    0.97,2,   2.730,2,   1.531,2,   0.033,2,  2134.2,2,  2309.4,4,  -999.0,9,   20.00,   7.7957,2,    25.00,-999.000,9, -999.00,-999.000,9,-999.000,9, -999.00,9,  -999.0,9,  -999.0,-999.000,9,-999.000,   0.589,4, -999.00,9,  313.90,-999.0000,9,-999.0000,9,-999.0000,9,-999.0000,9,-999.0000,9,-999.0000,9,  12.6139,     -999.0,-999.000,     -999.0,          9,     -999.0,          9,-999.000,          9
 33RO200501,       A16S,      90,          1,         27,         27,2,20050212,       1238,   -17.5008,   -24.9998,       5264,   363.6,  11.3212,  34.9751,2,  34.9749,2,    175.9,2,   175.6,2,    8.13,2,   17.57,2,    0.01,2,    1.17,2,-999.000,9,-999.000,9,-999.000,9,  -999.0,9,  -999.0,9,  -999.0,9,   20.00,-999.0000,9,    25.00,-999.000,9, -999.00,-999.000,9,-999.000,9, -999.00,9,  -999.0,9,  -999.0,-999.000,9,-999.000,-999.000,9, -999.00,9,  363.60,-999.0000,9,-999.0000,9,-999.0000,9,-999.0000,9,-999.0000,9,-999.0000,9,  11.2752,     -999.0,-999.000,      4.962,          2,      0.038,          2,   0.000,          2
 33RO200501,       A16S,      90,          1,         26,         26,2,20050212,       1238,   -17.5008,   -24.9998,       5264,   413.9,   9.9958,  34.8257,2,  34.8270,2,    168.9,2,   168.8,2,   10.42,2,   21.17,2,    0.00,2,    1.39,2,-999.000,9,-999.000,9,-999.000,9,  -999.0,9,  -999.0,9,  -999.0,9,   20.00,-999.0000,9,    25.00,-999.000,9, -999.00,-999.000,9,-999.000,9, -999.00,9,  -999.0,9,  -999.0,-999.000,9,-999.000,-999.000,9, -999.00,9,  413.90,-999.0000,9,-999.0000,9,-999.0000,9,-999.0000,9,-999.0000,9,-999.0000,9,   9.9474,     -999.0,-999.000,     -999.0,          9,     -999.0,          9,-999.000,          9
 33RO200501,       A16S,      90,          1,         25,         25,2,20050212,       1238,   -17.5008,   -24.9998,       5264,   463.9,   8.8612,  34.7123,2,  34.7118,2,    159.0,2,   160.9,2,   13.28,2,   24.67,2,    0.00,2,    1.60,2,-999.000,9,-999.000,9,-999.000,9,  -999.0,9,  -999.0,9,  -999.0,9,   20.00,-999.0000,9,    25.00,-999.000,9, -999.00,-999.000,9,-999.000,9, -999.00,9,  -999.0,9,  -999.0,-999.000,9,-999.000,-999.000,9, -999.00,9,  463.90,-999.0000,9,-999.0000,9,-999.0000,9,-999.0000,9,-999.0000,9,-999.0000,9,   8.8107,     -999.0,-999.000,      2.690,          2,      0.052,          2,   0.000,          2
 33RO200501,       A16S,      90,          1,         24,         24,2,20050212,       1238,   -17.5008,   -24.9998,       5264,   549.5,   7.0081,  34.5557,2,  34.5521,2,    153.7,2,   156.8,2,   19.27,2,   29.38,2,    0.00,2,    1.89,2,-999.000,9,-999.000,9,-999.000,9,  -999.0,9,  -999.0,9,  -999.0,9,   20.00,-999.0000,9,    25.00,-999.000,9, -999.00,-999.000,9,-999.000,9, -999.00,9,  -999.0,9,  -999.0,-999.000,9,-999.000,-999.000,9, -999.00,9,  549.50,-999.0000,9,-999.0000,9,-999.0000,9,-999.0000,9,-999.0000,9,-999.0000,9,   6.9556,     -999.0,-999.000,     -999.0,          9,     -999.0,          9,-999.000,          9
 33RO200501,       A16S,      90,          1,         23,         23,2,20050212,       1238,   -17.5008,   -24.9998,       5264,   650.6,   5.6675,  34.4757,2,  34.4720,2,    159.4,2,   157.0,2,   25.19,2,   31.98,2,    0.00,2,    2.06,2,   0.578,2,   0.299,2,   0.013,2,  -999.0,9,  -999.0,9,  -999.0,9,   20.00,-999.0000,9,    25.00,-999.000,9, -999.00,-999.000,9,-999.000,9, -999.00,9,  -999.0,9,  -999.0,-999.000,9,-999.000,   0.598,4, -999.00,9,  650.60,-999.0000,9,-999.0000,9,-999.0000,9,-999.0000,9,-999.0000,9,-999.0000,9,   5.6116,     -999.0,-999.000,     -999.0,          9,     -999.0,          9,-999.000,          9
 33RO200501,       A16S,      90,          1,         22,         22,2,20050212,       1238,   -17.5008,   -24.9998,       5264,   748.9,   4.5195,  34.4366,2,  34.4359,2,    169.4,2,   169.3,2,   32.11,2,   32.96,2,    0.00,2,    2.14,2,-999.000,9,-999.000,9,-999.000,9,  -999.0,9,  -999.0,9,  -999.0,9,   20.00,-999.0000,9,    25.00,-999.000,9, -999.00,-999.000,9,-999.000,9, -999.00,9,  -999.0,9,  -999.0,-999.000,9,-999.000,-999.000,9, -999.00,9,  748.90,-999.0000,9,-999.0000,9,-999.0000,9,-999.0000,9,-999.0000,9,-999.0000,9,   4.4613,     -999.0,-999.000,      3.362,          2,      0.234,          2,   0.000,          2
 33RO200501,       A16S,      90,          1,         21,         21,2,20050212,       1238,   -17.5008,   -24.9998,       5264,   848.7,   4.0690,  34.4581,2,  34.4567,2,    172.2,2,   173.3,2,   36.21,2,   32.98,2,    0.00,2,    2.15,2,-999.000,9,-999.000,9,-999.000,9,  -999.0,9,  -999.0,9,  -999.0,9,   20.00,-999.0000,9,    25.00,-999.000,9, -999.00,-999.000,9,-999.000,9, -999.00,9,  -999.0,9,  -999.0,-999.000,9,-999.000,-999.000,9, -999.00,9,  848.70,-999.0000,9,-999.0000,9,-999.0000,9,-999.0000,9,-999.0000,9,-999.0000,9,   4.0054,     -999.0,-999.000,     -999.0,          9,     -999.0,          9,-999.000,          9
 33RO200501,       A16S,      90,          1,         20,         20,2,20050212,       1238,   -17.5008,   -24.9998,       5264,   948.9,   3.8544,  34.5106,2,  34.5097,2,    175.5,2,   175.6,2,   38.48,6,   32.44,6,    0.00,6,    2.11,6,-999.000,9,-999.000,9,-999.000,9,  -999.0,9,  -999.0,9,  -999.0,9,   20.00,-999.0000,9,    25.00,-999.000,9, -999.00,-999.000,9,-999.000,9, -999.00,9,  -999.0,9,  -999.0,-999.000,9,-999.000,-999.000,9, -999.00,9,  948.90,-999.0000,9,-999.0000,9,-999.0000,9,-999.0000,9,-999.0000,9,-999.0000,9,   3.7840,     -999.0,-999.000,     -999.0,          9,     -999.0,          9,-999.000,          9
 33RO200501,       A16S,      90,          1,         19,         19,2,20050212,       1238,   -17.5008,   -24.9998,       5264,  1051.0,   3.7737,  34.5802,2,  34.5797,2,    179.5,2,   178.9,2,   38.24,2,   31.37,2,    0.00,2,    2.05,2,-999.000,9,-999.000,9,-999.000,9,  -999.0,9,  -999.0,9,  -999.0,9,   20.00,-999.0000,9,    25.00,-999.000,9, -999.00,-999.000,9,-999.000,9, -999.00,9,  -999.0,9,  -999.0,-999.000,9,-999.000,-999.000,9, -999.00,9, 1051.00,-999.0000,9,-999.0000,9,-999.0000,9,-999.0000,9,-999.0000,9,-999.0000,9,   3.6955,     -999.0,-999.000,      3.590,          2,      0.135,          2,   0.000,          2
 33RO200501,       A16S,      90,          1,         18,         18,2,20050212,       1238,   -17.5008,   -24.9998,       5264,  1149.6,   3.7893,  34.6554,2,  34.6545,2,    184.8,2,   184.9,2,   36.34,2,   29.98,2,    0.00,2,    1.95,2,   0.023,2,   0.013,2,   0.000,2,  2210.8,2,  2329.7,4,  -999.0,9,   20.00,   7.6150,2,    25.00,-999.000,9, -999.00,-999.000,9,-999.000,9, -999.00,9,  -999.0,9,  -999.0,-999.000,9,-999.000,   0.094,4, -999.00,9, 1149.60,-999.0000,9,-999.0000,9,-999.0000,9,-999.0000,9,-999.0000,9,-999.0000,9,   3.7026,     -999.0,-999.000,     -999.0,          9,     -999.0,          9,-999.000,          9
 33RO200501,       A16S,      90,          1,         17,         17,2,20050212,       1238,   -17.5008,   -24.9998,       5264,  1249.1,   3.8454,  34.7299,2,  34.7334,2,    191.9,2,   191.8,2,   33.52,2,   28.40,2,    0.00,2,    1.83,2,-999.000,9,-999.000,9,-999.000,9,  -999.0,9,  -999.0,9,  -999.0,9,   20.00,-999.0000,9,    25.00,-999.000,9, -999.00,-999.000,9,-999.000,9, -999.00,9,  -999.0,9,  -999.0,-999.000,9,-999.000,-999.000,9, -999.00,9, 1249.10,-999.0000,9,-999.0000,9,-999.0000,9,-999.0000,9,-999.0000,9,-999.0000,9,   3.7495,     -999.0,-999.000,     -999.0,          9,     -999.0,          9,-999.000,          9
 33RO200501,       A16S,      90,          1,         16,         16,2,20050212,       1238,   -17.5008,   -24.9998,       5264,  1400.1,   3.7747,  34.8224,2,  34.8214,2,    206.9,2,   206.8,2,   30.37,2,   25.83,2,    0.00,2,    1.66,2,-999.000,9,-999.000,9,-999.000,9,  -999.0,9,  -999.0,9,  -999.0,9,   20.00,-999.0000,9,    25.00,-999.000,9, -999.00,-999.000,9,-999.000,9, -999.00,9,  -999.0,9,  -999.0,-999.000,9,-999.000,-999.000,9, -999.00,9, 1400.10,-999.0000,9,-999.0000,9,-999.0000,9,-999.0000,9,-999.0000,9,-999.0000,9,   3.6663,     -999.0,-999.000,      3.023,          2,      0.008,          2,   0.000,          2
 33RO200501,       A16S,      90,          1,         15,         15,2,20050212,       1238,   -17.5008,   -24.9998,       5264,  1601.1,   3.5518,  34.8879,2,  34.8870,2,    224.3,2,   225.4,2,   28.76,2,   23.31,2,    0.01,2,    1.49,2,   0.010,2,   0.010,2,   0.000,2,  -999.0,9,  -999.0,9,  -999.0,9,   20.00,-999.0000,9,    25.00,-999.000,9, -999.00,-999.000,9,-999.000,9, -999.00,9,  -999.0,9,  -999.0,-999.000,9,-999.000,   0.069,4, -999.00,9, 1601.10,-999.0000,9,-999.0000,9,-999.0000,9,-999.0000,9,-999.0000,9,-999.0000,9,   3.4279,     -999.0,-999.000,     -999.0,          9,     -999.0,          9,-999.000,          9
 33RO200501,       A16S,      90,          1,         14,         14,2,20050212,       1238,   -17.5008,   -24.9998,       5264,  1800.9,   3.3152,  34.9094,2,  34.9088,2,    235.6,2,   236.1,2,   29.82,2,   22.20,2,    0.00,2,    1.42,2,-999.000,9,-999.000,9,-999.000,9,  -999.0,9,  -999.0,9,  -999.0,9,   20.00,-999.0000,9,    25.00,-999.000,9, -999.00,-999.000,9,-999.000,9, -999.00,9,  -999.0,9,  -999.0,-999.000,9,-999.000,-999.000,9, -999.00,9, 1800.90,-999.0000,9,-999.0000,9,-999.0000,9,-999.0000,9,-999.0000,9,-999.0000,9,   3.1763,     -999.0,-999.000,     -999.0,          9,     -999.0,          9,-999.000,          9
 33RO200501,       A16S,      90,          1,         13,         13,2,20050212,       1238,   -17.5008,   -24.9998,       5264,  1999.5,   3.1129,  34.9133,2,  34.9122,2,    240.5,2,   240.3,2,   32.23,2,   21.82,2,    0.00,2,    1.41,2,-999.000,9,-999.000,9,-999.000,9,  -999.0,9,  -999.0,9,  -999.0,9,   20.00,-999.0000,9,    25.00,-999.000,9, -999.00,-999.000,9,-999.000,9, -999.00,9,  -999.0,9,  -999.0,-999.000,9,-999.000,-999.000,9, -999.00,9, 1999.50,-999.0000,9,-999.0000,9,-999.0000,9,-999.0000,9,-999.0000,9,-999.0000,9,   2.9588,     -999.0,-999.000,      3.152,          2,      0.000,          2,   0.003,          2
 33RO200501,       A16S,      90,          1,         12,         12,2,20050212,       1238,   -17.5008,   -24.9998,       5264,  2198.9,   2.9416,  34.9085,2,  34.9079,2,    241.9,2,   241.3,2,   35.61,2,   21.99,2,    0.00,2,    1.42,2,-999.000,9,-999.000,9,-999.000,9,  -999.0,9,  -999.0,9,  -999.0,9,   20.00,-999.0000,9,    25.00,-999.000,9, -999.00,-999.000,9,-999.000,9, -999.00,9,  -999.0,9,  -999.0,-999.000,9,-999.000,-999.000,9, -999.00,9, 2198.90,-999.0000,9,-999.0000,9,-999.0000,9,-999.0000,9,-999.0000,9,-999.0000,9,   2.7717,     -999.0,-999.000,     -999.0,          9,     -999.0,          9,-999.000,          9
 33RO200501,       A16S,      90,          1,         11,         11,2,20050212,       1238,   -17.5008,   -24.9998,       5264,  2401.2,   2.8342,  34.9040,2,  34.9030,2,    241.5,2,   242.3,2,   38.12,2,   22.12,2,    0.00,2,    1.44,2,   0.001,2,  -0.001,2,   0.000,2,  -999.0,9,  -999.0,9,  -999.0,9,   20.00,-999.0000,9,    25.00,-999.000,9, -999.00,-999.000,9,-999.000,9, -999.00,9,  -999.0,9,  -999.0,-999.000,9,-999.000,   0.030,4, -999.00,9, 2401.20,-999.0000,9,-999.0000,9,-999.0000,9,-999.0000,9,-999.0000,9,-999.0000,9,   2.6470,     -999.0,-999.000,     -999.0,          9,     -999.0,          9,-999.000,          9
 33RO200501,       A16S,      90,          1,         10,         10,2,20050212,       1238,   -17.5008,   -24.9998,       5264,  2600.7,   2.7599,  34.9019,2,  34.9016,2,    241.8,2,   242.0,2,   39.95,2,   22.12,2,    0.00,2,    1.45,2,-999.000,9,-999.000,9,-999.000,9,  -999.0,9,  -999.0,9,  -999.0,9,   20.00,-999.0000,9,    25.00,-999.000,9, -999.00,-999.000,9,-999.000,9, -999.00,9,  -999.0,9,  -999.0,-999.000,9,-999.000,-999.000,9, -999.00,9, 2600.70,-999.0000,9,-999.0000,9,-999.0000,9,-999.0000,9,-999.0000,9,-999.0000,9,   2.5547,     -999.0,-999.000,      0.000,          2,      0.000,          2,   0.000,          2
 33RO200501,       A16S,      90,          1,          9,          9,2,20050212,       1238,   -17.5008,   -24.9998,       5264,  2799.2,   2.7095,  34.8997,2,  34.8983,2,    242.0,2,   242.0,2,   41.10,2,   22.20,2,    0.00,2,    1.45,2,-999.000,9,-999.000,9,-999.000,9,  -999.0,9,  2349.6,4,  -999.0,9,   20.00,-999.0000,9,    25.00,-999.000,9, -999.00,-999.000,9,-999.000,9, -999.00,9,  -999.0,9,  -999.0,-999.000,9,-999.000,-999.000,9, -999.00,9, 2799.20,-999.0000,9,-999.0000,9,-999.0000,9,-999.0000,9,-999.0000,9,-999.0000,9,   2.4857,     -999.0,-999.000,     -999.0,          9,     -999.0,          9,-999.000,          9
 33RO200501,       A16S,      90,          1,          8,          8,2,20050212,       1238,   -17.5008,   -24.9998,       5264,  3049.2,   2.6500,  34.8982,2,  34.8969,2,    242.7,2,   242.9,2,   41.94,2,   22.18,2,    0.00,2,    1.46,2,  -0.001,2,   0.004,2,   0.000,2,  2188.4,2,  -999.0,9,  -999.0,9,   20.00,   7.7197,2,    25.00,-999.000,9, -999.00,-999.000,9,-999.000,9, -999.00,9,  -999.0,9,  -999.0,-999.000,9,-999.000,   0.024,4, -999.00,9, 3049.20,-999.0000,9,-999.0000,9,-999.0000,9,-999.0000,9,-999.0000,9,-999.0000,9,   2.4019,     -999.0,-999.000,     -999.0,          9,     -999.0,          9,-999.000,          9