BOTTLE,20220818CCHSIOAMB
EXPOCODE,SECT_ID,STNNBR,CASTNO,SAMPNO,BTLNBR,BTLNBR_FLAG_W,DATE,TIME,LATITUDE,LONGITUDE,DEPTH,CTDPRS,CTDTMP,CTDSAL,CTDSAL_FLAG_W,SALNTY,SALNTY_FLAG_W,CTDOXY,CTDOXY_FLAG_W,OXYGEN,OXYGEN_FLAG_W,SILCAT,SILCAT_FLAG_W,NITRAT,NITRAT_FLAG_W,NITRIT,NITRIT_FLAG_W,PHSPHT,PHSPHT_FLAG_W,CFC-11,CFC-11_FLAG_W,CFC-12,CFC-12_FLAG_W,CFC113,CFC113_FLAG_W,TCARBN,TCARBN_FLAG_W,ALKALI,ALKALI_FLAG_W,PCO2,PCO2_FLAG_W,PCO2TMP,PH_SWS,PH_SWS_FLAG_W,PH_TMP,TRITUM,TRITUM_FLAG_W,TRITER,HELIUM,HELIUM_FLAG_W,DELHE3,DELHE3_FLAG_W,DELC13,DELC13_FLAG_W,DELC14,DELC14_FLAG_W,C14ERR,NEON,NEON_FLAG_W,NEONER,CCL4,CCL4_FLAG_W,DOC,DOC_FLAG_W,CTDRAW,CDOM325,CDOM325_FLAG_W,CDOM340,CDOM340_FLAG_W,CDOM380,CDOM380_FLAG_W,CDOM412,CDOM412_FLAG_W,CDOMSL,CDOMSL_FLAG_W,CDOMSN,CDOMSN_FLAG_W,THETA,HELIER,DELHER,CH3CL,CH3CL_FLAG_W,CH3BR,CH3BR_FLAG_W,CH3I,CH3I_FLAG_W
,,,,,,,,,,,METERS,DBAR,ITS-90,PSS-78,,PSS-78,,UMOL/KG,,UMOL/KG,,UMOL/KG,,UMOL/KG,,UMOL/KG,,UMOL/KG,,PMOL/KG,,PMOL/KG,,PMOL/KG,,UMOL/KG,,UMOL/KG,,UATM,,DEG C,,,DEG C,TU,,TU,NMOL/KG,,PERCNT,,/MILLE,,/MILLE,,/MILLE,NMOL/KG,,NMOL/KG,PMOL/KG,,UMOL/KG,,DBAR,1/M,,1/M,,1/M,,1/M,,1/NM,,1/NM,,DEG C,NMOL/KG,PERCNT,PMOL/KG,,PMOL/KG,,PMOL/KG,
 33RO200501,       A16S,      81,          1,          7,          7,2,20050209,       1544,   -21.9975,   -24.9997,       5305,  3198.9,   2.6337,  34.9133,2,  34.9130,2,    251.6,2,   251.3,2,   37.32,2,   20.38,6,    0.00,2,    1.34,2,   0.021,2,   0.007,2,   0.000,2,  2180.6,2,  2325.3,2,   755.7,2,   20.00,   7.7441,2,    25.00,-999.000,9, -999.00,-999.000,9,-999.000,9, -999.00,9,  -999.0,9,  -999.0,-999.000,9,-999.000,   0.091,4,   39.24,2, 3198.90,-999.0000,9,-999.0000,9,-999.0000,9,-999.0000,9,-999.0000,9,-999.0000,9,   2.3703,     -999.0,-999.000,     -999.0,          9,     -999.0,          9,-999.000,          9
 33RO200501,       A16S,      81,          1,          6,          6,2,20050209,       1544,   -21.9975,   -24.9997,       5305,  3497.6,   2.4400,  34.8966,2,  34.8959,2,    251.1,2,   251.1,2,   42.66,2,   20.93,6,    0.00,2,    1.39,2,   0.016,2,   0.011,2,   0.000,2,  2185.3,2,  2329.1,2,   768.2,2,   20.00,   7.7413,2,    25.00,-999.000,9, -999.00,-999.000,9,-999.000,9, -999.00,9,  -999.0,9,  -999.0,-999.000,9,-999.000,   0.090,4, -999.00,9, 3497.60,-999.0000,9,-999.0000,9,-999.0000,9,-999.0000,9,-999.0000,9,-999.0000,9,   2.1495,     -999.0,-999.000,     -999.0,          9,     -999.0,          9,-999.000,          9
 33RO200501,       A16S,      81,          1,          5,          5,2,20050209,       1544,   -21.9975,   -24.9997,       5305,  3798.5,   2.1071,  34.8634,2,  34.8658,3,    247.2,2,   247.6,2,   54.20,2,   22.54,6,    0.01,2,    1.53,2,   0.015,6,   0.006,6,   0.000,6,  2195.5,2,  2341.5,2,   796.8,2,   20.00,   7.7172,2,    25.00,-999.000,9, -999.00,-999.000,9,-999.000,9, -999.00,9,  -999.0,9,  -999.0,-999.000,9,-999.000,   0.077,4,   39.11,2, 3798.50,-999.0000,9,-999.0000,9,-999.0000,9,-999.0000,9,-999.0000,9,-999.0000,9,   1.7925,     -999.0,-999.000,     -999.0,          9,     -999.0,          9,-999.000,          9
 33RO200501,       A16S,      81,          1,          4,          4,2,20050209,       1544,   -21.9975,   -24.9997,       5305,  4099.0,   1.7052,  34.8199,2,  34.8188,2,    239.5,2,   239.7,2,   70.54,6,   24.86,6,    0.00,6,    1.70,6,-999.000,9,-999.000,9,-999.000,9,  2215.7,2,  2341.1,2,  -999.0,9,   20.00,   7.7046,2,    25.00,-999.000,9, -999.00,-999.000,9,-999.000,9, -999.00,9,  -999.0,9,  -999.0,-999.000,9,-999.000,-999.000,9, -999.00,9, 4099.00,   0.1500,3,   0.1080,3,   0.0590,3,   0.0400,3,   0.0145,3,   0.0160,3,   1.3687,     -999.0,-999.000,     -999.0,          9,     -999.0,          9,-999.000,          9
 33RO200501,       A16S,      81,          1,          3,          3,2,20050209,       1544,   -21.9975,   -24.9997,       5305,  4399.6,   1.3035,  34.7761,2,  34.7759,2,    232.6,2,   232.4,2,   87.17,6,   27.06,6,    0.00,6,    1.88,6,   0.012,2,   0.007,2,   0.000,2,  2230.7,2,  2348.3,2,   905.0,2,   20.00,   7.6711,2,    25.00,-999.000,9, -999.00,-999.000,9,-999.000,9, -999.00,9,  -999.0,9,  -999.0,-999.000,9,-999.000,   0.047,4,   39.61,2, 4399.60,-999.0000,9,-999.0000,9,-999.0000,9,-999.0000,9,-999.0000,9,-999.0000,9,   0.9454,     -999.0,-999.000,     -999.0,          9,     -999.0,          9,-999.000,          9
 33RO200501,       A16S,      81,          1,          2,          2,2,20050209,       1544,   -21.9975,   -24.9997,       5305,  4699.4,   1.0488,  34.7475,2,  34.7470,2,    228.0,2,   228.1,2,   97.85,6,   28.45,6,    0.00,6,    2.00,6,   0.022,2,   0.010,2,   0.000,2,  2241.2,2,  2354.5,6,   941.9,2,   20.00,   7.6594,6,    25.00,-999.000,9, -999.00,-999.000,9,-999.000,9, -999.00,9,  -999.0,9,  -999.0,-999.000,9,-999.000,   0.067,4, -999.00,9, 4699.40,-999.0000,9,-999.0000,9,-999.0000,9,-999.0000,9,-999.0000,9,-999.0000,9,   0.6647,     -999.0,-999.000,     -999.0,          9,     -999.0,          9,-999.000,          9
 33RO200501,       A16S,      81,          1,          1,          1,2,20050209,       1544,   -21.9975,   -24.9997,       5305,  5154.0,   0.7980,  34.7168,2,  34.7162,2,    223.7,2,   224.1,2,  109.01,6,   29.93,6,    0.00,6,    2.12,6,   0.061,2,   0.026,2,   0.000,2,  2252.6,6,  2355.6,2,   988.2,2,   20.00,   7.6479,2,    25.00,-999.000,9, -999.00,-999.000,9,-999.000,9, -999.00,9,  -999.0,9,  -999.0,-999.000,9,-999.000,   0.125,4,   39.05,2, 5154.00,   0.2300,3,   0.1770,3,   0.1060,3,   0.0740,3,   0.0124,3,   0.0129,3,   0.3691,     -999.0,-999.000,     -999.0,          9,     -999.0,          9,-999.000,          9