BOTTLE,20220818CCHSIOAMB
EXPOCODE,SECT_ID,STNNBR,CASTNO,SAMPNO,BTLNBR,BTLNBR_FLAG_W,DATE,TIME,LATITUDE,LONGITUDE,DEPTH,CTDPRS,CTDTMP,CTDSAL,CTDSAL_FLAG_W,SALNTY,SALNTY_FLAG_W,CTDOXY,CTDOXY_FLAG_W,OXYGEN,OXYGEN_FLAG_W,SILCAT,SILCAT_FLAG_W,NITRAT,NITRAT_FLAG_W,NITRIT,NITRIT_FLAG_W,PHSPHT,PHSPHT_FLAG_W,CFC-11,CFC-11_FLAG_W,CFC-12,CFC-12_FLAG_W,CFC113,CFC113_FLAG_W,TCARBN,TCARBN_FLAG_W,ALKALI,ALKALI_FLAG_W,PCO2,PCO2_FLAG_W,PCO2TMP,PH_SWS,PH_SWS_FLAG_W,PH_TMP,TRITUM,TRITUM_FLAG_W,TRITER,HELIUM,HELIUM_FLAG_W,DELHE3,DELHE3_FLAG_W,DELC13,DELC13_FLAG_W,DELC14,DELC14_FLAG_W,C14ERR,NEON,NEON_FLAG_W,NEONER,CCL4,CCL4_FLAG_W,DOC,DOC_FLAG_W,CTDRAW,CDOM325,CDOM325_FLAG_W,CDOM340,CDOM340_FLAG_W,CDOM380,CDOM380_FLAG_W,CDOM412,CDOM412_FLAG_W,CDOMSL,CDOMSL_FLAG_W,CDOMSN,CDOMSN_FLAG_W,THETA,HELIER,DELHER,CH3CL,CH3CL_FLAG_W,CH3BR,CH3BR_FLAG_W,CH3I,CH3I_FLAG_W
,,,,,,,,,,,METERS,DBAR,ITS-90,PSS-78,,PSS-78,,UMOL/KG,,UMOL/KG,,UMOL/KG,,UMOL/KG,,UMOL/KG,,UMOL/KG,,PMOL/KG,,PMOL/KG,,PMOL/KG,,UMOL/KG,,UMOL/KG,,UATM,,DEG C,,,DEG C,TU,,TU,NMOL/KG,,PERCNT,,/MILLE,,/MILLE,,/MILLE,NMOL/KG,,NMOL/KG,PMOL/KG,,UMOL/KG,,DBAR,1/M,,1/M,,1/M,,1/M,,1/NM,,1/NM,,DEG C,NMOL/KG,PERCNT,PMOL/KG,,PMOL/KG,,PMOL/KG,
 33RO200501,       A16S,       6,          1,         36,         36,2,20050118,       2234,   -57.4998,   -31.6000,       3312,     3.6,   1.8293,  33.9834,2,  33.9843,2,    339.8,2,   340.9,2,   19.63,2,   22.21,2,    0.33,2,    1.20,2,   6.051,2,   3.252,2,   0.566,2,  2143.4,6,  2297.3,6,  -999.0,9,   20.00,   7.7700,2,    25.00,-999.000,9, -999.00,-999.000,9,-999.000,9, -999.00,9,  -999.0,9,  -999.0,-999.000,9,-999.000,   6.361,4, -999.00,9,    3.60,-999.0000,9,-999.0000,9,-999.0000,9,-999.0000,9,-999.0000,9,-999.0000,9,   1.8292,     -999.0,-999.000,     34.697,          2,      0.641,          2,   0.280,          2
 33RO200501,       A16S,       6,          1,         35,         35,2,20050118,       2234,   -57.4998,   -31.6000,       3312,    20.6,   1.8311,  33.9835,2,  33.9838,2,    339.9,2,   339.3,2,   19.64,2,   22.17,2,    0.33,2,    1.21,2,-999.000,9,-999.000,9,-999.000,9,  -999.0,9,  -999.0,9,  -999.0,9,   20.00,-999.0000,9,    25.00,-999.000,9, -999.00,-999.000,9,-999.000,9, -999.00,9,  -999.0,9,  -999.0,-999.000,9,-999.000,-999.000,9, -999.00,9,   20.60,-999.0000,9,-999.0000,9,-999.0000,9,-999.0000,9,-999.0000,9,-999.0000,9,   1.8301,     -999.0,-999.000,     46.862,          2,      0.527,          2,   0.303,          2
 33RO200501,       A16S,       6,          1,         34,         34,2,20050118,       2234,   -57.4998,   -31.6000,       3312,    30.5,   1.8287,  33.9833,2,  33.9836,2,    339.9,2,   337.4,2,   19.56,2,   22.17,2,    0.33,2,    1.20,2,-999.000,9,-999.000,9,-999.000,9,  -999.0,9,  -999.0,9,  -999.0,9,   20.00,-999.0000,9,    25.00,-999.000,9, -999.00,-999.000,9,-999.000,9, -999.00,9,  -999.0,9,  -999.0,-999.000,9,-999.000,-999.000,9, -999.00,9,   30.50,-999.0000,9,-999.0000,9,-999.0000,9,-999.0000,9,-999.0000,9,-999.0000,9,   1.8271,     -999.0,-999.000,     44.768,          2,      0.955,          2,   0.299,          2
 33RO200501,       A16S,       6,          1,         33,         33,2,20050118,       2234,   -57.4998,   -31.6000,       3312,    40.6,   1.8305,  33.9834,2,  33.9836,2,    339.6,2,   340.7,2,   19.55,2,   22.21,2,    0.33,2,    1.22,2,-999.000,9,-999.000,9,-999.000,9,  -999.0,9,  -999.0,9,  -999.0,9,   20.00,   7.7683,2,    25.00,-999.000,9, -999.00,-999.000,9,-999.000,9, -999.00,9,  -999.0,9,  -999.0,-999.000,9,-999.000,-999.000,9, -999.00,9,   40.60,-999.0000,9,-999.0000,9,-999.0000,9,-999.0000,9,-999.0000,9,-999.0000,9,   1.8285,     -999.0,-999.000,     45.699,          2,      0.556,          2,   0.289,          2
 33RO200501,       A16S,       6,          1,         32,         32,2,20050118,       2234,   -57.4998,   -31.6000,       3312,    60.0,   1.7987,  33.9833,2,  33.9865,2,    338.8,2,   339.9,2,   20.25,2,   22.34,2,    0.32,2,    1.23,2,-999.000,9,-999.000,9,-999.000,9,  -999.0,9,  -999.0,9,  -999.0,9,   20.00,-999.0000,9,    25.00,-999.000,9, -999.00,-999.000,9,-999.000,9, -999.00,9,  -999.0,9,  -999.0,-999.000,9,-999.000,-999.000,9, -999.00,9,   60.00,-999.0000,9,-999.0000,9,-999.0000,9,-999.0000,9,-999.0000,9,-999.0000,9,   1.7957,     -999.0,-999.000,     -999.0,          9,     -999.0,          9,-999.000,          9
 33RO200501,       A16S,       6,          1,         31,         31,2,20050118,       2234,   -57.4998,   -31.6000,       3312,    80.7,   0.9075,  34.0321,2,  34.0281,2,    333.2,2,   337.5,2,   33.32,2,   24.20,2,    0.30,2,    1.63,2,-999.000,9,-999.000,9,-999.000,9,  -999.0,9,  -999.0,9,  -999.0,9,   20.00,-999.0000,9,    25.00,-999.000,9, -999.00,-999.000,9,-999.000,9, -999.00,9,  -999.0,9,  -999.0,-999.000,9,-999.000,-999.000,9, -999.00,9,   80.70,-999.0000,9,-999.0000,9,-999.0000,9,-999.0000,9,-999.0000,9,-999.0000,9,   0.9041,     -999.0,-999.000,     31.446,          2,      0.299,          2,   0.295,          2
 33RO200501,       A16S,       6,          1,         30,         30,2,20050118,       2234,   -57.4998,   -31.6000,       3312,    98.7,   0.2446,  34.0977,2,  34.0996,2,    316.0,2,   315.0,2,   48.90,2,   26.84,2,    0.33,2,    1.89,2,-999.000,9,-999.000,9,-999.000,9,  -999.0,9,  -999.0,9,  -999.0,9,   20.00,-999.0000,9,    25.00,-999.000,9, -999.00,-999.000,9,-999.000,9, -999.00,9,  -999.0,9,  -999.0,-999.000,9,-999.000,-999.000,9, -999.00,9,   98.70,-999.0000,9,-999.0000,9,-999.0000,9,-999.0000,9,-999.0000,9,-999.0000,9,   0.2410,     -999.0,-999.000,     -999.0,          9,     -999.0,          9,-999.000,          9
 33RO200501,       A16S,       6,          1,         29,         29,2,20050118,       2234,   -57.4998,   -31.6000,       3312,   125.0,   0.3532,  34.1673,2,  34.1684,2,    303.6,2,   298.5,2,   54.93,2,   29.22,2,    0.20,2,    2.03,2,-999.000,9,-999.000,9,-999.000,9,  -999.0,9,  -999.0,9,  -999.0,9,   20.00,-999.0000,9,    25.00,-999.000,9, -999.00,-999.000,9,-999.000,9, -999.00,9,  -999.0,9,  -999.0,-999.000,9,-999.000,-999.000,9, -999.00,9,  125.00,-999.0000,9,-999.0000,9,-999.0000,9,-999.0000,9,-999.0000,9,-999.0000,9,   0.3484,     -999.0,-999.000,     -999.0,          9,     -999.0,          9,-999.000,          9
 33RO200501,       A16S,       6,          1,         28,         28,2,20050118,       2234,   -57.4998,   -31.6000,       3312,   149.5,   0.3832,  34.2179,2,  34.2186,2,    282.9,2,   289.0,2,   59.53,2,   29.87,2,    0.19,2,    2.09,2,   4.779,2,   2.529,2,   0.430,2,  -999.0,9,  -999.0,9,  -999.0,9,   20.00,-999.0000,9,    25.00,-999.000,9, -999.00,-999.000,9,-999.000,9, -999.00,9,  -999.0,9,  -999.0,-999.000,9,-999.000,   4.879,3, -999.00,9,  149.50,-999.0000,9,-999.0000,9,-999.0000,9,-999.0000,9,-999.0000,9,-999.0000,9,   0.3773,     -999.0,-999.000,      2.136,          2,      0.000,          2,   0.220,          2
 33RO200501,       A16S,       6,          1,         27,         27,2,20050118,       2234,   -57.4998,   -31.6000,       3312,   172.7,   0.8549,  34.3018,2,  34.2947,2,    252.6,2,   253.0,2,   63.63,2,   32.27,2,    0.17,2,    2.22,2,-999.000,9,-999.000,9,-999.000,9,  -999.0,9,  -999.0,9,  -999.0,9,   20.00,-999.0000,9,    25.00,-999.000,9, -999.00,-999.000,9,-999.000,9, -999.00,9,  -999.0,9,  -999.0,-999.000,9,-999.000,-999.000,9, -999.00,9,  172.70,-999.0000,9,-999.0000,9,-999.0000,9,-999.0000,9,-999.0000,9,-999.0000,9,   0.8475,     -999.0,-999.000,     -999.0,          9,     -999.0,          9,-999.000,          9
 33RO200501,       A16S,       6,          1,         26,         26,2,20050118,       2234,   -57.4998,   -31.6000,       3312,   201.0,   1.3040,  34.3865,2,  34.3866,2,    218.2,2,   218.2,2,   68.08,2,   33.81,2,    0.02,2,    2.31,2,-999.000,9,-999.000,9,-999.000,9,  -999.0,9,  -999.0,9,  -999.0,9,   20.00,-999.0000,9,    25.00,-999.000,9, -999.00,-999.000,9,-999.000,9, -999.00,9,  -999.0,9,  -999.0,-999.000,9,-999.000,-999.000,9, -999.00,9,  201.00,-999.0000,9,-999.0000,9,-999.0000,9,-999.0000,9,-999.0000,9,-999.0000,9,   1.2945,     -999.0,-999.000,     -999.0,          9,     -999.0,          9,-999.000,          9
 33RO200501,       A16S,       6,          1,         25,         25,2,20050118,       2234,   -57.4998,   -31.6000,       3312,   249.6,   1.6798,  34.4801,2,  34.4808,2,    195.9,2,   194.3,2,   73.69,2,   34.20,2,    0.00,2,    2.34,2,-999.000,9,-999.000,9,-999.000,9,  -999.0,9,  -999.0,9,  -999.0,9,   20.00,   7.5723,2,    25.00,-999.000,9, -999.00,-999.000,9,-999.000,9, -999.00,9,  -999.0,9,  -999.0,-999.000,9,-999.000,-999.000,9, -999.00,9,  249.60,-999.0000,9,-999.0000,9,-999.0000,9,-999.0000,9,-999.0000,9,-999.0000,9,   1.6671,     -999.0,-999.000,      0.000,          2,      0.000,          2,   0.121,          2
 33RO200501,       A16S,       6,          1,         24,         24,2,20050118,       2234,   -57.4998,   -31.6000,       3312,   300.7,   1.7853,  34.5304,2,  34.5291,2,    189.8,2,   187.3,2,   77.03,2,   34.10,2,    0.00,2,    2.34,2,-999.000,9,-999.000,9,-999.000,9,  -999.0,9,  -999.0,9,  -999.0,9,   20.00,-999.0000,9,    25.00,-999.000,9, -999.00,-999.000,9,-999.000,9, -999.00,9,  -999.0,9,  -999.0,-999.000,9,-999.000,-999.000,9, -999.00,9,  300.70,-999.0000,9,-999.0000,9,-999.0000,9,-999.0000,9,-999.0000,9,-999.0000,9,   1.7695,     -999.0,-999.000,     -999.0,          9,     -999.0,          9,-999.000,          9
 33RO200501,       A16S,       6,          1,         23,         23,2,20050118,       2234,   -57.4998,   -31.6000,       3312,   350.7,   1.6759,  34.5518,2,  34.5493,2,    188.5,2,   189.4,2,   79.15,2,   33.83,2,    0.00,2,    2.32,2,-999.000,9,-999.000,9,-999.000,9,  -999.0,9,  -999.0,9,  -999.0,9,   20.00,-999.0000,9,    25.00,-999.000,9, -999.00,-999.000,9,-999.000,9, -999.00,9,  -999.0,9,  -999.0,-999.000,9,-999.000,-999.000,9, -999.00,9,  350.70,-999.0000,9,-999.0000,9,-999.0000,9,-999.0000,9,-999.0000,9,-999.0000,9,   1.6576,     -999.0,-999.000,     -999.0,          9,     -999.0,          9,-999.000,          9
 33RO200501,       A16S,       6,          1,         22,         22,2,20050118,       2234,   -57.4998,   -31.6000,       3312,   399.9,   1.6920,  34.5885,2,  34.5884,2,    185.2,2,   187.1,2,   82.00,2,   33.47,2,    0.00,2,    2.31,2,   0.995,2,   0.513,2,   0.064,2,  -999.0,9,  -999.0,9,  -999.0,9,   20.00,-999.0000,9,    25.00,-999.000,9, -999.00,-999.000,9,-999.000,9, -999.00,9,  -999.0,9,  -999.0,-999.000,9,-999.000,   1.100,3, -999.00,9,  399.90,-999.0000,9,-999.0000,9,-999.0000,9,-999.0000,9,-999.0000,9,-999.0000,9,   1.6709,     -999.0,-999.000,      0.732,          2,      0.000,          2,   0.083,          2
 33RO200501,       A16S,       6,          1,         21,         21,2,20050118,       2234,   -57.4998,   -31.6000,       3312,   450.0,   1.8396,  34.6253,2,  34.6242,2,    181.4,2,   180.7,2,   84.08,2,   33.34,2,    0.00,2,    2.30,2,-999.000,9,-999.000,9,-999.000,9,  -999.0,9,  -999.0,9,  -999.0,9,   20.00,-999.0000,9,    25.00,-999.000,9, -999.00,-999.000,9,-999.000,9, -999.00,9,  -999.0,9,  -999.0,-999.000,9,-999.000,-999.000,9, -999.00,9,  450.00,-999.0000,9,-999.0000,9,-999.0000,9,-999.0000,9,-999.0000,9,-999.0000,9,   1.8152,     -999.0,-999.000,     -999.0,          9,     -999.0,          9,-999.000,          9
 33RO200501,       A16S,       6,          1,         20,         20,2,20050118,       2234,   -57.4998,   -31.6000,       3312,   500.7,   1.8233,  34.6484,2,  34.6478,2,    181.5,2,   181.8,2,   86.31,2,   33.00,2,    0.00,2,    2.29,2,-999.000,9,-999.000,9,-999.000,9,  -999.0,9,  -999.0,9,  -999.0,9,   20.00,-999.0000,9,    25.00,-999.000,9, -999.00,-999.000,9,-999.000,9, -999.00,9,  -999.0,9,  -999.0,-999.000,9,-999.000,-999.000,9, -999.00,9,  500.70,-999.0000,9,-999.0000,9,-999.0000,9,-999.0000,9,-999.0000,9,-999.0000,9,   1.7959,     -999.0,-999.000,     -999.0,          9,     -999.0,          9,-999.000,          9
 33RO200501,       A16S,       6,          1,         19,         19,2,20050118,       2234,   -57.4998,   -31.6000,       3312,   551.2,   1.7784,  34.6620,2,  34.6613,2,    182.2,2,   182.3,2,   88.15,2,   32.80,2,    0.01,2,    2.27,2,   0.498,2,   0.261,2,   0.019,2,  -999.0,9,  -999.0,9,  -999.0,9,   20.00,-999.0000,9,    25.00,-999.000,9, -999.00,-999.000,9,-999.000,9, -999.00,9,  -999.0,9,  -999.0,-999.000,9,-999.000,   0.601,3, -999.00,9,  551.20,-999.0000,9,-999.0000,9,-999.0000,9,-999.0000,9,-999.0000,9,-999.0000,9,   1.7482,     -999.0,-999.000,      0.000,          2,      0.000,          2,   0.061,          2
 33RO200501,       A16S,       6,          1,         18,         18,2,20050118,       2234,   -57.4998,   -31.6000,       3312,   598.7,   1.6952,  34.6655,2,  34.6663,2,    182.8,2,   184.9,2,   89.20,2,   32.58,2,    0.01,2,    2.27,2,-999.000,9,-999.000,9,-999.000,9,  -999.0,9,  -999.0,9,  -999.0,9,   20.00,-999.0000,9,    25.00,-999.000,9, -999.00,-999.000,9,-999.000,9, -999.00,9,  -999.0,9,  -999.0,-999.000,9,-999.000,-999.000,9, -999.00,9,  598.70,-999.0000,9,-999.0000,9,-999.0000,9,-999.0000,9,-999.0000,9,-999.0000,9,   1.6625,     -999.0,-999.000,     -999.0,          9,     -999.0,          9,-999.000,          9
 33RO200501,       A16S,       6,          1,         17,         17,2,20050118,       2234,   -57.4998,   -31.6000,       3312,   700.3,   1.6719,  34.6891,2,  34.6891,2,    185.8,2,   185.1,2,   92.48,2,   32.27,2,    0.00,2,    2.25,2,-999.000,9,-999.000,9,-999.000,9,  -999.0,9,  -999.0,9,  -999.0,9,   20.00,-999.0000,9,    25.00,-999.000,9, -999.00,-999.000,9,-999.000,9, -999.00,9,  -999.0,9,  -999.0,-999.000,9,-999.000,-999.000,9, -999.00,9,  700.30,-999.0000,9,-999.0000,9,-999.0000,9,-999.0000,9,-999.0000,9,-999.0000,9,   1.6332,     -999.0,-999.000,     -999.0,          9,     -999.0,          9,-999.000,          9
 33RO200501,       A16S,       6,          1,         16,         16,2,20050118,       2234,   -57.4998,   -31.6000,       3312,   800.5,   1.4598,  34.6887,2,  34.6881,2,    191.4,2,   191.6,2,   94.89,2,   32.02,2,    0.00,2,    2.24,2,   0.505,2,   0.264,2,   0.028,2,  -999.0,9,  -999.0,9,  -999.0,9,   20.00,-999.0000,9,    25.00,-999.000,9, -999.00,-999.000,9,-999.000,9, -999.00,9,  -999.0,9,  -999.0,-999.000,9,-999.000,   0.538,3, -999.00,9,  800.50,-999.0000,9,-999.0000,9,-999.0000,9,-999.0000,9,-999.0000,9,-999.0000,9,   1.4162,     -999.0,-999.000,      0.000,          2,      0.000,          2,   0.043,          2
 33RO200501,       A16S,       6,          1,         15,         15,2,20050118,       2234,   -57.4998,   -31.6000,       3312,   898.6,   1.3991,  34.6991,2,  34.6991,2,    193.6,2,   193.0,2,   97.64,2,   31.86,2,    0.00,2,    2.23,2,-999.000,9,-999.000,9,-999.000,9,  -999.0,9,  -999.0,9,  -999.0,9,   20.00,-999.0000,9,    25.00,-999.000,9, -999.00,-999.000,9,-999.000,9, -999.00,9,  -999.0,9,  -999.0,-999.000,9,-999.000,-999.000,9, -999.00,9,  898.60,-999.0000,9,-999.0000,9,-999.0000,9,-999.0000,9,-999.0000,9,-999.0000,9,   1.3499,     -999.0,-999.000,     -999.0,          9,     -999.0,          9,-999.000,          9
 33RO200501,       A16S,       6,          1,         14,         14,2,20050118,       2234,   -57.4998,   -31.6000,       3312,   999.6,   1.1908,  34.6913,2,  34.6915,2,    198.8,2,   199.3,2,   99.23,2,   31.81,2,    0.00,2,    2.21,2,-999.000,9,-999.000,9,-999.000,9,  -999.0,9,  -999.0,9,  -999.0,9,   20.00,-999.0000,9,    25.00,-999.000,9, -999.00,-999.000,9,-999.000,9, -999.00,9,  -999.0,9,  -999.0,-999.000,9,-999.000,-999.000,9, -999.00,9,  999.60,-999.0000,9,-999.0000,9,-999.0000,9,-999.0000,9,-999.0000,9,-999.0000,9,   1.1370,     -999.0,-999.000,     -999.0,          9,     -999.0,          9,-999.000,          9
 33RO200501,       A16S,       6,          1,         13,         13,2,20050118,       2234,   -57.4998,   -31.6000,       3312,  1101.0,   1.1003,  34.6933,2,  34.6932,2,    201.0,2,   201.6,2,  101.80,2,   31.78,2,    0.00,2,    2.22,2,   0.538,2,   0.279,2,   0.027,2,  -999.0,9,  -999.0,9,  -999.0,9,   20.00,-999.0000,9,    25.00,-999.000,9, -999.00,-999.000,9,-999.000,9, -999.00,9,  -999.0,9,  -999.0,-999.000,9,-999.000,   0.573,3, -999.00,9, 1101.00,-999.0000,9,-999.0000,9,-999.0000,9,-999.0000,9,-999.0000,9,-999.0000,9,   1.0408,     -999.0,-999.000,      0.000,          2,      0.000,          2,   0.017,          2
 33RO200501,       A16S,       6,          1,         12,         12,2,20050118,       2234,   -57.4998,   -31.6000,       3312,  1200.4,   1.0199,  34.6958,2,  34.6964,2,    203.2,2,   202.8,2,  104.71,2,   31.82,2,    0.00,2,    2.22,2,-999.000,9,-999.000,9,-999.000,9,  -999.0,9,  -999.0,9,  -999.0,9,   20.00,-999.0000,9,    25.00,-999.000,9, -999.00,-999.000,9,-999.000,9, -999.00,9,  -999.0,9,  -999.0,-999.000,9,-999.000,-999.000,9, -999.00,9, 1200.40,-999.0000,9,-999.0000,9,-999.0000,9,-999.0000,9,-999.0000,9,-999.0000,9,   0.9548,     -999.0,-999.000,     -999.0,          9,     -999.0,          9,-999.000,          9
 33RO200501,       A16S,       6,          1,         11,         11,2,20050118,       2234,   -57.4998,   -31.6000,       3312,  1300.8,   0.9066,  34.6917,2,  34.6921,2,    204.9,2,   205.1,2,  106.85,2,   31.80,2,    0.00,2,    2.22,2,-999.000,9,-999.000,9,-999.000,9,  -999.0,9,  -999.0,9,  -999.0,9,   20.00,-999.0000,9,    25.00,-999.000,9, -999.00,-999.000,9,-999.000,9, -999.00,9,  -999.0,9,  -999.0,-999.000,9,-999.000,-999.000,9, -999.00,9, 1300.80,-999.0000,9,-999.0000,9,-999.0000,9,-999.0000,9,-999.0000,9,-999.0000,9,   0.8361,     -999.0,-999.000,     -999.0,          9,     -999.0,          9,-999.000,          9
 33RO200501,       A16S,       6,          1,         10,         10,2,20050118,       2234,   -57.4998,   -31.6000,       3312,  1399.2,   0.8401,  34.6911,2,  34.6913,2,    206.4,2,   206.5,2,  108.36,2,   31.86,2,    0.00,2,    2.23,2,   0.535,2,   0.278,2,   0.021,2,  -999.0,9,  -999.0,9,  -999.0,9,   20.00,-999.0000,9,    25.00,-999.000,9, -999.00,-999.000,9,-999.000,9, -999.00,9,  -999.0,9,  -999.0,-999.000,9,-999.000,   0.593,3, -999.00,9, 1399.20,-999.0000,9,-999.0000,9,-999.0000,9,-999.0000,9,-999.0000,9,-999.0000,9,   0.7639,     -999.0,-999.000,      0.000,          2,      0.000,          2,   0.009,          2
 33RO200501,       A16S,       6,          1,          9,          9,2,20050118,       2234,   -57.4998,   -31.6000,       3312,  1499.4,   0.7442,  34.6872,2,  34.6876,2,    207.7,2,   208.4,2,  110.07,2,   31.95,2,    0.00,2,    2.23,2,-999.000,9,-999.000,9,-999.000,9,  -999.0,9,  -999.0,9,  -999.0,9,   20.00,-999.0000,9,    25.00,-999.000,9, -999.00,-999.000,9,-999.000,9, -999.00,9,  -999.0,9,  -999.0,-999.000,9,-999.000,-999.000,9, -999.00,9, 1499.40,-999.0000,9,-999.0000,9,-999.0000,9,-999.0000,9,-999.0000,9,-999.0000,9,   0.6624,     -999.0,-999.000,     -999.0,          9,     -999.0,          9,-999.000,          9
 33RO200501,       A16S,       6,          1,          8,          8,2,20050118,       2234,   -57.4998,   -31.6000,       3312,  1599.4,   0.7050,  34.6890,2,  34.6897,2,    208.1,2,   208.3,2,  111.53,2,   31.95,2,    0.00,2,    2.24,2,-999.000,9,-999.000,9,-999.000,9,  -999.0,9,  -999.0,9,  -999.0,9,   20.00,-999.0000,9,    25.00,-999.000,9, -999.00,-999.000,9,-999.000,9, -999.00,9,  -999.0,9,  -999.0,-999.000,9,-999.000,-999.000,9, -999.00,9, 1599.40,-999.0000,9,-999.0000,9,-999.0000,9,-999.0000,9,-999.0000,9,-999.0000,9,   0.6169,     -999.0,-999.000,     -999.0,          9,     -999.0,          9,-999.000,          9