BOTTLE,20220818CCHSIOAMB
EXPOCODE,SECT_ID,STNNBR,CASTNO,SAMPNO,BTLNBR,BTLNBR_FLAG_W,DATE,TIME,LATITUDE,LONGITUDE,DEPTH,CTDPRS,CTDTMP,CTDSAL,CTDSAL_FLAG_W,SALNTY,SALNTY_FLAG_W,CTDOXY,CTDOXY_FLAG_W,OXYGEN,OXYGEN_FLAG_W,SILCAT,SILCAT_FLAG_W,NITRAT,NITRAT_FLAG_W,NITRIT,NITRIT_FLAG_W,PHSPHT,PHSPHT_FLAG_W,CFC-11,CFC-11_FLAG_W,CFC-12,CFC-12_FLAG_W,CFC113,CFC113_FLAG_W,TCARBN,TCARBN_FLAG_W,ALKALI,ALKALI_FLAG_W,PCO2,PCO2_FLAG_W,PCO2TMP,PH_SWS,PH_SWS_FLAG_W,PH_TMP,TRITUM,TRITUM_FLAG_W,TRITER,HELIUM,HELIUM_FLAG_W,DELHE3,DELHE3_FLAG_W,DELC13,DELC13_FLAG_W,DELC14,DELC14_FLAG_W,C14ERR,NEON,NEON_FLAG_W,NEONER,CCL4,CCL4_FLAG_W,DOC,DOC_FLAG_W,CTDRAW,CDOM325,CDOM325_FLAG_W,CDOM340,CDOM340_FLAG_W,CDOM380,CDOM380_FLAG_W,CDOM412,CDOM412_FLAG_W,CDOMSL,CDOMSL_FLAG_W,CDOMSN,CDOMSN_FLAG_W,THETA,HELIER,DELHER,CH3CL,CH3CL_FLAG_W,CH3BR,CH3BR_FLAG_W,CH3I,CH3I_FLAG_W
,,,,,,,,,,,METERS,DBAR,ITS-90,PSS-78,,PSS-78,,UMOL/KG,,UMOL/KG,,UMOL/KG,,UMOL/KG,,UMOL/KG,,UMOL/KG,,PMOL/KG,,PMOL/KG,,PMOL/KG,,UMOL/KG,,UMOL/KG,,UATM,,DEG C,,,DEG C,TU,,TU,NMOL/KG,,PERCNT,,/MILLE,,/MILLE,,/MILLE,NMOL/KG,,NMOL/KG,PMOL/KG,,UMOL/KG,,DBAR,1/M,,1/M,,1/M,,1/M,,1/NM,,1/NM,,DEG C,NMOL/KG,PERCNT,PMOL/KG,,PMOL/KG,,PMOL/KG,
 33RO200501,       A16S,      84,          1,         36,         36,2,20050210,       1331,   -20.5000,   -25.0002,       5286,     2.6,  27.0689,  37.3027,2,  37.3028,2,    205.0,2,   203.3,2,    2.01,2,    0.01,2,    0.00,2,    0.10,2,   1.659,2,   1.066,2,   0.132,2,  2104.7,6,  2442.7,6,  -999.0,9,   20.00,   8.0668,6,    25.00,-999.000,9, -999.00,-999.000,9,-999.000,9, -999.00,9,  -999.0,9,  -999.0,-999.000,9,-999.000,   1.409,4, -999.00,9,    2.60,-999.0000,9,-999.0000,9,-999.0000,9,-999.0000,9,-999.0000,9,-999.0000,9,  27.0683,     -999.0,-999.000,     76.075,          2,      1.052,          2,   2.664,          2
 33RO200501,       A16S,      84,          1,         35,         35,2,20050210,       1331,   -20.5000,   -25.0002,       5286,    23.5,  26.8215,  37.2998,2,  37.2998,2,    205.2,2,   206.8,2,    2.03,2,    0.00,2,    0.00,2,    0.09,2,-999.000,9,-999.000,9,-999.000,9,  -999.0,9,  -999.0,9,  -999.0,9,   20.00,-999.0000,9,    25.00,-999.000,9, -999.00,-999.000,9,-999.000,9, -999.00,9,  -999.0,9,  -999.0,-999.000,9,-999.000,-999.000,9, -999.00,9,   23.50,-999.0000,9,-999.0000,9,-999.0000,9,-999.0000,9,-999.0000,9,-999.0000,9,  26.8161,     -999.0,-999.000,     82.824,          2,      0.625,          2,   3.097,          2
 33RO200501,       A16S,      84,          1,         34,         34,2,20050210,       1331,   -20.5000,   -25.0002,       5286,    48.3,  25.3739,  37.0818,2,  37.0866,2,    217.0,2,   216.8,2,    1.90,2,    0.01,2,    0.00,2,    0.07,2,-999.000,9,-999.000,9,-999.000,9,  -999.0,9,  -999.0,9,  -999.0,9,   20.00,-999.0000,9,    25.00,-999.000,9, -999.00,-999.000,9,-999.000,9, -999.00,9,  -999.0,9,  -999.0,-999.000,9,-999.000,-999.000,9, -999.00,9,   48.30,-999.0000,9,-999.0000,9,-999.0000,9,-999.0000,9,-999.0000,9,-999.0000,9,  25.3632,     -999.0,-999.000,    169.849,          2,      0.639,          2,   6.193,          2
 33RO200501,       A16S,      84,          1,         33,         33,2,20050210,       1331,   -20.5000,   -25.0002,       5286,    73.7,  23.5938,  36.9307,2,  36.9348,2,    224.8,2,   225.2,2,    1.93,2,    0.01,2,    0.00,2,    0.07,2,-999.000,9,-999.000,9,-999.000,9,  -999.0,9,  -999.0,9,  -999.0,9,   20.00,-999.0000,9,    25.00,-999.000,9, -999.00,-999.000,9,-999.000,9, -999.00,9,  -999.0,9,  -999.0,-999.000,9,-999.000,-999.000,9, -999.00,9,   73.70,-999.0000,9,-999.0000,9,-999.0000,9,-999.0000,9,-999.0000,9,-999.0000,9,  23.5784,     -999.0,-999.000,    214.895,          2,      0.553,          2,   5.100,          2
 33RO200501,       A16S,      84,          1,         32,         32,2,20050210,       1331,   -20.5000,   -25.0002,       5286,    98.7,  22.8966,  36.8367,2,  36.8382,2,    222.9,2,   223.0,2,    2.31,2,    0.01,2,    0.00,2,    0.09,2,   1.974,2,   1.249,2,   0.156,2,  2087.2,2,  2410.0,2,  -999.0,9,   20.00,   8.0530,2,    25.00,-999.000,9, -999.00,-999.000,9,-999.000,9, -999.00,9,  -999.0,9,  -999.0,-999.000,9,-999.000,   1.254,4, -999.00,9,   98.70,-999.0000,9,-999.0000,9,-999.0000,9,-999.0000,9,-999.0000,9,-999.0000,9,  22.8764,     -999.0,-999.000,     -999.0,          9,     -999.0,          9,-999.000,          9
 33RO200501,       A16S,      84,          1,         31,         31,2,20050210,       1331,   -20.5000,   -25.0002,       5286,   149.4,  21.6315,  36.6540,2,  36.6521,2,    217.8,2,   217.3,2,    2.10,2,    0.03,2,    0.00,2,    0.11,2,-999.000,9,-999.000,9,-999.000,9,  -999.0,9,  -999.0,9,  -999.0,9,   20.00,-999.0000,9,    25.00,-999.000,9, -999.00,-999.000,9,-999.000,9, -999.00,9,  -999.0,9,  -999.0,-999.000,9,-999.000,-999.000,9, -999.00,9,  149.40,-999.0000,9,-999.0000,9,-999.0000,9,-999.0000,9,-999.0000,9,-999.0000,9,  21.6020,     -999.0,-999.000,     82.963,          2,      0.251,          2,   1.621,          2
 33RO200501,       A16S,      84,          1,         30,         30,2,20050210,       1331,   -20.5000,   -25.0002,       5286,   198.5,  18.2507,  36.0055,2,  35.9970,2,    204.0,2,   203.7,2,    2.50,2,    1.42,2,    0.03,2,    0.27,2,   2.399,2,   1.446,2,   0.116,2,  -999.0,9,  -999.0,9,  -999.0,9,   20.00,-999.0000,9,    25.00,-999.000,9, -999.00,-999.000,9,-999.000,9, -999.00,9,  -999.0,9,  -999.0,-999.000,9,-999.000,   0.723,4, -999.00,9,  198.50,-999.0000,9,-999.0000,9,-999.0000,9,-999.0000,9,-999.0000,9,-999.0000,9,  18.2160,     -999.0,-999.000,     -999.0,          9,     -999.0,          9,-999.000,          9
 33RO200501,       A16S,      84,          1,         29,         29,2,20050210,       1331,   -20.5000,   -25.0002,       5286,   248.7,  15.9234,  35.6115,2,  35.6089,2,    201.9,2,   202.8,2,    3.17,2,    4.70,2,    0.01,2,    0.45,2,-999.000,9,-999.000,9,-999.000,9,  -999.0,9,  -999.0,9,  -999.0,9,   20.00,-999.0000,9,    25.00,-999.000,9, -999.00,-999.000,9,-999.000,9, -999.00,9,  -999.0,9,  -999.0,-999.000,9,-999.000,-999.000,9, -999.00,9,  248.70,-999.0000,9,-999.0000,9,-999.0000,9,-999.0000,9,-999.0000,9,-999.0000,9,  15.8839,     -999.0,-999.000,      5.299,          2,      0.140,          2,   0.036,          2
 33RO200501,       A16S,      84,          1,         28,         28,2,20050210,       1331,   -20.5000,   -25.0002,       5286,   299.2,  14.3078,  35.3671,2,  35.3590,2,    196.9,2,   198.4,2,    4.25,2,    8.58,2,    0.01,2,    0.66,2,-999.000,9,-999.000,9,-999.000,9,  -999.0,9,  -999.0,9,  -999.0,9,   20.00,-999.0000,9,    25.00,-999.000,9, -999.00,-999.000,9,-999.000,9, -999.00,9,  -999.0,9,  -999.0,-999.000,9,-999.000,-999.000,9, -999.00,9,  299.20,-999.0000,9,-999.0000,9,-999.0000,9,-999.0000,9,-999.0000,9,-999.0000,9,  14.2636,     -999.0,-999.000,     -999.0,          9,     -999.0,          9,-999.000,          9
 33RO200501,       A16S,      84,          1,         27,         27,2,20050210,       1331,   -20.5000,   -25.0002,       5286,   348.9,  12.9877,  35.1800,2,  35.1783,2,    200.7,2,   200.2,2,    5.08,2,   10.87,2,    0.00,2,    0.79,2,-999.000,9,-999.000,9,-999.000,9,  -999.0,9,  -999.0,9,  -999.0,9,   20.00,-999.0000,9,    25.00,-999.000,9, -999.00,-999.000,9,-999.000,9, -999.00,9,  -999.0,9,  -999.0,-999.000,9,-999.000,-999.000,9, -999.00,9,  348.90,-999.0000,9,-999.0000,9,-999.0000,9,-999.0000,9,-999.0000,9,-999.0000,9,  12.9393,     -999.0,-999.000,      7.660,          2,      0.167,          2,   0.022,          2
 33RO200501,       A16S,      84,          1,         26,         26,2,20050210,       1331,   -20.5000,   -25.0002,       5286,   398.4,  11.8474,  35.0337,2,  35.0230,2,    194.7,2,   198.1,2,    6.40,2,   13.79,2,    0.00,2,    0.96,2,   2.836,2,   1.549,2,   0.041,2,  2130.9,2,  2300.2,2,  -999.0,9,   20.00,   7.8020,2,    25.00,-999.000,9, -999.00,-999.000,9,-999.000,9, -999.00,9,  -999.0,9,  -999.0,-999.000,9,-999.000,   0.740,4, -999.00,9,  398.40,-999.0000,9,-999.0000,9,-999.0000,9,-999.0000,9,-999.0000,9,-999.0000,9,  11.7954,     -999.0,-999.000,     -999.0,          9,     -999.0,          9,-999.000,          9
 33RO200501,       A16S,      84,          1,         25,         25,2,20050210,       1331,   -20.5000,   -25.0002,       5286,   499.0,   9.1072,  34.7266,2,  34.7301,2,    172.9,2,   173.6,2,   12.22,2,   22.29,2,    0.00,2,    1.47,2,-999.000,9,-999.000,9,-999.000,9,  -999.0,9,  -999.0,9,  -999.0,9,   20.00,-999.0000,9,    25.00,-999.000,9, -999.00,-999.000,9,-999.000,9, -999.00,9,  -999.0,9,  -999.0,-999.000,9,-999.000,-999.000,9, -999.00,9,  499.00,-999.0000,9,-999.0000,9,-999.0000,9,-999.0000,9,-999.0000,9,-999.0000,9,   9.0518,     -999.0,-999.000,      3.109,          2,      0.044,          2,   0.018,          2
 33RO200501,       A16S,      84,          1,         24,         24,2,20050210,       1331,   -20.5000,   -25.0002,       5286,   598.9,   7.0223,  34.5362,2,  34.5321,2,    170.7,2,   171.3,2,   18.57,2,   27.45,2,    0.00,2,    1.80,2,-999.000,9,-999.000,9,-999.000,9,  -999.0,9,  -999.0,9,  -999.0,9,   20.00,-999.0000,9,    25.00,-999.000,9, -999.00,-999.000,9,-999.000,9, -999.00,9,  -999.0,9,  -999.0,-999.000,9,-999.000,-999.000,9, -999.00,9,  598.90,-999.0000,9,-999.0000,9,-999.0000,9,-999.0000,9,-999.0000,9,-999.0000,9,   6.9649,     -999.0,-999.000,     -999.0,          9,     -999.0,          9,-999.000,          9
 33RO200501,       A16S,      84,          1,         23,         23,2,20050210,       1331,   -20.5000,   -25.0002,       5286,   699.6,   5.4370,  34.4389,2,  34.4379,2,    172.9,2,   172.9,2,   25.89,2,   30.61,2,    0.00,2,    2.01,2,-999.000,9,-999.000,9,-999.000,9,  -999.0,9,  -999.0,9,  -999.0,9,   20.00,-999.0000,9,    25.00,-999.000,9, -999.00,-999.000,9,-999.000,9, -999.00,9,  -999.0,9,  -999.0,-999.000,9,-999.000,-999.000,9, -999.00,9,  699.60,-999.0000,9,-999.0000,9,-999.0000,9,-999.0000,9,-999.0000,9,-999.0000,9,   5.3779,     -999.0,-999.000,      2.241,          2,      0.114,          2,   0.011,          2
 33RO200501,       A16S,      84,          1,         22,         22,2,20050210,       1331,   -20.5000,   -25.0002,       5286,   798.7,   4.5146,  34.4215,2,  34.4212,2,    176.1,2,   175.9,2,   32.65,2,   31.80,2,    0.00,2,    2.11,2,-999.000,9,-999.000,9,-999.000,9,  -999.0,9,  -999.0,9,  -999.0,9,   20.00,-999.0000,9,    25.00,-999.000,9, -999.00,-999.000,9,-999.000,9, -999.00,9,  -999.0,9,  -999.0,-999.000,9,-999.000,-999.000,9, -999.00,9,  798.70,-999.0000,9,-999.0000,9,-999.0000,9,-999.0000,9,-999.0000,9,-999.0000,9,   4.4524,     -999.0,-999.000,     -999.0,          9,     -999.0,          9,-999.000,          9
 33RO200501,       A16S,      84,          1,         21,         21,2,20050210,       1331,   -20.5000,   -25.0002,       5286,   898.2,   3.9671,  34.4502,2,  34.4491,2,    179.3,2,   179.6,2,   38.07,2,   31.96,2,    0.00,2,    2.13,2,-999.000,9,-999.000,9,-999.000,9,  -999.0,9,  -999.0,9,  -999.0,9,   20.00,-999.0000,9,    25.00,-999.000,9, -999.00,-999.000,9,-999.000,9, -999.00,9,  -999.0,9,  -999.0,-999.000,9,-999.000,-999.000,9, -999.00,9,  898.20,-999.0000,9,-999.0000,9,-999.0000,9,-999.0000,9,-999.0000,9,-999.0000,9,   3.9001,     -999.0,-999.000,      5.616,          2,      0.824,          2,   0.022,          2
 33RO200501,       A16S,      84,          1,         20,         20,2,20050210,       1331,   -20.5000,   -25.0002,       5286,   999.1,   3.6801,  34.5117,2,  34.5129,2,    182.6,2,   182.4,2,   41.27,2,   31.32,2,    0.00,2,    2.09,2,   0.104,2,   0.056,2,   0.000,2,  2216.5,2,  2307.3,2,  -999.0,9,   20.00,   7.5944,2,    25.00,-999.000,9, -999.00,-999.000,9,-999.000,9, -999.00,9,  -999.0,9,  -999.0,-999.000,9,-999.000,   0.273,4, -999.00,9,  999.10,-999.0000,9,-999.0000,9,-999.0000,9,-999.0000,9,-999.0000,9,-999.0000,9,   3.6070,     -999.0,-999.000,     -999.0,          9,     -999.0,          9,-999.000,          9
 33RO200501,       A16S,      84,          1,         19,         19,2,20050210,       1331,   -20.5000,   -25.0002,       5286,  1099.2,   3.6278,  34.5797,2,  34.5805,2,    185.5,2,   185.2,2,   41.28,2,   30.40,2,    0.00,2,    2.03,2,-999.000,9,-999.000,9,-999.000,9,  -999.0,9,  -999.0,9,  -999.0,9,   20.00,-999.0000,9,    25.00,-999.000,9, -999.00,-999.000,9,-999.000,9, -999.00,9,  -999.0,9,  -999.0,-999.000,9,-999.000,-999.000,9, -999.00,9, 1099.20,-999.0000,9,-999.0000,9,-999.0000,9,-999.0000,9,-999.0000,9,-999.0000,9,   3.5468,     -999.0,-999.000,      3.119,          2,      0.193,          2,   0.020,          2
 33RO200501,       A16S,      84,          1,         18,         18,2,20050210,       1331,   -20.5000,   -25.0002,       5286,  1199.4,   3.6906,  34.6642,2,  34.6660,2,    190.2,2,   190.0,2,   38.91,2,   28.97,2,    0.00,2,    1.92,2,-999.000,9,-999.000,9,-999.000,9,  -999.0,9,  -999.0,9,  -999.0,9,   20.00,-999.0000,9,    25.00,-999.000,9, -999.00,-999.000,9,-999.000,9, -999.00,9,  -999.0,9,  -999.0,-999.000,9,-999.000,-999.000,9, -999.00,9, 1199.40,-999.0000,9,-999.0000,9,-999.0000,9,-999.0000,9,-999.0000,9,-999.0000,9,   3.6006,     -999.0,-999.000,     -999.0,          9,     -999.0,          9,-999.000,          9
 33RO200501,       A16S,      84,          1,         17,         17,2,20050210,       1331,   -20.5000,   -25.0002,       5286,  1397.2,   3.7449,  34.8219,2,  34.8217,2,    205.3,2,   207.8,2,   32.76,2,   25.37,2,    0.00,2,    1.66,2,-999.000,9,-999.000,9,-999.000,9,  -999.0,9,  -999.0,9,  -999.0,9,   20.00,-999.0000,9,    25.00,-999.000,9, -999.00,-999.000,9,-999.000,9, -999.00,9,  -999.0,9,  -999.0,-999.000,9,-999.000,-999.000,9, -999.00,9, 1397.20,-999.0000,9,-999.0000,9,-999.0000,9,-999.0000,9,-999.0000,9,-999.0000,9,   3.6370,     -999.0,-999.000,     -999.0,          9,     -999.0,          9,-999.000,          9
 33RO200501,       A16S,      84,          1,         16,         16,2,20050210,       1331,   -20.5000,   -25.0002,       5286,  1597.5,   3.6174,  34.8990,2,  34.8980,2,    225.5,2,   228.2,2,   28.94,2,   22.46,2,    0.00,2,    1.46,2,-999.000,9,-999.000,9,-999.000,9,  -999.0,9,  -999.0,9,  -999.0,9,   20.00,-999.0000,9,    25.00,-999.000,9, -999.00,-999.000,9,-999.000,9, -999.00,9,  -999.0,9,  -999.0,-999.000,9,-999.000,-999.000,9, -999.00,9, 1597.50,-999.0000,9,-999.0000,9,-999.0000,9,-999.0000,9,-999.0000,9,-999.0000,9,   3.4930,     -999.0,-999.000,      5.509,          2,      0.341,          2,   0.033,          2
 33RO200501,       A16S,      84,          1,         15,         15,2,20050210,       1331,   -20.5000,   -25.0002,       5286,  1796.4,   3.5259,  34.9430,2,  34.9435,2,    242.3,2,   243.2,2,   24.70,2,   20.41,2,    0.00,2,    1.31,2,-999.000,9,-999.000,9,-999.000,9,  -999.0,9,  -999.0,9,  -999.0,9,   20.00,-999.0000,9,    25.00,-999.000,9, -999.00,-999.000,9,-999.000,9, -999.00,9,  -999.0,9,  -999.0,-999.000,9,-999.000,-999.000,9, -999.00,9, 1796.40,-999.0000,9,-999.0000,9,-999.0000,9,-999.0000,9,-999.0000,9,-999.0000,9,   3.3845,     -999.0,-999.000,     -999.0,          9,     -999.0,          9,-999.000,          9
 33RO200501,       A16S,      84,          1,         14,         14,2,20050210,       1331,   -20.5000,   -25.0002,       5286,  1998.9,   3.3636,  34.9508,2,  34.9506,2,    249.4,2,   249.3,2,   24.68,2,   19.77,2,    0.00,2,    1.28,2,   0.058,2,   0.044,2,   0.000,2,  2170.6,2,  2316.0,2,  -999.0,9,   20.00,   7.7317,2,    25.00,-999.000,9, -999.00,-999.000,9,-999.000,9, -999.00,9,  -999.0,9,  -999.0,-999.000,9,-999.000,   0.213,4, -999.00,9, 1998.90,-999.0000,9,-999.0000,9,-999.0000,9,-999.0000,9,-999.0000,9,-999.0000,9,   3.2057,     -999.0,-999.000,     -999.0,          9,     -999.0,          9,-999.000,          9
 33RO200501,       A16S,      84,          1,         13,         13,2,20050210,       1331,   -20.5000,   -25.0002,       5286,  2198.5,   3.1994,  34.9460,2,  34.9460,2,    251.1,2,   251.1,2,   26.35,2,   19.73,2,    0.00,2,    1.28,2,-999.000,9,-999.000,9,-999.000,9,  -999.0,9,  -999.0,9,  -999.0,9,   20.00,-999.0000,9,    25.00,-999.000,9, -999.00,-999.000,9,-999.000,9, -999.00,9,  -999.0,9,  -999.0,-999.000,9,-999.000,-999.000,9, -999.00,9, 2198.50,-999.0000,9,-999.0000,9,-999.0000,9,-999.0000,9,-999.0000,9,-999.0000,9,   3.0252,     -999.0,-999.000,      2.958,          2,      0.000,          2,   0.030,          2
 33RO200501,       A16S,      84,          1,         12,         12,2,20050210,       1331,   -20.5000,   -25.0002,       5286,  2400.8,   3.0351,  34.9371,2,  34.9378,2,    251.0,2,   250.7,2,   28.98,2,   19.94,2,    0.00,2,    1.30,2,   0.030,2,   0.013,2,   0.000,2,  -999.0,9,  -999.0,9,  -999.0,9,   20.00,-999.0000,9,    25.00,-999.000,9, -999.00,-999.000,9,-999.000,9, -999.00,9,  -999.0,9,  -999.0,-999.000,9,-999.000,   0.130,4, -999.00,9, 2400.80,-999.0000,9,-999.0000,9,-999.0000,9,-999.0000,9,-999.0000,9,-999.0000,9,   2.8442,     -999.0,-999.000,     -999.0,          9,     -999.0,          9,-999.000,          9
 33RO200501,       A16S,      84,          1,         11,         11,2,20050210,       1331,   -20.5000,   -25.0002,       5286,  2599.1,   2.9231,  34.9310,2,  34.9311,2,    250.9,2,   250.9,2,   30.85,2,   20.06,2,    0.00,2,    1.31,2,-999.000,9,-999.000,9,-999.000,9,  -999.0,9,  -999.0,9,  -999.0,9,   20.00,-999.0000,9,    25.00,-999.000,9, -999.00,-999.000,9,-999.000,9, -999.00,9,  -999.0,9,  -999.0,-999.000,9,-999.000,-999.000,9, -999.00,9, 2599.10,-999.0000,9,-999.0000,9,-999.0000,9,-999.0000,9,-999.0000,9,-999.0000,9,   2.7148,     -999.0,-999.000,     -999.0,          9,     -999.0,          9,-999.000,          9
 33RO200501,       A16S,      84,          1,         10,         10,2,20050210,       1331,   -20.5000,   -25.0002,       5286,  2799.2,   2.8220,  34.9255,2,  34.9262,2,   -999.0,9,   248.2,3,   32.43,2,   20.14,2,    0.00,2,    1.32,2,-999.000,9,-999.000,9,-999.000,9,  -999.0,9,  -999.0,9,  -999.0,9,   20.00,-999.0000,9,    25.00,-999.000,9, -999.00,-999.000,9,-999.000,9, -999.00,9,  -999.0,9,  -999.0,-999.000,9,-999.000,-999.000,9, -999.00,9, 2799.20,-999.0000,9,-999.0000,9,-999.0000,9,-999.0000,9,-999.0000,9,-999.0000,9,   2.5957,     -999.0,-999.000,      4.685,          2,      0.000,          2,   0.126,          2
 33RO200501,       A16S,      84,          1,          9,          9,2,20050210,       1331,   -20.5000,   -25.0002,       5286,  3099.4,   2.6900,  34.9173,2,  34.9160,2,    251.6,2,   252.1,2,   34.83,2,   20.31,2,    0.00,2,    1.34,2,   0.013,2,   0.018,2,   0.000,2,  2179.0,2,  2326.0,2,  -999.0,9,   20.00,   7.7349,2,    25.00,-999.000,9, -999.00,-999.000,9,-999.000,9, -999.00,9,  -999.0,9,  -999.0,-999.000,9,-999.000,   0.091,4, -999.00,9, 3099.40,-999.0000,9,-999.0000,9,-999.0000,9,-999.0000,9,-999.0000,9,-999.0000,9,   2.4358,     -999.0,-999.000,     -999.0,          9,     -999.0,          9,-999.000,          9
 33RO200501,       A16S,      84,          1,          8,          8,2,20050210,       1331,   -20.5000,   -25.0002,       5286,  3400.2,   2.4825,  34.9011,2,  34.9023,2,    251.6,2,   252.5,2,   39.88,2,   20.82,2,    0.00,2,    1.38,2,-999.000,9,-999.000,9,-999.000,9,  -999.0,9,  -999.0,9,  -999.0,9,   20.00,-999.0000,9,    25.00,-999.000,9, -999.00,-999.000,9,-999.000,9, -999.00,9,  -999.0,9,  -999.0,-999.000,9,-999.000,-999.000,9, -999.00,9, 3400.20,-999.0000,9,-999.0000,9,-999.0000,9,-999.0000,9,-999.0000,9,-999.0000,9,   2.2013,     -999.0,-999.000,     -999.0,          9,     -999.0,          9,-999.000,          9