BOTTLE,20220818CCHSIOAMB
EXPOCODE,SECT_ID,STNNBR,CASTNO,SAMPNO,BTLNBR,BTLNBR_FLAG_W,DATE,TIME,LATITUDE,LONGITUDE,DEPTH,CTDPRS,CTDTMP,CTDSAL,CTDSAL_FLAG_W,SALNTY,SALNTY_FLAG_W,CTDOXY,CTDOXY_FLAG_W,OXYGEN,OXYGEN_FLAG_W,SILCAT,SILCAT_FLAG_W,NITRAT,NITRAT_FLAG_W,NITRIT,NITRIT_FLAG_W,PHSPHT,PHSPHT_FLAG_W,CFC-11,CFC-11_FLAG_W,CFC-12,CFC-12_FLAG_W,CFC113,CFC113_FLAG_W,TCARBN,TCARBN_FLAG_W,ALKALI,ALKALI_FLAG_W,PCO2,PCO2_FLAG_W,PCO2TMP,PH_SWS,PH_SWS_FLAG_W,PH_TMP,TRITUM,TRITUM_FLAG_W,TRITER,HELIUM,HELIUM_FLAG_W,DELHE3,DELHE3_FLAG_W,DELC13,DELC13_FLAG_W,DELC14,DELC14_FLAG_W,C14ERR,NEON,NEON_FLAG_W,NEONER,CCL4,CCL4_FLAG_W,DOC,DOC_FLAG_W,CTDRAW,CDOM325,CDOM325_FLAG_W,CDOM340,CDOM340_FLAG_W,CDOM380,CDOM380_FLAG_W,CDOM412,CDOM412_FLAG_W,CDOMSL,CDOMSL_FLAG_W,CDOMSN,CDOMSN_FLAG_W,THETA,HELIER,DELHER,CH3CL,CH3CL_FLAG_W,CH3BR,CH3BR_FLAG_W,CH3I,CH3I_FLAG_W
,,,,,,,,,,,METERS,DBAR,ITS-90,PSS-78,,PSS-78,,UMOL/KG,,UMOL/KG,,UMOL/KG,,UMOL/KG,,UMOL/KG,,UMOL/KG,,PMOL/KG,,PMOL/KG,,PMOL/KG,,UMOL/KG,,UMOL/KG,,UATM,,DEG C,,,DEG C,TU,,TU,NMOL/KG,,PERCNT,,/MILLE,,/MILLE,,/MILLE,NMOL/KG,,NMOL/KG,PMOL/KG,,UMOL/KG,,DBAR,1/M,,1/M,,1/M,,1/M,,1/NM,,1/NM,,DEG C,NMOL/KG,PERCNT,PMOL/KG,,PMOL/KG,,PMOL/KG,
 33RO200501,       A16S,     103,          1,         36,         36,2,20050216,       0858,   -11.0007,   -25.0005,       5542,     2.0,  27.5644,  36.6152,2,  36.6147,2,    198.9,2,   198.9,2,    2.64,2,    0.00,2,    0.00,2,    0.07,2,   1.622,2,   1.043,2,   0.130,2,  2055.4,6,  2399.8,2,  -999.0,9,   20.00,   8.0785,2,    25.00,-999.000,9, -999.00,-999.000,9,-999.000,9,    1.69,2,    57.1,2,     3.6,-999.000,9,-999.000,   1.356,4,   71.98,2,    2.00,   0.0660,2,   0.0450,2,   0.0170,3,   0.0100,3,   0.0240,2,   0.0244,2,  27.5639,     -999.0,-999.000,     -999.0,          9,     -999.0,          9,-999.000,          9
 33RO200501,       A16S,     103,          1,         35,         35,2,20050216,       0858,   -11.0007,   -25.0005,       5542,    24.8,  27.5624,  36.6143,2,  36.6149,2,    199.0,2,   199.0,2,    2.73,2,    0.00,2,    0.00,2,    0.06,2,   1.630,2,   1.047,2,   0.137,2,  2055.7,2,  2400.9,6,  -999.0,9,   20.00,   8.0790,6,    25.00,-999.000,9, -999.00,-999.000,9,-999.000,9, -999.00,9,  -999.0,9,  -999.0,-999.000,9,-999.000,   1.360,4,   72.06,2,   24.80,   0.0520,2,   0.0340,2,   0.0130,2,   0.0080,2,   0.0279,2,   0.0282,2,  27.5566,     -999.0,-999.000,     -999.0,          9,     -999.0,          9,-999.000,          9
 33RO200501,       A16S,     103,          1,         34,         34,2,20050216,       0858,   -11.0007,   -25.0005,       5542,    54.4,  26.3840,  36.7784,2,  36.7990,2,    207.5,2,   209.4,2,    2.93,2,    0.00,2,    0.00,2,    0.08,2,   1.752,2,   1.122,2,   0.139,2,  2064.2,2,  -999.0,5,  -999.0,9,   20.00,   8.0815,2,    25.00,-999.000,9, -999.00,-999.000,9,-999.000,9,    1.69,2,    61.0,2,     3.6,-999.000,9,-999.000,   1.244,4,   69.44,2,   54.40,   0.0760,2,   0.0500,2,   0.0180,2,   0.0110,2,   0.0264,2,   0.0270,2,  26.3717,     -999.0,-999.000,     -999.0,          9,     -999.0,          9,-999.000,          9
 33RO200501,       A16S,     103,          1,         33,         33,2,20050216,       0858,   -11.0007,   -25.0005,       5542,    84.4,  24.1105,  36.8216,2,  36.8242,2,    204.5,2,   208.3,2,    3.51,2,    0.00,2,    0.00,2,    0.13,2,   1.883,2,   1.172,2,   0.139,2,  2082.6,2,  2415.9,2,  -999.0,9,   20.00,   8.0546,2,    25.00,-999.000,9, -999.00,-999.000,9,-999.000,9, -999.00,9,  -999.0,9,  -999.0,-999.000,9,-999.000,   0.909,4,   68.40,2,   84.40,-999.0000,9,-999.0000,9,-999.0000,9,-999.0000,9,-999.0000,9,-999.0000,9,  24.0926,     -999.0,-999.000,     -999.0,          9,     -999.0,          9,-999.000,          9
 33RO200501,       A16S,     103,          1,         32,         32,2,20050216,       0858,   -11.0007,   -25.0005,       5542,   114.6,  22.8575,  36.8230,2,  36.7345,2,    202.7,2,   198.3,2,    4.00,2,    0.88,2,    0.05,2,    0.26,2,   2.014,2,   1.239,2,   0.146,2,  2106.1,2,  2409.7,2,  -999.0,9,   20.00,   8.0143,2,    25.00,-999.000,9, -999.00,-999.000,9,-999.000,9,    1.49,2,    54.8,2,     4.1,-999.000,9,-999.000,   0.854,4,   67.71,2,  114.60,   0.1310,2,   0.0920,2,   0.0440,2,   0.0300,2,   0.0172,2,   0.0191,2,  22.8340,     -999.0,-999.000,     -999.0,          9,     -999.0,          9,-999.000,          9
 33RO200501,       A16S,     103,          1,         31,         31,2,20050216,       0858,   -11.0007,   -25.0005,       5542,   164.6,  16.2785,  35.7332,2,  35.7309,2,    146.1,2,   146.9,2,    6.84,2,   12.90,2,    0.02,2,    0.91,2,   2.261,2,   1.303,2,   0.062,2,  2151.3,2,  2344.6,2,  -999.0,9,   20.00,   7.8269,2,    25.00,-999.000,9, -999.00,-999.000,9,-999.000,9, -999.00,9,  -999.0,9,  -999.0,-999.000,9,-999.000,   0.439,4,   53.21,2,  164.60,-999.0000,9,-999.0000,9,-999.0000,9,-999.0000,9,-999.0000,9,-999.0000,9,  16.2520,     -999.0,-999.000,     -999.0,          9,     -999.0,          9,-999.000,          9
 33RO200501,       A16S,     103,          1,         30,         30,2,20050216,       0858,   -11.0007,   -25.0005,       5542,   214.3,  13.6998,  35.3674,2,  35.3535,2,    124.7,2,   125.7,2,    9.38,2,   19.25,2,    0.01,2,    1.24,2,   2.068,6,   1.153,6,   0.027,6,  2173.3,2,  2322.4,2,  -999.0,9,   20.00,   7.7338,2,    25.00,-999.000,9, -999.00,-999.000,9,-999.000,9,    0.76,2,    44.4,2,     3.9,-999.000,9,-999.000,   0.358,4,   51.34,2,  214.30,   0.1460,2,   0.1050,2,   0.0530,2,   0.0370,2,   0.0155,2,   0.0173,2,  13.6692,     -999.0,-999.000,     -999.0,          9,     -999.0,          9,-999.000,          9
 33RO200501,       A16S,     103,          1,         29,         29,2,20050216,       0858,   -11.0007,   -25.0005,       5542,   262.3,  11.2525,  35.0656,2,  35.0617,2,     95.1,2,    97.3,2,   13.39,2,   26.59,2,    0.01,2,    1.66,2,   1.396,2,   0.747,2,   0.013,2,  2200.9,2,  2302.7,2,  -999.0,9,   20.00,   7.6164,2,    25.00,-999.000,9, -999.00,-999.000,9,-999.000,9, -999.00,9,  -999.0,9,  -999.0,-999.000,9,-999.000,   0.290,4,   46.51,2,  262.30,-999.0000,9,-999.0000,9,-999.0000,9,-999.0000,9,-999.0000,9,-999.0000,9,  11.2196,     -999.0,-999.000,     -999.0,          9,     -999.0,          9,-999.000,          9
 33RO200501,       A16S,     103,          1,         28,         28,2,20050216,       0858,   -11.0007,   -25.0005,       5542,   309.2,  10.0837,  34.9328,2,  34.9291,2,     84.0,2,    81.9,2,   16.13,2,   30.70,2,    0.00,2,    1.89,2,   0.900,2,   0.472,2,   0.012,2,  2219.0,2,  2298.0,2,  -999.0,9,   20.00,   7.5559,2,    25.00,-999.000,9, -999.00,-999.000,9,-999.000,9,    0.60,2,   -19.0,2,     3.7,-999.000,9,-999.000,   0.221,4,   44.87,2,  309.20,   0.1470,2,   0.1040,2,   0.0570,2,   0.0410,2,   0.0141,2,   0.0159,2,  10.0474,     -999.0,-999.000,     -999.0,          9,     -999.0,          9,-999.000,          9
 33RO200501,       A16S,     103,          1,         27,         27,2,20050216,       0858,   -11.0007,   -25.0005,       5542,   364.8,   8.8756,  34.8026,2,  34.7993,2,     87.5,2,    85.3,2,   18.58,2,   32.75,2,    0.00,2,    2.01,2,-999.000,9,-999.000,9,-999.000,9,  2222.2,2,  2293.7,2,  -999.0,9,   20.00,   7.5354,2,    25.00,-999.000,9, -999.00,-999.000,9,-999.000,9, -999.00,9,  -999.0,9,  -999.0,-999.000,9,-999.000,-999.000,9,   43.71,2,  364.80,-999.0000,9,-999.0000,9,-999.0000,9,-999.0000,9,-999.0000,9,-999.0000,9,   8.8360,     -999.0,-999.000,     -999.0,          9,     -999.0,          9,-999.000,          9
 33RO200501,       A16S,     103,          1,         26,         26,2,20050216,       0858,   -11.0007,   -25.0005,       5542,   448.8,   7.6369,  34.6767,2,  34.6709,2,     93.6,2,    95.3,2,   21.80,2,   34.61,2,    0.00,2,    2.12,2,   0.350,2,   0.186,2,   0.007,2,  2226.4,2,  2291.3,2,  -999.0,9,   20.00,   7.5202,2,    25.00,-999.000,9, -999.00,-999.000,9,-999.000,9,    0.69,2,   -59.0,2,     3.2,-999.000,9,-999.000,   0.228,4,   41.71,2,  448.80,   0.1770,2,   0.1300,2,   0.0740,2,   0.0530,2,   0.0128,3,   0.0140,3,   7.5922,     -999.0,-999.000,     -999.0,          9,     -999.0,          9,-999.000,          9
 33RO200501,       A16S,     103,          1,         25,         25,2,20050216,       0858,   -11.0007,   -25.0005,       5542,   548.8,   6.5582,  34.5763,2,  34.5784,2,    111.1,2,   113.0,2,   24.84,2,   35.01,2,    0.00,2,    2.17,2,   0.292,2,   0.150,2,   0.002,2,  2223.0,2,  2291.0,2,  -999.0,9,   20.00,   7.5256,2,    25.00,-999.000,9, -999.00,-999.000,9,-999.000,9,    0.76,2,   -75.1,2,     3.2,-999.000,9,-999.000,   0.279,4,   40.28,2,  548.80,-999.0000,9,-999.0000,9,-999.0000,9,-999.0000,9,-999.0000,9,-999.0000,9,   6.5077,     -999.0,-999.000,     -999.0,          9,     -999.0,          9,-999.000,          9
 33RO200501,       A16S,     103,          1,         24,         24,2,20050216,       0858,   -11.0007,   -25.0005,       5542,   649.5,   5.5988,  34.5107,2,  34.5093,2,    127.1,2,   126.2,2,   29.04,2,   35.69,2,    0.00,2,    2.24,2,-999.000,9,-999.000,9,-999.000,9,  2223.4,2,  2291.3,2,  -999.0,9,   20.00,   7.5260,2,    25.00,-999.000,9, -999.00,-999.000,9,-999.000,9,    0.77,2,   -95.2,2,     2.8,-999.000,9,-999.000,-999.000,9, -999.00,9,  649.50,   0.1530,2,   0.1080,2,   0.0580,2,   0.0410,2,   0.0141,2,   0.0161,2,   5.5434,     -999.0,-999.000,     -999.0,          9,     -999.0,          9,-999.000,          9
 33RO200501,       A16S,     103,          1,         23,         23,2,20050216,       0858,   -11.0007,   -25.0005,       5542,   749.6,   4.9449,  34.4816,2,  34.4808,2,    137.8,2,   139.6,2,   32.56,2,   35.40,2,    0.00,2,    2.25,2,   0.117,2,   0.056,2,   0.008,2,  2222.8,2,  2293.8,2,  -999.0,9,   20.00,   7.5391,2,    25.00,-999.000,9, -999.00,-999.000,9,-999.000,9,    0.82,2,  -103.2,2,     3.0,-999.000,9,-999.000,   0.214,4,   40.33,2,  749.60,-999.0000,9,-999.0000,9,-999.0000,9,-999.0000,9,-999.0000,9,-999.0000,9,   4.8841,     -999.0,-999.000,     -999.0,          9,     -999.0,          9,-999.000,          9
 33RO200501,       A16S,     103,          1,         22,         22,2,20050216,       0858,   -11.0007,   -25.0005,       5542,   849.1,   4.4132,  34.4887,2,  34.4890,2,    151.6,2,   152.8,2,   36.28,2,   34.72,2,    0.00,2,    2.22,2,   0.055,2,   0.031,2,   0.001,2,  2222.2,2,  2302.1,2,  -999.0,9,   20.00,   7.5517,2,    25.00,-999.000,9, -999.00,-999.000,9,-999.000,9,    0.83,2,  -114.8,2,     3.2,-999.000,9,-999.000,   0.153,4, -999.00,9,  849.10,   0.1250,2,   0.0850,2,   0.0460,2,   0.0330,3,   0.0147,3,   0.0172,3,   4.3472,     -999.0,-999.000,     -999.0,          9,     -999.0,          9,-999.000,          9
 33RO200501,       A16S,     103,          1,         21,         21,2,20050216,       0858,   -11.0007,   -25.0005,       5542,   950.4,   4.1087,  34.5372,2,  34.5379,2,    160.0,2,   162.0,2,   38.04,2,   33.54,2,    0.00,2,    2.17,2,   0.037,2,   0.017,2,   0.000,2,  2220.1,6,  2305.5,2,  -999.0,9,   20.00,   7.5689,2,    25.00,-999.000,9, -999.00,-999.000,9,-999.000,9,    0.84,2,  -122.0,2,     2.6,-999.000,9,-999.000,   0.098,4,   39.69,2,  950.40,-999.0000,9,-999.0000,9,-999.0000,9,-999.0000,9,-999.0000,9,-999.0000,9,   4.0363,     -999.0,-999.000,     -999.0,          9,     -999.0,          9,-999.000,          9
 33RO200501,       A16S,     103,          1,         20,         20,2,20050216,       0858,   -11.0007,   -25.0005,       5542,  1048.8,   4.0076,  34.6096,2,  34.6080,2,    169.1,2,   169.8,2,   36.77,6,   31.97,6,    0.00,6,    2.08,6,   0.020,2,   0.012,2,   0.000,2,  2216.8,2,  2308.4,2,  -999.0,9,   20.00,   7.5872,2,    25.00,-999.000,9, -999.00,-999.000,9,-999.000,9,    0.85,2,  -127.7,2,     3.9,-999.000,9,-999.000,   0.067,4, -999.00,9, 1048.80,   0.1470,2,   0.1020,2,   0.0560,2,   0.0400,2,   0.0136,3,   0.0158,3,   3.9276,     -999.0,-999.000,     -999.0,          9,     -999.0,          9,-999.000,          9
 33RO200501,       A16S,     103,          1,         19,         19,2,20050216,       0858,   -11.0007,   -25.0005,       5542,  1149.9,   4.0182,  34.6929,2,  34.6911,2,    179.0,2,   178.2,2,   35.10,2,   30.31,2,    0.00,2,    1.96,2,   0.014,2,   0.007,2,   0.009,2,  2210.7,2,  2309.7,6,  -999.0,9,   20.00,   7.6093,6,    25.00,-999.000,9, -999.00,-999.000,9,-999.000,9,    0.89,2,  -128.2,2,     3.5,-999.000,9,-999.000,   0.044,4,   40.09,2, 1149.90,-999.0000,9,-999.0000,9,-999.0000,9,-999.0000,9,-999.0000,9,-999.0000,9,   3.9294,     -999.0,-999.000,     -999.0,          9,     -999.0,          9,-999.000,          9
 33RO200501,       A16S,     103,          1,         18,         18,2,20050216,       0858,   -11.0007,   -25.0005,       5542,  1300.0,   4.0952,  34.8185,2,  34.8171,2,    194.9,2,   195.9,2,   29.82,2,   26.89,2,    0.00,2,    1.73,2,   0.023,2,   0.010,2,   0.018,2,  2197.7,2,  2313.1,2,  -999.0,9,   20.00,   7.6615,2,    25.00,-999.000,9, -999.00,-999.000,9,-999.000,9,    0.97,2,  -103.5,2,     2.7,-999.000,9,-999.000,   0.061,4, -999.00,9, 1300.00,-999.0000,9,-999.0000,9,-999.0000,9,-999.0000,9,-999.0000,9,-999.0000,9,   3.9923,     -999.0,-999.000,     -999.0,          9,     -999.0,          9,-999.000,          9
 33RO200501,       A16S,     103,          1,         17,         17,2,20050216,       0858,   -11.0007,   -25.0005,       5542,  1500.6,   4.0749,  34.9192,2,  34.9210,2,    221.3,2,   220.3,2,   24.73,2,   23.17,2,    0.00,2,    1.47,2,   0.068,2,   0.032,2,   0.006,2,  2182.6,2,  2314.3,2,  -999.0,9,   20.00,   7.7087,2,    25.00,-999.000,9, -999.00,-999.000,9,-999.000,9,    1.06,2,   -86.1,2,     3.7,-999.000,9,-999.000,   0.169,4,   39.18,2, 1500.60,-999.0000,9,-999.0000,9,-999.0000,9,-999.0000,9,-999.0000,9,-999.0000,9,   3.9539,     -999.0,-999.000,     -999.0,          9,     -999.0,          9,-999.000,          9
 33RO200501,       A16S,     103,          1,         16,         16,2,20050216,       0858,   -11.0007,   -25.0005,       5542,  1700.4,   3.8222,  34.9565,2,  34.9560,2,    239.4,2,   238.9,2,   23.17,2,   21.02,2,    0.00,2,    1.33,2,   0.089,2,   0.046,2,   0.000,2,  2172.9,2,  2315.7,2,  -999.0,9,   20.00,   7.7200,2,    25.00,-999.000,9, -999.00,-999.000,9,-999.000,9, -999.00,9,  -999.0,9,  -999.0,-999.000,9,-999.000,   0.239,4, -999.00,9, 1700.40,-999.0000,9,-999.0000,9,-999.0000,9,-999.0000,9,-999.0000,9,-999.0000,9,   3.6858,     -999.0,-999.000,     -999.0,          9,     -999.0,          9,-999.000,          9
 33RO200501,       A16S,     103,          1,         15,         15,2,20050216,       0858,   -11.0007,   -25.0005,       5542,  1900.3,   3.5080,  34.9576,2,  34.9595,2,    246.8,2,   247.4,2,   24.73,2,   20.24,2,    0.00,2,    1.29,2,   0.067,2,   0.033,2,   0.000,2,  2170.1,2,  2314.1,2,  -999.0,9,   20.00,   7.7277,2,    25.00,-999.000,9, -999.00,-999.000,9,-999.000,9, -999.00,9,  -999.0,9,  -999.0,-999.000,9,-999.000,   0.200,4,   40.03,2, 1900.30,   0.1870,2,   0.1380,2,   0.0650,2,   0.0400,2,   0.0175,2,   0.0185,2,   3.3572,     -999.0,-999.000,     -999.0,          9,     -999.0,          9,-999.000,          9
 33RO200501,       A16S,     103,          1,         14,         14,2,20050216,       0858,   -11.0007,   -25.0005,       5542,  2100.1,   3.2957,  34.9496,2,  34.9499,2,    248.4,2,   248.3,2,   27.18,2,   20.33,2,    0.00,2,    1.30,2,   0.045,2,   0.023,2,  -0.002,2,  2171.7,2,  2316.5,2,  -999.0,9,   20.00,   7.7321,2,    25.00,-999.000,9, -999.00,-999.000,9,-999.000,9, -999.00,9,  -999.0,9,  -999.0,-999.000,9,-999.000,   0.160,4, -999.00,9, 2100.10,-999.0000,9,-999.0000,9,-999.0000,9,-999.0000,9,-999.0000,9,-999.0000,9,   3.1293,     -999.0,-999.000,     -999.0,          9,     -999.0,          9,-999.000,          9
 33RO200501,       A16S,     103,          1,         13,         13,2,20050216,       0858,   -11.0007,   -25.0005,       5542,  2300.0,   3.0884,  34.9380,2,  34.9377,2,    247.8,2,   248.8,2,   30.70,2,   20.63,2,    0.00,2,    1.33,2,   0.033,6,   0.019,6,   0.000,6,  2174.9,2,  2318.5,2,  -999.0,9,   20.00,   7.7339,2,    25.00,-999.000,9, -999.00,-999.000,9,-999.000,9, -999.00,9,  -999.0,9,  -999.0,-999.000,9,-999.000,   0.116,4,   40.91,2, 2300.00,-999.0000,9,-999.0000,9,-999.0000,9,-999.0000,9,-999.0000,9,-999.0000,9,   2.9063,     -999.0,-999.000,     -999.0,          9,     -999.0,          9,-999.000,          9
 33RO200501,       A16S,     103,          1,         12,         12,2,20050216,       0858,   -11.0007,   -25.0005,       5542,  2499.4,   2.9462,  34.9298,2,  34.9300,2,    247.8,2,   248.5,2,   33.24,2,   20.82,2,    0.00,2,    1.35,2,   0.035,2,   0.021,2,   0.000,2,  2177.1,2,  2320.8,2,  -999.0,9,   20.00,   7.7217,2,    25.00,-999.000,9, -999.00,-999.000,9,-999.000,9, -999.00,9,  -999.0,9,  -999.0,-999.000,9,-999.000,   0.105,4, -999.00,9, 2499.40,-999.0000,9,-999.0000,9,-999.0000,9,-999.0000,9,-999.0000,9,-999.0000,9,   2.7474,     -999.0,-999.000,     -999.0,          9,     -999.0,          9,-999.000,          9
 33RO200501,       A16S,     103,          1,         11,         11,2,20050216,       0858,   -11.0007,   -25.0005,       5542,  2698.9,   2.8301,  34.9202,2,  34.9202,2,    246.0,2,   247.0,2,   36.27,2,   21.21,2,    0.00,2,    1.38,2,-999.000,9,-999.000,9,-999.000,9,  2180.9,2,  2323.5,2,  -999.0,9,   20.00,   7.7270,2,    25.00,-999.000,9, -999.00,-999.000,9,-999.000,9, -999.00,9,  -999.0,9,  -999.0,-999.000,9,-999.000,-999.000,9,   40.88,2, 2698.90,   0.1730,2,   0.1250,2,   0.0590,2,   0.0370,2,   0.0176,2,   0.0189,2,   2.6138,     -999.0,-999.000,     -999.0,          9,     -999.0,          9,-999.000,          9
 33RO200501,       A16S,     103,          1,         10,         10,2,20050216,       0858,   -11.0007,   -25.0005,       5542,  2949.4,   2.7358,  34.9177,2,  34.9174,2,    248.0,2,   248.8,2,   36.86,2,   21.02,2,    0.00,2,    1.37,2,   0.025,2,   0.007,2,  -0.002,2,  2180.5,2,  2330.7,2,  -999.0,9,   20.00,   7.7257,2,    25.00,-999.000,9, -999.00,-999.000,9,-999.000,9, -999.00,9,  -999.0,9,  -999.0,-999.000,9,-999.000,   0.083,4, -999.00,9, 2949.40,-999.0000,9,-999.0000,9,-999.0000,9,-999.0000,9,-999.0000,9,-999.0000,9,   2.4961,     -999.0,-999.000,     -999.0,          9,     -999.0,          9,-999.000,          9
 33RO200501,       A16S,     103,          1,          9,          9,2,20050216,       0858,   -11.0007,   -25.0005,       5542,  3250.3,   2.6254,  34.9140,2,  34.9131,2,    250.8,2,   252.5,2,   37.15,2,   20.73,2,    0.00,2,    1.35,2,   0.023,2,   0.017,2,   0.000,2,  2180.9,2,  2329.9,2,  -999.0,9,   20.00,   7.7320,2,    25.00,-999.000,9, -999.00,-999.000,9,-999.000,9, -999.00,9,  -999.0,9,  -999.0,-999.000,9,-999.000,   0.100,4,   40.28,2, 3250.30,-999.0000,9,-999.0000,9,-999.0000,9,-999.0000,9,-999.0000,9,-999.0000,9,   2.3567,     -999.0,-999.000,     -999.0,          9,     -999.0,          9,-999.000,          9
 33RO200501,       A16S,     103,          1,          8,          8,2,20050216,       0858,   -11.0007,   -25.0005,       5542,  3549.1,   2.4832,  34.9040,2,  34.9032,2,    252.5,2,   254.2,2,   39.50,2,   20.82,2,    0.00,2,    1.36,2,   0.038,2,   0.018,2,   0.000,2,  2180.8,2,  2330.5,2,  -999.0,9,   20.00,   7.7275,2,    25.00,-999.000,9, -999.00,-999.000,9,-999.000,9, -999.00,9,  -999.0,9,  -999.0,-999.000,9,-999.000,   0.130,4, -999.00,9, 3549.10,-999.0000,9,-999.0000,9,-999.0000,9,-999.0000,9,-999.0000,9,-999.0000,9,   2.1859,     -999.0,-999.000,     -999.0,          9,     -999.0,          9,-999.000,          9