BOTTLE,20220818CCHSIOAMB
EXPOCODE,SECT_ID,STNNBR,CASTNO,SAMPNO,BTLNBR,BTLNBR_FLAG_W,DATE,TIME,LATITUDE,LONGITUDE,DEPTH,CTDPRS,CTDTMP,CTDSAL,CTDSAL_FLAG_W,SALNTY,SALNTY_FLAG_W,CTDOXY,CTDOXY_FLAG_W,OXYGEN,OXYGEN_FLAG_W,SILCAT,SILCAT_FLAG_W,NITRAT,NITRAT_FLAG_W,NITRIT,NITRIT_FLAG_W,PHSPHT,PHSPHT_FLAG_W,CFC-11,CFC-11_FLAG_W,CFC-12,CFC-12_FLAG_W,CFC113,CFC113_FLAG_W,TCARBN,TCARBN_FLAG_W,ALKALI,ALKALI_FLAG_W,PCO2,PCO2_FLAG_W,PCO2TMP,PH_SWS,PH_SWS_FLAG_W,PH_TMP,TRITUM,TRITUM_FLAG_W,TRITER,HELIUM,HELIUM_FLAG_W,DELHE3,DELHE3_FLAG_W,DELC13,DELC13_FLAG_W,DELC14,DELC14_FLAG_W,C14ERR,NEON,NEON_FLAG_W,NEONER,CCL4,CCL4_FLAG_W,DOC,DOC_FLAG_W,CTDRAW,CDOM325,CDOM325_FLAG_W,CDOM340,CDOM340_FLAG_W,CDOM380,CDOM380_FLAG_W,CDOM412,CDOM412_FLAG_W,CDOMSL,CDOMSL_FLAG_W,CDOMSN,CDOMSN_FLAG_W,THETA,HELIER,DELHER,CH3CL,CH3CL_FLAG_W,CH3BR,CH3BR_FLAG_W,CH3I,CH3I_FLAG_W
,,,,,,,,,,,METERS,DBAR,ITS-90,PSS-78,,PSS-78,,UMOL/KG,,UMOL/KG,,UMOL/KG,,UMOL/KG,,UMOL/KG,,UMOL/KG,,PMOL/KG,,PMOL/KG,,PMOL/KG,,UMOL/KG,,UMOL/KG,,UATM,,DEG C,,,DEG C,TU,,TU,NMOL/KG,,PERCNT,,/MILLE,,/MILLE,,/MILLE,NMOL/KG,,NMOL/KG,PMOL/KG,,UMOL/KG,,DBAR,1/M,,1/M,,1/M,,1/M,,1/NM,,1/NM,,DEG C,NMOL/KG,PERCNT,PMOL/KG,,PMOL/KG,,PMOL/KG,
 33RO200501,       A16S,      76,          1,         36,         36,2,20050208,       0305,   -24.5000,   -24.9998,       4956,     2.9,  25.4172,  36.4055,2,  36.4079,2,    210.4,2,   206.8,2,    1.68,2,    0.01,2,    0.00,2,    0.07,2,   1.752,2,   1.128,2,   0.140,2,  2062.9,6,  2382.2,2,  -999.0,9,   20.00,   8.0517,6,    25.00,-999.000,9, -999.00,-999.000,9,-999.000,9, -999.00,9,  -999.0,9,  -999.0,-999.000,9,-999.000,   1.505,4, -999.00,9,    2.90,-999.0000,9,-999.0000,9,-999.0000,9,-999.0000,9,-999.0000,9,-999.0000,9,  25.4165,     -999.0,-999.000,     70.732,          2,      0.876,          2,   2.147,          2
 33RO200501,       A16S,      76,          1,         35,         35,2,20050208,       0305,   -24.5000,   -24.9998,       4956,    19.3,  25.5201,  36.5892,2,  36.5884,2,    210.6,2,   207.0,2,    1.69,2,    0.00,2,    0.00,2,    0.07,2,-999.000,9,-999.000,9,-999.000,9,  -999.0,9,  -999.0,9,  -999.0,9,   20.00,-999.0000,9,    25.00,-999.000,9, -999.00,-999.000,9,-999.000,9, -999.00,9,  -999.0,9,  -999.0,-999.000,9,-999.000,-999.000,9, -999.00,9,   19.30,-999.0000,9,-999.0000,9,-999.0000,9,-999.0000,9,-999.0000,9,-999.0000,9,  25.5158,     -999.0,-999.000,     -999.0,          9,     -999.0,          9,-999.000,          9
 33RO200501,       A16S,      76,          1,         34,         34,2,20050208,       0305,   -24.5000,   -24.9998,       4956,    39.2,  25.2268,  36.5488,2,  36.4980,2,    212.2,2,   216.4,2,    1.74,2,    0.00,2,    0.00,2,    0.09,2,-999.000,9,-999.000,9,-999.000,9,  -999.0,9,  -999.0,9,  -999.0,9,   20.00,-999.0000,9,    25.00,-999.000,9, -999.00,-999.000,9,-999.000,9, -999.00,9,  -999.0,9,  -999.0,-999.000,9,-999.000,-999.000,9, -999.00,9,   39.20,-999.0000,9,-999.0000,9,-999.0000,9,-999.0000,9,-999.0000,9,-999.0000,9,  25.2182,     -999.0,-999.000,     14.564,          2,      0.290,          2,   0.373,          2
 33RO200501,       A16S,      76,          1,         33,         33,2,20050208,       0305,   -24.5000,   -24.9998,       4956,    59.8,  21.5912,  36.2277,2,  36.2321,2,    238.7,2,   236.9,2,    1.84,2,    0.00,2,    0.00,2,    0.10,2,-999.000,9,-999.000,9,-999.000,9,  -999.0,9,  -999.0,9,  -999.0,9,   20.00,-999.0000,9,    25.00,-999.000,9, -999.00,-999.000,9,-999.000,9, -999.00,9,  -999.0,9,  -999.0,-999.000,9,-999.000,-999.000,9, -999.00,9,   59.80,-999.0000,9,-999.0000,9,-999.0000,9,-999.0000,9,-999.0000,9,-999.0000,9,  21.5795,     -999.0,-999.000,     -999.0,          9,     -999.0,          9,-999.000,          9
 33RO200501,       A16S,      76,          1,         32,         32,2,20050208,       0305,   -24.5000,   -24.9998,       4956,    79.1,  20.7219,  36.2203,2,  36.2121,2,    236.6,2,   236.4,2,    1.79,2,    0.01,2,    0.00,2,    0.11,2,-999.000,9,-999.000,9,-999.000,9,  -999.0,9,  -999.0,9,  -999.0,9,   20.00,-999.0000,9,    25.00,-999.000,9, -999.00,-999.000,9,-999.000,9, -999.00,9,  -999.0,9,  -999.0,-999.000,9,-999.000,-999.000,9, -999.00,9,   79.10,-999.0000,9,-999.0000,9,-999.0000,9,-999.0000,9,-999.0000,9,-999.0000,9,  20.7068,     -999.0,-999.000,     -999.0,          9,     -999.0,          9,-999.000,          9
 33RO200501,       A16S,      76,          1,         31,         31,2,20050208,       0305,   -24.5000,   -24.9998,       4956,    98.8,  19.5494,  36.1078,2,  36.1116,2,    231.8,2,   231.5,2,    1.99,2,    0.02,2,    0.00,2,    0.13,2,-999.000,9,-999.000,9,-999.000,9,  -999.0,9,  -999.0,9,  -999.0,9,   20.00,-999.0000,9,    25.00,-999.000,9, -999.00,-999.000,9,-999.000,9, -999.00,9,  -999.0,9,  -999.0,-999.000,9,-999.000,-999.000,9, -999.00,9,   98.80,-999.0000,9,-999.0000,9,-999.0000,9,-999.0000,9,-999.0000,9,-999.0000,9,  19.5313,     -999.0,-999.000,     89.526,          2,      0.508,          2,   2.872,          2
 33RO200501,       A16S,      76,          1,         30,         30,2,20050208,       0305,   -24.5000,   -24.9998,       4956,   124.3,  17.6361,  35.8203,2,  35.8145,2,    226.7,2,   226.3,2,    2.67,2,    0.24,2,    0.02,2,    0.21,2,-999.000,9,-999.000,9,-999.000,9,  -999.0,9,  -999.0,9,  -999.0,9,   20.00,-999.0000,9,    25.00,-999.000,9, -999.00,-999.000,9,-999.000,9, -999.00,9,  -999.0,9,  -999.0,-999.000,9,-999.000,-999.000,9, -999.00,9,  124.30,-999.0000,9,-999.0000,9,-999.0000,9,-999.0000,9,-999.0000,9,-999.0000,9,  17.6150,     -999.0,-999.000,     -999.0,          9,     -999.0,          9,-999.000,          9
 33RO200501,       A16S,      76,          1,         29,         29,2,20050208,       0305,   -24.5000,   -24.9998,       4956,   148.5,  17.1365,  35.7655,2,  35.7659,2,   -999.0,9,   164.5,3,    3.08,2,    2.50,2,    0.21,2,    0.32,2,   2.500,2,   1.501,2,   0.117,2,  -999.0,9,  2337.0,2,  -999.0,9,   20.00,   7.9554,2,    25.00,-999.000,9, -999.00,-999.000,9,-999.000,9, -999.00,9,  -999.0,9,  -999.0,-999.000,9,-999.000,   0.790,4, -999.00,9,  148.50,-999.0000,9,-999.0000,9,-999.0000,9,-999.0000,9,-999.0000,9,-999.0000,9,  17.1118,     -999.0,-999.000,    116.428,          2,      0.748,          2,   3.264,          2
 33RO200501,       A16S,      76,          1,         28,         28,2,20050208,       0305,   -24.5000,   -24.9998,       4956,   174.1,  16.8977,  35.7370,2,  35.7334,2,    210.6,2,   212.3,2,    3.35,2,    3.80,2,    0.07,2,    0.36,2,-999.000,9,-999.000,9,-999.000,9,  -999.0,9,  -999.0,9,  -999.0,9,   20.00,-999.0000,9,    25.00,-999.000,9, -999.00,-999.000,9,-999.000,9, -999.00,9,  -999.0,9,  -999.0,-999.000,9,-999.000,-999.000,9, -999.00,9,  174.10,-999.0000,9,-999.0000,9,-999.0000,9,-999.0000,9,-999.0000,9,-999.0000,9,  16.8689,     -999.0,-999.000,     -999.0,          9,     -999.0,          9,-999.000,          9
 33RO200501,       A16S,      76,          1,         27,         27,2,20050208,       0305,   -24.5000,   -24.9998,       4956,   200.1,  16.4960,  35.6875,2,  35.6866,2,    209.0,2,   210.4,2,    3.48,2,    4.54,2,    0.01,2,    0.40,2,-999.000,9,-999.000,9,-999.000,9,  -999.0,9,  -999.0,9,  -999.0,9,   20.00,-999.0000,9,    25.00,-999.000,9, -999.00,-999.000,9,-999.000,9, -999.00,9,  -999.0,9,  -999.0,-999.000,9,-999.000,-999.000,9, -999.00,9,  200.10,-999.0000,9,-999.0000,9,-999.0000,9,-999.0000,9,-999.0000,9,-999.0000,9,  16.4635,     -999.0,-999.000,      6.064,          2,      0.197,          2,   0.042,          2
 33RO200501,       A16S,      76,          1,         26,         26,2,20050208,       0305,   -24.5000,   -24.9998,       4956,   248.9,  15.5950,  35.5807,2,  35.5790,2,    214.1,2,   212.5,2,    3.65,2,    5.50,2,    0.01,2,    0.46,2,-999.000,9,-999.000,9,-999.000,9,  -999.0,9,  -999.0,9,  -999.0,9,   20.00,-999.0000,9,    25.00,-999.000,9, -999.00,-999.000,9,-999.000,9, -999.00,9,  -999.0,9,  -999.0,-999.000,9,-999.000,-999.000,9, -999.00,9,  248.90,-999.0000,9,-999.0000,9,-999.0000,9,-999.0000,9,-999.0000,9,-999.0000,9,  15.5561,     -999.0,-999.000,     -999.0,          9,     -999.0,          9,-999.000,          9
 33RO200501,       A16S,      76,          1,         25,         25,2,20050208,       0305,   -24.5000,   -24.9998,       4956,   299.8,  15.3641,  35.5659,2,  35.5664,2,    219.5,2,   219.8,2,    3.71,2,    5.51,2,    0.01,2,    0.45,2,   2.712,2,   1.619,2,   0.050,2,  -999.0,9,  2328.8,2,  -999.0,9,   20.00,   7.9234,2,    25.00,-999.000,9, -999.00,-999.000,9,-999.000,9, -999.00,9,  -999.0,9,  -999.0,-999.000,9,-999.000,   0.518,4, -999.00,9,  299.80,-999.0000,9,-999.0000,9,-999.0000,9,-999.0000,9,-999.0000,9,-999.0000,9,  15.3176,     -999.0,-999.000,     -999.0,          9,     -999.0,          9,-999.000,          9
 33RO200501,       A16S,      76,          1,         24,         24,2,20050208,       0305,   -24.5000,   -24.9998,       4956,   350.1,  14.9479,  35.4936,2,  35.4932,2,    218.9,2,   218.5,2,    3.82,2,    6.12,2,    0.01,2,    0.49,2,-999.000,9,-999.000,9,-999.000,9,  -999.0,9,  -999.0,9,  -999.0,9,   20.00,-999.0000,9,    25.00,-999.000,9, -999.00,-999.000,9,-999.000,9, -999.00,9,  -999.0,9,  -999.0,-999.000,9,-999.000,-999.000,9, -999.00,9,  350.10,-999.0000,9,-999.0000,9,-999.0000,9,-999.0000,9,-999.0000,9,-999.0000,9,  14.8946,     -999.0,-999.000,      7.674,          2,      0.436,          2,   0.013,          2
 33RO200501,       A16S,      76,          1,         23,         23,2,20050208,       0305,   -24.5000,   -24.9998,       4956,   400.0,  13.8668,  35.3230,2,  35.3166,2,   -999.0,9,   180.1,3,    4.35,2,    8.37,2,    0.00,2,    0.63,2,-999.000,9,-999.000,9,-999.000,9,  -999.0,9,  -999.0,9,  -999.0,9,   20.00,-999.0000,9,    25.00,-999.000,9, -999.00,-999.000,9,-999.000,9, -999.00,9,  -999.0,9,  -999.0,-999.000,9,-999.000,-999.000,9, -999.00,9,  400.00,-999.0000,9,-999.0000,9,-999.0000,9,-999.0000,9,-999.0000,9,-999.0000,9,  13.8088,     -999.0,-999.000,     -999.0,          9,     -999.0,          9,-999.000,          9
 33RO200501,       A16S,      76,          1,         22,         22,2,20050208,       0305,   -24.5000,   -24.9998,       4956,   500.2,  12.1112,  35.0838,2,  35.0796,2,    210.9,2,   210.9,2,    5.64,2,   12.30,2,    0.00,2,    0.87,2,-999.000,9,-999.000,9,-999.000,9,  -999.0,9,  -999.0,9,  -999.0,9,   20.00,-999.0000,9,    25.00,-999.000,9, -999.00,-999.000,9,-999.000,9, -999.00,9,  -999.0,9,  -999.0,-999.000,9,-999.000,-999.000,9, -999.00,9,  500.20,-999.0000,9,-999.0000,9,-999.0000,9,-999.0000,9,-999.0000,9,-999.0000,9,  12.0447,     -999.0,-999.000,     -999.0,          9,     -999.0,          9,-999.000,          9
 33RO200501,       A16S,      76,          1,         21,         21,2,20050208,       0305,   -24.5000,   -24.9998,       4956,   599.0,  10.2798,  34.8455,2,  34.8445,2,    207.5,2,   207.8,2,    8.24,2,   16.69,2,    0.00,2,    1.13,2,   2.802,2,   1.487,2,   0.081,2,  -999.0,9,  -999.0,9,  -999.0,9,   20.00,-999.0000,9,    25.00,-999.000,9, -999.00,-999.000,9,-999.000,9, -999.00,9,  -999.0,9,  -999.0,-999.000,9,-999.000,   1.060,4, -999.00,9,  599.00,-999.0000,9,-999.0000,9,-999.0000,9,-999.0000,9,-999.0000,9,-999.0000,9,  10.2079,     -999.0,-999.000,      3.634,          2,      0.207,          2,   0.014,          2
 33RO200501,       A16S,      76,          1,         20,         20,2,20050208,       0305,   -24.5000,   -24.9998,       4956,   699.5,   8.1015,  34.6010,2,  34.6017,2,    194.9,2,   195.6,2,   13.67,6,   23.09,6,    0.00,6,    1.51,6,-999.000,9,-999.000,9,-999.000,9,  -999.0,9,  -999.0,9,  -999.0,9,   20.00,-999.0000,9,    25.00,-999.000,9, -999.00,-999.000,9,-999.000,9, -999.00,9,  -999.0,9,  -999.0,-999.000,9,-999.000,-999.000,9, -999.00,9,  699.50,-999.0000,9,-999.0000,9,-999.0000,9,-999.0000,9,-999.0000,9,-999.0000,9,   8.0283,     -999.0,-999.000,     -999.0,          9,     -999.0,          9,-999.000,          9
 33RO200501,       A16S,      76,          1,         19,         19,2,20050208,       0305,   -24.5000,   -24.9998,       4956,   800.1,   6.1356,  34.4289,2,  34.4307,2,    198.5,2,   199.8,2,   18.92,2,   27.26,2,    0.00,2,    1.79,2,-999.000,9,-999.000,9,-999.000,9,  -999.0,9,  -999.0,9,  -999.0,9,   20.00,-999.0000,9,    25.00,-999.000,9, -999.00,-999.000,9,-999.000,9, -999.00,9,  -999.0,9,  -999.0,-999.000,9,-999.000,-999.000,9, -999.00,9,  800.10,-999.0000,9,-999.0000,9,-999.0000,9,-999.0000,9,-999.0000,9,-999.0000,9,   6.0633,     -999.0,-999.000,      2.795,          2,      0.000,          2,   0.010,          2
 33RO200501,       A16S,      76,          1,         18,         18,2,20050208,       0305,   -24.5000,   -24.9998,       4956,   899.9,   4.7142,  34.3556,2,  34.3556,2,    202.5,2,   204.5,2,   27.41,2,   29.94,2,    0.00,2,    1.97,2,   1.985,2,   0.974,2,   0.105,2,  -999.0,9,  2286.5,2,  -999.0,9,   20.00,   7.6293,2,    25.00,-999.000,9, -999.00,-999.000,9,-999.000,9, -999.00,9,  -999.0,9,  -999.0,-999.000,9,-999.000,   1.887,4, -999.00,9,  899.90,-999.0000,9,-999.0000,9,-999.0000,9,-999.0000,9,-999.0000,9,-999.0000,9,   4.6421,     -999.0,-999.000,     -999.0,          9,     -999.0,          9,-999.000,          9
 33RO200501,       A16S,      76,          1,         17,         17,2,20050208,       0305,   -24.5000,   -24.9998,       4956,   998.5,   4.0615,  34.4017,2,  34.4013,2,    193.1,2,   187.4,2,   36.47,2,   32.09,2,    0.00,2,    2.12,2,-999.000,9,-999.000,9,-999.000,9,  -999.0,9,  -999.0,9,  -999.0,9,   20.00,-999.0000,9,    25.00,-999.000,9, -999.00,-999.000,9,-999.000,9, -999.00,9,  -999.0,9,  -999.0,-999.000,9,-999.000,-999.000,9, -999.00,9,  998.50,-999.0000,9,-999.0000,9,-999.0000,9,-999.0000,9,-999.0000,9,-999.0000,9,   3.9857,     -999.0,-999.000,      5.605,          2,      0.578,          2,   0.013,          2
 33RO200501,       A16S,      76,          1,         16,         16,2,20050208,       0305,   -24.5000,   -24.9998,       4956,  1198.3,   3.5472,  34.5173,2,  34.5173,2,    182.8,2,   182.8,2,   43.92,6,   31.96,6,    0.00,6,    2.12,6,-999.000,9,-999.000,9,-999.000,9,  -999.0,9,  -999.0,9,  -999.0,9,   20.00,-999.0000,9,    25.00,-999.000,9, -999.00,-999.000,9,-999.000,9, -999.00,9,  -999.0,9,  -999.0,-999.000,9,-999.000,-999.000,9, -999.00,9, 1198.30,-999.0000,9,-999.0000,9,-999.0000,9,-999.0000,9,-999.0000,9,-999.0000,9,   3.4589,     -999.0,-999.000,     -999.0,          9,     -999.0,          9,-999.000,          9
 33RO200501,       A16S,      76,          1,         15,         15,2,20050208,       0305,   -24.5000,   -24.9998,       4956,  1399.8,   3.3511,  34.6689,2,  34.6678,2,    190.8,2,   192.0,2,   44.60,2,   29.40,2,    0.00,2,    1.94,2,   0.031,2,   0.009,2,   0.000,2,  -999.0,9,  -999.0,9,  -999.0,9,   20.00,-999.0000,9,    25.00,-999.000,9, -999.00,-999.000,9,-999.000,9, -999.00,9,  -999.0,9,  -999.0,-999.000,9,-999.000,   0.124,4, -999.00,9, 1399.80,-999.0000,9,-999.0000,9,-999.0000,9,-999.0000,9,-999.0000,9,-999.0000,9,   3.2476,     -999.0,-999.000,      2.734,          2,      0.209,          2,   0.015,          2
 33RO200501,       A16S,      76,          1,         14,         14,2,20050208,       0305,   -24.5000,   -24.9998,       4956,  1598.8,   3.2068,  34.7576,2,  34.7554,2,    203.3,2,   205.0,2,   43.47,2,   27.19,2,    0.00,2,    1.79,2,-999.000,9,-999.000,9,-999.000,9,  -999.0,9,  -999.0,9,  -999.0,9,   20.00,-999.0000,9,    25.00,-999.000,9, -999.00,-999.000,9,-999.000,9, -999.00,9,  -999.0,9,  -999.0,-999.000,9,-999.000,-999.000,9, -999.00,9, 1598.80,-999.0000,9,-999.0000,9,-999.0000,9,-999.0000,9,-999.0000,9,-999.0000,9,   3.0877,     -999.0,-999.000,     -999.0,          9,     -999.0,          9,-999.000,          9
 33RO200501,       A16S,      76,          1,         13,         13,2,20050208,       0305,   -24.5000,   -24.9998,       4956,  1798.7,   3.1823,  34.8331,2,  34.8321,2,    221.7,2,   220.4,2,   38.59,2,   24.71,2,    0.00,2,    1.61,2,-999.000,9,-999.000,9,-999.000,9,  -999.0,9,  -999.0,9,  -999.0,9,   20.00,-999.0000,9,    25.00,-999.000,9, -999.00,-999.000,9,-999.000,9, -999.00,9,  -999.0,9,  -999.0,-999.000,9,-999.000,-999.000,9, -999.00,9, 1798.70,-999.0000,9,-999.0000,9,-999.0000,9,-999.0000,9,-999.0000,9,-999.0000,9,   3.0457,     -999.0,-999.000,      4.146,          2,      0.169,          2,   0.020,          2
 33RO200501,       A16S,      76,          1,         12,         12,2,20050208,       0305,   -24.5000,   -24.9998,       4956,  1999.5,   3.2566,  34.9037,2,  34.9033,2,    237.4,2,   236.9,2,   30.99,2,   22.06,2,    0.00,2,    1.42,2,   0.033,2,   0.019,2,   0.000,2,  -999.0,9,  2316.8,2,  -999.0,9,   20.00,   7.7108,2,    25.00,-999.000,9, -999.00,-999.000,9,-999.000,9, -999.00,9,  -999.0,9,  -999.0,-999.000,9,-999.000,   0.135,4, -999.00,9, 1999.50,-999.0000,9,-999.0000,9,-999.0000,9,-999.0000,9,-999.0000,9,-999.0000,9,   3.1004,     -999.0,-999.000,     -999.0,          9,     -999.0,          9,-999.000,          9
 33RO200501,       A16S,      76,          1,         11,         11,2,20050208,       0305,   -24.5000,   -24.9998,       4956,  2299.9,   3.1324,  34.9359,2,  34.9346,2,    247.8,2,   248.1,2,   27.67,2,   20.42,2,    0.00,2,    1.31,2,-999.000,9,-999.000,9,-999.000,9,  -999.0,9,  -999.0,9,  -999.0,9,   20.00,-999.0000,9,    25.00,-999.000,9, -999.00,-999.000,9,-999.000,9, -999.00,9,  -999.0,9,  -999.0,-999.000,9,-999.000,-999.000,9, -999.00,9, 2299.90,-999.0000,9,-999.0000,9,-999.0000,9,-999.0000,9,-999.0000,9,-999.0000,9,   2.9496,     -999.0,-999.000,      1.879,          2,      0.053,          2,   0.013,          2
 33RO200501,       A16S,      76,          1,         10,         10,2,20050208,       0305,   -24.5000,   -24.9998,       4956,  2598.3,   2.9503,  34.9316,2,  34.9385,3,    249.6,2,   250.1,2,   29.93,2,   20.43,2,    0.00,2,    1.31,2,   0.057,2,   0.067,3,   0.017,2,  -999.0,9,  -999.0,9,  -999.0,9,   20.00,-999.0000,9,    25.00,-999.000,9, -999.00,-999.000,9,-999.000,9, -999.00,9,  -999.0,9,  -999.0,-999.000,9,-999.000,   0.098,4, -999.00,9, 2598.30,-999.0000,9,-999.0000,9,-999.0000,9,-999.0000,9,-999.0000,9,-999.0000,9,   2.7416,     -999.0,-999.000,     -999.0,          9,     -999.0,          9,-999.000,          9
 33RO200501,       A16S,      76,          1,          9,          9,2,20050208,       0305,   -24.5000,   -24.9998,       4956,  2900.6,   2.8256,  34.9242,2,  34.9238,2,    250.0,2,   250.5,2,   32.17,2,   20.52,2,    0.00,2,    1.33,2,-999.000,9,-999.000,9,-999.000,9,  -999.0,9,  -999.0,9,  -999.0,9,   20.00,-999.0000,9,    25.00,-999.000,9, -999.00,-999.000,9,-999.000,9, -999.00,9,  -999.0,9,  -999.0,-999.000,9,-999.000,-999.000,9, -999.00,9, 2900.60,-999.0000,9,-999.0000,9,-999.0000,9,-999.0000,9,-999.0000,9,-999.0000,9,   2.5889,     -999.0,-999.000,      2.918,          2,      0.204,          2,   0.032,          2
 33RO200501,       A16S,      76,          1,          8,          8,2,20050208,       0305,   -24.5000,   -24.9998,       4956,  3199.2,   2.6938,  34.9155,2,  34.9193,3,    250.5,2,   249.6,2,   34.76,2,   20.70,2,    0.00,2,    1.35,2,   0.004,2,   0.007,2,   0.000,2,  -999.0,9,  -999.0,9,  -999.0,9,   20.00,-999.0000,9,    25.00,-999.000,9, -999.00,-999.000,9,-999.000,9, -999.00,9,  -999.0,9,  -999.0,-999.000,9,-999.000,   0.065,4, -999.00,9, 3199.20,-999.0000,9,-999.0000,9,-999.0000,9,-999.0000,9,-999.0000,9,-999.0000,9,   2.4289,     -999.0,-999.000,     -999.0,          9,     -999.0,          9,-999.000,          9