BOTTLE,20220818CCHSIOAMB
EXPOCODE,SECT_ID,STNNBR,CASTNO,SAMPNO,BTLNBR,BTLNBR_FLAG_W,DATE,TIME,LATITUDE,LONGITUDE,DEPTH,CTDPRS,CTDTMP,CTDSAL,CTDSAL_FLAG_W,SALNTY,SALNTY_FLAG_W,CTDOXY,CTDOXY_FLAG_W,OXYGEN,OXYGEN_FLAG_W,SILCAT,SILCAT_FLAG_W,NITRAT,NITRAT_FLAG_W,NITRIT,NITRIT_FLAG_W,PHSPHT,PHSPHT_FLAG_W,CFC-11,CFC-11_FLAG_W,CFC-12,CFC-12_FLAG_W,CFC113,CFC113_FLAG_W,TCARBN,TCARBN_FLAG_W,ALKALI,ALKALI_FLAG_W,PCO2,PCO2_FLAG_W,PCO2TMP,PH_SWS,PH_SWS_FLAG_W,PH_TMP,TRITUM,TRITUM_FLAG_W,TRITER,HELIUM,HELIUM_FLAG_W,DELHE3,DELHE3_FLAG_W,DELC13,DELC13_FLAG_W,DELC14,DELC14_FLAG_W,C14ERR,NEON,NEON_FLAG_W,NEONER,CCL4,CCL4_FLAG_W,DOC,DOC_FLAG_W,CTDRAW,CDOM325,CDOM325_FLAG_W,CDOM340,CDOM340_FLAG_W,CDOM380,CDOM380_FLAG_W,CDOM412,CDOM412_FLAG_W,CDOMSL,CDOMSL_FLAG_W,CDOMSN,CDOMSN_FLAG_W,THETA,HELIER,DELHER,CH3CL,CH3CL_FLAG_W,CH3BR,CH3BR_FLAG_W,CH3I,CH3I_FLAG_W
,,,,,,,,,,,METERS,DBAR,ITS-90,PSS-78,,PSS-78,,UMOL/KG,,UMOL/KG,,UMOL/KG,,UMOL/KG,,UMOL/KG,,UMOL/KG,,PMOL/KG,,PMOL/KG,,PMOL/KG,,UMOL/KG,,UMOL/KG,,UATM,,DEG C,,,DEG C,TU,,TU,NMOL/KG,,PERCNT,,/MILLE,,/MILLE,,/MILLE,NMOL/KG,,NMOL/KG,PMOL/KG,,UMOL/KG,,DBAR,1/M,,1/M,,1/M,,1/M,,1/NM,,1/NM,,DEG C,NMOL/KG,PERCNT,PMOL/KG,,PMOL/KG,,PMOL/KG,
 33RO200501,       A16S,      93,          1,         36,         36,2,20050213,       0944,   -16.0022,   -25.0003,       5678,     2.2,  26.8701,  37.2677,2,  37.2675,2,    201.2,2,   201.2,2,    0.20,2,    0.00,2,    0.00,2,    0.08,2,   1.655,2,   1.054,2,   0.139,2,  2092.0,6,  2441.5,2,   305.1,2,   20.00,   8.0751,2,    25.00,-999.000,9, -999.00,-999.000,9,-999.000,9, -999.00,9,  -999.0,9,  -999.0,-999.000,9,-999.000,   1.413,4,   73.49,2,    2.20,   0.0580,2,   0.0410,2,   0.0190,2,   0.0120,2,   0.0221,2,   0.0224,2,  26.8696,     -999.0,-999.000,     -999.0,          9,     -999.0,          9,-999.000,          9
 33RO200501,       A16S,      93,          1,         35,         35,2,20050213,       0944,   -16.0022,   -25.0003,       5678,    24.1,  26.8470,  37.2665,2,  37.2673,2,    202.0,2,   201.2,2,    0.20,2,    0.00,2,    0.00,2,    0.08,2,-999.000,9,-999.000,9,-999.000,9,  2091.2,2,  2442.9,6,  -999.0,9,   20.00,   8.0751,6,    25.00,-999.000,9, -999.00,-999.000,9,-999.000,9, -999.00,9,  -999.0,9,  -999.0,-999.000,9,-999.000,-999.000,9,   73.19,2,   24.10,   0.0530,2,   0.0370,2,   0.0160,2,   0.0100,2,   0.0225,2,   0.0228,2,  26.8415,     -999.0,-999.000,     -999.0,          9,     -999.0,          9,-999.000,          9
 33RO200501,       A16S,      93,          1,         34,         34,2,20050213,       0944,   -16.0022,   -25.0003,       5678,    48.7,  26.2375,  37.3865,2,  37.3809,2,    206.9,2,   206.9,2,    0.16,2,    0.00,2,    0.00,2,    0.11,2,   1.742,2,   1.091,2,   0.143,2,  2098.2,2,  2448.2,2,   304.9,2,   20.00,   8.0741,2,    25.00,-999.000,9, -999.00,-999.000,9,-999.000,9, -999.00,9,  -999.0,9,  -999.0,-999.000,9,-999.000,   1.348,4,   72.92,2,   48.70,   0.0590,2,   0.0400,2,   0.0190,2,   0.0120,2,   0.0241,2,   0.0246,2,  26.2264,     -999.0,-999.000,     -999.0,          9,     -999.0,          9,-999.000,          9
 33RO200501,       A16S,      93,          1,         33,         33,2,20050213,       0944,   -16.0022,   -25.0003,       5678,    68.2,  24.8374,  37.1474,2,  37.1431,2,    216.2,2,   217.7,2,    0.13,6,    0.00,6,    0.00,6,    0.13,6,-999.000,9,-999.000,9,-999.000,9,  2095.6,2,  2435.3,2,  -999.0,9,   20.00,   8.0581,2,    25.00,-999.000,9, -999.00,-999.000,9,-999.000,9, -999.00,9,  -999.0,9,  -999.0,-999.000,9,-999.000,-999.000,9,   72.49,2,   68.20,-999.0000,9,-999.0000,9,-999.0000,9,-999.0000,9,-999.0000,9,-999.0000,9,  24.8226,     -999.0,-999.000,     -999.0,          9,     -999.0,          9,-999.000,          9
 33RO200501,       A16S,      93,          1,         32,         32,2,20050213,       0944,   -16.0022,   -25.0003,       5678,    98.8,  23.8428,  37.0542,2,  37.0515,2,    218.6,2,   218.5,2,    0.13,6,    0.01,6,    0.00,6,    0.14,6,   1.840,2,   1.173,2,   0.146,2,  2095.5,2,  2428.2,2,   323.7,2,   20.00,   8.0541,2,    25.00,-999.000,9, -999.00,-999.000,9,-999.000,9, -999.00,9,  -999.0,9,  -999.0,-999.000,9,-999.000,   1.171,4,   71.06,2,   98.80,   0.0950,2,   0.0660,2,   0.0310,2,   0.0200,2,   0.0202,2,   0.0213,2,  23.8220,     -999.0,-999.000,     -999.0,          9,     -999.0,          9,-999.000,          9
 33RO200501,       A16S,      93,          1,         31,         31,2,20050213,       0944,   -16.0022,   -25.0003,       5678,   149.3,  23.3214,  37.0233,2,  37.0142,2,    208.8,2,   208.6,2,    0.10,6,    0.04,6,    0.00,6,    0.16,6,   1.934,2,   1.190,2,   0.147,2,  2102.3,2,  2430.7,3,   337.9,2,   20.00,   8.0378,2,    25.00,-999.000,9, -999.00,-999.000,9,-999.000,9, -999.00,9,  -999.0,9,  -999.0,-999.000,9,-999.000,   1.090,4,   63.45,2,  149.30,-999.0000,9,-999.0000,9,-999.0000,9,-999.0000,9,-999.0000,9,-999.0000,9,  23.2904,     -999.0,-999.000,     -999.0,          9,     -999.0,          9,-999.000,          9
 33RO200501,       A16S,      93,          1,         30,         30,2,20050213,       0944,   -16.0022,   -25.0003,       5678,   188.1,  19.7111,  36.3165,2,  36.2964,2,    197.9,2,   198.1,2,    0.61,6,    1.58,6,    0.05,6,    0.32,6,   2.215,2,   1.331,2,   0.118,2,  2107.7,2,  2383.4,2,  -999.0,9,   20.00,   7.9698,2,    25.00,-999.000,9, -999.00,-999.000,9,-999.000,9, -999.00,9,  -999.0,9,  -999.0,-999.000,9,-999.000,   0.694,4,   56.61,2,  188.10,   0.1350,2,   0.1010,2,   0.0490,2,   0.0340,2,   0.0161,2,   0.0174,2,  19.6764,     -999.0,-999.000,     -999.0,          9,     -999.0,          9,-999.000,          9
 33RO200501,       A16S,      93,          1,         29,         29,2,20050213,       0944,   -16.0022,   -25.0003,       5678,   232.9,  15.8306,  35.6118,2,  35.6098,2,    195.9,2,   195.9,2,    1.72,6,    6.43,6,    0.00,6,    0.54,6,   2.657,2,   1.526,2,   0.036,2,  2110.9,2,  2338.6,2,   500.0,2,   20.00,   7.8863,2,    25.00,-999.000,9, -999.00,-999.000,9,-999.000,9, -999.00,9,  -999.0,9,  -999.0,-999.000,9,-999.000,   0.492,4,   50.68,2,  232.90,-999.0000,9,-999.0000,9,-999.0000,9,-999.0000,9,-999.0000,9,-999.0000,9,  15.7938,     -999.0,-999.000,     -999.0,          9,     -999.0,          9,-999.000,          9
 33RO200501,       A16S,      93,          1,         28,         28,2,20050213,       0944,   -16.0022,   -25.0003,       5678,   299.7,  13.2352,  35.2233,2,  35.2135,2,    182.6,2,   183.2,2,    3.71,6,   12.68,6,    0.00,6,    0.87,6,   2.709,2,   1.521,2,   0.026,2,  2128.7,2,  2314.6,2,  -999.0,9,   20.00,   7.8117,2,    25.00,-999.000,9, -999.00,-999.000,9,-999.000,9, -999.00,9,  -999.0,9,  -999.0,-999.000,9,-999.000,   0.535,4,   47.45,2,  299.70,   0.1140,2,   0.0830,3,   0.0430,2,   0.0290,2,   0.0160,3,   0.0172,3,  13.1933,     -999.0,-999.000,     -999.0,          9,     -999.0,          9,-999.000,          9
 33RO200501,       A16S,      93,          1,         27,         27,2,20050213,       0944,   -16.0022,   -25.0003,       5678,   350.2,  11.9056,  35.0490,2,  35.0363,2,    174.0,2,   174.3,2,    5.45,6,   16.43,6,    0.00,6,    1.08,6,   2.608,6,   1.406,6,   0.034,6,  2141.8,2,  2306.6,2,   693.2,2,   20.00,   7.7630,2,    25.00,-999.000,9, -999.00,-999.000,9,-999.000,9, -999.00,9,  -999.0,9,  -999.0,-999.000,9,-999.000,   0.624,4,   45.83,2,  350.20,-999.0000,9,-999.0000,9,-999.0000,9,-999.0000,9,-999.0000,9,-999.0000,9,  11.8598,     -999.0,-999.000,     -999.0,          9,     -999.0,          9,-999.000,          9
 33RO200501,       A16S,      93,          1,         26,         26,2,20050213,       0944,   -16.0022,   -25.0003,       5678,   400.2,  10.0829,  34.8409,2,  34.8407,2,    162.0,2,   163.5,2,    8.71,6,   21.47,6,    0.00,6,    1.38,6,   2.211,2,   1.162,2,   0.041,2,  2161.9,2,  2297.6,2,   814.5,2,   20.00,   7.6969,2,    25.00,-999.000,9, -999.00,-999.000,9,-999.000,9, -999.00,9,  -999.0,9,  -999.0,-999.000,9,-999.000,   0.736,4,   43.41,2,  400.20,   0.1430,2,   0.1060,2,   0.0590,2,   0.0410,3,   0.0136,3,   0.0149,3,  10.0359,     -999.0,-999.000,     -999.0,          9,     -999.0,          9,-999.000,          9
 33RO200501,       A16S,      93,          1,         25,         25,9,20050213,       0944,   -16.0022,   -25.0003,       5678,   500.2,   6.9725,  34.5626,2,-999.0000,9,   -999.0,9,  -999.0,9, -999.00,9, -999.00,9, -999.00,9, -999.00,9,-999.000,9,-999.000,9,-999.000,9,  -999.0,9,  -999.0,9,  -999.0,9,   20.00,-999.0000,9,    25.00,-999.000,9, -999.00,-999.000,9,-999.000,9, -999.00,9,  -999.0,9,  -999.0,-999.000,9,-999.000,-999.000,9, -999.00,9,  500.20,-999.0000,9,-999.0000,9,-999.0000,9,-999.0000,9,-999.0000,9,-999.0000,9,   6.9251,     -999.0,-999.000,     -999.0,          9,     -999.0,          9,-999.000,          9
 33RO200501,       A16S,      93,          1,         24,         24,2,20050213,       0944,   -16.0022,   -25.0003,       5678,   600.1,   5.3366,  34.4384,2,  34.4358,2,    176.1,2,   174.8,2,   23.33,2,   30.94,2,    0.00,2,    1.97,2,   0.778,2,   0.382,2,   0.018,2,  2194.0,2,  2293.6,2,  1040.2,6,   20.00,   7.6034,2,    25.00,-999.000,9, -999.00,-999.000,9,-999.000,9, -999.00,9,  -999.0,9,  -999.0,-999.000,9,-999.000,   0.827,4,   41.95,2,  600.10,   0.1440,3,   0.1060,3,   0.0610,3,   0.0440,3,   0.0129,3,   0.0141,3,   5.2869,     -999.0,-999.000,     -999.0,          9,     -999.0,          9,-999.000,          9
 33RO200501,       A16S,      93,          1,         23,         23,2,20050213,       0944,   -16.0022,   -25.0003,       5678,   700.0,   4.6322,  34.4090,2,  34.4078,2,    180.1,2,   181.1,2,   27.82,2,   31.65,2,    0.00,2,    2.03,2,   0.601,2,   0.290,2,   0.014,2,  2199.0,2,  2297.1,2,  1050.8,2,   20.00,   7.5979,2,    25.00,-999.000,9, -999.00,-999.000,9,-999.000,9, -999.00,9,  -999.0,9,  -999.0,-999.000,9,-999.000,   0.775,4,   40.26,2,  700.00,-999.0000,9,-999.0000,9,-999.0000,9,-999.0000,9,-999.0000,9,-999.0000,9,   4.5775,     -999.0,-999.000,     -999.0,          9,     -999.0,          9,-999.000,          9
 33RO200501,       A16S,      93,          1,         22,         22,2,20050213,       0944,   -16.0022,   -25.0003,       5678,   799.2,   4.1808,  34.4133,2,  34.4109,2,    181.8,2,   182.8,2,   32.26,2,   32.08,2,    0.00,2,    2.08,2,   0.423,2,   0.206,2,   0.008,2,  2203.7,2,  2300.3,2,  1064.1,2,   20.00,   7.5944,2,    25.00,-999.000,9, -999.00,-999.000,9,-999.000,9, -999.00,9,  -999.0,9,  -999.0,-999.000,9,-999.000,   0.639,4, -999.00,9,  799.20,   0.1220,2,   0.0870,2,   0.0490,2,   0.0340,2,   0.0140,2,   0.0157,2,   4.1206,     -999.0,-999.000,     -999.0,          9,     -999.0,          9,-999.000,          9
 33RO200501,       A16S,      93,          1,         21,         21,2,20050213,       0944,   -16.0022,   -25.0003,       5678,   899.9,   3.8583,  34.4525,2,  34.4492,2,    181.6,2,   182.1,2,   36.32,2,   32.30,2,    0.00,2,    2.11,2,   0.245,2,   0.126,2,   0.010,2,  2208.8,2,  2305.2,2,  1071.9,2,   20.00,   7.5907,2,    25.00,-999.000,9, -999.00,-999.000,9,-999.000,9, -999.00,9,  -999.0,9,  -999.0,-999.000,9,-999.000,   0.461,4,   39.93,2,  899.90,-999.0000,9,-999.0000,9,-999.0000,9,-999.0000,9,-999.0000,9,-999.0000,9,   3.7920,     -999.0,-999.000,     -999.0,          9,     -999.0,          9,-999.000,          9
 33RO200501,       A16S,      93,          1,         20,         20,2,20050213,       0944,   -16.0022,   -25.0003,       5678,  1000.5,   3.7583,  34.5240,2,  34.5221,2,    180.3,2,   180.6,2,   37.66,6,   31.82,6,    0.00,6,    2.08,6,   0.107,2,   0.057,2,   0.009,2,  2212.6,2,  2308.8,2,  1066.4,2,   20.00,   7.5941,2,    25.00,-999.000,9, -999.00,-999.000,9,-999.000,9, -999.00,9,  -999.0,9,  -999.0,-999.000,9,-999.000,   0.260,4, -999.00,9, 1000.50,   0.1470,3,   0.1060,2,   0.0600,3,   0.0420,3,   0.0137,3,   0.0151,3,   3.6844,     -999.0,-999.000,     -999.0,          9,     -999.0,          9,-999.000,          9
 33RO200501,       A16S,      93,          1,         19,         19,2,20050213,       0944,   -16.0022,   -25.0003,       5678,  1096.6,   3.8268,  34.6162,2,  34.6142,2,    181.7,2,   182.1,2,   35.55,2,   30.63,2,    0.00,2,    1.98,2,   0.052,2,   0.026,2,   0.005,2,  2209.1,2,  2309.7,6,  1039.6,2,   20.00,   7.6026,6,    25.00,-999.000,9, -999.00,-999.000,9,-999.000,9, -999.00,9,  -999.0,9,  -999.0,-999.000,9,-999.000,   0.137,4,   39.79,2, 1096.60,-999.0000,9,-999.0000,9,-999.0000,9,-999.0000,9,-999.0000,9,-999.0000,9,   3.7443,     -999.0,-999.000,     -999.0,          9,     -999.0,          9,-999.000,          9
 33RO200501,       A16S,      93,          1,         18,         18,2,20050213,       0944,   -16.0022,   -25.0003,       5678,  1199.3,   3.9326,  34.7049,2,  34.7036,2,    187.0,2,   186.2,2,   32.18,2,   28.99,2,    0.00,2,    1.87,2,   0.015,2,   0.009,2,  -0.002,2,  2204.6,2,  2311.9,2,   993.7,2,   20.00,   7.6222,2,    25.00,-999.000,9, -999.00,-999.000,9,-999.000,9, -999.00,9,  -999.0,9,  -999.0,-999.000,9,-999.000,   0.071,4, -999.00,9, 1199.30,-999.0000,9,-999.0000,9,-999.0000,9,-999.0000,9,-999.0000,9,-999.0000,9,   3.8403,     -999.0,-999.000,     -999.0,          9,     -999.0,          9,-999.000,          9
 33RO200501,       A16S,      93,          1,         17,         17,2,20050213,       0944,   -16.0022,   -25.0003,       5678,  1399.5,   3.9061,  34.8431,2,  34.8434,2,    208.3,2,   208.0,2,   26.58,2,   25.23,2,    0.00,2,    1.61,2,   0.023,2,   0.012,2,   0.003,2,  2190.0,2,  2317.4,2,   883.9,2,   20.00,   7.6657,2,    25.00,-999.000,9, -999.00,-999.000,9,-999.000,9, -999.00,9,  -999.0,9,  -999.0,-999.000,9,-999.000,   0.072,4,   39.76,2, 1399.50,-999.0000,9,-999.0000,9,-999.0000,9,-999.0000,9,-999.0000,9,-999.0000,9,   3.7963,     -999.0,-999.000,     -999.0,          9,     -999.0,          9,-999.000,          9
 33RO200501,       A16S,      93,          1,         16,         16,2,20050213,       0944,   -16.0022,   -25.0003,       5678,  1598.7,   3.6344,  34.9029,2,  34.9017,2,    225.7,2,   227.4,2,   25.41,2,   22.74,2,    0.00,2,    1.44,2,   0.018,2,   0.011,2,   0.001,2,  2181.0,2,  2317.0,2,   817.7,2,   20.00,   7.6984,2,    25.00,-999.000,9, -999.00,-999.000,9,-999.000,9, -999.00,9,  -999.0,9,  -999.0,-999.000,9,-999.000,   0.085,4, -999.00,9, 1598.70,-999.0000,9,-999.0000,9,-999.0000,9,-999.0000,9,-999.0000,9,-999.0000,9,   3.5097,     -999.0,-999.000,     -999.0,          9,     -999.0,          9,-999.000,          9
 33RO200501,       A16S,      93,          1,         15,         15,2,20050213,       0944,   -16.0022,   -25.0003,       5678,  1798.3,   3.3599,  34.9176,2,  34.9184,2,    237.1,2,   236.8,2,   27.08,2,   21.81,2,    0.00,2,    1.39,2,   0.013,2,   0.008,2,   0.000,2,  2178.3,2,  2319.9,2,   789.2,2,   20.00,   7.7086,2,    25.00,-999.000,9, -999.00,-999.000,9,-999.000,9, -999.00,9,  -999.0,9,  -999.0,-999.000,9,-999.000,   0.073,4,   39.72,2, 1798.30,-999.0000,9,-999.0000,9,-999.0000,9,-999.0000,9,-999.0000,9,-999.0000,9,   3.2206,     -999.0,-999.000,     -999.0,          9,     -999.0,          9,-999.000,          9
 33RO200501,       A16S,      93,          1,         14,         14,2,20050213,       0944,   -16.0022,   -25.0003,       5678,  2000.4,   3.1197,  34.9127,2,  34.9124,2,    239.7,2,   239.6,2,   30.77,2,   21.79,2,    0.00,2,    1.40,2,   0.008,2,   0.003,2,   0.004,2,  2180.7,2,  2323.2,2,   785.6,2,   20.00,   7.7142,2,    25.00,-999.000,9, -999.00,-999.000,9,-999.000,9, -999.00,9,  -999.0,9,  -999.0,-999.000,9,-999.000,   0.052,4, -999.00,9, 2000.40,   0.1760,3,   0.1320,3,   0.0670,3,   0.0430,3,   0.0157,3,   0.0167,3,   2.9655,     -999.0,-999.000,     -999.0,          9,     -999.0,          9,-999.000,          9
 33RO200501,       A16S,      93,          1,         13,         13,2,20050213,       0944,   -16.0022,   -25.0003,       5678,  2200.8,   2.9537,  34.9076,2,  34.9069,2,    240.7,2,   240.8,2,   34.05,2,   21.92,2,    0.00,2,    1.42,2,-999.000,9,-999.000,9,-999.000,9,  2183.0,2,  2326.7,2,   786.9,2,   20.00,   7.7156,2,    25.00,-999.000,9, -999.00,-999.000,9,-999.000,9, -999.00,9,  -999.0,9,  -999.0,-999.000,9,-999.000,-999.000,9,   40.00,2, 2200.80,-999.0000,9,-999.0000,9,-999.0000,9,-999.0000,9,-999.0000,9,-999.0000,9,   2.7834,     -999.0,-999.000,     -999.0,          9,     -999.0,          9,-999.000,          9
 33RO200501,       A16S,      93,          1,         12,         12,2,20050213,       0944,   -16.0022,   -25.0003,       5678,  2399.5,   2.8357,  34.9040,2,  34.9037,2,    241.1,2,   241.2,2,   36.50,2,   22.01,2,    0.00,2,    1.43,2,   0.018,2,   0.000,2,   0.000,2,  2185.6,2,  2326.5,2,   785.5,2,   20.00,   7.7138,2,    25.00,-999.000,9, -999.00,-999.000,9,-999.000,9, -999.00,9,  -999.0,9,  -999.0,-999.000,9,-999.000,   0.028,4, -999.00,9, 2399.50,-999.0000,9,-999.0000,9,-999.0000,9,-999.0000,9,-999.0000,9,-999.0000,9,   2.6486,     -999.0,-999.000,     -999.0,          9,     -999.0,          9,-999.000,          9
 33RO200501,       A16S,      93,          1,         11,         11,2,20050213,       0944,   -16.0022,   -25.0003,       5678,  2700.2,   2.7373,  34.8999,2,  34.9004,2,    241.4,2,   241.7,2,   38.99,2,   22.10,2,    0.00,2,    1.44,2,   0.007,2,   0.008,2,   0.007,2,  2187.9,2,  2328.4,2,   784.2,2,   20.00,   7.7172,2,    25.00,-999.000,9, -999.00,-999.000,9,-999.000,9, -999.00,9,  -999.0,9,  -999.0,-999.000,9,-999.000,   0.021,4,   39.82,2, 2700.20,-999.0000,9,-999.0000,9,-999.0000,9,-999.0000,9,-999.0000,9,-999.0000,9,   2.5228,     -999.0,-999.000,     -999.0,          9,     -999.0,          9,-999.000,          9
 33RO200501,       A16S,      93,          1,         10,         10,2,20050213,       0944,   -16.0022,   -25.0003,       5678,  3000.0,   2.6610,  34.8977,2,  34.8981,2,    242.1,2,   242.3,2,   40.56,2,   22.17,2,    0.00,2,    1.45,2,   0.005,2,   0.002,2,   0.002,2,  2191.7,2,  2331.4,2,  -999.0,9,   20.00,   7.7164,2,    25.00,-999.000,9, -999.00,-999.000,9,-999.000,9, -999.00,9,  -999.0,9,  -999.0,-999.000,9,-999.000,   0.019,4, -999.00,9, 3000.00,   0.2040,3,   0.1530,3,   0.0770,3,   0.0500,3,   0.0154,3,   0.0166,3,   2.4178,     -999.0,-999.000,     -999.0,          9,     -999.0,          9,-999.000,          9
 33RO200501,       A16S,      93,          1,          9,          9,2,20050213,       0944,   -16.0022,   -25.0003,       5678,  3299.7,   2.5662,  34.8943,2,  34.8940,2,    243.6,2,   244.0,2,   41.29,2,   22.13,2,    0.00,2,    1.44,2,   0.010,2,   0.002,2,   0.000,2,  2194.6,2,  2336.0,2,   784.5,2,   20.00,   7.7175,2,    25.00,-999.000,9, -999.00,-999.000,9,-999.000,9, -999.00,9,  -999.0,9,  -999.0,-999.000,9,-999.000,   0.026,4,   39.28,2, 3299.70,-999.0000,9,-999.0000,9,-999.0000,9,-999.0000,9,-999.0000,9,-999.0000,9,   2.2938,     -999.0,-999.000,     -999.0,          9,     -999.0,          9,-999.000,          9
 33RO200501,       A16S,      93,          1,          8,          8,2,20050213,       0944,   -16.0022,   -25.0003,       5678,  3649.6,   2.3647,  34.8808,2,  34.8804,2,    245.5,2,   245.5,2,   45.86,2,   22.37,2,    0.00,2,    1.48,2,   0.007,2,   0.003,2,   0.004,2,  2195.5,2,  -999.0,5,   790.7,2,   20.00,   7.7165,2,    25.00,-999.000,9, -999.00,-999.000,9,-999.000,9, -999.00,9,  -999.0,9,  -999.0,-999.000,9,-999.000,   0.031,4, -999.00,9, 3649.60,-999.0000,9,-999.0000,9,-999.0000,9,-999.0000,9,-999.0000,9,-999.0000,9,   2.0595,     -999.0,-999.000,     -999.0,          9,     -999.0,          9,-999.000,          9