BOTTLE,20220818CCHSIOAMB
EXPOCODE,SECT_ID,STNNBR,CASTNO,SAMPNO,BTLNBR,BTLNBR_FLAG_W,DATE,TIME,LATITUDE,LONGITUDE,DEPTH,CTDPRS,CTDTMP,CTDSAL,CTDSAL_FLAG_W,SALNTY,SALNTY_FLAG_W,CTDOXY,CTDOXY_FLAG_W,OXYGEN,OXYGEN_FLAG_W,SILCAT,SILCAT_FLAG_W,NITRAT,NITRAT_FLAG_W,NITRIT,NITRIT_FLAG_W,PHSPHT,PHSPHT_FLAG_W,CFC-11,CFC-11_FLAG_W,CFC-12,CFC-12_FLAG_W,CFC113,CFC113_FLAG_W,TCARBN,TCARBN_FLAG_W,ALKALI,ALKALI_FLAG_W,PCO2,PCO2_FLAG_W,PCO2TMP,PH_SWS,PH_SWS_FLAG_W,PH_TMP,TRITUM,TRITUM_FLAG_W,TRITER,HELIUM,HELIUM_FLAG_W,DELHE3,DELHE3_FLAG_W,DELC13,DELC13_FLAG_W,DELC14,DELC14_FLAG_W,C14ERR,NEON,NEON_FLAG_W,NEONER,CCL4,CCL4_FLAG_W,DOC,DOC_FLAG_W,CTDRAW,CDOM325,CDOM325_FLAG_W,CDOM340,CDOM340_FLAG_W,CDOM380,CDOM380_FLAG_W,CDOM412,CDOM412_FLAG_W,CDOMSL,CDOMSL_FLAG_W,CDOMSN,CDOMSN_FLAG_W,THETA,HELIER,DELHER,CH3CL,CH3CL_FLAG_W,CH3BR,CH3BR_FLAG_W,CH3I,CH3I_FLAG_W
,,,,,,,,,,,METERS,DBAR,ITS-90,PSS-78,,PSS-78,,UMOL/KG,,UMOL/KG,,UMOL/KG,,UMOL/KG,,UMOL/KG,,UMOL/KG,,PMOL/KG,,PMOL/KG,,PMOL/KG,,UMOL/KG,,UMOL/KG,,UATM,,DEG C,,,DEG C,TU,,TU,NMOL/KG,,PERCNT,,/MILLE,,/MILLE,,/MILLE,NMOL/KG,,NMOL/KG,PMOL/KG,,UMOL/KG,,DBAR,1/M,,1/M,,1/M,,1/M,,1/NM,,1/NM,,DEG C,NMOL/KG,PERCNT,PMOL/KG,,PMOL/KG,,PMOL/KG,
 33RO200501,       A16S,      71,          1,         36,         36,2,20050206,       1321,   -27.0002,   -25.0000,       4591,     1.8,  23.9950,  36.2118,2,  36.1789,2,    212.2,2,   212.6,2,    1.24,2,    0.01,2,    0.00,2,    0.03,2,   1.858,2,   1.183,2,   0.153,2,  2051.8,6,  2369.2,3,  -999.0,9,   20.00,   8.0562,2,    25.00,   0.536,2,    0.01,   1.779,2,  -1.550,2, -999.00,9,  -999.0,9,  -999.0,   7.048,2,   0.006,   1.609,4,   67.44,2,    1.80,   0.0600,2,   0.0400,2,   0.0180,2,   0.0130,3,   0.0022,4,   0.0258,4,  23.9947,      0.001,   0.209,     -999.0,          9,     -999.0,          9,-999.000,          9
 33RO200501,       A16S,      71,          1,         35,         35,2,20050206,       1321,   -27.0002,   -25.0000,       4591,    24.4,  24.0144,  36.4501,2,  36.4489,2,    213.5,2,   212.9,2,    1.24,6,    0.00,6,    0.00,6,    0.01,2,   1.867,2,   1.193,2,   0.148,2,  2067.6,2,  2387.0,6,  -999.0,9,   20.00,   8.0485,6,    25.00,-999.000,9, -999.00,   1.707,2,  -2.193,2, -999.00,9,  -999.0,9,  -999.0,   6.765,2,   0.005,   1.596,4,   66.93,2,   24.40,-999.0000,9,-999.0000,9,-999.0000,9,-999.0000,9,-999.0000,9,-999.0000,9,  24.0092,      0.001,   0.209,     -999.0,          9,     -999.0,          9,-999.000,          9
 33RO200501,       A16S,      71,          1,         34,         34,2,20050206,       1321,   -27.0002,   -25.0000,       4591,    48.5,  23.1069,  36.3754,2,  36.3695,2,    221.2,2,   221.6,2,    1.28,6,    0.00,6,    0.00,6,    0.02,2,-999.000,9,-999.000,9,-999.000,9,  2067.7,2,  2382.2,2,  -999.0,9,   20.00,   8.0436,2,    25.00,-999.000,9, -999.00,-999.000,9,-999.000,9, -999.00,9,  -999.0,9,  -999.0,-999.000,9,-999.000,-999.000,9,   66.57,2,   48.50,-999.0000,9,-999.0000,9,-999.0000,9,-999.0000,9,-999.0000,9,-999.0000,9,  23.0969,     -999.0,-999.000,     -999.0,          9,     -999.0,          9,-999.000,          9
 33RO200501,       A16S,      71,          1,         33,         33,2,20050206,       1321,   -27.0002,   -25.0000,       4591,    68.9,  21.3375,  36.2693,2,  36.2553,2,    233.3,2,   233.6,2,    1.30,6,    0.00,6,    0.00,6,    0.04,2,   2.178,2,   1.356,2,   0.177,2,  2069.1,2,  2377.2,2,  -999.0,9,   20.00,   8.0355,2,    25.00,   0.577,2,    0.01,-999.000,9,-999.000,9, -999.00,9,  -999.0,9,  -999.0,-999.000,9,-999.000,   1.506,4, -999.00,9,   68.90,-999.0000,9,-999.0000,9,-999.0000,9,-999.0000,9,-999.0000,9,-999.0000,9,  21.3241,     -999.0,-999.000,     -999.0,          9,     -999.0,          9,-999.000,          9
 33RO200501,       A16S,      71,          1,         32,         32,2,20050206,       1321,   -27.0002,   -25.0000,       4591,    89.2,  20.3261,  36.2337,2,  36.2357,2,    231.4,2,   231.1,2,    1.30,6,    0.01,6,    0.00,6,    0.08,2,-999.000,9,-999.000,9,-999.000,9,  2072.2,2,  2376.0,2,  -999.0,9,   20.00,   8.0286,2,    25.00,-999.000,9, -999.00,-999.000,9,-999.000,9, -999.00,9,  -999.0,9,  -999.0,-999.000,9,-999.000,-999.000,9,   64.31,2,   89.20,-999.0000,9,-999.0000,9,-999.0000,9,-999.0000,9,-999.0000,9,-999.0000,9,  20.3093,     -999.0,-999.000,     -999.0,          9,     -999.0,          9,-999.000,          9
 33RO200501,       A16S,      71,          1,         31,         31,2,20050206,       1321,   -27.0002,   -25.0000,       4591,   114.7,  19.6817,  36.1564,2,  36.1471,2,    227.3,2,   227.8,2,    1.28,6,    0.02,6,    0.00,6,    0.09,2,   2.255,2,   1.378,2,   0.180,2,  2075.0,2,  2373.5,2,  -999.0,9,   20.00,   8.0177,2,    25.00,   0.551,2,    0.01,   1.739,2,  -2.440,2, -999.00,9,  -999.0,9,  -999.0,   6.996,2,   0.005,   1.432,4, -999.00,9,  114.70,-999.0000,9,-999.0000,9,-999.0000,9,-999.0000,9,-999.0000,9,-999.0000,9,  19.6606,      0.001,   0.202,     -999.0,          9,     -999.0,          9,-999.000,          9
 33RO200501,       A16S,      71,          1,         30,         30,2,20050206,       1321,   -27.0002,   -25.0000,       4591,   133.8,  18.8056,  35.9887,2,  35.9796,2,    224.1,2,   226.0,2,    1.29,6,    0.04,6,    0.00,6,    0.12,2,   2.342,2,   1.435,2,   0.182,2,  2076.9,2,  2360.2,2,  -999.0,9,   20.00,   7.9943,2,    25.00,   0.515,2,    0.01,   1.734,2,  -2.010,2, -999.00,9,  -999.0,9,  -999.0,   7.015,2,   0.006,   1.436,4,   58.34,2,  133.80,-999.0000,9,-999.0000,9,-999.0000,9,-999.0000,9,-999.0000,9,-999.0000,9,  18.7818,      0.001,   0.203,     -999.0,          9,     -999.0,          9,-999.000,          9
 33RO200501,       A16S,      71,          1,         29,         29,2,20050206,       1321,   -27.0002,   -25.0000,       4591,   163.4,  17.5810,  35.7997,2,  35.8029,2,    219.5,2,   217.9,2,    1.49,2,    0.56,2,    0.08,2,    0.27,2,   2.451,2,   1.463,2,   0.170,2,  2087.5,2,  2352.4,2,  -999.0,9,   20.00,   7.9623,2,    25.00,   0.526,2,    0.01,   1.743,2,  -2.040,2, -999.00,9,  -999.0,9,  -999.0,   7.075,2,   0.005,   1.044,4, -999.00,9,  163.40,-999.0000,9,-999.0000,9,-999.0000,9,-999.0000,9,-999.0000,9,-999.0000,9,  17.5533,      0.001,   0.202,     -999.0,          9,     -999.0,          9,-999.000,          9
 33RO200501,       A16S,      71,          1,         28,         28,2,20050206,       1321,   -27.0002,   -25.0000,       4591,   188.8,  16.1132,  35.6033,2,  35.5885,2,    211.9,2,   211.8,2,    2.07,2,    3.34,2,    0.02,2,    0.43,2,-999.000,9,-999.000,9,-999.000,9,  2098.0,2,  2333.8,2,  -999.0,9,   20.00,   7.9236,2,    25.00,-999.000,9, -999.00,-999.000,9,-999.000,9, -999.00,9,  -999.0,9,  -999.0,-999.000,9,-999.000,-999.000,9,   52.74,2,  188.80,   0.1320,2,   0.0990,2,   0.0530,2,   0.0360,2,   0.0147,2,   0.0157,2,  16.0830,     -999.0,-999.000,     -999.0,          9,     -999.0,          9,-999.000,          9
 33RO200501,       A16S,      71,          1,         27,         27,2,20050206,       1321,   -27.0002,   -25.0000,       4591,   223.9,  15.2420,  35.4843,2,  35.4784,2,    211.2,2,   211.5,2,    2.38,2,    4.96,2,    0.01,2,    0.51,2,   2.768,2,   1.597,2,   0.050,2,  2101.5,2,  2327.3,2,  -999.0,9,   20.00,   7.9079,2,    25.00,   0.486,2,    0.01,   1.772,2,  -1.650,2, -999.00,9,  -999.0,9,  -999.0,   7.269,2,   0.006,   0.578,4, -999.00,9,  223.90,-999.0000,9,-999.0000,9,-999.0000,9,-999.0000,9,-999.0000,9,-999.0000,9,  15.2075,      0.001,   0.199,     -999.0,          9,     -999.0,          9,-999.000,          9
 33RO200501,       A16S,      71,          1,         26,         26,2,20050206,       1321,   -27.0002,   -25.0000,       4591,   273.4,  14.2165,  35.3489,2,  35.3459,2,    211.4,2,   212.0,2,    2.86,2,    7.04,2,    0.01,2,    0.60,2,   2.884,2,   1.662,2,   0.035,2,  2106.9,2,  2320.9,2,  -999.0,9,   20.00,   7.8871,2,    25.00,-999.000,9, -999.00,-999.000,9,-999.000,9, -999.00,9,  -999.0,9,  -999.0,-999.000,9,-999.000,   0.602,4,   45.20,2,  273.40,-999.0000,9,-999.0000,9,-999.0000,9,-999.0000,9,-999.0000,9,-999.0000,9,  14.1764,     -999.0,-999.000,     -999.0,          9,     -999.0,          9,-999.000,          9
 33RO200501,       A16S,      71,          1,         25,         25,2,20050206,       1321,   -27.0002,   -25.0000,       4591,   324.1,  13.2450,  35.2179,2,  35.2267,2,    211.0,2,   211.6,2,    3.47,6,    9.16,6,    0.00,6,    0.70,2,   2.964,6,   1.666,6,   0.042,6,  2113.2,2,  2318.4,2,  -999.0,9,   20.00,   7.8586,2,    25.00,   0.350,2,    0.02,   1.760,2,  -1.010,2, -999.00,9,  -999.0,9,  -999.0,   7.315,2,   0.006,   0.664,4,   44.38,2,  324.10,-999.0000,9,-999.0000,9,-999.0000,9,-999.0000,9,-999.0000,9,-999.0000,9,  13.1996,      0.001,   0.205,     -999.0,          9,     -999.0,          9,-999.000,          9
 33RO200501,       A16S,      71,          1,         24,         24,2,20050206,       1321,   -27.0002,   -25.0000,       4591,   374.2,  12.5101,  35.1214,2,  35.1172,2,    210.8,2,   211.6,2,    4.08,6,   10.97,6,    0.00,6,    0.80,2,   2.953,2,   1.631,2,   0.056,2,  2117.3,2,  2309.6,2,  -999.0,9,   20.00,   7.8419,2,    25.00,-999.000,9, -999.00,-999.000,9,-999.000,9, -999.00,9,  -999.0,9,  -999.0,-999.000,9,-999.000,   0.726,4,   44.60,2,  374.20,-999.0000,9,-999.0000,9,-999.0000,9,-999.0000,9,-999.0000,9,-999.0000,9,  12.4595,     -999.0,-999.000,     -999.0,          9,     -999.0,          9,-999.000,          9
 33RO200501,       A16S,      71,          1,         23,         23,2,20050206,       1321,   -27.0002,   -25.0000,       4591,   449.3,  11.1028,  34.9383,2,  34.9352,2,    207.3,2,   207.7,2,    5.72,6,   14.64,6,    0.01,6,    1.02,6,   2.989,2,   1.601,2,   0.069,2,  2129.6,2,  2306.6,2,  -999.0,9,   20.00,   7.7946,2,    25.00,   0.199,2,    0.01,   1.781,2,  -0.860,2, -999.00,9,  -999.0,9,  -999.0,   7.508,2,   0.009,   0.930,4, -999.00,9,  449.30,-999.0000,9,-999.0000,9,-999.0000,9,-999.0000,9,-999.0000,9,-999.0000,9,  11.0464,      0.001,   0.241,     -999.0,          9,     -999.0,          9,-999.000,          9
 33RO200501,       A16S,      71,          1,         22,         22,2,20050206,       1321,   -27.0002,   -25.0000,       4591,   547.8,   8.6524,  34.6528,2,  34.6552,2,    202.3,2,   202.4,2,   10.17,2,   20.97,2,    0.00,2,    1.42,2,   2.844,2,   1.460,2,   0.103,2,  2150.9,2,  2290.3,2,  -999.0,9,   20.00,   7.7276,2,    25.00,-999.000,9, -999.00,   1.790,2,   0.730,2, -999.00,9,  -999.0,9,  -999.0,   7.659,2,   0.010,   1.370,4,   43.06,2,  547.80,-999.0000,9,-999.0000,9,-999.0000,9,-999.0000,9,-999.0000,9,-999.0000,9,   8.5933,      0.001,   0.230,     -999.0,          9,     -999.0,          9,-999.000,          9
 33RO200501,       A16S,      71,          1,         21,         21,2,20050206,       1321,   -27.0002,   -25.0000,       4591,   648.8,   7.1032,  34.4987,2,  34.4969,2,    205.1,2,   205.0,2,   14.13,2,   24.61,2,    0.00,2,    1.65,2,   2.686,2,   1.349,2,   0.121,2,  2163.3,2,  2286.4,2,  -999.0,9,   20.00,   7.6840,2,    25.00,   0.099,2,    0.01,-999.000,9,-999.000,9, -999.00,9,  -999.0,9,  -999.0,-999.000,9,-999.000,   1.724,4, -999.00,9,  648.80,-999.0000,9,-999.0000,9,-999.0000,9,-999.0000,9,-999.0000,9,-999.0000,9,   7.0405,     -999.0,-999.000,     -999.0,          9,     -999.0,          9,-999.000,          9
 33RO200501,       A16S,      71,          1,         20,         20,2,20050206,       1321,   -27.0002,   -25.0000,       4591,   747.3,   5.7200,  34.3865,2,  34.3917,2,    212.0,2,   211.6,2,   18.72,2,   27.29,2,    0.00,2,    1.83,2,   2.506,2,   1.241,2,   0.128,2,  2168.9,2,  2285.4,2,  -999.0,9,   20.00,   7.6639,2,    25.00,   0.168,2,    0.01,   1.805,2,   1.550,2, -999.00,9,  -999.0,9,  -999.0,   7.821,2,   0.011,   2.033,4,   40.65,2,  747.30,-999.0000,9,-999.0000,9,-999.0000,9,-999.0000,9,-999.0000,9,-999.0000,9,   5.6551,      0.001,   0.227,     -999.0,          9,     -999.0,          9,-999.000,          9
 33RO200501,       A16S,      71,          1,         19,         19,2,20050206,       1321,   -27.0002,   -25.0000,       4591,   848.7,   4.6032,  34.3374,2,  34.3363,2,    211.3,2,   212.1,2,   26.37,2,   29.65,2,    0.00,2,    1.99,2,   2.045,2,   1.016,2,   0.104,2,  2185.0,2,  2290.5,6,  -999.0,9,   20.00,   7.6381,6,    25.00,-999.000,9, -999.00,   1.802,2,   1.780,2, -999.00,9,  -999.0,9,  -999.0,   7.849,2,   0.010,   1.961,4, -999.00,9,  848.70,-999.0000,9,-999.0000,9,-999.0000,9,-999.0000,9,-999.0000,9,-999.0000,9,   4.5363,      0.002,   0.235,     -999.0,          9,     -999.0,          9,-999.000,          9
 33RO200501,       A16S,      71,          1,         18,         18,2,20050206,       1321,   -27.0002,   -25.0000,       4591,   948.5,   3.9725,  34.3525,2,  34.3518,2,    203.9,2,   205.3,2,   34.33,2,   31.08,2,    0.00,2,    2.10,2,   1.501,2,   0.730,2,   0.070,2,  2196.5,6,  2295.1,2,  -999.0,9,   20.00,   7.6178,2,    25.00,-999.000,9, -999.00,   1.811,2,   2.927,2, -999.00,9,  -999.0,9,  -999.0,   7.911,2,   0.011,   1.630,4,   38.96,2,  948.50,-999.0000,9,-999.0000,9,-999.0000,9,-999.0000,9,-999.0000,9,-999.0000,9,   3.9015,      0.001,   0.237,     -999.0,          9,     -999.0,          9,-999.000,          9
 33RO200501,       A16S,      71,          1,         17,         17,2,20050206,       1321,   -27.0002,   -25.0000,       4591,  1048.9,   3.5246,  34.4015,2,  34.4005,2,    197.3,2,   196.9,2,   42.68,2,   32.02,2,    0.00,2,    2.17,2,   0.969,2,   0.464,2,   0.039,2,  2211.3,2,  2303.3,2,  -999.0,9,   20.00,   7.6029,2,    25.00,   0.016,2,    0.00,   1.836,2,   3.180,2, -999.00,9,  -999.0,9,  -999.0,   7.951,2,   0.010,   1.182,4,   38.76,2, 1048.90,-999.0000,9,-999.0000,9,-999.0000,9,-999.0000,9,-999.0000,9,-999.0000,9,   3.4489,      0.001,   0.245,     -999.0,          9,     -999.0,          9,-999.000,          9
 33RO200501,       A16S,      71,          1,         16,         16,2,20050206,       1321,   -27.0002,   -25.0000,       4591,  1148.3,   3.2184,  34.4763,2,  34.4767,2,    191.0,2,   189.6,2,   49.71,2,   32.15,2,    0.00,2,    2.20,2,   0.546,2,   0.254,2,   0.022,2,  2219.7,2,  2313.5,2,  -999.0,9,   20.00,   7.6088,2,    25.00,   0.035,2,    0.01,   1.841,2,   4.590,2, -999.00,9,  -999.0,9,  -999.0,   8.030,2,   0.010,   0.754,4,   38.96,2, 1148.30,-999.0000,9,-999.0000,9,-999.0000,9,-999.0000,9,-999.0000,9,-999.0000,9,   3.1372,      0.001,   0.232,     -999.0,          9,     -999.0,          9,-999.000,          9
 33RO200501,       A16S,      71,          1,         15,         15,2,20050206,       1321,   -27.0002,   -25.0000,       4591,  1249.9,   3.0833,  34.5489,2,  34.5476,2,    187.9,2,   187.4,2,   52.80,2,   31.78,2,    0.00,2,    2.17,2,   0.289,2,   0.143,2,   0.009,2,  2220.8,2,  2317.0,2,  -999.0,9,   20.00,   7.6080,2,    25.00,   0.083,2,    0.01,   1.833,2,   5.670,2, -999.00,9,  -999.0,9,  -999.0,   7.998,2,   0.010,   0.470,4,   38.95,2, 1249.90,-999.0000,9,-999.0000,9,-999.0000,9,-999.0000,9,-999.0000,9,-999.0000,9,   2.9951,      0.001,   0.229,     -999.0,          9,     -999.0,          9,-999.000,          9
 33RO200501,       A16S,      71,          1,         14,         14,2,20050206,       1321,   -27.0002,   -25.0000,       4591,  1400.3,   2.9901,  34.6422,2,  34.6413,2,    190.2,2,   191.1,2,   53.35,2,   30.38,2,    0.00,2,    2.06,2,   0.108,2,   0.058,2,   0.004,2,  2220.4,2,  2321.4,2,  -999.0,9,   20.00,   7.6220,2,    25.00,-999.000,9, -999.00,   1.875,2,   5.060,2, -999.00,9,  -999.0,9,  -999.0,   8.137,2,   0.010,   0.226,4,   38.62,2, 1400.30,-999.0000,9,-999.0000,9,-999.0000,9,-999.0000,9,-999.0000,9,-999.0000,9,   2.8905,      0.001,   0.228,     -999.0,          9,     -999.0,          9,-999.000,          9
 33RO200501,       A16S,      71,          1,         13,         13,2,20050206,       1321,   -27.0002,   -25.0000,       4591,  1600.8,   2.9167,  34.7302,2,  34.7297,2,    202.3,2,   202.6,2,   50.73,2,   27.86,2,    0.00,2,    1.91,2,   0.029,2,   0.015,2,   0.000,2,  2213.3,2,  2324.8,2,  -999.0,9,   20.00,   7.6445,2,    25.00,-999.000,9, -999.00,   1.851,2,   5.220,2, -999.00,9,  -999.0,9,  -999.0,   8.100,2,   0.010,   0.096,4,   39.42,2, 1600.80,-999.0000,9,-999.0000,9,-999.0000,9,-999.0000,9,-999.0000,9,-999.0000,9,   2.8010,      0.001,   0.239,     -999.0,          9,     -999.0,          9,-999.000,          9
 33RO200501,       A16S,      71,          1,         12,         12,2,20050206,       1321,   -27.0002,   -25.0000,       4591,  1801.0,   2.8949,  34.8024,2,  34.8007,2,    215.9,2,   217.3,2,   45.67,6,   25.86,6,    0.00,6,    1.73,6,   0.003,6,   0.002,6,   0.000,6,  2202.6,2,  2322.2,2,  -999.0,9,   20.00,   7.6708,2,    25.00,   0.001,2,    0.01,   1.867,2,   5.070,2, -999.00,9,  -999.0,9,  -999.0,   8.118,2,   0.011,   0.050,4, -999.00,9, 1801.00,-999.0000,9,-999.0000,9,-999.0000,9,-999.0000,9,-999.0000,9,-999.0000,9,   2.7621,      0.001,   0.225,     -999.0,          9,     -999.0,          9,-999.000,          9
 33RO200501,       A16S,      71,          1,         11,         11,2,20050206,       1321,   -27.0002,   -25.0000,       4591,  2000.1,   2.9336,  34.8684,2,  34.8664,2,    232.6,2,   233.4,2,   38.24,6,   23.26,6,    0.00,6,    1.55,6,   0.002,2,   0.001,2,   0.000,2,  2186.9,2,  2322.0,2,  -999.0,9,   20.00,   7.7006,2,    25.00,-999.000,9, -999.00,   1.902,2,   3.550,4, -999.00,9,  -999.0,9,  -999.0,   8.278,2,   0.011,   0.039,4,   38.99,2, 2000.10,-999.0000,9,-999.0000,9,-999.0000,9,-999.0000,9,-999.0000,9,-999.0000,9,   2.7822,      0.001,   0.225,     -999.0,          9,     -999.0,          9,-999.000,          9
 33RO200501,       A16S,      71,          1,         10,         10,2,20050206,       1321,   -27.0002,   -25.0000,       4591,  2199.3,   2.9329,  34.8978,2,  34.8971,2,    241.7,2,   242.0,2,   34.60,6,   22.00,6,    0.00,6,    1.46,6,-999.000,9,-999.000,9,-999.000,9,  2179.5,2,  2321.9,2,  -999.0,9,   20.00,   7.7157,2,    25.00,-999.000,9, -999.00,-999.000,9,-999.000,9, -999.00,9,  -999.0,9,  -999.0,-999.000,9,-999.000,-999.000,9, -999.00,9, 2199.30,-999.0000,9,-999.0000,9,-999.0000,9,-999.0000,9,-999.0000,9,-999.0000,9,   2.7632,     -999.0,-999.000,     -999.0,          9,     -999.0,          9,-999.000,          9
 33RO200501,       A16S,      71,          1,          9,          9,2,20050206,       1321,   -27.0002,   -25.0000,       4591,  2400.5,   2.8942,  34.9072,2,  34.9079,2,    245.1,2,   245.2,2,   33.92,6,   21.51,6,    0.00,6,    1.43,6,  -0.001,2,   0.003,2,   0.003,2,  2177.7,2,  2321.4,2,  -999.0,9,   20.00,   7.7242,2,    25.00,-999.000,9, -999.00,-999.000,9,-999.000,9, -999.00,9,  -999.0,9,  -999.0,-999.000,9,-999.000,   0.038,4,   39.09,2, 2400.50,-999.0000,9,-999.0000,9,-999.0000,9,-999.0000,9,-999.0000,9,-999.0000,9,   2.7059,     -999.0,-999.000,     -999.0,          9,     -999.0,          9,-999.000,          9
 33RO200501,       A16S,      71,          1,          8,          8,2,20050206,       1321,   -27.0002,   -25.0000,       4591,  2649.5,   2.8279,  34.9160,2,  34.9156,2,    249.1,2,   249.0,2,   33.68,2,   21.05,2,    0.00,2,    1.41,2,   0.001,2,  -0.002,2,   0.000,2,  2176.1,2,  2322.2,2,  -999.0,9,   20.00,   7.7375,2,    25.00,-999.000,9, -999.00,-999.000,9,-999.000,9, -999.00,9,  -999.0,9,  -999.0,-999.000,9,-999.000,   0.043,4, -999.00,9, 2649.50,-999.0000,9,-999.0000,9,-999.0000,9,-999.0000,9,-999.0000,9,-999.0000,9,   2.6165,     -999.0,-999.000,     -999.0,          9,     -999.0,          9,-999.000,          9