BOTTLE,20220818CCHSIOAMB
EXPOCODE,SECT_ID,STNNBR,CASTNO,SAMPNO,BTLNBR,BTLNBR_FLAG_W,DATE,TIME,LATITUDE,LONGITUDE,DEPTH,CTDPRS,CTDTMP,CTDSAL,CTDSAL_FLAG_W,SALNTY,SALNTY_FLAG_W,CTDOXY,CTDOXY_FLAG_W,OXYGEN,OXYGEN_FLAG_W,SILCAT,SILCAT_FLAG_W,NITRAT,NITRAT_FLAG_W,NITRIT,NITRIT_FLAG_W,PHSPHT,PHSPHT_FLAG_W,CFC-11,CFC-11_FLAG_W,CFC-12,CFC-12_FLAG_W,CFC113,CFC113_FLAG_W,TCARBN,TCARBN_FLAG_W,ALKALI,ALKALI_FLAG_W,PCO2,PCO2_FLAG_W,PCO2TMP,PH_SWS,PH_SWS_FLAG_W,PH_TMP,TRITUM,TRITUM_FLAG_W,TRITER,HELIUM,HELIUM_FLAG_W,DELHE3,DELHE3_FLAG_W,DELC13,DELC13_FLAG_W,DELC14,DELC14_FLAG_W,C14ERR,NEON,NEON_FLAG_W,NEONER,CCL4,CCL4_FLAG_W,DOC,DOC_FLAG_W,CTDRAW,CDOM325,CDOM325_FLAG_W,CDOM340,CDOM340_FLAG_W,CDOM380,CDOM380_FLAG_W,CDOM412,CDOM412_FLAG_W,CDOMSL,CDOMSL_FLAG_W,CDOMSN,CDOMSN_FLAG_W,THETA,HELIER,DELHER,CH3CL,CH3CL_FLAG_W,CH3BR,CH3BR_FLAG_W,CH3I,CH3I_FLAG_W
,,,,,,,,,,,METERS,DBAR,ITS-90,PSS-78,,PSS-78,,UMOL/KG,,UMOL/KG,,UMOL/KG,,UMOL/KG,,UMOL/KG,,UMOL/KG,,PMOL/KG,,PMOL/KG,,PMOL/KG,,UMOL/KG,,UMOL/KG,,UATM,,DEG C,,,DEG C,TU,,TU,NMOL/KG,,PERCNT,,/MILLE,,/MILLE,,/MILLE,NMOL/KG,,NMOL/KG,PMOL/KG,,UMOL/KG,,DBAR,1/M,,1/M,,1/M,,1/M,,1/NM,,1/NM,,DEG C,NMOL/KG,PERCNT,PMOL/KG,,PMOL/KG,,PMOL/KG,
 33RO200501,       A16S,      29,          1,         36,         36,2,20050124,       1403,   -48.0027,   -32.7517,       5312,     4.0,   7.3643,  33.8316,2,-999.0000,5,    305.0,2,   305.0,2,    2.38,2,   18.43,2,    0.18,2,    1.28,2,   4.464,6,   2.546,6,   0.386,6,  2088.1,6,  2270.3,2,   585.7,2,   20.00,   7.8283,2,    25.00,   0.122,2,    0.01,-999.000,9,-999.000,9,    1.54,2,   -42.4,2,     2.9,-999.000,9,-999.000,   5.662,4,   52.07,2,    4.00,-999.0000,9,-999.0000,9,-999.0000,9,-999.0000,9,-999.0000,9,-999.0000,9,   7.3639,     -999.0,-999.000,     -999.0,          9,     -999.0,          9,-999.000,          9
 33RO200501,       A16S,      29,          1,         35,         35,2,20050124,       1403,   -48.0027,   -32.7517,       5312,     4.0,   7.3656,  33.8325,2,  33.8355,2,    305.0,2,   305.1,2,    2.41,2,   18.49,2,    0.18,2,    1.27,2,   4.458,2,   2.543,2,   0.391,2,  2086.3,2,  2270.7,6,   583.7,2,   20.00,   7.8262,6,    25.00,   0.154,2,    0.01,-999.000,9,-999.000,9, -999.00,9,  -999.0,9,  -999.0,-999.000,9,-999.000,   5.586,4,   51.72,2,    4.00,-999.0000,9,-999.0000,9,-999.0000,9,-999.0000,9,-999.0000,9,-999.0000,9,   7.3653,     -999.0,-999.000,     -999.0,          9,     -999.0,          9,-999.000,          9
 33RO200501,       A16S,      29,          1,         34,         34,2,20050124,       1403,   -48.0027,   -32.7517,       5312,    20.6,   7.4004,  33.8619,2,  33.8618,2,    305.2,2,   305.7,2,    2.41,2,   18.36,2,    0.18,2,    1.27,2,   4.435,2,   2.529,2,   0.379,2,  2087.7,2,  2270.4,2,   585.8,2,   20.00,   7.8239,2,    25.00,   0.145,2,    0.01,-999.000,9,-999.000,9, -999.00,9,  -999.0,9,  -999.0,-999.000,9,-999.000,   5.661,4, -999.00,9,   20.60,-999.0000,9,-999.0000,9,-999.0000,9,-999.0000,9,-999.0000,9,-999.0000,9,   7.3985,     -999.0,-999.000,     -999.0,          9,     -999.0,          9,-999.000,          9
 33RO200501,       A16S,      29,          1,         33,         33,2,20050124,       1403,   -48.0027,   -32.7517,       5312,    40.5,   7.4089,  33.8744,2,  33.8718,2,    305.9,2,   303.8,2,    2.40,2,   18.39,2,    0.18,2,    1.27,2,   4.435,2,   2.534,2,   0.389,2,  2089.9,2,  2273.4,2,   587.3,2,   20.00,   7.8260,2,    25.00,   0.134,2,    0.01,-999.000,9,-999.000,9,    2.01,2,   -17.2,2,     3.4,-999.000,9,-999.000,   5.787,4,   48.56,2,   40.50,-999.0000,9,-999.0000,9,-999.0000,9,-999.0000,9,-999.0000,9,-999.0000,9,   7.4051,     -999.0,-999.000,     -999.0,          9,     -999.0,          9,-999.000,          9
 33RO200501,       A16S,      29,          1,         32,         32,2,20050124,       1403,   -48.0027,   -32.7517,       5312,    61.3,   6.7625,  33.8696,2,  33.8691,2,    304.3,2,   303.6,2,    3.05,2,   19.14,2,    0.19,2,    1.37,2,-999.000,9,-999.000,9,-999.000,9,  2098.9,2,  2271.1,2,   625.5,2,   20.00,   7.8028,2,    25.00,   0.175,2,    0.01,-999.000,9,-999.000,9, -999.00,9,  -999.0,9,  -999.0,-999.000,9,-999.000,-999.000,9, -999.00,9,   61.30,-999.0000,9,-999.0000,9,-999.0000,9,-999.0000,9,-999.0000,9,-999.0000,9,   6.7570,     -999.0,-999.000,     -999.0,          9,     -999.0,          9,-999.000,          9
 33RO200501,       A16S,      29,          1,         31,         31,2,20050124,       1403,   -48.0027,   -32.7517,       5312,    81.7,   6.1647,  33.8800,2,  33.8828,2,    305.2,2,   308.3,2,    4.07,2,   19.95,2,    0.20,2,    1.42,2,   4.791,2,   2.680,2,   0.420,2,  2106.6,2,  2273.1,2,   647.6,2,   20.00,   7.7894,2,    25.00,   0.130,2,    0.01,-999.000,9,-999.000,9,    1.83,2,   -33.8,2,     3.1,-999.000,9,-999.000,   5.985,4,   46.69,2,   81.70,-999.0000,9,-999.0000,9,-999.0000,9,-999.0000,9,-999.0000,9,-999.0000,9,   6.1578,     -999.0,-999.000,     -999.0,          9,     -999.0,          9,-999.000,          9
 33RO200501,       A16S,      29,          1,         30,         30,2,20050124,       1403,   -48.0027,   -32.7517,       5312,    99.8,   5.0036,  33.9348,2,  33.9376,2,    305.1,2,   302.4,2,    6.71,2,   21.38,2,    0.24,2,    1.54,2,-999.000,9,-999.000,9,-999.000,9,  2120.0,2,  2276.5,2,  -999.0,9,   20.00,   7.7644,2,    25.00,-999.000,9, -999.00,-999.000,9,-999.000,9, -999.00,9,  -999.0,9,  -999.0,-999.000,9,-999.000,-999.000,9, -999.00,9,   99.80,-999.0000,9,-999.0000,9,-999.0000,9,-999.0000,9,-999.0000,9,-999.0000,9,   4.9961,     -999.0,-999.000,     -999.0,          9,     -999.0,          9,-999.000,          9
 33RO200501,       A16S,      29,          1,         29,         29,2,20050124,       1403,   -48.0027,   -32.7517,       5312,   151.2,   2.9562,  33.9785,2,  33.9788,2,    299.7,2,   313.5,2,   14.13,2,   24.93,2,    0.38,2,    1.72,2,   5.295,2,   2.888,2,   0.461,2,  2139.6,2,  2277.0,2,   787.2,2,   20.00,   7.7196,2,    25.00,-999.000,9, -999.00,-999.000,9,-999.000,9,    1.50,2,   -32.0,2,     3.3,-999.000,9,-999.000,   5.128,4,   44.91,2,  151.20,-999.0000,9,-999.0000,9,-999.0000,9,-999.0000,9,-999.0000,9,-999.0000,9,   2.9471,     -999.0,-999.000,     -999.0,          9,     -999.0,          9,-999.000,          9
 33RO200501,       A16S,      29,          1,         28,         28,2,20050124,       1403,   -48.0027,   -32.7517,       5312,   174.2,   2.9707,  34.0171,2,  34.0191,2,    301.4,2,   307.1,2,   14.56,2,   25.57,2,    0.12,2,    1.72,2,-999.000,9,-999.000,9,-999.000,9,  2141.4,2,  2276.5,2,  -999.0,9,   20.00,   7.7124,2,    25.00,   0.131,2,    0.01,   1.898,2,  -2.890,4, -999.00,9,  -999.0,9,  -999.0,   8.157,2,   0.006,-999.000,9, -999.00,9,  174.20,-999.0000,9,-999.0000,9,-999.0000,9,-999.0000,9,-999.0000,9,-999.0000,9,   2.9602,      0.002,   0.208,     -999.0,          9,     -999.0,          9,-999.000,          9
 33RO200501,       A16S,      29,          1,         27,         27,2,20050124,       1403,   -48.0027,   -32.7517,       5312,   201.6,   2.6718,  34.0110,2,  34.0117,2,    301.8,2,   306.2,2,   16.08,2,   26.16,2,    0.03,2,    1.75,2,   5.158,2,   2.793,2,   0.449,2,  2149.4,2,  2279.8,2,   816.6,2,   20.00,   7.7098,2,    25.00,   0.111,2,    0.01,   1.921,2,  -2.790,4,    1.43,2,   -26.1,2,     3.3,   8.171,2,   0.007,   5.064,4,   44.44,2,  201.60,   0.0890,2,   0.0620,2,   0.0310,2,   0.0220,2,   0.0188,2,   0.0199,2,   2.6601,      0.002,   0.216,     -999.0,          9,     -999.0,          9,-999.000,          9
 33RO200501,       A16S,      29,          1,         26,         26,2,20050124,       1403,   -48.0027,   -32.7517,       5312,   250.1,   2.4861,  34.0318,2,  34.0329,2,    299.6,2,   297.1,2,   18.84,2,   27.02,2,    0.02,2,    1.81,2,   4.909,2,   2.651,2,   0.412,2,  2156.8,2,  2276.3,2,   839.3,2,   20.00,   7.6886,2,    25.00,   0.089,2,    0.01,   1.830,2,  -1.600,2,    1.39,2,   -32.7,2,     2.9,  -0.021,4,   0.002,   4.768,3,   43.52,2,  250.10,-999.0000,9,-999.0000,9,-999.0000,9,-999.0000,9,-999.0000,9,-999.0000,9,   2.4719,      0.001,   0.200,     -999.0,          9,     -999.0,          9,-999.000,          9
 33RO200501,       A16S,      29,          1,         25,         25,2,20050124,       1403,   -48.0027,   -32.7517,       5312,   301.7,   2.5954,  34.0780,2,  34.0784,2,    285.3,2,   281.9,2,   22.17,2,   27.97,2,    0.01,2,    1.89,2,   4.425,2,   2.360,2,   0.359,2,  2165.4,2,  2279.3,2,   877.9,2,   20.00,   7.6786,2,    25.00,   0.085,2,    0.01,   1.864,2,  -1.160,2,    1.32,2,   -43.2,2,     3.3,   8.033,2,   0.007,   4.194,3,   42.52,2,  301.70,   0.1280,2,   0.0950,2,   0.0500,2,   0.0340,2,   0.0151,2,   0.0162,2,   2.5778,      0.002,   0.224,     -999.0,          9,     -999.0,          9,-999.000,          9
 33RO200501,       A16S,      29,          1,         24,         24,2,20050124,       1403,   -48.0027,   -32.7517,       5312,   350.7,   2.4121,  34.0993,2,  34.0972,2,    275.4,2,   272.8,2,   25.91,2,   28.81,2,    0.01,2,    1.94,2,-999.000,9,-999.000,9,-999.000,9,  2173.5,2,  2282.2,2,   910.1,2,   20.00,   7.6696,2,    25.00,-999.000,9, -999.00,-999.000,9,-999.000,9,    1.25,2,   -49.5,2,     3.0,-999.000,9,-999.000,-999.000,9,   41.36,2,  350.70,-999.0000,9,-999.0000,9,-999.0000,9,-999.0000,9,-999.0000,9,-999.0000,9,   2.3920,     -999.0,-999.000,     -999.0,          9,     -999.0,          9,-999.000,          9
 33RO200501,       A16S,      29,          1,         23,         23,2,20050124,       1403,   -48.0027,   -32.7517,       5312,   400.6,   2.7279,  34.1690,2,  34.1705,2,    247.8,2,   250.2,2,   30.78,2,   29.96,2,    0.01,2,    2.01,2,   3.524,2,   1.845,2,   0.271,2,  2185.0,2,  2286.3,2,   968.3,2,   20.00,   7.6379,2,    25.00,   0.048,2,    0.01,-999.000,9,-999.000,9,    1.08,2,   -56.6,2,     3.3,-999.000,9,-999.000,   3.231,3,   40.44,2,  400.60,   0.1330,2,   0.1000,2,   0.0470,2,   0.0310,2,   0.0175,2,   0.0181,2,   2.7037,     -999.0,-999.000,     -999.0,          9,     -999.0,          9,-999.000,          9
 33RO200501,       A16S,      29,          1,         22,         22,2,20050124,       1403,   -48.0027,   -32.7517,       5312,   501.0,   2.5851,  34.2279,2,  34.2282,2,    227.9,2,   233.7,2,   39.09,2,   31.63,2,    0.01,2,    2.12,2,   2.993,2,   1.547,2,   0.237,2,  2201.0,2,  2293.5,2,  1030.3,2,   20.00,   7.6144,2,    25.00,   0.023,2,    0.01,-999.000,9,-999.000,9,    0.94,2,   -73.1,2,     3.4,-999.000,9,-999.000,   2.855,3,   39.72,2,  501.00,-999.0000,9,-999.0000,9,-999.0000,9,-999.0000,9,-999.0000,9,-999.0000,9,   2.5550,     -999.0,-999.000,     -999.0,          9,     -999.0,          9,-999.000,          9
 33RO200501,       A16S,      29,          1,         21,         21,2,20050124,       1403,   -48.0027,   -32.7517,       5312,   601.9,   2.5994,  34.3192,2,  34.3196,2,    213.3,2,   210.4,2,   49.28,2,   33.13,2,    0.01,2,    2.22,2,   2.133,2,   1.088,2,   0.158,2,  2219.0,2,  2304.0,2,  1113.6,2,   20.00,   7.5954,2,    25.00,   0.019,2,    0.01,   1.887,2,   3.720,2,    0.82,2,   -90.0,2,     3.2,   8.116,2,   0.007,   2.130,3,   39.55,2,  601.90,   0.1440,2,   0.1070,2,   0.0520,2,   0.0360,2,   0.0160,2,   0.0175,2,   2.5626,      0.002,   0.231,     -999.0,          9,     -999.0,          9,-999.000,          9
 33RO200501,       A16S,      29,          1,         20,         20,2,20050124,       1403,   -48.0027,   -32.7517,       5312,   700.3,   2.5151,  34.3814,2,  34.3802,2,    201.6,2,   197.3,2,   56.97,2,   33.84,2,    0.01,2,    2.28,2,   1.637,2,   0.834,2,   0.112,2,  2230.5,2,  2310.9,2,  1146.2,2,   20.00,   7.5759,2,    25.00,-999.000,9, -999.00,   1.882,2,   5.403,2,    0.70,2,  -106.4,2,     3.1,   8.100,2,   0.007,   1.693,3,   39.77,2,  700.30,-999.0000,9,-999.0000,9,-999.0000,9,-999.0000,9,-999.0000,9,-999.0000,9,   2.4721,      0.002,   0.234,     -999.0,          9,     -999.0,          9,-999.000,          9
 33RO200501,       A16S,      29,          1,         19,         19,2,20050124,       1403,   -48.0027,   -32.7517,       5312,   799.8,   2.4409,  34.4300,2,  34.4295,2,    190.2,2,   188.9,2,   62.39,2,   34.12,2,    0.00,2,    2.31,2,   1.312,2,   0.655,2,   0.097,2,  2239.2,2,  2323.6,2,  1185.6,2,   20.00,   7.5689,2,    25.00,-999.000,9, -999.00,   1.867,2,   5.282,2,    0.63,2,  -113.5,2,     3.1,  -0.021,4,   0.002,   1.445,3,   39.47,2,  799.80,   0.1710,2,   0.1300,2,   0.0600,2,   0.0390,2,   0.0172,2,   0.0179,2,   2.3915,      0.000,   0.211,     -999.0,          9,     -999.0,          9,-999.000,          9
 33RO200501,       A16S,      29,          1,         18,         18,2,20050124,       1403,   -48.0027,   -32.7517,       5312,   900.9,   2.3892,  34.4852,2,  34.4849,2,    182.3,2,   180.7,2,   68.03,2,   34.19,2,    0.00,2,    2.34,2,   0.955,2,   0.481,2,   0.063,2,  2246.9,2,  2330.0,6,  1183.6,2,   20.00,   7.5648,6,    25.00,-999.000,9, -999.00,-999.000,9,-999.000,9, -999.00,9,  -999.0,9,  -999.0,-999.000,9,-999.000,   1.094,3,   38.85,2,  900.90,-999.0000,9,-999.0000,9,-999.0000,9,-999.0000,9,-999.0000,9,-999.0000,9,   2.3331,     -999.0,-999.000,     -999.0,          9,     -999.0,          9,-999.000,          9
 33RO200501,       A16S,      29,          1,         17,         17,2,20050124,       1403,   -48.0027,   -32.7517,       5312,   999.3,   2.3707,  34.5392,2,  34.5393,2,    177.2,2,   174.7,2,   73.22,2,   34.02,2,    0.00,2,    2.33,2,   0.653,2,   0.329,2,   0.046,2,  2249.3,2,  2334.9,2,  1209.3,2,   20.00,   7.5607,2,    25.00,-999.000,9, -999.00,-999.000,9,-999.000,9,    0.53,2,  -132.9,2,     2.4,-999.000,9,-999.000,   0.806,3,   39.21,2,  999.30,   0.1610,2,   0.1200,2,   0.0580,2,   0.0380,2,   0.0165,2,   0.0175,2,   2.3077,     -999.0,-999.000,     -999.0,          9,     -999.0,          9,-999.000,          9
 33RO200501,       A16S,      29,          1,         16,         16,2,20050124,       1403,   -48.0027,   -32.7517,       5312,  1200.7,   2.6806,  34.6579,2,  34.6582,2,    176.3,2,   180.3,2,   66.94,2,   31.57,2,    0.00,2,    2.15,2,   0.228,2,   0.109,2,   0.012,2,  2241.4,2,  2338.2,2,  -999.0,9,   20.00,   7.6059,3,    25.00,-999.000,9, -999.00,   1.875,2,   8.350,2,    0.61,2,  -136.6,2,     2.5,  -0.022,4,   0.002,   0.354,3, -999.00,9, 1200.70,-999.0000,9,-999.0000,9,-999.0000,9,-999.0000,9,-999.0000,9,-999.0000,9,   2.5999,      0.001,   0.201,     -999.0,          9,     -999.0,          9,-999.000,          9
 33RO200501,       A16S,      29,          1,         15,         15,2,20050124,       1403,   -48.0027,   -32.7517,       5312,  1401.0,   2.6651,  34.7162,2,  34.7164,2,    187.7,2,   186.8,2,   67.23,2,   30.36,2,    0.00,2,    2.06,2,   0.153,2,   0.079,2,   0.009,2,  2237.5,2,  2341.0,2,  1050.8,2,   20.00,   7.6130,3,    25.00,-999.000,9, -999.00,-999.000,9,-999.000,9,    0.66,2,  -141.0,2,     2.5,-999.000,9,-999.000,   0.282,3,   39.41,2, 1401.00,-999.0000,9,-999.0000,9,-999.0000,9,-999.0000,9,-999.0000,9,-999.0000,9,   2.5687,     -999.0,-999.000,     -999.0,          9,     -999.0,          9,-999.000,          9
 33RO200501,       A16S,      29,          1,         14,         14,2,20050124,       1403,   -48.0027,   -32.7517,       5312,  1599.7,   2.1164,  34.6863,2,  34.6862,2,    176.2,2,   175.3,2,   88.20,2,   32.59,2,    0.00,2,    2.24,2,   0.145,2,   0.070,2,   0.010,2,  2260.3,2,  2354.3,2,  -999.0,9,   20.00,   7.5871,2,    25.00,-999.000,9, -999.00,-999.000,9,-999.000,9, -999.00,9,  -999.0,9,  -999.0,-999.000,9,-999.000,   0.218,3,   39.00,2, 1599.70,-999.0000,9,-999.0000,9,-999.0000,9,-999.0000,9,-999.0000,9,-999.0000,9,   2.0107,     -999.0,-999.000,     -999.0,          9,     -999.0,          9,-999.000,          9
 33RO200501,       A16S,      29,          1,         13,         13,2,20050124,       1403,   -48.0027,   -32.7517,       5312,  1800.8,   2.1076,  34.7223,2,  34.7223,2,    183.7,2,   183.3,2,   86.48,2,   31.39,2,    0.00,2,    2.16,2,   0.109,2,   0.058,2,   0.004,2,  2255.3,2,  2354.2,2,  1096.1,2,   20.00,   7.6036,2,    25.00,-999.000,9, -999.00,   1.928,2,  10.465,2, -999.00,9,  -999.0,9,  -999.0,  -0.020,4,   0.002,   0.215,3,   39.01,2, 1800.80,-999.0000,9,-999.0000,9,-999.0000,9,-999.0000,9,-999.0000,9,-999.0000,9,   1.9858,      0.001,   0.218,     -999.0,          9,     -999.0,          9,-999.000,          9
 33RO200501,       A16S,      29,          1,         12,         12,2,20050124,       1403,   -48.0027,   -32.7517,       5312,  2000.0,   2.1507,  34.7620,2,  34.7638,2,    204.6,2,   196.7,2,   79.00,2,   29.39,2,    0.00,2,    2.02,2,   0.085,2,   0.042,2,   0.008,2,  2241.8,2,  2351.4,2,  1006.7,2,   20.00,   7.6397,3,    25.00,-999.000,9, -999.00,   1.928,2,   9.443,2, -999.00,9,  -999.0,9,  -999.0,  -0.021,4,   0.002,   0.173,3,   39.46,2, 2000.00,   0.1270,2,   0.0880,2,   0.0410,2,   0.0270,2,   0.0191,2,   0.0206,2,   2.0116,      0.001,   0.214,     -999.0,          9,     -999.0,          9,-999.000,          9
 33RO200501,       A16S,      29,          1,         11,         11,2,20050124,       1403,   -48.0027,   -32.7517,       5312,  2200.3,   2.1210,  34.7903,2,  34.7889,2,    208.4,2,   207.3,2,   74.69,2,   28.01,2,    0.00,2,    1.93,2,   0.075,2,   0.073,2,   0.000,2,  2233.6,2,  2341.8,2,   975.7,2,   20.00,   7.6493,3,    25.00,-999.000,9, -999.00,   1.916,2,   7.935,2, -999.00,9,  -999.0,9,  -999.0,  -0.022,4,   0.002,   0.164,3,   39.38,2, 2200.30,-999.0000,9,-999.0000,9,-999.0000,9,-999.0000,9,-999.0000,9,-999.0000,9,   1.9649,      0.001,   0.205,     -999.0,          9,     -999.0,          9,-999.000,          9
 33RO200501,       A16S,      29,          1,         10,         10,2,20050124,       1403,   -48.0027,   -32.7517,       5312,  2499.1,   1.6338,  34.7443,2,  34.7426,2,    198.8,2,   200.0,2,   94.12,6,   30.38,6,    0.00,6,    2.11,6,   0.141,2,   0.068,2,   0.013,2,  2251.4,2,  2350.2,2,  -999.0,9,   20.00,   7.6217,2,    25.00,-999.000,9, -999.00,-999.000,9,-999.000,9, -999.00,9,  -999.0,9,  -999.0,-999.000,9,-999.000,   0.206,3,   39.09,2, 2499.10,-999.0000,9,-999.0000,9,-999.0000,9,-999.0000,9,-999.0000,9,-999.0000,9,   1.4600,     -999.0,-999.000,     -999.0,          9,     -999.0,          9,-999.000,          9
 33RO200501,       A16S,      29,          1,          9,          9,2,20050124,       1403,   -48.0027,   -32.7517,       5312,  2791.2,   1.3780,  34.7319,2,  34.7323,2,    201.5,2,   201.4,2,  101.97,6,   30.62,6,    0.00,6,    2.16,6,   0.130,2,   0.045,2,   0.004,2,  2254.6,2,  2353.9,2,  1048.8,2,   20.00,   7.6246,2,    25.00,-999.000,9, -999.00,-999.000,9,-999.000,9, -999.00,9,  -999.0,9,  -999.0,-999.000,9,-999.000,   0.114,3,   39.09,2, 2791.20,-999.0000,9,-999.0000,9,-999.0000,9,-999.0000,9,-999.0000,9,-999.0000,9,   1.1830,     -999.0,-999.000,     -999.0,          9,     -999.0,          9,-999.000,          9
 33RO200501,       A16S,      29,          1,          8,          8,2,20050124,       1403,   -48.0027,   -32.7517,       5312,  3101.7,   1.0775,  34.7158,2,  34.7161,2,    204.6,2,   204.9,2,  109.39,6,   31.36,6,    0.00,6,    2.20,6,   0.204,2,   0.107,2,   0.009,2,  2257.6,2,  2354.0,2,  1066.0,2,   20.00,   7.6230,2,    25.00,-999.000,9, -999.00,-999.000,9,-999.000,9, -999.00,9,  -999.0,9,  -999.0,-999.000,9,-999.000,   0.286,3,   39.51,2, 3101.70,   0.1660,2,   0.1210,2,   0.0570,2,   0.0360,2,   0.0176,2,   0.0186,2,   0.8604,     -999.0,-999.000,     -999.0,          9,     -999.0,          9,-999.000,          9