BOTTLE,20220818CCHSIOAMB
EXPOCODE,SECT_ID,STNNBR,CASTNO,SAMPNO,BTLNBR,BTLNBR_FLAG_W,DATE,TIME,LATITUDE,LONGITUDE,DEPTH,CTDPRS,CTDTMP,CTDSAL,CTDSAL_FLAG_W,SALNTY,SALNTY_FLAG_W,CTDOXY,CTDOXY_FLAG_W,OXYGEN,OXYGEN_FLAG_W,SILCAT,SILCAT_FLAG_W,NITRAT,NITRAT_FLAG_W,NITRIT,NITRIT_FLAG_W,PHSPHT,PHSPHT_FLAG_W,CFC-11,CFC-11_FLAG_W,CFC-12,CFC-12_FLAG_W,CFC113,CFC113_FLAG_W,TCARBN,TCARBN_FLAG_W,ALKALI,ALKALI_FLAG_W,PCO2,PCO2_FLAG_W,PCO2TMP,PH_SWS,PH_SWS_FLAG_W,PH_TMP,TRITUM,TRITUM_FLAG_W,TRITER,HELIUM,HELIUM_FLAG_W,DELHE3,DELHE3_FLAG_W,DELC13,DELC13_FLAG_W,DELC14,DELC14_FLAG_W,C14ERR,NEON,NEON_FLAG_W,NEONER,CCL4,CCL4_FLAG_W,DOC,DOC_FLAG_W,CTDRAW,CDOM325,CDOM325_FLAG_W,CDOM340,CDOM340_FLAG_W,CDOM380,CDOM380_FLAG_W,CDOM412,CDOM412_FLAG_W,CDOMSL,CDOMSL_FLAG_W,CDOMSN,CDOMSN_FLAG_W,THETA,HELIER,DELHER,CH3CL,CH3CL_FLAG_W,CH3BR,CH3BR_FLAG_W,CH3I,CH3I_FLAG_W
,,,,,,,,,,,METERS,DBAR,ITS-90,PSS-78,,PSS-78,,UMOL/KG,,UMOL/KG,,UMOL/KG,,UMOL/KG,,UMOL/KG,,UMOL/KG,,PMOL/KG,,PMOL/KG,,PMOL/KG,,UMOL/KG,,UMOL/KG,,UATM,,DEG C,,,DEG C,TU,,TU,NMOL/KG,,PERCNT,,/MILLE,,/MILLE,,/MILLE,NMOL/KG,,NMOL/KG,PMOL/KG,,UMOL/KG,,DBAR,1/M,,1/M,,1/M,,1/M,,1/NM,,1/NM,,DEG C,NMOL/KG,PERCNT,PMOL/KG,,PMOL/KG,,PMOL/KG,
 33RO200501,       A16S,     101,          1,         36,         36,2,20050215,       1930,   -11.9995,   -24.9997,       5609,     2.2,  27.5396,  36.7746,2,  36.7760,2,    200.0,2,   199.3,2,    1.66,2,    0.00,2,    0.00,2,    0.05,2,   1.633,6,   1.038,6,   0.127,6,  2061.9,6,  2413.4,2,   295.9,2,   20.00,   8.0874,2,    25.00,-999.000,9, -999.00,   1.702,2,  -1.602,2, -999.00,9,  -999.0,9,  -999.0,   6.614,2,   0.007,   1.360,4,   72.41,2,    2.20,   0.0760,2,   0.0550,2,   0.0290,2,   0.0190,2,   0.0180,2,   0.0188,2,  27.5391,      0.001,   0.221,     -999.0,          9,     -999.0,          9,-999.000,          9
 33RO200501,       A16S,     101,          1,         35,         35,2,20050215,       1930,   -11.9995,   -24.9997,       5609,    24.2,  27.5150,  36.7738,2,  36.7757,2,    200.6,2,   199.8,2,    1.66,2,    0.00,2,    0.00,2,    0.04,2,   1.634,2,   1.046,2,   0.128,2,  2062.8,2,  2411.3,6,  -999.0,9,   20.00,   8.0787,6,    25.00,-999.000,9, -999.00,   1.694,2,  -1.704,2, -999.00,9,  -999.0,9,  -999.0,   6.602,2,   0.006,   1.360,4,   71.92,2,   24.20,   0.0800,3,   0.0600,3,   0.0290,3,   0.0190,3,   0.0180,3,   0.0180,3,  27.5094,      0.001,   0.211,     -999.0,          9,     -999.0,          9,-999.000,          9
 33RO200501,       A16S,     101,          1,         34,         34,2,20050215,       1930,   -11.9995,   -24.9997,       5609,    49.1,  26.7903,  37.0232,2,  37.0262,2,    206.3,2,   206.7,2,    1.66,2,    0.00,2,    0.00,2,    0.07,2,   1.719,2,   1.096,2,   0.136,2,  2077.5,2,  2426.6,2,   298.6,2,   20.00,   8.0806,2,    25.00,-999.000,9, -999.00,   1.694,2,  -1.781,2, -999.00,9,  -999.0,9,  -999.0,   6.618,2,   0.008,   1.341,4,   70.59,2,   49.10,   0.0960,3,   0.0710,3,   0.0320,3,   0.0200,3,   0.0194,3,   0.0192,3,  26.7790,      0.001,   0.220,     -999.0,          9,     -999.0,          9,-999.000,          9
 33RO200501,       A16S,     101,          1,         33,         33,2,20050215,       1930,   -11.9995,   -24.9997,       5609,    74.4,  24.9460,  37.0775,2,  37.0562,2,    215.4,2,   216.1,2,    1.66,2,    0.00,2,    0.00,2,    0.10,2,-999.000,9,-999.000,9,-999.000,9,  2081.4,2,  2429.7,2,  -999.0,9,   20.00,   8.0758,2,    25.00,-999.000,9, -999.00,-999.000,9,-999.000,9, -999.00,9,  -999.0,9,  -999.0,-999.000,9,-999.000,-999.000,9,   68.05,2,   74.40,-999.0000,9,-999.0000,9,-999.0000,9,-999.0000,9,-999.0000,9,-999.0000,9,  24.9298,     -999.0,-999.000,     -999.0,          9,     -999.0,          9,-999.000,          9
 33RO200501,       A16S,     101,          1,         32,         32,2,20050215,       1930,   -11.9995,   -24.9997,       5609,    99.7,  23.6824,  36.9577,2,  36.9607,2,    213.8,2,   214.6,2,    1.66,2,    0.10,2,    0.00,2,    0.12,2,   1.923,2,   1.204,2,   0.148,2,  2087.2,2,  2424.5,2,   319.2,2,   20.00,   8.0589,2,    25.00,-999.000,9, -999.00,   1.706,2,  -1.279,2, -999.00,9,  -999.0,9,  -999.0,   6.763,2,   0.006,   1.092,4,   58.54,2,   99.70,   0.2250,3,   0.1700,3,   0.0930,3,   0.0610,3,   0.0137,3,   0.0149,3,  23.6614,      0.001,   0.218,     -999.0,          9,     -999.0,          9,-999.000,          9
 33RO200501,       A16S,     101,          1,         31,         31,2,20050215,       1930,   -11.9995,   -24.9997,       5609,   149.5,  21.0484,  36.5554,2,  36.5369,2,    190.0,2,   193.1,2,    2.15,2,    1.85,2,    0.20,2,    0.34,2,   2.126,2,   1.292,2,   0.134,2,  2113.0,2,  2398.7,2,   395.7,2,   20.00,   7.9806,2,    25.00,-999.000,9, -999.00,-999.000,9,-999.000,9, -999.00,9,  -999.0,9,  -999.0,-999.000,9,-999.000,   0.833,4,   52.99,2,  149.50,-999.0000,9,-999.0000,9,-999.0000,9,-999.0000,9,-999.0000,9,-999.0000,9,  21.0196,     -999.0,-999.000,     -999.0,          9,     -999.0,          9,-999.000,          9
 33RO200501,       A16S,     101,          1,         30,         30,2,20050215,       1930,   -11.9995,   -24.9997,       5609,   198.9,  14.7704,  35.4876,2,  35.4958,2,    159.7,2,   159.7,2,    5.18,2,   12.89,2,    0.01,2,    0.90,2,-999.000,9,-999.000,9,-999.000,9,  2143.4,2,  2330.6,2,  -999.0,9,   20.00,   7.8195,2,    25.00,-999.000,9, -999.00,-999.000,9,-999.000,9, -999.00,9,  -999.0,9,  -999.0,-999.000,9,-999.000,-999.000,9,   49.03,2,  198.90,   0.1640,3,   0.1230,3,   0.0640,3,   0.0460,3,   0.0140,3,   0.0155,3,  14.7405,     -999.0,-999.000,     -999.0,          9,     -999.0,          9,-999.000,          9
 33RO200501,       A16S,     101,          1,         29,         29,2,20050215,       1930,   -11.9995,   -24.9997,       5609,   249.2,  12.3649,  35.1608,2,  35.1510,2,    132.6,2,   129.2,2,    8.50,2,   20.71,2,    0.00,2,    1.32,2,   2.029,2,   1.116,2,   0.026,2,  2176.4,2,  2312.1,2,   815.3,2,   20.00,   7.7015,2,    25.00,-999.000,9, -999.00,   1.756,2,  -0.017,2, -999.00,9,  -999.0,9,  -999.0,   7.314,2,   0.007,   0.404,4,   46.65,2,  249.20,-999.0000,9,-999.0000,9,-999.0000,9,-999.0000,9,-999.0000,9,-999.0000,9,  12.3316,      0.002,   0.215,     -999.0,          9,     -999.0,          9,-999.000,          9
 33RO200501,       A16S,     101,          1,         28,         28,2,20050215,       1930,   -11.9995,   -24.9997,       5609,   298.9,  10.3178,  34.9485,2,  34.9363,2,     94.0,2,    93.9,2,   13.19,2,   28.53,2,    0.00,2,    1.76,2,-999.000,9,-999.000,9,-999.000,9,  2206.9,2,  2302.9,2,  -999.0,9,   20.00,   7.5845,2,    25.00,-999.000,9, -999.00,-999.000,9,-999.000,9, -999.00,9,  -999.0,9,  -999.0,-999.000,9,-999.000,-999.000,9,   44.95,2,  298.90,   0.1610,3,   0.1160,3,   0.0650,3,   0.0480,3,   0.0130,4,   0.0147,4,  10.2823,     -999.0,-999.000,     -999.0,          9,     -999.0,          9,-999.000,          9
 33RO200501,       A16S,     101,          1,         27,         27,2,20050215,       1930,   -11.9995,   -24.9997,       5609,   399.5,   7.6794,  34.6568,2,  34.6523,2,    118.8,2,   125.4,2,   18.08,2,   30.88,2,    0.00,2,    1.92,2,   0.820,2,   0.416,2,   0.016,2,  2205.0,2,  2295.7,2,  1117.1,2,   20.00,   7.5750,2,    25.00,-999.000,9, -999.00,   1.778,2,   0.760,2, -999.00,9,  -999.0,9,  -999.0,   7.546,2,   0.010,   0.513,4,   41.04,2,  399.50,-999.0000,9,-999.0000,9,-999.0000,9,-999.0000,9,-999.0000,9,-999.0000,9,   7.6396,      0.001,   0.213,     -999.0,          9,     -999.0,          9,-999.000,          9
 33RO200501,       A16S,     101,          1,         26,         26,2,20050215,       1930,   -11.9995,   -24.9997,       5609,   499.5,   6.6566,  34.5721,2,  34.5674,2,    126.9,2,   126.3,2,   21.60,2,   33.03,2,    0.00,2,    2.06,2,   0.528,2,   0.270,2,   0.013,2,  2211.7,2,  2294.1,2,  1190.0,2,   20.00,   7.5415,2,    25.00,-999.000,9, -999.00,   1.795,2,   0.529,2, -999.00,9,  -999.0,9,  -999.0,   7.766,2,   0.008,   0.455,4,   39.91,2,  499.50,   0.1530,3,   0.1110,3,   0.0620,3,   0.0460,3,   0.0125,4,   0.0143,4,   6.6104,      0.001,   0.214,     -999.0,          9,     -999.0,          9,-999.000,          9
 33RO200501,       A16S,     101,          1,         25,         25,2,20050215,       1930,   -11.9995,   -24.9997,       5609,   600.4,   5.8808,  34.5242,2,  34.5244,2,    122.4,2,   124.7,2,   25.21,2,   34.69,2,    0.00,2,    2.17,2,   0.233,2,   0.124,2,   0.007,2,  2221.6,2,  2295.7,2,  1250.8,2,   20.00,   7.5323,2,    25.00,-999.000,9, -999.00,-999.000,9,-999.000,9, -999.00,9,  -999.0,9,  -999.0,-999.000,9,-999.000,   0.295,4,   39.20,2,  600.40,-999.0000,9,-999.0000,9,-999.0000,9,-999.0000,9,-999.0000,9,-999.0000,9,   5.8285,     -999.0,-999.000,     -999.0,          9,     -999.0,          9,-999.000,          9
 33RO200501,       A16S,     101,          1,         24,         24,2,20050215,       1930,   -11.9995,   -24.9997,       5609,   699.3,   5.1539,  34.4746,2,  34.4727,2,    150.5,2,   143.6,2,   28.54,2,   34.20,2,    0.00,2,    2.17,2,   0.265,2,   0.132,2,   0.006,2,  2217.5,2,  2298.0,2,  1198.1,2,   20.00,   7.5479,2,    25.00,-999.000,9, -999.00,   1.794,2,   1.408,2, -999.00,9,  -999.0,9,  -999.0,   7.837,2,   0.008,   0.362,4, -999.00,9,  699.30,   0.1350,3,   0.0960,3,   0.0560,3,   0.0410,3,   0.0128,3,   0.0144,3,   5.0964,      0.001,   0.221,     -999.0,          9,     -999.0,          9,-999.000,          9
 33RO200501,       A16S,     101,          1,         23,         23,2,20050215,       1930,   -11.9995,   -24.9997,       5609,   798.9,   4.6291,  34.4738,2,  34.4725,2,    147.3,2,   147.7,2,   32.44,2,   34.40,2,    0.00,2,    2.20,2,   0.099,2,   0.055,2,   0.003,2,  2220.2,2,  2299.3,2,  1198.3,2,   20.00,   7.5489,2,    25.00,-999.000,9, -999.00,-999.000,9,-999.000,9, -999.00,9,  -999.0,9,  -999.0,-999.000,9,-999.000,   0.215,4,   38.94,2,  798.90,-999.0000,9,-999.0000,9,-999.0000,9,-999.0000,9,-999.0000,9,-999.0000,9,   4.5660,     -999.0,-999.000,     -999.0,          9,     -999.0,          9,-999.000,          9
 33RO200501,       A16S,     101,          1,         22,         22,2,20050215,       1930,   -11.9995,   -24.9997,       5609,   898.7,   4.3033,  34.4988,2,  34.4994,2,    153.2,2,   155.2,2,   34.89,2,   33.91,2,    0.00,2,    2.18,2,   0.041,2,   0.049,2,   0.005,2,  2220.1,2,  2300.5,2,  1168.2,2,   20.00,   7.5574,2,    25.00,   0.001,2,    0.01,   1.810,2,   1.780,2, -999.00,9,  -999.0,9,  -999.0,   7.906,2,   0.008,   0.135,4, -999.00,9,  898.70,   0.1280,3,   0.0900,3,   0.0530,3,   0.0350,3,   0.0143,3,   0.0156,3,   4.2339,      0.001,   0.220,     -999.0,          9,     -999.0,          9,-999.000,          9
 33RO200501,       A16S,     101,          1,         21,         21,2,20050215,       1930,   -11.9995,   -24.9997,       5609,   998.7,   4.1243,  34.5647,2,  34.5626,2,    159.3,2,   159.8,2,   35.57,2,   33.03,2,    0.00,2,    2.13,2,   0.020,2,   0.010,2,   0.000,2,  2219.9,6,  2305.0,2,  1140.4,2,   20.00,   7.5659,2,    25.00,-999.000,9, -999.00,-999.000,9,-999.000,9, -999.00,9,  -999.0,9,  -999.0,-999.000,9,-999.000,   0.061,4,   39.10,2,  998.70,-999.0000,9,-999.0000,9,-999.0000,9,-999.0000,9,-999.0000,9,-999.0000,9,   4.0477,     -999.0,-999.000,     -999.0,          9,     -999.0,          9,-999.000,          9
 33RO200501,       A16S,     101,          1,         20,         20,2,20050215,       1930,   -11.9995,   -24.9997,       5609,  1099.0,   4.0225,  34.6472,2,  34.6465,2,    170.4,2,   171.9,2,   34.20,6,   31.07,6,    0.00,6,    2.00,6,   0.012,2,   0.008,2,   0.000,2,  2214.3,2,  2309.0,2,  1072.9,2,   20.00,   7.5926,2,    25.00,   0.001,2,    0.01,   1.851,2,   4.490,4, -999.00,9,  -999.0,9,  -999.0,   8.054,2,   0.008,   0.045,4, -999.00,9, 1099.00,   0.1460,3,   0.1050,3,   0.0570,3,   0.0400,3,   0.0143,3,   0.0159,3,   3.9381,      0.001,   0.214,     -999.0,          9,     -999.0,          9,-999.000,          9
 33RO200501,       A16S,     101,          1,         19,         19,2,20050215,       1930,   -11.9995,   -24.9997,       5609,  1300.2,   4.0944,  34.8044,2,  34.8074,2,    192.0,2,   194.1,2,   28.43,2,   26.96,2,    0.00,2,    1.71,2,   0.011,2,   0.023,2,   0.008,2,  2198.8,2,  2313.0,6,   940.9,2,   20.00,   7.6445,6,    25.00,-999.000,9, -999.00,-999.000,9,-999.000,9, -999.00,9,  -999.0,9,  -999.0,-999.000,9,-999.000,   0.062,4,   39.34,2, 1300.20,-999.0000,9,-999.0000,9,-999.0000,9,-999.0000,9,-999.0000,9,-999.0000,9,   3.9915,     -999.0,-999.000,     -999.0,          9,     -999.0,          9,-999.000,          9
 33RO200501,       A16S,     101,          1,         18,         18,2,20050215,       1930,   -11.9995,   -24.9997,       5609,  1500.4,   3.9998,  34.9096,2,  34.9105,2,    219.8,2,   219.5,2,   23.93,2,   23.25,2,    0.00,2,    1.45,2,   0.029,2,   0.018,2,   0.017,2,  2182.7,2,  2315.9,2,   831.6,2,   20.00,   7.6889,2,    25.00,-999.000,9, -999.00,-999.000,9,-999.000,9, -999.00,9,  -999.0,9,  -999.0,-999.000,9,-999.000,   0.122,4, -999.00,9, 1500.40,-999.0000,9,-999.0000,9,-999.0000,9,-999.0000,9,-999.0000,9,-999.0000,9,   3.8797,     -999.0,-999.000,     -999.0,          9,     -999.0,          9,-999.000,          9
 33RO200501,       A16S,     101,          1,         17,         17,2,20050215,       1930,   -11.9995,   -24.9997,       5609,  1698.9,   3.8355,  34.9518,2,  34.9590,2,    237.3,2,   237.1,2,   21.88,2,   21.00,2,    0.00,2,    1.31,2,   0.075,2,   0.040,2,   0.010,2,  2174.6,2,  2318.2,2,   780.6,2,   20.00,   7.7180,2,    25.00,-999.000,9, -999.00,-999.000,9,-999.000,9, -999.00,9,  -999.0,9,  -999.0,-999.000,9,-999.000,   0.219,4,   39.47,2, 1698.90,-999.0000,9,-999.0000,9,-999.0000,9,-999.0000,9,-999.0000,9,-999.0000,9,   3.6990,     -999.0,-999.000,     -999.0,          9,     -999.0,          9,-999.000,          9
 33RO200501,       A16S,     101,          1,         16,         16,2,20050215,       1930,   -11.9995,   -24.9997,       5609,  1899.1,   3.5372,  34.9600,2,  34.9604,2,    247.2,2,   247.9,2,   22.47,2,   20.03,2,    0.00,2,    1.25,2,   0.075,2,   0.045,2,   0.004,2,  2167.9,2,  2318.6,2,   756.0,2,   20.00,   7.7288,2,    25.00,   0.044,2,    0.01,   1.835,2,   2.040,2, -999.00,9,  -999.0,9,  -999.0,   8.052,2,   0.008,   0.237,4, -999.00,9, 1899.10,-999.0000,9,-999.0000,9,-999.0000,9,-999.0000,9,-999.0000,9,-999.0000,9,   3.3860,      0.001,   0.218,     -999.0,          9,     -999.0,          9,-999.000,          9
 33RO200501,       A16S,     101,          1,         15,         15,2,20050215,       1930,   -11.9995,   -24.9997,       5609,  2091.0,   3.2840,  34.9498,2,  34.9519,2,    249.4,2,   249.8,2,   25.50,2,   20.03,2,    0.00,2,    1.27,2,   0.062,2,   0.033,2,   0.000,2,  2170.0,2,  2320.8,2,   751.6,2,   20.00,   7.7382,2,    25.00,-999.000,9, -999.00,-999.000,9,-999.000,9, -999.00,9,  -999.0,9,  -999.0,-999.000,9,-999.000,   0.189,4,   39.94,2, 2091.00,   0.1430,3,   0.1030,3,   0.0550,3,   0.0360,3,   0.0155,3,   0.0167,3,   3.1186,     -999.0,-999.000,     -999.0,          9,     -999.0,          9,-999.000,          9
 33RO200501,       A16S,     101,          1,         14,         14,2,20050215,       1930,   -11.9995,   -24.9997,       5609,  2299.6,   3.0634,  34.9347,2,  34.9340,2,    248.4,2,   247.6,2,   29.89,2,   20.51,2,    0.00,2,    1.31,2,   0.062,2,   0.021,2,   0.000,2,  2176.8,2,  2322.7,2,   757.8,2,   20.00,   7.7278,2,    25.00,-999.000,9, -999.00,-999.000,9,-999.000,9, -999.00,9,  -999.0,9,  -999.0,-999.000,9,-999.000,   0.139,4, -999.00,9, 2299.60,-999.0000,9,-999.0000,9,-999.0000,9,-999.0000,9,-999.0000,9,-999.0000,9,   2.8819,     -999.0,-999.000,     -999.0,          9,     -999.0,          9,-999.000,          9
 33RO200501,       A16S,     101,          1,         13,         13,2,20050215,       1930,   -11.9995,   -24.9997,       5609,  2498.3,   2.9088,  34.9219,2,  34.9216,2,    246.0,2,   246.9,2,   33.80,2,   21.00,2,    0.00,2,    1.36,2,   0.031,2,   0.010,2,   0.000,2,  2178.4,2,  2325.9,2,   765.2,2,   20.00,   7.7293,2,    25.00,-999.000,9, -999.00,-999.000,9,-999.000,9, -999.00,9,  -999.0,9,  -999.0,-999.000,9,-999.000,   0.081,4,   40.00,2, 2498.30,-999.0000,9,-999.0000,9,-999.0000,9,-999.0000,9,-999.0000,9,-999.0000,9,   2.7108,     -999.0,-999.000,     -999.0,          9,     -999.0,          9,-999.000,          9
 33RO200501,       A16S,     101,          1,         12,         12,2,20050215,       1930,   -11.9995,   -24.9997,       5609,  2699.0,   2.8234,  34.9174,2,  34.9170,2,    246.1,2,   246.6,2,   35.66,2,   21.20,2,    0.00,2,    1.37,2,   0.012,2,   0.008,2,   0.000,2,  1742.9,4,  2327.5,2,   775.0,2,   20.00,   7.7283,2,    25.00,   0.026,2,    0.01,   1.883,2,   3.140,2, -999.00,9,  -999.0,9,  -999.0,   8.233,2,   0.009,   0.070,4, -999.00,9, 2699.00,-999.0000,9,-999.0000,9,-999.0000,9,-999.0000,9,-999.0000,9,-999.0000,9,   2.6072,      0.001,   0.221,     -999.0,          9,     -999.0,          9,-999.000,          9
 33RO200501,       A16S,     101,          1,         11,         11,2,20050215,       1930,   -11.9995,   -24.9997,       5609,  2999.5,   2.7152,  34.9129,2,  34.9152,3,    246.0,2,   247.1,2,   37.22,2,   21.20,2,    0.00,2,    1.37,2,   0.015,2,   0.004,2,   0.000,2,  2182.9,2,  2330.6,2,   773.5,2,   20.00,   7.7228,2,    25.00,-999.000,9, -999.00,-999.000,9,-999.000,9, -999.00,9,  -999.0,9,  -999.0,-999.000,9,-999.000,   0.065,4,   39.03,2, 2999.50,   0.1570,3,   0.1130,3,   0.0570,3,   0.0340,3,   0.0176,3,   0.0183,3,   2.4708,     -999.0,-999.000,     -999.0,          9,     -999.0,          9,-999.000,          9
 33RO200501,       A16S,     101,          1,         10,         10,2,20050215,       1930,   -11.9995,   -24.9997,       5609,  3300.0,   2.5907,  34.9069,2,  34.9075,2,    248.9,2,   249.9,2,   38.69,2,   21.10,2,    0.00,2,    1.37,2,-999.000,9,-999.000,9,-999.000,9,  2183.7,2,  2331.3,2,  -999.0,9,   20.00,   7.7253,2,    25.00,-999.000,9, -999.00,-999.000,9,-999.000,9, -999.00,9,  -999.0,9,  -999.0,-999.000,9,-999.000,-999.000,9, -999.00,9, 3300.00,-999.0000,9,-999.0000,9,-999.0000,9,-999.0000,9,-999.0000,9,-999.0000,9,   2.3176,     -999.0,-999.000,     -999.0,          9,     -999.0,          9,-999.000,          9
 33RO200501,       A16S,     101,          1,          9,          9,2,20050215,       1930,   -11.9995,   -24.9997,       5609,  3599.7,   2.3924,  34.8878,2,  34.8877,2,    247.0,2,   248.5,2,   45.43,2,   21.88,2,    0.00,2,    1.43,2,   0.007,2,   0.007,2,   0.000,2,  2188.7,2,  2335.7,2,   781.5,2,   20.00,   7.7221,2,    25.00,-999.000,9, -999.00,-999.000,9,-999.000,9, -999.00,9,  -999.0,9,  -999.0,-999.000,9,-999.000,   0.060,4,   38.65,2, 3599.70,-999.0000,9,-999.0000,9,-999.0000,9,-999.0000,9,-999.0000,9,-999.0000,9,   2.0920,     -999.0,-999.000,     -999.0,          9,     -999.0,          9,-999.000,          9
 33RO200501,       A16S,     101,          1,          8,          8,2,20050215,       1930,   -11.9995,   -24.9997,       5609,  3898.6,   2.0614,  34.8565,2,  34.8565,2,    244.5,2,   245.1,2,   56.66,2,   23.25,2,    0.00,2,    1.54,2,   0.016,2,   0.007,2,   0.000,2,  2199.4,2,  2341.0,2,   812.4,2,   20.00,   7.7060,2,    25.00,-999.000,9, -999.00,-999.000,9,-999.000,9, -999.00,9,  -999.0,9,  -999.0,-999.000,9,-999.000,   0.055,4, -999.00,9, 3898.60,-999.0000,9,-999.0000,9,-999.0000,9,-999.0000,9,-999.0000,9,-999.0000,9,   1.7370,     -999.0,-999.000,     -999.0,          9,     -999.0,          9,-999.000,          9