BOTTLE,20220818CCHSIOAMB
EXPOCODE,SECT_ID,STNNBR,CASTNO,SAMPNO,BTLNBR,BTLNBR_FLAG_W,DATE,TIME,LATITUDE,LONGITUDE,DEPTH,CTDPRS,CTDTMP,CTDSAL,CTDSAL_FLAG_W,SALNTY,SALNTY_FLAG_W,CTDOXY,CTDOXY_FLAG_W,OXYGEN,OXYGEN_FLAG_W,SILCAT,SILCAT_FLAG_W,NITRAT,NITRAT_FLAG_W,NITRIT,NITRIT_FLAG_W,PHSPHT,PHSPHT_FLAG_W,CFC-11,CFC-11_FLAG_W,CFC-12,CFC-12_FLAG_W,CFC113,CFC113_FLAG_W,TCARBN,TCARBN_FLAG_W,ALKALI,ALKALI_FLAG_W,PCO2,PCO2_FLAG_W,PCO2TMP,PH_SWS,PH_SWS_FLAG_W,PH_TMP,TRITUM,TRITUM_FLAG_W,TRITER,HELIUM,HELIUM_FLAG_W,DELHE3,DELHE3_FLAG_W,DELC13,DELC13_FLAG_W,DELC14,DELC14_FLAG_W,C14ERR,NEON,NEON_FLAG_W,NEONER,CCL4,CCL4_FLAG_W,DOC,DOC_FLAG_W,CTDRAW,CDOM325,CDOM325_FLAG_W,CDOM340,CDOM340_FLAG_W,CDOM380,CDOM380_FLAG_W,CDOM412,CDOM412_FLAG_W,CDOMSL,CDOMSL_FLAG_W,CDOMSN,CDOMSN_FLAG_W,THETA,HELIER,DELHER,CH3CL,CH3CL_FLAG_W,CH3BR,CH3BR_FLAG_W,CH3I,CH3I_FLAG_W
,,,,,,,,,,,METERS,DBAR,ITS-90,PSS-78,,PSS-78,,UMOL/KG,,UMOL/KG,,UMOL/KG,,UMOL/KG,,UMOL/KG,,UMOL/KG,,PMOL/KG,,PMOL/KG,,PMOL/KG,,UMOL/KG,,UMOL/KG,,UATM,,DEG C,,,DEG C,TU,,TU,NMOL/KG,,PERCNT,,/MILLE,,/MILLE,,/MILLE,NMOL/KG,,NMOL/KG,PMOL/KG,,UMOL/KG,,DBAR,1/M,,1/M,,1/M,,1/M,,1/NM,,1/NM,,DEG C,NMOL/KG,PERCNT,PMOL/KG,,PMOL/KG,,PMOL/KG,
 33RO200501,       A16S,      25,          1,          7,          7,2,20050123,       0717,   -50.0003,   -34.0010,       5111,  3202.1,   0.4259,  34.6855,2,  34.6857,2,    215.2,2,   215.8,2,  121.36,2,   32.54,2,    0.00,2,    2.30,2,   0.316,2,   0.160,2,   0.010,2,  2260.4,2,  -999.0,5,  1053.1,2,   20.00,   7.6072,3,    25.00,-999.000,9, -999.00,-999.000,9,-999.000,9, -999.00,9,  -999.0,9,  -999.0,-999.000,9,-999.000,   0.440,3,   38.14,2, 3202.10,-999.0000,9,-999.0000,9,-999.0000,9,-999.0000,9,-999.0000,9,-999.0000,9,   0.2147,     -999.0,-999.000,     -999.0,          9,     -999.0,          9,-999.000,          9
 33RO200501,       A16S,      25,          1,          6,          6,2,20050123,       0717,   -50.0003,   -34.0010,       5111,  3500.0,   0.3359,  34.6805,2,  34.6796,2,    218.0,2,   218.5,2,  123.40,2,   32.72,2,    0.00,2,    2.31,2,   1.363,4,   3.234,4,   0.420,4,  2260.3,2,  -999.0,5,  1075.0,2,   20.00,   7.6200,2,    25.00,-999.000,9, -999.00,-999.000,9,-999.000,9, -999.00,9,  -999.0,9,  -999.0,-999.000,9,-999.000,   0.540,4, -999.00,9, 3500.00,-999.0000,9,-999.0000,9,-999.0000,9,-999.0000,9,-999.0000,9,-999.0000,9,   0.0993,     -999.0,-999.000,     -999.0,          9,     -999.0,          9,-999.000,          9
 33RO200501,       A16S,      25,          1,          5,          5,2,20050123,       0717,   -50.0003,   -34.0010,       5111,  3801.8,   0.2492,  34.6762,2,  34.6779,3,    220.8,2,   220.8,2,  124.63,2,   32.77,2,    0.00,2,    2.32,2,   0.355,2,   0.179,2,   0.021,2,  2263.2,2,  2360.8,2,  1071.5,2,   20.00,   7.6167,2,    25.00,-999.000,9, -999.00,-999.000,9,-999.000,9, -999.00,9,  -999.0,9,  -999.0,-999.000,9,-999.000,   0.502,3,   39.81,2, 3801.80,-999.0000,9,-999.0000,9,-999.0000,9,-999.0000,9,-999.0000,9,-999.0000,9,  -0.0142,     -999.0,-999.000,     -999.0,          9,     -999.0,          9,-999.000,          9
 33RO200501,       A16S,      25,          1,          4,          4,2,20050123,       0717,   -50.0003,   -34.0010,       5111,  4101.6,   0.1529,  34.6711,2,  34.6713,2,    224.1,2,   224.8,2,  126.18,6,   32.73,6,    0.00,2,    2.32,6,   0.426,2,   0.214,2,   0.018,2,  2261.9,2,  2360.6,2,  -999.0,9,   20.00,   7.6131,2,    25.00,-999.000,9, -999.00,-999.000,9,-999.000,9, -999.00,9,  -999.0,9,  -999.0,-999.000,9,-999.000,   0.559,3, -999.00,9, 4101.60,   0.1330,2,   0.0960,2,   0.0410,2,   0.0290,3,   0.0200,2,   0.0206,2,  -0.1380,     -999.0,-999.000,     -999.0,          9,     -999.0,          9,-999.000,          9
 33RO200501,       A16S,      25,          1,          3,          3,2,20050123,       0717,   -50.0003,   -34.0010,       5111,  4401.6,   0.0185,  34.6641,2,  34.6638,2,    230.5,2,   230.9,2,  125.94,6,   32.60,6,    0.00,2,    2.31,6,   0.623,2,   0.310,2,   0.034,2,  2261.1,2,  2358.4,2,  1069.0,2,   20.00,   7.6175,2,    25.00,-999.000,9, -999.00,-999.000,9,-999.000,9, -999.00,9,  -999.0,9,  -999.0,-999.000,9,-999.000,   0.746,3,   40.34,2, 4401.60,-999.0000,9,-999.0000,9,-999.0000,9,-999.0000,9,-999.0000,9,-999.0000,9,  -0.2994,     -999.0,-999.000,     -999.0,          9,     -999.0,          9,-999.000,          9
 33RO200501,       A16S,      25,          1,          2,          2,2,20050123,       0717,   -50.0003,   -34.0010,       5111,  4701.3,  -0.1002,  34.6580,2,  34.6573,2,    236.6,2,   237.2,2,  126.27,6,   32.45,6,    0.00,2,    2.31,6,   0.807,2,   0.395,2,   0.045,2,  2256.5,2,  2355.3,6,  1092.4,2,   20.00,   7.6207,2,    25.00,-999.000,9, -999.00,-999.000,9,-999.000,9, -999.00,9,  -999.0,9,  -999.0,-999.000,9,-999.000,   0.877,3, -999.00,9, 4701.30,-999.0000,9,-999.0000,9,-999.0000,9,-999.0000,9,-999.0000,9,-999.0000,9,  -0.4464,     -999.0,-999.000,     -999.0,          9,     -999.0,          9,-999.000,          9
 33RO200501,       A16S,      25,          1,          1,          1,2,20050123,       0717,   -50.0003,   -34.0010,       5111,  5114.2,  -0.1037,  34.6557,2,  34.6564,2,    238.2,2,   239.7,2,  126.90,6,   32.36,6,    0.02,2,    2.33,6,   0.861,6,   0.423,6,   0.053,6,  2257.6,6,  2357.7,2,  1081.4,2,   20.00,   7.6167,2,    25.00,-999.000,9, -999.00,-999.000,9,-999.000,9, -999.00,9,  -999.0,9,  -999.0,-999.000,9,-999.000,   0.923,6,   40.07,2, 5114.20,-999.0000,9,-999.0000,9,-999.0000,9,-999.0000,9,-999.0000,9,-999.0000,9,  -0.4959,     -999.0,-999.000,     -999.0,          9,     -999.0,          9,-999.000,          9