BOTTLE,20220818CCHSIOAMB
EXPOCODE,SECT_ID,STNNBR,CASTNO,SAMPNO,BTLNBR,BTLNBR_FLAG_W,DATE,TIME,LATITUDE,LONGITUDE,DEPTH,CTDPRS,CTDTMP,CTDSAL,CTDSAL_FLAG_W,SALNTY,SALNTY_FLAG_W,CTDOXY,CTDOXY_FLAG_W,OXYGEN,OXYGEN_FLAG_W,SILCAT,SILCAT_FLAG_W,NITRAT,NITRAT_FLAG_W,NITRIT,NITRIT_FLAG_W,PHSPHT,PHSPHT_FLAG_W,CFC-11,CFC-11_FLAG_W,CFC-12,CFC-12_FLAG_W,CFC113,CFC113_FLAG_W,TCARBN,TCARBN_FLAG_W,ALKALI,ALKALI_FLAG_W,PCO2,PCO2_FLAG_W,PCO2TMP,PH_SWS,PH_SWS_FLAG_W,PH_TMP,TRITUM,TRITUM_FLAG_W,TRITER,HELIUM,HELIUM_FLAG_W,DELHE3,DELHE3_FLAG_W,DELC13,DELC13_FLAG_W,DELC14,DELC14_FLAG_W,C14ERR,NEON,NEON_FLAG_W,NEONER,CCL4,CCL4_FLAG_W,DOC,DOC_FLAG_W,CTDRAW,CDOM325,CDOM325_FLAG_W,CDOM340,CDOM340_FLAG_W,CDOM380,CDOM380_FLAG_W,CDOM412,CDOM412_FLAG_W,CDOMSL,CDOMSL_FLAG_W,CDOMSN,CDOMSN_FLAG_W,THETA,HELIER,DELHER,CH3CL,CH3CL_FLAG_W,CH3BR,CH3BR_FLAG_W,CH3I,CH3I_FLAG_W
,,,,,,,,,,,METERS,DBAR,ITS-90,PSS-78,,PSS-78,,UMOL/KG,,UMOL/KG,,UMOL/KG,,UMOL/KG,,UMOL/KG,,UMOL/KG,,PMOL/KG,,PMOL/KG,,PMOL/KG,,UMOL/KG,,UMOL/KG,,UATM,,DEG C,,,DEG C,TU,,TU,NMOL/KG,,PERCNT,,/MILLE,,/MILLE,,/MILLE,NMOL/KG,,NMOL/KG,PMOL/KG,,UMOL/KG,,DBAR,1/M,,1/M,,1/M,,1/M,,1/NM,,1/NM,,DEG C,NMOL/KG,PERCNT,PMOL/KG,,PMOL/KG,,PMOL/KG,
 33RO200501,       A16S,      34,          1,         36,         36,2,20050126,       0658,   -45.5005,   -31.1982,       5113,     4.2,  11.5128,  34.1690,2,  34.1650,2,    281.9,2,   274.6,2,    0.91,2,    9.72,2,    0.13,2,    0.76,2,   3.504,2,   2.121,2,   0.293,2,  2061.8,6,  2281.1,2,  -999.0,9,   20.00,   7.9097,2,    25.00,-999.000,9, -999.00,-999.000,9,-999.000,9, -999.00,9,  -999.0,9,  -999.0,-999.000,9,-999.000,   5.173,4, -999.00,9,    4.20,-999.0000,9,-999.0000,9,-999.0000,9,-999.0000,9,-999.0000,9,-999.0000,9,  11.5122,     -999.0,-999.000,     75.341,          2,      2.371,          2,   2.621,          2
 33RO200501,       A16S,      34,          1,         35,         35,2,20050126,       0658,   -45.5005,   -31.1982,       5113,    25.9,  11.5522,  34.2336,2,  34.2325,2,    282.5,2,   275.2,2,    0.99,2,    9.36,2,    0.13,2,    0.74,2,   3.488,2,   2.113,2,   0.303,2,  2064.1,2,  2285.6,6,  -999.0,9,   20.00,   7.9082,2,    25.00,-999.000,9, -999.00,-999.000,9,-999.000,9, -999.00,9,  -999.0,9,  -999.0,-999.000,9,-999.000,   5.257,4, -999.00,9,   25.90,-999.0000,9,-999.0000,9,-999.0000,9,-999.0000,9,-999.0000,9,-999.0000,9,  11.5489,     -999.0,-999.000,     83.946,          2,      2.381,          2,   2.821,          2
 33RO200501,       A16S,      34,          1,         34,         34,4,20050126,       0658,   -45.5005,   -31.1982,       5113,    51.0,  11.3647,  34.3081,2,  34.3135,2,    282.5,2,   245.2,4,    5.85,2,   14.29,2,    0.16,2,    1.06,2,   1.483,3,   0.786,3,   0.107,3,  2130.9,4,  2294.1,2,  -999.0,9,   20.00,   7.8020,2,    25.00,-999.000,9, -999.00,-999.000,9,-999.000,9, -999.00,9,  -999.0,9,  -999.0,-999.000,9,-999.000,   1.461,4, -999.00,9,   51.00,-999.0000,9,-999.0000,9,-999.0000,9,-999.0000,9,-999.0000,9,-999.0000,9,  11.3584,     -999.0,-999.000,     23.517,          2,      0.553,          2,   0.777,          2
 33RO200501,       A16S,      34,          1,         33,         33,2,20050126,       0658,   -45.5005,   -31.1982,       5113,    72.7,   8.7239,  34.3247,2,  34.3248,2,    286.9,2,   283.9,2,    1.96,2,   13.13,2,    0.30,2,    1.05,2,-999.000,9,-999.000,9,-999.000,9,  -999.0,9,  -999.0,9,  -999.0,9,   20.00,-999.0000,9,    25.00,-999.000,9, -999.00,-999.000,9,-999.000,9, -999.00,9,  -999.0,9,  -999.0,-999.000,9,-999.000,-999.000,9, -999.00,9,   72.70,-999.0000,9,-999.0000,9,-999.0000,9,-999.0000,9,-999.0000,9,-999.0000,9,   8.7163,     -999.0,-999.000,     -999.0,          9,     -999.0,          9,-999.000,          9
 33RO200501,       A16S,      34,          1,         32,         32,2,20050126,       0658,   -45.5005,   -31.1982,       5113,    92.1,   7.3443,  34.2705,2,  34.2693,2,    278.9,2,   283.2,2,    3.85,2,   16.70,2,    0.37,2,    1.24,2,-999.000,9,-999.000,9,-999.000,9,  -999.0,9,  -999.0,9,  -999.0,9,   20.00,-999.0000,9,    25.00,-999.000,9, -999.00,-999.000,9,-999.000,9, -999.00,9,  -999.0,9,  -999.0,-999.000,9,-999.000,-999.000,9, -999.00,9,   92.10,-999.0000,9,-999.0000,9,-999.0000,9,-999.0000,9,-999.0000,9,-999.0000,9,   7.3356,     -999.0,-999.000,     47.035,          2,      0.735,          2,   0.987,          2
 33RO200501,       A16S,      34,          1,         31,         31,2,20050126,       0658,   -45.5005,   -31.1982,       5113,   117.2,   7.8368,  34.4562,2,  34.4542,2,    264.4,2,   241.0,3,    5.01,2,   17.62,2,    0.05,2,    1.20,2,   3.896,2,   2.234,2,   0.300,2,  2124.1,2,  2295.3,2,  -999.0,9,   20.00,   7.7841,2,    25.00,-999.000,9, -999.00,-999.000,9,-999.000,9, -999.00,9,  -999.0,9,  -999.0,-999.000,9,-999.000,   3.175,3, -999.00,9,  117.20,-999.0000,9,-999.0000,9,-999.0000,9,-999.0000,9,-999.0000,9,-999.0000,9,   7.8253,     -999.0,-999.000,     -999.0,          9,     -999.0,          9,-999.000,          9
 33RO200501,       A16S,      34,          1,         30,         30,2,20050126,       0658,   -45.5005,   -31.1982,       5113,   141.1,   6.7522,  34.3429,2,  34.3423,2,    255.4,2,   260.9,2,    7.67,2,   22.54,2,    0.02,2,    1.47,2,-999.000,9,-999.000,9,-999.000,9,  -999.0,9,  -999.0,9,  -999.0,9,   20.00,-999.0000,9,    25.00,-999.000,9, -999.00,-999.000,9,-999.000,9, -999.00,9,  -999.0,9,  -999.0,-999.000,9,-999.000,-999.000,9, -999.00,9,  141.10,-999.0000,9,-999.0000,9,-999.0000,9,-999.0000,9,-999.0000,9,-999.0000,9,   6.7395,     -999.0,-999.000,     13.495,          2,      0.582,          2,   0.134,          2
 33RO200501,       A16S,      34,          1,         29,         29,2,20050126,       0658,   -45.5005,   -31.1982,       5113,   166.9,   5.6099,  34.2178,2,  34.2291,2,    249.3,2,   249.8,2,    8.74,2,   23.94,2,    0.04,2,    1.56,2,-999.000,9,-999.000,9,-999.000,9,  -999.0,9,  -999.0,9,  -999.0,9,   20.00,-999.0000,9,    25.00,-999.000,9, -999.00,-999.000,9,-999.000,9, -999.00,9,  -999.0,9,  -999.0,-999.000,9,-999.000,-999.000,9, -999.00,9,  166.90,-999.0000,9,-999.0000,9,-999.0000,9,-999.0000,9,-999.0000,9,-999.0000,9,   5.5963,     -999.0,-999.000,     -999.0,          9,     -999.0,          9,-999.000,          9
 33RO200501,       A16S,      34,          1,         28,         28,2,20050126,       0658,   -45.5005,   -31.1982,       5113,   191.5,   5.4411,  34.2022,2,  34.2027,2,    263.5,2,   262.2,2,    9.13,2,   24.35,2,    0.04,2,    1.59,2,-999.000,9,-999.000,9,-999.000,9,  -999.0,9,  -999.0,9,  -999.0,9,   20.00,-999.0000,9,    25.00,-999.000,9, -999.00,-999.000,9,-999.000,9, -999.00,9,  -999.0,9,  -999.0,-999.000,9,-999.000,-999.000,9, -999.00,9,  191.50,-999.0000,9,-999.0000,9,-999.0000,9,-999.0000,9,-999.0000,9,-999.0000,9,   5.4257,     -999.0,-999.000,     10.121,          2,      0.374,          2,   0.178,          2
 33RO200501,       A16S,      34,          1,         27,         27,2,20050126,       0658,   -45.5005,   -31.1982,       5113,   220.8,   5.1317,  34.1898,2,  34.1905,2,    268.7,2,   259.0,2,   10.06,2,   25.41,2,    0.03,2,    1.65,2,   4.294,2,   2.361,2,   0.332,2,  2148.4,2,  2283.5,2,  -999.0,9,   20.00,   7.7070,2,    25.00,-999.000,9, -999.00,-999.000,9,-999.000,9, -999.00,9,  -999.0,9,  -999.0,-999.000,9,-999.000,   3.537,3, -999.00,9,  220.80,-999.0000,9,-999.0000,9,-999.0000,9,-999.0000,9,-999.0000,9,-999.0000,9,   5.1145,     -999.0,-999.000,     -999.0,          9,     -999.0,          9,-999.000,          9
 33RO200501,       A16S,      34,          1,         26,         26,2,20050126,       0658,   -45.5005,   -31.1982,       5113,   277.2,   4.6648,  34.1685,2,  34.1692,2,    268.3,2,   265.4,2,   11.69,2,   25.88,2,    0.02,2,    1.70,2,-999.000,9,-999.000,9,-999.000,9,  -999.0,9,  -999.0,9,  -999.0,9,   20.00,-999.0000,9,    25.00,-999.000,9, -999.00,-999.000,9,-999.000,9, -999.00,9,  -999.0,9,  -999.0,-999.000,9,-999.000,-999.000,9, -999.00,9,  277.20,-999.0000,9,-999.0000,9,-999.0000,9,-999.0000,9,-999.0000,9,-999.0000,9,   4.6441,     -999.0,-999.000,     -999.0,          9,     -999.0,          9,-999.000,          9
 33RO200501,       A16S,      34,          1,         25,         25,2,20050126,       0658,   -45.5005,   -31.1982,       5113,   325.3,   4.2926,  34.1527,2,  34.1527,2,    266.9,2,   269.4,2,   13.48,2,   26.29,2,    0.01,2,    1.73,2,-999.000,9,-999.000,9,-999.000,9,  -999.0,9,  -999.0,9,  -999.0,9,   20.00,-999.0000,9,    25.00,-999.000,9, -999.00,-999.000,9,-999.000,9, -999.00,9,  -999.0,9,  -999.0,-999.000,9,-999.000,-999.000,9, -999.00,9,  325.30,-999.0000,9,-999.0000,9,-999.0000,9,-999.0000,9,-999.0000,9,-999.0000,9,   4.2691,     -999.0,-999.000,      7.504,          2,      0.314,          2,   0.089,          2
 33RO200501,       A16S,      34,          1,         24,         24,2,20050126,       0658,   -45.5005,   -31.1982,       5113,   373.8,   4.1227,  34.1555,2,  34.1559,2,    261.2,2,   266.3,2,   15.21,2,   26.91,2,    0.01,2,    1.77,2,-999.000,9,-999.000,9,-999.000,9,  -999.0,9,  -999.0,9,  -999.0,9,   20.00,-999.0000,9,    25.00,-999.000,9, -999.00,-999.000,9,-999.000,9, -999.00,9,  -999.0,9,  -999.0,-999.000,9,-999.000,-999.000,9, -999.00,9,  373.80,-999.0000,9,-999.0000,9,-999.0000,9,-999.0000,9,-999.0000,9,-999.0000,9,   4.0960,     -999.0,-999.000,     -999.0,          9,     -999.0,          9,-999.000,          9
 33RO200501,       A16S,      34,          1,         23,         23,2,20050126,       0658,   -45.5005,   -31.1982,       5113,   451.1,   3.7362,  34.1548,2,  34.1555,2,    257.0,2,   263.3,2,   18.79,2,   28.02,2,    0.01,2,    1.84,2,   3.978,2,   2.144,2,   0.308,2,  2163.3,2,  2291.3,2,  -999.0,9,   20.00,   7.6618,2,    25.00,-999.000,9, -999.00,-999.000,9,-999.000,9, -999.00,9,  -999.0,9,  -999.0,-999.000,9,-999.000,   3.509,3, -999.00,9,  451.10,-999.0000,9,-999.0000,9,-999.0000,9,-999.0000,9,-999.0000,9,-999.0000,9,   3.7052,     -999.0,-999.000,     -999.0,          9,     -999.0,          9,-999.000,          9
 33RO200501,       A16S,      34,          1,         22,         22,2,20050126,       0658,   -45.5005,   -31.1982,       5113,   550.8,   3.4447,  34.1854,2,  34.1855,2,    250.9,2,   250.9,2,   24.50,2,   29.57,2,    0.01,2,    1.95,2,-999.000,9,-999.000,9,-999.000,9,  -999.0,9,  -999.0,9,  -999.0,9,   20.00,-999.0000,9,    25.00,-999.000,9, -999.00,-999.000,9,-999.000,9, -999.00,9,  -999.0,9,  -999.0,-999.000,9,-999.000,-999.000,9, -999.00,9,  550.80,-999.0000,9,-999.0000,9,-999.0000,9,-999.0000,9,-999.0000,9,-999.0000,9,   3.4076,     -999.0,-999.000,      4.448,          2,      0.393,          2,   0.079,          2
 33RO200501,       A16S,      34,          1,         21,         21,2,20050126,       0658,   -45.5005,   -31.1982,       5113,   650.8,   3.0111,  34.2165,2,  34.2155,2,    239.0,2,   237.5,2,   33.09,2,   31.20,2,    0.00,2,    2.06,2,-999.000,9,-999.000,9,-999.000,9,  -999.0,9,  -999.0,9,  -999.0,9,   20.00,-999.0000,9,    25.00,-999.000,9, -999.00,-999.000,9,-999.000,9, -999.00,9,  -999.0,9,  -999.0,-999.000,9,-999.000,-999.000,9, -999.00,9,  650.80,-999.0000,9,-999.0000,9,-999.0000,9,-999.0000,9,-999.0000,9,-999.0000,9,   2.9690,     -999.0,-999.000,     -999.0,          9,     -999.0,          9,-999.000,          9
 33RO200501,       A16S,      34,          1,         20,         20,2,20050126,       0658,   -45.5005,   -31.1982,       5113,   751.6,   2.9170,  34.2938,2,  34.2947,2,    221.8,2,   216.2,2,   42.33,2,   32.60,2,    0.00,2,    2.18,2,-999.000,9,-999.000,9,-999.000,9,  -999.0,9,  -999.0,9,  -999.0,9,   20.00,-999.0000,9,    25.00,-999.000,9, -999.00,-999.000,9,-999.000,9, -999.00,9,  -999.0,9,  -999.0,-999.000,9,-999.000,-999.000,9, -999.00,9,  751.60,-999.0000,9,-999.0000,9,-999.0000,9,-999.0000,9,-999.0000,9,-999.0000,9,   2.8682,     -999.0,-999.000,     -999.0,          9,     -999.0,          9,-999.000,          9
 33RO200501,       A16S,      34,          1,         19,         19,2,20050126,       0658,   -45.5005,   -31.1982,       5113,   853.9,   2.7098,  34.3419,2,  34.3410,2,    207.3,2,   205.7,2,   49.78,2,   33.39,2,    0.00,2,    2.24,2,-999.000,9,-999.000,9,-999.000,9,  -999.0,9,  -999.0,9,  -999.0,9,   20.00,-999.0000,9,    25.00,-999.000,9, -999.00,-999.000,9,-999.000,9, -999.00,9,  -999.0,9,  -999.0,-999.000,9,-999.000,-999.000,9, -999.00,9,  853.90,-999.0000,9,-999.0000,9,-999.0000,9,-999.0000,9,-999.0000,9,-999.0000,9,   2.6550,     -999.0,-999.000,      5.278,          2,      0.475,          2,   0.110,          2
 33RO200501,       A16S,      34,          1,         18,         18,2,20050126,       0658,   -45.5005,   -31.1982,       5113,   952.5,   2.7284,  34.4123,2,  34.4146,2,    193.0,2,   191.5,2,   55.94,2,   33.71,2,    0.00,2,    2.28,2,   1.184,2,   0.604,2,   0.070,2,  2230.0,2,  2322.6,2,  -999.0,9,   20.00,   7.5784,2,    25.00,-999.000,9, -999.00,-999.000,9,-999.000,9, -999.00,9,  -999.0,9,  -999.0,-999.000,9,-999.000,   1.318,3, -999.00,9,  952.50,-999.0000,9,-999.0000,9,-999.0000,9,-999.0000,9,-999.0000,9,-999.0000,9,   2.6663,     -999.0,-999.000,     -999.0,          9,     -999.0,          9,-999.000,          9
 33RO200501,       A16S,      34,          1,         17,         17,2,20050126,       0658,   -45.5005,   -31.1982,       5113,  1102.2,   2.7045,  34.4933,2,  34.4918,2,    182.0,2,   181.5,2,   61.78,2,   33.76,2,    0.00,2,    2.29,2,   0.717,2,   0.366,2,   0.040,2,  2239.1,2,  -999.0,5,  -999.0,9,   20.00,   7.5787,2,    25.00,-999.000,9, -999.00,-999.000,9,-999.000,9, -999.00,9,  -999.0,9,  -999.0,-999.000,9,-999.000,   0.882,3, -999.00,9, 1102.20,-999.0000,9,-999.0000,9,-999.0000,9,-999.0000,9,-999.0000,9,-999.0000,9,   2.6313,     -999.0,-999.000,     -999.0,          9,     -999.0,          9,-999.000,          9
 33RO200501,       A16S,      34,          1,         16,         16,2,20050126,       0658,   -45.5005,   -31.1982,       5113,  1302.8,   2.6829,  34.5970,2,  34.5972,2,    177.7,2,   177.5,2,   66.87,2,   32.95,2,    0.00,2,    2.23,2,   0.359,2,   0.182,2,   0.019,2,  2243.7,2,  -999.0,5,  -999.0,9,   20.00,   7.5897,2,    25.00,-999.000,9, -999.00,-999.000,9,-999.000,9, -999.00,9,  -999.0,9,  -999.0,-999.000,9,-999.000,   0.522,3, -999.00,9, 1302.80,-999.0000,9,-999.0000,9,-999.0000,9,-999.0000,9,-999.0000,9,-999.0000,9,   2.5943,     -999.0,-999.000,      7.524,          2,      0.340,          2,   0.059,          2
 33RO200501,       A16S,      34,          1,         15,         15,2,20050126,       0658,   -45.5005,   -31.1982,       5113,  1501.4,   2.6136,  34.6616,2,  34.6609,2,    178.9,2,   179.2,2,   70.62,2,   32.16,2,    0.00,2,    2.17,2,-999.000,9,-999.000,9,-999.000,9,  -999.0,9,  -999.0,9,  -999.0,9,   20.00,-999.0000,9,    25.00,-999.000,9, -999.00,-999.000,9,-999.000,9, -999.00,9,  -999.0,9,  -999.0,-999.000,9,-999.000,-999.000,9, -999.00,9, 1501.40,-999.0000,9,-999.0000,9,-999.0000,9,-999.0000,9,-999.0000,9,-999.0000,9,   2.5099,     -999.0,-999.000,     -999.0,          9,     -999.0,          9,-999.000,          9
 33RO200501,       A16S,      34,          1,         14,         14,2,20050126,       0658,   -45.5005,   -31.1982,       5113,  1701.2,   2.7205,  34.7375,2,  34.7377,2,    189.8,2,   190.3,2,   65.18,2,   30.00,2,    0.00,2,    2.02,2,-999.000,9,-999.000,9,-999.000,9,  -999.0,9,  -999.0,9,  -999.0,9,   20.00,-999.0000,9,    25.00,-999.000,9, -999.00,-999.000,9,-999.000,9, -999.00,9,  -999.0,9,  -999.0,-999.000,9,-999.000,-999.000,9, -999.00,9, 1701.20,-999.0000,9,-999.0000,9,-999.0000,9,-999.0000,9,-999.0000,9,-999.0000,9,   2.5988,     -999.0,-999.000,     -999.0,          9,     -999.0,          9,-999.000,          9
 33RO200501,       A16S,      34,          1,         13,         13,2,20050126,       0658,   -45.5005,   -31.1982,       5113,  1901.8,   2.7256,  34.7922,2,  34.7920,2,    201.0,2,   202.7,2,   60.89,2,   28.04,2,    0.00,2,    1.88,2,-999.000,9,-999.000,9,-999.000,9,  -999.0,9,  -999.0,9,  -999.0,9,   20.00,-999.0000,9,    25.00,-999.000,9, -999.00,-999.000,9,-999.000,9, -999.00,9,  -999.0,9,  -999.0,-999.000,9,-999.000,-999.000,9, -999.00,9, 1901.80,-999.0000,9,-999.0000,9,-999.0000,9,-999.0000,9,-999.0000,9,-999.0000,9,   2.5863,     -999.0,-999.000,      3.732,          2,      0.027,          2,   0.025,          2
 33RO200501,       A16S,      34,          1,         12,         12,2,20050126,       0658,   -45.5005,   -31.1982,       5113,  2100.4,   2.6121,  34.8093,2,  34.8085,2,    206.6,2,   208.0,2,   61.71,2,   27.38,2,    0.00,2,    1.84,2,-999.000,9,-999.000,9,-999.000,9,  -999.0,9,  -999.0,9,  -999.0,9,   20.00,-999.0000,9,    25.00,-999.000,9, -999.00,-999.000,9,-999.000,9, -999.00,9,  -999.0,9,  -999.0,-999.000,9,-999.000,-999.000,9, -999.00,9, 2100.40,-999.0000,9,-999.0000,9,-999.0000,9,-999.0000,9,-999.0000,9,-999.0000,9,   2.4569,     -999.0,-999.000,     -999.0,          9,     -999.0,          9,-999.000,          9
 33RO200501,       A16S,      34,          1,         11,         11,2,20050126,       0658,   -45.5005,   -31.1982,       5113,  2301.7,   2.5210,  34.8285,2,  34.8290,2,    214.8,2,   215.6,2,   59.78,2,   26.31,2,    0.00,2,    1.78,2,-999.000,9,-999.000,9,-999.000,9,  -999.0,9,  -999.0,9,  -999.0,9,   20.00,-999.0000,9,    25.00,-999.000,9, -999.00,-999.000,9,-999.000,9, -999.00,9,  -999.0,9,  -999.0,-999.000,9,-999.000,-999.000,9, -999.00,9, 2301.70,-999.0000,9,-999.0000,9,-999.0000,9,-999.0000,9,-999.0000,9,-999.0000,9,   2.3489,     -999.0,-999.000,     -999.0,          9,     -999.0,          9,-999.000,          9
 33RO200501,       A16S,      34,          1,         10,         10,2,20050126,       0658,   -45.5005,   -31.1982,       5113,  2495.1,   2.2716,  34.8103,2,  34.8103,2,    213.1,2,   212.8,2,   67.92,2,   27.15,2,    0.00,2,    1.84,2,-999.000,9,-999.000,9,-999.000,9,  -999.0,9,  -999.0,9,  -999.0,9,   20.00,-999.0000,9,    25.00,-999.000,9, -999.00,-999.000,9,-999.000,9, -999.00,9,  -999.0,9,  -999.0,-999.000,9,-999.000,-999.000,9, -999.00,9, 2495.10,-999.0000,9,-999.0000,9,-999.0000,9,-999.0000,9,-999.0000,9,-999.0000,9,   2.0861,     -999.0,-999.000,      1.386,          2,      0.116,          2,   0.026,          2
 33RO200501,       A16S,      34,          1,          9,          9,2,20050126,       0658,   -45.5005,   -31.1982,       5113,  2750.9,   1.8828,  34.7764,2,  34.7761,2,    207.3,2,   207.0,2,   83.06,2,   28.90,2,    0.00,2,    1.98,2,-999.000,9,-999.000,9,-999.000,9,  -999.0,9,  -999.0,9,  -999.0,9,   20.00,-999.0000,9,    25.00,-999.000,9, -999.00,-999.000,9,-999.000,9, -999.00,9,  -999.0,9,  -999.0,-999.000,9,-999.000,-999.000,9, -999.00,9, 2750.90,-999.0000,9,-999.0000,9,-999.0000,9,-999.0000,9,-999.0000,9,-999.0000,9,   1.6810,     -999.0,-999.000,     -999.0,          9,     -999.0,          9,-999.000,          9
 33RO200501,       A16S,      34,          1,          8,          8,2,20050126,       0658,   -45.5005,   -31.1982,       5113,  3051.3,   1.4153,  34.7303,2,  34.7307,2,    200.4,2,   200.4,2,  102.55,2,   31.28,2,    0.00,2,    2.15,2,-999.000,9,-999.000,9,-999.000,9,  -999.0,9,  -999.0,9,  -999.0,9,   20.00,-999.0000,9,    25.00,-999.000,9, -999.00,-999.000,9,-999.000,9, -999.00,9,  -999.0,9,  -999.0,-999.000,9,-999.000,-999.000,9, -999.00,9, 3051.30,-999.0000,9,-999.0000,9,-999.0000,9,-999.0000,9,-999.0000,9,-999.0000,9,   1.1952,     -999.0,-999.000,     -999.0,          9,     -999.0,          9,-999.000,          9