BOTTLE,20220818CCHSIOAMB
EXPOCODE,SECT_ID,STNNBR,CASTNO,SAMPNO,BTLNBR,BTLNBR_FLAG_W,DATE,TIME,LATITUDE,LONGITUDE,DEPTH,CTDPRS,CTDTMP,CTDSAL,CTDSAL_FLAG_W,SALNTY,SALNTY_FLAG_W,CTDOXY,CTDOXY_FLAG_W,OXYGEN,OXYGEN_FLAG_W,SILCAT,SILCAT_FLAG_W,NITRAT,NITRAT_FLAG_W,NITRIT,NITRIT_FLAG_W,PHSPHT,PHSPHT_FLAG_W,CFC-11,CFC-11_FLAG_W,CFC-12,CFC-12_FLAG_W,CFC113,CFC113_FLAG_W,TCARBN,TCARBN_FLAG_W,ALKALI,ALKALI_FLAG_W,PCO2,PCO2_FLAG_W,PCO2TMP,PH_SWS,PH_SWS_FLAG_W,PH_TMP,TRITUM,TRITUM_FLAG_W,TRITER,HELIUM,HELIUM_FLAG_W,DELHE3,DELHE3_FLAG_W,DELC13,DELC13_FLAG_W,DELC14,DELC14_FLAG_W,C14ERR,NEON,NEON_FLAG_W,NEONER,CCL4,CCL4_FLAG_W,DOC,DOC_FLAG_W,CTDRAW,CDOM325,CDOM325_FLAG_W,CDOM340,CDOM340_FLAG_W,CDOM380,CDOM380_FLAG_W,CDOM412,CDOM412_FLAG_W,CDOMSL,CDOMSL_FLAG_W,CDOMSN,CDOMSN_FLAG_W,THETA,HELIER,DELHER,CH3CL,CH3CL_FLAG_W,CH3BR,CH3BR_FLAG_W,CH3I,CH3I_FLAG_W
,,,,,,,,,,,METERS,DBAR,ITS-90,PSS-78,,PSS-78,,UMOL/KG,,UMOL/KG,,UMOL/KG,,UMOL/KG,,UMOL/KG,,UMOL/KG,,PMOL/KG,,PMOL/KG,,PMOL/KG,,UMOL/KG,,UMOL/KG,,UATM,,DEG C,,,DEG C,TU,,TU,NMOL/KG,,PERCNT,,/MILLE,,/MILLE,,/MILLE,NMOL/KG,,NMOL/KG,PMOL/KG,,UMOL/KG,,DBAR,1/M,,1/M,,1/M,,1/M,,1/NM,,1/NM,,DEG C,NMOL/KG,PERCNT,PMOL/KG,,PMOL/KG,,PMOL/KG,
 33RO200501,       A16S,      37,          1,         36,         36,2,20050127,       0552,   -43.9978,   -30.2668,       5200,     4.0,  11.1236,  34.2259,2,  34.2244,2,    277.8,2,   276.8,2,    0.33,2,    9.95,2,    0.14,2,    0.80,2,   3.605,2,   2.131,2,   0.307,2,  2065.3,6,  2285.4,2,   488.1,2,   20.00,   7.8862,2,    25.00,-999.000,9, -999.00,-999.000,9,-999.000,9, -999.00,9,  -999.0,9,  -999.0,-999.000,9,-999.000,   5.970,4,   58.36,2,    4.00,   0.1430,2,   0.1080,2,   0.0460,2,   0.0270,2,   0.0203,2,   0.0199,2,  11.1232,     -999.0,-999.000,     -999.0,          9,     -999.0,          9,-999.000,          9
 33RO200501,       A16S,      37,          1,         35,         35,2,20050127,       0552,   -43.9978,   -30.2668,       5200,    22.3,  11.1241,  34.2272,2,  34.2246,2,    278.1,2,   276.8,2,    0.35,2,    9.94,2,    0.14,2,    0.80,2,   3.553,2,   2.142,2,   0.303,2,  2063.4,2,  2285.7,6,   486.9,2,   20.00,   7.8936,6,    25.00,-999.000,9, -999.00,-999.000,9,-999.000,9, -999.00,9,  -999.0,9,  -999.0,-999.000,9,-999.000,   6.162,4, -999.00,9,   22.30,-999.0000,9,-999.0000,9,-999.0000,9,-999.0000,9,-999.0000,9,-999.0000,9,  11.1214,     -999.0,-999.000,     -999.0,          9,     -999.0,          9,-999.000,          9
 33RO200501,       A16S,      37,          1,         34,         34,2,20050127,       0552,   -43.9978,   -30.2668,       5200,    41.8,  10.8031,  34.2597,2,  34.2601,2,    276.1,2,   275.7,2,    0.32,2,   10.23,2,    0.14,2,    0.82,2,   3.756,2,   2.145,2,   0.312,2,  2065.6,2,  2289.7,2,   501.4,2,   20.00,   7.8860,6,    25.00,-999.000,9, -999.00,-999.000,9,-999.000,9, -999.00,9,  -999.0,9,  -999.0,-999.000,9,-999.000,   6.160,4,   55.22,2,   41.80,   0.2180,2,   0.1730,2,   0.0810,2,   0.0500,2,   0.0166,2,   0.0171,2,  10.7980,     -999.0,-999.000,     -999.0,          9,     -999.0,          9,-999.000,          9
 33RO200501,       A16S,      37,          1,         33,         33,2,20050127,       0552,   -43.9978,   -30.2668,       5200,    60.7,  10.4079,  34.2492,2,  34.2429,2,    275.8,2,   276.8,2,    0.26,2,   11.01,2,    0.15,2,    0.87,2,   3.719,2,   2.214,2,   0.310,2,  2072.3,2,  2287.2,2,   514.9,2,   20.00,   7.8832,2,    25.00,-999.000,9, -999.00,-999.000,9,-999.000,9, -999.00,9,  -999.0,9,  -999.0,-999.000,9,-999.000,   6.145,4, -999.00,9,   60.70,-999.0000,9,-999.0000,9,-999.0000,9,-999.0000,9,-999.0000,9,-999.0000,9,  10.4008,     -999.0,-999.000,     -999.0,          9,     -999.0,          9,-999.000,          9
 33RO200501,       A16S,      37,          1,         32,         32,2,20050127,       0552,   -43.9978,   -30.2668,       5200,    81.6,   8.5181,  34.2662,2,  34.2651,2,    285.0,2,   285.1,2,    0.31,2,   12.66,2,    0.19,2,    1.02,2,-999.000,9,-999.000,9,-999.000,9,  2091.3,2,  2287.3,2,   576.4,2,   20.00,   7.8389,2,    25.00,-999.000,9, -999.00,-999.000,9,-999.000,9, -999.00,9,  -999.0,9,  -999.0,-999.000,9,-999.000,-999.000,9,   50.62,2,   81.60,   0.1060,2,   0.0740,2,   0.0370,2,   0.0250,2,   0.0182,2,   0.0197,2,   8.5096,     -999.0,-999.000,     -999.0,          9,     -999.0,          9,-999.000,          9
 33RO200501,       A16S,      37,          1,         31,         31,2,20050127,       0552,   -43.9978,   -30.2668,       5200,   102.0,   7.7944,  34.2476,2,  34.2464,2,    284.4,2,   285.9,2,    1.48,2,   14.64,2,    0.25,2,    1.14,2,   4.279,2,   2.420,2,   0.366,2,  2101.5,2,  2287.3,2,   607.0,2,   20.00,   7.8177,2,    25.00,-999.000,9, -999.00,-999.000,9,-999.000,9, -999.00,9,  -999.0,9,  -999.0,-999.000,9,-999.000,   4.549,3, -999.00,9,  102.00,-999.0000,9,-999.0000,9,-999.0000,9,-999.0000,9,-999.0000,9,-999.0000,9,   7.7844,     -999.0,-999.000,     -999.0,          9,     -999.0,          9,-999.000,          9
 33RO200501,       A16S,      37,          1,         30,         30,2,20050127,       0552,   -43.9978,   -30.2668,       5200,   125.9,   7.2207,  34.2383,2,  34.2515,2,    280.2,2,   279.3,2,    4.02,2,   17.38,2,    0.26,2,    1.24,2,   4.288,2,   2.432,2,   0.355,2,  2111.9,2,  2285.3,2,  -999.0,9,   20.00,   7.7890,2,    25.00,-999.000,9, -999.00,-999.000,9,-999.000,9, -999.00,9,  -999.0,9,  -999.0,-999.000,9,-999.000,   4.359,3,   48.37,2,  125.90,   0.1500,2,   0.1170,2,   0.0540,2,   0.0360,2,   0.0170,2,   0.0175,2,   7.2089,     -999.0,-999.000,     -999.0,          9,     -999.0,          9,-999.000,          9
 33RO200501,       A16S,      37,          1,         29,         29,2,20050127,       0552,   -43.9978,   -30.2668,       5200,   151.4,   6.6244,  34.2838,2,  34.2712,2,    274.0,2,   268.0,2,    6.13,2,   20.52,2,    0.02,2,    1.37,2,   4.457,2,   2.359,2,   0.358,2,  2125.5,2,  2284.9,2,   714.2,2,   20.00,   7.7525,2,    25.00,-999.000,9, -999.00,-999.000,9,-999.000,9, -999.00,9,  -999.0,9,  -999.0,-999.000,9,-999.000,   3.867,3, -999.00,9,  151.40,-999.0000,9,-999.0000,9,-999.0000,9,-999.0000,9,-999.0000,9,-999.0000,9,   6.6108,     -999.0,-999.000,     -999.0,          9,     -999.0,          9,-999.000,          9
 33RO200501,       A16S,      37,          1,         28,         28,2,20050127,       0552,   -43.9978,   -30.2668,       5200,   177.3,   6.4145,  34.3154,2,  34.3128,2,    258.9,2,   255.6,2,    7.39,2,   22.15,2,    0.02,2,    1.46,2,-999.000,9,-999.000,9,-999.000,9,  2134.4,2,  2286.7,2,  -999.0,9,   20.00,   7.7332,2,    25.00,-999.000,9, -999.00,-999.000,9,-999.000,9, -999.00,9,  -999.0,9,  -999.0,-999.000,9,-999.000,-999.000,9,   47.49,2,  177.30,   0.1360,2,   0.1040,2,   0.0470,2,   0.0300,2,   0.0186,2,   0.0186,2,   6.3989,     -999.0,-999.000,     -999.0,          9,     -999.0,          9,-999.000,          9
 33RO200501,       A16S,      37,          1,         27,         27,2,20050127,       0552,   -43.9978,   -30.2668,       5200,   226.7,   5.3893,  34.2176,2,  34.2176,2,    256.3,2,   259.2,2,    9.50,2,   24.47,2,    0.01,2,    1.61,2,   4.345,2,   2.298,2,   0.340,2,  2146.4,2,  2284.2,2,   801.1,2,   20.00,   7.7184,2,    25.00,-999.000,9, -999.00,-999.000,9,-999.000,9, -999.00,9,  -999.0,9,  -999.0,-999.000,9,-999.000,   3.441,3,   46.30,2,  226.70,   0.0890,2,   0.0590,2,   0.0300,2,   0.0210,2,   0.0201,2,   0.0221,2,   5.3711,     -999.0,-999.000,     -999.0,          9,     -999.0,          9,-999.000,          9
 33RO200501,       A16S,      37,          1,         25,         25,2,20050127,       0552,   -43.9978,   -30.2668,       5200,   301.7,   4.5251,  34.1543,2,  34.1575,2,    266.0,2,   268.0,2,   11.63,2,   25.77,2,    0.01,2,    1.70,2,   4.384,2,   2.364,2,   0.353,2,  2150.3,2,  2282.1,2,   826.9,2,   20.00,   7.7010,2,    25.00,-999.000,9, -999.00,-999.000,9,-999.000,9, -999.00,9,  -999.0,9,  -999.0,-999.000,9,-999.000,   3.705,3, -999.00,9,  301.70,-999.0000,9,-999.0000,9,-999.0000,9,-999.0000,9,-999.0000,9,-999.0000,9,   4.5028,     -999.0,-999.000,     -999.0,          9,     -999.0,          9,-999.000,          9
 33RO200501,       A16S,      37,          1,         26,         26,2,20050127,       0552,   -43.9978,   -30.2668,       5200,   301.7,   4.5380,  34.1558,2,  34.1573,2,    266.0,2,   268.2,2,   11.75,2,   25.79,2,    0.01,2,    1.70,2,   4.411,2,   2.368,2,   0.355,2,  2151.1,2,  2283.9,2,   821.9,2,   20.00,   7.6971,2,    25.00,-999.000,9, -999.00,-999.000,9,-999.000,9, -999.00,9,  -999.0,9,  -999.0,-999.000,9,-999.000,   3.666,3,   45.60,2,  301.70,-999.0000,9,-999.0000,9,-999.0000,9,-999.0000,9,-999.0000,9,-999.0000,9,   4.5156,     -999.0,-999.000,     -999.0,          9,     -999.0,          9,-999.000,          9
 33RO200501,       A16S,      37,          1,         24,         24,2,20050127,       0552,   -43.9978,   -30.2668,       5200,   351.2,   4.2773,  34.1578,2,  34.1583,2,    267.2,2,   264.5,2,   13.69,2,   26.65,2,    0.01,2,    1.76,2,   4.368,2,   2.293,2,   0.344,2,  2154.7,2,  2286.3,2,   849.2,2,   20.00,   7.7016,2,    25.00,-999.000,9, -999.00,-999.000,9,-999.000,9, -999.00,9,  -999.0,9,  -999.0,-999.000,9,-999.000,   3.516,3,   44.37,2,  351.20,   0.1420,2,   0.1060,2,   0.0490,2,   0.0310,2,   0.0182,2,   0.0186,2,   4.2519,     -999.0,-999.000,     -999.0,          9,     -999.0,          9,-999.000,          9
 33RO200501,       A16S,      37,          1,         23,         23,2,20050127,       0552,   -43.9978,   -30.2668,       5200,   402.1,   4.0729,  34.1629,2,  34.1628,2,    263.3,2,   262.8,2,   15.66,2,   27.35,2,    0.01,2,    1.80,2,   4.110,2,   2.191,2,   0.316,2,  2159.0,2,  1722.4,3,  1009.0,4,   20.00,   7.6842,2,    25.00,-999.000,9, -999.00,-999.000,9,-999.000,9, -999.00,9,  -999.0,9,  -999.0,-999.000,9,-999.000,   3.662,3,   43.47,2,  402.10,-999.0000,9,-999.0000,9,-999.0000,9,-999.0000,9,-999.0000,9,-999.0000,9,   4.0443,     -999.0,-999.000,     -999.0,          9,     -999.0,          9,-999.000,          9
 33RO200501,       A16S,      37,          1,         22,         22,2,20050127,       0552,   -43.9978,   -30.2668,       5200,   503.7,   3.6335,  34.1634,2,  34.1610,2,    259.1,2,   258.6,2,   20.09,2,   28.59,2,    0.01,2,    1.88,2,-999.000,9,-999.000,9,-999.000,9,  2167.7,2,  2291.4,2,   894.1,2,   20.00,   7.6698,2,    25.00,-999.000,9, -999.00,-999.000,9,-999.000,9, -999.00,9,  -999.0,9,  -999.0,-999.000,9,-999.000,-999.000,9,   42.49,2,  503.70,   0.1390,2,   0.1020,2,   0.0490,2,   0.0310,2,   0.0180,2,   0.0184,2,   3.5990,     -999.0,-999.000,     -999.0,          9,     -999.0,          9,-999.000,          9
 33RO200501,       A16S,      37,          1,         21,         21,2,20050127,       0552,   -43.9978,   -30.2668,       5200,   601.7,   3.2902,  34.1916,2,  34.1912,2,    246.5,2,   246.5,2,   26.79,2,   30.08,2,    0.01,2,    1.99,2,   3.384,2,   1.786,2,   0.243,2,  2179.2,2,  2295.4,2,   945.2,2,   20.00,   7.6484,2,    25.00,-999.000,9, -999.00,-999.000,9,-999.000,9, -999.00,9,  -999.0,9,  -999.0,-999.000,9,-999.000,   3.180,3, -999.00,9,  601.70,-999.0000,9,-999.0000,9,-999.0000,9,-999.0000,9,-999.0000,9,-999.0000,9,   3.2502,     -999.0,-999.000,     -999.0,          9,     -999.0,          9,-999.000,          9
 33RO200501,       A16S,      37,          1,         20,         20,2,20050127,       0552,   -43.9978,   -30.2668,       5200,   700.3,   3.0632,  34.2357,2,  34.2357,2,    231.6,2,   232.6,2,   33.84,6,   31.31,6,    0.00,6,    2.08,6,-999.000,9,-999.000,9,-999.000,9,  2192.6,2,  2303.3,2,   999.6,2,   20.00,   7.6264,2,    25.00,-999.000,9, -999.00,-999.000,9,-999.000,9, -999.00,9,  -999.0,9,  -999.0,-999.000,9,-999.000,-999.000,9,   41.42,2,  700.30,   0.1220,2,   0.0860,2,   0.0450,2,   0.0300,2,   0.0163,2,   0.0177,2,   3.0173,     -999.0,-999.000,     -999.0,          9,     -999.0,          9,-999.000,          9
 33RO200501,       A16S,      37,          1,         19,         19,2,20050127,       0552,   -43.9978,   -30.2668,       5200,   801.6,   2.9678,  34.3118,2,  34.3101,2,    213.6,2,   212.4,2,   42.15,2,   32.62,2,    0.00,2,    2.17,2,   1.964,2,   0.986,2,   0.128,2,  2209.7,2,  2313.3,2,  1064.4,2,   20.00,   7.6120,2,    25.00,-999.000,9, -999.00,-999.000,9,-999.000,9, -999.00,9,  -999.0,9,  -999.0,-999.000,9,-999.000,   1.923,3, -999.00,9,  801.60,-999.0000,9,-999.0000,9,-999.0000,9,-999.0000,9,-999.0000,9,-999.0000,9,   2.9151,     -999.0,-999.000,     -999.0,          9,     -999.0,          9,-999.000,          9
 33RO200501,       A16S,      37,          1,         18,         18,2,20050127,       0552,   -43.9978,   -30.2668,       5200,   902.1,   2.8633,  34.3630,2,  34.3635,2,    202.3,2,   200.5,2,   48.44,2,   33.29,2,    0.00,2,    2.23,2,-999.000,5,-999.000,5,-999.000,5,  2220.2,2,  2317.1,2,  1103.1,2,   20.00,   7.5875,6,    25.00,-999.000,9, -999.00,-999.000,9,-999.000,9, -999.00,9,  -999.0,9,  -999.0,-999.000,9,-999.000,-999.000,5,   40.67,2,  902.10,   0.1590,2,   0.1220,2,   0.0550,2,   0.0330,2,   0.0190,2,   0.0187,2,   2.8039,     -999.0,-999.000,     -999.0,          9,     -999.0,          9,-999.000,          9
 33RO200501,       A16S,      37,          1,         17,         17,2,20050127,       0552,   -43.9978,   -30.2668,       5200,  1001.1,   2.8297,  34.4226,2,  34.4235,2,    192.1,2,   190.5,2,   53.66,2,   33.57,2,    0.00,2,    2.26,2,   1.051,2,   0.494,3,   0.060,2,  2230.0,2,  2324.0,2,  1126.7,2,   20.00,   7.5816,2,    25.00,-999.000,9, -999.00,-999.000,9,-999.000,9, -999.00,9,  -999.0,9,  -999.0,-999.000,9,-999.000,   1.201,3,   39.06,2, 1001.10,-999.0000,9,-999.0000,9,-999.0000,9,-999.0000,9,-999.0000,9,-999.0000,9,   2.7632,     -999.0,-999.000,     -999.0,          9,     -999.0,          9,-999.000,          9
 33RO200501,       A16S,      37,          1,         16,         16,2,20050127,       0552,   -43.9978,   -30.2668,       5200,  1200.2,   2.7070,  34.5140,2,  34.5134,2,    180.3,2,   180.2,2,   62.80,6,   33.73,6,    0.00,6,    2.28,6,-999.000,9,-999.000,9,-999.000,9,  2240.7,2,  2334.2,2,  -999.0,9,   20.00,   7.5912,3,    25.00,-999.000,9, -999.00,-999.000,9,-999.000,9, -999.00,9,  -999.0,9,  -999.0,-999.000,9,-999.000,-999.000,9,   39.18,2, 1200.20,   0.1570,2,   0.1150,2,   0.0550,3,   0.0370,3,   0.0166,3,   0.0179,3,   2.6263,     -999.0,-999.000,     -999.0,          9,     -999.0,          9,-999.000,          9
 33RO200501,       A16S,      37,          1,         15,         15,2,20050127,       0552,   -43.9978,   -30.2668,       5200,  1401.2,   2.6574,  34.6046,2,  34.6040,2,    176.3,2,   176.2,2,   68.13,2,   33.09,2,    0.00,2,    2.23,2,   0.370,2,   0.185,3,   0.018,2,  2245.2,2,  2341.5,2,  1137.3,2,   20.00,   7.5835,2,    25.00,-999.000,9, -999.00,-999.000,9,-999.000,9, -999.00,9,  -999.0,9,  -999.0,-999.000,9,-999.000,   0.508,3,   38.71,2, 1401.20,-999.0000,9,-999.0000,9,-999.0000,9,-999.0000,9,-999.0000,9,-999.0000,9,   2.5614,     -999.0,-999.000,     -999.0,          9,     -999.0,          9,-999.000,          9
 33RO200501,       A16S,      37,          1,         14,         14,2,20050127,       0552,   -43.9978,   -30.2668,       5200,  1602.7,   2.6616,  34.6872,2,  34.6867,2,    181.4,2,   181.9,2,   68.55,2,   31.53,2,    0.00,2,    2.13,2,   0.191,2,   0.101,2,   0.009,2,  2242.8,2,  2346.1,2,  -999.0,9,   20.00,   7.6037,2,    25.00,-999.000,9, -999.00,-999.000,9,-999.000,9, -999.00,9,  -999.0,9,  -999.0,-999.000,9,-999.000,   0.223,3,   38.74,2, 1602.70,-999.0000,9,-999.0000,9,-999.0000,9,-999.0000,9,-999.0000,9,-999.0000,9,   2.5490,     -999.0,-999.000,     -999.0,          9,     -999.0,          9,-999.000,          9
 33RO200501,       A16S,      37,          1,         13,         13,2,20050127,       0552,   -43.9978,   -30.2668,       5200,  1802.3,   2.5944,  34.7271,2,  34.7274,2,    187.6,2,   186.9,2,   69.52,2,   30.61,2,    0.00,2,    2.07,2,   0.163,2,   0.084,2,   0.003,2,  2240.8,2,  2347.9,2,  1052.0,2,   20.00,   7.6200,2,    25.00,-999.000,9, -999.00,-999.000,9,-999.000,9, -999.00,9,  -999.0,9,  -999.0,-999.000,9,-999.000,   0.284,3,   38.64,2, 1802.30,-999.0000,9,-999.0000,9,-999.0000,9,-999.0000,9,-999.0000,9,-999.0000,9,   2.4658,     -999.0,-999.000,     -999.0,          9,     -999.0,          9,-999.000,          9
 33RO200501,       A16S,      37,          1,         12,         12,2,20050127,       0552,   -43.9978,   -30.2668,       5200,  1999.2,   2.5732,  34.7721,2,  34.7717,2,    197.4,2,   196.8,2,   66.79,6,   29.01,6,    0.00,6,    1.96,6,   0.112,2,   0.054,2,   0.001,2,  2233.1,2,  2346.8,2,   995.7,2,   20.00,   7.6359,2,    25.00,-999.000,9, -999.00,-999.000,9,-999.000,9, -999.00,9,  -999.0,9,  -999.0,-999.000,9,-999.000,   0.236,3,   38.98,2, 1999.20,   0.1870,2,   0.1420,2,   0.0680,2,   0.0440,2,   0.0166,2,   0.0174,2,   2.4277,     -999.0,-999.000,     -999.0,          9,     -999.0,          9,-999.000,          9
 33RO200501,       A16S,      37,          1,         11,         11,2,20050127,       0552,   -43.9978,   -30.2668,       5200,  2201.6,   2.5035,  34.7965,2,  34.7970,2,    205.8,2,   204.4,2,   64.93,2,   27.89,2,    0.00,2,    1.90,2,   0.085,2,   0.038,2,   0.003,2,  2227.0,2,  2347.3,2,   958.4,2,   20.00,   7.6510,2,    25.00,-999.000,9, -999.00,-999.000,9,-999.000,9, -999.00,9,  -999.0,9,  -999.0,-999.000,9,-999.000,   0.187,3,   39.13,2, 2201.60,-999.0000,9,-999.0000,9,-999.0000,9,-999.0000,9,-999.0000,9,-999.0000,9,   2.3409,     -999.0,-999.000,     -999.0,          9,     -999.0,          9,-999.000,          9
 33RO200501,       A16S,      37,          1,         10,         10,2,20050127,       0552,   -43.9978,   -30.2668,       5200,  2394.5,   2.3506,  34.8042,2,  34.8035,2,    209.0,2,   208.6,2,   67.08,2,   27.56,2,    0.00,2,    1.88,2,   0.065,2,   0.031,2,  -0.003,2,  2227.4,2,  2351.2,2,  -999.0,9,   20.00,   7.6550,2,    25.00,-999.000,9, -999.00,-999.000,9,-999.000,9, -999.00,9,  -999.0,9,  -999.0,-999.000,9,-999.000,   0.122,3, -999.00,9, 2394.50,-999.0000,9,-999.0000,9,-999.0000,9,-999.0000,9,-999.0000,9,-999.0000,9,   2.1730,     -999.0,-999.000,     -999.0,          9,     -999.0,          9,-999.000,          9
 33RO200501,       A16S,      37,          1,          9,          9,2,20050127,       0552,   -43.9978,   -30.2668,       5200,  2602.1,   2.1407,  34.8022,2,  34.8021,2,    212.2,2,   211.4,2,   71.49,2,   27.60,2,    0.00,2,    1.88,2,   0.065,2,   0.034,2,   0.003,2,  2227.4,2,  2354.0,2,   938.1,2,   20.00,   7.6548,2,    25.00,-999.000,9, -999.00,-999.000,9,-999.000,9, -999.00,9,  -999.0,9,  -999.0,-999.000,9,-999.000,   0.139,3,   39.21,2, 2602.10,-999.0000,9,-999.0000,9,-999.0000,9,-999.0000,9,-999.0000,9,-999.0000,9,   1.9477,     -999.0,-999.000,     -999.0,          9,     -999.0,          9,-999.000,          9
 33RO200501,       A16S,      37,          1,          8,          8,2,20050127,       0552,   -43.9978,   -30.2668,       5200,  2801.9,   1.8560,  34.7762,2,  34.7760,2,    205.9,2,   207.2,2,   83.36,6,   28.96,6,    0.00,6,    1.99,6,   0.074,2,   0.039,2,   0.008,2,  2236.8,2,  2365.2,3,   976.4,2,   20.00,   7.6515,2,    25.00,-999.000,9, -999.00,-999.000,9,-999.000,9, -999.00,9,  -999.0,9,  -999.0,-999.000,9,-999.000,   0.135,3, -999.00,9, 2801.90,   0.1570,2,   0.1150,2,   0.0600,2,   0.0400,2,   0.0153,2,   0.0166,2,   1.6499,     -999.0,-999.000,     -999.0,          9,     -999.0,          9,-999.000,          9