BOTTLE,20220818CCHSIOAMB
EXPOCODE,SECT_ID,STNNBR,CASTNO,SAMPNO,BTLNBR,BTLNBR_FLAG_W,DATE,TIME,LATITUDE,LONGITUDE,DEPTH,CTDPRS,CTDTMP,CTDSAL,CTDSAL_FLAG_W,SALNTY,SALNTY_FLAG_W,CTDOXY,CTDOXY_FLAG_W,OXYGEN,OXYGEN_FLAG_W,SILCAT,SILCAT_FLAG_W,NITRAT,NITRAT_FLAG_W,NITRIT,NITRIT_FLAG_W,PHSPHT,PHSPHT_FLAG_W,CFC-11,CFC-11_FLAG_W,CFC-12,CFC-12_FLAG_W,CFC113,CFC113_FLAG_W,TCARBN,TCARBN_FLAG_W,ALKALI,ALKALI_FLAG_W,PCO2,PCO2_FLAG_W,PCO2TMP,PH_SWS,PH_SWS_FLAG_W,PH_TMP,TRITUM,TRITUM_FLAG_W,TRITER,HELIUM,HELIUM_FLAG_W,DELHE3,DELHE3_FLAG_W,DELC13,DELC13_FLAG_W,DELC14,DELC14_FLAG_W,C14ERR,NEON,NEON_FLAG_W,NEONER,CCL4,CCL4_FLAG_W,DOC,DOC_FLAG_W,CTDRAW,CDOM325,CDOM325_FLAG_W,CDOM340,CDOM340_FLAG_W,CDOM380,CDOM380_FLAG_W,CDOM412,CDOM412_FLAG_W,CDOMSL,CDOMSL_FLAG_W,CDOMSN,CDOMSN_FLAG_W,THETA,HELIER,DELHER,CH3CL,CH3CL_FLAG_W,CH3BR,CH3BR_FLAG_W,CH3I,CH3I_FLAG_W
,,,,,,,,,,,METERS,DBAR,ITS-90,PSS-78,,PSS-78,,UMOL/KG,,UMOL/KG,,UMOL/KG,,UMOL/KG,,UMOL/KG,,UMOL/KG,,PMOL/KG,,PMOL/KG,,PMOL/KG,,UMOL/KG,,UMOL/KG,,UATM,,DEG C,,,DEG C,TU,,TU,NMOL/KG,,PERCNT,,/MILLE,,/MILLE,,/MILLE,NMOL/KG,,NMOL/KG,PMOL/KG,,UMOL/KG,,DBAR,1/M,,1/M,,1/M,,1/M,,1/NM,,1/NM,,DEG C,NMOL/KG,PERCNT,PMOL/KG,,PMOL/KG,,PMOL/KG,
 33RO200501,       A16S,      27,          1,         36,         36,2,20050123,       2250,   -49.0007,   -33.3780,       4802,     4.2,   7.1439,  33.8378,2,  33.8375,2,    305.9,2,   306.9,2,    2.12,2,   18.65,2,    0.20,2,    1.28,2,   4.561,2,   2.585,2,   0.403,2,  2095.6,6,  2267.7,2,  -999.0,9,   20.00,   7.8174,2,    25.00,-999.000,9, -999.00,-999.000,9,-999.000,9, -999.00,9,  -999.0,9,  -999.0,-999.000,9,-999.000,   5.697,4,   48.87,2,    4.20,-999.0000,9,-999.0000,9,-999.0000,9,-999.0000,9,-999.0000,9,-999.0000,9,   7.1435,     -999.0,-999.000,     -999.0,          9,     -999.0,          9,-999.000,          9
 33RO200501,       A16S,      27,          1,         35,         35,2,20050123,       2250,   -49.0007,   -33.3780,       4802,    25.4,   7.0004,  33.8221,2,  33.8259,2,    310.3,2,   308.8,2,    2.28,2,   18.85,2,    0.20,2,    1.28,2,   4.595,2,   2.600,2,   0.408,2,  2096.1,2,  2270.8,6,  -999.0,9,   20.00,   7.8152,2,    25.00,-999.000,9, -999.00,-999.000,9,-999.000,9, -999.00,9,  -999.0,9,  -999.0,-999.000,9,-999.000,   5.839,4,   48.18,2,   25.40,-999.0000,9,-999.0000,9,-999.0000,9,-999.0000,9,-999.0000,9,-999.0000,9,   6.9981,     -999.0,-999.000,     -999.0,          9,     -999.0,          9,-999.000,          9
 33RO200501,       A16S,      27,          1,         34,         34,2,20050123,       2250,   -49.0007,   -33.3780,       4802,    50.8,   4.5197,  34.0031,2,  34.0042,2,    310.7,2,   310.9,2,    8.92,2,   22.38,2,    0.20,2,    1.65,2,   4.433,4,   2.526,4,   0.427,4,  2131.9,2,  2276.6,2,  -999.0,9,   20.00,   7.7428,2,    25.00,-999.000,9, -999.00,-999.000,9,-999.000,9, -999.00,9,  -999.0,9,  -999.0,-999.000,9,-999.000,   4.308,4, -999.00,9,   50.80,-999.0000,9,-999.0000,9,-999.0000,9,-999.0000,9,-999.0000,9,-999.0000,9,   4.5160,     -999.0,-999.000,     -999.0,          9,     -999.0,          9,-999.000,          9
 33RO200501,       A16S,      27,          1,         33,         33,2,20050123,       2250,   -49.0007,   -33.3780,       4802,    71.2,   3.7628,  34.0239,2,  34.0234,2,    310.4,2,   310.7,2,   11.83,2,   23.57,2,    0.29,2,    1.66,2,-999.000,9,-999.000,9,-999.000,9,  2137.5,2,  2275.0,2,  -999.0,9,   20.00,   7.7394,2,    25.00,-999.000,9, -999.00,-999.000,9,-999.000,9, -999.00,9,  -999.0,9,  -999.0,-999.000,9,-999.000,-999.000,9,   47.29,2,   71.20,-999.0000,9,-999.0000,9,-999.0000,9,-999.0000,9,-999.0000,9,-999.0000,9,   3.7581,     -999.0,-999.000,     -999.0,          9,     -999.0,          9,-999.000,          9
 33RO200501,       A16S,      27,          1,         32,         32,2,20050123,       2250,   -49.0007,   -33.3780,       4802,    90.9,   3.4989,  34.0452,2,  34.0455,2,    307.4,2,   307.5,2,   12.70,2,   24.45,2,    0.36,2,    1.67,2,   4.569,4,   2.582,4,   0.410,4,  2138.8,2,  2274.1,2,  -999.0,9,   20.00,   7.7291,2,    25.00,-999.000,9, -999.00,-999.000,9,-999.000,9, -999.00,9,  -999.0,9,  -999.0,-999.000,9,-999.000,   4.114,4, -999.00,9,   90.90,-999.0000,9,-999.0000,9,-999.0000,9,-999.0000,9,-999.0000,9,-999.0000,9,   3.4931,     -999.0,-999.000,     -999.0,          9,     -999.0,          9,-999.000,          9
 33RO200501,       A16S,      27,          1,         31,         31,2,20050123,       2250,   -49.0007,   -33.3780,       4802,   115.7,   3.1616,  34.0485,2,  34.0487,2,    303.9,2,   303.5,2,   13.95,2,   25.44,2,    0.03,2,    1.71,2,   4.901,2,   2.676,2,   0.418,2,  2144.5,2,  2273.3,2,  -999.0,9,   20.00,   7.7200,2,    25.00,-999.000,9, -999.00,-999.000,9,-999.000,9, -999.00,9,  -999.0,9,  -999.0,-999.000,9,-999.000,   4.887,3,   45.04,2,  115.70,-999.0000,9,-999.0000,9,-999.0000,9,-999.0000,9,-999.0000,9,-999.0000,9,   3.1545,     -999.0,-999.000,     -999.0,          9,     -999.0,          9,-999.000,          9
 33RO200501,       A16S,      27,          1,         30,         30,2,20050123,       2250,   -49.0007,   -33.3780,       4802,   141.6,   2.9146,  34.0357,2,  34.0369,2,    303.2,2,   303.9,2,   14.86,2,   25.83,2,    0.01,2,    1.73,2,-999.000,9,-999.000,9,-999.000,9,  2146.7,2,  2275.9,2,  -999.0,9,   20.00,   7.7147,2,    25.00,-999.000,9, -999.00,-999.000,9,-999.000,9, -999.00,9,  -999.0,9,  -999.0,-999.000,9,-999.000,-999.000,9, -999.00,9,  141.60,-999.0000,9,-999.0000,9,-999.0000,9,-999.0000,9,-999.0000,9,-999.0000,9,   2.9062,     -999.0,-999.000,     -999.0,          9,     -999.0,          9,-999.000,          9
 33RO200501,       A16S,      27,          1,         29,         29,2,20050123,       2250,   -49.0007,   -33.3780,       4802,   167.1,   2.8463,  34.0453,2,  34.0461,2,    301.3,2,   299.8,2,   15.88,2,   26.21,2,    0.01,2,    1.75,2,   4.847,2,   2.644,2,   0.409,2,  2149.0,2,  2278.1,2,  -999.0,9,   20.00,   7.7048,2,    25.00,-999.000,9, -999.00,-999.000,9,-999.000,9, -999.00,9,  -999.0,9,  -999.0,-999.000,9,-999.000,   4.787,3,   43.68,2,  167.10,-999.0000,9,-999.0000,9,-999.0000,9,-999.0000,9,-999.0000,9,-999.0000,9,   2.8364,     -999.0,-999.000,     -999.0,          9,     -999.0,          9,-999.000,          9
 33RO200501,       A16S,      27,          1,         28,         28,2,20050123,       2250,   -49.0007,   -33.3780,       4802,   184.4,   2.7069,  34.0456,2,  34.0466,2,    299.5,2,   297.1,2,   17.27,2,   26.71,2,    0.01,2,    1.78,2,   4.818,2,   2.598,2,   0.416,2,  2153.1,2,  2276.9,2,  -999.0,9,   20.00,   7.7017,2,    25.00,-999.000,9, -999.00,-999.000,9,-999.000,9, -999.00,9,  -999.0,9,  -999.0,-999.000,9,-999.000,   4.835,3, -999.00,9,  184.40,-999.0000,9,-999.0000,9,-999.0000,9,-999.0000,9,-999.0000,9,-999.0000,9,   2.6962,     -999.0,-999.000,     -999.0,          9,     -999.0,          9,-999.000,          9
 33RO200501,       A16S,      27,          1,         27,         27,2,20050123,       2250,   -49.0007,   -33.3780,       4802,   226.6,   2.4874,  34.0460,2,  34.0464,2,    293.5,2,   293.1,2,   19.46,2,   27.36,2,    0.01,2,    1.82,2,-999.000,9,-999.000,9,-999.000,9,  2158.0,2,  2277.9,2,  -999.0,9,   20.00,   7.6995,2,    25.00,-999.000,9, -999.00,-999.000,9,-999.000,9, -999.00,9,  -999.0,9,  -999.0,-999.000,9,-999.000,-999.000,9,   42.92,2,  226.60,-999.0000,9,-999.0000,9,-999.0000,9,-999.0000,9,-999.0000,9,-999.0000,9,   2.4745,     -999.0,-999.000,     -999.0,          9,     -999.0,          9,-999.000,          9
 33RO200501,       A16S,      27,          1,         26,         26,2,20050123,       2250,   -49.0007,   -33.3780,       4802,   278.1,   2.6980,  34.1171,2,  34.1169,2,    269.3,2,   268.4,2,   25.07,2,   28.96,2,    0.01,2,    1.92,2,   3.981,2,   2.120,2,   0.323,2,  2172.1,2,  2282.9,2,  -999.0,9,   20.00,   7.6649,2,    25.00,-999.000,9, -999.00,-999.000,9,-999.000,9, -999.00,9,  -999.0,9,  -999.0,-999.000,9,-999.000,   3.873,3,   42.44,2,  278.10,-999.0000,9,-999.0000,9,-999.0000,9,-999.0000,9,-999.0000,9,-999.0000,9,   2.6815,     -999.0,-999.000,     -999.0,          9,     -999.0,          9,-999.000,          9
 33RO200501,       A16S,      27,          1,         25,         25,2,20050123,       2250,   -49.0007,   -33.3780,       4802,   325.1,   2.7413,  34.1614,2,  34.1597,2,    253.9,2,   254.3,2,   29.48,2,   30.02,2,    0.01,2,    2.00,2,   3.582,2,   1.886,2,   0.282,2,  2181.9,2,  2286.3,2,  -999.0,9,   20.00,   7.6403,2,    25.00,-999.000,9, -999.00,-999.000,9,-999.000,9, -999.00,9,  -999.0,9,  -999.0,-999.000,9,-999.000,   3.449,3, -999.00,9,  325.10,-999.0000,9,-999.0000,9,-999.0000,9,-999.0000,9,-999.0000,9,-999.0000,9,   2.7219,     -999.0,-999.000,     -999.0,          9,     -999.0,          9,-999.000,          9
 33RO200501,       A16S,      27,          1,         24,         24,2,20050123,       2250,   -49.0007,   -33.3780,       4802,   377.1,   2.8457,  34.2204,2,  34.2205,2,    236.6,2,   236.2,2,   35.06,2,   31.10,2,    0.01,2,    2.08,2,   2.982,2,   1.557,2,   0.224,2,  2194.1,2,  2295.6,2,  -999.0,9,   20.00,   7.6413,2,    25.00,-999.000,9, -999.00,-999.000,9,-999.000,9, -999.00,9,  -999.0,9,  -999.0,-999.000,9,-999.000,   2.903,3,   42.04,2,  377.10,-999.0000,9,-999.0000,9,-999.0000,9,-999.0000,9,-999.0000,9,-999.0000,9,   2.8226,     -999.0,-999.000,     -999.0,          9,     -999.0,          9,-999.000,          9
 33RO200501,       A16S,      27,          1,         23,         23,2,20050123,       2250,   -49.0007,   -33.3780,       4802,   451.8,   2.7127,  34.2748,2,  34.2725,2,    221.0,2,   221.2,2,   42.76,6,   32.33,6,    0.01,6,    2.18,6,-999.000,9,-999.000,9,-999.000,9,  2207.3,2,  2302.0,2,  -999.0,9,   20.00,   7.6031,2,    25.00,-999.000,9, -999.00,-999.000,9,-999.000,9, -999.00,9,  -999.0,9,  -999.0,-999.000,9,-999.000,-999.000,9,   41.15,2,  451.80,-999.0000,9,-999.0000,9,-999.0000,9,-999.0000,9,-999.0000,9,-999.0000,9,   2.6852,     -999.0,-999.000,     -999.0,          9,     -999.0,          9,-999.000,          9
 33RO200501,       A16S,      27,          1,         22,         22,2,20050123,       2250,   -49.0007,   -33.3780,       4802,   551.4,   2.6129,  34.3605,2,  34.3596,2,    201.4,2,   201.6,2,   52.96,2,   33.51,2,    0.00,2,    2.27,2,   1.737,2,   0.880,2,   0.120,2,  2226.1,2,  2311.1,2,  -999.0,9,   20.00,   7.5903,2,    25.00,-999.000,9, -999.00,-999.000,9,-999.000,9, -999.00,9,  -999.0,9,  -999.0,-999.000,9,-999.000,   1.863,3,   40.82,2,  551.40,-999.0000,9,-999.0000,9,-999.0000,9,-999.0000,9,-999.0000,9,-999.0000,9,   2.5793,     -999.0,-999.000,     -999.0,          9,     -999.0,          9,-999.000,          9
 33RO200501,       A16S,      27,          1,         21,         21,2,20050123,       2250,   -49.0007,   -33.3780,       4802,   651.8,   2.4696,  34.4186,2,  34.4191,2,    190.5,2,   190.7,2,   60.77,2,   34.09,2,    0.00,2,    2.31,2,   1.332,2,   0.667,2,   0.089,2,  2236.3,2,  2320.5,2,  -999.0,9,   20.00,   7.5778,2,    25.00,-999.000,9, -999.00,-999.000,9,-999.000,9, -999.00,9,  -999.0,9,  -999.0,-999.000,9,-999.000,   1.485,3,   40.69,2,  651.80,-999.0000,9,-999.0000,9,-999.0000,9,-999.0000,9,-999.0000,9,-999.0000,9,   2.4300,     -999.0,-999.000,     -999.0,          9,     -999.0,          9,-999.000,          9
 33RO200501,       A16S,      27,          1,         20,         20,2,20050123,       2250,   -49.0007,   -33.3780,       4802,   750.0,   2.3693,  34.4741,2,  34.4701,2,    181.6,2,   182.7,2,   67.39,2,   34.41,2,    0.00,2,    2.33,2,-999.000,9,-999.000,9,-999.000,9,  2244.3,2,  2322.7,2,  -999.0,9,   20.00,   7.5620,2,    25.00,-999.000,9, -999.00,-999.000,9,-999.000,9, -999.00,9,  -999.0,9,  -999.0,-999.000,9,-999.000,-999.000,9, -999.00,9,  750.00,-999.0000,9,-999.0000,9,-999.0000,9,-999.0000,9,-999.0000,9,-999.0000,9,   2.3236,     -999.0,-999.000,     -999.0,          9,     -999.0,          9,-999.000,          9
 33RO200501,       A16S,      27,          1,         19,         19,2,20050123,       2250,   -49.0007,   -33.3780,       4802,   850.4,   2.3456,  34.5365,2,  34.5361,2,    176.5,2,   174.8,2,   73.53,6,   34.29,6,    0.00,6,    2.35,6,   0.666,2,   0.337,2,   0.036,2,  2252.9,2,  2330.0,6,  -999.0,9,   20.00,   7.5691,6,    25.00,-999.000,9, -999.00,-999.000,9,-999.000,9, -999.00,9,  -999.0,9,  -999.0,-999.000,9,-999.000,   0.832,3,   40.36,2,  850.40,-999.0000,9,-999.0000,9,-999.0000,9,-999.0000,9,-999.0000,9,-999.0000,9,   2.2932,     -999.0,-999.000,     -999.0,          9,     -999.0,          9,-999.000,          9
 33RO200501,       A16S,      27,          1,         18,         18,2,20050123,       2250,   -49.0007,   -33.3780,       4802,   950.2,   2.6605,  34.6277,2,  34.6279,2,    179.4,2,   178.7,2,   67.12,2,   32.42,2,    0.00,2,    2.20,2,   0.283,2,   0.135,2,   0.013,2,  2243.2,6,  2334.3,2,  -999.0,9,   20.00,   7.5895,2,    25.00,-999.000,9, -999.00,-999.000,9,-999.000,9, -999.00,9,  -999.0,9,  -999.0,-999.000,9,-999.000,   0.450,3,   39.97,2,  950.20,-999.0000,9,-999.0000,9,-999.0000,9,-999.0000,9,-999.0000,9,-999.0000,9,   2.5987,     -999.0,-999.000,     -999.0,          9,     -999.0,          9,-999.000,          9
 33RO200501,       A16S,      27,          1,         17,         17,2,20050123,       2250,   -49.0007,   -33.3780,       4802,  1049.6,   2.6316,  34.6661,2,  34.6658,2,    180.8,2,   180.4,2,   67.81,2,   31.73,2,    0.00,2,    2.16,2,-999.000,9,-999.000,9,-999.000,9,  2241.9,2,  2336.9,2,  -999.0,9,   20.00,   7.5892,4,    25.00,-999.000,9, -999.00,-999.000,9,-999.000,9, -999.00,9,  -999.0,9,  -999.0,-999.000,9,-999.000,-999.000,9,   39.54,2, 1049.60,-999.0000,9,-999.0000,9,-999.0000,9,-999.0000,9,-999.0000,9,-999.0000,9,   2.5627,     -999.0,-999.000,     -999.0,          9,     -999.0,          9,-999.000,          9
 33RO200501,       A16S,      27,          1,         16,         16,2,20050123,       2250,   -49.0007,   -33.3780,       4802,  1151.0,   2.5997,  34.6894,2,  34.6884,2,    183.6,2,   182.5,2,   68.79,2,   31.22,2,    0.00,2,    2.13,2,   0.151,2,   0.069,2,   0.007,2,  2242.7,2,  2339.6,2,  -999.0,9,   20.00,   7.6131,2,    25.00,-999.000,9, -999.00,-999.000,9,-999.000,9, -999.00,9,  -999.0,9,  -999.0,-999.000,9,-999.000,   0.249,3,   39.63,2, 1151.00,-999.0000,9,-999.0000,9,-999.0000,9,-999.0000,9,-999.0000,9,-999.0000,9,   2.5235,     -999.0,-999.000,     -999.0,          9,     -999.0,          9,-999.000,          9
 33RO200501,       A16S,      27,          1,         15,         15,2,20050123,       2250,   -49.0007,   -33.3780,       4802,  1249.1,   2.6587,  34.7331,2,  34.7328,2,    189.1,2,   189.4,2,   65.65,6,   29.88,6,    0.00,6,    2.04,6,   0.148,2,   0.074,2,   0.002,2,  2235.7,2,  2336.9,2,  -999.0,9,   20.00,   7.6268,2,    25.00,-999.000,9, -999.00,-999.000,9,-999.000,9, -999.00,9,  -999.0,9,  -999.0,-999.000,9,-999.000,   0.300,3, -999.00,9, 1249.10,-999.0000,9,-999.0000,9,-999.0000,9,-999.0000,9,-999.0000,9,-999.0000,9,   2.5743,     -999.0,-999.000,     -999.0,          9,     -999.0,          9,-999.000,          9
 33RO200501,       A16S,      27,          1,         14,         14,2,20050123,       2250,   -49.0007,   -33.3780,       4802,  1401.1,   2.4889,  34.7454,2,  34.7452,2,    192.1,2,   190.9,2,   70.78,2,   29.85,2,    0.00,2,    2.04,2,   0.123,2,   0.057,2,   0.003,2,  2238.0,2,  2335.0,2,  -999.0,9,   20.00,   7.6275,2,    25.00,-999.000,9, -999.00,-999.000,9,-999.000,9, -999.00,9,  -999.0,9,  -999.0,-999.000,9,-999.000,   0.253,3,   40.19,2, 1401.10,-999.0000,9,-999.0000,9,-999.0000,9,-999.0000,9,-999.0000,9,-999.0000,9,   2.3944,     -999.0,-999.000,     -999.0,          9,     -999.0,          9,-999.000,          9
 33RO200501,       A16S,      27,          1,         13,         13,2,20050123,       2250,   -49.0007,   -33.3780,       4802,  1600.0,   2.1567,  34.7377,2,  34.7376,2,    185.7,2,   187.2,2,   83.01,2,   30.78,2,    0.00,2,    2.12,2,   0.104,2,   0.059,2,   0.002,2,  2249.4,2,  2352.3,2,  -999.0,9,   20.00,   7.6397,2,    25.00,-999.000,9, -999.00,-999.000,9,-999.000,9, -999.00,9,  -999.0,9,  -999.0,-999.000,9,-999.000,   0.209,3, -999.00,9, 1600.00,-999.0000,9,-999.0000,9,-999.0000,9,-999.0000,9,-999.0000,9,-999.0000,9,   2.0504,     -999.0,-999.000,     -999.0,          9,     -999.0,          9,-999.000,          9
 33RO200501,       A16S,      27,          1,         12,         12,2,20050123,       2250,   -49.0007,   -33.3780,       4802,  1800.8,   1.9788,  34.7502,2,  34.7504,2,    192.7,2,   193.3,2,   85.95,2,   30.37,2,    0.00,2,    2.09,2,   0.090,2,   0.046,2,   0.004,2,  2247.7,2,  2352.4,2,  -999.0,9,   20.00,   7.6168,4,    25.00,-999.000,9, -999.00,-999.000,9,-999.000,9, -999.00,9,  -999.0,9,  -999.0,-999.000,9,-999.000,   0.172,3,   39.98,2, 1800.80,-999.0000,9,-999.0000,9,-999.0000,9,-999.0000,9,-999.0000,9,-999.0000,9,   1.8587,     -999.0,-999.000,     -999.0,          9,     -999.0,          9,-999.000,          9
 33RO200501,       A16S,      27,          1,         11,         11,2,20050123,       2250,   -49.0007,   -33.3780,       4802,  2001.6,   1.9849,  34.7851,2,  34.7860,2,    206.0,2,   207.3,2,   78.10,6,   28.40,6,    0.00,6,    1.96,6,   0.069,6,   0.034,6,   0.003,6,  2234.1,2,  2347.8,2,  -999.0,9,   20.00,   7.6530,2,    25.00,-999.000,9, -999.00,-999.000,9,-999.000,9, -999.00,9,  -999.0,9,  -999.0,-999.000,9,-999.000,   0.159,3, -999.00,9, 2001.60,-999.0000,9,-999.0000,9,-999.0000,9,-999.0000,9,-999.0000,9,-999.0000,9,   1.8480,     -999.0,-999.000,     -999.0,          9,     -999.0,          9,-999.000,          9
 33RO200501,       A16S,      27,          1,         10,         10,2,20050123,       2250,   -49.0007,   -33.3780,       4802,  2198.8,   1.6873,  34.7644,2,  34.7648,2,    205.0,2,   199.1,2,   88.08,2,   29.45,2,    0.00,2,    2.04,2,   0.075,2,   0.041,2,   0.004,2,  2243.3,2,  2353.3,2,  -999.0,9,   20.00,   7.6381,2,    25.00,-999.000,9, -999.00,-999.000,9,-999.000,9, -999.00,9,  -999.0,9,  -999.0,-999.000,9,-999.000,   0.150,3,   40.46,2, 2198.80,-999.0000,9,-999.0000,9,-999.0000,9,-999.0000,9,-999.0000,9,-999.0000,9,   1.5386,     -999.0,-999.000,     -999.0,          9,     -999.0,          9,-999.000,          9
 33RO200501,       A16S,      27,          1,          9,          9,2,20050123,       2250,   -49.0007,   -33.3780,       4802,  2402.1,   1.3924,  34.7412,2,  34.7418,2,    202.9,2,   203.5,2,   98.18,2,   30.51,2,    0.00,2,    2.13,2,   0.102,2,   0.055,2,   0.001,2,  2251.2,2,  2354.4,2,  -999.0,9,   20.00,   7.6268,2,    25.00,-999.000,9, -999.00,-999.000,9,-999.000,9, -999.00,9,  -999.0,9,  -999.0,-999.000,9,-999.000,   0.183,3, -999.00,9, 2402.10,-999.0000,9,-999.0000,9,-999.0000,9,-999.0000,9,-999.0000,9,-999.0000,9,   1.2316,     -999.0,-999.000,     -999.0,          9,     -999.0,          9,-999.000,          9
 33RO200501,       A16S,      27,          1,          8,          8,2,20050123,       2250,   -49.0007,   -33.3780,       4802,  2602.2,   1.1802,  34.7265,2,  34.7261,2,    202.9,2,   203.4,2,  105.52,2,   31.12,2,    0.00,2,    2.18,2,   0.122,2,   0.058,2,   0.005,2,  2255.7,2,  2357.2,2,  -999.0,9,   20.00,   7.6278,3,    25.00,-999.000,9, -999.00,-999.000,9,-999.000,9, -999.00,9,  -999.0,9,  -999.0,-999.000,9,-999.000,   0.193,3,   40.33,2, 2602.20,-999.0000,9,-999.0000,9,-999.0000,9,-999.0000,9,-999.0000,9,-999.0000,9,   1.0061,     -999.0,-999.000,     -999.0,          9,     -999.0,          9,-999.000,          9