BOTTLE,20220818CCHSIOAMB
EXPOCODE,SECT_ID,STNNBR,CASTNO,SAMPNO,BTLNBR,BTLNBR_FLAG_W,DATE,TIME,LATITUDE,LONGITUDE,DEPTH,CTDPRS,CTDTMP,CTDSAL,CTDSAL_FLAG_W,SALNTY,SALNTY_FLAG_W,CTDOXY,CTDOXY_FLAG_W,OXYGEN,OXYGEN_FLAG_W,SILCAT,SILCAT_FLAG_W,NITRAT,NITRAT_FLAG_W,NITRIT,NITRIT_FLAG_W,PHSPHT,PHSPHT_FLAG_W,CFC-11,CFC-11_FLAG_W,CFC-12,CFC-12_FLAG_W,CFC113,CFC113_FLAG_W,TCARBN,TCARBN_FLAG_W,ALKALI,ALKALI_FLAG_W,PCO2,PCO2_FLAG_W,PCO2TMP,PH_SWS,PH_SWS_FLAG_W,PH_TMP,TRITUM,TRITUM_FLAG_W,TRITER,HELIUM,HELIUM_FLAG_W,DELHE3,DELHE3_FLAG_W,DELC13,DELC13_FLAG_W,DELC14,DELC14_FLAG_W,C14ERR,NEON,NEON_FLAG_W,NEONER,CCL4,CCL4_FLAG_W,DOC,DOC_FLAG_W,CTDRAW,CDOM325,CDOM325_FLAG_W,CDOM340,CDOM340_FLAG_W,CDOM380,CDOM380_FLAG_W,CDOM412,CDOM412_FLAG_W,CDOMSL,CDOMSL_FLAG_W,CDOMSN,CDOMSN_FLAG_W,THETA,HELIER,DELHER,CH3CL,CH3CL_FLAG_W,CH3BR,CH3BR_FLAG_W,CH3I,CH3I_FLAG_W
,,,,,,,,,,,METERS,DBAR,ITS-90,PSS-78,,PSS-78,,UMOL/KG,,UMOL/KG,,UMOL/KG,,UMOL/KG,,UMOL/KG,,UMOL/KG,,PMOL/KG,,PMOL/KG,,PMOL/KG,,UMOL/KG,,UMOL/KG,,UATM,,DEG C,,,DEG C,TU,,TU,NMOL/KG,,PERCNT,,/MILLE,,/MILLE,,/MILLE,NMOL/KG,,NMOL/KG,PMOL/KG,,UMOL/KG,,DBAR,1/M,,1/M,,1/M,,1/M,,1/NM,,1/NM,,DEG C,NMOL/KG,PERCNT,PMOL/KG,,PMOL/KG,,PMOL/KG,
 33RO200501,       A16S,      73,          1,          7,          7,2,20050207,       0356,   -26.0003,   -24.9993,       4850,  3199.8,   2.6199,  34.9121,2,  34.9124,2,    252.0,2,   252.0,2,   34.63,2,   20.69,2,    0.00,2,    1.36,2,   0.008,2,   0.010,2,   0.000,2,  2179.5,2,  2311.1,3,   754.4,2,   20.00,-999.0000,5,    25.00,-999.000,9, -999.00,-999.000,9,-999.000,9,    1.09,2,   -97.9,2,     2.8,-999.000,9,-999.000,   0.089,4,   40.00,2, 3199.80,-999.0000,9,-999.0000,9,-999.0000,9,-999.0000,9,-999.0000,9,-999.0000,9,   2.3567,     -999.0,-999.000,     -999.0,          9,     -999.0,          9,-999.000,          9
 33RO200501,       A16S,      73,          1,          6,          6,2,20050207,       0356,   -26.0003,   -24.9993,       4850,  3499.1,   2.3851,  34.8909,2,  34.8908,2,    250.5,2,   250.2,2,   42.44,2,   21.56,2,    0.00,2,    1.43,2,  -0.001,2,   0.003,2,   0.000,2,  2185.9,2,  2329.3,2,   771.9,2,   20.00,   7.7414,2,    25.00,-999.000,9, -999.00,-999.000,9,-999.000,9,    1.07,2,  -104.2,2,     3.0,-999.000,9,-999.000,   0.063,4, -999.00,9, 3499.10,-999.0000,9,-999.0000,9,-999.0000,9,-999.0000,9,-999.0000,9,-999.0000,9,   2.0957,     -999.0,-999.000,     -999.0,          9,     -999.0,          9,-999.000,          9
 33RO200501,       A16S,      73,          1,          5,          5,2,20050207,       0356,   -26.0003,   -24.9993,       4850,  3799.9,   2.0109,  34.8517,2,  34.8536,2,    244.4,2,   244.5,2,   57.41,2,   23.49,2,    0.00,2,    1.59,2,  -0.004,2,   0.002,2,   0.000,2,  2200.1,2,  2335.4,2,   810.0,2,   20.00,   7.8736,3,    25.00,-999.000,9, -999.00,-999.000,9,-999.000,9,    0.98,2,  -129.5,2,     3.3,-999.000,9,-999.000,   0.038,4,   40.14,2, 3799.90,-999.0000,9,-999.0000,9,-999.0000,9,-999.0000,9,-999.0000,9,-999.0000,9,   1.6988,     -999.0,-999.000,     -999.0,          9,     -999.0,          9,-999.000,          9
 33RO200501,       A16S,      73,          1,          4,          4,2,20050207,       0356,   -26.0003,   -24.9993,       4850,  4098.9,   1.5597,  34.8034,2,  34.8029,2,    236.6,2,   236.7,2,   76.17,6,   26.00,6,    0.00,2,    1.78,6,-999.000,9,-999.000,9,-999.000,9,  2219.2,2,  2345.5,2,  -999.0,9,   20.00,   7.6795,2,    25.00,-999.000,9, -999.00,-999.000,9,-999.000,9,    0.88,2,  -130.7,2,     3.3,-999.000,9,-999.000,-999.000,9, -999.00,9, 4098.90,-999.0000,9,-999.0000,9,-999.0000,9,-999.0000,9,-999.0000,9,-999.0000,9,   1.2275,     -999.0,-999.000,     -999.0,          9,     -999.0,          9,-999.000,          9
 33RO200501,       A16S,      73,          1,          3,          3,2,20050207,       0356,   -26.0003,   -24.9993,       4850,  4399.7,   1.2466,  34.7693,2,  34.7689,2,    231.5,2,   231.7,2,   89.23,6,   27.70,6,    0.00,2,    1.92,6,   0.013,2,   0.008,2,   0.000,2,  2230.9,2,  2351.8,2,   910.8,2,   20.00,   7.6605,2,    25.00,-999.000,9, -999.00,-999.000,9,-999.000,9,    0.79,2,  -138.1,2,     2.8,-999.000,9,-999.000,   0.055,4,   39.77,2, 4399.70,-999.0000,9,-999.0000,9,-999.0000,9,-999.0000,9,-999.0000,9,-999.0000,9,   0.8903,     -999.0,-999.000,     -999.0,          9,     -999.0,          9,-999.000,          9
 33RO200501,       A16S,      73,          1,          2,          2,2,20050207,       0356,   -26.0003,   -24.9993,       4850,  4699.0,   1.0605,  34.7478,2,  34.7478,2,    228.4,2,   228.4,2,   97.69,6,   28.77,6,    0.00,2,    2.01,6,   0.019,2,   0.014,2,   0.000,2,  2239.4,2,  2344.7,6,   940.8,2,   20.00,   7.6521,6,    25.00,-999.000,9, -999.00,-999.000,9,-999.000,9,    0.71,2,  -144.3,2,     2.9,-999.000,9,-999.000,   0.069,4, -999.00,9, 4699.00,-999.0000,9,-999.0000,9,-999.0000,9,-999.0000,9,-999.0000,9,-999.0000,9,   0.6761,     -999.0,-999.000,     -999.0,          9,     -999.0,          9,-999.000,          9
 33RO200501,       A16S,      73,          1,          1,          1,2,20050207,       0356,   -26.0003,   -24.9993,       4850,  4954.8,   1.0071,  34.7395,2,  34.7404,2,    227.2,2,   227.6,2,  100.61,6,   29.13,6,    0.00,2,    2.04,6,   0.023,2,   0.015,2,   0.000,2,  2242.6,6,  2356.7,2,   952.3,2,   20.00,   7.6409,2,    25.00,-999.000,9, -999.00,-999.000,9,-999.000,9,    0.70,2,  -151.4,2,     3.3,-999.000,9,-999.000,   0.082,4,   39.63,2, 4954.80,   0.1470,3,   0.1050,3,   0.0580,3,   0.0400,3,   0.0142,3,   0.0157,3,   0.5945,     -999.0,-999.000,     -999.0,          9,     -999.0,          9,-999.000,          9