BOTTLE,20220818CCHSIOAMB
EXPOCODE,SECT_ID,STNNBR,CASTNO,SAMPNO,BTLNBR,BTLNBR_FLAG_W,DATE,TIME,LATITUDE,LONGITUDE,DEPTH,CTDPRS,CTDTMP,CTDSAL,CTDSAL_FLAG_W,SALNTY,SALNTY_FLAG_W,CTDOXY,CTDOXY_FLAG_W,OXYGEN,OXYGEN_FLAG_W,SILCAT,SILCAT_FLAG_W,NITRAT,NITRAT_FLAG_W,NITRIT,NITRIT_FLAG_W,PHSPHT,PHSPHT_FLAG_W,CFC-11,CFC-11_FLAG_W,CFC-12,CFC-12_FLAG_W,CFC113,CFC113_FLAG_W,TCARBN,TCARBN_FLAG_W,ALKALI,ALKALI_FLAG_W,PCO2,PCO2_FLAG_W,PCO2TMP,PH_SWS,PH_SWS_FLAG_W,PH_TMP,TRITUM,TRITUM_FLAG_W,TRITER,HELIUM,HELIUM_FLAG_W,DELHE3,DELHE3_FLAG_W,DELC13,DELC13_FLAG_W,DELC14,DELC14_FLAG_W,C14ERR,NEON,NEON_FLAG_W,NEONER,CCL4,CCL4_FLAG_W,DOC,DOC_FLAG_W,CTDRAW,CDOM325,CDOM325_FLAG_W,CDOM340,CDOM340_FLAG_W,CDOM380,CDOM380_FLAG_W,CDOM412,CDOM412_FLAG_W,CDOMSL,CDOMSL_FLAG_W,CDOMSN,CDOMSN_FLAG_W,THETA,HELIER,DELHER,CH3CL,CH3CL_FLAG_W,CH3BR,CH3BR_FLAG_W,CH3I,CH3I_FLAG_W
,,,,,,,,,,,METERS,DBAR,ITS-90,PSS-78,,PSS-78,,UMOL/KG,,UMOL/KG,,UMOL/KG,,UMOL/KG,,UMOL/KG,,UMOL/KG,,PMOL/KG,,PMOL/KG,,PMOL/KG,,UMOL/KG,,UMOL/KG,,UATM,,DEG C,,,DEG C,TU,,TU,NMOL/KG,,PERCNT,,/MILLE,,/MILLE,,/MILLE,NMOL/KG,,NMOL/KG,PMOL/KG,,UMOL/KG,,DBAR,1/M,,1/M,,1/M,,1/M,,1/NM,,1/NM,,DEG C,NMOL/KG,PERCNT,PMOL/KG,,PMOL/KG,,PMOL/KG,
 33RO200501,       A16S,      80,          1,         36,         36,2,20050209,       0830,   -22.4998,   -24.9998,       5465,     1.7,  26.1785,  36.9165,2,  36.9175,2,    202.8,2,   203.5,2,    1.92,2,    0.00,2,    0.00,2,    0.07,2,   1.686,2,   1.094,2,   0.134,2,  2090.2,6,  1761.0,4,  -999.0,9,   20.00,   8.0522,6,    25.00,-999.000,9, -999.00,-999.000,9,-999.000,9, -999.00,9,  -999.0,9,  -999.0,-999.000,9,-999.000,   1.449,4, -999.00,9,    1.70,-999.0000,9,-999.0000,9,-999.0000,9,-999.0000,9,-999.0000,9,-999.0000,9,  26.1781,     -999.0,-999.000,     64.652,          2,      0.934,          2,   2.775,          2
 33RO200501,       A16S,      80,          1,         35,         35,2,20050209,       0830,   -22.4998,   -24.9998,       5465,    24.3,  26.1671,  36.9149,2,  36.9155,2,    203.8,2,   203.8,2,    1.89,2,    0.00,2,    0.00,2,    0.07,2,-999.000,9,-999.000,9,-999.000,9,  -999.0,9,  -999.0,9,  -999.0,9,   20.00,-999.0000,9,    25.00,-999.000,9, -999.00,-999.000,9,-999.000,9, -999.00,9,  -999.0,9,  -999.0,-999.000,9,-999.000,-999.000,9, -999.00,9,   24.30,-999.0000,9,-999.0000,9,-999.0000,9,-999.0000,9,-999.0000,9,-999.0000,9,  26.1616,     -999.0,-999.000,     65.942,          2,      0.623,          2,   2.668,          2
 33RO200501,       A16S,      80,          1,         34,         34,2,20050209,       0830,   -22.4998,   -24.9998,       5465,    49.8,  23.4989,  36.7471,2,  36.7441,2,    224.3,2,   224.5,2,    1.83,2,    0.01,2,    0.00,2,    0.09,2,-999.000,9,-999.000,9,-999.000,9,  -999.0,9,  -999.0,9,  -999.0,9,   20.00,-999.0000,9,    25.00,-999.000,9, -999.00,-999.000,9,-999.000,9, -999.00,9,  -999.0,9,  -999.0,-999.000,9,-999.000,-999.000,9, -999.00,9,   49.80,-999.0000,9,-999.0000,9,-999.0000,9,-999.0000,9,-999.0000,9,-999.0000,9,  23.4885,     -999.0,-999.000,     -999.0,          9,     -999.0,          9,-999.000,          9
 33RO200501,       A16S,      80,          1,         33,         33,2,20050209,       0830,   -22.4998,   -24.9998,       5465,    74.1,  22.3740,  36.7087,2,  36.7056,2,    225.4,2,   225.1,2,    1.85,2,    0.01,2,    0.00,2,    0.10,2,-999.000,9,-999.000,9,-999.000,9,  -999.0,9,  -999.0,9,  -999.0,9,   20.00,-999.0000,9,    25.00,-999.000,9, -999.00,-999.000,9,-999.000,9, -999.00,9,  -999.0,9,  -999.0,-999.000,9,-999.000,-999.000,9, -999.00,9,   74.10,-999.0000,9,-999.0000,9,-999.0000,9,-999.0000,9,-999.0000,9,-999.0000,9,  22.3591,     -999.0,-999.000,    181.383,          2,      0.803,          2,   5.057,          2
 33RO200501,       A16S,      80,          1,         32,         32,2,20050209,       0830,   -22.4998,   -24.9998,       5465,    99.8,  21.7471,  36.6102,2,  36.6023,2,    223.4,2,   223.4,2,    1.90,2,    0.02,2,    0.00,2,    0.11,2,-999.000,9,-999.000,9,-999.000,9,  -999.0,9,  -999.0,9,  -999.0,9,   20.00,-999.0000,9,    25.00,-999.000,9, -999.00,-999.000,9,-999.000,9, -999.00,9,  -999.0,9,  -999.0,-999.000,9,-999.000,-999.000,9, -999.00,9,   99.80,-999.0000,9,-999.0000,9,-999.0000,9,-999.0000,9,-999.0000,9,-999.0000,9,  21.7274,     -999.0,-999.000,     -999.0,          9,     -999.0,          9,-999.000,          9
 33RO200501,       A16S,      80,          1,         31,         31,2,20050209,       0830,   -22.4998,   -24.9998,       5465,   149.9,  20.1157,  36.3206,2,  36.2820,2,    218.3,2,   216.9,2,    2.02,2,    0.07,2,    0.01,2,    0.16,2,-999.000,9,-999.000,9,-999.000,9,  -999.0,9,  -999.0,9,  -999.0,9,   20.00,-999.0000,9,    25.00,-999.000,9, -999.00,-999.000,9,-999.000,9, -999.00,9,  -999.0,9,  -999.0,-999.000,9,-999.000,-999.000,9, -999.00,9,  149.90,-999.0000,9,-999.0000,9,-999.0000,9,-999.0000,9,-999.0000,9,-999.0000,9,  20.0877,     -999.0,-999.000,     -999.0,          9,     -999.0,          9,-999.000,          9
 33RO200501,       A16S,      80,          1,         30,         30,2,20050209,       0830,   -22.4998,   -24.9998,       5465,   198.5,  16.9998,  35.7599,2,  35.7436,2,    209.6,2,   211.6,2,    2.79,2,    2.62,2,    0.01,2,    0.34,2,   2.524,2,   1.534,2,   0.096,2,  2094.6,2,  2342.8,2,  -999.0,9,   20.00,   7.9421,2,    25.00,-999.000,9, -999.00,-999.000,9,-999.000,9, -999.00,9,  -999.0,9,  -999.0,-999.000,9,-999.000,   0.720,4, -999.00,9,  198.50,-999.0000,9,-999.0000,9,-999.0000,9,-999.0000,9,-999.0000,9,-999.0000,9,  16.9669,     -999.0,-999.000,      9.419,          2,      0.224,          2,   0.092,          2
 33RO200501,       A16S,      80,          1,         29,         29,2,20050209,       0830,   -22.4998,   -24.9998,       5465,   250.0,  15.3664,  35.5091,2,  35.4883,2,    209.9,2,   211.2,2,    3.37,2,    5.46,2,    0.01,2,    0.48,2,-999.000,9,-999.000,9,-999.000,9,  -999.0,9,  -999.0,9,  -999.0,9,   20.00,-999.0000,9,    25.00,-999.000,9, -999.00,-999.000,9,-999.000,9, -999.00,9,  -999.0,9,  -999.0,-999.000,9,-999.000,-999.000,9, -999.00,9,  250.00,-999.0000,9,-999.0000,9,-999.0000,9,-999.0000,9,-999.0000,9,-999.0000,9,  15.3277,     -999.0,-999.000,     -999.0,          9,     -999.0,          9,-999.000,          9
 33RO200501,       A16S,      80,          1,         28,         28,2,20050209,       0830,   -22.4998,   -24.9998,       5465,   299.1,  14.0762,  35.3245,2,  35.3297,2,    209.3,2,   210.1,2,    3.95,2,    7.71,2,    0.00,2,    0.60,2,-999.000,9,-999.000,9,-999.000,9,  -999.0,9,  -999.0,9,  -999.0,9,   20.00,-999.0000,9,    25.00,-999.000,9, -999.00,-999.000,9,-999.000,9, -999.00,9,  -999.0,9,  -999.0,-999.000,9,-999.000,-999.000,9, -999.00,9,  299.10,-999.0000,9,-999.0000,9,-999.0000,9,-999.0000,9,-999.0000,9,-999.0000,9,  14.0325,     -999.0,-999.000,     -999.0,          9,     -999.0,          9,-999.000,          9
 33RO200501,       A16S,      80,          1,         27,         27,2,20050209,       0830,   -22.4998,   -24.9998,       5465,   350.6,  12.6509,  35.1312,2,  35.1286,2,    205.8,2,   206.4,2,    4.98,2,   11.12,2,    0.00,2,    0.80,2,-999.000,9,-999.000,9,-999.000,9,  -999.0,9,  -999.0,9,  -999.0,9,   20.00,-999.0000,9,    25.00,-999.000,9, -999.00,-999.000,9,-999.000,9, -999.00,9,  -999.0,9,  -999.0,-999.000,9,-999.000,-999.000,9, -999.00,9,  350.60,-999.0000,9,-999.0000,9,-999.0000,9,-999.0000,9,-999.0000,9,-999.0000,9,  12.6032,     -999.0,-999.000,     -999.0,          9,     -999.0,          9,-999.000,          9
 33RO200501,       A16S,      80,          1,         26,         26,2,20050209,       0830,   -22.4998,   -24.9998,       5465,   399.7,  11.5729,  34.9953,2,  34.9877,2,    202.0,2,   199.4,2,    6.44,2,   14.36,2,    0.00,2,    0.99,2,   2.876,2,   1.585,2,   0.064,2,  2131.3,2,  2300.8,2,  -999.0,9,   20.00,   7.7944,2,    25.00,-999.000,9, -999.00,-999.000,9,-999.000,9, -999.00,9,  -999.0,9,  -999.0,-999.000,9,-999.000,   0.819,4, -999.00,9,  399.70,-999.0000,9,-999.0000,9,-999.0000,9,-999.0000,9,-999.0000,9,-999.0000,9,  11.5215,     -999.0,-999.000,     -999.0,          9,     -999.0,          9,-999.000,          9
 33RO200501,       A16S,      80,          1,         25,         25,2,20050209,       0830,   -22.4998,   -24.9998,       5465,   500.6,   9.3530,  34.7368,2,  34.7365,2,    188.2,2,   187.2,2,   10.72,2,   20.54,2,    0.00,2,    1.37,2,-999.000,9,-999.000,9,-999.000,9,  -999.0,9,  -999.0,9,  -999.0,9,   20.00,-999.0000,9,    25.00,-999.000,9, -999.00,-999.000,9,-999.000,9, -999.00,9,  -999.0,9,  -999.0,-999.000,9,-999.000,-999.000,9, -999.00,9,  500.60,-999.0000,9,-999.0000,9,-999.0000,9,-999.0000,9,-999.0000,9,-999.0000,9,   9.2965,     -999.0,-999.000,     10.873,          2,      0.820,          2,   0.036,          2
 33RO200501,       A16S,      80,          1,         24,         24,2,20050209,       0830,   -22.4998,   -24.9998,       5465,   601.3,   7.3357,  34.5371,2,  34.5357,2,    185.6,2,   186.6,2,   16.02,2,   25.52,2,    0.00,2,    1.68,2,-999.000,9,-999.000,9,-999.000,9,  -999.0,9,  -999.0,9,  -999.0,9,   20.00,-999.0000,9,    25.00,-999.000,9, -999.00,-999.000,9,-999.000,9, -999.00,9,  -999.0,9,  -999.0,-999.000,9,-999.000,-999.000,9, -999.00,9,  601.30,-999.0000,9,-999.0000,9,-999.0000,9,-999.0000,9,-999.0000,9,-999.0000,9,   7.2766,     -999.0,-999.000,     -999.0,          9,     -999.0,          9,-999.000,          9
 33RO200501,       A16S,      80,          1,         23,         23,2,20050209,       0830,   -22.4998,   -24.9998,       5465,   700.1,   5.7137,  34.4147,2,  34.4104,2,    193.2,2,   194.0,2,   22.03,2,   28.64,2,    0.00,2,    1.88,2,-999.000,9,-999.000,9,-999.000,9,  -999.0,9,  -999.0,9,  -999.0,9,   20.00,-999.0000,9,    25.00,-999.000,9, -999.00,-999.000,9,-999.000,9, -999.00,9,  -999.0,9,  -999.0,-999.000,9,-999.000,-999.000,9, -999.00,9,  700.10,-999.0000,9,-999.0000,9,-999.0000,9,-999.0000,9,-999.0000,9,-999.0000,9,   5.6532,     -999.0,-999.000,      3.854,          2,      0.044,          2,   0.018,          2
 33RO200501,       A16S,      80,          1,         22,         22,2,20050209,       0830,   -22.4998,   -24.9998,       5465,   801.0,   4.5990,  34.3852,2,  34.3847,2,    188.1,2,   189.5,2,   30.17,2,   30.94,2,    0.00,2,    2.05,2,-999.000,9,-999.000,9,-999.000,9,  -999.0,9,  -999.0,9,  -999.0,9,   20.00,-999.0000,9,    25.00,-999.000,9, -999.00,-999.000,9,-999.000,9, -999.00,9,  -999.0,9,  -999.0,-999.000,9,-999.000,-999.000,9, -999.00,9,  801.00,-999.0000,9,-999.0000,9,-999.0000,9,-999.0000,9,-999.0000,9,-999.0000,9,   4.5360,     -999.0,-999.000,     -999.0,          9,     -999.0,          9,-999.000,          9
 33RO200501,       A16S,      80,          1,         21,         21,2,20050209,       0830,   -22.4998,   -24.9998,       5465,   899.0,   4.1345,  34.4233,2,  34.4236,2,    179.7,2,   180.7,2,   36.17,2,   32.09,2,    0.00,2,    2.13,2,-999.000,9,-999.000,9,-999.000,9,  -999.0,9,  -999.0,9,  -999.0,9,   20.00,-999.0000,9,    25.00,-999.000,9, -999.00,-999.000,9,-999.000,9, -999.00,9,  -999.0,9,  -999.0,-999.000,9,-999.000,-999.000,9, -999.00,9,  899.00,-999.0000,9,-999.0000,9,-999.0000,9,-999.0000,9,-999.0000,9,-999.0000,9,   4.0663,     -999.0,-999.000,      7.799,          2,      0.761,          2,   0.028,          2
 33RO200501,       A16S,      80,          1,         20,         20,2,20050209,       0830,   -22.4998,   -24.9998,       5465,  1001.5,   3.7548,  34.4755,2,  34.4739,2,    180.3,2,   180.4,2,   40.81,6,   32.08,6,    0.00,6,    2.14,6,   0.218,2,   0.118,2,   0.000,2,  2214.4,2,  1939.0,3,  -999.0,9,   20.00,   7.5911,2,    25.00,-999.000,9, -999.00,-999.000,9,-999.000,9, -999.00,9,  -999.0,9,  -999.0,-999.000,9,-999.000,   0.412,4, -999.00,9, 1001.50,-999.0000,9,-999.0000,9,-999.0000,9,-999.0000,9,-999.0000,9,-999.0000,9,   3.6809,     -999.0,-999.000,     -999.0,          9,     -999.0,          9,-999.000,          9
 33RO200501,       A16S,      80,          1,         19,         19,2,20050209,       0830,   -22.4998,   -24.9998,       5465,  1100.2,   3.5545,  34.5311,2,  34.5288,2,    182.9,2,   182.8,2,   43.22,2,   31.39,2,    0.00,2,    2.10,2,-999.000,9,-999.000,9,-999.000,9,  -999.0,9,  -999.0,9,  -999.0,9,   20.00,-999.0000,9,    25.00,-999.000,9, -999.00,-999.000,9,-999.000,9, -999.00,9,  -999.0,9,  -999.0,-999.000,9,-999.000,-999.000,9, -999.00,9, 1100.20,-999.0000,9,-999.0000,9,-999.0000,9,-999.0000,9,-999.0000,9,-999.0000,9,   3.4741,     -999.0,-999.000,      8.607,          2,      1.173,          2,   0.023,          2
 33RO200501,       A16S,      80,          1,         18,         18,2,20050209,       0830,   -22.4998,   -24.9998,       5465,  1200.6,   3.5192,  34.5971,2,  34.5964,2,    186.2,2,   185.7,2,   42.96,2,   30.44,2,    0.00,2,    2.03,2,-999.000,9,-999.000,9,-999.000,9,  -999.0,9,  -999.0,9,  -999.0,9,   20.00,-999.0000,9,    25.00,-999.000,9, -999.00,-999.000,9,-999.000,9, -999.00,9,  -999.0,9,  -999.0,-999.000,9,-999.000,-999.000,9, -999.00,9, 1200.60,-999.0000,9,-999.0000,9,-999.0000,9,-999.0000,9,-999.0000,9,-999.0000,9,   3.4308,     -999.0,-999.000,     -999.0,          9,     -999.0,          9,-999.000,          9
 33RO200501,       A16S,      80,          1,         17,         17,2,20050209,       0830,   -22.4998,   -24.9998,       5465,  1399.4,   3.3618,  34.7066,2,  34.7086,2,    198.9,2,   195.9,2,   43.60,2,   28.33,2,    0.00,2,    1.89,2,   0.022,2,   0.010,2,   0.000,2,  2211.1,2,  2320.0,2,  -999.0,9,   20.00,   7.6325,2,    25.00,-999.000,9, -999.00,-999.000,9,-999.000,9, -999.00,9,  -999.0,9,  -999.0,-999.000,9,-999.000,   0.105,4, -999.00,9, 1399.40,-999.0000,9,-999.0000,9,-999.0000,9,-999.0000,9,-999.0000,9,-999.0000,9,   3.2581,     -999.0,-999.000,      6.399,          2,      0.643,          2,   0.028,          2
 33RO200501,       A16S,      80,          1,         16,         16,2,20050209,       0830,   -22.4998,   -24.9998,       5465,  1599.7,   3.3057,  34.8229,2,  34.8225,2,    214.5,2,   215.6,2,   38.92,6,   25.14,6,    0.00,6,    1.65,6,-999.000,9,-999.000,9,-999.000,9,  -999.0,9,  -999.0,9,  -999.0,9,   20.00,-999.0000,9,    25.00,-999.000,9, -999.00,-999.000,9,-999.000,9, -999.00,9,  -999.0,9,  -999.0,-999.000,9,-999.000,-999.000,9, -999.00,9, 1599.70,-999.0000,9,-999.0000,9,-999.0000,9,-999.0000,9,-999.0000,9,-999.0000,9,   3.1851,     -999.0,-999.000,     -999.0,          9,     -999.0,          9,-999.000,          9
 33RO200501,       A16S,      80,          1,         15,         15,2,20050209,       0830,   -22.4998,   -24.9998,       5465,  1797.0,   3.3059,  34.9026,2,  34.9039,2,    234.8,2,   235.4,2,   31.25,2,   22.01,2,    0.00,2,    1.44,2,   0.033,2,   0.022,2,   0.000,2,  -999.0,9,  -999.0,9,  -999.0,9,   20.00,-999.0000,9,    25.00,-999.000,9, -999.00,-999.000,9,-999.000,9, -999.00,9,  -999.0,9,  -999.0,-999.000,9,-999.000,   0.146,4, -999.00,9, 1797.00,-999.0000,9,-999.0000,9,-999.0000,9,-999.0000,9,-999.0000,9,-999.0000,9,   3.1675,     -999.0,-999.000,      5.620,          2,      0.366,          2,   0.031,          2
 33RO200501,       A16S,      80,          1,         14,         14,2,20050209,       0830,   -22.4998,   -24.9998,       5465,  1999.0,   3.2539,  34.9376,2,  34.9377,2,    246.3,2,   246.5,2,   26.94,2,   20.42,2,    0.00,2,    1.32,2,-999.000,9,-999.000,9,-999.000,9,  -999.0,9,  -999.0,9,  -999.0,9,   20.00,-999.0000,9,    25.00,-999.000,9, -999.00,-999.000,9,-999.000,9, -999.00,9,  -999.0,9,  -999.0,-999.000,9,-999.000,-999.000,9, -999.00,9, 1999.00,-999.0000,9,-999.0000,9,-999.0000,9,-999.0000,9,-999.0000,9,-999.0000,9,   3.0977,     -999.0,-999.000,     -999.0,          9,     -999.0,          9,-999.000,          9
 33RO200501,       A16S,      80,          1,         13,         13,2,20050209,       0830,   -22.4998,   -24.9998,       5465,  2198.4,   3.1269,  34.9407,2,  34.9421,3,    249.6,2,   249.8,2,   27.52,2,   20.10,2,    0.00,2,    1.30,2,   0.034,2,   0.023,2,   0.000,2,  2172.0,2,  2318.8,2,  -999.0,9,   20.00,   7.7289,2,    25.00,-999.000,9, -999.00,-999.000,9,-999.000,9, -999.00,9,  -999.0,9,  -999.0,-999.000,9,-999.000,   0.149,4, -999.00,9, 2198.40,-999.0000,9,-999.0000,9,-999.0000,9,-999.0000,9,-999.0000,9,-999.0000,9,   2.9539,     -999.0,-999.000,      2.966,          2,      0.265,          2,   0.012,          2
 33RO200501,       A16S,      80,          1,         12,         12,2,20050209,       0830,   -22.4998,   -24.9998,       5465,  2399.6,   3.0027,  34.9359,2,  34.9444,3,    250.4,2,   250.0,2,   29.39,2,   20.14,2,    0.00,2,    1.32,2,-999.000,9,-999.000,9,-999.000,9,  -999.0,9,  -999.0,9,  -999.0,9,   20.00,-999.0000,9,    25.00,-999.000,9, -999.00,-999.000,9,-999.000,9, -999.00,9,  -999.0,9,  -999.0,-999.000,9,-999.000,-999.000,9, -999.00,9, 2399.60,-999.0000,9,-999.0000,9,-999.0000,9,-999.0000,9,-999.0000,9,-999.0000,9,   2.8125,     -999.0,-999.000,     -999.0,          9,     -999.0,          9,-999.000,          9
 33RO200501,       A16S,      80,          1,         11,         11,2,20050209,       0830,   -22.4998,   -24.9998,       5465,  2598.4,   2.8760,  34.9290,2,  34.9309,3,    250.5,2,   250.2,2,   31.51,2,   20.28,2,    0.00,2,    1.33,2,   0.030,2,   0.018,2,   0.000,2,  -999.0,9,  -999.0,9,  -999.0,9,   20.00,-999.0000,9,    25.00,-999.000,9, -999.00,-999.000,9,-999.000,9, -999.00,9,  -999.0,9,  -999.0,-999.000,9,-999.000,   0.118,4, -999.00,9, 2598.40,-999.0000,9,-999.0000,9,-999.0000,9,-999.0000,9,-999.0000,9,-999.0000,9,   2.6687,     -999.0,-999.000,     -999.0,          9,     -999.0,          9,-999.000,          9
 33RO200501,       A16S,      80,          1,         10,         10,2,20050209,       0830,   -22.4998,   -24.9998,       5465,  2800.2,   2.7828,  34.9239,2,  34.9262,3,    250.8,2,   250.9,2,   32.90,2,   20.31,2,    0.00,2,    1.34,2,-999.000,9,-999.000,9,-999.000,9,  -999.0,9,  -999.0,9,  -999.0,9,   20.00,-999.0000,9,    25.00,-999.000,9, -999.00,-999.000,9,-999.000,9, -999.00,9,  -999.0,9,  -999.0,-999.000,9,-999.000,-999.000,9, -999.00,9, 2800.20,-999.0000,9,-999.0000,9,-999.0000,9,-999.0000,9,-999.0000,9,-999.0000,9,   2.5572,     -999.0,-999.000,      1.723,          2,      0.323,          2,   0.020,          2
 33RO200501,       A16S,      80,          1,          9,          9,2,20050209,       0830,   -22.4998,   -24.9998,       5465,  2998.3,   2.7126,  34.9196,2,  34.9191,2,    251.4,2,   251.6,2,   34.06,2,   20.33,2,    0.00,2,    1.34,2,   0.031,2,   0.020,2,   0.000,2,  -999.0,9,  -999.0,9,  -999.0,9,   20.00,-999.0000,9,    25.00,-999.000,9, -999.00,-999.000,9,-999.000,9, -999.00,9,  -999.0,9,  -999.0,-999.000,9,-999.000,   0.122,4, -999.00,9, 2998.30,-999.0000,9,-999.0000,9,-999.0000,9,-999.0000,9,-999.0000,9,-999.0000,9,   2.4683,     -999.0,-999.000,     -999.0,          9,     -999.0,          9,-999.000,          9
 33RO200501,       A16S,      80,          1,          8,          8,2,20050209,       0830,   -22.4998,   -24.9998,       5465,  3299.9,   2.5474,  34.9074,2,  34.9094,3,    252.1,2,   252.1,2,   37.70,2,   20.64,2,    0.00,2,    1.37,2,-999.000,9,-999.000,9,-999.000,9,  -999.0,9,  -999.0,9,  -999.0,9,   20.00,-999.0000,9,    25.00,-999.000,9, -999.00,-999.000,9,-999.000,9, -999.00,9,  -999.0,9,  -999.0,-999.000,9,-999.000,-999.000,9, -999.00,9, 3299.90,-999.0000,9,-999.0000,9,-999.0000,9,-999.0000,9,-999.0000,9,-999.0000,9,   2.2754,     -999.0,-999.000,     -999.0,          9,     -999.0,          9,-999.000,          9