BOTTLE,20220818CCHSIOAMB
EXPOCODE,SECT_ID,STNNBR,CASTNO,SAMPNO,BTLNBR,BTLNBR_FLAG_W,DATE,TIME,LATITUDE,LONGITUDE,DEPTH,CTDPRS,CTDTMP,CTDSAL,CTDSAL_FLAG_W,SALNTY,SALNTY_FLAG_W,CTDOXY,CTDOXY_FLAG_W,OXYGEN,OXYGEN_FLAG_W,SILCAT,SILCAT_FLAG_W,NITRAT,NITRAT_FLAG_W,NITRIT,NITRIT_FLAG_W,PHSPHT,PHSPHT_FLAG_W,CFC-11,CFC-11_FLAG_W,CFC-12,CFC-12_FLAG_W,CFC113,CFC113_FLAG_W,TCARBN,TCARBN_FLAG_W,ALKALI,ALKALI_FLAG_W,PCO2,PCO2_FLAG_W,PCO2TMP,PH_SWS,PH_SWS_FLAG_W,PH_TMP,TRITUM,TRITUM_FLAG_W,TRITER,HELIUM,HELIUM_FLAG_W,DELHE3,DELHE3_FLAG_W,DELC13,DELC13_FLAG_W,DELC14,DELC14_FLAG_W,C14ERR,NEON,NEON_FLAG_W,NEONER,CCL4,CCL4_FLAG_W,DOC,DOC_FLAG_W,CTDRAW,CDOM325,CDOM325_FLAG_W,CDOM340,CDOM340_FLAG_W,CDOM380,CDOM380_FLAG_W,CDOM412,CDOM412_FLAG_W,CDOMSL,CDOMSL_FLAG_W,CDOMSN,CDOMSN_FLAG_W,THETA,HELIER,DELHER,CH3CL,CH3CL_FLAG_W,CH3BR,CH3BR_FLAG_W,CH3I,CH3I_FLAG_W
,,,,,,,,,,,METERS,DBAR,ITS-90,PSS-78,,PSS-78,,UMOL/KG,,UMOL/KG,,UMOL/KG,,UMOL/KG,,UMOL/KG,,UMOL/KG,,PMOL/KG,,PMOL/KG,,PMOL/KG,,UMOL/KG,,UMOL/KG,,UATM,,DEG C,,,DEG C,TU,,TU,NMOL/KG,,PERCNT,,/MILLE,,/MILLE,,/MILLE,NMOL/KG,,NMOL/KG,PMOL/KG,,UMOL/KG,,DBAR,1/M,,1/M,,1/M,,1/M,,1/NM,,1/NM,,DEG C,NMOL/KG,PERCNT,PMOL/KG,,PMOL/KG,,PMOL/KG,
 33RO200501,       A16S,     107,          1,         36,         36,2,20050217,       1309,    -8.9998,   -25.0002,       5441,     2.5,  27.6202,  36.6612,2,  36.6614,2,    198.8,2,   199.1,2,    1.76,2,    0.00,2,    0.00,2,    0.05,2,   1.598,2,   1.045,2,   0.127,2,  2057.4,2,  2400.4,2,  -999.0,9,   20.00,   8.0796,2,    25.00,-999.000,9, -999.00,-999.000,9,-999.000,9, -999.00,9,  -999.0,9,  -999.0,-999.000,9,-999.000,   1.375,4,   71.06,2,    2.50,   0.0670,2,   0.0470,2,   0.0220,2,   0.0140,2,   0.0220,2,   0.0225,2,  27.6196,     -999.0,-999.000,     -999.0,          9,     -999.0,          9,-999.000,          9
 33RO200501,       A16S,     107,          1,         35,         35,2,20050217,       1309,    -8.9998,   -25.0002,       5441,    23.8,  27.6135,  36.6757,2,  36.6741,2,    198.8,2,   201.1,2,    1.85,2,    0.00,2,    0.00,2,    0.05,2,-999.000,9,-999.000,9,-999.000,9,  2055.4,2,  2404.0,6,  -999.0,9,   20.00,   8.0808,6,    25.00,-999.000,9, -999.00,-999.000,9,-999.000,9, -999.00,9,  -999.0,9,  -999.0,-999.000,9,-999.000,-999.000,9,   70.16,2,   23.80,   0.0850,2,   0.0620,2,   0.0270,2,   0.0150,2,   0.0201,2,   0.0203,2,  27.6079,     -999.0,-999.000,     -999.0,          9,     -999.0,          9,-999.000,          9
 33RO200501,       A16S,     107,          1,         34,         34,2,20050217,       1309,    -8.9998,   -25.0002,       5441,    53.8,  26.9767,  36.5713,2,  36.5759,2,    202.3,2,   205.2,2,    1.85,2,    0.00,2,    0.00,2,    0.08,2,   1.664,2,   1.080,2,   0.133,2,  2051.9,2,  2397.0,2,  -999.0,9,   20.00,   8.0778,2,    25.00,-999.000,9, -999.00,-999.000,9,-999.000,9, -999.00,9,  -999.0,9,  -999.0,-999.000,9,-999.000,   1.291,4,   67.26,2,   53.80,   0.1060,2,   0.0750,2,   0.0360,2,   0.0230,2,   0.0191,2,   0.0199,2,  26.9643,     -999.0,-999.000,     -999.0,          9,     -999.0,          9,-999.000,          9
 33RO200501,       A16S,     107,          1,         33,         33,2,20050217,       1309,    -8.9998,   -25.0002,       5441,    84.1,  24.2479,  36.8186,2,  36.8391,2,    203.3,2,   206.9,2,    2.05,2,    0.10,2,    0.00,2,    0.12,2,-999.000,9,-999.000,9,-999.000,9,  2080.8,2,  2411.3,2,  -999.0,9,   20.00,   8.0544,2,    25.00,-999.000,9, -999.00,-999.000,9,-999.000,9, -999.00,9,  -999.0,9,  -999.0,-999.000,9,-999.000,-999.000,9,   59.05,2,   84.10,-999.0000,9,-999.0000,9,-999.0000,9,-999.0000,9,-999.0000,9,-999.0000,9,  24.2299,     -999.0,-999.000,     -999.0,          9,     -999.0,          9,-999.000,          9
 33RO200501,       A16S,     107,          1,         32,         32,2,20050217,       1309,    -8.9998,   -25.0002,       5441,   113.8,  22.8653,  36.7915,2,  36.7371,2,    201.0,2,   199.7,2,    2.24,2,    0.49,2,    0.03,2,    0.23,2,   1.953,2,   1.233,2,   0.137,2,  2101.9,2,  2405.1,2,  -999.0,9,   20.00,   8.0157,2,    25.00,-999.000,9, -999.00,-999.000,9,-999.000,9, -999.00,9,  -999.0,9,  -999.0,-999.000,9,-999.000,   0.851,4,   55.59,2,  113.80,   0.1710,2,   0.1240,2,   0.0660,2,   0.0440,2,   0.0147,2,   0.0162,2,  22.8420,     -999.0,-999.000,     -999.0,          9,     -999.0,          9,-999.000,          9
 33RO200501,       A16S,     107,          1,         31,         31,2,20050217,       1309,    -8.9998,   -25.0002,       5441,   165.3,  15.3464,  35.5979,2,  35.5799,2,    119.4,2,   117.0,2,    6.84,2,   18.07,2,    0.01,2,    1.19,2,   1.935,2,   1.117,2,   0.043,2,  2172.6,2,  2329.7,2,  -999.0,9,   20.00,   7.7513,2,    25.00,-999.000,9, -999.00,-999.000,9,-999.000,9, -999.00,9,  -999.0,9,  -999.0,-999.000,9,-999.000,   0.343,4,   53.23,2,  165.30,-999.0000,9,-999.0000,9,-999.0000,9,-999.0000,9,-999.0000,9,-999.0000,9,  15.3208,     -999.0,-999.000,     -999.0,          9,     -999.0,          9,-999.000,          9
 33RO200501,       A16S,     107,          1,         30,         30,2,20050217,       1309,    -8.9998,   -25.0002,       5441,   214.3,  11.6981,  35.1270,2,  35.1248,2,    103.1,2,   102.4,2,   10.75,2,   25.01,2,    0.00,2,    1.57,2,   1.490,2,   0.820,2,   0.014,2,  2193.6,2,  2305.1,2,  -999.0,9,   20.00,   7.6474,2,    25.00,-999.000,9, -999.00,-999.000,9,-999.000,9, -999.00,9,  -999.0,9,  -999.0,-999.000,9,-999.000,   0.302,4,   48.46,2,  214.30,   0.1490,2,   0.1060,2,   0.0560,2,   0.0410,2,   0.0143,2,   0.0162,2,  11.6705,     -999.0,-999.000,     -999.0,          9,     -999.0,          9,-999.000,          9
 33RO200501,       A16S,     107,          1,         29,         29,2,20050217,       1309,    -8.9998,   -25.0002,       5441,   263.4,  10.1418,  34.9258,2,  34.9209,2,    111.7,2,   113.3,2,   12.90,2,   26.78,2,    0.00,2,    1.69,2,   1.335,2,   0.723,2,   0.019,2,  2196.0,2,  2294.1,2,  -999.0,9,   20.00,   7.6206,2,    25.00,-999.000,9, -999.00,-999.000,9,-999.000,9, -999.00,9,  -999.0,9,  -999.0,-999.000,9,-999.000,   0.404,4,   46.55,2,  263.40,-999.0000,9,-999.0000,9,-999.0000,9,-999.0000,9,-999.0000,9,-999.0000,9,  10.1109,     -999.0,-999.000,     -999.0,          9,     -999.0,          9,-999.000,          9
 33RO200501,       A16S,     107,          1,         28,         28,2,20050217,       1309,    -8.9998,   -25.0002,       5441,   313.6,   8.9513,  34.7918,2,  34.7919,2,    110.3,2,   109.5,2,   15.64,2,   29.81,2,    0.00,2,    1.85,2,-999.000,9,-999.000,9,-999.000,9,  2207.4,2,  2298.2,2,  -999.0,9,   20.00,   7.5800,2,    25.00,-999.000,9, -999.00,-999.000,9,-999.000,9, -999.00,9,  -999.0,9,  -999.0,-999.000,9,-999.000,-999.000,9,   44.12,2,  313.60,   0.1580,2,   0.1130,2,   0.0630,2,   0.0460,2,   0.0134,2,   0.0150,2,   8.9172,     -999.0,-999.000,     -999.0,          9,     -999.0,          9,-999.000,          9
 33RO200501,       A16S,     107,          1,         27,         27,2,20050217,       1309,    -8.9998,   -25.0002,       5441,   363.1,   8.4595,  34.7428,2,  34.7410,2,    110.8,2,   107.7,2,   17.01,2,   31.18,2,    0.00,2,    1.92,2,   0.865,2,   0.453,2,   0.012,2,  2015.8,4,  2295.3,2,  -999.0,9,   20.00,   7.5626,2,    25.00,-999.000,9, -999.00,-999.000,9,-999.000,9, -999.00,9,  -999.0,9,  -999.0,-999.000,9,-999.000,   0.403,4,   42.64,2,  363.10,-999.0000,9,-999.0000,9,-999.0000,9,-999.0000,9,-999.0000,9,-999.0000,9,   8.4212,     -999.0,-999.000,     -999.0,          9,     -999.0,          9,-999.000,          9
 33RO200501,       A16S,     107,          1,         26,         26,2,20050217,       1309,    -8.9998,   -25.0002,       5441,   448.4,   7.7589,  34.6848,2,  34.6795,2,     94.6,2,    93.8,2,   19.74,2,   34.31,2,    0.00,2,    2.10,2,   0.435,2,   0.233,2,   0.007,2,  2211.2,3,  2294.1,2,  -999.0,9,   20.00,   7.5166,2,    25.00,-999.000,9, -999.00,-999.000,9,-999.000,9, -999.00,9,  -999.0,9,  -999.0,-999.000,9,-999.000,   0.270,4,   41.57,2,  448.40,   0.1850,2,   0.1350,2,   0.0770,2,   0.0560,2,   0.0129,2,   0.0142,2,   7.7138,     -999.0,-999.000,     -999.0,          9,     -999.0,          9,-999.000,          9
 33RO200501,       A16S,     107,          1,         25,         25,2,20050217,       1309,    -8.9998,   -25.0002,       5441,   549.6,   6.8331,  34.6022,2,  34.6038,2,    105.7,2,   105.3,2,   22.29,2,   34.90,2,    0.00,2,    2.16,2,   0.321,2,   0.176,2,   0.011,2,  2228.9,2,  2294.1,2,  -999.0,9,   20.00,   7.5153,2,    25.00,-999.000,9, -999.00,-999.000,9,-999.000,9, -999.00,9,  -999.0,9,  -999.0,-999.000,9,-999.000,   0.280,4,   40.79,2,  549.60,-999.0000,9,-999.0000,9,-999.0000,9,-999.0000,9,-999.0000,9,-999.0000,9,   6.7813,     -999.0,-999.000,     -999.0,          9,     -999.0,          9,-999.000,          9
 33RO200501,       A16S,     107,          1,         24,         24,2,20050217,       1309,    -8.9998,   -25.0002,       5441,   649.2,   5.7519,  34.5187,2,  34.5186,2,    120.6,2,   125.5,2,   26.30,2,   35.09,2,    0.00,2,    2.21,2,   0.234,2,   0.126,2,   0.008,2,  2225.7,2,  2293.4,2,  -999.0,9,   20.00,   7.5298,2,    25.00,-999.000,9, -999.00,-999.000,9,-999.000,9, -999.00,9,  -999.0,9,  -999.0,-999.000,9,-999.000,   0.293,4, -999.00,9,  649.20,   0.1460,2,   0.1040,2,   0.0590,2,   0.0420,2,   0.0135,3,   0.0152,3,   5.6957,     -999.0,-999.000,     -999.0,          9,     -999.0,          9,-999.000,          9
 33RO200501,       A16S,     107,          1,         23,         23,2,20050217,       1309,    -8.9998,   -25.0002,       5441,   748.6,   5.0076,  34.4897,2,  34.4911,2,    138.3,2,   136.0,2,   30.50,2,   35.29,2,    0.00,2,    2.25,2,   0.110,2,   0.064,2,   0.004,2,  2223.7,2,  2296.2,2,  -999.0,9,   20.00,   7.5330,2,    25.00,-999.000,9, -999.00,-999.000,9,-999.000,9, -999.00,9,  -999.0,9,  -999.0,-999.000,9,-999.000,   0.202,4,   40.63,2,  748.60,-999.0000,9,-999.0000,9,-999.0000,9,-999.0000,9,-999.0000,9,-999.0000,9,   4.9465,     -999.0,-999.000,     -999.0,          9,     -999.0,          9,-999.000,          9
 33RO200501,       A16S,     107,          1,         22,         22,2,20050217,       1309,    -8.9998,   -25.0002,       5441,   849.6,   4.3549,  34.4795,2,  34.4807,2,    159.2,2,   157.5,2,   34.61,2,   34.02,2,    0.00,2,    2.19,2,   0.121,2,   0.063,2,   0.007,2,  2221.6,2,  2301.0,2,  -999.0,9,   20.00,   7.5596,2,    25.00,-999.000,9, -999.00,-999.000,9,-999.000,9, -999.00,9,  -999.0,9,  -999.0,-999.000,9,-999.000,   0.234,4, -999.00,9,  849.60,   0.1380,2,   0.0980,2,   0.0560,2,   0.0390,2,   0.0137,2,   0.0153,2,   4.2893,     -999.0,-999.000,     -999.0,          9,     -999.0,          9,-999.000,          9
 33RO200501,       A16S,     107,          1,         21,         21,2,20050217,       1309,    -8.9998,   -25.0002,       5441,   949.7,   4.0056,  34.5170,2,  34.5170,2,    170.5,2,   169.9,2,   37.25,2,   32.85,2,    0.00,2,    2.12,2,   0.123,2,   0.059,2,   0.004,2,  2220.8,2,  2301.2,2,  -999.0,9,   20.00,   7.5781,2,    25.00,-999.000,9, -999.00,-999.000,9,-999.000,9, -999.00,9,  -999.0,9,  -999.0,-999.000,9,-999.000,   0.250,4,   40.12,2,  949.70,-999.0000,9,-999.0000,9,-999.0000,9,-999.0000,9,-999.0000,9,-999.0000,9,   3.9340,     -999.0,-999.000,     -999.0,          9,     -999.0,          9,-999.000,          9
 33RO200501,       A16S,     107,          1,         20,         20,2,20050217,       1309,    -8.9998,   -25.0002,       5441,  1049.6,   4.0602,  34.6166,2,  34.6176,2,    171.7,2,   169.8,2,   34.99,6,   31.67,6,    0.00,6,    2.05,6,   0.038,2,   0.019,2,   0.006,2,  2207.8,2,  2303.9,2,  -999.0,9,   20.00,   7.5884,2,    25.00,-999.000,9, -999.00,-999.000,9,-999.000,9, -999.00,9,  -999.0,9,  -999.0,-999.000,9,-999.000,   0.083,4, -999.00,9, 1049.60,   0.1480,2,   0.1070,2,   0.0610,2,   0.0420,2,   0.0137,2,   0.0151,2,   3.9798,     -999.0,-999.000,     -999.0,          9,     -999.0,          9,-999.000,          9
 33RO200501,       A16S,     107,          1,         19,         19,2,20050217,       1309,    -8.9998,   -25.0002,       5441,  1149.3,   4.1606,  34.7245,2,  34.7258,2,    178.6,2,   178.8,2,   31.47,2,   29.42,2,    0.00,2,    1.88,2,   0.023,2,   0.014,2,   0.000,2,  2202.2,2,  2309.2,6,  -999.0,9,   20.00,   7.6143,6,    25.00,-999.000,9, -999.00,-999.000,9,-999.000,9, -999.00,9,  -999.0,9,  -999.0,-999.000,9,-999.000,   0.067,4,   39.54,2, 1149.30,-999.0000,9,-999.0000,9,-999.0000,9,-999.0000,9,-999.0000,9,-999.0000,9,   4.0705,     -999.0,-999.000,     -999.0,          9,     -999.0,          9,-999.000,          9
 33RO200501,       A16S,     107,          1,         18,         18,2,20050217,       1309,    -8.9998,   -25.0002,       5441,  1299.3,   4.2732,  34.8436,2,  34.8430,2,    195.7,2,   195.5,2,   26.39,2,   26.29,2,    0.00,2,    1.66,2,   0.037,2,   0.023,2,   0.000,2,  2190.5,2,  2307.7,2,  -999.0,9,   20.00,   7.6535,2,    25.00,-999.000,9, -999.00,-999.000,9,-999.000,9, -999.00,9,  -999.0,9,  -999.0,-999.000,9,-999.000,   0.112,4, -999.00,9, 1299.30,-999.0000,9,-999.0000,9,-999.0000,9,-999.0000,9,-999.0000,9,-999.0000,9,   4.1686,     -999.0,-999.000,     -999.0,          9,     -999.0,          9,-999.000,          9
 33RO200501,       A16S,     107,          1,         17,         17,2,20050217,       1309,    -8.9998,   -25.0002,       5441,  1499.7,   4.1728,  34.9453,2,  34.9463,2,    222.4,2,   224.8,2,   21.11,2,   22.09,2,    0.00,2,    1.38,2,   0.129,2,   0.070,2,   0.000,2,  2172.8,2,  2311.9,2,  -999.0,9,   20.00,   7.7008,2,    25.00,-999.000,9, -999.00,-999.000,9,-999.000,9, -999.00,9,  -999.0,9,  -999.0,-999.000,9,-999.000,   0.286,4,   40.14,2, 1499.70,-999.0000,9,-999.0000,9,-999.0000,9,-999.0000,9,-999.0000,9,-999.0000,9,   4.0507,     -999.0,-999.000,     -999.0,          9,     -999.0,          9,-999.000,          9
 33RO200501,       A16S,     107,          1,         16,         16,2,20050217,       1309,    -8.9998,   -25.0002,       5441,  1698.9,   3.8394,  34.9646,2,  34.9646,2,    239.6,2,   241.3,2,   20.91,2,   20.52,2,    0.00,2,    1.27,2,   0.106,2,   0.059,2,   0.009,2,  2165.4,2,  2317.2,2,  -999.0,9,   20.00,   7.7216,2,    25.00,-999.000,9, -999.00,-999.000,9,-999.000,9, -999.00,9,  -999.0,9,  -999.0,-999.000,9,-999.000,   0.282,4, -999.00,9, 1698.90,-999.0000,9,-999.0000,9,-999.0000,9,-999.0000,9,-999.0000,9,-999.0000,9,   3.7029,     -999.0,-999.000,     -999.0,          9,     -999.0,          9,-999.000,          9
 33RO200501,       A16S,     107,          1,         15,         15,2,20050217,       1309,    -8.9998,   -25.0002,       5441,  1900.4,   3.5232,  34.9569,2,  34.9591,2,    245.4,2,   245.6,2,   23.75,2,   20.33,2,    0.00,2,    1.27,2,   0.071,6,   0.034,6,   0.000,6,  2180.9,3,  2340.0,4,  -999.0,9,   20.00,   7.7290,2,    25.00,-999.000,9, -999.00,-999.000,9,-999.000,9, -999.00,9,  -999.0,9,  -999.0,-999.000,9,-999.000,   0.214,4,   39.25,2, 1900.40,   0.1720,2,   0.1290,2,   0.0690,2,   0.0450,2,   0.0151,2,   0.0159,2,   3.3721,     -999.0,-999.000,     -999.0,          9,     -999.0,          9,-999.000,          9
 33RO200501,       A16S,     107,          1,         14,         14,2,20050217,       1309,    -8.9998,   -25.0002,       5441,  2100.9,   3.2336,  34.9417,2,  34.9427,2,    245.9,2,   243.7,2,   28.24,2,   20.72,2,    0.00,2,    1.31,2,   0.043,2,   0.017,2,   0.006,2,  2171.8,2,  2315.0,2,  -999.0,9,   20.00,   7.7285,2,    25.00,-999.000,9, -999.00,-999.000,9,-999.000,9, -999.00,9,  -999.0,9,  -999.0,-999.000,9,-999.000,   0.139,4, -999.00,9, 2100.90,-999.0000,9,-999.0000,9,-999.0000,9,-999.0000,9,-999.0000,9,-999.0000,9,   3.0681,     -999.0,-999.000,     -999.0,          9,     -999.0,          9,-999.000,          9
 33RO200501,       A16S,     107,          1,         13,         13,2,20050217,       1309,    -8.9998,   -25.0002,       5441,  2300.1,   3.0244,  34.9263,2,  34.9286,2,    243.1,2,   243.1,2,   33.32,2,   21.40,2,    0.00,2,    1.36,2,   0.017,2,   0.003,2,   0.000,2,  2179.6,2,  2325.4,2,  -999.0,9,   20.00,   7.7232,2,    25.00,-999.000,9, -999.00,-999.000,9,-999.000,9, -999.00,9,  -999.0,9,  -999.0,-999.000,9,-999.000,   0.068,4,   39.41,2, 2300.10,-999.0000,9,-999.0000,9,-999.0000,9,-999.0000,9,-999.0000,9,-999.0000,9,   2.8435,     -999.0,-999.000,     -999.0,          9,     -999.0,          9,-999.000,          9
 33RO200501,       A16S,     107,          1,         12,         12,2,20050217,       1309,    -8.9998,   -25.0002,       5441,  2499.2,   2.8556,  34.9145,2,  34.9156,2,    240.6,2,   241.0,2,   37.63,2,   21.89,2,    0.00,2,    1.40,2,   0.005,2,  -0.004,2,   0.000,2,  2183.4,2,  2331.1,2,  -999.0,9,   20.00,   7.7196,2,    25.00,-999.000,9, -999.00,-999.000,9,-999.000,9, -999.00,9,  -999.0,9,  -999.0,-999.000,9,-999.000,   0.037,4, -999.00,9, 2499.20,-999.0000,9,-999.0000,9,-999.0000,9,-999.0000,9,-999.0000,9,-999.0000,9,   2.6584,     -999.0,-999.000,     -999.0,          9,     -999.0,          9,-999.000,          9
 33RO200501,       A16S,     107,          1,         11,         11,2,20050217,       1309,    -8.9998,   -25.0002,       5441,  2700.6,   2.7722,  34.9119,2,  34.9156,3,    241.6,2,   242.4,2,   38.41,2,   21.70,2,    0.00,2,    1.39,2,   0.008,2,  -0.001,2,   0.000,2,  2186.2,2,  2331.1,2,  -999.0,9,   20.00,   7.7204,2,    25.00,-999.000,9, -999.00,-999.000,9,-999.000,9, -999.00,9,  -999.0,9,  -999.0,-999.000,9,-999.000,   0.035,4,   39.58,2, 2700.60,   0.1890,2,   0.1410,2,   0.0740,3,   0.0470,3,   0.0154,3,   0.0163,3,   2.5569,     -999.0,-999.000,     -999.0,          9,     -999.0,          9,-999.000,          9
 33RO200501,       A16S,     107,          1,         10,         10,2,20050217,       1309,    -8.9998,   -25.0002,       5441,  2949.6,   2.6943,  34.9091,2,  34.9093,2,    243.3,2,   244.2,2,   39.38,2,   21.70,2,    0.00,2,    1.39,2,   0.009,2,  -0.001,2,   0.000,2,  2180.2,2,  2331.0,2,  -999.0,9,   20.00,   7.7221,2,    25.00,-999.000,9, -999.00,-999.000,9,-999.000,9, -999.00,9,  -999.0,9,  -999.0,-999.000,9,-999.000,   0.037,4, -999.00,9, 2949.60,-999.0000,9,-999.0000,9,-999.0000,9,-999.0000,9,-999.0000,9,-999.0000,9,   2.4555,     -999.0,-999.000,     -999.0,          9,     -999.0,          9,-999.000,          9
 33RO200501,       A16S,     107,          1,          9,          9,2,20050217,       1309,    -8.9998,   -25.0002,       5441,  3250.9,   2.6269,  34.9136,2,  34.9150,2,    250.0,2,   251.2,2,   36.35,2,   20.72,2,    0.00,2,    1.33,2,   0.016,2,   0.029,2,   0.005,2,  2175.3,2,  2331.5,2,  -999.0,9,   20.00,   7.7297,2,    25.00,-999.000,9, -999.00,-999.000,9,-999.000,9, -999.00,9,  -999.0,9,  -999.0,-999.000,9,-999.000,   0.084,4,   40.39,2, 3250.90,-999.0000,9,-999.0000,9,-999.0000,9,-999.0000,9,-999.0000,9,-999.0000,9,   2.3581,     -999.0,-999.000,     -999.0,          9,     -999.0,          9,-999.000,          9
 33RO200501,       A16S,     107,          1,          8,          8,2,20050217,       1309,    -8.9998,   -25.0002,       5441,  3550.6,   2.5071,  34.9073,2,  34.9073,2,    254.3,2,   254.8,2,   36.94,2,   20.52,2,    0.00,2,    1.32,2,   0.042,2,   0.022,2,   0.000,2,  2175.6,2,  2330.9,2,  -999.0,9,   20.00,   7.7318,2,    25.00,-999.000,9, -999.00,-999.000,9,-999.000,9, -999.00,9,  -999.0,9,  -999.0,-999.000,9,-999.000,   0.144,4, -999.00,9, 3550.60,-999.0000,9,-999.0000,9,-999.0000,9,-999.0000,9,-999.0000,9,-999.0000,9,   2.2090,     -999.0,-999.000,     -999.0,          9,     -999.0,          9,-999.000,          9