BOTTLE,20220818CCHSIOAMB
EXPOCODE,SECT_ID,STNNBR,CASTNO,SAMPNO,BTLNBR,BTLNBR_FLAG_W,DATE,TIME,LATITUDE,LONGITUDE,DEPTH,CTDPRS,CTDTMP,CTDSAL,CTDSAL_FLAG_W,SALNTY,SALNTY_FLAG_W,CTDOXY,CTDOXY_FLAG_W,OXYGEN,OXYGEN_FLAG_W,SILCAT,SILCAT_FLAG_W,NITRAT,NITRAT_FLAG_W,NITRIT,NITRIT_FLAG_W,PHSPHT,PHSPHT_FLAG_W,CFC-11,CFC-11_FLAG_W,CFC-12,CFC-12_FLAG_W,CFC113,CFC113_FLAG_W,TCARBN,TCARBN_FLAG_W,ALKALI,ALKALI_FLAG_W,PCO2,PCO2_FLAG_W,PCO2TMP,PH_SWS,PH_SWS_FLAG_W,PH_TMP,TRITUM,TRITUM_FLAG_W,TRITER,HELIUM,HELIUM_FLAG_W,DELHE3,DELHE3_FLAG_W,DELC13,DELC13_FLAG_W,DELC14,DELC14_FLAG_W,C14ERR,NEON,NEON_FLAG_W,NEONER,CCL4,CCL4_FLAG_W,DOC,DOC_FLAG_W,CTDRAW,CDOM325,CDOM325_FLAG_W,CDOM340,CDOM340_FLAG_W,CDOM380,CDOM380_FLAG_W,CDOM412,CDOM412_FLAG_W,CDOMSL,CDOMSL_FLAG_W,CDOMSN,CDOMSN_FLAG_W,THETA,HELIER,DELHER,CH3CL,CH3CL_FLAG_W,CH3BR,CH3BR_FLAG_W,CH3I,CH3I_FLAG_W
,,,,,,,,,,,METERS,DBAR,ITS-90,PSS-78,,PSS-78,,UMOL/KG,,UMOL/KG,,UMOL/KG,,UMOL/KG,,UMOL/KG,,UMOL/KG,,PMOL/KG,,PMOL/KG,,PMOL/KG,,UMOL/KG,,UMOL/KG,,UATM,,DEG C,,,DEG C,TU,,TU,NMOL/KG,,PERCNT,,/MILLE,,/MILLE,,/MILLE,NMOL/KG,,NMOL/KG,PMOL/KG,,UMOL/KG,,DBAR,1/M,,1/M,,1/M,,1/M,,1/NM,,1/NM,,DEG C,NMOL/KG,PERCNT,PMOL/KG,,PMOL/KG,,PMOL/KG,
 33RO200501,       A16S,      24,          1,         36,         36,2,20050122,       2346,   -50.5002,   -34.3002,       4815,     3.3,   5.6338,  33.7635,2,  33.7631,2,    318.2,2,   317.1,2,    1.05,2,   17.39,2,    0.20,2,    1.09,2,   4.976,2,   2.782,2,   0.437,2,  2099.2,2,  2278.3,6,  -999.0,9,   20.00,   7.8262,6,    25.00,-999.000,9, -999.00,-999.000,9,-999.000,9, -999.00,9,  -999.0,9,  -999.0,-999.000,9,-999.000,   5.585,4, -999.00,9,    3.30,-999.0000,9,-999.0000,9,-999.0000,9,-999.0000,9,-999.0000,9,-999.0000,9,   5.6335,     -999.0,-999.000,     63.444,          2,      1.917,          2,   1.176,          2
 33RO200501,       A16S,      24,          1,         35,         35,2,20050122,       2346,   -50.5002,   -34.3002,       4815,    20.8,   5.3674,  33.7523,2,  33.7541,2,    318.2,2,   318.7,2,    1.05,2,   17.33,2,    0.19,2,    1.11,2,-999.000,9,-999.000,9,-999.000,9,  -999.0,9,  -999.0,9,  -999.0,9,   20.00,-999.0000,9,    25.00,-999.000,9, -999.00,-999.000,9,-999.000,9, -999.00,9,  -999.0,9,  -999.0,-999.000,9,-999.000,-999.000,9, -999.00,9,   20.80,-999.0000,9,-999.0000,9,-999.0000,9,-999.0000,9,-999.0000,9,-999.0000,9,   5.3657,     -999.0,-999.000,     61.979,          2,      1.848,          2,   1.264,          2
 33RO200501,       A16S,      24,          1,         34,         34,2,20050122,       2346,   -50.5002,   -34.3002,       4815,    41.1,   4.6546,  33.7579,2,  33.7651,2,    316.8,2,   317.7,2,    2.47,2,   18.13,2,    0.21,2,    1.27,2,-999.000,9,-999.000,9,-999.000,9,  -999.0,9,  -999.0,9,  -999.0,9,   20.00,-999.0000,9,    25.00,-999.000,9, -999.00,-999.000,9,-999.000,9, -999.00,9,  -999.0,9,  -999.0,-999.000,9,-999.000,-999.000,9, -999.00,9,   41.10,-999.0000,9,-999.0000,9,-999.0000,9,-999.0000,9,-999.0000,9,-999.0000,9,   4.6516,     -999.0,-999.000,     57.171,          2,      1.261,          2,   1.216,          2
 33RO200501,       A16S,      24,          1,         33,         33,2,20050122,       2346,   -50.5002,   -34.3002,       4815,    61.3,   3.7660,  33.7991,2,  33.8136,2,    317.4,2,   318.6,2,    6.62,2,   20.10,2,    0.23,2,    1.53,2,-999.000,9,-999.000,9,-999.000,9,  -999.0,9,  -999.0,9,  -999.0,9,   20.00,-999.0000,9,    25.00,-999.000,9, -999.00,-999.000,9,-999.000,9, -999.00,9,  -999.0,9,  -999.0,-999.000,9,-999.000,-999.000,9, -999.00,9,   61.30,-999.0000,9,-999.0000,9,-999.0000,9,-999.0000,9,-999.0000,9,-999.0000,9,   3.7620,     -999.0,-999.000,     46.067,          2,      0.980,          2,   1.016,          2
 33RO200501,       A16S,      24,          1,         32,         32,2,20050122,       2346,   -50.5002,   -34.3002,       4815,    80.4,   2.4135,  33.8461,2,  33.8561,2,    318.7,2,   321.4,2,   14.41,2,   23.36,2,    0.26,2,    1.77,2,-999.000,9,-999.000,9,-999.000,9,  -999.0,9,  -999.0,9,  -999.0,9,   20.00,-999.0000,9,    25.00,-999.000,9, -999.00,-999.000,9,-999.000,9, -999.00,9,  -999.0,9,  -999.0,-999.000,9,-999.000,-999.000,9, -999.00,9,   80.40,-999.0000,9,-999.0000,9,-999.0000,9,-999.0000,9,-999.0000,9,-999.0000,9,   2.4092,     -999.0,-999.000,     -999.0,          9,     -999.0,          9,-999.000,          9
 33RO200501,       A16S,      24,          1,         31,         31,2,20050122,       2346,   -50.5002,   -34.3002,       4815,   101.1,   1.1873,  33.8952,2,  33.8990,2,    319.0,2,   319.7,2,   22.74,2,   26.26,2,    0.26,2,    1.89,2,   5.768,6,   3.087,6,   0.512,6,  2161.0,2,  2277.9,2,  -999.0,9,   20.00,   7.6842,2,    25.00,-999.000,9, -999.00,-999.000,9,-999.000,9, -999.00,9,  -999.0,9,  -999.0,-999.000,9,-999.000,   5.917,4, -999.00,9,  101.10,-999.0000,9,-999.0000,9,-999.0000,9,-999.0000,9,-999.0000,9,-999.0000,9,   1.1828,     -999.0,-999.000,     25.973,          2,      0.349,          2,   0.370,          2
 33RO200501,       A16S,      24,          1,         30,         30,2,20050122,       2346,   -50.5002,   -34.3002,       4815,   125.6,   0.9271,  33.9435,2,  33.9450,2,    307.4,2,   310.1,6,   27.94,2,   28.09,2,    0.20,2,    1.92,2,-999.000,9,-999.000,9,-999.000,9,  -999.0,9,  -999.0,9,  -999.0,9,   20.00,-999.0000,9,    25.00,-999.000,9, -999.00,-999.000,9,-999.000,9, -999.00,9,  -999.0,9,  -999.0,-999.000,9,-999.000,-999.000,9, -999.00,9,  125.60,-999.0000,9,-999.0000,9,-999.0000,9,-999.0000,9,-999.0000,9,-999.0000,9,   0.9217,     -999.0,-999.000,     -999.0,          9,     -999.0,          9,-999.000,          9
 33RO200501,       A16S,      24,          1,         29,         29,2,20050122,       2346,   -50.5002,   -34.3002,       4815,   149.8,   1.1590,  34.0112,2,  34.0238,2,    293.4,2,   289.9,2,   32.69,2,   29.48,2,    0.10,2,    1.99,2,-999.000,9,-999.000,9,-999.000,9,  -999.0,9,  -999.0,9,  -999.0,9,   20.00,-999.0000,9,    25.00,-999.000,9, -999.00,-999.000,9,-999.000,9, -999.00,9,  -999.0,9,  -999.0,-999.000,9,-999.000,-999.000,9, -999.00,9,  149.80,-999.0000,9,-999.0000,9,-999.0000,9,-999.0000,9,-999.0000,9,-999.0000,9,   1.1523,     -999.0,-999.000,     -999.0,          9,     -999.0,          9,-999.000,          9
 33RO200501,       A16S,      24,          1,         28,         28,2,20050122,       2346,   -50.5002,   -34.3002,       4815,   175.4,   1.8894,  34.1810,2,  34.1831,2,    249.4,2,   247.3,2,   41.67,2,   31.70,2,    0.02,2,    2.14,2,-999.000,9,-999.000,9,-999.000,9,  -999.0,9,  -999.0,9,  -999.0,9,   20.00,-999.0000,9,    25.00,-999.000,9, -999.00,-999.000,9,-999.000,9, -999.00,9,  -999.0,9,  -999.0,-999.000,9,-999.000,-999.000,9, -999.00,9,  175.40,-999.0000,9,-999.0000,9,-999.0000,9,-999.0000,9,-999.0000,9,-999.0000,9,   1.8803,     -999.0,-999.000,      4.010,          2,      0.000,          2,   0.113,          2
 33RO200501,       A16S,      24,          1,         27,         27,2,20050122,       2346,   -50.5002,   -34.3002,       4815,   200.3,   1.9596,  34.2166,2,  34.2161,2,    234.3,2,   238.1,2,   44.75,2,   32.20,2,    0.02,2,    2.18,2,-999.000,9,-999.000,9,-999.000,9,  -999.0,9,  -999.0,9,  -999.0,9,   20.00,-999.0000,9,    25.00,-999.000,9, -999.00,-999.000,9,-999.000,9, -999.00,9,  -999.0,9,  -999.0,-999.000,9,-999.000,-999.000,9, -999.00,9,  200.30,-999.0000,9,-999.0000,9,-999.0000,9,-999.0000,9,-999.0000,9,-999.0000,9,   1.9491,     -999.0,-999.000,     -999.0,          9,     -999.0,          9,-999.000,          9
 33RO200501,       A16S,      24,          1,         26,         26,2,20050122,       2346,   -50.5002,   -34.3002,       4815,   250.0,   1.8999,  34.2556,2,  34.2547,2,    226.7,2,   230.8,2,   49.85,2,   32.81,2,    0.02,2,    2.22,2,-999.000,9,-999.000,9,-999.000,9,  -999.0,9,  -999.0,9,  -999.0,9,   20.00,-999.0000,9,    25.00,-999.000,9, -999.00,-999.000,9,-999.000,9, -999.00,9,  -999.0,9,  -999.0,-999.000,9,-999.000,-999.000,9, -999.00,9,  250.00,-999.0000,9,-999.0000,9,-999.0000,9,-999.0000,9,-999.0000,9,-999.0000,9,   1.8867,     -999.0,-999.000,     -999.0,          9,     -999.0,          9,-999.000,          9
 33RO200501,       A16S,      24,          1,         25,         25,2,20050122,       2346,   -50.5002,   -34.3002,       4815,   300.5,   2.0348,  34.3413,2,  34.3414,2,    207.8,2,   209.9,2,   57.91,2,   33.82,2,    0.02,2,    2.29,2,-999.000,9,-999.000,9,-999.000,9,  -999.0,9,  -999.0,9,  -999.0,9,   20.00,-999.0000,9,    25.00,-999.000,9, -999.00,-999.000,9,-999.000,9, -999.00,9,  -999.0,9,  -999.0,-999.000,9,-999.000,-999.000,9, -999.00,9,  300.50,-999.0000,9,-999.0000,9,-999.0000,9,-999.0000,9,-999.0000,9,-999.0000,9,   2.0185,     -999.0,-999.000,      0.141,          2,      0.000,          2,   0.118,          2
 33RO200501,       A16S,      24,          1,         24,         24,2,20050122,       2346,   -50.5002,   -34.3002,       4815,   350.3,   1.9788,  34.3955,2,  34.3958,2,    197.1,2,   199.6,2,   64.39,2,   34.37,2,    0.02,2,    2.33,2,   1.859,2,   0.964,2,   0.143,2,  2256.9,2,  2318.6,2,  -999.0,9,   20.00,   7.5672,2,    25.00,-999.000,9, -999.00,-999.000,9,-999.000,9, -999.00,9,  -999.0,9,  -999.0,-999.000,9,-999.000,   1.987,3, -999.00,9,  350.30,-999.0000,9,-999.0000,9,-999.0000,9,-999.0000,9,-999.0000,9,-999.0000,9,   1.9598,     -999.0,-999.000,     -999.0,          9,     -999.0,          9,-999.000,          9
 33RO200501,       A16S,      24,          1,         23,         23,2,20050122,       2346,   -50.5002,   -34.3002,       4815,   401.2,   2.0821,  34.4505,2,  34.4507,2,    189.9,2,   188.7,2,   68.51,2,   34.49,2,    0.01,2,    2.35,2,-999.000,9,-999.000,9,-999.000,9,  -999.0,9,  -999.0,9,  -999.0,9,   20.00,-999.0000,9,    25.00,-999.000,9, -999.00,-999.000,9,-999.000,9, -999.00,9,  -999.0,9,  -999.0,-999.000,9,-999.000,-999.000,9, -999.00,9,  401.20,-999.0000,9,-999.0000,9,-999.0000,9,-999.0000,9,-999.0000,9,-999.0000,9,   2.0598,     -999.0,-999.000,     -999.0,          9,     -999.0,          9,-999.000,          9
 33RO200501,       A16S,      24,          1,         22,         22,2,20050122,       2346,   -50.5002,   -34.3002,       4815,   499.8,   2.2284,  34.5208,2,  34.5203,2,    176.9,2,   178.0,2,   73.08,2,   34.30,2,    0.01,2,    2.35,2,-999.000,9,-999.000,9,-999.000,9,  -999.0,9,  -999.0,9,  -999.0,9,   20.00,-999.0000,9,    25.00,-999.000,9, -999.00,-999.000,9,-999.000,9, -999.00,9,  -999.0,9,  -999.0,-999.000,9,-999.000,-999.000,9, -999.00,9,  499.80,-999.0000,9,-999.0000,9,-999.0000,9,-999.0000,9,-999.0000,9,-999.0000,9,   2.1996,     -999.0,-999.000,      0.000,          2,      0.000,          2,   0.045,          2
 33RO200501,       A16S,      24,          1,         21,         21,2,20050122,       2346,   -50.5002,   -34.3002,       4815,   600.7,   2.1727,  34.5701,2,  34.5697,2,    174.0,2,   174.4,2,   77.67,2,   34.07,2,    0.00,2,    2.34,2,-999.000,9,-999.000,9,-999.000,9,  -999.0,9,  -999.0,9,  -999.0,9,   20.00,-999.0000,9,    25.00,-999.000,9, -999.00,-999.000,9,-999.000,9, -999.00,9,  -999.0,9,  -999.0,-999.000,9,-999.000,-999.000,9, -999.00,9,  600.70,-999.0000,9,-999.0000,9,-999.0000,9,-999.0000,9,-999.0000,9,-999.0000,9,   2.1377,     -999.0,-999.000,     -999.0,          9,     -999.0,          9,-999.000,          9
 33RO200501,       A16S,      24,          1,         20,         20,2,20050122,       2346,   -50.5002,   -34.3002,       4815,   700.5,   2.1456,  34.6131,2,  34.6120,2,    172.6,2,   172.5,2,   81.07,2,   33.59,2,    0.00,2,    2.32,2,   0.421,2,   0.213,2,   0.021,2,  2255.3,2,  2342.6,2,  -999.0,9,   20.00,   7.5713,2,    25.00,-999.000,9, -999.00,-999.000,9,-999.000,9, -999.00,9,  -999.0,9,  -999.0,-999.000,9,-999.000,   0.556,3, -999.00,9,  700.50,-999.0000,9,-999.0000,9,-999.0000,9,-999.0000,9,-999.0000,9,-999.0000,9,   2.1044,     -999.0,-999.000,     -999.0,          9,     -999.0,          9,-999.000,          9
 33RO200501,       A16S,      24,          1,         19,         19,2,20050122,       2346,   -50.5002,   -34.3002,       4815,   799.9,   2.0689,  34.6476,2,  34.6478,2,    173.9,2,   173.7,2,   84.65,2,   33.16,2,    0.00,2,    2.30,2,-999.000,9,-999.000,9,-999.000,9,  -999.0,9,  -999.0,9,  -999.0,9,   20.00,-999.0000,9,    25.00,-999.000,9, -999.00,-999.000,9,-999.000,9, -999.00,9,  -999.0,9,  -999.0,-999.000,9,-999.000,-999.000,9, -999.00,9,  799.90,-999.0000,9,-999.0000,9,-999.0000,9,-999.0000,9,-999.0000,9,-999.0000,9,   2.0216,     -999.0,-999.000,      0.000,          2,      0.159,          2,   0.072,          2
 33RO200501,       A16S,      24,          1,         18,         18,2,20050122,       2346,   -50.5002,   -34.3002,       4815,   901.5,   2.0260,  34.6785,2,  34.6790,2,    176.8,2,   174.7,2,   88.75,6,   32.79,6,    0.00,6,    2.27,6,-999.000,9,-999.000,9,-999.000,9,  -999.0,9,  -999.0,9,  -999.0,9,   20.00,-999.0000,9,    25.00,-999.000,9, -999.00,-999.000,9,-999.000,9, -999.00,9,  -999.0,9,  -999.0,-999.000,9,-999.000,-999.000,9, -999.00,9,  901.50,-999.0000,9,-999.0000,9,-999.0000,9,-999.0000,9,-999.0000,9,-999.0000,9,   1.9722,     -999.0,-999.000,     -999.0,          9,     -999.0,          9,-999.000,          9
 33RO200501,       A16S,      24,          1,         17,         17,2,20050122,       2346,   -50.5002,   -34.3002,       4815,  1000.0,   2.0599,  34.7064,2,  34.7065,2,    181.0,2,   181.8,2,   85.31,6,   31.78,6,    0.00,6,    2.19,6,   0.188,2,   0.100,2,   0.010,2,  2253.0,2,  2349.6,2,  -999.0,9,   20.00,   7.6067,2,    25.00,-999.000,9, -999.00,-999.000,9,-999.000,9, -999.00,9,  -999.0,9,  -999.0,-999.000,9,-999.000,   0.293,3, -999.00,9, 1000.00,-999.0000,9,-999.0000,9,-999.0000,9,-999.0000,9,-999.0000,9,-999.0000,9,   1.9991,     -999.0,-999.000,     -999.0,          9,     -999.0,          9,-999.000,          9
 33RO200501,       A16S,      24,          1,         16,         16,2,20050122,       2346,   -50.5002,   -34.3002,       4815,  1199.3,   1.9129,  34.7290,2,  34.7291,2,    187.5,2,   189.3,2,   87.45,2,   31.19,2,    0.00,2,    2.14,2,-999.000,9,-999.000,9,-999.000,9,  -999.0,9,  -999.0,9,  -999.0,9,   20.00,-999.0000,9,    25.00,-999.000,9, -999.00,-999.000,9,-999.000,9, -999.00,9,  -999.0,9,  -999.0,-999.000,9,-999.000,-999.000,9, -999.00,9, 1199.30,-999.0000,9,-999.0000,9,-999.0000,9,-999.0000,9,-999.0000,9,-999.0000,9,   1.8394,     -999.0,-999.000,      0.000,          2,      0.000,          2,   0.046,          2
 33RO200501,       A16S,      24,          1,         15,         15,2,20050122,       2346,   -50.5002,   -34.3002,       4815,  1399.7,   1.8134,  34.7379,2,  34.7376,2,    192.2,2,   194.4,2,   88.86,2,   30.80,2,    0.00,2,    2.12,2,-999.000,9,-999.000,9,-999.000,9,  -999.0,9,  -999.0,9,  -999.0,9,   20.00,-999.0000,9,    25.00,-999.000,9, -999.00,-999.000,9,-999.000,9, -999.00,9,  -999.0,9,  -999.0,-999.000,9,-999.000,-999.000,9, -999.00,9, 1399.70,-999.0000,9,-999.0000,9,-999.0000,9,-999.0000,9,-999.0000,9,-999.0000,9,   1.7263,     -999.0,-999.000,     -999.0,          9,     -999.0,          9,-999.000,          9
 33RO200501,       A16S,      24,          1,         14,         14,2,20050122,       2346,   -50.5002,   -34.3002,       4815,  1599.8,   1.5726,  34.7312,2,  34.7311,2,    198.5,2,   196.6,2,   94.55,6,   30.86,6,    0.00,6,    2.15,6,-999.000,9,-999.000,9,-999.000,9,  -999.0,9,  -999.0,9,  -999.0,9,   20.00,-999.0000,9,    25.00,-999.000,9, -999.00,-999.000,9,-999.000,9, -999.00,9,  -999.0,9,  -999.0,-999.000,9,-999.000,-999.000,9, -999.00,9, 1599.80,-999.0000,9,-999.0000,9,-999.0000,9,-999.0000,9,-999.0000,9,-999.0000,9,   1.4735,     -999.0,-999.000,     -999.0,          9,     -999.0,          9,-999.000,          9
 33RO200501,       A16S,      24,          1,         13,         13,2,20050122,       2346,   -50.5002,   -34.3002,       4815,  1801.6,   1.4970,  34.7409,2,  34.7404,2,    199.2,2,   200.2,2,   96.38,6,   30.51,6,    0.00,6,    2.14,6,-999.000,9,-999.000,9,-999.000,9,  -999.0,9,  -999.0,9,  -999.0,9,   20.00,-999.0000,9,    25.00,-999.000,9, -999.00,-999.000,9,-999.000,9, -999.00,9,  -999.0,9,  -999.0,-999.000,9,-999.000,-999.000,9, -999.00,9, 1801.60,-999.0000,9,-999.0000,9,-999.0000,9,-999.0000,9,-999.0000,9,-999.0000,9,   1.3835,     -999.0,-999.000,      0.976,          2,      0.000,          2,   0.047,          2
 33RO200501,       A16S,      24,          1,         12,         12,2,20050122,       2346,   -50.5002,   -34.3002,       4815,  2000.8,   1.3086,  34.7300,2,  34.7302,2,    201.2,2,   201.2,2,  101.99,2,   30.92,2,    0.00,2,    2.17,2,   0.138,2,   0.072,2,   0.004,2,  2255.8,2,  2357.4,2,  -999.0,9,   20.00,   7.6162,2,    25.00,-999.000,9, -999.00,-999.000,9,-999.000,9, -999.00,9,  -999.0,9,  -999.0,-999.000,9,-999.000,   0.216,3, -999.00,9, 2000.80,-999.0000,9,-999.0000,9,-999.0000,9,-999.0000,9,-999.0000,9,-999.0000,9,   1.1823,     -999.0,-999.000,     -999.0,          9,     -999.0,          9,-999.000,          9
 33RO200501,       A16S,      24,          1,         11,         11,2,20050122,       2346,   -50.5002,   -34.3002,       4815,  2200.9,   1.0652,  34.7124,2,  34.7127,2,    203.2,2,   203.7,2,  108.12,2,   31.51,2,    0.00,2,    2.22,2,-999.000,9,-999.000,9,-999.000,9,  -999.0,9,  -999.0,9,  -999.0,9,   20.00,-999.0000,9,    25.00,-999.000,9, -999.00,-999.000,9,-999.000,9, -999.00,9,  -999.0,9,  -999.0,-999.000,9,-999.000,-999.000,9, -999.00,9, 2200.90,-999.0000,9,-999.0000,9,-999.0000,9,-999.0000,9,-999.0000,9,-999.0000,9,   0.9269,     -999.0,-999.000,     -999.0,          9,     -999.0,          9,-999.000,          9
 33RO200501,       A16S,      24,          1,         10,         10,2,20050122,       2346,   -50.5002,   -34.3002,       4815,  2399.8,   0.8577,  34.7006,2,  34.7003,2,    206.3,2,   193.5,3,  112.71,2,   31.86,2,    0.00,2,    2.24,2,-999.000,9,-999.000,9,-999.000,9,  -999.0,9,  -999.0,9,  -999.0,9,   20.00,-999.0000,9,    25.00,-999.000,9, -999.00,-999.000,9,-999.000,9, -999.00,9,  -999.0,9,  -999.0,-999.000,9,-999.000,-999.000,9, -999.00,9, 2399.80,-999.0000,9,-999.0000,9,-999.0000,9,-999.0000,9,-999.0000,9,-999.0000,9,   0.7069,     -999.0,-999.000,      0.000,          2,      0.000,          2,   0.031,          2
 33RO200501,       A16S,      24,          1,          9,          9,2,20050122,       2346,   -50.5002,   -34.3002,       4815,  2600.4,   0.7512,  34.7011,2,  34.7007,2,    208.4,2,   209.3,2,  115.75,2,   31.95,2,    0.00,2,    2.25,2,-999.000,9,-999.000,9,-999.000,9,  -999.0,9,  -999.0,9,  -999.0,9,   20.00,-999.0000,9,    25.00,-999.000,9, -999.00,-999.000,9,-999.000,9, -999.00,9,  -999.0,9,  -999.0,-999.000,9,-999.000,-999.000,9, -999.00,9, 2600.40,-999.0000,9,-999.0000,9,-999.0000,9,-999.0000,9,-999.0000,9,-999.0000,9,   0.5858,     -999.0,-999.000,     -999.0,          9,     -999.0,          9,-999.000,          9
 33RO200501,       A16S,      24,          1,          8,          8,2,20050122,       2346,   -50.5002,   -34.3002,       4815,  2899.7,   0.5294,  34.6864,2,  34.6863,2,    212.6,2,   213.3,2,  118.72,2,   32.33,2,    0.00,2,    2.27,2,   0.480,2,   0.241,2,   0.027,2,  2268.0,2,  2323.9,3,  -999.0,9,   20.00,   7.6069,2,    25.00,-999.000,9, -999.00,-999.000,9,-999.000,9, -999.00,9,  -999.0,9,  -999.0,-999.000,9,-999.000,   0.588,3, -999.00,9, 2899.70,-999.0000,9,-999.0000,9,-999.0000,9,-999.0000,9,-999.0000,9,-999.0000,9,   0.3429,     -999.0,-999.000,     -999.0,          9,     -999.0,          9,-999.000,          9