BOTTLE,20220818CCHSIOAMB
EXPOCODE,SECT_ID,STNNBR,CASTNO,SAMPNO,BTLNBR,BTLNBR_FLAG_W,DATE,TIME,LATITUDE,LONGITUDE,DEPTH,CTDPRS,CTDTMP,CTDSAL,CTDSAL_FLAG_W,SALNTY,SALNTY_FLAG_W,CTDOXY,CTDOXY_FLAG_W,OXYGEN,OXYGEN_FLAG_W,SILCAT,SILCAT_FLAG_W,NITRAT,NITRAT_FLAG_W,NITRIT,NITRIT_FLAG_W,PHSPHT,PHSPHT_FLAG_W,CFC-11,CFC-11_FLAG_W,CFC-12,CFC-12_FLAG_W,CFC113,CFC113_FLAG_W,TCARBN,TCARBN_FLAG_W,ALKALI,ALKALI_FLAG_W,PCO2,PCO2_FLAG_W,PCO2TMP,PH_SWS,PH_SWS_FLAG_W,PH_TMP,TRITUM,TRITUM_FLAG_W,TRITER,HELIUM,HELIUM_FLAG_W,DELHE3,DELHE3_FLAG_W,DELC13,DELC13_FLAG_W,DELC14,DELC14_FLAG_W,C14ERR,NEON,NEON_FLAG_W,NEONER,CCL4,CCL4_FLAG_W,DOC,DOC_FLAG_W,CTDRAW,CDOM325,CDOM325_FLAG_W,CDOM340,CDOM340_FLAG_W,CDOM380,CDOM380_FLAG_W,CDOM412,CDOM412_FLAG_W,CDOMSL,CDOMSL_FLAG_W,CDOMSN,CDOMSN_FLAG_W,THETA,HELIER,DELHER,CH3CL,CH3CL_FLAG_W,CH3BR,CH3BR_FLAG_W,CH3I,CH3I_FLAG_W
,,,,,,,,,,,METERS,DBAR,ITS-90,PSS-78,,PSS-78,,UMOL/KG,,UMOL/KG,,UMOL/KG,,UMOL/KG,,UMOL/KG,,UMOL/KG,,PMOL/KG,,PMOL/KG,,PMOL/KG,,UMOL/KG,,UMOL/KG,,UATM,,DEG C,,,DEG C,TU,,TU,NMOL/KG,,PERCNT,,/MILLE,,/MILLE,,/MILLE,NMOL/KG,,NMOL/KG,PMOL/KG,,UMOL/KG,,DBAR,1/M,,1/M,,1/M,,1/M,,1/NM,,1/NM,,DEG C,NMOL/KG,PERCNT,PMOL/KG,,PMOL/KG,,PMOL/KG,
 33RO200501,       A16S,      46,          1,         36,         36,2,20050129,       2228,   -39.5007,   -27.4848,       4139,     4.2,  17.9848,  35.3981,2,  35.3940,2,    240.3,2,   240.2,2,    1.32,2,    0.00,2,    0.01,2,    0.12,2,   2.544,2,   1.599,2,   0.206,2,  2056.2,2,  2326.9,6,  -999.0,9,   20.00,   7.9896,6,    25.00,-999.000,9, -999.00,-999.000,9,-999.000,9, -999.00,9,  -999.0,9,  -999.0,-999.000,9,-999.000,   5.882,4, -999.00,9,    4.20,-999.0000,9,-999.0000,9,-999.0000,9,-999.0000,9,-999.0000,9,-999.0000,9,  17.9841,     -999.0,-999.000,     82.142,          2,      1.939,          2,   4.626,          2
 33RO200501,       A16S,      46,          1,         35,         35,2,20050129,       2228,   -39.5007,   -27.4848,       4139,    25.8,  17.3091,  35.3796,2,  35.3770,2,    240.8,2,   241.4,2,    1.39,2,    0.01,2,    0.01,2,    0.13,2,-999.000,9,-999.000,9,-999.000,9,  -999.0,9,  -999.0,9,  -999.0,9,   20.00,-999.0000,9,    25.00,-999.000,9, -999.00,-999.000,9,-999.000,9, -999.00,9,  -999.0,9,  -999.0,-999.000,9,-999.000,-999.000,9, -999.00,9,   25.80,-999.0000,9,-999.0000,9,-999.0000,9,-999.0000,9,-999.0000,9,-999.0000,9,  17.3048,     -999.0,-999.000,     96.925,          4,      2.077,          4,   4.762,          4
 33RO200501,       A16S,      46,          1,         34,         34,2,20050129,       2228,   -39.5007,   -27.4848,       4139,    50.1,  15.3802,  35.4082,2,  35.4090,2,    256.2,2,   255.2,2,    1.62,2,    0.47,2,    0.08,2,    0.20,2,-999.000,9,-999.000,9,-999.000,9,  -999.0,9,  -999.0,9,  -999.0,9,   20.00,-999.0000,9,    25.00,-999.000,9, -999.00,-999.000,9,-999.000,9, -999.00,9,  -999.0,9,  -999.0,-999.000,9,-999.000,-999.000,9, -999.00,9,   50.10,-999.0000,9,-999.0000,9,-999.0000,9,-999.0000,9,-999.0000,9,-999.0000,9,  15.3725,     -999.0,-999.000,    100.093,          2,      1.635,          2,   5.239,          2
 33RO200501,       A16S,      46,          1,         33,         33,2,20050129,       2228,   -39.5007,   -27.4848,       4139,    71.7,  14.5783,  35.4555,2,  35.4553,2,    240.5,2,   238.5,2,    1.89,2,    3.90,2,    0.06,2,    0.39,2,-999.000,9,-999.000,9,-999.000,9,  -999.0,9,  -999.0,9,  -999.0,9,   20.00,-999.0000,9,    25.00,-999.000,9, -999.00,-999.000,9,-999.000,9, -999.00,9,  -999.0,9,  -999.0,-999.000,9,-999.000,-999.000,9, -999.00,9,   71.70,-999.0000,9,-999.0000,9,-999.0000,9,-999.0000,9,-999.0000,9,-999.0000,9,  14.5677,     -999.0,-999.000,     -999.0,          9,     -999.0,          9,-999.000,          9
 33RO200501,       A16S,      46,          1,         32,         32,2,20050129,       2228,   -39.5007,   -27.4848,       4139,    90.3,  14.3163,  35.4440,2,  35.4461,2,    236.4,2,   237.5,2,    2.01,2,    4.68,2,    0.02,2,    0.42,2,   2.849,2,   1.683,2,   0.199,2,  2093.4,2,  2326.3,2,  -999.0,9,   20.00,   7.9273,2,    25.00,-999.000,9, -999.00,-999.000,9,-999.000,9, -999.00,9,  -999.0,9,  -999.0,-999.000,9,-999.000,   2.094,3, -999.00,9,   90.30,-999.0000,9,-999.0000,9,-999.0000,9,-999.0000,9,-999.0000,9,-999.0000,9,  14.3031,     -999.0,-999.000,     -999.0,          9,     -999.0,          9,-999.000,          9
 33RO200501,       A16S,      46,          1,         31,         31,2,20050129,       2228,   -39.5007,   -27.4848,       4139,   114.8,  14.2602,  35.4703,2,  35.4664,2,    235.1,2,   235.4,2,    2.13,2,    5.12,2,    0.02,2,    0.45,2,-999.000,9,-999.000,9,-999.000,9,  -999.0,9,  -999.0,9,  -999.0,9,   20.00,-999.0000,9,    25.00,-999.000,9, -999.00,-999.000,9,-999.000,9, -999.00,9,  -999.0,9,  -999.0,-999.000,9,-999.000,-999.000,9, -999.00,9,  114.80,-999.0000,9,-999.0000,9,-999.0000,9,-999.0000,9,-999.0000,9,-999.0000,9,  14.2434,     -999.0,-999.000,     24.783,          2,      0.275,          2,   0.406,          2
 33RO200501,       A16S,      46,          1,         30,         30,2,20050129,       2228,   -39.5007,   -27.4848,       4139,   140.2,  14.1644,  35.4592,2,  35.4544,2,    233.3,2,   227.7,2,    2.24,2,    5.68,2,    0.01,2,    0.48,2,-999.000,9,-999.000,9,-999.000,9,  -999.0,9,  -999.0,9,  -999.0,9,   20.00,-999.0000,9,    25.00,-999.000,9, -999.00,-999.000,9,-999.000,9, -999.00,9,  -999.0,9,  -999.0,-999.000,9,-999.000,-999.000,9, -999.00,9,  140.20,-999.0000,9,-999.0000,9,-999.0000,9,-999.0000,9,-999.0000,9,-999.0000,9,  14.1439,     -999.0,-999.000,     -999.0,          9,     -999.0,          9,-999.000,          9
 33RO200501,       A16S,      46,          1,         29,         29,2,20050129,       2228,   -39.5007,   -27.4848,       4139,   164.9,  13.7243,  35.3699,2,  35.3720,2,    234.8,2,   235.6,2,    2.26,2,    5.88,2,    0.01,2,    0.50,2,-999.000,9,-999.000,9,-999.000,9,  -999.0,9,  -999.0,9,  -999.0,9,   20.00,-999.0000,9,    25.00,-999.000,9, -999.00,-999.000,9,-999.000,9, -999.00,9,  -999.0,9,  -999.0,-999.000,9,-999.000,-999.000,9, -999.00,9,  164.90,-999.0000,9,-999.0000,9,-999.0000,9,-999.0000,9,-999.0000,9,-999.0000,9,  13.7007,     -999.0,-999.000,     21.503,          2,      0.228,          2,   0.360,          2
 33RO200501,       A16S,      46,          1,         28,         28,2,20050129,       2228,   -39.5007,   -27.4848,       4139,   190.7,  13.4976,  35.3330,2,  35.3286,2,    237.2,2,   237.1,2,    2.32,2,    6.14,2,    0.01,2,    0.52,2,-999.000,9,-999.000,9,-999.000,9,  -999.0,9,  -999.0,9,  -999.0,9,   20.00,-999.0000,9,    25.00,-999.000,9, -999.00,-999.000,9,-999.000,9, -999.00,9,  -999.0,9,  -999.0,-999.000,9,-999.000,-999.000,9, -999.00,9,  190.70,-999.0000,9,-999.0000,9,-999.0000,9,-999.0000,9,-999.0000,9,-999.0000,9,  13.4706,     -999.0,-999.000,     -999.0,          9,     -999.0,          9,-999.000,          9
 33RO200501,       A16S,      46,          1,         27,         27,2,20050129,       2228,   -39.5007,   -27.4848,       4139,   225.6,  13.1034,  35.2654,2,  35.2642,2,    235.5,2,   236.0,2,    2.55,2,    7.09,2,    0.01,2,    0.57,2,-999.000,9,-999.000,9,-999.000,9,  -999.0,9,  -999.0,9,  -999.0,9,   20.00,-999.0000,9,    25.00,-999.000,9, -999.00,-999.000,9,-999.000,9, -999.00,9,  -999.0,9,  -999.0,-999.000,9,-999.000,-999.000,9, -999.00,9,  225.60,-999.0000,9,-999.0000,9,-999.0000,9,-999.0000,9,-999.0000,9,-999.0000,9,  13.0721,     -999.0,-999.000,     16.488,          2,      0.125,          2,   0.280,          2
 33RO200501,       A16S,      46,          1,         26,         26,2,20050129,       2228,   -39.5007,   -27.4848,       4139,   274.8,  12.8062,  35.2245,2,  35.2228,2,    240.5,2,   237.0,2,    2.67,2,    7.63,2,    0.01,2,    0.61,2,   3.036,2,   1.780,2,   0.185,2,  2105.4,2,  2315.1,2,  -999.0,9,   20.00,   7.8847,2,    25.00,-999.000,9, -999.00,-999.000,9,-999.000,9, -999.00,9,  -999.0,9,  -999.0,-999.000,9,-999.000,   1.471,3, -999.00,9,  274.80,-999.0000,9,-999.0000,9,-999.0000,9,-999.0000,9,-999.0000,9,-999.0000,9,  12.7686,     -999.0,-999.000,     -999.0,          9,     -999.0,          9,-999.000,          9
 33RO200501,       A16S,      46,          1,         25,         25,2,20050129,       2228,   -39.5007,   -27.4848,       4139,   325.1,  12.2370,  35.1219,2,  35.1253,2,    229.1,2,   227.3,2,    3.29,2,    9.95,2,    0.01,2,    0.74,2,-999.000,9,-999.000,9,-999.000,9,  -999.0,9,  -999.0,9,  -999.0,9,   20.00,-999.0000,9,    25.00,-999.000,9, -999.00,-999.000,9,-999.000,9, -999.00,9,  -999.0,9,  -999.0,-999.000,9,-999.000,-999.000,9, -999.00,9,  325.10,-999.0000,9,-999.0000,9,-999.0000,9,-999.0000,9,-999.0000,9,-999.0000,9,  12.1937,     -999.0,-999.000,     10.063,          2,      0.021,          2,   0.181,          2
 33RO200501,       A16S,      46,          1,         24,         24,2,20050129,       2228,   -39.5007,   -27.4848,       4139,   372.1,  11.0489,  34.9332,2,  34.9334,2,    218.4,2,   218.7,2,    4.35,2,   13.72,2,    0.01,2,    0.95,2,-999.000,9,-999.000,9,-999.000,9,  -999.0,9,  -999.0,9,  -999.0,9,   20.00,-999.0000,9,    25.00,-999.000,9, -999.00,-999.000,9,-999.000,9, -999.00,9,  -999.0,9,  -999.0,-999.000,9,-999.000,-999.000,9, -999.00,9,  372.10,-999.0000,9,-999.0000,9,-999.0000,9,-999.0000,9,-999.0000,9,-999.0000,9,  11.0025,     -999.0,-999.000,     -999.0,          9,     -999.0,          9,-999.000,          9
 33RO200501,       A16S,      46,          1,         23,         23,2,20050129,       2228,   -39.5007,   -27.4848,       4139,   449.5,   8.7352,  34.6131,2,  34.6112,2,    217.3,2,   217.1,2,    6.88,2,   19.72,2,    0.01,2,    1.31,2,-999.000,9,-999.000,9,-999.000,9,  -999.0,9,  -999.0,9,  -999.0,9,   20.00,-999.0000,9,    25.00,-999.000,9, -999.00,-999.000,9,-999.000,9, -999.00,9,  -999.0,9,  -999.0,-999.000,9,-999.000,-999.000,9, -999.00,9,  449.50,-999.0000,9,-999.0000,9,-999.0000,9,-999.0000,9,-999.0000,9,-999.0000,9,   8.6868,     -999.0,-999.000,     -999.0,          9,     -999.0,          9,-999.000,          9
 33RO200501,       A16S,      46,          1,         22,         22,2,20050129,       2228,   -39.5007,   -27.4848,       4139,   549.8,   6.5892,  34.3746,2,  34.3736,2,    234.1,2,   233.2,2,    9.88,2,   23.60,2,    0.01,2,    1.56,2,-999.000,9,-999.000,9,-999.000,9,  -999.0,9,  -999.0,9,  -999.0,9,   20.00,-999.0000,9,    25.00,-999.000,9, -999.00,-999.000,9,-999.000,9, -999.00,9,  -999.0,9,  -999.0,-999.000,9,-999.000,-999.000,9, -999.00,9,  549.80,-999.0000,9,-999.0000,9,-999.0000,9,-999.0000,9,-999.0000,9,-999.0000,9,   6.5387,     -999.0,-999.000,      4.856,          2,      0.342,          2,   0.063,          2
 33RO200501,       A16S,      46,          1,         21,         21,2,20050129,       2228,   -39.5007,   -27.4848,       4139,   650.1,   5.1250,  34.2427,2,  34.2434,2,    250.5,2,   251.8,2,   12.60,2,   25.57,2,    0.00,2,    1.69,2,-999.000,9,-999.000,9,-999.000,9,  -999.0,9,  -999.0,9,  -999.0,9,   20.00,-999.0000,9,    25.00,-999.000,9, -999.00,-999.000,9,-999.000,9, -999.00,9,  -999.0,9,  -999.0,-999.000,9,-999.000,-999.000,9, -999.00,9,  650.10,-999.0000,9,-999.0000,9,-999.0000,9,-999.0000,9,-999.0000,9,-999.0000,9,   5.0721,     -999.0,-999.000,     -999.0,          9,     -999.0,          9,-999.000,          9
 33RO200501,       A16S,      46,          1,         20,         20,2,20050129,       2228,   -39.5007,   -27.4848,       4139,   750.4,   4.4566,  34.2086,2,  34.2095,2,    255.2,2,   256.9,2,   15.64,2,   26.73,2,    0.00,2,    1.77,2,-999.000,9,-999.000,9,-999.000,9,  -999.0,9,  -999.0,9,  -999.0,9,   20.00,-999.0000,9,    25.00,-999.000,9, -999.00,-999.000,9,-999.000,9, -999.00,9,  -999.0,9,  -999.0,-999.000,9,-999.000,-999.000,9, -999.00,9,  750.40,-999.0000,9,-999.0000,9,-999.0000,9,-999.0000,9,-999.0000,9,-999.0000,9,   4.3989,     -999.0,-999.000,     -999.0,          9,     -999.0,          9,-999.000,          9
 33RO200501,       A16S,      46,          1,         19,         19,2,20050129,       2228,   -39.5007,   -27.4848,       4139,   849.9,   4.0161,  34.2078,2,  34.2069,2,    250.3,2,   251.0,2,   19.91,2,   28.05,2,    0.00,2,    1.85,2,-999.000,9,-999.000,9,-999.000,9,  -999.0,9,  -999.0,9,  -999.0,9,   20.00,-999.0000,9,    25.00,-999.000,9, -999.00,-999.000,9,-999.000,9, -999.00,9,  -999.0,9,  -999.0,-999.000,9,-999.000,-999.000,9, -999.00,9,  849.90,-999.0000,9,-999.0000,9,-999.0000,9,-999.0000,9,-999.0000,9,-999.0000,9,   3.9530,     -999.0,-999.000,      5.164,          2,      0.289,          2,   0.102,          2
 33RO200501,       A16S,      46,          1,         18,         18,2,20050129,       2228,   -39.5007,   -27.4848,       4139,   948.6,   3.6322,  34.2270,2,  34.2275,2,    239.7,2,   239.9,2,   25.97,2,   29.57,2,    0.00,2,    1.95,2,   2.844,2,   1.442,2,   0.187,2,  2177.6,2,  2285.7,2,  -999.0,9,   20.00,   7.6556,2,    25.00,-999.000,9, -999.00,-999.000,9,-999.000,9, -999.00,9,  -999.0,9,  -999.0,-999.000,9,-999.000,   2.682,3, -999.00,9,  948.60,-999.0000,9,-999.0000,9,-999.0000,9,-999.0000,9,-999.0000,9,-999.0000,9,   3.5639,     -999.0,-999.000,     -999.0,          9,     -999.0,          9,-999.000,          9
 33RO200501,       A16S,      46,          1,         17,         17,2,20050129,       2228,   -39.5007,   -27.4848,       4139,  1049.5,   3.3863,  34.2625,2,  34.2628,2,    228.5,2,   226.6,2,   32.28,2,   30.79,2,    0.00,2,    2.04,2,-999.000,9,-999.000,9,-999.000,9,  -999.0,9,  -999.0,9,  -999.0,9,   20.00,-999.0000,9,    25.00,-999.000,9, -999.00,-999.000,9,-999.000,9, -999.00,9,  -999.0,9,  -999.0,-999.000,9,-999.000,-999.000,9, -999.00,9, 1049.50,-999.0000,9,-999.0000,9,-999.0000,9,-999.0000,9,-999.0000,9,-999.0000,9,   3.3119,     -999.0,-999.000,     -999.0,          9,     -999.0,          9,-999.000,          9
 33RO200501,       A16S,      46,          1,         16,         16,2,20050129,       2228,   -39.5007,   -27.4848,       4139,  1150.0,   3.1599,  34.3103,2,  34.3109,2,    215.5,2,   213.2,2,   40.07,2,   31.93,2,    0.00,2,    2.13,2,-999.000,9,-999.000,9,-999.000,9,  -999.0,9,  -999.0,9,  -999.0,9,   20.00,-999.0000,9,    25.00,-999.000,9, -999.00,-999.000,9,-999.000,9, -999.00,9,  -999.0,9,  -999.0,-999.000,9,-999.000,-999.000,9, -999.00,9, 1150.00,-999.0000,9,-999.0000,9,-999.0000,9,-999.0000,9,-999.0000,9,-999.0000,9,   3.0795,     -999.0,-999.000,      5.801,          2,      0.148,          2,   0.036,          2
 33RO200501,       A16S,      46,          1,         15,         15,2,20050129,       2228,   -39.5007,   -27.4848,       4139,  1249.8,   3.0360,  34.3576,2,  34.3578,2,    202.9,2,   202.3,2,   46.12,2,   32.65,2,    0.00,2,    2.19,2,-999.000,9,-999.000,9,-999.000,9,  -999.0,9,  -999.0,9,  -999.0,9,   20.00,-999.0000,9,    25.00,-999.000,9, -999.00,-999.000,9,-999.000,9, -999.00,9,  -999.0,9,  -999.0,-999.000,9,-999.000,-999.000,9, -999.00,9, 1249.80,-999.0000,9,-999.0000,9,-999.0000,9,-999.0000,9,-999.0000,9,-999.0000,9,   2.9486,     -999.0,-999.000,     -999.0,          9,     -999.0,          9,-999.000,          9
 33RO200501,       A16S,      46,          1,         14,         14,2,20050129,       2228,   -39.5007,   -27.4848,       4139,  1400.5,   2.8769,  34.4388,2,  34.4414,2,    188.8,2,   187.7,2,   55.36,2,   33.31,2,    0.00,2,    2.24,2,-999.000,9,-999.000,9,-999.000,9,  -999.0,9,  -999.0,9,  -999.0,9,   20.00,-999.0000,9,    25.00,-999.000,9, -999.00,-999.000,9,-999.000,9, -999.00,9,  -999.0,9,  -999.0,-999.000,9,-999.000,-999.000,9, -999.00,9, 1400.50,-999.0000,9,-999.0000,9,-999.0000,9,-999.0000,9,-999.0000,9,-999.0000,9,   2.7790,     -999.0,-999.000,     -999.0,          9,     -999.0,          9,-999.000,          9
 33RO200501,       A16S,      46,          1,         13,         13,2,20050129,       2228,   -39.5007,   -27.4848,       4139,  1599.9,   2.8139,  34.5495,2,  34.5494,2,    179.3,2,   179.7,2,   61.63,2,   32.90,2,    0.00,2,    2.22,2,-999.000,9,-999.000,9,-999.000,9,  -999.0,9,  -999.0,9,  -999.0,9,   20.00,-999.0000,9,    25.00,-999.000,9, -999.00,-999.000,9,-999.000,9, -999.00,9,  -999.0,9,  -999.0,-999.000,9,-999.000,-999.000,9, -999.00,9, 1599.90,-999.0000,9,-999.0000,9,-999.0000,9,-999.0000,9,-999.0000,9,-999.0000,9,   2.7000,     -999.0,-999.000,     15.628,          4,      0.341,          4,   0.069,          4
 33RO200501,       A16S,      46,          1,         12,         12,2,20050129,       2228,   -39.5007,   -27.4848,       4139,  1799.7,   2.8169,  34.6482,2,  34.6490,2,    180.8,2,   181.0,2,   63.66,2,   31.53,2,    0.00,2,    2.13,2,-999.000,9,-999.000,9,-999.000,9,  -999.0,9,  -999.0,9,  -999.0,9,   20.00,-999.0000,9,    25.00,-999.000,9, -999.00,-999.000,9,-999.000,9, -999.00,9,  -999.0,9,  -999.0,-999.000,9,-999.000,-999.000,9, -999.00,9, 1799.70,-999.0000,9,-999.0000,9,-999.0000,9,-999.0000,9,-999.0000,9,-999.0000,9,   2.6857,     -999.0,-999.000,     -999.0,          9,     -999.0,          9,-999.000,          9
 33RO200501,       A16S,      46,          1,         11,         11,2,20050129,       2228,   -39.5007,   -27.4848,       4139,  1999.4,   2.8343,  34.7221,2,  34.7219,2,    188.9,2,   189.0,2,   62.31,2,   29.86,2,    0.00,2,    2.01,2,   0.143,2,   0.059,2,   0.005,2,  -999.0,9,  -999.0,9,  -999.0,9,   20.00,-999.0000,9,    25.00,-999.000,9, -999.00,-999.000,9,-999.000,9, -999.00,9,  -999.0,9,  -999.0,-999.000,9,-999.000,   0.258,3, -999.00,9, 1999.40,-999.0000,9,-999.0000,9,-999.0000,9,-999.0000,9,-999.0000,9,-999.0000,9,   2.6850,     -999.0,-999.000,     -999.0,          9,     -999.0,          9,-999.000,          9
 33RO200501,       A16S,      46,          1,         10,         10,2,20050129,       2228,   -39.5007,   -27.4848,       4139,  2200.0,   2.8696,  34.7912,2,  34.7915,2,    202.7,2,   203.5,2,   56.74,2,   27.49,2,    0.00,2,    1.85,2,-999.000,9,-999.000,9,-999.000,9,  -999.0,9,  -999.0,9,  -999.0,9,   20.00,-999.0000,9,    25.00,-999.000,9, -999.00,-999.000,9,-999.000,9, -999.00,9,  -999.0,9,  -999.0,-999.000,9,-999.000,-999.000,9, -999.00,9, 2200.00,-999.0000,9,-999.0000,9,-999.0000,9,-999.0000,9,-999.0000,9,-999.0000,9,   2.7011,     -999.0,-999.000,     -999.0,          9,     -999.0,          9,-999.000,          9
 33RO200501,       A16S,      46,          1,          9,          9,2,20050129,       2228,   -39.5007,   -27.4848,       4139,  2398.5,   2.7837,  34.8226,2,  34.8220,2,    209.4,2,   211.7,2,   55.76,2,   26.33,2,    0.00,2,    1.75,2,-999.000,9,-999.000,9,-999.000,9,  -999.0,9,  -999.0,9,  -999.0,9,   20.00,-999.0000,9,    25.00,-999.000,9, -999.00,-999.000,9,-999.000,9, -999.00,9,  -999.0,9,  -999.0,-999.000,9,-999.000,-999.000,9, -999.00,9, 2398.50,-999.0000,9,-999.0000,9,-999.0000,9,-999.0000,9,-999.0000,9,-999.0000,9,   2.5979,     -999.0,-999.000,      3.691,          2,      0.157,          2,   0.020,          2
 33RO200501,       A16S,      46,          1,          8,          8,2,20050129,       2228,   -39.5007,   -27.4848,       4139,  2601.0,   2.6410,  34.8300,2,  34.8295,2,    214.6,2,   209.0,3,   57.66,2,   26.01,2,    0.00,2,    1.73,2,-999.000,9,-999.000,9,-999.000,9,  -999.0,9,  -999.0,9,  -999.0,9,   20.00,-999.0000,9,    25.00,-999.000,9, -999.00,-999.000,9,-999.000,9, -999.00,9,  -999.0,9,  -999.0,-999.000,9,-999.000,-999.000,9, -999.00,9, 2601.00,-999.0000,9,-999.0000,9,-999.0000,9,-999.0000,9,-999.0000,9,-999.0000,9,   2.4384,     -999.0,-999.000,     -999.0,          9,     -999.0,          9,-999.000,          9