BOTTLE,20220818CCHSIOAMB
EXPOCODE,SECT_ID,STNNBR,CASTNO,SAMPNO,BTLNBR,BTLNBR_FLAG_W,DATE,TIME,LATITUDE,LONGITUDE,DEPTH,CTDPRS,CTDTMP,CTDSAL,CTDSAL_FLAG_W,SALNTY,SALNTY_FLAG_W,CTDOXY,CTDOXY_FLAG_W,OXYGEN,OXYGEN_FLAG_W,SILCAT,SILCAT_FLAG_W,NITRAT,NITRAT_FLAG_W,NITRIT,NITRIT_FLAG_W,PHSPHT,PHSPHT_FLAG_W,CFC-11,CFC-11_FLAG_W,CFC-12,CFC-12_FLAG_W,CFC113,CFC113_FLAG_W,TCARBN,TCARBN_FLAG_W,ALKALI,ALKALI_FLAG_W,PCO2,PCO2_FLAG_W,PCO2TMP,PH_SWS,PH_SWS_FLAG_W,PH_TMP,TRITUM,TRITUM_FLAG_W,TRITER,HELIUM,HELIUM_FLAG_W,DELHE3,DELHE3_FLAG_W,DELC13,DELC13_FLAG_W,DELC14,DELC14_FLAG_W,C14ERR,NEON,NEON_FLAG_W,NEONER,CCL4,CCL4_FLAG_W,DOC,DOC_FLAG_W,CTDRAW,CDOM325,CDOM325_FLAG_W,CDOM340,CDOM340_FLAG_W,CDOM380,CDOM380_FLAG_W,CDOM412,CDOM412_FLAG_W,CDOMSL,CDOMSL_FLAG_W,CDOMSN,CDOMSN_FLAG_W,THETA,HELIER,DELHER,CH3CL,CH3CL_FLAG_W,CH3BR,CH3BR_FLAG_W,CH3I,CH3I_FLAG_W
,,,,,,,,,,,METERS,DBAR,ITS-90,PSS-78,,PSS-78,,UMOL/KG,,UMOL/KG,,UMOL/KG,,UMOL/KG,,UMOL/KG,,UMOL/KG,,PMOL/KG,,PMOL/KG,,PMOL/KG,,UMOL/KG,,UMOL/KG,,UATM,,DEG C,,,DEG C,TU,,TU,NMOL/KG,,PERCNT,,/MILLE,,/MILLE,,/MILLE,NMOL/KG,,NMOL/KG,PMOL/KG,,UMOL/KG,,DBAR,1/M,,1/M,,1/M,,1/M,,1/NM,,1/NM,,DEG C,NMOL/KG,PERCNT,PMOL/KG,,PMOL/KG,,PMOL/KG,
 33RO200501,       A16S,      36,          1,         36,         36,2,20050126,       2225,   -44.4972,   -30.5845,       5128,     4.0,  12.4603,  34.4956,2,  34.4936,2,    267.9,2,   268.4,2,    1.05,2,    4.80,2,    0.13,2,    0.51,2,   3.230,2,   1.977,2,   0.271,2,  2054.7,2,  2279.3,6,  -999.0,9,   20.00,   7.9337,6,    25.00,-999.000,9, -999.00,-999.000,9,-999.000,9, -999.00,9,  -999.0,9,  -999.0,-999.000,9,-999.000,   5.763,4, -999.00,9,    4.00,-999.0000,9,-999.0000,9,-999.0000,9,-999.0000,9,-999.0000,9,-999.0000,9,  12.4598,     -999.0,-999.000,     80.625,          2,      2.062,          2,   4.105,          2
 33RO200501,       A16S,      36,          1,         35,         35,2,20050126,       2225,   -44.4972,   -30.5845,       5128,    20.2,  12.3939,  34.5134,2,  34.5084,2,    268.0,2,   268.6,2,    1.19,2,    5.15,2,    0.14,2,    0.53,2,-999.000,9,-999.000,9,-999.000,9,  -999.0,9,  -999.0,9,  -999.0,9,   20.00,-999.0000,9,    25.00,-999.000,9, -999.00,-999.000,9,-999.000,9, -999.00,9,  -999.0,9,  -999.0,-999.000,9,-999.000,-999.000,9, -999.00,9,   20.20,-999.0000,9,-999.0000,9,-999.0000,9,-999.0000,9,-999.0000,9,-999.0000,9,  12.3913,     -999.0,-999.000,     82.760,          2,      2.166,          2,   4.006,          2
 33RO200501,       A16S,      36,          1,         34,         34,2,20050126,       2225,   -44.4972,   -30.5845,       5128,    41.1,  11.9510,  34.4724,2,  34.4716,2,    265.4,2,   262.2,2,    1.44,2,    6.43,2,    0.17,2,    0.62,2,-999.000,9,-999.000,9,-999.000,9,  -999.0,9,  -999.0,9,  -999.0,9,   20.00,-999.0000,9,    25.00,-999.000,9, -999.00,-999.000,9,-999.000,9, -999.00,9,  -999.0,9,  -999.0,-999.000,9,-999.000,-999.000,9, -999.00,9,   41.10,-999.0000,9,-999.0000,9,-999.0000,9,-999.0000,9,-999.0000,9,-999.0000,9,  11.9457,     -999.0,-999.000,     84.499,          2,      2.450,          2,   3.512,          2
 33RO200501,       A16S,      36,          1,         33,         33,2,20050126,       2225,   -44.4972,   -30.5845,       5128,    62.9,  11.7460,  34.5057,2,  34.4991,2,    262.7,2,   263.2,2,    1.68,2,    6.66,2,    0.25,2,    0.66,2,-999.000,9,-999.000,9,-999.000,9,  -999.0,9,  -999.0,9,  -999.0,9,   20.00,-999.0000,9,    25.00,-999.000,9, -999.00,-999.000,9,-999.000,9, -999.00,9,  -999.0,9,  -999.0,-999.000,9,-999.000,-999.000,9, -999.00,9,   62.90,-999.0000,9,-999.0000,9,-999.0000,9,-999.0000,9,-999.0000,9,-999.0000,9,  11.7380,     -999.0,-999.000,     82.262,          2,      2.093,          2,   3.200,          2
 33RO200501,       A16S,      36,          1,         32,         32,2,20050126,       2225,   -44.4972,   -30.5845,       5128,    81.6,  10.5645,  34.6797,2,  34.6789,2,    259.2,2,   257.7,2,    3.26,2,    9.97,2,    0.21,2,    0.79,2,   3.523,2,   2.078,2,   0.288,2,  2097.8,2,  2300.6,2,  -999.0,9,   20.00,   7.8564,2,    25.00,-999.000,9, -999.00,-999.000,9,-999.000,9, -999.00,9,  -999.0,9,  -999.0,-999.000,9,-999.000,   3.626,3, -999.00,9,   81.60,-999.0000,9,-999.0000,9,-999.0000,9,-999.0000,9,-999.0000,9,-999.0000,9,  10.5548,     -999.0,-999.000,     -999.0,          9,     -999.0,          9,-999.000,          9
 33RO200501,       A16S,      36,          1,         31,         31,2,20050126,       2225,   -44.4972,   -30.5845,       5128,   103.2,   9.6344,  34.5754,2,  34.5846,2,    256.9,2,   256.7,2,    3.69,2,   12.31,2,    0.05,2,    0.92,2,-999.000,9,-999.000,9,-999.000,9,  -999.0,9,  -999.0,9,  -999.0,9,   20.00,-999.0000,9,    25.00,-999.000,9, -999.00,-999.000,9,-999.000,9, -999.00,9,  -999.0,9,  -999.0,-999.000,9,-999.000,-999.000,9, -999.00,9,  103.20,-999.0000,9,-999.0000,9,-999.0000,9,-999.0000,9,-999.0000,9,-999.0000,9,   9.6228,     -999.0,-999.000,     43.515,          2,      0.570,          2,   0.939,          2
 33RO200501,       A16S,      36,          1,         30,         30,2,20050126,       2225,   -44.4972,   -30.5845,       5128,   125.2,   8.8196,  34.5144,2,  34.5144,2,    254.7,2,   246.6,2,    4.43,2,   14.75,2,    0.06,2,    1.05,2,-999.000,9,-999.000,9,-999.000,9,  -999.0,9,  -999.0,9,  -999.0,9,   20.00,-999.0000,9,    25.00,-999.000,9, -999.00,-999.000,9,-999.000,9, -999.00,9,  -999.0,9,  -999.0,-999.000,9,-999.000,-999.000,9, -999.00,9,  125.20,-999.0000,9,-999.0000,9,-999.0000,9,-999.0000,9,-999.0000,9,-999.0000,9,   8.8064,     -999.0,-999.000,     -999.0,          9,     -999.0,          9,-999.000,          9
 33RO200501,       A16S,      36,          1,         29,         29,2,20050126,       2225,   -44.4972,   -30.5845,       5128,   151.2,   8.2209,  34.4589,2,  34.4589,2,    256.3,2,   257.2,2,    4.92,2,   15.99,2,    0.06,2,    1.11,2,-999.000,9,-999.000,9,-999.000,9,  -999.0,9,  -999.0,9,  -999.0,9,   20.00,-999.0000,9,    25.00,-999.000,9, -999.00,-999.000,9,-999.000,9, -999.00,9,  -999.0,9,  -999.0,-999.000,9,-999.000,-999.000,9, -999.00,9,  151.20,-999.0000,9,-999.0000,9,-999.0000,9,-999.0000,9,-999.0000,9,-999.0000,9,   8.2055,     -999.0,-999.000,     24.061,          2,      0.353,          2,   0.417,          2
 33RO200501,       A16S,      36,          1,         28,         28,2,20050126,       2225,   -44.4972,   -30.5845,       5128,   176.7,   7.6864,  34.3971,2,  34.3971,2,    254.7,2,   264.8,2,    5.27,2,   16.63,2,    0.05,2,    1.15,2,-999.000,9,-999.000,9,-999.000,9,  -999.0,9,  -999.0,9,  -999.0,9,   20.00,-999.0000,9,    25.00,-999.000,9, -999.00,-999.000,9,-999.000,9, -999.00,9,  -999.0,9,  -999.0,-999.000,9,-999.000,-999.000,9, -999.00,9,  176.70,-999.0000,9,-999.0000,9,-999.0000,9,-999.0000,9,-999.0000,9,-999.0000,9,   7.6691,     -999.0,-999.000,     -999.0,          9,     -999.0,          9,-999.000,          9
 33RO200501,       A16S,      36,          1,         27,         27,2,20050126,       2225,   -44.4972,   -30.5845,       5128,   200.6,   7.3944,  34.3930,2,  34.3937,2,    250.1,2,   247.5,2,    6.67,2,   19.57,2,    0.04,2,    1.31,2,-999.000,9,-999.000,9,-999.000,9,  -999.0,9,  -999.0,9,  -999.0,9,   20.00,-999.0000,9,    25.00,-999.000,9, -999.00,-999.000,9,-999.000,9, -999.00,9,  -999.0,9,  -999.0,-999.000,9,-999.000,-999.000,9, -999.00,9,  200.60,-999.0000,9,-999.0000,9,-999.0000,9,-999.0000,9,-999.0000,9,-999.0000,9,   7.3752,     -999.0,-999.000,     15.808,          2,      0.393,          2,   0.251,          2
 33RO200501,       A16S,      36,          1,         26,         26,2,20050126,       2225,   -44.4972,   -30.5845,       5128,   245.6,   6.1131,  34.2803,2,  34.2805,2,    247.4,2,   246.1,2,    9.40,2,   23.51,2,    0.02,2,    1.55,2,   4.001,2,   2.200,2,   0.285,2,  2141.0,2,  2278.9,2,  -999.0,9,   20.00,   7.7086,2,    25.00,-999.000,9, -999.00,-999.000,9,-999.000,9, -999.00,9,  -999.0,9,  -999.0,-999.000,9,-999.000,   2.946,3, -999.00,9,  245.60,-999.0000,9,-999.0000,9,-999.0000,9,-999.0000,9,-999.0000,9,-999.0000,9,   6.0920,     -999.0,-999.000,     -999.0,          9,     -999.0,          9,-999.000,          9
 33RO200501,       A16S,      36,          1,         25,         25,2,20050126,       2225,   -44.4972,   -30.5845,       5128,   300.5,   5.1516,  34.1966,2,  34.1968,2,    257.6,2,   259.5,2,   11.03,2,   24.68,2,    0.01,2,    1.64,2,-999.000,9,-999.000,9,-999.000,9,  -999.0,9,  -999.0,9,  -999.0,9,   20.00,-999.0000,9,    25.00,-999.000,9, -999.00,-999.000,9,-999.000,9, -999.00,9,  -999.0,9,  -999.0,-999.000,9,-999.000,-999.000,9, -999.00,9,  300.50,-999.0000,9,-999.0000,9,-999.0000,9,-999.0000,9,-999.0000,9,-999.0000,9,   5.1279,     -999.0,-999.000,      4.114,          2,      0.000,          2,   0.105,          2
 33RO200501,       A16S,      36,          1,         24,         24,2,20050126,       2225,   -44.4972,   -30.5845,       5128,   350.3,   4.7960,  34.1859,2,  34.1858,2,    262.5,2,   260.9,2,   12.51,2,   25.52,2,    0.01,2,    1.69,2,-999.000,9,-999.000,9,-999.000,9,  -999.0,9,  -999.0,9,  -999.0,9,   20.00,-999.0000,9,    25.00,-999.000,9, -999.00,-999.000,9,-999.000,9, -999.00,9,  -999.0,9,  -999.0,-999.000,9,-999.000,-999.000,9, -999.00,9,  350.30,-999.0000,9,-999.0000,9,-999.0000,9,-999.0000,9,-999.0000,9,-999.0000,9,   4.7692,     -999.0,-999.000,     -999.0,          9,     -999.0,          9,-999.000,          9
 33RO200501,       A16S,      36,          1,         23,         23,2,20050126,       2225,   -44.4972,   -30.5845,       5128,   399.6,   4.5440,  34.1776,2,  34.1771,2,    264.7,2,   262.3,2,   13.99,2,   25.94,2,    0.01,2,    1.72,2,-999.000,9,-999.000,9,-999.000,9,  -999.0,9,  -999.0,9,  -999.0,9,   20.00,-999.0000,9,    25.00,-999.000,9, -999.00,-999.000,9,-999.000,9, -999.00,9,  -999.0,9,  -999.0,-999.000,9,-999.000,-999.000,9, -999.00,9,  399.60,-999.0000,9,-999.0000,9,-999.0000,9,-999.0000,9,-999.0000,9,-999.0000,9,   4.5141,     -999.0,-999.000,     -999.0,          9,     -999.0,          9,-999.000,          9
 33RO200501,       A16S,      36,          1,         22,         22,2,20050126,       2225,   -44.4972,   -30.5845,       5128,   500.1,   3.9651,  34.1591,2,  34.1591,2,    264.8,2,   262.5,2,   17.77,2,   27.23,2,    0.01,2,    1.80,2,-999.000,9,-999.000,9,-999.000,9,  -999.0,9,  -999.0,9,  -999.0,9,   20.00,-999.0000,9,    25.00,-999.000,9, -999.00,-999.000,9,-999.000,9, -999.00,9,  -999.0,9,  -999.0,-999.000,9,-999.000,-999.000,9, -999.00,9,  500.10,-999.0000,9,-999.0000,9,-999.0000,9,-999.0000,9,-999.0000,9,-999.0000,9,   3.9295,     -999.0,-999.000,     11.294,          2,      0.211,          2,   0.084,          2
 33RO200501,       A16S,      36,          1,         21,         21,2,20050126,       2225,   -44.4972,   -30.5845,       5128,   599.9,   3.5273,  34.1732,2,  34.1734,2,    254.9,2,   254.5,2,   23.49,2,   28.67,2,    0.00,2,    1.90,2,   3.677,2,   1.978,2,   0.280,2,  2167.9,2,  2252.9,3,  -999.0,9,   20.00,   7.6609,2,    25.00,-999.000,9, -999.00,-999.000,9,-999.000,9, -999.00,9,  -999.0,9,  -999.0,-999.000,9,-999.000,   3.192,3, -999.00,9,  599.90,-999.0000,9,-999.0000,9,-999.0000,9,-999.0000,9,-999.0000,9,-999.0000,9,   3.4863,     -999.0,-999.000,     -999.0,          9,     -999.0,          9,-999.000,          9
 33RO200501,       A16S,      36,          1,         20,         20,2,20050126,       2225,   -44.4972,   -30.5845,       5128,   702.1,   3.2551,  34.2076,2,  34.2077,2,    243.5,2,   242.4,2,   29.33,6,   29.98,6,    0.00,6,    1.99,6,-999.000,9,-999.000,9,-999.000,9,  -999.0,9,  -999.0,9,  -999.0,9,   20.00,-999.0000,9,    25.00,-999.000,9, -999.00,-999.000,9,-999.000,9, -999.00,9,  -999.0,9,  -999.0,-999.000,9,-999.000,-999.000,9, -999.00,9,  702.10,-999.0000,9,-999.0000,9,-999.0000,9,-999.0000,9,-999.0000,9,-999.0000,9,   3.2081,     -999.0,-999.000,     -999.0,          9,     -999.0,          9,-999.000,          9
 33RO200501,       A16S,      36,          1,         19,         19,2,20050126,       2225,   -44.4972,   -30.5845,       5128,   798.0,   3.0639,  34.2456,2,  34.2450,2,    229.2,2,   230.5,2,   35.71,2,   31.15,2,    0.00,2,    2.07,2,-999.000,9,-999.000,9,-999.000,9,  -999.0,9,  -999.0,9,  -999.0,9,   20.00,-999.0000,9,    25.00,-999.000,9, -999.00,-999.000,9,-999.000,9, -999.00,9,  -999.0,9,  -999.0,-999.000,9,-999.000,-999.000,9, -999.00,9,  798.00,-999.0000,9,-999.0000,9,-999.0000,9,-999.0000,9,-999.0000,9,-999.0000,9,   3.0110,     -999.0,-999.000,      3.822,          2,      0.047,          2,   0.088,          2
 33RO200501,       A16S,      36,          1,         18,         18,2,20050126,       2225,   -44.4972,   -30.5845,       5128,   898.0,   2.9335,  34.3150,2,  34.3158,2,    213.2,2,   211.5,2,   44.59,2,   32.29,2,    0.00,2,    2.17,2,   1.939,2,   0.981,2,   0.128,2,  2207.3,2,  2309.2,2,  -999.0,9,   20.00,   7.6025,2,    25.00,-999.000,9, -999.00,-999.000,9,-999.000,9, -999.00,9,  -999.0,9,  -999.0,-999.000,9,-999.000,   1.903,3, -999.00,9,  898.00,-999.0000,9,-999.0000,9,-999.0000,9,-999.0000,9,-999.0000,9,-999.0000,9,   2.8740,     -999.0,-999.000,     -999.0,          9,     -999.0,          9,-999.000,          9
 33RO200501,       A16S,      36,          1,         17,         17,2,20050126,       2225,   -44.4972,   -30.5845,       5128,   999.0,   2.7606,  34.3731,2,  34.3739,2,    200.3,2,   199.1,2,   52.87,2,   33.10,2,    0.00,2,    2.24,2,-999.000,9,-999.000,9,-999.000,9,  -999.0,9,  -999.0,9,  -999.0,9,   20.00,-999.0000,9,    25.00,-999.000,9, -999.00,-999.000,9,-999.000,9, -999.00,9,  -999.0,9,  -999.0,-999.000,9,-999.000,-999.000,9, -999.00,9,  999.00,-999.0000,9,-999.0000,9,-999.0000,9,-999.0000,9,-999.0000,9,-999.0000,9,   2.6948,     -999.0,-999.000,     -999.0,          9,     -999.0,          9,-999.000,          9
 33RO200501,       A16S,      36,          1,         16,         16,2,20050126,       2225,   -44.4972,   -30.5845,       5128,  1201.5,   2.7260,  34.5082,2,  34.5095,2,    181.3,2,   179.9,2,   62.53,6,   33.25,6,    0.00,6,    2.26,6,-999.000,9,-999.000,9,-999.000,9,  -999.0,9,  -999.0,9,  -999.0,9,   20.00,-999.0000,9,    25.00,-999.000,9, -999.00,-999.000,9,-999.000,9, -999.00,9,  -999.0,9,  -999.0,-999.000,9,-999.000,-999.000,9, -999.00,9, 1201.50,-999.0000,9,-999.0000,9,-999.0000,9,-999.0000,9,-999.0000,9,-999.0000,9,   2.6450,     -999.0,-999.000,      4.119,          2,      0.000,          2,   0.053,          2
 33RO200501,       A16S,      36,          1,         15,         15,2,20050126,       2225,   -44.4972,   -30.5845,       5128,  1400.0,   2.7559,  34.6068,2,  34.6062,2,    177.6,2,   178.5,2,   65.26,2,   32.27,2,    0.00,2,    2.19,2,   0.305,2,   0.149,2,   0.013,2,  2236.7,2,  2336.1,2,  -999.0,9,   20.00,   7.5854,2,    25.00,-999.000,9, -999.00,-999.000,9,-999.000,9, -999.00,9,  -999.0,9,  -999.0,-999.000,9,-999.000,   0.341,3, -999.00,9, 1400.00,-999.0000,9,-999.0000,9,-999.0000,9,-999.0000,9,-999.0000,9,-999.0000,9,   2.6589,     -999.0,-999.000,     -999.0,          9,     -999.0,          9,-999.000,          9
 33RO200501,       A16S,      36,          1,         14,         14,2,20050126,       2225,   -44.4972,   -30.5845,       5128,  1599.0,   2.7313,  34.6797,2,  34.6783,2,    181.9,2,   182.2,2,   67.14,2,   31.08,2,    0.00,2,    2.10,2,-999.000,9,-999.000,9,-999.000,9,  -999.0,9,  -999.0,9,  -999.0,9,   20.00,-999.0000,9,    25.00,-999.000,9, -999.00,-999.000,9,-999.000,9, -999.00,9,  -999.0,9,  -999.0,-999.000,9,-999.000,-999.000,9, -999.00,9, 1599.00,-999.0000,9,-999.0000,9,-999.0000,9,-999.0000,9,-999.0000,9,-999.0000,9,   2.6181,     -999.0,-999.000,     -999.0,          9,     -999.0,          9,-999.000,          9
 33RO200501,       A16S,      36,          1,         13,         13,2,20050126,       2225,   -44.4972,   -30.5845,       5128,  1800.5,   2.8331,  34.7569,2,  34.7569,2,    194.7,2,   194.5,2,   61.23,2,   28.78,2,    0.00,2,    1.94,2,-999.000,9,-999.000,9,-999.000,9,  -999.0,9,  -999.0,9,  -999.0,9,   20.00,-999.0000,9,    25.00,-999.000,9, -999.00,-999.000,9,-999.000,9, -999.00,9,  -999.0,9,  -999.0,-999.000,9,-999.000,-999.000,9, -999.00,9, 1800.50,-999.0000,9,-999.0000,9,-999.0000,9,-999.0000,9,-999.0000,9,-999.0000,9,   2.7013,     -999.0,-999.000,      1.892,          2,      0.000,          2,   0.022,          2
 33RO200501,       A16S,      36,          1,         12,         12,2,20050126,       2225,   -44.4972,   -30.5845,       5128,  2001.4,   2.8009,  34.8003,2,  34.8007,2,    203.7,2,  -999.0,5,   58.51,6,   27.21,6,    0.00,6,    1.84,6,   0.090,2,   0.031,2,   0.002,2,  2217.2,2,  2340.8,2,  -999.0,9,   20.00,   7.6480,2,    25.00,-999.000,9, -999.00,-999.000,9,-999.000,9, -999.00,9,  -999.0,9,  -999.0,-999.000,9,-999.000,   0.072,3, -999.00,9, 2001.40,-999.0000,9,-999.0000,9,-999.0000,9,-999.0000,9,-999.0000,9,-999.0000,9,   2.6516,     -999.0,-999.000,     -999.0,          9,     -999.0,          9,-999.000,          9
 33RO200501,       A16S,      36,          1,         11,         11,2,20050126,       2225,   -44.4972,   -30.5845,       5128,  2199.3,   2.6629,  34.8111,2,  34.8111,2,    207.3,2,   206.4,2,   60.57,2,   26.85,2,    0.00,2,    1.82,2,-999.000,9,-999.000,9,-999.000,9,  -999.0,9,  -999.0,9,  -999.0,9,   20.00,-999.0000,9,    25.00,-999.000,9, -999.00,-999.000,9,-999.000,9, -999.00,9,  -999.0,9,  -999.0,-999.000,9,-999.000,-999.000,9, -999.00,9, 2199.30,-999.0000,9,-999.0000,9,-999.0000,9,-999.0000,9,-999.0000,9,-999.0000,9,   2.4978,     -999.0,-999.000,     -999.0,          9,     -999.0,          9,-999.000,          9
 33RO200501,       A16S,      36,          1,         10,         10,2,20050126,       2225,   -44.4972,   -30.5845,       5128,  2398.2,   2.5612,  34.8318,2,  34.8322,2,    215.0,2,   216.0,2,   58.99,2,   25.78,2,    0.00,2,    1.76,2,-999.000,9,-999.000,9,-999.000,9,  -999.0,9,  -999.0,9,  -999.0,9,   20.00,-999.0000,9,    25.00,-999.000,9, -999.00,-999.000,9,-999.000,9, -999.00,9,  -999.0,9,  -999.0,-999.000,9,-999.000,-999.000,9, -999.00,9, 2398.20,-999.0000,9,-999.0000,9,-999.0000,9,-999.0000,9,-999.0000,9,-999.0000,9,   2.3794,     -999.0,-999.000,      6.389,          2,      0.093,          2,   0.145,          2
 33RO200501,       A16S,      36,          1,          9,          9,2,20050126,       2225,   -44.4972,   -30.5845,       5128,  2599.3,   2.4313,  34.8389,2,  34.8391,2,    219.3,2,   221.3,2,   59.74,2,   25.36,2,    0.00,2,    1.72,2,-999.000,9,-999.000,9,-999.000,9,  -999.0,9,  -999.0,9,  -999.0,9,   20.00,-999.0000,9,    25.00,-999.000,9, -999.00,-999.000,9,-999.000,9, -999.00,9,  -999.0,9,  -999.0,-999.000,9,-999.000,-999.000,9, -999.00,9, 2599.30,-999.0000,9,-999.0000,9,-999.0000,9,-999.0000,9,-999.0000,9,-999.0000,9,   2.2328,     -999.0,-999.000,     -999.0,          9,     -999.0,          9,-999.000,          9
 33RO200501,       A16S,      36,          1,          8,          8,2,20050126,       2225,   -44.4972,   -30.5845,       5128,  2898.2,   1.9493,  34.7897,2,  34.7895,2,    211.6,2,   211.1,2,   79.66,6,   27.85,6,    0.00,6,    1.92,6,-999.000,9,-999.000,9,-999.000,9,  -999.0,9,  -999.0,9,  -999.0,9,   20.00,-999.0000,9,    25.00,-999.000,9, -999.00,-999.000,9,-999.000,9, -999.00,9,  -999.0,9,  -999.0,-999.000,9,-999.000,-999.000,9, -999.00,9, 2898.20,-999.0000,9,-999.0000,9,-999.0000,9,-999.0000,9,-999.0000,9,-999.0000,9,   1.7320,     -999.0,-999.000,     -999.0,          9,     -999.0,          9,-999.000,          9