BOTTLE,20220818CCHSIOAMB
EXPOCODE,SECT_ID,STNNBR,CASTNO,SAMPNO,BTLNBR,BTLNBR_FLAG_W,DATE,TIME,LATITUDE,LONGITUDE,DEPTH,CTDPRS,CTDTMP,CTDSAL,CTDSAL_FLAG_W,SALNTY,SALNTY_FLAG_W,CTDOXY,CTDOXY_FLAG_W,OXYGEN,OXYGEN_FLAG_W,SILCAT,SILCAT_FLAG_W,NITRAT,NITRAT_FLAG_W,NITRIT,NITRIT_FLAG_W,PHSPHT,PHSPHT_FLAG_W,CFC-11,CFC-11_FLAG_W,CFC-12,CFC-12_FLAG_W,CFC113,CFC113_FLAG_W,TCARBN,TCARBN_FLAG_W,ALKALI,ALKALI_FLAG_W,PCO2,PCO2_FLAG_W,PCO2TMP,PH_SWS,PH_SWS_FLAG_W,PH_TMP,TRITUM,TRITUM_FLAG_W,TRITER,HELIUM,HELIUM_FLAG_W,DELHE3,DELHE3_FLAG_W,DELC13,DELC13_FLAG_W,DELC14,DELC14_FLAG_W,C14ERR,NEON,NEON_FLAG_W,NEONER,CCL4,CCL4_FLAG_W,DOC,DOC_FLAG_W,CTDRAW,CDOM325,CDOM325_FLAG_W,CDOM340,CDOM340_FLAG_W,CDOM380,CDOM380_FLAG_W,CDOM412,CDOM412_FLAG_W,CDOMSL,CDOMSL_FLAG_W,CDOMSN,CDOMSN_FLAG_W,THETA,HELIER,DELHER,CH3CL,CH3CL_FLAG_W,CH3BR,CH3BR_FLAG_W,CH3I,CH3I_FLAG_W
,,,,,,,,,,,METERS,DBAR,ITS-90,PSS-78,,PSS-78,,UMOL/KG,,UMOL/KG,,UMOL/KG,,UMOL/KG,,UMOL/KG,,UMOL/KG,,PMOL/KG,,PMOL/KG,,PMOL/KG,,UMOL/KG,,UMOL/KG,,UATM,,DEG C,,,DEG C,TU,,TU,NMOL/KG,,PERCNT,,/MILLE,,/MILLE,,/MILLE,NMOL/KG,,NMOL/KG,PMOL/KG,,UMOL/KG,,DBAR,1/M,,1/M,,1/M,,1/M,,1/NM,,1/NM,,DEG C,NMOL/KG,PERCNT,PMOL/KG,,PMOL/KG,,PMOL/KG,
 33RO200501,       A16S,      41,          1,         36,         36,2,20050128,       1056,   -42.0007,   -29.0333,       4550,     3.9,  14.9226,  34.7839,2,  34.7816,2,    253.2,2,   259.5,2,    0.98,2,    0.88,2,    0.08,2,    0.29,4,   2.855,2,   1.768,2,   0.233,2,  2049.3,6,  2308.5,2,   365.0,3,   20.00,   7.9732,2,    25.00,   0.382,2,    0.02,   1.734,2,  -1.950,2,    2.06,2,    34.7,2,     3.0,   7.156,2,   0.007,   5.289,4,   61.50,2,    3.90,   0.2270,2,   0.1720,2,   0.0810,2,   0.0500,2,   0.0168,2,   0.0180,2,  14.9220,      0.002,   0.216,     -999.0,          9,     -999.0,          9,-999.000,          9
 33RO200501,       A16S,      41,          1,         35,         35,2,20050128,       1056,   -42.0007,   -29.0333,       4550,    20.7,  14.8615,  34.7827,2,  34.7806,2,    253.4,2,   253.3,2,    1.01,2,    0.88,2,    0.08,2,    0.30,4,   2.855,2,   1.776,2,   0.241,2,  2049.8,2,  2310.0,6,   384.1,3,   20.00,   7.9743,2,    25.00,   0.388,2,    0.02,   1.756,2,  -1.680,2, -999.00,9,  -999.0,9,  -999.0,   7.146,2,   0.007,   5.470,4, -999.00,9,   20.70,-999.0000,9,-999.0000,9,-999.0000,9,-999.0000,9,-999.0000,9,-999.0000,9,  14.8584,      0.006,   0.255,     -999.0,          9,     -999.0,          9,-999.000,          9
 33RO200501,       A16S,      41,          1,         34,         34,2,20050128,       1056,   -42.0007,   -29.0333,       4550,    40.9,  14.8366,  34.7825,2,  34.7810,2,    253.5,2,   252.3,2,    1.04,2,    0.94,2,    0.08,2,    0.29,4,-999.000,9,-999.000,9,-999.000,9,  2049.9,2,  2311.6,2,   399.6,2,   20.00,   7.9699,2,    25.00,-999.000,9, -999.00,-999.000,9,-999.000,9, -999.00,9,  -999.0,9,  -999.0,-999.000,9,-999.000,-999.000,9,   60.35,2,   40.90,   0.2040,2,   0.1530,2,   0.0750,2,   0.0480,2,   0.0161,2,   0.0172,2,  14.8305,     -999.0,-999.000,     -999.0,          9,     -999.0,          9,-999.000,          9
 33RO200501,       A16S,      41,          1,         33,         33,2,20050128,       1056,   -42.0007,   -29.0333,       4550,    60.4,  14.2398,  34.8095,2,  34.8099,2,    248.2,2,   248.8,2,    1.44,2,    2.20,2,    0.30,2,    0.40,4,   2.991,2,   1.853,2,   0.244,2,  2063.4,2,  2314.5,2,   425.8,2,   20.00,   7.9442,2,    25.00,-999.000,9, -999.00,   1.831,2,  -2.910,4,    1.91,2,    43.6,2,     3.0,   7.415,2,   0.007,   5.406,4, -999.00,9,   60.40,-999.0000,9,-999.0000,9,-999.0000,9,-999.0000,9,-999.0000,9,-999.0000,9,  14.2310,      0.002,   0.204,     -999.0,          9,     -999.0,          9,-999.000,          9
 33RO200501,       A16S,      41,          1,         32,         32,2,20050128,       1056,   -42.0007,   -29.0333,       4550,    82.1,  11.3725,  34.7865,2,  34.7883,2,    254.8,2,   257.0,2,    2.79,2,    8.58,2,    0.05,2,    0.70,4,-999.000,9,-999.000,9,-999.000,9,  2094.2,2,  2309.4,2,   517.7,2,   20.00,   7.8771,2,    25.00,-999.000,9, -999.00,-999.000,9,-999.000,9, -999.00,9,  -999.0,9,  -999.0,-999.000,9,-999.000,-999.000,9,   54.20,2,   82.10,   0.1210,2,   0.0870,2,   0.0450,2,   0.0300,2,   0.0162,2,   0.0176,2,  11.3622,     -999.0,-999.000,     -999.0,          9,     -999.0,          9,-999.000,          9
 33RO200501,       A16S,      41,          1,         31,         31,2,20050128,       1056,   -42.0007,   -29.0333,       4550,   101.8,  11.0024,  34.7543,2,  34.7543,2,    256.9,2,   257.5,2,    2.97,2,    9.42,2,    0.03,2,    0.74,4,   3.424,2,   2.039,2,   0.265,2,  2095.5,2,  2307.6,2,   529.1,2,   20.00,   7.8657,2,    25.00,   0.349,2,    0.01,   1.771,2,  -1.350,2,    1.60,2,    49.0,2,     3.5,   7.433,2,   0.007,   3.037,3, -999.00,9,  101.80,-999.0000,9,-999.0000,9,-999.0000,9,-999.0000,9,-999.0000,9,-999.0000,9,  10.9899,      0.006,   0.288,     -999.0,          9,     -999.0,          9,-999.000,          9
 33RO200501,       A16S,      41,          1,         30,         30,2,20050128,       1056,   -42.0007,   -29.0333,       4550,   125.4,  10.0281,  34.6692,2,  34.6655,2,    249.4,2,   246.6,2,    3.85,6,   12.97,6,    0.02,6,    0.95,4,-999.000,9,-999.000,9,-999.000,9,  2109.3,2,  2302.0,2,  -999.0,9,   20.00,   7.8256,2,    25.00,-999.000,9, -999.00,-999.000,9,-999.000,9, -999.00,9,  -999.0,9,  -999.0,-999.000,9,-999.000,-999.000,9,   52.72,2,  125.40,   0.1250,2,   0.0910,2,   0.0430,2,   0.0280,2,   0.0184,2,   0.0192,2,  10.0136,     -999.0,-999.000,     -999.0,          9,     -999.0,          9,-999.000,          9
 33RO200501,       A16S,      41,          1,         29,         29,2,20050128,       1056,   -42.0007,   -29.0333,       4550,   150.5,   9.3607,  34.6119,2,  34.6036,2,    246.4,2,   240.9,2,    4.69,6,   15.50,6,    0.03,6,    1.08,4,   3.554,2,   2.042,2,   0.221,2,  2120.8,2,  2298.2,2,   645.2,2,   20.00,   7.8008,2,    25.00,   0.275,2,    0.02,   1.788,2,  -1.430,2,    1.40,2,    27.8,2,     3.0,   7.537,2,   0.007,   2.069,3, -999.00,9,  150.50,-999.0000,9,-999.0000,9,-999.0000,9,-999.0000,9,-999.0000,9,-999.0000,9,   9.3441,      0.002,   0.198,     -999.0,          9,     -999.0,          9,-999.000,          9
 33RO200501,       A16S,      41,          1,         28,         28,2,20050128,       1056,   -42.0007,   -29.0333,       4550,   175.7,   8.7145,  34.5473,2,  34.5421,2,    238.4,2,   237.3,2,    5.60,6,   17.70,6,    0.02,6,    1.19,4,-999.000,9,-999.000,9,-999.000,9,  2127.6,2,  2293.6,2,  -999.0,9,   20.00,   7.7729,2,    25.00,-999.000,9, -999.00,-999.000,9,-999.000,9, -999.00,9,  -999.0,9,  -999.0,-999.000,9,-999.000,-999.000,9,   48.74,2,  175.70,   0.1410,2,   0.1050,2,   0.0490,2,   0.0300,2,   0.0186,2,   0.0188,2,   8.6960,     -999.0,-999.000,     -999.0,          9,     -999.0,          9,-999.000,          9
 33RO200501,       A16S,      41,          1,         27,         27,2,20050128,       1056,   -42.0007,   -29.0333,       4550,   200.7,   8.2228,  34.5051,2,  34.5064,2,    228.9,2,   229.3,2,    6.86,2,   19.97,2,    0.02,2,    1.25,4,   3.567,2,   1.997,2,   0.208,2,  2135.5,2,  2286.7,2,   721.3,2,   20.00,   7.7534,2,    25.00,   0.236,2,    0.01,   1.843,2,  -1.450,2,    1.30,2,    23.2,2,     3.3,   7.756,2,   0.007,   2.054,3, -999.00,9,  200.70,-999.0000,9,-999.0000,9,-999.0000,9,-999.0000,9,-999.0000,9,-999.0000,9,   8.2023,      0.002,   0.197,     -999.0,          9,     -999.0,          9,-999.000,          9
 33RO200501,       A16S,      41,          1,         26,         26,2,20050128,       1056,   -42.0007,   -29.0333,       4550,   250.6,   7.3188,  34.4329,2,  34.4330,2,    227.1,2,   228.7,2,    8.91,2,   22.50,2,    0.02,2,    1.46,4,   3.496,6,   1.900,6,   0.204,6,  2142.5,2,  2284.4,2,   777.9,2,   20.00,   7.7247,2,    25.00,   0.215,2,    0.01,   1.819,2,  -0.910,2,    1.29,2,    16.4,2,     3.5,   7.708,2,   0.007,   2.262,3,   47.63,2,  250.60,   0.0990,2,   0.0690,2,   0.0380,2,   0.0250,2,   0.0165,2,   0.0180,2,   7.2948,      0.002,   0.211,     -999.0,          9,     -999.0,          9,-999.000,          9
 33RO200501,       A16S,      41,          1,         25,         25,2,20050128,       1056,   -42.0007,   -29.0333,       4550,   300.8,   6.2027,  34.3086,2,  34.3072,2,    239.1,2,   242.9,2,   10.00,2,   24.04,2,    0.02,2,    1.57,4,   3.792,2,   2.088,2,   0.247,2,  2144.9,2,  2278.8,2,   804.5,2,   20.00,   7.7107,2,    25.00,   0.173,2,    0.01,   1.778,2,  -0.900,2,    1.33,2,    -0.6,2,     2.9,   7.476,4,   0.007,   2.782,3,   46.28,2,  300.80,-999.0000,9,-999.0000,9,-999.0000,9,-999.0000,9,-999.0000,9,-999.0000,9,   6.1764,      0.002,   0.224,     -999.0,          9,     -999.0,          9,-999.000,          9
 33RO200501,       A16S,      41,          1,         24,         24,2,20050128,       1056,   -42.0007,   -29.0333,       4550,   351.8,   5.4140,  34.2408,2,  34.2397,2,    252.3,2,   253.3,2,   11.27,2,   24.98,2,    0.02,2,    1.65,4,   3.963,2,   2.166,2,   0.289,2,  2145.7,2,  2277.5,2,   812.2,2,   20.00,   7.7154,2,    25.00,   0.177,2,    0.02,-999.000,9,-999.000,9,    1.24,2,    -3.2,6,     3.1,-999.000,9,-999.000,   3.198,3,   44.95,2,  351.80,   0.1260,2,   0.0920,2,   0.0450,2,   0.0300,2,   0.0173,2,   0.0182,2,   5.3854,     -999.0,-999.000,     -999.0,          9,     -999.0,          9,-999.000,          9
 33RO200501,       A16S,      41,          1,         23,         23,2,20050128,       1056,   -42.0007,   -29.0333,       4550,   399.5,   5.0127,  34.2125,2,  34.2123,2,    259.1,2,   259.2,2,   12.39,2,   25.51,2,    0.02,2,    1.69,4,   3.988,2,   2.176,2,   0.300,2,  2146.8,2,  2281.2,2,   818.4,2,   20.00,   7.7016,2,    25.00,   0.202,2,    0.01,   1.813,2,  -0.690,2,    1.34,2,   -11.5,6,     1.8,   7.810,2,   0.009,   3.339,3,   44.28,2,  399.50,-999.0000,9,-999.0000,9,-999.0000,9,-999.0000,9,-999.0000,9,-999.0000,9,   4.9813,      0.001,   0.224,     -999.0,          9,     -999.0,          9,-999.000,          9
 33RO200501,       A16S,      41,          1,         22,         22,2,20050128,       1056,   -42.0007,   -29.0333,       4550,   499.9,   4.5205,  34.1977,2,  34.1980,2,    260.2,2,   259.6,2,   15.09,2,   26.70,2,    0.02,2,    1.76,4,   3.907,2,   2.102,2,   0.300,2,  2152.9,2,  2280.3,2,   843.7,2,   20.00,   7.6943,2,    25.00,   0.093,2,    0.02,   1.829,2,  -0.780,2,    1.33,2,   -20.5,2,     3.3,   7.903,2,   0.007,   3.551,3,   43.05,2,  499.90,   0.1240,2,   0.0900,2,   0.0420,2,   0.0270,2,   0.0190,2,   0.0193,2,   4.4828,      0.001,   0.209,     -999.0,          9,     -999.0,          9,-999.000,          9
 33RO200501,       A16S,      41,          1,         21,         21,2,20050128,       1056,   -42.0007,   -29.0333,       4550,   600.8,   4.0280,  34.1930,2,  34.1933,2,    257.1,2,   256.4,2,   19.17,2,   28.08,2,    0.02,2,    1.80,4,   3.653,2,   1.950,2,   0.276,2,  2160.6,2,  2282.9,2,   875.2,2,   20.00,   7.6794,2,    25.00,   0.155,2,    0.01,-999.000,9,-999.000,9,    1.30,2,   -44.3,2,     2.9,-999.000,9,-999.000,   3.267,3, -999.00,9,  600.80,-999.0000,9,-999.0000,9,-999.0000,9,-999.0000,9,-999.0000,9,-999.0000,9,   3.9845,     -999.0,-999.000,     -999.0,          9,     -999.0,          9,-999.000,          9
 33RO200501,       A16S,      41,          1,         20,         20,2,20050128,       1056,   -42.0007,   -29.0333,       4550,   700.2,   3.6091,  34.2003,2,  34.2008,2,    251.0,2,   250.1,2,   24.05,2,   29.38,2,    0.02,2,    1.88,4,   3.353,2,   1.747,2,   0.239,2,  2170.3,2,  2285.4,2,   921.0,2,   20.00,   7.6599,2,    25.00,   0.156,2,    0.02,   1.815,2,   0.360,2,    1.23,2,   -50.8,2,     3.4,   7.891,2,   0.007,   3.104,3,   41.52,2,  700.20,   0.1260,2,   0.0900,2,   0.0460,2,   0.0300,2,   0.0167,2,   0.0178,2,   3.5602,      0.001,   0.204,     -999.0,          9,     -999.0,          9,-999.000,          9
 33RO200501,       A16S,      41,          1,         19,         19,2,20050128,       1056,   -42.0007,   -29.0333,       4550,   801.4,   3.2213,  34.2351,2,  34.2351,2,    238.4,2,   236.0,2,   31.75,2,   31.00,2,    0.02,2,    2.02,4,   2.755,2,   1.438,2,   0.187,2,  2184.8,2,  2300.8,2,   980.1,2,   20.00,   7.6446,2,    25.00,   0.043,2,    0.01,   1.841,2,   1.510,2,    1.18,2,   -75.6,2,     2.8,   8.098,2,   0.009,   2.604,3, -999.00,9,  801.40,-999.0000,9,-999.0000,9,-999.0000,9,-999.0000,9,-999.0000,9,-999.0000,9,   3.1671,      0.001,   0.238,     -999.0,          9,     -999.0,          9,-999.000,          9
 33RO200501,       A16S,      41,          1,         18,         18,2,20050128,       1056,   -42.0007,   -29.0333,       4550,   901.6,   3.0573,  34.2745,2,  34.2755,2,    225.2,2,   223.0,2,   38.16,2,   32.09,2,    0.01,2,    2.09,4,   2.307,2,   1.173,2,   0.157,2,  2196.1,2,  2302.5,6,  1030.4,2,   20.00,   7.6215,6,    25.00,   0.055,2,    0.01,   1.840,2,   2.490,2, -999.00,9,  -999.0,9,  -999.0,   7.958,2,   0.008,   2.304,3,   40.57,2,  901.60,   0.1580,2,   0.1190,2,   0.0590,2,   0.0370,2,   0.0169,2,   0.0174,2,   2.9967,      0.001,   0.217,     -999.0,          9,     -999.0,          9,-999.000,          9
 33RO200501,       A16S,      41,          1,         17,         17,2,20050128,       1056,   -42.0007,   -29.0333,       4550,  1000.1,   2.8269,  34.3228,2,  34.3234,2,    209.7,2,   210.3,2,   46.87,2,   33.23,2,    0.01,2,    2.17,4,   1.963,2,   1.003,2,   0.122,2,  2212.5,6,  2313.3,2,  1091.1,2,   20.00,   7.5952,2,    25.00,   0.051,2,    0.01,   1.854,2,   3.260,2,    0.89,2,  -104.6,2,     2.7,   8.134,2,   0.008,   1.996,3,   40.73,2, 1000.10,   0.1460,2,   0.1060,2,   0.0560,2,   0.0380,3,   0.0150,3,   0.0164,3,   2.7606,      0.001,   0.232,     -999.0,          9,     -999.0,          9,-999.000,          9
 33RO200501,       A16S,      41,          1,         16,         16,2,20050128,       1056,   -42.0007,   -29.0333,       4550,  1101.0,   2.8649,  34.4113,2,  34.4121,2,    194.6,2,   192.9,2,   53.07,2,   33.72,2,    0.01,2,    2.21,4,   1.071,2,   0.533,2,   0.047,2,  2222.2,2,  2322.2,2,  -999.0,9,   20.00,   7.5926,2,    25.00,   0.001,2,    0.00,-999.000,9,-999.000,9,    0.82,2,  -117.5,2,     3.3,-999.000,9,-999.000,   1.255,3,   40.52,2, 1101.00,-999.0000,9,-999.0000,9,-999.0000,9,-999.0000,9,-999.0000,9,-999.0000,9,   2.7906,     -999.0,-999.000,     -999.0,          9,     -999.0,          9,-999.000,          9
 33RO200501,       A16S,      41,          1,         15,         15,2,20050128,       1056,   -42.0007,   -29.0333,       4550,  1200.8,   2.7888,  34.4642,2,  34.4655,2,    186.1,2,   185.8,2,   57.97,2,   33.89,2,    0.01,2,    2.22,4,   0.789,2,   0.391,2,   0.028,2,  2228.3,2,  2326.6,2,  1138.1,2,   20.00,   7.6030,2,    25.00,   0.036,2,    0.01,   1.874,2,   5.660,2, -999.00,9,  -999.0,9,  -999.0,   8.061,2,   0.008,   0.948,3,   39.98,2, 1200.80,-999.0000,9,-999.0000,9,-999.0000,9,-999.0000,9,-999.0000,9,-999.0000,9,   2.7074,      0.001,   0.223,     -999.0,          9,     -999.0,          9,-999.000,          9
 33RO200501,       A16S,      41,          1,         14,         14,2,20050128,       1056,   -42.0007,   -29.0333,       4550,  1300.8,   2.7013,  34.4995,2,  34.4995,2,    180.4,2,   181.1,2,   62.69,2,   34.09,2,    0.01,2,    2.25,4,   0.717,2,   0.351,2,   0.036,2,  2235.2,2,  2330.3,2,  -999.0,9,   20.00,   7.5785,2,    25.00,   0.005,2,    0.01,   1.873,2,   6.630,2,    0.67,2,  -135.7,2,     2.7,   8.056,2,   0.007,   0.909,3,   40.44,2, 1300.80,-999.0000,9,-999.0000,9,-999.0000,9,-999.0000,9,-999.0000,9,-999.0000,9,   2.6130,      0.001,   0.206,     -999.0,          9,     -999.0,          9,-999.000,          9
 33RO200501,       A16S,      41,          1,         13,         13,2,20050128,       1056,   -42.0007,   -29.0333,       4550,  1500.5,   2.8184,  34.6211,2,  34.6219,2,    180.1,2,   180.7,2,   62.60,2,   32.40,2,    0.01,2,    2.14,4,   0.275,6,   0.131,6,   0.004,6,  2235.3,2,  2328.1,2,  1109.8,2,   20.00,   7.5904,2,    25.00,-999.000,9, -999.00,-999.000,9,-999.000,9, -999.00,9,  -999.0,9,  -999.0,-999.000,9,-999.000,   0.407,3,   40.64,2, 1500.50,-999.0000,9,-999.0000,9,-999.0000,9,-999.0000,9,-999.0000,9,-999.0000,9,   2.7125,     -999.0,-999.000,     -999.0,          9,     -999.0,          9,-999.000,          9
 33RO200501,       A16S,      41,          1,         12,         12,2,20050128,       1056,   -42.0007,   -29.0333,       4550,  1701.0,   2.8199,  34.7015,2,  34.7013,2,    186.9,2,   186.5,2,   62.76,2,   30.89,2,    0.01,2,    2.03,4,   0.169,2,   0.081,2,   0.008,2,  2233.4,2,  2332.6,2,  1048.7,2,   20.00,   7.5862,2,    25.00,-999.000,9, -999.00,-999.000,9,-999.000,9, -999.00,9,  -999.0,9,  -999.0,-999.000,9,-999.000,   0.337,3,   39.76,2, 1701.00,-999.0000,9,-999.0000,9,-999.0000,9,-999.0000,9,-999.0000,9,-999.0000,9,   2.6969,     -999.0,-999.000,     -999.0,          9,     -999.0,          9,-999.000,          9
 33RO200501,       A16S,      41,          1,         11,         11,2,20050128,       1056,   -42.0007,   -29.0333,       4550,  1902.0,   2.9160,  34.7753,2,  34.7746,2,    200.6,2,   199.3,2,   56.96,2,   28.50,2,    0.01,2,    1.87,4,   0.119,2,   0.059,2,  -0.006,2,  2220.3,2,  2331.4,2,   974.2,2,   20.00,   7.6358,2,    25.00,   0.001,2,    0.01,   1.890,2,   7.060,2, -999.00,9,  -999.0,9,  -999.0,   8.238,2,   0.009,   0.235,3,   40.67,2, 1902.00,-999.0000,9,-999.0000,9,-999.0000,9,-999.0000,9,-999.0000,9,-999.0000,9,   2.7741,      0.001,   0.228,     -999.0,          9,     -999.0,          9,-999.000,          9
 33RO200501,       A16S,      41,          1,         10,         10,2,20050128,       1056,   -42.0007,   -29.0333,       4550,  2101.6,   2.8248,  34.8099,2,  34.8104,2,    207.3,2,   207.9,2,   56.31,2,   27.28,2,    0.01,2,    1.79,4,   0.090,2,   0.039,2,   0.014,2,  2216.4,2,  2332.9,2,  -999.0,9,   20.00,   7.6522,2,    25.00,-999.000,9, -999.00,-999.000,9,-999.000,9, -999.00,9,  -999.0,9,  -999.0,-999.000,9,-999.000,   0.225,3, -999.00,9, 2101.60,   0.1670,2,   0.1240,2,   0.0660,2,   0.0430,2,   0.0151,3,   0.0161,3,   2.6661,     -999.0,-999.000,     -999.0,          9,     -999.0,          9,-999.000,          9
 33RO200501,       A16S,      41,          1,          9,          9,2,20050128,       1056,   -42.0007,   -29.0333,       4550,  2301.5,   2.8053,  34.8497,2,  34.8495,2,    216.4,2,   220.0,2,   51.04,2,   25.40,2,    0.01,2,    1.65,4,   0.065,2,   0.016,2,   0.005,2,  2205.9,2,  2332.8,2,   883.6,2,   20.00,   7.6795,2,    25.00,-999.000,9, -999.00,-999.000,9,-999.000,9, -999.00,9,  -999.0,9,  -999.0,-999.000,9,-999.000,   0.135,3,   40.43,2, 2301.50,-999.0000,9,-999.0000,9,-999.0000,9,-999.0000,9,-999.0000,9,-999.0000,9,   2.6283,     -999.0,-999.000,     -999.0,          9,     -999.0,          9,-999.000,          9
 33RO200501,       A16S,      41,          1,          8,          8,2,20050128,       1056,   -42.0007,   -29.0333,       4550,  2503.0,   2.6605,  34.8530,2,  34.8539,2,    222.9,2,   223.9,2,   52.53,2,   25.13,2,    0.00,2,    1.65,4,   0.055,2,   0.008,2,   0.000,2,  2205.2,2,  2336.5,2,   872.4,2,   20.00,   7.6873,2,    25.00,   0.035,2,    0.01,   1.890,2,   5.960,3, -999.00,9,  -999.0,9,  -999.0,   8.127,2,   0.008,   0.080,3, -999.00,9, 2503.00,-999.0000,9,-999.0000,9,-999.0000,9,-999.0000,9,-999.0000,9,-999.0000,9,   2.4669,      0.001,   0.220,     -999.0,          9,     -999.0,          9,-999.000,          9