BOTTLE,20220818CCHSIOAMB
EXPOCODE,SECT_ID,STNNBR,CASTNO,SAMPNO,BTLNBR,BTLNBR_FLAG_W,DATE,TIME,LATITUDE,LONGITUDE,DEPTH,CTDPRS,CTDTMP,CTDSAL,CTDSAL_FLAG_W,SALNTY,SALNTY_FLAG_W,CTDOXY,CTDOXY_FLAG_W,OXYGEN,OXYGEN_FLAG_W,SILCAT,SILCAT_FLAG_W,NITRAT,NITRAT_FLAG_W,NITRIT,NITRIT_FLAG_W,PHSPHT,PHSPHT_FLAG_W,CFC-11,CFC-11_FLAG_W,CFC-12,CFC-12_FLAG_W,CFC113,CFC113_FLAG_W,TCARBN,TCARBN_FLAG_W,ALKALI,ALKALI_FLAG_W,PCO2,PCO2_FLAG_W,PCO2TMP,PH_SWS,PH_SWS_FLAG_W,PH_TMP,TRITUM,TRITUM_FLAG_W,TRITER,HELIUM,HELIUM_FLAG_W,DELHE3,DELHE3_FLAG_W,DELC13,DELC13_FLAG_W,DELC14,DELC14_FLAG_W,C14ERR,NEON,NEON_FLAG_W,NEONER,CCL4,CCL4_FLAG_W,DOC,DOC_FLAG_W,CTDRAW,CDOM325,CDOM325_FLAG_W,CDOM340,CDOM340_FLAG_W,CDOM380,CDOM380_FLAG_W,CDOM412,CDOM412_FLAG_W,CDOMSL,CDOMSL_FLAG_W,CDOMSN,CDOMSN_FLAG_W,THETA,HELIER,DELHER,CH3CL,CH3CL_FLAG_W,CH3BR,CH3BR_FLAG_W,CH3I,CH3I_FLAG_W
,,,,,,,,,,,METERS,DBAR,ITS-90,PSS-78,,PSS-78,,UMOL/KG,,UMOL/KG,,UMOL/KG,,UMOL/KG,,UMOL/KG,,UMOL/KG,,PMOL/KG,,PMOL/KG,,PMOL/KG,,UMOL/KG,,UMOL/KG,,UATM,,DEG C,,,DEG C,TU,,TU,NMOL/KG,,PERCNT,,/MILLE,,/MILLE,,/MILLE,NMOL/KG,,NMOL/KG,PMOL/KG,,UMOL/KG,,DBAR,1/M,,1/M,,1/M,,1/M,,1/NM,,1/NM,,DEG C,NMOL/KG,PERCNT,PMOL/KG,,PMOL/KG,,PMOL/KG,
 33RO200501,       A16S,     105,          1,          7,          7,2,20050216,       2300,    -9.9995,   -25.0007,       5595,  3699.1,   2.3333,  34.8877,2,  34.8894,2,    250.5,2,   250.6,2,   43.87,2,   21.59,2,    0.00,2,    1.42,2,   0.018,2,   0.014,2,   0.007,2,  2188.2,2,  2334.6,2,   820.4,2,   20.00,-999.0000,1,    25.00,-999.000,9, -999.00,-999.000,9,-999.000,9, -999.00,9,  -999.0,9,  -999.0,-999.000,9,-999.000,   0.085,4,   40.08,2, 3699.10,-999.0000,9,-999.0000,9,-999.0000,9,-999.0000,9,-999.0000,9,-999.0000,9,   2.0235,     -999.0,-999.000,     -999.0,          9,     -999.0,          9,-999.000,          9
 33RO200501,       A16S,     105,          1,          6,          6,2,20050216,       2300,    -9.9995,   -25.0007,       5595,  3998.9,   1.9589,  34.8486,2,  34.8479,2,    245.8,2,   244.7,2,   58.72,2,   23.55,2,    0.00,2,    1.56,2,   0.015,2,   0.009,2,   0.000,2,  2206.5,2,  2343.8,2,   824.0,2,   20.00,   7.7072,2,    25.00,-999.000,9, -999.00,-999.000,9,-999.000,9, -999.00,9,  -999.0,9,  -999.0,-999.000,9,-999.000,   0.069,4, -999.00,9, 3998.90,-999.0000,9,-999.0000,9,-999.0000,9,-999.0000,9,-999.0000,9,-999.0000,9,   1.6262,     -999.0,-999.000,     -999.0,          9,     -999.0,          9,-999.000,          9
 33RO200501,       A16S,     105,          1,          5,          5,2,20050216,       2300,    -9.9995,   -25.0007,       5595,  4291.7,   1.4419,  34.7927,2,  34.7919,2,    235.9,2,   236.1,2,   80.80,6,   26.58,6,    0.00,6,    1.79,6,   0.008,2,   0.010,2,   0.000,2,  2225.9,2,  2354.4,2,   926.5,2,   20.00,   7.6738,2,    25.00,-999.000,9, -999.00,-999.000,9,-999.000,9, -999.00,9,  -999.0,9,  -999.0,-999.000,9,-999.000,   0.046,4,   40.03,2, 4291.70,-999.0000,9,-999.0000,9,-999.0000,9,-999.0000,9,-999.0000,9,-999.0000,9,   1.0917,     -999.0,-999.000,     -999.0,          9,     -999.0,          9,-999.000,          9
 33RO200501,       A16S,     105,          1,          4,          4,2,20050216,       2300,    -9.9995,   -25.0007,       5595,  4600.0,   0.9388,  34.7394,2,  34.7368,3,    227.3,2,   227.3,2,  101.23,6,   29.31,6,    0.00,6,    1.98,6,   0.012,2,   0.016,2,   0.005,2,  2247.8,2,  2362.3,2,  -999.0,9,   20.00,   7.6481,2,    25.00,-999.000,9, -999.00,-999.000,9,-999.000,9, -999.00,9,  -999.0,9,  -999.0,-999.000,9,-999.000,   0.050,4, -999.00,9, 4600.00,-999.0000,9,-999.0000,9,-999.0000,9,-999.0000,9,-999.0000,9,-999.0000,9,   0.5697,     -999.0,-999.000,     -999.0,          9,     -999.0,          9,-999.000,          9
 33RO200501,       A16S,     105,          1,          3,          3,2,20050216,       2300,    -9.9995,   -25.0007,       5595,  4897.7,   0.8240,  34.7244,2,  34.7241,2,    224.9,2,   225.1,2,  106.80,6,   30.09,6,    0.00,6,    2.04,6,   0.013,2,   0.009,2,   0.000,2,  2251.4,2,  2363.9,2,  1006.5,2,   20.00,   7.6403,2,    25.00,-999.000,9, -999.00,-999.000,9,-999.000,9, -999.00,9,  -999.0,9,  -999.0,-999.000,9,-999.000,   0.056,4,   39.88,2, 4897.70,-999.0000,9,-999.0000,9,-999.0000,9,-999.0000,9,-999.0000,9,-999.0000,9,   0.4244,     -999.0,-999.000,     -999.0,          9,     -999.0,          9,-999.000,          9
 33RO200501,       A16S,     105,          1,          2,          2,2,20050216,       2300,    -9.9995,   -25.0007,       5595,  5199.8,   0.7732,  34.7154,2,  34.7140,2,    223.7,2,   223.3,2,  110.32,6,   30.58,6,    0.00,6,    2.07,6,   0.019,2,   0.014,2,   0.000,2,  2256.7,2,  2366.8,6,  1033.8,2,   20.00,   7.6340,6,    25.00,-999.000,9, -999.00,-999.000,9,-999.000,9, -999.00,9,  -999.0,9,  -999.0,-999.000,9,-999.000,   0.068,4, -999.00,9, 5199.80,-999.0000,9,-999.0000,9,-999.0000,9,-999.0000,9,-999.0000,9,-999.0000,9,   0.3397,     -999.0,-999.000,     -999.0,          9,     -999.0,          9,-999.000,          9
 33RO200501,       A16S,     105,          1,          1,          1,2,20050216,       2300,    -9.9995,   -25.0007,       5595,  5533.4,   0.7683,  34.7102,2,  34.7131,3,    223.0,2,   222.7,2,  112.07,6,   30.78,6,    0.00,6,    2.09,6,   0.028,6,   0.019,6,   0.000,6,  2260.3,6,  2366.9,2,  1037.0,2,   20.00,   7.6408,2,    25.00,-999.000,9, -999.00,-999.000,9,-999.000,9, -999.00,9,  -999.0,9,  -999.0,-999.000,9,-999.000,   0.083,4,   39.21,2, 5533.40,-999.0000,9,-999.0000,9,-999.0000,9,-999.0000,9,-999.0000,9,-999.0000,9,   0.2942,     -999.0,-999.000,     -999.0,          9,     -999.0,          9,-999.000,          9