BOTTLE,20220818CCHSIOAMB
EXPOCODE,SECT_ID,STNNBR,CASTNO,SAMPNO,BTLNBR,BTLNBR_FLAG_W,DATE,TIME,LATITUDE,LONGITUDE,DEPTH,CTDPRS,CTDTMP,CTDSAL,CTDSAL_FLAG_W,SALNTY,SALNTY_FLAG_W,CTDOXY,CTDOXY_FLAG_W,OXYGEN,OXYGEN_FLAG_W,SILCAT,SILCAT_FLAG_W,NITRAT,NITRAT_FLAG_W,NITRIT,NITRIT_FLAG_W,PHSPHT,PHSPHT_FLAG_W,CFC-11,CFC-11_FLAG_W,CFC-12,CFC-12_FLAG_W,CFC113,CFC113_FLAG_W,TCARBN,TCARBN_FLAG_W,ALKALI,ALKALI_FLAG_W,PCO2,PCO2_FLAG_W,PCO2TMP,PH_SWS,PH_SWS_FLAG_W,PH_TMP,TRITUM,TRITUM_FLAG_W,TRITER,HELIUM,HELIUM_FLAG_W,DELHE3,DELHE3_FLAG_W,DELC13,DELC13_FLAG_W,DELC14,DELC14_FLAG_W,C14ERR,NEON,NEON_FLAG_W,NEONER,CCL4,CCL4_FLAG_W,DOC,DOC_FLAG_W,CTDRAW,CDOM325,CDOM325_FLAG_W,CDOM340,CDOM340_FLAG_W,CDOM380,CDOM380_FLAG_W,CDOM412,CDOM412_FLAG_W,CDOMSL,CDOMSL_FLAG_W,CDOMSN,CDOMSN_FLAG_W,THETA,HELIER,DELHER,CH3CL,CH3CL_FLAG_W,CH3BR,CH3BR_FLAG_W,CH3I,CH3I_FLAG_W
,,,,,,,,,,,METERS,DBAR,ITS-90,PSS-78,,PSS-78,,UMOL/KG,,UMOL/KG,,UMOL/KG,,UMOL/KG,,UMOL/KG,,UMOL/KG,,PMOL/KG,,PMOL/KG,,PMOL/KG,,UMOL/KG,,UMOL/KG,,UATM,,DEG C,,,DEG C,TU,,TU,NMOL/KG,,PERCNT,,/MILLE,,/MILLE,,/MILLE,NMOL/KG,,NMOL/KG,PMOL/KG,,UMOL/KG,,DBAR,1/M,,1/M,,1/M,,1/M,,1/NM,,1/NM,,DEG C,NMOL/KG,PERCNT,PMOL/KG,,PMOL/KG,,PMOL/KG,
 33RO200501,       A16S,      44,          1,         36,         36,2,20050129,       0831,   -40.4988,   -28.1013,       4151,     3.8,  15.6605,  34.8964,2,  34.8938,2,    253.3,2,   254.2,2,    0.44,2,    0.00,2,    0.01,2,    0.22,2,   2.775,2,   1.745,2,   0.234,2,  2042.3,2,  -999.0,9,  -999.0,9,   20.00,   7.9925,6,    25.00,-999.000,9, -999.00,-999.000,9,-999.000,9, -999.00,9,  -999.0,9,  -999.0,-999.000,9,-999.000,   6.924,4, -999.00,9,    3.80,-999.0000,9,-999.0000,9,-999.0000,9,-999.0000,9,-999.0000,9,-999.0000,9,  15.6600,     -999.0,-999.000,     86.794,          2,      2.471,          2,   6.198,          2
 33RO200501,       A16S,      44,          1,         35,         35,2,20050129,       0831,   -40.4988,   -28.1013,       4151,    20.7,  15.6046,  34.8929,2,  34.8893,2,    253.4,2,   254.1,2,    0.42,2,    0.01,2,    0.01,2,    0.19,2,-999.000,9,-999.000,9,-999.000,9,  -999.0,9,  -999.0,9,  -999.0,9,   20.00,-999.0000,9,    25.00,-999.000,9, -999.00,-999.000,9,-999.000,9, -999.00,9,  -999.0,9,  -999.0,-999.000,9,-999.000,-999.000,9, -999.00,9,   20.70,-999.0000,9,-999.0000,9,-999.0000,9,-999.0000,9,-999.0000,9,-999.0000,9,  15.6014,     -999.0,-999.000,     92.446,          2,      2.609,          2,   6.705,          2
 33RO200501,       A16S,      44,          1,         34,         34,2,20050129,       0831,   -40.4988,   -28.1013,       4151,    41.0,  15.2597,  34.9480,2,  34.9501,2,    247.5,2,   247.0,2,    0.52,2,    0.21,2,    0.04,2,    0.22,2,-999.000,9,-999.000,9,-999.000,9,  2059.4,2,  -999.0,5,  -999.0,9,   20.00,   7.9810,2,    25.00,-999.000,9, -999.00,-999.000,9,-999.000,9, -999.00,9,  -999.0,9,  -999.0,-999.000,9,-999.000,-999.000,9, -999.00,9,   41.00,-999.0000,9,-999.0000,9,-999.0000,9,-999.0000,9,-999.0000,9,-999.0000,9,  15.2534,     -999.0,-999.000,     90.306,          2,      2.422,          2,   6.226,          2
 33RO200501,       A16S,      44,          1,         33,         33,2,20050129,       0831,   -40.4988,   -28.1013,       4151,    60.7,  13.9793,  35.2586,2,  35.2519,2,    240.3,2,   238.1,2,    1.72,2,    4.73,2,    0.03,2,    0.44,2,   2.961,2,   1.761,2,   0.232,2,  -999.0,9,  -999.0,9,  -999.0,9,   20.00,-999.0000,9,    25.00,-999.000,9, -999.00,-999.000,9,-999.000,9, -999.00,9,  -999.0,9,  -999.0,-999.000,9,-999.000,   2.606,3, -999.00,9,   60.70,-999.0000,9,-999.0000,9,-999.0000,9,-999.0000,9,-999.0000,9,-999.0000,9,  13.9705,     -999.0,-999.000,     47.285,          2,      0.500,          2,   1.296,          2
 33RO200501,       A16S,      44,          1,         32,         32,2,20050129,       0831,   -40.4988,   -28.1013,       4151,    80.6,  13.6321,  35.2552,2,  35.2523,2,    237.2,2,   239.2,2,    1.88,2,    5.49,2,    0.02,2,    0.47,2,-999.000,9,-999.000,9,-999.000,9,  2101.6,2,  -999.0,5,  -999.0,9,   20.00,   7.9133,2,    25.00,-999.000,9, -999.00,-999.000,9,-999.000,9, -999.00,9,  -999.0,9,  -999.0,-999.000,9,-999.000,-999.000,9, -999.00,9,   80.60,-999.0000,9,-999.0000,9,-999.0000,9,-999.0000,9,-999.0000,9,-999.0000,9,  13.6207,     -999.0,-999.000,     -999.0,          9,     -999.0,          9,-999.000,          9
 33RO200501,       A16S,      44,          1,         31,         31,2,20050129,       0831,   -40.4988,   -28.1013,       4151,   100.8,  13.4814,  35.2591,2,  35.2456,2,    236.1,2,   238.5,2,    2.06,2,    6.29,2,    0.02,2,    0.53,2,-999.000,9,-999.000,9,-999.000,9,  -999.0,9,  -999.0,9,  -999.0,9,   20.00,-999.0000,9,    25.00,-999.000,9, -999.00,-999.000,9,-999.000,9, -999.00,9,  -999.0,9,  -999.0,-999.000,9,-999.000,-999.000,9, -999.00,9,  100.80,-999.0000,9,-999.0000,9,-999.0000,9,-999.0000,9,-999.0000,9,-999.0000,9,  13.4672,     -999.0,-999.000,     38.500,          2,      0.488,          2,   0.725,          2
 33RO200501,       A16S,      44,          1,         30,         30,2,20050129,       0831,   -40.4988,   -28.1013,       4151,   126.0,  12.9115,  35.1585,2,  35.1554,2,    237.4,2,   233.1,2,    2.22,2,    7.02,2,    0.01,2,    0.57,2,-999.000,9,-999.000,9,-999.000,9,  2104.5,2,  -999.0,5,  -999.0,9,   20.00,   7.8801,2,    25.00,-999.000,9, -999.00,-999.000,9,-999.000,9, -999.00,9,  -999.0,9,  -999.0,-999.000,9,-999.000,-999.000,9, -999.00,9,  126.00,-999.0000,9,-999.0000,9,-999.0000,9,-999.0000,9,-999.0000,9,-999.0000,9,  12.8943,     -999.0,-999.000,     -999.0,          9,     -999.0,          9,-999.000,          9
 33RO200501,       A16S,      44,          1,         29,         29,2,20050129,       0831,   -40.4988,   -28.1013,       4151,   149.6,  12.9231,  35.2064,2,  35.2049,2,    229.2,2,   228.3,2,    2.66,2,    8.56,2,    0.02,2,    0.65,2,   3.003,2,   1.737,2,   0.165,2,  -999.0,9,  -999.0,9,  -999.0,9,   20.00,-999.0000,9,    25.00,-999.000,9, -999.00,-999.000,9,-999.000,9, -999.00,9,  -999.0,9,  -999.0,-999.000,9,-999.000,   1.404,3, -999.00,9,  149.60,-999.0000,9,-999.0000,9,-999.0000,9,-999.0000,9,-999.0000,9,-999.0000,9,  12.9026,     -999.0,-999.000,     -999.0,          9,     -999.0,          9,-999.000,          9
 33RO200501,       A16S,      44,          1,         28,         28,2,20050129,       0831,   -40.4988,   -28.1013,       4151,   176.1,  12.6070,  35.1526,2,  35.1554,2,    239.0,2,   237.6,2,    2.50,2,    8.03,2,    0.02,2,    0.62,2,-999.000,9,-999.000,9,-999.000,9,  -999.0,9,  -999.0,9,  -999.0,9,   20.00,-999.0000,9,    25.00,-999.000,9, -999.00,-999.000,9,-999.000,9, -999.00,9,  -999.0,9,  -999.0,-999.000,9,-999.000,-999.000,9, -999.00,9,  176.10,-999.0000,9,-999.0000,9,-999.0000,9,-999.0000,9,-999.0000,9,-999.0000,9,  12.5832,     -999.0,-999.000,     21.512,          2,      0.031,          2,   0.378,          2
 33RO200501,       A16S,      44,          1,         27,         27,2,20050129,       0831,   -40.4988,   -28.1013,       4151,   201.2,  12.2348,  35.1054,2,  35.0899,2,    237.7,2,   236.6,2,    2.72,2,    9.13,2,    0.01,2,    0.68,2,-999.000,9,-999.000,9,-999.000,9,  -999.0,9,  -999.0,9,  -999.0,9,   20.00,-999.0000,9,    25.00,-999.000,9, -999.00,-999.000,9,-999.000,9, -999.00,9,  -999.0,9,  -999.0,-999.000,9,-999.000,-999.000,9, -999.00,9,  201.20,-999.0000,9,-999.0000,9,-999.0000,9,-999.0000,9,-999.0000,9,-999.0000,9,  12.2082,     -999.0,-999.000,     -999.0,          9,     -999.0,          9,-999.000,          9
 33RO200501,       A16S,      44,          1,         26,         26,2,20050129,       0831,   -40.4988,   -28.1013,       4151,   251.6,  10.6103,  34.8251,2,  34.8244,2,    231.0,2,   230.9,2,    3.86,2,   13.40,2,    0.01,2,    0.93,2,   3.318,2,   1.876,2,   0.187,2,  2122.1,2,  -999.0,5,  -999.0,9,   20.00,   7.8183,2,    25.00,-999.000,9, -999.00,-999.000,9,-999.000,9, -999.00,9,  -999.0,9,  -999.0,-999.000,9,-999.000,   1.667,3, -999.00,9,  251.60,-999.0000,9,-999.0000,9,-999.0000,9,-999.0000,9,-999.0000,9,-999.0000,9,  10.5800,     -999.0,-999.000,     -999.0,          9,     -999.0,          9,-999.000,          9
 33RO200501,       A16S,      44,          1,         25,         25,2,20050129,       0831,   -40.4988,   -28.1013,       4151,   302.0,   9.2708,  34.6384,2,  34.6257,2,    226.3,2,   226.5,2,    5.38,2,   17.38,2,    0.01,2,    1.16,2,-999.000,9,-999.000,9,-999.000,9,  -999.0,9,  -999.0,9,  -999.0,9,   20.00,-999.0000,9,    25.00,-999.000,9, -999.00,-999.000,9,-999.000,9, -999.00,9,  -999.0,9,  -999.0,-999.000,9,-999.000,-999.000,9, -999.00,9,  302.00,-999.0000,9,-999.0000,9,-999.0000,9,-999.0000,9,-999.0000,9,-999.0000,9,   9.2374,     -999.0,-999.000,     10.497,          2,      0.275,          2,   0.152,          2
 33RO200501,       A16S,      44,          1,         24,         24,2,20050129,       0831,   -40.4988,   -28.1013,       4151,   351.0,   8.1451,  34.5161,2,  34.5075,2,    223.7,2,   224.1,2,    7.13,2,   20.69,2,    0.01,2,    1.35,2,-999.000,9,-999.000,9,-999.000,9,  -999.0,9,  -999.0,9,  -999.0,9,   20.00,-999.0000,9,    25.00,-999.000,9, -999.00,-999.000,9,-999.000,9, -999.00,9,  -999.0,9,  -999.0,-999.000,9,-999.000,-999.000,9, -999.00,9,  351.00,-999.0000,9,-999.0000,9,-999.0000,9,-999.0000,9,-999.0000,9,-999.0000,9,   8.1091,     -999.0,-999.000,     -999.0,          9,     -999.0,          9,-999.000,          9
 33RO200501,       A16S,      44,          1,         23,         23,2,20050129,       0831,   -40.4988,   -28.1013,       4151,   401.4,   7.1838,  34.4301,2,  34.4260,2,    225.9,2,   226.2,2,    8.45,2,   22.82,2,    0.01,2,    1.48,2,-999.000,9,-999.000,9,-999.000,9,  -999.0,9,  -999.0,9,  -999.0,9,   20.00,-999.0000,9,    25.00,-999.000,9, -999.00,-999.000,9,-999.000,9, -999.00,9,  -999.0,9,  -999.0,-999.000,9,-999.000,-999.000,9, -999.00,9,  401.40,-999.0000,9,-999.0000,9,-999.0000,9,-999.0000,9,-999.0000,9,-999.0000,9,   7.1454,     -999.0,-999.000,     -999.0,          9,     -999.0,          9,-999.000,          9
 33RO200501,       A16S,      44,          1,         22,         22,2,20050129,       0831,   -40.4988,   -28.1013,       4151,   501.4,   5.3136,  34.2371,2,  34.2348,2,    253.3,2,   253.5,2,   10.93,2,   24.95,2,    0.00,2,    1.63,2,-999.000,9,-999.000,9,-999.000,9,  2152.4,2,  2274.6,2,  -999.0,9,   20.00,   7.7188,2,    25.00,-999.000,9, -999.00,-999.000,9,-999.000,9, -999.00,9,  -999.0,9,  -999.0,-999.000,9,-999.000,-999.000,9, -999.00,9,  501.40,-999.0000,9,-999.0000,9,-999.0000,9,-999.0000,9,-999.0000,9,-999.0000,9,   5.2727,     -999.0,-999.000,      8.108,          2,      0.528,          2,   0.090,          2
 33RO200501,       A16S,      44,          1,         21,         21,2,20050129,       0831,   -40.4988,   -28.1013,       4151,   600.8,   4.6180,  34.2064,2,  34.2061,2,    258.7,2,   258.7,2,   14.16,2,   26.19,2,    0.00,2,    1.70,2,   3.860,2,   2.048,2,   0.291,2,  -999.0,9,  -999.0,9,  -999.0,9,   20.00,-999.0000,9,    25.00,-999.000,9, -999.00,-999.000,9,-999.000,9, -999.00,9,  -999.0,9,  -999.0,-999.000,9,-999.000,   3.293,3, -999.00,9,  600.80,-999.0000,9,-999.0000,9,-999.0000,9,-999.0000,9,-999.0000,9,-999.0000,9,   4.5717,     -999.0,-999.000,     -999.0,          9,     -999.0,          9,-999.000,          9
 33RO200501,       A16S,      44,          1,         20,         20,2,20050129,       0831,   -40.4988,   -28.1013,       4151,   700.1,   4.2622,  34.2041,2,  34.2040,2,    255.9,2,   256.3,2,   17.02,2,   27.19,2,    0.00,2,    1.75,2,-999.000,9,-999.000,9,-999.000,9,  -999.0,9,  -999.0,9,  -999.0,9,   20.00,-999.0000,9,    25.00,-999.000,9, -999.00,-999.000,9,-999.000,9, -999.00,9,  -999.0,9,  -999.0,-999.000,9,-999.000,-999.000,9, -999.00,9,  700.10,-999.0000,9,-999.0000,9,-999.0000,9,-999.0000,9,-999.0000,9,-999.0000,9,   4.2097,     -999.0,-999.000,     -999.0,          9,     -999.0,          9,-999.000,          9
 33RO200501,       A16S,      44,          1,         19,         19,2,20050129,       0831,   -40.4988,   -28.1013,       4151,   801.5,   3.9526,  34.2082,2,  34.2079,2,    250.8,2,   251.4,2,   14.13,3,   26.23,3,    0.00,2,    1.68,3,-999.000,9,-999.000,9,-999.000,9,  -999.0,9,  -999.0,9,  -999.0,9,   20.00,-999.0000,9,    25.00,-999.000,9, -999.00,-999.000,9,-999.000,9, -999.00,9,  -999.0,9,  -999.0,-999.000,9,-999.000,-999.000,9, -999.00,9,  801.50,-999.0000,9,-999.0000,9,-999.0000,9,-999.0000,9,-999.0000,9,-999.0000,9,   3.8938,     -999.0,-999.000,      5.338,          2,      0.343,          2,   0.164,          2
 33RO200501,       A16S,      44,          1,         18,         18,2,20050129,       0831,   -40.4988,   -28.1013,       4151,   901.9,   3.5027,  34.2305,2,  34.2301,2,    239.5,2,   239.1,2,   27.08,2,   29.90,2,    0.00,2,    1.93,2,-999.000,9,-999.000,9,-999.000,9,  -999.0,9,  -999.0,9,  -999.0,9,   20.00,-999.0000,9,    25.00,-999.000,9, -999.00,-999.000,9,-999.000,9, -999.00,9,  -999.0,9,  -999.0,-999.000,9,-999.000,-999.000,9, -999.00,9,  901.90,-999.0000,9,-999.0000,9,-999.0000,9,-999.0000,9,-999.0000,9,-999.0000,9,   3.4390,     -999.0,-999.000,     -999.0,          9,     -999.0,          9,-999.000,          9
 33RO200501,       A16S,      44,          1,         17,         17,2,20050129,       0831,   -40.4988,   -28.1013,       4151,  1000.5,   3.2685,  34.2644,2,  34.2681,2,    228.3,2,   225.1,2,   33.94,2,   31.06,2,    0.00,2,    2.04,2,   2.287,2,   1.150,2,   0.149,2,  2195.4,2,  2293.4,2,  -999.0,9,   20.00,   7.6323,2,    25.00,-999.000,9, -999.00,-999.000,9,-999.000,9, -999.00,9,  -999.0,9,  -999.0,-999.000,9,-999.000,   2.342,3, -999.00,9, 1000.50,-999.0000,9,-999.0000,9,-999.0000,9,-999.0000,9,-999.0000,9,-999.0000,9,   3.1989,     -999.0,-999.000,     -999.0,          9,     -999.0,          9,-999.000,          9
 33RO200501,       A16S,      44,          1,         16,         16,2,20050129,       0831,   -40.4988,   -28.1013,       4151,  1102.1,   3.0697,  34.3192,2,  34.3182,2,    213.6,2,   211.6,2,   41.73,2,   32.18,2,    0.00,2,    2.12,2,-999.000,9,-999.000,9,-999.000,9,  -999.0,9,  -999.0,9,  -999.0,9,   20.00,-999.0000,9,    25.00,-999.000,9, -999.00,-999.000,9,-999.000,9, -999.00,9,  -999.0,9,  -999.0,-999.000,9,-999.000,-999.000,9, -999.00,9, 1102.10,-999.0000,9,-999.0000,9,-999.0000,9,-999.0000,9,-999.0000,9,-999.0000,9,   2.9938,     -999.0,-999.000,      7.271,          2,      0.272,          2,   0.056,          2
 33RO200501,       A16S,      44,          1,         15,         15,2,20050129,       0831,   -40.4988,   -28.1013,       4151,  1203.8,   2.9810,  34.3754,2,  34.3753,2,    199.9,2,   199.3,2,   47.86,2,   33.00,2,    0.00,2,    2.16,2,-999.000,9,-999.000,9,-999.000,9,  -999.0,9,  -999.0,9,  -999.0,9,   20.00,-999.0000,9,    25.00,-999.000,9, -999.00,-999.000,9,-999.000,9, -999.00,9,  -999.0,9,  -999.0,-999.000,9,-999.000,-999.000,9, -999.00,9, 1203.80,-999.0000,9,-999.0000,9,-999.0000,9,-999.0000,9,-999.0000,9,-999.0000,9,   2.8978,     -999.0,-999.000,     -999.0,          9,     -999.0,          9,-999.000,          9
 33RO200501,       A16S,      44,          1,         14,         14,2,20050129,       0831,   -40.4988,   -28.1013,       4151,  1303.0,   2.7652,  34.4103,2,  34.4096,2,    192.1,2,   192.1,2,   54.91,2,   33.52,2,    0.00,2,    2.21,2,-999.000,9,-999.000,9,-999.000,9,  2229.3,2,  2313.1,2,  -999.0,9,   20.00,   7.5909,2,    25.00,-999.000,9, -999.00,-999.000,9,-999.000,9, -999.00,9,  -999.0,9,  -999.0,-999.000,9,-999.000,-999.000,9, -999.00,9, 1303.00,-999.0000,9,-999.0000,9,-999.0000,9,-999.0000,9,-999.0000,9,-999.0000,9,   2.6763,     -999.0,-999.000,     -999.0,          9,     -999.0,          9,-999.000,          9
 33RO200501,       A16S,      44,          1,         13,         13,2,20050129,       0831,   -40.4988,   -28.1013,       4151,  1502.2,   2.7867,  34.5391,2,  34.5382,2,    179.9,2,   179.6,2,   61.29,2,   33.03,2,    0.00,2,    2.20,2,   0.481,2,   0.229,2,   0.000,2,  -999.0,9,  -999.0,9,  -999.0,9,   20.00,-999.0000,9,    25.00,-999.000,9, -999.00,-999.000,9,-999.000,9, -999.00,9,  -999.0,9,  -999.0,-999.000,9,-999.000,   0.570,3, -999.00,9, 1502.20,-999.0000,9,-999.0000,9,-999.0000,9,-999.0000,9,-999.0000,9,-999.0000,9,   2.6812,     -999.0,-999.000,      7.950,          2,      0.278,          2,   0.048,          2
 33RO200501,       A16S,      44,          1,         12,         12,2,20050129,       0831,   -40.4988,   -28.1013,       4151,  1701.9,   2.7920,  34.6320,2,  34.6326,2,    179.7,2,   180.1,2,   63.57,2,   31.87,2,    0.00,2,    2.12,2,-999.000,9,-999.000,9,-999.000,9,  2258.3,4,  2333.7,2,  -999.0,9,   20.00,   7.5761,2,    25.00,-999.000,9, -999.00,-999.000,9,-999.000,9, -999.00,9,  -999.0,9,  -999.0,-999.000,9,-999.000,-999.000,9, -999.00,9, 1701.90,-999.0000,9,-999.0000,9,-999.0000,9,-999.0000,9,-999.0000,9,-999.0000,9,   2.6696,     -999.0,-999.000,     -999.0,          9,     -999.0,          9,-999.000,          9
 33RO200501,       A16S,      44,          1,         11,         11,2,20050129,       0831,   -40.4988,   -28.1013,       4151,  1902.4,   2.7901,  34.7083,2,  34.7098,2,    186.2,2,   186.5,2,   63.43,2,   30.31,2,    0.00,2,    2.02,2,   0.160,2,   0.080,2,   0.003,2,  2239.2,2,  2328.8,2,  -999.0,9,   20.00,   7.6373,4,    25.00,-999.000,9, -999.00,-999.000,9,-999.000,9, -999.00,9,  -999.0,9,  -999.0,-999.000,9,-999.000,   0.288,3, -999.00,9, 1902.40,-999.0000,9,-999.0000,9,-999.0000,9,-999.0000,9,-999.0000,9,-999.0000,9,   2.6501,     -999.0,-999.000,     -999.0,          9,     -999.0,          9,-999.000,          9
 33RO200501,       A16S,      44,          1,         10,         10,2,20050129,       0831,   -40.4988,   -28.1013,       4151,  2101.6,   2.7748,  34.7605,2,  34.7603,2,    194.4,2,   195.2,2,   61.91,2,   28.96,2,    0.00,2,    1.91,2,-999.000,9,-999.000,9,-999.000,9,  2228.7,2,  2329.0,2,  -999.0,9,   20.00,   7.6114,2,    25.00,-999.000,9, -999.00,-999.000,9,-999.000,9, -999.00,9,  -999.0,9,  -999.0,-999.000,9,-999.000,-999.000,9, -999.00,9, 2101.60,-999.0000,9,-999.0000,9,-999.0000,9,-999.0000,9,-999.0000,9,-999.0000,9,   2.6170,     -999.0,-999.000,     15.400,          3,      0.741,          2,   0.048,          2
 33RO200501,       A16S,      44,          1,          9,          9,2,20050129,       0831,   -40.4988,   -28.1013,       4151,  2301.2,   2.7417,  34.8034,2,  34.8032,2,    205.2,2,   205.7,2,   59.03,2,   27.25,2,    0.00,2,    1.79,2,   0.086,2,   0.044,2,   0.000,2,  2223.1,2,  2328.1,2,  -999.0,9,   20.00,   7.6509,2,    25.00,-999.000,9, -999.00,-999.000,9,-999.000,9, -999.00,9,  -999.0,9,  -999.0,-999.000,9,-999.000,   0.215,3, -999.00,9, 2301.20,-999.0000,9,-999.0000,9,-999.0000,9,-999.0000,9,-999.0000,9,-999.0000,9,   2.5660,     -999.0,-999.000,     -999.0,          9,     -999.0,          9,-999.000,          9
 33RO200501,       A16S,      44,          1,          8,          8,2,20050129,       0831,   -40.4988,   -28.1013,       4151,  2501.7,   2.6095,  34.8194,2,  34.8195,2,    210.0,2,   211.7,2,   59.77,2,   26.56,2,    0.00,2,    1.73,2,-999.000,9,-999.000,9,-999.000,9,  -999.0,9,  -999.0,9,  -999.0,9,   20.00,-999.0000,9,    25.00,-999.000,9, -999.00,-999.000,9,-999.000,9, -999.00,9,  -999.0,9,  -999.0,-999.000,9,-999.000,-999.000,9, -999.00,9, 2501.70,-999.0000,9,-999.0000,9,-999.0000,9,-999.0000,9,-999.0000,9,-999.0000,9,   2.4171,     -999.0,-999.000,     -999.0,          9,     -999.0,          9,-999.000,          9