BOTTLE,20220818CCHSIOAMB
EXPOCODE,SECT_ID,STNNBR,CASTNO,SAMPNO,BTLNBR,BTLNBR_FLAG_W,DATE,TIME,LATITUDE,LONGITUDE,DEPTH,CTDPRS,CTDTMP,CTDSAL,CTDSAL_FLAG_W,SALNTY,SALNTY_FLAG_W,CTDOXY,CTDOXY_FLAG_W,OXYGEN,OXYGEN_FLAG_W,SILCAT,SILCAT_FLAG_W,NITRAT,NITRAT_FLAG_W,NITRIT,NITRIT_FLAG_W,PHSPHT,PHSPHT_FLAG_W,CFC-11,CFC-11_FLAG_W,CFC-12,CFC-12_FLAG_W,CFC113,CFC113_FLAG_W,TCARBN,TCARBN_FLAG_W,ALKALI,ALKALI_FLAG_W,PCO2,PCO2_FLAG_W,PCO2TMP,PH_SWS,PH_SWS_FLAG_W,PH_TMP,TRITUM,TRITUM_FLAG_W,TRITER,HELIUM,HELIUM_FLAG_W,DELHE3,DELHE3_FLAG_W,DELC13,DELC13_FLAG_W,DELC14,DELC14_FLAG_W,C14ERR,NEON,NEON_FLAG_W,NEONER,CCL4,CCL4_FLAG_W,DOC,DOC_FLAG_W,CTDRAW,CDOM325,CDOM325_FLAG_W,CDOM340,CDOM340_FLAG_W,CDOM380,CDOM380_FLAG_W,CDOM412,CDOM412_FLAG_W,CDOMSL,CDOMSL_FLAG_W,CDOMSN,CDOMSN_FLAG_W,THETA,HELIER,DELHER,CH3CL,CH3CL_FLAG_W,CH3BR,CH3BR_FLAG_W,CH3I,CH3I_FLAG_W
,,,,,,,,,,,METERS,DBAR,ITS-90,PSS-78,,PSS-78,,UMOL/KG,,UMOL/KG,,UMOL/KG,,UMOL/KG,,UMOL/KG,,UMOL/KG,,PMOL/KG,,PMOL/KG,,PMOL/KG,,UMOL/KG,,UMOL/KG,,UATM,,DEG C,,,DEG C,TU,,TU,NMOL/KG,,PERCNT,,/MILLE,,/MILLE,,/MILLE,NMOL/KG,,NMOL/KG,PMOL/KG,,UMOL/KG,,DBAR,1/M,,1/M,,1/M,,1/M,,1/NM,,1/NM,,DEG C,NMOL/KG,PERCNT,PMOL/KG,,PMOL/KG,,PMOL/KG,
 33RO200501,       A16S,      19,          1,         36,         36,2,20050121,       1149,   -52.9965,   -35.8480,       3509,     3.2,   3.2841,  33.8428,2,  33.8437,2,    333.3,2,   333.3,2,    4.76,2,   19.77,2,    0.24,2,    1.28,2,   5.762,2,   3.168,2,   0.505,2,  2125.7,6,  2290.6,2,  -999.0,9,   20.00,   7.7933,2,    25.00,   0.114,2,    0.01,   1.824,2,  -2.190,2,    1.84,2,   -79.4,2,     2.6,   7.938,2,   0.007,   6.274,4,   50.93,2,    3.20,-999.0000,9,-999.0000,9,-999.0000,9,-999.0000,9,-999.0000,9,-999.0000,9,   3.2839,      0.001,   0.224,     -999.0,          9,     -999.0,          9,-999.000,          9
 33RO200501,       A16S,      19,          1,         35,         35,2,20050121,       1149,   -52.9965,   -35.8480,       3509,    11.1,   3.1961,  33.8427,2,  33.8424,2,    333.5,2,   336.1,2,    4.55,2,   19.68,2,    0.24,2,    1.28,2,   5.777,2,   3.175,2,   0.515,2,  2124.7,2,  2289.7,6,  -999.0,9,   20.00,   7.7938,6,    25.00,   0.321,2,    0.01,   1.819,2,  -2.420,2, -999.00,9,  -999.0,9,  -999.0,   7.941,2,   0.006,   6.348,4,   51.13,2,   11.10,-999.0000,9,-999.0000,9,-999.0000,9,-999.0000,9,-999.0000,9,-999.0000,9,   3.1954,      0.001,   0.202,     -999.0,          9,     -999.0,          9,-999.000,          9
 33RO200501,       A16S,      19,          1,         34,         34,2,20050121,       1149,   -52.9965,   -35.8480,       3509,    51.7,   2.4975,  33.8774,2,  33.8860,2,    336.6,2,   336.4,2,   10.09,2,   20.75,2,    0.23,2,    1.38,2,-999.000,9,-999.000,9,-999.000,9,  2136.4,2,  2291.6,2,  -999.0,9,   20.00,   7.7697,2,    25.00,-999.000,9, -999.00,-999.000,9,-999.000,9,    1.71,2,   -87.1,2,     3.2,-999.000,9,-999.000,-999.000,9,   46.47,2,   51.70,-999.0000,9,-999.0000,9,-999.0000,9,-999.0000,9,-999.0000,9,-999.0000,9,   2.4946,     -999.0,-999.000,     -999.0,          9,     -999.0,          9,-999.000,          9
 33RO200501,       A16S,      19,          1,         33,         33,2,20050121,       1149,   -52.9965,   -35.8480,       3509,    72.2,   1.3172,  33.9583,2,  33.9587,2,    335.3,2,   333.4,2,   24.00,2,   23.05,2,    0.23,2,    1.61,2,   6.058,2,   3.284,2,   0.535,2,  2157.2,2,  2303.6,2,  -999.0,9,   20.00,   7.7337,2,    25.00,   0.088,2,    0.02,   1.851,2,  -1.850,2, -999.00,9,  -999.0,9,  -999.0,   8.164,2,   0.007,   6.438,4,   43.46,2,   72.20,-999.0000,9,-999.0000,9,-999.0000,9,-999.0000,9,-999.0000,9,-999.0000,9,   1.3139,      0.001,   0.227,     -999.0,          9,     -999.0,          9,-999.000,          9
 33RO200501,       A16S,      19,          1,         32,         32,2,20050121,       1149,   -52.9965,   -35.8480,       3509,    91.4,   0.6073,  33.9987,2,  34.0001,2,    323.5,2,   326.5,2,   35.65,2,   25.36,2,    0.25,2,    1.81,2,-999.000,9,-999.000,9,-999.000,9,  2173.4,2,  2298.3,2,  -999.0,9,   20.00,   7.7062,6,    25.00,-999.000,9, -999.00,-999.000,9,-999.000,9,    1.32,2,   -90.1,2,     2.7,-999.000,9,-999.000,-999.000,9,   42.02,2,   91.40,-999.0000,9,-999.0000,9,-999.0000,9,-999.0000,9,-999.0000,9,-999.0000,9,   0.6037,     -999.0,-999.000,     -999.0,          9,     -999.0,          9,-999.000,          9
 33RO200501,       A16S,      19,          1,         31,         31,2,20050121,       1149,   -52.9965,   -35.8480,       3509,   116.2,   0.5955,  34.0912,2,  34.0945,2,    298.4,2,   299.8,2,   45.88,2,   28.57,2,    0.25,2,    2.00,2,   5.234,2,   2.849,2,   0.000,2,  2192.6,2,  2299.7,2,  -999.0,9,   20.00,   7.6599,2,    25.00,   0.041,2,    0.03,   1.898,2,  -0.480,2,    0.97,2,   -87.8,2,     3.0,   8.302,2,   0.007,   5.503,4,   41.57,2,  116.20,   0.1200,2,   0.0840,2,   0.0450,2,   0.0320,2,   0.0148,2,   0.0169,2,   0.5908,      0.001,   0.218,     -999.0,          9,     -999.0,          9,-999.000,          9
 33RO200501,       A16S,      19,          1,         30,         30,2,20050121,       1149,   -52.9965,   -35.8480,       3509,   142.1,   0.8109,  34.1803,2,  34.1802,2,    275.6,2,   272.3,2,   53.92,2,   31.56,2,    0.22,2,    2.16,2,-999.000,9,-999.000,9,-999.000,9,  2207.1,2,  2302.7,2,  -999.0,9,   20.00,   7.6178,2,    25.00,-999.000,9, -999.00,-999.000,9,-999.000,9, -999.00,9,  -999.0,9,  -999.0,-999.000,9,-999.000,-999.000,9,   39.96,2,  142.10,-999.0000,9,-999.0000,9,-999.0000,9,-999.0000,9,-999.0000,9,-999.0000,9,   0.8048,     -999.0,-999.000,     -999.0,          9,     -999.0,          9,-999.000,          9
 33RO200501,       A16S,      19,          1,         29,         29,2,20050121,       1149,   -52.9965,   -35.8480,       3509,   165.7,   0.9660,  34.2225,2,  34.2210,2,    231.5,2,   262.4,2,   56.72,2,   32.00,2,    0.21,2,    2.20,2,   3.977,2,   2.127,2,   0.343,2,  2213.3,2,  2308.1,2,  -999.0,9,   20.00,   7.6061,2,    25.00,   0.062,2,    0.01,   1.913,2,   1.180,2,    0.83,2,  -110.6,2,     2.6,   8.305,2,   0.007,   4.031,3,   39.65,2,  165.70,   0.1400,2,   0.1010,2,   0.0570,2,   0.0400,2,   0.0136,2,   0.0152,2,   0.9587,      0.001,   0.219,     -999.0,          9,     -999.0,          9,-999.000,          9
 33RO200501,       A16S,      19,          1,         28,         28,2,20050121,       1149,   -52.9965,   -35.8480,       3509,   190.6,   1.5741,  34.3250,2,  34.3244,2,    221.2,2,   223.1,2,   61.93,2,   33.99,2,    0.11,2,    2.29,2,-999.000,9,-999.000,9,-999.000,9,  2229.2,2,  2312.5,2,  -999.0,9,   20.00,   7.5758,2,    25.00,-999.000,9, -999.00,-999.000,9,-999.000,9, -999.00,9,  -999.0,9,  -999.0,-999.000,9,-999.000,-999.000,9,   39.39,2,  190.60,-999.0000,9,-999.0000,9,-999.0000,9,-999.0000,9,-999.0000,9,-999.0000,9,   1.5647,     -999.0,-999.000,     -999.0,          9,     -999.0,          9,-999.000,          9
 33RO200501,       A16S,      19,          1,         27,         27,2,20050121,       1149,   -52.9965,   -35.8480,       3509,   216.5,   1.5474,  34.3625,2,  34.3609,2,    215.1,2,   218.9,2,   65.99,2,   34.12,2,    0.12,2,    2.30,2,   2.512,2,   1.320,2,   0.209,2,  2239.0,2,  2316.5,2,  -999.0,9,   20.00,   7.5771,2,    25.00,   0.043,2,    0.03,   1.901,2,   3.770,2,    0.66,2,  -123.2,2,     3.1,   8.243,2,   0.007,   2.615,3,   39.34,2,  216.50,-999.0000,9,-999.0000,9,-999.0000,9,-999.0000,9,-999.0000,9,-999.0000,9,   1.5367,      0.001,   0.214,     -999.0,          9,     -999.0,          9,-999.000,          9
 33RO200501,       A16S,      19,          1,         26,         26,2,20050121,       1149,   -52.9965,   -35.8480,       3509,   241.6,   1.5604,  34.3994,2,  34.4003,2,    216.6,2,   211.5,2,   69.82,2,   34.43,2,    0.06,2,    2.32,2,-999.000,9,-999.000,9,-999.000,9,  2241.6,2,  2321.6,2,  -999.0,9,   20.00,   7.5719,2,    25.00,-999.000,9, -999.00,-999.000,9,-999.000,9, -999.00,9,  -999.0,9,  -999.0,-999.000,9,-999.000,-999.000,9,   39.83,2,  241.60,   0.0890,2,   0.0610,2,   0.0320,2,   0.0220,2,   0.0183,2,   0.0199,2,   1.5483,     -999.0,-999.000,     -999.0,          9,     -999.0,          9,-999.000,          9
 33RO200501,       A16S,      19,          1,         25,         25,2,20050121,       1149,   -52.9965,   -35.8480,       3509,   276.0,   1.8222,  34.4590,2,  34.4588,2,    197.2,2,   196.3,2,   73.04,2,   34.67,2,    0.04,2,    2.33,2,   1.644,6,   0.855,6,   0.131,6,  2246.5,2,  2322.6,2,  -999.0,9,   20.00,   7.5738,2,    25.00,   0.057,2,    0.01,   1.909,2,   5.110,2,    0.57,2,  -137.8,2,     2.5,   8.170,2,   0.007,   1.817,3,   39.68,2,  276.00,-999.0000,9,-999.0000,9,-999.0000,9,-999.0000,9,-999.0000,9,-999.0000,9,   1.8077,      0.001,   0.227,     -999.0,          9,     -999.0,          9,-999.000,          9
 33RO200501,       A16S,      19,          1,         24,         24,2,20050121,       1149,   -52.9965,   -35.8480,       3509,   326.2,   1.8163,  34.5073,2,  34.5069,2,    194.5,2,   191.2,2,   77.16,2,   34.58,2,    0.03,2,    2.33,2,   1.367,2,   0.715,2,   0.102,2,  2251.2,2,  2327.7,2,  -999.0,9,   20.00,   7.5758,2,    25.00,-999.000,9, -999.00,   1.902,2,   6.766,2,    0.54,2,  -141.2,2,     2.6,   8.167,2,   0.007,   1.508,3,   39.96,2,  326.20,-999.0000,9,-999.0000,9,-999.0000,9,-999.0000,9,-999.0000,9,-999.0000,9,   1.7990,      0.001,   0.218,     -999.0,          9,     -999.0,          9,-999.000,          9
 33RO200501,       A16S,      19,          1,         23,         23,2,20050121,       1149,   -52.9965,   -35.8480,       3509,   375.9,   1.8246,  34.5364,2,  34.5341,2,    187.5,2,   188.3,2,   79.38,2,   34.39,2,    0.02,2,    2.33,2,   1.204,2,   0.625,2,   0.096,2,  2253.1,2,  2332.1,2,  -999.0,9,   20.00,   7.5713,2,    25.00,   0.050,2,    0.02,-999.000,9,-999.000,9,    0.50,2,  -141.0,2,     2.6,-999.000,9,-999.000,   1.438,3,   39.81,2,  375.90,-999.0000,9,-999.0000,9,-999.0000,9,-999.0000,9,-999.0000,9,-999.0000,9,   1.8045,     -999.0,-999.000,     -999.0,          9,     -999.0,          9,-999.000,          9
 33RO200501,       A16S,      19,          1,         22,         22,2,20050121,       1149,   -52.9965,   -35.8480,       3509,   427.1,   1.8993,  34.5770,2,  34.5851,2,    175.7,2,   180.6,2,   82.11,2,   34.11,2,    0.02,2,    2.29,2,   0.816,2,   0.420,2,   0.060,2,  2257.3,2,  2333.8,2,  -999.0,9,   20.00,   7.5648,2,    25.00,   0.001,2,    0.01,-999.000,9,-999.000,9, -999.00,9,  -999.0,9,  -999.0,-999.000,9,-999.000,   1.006,3,   39.92,2,  427.10,-999.0000,9,-999.0000,9,-999.0000,9,-999.0000,9,-999.0000,9,-999.0000,9,   1.8760,     -999.0,-999.000,     -999.0,          9,     -999.0,          9,-999.000,          9
 33RO200501,       A16S,      19,          1,         21,         21,2,20050121,       1149,   -52.9965,   -35.8480,       3509,   472.3,   2.0492,  34.6193,2,  34.6189,2,    176.2,2,   175.1,2,   84.62,2,   33.85,2,    0.02,2,    2.28,2,   0.495,2,   0.250,2,   0.028,2,  2259.2,2,  2348.1,4,  -999.0,9,   20.00,   7.5709,2,    25.00,-999.000,9, -999.00,-999.000,9,-999.000,9,    0.50,2,  -150.6,2,     2.9,-999.000,9,-999.000,   0.626,3,   39.68,2,  472.30,   0.1330,2,   0.0940,2,   0.0500,2,   0.0350,2,   0.0150,2,   0.0169,2,   2.0227,     -999.0,-999.000,     -999.0,          9,     -999.0,          9,-999.000,          9
 33RO200501,       A16S,      19,          1,         20,         20,2,20050121,       1149,   -52.9965,   -35.8480,       3509,   527.4,   2.0352,  34.6378,2,  34.6360,2,    177.6,2,   175.1,2,   86.68,2,   33.69,2,    0.02,2,    2.25,2,   0.410,2,   0.219,2,   0.021,2,  2259.8,2,  -999.0,5,  -999.0,9,   20.00,   7.5730,2,    25.00,   0.001,2,    0.02,   1.919,2,   9.690,2, -999.00,9,  -999.0,9,  -999.0,   8.339,2,   0.007,   0.555,3,   39.93,2,  527.40,-999.0000,9,-999.0000,9,-999.0000,9,-999.0000,9,-999.0000,9,-999.0000,9,   2.0053,      0.001,   0.227,     -999.0,          9,     -999.0,          9,-999.000,          9
 33RO200501,       A16S,      19,          1,         19,         19,2,20050121,       1149,   -52.9965,   -35.8480,       3509,   576.0,   1.8581,  34.6370,2,  34.6374,2,    180.8,2,   180.6,2,   84.84,2,   33.46,2,    0.01,2,    2.25,2,   0.579,2,   0.308,2,   0.043,2,  2259.7,2,  2344.1,2,  -999.0,9,   20.00,   7.5736,2,    25.00,-999.000,9, -999.00,-999.000,9,-999.000,9,    0.54,2,  -150.3,2,     2.8,-999.000,9,-999.000,   0.749,3,   39.57,2,  576.00,   0.1770,2,   0.1330,2,   0.0680,2,   0.0460,2,   0.0149,2,   0.0161,2,   1.8260,     -999.0,-999.000,     -999.0,          9,     -999.0,          9,-999.000,          9
 33RO200501,       A16S,      19,          1,         18,         18,2,20050121,       1149,   -52.9965,   -35.8480,       3509,   651.4,   1.7631,  34.6547,2,  34.6559,2,    185.2,2,   182.8,2,   87.35,2,   33.17,2,    0.01,2,    2.23,2,   0.538,2,   0.279,2,   0.032,2,  2259.9,2,  2346.8,2,  -999.0,9,   20.00,   7.5827,2,    25.00,-999.000,9, -999.00,   1.928,2,   9.970,2,    0.52,2,  -153.3,2,     2.3,   8.319,2,   0.007,   0.664,3,   39.50,2,  651.40,-999.0000,9,-999.0000,9,-999.0000,9,-999.0000,9,-999.0000,9,-999.0000,9,   1.7269,      0.001,   0.232,     -999.0,          9,     -999.0,          9,-999.000,          9
 33RO200501,       A16S,      19,          1,         17,         17,2,20050121,       1149,   -52.9965,   -35.8480,       3509,   751.6,   1.7685,  34.6785,2,  34.6773,2,    182.9,2,   182.8,2,   89.81,2,   32.84,2,    0.01,2,    2.22,2,   0.418,2,   0.247,2,   0.035,2,  2259.9,2,  2351.5,2,  -999.0,9,   20.00,   7.5841,2,    25.00,   0.001,2,    0.00,   1.914,2,   9.710,2,    0.51,2,  -153.2,2,     2.8,   8.276,2,   0.007,   0.512,3,   39.73,2,  751.60,-999.0000,9,-999.0000,9,-999.0000,9,-999.0000,9,-999.0000,9,-999.0000,9,   1.7261,      0.001,   0.240,     -999.0,          9,     -999.0,          9,-999.000,          9
 33RO200501,       A16S,      19,          1,         16,         16,2,20050121,       1149,   -52.9965,   -35.8480,       3509,   851.0,   1.5459,  34.6791,2,  34.6780,2,    190.2,2,   190.2,2,   92.01,2,   32.48,2,    0.01,2,    2.21,2,   0.559,2,   0.305,2,   0.043,2,  2259.2,2,  -999.0,5,  -999.0,9,   20.00,   7.6037,2,    25.00,-999.000,9, -999.00,   1.925,2,   9.038,2, -999.00,9,  -999.0,9,  -999.0,   8.316,2,   0.007,   0.685,3, -999.00,9,  851.00,-999.0000,9,-999.0000,9,-999.0000,9,-999.0000,9,-999.0000,9,-999.0000,9,   1.4987,      0.001,   0.262,     -999.0,          9,     -999.0,          9,-999.000,          9
 33RO200501,       A16S,      19,          1,         15,         15,2,20050121,       1149,   -52.9965,   -35.8480,       3509,   950.5,   1.4005,  34.6830,2,  34.6815,2,    192.1,2,   195.2,2,   94.47,2,   32.27,2,    0.01,2,    2.20,2,   0.605,2,   0.315,2,   0.040,2,  2258.5,6,  2353.3,2,  -999.0,9,   20.00,   7.6019,2,    25.00,-999.000,9, -999.00,   1.879,3,   9.243,2,    0.52,2,  -161.2,2,     2.8,   7.911,2,   0.007,   0.000,3,   39.34,2,  950.50,-999.0000,9,-999.0000,9,-999.0000,9,-999.0000,9,-999.0000,9,-999.0000,9,   1.3481,      0.001,   0.236,     -999.0,          9,     -999.0,          9,-999.000,          9
 33RO200501,       A16S,      19,          1,         14,         14,2,20050121,       1149,   -52.9965,   -35.8480,       3509,  1056.1,   1.3149,  34.6883,2,  34.6880,2,    195.8,2,   197.7,2,   97.26,2,   32.23,2,    0.00,2,    2.19,2,   0.589,2,   0.312,2,   0.046,2,  2257.9,2,  2354.7,6,  -999.0,9,   20.00,   7.6041,6,    25.00,   0.001,2,    0.00,   1.929,2,   8.650,2, -999.00,9,  -999.0,9,  -999.0,   8.352,2,   0.007,   0.668,3, -999.00,9, 1056.10,   0.1620,2,   0.1200,2,   0.0600,2,   0.0400,2,   0.0159,2,   0.0171,2,   1.2564,      0.001,   0.254,     -999.0,          9,     -999.0,          9,-999.000,          9
 33RO200501,       A16S,      19,          1,         13,         13,2,20050121,       1149,   -52.9965,   -35.8480,       3509,  1149.9,   1.2290,  34.6956,2,  34.6949,2,    197.6,2,   199.3,2,  100.93,2,   32.12,2,    0.00,2,    2.19,2,   0.507,2,   0.273,2,   0.043,2,  2259.0,2,  2356.0,2,  -999.0,9,   20.00,   7.6025,2,    25.00,   0.001,2,    0.00,-999.000,9,-999.000,9,    0.55,2,  -161.7,2,     2.6,-999.000,9,-999.000,   0.579,3,   39.33,2, 1149.90,-999.0000,9,-999.0000,9,-999.0000,9,-999.0000,9,-999.0000,9,-999.0000,9,   1.1653,     -999.0,-999.000,     -999.0,          9,     -999.0,          9,-999.000,          9
 33RO200501,       A16S,      19,          1,         12,         12,2,20050121,       1149,   -52.9965,   -35.8480,       3509,  1351.5,   1.0561,  34.6985,2,  34.6991,2,    200.6,2,   202.4,2,  106.01,2,   32.08,2,    0.00,2,    2.19,2,   0.455,2,   0.256,2,   0.024,2,  2259.4,2,  2357.4,2,  -999.0,9,   20.00,   7.6080,2,    25.00,-999.000,9, -999.00,-999.000,9,-999.000,9,    0.51,2,  -157.8,2,     2.8,-999.000,9,-999.000,   0.494,3, -999.00,9, 1351.50,-999.0000,9,-999.0000,9,-999.0000,9,-999.0000,9,-999.0000,9,-999.0000,9,   0.9808,     -999.0,-999.000,     -999.0,          9,     -999.0,          9,-999.000,          9
 33RO200501,       A16S,      19,          1,         11,         11,2,20050121,       1149,   -52.9965,   -35.8480,       3509,  1551.5,   0.8731,  34.6958,2,  34.6962,2,    203.8,2,   206.0,2,  109.96,2,   32.13,2,    0.00,2,    2.20,2,   0.461,2,   0.246,2,   0.037,2,  2259.1,2,  2358.1,2,  -999.0,9,   20.00,   7.6065,2,    25.00,   0.001,2,    0.00,-999.000,9,-999.000,9, -999.00,9,  -999.0,9,  -999.0,-999.000,9,-999.000,   0.543,3,   39.42,2, 1551.50,-999.0000,9,-999.0000,9,-999.0000,9,-999.0000,9,-999.0000,9,-999.0000,9,   0.7862,     -999.0,-999.000,     -999.0,          9,     -999.0,          9,-999.000,          9
 33RO200501,       A16S,      19,          1,         10,         10,2,20050121,       1149,   -52.9965,   -35.8480,       3509,  1750.8,   0.7528,  34.6966,2,  34.7033,3,    206.3,2,   219.9,3,  113.67,2,   32.15,2,    0.00,2,    2.22,2,   0.393,2,   0.203,2,   0.014,2,  2260.0,2,  2359.1,2,  -999.0,9,   20.00,   7.6138,2,    25.00,   0.028,2,    0.01,   1.937,2,   9.350,2, -999.00,9,  -999.0,9,  -999.0,   8.497,2,   0.007,   0.440,3, -999.00,9, 1750.80,-999.0000,9,-999.0000,9,-999.0000,9,-999.0000,9,-999.0000,9,-999.0000,9,   0.6535,      0.001,   0.234,     -999.0,          9,     -999.0,          9,-999.000,          9
 33RO200501,       A16S,      19,          1,          9,          9,2,20050121,       1149,   -52.9965,   -35.8480,       3509,  1951.3,   0.6602,  34.6928,2,  34.6919,2,    208.6,2,   210.2,2,  115.06,2,   32.10,2,    0.00,2,    2.22,2,   0.454,2,   0.236,2,   0.029,2,  2259.7,2,  2356.9,2,  -999.0,9,   20.00,   7.6109,2,    25.00,   0.001,2,    0.00,-999.000,9,-999.000,9, -999.00,9,  -999.0,9,  -999.0,-999.000,9,-999.000,   0.539,3,   39.60,2, 1951.30,   0.1420,2,   0.1020,2,   0.0540,2,   0.0390,2,   0.0143,2,   0.0161,2,   0.5477,     -999.0,-999.000,     -999.0,          9,     -999.0,          9,-999.000,          9
 33RO200501,       A16S,      19,          1,          8,          8,2,20050121,       1149,   -52.9965,   -35.8480,       3509,  2148.1,   0.6151,  34.6907,2,  34.6931,3,    210.1,2,   214.6,2,  116.28,2,   32.16,2,    0.00,2,    2.23,2,   0.477,2,   0.250,2,   0.030,2,  2260.1,2,  2355.7,2,  -999.0,9,   20.00,   7.6158,2,    25.00,   0.026,2,    0.00,   1.956,3,   7.940,2, -999.00,9,  -999.0,9,  -999.0,   8.515,2,   0.007,   0.554,3, -999.00,9, 2148.10,-999.0000,9,-999.0000,9,-999.0000,9,-999.0000,9,-999.0000,9,-999.0000,9,   0.4886,      0.001,   0.219,     -999.0,          9,     -999.0,          9,-999.000,          9