BOTTLE,20220818CCHSIOAMB
EXPOCODE,SECT_ID,STNNBR,CASTNO,SAMPNO,BTLNBR,BTLNBR_FLAG_W,DATE,TIME,LATITUDE,LONGITUDE,DEPTH,CTDPRS,CTDTMP,CTDSAL,CTDSAL_FLAG_W,SALNTY,SALNTY_FLAG_W,CTDOXY,CTDOXY_FLAG_W,OXYGEN,OXYGEN_FLAG_W,SILCAT,SILCAT_FLAG_W,NITRAT,NITRAT_FLAG_W,NITRIT,NITRIT_FLAG_W,PHSPHT,PHSPHT_FLAG_W,CFC-11,CFC-11_FLAG_W,CFC-12,CFC-12_FLAG_W,CFC113,CFC113_FLAG_W,TCARBN,TCARBN_FLAG_W,ALKALI,ALKALI_FLAG_W,PCO2,PCO2_FLAG_W,PCO2TMP,PH_SWS,PH_SWS_FLAG_W,PH_TMP,TRITUM,TRITUM_FLAG_W,TRITER,HELIUM,HELIUM_FLAG_W,DELHE3,DELHE3_FLAG_W,DELC13,DELC13_FLAG_W,DELC14,DELC14_FLAG_W,C14ERR,NEON,NEON_FLAG_W,NEONER,CCL4,CCL4_FLAG_W,DOC,DOC_FLAG_W,CTDRAW,CDOM325,CDOM325_FLAG_W,CDOM340,CDOM340_FLAG_W,CDOM380,CDOM380_FLAG_W,CDOM412,CDOM412_FLAG_W,CDOMSL,CDOMSL_FLAG_W,CDOMSN,CDOMSN_FLAG_W,THETA,HELIER,DELHER,CH3CL,CH3CL_FLAG_W,CH3BR,CH3BR_FLAG_W,CH3I,CH3I_FLAG_W
,,,,,,,,,,,METERS,DBAR,ITS-90,PSS-78,,PSS-78,,UMOL/KG,,UMOL/KG,,UMOL/KG,,UMOL/KG,,UMOL/KG,,UMOL/KG,,PMOL/KG,,PMOL/KG,,PMOL/KG,,UMOL/KG,,UMOL/KG,,UATM,,DEG C,,,DEG C,TU,,TU,NMOL/KG,,PERCNT,,/MILLE,,/MILLE,,/MILLE,NMOL/KG,,NMOL/KG,PMOL/KG,,UMOL/KG,,DBAR,1/M,,1/M,,1/M,,1/M,,1/NM,,1/NM,,DEG C,NMOL/KG,PERCNT,PMOL/KG,,PMOL/KG,,PMOL/KG,
 33RO200501,       A16S,      92,          1,          7,          7,2,20050213,       0252,   -16.5002,   -25.0002,       5143,  3299.2,   2.5818,  34.9014,2,  34.9005,2,    246.7,2,   247.1,2,   42.21,2,   21.55,2,    0.00,2,    1.42,2,   0.010,2,   0.005,2,   0.003,2,  2185.2,2,  2328.6,2,  -999.0,9,   20.00,   7.7247,2,    25.00,-999.000,9, -999.00,-999.000,9,-999.000,9, -999.00,9,  -999.0,9,  -999.0,-999.000,9,-999.000,   0.040,4, -999.00,9, 3299.20,-999.0000,9,-999.0000,9,-999.0000,9,-999.0000,9,-999.0000,9,-999.0000,9,   2.3090,     -999.0,-999.000,     -999.0,          9,     -999.0,          9,-999.000,          9
 33RO200501,       A16S,      92,          1,          6,          6,2,20050213,       0252,   -16.5002,   -25.0002,       5143,  3599.8,   2.3396,  34.8827,2,  34.8824,2,    247.0,2,   247.3,2,   48.17,2,   22.13,2,    0.00,2,    1.47,2,-999.000,9,-999.000,9,-999.000,9,  -999.0,9,  -999.0,9,  -999.0,9,   20.00,-999.0000,9,    25.00,-999.000,9, -999.00,-999.000,9,-999.000,9, -999.00,9,  -999.0,9,  -999.0,-999.000,9,-999.000,-999.000,9, -999.00,9, 3599.80,-999.0000,9,-999.0000,9,-999.0000,9,-999.0000,9,-999.0000,9,-999.0000,9,   2.0405,     -999.0,-999.000,      3.603,          2,      0.108,          2,   0.013,          2
 33RO200501,       A16S,      92,          1,          5,          5,2,20050213,       0252,   -16.5002,   -25.0002,       5143,  3898.4,   1.8956,  34.8391,2,  34.8401,3,    242.1,2,   241.8,2,   64.46,2,   24.15,2,    0.00,2,    1.63,2,-999.000,9,-999.000,9,-999.000,9,  -999.0,9,  -999.0,9,  -999.0,9,   20.00,-999.0000,9,    25.00,-999.000,9, -999.00,-999.000,9,-999.000,9, -999.00,9,  -999.0,9,  -999.0,-999.000,9,-999.000,-999.000,9, -999.00,9, 3898.40,-999.0000,9,-999.0000,9,-999.0000,9,-999.0000,9,-999.0000,9,-999.0000,9,   1.5758,     -999.0,-999.000,     -999.0,          9,     -999.0,          9,-999.000,          9
 33RO200501,       A16S,      92,          1,          4,          4,2,20050213,       0252,   -16.5002,   -25.0002,       5143,  4188.7,   1.4477,  34.7926,2,  34.7925,2,    235.2,2,   235.2,2,   82.27,6,   26.58,6,    0.00,6,    1.81,6,-999.000,9,-999.000,9,-999.000,9,  -999.0,9,  -999.0,9,  -999.0,9,   20.00,-999.0000,9,    25.00,-999.000,9, -999.00,-999.000,9,-999.000,9, -999.00,9,  -999.0,9,  -999.0,-999.000,9,-999.000,-999.000,9, -999.00,9, 4188.70,-999.0000,9,-999.0000,9,-999.0000,9,-999.0000,9,-999.0000,9,-999.0000,9,   1.1089,     -999.0,-999.000,     -999.0,          9,     -999.0,          9,-999.000,          9
 33RO200501,       A16S,      92,          1,          3,          3,2,20050213,       0252,   -16.5002,   -25.0002,       5143,  4499.9,   1.0725,  34.7526,2,  34.7526,2,    228.8,2,   228.8,2,   97.49,6,   28.54,6,    0.00,6,    1.97,6,   0.014,2,   0.008,2,   0.000,2,  2239.5,2,  2352.5,2,  -999.0,9,   20.00,   7.6530,2,    25.00,-999.000,9, -999.00,-999.000,9,-999.000,9, -999.00,9,  -999.0,9,  -999.0,-999.000,9,-999.000,   0.056,4, -999.00,9, 4499.90,-999.0000,9,-999.0000,9,-999.0000,9,-999.0000,9,-999.0000,9,-999.0000,9,   0.7104,     -999.0,-999.000,      6.144,          2,      0.212,          2,   0.013,          2
 33RO200501,       A16S,      92,          1,          2,          2,2,20050213,       0252,   -16.5002,   -25.0002,       5143,  4849.4,   0.8804,  34.7296,2,  34.7341,3,    225.7,2,   225.8,2,  105.58,6,   29.67,6,    0.00,6,    2.06,6,-999.000,9,-999.000,9,-999.000,9,  2248.1,2,  2358.6,2,  -999.0,9,   20.00,   7.6371,2,    25.00,-999.000,9, -999.00,-999.000,9,-999.000,9, -999.00,9,  -999.0,9,  -999.0,-999.000,9,-999.000,-999.000,9, -999.00,9, 4849.40,-999.0000,9,-999.0000,9,-999.0000,9,-999.0000,9,-999.0000,9,-999.0000,9,   0.4846,     -999.0,-999.000,     -999.0,          9,     -999.0,          9,-999.000,          9
 33RO200501,       A16S,      92,          1,          1,          1,2,20050213,       0252,   -16.5002,   -25.0002,       5143,  5175.4,   0.8134,  34.7184,2,  34.7186,2,    224.2,2,   224.4,2,  109.72,6,   30.20,6,    0.00,6,    2.11,6,   0.047,2,   0.024,2,  -0.001,2,  2251.1,2,  2357.8,2,  -999.0,9,   20.00,   7.6304,2,    25.00,-999.000,9, -999.00,-999.000,9,-999.000,9, -999.00,9,  -999.0,9,  -999.0,-999.000,9,-999.000,   0.110,4, -999.00,9, 5175.40,-999.0000,9,-999.0000,9,-999.0000,9,-999.0000,9,-999.0000,9,-999.0000,9,   0.3813,     -999.0,-999.000,     14.025,          2,      0.715,          2,   0.151,          2