BOTTLE,20220818CCHSIOAMB
EXPOCODE,SECT_ID,STNNBR,CASTNO,SAMPNO,BTLNBR,BTLNBR_FLAG_W,DATE,TIME,LATITUDE,LONGITUDE,DEPTH,CTDPRS,CTDTMP,CTDSAL,CTDSAL_FLAG_W,SALNTY,SALNTY_FLAG_W,CTDOXY,CTDOXY_FLAG_W,OXYGEN,OXYGEN_FLAG_W,SILCAT,SILCAT_FLAG_W,NITRAT,NITRAT_FLAG_W,NITRIT,NITRIT_FLAG_W,PHSPHT,PHSPHT_FLAG_W,CFC-11,CFC-11_FLAG_W,CFC-12,CFC-12_FLAG_W,CFC113,CFC113_FLAG_W,TCARBN,TCARBN_FLAG_W,ALKALI,ALKALI_FLAG_W,PCO2,PCO2_FLAG_W,PCO2TMP,PH_SWS,PH_SWS_FLAG_W,PH_TMP,TRITUM,TRITUM_FLAG_W,TRITER,HELIUM,HELIUM_FLAG_W,DELHE3,DELHE3_FLAG_W,DELC13,DELC13_FLAG_W,DELC14,DELC14_FLAG_W,C14ERR,NEON,NEON_FLAG_W,NEONER,CCL4,CCL4_FLAG_W,DOC,DOC_FLAG_W,CTDRAW,CDOM325,CDOM325_FLAG_W,CDOM340,CDOM340_FLAG_W,CDOM380,CDOM380_FLAG_W,CDOM412,CDOM412_FLAG_W,CDOMSL,CDOMSL_FLAG_W,CDOMSN,CDOMSN_FLAG_W,THETA,HELIER,DELHER,CH3CL,CH3CL_FLAG_W,CH3BR,CH3BR_FLAG_W,CH3I,CH3I_FLAG_W
,,,,,,,,,,,METERS,DBAR,ITS-90,PSS-78,,PSS-78,,UMOL/KG,,UMOL/KG,,UMOL/KG,,UMOL/KG,,UMOL/KG,,UMOL/KG,,PMOL/KG,,PMOL/KG,,PMOL/KG,,UMOL/KG,,UMOL/KG,,UATM,,DEG C,,,DEG C,TU,,TU,NMOL/KG,,PERCNT,,/MILLE,,/MILLE,,/MILLE,NMOL/KG,,NMOL/KG,PMOL/KG,,UMOL/KG,,DBAR,1/M,,1/M,,1/M,,1/M,,1/NM,,1/NM,,DEG C,NMOL/KG,PERCNT,PMOL/KG,,PMOL/KG,,PMOL/KG,
 33RO200501,       A16S,       2,          1,         23,         23,2,20050117,       1855,   -59.4998,   -30.9167,       3203,     1.3,   0.3900,  33.0659,2,  33.0663,2,    352.1,2,   351.4,2,   68.23,2,   21.43,2,    0.18,2,    1.82,4,   6.381,2,   3.412,2,   0.589,2,  -999.0,9,  -999.0,9,  -999.0,9,   20.00,-999.0000,9,    25.00,-999.000,9, -999.00,-999.000,9,-999.000,9, -999.00,9,  -999.0,9,  -999.0,-999.000,9,-999.000,   7.167,4, -999.00,9,    1.30,-999.0000,9,-999.0000,9,-999.0000,9,-999.0000,9,-999.0000,9,-999.0000,9,   0.3900,     -999.0,-999.000,     -999.0,          9,     -999.0,          9,-999.000,          9
 33RO200501,       A16S,       2,          1,         24,         24,2,20050117,       1855,   -59.4998,   -30.9167,       3203,     1.6,   0.3905,  33.0662,2,  33.0670,2,    352.1,2,   352.1,2,   68.14,2,   21.44,2,    0.18,2,    1.82,4,-999.000,9,-999.000,9,-999.000,9,  2099.9,2,  2243.9,4,  -999.0,9,   20.00,   7.7576,2,    25.00,-999.000,9, -999.00,-999.000,9,-999.000,9, -999.00,9,  -999.0,9,  -999.0,-999.000,9,-999.000,-999.000,9, -999.00,9,    1.60,-999.0000,9,-999.0000,9,-999.0000,9,-999.0000,9,-999.0000,9,-999.0000,9,   0.3904,     -999.0,-999.000,     -999.0,          9,     -999.0,          9,-999.000,          9
 33RO200501,       A16S,       2,          1,         22,         22,2,20050117,       1855,   -59.4998,   -30.9167,       3203,    48.3,  -1.3086,  33.9334,2,-999.0000,9,    356.6,2,   356.2,2,   74.99,2,   25.02,2,    0.06,2,    1.99,4,   5.784,2,   3.060,2,   0.518,2,  -999.0,9,  -999.0,9,  -999.0,9,   20.00,-999.0000,9,    25.00,-999.000,9, -999.00,-999.000,9,-999.000,9, -999.00,9,  -999.0,9,  -999.0,-999.000,9,-999.000,   5.817,4, -999.00,9,   48.30,-999.0000,9,-999.0000,9,-999.0000,9,-999.0000,9,-999.0000,9,-999.0000,9,  -1.3097,     -999.0,-999.000,      0.000,          4,      0.000,          2,   0.556,          2
 33RO200501,       A16S,       2,          1,         21,         21,2,20050117,       1855,   -59.4998,   -30.9167,       3203,    98.6,  -1.2010,  34.2127,2,  34.2098,2,    301.0,2,   300.6,2,   79.62,2,   30.07,2,    0.13,2,    2.21,4,   4.861,2,   2.541,2,   0.432,2,  -999.0,9,  -999.0,9,  -999.0,9,   20.00,-999.0000,9,    25.00,-999.000,9, -999.00,-999.000,9,-999.000,9, -999.00,9,  -999.0,9,  -999.0,-999.000,9,-999.000,   4.809,3, -999.00,9,   98.60,-999.0000,9,-999.0000,9,-999.0000,9,-999.0000,9,-999.0000,9,-999.0000,9,  -1.2035,     -999.0,-999.000,      0.000,          4,      0.000,          2,   0.158,          2
 33RO200501,       A16S,       2,          1,         20,         20,2,20050117,       1855,   -59.4998,   -30.9167,       3203,   149.3,  -0.6007,  34.4233,2,  34.4272,2,    264.6,2,   264.8,2,   86.65,2,   31.58,2,    0.04,2,    2.27,4,   3.533,2,   1.851,2,   0.309,2,  -999.0,9,  -999.0,9,  -999.0,9,   20.00,-999.0000,9,    25.00,-999.000,9, -999.00,-999.000,9,-999.000,9, -999.00,9,  -999.0,9,  -999.0,-999.000,9,-999.000,   3.499,3, -999.00,9,  149.30,-999.0000,9,-999.0000,9,-999.0000,9,-999.0000,9,-999.0000,9,-999.0000,9,  -0.6053,     -999.0,-999.000,      0.000,          4,      0.000,          2,   0.056,          2
 33RO200501,       A16S,       2,          1,         19,         19,2,20050117,       1855,   -59.4998,   -30.9167,       3203,   198.2,  -0.2664,  34.5167,2,  34.5166,2,    248.8,2,   247.6,2,   90.77,2,   31.92,2,    0.02,2,    2.28,4,   2.782,2,   1.457,2,   0.242,2,  -999.0,9,  -999.0,9,  -999.0,9,   20.00,-999.0000,9,    25.00,-999.000,9, -999.00,-999.000,9,-999.000,9, -999.00,9,  -999.0,9,  -999.0,-999.000,9,-999.000,   2.709,3, -999.00,9,  198.20,-999.0000,9,-999.0000,9,-999.0000,9,-999.0000,9,-999.0000,9,-999.0000,9,  -0.2732,     -999.0,-999.000,      0.000,          4,      0.000,          2,   0.024,          2
 33RO200501,       A16S,       2,          1,         18,         18,2,20050117,       1855,   -59.4998,   -30.9167,       3203,   298.2,   0.1518,  34.6118,2,  34.6123,2,    223.1,2,   223.1,2,   99.41,2,   32.23,2,    0.02,2,    2.29,4,   1.684,2,   0.861,2,   0.140,2,  -999.0,9,  -999.0,9,  -999.0,9,   20.00,-999.0000,9,    25.00,-999.000,9, -999.00,-999.000,9,-999.000,9, -999.00,9,  -999.0,9,  -999.0,-999.000,9,-999.000,   1.742,3, -999.00,9,  298.20,-999.0000,9,-999.0000,9,-999.0000,9,-999.0000,9,-999.0000,9,-999.0000,9,   0.1402,     -999.0,-999.000,    309.267,          4,      4.848,          2,   0.093,          2
 33RO200501,       A16S,       2,          1,         17,         17,2,20050117,       1855,   -59.4998,   -30.9167,       3203,   399.5,   0.3586,  34.6512,2,  34.6520,2,    211.2,2,   211.0,2,  105.42,2,   32.47,2,    0.03,2,    2.31,4,-999.000,9,-999.000,9,-999.000,9,  -999.0,9,  -999.0,9,  -999.0,9,   20.00,-999.0000,9,    25.00,-999.000,9, -999.00,-999.000,9,-999.000,9, -999.00,9,  -999.0,9,  -999.0,-999.000,9,-999.000,-999.000,9, -999.00,9,  399.50,-999.0000,9,-999.0000,9,-999.0000,9,-999.0000,9,-999.0000,9,-999.0000,9,   0.3419,     -999.0,-999.000,     -999.0,          9,     -999.0,          9,-999.000,          9
 33RO200501,       A16S,       2,          1,         16,         16,2,20050117,       1855,   -59.4998,   -30.9167,       3203,   498.8,   0.4657,  34.6711,2,  34.6703,2,    208.0,2,   208.6,2,  109.62,2,   32.52,2,    0.01,2,    2.31,4,   0.782,2,   0.403,2,   0.030,2,  -999.0,9,  -999.0,9,  -999.0,9,   20.00,-999.0000,9,    25.00,-999.000,9, -999.00,-999.000,9,-999.000,9, -999.00,9,  -999.0,9,  -999.0,-999.000,9,-999.000,   0.870,3, -999.00,9,  498.80,-999.0000,9,-999.0000,9,-999.0000,9,-999.0000,9,-999.0000,9,-999.0000,9,   0.4439,     -999.0,-999.000,    121.007,          4,      0.752,          2,   0.007,          2
 33RO200501,       A16S,       2,          1,         15,         15,2,20050117,       1855,   -59.4998,   -30.9167,       3203,   598.2,   0.4645,  34.6771,2,  34.6766,2,    207.5,2,   207.2,2,  112.55,2,   32.61,2,    0.01,2,    2.27,4,-999.000,9,-999.000,9,-999.000,9,  -999.0,9,  -999.0,9,  -999.0,9,   20.00,-999.0000,9,    25.00,-999.000,9, -999.00,-999.000,9,-999.000,9, -999.00,9,  -999.0,9,  -999.0,-999.000,9,-999.000,-999.000,9, -999.00,9,  598.20,-999.0000,9,-999.0000,9,-999.0000,9,-999.0000,9,-999.0000,9,-999.0000,9,   0.4379,     -999.0,-999.000,    147.752,          4,      1.035,          2,   0.018,          2
 33RO200501,       A16S,       2,          1,         14,         14,2,20050117,       1855,   -59.4998,   -30.9167,       3203,   700.0,   0.4469,  34.6798,2,  34.6804,2,    208.1,2,   207.8,2,  114.37,2,   32.64,2,    0.00,2,    2.30,4,-999.000,9,-999.000,9,-999.000,9,  -999.0,9,  -999.0,9,  -999.0,9,   20.00,-999.0000,9,    25.00,-999.000,9, -999.00,-999.000,9,-999.000,9, -999.00,9,  -999.0,9,  -999.0,-999.000,9,-999.000,-999.000,9, -999.00,9,  700.00,-999.0000,9,-999.0000,9,-999.0000,9,-999.0000,9,-999.0000,9,-999.0000,9,   0.4153,     -999.0,-999.000,     -999.0,          9,     -999.0,          9,-999.000,          9
 33RO200501,       A16S,       2,          1,         13,         13,2,20050117,       1855,   -59.4998,   -30.9167,       3203,   798.2,   0.4085,  34.6795,2,-999.0000,9,    209.3,2,   208.9,2,  115.52,2,   32.65,2,    0.00,2,    2.31,4,   0.550,2,   0.276,2,   0.042,2,  2261.4,2,  2350.2,2,  -999.0,9,   20.00,   7.5782,2,    25.00,-999.000,9, -999.00,-999.000,9,-999.000,9, -999.00,9,  -999.0,9,  -999.0,-999.000,9,-999.000,   0.672,3, -999.00,9,  798.20,-999.0000,9,-999.0000,9,-999.0000,9,-999.0000,9,-999.0000,9,-999.0000,9,   0.3719,     -999.0,-999.000,     -999.0,          9,     -999.0,          9,-999.000,          9
 33RO200501,       A16S,       2,          1,         12,         12,2,20050117,       1855,   -59.4998,   -30.9167,       3203,   798.5,   0.4086,  34.6794,2,  34.6798,2,    209.3,2,   208.4,2,  115.46,2,   32.68,2,    0.00,2,    2.31,4,-999.000,9,-999.000,9,-999.000,9,  -999.0,9,  -999.0,9,  -999.0,9,   20.00,-999.0000,9,    25.00,-999.000,9, -999.00,-999.000,9,-999.000,9, -999.00,9,  -999.0,9,  -999.0,-999.000,9,-999.000,-999.000,9, -999.00,9,  798.50,-999.0000,9,-999.0000,9,-999.0000,9,-999.0000,9,-999.0000,9,-999.0000,9,   0.3720,     -999.0,-999.000,    183.815,          4,      1.242,          2,   0.019,          2
 33RO200501,       A16S,       2,          1,         11,         11,2,20050117,       1855,   -59.4998,   -30.9167,       3203,   899.6,   0.3545,  34.6793,2,  34.6790,2,    210.3,2,   210.1,2,  116.79,2,   32.69,2,    0.00,2,    2.30,4,-999.000,9,-999.000,9,-999.000,9,  -999.0,9,  -999.0,9,  -999.0,9,   20.00,-999.0000,9,    25.00,-999.000,9, -999.00,-999.000,9,-999.000,9, -999.00,9,  -999.0,9,  -999.0,-999.000,9,-999.000,-999.000,9, -999.00,9,  899.60,-999.0000,9,-999.0000,9,-999.0000,9,-999.0000,9,-999.0000,9,-999.0000,9,   0.3129,     -999.0,-999.000,     -999.0,          9,     -999.0,          9,-999.000,          9
 33RO200501,       A16S,       2,          1,          9,          9,2,20050117,       1855,   -59.4998,   -30.9167,       3203,   997.9,   0.3173,  34.6788,2,  34.6771,2,    211.4,2,   210.7,2,  117.51,2,   32.64,2,    0.00,2,    2.30,4,-999.000,9,-999.000,9,-999.000,9,  -999.0,9,  -999.0,9,  -999.0,9,   20.00,-999.0000,9,    25.00,-999.000,9, -999.00,-999.000,9,-999.000,9, -999.00,9,  -999.0,9,  -999.0,-999.000,9,-999.000,-999.000,9, -999.00,9,  997.90,-999.0000,9,-999.0000,9,-999.0000,9,-999.0000,9,-999.0000,9,-999.0000,9,   0.2706,     -999.0,-999.000,    161.393,          4,      0.861,          2,   0.012,          2
 33RO200501,       A16S,       2,          1,         10,         10,2,20050117,       1855,   -59.4998,   -30.9167,       3203,   998.0,   0.3178,  34.6788,2,-999.0000,9,    211.4,2,   205.3,3, -999.00,9, -999.00,9, -999.00,9, -999.00,9,   0.417,2,   0.219,2,   0.001,2,  2262.5,2,  2352.3,2,  -999.0,9,   20.00,   7.5833,2,    25.00,-999.000,9, -999.00,-999.000,9,-999.000,9, -999.00,9,  -999.0,9,  -999.0,-999.000,9,-999.000,   0.447,3, -999.00,9,  998.00,-999.0000,9,-999.0000,9,-999.0000,9,-999.0000,9,-999.0000,9,-999.0000,9,   0.2711,     -999.0,-999.000,     -999.0,          9,     -999.0,          9,-999.000,          9
 33RO200501,       A16S,       2,          1,          8,          8,2,20050117,       1855,   -59.4998,   -30.9167,       3203,  1198.2,   0.2315,  34.6767,2,  34.6767,2,    213.9,2,   214.2,2,  118.52,2,   32.63,2,    0.00,2,    2.27,4,-999.000,9,-999.000,9,-999.000,9,  -999.0,9,  -999.0,9,  -999.0,9,   20.00,-999.0000,9,    25.00,-999.000,9, -999.00,-999.000,9,-999.000,9, -999.00,9,  -999.0,9,  -999.0,-999.000,9,-999.000,-999.000,9, -999.00,9, 1198.20,-999.0000,9,-999.0000,9,-999.0000,9,-999.0000,9,-999.0000,9,-999.0000,9,   0.1742,     -999.0,-999.000,     -999.0,          9,     -999.0,          9,-999.000,          9
 33RO200501,       A16S,       2,          1,          7,          7,2,20050117,       1855,   -59.4998,   -30.9167,       3203,  1499.0,   0.1148,  34.6727,2,  34.6709,2,    218.3,2,   218.3,2,  119.31,2,   32.59,2,    0.00,2,    2.27,4,   0.504,2,   0.255,2,   0.014,2,  -999.0,9,  -999.0,9,  -999.0,9,   20.00,-999.0000,9,    25.00,-999.000,9, -999.00,-999.000,9,-999.000,9, -999.00,9,  -999.0,9,  -999.0,-999.000,9,-999.000,   0.656,3, -999.00,9, 1499.00,-999.0000,9,-999.0000,9,-999.0000,9,-999.0000,9,-999.0000,9,-999.0000,9,   0.0406,     -999.0,-999.000,    163.601,          4,      0.514,          2,   0.000,          2
 33RO200501,       A16S,       2,          1,          6,          6,2,20050117,       1855,   -59.4998,   -30.9167,       3203,  1799.9,   0.0174,  34.6690,2,  34.6727,2,    222.9,2,   223.2,2,  119.59,2,   32.50,2,    0.00,2,    2.25,4,-999.000,9,-999.000,9,-999.000,9,  -999.0,9,  -999.0,9,  -999.0,9,   20.00,-999.0000,9,    25.00,-999.000,9, -999.00,-999.000,9,-999.000,9, -999.00,9,  -999.0,9,  -999.0,-999.000,9,-999.000,-999.000,9, -999.00,9, 1799.90,-999.0000,9,-999.0000,9,-999.0000,9,-999.0000,9,-999.0000,9,-999.0000,9,  -0.0749,     -999.0,-999.000,     -999.0,          9,     -999.0,          9,-999.000,          9
 33RO200501,       A16S,       2,          1,          5,          5,2,20050117,       1855,   -59.4998,   -30.9167,       3203,  2201.0,  -0.0641,  34.6654,2,  34.6682,2,    226.6,2,   226.7,2,  123.06,6,   32.48,6,    0.00,6,    2.32,4,-999.000,9,-999.000,9,-999.000,9,  -999.0,9,  -999.0,9,  -999.0,9,   20.00,-999.0000,9,    25.00,-999.000,9, -999.00,-999.000,9,-999.000,9, -999.00,9,  -999.0,9,  -999.0,-999.000,9,-999.000,-999.000,9, -999.00,9, 2201.00,-999.0000,9,-999.0000,9,-999.0000,9,-999.0000,9,-999.0000,9,-999.0000,9,  -0.1831,     -999.0,-999.000,    173.841,          4,      0.567,          2,   0.004,          2
 33RO200501,       A16S,       2,          1,          3,          3,2,20050117,       1855,   -59.4998,   -30.9167,       3203,  2599.2,  -0.0986,  34.6632,2,  34.6637,2,    229.1,2,   228.8,2,  123.75,6,   32.46,6,    0.00,6,    2.32,4,-999.000,9,-999.000,9,-999.000,9,  -999.0,9,  -999.0,9,  -999.0,9,   20.00,-999.0000,9,    25.00,-999.000,9, -999.00,-999.000,9,-999.000,9, -999.00,9,  -999.0,9,  -999.0,-999.000,9,-999.000,-999.000,9, -999.00,9, 2599.20,-999.0000,9,-999.0000,9,-999.0000,9,-999.0000,9,-999.0000,9,-999.0000,9,  -0.2470,     -999.0,-999.000,    180.684,          4,      0.850,          2,   0.042,          2
 33RO200501,       A16S,       2,          1,          4,          4,2,20050117,       1855,   -59.4998,   -30.9167,       3203,  2599.5,  -0.0993,  34.6631,2,-999.0000,9,    229.1,2,   228.9,2, -999.00,9, -999.00,9, -999.00,9, -999.00,9,   0.719,2,   0.356,2,   0.035,2,  2257.5,2,  -999.0,5,  -999.0,9,   20.00,   7.5997,2,    25.00,-999.000,9, -999.00,-999.000,9,-999.000,9, -999.00,9,  -999.0,9,  -999.0,-999.000,9,-999.000,   0.833,3, -999.00,9, 2599.50,-999.0000,9,-999.0000,9,-999.0000,9,-999.0000,9,-999.0000,9,-999.0000,9,  -0.2476,     -999.0,-999.000,     -999.0,          9,     -999.0,          9,-999.000,          9
 33RO200501,       A16S,       2,          1,          2,          2,2,20050117,       1855,   -59.4998,   -30.9167,       3203,  3099.6,  -0.1368,  34.6607,2,  34.6583,3,    233.6,2,   232.8,2,  122.26,6,   32.30,6,    0.00,6,    2.32,4,-999.000,9,-999.000,9,-999.000,9,  -999.0,9,  -999.0,9,  -999.0,9,   20.00,-999.0000,9,    25.00,-999.000,9, -999.00,-999.000,9,-999.000,9, -999.00,9,  -999.0,9,  -999.0,-999.000,9,-999.000,-999.000,9, -999.00,9, 3099.60,-999.0000,9,-999.0000,9,-999.0000,9,-999.0000,9,-999.0000,9,-999.0000,9,  -0.3256,     -999.0,-999.000,     -999.0,          9,     -999.0,          9,-999.000,          9
 33RO200501,       A16S,       2,          1,          1,          1,2,20050117,       1855,   -59.4998,   -30.9167,       3203,  3716.5,  -0.1576,  34.6579,2,  34.6595,2,    237.1,2,   236.8,2,  119.29,6,   32.24,6,    0.00,6,    2.35,4,   1.038,2,   0.548,2,   0.069,2,  -999.0,9,  -999.0,9,  -999.0,9,   20.00,-999.0000,9,    25.00,-999.000,9, -999.00,-999.000,9,-999.000,9, -999.00,9,  -999.0,9,  -999.0,-999.000,9,-999.000,   1.104,3, -999.00,9, 3716.50,-999.0000,9,-999.0000,9,-999.0000,9,-999.0000,9,-999.0000,9,-999.0000,9,  -0.4016,     -999.0,-999.000,    265.214,          4,      1.612,          2,   0.088,          2