BOTTLE,20220818CCHSIOAMB
EXPOCODE,SECT_ID,STNNBR,CASTNO,SAMPNO,BTLNBR,BTLNBR_FLAG_W,DATE,TIME,LATITUDE,LONGITUDE,DEPTH,CTDPRS,CTDTMP,CTDSAL,CTDSAL_FLAG_W,SALNTY,SALNTY_FLAG_W,CTDOXY,CTDOXY_FLAG_W,OXYGEN,OXYGEN_FLAG_W,SILCAT,SILCAT_FLAG_W,NITRAT,NITRAT_FLAG_W,NITRIT,NITRIT_FLAG_W,PHSPHT,PHSPHT_FLAG_W,CFC-11,CFC-11_FLAG_W,CFC-12,CFC-12_FLAG_W,CFC113,CFC113_FLAG_W,TCARBN,TCARBN_FLAG_W,ALKALI,ALKALI_FLAG_W,PCO2,PCO2_FLAG_W,PCO2TMP,PH_SWS,PH_SWS_FLAG_W,PH_TMP,TRITUM,TRITUM_FLAG_W,TRITER,HELIUM,HELIUM_FLAG_W,DELHE3,DELHE3_FLAG_W,DELC13,DELC13_FLAG_W,DELC14,DELC14_FLAG_W,C14ERR,NEON,NEON_FLAG_W,NEONER,CCL4,CCL4_FLAG_W,DOC,DOC_FLAG_W,CTDRAW,CDOM325,CDOM325_FLAG_W,CDOM340,CDOM340_FLAG_W,CDOM380,CDOM380_FLAG_W,CDOM412,CDOM412_FLAG_W,CDOMSL,CDOMSL_FLAG_W,CDOMSN,CDOMSN_FLAG_W,THETA,HELIER,DELHER,CH3CL,CH3CL_FLAG_W,CH3BR,CH3BR_FLAG_W,CH3I,CH3I_FLAG_W
,,,,,,,,,,,METERS,DBAR,ITS-90,PSS-78,,PSS-78,,UMOL/KG,,UMOL/KG,,UMOL/KG,,UMOL/KG,,UMOL/KG,,UMOL/KG,,PMOL/KG,,PMOL/KG,,PMOL/KG,,UMOL/KG,,UMOL/KG,,UATM,,DEG C,,,DEG C,TU,,TU,NMOL/KG,,PERCNT,,/MILLE,,/MILLE,,/MILLE,NMOL/KG,,NMOL/KG,PMOL/KG,,UMOL/KG,,DBAR,1/M,,1/M,,1/M,,1/M,,1/NM,,1/NM,,DEG C,NMOL/KG,PERCNT,PMOL/KG,,PMOL/KG,,PMOL/KG,
 33RO200501,       A16S,      48,          1,         36,         36,2,20050130,       1225,   -38.5000,   -26.8668,       4168,     3.4,  17.9691,  35.1660,2,  35.1630,2,    238.2,2,   243.8,2,    1.25,2,    0.00,2,    0.00,2,    0.14,2,   2.542,2,   1.612,2,   0.222,2,  2054.0,2,  2316.4,6,  -999.0,9,   20.00,   7.9828,6,    25.00,-999.000,9, -999.00,-999.000,9,-999.000,9, -999.00,9,  -999.0,9,  -999.0,-999.000,9,-999.000,   6.111,4, -999.00,9,    3.40,-999.0000,9,-999.0000,9,-999.0000,9,-999.0000,9,-999.0000,9,-999.0000,9,  17.9685,     -999.0,-999.000,     92.694,          2,      2.021,          2,   4.756,          2
 33RO200501,       A16S,      48,          1,         35,         35,2,20050130,       1225,   -38.5000,   -26.8668,       4168,    20.9,  17.2970,  35.1528,2,  35.1551,2,    240.8,2,   245.1,2,    1.25,2,    0.00,2,    0.00,2,    0.14,2,-999.000,9,-999.000,9,-999.000,9,  -999.0,9,  -999.0,9,  -999.0,9,   20.00,-999.0000,9,    25.00,-999.000,9, -999.00,-999.000,9,-999.000,9, -999.00,9,  -999.0,9,  -999.0,-999.000,9,-999.000,-999.000,9, -999.00,9,   20.90,-999.0000,9,-999.0000,9,-999.0000,9,-999.0000,9,-999.0000,9,-999.0000,9,  17.2935,     -999.0,-999.000,    105.621,          2,      2.159,          2,   5.464,          2
 33RO200501,       A16S,      48,          1,         34,         34,2,20050130,       1225,   -38.5000,   -26.8668,       4168,    40.5,  15.1915,  35.2113,2,  35.1543,2,    262.3,2,   267.2,2,    1.35,2,    0.28,2,    0.03,2,    0.19,2,-999.000,9,-999.000,9,-999.000,9,  2065.2,2,  2321.0,2,  -999.0,9,   20.00,   7.9730,2,    25.00,-999.000,9, -999.00,-999.000,9,-999.000,9, -999.00,9,  -999.0,9,  -999.0,-999.000,9,-999.000,-999.000,9, -999.00,9,   40.50,-999.0000,9,-999.0000,9,-999.0000,9,-999.0000,9,-999.0000,9,-999.0000,9,  15.1853,     -999.0,-999.000,    141.818,          2,      2.760,          2,   8.411,          2
 33RO200501,       A16S,      48,          1,         33,         33,2,20050130,       1225,   -38.5000,   -26.8668,       4168,    60.7,  14.1426,  35.2469,2,  35.2309,2,    257.3,2,   257.7,2,    1.42,2,    1.80,2,    0.26,2,    0.30,2,-999.000,9,-999.000,9,-999.000,9,  -999.0,9,  -999.0,9,  -999.0,9,   20.00,-999.0000,9,    25.00,-999.000,9, -999.00,-999.000,9,-999.000,9, -999.00,9,  -999.0,9,  -999.0,-999.000,9,-999.000,-999.000,9, -999.00,9,   60.70,-999.0000,9,-999.0000,9,-999.0000,9,-999.0000,9,-999.0000,9,-999.0000,9,  14.1338,     -999.0,-999.000,     -999.0,          9,     -999.0,          9,-999.000,          9
 33RO200501,       A16S,      48,          1,         32,         32,2,20050130,       1225,   -38.5000,   -26.8668,       4168,    80.4,  13.5790,  35.2473,2,  35.2471,2,    247.3,2,   238.0,2,    1.67,2,    3.82,2,    0.54,2,    0.42,2,-999.000,9,-999.000,9,-999.000,9,  2091.9,2,  2319.9,2,  -999.0,9,   20.00,   7.9180,2,    25.00,-999.000,9, -999.00,-999.000,9,-999.000,9, -999.00,9,  -999.0,9,  -999.0,-999.000,9,-999.000,-999.000,9, -999.00,9,   80.40,-999.0000,9,-999.0000,9,-999.0000,9,-999.0000,9,-999.0000,9,-999.0000,9,  13.5676,     -999.0,-999.000,     42.465,          2,      0.551,          2,   1.705,          2
 33RO200501,       A16S,      48,          1,         31,         31,2,20050130,       1225,   -38.5000,   -26.8668,       4168,   101.1,  13.5288,  35.2938,2,  35.2934,2,    241.9,2,   243.5,2,    1.87,2,    5.16,2,    0.03,2,    0.45,2,-999.000,9,-999.000,9,-999.000,9,  -999.0,9,  -999.0,9,  -999.0,9,   20.00,-999.0000,9,    25.00,-999.000,9, -999.00,-999.000,9,-999.000,9, -999.00,9,  -999.0,9,  -999.0,-999.000,9,-999.000,-999.000,9, -999.00,9,  101.10,-999.0000,9,-999.0000,9,-999.0000,9,-999.0000,9,-999.0000,9,-999.0000,9,  13.5145,     -999.0,-999.000,     -999.0,          9,     -999.0,          9,-999.000,          9
 33RO200501,       A16S,      48,          1,         30,         30,2,20050130,       1225,   -38.5000,   -26.8668,       4168,   125.7,  13.4184,  35.2982,2,  35.2920,2,    233.5,2,   233.2,2,    1.98,2,    5.66,2,    0.02,2,    0.48,2,-999.000,9,-999.000,9,-999.000,9,  -999.0,9,  -999.0,9,  -999.0,9,   20.00,-999.0000,9,    25.00,-999.000,9, -999.00,-999.000,9,-999.000,9, -999.00,9,  -999.0,9,  -999.0,-999.000,9,-999.000,-999.000,9, -999.00,9,  125.70,-999.0000,9,-999.0000,9,-999.0000,9,-999.0000,9,-999.0000,9,-999.0000,9,  13.4007,     -999.0,-999.000,     29.076,          2,      0.357,          2,   0.600,          2
 33RO200501,       A16S,      48,          1,         29,         29,2,20050130,       1225,   -38.5000,   -26.8668,       4168,   150.4,  13.1583,  35.2657,2,  35.2612,2,    234.4,2,   240.5,2,    2.16,2,    6.29,2,    0.02,2,    0.53,2,-999.000,9,-999.000,9,-999.000,9,  2101.8,2,  2319.6,2,  -999.0,9,   20.00,   7.8950,2,    25.00,-999.000,9, -999.00,-999.000,9,-999.000,9, -999.00,9,  -999.0,9,  -999.0,-999.000,9,-999.000,-999.000,9, -999.00,9,  150.40,-999.0000,9,-999.0000,9,-999.0000,9,-999.0000,9,-999.0000,9,-999.0000,9,  13.1374,     -999.0,-999.000,     -999.0,          9,     -999.0,          9,-999.000,          9
 33RO200501,       A16S,      48,          1,         28,         28,2,20050130,       1225,   -38.5000,   -26.8668,       4168,   177.2,  12.9077,  35.2369,2,  35.2358,2,    238.1,2,   223.3,2,    2.28,2,    6.82,2,    0.02,2,    0.57,2,-999.000,9,-999.000,9,-999.000,9,  -999.0,9,  -999.0,9,  -999.0,9,   20.00,-999.0000,9,    25.00,-999.000,9, -999.00,-999.000,9,-999.000,9, -999.00,9,  -999.0,9,  -999.0,-999.000,9,-999.000,-999.000,9, -999.00,9,  177.20,-999.0000,9,-999.0000,9,-999.0000,9,-999.0000,9,-999.0000,9,-999.0000,9,  12.8834,     -999.0,-999.000,     18.923,          2,      0.101,          2,   0.352,          2
 33RO200501,       A16S,      48,          1,         27,         27,2,20050130,       1225,   -38.5000,   -26.8668,       4168,   202.7,  12.8909,  35.2455,2,  35.2417,2,    241.6,2,   240.4,2,    2.35,2,    7.03,2,    0.01,2,    0.58,2,-999.000,9,-999.000,9,-999.000,9,  -999.0,9,  -999.0,9,  -999.0,9,   20.00,-999.0000,9,    25.00,-999.000,9, -999.00,-999.000,9,-999.000,9, -999.00,9,  -999.0,9,  -999.0,-999.000,9,-999.000,-999.000,9, -999.00,9,  202.70,-999.0000,9,-999.0000,9,-999.0000,9,-999.0000,9,-999.0000,9,-999.0000,9,  12.8631,     -999.0,-999.000,     -999.0,          9,     -999.0,          9,-999.000,          9
 33RO200501,       A16S,      48,          1,         26,         26,2,20050130,       1225,   -38.5000,   -26.8668,       4168,   251.6,  12.1185,  35.1039,2,  35.0900,2,    223.4,2,   224.0,2,    3.28,2,   10.74,2,    0.01,2,    0.79,2,-999.000,9,-999.000,9,-999.000,9,  -999.0,9,  -999.0,9,  -999.0,9,   20.00,-999.0000,9,    25.00,-999.000,9, -999.00,-999.000,9,-999.000,9, -999.00,9,  -999.0,9,  -999.0,-999.000,9,-999.000,-999.000,9, -999.00,9,  251.60,-999.0000,9,-999.0000,9,-999.0000,9,-999.0000,9,-999.0000,9,-999.0000,9,  12.0854,     -999.0,-999.000,      8.834,          2,      0.123,          2,   0.166,          2
 33RO200501,       A16S,      48,          1,         25,         25,2,20050130,       1225,   -38.5000,   -26.8668,       4168,   302.6,  11.0399,  34.9305,2,  34.9288,2,    215.4,2,   217.8,2,    4.25,2,   13.87,2,    0.01,2,    0.96,2,-999.000,9,-999.000,9,-999.000,9,  2127.6,2,  2300.5,2,  -999.0,9,   20.00,   7.7979,2,    25.00,-999.000,9, -999.00,-999.000,9,-999.000,9, -999.00,9,  -999.0,9,  -999.0,-999.000,9,-999.000,-999.000,9, -999.00,9,  302.60,-999.0000,9,-999.0000,9,-999.0000,9,-999.0000,9,-999.0000,9,-999.0000,9,  11.0023,     -999.0,-999.000,     -999.0,          9,     -999.0,          9,-999.000,          9
 33RO200501,       A16S,      48,          1,         24,         24,2,20050130,       1225,   -38.5000,   -26.8668,       4168,   351.1,   9.6358,  34.7279,2,  34.7281,2,    214.3,2,   215.8,2,    5.49,2,   17.56,2,    0.00,2,    1.18,2,-999.000,9,-999.000,9,-999.000,9,  -999.0,9,  -999.0,9,  -999.0,9,   20.00,-999.0000,9,    25.00,-999.000,9, -999.00,-999.000,9,-999.000,9, -999.00,9,  -999.0,9,  -999.0,-999.000,9,-999.000,-999.000,9, -999.00,9,  351.10,-999.0000,9,-999.0000,9,-999.0000,9,-999.0000,9,-999.0000,9,-999.0000,9,   9.5958,     -999.0,-999.000,     -999.0,          9,     -999.0,          9,-999.000,          9
 33RO200501,       A16S,      48,          1,         23,         23,2,20050130,       1225,   -38.5000,   -26.8668,       4168,   402.7,   8.4666,  34.5786,2,  34.5779,2,    217.6,2,   217.8,2,    6.95,2,   20.40,2,    0.01,2,    1.34,2,-999.000,9,-999.000,9,-999.000,9,  -999.0,9,  -999.0,9,  -999.0,9,   20.00,-999.0000,9,    25.00,-999.000,9, -999.00,-999.000,9,-999.000,9, -999.00,9,  -999.0,9,  -999.0,-999.000,9,-999.000,-999.000,9, -999.00,9,  402.70,-999.0000,9,-999.0000,9,-999.0000,9,-999.0000,9,-999.0000,9,-999.0000,9,   8.4242,     -999.0,-999.000,      4.594,          2,      0.165,          2,   0.064,          2
 33RO200501,       A16S,      48,          1,         22,         22,2,20050130,       1225,   -38.5000,   -26.8668,       4168,   502.3,   6.3947,  34.3543,2,  34.3557,2,    231.7,2,   233.1,2,    9.71,2,   24.10,2,    0.00,2,    1.57,2,-999.000,9,-999.000,9,-999.000,9,  -999.0,9,  -999.0,9,  -999.0,9,   20.00,-999.0000,9,    25.00,-999.000,9, -999.00,-999.000,9,-999.000,9, -999.00,9,  -999.0,9,  -999.0,-999.000,9,-999.000,-999.000,9, -999.00,9,  502.30,-999.0000,9,-999.0000,9,-999.0000,9,-999.0000,9,-999.0000,9,-999.0000,9,   6.3495,     -999.0,-999.000,     -999.0,          9,     -999.0,          9,-999.000,          9
 33RO200501,       A16S,      48,          1,         21,         21,2,20050130,       1225,   -38.5000,   -26.8668,       4168,   600.0,   5.0294,  34.2358,2,  34.2374,2,    248.5,2,   251.4,2,   12.50,2,   25.88,2,    0.00,2,    1.67,2,-999.000,9,-999.000,9,-999.000,9,  2153.3,2,  2274.3,2,  -999.0,9,   20.00,   7.6912,2,    25.00,-999.000,9, -999.00,-999.000,9,-999.000,9, -999.00,9,  -999.0,9,  -999.0,-999.000,9,-999.000,-999.000,9, -999.00,9,  600.00,-999.0000,9,-999.0000,9,-999.0000,9,-999.0000,9,-999.0000,9,-999.0000,9,   4.9813,     -999.0,-999.000,     -999.0,          9,     -999.0,          9,-999.000,          9
 33RO200501,       A16S,      48,          1,         20,         20,2,20050130,       1225,   -38.5000,   -26.8668,       4168,   701.8,   4.3394,  34.2045,2,  34.2070,2,    252.6,2,   255.7,2,   16.07,2,   27.13,2,    0.00,2,    1.72,2,-999.000,9,-999.000,9,-999.000,9,  -999.0,9,  -999.0,9,  -999.0,9,   20.00,-999.0000,9,    25.00,-999.000,9, -999.00,-999.000,9,-999.000,9, -999.00,9,  -999.0,9,  -999.0,-999.000,9,-999.000,-999.000,9, -999.00,9,  701.80,-999.0000,9,-999.0000,9,-999.0000,9,-999.0000,9,-999.0000,9,-999.0000,9,   4.2863,     -999.0,-999.000,      1.700,          2,      0.077,          2,   0.047,          2
 33RO200501,       A16S,      48,          1,         19,         19,2,20050130,       1225,   -38.5000,   -26.8668,       4168,   802.4,   3.8835,  34.2064,2,  34.2066,2,    248.1,2,   250.1,2,   20.92,2,   28.54,2,    0.00,2,    1.81,2,   3.286,2,   1.679,2,   0.239,2,  -999.0,9,  -999.0,9,  -999.0,9,   20.00,-999.0000,9,    25.00,-999.000,9, -999.00,-999.000,9,-999.000,9, -999.00,9,  -999.0,9,  -999.0,-999.000,9,-999.000,   3.091,3, -999.00,9,  802.40,-999.0000,9,-999.0000,9,-999.0000,9,-999.0000,9,-999.0000,9,-999.0000,9,   3.8251,     -999.0,-999.000,     -999.0,          9,     -999.0,          9,-999.000,          9
 33RO200501,       A16S,      48,          1,         18,         18,2,20050130,       1225,   -38.5000,   -26.8668,       4168,   902.9,   3.5327,  34.2233,2,  34.2242,2,    240.7,2,   239.5,2,   26.55,2,   29.79,2,    0.00,2,    1.91,2,-999.000,9,-999.000,9,-999.000,9,  -999.0,9,  -999.0,9,  -999.0,9,   20.00,-999.0000,9,    25.00,-999.000,9, -999.00,-999.000,9,-999.000,9, -999.00,9,  -999.0,9,  -999.0,-999.000,9,-999.000,-999.000,9, -999.00,9,  902.90,-999.0000,9,-999.0000,9,-999.0000,9,-999.0000,9,-999.0000,9,-999.0000,9,   3.4688,     -999.0,-999.000,     -999.0,          9,     -999.0,          9,-999.000,          9
 33RO200501,       A16S,      48,          1,         17,         17,2,20050130,       1225,   -38.5000,   -26.8668,       4168,  1002.0,   3.2929,  34.2575,2,  34.2587,2,    229.0,2,   227.8,2,   33.03,2,   31.02,2,    0.00,2,    2.01,2,-999.000,9,-999.000,9,-999.000,9,  2194.2,2,  2290.4,2,  -999.0,9,   20.00,   7.6692,2,    25.00,-999.000,9, -999.00,-999.000,9,-999.000,9, -999.00,9,  -999.0,9,  -999.0,-999.000,9,-999.000,-999.000,9, -999.00,9, 1002.00,-999.0000,9,-999.0000,9,-999.0000,9,-999.0000,9,-999.0000,9,-999.0000,9,   3.2230,     -999.0,-999.000,      5.641,          2,      0.090,          2,   0.032,          2
 33RO200501,       A16S,      48,          1,         16,         16,2,20050130,       1225,   -38.5000,   -26.8668,       4168,  1101.0,   3.1349,  34.3088,2,  34.3085,2,    214.8,2,   213.2,2,   40.18,2,   32.11,2,    0.00,2,    2.10,2,   1.735,2,   0.867,2,   0.103,2,  -999.0,9,  -999.0,9,  -999.0,9,   20.00,-999.0000,9,    25.00,-999.000,9, -999.00,-999.000,9,-999.000,9, -999.00,9,  -999.0,9,  -999.0,-999.000,9,-999.000,   1.996,3, -999.00,9, 1101.00,-999.0000,9,-999.0000,9,-999.0000,9,-999.0000,9,-999.0000,9,-999.0000,9,   3.0585,     -999.0,-999.000,     -999.0,          9,     -999.0,          9,-999.000,          9
 33RO200501,       A16S,      48,          1,         15,         15,2,20050130,       1225,   -38.5000,   -26.8668,       4168,  1200.5,   3.0168,  34.3592,2,  34.3603,2,    202.5,2,   201.3,2,   46.49,2,   32.85,2,    0.00,2,    2.16,2,-999.000,9,-999.000,9,-999.000,9,  2215.4,2,  2307.1,2,  -999.0,9,   20.00,   7.5981,2,    25.00,-999.000,9, -999.00,-999.000,9,-999.000,9, -999.00,9,  -999.0,9,  -999.0,-999.000,9,-999.000,-999.000,9, -999.00,9, 1200.50,-999.0000,9,-999.0000,9,-999.0000,9,-999.0000,9,-999.0000,9,-999.0000,9,   2.9336,     -999.0,-999.000,     -999.0,          9,     -999.0,          9,-999.000,          9
 33RO200501,       A16S,      48,          1,         14,         14,2,20050130,       1225,   -38.5000,   -26.8668,       4168,  1301.3,   2.9273,  34.4090,2,  34.4096,2,    192.7,2,   192.6,2,   51.78,2,   33.31,2,    0.00,2,    2.19,2,-999.000,9,-999.000,9,-999.000,9,  -999.0,9,  -999.0,9,  -999.0,9,   20.00,-999.0000,9,    25.00,-999.000,9, -999.00,-999.000,9,-999.000,9, -999.00,9,  -999.0,9,  -999.0,-999.000,9,-999.000,-999.000,9, -999.00,9, 1301.30,-999.0000,9,-999.0000,9,-999.0000,9,-999.0000,9,-999.0000,9,-999.0000,9,   2.8368,     -999.0,-999.000,      4.685,          2,      0.149,          2,   0.036,          2
 33RO200501,       A16S,      48,          1,         13,         13,2,20050130,       1225,   -38.5000,   -26.8668,       4168,  1400.2,   2.8696,  34.4578,2,  34.4581,2,    185.6,2,   186.9,2,   55.80,2,   33.46,2,    0.00,2,    2.20,2,   0.637,2,   0.338,2,   0.029,2,  2228.8,2,  2316.5,2,  -999.0,9,   20.00,   7.5897,2,    25.00,-999.000,9, -999.00,-999.000,9,-999.000,9, -999.00,9,  -999.0,9,  -999.0,-999.000,9,-999.000,   0.897,3, -999.00,9, 1400.20,-999.0000,9,-999.0000,9,-999.0000,9,-999.0000,9,-999.0000,9,-999.0000,9,   2.7717,     -999.0,-999.000,     -999.0,          9,     -999.0,          9,-999.000,          9
 33RO200501,       A16S,      48,          1,         12,         12,2,20050130,       1225,   -38.5000,   -26.8668,       4168,  1602.4,   2.8077,  34.5828,2,  34.5833,2,    179.5,2,   180.5,2,   61.98,2,   32.65,2,    0.00,2,    2.16,2,-999.000,9,-999.000,9,-999.000,9,  -999.0,9,  -999.0,9,  -999.0,9,   20.00,-999.0000,9,    25.00,-999.000,9, -999.00,-999.000,9,-999.000,9, -999.00,9,  -999.0,9,  -999.0,-999.000,9,-999.000,-999.000,9, -999.00,9, 1602.40,-999.0000,9,-999.0000,9,-999.0000,9,-999.0000,9,-999.0000,9,-999.0000,9,   2.6936,     -999.0,-999.000,     -999.0,          9,     -999.0,          9,-999.000,          9
 33RO200501,       A16S,      48,          1,         11,         11,2,20050130,       1225,   -38.5000,   -26.8668,       4168,  1801.5,   2.8365,  34.6794,2,  34.6801,2,    186.4,2,   186.3,2,   61.14,2,   30.78,2,    0.00,2,    2.03,2,-999.000,9,-999.000,9,-999.000,9,  2234.8,2,  2330.2,2,  -999.0,9,   20.00,   7.5980,2,    25.00,-999.000,9, -999.00,-999.000,9,-999.000,9, -999.00,9,  -999.0,9,  -999.0,-999.000,9,-999.000,-999.000,9, -999.00,9, 1801.50,-999.0000,9,-999.0000,9,-999.0000,9,-999.0000,9,-999.0000,9,-999.0000,9,   2.7048,     -999.0,-999.000,      3.691,          2,      0.117,          2,   0.044,          2
 33RO200501,       A16S,      48,          1,         10,         10,2,20050130,       1225,   -38.5000,   -26.8668,       4168,  2048.8,   2.8877,  34.7711,2,  34.7709,2,    199.6,2,   199.7,2,   57.27,2,   28.22,2,    0.00,2,    1.86,2,   0.093,2,   0.050,2,   0.009,2,  -999.0,9,  -999.0,9,  -999.0,9,   20.00,-999.0000,9,    25.00,-999.000,9, -999.00,-999.000,9,-999.000,9, -999.00,9,  -999.0,9,  -999.0,-999.000,9,-999.000,   0.221,3, -999.00,9, 2048.80,-999.0000,9,-999.0000,9,-999.0000,9,-999.0000,9,-999.0000,9,-999.0000,9,   2.7329,     -999.0,-999.000,     -999.0,          9,     -999.0,          9,-999.000,          9
 33RO200501,       A16S,      48,          1,          9,          9,2,20050130,       1225,   -38.5000,   -26.8668,       4168,  2299.9,   2.8517,  34.8215,2,  34.8218,2,    213.5,2,   211.9,2,   53.77,2,   26.31,2,    0.00,2,    1.74,2,-999.000,9,-999.000,9,-999.000,9,  2218.1,2,  2331.3,2,  -999.0,9,   20.00,   7.6672,2,    25.00,-999.000,9, -999.00,-999.000,9,-999.000,9, -999.00,9,  -999.0,9,  -999.0,-999.000,9,-999.000,-999.000,9, -999.00,9, 2299.90,-999.0000,9,-999.0000,9,-999.0000,9,-999.0000,9,-999.0000,9,-999.0000,9,   2.6741,     -999.0,-999.000,     -999.0,          9,     -999.0,          9,-999.000,          9
 33RO200501,       A16S,      48,          1,          8,          8,2,20050130,       1225,   -38.5000,   -26.8668,       4168,  2550.6,   2.7225,  34.8406,2,  34.8407,2,    219.7,2,   218.8,2,   53.96,2,   25.43,2,    0.00,2,    1.68,2,-999.000,9,-999.000,9,-999.000,9,  -999.0,9,  -999.0,9,  -999.0,9,   20.00,-999.0000,9,    25.00,-999.000,9, -999.00,-999.000,9,-999.000,9, -999.00,9,  -999.0,9,  -999.0,-999.000,9,-999.000,-999.000,9, -999.00,9, 2550.60,-999.0000,9,-999.0000,9,-999.0000,9,-999.0000,9,-999.0000,9,-999.0000,9,   2.5232,     -999.0,-999.000,      4.733,          2,      0.012,          2,   0.021,          2