BOTTLE,20220818CCHSIOAMB
EXPOCODE,SECT_ID,STNNBR,CASTNO,SAMPNO,BTLNBR,BTLNBR_FLAG_W,DATE,TIME,LATITUDE,LONGITUDE,DEPTH,CTDPRS,CTDTMP,CTDSAL,CTDSAL_FLAG_W,SALNTY,SALNTY_FLAG_W,CTDOXY,CTDOXY_FLAG_W,OXYGEN,OXYGEN_FLAG_W,SILCAT,SILCAT_FLAG_W,NITRAT,NITRAT_FLAG_W,NITRIT,NITRIT_FLAG_W,PHSPHT,PHSPHT_FLAG_W,CFC-11,CFC-11_FLAG_W,CFC-12,CFC-12_FLAG_W,CFC113,CFC113_FLAG_W,TCARBN,TCARBN_FLAG_W,ALKALI,ALKALI_FLAG_W,PCO2,PCO2_FLAG_W,PCO2TMP,PH_SWS,PH_SWS_FLAG_W,PH_TMP,TRITUM,TRITUM_FLAG_W,TRITER,HELIUM,HELIUM_FLAG_W,DELHE3,DELHE3_FLAG_W,DELC13,DELC13_FLAG_W,DELC14,DELC14_FLAG_W,C14ERR,NEON,NEON_FLAG_W,NEONER,CCL4,CCL4_FLAG_W,DOC,DOC_FLAG_W,CTDRAW,CDOM325,CDOM325_FLAG_W,CDOM340,CDOM340_FLAG_W,CDOM380,CDOM380_FLAG_W,CDOM412,CDOM412_FLAG_W,CDOMSL,CDOMSL_FLAG_W,CDOMSN,CDOMSN_FLAG_W,THETA,HELIER,DELHER,CH3CL,CH3CL_FLAG_W,CH3BR,CH3BR_FLAG_W,CH3I,CH3I_FLAG_W
,,,,,,,,,,,METERS,DBAR,ITS-90,PSS-78,,PSS-78,,UMOL/KG,,UMOL/KG,,UMOL/KG,,UMOL/KG,,UMOL/KG,,UMOL/KG,,PMOL/KG,,PMOL/KG,,PMOL/KG,,UMOL/KG,,UMOL/KG,,UATM,,DEG C,,,DEG C,TU,,TU,NMOL/KG,,PERCNT,,/MILLE,,/MILLE,,/MILLE,NMOL/KG,,NMOL/KG,PMOL/KG,,UMOL/KG,,DBAR,1/M,,1/M,,1/M,,1/M,,1/NM,,1/NM,,DEG C,NMOL/KG,PERCNT,PMOL/KG,,PMOL/KG,,PMOL/KG,
 33RO200501,       A16S,      43,          1,         36,         36,2,20050129,       0125,   -41.0000,   -28.4163,       4317,     3.9,  15.9892,  34.8433,2,  34.8405,2,    255.4,2,   254.3,2,    0.33,2,    0.01,2,    0.01,2,    0.19,2,   2.701,2,   1.680,2,   0.231,2,  2038.2,2,  2310.6,2,  -999.0,9,   20.00,   7.9983,2,    25.00,-999.000,9, -999.00,-999.000,9,-999.000,9, -999.00,9,  -999.0,9,  -999.0,-999.000,9,-999.000,   6.091,4,   59.29,2,    3.90,-999.0000,9,-999.0000,9,-999.0000,9,-999.0000,9,-999.0000,9,-999.0000,9,  15.9886,     -999.0,-999.000,     -999.0,          9,     -999.0,          9,-999.000,          9
 33RO200501,       A16S,      43,          1,         35,         35,2,20050129,       0125,   -41.0000,   -28.4163,       4317,    25.8,  15.7867,  34.8580,2,  34.8548,2,    256.1,2,   254.5,2,    0.38,2,    0.03,2,    0.01,2,    0.20,2,   2.731,2,   1.714,2,   0.244,2,  2037.8,2,  2307.2,6,  -999.0,9,   20.00,   7.9994,6,    25.00,-999.000,9, -999.00,-999.000,9,-999.000,9, -999.00,9,  -999.0,9,  -999.0,-999.000,9,-999.000,   6.643,4, -999.00,9,   25.80,-999.0000,9,-999.0000,9,-999.0000,9,-999.0000,9,-999.0000,9,-999.0000,9,  15.7827,     -999.0,-999.000,     -999.0,          9,     -999.0,          9,-999.000,          9
 33RO200501,       A16S,      43,          1,         34,         34,2,20050129,       0125,   -41.0000,   -28.4163,       4317,    50.9,  15.4653,  35.2318,2,  35.2369,2,    238.0,2,   238.9,2,    0.91,2,    1.61,2,    0.23,2,    0.28,2,   2.744,2,   1.676,2,   0.217,2,  2070.6,2,  2327.0,2,  -999.0,9,   20.00,   7.9602,2,    25.00,-999.000,9, -999.00,-999.000,9,-999.000,9, -999.00,9,  -999.0,9,  -999.0,-999.000,9,-999.000,   4.660,4,   55.06,2,   50.90,-999.0000,9,-999.0000,9,-999.0000,9,-999.0000,9,-999.0000,9,-999.0000,9,  15.4574,     -999.0,-999.000,     -999.0,          9,     -999.0,          9,-999.000,          9
 33RO200501,       A16S,      43,          1,         33,         33,2,20050129,       0125,   -41.0000,   -28.4163,       4317,    70.9,  14.5927,  35.4552,2,  35.4532,2,    234.7,2,   236.0,2,    1.54,2,    4.16,2,    0.03,2,    0.38,2,   2.825,2,   1.694,2,   0.209,2,  2090.7,2,  2330.2,2,  -999.0,9,   20.00,   7.9327,2,    25.00,-999.000,9, -999.00,-999.000,9,-999.000,9, -999.00,9,  -999.0,9,  -999.0,-999.000,9,-999.000,   2.437,3, -999.00,9,   70.90,-999.0000,9,-999.0000,9,-999.0000,9,-999.0000,9,-999.0000,9,-999.0000,9,  14.5822,     -999.0,-999.000,     -999.0,          9,     -999.0,          9,-999.000,          9
 33RO200501,       A16S,      43,          1,         32,         32,2,20050129,       0125,   -41.0000,   -28.4163,       4317,    90.9,  14.4893,  35.4998,2,  35.4960,2,    235.1,2,   233.9,2,    1.69,2,    4.87,2,    0.02,2,    0.41,2,-999.000,9,-999.000,9,-999.000,9,  2095.9,2,  2333.0,2,  -999.0,9,   20.00,   7.9290,2,    25.00,-999.000,9, -999.00,-999.000,9,-999.000,9, -999.00,9,  -999.0,9,  -999.0,-999.000,9,-999.000,-999.000,9,   53.01,2,   90.90,-999.0000,9,-999.0000,9,-999.0000,9,-999.0000,9,-999.0000,9,-999.0000,9,  14.4759,     -999.0,-999.000,     -999.0,          9,     -999.0,          9,-999.000,          9
 33RO200501,       A16S,      43,          1,         31,         31,2,20050129,       0125,   -41.0000,   -28.4163,       4317,   115.8,  14.3492,  35.5012,2,  35.5007,2,    234.1,2,   235.5,2,    1.72,2,    5.12,2,    0.02,2,    0.42,2,   2.822,2,   1.681,2,   0.198,2,  2097.4,2,  2331.5,2,  -999.0,9,   20.00,   7.9233,2,    25.00,-999.000,9, -999.00,-999.000,9,-999.000,9, -999.00,9,  -999.0,9,  -999.0,-999.000,9,-999.000,   1.615,3, -999.00,9,  115.80,-999.0000,9,-999.0000,9,-999.0000,9,-999.0000,9,-999.0000,9,-999.0000,9,  14.3322,     -999.0,-999.000,     -999.0,          9,     -999.0,          9,-999.000,          9
 33RO200501,       A16S,      43,          1,         30,         30,2,20050129,       0125,   -41.0000,   -28.4163,       4317,   140.8,  14.3361,  35.5067,2,  35.4988,2,    235.5,2,   235.2,2,    1.74,2,    5.36,2,    0.01,2,    0.44,2,   2.826,2,   1.687,2,   0.193,2,  2099.2,2,  2332.5,2,  -999.0,9,   20.00,   7.9233,2,    25.00,-999.000,9, -999.00,-999.000,9,-999.000,9, -999.00,9,  -999.0,9,  -999.0,-999.000,9,-999.000,   1.783,3,   52.35,2,  140.80,-999.0000,9,-999.0000,9,-999.0000,9,-999.0000,9,-999.0000,9,-999.0000,9,  14.3154,     -999.0,-999.000,     -999.0,          9,     -999.0,          9,-999.000,          9
 33RO200501,       A16S,      43,          1,         29,         29,2,20050129,       0125,   -41.0000,   -28.4163,       4317,   165.5,  13.7399,  35.3775,2,  35.3625,2,    235.5,2,   234.6,2,    1.85,2,    6.50,2,    0.01,2,    0.52,2,   2.917,2,   1.700,2,   0.000,2,  2101.6,2,  2323.3,2,  -999.0,9,   20.00,   7.9084,2,    25.00,-999.000,9, -999.00,-999.000,9,-999.000,9, -999.00,9,  -999.0,9,  -999.0,-999.000,9,-999.000,   1.852,3, -999.00,9,  165.50,-999.0000,9,-999.0000,9,-999.0000,9,-999.0000,9,-999.0000,9,-999.0000,9,  13.7162,     -999.0,-999.000,     -999.0,          9,     -999.0,          9,-999.000,          9
 33RO200501,       A16S,      43,          1,         28,         28,2,20050129,       0125,   -41.0000,   -28.4163,       4317,   190.2,  12.8738,  35.2006,2,  35.1958,2,    231.1,2,   223.2,2,    2.26,2,    8.45,2,    0.01,2,    0.63,2,   3.022,2,   1.772,2,   0.177,2,  2105.7,2,  2314.5,2,  -999.0,9,   20.00,   7.8821,2,    25.00,-999.000,9, -999.00,-999.000,9,-999.000,9, -999.00,9,  -999.0,9,  -999.0,-999.000,9,-999.000,   1.613,3,   50.68,2,  190.20,-999.0000,9,-999.0000,9,-999.0000,9,-999.0000,9,-999.0000,9,-999.0000,9,  12.8478,     -999.0,-999.000,     -999.0,          9,     -999.0,          9,-999.000,          9
 33RO200501,       A16S,      43,          1,         27,         27,2,20050129,       0125,   -41.0000,   -28.4163,       4317,   226.2,  12.1693,  35.0891,2,  35.0816,2,    226.2,2,   234.6,2,    2.62,2,    9.66,2,    0.01,2,    0.71,2,   3.124,2,   1.787,2,   0.197,2,  2106.7,2,  2310.8,2,  -999.0,9,   20.00,   7.8643,2,    25.00,-999.000,9, -999.00,-999.000,9,-999.000,9, -999.00,9,  -999.0,9,  -999.0,-999.000,9,-999.000,   1.832,3, -999.00,9,  226.20,-999.0000,9,-999.0000,9,-999.0000,9,-999.0000,9,-999.0000,9,-999.0000,9,  12.1395,     -999.0,-999.000,     -999.0,          9,     -999.0,          9,-999.000,          9
 33RO200501,       A16S,      43,          1,         26,         26,2,20050129,       0125,   -41.0000,   -28.4163,       4317,   274.6,  10.8470,  34.8749,2,  34.8721,2,    220.0,2,   221.2,2,    3.97,2,   13.99,2,    0.01,2,    0.95,2,-999.000,9,-999.000,9,-999.000,9,  2121.4,2,  2298.4,2,  -999.0,9,   20.00,   7.8114,2,    25.00,-999.000,9, -999.00,-999.000,9,-999.000,9, -999.00,9,  -999.0,9,  -999.0,-999.000,9,-999.000,-999.000,9,   47.43,2,  274.60,-999.0000,9,-999.0000,9,-999.0000,9,-999.0000,9,-999.0000,9,-999.0000,9,  10.8134,     -999.0,-999.000,     -999.0,          9,     -999.0,          9,-999.000,          9
 33RO200501,       A16S,      43,          1,         25,         25,2,20050129,       0125,   -41.0000,   -28.4163,       4317,   325.8,   9.2242,  34.6311,2,  34.6313,2,    228.0,2,   226.3,2,    5.13,2,   17.35,2,    0.01,2,    1.15,2,   3.422,2,   1.901,2,   0.188,2,  2128.8,2,  2293.9,2,  -999.0,9,   20.00,   7.7759,2,    25.00,-999.000,9, -999.00,-999.000,9,-999.000,9, -999.00,9,  -999.0,9,  -999.0,-999.000,9,-999.000,   1.770,3,   45.14,2,  325.80,-999.0000,9,-999.0000,9,-999.0000,9,-999.0000,9,-999.0000,9,-999.0000,9,   9.1881,     -999.0,-999.000,     -999.0,          9,     -999.0,          9,-999.000,          9
 33RO200501,       A16S,      43,          1,         24,         24,2,20050129,       0125,   -41.0000,   -28.4163,       4317,   376.1,   8.0669,  34.5267,2,  34.5219,2,    222.2,2,   222.1,2,    7.33,2,   21.15,2,    0.01,2,    1.36,2,-999.000,9,-999.000,9,-999.000,9,  2141.0,2,  2283.7,2,  -999.0,9,   20.00,   7.7380,2,    25.00,-999.000,9, -999.00,-999.000,9,-999.000,9, -999.00,9,  -999.0,9,  -999.0,-999.000,9,-999.000,-999.000,9,   43.86,2,  376.10,-999.0000,9,-999.0000,9,-999.0000,9,-999.0000,9,-999.0000,9,-999.0000,9,   8.0285,     -999.0,-999.000,     -999.0,          9,     -999.0,          9,-999.000,          9
 33RO200501,       A16S,      43,          1,         23,         23,2,20050129,       0125,   -41.0000,   -28.4163,       4317,   450.0,   6.5312,  34.3599,2,  34.3568,2,    237.7,2,   235.1,2,    9.29,2,   23.67,2,    0.01,2,    1.53,2,   3.616,2,   1.949,2,   0.231,2,  2146.0,2,  2282.5,2,  -999.0,9,   20.00,   7.7051,2,    25.00,-999.000,9, -999.00,-999.000,9,-999.000,9, -999.00,9,  -999.0,9,  -999.0,-999.000,9,-999.000,   2.541,3,   42.99,2,  450.00,-999.0000,9,-999.0000,9,-999.0000,9,-999.0000,9,-999.0000,9,-999.0000,9,   6.4903,     -999.0,-999.000,     -999.0,          9,     -999.0,          9,-999.000,          9
 33RO200501,       A16S,      43,          1,         22,         22,2,20050129,       0125,   -41.0000,   -28.4163,       4317,   551.3,   5.1999,  34.2482,2,  34.2478,2,    248.3,2,   249.2,2,   11.84,2,   25.63,2,    0.00,2,    1.66,2,-999.000,9,-999.000,9,-999.000,9,  2153.3,2,  2273.5,2,  -999.0,9,   20.00,   7.6980,2,    25.00,-999.000,9, -999.00,-999.000,9,-999.000,9, -999.00,9,  -999.0,9,  -999.0,-999.000,9,-999.000,-999.000,9,   42.08,2,  551.30,-999.0000,9,-999.0000,9,-999.0000,9,-999.0000,9,-999.0000,9,-999.0000,9,   5.1552,     -999.0,-999.000,     -999.0,          9,     -999.0,          9,-999.000,          9
 33RO200501,       A16S,      43,          1,         21,         21,2,20050129,       0125,   -41.0000,   -28.4163,       4317,   649.9,   4.5348,  34.2160,2,  34.2154,2,    255.2,2,   255.3,2,   14.93,2,   26.60,2,    0.00,2,    1.73,2,   3.722,2,   1.952,2,   0.277,2,  2157.0,2,  2275.5,2,  -999.0,9,   20.00,   7.6905,2,    25.00,-999.000,9, -999.00,-999.000,9,-999.000,9, -999.00,9,  -999.0,9,  -999.0,-999.000,9,-999.000,   3.021,3, -999.00,9,  649.90,-999.0000,9,-999.0000,9,-999.0000,9,-999.0000,9,-999.0000,9,-999.0000,9,   4.4850,     -999.0,-999.000,     -999.0,          9,     -999.0,          9,-999.000,          9
 33RO200501,       A16S,      43,          1,         20,         20,2,20050129,       0125,   -41.0000,   -28.4163,       4317,   746.7,   4.1217,  34.2064,2,  34.2066,2,    251.9,2,   253.5,2,   18.46,2,   27.66,2,    0.00,2,    1.80,2,   3.520,2,   1.815,2,   0.260,2,  2165.5,2,  2280.7,2,  -999.0,9,   20.00,   7.6748,2,    25.00,-999.000,9, -999.00,-999.000,9,-999.000,9, -999.00,9,  -999.0,9,  -999.0,-999.000,9,-999.000,   3.158,3,   41.28,2,  746.70,-999.0000,9,-999.0000,9,-999.0000,9,-999.0000,9,-999.0000,9,-999.0000,9,   4.0663,     -999.0,-999.000,     -999.0,          9,     -999.0,          9,-999.000,          9
 33RO200501,       A16S,      43,          1,         19,         19,2,20050129,       0125,   -41.0000,   -28.4163,       4317,   850.1,   3.6167,  34.2109,2,  34.2117,2,    244.1,2,   246.6,2,   23.93,2,   29.12,2,    0.00,2,    1.90,2,-999.000,9,-999.000,9,-999.000,9,  2173.2,2,  2283.7,6,  -999.0,9,   20.00,   7.6602,6,    25.00,-999.000,9, -999.00,-999.000,9,-999.000,9, -999.00,9,  -999.0,9,  -999.0,-999.000,9,-999.000,-999.000,9, -999.00,9,  850.10,-999.0000,9,-999.0000,9,-999.0000,9,-999.0000,9,-999.0000,9,-999.0000,9,   3.5563,     -999.0,-999.000,     -999.0,          9,     -999.0,          9,-999.000,          9
 33RO200501,       A16S,      43,          1,         18,         18,2,20050129,       0125,   -41.0000,   -28.4163,       4317,   950.0,   3.3125,  34.2457,2,  34.2467,2,    234.0,2,   231.6,2,   30.97,2,   30.63,2,    0.00,2,    1.99,2,   2.523,2,   1.283,2,   0.171,2,  2188.7,6,  2288.8,2,  -999.0,9,   20.00,   7.6375,2,    25.00,-999.000,9, -999.00,-999.000,9,-999.000,9, -999.00,9,  -999.0,9,  -999.0,-999.000,9,-999.000,   2.493,3,   40.01,2,  950.00,-999.0000,9,-999.0000,9,-999.0000,9,-999.0000,9,-999.0000,9,-999.0000,9,   3.2465,     -999.0,-999.000,     -999.0,          9,     -999.0,          9,-999.000,          9
 33RO200501,       A16S,      43,          1,         17,         17,2,20050129,       0125,   -41.0000,   -28.4163,       4317,  1050.5,   3.1390,  34.3021,2,  34.3030,2,    218.4,2,   215.0,2,   39.15,2,   31.87,2,    0.00,2,    2.09,2,   1.864,2,   0.935,2,   0.120,2,  2202.7,2,  2295.8,2,  -999.0,9,   20.00,   7.6109,2,    25.00,-999.000,9, -999.00,-999.000,9,-999.000,9, -999.00,9,  -999.0,9,  -999.0,-999.000,9,-999.000,   1.999,3,   39.00,2, 1050.50,-999.0000,9,-999.0000,9,-999.0000,9,-999.0000,9,-999.0000,9,-999.0000,9,   3.0664,     -999.0,-999.000,     -999.0,          9,     -999.0,          9,-999.000,          9
 33RO200501,       A16S,      43,          1,         16,         16,2,20050129,       0125,   -41.0000,   -28.4163,       4317,  1150.4,   2.9854,  34.3594,2,  34.3599,2,    204.7,2,   201.7,2,   46.63,2,   32.97,2,    0.00,2,    2.16,2,   1.379,2,   0.673,2,   0.085,2,  2216.4,2,  2302.6,2,  -999.0,9,   20.00,   7.6078,2,    25.00,-999.000,9, -999.00,-999.000,9,-999.000,9, -999.00,9,  -999.0,9,  -999.0,-999.000,9,-999.000,   1.532,3,   38.52,2, 1150.40,-999.0000,9,-999.0000,9,-999.0000,9,-999.0000,9,-999.0000,9,-999.0000,9,   2.9063,     -999.0,-999.000,     -999.0,          9,     -999.0,          9,-999.000,          9
 33RO200501,       A16S,      43,          1,         15,         15,2,20050129,       0125,   -41.0000,   -28.4163,       4317,  1249.7,   2.8923,  34.4146,2,  34.4146,2,    192.4,2,   191.7,2,   52.63,2,   33.49,2,    0.00,2,    2.19,2,   0.985,2,   0.481,2,   0.050,2,  2228.9,2,  2315.6,2,  -999.0,9,   20.00,   7.5890,2,    25.00,-999.000,9, -999.00,-999.000,9,-999.000,9, -999.00,9,  -999.0,9,  -999.0,-999.000,9,-999.000,   1.192,3,   38.88,2, 1249.70,-999.0000,9,-999.0000,9,-999.0000,9,-999.0000,9,-999.0000,9,-999.0000,9,   2.8063,     -999.0,-999.000,     -999.0,          9,     -999.0,          9,-999.000,          9
 33RO200501,       A16S,      43,          1,         14,         14,2,20050129,       0125,   -41.0000,   -28.4163,       4317,  1399.4,   2.8217,  34.4959,2,  34.4979,2,    182.6,2,   182.4,2,   58.97,2,   33.32,2,    0.00,2,    2.20,2,   0.592,2,   0.288,2,   0.028,2,  2234.8,2,  2319.6,2,  -999.0,9,   20.00,   7.5870,2,    25.00,-999.000,9, -999.00,-999.000,9,-999.000,9, -999.00,9,  -999.0,9,  -999.0,-999.000,9,-999.000,   0.780,3,   38.71,2, 1399.40,-999.0000,9,-999.0000,9,-999.0000,9,-999.0000,9,-999.0000,9,-999.0000,9,   2.7243,     -999.0,-999.000,     -999.0,          9,     -999.0,          9,-999.000,          9
 33RO200501,       A16S,      43,          1,         13,         13,2,20050129,       0125,   -41.0000,   -28.4163,       4317,  1600.4,   2.7976,  34.5978,2,  34.5979,2,    178.4,2,   179.2,2,   63.49,2,   32.46,2,    0.00,2,    2.15,2,   0.340,2,   0.164,2,   0.011,2,  2238.3,2,  2325.9,2,  -999.0,9,   20.00,   7.5872,2,    25.00,-999.000,9, -999.00,-999.000,9,-999.000,9, -999.00,9,  -999.0,9,  -999.0,-999.000,9,-999.000,   0.501,3,   38.55,2, 1600.40,-999.0000,9,-999.0000,9,-999.0000,9,-999.0000,9,-999.0000,9,-999.0000,9,   2.6838,     -999.0,-999.000,     -999.0,          9,     -999.0,          9,-999.000,          9
 33RO200501,       A16S,      43,          1,         12,         12,2,20050129,       0125,   -41.0000,   -28.4163,       4317,  1800.5,   2.7505,  34.6743,2,  34.6798,2,    181.2,2,   181.6,2,   65.95,2,   31.31,2,    0.00,2,    2.08,2,   0.205,6,   0.103,6,   0.005,6,  2238.7,2,  2332.2,2,  -999.0,9,   20.00,   7.5971,2,    25.00,-999.000,9, -999.00,-999.000,9,-999.000,9, -999.00,9,  -999.0,9,  -999.0,-999.000,9,-999.000,   0.342,3,   39.20,2, 1800.50,-999.0000,9,-999.0000,9,-999.0000,9,-999.0000,9,-999.0000,9,-999.0000,9,   2.6200,     -999.0,-999.000,     -999.0,          9,     -999.0,          9,-999.000,          9
 33RO200501,       A16S,      43,          1,         11,         11,2,20050129,       0125,   -41.0000,   -28.4163,       4317,  1999.4,   2.7097,  34.7361,2,  34.7360,2,    188.8,2,   189.5,2,   65.99,2,   29.78,2,    0.00,2,    1.98,2,-999.000,9,-999.000,9,-999.000,9,  2234.9,2,  2334.3,2,  -999.0,9,   20.00,   7.6228,2,    25.00,-999.000,9, -999.00,-999.000,9,-999.000,9, -999.00,9,  -999.0,9,  -999.0,-999.000,9,-999.000,-999.000,9, -999.00,9, 1999.40,-999.0000,9,-999.0000,9,-999.0000,9,-999.0000,9,-999.0000,9,-999.0000,9,   2.5623,     -999.0,-999.000,     -999.0,          9,     -999.0,          9,-999.000,          9
 33RO200501,       A16S,      43,          1,         10,         10,2,20050129,       0125,   -41.0000,   -28.4163,       4317,  2200.2,   2.8008,  34.8037,2,  34.8025,2,    202.8,2,   205.6,2,   57.66,2,   27.17,2,    0.00,2,    1.80,2,   0.087,2,   0.047,2,  -0.001,2,  2219.7,2,  2333.3,2,  -999.0,9,   20.00,   7.6520,2,    25.00,-999.000,9, -999.00,-999.000,9,-999.000,9, -999.00,9,  -999.0,9,  -999.0,-999.000,9,-999.000,   0.223,3,   38.91,2, 2200.20,-999.0000,9,-999.0000,9,-999.0000,9,-999.0000,9,-999.0000,9,-999.0000,9,   2.6335,     -999.0,-999.000,     -999.0,          9,     -999.0,          9,-999.000,          9
 33RO200501,       A16S,      43,          1,          9,          9,2,20050129,       0125,   -41.0000,   -28.4163,       4317,  2399.0,   2.6242,  34.8118,2,  34.8122,2,    208.0,2,   208.8,2,   60.67,2,   26.87,2,    0.00,2,    1.79,2,-999.000,9,-999.000,9,-999.000,9,  2222.0,2,  2336.3,2,  -999.0,9,   20.00,   7.6552,2,    25.00,-999.000,9, -999.00,-999.000,9,-999.000,9, -999.00,9,  -999.0,9,  -999.0,-999.000,9,-999.000,-999.000,9, -999.00,9, 2399.00,-999.0000,9,-999.0000,9,-999.0000,9,-999.0000,9,-999.0000,9,-999.0000,9,   2.4413,     -999.0,-999.000,     -999.0,          9,     -999.0,          9,-999.000,          9
 33RO200501,       A16S,      43,          1,          8,          8,2,20050129,       0125,   -41.0000,   -28.4163,       4317,  2599.0,   2.4632,  34.8162,2,  34.8161,2,    211.8,2,   212.2,2,   63.28,2,   26.66,2,    0.00,2,    1.78,2,   0.061,2,   0.033,2,   0.004,2,  2219.7,2,  2341.8,2,  -999.0,9,   20.00,   7.6715,2,    25.00,-999.000,9, -999.00,-999.000,9,-999.000,9, -999.00,9,  -999.0,9,  -999.0,-999.000,9,-999.000,   0.147,3,   38.59,2, 2599.00,-999.0000,9,-999.0000,9,-999.0000,9,-999.0000,9,-999.0000,9,-999.0000,9,   2.2642,     -999.0,-999.000,     -999.0,          9,     -999.0,          9,-999.000,          9