BOTTLE,20220818CCHSIOAMB
EXPOCODE,SECT_ID,STNNBR,CASTNO,SAMPNO,BTLNBR,BTLNBR_FLAG_W,DATE,TIME,LATITUDE,LONGITUDE,DEPTH,CTDPRS,CTDTMP,CTDSAL,CTDSAL_FLAG_W,SALNTY,SALNTY_FLAG_W,CTDOXY,CTDOXY_FLAG_W,OXYGEN,OXYGEN_FLAG_W,SILCAT,SILCAT_FLAG_W,NITRAT,NITRAT_FLAG_W,NITRIT,NITRIT_FLAG_W,PHSPHT,PHSPHT_FLAG_W,CFC-11,CFC-11_FLAG_W,CFC-12,CFC-12_FLAG_W,CFC113,CFC113_FLAG_W,TCARBN,TCARBN_FLAG_W,ALKALI,ALKALI_FLAG_W,PCO2,PCO2_FLAG_W,PCO2TMP,PH_SWS,PH_SWS_FLAG_W,PH_TMP,TRITUM,TRITUM_FLAG_W,TRITER,HELIUM,HELIUM_FLAG_W,DELHE3,DELHE3_FLAG_W,DELC13,DELC13_FLAG_W,DELC14,DELC14_FLAG_W,C14ERR,NEON,NEON_FLAG_W,NEONER,CCL4,CCL4_FLAG_W,DOC,DOC_FLAG_W,CTDRAW,CDOM325,CDOM325_FLAG_W,CDOM340,CDOM340_FLAG_W,CDOM380,CDOM380_FLAG_W,CDOM412,CDOM412_FLAG_W,CDOMSL,CDOMSL_FLAG_W,CDOMSN,CDOMSN_FLAG_W,THETA,HELIER,DELHER,CH3CL,CH3CL_FLAG_W,CH3BR,CH3BR_FLAG_W,CH3I,CH3I_FLAG_W
,,,,,,,,,,,METERS,DBAR,ITS-90,PSS-78,,PSS-78,,UMOL/KG,,UMOL/KG,,UMOL/KG,,UMOL/KG,,UMOL/KG,,UMOL/KG,,PMOL/KG,,PMOL/KG,,PMOL/KG,,UMOL/KG,,UMOL/KG,,UATM,,DEG C,,,DEG C,TU,,TU,NMOL/KG,,PERCNT,,/MILLE,,/MILLE,,/MILLE,NMOL/KG,,NMOL/KG,PMOL/KG,,UMOL/KG,,DBAR,1/M,,1/M,,1/M,,1/M,,1/NM,,1/NM,,DEG C,NMOL/KG,PERCNT,PMOL/KG,,PMOL/KG,,PMOL/KG,
 33RO200501,       A16S,      87,          1,         36,         36,2,20050211,       1226,   -19.0050,   -25.0000,       4875,     2.1,  26.8279,  37.3273,2,  37.3265,2,    203.0,2,   202.7,2,    0.98,2,    0.00,2,    0.00,2,    0.12,2,   1.670,2,   1.081,2,   0.134,2,  2107.6,2,  2444.1,2,  -999.0,9,   20.00,   8.0619,2,    25.00,-999.000,9, -999.00,-999.000,9,-999.000,9, -999.00,9,  -999.0,9,  -999.0,-999.000,9,-999.000,   1.441,4,   71.56,2,    2.10,   0.0510,2,   0.0360,2,   0.0180,2,   0.0110,2,   0.0214,2,   0.0218,2,  26.8274,     -999.0,-999.000,     -999.0,          9,     -999.0,          9,-999.000,          9
 33RO200501,       A16S,      87,          1,         35,         35,2,20050211,       1226,   -19.0050,   -25.0000,       4875,    24.2,  26.7059,  37.3224,2,  37.3204,2,    203.2,2,   202.7,2,    0.97,2,    0.00,2,    0.00,2,    0.12,2,-999.000,9,-999.000,9,-999.000,9,  2102.4,2,  2445.3,6,  -999.0,9,   20.00,   8.0590,6,    25.00,-999.000,9, -999.00,-999.000,9,-999.000,9, -999.00,9,  -999.0,9,  -999.0,-999.000,9,-999.000,-999.000,9,   70.85,2,   24.20,   0.0690,2,   0.0500,2,   0.0210,2,   0.0120,2,   0.0201,2,   0.0202,2,  26.7004,     -999.0,-999.000,     -999.0,          9,     -999.0,          9,-999.000,          9
 33RO200501,       A16S,      87,          1,         34,         34,2,20050211,       1226,   -19.0050,   -25.0000,       4875,    53.3,  25.6438,  37.1889,2,  37.1852,2,    211.0,2,   211.1,2,    0.67,6,    0.01,6,    0.00,6,    0.14,6,   1.790,2,   1.155,2,   0.147,2,  2102.3,3,  2435.2,2,  -999.0,9,   20.00,   8.0552,2,    25.00,-999.000,9, -999.00,-999.000,9,-999.000,9, -999.00,9,  -999.0,9,  -999.0,-999.000,9,-999.000,   1.373,4,   69.67,2,   53.30,   0.0730,2,   0.0510,2,   0.0250,2,   0.0160,2,   0.0205,2,   0.0213,2,  25.6319,     -999.0,-999.000,     -999.0,          9,     -999.0,          9,-999.000,          9
 33RO200501,       A16S,      87,          1,         33,         33,2,20050211,       1226,   -19.0050,   -25.0000,       4875,    84.4,  23.6635,  36.9517,2,  36.9552,2,    221.4,2,   222.0,2,    0.66,6,    0.04,6,    0.00,6,    0.15,6,   1.934,2,   1.265,2,   0.155,2,  2095.5,2,  2424.5,2,  -999.0,9,   20.00,   8.0508,2,    25.00,-999.000,9, -999.00,-999.000,9,-999.000,9, -999.00,9,  -999.0,9,  -999.0,-999.000,9,-999.000,   1.271,4,   67.85,2,   84.40,-999.0000,9,-999.0000,9,-999.0000,9,-999.0000,9,-999.0000,9,-999.0000,9,  23.6458,     -999.0,-999.000,     -999.0,          9,     -999.0,          9,-999.000,          9
 33RO200501,       A16S,      87,          1,         32,         32,2,20050211,       1226,   -19.0050,   -25.0000,       4875,   113.7,  23.2264,  36.9676,2,  36.9673,2,    216.7,2,   216.4,2,    0.66,6,    0.02,6,    0.00,6,    0.15,6,-999.000,9,-999.000,9,-999.000,9,  2104.2,3,  2425.1,2,  -999.0,9,   20.00,   8.0439,2,    25.00,-999.000,9, -999.00,-999.000,9,-999.000,9, -999.00,9,  -999.0,9,  -999.0,-999.000,9,-999.000,-999.000,9,   65.63,2,  113.70,   0.0860,2,   0.0580,2,   0.0260,2,   0.0160,3,   0.0229,2,   0.0238,2,  23.2028,     -999.0,-999.000,     -999.0,          9,     -999.0,          9,-999.000,          9
 33RO200501,       A16S,      87,          1,         31,         31,2,20050211,       1226,   -19.0050,   -25.0000,       4875,   163.5,  22.1068,  36.7567,2,  36.7478,2,    209.6,2,   210.0,2,    0.76,6,    0.05,6,    0.01,6,    0.19,6,   2.033,2,   1.275,2,   0.152,2,  2100.8,2,  2410.2,2,  -999.0,9,   20.00,   8.0206,2,    25.00,-999.000,9, -999.00,-999.000,9,-999.000,9, -999.00,9,  -999.0,9,  -999.0,-999.000,9,-999.000,   1.070,4,   62.47,2,  163.50,-999.0000,9,-999.0000,9,-999.0000,9,-999.0000,9,-999.0000,9,-999.0000,9,  22.0740,     -999.0,-999.000,     -999.0,          9,     -999.0,          9,-999.000,          9
 33RO200501,       A16S,      87,          1,         30,         30,2,20050211,       1226,   -19.0050,   -25.0000,       4875,   213.6,  17.7918,  35.9437,2,  35.9350,2,    197.0,2,   197.9,2,    1.68,6,    3.58,6,    0.02,6,    0.41,6,-999.000,9,-999.000,9,-999.000,9,  2107.9,2,  2355.4,2,  -999.0,9,   20.00,   7.9362,2,    25.00,-999.000,9, -999.00,-999.000,9,-999.000,9, -999.00,9,  -999.0,9,  -999.0,-999.000,9,-999.000,-999.000,9,   55.19,2,  213.60,-999.0000,9,-999.0000,9,-999.0000,9,-999.0000,9,-999.0000,9,-999.0000,9,  17.7552,     -999.0,-999.000,     -999.0,          9,     -999.0,          9,-999.000,          9
 33RO200501,       A16S,      87,          1,         29,         29,2,20050211,       1226,   -19.0050,   -25.0000,       4875,   263.6,  14.9009,  35.4614,2,  35.4566,2,    188.1,2,   188.8,2,    3.10,6,    9.07,6,    0.00,6,    0.68,6,   2.702,6,   1.553,6,   0.041,6,  2121.7,2,  2324.2,2,  -999.0,9,   20.00,   7.8555,2,    25.00,-999.000,9, -999.00,-999.000,9,-999.000,9, -999.00,9,  -999.0,9,  -999.0,-999.000,9,-999.000,   0.493,4,   49.46,2,  263.60,-999.0000,9,-999.0000,9,-999.0000,9,-999.0000,9,-999.0000,9,-999.0000,9,  14.8610,     -999.0,-999.000,     -999.0,          9,     -999.0,          9,-999.000,          9
 33RO200501,       A16S,      87,          1,         28,         28,2,20050211,       1226,   -19.0050,   -25.0000,       4875,   348.5,  11.9383,  35.0514,2,  35.0445,2,    172.9,2,   170.9,2,    6.28,6,   16.68,6,    0.00,6,    1.11,6,   2.652,2,   1.470,2,   0.040,2,  2147.3,2,  2303.1,2,  -999.0,9,   20.00,   7.7524,2,    25.00,-999.000,9, -999.00,-999.000,9,-999.000,9, -999.00,9,  -999.0,9,  -999.0,-999.000,9,-999.000,   0.620,4,   48.70,2,  348.50,   0.1150,2,   0.0820,2,   0.0400,2,   0.0270,2,   0.0176,2,   0.0189,2,  11.8927,     -999.0,-999.000,     -999.0,          9,     -999.0,          9,-999.000,          9
 33RO200501,       A16S,      87,          1,         27,         27,2,20050211,       1226,   -19.0050,   -25.0000,       4875,   447.9,   9.5635,  34.7811,2,  34.7791,2,    165.3,2,   164.3,2,   10.66,6,   22.29,6,    0.00,6,    1.45,6,   2.251,2,   1.191,2,   0.053,2,  2169.5,2,  2295.9,2,  -999.0,9,   20.00,   7.6861,2,    25.00,-999.000,9, -999.00,-999.000,9,-999.000,9, -999.00,9,  -999.0,9,  -999.0,-999.000,9,-999.000,   0.835,4,   46.33,2,  447.90,-999.0000,9,-999.0000,9,-999.0000,9,-999.0000,9,-999.0000,9,-999.0000,9,   9.5125,     -999.0,-999.000,     -999.0,          9,     -999.0,          9,-999.000,          9
 33RO200501,       A16S,      87,          1,         26,         26,2,20050211,       1226,   -19.0050,   -25.0000,       4875,   550.1,   7.1212,  34.5475,2,  34.5441,2,    167.6,2,   169.5,2,   17.18,6,   27.70,2,    0.00,6,    1.78,6,   1.639,2,   0.858,2,   0.052,2,  2186.0,2,  2290.1,2,  -999.0,9,   20.00,   7.6305,2,    25.00,-999.000,9, -999.00,-999.000,9,-999.000,9, -999.00,9,  -999.0,9,  -999.0,-999.000,9,-999.000,   1.059,4,   43.17,2,  550.10,   0.1120,2,   0.0770,2,   0.0410,2,   0.0290,2,   0.0161,2,   0.0181,2,   7.0682,     -999.0,-999.000,     -999.0,          9,     -999.0,          9,-999.000,          9
 33RO200501,       A16S,      87,          1,         25,         25,2,20050211,       1226,   -19.0050,   -25.0000,       4875,   649.1,   5.4867,  34.4475,2,  34.4465,2,    169.3,2,   171.2,2,   24.71,6,   31.08,2,    0.00,6,    2.01,6,   0.824,2,   0.428,2,   0.022,2,  2292.9,4,  2292.1,2,  -999.0,9,   20.00,   7.5965,2,    25.00,-999.000,9, -999.00,-999.000,9,-999.000,9, -999.00,9,  -999.0,9,  -999.0,-999.000,9,-999.000,   0.820,4,   42.37,2,  649.10,-999.0000,9,-999.0000,9,-999.0000,9,-999.0000,9,-999.0000,9,-999.0000,9,   5.4319,     -999.0,-999.000,     -999.0,          9,     -999.0,          9,-999.000,          9
 33RO200501,       A16S,      87,          1,         24,         24,2,20050211,       1226,   -19.0050,   -25.0000,       4875,   750.7,   4.5041,  34.4121,2,  34.4108,2,    179.5,2,   180.5,2,   30.88,6,   31.94,2,    0.00,6,    2.08,6,   0.487,2,   0.249,2,   0.014,2,  2207.4,2,  2297.2,2,  -999.0,9,   20.00,   7.5953,2,    25.00,-999.000,9, -999.00,-999.000,9,-999.000,9, -999.00,9,  -999.0,9,  -999.0,-999.000,9,-999.000,   0.695,4, -999.00,9,  750.70,   0.1320,2,   0.0920,2,   0.0450,2,   0.0300,2,   0.0176,2,   0.0191,2,   4.4459,     -999.0,-999.000,     -999.0,          9,     -999.0,          9,-999.000,          9
 33RO200501,       A16S,      87,          1,         23,         23,2,20050211,       1226,   -19.0050,   -25.0000,       4875,   848.7,   3.8978,  34.4243,2,  34.4234,2,    185.8,2,   186.4,2,   36.89,6,   32.05,2,    0.00,6,    2.10,6,   0.422,2,   0.212,2,   0.014,2,  2208.3,2,  2303.1,2,  -999.0,9,   20.00,   7.5956,2,    25.00,-999.000,9, -999.00,-999.000,9,-999.000,9, -999.00,9,  -999.0,9,  -999.0,-999.000,9,-999.000,   0.650,4,   40.71,2,  848.70,-999.0000,9,-999.0000,9,-999.0000,9,-999.0000,9,-999.0000,9,-999.0000,9,   3.8354,     -999.0,-999.000,     -999.0,          9,     -999.0,          9,-999.000,          9
 33RO200501,       A16S,      87,          1,         22,         22,2,20050211,       1226,   -19.0050,   -25.0000,       4875,   949.5,   3.7123,  34.4601,2,  34.4611,2,    186.3,2,   186.1,2,   39.58,6,   31.99,2,    0.00,6,    2.10,6,   0.305,2,   0.156,2,   0.009,2,  2212.2,6,  2309.3,2,  -999.0,9,   20.00,   7.5952,2,    25.00,-999.000,9, -999.00,-999.000,9,-999.000,9, -999.00,9,  -999.0,9,  -999.0,-999.000,9,-999.000,   0.525,4, -999.00,9,  949.50,   0.1180,2,   0.0820,2,   0.0440,2,   0.0310,2,   0.0152,2,   0.0171,2,   3.6430,     -999.0,-999.000,     -999.0,          9,     -999.0,          9,-999.000,          9
 33RO200501,       A16S,      87,          1,         21,         21,2,20050211,       1226,   -19.0050,   -25.0000,       4875,  1049.3,   3.6629,  34.5397,2,  34.5406,2,    186.1,2,   184.0,2,   40.06,6,   31.31,2,    0.00,6,    2.05,6,   0.135,2,   0.066,2,   0.007,2,  2214.5,2,  2308.7,2,  -999.0,9,   20.00,   7.5964,2,    25.00,-999.000,9, -999.00,-999.000,9,-999.000,9, -999.00,9,  -999.0,9,  -999.0,-999.000,9,-999.000,   0.298,4,   39.49,2, 1049.30,-999.0000,9,-999.0000,9,-999.0000,9,-999.0000,9,-999.0000,9,-999.0000,9,   3.5858,     -999.0,-999.000,     -999.0,          9,     -999.0,          9,-999.000,          9
 33RO200501,       A16S,      87,          1,         20,         20,2,20050211,       1226,   -19.0050,   -25.0000,       4875,  1197.7,   3.8759,  34.7023,2,  34.7029,2,    188.7,2,   189.4,2,   34.26,6,   28.72,2,    0.00,6,    1.86,6,   0.054,2,   0.026,2,   0.007,2,  2207.8,2,  2312.8,2,  -999.0,9,   20.00,   7.6257,2,    25.00,-999.000,9, -999.00,-999.000,9,-999.000,9, -999.00,9,  -999.0,9,  -999.0,-999.000,9,-999.000,   0.152,4, -999.00,9, 1197.70,   0.1340,2,   0.0950,2,   0.0500,2,   0.0340,2,   0.0151,2,   0.0169,2,   3.7842,     -999.0,-999.000,     -999.0,          9,     -999.0,          9,-999.000,          9
 33RO200501,       A16S,      87,          1,         19,         19,2,20050211,       1226,   -19.0050,   -25.0000,       4875,  1400.4,   3.9199,  34.8340,2,  34.8327,2,    205.7,2,   206.6,2,   29.36,6,   25.33,6,    0.00,6,    1.63,6,   0.040,2,   0.025,2,   0.000,2,  2194.4,2,  2312.2,6,  -999.0,9,   20.00,   7.6649,6,    25.00,-999.000,9, -999.00,-999.000,9,-999.000,9, -999.00,9,  -999.0,9,  -999.0,-999.000,9,-999.000,   0.134,4,   39.45,2, 1400.40,-999.0000,9,-999.0000,9,-999.0000,9,-999.0000,9,-999.0000,9,-999.0000,9,   3.8099,     -999.0,-999.000,     -999.0,          9,     -999.0,          9,-999.000,          9
 33RO200501,       A16S,      87,          1,         18,         18,2,20050211,       1226,   -19.0050,   -25.0000,       4875,  1599.5,   3.6911,  34.8943,2,  34.8941,2,    224.9,2,   225.4,2,   27.46,2,   22.81,2,    0.00,2,    1.46,2,-999.000,9,-999.000,9,-999.000,9,  2184.1,2,  2314.4,2,  -999.0,9,   20.00,   7.6932,2,    25.00,-999.000,9, -999.00,-999.000,9,-999.000,9, -999.00,9,  -999.0,9,  -999.0,-999.000,9,-999.000,-999.000,9, -999.00,9, 1599.50,-999.0000,9,-999.0000,9,-999.0000,9,-999.0000,9,-999.0000,9,-999.0000,9,   3.5657,     -999.0,-999.000,     -999.0,          9,     -999.0,          9,-999.000,          9
 33RO200501,       A16S,      87,          1,         17,         17,2,20050211,       1226,   -19.0050,   -25.0000,       4875,  1799.5,   3.5335,  34.9310,2,  34.9338,2,    239.6,2,   239.9,2,   25.06,2,   21.04,2,    0.00,2,    1.34,2,   0.043,2,   0.024,2,   0.000,2,  2176.5,2,  2316.2,2,  -999.0,9,   20.00,   7.7159,2,    25.00,-999.000,9, -999.00,-999.000,9,-999.000,9, -999.00,9,  -999.0,9,  -999.0,-999.000,9,-999.000,   0.167,4,   40.16,2, 1799.50,-999.0000,9,-999.0000,9,-999.0000,9,-999.0000,9,-999.0000,9,-999.0000,9,   3.3917,     -999.0,-999.000,     -999.0,          9,     -999.0,          9,-999.000,          9
 33RO200501,       A16S,      87,          1,         16,         16,2,20050211,       1226,   -19.0050,   -25.0000,       4875,  1998.8,   3.3502,  34.9448,2,  34.9451,2,    247.6,2,   247.5,2,   24.50,6,   20.23,6,    0.00,6,    1.28,6,   0.032,2,   0.021,2,   0.000,2,  2171.7,2,  2315.4,2,  -999.0,9,   20.00,   7.7371,2,    25.00,-999.000,9, -999.00,-999.000,9,-999.000,9, -999.00,9,  -999.0,9,  -999.0,-999.000,9,-999.000,   0.153,4, -999.00,9, 1998.80,   0.1560,2,   0.1140,2,   0.0570,2,   0.0380,2,   0.0159,2,   0.0173,2,   3.1925,     -999.0,-999.000,     -999.0,          9,     -999.0,          9,-999.000,          9
 33RO200501,       A16S,      87,          1,         15,         15,2,20050211,       1226,   -19.0050,   -25.0000,       4875,  2200.0,   3.1734,  34.9410,2,  34.9413,2,    249.7,2,   249.2,2,   26.45,2,   20.13,2,    0.00,2,    1.29,2,   0.021,2,   0.014,2,   0.000,2,  2171.9,2,  2320.2,2,  -999.0,9,   20.00,   7.7449,2,    25.00,-999.000,9, -999.00,-999.000,9,-999.000,9, -999.00,9,  -999.0,9,  -999.0,-999.000,9,-999.000,   0.114,4,   39.68,2, 2200.00,-999.0000,9,-999.0000,9,-999.0000,9,-999.0000,9,-999.0000,9,-999.0000,9,   2.9995,     -999.0,-999.000,     -999.0,          9,     -999.0,          9,-999.000,          9
 33RO200501,       A16S,      87,          1,         14,         14,2,20050211,       1226,   -19.0050,   -25.0000,       4875,  2399.0,   3.0309,  34.9351,2,  34.9356,2,    250.1,2,   250.1,2,   28.43,6,   20.24,6,    0.00,6,    1.30,6,   0.017,2,   0.009,2,   0.000,2,  2173.7,2,  2322.8,2,  -999.0,9,   20.00,   7.7376,2,    25.00,-999.000,9, -999.00,-999.000,9,-999.000,9, -999.00,9,  -999.0,9,  -999.0,-999.000,9,-999.000,   0.090,4, -999.00,9, 2399.00,-999.0000,9,-999.0000,9,-999.0000,9,-999.0000,9,-999.0000,9,-999.0000,9,   2.8403,     -999.0,-999.000,     -999.0,          9,     -999.0,          9,-999.000,          9
 33RO200501,       A16S,      87,          1,         13,         13,2,20050211,       1226,   -19.0050,   -25.0000,       4875,  2599.2,   2.9333,  34.9297,2,  34.9305,2,    250.0,2,   250.3,2,   30.26,6,   20.38,6,    0.00,6,    1.31,6,   0.012,2,   0.005,2,   0.000,2,  2175.3,2,  2321.7,2,  -999.0,9,   20.00,   7.7302,2,    25.00,-999.000,9, -999.00,-999.000,9,-999.000,9, -999.00,9,  -999.0,9,  -999.0,-999.000,9,-999.000,   0.082,4,   40.08,2, 2599.20,-999.0000,9,-999.0000,9,-999.0000,9,-999.0000,9,-999.0000,9,-999.0000,9,   2.7249,     -999.0,-999.000,     -999.0,          9,     -999.0,          9,-999.000,          9
 33RO200501,       A16S,      87,          1,         12,         12,2,20050211,       1226,   -19.0050,   -25.0000,       4875,  2848.7,   2.7899,  34.9219,2,  34.9223,2,    250.1,2,   250.0,2,   32.71,6,   20.53,6,    0.00,6,    1.33,6,   0.013,2,   0.006,2,   0.000,2,  2178.6,2,  2326.0,2,  -999.0,9,   20.00,   7.7415,2,    25.00,-999.000,9, -999.00,-999.000,9,-999.000,9, -999.00,9,  -999.0,9,  -999.0,-999.000,9,-999.000,   0.073,4, -999.00,9, 2848.70,-999.0000,9,-999.0000,9,-999.0000,9,-999.0000,9,-999.0000,9,-999.0000,9,   2.5593,     -999.0,-999.000,     -999.0,          9,     -999.0,          9,-999.000,          9
 33RO200501,       A16S,      87,          1,         11,         11,2,20050211,       1226,   -19.0050,   -25.0000,       4875,  3150.5,   2.6652,  34.9146,2,  34.9148,2,    251.0,2,   251.1,2,   34.82,6,   20.59,6,    0.00,6,    1.34,6,   0.011,2,   0.008,2,   0.000,2,  2179.8,2,  2326.4,2,  -999.0,9,   20.00,   7.7303,2,    25.00,-999.000,9, -999.00,-999.000,9,-999.000,9, -999.00,9,  -999.0,9,  -999.0,-999.000,9,-999.000,   0.077,4,   40.00,2, 3150.50,   0.1110,3,   0.0690,3,   0.0180,3,   0.0090,3,   0.0302,3,   0.0305,3,   2.4062,     -999.0,-999.000,     -999.0,          9,     -999.0,          9,-999.000,          9
 33RO200501,       A16S,      87,          1,         10,         10,2,20050211,       1226,   -19.0050,   -25.0000,       4875,  3446.8,   2.4747,  34.8995,2,  34.9001,2,    251.0,2,   251.4,2,   39.61,6,   21.08,2,    0.00,6,    1.38,6,   0.015,2,   0.009,2,   0.000,2,  2183.6,2,  2329.3,2,  -999.0,9,   20.00,   7.7203,2,    25.00,-999.000,9, -999.00,-999.000,9,-999.000,9, -999.00,9,  -999.0,9,  -999.0,-999.000,9,-999.000,   0.073,4, -999.00,9, 3446.80,-999.0000,9,-999.0000,9,-999.0000,9,-999.0000,9,-999.0000,9,-999.0000,9,   2.1887,     -999.0,-999.000,     -999.0,          9,     -999.0,          9,-999.000,          9
 33RO200501,       A16S,      87,          1,          9,          9,2,20050211,       1226,   -19.0050,   -25.0000,       4875,  3749.3,   2.1271,  34.8645,2,  34.8647,2,    246.7,2,   246.8,2,   52.57,6,   22.76,2,    0.00,6,    1.51,6,   0.007,2,   0.012,2,   0.000,2,  2195.0,2,  2336.5,2,  -999.0,9,   20.00,   7.7146,2,    25.00,-999.000,9, -999.00,-999.000,9,-999.000,9, -999.00,9,  -999.0,9,  -999.0,-999.000,9,-999.000,   0.053,4,   39.68,2, 3749.30,-999.0000,9,-999.0000,9,-999.0000,9,-999.0000,9,-999.0000,9,-999.0000,9,   1.8173,     -999.0,-999.000,     -999.0,          9,     -999.0,          9,-999.000,          9
 33RO200501,       A16S,      87,          1,          8,          8,2,20050211,       1226,   -19.0050,   -25.0000,       4875,  4046.2,   1.7061,  34.8201,2,  34.8226,3,    239.3,2,   239.7,2,   69.76,6,   25.05,2,    0.00,6,    1.69,6,   0.009,2,   0.000,2,   0.000,2,  2213.7,2,  2344.9,2,  -999.0,9,   20.00,   7.7099,2,    25.00,-999.000,9, -999.00,-999.000,9,-999.000,9, -999.00,9,  -999.0,9,  -999.0,-999.000,9,-999.000,   0.035,4, -999.00,9, 4046.20,   0.1360,2,   0.0970,2,   0.0510,3,   0.0350,3,   0.0150,3,   0.0168,3,   1.3754,     -999.0,-999.000,     -999.0,          9,     -999.0,          9,-999.000,          9