BOTTLE,20220818CCHSIOAMB
EXPOCODE,SECT_ID,STNNBR,CASTNO,SAMPNO,BTLNBR,BTLNBR_FLAG_W,DATE,TIME,LATITUDE,LONGITUDE,DEPTH,CTDPRS,CTDTMP,CTDSAL,CTDSAL_FLAG_W,SALNTY,SALNTY_FLAG_W,CTDOXY,CTDOXY_FLAG_W,OXYGEN,OXYGEN_FLAG_W,SILCAT,SILCAT_FLAG_W,NITRAT,NITRAT_FLAG_W,NITRIT,NITRIT_FLAG_W,PHSPHT,PHSPHT_FLAG_W,CFC-11,CFC-11_FLAG_W,CFC-12,CFC-12_FLAG_W,CFC113,CFC113_FLAG_W,TCARBN,TCARBN_FLAG_W,ALKALI,ALKALI_FLAG_W,PCO2,PCO2_FLAG_W,PCO2TMP,PH_SWS,PH_SWS_FLAG_W,PH_TMP,TRITUM,TRITUM_FLAG_W,TRITER,HELIUM,HELIUM_FLAG_W,DELHE3,DELHE3_FLAG_W,DELC13,DELC13_FLAG_W,DELC14,DELC14_FLAG_W,C14ERR,NEON,NEON_FLAG_W,NEONER,CCL4,CCL4_FLAG_W,DOC,DOC_FLAG_W,CTDRAW,CDOM325,CDOM325_FLAG_W,CDOM340,CDOM340_FLAG_W,CDOM380,CDOM380_FLAG_W,CDOM412,CDOM412_FLAG_W,CDOMSL,CDOMSL_FLAG_W,CDOMSN,CDOMSN_FLAG_W,THETA,HELIER,DELHER,CH3CL,CH3CL_FLAG_W,CH3BR,CH3BR_FLAG_W,CH3I,CH3I_FLAG_W
,,,,,,,,,,,METERS,DBAR,ITS-90,PSS-78,,PSS-78,,UMOL/KG,,UMOL/KG,,UMOL/KG,,UMOL/KG,,UMOL/KG,,UMOL/KG,,PMOL/KG,,PMOL/KG,,PMOL/KG,,UMOL/KG,,UMOL/KG,,UATM,,DEG C,,,DEG C,TU,,TU,NMOL/KG,,PERCNT,,/MILLE,,/MILLE,,/MILLE,NMOL/KG,,NMOL/KG,PMOL/KG,,UMOL/KG,,DBAR,1/M,,1/M,,1/M,,1/M,,1/NM,,1/NM,,DEG C,NMOL/KG,PERCNT,PMOL/KG,,PMOL/KG,,PMOL/KG,
 33RO200501,       A16S,      35,          1,          7,          7,2,20050126,       1432,   -44.9968,   -30.9002,       5076,  3199.3,   1.3348,  34.7279,2,  34.7279,2,    202.4,2,   201.4,2,  104.95,2,   31.31,2,    0.01,2,    2.16,2,   0.135,2,   0.079,2,   0.010,2,  2254.7,2,  2363.5,2,  -999.0,9,   20.00,   7.6063,2,    25.00,-999.000,9, -999.00,-999.000,9,-999.000,9,    0.52,2,  -150.9,2,     3.7,-999.000,9,-999.000,   0.208,3, -999.00,9, 3199.30,-999.0000,9,-999.0000,9,-999.0000,9,-999.0000,9,-999.0000,9,-999.0000,9,   1.1023,     -999.0,-999.000,     -999.0,          9,     -999.0,          9,-999.000,          9
 33RO200501,       A16S,      35,          1,          6,          6,2,20050126,       1432,   -44.9968,   -30.9002,       5076,  3476.1,   1.0705,  34.7135,2,  34.7111,3,    205.6,2,   204.9,2,  110.82,2,   31.75,2,    0.01,2,    2.20,2,-999.000,9,-999.000,9,-999.000,9,  2257.7,2,  2363.6,2,  -999.0,9,   20.00,   7.6089,2,    25.00,-999.000,9, -999.00,-999.000,9,-999.000,9,    0.52,2,  -154.4,2,     2.9,-999.000,9,-999.000,-999.000,9,   40.53,2, 3476.10,-999.0000,9,-999.0000,9,-999.0000,9,-999.0000,9,-999.0000,9,-999.0000,9,   0.8174,     -999.0,-999.000,     -999.0,          9,     -999.0,          9,-999.000,          9
 33RO200501,       A16S,      35,          1,          5,          5,2,20050126,       1432,   -44.9968,   -30.9002,       5076,  3700.2,   0.8703,  34.7042,2,  34.7038,2,    209.1,2,   208.4,2,  114.36,2,   31.96,2,    0.01,2,    2.23,2,   0.241,2,   0.123,2,   0.020,2,  2257.9,2,  2365.4,2,  -999.0,9,   20.00,   7.6057,2,    25.00,   0.001,2,    0.00,   1.952,3,   7.980,2,    0.53,2,  -156.4,2,     3.2,   8.365,2,   0.008,   0.339,3, -999.00,9, 3700.20,-999.0000,9,-999.0000,9,-999.0000,9,-999.0000,9,-999.0000,9,-999.0000,9,   0.6000,      0.002,   0.231,     -999.0,          9,     -999.0,          9,-999.000,          9
 33RO200501,       A16S,      35,          1,          4,          4,2,20050126,       1432,   -44.9968,   -30.9002,       5076,  3998.9,   0.5846,  34.6903,2,  34.6901,2,    214.3,2,   214.2,2,  119.32,6,   32.18,6,    0.01,6,    2.26,6,   0.251,2,   0.125,2,   0.014,2,  2259.1,2,  2368.7,2,  -999.0,9,   20.00,   7.6078,2,    25.00,   0.001,2,    0.00,   1.961,3,   7.270,2,    0.56,2,  -158.0,2,     2.8,   8.390,2,   0.006,   0.365,3,   38.64,2, 3998.90,   0.1710,2,   0.1300,2,   0.0670,2,   0.0450,2,   0.0152,2,   0.0161,2,   0.2917,      0.002,   0.216,     -999.0,          9,     -999.0,          9,-999.000,          9
 33RO200501,       A16S,      35,          1,          3,          3,2,20050126,       1432,   -44.9968,   -30.9002,       5076,  4299.6,   0.3884,  34.6804,2,  34.6795,2,    218.5,2,   218.4,2,  123.05,6,   32.37,6,    0.01,6,    2.29,6,   0.252,2,   0.125,2,   0.013,2,  2260.1,2,  2368.4,2,  -999.0,9,   20.00,   7.6091,2,    25.00,   0.058,2,    0.01,   1.958,3,   6.460,2,    0.53,2,  -157.2,2,     2.8,   8.415,2,   0.007,   0.389,3, -999.00,9, 4299.60,-999.0000,9,-999.0000,9,-999.0000,9,-999.0000,9,-999.0000,9,-999.0000,9,   0.0698,      0.003,   0.249,     -999.0,          9,     -999.0,          9,-999.000,          9
 33RO200501,       A16S,      35,          1,          2,          2,2,20050126,       1432,   -44.9968,   -30.9002,       5076,  4599.2,   0.2762,  34.6741,2,  34.6736,2,    221.8,2,   221.4,2,  125.75,6,   32.53,6,    0.01,6,    2.30,6,   0.308,2,   0.155,2,   0.019,2,  2262.2,2,  2368.1,6,  -999.0,9,   20.00,   7.6101,6,    25.00,   0.032,2,    0.01,   1.955,3,   6.440,2,    0.56,2,  -153.6,2,     2.5,   8.364,2,   0.006,   0.453,3,   40.61,2, 4599.20,-999.0000,9,-999.0000,9,-999.0000,9,-999.0000,9,-999.0000,9,-999.0000,9,  -0.0712,      0.002,   0.206,     -999.0,          9,     -999.0,          9,-999.000,          9
 33RO200501,       A16S,      35,          1,          1,          1,2,20050126,       1432,   -44.9968,   -30.9002,       5076,  4905.5,   0.2147,  34.6697,2,  34.6703,2,    224.4,2,   223.7,2,  127.50,6,   32.65,6,    0.01,6,    2.32,6,   0.385,2,   0.193,2,   0.020,2,  2261.4,6,  2370.1,2,  -999.0,9,   20.00,   7.6098,2,    25.00,   0.001,2,    0.01,-999.000,9,-999.000,9,    0.56,2,  -160.8,2,     3.5,-999.000,9,-999.000,   0.523,3,   40.32,2, 4905.50,   0.1440,2,   0.1040,2,   0.0560,2,   0.0390,2,   0.0145,2,   0.0160,2,  -0.1647,     -999.0,-999.000,     -999.0,          9,     -999.0,          9,-999.000,          9