BOTTLE,20220818CCHSIOAMB
EXPOCODE,SECT_ID,STNNBR,CASTNO,SAMPNO,BTLNBR,BTLNBR_FLAG_W,DATE,TIME,LATITUDE,LONGITUDE,DEPTH,CTDPRS,CTDTMP,CTDSAL,CTDSAL_FLAG_W,SALNTY,SALNTY_FLAG_W,CTDOXY,CTDOXY_FLAG_W,OXYGEN,OXYGEN_FLAG_W,SILCAT,SILCAT_FLAG_W,NITRAT,NITRAT_FLAG_W,NITRIT,NITRIT_FLAG_W,PHSPHT,PHSPHT_FLAG_W,CFC-11,CFC-11_FLAG_W,CFC-12,CFC-12_FLAG_W,CFC113,CFC113_FLAG_W,TCARBN,TCARBN_FLAG_W,ALKALI,ALKALI_FLAG_W,PCO2,PCO2_FLAG_W,PCO2TMP,PH_SWS,PH_SWS_FLAG_W,PH_TMP,TRITUM,TRITUM_FLAG_W,TRITER,HELIUM,HELIUM_FLAG_W,DELHE3,DELHE3_FLAG_W,DELC13,DELC13_FLAG_W,DELC14,DELC14_FLAG_W,C14ERR,NEON,NEON_FLAG_W,NEONER,CCL4,CCL4_FLAG_W,DOC,DOC_FLAG_W,CTDRAW,CDOM325,CDOM325_FLAG_W,CDOM340,CDOM340_FLAG_W,CDOM380,CDOM380_FLAG_W,CDOM412,CDOM412_FLAG_W,CDOMSL,CDOMSL_FLAG_W,CDOMSN,CDOMSN_FLAG_W,THETA,HELIER,DELHER,CH3CL,CH3CL_FLAG_W,CH3BR,CH3BR_FLAG_W,CH3I,CH3I_FLAG_W
,,,,,,,,,,,METERS,DBAR,ITS-90,PSS-78,,PSS-78,,UMOL/KG,,UMOL/KG,,UMOL/KG,,UMOL/KG,,UMOL/KG,,UMOL/KG,,PMOL/KG,,PMOL/KG,,PMOL/KG,,UMOL/KG,,UMOL/KG,,UATM,,DEG C,,,DEG C,TU,,TU,NMOL/KG,,PERCNT,,/MILLE,,/MILLE,,/MILLE,NMOL/KG,,NMOL/KG,PMOL/KG,,UMOL/KG,,DBAR,1/M,,1/M,,1/M,,1/M,,1/NM,,1/NM,,DEG C,NMOL/KG,PERCNT,PMOL/KG,,PMOL/KG,,PMOL/KG,
 33RO200501,       A16S,      26,          1,         36,         36,2,20050123,       1512,   -49.5058,   -33.6713,       5174,     3.8,   5.5689,  33.7395,2,  33.7396,2,    319.3,2,   318.0,2,    1.30,2,   17.02,2,    0.22,2,    1.10,2,   5.047,2,   2.894,2,   0.461,2,  2097.0,2,  2276.2,2,  -999.0,9,   20.00,   7.8320,6,    25.00,-999.000,9, -999.00,-999.000,9,-999.000,9, -999.00,9,  -999.0,9,  -999.0,-999.000,9,-999.000,   5.864,4, -999.00,9,    3.80,-999.0000,9,-999.0000,9,-999.0000,9,-999.0000,9,-999.0000,9,-999.0000,9,   5.5686,     -999.0,-999.000,     65.695,          2,      1.799,          2,   1.045,          2
 33RO200501,       A16S,      26,          1,         35,         35,2,20050123,       1512,   -49.5058,   -33.6713,       5174,    25.0,   5.5105,  33.7391,2,  33.7398,2,    320.4,2,   317.7,2,    1.18,2,   16.88,2,    0.22,2,    1.10,2,-999.000,9,-999.000,9,-999.000,9,  -999.0,9,  -999.0,9,  -999.0,9,   20.00,-999.0000,9,    25.00,-999.000,9, -999.00,-999.000,9,-999.000,9, -999.00,9,  -999.0,9,  -999.0,-999.000,9,-999.000,-999.000,9, -999.00,9,   25.00,-999.0000,9,-999.0000,9,-999.0000,9,-999.0000,9,-999.0000,9,-999.0000,9,   5.5086,     -999.0,-999.000,     71.525,          2,      2.000,          2,   1.058,          2
 33RO200501,       A16S,      26,          1,         34,         34,2,20050123,       1512,   -49.5058,   -33.6713,       5174,    50.3,   4.8741,  33.7433,2,  33.7434,2,    314.9,2,   314.4,2,    0.64,2,   16.50,2,    0.22,2,    1.11,2,-999.000,9,-999.000,9,-999.000,9,  -999.0,9,  -999.0,9,  -999.0,9,   20.00,-999.0000,9,    25.00,-999.000,9, -999.00,-999.000,9,-999.000,9, -999.00,9,  -999.0,9,  -999.0,-999.000,9,-999.000,-999.000,9, -999.00,9,   50.30,-999.0000,9,-999.0000,9,-999.0000,9,-999.0000,9,-999.0000,9,-999.0000,9,   4.8703,     -999.0,-999.000,     63.649,          2,      1.262,          2,   1.170,          2
 33RO200501,       A16S,      26,          1,         33,         33,2,20050123,       1512,   -49.5058,   -33.6713,       5174,    70.4,   4.7554,  33.7452,2,  33.7469,2,    316.1,2,   315.6,2,    1.06,2,   17.00,2,    0.22,2,    1.18,2,-999.000,9,-999.000,9,-999.000,9,  -999.0,9,  -999.0,9,  -999.0,9,   20.00,-999.0000,9,    25.00,-999.000,9, -999.00,-999.000,9,-999.000,9, -999.00,9,  -999.0,9,  -999.0,-999.000,9,-999.000,-999.000,9, -999.00,9,   70.40,-999.0000,9,-999.0000,9,-999.0000,9,-999.0000,9,-999.0000,9,-999.0000,9,   4.7502,     -999.0,-999.000,     59.557,          2,      1.272,          2,   1.127,          2
 33RO200501,       A16S,      26,          1,         32,         32,2,20050123,       1512,   -49.5058,   -33.6713,       5174,    91.9,   3.1162,  33.7948,2,  33.7952,2,    318.4,2,   326.7,2,    4.95,2,   20.45,2,    0.22,2,    1.56,2,   5.071,2,   2.775,2,   0.457,2,  2128.9,2,  2279.1,2,  -999.0,9,   20.00,   7.7714,2,    25.00,-999.000,9, -999.00,-999.000,9,-999.000,9, -999.00,9,  -999.0,9,  -999.0,-999.000,9,-999.000,   5.627,4, -999.00,9,   91.90,-999.0000,9,-999.0000,9,-999.0000,9,-999.0000,9,-999.0000,9,-999.0000,9,   3.1106,     -999.0,-999.000,     -999.0,          9,     -999.0,          9,-999.000,          9
 33RO200501,       A16S,      26,          1,         31,         31,2,20050123,       1512,   -49.5058,   -33.6713,       5174,   116.3,   1.7165,  33.8375,2,  33.8389,2,    323.1,2,   330.0,2,   12.98,2,   23.28,2,    0.24,2,    1.74,2,-999.000,9,-999.000,9,-999.000,9,  -999.0,9,  -999.0,9,  -999.0,9,   20.00,-999.0000,9,    25.00,-999.000,9, -999.00,-999.000,9,-999.000,9, -999.00,9,  -999.0,9,  -999.0,-999.000,9,-999.000,-999.000,9, -999.00,9,  116.30,-999.0000,9,-999.0000,9,-999.0000,9,-999.0000,9,-999.0000,9,-999.0000,9,   1.7108,     -999.0,-999.000,     38.206,          2,      0.620,          2,   0.802,          2
 33RO200501,       A16S,      26,          1,         30,         30,2,20050123,       1512,   -49.5058,   -33.6713,       5174,   140.3,   0.8275,  33.8625,2,  33.8640,2,    328.5,2,   321.0,2,   20.63,2,   25.57,2,    0.28,2,    1.81,2,-999.000,9,-999.000,9,-999.000,9,  -999.0,9,  -999.0,9,  -999.0,9,   20.00,-999.0000,9,    25.00,-999.000,9, -999.00,-999.000,9,-999.000,9, -999.00,9,  -999.0,9,  -999.0,-999.000,9,-999.000,-999.000,9, -999.00,9,  140.30,-999.0000,9,-999.0000,9,-999.0000,9,-999.0000,9,-999.0000,9,-999.0000,9,   0.8216,     -999.0,-999.000,     -999.0,          9,     -999.0,          9,-999.000,          9
 33RO200501,       A16S,      26,          1,         29,         29,2,20050123,       1512,   -49.5058,   -33.6713,       5174,   166.1,   0.6749,  33.9170,2,  33.9166,2,    319.8,2,   321.5,2,   25.84,2,   27.12,2,    0.26,2,    1.88,2,-999.000,9,-999.000,9,-999.000,9,  -999.0,9,  -999.0,9,  -999.0,9,   20.00,-999.0000,9,    25.00,-999.000,9, -999.00,-999.000,9,-999.000,9, -999.00,9,  -999.0,9,  -999.0,-999.000,9,-999.000,-999.000,9, -999.00,9,  166.10,-999.0000,9,-999.0000,9,-999.0000,9,-999.0000,9,-999.0000,9,-999.0000,9,   0.6681,     -999.0,-999.000,     -999.0,          9,     -999.0,          9,-999.000,          9
 33RO200501,       A16S,      26,          1,         28,         28,2,20050123,       1512,   -49.5058,   -33.6713,       5174,   192.7,   0.8672,  33.9833,2,  33.9803,2,    293.1,2,   304.9,2,   30.65,2,   28.56,2,    0.19,2,    1.94,2,-999.000,9,-999.000,9,-999.000,9,  -999.0,9,  -999.0,9,  -999.0,9,   20.00,-999.0000,9,    25.00,-999.000,9, -999.00,-999.000,9,-999.000,9, -999.00,9,  -999.0,9,  -999.0,-999.000,9,-999.000,-999.000,9, -999.00,9,  192.70,-999.0000,9,-999.0000,9,-999.0000,9,-999.0000,9,-999.0000,9,-999.0000,9,   0.8589,     -999.0,-999.000,     16.925,          2,      0.508,          2,   0.211,          2
 33RO200501,       A16S,      26,          1,         27,         27,2,20050123,       1512,   -49.5058,   -33.6713,       5174,   228.6,   1.5975,  34.1135,2,  34.1032,2,    276.2,2,   266.9,2,   36.41,2,   30.57,2,    0.05,2,    2.04,2,-999.000,9,-999.000,9,-999.000,9,  -999.0,9,  -999.0,9,  -999.0,9,   20.00,-999.0000,9,    25.00,-999.000,9, -999.00,-999.000,9,-999.000,9, -999.00,9,  -999.0,9,  -999.0,-999.000,9,-999.000,-999.000,9, -999.00,9,  228.60,-999.0000,9,-999.0000,9,-999.0000,9,-999.0000,9,-999.0000,9,-999.0000,9,   1.5862,     -999.0,-999.000,     -999.0,          9,     -999.0,          9,-999.000,          9
 33RO200501,       A16S,      26,          1,         26,         26,2,20050123,       1512,   -49.5058,   -33.6713,       5174,   280.4,   1.6762,  34.1889,2,  34.1853,2,    242.2,2,   248.8,2,   45.11,2,   32.13,2,    0.03,2,    2.15,2,-999.000,9,-999.000,9,-999.000,9,  -999.0,9,  -999.0,9,  -999.0,9,   20.00,-999.0000,9,    25.00,-999.000,9, -999.00,-999.000,9,-999.000,9, -999.00,9,  -999.0,9,  -999.0,-999.000,9,-999.000,-999.000,9, -999.00,9,  280.40,-999.0000,9,-999.0000,9,-999.0000,9,-999.0000,9,-999.0000,9,-999.0000,9,   1.6619,     -999.0,-999.000,     -999.0,          9,     -999.0,          9,-999.000,          9
 33RO200501,       A16S,      26,          1,         25,         25,2,20050123,       1512,   -49.5058,   -33.6713,       5174,   327.5,   1.7999,  34.2684,2,  34.2693,2,    230.1,2,   228.8,2,   52.70,2,   33.22,2,    0.02,2,    2.23,2,   2.730,2,   1.428,2,   0.213,2,  2219.0,2,  2303.5,2,  -999.0,9,   20.00,   7.5921,2,    25.00,-999.000,9, -999.00,-999.000,9,-999.000,9, -999.00,9,  -999.0,9,  -999.0,-999.000,9,-999.000,   2.731,3, -999.00,9,  327.50,-999.0000,9,-999.0000,9,-999.0000,9,-999.0000,9,-999.0000,9,-999.0000,9,   1.7827,     -999.0,-999.000,      3.358,          2,      0.100,          2,   0.136,          2
 33RO200501,       A16S,      26,          1,         24,         24,2,20050123,       1512,   -49.5058,   -33.6713,       5174,   377.9,   1.7085,  34.3260,2,  34.3245,2,    214.4,2,   217.9,2,   59.84,2,   33.95,2,    0.02,2,    2.29,2,-999.000,9,-999.000,9,-999.000,9,  -999.0,9,  -999.0,9,  -999.0,9,   20.00,-999.0000,9,    25.00,-999.000,9, -999.00,-999.000,9,-999.000,9, -999.00,9,  -999.0,9,  -999.0,-999.000,9,-999.000,-999.000,9, -999.00,9,  377.90,-999.0000,9,-999.0000,9,-999.0000,9,-999.0000,9,-999.0000,9,-999.0000,9,   1.6888,     -999.0,-999.000,     -999.0,          9,     -999.0,          9,-999.000,          9
 33RO200501,       A16S,      26,          1,         23,         23,2,20050123,       1512,   -49.5058,   -33.6713,       5174,   449.8,   2.1951,  34.4560,2,  34.4568,2,    195.8,2,   187.9,2,   67.27,2,   34.33,2,    0.01,2,    2.32,2,-999.000,9,-999.000,9,-999.000,9,  -999.0,9,  -999.0,9,  -999.0,9,   20.00,-999.0000,9,    25.00,-999.000,9, -999.00,-999.000,9,-999.000,9, -999.00,9,  -999.0,9,  -999.0,-999.000,9,-999.000,-999.000,9, -999.00,9,  449.80,-999.0000,9,-999.0000,9,-999.0000,9,-999.0000,9,-999.0000,9,-999.0000,9,   2.1695,     -999.0,-999.000,     -999.0,          9,     -999.0,          9,-999.000,          9
 33RO200501,       A16S,      26,          1,         22,         22,2,20050123,       1512,   -49.5058,   -33.6713,       5174,   551.4,   2.2754,  34.5255,2,  34.5232,2,    180.9,2,   177.2,2,   72.13,2,   34.20,2,    0.01,2,    2.33,2,-999.000,9,-999.000,9,-999.000,9,  -999.0,9,  -999.0,9,  -999.0,9,   20.00,-999.0000,9,    25.00,-999.000,9, -999.00,-999.000,9,-999.000,9, -999.00,9,  -999.0,9,  -999.0,-999.000,9,-999.000,-999.000,9, -999.00,9,  551.40,-999.0000,9,-999.0000,9,-999.0000,9,-999.0000,9,-999.0000,9,-999.0000,9,   2.2431,     -999.0,-999.000,     -999.0,          9,     -999.0,          9,-999.000,          9
 33RO200501,       A16S,      26,          1,         21,         21,2,20050123,       1512,   -49.5058,   -33.6713,       5174,   651.8,   2.1226,  34.5689,2,  34.5690,2,    175.9,2,   175.2,2,   77.65,2,   34.02,2,    0.01,2,    2.33,2,   0.667,2,   0.337,2,   0.040,2,  2256.3,2,  2333.3,2,  -999.0,9,   20.00,   7.5625,6,    25.00,-999.000,9, -999.00,-999.000,9,-999.000,9, -999.00,9,  -999.0,9,  -999.0,-999.000,9,-999.000,   0.835,3, -999.00,9,  651.80,-999.0000,9,-999.0000,9,-999.0000,9,-999.0000,9,-999.0000,9,-999.0000,9,   2.0846,     -999.0,-999.000,     -999.0,          9,     -999.0,          9,-999.000,          9
 33RO200501,       A16S,      26,          1,         20,         20,2,20050123,       1512,   -49.5058,   -33.6713,       5174,   752.4,   2.1453,  34.6214,2,  34.6212,2,    172.6,2,   172.4,2,   82.19,2,   33.46,2,    0.00,2,    2.30,2,-999.000,9,-999.000,9,-999.000,9,  -999.0,9,  -999.0,9,  -999.0,9,   20.00,-999.0000,9,    25.00,-999.000,9, -999.00,-999.000,9,-999.000,9, -999.00,9,  -999.0,9,  -999.0,-999.000,9,-999.000,-999.000,9, -999.00,9,  752.40,-999.0000,9,-999.0000,9,-999.0000,9,-999.0000,9,-999.0000,9,-999.0000,9,   2.1006,     -999.0,-999.000,     -999.0,          9,     -999.0,          9,-999.000,          9
 33RO200501,       A16S,      26,          1,         19,         19,2,20050123,       1512,   -49.5058,   -33.6713,       5174,   853.6,   2.0907,  34.6469,2,  34.6468,2,    172.6,2,   173.2,2,   84.99,2,   33.21,2,    0.00,2,    2.28,2,-999.000,9,-999.000,9,-999.000,9,  -999.0,9,  -999.0,9,  -999.0,9,   20.00,-999.0000,9,    25.00,-999.000,9, -999.00,-999.000,9,-999.000,9, -999.00,9,  -999.0,9,  -999.0,-999.000,9,-999.000,-999.000,9, -999.00,9,  853.60,-999.0000,9,-999.0000,9,-999.0000,9,-999.0000,9,-999.0000,9,-999.0000,9,   2.0397,     -999.0,-999.000,      0.000,          2,      0.119,          2,   0.068,          2
 33RO200501,       A16S,      26,          1,         18,         18,2,20050123,       1512,   -49.5058,   -33.6713,       5174,   950.2,   2.0547,  34.6699,2,  34.6702,2,    173.5,2,   175.2,2,   87.32,2,   32.86,2,    0.00,2,    2.25,2,   0.201,2,   0.100,2,   0.001,2,  2260.3,2,  2350.1,2,  -999.0,9,   20.00,   7.5827,6,    25.00,-999.000,9, -999.00,-999.000,9,-999.000,9, -999.00,9,  -999.0,9,  -999.0,-999.000,9,-999.000,   0.260,3, -999.00,9,  950.20,-999.0000,9,-999.0000,9,-999.0000,9,-999.0000,9,-999.0000,9,-999.0000,9,   1.9974,     -999.0,-999.000,     -999.0,          9,     -999.0,          9,-999.000,          9
 33RO200501,       A16S,      26,          1,         17,         17,2,20050123,       1512,   -49.5058,   -33.6713,       5174,  1103.7,   2.0052,  34.6946,2,  34.6940,2,    178.6,2,   178.9,2,   88.42,2,   32.39,2,    0.00,2,    2.21,2,-999.000,9,-999.000,9,-999.000,9,  -999.0,9,  -999.0,9,  -999.0,9,   20.00,-999.0000,9,    25.00,-999.000,9, -999.00,-999.000,9,-999.000,9, -999.00,9,  -999.0,9,  -999.0,-999.000,9,-999.000,-999.000,9, -999.00,9, 1103.70,-999.0000,9,-999.0000,9,-999.0000,9,-999.0000,9,-999.0000,9,-999.0000,9,   1.9376,     -999.0,-999.000,     -999.0,          9,     -999.0,          9,-999.000,          9
 33RO200501,       A16S,      26,          1,         16,         16,2,20050123,       1512,   -49.5058,   -33.6713,       5174,  1300.1,   1.9273,  34.7216,2,  34.7207,2,    184.3,2,   185.5,2,   89.38,2,   31.37,2,    0.00,2,    2.16,2,-999.000,9,-999.000,9,-999.000,9,  -999.0,9,  -999.0,9,  -999.0,9,   20.00,-999.0000,9,    25.00,-999.000,9, -999.00,-999.000,9,-999.000,9, -999.00,9,  -999.0,9,  -999.0,-999.000,9,-999.000,-999.000,9, -999.00,9, 1300.10,-999.0000,9,-999.0000,9,-999.0000,9,-999.0000,9,-999.0000,9,-999.0000,9,   1.8464,     -999.0,-999.000,      0.000,          2,      0.000,          2,   0.054,          2
 33RO200501,       A16S,      26,          1,         15,         15,2,20050123,       1512,   -49.5058,   -33.6713,       5174,  1503.6,   1.8489,  34.7405,2,  34.7411,2,    191.4,2,   193.2,2,   87.95,2,   30.46,2,    0.00,2,    2.10,2,-999.000,9,-999.000,9,-999.000,9,  -999.0,9,  -999.0,9,  -999.0,9,   20.00,-999.0000,9,    25.00,-999.000,9, -999.00,-999.000,9,-999.000,9, -999.00,9,  -999.0,9,  -999.0,-999.000,9,-999.000,-999.000,9, -999.00,9, 1503.60,-999.0000,9,-999.0000,9,-999.0000,9,-999.0000,9,-999.0000,9,-999.0000,9,   1.7537,     -999.0,-999.000,     -999.0,          9,     -999.0,          9,-999.000,          9
 33RO200501,       A16S,      26,          1,         14,         14,2,20050123,       1512,   -49.5058,   -33.6713,       5174,  1704.7,   1.8534,  34.7674,2,  34.7697,2,    197.8,2,   202.4,2,   82.94,2,   28.95,2,    0.00,2,    2.00,2,-999.000,9,-999.000,9,-999.000,9,  -999.0,9,  -999.0,9,  -999.0,9,   20.00,-999.0000,9,    25.00,-999.000,9, -999.00,-999.000,9,-999.000,9, -999.00,9,  -999.0,9,  -999.0,-999.000,9,-999.000,-999.000,9, -999.00,9, 1704.70,-999.0000,9,-999.0000,9,-999.0000,9,-999.0000,9,-999.0000,9,-999.0000,9,   1.7426,     -999.0,-999.000,     -999.0,          9,     -999.0,          9,-999.000,          9
 33RO200501,       A16S,      26,          1,         13,         13,2,20050123,       1512,   -49.5058,   -33.6713,       5174,  1897.6,   1.5470,  34.7408,2,  34.7412,2,    199.2,2,   199.6,2,   95.71,2,   30.54,2,    0.00,2,    2.12,2,   0.110,2,   0.053,2,   0.002,2,  2251.9,2,  2357.6,2,  -999.0,9,   20.00,   7.6232,6,    25.00,-999.000,9, -999.00,-999.000,9,-999.000,9, -999.00,9,  -999.0,9,  -999.0,-999.000,9,-999.000,   0.172,3, -999.00,9, 1897.60,-999.0000,9,-999.0000,9,-999.0000,9,-999.0000,9,-999.0000,9,-999.0000,9,   1.4253,     -999.0,-999.000,      1.012,          2,      0.223,          2,   0.025,          2
 33RO200501,       A16S,      26,          1,         12,         12,2,20050123,       1512,   -49.5058,   -33.6713,       5174,  2095.6,   1.3522,  34.7328,2,  34.7337,2,    200.1,2,   201.3,2,  101.87,2,   30.81,2,    0.00,2,    2.14,2,-999.000,9,-999.000,9,-999.000,9,  -999.0,9,  -999.0,9,  -999.0,9,   20.00,-999.0000,9,    25.00,-999.000,9, -999.00,-999.000,9,-999.000,9, -999.00,9,  -999.0,9,  -999.0,-999.000,9,-999.000,-999.000,9, -999.00,9, 2095.60,-999.0000,9,-999.0000,9,-999.0000,9,-999.0000,9,-999.0000,9,-999.0000,9,   1.2177,     -999.0,-999.000,     -999.0,          9,     -999.0,          9,-999.000,          9
 33RO200501,       A16S,      26,          1,         11,         11,2,20050123,       1512,   -49.5058,   -33.6713,       5174,  2300.3,   1.1639,  34.7227,2,  34.7219,2,    202.3,2,   203.0,2,  107.40,2,   31.25,2,    0.00,2,    2.17,2,-999.000,9,-999.000,9,-999.000,9,  -999.0,9,  -999.0,9,  -999.0,9,   20.00,-999.0000,9,    25.00,-999.000,9, -999.00,-999.000,9,-999.000,9, -999.00,9,  -999.0,9,  -999.0,-999.000,9,-999.000,-999.000,9, -999.00,9, 2300.30,-999.0000,9,-999.0000,9,-999.0000,9,-999.0000,9,-999.0000,9,-999.0000,9,   1.0158,     -999.0,-999.000,     -999.0,          9,     -999.0,          9,-999.000,          9
 33RO200501,       A16S,      26,          1,         10,         10,2,20050123,       1512,   -49.5058,   -33.6713,       5174,  2500.7,   1.0294,  34.7160,2,  34.7159,2,    204.6,2,   205.1,2,  109.96,2,   31.47,2,    0.00,2,    2.19,2,-999.000,9,-999.000,9,-999.000,9,  -999.0,9,  -999.0,9,  -999.0,9,   20.00,-999.0000,9,    25.00,-999.000,9, -999.00,-999.000,9,-999.000,9, -999.00,9,  -999.0,9,  -999.0,-999.000,9,-999.000,-999.000,9, -999.00,9, 2500.70,-999.0000,9,-999.0000,9,-999.0000,9,-999.0000,9,-999.0000,9,-999.0000,9,   0.8670,     -999.0,-999.000,      0.000,          2,      0.157,          2,   0.052,          2
 33RO200501,       A16S,      26,          1,          9,          9,2,20050123,       1512,   -49.5058,   -33.6713,       5174,  2752.7,   0.7913,  34.7034,2,  34.7035,2,    208.0,2,   208.9,2,  114.43,2,   31.73,2,    0.00,2,    2.22,2,-999.000,9,-999.000,9,-999.000,9,  -999.0,9,  -999.0,9,  -999.0,9,   20.00,-999.0000,9,    25.00,-999.000,9, -999.00,-999.000,9,-999.000,9, -999.00,9,  -999.0,9,  -999.0,-999.000,9,-999.000,-999.000,9, -999.00,9, 2752.70,-999.0000,9,-999.0000,9,-999.0000,9,-999.0000,9,-999.0000,9,-999.0000,9,   0.6120,     -999.0,-999.000,     -999.0,          9,     -999.0,          9,-999.000,          9
 33RO200501,       A16S,      26,          1,          8,          8,2,20050123,       1512,   -49.5058,   -33.6713,       5174,  3050.3,   0.5827,  34.6921,2,  34.6923,2,    211.9,2,   212.9,2,  117.62,2,   31.93,2,    0.00,2,    2.25,2,   0.340,2,   0.181,2,   0.006,2,  2260.4,2,  2360.7,2,  -999.0,9,   20.00,   7.6120,6,    25.00,-999.000,9, -999.00,-999.000,9,-999.000,9, -999.00,9,  -999.0,9,  -999.0,-999.000,9,-999.000,   0.643,3, -999.00,9, 3050.30,-999.0000,9,-999.0000,9,-999.0000,9,-999.0000,9,-999.0000,9,-999.0000,9,   0.3817,     -999.0,-999.000,     -999.0,          9,     -999.0,          9,-999.000,          9