BOTTLE,20220818CCHSIOAMB
EXPOCODE,SECT_ID,STNNBR,CASTNO,SAMPNO,BTLNBR,BTLNBR_FLAG_W,DATE,TIME,LATITUDE,LONGITUDE,DEPTH,CTDPRS,CTDTMP,CTDSAL,CTDSAL_FLAG_W,SALNTY,SALNTY_FLAG_W,CTDOXY,CTDOXY_FLAG_W,OXYGEN,OXYGEN_FLAG_W,SILCAT,SILCAT_FLAG_W,NITRAT,NITRAT_FLAG_W,NITRIT,NITRIT_FLAG_W,PHSPHT,PHSPHT_FLAG_W,CFC-11,CFC-11_FLAG_W,CFC-12,CFC-12_FLAG_W,CFC113,CFC113_FLAG_W,TCARBN,TCARBN_FLAG_W,ALKALI,ALKALI_FLAG_W,PCO2,PCO2_FLAG_W,PCO2TMP,PH_SWS,PH_SWS_FLAG_W,PH_TMP,TRITUM,TRITUM_FLAG_W,TRITER,HELIUM,HELIUM_FLAG_W,DELHE3,DELHE3_FLAG_W,DELC13,DELC13_FLAG_W,DELC14,DELC14_FLAG_W,C14ERR,NEON,NEON_FLAG_W,NEONER,CCL4,CCL4_FLAG_W,DOC,DOC_FLAG_W,CTDRAW,CDOM325,CDOM325_FLAG_W,CDOM340,CDOM340_FLAG_W,CDOM380,CDOM380_FLAG_W,CDOM412,CDOM412_FLAG_W,CDOMSL,CDOMSL_FLAG_W,CDOMSN,CDOMSN_FLAG_W,THETA,HELIER,DELHER,CH3CL,CH3CL_FLAG_W,CH3BR,CH3BR_FLAG_W,CH3I,CH3I_FLAG_W
,,,,,,,,,,,METERS,DBAR,ITS-90,PSS-78,,PSS-78,,UMOL/KG,,UMOL/KG,,UMOL/KG,,UMOL/KG,,UMOL/KG,,UMOL/KG,,PMOL/KG,,PMOL/KG,,PMOL/KG,,UMOL/KG,,UMOL/KG,,UATM,,DEG C,,,DEG C,TU,,TU,NMOL/KG,,PERCNT,,/MILLE,,/MILLE,,/MILLE,NMOL/KG,,NMOL/KG,PMOL/KG,,UMOL/KG,,DBAR,1/M,,1/M,,1/M,,1/M,,1/NM,,1/NM,,DEG C,NMOL/KG,PERCNT,PMOL/KG,,PMOL/KG,,PMOL/KG,
 33RO200501,       A16S,      86,          1,          7,          7,2,20050211,       0440,   -19.4998,   -25.0002,       5244,  3847.9,   2.0661,  34.8573,2,  34.8585,2,    244.3,2,   245.3,2,   56.03,2,   23.23,2,    0.00,2,    1.55,2,-999.000,9,-999.000,9,-999.000,9,  -999.0,9,  -999.0,9,  -999.0,9,   20.00,-999.0000,9,    25.00,-999.000,9, -999.00,-999.000,9,-999.000,9, -999.00,9,  -999.0,9,  -999.0,-999.000,9,-999.000,-999.000,9, -999.00,9, 3847.90,-999.0000,9,-999.0000,9,-999.0000,9,-999.0000,9,-999.0000,9,-999.0000,9,   1.7471,     -999.0,-999.000,     -999.0,          9,     -999.0,          9,-999.000,          9
 33RO200501,       A16S,      86,          1,          6,          6,2,20050211,       0440,   -19.4998,   -25.0002,       5244,  4150.3,   1.5934,  34.8081,2,  34.8080,2,    237.4,2,   237.4,2,   75.54,2,   25.89,2,    0.00,2,    1.75,2,-999.000,9,-999.000,9,-999.000,9,  -999.0,9,  -999.0,9,  -999.0,9,   20.00,-999.0000,9,    25.00,-999.000,9, -999.00,-999.000,9,-999.000,9, -999.00,9,  -999.0,9,  -999.0,-999.000,9,-999.000,-999.000,9, -999.00,9, 4150.30,-999.0000,9,-999.0000,9,-999.0000,9,-999.0000,9,-999.0000,9,-999.0000,9,   1.2545,     -999.0,-999.000,      2.621,          2,      0.128,          2,   0.003,          2
 33RO200501,       A16S,      86,          1,          5,          5,2,20050211,       0440,   -19.4998,   -25.0002,       5244,  4446.4,   1.2302,  34.7687,2,  34.7720,3,    231.3,2,   231.5,2,   90.38,2,   27.86,2,    0.00,2,    1.91,2,-999.000,9,-999.000,9,-999.000,9,  -999.0,9,  -999.0,9,  -999.0,9,   20.00,-999.0000,9,    25.00,-999.000,9, -999.00,-999.000,9,-999.000,9, -999.00,9,  -999.0,9,  -999.0,-999.000,9,-999.000,-999.000,9, -999.00,9, 4446.40,-999.0000,9,-999.0000,9,-999.0000,9,-999.0000,9,-999.0000,9,-999.0000,9,   0.8691,     -999.0,-999.000,     -999.0,          9,     -999.0,          9,-999.000,          9
 33RO200501,       A16S,      86,          1,          4,          4,2,20050211,       0440,   -19.4998,   -25.0002,       5244,  4748.6,   0.9686,  34.7395,2,  34.7398,2,    227.0,2,   227.1,2,  101.42,6,   29.33,6,    0.00,6,    2.02,6,-999.000,9,-999.000,9,-999.000,9,  -999.0,9,  -999.0,9,  -999.0,9,   20.00,-999.0000,9,    25.00,-999.000,9, -999.00,-999.000,9,-999.000,9, -999.00,9,  -999.0,9,  -999.0,-999.000,9,-999.000,-999.000,9, -999.00,9, 4748.60,-999.0000,9,-999.0000,9,-999.0000,9,-999.0000,9,-999.0000,9,-999.0000,9,   0.5815,     -999.0,-999.000,      4.511,          2,      0.283,          2,   0.035,          2
 33RO200501,       A16S,      86,          1,          3,          3,2,20050211,       0440,   -19.4998,   -25.0002,       5244,  5050.3,   0.8599,  34.7251,2,  34.7252,2,    225.0,2,   225.5,2,  106.94,6,   30.07,6,    0.00,6,    2.08,6,   0.036,2,   0.026,2,   0.000,2,  2248.9,2,  2355.4,2,  -999.0,9,   20.00,   7.6336,2,    25.00,-999.000,9, -999.00,-999.000,9,-999.000,9, -999.00,9,  -999.0,9,  -999.0,-999.000,9,-999.000,   0.104,4, -999.00,9, 5050.30,-999.0000,9,-999.0000,9,-999.0000,9,-999.0000,9,-999.0000,9,-999.0000,9,   0.4411,     -999.0,-999.000,     -999.0,          9,     -999.0,          9,-999.000,          9
 33RO200501,       A16S,      86,          1,          2,          2,2,20050211,       0440,   -19.4998,   -25.0002,       5244,  5339.1,   0.7932,  34.7144,2,  34.7140,2,    223.8,2,   223.9,2,  110.98,6,   30.57,6,    0.00,6,    2.12,6,-999.000,9,-999.000,9,-999.000,9,  2252.6,2,  2356.6,2,  -999.0,9,   20.00,   7.6303,2,    25.00,-999.000,9, -999.00,-999.000,9,-999.000,9, -999.00,9,  -999.0,9,  -999.0,-999.000,9,-999.000,-999.000,9, -999.00,9, 5339.10,-999.0000,9,-999.0000,9,-999.0000,9,-999.0000,9,-999.0000,9,-999.0000,9,   0.3421,     -999.0,-999.000,      8.318,          2,      0.516,          2,   0.085,          2
 33RO200501,       A16S,      86,          1,          1,          1,2,20050211,       0440,   -19.4998,   -25.0002,       5244,  5550.4,   0.7716,  34.7092,2,  34.7091,2,    222.6,2,   223.1,2,  112.95,6,   30.81,6,    0.00,6,    2.14,6,   0.074,2,   0.045,2,   0.000,2,  2254.8,2,  2360.7,2,  -999.0,9,   20.00,   7.6247,2,    25.00,-999.000,9, -999.00,-999.000,9,-999.000,9, -999.00,9,  -999.0,9,  -999.0,-999.000,9,-999.000,   0.153,4, -999.00,9, 5550.40,-999.0000,9,-999.0000,9,-999.0000,9,-999.0000,9,-999.0000,9,-999.0000,9,   0.2953,     -999.0,-999.000,     -999.0,          9,     -999.0,          9,-999.000,          9