BOTTLE,20220818CCHSIOAMB
EXPOCODE,SECT_ID,STNNBR,CASTNO,SAMPNO,BTLNBR,BTLNBR_FLAG_W,DATE,TIME,LATITUDE,LONGITUDE,DEPTH,CTDPRS,CTDTMP,CTDSAL,CTDSAL_FLAG_W,SALNTY,SALNTY_FLAG_W,CTDOXY,CTDOXY_FLAG_W,OXYGEN,OXYGEN_FLAG_W,SILCAT,SILCAT_FLAG_W,NITRAT,NITRAT_FLAG_W,NITRIT,NITRIT_FLAG_W,PHSPHT,PHSPHT_FLAG_W,CFC-11,CFC-11_FLAG_W,CFC-12,CFC-12_FLAG_W,CFC113,CFC113_FLAG_W,TCARBN,TCARBN_FLAG_W,ALKALI,ALKALI_FLAG_W,PCO2,PCO2_FLAG_W,PCO2TMP,PH_SWS,PH_SWS_FLAG_W,PH_TMP,TRITUM,TRITUM_FLAG_W,TRITER,HELIUM,HELIUM_FLAG_W,DELHE3,DELHE3_FLAG_W,DELC13,DELC13_FLAG_W,DELC14,DELC14_FLAG_W,C14ERR,NEON,NEON_FLAG_W,NEONER,CCL4,CCL4_FLAG_W,DOC,DOC_FLAG_W,CTDRAW,CDOM325,CDOM325_FLAG_W,CDOM340,CDOM340_FLAG_W,CDOM380,CDOM380_FLAG_W,CDOM412,CDOM412_FLAG_W,CDOMSL,CDOMSL_FLAG_W,CDOMSN,CDOMSN_FLAG_W,THETA,HELIER,DELHER,CH3CL,CH3CL_FLAG_W,CH3BR,CH3BR_FLAG_W,CH3I,CH3I_FLAG_W
,,,,,,,,,,,METERS,DBAR,ITS-90,PSS-78,,PSS-78,,UMOL/KG,,UMOL/KG,,UMOL/KG,,UMOL/KG,,UMOL/KG,,UMOL/KG,,PMOL/KG,,PMOL/KG,,PMOL/KG,,UMOL/KG,,UMOL/KG,,UATM,,DEG C,,,DEG C,TU,,TU,NMOL/KG,,PERCNT,,/MILLE,,/MILLE,,/MILLE,NMOL/KG,,NMOL/KG,PMOL/KG,,UMOL/KG,,DBAR,1/M,,1/M,,1/M,,1/M,,1/NM,,1/NM,,DEG C,NMOL/KG,PERCNT,PMOL/KG,,PMOL/KG,,PMOL/KG,
 33RO200501,       A16S,     115,          1,         36,         36,2,20050219,       2303,    -5.0012,   -25.0013,       5734,     2.4,  27.9609,  36.1223,2,  36.1221,2,    198.6,2,   198.4,2,    1.31,2,    0.02,2,    0.00,2,    0.03,2,   1.588,6,   1.038,6,   0.129,6,  2033.0,6,  2369.4,2,  -999.0,9,   20.00,   8.0752,2,    25.00,-999.000,9, -999.00,-999.000,9,-999.000,9,    1.75,2,    54.4,2,     3.6,-999.000,9,-999.000,   1.347,4,   71.59,2,    2.40,-999.0000,9,-999.0000,9,-999.0000,9,-999.0000,9,-999.0000,9,-999.0000,9,  27.9604,     -999.0,-999.000,     -999.0,          9,     -999.0,          9,-999.000,          9
 33RO200501,       A16S,     115,          1,         35,         35,2,20050219,       2303,    -5.0012,   -25.0013,       5734,    24.1,  27.9743,  36.1214,2,  36.1229,2,    198.6,2,   198.3,2,    1.31,2,    0.02,2,    0.00,2,    0.03,2,   1.582,2,   1.040,2,   0.125,2,  2031.7,2,  2370.2,2,  -999.0,9,   20.00,   8.0749,6,    25.00,-999.000,9, -999.00,-999.000,9,-999.000,9, -999.00,9,  -999.0,9,  -999.0,-999.000,9,-999.000,   1.342,4,   70.87,2,   24.10,-999.0000,9,-999.0000,9,-999.0000,9,-999.0000,9,-999.0000,9,-999.0000,9,  27.9686,     -999.0,-999.000,     -999.0,          9,     -999.0,          9,-999.000,          9
 33RO200501,       A16S,     115,          1,         34,         34,2,20050219,       2303,    -5.0012,   -25.0013,       5734,    53.9,  26.8412,  36.3008,2,  36.2986,2,    206.1,2,   206.0,2,    1.51,2,    0.03,2,    0.00,2,    0.10,2,-999.000,9,-999.000,9,-999.000,9,  2049.2,2,  2382.6,2,  -999.0,9,   20.00,   8.0681,2,    25.00,-999.000,9, -999.00,-999.000,9,-999.000,9,    1.75,2,    61.4,2,     3.6,-999.000,9,-999.000,-999.000,9,   70.67,2,   53.90,-999.0000,9,-999.0000,9,-999.0000,9,-999.0000,9,-999.0000,9,-999.0000,9,  26.8288,     -999.0,-999.000,     -999.0,          9,     -999.0,          9,-999.000,          9
 33RO200501,       A16S,     115,          1,         33,         33,2,20050219,       2303,    -5.0012,   -25.0013,       5734,    84.4,  23.2006,  36.1773,2,  36.1918,2,    174.0,2,   175.5,2,    2.34,2,    2.12,2,    0.10,2,    0.35,2,   1.811,2,   1.127,2,   0.118,2,  2093.7,2,  2373.4,2,  -999.0,9,   20.00,   7.9835,2,    25.00,-999.000,9, -999.00,-999.000,9,-999.000,9, -999.00,9,  -999.0,9,  -999.0,-999.000,9,-999.000,   0.768,4, -999.00,9,   84.40,-999.0000,9,-999.0000,9,-999.0000,9,-999.0000,9,-999.0000,9,-999.0000,9,  23.1832,     -999.0,-999.000,     -999.0,          9,     -999.0,          9,-999.000,          9
 33RO200501,       A16S,     115,          1,         32,         32,2,20050219,       2303,    -5.0012,   -25.0013,       5734,   110.2,  18.8313,  35.9977,2,  35.9832,2,    131.0,2,   129.6,2,    4.27,2,   12.32,2,    0.07,2,    0.90,2,   1.953,2,   1.160,2,   0.083,2,  2155.5,2,  2358.1,2,  -999.0,9,   20.00,   7.8351,2,    25.00,-999.000,9, -999.00,-999.000,9,-999.000,9,    0.95,2,    56.1,2,     3.3,-999.000,9,-999.000,   0.407,4,   56.98,2,  110.20,-999.0000,9,-999.0000,9,-999.0000,9,-999.0000,9,-999.0000,9,-999.0000,9,  18.8117,     -999.0,-999.000,     -999.0,          9,     -999.0,          9,-999.000,          9
 33RO200501,       A16S,     115,          1,         31,         31,2,20050219,       2303,    -5.0012,   -25.0013,       5734,   164.3,  13.8102,  35.3729,2,  35.3785,2,    139.1,2,   135.2,2,    6.81,2,   17.69,2,    0.01,2,    1.16,2,   2.090,2,   1.174,2,   0.034,2,  2164.4,2,  2324.6,2,  -999.0,9,   20.00,   7.7510,2,    25.00,-999.000,9, -999.00,-999.000,9,-999.000,9,    0.82,2,    19.8,2,     3.3,-999.000,9,-999.000,   0.405,4, -999.00,9,  164.30,-999.0000,9,-999.0000,9,-999.0000,9,-999.0000,9,-999.0000,9,-999.0000,9,  13.7866,     -999.0,-999.000,     -999.0,          9,     -999.0,          9,-999.000,          9
 33RO200501,       A16S,     115,          1,         30,         30,2,20050219,       2303,    -5.0012,   -25.0013,       5734,   210.2,  11.2462,  35.0487,2,  35.0497,2,    117.3,2,   125.4,2,   10.23,2,   23.13,2,    0.01,2,    1.47,2,   1.752,2,   0.947,2,   0.025,2,  2181.3,2,  2309.8,2,  -999.0,9,   20.00,   7.6764,2,    25.00,-999.000,9, -999.00,-999.000,9,-999.000,9, -999.00,9,  -999.0,9,  -999.0,-999.000,9,-999.000,   0.447,4,   53.34,2,  210.20,-999.0000,9,-999.0000,9,-999.0000,9,-999.0000,9,-999.0000,9,-999.0000,9,  11.2199,     -999.0,-999.000,     -999.0,          9,     -999.0,          9,-999.000,          9
 33RO200501,       A16S,     115,          1,         29,         29,2,20050219,       2303,    -5.0012,   -25.0013,       5734,   263.5,  10.1230,  34.9175,2,  34.9191,2,    120.8,2,   117.6,2,   12.38,2,   26.27,2,    0.00,2,    1.64,2,-999.000,9,-999.000,9,-999.000,9,  2194.2,2,  2303.3,2,  -999.0,9,   20.00,   7.6276,2,    25.00,-999.000,9, -999.00,-999.000,9,-999.000,9,    0.70,2,   -17.8,2,     2.8,-999.000,9,-999.000,-999.000,9, -999.00,9,  263.50,-999.0000,9,-999.0000,9,-999.0000,9,-999.0000,9,-999.0000,9,-999.0000,9,  10.0921,     -999.0,-999.000,     -999.0,          9,     -999.0,          9,-999.000,          9
 33RO200501,       A16S,     115,          1,         28,         28,2,20050219,       2303,    -5.0012,   -25.0013,       5734,   314.1,   9.2879,  34.8303,2,  34.8304,2,    103.8,2,    97.0,2,   14.83,2,   30.31,2,    0.00,2,    1.86,2,   0.957,2,   0.511,2,   0.010,2,  2211.7,2,  2298.2,2,  -999.0,9,   20.00,   7.5675,2,    25.00,-999.000,9, -999.00,-999.000,9,-999.000,9, -999.00,9,  -999.0,9,  -999.0,-999.000,9,-999.000,   0.336,4,   47.72,2,  314.10,-999.0000,9,-999.0000,9,-999.0000,9,-999.0000,9,-999.0000,9,-999.0000,9,   9.2529,     -999.0,-999.000,     -999.0,          9,     -999.0,          9,-999.000,          9
 33RO200501,       A16S,     115,          1,         27,         27,2,20050219,       2303,    -5.0012,   -25.0013,       5734,   363.5,   8.5585,  34.7584,2,  34.7612,2,     94.2,2,    94.2,2,   16.59,2,   32.19,2,    0.00,2,    1.96,2,   0.742,2,   0.400,2,   0.012,2,  2217.3,2,  2298.1,2,  -999.0,9,   20.00,   7.5441,2,    25.00,-999.000,9, -999.00,-999.000,9,-999.000,9,    0.69,2,   -27.8,2,     3.3,-999.000,9,-999.000,   0.326,4,   44.07,2,  363.50,-999.0000,9,-999.0000,9,-999.0000,9,-999.0000,9,-999.0000,9,-999.0000,9,   8.5199,     -999.0,-999.000,     -999.0,          9,     -999.0,          9,-999.000,          9
 33RO200501,       A16S,     115,          1,         26,         26,2,20050219,       2303,    -5.0012,   -25.0013,       5734,   448.4,   7.3187,  34.6448,2,  34.6439,2,     96.3,2,   101.9,2,   20.13,2,   34.04,2,    0.00,2,    2.10,2,   0.523,2,   0.284,2,   0.002,2,  2230.5,2,  2293.9,2,  -999.0,9,   20.00,   7.5210,2,    25.00,-999.000,9, -999.00,-999.000,9,-999.000,9,    0.71,2,   -48.8,2,     3.2,-999.000,9,-999.000,   0.342,4,   43.01,2,  448.40,-999.0000,9,-999.0000,9,-999.0000,9,-999.0000,9,-999.0000,9,-999.0000,9,   7.2751,     -999.0,-999.000,     -999.0,          9,     -999.0,          9,-999.000,          9
 33RO200501,       A16S,     115,          1,         25,         25,2,20050219,       2303,    -5.0012,   -25.0013,       5734,   490.0,   6.7953,  34.5989,2,  34.6007,2,    103.4,2,   109.2,2,   21.58,2,   34.39,2,    0.00,2,    2.12,2,   0.437,2,   0.229,2,   0.014,2,  2219.3,2,  2289.3,2,  -999.0,9,   20.00,   7.5228,2,    25.00,-999.000,9, -999.00,-999.000,9,-999.000,9,    0.74,2,   -63.6,2,     3.2,-999.000,9,-999.000,   0.340,4,   42.36,2,  490.00,-999.0000,9,-999.0000,9,-999.0000,9,-999.0000,9,-999.0000,9,-999.0000,9,   6.7495,     -999.0,-999.000,     -999.0,          9,     -999.0,          9,-999.000,          9
 33RO200501,       A16S,     115,          1,         24,         24,2,20050219,       2303,    -5.0012,   -25.0013,       5734,   649.2,   5.5552,  34.5024,2,  34.5015,2,    136.0,2,   137.4,2,   26.18,2,   34.22,2,    0.00,2,    2.16,2,   0.333,2,   0.210,2,   0.007,2,  2216.6,2,  2291.6,2,  -999.0,9,   20.00,   7.5430,2,    25.00,-999.000,9, -999.00,-999.000,9,-999.000,9,    0.83,2,   -83.6,2,     3.3,-999.000,9,-999.000,   0.381,4,   41.14,2,  649.20,-999.0000,9,-999.0000,9,-999.0000,9,-999.0000,9,-999.0000,9,-999.0000,9,   5.5000,     -999.0,-999.000,     -999.0,          9,     -999.0,          9,-999.000,          9
 33RO200501,       A16S,     115,          1,         23,         23,2,20050219,       2303,    -5.0012,   -25.0013,       5734,   748.1,   4.9344,  34.4742,2,  34.4762,2,    149.7,2,   148.5,2,   29.49,2,   33.90,2,    0.00,2,    2.17,2,-999.000,9,-999.000,9,-999.000,9,  2232.1,4,  2293.0,2,  -999.0,9,   20.00,   7.5523,2,    25.00,-999.000,9, -999.00,-999.000,9,-999.000,9,    0.87,2,   -96.9,2,     3.2,-999.000,9,-999.000,-999.000,9,   40.05,2,  748.10,-999.0000,9,-999.0000,9,-999.0000,9,-999.0000,9,-999.0000,9,-999.0000,9,   4.8738,     -999.0,-999.000,     -999.0,          9,     -999.0,          9,-999.000,          9
 33RO200501,       A16S,     115,          1,         22,         22,2,20050219,       2303,    -5.0012,   -25.0013,       5734,   849.5,   4.4852,  34.4691,2,  34.4681,2,    160.9,2,   159.3,2,   32.57,2,   33.53,2,    0.00,2,    2.15,2,   0.233,2,   0.119,2,   0.009,2,  2214.1,2,  2297.1,2,  -999.0,9,   20.00,   7.5638,2,    25.00,-999.000,9, -999.00,-999.000,9,-999.000,9,    0.88,2,  -101.8,2,     3.2,-999.000,9,-999.000,   0.364,4,   39.11,2,  849.50,-999.0000,9,-999.0000,9,-999.0000,9,-999.0000,9,-999.0000,9,-999.0000,9,   4.4187,     -999.0,-999.000,     -999.0,          9,     -999.0,          9,-999.000,          9
 33RO200501,       A16S,     115,          1,         21,         21,2,20050219,       2303,    -5.0012,   -25.0013,       5734,   949.4,   4.2657,  34.5223,2,  34.5216,2,    161.3,2,   158.4,2,   34.35,2,   33.38,2,    0.00,2,    2.15,2,   0.084,2,   0.047,2,   0.000,2,  2217.8,6,  2301.3,2,  -999.0,9,   20.00,   7.5639,2,    25.00,-999.000,9, -999.00,-999.000,9,-999.000,9,    0.80,2,  -109.5,2,     3.5,-999.000,9,-999.000,   0.183,4,   38.90,2,  949.40,-999.0000,9,-999.0000,9,-999.0000,9,-999.0000,9,-999.0000,9,-999.0000,9,   4.1922,     -999.0,-999.000,     -999.0,          9,     -999.0,          9,-999.000,          9
 33RO200501,       A16S,     115,          1,         20,         20,2,20050219,       2303,    -5.0012,   -25.0013,       5734,  1049.2,   4.1455,  34.5990,2,  34.6005,2,    168.6,2,   167.9,2,   33.89,6,   31.73,6,    0.00,6,    2.06,6,   0.055,2,   0.031,2,   0.004,2,  2212.9,2,  2307.3,2,  -999.0,9,   20.00,   7.5842,2,    25.00,-999.000,9, -999.00,-999.000,9,-999.000,9,    0.84,2,  -108.0,2,     2.9,-999.000,9,-999.000,   0.134,4,   39.26,2, 1049.20,-999.0000,9,-999.0000,9,-999.0000,9,-999.0000,9,-999.0000,9,-999.0000,9,   4.0644,     -999.0,-999.000,     -999.0,          9,     -999.0,          9,-999.000,          9
 33RO200501,       A16S,     115,          1,         19,         19,2,20050219,       2303,    -5.0012,   -25.0013,       5734,  1148.7,   4.3330,  34.7537,2,  34.7513,2,    177.6,2,   175.7,2,   28.66,2,   29.04,2,    0.00,2,    1.86,2,   0.025,2,   0.015,2,   0.000,2,  2204.9,2,  2309.0,6,  -999.0,9,   20.00,   7.6133,6,    25.00,-999.000,9, -999.00,-999.000,9,-999.000,9,    0.88,2,  -102.5,2,     2.5,-999.000,9,-999.000,   0.074,4,   39.37,2, 1148.70,-999.0000,9,-999.0000,9,-999.0000,9,-999.0000,9,-999.0000,9,-999.0000,9,   4.2414,     -999.0,-999.000,     -999.0,          9,     -999.0,          9,-999.000,          9
 33RO200501,       A16S,     115,          1,         18,         18,2,20050219,       2303,    -5.0012,   -25.0013,       5734,  1299.9,   4.3993,  34.8751,2,  34.8777,2,    197.5,2,   198.6,2,   23.39,2,   25.24,2,    0.00,2,    1.59,2,   0.062,2,   0.036,2,   0.002,2,  2188.8,2,  2315.4,2,  -999.0,9,   20.00,   7.6602,2,    25.00,-999.000,9, -999.00,-999.000,9,-999.000,9,    0.97,2,   -90.0,2,     3.5,-999.000,9,-999.000,   0.157,4,   40.28,2, 1299.90,-999.0000,9,-999.0000,9,-999.0000,9,-999.0000,9,-999.0000,9,-999.0000,9,   4.2934,     -999.0,-999.000,     -999.0,          9,     -999.0,          9,-999.000,          9
 33RO200501,       A16S,     115,          1,         17,         17,2,20050219,       2303,    -5.0012,   -25.0013,       5734,  1499.8,   4.2672,  34.9512,2,  34.9527,2,    221.5,2,   223.0,2,   19.57,2,   21.90,2,    0.00,2,    1.37,2,   0.154,2,   0.083,2,   0.005,2,  2173.3,2,  2314.5,2,  -999.0,9,   20.00,   7.6996,2,    25.00,-999.000,9, -999.00,-999.000,9,-999.000,9,    1.07,2,   -79.2,2,     4.9,-999.000,9,-999.000,   0.326,4,   41.04,2, 1499.80,-999.0000,9,-999.0000,9,-999.0000,9,-999.0000,9,-999.0000,9,-999.0000,9,   4.1441,     -999.0,-999.000,     -999.0,          9,     -999.0,          9,-999.000,          9
 33RO200501,       A16S,     115,          1,         16,         16,2,20050219,       2303,    -5.0012,   -25.0013,       5734,  1698.5,   4.0128,  34.9715,2,  34.9714,2,    238.9,2,   238.4,2,   18.71,2,   20.34,2,    0.00,2,    1.27,2,   0.137,2,   0.075,2,   0.000,2,  2167.7,2,  2317.0,2,  -999.0,9,   20.00,   7.7197,2,    25.00,-999.000,9, -999.00,-999.000,9,-999.000,9, -999.00,9,  -999.0,9,  -999.0,-999.000,9,-999.000,   0.346,4,   40.74,2, 1698.50,-999.0000,9,-999.0000,9,-999.0000,9,-999.0000,9,-999.0000,9,-999.0000,9,   3.8741,     -999.0,-999.000,     -999.0,          9,     -999.0,          9,-999.000,          9
 33RO200501,       A16S,     115,          1,         15,         15,2,20050219,       2303,    -5.0012,   -25.0013,       5734,  1899.0,   3.6546,  34.9648,2,  34.9665,2,    245.5,2,   245.8,2,   20.84,2,   19.94,2,    0.00,2,    1.25,2,   0.079,2,   0.043,2,   0.003,2,  2166.1,2,  2314.7,2,  -999.0,9,   20.00,   7.7290,2,    25.00,-999.000,9, -999.00,-999.000,9,-999.000,9, -999.00,9,  -999.0,9,  -999.0,-999.000,9,-999.000,   0.248,4,   41.68,2, 1899.00,-999.0000,9,-999.0000,9,-999.0000,9,-999.0000,9,-999.0000,9,-999.0000,9,   3.5018,     -999.0,-999.000,     -999.0,          9,     -999.0,          9,-999.000,          9
 33RO200501,       A16S,     115,          1,         14,         14,2,20050219,       2303,    -5.0012,   -25.0013,       5734,  2097.8,   3.3574,  34.9531,2,  34.9545,2,    247.3,2,   246.7,2,   24.33,2,   20.07,2,    0.00,2,    1.27,2,   0.063,2,   0.030,2,   0.000,2,  2169.2,2,  2318.0,2,  -999.0,9,   20.00,   7.7337,2,    25.00,-999.000,9, -999.00,-999.000,9,-999.000,9, -999.00,9,  -999.0,9,  -999.0,-999.000,9,-999.000,   0.200,4,   41.71,2, 2097.80,-999.0000,9,-999.0000,9,-999.0000,9,-999.0000,9,-999.0000,9,-999.0000,9,   3.1902,     -999.0,-999.000,     -999.0,          9,     -999.0,          9,-999.000,          9
 33RO200501,       A16S,     115,          1,         13,         13,2,20050219,       2303,    -5.0012,   -25.0013,       5734,  2298.6,   3.1480,  34.9469,2,  34.9462,2,    250.1,2,   251.3,2,   25.98,2,   19.83,2,    0.00,2,    1.25,2,   0.091,2,   0.039,2,   0.006,2,  2169.6,3,  2319.7,2,  -999.0,9,   20.00,   7.7423,2,    25.00,-999.000,9, -999.00,-999.000,9,-999.000,9, -999.00,9,  -999.0,9,  -999.0,-999.000,9,-999.000,   0.239,4,   41.82,2, 2298.60,-999.0000,9,-999.0000,9,-999.0000,9,-999.0000,9,-999.0000,9,-999.0000,9,   2.9650,     -999.0,-999.000,     -999.0,          9,     -999.0,          9,-999.000,          9
 33RO200501,       A16S,     115,          1,         12,         12,2,20050219,       2303,    -5.0012,   -25.0013,       5734,  2499.9,   2.8893,  34.9220,2,  34.9221,2,    244.7,2,   243.5,2,   34.20,2,   21.24,2,    0.00,2,    1.36,2,-999.000,9,-999.000,9,-999.000,9,  2182.2,2,  2326.9,2,  -999.0,9,   20.00,   7.7251,2,    25.00,-999.000,9, -999.00,-999.000,9,-999.000,9, -999.00,9,  -999.0,9,  -999.0,-999.000,9,-999.000,-999.000,9,   41.08,2, 2499.90,-999.0000,9,-999.0000,9,-999.0000,9,-999.0000,9,-999.0000,9,-999.0000,9,   2.6915,     -999.0,-999.000,     -999.0,          9,     -999.0,          9,-999.000,          9
 33RO200501,       A16S,     115,          1,         11,         11,2,20050219,       2303,    -5.0012,   -25.0013,       5734,  2699.9,   2.7529,  34.9134,2,  34.9150,2,    242.9,2,   243.0,2,   36.99,2,   21.47,2,    0.00,2,    1.38,2,   0.007,2,   0.003,2,   0.000,2,  2185.4,2,  2328.9,2,  -999.0,9,   20.00,   7.7224,2,    25.00,-999.000,9, -999.00,-999.000,9,-999.000,9, -999.00,9,  -999.0,9,  -999.0,-999.000,9,-999.000,   0.038,4,   40.98,2, 2699.90,-999.0000,9,-999.0000,9,-999.0000,9,-999.0000,9,-999.0000,9,-999.0000,9,   2.5380,     -999.0,-999.000,     -999.0,          9,     -999.0,          9,-999.000,          9
 33RO200501,       A16S,     115,          1,         10,         10,2,20050219,       2303,    -5.0012,   -25.0013,       5734,  2946.5,   2.6915,  34.9197,2,  34.9198,2,    249.2,2,   250.4,2,   33.45,2,   20.41,2,    0.00,2,    1.31,2,   0.033,2,   0.019,2,   0.003,2,  2177.5,3,  2330.1,2,  -999.0,9,   20.00,   7.7315,2,    25.00,-999.000,9, -999.00,-999.000,9,-999.000,9, -999.00,9,  -999.0,9,  -999.0,-999.000,9,-999.000,   0.118,4,   40.81,2, 2946.50,-999.0000,9,-999.0000,9,-999.0000,9,-999.0000,9,-999.0000,9,-999.0000,9,   2.4529,     -999.0,-999.000,     -999.0,          9,     -999.0,          9,-999.000,          9
 33RO200501,       A16S,     115,          1,          9,          9,2,20050219,       2303,    -5.0012,   -25.0013,       5734,  3249.2,   2.6129,  34.9171,2,  34.9172,2,    253.3,2,   255.0,2,   32.79,2,   20.04,2,    0.00,2,    1.28,2,   0.043,2,   0.022,2,   0.011,2,  2176.8,2,  2328.3,2,  -999.0,9,   20.00,   7.7328,2,    25.00,-999.000,9, -999.00,-999.000,9,-999.000,9, -999.00,9,  -999.0,9,  -999.0,-999.000,9,-999.000,   0.164,4,   40.27,2, 3249.20,-999.0000,9,-999.0000,9,-999.0000,9,-999.0000,9,-999.0000,9,-999.0000,9,   2.3446,     -999.0,-999.000,     -999.0,          9,     -999.0,          9,-999.000,          9
 33RO200501,       A16S,     115,          1,          8,          8,2,20050219,       2303,    -5.0012,   -25.0013,       5734,  3549.1,   2.5113,  34.9107,2,  34.9109,2,    256.5,2,   258.2,2,   32.82,2,   19.70,2,    0.00,2,    1.26,2,   0.097,2,   0.048,2,   0.000,2,  2177.0,2,  2327.9,2,  -999.0,9,   20.00,   7.7359,2,    25.00,-999.000,9, -999.00,-999.000,9,-999.000,9, -999.00,9,  -999.0,9,  -999.0,-999.000,9,-999.000,   0.275,4,   39.37,2, 3549.10,-999.0000,9,-999.0000,9,-999.0000,9,-999.0000,9,-999.0000,9,-999.0000,9,   2.2133,     -999.0,-999.000,     -999.0,          9,     -999.0,          9,-999.000,          9