BOTTLE,20220818CCHSIOAMB
EXPOCODE,SECT_ID,STNNBR,CASTNO,SAMPNO,BTLNBR,BTLNBR_FLAG_W,DATE,TIME,LATITUDE,LONGITUDE,DEPTH,CTDPRS,CTDTMP,CTDSAL,CTDSAL_FLAG_W,SALNTY,SALNTY_FLAG_W,CTDOXY,CTDOXY_FLAG_W,OXYGEN,OXYGEN_FLAG_W,SILCAT,SILCAT_FLAG_W,NITRAT,NITRAT_FLAG_W,NITRIT,NITRIT_FLAG_W,PHSPHT,PHSPHT_FLAG_W,CFC-11,CFC-11_FLAG_W,CFC-12,CFC-12_FLAG_W,CFC113,CFC113_FLAG_W,TCARBN,TCARBN_FLAG_W,ALKALI,ALKALI_FLAG_W,PCO2,PCO2_FLAG_W,PCO2TMP,PH_SWS,PH_SWS_FLAG_W,PH_TMP,TRITUM,TRITUM_FLAG_W,TRITER,HELIUM,HELIUM_FLAG_W,DELHE3,DELHE3_FLAG_W,DELC13,DELC13_FLAG_W,DELC14,DELC14_FLAG_W,C14ERR,NEON,NEON_FLAG_W,NEONER,CCL4,CCL4_FLAG_W,DOC,DOC_FLAG_W,CTDRAW,CDOM325,CDOM325_FLAG_W,CDOM340,CDOM340_FLAG_W,CDOM380,CDOM380_FLAG_W,CDOM412,CDOM412_FLAG_W,CDOMSL,CDOMSL_FLAG_W,CDOMSN,CDOMSN_FLAG_W,THETA,HELIER,DELHER,CH3CL,CH3CL_FLAG_W,CH3BR,CH3BR_FLAG_W,CH3I,CH3I_FLAG_W
,,,,,,,,,,,METERS,DBAR,ITS-90,PSS-78,,PSS-78,,UMOL/KG,,UMOL/KG,,UMOL/KG,,UMOL/KG,,UMOL/KG,,UMOL/KG,,PMOL/KG,,PMOL/KG,,PMOL/KG,,UMOL/KG,,UMOL/KG,,UATM,,DEG C,,,DEG C,TU,,TU,NMOL/KG,,PERCNT,,/MILLE,,/MILLE,,/MILLE,NMOL/KG,,NMOL/KG,PMOL/KG,,UMOL/KG,,DBAR,1/M,,1/M,,1/M,,1/M,,1/NM,,1/NM,,DEG C,NMOL/KG,PERCNT,PMOL/KG,,PMOL/KG,,PMOL/KG,
 33RO200501,       A16S,     118,          1,         36,         36,2,20050220,       2034,    -3.5013,   -25.0010,       5515,     2.2,  28.1470,  35.9940,2,  35.9945,2,    191.1,2,   190.1,2,    1.43,2,    0.06,2,    0.00,2,    0.00,2,   1.587,2,   1.054,2,   0.117,2,  2022.9,6,  2357.0,6,  -999.0,9,   20.00,   8.0811,6,    25.00,-999.000,9, -999.00,-999.000,9,-999.000,9, -999.00,9,  -999.0,9,  -999.0,-999.000,9,-999.000,   1.311,4, -999.00,9,    2.20,-999.0000,9,-999.0000,9,-999.0000,9,-999.0000,9,-999.0000,9,-999.0000,9,  28.1465,     -999.0,-999.000,     84.736,          2,      0.906,          2,   2.377,          2
 33RO200501,       A16S,     118,          1,         35,         35,9,20050220,       2034,    -3.5013,   -25.0010,       5515,    23.5,  28.0009,  36.0043,2,-999.0000,9,   -999.0,9,  -999.0,9, -999.00,9, -999.00,9, -999.00,9, -999.00,9,-999.000,9,-999.000,9,-999.000,9,  -999.0,9,  -999.0,9,  -999.0,9,   20.00,-999.0000,9,    25.00,-999.000,9, -999.00,-999.000,9,-999.000,9, -999.00,9,  -999.0,9,  -999.0,-999.000,9,-999.000,-999.000,9, -999.00,9,   23.50,-999.0000,9,-999.0000,9,-999.0000,9,-999.0000,9,-999.0000,9,-999.0000,9,  27.9953,     -999.0,-999.000,     -999.0,          9,     -999.0,          9,-999.000,          9
 33RO200501,       A16S,     118,          1,         34,         34,2,20050220,       2034,    -3.5013,   -25.0010,       5515,    53.7,  24.9778,  36.1119,2,  36.1162,2,    198.6,2,   198.4,2,    2.12,2,    0.49,2,    0.02,2,    0.16,2,-999.000,9,-999.000,9,-999.000,9,  -999.0,9,  2369.0,2,  -999.0,9,   20.00,   8.0267,2,    25.00,-999.000,9, -999.00,-999.000,9,-999.000,9, -999.00,9,  -999.0,9,  -999.0,-999.000,9,-999.000,-999.000,9, -999.00,9,   53.70,-999.0000,9,-999.0000,9,-999.0000,9,-999.0000,9,-999.0000,9,-999.0000,9,  24.9661,     -999.0,-999.000,     -999.0,          9,     -999.0,          9,-999.000,          9
 33RO200501,       A16S,     118,          1,         33,         33,2,20050220,       2034,    -3.5013,   -25.0010,       5515,    74.5,  17.7756,  35.7294,2,  35.7069,2,    107.2,2,   105.9,2,    5.79,2,   16.88,2,    0.38,2,    1.13,2,   1.919,2,   1.123,2,   0.052,2,  -999.0,9,  -999.0,9,  -999.0,9,   20.00,-999.0000,9,    25.00,-999.000,9, -999.00,-999.000,9,-999.000,9, -999.00,9,  -999.0,9,  -999.0,-999.000,9,-999.000,   0.369,4, -999.00,9,   74.50,-999.0000,9,-999.0000,9,-999.0000,9,-999.0000,9,-999.0000,9,-999.0000,9,  17.7629,     -999.0,-999.000,     25.691,          2,      0.323,          2,   0.656,          2
 33RO200501,       A16S,     118,          1,         32,         32,2,20050220,       2034,    -3.5013,   -25.0010,       5515,    93.1,  14.9744,  35.5012,2,  35.4991,2,     87.4,2,    88.6,2,    7.58,2,   21.81,2,    0.08,2,    1.37,2,-999.000,9,-999.000,9,-999.000,9,  -999.0,9,  2328.2,2,  -999.0,9,   20.00,   7.6837,2,    25.00,-999.000,9, -999.00,-999.000,9,-999.000,9, -999.00,9,  -999.0,9,  -999.0,-999.000,9,-999.000,-999.000,9, -999.00,9,   93.10,-999.0000,9,-999.0000,9,-999.0000,9,-999.0000,9,-999.0000,9,-999.0000,9,  14.9603,     -999.0,-999.000,     -999.0,          9,     -999.0,          9,-999.000,          9
 33RO200501,       A16S,     118,          1,         31,         31,2,20050220,       2034,    -3.5013,   -25.0010,       5515,   114.1,  14.0285,  35.4059,2,  35.4076,2,     87.9,2,    87.6,2,    8.39,2,   23.03,2,    0.02,2,    1.43,2,-999.000,9,-999.000,9,-999.000,9,  -999.0,9,  -999.0,9,  -999.0,9,   20.00,-999.0000,9,    25.00,-999.000,9, -999.00,-999.000,9,-999.000,9, -999.00,9,  -999.0,9,  -999.0,-999.000,9,-999.000,-999.000,9, -999.00,9,  114.10,-999.0000,9,-999.0000,9,-999.0000,9,-999.0000,9,-999.0000,9,-999.0000,9,  14.0120,     -999.0,-999.000,     -999.0,          9,     -999.0,          9,-999.000,          9
 33RO200501,       A16S,     118,          1,         30,         30,2,20050220,       2034,    -3.5013,   -25.0010,       5515,   164.5,  13.3134,  35.3146,2,  35.3083,2,     92.6,2,    93.9,2,    9.21,2,   23.55,2,    0.01,2,    1.46,2,-999.000,9,-999.000,9,-999.000,9,  -999.0,9,  -999.0,9,  -999.0,9,   20.00,-999.0000,9,    25.00,-999.000,9, -999.00,-999.000,9,-999.000,9, -999.00,9,  -999.0,9,  -999.0,-999.000,9,-999.000,-999.000,9, -999.00,9,  164.50,-999.0000,9,-999.0000,9,-999.0000,9,-999.0000,9,-999.0000,9,-999.0000,9,  13.2904,     -999.0,-999.000,      7.388,          2,      0.322,          2,   0.080,          2
 33RO200501,       A16S,     118,          1,         29,         29,2,20050220,       2034,    -3.5013,   -25.0010,       5515,   213.7,  12.6972,  35.2337,2,  35.2303,2,     90.0,2,    94.2,2,    9.90,2,   24.43,2,    0.01,2,    1.50,2,-999.000,9,-999.000,9,-999.000,9,  -999.0,9,  2310.4,2,  -999.0,9,   20.00,   7.6499,2,    25.00,-999.000,9, -999.00,-999.000,9,-999.000,9, -999.00,9,  -999.0,9,  -999.0,-999.000,9,-999.000,-999.000,9, -999.00,9,  213.70,-999.0000,9,-999.0000,9,-999.0000,9,-999.0000,9,-999.0000,9,-999.0000,9,  12.6681,     -999.0,-999.000,     -999.0,          9,     -999.0,          9,-999.000,          9
 33RO200501,       A16S,     118,          1,         28,         28,2,20050220,       2034,    -3.5013,   -25.0010,       5515,   264.4,  12.1899,  35.1684,2,  35.1655,2,     88.5,2,   101.3,2,   10.32,2,   24.51,2,    0.00,2,    1.51,2,-999.000,9,-999.000,9,-999.000,9,  -999.0,9,  -999.0,9,  -999.0,9,   20.00,-999.0000,9,    25.00,-999.000,9, -999.00,-999.000,9,-999.000,9, -999.00,9,  -999.0,9,  -999.0,-999.000,9,-999.000,-999.000,9, -999.00,9,  264.40,-999.0000,9,-999.0000,9,-999.0000,9,-999.0000,9,-999.0000,9,-999.0000,9,  12.1549,     -999.0,-999.000,     -999.0,          9,     -999.0,          9,-999.000,          9
 33RO200501,       A16S,     118,          1,         27,         27,2,20050220,       2034,    -3.5013,   -25.0010,       5515,   311.6,  11.5267,  35.0882,2,  35.0867,2,     97.5,2,    93.0,2,   11.43,2,   26.55,2,    0.00,2,    1.62,2,   1.472,2,   0.809,2,   0.009,2,  -999.0,9,  -999.0,9,  -999.0,9,   20.00,-999.0000,9,    25.00,-999.000,9, -999.00,-999.000,9,-999.000,9, -999.00,9,  -999.0,9,  -999.0,-999.000,9,-999.000,   0.298,4, -999.00,9,  311.60,-999.0000,9,-999.0000,9,-999.0000,9,-999.0000,9,-999.0000,9,-999.0000,9,  11.4868,     -999.0,-999.000,     13.689,          2,      0.710,          2,   0.047,          2
 33RO200501,       A16S,     118,          1,         26,         26,2,20050220,       2034,    -3.5013,   -25.0010,       5515,   363.1,  10.6260,  34.9889,2,  34.9920,2,     77.8,2,    72.7,2,   13.52,2,   30.52,2,    0.00,2,    1.82,2,-999.000,9,-999.000,9,-999.000,9,  -999.0,9,  2302.4,2,  -999.0,9,   20.00,   7.5537,2,    25.00,-999.000,9, -999.00,-999.000,9,-999.000,9, -999.00,9,  -999.0,9,  -999.0,-999.000,9,-999.000,-999.000,9, -999.00,9,  363.10,-999.0000,9,-999.0000,9,-999.0000,9,-999.0000,9,-999.0000,9,-999.0000,9,  10.5819,     -999.0,-999.000,     -999.0,          9,     -999.0,          9,-999.000,          9
 33RO200501,       A16S,     118,          1,         25,         25,2,20050220,       2034,    -3.5013,   -25.0010,       5515,   444.6,   8.9439,  34.8103,2,  34.8111,2,     72.1,2,    72.7,2,   16.79,2,   33.81,2,    0.00,2,    2.03,2,-999.000,9,-999.000,9,-999.000,9,  -999.0,9,  -999.0,9,  -999.0,9,   20.00,-999.0000,9,    25.00,-999.000,9, -999.00,-999.000,9,-999.000,9, -999.00,9,  -999.0,9,  -999.0,-999.000,9,-999.000,-999.000,9, -999.00,9,  444.60,-999.0000,9,-999.0000,9,-999.0000,9,-999.0000,9,-999.0000,9,-999.0000,9,   8.8952,     -999.0,-999.000,     -999.0,          9,     -999.0,          9,-999.000,          9
 33RO200501,       A16S,     118,          1,         24,         24,2,20050220,       2034,    -3.5013,   -25.0010,       5515,   548.5,   6.8059,  34.6009,2,  34.5990,2,    110.6,2,   110.2,2,   21.92,2,   34.45,2,    0.00,2,    2.14,2,   0.463,2,   0.246,2,   0.007,2,  -999.0,9,  -999.0,9,  -999.0,9,   20.00,-999.0000,9,    25.00,-999.000,9, -999.00,-999.000,9,-999.000,9, -999.00,9,  -999.0,9,  -999.0,-999.000,9,-999.000,   0.356,4, -999.00,9,  548.50,-999.0000,9,-999.0000,9,-999.0000,9,-999.0000,9,-999.0000,9,-999.0000,9,   6.7543,     -999.0,-999.000,      7.118,          2,      0.680,          2,   0.050,          2
 33RO200501,       A16S,     118,          1,         23,         23,2,20050220,       2034,    -3.5013,   -25.0010,       5515,   649.9,   5.4789,  34.4976,2,  34.4969,2,    141.8,2,   137.4,2,   26.76,2,   34.49,2,    0.00,2,    2.18,2,-999.000,9,-999.000,9,-999.000,9,  -999.0,9,  2290.1,2,  -999.0,9,   20.00,   7.5462,2,    25.00,-999.000,9, -999.00,-999.000,9,-999.000,9, -999.00,9,  -999.0,9,  -999.0,-999.000,9,-999.000,-999.000,9, -999.00,9,  649.90,-999.0000,9,-999.0000,9,-999.0000,9,-999.0000,9,-999.0000,9,-999.0000,9,   5.4240,     -999.0,-999.000,     -999.0,          9,     -999.0,          9,-999.000,          9
 33RO200501,       A16S,     118,          1,         22,         22,2,20050220,       2034,    -3.5013,   -25.0010,       5515,   749.8,   4.8602,  34.4733,2,  34.4726,2,    154.8,2,   152.3,2,   30.34,2,   34.09,2,    0.00,2,    2.17,2,-999.000,9,-999.000,9,-999.000,9,  -999.0,9,  -999.0,9,  -999.0,9,   20.00,-999.0000,9,    25.00,-999.000,9, -999.00,-999.000,9,-999.000,9, -999.00,9,  -999.0,9,  -999.0,-999.000,9,-999.000,-999.000,9, -999.00,9,  749.80,-999.0000,9,-999.0000,9,-999.0000,9,-999.0000,9,-999.0000,9,-999.0000,9,   4.7999,     -999.0,-999.000,     -999.0,          9,     -999.0,          9,-999.000,          9
 33RO200501,       A16S,     118,          1,         21,         21,2,20050220,       2034,    -3.5013,   -25.0010,       5515,   845.7,   4.4407,  34.4921,2,  34.4912,2,    165.5,2,   161.4,2,   33.15,2,   33.47,2,    0.00,2,    2.15,2,-999.000,9,-999.000,9,-999.000,9,  -999.0,9,  -999.0,9,  -999.0,9,   20.00,-999.0000,9,    25.00,-999.000,9, -999.00,-999.000,9,-999.000,9, -999.00,9,  -999.0,9,  -999.0,-999.000,9,-999.000,-999.000,9, -999.00,9,  845.70,-999.0000,9,-999.0000,9,-999.0000,9,-999.0000,9,-999.0000,9,-999.0000,9,   4.3748,     -999.0,-999.000,      3.963,          2,      0.363,          2,   0.022,          2
 33RO200501,       A16S,     118,          1,         20,         20,2,20050220,       2034,    -3.5013,   -25.0010,       5515,   947.5,   4.1460,  34.5490,2,  34.5480,2,    168.9,2,   167.0,2,   34.99,6,   32.65,6,    0.00,6,    2.11,6,   0.101,2,   0.055,2,   0.007,2,  -999.0,9,  2307.1,2,  -999.0,9,   20.00,   7.5810,2,    25.00,-999.000,9, -999.00,-999.000,9,-999.000,9, -999.00,9,  -999.0,9,  -999.0,-999.000,9,-999.000,   0.207,4, -999.00,9,  947.50,-999.0000,9,-999.0000,9,-999.0000,9,-999.0000,9,-999.0000,9,-999.0000,9,   4.0735,     -999.0,-999.000,     -999.0,          9,     -999.0,          9,-999.000,          9
 33RO200501,       A16S,     118,          1,         19,         19,2,20050220,       2034,    -3.5013,   -25.0010,       5515,  1100.1,   4.4732,  34.7341,2,  34.7362,2,    170.7,2,   171.4,2,   28.77,2,   29.75,2,    0.00,2,    1.90,2,-999.000,9,-999.000,9,-999.000,9,  -999.0,9,  -999.0,9,  -999.0,9,   20.00,-999.0000,9,    25.00,-999.000,9, -999.00,-999.000,9,-999.000,9, -999.00,9,  -999.0,9,  -999.0,-999.000,9,-999.000,-999.000,9, -999.00,9, 1100.10,-999.0000,9,-999.0000,9,-999.0000,9,-999.0000,9,-999.0000,9,-999.0000,9,   4.3848,     -999.0,-999.000,     -999.0,          9,     -999.0,          9,-999.000,          9
 33RO200501,       A16S,     118,          1,         18,         18,2,20050220,       2034,    -3.5013,   -25.0010,       5515,  1298.8,   4.3503,  34.8484,2,  34.8495,2,    192.0,2,   193.1,2,   25.08,2,   26.30,2,    0.00,2,    1.67,2,   0.037,2,   0.022,2,   0.007,2,  -999.0,9,  -999.0,9,  -999.0,9,   20.00,-999.0000,9,    25.00,-999.000,9, -999.00,-999.000,9,-999.000,9, -999.00,9,  -999.0,9,  -999.0,-999.000,9,-999.000,   0.109,4, -999.00,9, 1298.80,-999.0000,9,-999.0000,9,-999.0000,9,-999.0000,9,-999.0000,9,-999.0000,9,   4.2449,     -999.0,-999.000,      5.502,          2,      0.214,          2,   0.013,          2
 33RO200501,       A16S,     118,          1,         17,         17,2,20050220,       2034,    -3.5013,   -25.0010,       5515,  1498.5,   4.2348,  34.9656,2,  34.9671,2,    228.5,2,   230.1,2,   18.82,2,   21.27,2,    0.00,2,    1.32,2,-999.000,9,-999.000,9,-999.000,9,  -999.0,9,  2310.8,2,  -999.0,9,   20.00,   7.7112,2,    25.00,-999.000,9, -999.00,-999.000,9,-999.000,9, -999.00,9,  -999.0,9,  -999.0,-999.000,9,-999.000,-999.000,9, -999.00,9, 1498.50,-999.0000,9,-999.0000,9,-999.0000,9,-999.0000,9,-999.0000,9,-999.0000,9,   4.1121,     -999.0,-999.000,     -999.0,          9,     -999.0,          9,-999.000,          9
 33RO200501,       A16S,     118,          1,         16,         16,2,20050220,       2034,    -3.5013,   -25.0010,       5515,  1699.7,   3.9193,  34.9767,2,  34.9772,2,    243.6,2,   244.3,2,   18.44,2,   19.89,2,    0.00,2,    1.23,2,-999.000,9,-999.000,9,-999.000,9,  -999.0,9,  -999.0,9,  -999.0,9,   20.00,-999.0000,9,    25.00,-999.000,9, -999.00,-999.000,9,-999.000,9, -999.00,9,  -999.0,9,  -999.0,-999.000,9,-999.000,-999.000,9, -999.00,9, 1699.70,-999.0000,9,-999.0000,9,-999.0000,9,-999.0000,9,-999.0000,9,-999.0000,9,   3.7816,     -999.0,-999.000,      8.991,          2,      0.748,          2,   0.036,          2
 33RO200501,       A16S,     118,          1,         15,         15,2,20050220,       2034,    -3.5013,   -25.0010,       5515,  1898.5,   3.5899,  34.9701,2,  34.9701,2,    250.1,2,   250.3,2,   20.41,2,   19.46,2,    0.00,2,    1.22,2,-999.000,9,-999.000,9,-999.000,9,  -999.0,9,  -999.0,9,  -999.0,9,   20.00,-999.0000,9,    25.00,-999.000,9, -999.00,-999.000,9,-999.000,9, -999.00,9,  -999.0,9,  -999.0,-999.000,9,-999.000,-999.000,9, -999.00,9, 1898.50,-999.0000,9,-999.0000,9,-999.0000,9,-999.0000,9,-999.0000,9,-999.0000,9,   3.4380,     -999.0,-999.000,     -999.0,          9,     -999.0,          9,-999.000,          9
 33RO200501,       A16S,     118,          1,         14,         14,2,20050220,       2034,    -3.5013,   -25.0010,       5515,  2099.9,   3.3709,  34.9543,2,  34.9538,2,    246.5,2,   249.0,2,   25.18,2,   20.25,2,    0.00,2,    1.28,2,   0.062,2,   0.033,2,   0.000,2,  -999.0,9,  -999.0,9,  -999.0,9,   20.00,-999.0000,9,    25.00,-999.000,9, -999.00,-999.000,9,-999.000,9, -999.00,9,  -999.0,9,  -999.0,-999.000,9,-999.000,   0.199,4, -999.00,9, 2099.90,-999.0000,9,-999.0000,9,-999.0000,9,-999.0000,9,-999.0000,9,-999.0000,9,   3.2033,     -999.0,-999.000,     13.380,          2,      0.638,          2,   0.034,          2
 33RO200501,       A16S,     118,          1,         13,         13,2,20050220,       2034,    -3.5013,   -25.0010,       5515,  2298.3,   3.1546,  34.9433,2,  34.9434,2,    246.8,2,   247.9,2,   28.19,2,   20.45,2,    0.00,2,    1.30,2,-999.000,9,-999.000,9,-999.000,9,  -999.0,9,  2323.5,2,  -999.0,9,   20.00,   7.7160,2,    25.00,-999.000,9, -999.00,-999.000,9,-999.000,9, -999.00,9,  -999.0,9,  -999.0,-999.000,9,-999.000,-999.000,9, -999.00,9, 2298.30,-999.0000,9,-999.0000,9,-999.0000,9,-999.0000,9,-999.0000,9,-999.0000,9,   2.9716,     -999.0,-999.000,     -999.0,          9,     -999.0,          9,-999.000,          9
 33RO200501,       A16S,     118,          1,         12,         12,2,20050220,       2034,    -3.5013,   -25.0010,       5515,  2494.9,   2.9662,  34.9275,2,  34.9276,2,    243.8,2,   244.1,2,   33.20,2,   21.20,2,    0.00,2,    1.36,2,   0.014,2,   0.010,2,   0.000,2,  -999.0,9,  -999.0,9,  -999.0,9,   20.00,-999.0000,9,    25.00,-999.000,9, -999.00,-999.000,9,-999.000,9, -999.00,9,  -999.0,9,  -999.0,-999.000,9,-999.000,   0.080,4, -999.00,9, 2494.90,-999.0000,9,-999.0000,9,-999.0000,9,-999.0000,9,-999.0000,9,-999.0000,9,   2.7674,     -999.0,-999.000,     -999.0,          9,     -999.0,          9,-999.000,          9
 33RO200501,       A16S,     118,          1,         11,         11,2,20050220,       2034,    -3.5013,   -25.0010,       5515,  2698.7,   2.7913,  34.9169,2,  34.9164,2,    242.7,2,   243.0,2,   36.78,2,   21.47,2,    0.00,2,    1.38,2,-999.000,9,-999.000,9,-999.000,9,  -999.0,9,  -999.0,9,  -999.0,9,   20.00,-999.0000,9,    25.00,-999.000,9, -999.00,-999.000,9,-999.000,9, -999.00,9,  -999.0,9,  -999.0,-999.000,9,-999.000,-999.000,9, -999.00,9, 2698.70,-999.0000,9,-999.0000,9,-999.0000,9,-999.0000,9,-999.0000,9,-999.0000,9,   2.5758,     -999.0,-999.000,     -999.0,          9,     -999.0,          9,-999.000,          9
 33RO200501,       A16S,     118,          1,         10,         10,2,20050220,       2034,    -3.5013,   -25.0010,       5515,  2949.6,   2.6670,  34.9100,2,  34.9100,2,    243.8,2,   243.8,2,   38.91,2,   21.65,2,    0.00,2,    1.39,2,   0.007,2,   0.002,2,   0.003,2,  -999.0,9,  -999.0,9,  -999.0,9,   20.00,-999.0000,9,    25.00,-999.000,9, -999.00,-999.000,9,-999.000,9, -999.00,9,  -999.0,9,  -999.0,-999.000,9,-999.000,   0.053,4, -999.00,9, 2949.60,-999.0000,9,-999.0000,9,-999.0000,9,-999.0000,9,-999.0000,9,-999.0000,9,   2.4287,     -999.0,-999.000,      5.936,          2,      0.549,          2,   0.041,          2
 33RO200501,       A16S,     118,          1,          9,          9,2,20050220,       2034,    -3.5013,   -25.0010,       5515,  3249.2,   2.5902,  34.9094,2,  34.9090,2,    248.1,2,   249.1,2,   37.55,2,   21.10,2,    0.00,2,    1.36,2,-999.000,9,-999.000,9,-999.000,9,  -999.0,9,  2336.9,2,  -999.0,9,   20.00,   7.7216,2,    25.00,-999.000,9, -999.00,-999.000,9,-999.000,9, -999.00,9,  -999.0,9,  -999.0,-999.000,9,-999.000,-999.000,9, -999.00,9, 3249.20,-999.0000,9,-999.0000,9,-999.0000,9,-999.0000,9,-999.0000,9,-999.0000,9,   2.3225,     -999.0,-999.000,     -999.0,          9,     -999.0,          9,-999.000,          9
 33RO200501,       A16S,     118,          1,          8,          8,2,20050220,       2034,    -3.5013,   -25.0010,       5515,  3550.2,   2.5135,  34.9088,2,  34.9080,2,    255.2,2,   255.6,2,   34.86,2,   20.17,2,    0.00,2,    1.30,2,-999.000,9,-999.000,9,-999.000,9,  -999.0,9,  -999.0,9,  -999.0,9,   20.00,-999.0000,9,    25.00,-999.000,9, -999.00,-999.000,9,-999.000,9, -999.00,9,  -999.0,9,  -999.0,-999.000,9,-999.000,-999.000,9, -999.00,9, 3550.20,-999.0000,9,-999.0000,9,-999.0000,9,-999.0000,9,-999.0000,9,-999.0000,9,   2.2153,     -999.0,-999.000,     -999.0,          9,     -999.0,          9,-999.000,          9