BOTTLE,20220818CCHSIOAMB
EXPOCODE,SECT_ID,STNNBR,CASTNO,SAMPNO,BTLNBR,BTLNBR_FLAG_W,DATE,TIME,LATITUDE,LONGITUDE,DEPTH,CTDPRS,CTDTMP,CTDSAL,CTDSAL_FLAG_W,SALNTY,SALNTY_FLAG_W,CTDOXY,CTDOXY_FLAG_W,OXYGEN,OXYGEN_FLAG_W,SILCAT,SILCAT_FLAG_W,NITRAT,NITRAT_FLAG_W,NITRIT,NITRIT_FLAG_W,PHSPHT,PHSPHT_FLAG_W,CFC-11,CFC-11_FLAG_W,CFC-12,CFC-12_FLAG_W,CFC113,CFC113_FLAG_W,TCARBN,TCARBN_FLAG_W,ALKALI,ALKALI_FLAG_W,PCO2,PCO2_FLAG_W,PCO2TMP,PH_SWS,PH_SWS_FLAG_W,PH_TMP,TRITUM,TRITUM_FLAG_W,TRITER,HELIUM,HELIUM_FLAG_W,DELHE3,DELHE3_FLAG_W,DELC13,DELC13_FLAG_W,DELC14,DELC14_FLAG_W,C14ERR,NEON,NEON_FLAG_W,NEONER,CCL4,CCL4_FLAG_W,DOC,DOC_FLAG_W,CTDRAW,CDOM325,CDOM325_FLAG_W,CDOM340,CDOM340_FLAG_W,CDOM380,CDOM380_FLAG_W,CDOM412,CDOM412_FLAG_W,CDOMSL,CDOMSL_FLAG_W,CDOMSN,CDOMSN_FLAG_W,THETA,HELIER,DELHER,CH3CL,CH3CL_FLAG_W,CH3BR,CH3BR_FLAG_W,CH3I,CH3I_FLAG_W
,,,,,,,,,,,METERS,DBAR,ITS-90,PSS-78,,PSS-78,,UMOL/KG,,UMOL/KG,,UMOL/KG,,UMOL/KG,,UMOL/KG,,UMOL/KG,,PMOL/KG,,PMOL/KG,,PMOL/KG,,UMOL/KG,,UMOL/KG,,UATM,,DEG C,,,DEG C,TU,,TU,NMOL/KG,,PERCNT,,/MILLE,,/MILLE,,/MILLE,NMOL/KG,,NMOL/KG,PMOL/KG,,UMOL/KG,,DBAR,1/M,,1/M,,1/M,,1/M,,1/NM,,1/NM,,DEG C,NMOL/KG,PERCNT,PMOL/KG,,PMOL/KG,,PMOL/KG,
 33RO200501,       A16S,      31,          1,          7,          7,2,20050125,       0545,   -47.0003,   -32.1323,       5307,  3352.7,   0.6932,  34.6993,2,  34.6988,2,    211.3,2,   211.2,2,  116.85,2,   31.98,2,    0.00,2,    2.24,2,   0.230,2,   0.119,2,   0.014,2,  2257.7,2,  2361.1,2,  -999.0,9,   20.00,   7.6025,3,    25.00,-999.000,9, -999.00,-999.000,9,-999.000,9, -999.00,9,  -999.0,9,  -999.0,-999.000,9,-999.000,   0.323,3,   39.81,2, 3352.70,-999.0000,9,-999.0000,9,-999.0000,9,-999.0000,9,-999.0000,9,-999.0000,9,   0.4615,     -999.0,-999.000,     -999.0,          9,     -999.0,          9,-999.000,          9
 33RO200501,       A16S,      31,          1,          6,          6,2,20050125,       0545,   -47.0003,   -32.1323,       5307,  3601.6,   0.5283,  34.6897,2,  34.6906,2,    214.6,2,   214.3,2,  119.66,2,   32.11,2,    0.00,2,    2.27,2,   0.277,2,   0.139,2,   0.013,2,  2259.1,2,  2362.2,2,  -999.0,9,   20.00,   7.6168,2,    25.00,-999.000,9, -999.00,-999.000,9,-999.000,9, -999.00,9,  -999.0,9,  -999.0,-999.000,9,-999.000,   0.384,3, -999.00,9, 3601.60,-999.0000,9,-999.0000,9,-999.0000,9,-999.0000,9,-999.0000,9,-999.0000,9,   0.2769,     -999.0,-999.000,     -999.0,          9,     -999.0,          9,-999.000,          9
 33RO200501,       A16S,      31,          1,          5,          5,2,20050125,       0545,   -47.0003,   -32.1323,       5307,  3819.2,   0.4182,  34.6844,2,  34.6841,2,    217.3,2,   216.8,2,  121.56,2,   32.17,2,    0.00,2,    2.27,2,   0.248,2,   0.123,2,   0.010,2,  2259.9,2,  2359.0,2,  -999.0,9,   20.00,   7.6096,2,    25.00,-999.000,9, -999.00,-999.000,9,-999.000,9, -999.00,9,  -999.0,9,  -999.0,-999.000,9,-999.000,   0.379,3,   39.22,2, 3819.20,-999.0000,9,-999.0000,9,-999.0000,9,-999.0000,9,-999.0000,9,-999.0000,9,   0.1483,     -999.0,-999.000,     -999.0,          9,     -999.0,          9,-999.000,          9
 33RO200501,       A16S,      31,          1,          4,          4,2,20050125,       0545,   -47.0003,   -32.1323,       5307,  4216.3,   0.2798,  34.6766,2,  34.6764,2,    220.7,2,   220.8,2,  124.91,6,   32.37,6,    0.00,6,    2.28,6,   0.270,2,   0.137,2,   0.011,2,  2260.0,2,  2359.2,2,  -999.0,9,   20.00,   7.6374,3,    25.00,-999.000,9, -999.00,-999.000,9,-999.000,9, -999.00,9,  -999.0,9,  -999.0,-999.000,9,-999.000,   0.417,3, -999.00,9, 4216.30,   0.1610,2,   0.1210,2,   0.0590,2,   0.0390,2,   0.0163,2,   0.0172,2,  -0.0267,     -999.0,-999.000,     -999.0,          9,     -999.0,          9,-999.000,          9
 33RO200501,       A16S,      31,          1,          3,          3,2,20050125,       0545,   -47.0003,   -32.1323,       5307,  4543.6,   0.2442,  34.6735,2,  34.6751,3,    222.3,2,   221.8,2,  126.70,6,   32.51,6,    0.00,6,    2.29,6,   0.298,6,   0.153,6,   0.013,6,  2261.1,2,  2364.2,2,  -999.0,9,   20.00,   7.6133,2,    25.00,-999.000,9, -999.00,-999.000,9,-999.000,9, -999.00,9,  -999.0,9,  -999.0,-999.000,9,-999.000,   0.433,3,   39.60,2, 4543.60,-999.0000,9,-999.0000,9,-999.0000,9,-999.0000,9,-999.0000,9,-999.0000,9,  -0.0960,     -999.0,-999.000,     -999.0,          9,     -999.0,          9,-999.000,          9
 33RO200501,       A16S,      31,          1,          2,          2,2,20050125,       0545,   -47.0003,   -32.1323,       5307,  4897.9,   0.2198,  34.6704,2,  34.6704,2,    223.9,2,   224.6,2,  128.10,6,   32.57,6,    0.00,6,    2.31,6,   0.372,2,   0.186,2,   0.017,2,  2260.9,2,  2363.9,6,  -999.0,9,   20.00,   7.6114,6,    25.00,-999.000,9, -999.00,-999.000,9,-999.000,9, -999.00,9,  -999.0,9,  -999.0,-999.000,9,-999.000,   0.512,3,   39.74,2, 4897.90,-999.0000,9,-999.0000,9,-999.0000,9,-999.0000,9,-999.0000,9,-999.0000,9,  -0.1590,     -999.0,-999.000,     -999.0,          9,     -999.0,          9,-999.000,          9
 33RO200501,       A16S,      31,          1,          1,          1,2,20050125,       0545,   -47.0003,   -32.1323,       5307,  5263.1,   0.1985,  34.6673,2,  34.6688,3,    226.7,2,   226.0,2,  128.07,6,   32.49,6,    0.01,6,    2.31,6,   0.484,2,   0.241,2,   0.019,2,  2261.0,6,  2361.2,2,  -999.0,9,   20.00,   7.6247,2,    25.00,-999.000,9, -999.00,-999.000,9,-999.000,9, -999.00,9,  -999.0,9,  -999.0,-999.000,9,-999.000,   0.604,3,   39.61,2, 5263.10,   0.1880,2,   0.1440,2,   0.0710,2,   0.0470,2,   0.0158,2,   0.0166,2,  -0.2217,     -999.0,-999.000,     -999.0,          9,     -999.0,          9,-999.000,          9