BOTTLE,20220818CCHSIOAMB
EXPOCODE,SECT_ID,STNNBR,CASTNO,SAMPNO,BTLNBR,BTLNBR_FLAG_W,DATE,TIME,LATITUDE,LONGITUDE,DEPTH,CTDPRS,CTDTMP,CTDSAL,CTDSAL_FLAG_W,SALNTY,SALNTY_FLAG_W,CTDOXY,CTDOXY_FLAG_W,OXYGEN,OXYGEN_FLAG_W,SILCAT,SILCAT_FLAG_W,NITRAT,NITRAT_FLAG_W,NITRIT,NITRIT_FLAG_W,PHSPHT,PHSPHT_FLAG_W,CFC-11,CFC-11_FLAG_W,CFC-12,CFC-12_FLAG_W,CFC113,CFC113_FLAG_W,TCARBN,TCARBN_FLAG_W,ALKALI,ALKALI_FLAG_W,PCO2,PCO2_FLAG_W,PCO2TMP,PH_SWS,PH_SWS_FLAG_W,PH_TMP,TRITUM,TRITUM_FLAG_W,TRITER,HELIUM,HELIUM_FLAG_W,DELHE3,DELHE3_FLAG_W,DELC13,DELC13_FLAG_W,DELC14,DELC14_FLAG_W,C14ERR,NEON,NEON_FLAG_W,NEONER,CCL4,CCL4_FLAG_W,DOC,DOC_FLAG_W,CTDRAW,CDOM325,CDOM325_FLAG_W,CDOM340,CDOM340_FLAG_W,CDOM380,CDOM380_FLAG_W,CDOM412,CDOM412_FLAG_W,CDOMSL,CDOMSL_FLAG_W,CDOMSN,CDOMSN_FLAG_W,THETA,HELIER,DELHER,CH3CL,CH3CL_FLAG_W,CH3BR,CH3BR_FLAG_W,CH3I,CH3I_FLAG_W
,,,,,,,,,,,METERS,DBAR,ITS-90,PSS-78,,PSS-78,,UMOL/KG,,UMOL/KG,,UMOL/KG,,UMOL/KG,,UMOL/KG,,UMOL/KG,,PMOL/KG,,PMOL/KG,,PMOL/KG,,UMOL/KG,,UMOL/KG,,UATM,,DEG C,,,DEG C,TU,,TU,NMOL/KG,,PERCNT,,/MILLE,,/MILLE,,/MILLE,NMOL/KG,,NMOL/KG,PMOL/KG,,UMOL/KG,,DBAR,1/M,,1/M,,1/M,,1/M,,1/NM,,1/NM,,DEG C,NMOL/KG,PERCNT,PMOL/KG,,PMOL/KG,,PMOL/KG,
 33RO200501,       A16S,      21,          1,         36,         36,2,20050122,       0122,   -52.0000,   -35.2335,       4493,     3.3,   3.9867,  33.7881,2,  33.7885,2,    332.4,2,   335.0,2,    0.84,2,   16.91,2,    0.26,2,    0.86,2,   5.372,2,   2.957,2,   0.487,2,  2096.1,6,  2287.4,6,   560.3,2,   20.00,   7.8446,6,    25.00,-999.000,9, -999.00,-999.000,9,-999.000,9, -999.00,9,  -999.0,9,  -999.0,-999.000,9,-999.000,   5.960,4,   51.76,2,    3.30,-999.0000,9,-999.0000,9,-999.0000,9,-999.0000,9,-999.0000,9,-999.0000,9,   3.9865,     -999.0,-999.000,     -999.0,          9,     -999.0,          9,-999.000,          9
 33RO200501,       A16S,      21,          1,         35,         35,2,20050122,       0122,   -52.0000,   -35.2335,       4493,    20.7,   3.9298,  33.7874,2,  33.7866,2,    330.4,2,   330.9,2,    0.99,2,   17.11,2,    0.26,2,    0.94,2,   5.448,2,   2.986,2,   0.493,2,  2100.1,2,  2288.5,2,   572.7,6,   20.00,   7.8377,2,    25.00,-999.000,9, -999.00,-999.000,9,-999.000,9, -999.00,9,  -999.0,9,  -999.0,-999.000,9,-999.000,   6.003,4,   51.15,2,   20.70,-999.0000,9,-999.0000,9,-999.0000,9,-999.0000,9,-999.0000,9,-999.0000,9,   3.9284,     -999.0,-999.000,     -999.0,          9,     -999.0,          9,-999.000,          9
 33RO200501,       A16S,      21,          1,         34,         34,2,20050122,       0122,   -52.0000,   -35.2335,       4493,    41.2,   3.7024,  33.7875,2,  33.7876,2,    321.2,2,   324.3,2,    1.35,2,   17.37,2,    0.26,2,    1.14,2,   5.433,2,   2.955,2,   0.502,2,  2109.3,2,  2287.7,2,   600.5,2,   20.00,   7.8258,2,    25.00,-999.000,9, -999.00,-999.000,9,-999.000,9, -999.00,9,  -999.0,9,  -999.0,-999.000,9,-999.000,   5.985,4, -999.00,9,   41.20,-999.0000,9,-999.0000,9,-999.0000,9,-999.0000,9,-999.0000,9,-999.0000,9,   3.6998,     -999.0,-999.000,     -999.0,          9,     -999.0,          9,-999.000,          9
 33RO200501,       A16S,      21,          1,         33,         33,2,20050122,       0122,   -52.0000,   -35.2335,       4493,    60.6,   3.3901,  33.7982,2,  33.8162,2,    315.2,2,   327.2,2,    5.02,2,   18.65,2,    0.26,2,    1.40,2,   5.257,2,   2.891,2,   0.498,2,  2120.8,2,  2292.5,2,   653.9,3,   20.00,   7.7981,2,    25.00,-999.000,9, -999.00,-999.000,9,-999.000,9, -999.00,9,  -999.0,9,  -999.0,-999.000,9,-999.000,   5.532,4,   50.55,2,   60.60,-999.0000,9,-999.0000,9,-999.0000,9,-999.0000,9,-999.0000,9,-999.0000,9,   3.3863,     -999.0,-999.000,     -999.0,          9,     -999.0,          9,-999.000,          9
 33RO200501,       A16S,      21,          1,         32,         32,2,20050122,       0122,   -52.0000,   -35.2335,       4493,    78.5,   1.4800,  33.8603,2,  33.8659,2,    323.6,2,   330.8,2,   17.91,2,   22.24,2,    0.26,2,    1.74,2,-999.000,9,-999.000,9,-999.000,9,  2148.9,2,  2290.2,2,  -999.0,9,   20.00,   7.7412,2,    25.00,-999.000,9, -999.00,-999.000,9,-999.000,9, -999.00,9,  -999.0,9,  -999.0,-999.000,9,-999.000,-999.000,9, -999.00,9,   78.50,-999.0000,9,-999.0000,9,-999.0000,9,-999.0000,9,-999.0000,9,-999.0000,9,   1.4764,     -999.0,-999.000,     -999.0,          9,     -999.0,          9,-999.000,          9
 33RO200501,       A16S,      21,          1,         31,         31,2,20050122,       0122,   -52.0000,   -35.2335,       4493,   101.5,   0.8390,  33.9028,2,  33.9067,2,    321.5,2,   323.3,2,   29.20,2,   25.66,2,    0.23,2,    1.90,2,   5.623,2,   3.081,2,   0.547,2,  2165.0,2,  2286.0,2,   861.8,2,   20.00,   7.7050,2,    25.00,-999.000,9, -999.00,-999.000,9,-999.000,9, -999.00,9,  -999.0,9,  -999.0,-999.000,9,-999.000,   5.816,4,   48.96,2,  101.50,-999.0000,9,-999.0000,9,-999.0000,9,-999.0000,9,-999.0000,9,-999.0000,9,   0.8348,     -999.0,-999.000,     -999.0,          9,     -999.0,          9,-999.000,          9
 33RO200501,       A16S,      21,          1,         30,         30,2,20050122,       0122,   -52.0000,   -35.2335,       4493,   126.0,   0.5370,  33.9976,2,  34.0048,2,    304.5,2,   306.1,2,   40.26,2,   28.99,2,    0.13,2,    2.00,2,-999.000,9,-999.000,9,-999.000,9,  2180.2,2,  2291.4,2,  -999.0,9,   20.00,   7.6536,2,    25.00,-999.000,9, -999.00,-999.000,9,-999.000,9, -999.00,9,  -999.0,9,  -999.0,-999.000,9,-999.000,-999.000,9, -999.00,9,  126.00,-999.0000,9,-999.0000,9,-999.0000,9,-999.0000,9,-999.0000,9,-999.0000,9,   0.5320,     -999.0,-999.000,     -999.0,          9,     -999.0,          9,-999.000,          9
 33RO200501,       A16S,      21,          1,         29,         29,2,20050122,       0122,   -52.0000,   -35.2335,       4493,   150.5,   0.5298,  34.0655,2,  34.0738,2,    295.8,2,   296.5,2,   44.82,2,   29.41,2,    0.16,2,    2.03,2,-999.000,5,-999.000,5,-999.000,5,  2189.7,2,  2297.9,2,   956.9,2,   20.00,   7.6440,2,    25.00,-999.000,9, -999.00,-999.000,9,-999.000,9, -999.00,9,  -999.0,9,  -999.0,-999.000,9,-999.000,-999.000,5,   48.03,2,  150.50,-999.0000,9,-999.0000,9,-999.0000,9,-999.0000,9,-999.0000,9,-999.0000,9,   0.5238,     -999.0,-999.000,     -999.0,          9,     -999.0,          9,-999.000,          9
 33RO200501,       A16S,      21,          1,         28,         28,2,20050122,       0122,   -52.0000,   -35.2335,       4493,   176.3,   0.8861,  34.1445,2,  34.1469,2,    269.2,2,   269.3,2,   49.71,2,   31.44,2,    0.13,2,    2.14,2,-999.000,9,-999.000,9,-999.000,9,  2201.0,2,  2301.1,2,  -999.0,9,   20.00,   7.6230,2,    25.00,-999.000,9, -999.00,-999.000,9,-999.000,9, -999.00,9,  -999.0,9,  -999.0,-999.000,9,-999.000,-999.000,9, -999.00,9,  176.30,-999.0000,9,-999.0000,9,-999.0000,9,-999.0000,9,-999.0000,9,-999.0000,9,   0.8784,     -999.0,-999.000,     -999.0,          9,     -999.0,          9,-999.000,          9
 33RO200501,       A16S,      21,          1,         27,         27,2,20050122,       0122,   -52.0000,   -35.2335,       4493,   202.1,   1.1892,  34.2259,2,  34.2255,2,    239.7,2,   247.6,2,   54.52,2,   32.58,2,    0.08,2,    2.21,2,   3.601,2,   1.890,2,   0.321,2,  2214.4,2,  2306.1,2,  1108.6,2,   20.00,   7.6051,2,    25.00,-999.000,9, -999.00,-999.000,9,-999.000,9, -999.00,9,  -999.0,9,  -999.0,-999.000,9,-999.000,   3.758,3,   46.00,2,  202.10,-999.0000,9,-999.0000,9,-999.0000,9,-999.0000,9,-999.0000,9,-999.0000,9,   1.1799,     -999.0,-999.000,     -999.0,          9,     -999.0,          9,-999.000,          9
 33RO200501,       A16S,      21,          1,         26,         26,2,20050122,       0122,   -52.0000,   -35.2335,       4493,   251.1,   1.7888,  34.3615,2,  34.3664,2,    210.7,2,   206.9,2,   62.32,2,   33.97,2,    0.04,2,    2.31,2,-999.000,9,-999.000,9,-999.000,9,  2231.8,2,  2317.4,2,  -999.0,9,   20.00,   7.5719,2,    25.00,-999.000,9, -999.00,-999.000,9,-999.000,9, -999.00,9,  -999.0,9,  -999.0,-999.000,9,-999.000,-999.000,9,   43.96,2,  251.10,-999.0000,9,-999.0000,9,-999.0000,9,-999.0000,9,-999.0000,9,-999.0000,9,   1.7758,     -999.0,-999.000,     -999.0,          9,     -999.0,          9,-999.000,          9
 33RO200501,       A16S,      21,          1,         25,         25,2,20050122,       0122,   -52.0000,   -35.2335,       4493,   299.8,   1.9108,  34.4273,2,  34.4280,2,    193.1,2,   194.5,2,   67.28,2,   34.28,2,    0.02,2,    2.33,2,   1.732,2,   0.906,2,   0.137,2,  2240.1,2,  2323.6,2,  1140.4,2,   20.00,   7.5693,2,    25.00,-999.000,9, -999.00,-999.000,9,-999.000,9, -999.00,9,  -999.0,9,  -999.0,-999.000,9,-999.000,   1.973,3,   42.72,2,  299.80,-999.0000,9,-999.0000,9,-999.0000,9,-999.0000,9,-999.0000,9,-999.0000,9,   1.8948,     -999.0,-999.000,     -999.0,          9,     -999.0,          9,-999.000,          9
 33RO200501,       A16S,      21,          1,         24,         24,2,20050122,       0122,   -52.0000,   -35.2335,       4493,   350.4,   2.0282,  34.4877,2,  34.4938,2,    184.0,2,   183.3,2,   72.80,2,   34.34,2,    0.01,2,    2.34,2,-999.000,9,-999.000,9,-999.000,9,  2246.2,2,  2329.3,2,  -999.0,9,   20.00,-999.0000,5,    25.00,-999.000,9, -999.00,-999.000,9,-999.000,9, -999.00,9,  -999.0,9,  -999.0,-999.000,9,-999.000,-999.000,9, -999.00,9,  350.40,-999.0000,9,-999.0000,9,-999.0000,9,-999.0000,9,-999.0000,9,-999.0000,9,   2.0090,     -999.0,-999.000,     -999.0,          9,     -999.0,          9,-999.000,          9
 33RO200501,       A16S,      21,          1,         23,         23,2,20050122,       0122,   -52.0000,   -35.2335,       4493,   399.6,   2.1137,  34.5347,2,  34.5355,2,    176.7,2,   177.0,2,   75.98,2,   34.27,2,    0.01,2,    2.34,2,   0.868,2,   0.453,2,   0.055,2,  2250.8,2,  2333.3,2,  1231.9,2,   20.00,   7.5828,2,    25.00,-999.000,9, -999.00,-999.000,9,-999.000,9, -999.00,9,  -999.0,9,  -999.0,-999.000,9,-999.000,   1.088,3,   41.31,2,  399.60,-999.0000,9,-999.0000,9,-999.0000,9,-999.0000,9,-999.0000,9,-999.0000,9,   2.0913,     -999.0,-999.000,     -999.0,          9,     -999.0,          9,-999.000,          9
 33RO200501,       A16S,      21,          1,         22,         22,3,20050122,       0122,   -52.0000,   -35.2335,       4493,   500.4,   2.0299,  34.5862,2,  34.5893,2,    174.3,2,   175.3,2,   80.63,6,   33.85,6,    0.01,6,    2.32,6,-999.000,9,-999.000,9,-999.000,9,  2252.4,2,  2335.1,2,  1208.5,2,   20.00,   7.5723,2,    25.00,-999.000,9, -999.00,-999.000,9,-999.000,9, -999.00,9,  -999.0,9,  -999.0,-999.000,9,-999.000,-999.000,9,   40.41,2,  500.40,-999.0000,9,-999.0000,9,-999.0000,9,-999.0000,9,-999.0000,9,-999.0000,9,   2.0017,     -999.0,-999.000,     -999.0,          9,     -999.0,          9,-999.000,          9
 33RO200501,       A16S,      21,          1,         21,         21,2,20050122,       0122,   -52.0000,   -35.2335,       4493,   601.3,   2.0572,  34.6401,2,  34.6404,2,    173.5,2,   173.4,2,   84.25,2,   33.30,2,    0.00,2,    2.29,2,   0.358,6,   0.187,6,   0.020,6,  2255.4,2,  2341.9,2,  1178.7,2,   20.00,   7.5827,2,    25.00,-999.000,9, -999.00,-999.000,9,-999.000,9, -999.00,9,  -999.0,9,  -999.0,-999.000,9,-999.000,   0.476,3,   40.65,2,  601.30,-999.0000,9,-999.0000,9,-999.0000,9,-999.0000,9,-999.0000,9,-999.0000,9,   2.0226,     -999.0,-999.000,     -999.0,          9,     -999.0,          9,-999.000,          9
 33RO200501,       A16S,      21,          1,         20,         20,2,20050122,       0122,   -52.0000,   -35.2335,       4493,   699.7,   1.9674,  34.6613,2,  34.6610,2,    175.8,2,   175.9,2,   86.40,2,   32.89,2,    0.00,2,    2.28,2,   0.318,2,   0.170,2,   0.021,2,  2256.0,2,  2345.3,2,  1163.3,2,   20.00,   7.5854,2,    25.00,-999.000,9, -999.00,-999.000,9,-999.000,9, -999.00,9,  -999.0,9,  -999.0,-999.000,9,-999.000,   0.444,3, -999.00,9,  699.70,-999.0000,9,-999.0000,9,-999.0000,9,-999.0000,9,-999.0000,9,-999.0000,9,   1.9271,     -999.0,-999.000,     -999.0,          9,     -999.0,          9,-999.000,          9
 33RO200501,       A16S,      21,          1,         19,         19,2,20050122,       0122,   -52.0000,   -35.2335,       4493,   799.5,   1.9470,  34.6895,2,  34.6905,2,    177.7,2,   178.6,2,   88.88,6,   32.28,6,    0.00,6,    2.24,6,   0.223,2,   0.123,2,   0.011,2,  2256.0,2,  2348.0,2,  1140.8,2,   20.00,   7.5953,2,    25.00,-999.000,9, -999.00,-999.000,9,-999.000,9, -999.00,9,  -999.0,9,  -999.0,-999.000,9,-999.000,   0.326,3,   40.42,2,  799.50,-999.0000,9,-999.0000,9,-999.0000,9,-999.0000,9,-999.0000,9,-999.0000,9,   1.9004,     -999.0,-999.000,     -999.0,          9,     -999.0,          9,-999.000,          9
 33RO200501,       A16S,      21,          1,         18,         18,2,20050122,       0122,   -52.0000,   -35.2335,       4493,   949.7,   1.9072,  34.7139,2,  34.7143,2,    181.4,2,   184.2,2,   88.93,2,   31.43,2,    0.00,2,    2.17,2,   0.176,2,   0.086,2,   0.013,2,  2253.1,6,  2349.5,2,  1097.4,2,   20.00,   7.6078,2,    25.00,-999.000,9, -999.00,-999.000,9,-999.000,9, -999.00,9,  -999.0,9,  -999.0,-999.000,9,-999.000,   0.263,3,   40.02,2,  949.70,-999.0000,9,-999.0000,9,-999.0000,9,-999.0000,9,-999.0000,9,-999.0000,9,   1.8509,     -999.0,-999.000,     -999.0,          9,     -999.0,          9,-999.000,          9
 33RO200501,       A16S,      21,          1,         17,         17,2,20050122,       0122,   -52.0000,   -35.2335,       4493,  1100.0,   1.7984,  34.7239,2,  34.7246,2,    186.4,2,   188.2,2,   91.42,2,   31.22,2,    0.00,2,    2.15,2,   0.164,2,   0.085,2,   0.009,2,  2251.7,2,  2354.5,2,  1075.4,2,   20.00,   7.6045,2,    25.00,-999.000,9, -999.00,-999.000,9,-999.000,9, -999.00,9,  -999.0,9,  -999.0,-999.000,9,-999.000,   0.220,3,   40.29,2, 1100.00,-999.0000,9,-999.0000,9,-999.0000,9,-999.0000,9,-999.0000,9,-999.0000,9,   1.7328,     -999.0,-999.000,     -999.0,          9,     -999.0,          9,-999.000,          9
 33RO200501,       A16S,      21,          1,         16,         16,2,20050122,       0122,   -52.0000,   -35.2335,       4493,  1300.9,   1.6104,  34.7282,2,  34.7267,2,    191.0,2,   193.9,2,   95.27,6,   31.07,6,    0.00,6,    2.14,6,   0.264,2,   0.143,2,   0.017,2,  2250.7,2,  2354.5,2,  1066.4,2,   20.00,   7.6233,2,    25.00,-999.000,9, -999.00,-999.000,9,-999.000,9, -999.00,9,  -999.0,9,  -999.0,-999.000,9,-999.000,   0.400,3,   40.47,2, 1300.90,-999.0000,9,-999.0000,9,-999.0000,9,-999.0000,9,-999.0000,9,-999.0000,9,   1.5326,     -999.0,-999.000,     -999.0,          9,     -999.0,          9,-999.000,          9
 33RO200501,       A16S,      21,          1,         15,         15,2,20050122,       0122,   -52.0000,   -35.2335,       4493,  1400.5,   1.4812,  34.7243,2,  34.7244,2,    193.6,2,   195.3,2,   98.49,2,   31.26,2,    0.00,2,    2.16,2,-999.000,9,-999.000,9,-999.000,9,  2252.0,2,  2356.2,2,  -999.0,9,   20.00,   7.6297,2,    25.00,-999.000,9, -999.00,-999.000,9,-999.000,9, -999.00,9,  -999.0,9,  -999.0,-999.000,9,-999.000,-999.000,9, -999.00,9, 1400.50,-999.0000,9,-999.0000,9,-999.0000,9,-999.0000,9,-999.0000,9,-999.0000,9,   1.3978,     -999.0,-999.000,     -999.0,          9,     -999.0,          9,-999.000,          9
 33RO200501,       A16S,      21,          1,         14,         14,2,20050122,       0122,   -52.0000,   -35.2335,       4493,  1500.1,   1.4353,  34.7281,2,  34.7266,2,    196.6,2,   197.9,2,   98.50,2,   31.03,2,    0.00,2,    2.15,2,   0.189,2,   0.092,2,   0.008,2,  2250.7,2,  2356.4,2,  1056.7,2,   20.00,   7.6176,2,    25.00,-999.000,9, -999.00,-999.000,9,-999.000,9, -999.00,9,  -999.0,9,  -999.0,-999.000,9,-999.000,   0.257,3,   39.54,2, 1500.10,-999.0000,9,-999.0000,9,-999.0000,9,-999.0000,9,-999.0000,9,-999.0000,9,   1.3453,     -999.0,-999.000,     -999.0,          9,     -999.0,          9,-999.000,          9
 33RO200501,       A16S,      21,          1,         13,         13,2,20050122,       0122,   -52.0000,   -35.2335,       4493,  1599.8,   1.3072,  34.7196,2,  34.7197,2,    197.5,2,   198.1,2,  102.75,6,   31.37,6,    0.00,6,    2.19,6,-999.000,9,-999.000,9,-999.000,9,  2253.4,2,  2357.2,2,  -999.0,9,   20.00,   7.6132,2,    25.00,-999.000,9, -999.00,-999.000,9,-999.000,9, -999.00,9,  -999.0,9,  -999.0,-999.000,9,-999.000,-999.000,9, -999.00,9, 1599.80,-999.0000,9,-999.0000,9,-999.0000,9,-999.0000,9,-999.0000,9,-999.0000,9,   1.2115,     -999.0,-999.000,     -999.0,          9,     -999.0,          9,-999.000,          9
 33RO200501,       A16S,      21,          1,         12,         12,2,20050122,       0122,   -52.0000,   -35.2335,       4493,  1700.0,   1.1424,  34.7080,2,  34.7085,2,    198.6,2,   200.3,2,  105.19,2,   31.52,2,    0.00,2,    2.21,2,   0.310,2,   0.147,2,   0.020,2,  2255.9,2,  2357.9,2,  1077.5,2,   20.00,   7.6146,2,    25.00,-999.000,9, -999.00,-999.000,9,-999.000,9, -999.00,9,  -999.0,9,  -999.0,-999.000,9,-999.000,   0.392,3,   40.74,2, 1700.00,-999.0000,9,-999.0000,9,-999.0000,9,-999.0000,9,-999.0000,9,-999.0000,9,   1.0416,     -999.0,-999.000,     -999.0,          9,     -999.0,          9,-999.000,          9
 33RO200501,       A16S,      21,          1,         11,         11,2,20050122,       0122,   -52.0000,   -35.2335,       4493,  1901.5,   0.9941,  34.7056,2,  34.7062,2,    201.9,2,   203.5,2,  108.95,2,   31.55,2,    0.00,2,    2.21,2,   0.308,2,   0.160,2,   0.024,2,  2255.9,2,  2352.4,2,  1062.2,2,   20.00,   7.6137,2,    25.00,-999.000,9, -999.00,-999.000,9,-999.000,9, -999.00,9,  -999.0,9,  -999.0,-999.000,9,-999.000,   0.377,3, -999.00,9, 1901.50,-999.0000,9,-999.0000,9,-999.0000,9,-999.0000,9,-999.0000,9,-999.0000,9,   0.8803,     -999.0,-999.000,     -999.0,          9,     -999.0,          9,-999.000,          9
 33RO200501,       A16S,      21,          1,         10,         10,2,20050122,       0122,   -52.0000,   -35.2335,       4493,  2099.8,   0.8773,  34.7061,2,  34.7072,2,    205.1,2,   206.3,2,  112.06,6,   31.66,6,    0.00,6,    2.22,6,   0.261,6,   0.133,6,   0.011,6,  2254.5,2,  2358.1,2,  1078.6,2,   20.00,   7.6112,2,    25.00,-999.000,9, -999.00,-999.000,9,-999.000,9, -999.00,9,  -999.0,9,  -999.0,-999.000,9,-999.000,   0.329,3,   40.31,2, 2099.80,-999.0000,9,-999.0000,9,-999.0000,9,-999.0000,9,-999.0000,9,-999.0000,9,   0.7502,     -999.0,-999.000,     -999.0,          9,     -999.0,          9,-999.000,          9
 33RO200501,       A16S,      21,          1,          9,          9,2,20050122,       0122,   -52.0000,   -35.2335,       4493,  2299.6,   0.7146,  34.6946,2,  34.6948,2,    207.8,2,   195.3,3,  115.54,2,   32.01,2,    0.00,2,    2.24,2,   0.385,2,   0.200,2,   0.031,2,  2255.9,2,  2358.0,2,  1083.4,2,   20.00,   7.6163,2,    25.00,-999.000,9, -999.00,-999.000,9,-999.000,9, -999.00,9,  -999.0,9,  -999.0,-999.000,9,-999.000,   0.465,3, -999.00,9, 2299.60,-999.0000,9,-999.0000,9,-999.0000,9,-999.0000,9,-999.0000,9,-999.0000,9,   0.5745,     -999.0,-999.000,     -999.0,          9,     -999.0,          9,-999.000,          9
 33RO200501,       A16S,      21,          1,          8,          8,2,20050122,       0122,   -52.0000,   -35.2335,       4493,  2502.0,   0.6000,  34.6917,2,  34.6919,2,    210.2,2,   211.2,2,  117.95,2,   32.15,2,    0.00,2,    2.25,2,   0.365,2,   0.186,2,   0.024,2,  2257.0,2,  2358.5,2,  1083.9,2,   20.00,   7.6195,2,    25.00,-999.000,9, -999.00,-999.000,9,-999.000,9, -999.00,9,  -999.0,9,  -999.0,-999.000,9,-999.000,   0.438,3,   39.95,2, 2502.00,-999.0000,9,-999.0000,9,-999.0000,9,-999.0000,9,-999.0000,9,-999.0000,9,   0.4458,     -999.0,-999.000,     -999.0,          9,     -999.0,          9,-999.000,          9