BOTTLE,20220818CCHSIOAMB
EXPOCODE,SECT_ID,STNNBR,CASTNO,SAMPNO,BTLNBR,BTLNBR_FLAG_W,DATE,TIME,LATITUDE,LONGITUDE,DEPTH,CTDPRS,CTDTMP,CTDSAL,CTDSAL_FLAG_W,SALNTY,SALNTY_FLAG_W,CTDOXY,CTDOXY_FLAG_W,OXYGEN,OXYGEN_FLAG_W,SILCAT,SILCAT_FLAG_W,NITRAT,NITRAT_FLAG_W,NITRIT,NITRIT_FLAG_W,PHSPHT,PHSPHT_FLAG_W,CFC-11,CFC-11_FLAG_W,CFC-12,CFC-12_FLAG_W,CFC113,CFC113_FLAG_W,TCARBN,TCARBN_FLAG_W,ALKALI,ALKALI_FLAG_W,PCO2,PCO2_FLAG_W,PCO2TMP,PH_SWS,PH_SWS_FLAG_W,PH_TMP,TRITUM,TRITUM_FLAG_W,TRITER,HELIUM,HELIUM_FLAG_W,DELHE3,DELHE3_FLAG_W,DELC13,DELC13_FLAG_W,DELC14,DELC14_FLAG_W,C14ERR,NEON,NEON_FLAG_W,NEONER,CCL4,CCL4_FLAG_W,DOC,DOC_FLAG_W,CTDRAW,CDOM325,CDOM325_FLAG_W,CDOM340,CDOM340_FLAG_W,CDOM380,CDOM380_FLAG_W,CDOM412,CDOM412_FLAG_W,CDOMSL,CDOMSL_FLAG_W,CDOMSN,CDOMSN_FLAG_W,THETA,HELIER,DELHER,CH3CL,CH3CL_FLAG_W,CH3BR,CH3BR_FLAG_W,CH3I,CH3I_FLAG_W
,,,,,,,,,,,METERS,DBAR,ITS-90,PSS-78,,PSS-78,,UMOL/KG,,UMOL/KG,,UMOL/KG,,UMOL/KG,,UMOL/KG,,UMOL/KG,,PMOL/KG,,PMOL/KG,,PMOL/KG,,UMOL/KG,,UMOL/KG,,UATM,,DEG C,,,DEG C,TU,,TU,NMOL/KG,,PERCNT,,/MILLE,,/MILLE,,/MILLE,NMOL/KG,,NMOL/KG,PMOL/KG,,UMOL/KG,,DBAR,1/M,,1/M,,1/M,,1/M,,1/NM,,1/NM,,DEG C,NMOL/KG,PERCNT,PMOL/KG,,PMOL/KG,,PMOL/KG,
 33RO200501,       A16S,     121,          1,          7,          7,2,20050221,       1521,    -2.3335,   -25.0002,       5264,  3398.1,   2.5343,  34.9094,2,  34.9088,2,    252.2,2,   253.1,2,   35.26,2,   20.51,2,    0.00,2,    1.33,2,   0.052,2,   0.031,2,   0.000,2,  2181.0,2,  2330.9,2,   751.2,2,   20.00,   7.7316,2,    25.00,-999.000,9, -999.00,-999.000,9,-999.000,9,    1.13,2,   -93.7,2,     3.1,-999.000,9,-999.000,   0.181,4,   40.41,2, 3398.10,-999.0000,9,-999.0000,9,-999.0000,9,-999.0000,9,-999.0000,9,-999.0000,9,   2.2520,     -999.0,-999.000,      1.405,          2,      0.000,          2,   0.003,          2
 33RO200501,       A16S,     121,          1,          6,          6,2,20050221,       1521,    -2.3335,   -25.0002,       5264,  3698.1,   2.4387,  34.9059,2,  34.9059,2,    258.8,2,   259.5,2,   32.68,2,   19.59,2,    0.00,2,    1.27,2,   0.172,2,   0.090,2,   0.012,2,  2176.9,2,  2328.8,2,   749.6,2,   20.00,   7.7341,2,    25.00,-999.000,9, -999.00,-999.000,9,-999.000,9,    1.14,2,   -84.6,2,     3.1,-999.000,9,-999.000,   0.406,4,   40.08,2, 3698.10,-999.0000,9,-999.0000,9,-999.0000,9,-999.0000,9,-999.0000,9,-999.0000,9,   2.1261,     -999.0,-999.000,     -999.0,          9,     -999.0,          9,-999.000,          9
 33RO200501,       A16S,     121,          1,          5,          5,2,20050221,       1521,    -2.3335,   -25.0002,       5264,  3999.1,   2.1176,  34.8733,2,  34.8728,2,    254.5,2,   255.4,2,   44.56,2,   21.17,2,    0.00,2,    1.39,2,   0.156,2,   0.085,2,   0.000,2,  2188.2,2,  2336.1,2,   779.9,2,   20.00,   7.7238,6,    25.00,-999.000,9, -999.00,-999.000,9,-999.000,9,    1.04,2,  -102.5,2,     2.9,-999.000,9,-999.000,   0.373,4,   40.16,2, 3999.10,-999.0000,9,-999.0000,9,-999.0000,9,-999.0000,9,-999.0000,9,-999.0000,9,   1.7803,     -999.0,-999.000,      1.961,          2,      0.000,          2,   0.001,          2
 33RO200501,       A16S,     121,          1,          4,          4,2,20050221,       1521,    -2.3335,   -25.0002,       5264,  4298.0,   1.2979,  34.7814,2,  34.7799,3,    237.0,2,   233.9,2,   84.59,6,   27.02,6,    0.00,6,    1.81,6,   0.037,2,   0.023,2,   0.000,2,  2231.4,2,  2355.4,2,  -999.0,9,   20.00,   7.6692,2,    25.00,-999.000,9, -999.00,-999.000,9,-999.000,9,    0.85,2,  -131.3,2,     2.5,-999.000,9,-999.000,   0.127,4,   40.33,2, 4298.00,-999.0000,9,-999.0000,9,-999.0000,9,-999.0000,9,-999.0000,9,-999.0000,9,   0.9514,     -999.0,-999.000,     -999.0,          9,     -999.0,          9,-999.000,          9
 33RO200501,       A16S,     121,          1,          3,          3,2,20050221,       1521,    -2.3335,   -25.0002,       5264,  4598.7,   0.8685,  34.7315,2,  34.7309,2,    224.3,2,   224.9,2,  104.28,6,   29.77,6,    0.00,6,    2.01,6,   0.043,2,   0.030,2,   0.000,2,  2250.6,2,  2364.3,2,   970.6,2,   20.00,   7.6390,6,    25.00,-999.000,9, -999.00,-999.000,9,-999.000,9,    0.73,2,  -148.5,2,     2.8,-999.000,9,-999.000,   0.108,4,   40.17,2, 4598.70,-999.0000,9,-999.0000,9,-999.0000,9,-999.0000,9,-999.0000,9,-999.0000,9,   0.5018,     -999.0,-999.000,      0.915,          2,      0.000,          2,   0.001,          2
 33RO200501,       A16S,     121,          1,          2,          2,2,20050221,       1521,    -2.3335,   -25.0002,       5264,  4898.2,   0.8259,  34.7225,2,  34.7221,2,    222.0,2,   223.2,2,  107.74,6,   30.26,6,    0.00,6,    2.05,6,   0.041,2,   0.018,2,   0.000,2,  2254.0,2,  2367.0,2,   977.9,2,   20.00,   7.6359,2,    25.00,-999.000,9, -999.00,-999.000,9,-999.000,9,    0.72,2,  -149.8,2,     2.6,-999.000,9,-999.000,   0.108,4,   39.33,2, 4898.20,-999.0000,9,-999.0000,9,-999.0000,9,-999.0000,9,-999.0000,9,-999.0000,9,   0.4263,     -999.0,-999.000,     -999.0,          9,     -999.0,          9,-999.000,          9
 33RO200501,       A16S,     121,          1,          1,          1,2,20050221,       1521,    -2.3335,   -25.0002,       5264,  5091.7,   0.8000,  34.7170,2,  34.7199,3,    221.0,2,   222.1,2,  109.49,6,   30.65,6,    0.00,6,    2.07,6,   0.044,2,   0.019,2,   0.000,2,  2255.2,2,  2367.0,2,   983.7,2,   20.00,   7.6314,6,    25.00,-999.000,9, -999.00,-999.000,9,-999.000,9,    0.71,2,  -155.1,2,     2.5,-999.000,9,-999.000,   0.113,4,   39.41,2, 5091.70,-999.0000,9,-999.0000,9,-999.0000,9,-999.0000,9,-999.0000,9,-999.0000,9,   0.3784,     -999.0,-999.000,      7.232,          2,      0.000,          2,   0.050,          2