BOTTLE,20220818CCHSIOAMB
EXPOCODE,SECT_ID,STNNBR,CASTNO,SAMPNO,BTLNBR,BTLNBR_FLAG_W,DATE,TIME,LATITUDE,LONGITUDE,DEPTH,CTDPRS,CTDTMP,CTDSAL,CTDSAL_FLAG_W,SALNTY,SALNTY_FLAG_W,CTDOXY,CTDOXY_FLAG_W,OXYGEN,OXYGEN_FLAG_W,SILCAT,SILCAT_FLAG_W,NITRAT,NITRAT_FLAG_W,NITRIT,NITRIT_FLAG_W,PHSPHT,PHSPHT_FLAG_W,CFC-11,CFC-11_FLAG_W,CFC-12,CFC-12_FLAG_W,CFC113,CFC113_FLAG_W,TCARBN,TCARBN_FLAG_W,ALKALI,ALKALI_FLAG_W,PCO2,PCO2_FLAG_W,PCO2TMP,PH_SWS,PH_SWS_FLAG_W,PH_TMP,TRITUM,TRITUM_FLAG_W,TRITER,HELIUM,HELIUM_FLAG_W,DELHE3,DELHE3_FLAG_W,DELC13,DELC13_FLAG_W,DELC14,DELC14_FLAG_W,C14ERR,NEON,NEON_FLAG_W,NEONER,CCL4,CCL4_FLAG_W,DOC,DOC_FLAG_W,CTDRAW,CDOM325,CDOM325_FLAG_W,CDOM340,CDOM340_FLAG_W,CDOM380,CDOM380_FLAG_W,CDOM412,CDOM412_FLAG_W,CDOMSL,CDOMSL_FLAG_W,CDOMSN,CDOMSN_FLAG_W,THETA,HELIER,DELHER,CH3CL,CH3CL_FLAG_W,CH3BR,CH3BR_FLAG_W,CH3I,CH3I_FLAG_W
,,,,,,,,,,,METERS,DBAR,ITS-90,PSS-78,,PSS-78,,UMOL/KG,,UMOL/KG,,UMOL/KG,,UMOL/KG,,UMOL/KG,,UMOL/KG,,PMOL/KG,,PMOL/KG,,PMOL/KG,,UMOL/KG,,UMOL/KG,,UATM,,DEG C,,,DEG C,TU,,TU,NMOL/KG,,PERCNT,,/MILLE,,/MILLE,,/MILLE,NMOL/KG,,NMOL/KG,PMOL/KG,,UMOL/KG,,DBAR,1/M,,1/M,,1/M,,1/M,,1/NM,,1/NM,,DEG C,NMOL/KG,PERCNT,PMOL/KG,,PMOL/KG,,PMOL/KG,
 33RO200501,       A16S,      41,          1,          7,          7,2,20050128,       1056,   -42.0007,   -29.0333,       4550,  2702.4,   2.3145,  34.8176,2,  34.8175,2,    214.4,2,   215.3,2,   66.06,2,   26.97,2,    0.00,2,    1.76,4,   0.051,2,   0.027,2,   0.015,2,  2219.4,2,  2341.9,2,   923.9,2,   20.00,   7.6625,2,    25.00,-999.000,9, -999.00,-999.000,9,-999.000,9, -999.00,9,  -999.0,9,  -999.0,-999.000,9,-999.000,   0.158,3,   39.60,2, 2702.40,-999.0000,9,-999.0000,9,-999.0000,9,-999.0000,9,-999.0000,9,-999.0000,9,   2.1085,     -999.0,-999.000,     -999.0,          9,     -999.0,          9,-999.000,          9
 33RO200501,       A16S,      41,          1,          6,          6,2,20050128,       1056,   -42.0007,   -29.0333,       4550,  3003.6,   1.7994,  34.7697,2,  34.7691,2,    207.3,2,   206.6,2,   86.18,2,   29.42,2,    0.00,2,    1.93,4,   0.078,2,   0.038,2,   0.001,2,  2236.7,2,  2350.5,2,   994.0,2,   20.00,   7.6413,2,    25.00,-999.000,9, -999.00,-999.000,9,-999.000,9, -999.00,9,  -999.0,9,  -999.0,-999.000,9,-999.000,   0.163,3, -999.00,9, 3003.60,   0.1360,2,   0.0960,2,   0.0510,3,   0.0350,3,   0.0152,3,   0.0170,3,   1.5752,     -999.0,-999.000,     -999.0,          9,     -999.0,          9,-999.000,          9
 33RO200501,       A16S,      41,          1,          5,          5,2,20050128,       1056,   -42.0007,   -29.0333,       4550,  3300.2,   1.3523,  34.7308,2,  34.7310,2,    203.0,2,   202.6,2,  103.07,2,   31.33,2,    0.00,2,    2.07,4,   0.138,2,   0.062,2,   0.009,2,  2249.3,2,  2360.7,2,  1048.5,2,   20.00,   7.6148,2,    25.00,-999.000,9, -999.00,   1.904,2,   9.396,2, -999.00,9,  -999.0,9,  -999.0,   8.254,2,   0.007,   0.213,3,   39.02,2, 3300.20,-999.0000,9,-999.0000,9,-999.0000,9,-999.0000,9,-999.0000,9,-999.0000,9,   1.1096,      0.010,   0.229,     -999.0,          9,     -999.0,          9,-999.000,          9
 33RO200501,       A16S,      41,          1,          4,          4,2,20050128,       1056,   -42.0007,   -29.0333,       4550,  3602.2,   1.0508,  34.7166,2,  34.7165,2,    207.8,2,   207.2,2,  109.88,6,   31.67,6,    0.00,6,    2.16,4,   0.167,2,   0.083,2,  -0.004,2,  2252.4,2,  2363.6,2,  -999.0,9,   20.00,   7.6170,2,    25.00,-999.000,9, -999.00,-999.000,9,-999.000,9, -999.00,9,  -999.0,9,  -999.0,-999.000,9,-999.000,   0.213,3, -999.00,9, 3602.20,-999.0000,9,-999.0000,9,-999.0000,9,-999.0000,9,-999.0000,9,-999.0000,9,   0.7856,     -999.0,-999.000,     -999.0,          9,     -999.0,          9,-999.000,          9
 33RO200501,       A16S,      41,          1,          3,          3,2,20050128,       1056,   -42.0007,   -29.0333,       4550,  3900.8,   0.7127,  34.6982,2,  34.6980,2,    212.9,2,   212.5,2,  116.71,6,   32.18,6,    0.00,6,    2.20,4,   0.218,2,   0.101,2,   0.000,2,  2253.7,2,  2365.3,2,  1070.0,2,   20.00,   7.6236,2,    25.00,-999.000,9, -999.00,-999.000,9,-999.000,9, -999.00,9,  -999.0,9,  -999.0,-999.000,9,-999.000,   0.336,3,   40.51,2, 3900.80,   0.1720,3,   0.1280,3,   0.0660,3,   0.0430,3,   0.0154,3,   0.0165,3,   0.4263,     -999.0,-999.000,     -999.0,          9,     -999.0,          9,-999.000,          9
 33RO200501,       A16S,      41,          1,          2,          2,2,20050128,       1056,   -42.0007,   -29.0333,       4550,  4201.3,   0.4567,  34.6839,2,  34.6843,2,    217.6,2,   216.7,2,  122.30,6,   32.48,6,    0.00,6,    2.25,4,   0.266,2,   0.113,2,   0.007,2,  2256.7,2,  2367.5,6,  1063.3,2,   20.00,   7.6379,2,    25.00,-999.000,9, -999.00,-999.000,9,-999.000,9, -999.00,9,  -999.0,9,  -999.0,-999.000,9,-999.000,   0.361,3, -999.00,9, 4201.30,-999.0000,9,-999.0000,9,-999.0000,9,-999.0000,9,-999.0000,9,-999.0000,9,   0.1464,     -999.0,-999.000,     -999.0,          9,     -999.0,          9,-999.000,          9
 33RO200501,       A16S,      41,          1,          1,          1,2,20050128,       1056,   -42.0007,   -29.0333,       4550,  4496.4,   0.3577,  34.6776,2,  34.6786,2,    220.0,2,   218.6,2,  125.20,6,   32.61,6,    0.00,6,    2.26,4,   0.315,2,   0.191,2,   0.013,2,  2258.6,6,  2370.3,2,  1066.2,2,   20.00,   7.6527,2,    25.00,   0.006,2,    0.01,-999.000,9,-999.000,9, -999.00,9,  -999.0,9,  -999.0,-999.000,9,-999.000,   0.429,3,   40.17,2, 4496.40,   0.1670,2,   0.1200,3,   0.0680,3,   0.0480,3,   0.0137,3,   0.0150,3,   0.0189,     -999.0,-999.000,     -999.0,          9,     -999.0,          9,-999.000,          9