BOTTLE,20220818CCHSIOAMB
EXPOCODE,SECT_ID,STNNBR,CASTNO,SAMPNO,BTLNBR,BTLNBR_FLAG_W,DATE,TIME,LATITUDE,LONGITUDE,DEPTH,CTDPRS,CTDTMP,CTDSAL,CTDSAL_FLAG_W,SALNTY,SALNTY_FLAG_W,CTDOXY,CTDOXY_FLAG_W,OXYGEN,OXYGEN_FLAG_W,SILCAT,SILCAT_FLAG_W,NITRAT,NITRAT_FLAG_W,NITRIT,NITRIT_FLAG_W,PHSPHT,PHSPHT_FLAG_W,CFC-11,CFC-11_FLAG_W,CFC-12,CFC-12_FLAG_W,CFC113,CFC113_FLAG_W,TCARBN,TCARBN_FLAG_W,ALKALI,ALKALI_FLAG_W,PCO2,PCO2_FLAG_W,PCO2TMP,PH_SWS,PH_SWS_FLAG_W,PH_TMP,TRITUM,TRITUM_FLAG_W,TRITER,HELIUM,HELIUM_FLAG_W,DELHE3,DELHE3_FLAG_W,DELC13,DELC13_FLAG_W,DELC14,DELC14_FLAG_W,C14ERR,NEON,NEON_FLAG_W,NEONER,CCL4,CCL4_FLAG_W,DOC,DOC_FLAG_W,CTDRAW,CDOM325,CDOM325_FLAG_W,CDOM340,CDOM340_FLAG_W,CDOM380,CDOM380_FLAG_W,CDOM412,CDOM412_FLAG_W,CDOMSL,CDOMSL_FLAG_W,CDOMSN,CDOMSN_FLAG_W,THETA,HELIER,DELHER,CH3CL,CH3CL_FLAG_W,CH3BR,CH3BR_FLAG_W,CH3I,CH3I_FLAG_W
,,,,,,,,,,,METERS,DBAR,ITS-90,PSS-78,,PSS-78,,UMOL/KG,,UMOL/KG,,UMOL/KG,,UMOL/KG,,UMOL/KG,,UMOL/KG,,PMOL/KG,,PMOL/KG,,PMOL/KG,,UMOL/KG,,UMOL/KG,,UATM,,DEG C,,,DEG C,TU,,TU,NMOL/KG,,PERCNT,,/MILLE,,/MILLE,,/MILLE,NMOL/KG,,NMOL/KG,PMOL/KG,,UMOL/KG,,DBAR,1/M,,1/M,,1/M,,1/M,,1/NM,,1/NM,,DEG C,NMOL/KG,PERCNT,PMOL/KG,,PMOL/KG,,PMOL/KG,
 33RO200501,       A16S,      39,          1,         36,         36,2,20050127,       2031,   -43.0008,   -29.6480,       4418,     3.9,  12.4182,  34.2679,2,  34.2654,2,    273.3,2,   272.6,2,    0.53,2,    7.40,2,    0.12,2,    0.66,2,   3.328,6,   2.065,6,   0.278,6,  2053.7,2,  2287.4,6,  -999.0,9,   20.00,   7.9237,6,    25.00,-999.000,9, -999.00,-999.000,9,-999.000,9, -999.00,9,  -999.0,9,  -999.0,-999.000,9,-999.000,   5.626,4,   58.57,2,    3.90,-999.0000,9,-999.0000,9,-999.0000,9,-999.0000,9,-999.0000,9,-999.0000,9,  12.4177,     -999.0,-999.000,     -999.0,          9,     -999.0,          9,-999.000,          9
 33RO200501,       A16S,      39,          1,         35,         35,9,20050127,       2031,   -43.0008,   -29.6480,       4418,    25.1,  12.4254,  34.2695,2,-999.0000,9,    273.5,2,  -999.0,9, -999.00,9, -999.00,9, -999.00,9, -999.00,9,-999.000,9,-999.000,9,-999.000,9,  -999.0,9,  -999.0,9,  -999.0,9,   20.00,-999.0000,9,    25.00,-999.000,9, -999.00,-999.000,9,-999.000,9, -999.00,9,  -999.0,9,  -999.0,-999.000,9,-999.000,-999.000,9, -999.00,9,   25.10,-999.0000,9,-999.0000,9,-999.0000,9,-999.0000,9,-999.0000,9,-999.0000,9,  12.4221,     -999.0,-999.000,     -999.0,          9,     -999.0,          9,-999.000,          9
 33RO200501,       A16S,      39,          1,         34,         34,9,20050127,       2031,   -43.0008,   -29.6480,       4418,    51.2,  11.3465,  34.3519,2,-999.0000,9,    271.9,2,  -999.0,9, -999.00,9, -999.00,9, -999.00,9, -999.00,9,-999.000,9,-999.000,9,-999.000,9,  -999.0,9,  -999.0,9,  -999.0,9,   20.00,-999.0000,9,    25.00,-999.000,9, -999.00,-999.000,9,-999.000,9, -999.00,9,  -999.0,9,  -999.0,-999.000,9,-999.000,-999.000,9, -999.00,9,   51.20,-999.0000,9,-999.0000,9,-999.0000,9,-999.0000,9,-999.0000,9,-999.0000,9,  11.3401,     -999.0,-999.000,     -999.0,          9,     -999.0,          9,-999.000,          9
 33RO200501,       A16S,      39,          1,         33,         33,2,20050127,       2031,   -43.0008,   -29.6480,       4418,    71.5,   9.0203,  34.4599,2,  34.4550,2,    274.0,2,   274.9,2,    2.58,2,   11.76,2,    0.51,2,    0.96,2,   3.868,2,   2.306,2,   0.322,2,  2099.9,6,  2293.9,2,  -999.0,9,   20.00,   7.8394,2,    25.00,-999.000,9, -999.00,-999.000,9,-999.000,9, -999.00,9,  -999.0,9,  -999.0,-999.000,9,-999.000,   4.689,4,   56.67,2,   71.50,-999.0000,9,-999.0000,9,-999.0000,9,-999.0000,9,-999.0000,9,-999.0000,9,   9.0127,     -999.0,-999.000,     -999.0,          9,     -999.0,          9,-999.000,          9
 33RO200501,       A16S,      39,          1,         32,         32,2,20050127,       2031,   -43.0008,   -29.6480,       4418,    91.1,   8.7790,  34.5056,2,  34.5035,2,    265.9,2,   266.5,2,    3.30,2,   13.44,2,    0.11,2,    0.99,2,   3.850,2,   2.265,2,   0.327,2,  2106.9,2,  2294.2,2,  -999.0,9,   20.00,   7.8283,2,    25.00,-999.000,9, -999.00,-999.000,9,-999.000,9, -999.00,9,  -999.0,9,  -999.0,-999.000,9,-999.000,   3.951,3, -999.00,9,   91.10,-999.0000,9,-999.0000,9,-999.0000,9,-999.0000,9,-999.0000,9,-999.0000,9,   8.7694,     -999.0,-999.000,     -999.0,          9,     -999.0,          9,-999.000,          9
 33RO200501,       A16S,      39,          1,         31,         31,2,20050127,       2031,   -43.0008,   -29.6480,       4418,   115.4,   8.5151,  34.4925,2,  34.4917,2,    262.0,2,   265.9,2,    3.68,2,   14.49,2,    0.02,2,    1.04,2,   3.900,2,   2.274,2,   0.326,2,  2112.2,2,  2291.2,2,  -999.0,9,   20.00,   7.8114,2,    25.00,-999.000,9, -999.00,-999.000,9,-999.000,9, -999.00,9,  -999.0,9,  -999.0,-999.000,9,-999.000,   3.709,3,   53.72,2,  115.40,-999.0000,9,-999.0000,9,-999.0000,9,-999.0000,9,-999.0000,9,-999.0000,9,   8.5031,     -999.0,-999.000,     -999.0,          9,     -999.0,          9,-999.000,          9
 33RO200501,       A16S,      39,          1,         30,         30,2,20050127,       2031,   -43.0008,   -29.6480,       4418,   141.3,   7.6204,  34.4248,2,  34.4238,2,    264.7,2,   255.9,2,    5.10,2,   17.77,2,    0.02,2,    1.22,2,   4.003,2,   2.304,2,   0.312,2,  2121.7,2,  2291.4,2,  -999.0,9,   20.00,   7.7833,2,    25.00,-999.000,9, -999.00,-999.000,9,-999.000,9, -999.00,9,  -999.0,9,  -999.0,-999.000,9,-999.000,   3.313,3, -999.00,9,  141.30,-999.0000,9,-999.0000,9,-999.0000,9,-999.0000,9,-999.0000,9,-999.0000,9,   7.6067,     -999.0,-999.000,     -999.0,          9,     -999.0,          9,-999.000,          9
 33RO200501,       A16S,      39,          1,         29,         29,2,20050127,       2031,   -43.0008,   -29.6480,       4418,   164.6,   7.1992,  34.3836,2,  34.3844,2,    262.9,2,   263.3,2,    5.80,2,   19.02,2,    0.02,2,    1.29,2,   4.070,2,   2.347,2,   0.321,2,  2126.1,2,  2288.5,2,  -999.0,9,   20.00,   7.7692,2,    25.00,-999.000,9, -999.00,-999.000,9,-999.000,9, -999.00,9,  -999.0,9,  -999.0,-999.000,9,-999.000,   3.485,3,   50.24,2,  164.60,-999.0000,9,-999.0000,9,-999.0000,9,-999.0000,9,-999.0000,9,-999.0000,9,   7.1837,     -999.0,-999.000,     -999.0,          9,     -999.0,          9,-999.000,          9
 33RO200501,       A16S,      39,          1,         28,         28,2,20050127,       2031,   -43.0008,   -29.6480,       4418,   191.7,   6.0048,  34.2620,2,  34.2567,2,    258.3,2,   251.7,2,    7.90,2,   22.71,2,    0.01,2,    1.50,2,   4.215,2,   2.377,2,   0.341,2,  2138.1,2,  2282.4,2,  -999.0,9,   20.00,-999.0000,5,    25.00,-999.000,9, -999.00,-999.000,9,-999.000,9, -999.00,9,  -999.0,9,  -999.0,-999.000,9,-999.000,   3.521,3, -999.00,9,  191.70,-999.0000,9,-999.0000,9,-999.0000,9,-999.0000,9,-999.0000,9,-999.0000,9,   5.9885,     -999.0,-999.000,     -999.0,          9,     -999.0,          9,-999.000,          9
 33RO200501,       A16S,      39,          1,         27,         27,2,20050127,       2031,   -43.0008,   -29.6480,       4418,   224.6,   5.2435,  34.1873,2,  34.1877,2,    259.3,2,   263.7,2,    9.28,2,   24.18,2,    0.01,2,    1.60,2,   4.306,2,   2.401,2,   0.348,2,  2142.8,2,  2281.8,2,  -999.0,9,   20.00,   7.7155,2,    25.00,-999.000,9, -999.00,-999.000,9,-999.000,9, -999.00,9,  -999.0,9,  -999.0,-999.000,9,-999.000,   3.645,3,   45.36,2,  224.60,-999.0000,9,-999.0000,9,-999.0000,9,-999.0000,9,-999.0000,9,-999.0000,9,   5.2257,     -999.0,-999.000,     -999.0,          9,     -999.0,          9,-999.000,          9
 33RO200501,       A16S,      39,          1,         26,         26,2,20050127,       2031,   -43.0008,   -29.6480,       4418,   275.4,   4.6338,  34.1524,2,  34.1518,2,    269.5,2,   271.0,2,   11.12,2,   25.17,2,    0.01,2,    1.66,2,   4.407,2,   2.456,2,   0.362,2,  2145.3,2,  2280.8,2,  -999.0,9,   20.00,   7.7087,2,    25.00,-999.000,9, -999.00,-999.000,9,-999.000,9, -999.00,9,  -999.0,9,  -999.0,-999.000,9,-999.000,   3.837,3,   43.85,2,  275.40,-999.0000,9,-999.0000,9,-999.0000,9,-999.0000,9,-999.0000,9,-999.0000,9,   4.6133,     -999.0,-999.000,     -999.0,          9,     -999.0,          9,-999.000,          9
 33RO200501,       A16S,      39,          1,         25,         25,2,20050127,       2031,   -43.0008,   -29.6480,       4418,   322.6,   4.3448,  34.1437,2,  34.1430,2,    271.3,2,   272.0,2,   12.48,2,   25.70,2,    0.01,2,    1.70,2,   4.378,2,   2.423,2,   0.353,2,  2150.2,2,  2281.8,2,  -999.0,9,   20.00,   7.7034,2,    25.00,-999.000,9, -999.00,-999.000,9,-999.000,9, -999.00,9,  -999.0,9,  -999.0,-999.000,9,-999.000,   3.754,3,   43.27,2,  322.60,-999.0000,9,-999.0000,9,-999.0000,9,-999.0000,9,-999.0000,9,-999.0000,9,   4.3213,     -999.0,-999.000,     -999.0,          9,     -999.0,          9,-999.000,          9
 33RO200501,       A16S,      39,          1,         24,         24,2,20050127,       2031,   -43.0008,   -29.6480,       4418,   375.2,   4.1188,  34.1419,2,  34.1442,2,    267.2,2,   270.0,2,   14.27,2,   26.46,2,    0.01,2,    1.75,2,   4.264,2,   2.349,2,   0.331,2,  2153.8,2,  2282.9,2,  -999.0,9,   20.00,   7.7036,2,    25.00,-999.000,9, -999.00,-999.000,9,-999.000,9, -999.00,9,  -999.0,9,  -999.0,-999.000,9,-999.000,   3.672,3,   42.49,2,  375.20,-999.0000,9,-999.0000,9,-999.0000,9,-999.0000,9,-999.0000,9,-999.0000,9,   4.0921,     -999.0,-999.000,     -999.0,          9,     -999.0,          9,-999.000,          9
 33RO200501,       A16S,      39,          1,         23,         23,2,20050127,       2031,   -43.0008,   -29.6480,       4418,   450.4,   3.9440,  34.1627,2,  34.1628,2,    263.8,2,   261.5,2,   17.35,2,   27.48,2,    0.01,2,    1.82,2,   3.995,2,   2.177,2,   0.320,2,  2160.8,2,  2287.5,2,  -999.0,9,   20.00,   7.6706,2,    25.00,-999.000,9, -999.00,-999.000,9,-999.000,9, -999.00,9,  -999.0,9,  -999.0,-999.000,9,-999.000,   3.482,3,   41.01,2,  450.40,-999.0000,9,-999.0000,9,-999.0000,9,-999.0000,9,-999.0000,9,-999.0000,9,   3.9122,     -999.0,-999.000,     -999.0,          9,     -999.0,          9,-999.000,          9
 33RO200501,       A16S,      39,          1,         22,         22,2,20050127,       2031,   -43.0008,   -29.6480,       4418,   550.0,   3.5213,  34.1764,2,  34.1754,2,    255.4,2,   254.0,2,   22.68,2,   28.93,2,    0.01,2,    1.91,2,   3.640,2,   1.957,2,   0.272,2,  2171.5,2,  2291.1,2,  -999.0,9,   20.00,   7.6619,2,    25.00,-999.000,9, -999.00,-999.000,9,-999.000,9, -999.00,9,  -999.0,9,  -999.0,-999.000,9,-999.000,   3.268,3,   40.70,2,  550.00,-999.0000,9,-999.0000,9,-999.0000,9,-999.0000,9,-999.0000,9,-999.0000,9,   3.4839,     -999.0,-999.000,     -999.0,          9,     -999.0,          9,-999.000,          9
 33RO200501,       A16S,      39,          1,         21,         21,2,20050127,       2031,   -43.0008,   -29.6480,       4418,   650.4,   3.1393,  34.2100,2,  34.2109,2,    241.4,2,   240.4,2,   30.66,2,   30.63,2,    0.00,2,    2.03,2,   3.113,2,   1.655,2,   0.213,2,  2186.2,2,  2298.3,2,  -999.0,9,   20.00,   7.6424,2,    25.00,-999.000,9, -999.00,-999.000,9,-999.000,9, -999.00,9,  -999.0,9,  -999.0,-999.000,9,-999.000,   2.789,3,   40.50,2,  650.40,-999.0000,9,-999.0000,9,-999.0000,9,-999.0000,9,-999.0000,9,-999.0000,9,   3.0965,     -999.0,-999.000,     -999.0,          9,     -999.0,          9,-999.000,          9
 33RO200501,       A16S,      39,          1,         20,         20,2,20050127,       2031,   -43.0008,   -29.6480,       4418,   750.6,   3.0390,  34.2625,2,  34.2631,2,    225.6,2,   224.8,2,   36.88,2,   31.70,2,    0.00,2,    2.11,2,   2.487,2,   1.301,2,   0.159,2,  2196.5,2,  2303.3,2,  -999.0,9,   20.00,   7.6479,3,    25.00,-999.000,9, -999.00,-999.000,9,-999.000,9, -999.00,9,  -999.0,9,  -999.0,-999.000,9,-999.000,   2.410,3,   39.88,2,  750.60,-999.0000,9,-999.0000,9,-999.0000,9,-999.0000,9,-999.0000,9,-999.0000,9,   2.9896,     -999.0,-999.000,     -999.0,          9,     -999.0,          9,-999.000,          9
 33RO200501,       A16S,      39,          1,         19,         19,2,20050127,       2031,   -43.0008,   -29.6480,       4418,   850.6,   2.9374,  34.3164,2,  34.3161,2,    211.4,2,   211.7,2,   43.88,2,   32.73,2,    0.00,2,    2.18,2,   1.928,2,   0.986,2,   0.112,2,  2209.1,2,  2309.6,6,  -999.0,9,   20.00,   7.6032,6,    25.00,-999.000,9, -999.00,-999.000,9,-999.000,9, -999.00,9,  -999.0,9,  -999.0,-999.000,9,-999.000,   1.972,3,   39.64,2,  850.60,-999.0000,9,-999.0000,9,-999.0000,9,-999.0000,9,-999.0000,9,-999.0000,9,   2.8814,     -999.0,-999.000,     -999.0,          9,     -999.0,          9,-999.000,          9
 33RO200501,       A16S,      39,          1,         18,         18,2,20050127,       2031,   -43.0008,   -29.6480,       4418,   951.3,   2.7738,  34.3852,2,  34.3852,2,    199.5,2,   197.0,2,   52.46,2,   33.59,2,    0.00,2,    2.25,2,   1.399,2,   0.707,2,   0.075,2,  2225.9,6,  2317.0,2,  -999.0,9,   20.00,   7.5934,2,    25.00,-999.000,9, -999.00,-999.000,9,-999.000,9, -999.00,9,  -999.0,9,  -999.0,-999.000,9,-999.000,   1.495,3,   39.07,2,  951.30,-999.0000,9,-999.0000,9,-999.0000,9,-999.0000,9,-999.0000,9,-999.0000,9,   2.7114,     -999.0,-999.000,     -999.0,          9,     -999.0,          9,-999.000,          9
 33RO200501,       A16S,      39,          1,         17,         17,2,20050127,       2031,   -43.0008,   -29.6480,       4418,  1050.7,   2.7457,  34.4390,2,  34.4382,2,    189.0,2,   188.0,2,   56.95,2,   33.64,2,    0.00,2,    2.27,2,   1.026,2,   0.492,2,   0.048,2,  2231.3,2,  2323.4,2,  -999.0,9,   20.00,   7.5790,2,    25.00,-999.000,9, -999.00,-999.000,9,-999.000,9, -999.00,9,  -999.0,9,  -999.0,-999.000,9,-999.000,   1.212,3,   39.16,2, 1050.70,-999.0000,9,-999.0000,9,-999.0000,9,-999.0000,9,-999.0000,9,-999.0000,9,   2.6762,     -999.0,-999.000,     -999.0,          9,     -999.0,          9,-999.000,          9
 33RO200501,       A16S,      39,          1,         16,         16,2,20050127,       2031,   -43.0008,   -29.6480,       4418,  1150.0,   2.7064,  34.5018,2,  34.5032,2,    182.1,2,   180.2,2,   62.06,2,   33.61,2,    0.00,2,    2.27,2,-999.000,9,-999.000,9,-999.000,9,  2238.6,2,  2332.6,2,  -999.0,9,   20.00,   7.5907,2,    25.00,-999.000,9, -999.00,-999.000,9,-999.000,9, -999.00,9,  -999.0,9,  -999.0,-999.000,9,-999.000,-999.000,9,   39.04,2, 1150.00,-999.0000,9,-999.0000,9,-999.0000,9,-999.0000,9,-999.0000,9,-999.0000,9,   2.6296,     -999.0,-999.000,     -999.0,          9,     -999.0,          9,-999.000,          9
 33RO200501,       A16S,      39,          1,         15,         15,2,20050127,       2031,   -43.0008,   -29.6480,       4418,  1250.5,   2.7356,  34.5682,2,  34.5678,2,    178.4,2,   179.0,2,   63.55,2,   33.00,2,    0.00,2,    2.24,2,   0.425,2,   0.199,2,   0.009,2,  2239.4,2,  2326.0,2,  -999.0,9,   20.00,   7.5864,2,    25.00,-999.000,9, -999.00,-999.000,9,-999.000,9, -999.00,9,  -999.0,9,  -999.0,-999.000,9,-999.000,   0.610,3,   38.74,2, 1250.50,-999.0000,9,-999.0000,9,-999.0000,9,-999.0000,9,-999.0000,9,-999.0000,9,   2.6507,     -999.0,-999.000,     -999.0,          9,     -999.0,          9,-999.000,          9
 33RO200501,       A16S,      39,          1,         14,         14,2,20050127,       2031,   -43.0008,   -29.6480,       4418,  1399.9,   2.6757,  34.6218,2,  34.6201,2,    176.9,2,   177.4,2,   67.19,2,   32.48,2,    0.00,2,    2.19,2,   0.322,2,   0.155,2,   0.000,2,  2242.3,2,  2341.3,2,  -999.0,9,   20.00,   7.5917,6,    25.00,-999.000,9, -999.00,-999.000,9,-999.000,9, -999.00,9,  -999.0,9,  -999.0,-999.000,9,-999.000,   0.473,3,   39.05,2, 1399.90,-999.0000,9,-999.0000,9,-999.0000,9,-999.0000,9,-999.0000,9,-999.0000,9,   2.5795,     -999.0,-999.000,     -999.0,          9,     -999.0,          9,-999.000,          9
 33RO200501,       A16S,      39,          1,         13,         13,2,20050127,       2031,   -43.0008,   -29.6480,       4418,  1602.1,   2.6660,  34.6943,2,  34.6942,2,    182.9,2,   183.5,2,   68.00,2,   31.07,2,    0.00,2,    2.10,2,   0.189,2,   0.084,2,  -0.004,2,  2239.4,2,  2345.4,2,  -999.0,9,   20.00,   7.6055,2,    25.00,-999.000,9, -999.00,-999.000,9,-999.000,9, -999.00,9,  -999.0,9,  -999.0,-999.000,9,-999.000,   0.326,3,   39.11,2, 1602.10,-999.0000,9,-999.0000,9,-999.0000,9,-999.0000,9,-999.0000,9,-999.0000,9,   2.5533,     -999.0,-999.000,     -999.0,          9,     -999.0,          9,-999.000,          9
 33RO200501,       A16S,      39,          1,         12,         12,2,20050127,       2031,   -43.0008,   -29.6480,       4418,  1801.9,   2.7686,  34.7651,2,  34.7649,2,    196.3,2,   196.5,2,   61.60,2,   28.74,2,    0.00,2,    1.94,2,   0.131,6,   0.058,6,  -0.005,6,  2226.3,2,  2341.9,2,  -999.0,9,   20.00,   7.6532,3,    25.00,-999.000,9, -999.00,-999.000,9,-999.000,9, -999.00,9,  -999.0,9,  -999.0,-999.000,9,-999.000,   0.254,3,   39.36,2, 1801.90,-999.0000,9,-999.0000,9,-999.0000,9,-999.0000,9,-999.0000,9,-999.0000,9,   2.6375,     -999.0,-999.000,     -999.0,          9,     -999.0,          9,-999.000,          9
 33RO200501,       A16S,      39,          1,         11,         11,2,20050127,       2031,   -43.0008,   -29.6480,       4418,  1998.6,   2.7691,  34.8120,2,  34.8117,2,    207.6,2,   208.6,2,   56.97,2,   26.92,2,    0.00,2,    1.82,2,-999.000,9,-999.000,9,-999.000,9,  2217.5,2,  2341.6,2,  -999.0,9,   20.00,   7.6620,2,    25.00,-999.000,9, -999.00,-999.000,9,-999.000,9, -999.00,9,  -999.0,9,  -999.0,-999.000,9,-999.000,-999.000,9,   39.15,2, 1998.60,-999.0000,9,-999.0000,9,-999.0000,9,-999.0000,9,-999.0000,9,-999.0000,9,   2.6205,     -999.0,-999.000,     -999.0,          9,     -999.0,          9,-999.000,          9
 33RO200501,       A16S,      39,          1,         10,         10,2,20050127,       2031,   -43.0008,   -29.6480,       4418,  2200.7,   2.7632,  34.8444,2,  34.8446,2,    219.5,2,   218.9,2,   52.09,2,   25.36,2,    0.00,2,    1.71,2,   0.069,2,   0.055,2,  -0.002,2,  2207.9,2,  2340.4,2,  -999.0,9,   20.00,   7.6804,2,    25.00,-999.000,9, -999.00,-999.000,9,-999.000,9, -999.00,9,  -999.0,9,  -999.0,-999.000,9,-999.000,   0.203,3,   39.47,2, 2200.70,-999.0000,9,-999.0000,9,-999.0000,9,-999.0000,9,-999.0000,9,-999.0000,9,   2.5963,     -999.0,-999.000,     -999.0,          9,     -999.0,          9,-999.000,          9
 33RO200501,       A16S,      39,          1,          9,          9,2,20050127,       2031,   -43.0008,   -29.6480,       4418,  2399.5,   2.6518,  34.8530,2,  34.8533,2,    224.0,2,   223.6,2,   52.15,2,   24.79,2,    0.00,2,    1.68,2,   0.062,2,   0.029,2,  -0.002,2,  2206.1,2,  2340.2,2,  -999.0,9,   20.00,   7.6891,2,    25.00,-999.000,9, -999.00,-999.000,9,-999.000,9, -999.00,9,  -999.0,9,  -999.0,-999.000,9,-999.000,   0.163,3,   39.49,2, 2399.50,-999.0000,9,-999.0000,9,-999.0000,9,-999.0000,9,-999.0000,9,-999.0000,9,   2.4682,     -999.0,-999.000,     -999.0,          9,     -999.0,          9,-999.000,          9
 33RO200501,       A16S,      39,          1,          8,          8,2,20050127,       2031,   -43.0008,   -29.6480,       4418,  2600.9,   2.3289,  34.8194,2,  34.8197,2,    216.6,2,   215.1,2,   64.65,2,   26.38,2,    0.00,2,    1.81,2,-999.000,9,-999.000,9,-999.000,9,  2219.6,2,  2346.6,2,  -999.0,9,   20.00,   7.6730,2,    25.00,-999.000,9, -999.00,-999.000,9,-999.000,9, -999.00,9,  -999.0,9,  -999.0,-999.000,9,-999.000,-999.000,9,   39.39,2, 2600.90,-999.0000,9,-999.0000,9,-999.0000,9,-999.0000,9,-999.0000,9,-999.0000,9,   2.1323,     -999.0,-999.000,     -999.0,          9,     -999.0,          9,-999.000,          9