BOTTLE,20220818CCHSIOAMB
EXPOCODE,SECT_ID,STNNBR,CASTNO,SAMPNO,BTLNBR,BTLNBR_FLAG_W,DATE,TIME,LATITUDE,LONGITUDE,DEPTH,CTDPRS,CTDTMP,CTDSAL,CTDSAL_FLAG_W,SALNTY,SALNTY_FLAG_W,CTDOXY,CTDOXY_FLAG_W,OXYGEN,OXYGEN_FLAG_W,SILCAT,SILCAT_FLAG_W,NITRAT,NITRAT_FLAG_W,NITRIT,NITRIT_FLAG_W,PHSPHT,PHSPHT_FLAG_W,CFC-11,CFC-11_FLAG_W,CFC-12,CFC-12_FLAG_W,CFC113,CFC113_FLAG_W,TCARBN,TCARBN_FLAG_W,ALKALI,ALKALI_FLAG_W,PCO2,PCO2_FLAG_W,PCO2TMP,PH_SWS,PH_SWS_FLAG_W,PH_TMP,TRITUM,TRITUM_FLAG_W,TRITER,HELIUM,HELIUM_FLAG_W,DELHE3,DELHE3_FLAG_W,DELC13,DELC13_FLAG_W,DELC14,DELC14_FLAG_W,C14ERR,NEON,NEON_FLAG_W,NEONER,CCL4,CCL4_FLAG_W,DOC,DOC_FLAG_W,CTDRAW,CDOM325,CDOM325_FLAG_W,CDOM340,CDOM340_FLAG_W,CDOM380,CDOM380_FLAG_W,CDOM412,CDOM412_FLAG_W,CDOMSL,CDOMSL_FLAG_W,CDOMSN,CDOMSN_FLAG_W,THETA,HELIER,DELHER,CH3CL,CH3CL_FLAG_W,CH3BR,CH3BR_FLAG_W,CH3I,CH3I_FLAG_W
,,,,,,,,,,,METERS,DBAR,ITS-90,PSS-78,,PSS-78,,UMOL/KG,,UMOL/KG,,UMOL/KG,,UMOL/KG,,UMOL/KG,,UMOL/KG,,PMOL/KG,,PMOL/KG,,PMOL/KG,,UMOL/KG,,UMOL/KG,,UATM,,DEG C,,,DEG C,TU,,TU,NMOL/KG,,PERCNT,,/MILLE,,/MILLE,,/MILLE,NMOL/KG,,NMOL/KG,PMOL/KG,,UMOL/KG,,DBAR,1/M,,1/M,,1/M,,1/M,,1/NM,,1/NM,,DEG C,NMOL/KG,PERCNT,PMOL/KG,,PMOL/KG,,PMOL/KG,
 33RO200501,       A16S,      94,          1,          7,          7,2,20050213,       1644,   -15.5003,   -24.9997,       5120,  3347.6,   2.5308,  34.8933,2,  34.8953,2,    244.5,2,   244.4,2,   42.28,2,   21.99,2,    0.00,2,    1.43,2,-999.000,9,-999.000,9,-999.000,9,  2191.6,2,  2332.4,2,  -999.0,9,   20.00,   7.7182,2,    25.00,-999.000,9, -999.00,-999.000,9,-999.000,9, -999.00,9,  -999.0,9,  -999.0,-999.000,9,-999.000,-999.000,9, -999.00,9, 3347.60,-999.0000,9,-999.0000,9,-999.0000,9,-999.0000,9,-999.0000,9,-999.0000,9,   2.2541,     -999.0,-999.000,     -999.0,          9,     -999.0,          9,-999.000,          9
 33RO200501,       A16S,      94,          1,          6,          6,2,20050213,       1644,   -15.5003,   -24.9997,       5120,  3648.3,   2.3420,  34.8789,2,  34.8803,2,    245.5,2,   245.3,2,   46.99,2,   22.38,2,    0.00,2,    1.46,2,-999.000,9,-999.000,9,-999.000,9,  -999.0,9,  -999.0,9,  -999.0,9,   20.00,-999.0000,9,    25.00,-999.000,9, -999.00,-999.000,9,-999.000,9, -999.00,9,  -999.0,9,  -999.0,-999.000,9,-999.000,-999.000,9, -999.00,9, 3648.30,-999.0000,9,-999.0000,9,-999.0000,9,-999.0000,9,-999.0000,9,-999.0000,9,   2.0376,     -999.0,-999.000,     -999.0,          9,     -999.0,          9,-999.000,          9
 33RO200501,       A16S,      94,          1,          5,          5,2,20050213,       1644,   -15.5003,   -24.9997,       5120,  3942.9,   1.8673,  34.8331,2,  34.8327,2,    240.3,2,   240.1,2,   64.21,2,   24.54,2,    0.00,2,    1.63,2,   0.011,2,   0.007,2,   0.003,2,  -999.0,9,  -999.0,9,  -999.0,9,   20.00,-999.0000,9,    25.00,-999.000,9, -999.00,-999.000,9,-999.000,9, -999.00,9,  -999.0,9,  -999.0,-999.000,9,-999.000,   0.043,4, -999.00,9, 3942.90,-999.0000,9,-999.0000,9,-999.0000,9,-999.0000,9,-999.0000,9,-999.0000,9,   1.5434,     -999.0,-999.000,      1.962,          2,      0.000,          2,   0.006,          2
 33RO200501,       A16S,      94,          1,          4,          4,2,20050213,       1644,   -15.5003,   -24.9997,       5120,  4229.5,   1.4069,  34.7876,2,  34.7869,2,    234.3,2,   234.0,2,   82.21,6,   26.80,6,    0.00,6,    1.81,6,-999.000,9,-999.000,9,-999.000,9,  2229.2,2,  2351.5,2,  -999.0,9,   20.00,   7.6725,2,    25.00,-999.000,9, -999.00,-999.000,9,-999.000,9, -999.00,9,  -999.0,9,  -999.0,-999.000,9,-999.000,-999.000,9, -999.00,9, 4229.50,-999.0000,9,-999.0000,9,-999.0000,9,-999.0000,9,-999.0000,9,-999.0000,9,   1.0648,     -999.0,-999.000,     -999.0,          9,     -999.0,          9,-999.000,          9
 33RO200501,       A16S,      94,          1,          3,          3,2,20050213,       1644,   -15.5003,   -24.9997,       5120,  4549.0,   1.0673,  34.7512,2,  34.7533,2,    229.0,2,   229.6,2,   95.90,6,   28.56,6,    0.00,6,    1.95,6,-999.000,9,-999.000,9,-999.000,9,  -999.0,9,  -999.0,9,  -999.0,9,   20.00,-999.0000,9,    25.00,-999.000,9, -999.00,-999.000,9,-999.000,9, -999.00,9,  -999.0,9,  -999.0,-999.000,9,-999.000,-999.000,9, -999.00,9, 4549.00,-999.0000,9,-999.0000,9,-999.0000,9,-999.0000,9,-999.0000,9,-999.0000,9,   0.6998,     -999.0,-999.000,      4.985,          2,      0.371,          2,   0.100,          2
 33RO200501,       A16S,      94,          1,          2,          2,2,20050213,       1644,   -15.5003,   -24.9997,       5120,  4842.6,   0.8590,  34.7275,2,  34.7270,2,    225.5,2,   226.1,2,  104.92,6,   29.76,6,    0.00,6,    2.04,6,-999.000,9,-999.000,9,-999.000,9,  -999.0,9,  -999.0,9,  -999.0,9,   20.00,-999.0000,9,    25.00,-999.000,9, -999.00,-999.000,9,-999.000,9, -999.00,9,  -999.0,9,  -999.0,-999.000,9,-999.000,-999.000,9, -999.00,9, 4842.60,-999.0000,9,-999.0000,9,-999.0000,9,-999.0000,9,-999.0000,9,-999.0000,9,   0.4647,     -999.0,-999.000,     -999.0,          9,     -999.0,          9,-999.000,          9
 33RO200501,       A16S,      94,          1,          1,          1,2,20050213,       1644,   -15.5003,   -24.9997,       5120,  5053.2,   0.8368,  34.7224,2,  34.7217,2,    224.9,2,   225.0,2,  106.72,6,   30.04,6,    0.00,6,    2.06,6,   0.047,2,   0.025,2,   0.003,2,  2251.2,2,  2363.2,2,  -999.0,9,   20.00,   7.6341,2,    25.00,-999.000,9, -999.00,-999.000,9,-999.000,9, -999.00,9,  -999.0,9,  -999.0,-999.000,9,-999.000,   0.102,4, -999.00,9, 5053.20,-999.0000,9,-999.0000,9,-999.0000,9,-999.0000,9,-999.0000,9,-999.0000,9,   0.4185,     -999.0,-999.000,     14.097,          2,      1.356,          2,   0.586,          2