BOTTLE,20220818CCHSIOAMB
EXPOCODE,SECT_ID,STNNBR,CASTNO,SAMPNO,BTLNBR,BTLNBR_FLAG_W,DATE,TIME,LATITUDE,LONGITUDE,DEPTH,CTDPRS,CTDTMP,CTDSAL,CTDSAL_FLAG_W,SALNTY,SALNTY_FLAG_W,CTDOXY,CTDOXY_FLAG_W,OXYGEN,OXYGEN_FLAG_W,SILCAT,SILCAT_FLAG_W,NITRAT,NITRAT_FLAG_W,NITRIT,NITRIT_FLAG_W,PHSPHT,PHSPHT_FLAG_W,CFC-11,CFC-11_FLAG_W,CFC-12,CFC-12_FLAG_W,CFC113,CFC113_FLAG_W,TCARBN,TCARBN_FLAG_W,ALKALI,ALKALI_FLAG_W,PCO2,PCO2_FLAG_W,PCO2TMP,PH_SWS,PH_SWS_FLAG_W,PH_TMP,TRITUM,TRITUM_FLAG_W,TRITER,HELIUM,HELIUM_FLAG_W,DELHE3,DELHE3_FLAG_W,DELC13,DELC13_FLAG_W,DELC14,DELC14_FLAG_W,C14ERR,NEON,NEON_FLAG_W,NEONER,CCL4,CCL4_FLAG_W,DOC,DOC_FLAG_W,CTDRAW,CDOM325,CDOM325_FLAG_W,CDOM340,CDOM340_FLAG_W,CDOM380,CDOM380_FLAG_W,CDOM412,CDOM412_FLAG_W,CDOMSL,CDOMSL_FLAG_W,CDOMSN,CDOMSN_FLAG_W,THETA,HELIER,DELHER,CH3CL,CH3CL_FLAG_W,CH3BR,CH3BR_FLAG_W,CH3I,CH3I_FLAG_W
,,,,,,,,,,,METERS,DBAR,ITS-90,PSS-78,,PSS-78,,UMOL/KG,,UMOL/KG,,UMOL/KG,,UMOL/KG,,UMOL/KG,,UMOL/KG,,PMOL/KG,,PMOL/KG,,PMOL/KG,,UMOL/KG,,UMOL/KG,,UATM,,DEG C,,,DEG C,TU,,TU,NMOL/KG,,PERCNT,,/MILLE,,/MILLE,,/MILLE,NMOL/KG,,NMOL/KG,PMOL/KG,,UMOL/KG,,DBAR,1/M,,1/M,,1/M,,1/M,,1/NM,,1/NM,,DEG C,NMOL/KG,PERCNT,PMOL/KG,,PMOL/KG,,PMOL/KG,
 33RO200501,       A16S,      81,          1,         36,         36,2,20050209,       1544,   -21.9975,   -24.9997,       5305,     2.1,  26.9015,  37.2898,2,  37.2920,2,    202.1,2,   201.4,2,    2.35,2,    0.00,2,    0.00,2,    0.07,2,   1.649,2,   1.071,2,   0.137,2,  2097.6,6,  2448.3,2,   307.9,2,   20.00,   8.0695,2,    25.00,-999.000,9, -999.00,-999.000,9,-999.000,9, -999.00,9,  -999.0,9,  -999.0,-999.000,9,-999.000,   1.416,4,   66.78,2,    2.10,   0.0960,2,   0.0690,2,   0.0360,2,   0.0220,2,   0.0176,2,   0.0186,2,  26.9010,     -999.0,-999.000,     -999.0,          9,     -999.0,          9,-999.000,          9
 33RO200501,       A16S,      81,          1,         35,         35,2,20050209,       1544,   -21.9975,   -24.9997,       5305,    23.8,  26.8075,  37.2902,2,  37.2839,2,    202.3,2,   202.9,2,    2.34,2,    0.00,2,    0.00,2,    0.07,2,   1.652,2,   1.074,2,   0.139,2,  2095.9,2,  2445.6,2,  -999.0,9,   20.00,   8.0683,6,    25.00,-999.000,9, -999.00,-999.000,9,-999.000,9, -999.00,9,  -999.0,9,  -999.0,-999.000,9,-999.000,   1.414,4, -999.00,9,   23.80,-999.0000,9,-999.0000,9,-999.0000,9,-999.0000,9,-999.0000,9,-999.0000,9,  26.8020,     -999.0,-999.000,     -999.0,          9,     -999.0,          9,-999.000,          9
 33RO200501,       A16S,      81,          1,         34,         34,2,20050209,       1544,   -21.9975,   -24.9997,       5305,    48.1,  24.8591,  37.0642,2,  37.0611,2,    217.9,2,   217.6,2,    2.34,2,    0.00,2,    0.00,2,    0.11,2,   1.851,2,   1.200,2,   0.154,2,  2093.1,2,  2430.2,2,   316.4,2,   20.00,   8.0566,2,    25.00,-999.000,9, -999.00,-999.000,9,-999.000,9, -999.00,9,  -999.0,9,  -999.0,-999.000,9,-999.000,   1.334,4,   65.99,2,   48.10,   0.0990,2,   0.0760,2,   0.0440,2,   0.0240,3,   0.0153,3,   0.0150,3,  24.8487,     -999.0,-999.000,     -999.0,          9,     -999.0,          9,-999.000,          9
 33RO200501,       A16S,      81,          1,         33,         33,2,20050209,       1544,   -21.9975,   -24.9997,       5305,    73.9,  23.5730,  36.9401,2,  36.9356,2,    223.5,2,   223.4,2,    2.35,2,    0.00,2,    0.00,2,    0.11,2,-999.000,9,-999.000,9,-999.000,9,  2088.6,2,  -999.0,5,  -999.0,9,   20.00,   8.0549,2,    25.00,-999.000,9, -999.00,-999.000,9,-999.000,9, -999.00,9,  -999.0,9,  -999.0,-999.000,9,-999.000,-999.000,9, -999.00,9,   73.90,-999.0000,9,-999.0000,9,-999.0000,9,-999.0000,9,-999.0000,9,-999.0000,9,  23.5576,     -999.0,-999.000,     -999.0,          9,     -999.0,          9,-999.000,          9
 33RO200501,       A16S,      81,          1,         32,         32,2,20050209,       1544,   -21.9975,   -24.9997,       5305,    99.0,  22.5266,  36.7729,2,  36.7560,2,    222.9,2,   223.3,2,    2.53,2,    0.01,2,    0.00,2,    0.10,2,   2.009,2,   1.278,2,   0.174,2,  2087.5,2,  2406.5,2,   329.0,2,   20.00,   8.0443,2,    25.00,-999.000,9, -999.00,-999.000,9,-999.000,9, -999.00,9,  -999.0,9,  -999.0,-999.000,9,-999.000,   1.309,4,   64.56,2,   99.00,   0.1050,2,   0.0740,2,   0.0360,2,   0.0200,2,   0.0192,2,   0.0201,2,  22.5066,     -999.0,-999.000,     -999.0,          9,     -999.0,          9,-999.000,          9
 33RO200501,       A16S,      81,          1,         31,         31,2,20050209,       1544,   -21.9975,   -24.9997,       5305,   118.7,  22.0438,  36.7196,2,  36.7108,2,    219.5,2,   218.8,2,    2.40,2,    0.01,2,    0.00,2,    0.11,2,-999.000,9,-999.000,9,-999.000,9,  2089.1,2,  2406.1,2,   335.6,2,   20.00,   8.0372,2,    25.00,-999.000,9, -999.00,-999.000,9,-999.000,9, -999.00,9,  -999.0,9,  -999.0,-999.000,9,-999.000,-999.000,9,   60.62,2,  118.70,   0.1520,2,   0.1100,2,   0.0540,2,   0.0300,2,   0.0187,2,   0.0189,2,  22.0201,     -999.0,-999.000,     -999.0,          9,     -999.0,          9,-999.000,          9
 33RO200501,       A16S,      81,          1,         30,         30,2,20050209,       1544,   -21.9975,   -24.9997,       5305,   148.2,  20.9981,  36.5305,2,  36.5181,2,    215.5,2,   214.4,2,    2.50,2,    0.05,2,    0.01,2,    0.13,2,   2.115,2,   1.321,2,   0.159,2,  2093.8,2,  2394.5,2,  -999.0,9,   20.00,   8.0088,2,    25.00,-999.000,9, -999.00,-999.000,9,-999.000,9, -999.00,9,  -999.0,9,  -999.0,-999.000,9,-999.000,   1.132,4,   56.93,2,  148.20,   0.1520,2,   0.1200,2,   0.0690,2,   0.0390,2,   0.0156,2,   0.0150,2,  20.9695,     -999.0,-999.000,     -999.0,          9,     -999.0,          9,-999.000,          9
 33RO200501,       A16S,      81,          1,         29,         29,2,20050209,       1544,   -21.9975,   -24.9997,       5305,   199.8,  17.9595,  35.9556,2,  35.9416,2,    204.3,2,   204.4,2,    2.93,2,    1.86,2,    0.02,2,    0.30,2,   2.442,2,   1.489,2,   0.117,2,  2100.7,2,  2356.1,2,   424.9,2,   20.00,   7.9514,2,    25.00,-999.000,9, -999.00,-999.000,9,-999.000,9, -999.00,9,  -999.0,9,  -999.0,-999.000,9,-999.000,   0.726,4,   49.81,2,  199.80,-999.0000,9,-999.0000,9,-999.0000,9,-999.0000,9,-999.0000,9,-999.0000,9,  17.9250,     -999.0,-999.000,     -999.0,          9,     -999.0,          9,-999.000,          9
 33RO200501,       A16S,      81,          1,         28,         28,2,20050209,       1544,   -21.9975,   -24.9997,       5305,   248.6,  15.8864,  35.6003,2,  35.5906,2,    204.2,2,   204.3,2,    3.36,2,    4.67,2,    0.01,2,    0.44,2,-999.000,5,-999.000,5,-999.000,5,  2103.4,2,  2336.3,2,  -999.0,9,   20.00,   7.9121,2,    25.00,-999.000,9, -999.00,-999.000,9,-999.000,9, -999.00,9,  -999.0,9,  -999.0,-999.000,9,-999.000,-999.000,5,   46.27,2,  248.60,   0.1390,2,   0.1040,2,   0.0500,2,   0.0310,3,   0.0179,3,   0.0182,3,  15.8470,     -999.0,-999.000,     -999.0,          9,     -999.0,          9,-999.000,          9
 33RO200501,       A16S,      81,          1,         27,         27,2,20050209,       1544,   -21.9975,   -24.9997,       5305,   298.6,  14.4297,  35.3814,2,  35.3739,2,    203.4,2,   205.1,2,    3.97,2,    7.27,2,    0.00,2,    0.58,2,   2.810,2,   1.607,2,   0.032,2,  2108.7,2,  2314.2,4,   512.9,2,   20.00,   7.8782,2,    25.00,-999.000,9, -999.00,-999.000,9,-999.000,9, -999.00,9,  -999.0,9,  -999.0,-999.000,9,-999.000,   0.526,4,   45.85,2,  298.60,-999.0000,9,-999.0000,9,-999.0000,9,-999.0000,9,-999.0000,9,-999.0000,9,  14.3853,     -999.0,-999.000,     -999.0,          9,     -999.0,          9,-999.000,          9
 33RO200501,       A16S,      81,          1,         26,         26,2,20050209,       1544,   -21.9975,   -24.9997,       5305,   348.8,  12.8181,  35.1595,2,  35.1611,2,    201.8,2,   202.9,2,    5.19,2,   10.87,2,    0.00,2,    0.78,2,   2.825,2,   1.585,2,   0.052,2,  2119.7,2,  2313.8,2,   572.2,2,   20.00,   7.8385,2,    25.00,-999.000,9, -999.00,-999.000,9,-999.000,9, -999.00,9,  -999.0,9,  -999.0,-999.000,9,-999.000,   0.626,4,   44.67,2,  348.80,   0.1170,2,   0.0840,2,   0.0420,2,   0.0290,2,   0.0171,2,   0.0183,2,  12.7702,     -999.0,-999.000,     -999.0,          9,     -999.0,          9,-999.000,          9
 33RO200501,       A16S,      81,          1,         25,         25,2,20050209,       1544,   -21.9975,   -24.9997,       5305,   399.1,  11.5229,  34.9950,2,  34.9985,2,    198.8,2,   199.3,2,    6.82,2,   14.21,2,    0.00,2,    0.98,2,   2.824,2,   1.574,2,   0.054,2,  2131.2,2,  2303.2,2,   633.1,2,   20.00,   7.8005,2,    25.00,-999.000,9, -999.00,-999.000,9,-999.000,9, -999.00,9,  -999.0,9,  -999.0,-999.000,9,-999.000,   0.781,4, -999.00,9,  399.10,-999.0000,9,-999.0000,9,-999.0000,9,-999.0000,9,-999.0000,9,-999.0000,9,  11.4718,     -999.0,-999.000,     -999.0,          9,     -999.0,          9,-999.000,          9
 33RO200501,       A16S,      81,          1,         24,         24,2,20050209,       1544,   -21.9975,   -24.9997,       5305,   498.3,   9.5032,  34.7568,2,  34.7495,2,    190.0,2,   189.4,2,   10.78,2,   20.19,2,    0.00,2,    1.34,2,   2.532,2,   1.335,2,   0.069,2,  2153.7,2,  2292.1,2,   761.6,2,   20.00,   7.7438,2,    25.00,-999.000,9, -999.00,-999.000,9,-999.000,9, -999.00,9,  -999.0,9,  -999.0,-999.000,9,-999.000,   1.019,4,   42.66,2,  498.30,   0.1380,2,   0.1000,2,   0.0510,3,   0.0330,3,   0.0167,3,   0.0176,3,   9.4465,     -999.0,-999.000,     -999.0,          9,     -999.0,          9,-999.000,          9
 33RO200501,       A16S,      81,          1,         23,         23,2,20050209,       1544,   -21.9975,   -24.9997,       5305,   599.0,   7.0796,  34.5229,2,  34.5233,2,    184.9,2,   186.2,2,   16.98,2,   25.97,2,    0.00,2,    1.70,2,   2.079,2,   1.053,2,   0.078,2,  2174.5,2,  2258.4,4,   903.5,2,   20.00,   7.6621,2,    25.00,-999.000,9, -999.00,-999.000,9,-999.000,9, -999.00,9,  -999.0,9,  -999.0,-999.000,9,-999.000,   1.346,4, -999.00,9,  599.00,-999.0000,9,-999.0000,9,-999.0000,9,-999.0000,9,-999.0000,9,-999.0000,9,   7.0220,     -999.0,-999.000,     -999.0,          9,     -999.0,          9,-999.000,          9
 33RO200501,       A16S,      81,          1,         22,         22,2,20050209,       1544,   -21.9975,   -24.9997,       5305,   698.7,   5.5053,  34.4100,2,  34.4085,2,    189.3,2,   190.7,2,   23.77,2,   29.21,2,    0.00,2,    1.91,2,   1.591,2,   0.792,2,   0.057,2,  2188.3,2,  2287.5,2,   984.5,2,   20.00,   7.6398,2,    25.00,-999.000,9, -999.00,-999.000,9,-999.000,9, -999.00,9,  -999.0,9,  -999.0,-999.000,9,-999.000,   1.425,4,   40.33,2,  698.70,   0.1050,3,   0.0690,3,   0.0340,3,   0.0240,3,   0.0201,3,   0.0222,3,   5.4460,     -999.0,-999.000,     -999.0,          9,     -999.0,          9,-999.000,          9
 33RO200501,       A16S,      81,          1,         21,         21,2,20050209,       1544,   -21.9975,   -24.9997,       5305,   798.2,   4.5256,  34.4108,2,  34.4109,2,    182.3,2,   179.1,2,   32.46,2,   31.80,2,    0.00,2,    2.09,2,   0.668,2,   0.357,2,   0.019,2,  2206.5,2,  2297.5,2,  1077.1,2,   20.00,   7.5997,2,    25.00,-999.000,9, -999.00,-999.000,9,-999.000,9, -999.00,9,  -999.0,9,  -999.0,-999.000,9,-999.000,   0.828,4, -999.00,9,  798.20,-999.0000,9,-999.0000,9,-999.0000,9,-999.0000,9,-999.0000,9,-999.0000,9,   4.4633,     -999.0,-999.000,     -999.0,          9,     -999.0,          9,-999.000,          9
 33RO200501,       A16S,      81,          1,         20,         20,2,20050209,       1544,   -21.9975,   -24.9997,       5305,   898.4,   4.1343,  34.4345,2,  34.4340,2,    178.1,2,   177.7,2,   36.43,6,   32.21,6,    0.00,6,    2.12,6,   0.378,2,   0.192,2,   0.013,2,  2211.6,2,  2317.7,4,  1087.9,2,   20.00,   7.6076,2,    25.00,-999.000,9, -999.00,-999.000,9,-999.000,9, -999.00,9,  -999.0,9,  -999.0,-999.000,9,-999.000,   0.571,4,   39.65,2,  898.40,   0.1290,3,   0.0880,3,   0.0470,3,   0.0340,3,   0.0147,3,   0.0172,3,   4.0662,     -999.0,-999.000,     -999.0,          9,     -999.0,          9,-999.000,          9
 33RO200501,       A16S,      81,          1,         19,         19,2,20050209,       1544,   -21.9975,   -24.9997,       5305,   998.1,   3.7455,  34.4890,2,  34.4886,2,    180.0,2,   180.3,2,   40.90,2,   31.88,2,    0.00,2,    2.11,2,   0.150,2,   0.093,2,   0.006,2,  2216.1,6,  2303.8,6,  1075.1,2,   20.00,   7.6022,6,    25.00,-999.000,9, -999.00,-999.000,9,-999.000,9, -999.00,9,  -999.0,9,  -999.0,-999.000,9,-999.000,   0.326,4, -999.00,9,  998.10,-999.0000,9,-999.0000,9,-999.0000,9,-999.0000,9,-999.0000,9,-999.0000,9,   3.6720,     -999.0,-999.000,     -999.0,          9,     -999.0,          9,-999.000,          9
 33RO200501,       A16S,      81,          1,         18,         18,2,20050209,       1544,   -21.9975,   -24.9997,       5305,  1098.8,   3.4575,  34.5333,2,  34.5328,2,    184.5,2,   184.9,2,   45.01,6,   31.21,6,    0.00,6,    2.10,6,-999.000,9,-999.000,9,-999.000,9,  2218.8,2,  -999.0,5,  1060.9,2,   20.00,   7.6055,2,    25.00,-999.000,9, -999.00,-999.000,9,-999.000,9, -999.00,9,  -999.0,9,  -999.0,-999.000,9,-999.000,-999.000,9,   39.52,2, 1098.80,   0.1840,3,   0.1350,3,   0.0690,3,   0.0460,3,   0.0151,3,   0.0166,3,   3.3780,     -999.0,-999.000,     -999.0,          9,     -999.0,          9,-999.000,          9
 33RO200501,       A16S,      81,          1,         17,         17,2,20050209,       1544,   -21.9975,   -24.9997,       5305,  1197.1,   3.2297,  34.5879,2,  34.5870,2,    187.5,2,   187.1,2,   49.03,6,   30.68,6,    0.00,6,    2.05,6,   0.106,2,   0.049,2,   0.007,2,  2221.4,2,  -999.0,5,  1046.7,2,   20.00,   7.6097,2,    25.00,-999.000,9, -999.00,-999.000,9,-999.000,9, -999.00,9,  -999.0,9,  -999.0,-999.000,9,-999.000,   0.251,4,   39.64,2, 1197.10,-999.0000,9,-999.0000,9,-999.0000,9,-999.0000,9,-999.0000,9,-999.0000,9,   3.1443,     -999.0,-999.000,     -999.0,          9,     -999.0,          9,-999.000,          9
 33RO200501,       A16S,      81,          1,         16,         16,2,20050209,       1544,   -21.9975,   -24.9997,       5305,  1298.8,   3.2072,  34.6564,2,  34.6568,2,    192.2,2,   191.7,2,   48.19,6,   29.38,6,    0.00,6,    1.97,6,   0.043,2,   0.023,2,   0.000,2,  2218.8,2,  -999.0,5,  1008.6,2,   20.00,   7.6426,2,    25.00,-999.000,9, -999.00,-999.000,9,-999.000,9, -999.00,9,  -999.0,9,  -999.0,-999.000,9,-999.000,   0.147,4,   38.77,2, 1298.80,-999.0000,9,-999.0000,9,-999.0000,9,-999.0000,9,-999.0000,9,-999.0000,9,   3.1136,     -999.0,-999.000,     -999.0,          9,     -999.0,          9,-999.000,          9
 33RO200501,       A16S,      81,          1,         15,         15,2,20050209,       1544,   -21.9975,   -24.9997,       5305,  1498.3,   3.3802,  34.8293,2,  34.8291,2,    212.9,2,   215.6,2,   37.81,6,   24.84,6,    0.00,6,    1.68,6,   0.041,2,   0.025,2,   0.000,2,  2197.8,2,  2316.2,2,   879.5,2,   20.00,   7.6898,2,    25.00,-999.000,9, -999.00,-999.000,9,-999.000,9, -999.00,9,  -999.0,9,  -999.0,-999.000,9,-999.000,   0.144,4,   39.32,2, 1498.30,-999.0000,9,-999.0000,9,-999.0000,9,-999.0000,9,-999.0000,9,-999.0000,9,   3.2675,     -999.0,-999.000,     -999.0,          9,     -999.0,          9,-999.000,          9
 33RO200501,       A16S,      81,          1,         14,         14,2,20050209,       1544,   -21.9975,   -24.9997,       5305,  1700.4,   3.4203,  34.9138,2,  34.9135,2,    234.6,2,   236.3,2,   29.45,6,   21.56,6,    0.00,6,    1.39,6,   0.065,2,   0.033,2,   0.000,2,  2181.2,2,  2315.2,2,   793.3,2,   20.00,   7.7320,2,    25.00,-999.000,9, -999.00,-999.000,9,-999.000,9, -999.00,9,  -999.0,9,  -999.0,-999.000,9,-999.000,   0.204,4,   39.01,2, 1700.40,-999.0000,9,-999.0000,9,-999.0000,9,-999.0000,9,-999.0000,9,-999.0000,9,   3.2891,     -999.0,-999.000,     -999.0,          9,     -999.0,          9,-999.000,          9
 33RO200501,       A16S,      81,          1,         13,         13,2,20050209,       1544,   -21.9975,   -24.9997,       5305,  1898.7,   3.3348,  34.9428,2,  34.9425,2,    246.0,2,   245.5,2,   26.29,6,   20.14,6,    0.00,6,    1.29,6,   0.062,2,   0.041,2,   0.000,2,  2173.7,2,  2314.8,2,   757.7,2,   20.00,   7.7296,2,    25.00,-999.000,9, -999.00,-999.000,9,-999.000,9, -999.00,9,  -999.0,9,  -999.0,-999.000,9,-999.000,   0.213,4,   39.14,2, 1898.70,-999.0000,9,-999.0000,9,-999.0000,9,-999.0000,9,-999.0000,9,-999.0000,9,   3.1866,     -999.0,-999.000,     -999.0,          9,     -999.0,          9,-999.000,          9
 33RO200501,       A16S,      81,          1,         12,         12,2,20050209,       1544,   -21.9975,   -24.9997,       5305,  2100.8,   3.1919,  34.9448,2,  34.9440,2,    250.3,2,   250.1,2,   26.92,6,   19.78,6,    0.00,6,    1.27,6,   0.058,2,   0.030,2,   0.000,2,  2173.3,2,  2314.9,2,   752.0,2,   20.00,   7.7378,2,    25.00,-999.000,9, -999.00,-999.000,9,-999.000,9, -999.00,9,  -999.0,9,  -999.0,-999.000,9,-999.000,   0.197,4, -999.00,9, 2100.80,   0.1950,3,   0.1490,3,   0.0800,3,   0.0520,3,   0.0149,3,   0.0155,3,   3.0270,     -999.0,-999.000,     -999.0,          9,     -999.0,          9,-999.000,          9
 33RO200501,       A16S,      81,          1,         11,         11,2,20050209,       1544,   -21.9975,   -24.9997,       5305,  2299.0,   3.0682,  34.9398,2,  34.9397,2,    251.3,2,   250.8,2,   28.68,6,   19.88,6,    0.00,6,    1.29,6,   0.054,2,   0.030,2,   0.000,2,  2174.5,2,  2319.8,2,   750.4,2,   20.00,   7.7339,2,    25.00,-999.000,9, -999.00,-999.000,9,-999.000,9, -999.00,9,  -999.0,9,  -999.0,-999.000,9,-999.000,   0.176,4,   39.44,2, 2299.00,-999.0000,9,-999.0000,9,-999.0000,9,-999.0000,9,-999.0000,9,-999.0000,9,   2.8866,     -999.0,-999.000,     -999.0,          9,     -999.0,          9,-999.000,          9
 33RO200501,       A16S,      81,          1,         10,         10,2,20050209,       1544,   -21.9975,   -24.9997,       5305,  2499.4,   2.9325,  34.9319,2,  34.9323,2,    251.0,2,   250.4,2,   31.09,6,   20.10,6,    0.00,6,    1.31,6,   0.047,2,   0.028,2,   0.000,2,  2177.1,2,  2322.5,2,  -999.0,9,   20.00,   7.7296,2,    25.00,-999.000,9, -999.00,-999.000,9,-999.000,9, -999.00,9,  -999.0,9,  -999.0,-999.000,9,-999.000,   0.154,4, -999.00,9, 2499.40,-999.0000,9,-999.0000,9,-999.0000,9,-999.0000,9,-999.0000,9,-999.0000,9,   2.7339,     -999.0,-999.000,     -999.0,          9,     -999.0,          9,-999.000,          9
 33RO200501,       A16S,      81,          1,          9,          9,2,20050209,       1544,   -21.9975,   -24.9997,       5305,  2697.6,   2.8344,  34.9261,2,  34.9254,2,    250.8,2,   250.7,2,   32.86,6,   20.20,6,    0.00,6,    1.32,6,   0.037,2,   0.020,2,   0.000,2,  2178.7,2,  2322.7,2,   755.1,2,   20.00,   7.7388,2,    25.00,-999.000,9, -999.00,-999.000,9,-999.000,9, -999.00,9,  -999.0,9,  -999.0,-999.000,9,-999.000,   0.128,4,   39.45,2, 2697.60,-999.0000,9,-999.0000,9,-999.0000,9,-999.0000,9,-999.0000,9,-999.0000,9,   2.6181,     -999.0,-999.000,     -999.0,          9,     -999.0,          9,-999.000,          9
 33RO200501,       A16S,      81,          1,          8,          8,2,20050209,       1544,   -21.9975,   -24.9997,       5305,  2899.5,   2.7468,  34.9201,2,  34.9197,2,    250.6,2,   250.4,2,   35.42,2,   20.31,6,    0.00,2,    1.33,2,   0.019,2,   0.013,2,   0.000,2,  2180.4,2,  2325.8,2,   757.3,2,   20.00,   7.7523,2,    25.00,-999.000,9, -999.00,-999.000,9,-999.000,9, -999.00,9,  -999.0,9,  -999.0,-999.000,9,-999.000,   0.095,4, -999.00,9, 2899.50,   0.1560,2,   0.1150,2,   0.0630,2,   0.0430,2,   0.0143,2,   0.0155,2,   2.5119,     -999.0,-999.000,     -999.0,          9,     -999.0,          9,-999.000,          9