BOTTLE,20220818CCHSIOAMB
EXPOCODE,SECT_ID,STNNBR,CASTNO,SAMPNO,BTLNBR,BTLNBR_FLAG_W,DATE,TIME,LATITUDE,LONGITUDE,DEPTH,CTDPRS,CTDTMP,CTDSAL,CTDSAL_FLAG_W,SALNTY,SALNTY_FLAG_W,CTDOXY,CTDOXY_FLAG_W,OXYGEN,OXYGEN_FLAG_W,SILCAT,SILCAT_FLAG_W,NITRAT,NITRAT_FLAG_W,NITRIT,NITRIT_FLAG_W,PHSPHT,PHSPHT_FLAG_W,CFC-11,CFC-11_FLAG_W,CFC-12,CFC-12_FLAG_W,CFC113,CFC113_FLAG_W,TCARBN,TCARBN_FLAG_W,ALKALI,ALKALI_FLAG_W,PCO2,PCO2_FLAG_W,PCO2TMP,PH_SWS,PH_SWS_FLAG_W,PH_TMP,TRITUM,TRITUM_FLAG_W,TRITER,HELIUM,HELIUM_FLAG_W,DELHE3,DELHE3_FLAG_W,DELC13,DELC13_FLAG_W,DELC14,DELC14_FLAG_W,C14ERR,NEON,NEON_FLAG_W,NEONER,CCL4,CCL4_FLAG_W,DOC,DOC_FLAG_W,CTDRAW,CDOM325,CDOM325_FLAG_W,CDOM340,CDOM340_FLAG_W,CDOM380,CDOM380_FLAG_W,CDOM412,CDOM412_FLAG_W,CDOMSL,CDOMSL_FLAG_W,CDOMSN,CDOMSN_FLAG_W,THETA,HELIER,DELHER,CH3CL,CH3CL_FLAG_W,CH3BR,CH3BR_FLAG_W,CH3I,CH3I_FLAG_W
,,,,,,,,,,,METERS,DBAR,ITS-90,PSS-78,,PSS-78,,UMOL/KG,,UMOL/KG,,UMOL/KG,,UMOL/KG,,UMOL/KG,,UMOL/KG,,PMOL/KG,,PMOL/KG,,PMOL/KG,,UMOL/KG,,UMOL/KG,,UATM,,DEG C,,,DEG C,TU,,TU,NMOL/KG,,PERCNT,,/MILLE,,/MILLE,,/MILLE,NMOL/KG,,NMOL/KG,PMOL/KG,,UMOL/KG,,DBAR,1/M,,1/M,,1/M,,1/M,,1/NM,,1/NM,,DEG C,NMOL/KG,PERCNT,PMOL/KG,,PMOL/KG,,PMOL/KG,
 33RO200501,       A16S,     100,          1,         36,         36,2,20050215,       1108,   -12.4957,   -25.0005,       5389,     1.8,  27.6627,  36.7353,2,  36.7350,2,    203.3,2,   199.1,2,    1.95,2,    0.00,2,    0.00,2,    0.04,2,   1.605,2,   1.042,2,   0.119,2,  2057.2,6,  2405.5,3,  -999.0,9,   20.00,   8.0834,6,    25.00,-999.000,9, -999.00,-999.000,9,-999.000,9, -999.00,9,  -999.0,9,  -999.0,-999.000,9,-999.000,   1.359,4, -999.00,9,    1.80,-999.0000,9,-999.0000,9,-999.0000,9,-999.0000,9,-999.0000,9,-999.0000,9,  27.6623,     -999.0,-999.000,     63.581,          2,      0.733,          2,   3.100,          2
 33RO200501,       A16S,     100,          1,         35,         35,2,20050215,       1108,   -12.4957,   -25.0005,       5389,    23.5,  27.5931,  36.7339,2,  36.7552,2,    203.8,2,   199.6,2,    1.95,2,    0.00,2,    0.00,2,    0.04,2,-999.000,9,-999.000,9,-999.000,9,  -999.0,9,  -999.0,9,  -999.0,9,   20.00,-999.0000,9,    25.00,-999.000,9, -999.00,-999.000,9,-999.000,9, -999.00,9,  -999.0,9,  -999.0,-999.000,9,-999.000,-999.000,9, -999.00,9,   23.50,-999.0000,9,-999.0000,9,-999.0000,9,-999.0000,9,-999.0000,9,-999.0000,9,  27.5876,     -999.0,-999.000,     62.156,          2,      0.000,          2,   3.683,          2
 33RO200501,       A16S,     100,          1,         34,         34,2,20050215,       1108,   -12.4957,   -25.0005,       5389,    49.2,  26.0119,  37.0364,2,  37.0439,2,    206.5,2,   212.0,2,    1.95,2,    0.00,2,    0.00,2,    0.08,2,-999.000,9,-999.000,9,-999.000,9,  -999.0,9,  -999.0,9,  -999.0,9,   20.00,-999.0000,9,    25.00,-999.000,9, -999.00,-999.000,9,-999.000,9, -999.00,9,  -999.0,9,  -999.0,-999.000,9,-999.000,-999.000,9, -999.00,9,   49.20,-999.0000,9,-999.0000,9,-999.0000,9,-999.0000,9,-999.0000,9,-999.0000,9,  26.0008,     -999.0,-999.000,     -999.0,          9,     -999.0,          9,-999.000,          9
 33RO200501,       A16S,     100,          1,         33,         33,2,20050215,       1108,   -12.4957,   -25.0005,       5389,    74.6,  24.1635,  37.0370,2,  37.0337,2,    207.2,2,   217.1,2,    1.95,2,    0.00,2,    0.00,2,    0.12,2,   1.887,2,   1.191,2,   0.143,2,  2086.5,2,  2424.1,2,  -999.0,9,   20.00,   8.0656,2,    25.00,-999.000,9, -999.00,-999.000,9,-999.000,9, -999.00,9,  -999.0,9,  -999.0,-999.000,9,-999.000,   1.153,4, -999.00,9,   74.60,-999.0000,9,-999.0000,9,-999.0000,9,-999.0000,9,-999.0000,9,-999.0000,9,  24.1476,     -999.0,-999.000,    178.239,          2,      0.000,          2,   4.547,          2
 33RO200501,       A16S,     100,          1,         32,         32,2,20050215,       1108,   -12.4957,   -25.0005,       5389,    99.0,  23.3983,  36.9675,2,  36.9720,2,    202.7,2,   213.2,2,    2.05,2,    0.00,2,    0.00,2,    0.16,2,-999.000,9,-999.000,9,-999.000,9,  -999.0,9,  -999.0,9,  -999.0,9,   20.00,-999.0000,9,    25.00,-999.000,9, -999.00,-999.000,9,-999.000,9, -999.00,9,  -999.0,9,  -999.0,-999.000,9,-999.000,-999.000,9, -999.00,9,   99.00,-999.0000,9,-999.0000,9,-999.0000,9,-999.0000,9,-999.0000,9,-999.0000,9,  23.3777,     -999.0,-999.000,     -999.0,          9,     -999.0,          9,-999.000,          9
 33RO200501,       A16S,     100,          1,         31,         31,2,20050215,       1108,   -12.4957,   -25.0005,       5389,   124.5,  22.6402,  36.8496,2,  36.8376,2,    200.4,2,   207.3,2,    2.15,2,    0.10,2,    0.01,2,    0.20,2,   1.988,2,   1.238,2,   0.139,2,  2101.5,2,  2417.7,2,  -999.0,9,   20.00,   8.0251,2,    25.00,-999.000,9, -999.00,-999.000,9,-999.000,9, -999.00,9,  -999.0,9,  -999.0,-999.000,9,-999.000,   0.986,4, -999.00,9,  124.50,-999.0000,9,-999.0000,9,-999.0000,9,-999.0000,9,-999.0000,9,-999.0000,9,  22.6148,     -999.0,-999.000,     -999.0,          9,     -999.0,          9,-999.000,          9
 33RO200501,       A16S,     100,          1,         30,         30,2,20050215,       1108,   -12.4957,   -25.0005,       5389,   149.4,  19.6826,  36.2842,2,  36.2051,2,    173.3,2,   180.2,2,    3.22,2,    4.98,2,    0.12,2,    0.51,2,-999.000,9,-999.000,9,-999.000,9,  -999.0,9,  -999.0,9,  -999.0,9,   20.00,-999.0000,9,    25.00,-999.000,9, -999.00,-999.000,9,-999.000,9, -999.00,9,  -999.0,9,  -999.0,-999.000,9,-999.000,-999.000,9, -999.00,9,  149.40,-999.0000,9,-999.0000,9,-999.0000,9,-999.0000,9,-999.0000,9,-999.0000,9,  19.6551,     -999.0,-999.000,     13.323,          2,      0.000,          2,   0.235,          2
 33RO200501,       A16S,     100,          1,         29,         29,2,20050215,       1108,   -12.4957,   -25.0005,       5389,   199.8,  15.1315,  35.5334,2,  35.5069,2,    149.9,2,   168.3,2,    5.27,2,   11.62,2,    0.01,2,    0.84,2,   2.513,2,   1.448,2,   0.038,2,  2136.2,2,  2332.5,2,  -999.0,9,   20.00,   7.8323,2,    25.00,-999.000,9, -999.00,-999.000,9,-999.000,9, -999.00,9,  -999.0,9,  -999.0,-999.000,9,-999.000,   0.472,4, -999.00,9,  199.80,-999.0000,9,-999.0000,9,-999.0000,9,-999.0000,9,-999.0000,9,-999.0000,9,  15.1009,     -999.0,-999.000,     -999.0,          9,     -999.0,          9,-999.000,          9
 33RO200501,       A16S,     100,          1,         28,         28,2,20050215,       1108,   -12.4957,   -25.0005,       5389,   249.7,  12.5314,  35.1786,2,  35.1651,2,    140.8,2,   137.2,2,    8.40,2,   19.44,2,    0.00,2,    1.25,2,-999.000,9,-999.000,9,-999.000,9,  -999.0,9,  -999.0,9,  -999.0,9,   20.00,-999.0000,9,    25.00,-999.000,9, -999.00,-999.000,9,-999.000,9, -999.00,9,  -999.0,9,  -999.0,-999.000,9,-999.000,-999.000,9, -999.00,9,  249.70,-999.0000,9,-999.0000,9,-999.0000,9,-999.0000,9,-999.0000,9,-999.0000,9,  12.4978,     -999.0,-999.000,      8.763,          2,      0.192,          2,   0.038,          2
 33RO200501,       A16S,     100,          1,         27,         27,2,20050215,       1108,   -12.4957,   -25.0005,       5389,   300.0,  10.7729,  34.9770,2,  34.9732,2,    109.4,2,   112.6,2,   11.92,2,   25.50,2,    0.00,2,    1.60,2,   1.541,2,   0.826,2,   0.015,2,  2191.6,2,  2294.1,2,  -999.0,9,   20.00,   7.6307,2,    25.00,-999.000,9, -999.00,-999.000,9,-999.000,9, -999.00,9,  -999.0,9,  -999.0,-999.000,9,-999.000,   0.380,4, -999.00,9,  300.00,-999.0000,9,-999.0000,9,-999.0000,9,-999.0000,9,-999.0000,9,-999.0000,9,  10.7362,     -999.0,-999.000,     -999.0,          9,     -999.0,          9,-999.000,          9
 33RO200501,       A16S,     100,          1,         26,         26,2,20050215,       1108,   -12.4957,   -25.0005,       5389,   387.7,   8.3855,  34.7178,2,  34.7106,2,    109.3,2,   125.3,2,   16.91,2,   29.41,2,    0.00,2,    1.84,2,-999.000,9,-999.000,9,-999.000,9,  -999.0,9,  -999.0,9,  -999.0,9,   20.00,-999.0000,9,    25.00,-999.000,9, -999.00,-999.000,9,-999.000,9, -999.00,9,  -999.0,9,  -999.0,-999.000,9,-999.000,-999.000,9, -999.00,9,  387.70,-999.0000,9,-999.0000,9,-999.0000,9,-999.0000,9,-999.0000,9,-999.0000,9,   8.3448,     -999.0,-999.000,      4.824,          2,      0.130,          2,   0.021,          2
 33RO200501,       A16S,     100,          1,         25,         25,2,20050215,       1108,   -12.4957,   -25.0005,       5389,   498.9,   6.4416,  34.5394,2,  34.5401,2,    138.1,2,   146.1,2,   21.99,2,   31.47,2,    0.00,2,    1.99,2,-999.000,9,-999.000,9,-999.000,9,  2199.7,2,  2284.1,2,  -999.0,9,   20.00,   7.5776,2,    25.00,-999.000,9, -999.00,-999.000,9,-999.000,9, -999.00,9,  -999.0,9,  -999.0,-999.000,9,-999.000,-999.000,9, -999.00,9,  498.90,-999.0000,9,-999.0000,9,-999.0000,9,-999.0000,9,-999.0000,9,-999.0000,9,   6.3963,     -999.0,-999.000,     -999.0,          9,     -999.0,          9,-999.000,          9
 33RO200501,       A16S,     100,          1,         24,         24,2,20050215,       1108,   -12.4957,   -25.0005,       5389,   599.5,   5.4320,  34.4646,2,  34.4620,2,    155.4,2,   158.4,2,   26.58,2,   32.55,2,    0.00,2,    2.07,2,-999.000,9,-999.000,9,-999.000,9,  -999.0,9,  -999.0,9,  -999.0,9,   20.00,-999.0000,9,    25.00,-999.000,9, -999.00,-999.000,9,-999.000,9, -999.00,9,  -999.0,9,  -999.0,-999.000,9,-999.000,-999.000,9, -999.00,9,  599.50,-999.0000,9,-999.0000,9,-999.0000,9,-999.0000,9,-999.0000,9,-999.0000,9,   5.3818,     -999.0,-999.000,     -999.0,          9,     -999.0,          9,-999.000,          9
 33RO200501,       A16S,     100,          1,         23,         23,2,20050215,       1108,   -12.4957,   -25.0005,       5389,   699.5,   4.8952,  34.4397,2,  34.4380,2,    164.4,2,   164.6,2,   29.91,2,   32.94,2,    0.00,2,    2.10,2,-999.000,9,-999.000,9,-999.000,9,  -999.0,9,  -999.0,9,  -999.0,9,   20.00,-999.0000,9,    25.00,-999.000,9, -999.00,-999.000,9,-999.000,9, -999.00,9,  -999.0,9,  -999.0,-999.000,9,-999.000,-999.000,9, -999.00,9,  699.50,-999.0000,9,-999.0000,9,-999.0000,9,-999.0000,9,-999.0000,9,-999.0000,9,   4.8391,     -999.0,-999.000,      4.446,          2,      0.191,          2,   0.029,          2
 33RO200501,       A16S,     100,          1,         22,         22,2,20050215,       1108,   -12.4957,   -25.0005,       5389,   798.3,   4.4183,  34.4377,2,  34.4365,2,    170.0,2,   169.4,2,   33.82,2,   33.13,2,    0.00,2,    2.13,2,-999.000,9,-999.000,9,-999.000,9,  2209.1,2,  2290.4,2,  -999.0,9,   20.00,   7.5764,2,    25.00,-999.000,9, -999.00,-999.000,9,-999.000,9, -999.00,9,  -999.0,9,  -999.0,-999.000,9,-999.000,-999.000,9, -999.00,9,  798.30,-999.0000,9,-999.0000,9,-999.0000,9,-999.0000,9,-999.0000,9,-999.0000,9,   4.3566,     -999.0,-999.000,     -999.0,          9,     -999.0,          9,-999.000,          9
 33RO200501,       A16S,     100,          1,         21,         21,2,20050215,       1108,   -12.4957,   -25.0005,       5389,   899.3,   4.0808,  34.4888,2,  34.4915,2,    168.0,2,   167.2,2,   37.24,2,   33.23,2,    0.00,2,    2.15,2,-999.000,9,-999.000,9,-999.000,9,  -999.0,9,  -999.0,9,  -999.0,9,   20.00,-999.0000,9,    25.00,-999.000,9, -999.00,-999.000,9,-999.000,9, -999.00,9,  -999.0,9,  -999.0,-999.000,9,-999.000,-999.000,9, -999.00,9,  899.30,-999.0000,9,-999.0000,9,-999.0000,9,-999.0000,9,-999.0000,9,-999.0000,9,   4.0129,     -999.0,-999.000,     -999.0,          9,     -999.0,          9,-999.000,          9
 33RO200501,       A16S,     100,          1,         20,         20,2,20050215,       1108,   -12.4957,   -25.0005,       5389,   999.6,   3.9619,  34.5622,2,  34.5616,2,    171.5,2,   170.5,2,   37.14,6,   32.25,6,    0.00,6,    2.09,6,   0.048,2,   0.017,2,   0.005,2,  2213.7,2,  2309.6,2,  -999.0,9,   20.00,   7.5836,2,    25.00,-999.000,9, -999.00,-999.000,9,-999.000,9, -999.00,9,  -999.0,9,  -999.0,-999.000,9,-999.000,   0.118,4, -999.00,9,  999.60,-999.0000,9,-999.0000,9,-999.0000,9,-999.0000,9,-999.0000,9,-999.0000,9,   3.8865,     -999.0,-999.000,      5.543,          2,      0.611,          2,   0.023,          2
 33RO200501,       A16S,     100,          1,         19,         19,2,20050215,       1108,   -12.4957,   -25.0005,       5389,  1098.1,   3.9471,  34.6326,2,  34.6302,2,    175.6,2,   175.9,2,   36.26,2,   30.98,2,    0.00,2,    2.00,2,-999.000,9,-999.000,9,-999.000,9,  -999.0,9,  -999.0,9,  -999.0,9,   20.00,-999.0000,9,    25.00,-999.000,9, -999.00,-999.000,9,-999.000,9, -999.00,9,  -999.0,9,  -999.0,-999.000,9,-999.000,-999.000,9, -999.00,9, 1098.10,-999.0000,9,-999.0000,9,-999.0000,9,-999.0000,9,-999.0000,9,-999.0000,9,   3.8634,     -999.0,-999.000,     -999.0,          9,     -999.0,          9,-999.000,          9
 33RO200501,       A16S,     100,          1,         18,         18,2,20050215,       1108,   -12.4957,   -25.0005,       5389,  1200.7,   3.9972,  34.7039,2,  34.7052,2,    181.9,2,   182.7,2,   33.52,2,   29.51,2,    0.00,2,    1.89,2,-999.000,9,-999.000,9,-999.000,9,  -999.0,9,  -999.0,9,  -999.0,9,   20.00,-999.0000,9,    25.00,-999.000,9, -999.00,-999.000,9,-999.000,9, -999.00,9,  -999.0,9,  -999.0,-999.000,9,-999.000,-999.000,9, -999.00,9, 1200.70,-999.0000,9,-999.0000,9,-999.0000,9,-999.0000,9,-999.0000,9,-999.0000,9,   3.9042,     -999.0,-999.000,     -999.0,          9,     -999.0,          9,-999.000,          9
 33RO200501,       A16S,     100,          1,         17,         17,2,20050215,       1108,   -12.4957,   -25.0005,       5389,  1398.0,   4.0565,  34.8451,2,  34.8458,2,    201.3,2,   203.0,2,   27.65,2,   25.70,2,    0.00,2,    1.63,2,-999.000,9,-999.000,9,-999.000,9,  2191.1,2,  2314.5,2,  -999.0,9,   20.00,   7.6591,2,    25.00,-999.000,9, -999.00,-999.000,9,-999.000,9, -999.00,9,  -999.0,9,  -999.0,-999.000,9,-999.000,-999.000,9, -999.00,9, 1398.00,-999.0000,9,-999.0000,9,-999.0000,9,-999.0000,9,-999.0000,9,-999.0000,9,   3.9452,     -999.0,-999.000,      6.892,          2,      0.311,          2,   0.027,          2
 33RO200501,       A16S,     100,          1,         16,         16,2,20050215,       1108,   -12.4957,   -25.0005,       5389,  1600.1,   3.9111,  34.9199,2,  34.9208,2,    225.0,2,   225.3,2,   24.52,2,   22.67,2,    0.00,2,    1.42,2,   0.034,2,   0.019,2,   0.003,2,  -999.0,9,  -999.0,9,  -999.0,9,   20.00,-999.0000,9,    25.00,-999.000,9, -999.00,-999.000,9,-999.000,9, -999.00,9,  -999.0,9,  -999.0,-999.000,9,-999.000,   0.123,4, -999.00,9, 1600.10,-999.0000,9,-999.0000,9,-999.0000,9,-999.0000,9,-999.0000,9,-999.0000,9,   3.7829,     -999.0,-999.000,     -999.0,          9,     -999.0,          9,-999.000,          9
 33RO200501,       A16S,     100,          1,         15,         15,2,20050215,       1108,   -12.4957,   -25.0005,       5389,  1799.3,   3.6107,  34.9384,2,  34.9395,2,    237.3,2,   237.9,2,   25.40,2,   21.40,2,    0.00,2,    1.34,2,-999.000,9,-999.000,9,-999.000,9,  -999.0,9,  -999.0,9,  -999.0,9,   20.00,-999.0000,9,    25.00,-999.000,9, -999.00,-999.000,9,-999.000,9, -999.00,9,  -999.0,9,  -999.0,-999.000,9,-999.000,-999.000,9, -999.00,9, 1799.30,-999.0000,9,-999.0000,9,-999.0000,9,-999.0000,9,-999.0000,9,-999.0000,9,   3.4679,     -999.0,-999.000,     -999.0,          9,     -999.0,          9,-999.000,          9
 33RO200501,       A16S,     100,          1,         14,         14,2,20050215,       1108,   -12.4957,   -25.0005,       5389,  2001.0,   3.2957,  34.9296,2,  34.9310,2,    240.7,2,   241.5,2,   29.60,2,   21.40,2,    0.00,2,    1.36,2,-999.000,9,-999.000,9,-999.000,9,  2175.8,2,  2322.0,2,  -999.0,9,   20.00,   7.7188,2,    25.00,-999.000,9, -999.00,-999.000,9,-999.000,9, -999.00,9,  -999.0,9,  -999.0,-999.000,9,-999.000,-999.000,9, -999.00,9, 2001.00,-999.0000,9,-999.0000,9,-999.0000,9,-999.0000,9,-999.0000,9,-999.0000,9,   3.1386,     -999.0,-999.000,      8.260,          2,      0.224,          2,   0.025,          2
 33RO200501,       A16S,     100,          1,         13,         13,2,20050215,       1108,   -12.4957,   -25.0005,       5389,  2199.8,   3.0365,  34.9172,2,  34.9159,2,    241.2,2,   242.0,2,   34.20,2,   21.59,2,    0.00,2,    1.39,2,   0.016,2,   0.009,2,   0.000,2,  -999.0,9,  -999.0,9,  -999.0,9,   20.00,-999.0000,9,    25.00,-999.000,9, -999.00,-999.000,9,-999.000,9, -999.00,9,  -999.0,9,  -999.0,-999.000,9,-999.000,   0.051,4, -999.00,9, 2199.80,-999.0000,9,-999.0000,9,-999.0000,9,-999.0000,9,-999.0000,9,-999.0000,9,   2.8649,     -999.0,-999.000,     -999.0,          9,     -999.0,          9,-999.000,          9
 33RO200501,       A16S,     100,          1,         12,         12,2,20050215,       1108,   -12.4957,   -25.0005,       5389,  2400.2,   2.8868,  34.9124,2,  34.9118,2,    242.1,2,   242.8,2,   36.93,2,   21.69,2,    0.00,2,    1.40,2,-999.000,9,-999.000,9,-999.000,9,  -999.0,9,  -999.0,9,  -999.0,9,   20.00,-999.0000,9,    25.00,-999.000,9, -999.00,-999.000,9,-999.000,9, -999.00,9,  -999.0,9,  -999.0,-999.000,9,-999.000,-999.000,9, -999.00,9, 2400.20,-999.0000,9,-999.0000,9,-999.0000,9,-999.0000,9,-999.0000,9,-999.0000,9,   2.6987,     -999.0,-999.000,     -999.0,          9,     -999.0,          9,-999.000,          9
 33RO200501,       A16S,     100,          1,         11,         11,2,20050215,       1108,   -12.4957,   -25.0005,       5389,  2699.7,   2.7551,  34.9071,2,  34.9076,2,    242.9,2,   243.4,2,   39.47,2,   21.79,2,    0.00,2,    1.41,2,   0.010,2,   0.011,2,  -0.001,2,  2184.9,2,  2323.1,2,  -999.0,9,   20.00,   7.7180,2,    25.00,-999.000,9, -999.00,-999.000,9,-999.000,9, -999.00,9,  -999.0,9,  -999.0,-999.000,9,-999.000,   0.035,4, -999.00,9, 2699.70,-999.0000,9,-999.0000,9,-999.0000,9,-999.0000,9,-999.0000,9,-999.0000,9,   2.5402,     -999.0,-999.000,      5.375,          2,      0.255,          2,   0.017,          2
 33RO200501,       A16S,     100,          1,         10,         10,2,20050215,       1108,   -12.4957,   -25.0005,       5389,  2999.2,   2.6780,  34.9063,2,  34.9072,2,    244.8,2,   245.4,2,   40.16,2,   21.69,2,    0.00,2,    1.40,2,-999.000,9,-999.000,9,-999.000,9,  -999.0,9,  -999.0,9,  -999.0,9,   20.00,-999.0000,9,    25.00,-999.000,9, -999.00,-999.000,9,-999.000,9, -999.00,9,  -999.0,9,  -999.0,-999.000,9,-999.000,-999.000,9, -999.00,9, 2999.20,-999.0000,9,-999.0000,9,-999.0000,9,-999.0000,9,-999.0000,9,-999.0000,9,   2.4344,     -999.0,-999.000,     -999.0,          9,     -999.0,          9,-999.000,          9
 33RO200501,       A16S,     100,          1,          9,          9,2,20050215,       1108,   -12.4957,   -25.0005,       5389,  3266.0,   2.5814,  34.9013,2,  34.9027,2,    246.2,2,   246.2,2,   41.82,2,   21.69,2,    0.00,2,    1.41,2,-999.000,9,-999.000,9,-999.000,9,  -999.0,9,  -999.0,9,  -999.0,9,   20.00,-999.0000,9,    25.00,-999.000,9, -999.00,-999.000,9,-999.000,9, -999.00,9,  -999.0,9,  -999.0,-999.000,9,-999.000,-999.000,9, -999.00,9, 3266.00,-999.0000,9,-999.0000,9,-999.0000,9,-999.0000,9,-999.0000,9,-999.0000,9,   2.3122,     -999.0,-999.000,     -999.0,          9,     -999.0,          9,-999.000,          9
 33RO200501,       A16S,     100,          1,          8,          8,2,20050215,       1108,   -12.4957,   -25.0005,       5389,  3599.1,   2.4072,  34.8903,2,  34.8896,2,    248.7,2,   249.0,2,   44.94,2,   21.79,2,    0.00,2,    1.42,2,   0.012,2,   0.006,2,   0.000,2,  2186.6,2,  2328.9,2,  -999.0,9,   20.00,   7.7180,2,    25.00,-999.000,9, -999.00,-999.000,9,-999.000,9, -999.00,9,  -999.0,9,  -999.0,-999.000,9,-999.000,   0.060,4, -999.00,9, 3599.10,-999.0000,9,-999.0000,9,-999.0000,9,-999.0000,9,-999.0000,9,-999.0000,9,   2.1064,     -999.0,-999.000,      5.073,          2,      0.463,          2,   0.022,          2