BOTTLE,20220818CCHSIOAMB
EXPOCODE,SECT_ID,STNNBR,CASTNO,SAMPNO,BTLNBR,BTLNBR_FLAG_W,DATE,TIME,LATITUDE,LONGITUDE,DEPTH,CTDPRS,CTDTMP,CTDSAL,CTDSAL_FLAG_W,SALNTY,SALNTY_FLAG_W,CTDOXY,CTDOXY_FLAG_W,OXYGEN,OXYGEN_FLAG_W,SILCAT,SILCAT_FLAG_W,NITRAT,NITRAT_FLAG_W,NITRIT,NITRIT_FLAG_W,PHSPHT,PHSPHT_FLAG_W,CFC-11,CFC-11_FLAG_W,CFC-12,CFC-12_FLAG_W,CFC113,CFC113_FLAG_W,TCARBN,TCARBN_FLAG_W,ALKALI,ALKALI_FLAG_W,PCO2,PCO2_FLAG_W,PCO2TMP,PH_SWS,PH_SWS_FLAG_W,PH_TMP,TRITUM,TRITUM_FLAG_W,TRITER,HELIUM,HELIUM_FLAG_W,DELHE3,DELHE3_FLAG_W,DELC13,DELC13_FLAG_W,DELC14,DELC14_FLAG_W,C14ERR,NEON,NEON_FLAG_W,NEONER,CCL4,CCL4_FLAG_W,DOC,DOC_FLAG_W,CTDRAW,CDOM325,CDOM325_FLAG_W,CDOM340,CDOM340_FLAG_W,CDOM380,CDOM380_FLAG_W,CDOM412,CDOM412_FLAG_W,CDOMSL,CDOMSL_FLAG_W,CDOMSN,CDOMSN_FLAG_W,THETA,HELIER,DELHER,CH3CL,CH3CL_FLAG_W,CH3BR,CH3BR_FLAG_W,CH3I,CH3I_FLAG_W
,,,,,,,,,,,METERS,DBAR,ITS-90,PSS-78,,PSS-78,,UMOL/KG,,UMOL/KG,,UMOL/KG,,UMOL/KG,,UMOL/KG,,UMOL/KG,,PMOL/KG,,PMOL/KG,,PMOL/KG,,UMOL/KG,,UMOL/KG,,UATM,,DEG C,,,DEG C,TU,,TU,NMOL/KG,,PERCNT,,/MILLE,,/MILLE,,/MILLE,NMOL/KG,,NMOL/KG,PMOL/KG,,UMOL/KG,,DBAR,1/M,,1/M,,1/M,,1/M,,1/NM,,1/NM,,DEG C,NMOL/KG,PERCNT,PMOL/KG,,PMOL/KG,,PMOL/KG,
 33RO200501,       A16S,      76,          1,          7,          7,2,20050208,       0305,   -24.5000,   -24.9998,       4956,  3498.3,   2.4697,  34.8958,2,  34.8965,3,    249.2,2,   249.4,2,   41.60,2,   21.47,2,    0.00,2,    1.41,2,-999.000,9,-999.000,9,-999.000,9,  -999.0,9,  -999.0,9,  -999.0,9,   20.00,-999.0000,9,    25.00,-999.000,9, -999.00,-999.000,9,-999.000,9, -999.00,9,  -999.0,9,  -999.0,-999.000,9,-999.000,-999.000,9, -999.00,9, 3498.30,-999.0000,9,-999.0000,9,-999.0000,9,-999.0000,9,-999.0000,9,-999.0000,9,   2.1783,     -999.0,-999.000,     -999.0,          9,     -999.0,          9,-999.000,          9
 33RO200501,       A16S,      76,          1,          6,          6,2,20050208,       0305,   -24.5000,   -24.9998,       4956,  3793.5,   2.1479,  34.8623,2,  34.8623,2,    244.8,2,   244.5,2,   54.02,2,   23.18,2,    0.00,2,    1.54,2,   0.004,2,   0.003,2,   0.000,2,  -999.0,9,  2331.3,2,  -999.0,9,   20.00,   7.7090,2,    25.00,-999.000,9, -999.00,-999.000,9,-999.000,9, -999.00,9,  -999.0,9,  -999.0,-999.000,9,-999.000,   0.033,4, -999.00,9, 3793.50,-999.0000,9,-999.0000,9,-999.0000,9,-999.0000,9,-999.0000,9,-999.0000,9,   1.8327,     -999.0,-999.000,      2.621,          2,      0.191,          2,   0.010,          2
 33RO200501,       A16S,      76,          1,          5,          5,2,20050208,       0305,   -24.5000,   -24.9998,       4956,  4099.6,   1.8004,  34.8256,2,  34.8237,3,    238.8,2,   239.0,2,   68.32,2,   24.97,2,    0.00,2,    1.69,2,   0.002,2,   0.004,2,   0.000,2,  -999.0,9,  -999.0,9,  -999.0,9,   20.00,-999.0000,9,    25.00,-999.000,9, -999.00,-999.000,9,-999.000,9, -999.00,9,  -999.0,9,  -999.0,-999.000,9,-999.000,   0.032,4, -999.00,9, 4099.60,-999.0000,9,-999.0000,9,-999.0000,9,-999.0000,9,-999.0000,9,-999.0000,9,   1.4610,     -999.0,-999.000,     -999.0,          9,     -999.0,          9,-999.000,          9
 33RO200501,       A16S,      76,          1,          4,          4,2,20050208,       0305,   -24.5000,   -24.9998,       4956,  4399.4,   1.3788,  34.7816,2,  34.7811,2,    232.5,2,   232.6,2,   85.24,6,   27.29,6,    0.00,6,    1.87,6,-999.000,9,-999.000,9,-999.000,9,  -999.0,9,  -999.0,9,  -999.0,9,   20.00,-999.0000,9,    25.00,-999.000,9, -999.00,-999.000,9,-999.000,9, -999.00,9,  -999.0,9,  -999.0,-999.000,9,-999.000,-999.000,9, -999.00,9, 4399.40,-999.0000,9,-999.0000,9,-999.0000,9,-999.0000,9,-999.0000,9,-999.0000,9,   1.0184,     -999.0,-999.000,     -999.0,          9,     -999.0,          9,-999.000,          9
 33RO200501,       A16S,      76,          1,          3,          3,2,20050208,       0305,   -24.5000,   -24.9998,       4956,  4699.4,   1.1391,  34.7553,2,  34.7541,3,    229.2,2,   229.1,2,   95.08,6,   28.56,6,    0.00,6,    1.97,6,   0.017,2,   0.007,3,  -0.001,2,  -999.0,9,  -999.0,9,  -999.0,9,   20.00,-999.0000,9,    25.00,-999.000,9, -999.00,-999.000,9,-999.000,9, -999.00,9,  -999.0,9,  -999.0,-999.000,9,-999.000,   0.064,4, -999.00,9, 4699.40,-999.0000,9,-999.0000,9,-999.0000,9,-999.0000,9,-999.0000,9,-999.0000,9,   0.7521,     -999.0,-999.000,      4.187,          2,      0.308,          2,   0.015,          2
 33RO200501,       A16S,      76,          1,          2,          2,2,20050208,       0305,   -24.5000,   -24.9998,       4956,  4999.0,   1.0123,  34.7396,2,  34.7396,2,    227.3,2,   227.2,2,  100.83,6,   29.25,6,    0.00,6,    2.03,6,   0.029,2,   0.020,2,   0.000,2,  -999.0,9,  -999.0,9,  -999.0,9,   20.00,-999.0000,9,    25.00,-999.000,9, -999.00,-999.000,9,-999.000,9, -999.00,9,  -999.0,9,  -999.0,-999.000,9,-999.000,   0.085,4, -999.00,9, 4999.00,-999.0000,9,-999.0000,9,-999.0000,9,-999.0000,9,-999.0000,9,-999.0000,9,   0.5943,     -999.0,-999.000,     -999.0,          9,     -999.0,          9,-999.000,          9
 33RO200501,       A16S,      76,          1,          1,          1,2,20050208,       0305,   -24.5000,   -24.9998,       4956,  5367.9,   0.9067,  34.7244,2,  34.7221,3,    225.5,2,   225.3,2,  106.32,6,   29.89,6,    0.00,6,    2.08,6,   0.046,2,   0.033,2,   0.002,2,  -999.0,9,  2352.6,2,  -999.0,9,   20.00,   7.6325,2,    25.00,-999.000,9, -999.00,-999.000,9,-999.000,9, -999.00,9,  -999.0,9,  -999.0,-999.000,9,-999.000,   0.109,4, -999.00,9, 5367.90,-999.0000,9,-999.0000,9,-999.0000,9,-999.0000,9,-999.0000,9,-999.0000,9,   0.4479,     -999.0,-999.000,      8.509,          2,      0.621,          2,   0.053,          2