BOTTLE,20220818CCHSIOAMB
EXPOCODE,SECT_ID,STNNBR,CASTNO,SAMPNO,BTLNBR,BTLNBR_FLAG_W,DATE,TIME,LATITUDE,LONGITUDE,DEPTH,CTDPRS,CTDTMP,CTDSAL,CTDSAL_FLAG_W,SALNTY,SALNTY_FLAG_W,CTDOXY,CTDOXY_FLAG_W,OXYGEN,OXYGEN_FLAG_W,SILCAT,SILCAT_FLAG_W,NITRAT,NITRAT_FLAG_W,NITRIT,NITRIT_FLAG_W,PHSPHT,PHSPHT_FLAG_W,CFC-11,CFC-11_FLAG_W,CFC-12,CFC-12_FLAG_W,CFC113,CFC113_FLAG_W,TCARBN,TCARBN_FLAG_W,ALKALI,ALKALI_FLAG_W,PCO2,PCO2_FLAG_W,PCO2TMP,PH_SWS,PH_SWS_FLAG_W,PH_TMP,TRITUM,TRITUM_FLAG_W,TRITER,HELIUM,HELIUM_FLAG_W,DELHE3,DELHE3_FLAG_W,DELC13,DELC13_FLAG_W,DELC14,DELC14_FLAG_W,C14ERR,NEON,NEON_FLAG_W,NEONER,CCL4,CCL4_FLAG_W,DOC,DOC_FLAG_W,CTDRAW,CDOM325,CDOM325_FLAG_W,CDOM340,CDOM340_FLAG_W,CDOM380,CDOM380_FLAG_W,CDOM412,CDOM412_FLAG_W,CDOMSL,CDOMSL_FLAG_W,CDOMSN,CDOMSN_FLAG_W,THETA,HELIER,DELHER,CH3CL,CH3CL_FLAG_W,CH3BR,CH3BR_FLAG_W,CH3I,CH3I_FLAG_W
,,,,,,,,,,,METERS,DBAR,ITS-90,PSS-78,,PSS-78,,UMOL/KG,,UMOL/KG,,UMOL/KG,,UMOL/KG,,UMOL/KG,,UMOL/KG,,PMOL/KG,,PMOL/KG,,PMOL/KG,,UMOL/KG,,UMOL/KG,,UATM,,DEG C,,,DEG C,TU,,TU,NMOL/KG,,PERCNT,,/MILLE,,/MILLE,,/MILLE,NMOL/KG,,NMOL/KG,PMOL/KG,,UMOL/KG,,DBAR,1/M,,1/M,,1/M,,1/M,,1/NM,,1/NM,,DEG C,NMOL/KG,PERCNT,PMOL/KG,,PMOL/KG,,PMOL/KG,
 33RO200501,       A16S,     109,          1,          7,          7,2,20050218,       0337,    -8.0000,   -25.0003,       5705,  3999.4,   1.9304,  34.8459,2,  34.8577,3,    244.6,2,   243.8,2,   59.48,2,   23.73,2,    0.00,2,    1.55,2,   0.015,2,   0.015,2,   0.002,2,  2204.3,2,  2343.0,2,   816.8,2,   20.00,   7.7033,2,    25.00,-999.000,9, -999.00,-999.000,9,-999.000,9,    1.01,2,  -121.4,2,     3.0,-999.000,9,-999.000,   0.084,4,   39.90,2, 3999.40,   0.1550,3,   0.1130,3,   0.0610,3,   0.0410,3,   0.0146,3,   0.0160,3,   1.5984,     -999.0,-999.000,     -999.0,          9,     -999.0,          9,-999.000,          9
 33RO200501,       A16S,     109,          1,          6,          6,2,20050218,       0337,    -8.0000,   -25.0003,       5705,  4299.6,   1.3750,  34.7873,2,  34.7891,2,    234.5,2,   233.9,2,   83.12,2,   26.96,2,    0.00,2,    1.78,2,   0.013,2,   0.001,2,   0.000,2,  2226.9,2,  2354.8,2,   884.8,2,   20.00,   7.6728,2,    25.00,-999.000,9, -999.00,-999.000,9,-999.000,9,    0.85,2,  -147.7,2,     2.9,-999.000,9,-999.000,   0.054,4, -999.00,9, 4299.60,-999.0000,9,-999.0000,9,-999.0000,9,-999.0000,9,-999.0000,9,-999.0000,9,   1.0260,     -999.0,-999.000,     -999.0,          9,     -999.0,          9,-999.000,          9
 33RO200501,       A16S,     109,          1,          5,          5,2,20050218,       0337,    -8.0000,   -25.0003,       5705,  4598.9,   0.9625,  34.7423,2,  34.7443,2,    227.1,2,   226.9,2,  100.22,2,   29.30,2,    0.00,2,    1.95,2,   0.014,2,   0.002,2,   0.002,2,  2244.2,2,  2352.0,2,   948.4,2,   20.00,   7.6472,2,    25.00,-999.000,9, -999.00,-999.000,9,-999.000,9,    0.75,2,  -154.5,2,     2.9,-999.000,9,-999.000,   0.049,4,   40.04,2, 4598.90,-999.0000,9,-999.0000,9,-999.0000,9,-999.0000,9,-999.0000,9,-999.0000,9,   0.5927,     -999.0,-999.000,     -999.0,          9,     -999.0,          9,-999.000,          9
 33RO200501,       A16S,     109,          1,          4,          4,2,20050218,       0337,    -8.0000,   -25.0003,       5705,  4899.8,   0.8342,  34.7255,2,  34.7323,3,    224.3,2,   224.0,2,  106.57,6,   30.09,6,    0.00,6,    2.01,6,-999.000,9,-999.000,9,-999.000,9,  2250.0,2,  2359.9,2,  -999.0,9,   20.00,   7.6358,2,    25.00,-999.000,9, -999.00,-999.000,9,-999.000,9,    0.69,2,  -158.7,2,     2.3,-999.000,9,-999.000,-999.000,9, -999.00,9, 4899.80,-999.0000,9,-999.0000,9,-999.0000,9,-999.0000,9,-999.0000,9,-999.0000,9,   0.4341,     -999.0,-999.000,     -999.0,          9,     -999.0,          9,-999.000,          9
 33RO200501,       A16S,     109,          1,          3,          3,2,20050218,       0337,    -8.0000,   -25.0003,       5705,  5198.8,   0.7612,  34.7138,2,  34.7136,2,    223.0,2,   222.6,2,  110.87,6,   30.77,6,    0.00,6,    2.06,6,   0.018,2,   0.005,2,   0.000,2,  2254.4,2,  2360.5,2,   993.5,2,   20.00,   7.6282,2,    25.00,-999.000,9, -999.00,-999.000,9,-999.000,9,    0.69,2,  -160.8,2,     3.0,-999.000,9,-999.000,   0.085,4,   38.54,2, 5198.80,-999.0000,9,-999.0000,9,-999.0000,9,-999.0000,9,-999.0000,9,-999.0000,9,   0.3282,     -999.0,-999.000,     -999.0,          9,     -999.0,          9,-999.000,          9
 33RO200501,       A16S,     109,          1,          2,          2,2,20050218,       0337,    -8.0000,   -25.0003,       5705,  5497.5,   0.7251,  34.7060,2,  34.7056,2,    222.1,2,   221.5,2,  113.70,6,   30.97,6,    0.00,6,    2.08,6,   0.041,2,   0.023,2,   0.000,2,  2256.0,2,  2362.5,6,  1003.6,2,   20.00,   7.6223,6,    25.00,-999.000,9, -999.00,   1.929,2,   5.884,2,    0.66,2,  -166.4,2,     2.8,   8.318,2,   0.008,   0.108,4, -999.00,9, 5497.50,-999.0000,9,-999.0000,9,-999.0000,9,-999.0000,9,-999.0000,9,-999.0000,9,   0.2571,      0.001,   0.221,     -999.0,          9,     -999.0,          9,-999.000,          9
 33RO200501,       A16S,     109,          1,          1,          1,2,20050218,       0337,    -8.0000,   -25.0003,       5705,  5802.7,   0.7451,  34.7033,2,-999.0000,9,    221.4,2,   221.2,2,  114.58,6,   31.06,6,    0.00,6,    2.09,6,   0.048,6,   0.022,6,   0.000,6,  2256.5,6,  2361.5,2,  1009.4,2,   20.00,   7.6223,2,    25.00,-999.000,9, -999.00,   1.918,2,   5.654,2,    0.69,2,  -160.9,2,     2.6,   8.244,2,   0.009,   0.117,4,   39.55,2, 5802.70,   0.1320,2,   0.0910,2,   0.0460,3,   0.0310,3,   0.0166,3,   0.0187,3,   0.2381,      0.002,   0.249,     -999.0,          9,     -999.0,          9,-999.000,          9