BOTTLE,20220818CCHSIOAMB
EXPOCODE,SECT_ID,STNNBR,CASTNO,SAMPNO,BTLNBR,BTLNBR_FLAG_W,DATE,TIME,LATITUDE,LONGITUDE,DEPTH,CTDPRS,CTDTMP,CTDSAL,CTDSAL_FLAG_W,SALNTY,SALNTY_FLAG_W,CTDOXY,CTDOXY_FLAG_W,OXYGEN,OXYGEN_FLAG_W,SILCAT,SILCAT_FLAG_W,NITRAT,NITRAT_FLAG_W,NITRIT,NITRIT_FLAG_W,PHSPHT,PHSPHT_FLAG_W,CFC-11,CFC-11_FLAG_W,CFC-12,CFC-12_FLAG_W,CFC113,CFC113_FLAG_W,TCARBN,TCARBN_FLAG_W,ALKALI,ALKALI_FLAG_W,PCO2,PCO2_FLAG_W,PCO2TMP,PH_SWS,PH_SWS_FLAG_W,PH_TMP,TRITUM,TRITUM_FLAG_W,TRITER,HELIUM,HELIUM_FLAG_W,DELHE3,DELHE3_FLAG_W,DELC13,DELC13_FLAG_W,DELC14,DELC14_FLAG_W,C14ERR,NEON,NEON_FLAG_W,NEONER,CCL4,CCL4_FLAG_W,DOC,DOC_FLAG_W,CTDRAW,CDOM325,CDOM325_FLAG_W,CDOM340,CDOM340_FLAG_W,CDOM380,CDOM380_FLAG_W,CDOM412,CDOM412_FLAG_W,CDOMSL,CDOMSL_FLAG_W,CDOMSN,CDOMSN_FLAG_W,THETA,HELIER,DELHER,CH3CL,CH3CL_FLAG_W,CH3BR,CH3BR_FLAG_W,CH3I,CH3I_FLAG_W
,,,,,,,,,,,METERS,DBAR,ITS-90,PSS-78,,PSS-78,,UMOL/KG,,UMOL/KG,,UMOL/KG,,UMOL/KG,,UMOL/KG,,UMOL/KG,,PMOL/KG,,PMOL/KG,,PMOL/KG,,UMOL/KG,,UMOL/KG,,UATM,,DEG C,,,DEG C,TU,,TU,NMOL/KG,,PERCNT,,/MILLE,,/MILLE,,/MILLE,NMOL/KG,,NMOL/KG,PMOL/KG,,UMOL/KG,,DBAR,1/M,,1/M,,1/M,,1/M,,1/NM,,1/NM,,DEG C,NMOL/KG,PERCNT,PMOL/KG,,PMOL/KG,,PMOL/KG,
 33RO200501,       A16S,       9,          1,          5,          5,2,20050119,       1843,   -56.0000,   -33.6337,       2816,  1800.7,   0.5427,  34.6856,2,  34.6851,2,    212.0,2,   213.0,2,  113.67,2,   31.96,2,    0.00,2,    2.23,2,   0.561,2,   0.272,2,   0.035,2,  2256.7,2,  2355.7,3,  1088.8,6,   20.00,   7.6050,2,    25.00,-999.000,9, -999.00,-999.000,9,-999.000,9, -999.00,9,  -999.0,9,  -999.0,-999.000,9,-999.000,   0.602,3,   39.67,2, 1800.70,-999.0000,9,-999.0000,9,-999.0000,9,-999.0000,9,-999.0000,9,-999.0000,9,   0.4428,     -999.0,-999.000,     -999.0,          9,     -999.0,          9,-999.000,          9
 33RO200501,       A16S,       9,          1,          4,          4,2,20050119,       1843,   -56.0000,   -33.6337,       2816,  2000.5,   0.4554,  34.6840,2,  34.6839,2,    213.8,2,   214.8,2,  116.33,6,   32.21,6,    0.00,6,    2.25,6,   0.563,2,   0.267,2,   0.024,2,  2257.7,2,  2352.6,2,  -999.0,9,   20.00,   7.6083,2,    25.00,   0.058,2,    0.01,   1.934,2,   7.620,2, -999.00,9,  -999.0,9,  -999.0,   8.503,2,   0.008,   0.600,3, -999.00,9, 2000.50,-999.0000,9,-999.0000,9,-999.0000,9,-999.0000,9,-999.0000,9,-999.0000,9,   0.3425,      0.001,   0.239,     -999.0,          9,     -999.0,          9,-999.000,          9
 33RO200501,       A16S,       9,          1,          3,          3,2,20050119,       1843,   -56.0000,   -33.6337,       2816,  2200.8,   0.3536,  34.6808,2,  34.6808,2,    216.6,2,   216.6,2,  118.15,6,   32.28,6,    0.00,6,    2.25,6,   0.608,2,   0.289,2,   0.032,2,  2257.0,2,  2352.1,2,  1087.2,6,   20.00,   7.6080,2,    25.00,-999.000,9, -999.00,-999.000,9,-999.000,9, -999.00,9,  -999.0,9,  -999.0,-999.000,9,-999.000,   0.672,3,   38.90,2, 2200.80,-999.0000,9,-999.0000,9,-999.0000,9,-999.0000,9,-999.0000,9,-999.0000,9,   0.2275,     -999.0,-999.000,     -999.0,          9,     -999.0,          9,-999.000,          9
 33RO200501,       A16S,       9,          1,          2,          2,2,20050119,       1843,   -56.0000,   -33.6337,       2816,  2399.6,   0.2464,  34.6752,2,  34.6761,2,    219.5,2,   220.0,2,  119.24,6,   32.42,6,    0.00,6,    2.25,6,   0.673,2,   0.315,2,   0.033,2,  2256.9,2,  2350.8,6,  1083.7,2,   20.00,   7.6048,6,    25.00,-999.000,9, -999.00,-999.000,9,-999.000,9, -999.00,9,  -999.0,9,  -999.0,-999.000,9,-999.000,   0.713,3, -999.00,9, 2399.60,-999.0000,9,-999.0000,9,-999.0000,9,-999.0000,9,-999.0000,9,-999.0000,9,   0.1069,     -999.0,-999.000,     -999.0,          9,     -999.0,          9,-999.000,          9
 33RO200501,       A16S,       9,          1,          1,          1,2,20050119,       1843,   -56.0000,   -33.6337,       2816,  2574.2,   0.2175,  34.6742,2,  34.6743,2,    221.4,2,   221.0,2,  119.50,6,   32.40,6,    0.00,6,    2.26,6,   0.674,2,   0.314,2,   0.025,2,  2256.2,6,  2351.0,2,  1082.0,2,   20.00,   7.6069,2,    25.00,   0.012,2,    0.01,   1.922,2,   6.630,2, -999.00,9,  -999.0,9,  -999.0,   8.453,2,   0.007,   0.704,3,   39.28,2, 2574.20,-999.0000,9,-999.0000,9,-999.0000,9,-999.0000,9,-999.0000,9,-999.0000,9,   0.0648,      0.001,   0.232,     -999.0,          9,     -999.0,          9,-999.000,          9