BOTTLE,20220818CCHSIOAMB
EXPOCODE,SECT_ID,STNNBR,CASTNO,SAMPNO,BTLNBR,BTLNBR_FLAG_W,DATE,TIME,LATITUDE,LONGITUDE,DEPTH,CTDPRS,CTDTMP,CTDSAL,CTDSAL_FLAG_W,SALNTY,SALNTY_FLAG_W,CTDOXY,CTDOXY_FLAG_W,OXYGEN,OXYGEN_FLAG_W,SILCAT,SILCAT_FLAG_W,NITRAT,NITRAT_FLAG_W,NITRIT,NITRIT_FLAG_W,PHSPHT,PHSPHT_FLAG_W,CFC-11,CFC-11_FLAG_W,CFC-12,CFC-12_FLAG_W,CFC113,CFC113_FLAG_W,TCARBN,TCARBN_FLAG_W,ALKALI,ALKALI_FLAG_W,PCO2,PCO2_FLAG_W,PCO2TMP,PH_SWS,PH_SWS_FLAG_W,PH_TMP,TRITUM,TRITUM_FLAG_W,TRITER,HELIUM,HELIUM_FLAG_W,DELHE3,DELHE3_FLAG_W,DELC13,DELC13_FLAG_W,DELC14,DELC14_FLAG_W,C14ERR,NEON,NEON_FLAG_W,NEONER,CCL4,CCL4_FLAG_W,DOC,DOC_FLAG_W,CTDRAW,CDOM325,CDOM325_FLAG_W,CDOM340,CDOM340_FLAG_W,CDOM380,CDOM380_FLAG_W,CDOM412,CDOM412_FLAG_W,CDOMSL,CDOMSL_FLAG_W,CDOMSN,CDOMSN_FLAG_W,THETA,HELIER,DELHER,CH3CL,CH3CL_FLAG_W,CH3BR,CH3BR_FLAG_W,CH3I,CH3I_FLAG_W
,,,,,,,,,,,METERS,DBAR,ITS-90,PSS-78,,PSS-78,,UMOL/KG,,UMOL/KG,,UMOL/KG,,UMOL/KG,,UMOL/KG,,UMOL/KG,,PMOL/KG,,PMOL/KG,,PMOL/KG,,UMOL/KG,,UMOL/KG,,UATM,,DEG C,,,DEG C,TU,,TU,NMOL/KG,,PERCNT,,/MILLE,,/MILLE,,/MILLE,NMOL/KG,,NMOL/KG,PMOL/KG,,UMOL/KG,,DBAR,1/M,,1/M,,1/M,,1/M,,1/NM,,1/NM,,DEG C,NMOL/KG,PERCNT,PMOL/KG,,PMOL/KG,,PMOL/KG,
 33RO200501,       A16S,      65,          1,          7,          7,2,20050204,       1754,   -30.0008,   -24.9993,       5204,  3698.7,   1.8999,  34.8349,2,  34.8346,2,    238.9,2,   239.2,2,   64.99,2,   24.73,2,    0.00,2,    1.67,2,   0.010,2,  -0.002,2,   0.000,2,  2213.9,2,  2338.7,2,   843.8,2,   20.00,   7.6900,2,    25.00,-999.000,9, -999.00,-999.000,9,-999.000,9, -999.00,9,  -999.0,9,  -999.0,-999.000,9,-999.000,   0.023,4,   38.92,2, 3698.70,-999.0000,9,-999.0000,9,-999.0000,9,-999.0000,9,-999.0000,9,-999.0000,9,   1.6018,     -999.0,-999.000,     -999.0,          9,     -999.0,          9,-999.000,          9
 33RO200501,       A16S,      65,          1,          6,          6,2,20050204,       1754,   -30.0008,   -24.9993,       5204,  3998.2,   1.4943,  34.7916,2,  34.7919,2,    231.6,2,   232.3,2,   81.14,2,   26.92,2,    0.00,2,    1.83,2,   0.024,2,   0.013,2,   0.000,2,  2233.0,2,  2346.3,2,   897.1,2,   20.00,   7.6687,2,    25.00,-999.000,9, -999.00,-999.000,9,-999.000,9, -999.00,9,  -999.0,9,  -999.0,-999.000,9,-999.000,   0.058,4, -999.00,9, 3998.20,-999.0000,9,-999.0000,9,-999.0000,9,-999.0000,9,-999.0000,9,-999.0000,9,   1.1751,     -999.0,-999.000,     -999.0,          9,     -999.0,          9,-999.000,          9
 33RO200501,       A16S,      65,          1,          5,          5,2,20050204,       1754,   -30.0008,   -24.9993,       5204,  4299.6,   1.2964,  34.7655,2,  34.7648,2,    226.8,2,   227.2,2,   91.20,2,   28.37,2,    0.00,2,    1.93,2,   0.042,2,   0.017,2,   0.006,2,  2242.9,2,  2351.2,2,   931.3,2,   20.00,   7.6541,2,    25.00,-999.000,9, -999.00,-999.000,9,-999.000,9, -999.00,9,  -999.0,9,  -999.0,-999.000,9,-999.000,   0.091,4,   39.55,2, 4299.60,   0.1860,2,   0.1390,2,   0.0740,2,   0.0490,2,   0.0147,3,   0.0157,3,   0.9499,     -999.0,-999.000,     -999.0,          9,     -999.0,          9,-999.000,          9
 33RO200501,       A16S,      65,          1,          4,          4,2,20050204,       1754,   -30.0008,   -24.9993,       5204,  4598.3,   1.2469,  34.7557,2,  34.7556,2,    225.1,2,   224.9,2,   95.00,6,   28.75,6,    0.00,6,    1.98,6,   0.055,2,   0.031,2,   0.000,2,  2247.2,2,  2354.5,2,  -999.0,9,   20.00,   7.6467,2,    25.00,-999.000,9, -999.00,-999.000,9,-999.000,9, -999.00,9,  -999.0,9,  -999.0,-999.000,9,-999.000,   0.109,4, -999.00,9, 4598.30,-999.0000,9,-999.0000,9,-999.0000,9,-999.0000,9,-999.0000,9,-999.0000,9,   0.8681,     -999.0,-999.000,     -999.0,          9,     -999.0,          9,-999.000,          9
 33RO200501,       A16S,      65,          1,          3,          3,2,20050204,       1754,   -30.0008,   -24.9993,       5204,  4897.8,   1.2350,  34.7506,2,  34.7505,2,    224.3,2,   224.4,2,   97.01,6,   29.02,6,    0.00,6,    2.02,6,   0.069,2,   0.024,2,   0.000,2,  2241.3,3,  2349.9,2,   959.4,2,   20.00,   7.6429,2,    25.00,-999.000,9, -999.00,-999.000,9,-999.000,9, -999.00,9,  -999.0,9,  -999.0,-999.000,9,-999.000,   0.111,4,   39.59,2, 4897.80,-999.0000,9,-999.0000,9,-999.0000,9,-999.0000,9,-999.0000,9,-999.0000,9,   0.8215,     -999.0,-999.000,     -999.0,          9,     -999.0,          9,-999.000,          9
 33RO200501,       A16S,      65,          1,          2,          2,2,20050204,       1754,   -30.0008,   -24.9993,       5204,  5099.3,   1.2207,  34.7456,2,  34.7460,3,    223.7,2,   223.4,2,   98.82,6,   29.24,6,    0.00,6,    2.02,6,   0.073,2,   0.035,2,   0.000,2,  2252.8,2,  2351.1,6,   956.4,2,   20.00,   7.6428,6,    25.00,-999.000,9, -999.00,   1.918,2,   5.219,2, -999.00,9,  -999.0,9,  -999.0,   8.194,2,   0.011,   0.132,4, -999.00,9, 5099.30,-999.0000,9,-999.0000,9,-999.0000,9,-999.0000,9,-999.0000,9,-999.0000,9,   0.7835,      0.000,   0.225,     -999.0,          9,     -999.0,          9,-999.000,          9
 33RO200501,       A16S,      65,          1,          1,          1,2,20050204,       1754,   -30.0008,   -24.9993,       5204,  5682.3,   1.2869,  34.7439,2,  34.7456,3,    223.2,2,   223.2,2,   99.23,6,   29.26,6,    0.00,6,    2.03,6,   0.084,2,   0.036,2,   0.006,2,  2272.4,2,  2350.7,2,   960.0,2,   20.00,   7.6367,2,    25.00,-999.000,9, -999.00,   1.886,2,   4.296,2, -999.00,9,  -999.0,9,  -999.0,   8.103,2,   0.011,   0.139,4,   39.73,2, 5682.30,   0.1870,3,   0.1400,3,   0.0750,3,   0.0510,3,   0.0142,3,   0.0153,3,   0.7744,      0.000,   0.236,     -999.0,          9,     -999.0,          9,-999.000,          9