BOTTLE,20220818CCHSIOAMB
EXPOCODE,SECT_ID,STNNBR,CASTNO,SAMPNO,BTLNBR,BTLNBR_FLAG_W,DATE,TIME,LATITUDE,LONGITUDE,DEPTH,CTDPRS,CTDTMP,CTDSAL,CTDSAL_FLAG_W,SALNTY,SALNTY_FLAG_W,CTDOXY,CTDOXY_FLAG_W,OXYGEN,OXYGEN_FLAG_W,SILCAT,SILCAT_FLAG_W,NITRAT,NITRAT_FLAG_W,NITRIT,NITRIT_FLAG_W,PHSPHT,PHSPHT_FLAG_W,CFC-11,CFC-11_FLAG_W,CFC-12,CFC-12_FLAG_W,CFC113,CFC113_FLAG_W,TCARBN,TCARBN_FLAG_W,ALKALI,ALKALI_FLAG_W,PCO2,PCO2_FLAG_W,PCO2TMP,PH_SWS,PH_SWS_FLAG_W,PH_TMP,TRITUM,TRITUM_FLAG_W,TRITER,HELIUM,HELIUM_FLAG_W,DELHE3,DELHE3_FLAG_W,DELC13,DELC13_FLAG_W,DELC14,DELC14_FLAG_W,C14ERR,NEON,NEON_FLAG_W,NEONER,CCL4,CCL4_FLAG_W,DOC,DOC_FLAG_W,CTDRAW,CDOM325,CDOM325_FLAG_W,CDOM340,CDOM340_FLAG_W,CDOM380,CDOM380_FLAG_W,CDOM412,CDOM412_FLAG_W,CDOMSL,CDOMSL_FLAG_W,CDOMSN,CDOMSN_FLAG_W,THETA,HELIER,DELHER,CH3CL,CH3CL_FLAG_W,CH3BR,CH3BR_FLAG_W,CH3I,CH3I_FLAG_W
,,,,,,,,,,,METERS,DBAR,ITS-90,PSS-78,,PSS-78,,UMOL/KG,,UMOL/KG,,UMOL/KG,,UMOL/KG,,UMOL/KG,,UMOL/KG,,PMOL/KG,,PMOL/KG,,PMOL/KG,,UMOL/KG,,UMOL/KG,,UATM,,DEG C,,,DEG C,TU,,TU,NMOL/KG,,PERCNT,,/MILLE,,/MILLE,,/MILLE,NMOL/KG,,NMOL/KG,PMOL/KG,,UMOL/KG,,DBAR,1/M,,1/M,,1/M,,1/M,,1/NM,,1/NM,,DEG C,NMOL/KG,PERCNT,PMOL/KG,,PMOL/KG,,PMOL/KG,
 33RO200501,       A16S,      42,          1,         36,         36,2,20050128,       1804,   -41.5000,   -28.7163,       4479,     3.8,  15.7076,  34.8146,2,  34.8121,2,    253.2,2,   253.8,2,    0.29,2,    0.27,2,    0.03,2,    0.21,2,   2.771,2,   1.805,2,   0.221,2,  2041.6,2,  2309.1,6,  -999.0,9,   20.00,   7.9859,6,    25.00,-999.000,9, -999.00,-999.000,9,-999.000,9, -999.00,9,  -999.0,9,  -999.0,-999.000,9,-999.000,   5.964,4, -999.00,9,    3.80,-999.0000,9,-999.0000,9,-999.0000,9,-999.0000,9,-999.0000,9,-999.0000,9,  15.7070,     -999.0,-999.000,    103.603,          2,      2.781,          2,   5.215,          2
 33RO200501,       A16S,      42,          1,         35,         35,2,20050128,       1804,   -41.5000,   -28.7163,       4479,    25.0,  15.6347,  34.8130,2,  34.8119,2,    252.8,2,   252.9,2,    0.29,2,    0.19,2,    0.02,2,    0.21,2,-999.000,9,-999.000,9,-999.000,9,  -999.0,9,  -999.0,9,  -999.0,9,   20.00,-999.0000,9,    25.00,-999.000,9, -999.00,-999.000,9,-999.000,9, -999.00,9,  -999.0,9,  -999.0,-999.000,9,-999.000,-999.000,9, -999.00,9,   25.00,-999.0000,9,-999.0000,9,-999.0000,9,-999.0000,9,-999.0000,9,-999.0000,9,  15.6308,     -999.0,-999.000,     92.542,          2,      2.347,          2,   5.755,          2
 33RO200501,       A16S,      42,          1,         34,         34,2,20050128,       1804,   -41.5000,   -28.7163,       4479,    51.0,  14.8812,  34.8948,2,  34.8930,2,    244.8,2,   246.1,2,    0.62,2,    1.56,2,    0.22,2,    0.34,2,-999.000,9,-999.000,9,-999.000,9,  -999.0,9,  -999.0,9,  -999.0,9,   20.00,-999.0000,9,    25.00,-999.000,9, -999.00,-999.000,9,-999.000,9, -999.00,9,  -999.0,9,  -999.0,-999.000,9,-999.000,-999.000,9, -999.00,9,   51.00,-999.0000,9,-999.0000,9,-999.0000,9,-999.0000,9,-999.0000,9,-999.0000,9,  14.8736,     -999.0,-999.000,     -999.0,          9,     -999.0,          9,-999.000,          9
 33RO200501,       A16S,      42,          1,         33,         33,2,20050128,       1804,   -41.5000,   -28.7163,       4479,    69.5,  12.4029,  34.9221,2,  34.9126,2,    254.6,2,   254.9,2,    1.70,2,    5.64,2,    0.59,2,    0.54,2,-999.000,9,-999.000,9,-999.000,9,  -999.0,9,  -999.0,9,  -999.0,9,   20.00,-999.0000,9,    25.00,-999.000,9, -999.00,-999.000,9,-999.000,9, -999.00,9,  -999.0,9,  -999.0,-999.000,9,-999.000,-999.000,9, -999.00,9,   69.50,-999.0000,9,-999.0000,9,-999.0000,9,-999.0000,9,-999.0000,9,-999.0000,9,  12.3937,     -999.0,-999.000,     62.923,          2,      0.737,          2,   1.895,          2
 33RO200501,       A16S,      42,          1,         32,         32,2,20050128,       1804,   -41.5000,   -28.7163,       4479,    90.8,  11.9878,  34.8834,2,  34.8817,2,    253.0,2,   254.9,2,    1.79,2,    6.91,2,    0.12,2,    0.58,2,   3.251,2,   1.916,2,   0.259,2,  2090.1,2,  2305.5,2,  -999.0,9,   20.00,   7.8946,2,    25.00,-999.000,9, -999.00,-999.000,9,-999.000,9, -999.00,9,  -999.0,9,  -999.0,-999.000,9,-999.000,   2.937,3, -999.00,9,   90.80,-999.0000,9,-999.0000,9,-999.0000,9,-999.0000,9,-999.0000,9,-999.0000,9,  11.9760,     -999.0,-999.000,     -999.0,          9,     -999.0,          9,-999.000,          9
 33RO200501,       A16S,      42,          1,         31,         31,2,20050128,       1804,   -41.5000,   -28.7163,       4479,   114.0,  11.7835,  34.9174,2,  34.9166,2,    245.4,2,   245.6,2,    2.15,2,    8.81,2,    0.02,2,    0.66,2,-999.000,9,-999.000,9,-999.000,9,  -999.0,9,  -999.0,9,  -999.0,9,   20.00,-999.0000,9,    25.00,-999.000,9, -999.00,-999.000,9,-999.000,9, -999.00,9,  -999.0,9,  -999.0,-999.000,9,-999.000,-999.000,9, -999.00,9,  114.00,-999.0000,9,-999.0000,9,-999.0000,9,-999.0000,9,-999.0000,9,-999.0000,9,  11.7689,     -999.0,-999.000,     -999.0,          9,     -999.0,          9,-999.000,          9
 33RO200501,       A16S,      42,          1,         30,         30,2,20050128,       1804,   -41.5000,   -28.7163,       4479,   140.3,  10.9759,  34.8479,2,  34.8410,2,    237.1,2,   228.1,2,    3.11,2,   12.15,2,    0.02,2,    0.84,2,-999.000,9,-999.000,9,-999.000,9,  -999.0,9,  -999.0,9,  -999.0,9,   20.00,-999.0000,9,    25.00,-999.000,9, -999.00,-999.000,9,-999.000,9, -999.00,9,  -999.0,9,  -999.0,-999.000,9,-999.000,-999.000,9, -999.00,9,  140.30,-999.0000,9,-999.0000,9,-999.0000,9,-999.0000,9,-999.0000,9,-999.0000,9,  10.9587,     -999.0,-999.000,     19.696,          2,      0.000,          2,   0.312,          2
 33RO200501,       A16S,      42,          1,         29,         29,2,20050128,       1804,   -41.5000,   -28.7163,       4479,   166.4,  10.1852,  34.7368,2,  34.7266,2,    229.8,2,   233.9,2,    3.77,2,   14.24,2,    0.02,2,    0.96,2,-999.000,9,-999.000,9,-999.000,9,  -999.0,9,  -999.0,9,  -999.0,9,   20.00,-999.0000,9,    25.00,-999.000,9, -999.00,-999.000,9,-999.000,9, -999.00,9,  -999.0,9,  -999.0,-999.000,9,-999.000,-999.000,9, -999.00,9,  166.40,-999.0000,9,-999.0000,9,-999.0000,9,-999.0000,9,-999.0000,9,-999.0000,9,  10.1657,     -999.0,-999.000,     -999.0,          9,     -999.0,          9,-999.000,          9
 33RO200501,       A16S,      42,          1,         28,         28,2,20050128,       1804,   -41.5000,   -28.7163,       4479,   189.4,   9.2284,  34.5965,2,  34.5900,2,    239.4,2,   234.6,2,    4.05,2,   15.69,2,    0.02,2,    1.04,2,   3.567,2,   2.017,2,   0.263,2,  -999.0,9,  -999.0,9,  -999.0,9,   20.00,-999.0000,9,    25.00,-999.000,9, -999.00,-999.000,9,-999.000,9, -999.00,9,  -999.0,9,  -999.0,-999.000,9,-999.000,   2.142,3, -999.00,9,  189.40,-999.0000,9,-999.0000,9,-999.0000,9,-999.0000,9,-999.0000,9,-999.0000,9,   9.2077,     -999.0,-999.000,     -999.0,          9,     -999.0,          9,-999.000,          9
 33RO200501,       A16S,      42,          1,         27,         27,2,20050128,       1804,   -41.5000,   -28.7163,       4479,   225.7,   8.4025,  34.5185,2,  34.5103,2,    231.1,2,   233.0,2,    5.61,2,   19.17,2,    0.02,2,    1.24,2,-999.000,9,-999.000,9,-999.000,9,  -999.0,9,  -999.0,9,  -999.0,9,   20.00,-999.0000,9,    25.00,-999.000,9, -999.00,-999.000,9,-999.000,9, -999.00,9,  -999.0,9,  -999.0,-999.000,9,-999.000,-999.000,9, -999.00,9,  225.70,-999.0000,9,-999.0000,9,-999.0000,9,-999.0000,9,-999.0000,9,-999.0000,9,   8.3791,     -999.0,-999.000,      8.450,          2,      0.081,          2,   0.134,          2
 33RO200501,       A16S,      42,          1,         26,         26,2,20050128,       1804,   -41.5000,   -28.7163,       4479,   275.3,   7.1412,  34.3906,2,  34.3860,2,    233.5,2,   234.0,2,    7.47,2,   22.50,2,    0.01,2,    1.43,2,-999.000,9,-999.000,9,-999.000,9,  2143.9,2,  2278.8,2,  -999.0,9,   20.00,   7.7256,2,    25.00,-999.000,9, -999.00,-999.000,9,-999.000,9, -999.00,9,  -999.0,9,  -999.0,-999.000,9,-999.000,-999.000,9, -999.00,9,  275.30,-999.0000,9,-999.0000,9,-999.0000,9,-999.0000,9,-999.0000,9,-999.0000,9,   7.1153,     -999.0,-999.000,     -999.0,          9,     -999.0,          9,-999.000,          9
 33RO200501,       A16S,      42,          1,         25,         25,2,20050128,       1804,   -41.5000,   -28.7163,       4479,   324.7,   6.2260,  34.3070,2,  34.3062,2,    241.4,2,   242.7,2,    8.89,2,   23.85,2,    0.02,2,    1.52,2,-999.000,9,-999.000,9,-999.000,9,  -999.0,9,  -999.0,9,  -999.0,9,   20.00,-999.0000,9,    25.00,-999.000,9, -999.00,-999.000,9,-999.000,9, -999.00,9,  -999.0,9,  -999.0,-999.000,9,-999.000,-999.000,9, -999.00,9,  324.70,-999.0000,9,-999.0000,9,-999.0000,9,-999.0000,9,-999.0000,9,-999.0000,9,   6.1976,     -999.0,-999.000,     -999.0,          9,     -999.0,          9,-999.000,          9
 33RO200501,       A16S,      42,          1,         24,         24,2,20050128,       1804,   -41.5000,   -28.7163,       4479,   375.4,   5.6388,  34.2640,2,  34.2646,2,    250.1,2,   249.9,2,   10.10,2,   24.49,2,    0.01,2,    1.57,2,-999.000,9,-999.000,9,-999.000,9,  -999.0,9,  -999.0,9,  -999.0,9,   20.00,-999.0000,9,    25.00,-999.000,9, -999.00,-999.000,9,-999.000,9, -999.00,9,  -999.0,9,  -999.0,-999.000,9,-999.000,-999.000,9, -999.00,9,  375.40,-999.0000,9,-999.0000,9,-999.0000,9,-999.0000,9,-999.0000,9,-999.0000,9,   5.6075,     -999.0,-999.000,      3.948,          2,      0.179,          2,   0.068,          2
 33RO200501,       A16S,      42,          1,         23,         23,2,20050128,       1804,   -41.5000,   -28.7163,       4479,   449.5,   5.0404,  34.2204,2,  34.2201,2,    257.6,2,   257.9,2,   11.62,2,   25.32,2,    0.01,2,    1.62,2,   3.962,2,   2.148,2,   0.284,2,  -999.0,9,  -999.0,9,  -999.0,9,   20.00,-999.0000,9,    25.00,-999.000,9, -999.00,-999.000,9,-999.000,9, -999.00,9,  -999.0,9,  -999.0,-999.000,9,-999.000,   3.175,3, -999.00,9,  449.50,-999.0000,9,-999.0000,9,-999.0000,9,-999.0000,9,-999.0000,9,-999.0000,9,   5.0048,     -999.0,-999.000,     -999.0,          9,     -999.0,          9,-999.000,          9
 33RO200501,       A16S,      42,          1,         22,         22,2,20050128,       1804,   -41.5000,   -28.7163,       4479,   549.6,   4.5442,  34.2105,2,  34.2105,2,    257.6,2,   257.8,2,   14.59,2,   26.56,2,    0.00,2,    1.69,2,-999.000,9,-999.000,9,-999.000,9,  -999.0,9,  -999.0,9,  -999.0,9,   20.00,-999.0000,9,    25.00,-999.000,9, -999.00,-999.000,9,-999.000,9, -999.00,9,  -999.0,9,  -999.0,-999.000,9,-999.000,-999.000,9, -999.00,9,  549.60,-999.0000,9,-999.0000,9,-999.0000,9,-999.0000,9,-999.0000,9,-999.0000,9,   4.5025,     -999.0,-999.000,     -999.0,          9,     -999.0,          9,-999.000,          9
 33RO200501,       A16S,      42,          1,         21,         21,2,20050128,       1804,   -41.5000,   -28.7163,       4479,   651.2,   4.1072,  34.2097,2,  34.2093,2,    252.0,2,   253.4,2,   18.86,2,   27.88,2,    0.00,2,    1.78,2,-999.000,9,-999.000,9,-999.000,9,  -999.0,9,  -999.0,9,  -999.0,9,   20.00,-999.0000,9,    25.00,-999.000,9, -999.00,-999.000,9,-999.000,9, -999.00,9,  -999.0,9,  -999.0,-999.000,9,-999.000,-999.000,9, -999.00,9,  651.20,-999.0000,9,-999.0000,9,-999.0000,9,-999.0000,9,-999.0000,9,-999.0000,9,   4.0595,     -999.0,-999.000,      5.145,          2,      0.346,          2,   0.058,          2
 33RO200501,       A16S,      42,          1,         20,         20,2,20050128,       1804,   -41.5000,   -28.7163,       4479,   751.0,   3.7204,  34.2166,2,  34.2171,2,    247.5,2,   243.8,2,   23.49,2,   29.14,2,    0.00,2,    1.86,2,-999.000,9,-999.000,9,-999.000,9,  2173.9,2,  2285.8,2,  -999.0,9,   20.00,   7.6715,2,    25.00,-999.000,9, -999.00,-999.000,9,-999.000,9, -999.00,9,  -999.0,9,  -999.0,-999.000,9,-999.000,-999.000,9, -999.00,9,  751.00,-999.0000,9,-999.0000,9,-999.0000,9,-999.0000,9,-999.0000,9,-999.0000,9,   3.6670,     -999.0,-999.000,     -999.0,          9,     -999.0,          9,-999.000,          9
 33RO200501,       A16S,      42,          1,         19,         19,2,20050128,       1804,   -41.5000,   -28.7163,       4479,   851.6,   3.2381,  34.2278,2,  34.2275,2,    238.2,2,   238.2,2,   30.26,2,   30.60,2,    0.00,2,    1.96,2,-999.000,9,-999.000,9,-999.000,9,  -999.0,9,  -999.0,9,  -999.0,9,   20.00,-999.0000,9,    25.00,-999.000,9, -999.00,-999.000,9,-999.000,9, -999.00,9,  -999.0,9,  -999.0,-999.000,9,-999.000,-999.000,9, -999.00,9,  851.60,-999.0000,9,-999.0000,9,-999.0000,9,-999.0000,9,-999.0000,9,-999.0000,9,   3.1800,     -999.0,-999.000,     -999.0,          9,     -999.0,          9,-999.000,          9
 33RO200501,       A16S,      42,          1,         18,         18,2,20050128,       1804,   -41.5000,   -28.7163,       4479,   951.9,   2.9862,  34.2685,2,  34.2695,2,    225.4,2,   224.3,2,   38.18,2,   31.91,2,    0.00,2,    2.05,2,-999.000,9,-999.000,9,-999.000,9,  -999.0,9,  -999.0,9,  -999.0,9,   20.00,-999.0000,9,    25.00,-999.000,9, -999.00,-999.000,9,-999.000,9, -999.00,9,  -999.0,9,  -999.0,-999.000,9,-999.000,-999.000,9, -999.00,9,  951.90,-999.0000,9,-999.0000,9,-999.0000,9,-999.0000,9,-999.0000,9,-999.0000,9,   2.9224,     -999.0,-999.000,      3.320,          2,      0.092,          2,   0.094,          2
 33RO200501,       A16S,      42,          1,         17,         17,2,20050128,       1804,   -41.5000,   -28.7163,       4479,  1028.9,   2.9769,  34.3209,2,  34.3207,2,    212.7,2,   211.4,2,   43.26,2,   32.51,2,    0.00,2,    2.10,2,   1.848,2,   1.046,2,   0.120,2,  2210.4,2,  2303.9,2,  -999.0,9,   20.00,   7.6042,2,    25.00,-999.000,9, -999.00,-999.000,9,-999.000,9, -999.00,9,  -999.0,9,  -999.0,-999.000,9,-999.000,   1.995,3, -999.00,9, 1028.90,-999.0000,9,-999.0000,9,-999.0000,9,-999.0000,9,-999.0000,9,-999.0000,9,   2.9073,     -999.0,-999.000,     -999.0,          9,     -999.0,          9,-999.000,          9
 33RO200501,       A16S,      42,          1,         16,         16,2,20050128,       1804,   -41.5000,   -28.7163,       4479,  1150.3,   2.9339,  34.3963,2,  34.3959,2,    195.8,2,   195.7,2,   49.95,2,   33.08,2,    0.00,2,    2.16,2,-999.000,9,-999.000,9,-999.000,9,  -999.0,9,  -999.0,9,  -999.0,9,   20.00,-999.0000,9,    25.00,-999.000,9, -999.00,-999.000,9,-999.000,9, -999.00,9,  -999.0,9,  -999.0,-999.000,9,-999.000,-999.000,9, -999.00,9, 1150.30,-999.0000,9,-999.0000,9,-999.0000,9,-999.0000,9,-999.0000,9,-999.0000,9,   2.8553,     -999.0,-999.000,     -999.0,          9,     -999.0,          9,-999.000,          9
 33RO200501,       A16S,      42,          1,         15,         15,2,20050128,       1804,   -41.5000,   -28.7163,       4479,  1249.9,   2.8558,  34.4547,2,  34.4546,2,    187.0,2,   187.3,2,   55.18,2,   33.29,2,    0.00,2,    2.18,2,-999.000,9,-999.000,9,-999.000,9,  -999.0,9,  -999.0,9,  -999.0,9,   20.00,-999.0000,9,    25.00,-999.000,9, -999.00,-999.000,9,-999.000,9, -999.00,9,  -999.0,9,  -999.0,-999.000,9,-999.000,-999.000,9, -999.00,9, 1249.90,-999.0000,9,-999.0000,9,-999.0000,9,-999.0000,9,-999.0000,9,-999.0000,9,   2.7700,     -999.0,-999.000,      4.157,          2,      0.000,          2,   0.039,          2
 33RO200501,       A16S,      42,          1,         14,         14,2,20050128,       1804,   -41.5000,   -28.7163,       4479,  1401.3,   2.8278,  34.5432,2,  34.5429,2,    181.6,2,   181.6,2,   59.08,2,   32.84,2,    0.00,2,    2.15,2,-999.000,9,-999.000,9,-999.000,9,  -999.0,9,  -999.0,9,  -999.0,9,   20.00,-999.0000,9,    25.00,-999.000,9, -999.00,-999.000,9,-999.000,9, -999.00,9,  -999.0,9,  -999.0,-999.000,9,-999.000,-999.000,9, -999.00,9, 1401.30,-999.0000,9,-999.0000,9,-999.0000,9,-999.0000,9,-999.0000,9,-999.0000,9,   2.7301,     -999.0,-999.000,     -999.0,          9,     -999.0,          9,-999.000,          9
 33RO200501,       A16S,      42,          1,         13,         13,2,20050128,       1804,   -41.5000,   -28.7163,       4479,  1600.1,   2.8299,  34.6381,2,  34.6372,2,    182.4,2,   181.7,2,   61.68,2,   31.71,2,    0.00,2,    2.08,2,   0.246,6,   0.110,2,   0.000,6,  -999.0,9,  -999.0,9,  -999.0,9,   20.00,-999.0000,9,    25.00,-999.000,9, -999.00,-999.000,9,-999.000,9, -999.00,9,  -999.0,9,  -999.0,-999.000,9,-999.000,   0.327,3, -999.00,9, 1600.10,-999.0000,9,-999.0000,9,-999.0000,9,-999.0000,9,-999.0000,9,-999.0000,9,   2.7156,     -999.0,-999.000,     -999.0,          9,     -999.0,          9,-999.000,          9
 33RO200501,       A16S,      42,          1,         12,         12,2,20050128,       1804,   -41.5000,   -28.7163,       4479,  1800.9,   2.7785,  34.7061,2,  34.7056,2,    187.4,2,   186.8,2,   63.31,2,   30.44,2,    0.00,2,    2.00,2,-999.000,9,-999.000,9,-999.000,9,  -999.0,9,  -999.0,9,  -999.0,9,   20.00,-999.0000,9,    25.00,-999.000,9, -999.00,-999.000,9,-999.000,9, -999.00,9,  -999.0,9,  -999.0,-999.000,9,-999.000,-999.000,9, -999.00,9, 1800.90,-999.0000,9,-999.0000,9,-999.0000,9,-999.0000,9,-999.0000,9,-999.0000,9,   2.6475,     -999.0,-999.000,      2.348,          2,      0.150,          2,   0.036,          2
 33RO200501,       A16S,      42,          1,         11,         11,2,20050128,       1804,   -41.5000,   -28.7163,       4479,  2001.4,   2.7711,  34.7615,2,  34.7636,2,    195.5,2,   195.8,2,   61.69,2,   28.88,2,    0.00,2,    1.88,2,   0.132,6,   0.055,6,  -0.001,6,  -999.0,9,  -999.0,9,  -999.0,9,   20.00,-999.0000,9,    25.00,-999.000,9, -999.00,-999.000,9,-999.000,9,    0.71,6,  -130.9,6,     3.9,-999.000,9,-999.000,   0.238,3, -999.00,9, 2001.40,-999.0000,9,-999.0000,9,-999.0000,9,-999.0000,9,-999.0000,9,-999.0000,9,   2.6225,     -999.0,-999.000,     -999.0,          9,     -999.0,          9,-999.000,          9
 33RO200501,       A16S,      42,          1,         10,         10,2,20050128,       1804,   -41.5000,   -28.7163,       4479,  2199.9,   2.9122,  34.8321,2,  34.8318,2,    210.8,2,   214.0,2,   51.06,2,   25.92,2,    0.00,2,    1.68,2,-999.000,9,-999.000,9,-999.000,9,  -999.0,9,  -999.0,9,  -999.0,9,   20.00,-999.0000,9,    25.00,-999.000,9, -999.00,-999.000,9,-999.000,9, -999.00,9,  -999.0,9,  -999.0,-999.000,9,-999.000,-999.000,9, -999.00,9, 2199.90,-999.0000,9,-999.0000,9,-999.0000,9,-999.0000,9,-999.0000,9,-999.0000,9,   2.7430,     -999.0,-999.000,     -999.0,          9,     -999.0,          9,-999.000,          9
 33RO200501,       A16S,      42,          1,          9,          9,2,20050128,       1804,   -41.5000,   -28.7163,       4479,  2399.9,   2.7675,  34.8442,2,  34.8454,2,    220.0,2,   219.4,2,   52.07,2,   25.36,2,    0.00,2,    1.64,2,-999.000,9,-999.000,9,-999.000,9,  -999.0,9,  -999.0,9,  -999.0,9,   20.00,-999.0000,9,    25.00,-999.000,9, -999.00,-999.000,9,-999.000,9, -999.00,9,  -999.0,9,  -999.0,-999.000,9,-999.000,-999.000,9, -999.00,9, 2399.90,-999.0000,9,-999.0000,9,-999.0000,9,-999.0000,9,-999.0000,9,-999.0000,9,   2.5818,     -999.0,-999.000,      3.158,          2,      0.155,          2,   0.020,          2
 33RO200501,       A16S,      42,          1,          8,          8,2,20050128,       1804,   -41.5000,   -28.7163,       4479,  2600.4,   2.4054,  34.8134,2,  34.8129,2,    213.1,2,   212.5,2,   64.99,2,   26.99,2,    0.00,2,    1.76,2,-999.000,9,-999.000,9,-999.000,9,  -999.0,9,  -999.0,9,  -999.0,9,   20.00,-999.0000,9,    25.00,-999.000,9, -999.00,-999.000,9,-999.000,9, -999.00,9,  -999.0,9,  -999.0,-999.000,9,-999.000,-999.000,9, -999.00,9, 2600.40,-999.0000,9,-999.0000,9,-999.0000,9,-999.0000,9,-999.0000,9,-999.0000,9,   2.2074,     -999.0,-999.000,     -999.0,          9,     -999.0,          9,-999.000,          9