BOTTLE,20220818CCHSIOAMB
EXPOCODE,SECT_ID,STNNBR,CASTNO,SAMPNO,BTLNBR,BTLNBR_FLAG_W,DATE,TIME,LATITUDE,LONGITUDE,DEPTH,CTDPRS,CTDTMP,CTDSAL,CTDSAL_FLAG_W,SALNTY,SALNTY_FLAG_W,CTDOXY,CTDOXY_FLAG_W,OXYGEN,OXYGEN_FLAG_W,SILCAT,SILCAT_FLAG_W,NITRAT,NITRAT_FLAG_W,NITRIT,NITRIT_FLAG_W,PHSPHT,PHSPHT_FLAG_W,CFC-11,CFC-11_FLAG_W,CFC-12,CFC-12_FLAG_W,CFC113,CFC113_FLAG_W,TCARBN,TCARBN_FLAG_W,ALKALI,ALKALI_FLAG_W,PCO2,PCO2_FLAG_W,PCO2TMP,PH_SWS,PH_SWS_FLAG_W,PH_TMP,TRITUM,TRITUM_FLAG_W,TRITER,HELIUM,HELIUM_FLAG_W,DELHE3,DELHE3_FLAG_W,DELC13,DELC13_FLAG_W,DELC14,DELC14_FLAG_W,C14ERR,NEON,NEON_FLAG_W,NEONER,CCL4,CCL4_FLAG_W,DOC,DOC_FLAG_W,CTDRAW,CDOM325,CDOM325_FLAG_W,CDOM340,CDOM340_FLAG_W,CDOM380,CDOM380_FLAG_W,CDOM412,CDOM412_FLAG_W,CDOMSL,CDOMSL_FLAG_W,CDOMSN,CDOMSN_FLAG_W,THETA,HELIER,DELHER,CH3CL,CH3CL_FLAG_W,CH3BR,CH3BR_FLAG_W,CH3I,CH3I_FLAG_W
,,,,,,,,,,,METERS,DBAR,ITS-90,PSS-78,,PSS-78,,UMOL/KG,,UMOL/KG,,UMOL/KG,,UMOL/KG,,UMOL/KG,,UMOL/KG,,PMOL/KG,,PMOL/KG,,PMOL/KG,,UMOL/KG,,UMOL/KG,,UATM,,DEG C,,,DEG C,TU,,TU,NMOL/KG,,PERCNT,,/MILLE,,/MILLE,,/MILLE,NMOL/KG,,NMOL/KG,PMOL/KG,,UMOL/KG,,DBAR,1/M,,1/M,,1/M,,1/M,,1/NM,,1/NM,,DEG C,NMOL/KG,PERCNT,PMOL/KG,,PMOL/KG,,PMOL/KG,
 33RO200501,       A16S,      39,          1,          7,          7,2,20050127,       2031,   -43.0008,   -29.6480,       4418,  2849.9,   2.0055,  34.7958,2,  34.7955,2,    213.6,2,   212.4,2,   75.88,2,   27.58,2,    0.00,2,    1.90,2,   0.058,2,   0.028,2,   0.000,2,  2229.2,2,  2351.9,2,  -999.0,9,   20.00,   7.6554,2,    25.00,-999.000,9, -999.00,-999.000,9,-999.000,9, -999.00,9,  -999.0,9,  -999.0,-999.000,9,-999.000,   0.131,3,   39.47,2, 2849.90,-999.0000,9,-999.0000,9,-999.0000,9,-999.0000,9,-999.0000,9,-999.0000,9,   1.7916,     -999.0,-999.000,     -999.0,          9,     -999.0,          9,-999.000,          9
 33RO200501,       A16S,      39,          1,          6,          6,2,20050127,       2031,   -43.0008,   -29.6480,       4418,  3150.9,   1.5389,  34.7511,2,  34.7515,2,    206.2,2,   205.8,2,   95.06,2,   29.94,2,    0.00,2,    2.08,2,-999.000,9,-999.000,9,-999.000,9,  2245.7,2,  2361.2,2,  -999.0,9,   20.00,   7.6296,2,    25.00,-999.000,9, -999.00,-999.000,9,-999.000,9, -999.00,9,  -999.0,9,  -999.0,-999.000,9,-999.000,-999.000,9,   39.57,2, 3150.90,-999.0000,9,-999.0000,9,-999.0000,9,-999.0000,9,-999.0000,9,-999.0000,9,   1.3063,     -999.0,-999.000,     -999.0,          9,     -999.0,          9,-999.000,          9
 33RO200501,       A16S,      39,          1,          5,          5,2,20050127,       2031,   -43.0008,   -29.6480,       4418,  3449.6,   1.1840,  34.7284,2,  34.7285,2,    207.7,2,   207.0,2,  105.87,6,   30.95,6,    0.00,6,    2.16,6,   0.126,2,   0.059,2,  -0.003,2,  2253.3,2,  2362.9,2,  -999.0,9,   20.00,   7.6249,2,    25.00,-999.000,9, -999.00,-999.000,9,-999.000,9, -999.00,9,  -999.0,9,  -999.0,-999.000,9,-999.000,   0.204,3,   39.67,2, 3449.60,-999.0000,9,-999.0000,9,-999.0000,9,-999.0000,9,-999.0000,9,-999.0000,9,   0.9305,     -999.0,-999.000,     -999.0,          9,     -999.0,          9,-999.000,          9
 33RO200501,       A16S,      39,          1,          4,          4,2,20050127,       2031,   -43.0008,   -29.6480,       4418,  3750.4,   0.8720,  34.7079,2,  34.7082,2,    210.4,2,   209.8,2,  113.71,6,   31.65,6,    0.00,6,    2.22,6,   0.186,2,   0.087,2,  -0.005,2,  2257.2,2,  2363.9,2,  -999.0,9,   20.00,   7.6228,2,    25.00,-999.000,9, -999.00,-999.000,9,-999.000,9, -999.00,9,  -999.0,9,  -999.0,-999.000,9,-999.000,   0.283,3, -999.00,9, 3750.40,-999.0000,9,-999.0000,9,-999.0000,9,-999.0000,9,-999.0000,9,-999.0000,9,   0.5966,     -999.0,-999.000,     -999.0,          9,     -999.0,          9,-999.000,          9
 33RO200501,       A16S,      39,          1,          3,          3,2,20050127,       2031,   -43.0008,   -29.6480,       4418,  4050.6,   0.5302,  34.6880,2,  34.6880,2,    215.4,2,   215.1,2,  120.98,6,   32.26,6,    0.00,6,    2.27,6,   0.251,2,   0.117,2,   0.001,2,  2258.2,2,  2367.0,2,  -999.0,9,   20.00,   7.6122,2,    25.00,-999.000,9, -999.00,-999.000,9,-999.000,9, -999.00,9,  -999.0,9,  -999.0,-999.000,9,-999.000,   0.356,3,   39.91,2, 4050.60,-999.0000,9,-999.0000,9,-999.0000,9,-999.0000,9,-999.0000,9,-999.0000,9,   0.2335,     -999.0,-999.000,     -999.0,          9,     -999.0,          9,-999.000,          9
 33RO200501,       A16S,      39,          1,          2,          2,2,20050127,       2031,   -43.0008,   -29.6480,       4418,  4351.8,   0.3654,  34.6787,2,  34.6786,2,    218.9,2,   218.5,2, -999.00,9, -999.00,9, -999.00,9, -999.00,9,   0.317,2,   0.146,2,  -0.004,2,  2260.2,2,  2369.7,6,  -999.0,9,   20.00,   7.6133,6,    25.00,-999.000,9, -999.00,-999.000,9,-999.000,9, -999.00,9,  -999.0,9,  -999.0,-999.000,9,-999.000,   0.433,3, -999.00,9, 4351.80,-999.0000,9,-999.0000,9,-999.0000,9,-999.0000,9,-999.0000,9,-999.0000,9,   0.0420,     -999.0,-999.000,     -999.0,          9,     -999.0,          9,-999.000,          9
 33RO200501,       A16S,      39,          1,          1,          1,2,20050127,       2031,   -43.0008,   -29.6480,       4418,  4533.0,   0.3150,  34.6759,2,  34.6759,2,    219.9,2,   219.5,2,  125.86,6,   32.52,6,    0.01,6,    2.31,6,   0.313,2,   0.151,2,   0.003,2,  2262.2,6,  2370.0,2,  -999.0,9,   20.00,   7.6181,2,    25.00,-999.000,9, -999.00,-999.000,9,-999.000,9, -999.00,9,  -999.0,9,  -999.0,-999.000,9,-999.000,   0.424,3,   39.32,2, 4533.00,-999.0000,9,-999.0000,9,-999.0000,9,-999.0000,9,-999.0000,9,-999.0000,9,  -0.0264,     -999.0,-999.000,     -999.0,          9,     -999.0,          9,-999.000,          9