BOTTLE,20220818CCHSIOAMB
EXPOCODE,SECT_ID,STNNBR,CASTNO,SAMPNO,BTLNBR,BTLNBR_FLAG_W,DATE,TIME,LATITUDE,LONGITUDE,DEPTH,CTDPRS,CTDTMP,CTDSAL,CTDSAL_FLAG_W,SALNTY,SALNTY_FLAG_W,CTDOXY,CTDOXY_FLAG_W,OXYGEN,OXYGEN_FLAG_W,SILCAT,SILCAT_FLAG_W,NITRAT,NITRAT_FLAG_W,NITRIT,NITRIT_FLAG_W,PHSPHT,PHSPHT_FLAG_W,CFC-11,CFC-11_FLAG_W,CFC-12,CFC-12_FLAG_W,CFC113,CFC113_FLAG_W,TCARBN,TCARBN_FLAG_W,ALKALI,ALKALI_FLAG_W,PCO2,PCO2_FLAG_W,PCO2TMP,PH_SWS,PH_SWS_FLAG_W,PH_TMP,TRITUM,TRITUM_FLAG_W,TRITER,HELIUM,HELIUM_FLAG_W,DELHE3,DELHE3_FLAG_W,DELC13,DELC13_FLAG_W,DELC14,DELC14_FLAG_W,C14ERR,NEON,NEON_FLAG_W,NEONER,CCL4,CCL4_FLAG_W,DOC,DOC_FLAG_W,CTDRAW,CDOM325,CDOM325_FLAG_W,CDOM340,CDOM340_FLAG_W,CDOM380,CDOM380_FLAG_W,CDOM412,CDOM412_FLAG_W,CDOMSL,CDOMSL_FLAG_W,CDOMSN,CDOMSN_FLAG_W,THETA,HELIER,DELHER,CH3CL,CH3CL_FLAG_W,CH3BR,CH3BR_FLAG_W,CH3I,CH3I_FLAG_W
,,,,,,,,,,,METERS,DBAR,ITS-90,PSS-78,,PSS-78,,UMOL/KG,,UMOL/KG,,UMOL/KG,,UMOL/KG,,UMOL/KG,,UMOL/KG,,PMOL/KG,,PMOL/KG,,PMOL/KG,,UMOL/KG,,UMOL/KG,,UATM,,DEG C,,,DEG C,TU,,TU,NMOL/KG,,PERCNT,,/MILLE,,/MILLE,,/MILLE,NMOL/KG,,NMOL/KG,PMOL/KG,,UMOL/KG,,DBAR,1/M,,1/M,,1/M,,1/M,,1/NM,,1/NM,,DEG C,NMOL/KG,PERCNT,PMOL/KG,,PMOL/KG,,PMOL/KG,
 33RO200501,       A16S,      51,          2,          7,          7,2,20050131,       1345,   -36.9973,   -25.9320,       4035,  2699.3,   2.8177,  34.8818,2,  34.8823,2,    233.6,2,   233.9,2,   43.44,2,   23.12,2,    0.00,2,    1.54,2,-999.000,9,-999.000,9,-999.000,9,  2196.1,2,  2328.1,2,  -999.0,9,   20.00,   7.7075,2,    25.00,-999.000,9, -999.00,-999.000,9,-999.000,9, -999.00,9,  -999.0,9,  -999.0,-999.000,9,-999.000,-999.000,9, -999.00,9, 2699.30,-999.0000,9,-999.0000,9,-999.0000,9,-999.0000,9,-999.0000,9,-999.0000,9,   2.6018,     -999.0,-999.000,     -999.0,          9,     -999.0,          9,-999.000,          9
 33RO200501,       A16S,      51,          2,          6,          6,2,20050131,       1345,   -36.9973,   -25.9320,       4035,  2900.4,   2.6693,  34.8758,2,  34.8758,2,    234.2,2,   234.4,2,   46.85,2,   23.33,2,    0.00,2,    1.56,2,   0.017,2,   0.012,2,   0.000,2,  2200.1,2,  2330.4,2,  -999.0,9,   20.00,   7.7043,2,    25.00,-999.000,9, -999.00,-999.000,9,-999.000,9, -999.00,9,  -999.0,9,  -999.0,-999.000,9,-999.000,   0.073,4,   39.54,2, 2900.40,-999.0000,9,-999.0000,9,-999.0000,9,-999.0000,9,-999.0000,9,-999.0000,9,   2.4361,     -999.0,-999.000,     -999.0,          9,     -999.0,          9,-999.000,          9
 33RO200501,       A16S,      51,          2,          5,          5,2,20050131,       1345,   -36.9973,   -25.9320,       4035,  3099.9,   2.4934,  34.8691,2,  34.8691,2,    235.4,2,   235.8,2,   50.40,2,   23.51,2,    0.00,2,    1.58,2,   0.005,2,   0.014,2,   0.004,2,  2201.3,2,  2331.9,2,  -999.0,9,   20.00,   7.7022,2,    25.00,-999.000,9, -999.00,-999.000,9,-999.000,9, -999.00,9,  -999.0,9,  -999.0,-999.000,9,-999.000,   0.103,3, -999.00,9, 3099.90,   0.1920,3,   0.1450,2,   0.0740,3,   0.0490,2,   0.0154,3,   0.0163,3,   2.2437,     -999.0,-999.000,     -999.0,          9,     -999.0,          9,-999.000,          9
 33RO200501,       A16S,      51,          2,          4,          4,2,20050131,       1345,   -36.9973,   -25.9320,       4035,  3350.0,   2.1113,  34.8326,2,  34.8325,2,    231.4,2,   229.8,2,   64.40,6,   25.23,6,    0.00,6,    1.70,6,-999.000,9,-999.000,9,-999.000,9,  2215.1,2,  2336.1,2,  -999.0,9,   20.00,   7.6872,2,    25.00,-999.000,9, -999.00,-999.000,9,-999.000,9, -999.00,9,  -999.0,9,  -999.0,-999.000,9,-999.000,-999.000,9,   40.30,2, 3350.00,-999.0000,9,-999.0000,9,-999.0000,9,-999.0000,9,-999.0000,9,-999.0000,9,   1.8447,     -999.0,-999.000,     -999.0,          9,     -999.0,          9,-999.000,          9
 33RO200501,       A16S,      51,          2,          3,          3,2,20050131,       1345,   -36.9973,   -25.9320,       4035,  3598.7,   1.6755,  34.7925,2,  34.7920,2,    224.9,2,   224.8,2,   80.64,6,   27.21,6,    0.00,6,    1.86,6,   0.031,2,   0.023,2,   0.001,2,  2229.9,2,  2346.0,2,  -999.0,9,   20.00,   7.6655,2,    25.00,-999.000,9, -999.00,-999.000,9,-999.000,9, -999.00,9,  -999.0,9,  -999.0,-999.000,9,-999.000,   0.103,3, -999.00,9, 3598.70,-999.0000,9,-999.0000,9,-999.0000,9,-999.0000,9,-999.0000,9,-999.0000,9,   1.3941,     -999.0,-999.000,     -999.0,          9,     -999.0,          9,-999.000,          9
 33RO200501,       A16S,      51,          2,          2,          2,2,20050131,       1345,   -36.9973,   -25.9320,       4035,  3850.3,   1.2592,  34.7532,2,  34.7531,2,    220.7,2,   220.4,2,   96.34,6,   29.16,6,    0.00,6,    2.01,6,   0.076,2,   0.034,2,   0.004,2,  2244.1,2,  2354.2,6,  -999.0,9,   20.00,   7.6452,6,    25.00,-999.000,9, -999.00,-999.000,9,-999.000,9, -999.00,9,  -999.0,9,  -999.0,-999.000,9,-999.000,   0.164,3,   39.43,2, 3850.30,-999.0000,9,-999.0000,9,-999.0000,9,-999.0000,9,-999.0000,9,-999.0000,9,   0.9626,     -999.0,-999.000,     -999.0,          9,     -999.0,          9,-999.000,          9
 33RO200501,       A16S,      51,          2,          1,          1,2,20050131,       1345,   -36.9973,   -25.9320,       4035,  4081.9,   0.9073,  34.7202,2,  34.7205,2,    216.6,2,   216.4,2,  108.97,6,   30.73,6,    0.00,6,    2.13,6,   0.103,2,   0.061,2,   0.003,2,  2256.1,6,  2358.9,2,  -999.0,9,   20.00,   7.6337,2,    25.00,-999.000,9, -999.00,-999.000,9,-999.000,9, -999.00,9,  -999.0,9,  -999.0,-999.000,9,-999.000,   0.232,3,   39.49,2, 4081.90,   0.1940,3,   0.1460,3,   0.0770,3,   0.0520,3,   0.0146,3,   0.0156,3,   0.5962,     -999.0,-999.000,     -999.0,          9,     -999.0,          9,-999.000,          9