BOTTLE,20220818CCHSIOAMB
EXPOCODE,SECT_ID,STNNBR,CASTNO,SAMPNO,BTLNBR,BTLNBR_FLAG_W,DATE,TIME,LATITUDE,LONGITUDE,DEPTH,CTDPRS,CTDTMP,CTDSAL,CTDSAL_FLAG_W,SALNTY,SALNTY_FLAG_W,CTDOXY,CTDOXY_FLAG_W,OXYGEN,OXYGEN_FLAG_W,SILCAT,SILCAT_FLAG_W,NITRAT,NITRAT_FLAG_W,NITRIT,NITRIT_FLAG_W,PHSPHT,PHSPHT_FLAG_W,CFC-11,CFC-11_FLAG_W,CFC-12,CFC-12_FLAG_W,CFC113,CFC113_FLAG_W,TCARBN,TCARBN_FLAG_W,ALKALI,ALKALI_FLAG_W,PCO2,PCO2_FLAG_W,PCO2TMP,PH_SWS,PH_SWS_FLAG_W,PH_TMP,TRITUM,TRITUM_FLAG_W,TRITER,HELIUM,HELIUM_FLAG_W,DELHE3,DELHE3_FLAG_W,DELC13,DELC13_FLAG_W,DELC14,DELC14_FLAG_W,C14ERR,NEON,NEON_FLAG_W,NEONER,CCL4,CCL4_FLAG_W,DOC,DOC_FLAG_W,CTDRAW,CDOM325,CDOM325_FLAG_W,CDOM340,CDOM340_FLAG_W,CDOM380,CDOM380_FLAG_W,CDOM412,CDOM412_FLAG_W,CDOMSL,CDOMSL_FLAG_W,CDOMSN,CDOMSN_FLAG_W,THETA,HELIER,DELHER,CH3CL,CH3CL_FLAG_W,CH3BR,CH3BR_FLAG_W,CH3I,CH3I_FLAG_W
,,,,,,,,,,,METERS,DBAR,ITS-90,PSS-78,,PSS-78,,UMOL/KG,,UMOL/KG,,UMOL/KG,,UMOL/KG,,UMOL/KG,,UMOL/KG,,PMOL/KG,,PMOL/KG,,PMOL/KG,,UMOL/KG,,UMOL/KG,,UATM,,DEG C,,,DEG C,TU,,TU,NMOL/KG,,PERCNT,,/MILLE,,/MILLE,,/MILLE,NMOL/KG,,NMOL/KG,PMOL/KG,,UMOL/KG,,DBAR,1/M,,1/M,,1/M,,1/M,,1/NM,,1/NM,,DEG C,NMOL/KG,PERCNT,PMOL/KG,,PMOL/KG,,PMOL/KG,
 33RO200501,       A16S,       8,          1,         36,         36,2,20050119,       1201,   -56.5003,   -32.9487,       3555,     4.1,   2.0922,  33.9870,2,  33.9884,2,    330.2,2,   331.4,2,   29.45,2,   23.19,2,    0.32,2,    1.50,2,   6.035,2,   3.238,2,   0.513,2,  2153.7,6,  2297.9,6,  -999.0,9,   20.00,   7.7470,6,    25.00,-999.000,9, -999.00,-999.000,9,-999.000,9, -999.00,9,  -999.0,9,  -999.0,-999.000,9,-999.000,   6.502,4, -999.00,9,    4.10,-999.0000,9,-999.0000,9,-999.0000,9,-999.0000,9,-999.0000,9,-999.0000,9,   2.0920,     -999.0,-999.000,     27.545,          2,      0.781,          2,   0.368,          2
 33RO200501,       A16S,       8,          1,         35,         35,2,20050119,       1201,   -56.5003,   -32.9487,       3555,    19.8,   2.0793,  33.9869,2,  33.9882,2,    330.5,2,   331.8,2,   29.65,2,   23.24,2,    0.32,2,    1.50,2,-999.000,9,-999.000,9,-999.000,9,  -999.0,9,  -999.0,9,  -999.0,9,   20.00,-999.0000,9,    25.00,-999.000,9, -999.00,-999.000,9,-999.000,9, -999.00,9,  -999.0,9,  -999.0,-999.000,9,-999.000,-999.000,9, -999.00,9,   19.80,-999.0000,9,-999.0000,9,-999.0000,9,-999.0000,9,-999.0000,9,-999.0000,9,   2.0783,     -999.0,-999.000,     29.084,          2,      0.744,          2,   0.376,          2
 33RO200501,       A16S,       8,          1,         34,         34,2,20050119,       1201,   -56.5003,   -32.9487,       3555,    40.4,   2.0488,  33.9874,2,  33.9894,2,    330.3,2,   331.2,2,   29.88,2,   23.29,2,    0.32,2,    1.52,2,-999.000,9,-999.000,9,-999.000,9,  -999.0,9,  -999.0,9,  -999.0,9,   20.00,-999.0000,9,    25.00,-999.000,9, -999.00,-999.000,9,-999.000,9, -999.00,9,  -999.0,9,  -999.0,-999.000,9,-999.000,-999.000,9, -999.00,9,   40.40,-999.0000,9,-999.0000,9,-999.0000,9,-999.0000,9,-999.0000,9,-999.0000,9,   2.0467,     -999.0,-999.000,     26.856,          2,      0.656,          2,   0.394,          2
 33RO200501,       A16S,       8,          1,         33,         33,2,20050119,       1201,   -56.5003,   -32.9487,       3555,    60.1,   1.3722,  34.0186,2,  34.0237,2,    334.0,2,   334.7,2,   34.61,2,   23.89,2,    0.31,2,    1.60,2,-999.000,9,-999.000,9,-999.000,9,  -999.0,9,  -999.0,9,  -999.0,9,   20.00,-999.0000,9,    25.00,-999.000,9, -999.00,-999.000,9,-999.000,9, -999.00,9,  -999.0,9,  -999.0,-999.000,9,-999.000,-999.000,9, -999.00,9,   60.10,-999.0000,9,-999.0000,9,-999.0000,9,-999.0000,9,-999.0000,9,-999.0000,9,   1.3694,     -999.0,-999.000,     19.372,          2,      0.428,          2,   0.330,          2
 33RO200501,       A16S,       8,          1,         32,         32,2,20050119,       1201,   -56.5003,   -32.9487,       3555,    81.5,   0.4286,  34.0993,2,  34.1082,2,    320.8,2,   318.9,2,   47.35,2,   27.02,2,    0.40,2,    1.91,2,   5.775,2,   3.052,2,   0.480,2,  2183.9,2,  2302.7,2,  -999.0,9,   20.00,   7.6772,2,    25.00,-999.000,9, -999.00,-999.000,9,-999.000,9, -999.00,9,  -999.0,9,  -999.0,-999.000,9,-999.000,   5.888,4, -999.00,9,   81.50,-999.0000,9,-999.0000,9,-999.0000,9,-999.0000,9,-999.0000,9,-999.0000,9,   0.4254,     -999.0,-999.000,     -999.0,          9,     -999.0,          9,-999.000,          9
 33RO200501,       A16S,       8,          1,         31,         31,2,20050119,       1201,   -56.5003,   -32.9487,       3555,   100.7,   0.3455,  34.1520,2,  34.1548,2,    304.1,2,   300.1,2,   52.83,2,   29.15,2,    0.29,2,    2.04,2,-999.000,9,-999.000,9,-999.000,9,  -999.0,9,  -999.0,9,  -999.0,9,   20.00,-999.0000,9,    25.00,-999.000,9, -999.00,-999.000,9,-999.000,9, -999.00,9,  -999.0,9,  -999.0,-999.000,9,-999.000,-999.000,9, -999.00,9,  100.70,-999.0000,9,-999.0000,9,-999.0000,9,-999.0000,9,-999.0000,9,-999.0000,9,   0.3417,     -999.0,-999.000,      8.424,          2,      0.130,          2,   0.243,          2
 33RO200501,       A16S,       8,          1,         30,         30,2,20050119,       1201,   -56.5003,   -32.9487,       3555,   125.3,   0.2543,  34.1989,2,  34.2005,2,    285.0,2,   287.1,2,   59.45,2,   30.59,2,    0.21,2,    2.13,2,   4.758,2,   2.519,2,   0.401,2,  2206.3,2,  2307.0,2,  -999.0,9,   20.00,   7.6263,2,    25.00,-999.000,9, -999.00,-999.000,9,-999.000,9, -999.00,9,  -999.0,9,  -999.0,-999.000,9,-999.000,   4.854,3, -999.00,9,  125.30,-999.0000,9,-999.0000,9,-999.0000,9,-999.0000,9,-999.0000,9,-999.0000,9,   0.2496,     -999.0,-999.000,     -999.0,          9,     -999.0,          9,-999.000,          9
 33RO200501,       A16S,       8,          1,         29,         29,2,20050119,       1201,   -56.5003,   -32.9487,       3555,   150.2,   1.3538,  34.3416,2,  34.3474,2,    254.2,2,   215.9,2,   64.97,2,   33.98,2,    0.07,2,    2.31,2,-999.000,9,-999.000,9,-999.000,9,  -999.0,9,  -999.0,9,  -999.0,9,   20.00,-999.0000,9,    25.00,-999.000,9, -999.00,-999.000,9,-999.000,9, -999.00,9,  -999.0,9,  -999.0,-999.000,9,-999.000,-999.000,9, -999.00,9,  150.20,-999.0000,9,-999.0000,9,-999.0000,9,-999.0000,9,-999.0000,9,-999.0000,9,   1.3467,     -999.0,-999.000,     -999.0,          9,     -999.0,          9,-999.000,          9
 33RO200501,       A16S,       8,          1,         28,         28,2,20050119,       1201,   -56.5003,   -32.9487,       3555,   175.1,   1.9241,  34.4306,2,  34.4397,2,    194.0,2,   191.1,2,   69.27,2,   35.17,2,    0.02,2,    2.37,2,   1.631,2,   0.833,2,   0.099,2,  2242.5,2,  2319.0,2,  -999.0,9,   20.00,   7.5538,2,    25.00,-999.000,9, -999.00,-999.000,9,-999.000,9, -999.00,9,  -999.0,9,  -999.0,-999.000,9,-999.000,   1.754,3, -999.00,9,  175.10,-999.0000,9,-999.0000,9,-999.0000,9,-999.0000,9,-999.0000,9,-999.0000,9,   1.9149,     -999.0,-999.000,      0.000,          2,      0.000,          2,   0.118,          2
 33RO200501,       A16S,       8,          1,         27,         27,2,20050119,       1201,   -56.5003,   -32.9487,       3555,   200.3,   2.0584,  34.4752,2,  34.4760,2,    185.6,2,   183.0,2,   70.74,2,   35.18,2,    0.02,2,    2.39,2,-999.000,9,-999.000,9,-999.000,9,  -999.0,9,  -999.0,9,  -999.0,9,   20.00,-999.0000,9,    25.00,-999.000,9, -999.00,-999.000,9,-999.000,9, -999.00,9,  -999.0,9,  -999.0,-999.000,9,-999.000,-999.000,9, -999.00,9,  200.30,-999.0000,9,-999.0000,9,-999.0000,9,-999.0000,9,-999.0000,9,-999.0000,9,   2.0476,     -999.0,-999.000,     -999.0,          9,     -999.0,          9,-999.000,          9
 33RO200501,       A16S,       8,          1,         26,         26,2,20050119,       1201,   -56.5003,   -32.9487,       3555,   226.3,   2.0987,  34.5077,2,  34.5082,2,    179.6,2,   178.3,2,   73.07,2,   35.02,2,    0.02,2,    2.39,2,-999.000,9,-999.000,9,-999.000,9,  -999.0,9,  -999.0,9,  -999.0,9,   20.00,-999.0000,9,    25.00,-999.000,9, -999.00,-999.000,9,-999.000,9, -999.00,9,  -999.0,9,  -999.0,-999.000,9,-999.000,-999.000,9, -999.00,9,  226.30,-999.0000,9,-999.0000,9,-999.0000,9,-999.0000,9,-999.0000,9,-999.0000,9,   2.0864,     -999.0,-999.000,     -999.0,          9,     -999.0,          9,-999.000,          9
 33RO200501,       A16S,       8,          1,         25,         25,2,20050119,       1201,   -56.5003,   -32.9487,       3555,   250.0,   2.1301,  34.5392,2,  34.5380,2,    176.7,2,   175.0,2,   75.64,2,   34.77,2,    0.02,2,    2.39,2,-999.000,9,-999.000,9,-999.000,9,  -999.0,9,  -999.0,9,  -999.0,9,   20.00,-999.0000,9,    25.00,-999.000,9, -999.00,-999.000,9,-999.000,9, -999.00,9,  -999.0,9,  -999.0,-999.000,9,-999.000,-999.000,9, -999.00,9,  250.00,-999.0000,9,-999.0000,9,-999.0000,9,-999.0000,9,-999.0000,9,-999.0000,9,   2.1164,     -999.0,-999.000,      0.000,          2,      0.000,          2,   0.094,          2
 33RO200501,       A16S,       8,          1,         24,         24,2,20050119,       1201,   -56.5003,   -32.9487,       3555,   300.0,   2.1204,  34.5685,2,  34.5685,2,    174.9,2,   173.0,2,   78.85,2,   34.58,2,    0.01,2,    2.37,2,-999.000,9,-999.000,9,-999.000,9,  -999.0,9,  -999.0,9,  -999.0,9,   20.00,-999.0000,9,    25.00,-999.000,9, -999.00,-999.000,9,-999.000,9, -999.00,9,  -999.0,9,  -999.0,-999.000,9,-999.000,-999.000,9, -999.00,9,  300.00,-999.0000,9,-999.0000,9,-999.0000,9,-999.0000,9,-999.0000,9,-999.0000,9,   2.1038,     -999.0,-999.000,     -999.0,          9,     -999.0,          9,-999.000,          9
 33RO200501,       A16S,       8,          1,         23,         23,2,20050119,       1201,   -56.5003,   -32.9487,       3555,   350.1,   2.0188,  34.5854,2,  34.5856,2,    174.7,2,   176.0,2,   81.35,2,   34.40,2,    0.01,2,    2.35,2,   0.688,2,   0.356,2,   0.044,2,  2254.6,2,  2336.0,2,  -999.0,9,   20.00,   7.5580,2,    25.00,-999.000,9, -999.00,-999.000,9,-999.000,9, -999.00,9,  -999.0,9,  -999.0,-999.000,9,-999.000,   0.880,3, -999.00,9,  350.10,-999.0000,9,-999.0000,9,-999.0000,9,-999.0000,9,-999.0000,9,-999.0000,9,   1.9996,     -999.0,-999.000,     -999.0,          9,     -999.0,          9,-999.000,          9
 33RO200501,       A16S,       8,          1,         22,         22,2,20050119,       1201,   -56.5003,   -32.9487,       3555,   400.2,   2.0126,  34.6079,2,  34.6082,2,    175.0,2,   174.9,2,   83.08,2,   34.18,2,    0.01,2,    2.34,2,-999.000,9,-999.000,9,-999.000,9,  -999.0,9,  -999.0,9,  -999.0,9,   20.00,-999.0000,9,    25.00,-999.000,9, -999.00,-999.000,9,-999.000,9, -999.00,9,  -999.0,9,  -999.0,-999.000,9,-999.000,-999.000,9, -999.00,9,  400.20,-999.0000,9,-999.0000,9,-999.0000,9,-999.0000,9,-999.0000,9,-999.0000,9,   1.9904,     -999.0,-999.000,      0.000,          2,      0.051,          2,   0.087,          2
 33RO200501,       A16S,       8,          1,         21,         21,2,20050119,       1201,   -56.5003,   -32.9487,       3555,   452.2,   1.9828,  34.6291,2,  34.6296,2,    176.8,2,   176.0,2,   84.03,2,   33.78,2,    0.01,2,    2.32,2,-999.000,9,-999.000,9,-999.000,9,  -999.0,9,  -999.0,9,  -999.0,9,   20.00,-999.0000,9,    25.00,-999.000,9, -999.00,-999.000,9,-999.000,9, -999.00,9,  -999.0,9,  -999.0,-999.000,9,-999.000,-999.000,9, -999.00,9,  452.20,-999.0000,9,-999.0000,9,-999.0000,9,-999.0000,9,-999.0000,9,-999.0000,9,   1.9576,     -999.0,-999.000,     -999.0,          9,     -999.0,          9,-999.000,          9
 33RO200501,       A16S,       8,          1,         20,         20,2,20050119,       1201,   -56.5003,   -32.9487,       3555,   500.1,   1.8826,  34.6401,2,  34.6406,2,    181.8,2,   179.2,2,   85.38,2,   33.40,2,    0.01,2,    2.30,2,-999.000,9,-999.000,9,-999.000,9,  -999.0,9,  -999.0,9,  -999.0,9,   20.00,-999.0000,9,    25.00,-999.000,9, -999.00,-999.000,9,-999.000,9, -999.00,9,  -999.0,9,  -999.0,-999.000,9,-999.000,-999.000,9, -999.00,9,  500.10,-999.0000,9,-999.0000,9,-999.0000,9,-999.0000,9,-999.0000,9,-999.0000,9,   1.8550,     -999.0,-999.000,     -999.0,          9,     -999.0,          9,-999.000,          9
 33RO200501,       A16S,       8,          1,         19,         19,2,20050119,       1201,   -56.5003,   -32.9487,       3555,   550.7,   1.7897,  34.6530,2,  34.6524,2,    181.0,2,   182.1,2,   87.28,2,   33.06,2,    0.01,2,    2.29,2,-999.000,9,-999.000,9,-999.000,9,  -999.0,9,  -999.0,9,  -999.0,9,   20.00,-999.0000,9,    25.00,-999.000,9, -999.00,-999.000,9,-999.000,9, -999.00,9,  -999.0,9,  -999.0,-999.000,9,-999.000,-999.000,9, -999.00,9,  550.70,-999.0000,9,-999.0000,9,-999.0000,9,-999.0000,9,-999.0000,9,-999.0000,9,   1.7595,     -999.0,-999.000,      0.000,          2,      0.000,          2,   0.074,          2
 33RO200501,       A16S,       8,          1,         18,         18,2,20050119,       1201,   -56.5003,   -32.9487,       3555,   599.2,   1.7766,  34.6683,2,  34.6691,2,    181.1,2,   182.5,2,   89.75,2,   32.95,2,    0.01,2,    2.27,2,   0.453,2,   0.238,2,   0.022,2,  2257.3,2,  2342.6,2,  -999.0,9,   20.00,   7.5780,2,    25.00,-999.000,9, -999.00,-999.000,9,-999.000,9, -999.00,9,  -999.0,9,  -999.0,-999.000,9,-999.000,   0.535,3, -999.00,9,  599.20,-999.0000,9,-999.0000,9,-999.0000,9,-999.0000,9,-999.0000,9,-999.0000,9,   1.7435,     -999.0,-999.000,     -999.0,          9,     -999.0,          9,-999.000,          9
 33RO200501,       A16S,       8,          1,         17,         17,2,20050119,       1201,   -56.5003,   -32.9487,       3555,   700.3,   1.6511,  34.6806,2,  34.6809,2,    185.0,2,   186.4,2,   93.23,2,   32.78,2,    0.01,2,    2.25,2,-999.000,9,-999.000,9,-999.000,9,  -999.0,9,  -999.0,9,  -999.0,9,   20.00,-999.0000,9,    25.00,-999.000,9, -999.00,-999.000,9,-999.000,9, -999.00,9,  -999.0,9,  -999.0,-999.000,9,-999.000,-999.000,9, -999.00,9,  700.30,-999.0000,9,-999.0000,9,-999.0000,9,-999.0000,9,-999.0000,9,-999.0000,9,   1.6125,     -999.0,-999.000,     -999.0,          9,     -999.0,          9,-999.000,          9
 33RO200501,       A16S,       8,          1,         16,         16,2,20050119,       1201,   -56.5003,   -32.9487,       3555,   798.7,   1.3427,  34.6673,2,  34.6672,2,    193.4,2,   197.1,2,   94.81,2,   32.59,2,    0.01,2,    2.24,2,-999.000,9,-999.000,9,-999.000,9,  -999.0,9,  -999.0,9,  -999.0,9,   20.00,-999.0000,9,    25.00,-999.000,9, -999.00,-999.000,9,-999.000,9, -999.00,9,  -999.0,9,  -999.0,-999.000,9,-999.000,-999.000,9, -999.00,9,  798.70,-999.0000,9,-999.0000,9,-999.0000,9,-999.0000,9,-999.0000,9,-999.0000,9,   1.3000,     -999.0,-999.000,      0.000,          2,      0.000,          2,   0.093,          2
 33RO200501,       A16S,       8,          1,         15,         15,2,20050119,       1201,   -56.5003,   -32.9487,       3555,   899.8,   1.4431,  34.7027,2,  34.7029,2,    192.5,2,   191.8,2,   98.64,2,   32.30,2,    0.01,2,    2.23,2,-999.000,9,-999.000,9,-999.000,9,  -999.0,9,  -999.0,9,  -999.0,9,   20.00,-999.0000,9,    25.00,-999.000,9, -999.00,-999.000,9,-999.000,9, -999.00,9,  -999.0,9,  -999.0,-999.000,9,-999.000,-999.000,9, -999.00,9,  899.80,-999.0000,9,-999.0000,9,-999.0000,9,-999.0000,9,-999.0000,9,-999.0000,9,   1.3936,     -999.0,-999.000,     -999.0,          9,     -999.0,          9,-999.000,          9
 33RO200501,       A16S,       8,          1,         14,         14,2,20050119,       1201,   -56.5003,   -32.9487,       3555,  1001.0,   1.2306,  34.6888,2,  34.6888,2,    195.0,2,   198.9,2,   98.97,2,   32.07,2,    0.01,2,    2.22,2,-999.000,9,-999.000,9,-999.000,9,  -999.0,9,  -999.0,9,  -999.0,9,   20.00,-999.0000,9,    25.00,-999.000,9, -999.00,-999.000,9,-999.000,9, -999.00,9,  -999.0,9,  -999.0,-999.000,9,-999.000,-999.000,9, -999.00,9, 1001.00,-999.0000,9,-999.0000,9,-999.0000,9,-999.0000,9,-999.0000,9,-999.0000,9,   1.1763,     -999.0,-999.000,     -999.0,          9,     -999.0,          9,-999.000,          9
 33RO200501,       A16S,       8,          1,         13,         13,2,20050119,       1201,   -56.5003,   -32.9487,       3555,  1098.8,   1.0684,  34.6869,2,  34.6866,2,    200.6,2,   202.9,2,  101.97,2,   31.87,2,    0.01,2,    2.23,2,-999.000,9,-999.000,9,-999.000,9,  -999.0,9,  -999.0,9,  -999.0,9,   20.00,-999.0000,9,    25.00,-999.000,9, -999.00,-999.000,9,-999.000,9, -999.00,9,  -999.0,9,  -999.0,-999.000,9,-999.000,-999.000,9, -999.00,9, 1098.80,-999.0000,9,-999.0000,9,-999.0000,9,-999.0000,9,-999.0000,9,-999.0000,9,   1.0094,     -999.0,-999.000,      0.000,          2,      0.285,          2,   0.066,          2
 33RO200501,       A16S,       8,          1,         12,         12,2,20050119,       1201,   -56.5003,   -32.9487,       3555,  1200.2,   1.1059,  34.7018,2,  34.7020,2,    198.1,2,   200.3,2,  106.34,2,   32.08,2,    0.01,2,    2.23,2,-999.000,9,-999.000,9,-999.000,9,  -999.0,9,  -999.0,9,  -999.0,9,   20.00,-999.0000,9,    25.00,-999.000,9, -999.00,-999.000,9,-999.000,9, -999.00,9,  -999.0,9,  -999.0,-999.000,9,-999.000,-999.000,9, -999.00,9, 1200.20,-999.0000,9,-999.0000,9,-999.0000,9,-999.0000,9,-999.0000,9,-999.0000,9,   1.0400,     -999.0,-999.000,     -999.0,          9,     -999.0,          9,-999.000,          9
 33RO200501,       A16S,       8,          1,         11,         11,2,20050119,       1201,   -56.5003,   -32.9487,       3555,  1401.2,   0.8493,  34.6889,2,  34.6892,2,    203.9,2,   205.7,2,  110.01,2,   32.25,2,    0.01,2,    2.24,2,-999.000,9,-999.000,9,-999.000,9,  -999.0,9,  -999.0,9,  -999.0,9,   20.00,-999.0000,9,    25.00,-999.000,9, -999.00,-999.000,9,-999.000,9, -999.00,9,  -999.0,9,  -999.0,-999.000,9,-999.000,-999.000,9, -999.00,9, 1401.20,-999.0000,9,-999.0000,9,-999.0000,9,-999.0000,9,-999.0000,9,-999.0000,9,   0.7729,     -999.0,-999.000,     -999.0,          9,     -999.0,          9,-999.000,          9
 33RO200501,       A16S,       8,          1,         10,         10,2,20050119,       1201,   -56.5003,   -32.9487,       3555,  1600.0,   0.7125,  34.6879,2,  34.6900,2,    206.6,2,   209.4,2,  113.60,2,   32.34,2,    0.01,2,    2.24,2,-999.000,9,-999.000,9,-999.000,9,  -999.0,9,  -999.0,9,  -999.0,9,   20.00,-999.0000,9,    25.00,-999.000,9, -999.00,-999.000,9,-999.000,9, -999.00,9,  -999.0,9,  -999.0,-999.000,9,-999.000,-999.000,9, -999.00,9, 1600.00,-999.0000,9,-999.0000,9,-999.0000,9,-999.0000,9,-999.0000,9,-999.0000,9,   0.6243,     -999.0,-999.000,      5.190,          2,      0.495,          2,   0.035,          2
 33RO200501,       A16S,       8,          1,          9,          9,2,20050119,       1201,   -56.5003,   -32.9487,       3555,  1799.8,   0.6160,  34.6866,2,  34.6868,2,    208.6,2,   211.4,2,  114.49,2,   32.39,2,    0.01,2,    2.25,2,   0.549,2,   0.284,2,   0.019,2,  -999.0,9,  -999.0,9,  -999.0,9,   20.00,-999.0000,9,    25.00,-999.000,9, -999.00,-999.000,9,-999.000,9, -999.00,9,  -999.0,9,  -999.0,-999.000,9,-999.000,   0.596,3, -999.00,9, 1799.80,-999.0000,9,-999.0000,9,-999.0000,9,-999.0000,9,-999.0000,9,-999.0000,9,   0.5152,     -999.0,-999.000,     -999.0,          9,     -999.0,          9,-999.000,          9
 33RO200501,       A16S,       8,          1,          8,          8,2,20050119,       1201,   -56.5003,   -32.9487,       3555,  2001.3,   0.5385,  34.6855,2,  34.6857,2,    210.6,2,   212.6,2,  115.87,2,   32.33,2,    0.00,2,    2.26,2,-999.000,9,-999.000,9,-999.000,9,  -999.0,9,  -999.0,9,  -999.0,9,   20.00,-999.0000,9,    25.00,-999.000,9, -999.00,-999.000,9,-999.000,9, -999.00,9,  -999.0,9,  -999.0,-999.000,9,-999.000,-999.000,9, -999.00,9, 2001.30,-999.0000,9,-999.0000,9,-999.0000,9,-999.0000,9,-999.0000,9,-999.0000,9,   0.4242,     -999.0,-999.000,     -999.0,          9,     -999.0,          9,-999.000,          9