BOTTLE,20220818CCHSIOAMB
EXPOCODE,SECT_ID,STNNBR,CASTNO,SAMPNO,BTLNBR,BTLNBR_FLAG_W,DATE,TIME,LATITUDE,LONGITUDE,DEPTH,CTDPRS,CTDTMP,CTDSAL,CTDSAL_FLAG_W,SALNTY,SALNTY_FLAG_W,CTDOXY,CTDOXY_FLAG_W,OXYGEN,OXYGEN_FLAG_W,SILCAT,SILCAT_FLAG_W,NITRAT,NITRAT_FLAG_W,NITRIT,NITRIT_FLAG_W,PHSPHT,PHSPHT_FLAG_W,CFC-11,CFC-11_FLAG_W,CFC-12,CFC-12_FLAG_W,CFC113,CFC113_FLAG_W,TCARBN,TCARBN_FLAG_W,ALKALI,ALKALI_FLAG_W,PCO2,PCO2_FLAG_W,PCO2TMP,PH_SWS,PH_SWS_FLAG_W,PH_TMP,TRITUM,TRITUM_FLAG_W,TRITER,HELIUM,HELIUM_FLAG_W,DELHE3,DELHE3_FLAG_W,DELC13,DELC13_FLAG_W,DELC14,DELC14_FLAG_W,C14ERR,NEON,NEON_FLAG_W,NEONER,CCL4,CCL4_FLAG_W,DOC,DOC_FLAG_W,CTDRAW,CDOM325,CDOM325_FLAG_W,CDOM340,CDOM340_FLAG_W,CDOM380,CDOM380_FLAG_W,CDOM412,CDOM412_FLAG_W,CDOMSL,CDOMSL_FLAG_W,CDOMSN,CDOMSN_FLAG_W,THETA,HELIER,DELHER,CH3CL,CH3CL_FLAG_W,CH3BR,CH3BR_FLAG_W,CH3I,CH3I_FLAG_W
,,,,,,,,,,,METERS,DBAR,ITS-90,PSS-78,,PSS-78,,UMOL/KG,,UMOL/KG,,UMOL/KG,,UMOL/KG,,UMOL/KG,,UMOL/KG,,PMOL/KG,,PMOL/KG,,PMOL/KG,,UMOL/KG,,UMOL/KG,,UATM,,DEG C,,,DEG C,TU,,TU,NMOL/KG,,PERCNT,,/MILLE,,/MILLE,,/MILLE,NMOL/KG,,NMOL/KG,PMOL/KG,,UMOL/KG,,DBAR,1/M,,1/M,,1/M,,1/M,,1/NM,,1/NM,,DEG C,NMOL/KG,PERCNT,PMOL/KG,,PMOL/KG,,PMOL/KG,
 33RO200501,       A16S,      77,          1,         36,         36,2,20050208,       1028,   -23.9998,   -24.9982,       5547,     2.2,  25.0954,  36.2449,2,  36.2463,2,    211.2,2,   208.3,2,    4.36,2,    0.00,2,    0.00,2,    0.07,2,   1.778,2,   1.133,2,   0.138,2,  2057.4,6,  2345.3,3,   325.7,2,   20.00,   8.0478,2,    25.00,-999.000,9, -999.00,-999.000,9,-999.000,9, -999.00,9,  -999.0,9,  -999.0,-999.000,9,-999.000,   1.520,4,   67.16,2,    2.20,   0.0410,2,   0.0270,2,   0.0120,2,   0.0080,2,   0.0295,2,   0.0296,2,  25.0949,     -999.0,-999.000,     -999.0,          9,     -999.0,          9,-999.000,          9
 33RO200501,       A16S,      77,          1,         35,         35,2,20050208,       1028,   -23.9998,   -24.9982,       5547,    23.9,  25.2731,  36.5091,2,  36.5056,2,    212.0,2,   209.5,2,    4.54,2,    0.00,2,    0.00,2,    0.07,2,-999.000,9,-999.000,9,-999.000,9,  2072.0,3,  2390.4,6,  -999.0,9,   20.00,   8.0391,6,    25.00,-999.000,9, -999.00,-999.000,9,-999.000,9, -999.00,9,  -999.0,9,  -999.0,-999.000,9,-999.000,-999.000,9,   67.47,2,   23.90,   0.0740,2,   0.0540,2,   0.0220,2,   0.0120,2,   0.0206,2,   0.0206,2,  25.2679,     -999.0,-999.000,     -999.0,          9,     -999.0,          9,-999.000,          9
 33RO200501,       A16S,      77,          1,         34,         34,2,20050208,       1028,   -23.9998,   -24.9982,       5547,    49.1,  21.1404,  36.1697,2,  36.1630,2,    239.7,2,   239.0,2,    4.81,2,    0.01,2,    0.00,2,    0.10,2,   2.217,2,   1.418,2,   0.176,2,  2062.6,2,  2367.2,2,   340.7,2,   20.00,   8.0268,2,    25.00,-999.000,9, -999.00,-999.000,9,-999.000,9, -999.00,9,  -999.0,9,  -999.0,-999.000,9,-999.000,   1.371,4,   65.33,2,   49.10,   0.1070,2,   0.0740,2,   0.0350,2,   0.0220,2,   0.0199,2,   0.0211,2,  21.1310,     -999.0,-999.000,     -999.0,          9,     -999.0,          9,-999.000,          9
 33RO200501,       A16S,      77,          1,         33,         33,2,20050208,       1028,   -23.9998,   -24.9982,       5547,    73.8,  19.2752,  35.9827,2,  35.9580,2,    239.6,2,   238.0,2,    5.18,2,    0.04,2,    0.00,2,    0.14,2,   2.370,2,   1.469,2,   0.206,2,  2066.6,2,  2351.6,2,  -999.0,9,   20.00,   8.0061,2,    25.00,-999.000,9, -999.00,-999.000,9,-999.000,9, -999.00,9,  -999.0,9,  -999.0,-999.000,9,-999.000,   1.075,4, -999.00,9,   73.80,-999.0000,9,-999.0000,9,-999.0000,9,-999.0000,9,-999.0000,9,-999.0000,9,  19.2619,     -999.0,-999.000,     -999.0,          9,     -999.0,          9,-999.000,          9
 33RO200501,       A16S,      77,          1,         32,         32,2,20050208,       1028,   -23.9998,   -24.9982,       5547,    99.5,  17.2653,  35.7741,2,  35.7722,2,    223.4,2,   220.0,2,    6.07,2,    1.02,2,    0.09,2,    0.27,2,-999.000,9,-999.000,9,-999.000,9,  2082.4,2,  2341.0,2,   413.2,2,   20.00,   7.9600,2,    25.00,-999.000,9, -999.00,-999.000,9,-999.000,9, -999.00,9,  -999.0,9,  -999.0,-999.000,9,-999.000,-999.000,9,   61.10,2,   99.50,   0.1250,2,   0.0910,2,   0.0460,2,   0.0330,2,   0.0153,2,   0.0170,2,  17.2487,     -999.0,-999.000,     -999.0,          9,     -999.0,          9,-999.000,          9
 33RO200501,       A16S,      77,          1,         31,         31,2,20050208,       1028,   -23.9998,   -24.9982,       5547,   124.4,  16.8987,  35.7374,2,  35.7351,2,    211.9,2,   213.6,2,    6.26,2,    3.66,2,    0.02,2,    0.36,2,   2.517,2,   1.519,2,   0.066,2,  2085.7,2,  2335.8,2,   428.1,2,   20.00,   7.9474,2,    25.00,-999.000,9, -999.00,-999.000,9,-999.000,9, -999.00,9,  -999.0,9,  -999.0,-999.000,9,-999.000,   0.651,4, -999.00,9,  124.40,-999.0000,9,-999.0000,9,-999.0000,9,-999.0000,9,-999.0000,9,-999.0000,9,  16.8782,     -999.0,-999.000,     -999.0,          9,     -999.0,          9,-999.000,          9
 33RO200501,       A16S,      77,          1,         30,         30,9,20050208,       1028,   -23.9998,   -24.9982,       5547,   149.1,  16.5494,  35.6944,2,-999.0000,9,   -999.0,9,  -999.0,9, -999.00,9, -999.00,9, -999.00,9, -999.00,9,-999.000,9,-999.000,9,-999.000,9,  -999.0,9,  -999.0,9,  -999.0,9,   20.00,-999.0000,9,    25.00,-999.000,9, -999.00,-999.000,9,-999.000,9, -999.00,9,  -999.0,9,  -999.0,-999.000,9,-999.000,-999.000,9,   54.39,2,  149.10,   0.1330,2,   0.0940,2,   0.0480,2,   0.0310,2,   0.0167,2,   0.0183,2,  16.5251,     -999.0,-999.000,     -999.0,          9,     -999.0,          9,-999.000,          9
 33RO200501,       A16S,      77,          1,         29,         29,2,20050208,       1028,   -23.9998,   -24.9982,       5547,   174.4,  15.8570,  35.6269,2,  35.6254,2,    211.3,2,   212.0,2,    6.90,2,    5.41,2,    0.01,2,    0.45,2,   2.583,2,   1.546,2,   0.046,2,  2091.9,2,  2329.4,2,   451.3,2,   20.00,   7.9250,2,    25.00,-999.000,9, -999.00,-999.000,9,-999.000,9, -999.00,9,  -999.0,9,  -999.0,-999.000,9,-999.000,   0.447,4, -999.00,9,  174.40,-999.0000,9,-999.0000,9,-999.0000,9,-999.0000,9,-999.0000,9,-999.0000,9,  15.8295,     -999.0,-999.000,     -999.0,          9,     -999.0,          9,-999.000,          9
 33RO200501,       A16S,      77,          1,         28,         28,2,20050208,       1028,   -23.9998,   -24.9982,       5547,   199.8,  15.5029,  35.5999,2,  35.5979,2,    217.2,2,   218.4,2,    6.98,2,    5.47,2,    0.01,2,    0.45,2,   2.691,2,   1.591,2,   0.049,2,  2090.4,2,  2329.3,2,   450.5,2,   20.00,   7.9248,2,    25.00,-999.000,9, -999.00,-999.000,9,-999.000,9, -999.00,9,  -999.0,9,  -999.0,-999.000,9,-999.000,   0.484,4,   51.41,2,  199.80,   0.1240,2,   0.0930,2,   0.0430,2,   0.0270,3,   0.0190,3,   0.0190,3,  15.4718,     -999.0,-999.000,     -999.0,          9,     -999.0,          9,-999.000,          9
 33RO200501,       A16S,      77,          1,         27,         27,2,20050208,       1028,   -23.9998,   -24.9982,       5547,   248.8,  15.3877,  35.5820,2,  35.5810,2,    219.9,2,   221.2,2,    7.05,2,    5.43,2,    0.01,2,    0.45,2,-999.000,9,-999.000,9,-999.000,9,  2089.1,2,  2333.2,2,   449.1,2,   20.00,   7.9255,2,    25.00,-999.000,9, -999.00,-999.000,9,-999.000,9, -999.00,9,  -999.0,9,  -999.0,-999.000,9,-999.000,-999.000,9,   48.48,2,  248.80,-999.0000,9,-999.0000,9,-999.0000,9,-999.0000,9,-999.0000,9,-999.0000,9,  15.3491,     -999.0,-999.000,     -999.0,          9,     -999.0,          9,-999.000,          9
 33RO200501,       A16S,      77,          1,         26,         26,2,20050208,       1028,   -23.9998,   -24.9982,       5547,   299.3,  14.7420,  35.4767,2,  35.4677,2,    217.1,2,   216.7,2,    7.53,2,    6.85,2,    0.01,2,    0.54,2,   2.751,2,   1.588,2,   0.046,2,  2097.6,2,  2325.8,2,   476.7,2,   20.00,   7.9038,2,    25.00,-999.000,9, -999.00,-999.000,9,-999.000,9, -999.00,9,  -999.0,9,  -999.0,-999.000,9,-999.000,   0.578,4,   47.56,2,  299.30,   0.1130,3,   0.0840,3,   0.0450,3,   0.0310,3,   0.0153,3,   0.0163,3,  14.6969,     -999.0,-999.000,     -999.0,          9,     -999.0,          9,-999.000,          9
 33RO200501,       A16S,      77,          1,         25,         25,2,20050208,       1028,   -23.9998,   -24.9982,       5547,   349.5,  13.0311,  35.2287,2,  35.2251,2,    206.1,2,   205.5,2,    9.38,2,   10.90,2,    0.00,2,    0.79,2,   2.773,2,   1.553,2,   0.045,2,  2115.7,2,  2314.5,2,   556.2,2,   20.00,   7.8503,2,    25.00,-999.000,9, -999.00,-999.000,9,-999.000,9, -999.00,9,  -999.0,9,  -999.0,-999.000,9,-999.000,   0.672,4,   45.85,2,  349.50,-999.0000,9,-999.0000,9,-999.0000,9,-999.0000,9,-999.0000,9,-999.0000,9,  12.9826,     -999.0,-999.000,     -999.0,          9,     -999.0,          9,-999.000,          9
 33RO200501,       A16S,      77,          1,         24,         24,2,20050208,       1028,   -23.9998,   -24.9982,       5547,   398.9,  12.2102,  35.1152,2,  35.1132,2,    202.1,2,   201.1,2,   10.83,2,   13.10,2,    0.00,2,    0.93,2,   2.714,2,   1.475,2,   0.047,2,  2124.6,2,  2309.7,2,   598.3,2,   20.00,   7.8197,2,    25.00,-999.000,9, -999.00,-999.000,9,-999.000,9, -999.00,9,  -999.0,9,  -999.0,-999.000,9,-999.000,   0.706,4,   43.95,2,  398.90,   0.1270,3,   0.0940,3,   0.0470,3,   0.0320,3,   0.0162,3,   0.0174,3,  12.1571,     -999.0,-999.000,     -999.0,          9,     -999.0,          9,-999.000,          9
 33RO200501,       A16S,      77,          1,         23,         23,2,20050208,       1028,   -23.9998,   -24.9982,       5547,   498.7,  11.1657,  34.9759,2,  34.9745,2,    194.4,2,   195.3,2,   12.89,2,   15.80,2,    0.00,2,    1.09,2,   2.549,6,   1.334,6,   0.055,6,  2136.6,2,  2303.6,2,   650.6,2,   20.00,   7.7689,2,    25.00,-999.000,9, -999.00,-999.000,9,-999.000,9, -999.00,9,  -999.0,9,  -999.0,-999.000,9,-999.000,   0.762,4, -999.00,9,  498.70,-999.0000,9,-999.0000,9,-999.0000,9,-999.0000,9,-999.0000,9,-999.0000,9,  11.1028,     -999.0,-999.000,     -999.0,          9,     -999.0,          9,-999.000,          9
 33RO200501,       A16S,      77,          1,         22,         22,2,20050208,       1028,   -23.9998,   -24.9982,       5547,   599.1,  10.6156,  34.9056,2,  34.9064,2,    198.4,2,   198.7,2,   13.53,2,   16.75,2,    0.00,2,    1.14,2,   2.529,2,   1.328,2,   0.064,2,  2138.3,2,  2300.9,2,   666.4,2,   20.00,   7.7702,2,    25.00,-999.000,9, -999.00,-999.000,9,-999.000,9, -999.00,9,  -999.0,9,  -999.0,-999.000,9,-999.000,   0.843,4,   41.90,2,  599.10,   0.0900,3,   0.0620,3,   0.0310,3,   0.0210,3,   0.0197,3,   0.0211,3,  10.5421,     -999.0,-999.000,     -999.0,          9,     -999.0,          9,-999.000,          9
 33RO200501,       A16S,      77,          1,         21,         21,2,20050208,       1028,   -23.9998,   -24.9982,       5547,   698.8,   9.8644,  34.8128,2,  34.8108,2,    198.9,2,   198.5,2,   15.16,2,   18.49,2,    0.00,2,    1.25,2,   2.408,2,   1.257,2,   0.057,2,  2145.6,2,  2294.5,2,   702.3,2,   20.00,   7.7581,2,    25.00,-999.000,9, -999.00,-999.000,9,-999.000,9, -999.00,9,  -999.0,9,  -999.0,-999.000,9,-999.000,   0.933,4, -999.00,9,  698.80,-999.0000,9,-999.0000,9,-999.0000,9,-999.0000,9,-999.0000,9,-999.0000,9,   9.7822,     -999.0,-999.000,     -999.0,          9,     -999.0,          9,-999.000,          9
 33RO200501,       A16S,      77,          1,         20,         20,2,20050208,       1028,   -23.9998,   -24.9982,       5547,   799.7,   8.4016,  34.6518,2,  34.6543,2,    194.9,2,   195.2,2,   19.25,2,   22.24,2,    0.00,2,    1.49,2,   2.274,2,   1.178,2,   0.082,2,  2160.3,2,  2290.5,2,   789.4,2,   20.00,   7.7132,2,    25.00,-999.000,9, -999.00,-999.000,9,-999.000,9, -999.00,9,  -999.0,9,  -999.0,-999.000,9,-999.000,   1.205,4,   40.41,2,  799.70,   0.0880,3,   0.0570,3,   0.0230,3,   0.0140,3,   0.0248,3,   0.0263,3,   8.3156,     -999.0,-999.000,     -999.0,          9,     -999.0,          9,-999.000,          9
 33RO200501,       A16S,      77,          1,         19,         19,2,20050208,       1028,   -23.9998,   -24.9982,       5547,   900.7,   5.9757,  34.4274,2,  34.4236,2,    202.3,2,   205.9,2,   24.78,2,   26.92,2,    0.00,2,    1.80,2,   2.363,2,   1.200,2,   0.128,2,  2176.7,6,  2287.6,3,   904.1,2,   20.00,   7.6574,2,    25.00,-999.000,9, -999.00,-999.000,9,-999.000,9, -999.00,9,  -999.0,9,  -999.0,-999.000,9,-999.000,   1.890,4, -999.00,9,  900.70,-999.0000,9,-999.0000,9,-999.0000,9,-999.0000,9,-999.0000,9,-999.0000,9,   5.8947,     -999.0,-999.000,     -999.0,          9,     -999.0,          9,-999.000,          9
 33RO200501,       A16S,      77,          1,         18,         18,2,20050208,       1028,   -23.9998,   -24.9982,       5547,  1099.3,   3.9116,  34.3890,2,  34.3881,2,    191.7,2,   193.8,2,   41.98,2,   31.63,2,    0.00,2,    2.12,2,   1.179,2,   0.583,2,   0.055,2,  2209.5,2,  2299.3,6,  1055.4,2,   20.00,   7.5996,6,    25.00,-999.000,9, -999.00,-999.000,9,-999.000,9, -999.00,9,  -999.0,9,  -999.0,-999.000,9,-999.000,   1.323,4,   40.16,2, 1099.30,   0.1590,3,   0.1150,3,   0.0530,3,   0.0350,3,   0.0179,3,   0.0190,3,   3.8285,     -999.0,-999.000,     -999.0,          9,     -999.0,          9,-999.000,          9
 33RO200501,       A16S,      77,          1,         17,         17,2,20050208,       1028,   -23.9998,   -24.9982,       5547,  1299.4,   3.2386,  34.5590,2,  34.5559,2,    183.3,2,   183.9,2,   54.19,2,   31.48,2,    0.00,2,    2.13,2,   0.287,2,   0.143,2,   0.013,2,  2226.9,2,  2313.1,2,  1074.5,2,   20.00,   7.5937,2,    25.00,-999.000,9, -999.00,-999.000,9,-999.000,9, -999.00,9,  -999.0,9,  -999.0,-999.000,9,-999.000,   0.433,4,   39.53,2, 1299.40,-999.0000,9,-999.0000,9,-999.0000,9,-999.0000,9,-999.0000,9,-999.0000,9,   3.1449,     -999.0,-999.000,     -999.0,          9,     -999.0,          9,-999.000,          9
 33RO200501,       A16S,      77,          1,         16,         16,2,20050208,       1028,   -23.9998,   -24.9982,       5547,  1499.6,   3.2860,  34.7250,2,  34.7237,2,    197.8,2,   199.5,2,   47.13,2,   27.92,2,    0.00,2,    1.86,2,   0.019,2,   0.011,2,   0.005,2,  2213.0,2,  2315.4,2,   960.3,2,   20.00,   7.6360,2,    25.00,-999.000,9, -999.00,-999.000,9,-999.000,9, -999.00,9,  -999.0,9,  -999.0,-999.000,9,-999.000,   0.095,4,   40.07,2, 1499.60,-999.0000,9,-999.0000,9,-999.0000,9,-999.0000,9,-999.0000,9,-999.0000,9,   3.1745,     -999.0,-999.000,     -999.0,          9,     -999.0,          9,-999.000,          9
 33RO200501,       A16S,      77,          1,         15,         15,2,20050208,       1028,   -23.9998,   -24.9982,       5547,  1694.5,   3.1778,  34.8091,2,  34.8102,2,    215.0,2,   215.4,2,   44.21,2,   25.36,2,    0.00,2,    1.67,2,   0.009,2,   0.013,2,   0.000,2,  2201.7,2,  2318.0,2,   887.7,2,   20.00,   7.6687,2,    25.00,-999.000,9, -999.00,-999.000,9,-999.000,9, -999.00,9,  -999.0,9,  -999.0,-999.000,9,-999.000,   0.073,4,   39.98,2, 1694.50,-999.0000,9,-999.0000,9,-999.0000,9,-999.0000,9,-999.0000,9,-999.0000,9,   3.0505,     -999.0,-999.000,     -999.0,          9,     -999.0,          9,-999.000,          9
 33RO200501,       A16S,      77,          1,         14,         14,2,20050208,       1028,   -23.9998,   -24.9982,       5547,  1898.9,   3.2151,  34.8732,2,  34.8728,2,    230.4,2,   230.1,2,   38.13,2,   23.11,2,    0.00,2,    1.51,2,   0.015,2,   0.011,2,   0.000,2,  2188.4,2,  2320.0,2,   825.4,2,   20.00,   7.6992,2,    25.00,-999.000,9, -999.00,-999.000,9,-999.000,9, -999.00,9,  -999.0,9,  -999.0,-999.000,9,-999.000,   0.094,4,   39.68,2, 1898.90,-999.0000,9,-999.0000,9,-999.0000,9,-999.0000,9,-999.0000,9,-999.0000,9,   3.0688,     -999.0,-999.000,     -999.0,          9,     -999.0,          9,-999.000,          9
 33RO200501,       A16S,      77,          1,         13,         13,2,20050208,       1028,   -23.9998,   -24.9982,       5547,  2199.7,   3.2096,  34.9304,2,  34.9298,2,    245.6,2,   245.9,2,   31.41,2,   20.69,2,    0.00,2,    1.34,2,   0.021,2,   0.009,2,   0.000,2,  2173.7,2,  2318.8,2,   764.6,2,   20.00,   7.7263,2,    25.00,-999.000,9, -999.00,-999.000,9,-999.000,9, -999.00,9,  -999.0,9,  -999.0,-999.000,9,-999.000,   0.117,4,   39.29,2, 2199.70,-999.0000,9,-999.0000,9,-999.0000,9,-999.0000,9,-999.0000,9,-999.0000,9,   3.0352,     -999.0,-999.000,     -999.0,          9,     -999.0,          9,-999.000,          9
 33RO200501,       A16S,      77,          1,         12,         12,9,20050208,       1028,   -23.9998,   -24.9982,       5547,  2490.5,   3.0254,  34.9346,2,-999.0000,9,   -999.0,9,  -999.0,9, -999.00,9, -999.00,9, -999.00,9, -999.00,9,-999.000,9,-999.000,9,-999.000,9,  -999.0,9,  -999.0,9,  -999.0,9,   20.00,-999.0000,9,    25.00,-999.000,9, -999.00,-999.000,9,-999.000,9, -999.00,9,  -999.0,9,  -999.0,-999.000,9,-999.000,-999.000,9, -999.00,9, 2490.50,   0.1500,2,   0.1090,2,   0.0540,2,   0.0350,2,   0.0166,2,   0.0177,2,   2.8260,     -999.0,-999.000,     -999.0,          9,     -999.0,          9,-999.000,          9
 33RO200501,       A16S,      77,          1,         11,         11,2,20050208,       1028,   -23.9998,   -24.9982,       5547,  2782.1,   2.8594,  34.9259,2,  34.9256,2,    249.5,2,   250.1,2,   35.03,2,   20.46,2,    0.00,2,    1.33,2,   0.009,2,   0.005,2,   0.007,2,  2178.0,2,  2322.5,2,   752.9,2,   20.00,   7.7313,2,    25.00,-999.000,9, -999.00,-999.000,9,-999.000,9, -999.00,9,  -999.0,9,  -999.0,-999.000,9,-999.000,   0.074,4,   39.43,2, 2782.10,-999.0000,9,-999.0000,9,-999.0000,9,-999.0000,9,-999.0000,9,-999.0000,9,   2.6341,     -999.0,-999.000,     -999.0,          9,     -999.0,          9,-999.000,          9
 33RO200501,       A16S,      77,          1,         10,         10,2,20050208,       1028,   -23.9998,   -24.9982,       5547,  3098.8,   2.7311,  34.9174,2,  34.9171,2,    249.9,2,   250.7,2,   37.56,2,   20.64,2,    0.00,2,    1.35,2,   0.009,2,   0.006,2,   0.000,2,  2180.0,2,  2323.7,2,   759.2,2,   20.00,   7.7219,2,    25.00,-999.000,9, -999.00,-999.000,9,-999.000,9, -999.00,9,  -999.0,9,  -999.0,-999.000,9,-999.000,   0.061,4,   39.47,2, 3098.80,-999.0000,9,-999.0000,9,-999.0000,9,-999.0000,9,-999.0000,9,-999.0000,9,   2.4760,     -999.0,-999.000,     -999.0,          9,     -999.0,          9,-999.000,          9
 33RO200501,       A16S,      77,          1,          9,          9,9,20050208,       1028,   -23.9998,   -24.9982,       5547,  3399.3,   2.5153,  34.8991,2,-999.0000,9,   -999.0,9,  -999.0,9, -999.00,9, -999.00,9, -999.00,9, -999.00,9,-999.000,9,-999.000,9,-999.000,9,  -999.0,9,  -999.0,9,  -999.0,9,   20.00,-999.0000,9,    25.00,-999.000,9, -999.00,-999.000,9,-999.000,9, -999.00,9,  -999.0,9,  -999.0,-999.000,9,-999.000,-999.000,9, -999.00,9, 3399.30,-999.0000,9,-999.0000,9,-999.0000,9,-999.0000,9,-999.0000,9,-999.0000,9,   2.2335,     -999.0,-999.000,     -999.0,          9,     -999.0,          9,-999.000,          9
 33RO200501,       A16S,      77,          1,          8,          8,2,20050208,       1028,   -23.9998,   -24.9982,       5547,  3698.5,   2.1664,  34.8640,2,  34.8636,2,    244.3,2,   244.6,2,   56.82,2,   23.12,2,    0.00,2,    1.54,2,   0.003,6,   0.005,6,   0.000,6,  2198.7,2,  2335.6,2,   807.9,2,   20.00,   7.7087,2,    25.00,-999.000,9, -999.00,-999.000,9,-999.000,9, -999.00,9,  -999.0,9,  -999.0,-999.000,9,-999.000,   0.031,4, -999.00,9, 3698.50,   0.1390,2,   0.1000,2,   0.0540,2,   0.0360,2,   0.0151,2,   0.0164,2,   1.8611,     -999.0,-999.000,     -999.0,          9,     -999.0,          9,-999.000,          9