BOTTLE,20220818CCHSIOAMB
EXPOCODE,SECT_ID,STNNBR,CASTNO,SAMPNO,BTLNBR,BTLNBR_FLAG_W,DATE,TIME,LATITUDE,LONGITUDE,DEPTH,CTDPRS,CTDTMP,CTDSAL,CTDSAL_FLAG_W,SALNTY,SALNTY_FLAG_W,CTDOXY,CTDOXY_FLAG_W,OXYGEN,OXYGEN_FLAG_W,SILCAT,SILCAT_FLAG_W,NITRAT,NITRAT_FLAG_W,NITRIT,NITRIT_FLAG_W,PHSPHT,PHSPHT_FLAG_W,CFC-11,CFC-11_FLAG_W,CFC-12,CFC-12_FLAG_W,CFC113,CFC113_FLAG_W,TCARBN,TCARBN_FLAG_W,ALKALI,ALKALI_FLAG_W,PCO2,PCO2_FLAG_W,PCO2TMP,PH_SWS,PH_SWS_FLAG_W,PH_TMP,TRITUM,TRITUM_FLAG_W,TRITER,HELIUM,HELIUM_FLAG_W,DELHE3,DELHE3_FLAG_W,DELC13,DELC13_FLAG_W,DELC14,DELC14_FLAG_W,C14ERR,NEON,NEON_FLAG_W,NEONER,CCL4,CCL4_FLAG_W,DOC,DOC_FLAG_W,CTDRAW,CDOM325,CDOM325_FLAG_W,CDOM340,CDOM340_FLAG_W,CDOM380,CDOM380_FLAG_W,CDOM412,CDOM412_FLAG_W,CDOMSL,CDOMSL_FLAG_W,CDOMSN,CDOMSN_FLAG_W,THETA,HELIER,DELHER,CH3CL,CH3CL_FLAG_W,CH3BR,CH3BR_FLAG_W,CH3I,CH3I_FLAG_W
,,,,,,,,,,,METERS,DBAR,ITS-90,PSS-78,,PSS-78,,UMOL/KG,,UMOL/KG,,UMOL/KG,,UMOL/KG,,UMOL/KG,,UMOL/KG,,PMOL/KG,,PMOL/KG,,PMOL/KG,,UMOL/KG,,UMOL/KG,,UATM,,DEG C,,,DEG C,TU,,TU,NMOL/KG,,PERCNT,,/MILLE,,/MILLE,,/MILLE,NMOL/KG,,NMOL/KG,PMOL/KG,,UMOL/KG,,DBAR,1/M,,1/M,,1/M,,1/M,,1/NM,,1/NM,,DEG C,NMOL/KG,PERCNT,PMOL/KG,,PMOL/KG,,PMOL/KG,
 33RO200501,       A16S,      71,          1,          7,          7,2,20050206,       1321,   -27.0002,   -25.0000,       4591,  2951.4,   2.6918,  34.9134,2,  34.9128,2,    251.0,2,   250.8,2,   35.58,2,   20.93,2,    0.00,2,    1.41,2,  -0.005,2,   0.005,2,   0.000,2,  2176.8,2,  2323.8,2,  -999.0,9,   20.00,   7.7344,2,    25.00,-999.000,9, -999.00,-999.000,9,-999.000,9, -999.00,9,  -999.0,9,  -999.0,-999.000,9,-999.000,   0.041,4,   40.41,2, 2951.40,-999.0000,9,-999.0000,9,-999.0000,9,-999.0000,9,-999.0000,9,-999.0000,9,   2.4528,     -999.0,-999.000,     -999.0,          9,     -999.0,          9,-999.000,          9
 33RO200501,       A16S,      71,          1,          6,          6,2,20050206,       1321,   -27.0002,   -25.0000,       4591,  3249.4,   2.5027,  34.9009,2,  34.9010,2,    251.2,2,   251.1,2,   40.08,2,   21.29,2,    0.00,2,    1.43,2,   0.001,2,  -0.004,2,   0.000,2,  2186.9,2,  2327.8,2,  -999.0,9,   20.00,   7.7290,2,    25.00,-999.000,9, -999.00,-999.000,9,-999.000,9, -999.00,9,  -999.0,9,  -999.0,-999.000,9,-999.000,   0.051,4, -999.00,9, 3249.40,-999.0000,9,-999.0000,9,-999.0000,9,-999.0000,9,-999.0000,9,-999.0000,9,   2.2370,     -999.0,-999.000,     -999.0,          9,     -999.0,          9,-999.000,          9
 33RO200501,       A16S,      71,          1,          5,          5,2,20050206,       1321,   -27.0002,   -25.0000,       4591,  3549.2,   2.1936,  34.8707,2,  34.8705,2,    247.6,2,   247.4,2,   51.15,2,   22.69,2,    0.00,2,    1.55,2,   0.000,2,   0.030,3,   0.000,2,  2193.0,2,  2333.8,2,  -999.0,9,   20.00,   7.7140,2,    25.00,-999.000,9, -999.00,-999.000,9,-999.000,9, -999.00,9,  -999.0,9,  -999.0,-999.000,9,-999.000,   0.039,4,   40.04,2, 3549.20,-999.0000,9,-999.0000,9,-999.0000,9,-999.0000,9,-999.0000,9,-999.0000,9,   1.9037,     -999.0,-999.000,     -999.0,          9,     -999.0,          9,-999.000,          9
 33RO200501,       A16S,      71,          1,          4,          4,2,20050206,       1321,   -27.0002,   -25.0000,       4591,  3850.0,   1.7631,  34.8255,2,  34.8253,2,    240.3,2,   240.4,2,   68.35,6,   25.05,6,    0.00,6,    1.72,6,-999.000,9,-999.000,9,-999.000,9,  2211.6,2,  2342.6,2,  -999.0,9,   20.00,   7.6938,2,    25.00,-999.000,9, -999.00,-999.000,9,-999.000,9, -999.00,9,  -999.0,9,  -999.0,-999.000,9,-999.000,-999.000,9, -999.00,9, 3850.00,-999.0000,9,-999.0000,9,-999.0000,9,-999.0000,9,-999.0000,9,-999.0000,9,   1.4524,     -999.0,-999.000,     -999.0,          9,     -999.0,          9,-999.000,          9
 33RO200501,       A16S,      71,          1,          3,          3,2,20050206,       1321,   -27.0002,   -25.0000,       4591,  4150.4,   1.3795,  34.7843,2,  34.7836,2,    233.9,2,   233.9,2,   84.10,6,   27.14,6,    0.00,6,    1.89,6,   0.012,2,   0.006,2,   0.000,2,  2228.6,2,  2349.8,2,  -999.0,9,   20.00,   7.6671,2,    25.00,-999.000,9, -999.00,-999.000,9,-999.000,9, -999.00,9,  -999.0,9,  -999.0,-999.000,9,-999.000,   0.050,4,   40.00,2, 4150.40,-999.0000,9,-999.0000,9,-999.0000,9,-999.0000,9,-999.0000,9,-999.0000,9,   1.0469,     -999.0,-999.000,     -999.0,          9,     -999.0,          9,-999.000,          9
 33RO200501,       A16S,      71,          1,          2,          2,2,20050206,       1321,   -27.0002,   -25.0000,       4591,  4449.7,   1.1977,  34.7626,2,  34.7622,2,    230.0,2,   230.4,2,   92.41,6,   28.27,6,    0.00,6,    1.98,6,   0.012,2,   0.006,2,   0.007,2,  2240.4,2,  2353.3,6,  -999.0,9,   20.00,   7.6582,6,    25.00,-999.000,9, -999.00,   1.950,3,   5.360,2, -999.00,9,  -999.0,9,  -999.0,   8.439,2,   0.011,   0.059,4, -999.00,9, 4449.70,-999.0000,9,-999.0000,9,-999.0000,9,-999.0000,9,-999.0000,9,-999.0000,9,   0.8373,      0.001,   0.229,     -999.0,          9,     -999.0,          9,-999.000,          9
 33RO200501,       A16S,      71,          1,          1,          1,2,20050206,       1321,   -27.0002,   -25.0000,       4591,  4776.0,   1.1211,  34.7520,2,  34.7531,2,    228.8,2,   229.3,2,   96.13,6,   28.72,6,    0.00,6,    2.01,6,   0.019,2,   0.010,2,   0.002,2,  2250.2,2,  2362.6,2,  -999.0,9,   20.00,   7.6495,2,    25.00,   0.001,2,    0.01,   1.892,2,   5.120,2, -999.00,9,  -999.0,9,  -999.0,   8.164,2,   0.011,   0.067,4,   40.31,2, 4776.00,-999.0000,9,-999.0000,9,-999.0000,9,-999.0000,9,-999.0000,9,-999.0000,9,   0.7257,      0.001,   0.239,     -999.0,          9,     -999.0,          9,-999.000,          9