BOTTLE,20220818CCHSIOAMB
EXPOCODE,SECT_ID,STNNBR,CASTNO,SAMPNO,BTLNBR,BTLNBR_FLAG_W,DATE,TIME,LATITUDE,LONGITUDE,DEPTH,CTDPRS,CTDTMP,CTDSAL,CTDSAL_FLAG_W,SALNTY,SALNTY_FLAG_W,CTDOXY,CTDOXY_FLAG_W,OXYGEN,OXYGEN_FLAG_W,SILCAT,SILCAT_FLAG_W,NITRAT,NITRAT_FLAG_W,NITRIT,NITRIT_FLAG_W,PHSPHT,PHSPHT_FLAG_W,CFC-11,CFC-11_FLAG_W,CFC-12,CFC-12_FLAG_W,CFC113,CFC113_FLAG_W,TCARBN,TCARBN_FLAG_W,ALKALI,ALKALI_FLAG_W,PCO2,PCO2_FLAG_W,PCO2TMP,PH_SWS,PH_SWS_FLAG_W,PH_TMP,TRITUM,TRITUM_FLAG_W,TRITER,HELIUM,HELIUM_FLAG_W,DELHE3,DELHE3_FLAG_W,DELC13,DELC13_FLAG_W,DELC14,DELC14_FLAG_W,C14ERR,NEON,NEON_FLAG_W,NEONER,CCL4,CCL4_FLAG_W,DOC,DOC_FLAG_W,CTDRAW,CDOM325,CDOM325_FLAG_W,CDOM340,CDOM340_FLAG_W,CDOM380,CDOM380_FLAG_W,CDOM412,CDOM412_FLAG_W,CDOMSL,CDOMSL_FLAG_W,CDOMSN,CDOMSN_FLAG_W,THETA,HELIER,DELHER,CH3CL,CH3CL_FLAG_W,CH3BR,CH3BR_FLAG_W,CH3I,CH3I_FLAG_W
,,,,,,,,,,,METERS,DBAR,ITS-90,PSS-78,,PSS-78,,UMOL/KG,,UMOL/KG,,UMOL/KG,,UMOL/KG,,UMOL/KG,,UMOL/KG,,PMOL/KG,,PMOL/KG,,PMOL/KG,,UMOL/KG,,UMOL/KG,,UATM,,DEG C,,,DEG C,TU,,TU,NMOL/KG,,PERCNT,,/MILLE,,/MILLE,,/MILLE,NMOL/KG,,NMOL/KG,PMOL/KG,,UMOL/KG,,DBAR,1/M,,1/M,,1/M,,1/M,,1/NM,,1/NM,,DEG C,NMOL/KG,PERCNT,PMOL/KG,,PMOL/KG,,PMOL/KG,
 33RO200501,       A16S,       7,          1,         36,         36,2,20050119,       0520,   -56.9987,   -32.2882,       3573,    11.3,   2.0927,  33.9802,2,  33.9808,2,    329.1,2,   329.4,2,   29.10,2,   22.73,2,    0.32,2,    1.50,2,   6.001,2,   3.230,2,   0.491,2,  2154.5,6,  2300.3,6,  -999.0,9,   20.00,   7.7588,6,    25.00,-999.000,9, -999.00,-999.000,9,-999.000,9, -999.00,9,  -999.0,9,  -999.0,-999.000,9,-999.000,   6.211,4,   49.34,2,   11.30,-999.0000,9,-999.0000,9,-999.0000,9,-999.0000,9,-999.0000,9,-999.0000,9,   2.0921,     -999.0,-999.000,     -999.0,          9,     -999.0,          9,-999.000,          9
 33RO200501,       A16S,       7,          1,         35,         35,2,20050119,       0520,   -56.9987,   -32.2882,       3573,    30.4,   2.0892,  33.9805,2,  33.9812,2,    329.2,2,   329.4,2,   29.10,2,   22.76,2,    0.32,2,    1.50,2,   6.023,6,   3.218,6,   0.509,6,  2156.1,2,  2296.4,2,  -999.0,9,   20.00,   7.7398,2,    25.00,-999.000,9, -999.00,-999.000,9,-999.000,9, -999.00,9,  -999.0,9,  -999.0,-999.000,9,-999.000,   6.543,4, -999.00,9,   30.40,-999.0000,9,-999.0000,9,-999.0000,9,-999.0000,9,-999.0000,9,-999.0000,9,   2.0876,     -999.0,-999.000,     -999.0,          9,     -999.0,          9,-999.000,          9
 33RO200501,       A16S,       7,          1,         34,         34,2,20050119,       0520,   -56.9987,   -32.2882,       3573,    51.4,   2.0312,  33.9870,2,  33.9865,2,    329.6,2,   330.1,2,   29.37,2,   22.78,2,    0.31,2,    1.50,2,   6.028,2,   3.226,2,   0.498,2,  2154.8,2,  2297.0,2,  -999.0,9,   20.00,   7.7516,2,    25.00,-999.000,9, -999.00,-999.000,9,-999.000,9, -999.00,9,  -999.0,9,  -999.0,-999.000,9,-999.000,   6.381,4,   48.29,2,   51.40,-999.0000,9,-999.0000,9,-999.0000,9,-999.0000,9,-999.0000,9,-999.0000,9,   2.0286,     -999.0,-999.000,     -999.0,          9,     -999.0,          9,-999.000,          9
 33RO200501,       A16S,       7,          1,         33,         33,2,20050119,       0520,   -56.9987,   -32.2882,       3573,    69.9,   1.7164,  34.0025,2,  34.0049,2,    331.9,2,   333.3,2,   32.28,2,   23.22,2,    0.31,2,    1.53,2,   6.114,2,   3.251,2,   0.516,2,  2158.6,2,  2300.3,2,  -999.0,9,   20.00,   7.7373,2,    25.00,-999.000,9, -999.00,-999.000,9,-999.000,9, -999.00,9,  -999.0,9,  -999.0,-999.000,9,-999.000,   6.605,4,   47.03,2,   69.90,-999.0000,9,-999.0000,9,-999.0000,9,-999.0000,9,-999.0000,9,-999.0000,9,   1.7130,     -999.0,-999.000,     -999.0,          9,     -999.0,          9,-999.000,          9
 33RO200501,       A16S,       7,          1,         32,         32,2,20050119,       0520,   -56.9987,   -32.2882,       3573,    90.8,   0.5963,  34.0687,2,  34.0720,2,    330.5,2,   329.9,2,   43.86,2,   25.43,2,    0.34,2,    1.77,2,-999.000,9,-999.000,9,-999.000,9,  2177.8,2,  2303.1,2,  -999.0,9,   20.00,   7.6971,2,    25.00,-999.000,9, -999.00,-999.000,9,-999.000,9, -999.00,9,  -999.0,9,  -999.0,-999.000,9,-999.000,-999.000,9,   45.81,2,   90.80,-999.0000,9,-999.0000,9,-999.0000,9,-999.0000,9,-999.0000,9,-999.0000,9,   0.5926,     -999.0,-999.000,     -999.0,          9,     -999.0,          9,-999.000,          9
 33RO200501,       A16S,       7,          1,         31,         31,2,20050119,       0520,   -56.9987,   -32.2882,       3573,   114.9,   0.2267,  34.1420,2,  34.1435,2,    310.2,2,   309.7,2,   53.13,2,   28.24,2,    0.31,2,    1.97,2,   5.463,2,   2.886,2,   0.464,2,  2194.8,2,  2304.8,2,  -999.0,9,   20.00,   7.6556,2,    25.00,-999.000,9, -999.00,-999.000,9,-999.000,9, -999.00,9,  -999.0,9,  -999.0,-999.000,9,-999.000,   5.489,4, -999.00,9,  114.90,-999.0000,9,-999.0000,9,-999.0000,9,-999.0000,9,-999.0000,9,-999.0000,9,   0.2224,     -999.0,-999.000,     -999.0,          9,     -999.0,          9,-999.000,          9
 33RO200501,       A16S,       7,          1,         30,         30,2,20050119,       0520,   -56.9987,   -32.2882,       3573,   130.2,   0.2908,  34.1815,2,  34.1910,2,    292.3,2,   292.5,2,   57.22,2,   29.84,2,    0.22,2,    2.06,2,   4.946,2,   2.603,2,   0.421,2,  2204.7,2,  2307.6,2,  -999.0,9,   20.00,   7.6364,2,    25.00,-999.000,9, -999.00,-999.000,9,-999.000,9, -999.00,9,  -999.0,9,  -999.0,-999.000,9,-999.000,   5.038,3,   45.09,2,  130.20,-999.0000,9,-999.0000,9,-999.0000,9,-999.0000,9,-999.0000,9,-999.0000,9,   0.2859,     -999.0,-999.000,     -999.0,          9,     -999.0,          9,-999.000,          9
 33RO200501,       A16S,       7,          1,         29,         29,2,20050119,       0520,   -56.9987,   -32.2882,       3573,   148.4,   0.5322,  34.2474,2,  34.2508,2,    268.4,2,   269.6,2,   61.23,2,   31.47,2,    0.20,2,    2.16,2,   4.239,2,   2.223,2,   0.357,2,  2215.9,2,  2309.0,2,  -999.0,9,   20.00,   7.6061,2,    25.00,-999.000,9, -999.00,-999.000,9,-999.000,9, -999.00,9,  -999.0,9,  -999.0,-999.000,9,-999.000,   4.386,3,   44.60,2,  148.40,-999.0000,9,-999.0000,9,-999.0000,9,-999.0000,9,-999.0000,9,-999.0000,9,   0.5262,     -999.0,-999.000,     -999.0,          9,     -999.0,          9,-999.000,          9
 33RO200501,       A16S,       7,          1,         28,         28,2,20050119,       0520,   -56.9987,   -32.2882,       3573,   190.0,   1.0909,  34.3575,2,  34.3581,2,    232.3,2,   230.2,2,   67.44,2,   33.52,2,    0.02,2,    2.28,2,   2.927,2,   1.533,2,   0.220,2,  2232.6,2,  2315.3,2,  -999.0,9,   20.00,   7.5708,2,    25.00,-999.000,9, -999.00,-999.000,9,-999.000,9, -999.00,9,  -999.0,9,  -999.0,-999.000,9,-999.000,   2.988,3,   43.92,2,  190.00,-999.0000,9,-999.0000,9,-999.0000,9,-999.0000,9,-999.0000,9,-999.0000,9,   1.0823,     -999.0,-999.000,     -999.0,          9,     -999.0,          9,-999.000,          9
 33RO200501,       A16S,       7,          1,         27,         27,2,20050119,       0520,   -56.9987,   -32.2882,       3573,   224.3,   1.5160,  34.4514,2,  34.4523,2,    204.4,2,   203.3,2,   72.66,2,   34.15,2,    0.01,2,    2.33,2,-999.000,9,-999.000,9,-999.000,9,  2245.4,2,  2323.6,2,  -999.0,9,   20.00,   7.5585,2,    25.00,-999.000,9, -999.00,-999.000,9,-999.000,9, -999.00,9,  -999.0,9,  -999.0,-999.000,9,-999.000,-999.000,9, -999.00,9,  224.30,-999.0000,9,-999.0000,9,-999.0000,9,-999.0000,9,-999.0000,9,-999.0000,9,   1.5049,     -999.0,-999.000,     -999.0,          9,     -999.0,          9,-999.000,          9
 33RO200501,       A16S,       7,          1,         26,         26,2,20050119,       0520,   -56.9987,   -32.2882,       3573,   275.1,   1.6829,  34.5209,2,  34.5221,2,    190.6,2,   190.4,2,   77.22,2,   34.15,2,    0.01,2,    2.33,2,-999.000,5,-999.000,5,-999.000,5,  2252.1,2,  2328.4,2,  -999.0,9,   20.00,   7.5587,2,    25.00,-999.000,9, -999.00,-999.000,9,-999.000,9, -999.00,9,  -999.0,9,  -999.0,-999.000,9,-999.000,-999.000,5,   43.58,2,  275.10,-999.0000,9,-999.0000,9,-999.0000,9,-999.0000,9,-999.0000,9,-999.0000,9,   1.6687,     -999.0,-999.000,     -999.0,          9,     -999.0,          9,-999.000,          9
 33RO200501,       A16S,       7,          1,         25,         25,2,20050119,       0520,   -56.9987,   -32.2882,       3573,   325.3,   1.7713,  34.5706,2,  34.5716,2,    184.0,2,   184.3,2,   80.46,2,   33.87,2,    0.02,2,    2.31,2,   1.014,2,   0.523,2,   0.058,2,  2256.5,2,  2333.3,2,  -999.0,9,   20.00,   7.5592,2,    25.00,-999.000,9, -999.00,-999.000,9,-999.000,9, -999.00,9,  -999.0,9,  -999.0,-999.000,9,-999.000,   1.185,3,   42.07,2,  325.30,-999.0000,9,-999.0000,9,-999.0000,9,-999.0000,9,-999.0000,9,-999.0000,9,   1.7542,     -999.0,-999.000,     -999.0,          9,     -999.0,          9,-999.000,          9
 33RO200501,       A16S,       7,          1,         24,         24,2,20050119,       0520,   -56.9987,   -32.2882,       3573,   376.6,   1.7538,  34.6007,2,  34.6050,2,    182.6,2,   184.2,2,   82.72,2,   33.52,2,    0.02,2,    2.30,2,   0.872,2,   0.449,2,   0.051,2,  2256.7,2,  2335.3,2,  -999.0,9,   20.00,   7.5641,2,    25.00,-999.000,9, -999.00,-999.000,9,-999.000,9, -999.00,9,  -999.0,9,  -999.0,-999.000,9,-999.000,   1.013,3,   41.07,2,  376.60,-999.0000,9,-999.0000,9,-999.0000,9,-999.0000,9,-999.0000,9,-999.0000,9,   1.7338,     -999.0,-999.000,     -999.0,          9,     -999.0,          9,-999.000,          9
 33RO200501,       A16S,       7,          1,         23,         23,2,20050119,       0520,   -56.9987,   -32.2882,       3573,   423.9,   1.7731,  34.6228,2,  34.6223,2,    183.8,2,   176.9,2,   84.34,2,   33.47,2,    0.03,2,    2.28,2,   0.731,2,   0.383,2,   0.050,2,  2258.2,2,  2333.2,2,  -999.0,9,   20.00,   7.5651,2,    25.00,-999.000,9, -999.00,-999.000,9,-999.000,9, -999.00,9,  -999.0,9,  -999.0,-999.000,9,-999.000,   0.955,3, -999.00,9,  423.90,-999.0000,9,-999.0000,9,-999.0000,9,-999.0000,9,-999.0000,9,-999.0000,9,   1.7503,     -999.0,-999.000,     -999.0,          9,     -999.0,          9,-999.000,          9
 33RO200501,       A16S,       7,          1,         22,         22,2,20050119,       0520,   -56.9987,   -32.2882,       3573,   474.9,   1.6793,  34.6365,2,  34.6358,2,    185.6,2,   185.9,2,   86.12,2,   33.15,2,    0.02,2,    2.26,2,   0.751,2,   0.390,2,   0.042,2,  2257.6,2,  2342.5,2,  -999.0,9,   20.00,   7.5736,2,    25.00,-999.000,9, -999.00,-999.000,9,-999.000,9, -999.00,9,  -999.0,9,  -999.0,-999.000,9,-999.000,   0.893,3,   40.60,2,  474.90,-999.0000,9,-999.0000,9,-999.0000,9,-999.0000,9,-999.0000,9,-999.0000,9,   1.6540,     -999.0,-999.000,     -999.0,          9,     -999.0,          9,-999.000,          9
 33RO200501,       A16S,       7,          1,         21,         21,2,20050119,       0520,   -56.9987,   -32.2882,       3573,   526.7,   1.5907,  34.6489,2,  34.6482,2,    184.1,2,   188.9,2,   88.09,2,   32.84,2,    0.02,2,    2.24,2,   0.732,2,   0.385,2,   0.044,2,  2257.9,2,  2346.0,2,  -999.0,9,   20.00,   7.5803,2,    25.00,-999.000,9, -999.00,-999.000,9,-999.000,9, -999.00,9,  -999.0,9,  -999.0,-999.000,9,-999.000,   0.841,3, -999.00,9,  526.70,-999.0000,9,-999.0000,9,-999.0000,9,-999.0000,9,-999.0000,9,-999.0000,9,   1.5628,     -999.0,-999.000,     -999.0,          9,     -999.0,          9,-999.000,          9
 33RO200501,       A16S,       7,          1,         20,         20,2,20050119,       0520,   -56.9987,   -32.2882,       3573,   575.8,   1.6940,  34.6743,2,  34.6744,2,    184.6,2,   184.3,2,   90.70,2,   32.71,2,    0.02,2,    2.24,2,-999.000,9,-999.000,9,-999.000,9,  2260.2,2,  2345.3,2,  -999.0,9,   20.00,   7.5840,2,    25.00,-999.000,9, -999.00,-999.000,9,-999.000,9, -999.00,9,  -999.0,9,  -999.0,-999.000,9,-999.000,-999.000,9,   39.84,2,  575.80,-999.0000,9,-999.0000,9,-999.0000,9,-999.0000,9,-999.0000,9,-999.0000,9,   1.6627,     -999.0,-999.000,     -999.0,          9,     -999.0,          9,-999.000,          9
 33RO200501,       A16S,       7,          1,         19,         19,2,20050119,       0520,   -56.9987,   -32.2882,       3573,   651.7,   1.6258,  34.6855,2,  34.6876,2,    186.1,2,   186.2,2,   92.77,2,   32.41,2,    0.02,2,    2.22,2,   0.435,2,   0.240,2,   0.015,2,  2258.7,2,  2346.5,2,  -999.0,9,   20.00,   7.5898,2,    25.00,-999.000,9, -999.00,-999.000,9,-999.000,9, -999.00,9,  -999.0,9,  -999.0,-999.000,9,-999.000,   0.525,3, -999.00,9,  651.70,-999.0000,9,-999.0000,9,-999.0000,9,-999.0000,9,-999.0000,9,-999.0000,9,   1.5903,     -999.0,-999.000,     -999.0,          9,     -999.0,          9,-999.000,          9
 33RO200501,       A16S,       7,          1,         18,         18,2,20050119,       0520,   -56.9987,   -32.2882,       3573,   749.3,   1.5443,  34.6966,2,  34.6968,2,    189.9,2,   188.7,2,   95.73,2,   32.15,2,    0.02,2,    2.21,2,   1.035,4,   1.411,4,   0.176,4,  2260.7,2,  2360.7,3,  -999.0,9,   20.00,   7.6017,2,    25.00,-999.000,9, -999.00,-999.000,9,-999.000,9, -999.00,9,  -999.0,9,  -999.0,-999.000,9,-999.000,   0.681,4,   39.59,2,  749.30,-999.0000,9,-999.0000,9,-999.0000,9,-999.0000,9,-999.0000,9,-999.0000,9,   1.5034,     -999.0,-999.000,     -999.0,          9,     -999.0,          9,-999.000,          9
 33RO200501,       A16S,       7,          1,         17,         17,2,20050119,       0520,   -56.9987,   -32.2882,       3573,   849.8,   1.4409,  34.7026,2,  34.7025,2,    191.3,2,   191.7,2,   98.34,2,   31.99,2,    0.01,2,    2.20,2,   0.357,2,   0.186,2,   0.018,2,  2260.2,2,  2351.8,2,  -999.0,9,   20.00,   7.6027,2,    25.00,-999.000,9, -999.00,-999.000,9,-999.000,9, -999.00,9,  -999.0,9,  -999.0,-999.000,9,-999.000,   0.411,3,   40.16,2,  849.80,-999.0000,9,-999.0000,9,-999.0000,9,-999.0000,9,-999.0000,9,-999.0000,9,   1.3944,     -999.0,-999.000,     -999.0,          9,     -999.0,          9,-999.000,          9
 33RO200501,       A16S,       7,          1,         16,         16,2,20050119,       0520,   -56.9987,   -32.2882,       3573,   951.0,   1.3282,  34.7040,2,  34.7035,2,    194.3,2,   194.5,2,  100.52,2,   31.86,2,    0.01,2,    2.19,2,   0.375,2,   0.198,2,   0.006,2,  2260.6,2,  2353.7,2,  -999.0,9,   20.00,   7.6054,2,    25.00,-999.000,9, -999.00,-999.000,9,-999.000,9, -999.00,9,  -999.0,9,  -999.0,-999.000,9,-999.000,   0.438,3,   39.71,2,  951.00,-999.0000,9,-999.0000,9,-999.0000,9,-999.0000,9,-999.0000,9,-999.0000,9,   1.2762,     -999.0,-999.000,     -999.0,          9,     -999.0,          9,-999.000,          9
 33RO200501,       A16S,       7,          1,         15,         15,2,20050119,       0520,   -56.9987,   -32.2882,       3573,  1048.4,   1.2227,  34.7007,2,  34.7008,2,    197.7,2,   197.6,2,  101.76,2,   31.82,2,    0.01,2,    2.19,2,   0.428,2,   0.232,2,   0.023,2,  2258.7,6,  2352.8,6,  -999.0,9,   20.00,   7.6044,6,    25.00,-999.000,9, -999.00,-999.000,9,-999.000,9, -999.00,9,  -999.0,9,  -999.0,-999.000,9,-999.000,   0.529,3,   40.06,2, 1048.40,-999.0000,9,-999.0000,9,-999.0000,9,-999.0000,9,-999.0000,9,-999.0000,9,   1.1655,     -999.0,-999.000,     -999.0,          9,     -999.0,          9,-999.000,          9
 33RO200501,       A16S,       7,          1,         14,         14,2,20050119,       0520,   -56.9987,   -32.2882,       3573,  1149.2,   1.1012,  34.6994,2,  34.6992,2,    200.0,2,   200.6,2,  103.94,2,   31.78,2,    0.01,2,    2.20,2,   0.441,2,   0.235,2,   0.023,2,  2258.6,2,  2352.9,2,  -999.0,9,   20.00,   7.6026,2,    25.00,-999.000,9, -999.00,-999.000,9,-999.000,9, -999.00,9,  -999.0,9,  -999.0,-999.000,9,-999.000,   0.492,3,   39.70,2, 1149.20,-999.0000,9,-999.0000,9,-999.0000,9,-999.0000,9,-999.0000,9,-999.0000,9,   1.0386,     -999.0,-999.000,     -999.0,          9,     -999.0,          9,-999.000,          9
 33RO200501,       A16S,       7,          1,         13,         13,2,20050119,       0520,   -56.9987,   -32.2882,       3573,  1249.9,   1.0040,  34.6983,2,  34.6987,2,    201.7,2,   202.8,2,  106.08,2,   31.82,2,    0.01,2,    2.20,2,-999.000,9,-999.000,9,-999.000,9,  2258.2,2,  2354.1,2,  -999.0,9,   20.00,   7.6052,2,    25.00,-999.000,9, -999.00,-999.000,9,-999.000,9, -999.00,9,  -999.0,9,  -999.0,-999.000,9,-999.000,-999.000,9, -999.00,9, 1249.90,-999.0000,9,-999.0000,9,-999.0000,9,-999.0000,9,-999.0000,9,-999.0000,9,   0.9358,     -999.0,-999.000,     -999.0,          9,     -999.0,          9,-999.000,          9
 33RO200501,       A16S,       7,          1,         12,         12,2,20050119,       0520,   -56.9987,   -32.2882,       3573,  1349.9,   0.9171,  34.6967,2,  34.6969,2,    203.4,2,   204.3,2,  108.00,2,   31.84,2,    0.00,2,    2.20,2,   0.455,2,   0.238,2,   0.021,2,  2258.4,2,  2353.3,2,  -999.0,9,   20.00,   7.6083,2,    25.00,-999.000,9, -999.00,-999.000,9,-999.000,9, -999.00,9,  -999.0,9,  -999.0,-999.000,9,-999.000,   0.504,3,   40.32,2, 1349.90,-999.0000,9,-999.0000,9,-999.0000,9,-999.0000,9,-999.0000,9,-999.0000,9,   0.8433,     -999.0,-999.000,     -999.0,          9,     -999.0,          9,-999.000,          9
 33RO200501,       A16S,       7,          1,         11,         11,2,20050119,       0520,   -56.9987,   -32.2882,       3573,  1448.9,   0.8092,  34.6916,2,  34.6918,2,    205.7,2,   206.8,2,  109.23,2,   31.91,2,    0.00,2,    2.21,2,   0.524,2,   0.269,2,   0.031,2,  2258.1,2,  2354.6,2,  -999.0,9,   20.00,   7.6089,2,    25.00,-999.000,9, -999.00,-999.000,9,-999.000,9, -999.00,9,  -999.0,9,  -999.0,-999.000,9,-999.000,   0.587,3, -999.00,9, 1448.90,-999.0000,9,-999.0000,9,-999.0000,9,-999.0000,9,-999.0000,9,-999.0000,9,   0.7301,     -999.0,-999.000,     -999.0,          9,     -999.0,          9,-999.000,          9
 33RO200501,       A16S,       7,          1,         10,         10,2,20050119,       0520,   -56.9987,   -32.2882,       3573,  1548.2,   0.7456,  34.6905,2,  34.6908,2,    206.3,2,   208.2,2,  110.83,2,   31.90,2,    0.00,2,    2.21,2,   0.518,2,   0.275,2,   0.023,2,  2257.7,2,  2354.0,2,  -999.0,9,   20.00,   7.6141,2,    25.00,-999.000,9, -999.00,-999.000,9,-999.000,9, -999.00,9,  -999.0,9,  -999.0,-999.000,9,-999.000,   0.581,3,   39.88,2, 1548.20,-999.0000,9,-999.0000,9,-999.0000,9,-999.0000,9,-999.0000,9,-999.0000,9,   0.6605,     -999.0,-999.000,     -999.0,          9,     -999.0,          9,-999.000,          9
 33RO200501,       A16S,       7,          1,          9,          9,2,20050119,       0520,   -56.9987,   -32.2882,       3573,  1699.0,   0.6546,  34.6887,2,  34.6887,2,    208.3,2,   209.7,2,  113.11,2,   31.99,2,    0.00,2,    2.22,2,   0.539,2,   0.280,2,   0.025,2,  2258.7,2,  2354.8,2,  -999.0,9,   20.00,   7.6058,2,    25.00,-999.000,9, -999.00,-999.000,9,-999.000,9, -999.00,9,  -999.0,9,  -999.0,-999.000,9,-999.000,   0.732,3,   40.40,2, 1699.00,-999.0000,9,-999.0000,9,-999.0000,9,-999.0000,9,-999.0000,9,-999.0000,9,   0.5604,     -999.0,-999.000,     -999.0,          9,     -999.0,          9,-999.000,          9
 33RO200501,       A16S,       7,          1,          8,          8,3,20050119,       0520,   -56.9987,   -32.2882,       3573,  1950.1,   0.5350,  34.6863,2,  34.6866,2,    210.7,2,   211.8,2,  115.21,6,   32.05,6,    0.00,6,    2.24,6,-999.000,9,-999.000,9,-999.000,9,  -999.0,9,  -999.0,9,  -999.0,9,   20.00,-999.0000,9,    25.00,-999.000,9, -999.00,-999.000,9,-999.000,9, -999.00,9,  -999.0,9,  -999.0,-999.000,9,-999.000,-999.000,9, -999.00,9, 1950.10,-999.0000,9,-999.0000,9,-999.0000,9,-999.0000,9,-999.0000,9,-999.0000,9,   0.4245,     -999.0,-999.000,     -999.0,          9,     -999.0,          9,-999.000,          9