BOTTLE,20220818CCHSIOAMB
EXPOCODE,SECT_ID,STNNBR,CASTNO,SAMPNO,BTLNBR,BTLNBR_FLAG_W,DATE,TIME,LATITUDE,LONGITUDE,DEPTH,CTDPRS,CTDTMP,CTDSAL,CTDSAL_FLAG_W,SALNTY,SALNTY_FLAG_W,CTDOXY,CTDOXY_FLAG_W,OXYGEN,OXYGEN_FLAG_W,SILCAT,SILCAT_FLAG_W,NITRAT,NITRAT_FLAG_W,NITRIT,NITRIT_FLAG_W,PHSPHT,PHSPHT_FLAG_W,CFC-11,CFC-11_FLAG_W,CFC-12,CFC-12_FLAG_W,CFC113,CFC113_FLAG_W,TCARBN,TCARBN_FLAG_W,ALKALI,ALKALI_FLAG_W,PCO2,PCO2_FLAG_W,PCO2TMP,PH_SWS,PH_SWS_FLAG_W,PH_TMP,TRITUM,TRITUM_FLAG_W,TRITER,HELIUM,HELIUM_FLAG_W,DELHE3,DELHE3_FLAG_W,DELC13,DELC13_FLAG_W,DELC14,DELC14_FLAG_W,C14ERR,NEON,NEON_FLAG_W,NEONER,CCL4,CCL4_FLAG_W,DOC,DOC_FLAG_W,CTDRAW,CDOM325,CDOM325_FLAG_W,CDOM340,CDOM340_FLAG_W,CDOM380,CDOM380_FLAG_W,CDOM412,CDOM412_FLAG_W,CDOMSL,CDOMSL_FLAG_W,CDOMSN,CDOMSN_FLAG_W,THETA,HELIER,DELHER,CH3CL,CH3CL_FLAG_W,CH3BR,CH3BR_FLAG_W,CH3I,CH3I_FLAG_W
,,,,,,,,,,,METERS,DBAR,ITS-90,PSS-78,,PSS-78,,UMOL/KG,,UMOL/KG,,UMOL/KG,,UMOL/KG,,UMOL/KG,,UMOL/KG,,PMOL/KG,,PMOL/KG,,PMOL/KG,,UMOL/KG,,UMOL/KG,,UATM,,DEG C,,,DEG C,TU,,TU,NMOL/KG,,PERCNT,,/MILLE,,/MILLE,,/MILLE,NMOL/KG,,NMOL/KG,PMOL/KG,,UMOL/KG,,DBAR,1/M,,1/M,,1/M,,1/M,,1/NM,,1/NM,,DEG C,NMOL/KG,PERCNT,PMOL/KG,,PMOL/KG,,PMOL/KG,
 33RO200501,       A16S,      20,          1,          7,          7,2,20050121,       1834,   -52.5008,   -35.5503,       3699,  2500.4,   0.5534,  34.6909,2,  34.6909,2,    212.5,2,   212.7,2,  117.96,2,   31.92,2,    0.00,2,    2.23,2,-999.000,9,-999.000,9,-999.000,9,  -999.0,9,  -999.0,9,  -999.0,9,   20.00,-999.0000,9,    25.00,-999.000,9, -999.00,-999.000,9,-999.000,9, -999.00,9,  -999.0,9,  -999.0,-999.000,9,-999.000,-999.000,9, -999.00,9, 2500.40,-999.0000,9,-999.0000,9,-999.0000,9,-999.0000,9,-999.0000,9,-999.0000,9,   0.4001,     -999.0,-999.000,      0.000,          2,      0.098,          2,   0.014,          2
 33RO200501,       A16S,      20,          1,          6,          6,2,20050121,       1834,   -52.5008,   -35.5503,       3699,  2700.7,   0.4388,  34.6861,2,  34.6858,2,    215.1,2,   215.2,2,  120.09,2,   32.07,2,    0.00,2,    2.24,2,-999.000,9,-999.000,9,-999.000,9,  -999.0,9,  -999.0,9,  -999.0,9,   20.00,-999.0000,9,    25.00,-999.000,9, -999.00,-999.000,9,-999.000,9, -999.00,9,  -999.0,9,  -999.0,-999.000,9,-999.000,-999.000,9, -999.00,9, 2700.70,-999.0000,9,-999.0000,9,-999.0000,9,-999.0000,9,-999.0000,9,-999.0000,9,   0.2713,     -999.0,-999.000,     -999.0,          9,     -999.0,          9,-999.000,          9
 33RO200501,       A16S,      20,          1,          5,          5,2,20050121,       1834,   -52.5008,   -35.5503,       3699,  2899.6,   0.3500,  34.6818,2,  34.6811,2,    217.3,2,   218.0,2,  122.39,2,   32.23,2,    0.00,2,    2.25,2,   0.400,2,   0.196,2,   0.017,2,  2258.0,2,  2357.2,2,  -999.0,9,   20.00,   7.6137,2,    25.00,-999.000,9, -999.00,-999.000,9,-999.000,9, -999.00,9,  -999.0,9,  -999.0,-999.000,9,-999.000,   0.530,3, -999.00,9, 2899.60,-999.0000,9,-999.0000,9,-999.0000,9,-999.0000,9,-999.0000,9,-999.0000,9,   0.1675,     -999.0,-999.000,     -999.0,          9,     -999.0,          9,-999.000,          9
 33RO200501,       A16S,      20,          1,          4,          4,2,20050121,       1834,   -52.5008,   -35.5503,       3699,  3099.7,   0.2747,  34.6782,2,  34.6858,3,    219.6,2,   219.5,2,  123.66,6,   32.40,6,    0.00,6,    2.26,6,-999.000,9,-999.000,9,-999.000,9,  -999.0,9,  -999.0,9,  -999.0,9,   20.00,-999.0000,9,    25.00,-999.000,9, -999.00,-999.000,9,-999.000,9, -999.00,9,  -999.0,9,  -999.0,-999.000,9,-999.000,-999.000,9, -999.00,9, 3099.70,-999.0000,9,-999.0000,9,-999.0000,9,-999.0000,9,-999.0000,9,-999.0000,9,   0.0763,     -999.0,-999.000,      2.463,          2,      0.386,          2,   0.009,          2
 33RO200501,       A16S,      20,          1,          3,          3,2,20050121,       1834,   -52.5008,   -35.5503,       3699,  3399.5,   0.1881,  34.6739,2,  34.6732,2,    222.3,2,   222.5,2,  124.96,6,   32.42,6,    0.00,6,    2.26,6,-999.000,9,-999.000,9,-999.000,9,  -999.0,9,  -999.0,9,  -999.0,9,   20.00,-999.0000,9,    25.00,-999.000,9, -999.00,-999.000,9,-999.000,9, -999.00,9,  -999.0,9,  -999.0,-999.000,9,-999.000,-999.000,9, -999.00,9, 3399.50,-999.0000,9,-999.0000,9,-999.0000,9,-999.0000,9,-999.0000,9,-999.0000,9,  -0.0353,     -999.0,-999.000,     -999.0,          9,     -999.0,          9,-999.000,          9
 33RO200501,       A16S,      20,          1,          2,          2,2,20050121,       1834,   -52.5008,   -35.5503,       3699,  3700.3,   0.1246,  34.6704,2,  34.6721,2,    225.2,2,   225.1,2,  125.98,6,   32.40,6,    0.00,6,    2.27,6,-999.000,9,-999.000,9,-999.000,9,  -999.0,9,  -999.0,9,  -999.0,9,   20.00,-999.0000,9,    25.00,-999.000,9, -999.00,-999.000,9,-999.000,9, -999.00,9,  -999.0,9,  -999.0,-999.000,9,-999.000,-999.000,9, -999.00,9, 3700.30,-999.0000,9,-999.0000,9,-999.0000,9,-999.0000,9,-999.0000,9,-999.0000,9,  -0.1255,     -999.0,-999.000,     -999.0,          9,     -999.0,          9,-999.000,          9
 33RO200501,       A16S,      20,          1,          1,          1,2,20050121,       1834,   -52.5008,   -35.5503,       3699,  3905.1,   0.0337,  34.6659,2,  34.6658,2,    227.8,2,   228.2,2,  130.84,6,   32.41,6,    0.01,6,    2.29,6,   0.555,2,   0.274,2,   0.021,2,  2257.8,2,  2365.0,2,  -999.0,9,   20.00,   7.6155,2,    25.00,-999.000,9, -999.00,-999.000,9,-999.000,9, -999.00,9,  -999.0,9,  -999.0,-999.000,9,-999.000,   0.727,3, -999.00,9, 3905.10,-999.0000,9,-999.0000,9,-999.0000,9,-999.0000,9,-999.0000,9,-999.0000,9,  -0.2339,     -999.0,-999.000,     16.124,          2,      0.692,          2,   0.091,          2