BOTTLE,20220818CCHSIOAMB
EXPOCODE,SECT_ID,STNNBR,CASTNO,SAMPNO,BTLNBR,BTLNBR_FLAG_W,DATE,TIME,LATITUDE,LONGITUDE,DEPTH,CTDPRS,CTDTMP,CTDSAL,CTDSAL_FLAG_W,SALNTY,SALNTY_FLAG_W,CTDOXY,CTDOXY_FLAG_W,OXYGEN,OXYGEN_FLAG_W,SILCAT,SILCAT_FLAG_W,NITRAT,NITRAT_FLAG_W,NITRIT,NITRIT_FLAG_W,PHSPHT,PHSPHT_FLAG_W,CFC-11,CFC-11_FLAG_W,CFC-12,CFC-12_FLAG_W,CFC113,CFC113_FLAG_W,TCARBN,TCARBN_FLAG_W,ALKALI,ALKALI_FLAG_W,PCO2,PCO2_FLAG_W,PCO2TMP,PH_SWS,PH_SWS_FLAG_W,PH_TMP,TRITUM,TRITUM_FLAG_W,TRITER,HELIUM,HELIUM_FLAG_W,DELHE3,DELHE3_FLAG_W,DELC13,DELC13_FLAG_W,DELC14,DELC14_FLAG_W,C14ERR,NEON,NEON_FLAG_W,NEONER,CCL4,CCL4_FLAG_W,DOC,DOC_FLAG_W,CTDRAW,CDOM325,CDOM325_FLAG_W,CDOM340,CDOM340_FLAG_W,CDOM380,CDOM380_FLAG_W,CDOM412,CDOM412_FLAG_W,CDOMSL,CDOMSL_FLAG_W,CDOMSN,CDOMSN_FLAG_W,THETA,HELIER,DELHER,CH3CL,CH3CL_FLAG_W,CH3BR,CH3BR_FLAG_W,CH3I,CH3I_FLAG_W
,,,,,,,,,,,METERS,DBAR,ITS-90,PSS-78,,PSS-78,,UMOL/KG,,UMOL/KG,,UMOL/KG,,UMOL/KG,,UMOL/KG,,UMOL/KG,,PMOL/KG,,PMOL/KG,,PMOL/KG,,UMOL/KG,,UMOL/KG,,UATM,,DEG C,,,DEG C,TU,,TU,NMOL/KG,,PERCNT,,/MILLE,,/MILLE,,/MILLE,NMOL/KG,,NMOL/KG,PMOL/KG,,UMOL/KG,,DBAR,1/M,,1/M,,1/M,,1/M,,1/NM,,1/NM,,DEG C,NMOL/KG,PERCNT,PMOL/KG,,PMOL/KG,,PMOL/KG,
 33RO200501,       A16S,      78,          1,          7,          7,2,20050208,       1802,   -23.4987,   -25.0003,       5354,  3848.8,   2.0685,  34.8547,2,  34.8552,2,    244.4,2,   244.0,2,   56.98,2,   23.40,2,    0.00,2,    1.58,2,   0.003,2,   0.008,2,   0.000,2,  -999.0,9,  -999.0,9,  -999.0,9,   20.00,-999.0000,9,    25.00,-999.000,9, -999.00,-999.000,9,-999.000,9, -999.00,9,  -999.0,9,  -999.0,-999.000,9,-999.000,   0.038,4, -999.00,9, 3848.80,-999.0000,9,-999.0000,9,-999.0000,9,-999.0000,9,-999.0000,9,-999.0000,9,   1.7494,     -999.0,-999.000,     -999.0,          9,     -999.0,          9,-999.000,          9
 33RO200501,       A16S,      78,          1,          6,          6,2,20050208,       1802,   -23.4987,   -25.0003,       5354,  4130.4,   1.6947,  34.8158,2,  34.8154,2,    237.8,2,   238.0,2,   72.14,2,   25.35,2,    0.00,2,    1.73,2,-999.000,9,-999.000,9,-999.000,9,  -999.0,9,  -999.0,9,  -999.0,9,   20.00,-999.0000,9,    25.00,-999.000,9, -999.00,-999.000,9,-999.000,9, -999.00,9,  -999.0,9,  -999.0,-999.000,9,-999.000,-999.000,9, -999.00,9, 4130.40,-999.0000,9,-999.0000,9,-999.0000,9,-999.0000,9,-999.0000,9,-999.0000,9,   1.3550,     -999.0,-999.000,      2.612,          2,      0.306,          2,   0.010,          2
 33RO200501,       A16S,      78,          1,          5,          5,2,20050208,       1802,   -23.4987,   -25.0003,       5354,  4448.9,   1.1834,  34.7632,2,  34.7633,2,    230.6,2,   231.1,2,   92.07,2,   27.90,2,    0.00,2,    1.94,2,   0.008,2,   0.006,2,   0.000,2,  2238.9,2,  2352.7,2,  -999.0,9,   20.00,   7.6588,2,    25.00,-999.000,9, -999.00,-999.000,9,-999.000,9, -999.00,9,  -999.0,9,  -999.0,-999.000,9,-999.000,   0.068,4, -999.00,9, 4448.90,-999.0000,9,-999.0000,9,-999.0000,9,-999.0000,9,-999.0000,9,-999.0000,9,   0.8236,     -999.0,-999.000,     -999.0,          9,     -999.0,          9,-999.000,          9
 33RO200501,       A16S,      78,          1,          4,          4,2,20050208,       1802,   -23.4987,   -25.0003,       5354,  4718.9,   1.0070,  34.7432,2,  34.7433,2,    227.8,2,   228.4,2,  100.05,6,   28.95,6,    0.00,6,    2.01,6,-999.000,9,-999.000,9,-999.000,9,  -999.0,9,  -999.0,9,  -999.0,9,   20.00,-999.0000,9,    25.00,-999.000,9, -999.00,-999.000,9,-999.000,9, -999.00,9,  -999.0,9,  -999.0,-999.000,9,-999.000,-999.000,9, -999.00,9, 4718.90,-999.0000,9,-999.0000,9,-999.0000,9,-999.0000,9,-999.0000,9,-999.0000,9,   0.6220,     -999.0,-999.000,      3.245,          2,      0.253,          2,   0.017,          2
 33RO200501,       A16S,      78,          1,          3,          3,2,20050208,       1802,   -23.4987,   -25.0003,       5354,  5048.8,   0.8530,  34.7239,2,  34.7242,2,    225.4,2,   225.4,2,  107.27,6,   29.81,6,    0.00,6,    2.09,6,   0.043,2,   0.026,2,   0.000,2,  -999.0,9,  -999.0,9,  -999.0,9,   20.00,-999.0000,9,    25.00,-999.000,9, -999.00,-999.000,9,-999.000,9, -999.00,9,  -999.0,9,  -999.0,-999.000,9,-999.000,   0.107,4, -999.00,9, 5048.80,-999.0000,9,-999.0000,9,-999.0000,9,-999.0000,9,-999.0000,9,-999.0000,9,   0.4347,     -999.0,-999.000,     -999.0,          9,     -999.0,          9,-999.000,          9
 33RO200501,       A16S,      78,          1,          2,          2,2,20050208,       1802,   -23.4987,   -25.0003,       5354,  5349.2,   0.7304,  34.7077,2,  34.7075,2,    223.6,2,   223.8,2,  113.11,6,   30.59,6,    0.00,6,    2.15,6,-999.000,9,-999.000,9,-999.000,9,  -999.0,9,  -999.0,9,  -999.0,9,   20.00,-999.0000,9,    25.00,-999.000,9, -999.00,-999.000,9,-999.000,9, -999.00,9,  -999.0,9,  -999.0,-999.000,9,-999.000,-999.000,9, -999.00,9, 5349.20,-999.0000,9,-999.0000,9,-999.0000,9,-999.0000,9,-999.0000,9,-999.0000,9,   0.2804,     -999.0,-999.000,      7.224,          2,      0.613,          2,   0.087,          2
 33RO200501,       A16S,      78,          1,          1,          1,2,20050208,       1802,   -23.4987,   -25.0003,       5354,  5498.3,   0.7235,  34.7051,2,  34.7056,2,    222.9,2,   222.9,2,  113.97,6,   30.71,6,    0.00,6,    2.16,6,   0.085,2,   0.045,2,   0.000,2,  2255.9,2,  2364.2,2,  -999.0,9,   20.00,   7.6198,2,    25.00,-999.000,9, -999.00,-999.000,9,-999.000,9, -999.00,9,  -999.0,9,  -999.0,-999.000,9,-999.000,   0.167,4, -999.00,9, 5498.30,-999.0000,9,-999.0000,9,-999.0000,9,-999.0000,9,-999.0000,9,-999.0000,9,   0.2555,     -999.0,-999.000,     -999.0,          9,     -999.0,          9,-999.000,          9