BOTTLE,20220818CCHSIOAMB
EXPOCODE,SECT_ID,STNNBR,CASTNO,SAMPNO,BTLNBR,BTLNBR_FLAG_W,DATE,TIME,LATITUDE,LONGITUDE,DEPTH,CTDPRS,CTDTMP,CTDSAL,CTDSAL_FLAG_W,SALNTY,SALNTY_FLAG_W,CTDOXY,CTDOXY_FLAG_W,OXYGEN,OXYGEN_FLAG_W,SILCAT,SILCAT_FLAG_W,NITRAT,NITRAT_FLAG_W,NITRIT,NITRIT_FLAG_W,PHSPHT,PHSPHT_FLAG_W,CFC-11,CFC-11_FLAG_W,CFC-12,CFC-12_FLAG_W,CFC113,CFC113_FLAG_W,TCARBN,TCARBN_FLAG_W,ALKALI,ALKALI_FLAG_W,PCO2,PCO2_FLAG_W,PCO2TMP,PH_SWS,PH_SWS_FLAG_W,PH_TMP,TRITUM,TRITUM_FLAG_W,TRITER,HELIUM,HELIUM_FLAG_W,DELHE3,DELHE3_FLAG_W,DELC13,DELC13_FLAG_W,DELC14,DELC14_FLAG_W,C14ERR,NEON,NEON_FLAG_W,NEONER,CCL4,CCL4_FLAG_W,DOC,DOC_FLAG_W,CTDRAW,CDOM325,CDOM325_FLAG_W,CDOM340,CDOM340_FLAG_W,CDOM380,CDOM380_FLAG_W,CDOM412,CDOM412_FLAG_W,CDOMSL,CDOMSL_FLAG_W,CDOMSN,CDOMSN_FLAG_W,THETA,HELIER,DELHER,CH3CL,CH3CL_FLAG_W,CH3BR,CH3BR_FLAG_W,CH3I,CH3I_FLAG_W
,,,,,,,,,,,METERS,DBAR,ITS-90,PSS-78,,PSS-78,,UMOL/KG,,UMOL/KG,,UMOL/KG,,UMOL/KG,,UMOL/KG,,UMOL/KG,,PMOL/KG,,PMOL/KG,,PMOL/KG,,UMOL/KG,,UMOL/KG,,UATM,,DEG C,,,DEG C,TU,,TU,NMOL/KG,,PERCNT,,/MILLE,,/MILLE,,/MILLE,NMOL/KG,,NMOL/KG,PMOL/KG,,UMOL/KG,,DBAR,1/M,,1/M,,1/M,,1/M,,1/NM,,1/NM,,DEG C,NMOL/KG,PERCNT,PMOL/KG,,PMOL/KG,,PMOL/KG,
 33RO200501,       A16S,     102,          1,          9,          9,5,20050216,       0211,   -11.5000,   -25.0002,       5113,  2948.5,   2.7477,  34.9181,2,-999.0000,9,   -999.0,9,  -999.0,9, -999.00,9, -999.00,9, -999.00,9, -999.00,9,-999.000,9,-999.000,9,-999.000,9,  -999.0,9,  -999.0,9,  -999.0,9,   20.00,-999.0000,9,    25.00,-999.000,9, -999.00,-999.000,9,-999.000,9, -999.00,9,  -999.0,9,  -999.0,-999.000,9,-999.000,-999.000,9, -999.00,9, 2948.50,-999.0000,9,-999.0000,9,-999.0000,9,-999.0000,9,-999.0000,9,-999.0000,9,   2.5078,     -999.0,-999.000,     -999.0,          9,     -999.0,          9,-999.000,          9
 33RO200501,       A16S,     102,          1,         10,         10,5,20050216,       0211,   -11.5000,   -25.0002,       5113,  2948.6,   2.7476,  34.9182,2,  34.9189,2,    249.0,2,   248.6,2, -999.00,9, -999.00,9, -999.00,9, -999.00,9,-999.000,9,-999.000,9,-999.000,9,  -999.0,9,  -999.0,9,  -999.0,9,   20.00,-999.0000,9,    25.00,-999.000,9, -999.00,-999.000,9,-999.000,9, -999.00,9,  -999.0,9,  -999.0,-999.000,9,-999.000,-999.000,9, -999.00,9, 2948.60,-999.0000,9,-999.0000,9,-999.0000,9,-999.0000,9,-999.0000,9,-999.0000,9,   2.5076,     -999.0,-999.000,     -999.0,          9,     -999.0,          9,-999.000,          9
 33RO200501,       A16S,     102,          1,          5,          5,2,20050216,       0211,   -11.5000,   -25.0002,       5113,  3248.7,   2.6464,  34.9143,2,  34.9134,2,    251.5,2,   251.7,2,   35.36,2,   20.61,2,    0.00,2,    1.34,2,-999.000,9,-999.000,9,-999.000,9,  2180.2,2,  2331.0,2,  -999.0,9,   20.00,   7.7273,2,    25.00,-999.000,9, -999.00,-999.000,9,-999.000,9, -999.00,9,  -999.0,9,  -999.0,-999.000,9,-999.000,-999.000,9, -999.00,9, 3248.70,-999.0000,9,-999.0000,9,-999.0000,9,-999.0000,9,-999.0000,9,-999.0000,9,   2.3774,     -999.0,-999.000,     -999.0,          9,     -999.0,          9,-999.000,          9
 33RO200501,       A16S,     102,          1,          4,          4,2,20050216,       0211,   -11.5000,   -25.0002,       5113,  3549.4,   2.4572,  34.8976,2,  34.8965,2,    250.8,2,   250.5,2,   40.83,6,   21.30,6,    0.00,6,    1.38,6,   0.033,2,   0.019,2,   0.000,2,  -999.0,9,  -999.0,9,  -999.0,9,   20.00,-999.0000,9,    25.00,-999.000,9, -999.00,-999.000,9,-999.000,9, -999.00,9,  -999.0,9,  -999.0,-999.000,9,-999.000,   0.112,4, -999.00,9, 3549.40,-999.0000,9,-999.0000,9,-999.0000,9,-999.0000,9,-999.0000,9,-999.0000,9,   2.1606,     -999.0,-999.000,      4.348,          2,      0.296,          2,   0.025,          2
 33RO200501,       A16S,     102,          1,          3,          3,2,20050216,       0211,   -11.5000,   -25.0002,       5113,  3849.3,   2.1369,  34.8660,2,  34.8654,2,    247.2,2,   247.2,2,   52.26,6,   22.66,6,    0.00,6,    1.50,6,-999.000,9,-999.000,9,-999.000,9,  2196.2,2,  2336.1,2,  -999.0,9,   20.00,   7.7235,2,    25.00,-999.000,9, -999.00,-999.000,9,-999.000,9, -999.00,9,  -999.0,9,  -999.0,-999.000,9,-999.000,-999.000,9, -999.00,9, 3849.30,-999.0000,9,-999.0000,9,-999.0000,9,-999.0000,9,-999.0000,9,-999.0000,9,   1.8159,     -999.0,-999.000,     -999.0,          9,     -999.0,          9,-999.000,          9
 33RO200501,       A16S,     102,          1,          2,          2,2,20050216,       0211,   -11.5000,   -25.0002,       5113,  4149.2,   1.5272,  34.8012,2,  34.8003,2,    235.9,2,   236.0,2,   77.76,6,   26.18,6,    0.00,6,    1.77,6,   0.005,2,   0.003,2,   0.000,2,  -999.0,9,  -999.0,9,  -999.0,9,   20.00,-999.0000,9,    25.00,-999.000,9, -999.00,-999.000,9,-999.000,9, -999.00,9,  -999.0,9,  -999.0,-999.000,9,-999.000,   0.047,4, -999.00,9, 4149.20,-999.0000,9,-999.0000,9,-999.0000,9,-999.0000,9,-999.0000,9,-999.0000,9,   1.1903,     -999.0,-999.000,     15.480,          2,      1.431,          2,   0.177,          2
 33RO200501,       A16S,     102,          1,          1,          1,2,20050216,       0211,   -11.5000,   -25.0002,       5113,  4377.1,   1.1433,  34.7615,2,  34.7634,3,    229.9,2,   230.3,2,   93.10,6,   28.14,6,    0.00,6,    1.94,6,   0.010,2,   0.006,2,   0.000,2,  2236.6,2,  2356.1,2,  -999.0,9,   20.00,   7.6559,2,    25.00,-999.000,9, -999.00,-999.000,9,-999.000,9, -999.00,9,  -999.0,9,  -999.0,-999.000,9,-999.000,   0.042,4, -999.00,9, 4377.10,-999.0000,9,-999.0000,9,-999.0000,9,-999.0000,9,-999.0000,9,-999.0000,9,   0.7927,     -999.0,-999.000,     -999.0,          9,     -999.0,          9,-999.000,          9