BOTTLE,20220818CCHSIOAMB
EXPOCODE,SECT_ID,STNNBR,CASTNO,SAMPNO,BTLNBR,BTLNBR_FLAG_W,DATE,TIME,LATITUDE,LONGITUDE,DEPTH,CTDPRS,CTDTMP,CTDSAL,CTDSAL_FLAG_W,SALNTY,SALNTY_FLAG_W,CTDOXY,CTDOXY_FLAG_W,OXYGEN,OXYGEN_FLAG_W,SILCAT,SILCAT_FLAG_W,NITRAT,NITRAT_FLAG_W,NITRIT,NITRIT_FLAG_W,PHSPHT,PHSPHT_FLAG_W,CFC-11,CFC-11_FLAG_W,CFC-12,CFC-12_FLAG_W,CFC113,CFC113_FLAG_W,TCARBN,TCARBN_FLAG_W,ALKALI,ALKALI_FLAG_W,PCO2,PCO2_FLAG_W,PCO2TMP,PH_SWS,PH_SWS_FLAG_W,PH_TMP,TRITUM,TRITUM_FLAG_W,TRITER,HELIUM,HELIUM_FLAG_W,DELHE3,DELHE3_FLAG_W,DELC13,DELC13_FLAG_W,DELC14,DELC14_FLAG_W,C14ERR,NEON,NEON_FLAG_W,NEONER,CCL4,CCL4_FLAG_W,DOC,DOC_FLAG_W,CTDRAW,CDOM325,CDOM325_FLAG_W,CDOM340,CDOM340_FLAG_W,CDOM380,CDOM380_FLAG_W,CDOM412,CDOM412_FLAG_W,CDOMSL,CDOMSL_FLAG_W,CDOMSN,CDOMSN_FLAG_W,THETA,HELIER,DELHER,CH3CL,CH3CL_FLAG_W,CH3BR,CH3BR_FLAG_W,CH3I,CH3I_FLAG_W
,,,,,,,,,,,METERS,DBAR,ITS-90,PSS-78,,PSS-78,,UMOL/KG,,UMOL/KG,,UMOL/KG,,UMOL/KG,,UMOL/KG,,UMOL/KG,,PMOL/KG,,PMOL/KG,,PMOL/KG,,UMOL/KG,,UMOL/KG,,UATM,,DEG C,,,DEG C,TU,,TU,NMOL/KG,,PERCNT,,/MILLE,,/MILLE,,/MILLE,NMOL/KG,,NMOL/KG,PMOL/KG,,UMOL/KG,,DBAR,1/M,,1/M,,1/M,,1/M,,1/NM,,1/NM,,DEG C,NMOL/KG,PERCNT,PMOL/KG,,PMOL/KG,,PMOL/KG,
 33RO200501,       A16S,      91,          1,         36,         36,2,20050212,       2021,   -17.0012,   -25.0017,       5135,     2.0,  27.0805,  37.4375,2,  37.4374,2,    200.8,2,   200.4,2,    1.07,2,    0.00,2,    0.00,2,    0.08,2,   1.484,2,   0.911,3,   0.109,2,  2100.3,6,  2437.1,2,  -999.0,9,   20.00,   8.0792,2,    25.00,-999.000,9, -999.00,-999.000,9,-999.000,9,    1.68,2,    56.0,2,     2.9,-999.000,9,-999.000,   1.165,4,   73.30,2,    2.00,-999.0000,9,-999.0000,9,-999.0000,9,-999.0000,9,-999.0000,9,-999.0000,9,  27.0800,     -999.0,-999.000,     -999.0,          9,     -999.0,          9,-999.000,          9
 33RO200501,       A16S,      91,          1,         35,         35,2,20050212,       2021,   -17.0012,   -25.0017,       5135,    23.8,  27.0242,  37.4347,2,  37.4255,2,    201.7,2,   201.1,2,    1.08,2,    0.00,2,    0.00,2,    0.08,2,   1.691,2,   1.041,3,   0.148,2,  2101.5,2,  2461.6,3,  -999.0,9,   20.00,   8.0737,6,    25.00,-999.000,9, -999.00,-999.000,9,-999.000,9, -999.00,9,  -999.0,9,  -999.0,-999.000,9,-999.000,   1.423,4,   72.65,2,   23.80,-999.0000,9,-999.0000,9,-999.0000,9,-999.0000,9,-999.0000,9,-999.0000,9,  27.0187,     -999.0,-999.000,     -999.0,          9,     -999.0,          9,-999.000,          9
 33RO200501,       A16S,      91,          1,         34,         34,2,20050212,       2021,   -17.0012,   -25.0017,       5135,    54.5,  26.1943,  37.3684,2,  37.3660,2,    208.3,2,   207.0,2,    0.97,2,    0.01,2,    0.00,2,    0.14,2,   1.644,2,   1.008,2,   0.128,2,  2106.8,2,  2482.5,3,  -999.0,9,   20.00,   8.0680,2,    25.00,-999.000,9, -999.00,-999.000,9,-999.000,9,    1.50,2,    58.7,2,     3.1,-999.000,9,-999.000,   1.199,4,   72.21,2,   54.50,-999.0000,9,-999.0000,9,-999.0000,9,-999.0000,9,-999.0000,9,-999.0000,9,  26.1820,     -999.0,-999.000,     -999.0,          9,     -999.0,          9,-999.000,          9
 33RO200501,       A16S,      91,          1,         33,         33,2,20050212,       2021,   -17.0012,   -25.0017,       5135,    84.6,  23.8134,  37.0215,2,  37.0208,2,    219.3,2,   220.2,2,    1.02,2,    0.01,2,    0.00,2,    0.16,2,-999.000,9,-999.000,9,-999.000,9,  2093.9,2,  2431.4,2,  -999.0,9,   20.00,   8.0550,2,    25.00,-999.000,9, -999.00,-999.000,9,-999.000,9, -999.00,9,  -999.0,9,  -999.0,-999.000,9,-999.000,-999.000,9,   71.22,2,   84.60,-999.0000,9,-999.0000,9,-999.0000,9,-999.0000,9,-999.0000,9,-999.0000,9,  23.7956,     -999.0,-999.000,     -999.0,          9,     -999.0,          9,-999.000,          9
 33RO200501,       A16S,      91,          1,         32,         32,2,20050212,       2021,   -17.0012,   -25.0017,       5135,   114.3,  23.1684,  36.9570,2,  36.9545,2,    212.6,2,   215.1,2,    1.06,2,    0.02,2,    0.00,2,    0.17,2,   2.089,2,   1.249,2,   0.162,2,  2102.9,2,  2429.4,2,  -999.0,9,   20.00,   8.0420,2,    25.00,-999.000,9, -999.00,-999.000,9,-999.000,9,    1.67,2,    47.3,2,     5.5,-999.000,9,-999.000,   1.198,4,   67.04,2,  114.30,-999.0000,9,-999.0000,9,-999.0000,9,-999.0000,9,-999.0000,9,-999.0000,9,  23.1447,     -999.0,-999.000,     -999.0,          9,     -999.0,          9,-999.000,          9
 33RO200501,       A16S,      91,          1,         31,         31,2,20050212,       2021,   -17.0012,   -25.0017,       5135,   163.7,  21.4966,  36.6392,2,  36.6497,2,    209.1,2,   208.8,2,    1.20,2,    0.13,2,    0.04,2,    0.19,2,-999.000,9,-999.000,9,-999.000,9,  2101.8,2,  2405.2,2,  -999.0,9,   20.00,   8.0139,2,    25.00,-999.000,9, -999.00,-999.000,9,-999.000,9,    1.50,2,    70.9,2,     3.7,-999.000,9,-999.000,-999.000,9,   59.69,2,  163.70,-999.0000,9,-999.0000,9,-999.0000,9,-999.0000,9,-999.0000,9,-999.0000,9,  21.4644,     -999.0,-999.000,     -999.0,          9,     -999.0,          9,-999.000,          9
 33RO200501,       A16S,      91,          1,         30,         30,2,20050212,       2021,   -17.0012,   -25.0017,       5135,   213.6,  17.3946,  35.8690,2,  35.8432,2,    197.6,2,   198.7,2,    2.10,2,    4.08,2,    0.02,2,    0.43,2,   2.558,2,   1.470,3,   0.087,2,  2111.0,2,  2359.7,2,  -999.0,9,   20.00,   7.9318,2,    25.00,-999.000,9, -999.00,-999.000,9,-999.000,9, -999.00,9,  -999.0,9,  -999.0,-999.000,9,-999.000,   0.622,4,   53.08,2,  213.60,-999.0000,9,-999.0000,9,-999.0000,9,-999.0000,9,-999.0000,9,-999.0000,9,  17.3586,     -999.0,-999.000,     -999.0,          9,     -999.0,          9,-999.000,          9
 33RO200501,       A16S,      91,          1,         29,         29,2,20050212,       2021,   -17.0012,   -25.0017,       5135,   264.1,  14.6708,  35.4229,2,  35.4267,2,    196.0,2,   196.7,2,    3.21,2,    8.15,2,    0.00,2,    0.64,2,   2.922,2,   1.610,3,   0.034,2,  2112.4,3,  2333.2,2,  -999.0,9,   20.00,   7.8696,2,    25.00,-999.000,9, -999.00,-999.000,9,-999.000,9,    1.13,2,    86.8,2,     3.5,-999.000,9,-999.000,   0.545,4,   49.57,2,  264.10,-999.0000,9,-999.0000,9,-999.0000,9,-999.0000,9,-999.0000,9,-999.0000,9,  14.6312,     -999.0,-999.000,     -999.0,          9,     -999.0,          9,-999.000,          9
 33RO200501,       A16S,      91,          1,         28,         28,2,20050212,       2021,   -17.0012,   -25.0017,       5135,   309.6,  12.5959,  35.1291,2,  35.1373,2,    187.6,2,   186.8,2,    5.03,2,   13.33,2,    0.00,2,    0.93,2,   2.991,2,   1.628,2,   0.037,2,  2134.2,2,  2325.2,3,  -999.0,9,   20.00,   7.8484,2,    25.00,-999.000,9, -999.00,-999.000,9,-999.000,9,    1.07,2,    62.2,2,     3.1,-999.000,9,-999.000,   0.637,4,   47.00,2,  309.60,-999.0000,9,-999.0000,9,-999.0000,9,-999.0000,9,-999.0000,9,-999.0000,9,  12.5539,     -999.0,-999.000,     -999.0,          9,     -999.0,          9,-999.000,          9
 33RO200501,       A16S,      91,          1,         27,         27,2,20050212,       2021,   -17.0012,   -25.0017,       5135,   362.8,  11.0971,  34.9491,2,  34.9583,2,    175.4,2,   174.1,2,    7.37,2,   17.92,2,    0.00,2,    1.19,2,   2.541,2,   1.355,2,   0.040,2,  2150.2,2,  2301.2,2,  -999.0,9,   20.00,   7.7452,2,    25.00,-999.000,9, -999.00,-999.000,9,-999.000,9,    1.03,2,    45.6,2,     2.9,-999.000,9,-999.000,   0.663,4,   44.62,2,  362.80,-999.0000,9,-999.0000,9,-999.0000,9,-999.0000,9,-999.0000,9,-999.0000,9,  11.0518,     -999.0,-999.000,     -999.0,          9,     -999.0,          9,-999.000,          9
 33RO200501,       A16S,      91,          1,         26,         26,2,20050212,       2021,   -17.0012,   -25.0017,       5135,   413.7,   9.8707,  34.8146,2,  34.8167,2,    167.1,2,   166.1,2,    9.98,2,   21.46,2,    0.00,2,    1.40,2,   2.240,2,   1.166,2,   0.045,2,  2163.3,2,  2295.9,2,  -999.0,9,   20.00,   7.7013,2,    25.00,-999.000,9, -999.00,-999.000,9,-999.000,9,    1.01,2,    11.9,2,     3.4,-999.000,9,-999.000,   0.768,4,   43.22,2,  413.70,-999.0000,9,-999.0000,9,-999.0000,9,-999.0000,9,-999.0000,9,-999.0000,9,   9.8226,     -999.0,-999.000,     -999.0,          9,     -999.0,          9,-999.000,          9
 33RO200501,       A16S,      91,          1,         25,         25,2,20050212,       2021,   -17.0012,   -25.0017,       5135,   462.5,   8.5811,  34.6870,2,  34.6960,2,    162.1,2,   161.6,2,   13.05,2,   24.80,2,    0.00,2,    1.60,2,   1.964,2,   0.984,2,   0.043,2,  2176.3,2,  2294.9,2,  -999.0,9,   20.00,   7.6565,2,    25.00,-999.000,9, -999.00,-999.000,9,-999.000,9,    0.96,2,     2.8,2,     2.8,-999.000,9,-999.000,   0.867,4,   41.89,2,  462.50,-999.0000,9,-999.0000,9,-999.0000,9,-999.0000,9,-999.0000,9,-999.0000,9,   8.5317,     -999.0,-999.000,     -999.0,          9,     -999.0,          9,-999.000,          9
 33RO200501,       A16S,      91,          1,         24,         24,2,20050212,       2021,   -17.0012,   -25.0017,       5135,   549.8,   6.7566,  34.5423,2,  34.5406,2,    152.4,2,   154.3,2,   19.65,2,   29.95,2,    0.00,2,    1.92,2,   1.057,2,   0.508,2,   0.015,2,  2196.0,2,  2293.0,2,  -999.0,9,   20.00,   7.6002,2,    25.00,-999.000,9, -999.00,-999.000,9,-999.000,9,    0.93,2,   -39.3,2,     2.3,-999.000,9,-999.000,   0.680,4, -999.00,9,  549.80,-999.0000,9,-999.0000,9,-999.0000,9,-999.0000,9,-999.0000,9,-999.0000,9,   6.7052,     -999.0,-999.000,     -999.0,          9,     -999.0,          9,-999.000,          9
 33RO200501,       A16S,      91,          1,         23,         23,2,20050212,       2021,   -17.0012,   -25.0017,       5135,   648.5,   5.2988,  34.4579,2,  34.4572,2,    159.4,2,   160.9,2,   26.20,2,   32.19,2,    0.00,2,    2.07,2,   0.463,2,   0.225,2,   0.009,2,  2206.3,2,  2297.4,2,  -999.0,9,   20.00,   7.5774,2,    25.00,-999.000,9, -999.00,-999.000,9,-999.000,9,    0.97,2,   -85.0,2,     2.7,-999.000,9,-999.000,   0.527,4,   40.19,2,  648.50,-999.0000,9,-999.0000,9,-999.0000,9,-999.0000,9,-999.0000,9,-999.0000,9,   5.2450,     -999.0,-999.000,     -999.0,          9,     -999.0,          9,-999.000,          9
 33RO200501,       A16S,      91,          1,         22,         22,2,20050212,       2021,   -17.0012,   -25.0017,       5135,   748.9,   4.4337,  34.4235,2,  34.4266,2,    173.1,2,   175.6,2,   31.61,2,   32.33,2,    0.00,2,    2.10,2,   0.368,2,   0.178,2,   0.007,2,  2204.7,2,  2300.1,2,  -999.0,9,   20.00,   7.5842,2,    25.00,-999.000,9, -999.00,-999.000,9,-999.000,9,    0.96,2,  -112.8,2,     3.8,-999.000,9,-999.000,   0.534,4, -999.00,9,  748.90,-999.0000,9,-999.0000,9,-999.0000,9,-999.0000,9,-999.0000,9,-999.0000,9,   4.3760,     -999.0,-999.000,     -999.0,          9,     -999.0,          9,-999.000,          9
 33RO200501,       A16S,      91,          1,         21,         21,2,20050212,       2021,   -17.0012,   -25.0017,       5135,   848.7,   3.9075,  34.4351,2,  34.4348,2,    182.6,2,   183.5,2,   36.75,2,   32.15,2,    0.00,2,    2.10,2,   0.302,2,   0.140,2,   0.009,2,  2209.3,2,  2305.0,2,  -999.0,9,   20.00,   7.5918,2,    25.00,-999.000,9, -999.00,-999.000,9,-999.000,9,    0.95,2,  -113.0,2,     3.6,-999.000,9,-999.000,   0.501,4,   39.51,2,  848.70,-999.0000,9,-999.0000,9,-999.0000,9,-999.0000,9,-999.0000,9,-999.0000,9,   3.8450,     -999.0,-999.000,     -999.0,          9,     -999.0,          9,-999.000,          9
 33RO200501,       A16S,      91,          1,         20,         20,2,20050212,       2021,   -17.0012,   -25.0017,       5135,   949.5,   3.7185,  34.4917,2,  34.4937,2,    183.6,2,   183.1,2,   39.35,6,   31.83,6,    0.00,6,    2.09,6,   0.176,2,   0.088,2,   0.009,2,  2212.4,6,  2309.6,2,  -999.0,9,   20.00,   7.5930,2,    25.00,-999.000,9, -999.00,-999.000,9,-999.000,9,    0.91,2,  -113.8,2,     4.1,-999.000,9,-999.000,   0.338,4, -999.00,9,  949.50,-999.0000,9,-999.0000,9,-999.0000,9,-999.0000,9,-999.0000,9,-999.0000,9,   3.6491,     -999.0,-999.000,     -999.0,          9,     -999.0,          9,-999.000,          9
 33RO200501,       A16S,      91,          1,         19,         19,2,20050212,       2021,   -17.0012,   -25.0017,       5135,  1047.8,   3.7609,  34.5923,2,  34.5907,2,    183.9,2,   182.8,2,   37.66,2,   30.72,2,    0.00,2,    2.01,2,   0.082,2,   0.040,2,   0.007,2,  2213.1,2,  2310.2,6,  -999.0,9,   20.00,   7.6034,6,    25.00,-999.000,9, -999.00,-999.000,9,-999.000,9, -999.00,9,  -999.0,9,  -999.0,-999.000,9,-999.000,   0.187,4,   39.09,2, 1047.80,-999.0000,9,-999.0000,9,-999.0000,9,-999.0000,9,-999.0000,9,-999.0000,9,   3.6830,     -999.0,-999.000,     -999.0,          9,     -999.0,          9,-999.000,          9
 33RO200501,       A16S,      91,          1,         18,         18,2,20050212,       2021,   -17.0012,   -25.0017,       5135,  1148.0,   3.9406,  34.7028,2,  34.7037,2,    186.6,2,   186.6,2,   32.79,2,   28.97,2,    0.00,2,    1.88,2,   0.028,2,   0.015,2,   0.005,2,  2206.7,2,  2309.1,2,  -999.0,9,   20.00,   7.6208,2,    25.00,-999.000,9, -999.00,-999.000,9,-999.000,9,    0.91,2,  -124.7,2,     4.1,-999.000,9,-999.000,   0.087,4, -999.00,9, 1148.00,-999.0000,9,-999.0000,9,-999.0000,9,-999.0000,9,-999.0000,9,-999.0000,9,   3.8526,     -999.0,-999.000,     -999.0,          9,     -999.0,          9,-999.000,          9
 33RO200501,       A16S,      91,          1,         17,         17,2,20050212,       2021,   -17.0012,   -25.0017,       5135,  1248.6,   4.0573,  34.7885,2,  34.7873,2,    194.1,2,   194.4,2,   28.86,2,   27.08,2,    0.00,2,    1.74,2,   0.028,2,   0.015,2,   0.005,2,  2199.8,2,  2310.7,2,  -999.0,9,   20.00,   7.6423,2,    25.00,-999.000,9, -999.00,-999.000,9,-999.000,9, -999.00,9,  -999.0,9,  -999.0,-999.000,9,-999.000,   0.083,4,   39.14,2, 1248.60,-999.0000,9,-999.0000,9,-999.0000,9,-999.0000,9,-999.0000,9,-999.0000,9,   3.9594,     -999.0,-999.000,     -999.0,          9,     -999.0,          9,-999.000,          9
 33RO200501,       A16S,      91,          1,         16,         16,2,20050212,       2021,   -17.0012,   -25.0017,       5135,  1399.4,   3.9895,  34.8672,2,  34.8671,2,    209.4,2,   211.3,2,   25.82,2,   24.45,2,    0.00,2,    1.56,2,   0.045,2,   0.023,2,   0.000,2,  2189.3,2,  2314.3,2,  -999.0,9,   20.00,   7.6732,2,    25.00,-999.000,9, -999.00,-999.000,9,-999.000,9,    0.99,2,  -106.9,2,     4.6,-999.000,9,-999.000,   0.126,4, -999.00,9, 1399.40,-999.0000,9,-999.0000,9,-999.0000,9,-999.0000,9,-999.0000,9,-999.0000,9,   3.8787,     -999.0,-999.000,     -999.0,          9,     -999.0,          9,-999.000,          9
 33RO200501,       A16S,      91,          1,         15,         15,2,20050212,       2021,   -17.0012,   -25.0017,       5135,  1599.4,   3.6850,  34.9040,2,  34.9037,2,    227.4,2,   227.3,2,   25.87,2,   22.68,2,    0.00,2,    1.44,2,   0.037,2,   0.019,2,   0.003,2,  2182.1,2,  2315.7,2,  -999.0,9,   20.00,   7.6980,2,    25.00,-999.000,9, -999.00,-999.000,9,-999.000,9, -999.00,9,  -999.0,9,  -999.0,-999.000,9,-999.000,   0.116,4,   39.30,2, 1599.40,-999.0000,9,-999.0000,9,-999.0000,9,-999.0000,9,-999.0000,9,-999.0000,9,   3.5597,     -999.0,-999.000,     -999.0,          9,     -999.0,          9,-999.000,          9
 33RO200501,       A16S,      91,          1,         14,         14,2,20050212,       2021,   -17.0012,   -25.0017,       5135,  1799.0,   3.3583,  34.9198,2,  34.9192,2,    238.3,2,   238.1,2,   27.58,2,   21.54,2,    0.00,2,    1.38,2,   0.021,2,   0.011,2,   0.004,2,  2178.7,2,  2317.1,2,  -999.0,9,   20.00,   7.7151,2,    25.00,-999.000,9, -999.00,-999.000,9,-999.000,9, -999.00,9,  -999.0,9,  -999.0,-999.000,9,-999.000,   0.086,4, -999.00,9, 1799.00,-999.0000,9,-999.0000,9,-999.0000,9,-999.0000,9,-999.0000,9,-999.0000,9,   3.2190,     -999.0,-999.000,     -999.0,          9,     -999.0,          9,-999.000,          9
 33RO200501,       A16S,      91,          1,         13,         13,2,20050212,       2021,   -17.0012,   -25.0017,       5135,  1999.2,   3.1254,  34.9179,2,  34.9177,2,    242.7,2,   241.8,2,   30.65,2,   21.47,2,    0.00,2,    1.38,2,   0.014,2,   0.007,2,   0.004,2,  2179.1,2,  2323.1,2,  -999.0,9,   20.00,   7.7185,2,    25.00,-999.000,9, -999.00,-999.000,9,-999.000,9, -999.00,9,  -999.0,9,  -999.0,-999.000,9,-999.000,   0.057,4,   39.14,2, 1999.20,-999.0000,9,-999.0000,9,-999.0000,9,-999.0000,9,-999.0000,9,-999.0000,9,   2.9711,     -999.0,-999.000,     -999.0,          9,     -999.0,          9,-999.000,          9
 33RO200501,       A16S,      91,          1,         12,         12,2,20050212,       2021,   -17.0012,   -25.0017,       5135,  2199.0,   2.9448,  34.9094,2,  34.9094,2,    241.6,2,   241.3,2,   34.52,2,   21.74,2,    0.00,2,    1.41,2,   0.005,2,   0.001,2,   0.004,2,  2183.6,2,  2324.7,2,  -999.0,9,   20.00,   7.7176,2,    25.00,-999.000,9, -999.00,-999.000,9,-999.000,9, -999.00,9,  -999.0,9,  -999.0,-999.000,9,-999.000,   0.032,4, -999.00,9, 2199.00,-999.0000,9,-999.0000,9,-999.0000,9,-999.0000,9,-999.0000,9,-999.0000,9,   2.7748,     -999.0,-999.000,     -999.0,          9,     -999.0,          9,-999.000,          9
 33RO200501,       A16S,      91,          1,         11,         11,2,20050212,       2021,   -17.0012,   -25.0017,       5135,  2398.6,   2.8398,  34.9057,2,  34.9061,2,    241.9,2,   241.7,2,   36.73,2,   21.85,2,    0.00,2,    1.42,2,   0.010,2,   0.002,2,   0.000,2,  2185.2,2,  2329.0,2,  -999.0,9,   20.00,   7.7161,2,    25.00,-999.000,9, -999.00,-999.000,9,-999.000,9, -999.00,9,  -999.0,9,  -999.0,-999.000,9,-999.000,   0.022,4,   39.28,2, 2398.60,-999.0000,9,-999.0000,9,-999.0000,9,-999.0000,9,-999.0000,9,-999.0000,9,   2.6527,     -999.0,-999.000,     -999.0,          9,     -999.0,          9,-999.000,          9
 33RO200501,       A16S,      91,          1,         10,         10,2,20050212,       2021,   -17.0012,   -25.0017,       5135,  2599.9,   2.7579,  34.9019,2,  34.9020,2,    241.8,2,   241.7,2,   38.78,2,   21.98,2,    0.00,2,    1.43,2,  -0.003,2,   0.004,2,   0.000,2,  2188.0,2,  2335.3,2,  -999.0,9,   20.00,   7.7228,2,    25.00,-999.000,9, -999.00,-999.000,9,-999.000,9, -999.00,9,  -999.0,9,  -999.0,-999.000,9,-999.000,   0.019,4, -999.00,9, 2599.90,-999.0000,9,-999.0000,9,-999.0000,9,-999.0000,9,-999.0000,9,-999.0000,9,   2.5528,     -999.0,-999.000,     -999.0,          9,     -999.0,          9,-999.000,          9
 33RO200501,       A16S,      91,          1,          9,          9,2,20050212,       2021,   -17.0012,   -25.0017,       5135,  2798.7,   2.7060,  34.9010,2,  34.9031,2,    242.3,2,   242.4,2,   39.71,2,   21.98,2,    0.00,2,    1.43,2,-999.000,9,-999.000,9,-999.000,9,  2187.9,2,  2333.3,2,  -999.0,9,   20.00,   7.7186,2,    25.00,-999.000,9, -999.00,-999.000,9,-999.000,9, -999.00,9,  -999.0,9,  -999.0,-999.000,9,-999.000,-999.000,9,   39.06,2, 2798.70,-999.0000,9,-999.0000,9,-999.0000,9,-999.0000,9,-999.0000,9,-999.0000,9,   2.4823,     -999.0,-999.000,     -999.0,          9,     -999.0,          9,-999.000,          9
 33RO200501,       A16S,      91,          1,          8,          8,2,20050212,       2021,   -17.0012,   -25.0017,       5135,  3039.0,   2.6692,  34.9017,2,  34.9020,2,    243.5,2,   244.0,2,   39.96,2,   21.85,2,    0.00,2,    1.42,2,   0.008,2,   0.001,2,   0.001,2,  2189.6,2,  2332.3,2,  -999.0,9,   20.00,   7.7206,2,    25.00,-999.000,9, -999.00,-999.000,9,-999.000,9, -999.00,9,  -999.0,9,  -999.0,-999.000,9,-999.000,   0.025,4, -999.00,9, 3039.00,-999.0000,9,-999.0000,9,-999.0000,9,-999.0000,9,-999.0000,9,-999.0000,9,   2.4217,     -999.0,-999.000,     -999.0,          9,     -999.0,          9,-999.000,          9