BOTTLE,20220818CCHSIOAMB
EXPOCODE,SECT_ID,STNNBR,CASTNO,SAMPNO,BTLNBR,BTLNBR_FLAG_W,DATE,TIME,LATITUDE,LONGITUDE,DEPTH,CTDPRS,CTDTMP,CTDSAL,CTDSAL_FLAG_W,SALNTY,SALNTY_FLAG_W,CTDOXY,CTDOXY_FLAG_W,OXYGEN,OXYGEN_FLAG_W,SILCAT,SILCAT_FLAG_W,NITRAT,NITRAT_FLAG_W,NITRIT,NITRIT_FLAG_W,PHSPHT,PHSPHT_FLAG_W,CFC-11,CFC-11_FLAG_W,CFC-12,CFC-12_FLAG_W,CFC113,CFC113_FLAG_W,TCARBN,TCARBN_FLAG_W,ALKALI,ALKALI_FLAG_W,PCO2,PCO2_FLAG_W,PCO2TMP,PH_SWS,PH_SWS_FLAG_W,PH_TMP,TRITUM,TRITUM_FLAG_W,TRITER,HELIUM,HELIUM_FLAG_W,DELHE3,DELHE3_FLAG_W,DELC13,DELC13_FLAG_W,DELC14,DELC14_FLAG_W,C14ERR,NEON,NEON_FLAG_W,NEONER,CCL4,CCL4_FLAG_W,DOC,DOC_FLAG_W,CTDRAW,CDOM325,CDOM325_FLAG_W,CDOM340,CDOM340_FLAG_W,CDOM380,CDOM380_FLAG_W,CDOM412,CDOM412_FLAG_W,CDOMSL,CDOMSL_FLAG_W,CDOMSN,CDOMSN_FLAG_W,THETA,HELIER,DELHER,CH3CL,CH3CL_FLAG_W,CH3BR,CH3BR_FLAG_W,CH3I,CH3I_FLAG_W
,,,,,,,,,,,METERS,DBAR,ITS-90,PSS-78,,PSS-78,,UMOL/KG,,UMOL/KG,,UMOL/KG,,UMOL/KG,,UMOL/KG,,UMOL/KG,,PMOL/KG,,PMOL/KG,,PMOL/KG,,UMOL/KG,,UMOL/KG,,UATM,,DEG C,,,DEG C,TU,,TU,NMOL/KG,,PERCNT,,/MILLE,,/MILLE,,/MILLE,NMOL/KG,,NMOL/KG,PMOL/KG,,UMOL/KG,,DBAR,1/M,,1/M,,1/M,,1/M,,1/NM,,1/NM,,DEG C,NMOL/KG,PERCNT,PMOL/KG,,PMOL/KG,,PMOL/KG,
 33RO200501,       A16S,      97,          1,         36,         36,2,20050214,       1351,   -14.0007,   -25.0005,       5851,     2.5,  27.3879,  36.9442,2,  36.9447,2,    199.6,2,   199.4,2,    0.88,2,    0.00,2,    0.00,2,    0.05,2,   1.627,2,   1.042,2,   0.131,2,  2070.9,6,  2423.1,2,   296.9,2,   20.00,   8.0819,2,    25.00,   0.454,2,    0.01,   1.677,2,  -1.930,2,    1.67,2,    52.0,2,     3.0,   6.532,2,   0.006,   1.408,4,   73.38,2,    2.50,   0.0620,2,   0.0440,2,   0.0230,2,   0.0140,2,   0.0201,2,   0.0208,2,  27.3873,      0.002,   0.207,     -999.0,          9,     -999.0,          9,-999.000,          9
 33RO200501,       A16S,      97,          1,         35,         35,2,20050214,       1351,   -14.0007,   -25.0005,       5851,    23.5,  27.3478,  36.9415,2,  36.9785,2,    200.0,2,   200.5,2,    0.88,2,    0.00,2,    0.00,2,    0.05,2,   1.644,2,   1.061,2,   0.132,2,  2074.2,2,  2426.3,6,  -999.0,9,   20.00,   8.0823,6,    25.00,   0.472,2,    0.01,   1.686,2,  -2.200,2, -999.00,9,  -999.0,9,  -999.0,   6.582,2,   0.006,   1.410,4,   73.50,2,   23.50,   0.0970,2,   0.0760,2,   0.0380,2,   0.0230,2,   0.0170,2,   0.0164,2,  27.3423,      0.002,   0.215,     -999.0,          9,     -999.0,          9,-999.000,          9
 33RO200501,       A16S,      97,          1,         34,         34,2,20050214,       1351,   -14.0007,   -25.0005,       5851,    48.6,  25.6702,  37.1243,2,  37.1187,2,    211.8,2,   212.3,2,    0.88,2,    0.00,2,    0.00,2,    0.12,2,-999.000,9,-999.000,9,-999.000,9,  2091.2,2,  2436.1,3,   311.8,2,   20.00,   8.0614,2,    25.00,-999.000,9, -999.00,-999.000,9,-999.000,9,    1.66,2,    58.5,2,     3.6,-999.000,9,-999.000,-999.000,9,   72.77,2,   48.60,   0.0980,2,   0.0740,2,   0.0380,2,   0.0230,2,   0.0168,2,   0.0170,2,  25.6593,     -999.0,-999.000,     -999.0,          9,     -999.0,          9,-999.000,          9
 33RO200501,       A16S,      97,          1,         33,         33,2,20050214,       1351,   -14.0007,   -25.0005,       5851,    74.1,  23.8375,  37.0356,2,  37.0383,2,    218.5,2,   218.9,2,    0.88,2,    0.00,2,    0.00,2,    0.14,2,   1.921,2,   1.220,2,   0.153,2,  2091.8,2,  2429.5,2,  -999.0,9,   20.00,   8.0607,2,    25.00,   0.570,2,    0.01,   1.709,2,  -2.050,2, -999.00,9,  -999.0,9,  -999.0,   6.764,2,   0.006,   1.265,4,   71.08,2,   74.10,-999.0000,9,-999.0000,9,-999.0000,9,-999.0000,9,-999.0000,9,-999.0000,9,  23.8218,      0.002,   0.212,     -999.0,          9,     -999.0,          9,-999.000,          9
 33RO200501,       A16S,      97,          1,         32,         32,2,20050214,       1351,   -14.0007,   -25.0005,       5851,    98.2,  23.3112,  37.0005,2,  36.9952,2,    215.1,2,   215.6,2,    0.88,2,    0.00,2,    0.00,2,    0.16,2,   1.941,2,   1.228,2,   0.155,2,  2097.8,2,  2428.6,2,   329.1,2,   20.00,   8.0486,2,    25.00,   0.561,2,    0.01,   1.703,2,  -1.920,2,    1.62,2,    59.1,2,     3.4,   6.773,2,   0.007,   1.182,4,   68.35,2,   98.20,   0.1550,2,   0.1130,2,   0.0600,2,   0.0370,2,   0.0158,2,   0.0169,2,  23.2907,      0.002,   0.206,     -999.0,          9,     -999.0,          9,-999.000,          9
 33RO200501,       A16S,      97,          1,         31,         31,2,20050214,       1351,   -14.0007,   -25.0005,       5851,   149.1,  20.9156,  36.5274,2,  36.4894,2,    195.9,2,   193.7,2,    1.37,2,    2.05,2,    0.14,2,    0.35,2,   2.159,2,   1.316,2,   0.131,2,  2113.9,2,  2396.1,2,   398.6,2,   20.00,   7.9765,2,    25.00,-999.000,9, -999.00,-999.000,9,-999.000,9, -999.00,9,  -999.0,9,  -999.0,-999.000,9,-999.000,   0.822,4,   60.51,2,  149.10,-999.0000,9,-999.0000,9,-999.0000,9,-999.0000,9,-999.0000,9,-999.0000,9,  20.8869,     -999.0,-999.000,     -999.0,          9,     -999.0,          9,-999.000,          9
 33RO200501,       A16S,      97,          1,         30,         30,2,20050214,       1351,   -14.0007,   -25.0005,       5851,   198.6,  16.3781,  35.7293,2,  35.7140,2,    172.7,2,   172.6,2,    3.22,2,    9.37,2,    0.01,2,    0.73,2,   2.471,2,   1.438,2,   0.056,2,  2131.6,2,  2343.8,2,  -999.0,9,   20.00,   7.8666,2,    25.00,   0.544,2,    0.01,   1.749,2,  -1.050,2,    0.72,3,    54.7,2,     3.0,   7.112,2,   6.973,   0.509,4,   55.87,2,  198.60,-999.0000,9,-999.0000,9,-999.0000,9,-999.0000,9,-999.0000,9,-999.0000,9,  16.3460,      0.549,   0.210,     -999.0,          9,     -999.0,          9,-999.000,          9
 33RO200501,       A16S,      97,          1,         29,         29,2,20050214,       1351,   -14.0007,   -25.0005,       5851,   248.1,  13.6075,  35.3206,2,  35.3361,2,    147.6,2,   151.5,2,    5.37,2,   15.62,2,    0.01,2,    1.05,2,   2.394,2,   1.326,2,   0.028,2,  2152.1,2,  2321.2,2,   675.0,2,   20.00,   7.7729,2,    25.00,-999.000,9, -999.00,-999.000,9,-999.000,9, -999.00,9,  -999.0,9,  -999.0,-999.000,9,-999.000,   0.438,4,   50.12,2,  248.10,-999.0000,9,-999.0000,9,-999.0000,9,-999.0000,9,-999.0000,9,-999.0000,9,  13.5721,     -999.0,-999.000,     -999.0,          9,     -999.0,          9,-999.000,          9
 33RO200501,       A16S,      97,          1,         28,         28,2,20050214,       1351,   -14.0007,   -25.0005,       5851,   297.9,  11.4020,  35.0315,2,  35.0318,2,    132.8,2,   131.4,2,    8.79,2,   22.07,2,    0.00,2,    1.41,2,   1.968,2,   1.053,2,   0.022,2,  2175.6,2,  2308.0,2,  -999.0,9,   20.00,   7.6801,2,    25.00,   0.266,2,    0.01,   1.761,2,   0.530,2,    0.80,2,    29.2,2,     2.8,   7.392,2,   0.007,   0.470,4,   45.65,2,  297.90,   0.1490,2,   0.1110,2,   0.0620,2,   0.0430,2,   0.0137,2,   0.0148,2,  11.3643,      0.002,   0.213,     -999.0,          9,     -999.0,          9,-999.000,          9
 33RO200501,       A16S,      97,          1,         27,         27,2,20050214,       1351,   -14.0007,   -25.0005,       5851,   399.4,   8.9226,  34.7756,2,  34.7707,2,    117.2,2,   113.8,2,   14.65,2,   29.11,2,    0.00,2,    1.82,2,   0.949,2,   0.491,2,   0.006,2,  2200.6,2,  2298.8,2,  1072.0,2,   20.00,   7.5888,2,    25.00,-999.000,9, -999.00,-999.000,9,-999.000,9,    0.76,2,   -22.2,2,     2.7,-999.000,9,-999.000,   0.377,4,   43.11,2,  399.40,-999.0000,9,-999.0000,9,-999.0000,9,-999.0000,9,-999.0000,9,-999.0000,9,   8.8790,     -999.0,-999.000,     -999.0,          9,     -999.0,          9,-999.000,          9
 33RO200501,       A16S,      97,          1,         26,         26,2,20050214,       1351,   -14.0007,   -25.0005,       5851,   500.2,   6.6585,  34.5589,2,  34.5567,2,    141.4,2,   143.9,2,   20.13,2,   31.27,2,    0.00,2,    1.97,2,   0.645,2,   0.321,2,   0.009,2,  2200.7,2,  2294.3,2,  1090.0,2,   20.00,   7.5832,2,    25.00,   0.035,2,    0.00,   1.777,2,   1.490,2,    0.88,2,   -48.3,2,     3.0,   7.626,2,   0.008,   0.554,4,   41.53,2,  500.20,   0.1650,2,   0.1220,2,   0.0680,2,   0.0470,2,   0.0137,2,   0.0148,2,   6.6122,      0.002,   0.224,     -999.0,          9,     -999.0,          9,-999.000,          9
 33RO200501,       A16S,      97,          1,         25,         25,2,20050214,       1351,   -14.0007,   -25.0005,       5851,   599.2,   5.3409,  34.4576,2,  34.4603,2,    160.4,2,   161.6,2,   25.21,2,   32.34,2,    0.00,2,    2.06,2,   0.518,2,   0.264,2,   0.008,2,  2201.6,2,  2294.4,2,  1095.7,2,   20.00,   7.5814,2,    25.00,-999.000,9, -999.00,-999.000,9,-999.000,9,    0.93,2,   -73.9,2,     2.6,-999.000,9,-999.000,   0.626,4,   40.32,2,  599.20,-999.0000,9,-999.0000,9,-999.0000,9,-999.0000,9,-999.0000,9,-999.0000,9,   5.2912,     -999.0,-999.000,     -999.0,          9,     -999.0,          9,-999.000,          9
 33RO200501,       A16S,      97,          1,         24,         24,2,20050214,       1351,   -14.0007,   -25.0005,       5851,   699.3,   4.7354,  34.4396,2,  34.4403,2,    163.9,2,   164.6,2,   29.61,2,   33.13,2,    0.00,2,    2.13,2,   0.352,2,   0.173,2,   0.007,2,  2207.6,2,  2298.4,2,  1120.4,2,   20.00,   7.5758,2,    25.00,   0.000,2,    0.00,   1.794,2,   1.490,2,    0.96,2,   -98.7,2,     2.8,   7.761,2,   0.007,   0.507,4, -999.00,9,  699.30,   0.1090,3,   0.0710,3,   0.0310,3,   0.0210,3,   0.0230,3,   0.0249,3,   4.6801,      0.002,   0.207,     -999.0,          9,     -999.0,          9,-999.000,          9
 33RO200501,       A16S,      97,          1,         23,         23,2,20050214,       1351,   -14.0007,   -25.0005,       5851,   798.1,   4.3673,  34.4460,2,  34.4464,2,    166.3,2,   165.4,2,   32.83,2,   33.32,2,    0.00,2,    2.15,2,   0.224,2,   0.110,2,   0.005,2,  2210.6,2,  2301.6,2,  1125.3,2,   20.00,   7.5746,2,    25.00,   0.001,2,    0.00,   1.774,2,   2.240,2,    0.91,2,  -101.8,2,     3.0,   7.702,2,   0.007,   0.390,4,   39.90,2,  798.10,-999.0000,9,-999.0000,9,-999.0000,9,-999.0000,9,-999.0000,9,-999.0000,9,   4.3059,      0.002,   0.208,     -999.0,          9,     -999.0,          9,-999.000,          9
 33RO200501,       A16S,      97,          1,         22,         22,2,20050214,       1351,   -14.0007,   -25.0005,       5851,   889.1,   4.1402,  34.4674,2,  34.4664,2,    168.4,2,   168.0,2,   34.89,2,   33.22,2,    0.00,2,    2.15,2,   0.153,2,   0.079,2,   0.001,2,  2213.0,2,  2303.6,2,  1119.3,2,   20.00,   7.5723,2,    25.00,   0.034,2,    0.00,   1.799,2,   1.860,2,    0.89,2,  -108.0,2,     3.0,   7.795,2,   0.007,   0.301,4, -999.00,9,  889.10,   0.1570,2,   0.1170,2,   0.0690,2,   0.0480,2,   0.0129,2,   0.0138,2,   4.0727,      0.002,   0.213,     -999.0,          9,     -999.0,          9,-999.000,          9
 33RO200501,       A16S,      97,          1,         21,         21,2,20050214,       1351,   -14.0007,   -25.0005,       5851,   999.2,   3.9398,  34.5300,2,  34.5301,2,    171.4,2,   171.1,2,   36.45,2,   32.54,2,    0.00,2,    2.11,2,   0.065,2,   0.037,2,   0.000,2,  2214.9,6,  2305.7,2,  1100.7,2,   20.00,   7.5809,2,    25.00,   0.020,2,    0.01,   1.803,2,   1.860,2,    0.87,2,  -118.8,2,     3.1,   7.720,2,   0.011,   0.171,4,   38.92,2,  999.20,-999.0000,9,-999.0000,9,-999.0000,9,-999.0000,9,-999.0000,9,-999.0000,9,   3.8646,      0.001,   0.221,     -999.0,          9,     -999.0,          9,-999.000,          9
 33RO200501,       A16S,      97,          1,         20,         20,2,20050214,       1351,   -14.0007,   -25.0005,       5851,  1098.5,   3.9172,  34.6050,2,  34.6041,2,    174.4,2,   174.4,2,   35.47,6,   31.36,6,    0.00,6,    2.03,6,   0.023,2,   0.014,2,   0.002,2,  2212.3,2,  2308.9,2,  1067.1,2,   20.00,   7.5938,2,    25.00,   0.001,2,    0.01,   1.796,2,   2.680,2,    0.86,2,  -119.1,2,     3.0,   7.787,2,   5.755,   0.085,4, -999.00,9, 1098.50,   0.1900,2,   0.1430,2,   0.0780,2,   0.0520,2,   0.0144,2,   0.0152,2,   3.8338,      1.264,   0.206,     -999.0,          9,     -999.0,          9,-999.000,          9
 33RO200501,       A16S,      97,          1,         19,         19,2,20050214,       1351,   -14.0007,   -25.0005,       5851,  1299.2,   4.0667,  34.7741,2,  34.7741,2,    189.8,2,   191.7,2,   29.11,2,   27.65,2,    0.00,2,    1.77,2,   0.020,6,   0.010,6,   0.001,6,  2199.5,2,  2313.1,6,   950.5,2,   20.00,   7.6360,6,    25.00,   0.001,2,    0.01,   1.798,2,   1.760,2,    0.87,2,  -101.3,2,     3.6,   7.792,2,   0.008,   0.072,4,   39.45,2, 1299.20,-999.0000,9,-999.0000,9,-999.0000,9,-999.0000,9,-999.0000,9,-999.0000,9,   3.9643,      0.002,   0.209,     -999.0,          9,     -999.0,          9,-999.000,          9
 33RO200501,       A16S,      97,          1,         18,         18,2,20050214,       1351,   -14.0007,   -25.0005,       5851,  1498.4,   4.0617,  34.8985,2,  34.8992,2,    215.2,2,   216.8,2,   23.25,2,   23.64,2,    0.00,2,    1.49,2,   0.043,2,   0.025,2,   0.000,2,  2182.8,2,  2314.7,2,   846.8,2,   20.00,   7.6825,2,    25.00,   0.024,2,    0.00,   1.830,2,   1.610,2,    1.01,2,   -87.6,2,     3.0,   8.011,2,   0.008,   0.139,4, -999.00,9, 1498.40,-999.0000,9,-999.0000,9,-999.0000,9,-999.0000,9,-999.0000,9,-999.0000,9,   3.9411,      0.001,   0.216,     -999.0,          9,     -999.0,          9,-999.000,          9
 33RO200501,       A16S,      97,          1,         17,         17,2,20050214,       1351,   -14.0007,   -25.0005,       5851,  1698.4,   3.7573,  34.9388,2,  34.9401,2,    234.5,2,   235.7,2,   22.47,2,   21.49,2,    0.00,2,    1.34,2,   0.058,2,   0.031,2,   0.000,2,  2173.7,2,  2316.8,2,   787.3,2,   20.00,   7.7135,2,    25.00,   0.025,2,    0.01,   1.826,2,   2.830,2,    1.05,2,   -85.3,2,     2.5,   7.994,2,   0.008,   0.179,4,   39.87,2, 1698.40,-999.0000,9,-999.0000,9,-999.0000,9,-999.0000,9,-999.0000,9,-999.0000,9,   3.6219,      0.001,   0.224,     -999.0,          9,     -999.0,          9,-999.000,          9
 33RO200501,       A16S,      97,          1,         16,         16,2,20050214,       1351,   -14.0007,   -25.0005,       5851,  1899.0,   3.4134,  34.9367,2,  34.9362,2,    242.2,2,   240.6,2,   25.40,2,   21.00,2,    0.00,2,    1.33,2,   0.029,2,   0.014,2,   0.000,2,  2173.9,2,  2320.6,2,   771.5,2,   20.00,   7.7199,2,    25.00,   0.068,2,    0.01,-999.000,9,-999.000,9,    0.83,3,   -91.9,2,     3.0,-999.000,9,-999.000,   0.118,4, -999.00,9, 1899.00,-999.0000,9,-999.0000,9,-999.0000,9,-999.0000,9,-999.0000,9,-999.0000,9,   3.2641,     -999.0,-999.000,     -999.0,          9,     -999.0,          9,-999.000,          9
 33RO200501,       A16S,      97,          1,         15,         15,2,20050214,       1351,   -14.0007,   -25.0005,       5851,  2098.2,   3.1101,  34.9213,2,  34.9224,2,    242.6,2,   242.4,2,   30.48,2,   21.39,2,    0.00,2,    1.37,2,   0.009,2,   0.003,2,   0.003,2,  2187.9,3,  2324.7,2,   774.4,2,   20.00,   7.7216,2,    25.00,   0.094,2,    0.01,   1.871,2,   2.890,2,    1.15,2,   -97.5,2,     3.0,   8.176,2,   0.008,   0.060,4,   39.60,2, 2098.20,   0.1990,2,   0.1520,2,   0.0800,2,   0.0500,2,   0.0157,2,   0.0161,2,   2.9468,      0.002,   0.237,     -999.0,          9,     -999.0,          9,-999.000,          9
 33RO200501,       A16S,      97,          1,         14,         14,2,20050214,       1351,   -14.0007,   -25.0005,       5851,  2298.6,   2.9737,  34.9181,2,  34.9179,2,    243.3,2,   242.6,2,   32.92,2,   21.49,2,    0.00,2,    1.38,2,   0.014,2,   0.003,2,   0.000,2,  2185.0,2,  2326.6,2,   773.9,2,   20.00,   7.7213,2,    25.00,   0.001,2,    0.01,   1.854,2,   3.770,2,    1.13,2,   -97.4,2,     3.0,   8.118,2,   0.009,   0.050,4, -999.00,9, 2298.60,-999.0000,9,-999.0000,9,-999.0000,9,-999.0000,9,-999.0000,9,-999.0000,9,   2.7938,      0.001,   0.221,     -999.0,          9,     -999.0,          9,-999.000,          9
 33RO200501,       A16S,      97,          1,         13,         13,2,20050214,       1351,   -14.0007,   -25.0005,       5851,  2498.5,   2.8400,  34.9115,2,  34.9108,2,    243.6,2,   243.4,2,   35.56,2,   21.69,2,    0.00,2,    1.39,2,-999.000,9,-999.000,9,-999.000,9,  2177.0,3,  2331.3,2,   775.9,2,   20.00,   7.7209,2,    25.00,-999.000,9, -999.00,-999.000,9,-999.000,9,    1.11,2,  -106.8,2,     3.0,-999.000,9,-999.000,-999.000,9,   39.14,2, 2498.50,-999.0000,9,-999.0000,9,-999.0000,9,-999.0000,9,-999.0000,9,-999.0000,9,   2.6433,     -999.0,-999.000,     -999.0,          9,     -999.0,          9,-999.000,          9
 33RO200501,       A16S,      97,          1,         12,         12,2,20050214,       1351,   -14.0007,   -25.0005,       5851,  2698.8,   2.7585,  34.9074,2,  34.9069,2,    243.6,2,   243.3,2,   37.51,2,   21.78,2,    0.00,2,    1.41,2,   0.009,2,   0.003,2,   0.000,2,  2185.1,2,  2330.3,2,   777.1,2,   20.00,   7.7230,2,    25.00,-999.000,9, -999.00,   1.912,2,   4.080,2,    1.11,2,  -105.2,2,     3.0,   8.330,2,   0.009,   0.033,4, -999.00,9, 2698.80,-999.0000,9,-999.0000,9,-999.0000,9,-999.0000,9,-999.0000,9,-999.0000,9,   2.5436,      0.001,   0.223,     -999.0,          9,     -999.0,          9,-999.000,          9
 33RO200501,       A16S,      97,          1,         11,         11,2,20050214,       1351,   -14.0007,   -25.0005,       5851,  2998.8,   2.6697,  34.9045,2,  34.9045,2,    244.1,2,   244.1,2,   38.98,2,   21.78,2,    0.00,2,    1.41,2,   0.008,2,   0.005,2,  -0.001,2,  2182.4,2,  2333.1,2,   775.9,2,   20.00,   7.7207,2,    25.00,   0.001,2,    0.01,-999.000,9,-999.000,9,    1.11,2,  -109.5,2,     3.0,-999.000,9,-999.000,   0.035,4,   39.73,2, 2998.80,   0.2000,2,   0.1530,2,   0.0830,3,   0.0540,3,   0.0147,3,   0.0153,3,   2.4264,     -999.0,-999.000,     -999.0,          9,     -999.0,          9,-999.000,          9
 33RO200501,       A16S,      97,          1,         10,         10,2,20050214,       1351,   -14.0007,   -25.0005,       5851,  3293.7,   2.5696,  34.9023,2,  34.9031,2,    247.3,2,   248.2,2,   39.47,2,   21.49,2,    0.00,2,    1.39,2,   0.013,2,   0.007,2,   0.000,2,  2185.8,2,  2332.5,2,  -999.0,9,   20.00,   7.7199,2,    25.00,-999.000,9, -999.00,-999.000,9,-999.000,9,    1.11,2,  -102.9,2,     3.9,-999.000,9,-999.000,   0.055,4, -999.00,9, 3293.70,-999.0000,9,-999.0000,9,-999.0000,9,-999.0000,9,-999.0000,9,-999.0000,9,   2.2977,     -999.0,-999.000,     -999.0,          9,     -999.0,          9,-999.000,          9
 33RO200501,       A16S,      97,          1,          9,          9,2,20050214,       1351,   -14.0007,   -25.0005,       5851,  3598.7,   2.4043,  34.8910,2,  34.8912,2,    249.4,2,   249.7,2,   42.79,2,   21.59,2,    0.00,2,    1.41,2,-999.000,9,-999.000,9,-999.000,9,  2190.6,2,  2333.9,2,   777.2,2,   20.00,   7.7207,2,    25.00,-999.000,9, -999.00,-999.000,9,-999.000,9,    1.12,2,  -107.7,2,     2.6,-999.000,9,-999.000,-999.000,9,   39.75,2, 3598.70,-999.0000,9,-999.0000,9,-999.0000,9,-999.0000,9,-999.0000,9,-999.0000,9,   2.1036,     -999.0,-999.000,     -999.0,          9,     -999.0,          9,-999.000,          9
 33RO200501,       A16S,      97,          1,          8,          8,2,20050214,       1351,   -14.0007,   -25.0005,       5851,  3899.8,   2.0814,  34.8597,2,  34.8587,2,    246.2,2,   246.3,2,   54.12,2,   23.05,2,    0.00,2,    1.52,2,   0.017,2,   0.010,2,   0.000,2,  2198.6,2,  2339.8,2,   808.6,2,   20.00,   7.7058,2,    25.00,-999.000,9, -999.00,-999.000,9,-999.000,9,    1.04,2,  -114.9,2,     2.4,-999.000,9,-999.000,   0.067,4, -999.00,9, 3899.80,-999.0000,9,-999.0000,9,-999.0000,9,-999.0000,9,-999.0000,9,-999.0000,9,   1.7563,     -999.0,-999.000,     -999.0,          9,     -999.0,          9,-999.000,          9