BOTTLE,20220818CCHSIOAMB
EXPOCODE,SECT_ID,STNNBR,CASTNO,SAMPNO,BTLNBR,BTLNBR_FLAG_W,DATE,TIME,LATITUDE,LONGITUDE,DEPTH,CTDPRS,CTDTMP,CTDSAL,CTDSAL_FLAG_W,SALNTY,SALNTY_FLAG_W,CTDOXY,CTDOXY_FLAG_W,OXYGEN,OXYGEN_FLAG_W,SILCAT,SILCAT_FLAG_W,NITRAT,NITRAT_FLAG_W,NITRIT,NITRIT_FLAG_W,PHSPHT,PHSPHT_FLAG_W,CFC-11,CFC-11_FLAG_W,CFC-12,CFC-12_FLAG_W,CFC113,CFC113_FLAG_W,TCARBN,TCARBN_FLAG_W,ALKALI,ALKALI_FLAG_W,PCO2,PCO2_FLAG_W,PCO2TMP,PH_SWS,PH_SWS_FLAG_W,PH_TMP,TRITUM,TRITUM_FLAG_W,TRITER,HELIUM,HELIUM_FLAG_W,DELHE3,DELHE3_FLAG_W,DELC13,DELC13_FLAG_W,DELC14,DELC14_FLAG_W,C14ERR,NEON,NEON_FLAG_W,NEONER,CCL4,CCL4_FLAG_W,DOC,DOC_FLAG_W,CTDRAW,CDOM325,CDOM325_FLAG_W,CDOM340,CDOM340_FLAG_W,CDOM380,CDOM380_FLAG_W,CDOM412,CDOM412_FLAG_W,CDOMSL,CDOMSL_FLAG_W,CDOMSN,CDOMSN_FLAG_W,THETA,HELIER,DELHER,CH3CL,CH3CL_FLAG_W,CH3BR,CH3BR_FLAG_W,CH3I,CH3I_FLAG_W
,,,,,,,,,,,METERS,DBAR,ITS-90,PSS-78,,PSS-78,,UMOL/KG,,UMOL/KG,,UMOL/KG,,UMOL/KG,,UMOL/KG,,UMOL/KG,,PMOL/KG,,PMOL/KG,,PMOL/KG,,UMOL/KG,,UMOL/KG,,UATM,,DEG C,,,DEG C,TU,,TU,NMOL/KG,,PERCNT,,/MILLE,,/MILLE,,/MILLE,NMOL/KG,,NMOL/KG,PMOL/KG,,UMOL/KG,,DBAR,1/M,,1/M,,1/M,,1/M,,1/NM,,1/NM,,DEG C,NMOL/KG,PERCNT,PMOL/KG,,PMOL/KG,,PMOL/KG,
 33RO200501,       A16S,      49,          1,          7,          7,2,20050130,       1924,   -38.0000,   -26.5502,       3913,  2601.3,   2.8573,  34.8829,2,  34.8834,2,    230.9,2,   227.4,2,   42.82,6,   23.20,6,    0.00,6,    1.52,6,   0.039,2,   0.010,2,   0.007,2,  2189.8,2,  2327.4,2,   819.6,2,   20.00,   7.7056,2,    25.00,-999.000,9, -999.00,-999.000,9,-999.000,9, -999.00,9,  -999.0,9,  -999.0,-999.000,9,-999.000,   0.131,3,   40.33,2, 2601.30,-999.0000,9,-999.0000,9,-999.0000,9,-999.0000,9,-999.0000,9,-999.0000,9,   2.6503,     -999.0,-999.000,     -999.0,          9,     -999.0,          9,-999.000,          9
 33RO200501,       A16S,      49,          1,          6,          6,2,20050130,       1924,   -38.0000,   -26.5502,       3913,  2799.2,   2.6823,  34.8784,2,  34.8779,2,    230.3,2,   228.5,2,   46.29,6,   24.38,3,    0.01,6,    1.54,6,-999.000,9,-999.000,9,-999.000,9,  2192.6,2,  2330.2,2,   823.8,2,   20.00,   7.7091,2,    25.00,-999.000,9, -999.00,-999.000,9,-999.000,9, -999.00,9,  -999.0,9,  -999.0,-999.000,9,-999.000,-999.000,9,   40.01,2, 2799.20,-999.0000,9,-999.0000,9,-999.0000,9,-999.0000,9,-999.0000,9,-999.0000,9,   2.4591,     -999.0,-999.000,     -999.0,          9,     -999.0,          9,-999.000,          9
 33RO200501,       A16S,      49,          1,          5,          5,2,20050130,       1924,   -38.0000,   -26.5502,       3913,  2999.8,   2.4972,  34.8659,2,  34.8665,2,    232.7,2,   234.4,2,   51.26,2,   25.56,3,    0.00,2,    1.56,2,   0.030,6,   0.018,6,   0.000,6,  2198.1,2,  2332.6,2,   830.0,2,   20.00,   7.7025,2,    25.00,-999.000,9, -999.00,-999.000,9,-999.000,9, -999.00,9,  -999.0,9,  -999.0,-999.000,9,-999.000,   0.126,3,   40.30,2, 2999.80,-999.0000,9,-999.0000,9,-999.0000,9,-999.0000,9,-999.0000,9,-999.0000,9,   2.2577,     -999.0,-999.000,     -999.0,          9,     -999.0,          9,-999.000,          9
 33RO200501,       A16S,      49,          1,          4,          4,2,20050130,       1924,   -38.0000,   -26.5502,       3913,  3300.0,   2.0354,  34.8234,2,  34.8241,2,    225.5,2,   227.5,2,   68.07,6,   26.50,6,    0.00,6,    1.74,6,   0.042,3,   0.131,3,   0.002,3,  2212.4,2,  2341.3,2,  -999.0,9,   20.00,   7.6850,2,    25.00,-999.000,9, -999.00,-999.000,9,-999.000,9, -999.00,9,  -999.0,9,  -999.0,-999.000,9,-999.000,   0.122,3, -999.00,9, 3300.00,-999.0000,9,-999.0000,9,-999.0000,9,-999.0000,9,-999.0000,9,-999.0000,9,   1.7759,     -999.0,-999.000,     -999.0,          9,     -999.0,          9,-999.000,          9
 33RO200501,       A16S,      49,          1,          3,          3,2,20050130,       1924,   -38.0000,   -26.5502,       3913,  3600.0,   1.4782,  34.7722,2,  34.7729,2,    220.1,2,   220.2,2,   88.64,6,   28.94,6,    0.00,6,    1.94,6,   0.066,2,   0.030,2,   0.003,2,  2232.2,2,  2335.5,2,   946.6,2,   20.00,   7.6558,2,    25.00,-999.000,9, -999.00,-999.000,9,-999.000,9, -999.00,9,  -999.0,9,  -999.0,-999.000,9,-999.000,   0.128,3,   39.44,2, 3600.00,-999.0000,9,-999.0000,9,-999.0000,9,-999.0000,9,-999.0000,9,-999.0000,9,   1.2018,     -999.0,-999.000,     -999.0,          9,     -999.0,          9,-999.000,          9
 33RO200501,       A16S,      49,          1,          2,          2,2,20050130,       1924,   -38.0000,   -26.5502,       3913,  3901.0,   1.0141,  34.7282,2,  34.7291,2,    215.4,2,   215.8,2,  106.08,6,   30.98,6,    0.00,6,    2.11,6,   0.114,2,   0.057,2,  -0.001,2,  2251.6,2,  2356.8,6,  1003.0,2,   20.00,   7.6317,6,    25.00,-999.000,9, -999.00,-999.000,9,-999.000,9, -999.00,9,  -999.0,9,  -999.0,-999.000,9,-999.000,   0.214,3, -999.00,9, 3901.00,-999.0000,9,-999.0000,9,-999.0000,9,-999.0000,9,-999.0000,9,-999.0000,9,   0.7191,     -999.0,-999.000,     -999.0,          9,     -999.0,          9,-999.000,          9
 33RO200501,       A16S,      49,          1,          1,          1,2,20050130,       1924,   -38.0000,   -26.5502,       3913,  4052.5,   0.8150,  34.7099,2,  34.7097,2,    213.9,2,   214.4,2,  113.76,6,   31.74,6,    0.00,6,    2.18,6,   0.158,2,   0.075,2,   0.004,2,  2256.1,6,  2359.3,2,  1026.2,2,   20.00,   7.6256,2,    25.00,   0.001,2,    0.00,   1.872,2,   7.140,2, -999.00,9,  -999.0,9,  -999.0,   8.157,2,   0.005,   0.265,3,   39.63,2, 4052.50,-999.0000,9,-999.0000,9,-999.0000,9,-999.0000,9,-999.0000,9,-999.0000,9,   0.5098,      0.002,   0.226,     -999.0,          9,     -999.0,          9,-999.000,          9