BOTTLE,20220818CCHSIOAMB
EXPOCODE,SECT_ID,STNNBR,CASTNO,SAMPNO,BTLNBR,BTLNBR_FLAG_W,DATE,TIME,LATITUDE,LONGITUDE,DEPTH,CTDPRS,CTDTMP,CTDSAL,CTDSAL_FLAG_W,SALNTY,SALNTY_FLAG_W,CTDOXY,CTDOXY_FLAG_W,OXYGEN,OXYGEN_FLAG_W,SILCAT,SILCAT_FLAG_W,NITRAT,NITRAT_FLAG_W,NITRIT,NITRIT_FLAG_W,PHSPHT,PHSPHT_FLAG_W,CFC-11,CFC-11_FLAG_W,CFC-12,CFC-12_FLAG_W,CFC113,CFC113_FLAG_W,TCARBN,TCARBN_FLAG_W,ALKALI,ALKALI_FLAG_W,PCO2,PCO2_FLAG_W,PCO2TMP,PH_SWS,PH_SWS_FLAG_W,PH_TMP,TRITUM,TRITUM_FLAG_W,TRITER,HELIUM,HELIUM_FLAG_W,DELHE3,DELHE3_FLAG_W,DELC13,DELC13_FLAG_W,DELC14,DELC14_FLAG_W,C14ERR,NEON,NEON_FLAG_W,NEONER,CCL4,CCL4_FLAG_W,DOC,DOC_FLAG_W,CTDRAW,CDOM325,CDOM325_FLAG_W,CDOM340,CDOM340_FLAG_W,CDOM380,CDOM380_FLAG_W,CDOM412,CDOM412_FLAG_W,CDOMSL,CDOMSL_FLAG_W,CDOMSN,CDOMSN_FLAG_W,THETA,HELIER,DELHER,CH3CL,CH3CL_FLAG_W,CH3BR,CH3BR_FLAG_W,CH3I,CH3I_FLAG_W
,,,,,,,,,,,METERS,DBAR,ITS-90,PSS-78,,PSS-78,,UMOL/KG,,UMOL/KG,,UMOL/KG,,UMOL/KG,,UMOL/KG,,UMOL/KG,,PMOL/KG,,PMOL/KG,,PMOL/KG,,UMOL/KG,,UMOL/KG,,UATM,,DEG C,,,DEG C,TU,,TU,NMOL/KG,,PERCNT,,/MILLE,,/MILLE,,/MILLE,NMOL/KG,,NMOL/KG,PMOL/KG,,UMOL/KG,,DBAR,1/M,,1/M,,1/M,,1/M,,1/NM,,1/NM,,DEG C,NMOL/KG,PERCNT,PMOL/KG,,PMOL/KG,,PMOL/KG,
 33RO200501,       A16S,      73,          1,         36,         36,2,20050207,       0356,   -26.0003,   -24.9993,       4850,     2.5,  24.8109,  36.7489,2,  36.7494,2,    207.8,2,   207.9,2,    0.28,2,    0.00,2,    0.00,2,    0.04,2,   1.795,2,   1.154,2,   0.143,2,  2075.0,6,  2405.9,2,   317.1,2,   20.00,   8.0591,2,    25.00,-999.000,9, -999.00,-999.000,9,-999.000,9,    1.60,2,    76.0,2,     3.7,-999.000,9,-999.000,   1.536,4,   68.12,2,    2.50,   0.0530,2,   0.0360,2,   0.0170,2,   0.0120,2,   0.0249,2,   0.0252,2,  24.8104,     -999.0,-999.000,     -999.0,          9,     -999.0,          9,-999.000,          9
 33RO200501,       A16S,      73,          1,         35,         35,2,20050207,       0356,   -26.0003,   -24.9993,       4850,    19.6,  24.8521,  36.7869,2,  36.7923,2,    207.7,2,   208.3,2,    0.25,2,   -0.01,2,    0.00,2,    0.04,2,-999.000,9,-999.000,9,-999.000,9,  2076.5,2,  2407.9,6,  -999.0,9,   20.00,   8.0571,6,    25.00,-999.000,9, -999.00,-999.000,9,-999.000,9, -999.00,9,  -999.0,9,  -999.0,-999.000,9,-999.000,-999.000,9,   67.76,2,   19.60,   0.0720,2,   0.0520,2,   0.0230,2,   0.0150,2,   0.0206,2,   0.0209,2,  24.8478,     -999.0,-999.000,     -999.0,          9,     -999.0,          9,-999.000,          9
 33RO200501,       A16S,      73,          1,         34,         34,2,20050207,       0356,   -26.0003,   -24.9993,       4850,    39.3,  24.8222,  36.8673,2,  36.8685,2,    209.2,2,   209.2,2,    0.22,2,    0.00,2,    0.00,2,    0.05,2,   1.796,6,   1.140,6,   0.146,6,  2081.5,3,  2412.4,2,   315.0,2,   20.00,   8.0619,2,    25.00,-999.000,9, -999.00,-999.000,9,-999.000,9,    1.60,2,    74.4,2,     3.7,-999.000,9,-999.000,   1.484,4,   67.04,2,   39.30,   0.0710,2,   0.0510,2,   0.0250,2,   0.0170,2,   0.0198,2,   0.0204,2,  24.8136,     -999.0,-999.000,     -999.0,          9,     -999.0,          9,-999.000,          9
 33RO200501,       A16S,      73,          1,         33,         33,2,20050207,       0356,   -26.0003,   -24.9993,       4850,    59.4,  23.4858,  36.8526,2,  36.8522,2,    221.9,2,   222.2,2,    0.14,2,    0.00,2,    0.00,2,    0.04,2,-999.000,9,-999.000,9,-999.000,9,  2077.0,2,  2405.4,2,  -999.0,9,   20.00,   8.0633,2,    25.00,-999.000,9, -999.00,-999.000,9,-999.000,9, -999.00,9,  -999.0,9,  -999.0,-999.000,9,-999.000,-999.000,9, -999.00,9,   59.40,-999.0000,9,-999.0000,9,-999.0000,9,-999.0000,9,-999.0000,9,-999.0000,9,  23.4734,     -999.0,-999.000,     -999.0,          9,     -999.0,          9,-999.000,          9
 33RO200501,       A16S,      73,          1,         32,         32,2,20050207,       0356,   -26.0003,   -24.9993,       4850,    79.2,  22.8319,  36.8319,2,  36.8292,2,    219.7,2,   219.4,2,    0.15,2,    0.00,2,    0.00,2,    0.05,2,   1.992,2,   1.247,2,   0.160,2,  2078.7,2,  2408.5,2,   319.4,2,   20.00,   8.0568,2,    25.00,-999.000,9, -999.00,-999.000,9,-999.000,9,    1.58,2,    77.7,2,     3.1,-999.000,9,-999.000,   1.184,4,   65.56,2,   79.20,   0.1090,3,   0.0760,2,   0.0360,3,   0.0230,3,   0.0197,3,   0.0209,3,  22.8157,     -999.0,-999.000,     -999.0,          9,     -999.0,          9,-999.000,          9
 33RO200501,       A16S,      73,          1,         31,         31,2,20050207,       0356,   -26.0003,   -24.9993,       4850,    99.0,  22.0970,  36.7054,2,  36.7000,2,    217.8,2,   218.4,2,    0.18,2,    0.00,2,    0.00,2,    0.06,2,   2.019,2,   1.258,2,   0.159,2,  2080.1,2,  2398.1,2,   328.8,2,   20.00,   8.0424,2,    25.00,-999.000,9, -999.00,-999.000,9,-999.000,9, -999.00,9,  -999.0,9,  -999.0,-999.000,9,-999.000,   1.219,4, -999.00,9,   99.00,-999.0000,9,-999.0000,9,-999.0000,9,-999.0000,9,-999.0000,9,-999.0000,9,  22.0772,     -999.0,-999.000,     -999.0,          9,     -999.0,          9,-999.000,          9
 33RO200501,       A16S,      73,          1,         30,         30,2,20050207,       0356,   -26.0003,   -24.9993,       4850,   123.4,  21.2703,  36.5267,2,  36.5002,2,    220.5,2,   218.5,2,    0.23,2,    0.02,2,    0.01,2,    0.07,2,-999.000,9,-999.000,9,-999.000,9,  2078.9,2,  2387.2,2,  -999.0,9,   20.00,   8.0040,2,    25.00,-999.000,9, -999.00,-999.000,9,-999.000,9,    1.51,2,    77.9,2,     3.2,-999.000,9,-999.000,-999.000,9,   59.47,2,  123.40,   0.1060,2,   0.0750,2,   0.0340,2,   0.0210,3,   0.0206,2,   0.0211,2,  21.2463,     -999.0,-999.000,     -999.0,          9,     -999.0,          9,-999.000,          9
 33RO200501,       A16S,      73,          1,         29,         29,2,20050207,       0356,   -26.0003,   -24.9993,       4850,   148.3,  20.6972,  36.4421,2,  36.4441,2,    215.7,2,   215.8,2,    0.40,2,    0.03,2,    0.02,2,    0.09,2,   2.142,2,   1.314,2,   0.167,2,  2082.1,2,  2384.3,2,   351.4,2,   20.00,   8.0226,2,    25.00,-999.000,9, -999.00,-999.000,9,-999.000,9, -999.00,9,  -999.0,9,  -999.0,-999.000,9,-999.000,   1.180,4, -999.00,9,  148.30,-999.0000,9,-999.0000,9,-999.0000,9,-999.0000,9,-999.0000,9,-999.0000,9,  20.6689,     -999.0,-999.000,     -999.0,          9,     -999.0,          9,-999.000,          9
 33RO200501,       A16S,      73,          1,         28,         28,2,20050207,       0356,   -26.0003,   -24.9993,       4850,   173.7,  19.2334,  36.1515,2,  36.1543,2,    211.0,2,   212.0,2,    0.57,2,    0.44,2,    0.06,2,    0.15,2,-999.000,9,-999.000,9,-999.000,9,  2085.9,2,  2364.5,2,  -999.0,9,   20.00,   7.9899,2,    25.00,-999.000,9, -999.00,-999.000,9,-999.000,9,    1.38,2,    75.9,2,     3.6,-999.000,9,-999.000,-999.000,9,   55.60,2,  173.70,   0.1260,2,   0.0950,2,   0.0440,2,   0.0280,2,   0.0184,2,   0.0186,2,  19.2020,     -999.0,-999.000,     -999.0,          9,     -999.0,          9,-999.000,          9
 33RO200501,       A16S,      73,          1,         27,         27,2,20050207,       0356,   -26.0003,   -24.9993,       4850,   199.5,  17.8122,  35.8991,2,  35.8977,2,    206.3,2,   207.0,2,    0.97,2,    1.60,2,    0.02,2,    0.26,2,   2.469,2,   1.470,2,   0.112,2,  2093.7,2,  2354.8,2,   420.9,2,   20.00,   7.9572,2,    25.00,-999.000,9, -999.00,-999.000,9,-999.000,9,    1.23,2,    73.4,2,     3.4,-999.000,9,-999.000,   0.769,4,   54.48,2,  199.50,-999.0000,9,-999.0000,9,-999.0000,9,-999.0000,9,-999.0000,9,-999.0000,9,  17.7780,     -999.0,-999.000,     -999.0,          9,     -999.0,          9,-999.000,          9
 33RO200501,       A16S,      73,          1,         26,         26,2,20050207,       0356,   -26.0003,   -24.9993,       4850,   247.7,  15.7323,  35.5641,2,  35.5628,2,    209.1,2,   209.9,2,    1.57,2,    4.16,2,    0.01,2,    0.42,2,   2.711,2,   1.588,2,   0.046,2,  2098.0,2,  2331.9,2,   465.0,2,   20.00,   7.9152,2,    25.00,-999.000,9, -999.00,-999.000,9,-999.000,9,    1.18,2,    77.7,2,     3.7,-999.000,9,-999.000,   0.572,4,   50.47,2,  247.70,   0.1360,2,   0.1030,2,   0.0510,2,   0.0350,2,   0.0158,2,   0.0168,2,  15.6933,     -999.0,-999.000,     -999.0,          9,     -999.0,          9,-999.000,          9
 33RO200501,       A16S,      73,          1,         25,         25,2,20050207,       0356,   -26.0003,   -24.9993,       4850,   300.6,  14.2621,  35.3563,2,  35.3496,2,    210.3,2,   210.9,2,    2.22,2,    7.07,2,    0.01,2,    0.60,2,   2.875,2,   1.649,2,   0.039,2,  2104.1,2,  2304.4,4,   506.9,2,   20.00,   7.8828,2,    25.00,-999.000,9, -999.00,-999.000,9,-999.000,9,    1.20,2,    71.8,2,     3.9,-999.000,9,-999.000,   0.588,4,   47.56,2,  300.60,-999.0000,9,-999.0000,9,-999.0000,9,-999.0000,9,-999.0000,9,-999.0000,9,  14.2178,     -999.0,-999.000,     -999.0,          9,     -999.0,          9,-999.000,          9
 33RO200501,       A16S,      73,          1,         24,         24,2,20050207,       0356,   -26.0003,   -24.9993,       4850,   341.4,  13.2840,  35.2220,2,  35.2199,2,    210.0,2,   210.2,2,    2.77,2,    9.23,2,    0.01,2,    0.69,2,   2.959,2,   1.651,2,   0.043,2,  2110.8,2,  2315.9,2,   541.7,2,   20.00,   7.8650,2,    25.00,-999.000,9, -999.00,-999.000,9,-999.000,9,    1.16,2,    73.9,2,     3.1,-999.000,9,-999.000,   0.654,4,   46.27,2,  341.40,   0.1470,2,   0.1110,2,   0.0560,2,   0.0370,2,   0.0157,2,   0.0167,2,  13.2360,     -999.0,-999.000,     -999.0,          9,     -999.0,          9,-999.000,          9
 33RO200501,       A16S,      73,          1,         23,         23,2,20050207,       0356,   -26.0003,   -24.9993,       4850,   398.6,  12.1312,  35.0682,2,  35.0705,2,    207.5,2,   207.6,2,    3.76,2,   12.00,2,    0.00,2,    0.86,2,   2.995,2,   1.645,2,   0.052,2,  2119.8,2,  2304.6,2,   589.7,2,   20.00,   7.8513,2,    25.00,-999.000,9, -999.00,-999.000,9,-999.000,9,    1.20,2,    61.0,2,     3.5,-999.000,9,-999.000,   0.764,4, -999.00,9,  398.60,-999.0000,9,-999.0000,9,-999.0000,9,-999.0000,9,-999.0000,9,-999.0000,9,  12.0783,     -999.0,-999.000,     -999.0,          9,     -999.0,          9,-999.000,          9
 33RO200501,       A16S,      73,          1,         22,         22,2,20050207,       0356,   -26.0003,   -24.9993,       4850,   500.7,  10.1355,  34.8222,2,  34.8200,2,    200.9,2,   200.9,2,    6.82,2,   17.45,2,    0.00,2,    1.19,2,   2.855,2,   1.515,2,   0.075,2,  2139.2,2,  2280.7,4,   695.9,2,   20.00,   7.7658,2,    25.00,-999.000,9, -999.00,-999.000,9,-999.000,9,    1.18,2,    41.4,2,     3.2,-999.000,9,-999.000,   1.021,4,   43.49,2,  500.70,   0.1120,2,   0.0800,2,   0.0430,2,   0.0300,2,   0.0032,4,   0.0160,4,  10.0761,     -999.0,-999.000,     -999.0,          9,     -999.0,          9,-999.000,          9
 33RO200501,       A16S,      73,          1,         21,         21,2,20050207,       0356,   -26.0003,   -24.9993,       4850,   600.7,   8.1433,  34.6009,2,  34.5987,2,    201.2,2,   200.6,2,   10.74,2,   22.37,2,    0.00,2,    1.49,2,-999.000,9,-999.000,9,-999.000,9,  2155.1,2,  2270.6,4,   803.1,2,   20.00,   7.7063,2,    25.00,-999.000,9, -999.00,-999.000,9,-999.000,9,    1.15,2,    11.3,2,     3.0,-999.000,9,-999.000,-999.000,9, -999.00,9,  600.70,-999.0000,9,-999.0000,9,-999.0000,9,-999.0000,9,-999.0000,9,-999.0000,9,   8.0807,     -999.0,-999.000,     -999.0,          9,     -999.0,          9,-999.000,          9
 33RO200501,       A16S,      73,          1,         20,         20,2,20050207,       0356,   -26.0003,   -24.9993,       4850,   697.0,   6.5333,  34.4518,2,  34.4516,2,    204.6,2,   205.2,2,   15.15,6,   25.76,6,    0.00,6,    1.70,6,   2.572,2,   1.287,2,   0.115,2,  2166.8,2,  2281.6,2,   875.5,2,   20.00,   7.6811,2,    25.00,-999.000,9, -999.00,-999.000,9,-999.000,9,    1.15,2,   -10.5,2,     3.9,-999.000,9,-999.000,   1.811,4,   42.06,2,  697.00,   0.1290,2,   0.0930,2,   0.0480,2,   0.0340,3,   0.0151,3,   0.0169,3,   6.4687,     -999.0,-999.000,     -999.0,          9,     -999.0,          9,-999.000,          9
 33RO200501,       A16S,      73,          1,         19,         19,2,20050207,       0356,   -26.0003,   -24.9993,       4850,   800.1,   5.0380,  34.3560,2,  34.3550,2,    209.3,2,   209.7,2,   22.27,2,   28.80,2,    0.00,2,    1.91,2,   2.147,2,   1.060,2,   0.103,2,  2180.8,2,  2391.4,4,   943.7,2,   20.00,   7.6446,6,    25.00,-999.000,9, -999.00,-999.000,9,-999.000,9,    1.10,2,   -48.2,2,     2.5,-999.000,9,-999.000,   1.932,4, -999.00,9,  800.10,-999.0000,9,-999.0000,9,-999.0000,9,-999.0000,9,-999.0000,9,-999.0000,9,   4.9724,     -999.0,-999.000,     -999.0,          9,     -999.0,          9,-999.000,          9
 33RO200501,       A16S,      73,          1,         18,         18,2,20050207,       0356,   -26.0003,   -24.9993,       4850,   896.6,   4.4119,  34.3577,2,  34.3570,2,    202.0,2,   202.9,2,   28.60,2,   30.38,2,    0.00,2,    2.02,2,   1.559,2,   0.759,2,   0.071,2,  2191.9,2,  2291.8,2,   997.4,2,   20.00,   7.6271,2,    25.00,-999.000,9, -999.00,-999.000,9,-999.000,9,    0.93,2,   -91.3,2,     3.6,-999.000,9,-999.000,   1.601,4,   40.92,2,  896.60,   0.1840,2,   0.1360,2,   0.0700,2,   0.0470,2,   0.0150,2,   0.0163,2,   4.3421,     -999.0,-999.000,     -999.0,          9,     -999.0,          9,-999.000,          9
 33RO200501,       A16S,      73,          1,         17,         17,2,20050207,       0356,   -26.0003,   -24.9993,       4850,  1000.1,   3.8479,  34.3859,2,  34.3882,2,    195.5,2,   195.7,2,   36.83,2,   31.64,2,    0.00,2,    2.11,2,   1.021,2,   0.493,2,   0.044,2,  2204.9,6,  2297.0,2,  1045.4,2,   20.00,   7.6083,2,    25.00,-999.000,9, -999.00,-999.000,9,-999.000,9,    0.96,2,   -96.2,6,     2.1,-999.000,9,-999.000,   1.218,4,   40.34,2, 1000.10,-999.0000,9,-999.0000,9,-999.0000,9,-999.0000,9,-999.0000,9,-999.0000,9,   3.7736,     -999.0,-999.000,     -999.0,          9,     -999.0,          9,-999.000,          9
 33RO200501,       A16S,      73,          1,         16,         16,2,20050207,       0356,   -26.0003,   -24.9993,       4850,  1199.9,   3.2717,  34.5167,2,  34.5140,2,    187.1,2,   186.1,2,   47.92,6,   31.79,6,    0.00,6,    2.14,6,   0.331,2,   0.162,2,   0.012,2,  2221.5,2,  2312.5,2,  1070.3,2,   20.00,   7.6184,2,    25.00,-999.000,9, -999.00,-999.000,9,-999.000,9,    0.82,2,  -125.4,2,     3.4,-999.000,9,-999.000,   0.519,4,   38.70,2, 1199.90,-999.0000,9,-999.0000,9,-999.0000,9,-999.0000,9,-999.0000,9,-999.0000,9,   3.1858,     -999.0,-999.000,     -999.0,          9,     -999.0,          9,-999.000,          9
 33RO200501,       A16S,      73,          1,         15,         15,2,20050207,       0356,   -26.0003,   -24.9993,       4850,  1393.2,   3.0826,  34.6465,2,  34.6488,2,    191.8,2,   191.1,2,   49.30,2,   29.98,2,    0.00,2,    2.01,2,   0.083,2,   0.042,2,   0.000,2,  2219.1,2,  2319.4,2,  1018.0,2,   20.00,   7.6302,2,    25.00,-999.000,9, -999.00,-999.000,9,-999.000,9,    0.75,2,  -127.3,2,     2.9,-999.000,9,-999.000,   0.190,4,   39.41,2, 1393.20,-999.0000,9,-999.0000,9,-999.0000,9,-999.0000,9,-999.0000,9,-999.0000,9,   2.9826,     -999.0,-999.000,     -999.0,          9,     -999.0,          9,-999.000,          9
 33RO200501,       A16S,      73,          1,         14,         14,2,20050207,       0356,   -26.0003,   -24.9993,       4850,  1598.2,   2.9718,  34.7435,2,  34.7433,2,    204.0,2,   204.5,2,   46.90,2,   27.63,2,    0.00,2,    1.84,2,   0.027,2,   0.013,2,   0.000,2,  2210.6,2,  2322.8,2,   943.0,2,   20.00,   7.6555,2,    25.00,-999.000,9, -999.00,-999.000,9,-999.000,9,    0.84,2,  -119.4,2,     2.4,-999.000,9,-999.000,   0.081,4,   39.55,2, 1598.20,-999.0000,9,-999.0000,9,-999.0000,9,-999.0000,9,-999.0000,9,-999.0000,9,   2.8556,     -999.0,-999.000,     -999.0,          9,     -999.0,          9,-999.000,          9
 33RO200501,       A16S,      73,          1,         13,         13,2,20050207,       0356,   -26.0003,   -24.9993,       4850,  1788.4,   2.9835,  34.8227,2,  34.8224,2,    218.8,2,   221.1,2,   40.50,2,   24.96,2,    0.00,2,    1.64,2,   0.007,2,   0.004,2,   0.000,2,  2196.5,2,  2321.6,2,   864.3,2,   20.00,   7.6798,2,    25.00,-999.000,9, -999.00,-999.000,9,-999.000,9,    0.93,2,  -113.3,2,     2.6,-999.000,9,-999.000,   0.053,4,   39.77,2, 1788.40,-999.0000,9,-999.0000,9,-999.0000,9,-999.0000,9,-999.0000,9,-999.0000,9,   2.8505,     -999.0,-999.000,     -999.0,          9,     -999.0,          9,-999.000,          9
 33RO200501,       A16S,      73,          1,         12,         12,2,20050207,       0356,   -26.0003,   -24.9993,       4850,  1998.6,   2.9959,  34.8720,2,  34.8721,2,    233.3,2,   233.0,2,   35.35,2,   23.04,2,    0.00,2,    1.51,2,   0.002,2,   0.004,2,   0.000,2,  2186.2,2,  2305.8,3,   813.0,2,   20.00,   7.7015,2,    25.00,-999.000,9, -999.00,-999.000,9,-999.000,9,    1.02,2,  -107.2,2,     3.1,-999.000,9,-999.000,   0.052,4, -999.00,9, 1998.60,   0.1750,2,   0.1310,2,   0.0660,3,   0.0420,3,   0.0162,3,   0.0170,3,   2.8438,     -999.0,-999.000,     -999.0,          9,     -999.0,          9,-999.000,          9
 33RO200501,       A16S,      73,          1,         11,         11,2,20050207,       0356,   -26.0003,   -24.9993,       4850,  2194.8,   3.0106,  34.9070,2,  34.9067,2,    242.1,2,   242.2,2,   31.26,2,   21.64,2,    0.00,2,    1.41,2,   0.008,6,   0.003,6,   0.003,6,  2179.6,2,  2319.0,2,   779.1,2,   20.00,   7.7215,2,    25.00,-999.000,9, -999.00,-999.000,9,-999.000,9,    1.06,2,   -99.5,2,     2.4,-999.000,9,-999.000,   0.076,4,   40.08,2, 2194.80,-999.0000,9,-999.0000,9,-999.0000,9,-999.0000,9,-999.0000,9,-999.0000,9,   2.8400,     -999.0,-999.000,     -999.0,          9,     -999.0,          9,-999.000,          9
 33RO200501,       A16S,      73,          1,         10,         10,2,20050207,       0356,   -26.0003,   -24.9993,       4850,  2399.1,   2.9780,  34.9244,2,  34.9246,2,    247.7,2,   247.9,2,   29.35,2,   20.81,2,    0.00,2,    1.35,2,-999.000,9,-999.000,9,-999.000,9,  2173.1,2,  2308.7,3,  -999.0,9,   20.00,   7.7246,2,    25.00,-999.000,9, -999.00,-999.000,9,-999.000,9,    1.08,2,   -95.1,2,     2.7,-999.000,9,-999.000,-999.000,9, -999.00,9, 2399.10,-999.0000,9,-999.0000,9,-999.0000,9,-999.0000,9,-999.0000,9,-999.0000,9,   2.7883,     -999.0,-999.000,     -999.0,          9,     -999.0,          9,-999.000,          9
 33RO200501,       A16S,      73,          1,          9,          9,2,20050207,       0356,   -26.0003,   -24.9993,       4850,  2598.9,   2.8969,  34.9271,2,  34.9270,2,    250.1,2,   250.3,2,   29.71,2,   20.54,2,    0.00,2,    1.34,2,   0.017,2,   0.011,2,   0.000,2,  2174.6,2,  2317.7,2,   753.2,2,   20.00,   7.7355,2,    25.00,-999.000,9, -999.00,-999.000,9,-999.000,9,    1.09,2,   -98.8,2,     2.8,-999.000,9,-999.000,   0.099,4,   39.85,2, 2598.90,-999.0000,9,-999.0000,9,-999.0000,9,-999.0000,9,-999.0000,9,-999.0000,9,   2.6892,     -999.0,-999.000,     -999.0,          9,     -999.0,          9,-999.000,          9
 33RO200501,       A16S,      73,          1,          8,          8,2,20050207,       0356,   -26.0003,   -24.9993,       4850,  2899.1,   2.7694,  34.9217,2,  34.9215,2,    251.1,2,   251.3,2,   31.61,2,   20.50,2,    0.00,2,    1.34,2,   0.012,2,   0.009,2,   0.000,2,  2177.9,2,  2325.4,2,   752.9,2,   20.00,   7.7484,2,    25.00,-999.000,9, -999.00,-999.000,9,-999.000,9,    1.06,2,  -100.2,2,     2.8,-999.000,9,-999.000,   0.087,4, -999.00,9, 2899.10,   0.1410,3,   0.1020,3,   0.0530,3,   0.0340,3,   0.0161,3,   0.0172,3,   2.5341,     -999.0,-999.000,     -999.0,          9,     -999.0,          9,-999.000,          9