BOTTLE,20220818CCHSIOAMB
EXPOCODE,SECT_ID,STNNBR,CASTNO,SAMPNO,BTLNBR,BTLNBR_FLAG_W,DATE,TIME,LATITUDE,LONGITUDE,DEPTH,CTDPRS,CTDTMP,CTDSAL,CTDSAL_FLAG_W,SALNTY,SALNTY_FLAG_W,CTDOXY,CTDOXY_FLAG_W,OXYGEN,OXYGEN_FLAG_W,SILCAT,SILCAT_FLAG_W,NITRAT,NITRAT_FLAG_W,NITRIT,NITRIT_FLAG_W,PHSPHT,PHSPHT_FLAG_W,CFC-11,CFC-11_FLAG_W,CFC-12,CFC-12_FLAG_W,CFC113,CFC113_FLAG_W,TCARBN,TCARBN_FLAG_W,ALKALI,ALKALI_FLAG_W,PCO2,PCO2_FLAG_W,PCO2TMP,PH_SWS,PH_SWS_FLAG_W,PH_TMP,TRITUM,TRITUM_FLAG_W,TRITER,HELIUM,HELIUM_FLAG_W,DELHE3,DELHE3_FLAG_W,DELC13,DELC13_FLAG_W,DELC14,DELC14_FLAG_W,C14ERR,NEON,NEON_FLAG_W,NEONER,CCL4,CCL4_FLAG_W,DOC,DOC_FLAG_W,CTDRAW,CDOM325,CDOM325_FLAG_W,CDOM340,CDOM340_FLAG_W,CDOM380,CDOM380_FLAG_W,CDOM412,CDOM412_FLAG_W,CDOMSL,CDOMSL_FLAG_W,CDOMSN,CDOMSN_FLAG_W,THETA,HELIER,DELHER,CH3CL,CH3CL_FLAG_W,CH3BR,CH3BR_FLAG_W,CH3I,CH3I_FLAG_W
,,,,,,,,,,,METERS,DBAR,ITS-90,PSS-78,,PSS-78,,UMOL/KG,,UMOL/KG,,UMOL/KG,,UMOL/KG,,UMOL/KG,,UMOL/KG,,PMOL/KG,,PMOL/KG,,PMOL/KG,,UMOL/KG,,UMOL/KG,,UATM,,DEG C,,,DEG C,TU,,TU,NMOL/KG,,PERCNT,,/MILLE,,/MILLE,,/MILLE,NMOL/KG,,NMOL/KG,PMOL/KG,,UMOL/KG,,DBAR,1/M,,1/M,,1/M,,1/M,,1/NM,,1/NM,,DEG C,NMOL/KG,PERCNT,PMOL/KG,,PMOL/KG,,PMOL/KG,
 33RO200501,       A16S,      88,          1,         36,         36,2,20050211,       2144,   -18.5018,   -25.0005,       5591,     2.2,  26.9106,  37.4171,2,  37.4172,2,    201.8,2,   201.0,2,    1.83,2,    0.00,2,    0.00,2,    0.11,2,   1.656,2,   1.071,2,   0.133,2,  2104.1,6,  2448.5,6,  -999.0,9,   20.00,   8.0726,6,    25.00,-999.000,9, -999.00,-999.000,9,-999.000,9, -999.00,9,  -999.0,9,  -999.0,-999.000,9,-999.000,   1.427,4, -999.00,9,    2.20,-999.0000,9,-999.0000,9,-999.0000,9,-999.0000,9,-999.0000,9,-999.0000,9,  26.9101,     -999.0,-999.000,     55.478,          2,      0.290,          2,   2.010,          2
 33RO200501,       A16S,      88,          1,         35,         35,2,20050211,       2144,   -18.5018,   -25.0005,       5591,    23.8,  26.8654,  37.4117,2,  37.4057,2,    202.4,2,   203.2,2,    1.87,2,    0.01,2,    0.00,2,    0.10,2,-999.000,9,-999.000,9,-999.000,9,  -999.0,9,  -999.0,9,  -999.0,9,   20.00,-999.0000,9,    25.00,-999.000,9, -999.00,-999.000,9,-999.000,9, -999.00,9,  -999.0,9,  -999.0,-999.000,9,-999.000,-999.000,9, -999.00,9,   23.80,-999.0000,9,-999.0000,9,-999.0000,9,-999.0000,9,-999.0000,9,-999.0000,9,  26.8599,     -999.0,-999.000,     64.248,          2,      0.225,          2,   2.351,          2
 33RO200501,       A16S,      88,          1,         34,         34,2,20050211,       2144,   -18.5018,   -25.0005,       5591,    50.0,  25.7212,  37.2336,2,  37.2303,2,    208.9,2,   209.3,2,    1.92,2,    0.01,2,    0.00,2,    0.15,2,-999.000,9,-999.000,9,-999.000,9,  -999.0,9,  -999.0,9,  -999.0,9,   20.00,-999.0000,9,    25.00,-999.000,9, -999.00,-999.000,9,-999.000,9, -999.00,9,  -999.0,9,  -999.0,-999.000,9,-999.000,-999.000,9, -999.00,9,   50.00,-999.0000,9,-999.0000,9,-999.0000,9,-999.0000,9,-999.0000,9,-999.0000,9,  25.7100,     -999.0,-999.000,    119.508,          2,      0.234,          2,   3.497,          2
 33RO200501,       A16S,      88,          1,         33,         33,2,20050211,       2144,   -18.5018,   -25.0005,       5591,    98.1,  23.1927,  36.9284,2,  36.9283,2,    219.5,2,   219.9,2,    1.91,2,    0.02,2,    0.00,2,    0.17,2,   1.951,2,   1.238,2,   0.155,2,  -999.0,9,  -999.0,9,  -999.0,9,   20.00,-999.0000,9,    25.00,-999.000,9, -999.00,-999.000,9,-999.000,9, -999.00,9,  -999.0,9,  -999.0,-999.000,9,-999.000,   1.261,4, -999.00,9,   98.10,-999.0000,9,-999.0000,9,-999.0000,9,-999.0000,9,-999.0000,9,-999.0000,9,  23.1724,     -999.0,-999.000,    168.967,          2,      0.304,          2,   2.457,          2
 33RO200501,       A16S,      88,          1,         32,         32,2,20050211,       2144,   -18.5018,   -25.0005,       5591,   149.1,  22.2717,  36.7828,2,  36.7573,2,    210.2,2,   209.8,2,    2.02,2,    0.07,2,    0.01,2,    0.19,2,-999.000,9,-999.000,9,-999.000,9,  2103.9,2,  2405.6,2,  -999.0,9,   20.00,   8.0212,2,    25.00,-999.000,9, -999.00,-999.000,9,-999.000,9, -999.00,9,  -999.0,9,  -999.0,-999.000,9,-999.000,-999.000,9, -999.00,9,  149.10,-999.0000,9,-999.0000,9,-999.0000,9,-999.0000,9,-999.0000,9,-999.0000,9,  22.2417,     -999.0,-999.000,     -999.0,          9,     -999.0,          9,-999.000,          9
 33RO200501,       A16S,      88,          1,         31,         31,2,20050211,       2144,   -18.5018,   -25.0005,       5591,   199.4,  17.9278,  35.9705,2,  35.9680,2,    198.4,2,   199.1,2,    2.84,2,    2.99,2,    0.03,2,    0.38,2,-999.000,9,-999.000,9,-999.000,9,  -999.0,9,  -999.0,9,  -999.0,9,   20.00,-999.0000,9,    25.00,-999.000,9, -999.00,-999.000,9,-999.000,9, -999.00,9,  -999.0,9,  -999.0,-999.000,9,-999.000,-999.000,9, -999.00,9,  199.40,-999.0000,9,-999.0000,9,-999.0000,9,-999.0000,9,-999.0000,9,-999.0000,9,  17.8934,     -999.0,-999.000,     11.700,          2,      0.116,          2,   0.068,          2
 33RO200501,       A16S,      88,          1,         30,         30,2,20050211,       2144,   -18.5018,   -25.0005,       5591,   298.9,  13.0011,  35.1850,2,  35.1752,2,    188.0,2,   189.4,2,    5.66,2,   12.36,2,    0.00,2,    0.87,2,-999.000,9,-999.000,9,-999.000,9,  -999.0,9,  -999.0,9,  -999.0,9,   20.00,-999.0000,9,    25.00,-999.000,9, -999.00,-999.000,9,-999.000,9, -999.00,9,  -999.0,9,  -999.0,-999.000,9,-999.000,-999.000,9, -999.00,9,  298.90,-999.0000,9,-999.0000,9,-999.0000,9,-999.0000,9,-999.0000,9,-999.0000,9,  12.9598,     -999.0,-999.000,     -999.0,          9,     -999.0,          9,-999.000,          9
 33RO200501,       A16S,      88,          1,         29,         29,2,20050211,       2144,   -18.5018,   -25.0005,       5591,   398.8,  10.3970,  34.8672,2,  34.8644,2,    178.3,2,   174.2,2,    9.66,2,   19.65,2,    0.00,2,    1.29,2,   2.505,2,   1.326,2,   0.051,2,  -999.0,9,  -999.0,9,  -999.0,9,   20.00,-999.0000,9,    25.00,-999.000,9, -999.00,-999.000,9,-999.000,9, -999.00,9,  -999.0,9,  -999.0,-999.000,9,-999.000,   0.806,4, -999.00,9,  398.80,-999.0000,9,-999.0000,9,-999.0000,9,-999.0000,9,-999.0000,9,-999.0000,9,  10.3492,     -999.0,-999.000,      4.135,          2,      0.000,          2,   0.011,          2
 33RO200501,       A16S,      88,          1,         28,         28,2,20050211,       2144,   -18.5018,   -25.0005,       5591,   500.2,   7.9438,  34.6251,2,  34.6185,2,    161.0,2,   161.3,2,   16.08,2,   26.52,2,    0.00,2,    1.71,2,-999.000,9,-999.000,9,-999.000,9,  2183.5,2,  2289.1,2,  -999.0,9,   20.00,   7.6388,2,    25.00,-999.000,9, -999.00,-999.000,9,-999.000,9, -999.00,9,  -999.0,9,  -999.0,-999.000,9,-999.000,-999.000,9, -999.00,9,  500.20,-999.0000,9,-999.0000,9,-999.0000,9,-999.0000,9,-999.0000,9,-999.0000,9,   7.8927,     -999.0,-999.000,     -999.0,          9,     -999.0,          9,-999.000,          9
 33RO200501,       A16S,      88,          1,         27,         27,2,20050211,       2144,   -18.5018,   -25.0005,       5591,   598.4,   6.0217,  34.4787,2,  34.4770,2,    164.3,2,   165.6,2,   22.98,2,   30.36,2,    0.00,2,    1.95,2,-999.000,9,-999.000,9,-999.000,9,  -999.0,9,  -999.0,9,  -999.0,9,   20.00,-999.0000,9,    25.00,-999.000,9, -999.00,-999.000,9,-999.000,9, -999.00,9,  -999.0,9,  -999.0,-999.000,9,-999.000,-999.000,9, -999.00,9,  598.40,-999.0000,9,-999.0000,9,-999.0000,9,-999.0000,9,-999.0000,9,-999.0000,9,   5.9689,     -999.0,-999.000,     -999.0,          9,     -999.0,          9,-999.000,          9
 33RO200501,       A16S,      88,          1,         26,         26,2,20050211,       2144,   -18.5018,   -25.0005,       5591,   699.9,   4.9207,  34.4297,2,  34.4291,2,    169.2,2,   171.5,2,   29.16,2,   31.87,2,    0.00,2,    2.06,2,   0.541,2,   0.278,2,   0.014,2,  -999.0,9,  -999.0,9,  -999.0,9,   20.00,-999.0000,9,    25.00,-999.000,9, -999.00,-999.000,9,-999.000,9, -999.00,9,  -999.0,9,  -999.0,-999.000,9,-999.000,   0.679,4, -999.00,9,  699.90,-999.0000,9,-999.0000,9,-999.0000,9,-999.0000,9,-999.0000,9,-999.0000,9,   4.8644,     -999.0,-999.000,      2.409,          2,      0.094,          2,   0.008,          2
 33RO200501,       A16S,      88,          1,         25,         25,2,20050211,       2144,   -18.5018,   -25.0005,       5591,   798.3,   4.2284,  34.4319,2,  34.4332,2,    174.9,2,   176.4,2,   34.73,2,   32.31,2,    0.00,2,    2.11,2,-999.000,9,-999.000,9,-999.000,9,  -999.0,9,  -999.0,9,  -999.0,9,   20.00,-999.0000,9,    25.00,-999.000,9, -999.00,-999.000,9,-999.000,9, -999.00,9,  -999.0,9,  -999.0,-999.000,9,-999.000,-999.000,9, -999.00,9,  798.30,-999.0000,9,-999.0000,9,-999.0000,9,-999.0000,9,-999.0000,9,-999.0000,9,   4.1679,     -999.0,-999.000,     -999.0,          9,     -999.0,          9,-999.000,          9
 33RO200501,       A16S,      88,          1,         24,         24,2,20050211,       2144,   -18.5018,   -25.0005,       5591,   899.0,   3.8860,  34.4725,2,  34.4714,2,    177.5,2,   177.7,2,   38.18,2,   32.20,2,    0.00,2,    2.10,2,-999.000,9,-999.000,9,-999.000,9,  2214.1,2,  2299.6,2,  -999.0,9,   20.00,   7.5865,2,    25.00,-999.000,9, -999.00,-999.000,9,-999.000,9, -999.00,9,  -999.0,9,  -999.0,-999.000,9,-999.000,-999.000,9, -999.00,9,  899.00,-999.0000,9,-999.0000,9,-999.0000,9,-999.0000,9,-999.0000,9,-999.0000,9,   3.8195,     -999.0,-999.000,     -999.0,          9,     -999.0,          9,-999.000,          9
 33RO200501,       A16S,      88,          1,         23,         23,2,20050211,       2144,   -18.5018,   -25.0005,       5591,   999.8,   3.7736,  34.5292,2,  34.5287,2,    178.5,2,   178.2,2,   39.20,2,   31.65,2,    0.00,2,    2.07,2,   0.076,2,   0.047,2,   0.000,2,  -999.0,9,  -999.0,9,  -999.0,9,   20.00,-999.0000,9,    25.00,-999.000,9, -999.00,-999.000,9,-999.000,9, -999.00,9,  -999.0,9,  -999.0,-999.000,9,-999.000,   0.217,4, -999.00,9,  999.80,-999.0000,9,-999.0000,9,-999.0000,9,-999.0000,9,-999.0000,9,-999.0000,9,   3.6997,     -999.0,-999.000,      4.074,          2,      0.348,          2,   0.014,          2
 33RO200501,       A16S,      88,          1,         22,         22,2,20050211,       2144,   -18.5018,   -25.0005,       5591,  1198.6,   3.8186,  34.6876,2,  34.6876,2,    187.7,2,   187.3,2,   35.50,2,   28.96,2,    0.00,2,    1.88,2,-999.000,9,-999.000,9,-999.000,9,  -999.0,9,  -999.0,9,  -999.0,9,   20.00,-999.0000,9,    25.00,-999.000,9, -999.00,-999.000,9,-999.000,9, -999.00,9,  -999.0,9,  -999.0,-999.000,9,-999.000,-999.000,9, -999.00,9, 1198.60,-999.0000,9,-999.0000,9,-999.0000,9,-999.0000,9,-999.0000,9,-999.0000,9,   3.7274,     -999.0,-999.000,     -999.0,          9,     -999.0,          9,-999.000,          9
 33RO200501,       A16S,      88,          1,         21,         21,2,20050211,       2144,   -18.5018,   -25.0005,       5591,  1398.4,   3.8335,  34.8150,2,  34.8148,2,    205.5,2,   204.4,2,   30.74,2,   25.73,2,    0.00,2,    1.65,2,-999.000,9,-999.000,9,-999.000,9,  -999.0,9,  -999.0,9,  -999.0,9,   20.00,-999.0000,9,    25.00,-999.000,9, -999.00,-999.000,9,-999.000,9, -999.00,9,  -999.0,9,  -999.0,-999.000,9,-999.000,-999.000,9, -999.00,9, 1398.40,-999.0000,9,-999.0000,9,-999.0000,9,-999.0000,9,-999.0000,9,-999.0000,9,   3.7246,     -999.0,-999.000,     -999.0,          9,     -999.0,          9,-999.000,          9
 33RO200501,       A16S,      88,          1,         20,         20,2,20050211,       2144,   -18.5018,   -25.0005,       5591,  1598.6,   3.6097,  34.8783,2,  34.8788,2,    221.2,2,   222.0,2,   29.36,2,   23.39,2,    0.00,2,    1.49,2,-999.000,9,-999.000,9,-999.000,9,  -999.0,9,  -999.0,9,  -999.0,9,   20.00,-999.0000,9,    25.00,-999.000,9, -999.00,-999.000,9,-999.000,9, -999.00,9,  -999.0,9,  -999.0,-999.000,9,-999.000,-999.000,9, -999.00,9, 1598.60,-999.0000,9,-999.0000,9,-999.0000,9,-999.0000,9,-999.0000,9,-999.0000,9,   3.4854,     -999.0,-999.000,      3.569,          2,      0.102,          2,   0.012,          2
 33RO200501,       A16S,      88,          1,         19,         19,2,20050211,       2144,   -18.5018,   -25.0005,       5591,  1799.4,   3.4173,  34.9147,2,  34.9156,2,    235.7,2,   235.7,2,   28.57,2,   21.79,2,    0.00,2,    1.38,2,-999.000,9,-999.000,9,-999.000,9,  2179.2,2,  2314.9,2,  -999.0,9,   20.00,   7.7095,2,    25.00,-999.000,9, -999.00,-999.000,9,-999.000,9, -999.00,9,  -999.0,9,  -999.0,-999.000,9,-999.000,-999.000,9, -999.00,9, 1799.40,-999.0000,9,-999.0000,9,-999.0000,9,-999.0000,9,-999.0000,9,-999.0000,9,   3.2772,     -999.0,-999.000,     -999.0,          9,     -999.0,          9,-999.000,          9
 33RO200501,       A16S,      88,          1,         18,         18,2,20050211,       2144,   -18.5018,   -25.0005,       5591,  1999.8,   3.3020,  34.9375,2,  34.9378,2,    245.4,2,   245.2,2,   27.10,2,   20.61,2,    0.00,2,    1.31,2,-999.000,9,-999.000,9,-999.000,9,  -999.0,9,  -999.0,9,  -999.0,9,   20.00,-999.0000,9,    25.00,-999.000,9, -999.00,-999.000,9,-999.000,9, -999.00,9,  -999.0,9,  -999.0,-999.000,9,-999.000,-999.000,9, -999.00,9, 1999.80,-999.0000,9,-999.0000,9,-999.0000,9,-999.0000,9,-999.0000,9,-999.0000,9,   3.1449,     -999.0,-999.000,     -999.0,          9,     -999.0,          9,-999.000,          9
 33RO200501,       A16S,      88,          1,         17,         17,2,20050211,       2144,   -18.5018,   -25.0005,       5591,  2198.9,   3.1312,  34.9352,2,  34.9375,2,    247.4,2,   248.2,2,   28.84,2,   20.46,2,    0.00,2,    1.31,2,   0.027,2,   0.021,2,   0.000,2,  -999.0,9,  -999.0,9,  -999.0,9,   20.00,-999.0000,9,    25.00,-999.000,9, -999.00,-999.000,9,-999.000,9, -999.00,9,  -999.0,9,  -999.0,-999.000,9,-999.000,   0.120,4, -999.00,9, 2198.90,-999.0000,9,-999.0000,9,-999.0000,9,-999.0000,9,-999.0000,9,-999.0000,9,   2.9581,     -999.0,-999.000,      4.421,          2,      0.111,          2,   0.014,          2
 33RO200501,       A16S,      88,          1,         16,         16,2,20050211,       2144,   -18.5018,   -25.0005,       5591,  2398.2,   2.9779,  34.9279,2,  34.9282,2,    247.7,2,   247.7,2,   31.49,2,   20.62,2,    0.00,2,    1.33,2,-999.000,9,-999.000,9,-999.000,9,  -999.0,9,  -999.0,9,  -999.0,9,   20.00,-999.0000,9,    25.00,-999.000,9, -999.00,-999.000,9,-999.000,9, -999.00,9,  -999.0,9,  -999.0,-999.000,9,-999.000,-999.000,9, -999.00,9, 2398.20,-999.0000,9,-999.0000,9,-999.0000,9,-999.0000,9,-999.0000,9,-999.0000,9,   2.7884,     -999.0,-999.000,     -999.0,          9,     -999.0,          9,-999.000,          9
 33RO200501,       A16S,      88,          1,         15,         15,2,20050211,       2144,   -18.5018,   -25.0005,       5591,  2597.5,   2.8603,  34.9216,2,  34.9231,2,    247.7,2,   247.5,2,   33.78,2,   20.80,2,    0.00,2,    1.35,2,-999.000,9,-999.000,9,-999.000,9,  -999.0,9,  -999.0,9,  -999.0,9,   20.00,-999.0000,9,    25.00,-999.000,9, -999.00,-999.000,9,-999.000,9, -999.00,9,  -999.0,9,  -999.0,-999.000,9,-999.000,-999.000,9, -999.00,9, 2597.50,-999.0000,9,-999.0000,9,-999.0000,9,-999.0000,9,-999.0000,9,-999.0000,9,   2.6534,     -999.0,-999.000,     -999.0,          9,     -999.0,          9,-999.000,          9
 33RO200501,       A16S,      88,          1,         14,         14,2,20050211,       2144,   -18.5018,   -25.0005,       5591,  2799.3,   2.7794,  34.9173,2,  34.9171,2,    247.5,2,   247.4,2,   35.18,2,   20.87,2,    0.00,2,    1.35,2,   0.018,2,   0.007,2,   0.000,2,  2180.8,2,  2325.9,2,  -999.0,9,   20.00,   7.7281,2,    25.00,-999.000,9, -999.00,-999.000,9,-999.000,9, -999.00,9,  -999.0,9,  -999.0,-999.000,9,-999.000,   0.076,4, -999.00,9, 2799.30,-999.0000,9,-999.0000,9,-999.0000,9,-999.0000,9,-999.0000,9,-999.0000,9,   2.5541,     -999.0,-999.000,      2.135,          2,      0.050,          2,   0.005,          2
 33RO200501,       A16S,      88,          1,         13,         13,5,20050211,       2144,   -18.5018,   -25.0005,       5591,  3098.8,   2.6851,  34.9142,2,-999.0000,9,   -999.0,9,  -999.0,9, -999.00,9, -999.00,9, -999.00,9, -999.00,9,-999.000,9,-999.000,9,-999.000,9,  -999.0,9,  -999.0,9,  -999.0,9,   20.00,-999.0000,9,    25.00,-999.000,9, -999.00,-999.000,9,-999.000,9, -999.00,9,  -999.0,9,  -999.0,-999.000,9,-999.000,-999.000,9, -999.00,9, 3098.80,-999.0000,9,-999.0000,9,-999.0000,9,-999.0000,9,-999.0000,9,-999.0000,9,   2.4310,     -999.0,-999.000,     -999.0,          9,     -999.0,          9,-999.000,          9
 33RO200501,       A16S,      88,          1,          9,          9,2,20050211,       2144,   -18.5018,   -25.0005,       5591,  3098.8,   2.6844,  34.9143,2,  34.9134,2,    249.4,2,   250.0,2,   36.12,2,   20.72,2,    0.00,2,    1.35,2,   0.019,6,   0.011,6,   0.000,6,  -999.0,9,  -999.0,9,  -999.0,9,   20.00,-999.0000,9,    25.00,-999.000,9, -999.00,-999.000,9,-999.000,9, -999.00,9,  -999.0,9,  -999.0,-999.000,9,-999.000,   0.085,4, -999.00,9, 3098.80,-999.0000,9,-999.0000,9,-999.0000,9,-999.0000,9,-999.0000,9,-999.0000,9,   2.4303,     -999.0,-999.000,      3.775,          2,      0.158,          2,   0.022,          2
 33RO200501,       A16S,      88,          1,         10,         10,5,20050211,       2144,   -18.5018,   -25.0005,       5591,  3098.8,   2.6848,  34.9142,2,-999.0000,9,   -999.0,9,  -999.0,9, -999.00,9, -999.00,9, -999.00,9, -999.00,9,-999.000,9,-999.000,9,-999.000,9,  -999.0,9,  -999.0,9,  -999.0,9,   20.00,-999.0000,9,    25.00,-999.000,9, -999.00,-999.000,9,-999.000,9, -999.00,9,  -999.0,9,  -999.0,-999.000,9,-999.000,-999.000,9, -999.00,9, 3098.80,-999.0000,9,-999.0000,9,-999.0000,9,-999.0000,9,-999.0000,9,-999.0000,9,   2.4307,     -999.0,-999.000,     -999.0,          9,     -999.0,          9,-999.000,          9
 33RO200501,       A16S,      88,          1,         11,         11,5,20050211,       2144,   -18.5018,   -25.0005,       5591,  3098.9,   2.6850,  34.9142,2,-999.0000,9,   -999.0,9,  -999.0,9, -999.00,9, -999.00,9, -999.00,9, -999.00,9,-999.000,9,-999.000,9,-999.000,9,  -999.0,9,  -999.0,9,  -999.0,9,   20.00,-999.0000,9,    25.00,-999.000,9, -999.00,-999.000,9,-999.000,9, -999.00,9,  -999.0,9,  -999.0,-999.000,9,-999.000,-999.000,9, -999.00,9, 3098.90,-999.0000,9,-999.0000,9,-999.0000,9,-999.0000,9,-999.0000,9,-999.0000,9,   2.4309,     -999.0,-999.000,     -999.0,          9,     -999.0,          9,-999.000,          9
 33RO200501,       A16S,      88,          1,         12,         12,5,20050211,       2144,   -18.5018,   -25.0005,       5591,  3098.9,   2.6851,  34.9141,2,-999.0000,9,   -999.0,9,  -999.0,9, -999.00,9, -999.00,9, -999.00,9, -999.00,9,-999.000,9,-999.000,9,-999.000,9,  -999.0,9,  -999.0,9,  -999.0,9,   20.00,-999.0000,9,    25.00,-999.000,9, -999.00,-999.000,9,-999.000,9, -999.00,9,  -999.0,9,  -999.0,-999.000,9,-999.000,-999.000,9, -999.00,9, 3098.90,-999.0000,9,-999.0000,9,-999.0000,9,-999.0000,9,-999.0000,9,-999.0000,9,   2.4310,     -999.0,-999.000,     -999.0,          9,     -999.0,          9,-999.000,          9
 33RO200501,       A16S,      88,          1,          8,          8,2,20050211,       2144,   -18.5018,   -25.0005,       5591,  3398.0,   2.5611,  34.9067,2,  34.9061,2,    251.1,2,   251.6,2,   38.09,2,   20.79,2,    0.00,2,    1.35,2,   0.030,2,   0.012,2,   0.000,2,  -999.0,9,  -999.0,9,  -999.0,9,   20.00,-999.0000,9,    25.00,-999.000,9, -999.00,-999.000,9,-999.000,9, -999.00,9,  -999.0,9,  -999.0,-999.000,9,-999.000,   0.083,4, -999.00,9, 3398.00,-999.0000,9,-999.0000,9,-999.0000,9,-999.0000,9,-999.0000,9,-999.0000,9,   2.2782,     -999.0,-999.000,     -999.0,          9,     -999.0,          9,-999.000,          9