BOTTLE,20220818CCHSIOAMB
EXPOCODE,SECT_ID,STNNBR,CASTNO,SAMPNO,BTLNBR,BTLNBR_FLAG_W,DATE,TIME,LATITUDE,LONGITUDE,DEPTH,CTDPRS,CTDTMP,CTDSAL,CTDSAL_FLAG_W,SALNTY,SALNTY_FLAG_W,CTDOXY,CTDOXY_FLAG_W,OXYGEN,OXYGEN_FLAG_W,SILCAT,SILCAT_FLAG_W,NITRAT,NITRAT_FLAG_W,NITRIT,NITRIT_FLAG_W,PHSPHT,PHSPHT_FLAG_W,CFC-11,CFC-11_FLAG_W,CFC-12,CFC-12_FLAG_W,CFC113,CFC113_FLAG_W,TCARBN,TCARBN_FLAG_W,ALKALI,ALKALI_FLAG_W,PCO2,PCO2_FLAG_W,PCO2TMP,PH_SWS,PH_SWS_FLAG_W,PH_TMP,TRITUM,TRITUM_FLAG_W,TRITER,HELIUM,HELIUM_FLAG_W,DELHE3,DELHE3_FLAG_W,DELC13,DELC13_FLAG_W,DELC14,DELC14_FLAG_W,C14ERR,NEON,NEON_FLAG_W,NEONER,CCL4,CCL4_FLAG_W,DOC,DOC_FLAG_W,CTDRAW,CDOM325,CDOM325_FLAG_W,CDOM340,CDOM340_FLAG_W,CDOM380,CDOM380_FLAG_W,CDOM412,CDOM412_FLAG_W,CDOMSL,CDOMSL_FLAG_W,CDOMSN,CDOMSN_FLAG_W,THETA,HELIER,DELHER,CH3CL,CH3CL_FLAG_W,CH3BR,CH3BR_FLAG_W,CH3I,CH3I_FLAG_W
,,,,,,,,,,,METERS,DBAR,ITS-90,PSS-78,,PSS-78,,UMOL/KG,,UMOL/KG,,UMOL/KG,,UMOL/KG,,UMOL/KG,,UMOL/KG,,PMOL/KG,,PMOL/KG,,PMOL/KG,,UMOL/KG,,UMOL/KG,,UATM,,DEG C,,,DEG C,TU,,TU,NMOL/KG,,PERCNT,,/MILLE,,/MILLE,,/MILLE,NMOL/KG,,NMOL/KG,PMOL/KG,,UMOL/KG,,DBAR,1/M,,1/M,,1/M,,1/M,,1/NM,,1/NM,,DEG C,NMOL/KG,PERCNT,PMOL/KG,,PMOL/KG,,PMOL/KG,
 33RO200501,       A16S,      63,          1,         36,         36,2,20050204,       0213,   -31.0012,   -25.0003,       4373,     3.9,  22.7623,  36.1629,2,  36.1630,2,    216.5,2,   215.9,2,    1.09,2,    0.10,2,    0.00,2,    0.04,2,   1.955,2,   1.248,2,   0.171,2,  2060.4,6,  2369.0,2,  -999.0,9,   20.00,   8.0334,2,    25.00,-999.000,9, -999.00,-999.000,9,-999.000,9, -999.00,9,  -999.0,9,  -999.0,-999.000,9,-999.000,   1.709,4,   66.74,2,    3.90,-999.0000,9,-999.0000,9,-999.0000,9,-999.0000,9,-999.0000,9,-999.0000,9,  22.7615,     -999.0,-999.000,     -999.0,          9,     -999.0,          9,-999.000,          9
 33RO200501,       A16S,      63,          1,         35,         35,2,20050204,       0213,   -31.0012,   -25.0003,       4373,    24.5,  22.7660,  36.1627,2,  36.1620,2,    216.9,2,   217.3,2,    1.02,2,    0.10,2,    0.00,2,    0.05,2,   1.959,2,   1.240,2,   0.165,2,  2062.1,2,  2367.7,6,  -999.0,9,   20.00,   8.0354,6,    25.00,-999.000,9, -999.00,-999.000,9,-999.000,9, -999.00,9,  -999.0,9,  -999.0,-999.000,9,-999.000,   1.696,4,   66.51,2,   24.50,-999.0000,9,-999.0000,9,-999.0000,9,-999.0000,9,-999.0000,9,-999.0000,9,  22.7610,     -999.0,-999.000,     -999.0,          9,     -999.0,          9,-999.000,          9
 33RO200501,       A16S,      63,          1,         34,         34,2,20050204,       0213,   -31.0012,   -25.0003,       4373,    49.2,  22.4225,  36.1520,2,  36.1523,2,    218.8,2,   219.6,2,    1.14,2,    0.10,2,    0.00,2,    0.09,2,   2.011,2,   1.273,2,   0.176,2,  2062.0,2,  2367.4,2,  -999.0,9,   20.00,   8.0289,2,    25.00,-999.000,9, -999.00,-999.000,9,-999.000,9, -999.00,9,  -999.0,9,  -999.0,-999.000,9,-999.000,   1.723,4,   65.71,2,   49.20,-999.0000,9,-999.0000,9,-999.0000,9,-999.0000,9,-999.0000,9,-999.0000,9,  22.4126,     -999.0,-999.000,     -999.0,          9,     -999.0,          9,-999.000,          9
 33RO200501,       A16S,      63,          1,         33,         33,2,20050204,       0213,   -31.0012,   -25.0003,       4373,    70.0,  20.8439,  36.0981,2,  36.0979,2,    229.1,2,   229.6,2,    1.15,2,    0.10,2,    0.00,2,    0.12,2,   2.171,2,   1.362,2,   0.188,2,  2064.6,2,  2364.6,2,  -999.0,9,   20.00,   8.0219,2,    25.00,-999.000,9, -999.00,-999.000,9,-999.000,9, -999.00,9,  -999.0,9,  -999.0,-999.000,9,-999.000,   1.668,4, -999.00,9,   70.00,-999.0000,9,-999.0000,9,-999.0000,9,-999.0000,9,-999.0000,9,-999.0000,9,  20.8305,     -999.0,-999.000,     -999.0,          9,     -999.0,          9,-999.000,          9
 33RO200501,       A16S,      63,          1,         32,         32,2,20050204,       0213,   -31.0012,   -25.0003,       4373,    88.8,  20.0718,  36.0906,2,  36.0973,2,    233.3,2,   233.1,2,    1.13,2,    0.11,2,    0.00,2,    0.13,2,-999.000,9,-999.000,9,-999.000,9,  2067.5,2,  2363.9,2,  -999.0,9,   20.00,   8.0146,2,    25.00,-999.000,9, -999.00,-999.000,9,-999.000,9, -999.00,9,  -999.0,9,  -999.0,-999.000,9,-999.000,-999.000,9,   62.19,2,   88.80,-999.0000,9,-999.0000,9,-999.0000,9,-999.0000,9,-999.0000,9,-999.0000,9,  20.0553,     -999.0,-999.000,     -999.0,          9,     -999.0,          9,-999.000,          9
 33RO200501,       A16S,      63,          1,         31,         31,2,20050204,       0213,   -31.0012,   -25.0003,       4373,   113.5,  19.4486,  36.1040,2,  36.1002,2,    231.1,2,   230.9,2,    1.21,2,    0.11,2,    0.00,2,    0.15,2,   2.286,2,   1.417,2,   0.185,2,  2073.0,2,  2365.2,2,  -999.0,9,   20.00,   8.0090,2,    25.00,-999.000,9, -999.00,-999.000,9,-999.000,9, -999.00,9,  -999.0,9,  -999.0,-999.000,9,-999.000,   1.512,4, -999.00,9,  113.50,-999.0000,9,-999.0000,9,-999.0000,9,-999.0000,9,-999.0000,9,-999.0000,9,  19.4279,     -999.0,-999.000,     -999.0,          9,     -999.0,          9,-999.000,          9
 33RO200501,       A16S,      63,          1,         30,         30,2,20050204,       0213,   -31.0012,   -25.0003,       4373,   138.7,  18.5386,  35.9472,2,  35.9402,2,    227.1,2,   227.7,2,    1.12,2,    0.13,2,    0.01,2,    0.18,2,-999.000,9,-999.000,9,-999.000,9,  2074.0,2,  2354.5,2,  -999.0,9,   20.00,   7.9922,2,    25.00,-999.000,9, -999.00,-999.000,9,-999.000,9, -999.00,9,  -999.0,9,  -999.0,-999.000,9,-999.000,-999.000,9,   58.36,2,  138.70,-999.0000,9,-999.0000,9,-999.0000,9,-999.0000,9,-999.0000,9,-999.0000,9,  18.5142,     -999.0,-999.000,     -999.0,          9,     -999.0,          9,-999.000,          9
 33RO200501,       A16S,      63,          1,         29,         29,9,20050204,       0213,   -31.0012,   -25.0003,       4373,   164.7,  17.6254,  35.7768,2,-999.0000,9,   -999.0,9,  -999.0,9, -999.00,9, -999.00,9, -999.00,9, -999.00,9,-999.000,9,-999.000,9,-999.000,9,  -999.0,9,  -999.0,9,  -999.0,9,   20.00,-999.0000,9,    25.00,-999.000,9, -999.00,-999.000,9,-999.000,9, -999.00,9,  -999.0,9,  -999.0,-999.000,9,-999.000,-999.000,9, -999.00,9,  164.70,-999.0000,9,-999.0000,9,-999.0000,9,-999.0000,9,-999.0000,9,-999.0000,9,  17.5974,     -999.0,-999.000,     -999.0,          9,     -999.0,          9,-999.000,          9
 33RO200501,       A16S,      63,          1,         28,         28,2,20050204,       0213,   -31.0012,   -25.0003,       4373,   188.7,  16.4370,  35.5994,2,  35.5982,2,    222.0,2,   222.6,2,    1.29,2,    1.44,2,    0.00,2,    0.29,2,   2.610,2,   1.568,2,   0.164,2,  2085.2,2,  2333.4,2,  -999.0,9,   20.00,   7.9487,2,    25.00,-999.000,9, -999.00,-999.000,9,-999.000,9, -999.00,9,  -999.0,9,  -999.0,-999.000,9,-999.000,   1.153,4,   52.67,2,  188.70,-999.0000,9,-999.0000,9,-999.0000,9,-999.0000,9,-999.0000,9,-999.0000,9,  16.4064,     -999.0,-999.000,     -999.0,          9,     -999.0,          9,-999.000,          9
 33RO200501,       A16S,      63,          1,         27,         27,2,20050204,       0213,   -31.0012,   -25.0003,       4373,   224.1,  15.4618,  35.4780,2,  35.4764,2,    219.9,2,   218.4,2,    1.70,2,    3.59,2,    0.00,2,    0.42,2,-999.000,9,-999.000,9,-999.000,9,  2089.2,2,  2324.8,2,  -999.0,9,   20.00,   7.9219,2,    25.00,-999.000,9, -999.00,-999.000,9,-999.000,9, -999.00,9,  -999.0,9,  -999.0,-999.000,9,-999.000,-999.000,9, -999.00,9,  224.10,-999.0000,9,-999.0000,9,-999.0000,9,-999.0000,9,-999.0000,9,-999.0000,9,  15.4270,     -999.0,-999.000,     -999.0,          9,     -999.0,          9,-999.000,          9
 33RO200501,       A16S,      63,          1,         26,         26,2,20050204,       0213,   -31.0012,   -25.0003,       4373,   274.3,  14.5376,  35.3734,2,  35.3656,2,    215.1,2,   215.6,2,    2.03,2,    5.87,2,    0.01,2,    0.54,2,   2.850,2,   1.655,2,   0.056,2,  2097.1,2,  2331.2,2,  -999.0,9,   20.00,   7.8980,2,    25.00,-999.000,9, -999.00,-999.000,9,-999.000,9, -999.00,9,  -999.0,9,  -999.0,-999.000,9,-999.000,   0.694,4,   48.47,2,  274.30,-999.0000,9,-999.0000,9,-999.0000,9,-999.0000,9,-999.0000,9,-999.0000,9,  14.4967,     -999.0,-999.000,     -999.0,          9,     -999.0,          9,-999.000,          9
 33RO200501,       A16S,      63,          1,         25,         25,2,20050204,       0213,   -31.0012,   -25.0003,       4373,   322.9,  13.8040,  35.3036,2,  35.3063,2,    215.1,2,   215.6,2,    2.30,2,    7.44,2,    0.01,2,    0.62,2,   2.918,2,   1.691,2,   0.054,2,  2102.9,2,  -999.0,9,  -999.0,9,   20.00,   7.8801,2,    25.00,-999.000,9, -999.00,-999.000,9,-999.000,9, -999.00,9,  -999.0,9,  -999.0,-999.000,9,-999.000,   0.673,4,   46.87,2,  322.90,-999.0000,9,-999.0000,9,-999.0000,9,-999.0000,9,-999.0000,9,-999.0000,9,  13.7575,     -999.0,-999.000,     -999.0,          9,     -999.0,          9,-999.000,          9
 33RO200501,       A16S,      63,          1,         24,         24,2,20050204,       0213,   -31.0012,   -25.0003,       4373,   374.3,  13.0191,  35.1927,2,  35.1916,2,    213.9,2,   213.4,2,    3.06,2,    9.64,2,    0.01,2,    0.74,2,   2.971,2,   1.691,2,   0.048,2,  2110.2,2,  2312.9,2,  -999.0,9,   20.00,   7.8552,2,    25.00,-999.000,9, -999.00,-999.000,9,-999.000,9, -999.00,9,  -999.0,9,  -999.0,-999.000,9,-999.000,   0.697,4,   45.96,2,  374.30,-999.0000,9,-999.0000,9,-999.0000,9,-999.0000,9,-999.0000,9,-999.0000,9,  12.9671,     -999.0,-999.000,     -999.0,          9,     -999.0,          9,-999.000,          9
 33RO200501,       A16S,      63,          1,         23,         23,2,20050204,       0213,   -31.0012,   -25.0003,       4373,   450.1,  11.7541,  35.0190,2,  35.0102,2,    209.3,2,   208.8,2,    4.56,2,   13.17,2,    0.01,2,    0.95,2,   3.004,2,   1.666,2,   0.068,2,  2121.7,2,  2303.6,2,  -999.0,9,   20.00,   7.8132,2,    25.00,-999.000,9, -999.00,-999.000,9,-999.000,9, -999.00,9,  -999.0,9,  -999.0,-999.000,9,-999.000,   0.855,4,   44.83,2,  450.10,-999.0000,9,-999.0000,9,-999.0000,9,-999.0000,9,-999.0000,9,-999.0000,9,  11.6956,     -999.0,-999.000,     -999.0,          9,     -999.0,          9,-999.000,          9
 33RO200501,       A16S,      63,          1,         22,         22,2,20050204,       0213,   -31.0012,   -25.0003,       4373,   546.2,   9.7882,  34.7725,2,  34.7722,2,    208.6,2,   207.5,2,    6.83,2,   17.89,2,    0.01,2,    1.23,2,   3.004,2,   1.604,2,   0.099,2,  2138.4,2,  2293.9,2,  -999.0,9,   20.00,   7.7596,2,    25.00,-999.000,9, -999.00,-999.000,9,-999.000,9, -999.00,9,  -999.0,9,  -999.0,-999.000,9,-999.000,   1.201,4,   43.76,2,  546.20,-999.0000,9,-999.0000,9,-999.0000,9,-999.0000,9,-999.0000,9,-999.0000,9,   9.7247,     -999.0,-999.000,     -999.0,          9,     -999.0,          9,-999.000,          9
 33RO200501,       A16S,      63,          1,         21,         21,2,20050204,       0213,   -31.0012,   -25.0003,       4373,   648.4,   7.8323,  34.5552,2,  34.5553,2,    208.0,2,   208.5,2,   10.56,2,   22.73,2,    0.00,2,    1.52,2,   2.904,2,   1.510,2,   0.125,2,  2153.2,2,  2285.4,2,  -999.0,9,   20.00,   7.7103,2,    25.00,-999.000,9, -999.00,-999.000,9,-999.000,9, -999.00,9,  -999.0,9,  -999.0,-999.000,9,-999.000,   1.652,4, -999.00,9,  648.40,-999.0000,9,-999.0000,9,-999.0000,9,-999.0000,9,-999.0000,9,-999.0000,9,   7.7660,     -999.0,-999.000,     -999.0,          9,     -999.0,          9,-999.000,          9
 33RO200501,       A16S,      63,          1,         20,         20,2,20050204,       0213,   -31.0012,   -25.0003,       4373,   749.8,   6.1990,  34.3993,2,  34.3972,2,    216.8,2,   217.8,2,   14.63,6,   25.89,6,    0.00,6,    1.71,6,   2.895,2,   1.490,2,   0.155,2,  2162.5,2,  2282.8,2,  -999.0,9,   20.00,   7.6760,2,    25.00,-999.000,9, -999.00,-999.000,9,-999.000,9, -999.00,9,  -999.0,9,  -999.0,-999.000,9,-999.000,   2.153,4,   40.67,2,  749.80,-999.0000,9,-999.0000,9,-999.0000,9,-999.0000,9,-999.0000,9,-999.0000,9,   6.1311,     -999.0,-999.000,     -999.0,          9,     -999.0,          9,-999.000,          9
 33RO200501,       A16S,      63,          1,         19,         19,2,20050204,       0213,   -31.0012,   -25.0003,       4373,   849.2,   5.0729,  34.3200,2,  34.3209,2,    222.8,2,   223.6,2,   18.92,2,   27.94,2,    0.00,2,    1.86,2,   2.701,2,   1.366,2,   0.144,2,  2171.1,2,  2283.3,3,  -999.0,9,   20.00,   7.6625,6,    25.00,-999.000,9, -999.00,-999.000,9,-999.000,9, -999.00,9,  -999.0,9,  -999.0,-999.000,9,-999.000,   2.353,4, -999.00,9,  849.20,-999.0000,9,-999.0000,9,-999.0000,9,-999.0000,9,-999.0000,9,-999.0000,9,   5.0029,     -999.0,-999.000,     -999.0,          9,     -999.0,          9,-999.000,          9
 33RO200501,       A16S,      63,          1,         18,         18,2,20050204,       0213,   -31.0012,   -25.0003,       4373,   949.7,   4.2672,  34.3029,2,  34.3028,2,    220.7,2,   220.6,2,   26.08,2,   29.86,2,    0.00,2,    1.99,2,   2.218,2,   1.095,2,   0.131,2,  2182.1,6,  2287.6,2,  -999.0,9,   20.00,   7.6405,2,    25.00,-999.000,9, -999.00,-999.000,9,-999.000,9, -999.00,9,  -999.0,9,  -999.0,-999.000,9,-999.000,   2.208,4,   39.56,2,  949.70,-999.0000,9,-999.0000,9,-999.0000,9,-999.0000,9,-999.0000,9,-999.0000,9,   4.1941,     -999.0,-999.000,     -999.0,          9,     -999.0,          9,-999.000,          9
 33RO200501,       A16S,      63,          1,         17,         17,2,20050204,       0213,   -31.0012,   -25.0003,       4373,  1049.3,   3.6764,  34.3080,2,  34.3083,2,    214.9,2,   216.9,2,   32.96,6,   30.99,6,    0.00,6,    2.07,6,   1.790,2,   0.880,2,   0.093,2,  2194.5,2,  2292.9,2,  -999.0,9,   20.00,   7.6314,2,    25.00,-999.000,9, -999.00,-999.000,9,-999.000,9, -999.00,9,  -999.0,9,  -999.0,-999.000,9,-999.000,   1.918,4,   39.63,2, 1049.30,-999.0000,9,-999.0000,9,-999.0000,9,-999.0000,9,-999.0000,9,-999.0000,9,   3.5995,     -999.0,-999.000,     -999.0,          9,     -999.0,          9,-999.000,          9
 33RO200501,       A16S,      63,          1,         16,         16,9,20050204,       0213,   -31.0012,   -25.0003,       4373,  1149.6,   3.3993,  34.3645,2,-999.0000,9,   -999.0,9,  -999.0,9, -999.00,9, -999.00,9, -999.00,9, -999.00,9,-999.000,9,-999.000,9,-999.000,9,  -999.0,9,  -999.0,9,  -999.0,9,   20.00,-999.0000,9,    25.00,-999.000,9, -999.00,-999.000,9,-999.000,9, -999.00,9,  -999.0,9,  -999.0,-999.000,9,-999.000,-999.000,9, -999.00,9, 1149.60,-999.0000,9,-999.0000,9,-999.0000,9,-999.0000,9,-999.0000,9,-999.0000,9,   3.3166,     -999.0,-999.000,     -999.0,          9,     -999.0,          9,-999.000,          9
 33RO200501,       A16S,      63,          1,         15,         15,2,20050204,       0213,   -31.0012,   -25.0003,       4373,  1249.2,   3.1735,  34.4346,2,  34.4342,2,    195.2,2,   194.0,2,   47.72,2,   32.53,2,    0.00,2,    2.20,2,   0.766,2,   0.371,2,   0.034,2,  2219.3,2,  2307.3,2,  -999.0,9,   20.00,   7.5987,2,    25.00,-999.000,9, -999.00,-999.000,9,-999.000,9, -999.00,9,  -999.0,9,  -999.0,-999.000,9,-999.000,   1.005,4,   39.39,2, 1249.20,-999.0000,9,-999.0000,9,-999.0000,9,-999.0000,9,-999.0000,9,-999.0000,9,   3.0848,     -999.0,-999.000,     -999.0,          9,     -999.0,          9,-999.000,          9
 33RO200501,       A16S,      63,          1,         14,         14,2,20050204,       0213,   -31.0012,   -25.0003,       4373,  1398.1,   2.9482,  34.5228,2,  34.5226,2,    189.2,2,   188.7,2,   53.91,2,   32.29,2,    0.00,2,    2.19,2,   0.380,2,   0.187,2,   0.013,2,  2228.8,2,  2310.1,2,  -999.0,9,   20.00,   7.5964,2,    25.00,-999.000,9, -999.00,-999.000,9,-999.000,9, -999.00,9,  -999.0,9,  -999.0,-999.000,9,-999.000,   0.588,4,   39.88,2, 1398.10,-999.0000,9,-999.0000,9,-999.0000,9,-999.0000,9,-999.0000,9,-999.0000,9,   2.8494,     -999.0,-999.000,     -999.0,          9,     -999.0,          9,-999.000,          9
 33RO200501,       A16S,      63,          1,         13,         13,2,20050204,       0213,   -31.0012,   -25.0003,       4373,  1599.2,   2.8454,  34.6451,2,  34.6443,2,    191.8,2,   191.8,2,   55.88,2,   30.65,2,    0.00,2,    2.08,2,   0.126,2,   0.066,2,   0.000,2,  2226.9,2,  2318.3,2,  -999.0,9,   20.00,   7.6101,2,    25.00,-999.000,9, -999.00,-999.000,9,-999.000,9, -999.00,9,  -999.0,9,  -999.0,-999.000,9,-999.000,   0.256,4,   39.55,2, 1599.20,-999.0000,9,-999.0000,9,-999.0000,9,-999.0000,9,-999.0000,9,-999.0000,9,   2.7309,     -999.0,-999.000,     -999.0,          9,     -999.0,          9,-999.000,          9
 33RO200501,       A16S,      63,          1,         12,         12,2,20050204,       0213,   -31.0012,   -25.0003,       4373,  1798.8,   2.7891,  34.7307,2,  34.7304,2,    201.6,2,   201.8,2,   54.30,6,   28.55,6,    0.00,6,    1.92,6,   0.041,2,   0.018,2,   0.000,2,  2219.5,2,  2319.4,2,  -999.0,9,   20.00,   7.6350,2,    25.00,-999.000,9, -999.00,-999.000,9,-999.000,9, -999.00,9,  -999.0,9,  -999.0,-999.000,9,-999.000,   0.121,4, -999.00,9, 1798.80,-999.0000,9,-999.0000,9,-999.0000,9,-999.0000,9,-999.0000,9,-999.0000,9,   2.6582,     -999.0,-999.000,     -999.0,          9,     -999.0,          9,-999.000,          9
 33RO200501,       A16S,      63,          1,         11,         11,2,20050204,       0213,   -31.0012,   -25.0003,       4373,  1999.7,   2.7518,  34.7843,2,  34.7846,2,    212.2,2,   212.3,2,   51.08,2,   26.86,2,    0.00,2,    1.81,2,   0.018,6,   0.015,6,   0.000,6,  2211.6,2,  2322.8,2,  -999.0,9,   20.00,   7.6582,2,    25.00,-999.000,9, -999.00,-999.000,9,-999.000,9, -999.00,9,  -999.0,9,  -999.0,-999.000,9,-999.000,   0.080,4,   39.40,2, 1999.70,-999.0000,9,-999.0000,9,-999.0000,9,-999.0000,9,-999.0000,9,-999.0000,9,   2.6035,     -999.0,-999.000,     -999.0,          9,     -999.0,          9,-999.000,          9
 33RO200501,       A16S,      63,          1,         10,         10,2,20050204,       0213,   -31.0012,   -25.0003,       4373,  2200.2,   2.7351,  34.8301,2,  34.8302,2,    222.7,2,   223.8,2,   46.65,2,   25.14,2,    0.00,2,    1.69,2,-999.000,9,-999.000,9,-999.000,9,  2201.9,2,  2326.0,2,  -999.0,9,   20.00,   7.6813,2,    25.00,-999.000,9, -999.00,-999.000,9,-999.000,9, -999.00,9,  -999.0,9,  -999.0,-999.000,9,-999.000,-999.000,9, -999.00,9, 2200.20,-999.0000,9,-999.0000,9,-999.0000,9,-999.0000,9,-999.0000,9,-999.0000,9,   2.5688,     -999.0,-999.000,     -999.0,          9,     -999.0,          9,-999.000,          9
 33RO200501,       A16S,      63,          1,          9,          9,2,20050204,       0213,   -31.0012,   -25.0003,       4373,  2398.8,   2.7049,  34.8523,2,  34.8520,2,    230.8,2,   231.0,2,   44.07,2,   24.14,2,    0.00,2,    1.63,2,  -0.001,2,   0.003,2,   0.004,2,  2197.1,2,  2326.1,2,  -999.0,9,   20.00,   7.6950,2,    25.00,-999.000,9, -999.00,-999.000,9,-999.000,9, -999.00,9,  -999.0,9,  -999.0,-999.000,9,-999.000,   0.033,4,   39.46,2, 2398.80,-999.0000,9,-999.0000,9,-999.0000,9,-999.0000,9,-999.0000,9,-999.0000,9,   2.5204,     -999.0,-999.000,     -999.0,          9,     -999.0,          9,-999.000,          9
 33RO200501,       A16S,      63,          1,          8,          8,2,20050204,       0213,   -31.0012,   -25.0003,       4373,  2598.2,   2.7072,  34.8716,2,  34.8721,2,    237.1,2,   236.6,2,   42.02,6,   23.21,6,    0.00,6,    1.56,6,-999.000,9,-999.000,9,-999.000,9,  2192.0,2,  2330.9,3,  -999.0,9,   20.00,   7.7087,2,    25.00,-999.000,9, -999.00,-999.000,9,-999.000,9, -999.00,9,  -999.0,9,  -999.0,-999.000,9,-999.000,-999.000,9, -999.00,9, 2598.20,-999.0000,9,-999.0000,9,-999.0000,9,-999.0000,9,-999.0000,9,-999.0000,9,   2.5034,     -999.0,-999.000,     -999.0,          9,     -999.0,          9,-999.000,          9