BOTTLE,20220818CCHSIOAMB
EXPOCODE,SECT_ID,STNNBR,CASTNO,SAMPNO,BTLNBR,BTLNBR_FLAG_W,DATE,TIME,LATITUDE,LONGITUDE,DEPTH,CTDPRS,CTDTMP,CTDSAL,CTDSAL_FLAG_W,SALNTY,SALNTY_FLAG_W,CTDOXY,CTDOXY_FLAG_W,OXYGEN,OXYGEN_FLAG_W,SILCAT,SILCAT_FLAG_W,NITRAT,NITRAT_FLAG_W,NITRIT,NITRIT_FLAG_W,PHSPHT,PHSPHT_FLAG_W,CFC-11,CFC-11_FLAG_W,CFC-12,CFC-12_FLAG_W,CFC113,CFC113_FLAG_W,TCARBN,TCARBN_FLAG_W,ALKALI,ALKALI_FLAG_W,PCO2,PCO2_FLAG_W,PCO2TMP,PH_SWS,PH_SWS_FLAG_W,PH_TMP,TRITUM,TRITUM_FLAG_W,TRITER,HELIUM,HELIUM_FLAG_W,DELHE3,DELHE3_FLAG_W,DELC13,DELC13_FLAG_W,DELC14,DELC14_FLAG_W,C14ERR,NEON,NEON_FLAG_W,NEONER,CCL4,CCL4_FLAG_W,DOC,DOC_FLAG_W,CTDRAW,CDOM325,CDOM325_FLAG_W,CDOM340,CDOM340_FLAG_W,CDOM380,CDOM380_FLAG_W,CDOM412,CDOM412_FLAG_W,CDOMSL,CDOMSL_FLAG_W,CDOMSN,CDOMSN_FLAG_W,THETA,HELIER,DELHER,CH3CL,CH3CL_FLAG_W,CH3BR,CH3BR_FLAG_W,CH3I,CH3I_FLAG_W
,,,,,,,,,,,METERS,DBAR,ITS-90,PSS-78,,PSS-78,,UMOL/KG,,UMOL/KG,,UMOL/KG,,UMOL/KG,,UMOL/KG,,UMOL/KG,,PMOL/KG,,PMOL/KG,,PMOL/KG,,UMOL/KG,,UMOL/KG,,UATM,,DEG C,,,DEG C,TU,,TU,NMOL/KG,,PERCNT,,/MILLE,,/MILLE,,/MILLE,NMOL/KG,,NMOL/KG,PMOL/KG,,UMOL/KG,,DBAR,1/M,,1/M,,1/M,,1/M,,1/NM,,1/NM,,DEG C,NMOL/KG,PERCNT,PMOL/KG,,PMOL/KG,,PMOL/KG,
 33RO200501,       A16S,      53,          1,          7,          7,2,20050201,       0423,   -36.0002,   -25.3002,       4058,  2599.2,   2.8901,  34.8810,2,  34.8816,2,    231.6,2,   232.0,2,   43.15,2,   23.33,2,    0.00,2,    1.54,2,   0.046,2,   0.020,2,   0.000,2,  2194.1,2,  2329.7,2,   833.0,3,   20.00,   7.7037,2,    25.00,-999.000,9, -999.00,-999.000,9,-999.000,9, -999.00,9,  -999.0,9,  -999.0,-999.000,9,-999.000,   0.118,4,   40.57,2, 2599.20,-999.0000,9,-999.0000,9,-999.0000,9,-999.0000,9,-999.0000,9,-999.0000,9,   2.6827,     -999.0,-999.000,     -999.0,          9,     -999.0,          9,-999.000,          9
 33RO200501,       A16S,      53,          1,          6,          6,2,20050201,       0423,   -36.0002,   -25.3002,       4058,  2798.2,   2.7458,  34.8833,2,  34.8835,2,    235.4,2,   235.0,2,   44.73,2,   23.17,2,    0.00,2,    1.53,2,-999.000,9,-999.000,9,-999.000,9,  2193.0,2,  2329.2,2,   827.6,2,   20.00,   7.7093,2,    25.00,-999.000,9, -999.00,-999.000,9,-999.000,9, -999.00,9,  -999.0,9,  -999.0,-999.000,9,-999.000,-999.000,9, -999.00,9, 2798.20,-999.0000,9,-999.0000,9,-999.0000,9,-999.0000,9,-999.0000,9,-999.0000,9,   2.5214,     -999.0,-999.000,     -999.0,          9,     -999.0,          9,-999.000,          9
 33RO200501,       A16S,      53,          1,          5,          5,2,20050201,       0423,   -36.0002,   -25.3002,       4058,  2999.1,   2.5738,  34.8761,2,  34.8772,2,    236.3,2,   235.9,2,   48.17,2,   23.28,2,    0.00,2,    1.55,2,   0.038,6,   0.016,6,   0.004,6,  2195.8,2,  2328.9,2,   827.2,2,   20.00,   7.7059,2,    25.00,-999.000,9, -999.00,   1.890,2,   4.336,2, -999.00,9,  -999.0,9,  -999.0,   8.208,2,   0.012,   0.095,4,   40.53,2, 2999.10,   0.1950,2,   0.1480,3,   0.0760,3,   0.0480,3,   0.0158,3,   0.0165,3,   2.3326,      0.001,   0.233,     -999.0,          9,     -999.0,          9,-999.000,          9
 33RO200501,       A16S,      53,          1,          4,          4,2,20050201,       0423,   -36.0002,   -25.3002,       4058,  3248.8,   2.2242,  34.8448,2,  34.8452,2,    231.8,2,   231.4,2,   59.92,6,   24.71,6,    0.00,6,    1.66,6,-999.000,9,-999.000,9,-999.000,9,  2206.3,2,  2335.1,2,  -999.0,9,   20.00,   7.6925,2,    25.00,-999.000,9, -999.00,-999.000,9,-999.000,9, -999.00,9,  -999.0,9,  -999.0,-999.000,9,-999.000,-999.000,9, -999.00,9, 3248.80,-999.0000,9,-999.0000,9,-999.0000,9,-999.0000,9,-999.0000,9,-999.0000,9,   1.9654,     -999.0,-999.000,     -999.0,          9,     -999.0,          9,-999.000,          9
 33RO200501,       A16S,      53,          1,          3,          3,2,20050201,       0423,   -36.0002,   -25.3002,       4058,  3499.8,   1.8003,  34.8020,2,  34.8023,2,    224.8,2,   224.2,2,   76.89,6,   26.89,6,    0.00,6,    1.83,6,   0.057,2,   0.022,2,   0.003,2,  2224.3,2,  2345.0,2,   918.9,2,   20.00,   7.6723,2,    25.00,-999.000,9, -999.00,-999.000,9,-999.000,9, -999.00,9,  -999.0,9,  -999.0,-999.000,9,-999.000,   0.094,4,   40.43,2, 3499.80,-999.0000,9,-999.0000,9,-999.0000,9,-999.0000,9,-999.0000,9,-999.0000,9,   1.5260,     -999.0,-999.000,     -999.0,          9,     -999.0,          9,-999.000,          9
 33RO200501,       A16S,      53,          1,          2,          2,2,20050201,       0423,   -36.0002,   -25.3002,       4058,  3747.4,   1.4109,  34.7659,2,  34.7657,2,    220.5,2,   220.0,2,   91.44,6,   28.68,6,    0.00,6,    1.97,6,   0.070,2,   0.030,2,   0.002,2,  2237.5,2,  2351.2,6,   959.7,2,   20.00,   7.6550,6,    25.00,-999.000,9, -999.00,-999.000,9,-999.000,9, -999.00,9,  -999.0,9,  -999.0,-999.000,9,-999.000,   0.118,4, -999.00,9, 3747.40,-999.0000,9,-999.0000,9,-999.0000,9,-999.0000,9,-999.0000,9,-999.0000,9,   1.1210,     -999.0,-999.000,     -999.0,          9,     -999.0,          9,-999.000,          9
 33RO200501,       A16S,      53,          1,          1,          1,2,20050201,       0423,   -36.0002,   -25.3002,       4058,  4083.2,   0.8547,  34.7180,2,  34.7174,2,    217.0,2,   217.2,2,  110.37,6,   30.90,6,    0.00,6,    2.15,6,   0.137,2,   0.065,2,   0.001,2,  2255.9,6,  2359.3,2,  1015.7,2,   20.00,   7.6713,2,    25.00,-999.000,9, -999.00,   1.897,2,   7.043,4, -999.00,9,  -999.0,9,  -999.0,   8.300,2,   0.012,   0.202,4,   38.88,2, 4083.20,   0.1930,3,   0.1460,3,   0.0750,3,   0.0480,3,   0.0157,3,   0.0164,3,   0.5451,      0.001,   0.241,     -999.0,          9,     -999.0,          9,-999.000,          9