BOTTLE,20220818CCHSIOAMB
EXPOCODE,SECT_ID,STNNBR,CASTNO,SAMPNO,BTLNBR,BTLNBR_FLAG_W,DATE,TIME,LATITUDE,LONGITUDE,DEPTH,CTDPRS,CTDTMP,CTDSAL,CTDSAL_FLAG_W,SALNTY,SALNTY_FLAG_W,CTDOXY,CTDOXY_FLAG_W,OXYGEN,OXYGEN_FLAG_W,SILCAT,SILCAT_FLAG_W,NITRAT,NITRAT_FLAG_W,NITRIT,NITRIT_FLAG_W,PHSPHT,PHSPHT_FLAG_W,CFC-11,CFC-11_FLAG_W,CFC-12,CFC-12_FLAG_W,CFC113,CFC113_FLAG_W,TCARBN,TCARBN_FLAG_W,ALKALI,ALKALI_FLAG_W,PCO2,PCO2_FLAG_W,PCO2TMP,PH_SWS,PH_SWS_FLAG_W,PH_TMP,TRITUM,TRITUM_FLAG_W,TRITER,HELIUM,HELIUM_FLAG_W,DELHE3,DELHE3_FLAG_W,DELC13,DELC13_FLAG_W,DELC14,DELC14_FLAG_W,C14ERR,NEON,NEON_FLAG_W,NEONER,CCL4,CCL4_FLAG_W,DOC,DOC_FLAG_W,CTDRAW,CDOM325,CDOM325_FLAG_W,CDOM340,CDOM340_FLAG_W,CDOM380,CDOM380_FLAG_W,CDOM412,CDOM412_FLAG_W,CDOMSL,CDOMSL_FLAG_W,CDOMSN,CDOMSN_FLAG_W,THETA,HELIER,DELHER,CH3CL,CH3CL_FLAG_W,CH3BR,CH3BR_FLAG_W,CH3I,CH3I_FLAG_W
,,,,,,,,,,,METERS,DBAR,ITS-90,PSS-78,,PSS-78,,UMOL/KG,,UMOL/KG,,UMOL/KG,,UMOL/KG,,UMOL/KG,,UMOL/KG,,PMOL/KG,,PMOL/KG,,PMOL/KG,,UMOL/KG,,UMOL/KG,,UATM,,DEG C,,,DEG C,TU,,TU,NMOL/KG,,PERCNT,,/MILLE,,/MILLE,,/MILLE,NMOL/KG,,NMOL/KG,PMOL/KG,,UMOL/KG,,DBAR,1/M,,1/M,,1/M,,1/M,,1/NM,,1/NM,,DEG C,NMOL/KG,PERCNT,PMOL/KG,,PMOL/KG,,PMOL/KG,
 33RO200501,       A16S,      44,          1,          7,          7,2,20050129,       0831,   -40.4988,   -28.1013,       4151,  2701.3,   2.4976,  34.8273,2,  34.8276,2,    216.5,2,   216.0,2,   60.57,2,   26.18,2,    0.00,2,    1.72,2,-999.000,9,-999.000,9,-999.000,9,  2216.7,2,  2330.8,2,  -999.0,9,   20.00,   7.6719,2,    25.00,-999.000,9, -999.00,-999.000,9,-999.000,9, -999.00,9,  -999.0,9,  -999.0,-999.000,9,-999.000,-999.000,9, -999.00,9, 2701.30,-999.0000,9,-999.0000,9,-999.0000,9,-999.0000,9,-999.0000,9,-999.0000,9,   2.2880,     -999.0,-999.000,      1.605,          2,      0.014,          2,   0.022,          2
 33RO200501,       A16S,      44,          1,          6,          6,2,20050129,       0831,   -40.4988,   -28.1013,       4151,  2900.4,   2.2139,  34.8103,2,  34.8113,2,    214.2,2,   214.9,2,   68.66,2,   26.88,2,    0.00,2,    1.77,2,-999.000,9,-999.000,9,-999.000,9,  -999.0,9,  -999.0,9,  -999.0,9,   20.00,-999.0000,9,    25.00,-999.000,9, -999.00,-999.000,9,-999.000,9, -999.00,9,  -999.0,9,  -999.0,-999.000,9,-999.000,-999.000,9, -999.00,9, 2900.40,-999.0000,9,-999.0000,9,-999.0000,9,-999.0000,9,-999.0000,9,-999.0000,9,   1.9907,     -999.0,-999.000,     -999.0,          9,     -999.0,          9,-999.000,          9
 33RO200501,       A16S,      44,          1,          5,          5,2,20050129,       0831,   -40.4988,   -28.1013,       4151,  3201.0,   1.7471,  34.7702,2,  34.7694,2,    208.5,2,   208.5,2,   86.77,2,   28.99,2,    0.00,2,    1.95,2,   0.083,2,   0.031,2,   0.001,2,  -999.0,9,  -999.0,9,  -999.0,9,   20.00,-999.0000,9,    25.00,-999.000,9, -999.00,-999.000,9,-999.000,9, -999.00,9,  -999.0,9,  -999.0,-999.000,9,-999.000,   0.089,3, -999.00,9, 3201.00,-999.0000,9,-999.0000,9,-999.0000,9,-999.0000,9,-999.0000,9,-999.0000,9,   1.5047,     -999.0,-999.000,     -999.0,          9,     -999.0,          9,-999.000,          9
 33RO200501,       A16S,      44,          1,          4,          4,2,20050129,       0831,   -40.4988,   -28.1013,       4151,  3501.7,   1.2813,  34.7302,2,  34.7291,2,    206.6,2,   204.9,2,  104.36,6,   30.94,6,    0.00,6,    2.10,6,-999.000,9,-999.000,9,-999.000,9,  2253.6,2,  2348.5,2,  -999.0,9,   20.00,   7.6205,2,    25.00,-999.000,9, -999.00,-999.000,9,-999.000,9, -999.00,9,  -999.0,9,  -999.0,-999.000,9,-999.000,-999.000,9, -999.00,9, 3501.70,-999.0000,9,-999.0000,9,-999.0000,9,-999.0000,9,-999.0000,9,-999.0000,9,   1.0202,     -999.0,-999.000,      1.357,          2,      0.045,          2,   0.029,          2
 33RO200501,       A16S,      44,          1,          3,          3,2,20050129,       0831,   -40.4988,   -28.1013,       4151,  3801.1,   0.9493,  34.7136,2,  34.7138,2,    211.3,2,   210.3,2,  110.77,6,   31.41,6,    0.00,6,    2.15,6,   0.165,2,   0.079,2,   0.004,2,  -999.0,9,  -999.0,9,  -999.0,9,   20.00,-999.0000,9,    25.00,-999.000,9, -999.00,-999.000,9,-999.000,9, -999.00,9,  -999.0,9,  -999.0,-999.000,9,-999.000,   0.259,3, -999.00,9, 3801.10,-999.0000,9,-999.0000,9,-999.0000,9,-999.0000,9,-999.0000,9,-999.0000,9,   0.6665,     -999.0,-999.000,     -999.0,          9,     -999.0,          9,-999.000,          9
 33RO200501,       A16S,      44,          1,          2,          2,2,20050129,       0831,   -40.4988,   -28.1013,       4151,  4100.9,   0.5971,  34.6918,2,  34.6918,2,    214.8,2,   214.4,2,  119.42,6,   32.04,6,    0.00,6,    2.21,6,-999.000,9,-999.000,9,-999.000,9,  -999.0,9,  -999.0,9,  -999.0,9,   20.00,-999.0000,9,    25.00,-999.000,9, -999.00,-999.000,9,-999.000,9, -999.00,9,  -999.0,9,  -999.0,-999.000,9,-999.000,-999.000,9, -999.00,9, 4100.90,-999.0000,9,-999.0000,9,-999.0000,9,-999.0000,9,-999.0000,9,-999.0000,9,   0.2932,     -999.0,-999.000,     -999.0,          9,     -999.0,          9,-999.000,          9
 33RO200501,       A16S,      44,          1,          1,          1,2,20050129,       0831,   -40.4988,   -28.1013,       4151,  4416.1,   0.3743,  34.6786,2,  34.6792,2,    218.8,2,   218.4,2,  124.73,6,   32.46,6,    0.00,6,    2.25,6,   0.304,2,   0.136,2,   0.008,2,  2263.3,2,  2355.3,2,  -999.0,9,   20.00,   7.6065,2,    25.00,-999.000,9, -999.00,-999.000,9,-999.000,9, -999.00,9,  -999.0,9,  -999.0,-999.000,9,-999.000,   0.426,3, -999.00,9, 4416.10,-999.0000,9,-999.0000,9,-999.0000,9,-999.0000,9,-999.0000,9,-999.0000,9,   0.0437,     -999.0,-999.000,      6.987,          2,      0.454,          2,   0.107,          2