BOTTLE,20220818CCHSIOAMB
EXPOCODE,SECT_ID,STNNBR,CASTNO,SAMPNO,BTLNBR,BTLNBR_FLAG_W,DATE,TIME,LATITUDE,LONGITUDE,DEPTH,CTDPRS,CTDTMP,CTDSAL,CTDSAL_FLAG_W,SALNTY,SALNTY_FLAG_W,CTDOXY,CTDOXY_FLAG_W,OXYGEN,OXYGEN_FLAG_W,SILCAT,SILCAT_FLAG_W,NITRAT,NITRAT_FLAG_W,NITRIT,NITRIT_FLAG_W,PHSPHT,PHSPHT_FLAG_W,CFC-11,CFC-11_FLAG_W,CFC-12,CFC-12_FLAG_W,CFC113,CFC113_FLAG_W,TCARBN,TCARBN_FLAG_W,ALKALI,ALKALI_FLAG_W,PCO2,PCO2_FLAG_W,PCO2TMP,PH_SWS,PH_SWS_FLAG_W,PH_TMP,TRITUM,TRITUM_FLAG_W,TRITER,HELIUM,HELIUM_FLAG_W,DELHE3,DELHE3_FLAG_W,DELC13,DELC13_FLAG_W,DELC14,DELC14_FLAG_W,C14ERR,NEON,NEON_FLAG_W,NEONER,CCL4,CCL4_FLAG_W,DOC,DOC_FLAG_W,CTDRAW,CDOM325,CDOM325_FLAG_W,CDOM340,CDOM340_FLAG_W,CDOM380,CDOM380_FLAG_W,CDOM412,CDOM412_FLAG_W,CDOMSL,CDOMSL_FLAG_W,CDOMSN,CDOMSN_FLAG_W,THETA,HELIER,DELHER,CH3CL,CH3CL_FLAG_W,CH3BR,CH3BR_FLAG_W,CH3I,CH3I_FLAG_W
,,,,,,,,,,,METERS,DBAR,ITS-90,PSS-78,,PSS-78,,UMOL/KG,,UMOL/KG,,UMOL/KG,,UMOL/KG,,UMOL/KG,,UMOL/KG,,PMOL/KG,,PMOL/KG,,PMOL/KG,,UMOL/KG,,UMOL/KG,,UATM,,DEG C,,,DEG C,TU,,TU,NMOL/KG,,PERCNT,,/MILLE,,/MILLE,,/MILLE,NMOL/KG,,NMOL/KG,PMOL/KG,,UMOL/KG,,DBAR,1/M,,1/M,,1/M,,1/M,,1/NM,,1/NM,,DEG C,NMOL/KG,PERCNT,PMOL/KG,,PMOL/KG,,PMOL/KG,
 33RO200501,       A16S,      82,          1,          7,          7,2,20050209,       2255,   -21.5008,   -25.0002,       5290,  3348.9,   2.5204,  34.9044,2,  34.9047,2,    251.5,2,   251.3,2,   38.29,6,   20.79,6,    0.00,6,    1.37,6,-999.000,9,-999.000,9,-999.000,9,  -999.0,9,  -999.0,9,  -999.0,9,   20.00,-999.0000,9,    25.00,-999.000,9, -999.00,-999.000,9,-999.000,9, -999.00,9,  -999.0,9,  -999.0,-999.000,9,-999.000,-999.000,9, -999.00,9, 3348.90,-999.0000,9,-999.0000,9,-999.0000,9,-999.0000,9,-999.0000,9,-999.0000,9,   2.2438,     -999.0,-999.000,     -999.0,          9,     -999.0,          9,-999.000,          9
 33RO200501,       A16S,      82,          1,          6,          6,2,20050209,       2255,   -21.5008,   -25.0002,       5290,  3644.4,   2.2729,  34.8800,2,  34.8798,2,    248.7,2,   248.5,2,   47.02,2,   21.85,2,    0.00,2,    1.44,2,   0.011,2,   0.011,2,   0.000,2,  2189.3,2,  2331.6,2,  -999.0,9,   20.00,   7.7217,2,    25.00,-999.000,9, -999.00,-999.000,9,-999.000,9, -999.00,9,  -999.0,9,  -999.0,-999.000,9,-999.000,   0.077,4, -999.00,9, 3644.40,-999.0000,9,-999.0000,9,-999.0000,9,-999.0000,9,-999.0000,9,-999.0000,9,   1.9707,     -999.0,-999.000,     -999.0,          9,     -999.0,          9,-999.000,          9
 33RO200501,       A16S,      82,          1,          5,          5,2,20050209,       2255,   -21.5008,   -25.0002,       5290,  3949.8,   1.8443,  34.8352,2,  34.8373,3,    241.6,2,   241.7,2,   64.10,2,   24.13,2,    0.00,2,    1.63,2,-999.000,9,-999.000,9,-999.000,9,  -999.0,9,  -999.0,9,  -999.0,9,   20.00,-999.0000,9,    25.00,-999.000,9, -999.00,-999.000,9,-999.000,9, -999.00,9,  -999.0,9,  -999.0,-999.000,9,-999.000,-999.000,9, -999.00,9, 3949.80,-999.0000,9,-999.0000,9,-999.0000,9,-999.0000,9,-999.0000,9,-999.0000,9,   1.5204,     -999.0,-999.000,      5.726,          2,      0.468,          2,   0.081,          2
 33RO200501,       A16S,      82,          1,          4,          4,2,20050209,       2255,   -21.5008,   -25.0002,       5290,  4248.5,   1.4548,  34.7931,2,  34.7923,2,    235.1,2,   234.8,2,   80.81,6,   26.39,6,    0.00,6,    1.81,6,-999.000,9,-999.000,9,-999.000,9,  -999.0,9,  -999.0,9,  -999.0,9,   20.00,-999.0000,9,    25.00,-999.000,9, -999.00,-999.000,9,-999.000,9, -999.00,9,  -999.0,9,  -999.0,-999.000,9,-999.000,-999.000,9, -999.00,9, 4248.50,-999.0000,9,-999.0000,9,-999.0000,9,-999.0000,9,-999.0000,9,-999.0000,9,   1.1091,     -999.0,-999.000,     -999.0,          9,     -999.0,          9,-999.000,          9
 33RO200501,       A16S,      82,          1,          3,          3,2,20050209,       2255,   -21.5008,   -25.0002,       5290,  4549.5,   1.1283,  34.7572,2,  34.7573,2,    229.8,2,   229.6,2,   94.75,6,   28.15,6,    0.00,6,    1.96,6,   0.014,2,   0.009,2,   0.000,2,  -999.0,9,  2353.4,2,  -999.0,9,   20.00,   7.6636,2,    25.00,-999.000,9, -999.00,-999.000,9,-999.000,9,    0.77,6,  -145.3,6,     2.1,-999.000,9,-999.000,   0.057,4, -999.00,9, 4549.50,-999.0000,9,-999.0000,9,-999.0000,9,-999.0000,9,-999.0000,9,-999.0000,9,   0.7588,     -999.0,-999.000,     -999.0,          9,     -999.0,          9,-999.000,          9
 33RO200501,       A16S,      82,          1,          2,          2,2,20050209,       2255,   -21.5008,   -25.0002,       5290,  5047.5,   0.8043,  34.7191,2,  34.7234,3,    224.5,2,   223.9,2,  109.48,6,   30.00,6,    0.00,6,    2.11,6,-999.000,9,-999.000,9,-999.000,9,  -999.0,9,  -999.0,9,  -999.0,9,   20.00,-999.0000,9,    25.00,-999.000,9, -999.00,-999.000,9,-999.000,9, -999.00,9,  -999.0,9,  -999.0,-999.000,9,-999.000,-999.000,9, -999.00,9, 5047.50,-999.0000,9,-999.0000,9,-999.0000,9,-999.0000,9,-999.0000,9,-999.0000,9,   0.3879,     -999.0,-999.000,     13.478,          3,      1.438,          3,   0.118,          3
 33RO200501,       A16S,      82,          1,          1,          1,2,20050209,       2255,   -21.5008,   -25.0002,       5290,  5395.4,   0.7258,  34.7065,2,  34.7067,2,    222.7,2,   222.6,2,  114.01,6,   30.55,6,    0.00,6,    2.15,6,   0.080,2,   0.043,2,   0.000,2,  2254.3,2,  2361.6,2,  -999.0,9,   20.00,   7.6269,2,    25.00,-999.000,9, -999.00,-999.000,9,-999.000,9, -999.00,9,  -999.0,9,  -999.0,-999.000,9,-999.000,   0.164,4, -999.00,9, 5395.40,-999.0000,9,-999.0000,9,-999.0000,9,-999.0000,9,-999.0000,9,-999.0000,9,   0.2703,     -999.0,-999.000,     -999.0,          9,     -999.0,          9,-999.000,          9