BOTTLE,20220818CCHSIOAMB
EXPOCODE,SECT_ID,STNNBR,CASTNO,SAMPNO,BTLNBR,BTLNBR_FLAG_W,DATE,TIME,LATITUDE,LONGITUDE,DEPTH,CTDPRS,CTDTMP,CTDSAL,CTDSAL_FLAG_W,SALNTY,SALNTY_FLAG_W,CTDOXY,CTDOXY_FLAG_W,OXYGEN,OXYGEN_FLAG_W,SILCAT,SILCAT_FLAG_W,NITRAT,NITRAT_FLAG_W,NITRIT,NITRIT_FLAG_W,PHSPHT,PHSPHT_FLAG_W,CFC-11,CFC-11_FLAG_W,CFC-12,CFC-12_FLAG_W,CFC113,CFC113_FLAG_W,TCARBN,TCARBN_FLAG_W,ALKALI,ALKALI_FLAG_W,PCO2,PCO2_FLAG_W,PCO2TMP,PH_SWS,PH_SWS_FLAG_W,PH_TMP,TRITUM,TRITUM_FLAG_W,TRITER,HELIUM,HELIUM_FLAG_W,DELHE3,DELHE3_FLAG_W,DELC13,DELC13_FLAG_W,DELC14,DELC14_FLAG_W,C14ERR,NEON,NEON_FLAG_W,NEONER,CCL4,CCL4_FLAG_W,DOC,DOC_FLAG_W,CTDRAW,CDOM325,CDOM325_FLAG_W,CDOM340,CDOM340_FLAG_W,CDOM380,CDOM380_FLAG_W,CDOM412,CDOM412_FLAG_W,CDOMSL,CDOMSL_FLAG_W,CDOMSN,CDOMSN_FLAG_W,THETA,HELIER,DELHER,CH3CL,CH3CL_FLAG_W,CH3BR,CH3BR_FLAG_W,CH3I,CH3I_FLAG_W
,,,,,,,,,,,METERS,DBAR,ITS-90,PSS-78,,PSS-78,,UMOL/KG,,UMOL/KG,,UMOL/KG,,UMOL/KG,,UMOL/KG,,UMOL/KG,,PMOL/KG,,PMOL/KG,,PMOL/KG,,UMOL/KG,,UMOL/KG,,UATM,,DEG C,,,DEG C,TU,,TU,NMOL/KG,,PERCNT,,/MILLE,,/MILLE,,/MILLE,NMOL/KG,,NMOL/KG,PMOL/KG,,UMOL/KG,,DBAR,1/M,,1/M,,1/M,,1/M,,1/NM,,1/NM,,DEG C,NMOL/KG,PERCNT,PMOL/KG,,PMOL/KG,,PMOL/KG,
 33RO200501,       A16S,      22,          1,         36,         36,2,20050122,       0831,   -51.5013,   -34.9313,       4786,    11.0,   4.9264,  33.7544,2,  33.7549,2,    322.5,2,   328.9,2,    0.91,2,   16.31,2,    0.25,2,    0.72,2,   5.222,2,   2.912,2,   0.475,2,  2093.4,6,  2293.5,6,  -999.0,9,   20.00,   7.8512,6,    25.00,-999.000,9, -999.00,-999.000,9,-999.000,9, -999.00,9,  -999.0,9,  -999.0,-999.000,9,-999.000,   5.793,4, -999.00,9,   11.00,-999.0000,9,-999.0000,9,-999.0000,9,-999.0000,9,-999.0000,9,-999.0000,9,   4.9256,     -999.0,-999.000,     59.998,          2,      1.432,          2,   0.891,          2
 33RO200501,       A16S,      22,          1,         35,         35,2,20050122,       0831,   -51.5013,   -34.9313,       4786,    30.9,   4.4359,  33.7567,2,  33.7568,2,    326.4,2,   327.3,2,    0.99,2,   16.56,2,    0.25,2,    0.78,2,-999.000,9,-999.000,9,-999.000,9,  -999.0,9,  -999.0,9,  -999.0,9,   20.00,-999.0000,9,    25.00,-999.000,9, -999.00,-999.000,9,-999.000,9, -999.00,9,  -999.0,9,  -999.0,-999.000,9,-999.000,-999.000,9, -999.00,9,   30.90,-999.0000,9,-999.0000,9,-999.0000,9,-999.0000,9,-999.0000,9,-999.0000,9,   4.4338,     -999.0,-999.000,     53.529,          2,      0.834,          2,   0.914,          2
 33RO200501,       A16S,      22,          1,         34,         34,2,20050122,       0831,   -51.5013,   -34.9313,       4786,    50.7,   4.1666,  33.7497,2,  33.7512,2,    318.8,2,   320.6,2,    1.76,2,   16.73,2,    0.26,2,    1.02,2,-999.000,9,-999.000,9,-999.000,9,  -999.0,9,  -999.0,9,  -999.0,9,   20.00,-999.0000,9,    25.00,-999.000,9, -999.00,-999.000,9,-999.000,9, -999.00,9,  -999.0,9,  -999.0,-999.000,9,-999.000,-999.000,9, -999.00,9,   50.70,-999.0000,9,-999.0000,9,-999.0000,9,-999.0000,9,-999.0000,9,-999.0000,9,   4.1632,     -999.0,-999.000,     54.348,          2,      0.794,          2,   0.938,          2
 33RO200501,       A16S,      22,          1,         33,         33,2,20050122,       0831,   -51.5013,   -34.9313,       4786,    70.9,   3.5159,  33.7710,2,  33.7731,2,    321.6,2,   320.9,2,    4.53,2,   17.88,2,    0.26,2,    1.36,2,-999.000,9,-999.000,9,-999.000,9,  -999.0,9,  -999.0,9,  -999.0,9,   20.00,-999.0000,9,    25.00,-999.000,9, -999.00,-999.000,9,-999.000,9, -999.00,9,  -999.0,9,  -999.0,-999.000,9,-999.000,-999.000,9, -999.00,9,   70.90,-999.0000,9,-999.0000,9,-999.0000,9,-999.0000,9,-999.0000,9,-999.0000,9,   3.5114,     -999.0,-999.000,     37.052,          2,      0.512,          2,   0.871,          2
 33RO200501,       A16S,      22,          1,         32,         32,2,20050122,       0831,   -51.5013,   -34.9313,       4786,    90.2,   1.6499,  33.8389,2,  33.8439,2,    331.3,2,   329.2,2,   16.98,2,   22.89,2,    0.26,2,    1.78,2,-999.000,9,-999.000,9,-999.000,9,  -999.0,9,  -999.0,9,  -999.0,9,   20.00,-999.0000,9,    25.00,-999.000,9, -999.00,-999.000,9,-999.000,9, -999.00,9,  -999.0,9,  -999.0,-999.000,9,-999.000,-999.000,9, -999.00,9,   90.20,-999.0000,9,-999.0000,9,-999.0000,9,-999.0000,9,-999.0000,9,-999.0000,9,   1.6455,     -999.0,-999.000,     -999.0,          9,     -999.0,          9,-999.000,          9
 33RO200501,       A16S,      22,          1,         31,         31,2,20050122,       0831,   -51.5013,   -34.9313,       4786,   115.5,   0.8245,  33.8783,2,  33.8815,2,    329.3,2,   325.6,2,   28.90,2,   26.04,2,    0.28,2,    1.93,2,-999.000,9,-999.000,9,-999.000,9,  -999.0,9,  -999.0,9,  -999.0,9,   20.00,-999.0000,9,    25.00,-999.000,9, -999.00,-999.000,9,-999.000,9, -999.00,9,  -999.0,9,  -999.0,-999.000,9,-999.000,-999.000,9, -999.00,9,  115.50,-999.0000,9,-999.0000,9,-999.0000,9,-999.0000,9,-999.0000,9,-999.0000,9,   0.8197,     -999.0,-999.000,     15.955,          2,      0.000,          2,   0.332,          2
 33RO200501,       A16S,      22,          1,         30,         30,2,20050122,       0831,   -51.5013,   -34.9313,       4786,   140.4,   0.5164,  33.9484,2,  33.9550,2,    310.4,2,   320.3,2,   37.92,2,   28.76,2,    0.11,2,    2.00,2,-999.000,9,-999.000,9,-999.000,9,  -999.0,9,  -999.0,9,  -999.0,9,   20.00,-999.0000,9,    25.00,-999.000,9, -999.00,-999.000,9,-999.000,9, -999.00,9,  -999.0,9,  -999.0,-999.000,9,-999.000,-999.000,9, -999.00,9,  140.40,-999.0000,9,-999.0000,9,-999.0000,9,-999.0000,9,-999.0000,9,-999.0000,9,   0.5109,     -999.0,-999.000,     -999.0,          9,     -999.0,          9,-999.000,          9
 33RO200501,       A16S,      22,          1,         29,         29,2,20050122,       0831,   -51.5013,   -34.9313,       4786,   165.4,   0.6564,  34.0616,2,  34.0925,2,    276.2,2,   279.3,2,   46.23,2,   31.25,2,    0.03,2,    2.11,2,-999.000,9,-999.000,9,-999.000,9,  -999.0,9,  -999.0,9,  -999.0,9,   20.00,-999.0000,9,    25.00,-999.000,9, -999.00,-999.000,9,-999.000,9, -999.00,9,  -999.0,9,  -999.0,-999.000,9,-999.000,-999.000,9, -999.00,9,  165.40,-999.0000,9,-999.0000,9,-999.0000,9,-999.0000,9,-999.0000,9,-999.0000,9,   0.6496,     -999.0,-999.000,     -999.0,          9,     -999.0,          9,-999.000,          9
 33RO200501,       A16S,      22,          1,         28,         28,2,20050122,       0831,   -51.5013,   -34.9313,       4786,   190.8,   0.9859,  34.1460,2,  34.1486,2,    263.2,2,   265.2,2,   49.61,2,   31.92,2,    0.03,2,    2.16,2,-999.000,9,-999.000,9,-999.000,9,  -999.0,9,  -999.0,9,  -999.0,9,   20.00,-999.0000,9,    25.00,-999.000,9, -999.00,-999.000,9,-999.000,9, -999.00,9,  -999.0,9,  -999.0,-999.000,9,-999.000,-999.000,9, -999.00,9,  190.80,-999.0000,9,-999.0000,9,-999.0000,9,-999.0000,9,-999.0000,9,-999.0000,9,   0.9774,     -999.0,-999.000,      0.109,          2,      0.000,          2,   0.127,          2
 33RO200501,       A16S,      22,          1,         27,         27,2,20050122,       0831,   -51.5013,   -34.9313,       4786,   216.2,   1.4416,  34.2351,2,  34.2365,2,    242.2,2,   239.4,2,   53.62,2,   32.92,2,    0.04,2,    2.22,2,-999.000,9,-999.000,9,-999.000,9,  -999.0,9,  -999.0,9,  -999.0,9,   20.00,-999.0000,9,    25.00,-999.000,9, -999.00,-999.000,9,-999.000,9, -999.00,9,  -999.0,9,  -999.0,-999.000,9,-999.000,-999.000,9, -999.00,9,  216.20,-999.0000,9,-999.0000,9,-999.0000,9,-999.0000,9,-999.0000,9,-999.0000,9,   1.4312,     -999.0,-999.000,     -999.0,          9,     -999.0,          9,-999.000,          9
 33RO200501,       A16S,      22,          1,         26,         26,2,20050122,       0831,   -51.5013,   -34.9313,       4786,   275.7,   1.8513,  34.3586,2,  34.3644,2,    209.0,2,   207.8,2,   62.48,2,   34.15,2,    0.02,2,    2.30,2,-999.000,9,-999.000,9,-999.000,9,  -999.0,9,  -999.0,9,  -999.0,9,   20.00,-999.0000,9,    25.00,-999.000,9, -999.00,-999.000,9,-999.000,9, -999.00,9,  -999.0,9,  -999.0,-999.000,9,-999.000,-999.000,9, -999.00,9,  275.70,-999.0000,9,-999.0000,9,-999.0000,9,-999.0000,9,-999.0000,9,-999.0000,9,   1.8369,     -999.0,-999.000,     -999.0,          9,     -999.0,          9,-999.000,          9
 33RO200501,       A16S,      22,          1,         25,         25,2,20050122,       0831,   -51.5013,   -34.9313,       4786,   325.9,   2.0250,  34.4367,2,  34.4388,2,    194.0,2,   192.1,2,   67.92,2,   34.55,2,    0.01,2,    2.33,2,-999.000,9,-999.000,9,-999.000,9,  -999.0,9,  -999.0,9,  -999.0,9,   20.00,-999.0000,9,    25.00,-999.000,9, -999.00,-999.000,9,-999.000,9, -999.00,9,  -999.0,9,  -999.0,-999.000,9,-999.000,-999.000,9, -999.00,9,  325.90,-999.0000,9,-999.0000,9,-999.0000,9,-999.0000,9,-999.0000,9,-999.0000,9,   2.0072,     -999.0,-999.000,      0.000,          2,      0.000,          2,   0.106,          2
 33RO200501,       A16S,      22,          1,         24,         24,2,20050122,       0831,   -51.5013,   -34.9313,       4786,   375.4,   2.1953,  34.5082,2,  34.5099,2,    181.5,2,   179.5,2,   73.11,2,   34.60,2,    0.01,2,    2.34,2,-999.000,9,-999.000,9,-999.000,9,  -999.0,9,  -999.0,9,  -999.0,9,   20.00,-999.0000,9,    25.00,-999.000,9, -999.00,-999.000,9,-999.000,9, -999.00,9,  -999.0,9,  -999.0,-999.000,9,-999.000,-999.000,9, -999.00,9,  375.40,-999.0000,9,-999.0000,9,-999.0000,9,-999.0000,9,-999.0000,9,-999.0000,9,   2.1741,     -999.0,-999.000,     -999.0,          9,     -999.0,          9,-999.000,          9
 33RO200501,       A16S,      22,          1,         23,         23,2,20050122,       0831,   -51.5013,   -34.9313,       4786,   451.3,   2.1272,  34.5498,2,  34.5515,2,    174.9,2,   176.5,2,   77.09,2,   34.38,2,    0.01,2,    2.34,2,   0.757,2,   0.376,2,   0.055,2,  -999.0,9,  -999.0,9,  -999.0,9,   20.00,-999.0000,9,    25.00,-999.000,9, -999.00,-999.000,9,-999.000,9, -999.00,9,  -999.0,9,  -999.0,-999.000,9,-999.000,   0.934,3, -999.00,9,  451.30,-999.0000,9,-999.0000,9,-999.0000,9,-999.0000,9,-999.0000,9,-999.0000,9,   2.1016,     -999.0,-999.000,     -999.0,          9,     -999.0,          9,-999.000,          9
 33RO200501,       A16S,      22,          1,         22,         22,2,20050122,       0831,   -51.5013,   -34.9313,       4786,   550.8,   2.0495,  34.5969,2,  34.5971,2,    174.6,2,   174.8,2,   81.21,2,   33.99,2,    0.00,2,    2.32,2,-999.000,9,-999.000,9,-999.000,9,  -999.0,9,  -999.0,9,  -999.0,9,   20.00,-999.0000,9,    25.00,-999.000,9, -999.00,-999.000,9,-999.000,9, -999.00,9,  -999.0,9,  -999.0,-999.000,9,-999.000,-999.000,9, -999.00,9,  550.80,-999.0000,9,-999.0000,9,-999.0000,9,-999.0000,9,-999.0000,9,-999.0000,9,   2.0182,     -999.0,-999.000,      0.000,          2,      0.000,          2,   0.061,          2
 33RO200501,       A16S,      22,          1,         21,         21,2,20050122,       0831,   -51.5013,   -34.9313,       4786,   651.4,   2.0280,  34.6304,2,  34.6305,2,    174.5,2,   174.7,2,   83.94,2,   33.56,2,    0.01,2,    2.30,2,-999.000,9,-999.000,9,-999.000,9,  -999.0,9,  -999.0,9,  -999.0,9,   20.00,-999.0000,9,    25.00,-999.000,9, -999.00,-999.000,9,-999.000,9, -999.00,9,  -999.0,9,  -999.0,-999.000,9,-999.000,-999.000,9, -999.00,9,  651.40,-999.0000,9,-999.0000,9,-999.0000,9,-999.0000,9,-999.0000,9,-999.0000,9,   1.9904,     -999.0,-999.000,     -999.0,          9,     -999.0,          9,-999.000,          9
 33RO200501,       A16S,      22,          1,         20,         20,2,20050122,       0831,   -51.5013,   -34.9313,       4786,   750.6,   1.9766,  34.6631,2,  34.6631,2,    174.8,2,   176.6,2,   87.34,2,   32.99,2,    0.00,2,    2.27,2,-999.000,9,-999.000,9,-999.000,9,  -999.0,9,  -999.0,9,  -999.0,9,   20.00,-999.0000,9,    25.00,-999.000,9, -999.00,-999.000,9,-999.000,9, -999.00,9,  -999.0,9,  -999.0,-999.000,9,-999.000,-999.000,9, -999.00,9,  750.60,-999.0000,9,-999.0000,9,-999.0000,9,-999.0000,9,-999.0000,9,-999.0000,9,   1.9330,     -999.0,-999.000,     -999.0,          9,     -999.0,          9,-999.000,          9
 33RO200501,       A16S,      22,          1,         19,         19,2,20050122,       0831,   -51.5013,   -34.9313,       4786,   850.9,   1.9626,  34.6871,2,  34.6871,2,    176.1,2,   177.2,2,   89.57,2,   32.53,2,    0.00,2,    2.25,2,-999.000,9,-999.000,9,-999.000,9,  -999.0,9,  -999.0,9,  -999.0,9,   20.00,-999.0000,9,    25.00,-999.000,9, -999.00,-999.000,9,-999.000,9, -999.00,9,  -999.0,9,  -999.0,-999.000,9,-999.000,-999.000,9, -999.00,9,  850.90,-999.0000,9,-999.0000,9,-999.0000,9,-999.0000,9,-999.0000,9,-999.0000,9,   1.9126,     -999.0,-999.000,      0.000,          2,      0.000,          2,   0.056,          2
 33RO200501,       A16S,      22,          1,         18,         18,2,20050122,       0831,   -51.5013,   -34.9313,       4786,  1001.6,   1.9440,  34.7176,2,  34.7187,2,    181.7,2,   184.5,2,   88.46,2,   31.48,2,    0.00,2,    2.18,2,   0.169,2,   0.095,2,   0.006,2,  -999.0,9,  -999.0,9,  -999.0,9,   20.00,-999.0000,9,    25.00,-999.000,9, -999.00,-999.000,9,-999.000,9, -999.00,9,  -999.0,9,  -999.0,-999.000,9,-999.000,   0.277,3, -999.00,9, 1001.60,-999.0000,9,-999.0000,9,-999.0000,9,-999.0000,9,-999.0000,9,-999.0000,9,   1.8839,     -999.0,-999.000,     -999.0,          9,     -999.0,          9,-999.000,          9
 33RO200501,       A16S,      22,          1,         17,         17,2,20050122,       0831,   -51.5013,   -34.9313,       4786,  1150.9,   1.8271,  34.7281,2,  34.7272,2,    187.7,2,   189.4,2,   91.59,2,   31.31,2,    0.00,2,    2.16,2,-999.000,9,-999.000,9,-999.000,9,  -999.0,9,  -999.0,9,  -999.0,9,   20.00,-999.0000,9,    25.00,-999.000,9, -999.00,-999.000,9,-999.000,9, -999.00,9,  -999.0,9,  -999.0,-999.000,9,-999.000,-999.000,9, -999.00,9, 1150.90,-999.0000,9,-999.0000,9,-999.0000,9,-999.0000,9,-999.0000,9,-999.0000,9,   1.7578,     -999.0,-999.000,     -999.0,          9,     -999.0,          9,-999.000,          9
 33RO200501,       A16S,      22,          1,         16,         16,2,20050122,       0831,   -51.5013,   -34.9313,       4786,  1302.0,   1.7586,  34.7441,2,  34.7441,2,    191.2,2,   196.5,2,   89.85,2,   30.48,2,    0.00,2,    2.10,2,-999.000,9,-999.000,9,-999.000,9,  -999.0,9,  -999.0,9,  -999.0,9,   20.00,-999.0000,9,    25.00,-999.000,9, -999.00,-999.000,9,-999.000,9, -999.00,9,  -999.0,9,  -999.0,-999.000,9,-999.000,-999.000,9, -999.00,9, 1302.00,-999.0000,9,-999.0000,9,-999.0000,9,-999.0000,9,-999.0000,9,-999.0000,9,   1.6792,     -999.0,-999.000,      0.000,          2,      0.000,          2,   0.040,          2
 33RO200501,       A16S,      22,          1,         15,         15,2,20050122,       0831,   -51.5013,   -34.9313,       4786,  1450.4,   1.4525,  34.7208,2,  34.7213,2,    194.5,2,   195.3,2,   99.47,2,   31.52,2,    0.00,2,    2.18,2,-999.000,9,-999.000,9,-999.000,9,  -999.0,9,  -999.0,9,  -999.0,9,   20.00,-999.0000,9,    25.00,-999.000,9, -999.00,-999.000,9,-999.000,9, -999.00,9,  -999.0,9,  -999.0,-999.000,9,-999.000,-999.000,9, -999.00,9, 1450.40,-999.0000,9,-999.0000,9,-999.0000,9,-999.0000,9,-999.0000,9,-999.0000,9,   1.3659,     -999.0,-999.000,     -999.0,          9,     -999.0,          9,-999.000,          9
 33RO200501,       A16S,      22,          1,         14,         14,2,20050122,       0831,   -51.5013,   -34.9313,       4786,  1550.8,   1.2917,  34.7092,2,  34.7099,2,    195.6,2,   197.0,2,  103.18,2,   31.79,2,    0.00,2,    2.21,2,-999.000,9,-999.000,9,-999.000,9,  -999.0,9,  -999.0,9,  -999.0,9,   20.00,-999.0000,9,    25.00,-999.000,9, -999.00,-999.000,9,-999.000,9, -999.00,9,  -999.0,9,  -999.0,-999.000,9,-999.000,-999.000,9, -999.00,9, 1550.80,-999.0000,9,-999.0000,9,-999.0000,9,-999.0000,9,-999.0000,9,-999.0000,9,   1.1998,     -999.0,-999.000,     -999.0,          9,     -999.0,          9,-999.000,          9
 33RO200501,       A16S,      22,          1,         13,         13,2,20050122,       0831,   -51.5013,   -34.9313,       4786,  1650.9,   1.1908,  34.7075,2,  34.7082,2,    197.6,2,   199.4,2,  104.95,2,   31.86,2,    0.00,2,    2.22,2,-999.000,9,-999.000,9,-999.000,9,  -999.0,9,  -999.0,9,  -999.0,9,   20.00,-999.0000,9,    25.00,-999.000,9, -999.00,-999.000,9,-999.000,9, -999.00,9,  -999.0,9,  -999.0,-999.000,9,-999.000,-999.000,9, -999.00,9, 1650.90,-999.0000,9,-999.0000,9,-999.0000,9,-999.0000,9,-999.0000,9,-999.0000,9,   1.0929,     -999.0,-999.000,      0.000,          2,      0.000,          2,   0.047,          2
 33RO200501,       A16S,      22,          1,         12,         12,2,20050122,       0831,   -51.5013,   -34.9313,       4786,  1801.3,   1.1229,  34.7116,2,  34.7129,2,    200.1,2,   201.3,2,  106.99,2,   31.59,2,    0.00,2,    2.21,2,   0.280,2,   0.136,2,   0.018,2,  -999.0,9,  -999.0,9,  -999.0,9,   20.00,-999.0000,9,    25.00,-999.000,9, -999.00,-999.000,9,-999.000,9, -999.00,9,  -999.0,9,  -999.0,-999.000,9,-999.000,   0.356,3, -999.00,9, 1801.30,-999.0000,9,-999.0000,9,-999.0000,9,-999.0000,9,-999.0000,9,-999.0000,9,   1.0148,     -999.0,-999.000,     -999.0,          9,     -999.0,          9,-999.000,          9
 33RO200501,       A16S,      22,          1,         11,         11,2,20050122,       0831,   -51.5013,   -34.9313,       4786,  2001.0,   0.9634,  34.7070,2,  34.7064,2,    202.8,2,   204.4,2,  110.70,2,   31.81,2,    0.00,2,    2.22,2,   0.300,2,   0.147,2,   0.018,2,  -999.0,9,  -999.0,9,  -999.0,9,   20.00,-999.0000,9,    25.00,-999.000,9, -999.00,-999.000,9,-999.000,9, -999.00,9,  -999.0,9,  -999.0,-999.000,9,-999.000,   0.365,3, -999.00,9, 2001.00,-999.0000,9,-999.0000,9,-999.0000,9,-999.0000,9,-999.0000,9,-999.0000,9,   0.8425,     -999.0,-999.000,     -999.0,          9,     -999.0,          9,-999.000,          9
 33RO200501,       A16S,      22,          1,         10,         10,2,20050122,       0831,   -51.5013,   -34.9313,       4786,  2284.1,   0.7419,  34.6967,2,  34.6968,2,    207.0,2,   208.5,2,  115.29,2,   31.97,2,    0.00,2,    2.25,2,   0.372,2,   0.202,2,   0.021,2,  -999.0,9,  -999.0,9,  -999.0,9,   20.00,-999.0000,9,    25.00,-999.000,9, -999.00,-999.000,9,-999.000,9, -999.00,9,  -999.0,9,  -999.0,-999.000,9,-999.000,   0.450,3, -999.00,9, 2284.10,-999.0000,9,-999.0000,9,-999.0000,9,-999.0000,9,-999.0000,9,-999.0000,9,   0.6026,     -999.0,-999.000,      2.013,          2,      0.000,          2,   0.035,          2
 33RO200501,       A16S,      22,          1,          9,          9,2,20050122,       0831,   -51.5013,   -34.9313,       4786,  2551.2,   0.6006,  34.6919,2,  34.6917,2,    210.0,2,   212.2,2,  118.52,2,   32.16,2,    0.00,2,    2.26,2,-999.000,9,-999.000,9,-999.000,9,  -999.0,9,  -999.0,9,  -999.0,9,   20.00,-999.0000,9,    25.00,-999.000,9, -999.00,-999.000,9,-999.000,9, -999.00,9,  -999.0,9,  -999.0,-999.000,9,-999.000,-999.000,9, -999.00,9, 2551.20,-999.0000,9,-999.0000,9,-999.0000,9,-999.0000,9,-999.0000,9,-999.0000,9,   0.4423,     -999.0,-999.000,     -999.0,          9,     -999.0,          9,-999.000,          9
 33RO200501,       A16S,      22,          1,          8,          8,2,20050122,       0831,   -51.5013,   -34.9313,       4786,  2850.6,   0.4517,  34.6867,2,  34.6864,2,    213.6,2,   201.1,3,  121.55,2,   32.31,2,    0.00,2,    2.27,2,-999.000,9,-999.000,9,-999.000,9,  -999.0,9,  -999.0,9,  -999.0,9,   20.00,-999.0000,9,    25.00,-999.000,9, -999.00,-999.000,9,-999.000,9, -999.00,9,  -999.0,9,  -999.0,-999.000,9,-999.000,-999.000,9, -999.00,9, 2850.60,-999.0000,9,-999.0000,9,-999.0000,9,-999.0000,9,-999.0000,9,-999.0000,9,   0.2712,     -999.0,-999.000,     -999.0,          9,     -999.0,          9,-999.000,          9