BOTTLE,20220818CCHSIOAMB
EXPOCODE,SECT_ID,STNNBR,CASTNO,SAMPNO,BTLNBR,BTLNBR_FLAG_W,DATE,TIME,LATITUDE,LONGITUDE,DEPTH,CTDPRS,CTDTMP,CTDSAL,CTDSAL_FLAG_W,SALNTY,SALNTY_FLAG_W,CTDOXY,CTDOXY_FLAG_W,OXYGEN,OXYGEN_FLAG_W,SILCAT,SILCAT_FLAG_W,NITRAT,NITRAT_FLAG_W,NITRIT,NITRIT_FLAG_W,PHSPHT,PHSPHT_FLAG_W,CFC-11,CFC-11_FLAG_W,CFC-12,CFC-12_FLAG_W,CFC113,CFC113_FLAG_W,TCARBN,TCARBN_FLAG_W,ALKALI,ALKALI_FLAG_W,PCO2,PCO2_FLAG_W,PCO2TMP,PH_SWS,PH_SWS_FLAG_W,PH_TMP,TRITUM,TRITUM_FLAG_W,TRITER,HELIUM,HELIUM_FLAG_W,DELHE3,DELHE3_FLAG_W,DELC13,DELC13_FLAG_W,DELC14,DELC14_FLAG_W,C14ERR,NEON,NEON_FLAG_W,NEONER,CCL4,CCL4_FLAG_W,DOC,DOC_FLAG_W,CTDRAW,CDOM325,CDOM325_FLAG_W,CDOM340,CDOM340_FLAG_W,CDOM380,CDOM380_FLAG_W,CDOM412,CDOM412_FLAG_W,CDOMSL,CDOMSL_FLAG_W,CDOMSN,CDOMSN_FLAG_W,THETA,HELIER,DELHER,CH3CL,CH3CL_FLAG_W,CH3BR,CH3BR_FLAG_W,CH3I,CH3I_FLAG_W
,,,,,,,,,,,METERS,DBAR,ITS-90,PSS-78,,PSS-78,,UMOL/KG,,UMOL/KG,,UMOL/KG,,UMOL/KG,,UMOL/KG,,UMOL/KG,,PMOL/KG,,PMOL/KG,,PMOL/KG,,UMOL/KG,,UMOL/KG,,UATM,,DEG C,,,DEG C,TU,,TU,NMOL/KG,,PERCNT,,/MILLE,,/MILLE,,/MILLE,NMOL/KG,,NMOL/KG,PMOL/KG,,UMOL/KG,,DBAR,1/M,,1/M,,1/M,,1/M,,1/NM,,1/NM,,DEG C,NMOL/KG,PERCNT,PMOL/KG,,PMOL/KG,,PMOL/KG,
 33RO200501,       A16S,     114,          1,         36,         36,2,20050219,       1547,    -5.5010,   -25.0003,       5649,     3.1,  28.0592,  36.2284,2,  36.2317,2,    198.9,2,   195.7,2,    1.49,2,    0.00,2,    0.00,2,    0.05,2,   1.592,2,   1.046,2,   0.128,2,  2041.7,6,  2375.9,6,  -999.0,9,   20.00,   8.0725,6,    25.00,-999.000,9, -999.00,-999.000,9,-999.000,9, -999.00,9,  -999.0,9,  -999.0,-999.000,9,-999.000,   1.347,4, -999.00,9,    3.10,-999.0000,9,-999.0000,9,-999.0000,9,-999.0000,9,-999.0000,9,-999.0000,9,  28.0585,     -999.0,-999.000,     67.716,          2,      0.616,          2,   2.853,          2
 33RO200501,       A16S,     114,          1,         35,         35,2,20050219,       1547,    -5.5010,   -25.0003,       5649,    24.2,  27.8522,  36.2173,2,  36.2180,2,    199.0,2,   198.5,2,    1.51,2,    0.02,2,    0.00,2,    0.05,2,-999.000,9,-999.000,9,-999.000,9,  -999.0,9,  -999.0,9,  -999.0,9,   20.00,-999.0000,9,    25.00,-999.000,9, -999.00,-999.000,9,-999.000,9, -999.00,9,  -999.0,9,  -999.0,-999.000,9,-999.000,-999.000,9, -999.00,9,   24.20,-999.0000,9,-999.0000,9,-999.0000,9,-999.0000,9,-999.0000,9,-999.0000,9,  27.8465,     -999.0,-999.000,     -999.0,          9,     -999.0,          9,-999.000,          9
 33RO200501,       A16S,     114,          1,         34,         34,2,20050219,       1547,    -5.5010,   -25.0003,       5649,    54.1,  27.7707,  36.2444,2,  36.2598,2,    199.9,2,   199.8,2,    1.57,2,    0.05,2,    0.00,2,    0.09,2,-999.000,9,-999.000,9,-999.000,9,  -999.0,9,  -999.0,9,  -999.0,9,   20.00,-999.0000,9,    25.00,-999.000,9, -999.00,-999.000,9,-999.000,9, -999.00,9,  -999.0,9,  -999.0,-999.000,9,-999.000,-999.000,9, -999.00,9,   54.10,-999.0000,9,-999.0000,9,-999.0000,9,-999.0000,9,-999.0000,9,-999.0000,9,  27.7580,     -999.0,-999.000,     86.531,          2,      0.689,          2,   3.449,          2
 33RO200501,       A16S,     114,          1,         33,         33,2,20050219,       1547,    -5.5010,   -25.0003,       5649,    83.5,  24.9603,  36.3966,2,  36.3966,2,    203.3,2,   203.2,2,    1.87,2,    0.11,2,    0.00,2,    0.14,2,-999.000,9,-999.000,9,-999.000,9,  2065.9,2,  2386.0,2,  -999.0,9,   20.00,   8.0480,2,    25.00,-999.000,9, -999.00,-999.000,9,-999.000,9, -999.00,9,  -999.0,9,  -999.0,-999.000,9,-999.000,-999.000,9, -999.00,9,   83.50,-999.0000,9,-999.0000,9,-999.0000,9,-999.0000,9,-999.0000,9,-999.0000,9,  24.9421,     -999.0,-999.000,     -999.0,          9,     -999.0,          9,-999.000,          9
 33RO200501,       A16S,     114,          1,         32,         32,2,20050219,       1547,    -5.5010,   -25.0003,       5649,   113.3,  20.6147,  36.1621,2,  36.1405,2,    142.1,2,   141.4,2,    3.77,2,    9.30,2,    0.12,2,    0.74,2,   1.916,2,   1.156,2,   0.102,2,  -999.0,9,  -999.0,9,  -999.0,9,   20.00,-999.0000,9,    25.00,-999.000,9, -999.00,-999.000,9,-999.000,9, -999.00,9,  -999.0,9,  -999.0,-999.000,9,-999.000,   0.444,4, -999.00,9,  113.30,-999.0000,9,-999.0000,9,-999.0000,9,-999.0000,9,-999.0000,9,-999.0000,9,  20.5932,     -999.0,-999.000,     26.333,          2,      0.183,          2,   0.359,          2
 33RO200501,       A16S,     114,          1,         31,         31,2,20050219,       1547,    -5.5010,   -25.0003,       5649,   164.4,  14.0378,  35.4111,2,  35.4026,2,    117.6,2,   118.1,2,    7.27,2,   19.01,2,    0.01,2,    1.24,2,-999.000,9,-999.000,9,-999.000,9,  -999.0,9,  -999.0,9,  -999.0,9,   20.00,-999.0000,9,    25.00,-999.000,9, -999.00,-999.000,9,-999.000,9, -999.00,9,  -999.0,9,  -999.0,-999.000,9,-999.000,-999.000,9, -999.00,9,  164.40,-999.0000,9,-999.0000,9,-999.0000,9,-999.0000,9,-999.0000,9,-999.0000,9,  14.0140,     -999.0,-999.000,     -999.0,          9,     -999.0,          9,-999.000,          9
 33RO200501,       A16S,     114,          1,         30,         30,2,20050219,       1547,    -5.5010,   -25.0003,       5649,   213.4,  10.5047,  34.9598,2,  34.9530,2,    122.0,2,   122.4,2,   11.72,2,   25.10,2,    0.01,2,    1.59,2,-999.000,9,-999.000,9,-999.000,9,  -999.0,9,  -999.0,9,  -999.0,9,   20.00,-999.0000,9,    25.00,-999.000,9, -999.00,-999.000,9,-999.000,9, -999.00,9,  -999.0,9,  -999.0,-999.000,9,-999.000,-999.000,9, -999.00,9,  213.40,-999.0000,9,-999.0000,9,-999.0000,9,-999.0000,9,-999.0000,9,-999.0000,9,  10.4792,     -999.0,-999.000,      7.442,          2,      0.165,          2,   0.037,          2
 33RO200501,       A16S,     114,          1,         29,         29,2,20050219,       1547,    -5.5010,   -25.0003,       5649,   263.9,   9.1686,  34.8087,2,  34.8113,2,    118.0,2,   115.5,2,   14.73,2,   28.64,2,    0.00,2,    1.78,2,-999.000,9,-999.000,9,-999.000,9,  -999.0,9,  -999.0,9,  -999.0,9,   20.00,-999.0000,9,    25.00,-999.000,9, -999.00,-999.000,9,-999.000,9, -999.00,9,  -999.0,9,  -999.0,-999.000,9,-999.000,-999.000,9, -999.00,9,  263.90,-999.0000,9,-999.0000,9,-999.0000,9,-999.0000,9,-999.0000,9,-999.0000,9,   9.1396,     -999.0,-999.000,     -999.0,          9,     -999.0,          9,-999.000,          9
 33RO200501,       A16S,     114,          1,         28,         28,2,20050219,       1547,    -5.5010,   -25.0003,       5649,   312.2,   8.6410,  34.7626,2,  34.7644,2,    100.4,2,   105.5,2,   16.41,2,   30.91,2,    0.00,2,    1.91,2,-999.000,9,-999.000,9,-999.000,9,  -999.0,9,  -999.0,9,  -999.0,9,   20.00,-999.0000,9,    25.00,-999.000,9, -999.00,-999.000,9,-999.000,9, -999.00,9,  -999.0,9,  -999.0,-999.000,9,-999.000,-999.000,9, -999.00,9,  312.20,-999.0000,9,-999.0000,9,-999.0000,9,-999.0000,9,-999.0000,9,-999.0000,9,   8.6077,     -999.0,-999.000,     -999.0,          9,     -999.0,          9,-999.000,          9
 33RO200501,       A16S,     114,          1,         27,         27,2,20050219,       1547,    -5.5010,   -25.0003,       5649,   364.1,   8.2828,  34.7368,2,  34.7372,2,     88.0,2,    86.9,2,   18.12,2,   33.70,2,    0.00,2,    2.04,2,   0.589,2,   0.313,2,   0.010,2,  -999.0,9,  -999.0,9,  -999.0,9,   20.00,-999.0000,9,    25.00,-999.000,9, -999.00,-999.000,9,-999.000,9, -999.00,9,  -999.0,9,  -999.0,-999.000,9,-999.000,   0.278,4, -999.00,9,  364.10,-999.0000,9,-999.0000,9,-999.0000,9,-999.0000,9,-999.0000,9,-999.0000,9,   8.2449,     -999.0,-999.000,      3.839,          2,      0.116,          2,   0.064,          2
 33RO200501,       A16S,     114,          1,         26,         26,2,20050219,       1547,    -5.5010,   -25.0003,       5649,   447.9,   7.3958,  34.6502,2,  34.6492,2,    101.7,2,   101.2,2,   20.28,2,   34.12,2,    0.00,2,    2.09,2,-999.000,9,-999.000,9,-999.000,9,  2223.2,2,  2292.1,2,  -999.0,9,   20.00,   7.5235,2,    25.00,-999.000,9, -999.00,-999.000,9,-999.000,9, -999.00,9,  -999.0,9,  -999.0,-999.000,9,-999.000,-999.000,9, -999.00,9,  447.90,-999.0000,9,-999.0000,9,-999.0000,9,-999.0000,9,-999.0000,9,-999.0000,9,   7.3520,     -999.0,-999.000,     -999.0,          9,     -999.0,          9,-999.000,          9
 33RO200501,       A16S,     114,          1,         25,         25,2,20050219,       1547,    -5.5010,   -25.0003,       5649,   549.2,   6.2343,  34.5503,2,  34.5535,2,    123.9,2,   123.6,2,   23.68,2,   34.19,2,    0.00,2,    2.13,2,-999.000,9,-999.000,9,-999.000,9,  -999.0,9,  -999.0,9,  -999.0,9,   20.00,-999.0000,9,    25.00,-999.000,9, -999.00,-999.000,9,-999.000,9, -999.00,9,  -999.0,9,  -999.0,-999.000,9,-999.000,-999.000,9, -999.00,9,  549.20,-999.0000,9,-999.0000,9,-999.0000,9,-999.0000,9,-999.0000,9,-999.0000,9,   6.1851,     -999.0,-999.000,      5.102,          2,      0.226,          2,   0.029,          2
 33RO200501,       A16S,     114,          1,         24,         24,2,20050219,       1547,    -5.5010,   -25.0003,       5649,   647.6,   5.5175,  34.5028,2,  34.5031,2,    132.7,2,   132.0,2,   26.84,2,   34.77,2,    0.00,2,    2.19,2,-999.000,9,-999.000,9,-999.000,9,  -999.0,9,  -999.0,9,  -999.0,9,   20.00,-999.0000,9,    25.00,-999.000,9, -999.00,-999.000,9,-999.000,9, -999.00,9,  -999.0,9,  -999.0,-999.000,9,-999.000,-999.000,9, -999.00,9,  647.60,-999.0000,9,-999.0000,9,-999.0000,9,-999.0000,9,-999.0000,9,-999.0000,9,   5.4626,     -999.0,-999.000,     -999.0,          9,     -999.0,          9,-999.000,          9
 33RO200501,       A16S,     114,          1,         23,         23,2,20050219,       1547,    -5.5010,   -25.0003,       5649,   749.1,   4.8771,  34.4730,2,  34.4752,2,    148.9,2,   148.4,2,   30.48,2,   34.15,2,    0.00,2,    2.18,2,   0.216,2,   0.111,2,   0.010,2,  -999.0,9,  -999.0,9,  -999.0,9,   20.00,-999.0000,9,    25.00,-999.000,9, -999.00,-999.000,9,-999.000,9, -999.00,9,  -999.0,9,  -999.0,-999.000,9,-999.000,   0.320,4, -999.00,9,  749.10,-999.0000,9,-999.0000,9,-999.0000,9,-999.0000,9,-999.0000,9,-999.0000,9,   4.8168,     -999.0,-999.000,     -999.0,          9,     -999.0,          9,-999.000,          9
 33RO200501,       A16S,     114,          1,         22,         22,2,20050219,       1547,    -5.5010,   -25.0003,       5649,   848.5,   4.4758,  34.4916,2,  34.4915,2,    152.2,2,   150.9,2,   33.51,2,   34.18,2,    0.00,2,    2.19,2,-999.000,9,-999.000,9,-999.000,9,  -999.0,9,  -999.0,9,  -999.0,9,   20.00,-999.0000,9,    25.00,-999.000,9, -999.00,-999.000,9,-999.000,9, -999.00,9,  -999.0,9,  -999.0,-999.000,9,-999.000,-999.000,9, -999.00,9,  848.50,-999.0000,9,-999.0000,9,-999.0000,9,-999.0000,9,-999.0000,9,-999.0000,9,   4.4095,     -999.0,-999.000,      0.000,          2,      0.000,          2,   0.017,          2
 33RO200501,       A16S,     114,          1,         21,         21,2,20050219,       1547,    -5.5010,   -25.0003,       5649,   948.8,   4.2912,  34.5480,2,  34.5510,2,    156.0,2,   155.5,2,   34.44,2,   33.38,2,    0.00,2,    2.15,2,-999.000,9,-999.000,9,-999.000,9,  -999.0,9,  -999.0,9,  -999.0,9,   20.00,-999.0000,9,    25.00,-999.000,9, -999.00,-999.000,9,-999.000,9, -999.00,9,  -999.0,9,  -999.0,-999.000,9,-999.000,-999.000,9, -999.00,9,  948.80,-999.0000,9,-999.0000,9,-999.0000,9,-999.0000,9,-999.0000,9,-999.0000,9,   4.2176,     -999.0,-999.000,     -999.0,          9,     -999.0,          9,-999.000,          9
 33RO200501,       A16S,     114,          1,         20,         20,2,20050219,       1547,    -5.5010,   -25.0003,       5649,  1048.8,   4.1949,  34.6286,2,  34.6280,2,    166.9,2,   167.8,2,   33.33,6,   31.44,6,    0.00,6,    2.04,6,   0.045,2,   0.022,2,   0.010,2,  2213.9,2,  2306.1,2,  -999.0,9,   20.00,   7.5884,2,    25.00,-999.000,9, -999.00,-999.000,9,-999.000,9, -999.00,9,  -999.0,9,  -999.0,-999.000,9,-999.000,   0.112,4, -999.00,9, 1048.80,-999.0000,9,-999.0000,9,-999.0000,9,-999.0000,9,-999.0000,9,-999.0000,9,   4.1133,     -999.0,-999.000,     -999.0,          9,     -999.0,          9,-999.000,          9
 33RO200501,       A16S,     114,          1,         19,         19,2,20050219,       1547,    -5.5010,   -25.0003,       5649,  1149.2,   4.3485,  34.7367,2,  34.7390,2,    173.4,2,   174.0,2,   29.64,2,   29.43,2,    0.00,2,    1.88,2,-999.000,9,-999.000,9,-999.000,9,  -999.0,9,  -999.0,9,  -999.0,9,   20.00,-999.0000,9,    25.00,-999.000,9, -999.00,-999.000,9,-999.000,9, -999.00,9,  -999.0,9,  -999.0,-999.000,9,-999.000,-999.000,9, -999.00,9, 1149.20,-999.0000,9,-999.0000,9,-999.0000,9,-999.0000,9,-999.0000,9,-999.0000,9,   4.2567,     -999.0,-999.000,      7.307,          2,      0.813,          2,   0.036,          2
 33RO200501,       A16S,     114,          1,         18,         18,2,20050219,       1547,    -5.5010,   -25.0003,       5649,  1297.9,   4.4186,  34.8416,2,  34.8406,2,    190.1,2,   190.2,2,   25.46,2,   26.61,2,    0.00,2,    1.69,2,-999.000,9,-999.000,9,-999.000,9,  -999.0,9,  -999.0,9,  -999.0,9,   20.00,-999.0000,9,    25.00,-999.000,9, -999.00,-999.000,9,-999.000,9, -999.00,9,  -999.0,9,  -999.0,-999.000,9,-999.000,-999.000,9, -999.00,9, 1297.90,-999.0000,9,-999.0000,9,-999.0000,9,-999.0000,9,-999.0000,9,-999.0000,9,   4.3127,     -999.0,-999.000,     -999.0,          9,     -999.0,          9,-999.000,          9
 33RO200501,       A16S,     114,          1,         17,         17,2,20050219,       1547,    -5.5010,   -25.0003,       5649,  1498.4,   4.2321,  34.9437,2,  34.9461,2,    222.9,2,   221.9,2,   20.75,2,   22.29,2,    0.00,2,    1.40,2,   0.082,2,   0.037,2,   0.000,2,  -999.0,9,  -999.0,9,  -999.0,9,   20.00,-999.0000,9,    25.00,-999.000,9, -999.00,-999.000,9,-999.000,9, -999.00,9,  -999.0,9,  -999.0,-999.000,9,-999.000,   0.236,4, -999.00,9, 1498.40,-999.0000,9,-999.0000,9,-999.0000,9,-999.0000,9,-999.0000,9,-999.0000,9,   4.1095,     -999.0,-999.000,     -999.0,          9,     -999.0,          9,-999.000,          9
 33RO200501,       A16S,     114,          1,         16,         16,2,20050219,       1547,    -5.5010,   -25.0003,       5649,  1699.9,   4.0158,  34.9710,2,  34.9711,2,    238.9,2,   238.5,2,   19.29,2,   20.46,2,    0.00,2,    1.27,2,-999.000,9,-999.000,9,-999.000,9,  -999.0,9,  -999.0,9,  -999.0,9,   20.00,-999.0000,9,    25.00,-999.000,9, -999.00,-999.000,9,-999.000,9, -999.00,9,  -999.0,9,  -999.0,-999.000,9,-999.000,-999.000,9, -999.00,9, 1699.90,-999.0000,9,-999.0000,9,-999.0000,9,-999.0000,9,-999.0000,9,-999.0000,9,   3.8769,     -999.0,-999.000,      0.000,          2,      0.000,          2,   0.027,          2
 33RO200501,       A16S,     114,          1,         15,         15,2,20050219,       1547,    -5.5010,   -25.0003,       5649,  1898.3,   3.6797,  34.9675,2,  34.9705,2,    246.6,2,   246.4,2,   21.06,2,   19.88,2,    0.00,2,    1.24,2,-999.000,9,-999.000,9,-999.000,9,  -999.0,9,  -999.0,9,  -999.0,9,   20.00,-999.0000,9,    25.00,-999.000,9, -999.00,-999.000,9,-999.000,9, -999.00,9,  -999.0,9,  -999.0,-999.000,9,-999.000,-999.000,9, -999.00,9, 1898.30,-999.0000,9,-999.0000,9,-999.0000,9,-999.0000,9,-999.0000,9,-999.0000,9,   3.5266,     -999.0,-999.000,     -999.0,          9,     -999.0,          9,-999.000,          9
 33RO200501,       A16S,     114,          1,         14,         14,2,20050219,       1547,    -5.5010,   -25.0003,       5649,  2099.0,   3.3056,  34.9457,2,  34.9461,2,    245.5,2,   244.5,2,   26.80,2,   20.47,2,    0.00,2,    1.30,2,   0.032,2,   0.013,2,   0.007,2,  2173.5,2,  2319.8,2,  -999.0,9,   20.00,   7.7274,2,    25.00,-999.000,9, -999.00,-999.000,9,-999.000,9, -999.00,9,  -999.0,9,  -999.0,-999.000,9,-999.000,   0.141,4, -999.00,9, 2099.00,-999.0000,9,-999.0000,9,-999.0000,9,-999.0000,9,-999.0000,9,-999.0000,9,   3.1392,     -999.0,-999.000,     -999.0,          9,     -999.0,          9,-999.000,          9
 33RO200501,       A16S,     114,          1,         13,         13,2,20050219,       1547,    -5.5010,   -25.0003,       5649,  2299.2,   3.0313,  34.9269,2,  34.9274,2,    242.7,2,   242.8,2,   32.68,2,   21.25,2,    0.00,2,    1.36,2,-999.000,9,-999.000,9,-999.000,9,  -999.0,9,  -999.0,9,  -999.0,9,   20.00,-999.0000,9,    25.00,-999.000,9, -999.00,-999.000,9,-999.000,9, -999.00,9,  -999.0,9,  -999.0,-999.000,9,-999.000,-999.000,9, -999.00,9, 2299.20,-999.0000,9,-999.0000,9,-999.0000,9,-999.0000,9,-999.0000,9,-999.0000,9,   2.8503,     -999.0,-999.000,      7.232,          2,      0.895,          2,   0.028,          2
 33RO200501,       A16S,     114,          1,         12,         12,2,20050219,       1547,    -5.5010,   -25.0003,       5649,  2498.6,   2.8846,  34.9203,2,  34.9201,2,    243.2,2,   243.1,2,   35.21,2,   21.36,2,    0.00,2,    1.37,2,-999.000,9,-999.000,9,-999.000,9,  -999.0,9,  -999.0,9,  -999.0,9,   20.00,-999.0000,9,    25.00,-999.000,9, -999.00,-999.000,9,-999.000,9, -999.00,9,  -999.0,9,  -999.0,-999.000,9,-999.000,-999.000,9, -999.00,9, 2498.60,-999.0000,9,-999.0000,9,-999.0000,9,-999.0000,9,-999.0000,9,-999.0000,9,   2.6870,     -999.0,-999.000,     -999.0,          9,     -999.0,          9,-999.000,          9
 33RO200501,       A16S,     114,          1,         11,         11,2,20050219,       1547,    -5.5010,   -25.0003,       5649,  2698.7,   2.7750,  34.9160,2,  34.9185,3,    243.7,2,   244.4,2,   36.55,2,   21.28,2,    0.00,2,    1.36,2,   0.013,2,   0.001,2,   0.004,2,  -999.0,9,  -999.0,9,  -999.0,9,   20.00,-999.0000,9,    25.00,-999.000,9, -999.00,-999.000,9,-999.000,9, -999.00,9,  -999.0,9,  -999.0,-999.000,9,-999.000,   0.058,4, -999.00,9, 2698.70,-999.0000,9,-999.0000,9,-999.0000,9,-999.0000,9,-999.0000,9,-999.0000,9,   2.5598,     -999.0,-999.000,     -999.0,          9,     -999.0,          9,-999.000,          9
 33RO200501,       A16S,     114,          1,         10,         10,2,20050219,       1547,    -5.5010,   -25.0003,       5649,  2950.1,   2.6953,  34.9186,2,  34.9201,2,    249.4,2,   250.6,2,   34.49,2,   20.54,2,    0.00,2,    1.32,2,-999.000,9,-999.000,9,-999.000,9,  -999.0,9,  -999.0,9,  -999.0,9,   20.00,-999.0000,9,    25.00,-999.000,9, -999.00,-999.000,9,-999.000,9, -999.00,9,  -999.0,9,  -999.0,-999.000,9,-999.000,-999.000,9, -999.00,9, 2950.10,-999.0000,9,-999.0000,9,-999.0000,9,-999.0000,9,-999.0000,9,-999.0000,9,   2.4564,     -999.0,-999.000,      0.000,          2,      0.000,          2,   0.039,          2
 33RO200501,       A16S,     114,          1,          9,          9,2,20050219,       1547,    -5.5010,   -25.0003,       5649,  3247.7,   2.6120,  34.9170,2,  34.9195,3,    254.7,2,   254.8,2,   33.40,2,   19.97,2,    0.00,2,    1.28,2,-999.000,9,-999.000,9,-999.000,9,  2176.9,2,  2328.9,2,  -999.0,9,   20.00,   7.7282,2,    25.00,-999.000,9, -999.00,-999.000,9,-999.000,9, -999.00,9,  -999.0,9,  -999.0,-999.000,9,-999.000,-999.000,9, -999.00,9, 3247.70,-999.0000,9,-999.0000,9,-999.0000,9,-999.0000,9,-999.0000,9,-999.0000,9,   2.3439,     -999.0,-999.000,     -999.0,          9,     -999.0,          9,-999.000,          9
 33RO200501,       A16S,     114,          1,          8,          8,2,20050219,       1547,    -5.5010,   -25.0003,       5649,  3550.0,   2.5019,  34.9092,2,  34.9101,2,    257.4,2,   257.4,2,   34.17,2,   19.77,2,    0.00,2,    1.28,2,   0.085,2,   0.038,2,   0.000,2,  -999.0,9,  -999.0,9,  -999.0,9,   20.00,-999.0000,9,    25.00,-999.000,9, -999.00,-999.000,9,-999.000,9, -999.00,9,  -999.0,9,  -999.0,-999.000,9,-999.000,   0.266,4, -999.00,9, 3550.00,-999.0000,9,-999.0000,9,-999.0000,9,-999.0000,9,-999.0000,9,-999.0000,9,   2.2040,     -999.0,-999.000,     -999.0,          9,     -999.0,          9,-999.000,          9