BOTTLE,20220818CCHSIOAMB
EXPOCODE,SECT_ID,STNNBR,CASTNO,SAMPNO,BTLNBR,BTLNBR_FLAG_W,DATE,TIME,LATITUDE,LONGITUDE,DEPTH,CTDPRS,CTDTMP,CTDSAL,CTDSAL_FLAG_W,SALNTY,SALNTY_FLAG_W,CTDOXY,CTDOXY_FLAG_W,OXYGEN,OXYGEN_FLAG_W,SILCAT,SILCAT_FLAG_W,NITRAT,NITRAT_FLAG_W,NITRIT,NITRIT_FLAG_W,PHSPHT,PHSPHT_FLAG_W,CFC-11,CFC-11_FLAG_W,CFC-12,CFC-12_FLAG_W,CFC113,CFC113_FLAG_W,TCARBN,TCARBN_FLAG_W,ALKALI,ALKALI_FLAG_W,PCO2,PCO2_FLAG_W,PCO2TMP,PH_SWS,PH_SWS_FLAG_W,PH_TMP,TRITUM,TRITUM_FLAG_W,TRITER,HELIUM,HELIUM_FLAG_W,DELHE3,DELHE3_FLAG_W,DELC13,DELC13_FLAG_W,DELC14,DELC14_FLAG_W,C14ERR,NEON,NEON_FLAG_W,NEONER,CCL4,CCL4_FLAG_W,DOC,DOC_FLAG_W,CTDRAW,CDOM325,CDOM325_FLAG_W,CDOM340,CDOM340_FLAG_W,CDOM380,CDOM380_FLAG_W,CDOM412,CDOM412_FLAG_W,CDOMSL,CDOMSL_FLAG_W,CDOMSN,CDOMSN_FLAG_W,THETA,HELIER,DELHER,CH3CL,CH3CL_FLAG_W,CH3BR,CH3BR_FLAG_W,CH3I,CH3I_FLAG_W
,,,,,,,,,,,METERS,DBAR,ITS-90,PSS-78,,PSS-78,,UMOL/KG,,UMOL/KG,,UMOL/KG,,UMOL/KG,,UMOL/KG,,UMOL/KG,,PMOL/KG,,PMOL/KG,,PMOL/KG,,UMOL/KG,,UMOL/KG,,UATM,,DEG C,,,DEG C,TU,,TU,NMOL/KG,,PERCNT,,/MILLE,,/MILLE,,/MILLE,NMOL/KG,,NMOL/KG,PMOL/KG,,UMOL/KG,,DBAR,1/M,,1/M,,1/M,,1/M,,1/NM,,1/NM,,DEG C,NMOL/KG,PERCNT,PMOL/KG,,PMOL/KG,,PMOL/KG,
 33RO200501,       A16S,      65,          1,         36,         36,2,20050204,       1754,   -30.0008,   -24.9993,       5204,     2.7,  23.0971,  36.2147,2,  36.2119,2,    216.5,2,   216.6,2,    1.11,2,    0.09,2,    0.00,2,    0.02,2,   1.946,2,   1.235,2,   0.152,2,  2059.0,2,  2370.9,2,   324.8,2,   20.00,   8.0440,2,    25.00,-999.000,9, -999.00,   1.725,2,  -2.400,2, -999.00,9,  -999.0,9,  -999.0,   6.940,2,   0.013,   1.783,4,   67.32,2,    2.70,   0.0600,2,   0.0430,2,   0.0220,2,   0.0140,2,   0.0205,2,   0.0212,2,  23.0966,      0.001,   0.244,     -999.0,          9,     -999.0,          9,-999.000,          9
 33RO200501,       A16S,      65,          1,         35,         35,2,20050204,       1754,   -30.0008,   -24.9993,       5204,    19.5,  23.1077,  36.2222,2,  36.2175,2,    216.5,2,   216.6,2,    1.11,2,    0.09,2,    0.00,2,    0.02,2,-999.000,9,-999.000,9,-999.000,9,  2059.2,2,  2370.0,6,   328.3,2,   20.00,   8.0397,6,    25.00,-999.000,9, -999.00,-999.000,9,-999.000,9, -999.00,9,  -999.0,9,  -999.0,-999.000,9,-999.000,-999.000,9,   67.20,2,   19.50,   0.0810,2,   0.0600,2,   0.0260,2,   0.0150,2,   0.0198,2,   0.0198,2,  23.1037,     -999.0,-999.000,     -999.0,          9,     -999.0,          9,-999.000,          9
 33RO200501,       A16S,      65,          1,         34,         34,2,20050204,       1754,   -30.0008,   -24.9993,       5204,    38.7,  23.1178,  36.2382,2,  36.2367,2,    216.9,2,   216.5,2,    1.15,2,    0.09,2,    0.00,2,    0.02,2,   1.972,2,   1.252,2,   0.161,2,  2060.7,2,  2370.7,2,   327.7,2,   20.00,   8.0444,2,    25.00,-999.000,9, -999.00,-999.000,9,-999.000,9, -999.00,9,  -999.0,9,  -999.0,-999.000,9,-999.000,   1.695,4,   66.47,2,   38.70,   0.0580,2,   0.0400,2,   0.0190,2,   0.0110,2,   0.0238,2,   0.0243,2,  23.1098,     -999.0,-999.000,     -999.0,          9,     -999.0,          9,-999.000,          9
 33RO200501,       A16S,      65,          1,         33,         33,2,20050204,       1754,   -30.0008,   -24.9993,       5204,    58.9,  21.0904,  35.9532,2,  35.9555,2,    229.9,2,   230.1,2,    1.19,2,    0.09,2,    0.00,2,    0.04,2,-999.000,9,-999.000,9,-999.000,9,  2060.0,2,  2352.7,2,   347.6,2,   20.00,   8.0220,2,    25.00,-999.000,9, -999.00,-999.000,9,-999.000,9, -999.00,9,  -999.0,9,  -999.0,-999.000,9,-999.000,-999.000,9, -999.00,9,   58.90,-999.0000,9,-999.0000,9,-999.0000,9,-999.0000,9,-999.0000,9,-999.0000,9,  21.0790,     -999.0,-999.000,     -999.0,          9,     -999.0,          9,-999.000,          9
 33RO200501,       A16S,      65,          1,         32,         32,2,20050204,       1754,   -30.0008,   -24.9993,       5204,    79.0,  19.2887,  35.8095,2,  35.8156,2,    236.0,2,   236.4,2,    1.20,2,    0.10,2,    0.00,2,    0.06,2,   2.349,2,   1.452,2,   0.187,2,  2062.4,2,  2344.7,3,   355.5,2,   20.00,   8.0088,2,    25.00,   0.549,2,    0.01,-999.000,9,-999.000,9, -999.00,9,  -999.0,9,  -999.0,-999.000,9,-999.000,   1.821,4,   64.31,2,   79.00,   0.0870,2,   0.0610,2,   0.0310,2,   0.0180,2,   0.0191,2,   0.0202,2,  19.2744,     -999.0,-999.000,     -999.0,          9,     -999.0,          9,-999.000,          9
 33RO200501,       A16S,      65,          1,         31,         31,2,20050204,       1754,   -30.0008,   -24.9993,       5204,   100.9,  18.9083,  35.9048,2,  35.9047,2,    235.2,2,   233.0,2,    1.24,2,    0.10,2,    0.00,2,    0.07,2,-999.000,9,-999.000,9,-999.000,9,  2065.1,2,  2350.7,2,   631.1,4,   20.00,   8.0088,2,    25.00,-999.000,9, -999.00,-999.000,9,-999.000,9, -999.00,9,  -999.0,9,  -999.0,-999.000,9,-999.000,-999.000,9, -999.00,9,  100.90,-999.0000,9,-999.0000,9,-999.0000,9,-999.0000,9,-999.0000,9,-999.0000,9,  18.8903,     -999.0,-999.000,     -999.0,          9,     -999.0,          9,-999.000,          9
 33RO200501,       A16S,      65,          1,         30,         30,2,20050204,       1754,   -30.0008,   -24.9993,       5204,   124.3,  18.4694,  35.8649,2,  35.8537,2,    229.5,2,   230.2,2,    1.20,2,    0.11,2,    0.00,2,    0.08,2,   2.395,2,   1.458,2,   0.190,2,  2069.8,2,  2348.3,2,  -999.0,9,   20.00,   7.9964,2,    25.00,   0.528,2,    0.01,   1.743,2,  -1.570,2, -999.00,9,  -999.0,9,  -999.0,   7.160,2,   0.008,   1.612,4,   61.19,2,  124.30,   0.1800,2,   0.1400,2,   0.0640,2,   0.0380,2,   0.0182,2,   0.0182,2,  18.4476,      0.001,   0.224,     -999.0,          9,     -999.0,          9,-999.000,          9
 33RO200501,       A16S,      65,          1,         29,         29,2,20050204,       1754,   -30.0008,   -24.9993,       5204,   149.2,  17.8005,  35.8132,2,  35.8089,2,    223.5,2,   224.0,2,    1.39,2,    0.19,2,    0.07,2,    0.15,2,-999.000,9,-999.000,9,-999.000,9,  2080.4,2,  2344.4,2,   395.3,2,   20.00,   7.9787,2,    25.00,-999.000,9, -999.00,-999.000,9,-999.000,9, -999.00,9,  -999.0,9,  -999.0,-999.000,9,-999.000,-999.000,9, -999.00,9,  149.20,-999.0000,9,-999.0000,9,-999.0000,9,-999.0000,9,-999.0000,9,-999.0000,9,  17.7750,     -999.0,-999.000,     -999.0,          9,     -999.0,          9,-999.000,          9
 33RO200501,       A16S,      65,          1,         28,         28,2,20050204,       1754,   -30.0008,   -24.9993,       5204,   166.9,  17.0521,  35.7146,2,  35.7035,2,    220.6,2,   220.5,2,    1.77,2,    0.95,2,    0.07,2,    0.25,2,   2.549,2,   1.531,2,   0.156,2,  2087.8,2,  2338.9,2,  -999.0,9,   20.00,   7.9531,2,    25.00,-999.000,9, -999.00,   1.767,2,  -1.694,2, -999.00,9,  -999.0,9,  -999.0,   7.292,2,   0.013,   1.134,4,   53.25,2,  166.90,   0.1190,2,   0.0880,2,   0.0400,2,   0.0260,2,   0.0194,2,   0.0196,2,  17.0244,      0.001,   0.251,     -999.0,          9,     -999.0,          9,-999.000,          9
 33RO200501,       A16S,      65,          1,         27,         27,2,20050204,       1754,   -30.0008,   -24.9993,       5204,   198.9,  16.0032,  35.5693,2,  35.5641,2,    214.4,2,   215.6,2,    2.06,2,    2.76,2,    0.01,2,    0.36,2,-999.000,9,-999.000,9,-999.000,9,  2093.4,2,  2331.0,2,   449.3,2,   20.00,   7.9309,2,    25.00,   0.468,2,    0.02,-999.000,9,-999.000,9, -999.00,9,  -999.0,9,  -999.0,-999.000,9,-999.000,-999.000,9, -999.00,9,  198.90,-999.0000,9,-999.0000,9,-999.0000,9,-999.0000,9,-999.0000,9,-999.0000,9,  15.9716,     -999.0,-999.000,     -999.0,          9,     -999.0,          9,-999.000,          9
 33RO200501,       A16S,      65,          1,         26,         26,2,20050204,       1754,   -30.0008,   -24.9993,       5204,   248.3,  14.7310,  35.4033,2,  35.4002,2,    214.0,2,   214.8,2,    2.40,2,    5.22,2,    0.01,2,    0.48,2,   2.753,2,   1.610,2,   0.055,2,  2103.8,2,  2320.8,2,   486.2,2,   20.00,   7.9032,2,    25.00,   0.443,2,    0.01,   1.775,2,  -1.170,2, -999.00,9,  -999.0,9,  -999.0,   7.297,2,   0.017,   0.623,4,   48.73,2,  248.30,   0.1200,2,   0.0890,2,   0.0430,2,   0.0270,2,   0.0179,2,   0.0183,2,  14.6937,      0.001,   0.253,     -999.0,          9,     -999.0,          9,-999.000,          9
 33RO200501,       A16S,      65,          1,         25,         25,2,20050204,       1754,   -30.0008,   -24.9993,       5204,   300.4,  13.8204,  35.3012,2,  35.3017,2,    214.0,2,   214.6,2,    2.81,2,    7.18,2,    0.00,2,    0.58,2,-999.000,9,-999.000,9,-999.000,9,  2106.9,2,  2316.4,2,   513.5,2,   20.00,   7.8809,2,    25.00,-999.000,9, -999.00,-999.000,9,-999.000,9, -999.00,9,  -999.0,9,  -999.0,-999.000,9,-999.000,-999.000,9,   48.09,2,  300.40,-999.0000,9,-999.0000,9,-999.0000,9,-999.0000,9,-999.0000,9,-999.0000,9,  13.7771,     -999.0,-999.000,     -999.0,          9,     -999.0,          9,-999.000,          9
 33RO200501,       A16S,      65,          1,         24,         24,2,20050204,       1754,   -30.0008,   -24.9993,       5204,   349.4,  12.9460,  35.1860,2,  35.1780,2,    212.1,2,   212.3,2,    3.59,2,    9.62,2,    0.00,2,    0.78,2,   3.003,2,   1.687,2,   0.051,2,  2118.8,2,  2311.3,2,   552.1,2,   20.00,   7.8546,2,    25.00,   0.391,2,    0.01,-999.000,9,-999.000,9, -999.00,9,  -999.0,9,  -999.0,-999.000,9,-999.000,   0.818,4,   46.34,2,  349.40,   0.0940,2,   0.0640,2,   0.0320,3,   0.0220,3,   0.0197,3,   0.0211,3,  12.8977,     -999.0,-999.000,     -999.0,          9,     -999.0,          9,-999.000,          9
 33RO200501,       A16S,      65,          1,         23,         23,2,20050204,       1754,   -30.0008,   -24.9993,       5204,   399.7,  12.1850,  35.0804,2,  35.0750,2,    210.0,2,   209.6,2,    4.42,2,   11.66,2,    0.00,2,    0.84,2,   3.007,2,   1.652,2,   0.052,2,  2123.3,2,  2305.4,2,   588.4,2,   20.00,   7.8378,2,    25.00,   0.326,2,    0.01,   1.765,2,  -0.460,2, -999.00,9,  -999.0,9,  -999.0,   7.466,2,   0.012,   0.781,4,   45.50,2,  399.70,-999.0000,9,-999.0000,9,-999.0000,9,-999.0000,9,-999.0000,9,-999.0000,9,  12.1319,      0.001,   0.243,     -999.0,          9,     -999.0,          9,-999.000,          9
 33RO200501,       A16S,      65,          1,         22,         22,9,20050204,       1754,   -30.0008,   -24.9993,       5204,   499.3,  10.6471,  34.8811,2,-999.0000,9,   -999.0,9,  -999.0,9, -999.00,9, -999.00,9, -999.00,9, -999.00,9,-999.000,9,-999.000,9,-999.000,9,  -999.0,9,  -999.0,9,  -999.0,9,   20.00,-999.0000,9,    25.00,-999.000,9, -999.00,-999.000,9,-999.000,9, -999.00,9,  -999.0,9,  -999.0,-999.000,9,-999.000,-999.000,9, -999.00,9,  499.30,   0.1090,3,   0.0790,2,   0.0380,3,   0.0250,2,   0.0186,3,   0.0192,3,  10.5860,     -999.0,-999.000,     -999.0,          9,     -999.0,          9,-999.000,          9
 33RO200501,       A16S,      65,          1,         21,         21,2,20050204,       1754,   -30.0008,   -24.9993,       5204,   599.4,   8.7739,  34.6601,2,  34.6573,2,    205.8,2,   205.7,2,    9.48,2,   20.09,2,    0.00,2,    1.34,2,   2.912,2,   1.528,2,   0.111,2,  2150.6,2,  2288.3,2,   756.1,6,   20.00,   7.7380,2,    25.00,   0.227,2,    0.01,   1.730,3,   1.170,2, -999.00,9,  -999.0,9,  -999.0,   6.555,4,   0.016,   1.415,4,   43.41,2,  599.40,-999.0000,9,-999.0000,9,-999.0000,9,-999.0000,9,-999.0000,9,-999.0000,9,   8.7086,      0.001,   0.259,     -999.0,          9,     -999.0,          9,-999.000,          9
 33RO200501,       A16S,      65,          1,         20,         20,2,20050204,       1754,   -30.0008,   -24.9993,       5204,   698.6,   6.8150,  34.4594,2,  34.4538,2,    211.6,2,   212.5,2,   13.81,2,   24.71,2,    0.00,2,    1.60,2,   2.823,2,   1.460,2,   0.133,2,  2163.6,2,  2281.5,2,   841.1,2,   20.00,   7.6883,2,    25.00,   0.142,2,    0.01,-999.000,9,-999.000,9, -999.00,9,  -999.0,9,  -999.0,-999.000,9,-999.000,   1.931,4,   41.46,2,  698.60,   0.1150,3,   0.0830,3,   0.0480,3,   0.0330,3,   0.0139,3,   0.0153,3,   6.7488,     -999.0,-999.000,     -999.0,          9,     -999.0,          9,-999.000,          9
 33RO200501,       A16S,      65,          1,         19,         19,2,20050204,       1754,   -30.0008,   -24.9993,       5204,   798.6,   5.3395,  34.3534,2,  34.3534,2,    215.9,2,   216.8,2,   19.81,2,   27.69,2,    0.00,2,    1.79,2,   2.506,6,   1.241,6,   0.131,6,  2176.7,2,  2277.7,3,   909.1,2,   20.00,   7.6629,6,    25.00,-999.000,9, -999.00,-999.000,9,-999.000,9, -999.00,9,  -999.0,9,  -999.0,-999.000,9,-999.000,   2.168,4, -999.00,9,  798.60,-999.0000,9,-999.0000,9,-999.0000,9,-999.0000,9,-999.0000,9,-999.0000,9,   5.2722,     -999.0,-999.000,     -999.0,          9,     -999.0,          9,-999.000,          9
 33RO200501,       A16S,      65,          1,         18,         18,2,20050204,       1754,   -30.0008,   -24.9993,       5204,   899.5,   4.4574,  34.3250,2,  34.3247,2,    215.3,2,   215.1,2,   26.51,2,   29.57,2,    0.00,2,    1.92,2,   2.075,2,   1.009,2,   0.113,2,  2188.2,2,  2283.3,2,   955.8,2,   20.00,   7.6417,2,    25.00,   0.052,2,    0.01,-999.000,9,-999.000,9, -999.00,9,  -999.0,9,  -999.0,-999.000,9,-999.000,   2.057,4,   39.93,2,  899.50,   0.1250,3,   0.0910,3,   0.0510,3,   0.0360,3,   0.0136,3,   0.0150,3,   4.3871,     -999.0,-999.000,     -999.0,          9,     -999.0,          9,-999.000,          9
 33RO200501,       A16S,      65,          1,         17,         17,2,20050204,       1754,   -30.0008,   -24.9993,       5204,  1098.7,   3.4742,  34.3863,2,  34.3842,2,    201.4,2,   200.1,2,   41.93,2,   31.99,2,    0.00,2,    2.10,2,   1.055,2,   0.508,2,   0.055,2,  2215.5,2,  2300.6,2,  1051.2,2,   20.00,   7.6069,2,    25.00,   0.021,2,    0.01,   1.812,2,   3.740,2, -999.00,9,  -999.0,9,  -999.0,   8.000,2,   0.011,   1.194,4,   39.32,2, 1098.70,-999.0000,9,-999.0000,9,-999.0000,9,-999.0000,9,-999.0000,9,-999.0000,9,   3.3950,      0.001,   0.239,     -999.0,          9,     -999.0,          9,-999.000,          9
 33RO200501,       A16S,      65,          1,         16,         16,2,20050204,       1754,   -30.0008,   -24.9993,       5204,  1297.4,   3.0905,  34.4897,2,  34.4890,2,    191.1,2,   189.6,2,   51.43,2,   32.21,2,    0.00,2,    2.13,2,   0.503,2,   0.241,2,   0.020,2,  2250.7,3,  2306.1,2,  -999.0,9,   20.00,   7.6012,2,    25.00,   0.001,2,    0.01,   1.842,2,   4.820,2, -999.00,9,  -999.0,9,  -999.0,   8.083,2,   0.011,   0.666,4,   39.54,2, 1297.40,   0.1340,3,   0.0970,3,   0.0580,3,   0.0420,3,   0.0124,3,   0.0138,3,   2.9985,      0.001,   0.232,     -999.0,          9,     -999.0,          9,-999.000,          9
 33RO200501,       A16S,      65,          1,         15,         15,2,20050204,       1754,   -30.0008,   -24.9993,       5204,  1499.2,   2.9053,  34.6136,2,  34.6132,2,    190.7,2,   190.0,2,   55.31,2,   30.79,2,    0.00,2,    2.05,2,   0.175,2,   0.080,2,   0.008,2,  2226.8,2,  2316.8,2,  1047.1,2,   20.00,   7.6094,2,    25.00,-999.000,9, -999.00,-999.000,9,-999.000,9, -999.00,9,  -999.0,9,  -999.0,-999.000,9,-999.000,   0.277,4,   39.70,2, 1499.20,-999.0000,9,-999.0000,9,-999.0000,9,-999.0000,9,-999.0000,9,-999.0000,9,   2.7985,     -999.0,-999.000,     -999.0,          9,     -999.0,          9,-999.000,          9
 33RO200501,       A16S,      65,          1,         14,         14,2,20050204,       1754,   -30.0008,   -24.9993,       5204,  1699.3,   2.8054,  34.7061,2,  34.7047,2,    198.9,2,   199.4,2,   54.80,2,   28.87,2,    0.00,2,    1.90,2,   0.071,2,   0.028,2,   0.000,2,  2224.2,2,  2321.0,2,  -999.0,9,   20.00,   7.6290,2,    25.00,   0.001,2,    0.01,-999.000,9,-999.000,9, -999.00,9,  -999.0,9,  -999.0,-999.000,9,-999.000,   0.133,4,   39.61,2, 1699.30,-999.0000,9,-999.0000,9,-999.0000,9,-999.0000,9,-999.0000,9,-999.0000,9,   2.6828,     -999.0,-999.000,     -999.0,          9,     -999.0,          9,-999.000,          9
 33RO200501,       A16S,      65,          1,         13,         13,2,20050204,       1754,   -30.0008,   -24.9993,       5204,  1897.4,   2.7273,  34.7770,2,  34.7769,2,    209.5,2,   213.3,2,   52.12,2,   26.81,2,    0.00,2,    1.75,2,   0.029,2,   0.009,2,   0.000,2,  2216.6,2,  2323.8,2,   919.6,2,   20.00,   7.6562,2,    25.00,   0.001,2,    0.01,-999.000,9,-999.000,9, -999.00,9,  -999.0,9,  -999.0,-999.000,9,-999.000,   0.084,4,   39.55,2, 1897.40,-999.0000,9,-999.0000,9,-999.0000,9,-999.0000,9,-999.0000,9,-999.0000,9,   2.5884,     -999.0,-999.000,     -999.0,          9,     -999.0,          9,-999.000,          9
 33RO200501,       A16S,      65,          1,         12,         12,2,20050204,       1754,   -30.0008,   -24.9993,       5204,  2199.3,   2.7402,  34.8434,2,  34.8432,2,    226.2,2,   227.0,2,   45.40,2,   24.19,2,    0.00,2,    1.58,2,   0.010,2,   0.001,2,   0.000,2,  2201.4,2,  2320.8,2,   843.5,2,   20.00,   7.6883,2,    25.00,   0.001,2,    0.01,   1.852,2,   4.820,2, -999.00,9,  -999.0,9,  -999.0,   7.943,2,   0.067,   0.041,4, -999.00,9, 2199.30,-999.0000,9,-999.0000,9,-999.0000,9,-999.0000,9,-999.0000,9,-999.0000,9,   2.5737,      0.011,   0.259,     -999.0,          9,     -999.0,          9,-999.000,          9
 33RO200501,       A16S,      65,          1,         11,         11,2,20050204,       1754,   -30.0008,   -24.9993,       5204,  2498.2,   2.7637,  34.8801,2,  34.8804,2,    237.5,2,   238.6,2,   40.43,2,   22.58,2,    0.00,2,    1.46,2,   0.007,6,  -0.002,6,   0.003,6,  2191.7,2,  2322.3,2,   801.2,2,   20.00,   7.7090,2,    25.00,   0.001,2,    0.01,   1.890,2,   4.020,2, -999.00,9,  -999.0,9,  -999.0,   8.087,2,   0.037,   0.030,4,   39.25,2, 2498.20,-999.0000,9,-999.0000,9,-999.0000,9,-999.0000,9,-999.0000,9,-999.0000,9,   2.5685,      0.004,   0.244,     -999.0,          9,     -999.0,          9,-999.000,          9
 33RO200501,       A16S,      65,          1,         10,         10,2,20050204,       1754,   -30.0008,   -24.9993,       5204,  2798.3,   2.7529,  34.9026,2,  34.9026,2,    244.3,2,   240.3,2,   37.06,2,   21.51,2,    0.00,2,    1.39,2,   0.008,3,  -0.001,3,   0.000,3,  2187.6,2,  2322.9,2,  -999.0,9,   20.00,   7.7230,2,    25.00,   0.001,2,    0.00,   1.838,2,   2.640,4, -999.00,9,  -999.0,9,  -999.0,   8.088,2,   0.007,   0.026,4, -999.00,9, 2798.30,   0.1330,2,   0.0960,2,   0.0510,2,   0.0350,3,   0.0150,3,   0.0165,3,   2.5282,      0.007,   0.250,     -999.0,          9,     -999.0,          9,-999.000,          9
 33RO200501,       A16S,      65,          1,          9,          9,2,20050204,       1754,   -30.0008,   -24.9993,       5204,  3099.0,   2.6442,  34.9045,2,  34.9058,2,    247.4,2,   248.8,2,   38.28,2,   21.31,2,    0.00,2,    1.40,2,   0.004,2,   0.002,2,   0.000,2,  2186.0,2,  2324.7,2,   770.5,2,   20.00,   7.7264,2,    25.00,-999.000,9, -999.00,-999.000,9,-999.000,9, -999.00,9,  -999.0,9,  -999.0,-999.000,9,-999.000,   0.026,4,   39.20,2, 3099.00,-999.0000,9,-999.0000,9,-999.0000,9,-999.0000,9,-999.0000,9,-999.0000,9,   2.3910,     -999.0,-999.000,     -999.0,          9,     -999.0,          9,-999.000,          9
 33RO200501,       A16S,      65,          1,          8,          8,2,20050204,       1754,   -30.0008,   -24.9993,       5204,  3399.0,   2.3685,  34.8819,2,  34.8818,2,    245.9,2,   245.8,2,   47.09,2,   22.37,2,    0.00,2,    1.48,2,   0.009,2,   0.006,2,   0.000,2,  2192.7,2,  2328.6,2,   790.4,2,   20.00,   7.7165,2,    25.00,-999.000,9, -999.00,-999.000,9,-999.000,9, -999.00,9,  -999.0,9,  -999.0,-999.000,9,-999.000,   0.027,4, -999.00,9, 3399.00,-999.0000,9,-999.0000,9,-999.0000,9,-999.0000,9,-999.0000,9,-999.0000,9,   2.0903,     -999.0,-999.000,     -999.0,          9,     -999.0,          9,-999.000,          9