BOTTLE,20220818CCHSIOAMB
EXPOCODE,SECT_ID,STNNBR,CASTNO,SAMPNO,BTLNBR,BTLNBR_FLAG_W,DATE,TIME,LATITUDE,LONGITUDE,DEPTH,CTDPRS,CTDTMP,CTDSAL,CTDSAL_FLAG_W,SALNTY,SALNTY_FLAG_W,CTDOXY,CTDOXY_FLAG_W,OXYGEN,OXYGEN_FLAG_W,SILCAT,SILCAT_FLAG_W,NITRAT,NITRAT_FLAG_W,NITRIT,NITRIT_FLAG_W,PHSPHT,PHSPHT_FLAG_W,CFC-11,CFC-11_FLAG_W,CFC-12,CFC-12_FLAG_W,CFC113,CFC113_FLAG_W,TCARBN,TCARBN_FLAG_W,ALKALI,ALKALI_FLAG_W,PCO2,PCO2_FLAG_W,PCO2TMP,PH_SWS,PH_SWS_FLAG_W,PH_TMP,TRITUM,TRITUM_FLAG_W,TRITER,HELIUM,HELIUM_FLAG_W,DELHE3,DELHE3_FLAG_W,DELC13,DELC13_FLAG_W,DELC14,DELC14_FLAG_W,C14ERR,NEON,NEON_FLAG_W,NEONER,CCL4,CCL4_FLAG_W,DOC,DOC_FLAG_W,CTDRAW,CDOM325,CDOM325_FLAG_W,CDOM340,CDOM340_FLAG_W,CDOM380,CDOM380_FLAG_W,CDOM412,CDOM412_FLAG_W,CDOMSL,CDOMSL_FLAG_W,CDOMSN,CDOMSN_FLAG_W,THETA,HELIER,DELHER,CH3CL,CH3CL_FLAG_W,CH3BR,CH3BR_FLAG_W,CH3I,CH3I_FLAG_W
,,,,,,,,,,,METERS,DBAR,ITS-90,PSS-78,,PSS-78,,UMOL/KG,,UMOL/KG,,UMOL/KG,,UMOL/KG,,UMOL/KG,,UMOL/KG,,PMOL/KG,,PMOL/KG,,PMOL/KG,,UMOL/KG,,UMOL/KG,,UATM,,DEG C,,,DEG C,TU,,TU,NMOL/KG,,PERCNT,,/MILLE,,/MILLE,,/MILLE,NMOL/KG,,NMOL/KG,PMOL/KG,,UMOL/KG,,DBAR,1/M,,1/M,,1/M,,1/M,,1/NM,,1/NM,,DEG C,NMOL/KG,PERCNT,PMOL/KG,,PMOL/KG,,PMOL/KG,
 33RO200501,       A16S,     101,          1,          7,          7,2,20050215,       1930,   -11.9995,   -24.9997,       5609,  4198.3,   1.4553,  34.7938,2,  34.7983,3,    234.8,2,   235.4,2,   80.99,2,   26.48,2,    0.00,2,    1.79,2,   0.014,2,   0.007,2,   0.000,2,  2222.3,2,  2352.1,2,   883.9,2,   20.00,   7.6776,2,    25.00,-999.000,9, -999.00,-999.000,9,-999.000,9, -999.00,9,  -999.0,9,  -999.0,-999.000,9,-999.000,   0.048,4,   39.72,2, 4198.30,   0.1420,3,   0.1000,3,   0.0520,3,   0.0350,3,   0.0156,3,   0.0175,3,   1.1152,     -999.0,-999.000,     -999.0,          9,     -999.0,          9,-999.000,          9
 33RO200501,       A16S,     101,          1,          6,          6,2,20050215,       1930,   -11.9995,   -24.9997,       5609,  4499.0,   0.9960,  34.7458,2,  34.7482,3,    227.7,2,   228.3,2,   99.36,2,   28.92,2,    0.00,2,    1.98,2,   0.018,2,   0.002,2,   0.004,2,  2239.5,2,  2362.8,2,   950.0,2,   20.00,   7.6458,2,    25.00,-999.000,9, -999.00,-999.000,9,-999.000,9, -999.00,9,  -999.0,9,  -999.0,-999.000,9,-999.000,   0.051,4, -999.00,9, 4499.00,-999.0000,9,-999.0000,9,-999.0000,9,-999.0000,9,-999.0000,9,-999.0000,9,   0.6364,     -999.0,-999.000,     -999.0,          9,     -999.0,          9,-999.000,          9
 33RO200501,       A16S,     101,          1,          5,          5,2,20050215,       1930,   -11.9995,   -24.9997,       5609,  4797.8,   0.8418,  34.7276,2,  34.7275,2,    224.9,2,   225.7,2,  106.30,2,   29.90,2,    0.00,2,    2.06,2,   0.026,2,   0.008,2,   0.000,2,  2242.3,3,  2363.2,2,   975.8,2,   20.00,   7.6344,2,    25.00,-999.000,9, -999.00,-999.000,9,-999.000,9, -999.00,9,  -999.0,9,  -999.0,-999.000,9,-999.000,   0.054,4,   39.71,2, 4797.80,-999.0000,9,-999.0000,9,-999.0000,9,-999.0000,9,-999.0000,9,-999.0000,9,   0.4533,     -999.0,-999.000,     -999.0,          9,     -999.0,          9,-999.000,          9
 33RO200501,       A16S,     101,          1,          4,          4,2,20050215,       1930,   -11.9995,   -24.9997,       5609,  5099.0,   0.7808,  34.7177,2,  34.7175,2,    223.8,2,   224.3,2,  109.72,6,   30.39,6,    0.00,6,    2.09,6,-999.000,9,-999.000,9,-999.000,9,  2250.1,2,  2365.7,2,  -999.0,9,   20.00,   7.6332,2,    25.00,-999.000,9, -999.00,-999.000,9,-999.000,9, -999.00,9,  -999.0,9,  -999.0,-999.000,9,-999.000,-999.000,9, -999.00,9, 5099.00,   0.1480,2,   0.1070,3,   0.0610,3,   0.0420,3,   0.0137,3,   0.0150,3,   0.3590,     -999.0,-999.000,     -999.0,          9,     -999.0,          9,-999.000,          9
 33RO200501,       A16S,     101,          1,          3,          3,2,20050215,       1930,   -11.9995,   -24.9997,       5609,  5399.4,   0.7737,  34.7129,2,  34.7131,2,    223.2,2,   223.8,2,  111.48,6,   30.58,6,    0.00,6,    2.11,6,   0.028,6,   0.011,6,   0.001,6,  2252.5,2,  2368.0,2,  1000.3,2,   20.00,   7.6328,2,    25.00,-999.000,9, -999.00,-999.000,9,-999.000,9, -999.00,9,  -999.0,9,  -999.0,-999.000,9,-999.000,   0.074,4,   39.52,2, 5399.40,-999.0000,9,-999.0000,9,-999.0000,9,-999.0000,9,-999.0000,9,-999.0000,9,   0.3159,     -999.0,-999.000,     -999.0,          9,     -999.0,          9,-999.000,          9
 33RO200501,       A16S,     101,          1,          2,          2,2,20050215,       1930,   -11.9995,   -24.9997,       5609,  5698.6,   0.7836,  34.7094,2,  34.7428,3,    223.1,2,   222.7,2,  112.75,6,   30.78,6,    0.00,6,    2.12,6,   0.038,2,   0.013,2,   0.000,2,  2253.8,2,  2368.7,6,   998.3,2,   20.00,   7.6279,6,    25.00,   0.021,2,    0.01,-999.000,9,-999.000,9, -999.00,9,  -999.0,9,  -999.0,-999.000,9,-999.000,   0.083,4, -999.00,9, 5698.60,-999.0000,9,-999.0000,9,-999.0000,9,-999.0000,9,-999.0000,9,-999.0000,9,   0.2882,     -999.0,-999.000,     -999.0,          9,     -999.0,          9,-999.000,          9
 33RO200501,       A16S,     101,          1,          1,          1,2,20050215,       1930,   -11.9995,   -24.9997,       5609,  5910.2,   0.8061,  34.7085,2,  34.7125,3,    223.1,2,   222.6,2,  112.85,6,   30.68,6,    0.00,6,    2.12,6,   0.042,2,   0.012,2,   0.000,2,  2254.3,6,  2368.9,2,   999.4,2,   20.00,   7.6409,2,    25.00,-999.000,9, -999.00,   1.897,2,   5.550,2, -999.00,9,  -999.0,9,  -999.0,   8.335,2,   0.009,   0.086,4,   39.61,2, 5910.20,   0.1790,3,   0.1320,3,   0.0750,3,   0.0520,3,   0.0134,3,   0.0145,3,   0.2829,      0.001,   0.224,     -999.0,          9,     -999.0,          9,-999.000,          9