BOTTLE,20220818CCHSIOAMB
EXPOCODE,SECT_ID,STNNBR,CASTNO,SAMPNO,BTLNBR,BTLNBR_FLAG_W,DATE,TIME,LATITUDE,LONGITUDE,DEPTH,CTDPRS,CTDTMP,CTDSAL,CTDSAL_FLAG_W,SALNTY,SALNTY_FLAG_W,CTDOXY,CTDOXY_FLAG_W,OXYGEN,OXYGEN_FLAG_W,SILCAT,SILCAT_FLAG_W,NITRAT,NITRAT_FLAG_W,NITRIT,NITRIT_FLAG_W,PHSPHT,PHSPHT_FLAG_W,CFC-11,CFC-11_FLAG_W,CFC-12,CFC-12_FLAG_W,CFC113,CFC113_FLAG_W,TCARBN,TCARBN_FLAG_W,ALKALI,ALKALI_FLAG_W,PCO2,PCO2_FLAG_W,PCO2TMP,PH_SWS,PH_SWS_FLAG_W,PH_TMP,TRITUM,TRITUM_FLAG_W,TRITER,HELIUM,HELIUM_FLAG_W,DELHE3,DELHE3_FLAG_W,DELC13,DELC13_FLAG_W,DELC14,DELC14_FLAG_W,C14ERR,NEON,NEON_FLAG_W,NEONER,CCL4,CCL4_FLAG_W,DOC,DOC_FLAG_W,CTDRAW,CDOM325,CDOM325_FLAG_W,CDOM340,CDOM340_FLAG_W,CDOM380,CDOM380_FLAG_W,CDOM412,CDOM412_FLAG_W,CDOMSL,CDOMSL_FLAG_W,CDOMSN,CDOMSN_FLAG_W,THETA,HELIER,DELHER,CH3CL,CH3CL_FLAG_W,CH3BR,CH3BR_FLAG_W,CH3I,CH3I_FLAG_W
,,,,,,,,,,,METERS,DBAR,ITS-90,PSS-78,,PSS-78,,UMOL/KG,,UMOL/KG,,UMOL/KG,,UMOL/KG,,UMOL/KG,,UMOL/KG,,PMOL/KG,,PMOL/KG,,PMOL/KG,,UMOL/KG,,UMOL/KG,,UATM,,DEG C,,,DEG C,TU,,TU,NMOL/KG,,PERCNT,,/MILLE,,/MILLE,,/MILLE,NMOL/KG,,NMOL/KG,PMOL/KG,,UMOL/KG,,DBAR,1/M,,1/M,,1/M,,1/M,,1/NM,,1/NM,,DEG C,NMOL/KG,PERCNT,PMOL/KG,,PMOL/KG,,PMOL/KG,
 33RO200501,       A16S,      47,          1,         36,         36,2,20050130,       0533,   -38.9998,   -27.1665,       4215,     3.7,  17.4665,  35.1477,2,  35.1449,2,    250.7,2,   244.3,2,    0.99,2,    0.00,2,    0.00,2,    0.14,2,   2.600,2,   1.652,2,   0.221,2,  2048.6,6,  2318.8,2,  -999.0,9,   20.00,   7.9831,2,    25.00,-999.000,9, -999.00,-999.000,9,-999.000,9, -999.00,9,  -999.0,9,  -999.0,-999.000,9,-999.000,   6.943,4,   61.59,2,    3.70,   0.1530,2,   0.1080,2,   0.0470,2,   0.0280,2,   0.0202,2,   0.0214,2,  17.4658,     -999.0,-999.000,     -999.0,          9,     -999.0,          9,-999.000,          9
 33RO200501,       A16S,      47,          1,         35,         35,2,20050130,       0533,   -38.9998,   -27.1665,       4215,    25.8,  16.9774,  35.1372,2,  35.1394,2,    251.7,2,   246.2,2,    0.98,2,    0.00,2,    0.00,2,    0.15,2,   2.601,2,   1.673,2,   0.221,2,  2046.2,2,  2316.9,6,  -999.0,9,   20.00,   7.9859,6,    25.00,-999.000,9, -999.00,-999.000,9,-999.000,9, -999.00,9,  -999.0,9,  -999.0,-999.000,9,-999.000,   7.632,4, -999.00,9,   25.80,-999.0000,9,-999.0000,9,-999.0000,9,-999.0000,9,-999.0000,9,-999.0000,9,  16.9731,     -999.0,-999.000,     -999.0,          9,     -999.0,          9,-999.000,          9
 33RO200501,       A16S,      47,          1,         34,         34,2,20050130,       0533,   -38.9998,   -27.1665,       4215,    50.9,  14.9616,  35.2541,2,  35.2463,2,    257.7,2,   255.8,2,    1.19,2,    0.91,2,    0.14,2,    0.24,2,   2.868,2,   1.773,2,   0.234,2,  2068.8,2,  2319.3,2,  -999.0,9,   20.00,   7.9513,2,    25.00,-999.000,9, -999.00,-999.000,9,-999.000,9, -999.00,9,  -999.0,9,  -999.0,-999.000,9,-999.000,   6.488,4,   56.51,2,   50.90,-999.0000,9,-999.0000,9,-999.0000,9,-999.0000,9,-999.0000,9,-999.0000,9,  14.9539,     -999.0,-999.000,     -999.0,          9,     -999.0,          9,-999.000,          9
 33RO200501,       A16S,      47,          1,         33,         33,2,20050130,       0533,   -38.9998,   -27.1665,       4215,    71.0,  13.9960,  35.2683,2,  35.2639,2,    250.0,2,   250.8,2,    1.22,2,    2.47,2,    0.36,2,    0.37,2,   2.950,2,   1.796,2,   0.234,2,  2082.5,2,  2322.3,2,  -999.0,9,   20.00,   7.9316,2,    25.00,-999.000,9, -999.00,-999.000,9,-999.000,9, -999.00,9,  -999.0,9,  -999.0,-999.000,9,-999.000,   4.608,4, -999.00,9,   71.00,-999.0000,9,-999.0000,9,-999.0000,9,-999.0000,9,-999.0000,9,-999.0000,9,  13.9858,     -999.0,-999.000,     -999.0,          9,     -999.0,          9,-999.000,          9
 33RO200501,       A16S,      47,          1,         32,         32,2,20050130,       0533,   -38.9998,   -27.1665,       4215,    91.9,  13.7535,  35.3320,2,  35.3334,2,    240.2,2,   246.6,2,    1.66,2,    3.63,2,    0.40,2,    0.42,2,-999.000,9,-999.000,9,-999.000,9,  2090.9,2,  2326.4,2,  -999.0,9,   20.00,   7.9153,2,    25.00,-999.000,9, -999.00,-999.000,9,-999.000,9, -999.00,9,  -999.0,9,  -999.0,-999.000,9,-999.000,-999.000,9,   54.55,2,   91.90,-999.0000,9,-999.0000,9,-999.0000,9,-999.0000,9,-999.0000,9,-999.0000,9,  13.7404,     -999.0,-999.000,     -999.0,          9,     -999.0,          9,-999.000,          9
 33RO200501,       A16S,      47,          1,         31,         31,2,20050130,       0533,   -38.9998,   -27.1665,       4215,   115.3,  13.6800,  35.3552,2,  35.3535,2,    240.8,2,   242.3,2,    1.94,2,    4.93,2,    0.09,2,    0.46,2,   2.943,2,   1.762,2,   0.216,2,  2094.8,2,  2326.9,2,  -999.0,9,   20.00,   7.9143,2,    25.00,-999.000,9, -999.00,-999.000,9,-999.000,9, -999.00,9,  -999.0,9,  -999.0,-999.000,9,-999.000,   2.698,3, -999.00,9,  115.30,-999.0000,9,-999.0000,9,-999.0000,9,-999.0000,9,-999.0000,9,-999.0000,9,  13.6636,     -999.0,-999.000,     -999.0,          9,     -999.0,          9,-999.000,          9
 33RO200501,       A16S,      47,          1,         30,         30,2,20050130,       0533,   -38.9998,   -27.1665,       4215,   140.9,  13.6567,  35.3753,2,  35.3707,2,    241.7,2,   246.2,2,    1.92,2,    4.60,2,    0.01,2,    0.43,2,-999.000,9,-999.000,9,-999.000,9,  2094.6,2,  2324.8,2,  -999.0,9,   20.00,   7.9197,2,    25.00,-999.000,9, -999.00,-999.000,9,-999.000,9, -999.00,9,  -999.0,9,  -999.0,-999.000,9,-999.000,-999.000,9,   52.57,2,  140.90,-999.0000,9,-999.0000,9,-999.0000,9,-999.0000,9,-999.0000,9,-999.0000,9,  13.6366,     -999.0,-999.000,     -999.0,          9,     -999.0,          9,-999.000,          9
 33RO200501,       A16S,      47,          1,         29,         29,2,20050130,       0533,   -38.9998,   -27.1665,       4215,   165.5,  13.3152,  35.3156,2,  35.3133,2,    241.2,2,   243.5,2,    2.07,2,    5.56,2,    0.01,2,    0.50,2,   2.965,2,   1.780,2,   0.218,2,  2097.3,2,  2322.2,2,  -999.0,9,   20.00,   7.9062,2,    25.00,-999.000,9, -999.00,-999.000,9,-999.000,9, -999.00,9,  -999.0,9,  -999.0,-999.000,9,-999.000,   2.147,3, -999.00,9,  165.50,-999.0000,9,-999.0000,9,-999.0000,9,-999.0000,9,-999.0000,9,-999.0000,9,  13.2920,     -999.0,-999.000,     -999.0,          9,     -999.0,          9,-999.000,          9
 33RO200501,       A16S,      47,          1,         28,         28,2,20050130,       0533,   -38.9998,   -27.1665,       4215,   190.9,  13.0530,  35.2711,2,  35.2692,2,    242.2,2,   241.1,2,    2.18,2,    6.51,2,    0.01,2,    0.57,2,   2.982,2,   1.769,2,   0.208,2,  2100.4,2,  2320.0,2,  -999.0,9,   20.00,   7.9581,3,    25.00,-999.000,9, -999.00,-999.000,9,-999.000,9, -999.00,9,  -999.0,9,  -999.0,-999.000,9,-999.000,   1.845,3,   51.19,2,  190.90,   0.1380,2,   0.1060,2,   0.0530,2,   0.0340,2,   0.0164,2,   0.0169,2,  13.0266,     -999.0,-999.000,     -999.0,          9,     -999.0,          9,-999.000,          9
 33RO200501,       A16S,      47,          1,         27,         27,2,20050130,       0533,   -38.9998,   -27.1665,       4215,   224.2,  12.9648,  35.2645,2,  35.2621,2,    244.4,2,   244.8,2,    2.07,2,    6.30,2,    0.01,2,    0.55,2,   3.006,2,   1.794,2,   0.000,2,  2099.2,2,  2320.0,2,  -999.0,9,   20.00,   7.8963,2,    25.00,-999.000,9, -999.00,-999.000,9,-999.000,9, -999.00,9,  -999.0,9,  -999.0,-999.000,9,-999.000,   2.045,3, -999.00,9,  224.20,-999.0000,9,-999.0000,9,-999.0000,9,-999.0000,9,-999.0000,9,-999.0000,9,  12.9339,     -999.0,-999.000,     -999.0,          9,     -999.0,          9,-999.000,          9
 33RO200501,       A16S,      47,          1,         26,         26,2,20050130,       0533,   -38.9998,   -27.1665,       4215,   275.6,  12.6773,  35.2049,2,  35.2036,2,    236.6,2,   237.6,2,    2.35,2,    7.85,2,    0.01,2,    0.63,2,   3.024,2,   1.729,2,   0.178,2,  2107.9,2,  2316.1,2,  -999.0,9,   20.00,-999.0000,5,    25.00,-999.000,9, -999.00,-999.000,9,-999.000,9, -999.00,9,  -999.0,9,  -999.0,-999.000,9,-999.000,   1.738,3,   49.64,2,  275.60,   0.1080,2,   0.0780,2,   0.0420,2,   0.0280,2,   0.0160,2,   0.0172,2,  12.6399,     -999.0,-999.000,     -999.0,          9,     -999.0,          9,-999.000,          9
 33RO200501,       A16S,      47,          1,         25,         25,2,20050130,       0533,   -38.9998,   -27.1665,       4215,   324.4,  11.5722,  35.0163,2,  35.0167,2,    229.9,2,   222.0,2,    3.31,2,   12.11,2,    0.01,2,    0.87,2,   3.093,2,   1.790,2,   0.129,2,  2123.5,2,  2304.8,2,  -999.0,9,   20.00,   7.8320,2,    25.00,-999.000,9, -999.00,-999.000,9,-999.000,9, -999.00,9,  -999.0,9,  -999.0,-999.000,9,-999.000,   1.289,3,   48.22,2,  324.40,-999.0000,9,-999.0000,9,-999.0000,9,-999.0000,9,-999.0000,9,-999.0000,9,  11.5306,     -999.0,-999.000,     -999.0,          9,     -999.0,          9,-999.000,          9
 33RO200501,       A16S,      47,          1,         24,         24,2,20050130,       0533,   -38.9998,   -27.1665,       4215,   376.9,  10.1921,  34.8088,2,  34.8043,2,    217.2,2,   213.5,2,    4.76,2,   16.46,2,    0.01,2,    1.12,2,   3.156,2,   1.744,2,   0.130,2,  2143.3,2,  2294.8,2,  -999.0,9,   20.00,   7.7838,2,    25.00,-999.000,9, -999.00,-999.000,9,-999.000,9, -999.00,9,  -999.0,9,  -999.0,-999.000,9,-999.000,   1.309,3,   47.22,2,  376.90,   0.1360,2,   0.1020,2,   0.0520,2,   0.0320,3,   0.0167,3,   0.0172,3,  10.1475,     -999.0,-999.000,     -999.0,          9,     -999.0,          9,-999.000,          9
 33RO200501,       A16S,      47,          1,         23,         23,2,20050130,       0533,   -38.9998,   -27.1665,       4215,   450.4,   8.3550,  34.5640,2,  34.5620,2,    222.0,2,   218.6,2,    6.53,2,   20.45,2,    0.01,2,    1.34,2,   3.375,2,   1.854,2,   0.178,2,  2143.9,2,  2284.7,2,  -999.0,9,   20.00,   7.7551,2,    25.00,-999.000,9, -999.00,-999.000,9,-999.000,9, -999.00,9,  -999.0,9,  -999.0,-999.000,9,-999.000,   1.895,3,   43.50,2,  450.40,-999.0000,9,-999.0000,9,-999.0000,9,-999.0000,9,-999.0000,9,-999.0000,9,   8.3077,     -999.0,-999.000,     -999.0,          9,     -999.0,          9,-999.000,          9
 33RO200501,       A16S,      47,          1,         22,         22,2,20050130,       0533,   -38.9998,   -27.1665,       4215,   551.4,   6.2421,  34.3377,2,  34.3374,2,    237.1,2,   236.6,2,    9.56,2,   24.08,2,    0.00,2,    1.60,2,-999.000,9,-999.000,9,-999.000,9,  2152.3,2,  2275.2,2,  -999.0,9,   20.00,   7.7097,2,    25.00,-999.000,9, -999.00,-999.000,9,-999.000,9, -999.00,9,  -999.0,9,  -999.0,-999.000,9,-999.000,-999.000,9,   41.41,2,  551.40,   0.1310,2,   0.0970,2,   0.0490,2,   0.0340,3,   0.0156,3,   0.0169,3,   6.1928,     -999.0,-999.000,     -999.0,          9,     -999.0,          9,-999.000,          9
 33RO200501,       A16S,      47,          1,         21,         21,2,20050130,       0533,   -38.9998,   -27.1665,       4215,   650.2,   5.1400,  34.2433,2,  34.2432,2,    251.4,2,   250.9,2,   11.96,2,   25.59,2,    0.00,2,    1.66,2,   3.786,2,   2.031,2,   0.276,2,  2155.3,2,  2274.2,2,  -999.0,9,   20.00,   7.7227,4,    25.00,-999.000,9, -999.00,-999.000,9,-999.000,9, -999.00,9,  -999.0,9,  -999.0,-999.000,9,-999.000,   3.224,3, -999.00,9,  650.20,-999.0000,9,-999.0000,9,-999.0000,9,-999.0000,9,-999.0000,9,-999.0000,9,   5.0870,     -999.0,-999.000,     -999.0,          9,     -999.0,          9,-999.000,          9
 33RO200501,       A16S,      47,          1,         20,         20,2,20050130,       0533,   -38.9998,   -27.1665,       4215,   750.7,   4.4425,  34.2056,2,  34.2056,2,    257.7,2,   261.2,3,   15.11,6,   26.73,6,    0.00,6,    1.74,6,   3.734,2,   1.989,2,   0.280,2,  2160.6,2,  2278.1,2,  -999.0,9,   20.00,   7.6812,2,    25.00,-999.000,9, -999.00,-999.000,9,-999.000,9, -999.00,9,  -999.0,9,  -999.0,-999.000,9,-999.000,   3.354,3,   40.64,2,  750.70,   0.1130,2,   0.0810,2,   0.0470,2,   0.0320,2,   0.0143,2,   0.0155,2,   4.3849,     -999.0,-999.000,     -999.0,          9,     -999.0,          9,-999.000,          9
 33RO200501,       A16S,      47,          1,         19,         19,2,20050130,       0533,   -38.9998,   -27.1665,       4215,   850.3,   3.9632,  34.2035,2,  34.2036,2,    252.2,2,   251.5,2,   19.81,2,   28.19,2,    0.00,2,    1.78,2,   3.395,2,   1.782,2,   0.240,2,  2168.9,2,  2282.8,2,  -999.0,9,   20.00,   7.6707,6,    25.00,-999.000,9, -999.00,-999.000,9,-999.000,9, -999.00,9,  -999.0,9,  -999.0,-999.000,9,-999.000,   3.117,3, -999.00,9,  850.30,-999.0000,9,-999.0000,9,-999.0000,9,-999.0000,9,-999.0000,9,-999.0000,9,   3.9005,     -999.0,-999.000,     -999.0,          9,     -999.0,          9,-999.000,          9
 33RO200501,       A16S,      47,          1,         18,         18,2,20050130,       0533,   -38.9998,   -27.1665,       4215,   950.6,   3.6408,  34.2184,2,  34.2185,2,    242.8,2,   242.2,2,   24.88,2,   29.49,2,    0.00,2,    1.85,2,   2.941,2,   1.534,2,   0.202,2,  2175.5,2,  2286.8,2,  -999.0,9,   20.00,   7.6610,2,    25.00,-999.000,9, -999.00,-999.000,9,-999.000,9, -999.00,9,  -999.0,9,  -999.0,-999.000,9,-999.000,   2.800,3,   39.08,2,  950.60,   0.1790,2,   0.1370,2,   0.0720,2,   0.0470,2,   0.0151,2,   0.0158,2,   3.5723,     -999.0,-999.000,     -999.0,          9,     -999.0,          9,-999.000,          9
 33RO200501,       A16S,      47,          1,         17,         17,2,20050130,       0533,   -38.9998,   -27.1665,       4215,  1050.8,   3.3391,  34.2476,2,  34.2495,2,    230.2,2,   230.1,2,   31.57,2,   30.82,2,    0.00,2,    1.94,2,   2.436,2,   1.248,2,   0.164,2,  2195.7,2,  2291.7,2,  -999.0,9,   20.00,   7.6301,2,    25.00,-999.000,9, -999.00,-999.000,9,-999.000,9, -999.00,9,  -999.0,9,  -999.0,-999.000,9,-999.000,   2.475,3,   39.89,2, 1050.80,   0.1690,2,   0.1270,2,   0.0630,2,   0.0430,3,   0.0155,3,   0.0166,3,   3.2650,     -999.0,-999.000,     -999.0,          9,     -999.0,          9,-999.000,          9
 33RO200501,       A16S,      47,          1,         16,         16,2,20050130,       0533,   -38.9998,   -27.1665,       4215,  1150.7,   3.1593,  34.2989,2,  34.2995,2,    215.0,2,   215.2,2,   38.91,6,   31.89,6,    0.00,6,    2.08,6,-999.000,9,-999.000,9,-999.000,9,  2209.6,2,  2294.6,2,  -999.0,9,   20.00,   7.6196,2,    25.00,-999.000,9, -999.00,-999.000,9,-999.000,9, -999.00,9,  -999.0,9,  -999.0,-999.000,9,-999.000,-999.000,9,   39.26,2, 1150.70,-999.0000,9,-999.0000,9,-999.0000,9,-999.0000,9,-999.0000,9,-999.0000,9,   3.0788,     -999.0,-999.000,     -999.0,          9,     -999.0,          9,-999.000,          9
 33RO200501,       A16S,      47,          1,         15,         15,2,20050130,       0533,   -38.9998,   -27.1665,       4215,  1251.1,   3.0255,  34.3527,2,  34.3535,2,    203.0,2,   202.9,2,   45.92,2,   32.74,2,    0.00,2,    2.12,2,   1.386,2,   0.690,2,   0.076,2,  2239.5,4,  2300.7,2,  -999.0,9,   20.00,   7.6008,2,    25.00,-999.000,9, -999.00,-999.000,9,-999.000,9, -999.00,9,  -999.0,9,  -999.0,-999.000,9,-999.000,   1.589,3,   38.60,2, 1251.10,-999.0000,9,-999.0000,9,-999.0000,9,-999.0000,9,-999.0000,9,-999.0000,9,   2.9382,     -999.0,-999.000,     -999.0,          9,     -999.0,          9,-999.000,          9
 33RO200501,       A16S,      47,          1,         14,         14,2,20050130,       0533,   -38.9998,   -27.1665,       4215,  1352.9,   2.9128,  34.4166,2,  34.4177,2,    192.2,2,   191.6,2,   52.73,2,   33.25,2,    0.00,2,    2.19,2,   0.933,2,   0.462,2,   0.049,2,  2233.3,3,  2311.7,2,  -999.0,9,   20.00,-999.0000,5,    25.00,-999.000,9, -999.00,-999.000,9,-999.000,9, -999.00,9,  -999.0,9,  -999.0,-999.000,9,-999.000,   1.207,3,   39.21,2, 1352.90,-999.0000,9,-999.0000,9,-999.0000,9,-999.0000,9,-999.0000,9,-999.0000,9,   2.8183,     -999.0,-999.000,     -999.0,          9,     -999.0,          9,-999.000,          9
 33RO200501,       A16S,      47,          1,         13,         13,2,20050130,       0533,   -38.9998,   -27.1665,       4215,  1501.5,   2.8552,  34.5111,2,  34.5121,2,    182.2,2,   182.7,2,   58.56,2,   33.01,2,    0.00,2,    2.18,2,   0.447,2,   0.219,2,   0.018,2,  2233.4,2,  2320.4,2,  -999.0,9,   20.00,   7.5799,2,    25.00,-999.000,9, -999.00,-999.000,9,-999.000,9, -999.00,9,  -999.0,9,  -999.0,-999.000,9,-999.000,   0.678,3,   38.89,2, 1501.50,-999.0000,9,-999.0000,9,-999.0000,9,-999.0000,9,-999.0000,9,-999.0000,9,   2.7491,     -999.0,-999.000,     -999.0,          9,     -999.0,          9,-999.000,          9
 33RO200501,       A16S,      47,          1,         12,         12,2,20050130,       0533,   -38.9998,   -27.1665,       4215,  1700.5,   2.8519,  34.6221,2,  34.6223,2,    181.5,2,   181.7,2,   61.08,6,   31.78,6,    0.00,6,    2.12,6,   0.221,2,   0.105,2,   0.007,2,  2239.8,2,  2327.7,2,  -999.0,9,   20.00,-999.0000,9,    25.00,-999.000,9, -999.00,-999.000,9,-999.000,9, -999.00,9,  -999.0,9,  -999.0,-999.000,9,-999.000,   0.382,3,   39.36,2, 1700.50,-999.0000,9,-999.0000,9,-999.0000,9,-999.0000,9,-999.0000,9,-999.0000,9,   2.7288,     -999.0,-999.000,     -999.0,          9,     -999.0,          9,-999.000,          9
 33RO200501,       A16S,      47,          1,         11,         11,2,20050130,       0533,   -38.9998,   -27.1665,       4215,  1901.1,   2.9022,  34.7163,2,  34.7168,2,    190.9,2,   190.7,2,   58.86,2,   29.69,2,    0.00,2,    1.97,2,   0.109,2,   0.055,2,   0.000,2,  2232.5,2,  2329.4,2,  -999.0,9,   20.00,   7.6181,2,    25.00,-999.000,9, -999.00,-999.000,9,-999.000,9, -999.00,9,  -999.0,9,  -999.0,-999.000,9,-999.000,   0.245,3, -999.00,9, 1901.10,   0.1650,2,   0.1210,2,   0.0700,2,   0.0510,3,   0.0128,3,   0.0140,3,   2.7607,     -999.0,-999.000,     -999.0,          9,     -999.0,          9,-999.000,          9
 33RO200501,       A16S,      47,          1,         10,         10,2,20050130,       0533,   -38.9998,   -27.1665,       4215,  2100.2,   2.9904,  34.7915,2,  34.7929,2,    204.8,2,   205.7,2,   51.98,2,   27.12,2,    0.00,2,    1.79,2,   0.086,2,   0.045,2,   0.003,2,  2219.7,2,  2328.0,2,  -999.0,9,   20.00,   7.6704,2,    25.00,-999.000,9, -999.00,-999.000,9,-999.000,9, -999.00,9,  -999.0,9,  -999.0,-999.000,9,-999.000,   0.000,3,   38.84,2, 2100.20,-999.0000,9,-999.0000,9,-999.0000,9,-999.0000,9,-999.0000,9,-999.0000,9,   2.8293,     -999.0,-999.000,     -999.0,          9,     -999.0,          9,-999.000,          9
 33RO200501,       A16S,      47,          1,          9,          9,2,20050130,       0533,   -38.9998,   -27.1665,       4215,  2300.8,   2.9449,  34.8352,2,  34.8351,2,    214.6,2,   215.4,2,   49.61,2,   25.54,2,    0.00,2,    1.69,2,   0.054,2,   0.025,2,   0.005,2,  2212.3,2,  2328.7,2,  -999.0,9,   20.00,   7.6706,2,    25.00,-999.000,9, -999.00,-999.000,9,-999.000,9, -999.00,9,  -999.0,9,  -999.0,-999.000,9,-999.000,   0.178,3, -999.00,9, 2300.80,-999.0000,9,-999.0000,9,-999.0000,9,-999.0000,9,-999.0000,9,-999.0000,9,   2.7656,     -999.0,-999.000,     -999.0,          9,     -999.0,          9,-999.000,          9
 33RO200501,       A16S,      47,          1,          8,          8,2,20050130,       0533,   -38.9998,   -27.1665,       4215,  2498.4,   2.8848,  34.8634,2,  34.8646,2,    225.4,2,   226.0,2,   45.60,6,   24.14,6,    0.00,6,    1.59,6,   0.049,2,   0.024,2,   0.004,2,  2204.3,2,  2328.0,2,  -999.0,9,   20.00,   7.7007,2,    25.00,-999.000,9, -999.00,-999.000,9,-999.000,9, -999.00,9,  -999.0,9,  -999.0,-999.000,9,-999.000,   0.167,3,   40.21,2, 2498.40,-999.0000,9,-999.0000,9,-999.0000,9,-999.0000,9,-999.0000,9,-999.0000,9,   2.6874,     -999.0,-999.000,     -999.0,          9,     -999.0,          9,-999.000,          9