BOTTLE,20220818CCHSIOAMB
EXPOCODE,SECT_ID,STNNBR,CASTNO,SAMPNO,BTLNBR,BTLNBR_FLAG_W,DATE,TIME,LATITUDE,LONGITUDE,DEPTH,CTDPRS,CTDTMP,CTDSAL,CTDSAL_FLAG_W,SALNTY,SALNTY_FLAG_W,CTDOXY,CTDOXY_FLAG_W,OXYGEN,OXYGEN_FLAG_W,SILCAT,SILCAT_FLAG_W,NITRAT,NITRAT_FLAG_W,NITRIT,NITRIT_FLAG_W,PHSPHT,PHSPHT_FLAG_W,CFC-11,CFC-11_FLAG_W,CFC-12,CFC-12_FLAG_W,CFC113,CFC113_FLAG_W,TCARBN,TCARBN_FLAG_W,ALKALI,ALKALI_FLAG_W,PCO2,PCO2_FLAG_W,PCO2TMP,PH_SWS,PH_SWS_FLAG_W,PH_TMP,TRITUM,TRITUM_FLAG_W,TRITER,HELIUM,HELIUM_FLAG_W,DELHE3,DELHE3_FLAG_W,DELC13,DELC13_FLAG_W,DELC14,DELC14_FLAG_W,C14ERR,NEON,NEON_FLAG_W,NEONER,CCL4,CCL4_FLAG_W,DOC,DOC_FLAG_W,CTDRAW,CDOM325,CDOM325_FLAG_W,CDOM340,CDOM340_FLAG_W,CDOM380,CDOM380_FLAG_W,CDOM412,CDOM412_FLAG_W,CDOMSL,CDOMSL_FLAG_W,CDOMSN,CDOMSN_FLAG_W,THETA,HELIER,DELHER,CH3CL,CH3CL_FLAG_W,CH3BR,CH3BR_FLAG_W,CH3I,CH3I_FLAG_W
,,,,,,,,,,,METERS,DBAR,ITS-90,PSS-78,,PSS-78,,UMOL/KG,,UMOL/KG,,UMOL/KG,,UMOL/KG,,UMOL/KG,,UMOL/KG,,PMOL/KG,,PMOL/KG,,PMOL/KG,,UMOL/KG,,UMOL/KG,,UATM,,DEG C,,,DEG C,TU,,TU,NMOL/KG,,PERCNT,,/MILLE,,/MILLE,,/MILLE,NMOL/KG,,NMOL/KG,PMOL/KG,,UMOL/KG,,DBAR,1/M,,1/M,,1/M,,1/M,,1/NM,,1/NM,,DEG C,NMOL/KG,PERCNT,PMOL/KG,,PMOL/KG,,PMOL/KG,
 33RO200501,       A16S,      77,          1,          7,          7,2,20050208,       1028,   -23.9998,   -24.9982,       5547,  3998.6,   1.7299,  34.8195,2,  34.8190,2,    238.1,2,   238.2,2,   73.86,2,   25.27,2,    0.00,2,    1.72,2,   0.009,2,   0.002,2,   0.000,2,  2214.7,2,  2346.4,2,   859.9,2,   20.00,   7.6831,2,    25.00,-999.000,9, -999.00,-999.000,9,-999.000,9, -999.00,9,  -999.0,9,  -999.0,-999.000,9,-999.000,   0.037,4,   40.14,2, 3998.60,-999.0000,9,-999.0000,9,-999.0000,9,-999.0000,9,-999.0000,9,-999.0000,9,   1.4038,     -999.0,-999.000,     -999.0,          9,     -999.0,          9,-999.000,          9
 33RO200501,       A16S,      77,          1,          6,          6,2,20050208,       1028,   -23.9998,   -24.9982,       5547,  4297.0,   1.4214,  34.7875,2,  34.7871,2,    233.5,2,   233.9,2,   85.99,2,   26.85,2,    0.00,2,    1.84,2,   0.011,2,   0.006,2,   0.000,2,  2227.5,2,  2349.1,2,   899.8,2,   20.00,   7.6701,2,    25.00,-999.000,9, -999.00,-999.000,9,-999.000,9, -999.00,9,  -999.0,9,  -999.0,-999.000,9,-999.000,   0.043,4, -999.00,9, 4297.00,-999.0000,9,-999.0000,9,-999.0000,9,-999.0000,9,-999.0000,9,-999.0000,9,   1.0713,     -999.0,-999.000,     -999.0,          9,     -999.0,          9,-999.000,          9
 33RO200501,       A16S,      77,          1,          5,          5,2,20050208,       1028,   -23.9998,   -24.9982,       5547,  4599.1,   1.1683,  34.7599,2,  34.7598,2,    229.8,2,   230.0,2,   96.27,2,   28.18,2,    0.00,2,    1.95,2,   0.016,2,   0.013,2,   0.000,2,  2238.6,2,  2350.4,2,   934.4,2,   20.00,   7.6522,2,    25.00,-999.000,9, -999.00,-999.000,9,-999.000,9, -999.00,9,  -999.0,9,  -999.0,-999.000,9,-999.000,   0.062,4,   40.34,2, 4599.10,-999.0000,9,-999.0000,9,-999.0000,9,-999.0000,9,-999.0000,9,-999.0000,9,   0.7918,     -999.0,-999.000,     -999.0,          9,     -999.0,          9,-999.000,          9
 33RO200501,       A16S,      77,          1,          4,          4,2,20050208,       1028,   -23.9998,   -24.9982,       5547,  4899.6,   1.0024,  34.7403,2,  34.7400,2,    227.3,2,   227.6,2,  103.30,6,   29.15,6,    0.00,6,    2.02,6,   0.029,2,   0.017,2,   0.006,2,  2245.1,2,  2353.5,2,  -999.0,9,   20.00,   7.6424,2,    25.00,-999.000,9, -999.00,-999.000,9,-999.000,9, -999.00,9,  -999.0,9,  -999.0,-999.000,9,-999.000,   0.082,4, -999.00,9, 4899.60,   0.1690,3,   0.1260,3,   0.0710,3,   0.0490,3,   0.0134,3,   0.0146,3,   0.5966,     -999.0,-999.000,     -999.0,          9,     -999.0,          9,-999.000,          9
 33RO200501,       A16S,      77,          1,          3,          3,2,20050208,       1028,   -23.9998,   -24.9982,       5547,  5199.0,   0.9055,  34.7271,2,  34.7278,2,    225.9,2,   225.8,2,  107.80,6,   29.63,6,    0.00,6,    2.07,6,   0.040,2,   0.023,2,   0.000,2,  2248.5,2,  2355.1,2,   981.8,2,   20.00,   7.6346,2,    25.00,-999.000,9, -999.00,-999.000,9,-999.000,9, -999.00,9,  -999.0,9,  -999.0,-999.000,9,-999.000,   0.102,4,   40.02,2, 5199.00,-999.0000,9,-999.0000,9,-999.0000,9,-999.0000,9,-999.0000,9,-999.0000,9,   0.4674,     -999.0,-999.000,     -999.0,          9,     -999.0,          9,-999.000,          9
 33RO200501,       A16S,      77,          1,          2,          2,2,20050208,       1028,   -23.9998,   -24.9982,       5547,  5499.4,   0.7027,  34.7032,2,  34.7034,2,    223.1,2,   222.9,2,  116.61,6,   30.83,6,    0.00,6,    2.17,6,   0.093,2,   0.049,2,   0.000,2,  2257.3,2,  2359.2,6,  1018.9,2,   20.00,   7.6192,6,    25.00,-999.000,9, -999.00,-999.000,9,-999.000,9, -999.00,9,  -999.0,9,  -999.0,-999.000,9,-999.000,   0.178,4, -999.00,9, 5499.40,-999.0000,9,-999.0000,9,-999.0000,9,-999.0000,9,-999.0000,9,-999.0000,9,   0.2354,     -999.0,-999.000,     -999.0,          9,     -999.0,          9,-999.000,          9
 33RO200501,       A16S,      77,          1,          1,          1,2,20050208,       1028,   -23.9998,   -24.9982,       5547,  5687.4,   0.6558,  34.6960,2,  34.6981,3,    222.0,2,   222.3,2,  119.16,6,   31.25,6,    0.00,6,    2.20,6,   0.115,2,   0.059,2,   0.004,2,  2259.8,6,  2359.7,3,  1030.7,2,   20.00,   7.6125,2,    25.00,-999.000,9, -999.00,-999.000,9,-999.000,9, -999.00,9,  -999.0,9,  -999.0,-999.000,9,-999.000,   0.208,4,   39.39,2, 5687.40,   0.1490,3,   0.1080,3,   0.0620,3,   0.0420,3,   0.0137,3,   0.0150,3,   0.1668,     -999.0,-999.000,     -999.0,          9,     -999.0,          9,-999.000,          9