BOTTLE,20220818CCHSIOAMB
EXPOCODE,SECT_ID,STNNBR,CASTNO,SAMPNO,BTLNBR,BTLNBR_FLAG_W,DATE,TIME,LATITUDE,LONGITUDE,DEPTH,CTDPRS,CTDTMP,CTDSAL,CTDSAL_FLAG_W,SALNTY,SALNTY_FLAG_W,CTDOXY,CTDOXY_FLAG_W,OXYGEN,OXYGEN_FLAG_W,SILCAT,SILCAT_FLAG_W,NITRAT,NITRAT_FLAG_W,NITRIT,NITRIT_FLAG_W,PHSPHT,PHSPHT_FLAG_W,CFC-11,CFC-11_FLAG_W,CFC-12,CFC-12_FLAG_W,CFC113,CFC113_FLAG_W,TCARBN,TCARBN_FLAG_W,ALKALI,ALKALI_FLAG_W,PCO2,PCO2_FLAG_W,PCO2TMP,PH_SWS,PH_SWS_FLAG_W,PH_TMP,TRITUM,TRITUM_FLAG_W,TRITER,HELIUM,HELIUM_FLAG_W,DELHE3,DELHE3_FLAG_W,DELC13,DELC13_FLAG_W,DELC14,DELC14_FLAG_W,C14ERR,NEON,NEON_FLAG_W,NEONER,CCL4,CCL4_FLAG_W,DOC,DOC_FLAG_W,CTDRAW,CDOM325,CDOM325_FLAG_W,CDOM340,CDOM340_FLAG_W,CDOM380,CDOM380_FLAG_W,CDOM412,CDOM412_FLAG_W,CDOMSL,CDOMSL_FLAG_W,CDOMSN,CDOMSN_FLAG_W,THETA,HELIER,DELHER,CH3CL,CH3CL_FLAG_W,CH3BR,CH3BR_FLAG_W,CH3I,CH3I_FLAG_W
,,,,,,,,,,,METERS,DBAR,ITS-90,PSS-78,,PSS-78,,UMOL/KG,,UMOL/KG,,UMOL/KG,,UMOL/KG,,UMOL/KG,,UMOL/KG,,PMOL/KG,,PMOL/KG,,PMOL/KG,,UMOL/KG,,UMOL/KG,,UATM,,DEG C,,,DEG C,TU,,TU,NMOL/KG,,PERCNT,,/MILLE,,/MILLE,,/MILLE,NMOL/KG,,NMOL/KG,PMOL/KG,,UMOL/KG,,DBAR,1/M,,1/M,,1/M,,1/M,,1/NM,,1/NM,,DEG C,NMOL/KG,PERCNT,PMOL/KG,,PMOL/KG,,PMOL/KG,
 33RO200501,       A16S,      97,          1,          7,          7,2,20050214,       1351,   -14.0007,   -25.0005,       5851,  4200.2,   1.5431,  34.8029,2,  34.8042,2,    236.7,2,   236.6,2,   76.30,2,   25.99,2,    0.00,2,    1.76,2,   0.008,2,   0.007,2,   0.000,2,  2225.7,2,  2350.1,2,   875.0,2,   20.00,   7.6791,2,    25.00,-999.000,9, -999.00,-999.000,9,-999.000,9,    0.99,3,  -134.3,2,     2.9,-999.000,9,-999.000,   0.050,4,   39.90,2, 4200.20,   0.1690,3,   0.1270,3,   0.0710,3,   0.0480,3,   0.0140,3,   0.0150,3,   1.2001,     -999.0,-999.000,     -999.0,          9,     -999.0,          9,-999.000,          9
 33RO200501,       A16S,      97,          1,          6,          6,2,20050214,       1351,   -14.0007,   -25.0005,       5851,  4500.3,   1.0821,  34.7540,2,  34.7543,2,    229.3,2,   230.1,2,   95.25,2,   28.53,2,    0.00,2,    1.95,2,-999.000,9,-999.000,9,-999.000,9,  2241.9,2,  2359.0,2,   942.4,2,   20.00,   7.6494,2,    25.00,-999.000,9, -999.00,-999.000,9,-999.000,9,    0.80,2,  -148.3,2,     2.3,-999.000,9,-999.000,-999.000,9, -999.00,9, 4500.30,-999.0000,9,-999.0000,9,-999.0000,9,-999.0000,9,-999.0000,9,-999.0000,9,   0.7196,     -999.0,-999.000,     -999.0,          9,     -999.0,          9,-999.000,          9
 33RO200501,       A16S,      97,          1,          5,          5,2,20050214,       1351,   -14.0007,   -25.0005,       5851,  4799.9,   0.8494,  34.7276,2,  34.7266,2,    225.5,2,   227.0,2,  105.32,2,   29.80,2,    0.00,2,    2.05,2,   0.032,2,   0.018,2,   0.000,2,  2252.5,2,  2363.2,2,   982.2,2,   20.00,   7.6330,2,    25.00,-999.000,9, -999.00,-999.000,9,-999.000,9,    0.76,2,  -151.2,2,     2.9,-999.000,9,-999.000,   0.086,4,   38.67,2, 4799.90,-999.0000,9,-999.0000,9,-999.0000,9,-999.0000,9,-999.0000,9,-999.0000,9,   0.4604,     -999.0,-999.000,     -999.0,          9,     -999.0,          9,-999.000,          9
 33RO200501,       A16S,      97,          1,          4,          4,2,20050214,       1351,   -14.0007,   -25.0005,       5851,  5099.3,   0.7437,  34.7132,2,  34.7126,2,    223.6,2,   223.6,2,  110.79,6,   30.58,6,    0.00,6,    2.11,6,   0.062,2,   0.031,2,   0.000,2,  2245.8,3,  2365.0,2,  -999.0,9,   20.00,   7.6238,2,    25.00,-999.000,9, -999.00,-999.000,9,-999.000,9,    0.74,2,  -156.3,2,     2.6,-999.000,9,-999.000,   0.125,4, -999.00,9, 5099.30,   0.1590,3,   0.1170,3,   0.0660,3,   0.0450,3,   0.0137,3,   0.0149,3,   0.3232,     -999.0,-999.000,     -999.0,          9,     -999.0,          9,-999.000,          9
 33RO200501,       A16S,      97,          1,          3,          3,2,20050214,       1351,   -14.0007,   -25.0005,       5851,  5393.7,   0.7330,  34.7080,2,  34.7073,2,    223.2,2,   223.2,2,  112.75,6,   30.87,6,    0.00,6,    2.12,6,   0.083,2,   0.040,2,   0.003,2,  2255.5,2,  2359.2,2,  1015.2,2,   20.00,   7.6216,2,    25.00,-999.000,9, -999.00,-999.000,9,-999.000,9,    0.72,2,  -154.2,2,     2.7,-999.000,9,-999.000,   0.152,4,   38.72,2, 5393.70,-999.0000,9,-999.0000,9,-999.0000,9,-999.0000,9,-999.0000,9,-999.0000,9,   0.2775,     -999.0,-999.000,     -999.0,          9,     -999.0,          9,-999.000,          9
 33RO200501,       A16S,      97,          1,          2,          2,2,20050214,       1351,   -14.0007,   -25.0005,       5851,  5699.6,   0.7464,  34.7050,2,  34.7054,2,    222.9,2,   222.9,2,  113.72,6,   30.97,6,    0.00,6,    2.13,6,   0.097,2,   0.041,2,   0.002,2,  2250.3,3,  2363.1,6,  1016.7,2,   20.00,   7.6205,6,    25.00,   0.043,2,    0.01,   1.915,2,   6.050,2,    0.70,2,  -160.8,2,     2.6,   8.359,2,   0.009,   0.162,4, -999.00,9, 5699.60,-999.0000,9,-999.0000,9,-999.0000,9,-999.0000,9,-999.0000,9,-999.0000,9,   0.2524,      0.001,   0.224,     -999.0,          9,     -999.0,          9,-999.000,          9
 33RO200501,       A16S,      97,          1,          1,          1,2,20050214,       1351,   -14.0007,   -25.0005,       5851,  6003.9,   0.7816,  34.7040,2,  34.7071,3,    222.9,2,   222.5,2,  113.82,6,   30.87,6,    0.00,6,    2.13,6,   0.083,2,   0.050,2,   0.004,2,  2257.6,6,  2360.8,2,  1013.7,2,   20.00,   7.6200,2,    25.00,   0.003,2,    0.01,   1.895,2,   6.050,2,    0.71,2,  -158.4,2,     2.5,   8.288,2,   0.009,   0.173,4,   39.59,2, 6003.90,-999.0000,9,-999.0000,9,-999.0000,9,-999.0000,9,-999.0000,9,-999.0000,9,   0.2473,      0.001,   0.217,     -999.0,          9,     -999.0,          9,-999.000,          9