BOTTLE,20220818CCHSIOAMB
EXPOCODE,SECT_ID,STNNBR,CASTNO,SAMPNO,BTLNBR,BTLNBR_FLAG_W,DATE,TIME,LATITUDE,LONGITUDE,DEPTH,CTDPRS,CTDTMP,CTDSAL,CTDSAL_FLAG_W,SALNTY,SALNTY_FLAG_W,CTDOXY,CTDOXY_FLAG_W,OXYGEN,OXYGEN_FLAG_W,SILCAT,SILCAT_FLAG_W,NITRAT,NITRAT_FLAG_W,NITRIT,NITRIT_FLAG_W,PHSPHT,PHSPHT_FLAG_W,CFC-11,CFC-11_FLAG_W,CFC-12,CFC-12_FLAG_W,CFC113,CFC113_FLAG_W,TCARBN,TCARBN_FLAG_W,ALKALI,ALKALI_FLAG_W,PCO2,PCO2_FLAG_W,PCO2TMP,PH_SWS,PH_SWS_FLAG_W,PH_TMP,TRITUM,TRITUM_FLAG_W,TRITER,HELIUM,HELIUM_FLAG_W,DELHE3,DELHE3_FLAG_W,DELC13,DELC13_FLAG_W,DELC14,DELC14_FLAG_W,C14ERR,NEON,NEON_FLAG_W,NEONER,CCL4,CCL4_FLAG_W,DOC,DOC_FLAG_W,CTDRAW,CDOM325,CDOM325_FLAG_W,CDOM340,CDOM340_FLAG_W,CDOM380,CDOM380_FLAG_W,CDOM412,CDOM412_FLAG_W,CDOMSL,CDOMSL_FLAG_W,CDOMSN,CDOMSN_FLAG_W,THETA,HELIER,DELHER,CH3CL,CH3CL_FLAG_W,CH3BR,CH3BR_FLAG_W,CH3I,CH3I_FLAG_W
,,,,,,,,,,,METERS,DBAR,ITS-90,PSS-78,,PSS-78,,UMOL/KG,,UMOL/KG,,UMOL/KG,,UMOL/KG,,UMOL/KG,,UMOL/KG,,PMOL/KG,,PMOL/KG,,PMOL/KG,,UMOL/KG,,UMOL/KG,,UATM,,DEG C,,,DEG C,TU,,TU,NMOL/KG,,PERCNT,,/MILLE,,/MILLE,,/MILLE,NMOL/KG,,NMOL/KG,PMOL/KG,,UMOL/KG,,DBAR,1/M,,1/M,,1/M,,1/M,,1/NM,,1/NM,,DEG C,NMOL/KG,PERCNT,PMOL/KG,,PMOL/KG,,PMOL/KG,
 33RO200501,       A16S,      59,          1,         36,         36,2,20050202,       2104,   -33.0003,   -24.9980,       4437,     2.4,  21.2033,  35.6788,2,  35.6769,2,    225.3,2,   225.6,2,    0.48,2,    0.10,2,    0.00,2, -999.00,5,   2.114,2,   1.317,2,   0.175,2,  2049.3,6,  2340.8,2,  -999.0,9,   20.00,   8.0167,2,    25.00,   0.528,2,    0.01,   1.735,2,  -3.240,4, -999.00,9,  -999.0,9,  -999.0,   6.882,2,   0.009,   1.863,4,   61.97,2,    2.40,-999.0000,9,-999.0000,9,-999.0000,9,-999.0000,9,-999.0000,9,-999.0000,9,  21.2029,      0.000,   0.226,     -999.0,          9,     -999.0,          9,-999.000,          9
 33RO200501,       A16S,      59,          1,         35,         35,2,20050202,       2104,   -33.0003,   -24.9980,       4437,    24.0,  21.1176,  35.6818,2,  35.6795,2,    225.5,2,   225.8,2,    0.46,2,    0.10,2,    0.00,2, -999.00,5,   2.129,2,   1.346,2,   0.177,2,  2050.8,2,  2339.7,2,  -999.0,9,   20.00,   8.0133,6,    25.00,   0.564,2,    0.01,   1.745,2,  -1.910,2, -999.00,9,  -999.0,9,  -999.0,   6.927,2,   0.016,   1.891,4,   60.37,2,   24.00,-999.0000,9,-999.0000,9,-999.0000,9,-999.0000,9,-999.0000,9,-999.0000,9,  21.1130,      0.003,   0.249,     -999.0,          9,     -999.0,          9,-999.000,          9
 33RO200501,       A16S,      59,          1,         34,         34,2,20050202,       2104,   -33.0003,   -24.9980,       4437,    48.8,  19.9271,  35.8128,2,  35.8124,2,    233.0,2,   233.5,2,    0.46,2,    0.10,2,    0.00,2,    0.01,4,   2.253,2,   1.407,2,   0.191,2,  2057.4,2,  2349.9,2,  -999.0,9,   20.00,   8.0144,2,    25.00,   0.559,2,    0.01,   1.754,2,  -1.930,2, -999.00,9,  -999.0,9,  -999.0,   7.071,2,   0.007,   1.855,4,   59.29,2,   48.80,-999.0000,9,-999.0000,9,-999.0000,9,-999.0000,9,-999.0000,9,-999.0000,9,  19.9181,      0.002,   0.209,     -999.0,          9,     -999.0,          9,-999.000,          9
 33RO200501,       A16S,      59,          1,         33,         33,2,20050202,       2104,   -33.0003,   -24.9980,       4437,    68.1,  19.7419,  35.8106,2,  35.8098,2,    232.2,2,   233.1,2,    0.42,2,    0.10,2,    0.00,2,    0.01,4,   2.259,2,   1.403,2,   0.188,2,  2056.0,2,  2355.3,2,  -999.0,9,   20.00,   8.0165,2,    25.00,-999.000,9, -999.00,   1.738,2,  -3.128,4, -999.00,9,  -999.0,9,  -999.0,   7.033,2,   0.010,   1.854,4, -999.00,9,   68.10,-999.0000,9,-999.0000,9,-999.0000,9,-999.0000,9,-999.0000,9,-999.0000,9,  19.7294,      0.000,   0.245,     -999.0,          9,     -999.0,          9,-999.000,          9
 33RO200501,       A16S,      59,          1,         32,         32,2,20050202,       2104,   -33.0003,   -24.9980,       4437,    88.6,  19.2015,  35.8576,2,  35.8552,2,    233.1,2,   234.1,2,    0.44,2,    0.11,2,    0.00,2,    0.04,4,-999.000,9,-999.000,9,-999.000,9,  2061.1,2,  2359.1,2,  -999.0,9,   20.00,   8.0124,2,    25.00,-999.000,9, -999.00,-999.000,9,-999.000,9, -999.00,9,  -999.0,9,  -999.0,-999.000,9,-999.000,-999.000,9,   57.82,2,   88.60,-999.0000,9,-999.0000,9,-999.0000,9,-999.0000,9,-999.0000,9,-999.0000,9,  19.1855,     -999.0,-999.000,     -999.0,          9,     -999.0,          9,-999.000,          9
 33RO200501,       A16S,      59,          1,         31,         31,2,20050202,       2104,   -33.0003,   -24.9980,       4437,   113.2,  17.9493,  35.7661,2,  35.7595,2,    233.5,2,   233.8,2,    0.49,2,    0.11,2,    0.00,2,    0.08,4,   2.440,2,   1.491,2,   0.198,2,  2067.4,2,  2351.5,2,  -999.0,9,   20.00,   7.9952,2,    25.00,   0.630,2,    0.02,-999.000,9,-999.000,9, -999.00,9,  -999.0,9,  -999.0,-999.000,9,-999.000,   1.643,4, -999.00,9,  113.20,-999.0000,9,-999.0000,9,-999.0000,9,-999.0000,9,-999.0000,9,-999.0000,9,  17.9298,     -999.0,-999.000,     -999.0,          9,     -999.0,          9,-999.000,          9
 33RO200501,       A16S,      59,          1,         30,         30,2,20050202,       2104,   -33.0003,   -24.9980,       4437,   138.2,  17.2107,  35.6735,2,  35.6738,2,    231.2,2,   230.8,2,    0.53,2,    0.16,2,    0.04,2,    0.11,4,-999.000,9,-999.000,9,-999.000,9,  2071.3,2,  2340.3,2,  -999.0,9,   20.00,   7.9781,2,    25.00,-999.000,9, -999.00,-999.000,9,-999.000,9, -999.00,9,  -999.0,9,  -999.0,-999.000,9,-999.000,-999.000,9,   56.32,2,  138.20,-999.0000,9,-999.0000,9,-999.0000,9,-999.0000,9,-999.0000,9,-999.0000,9,  17.1876,     -999.0,-999.000,     -999.0,          9,     -999.0,          9,-999.000,          9
 33RO200501,       A16S,      59,          1,         29,         29,2,20050202,       2104,   -33.0003,   -24.9980,       4437,   164.3,  16.6809,  35.6164,2,  35.6179,2,    226.2,2,   227.1,2,    0.61,2,    0.62,2,    0.05,2,    0.15,4,   2.576,2,   1.548,2,   0.182,2,  2077.0,2,  2338.4,2,  -999.0,9,   20.00,   7.9640,2,    25.00,   0.538,2,    0.01,   1.763,2,  -2.860,4, -999.00,9,  -999.0,9,  -999.0,   7.117,2,   0.010,   1.367,4, -999.00,9,  164.30,-999.0000,9,-999.0000,9,-999.0000,9,-999.0000,9,-999.0000,9,-999.0000,9,  16.6540,      0.000,   0.229,     -999.0,          9,     -999.0,          9,-999.000,          9
 33RO200501,       A16S,      59,          1,         28,         28,2,20050202,       2104,   -33.0003,   -24.9980,       4437,   188.9,  16.1547,  35.5621,2,  35.5601,2,    221.2,2,   222.1,2,    0.86,2,    1.81,2,    0.01,2,    0.25,4,   2.626,2,   1.581,2,   0.144,2,  2085.3,2,  2335.6,2,  -999.0,9,   20.00,   7.9438,2,    25.00,-999.000,9, -999.00,   1.755,2,  -2.950,4, -999.00,9,  -999.0,9,  -999.0,   7.127,2,   0.009,   1.061,4,   51.88,2,  188.90,-999.0000,9,-999.0000,9,-999.0000,9,-999.0000,9,-999.0000,9,-999.0000,9,  16.1245,      0.000,   0.234,     -999.0,          9,     -999.0,          9,-999.000,          9
 33RO200501,       A16S,      59,          1,         27,         27,2,20050202,       2104,   -33.0003,   -24.9980,       4437,   223.6,  15.2697,  35.4851,2,  35.4836,2,    217.9,2,   218.3,2,    1.18,2,    3.83,2,    0.00,2,    0.37,4,   2.758,2,   1.625,2,   0.088,2,  2093.5,2,  2328.5,2,  -999.0,9,   20.00,   7.9197,2,    25.00,   0.479,2,    0.01,   1.688,3,  -1.170,2, -999.00,9,  -999.0,9,  -999.0,   7.212,2,   0.007,   0.822,4,   49.51,2,  223.60,-999.0000,9,-999.0000,9,-999.0000,9,-999.0000,9,-999.0000,9,-999.0000,9,  15.2352,      0.006,   0.250,     -999.0,          9,     -999.0,          9,-999.000,          9
 33RO200501,       A16S,      59,          1,         26,         26,2,20050202,       2104,   -33.0003,   -24.9980,       4437,   273.7,  14.5685,  35.4345,2,  35.4339,2,    217.8,2,   217.3,2,    1.53,2,    5.70,2,    0.00,2,    0.48,4,-999.000,9,-999.000,9,-999.000,9,  2101.7,2,  2327.2,2,  -999.0,9,   20.00,   7.9043,2,    25.00,-999.000,9, -999.00,-999.000,9,-999.000,9, -999.00,9,  -999.0,9,  -999.0,-999.000,9,-999.000,-999.000,9,   47.06,2,  273.70,-999.0000,9,-999.0000,9,-999.0000,9,-999.0000,9,-999.0000,9,-999.0000,9,  14.5276,     -999.0,-999.000,     -999.0,          9,     -999.0,          9,-999.000,          9
 33RO200501,       A16S,      59,          1,         25,         25,2,20050202,       2104,   -33.0003,   -24.9980,       4437,   323.8,  14.0699,  35.3909,2,  35.3921,2,    218.6,2,   219.0,2,    1.77,2,    6.80,2,    0.00,2,    0.54,4,   2.858,2,   1.660,2,   0.063,2,  2104.9,2,  2330.2,2,  -999.0,9,   20.00,   7.8918,2,    25.00,-999.000,9, -999.00,-999.000,9,-999.000,9, -999.00,9,  -999.0,9,  -999.0,-999.000,9,-999.000,   0.743,4,   46.44,2,  323.80,-999.0000,9,-999.0000,9,-999.0000,9,-999.0000,9,-999.0000,9,-999.0000,9,  14.0226,     -999.0,-999.000,     -999.0,          9,     -999.0,          9,-999.000,          9
 33RO200501,       A16S,      59,          1,         24,         24,2,20050202,       2104,   -33.0003,   -24.9980,       4437,   373.7,  13.1116,  35.2329,2,  35.2317,2,    215.6,2,   216.0,2,    2.42,2,    9.05,2,    0.00,2,    0.69,4,   2.976,2,   1.688,2,   0.054,2,  2112.3,2,  2322.3,2,  -999.0,9,   20.00,   7.8639,2,    25.00,   0.418,2,    0.02,-999.000,9,-999.000,9, -999.00,9,  -999.0,9,  -999.0,-999.000,9,-999.000,   0.732,4,   44.89,2,  373.70,-999.0000,9,-999.0000,9,-999.0000,9,-999.0000,9,-999.0000,9,-999.0000,9,  13.0595,     -999.0,-999.000,     -999.0,          9,     -999.0,          9,-999.000,          9
 33RO200501,       A16S,      59,          1,         23,         23,2,20050202,       2104,   -33.0003,   -24.9980,       4437,   449.1,  12.1930,  35.0993,2,  35.0889,2,    214.2,2,   213.6,2,    3.12,2,   11.51,2,    0.00,2,    0.82,4,   3.019,2,   1.697,2,   0.065,2,  2118.4,2,  2307.0,2,  -999.0,9,   20.00,   7.8326,2,    25.00,-999.000,9, -999.00,   1.791,2,  -0.842,2, -999.00,9,  -999.0,9,  -999.0,   7.552,2,   0.009,   0.847,4,   43.33,2,  449.10,-999.0000,9,-999.0000,9,-999.0000,9,-999.0000,9,-999.0000,9,-999.0000,9,  12.1331,      0.000,   0.216,     -999.0,          9,     -999.0,          9,-999.000,          9
 33RO200501,       A16S,      59,          1,         22,         22,2,20050202,       2104,   -33.0003,   -24.9980,       4437,   547.7,  10.0361,  34.8038,2,  34.8062,2,    210.5,2,   210.2,2,    5.58,2,   16.95,2,    0.00,2,    1.15,4,   3.030,2,   1.613,2,   0.088,2,  2134.6,2,  2463.0,3,  -999.0,9,   20.00,   7.7716,2,    25.00,-999.000,9, -999.00,   1.782,2,  -0.916,2, -999.00,9,  -999.0,9,  -999.0,   7.623,2,   0.009,   1.196,4,   42.54,2,  547.70,-999.0000,9,-999.0000,9,-999.0000,9,-999.0000,9,-999.0000,9,-999.0000,9,   9.9714,      0.000,   0.221,     -999.0,          9,     -999.0,          9,-999.000,          9
 33RO200501,       A16S,      59,          1,         21,         21,2,20050202,       2104,   -33.0003,   -24.9980,       4437,   649.5,   8.0567,  34.5630,2,  34.5635,2,    215.9,2,   215.8,2,    8.04,2,   21.03,2,    0.00,2,    1.42,4,   3.120,2,   1.661,2,   0.144,2,  2146.4,2,  2290.4,2,  -999.0,9,   20.00,   7.7276,2,    25.00,-999.000,9, -999.00,   1.780,2,  -0.001,2, -999.00,9,  -999.0,9,  -999.0,   7.656,2,   0.009,   1.776,4,   42.08,2,  649.50,-999.0000,9,-999.0000,9,-999.0000,9,-999.0000,9,-999.0000,9,-999.0000,9,   7.9892,      0.000,   0.222,     -999.0,          9,     -999.0,          9,-999.000,          9
 33RO200501,       A16S,      59,          1,         20,         20,2,20050202,       2104,   -33.0003,   -24.9980,       4437,   749.5,   6.0258,  34.3568,2,  34.3572,2,    228.0,2,   230.1,2,   11.77,2,   25.14,2,    0.00,2,    1.65,4,-999.000,9,-999.000,9,-999.000,9,  2155.3,2,  2286.1,2,  -999.0,9,   20.00,   7.6919,2,    25.00,-999.000,9, -999.00,-999.000,9,-999.000,9, -999.00,9,  -999.0,9,  -999.0,-999.000,9,-999.000,-999.000,9,   40.70,2,  749.50,-999.0000,9,-999.0000,9,-999.0000,9,-999.0000,9,-999.0000,9,-999.0000,9,   5.9591,     -999.0,-999.000,     -999.0,          9,     -999.0,          9,-999.000,          9
 33RO200501,       A16S,      59,          1,         19,         19,2,20050202,       2104,   -33.0003,   -24.9980,       4437,   850.2,   5.0220,  34.2883,2,  34.2899,2,    234.3,2,   234.8,2,   15.85,2,   27.05,2,    0.00,2,    1.78,4,   3.085,2,   1.556,2,   0.176,2,  2162.7,2,  2285.0,6,  -999.0,9,   20.00,   7.6751,6,    25.00,-999.000,9, -999.00,-999.000,9,-999.000,9, -999.00,9,  -999.0,9,  -999.0,-999.000,9,-999.000,   2.707,4,   40.05,2,  850.20,-999.0000,9,-999.0000,9,-999.0000,9,-999.0000,9,-999.0000,9,-999.0000,9,   4.9522,     -999.0,-999.000,     -999.0,          9,     -999.0,          9,-999.000,          9
 33RO200501,       A16S,      59,          1,         18,         18,2,20050202,       2104,   -33.0003,   -24.9980,       4437,   949.3,   4.3240,  34.2604,2,  34.2609,2,    234.8,2,   235.5,2,   20.49,2,   28.49,2,    0.00,2,    1.87,4,   2.780,2,   1.399,2,   0.163,2,  2171.9,6,  2286.1,2,  -999.0,9,   20.00,   7.6601,2,    25.00,-999.000,9, -999.00,-999.000,9,-999.000,9, -999.00,9,  -999.0,9,  -999.0,-999.000,9,-999.000,   2.684,4,   39.64,2,  949.30,-999.0000,9,-999.0000,9,-999.0000,9,-999.0000,9,-999.0000,9,-999.0000,9,   4.2506,     -999.0,-999.000,     -999.0,          9,     -999.0,          9,-999.000,          9
 33RO200501,       A16S,      59,          1,         17,         17,2,20050202,       2104,   -33.0003,   -24.9980,       4437,  1049.3,   3.8378,  34.2719,2,  34.2723,2,    226.3,2,   228.0,2,   27.11,2,   29.99,2,    0.00,2,    1.97,4,   2.257,2,   1.123,2,   0.134,2,  2182.7,2,  2291.2,2,  -999.0,9,   20.00,   7.6357,2,    25.00,-999.000,9, -999.00,-999.000,9,-999.000,9, -999.00,9,  -999.0,9,  -999.0,-999.000,9,-999.000,   2.379,4,   39.10,2, 1049.30,-999.0000,9,-999.0000,9,-999.0000,9,-999.0000,9,-999.0000,9,-999.0000,9,   3.7597,     -999.0,-999.000,     -999.0,          9,     -999.0,          9,-999.000,          9
 33RO200501,       A16S,      59,          1,         16,         16,2,20050202,       2104,   -33.0003,   -24.9980,       4437,  1149.4,   3.4781,  34.3066,2,  34.3068,2,    216.8,2,   217.7,2,   34.45,2,   31.15,2,    0.00,2,    2.05,4,   1.730,2,   0.846,2,   0.090,2,  2195.5,2,  2297.3,2,  -999.0,9,   20.00,   7.6284,2,    25.00,-999.000,9, -999.00,-999.000,9,-999.000,9, -999.00,9,  -999.0,9,  -999.0,-999.000,9,-999.000,   1.929,4,   39.03,2, 1149.40,-999.0000,9,-999.0000,9,-999.0000,9,-999.0000,9,-999.0000,9,-999.0000,9,   3.3948,     -999.0,-999.000,     -999.0,          9,     -999.0,          9,-999.000,          9
 33RO200501,       A16S,      59,          1,         15,         15,2,20050202,       2104,   -33.0003,   -24.9980,       4437,  1249.5,   3.2685,  34.3678,2,  34.3688,2,    204.9,2,   204.5,2,   42.45,2,   32.08,2,    0.00,2,    2.10,4,   1.147,2,   0.557,2,   0.052,2,  2208.6,2,  2309.1,2,  -999.0,9,   20.00,   7.6136,2,    25.00,-999.000,9, -999.00,-999.000,9,-999.000,9, -999.00,9,  -999.0,9,  -999.0,-999.000,9,-999.000,   1.422,4,   38.87,2, 1249.50,-999.0000,9,-999.0000,9,-999.0000,9,-999.0000,9,-999.0000,9,-999.0000,9,   3.1789,     -999.0,-999.000,     -999.0,          9,     -999.0,          9,-999.000,          9
 33RO200501,       A16S,      59,          1,         14,         14,2,20050202,       2104,   -33.0003,   -24.9980,       4437,  1399.0,   2.9966,  34.4637,2,  34.4642,2,    194.4,2,   192.8,2,   51.60,6,   32.55,6,    0.00,6,    2.14,4,   0.573,2,   0.276,2,   0.018,2,  2222.4,2,  2319.9,2,  -999.0,9,   20.00,   7.6007,2,    25.00,-999.000,9, -999.00,-999.000,9,-999.000,9, -999.00,9,  -999.0,9,  -999.0,-999.000,9,-999.000,   0.813,4,   38.98,2, 1399.00,-999.0000,9,-999.0000,9,-999.0000,9,-999.0000,9,-999.0000,9,-999.0000,9,   2.8974,     -999.0,-999.000,     -999.0,          9,     -999.0,          9,-999.000,          9
 33RO200501,       A16S,      59,          1,         13,         13,2,20050202,       2104,   -33.0003,   -24.9980,       4437,  1599.7,   2.8571,  34.5884,2,  34.5877,2,    189.6,2,   189.9,2,   56.96,6,   31.95,6,    0.00,6,    2.08,4,   0.215,2,   0.099,2,   0.000,2,  2228.4,2,  2328.4,2,  -999.0,9,   20.00,   7.5970,2,    25.00,-999.000,9, -999.00,-999.000,9,-999.000,9, -999.00,9,  -999.0,9,  -999.0,-999.000,9,-999.000,   0.342,4,   38.96,2, 1599.70,-999.0000,9,-999.0000,9,-999.0000,9,-999.0000,9,-999.0000,9,-999.0000,9,   2.7426,     -999.0,-999.000,     -999.0,          9,     -999.0,          9,-999.000,          9
 33RO200501,       A16S,      59,          1,         12,         12,2,20050202,       2104,   -33.0003,   -24.9980,       4437,  1799.8,   2.8216,  34.7001,2,  34.7007,2,    196.2,2,   197.4,2,   56.06,6,   29.46,6,    0.00,6,    1.93,4,   0.074,2,   0.032,2,   0.000,2,  2222.3,2,  2334.2,3,  -999.0,9,   20.00,   7.6256,2,    25.00,-999.000,9, -999.00,-999.000,9,-999.000,9, -999.00,9,  -999.0,9,  -999.0,-999.000,9,-999.000,   0.170,4,   39.03,2, 1799.80,-999.0000,9,-999.0000,9,-999.0000,9,-999.0000,9,-999.0000,9,-999.0000,9,   2.6901,     -999.0,-999.000,     -999.0,          9,     -999.0,          9,-999.000,          9
 33RO200501,       A16S,      59,          1,         11,         11,2,20050202,       2104,   -33.0003,   -24.9980,       4437,  1999.2,   2.8014,  34.7660,2,  34.7668,2,    207.0,2,   208.2,2,   52.94,6,   27.47,6,    0.00,6,    1.81,4,   0.030,2,   0.047,2,   0.000,2,  2214.5,2,  2329.0,2,  -999.0,9,   20.00,   7.6486,2,    25.00,-999.000,9, -999.00,-999.000,9,-999.000,9, -999.00,9,  -999.0,9,  -999.0,-999.000,9,-999.000,   0.099,4,   39.09,2, 1999.20,-999.0000,9,-999.0000,9,-999.0000,9,-999.0000,9,-999.0000,9,-999.0000,9,   2.6525,     -999.0,-999.000,     -999.0,          9,     -999.0,          9,-999.000,          9
 33RO200501,       A16S,      59,          1,         10,         10,2,20050202,       2104,   -33.0003,   -24.9980,       4437,  2198.1,   2.7931,  34.8183,2,  34.8185,2,    219.7,2,   220.4,2,   48.50,6,   25.65,6,    0.00,6,    1.68,4,-999.000,9,-999.000,9,-999.000,9,  2204.6,2,  2330.1,2,  -999.0,9,   20.00,   7.6686,2,    25.00,-999.000,9, -999.00,-999.000,9,-999.000,9, -999.00,9,  -999.0,9,  -999.0,-999.000,9,-999.000,-999.000,9,   38.98,2, 2198.10,-999.0000,9,-999.0000,9,-999.0000,9,-999.0000,9,-999.0000,9,-999.0000,9,   2.6260,     -999.0,-999.000,     -999.0,          9,     -999.0,          9,-999.000,          9
 33RO200501,       A16S,      59,          1,          9,          9,2,20050202,       2104,   -33.0003,   -24.9980,       4437,  2398.8,   2.7837,  34.8558,2,  34.8588,2,    230.2,2,   230.6,2,   44.22,6,   23.99,6,    0.00,6,    1.57,4,   0.008,2,   0.002,2,   0.000,2,  2196.3,2,  2330.4,2,  -999.0,9,   20.00,   7.6969,2,    25.00,-999.000,9, -999.00,-999.000,9,-999.000,9, -999.00,9,  -999.0,9,  -999.0,-999.000,9,-999.000,   0.050,4,   38.91,2, 2398.80,-999.0000,9,-999.0000,9,-999.0000,9,-999.0000,9,-999.0000,9,-999.0000,9,   2.5978,     -999.0,-999.000,     -999.0,          9,     -999.0,          9,-999.000,          9
 33RO200501,       A16S,      59,          1,          8,          8,2,20050202,       2104,   -33.0003,   -24.9980,       4437,  2599.2,   2.7386,  34.8710,2,  34.8716,2,    235.3,2,   236.2,2,   42.68,6,   23.21,6,    0.00,6,    1.51,4,   0.005,2,   0.004,2,   0.000,2,  2192.2,2,  2330.0,2,  -999.0,9,   20.00,   7.7120,2,    25.00,-999.000,9, -999.00,-999.000,9,-999.000,9, -999.00,9,  -999.0,9,  -999.0,-999.000,9,-999.000,   0.035,4,   38.54,2, 2599.20,-999.0000,9,-999.0000,9,-999.0000,9,-999.0000,9,-999.0000,9,-999.0000,9,   2.5341,     -999.0,-999.000,     -999.0,          9,     -999.0,          9,-999.000,          9