BOTTLE,20220818CCHSIOAMB
EXPOCODE,SECT_ID,STNNBR,CASTNO,SAMPNO,BTLNBR,BTLNBR_FLAG_W,DATE,TIME,LATITUDE,LONGITUDE,DEPTH,CTDPRS,CTDTMP,CTDSAL,CTDSAL_FLAG_W,SALNTY,SALNTY_FLAG_W,CTDOXY,CTDOXY_FLAG_W,OXYGEN,OXYGEN_FLAG_W,SILCAT,SILCAT_FLAG_W,NITRAT,NITRAT_FLAG_W,NITRIT,NITRIT_FLAG_W,PHSPHT,PHSPHT_FLAG_W,CFC-11,CFC-11_FLAG_W,CFC-12,CFC-12_FLAG_W,CFC113,CFC113_FLAG_W,TCARBN,TCARBN_FLAG_W,ALKALI,ALKALI_FLAG_W,PCO2,PCO2_FLAG_W,PCO2TMP,PH_SWS,PH_SWS_FLAG_W,PH_TMP,TRITUM,TRITUM_FLAG_W,TRITER,HELIUM,HELIUM_FLAG_W,DELHE3,DELHE3_FLAG_W,DELC13,DELC13_FLAG_W,DELC14,DELC14_FLAG_W,C14ERR,NEON,NEON_FLAG_W,NEONER,CCL4,CCL4_FLAG_W,DOC,DOC_FLAG_W,CTDRAW,CDOM325,CDOM325_FLAG_W,CDOM340,CDOM340_FLAG_W,CDOM380,CDOM380_FLAG_W,CDOM412,CDOM412_FLAG_W,CDOMSL,CDOMSL_FLAG_W,CDOMSN,CDOMSN_FLAG_W,THETA,HELIER,DELHER,CH3CL,CH3CL_FLAG_W,CH3BR,CH3BR_FLAG_W,CH3I,CH3I_FLAG_W
,,,,,,,,,,,METERS,DBAR,ITS-90,PSS-78,,PSS-78,,UMOL/KG,,UMOL/KG,,UMOL/KG,,UMOL/KG,,UMOL/KG,,UMOL/KG,,PMOL/KG,,PMOL/KG,,PMOL/KG,,UMOL/KG,,UMOL/KG,,UATM,,DEG C,,,DEG C,TU,,TU,NMOL/KG,,PERCNT,,/MILLE,,/MILLE,,/MILLE,NMOL/KG,,NMOL/KG,PMOL/KG,,UMOL/KG,,DBAR,1/M,,1/M,,1/M,,1/M,,1/NM,,1/NM,,DEG C,NMOL/KG,PERCNT,PMOL/KG,,PMOL/KG,,PMOL/KG,
 33RO200501,       A16S,     116,          1,          7,          7,2,20050220,       0613,    -4.5002,   -25.0000,       5532,  3799.9,   2.2690,  34.8881,2,  34.8884,2,    255.7,2,   256.1,2,   40.62,2,   20.71,2,    0.00,2,    1.35,2,   0.077,2,   0.040,2,   0.006,2,  -999.0,9,  -999.0,9,  -999.0,9,   20.00,-999.0000,9,    25.00,-999.000,9, -999.00,-999.000,9,-999.000,9, -999.00,9,  -999.0,9,  -999.0,-999.000,9,-999.000,   0.256,4, -999.00,9, 3799.90,-999.0000,9,-999.0000,9,-999.0000,9,-999.0000,9,-999.0000,9,-999.0000,9,   1.9498,     -999.0,-999.000,     -999.0,          9,     -999.0,          9,-999.000,          9
 33RO200501,       A16S,     116,          1,          6,          6,2,20050220,       0613,    -4.5002,   -25.0000,       5532,  4101.1,   1.6618,  34.8206,2,  34.8212,2,    241.1,2,   241.6,2,   68.71,2,   24.72,2,    0.00,2,    1.65,2,   0.023,2,   0.015,2,   0.005,2,  -999.0,9,  -999.0,9,  -999.0,9,   20.00,-999.0000,9,    25.00,-999.000,9, -999.00,-999.000,9,-999.000,9, -999.00,9,  -999.0,9,  -999.0,-999.000,9,-999.000,   0.118,4, -999.00,9, 4101.10,-999.0000,9,-999.0000,9,-999.0000,9,-999.0000,9,-999.0000,9,-999.0000,9,   1.3263,     -999.0,-999.000,      3.159,          2,      0.306,          2,   0.035,          2
 33RO200501,       A16S,     116,          1,          5,          5,2,20050220,       0613,    -4.5002,   -25.0000,       5532,  4400.7,   1.1033,  34.7590,2,  34.7595,2,    229.4,2,   229.8,2,   93.49,2,   28.27,2,    0.00,2,    1.91,2,-999.000,9,-999.000,9,-999.000,9,  -999.0,9,  -999.0,9,  -999.0,9,   20.00,-999.0000,9,    25.00,-999.000,9, -999.00,-999.000,9,-999.000,9, -999.00,9,  -999.0,9,  -999.0,-999.000,9,-999.000,-999.000,9, -999.00,9, 4400.70,-999.0000,9,-999.0000,9,-999.0000,9,-999.0000,9,-999.0000,9,-999.0000,9,   0.7513,     -999.0,-999.000,     -999.0,          9,     -999.0,          9,-999.000,          9
 33RO200501,       A16S,     116,          1,          4,          4,2,20050220,       0613,    -4.5002,   -25.0000,       5532,  4699.9,   0.8605,  34.7300,2,  34.7304,2,    224.8,2,   224.4,2,  104.98,6,   29.86,6,    0.00,6,    2.02,6,-999.000,9,-999.000,9,-999.000,9,  -999.0,9,  -999.0,9,  -999.0,9,   20.00,-999.0000,9,    25.00,-999.000,9, -999.00,-999.000,9,-999.000,9, -999.00,9,  -999.0,9,  -999.0,-999.000,9,-999.000,-999.000,9, -999.00,9, 4699.90,-999.0000,9,-999.0000,9,-999.0000,9,-999.0000,9,-999.0000,9,-999.0000,9,   0.4826,     -999.0,-999.000,      1.997,          2,      0.021,          2,   0.089,          2
 33RO200501,       A16S,     116,          1,          3,          3,2,20050220,       0613,    -4.5002,   -25.0000,       5532,  4999.7,   0.7803,  34.7172,2,  34.7178,2,    223.0,2,   222.8,2,  109.65,6,   30.52,6,    0.00,6,    2.07,6,-999.000,9,-999.000,9,-999.000,9,  -999.0,9,  -999.0,9,  -999.0,9,   20.00,-999.0000,9,    25.00,-999.000,9, -999.00,-999.000,9,-999.000,9, -999.00,9,  -999.0,9,  -999.0,-999.000,9,-999.000,-999.000,9, -999.00,9, 4999.70,-999.0000,9,-999.0000,9,-999.0000,9,-999.0000,9,-999.0000,9,-999.0000,9,   0.3704,     -999.0,-999.000,     -999.0,          9,     -999.0,          9,-999.000,          9
 33RO200501,       A16S,     116,          1,          2,          2,2,20050220,       0613,    -4.5002,   -25.0000,       5532,  5300.1,   0.7563,  34.7107,2,  34.7118,2,    222.4,2,   221.6,2,  112.15,6,   30.80,6,    0.00,6,    2.09,6,   0.036,2,   0.018,2,   0.000,2,  -999.0,9,  -999.0,9,  -999.0,9,   20.00,-999.0000,9,    25.00,-999.000,9, -999.00,-999.000,9,-999.000,9, -999.00,9,  -999.0,9,  -999.0,-999.000,9,-999.000,   0.100,4, -999.00,9, 5300.10,-999.0000,9,-999.0000,9,-999.0000,9,-999.0000,9,-999.0000,9,-999.0000,9,   0.3114,     -999.0,-999.000,      8.106,          2,      0.665,          2,   0.304,          2
 33RO200501,       A16S,     116,          1,          1,          1,2,20050220,       0613,    -4.5002,   -25.0000,       5532,  5609.8,   0.7820,  34.7087,2,  34.7124,3,    222.2,2,   221.3,2,  112.68,6,   30.85,6,    0.00,6,    2.09,6,   0.037,2,   0.021,2,   0.006,2,  2262.0,2,  2368.9,2,  -999.0,9,   20.00,   7.6251,2,    25.00,-999.000,9, -999.00,-999.000,9,-999.000,9, -999.00,9,  -999.0,9,  -999.0,-999.000,9,-999.000,   0.105,4, -999.00,9, 5609.80,-999.0000,9,-999.0000,9,-999.0000,9,-999.0000,9,-999.0000,9,-999.0000,9,   0.2979,     -999.0,-999.000,     -999.0,          9,     -999.0,          9,-999.000,          9