BOTTLE,20220818CCHSIOAMB
EXPOCODE,SECT_ID,STNNBR,CASTNO,SAMPNO,BTLNBR,BTLNBR_FLAG_W,DATE,TIME,LATITUDE,LONGITUDE,DEPTH,CTDPRS,CTDTMP,CTDSAL,CTDSAL_FLAG_W,SALNTY,SALNTY_FLAG_W,CTDOXY,CTDOXY_FLAG_W,OXYGEN,OXYGEN_FLAG_W,SILCAT,SILCAT_FLAG_W,NITRAT,NITRAT_FLAG_W,NITRIT,NITRIT_FLAG_W,PHSPHT,PHSPHT_FLAG_W,CFC-11,CFC-11_FLAG_W,CFC-12,CFC-12_FLAG_W,CFC113,CFC113_FLAG_W,TCARBN,TCARBN_FLAG_W,ALKALI,ALKALI_FLAG_W,PCO2,PCO2_FLAG_W,PCO2TMP,PH_SWS,PH_SWS_FLAG_W,PH_TMP,TRITUM,TRITUM_FLAG_W,TRITER,HELIUM,HELIUM_FLAG_W,DELHE3,DELHE3_FLAG_W,DELC13,DELC13_FLAG_W,DELC14,DELC14_FLAG_W,C14ERR,NEON,NEON_FLAG_W,NEONER,CCL4,CCL4_FLAG_W,DOC,DOC_FLAG_W,CTDRAW,CDOM325,CDOM325_FLAG_W,CDOM340,CDOM340_FLAG_W,CDOM380,CDOM380_FLAG_W,CDOM412,CDOM412_FLAG_W,CDOMSL,CDOMSL_FLAG_W,CDOMSN,CDOMSN_FLAG_W,THETA,HELIER,DELHER,CH3CL,CH3CL_FLAG_W,CH3BR,CH3BR_FLAG_W,CH3I,CH3I_FLAG_W
,,,,,,,,,,,METERS,DBAR,ITS-90,PSS-78,,PSS-78,,UMOL/KG,,UMOL/KG,,UMOL/KG,,UMOL/KG,,UMOL/KG,,UMOL/KG,,PMOL/KG,,PMOL/KG,,PMOL/KG,,UMOL/KG,,UMOL/KG,,UATM,,DEG C,,,DEG C,TU,,TU,NMOL/KG,,PERCNT,,/MILLE,,/MILLE,,/MILLE,NMOL/KG,,NMOL/KG,PMOL/KG,,UMOL/KG,,DBAR,1/M,,1/M,,1/M,,1/M,,1/NM,,1/NM,,DEG C,NMOL/KG,PERCNT,PMOL/KG,,PMOL/KG,,PMOL/KG,
 33RO200501,       A16S,     119,          1,          7,          7,2,20050221,       0323,    -3.0000,   -25.0005,       5387,  3599.9,   2.4906,  34.9088,2,  34.9092,2,    256.1,2,   258.0,2,   35.45,6,   19.74,6,    0.00,6, -999.00,5,   0.119,2,   0.056,2,   0.006,2,  2177.7,2,  2329.7,2,  -999.0,9,   20.00,   7.7339,2,    25.00,-999.000,9, -999.00,-999.000,9,-999.000,9, -999.00,9,  -999.0,9,  -999.0,-999.000,9,-999.000,   0.320,4, -999.00,9, 3599.90,-999.0000,9,-999.0000,9,-999.0000,9,-999.0000,9,-999.0000,9,-999.0000,9,   2.1875,     -999.0,-999.000,     -999.0,          9,     -999.0,          9,-999.000,          9
 33RO200501,       A16S,     119,          1,          6,          6,2,20050221,       0323,    -3.0000,   -25.0005,       5387,  3900.2,   2.1646,  34.8793,2,  34.8799,2,    257.1,2,   256.4,2,   43.72,6,   20.65,6,    0.00,6, -999.00,5,   0.171,2,   0.089,2,   0.013,2,  2185.5,2,  2334.3,2,  -999.0,9,   20.00,   7.7220,2,    25.00,-999.000,9, -999.00,-999.000,9,-999.000,9, -999.00,9,  -999.0,9,  -999.0,-999.000,9,-999.000,   0.407,4,   40.39,2, 3900.20,-999.0000,9,-999.0000,9,-999.0000,9,-999.0000,9,-999.0000,9,-999.0000,9,   1.8370,     -999.0,-999.000,     -999.0,          9,     -999.0,          9,-999.000,          9
 33RO200501,       A16S,     119,          1,          5,          5,2,20050221,       0323,    -3.0000,   -25.0005,       5387,  4199.1,   1.4940,  34.8024,2,  34.8023,2,    239.1,2,   238.2,2,   77.61,6,   25.80,6,    0.00,6, -999.00,5,   0.023,2,   0.015,2,   0.000,2,  2220.9,2,  2349.5,2,  -999.0,9,   20.00,   7.6805,2,    25.00,-999.000,9, -999.00,-999.000,9,-999.000,9, -999.00,9,  -999.0,9,  -999.0,-999.000,9,-999.000,   0.112,4, -999.00,9, 4199.10,   0.1530,2,   0.1100,2,   0.0570,2,   0.0390,2,   0.0151,2,   0.0168,2,   1.1526,     -999.0,-999.000,     -999.0,          9,     -999.0,          9,-999.000,          9
 33RO200501,       A16S,     119,          1,          4,          4,2,20050221,       0323,    -3.0000,   -25.0005,       5387,  4499.8,   0.9601,  34.7426,2,  34.8799,3,    226.8,2,   226.5,2,  101.28,6,   29.16,6,    0.00,6, -999.00,5,-999.000,9,-999.000,9,-999.000,9,  2246.8,2,  2363.7,2,  -999.0,9,   20.00,   7.6465,2,    25.00,-999.000,9, -999.00,-999.000,9,-999.000,9, -999.00,9,  -999.0,9,  -999.0,-999.000,9,-999.000,-999.000,9,   40.01,2, 4499.80,-999.0000,9,-999.0000,9,-999.0000,9,-999.0000,9,-999.0000,9,-999.0000,9,   0.6016,     -999.0,-999.000,     -999.0,          9,     -999.0,          9,-999.000,          9
 33RO200501,       A16S,     119,          1,          3,          3,2,20050221,       0323,    -3.0000,   -25.0005,       5387,  4799.6,   0.7956,  34.7201,2,  34.7203,2,    223.1,2,   223.2,2,  109.81,6,   30.32,6,    0.00,6, -999.00,5,   0.049,2,   0.026,2,   0.000,2,  2253.4,2,  2366.3,2,  -999.0,9,   20.00,-999.0000,5,    25.00,-999.000,9, -999.00,-999.000,9,-999.000,9, -999.00,9,  -999.0,9,  -999.0,-999.000,9,-999.000,   0.117,4,   40.05,2, 4799.60,-999.0000,9,-999.0000,9,-999.0000,9,-999.0000,9,-999.0000,9,-999.0000,9,   0.4084,     -999.0,-999.000,     -999.0,          9,     -999.0,          9,-999.000,          9
 33RO200501,       A16S,     119,          1,          2,          2,2,20050221,       0323,    -3.0000,   -25.0005,       5387,  5096.6,   0.7619,  34.7128,2,  34.7130,2,    222.6,2,   221.6,2,  112.71,6,   30.61,6,    0.00,6, -999.00,5,   0.047,2,   0.019,2,   0.006,2,  2255.0,2,  2369.0,6,  -999.0,9,   20.00,   7.6246,2,    25.00,-999.000,9, -999.00,-999.000,9,-999.000,9, -999.00,9,  -999.0,9,  -999.0,-999.000,9,-999.000,   0.118,4,   38.49,2, 5096.60,-999.0000,9,-999.0000,9,-999.0000,9,-999.0000,9,-999.0000,9,-999.0000,9,   0.3411,     -999.0,-999.000,     -999.0,          9,     -999.0,          9,-999.000,          9
 33RO200501,       A16S,     119,          1,          1,          1,2,20050221,       0323,    -3.0000,   -25.0005,       5387,  5413.4,   0.7479,  34.7076,2,  34.7120,3,    221.5,2,   221.3,2,  114.41,6,   30.82,6,    0.00,6, -999.00,5,   0.049,6,   0.023,6,   0.000,6,  2257.3,6,  2367.1,2,  -999.0,9,   20.00,   7.6234,2,    25.00,-999.000,9, -999.00,-999.000,9,-999.000,9, -999.00,9,  -999.0,9,  -999.0,-999.000,9,-999.000,   0.121,4,   39.17,2, 5413.40,   0.1530,2,   0.1100,2,   0.0600,2,   0.0420,2,   0.0141,2,   0.0157,2,   0.2894,     -999.0,-999.000,     -999.0,          9,     -999.0,          9,-999.000,          9