BOTTLE,20220818CCHSIOAMB
EXPOCODE,SECT_ID,STNNBR,CASTNO,SAMPNO,BTLNBR,BTLNBR_FLAG_W,DATE,TIME,LATITUDE,LONGITUDE,DEPTH,CTDPRS,CTDTMP,CTDSAL,CTDSAL_FLAG_W,SALNTY,SALNTY_FLAG_W,CTDOXY,CTDOXY_FLAG_W,OXYGEN,OXYGEN_FLAG_W,SILCAT,SILCAT_FLAG_W,NITRAT,NITRAT_FLAG_W,NITRIT,NITRIT_FLAG_W,PHSPHT,PHSPHT_FLAG_W,CFC-11,CFC-11_FLAG_W,CFC-12,CFC-12_FLAG_W,CFC113,CFC113_FLAG_W,TCARBN,TCARBN_FLAG_W,ALKALI,ALKALI_FLAG_W,PCO2,PCO2_FLAG_W,PCO2TMP,PH_SWS,PH_SWS_FLAG_W,PH_TMP,TRITUM,TRITUM_FLAG_W,TRITER,HELIUM,HELIUM_FLAG_W,DELHE3,DELHE3_FLAG_W,DELC13,DELC13_FLAG_W,DELC14,DELC14_FLAG_W,C14ERR,NEON,NEON_FLAG_W,NEONER,CCL4,CCL4_FLAG_W,DOC,DOC_FLAG_W,CTDRAW,CDOM325,CDOM325_FLAG_W,CDOM340,CDOM340_FLAG_W,CDOM380,CDOM380_FLAG_W,CDOM412,CDOM412_FLAG_W,CDOMSL,CDOMSL_FLAG_W,CDOMSN,CDOMSN_FLAG_W,THETA,HELIER,DELHER,CH3CL,CH3CL_FLAG_W,CH3BR,CH3BR_FLAG_W,CH3I,CH3I_FLAG_W
,,,,,,,,,,,METERS,DBAR,ITS-90,PSS-78,,PSS-78,,UMOL/KG,,UMOL/KG,,UMOL/KG,,UMOL/KG,,UMOL/KG,,UMOL/KG,,PMOL/KG,,PMOL/KG,,PMOL/KG,,UMOL/KG,,UMOL/KG,,UATM,,DEG C,,,DEG C,TU,,TU,NMOL/KG,,PERCNT,,/MILLE,,/MILLE,,/MILLE,NMOL/KG,,NMOL/KG,PMOL/KG,,UMOL/KG,,DBAR,1/M,,1/M,,1/M,,1/M,,1/NM,,1/NM,,DEG C,NMOL/KG,PERCNT,PMOL/KG,,PMOL/KG,,PMOL/KG,
 33RO200501,       A16S,     117,          1,         36,         36,2,20050220,       1336,    -4.0018,   -25.0010,       5413,     2.4,  28.2508,  35.9856,2,  35.9868,2,    196.8,2,   199.8,2,    2.33,2,    0.02,2,    0.00,2,    0.04,2,   1.588,2,   1.043,2,   0.124,2,  2022.5,6,  2361.0,2,   294.9,2,   20.00,   8.0895,2,    25.00,   0.498,2,    0.02,   1.707,2,  -2.060,2, -999.00,9,  -999.0,9,  -999.0,   6.641,2,   0.006,   1.320,4,   70.87,2,    2.40,   0.0800,2,   0.0540,2,   0.0260,2,   0.0160,2,   0.0219,2,   0.0229,2,  28.2502,      0.001,   0.202,     -999.0,          9,     -999.0,          9,-999.000,          9
 33RO200501,       A16S,     117,          1,         35,         35,2,20050220,       1336,    -4.0018,   -25.0010,       5413,    10.2,  28.0426,  35.9812,2,  35.9819,2,    196.5,2,   199.7,2,    2.37,2,    0.04,2,    0.00,2,    0.05,2,-999.000,9,-999.000,9,-999.000,9,  2021.3,2,  2359.3,6,  -999.0,9,   20.00,   8.0874,6,    25.00,-999.000,9, -999.00,-999.000,9,-999.000,9, -999.00,9,  -999.0,9,  -999.0,-999.000,9,-999.000,-999.000,9,   70.62,2,   10.20,-999.0000,9,-999.0000,9,-999.0000,9,-999.0000,9,-999.0000,9,-999.0000,9,  28.0402,     -999.0,-999.000,     -999.0,          9,     -999.0,          9,-999.000,          9
 33RO200501,       A16S,     117,          1,         34,         34,2,20050220,       1336,    -4.0018,   -25.0010,       5413,    49.2,  27.7826,  36.0037,2,  36.0315,2,    198.5,2,   202.3,2,    2.41,2,    0.06,2,    0.00,2,    0.06,2,   1.629,2,   1.071,2,   0.131,2,  2029.1,2,  2361.3,2,   300.8,2,   20.00,   8.0667,2,    25.00,-999.000,9, -999.00,   1.706,2,  -2.200,2, -999.00,9,  -999.0,9,  -999.0,   6.680,2,   0.006,   1.283,4,   70.10,2,   49.20,   0.1130,2,   0.0790,2,   0.0370,2,   0.0230,2,   0.0198,2,   0.0208,2,  27.7710,      0.001,   0.223,     -999.0,          9,     -999.0,          9,-999.000,          9
 33RO200501,       A16S,     117,          1,         33,         33,2,20050220,       1336,    -4.0018,   -25.0010,       5413,    63.5,  25.6795,  36.1635,2,  36.2074,2,    198.6,2,   197.2,2,    2.81,2,    0.32,2,    0.01,2,    0.16,2,-999.000,9,-999.000,9,-999.000,9,  2063.4,2,  2379.4,3,  -999.0,9,   20.00,   8.0344,2,    25.00,-999.000,9, -999.00,-999.000,9,-999.000,9, -999.00,9,  -999.0,9,  -999.0,-999.000,9,-999.000,-999.000,9,   66.82,2,   63.50,-999.0000,9,-999.0000,9,-999.0000,9,-999.0000,9,-999.0000,9,-999.0000,9,  25.6654,     -999.0,-999.000,     -999.0,          9,     -999.0,          9,-999.000,          9
 33RO200501,       A16S,     117,          1,         32,         32,2,20050220,       1336,    -4.0018,   -25.0010,       5413,    78.6,  21.8823,  36.1393,2,  36.1047,2,    164.6,2,   152.9,2,    4.41,2,    5.90,2,    0.24,2,    0.58,2,   1.873,2,   1.156,2,   0.096,2,  2121.6,2,  2368.5,2,   461.9,2,   20.00,   7.9203,2,    25.00,   0.537,2,    0.01,-999.000,9,-999.000,9, -999.00,9,  -999.0,9,  -999.0,-999.000,9,-999.000,   0.595,4,   58.51,2,   78.60,   0.2010,2,   0.1450,2,   0.0740,2,   0.0520,2,   0.0148,2,   0.0166,3,  21.8667,     -999.0,-999.000,     -999.0,          9,     -999.0,          9,-999.000,          9
 33RO200501,       A16S,     117,          1,         31,         31,2,20050220,       1336,    -4.0018,   -25.0010,       5413,    98.7,  15.1614,  35.5237,2,  35.5228,2,     83.1,2,    89.6,2,    8.42,2,   21.52,2,    0.10,2,    1.36,2,   1.918,2,   1.122,2,   0.028,2,  2192.6,2,  2325.4,2,   836.0,2,   20.00,   7.6930,2,    25.00,-999.000,9, -999.00,-999.000,9,-999.000,9, -999.00,9,  -999.0,9,  -999.0,-999.000,9,-999.000,   0.284,4,   54.64,2,   98.70,-999.0000,9,-999.0000,9,-999.0000,9,-999.0000,9,-999.0000,9,-999.0000,9,  15.1463,     -999.0,-999.000,     -999.0,          9,     -999.0,          9,-999.000,          9
 33RO200501,       A16S,     117,          1,         30,         30,2,20050220,       1336,    -4.0018,   -25.0010,       5413,   147.7,  13.9390,  35.3960,2,  35.3946,2,     88.7,2,    93.8,2,    9.52,2,   22.57,2,    0.01,2,    1.41,2,   1.865,2,   1.049,2,   0.017,2,  2194.2,2,  2318.8,2,  -999.0,9,   20.00,   7.6785,2,    25.00,   0.313,2,    0.01,   1.760,2,   0.390,2, -999.00,9,  -999.0,9,  -999.0,   7.281,2,   0.007,   0.280,4,   53.33,2,  147.70,   0.1500,2,   0.1060,2,   0.0530,2,   0.0370,2,   0.0158,2,   0.0179,2,  13.9177,      0.001,   0.208,     -999.0,          9,     -999.0,          9,-999.000,          9
 33RO200501,       A16S,     117,          1,         29,         29,2,20050220,       1336,    -4.0018,   -25.0010,       5413,   200.1,  12.8758,  35.2571,2,  35.2564,2,    102.1,2,   103.6,2,   10.43,2,   23.21,2,    0.01,2,    1.45,2,   1.761,2,   0.969,2,   0.018,2,  2190.6,2,  2312.8,2,   881.4,2,   20.00,   7.6692,2,    25.00,   0.372,2,    0.02,   1.782,2,   0.180,2, -999.00,9,  -999.0,9,  -999.0,   7.403,2,   0.007,   0.312,4,   48.88,2,  200.10,-999.0000,9,-999.0000,9,-999.0000,9,-999.0000,9,-999.0000,9,-999.0000,9,  12.8483,      0.001,   0.205,     -999.0,          9,     -999.0,          9,-999.000,          9
 33RO200501,       A16S,     117,          1,         28,         28,2,20050220,       1336,    -4.0018,   -25.0010,       5413,   249.0,  12.1039,  35.1575,2,  35.1566,2,     94.9,2,    93.2,2,   11.66,2,   25.61,2,    0.00,2,    1.58,2,   1.574,2,   0.858,2,   0.014,2,  2202.0,2,  2312.3,2,  -999.0,9,   20.00,   7.6316,2,    25.00,-999.000,9, -999.00,-999.000,9,-999.000,9, -999.00,9,  -999.0,9,  -999.0,-999.000,9,-999.000,   0.283,4,   46.50,2,  249.00,   0.1610,2,   0.1160,2,   0.0630,2,   0.0460,2,   0.0135,2,   0.0152,2,  12.0711,     -999.0,-999.000,     -999.0,          9,     -999.0,          9,-999.000,          9
 33RO200501,       A16S,     117,          1,         27,         27,2,20050220,       1336,    -4.0018,   -25.0010,       5413,   298.5,  11.2086,  35.0506,2,  35.0506,2,     84.9,2,    89.2,2,   13.06,2,   27.63,2,    0.00,2,    1.68,2,   1.380,2,   0.724,2,   0.014,2,  2208.6,2,  2309.5,2,  1046.2,2,   20.00,   7.6131,6,    25.00,   0.273,2,    0.01,   1.777,2,   1.010,2, -999.00,9,  -999.0,9,  -999.0,   7.633,2,   0.008,   0.293,4,   45.59,2,  298.50,-999.0000,9,-999.0000,9,-999.0000,9,-999.0000,9,-999.0000,9,-999.0000,9,  11.1712,      0.001,   0.226,     -999.0,          9,     -999.0,          9,-999.000,          9
 33RO200501,       A16S,     117,          1,         26,         26,2,20050220,       1336,    -4.0018,   -25.0010,       5413,   399.3,   9.4289,  34.8358,2,  34.8312,2,    115.2,2,   115.0,2,   15.39,2,   28.62,2,    0.00,2,    1.77,2,   1.272,2,   0.673,2,   0.022,2,  2202.7,3,  2301.8,2,  1048.2,2,   20.00,   7.5981,2,    25.00,   0.310,2,    0.01,   1.787,2,   0.820,2, -999.00,9,  -999.0,9,  -999.0,   7.560,2,   0.007,   0.486,4,   44.62,2,  399.30,   0.1790,2,   0.1300,2,   0.0710,2,   0.0510,2,   0.0135,2,   0.0151,2,   9.3838,      0.001,   0.213,     -999.0,          9,     -999.0,          9,-999.000,          9
 33RO200501,       A16S,     117,          1,         25,         25,2,20050220,       1336,    -4.0018,   -25.0010,       5413,   498.9,   7.5423,  34.6669,2,  34.6646,2,     95.6,2,    96.4,2,   21.07,2,   34.56,2,    0.00,2,    2.12,2,   0.517,2,   0.269,2,   0.008,2,  2227.6,2,  2296.5,2,  1309.7,2,   20.00,   7.5138,2,    25.00,   0.187,2,    0.01,   1.784,2,   1.520,2, -999.00,9,  -999.0,9,  -999.0,   7.621,2,   0.008,   0.324,4,   43.25,2,  498.90,-999.0000,9,-999.0000,9,-999.0000,9,-999.0000,9,-999.0000,9,-999.0000,9,   7.4927,      0.001,   0.204,     -999.0,          9,     -999.0,          9,-999.000,          9
 33RO200501,       A16S,     117,          1,         24,         24,2,20050220,       1336,    -4.0018,   -25.0010,       5413,   598.0,   6.2528,  34.5540,2,  34.5545,2,    122.2,2,   122.8,2,   24.65,2,   34.45,2,    0.00,2,    2.16,2,   0.448,2,   0.224,2,   0.012,2,  2221.4,2,  2294.4,2,  1239.7,2,   20.00,   7.5321,2,    25.00,   0.125,2,    0.01,-999.000,9,-999.000,9, -999.00,9,  -999.0,9,  -999.0,-999.000,9,-999.000,   0.399,4,   42.26,2,  598.00,   0.1620,2,   0.1160,2,   0.0620,2,   0.0440,2,   0.0141,2,   0.0159,2,   6.1989,     -999.0,-999.000,     -999.0,          9,     -999.0,          9,-999.000,          9
 33RO200501,       A16S,     117,          1,         23,         23,2,20050220,       1336,    -4.0018,   -25.0010,       5413,   699.5,   5.4325,  34.5001,2,  34.4996,2,    134.6,2,   133.2,2,   28.46,2,   35.00,2,    0.00,2,    2.23,2,   0.245,2,   0.127,2,   0.011,2,  2221.9,2,  2297.6,2,  1238.2,2,   20.00,   7.5343,2,    25.00,   0.163,2,    0.01,   1.805,2,   1.290,2, -999.00,9,  -999.0,9,  -999.0,   7.875,2,   0.009,   0.307,4,   41.34,2,  699.50,-999.0000,9,-999.0000,9,-999.0000,9,-999.0000,9,-999.0000,9,-999.0000,9,   5.3734,      0.001,   0.211,     -999.0,          9,     -999.0,          9,-999.000,          9
 33RO200501,       A16S,     117,          1,         22,         22,2,20050220,       1336,    -4.0018,   -25.0010,       5413,   798.9,   4.8565,  34.4790,2,  34.4774,2,    151.2,2,   146.0,2,   31.38,6,   34.51,6,    0.00,6,    2.22,6,   0.197,2,   0.101,2,   0.010,2,  2219.8,2,  2300.0,2,  1191.5,2,   20.00,   7.5417,2,    25.00,   0.001,2,    0.01,-999.000,9,-999.000,9, -999.00,9,  -999.0,9,  -999.0,-999.000,9,-999.000,   0.301,4,   40.45,2,  798.90,   0.1350,2,   0.0950,2,   0.0530,2,   0.0390,2,   0.0135,2,   0.0154,2,   4.7920,     -999.0,-999.000,     -999.0,          9,     -999.0,          9,-999.000,          9
 33RO200501,       A16S,     117,          1,         21,         21,2,20050220,       1336,    -4.0018,   -25.0010,       5413,   899.7,   4.2969,  34.4875,2,  34.4929,2,    162.9,2,   162.4,2,   35.03,6,   33.32,6,    0.00,6,    2.17,6,   0.161,2,   0.082,2,   0.009,2,  2218.1,2,  2298.8,2,  1139.3,2,   20.00,   7.5667,2,    25.00,   0.081,2,    0.01,   1.809,2,   2.070,2, -999.00,9,  -999.0,9,  -999.0,   7.861,2,   0.009,   0.287,4,   40.37,2,  899.70,-999.0000,9,-999.0000,9,-999.0000,9,-999.0000,9,-999.0000,9,-999.0000,9,   4.2275,      0.001,   0.212,     -999.0,          9,     -999.0,          9,-999.000,          9
 33RO200501,       A16S,     117,          1,         20,         20,2,20050220,       1336,    -4.0018,   -25.0010,       5413,   999.4,   4.1416,  34.5994,2,  34.6048,2,    168.5,2,   167.9,2,   34.75,6,   31.83,3,    0.00,6,    2.07,6,   0.050,2,   0.048,2,   0.000,2,  2216.1,6,  2304.4,2,  1090.5,2,   20.00,   7.5853,2,    25.00,-999.000,9, -999.00,   1.826,2,   2.659,2, -999.00,9,  -999.0,9,  -999.0,   7.921,2,   0.008,   0.126,4,   40.95,2,  999.40,   0.1490,2,   0.1070,2,   0.0590,2,   0.0410,2,   0.0138,2,   0.0155,2,   4.0648,      0.001,   0.210,     -999.0,          9,     -999.0,          9,-999.000,          9
 33RO200501,       A16S,     117,          1,         19,         19,2,20050220,       1336,    -4.0018,   -25.0010,       5413,  1098.3,   4.3638,  34.7452,2,  34.7453,2,    174.5,2,   173.5,2,   29.65,6,   29.50,3,    0.00,6,    1.90,6,   0.023,2,   0.013,2,   0.006,2,  2208.6,2,  2311.0,6,  1024.6,2,   20.00,   7.6077,6,    25.00,-999.000,9, -999.00,-999.000,9,-999.000,9, -999.00,9,  -999.0,9,  -999.0,-999.000,9,-999.000,   0.068,4,   41.06,2, 1098.30,-999.0000,9,-999.0000,9,-999.0000,9,-999.0000,9,-999.0000,9,-999.0000,9,   4.2764,     -999.0,-999.000,     -999.0,          9,     -999.0,          9,-999.000,          9
 33RO200501,       A16S,     117,          1,         18,         18,2,20050220,       1336,    -4.0018,   -25.0010,       5413,  1197.8,   4.4677,  34.8345,2,  34.8332,2,    190.3,2,   187.5,2,   26.04,6,   27.04,3,    0.00,6,    1.72,6,   0.060,2,   0.034,2,   0.005,2,  2199.6,2,  2310.7,2,   947.7,2,   20.00,   7.6513,2,    25.00,-999.000,9, -999.00,   1.818,2,   1.550,2, -999.00,9,  -999.0,9,  -999.0,   7.878,2,   0.008,   0.150,4,   40.94,2, 1197.80,-999.0000,9,-999.0000,9,-999.0000,9,-999.0000,9,-999.0000,9,-999.0000,9,   4.3703,      0.001,   0.206,     -999.0,          9,     -999.0,          9,-999.000,          9
 33RO200501,       A16S,     117,          1,         17,         17,2,20050220,       1336,    -4.0018,   -25.0010,       5413,  1399.7,   4.2928,  34.9455,2,  34.9481,2,    219.0,2,   220.2,2,   20.86,6,   22.37,6,    0.00,6,    1.41,6,   0.138,2,   0.074,2,   0.007,2,  2181.0,2,  2314.0,2,   824.1,2,   20.00,   7.6949,2,    25.00,-999.000,9, -999.00,   1.822,2,   1.965,2, -999.00,9,  -999.0,9,  -999.0,   7.883,2,   0.008,   0.301,4,   41.13,2, 1399.70,-999.0000,9,-999.0000,9,-999.0000,9,-999.0000,9,-999.0000,9,-999.0000,9,   4.1786,      0.001,   0.214,     -999.0,          9,     -999.0,          9,-999.000,          9
 33RO200501,       A16S,     117,          1,         16,         16,2,20050220,       1336,    -4.0018,   -25.0010,       5413,  1599.6,   4.1089,  34.9710,2,  34.9712,2,    234.7,2,   235.5,2,   19.86,2,   20.77,2,    0.00,2,    1.29,2,   0.209,2,   0.106,2,   0.000,2,  2172.1,2,  2315.5,2,   783.3,2,   20.00,   7.7124,2,    25.00,-999.000,9, -999.00,   1.817,2,   2.951,2, -999.00,9,  -999.0,9,  -999.0,  -0.021,4,   0.002,   0.419,4, -999.00,9, 1599.60,-999.0000,9,-999.0000,9,-999.0000,9,-999.0000,9,-999.0000,9,-999.0000,9,   3.9782,      0.000,   0.203,     -999.0,          9,     -999.0,          9,-999.000,          9
 33RO200501,       A16S,     117,          1,         15,         15,2,20050220,       1336,    -4.0018,   -25.0010,       5413,  1800.3,   3.8224,  34.9737,2,  34.9750,2,    243.2,2,   245.2,2,   20.37,2,   19.92,2,    0.00,2,    1.23,2,   0.199,6,   0.093,6,   0.011,6,  2168.3,2,  2317.2,2,   759.2,2,   20.00,   7.7274,2,    25.00,-999.000,9, -999.00,-999.000,9,-999.000,9, -999.00,9,  -999.0,9,  -999.0,-999.000,9,-999.000,   0.422,4,   40.72,2, 1800.30,-999.0000,9,-999.0000,9,-999.0000,9,-999.0000,9,-999.0000,9,-999.0000,9,   3.6766,     -999.0,-999.000,     -999.0,          9,     -999.0,          9,-999.000,          9
 33RO200501,       A16S,     117,          1,         14,         14,2,20050220,       1336,    -4.0018,   -25.0010,       5413,  1999.6,   3.5841,  34.9700,2,  34.9703,2,    249.6,2,   250.7,2,   21.41,2,   19.41,2,    0.00,2,    1.23,2,   0.178,2,   0.091,2,   0.008,2,  2166.9,2,  2315.8,2,   747.8,2,   20.00,   7.7333,2,    25.00,-999.000,9, -999.00,   1.807,2,   3.002,2, -999.00,9,  -999.0,9,  -999.0,  -0.020,4,   0.002,   0.403,4, -999.00,9, 1999.60,-999.0000,9,-999.0000,9,-999.0000,9,-999.0000,9,-999.0000,9,-999.0000,9,   3.4227,      0.000,   0.195,     -999.0,          9,     -999.0,          9,-999.000,          9
 33RO200501,       A16S,     117,          1,         13,         13,2,20050220,       1336,    -4.0018,   -25.0010,       5413,  2199.1,   3.3557,  34.9557,2,  34.9555,2,    247.7,2,   249.1,2,   25.63,2,   20.06,2,    0.00,2,    1.28,2,   0.075,2,   0.039,2,   0.000,2,  2171.0,2,  2321.1,2,   754.2,2,   20.00,   7.7305,2,    25.00,-999.000,9, -999.00,   1.829,2,   2.761,2, -999.00,9,  -999.0,9,  -999.0,  -0.020,4,   0.002,   0.222,4,   40.05,2, 2199.10,-999.0000,9,-999.0000,9,-999.0000,9,-999.0000,9,-999.0000,9,-999.0000,9,   3.1789,      0.000,   0.201,     -999.0,          9,     -999.0,          9,-999.000,          9
 33RO200501,       A16S,     117,          1,         12,         12,2,20050220,       1336,    -4.0018,   -25.0010,       5413,  2399.0,   3.1456,  34.9426,2,  34.9429,2,    247.5,2,   248.1,2,   29.03,2,   20.42,2,    0.00,2,    1.31,2,   0.040,2,   0.021,2,   0.000,2,  2174.6,2,  2324.0,2,   758.0,2,   20.00,   7.7301,2,    25.00,-999.000,9, -999.00,-999.000,9,-999.000,9, -999.00,9,  -999.0,9,  -999.0,-999.000,9,-999.000,   0.150,4, -999.00,9, 2399.00,-999.0000,9,-999.0000,9,-999.0000,9,-999.0000,9,-999.0000,9,-999.0000,9,   2.9530,     -999.0,-999.000,     -999.0,          9,     -999.0,          9,-999.000,          9
 33RO200501,       A16S,     117,          1,         11,         11,2,20050220,       1336,    -4.0018,   -25.0010,       5413,  2597.4,   2.9175,  34.9247,2,  34.9248,2,    244.1,2,   244.3,2,   34.82,2,   21.26,2,    0.00,2,    1.36,2,   0.015,2,   0.010,3,   0.000,2,  2182.0,2,  2328.8,2,   768.0,2,   20.00,   7.7327,2,    25.00,-999.000,9, -999.00,   1.850,2,   3.635,2, -999.00,9,  -999.0,9,  -999.0,   8.043,2,   0.009,   0.071,4,   40.15,2, 2597.40,-999.0000,9,-999.0000,9,-999.0000,9,-999.0000,9,-999.0000,9,-999.0000,9,   2.7096,      0.001,   0.207,     -999.0,          9,     -999.0,          9,-999.000,          9
 33RO200501,       A16S,     117,          1,         10,         10,2,20050220,       1336,    -4.0018,   -25.0010,       5413,  2798.2,   2.7764,  34.9179,2,  34.9187,2,    244.1,2,   244.6,2,   37.09,2,   21.39,2,    0.00,2,    1.37,2,-999.000,9,-999.000,9,-999.000,9,  2183.9,2,  2330.7,2,  -999.0,9,   20.00,   7.7338,2,    25.00,-999.000,9, -999.00,-999.000,9,-999.000,9, -999.00,9,  -999.0,9,  -999.0,-999.000,9,-999.000,-999.000,9,   39.11,2, 2798.20,-999.0000,9,-999.0000,9,-999.0000,9,-999.0000,9,-999.0000,9,-999.0000,9,   2.5512,     -999.0,-999.000,     -999.0,          9,     -999.0,          9,-999.000,          9
 33RO200501,       A16S,     117,          1,          9,          9,2,20050220,       1336,    -4.0018,   -25.0010,       5413,  3001.1,   2.6797,  34.9115,2,  34.9116,2,    244.0,2,   245.4,2,   38.63,2,   21.50,2,    0.00,2,    1.39,2,   0.009,2,   0.004,2,   0.000,2,  2186.4,2,  2333.3,2,   772.4,2,   20.00,   7.7286,2,    25.00,-999.000,9, -999.00,   1.854,2,   3.249,2, -999.00,9,  -999.0,9,  -999.0,   8.050,2,   0.008,   0.051,4,   39.88,2, 3001.10,   0.1460,2,   0.1060,2,   0.0530,2,   0.0340,2,   0.0168,2,   0.0180,2,   2.4358,      0.001,   0.211,     -999.0,          9,     -999.0,          9,-999.000,          9
 33RO200501,       A16S,     117,          1,          8,          8,2,20050220,       1336,    -4.0018,   -25.0010,       5413,  3298.9,   2.6047,  34.9132,2,  34.9132,2,    250.9,2,   252.1,2,   35.75,2,   20.66,2,    0.00,2,    1.33,2,   0.022,2,   0.012,2,   0.005,2,  2180.0,2,  2330.9,2,   757.5,2,   20.00,   7.7312,2,    25.00,-999.000,9, -999.00,   1.846,2,   2.645,2, -999.00,9,  -999.0,9,  -999.0,  -0.018,4,   0.002,   0.114,4,   39.72,2, 3298.90,-999.0000,9,-999.0000,9,-999.0000,9,-999.0000,9,-999.0000,9,-999.0000,9,   2.3313,      0.000,   0.195,     -999.0,          9,     -999.0,          9,-999.000,          9