BOTTLE,20220818CCHSIOAMB
EXPOCODE,SECT_ID,STNNBR,CASTNO,SAMPNO,BTLNBR,BTLNBR_FLAG_W,DATE,TIME,LATITUDE,LONGITUDE,DEPTH,CTDPRS,CTDTMP,CTDSAL,CTDSAL_FLAG_W,SALNTY,SALNTY_FLAG_W,CTDOXY,CTDOXY_FLAG_W,OXYGEN,OXYGEN_FLAG_W,SILCAT,SILCAT_FLAG_W,NITRAT,NITRAT_FLAG_W,NITRIT,NITRIT_FLAG_W,PHSPHT,PHSPHT_FLAG_W,CFC-11,CFC-11_FLAG_W,CFC-12,CFC-12_FLAG_W,CFC113,CFC113_FLAG_W,TCARBN,TCARBN_FLAG_W,ALKALI,ALKALI_FLAG_W,PCO2,PCO2_FLAG_W,PCO2TMP,PH_SWS,PH_SWS_FLAG_W,PH_TMP,TRITUM,TRITUM_FLAG_W,TRITER,HELIUM,HELIUM_FLAG_W,DELHE3,DELHE3_FLAG_W,DELC13,DELC13_FLAG_W,DELC14,DELC14_FLAG_W,C14ERR,NEON,NEON_FLAG_W,NEONER,CCL4,CCL4_FLAG_W,DOC,DOC_FLAG_W,CTDRAW,CDOM325,CDOM325_FLAG_W,CDOM340,CDOM340_FLAG_W,CDOM380,CDOM380_FLAG_W,CDOM412,CDOM412_FLAG_W,CDOMSL,CDOMSL_FLAG_W,CDOMSN,CDOMSN_FLAG_W,THETA,HELIER,DELHER,CH3CL,CH3CL_FLAG_W,CH3BR,CH3BR_FLAG_W,CH3I,CH3I_FLAG_W
,,,,,,,,,,,METERS,DBAR,ITS-90,PSS-78,,PSS-78,,UMOL/KG,,UMOL/KG,,UMOL/KG,,UMOL/KG,,UMOL/KG,,UMOL/KG,,PMOL/KG,,PMOL/KG,,PMOL/KG,,UMOL/KG,,UMOL/KG,,UATM,,DEG C,,,DEG C,TU,,TU,NMOL/KG,,PERCNT,,/MILLE,,/MILLE,,/MILLE,NMOL/KG,,NMOL/KG,PMOL/KG,,UMOL/KG,,DBAR,1/M,,1/M,,1/M,,1/M,,1/NM,,1/NM,,DEG C,NMOL/KG,PERCNT,PMOL/KG,,PMOL/KG,,PMOL/KG,
 33RO200501,       A16S,      33,          1,          7,          7,2,20050125,       2259,   -46.0003,   -31.5143,       5238,  3201.2,   1.1062,  34.7211,2,  34.7216,2,    205.7,2,   205.6,2,  108.19,2,   31.52,2,    0.00,2,    2.21,2,   0.153,2,   0.072,2,   0.007,2,  2254.7,2,  2356.6,2,  1032.7,2,   20.00,   7.6122,2,    25.00,-999.000,9, -999.00,-999.000,9,-999.000,9, -999.00,9,  -999.0,9,  -999.0,-999.000,9,-999.000,   0.236,3, -999.00,9, 3201.20,-999.0000,9,-999.0000,9,-999.0000,9,-999.0000,9,-999.0000,9,-999.0000,9,   0.8790,     -999.0,-999.000,     -999.0,          9,     -999.0,          9,-999.000,          9
 33RO200501,       A16S,      33,          1,          6,          6,2,20050125,       2259,   -46.0003,   -31.5143,       5238,  3501.0,   0.8375,  34.7042,2,  34.7045,2,    209.1,2,   209.4,2,  114.54,2,   31.92,2,    0.00,2,    2.25,2,   0.235,2,   0.108,2,   0.008,2,  2256.7,2,  2361.7,2,  1042.5,2,   20.00,   7.6044,2,    25.00,-999.000,9, -999.00,-999.000,9,-999.000,9, -999.00,9,  -999.0,9,  -999.0,-999.000,9,-999.000,   0.331,3,   39.75,2, 3501.00,-999.0000,9,-999.0000,9,-999.0000,9,-999.0000,9,-999.0000,9,-999.0000,9,   0.5879,     -999.0,-999.000,     -999.0,          9,     -999.0,          9,-999.000,          9
 33RO200501,       A16S,      33,          1,          5,          5,2,20050125,       2259,   -46.0003,   -31.5143,       5238,  3799.4,   0.6053,  34.6921,2,  34.6917,2,    214.0,2,   214.8,2,  119.22,2,   32.27,2,    0.00,2,    2.28,2,   0.268,2,   0.133,2,   0.007,2,  2258.7,2,  2356.7,2,  1059.6,2,   20.00,   7.6050,2,    25.00,-999.000,9, -999.00,-999.000,9,-999.000,9, -999.00,9,  -999.0,9,  -999.0,-999.000,9,-999.000,   0.393,3, -999.00,9, 3799.40,-999.0000,9,-999.0000,9,-999.0000,9,-999.0000,9,-999.0000,9,-999.0000,9,   0.3322,     -999.0,-999.000,     -999.0,          9,     -999.0,          9,-999.000,          9
 33RO200501,       A16S,      33,          1,          4,          4,2,20050125,       2259,   -46.0003,   -31.5143,       5238,  4100.4,   0.4042,  34.6825,2,  34.6825,2,    218.5,2,   218.1,2,  122.77,2,   32.48,2,    0.00,6,    2.30,2,   0.246,2,   0.136,2,   0.006,2,  2260.0,2,  2358.4,2,  -999.0,9,   20.00,   7.6002,2,    25.00,-999.000,9, -999.00,-999.000,9,-999.000,9, -999.00,9,  -999.0,9,  -999.0,-999.000,9,-999.000,   0.396,3,   40.14,2, 4100.40,-999.0000,9,-999.0000,9,-999.0000,9,-999.0000,9,-999.0000,9,-999.0000,9,   0.1061,     -999.0,-999.000,     -999.0,          9,     -999.0,          9,-999.000,          9
 33RO200501,       A16S,      33,          1,          3,          3,2,20050125,       2259,   -46.0003,   -31.5143,       5238,  4400.4,   0.2950,  34.6765,2,  34.6776,3,    221.1,2,   220.6,2,  125.73,2,   32.63,2,    0.00,6,    2.31,2,   0.257,2,   0.118,2,   0.006,2,  2260.8,2,  2359.8,2,  1059.0,2,   20.00,   7.6068,2,    25.00,-999.000,9, -999.00,-999.000,9,-999.000,9, -999.00,9,  -999.0,9,  -999.0,-999.000,9,-999.000,   0.427,3, -999.00,9, 4400.40,-999.0000,9,-999.0000,9,-999.0000,9,-999.0000,9,-999.0000,9,-999.0000,9,  -0.0314,     -999.0,-999.000,     -999.0,          9,     -999.0,          9,-999.000,          9
 33RO200501,       A16S,      33,          1,          2,          2,2,20050125,       2259,   -46.0003,   -31.5143,       5238,  4699.0,   0.2544,  34.6733,2,  34.6729,2,    222.5,2,   221.8,2,  126.92,2,   32.71,2,    0.00,6,    2.32,2,   0.285,6,   0.138,6,   0.005,6,  2262.2,2,  2360.0,2,  1063.8,2,   20.00,   7.6073,2,    25.00,-999.000,9, -999.00,-999.000,9,-999.000,9, -999.00,9,  -999.0,9,  -999.0,-999.000,9,-999.000,   0.446,3,   40.14,2, 4699.00,-999.0000,9,-999.0000,9,-999.0000,9,-999.0000,9,-999.0000,9,-999.0000,9,  -0.1033,     -999.0,-999.000,     -999.0,          9,     -999.0,          9,-999.000,          9
 33RO200501,       A16S,      33,          1,          1,          1,2,20050125,       2259,   -46.0003,   -31.5143,       5238,  5346.5,   0.2146,  34.6675,2,  34.6692,3,    226.1,2,   225.8,2,  128.06,2,   32.65,2,    0.00,6,    2.33,2,   0.475,2,   0.223,2,   0.015,2,  2260.6,6,  2358.7,2,  1052.2,2,   20.00,   7.6196,2,    25.00,-999.000,9, -999.00,-999.000,9,-999.000,9, -999.00,9,  -999.0,9,  -999.0,-999.000,9,-999.000,   0.619,3,   39.94,2, 5346.50,-999.0000,9,-999.0000,9,-999.0000,9,-999.0000,9,-999.0000,9,-999.0000,9,  -0.2161,     -999.0,-999.000,     -999.0,          9,     -999.0,          9,-999.000,          9