BOTTLE,20220818CCHSIOAMB
EXPOCODE,SECT_ID,STNNBR,CASTNO,SAMPNO,BTLNBR,BTLNBR_FLAG_W,DATE,TIME,LATITUDE,LONGITUDE,DEPTH,CTDPRS,CTDTMP,CTDSAL,CTDSAL_FLAG_W,SALNTY,SALNTY_FLAG_W,CTDOXY,CTDOXY_FLAG_W,OXYGEN,OXYGEN_FLAG_W,SILCAT,SILCAT_FLAG_W,NITRAT,NITRAT_FLAG_W,NITRIT,NITRIT_FLAG_W,PHSPHT,PHSPHT_FLAG_W,CFC-11,CFC-11_FLAG_W,CFC-12,CFC-12_FLAG_W,CFC113,CFC113_FLAG_W,TCARBN,TCARBN_FLAG_W,ALKALI,ALKALI_FLAG_W,PCO2,PCO2_FLAG_W,PCO2TMP,PH_SWS,PH_SWS_FLAG_W,PH_TMP,TRITUM,TRITUM_FLAG_W,TRITER,HELIUM,HELIUM_FLAG_W,DELHE3,DELHE3_FLAG_W,DELC13,DELC13_FLAG_W,DELC14,DELC14_FLAG_W,C14ERR,NEON,NEON_FLAG_W,NEONER,CCL4,CCL4_FLAG_W,DOC,DOC_FLAG_W,CTDRAW,CDOM325,CDOM325_FLAG_W,CDOM340,CDOM340_FLAG_W,CDOM380,CDOM380_FLAG_W,CDOM412,CDOM412_FLAG_W,CDOMSL,CDOMSL_FLAG_W,CDOMSN,CDOMSN_FLAG_W,THETA,HELIER,DELHER,CH3CL,CH3CL_FLAG_W,CH3BR,CH3BR_FLAG_W,CH3I,CH3I_FLAG_W
,,,,,,,,,,,METERS,DBAR,ITS-90,PSS-78,,PSS-78,,UMOL/KG,,UMOL/KG,,UMOL/KG,,UMOL/KG,,UMOL/KG,,UMOL/KG,,PMOL/KG,,PMOL/KG,,PMOL/KG,,UMOL/KG,,UMOL/KG,,UATM,,DEG C,,,DEG C,TU,,TU,NMOL/KG,,PERCNT,,/MILLE,,/MILLE,,/MILLE,NMOL/KG,,NMOL/KG,PMOL/KG,,UMOL/KG,,DBAR,1/M,,1/M,,1/M,,1/M,,1/NM,,1/NM,,DEG C,NMOL/KG,PERCNT,PMOL/KG,,PMOL/KG,,PMOL/KG,
 33RO200501,       A16S,      91,          1,          7,          7,2,20050212,       2021,   -17.0012,   -25.0017,       5135,  3348.7,   2.5792,  34.9004,2,  34.9010,2,    246.6,2,   247.2,2,   40.18,2,   21.55,2,    0.00,2,    1.41,2,   0.002,2,   0.001,2,   0.000,2,  2186.3,2,  2335.2,2,  -999.0,9,   20.00,   7.7227,2,    25.00,-999.000,9, -999.00,-999.000,9,-999.000,9, -999.00,9,  -999.0,9,  -999.0,-999.000,9,-999.000,   0.035,4,   38.81,2, 3348.70,-999.0000,9,-999.0000,9,-999.0000,9,-999.0000,9,-999.0000,9,-999.0000,9,   2.3012,     -999.0,-999.000,     -999.0,          9,     -999.0,          9,-999.000,          9
 33RO200501,       A16S,      91,          1,          6,          6,2,20050212,       2021,   -17.0012,   -25.0017,       5135,  3650.4,   2.3008,  34.8785,2,  34.8790,2,    246.5,2,   247.3,2,   47.39,2,   22.32,2,    0.00,2,    1.47,2,-999.000,9,-999.000,9,-999.000,9,  2193.9,2,  2337.1,2,  -999.0,9,   20.00,   7.7139,2,    25.00,-999.000,9, -999.00,-999.000,9,-999.000,9, -999.00,9,  -999.0,9,  -999.0,-999.000,9,-999.000,-999.000,9, -999.00,9, 3650.40,-999.0000,9,-999.0000,9,-999.0000,9,-999.0000,9,-999.0000,9,-999.0000,9,   1.9972,     -999.0,-999.000,     -999.0,          9,     -999.0,          9,-999.000,          9
 33RO200501,       A16S,      91,          1,          5,          5,2,20050212,       2021,   -17.0012,   -25.0017,       5135,  3949.1,   1.8977,  34.8386,2,  34.8400,2,    241.5,2,   242.3,2,   62.66,2,   24.23,2,    0.00,2,    1.63,2,   0.009,2,   0.004,2,   0.003,2,  2206.0,2,  2344.1,2,  -999.0,9,   20.00,   7.7001,2,    25.00,-999.000,9, -999.00,-999.000,9,-999.000,9, -999.00,9,  -999.0,9,  -999.0,-999.000,9,-999.000,   0.034,4,   38.17,2, 3949.10,-999.0000,9,-999.0000,9,-999.0000,9,-999.0000,9,-999.0000,9,-999.0000,9,   1.5723,     -999.0,-999.000,     -999.0,          9,     -999.0,          9,-999.000,          9
 33RO200501,       A16S,      91,          1,          4,          4,2,20050212,       2021,   -17.0012,   -25.0017,       5135,  4248.7,   1.4341,  34.7905,2,  34.7899,2,    234.7,2,   235.1,2,   81.29,6,   26.62,6,    0.00,6,    1.81,6,-999.000,9,-999.000,9,-999.000,9,  2224.4,2,  2350.3,2,  -999.0,9,   20.00,   7.6698,2,    25.00,-999.000,9, -999.00,-999.000,9,-999.000,9, -999.00,9,  -999.0,9,  -999.0,-999.000,9,-999.000,-999.000,9, -999.00,9, 4248.70,-999.0000,9,-999.0000,9,-999.0000,9,-999.0000,9,-999.0000,9,-999.0000,9,   1.0890,     -999.0,-999.000,     -999.0,          9,     -999.0,          9,-999.000,          9
 33RO200501,       A16S,      91,          1,          3,          3,2,20050212,       2021,   -17.0012,   -25.0017,       5135,  4549.7,   1.0937,  34.7540,2,  34.7545,2,    229.7,2,   230.0,2,   95.16,6,   28.46,6,    0.00,6,    1.95,6,   0.013,2,   0.008,2,   0.000,2,  2238.1,2,  2359.3,2,  -999.0,9,   20.00,   7.6522,2,    25.00,-999.000,9, -999.00,-999.000,9,-999.000,9, -999.00,9,  -999.0,9,  -999.0,-999.000,9,-999.000,   0.054,4,   39.35,2, 4549.70,-999.0000,9,-999.0000,9,-999.0000,9,-999.0000,9,-999.0000,9,-999.0000,9,   0.7252,     -999.0,-999.000,     -999.0,          9,     -999.0,          9,-999.000,          9
 33RO200501,       A16S,      91,          1,          2,          2,2,20050212,       2021,   -17.0012,   -25.0017,       5135,  4948.6,   0.8449,  34.7247,2,  34.7248,2,    226.1,2,   225.7,2,  106.03,6,   29.86,6,    0.00,6,    2.06,6,   0.040,2,   0.020,2,   0.000,2,  2247.3,2,  2362.2,6,  -999.0,9,   20.00,   7.6334,6,    25.00,-999.000,9, -999.00,-999.000,9,-999.000,9, -999.00,9,  -999.0,9,  -999.0,-999.000,9,-999.000,   0.095,4, -999.00,9, 4948.60,-999.0000,9,-999.0000,9,-999.0000,9,-999.0000,9,-999.0000,9,-999.0000,9,   0.4387,     -999.0,-999.000,     -999.0,          9,     -999.0,          9,-999.000,          9
 33RO200501,       A16S,      91,          1,          1,          1,2,20050212,       2021,   -17.0012,   -25.0017,       5135,  5311.3,   0.7898,  34.7145,2,  34.7146,2,    224.3,2,   223.8,2,  109.76,6,   30.32,6,    0.00,6,    2.11,6,   0.058,6,   0.025,6,   0.000,6,  2251.8,6,  2361.8,2,  -999.0,9,   20.00,   7.6251,2,    25.00,-999.000,9, -999.00,-999.000,9,-999.000,9, -999.00,9,  -999.0,9,  -999.0,-999.000,9,-999.000,   0.117,4,   38.65,2, 5311.30,-999.0000,9,-999.0000,9,-999.0000,9,-999.0000,9,-999.0000,9,-999.0000,9,   0.3422,     -999.0,-999.000,     -999.0,          9,     -999.0,          9,-999.000,          9