BOTTLE,20220818CCHSIOAMB
EXPOCODE,SECT_ID,STNNBR,CASTNO,SAMPNO,BTLNBR,BTLNBR_FLAG_W,DATE,TIME,LATITUDE,LONGITUDE,DEPTH,CTDPRS,CTDTMP,CTDSAL,CTDSAL_FLAG_W,SALNTY,SALNTY_FLAG_W,CTDOXY,CTDOXY_FLAG_W,OXYGEN,OXYGEN_FLAG_W,SILCAT,SILCAT_FLAG_W,NITRAT,NITRAT_FLAG_W,NITRIT,NITRIT_FLAG_W,PHSPHT,PHSPHT_FLAG_W,CFC-11,CFC-11_FLAG_W,CFC-12,CFC-12_FLAG_W,CFC113,CFC113_FLAG_W,TCARBN,TCARBN_FLAG_W,ALKALI,ALKALI_FLAG_W,PCO2,PCO2_FLAG_W,PCO2TMP,PH_SWS,PH_SWS_FLAG_W,PH_TMP,TRITUM,TRITUM_FLAG_W,TRITER,HELIUM,HELIUM_FLAG_W,DELHE3,DELHE3_FLAG_W,DELC13,DELC13_FLAG_W,DELC14,DELC14_FLAG_W,C14ERR,NEON,NEON_FLAG_W,NEONER,CCL4,CCL4_FLAG_W,DOC,DOC_FLAG_W,CTDRAW,CDOM325,CDOM325_FLAG_W,CDOM340,CDOM340_FLAG_W,CDOM380,CDOM380_FLAG_W,CDOM412,CDOM412_FLAG_W,CDOMSL,CDOMSL_FLAG_W,CDOMSN,CDOMSN_FLAG_W,THETA,HELIER,DELHER,CH3CL,CH3CL_FLAG_W,CH3BR,CH3BR_FLAG_W,CH3I,CH3I_FLAG_W
,,,,,,,,,,,METERS,DBAR,ITS-90,PSS-78,,PSS-78,,UMOL/KG,,UMOL/KG,,UMOL/KG,,UMOL/KG,,UMOL/KG,,UMOL/KG,,PMOL/KG,,PMOL/KG,,PMOL/KG,,UMOL/KG,,UMOL/KG,,UATM,,DEG C,,,DEG C,TU,,TU,NMOL/KG,,PERCNT,,/MILLE,,/MILLE,,/MILLE,NMOL/KG,,NMOL/KG,PMOL/KG,,UMOL/KG,,DBAR,1/M,,1/M,,1/M,,1/M,,1/NM,,1/NM,,DEG C,NMOL/KG,PERCNT,PMOL/KG,,PMOL/KG,,PMOL/KG,
 33RO200501,       A16S,      99,          1,         36,         36,2,20050215,       0355,   -13.0013,   -25.0002,       5601,     2.0,  27.5446,  36.8400,2,  36.8402,2,    199.3,2,   197.7,2,    0.58,2,    0.00,2,    0.00,2,    0.04,2,   1.600,6,   1.032,6,   0.131,6,  2064.2,6,  2415.4,2,  -999.0,9,   20.00,   8.0830,2,    25.00,-999.000,9, -999.00,-999.000,9,-999.000,9, -999.00,9,  -999.0,9,  -999.0,-999.000,9,-999.000,   1.375,4,   74.74,2,    2.00,-999.0000,9,-999.0000,9,-999.0000,9,-999.0000,9,-999.0000,9,-999.0000,9,  27.5441,     -999.0,-999.000,     -999.0,          9,     -999.0,          9,-999.000,          9
 33RO200501,       A16S,      99,          1,         35,         35,2,20050215,       0355,   -13.0013,   -25.0002,       5601,    23.2,  27.5536,  36.8390,2,  36.8454,2,    199.5,2,   198.3,2,    0.58,2,    0.00,2,    0.00,2,    0.04,2,   1.612,2,   1.037,2,   0.125,2,  2062.7,2,  2414.3,6,  -999.0,9,   20.00,   8.0799,6,    25.00,-999.000,9, -999.00,-999.000,9,-999.000,9, -999.00,9,  -999.0,9,  -999.0,-999.000,9,-999.000,   1.374,4,   74.39,2,   23.20,-999.0000,9,-999.0000,9,-999.0000,9,-999.0000,9,-999.0000,9,-999.0000,9,  27.5482,     -999.0,-999.000,     -999.0,          9,     -999.0,          9,-999.000,          9
 33RO200501,       A16S,      99,          1,         34,         34,2,20050215,       0355,   -13.0013,   -25.0002,       5601,    54.3,  24.8350,  36.9912,2,  36.9913,2,    214.4,2,   216.6,2,    0.58,2,    0.00,2,    0.00,2,    0.09,2,   1.871,2,   1.185,2,   0.145,2,  2076.3,2,  2426.4,2,  -999.0,9,   20.00,   8.0730,2,    25.00,-999.000,9, -999.00,-999.000,9,-999.000,9, -999.00,9,  -999.0,9,  -999.0,-999.000,9,-999.000,   1.224,4,   72.58,2,   54.30,-999.0000,9,-999.0000,9,-999.0000,9,-999.0000,9,-999.0000,9,-999.0000,9,  24.8232,     -999.0,-999.000,     -999.0,          9,     -999.0,          9,-999.000,          9
 33RO200501,       A16S,      99,          1,         33,         33,2,20050215,       0355,   -13.0013,   -25.0002,       5601,    84.3,  23.5787,  36.9941,2,  36.9937,2,    214.8,2,   217.3,2,    0.58,2,    0.00,2,    0.00,2,    0.13,2,   1.920,2,   1.219,2,   0.146,2,  2089.2,2,  2423.4,2,  -999.0,9,   20.00,   8.0564,2,    25.00,-999.000,9, -999.00,-999.000,9,-999.000,9, -999.00,9,  -999.0,9,  -999.0,-999.000,9,-999.000,   1.169,4,   70.34,2,   84.30,-999.0000,9,-999.0000,9,-999.0000,9,-999.0000,9,-999.0000,9,-999.0000,9,  23.5611,     -999.0,-999.000,     -999.0,          9,     -999.0,          9,-999.000,          9
 33RO200501,       A16S,      99,          1,         32,         32,2,20050215,       0355,   -13.0013,   -25.0002,       5601,   115.1,  22.3962,  36.8295,2,  36.8204,2,    208.0,2,   206.7,2,    0.68,2,    0.19,2,    0.01,2,    0.20,2,-999.000,9,-999.000,9,-999.000,9,  2106.9,2,  2411.6,2,  -999.0,9,   20.00,   8.0214,2,    25.00,-999.000,9, -999.00,-999.000,9,-999.000,9, -999.00,9,  -999.0,9,  -999.0,-999.000,9,-999.000,-999.000,9,   65.28,2,  115.10,-999.0000,9,-999.0000,9,-999.0000,9,-999.0000,9,-999.0000,9,-999.0000,9,  22.3729,     -999.0,-999.000,     -999.0,          9,     -999.0,          9,-999.000,          9
 33RO200501,       A16S,      99,          1,         31,         31,2,20050215,       0355,   -13.0013,   -25.0002,       5601,   163.8,  17.9316,  35.9876,2,  35.9860,2,    178.9,2,   182.2,2,    2.05,2,    6.15,2,    0.03,2,    0.56,2,   2.363,2,   1.411,2,   0.089,2,  2120.4,2,  2353.4,2,  -999.0,9,   20.00,   7.9113,2,    25.00,-999.000,9, -999.00,-999.000,9,-999.000,9, -999.00,9,  -999.0,9,  -999.0,-999.000,9,-999.000,   0.603,4,   56.81,2,  163.80,-999.0000,9,-999.0000,9,-999.0000,9,-999.0000,9,-999.0000,9,-999.0000,9,  17.9034,     -999.0,-999.000,     -999.0,          9,     -999.0,          9,-999.000,          9
 33RO200501,       A16S,      99,          1,         30,         30,2,20050215,       0355,   -13.0013,   -25.0002,       5601,   214.1,  14.2217,  35.3940,2,  35.3519,2,    164.0,2,   162.8,2,    4.68,2,   13.86,2,    0.01,2,    0.95,2,   2.507,2,   1.409,2,   0.034,2,  2141.4,2,  2324.3,2,  -999.0,9,   20.00,   7.8043,2,    25.00,-999.000,9, -999.00,-999.000,9,-999.000,9, -999.00,9,  -999.0,9,  -999.0,-999.000,9,-999.000,   0.481,4,   50.07,2,  214.10,-999.0000,9,-999.0000,9,-999.0000,9,-999.0000,9,-999.0000,9,-999.0000,9,  14.1904,     -999.0,-999.000,     -999.0,          9,     -999.0,          9,-999.000,          9
 33RO200501,       A16S,      99,          1,         29,         29,2,20050215,       0355,   -13.0013,   -25.0002,       5601,   265.4,  11.6239,  35.0558,2,  35.0568,2,    140.5,2,   136.4,2,    8.10,2,   21.18,2,    0.00,2,    1.35,2,   2.072,2,   1.115,2,   0.023,2,  2171.6,2,  2309.7,2,  -999.0,9,   20.00,   7.6974,2,    25.00,-999.000,9, -999.00,-999.000,9,-999.000,9, -999.00,9,  -999.0,9,  -999.0,-999.000,9,-999.000,   0.478,4,   45.92,2,  265.40,-999.0000,9,-999.0000,9,-999.0000,9,-999.0000,9,-999.0000,9,-999.0000,9,  11.5899,     -999.0,-999.000,     -999.0,          9,     -999.0,          9,-999.000,          9
 33RO200501,       A16S,      99,          1,         28,         28,2,20050215,       0355,   -13.0013,   -25.0002,       5601,   313.6,  10.3086,  34.9144,2,  34.9136,2,    120.5,2,   118.8,2,   11.13,2,   25.77,2,    0.00,2,    1.61,2,   1.502,2,   0.786,2,   0.018,2,  2187.2,2,  2303.4,2,  -999.0,9,   20.00,   7.6314,2,    25.00,-999.000,9, -999.00,-999.000,9,-999.000,9, -999.00,9,  -999.0,9,  -999.0,-999.000,9,-999.000,   0.428,4,   43.90,2,  313.60,-999.0000,9,-999.0000,9,-999.0000,9,-999.0000,9,-999.0000,9,-999.0000,9,  10.2713,     -999.0,-999.000,     -999.0,          9,     -999.0,          9,-999.000,          9
 33RO200501,       A16S,      99,          1,         27,         27,2,20050215,       0355,   -13.0013,   -25.0002,       5601,   362.7,   9.1763,  34.8020,2,  34.8048,2,    112.8,2,   113.8,2,   13.77,2,   28.51,2,    0.00,2,    1.78,2,-999.000,9,-999.000,9,-999.000,9,  2198.1,2,  2301.1,2,  -999.0,9,   20.00,   7.5998,2,    25.00,-999.000,9, -999.00,-999.000,9,-999.000,9, -999.00,9,  -999.0,9,  -999.0,-999.000,9,-999.000,-999.000,9,   43.08,2,  362.70,-999.0000,9,-999.0000,9,-999.0000,9,-999.0000,9,-999.0000,9,-999.0000,9,   9.1362,     -999.0,-999.000,     -999.0,          9,     -999.0,          9,-999.000,          9
 33RO200501,       A16S,      99,          1,         26,         26,2,20050215,       0355,   -13.0013,   -25.0002,       5601,   447.9,   7.1822,  34.6094,2,  34.6092,2,    129.3,2,   132.4,2,   18.55,2,   31.25,2,    0.00,2,    1.95,2,   0.659,2,   0.336,2,   0.000,2,  2202.9,2,  2296.3,2,  -999.0,9,   20.00,   7.5781,2,    25.00,-999.000,9, -999.00,-999.000,9,-999.000,9, -999.00,9,  -999.0,9,  -999.0,-999.000,9,-999.000,   0.480,4,   42.22,2,  447.90,-999.0000,9,-999.0000,9,-999.0000,9,-999.0000,9,-999.0000,9,-999.0000,9,   7.1392,     -999.0,-999.000,     -999.0,          9,     -999.0,          9,-999.000,          9
 33RO200501,       A16S,      99,          1,         25,         25,2,20050215,       0355,   -13.0013,   -25.0002,       5601,   548.6,   6.0047,  34.5061,2,  34.5073,2,    149.3,2,   149.4,2,   22.36,2,   32.13,2,    0.00,2,    2.02,2,   0.605,2,   0.318,2,   0.012,2,  2202.8,2,  2285.6,2,  -999.0,9,   20.00,   7.5857,2,    25.00,-999.000,9, -999.00,-999.000,9,-999.000,9, -999.00,9,  -999.0,9,  -999.0,-999.000,9,-999.000,   0.597,4,   40.70,2,  548.60,-999.0000,9,-999.0000,9,-999.0000,9,-999.0000,9,-999.0000,9,-999.0000,9,   5.9565,     -999.0,-999.000,     -999.0,          9,     -999.0,          9,-999.000,          9
 33RO200501,       A16S,      99,          1,         24,         24,2,20050215,       0355,   -13.0013,   -25.0002,       5601,   649.1,   4.9577,  34.4466,2,  34.4443,2,    157.4,2,   161.2,2,   28.22,2,   33.11,2,    0.00,2,    2.12,2,   0.388,2,   0.194,2,   0.009,2,  2208.3,2,  2288.7,2,  -999.0,9,   20.00,   7.5736,2,    25.00,-999.000,9, -999.00,-999.000,9,-999.000,9, -999.00,9,  -999.0,9,  -999.0,-999.000,9,-999.000,   0.531,4,   40.38,2,  649.10,-999.0000,9,-999.0000,9,-999.0000,9,-999.0000,9,-999.0000,9,-999.0000,9,   4.9055,     -999.0,-999.000,     -999.0,          9,     -999.0,          9,-999.000,          9
 33RO200501,       A16S,      99,          1,         23,         23,2,20050215,       0355,   -13.0013,   -25.0002,       5601,   748.2,   4.5224,  34.4400,2,  34.4419,2,    165.2,2,   165.4,2,   30.86,2,   33.30,2,    0.00,2,    2.14,2,   0.323,2,   0.164,2,   0.012,2,  2207.8,2,  2290.4,2,  -999.0,9,   20.00,   7.5729,2,    25.00,-999.000,9, -999.00,-999.000,9,-999.000,9, -999.00,9,  -999.0,9,  -999.0,-999.000,9,-999.000,   0.483,4,   40.69,2,  748.20,-999.0000,9,-999.0000,9,-999.0000,9,-999.0000,9,-999.0000,9,-999.0000,9,   4.4642,     -999.0,-999.000,     -999.0,          9,     -999.0,          9,-999.000,          9
 33RO200501,       A16S,      99,          1,         22,         22,2,20050215,       0355,   -13.0013,   -25.0002,       5601,   849.2,   4.2182,  34.4678,2,  34.4678,2,    164.6,2,   165.1,2,   33.89,2,   33.50,2,    0.00,2,    2.16,2,   0.147,2,   0.077,2,   0.009,2,  2211.6,2,  2295.8,2,  -999.0,9,   20.00,   7.5663,2,    25.00,-999.000,9, -999.00,-999.000,9,-999.000,9, -999.00,9,  -999.0,9,  -999.0,-999.000,9,-999.000,   0.287,4,   40.34,2,  849.20,-999.0000,9,-999.0000,9,-999.0000,9,-999.0000,9,-999.0000,9,-999.0000,9,   4.1536,     -999.0,-999.000,     -999.0,          9,     -999.0,          9,-999.000,          9
 33RO200501,       A16S,      99,          1,         21,         21,2,20050215,       0355,   -13.0013,   -25.0002,       5601,   949.1,   4.0447,  34.5040,2,  34.5024,2,    168.0,2,   167.0,2,   35.35,2,   33.11,2,    0.00,2,    2.14,2,   0.087,2,   0.047,2,   0.003,2,  2215.4,6,  2300.0,2,  -999.0,9,   20.00,   7.5717,2,    25.00,-999.000,9, -999.00,-999.000,9,-999.000,9, -999.00,9,  -999.0,9,  -999.0,-999.000,9,-999.000,   0.205,4,   38.63,2,  949.10,-999.0000,9,-999.0000,9,-999.0000,9,-999.0000,9,-999.0000,9,-999.0000,9,   3.9729,     -999.0,-999.000,     -999.0,          9,     -999.0,          9,-999.000,          9
 33RO200501,       A16S,      99,          1,         20,         20,2,20050215,       0355,   -13.0013,   -25.0002,       5601,  1049.0,   3.9149,  34.5761,2,  34.5752,2,    173.1,2,   173.4,2,   35.64,6,   31.83,6,    0.00,6,    2.06,6,-999.000,9,-999.000,9,-999.000,9,  2211.4,2,  2309.2,2,  -999.0,9,   20.00,   7.5871,2,    25.00,-999.000,9, -999.00,-999.000,9,-999.000,9, -999.00,9,  -999.0,9,  -999.0,-999.000,9,-999.000,-999.000,9,   39.33,2, 1049.00,-999.0000,9,-999.0000,9,-999.0000,9,-999.0000,9,-999.0000,9,-999.0000,9,   3.8357,     -999.0,-999.000,     -999.0,          9,     -999.0,          9,-999.000,          9
 33RO200501,       A16S,      99,          1,         19,         19,2,20050215,       0355,   -13.0013,   -25.0002,       5601,  1150.6,   3.9525,  34.6497,2,  34.6475,2,    177.6,2,   177.4,2,   33.69,2,   30.56,2,    0.00,2,    1.97,2,   0.026,2,   0.013,2,   0.008,2,  2207.4,2,  2307.8,6,  -999.0,9,   20.00,   7.6019,6,    25.00,-999.000,9, -999.00,-999.000,9,-999.000,9, -999.00,9,  -999.0,9,  -999.0,-999.000,9,-999.000,   0.079,4,   39.82,2, 1150.60,-999.0000,9,-999.0000,9,-999.0000,9,-999.0000,9,-999.0000,9,-999.0000,9,   3.8643,     -999.0,-999.000,     -999.0,          9,     -999.0,          9,-999.000,          9
 33RO200501,       A16S,      99,          1,         18,         18,2,20050215,       0355,   -13.0013,   -25.0002,       5601,  1291.5,   4.0317,  34.7586,2,  34.7589,2,    189.5,2,   188.2,2,   29.49,2,   28.12,2,    0.00,2,    1.80,2,   0.011,2,   0.003,2,   0.007,2,  2200.5,2,  2312.0,2,  -999.0,9,   20.00,   7.6320,2,    25.00,-999.000,9, -999.00,-999.000,9,-999.000,9, -999.00,9,  -999.0,9,  -999.0,-999.000,9,-999.000,   0.052,4,   39.89,2, 1291.50,-999.0000,9,-999.0000,9,-999.0000,9,-999.0000,9,-999.0000,9,-999.0000,9,   3.9303,     -999.0,-999.000,     -999.0,          9,     -999.0,          9,-999.000,          9
 33RO200501,       A16S,      99,          1,         17,         17,2,20050215,       0355,   -13.0013,   -25.0002,       5601,  1499.9,   3.9924,  34.8924,2,  34.8933,2,    212.6,2,   214.8,2,   23.63,2,   23.92,2,    0.00,2,    1.50,2,   0.022,2,   0.014,2,   0.003,2,  2182.4,2,  2315.5,2,  -999.0,9,   20.00,   7.6834,2,    25.00,-999.000,9, -999.00,-999.000,9,-999.000,9, -999.00,9,  -999.0,9,  -999.0,-999.000,9,-999.000,   0.095,4,   39.20,2, 1499.90,-999.0000,9,-999.0000,9,-999.0000,9,-999.0000,9,-999.0000,9,-999.0000,9,   3.8725,     -999.0,-999.000,     -999.0,          9,     -999.0,          9,-999.000,          9
 33RO200501,       A16S,      99,          1,         16,         16,2,20050215,       0355,   -13.0013,   -25.0002,       5601,  1699.7,   3.7485,  34.9349,2,  34.9338,2,    231.4,2,   232.9,2,   22.55,2,   21.77,2,    0.00,2,    1.36,2,   0.032,2,   0.018,2,   0.000,2,  2176.2,2,  2318.1,2,  -999.0,9,   20.00,   7.7085,2,    25.00,-999.000,9, -999.00,-999.000,9,-999.000,9, -999.00,9,  -999.0,9,  -999.0,-999.000,9,-999.000,   0.125,4, -999.00,9, 1699.70,-999.0000,9,-999.0000,9,-999.0000,9,-999.0000,9,-999.0000,9,-999.0000,9,   3.6131,     -999.0,-999.000,     -999.0,          9,     -999.0,          9,-999.000,          9
 33RO200501,       A16S,      99,          1,         15,         15,2,20050215,       0355,   -13.0013,   -25.0002,       5601,  1898.3,   3.4428,  34.9348,2,  34.9363,2,    239.6,2,   239.9,2,   25.19,2,   21.28,2,    0.00,2,    1.33,2,   0.020,2,   0.011,2,   0.000,2,  2176.1,2,  2313.2,3,  -999.0,9,   20.00,-999.0000,1,    25.00,-999.000,9, -999.00,-999.000,9,-999.000,9, -999.00,9,  -999.0,9,  -999.0,-999.000,9,-999.000,   0.098,4,   39.51,2, 1898.30,-999.0000,9,-999.0000,9,-999.0000,9,-999.0000,9,-999.0000,9,-999.0000,9,   3.2932,     -999.0,-999.000,     -999.0,          9,     -999.0,          9,-999.000,          9
 33RO200501,       A16S,      99,          1,         14,         14,2,20050215,       0355,   -13.0013,   -25.0002,       5601,  2096.7,   3.1570,  34.9224,2,  34.9214,2,    240.8,2,   240.1,2,   30.17,2,   21.58,2,    0.00,2,    1.37,2,   0.009,2,   0.006,2,   0.000,2,  2178.8,2,  2318.5,2,  -999.0,9,   20.00,   7.7202,2,    25.00,-999.000,9, -999.00,-999.000,9,-999.000,9, -999.00,9,  -999.0,9,  -999.0,-999.000,9,-999.000,   0.061,4, -999.00,9, 2096.70,-999.0000,9,-999.0000,9,-999.0000,9,-999.0000,9,-999.0000,9,-999.0000,9,   2.9931,     -999.0,-999.000,     -999.0,          9,     -999.0,          9,-999.000,          9
 33RO200501,       A16S,      99,          1,         13,         13,2,20050215,       0355,   -13.0013,   -25.0002,       5601,  2299.2,   2.9274,  34.9111,2,  34.9100,2,    241.0,2,   241.3,2,   34.75,2,   21.87,2,    0.00,2,    1.40,2,   0.004,2,   0.006,2,   0.000,2,  2183.5,2,  2323.5,2,  -999.0,9,   20.00,   7.7216,2,    25.00,-999.000,9, -999.00,-999.000,9,-999.000,9, -999.00,9,  -999.0,9,  -999.0,-999.000,9,-999.000,   0.040,4,   39.66,2, 2299.20,-999.0000,9,-999.0000,9,-999.0000,9,-999.0000,9,-999.0000,9,-999.0000,9,   2.7483,     -999.0,-999.000,     -999.0,          9,     -999.0,          9,-999.000,          9
 33RO200501,       A16S,      99,          1,         12,         12,2,20050215,       0355,   -13.0013,   -25.0002,       5601,  2545.5,   2.7890,  34.9053,2,  34.9050,2,    241.5,2,   241.3,2,   37.78,2,   22.06,2,    0.00,2,    1.42,2,   0.007,2,   0.006,2,   0.000,2,  2188.0,2,  2325.6,2,  -999.0,9,   20.00,   7.7180,2,    25.00,-999.000,9, -999.00,-999.000,9,-999.000,9, -999.00,9,  -999.0,9,  -999.0,-999.000,9,-999.000,   0.031,4, -999.00,9, 2545.50,-999.0000,9,-999.0000,9,-999.0000,9,-999.0000,9,-999.0000,9,-999.0000,9,   2.5887,     -999.0,-999.000,     -999.0,          9,     -999.0,          9,-999.000,          9
 33RO200501,       A16S,      99,          1,         11,         11,2,20050215,       0355,   -13.0013,   -25.0002,       5601,  2849.7,   2.6871,  34.9012,2,  34.9040,3,    241.7,2,   241.5,2,   40.03,2,   22.06,2,    0.00,2,    1.43,2,   0.002,2,   0.004,2,   0.000,2,  2192.6,2,  2328.7,2,  -999.0,9,   20.00,   7.7156,2,    25.00,-999.000,9, -999.00,-999.000,9,-999.000,9, -999.00,9,  -999.0,9,  -999.0,-999.000,9,-999.000,   0.024,4,   39.89,2, 2849.70,-999.0000,9,-999.0000,9,-999.0000,9,-999.0000,9,-999.0000,9,-999.0000,9,   2.4586,     -999.0,-999.000,     -999.0,          9,     -999.0,          9,-999.000,          9
 33RO200501,       A16S,      99,          1,         10,         10,2,20050215,       0355,   -13.0013,   -25.0002,       5601,  3151.0,   2.6002,  34.8998,2,  34.9005,2,    243.8,2,   244.0,2,   40.91,2,   21.97,2,    0.00,2,    1.42,2,   0.006,2,   0.001,2,   0.004,2,  2190.6,2,  2337.8,3,  -999.0,9,   20.00,   7.7217,2,    25.00,-999.000,9, -999.00,-999.000,9,-999.000,9, -999.00,9,  -999.0,9,  -999.0,-999.000,9,-999.000,   0.031,4,   39.81,2, 3151.00,-999.0000,9,-999.0000,9,-999.0000,9,-999.0000,9,-999.0000,9,-999.0000,9,   2.3426,     -999.0,-999.000,     -999.0,          9,     -999.0,          9,-999.000,          9
 33RO200501,       A16S,      99,          1,          9,          9,2,20050215,       0355,   -13.0013,   -25.0002,       5601,  3449.4,   2.4599,  34.8936,2,  34.8960,3,    246.9,2,   247.2,2,   42.47,2,   21.77,2,    0.00,2,    1.41,2,-999.000,9,-999.000,9,-999.000,9,  2188.2,2,  2334.0,2,  -999.0,9,   20.00,   7.7204,2,    25.00,-999.000,9, -999.00,-999.000,9,-999.000,9, -999.00,9,  -999.0,9,  -999.0,-999.000,9,-999.000,-999.000,9,   38.82,2, 3449.40,-999.0000,9,-999.0000,9,-999.0000,9,-999.0000,9,-999.0000,9,-999.0000,9,   2.1740,     -999.0,-999.000,     -999.0,          9,     -999.0,          9,-999.000,          9
 33RO200501,       A16S,      99,          1,          8,          8,2,20050215,       0355,   -13.0013,   -25.0002,       5601,  3750.6,   2.2411,  34.8747,2,  34.8745,2,    247.1,2,   247.0,2,   48.81,2,   22.45,2,    0.00,2,    1.47,2,   0.007,2,   0.007,2,   0.002,2,  2195.8,2,  2336.5,2,  -999.0,9,   20.00,   7.7178,2,    25.00,-999.000,9, -999.00,-999.000,9,-999.000,9, -999.00,9,  -999.0,9,  -999.0,-999.000,9,-999.000,   0.057,4,   39.05,2, 3750.60,-999.0000,9,-999.0000,9,-999.0000,9,-999.0000,9,-999.0000,9,-999.0000,9,   1.9281,     -999.0,-999.000,     -999.0,          9,     -999.0,          9,-999.000,          9