BOTTLE,20220818CCHSIOAMB
EXPOCODE,SECT_ID,STNNBR,CASTNO,SAMPNO,BTLNBR,BTLNBR_FLAG_W,DATE,TIME,LATITUDE,LONGITUDE,DEPTH,CTDPRS,CTDTMP,CTDSAL,CTDSAL_FLAG_W,SALNTY,SALNTY_FLAG_W,CTDOXY,CTDOXY_FLAG_W,OXYGEN,OXYGEN_FLAG_W,SILCAT,SILCAT_FLAG_W,NITRAT,NITRAT_FLAG_W,NITRIT,NITRIT_FLAG_W,PHSPHT,PHSPHT_FLAG_W,CFC-11,CFC-11_FLAG_W,CFC-12,CFC-12_FLAG_W,CFC113,CFC113_FLAG_W,TCARBN,TCARBN_FLAG_W,ALKALI,ALKALI_FLAG_W,PCO2,PCO2_FLAG_W,PCO2TMP,PH_SWS,PH_SWS_FLAG_W,PH_TMP,TRITUM,TRITUM_FLAG_W,TRITER,HELIUM,HELIUM_FLAG_W,DELHE3,DELHE3_FLAG_W,DELC13,DELC13_FLAG_W,DELC14,DELC14_FLAG_W,C14ERR,NEON,NEON_FLAG_W,NEONER,CCL4,CCL4_FLAG_W,DOC,DOC_FLAG_W,CTDRAW,CDOM325,CDOM325_FLAG_W,CDOM340,CDOM340_FLAG_W,CDOM380,CDOM380_FLAG_W,CDOM412,CDOM412_FLAG_W,CDOMSL,CDOMSL_FLAG_W,CDOMSN,CDOMSN_FLAG_W,THETA,HELIER,DELHER,CH3CL,CH3CL_FLAG_W,CH3BR,CH3BR_FLAG_W,CH3I,CH3I_FLAG_W
,,,,,,,,,,,METERS,DBAR,ITS-90,PSS-78,,PSS-78,,UMOL/KG,,UMOL/KG,,UMOL/KG,,UMOL/KG,,UMOL/KG,,UMOL/KG,,PMOL/KG,,PMOL/KG,,PMOL/KG,,UMOL/KG,,UMOL/KG,,UATM,,DEG C,,,DEG C,TU,,TU,NMOL/KG,,PERCNT,,/MILLE,,/MILLE,,/MILLE,NMOL/KG,,NMOL/KG,PMOL/KG,,UMOL/KG,,DBAR,1/M,,1/M,,1/M,,1/M,,1/NM,,1/NM,,DEG C,NMOL/KG,PERCNT,PMOL/KG,,PMOL/KG,,PMOL/KG,
 33RO200501,       A16S,     106,          1,         36,         36,2,20050217,       0559,    -9.4993,   -25.0000,       5705,     2.4,  27.5054,  36.7099,2,  36.7091,2,    194.2,2,   198.2,2,    0.98,2,    0.00,2,    0.00,2,    0.02,2,   1.623,2,   1.048,2,   0.126,2,  2061.1,6,  2405.1,6,  -999.0,9,   20.00,   8.0794,6,    25.00,-999.000,9, -999.00,-999.000,9,-999.000,9, -999.00,9,  -999.0,9,  -999.0,-999.000,9,-999.000,   1.385,4, -999.00,9,    2.40,-999.0000,9,-999.0000,9,-999.0000,9,-999.0000,9,-999.0000,9,-999.0000,9,  27.5048,     -999.0,-999.000,     68.663,          2,      1.022,          2,   2.733,          2
 33RO200501,       A16S,     106,          1,         35,         35,2,20050217,       0559,    -9.4993,   -25.0000,       5705,    24.4,  27.5127,  36.7094,2,  36.7087,2,    194.2,2,   198.3,2,    0.98,2,    0.00,2,    0.00,2,    0.02,2,-999.000,9,-999.000,9,-999.000,9,  -999.0,9,  -999.0,9,  -999.0,9,   20.00,-999.0000,9,    25.00,-999.000,9, -999.00,-999.000,9,-999.000,9, -999.00,9,  -999.0,9,  -999.0,-999.000,9,-999.000,-999.000,9, -999.00,9,   24.40,-999.0000,9,-999.0000,9,-999.0000,9,-999.0000,9,-999.0000,9,-999.0000,9,  27.5070,     -999.0,-999.000,     67.859,          2,      0.808,          2,   2.794,          2
 33RO200501,       A16S,     106,          1,         34,         34,2,20050217,       0559,    -9.4993,   -25.0000,       5705,    54.4,  26.0635,  36.7856,2,  36.7958,2,    209.3,2,   210.1,2,    1.17,2,    0.00,2,    0.00,2,    0.05,2,-999.000,9,-999.000,9,-999.000,9,  2065.1,2,  2409.9,2,  -999.0,9,   20.00,   8.0808,2,    25.00,-999.000,9, -999.00,-999.000,9,-999.000,9, -999.00,9,  -999.0,9,  -999.0,-999.000,9,-999.000,-999.000,9, -999.00,9,   54.40,-999.0000,9,-999.0000,9,-999.0000,9,-999.0000,9,-999.0000,9,-999.0000,9,  26.0513,     -999.0,-999.000,     -999.0,          9,     -999.0,          9,-999.000,          9
 33RO200501,       A16S,     106,          1,         33,         33,2,20050217,       0559,    -9.4993,   -25.0000,       5705,    80.7,  24.4015,  36.9296,2,  36.9381,2,    212.1,2,   213.2,2,    1.17,2,    0.10,2,    0.01,2,    0.08,2,-999.000,9,-999.000,9,-999.000,9,  -999.0,9,  -999.0,9,  -999.0,9,   20.00,-999.0000,9,    25.00,-999.000,9, -999.00,-999.000,9,-999.000,9, -999.00,9,  -999.0,9,  -999.0,-999.000,9,-999.000,-999.000,9, -999.00,9,   80.70,-999.0000,9,-999.0000,9,-999.0000,9,-999.0000,9,-999.0000,9,-999.0000,9,  24.3842,     -999.0,-999.000,    187.404,          2,      0.668,          2,   3.709,          2
 33RO200501,       A16S,     106,          1,         32,         32,2,20050217,       0559,    -9.4993,   -25.0000,       5705,   114.1,  22.3991,  36.7452,2,  36.7270,2,    203.1,2,   201.9,2, -999.00,9, -999.00,9, -999.00,9, -999.00,9,   1.993,2,   1.252,2,   0.135,2,  2107.0,2,  2411.6,2,  -999.0,9,   20.00,   8.0155,2,    25.00,-999.000,9, -999.00,-999.000,9,-999.000,9, -999.00,9,  -999.0,9,  -999.0,-999.000,9,-999.000,   0.852,4, -999.00,9,  114.10,-999.0000,9,-999.0000,9,-999.0000,9,-999.0000,9,-999.0000,9,-999.0000,9,  22.3761,     -999.0,-999.000,     -999.0,          9,     -999.0,          9,-999.000,          9
 33RO200501,       A16S,     106,          1,         31,         31,2,20050217,       0559,    -9.4993,   -25.0000,       5705,   165.0,  15.6333,  35.6401,2,  35.6155,2,    127.0,2,   124.6,2,    4.78,2,   16.70,2,    0.02,2,    1.10,2,-999.000,9,-999.000,9,-999.000,9,  -999.0,9,  -999.0,9,  -999.0,9,   20.00,-999.0000,9,    25.00,-999.000,9, -999.00,-999.000,9,-999.000,9, -999.00,9,  -999.0,9,  -999.0,-999.000,9,-999.000,-999.000,9, -999.00,9,  165.00,-999.0000,9,-999.0000,9,-999.0000,9,-999.0000,9,-999.0000,9,-999.0000,9,  15.6075,     -999.0,-999.000,     -999.0,          9,     -999.0,          9,-999.000,          9
 33RO200501,       A16S,     106,          1,         30,         30,2,20050217,       0559,    -9.4993,   -25.0000,       5705,   214.1,  12.1293,  35.1775,2,  35.1555,2,    105.7,2,   104.2,2,    9.08,2,   24.22,2,    0.01,2,    1.52,2,-999.000,9,-999.000,9,-999.000,9,  2196.2,2,  2311.2,2,  -999.0,9,   20.00,   7.6526,2,    25.00,-999.000,9, -999.00,-999.000,9,-999.000,9, -999.00,9,  -999.0,9,  -999.0,-999.000,9,-999.000,-999.000,9, -999.00,9,  214.10,-999.0000,9,-999.0000,9,-999.0000,9,-999.0000,9,-999.0000,9,-999.0000,9,  12.1011,     -999.0,-999.000,      8.487,          2,      0.291,          2,   0.033,          2
 33RO200501,       A16S,     106,          1,         29,         29,2,20050217,       0559,    -9.4993,   -25.0000,       5705,   254.8,   9.9221,  34.9066,2,  34.9073,2,    103.1,2,   108.3,2,   12.21,2,   27.65,2,    0.01,2,    1.69,2,-999.000,9,-999.000,9,-999.000,9,  -999.0,9,  -999.0,9,  -999.0,9,   20.00,-999.0000,9,    25.00,-999.000,9, -999.00,-999.000,9,-999.000,9, -999.00,9,  -999.0,9,  -999.0,-999.000,9,-999.000,-999.000,9, -999.00,9,  254.80,-999.0000,9,-999.0000,9,-999.0000,9,-999.0000,9,-999.0000,9,-999.0000,9,   9.8926,     -999.0,-999.000,     -999.0,          9,     -999.0,          9,-999.000,          9
 33RO200501,       A16S,     106,          1,         28,         28,2,20050217,       0559,    -9.4993,   -25.0000,       5705,   324.0,   8.5951,  34.7553,2,  34.7492,2,    109.7,2,   110.5,2,   15.24,2,   30.58,2,    0.01,2,    1.88,2,   0.938,2,   0.482,2,   0.015,2,  2210.9,2,  2296.7,2,  -999.0,9,   20.00,   7.5698,2,    25.00,-999.000,9, -999.00,-999.000,9,-999.000,9, -999.00,9,  -999.0,9,  -999.0,-999.000,9,-999.000,   0.424,4, -999.00,9,  324.00,-999.0000,9,-999.0000,9,-999.0000,9,-999.0000,9,-999.0000,9,-999.0000,9,   8.5607,     -999.0,-999.000,     10.232,          2,      0.457,          2,   0.023,          2
 33RO200501,       A16S,     106,          1,         27,         27,2,20050217,       0559,    -9.4993,   -25.0000,       5705,   400.3,   7.8114,  34.6883,2,  34.6867,2,     97.1,2,    95.9,2,   17.98,2,   33.81,2,    0.01,2,    2.06,2,-999.000,9,-999.000,9,-999.000,9,  -999.0,9,  -999.0,9,  -999.0,9,   20.00,-999.0000,9,    25.00,-999.000,9, -999.00,-999.000,9,-999.000,9, -999.00,9,  -999.0,9,  -999.0,-999.000,9,-999.000,-999.000,9, -999.00,9,  400.30,-999.0000,9,-999.0000,9,-999.0000,9,-999.0000,9,-999.0000,9,-999.0000,9,   7.7712,     -999.0,-999.000,     -999.0,          9,     -999.0,          9,-999.000,          9
 33RO200501,       A16S,     106,          1,         26,         26,2,20050217,       0559,    -9.4993,   -25.0000,       5705,   474.0,   7.0038,  34.6077,2,  34.6064,2,     99.9,2,   113.8,2,   19.93,2,   33.71,2,    0.01,2,    2.08,2,-999.000,9,-999.000,9,-999.000,9,  -999.0,9,  -999.0,9,  -999.0,9,   20.00,-999.0000,9,    25.00,-999.000,9, -999.00,-999.000,9,-999.000,9, -999.00,9,  -999.0,9,  -999.0,-999.000,9,-999.000,-999.000,9, -999.00,9,  474.00,-999.0000,9,-999.0000,9,-999.0000,9,-999.0000,9,-999.0000,9,-999.0000,9,   6.9588,     -999.0,-999.000,      5.776,          2,      0.148,          2,   0.024,          2
 33RO200501,       A16S,     106,          1,         25,         25,2,20050217,       0559,    -9.4993,   -25.0000,       5705,   549.8,   6.5351,  34.5792,2,  34.5789,2,    124.1,2,   109.3,2,   22.08,2,   35.08,2,    0.01,2,    2.17,2,   0.285,2,   0.146,2,   0.006,2,  2228.0,2,  2292.9,2,  -999.0,9,   20.00,   7.5156,2,    25.00,-999.000,9, -999.00,-999.000,9,-999.000,9, -999.00,9,  -999.0,9,  -999.0,-999.000,9,-999.000,   0.274,4, -999.00,9,  549.80,-999.0000,9,-999.0000,9,-999.0000,9,-999.0000,9,-999.0000,9,-999.0000,9,   6.4846,     -999.0,-999.000,     -999.0,          9,     -999.0,          9,-999.000,          9
 33RO200501,       A16S,     106,          1,         24,         24,2,20050217,       0559,    -9.4993,   -25.0000,       5705,   649.6,   5.5075,  34.5033,2,  34.5023,2,    119.8,2,   130.9,2,   26.09,2,   34.89,2,    0.00,2,    2.19,2,-999.000,9,-999.000,9,-999.000,9,  -999.0,9,  -999.0,9,  -999.0,9,   20.00,-999.0000,9,    25.00,-999.000,9, -999.00,-999.000,9,-999.000,9, -999.00,9,  -999.0,9,  -999.0,-999.000,9,-999.000,-999.000,9, -999.00,9,  649.60,-999.0000,9,-999.0000,9,-999.0000,9,-999.0000,9,-999.0000,9,-999.0000,9,   5.4525,     -999.0,-999.000,     -999.0,          9,     -999.0,          9,-999.000,          9
 33RO200501,       A16S,     106,          1,         23,         23,2,20050217,       0559,    -9.4993,   -25.0000,       5705,   748.9,   4.7750,  34.4545,2,  34.4542,2,    155.4,2,   156.2,2,   29.42,2,   33.72,2,    0.00,2,    2.14,2,-999.000,9,-999.000,9,-999.000,9,  2215.8,2,  2295.9,2,  -999.0,9,   20.00,   7.5621,2,    25.00,-999.000,9, -999.00,-999.000,9,-999.000,9, -999.00,9,  -999.0,9,  -999.0,-999.000,9,-999.000,-999.000,9, -999.00,9,  748.90,-999.0000,9,-999.0000,9,-999.0000,9,-999.0000,9,-999.0000,9,-999.0000,9,   4.7154,     -999.0,-999.000,      0.000,          2,      0.000,          2,   0.017,          2
 33RO200501,       A16S,     106,          1,         22,         22,2,20050217,       0559,    -9.4993,   -25.0000,       5705,   849.0,   4.3506,  34.4638,2,  34.4648,2,    166.7,2,   163.0,2,   32.84,2,   33.52,2,    0.00,2,    2.15,2,-999.000,9,-999.000,9,-999.000,9,  -999.0,9,  -999.0,9,  -999.0,9,   20.00,-999.0000,9,    25.00,-999.000,9, -999.00,-999.000,9,-999.000,9, -999.00,9,  -999.0,9,  -999.0,-999.000,9,-999.000,-999.000,9, -999.00,9,  849.00,-999.0000,9,-999.0000,9,-999.0000,9,-999.0000,9,-999.0000,9,-999.0000,9,   4.2851,     -999.0,-999.000,     -999.0,          9,     -999.0,          9,-999.000,          9
 33RO200501,       A16S,     106,          1,         21,         21,2,20050217,       0559,    -9.4993,   -25.0000,       5705,   949.2,   4.1444,  34.5115,2,  34.5094,2,    165.0,2,   163.3,2,   34.59,2,   33.32,2,    0.00,2,    2.13,2,   0.100,2,   0.047,2,   0.000,2,  2221.5,2,  2303.2,2,  -999.0,9,   20.00,   7.5701,2,    25.00,-999.000,9, -999.00,-999.000,9,-999.000,9, -999.00,9,  -999.0,9,  -999.0,-999.000,9,-999.000,   0.196,4, -999.00,9,  949.20,-999.0000,9,-999.0000,9,-999.0000,9,-999.0000,9,-999.0000,9,-999.0000,9,   4.0719,     -999.0,-999.000,     -999.0,          9,     -999.0,          9,-999.000,          9
 33RO200501,       A16S,     106,          1,         20,         20,2,20050217,       0559,    -9.4993,   -25.0000,       5705,  1054.1,   4.0096,  34.5884,2,  34.5874,2,    173.1,2,   170.9,2,   34.69,2,   31.86,2,    0.00,2,    2.04,2,-999.000,9,-999.000,9,-999.000,9,  -999.0,9,  -999.0,9,  -999.0,9,   20.00,-999.0000,9,    25.00,-999.000,9, -999.00,-999.000,9,-999.000,9, -999.00,9,  -999.0,9,  -999.0,-999.000,9,-999.000,-999.000,9, -999.00,9, 1054.10,-999.0000,9,-999.0000,9,-999.0000,9,-999.0000,9,-999.0000,9,-999.0000,9,   3.9292,     -999.0,-999.000,      0.000,          2,      0.000,          2,   0.011,          2
 33RO200501,       A16S,     106,          1,         19,         19,2,20050217,       0559,    -9.4993,   -25.0000,       5705,  1139.2,   4.0656,  34.6603,2,  34.6611,2,    175.5,2,   174.9,2,   32.44,2,   30.58,2,    0.00,2,    1.95,2,-999.000,9,-999.000,9,-999.000,9,  -999.0,9,  -999.0,9,  -999.0,9,   20.00,-999.0000,9,    25.00,-999.000,9, -999.00,-999.000,9,-999.000,9, -999.00,9,  -999.0,9,  -999.0,-999.000,9,-999.000,-999.000,9, -999.00,9, 1139.20,-999.0000,9,-999.0000,9,-999.0000,9,-999.0000,9,-999.0000,9,-999.0000,9,   3.9774,     -999.0,-999.000,     -999.0,          9,     -999.0,          9,-999.000,          9
 33RO200501,       A16S,     106,          1,         18,         18,2,20050217,       0559,    -9.4993,   -25.0000,       5705,  1299.3,   4.2318,  34.8267,2,  34.8347,2,    195.4,2,   195.5,2,   25.21,2,   26.28,2,    0.00,2,    1.66,2,-999.000,9,-999.000,9,-999.000,9,  -999.0,9,  -999.0,9,  -999.0,9,   20.00,-999.0000,9,    25.00,-999.000,9, -999.00,-999.000,9,-999.000,9, -999.00,9,  -999.0,9,  -999.0,-999.000,9,-999.000,-999.000,9, -999.00,9, 1299.30,-999.0000,9,-999.0000,9,-999.0000,9,-999.0000,9,-999.0000,9,-999.0000,9,   4.1276,     -999.0,-999.000,     -999.0,          9,     -999.0,          9,-999.000,          9
 33RO200501,       A16S,     106,          1,         17,         17,2,20050217,       0559,    -9.4993,   -25.0000,       5705,  1499.8,   4.1603,  34.9425,2,  34.9466,2,    224.4,2,   224.1,2,   19.64,2,   22.18,2,    0.00,2,    1.40,2,   0.090,2,   0.052,2,   0.004,2,  2180.1,2,  2314.5,2,  -999.0,9,   20.00,   7.7027,2,    25.00,-999.000,9, -999.00,-999.000,9,-999.000,9, -999.00,9,  -999.0,9,  -999.0,-999.000,9,-999.000,   0.238,4, -999.00,9, 1499.80,-999.0000,9,-999.0000,9,-999.0000,9,-999.0000,9,-999.0000,9,-999.0000,9,   4.0383,     -999.0,-999.000,      7.491,          2,      0.633,          2,   0.023,          2
 33RO200501,       A16S,     106,          1,         16,         16,2,20050217,       0559,    -9.4993,   -25.0000,       5705,  1670.5,   3.9344,  34.9641,2,  34.9631,2,    238.4,2,   238.1,2,   18.85,2,   20.71,2,    0.00,2,    1.27,2,-999.000,9,-999.000,9,-999.000,9,  -999.0,9,  -999.0,9,  -999.0,9,   20.00,-999.0000,9,    25.00,-999.000,9, -999.00,-999.000,9,-999.000,9, -999.00,9,  -999.0,9,  -999.0,-999.000,9,-999.000,-999.000,9, -999.00,9, 1670.50,-999.0000,9,-999.0000,9,-999.0000,9,-999.0000,9,-999.0000,9,-999.0000,9,   3.7993,     -999.0,-999.000,     -999.0,          9,     -999.0,          9,-999.000,          9
 33RO200501,       A16S,     106,          1,         15,         15,2,20050217,       0559,    -9.4993,   -25.0000,       5705,  1899.6,   3.5292,  34.9508,2,  34.9529,2,    242.6,2,   242.2,2,   23.15,2,   20.71,2,    0.00,2,    1.27,2,-999.000,9,-999.000,9,-999.000,9,  2174.6,2,  2319.9,2,  -999.0,9,   20.00,   7.7233,2,    25.00,-999.000,9, -999.00,-999.000,9,-999.000,9, -999.00,9,  -999.0,9,  -999.0,-999.000,9,-999.000,-999.000,9, -999.00,9, 1899.60,-999.0000,9,-999.0000,9,-999.0000,9,-999.0000,9,-999.0000,9,-999.0000,9,   3.3782,     -999.0,-999.000,     -999.0,          9,     -999.0,          9,-999.000,          9
 33RO200501,       A16S,     106,          1,         14,         14,2,20050217,       0559,    -9.4993,   -25.0000,       5705,  2099.9,   3.2222,  34.9330,2,  34.9327,2,    241.0,2,   239.4,2,   28.82,2,   21.30,2,    0.00,2,    1.34,2,-999.000,9,-999.000,9,-999.000,9,  -999.0,9,  -999.0,9,  -999.0,9,   20.00,-999.0000,9,    25.00,-999.000,9, -999.00,-999.000,9,-999.000,9, -999.00,9,  -999.0,9,  -999.0,-999.000,9,-999.000,-999.000,9, -999.00,9, 2099.90,-999.0000,9,-999.0000,9,-999.0000,9,-999.0000,9,-999.0000,9,-999.0000,9,   3.0570,     -999.0,-999.000,      0.000,          2,      0.038,          2,   0.022,          2
 33RO200501,       A16S,     106,          1,         13,         13,2,20050217,       0559,    -9.4993,   -25.0000,       5705,  2299.5,   3.0913,  34.9318,2,  34.9307,2,    244.6,2,   244.3,2,   29.89,2,   21.10,2,    0.00,2,    1.31,2,   0.029,2,   0.013,2,   0.000,2,  2179.5,2,  2323.2,2,  -999.0,9,   20.00,   7.7250,2,    25.00,-999.000,9, -999.00,-999.000,9,-999.000,9, -999.00,9,  -999.0,9,  -999.0,-999.000,9,-999.000,   0.096,4, -999.00,9, 2299.50,-999.0000,9,-999.0000,9,-999.0000,9,-999.0000,9,-999.0000,9,-999.0000,9,   2.9092,     -999.0,-999.000,     -999.0,          9,     -999.0,          9,-999.000,          9
 33RO200501,       A16S,     106,          1,         12,         12,2,20050217,       0559,    -9.4993,   -25.0000,       5705,  2540.6,   2.9478,  34.9268,2,  34.9264,2,    246.1,2,   246.2,2,   31.46,2,   20.91,2,    0.00,2,    1.32,2,-999.000,9,-999.000,9,-999.000,9,  -999.0,9,  -999.0,9,  -999.0,9,   20.00,-999.0000,9,    25.00,-999.000,9, -999.00,-999.000,9,-999.000,9, -999.00,9,  -999.0,9,  -999.0,-999.000,9,-999.000,-999.000,9, -999.00,9, 2540.60,-999.0000,9,-999.0000,9,-999.0000,9,-999.0000,9,-999.0000,9,-999.0000,9,   2.7449,     -999.0,-999.000,     -999.0,          9,     -999.0,          9,-999.000,          9
 33RO200501,       A16S,     106,          1,         11,         11,2,20050217,       0559,    -9.4993,   -25.0000,       5705,  2847.8,   2.7746,  34.9171,2,  34.9183,2,    246.0,2,   246.3,2,   34.68,2,   21.20,2,    0.00,2,    1.34,2,-999.000,9,-999.000,9,-999.000,9,  2182.9,2,  2328.9,2,  -999.0,9,   20.00,   7.7261,2,    25.00,-999.000,9, -999.00,-999.000,9,-999.000,9, -999.00,9,  -999.0,9,  -999.0,-999.000,9,-999.000,-999.000,9, -999.00,9, 2847.80,-999.0000,9,-999.0000,9,-999.0000,9,-999.0000,9,-999.0000,9,-999.0000,9,   2.5444,     -999.0,-999.000,      1.600,          2,      0.163,          2,   0.013,          2
 33RO200501,       A16S,     106,          1,         10,         10,2,20050217,       0559,    -9.4993,   -25.0000,       5705,  3150.4,   2.6799,  34.9163,2,  34.9164,2,    250.1,2,   250.1,2,   31.46,2,   21.00,2,    0.00,2,    1.32,2,-999.000,9,-999.000,9,-999.000,9,  -999.0,9,  -999.0,9,  -999.0,9,   20.00,-999.0000,9,    25.00,-999.000,9, -999.00,-999.000,9,-999.000,9, -999.00,9,  -999.0,9,  -999.0,-999.000,9,-999.000,-999.000,9, -999.00,9, 3150.40,-999.0000,9,-999.0000,9,-999.0000,9,-999.0000,9,-999.0000,9,-999.0000,9,   2.4206,     -999.0,-999.000,     -999.0,          9,     -999.0,          9,-999.000,          9
 33RO200501,       A16S,     106,          1,          9,          9,2,20050217,       0559,    -9.4993,   -25.0000,       5705,  3449.7,   2.5630,  34.9097,2,  34.9087,2,    252.4,2,   253.1,2,   35.37,2,   20.61,2,    0.00,2,    1.31,2,   0.028,2,   0.017,2,   0.000,2,  2180.8,2,  2334.1,2,  -999.0,9,   20.00,   7.7335,2,    25.00,-999.000,9, -999.00,-999.000,9,-999.000,9, -999.00,9,  -999.0,9,  -999.0,-999.000,9,-999.000,   0.113,4, -999.00,9, 3449.70,-999.0000,9,-999.0000,9,-999.0000,9,-999.0000,9,-999.0000,9,-999.0000,9,   2.2745,     -999.0,-999.000,     -999.0,          9,     -999.0,          9,-999.000,          9
 33RO200501,       A16S,     106,          1,          8,          8,2,20050217,       0559,    -9.4993,   -25.0000,       5705,  3749.5,   2.3166,  34.8884,2,  34.8885,2,    253.2,2,   252.9,2,   41.81,2,   21.30,2,    0.00,2,    1.36,2,-999.000,9,-999.000,9,-999.000,9,  -999.0,9,  -999.0,9,  -999.0,9,   20.00,-999.0000,9,    25.00,-999.000,9, -999.00,-999.000,9,-999.000,9, -999.00,9,  -999.0,9,  -999.0,-999.000,9,-999.000,-999.000,9, -999.00,9, 3749.50,-999.0000,9,-999.0000,9,-999.0000,9,-999.0000,9,-999.0000,9,-999.0000,9,   2.0016,     -999.0,-999.000,      0.928,          2,      0.227,          2,   0.008,          2