BOTTLE,20220818CCHSIOAMB
EXPOCODE,SECT_ID,STNNBR,CASTNO,SAMPNO,BTLNBR,BTLNBR_FLAG_W,DATE,TIME,LATITUDE,LONGITUDE,DEPTH,CTDPRS,CTDTMP,CTDSAL,CTDSAL_FLAG_W,SALNTY,SALNTY_FLAG_W,CTDOXY,CTDOXY_FLAG_W,OXYGEN,OXYGEN_FLAG_W,SILCAT,SILCAT_FLAG_W,NITRAT,NITRAT_FLAG_W,NITRIT,NITRIT_FLAG_W,PHSPHT,PHSPHT_FLAG_W,CFC-11,CFC-11_FLAG_W,CFC-12,CFC-12_FLAG_W,CFC113,CFC113_FLAG_W,TCARBN,TCARBN_FLAG_W,ALKALI,ALKALI_FLAG_W,PCO2,PCO2_FLAG_W,PCO2TMP,PH_SWS,PH_SWS_FLAG_W,PH_TMP,TRITUM,TRITUM_FLAG_W,TRITER,HELIUM,HELIUM_FLAG_W,DELHE3,DELHE3_FLAG_W,DELC13,DELC13_FLAG_W,DELC14,DELC14_FLAG_W,C14ERR,NEON,NEON_FLAG_W,NEONER,CCL4,CCL4_FLAG_W,DOC,DOC_FLAG_W,CTDRAW,CDOM325,CDOM325_FLAG_W,CDOM340,CDOM340_FLAG_W,CDOM380,CDOM380_FLAG_W,CDOM412,CDOM412_FLAG_W,CDOMSL,CDOMSL_FLAG_W,CDOMSN,CDOMSN_FLAG_W,THETA,HELIER,DELHER,CH3CL,CH3CL_FLAG_W,CH3BR,CH3BR_FLAG_W,CH3I,CH3I_FLAG_W
,,,,,,,,,,,METERS,DBAR,ITS-90,PSS-78,,PSS-78,,UMOL/KG,,UMOL/KG,,UMOL/KG,,UMOL/KG,,UMOL/KG,,UMOL/KG,,PMOL/KG,,PMOL/KG,,PMOL/KG,,UMOL/KG,,UMOL/KG,,UATM,,DEG C,,,DEG C,TU,,TU,NMOL/KG,,PERCNT,,/MILLE,,/MILLE,,/MILLE,NMOL/KG,,NMOL/KG,PMOL/KG,,UMOL/KG,,DBAR,1/M,,1/M,,1/M,,1/M,,1/NM,,1/NM,,DEG C,NMOL/KG,PERCNT,PMOL/KG,,PMOL/KG,,PMOL/KG,
 33RO200501,       A16S,     107,          1,          7,          7,2,20050217,       1309,    -8.9998,   -25.0002,       5441,  3849.6,   2.2418,  34.8807,2,  34.8810,2,    251.1,2,   251.7,2,   46.23,2,   21.60,2,    0.00,2,    1.40,2,   0.028,2,   0.012,2,   0.003,2,  2192.5,2,  2333.9,2,  -999.0,9,   20.00,   7.7219,2,    25.00,-999.000,9, -999.00,-999.000,9,-999.000,9, -999.00,9,  -999.0,9,  -999.0,-999.000,9,-999.000,   0.125,4,   40.08,2, 3849.60,   0.1700,3,   0.1260,3,   0.0710,3,   0.0490,3,   0.0135,3,   0.0146,3,   1.9178,     -999.0,-999.000,     -999.0,          9,     -999.0,          9,-999.000,          9
 33RO200501,       A16S,     107,          1,          6,          6,2,20050217,       1309,    -8.9998,   -25.0002,       5441,  4150.4,   1.6614,  34.8164,2,  34.8167,2,    238.0,2,   239.2,2,   72.32,2,   25.31,2,    0.00,2,    1.67,2,   0.013,2,   0.007,2,   0.000,2,  2210.7,2,  2349.8,2,  -999.0,9,   20.00,   7.6881,2,    25.00,-999.000,9, -999.00,-999.000,9,-999.000,9, -999.00,9,  -999.0,9,  -999.0,-999.000,9,-999.000,   0.061,4, -999.00,9, 4150.40,-999.0000,9,-999.0000,9,-999.0000,9,-999.0000,9,-999.0000,9,-999.0000,9,   1.3204,     -999.0,-999.000,     -999.0,          9,     -999.0,          9,-999.000,          9
 33RO200501,       A16S,     107,          1,          5,          5,2,20050217,       1309,    -8.9998,   -25.0002,       5441,  4451.1,   1.0705,  34.7542,2,  34.7533,2,    228.9,2,   229.0,2,   96.96,2,   28.64,2,    0.00,2,    1.92,2,-999.000,9,-999.000,9,-999.000,9,  2236.6,2,  2353.0,2,  -999.0,9,   20.00,   7.6560,2,    25.00,-999.000,9, -999.00,-999.000,9,-999.000,9, -999.00,9,  -999.0,9,  -999.0,-999.000,9,-999.000,-999.000,9,   39.72,2, 4451.10,-999.0000,9,-999.0000,9,-999.0000,9,-999.0000,9,-999.0000,9,-999.0000,9,   0.7140,     -999.0,-999.000,     -999.0,          9,     -999.0,          9,-999.000,          9
 33RO200501,       A16S,     107,          1,          4,          4,2,20050217,       1309,    -8.9998,   -25.0002,       5441,  4748.4,   0.8994,  34.7339,2,  34.7323,3,    225.9,2,   226.3,2,  104.68,6,   29.71,6,    0.00,6,    1.99,6,   0.010,2,   0.009,2,   0.000,2,  2245.7,2,  2367.0,2,  -999.0,9,   20.00,   7.6416,2,    25.00,-999.000,9, -999.00,-999.000,9,-999.000,9, -999.00,9,  -999.0,9,  -999.0,-999.000,9,-999.000,   0.054,4, -999.00,9, 4748.40,   0.1610,3,   0.1170,3,   0.0600,3,   0.0390,3,   0.0158,3,   0.0171,3,   0.5146,     -999.0,-999.000,     -999.0,          9,     -999.0,          9,-999.000,          9
 33RO200501,       A16S,     107,          1,          3,          3,2,20050217,       1309,    -8.9998,   -25.0002,       5441,  5100.5,   0.7880,  34.7180,2,  34.7189,2,    223.7,2,   223.6,2,  110.64,6,   30.50,6,    0.00,6,    2.05,6,-999.000,9,-999.000,9,-999.000,9,  2258.6,2,  2356.0,2,  -999.0,9,   20.00,   7.6308,2,    25.00,-999.000,9, -999.00,-999.000,9,-999.000,9, -999.00,9,  -999.0,9,  -999.0,-999.000,9,-999.000,-999.000,9,   39.70,2, 5100.50,-999.0000,9,-999.0000,9,-999.0000,9,-999.0000,9,-999.0000,9,-999.0000,9,   0.3658,     -999.0,-999.000,     -999.0,          9,     -999.0,          9,-999.000,          9
 33RO200501,       A16S,     107,          1,          2,          2,2,20050217,       1309,    -8.9998,   -25.0002,       5441,  5449.6,   0.7592,  34.7102,2,  34.7103,2,    223.0,2,   222.2,2,  113.48,6,   30.89,6,    0.00,6,    2.07,6,   0.031,2,   0.013,2,   0.001,2,  2249.6,3,  2361.3,6,  -999.0,9,   20.00,   7.6275,6,    25.00,-999.000,9, -999.00,-999.000,9,-999.000,9, -999.00,9,  -999.0,9,  -999.0,-999.000,9,-999.000,   0.088,4, -999.00,9, 5449.60,-999.0000,9,-999.0000,9,-999.0000,9,-999.0000,9,-999.0000,9,-999.0000,9,   0.2958,     -999.0,-999.000,     -999.0,          9,     -999.0,          9,-999.000,          9
 33RO200501,       A16S,     107,          1,          1,          1,2,20050217,       1309,    -8.9998,   -25.0002,       5441,  5769.5,   0.7637,  34.7059,2,  34.7101,3,    222.6,2,   221.7,2,  114.85,6,   31.08,6,    0.00,6,    2.09,6,   0.043,2,   0.014,2,   0.000,2,  2255.9,2,  2355.0,2,  -999.0,9,   20.00,   7.6231,2,    25.00,-999.000,9, -999.00,-999.000,9,-999.000,9, -999.00,9,  -999.0,9,  -999.0,-999.000,9,-999.000,   0.107,4,   38.56,2, 5769.50,   0.1300,3,   0.0900,3,   0.0460,3,   0.0320,3,   0.0160,3,   0.0181,3,   0.2602,     -999.0,-999.000,     -999.0,          9,     -999.0,          9,-999.000,          9