BOTTLE,20220818CCHSIOAMB
EXPOCODE,SECT_ID,STNNBR,CASTNO,SAMPNO,BTLNBR,BTLNBR_FLAG_W,DATE,TIME,LATITUDE,LONGITUDE,DEPTH,CTDPRS,CTDTMP,CTDSAL,CTDSAL_FLAG_W,SALNTY,SALNTY_FLAG_W,CTDOXY,CTDOXY_FLAG_W,OXYGEN,OXYGEN_FLAG_W,SILCAT,SILCAT_FLAG_W,NITRAT,NITRAT_FLAG_W,NITRIT,NITRIT_FLAG_W,PHSPHT,PHSPHT_FLAG_W,CFC-11,CFC-11_FLAG_W,CFC-12,CFC-12_FLAG_W,CFC113,CFC113_FLAG_W,TCARBN,TCARBN_FLAG_W,ALKALI,ALKALI_FLAG_W,PCO2,PCO2_FLAG_W,PCO2TMP,PH_SWS,PH_SWS_FLAG_W,PH_TMP,TRITUM,TRITUM_FLAG_W,TRITER,HELIUM,HELIUM_FLAG_W,DELHE3,DELHE3_FLAG_W,DELC13,DELC13_FLAG_W,DELC14,DELC14_FLAG_W,C14ERR,NEON,NEON_FLAG_W,NEONER,CCL4,CCL4_FLAG_W,DOC,DOC_FLAG_W,CTDRAW,CDOM325,CDOM325_FLAG_W,CDOM340,CDOM340_FLAG_W,CDOM380,CDOM380_FLAG_W,CDOM412,CDOM412_FLAG_W,CDOMSL,CDOMSL_FLAG_W,CDOMSN,CDOMSN_FLAG_W,THETA,HELIER,DELHER,CH3CL,CH3CL_FLAG_W,CH3BR,CH3BR_FLAG_W,CH3I,CH3I_FLAG_W
,,,,,,,,,,,METERS,DBAR,ITS-90,PSS-78,,PSS-78,,UMOL/KG,,UMOL/KG,,UMOL/KG,,UMOL/KG,,UMOL/KG,,UMOL/KG,,PMOL/KG,,PMOL/KG,,PMOL/KG,,UMOL/KG,,UMOL/KG,,UATM,,DEG C,,,DEG C,TU,,TU,NMOL/KG,,PERCNT,,/MILLE,,/MILLE,,/MILLE,NMOL/KG,,NMOL/KG,PMOL/KG,,UMOL/KG,,DBAR,1/M,,1/M,,1/M,,1/M,,1/NM,,1/NM,,DEG C,NMOL/KG,PERCNT,PMOL/KG,,PMOL/KG,,PMOL/KG,
 33RO200501,       A16S,      79,          1,         36,         36,2,20050209,       0109,   -23.0000,   -25.0002,       5148,     2.5,  25.7911,  36.7577,2,  36.7570,2,    205.5,2,   204.9,2,    2.92,2,    0.05,2,    0.00,2,    0.09,2,   1.717,6,   1.116,6,   0.137,6,  2085.6,6,  2409.4,2,  -999.0,9,   20.00,   8.0499,2,    25.00,-999.000,9, -999.00,-999.000,9,-999.000,9,    1.55,2,    70.0,2,     3.6,-999.000,9,-999.000,   1.466,4,   66.99,2,    2.50,-999.0000,9,-999.0000,9,-999.0000,9,-999.0000,9,-999.0000,9,-999.0000,9,  25.7905,     -999.0,-999.000,     -999.0,          9,     -999.0,          9,-999.000,          9
 33RO200501,       A16S,      79,          1,         35,         35,2,20050209,       0109,   -23.0000,   -25.0002,       5148,    23.7,  25.7985,  36.7625,2,  36.7611,2,    205.8,2,   206.1,2,    2.90,2,    0.03,2,    0.00,2,    0.10,2,   1.734,2,   1.110,2,   0.133,2,  2085.6,2,  2406.6,6,  -999.0,9,   20.00,   8.0500,6,    25.00,-999.000,9, -999.00,-999.000,9,-999.000,9, -999.00,9,  -999.0,9,  -999.0,-999.000,9,-999.000,   1.464,4,   67.35,2,   23.70,-999.0000,9,-999.0000,9,-999.0000,9,-999.0000,9,-999.0000,9,-999.0000,9,  25.7932,     -999.0,-999.000,     -999.0,          9,     -999.0,          9,-999.000,          9
 33RO200501,       A16S,      79,          1,         34,         34,9,20050209,       0109,   -23.0000,   -25.0002,       5148,    55.0,  22.3030,  36.4926,2,-999.0000,9,   -999.0,9,  -999.0,9, -999.00,9, -999.00,9, -999.00,9, -999.00,9,-999.000,9,-999.000,9,-999.000,9,  -999.0,9,  -999.0,9,  -999.0,9,   20.00,-999.0000,9,    25.00,-999.000,9, -999.00,-999.000,9,-999.000,9, -999.00,9,  -999.0,9,  -999.0,-999.000,9,-999.000,-999.000,9, -999.00,9,   55.00,-999.0000,9,-999.0000,9,-999.0000,9,-999.0000,9,-999.0000,9,-999.0000,9,  22.2920,     -999.0,-999.000,     -999.0,          9,     -999.0,          9,-999.000,          9
 33RO200501,       A16S,      79,          1,         33,         33,2,20050209,       0109,   -23.0000,   -25.0002,       5148,    84.5,  21.4357,  36.4615,2,  36.4636,2,    231.2,2,   229.8,2,    2.61,2,    0.00,2,    0.00,2,    0.13,2,-999.000,9,-999.000,9,-999.000,9,  2079.7,2,  2385.2,2,  -999.0,9,   20.00,   8.0371,2,    25.00,-999.000,9, -999.00,-999.000,9,-999.000,9,    1.55,2,    59.6,2,     3.2,-999.000,9,-999.000,-999.000,9,   64.67,2,   84.50,-999.0000,9,-999.0000,9,-999.0000,9,-999.0000,9,-999.0000,9,-999.0000,9,  21.4192,     -999.0,-999.000,     -999.0,          9,     -999.0,          9,-999.000,          9
 33RO200501,       A16S,      79,          1,         32,         32,2,20050209,       0109,   -23.0000,   -25.0002,       5148,   114.5,  20.7977,  36.4165,2,  36.4152,2,    223.9,2,   224.8,2,    2.55,2,    0.01,2,    0.00,2,    0.13,2,   2.131,2,   1.346,2,   0.170,2,  2082.7,2,  2383.2,2,  -999.0,9,   20.00,   8.0230,2,    25.00,   0.646,2,    0.02,   1.739,2,  -1.900,2,    1.49,2,    62.7,2,     3.9,   7.044,2,   0.010,   1.332,4,   58.38,2,  114.50,-999.0000,9,-999.0000,9,-999.0000,9,-999.0000,9,-999.0000,9,-999.0000,9,  20.7758,      0.000,   0.212,     -999.0,          9,     -999.0,          9,-999.000,          9
 33RO200501,       A16S,      79,          1,         31,         31,2,20050209,       0109,   -23.0000,   -25.0002,       5148,   164.1,  18.6061,  36.0302,2,  36.0266,2,    218.4,2,   217.8,2,    2.86,2,    0.29,2,    0.08,2,    0.22,2,   2.352,2,   1.439,2,   0.165,2,  2088.5,2,  2358.2,2,  -999.0,9,   20.00,   7.9789,2,    25.00,-999.000,9, -999.00,-999.000,9,-999.000,9,    1.20,2,    44.9,2,     3.5,-999.000,9,-999.000,   1.026,4, -999.00,9,  164.10,-999.0000,9,-999.0000,9,-999.0000,9,-999.0000,9,-999.0000,9,-999.0000,9,  18.5771,     -999.0,-999.000,     -999.0,          9,     -999.0,          9,-999.000,          9
 33RO200501,       A16S,      79,          1,         30,         30,2,20050209,       0109,   -23.0000,   -25.0002,       5148,   214.2,  16.5687,  35.6821,2,  35.6812,2,    212.6,2,   213.5,2,    3.25,2,    2.96,2,    0.01,2,    0.37,2,   2.560,2,   1.545,2,   0.084,2,  2096.3,2,  2337.9,2,  -999.0,9,   20.00,   7.9369,2,    25.00,-999.000,9, -999.00,   1.751,2,  -1.586,2,    1.05,2,    58.5,2,     3.0,   7.212,2,   0.012,   0.689,4,   54.49,2,  214.20,-999.0000,9,-999.0000,9,-999.0000,9,-999.0000,9,-999.0000,9,-999.0000,9,  16.5338,      0.001,   0.210,     -999.0,          9,     -999.0,          9,-999.000,          9
 33RO200501,       A16S,      79,          1,         29,         29,2,20050209,       0109,   -23.0000,   -25.0002,       5148,   265.1,  15.4101,  35.5146,2,  35.5131,2,    211.2,2,   211.5,2,    3.70,2,    5.22,2,    0.01,2,    0.49,2,-999.000,9,-999.000,9,-999.000,9,  2099.0,2,  2321.1,2,  -999.0,9,   20.00,   7.9113,2,    25.00,-999.000,9, -999.00,-999.000,9,-999.000,9,    1.07,2,    64.9,2,     3.0,-999.000,9,-999.000,-999.000,9, -999.00,9,  265.10,-999.0000,9,-999.0000,9,-999.0000,9,-999.0000,9,-999.0000,9,-999.0000,9,  15.3690,     -999.0,-999.000,     -999.0,          9,     -999.0,          9,-999.000,          9
 33RO200501,       A16S,      79,          1,         28,         28,2,20050209,       0109,   -23.0000,   -25.0002,       5148,   315.2,  14.1456,  35.3360,2,  35.3337,2,    209.4,2,   210.4,2,    4.23,2,    7.65,2,    0.00,2,    0.62,2,   2.849,2,   1.661,2,   0.038,2,  2109.0,2,  2325.2,3,  -999.0,9,   20.00,   7.8772,2,    25.00,-999.000,9, -999.00,-999.000,9,-999.000,9,    1.05,2,    61.6,2,     4.1,-999.000,9,-999.000,   0.589,4,   51.14,2,  315.20,-999.0000,9,-999.0000,9,-999.0000,9,-999.0000,9,-999.0000,9,-999.0000,9,  14.0994,     -999.0,-999.000,     -999.0,          9,     -999.0,          9,-999.000,          9
 33RO200501,       A16S,      79,          1,         27,         27,2,20050209,       0109,   -23.0000,   -25.0002,       5148,   365.1,  13.0003,  35.1762,2,  35.1733,2,    206.0,2,   207.2,2,    4.98,2,   10.22,2,    0.00,2,    0.77,2,   2.928,2,   1.676,2,   0.045,2,  2123.0,2,  2312.1,3,  -999.0,9,   20.00,   7.8456,2,    25.00,   0.437,2,    0.01,   1.764,2,  -0.930,2,    1.11,2,    62.3,2,     3.5,   7.409,2,   0.009,   0.683,4,   48.70,2,  365.10,-999.0000,9,-999.0000,9,-999.0000,9,-999.0000,9,-999.0000,9,-999.0000,9,  12.9496,      0.000,   0.219,     -999.0,          9,     -999.0,          9,-999.000,          9
 33RO200501,       A16S,      79,          1,         26,         26,2,20050209,       0109,   -23.0000,   -25.0002,       5148,   414.9,  11.7776,  35.0198,2,  35.0183,2,    203.2,2,   204.0,2,    6.16,2,   13.31,2,    0.00,2,    0.96,2,-999.000,9,-999.000,9,-999.000,9,  2140.9,4,  2302.4,2,  -999.0,9,   20.00,   7.8067,2,    25.00,-999.000,9, -999.00,-999.000,9,-999.000,9, -999.00,9,  -999.0,9,  -999.0,-999.000,9,-999.000,-999.000,9, -999.00,9,  414.90,-999.0000,9,-999.0000,9,-999.0000,9,-999.0000,9,-999.0000,9,-999.0000,9,  11.7237,     -999.0,-999.000,     -999.0,          9,     -999.0,          9,-999.000,          9
 33RO200501,       A16S,      79,          1,         25,         25,2,20050209,       0109,   -23.0000,   -25.0002,       5148,   465.1,  10.6431,  34.8813,2,  34.8850,2,    200.8,2,   198.3,2,    8.01,2,   16.56,2,    0.00,2,    1.15,2,   2.841,2,   1.544,2,   0.071,2,  2138.9,2,  2292.4,2,  -999.0,9,   20.00,   7.7689,2,    25.00,-999.000,9, -999.00,-999.000,9,-999.000,9,    1.12,2,    43.0,2,     3.5,-999.000,9,-999.000,   0.963,4,   45.52,2,  465.10,-999.0000,9,-999.0000,9,-999.0000,9,-999.0000,9,-999.0000,9,-999.0000,9,  10.5863,     -999.0,-999.000,     -999.0,          9,     -999.0,          9,-999.000,          9
 33RO200501,       A16S,      79,          1,         24,         24,2,20050209,       0109,   -23.0000,   -25.0002,       5148,   549.9,   8.9346,  34.6886,2,  34.6815,2,    193.0,2,   191.2,2,   11.85,2,   21.28,2,    0.00,2,    1.44,2,   2.606,2,   1.395,2,   0.088,2,  2154.3,2,  2285.3,2,  -999.0,9,   20.00,   7.7107,2,    25.00,   0.370,2,    0.01,   1.785,2,   0.400,2, -999.00,9,  -999.0,9,  -999.0,   7.623,2,   0.013,   1.194,4,   44.50,2,  549.90,-999.0000,9,-999.0000,9,-999.0000,9,-999.0000,9,-999.0000,9,-999.0000,9,   8.8741,      0.001,   0.228,     -999.0,          9,     -999.0,          9,-999.000,          9
 33RO200501,       A16S,      79,          1,         23,         23,2,20050209,       0109,   -23.0000,   -25.0002,       5148,   649.9,   7.1053,  34.5112,2,  34.5043,2,    191.9,2,   193.9,2,   16.57,2,   25.37,2,    0.00,2,    1.70,2,   2.425,2,   1.255,2,   0.101,2,  2173.5,2,  2281.2,2,  -999.0,9,   20.00,   7.6583,2,    25.00,-999.000,9, -999.00,-999.000,9,-999.000,9,    1.02,2,   -13.3,2,     3.3,-999.000,9,-999.000,   1.563,4,   43.37,2,  649.90,-999.0000,9,-999.0000,9,-999.0000,9,-999.0000,9,-999.0000,9,-999.0000,9,   7.0424,     -999.0,-999.000,     -999.0,          9,     -999.0,          9,-999.000,          9
 33RO200501,       A16S,      79,          1,         22,         22,2,20050209,       0109,   -23.0000,   -25.0002,       5148,   749.9,   5.7110,  34.4132,2,  34.4111,2,    192.6,2,   193.2,2,   21.87,2,   28.54,2,    0.00,2,    1.91,2,   1.933,2,   0.960,2,   0.083,2,  2186.7,2,  2282.5,2,  -999.0,9,   20.00,   7.6286,2,    25.00,   0.174,2,    0.01,   1.817,2,   1.110,2, -999.00,9,  -999.0,9,  -999.0,   7.855,2,   0.013,   1.617,4,   41.95,2,  749.90,-999.0000,9,-999.0000,9,-999.0000,9,-999.0000,9,-999.0000,9,-999.0000,9,   5.6459,      0.001,   0.224,     -999.0,          9,     -999.0,          9,-999.000,          9
 33RO200501,       A16S,      79,          1,         21,         21,2,20050209,       0109,   -23.0000,   -25.0002,       5148,   849.2,   4.5682,  34.3718,2,  34.3728,2,    195.6,2,   193.9,2,   30.14,2,   30.64,2,    0.00,2,    2.05,2,-999.000,9,-999.000,9,-999.000,9,  2191.4,2,  2286.3,2,  -999.0,9,   20.00,   7.6103,2,    25.00,-999.000,9, -999.00,-999.000,9,-999.000,9,    1.00,2,   -68.4,2,     3.0,-999.000,9,-999.000,-999.000,9,   41.28,2,  849.20,-999.0000,9,-999.0000,9,-999.0000,9,-999.0000,9,-999.0000,9,-999.0000,9,   4.5013,     -999.0,-999.000,     -999.0,          9,     -999.0,          9,-999.000,          9
 33RO200501,       A16S,      79,          1,         20,         20,2,20050209,       0109,   -23.0000,   -25.0002,       5148,   947.2,   4.0293,  34.3932,2,  34.3912,2,    189.5,2,   189.9,2,   37.69,6,   31.62,6,    0.00,6,    2.14,6,   1.038,2,   0.511,2,   0.049,2,  2211.1,2,  2299.2,2,  -999.0,9,   20.00,   7.5959,2,    25.00,   0.022,2,    0.00,-999.000,9,-999.000,9,    0.94,2,   -79.0,2,     2.8,-999.000,9,-999.000,   1.200,4,   40.52,2,  947.20,-999.0000,9,-999.0000,9,-999.0000,9,-999.0000,9,-999.0000,9,-999.0000,9,   3.9580,     -999.0,-999.000,     -999.0,          9,     -999.0,          9,-999.000,          9
 33RO200501,       A16S,      79,          1,         19,         19,2,20050209,       0109,   -23.0000,   -25.0002,       5148,  1048.7,   3.5885,  34.4493,2,  34.4476,2,    185.1,2,   185.8,2,   44.75,2,   31.99,2,    0.00,2,    2.17,2,   0.633,2,   0.313,2,   0.029,2,  2216.2,6,  2307.3,2,  -999.0,9,   20.00,   7.5915,6,    25.00,-999.000,9, -999.00,-999.000,9,-999.000,9,    0.87,2,  -111.9,2,     2.5,-999.000,9,-999.000,   0.812,4,   39.96,2, 1048.70,-999.0000,9,-999.0000,9,-999.0000,9,-999.0000,9,-999.0000,9,-999.0000,9,   3.5122,     -999.0,-999.000,     -999.0,          9,     -999.0,          9,-999.000,          9
 33RO200501,       A16S,      79,          1,         18,         18,2,20050209,       0109,   -23.0000,   -25.0002,       5148,  1147.9,   3.3910,  34.5297,2,  34.5326,2,    185.0,2,   184.2,2,   47.62,2,   31.38,2,    0.00,2,    2.13,2,   0.255,2,   0.129,2,   0.009,2,  2225.3,2,  2310.1,6,  -999.0,9,   20.00,   7.5965,2,    25.00,   0.020,2,    0.00,-999.000,9,-999.000,9,    0.83,2,  -127.3,2,     2.5,-999.000,9,-999.000,   0.419,4,   38.97,2, 1147.90,-999.0000,9,-999.0000,9,-999.0000,9,-999.0000,9,-999.0000,9,-999.0000,9,   3.3082,     -999.0,-999.000,     -999.0,          9,     -999.0,          9,-999.000,          9
 33RO200501,       A16S,      79,          1,         17,         17,2,20050209,       0109,   -23.0000,   -25.0002,       5148,  1249.3,   3.3788,  34.6253,2,  34.6257,2,    187.4,2,   188.2,2,   45.50,2,   29.85,2,    0.00,2,    2.02,2,   0.057,2,   0.034,2,   0.004,2,  2215.2,4,  2315.4,2,  -999.0,9,   20.00,   7.6111,2,    25.00,-999.000,9, -999.00,-999.000,9,-999.000,9,    0.86,2,  -128.0,2,     2.5,-999.000,9,-999.000,   0.168,4,   39.31,2, 1249.30,-999.0000,9,-999.0000,9,-999.0000,9,-999.0000,9,-999.0000,9,-999.0000,9,   3.2877,     -999.0,-999.000,     -999.0,          9,     -999.0,          9,-999.000,          9
 33RO200501,       A16S,      79,          1,         16,         16,2,20050209,       0109,   -23.0000,   -25.0002,       5148,  1399.3,   3.3698,  34.7179,2,  34.7171,2,    197.6,2,   197.2,2,   44.00,6,   27.98,6,    0.00,6,    1.89,6,   0.021,2,   0.009,2,   0.004,2,  2214.8,2,  2320.1,2,  -999.0,9,   20.00,   7.6364,2,    25.00,   0.001,2,    0.00,   1.848,2,   3.970,2,    0.87,2,  -128.2,2,     3.0,   8.066,2,   0.009,   0.101,4,   39.62,2, 1399.30,-999.0000,9,-999.0000,9,-999.0000,9,-999.0000,9,-999.0000,9,-999.0000,9,   3.2660,      0.001,   0.232,     -999.0,          9,     -999.0,          9,-999.000,          9
 33RO200501,       A16S,      79,          1,         15,         15,2,20050209,       0109,   -23.0000,   -25.0002,       5148,  1598.4,   3.2884,  34.8299,2,  34.8307,2,    215.5,2,   217.7,2,   38.74,2,   24.60,2,    0.00,2,    1.64,2,   0.028,2,   0.019,2,   0.000,2,  2197.5,2,  2317.3,2,  -999.0,9,   20.00,   7.6737,2,    25.00,-999.000,9, -999.00,-999.000,9,-999.000,9, -999.00,9,  -999.0,9,  -999.0,-999.000,9,-999.000,   0.116,4,   39.08,2, 1598.40,-999.0000,9,-999.0000,9,-999.0000,9,-999.0000,9,-999.0000,9,-999.0000,9,   3.1681,     -999.0,-999.000,     -999.0,          9,     -999.0,          9,-999.000,          9
 33RO200501,       A16S,      79,          1,         14,         14,2,20050209,       0109,   -23.0000,   -25.0002,       5148,  1799.8,   3.3282,  34.9054,2,  34.9051,2,    236.0,2,   235.9,2,   30.94,2,   21.84,2,    0.00,2,    1.44,2,   0.036,2,   0.018,2,   0.000,2,  2181.0,2,  2313.3,2,  -999.0,9,   20.00,   7.7077,2,    25.00,-999.000,9, -999.00,   1.835,2,   2.590,2, -999.00,9,  -999.0,9,  -999.0,   8.038,2,   0.010,   0.155,4,   39.30,2, 1799.80,-999.0000,9,-999.0000,9,-999.0000,9,-999.0000,9,-999.0000,9,-999.0000,9,   3.1893,      0.001,   0.219,     -999.0,          9,     -999.0,          9,-999.000,          9
 33RO200501,       A16S,      79,          1,         13,         13,2,20050209,       0109,   -23.0000,   -25.0002,       5148,  1998.3,   3.2674,  34.9379,2,  34.9372,2,    246.4,2,   246.3,2,   27.16,2,   20.35,2,    0.00,2,    1.33,2,   0.040,2,   0.023,2,   0.000,2,  2172.6,2,  2313.6,2,  -999.0,9,   20.00,   7.7270,2,    25.00,-999.000,9, -999.00,-999.000,9,-999.000,9, -999.00,9,  -999.0,9,  -999.0,-999.000,9,-999.000,   0.164,4,   39.82,2, 1998.30,-999.0000,9,-999.0000,9,-999.0000,9,-999.0000,9,-999.0000,9,-999.0000,9,   3.1110,     -999.0,-999.000,     -999.0,          9,     -999.0,          9,-999.000,          9
 33RO200501,       A16S,      79,          1,         12,         12,2,20050209,       0109,   -23.0000,   -25.0002,       5148,  2199.3,   3.1556,  34.9407,2,  34.9403,2,    249.7,2,   248.9,2,   27.54,2,   20.12,2,    0.00,2,    1.32,2,   0.032,2,   0.021,2,   0.000,2,  2175.1,2,  2315.0,2,  -999.0,9,   20.00,   7.7181,2,    25.00,   0.039,2,    0.00,   1.856,2,   2.440,2, -999.00,9,  -999.0,9,  -999.0,   8.147,2,   0.011,   0.142,4,   39.62,2, 2199.30,-999.0000,9,-999.0000,9,-999.0000,9,-999.0000,9,-999.0000,9,-999.0000,9,   2.9820,      0.001,   0.208,     -999.0,          9,     -999.0,          9,-999.000,          9
 33RO200501,       A16S,      79,          1,         11,         11,2,20050209,       0109,   -23.0000,   -25.0002,       5148,  2400.1,   3.0276,  34.9365,2,  34.9366,2,    250.4,2,   249.9,2,   29.17,2,   20.14,2,    0.00,2,    1.32,2,   0.024,2,   0.016,2,   0.000,2,  2181.7,4,  2317.9,2,  -999.0,9,   20.00,   7.7340,2,    25.00,   0.007,2,    0.00,   1.851,2,   2.340,2, -999.00,9,  -999.0,9,  -999.0,   8.119,2,   0.011,   0.120,4,   39.84,2, 2400.10,-999.0000,9,-999.0000,9,-999.0000,9,-999.0000,9,-999.0000,9,-999.0000,9,   2.8369,      0.001,   0.212,     -999.0,          9,     -999.0,          9,-999.000,          9
 33RO200501,       A16S,      79,          1,         10,         10,2,20050209,       0109,   -23.0000,   -25.0002,       5148,  2599.2,   2.9123,  34.9299,2,  34.9295,2,    249.9,2,   249.8,2,   31.27,2,   20.32,2,    0.00,2,    1.34,2,   0.019,2,   0.014,2,   0.000,2,  2175.6,2,  1961.8,3,  -999.0,9,   20.00,   7.7279,2,    25.00,   0.001,2,    0.00,-999.000,9,-999.000,9, -999.00,9,  -999.0,9,  -999.0,-999.000,9,-999.000,   0.101,4,   39.21,2, 2599.20,-999.0000,9,-999.0000,9,-999.0000,9,-999.0000,9,-999.0000,9,-999.0000,9,   2.7043,     -999.0,-999.000,     -999.0,          9,     -999.0,          9,-999.000,          9
 33RO200501,       A16S,      79,          1,          9,          9,2,20050209,       0109,   -23.0000,   -25.0002,       5148,  2798.3,   2.8251,  34.9246,2,  34.9240,2,    250.0,2,   250.1,2,   32.79,2,   20.45,2,    0.00,2,    1.35,2,-999.000,9,-999.000,9,-999.000,9,  2176.2,2,  2323.6,2,  -999.0,9,   20.00,   7.7324,2,    25.00,-999.000,9, -999.00,-999.000,9,-999.000,9, -999.00,9,  -999.0,9,  -999.0,-999.000,9,-999.000,-999.000,9,   39.01,2, 2798.30,-999.0000,9,-999.0000,9,-999.0000,9,-999.0000,9,-999.0000,9,-999.0000,9,   2.5988,     -999.0,-999.000,     -999.0,          9,     -999.0,          9,-999.000,          9
 33RO200501,       A16S,      79,          1,          8,          8,2,20050209,       0109,   -23.0000,   -25.0002,       5148,  3049.0,   2.7093,  34.9188,2,  34.9181,2,    250.8,2,   251.3,2,   34.25,2,   20.47,2,    0.00,2,    1.35,2,   0.016,2,   0.015,2,   0.000,2,  2177.4,2,  2324.2,2,  -999.0,9,   20.00,   7.7335,2,    25.00,-999.000,9, -999.00,-999.000,9,-999.000,9, -999.00,9,  -999.0,9,  -999.0,-999.000,9,-999.000,   0.098,4,   39.27,2, 3049.00,-999.0000,9,-999.0000,9,-999.0000,9,-999.0000,9,-999.0000,9,-999.0000,9,   2.4598,     -999.0,-999.000,     -999.0,          9,     -999.0,          9,-999.000,          9