BOTTLE,20220818CCHSIOAMB
EXPOCODE,SECT_ID,STNNBR,CASTNO,SAMPNO,BTLNBR,BTLNBR_FLAG_W,DATE,TIME,LATITUDE,LONGITUDE,DEPTH,CTDPRS,CTDTMP,CTDSAL,CTDSAL_FLAG_W,SALNTY,SALNTY_FLAG_W,CTDOXY,CTDOXY_FLAG_W,OXYGEN,OXYGEN_FLAG_W,SILCAT,SILCAT_FLAG_W,NITRAT,NITRAT_FLAG_W,NITRIT,NITRIT_FLAG_W,PHSPHT,PHSPHT_FLAG_W,CFC-11,CFC-11_FLAG_W,CFC-12,CFC-12_FLAG_W,CFC113,CFC113_FLAG_W,TCARBN,TCARBN_FLAG_W,ALKALI,ALKALI_FLAG_W,PCO2,PCO2_FLAG_W,PCO2TMP,PH_SWS,PH_SWS_FLAG_W,PH_TMP,TRITUM,TRITUM_FLAG_W,TRITER,HELIUM,HELIUM_FLAG_W,DELHE3,DELHE3_FLAG_W,DELC13,DELC13_FLAG_W,DELC14,DELC14_FLAG_W,C14ERR,NEON,NEON_FLAG_W,NEONER,CCL4,CCL4_FLAG_W,DOC,DOC_FLAG_W,CTDRAW,CDOM325,CDOM325_FLAG_W,CDOM340,CDOM340_FLAG_W,CDOM380,CDOM380_FLAG_W,CDOM412,CDOM412_FLAG_W,CDOMSL,CDOMSL_FLAG_W,CDOMSN,CDOMSN_FLAG_W,THETA,HELIER,DELHER,CH3CL,CH3CL_FLAG_W,CH3BR,CH3BR_FLAG_W,CH3I,CH3I_FLAG_W
,,,,,,,,,,,METERS,DBAR,ITS-90,PSS-78,,PSS-78,,UMOL/KG,,UMOL/KG,,UMOL/KG,,UMOL/KG,,UMOL/KG,,UMOL/KG,,PMOL/KG,,PMOL/KG,,PMOL/KG,,UMOL/KG,,UMOL/KG,,UATM,,DEG C,,,DEG C,TU,,TU,NMOL/KG,,PERCNT,,/MILLE,,/MILLE,,/MILLE,NMOL/KG,,NMOL/KG,PMOL/KG,,UMOL/KG,,DBAR,1/M,,1/M,,1/M,,1/M,,1/NM,,1/NM,,DEG C,NMOL/KG,PERCNT,PMOL/KG,,PMOL/KG,,PMOL/KG,
 33RO200501,       A16S,      66,          1,         36,         36,2,20050205,       0130,   -29.4993,   -24.9998,       5080,     2.3,  23.0648,  36.2625,2,  36.2614,2,    215.8,2,   215.7,2,    0.91,2,    0.09,2,    0.00,2,    0.00,2,   1.934,2,   1.239,2,   0.164,2,  2055.3,2,  2366.0,2,  -999.0,9,   20.00,   8.0497,2,    25.00,-999.000,9, -999.00,-999.000,9,-999.000,9, -999.00,9,  -999.0,9,  -999.0,-999.000,9,-999.000,   1.674,4, -999.00,9,    2.30,-999.0000,9,-999.0000,9,-999.0000,9,-999.0000,9,-999.0000,9,-999.0000,9,  23.0643,     -999.0,-999.000,     56.266,          2,      0.989,          2,   4.510,          2
 33RO200501,       A16S,      66,          1,         35,         35,2,20050205,       0130,   -29.4993,   -24.9998,       5080,    23.4,  23.0839,  36.2660,2,  36.2639,2,    215.8,2,   215.8,2,    0.92,2,    0.09,2,    0.00,2,    0.02,2,   1.933,2,   1.241,2,   0.151,2,  -999.0,9,  -999.0,9,  -999.0,9,   20.00,-999.0000,9,    25.00,-999.000,9, -999.00,-999.000,9,-999.000,9, -999.00,9,  -999.0,9,  -999.0,-999.000,9,-999.000,   1.666,4, -999.00,9,   23.40,-999.0000,9,-999.0000,9,-999.0000,9,-999.0000,9,-999.0000,9,-999.0000,9,  23.0791,     -999.0,-999.000,    103.298,          2,      0.916,          2,   6.226,          2
 33RO200501,       A16S,      66,          1,         34,         34,2,20050205,       0130,   -29.4993,   -24.9998,       5080,    49.5,  23.0297,  36.2839,2,  36.2489,2,    216.9,2,   217.8,2,    0.91,2,    0.09,2,    0.00,2,    0.03,2,-999.000,9,-999.000,9,-999.000,9,  -999.0,9,  -999.0,9,  -999.0,9,   20.00,-999.0000,9,    25.00,-999.000,9, -999.00,-999.000,9,-999.000,9, -999.00,9,  -999.0,9,  -999.0,-999.000,9,-999.000,-999.000,9, -999.00,9,   49.50,-999.0000,9,-999.0000,9,-999.0000,9,-999.0000,9,-999.0000,9,-999.0000,9,  23.0195,     -999.0,-999.000,     -999.0,          9,     -999.0,          9,-999.000,          9
 33RO200501,       A16S,      66,          1,         33,         33,2,20050205,       0130,   -29.4993,   -24.9998,       5080,    70.1,  20.0955,  35.9998,2,  36.0014,2,    234.6,2,   234.0,2,    0.95,2,    0.09,2,    0.00,2,    0.05,2,-999.000,9,-999.000,9,-999.000,9,  -999.0,9,  -999.0,9,  -999.0,9,   20.00,-999.0000,9,    25.00,-999.000,9, -999.00,-999.000,9,-999.000,9, -999.00,9,  -999.0,9,  -999.0,-999.000,9,-999.000,-999.000,9, -999.00,9,   70.10,-999.0000,9,-999.0000,9,-999.0000,9,-999.0000,9,-999.0000,9,-999.0000,9,  20.0825,     -999.0,-999.000,     43.965,          2,      0.303,          2,   2.695,          2
 33RO200501,       A16S,      66,          1,         32,         32,2,20050205,       0130,   -29.4993,   -24.9998,       5080,    90.3,  19.2790,  36.0050,2,  36.0024,2,    232.2,2,   232.0,2,    0.91,2,    0.09,2,    0.00,2,    0.07,2,-999.000,9,-999.000,9,-999.000,9,  -999.0,9,  -999.0,9,  -999.0,9,   20.00,-999.0000,9,    25.00,-999.000,9, -999.00,-999.000,9,-999.000,9, -999.00,9,  -999.0,9,  -999.0,-999.000,9,-999.000,-999.000,9, -999.00,9,   90.30,-999.0000,9,-999.0000,9,-999.0000,9,-999.0000,9,-999.0000,9,-999.0000,9,  19.2626,     -999.0,-999.000,     -999.0,          9,     -999.0,          9,-999.000,          9
 33RO200501,       A16S,      66,          1,         31,         31,2,20050205,       0130,   -29.4993,   -24.9998,       5080,   115.3,  18.7284,  35.9422,2,  35.9439,2,    228.9,2,   229.2,2,    0.92,2,    0.10,2,    0.00,2,    0.08,2,   2.333,2,   1.447,2,   0.189,2,  2063.9,2,  2351.6,2,  -999.0,9,   20.00,   8.0091,2,    25.00,-999.000,9, -999.00,-999.000,9,-999.000,9, -999.00,9,  -999.0,9,  -999.0,-999.000,9,-999.000,   1.502,4, -999.00,9,  115.30,-999.0000,9,-999.0000,9,-999.0000,9,-999.0000,9,-999.0000,9,-999.0000,9,  18.7080,     -999.0,-999.000,     57.359,          2,      0.699,          2,   4.599,          2
 33RO200501,       A16S,      66,          1,         30,         30,2,20050205,       0130,   -29.4993,   -24.9998,       5080,   139.4,  17.9932,  35.8318,2,  35.8296,2,    225.0,2,   224.5,2,    1.03,2,    0.14,2,    0.03,2,    0.12,2,-999.000,9,-999.000,9,-999.000,9,  -999.0,9,  -999.0,9,  -999.0,9,   20.00,-999.0000,9,    25.00,-999.000,9, -999.00,-999.000,9,-999.000,9, -999.00,9,  -999.0,9,  -999.0,-999.000,9,-999.000,-999.000,9, -999.00,9,  139.40,-999.0000,9,-999.0000,9,-999.0000,9,-999.0000,9,-999.0000,9,-999.0000,9,  17.9691,     -999.0,-999.000,     -999.0,          9,     -999.0,          9,-999.000,          9
 33RO200501,       A16S,      66,          1,         29,         29,2,20050205,       0130,   -29.4993,   -24.9998,       5080,   163.9,  17.2380,  35.7534,2,  35.7530,2,    213.7,2,   213.4,2,    1.32,2,    0.97,2,    0.04,2,    0.23,2,-999.000,9,-999.000,9,-999.000,9,  -999.0,9,  -999.0,9,  -999.0,9,   20.00,-999.0000,9,    25.00,-999.000,9, -999.00,-999.000,9,-999.000,9, -999.00,9,  -999.0,9,  -999.0,-999.000,9,-999.000,-999.000,9, -999.00,9,  163.90,-999.0000,9,-999.0000,9,-999.0000,9,-999.0000,9,-999.0000,9,-999.0000,9,  17.2106,     -999.0,-999.000,      9.422,          2,      0.130,          2,   0.185,          2
 33RO200501,       A16S,      66,          1,         28,         28,2,20050205,       0130,   -29.4993,   -24.9998,       5080,   188.0,  16.3586,  35.6271,2,  35.6217,2,    211.9,2,   211.8,2,    1.50,2,    2.11,2,    0.02,2,    0.32,2,-999.000,9,-999.000,9,-999.000,9,  -999.0,9,  -999.0,9,  -999.0,9,   20.00,-999.0000,9,    25.00,-999.000,9, -999.00,-999.000,9,-999.000,9, -999.00,9,  -999.0,9,  -999.0,-999.000,9,-999.000,-999.000,9, -999.00,9,  188.00,-999.0000,9,-999.0000,9,-999.0000,9,-999.0000,9,-999.0000,9,-999.0000,9,  16.3283,     -999.0,-999.000,     -999.0,          9,     -999.0,          9,-999.000,          9
 33RO200501,       A16S,      66,          1,         27,         27,2,20050205,       0130,   -29.4993,   -24.9998,       5080,   224.5,  15.2623,  35.4930,2,  35.4903,2,    211.1,2,   211.2,2,    1.93,2,    4.12,2,    0.01,2,    0.43,2,   2.759,2,   1.618,2,   0.054,2,  2096.8,2,  2324.8,2,  -999.0,9,   20.00,   7.9081,2,    25.00,-999.000,9, -999.00,-999.000,9,-999.000,9, -999.00,9,  -999.0,9,  -999.0,-999.000,9,-999.000,   0.603,4, -999.00,9,  224.50,-999.0000,9,-999.0000,9,-999.0000,9,-999.0000,9,-999.0000,9,-999.0000,9,  15.2277,     -999.0,-999.000,      4.959,          2,      0.284,          2,   0.046,          2
 33RO200501,       A16S,      66,          1,         26,         26,2,20050205,       0130,   -29.4993,   -24.9998,       5080,   272.8,  14.3003,  35.3690,2,  35.3672,2,    211.9,2,   212.3,2,    2.41,2,    6.08,2,    0.01,2,    0.55,2,-999.000,9,-999.000,9,-999.000,9,  -999.0,9,  -999.0,9,  -999.0,9,   20.00,-999.0000,9,    25.00,-999.000,9, -999.00,-999.000,9,-999.000,9, -999.00,9,  -999.0,9,  -999.0,-999.000,9,-999.000,-999.000,9, -999.00,9,  272.80,-999.0000,9,-999.0000,9,-999.0000,9,-999.0000,9,-999.0000,9,-999.0000,9,  14.2600,     -999.0,-999.000,     -999.0,          9,     -999.0,          9,-999.000,          9
 33RO200501,       A16S,      66,          1,         25,         25,2,20050205,       0130,   -29.4993,   -24.9998,       5080,   349.5,  12.8279,  35.1713,2,  35.1704,2,    213.1,2,   212.4,2,    3.26,2,    9.30,2,    0.00,2,    0.73,2,-999.000,9,-999.000,9,-999.000,9,  -999.0,9,  -999.0,9,  -999.0,9,   20.00,-999.0000,9,    25.00,-999.000,9, -999.00,-999.000,9,-999.000,9, -999.00,9,  -999.0,9,  -999.0,-999.000,9,-999.000,-999.000,9, -999.00,9,  349.50,-999.0000,9,-999.0000,9,-999.0000,9,-999.0000,9,-999.0000,9,-999.0000,9,  12.7799,     -999.0,-999.000,      0.515,          2,      0.014,          2,   0.021,          2
 33RO200501,       A16S,      66,          1,         24,         24,2,20050205,       0130,   -29.4993,   -24.9998,       5080,   448.6,  11.1486,  34.9446,2,  34.9442,2,    206.2,2,   206.8,2,    5.33,2,   13.95,2,    0.00,2,    1.00,2,-999.000,9,-999.000,9,-999.000,9,  -999.0,9,  -999.0,9,  -999.0,9,   20.00,-999.0000,9,    25.00,-999.000,9, -999.00,-999.000,9,-999.000,9, -999.00,9,  -999.0,9,  -999.0,-999.000,9,-999.000,-999.000,9, -999.00,9,  448.60,-999.0000,9,-999.0000,9,-999.0000,9,-999.0000,9,-999.0000,9,-999.0000,9,  11.0922,     -999.0,-999.000,     -999.0,          9,     -999.0,          9,-999.000,          9
 33RO200501,       A16S,      66,          1,         23,         23,2,20050205,       0130,   -29.4993,   -24.9998,       5080,   548.5,   9.1081,  34.6993,2,  34.6927,2,    203.6,2,   204.3,2,    8.77,2,   19.37,2,    0.00,2,    1.32,2,   2.873,2,   1.531,2,   0.096,2,  -999.0,9,  -999.0,9,  -999.0,9,   20.00,-999.0000,9,    25.00,-999.000,9, -999.00,-999.000,9,-999.000,9, -999.00,9,  -999.0,9,  -999.0,-999.000,9,-999.000,   1.314,4, -999.00,9,  548.50,-999.0000,9,-999.0000,9,-999.0000,9,-999.0000,9,-999.0000,9,-999.0000,9,   9.0471,     -999.0,-999.000,      0.000,          2,      0.000,          2,   0.027,          2
 33RO200501,       A16S,      66,          1,         22,         22,2,20050205,       0130,   -29.4993,   -24.9998,       5080,   648.7,   7.5654,  34.5346,2,  34.5318,2,    207.7,2,   207.4,2,   11.80,2,   22.64,2,    0.00,2,    1.53,2,-999.000,9,-999.000,9,-999.000,9,  -999.0,9,  -999.0,9,  -999.0,9,   20.00,-999.0000,9,    25.00,-999.000,9, -999.00,-999.000,9,-999.000,9, -999.00,9,  -999.0,9,  -999.0,-999.000,9,-999.000,-999.000,9, -999.00,9,  648.70,-999.0000,9,-999.0000,9,-999.0000,9,-999.0000,9,-999.0000,9,-999.0000,9,   7.5004,     -999.0,-999.000,     -999.0,          9,     -999.0,          9,-999.000,          9
 33RO200501,       A16S,      66,          1,         21,         21,2,20050205,       0130,   -29.4993,   -24.9998,       5080,   748.5,   5.7579,  34.3750,2,  34.3763,2,    216.3,2,   216.7,2,   16.92,2,   26.43,2,    0.00,2,    1.74,2,   2.683,2,   1.363,2,   0.139,2,  -999.0,9,  -999.0,9,  -999.0,9,   20.00,-999.0000,9,    25.00,-999.000,9, -999.00,-999.000,9,-999.000,9, -999.00,9,  -999.0,9,  -999.0,-999.000,9,-999.000,   2.136,4, -999.00,9,  748.50,-999.0000,9,-999.0000,9,-999.0000,9,-999.0000,9,-999.0000,9,-999.0000,9,   5.6927,     -999.0,-999.000,     -999.0,          9,     -999.0,          9,-999.000,          9
 33RO200501,       A16S,      66,          1,         20,         20,2,20050205,       0130,   -29.4993,   -24.9998,       5080,   849.1,   4.8429,  34.3264,2,  34.3257,2,    218.0,2,   218.5,2,   22.33,6,   28.35,6,    0.00,6,    1.87,6,-999.000,9,-999.000,9,-999.000,9,  -999.0,9,  -999.0,9,  -999.0,9,   20.00,-999.0000,9,    25.00,-999.000,9, -999.00,-999.000,9,-999.000,9, -999.00,9,  -999.0,9,  -999.0,-999.000,9,-999.000,-999.000,9, -999.00,9,  849.10,-999.0000,9,-999.0000,9,-999.0000,9,-999.0000,9,-999.0000,9,-999.0000,9,   4.7743,     -999.0,-999.000,      0.000,          2,      0.059,          2,   0.013,          2
 33RO200501,       A16S,      66,          1,         19,         19,2,20050205,       0130,   -29.4993,   -24.9998,       5080,   949.9,   4.0656,  34.3242,2,  34.3243,2,    214.1,2,   213.5,2,   30.56,2,   30.23,2,    0.00,2,    2.01,2,-999.000,9,-999.000,9,-999.000,9,  2190.4,2,  2289.2,2,  -999.0,9,   20.00,   7.6309,2,    25.00,-999.000,9, -999.00,-999.000,9,-999.000,9, -999.00,9,  -999.0,9,  -999.0,-999.000,9,-999.000,-999.000,9, -999.00,9,  949.90,-999.0000,9,-999.0000,9,-999.0000,9,-999.0000,9,-999.0000,9,-999.0000,9,   3.9939,     -999.0,-999.000,     -999.0,          9,     -999.0,          9,-999.000,          9
 33RO200501,       A16S,      66,          1,         18,         18,2,20050205,       0130,   -29.4993,   -24.9998,       5080,  1099.3,   3.4851,  34.3814,2,  34.3821,2,    201.0,2,   200.6,2,   41.62,2,   31.76,2,    0.00,2,    2.12,2,   1.117,2,   0.540,2,   0.047,2,  -999.0,9,  -999.0,9,  -999.0,9,   20.00,-999.0000,9,    25.00,-999.000,9, -999.00,-999.000,9,-999.000,9, -999.00,9,  -999.0,9,  -999.0,-999.000,9,-999.000,   1.342,4, -999.00,9, 1099.30,-999.0000,9,-999.0000,9,-999.0000,9,-999.0000,9,-999.0000,9,-999.0000,9,   3.4057,     -999.0,-999.000,     -999.0,          9,     -999.0,          9,-999.000,          9
 33RO200501,       A16S,      66,          1,         17,         17,2,20050205,       0130,   -29.4993,   -24.9998,       5080,  1200.6,   3.2189,  34.4440,2,  34.4436,2,    193.9,2,   192.5,2,   48.29,2,   32.17,2,    0.00,2,    2.16,2,-999.000,9,-999.000,9,-999.000,9,  -999.0,9,  -999.0,9,  -999.0,9,   20.00,-999.0000,9,    25.00,-999.000,9, -999.00,-999.000,9,-999.000,9, -999.00,9,  -999.0,9,  -999.0,-999.000,9,-999.000,-999.000,9, -999.00,9, 1200.60,-999.0000,9,-999.0000,9,-999.0000,9,-999.0000,9,-999.0000,9,-999.0000,9,   3.1336,     -999.0,-999.000,      0.000,          2,      0.000,          2,   0.013,          2
 33RO200501,       A16S,      66,          1,         16,         16,2,20050205,       0130,   -29.4993,   -24.9998,       5080,  1398.6,   2.9804,  34.5705,2,  34.5692,2,    188.3,2,   188.4,2,   54.40,6,   31.37,6,    0.00,6,    2.12,6,   0.243,2,   0.122,2,   0.004,2,  2224.5,2,  2317.4,2,  -999.0,9,   20.00,   7.6028,2,    25.00,-999.000,9, -999.00,-999.000,9,-999.000,9, -999.00,9,  -999.0,9,  -999.0,-999.000,9,-999.000,   0.413,4, -999.00,9, 1398.60,-999.0000,9,-999.0000,9,-999.0000,9,-999.0000,9,-999.0000,9,-999.0000,9,   2.8812,     -999.0,-999.000,     -999.0,          9,     -999.0,          9,-999.000,          9
 33RO200501,       A16S,      66,          1,         15,         15,2,20050205,       0130,   -29.4993,   -24.9998,       5080,  1599.0,   2.8961,  34.6710,2,  34.6712,2,    193.6,2,   193.9,2,   54.29,2,   29.58,2,    0.00,2,    1.99,2,-999.000,9,-999.000,9,-999.000,9,  -999.0,9,  -999.0,9,  -999.0,9,   20.00,-999.0000,9,    25.00,-999.000,9, -999.00,-999.000,9,-999.000,9, -999.00,9,  -999.0,9,  -999.0,-999.000,9,-999.000,-999.000,9, -999.00,9, 1599.00,-999.0000,9,-999.0000,9,-999.0000,9,-999.0000,9,-999.0000,9,-999.0000,9,   2.7809,     -999.0,-999.000,     -999.0,          9,     -999.0,          9,-999.000,          9
 33RO200501,       A16S,      66,          1,         14,         14,2,20050205,       0130,   -29.4993,   -24.9998,       5080,  1798.0,   2.8092,  34.7488,2,  34.7480,2,    204.5,2,   205.6,2,   52.01,2,   27.54,2,    0.00,2,    1.84,2,-999.000,9,-999.000,9,-999.000,9,  -999.0,9,  -999.0,9,  -999.0,9,   20.00,-999.0000,9,    25.00,-999.000,9, -999.00,-999.000,9,-999.000,9, -999.00,9,  -999.0,9,  -999.0,-999.000,9,-999.000,-999.000,9, -999.00,9, 1798.00,-999.0000,9,-999.0000,9,-999.0000,9,-999.0000,9,-999.0000,9,-999.0000,9,   2.6780,     -999.0,-999.000,      0.808,          2,      0.000,          2,   0.028,          2
 33RO200501,       A16S,      66,          1,         13,         13,2,20050205,       0130,   -29.4993,   -24.9998,       5080,  2049.2,   2.7582,  34.8142,2,  34.8142,2,    220.2,2,   220.3,2,   47.82,2,   25.19,2,    0.00,2,    1.68,2,   0.012,2,   0.007,2,   0.000,2,  -999.0,9,  -999.0,9,  -999.0,9,   20.00,-999.0000,9,    25.00,-999.000,9, -999.00,-999.000,9,-999.000,9, -999.00,9,  -999.0,9,  -999.0,-999.000,9,-999.000,   0.051,4, -999.00,9, 2049.20,-999.0000,9,-999.0000,9,-999.0000,9,-999.0000,9,-999.0000,9,-999.0000,9,   2.6053,     -999.0,-999.000,     -999.0,          9,     -999.0,          9,-999.000,          9
 33RO200501,       A16S,      66,          1,         12,         12,2,20050205,       0130,   -29.4993,   -24.9998,       5080,  2346.6,   2.7703,  34.8686,2,  34.8693,2,    234.2,2,   234.4,2,   41.41,6,   22.90,6,    0.00,6,    1.53,6,-999.000,9,-999.000,9,-999.000,9,  -999.0,9,  -999.0,9,  -999.0,9,   20.00,-999.0000,9,    25.00,-999.000,9, -999.00,-999.000,9,-999.000,9, -999.00,9,  -999.0,9,  -999.0,-999.000,9,-999.000,-999.000,9, -999.00,9, 2346.60,-999.0000,9,-999.0000,9,-999.0000,9,-999.0000,9,-999.0000,9,-999.0000,9,   2.5895,     -999.0,-999.000,     -999.0,          9,     -999.0,          9,-999.000,          9
 33RO200501,       A16S,      66,          1,         11,         11,2,20050205,       0130,   -29.4993,   -24.9998,       5080,  2648.7,   2.7830,  34.9003,2,  34.9004,2,    244.1,2,   243.9,2,   36.76,2,   21.47,2,    0.00,2,    1.42,2,-999.000,9,-999.000,9,-999.000,9,  -999.0,9,  -999.0,9,  -999.0,9,   20.00,-999.0000,9,    25.00,-999.000,9, -999.00,-999.000,9,-999.000,9, -999.00,9,  -999.0,9,  -999.0,-999.000,9,-999.000,-999.000,9, -999.00,9, 2648.70,-999.0000,9,-999.0000,9,-999.0000,9,-999.0000,9,-999.0000,9,-999.0000,9,   2.5727,     -999.0,-999.000,      2.367,          2,      0.184,          2,   0.014,          2
 33RO200501,       A16S,      66,          1,         10,         10,2,20050205,       0130,   -29.4993,   -24.9998,       5080,  2949.2,   2.6951,  34.9083,2,  34.9088,2,    248.3,2,   248.6,2,   36.58,2,   20.93,2,    0.00,2,    1.39,2,  -0.002,6,  -0.004,6,   0.000,6,  2178.8,2,  2324.5,2,  -999.0,9,   20.00,   7.7321,2,    25.00,-999.000,9, -999.00,-999.000,9,-999.000,9, -999.00,9,  -999.0,9,  -999.0,-999.000,9,-999.000,   0.024,4, -999.00,9, 2949.20,-999.0000,9,-999.0000,9,-999.0000,9,-999.0000,9,-999.0000,9,-999.0000,9,   2.4563,     -999.0,-999.000,     -999.0,          9,     -999.0,          9,-999.000,          9
 33RO200501,       A16S,      66,          1,          9,          9,2,20050205,       0130,   -29.4993,   -24.9998,       5080,  3248.9,   2.5041,  34.8951,2,  34.8958,2,    248.3,2,   247.8,2,   41.91,2,   21.46,2,    0.00,2,    1.43,2,-999.000,9,-999.000,9,-999.000,9,  -999.0,9,  -999.0,9,  -999.0,9,   20.00,-999.0000,9,    25.00,-999.000,9, -999.00,-999.000,9,-999.000,9, -999.00,9,  -999.0,9,  -999.0,-999.000,9,-999.000,-999.000,9, -999.00,9, 3248.90,-999.0000,9,-999.0000,9,-999.0000,9,-999.0000,9,-999.0000,9,-999.0000,9,   2.2385,     -999.0,-999.000,     -999.0,          9,     -999.0,          9,-999.000,          9
 33RO200501,       A16S,      66,          1,          8,          8,2,20050205,       0130,   -29.4993,   -24.9998,       5080,  3548.9,   2.1614,  34.8631,2,  34.8636,2,    244.4,2,   243.9,2,   53.86,6,   22.79,6,    0.00,6,    1.56,6,-999.000,9,-999.000,9,-999.000,9,  -999.0,9,  -999.0,9,  -999.0,9,   20.00,-999.0000,9,    25.00,-999.000,9, -999.00,-999.000,9,-999.000,9, -999.00,9,  -999.0,9,  -999.0,-999.000,9,-999.000,-999.000,9, -999.00,9, 3548.90,-999.0000,9,-999.0000,9,-999.0000,9,-999.0000,9,-999.0000,9,-999.0000,9,   1.8724,     -999.0,-999.000,      0.000,          2,      0.000,          2,   0.035,          2