BOTTLE,20220818CCHSIOAMB
EXPOCODE,SECT_ID,STNNBR,CASTNO,SAMPNO,BTLNBR,BTLNBR_FLAG_W,DATE,TIME,LATITUDE,LONGITUDE,DEPTH,CTDPRS,CTDTMP,CTDSAL,CTDSAL_FLAG_W,SALNTY,SALNTY_FLAG_W,CTDOXY,CTDOXY_FLAG_W,OXYGEN,OXYGEN_FLAG_W,SILCAT,SILCAT_FLAG_W,NITRAT,NITRAT_FLAG_W,NITRIT,NITRIT_FLAG_W,PHSPHT,PHSPHT_FLAG_W,CFC-11,CFC-11_FLAG_W,CFC-12,CFC-12_FLAG_W,CFC113,CFC113_FLAG_W,TCARBN,TCARBN_FLAG_W,ALKALI,ALKALI_FLAG_W,PCO2,PCO2_FLAG_W,PCO2TMP,PH_SWS,PH_SWS_FLAG_W,PH_TMP,TRITUM,TRITUM_FLAG_W,TRITER,HELIUM,HELIUM_FLAG_W,DELHE3,DELHE3_FLAG_W,DELC13,DELC13_FLAG_W,DELC14,DELC14_FLAG_W,C14ERR,NEON,NEON_FLAG_W,NEONER,CCL4,CCL4_FLAG_W,DOC,DOC_FLAG_W,CTDRAW,CDOM325,CDOM325_FLAG_W,CDOM340,CDOM340_FLAG_W,CDOM380,CDOM380_FLAG_W,CDOM412,CDOM412_FLAG_W,CDOMSL,CDOMSL_FLAG_W,CDOMSN,CDOMSN_FLAG_W,THETA,HELIER,DELHER,CH3CL,CH3CL_FLAG_W,CH3BR,CH3BR_FLAG_W,CH3I,CH3I_FLAG_W
,,,,,,,,,,,METERS,DBAR,ITS-90,PSS-78,,PSS-78,,UMOL/KG,,UMOL/KG,,UMOL/KG,,UMOL/KG,,UMOL/KG,,UMOL/KG,,PMOL/KG,,PMOL/KG,,PMOL/KG,,UMOL/KG,,UMOL/KG,,UATM,,DEG C,,,DEG C,TU,,TU,NMOL/KG,,PERCNT,,/MILLE,,/MILLE,,/MILLE,NMOL/KG,,NMOL/KG,PMOL/KG,,UMOL/KG,,DBAR,1/M,,1/M,,1/M,,1/M,,1/NM,,1/NM,,DEG C,NMOL/KG,PERCNT,PMOL/KG,,PMOL/KG,,PMOL/KG,
 33RO200501,       A16S,      19,          1,          7,          7,2,20050121,       1149,   -52.9965,   -35.8480,       3509,  2351.3,   0.5411,  34.6878,2,  34.6912,3,    212.2,2,   213.3,2,  117.95,2,   32.32,2,    0.00,2,    2.24,2,   0.508,2,   0.255,2,   0.033,2,  2259.8,2,  2355.4,2,  -999.0,9,   20.00,   7.6160,2,    25.00,-999.000,9, -999.00,-999.000,9,-999.000,9, -999.00,9,  -999.0,9,  -999.0,-999.000,9,-999.000,   0.563,3,   39.34,2, 2351.30,-999.0000,9,-999.0000,9,-999.0000,9,-999.0000,9,-999.0000,9,-999.0000,9,   0.4000,     -999.0,-999.000,     -999.0,          9,     -999.0,          9,-999.000,          9
 33RO200501,       A16S,      19,          1,          6,          6,2,20050121,       1149,   -52.9965,   -35.8480,       3509,  2551.8,   0.4832,  34.6859,2,  34.6843,2,    213.8,2,   214.3,2,  118.64,6,   32.21,6,    0.00,6,    2.25,6,   0.504,2,   0.260,2,   0.032,2,  2259.7,2,  2358.9,2,  -999.0,5,   20.00,   7.6056,2,    25.00,-999.000,9, -999.00,-999.000,9,-999.000,9, -999.00,9,  -999.0,9,  -999.0,-999.000,9,-999.000,   0.578,3, -999.00,9, 2551.80,-999.0000,9,-999.0000,9,-999.0000,9,-999.0000,9,-999.0000,9,-999.0000,9,   0.3271,     -999.0,-999.000,     -999.0,          9,     -999.0,          9,-999.000,          9
 33RO200501,       A16S,      19,          1,          5,          5,2,20050121,       1149,   -52.9965,   -35.8480,       3509,  2751.6,   0.4092,  34.6817,2,  34.6806,2,    216.3,2,   216.7,2,  119.25,6,   32.31,6,    0.00,6,    2.25,6,   0.572,2,   0.296,2,   0.029,2,  2258.3,2,  2357.4,2,  -999.0,5,   20.00,   7.6067,2,    25.00,-999.000,9, -999.00,-999.000,9,-999.000,9, -999.00,9,  -999.0,9,  -999.0,-999.000,9,-999.000,   0.631,3,   39.65,2, 2751.60,-999.0000,9,-999.0000,9,-999.0000,9,-999.0000,9,-999.0000,9,-999.0000,9,   0.2380,     -999.0,-999.000,     -999.0,          9,     -999.0,          9,-999.000,          9
 33RO200501,       A16S,      19,          1,          4,          4,2,20050121,       1149,   -52.9965,   -35.8480,       3509,  2945.5,   0.3123,  34.6780,2,  34.6770,2,    219.1,2,   219.6,2,  120.43,6,   32.24,6,    0.00,6,    2.26,6,   0.595,2,   0.294,2,   0.033,2,  2258.6,2,  2355.2,2,  -999.0,5,   20.00,   7.6046,2,    25.00,-999.000,9, -999.00,-999.000,9,-999.000,9, -999.00,9,  -999.0,9,  -999.0,-999.000,9,-999.000,   0.636,3, -999.00,9, 2945.50,   0.1650,2,   0.1270,2,   0.0610,2,   0.0410,2,   0.0162,2,   0.0170,2,   0.1266,     -999.0,-999.000,     -999.0,          9,     -999.0,          9,-999.000,          9
 33RO200501,       A16S,      19,          1,          3,          3,2,20050121,       1149,   -52.9965,   -35.8480,       3509,  3150.9,   0.2363,  34.6747,2,  34.6729,2,    221.5,2,   221.7,2, -999.00,9, -999.00,9, -999.00,9, -999.00,9,   0.607,6,   0.301,6,   0.030,6,  2258.5,2,  2354.8,2,  -999.0,5,   20.00,   7.6086,2,    25.00,-999.000,9, -999.00,-999.000,9,-999.000,9, -999.00,9,  -999.0,9,  -999.0,-999.000,9,-999.000,   0.670,3,   39.03,2, 3150.90,-999.0000,9,-999.0000,9,-999.0000,9,-999.0000,9,-999.0000,9,-999.0000,9,   0.0344,     -999.0,-999.000,     -999.0,          9,     -999.0,          9,-999.000,          9
 33RO200501,       A16S,      19,          1,          2,          2,2,20050121,       1149,   -52.9965,   -35.8480,       3509,  3350.6,   0.1952,  34.6737,2,  34.6761,3,    222.7,2,   222.8,2, -999.00,9, -999.00,9, -999.00,9, -999.00,9,   0.539,2,   0.269,2,   0.022,2,  2259.4,2,  2357.1,2,  -999.0,9,   20.00,   7.6113,6,    25.00,-999.000,9, -999.00,-999.000,9,-999.000,9, -999.00,9,  -999.0,9,  -999.0,-999.000,9,-999.000,-999.000,9, -999.00,9, 3350.60,-999.0000,9,-999.0000,9,-999.0000,9,-999.0000,9,-999.0000,9,-999.0000,9,  -0.0238,     -999.0,-999.000,     -999.0,          9,     -999.0,          9,-999.000,          9
 33RO200501,       A16S,      19,          1,          1,          1,2,20050121,       1149,   -52.9965,   -35.8480,       3509,  3564.8,   0.0745,  34.6695,2,  34.6690,2,    225.4,2,   225.2,2,  129.88,6,   32.36,6,    0.01,6,    2.29,6,   0.521,2,   0.262,2,   0.024,2,  2260.8,6,  2358.5,2,  -999.0,9,   20.00,   7.6214,2,    25.00,   0.046,2,    0.00,-999.000,9,-999.000,9, -999.00,9,  -999.0,9,  -999.0,-999.000,9,-999.000,   0.665,3,   38.50,2, 3564.80,   0.1970,2,   0.1530,2,   0.0740,2,   0.0480,2,   0.0162,3,   0.0168,3,  -0.1613,     -999.0,-999.000,     -999.0,          9,     -999.0,          9,-999.000,          9