BOTTLE,20220818CCHSIOAMB
EXPOCODE,SECT_ID,STNNBR,CASTNO,SAMPNO,BTLNBR,BTLNBR_FLAG_W,DATE,TIME,LATITUDE,LONGITUDE,DEPTH,CTDPRS,CTDTMP,CTDSAL,CTDSAL_FLAG_W,SALNTY,SALNTY_FLAG_W,CTDOXY,CTDOXY_FLAG_W,OXYGEN,OXYGEN_FLAG_W,SILCAT,SILCAT_FLAG_W,NITRAT,NITRAT_FLAG_W,NITRIT,NITRIT_FLAG_W,PHSPHT,PHSPHT_FLAG_W,CFC-11,CFC-11_FLAG_W,CFC-12,CFC-12_FLAG_W,CFC113,CFC113_FLAG_W,TCARBN,TCARBN_FLAG_W,ALKALI,ALKALI_FLAG_W,PCO2,PCO2_FLAG_W,PCO2TMP,PH_SWS,PH_SWS_FLAG_W,PH_TMP,TRITUM,TRITUM_FLAG_W,TRITER,HELIUM,HELIUM_FLAG_W,DELHE3,DELHE3_FLAG_W,DELC13,DELC13_FLAG_W,DELC14,DELC14_FLAG_W,C14ERR,NEON,NEON_FLAG_W,NEONER,CCL4,CCL4_FLAG_W,DOC,DOC_FLAG_W,CTDRAW,CDOM325,CDOM325_FLAG_W,CDOM340,CDOM340_FLAG_W,CDOM380,CDOM380_FLAG_W,CDOM412,CDOM412_FLAG_W,CDOMSL,CDOMSL_FLAG_W,CDOMSN,CDOMSN_FLAG_W,THETA,HELIER,DELHER,CH3CL,CH3CL_FLAG_W,CH3BR,CH3BR_FLAG_W,CH3I,CH3I_FLAG_W
,,,,,,,,,,,METERS,DBAR,ITS-90,PSS-78,,PSS-78,,UMOL/KG,,UMOL/KG,,UMOL/KG,,UMOL/KG,,UMOL/KG,,UMOL/KG,,PMOL/KG,,PMOL/KG,,PMOL/KG,,UMOL/KG,,UMOL/KG,,UATM,,DEG C,,,DEG C,TU,,TU,NMOL/KG,,PERCNT,,/MILLE,,/MILLE,,/MILLE,NMOL/KG,,NMOL/KG,PMOL/KG,,UMOL/KG,,DBAR,1/M,,1/M,,1/M,,1/M,,1/NM,,1/NM,,DEG C,NMOL/KG,PERCNT,PMOL/KG,,PMOL/KG,,PMOL/KG,
 33RO200501,       A16S,       4,          1,         24,         24,2,20050118,       0602,   -58.4992,   -30.9182,       3105,    14.0,   1.4632,  34.0576,2,  34.0598,2,    335.9,2,   334.6,2,   50.27,2,   23.69,2,    0.31,2,    1.54,2,-999.000,5,-999.000,5,-999.000,5,  2164.4,2,  2305.5,2,  -999.0,9,   20.00,-999.0000,9,    25.00,-999.000,9, -999.00,-999.000,9,-999.000,9, -999.00,9,  -999.0,9,  -999.0,-999.000,9,-999.000,-999.000,5, -999.00,9,   14.00,-999.0000,9,-999.0000,9,-999.0000,9,-999.0000,9,-999.0000,9,-999.0000,9,   1.4626,     -999.0,-999.000,     66.593,          4,      1.394,          2,   0.411,          2
 33RO200501,       A16S,       4,          1,         23,         23,2,20050118,       0602,   -58.4992,   -30.9182,       3105,    39.6,   1.4661,  34.0574,2,  34.0590,2,    335.7,2,   334.8,2,   50.29,2,   23.71,2,    0.31,2,    1.54,2,-999.000,9,-999.000,9,-999.000,9,  -999.0,9,  -999.0,9,  -999.0,9,   20.00,-999.0000,9,    25.00,-999.000,9, -999.00,-999.000,9,-999.000,9, -999.00,9,  -999.0,9,  -999.0,-999.000,9,-999.000,-999.000,9, -999.00,9,   39.60,-999.0000,9,-999.0000,9,-999.0000,9,-999.0000,9,-999.0000,9,-999.0000,9,   1.4642,     -999.0,-999.000,     80.058,          4,      1.146,          2,   0.445,          2
 33RO200501,       A16S,       4,          1,         22,         22,2,20050118,       0602,   -58.4992,   -30.9182,       3105,    63.9,   0.9262,  34.0809,2,  34.0803,2,    336.0,2,   336.7,2,   55.12,2,   24.47,2,    0.31,2,    1.63,2,-999.000,9,-999.000,9,-999.000,9,  -999.0,9,  -999.0,9,  -999.0,9,   20.00,-999.0000,9,    25.00,-999.000,9, -999.00,-999.000,9,-999.000,9, -999.00,9,  -999.0,9,  -999.0,-999.000,9,-999.000,-999.000,9, -999.00,9,   63.90,-999.0000,9,-999.0000,9,-999.0000,9,-999.0000,9,-999.0000,9,-999.0000,9,   0.9235,     -999.0,-999.000,     65.666,          4,      1.437,          2,   0.404,          2
 33RO200501,       A16S,       4,          1,         21,         21,2,20050118,       0602,   -58.4992,   -30.9182,       3105,    90.4,  -0.5358,  34.1993,2,  34.1968,2,    322.5,2,   320.8,2,   69.24,2,   28.35,2,    0.26,2,    1.99,2,   5.695,2,   3.009,2,   0.516,2,  -999.0,9,  -999.0,9,  -999.0,9,   20.00,-999.0000,9,    25.00,-999.000,9, -999.00,-999.000,9,-999.000,9, -999.00,9,  -999.0,9,  -999.0,-999.000,9,-999.000,   5.747,4, -999.00,9,   90.40,-999.0000,9,-999.0000,9,-999.0000,9,-999.0000,9,-999.0000,9,-999.0000,9,  -0.5385,     -999.0,-999.000,     50.570,          4,      0.868,          2,   0.249,          2
 33RO200501,       A16S,       4,          1,         20,         20,2,20050118,       0602,   -58.4992,   -30.9182,       3105,   114.0,  -0.1642,  34.2976,2,  34.2937,2,    291.6,2,   292.0,2,   75.61,2,   31.76,2,    0.18,2,    2.18,2,-999.000,9,-999.000,9,-999.000,9,  -999.0,9,  -999.0,9,  -999.0,9,   20.00,-999.0000,9,    25.00,-999.000,9, -999.00,-999.000,9,-999.000,9, -999.00,9,  -999.0,9,  -999.0,-999.000,9,-999.000,-999.000,9, -999.00,9,  114.00,-999.0000,9,-999.0000,9,-999.0000,9,-999.0000,9,-999.0000,9,-999.0000,9,  -0.1681,     -999.0,-999.000,     28.181,          4,      0.832,          2,   0.209,          2
 33RO200501,       A16S,       4,          1,         19,         19,2,20050118,       0602,   -58.4992,   -30.9182,       3105,   133.2,  -0.0049,  34.3466,2,  34.3464,2,    276.6,2,   280.8,2,   75.56,2,   31.74,2,    0.18,2,    2.19,2,-999.000,9,-999.000,9,-999.000,9,  -999.0,9,  -999.0,9,  -999.0,9,   20.00,-999.0000,9,    25.00,-999.000,9, -999.00,-999.000,9,-999.000,9, -999.00,9,  -999.0,9,  -999.0,-999.000,9,-999.000,-999.000,9, -999.00,9,  133.20,-999.0000,9,-999.0000,9,-999.0000,9,-999.0000,9,-999.0000,9,-999.0000,9,  -0.0097,     -999.0,-999.000,     34.632,          4,      0.736,          2,   0.208,          2
 33RO200501,       A16S,       4,          1,         18,         18,2,20050118,       0602,   -58.4992,   -30.9182,       3105,   174.8,   0.4221,  34.4464,2,  34.4448,2,    247.2,2,   244.5,2,   80.02,2,   32.87,2,    0.01,2,    2.23,2,   3.045,2,   1.615,2,   0.276,2,  2236.1,2,  2325.3,2,  -999.0,9,   20.00,-999.0000,9,    25.00,-999.000,9, -999.00,-999.000,9,-999.000,9, -999.00,9,  -999.0,9,  -999.0,-999.000,9,-999.000,   3.115,3, -999.00,9,  174.80,-999.0000,9,-999.0000,9,-999.0000,9,-999.0000,9,-999.0000,9,-999.0000,9,   0.4151,     -999.0,-999.000,     -999.0,          9,     -999.0,          9,-999.000,          9
 33RO200501,       A16S,       4,          1,         17,         17,2,20050118,       0602,   -58.4992,   -30.9182,       3105,   223.0,   0.7544,  34.5149,2,  34.5149,2,    225.8,2,   226.7,2,   82.76,2,   32.97,2,    0.01,2,    2.25,2,-999.000,9,-999.000,9,-999.000,9,  -999.0,9,  -999.0,9,  -999.0,9,   20.00,-999.0000,9,    25.00,-999.000,9, -999.00,-999.000,9,-999.000,9, -999.00,9,  -999.0,9,  -999.0,-999.000,9,-999.000,-999.000,9, -999.00,9,  223.00,-999.0000,9,-999.0000,9,-999.0000,9,-999.0000,9,-999.0000,9,-999.0000,9,   0.7448,     -999.0,-999.000,     27.093,          4,      0.738,          2,   0.139,          2
 33RO200501,       A16S,       4,          1,         16,         16,2,20050118,       0602,   -58.4992,   -30.9182,       3105,   273.9,   0.7446,  34.5486,2,  34.5455,2,    223.5,2,   223.8,2,   85.13,2,   32.68,2,    0.01,2,    2.23,2,   2.088,2,   1.100,2,   0.183,2,  2245.7,2,  2334.2,2,  -999.0,9,   20.00,-999.0000,9,    25.00,-999.000,9, -999.00,-999.000,9,-999.000,9, -999.00,9,  -999.0,9,  -999.0,-999.000,9,-999.000,   2.161,3, -999.00,9,  273.90,-999.0000,9,-999.0000,9,-999.0000,9,-999.0000,9,-999.0000,9,-999.0000,9,   0.7326,     -999.0,-999.000,     -999.0,          9,     -999.0,          9,-999.000,          9
 33RO200501,       A16S,       4,          1,         15,         15,9,20050118,       0602,   -58.4992,   -30.9182,       3105,   348.1,   1.0292,  34.6128,2,-999.0000,9,    224.0,2,  -999.0,9, -999.00,9, -999.00,9, -999.00,9, -999.00,9,-999.000,9,-999.000,9,-999.000,9,  -999.0,9,  -999.0,9,  -999.0,9,   20.00,-999.0000,9,    25.00,-999.000,9, -999.00,-999.000,9,-999.000,9, -999.00,9,  -999.0,9,  -999.0,-999.000,9,-999.000,-999.000,9, -999.00,9,  348.10,-999.0000,9,-999.0000,9,-999.0000,9,-999.0000,9,-999.0000,9,-999.0000,9,   1.0129,     -999.0,-999.000,     -999.0,          9,     -999.0,          9,-999.000,          9
 33RO200501,       A16S,       4,          1,         14,         14,2,20050118,       0602,   -58.4992,   -30.9182,       3105,   448.0,   1.0860,  34.6445,2,  34.6488,2,    206.6,2,   203.8,2,   92.80,2,   32.26,2,    0.01,2,    2.21,2,   1.025,2,   0.534,2,   0.078,2,  2254.8,2,  -999.0,5,  -999.0,9,   20.00,-999.0000,9,    25.00,-999.000,9, -999.00,-999.000,9,-999.000,9, -999.00,9,  -999.0,9,  -999.0,-999.000,9,-999.000,   1.046,3, -999.00,9,  448.00,-999.0000,9,-999.0000,9,-999.0000,9,-999.0000,9,-999.0000,9,-999.0000,9,   1.0644,     -999.0,-999.000,     -999.0,          9,     -999.0,          9,-999.000,          9
 33RO200501,       A16S,       4,          1,         13,         13,2,20050118,       0602,   -58.4992,   -30.9182,       3105,   549.2,   1.0407,  34.6576,2,  34.6573,2,    199.9,2,   205.5,2,   95.43,2,   32.13,2,    0.01,2,    2.20,2,-999.000,9,-999.000,9,-999.000,9,  -999.0,9,  -999.0,9,  -999.0,9,   20.00,-999.0000,9,    25.00,-999.000,9, -999.00,-999.000,9,-999.000,9, -999.00,9,  -999.0,9,  -999.0,-999.000,9,-999.000,-999.000,9, -999.00,9,  549.20,-999.0000,9,-999.0000,9,-999.0000,9,-999.0000,9,-999.0000,9,-999.0000,9,   1.0139,     -999.0,-999.000,     30.307,          4,      0.868,          2,   0.097,          2
 33RO200501,       A16S,       4,          1,         12,         12,2,20050118,       0602,   -58.4992,   -30.9182,       3105,   648.7,   1.0064,  34.6714,2,  34.6716,2,    205.6,2,   205.6,2,   98.63,2,   32.04,2,    0.01,2,    2.21,2,-999.000,9,-999.000,9,-999.000,9,  -999.0,9,  -999.0,9,  -999.0,9,   20.00,-999.0000,9,    25.00,-999.000,9, -999.00,-999.000,9,-999.000,9, -999.00,9,  -999.0,9,  -999.0,-999.000,9,-999.000,-999.000,9, -999.00,9,  648.70,-999.0000,9,-999.0000,9,-999.0000,9,-999.0000,9,-999.0000,9,-999.0000,9,   0.9744,     -999.0,-999.000,     -999.0,          9,     -999.0,          9,-999.000,          9
 33RO200501,       A16S,       4,          1,         11,         11,2,20050118,       0602,   -58.4992,   -30.9182,       3105,   749.9,   0.8636,  34.6739,2,  34.6740,2,    207.8,2,   208.0,2,  102.12,2,   32.04,2,    0.01,2,    2.22,2,-999.000,9,-999.000,9,-999.000,9,  -999.0,9,  -999.0,9,  -999.0,9,   20.00,-999.0000,9,    25.00,-999.000,9, -999.00,-999.000,9,-999.000,9, -999.00,9,  -999.0,9,  -999.0,-999.000,9,-999.000,-999.000,9, -999.00,9,  749.90,-999.0000,9,-999.0000,9,-999.0000,9,-999.0000,9,-999.0000,9,-999.0000,9,   0.8268,     -999.0,-999.000,     39.133,          4,      1.089,          2,   0.079,          2
 33RO200501,       A16S,       4,          1,         10,         10,2,20050118,       0602,   -58.4992,   -30.9182,       3105,   849.8,   0.8569,  34.6839,2,  34.6840,2,    208.3,2,   206.8,2,  105.18,2,   32.02,2,    0.00,2,    2.21,2,   0.645,2,   0.336,2,   0.042,2,  2256.8,2,  -999.0,5,  -999.0,9,   20.00,-999.0000,9,    25.00,-999.000,9, -999.00,-999.000,9,-999.000,9, -999.00,9,  -999.0,9,  -999.0,-999.000,9,-999.000,   0.654,3, -999.00,9,  849.80,-999.0000,9,-999.0000,9,-999.0000,9,-999.0000,9,-999.0000,9,-999.0000,9,   0.8145,     -999.0,-999.000,     -999.0,          9,     -999.0,          9,-999.000,          9
 33RO200501,       A16S,       4,          1,          9,          9,2,20050118,       0602,   -58.4992,   -30.9182,       3105,   998.0,   0.7787,  34.6891,2,  34.6941,2,    210.3,2,   207.2,2,  109.02,2,   32.03,2,    0.00,2,    2.20,2,-999.000,9,-999.000,9,-999.000,9,  -999.0,9,  -999.0,9,  -999.0,9,   20.00,-999.0000,9,    25.00,-999.000,9, -999.00,-999.000,9,-999.000,9, -999.00,9,  -999.0,9,  -999.0,-999.000,9,-999.000,-999.000,9, -999.00,9,  998.00,-999.0000,9,-999.0000,9,-999.0000,9,-999.0000,9,-999.0000,9,-999.0000,9,   0.7282,     -999.0,-999.000,      0.000,          4,      0.315,          2,   0.046,          2
 33RO200501,       A16S,       4,          1,          8,          8,2,20050118,       0602,   -58.4992,   -30.9182,       3105,  1200.3,   0.6195,  34.6838,2,  34.6842,2,    210.9,2,   210.0,2,  111.98,2,   32.18,2,    0.00,2,    2.19,2,-999.000,9,-999.000,9,-999.000,9,  -999.0,9,  -999.0,9,  -999.0,9,   20.00,-999.0000,9,    25.00,-999.000,9, -999.00,-999.000,9,-999.000,9, -999.00,9,  -999.0,9,  -999.0,-999.000,9,-999.000,-999.000,9, -999.00,9, 1200.30,-999.0000,9,-999.0000,9,-999.0000,9,-999.0000,9,-999.0000,9,-999.0000,9,   0.5583,     -999.0,-999.000,     -999.0,          9,     -999.0,          9,-999.000,          9
 33RO200501,       A16S,       4,          1,          7,          7,2,20050118,       0602,   -58.4992,   -30.9182,       3105,  1399.6,   0.5117,  34.6821,2,  34.6850,2,    212.7,2,   212.0,2,  114.75,2,   32.32,2,    0.00,2,    2.19,2,   0.581,2,   0.296,2,   0.046,2,  -999.0,9,  -999.0,9,  -999.0,9,   20.00,-999.0000,9,    25.00,-999.000,9, -999.00,-999.000,9,-999.000,9, -999.00,9,  -999.0,9,  -999.0,-999.000,9,-999.000,   0.605,3, -999.00,9, 1399.60,-999.0000,9,-999.0000,9,-999.0000,9,-999.0000,9,-999.0000,9,-999.0000,9,   0.4391,     -999.0,-999.000,      0.000,          4,      0.000,          2,   0.037,          2
 33RO200501,       A16S,       4,          1,          6,          6,2,20050118,       0602,   -58.4992,   -30.9182,       3105,  1650.0,   0.4148,  34.6817,2,  34.6823,2,    214.8,2,   213.9,2,  117.33,2,   32.38,2,    0.00,2,    2.19,2,-999.000,9,-999.000,9,-999.000,9,  -999.0,9,  -999.0,9,  -999.0,9,   20.00,-999.0000,9,    25.00,-999.000,9, -999.00,-999.000,9,-999.000,9, -999.00,9,  -999.0,9,  -999.0,-999.000,9,-999.000,-999.000,9, -999.00,9, 1650.00,-999.0000,9,-999.0000,9,-999.0000,9,-999.0000,9,-999.0000,9,-999.0000,9,   0.3270,     -999.0,-999.000,     -999.0,          9,     -999.0,          9,-999.000,          9
 33RO200501,       A16S,       4,          1,          5,          5,2,20050118,       0602,   -58.4992,   -30.9182,       3105,  1948.1,   0.2658,  34.6762,2,  34.6760,2,    218.0,2,   218.0,2,  119.15,2,   32.43,2,    0.00,2,    2.18,2,   0.585,2,   0.291,2,   0.026,2,  -999.0,9,  -999.0,9,  -999.0,9,   20.00,-999.0000,9,    25.00,-999.000,9, -999.00,-999.000,9,-999.000,9, -999.00,9,  -999.0,9,  -999.0,-999.000,9,-999.000,   0.596,3, -999.00,9, 1948.10,-999.0000,9,-999.0000,9,-999.0000,9,-999.0000,9,-999.0000,9,-999.0000,9,   0.1597,     -999.0,-999.000,      0.000,          4,      0.000,          2,   0.020,          2
 33RO200501,       A16S,       4,          1,          4,          4,2,20050118,       0602,   -58.4992,   -30.9182,       3105,  2249.5,   0.1551,  34.6716,2,  34.6717,2,    221.5,2,   221.0,2,  120.85,6,   32.52,6,    0.00,6,    2.23,6,-999.000,9,-999.000,9,-999.000,9,  -999.0,9,  -999.0,9,  -999.0,9,   20.00,-999.0000,9,    25.00,-999.000,9, -999.00,-999.000,9,-999.000,9, -999.00,9,  -999.0,9,  -999.0,-999.000,9,-999.000,-999.000,9, -999.00,9, 2249.50,-999.0000,9,-999.0000,9,-999.0000,9,-999.0000,9,-999.0000,9,-999.0000,9,   0.0288,     -999.0,-999.000,     -999.0,          9,     -999.0,          9,-999.000,          9
 33RO200501,       A16S,       4,          1,          3,          3,2,20050118,       0602,   -58.4992,   -30.9182,       3105,  2549.7,   0.0517,  34.6675,2,  34.6678,2,    224.7,2,   224.9,2,  121.90,6,   32.52,6,    0.00,6,    2.24,6,-999.000,9,-999.000,9,-999.000,9,  -999.0,9,  -999.0,9,  -999.0,9,   20.00,-999.0000,9,    25.00,-999.000,9, -999.00,-999.000,9,-999.000,9, -999.00,9,  -999.0,9,  -999.0,-999.000,9,-999.000,-999.000,9, -999.00,9, 2549.70,-999.0000,9,-999.0000,9,-999.0000,9,-999.0000,9,-999.0000,9,-999.0000,9,  -0.0957,     -999.0,-999.000,      0.000,          4,      0.000,          2,   0.045,          2
 33RO200501,       A16S,       4,          1,          2,          2,2,20050118,       0602,   -58.4992,   -30.9182,       3105,  2848.2,  -0.0152,  34.6643,2,  34.6638,2,    226.8,2,   227.6,2,  122.61,6,   32.45,6,    0.01,6,    2.22,6,   0.797,2,   0.393,2,   0.047,2,  2258.0,2,  2348.4,2,  -999.0,9,   20.00,-999.0000,9,    25.00,-999.000,9, -999.00,-999.000,9,-999.000,9, -999.00,9,  -999.0,9,  -999.0,-999.000,9,-999.000,   0.846,3, -999.00,9, 2848.20,-999.0000,9,-999.0000,9,-999.0000,9,-999.0000,9,-999.0000,9,-999.0000,9,  -0.1855,     -999.0,-999.000,     -999.0,          9,     -999.0,          9,-999.000,          9
 33RO200501,       A16S,       4,          1,          1,          1,2,20050118,       0602,   -58.4992,   -30.9182,       3105,  3188.0,  -0.0456,  34.6624,2,  34.6630,2,    227.3,2,   224.3,3,  122.91,6,   32.47,6,    0.01,6,    2.22,6,   0.849,2,   0.414,2,   0.045,2,  -999.0,9,  -999.0,9,  -999.0,9,   20.00,-999.0000,9,    25.00,-999.000,9, -999.00,-999.000,9,-999.000,9, -999.00,9,  -999.0,9,  -999.0,-999.000,9,-999.000,   0.872,3, -999.00,9, 3188.00,-999.0000,9,-999.0000,9,-999.0000,9,-999.0000,9,-999.0000,9,-999.0000,9,  -0.2442,     -999.0,-999.000,      0.000,          4,      0.025,          2,   0.072,          2