BOTTLE,20220818CCHSIOAMB
EXPOCODE,SECT_ID,STNNBR,CASTNO,SAMPNO,BTLNBR,BTLNBR_FLAG_W,DATE,TIME,LATITUDE,LONGITUDE,DEPTH,CTDPRS,CTDTMP,CTDSAL,CTDSAL_FLAG_W,SALNTY,SALNTY_FLAG_W,CTDOXY,CTDOXY_FLAG_W,OXYGEN,OXYGEN_FLAG_W,SILCAT,SILCAT_FLAG_W,NITRAT,NITRAT_FLAG_W,NITRIT,NITRIT_FLAG_W,PHSPHT,PHSPHT_FLAG_W,CFC-11,CFC-11_FLAG_W,CFC-12,CFC-12_FLAG_W,CFC113,CFC113_FLAG_W,TCARBN,TCARBN_FLAG_W,ALKALI,ALKALI_FLAG_W,PCO2,PCO2_FLAG_W,PCO2TMP,PH_SWS,PH_SWS_FLAG_W,PH_TMP,TRITUM,TRITUM_FLAG_W,TRITER,HELIUM,HELIUM_FLAG_W,DELHE3,DELHE3_FLAG_W,DELC13,DELC13_FLAG_W,DELC14,DELC14_FLAG_W,C14ERR,NEON,NEON_FLAG_W,NEONER,CCL4,CCL4_FLAG_W,DOC,DOC_FLAG_W,CTDRAW,CDOM325,CDOM325_FLAG_W,CDOM340,CDOM340_FLAG_W,CDOM380,CDOM380_FLAG_W,CDOM412,CDOM412_FLAG_W,CDOMSL,CDOMSL_FLAG_W,CDOMSN,CDOMSN_FLAG_W,THETA,HELIER,DELHER,CH3CL,CH3CL_FLAG_W,CH3BR,CH3BR_FLAG_W,CH3I,CH3I_FLAG_W
,,,,,,,,,,,METERS,DBAR,ITS-90,PSS-78,,PSS-78,,UMOL/KG,,UMOL/KG,,UMOL/KG,,UMOL/KG,,UMOL/KG,,UMOL/KG,,PMOL/KG,,PMOL/KG,,PMOL/KG,,UMOL/KG,,UMOL/KG,,UATM,,DEG C,,,DEG C,TU,,TU,NMOL/KG,,PERCNT,,/MILLE,,/MILLE,,/MILLE,NMOL/KG,,NMOL/KG,PMOL/KG,,UMOL/KG,,DBAR,1/M,,1/M,,1/M,,1/M,,1/NM,,1/NM,,DEG C,NMOL/KG,PERCNT,PMOL/KG,,PMOL/KG,,PMOL/KG,
 33RO200501,       A16S,      96,          1,          7,          7,2,20050214,       0638,   -14.4993,   -24.9995,       5500,  3700.8,   2.2541,  34.8764,2,  34.8761,2,    248.1,2,   247.9,2,   48.25,2,   22.37,2,    0.00,2,    1.47,2,-999.000,9,-999.000,9,-999.000,9,  -999.0,9,  -999.0,9,  -999.0,9,   20.00,-999.0000,9,    25.00,-999.000,9, -999.00,-999.000,9,-999.000,9, -999.00,9,  -999.0,9,  -999.0,-999.000,9,-999.000,-999.000,9, -999.00,9, 3700.80,-999.0000,9,-999.0000,9,-999.0000,9,-999.0000,9,-999.0000,9,-999.0000,9,   1.9462,     -999.0,-999.000,     -999.0,          9,     -999.0,          9,-999.000,          9
 33RO200501,       A16S,      96,          1,          6,          6,2,20050214,       0638,   -14.4993,   -24.9995,       5500,  3998.1,   1.8033,  34.8307,2,  34.8303,2,    242.1,2,   241.5,2,   66.13,2,   24.72,2,    0.00,2,    1.65,2,   0.013,2,   0.008,2,   0.002,2,  -999.0,9,  -999.0,9,  -999.0,9,   20.00,-999.0000,9,    25.00,-999.000,9, -999.00,-999.000,9,-999.000,9, -999.00,9,  -999.0,9,  -999.0,-999.000,9,-999.000,   0.051,4, -999.00,9, 3998.10,-999.0000,9,-999.0000,9,-999.0000,9,-999.0000,9,-999.0000,9,-999.0000,9,   1.4752,     -999.0,-999.000,     -999.0,          9,     -999.0,          9,-999.000,          9
 33RO200501,       A16S,      96,          1,          5,          5,2,20050214,       0638,   -14.4993,   -24.9995,       5500,  4294.8,   1.2847,  34.7752,2,  34.7743,2,    232.1,2,   232.2,2,   88.03,2,   27.69,2,    0.00,2,    1.88,2,-999.000,9,-999.000,9,-999.000,9,  -999.0,9,  -999.0,9,  -999.0,9,   20.00,-999.0000,9,    25.00,-999.000,9, -999.00,-999.000,9,-999.000,9, -999.00,9,  -999.0,9,  -999.0,-999.000,9,-999.000,-999.000,9, -999.00,9, 4294.80,-999.0000,9,-999.0000,9,-999.0000,9,-999.0000,9,-999.0000,9,-999.0000,9,   0.9390,     -999.0,-999.000,      2.496,          2,      0.156,          2,   0.129,          2
 33RO200501,       A16S,      96,          1,          4,          4,2,20050214,       0638,   -14.4993,   -24.9995,       5500,  4599.3,   1.0273,  34.7470,2,  34.7456,2,    227.8,2,   227.9,2,   98.58,6,   28.99,6,    0.00,6,    1.98,6,   0.023,2,   0.010,2,   0.001,2,  2239.2,2,  2350.6,2,  -999.0,9,   20.00,   7.6469,2,    25.00,-999.000,9, -999.00,-999.000,9,-999.000,9, -999.00,9,  -999.0,9,  -999.0,-999.000,9,-999.000,   0.066,4, -999.00,9, 4599.30,-999.0000,9,-999.0000,9,-999.0000,9,-999.0000,9,-999.0000,9,-999.0000,9,   0.6554,     -999.0,-999.000,     -999.0,          9,     -999.0,          9,-999.000,          9
 33RO200501,       A16S,      96,          1,          3,          3,2,20050214,       0638,   -14.4993,   -24.9995,       5500,  4901.2,   0.8767,  34.7289,2,  34.7350,3,    225.1,2,   225.8,2,  105.56,6,   29.96,6,    0.00,6,    2.06,6,-999.000,9,-999.000,9,-999.000,9,  -999.0,9,  -999.0,9,  -999.0,9,   20.00,-999.0000,9,    25.00,-999.000,9, -999.00,-999.000,9,-999.000,9, -999.00,9,  -999.0,9,  -999.0,-999.000,9,-999.000,-999.000,9, -999.00,9, 4901.20,-999.0000,9,-999.0000,9,-999.0000,9,-999.0000,9,-999.0000,9,-999.0000,9,   0.4749,     -999.0,-999.000,     -999.0,          9,     -999.0,          9,-999.000,          9
 33RO200501,       A16S,      96,          1,          2,          2,2,20050214,       0638,   -14.4993,   -24.9995,       5500,  5200.1,   0.7929,  34.7164,2,  34.7157,2,    223.4,2,   224.1,2,  109.81,6,   30.49,6,    0.00,6,    2.10,6,   0.060,2,   0.031,2,   0.003,2,  -999.0,9,  -999.0,9,  -999.0,9,   20.00,-999.0000,9,    25.00,-999.000,9, -999.00,-999.000,9,-999.000,9, -999.00,9,  -999.0,9,  -999.0,-999.000,9,-999.000,   0.121,4, -999.00,9, 5200.10,-999.0000,9,-999.0000,9,-999.0000,9,-999.0000,9,-999.0000,9,-999.0000,9,   0.3586,     -999.0,-999.000,      4.923,          2,      0.327,          2,   0.047,          2
 33RO200501,       A16S,      96,          1,          1,          1,2,20050214,       0638,   -14.4993,   -24.9995,       5500,  5467.3,   0.7003,  34.7033,2,  34.7024,2,    221.4,2,   221.6,2,  114.71,6,   31.12,6,    0.00,6,    2.15,6,   0.095,2,   0.041,2,  -0.001,2,  2257.9,2,  2355.9,2,  -999.0,9,   20.00,   7.6238,2,    25.00,-999.000,9, -999.00,-999.000,9,-999.000,9,    0.67,6,  -153.1,6,     4.0,-999.000,9,-999.000,   0.178,4, -999.00,9, 5467.30,-999.0000,9,-999.0000,9,-999.0000,9,-999.0000,9,-999.0000,9,-999.0000,9,   0.2370,     -999.0,-999.000,     19.050,          2,      2.046,          2,   0.674,          2