BOTTLE,20220818CCHSIOAMB
EXPOCODE,SECT_ID,STNNBR,CASTNO,SAMPNO,BTLNBR,BTLNBR_FLAG_W,DATE,TIME,LATITUDE,LONGITUDE,DEPTH,CTDPRS,CTDTMP,CTDSAL,CTDSAL_FLAG_W,SALNTY,SALNTY_FLAG_W,CTDOXY,CTDOXY_FLAG_W,OXYGEN,OXYGEN_FLAG_W,SILCAT,SILCAT_FLAG_W,NITRAT,NITRAT_FLAG_W,NITRIT,NITRIT_FLAG_W,PHSPHT,PHSPHT_FLAG_W,CFC-11,CFC-11_FLAG_W,CFC-12,CFC-12_FLAG_W,CFC113,CFC113_FLAG_W,TCARBN,TCARBN_FLAG_W,ALKALI,ALKALI_FLAG_W,PCO2,PCO2_FLAG_W,PCO2TMP,PH_SWS,PH_SWS_FLAG_W,PH_TMP,TRITUM,TRITUM_FLAG_W,TRITER,HELIUM,HELIUM_FLAG_W,DELHE3,DELHE3_FLAG_W,DELC13,DELC13_FLAG_W,DELC14,DELC14_FLAG_W,C14ERR,NEON,NEON_FLAG_W,NEONER,CCL4,CCL4_FLAG_W,DOC,DOC_FLAG_W,CTDRAW,CDOM325,CDOM325_FLAG_W,CDOM340,CDOM340_FLAG_W,CDOM380,CDOM380_FLAG_W,CDOM412,CDOM412_FLAG_W,CDOMSL,CDOMSL_FLAG_W,CDOMSN,CDOMSN_FLAG_W,THETA,HELIER,DELHER,CH3CL,CH3CL_FLAG_W,CH3BR,CH3BR_FLAG_W,CH3I,CH3I_FLAG_W
,,,,,,,,,,,METERS,DBAR,ITS-90,PSS-78,,PSS-78,,UMOL/KG,,UMOL/KG,,UMOL/KG,,UMOL/KG,,UMOL/KG,,UMOL/KG,,PMOL/KG,,PMOL/KG,,PMOL/KG,,UMOL/KG,,UMOL/KG,,UATM,,DEG C,,,DEG C,TU,,TU,NMOL/KG,,PERCNT,,/MILLE,,/MILLE,,/MILLE,NMOL/KG,,NMOL/KG,PMOL/KG,,UMOL/KG,,DBAR,1/M,,1/M,,1/M,,1/M,,1/NM,,1/NM,,DEG C,NMOL/KG,PERCNT,PMOL/KG,,PMOL/KG,,PMOL/KG,
 33RO200501,       A16S,      48,          1,          7,          7,2,20050130,       1225,   -38.5000,   -26.8668,       4168,  2801.2,   2.5521,  34.8471,2,  34.8474,2,    222.5,2,   224.2,2,   55.59,2,   25.04,2,    0.00,2,    1.65,2,   0.043,2,   0.018,2,   0.000,2,  2211.1,2,  2333.9,2,  -999.0,9,   20.00,   7.6817,2,    25.00,-999.000,9, -999.00,-999.000,9,-999.000,9, -999.00,9,  -999.0,9,  -999.0,-999.000,9,-999.000,   0.133,3, -999.00,9, 2801.20,-999.0000,9,-999.0000,9,-999.0000,9,-999.0000,9,-999.0000,9,-999.0000,9,   2.3315,     -999.0,-999.000,     -999.0,          9,     -999.0,          9,-999.000,          9
 33RO200501,       A16S,      48,          1,          6,          6,2,20050130,       1225,   -38.5000,   -26.8668,       4168,  3050.6,   2.2635,  34.8301,2,  34.8307,2,    221.7,2,   222.4,2,   63.59,2,   25.70,2,    0.00,2,    1.71,2,-999.000,9,-999.000,9,-999.000,9,  -999.0,9,  -999.0,9,  -999.0,9,   20.00,-999.0000,9,    25.00,-999.000,9, -999.00,-999.000,9,-999.000,9, -999.00,9,  -999.0,9,  -999.0,-999.000,9,-999.000,-999.000,9, -999.00,9, 3050.60,-999.0000,9,-999.0000,9,-999.0000,9,-999.0000,9,-999.0000,9,-999.0000,9,   2.0242,     -999.0,-999.000,     -999.0,          9,     -999.0,          9,-999.000,          9
 33RO200501,       A16S,      48,          1,          5,          5,2,20050130,       1225,   -38.5000,   -26.8668,       4168,  3300.1,   1.8926,  34.7999,2,  34.8016,2,    220.1,2,   220.2,2,   76.06,2,   27.10,2,    0.00,2,    1.81,2,-999.000,9,-999.000,9,-999.000,9,  2225.4,2,  2346.0,2,  -999.0,9,   20.00,   7.6634,2,    25.00,-999.000,9, -999.00,-999.000,9,-999.000,9, -999.00,9,  -999.0,9,  -999.0,-999.000,9,-999.000,-999.000,9, -999.00,9, 3300.10,-999.0000,9,-999.0000,9,-999.0000,9,-999.0000,9,-999.0000,9,-999.0000,9,   1.6365,     -999.0,-999.000,      4.769,          2,      0.192,          2,   0.038,          2
 33RO200501,       A16S,      48,          1,          4,          4,2,20050130,       1225,   -38.5000,   -26.8668,       4168,  3550.2,   1.4729,  34.7642,2,  34.7644,2,    216.8,2,   216.4,2,   90.99,6,   28.86,6,    0.00,6,    1.96,6,-999.000,9,-999.000,9,-999.000,9,  -999.0,9,  -999.0,9,  -999.0,9,   20.00,-999.0000,9,    25.00,-999.000,9, -999.00,-999.000,9,-999.000,9, -999.00,9,  -999.0,9,  -999.0,-999.000,9,-999.000,-999.000,9, -999.00,9, 3550.20,-999.0000,9,-999.0000,9,-999.0000,9,-999.0000,9,-999.0000,9,-999.0000,9,   1.2019,     -999.0,-999.000,     -999.0,          9,     -999.0,          9,-999.000,          9
 33RO200501,       A16S,      48,          1,          3,          3,2,20050130,       1225,   -38.5000,   -26.8668,       4168,  3800.8,   1.0838,  34.7329,2,  34.7331,2,    215.5,2,   215.3,2,  103.77,6,   30.28,6,    0.00,6,    2.08,6,-999.000,9,-999.000,9,-999.000,9,  2249.8,2,  2355.9,2,  -999.0,9,   20.00,   7.6261,2,    25.00,-999.000,9, -999.00,-999.000,9,-999.000,9, -999.00,9,  -999.0,9,  -999.0,-999.000,9,-999.000,-999.000,9, -999.00,9, 3800.80,-999.0000,9,-999.0000,9,-999.0000,9,-999.0000,9,-999.0000,9,-999.0000,9,   0.7973,     -999.0,-999.000,     -999.0,          9,     -999.0,          9,-999.000,          9
 33RO200501,       A16S,      48,          1,          2,          2,2,20050130,       1225,   -38.5000,   -26.8668,       4168,  4050.2,   0.8009,  34.7075,2,  34.7078,2,    213.6,2,   214.3,2,  113.62,6,   31.44,6,    0.00,6,    2.17,6,-999.000,9,-999.000,9,-999.000,9,  2258.2,2,  2358.9,2,  -999.0,9,   20.00,   7.6254,2,    25.00,-999.000,9, -999.00,-999.000,9,-999.000,9, -999.00,9,  -999.0,9,  -999.0,-999.000,9,-999.000,-999.000,9, -999.00,9, 4050.20,-999.0000,9,-999.0000,9,-999.0000,9,-999.0000,9,-999.0000,9,-999.0000,9,   0.4964,     -999.0,-999.000,      5.780,          2,      0.201,          2,   0.083,          2
 33RO200501,       A16S,      48,          1,          1,          1,2,20050130,       1225,   -38.5000,   -26.8668,       4168,  4220.8,   0.6058,  34.6932,2,  34.6946,2,    214.2,2,   214.3,2,  119.18,6,   31.96,6,    0.00,6,    2.22,6,   0.211,2,   0.095,2,   0.005,2,  2262.5,2,  2362.5,2,  -999.0,9,   20.00,   7.6131,2,    25.00,-999.000,9, -999.00,-999.000,9,-999.000,9, -999.00,9,  -999.0,9,  -999.0,-999.000,9,-999.000,   0.350,3, -999.00,9, 4220.80,-999.0000,9,-999.0000,9,-999.0000,9,-999.0000,9,-999.0000,9,-999.0000,9,   0.2890,     -999.0,-999.000,     -999.0,          9,     -999.0,          9,-999.000,          9