BOTTLE,20220818CCHSIOAMB
EXPOCODE,SECT_ID,STNNBR,CASTNO,SAMPNO,BTLNBR,BTLNBR_FLAG_W,DATE,TIME,LATITUDE,LONGITUDE,DEPTH,CTDPRS,CTDTMP,CTDSAL,CTDSAL_FLAG_W,SALNTY,SALNTY_FLAG_W,CTDOXY,CTDOXY_FLAG_W,OXYGEN,OXYGEN_FLAG_W,SILCAT,SILCAT_FLAG_W,NITRAT,NITRAT_FLAG_W,NITRIT,NITRIT_FLAG_W,PHSPHT,PHSPHT_FLAG_W,CFC-11,CFC-11_FLAG_W,CFC-12,CFC-12_FLAG_W,CFC113,CFC113_FLAG_W,TCARBN,TCARBN_FLAG_W,ALKALI,ALKALI_FLAG_W,PCO2,PCO2_FLAG_W,PCO2TMP,PH_SWS,PH_SWS_FLAG_W,PH_TMP,TRITUM,TRITUM_FLAG_W,TRITER,HELIUM,HELIUM_FLAG_W,DELHE3,DELHE3_FLAG_W,DELC13,DELC13_FLAG_W,DELC14,DELC14_FLAG_W,C14ERR,NEON,NEON_FLAG_W,NEONER,CCL4,CCL4_FLAG_W,DOC,DOC_FLAG_W,CTDRAW,CDOM325,CDOM325_FLAG_W,CDOM340,CDOM340_FLAG_W,CDOM380,CDOM380_FLAG_W,CDOM412,CDOM412_FLAG_W,CDOMSL,CDOMSL_FLAG_W,CDOMSN,CDOMSN_FLAG_W,THETA,HELIER,DELHER,CH3CL,CH3CL_FLAG_W,CH3BR,CH3BR_FLAG_W,CH3I,CH3I_FLAG_W
,,,,,,,,,,,METERS,DBAR,ITS-90,PSS-78,,PSS-78,,UMOL/KG,,UMOL/KG,,UMOL/KG,,UMOL/KG,,UMOL/KG,,UMOL/KG,,PMOL/KG,,PMOL/KG,,PMOL/KG,,UMOL/KG,,UMOL/KG,,UATM,,DEG C,,,DEG C,TU,,TU,NMOL/KG,,PERCNT,,/MILLE,,/MILLE,,/MILLE,NMOL/KG,,NMOL/KG,PMOL/KG,,UMOL/KG,,DBAR,1/M,,1/M,,1/M,,1/M,,1/NM,,1/NM,,DEG C,NMOL/KG,PERCNT,PMOL/KG,,PMOL/KG,,PMOL/KG,
 33RO200501,       A16S,      35,          1,         36,         36,2,20050126,       1432,   -44.9968,   -30.9002,       5076,     5.3,  12.5143,  34.4357,2,  34.4334,2,    269.3,2,   269.3,2,    0.53,2,    5.07,2,    0.12,2,    0.52,2,   3.254,2,   2.021,2,   0.275,2,  2050.8,6,  2298.8,2,  -999.0,9,   20.00,   7.9364,6,    25.00,   0.319,2,    0.01,   1.745,2,  -2.100,2,    2.08,2,    27.7,2,     3.5,   7.437,2,   0.008,   5.998,4,   60.57,2,    5.30,   0.1660,2,   0.1250,2,   0.0610,2,   0.0370,2,   0.0173,2,   0.0178,2,  12.5136,      0.001,   0.229,     -999.0,          9,     -999.0,          9,-999.000,          9
 33RO200501,       A16S,      35,          1,         35,         35,2,20050126,       1432,   -44.9968,   -30.9002,       5076,    24.8,  12.4650,  34.5118,2,  34.5090,2,    270.0,2,   269.2,2,    0.15,2,    4.97,2,    0.12,2,    0.53,2,-999.000,9,-999.000,9,-999.000,9,  2057.1,2,  2299.4,2,  -999.0,9,   20.00,   7.9344,6,    25.00,-999.000,9, -999.00,-999.000,9,-999.000,9, -999.00,9,  -999.0,9,  -999.0,-999.000,9,-999.000,-999.000,9, -999.00,9,   24.80,-999.0000,9,-999.0000,9,-999.0000,9,-999.0000,9,-999.0000,9,-999.0000,9,  12.4617,     -999.0,-999.000,     -999.0,          9,     -999.0,          9,-999.000,          9
 33RO200501,       A16S,      35,          1,         34,         34,4,20050126,       1432,   -44.9968,   -30.9002,       5076,    50.6,  12.2665,  34.5237,2,  34.5212,2,    264.8,2,   263.6,2,    0.19,2,    5.05,2,    0.13,2,    0.56,2,   3.260,2,   1.996,2,   0.276,2,  2064.2,2,  2301.7,2,  -999.0,9,   20.00,   7.9386,6,    25.00,   0.291,2,    0.01,   1.777,2,  -1.940,2,    2.05,2,    30.1,2,     4.7,   7.514,2,   0.008,   6.086,4,   59.85,2,   50.60,   0.1810,2,   0.1370,2,   0.0630,2,   0.0390,2,   0.0175,2,   0.0183,2,  12.2599,      0.001,   0.231,     -999.0,          9,     -999.0,          9,-999.000,          9
 33RO200501,       A16S,      35,          1,         33,         33,2,20050126,       1432,   -44.9968,   -30.9002,       5076,    71.5,  11.2560,  34.5215,2,  34.5204,2,    265.0,2,   265.4,2,    0.85,2,    7.49,2,    0.32,2,    0.71,2,-999.000,9,-999.000,9,-999.000,9,  2076.7,2,  2301.1,2,  -999.0,9,   20.00,   7.8904,2,    25.00,-999.000,9, -999.00,-999.000,9,-999.000,9, -999.00,9,  -999.0,9,  -999.0,-999.000,9,-999.000,-999.000,9, -999.00,9,   71.50,-999.0000,9,-999.0000,9,-999.0000,9,-999.0000,9,-999.0000,9,-999.0000,9,  11.2472,     -999.0,-999.000,     -999.0,          9,     -999.0,          9,-999.000,          9
 33RO200501,       A16S,      35,          1,         32,         32,2,20050126,       1432,   -44.9968,   -30.9002,       5076,    90.8,   9.1218,  34.5004,2,  34.4975,2,    262.3,2,   262.3,2,    2.72,2,   13.43,2,    0.27,2,    1.00,2,   3.805,2,   2.222,2,   0.310,2,  2106.0,2,  2293.4,2,  -999.0,9,   20.00,   7.8205,6,    25.00,   0.281,2,    0.01,-999.000,9,-999.000,9,    1.61,2,    31.5,2,     4.1,-999.000,9,-999.000,   4.015,3,   51.01,2,   90.80,   0.1130,2,   0.0790,2,   0.0390,2,   0.0260,2,   0.0181,2,   0.0196,2,   9.1120,     -999.0,-999.000,     -999.0,          9,     -999.0,          9,-999.000,          9
 33RO200501,       A16S,      35,          1,         31,         31,2,20050126,       1432,   -44.9968,   -30.9002,       5076,   114.0,   8.6841,  34.5002,2,  34.4989,2,    255.8,2,   260.4,2,    3.21,2,   14.43,2,    0.04,2,    1.03,2,-999.000,9,-999.000,9,-999.000,9,  2108.4,2,  2295.7,2,  -999.0,9,   20.00,   7.8173,2,    25.00,-999.000,9, -999.00,-999.000,9,-999.000,9, -999.00,9,  -999.0,9,  -999.0,-999.000,9,-999.000,-999.000,9, -999.00,9,  114.00,-999.0000,9,-999.0000,9,-999.0000,9,-999.0000,9,-999.0000,9,-999.0000,9,   8.6721,     -999.0,-999.000,     -999.0,          9,     -999.0,          9,-999.000,          9
 33RO200501,       A16S,      35,          1,         30,         30,2,20050126,       1432,   -44.9968,   -30.9002,       5076,   141.2,   8.1592,  34.4510,2,  34.4472,2,    259.7,2,   248.8,2,    3.97,2,   16.62,2,    0.04,2,    1.14,2,   3.880,2,   2.225,2,   0.300,2,  2117.2,2,  2293.8,2,  -999.0,9,   20.00,   7.7846,2,    25.00,   0.382,2,    0.01,   1.805,2,  -1.810,2,    1.56,2,    24.1,2,     3.7,   7.792,2,   0.008,   2.991,3,   49.29,2,  141.20,   0.1730,2,   0.1340,2,   0.0640,2,   0.0390,2,   0.0172,2,   0.0174,2,   8.1449,      0.001,   0.220,     -999.0,          9,     -999.0,          9,-999.000,          9
 33RO200501,       A16S,      35,          1,         29,         29,2,20050126,       1432,   -44.9968,   -30.9002,       5076,   164.8,   7.8373,  34.4257,2,  34.4257,2,    253.8,2,   255.3,2,    4.49,2,   17.57,2,    0.03,2,    1.19,2,-999.000,9,-999.000,9,-999.000,9,  2126.4,2,  2288.8,2,  -999.0,9,   20.00,   7.7770,2,    25.00,-999.000,9, -999.00,-999.000,9,-999.000,9, -999.00,9,  -999.0,9,  -999.0,-999.000,9,-999.000,-999.000,9, -999.00,9,  164.80,-999.0000,9,-999.0000,9,-999.0000,9,-999.0000,9,-999.0000,9,-999.0000,9,   7.8210,     -999.0,-999.000,     -999.0,          9,     -999.0,          9,-999.000,          9
 33RO200501,       A16S,      35,          1,         28,         28,2,20050126,       1432,   -44.9968,   -30.9002,       5076,   190.8,   7.3231,  34.3871,2,  34.3902,2,    247.4,2,   248.6,2,    5.80,2,   19.93,2,    0.02,2,    1.32,2,   3.889,2,   2.199,2,   0.282,2,  2130.9,2,  2289.0,2,  -999.0,9,   20.00,   7.7539,2,    25.00,   0.241,2,    0.01,   1.824,2,  -2.110,2,    1.42,2,    12.9,2,     2.9,   7.886,2,   0.007,   2.914,3,   47.83,2,  190.80,   0.1340,2,   0.1010,2,   0.0500,2,   0.0320,2,   0.0170,2,   0.0174,2,   7.3050,      0.001,   0.229,     -999.0,          9,     -999.0,          9,-999.000,          9
 33RO200501,       A16S,      35,          1,         27,         27,2,20050126,       1432,   -44.9968,   -30.9002,       5076,   226.0,   6.3150,  34.2964,2,  34.2960,2,    245.8,2,   246.0,2,    7.94,2,   23.32,2,    0.02,2,    1.52,2,-999.000,9,-999.000,9,-999.000,9,  2141.0,2,  2284.0,2,  -999.0,9,   20.00,   7.7193,2,    25.00,-999.000,9, -999.00,-999.000,9,-999.000,9,    1.36,2,     6.2,2,     3.5,-999.000,9,-999.000,-999.000,9, -999.00,9,  226.00,-999.0000,9,-999.0000,9,-999.0000,9,-999.0000,9,-999.0000,9,-999.0000,9,   6.2952,     -999.0,-999.000,     -999.0,          9,     -999.0,          9,-999.000,          9
 33RO200501,       A16S,      35,          1,         26,         26,2,20050126,       1432,   -44.9968,   -30.9002,       5076,   273.2,   5.4871,  34.2239,2,  34.2221,2,    252.8,2,   254.0,2,    9.39,2,   24.80,2,    0.01,2,    1.62,2,   4.165,2,   2.281,2,   0.322,2,  2162.6,3,  2282.5,2,  -999.0,9,   20.00,   7.7031,2,    25.00,   0.169,2,    0.01,   1.853,2,  -1.230,2,    1.34,2,    -4.8,2,     2.4,   8.048,2,   0.008,   3.396,3,   47.33,2,  273.20,   0.0910,2,   0.0630,2,   0.0340,2,   0.0230,2,   0.0173,2,   0.0189,2,   5.4649,      0.001,   0.223,     -999.0,          9,     -999.0,          9,-999.000,          9
 33RO200501,       A16S,      35,          1,         25,         25,2,20050126,       1432,   -44.9968,   -30.9002,       5076,   324.5,   4.9102,  34.1903,2,  34.1898,2,    259.1,2,   259.8,2,   10.92,2,   25.61,2,    0.01,2,    1.68,2,   4.205,2,   2.310,2,   0.288,2,  2144.9,2,  2280.9,2,  -999.0,9,   20.00,   7.6940,6,    25.00,   0.149,2,    0.00,   1.855,2,  -1.520,2,    1.36,2,    -2.5,2,     3.5,   8.081,2,   0.007,   3.596,3,   46.83,2,  324.50,-999.0000,9,-999.0000,9,-999.0000,9,-999.0000,9,-999.0000,9,-999.0000,9,   4.8851,      0.001,   0.213,     -999.0,          9,     -999.0,          9,-999.000,          9
 33RO200501,       A16S,      35,          1,         24,         24,2,20050126,       1432,   -44.9968,   -30.9002,       5076,   373.0,   4.6433,  34.1845,2,  34.1839,2,    261.2,2,   261.2,2,   12.37,2,   26.09,2,    0.01,2,    1.72,2,   4.135,2,   2.246,2,   0.318,2,  2146.4,2,  2288.8,2,  -999.0,9,   20.00,   7.7054,2,    25.00,-999.000,9, -999.00,   1.831,2,  -1.570,2,    1.38,2,   -16.7,2,     3.4,   8.004,2,   0.007,   3.549,3,   45.68,2,  373.00,   0.1280,2,   0.0960,2,   0.0490,2,   0.0330,2,   0.0161,2,   0.0169,2,   4.6152,      0.001,   0.224,     -999.0,          9,     -999.0,          9,-999.000,          9
 33RO200501,       A16S,      35,          1,         23,         23,2,20050126,       1432,   -44.9968,   -30.9002,       5076,   449.1,   4.2281,  34.1723,2,  34.1720,2,    262.3,2,   261.8,2,   15.05,2,   26.94,2,    0.01,2,    1.78,2,   4.055,2,   2.187,2,   0.314,2,  2152.6,2,  2291.8,2,  -999.0,9,   20.00,   7.6799,2,    25.00,   0.145,2,    0.00,   1.868,2,  -1.380,2,    1.37,2,   -24.4,2,     3.6,   8.143,2,   0.007,   3.649,3,   43.47,2,  449.10,-999.0000,9,-999.0000,9,-999.0000,9,-999.0000,9,-999.0000,9,-999.0000,9,   4.1955,      0.001,   0.230,     -999.0,          9,     -999.0,          9,-999.000,          9
 33RO200501,       A16S,      35,          1,         22,         22,2,20050126,       1432,   -44.9968,   -30.9002,       5076,   551.5,   3.7893,  34.1811,2,  34.1810,2,    257.0,2,   253.7,2,   19.95,2,   28.34,2,    0.01,2,    1.87,2,   3.699,2,   1.973,2,   0.280,2,  2165.3,2,  2295.9,2,  -999.0,9,   20.00,   7.6704,2,    25.00,   0.097,2,    0.00,   1.855,2,  -0.600,2,    1.28,2,   -39.6,2,     3.3,   8.116,2,   0.007,   3.347,3,   41.81,2,  551.50,   0.1450,2,   0.1090,2,   0.0540,2,   0.0350,2,   0.0167,2,   0.0173,2,   3.7506,      0.001,   0.225,     -999.0,          9,     -999.0,          9,-999.000,          9
 33RO200501,       A16S,      35,          1,         21,         21,2,20050126,       1432,   -44.9968,   -30.9002,       5076,   633.6,   3.4137,  34.1965,2,  34.1963,2,    249.2,2,   248.4,2,   25.46,2,   29.64,2,    0.01,2,    1.95,2,   3.346,6,   1.769,6,   0.250,6,  2174.1,2,  2292.2,2,  -999.0,9,   20.00,   7.6531,2,    25.00,   0.080,2,    0.00,   1.849,2,   0.090,2,    1.22,2,   -55.8,2,     2.9,   8.099,2,   0.008,   3.062,3, -999.00,9,  633.60,-999.0000,9,-999.0000,9,-999.0000,9,-999.0000,9,-999.0000,9,-999.0000,9,   3.3708,      0.001,   0.220,     -999.0,          9,     -999.0,          9,-999.000,          9
 33RO200501,       A16S,      35,          1,         20,         20,2,20050126,       1432,   -44.9968,   -30.9002,       5076,   749.6,   3.0882,  34.2239,2,  34.2228,2,    234.8,2,   237.4,2,   32.17,2,   30.99,2,    0.01,2,    2.04,2,   2.961,2,   1.537,2,   0.217,2,  2188.9,2,  2297.0,2,  -999.0,9,   20.00,   7.6330,2,    25.00,   0.055,2,    0.00,   1.848,2,   0.980,2,    1.11,2,   -71.0,2,     3.1,   8.150,2,   0.007,   2.711,3,   41.14,2,  749.60,   0.1300,2,   0.0940,2,   0.0510,2,   0.0350,2,   0.0148,2,   0.0162,2,   3.0387,      0.001,   0.222,     -999.0,          9,     -999.0,          9,-999.000,          9
 33RO200501,       A16S,      35,          1,         19,         19,2,20050126,       1432,   -44.9968,   -30.9002,       5076,   849.0,   2.9524,  34.2822,2,  34.2833,2,    220.1,2,   219.9,2,   40.17,2,   32.13,2,    0.01,2,    2.13,2,   2.298,2,   1.175,2,   0.162,2,  2203.5,2,  2305.2,2,  -999.0,9,   20.00,   7.6133,6,    25.00,   0.033,2,    0.00,   1.850,2,   2.340,2,    0.97,2,   -84.3,2,     2.7,   8.104,2,   0.007,   2.233,3, -999.00,9,  849.00,-999.0000,9,-999.0000,9,-999.0000,9,-999.0000,9,-999.0000,9,-999.0000,9,   2.8964,      0.001,   0.222,     -999.0,          9,     -999.0,          9,-999.000,          9
 33RO200501,       A16S,      35,          1,         18,         18,2,20050126,       1432,   -44.9968,   -30.9002,       5076,   949.3,   2.8323,  34.3370,2,  34.3378,2,    207.2,2,   205.3,2,   47.29,2,   32.92,2,    0.01,2,    2.20,2,   1.786,2,   0.904,2,   0.117,2,  2215.9,6,  2311.0,6,  -999.0,9,   20.00,   7.5987,2,    25.00,   0.028,2,    0.00,   1.840,2,   3.720,2,    0.89,2,   -99.7,2,     3.1,   8.086,2,   0.007,   1.947,3,   40.38,2,  949.30,   0.1730,2,   0.1310,2,   0.0630,2,   0.0410,2,   0.0164,2,   0.0173,2,   2.7698,      0.001,   0.232,     -999.0,          9,     -999.0,          9,-999.000,          9
 33RO200501,       A16S,      35,          1,         17,         17,2,20050126,       1432,   -44.9968,   -30.9002,       5076,  1100.9,   2.7168,  34.4301,2,  34.4295,2,    189.3,2,   188.9,2,   57.32,2,   33.64,2,    0.01,2,    2.27,2,   1.084,2,   0.533,2,   0.064,2,  2231.9,2,  2325.4,2,  -999.0,9,   20.00,   7.5771,2,    25.00,   0.007,2,    0.00,   1.877,2,   5.510,2,    0.75,2,  -126.2,2,     2.6,   8.208,2,   0.007,   1.169,3,   39.62,2, 1100.90,-999.0000,9,-999.0000,9,-999.0000,9,-999.0000,9,-999.0000,9,-999.0000,9,   2.6437,      0.001,   0.229,     -999.0,          9,     -999.0,          9,-999.000,          9
 33RO200501,       A16S,      35,          1,         16,         16,2,20050126,       1432,   -44.9968,   -30.9002,       5076,  1298.9,   2.6858,  34.5491,2,  34.5475,2,    178.8,2,   178.5,2,   65.25,2,   33.35,2,    0.01,2,    2.25,2,   0.488,2,   0.245,2,   0.033,2,  2241.8,2,  2335.2,2,  -999.0,9,   20.00,   7.5855,2,    25.00,-999.000,9, -999.00,-999.000,9,-999.000,9,    0.64,2,  -130.7,2,     2.9,-999.000,9,-999.000,   0.691,3,   39.78,2, 1298.90,   0.1670,2,   0.1260,2,   0.0620,2,   0.0420,2,   0.0158,2,   0.0170,2,   2.5976,     -999.0,-999.000,     -999.0,          9,     -999.0,          9,-999.000,          9
 33RO200501,       A16S,      35,          1,         15,         15,2,20050126,       1432,   -44.9968,   -30.9002,       5076,  1500.0,   2.7029,  34.6361,2,  34.6358,2,    179.1,2,   178.9,2,   67.16,2,   32.24,2,    0.01,2,    2.18,2,   0.261,2,   0.137,2,   0.017,2,  2241.3,2,  2339.2,2,  -999.0,9,   20.00,   7.5884,2,    25.00,   0.034,2,    0.00,-999.000,9,-999.000,9,    0.62,2,  -133.8,2,     3.1,-999.000,9,-999.000,   0.421,3,   39.47,2, 1500.00,-999.0000,9,-999.0000,9,-999.0000,9,-999.0000,9,-999.0000,9,-999.0000,9,   2.5984,     -999.0,-999.000,     -999.0,          9,     -999.0,          9,-999.000,          9
 33RO200501,       A16S,      35,          1,         14,         14,2,20050126,       1432,   -44.9968,   -30.9002,       5076,  1698.7,   2.7113,  34.7072,2,  34.7062,2,    186.4,2,   185.1,2,   66.41,2,   30.74,2,    0.01,2,    2.07,2,-999.000,9,-999.000,9,-999.000,9,  2237.4,2,  2342.3,2,  -999.0,9,   20.00,   7.6118,2,    25.00,-999.000,9, -999.00,-999.000,9,-999.000,9,   -0.05,4,  -134.8,2,     2.9,-999.000,9,-999.000,-999.000,9,   40.00,2, 1698.70,-999.0000,9,-999.0000,9,-999.0000,9,-999.0000,9,-999.0000,9,-999.0000,9,   2.5899,     -999.0,-999.000,     -999.0,          9,     -999.0,          9,-999.000,          9
 33RO200501,       A16S,      35,          1,         13,         13,2,20050126,       1432,   -44.9968,   -30.9002,       5076,  1900.3,   2.9403,  34.8032,2,  34.8029,2,    206.8,2,   205.6,2,   53.77,2,   27.22,2,    0.01,2,    1.82,2,   0.090,3,   0.235,4,   0.000,3,  2216.7,2,  2336.4,2,  -999.0,9,   20.00,   7.6515,2,    25.00,-999.000,9, -999.00,-999.000,9,-999.000,9,    0.80,2,  -129.9,2,     2.7,-999.000,9,-999.000,   0.260,3,   40.41,2, 1900.30,-999.0000,9,-999.0000,9,-999.0000,9,-999.0000,9,-999.0000,9,-999.0000,9,   2.7981,     -999.0,-999.000,     -999.0,          9,     -999.0,          9,-999.000,          9
 33RO200501,       A16S,      35,          1,         12,         12,2,20050126,       1432,   -44.9968,   -30.9002,       5076,  2100.4,   2.7644,  34.8210,2,  34.8208,2,    210.0,2,   210.8,2,   56.01,2,   26.50,2,    0.01,2,    1.78,2,   0.068,4,   0.080,4,   0.000,4,  2215.8,2,  2340.5,2,  -999.0,9,   20.00,   7.6544,2,    25.00,   0.010,2,    0.00,   1.911,2,   7.050,2,    0.84,2,  -119.1,2,     3.0,   8.162,2,   0.007,   0.202,4,   39.88,2, 2100.40,   0.1880,2,   0.1460,2,   0.0650,2,   0.0400,2,   0.0180,2,   0.0183,2,   2.6067,      0.002,   0.226,     -999.0,          9,     -999.0,          9,-999.000,          9
 33RO200501,       A16S,      35,          1,         11,         11,2,20050126,       1432,   -44.9968,   -30.9002,       5076,  2300.0,   2.6671,  34.8391,2,  34.8393,2,    217.0,2,   218.1,2,   54.89,2,   25.63,2,    0.01,2,    1.72,2,   0.054,2,   0.034,2,   0.006,2,  2211.6,2,  2339.4,2,  -999.0,9,   20.00,   7.6764,2,    25.00,-999.000,9, -999.00,   1.915,2,   6.281,2,    0.85,2,  -122.1,2,     2.4,   8.185,2,   0.005,   0.185,3, -999.00,9, 2300.00,-999.0000,9,-999.0000,9,-999.0000,9,-999.0000,9,-999.0000,9,-999.0000,9,   2.4926,      0.002,   0.211,     -999.0,          9,     -999.0,          9,-999.000,          9
 33RO200501,       A16S,      35,          1,         10,         10,2,20050126,       1432,   -44.9968,   -30.9002,       5076,  2500.4,   2.5173,  34.8415,2,  34.8415,2,    220.8,2,   221.0,2,   56.79,2,   25.37,2,    0.01,2,    1.72,2,   0.049,2,   0.028,2,   0.000,2,  2210.9,2,  2340.9,2,  -999.0,9,   20.00,   7.6784,2,    25.00,-999.000,9, -999.00,-999.000,9,-999.000,9,    0.89,2,  -120.1,2,     2.8,-999.000,9,-999.000,   0.176,3,   40.25,2, 2500.40,-999.0000,9,-999.0000,9,-999.0000,9,-999.0000,9,-999.0000,9,-999.0000,9,   2.3266,     -999.0,-999.000,     -999.0,          9,     -999.0,          9,-999.000,          9
 33RO200501,       A16S,      35,          1,          9,          9,2,20050126,       1432,   -44.9968,   -30.9002,       5076,  2700.0,   2.2304,  34.8151,2,  34.8158,2,    216.9,2,   215.8,2,   67.42,2,   26.72,2,    0.01,2,    1.81,2,   0.047,2,   0.022,2,   0.000,2,  2222.6,2,  2350.0,2,  -999.0,9,   20.00,   7.6732,2,    25.00,-999.000,9, -999.00,-999.000,9,-999.000,9,    0.74,2,  -126.8,2,     2.9,-999.000,9,-999.000,   0.143,3, -999.00,9, 2700.00,-999.0000,9,-999.0000,9,-999.0000,9,-999.0000,9,-999.0000,9,-999.0000,9,   2.0263,     -999.0,-999.000,     -999.0,          9,     -999.0,          9,-999.000,          9
 33RO200501,       A16S,      35,          1,          8,          8,2,20050126,       1432,   -44.9968,   -30.9002,       5076,  2949.8,   1.8291,  34.7767,2,  34.7777,2,    209.1,2,   208.7,2,   83.88,2,   28.78,2,    0.01,2,    1.97,2,   0.064,2,   0.036,2,   0.009,2,  2237.2,2,  2356.0,2,  -999.0,9,   20.00,   7.6516,2,    25.00,-999.000,9, -999.00,-999.000,9,-999.000,9,    0.65,2,  -138.7,2,     3.7,-999.000,9,-999.000,   0.147,3,   39.92,2, 2949.80,   0.1520,2,   0.1110,2,   0.0610,2,   0.0420,2,   0.0141,2,   0.0154,2,   1.6094,     -999.0,-999.000,     -999.0,          9,     -999.0,          9,-999.000,          9