BOTTLE,20220818CCHSIOAMB
EXPOCODE,SECT_ID,STNNBR,CASTNO,SAMPNO,BTLNBR,BTLNBR_FLAG_W,DATE,TIME,LATITUDE,LONGITUDE,DEPTH,CTDPRS,CTDTMP,CTDSAL,CTDSAL_FLAG_W,SALNTY,SALNTY_FLAG_W,CTDOXY,CTDOXY_FLAG_W,OXYGEN,OXYGEN_FLAG_W,SILCAT,SILCAT_FLAG_W,NITRAT,NITRAT_FLAG_W,NITRIT,NITRIT_FLAG_W,PHSPHT,PHSPHT_FLAG_W,CFC-11,CFC-11_FLAG_W,CFC-12,CFC-12_FLAG_W,CFC113,CFC113_FLAG_W,TCARBN,TCARBN_FLAG_W,ALKALI,ALKALI_FLAG_W,PCO2,PCO2_FLAG_W,PCO2TMP,PH_SWS,PH_SWS_FLAG_W,PH_TMP,TRITUM,TRITUM_FLAG_W,TRITER,HELIUM,HELIUM_FLAG_W,DELHE3,DELHE3_FLAG_W,DELC13,DELC13_FLAG_W,DELC14,DELC14_FLAG_W,C14ERR,NEON,NEON_FLAG_W,NEONER,CCL4,CCL4_FLAG_W,DOC,DOC_FLAG_W,CTDRAW,CDOM325,CDOM325_FLAG_W,CDOM340,CDOM340_FLAG_W,CDOM380,CDOM380_FLAG_W,CDOM412,CDOM412_FLAG_W,CDOMSL,CDOMSL_FLAG_W,CDOMSN,CDOMSN_FLAG_W,THETA,HELIER,DELHER,CH3CL,CH3CL_FLAG_W,CH3BR,CH3BR_FLAG_W,CH3I,CH3I_FLAG_W
,,,,,,,,,,,METERS,DBAR,ITS-90,PSS-78,,PSS-78,,UMOL/KG,,UMOL/KG,,UMOL/KG,,UMOL/KG,,UMOL/KG,,UMOL/KG,,PMOL/KG,,PMOL/KG,,PMOL/KG,,UMOL/KG,,UMOL/KG,,UATM,,DEG C,,,DEG C,TU,,TU,NMOL/KG,,PERCNT,,/MILLE,,/MILLE,,/MILLE,NMOL/KG,,NMOL/KG,PMOL/KG,,UMOL/KG,,DBAR,1/M,,1/M,,1/M,,1/M,,1/NM,,1/NM,,DEG C,NMOL/KG,PERCNT,PMOL/KG,,PMOL/KG,,PMOL/KG,
 33RO200501,       A16S,     112,          1,         36,         36,2,20050219,       0113,    -6.5000,   -25.0002,       5627,     2.2,  27.6819,  36.4035,2,  36.4036,2,    199.0,2,   198.2,2,    0.76,2,    0.00,2,    0.00,2,    0.08,2,   1.594,2,   1.044,2,   0.127,2,  2052.4,6,  2383.1,2,  -999.0,9,   20.00,   8.0689,6,    25.00,-999.000,9, -999.00,-999.000,9,-999.000,9, -999.00,9,  -999.0,9,  -999.0,-999.000,9,-999.000,   1.345,4, -999.00,9,    2.20,-999.0000,9,-999.0000,9,-999.0000,9,-999.0000,9,-999.0000,9,-999.0000,9,  27.6814,     -999.0,-999.000,     56.811,          2,      0.148,          2,   3.589,          2
 33RO200501,       A16S,     112,          1,         35,         35,2,20050219,       0113,    -6.5000,   -25.0002,       5627,     2.4,  27.6828,  36.4034,2,-999.0000,9,   -999.0,9,  -999.0,9, -999.00,9, -999.00,9, -999.00,9, -999.00,9,-999.000,9,-999.000,9,-999.000,9,  -999.0,9,  -999.0,9,  -999.0,9,   20.00,-999.0000,9,    25.00,-999.000,9, -999.00,-999.000,9,-999.000,9, -999.00,9,  -999.0,9,  -999.0,-999.000,9,-999.000,-999.000,9, -999.00,9,    2.40,-999.0000,9,-999.0000,9,-999.0000,9,-999.0000,9,-999.0000,9,-999.0000,9,  27.6823,     -999.0,-999.000,     -999.0,          9,     -999.0,          9,-999.000,          9
 33RO200501,       A16S,     112,          1,         34,         34,2,20050219,       0113,    -6.5000,   -25.0002,       5627,    23.3,  27.7021,  36.4027,2,  36.4034,2,    199.2,2,   199.0,2,    0.77,2,    0.03,2,    0.00,2,    0.08,2,   1.597,2,   1.046,2,   0.124,2,  -999.0,9,  2386.2,2,  -999.0,9,   20.00,   8.0708,2,    25.00,-999.000,9, -999.00,-999.000,9,-999.000,9, -999.00,9,  -999.0,9,  -999.0,-999.000,9,-999.000,   1.346,4, -999.00,9,   23.30,-999.0000,9,-999.0000,9,-999.0000,9,-999.0000,9,-999.0000,9,-999.0000,9,  27.6966,     -999.0,-999.000,     71.071,          2,      0.494,          2,   3.829,          2
 33RO200501,       A16S,     112,          1,         33,         33,2,20050219,       0113,    -6.5000,   -25.0002,       5627,    79.7,  25.4866,  36.5706,2,  36.5641,2,    207.6,2,   206.9,2,    0.88,2,    0.23,2,    0.01,2,    0.12,2,-999.000,9,-999.000,9,-999.000,9,  -999.0,9,  -999.0,9,  -999.0,9,   20.00,-999.0000,9,    25.00,-999.000,9, -999.00,-999.000,9,-999.000,9, -999.00,9,  -999.0,9,  -999.0,-999.000,9,-999.000,-999.000,9, -999.00,9,   79.70,-999.0000,9,-999.0000,9,-999.0000,9,-999.0000,9,-999.0000,9,-999.0000,9,  25.4689,     -999.0,-999.000,    154.975,          2,      0.254,          2,   3.451,          2
 33RO200501,       A16S,     112,          1,         32,         32,2,20050219,       0113,    -6.5000,   -25.0002,       5627,   107.7,  20.9779,  36.2988,2,  36.2848,2,    155.3,2,   155.7,2,    2.36,2,    7.00,2,    0.23,2,    0.62,2,-999.000,9,-999.000,9,-999.000,9,  -999.0,9,  -999.0,9,  -999.0,9,   20.00,-999.0000,9,    25.00,-999.000,9, -999.00,-999.000,9,-999.000,9, -999.00,9,  -999.0,9,  -999.0,-999.000,9,-999.000,-999.000,9, -999.00,9,  107.70,-999.0000,9,-999.0000,9,-999.0000,9,-999.0000,9,-999.0000,9,-999.0000,9,  20.9572,     -999.0,-999.000,     -999.0,          9,     -999.0,          9,-999.000,          9
 33RO200501,       A16S,     112,          1,         31,         31,2,20050219,       0113,    -6.5000,   -25.0002,       5627,   139.2,  15.6033,  35.6260,2,  35.5978,2,    105.9,2,   106.2,2,    5.91,2,   19.26,2,    0.02,2,    1.25,2,-999.000,9,-999.000,9,-999.000,9,  -999.0,9,  -999.0,9,  -999.0,9,   20.00,-999.0000,9,    25.00,-999.000,9, -999.00,-999.000,9,-999.000,9, -999.00,9,  -999.0,9,  -999.0,-999.000,9,-999.000,-999.000,9, -999.00,9,  139.20,-999.0000,9,-999.0000,9,-999.0000,9,-999.0000,9,-999.0000,9,-999.0000,9,  15.5816,     -999.0,-999.000,      2.968,          2,      0.000,          2,   0.092,          2
 33RO200501,       A16S,     112,          1,         30,         30,2,20050219,       0113,    -6.5000,   -25.0002,       5627,   169.2,  12.6446,  35.2568,2,  35.2185,2,     92.8,2,    92.5,2,    9.04,2,   24.96,2,    0.01,2,    1.56,2,-999.000,9,-999.000,9,-999.000,9,  -999.0,9,  -999.0,9,  -999.0,9,   20.00,-999.0000,9,    25.00,-999.000,9, -999.00,-999.000,9,-999.000,9, -999.00,9,  -999.0,9,  -999.0,-999.000,9,-999.000,-999.000,9, -999.00,9,  169.20,-999.0000,9,-999.0000,9,-999.0000,9,-999.0000,9,-999.0000,9,-999.0000,9,  12.6217,     -999.0,-999.000,     -999.0,          9,     -999.0,          9,-999.000,          9
 33RO200501,       A16S,     112,          1,         29,         29,2,20050219,       0113,    -6.5000,   -25.0002,       5627,   209.8,  10.6242,  34.9969,2,  34.9877,2,     88.2,2,    89.6,2,   11.74,2,   28.42,2,    0.00,2,    1.75,2,   1.192,2,   0.633,2,   0.012,2,  -999.0,9,  2304.9,2,  -999.0,9,   20.00,   7.5899,2,    25.00,-999.000,9, -999.00,-999.000,9,-999.000,9, -999.00,9,  -999.0,9,  -999.0,-999.000,9,-999.000,   0.285,4, -999.00,9,  209.80,-999.0000,9,-999.0000,9,-999.0000,9,-999.0000,9,-999.0000,9,-999.0000,9,  10.5989,     -999.0,-999.000,      5.959,          2,      0.117,          2,   0.054,          2
 33RO200501,       A16S,     112,          1,         28,         28,2,20050219,       0113,    -6.5000,   -25.0002,       5627,   249.1,   9.8369,  34.9014,2,  34.8998,2,     87.4,2,    85.0,2,   13.42,2,   30.52,2,    0.00,2,    1.86,2,-999.000,9,-999.000,9,-999.000,9,  -999.0,9,  -999.0,9,  -999.0,9,   20.00,-999.0000,9,    25.00,-999.000,9, -999.00,-999.000,9,-999.000,9, -999.00,9,  -999.0,9,  -999.0,-999.000,9,-999.000,-999.000,9, -999.00,9,  249.10,-999.0000,9,-999.0000,9,-999.0000,9,-999.0000,9,-999.0000,9,-999.0000,9,   9.8082,     -999.0,-999.000,     -999.0,          9,     -999.0,          9,-999.000,          9
 33RO200501,       A16S,     112,          1,         27,         27,2,20050219,       0113,    -6.5000,   -25.0002,       5627,   299.6,   9.3409,  34.8455,2,  34.8453,2,     83.9,2,    82.4,2,   14.64,2,   31.89,2,    0.00,2,    1.92,2,-999.000,9,-999.000,9,-999.000,9,  -999.0,9,  -999.0,9,  -999.0,9,   20.00,-999.0000,9,    25.00,-999.000,9, -999.00,-999.000,9,-999.000,9, -999.00,9,  -999.0,9,  -999.0,-999.000,9,-999.000,-999.000,9, -999.00,9,  299.60,-999.0000,9,-999.0000,9,-999.0000,9,-999.0000,9,-999.0000,9,-999.0000,9,   9.3075,     -999.0,-999.000,      5.058,          2,      0.198,          2,   0.028,          2
 33RO200501,       A16S,     112,          1,         26,         26,2,20050219,       0113,    -6.5000,   -25.0002,       5627,   399.9,   7.9246,  34.7020,2,  34.7028,2,     87.2,2,    89.3,2,   18.17,2,   34.21,2,    0.00,2,    2.08,2,-999.000,9,-999.000,9,-999.000,9,  -999.0,9,  -999.0,9,  -999.0,9,   20.00,-999.0000,9,    25.00,-999.000,9, -999.00,-999.000,9,-999.000,9, -999.00,9,  -999.0,9,  -999.0,-999.000,9,-999.000,-999.000,9, -999.00,9,  399.90,-999.0000,9,-999.0000,9,-999.0000,9,-999.0000,9,-999.0000,9,-999.0000,9,   7.8840,     -999.0,-999.000,     -999.0,          9,     -999.0,          9,-999.000,          9
 33RO200501,       A16S,     112,          1,         25,         25,2,20050219,       0113,    -6.5000,   -25.0002,       5627,   500.0,   6.8503,  34.6020,2,  34.6002,2,    107.8,2,   109.4,2,   21.00,2,   34.40,2,    0.00,2,    2.12,2,   0.416,2,   0.219,2,   0.009,2,  -999.0,9,  2294.8,2,  -999.0,9,   20.00,-999.0000,5,    25.00,-999.000,9, -999.00,-999.000,9,-999.000,9, -999.00,9,  -999.0,9,  -999.0,-999.000,9,-999.000,   0.334,4, -999.00,9,  500.00,-999.0000,9,-999.0000,9,-999.0000,9,-999.0000,9,-999.0000,9,-999.0000,9,   6.8033,     -999.0,-999.000,      4.584,          2,      0.000,          2,   0.020,          2
 33RO200501,       A16S,     112,          1,         24,         24,2,20050219,       0113,    -6.5000,   -25.0002,       5627,   699.8,   5.1363,  34.4697,2,  34.4678,2,    151.8,2,   152.8,2,   27.47,2,   33.49,2,    0.00,2,    2.13,2,-999.000,9,-999.000,9,-999.000,9,  -999.0,9,  -999.0,9,  -999.0,9,   20.00,-999.0000,9,    25.00,-999.000,9, -999.00,-999.000,9,-999.000,9, -999.00,9,  -999.0,9,  -999.0,-999.000,9,-999.000,-999.000,9, -999.00,9,  699.80,-999.0000,9,-999.0000,9,-999.0000,9,-999.0000,9,-999.0000,9,-999.0000,9,   5.0788,     -999.0,-999.000,     -999.0,          9,     -999.0,          9,-999.000,          9
 33RO200501,       A16S,     112,          1,         23,         23,2,20050219,       0113,    -6.5000,   -25.0002,       5627,   900.3,   4.1657,  34.4887,2,  34.4875,2,    168.3,2,   167.0,2,   34.48,2,   33.10,2,    0.00,2,    2.13,2,   0.192,2,   0.101,2,   0.006,2,  -999.0,9,  2306.5,2,  -999.0,9,   20.00,   7.5765,2,    25.00,-999.000,9, -999.00,-999.000,9,-999.000,9, -999.00,9,  -999.0,9,  -999.0,-999.000,9,-999.000,   0.326,4, -999.00,9,  900.30,-999.0000,9,-999.0000,9,-999.0000,9,-999.0000,9,-999.0000,9,-999.0000,9,   4.0971,     -999.0,-999.000,      6.899,          2,      0.265,          2,   0.022,          2
 33RO200501,       A16S,     112,          1,         22,         22,2,20050219,       0113,    -6.5000,   -25.0002,       5627,  1098.7,   4.1512,  34.6671,2,  34.6672,2,    173.6,2,   170.2,2,   31.78,2,   30.56,2,    0.00,2,    1.96,2,-999.000,9,-999.000,9,-999.000,9,  -999.0,9,  -999.0,9,  -999.0,9,   20.00,-999.0000,9,    25.00,-999.000,9, -999.00,-999.000,9,-999.000,9, -999.00,9,  -999.0,9,  -999.0,-999.000,9,-999.000,-999.000,9, -999.00,9, 1098.70,-999.0000,9,-999.0000,9,-999.0000,9,-999.0000,9,-999.0000,9,-999.0000,9,   4.0657,     -999.0,-999.000,     -999.0,          9,     -999.0,          9,-999.000,          9
 33RO200501,       A16S,     112,          1,         21,         21,2,20050219,       0113,    -6.5000,   -25.0002,       5627,  1298.3,   4.3402,  34.8626,2,  34.8646,2,    195.2,2,   197.2,2,   23.63,2,   25.62,2,    0.00,2,    1.62,2,-999.000,9,-999.000,9,-999.000,9,  -999.0,9,  -999.0,9,  -999.0,9,   20.00,-999.0000,9,    25.00,-999.000,9, -999.00,-999.000,9,-999.000,9, -999.00,9,  -999.0,9,  -999.0,-999.000,9,-999.000,-999.000,9, -999.00,9, 1298.30,-999.0000,9,-999.0000,9,-999.0000,9,-999.0000,9,-999.0000,9,-999.0000,9,   4.2350,     -999.0,-999.000,      3.626,          2,      0.073,          2,   0.014,          2
 33RO200501,       A16S,     112,          1,         20,         20,2,20050219,       0113,    -6.5000,   -25.0002,       5627,  1498.6,   4.2175,  34.9345,2,  34.9348,2,    219.0,2,   219.4,2,   20.27,2,   22.61,2,    0.00,2,    1.42,2,-999.000,9,-999.000,9,-999.000,9,  -999.0,9,  -999.0,9,  -999.0,9,   20.00,-999.0000,9,    25.00,-999.000,9, -999.00,-999.000,9,-999.000,9, -999.00,9,  -999.0,9,  -999.0,-999.000,9,-999.000,-999.000,9, -999.00,9, 1498.60,-999.0000,9,-999.0000,9,-999.0000,9,-999.0000,9,-999.0000,9,-999.0000,9,   4.0950,     -999.0,-999.000,     -999.0,          9,     -999.0,          9,-999.000,          9
 33RO200501,       A16S,     112,          1,         19,         19,2,20050219,       0113,    -6.5000,   -25.0002,       5627,  1695.3,   3.9405,  34.9684,2,  34.9692,2,    239.1,2,   239.0,2,   18.74,2,   20.44,2,    0.00,2,    1.27,2,   0.109,2,   0.060,2,   0.009,2,  -999.0,9,  -999.0,9,  -999.0,9,   20.00,-999.0000,9,    25.00,-999.000,9, -999.00,-999.000,9,-999.000,9, -999.00,9,  -999.0,9,  -999.0,-999.000,9,-999.000,   0.292,4, -999.00,9, 1695.30,-999.0000,9,-999.0000,9,-999.0000,9,-999.0000,9,-999.0000,9,-999.0000,9,   3.8030,     -999.0,-999.000,      9.358,          2,      0.098,          2,   0.026,          2
 33RO200501,       A16S,     112,          1,         18,         18,2,20050219,       0113,    -6.5000,   -25.0002,       5627,  1899.1,   3.6065,  34.9556,2,  34.9572,2,    243.3,2,   242.6,2,   22.22,2,   20.50,2,    0.00,2,    1.29,2,-999.000,9,-999.000,9,-999.000,9,  -999.0,9,  -999.0,9,  -999.0,9,   20.00,-999.0000,9,    25.00,-999.000,9, -999.00,-999.000,9,-999.000,9, -999.00,9,  -999.0,9,  -999.0,-999.000,9,-999.000,-999.000,9, -999.00,9, 1899.10,-999.0000,9,-999.0000,9,-999.0000,9,-999.0000,9,-999.0000,9,-999.0000,9,   3.4544,     -999.0,-999.000,     -999.0,          9,     -999.0,          9,-999.000,          9
 33RO200501,       A16S,     112,          1,         17,         17,2,20050219,       0113,    -6.5000,   -25.0002,       5627,  2098.3,   3.2798,  34.9417,2,  34.9437,2,    243.9,2,   243.8,2,   26.79,2,   20.71,2,    0.00,2,    1.32,2,-999.000,9,-999.000,9,-999.000,9,  -999.0,9,  -999.0,9,  -999.0,9,   20.00,-999.0000,9,    25.00,-999.000,9, -999.00,-999.000,9,-999.000,9, -999.00,9,  -999.0,9,  -999.0,-999.000,9,-999.000,-999.000,9, -999.00,9, 2098.30,-999.0000,9,-999.0000,9,-999.0000,9,-999.0000,9,-999.0000,9,-999.0000,9,   3.1138,     -999.0,-999.000,     -999.0,          9,     -999.0,          9,-999.000,          9
 33RO200501,       A16S,     112,          1,         16,         16,2,20050219,       0113,    -6.5000,   -25.0002,       5627,  2397.5,   2.9562,  34.9208,2,  34.9203,2,    241.7,2,   241.2,2,   33.97,2,   21.51,2,    0.00,2,    1.38,2,   0.009,2,   0.008,2,   0.000,2,  -999.0,9,  -999.0,9,  -999.0,9,   20.00,-999.0000,9,    25.00,-999.000,9, -999.00,-999.000,9,-999.000,9, -999.00,9,  -999.0,9,  -999.0,-999.000,9,-999.000,   0.050,4, -999.00,9, 2397.50,-999.0000,9,-999.0000,9,-999.0000,9,-999.0000,9,-999.0000,9,-999.0000,9,   2.7671,     -999.0,-999.000,      0.000,          2,      0.000,          2,   0.010,          2
 33RO200501,       A16S,     112,          1,         15,         15,2,20050219,       0113,    -6.5000,   -25.0002,       5627,  2698.7,   2.7743,  34.9119,2,  34.9136,2,    241.8,2,   241.4,2,   37.16,2,   21.70,2,    0.00,2,    1.39,2,-999.000,9,-999.000,9,-999.000,9,  -999.0,9,  -999.0,9,  -999.0,9,   20.00,-999.0000,9,    25.00,-999.000,9, -999.00,-999.000,9,-999.000,9, -999.00,9,  -999.0,9,  -999.0,-999.000,9,-999.000,-999.000,9, -999.00,9, 2698.70,-999.0000,9,-999.0000,9,-999.0000,9,-999.0000,9,-999.0000,9,-999.0000,9,   2.5591,     -999.0,-999.000,     -999.0,          9,     -999.0,          9,-999.000,          9
 33RO200501,       A16S,     112,          1,         10,         10,2,20050219,       0113,    -6.5000,   -25.0002,       5627,  2998.7,   2.6826,  34.9155,2,  34.9173,2,    248.7,2,   248.7,2,   35.05,2,   20.83,2,    0.00,2,    1.34,2,   0.017,2,   0.009,2,   0.000,2,  -999.0,9,  -999.0,9,  -999.0,9,   20.00,-999.0000,9,    25.00,-999.000,9, -999.00,-999.000,9,-999.000,9, -999.00,9,  -999.0,9,  -999.0,-999.000,9,-999.000,   0.084,4, -999.00,9, 2998.70,-999.0000,9,-999.0000,9,-999.0000,9,-999.0000,9,-999.0000,9,-999.0000,9,   2.4389,     -999.0,-999.000,      0.000,          2,      0.053,          2,   0.014,          2
 33RO200501,       A16S,     112,          1,         13,         13,5,20050219,       0113,    -6.5000,   -25.0002,       5627,  2999.0,   2.6842,  34.9155,2,  34.9153,2,   -999.0,9,  -999.0,9, -999.00,9, -999.00,9, -999.00,9, -999.00,9,-999.000,9,-999.000,9,-999.000,9,  -999.0,9,  -999.0,9,  -999.0,9,   20.00,-999.0000,9,    25.00,-999.000,9, -999.00,-999.000,9,-999.000,9, -999.00,9,  -999.0,9,  -999.0,-999.000,9,-999.000,-999.000,9, -999.00,9, 2999.00,-999.0000,9,-999.0000,9,-999.0000,9,-999.0000,9,-999.0000,9,-999.0000,9,   2.4405,     -999.0,-999.000,     -999.0,          9,     -999.0,          9,-999.000,          9
 33RO200501,       A16S,     112,          1,         11,         11,5,20050219,       0113,    -6.5000,   -25.0002,       5627,  2999.1,   2.6835,  34.9155,2,  34.9181,3,   -999.0,9,  -999.0,9, -999.00,9, -999.00,9, -999.00,9, -999.00,9,-999.000,9,-999.000,9,-999.000,9,  -999.0,9,  -999.0,9,  -999.0,9,   20.00,-999.0000,9,    25.00,-999.000,9, -999.00,-999.000,9,-999.000,9, -999.00,9,  -999.0,9,  -999.0,-999.000,9,-999.000,-999.000,9, -999.00,9, 2999.10,-999.0000,9,-999.0000,9,-999.0000,9,-999.0000,9,-999.0000,9,-999.0000,9,   2.4398,     -999.0,-999.000,     -999.0,          9,     -999.0,          9,-999.000,          9
 33RO200501,       A16S,     112,          1,         12,         12,5,20050219,       0113,    -6.5000,   -25.0002,       5627,  2999.2,   2.6842,  34.9155,2,  34.9179,3,   -999.0,9,  -999.0,9, -999.00,9, -999.00,9, -999.00,9, -999.00,9,-999.000,9,-999.000,9,-999.000,9,  -999.0,9,  -999.0,9,  -999.0,9,   20.00,-999.0000,9,    25.00,-999.000,9, -999.00,-999.000,9,-999.000,9, -999.00,9,  -999.0,9,  -999.0,-999.000,9,-999.000,-999.000,9, -999.00,9, 2999.20,-999.0000,9,-999.0000,9,-999.0000,9,-999.0000,9,-999.0000,9,-999.0000,9,   2.4405,     -999.0,-999.000,     -999.0,          9,     -999.0,          9,-999.000,          9
 33RO200501,       A16S,     112,          1,         14,         14,5,20050219,       0113,    -6.5000,   -25.0002,       5627,  2999.3,   2.6845,  34.9156,2,  34.9169,2,   -999.0,9,  -999.0,9, -999.00,9, -999.00,9, -999.00,9, -999.00,9,-999.000,9,-999.000,9,-999.000,9,  -999.0,9,  -999.0,9,  -999.0,9,   20.00,-999.0000,9,    25.00,-999.000,9, -999.00,-999.000,9,-999.000,9, -999.00,9,  -999.0,9,  -999.0,-999.000,9,-999.000,-999.000,9, -999.00,9, 2999.30,-999.0000,9,-999.0000,9,-999.0000,9,-999.0000,9,-999.0000,9,-999.0000,9,   2.4407,     -999.0,-999.000,     -999.0,          9,     -999.0,          9,-999.000,          9
 33RO200501,       A16S,     112,          1,          9,          9,2,20050219,       0113,    -6.5000,   -25.0002,       5627,  3298.2,   2.5969,  34.9159,2,  34.9161,2,    254.8,2,   254.8,2,   32.72,2,   20.04,2,    0.00,2,    1.29,2,-999.000,9,-999.000,9,-999.000,9,  -999.0,9,  -999.0,9,  -999.0,9,   20.00,-999.0000,9,    25.00,-999.000,9, -999.00,-999.000,9,-999.000,9, -999.00,9,  -999.0,9,  -999.0,-999.000,9,-999.000,-999.000,9, -999.00,9, 3298.20,-999.0000,9,-999.0000,9,-999.0000,9,-999.0000,9,-999.0000,9,-999.0000,9,   2.3238,     -999.0,-999.000,     -999.0,          9,     -999.0,          9,-999.000,          9
 33RO200501,       A16S,     112,          1,          8,          8,2,20050219,       0113,    -6.5000,   -25.0002,       5627,  3598.9,   2.4679,  34.9066,2,  34.9073,2,    257.1,2,   257.4,2,   34.00,2,   19.94,2,    0.00,2,    1.28,2,   0.080,2,   0.047,2,   0.000,2,  -999.0,9,  -999.0,9,  -999.0,9,   20.00,-999.0000,9,    25.00,-999.000,9, -999.00,-999.000,9,-999.000,9, -999.00,9,  -999.0,9,  -999.0,-999.000,9,-999.000,   0.249,4, -999.00,9, 3598.90,-999.0000,9,-999.0000,9,-999.0000,9,-999.0000,9,-999.0000,9,-999.0000,9,   2.1655,     -999.0,-999.000,      0.892,          2,      0.110,          2,   0.008,          2