BOTTLE,20220818CCHSIOAMB
EXPOCODE,SECT_ID,STNNBR,CASTNO,SAMPNO,BTLNBR,BTLNBR_FLAG_W,DATE,TIME,LATITUDE,LONGITUDE,DEPTH,CTDPRS,CTDTMP,CTDSAL,CTDSAL_FLAG_W,SALNTY,SALNTY_FLAG_W,CTDOXY,CTDOXY_FLAG_W,OXYGEN,OXYGEN_FLAG_W,SILCAT,SILCAT_FLAG_W,NITRAT,NITRAT_FLAG_W,NITRIT,NITRIT_FLAG_W,PHSPHT,PHSPHT_FLAG_W,CFC-11,CFC-11_FLAG_W,CFC-12,CFC-12_FLAG_W,CFC113,CFC113_FLAG_W,TCARBN,TCARBN_FLAG_W,ALKALI,ALKALI_FLAG_W,PCO2,PCO2_FLAG_W,PCO2TMP,PH_SWS,PH_SWS_FLAG_W,PH_TMP,TRITUM,TRITUM_FLAG_W,TRITER,HELIUM,HELIUM_FLAG_W,DELHE3,DELHE3_FLAG_W,DELC13,DELC13_FLAG_W,DELC14,DELC14_FLAG_W,C14ERR,NEON,NEON_FLAG_W,NEONER,CCL4,CCL4_FLAG_W,DOC,DOC_FLAG_W,CTDRAW,CDOM325,CDOM325_FLAG_W,CDOM340,CDOM340_FLAG_W,CDOM380,CDOM380_FLAG_W,CDOM412,CDOM412_FLAG_W,CDOMSL,CDOMSL_FLAG_W,CDOMSN,CDOMSN_FLAG_W,THETA,HELIER,DELHER,CH3CL,CH3CL_FLAG_W,CH3BR,CH3BR_FLAG_W,CH3I,CH3I_FLAG_W
,,,,,,,,,,,METERS,DBAR,ITS-90,PSS-78,,PSS-78,,UMOL/KG,,UMOL/KG,,UMOL/KG,,UMOL/KG,,UMOL/KG,,UMOL/KG,,PMOL/KG,,PMOL/KG,,PMOL/KG,,UMOL/KG,,UMOL/KG,,UATM,,DEG C,,,DEG C,TU,,TU,NMOL/KG,,PERCNT,,/MILLE,,/MILLE,,/MILLE,NMOL/KG,,NMOL/KG,PMOL/KG,,UMOL/KG,,DBAR,1/M,,1/M,,1/M,,1/M,,1/NM,,1/NM,,DEG C,NMOL/KG,PERCNT,PMOL/KG,,PMOL/KG,,PMOL/KG,
 33RO200501,       A16S,     111,          1,          7,          7,2,20050218,       1806,    -7.0002,   -25.0000,       5627,  3849.5,   2.2338,  34.8833,2,  34.8831,2,    254.0,2,   254.7,2,   43.16,2,   20.95,2,    0.00,2,    1.36,2,   0.049,2,   0.032,2,   0.000,2,  2184.6,2,  2332.5,2,  -999.0,9,   20.00,   7.7249,2,    25.00,-999.000,9, -999.00,-999.000,9,-999.000,9, -999.00,9,  -999.0,9,  -999.0,-999.000,9,-999.000,   0.199,4,   40.30,2, 3849.50,-999.0000,9,-999.0000,9,-999.0000,9,-999.0000,9,-999.0000,9,-999.0000,9,   1.9099,     -999.0,-999.000,     -999.0,          9,     -999.0,          9,-999.000,          9
 33RO200501,       A16S,     111,          1,          6,          6,2,20050218,       1806,    -7.0002,   -25.0000,       5627,  4149.5,   1.6560,  34.8186,2,  34.8180,2,    240.6,2,   240.6,2,   69.89,2,   24.81,2,    0.00,2,    1.65,2,-999.000,9,-999.000,9,-999.000,9,  -999.0,9,  2349.2,2,  -999.0,9,   20.00,   7.6899,2,    25.00,-999.000,9, -999.00,-999.000,9,-999.000,9, -999.00,9,  -999.0,9,  -999.0,-999.000,9,-999.000,-999.000,9, -999.00,9, 4149.50,-999.0000,9,-999.0000,9,-999.0000,9,-999.0000,9,-999.0000,9,-999.0000,9,   1.3152,     -999.0,-999.000,     -999.0,          9,     -999.0,          9,-999.000,          9
 33RO200501,       A16S,     111,          1,          5,          5,2,20050218,       1806,    -7.0002,   -25.0000,       5627,  4449.1,   1.0978,  34.7581,2,  34.7571,3,    229.8,2,   230.1,2,   94.02,2,   28.19,2,    0.00,2,    1.89,2,   0.009,2,   0.002,2,   0.000,2,  2238.0,2,  2351.4,2,  -999.0,9,   20.00,   7.6573,2,    25.00,-999.000,9, -999.00,-999.000,9,-999.000,9, -999.00,9,  -999.0,9,  -999.0,-999.000,9,-999.000,   0.052,4,   40.29,2, 4449.10,-999.0000,9,-999.0000,9,-999.0000,9,-999.0000,9,-999.0000,9,-999.0000,9,   0.7406,     -999.0,-999.000,     -999.0,          9,     -999.0,          9,-999.000,          9
 33RO200501,       A16S,     111,          1,          4,          4,2,20050218,       1806,    -7.0002,   -25.0000,       5627,  4748.2,   0.8797,  34.7319,2,  34.7307,3,    225.6,2,   225.3,2,  104.15,6,   29.60,6,    0.00,6,    1.99,6,   0.008,2,   0.015,2,   0.000,2,  -999.0,9,  2356.7,2,  -999.0,9,   20.00,   7.6417,2,    25.00,-999.000,9, -999.00,-999.000,9,-999.000,9, -999.00,9,  -999.0,9,  -999.0,-999.000,9,-999.000,   0.058,4, -999.00,9, 4748.20,-999.0000,9,-999.0000,9,-999.0000,9,-999.0000,9,-999.0000,9,-999.0000,9,   0.4955,     -999.0,-999.000,     -999.0,          9,     -999.0,          9,-999.000,          9
 33RO200501,       A16S,     111,          1,          3,          3,2,20050218,       1806,    -7.0002,   -25.0000,       5627,  5048.6,   0.8009,  34.7193,2,  34.7191,2,    223.7,2,   223.6,2,  108.67,6,   30.21,6,    0.00,6,    2.03,6,   0.024,2,   0.014,2,   0.000,2,  2252.0,2,  2357.5,2,  -999.0,9,   20.00,   7.6322,2,    25.00,-999.000,9, -999.00,-999.000,9,-999.000,9, -999.00,9,  -999.0,9,  -999.0,-999.000,9,-999.000,   0.081,4,   40.48,2, 5048.60,-999.0000,9,-999.0000,9,-999.0000,9,-999.0000,9,-999.0000,9,-999.0000,9,   0.3844,     -999.0,-999.000,     -999.0,          9,     -999.0,          9,-999.000,          9
 33RO200501,       A16S,     111,          1,          2,          2,2,20050218,       1806,    -7.0002,   -25.0000,       5627,  5349.2,   0.7237,  34.7073,2,  34.7062,3,    222.5,2,   222.0,2,  113.20,6,   30.79,6,    0.00,6,    2.07,6,   0.040,6,   0.024,6,   0.000,6,  -999.0,9,  2361.9,6,  -999.0,9,   20.00,   7.6242,6,    25.00,-999.000,9, -999.00,-999.000,9,-999.000,9, -999.00,9,  -999.0,9,  -999.0,-999.000,9,-999.000,   0.107,4, -999.00,9, 5349.20,-999.0000,9,-999.0000,9,-999.0000,9,-999.0000,9,-999.0000,9,-999.0000,9,   0.2740,     -999.0,-999.000,     -999.0,          9,     -999.0,          9,-999.000,          9
 33RO200501,       A16S,     111,          1,          1,          1,2,20050218,       1806,    -7.0002,   -25.0000,       5627,  5725.1,   0.7409,  34.7036,2,  34.7062,3,    222.0,2,   221.0,2,  114.39,6,   30.90,6,    0.00,6,    2.08,6,   0.041,2,   0.018,2,   0.000,2,  2256.1,2,  2361.0,2,  -999.0,9,   20.00,   7.6200,2,    25.00,-999.000,9, -999.00,-999.000,9,-999.000,9, -999.00,9,  -999.0,9,  -999.0,-999.000,9,-999.000,   0.106,4,   39.99,2, 5725.10,-999.0000,9,-999.0000,9,-999.0000,9,-999.0000,9,-999.0000,9,-999.0000,9,   0.2438,     -999.0,-999.000,     -999.0,          9,     -999.0,          9,-999.000,          9