BOTTLE,20220818CCHSIOAMB
EXPOCODE,SECT_ID,STNNBR,CASTNO,SAMPNO,BTLNBR,BTLNBR_FLAG_W,DATE,TIME,LATITUDE,LONGITUDE,DEPTH,CTDPRS,CTDTMP,CTDSAL,CTDSAL_FLAG_W,SALNTY,SALNTY_FLAG_W,CTDOXY,CTDOXY_FLAG_W,OXYGEN,OXYGEN_FLAG_W,SILCAT,SILCAT_FLAG_W,NITRAT,NITRAT_FLAG_W,NITRIT,NITRIT_FLAG_W,PHSPHT,PHSPHT_FLAG_W,CFC-11,CFC-11_FLAG_W,CFC-12,CFC-12_FLAG_W,CFC113,CFC113_FLAG_W,TCARBN,TCARBN_FLAG_W,ALKALI,ALKALI_FLAG_W,PCO2,PCO2_FLAG_W,PCO2TMP,PH_SWS,PH_SWS_FLAG_W,PH_TMP,TRITUM,TRITUM_FLAG_W,TRITER,HELIUM,HELIUM_FLAG_W,DELHE3,DELHE3_FLAG_W,DELC13,DELC13_FLAG_W,DELC14,DELC14_FLAG_W,C14ERR,NEON,NEON_FLAG_W,NEONER,CCL4,CCL4_FLAG_W,DOC,DOC_FLAG_W,CTDRAW,CDOM325,CDOM325_FLAG_W,CDOM340,CDOM340_FLAG_W,CDOM380,CDOM380_FLAG_W,CDOM412,CDOM412_FLAG_W,CDOMSL,CDOMSL_FLAG_W,CDOMSN,CDOMSN_FLAG_W,THETA,HELIER,DELHER,CH3CL,CH3CL_FLAG_W,CH3BR,CH3BR_FLAG_W,CH3I,CH3I_FLAG_W
,,,,,,,,,,,METERS,DBAR,ITS-90,PSS-78,,PSS-78,,UMOL/KG,,UMOL/KG,,UMOL/KG,,UMOL/KG,,UMOL/KG,,UMOL/KG,,PMOL/KG,,PMOL/KG,,PMOL/KG,,UMOL/KG,,UMOL/KG,,UATM,,DEG C,,,DEG C,TU,,TU,NMOL/KG,,PERCNT,,/MILLE,,/MILLE,,/MILLE,NMOL/KG,,NMOL/KG,PMOL/KG,,UMOL/KG,,DBAR,1/M,,1/M,,1/M,,1/M,,1/NM,,1/NM,,DEG C,NMOL/KG,PERCNT,PMOL/KG,,PMOL/KG,,PMOL/KG,
 33RO200501,       A16S,      31,          1,         36,         36,2,20050125,       0545,   -47.0003,   -32.1323,       5307,     4.7,   8.1630,  33.8910,2,  33.8899,2,    296.8,2,   304.3,2,    1.46,2,   17.04,2,    0.19,2,    1.17,2,   4.261,2,   2.439,2,   0.369,2,  2086.0,6,  2268.6,2,  -999.0,9,   20.00,   7.8396,2,    25.00,-999.000,9, -999.00,-999.000,9,-999.000,9, -999.00,9,  -999.0,9,  -999.0,-999.000,9,-999.000,   5.493,4,   49.95,2,    4.70,   0.1120,2,   0.0820,2,   0.0420,2,   0.0270,2,   0.0169,2,   0.0175,2,   8.1625,     -999.0,-999.000,     -999.0,          9,     -999.0,          9,-999.000,          9
 33RO200501,       A16S,      31,          1,         35,         35,2,20050125,       0545,   -47.0003,   -32.1323,       5307,    25.9,   8.1479,  33.8909,2,  33.8921,2,    297.3,2,   297.5,2,    1.44,2,   17.02,2,    0.18,2,    1.17,2,   4.263,2,   2.437,2,   0.372,2,  2086.0,2,  2269.2,6,  -999.0,9,   20.00,   7.8379,6,    25.00,-999.000,9, -999.00,-999.000,9,-999.000,9, -999.00,9,  -999.0,9,  -999.0,-999.000,9,-999.000,   5.399,4,   49.46,2,   25.90,-999.0000,9,-999.0000,9,-999.0000,9,-999.0000,9,-999.0000,9,-999.0000,9,   8.1453,     -999.0,-999.000,     -999.0,          9,     -999.0,          9,-999.000,          9
 33RO200501,       A16S,      31,          1,         34,         34,2,20050125,       0545,   -47.0003,   -32.1323,       5307,    50.7,   7.0577,  33.9277,2,  33.9264,2,    301.1,2,   300.4,2,    2.09,2,   18.13,2,    0.20,2,    1.28,2,   4.524,2,   2.584,2,   0.388,2,  2099.0,2,  2270.6,2,  -999.0,9,   20.00,   7.8164,6,    25.00,-999.000,9, -999.00,-999.000,9,-999.000,9, -999.00,9,  -999.0,9,  -999.0,-999.000,9,-999.000,   5.680,4, -999.00,9,   50.70,-999.0000,9,-999.0000,9,-999.0000,9,-999.0000,9,-999.0000,9,-999.0000,9,   7.0531,     -999.0,-999.000,     -999.0,          9,     -999.0,          9,-999.000,          9
 33RO200501,       A16S,      31,          1,         33,         33,2,20050125,       0545,   -47.0003,   -32.1323,       5307,    71.1,   5.1683,  33.9901,2,  33.9896,2,    304.3,2,   303.8,2,    5.90,2,   20.75,2,    0.30,2,    1.52,2,   4.938,2,   2.733,2,   0.431,2,  2124.6,2,  2307.4,3,  -999.0,9,   20.00,   7.7599,2,    25.00,-999.000,9, -999.00,-999.000,9,-999.000,9, -999.00,9,  -999.0,9,  -999.0,-999.000,9,-999.000,   5.460,4,   47.98,2,   71.10,-999.0000,9,-999.0000,9,-999.0000,9,-999.0000,9,-999.0000,9,-999.0000,9,   5.1628,     -999.0,-999.000,     -999.0,          9,     -999.0,          9,-999.000,          9
 33RO200501,       A16S,      31,          1,         32,         32,2,20050125,       0545,   -47.0003,   -32.1323,       5307,    91.2,   4.2632,  33.9772,2,  33.9806,2,    302.5,2,   305.6,2,    9.04,2,   22.47,2,    0.38,2,    1.59,2,-999.000,9,-999.000,9,-999.000,9,  2133.0,2,  2277.1,2,  -999.0,9,   20.00,   7.7475,2,    25.00,-999.000,9, -999.00,-999.000,9,-999.000,9, -999.00,9,  -999.0,9,  -999.0,-999.000,9,-999.000,-999.000,9, -999.00,9,   91.20,-999.0000,9,-999.0000,9,-999.0000,9,-999.0000,9,-999.0000,9,-999.0000,9,   4.2569,     -999.0,-999.000,     -999.0,          9,     -999.0,          9,-999.000,          9
 33RO200501,       A16S,      31,          1,         31,         31,2,20050125,       0545,   -47.0003,   -32.1323,       5307,   115.0,   3.4958,  33.9802,2,  33.9867,2,    303.3,2,   303.5,2,   12.37,2,   24.45,2,    0.29,2,    1.67,2,   5.154,2,   2.829,2,   0.447,2,  2139.5,2,  2276.4,2,  -999.0,9,   20.00,   7.7204,2,    25.00,-999.000,9, -999.00,-999.000,9,-999.000,9, -999.00,9,  -999.0,9,  -999.0,-999.000,9,-999.000,   5.148,4,   47.22,2,  115.00,   0.0810,2,   0.0530,2,   0.0270,2,   0.0210,2,   0.0222,2,   0.0243,2,   3.4884,     -999.0,-999.000,     -999.0,          9,     -999.0,          9,-999.000,          9
 33RO200501,       A16S,      31,          1,         30,         30,2,20050125,       0545,   -47.0003,   -32.1323,       5307,   141.9,   3.5375,  34.0483,2,  33.8678,3,    293.4,2,   294.0,2,   13.68,2,   25.65,2,    0.04,2,    1.71,2,-999.000,9,-999.000,9,-999.000,9,  2144.9,2,  2278.7,2,  -999.0,9,   20.00,   7.7136,2,    25.00,-999.000,9, -999.00,-999.000,9,-999.000,9, -999.00,9,  -999.0,9,  -999.0,-999.000,9,-999.000,-999.000,9, -999.00,9,  141.90,-999.0000,9,-999.0000,9,-999.0000,9,-999.0000,9,-999.0000,9,-999.0000,9,   3.5284,     -999.0,-999.000,     -999.0,          9,     -999.0,          9,-999.000,          9
 33RO200501,       A16S,      31,          1,         29,         29,2,20050125,       0545,   -47.0003,   -32.1323,       5307,   166.2,   3.3456,  34.0540,2,  34.0537,2,    287.4,2,   292.9,2,   15.03,2,   26.03,2,    0.03,2,    1.74,2,   4.844,2,   2.622,2,   0.407,2,  2148.1,2,  2278.0,2,  -999.0,9,   20.00,   7.7074,2,    25.00,-999.000,9, -999.00,-999.000,9,-999.000,9, -999.00,9,  -999.0,9,  -999.0,-999.000,9,-999.000,   4.636,3,   46.31,2,  166.20,   0.1300,2,   0.0970,2,   0.0460,2,   0.0290,2,   0.0184,2,   0.0184,2,   3.3351,     -999.0,-999.000,     -999.0,          9,     -999.0,          9,-999.000,          9
 33RO200501,       A16S,      31,          1,         28,         28,2,20050125,       0545,   -47.0003,   -32.1323,       5307,   191.3,   3.2874,  34.0645,2,  34.0649,2,    290.7,2,   288.7,2,   16.02,2,   26.41,2,    0.02,2,    1.76,2,-999.000,9,-999.000,9,-999.000,9,  2151.1,2,  2274.3,2,  -999.0,9,   20.00,   7.6984,2,    25.00,-999.000,9, -999.00,-999.000,9,-999.000,9, -999.00,9,  -999.0,9,  -999.0,-999.000,9,-999.000,-999.000,9, -999.00,9,  191.30,-999.0000,9,-999.0000,9,-999.0000,9,-999.0000,9,-999.0000,9,-999.0000,9,   3.2753,     -999.0,-999.000,     -999.0,          9,     -999.0,          9,-999.000,          9
 33RO200501,       A16S,      31,          1,         27,         27,2,20050125,       0545,   -47.0003,   -32.1323,       5307,   227.3,   2.9087,  34.0661,2,  34.0637,2,    284.7,2,   285.0,2,   19.36,2,   27.35,2,    0.02,2,    1.82,2,   4.625,2,   2.503,2,   0.383,2,  2158.2,2,  2277.6,2,  -999.0,9,   20.00,   7.6904,2,    25.00,-999.000,9, -999.00,-999.000,9,-999.000,9, -999.00,9,  -999.0,9,  -999.0,-999.000,9,-999.000,   4.386,3,   44.01,2,  227.30,   0.1270,2,   0.0970,2,   0.0420,2,   0.0270,2,   0.0199,2,   0.0191,2,   2.8950,     -999.0,-999.000,     -999.0,          9,     -999.0,          9,-999.000,          9
 33RO200501,       A16S,      31,          1,         26,         26,2,20050125,       0545,   -47.0003,   -32.1323,       5307,   276.4,   2.8115,  34.0969,2,  34.0971,2,    264.1,2,   272.1,2,   23.61,2,   28.58,2,    0.01,2,    1.89,2,-999.000,9,-999.000,9,-999.000,9,  2167.0,2,  2283.4,2,  -999.0,9,   20.00,   7.6717,2,    25.00,-999.000,9, -999.00,-999.000,9,-999.000,9, -999.00,9,  -999.0,9,  -999.0,-999.000,9,-999.000,-999.000,9,   43.21,2,  276.40,   0.0910,2,   0.0600,2,   0.0320,2,   0.0230,2,   0.0189,2,   0.0212,2,   2.7950,     -999.0,-999.000,     -999.0,          9,     -999.0,          9,-999.000,          9
 33RO200501,       A16S,      31,          1,         25,         25,2,20050125,       0545,   -47.0003,   -32.1323,       5307,   326.8,   2.6646,  34.1388,2,  34.1425,2,    247.7,2,   256.7,2,   29.38,2,   29.93,2,    0.01,2,    1.98,2,-999.000,9,-999.000,9,-999.000,9,  2179.7,2,  -999.0,9,  -999.0,9,   20.00,   7.6549,2,    25.00,-999.000,9, -999.00,-999.000,9,-999.000,9, -999.00,9,  -999.0,9,  -999.0,-999.000,9,-999.000,-999.000,9, -999.00,9,  326.80,-999.0000,9,-999.0000,9,-999.0000,9,-999.0000,9,-999.0000,9,-999.0000,9,   2.6452,     -999.0,-999.000,     -999.0,          9,     -999.0,          9,-999.000,          9
 33RO200501,       A16S,      31,          1,         24,         24,2,20050125,       0545,   -47.0003,   -32.1323,       5307,   375.6,   2.8102,  34.2108,2,  34.2120,2,    234.9,2,   237.5,2,   35.48,2,   31.24,2,    0.01,2,    2.07,2,   3.125,6,   1.629,6,   0.236,6,  2192.8,2,  2297.4,2,  -999.0,9,   20.00,   7.6434,2,    25.00,-999.000,9, -999.00,-999.000,9,-999.000,9, -999.00,9,  -999.0,9,  -999.0,-999.000,9,-999.000,   2.927,3,   42.71,2,  375.60,-999.0000,9,-999.0000,9,-999.0000,9,-999.0000,9,-999.0000,9,-999.0000,9,   2.7873,     -999.0,-999.000,     -999.0,          9,     -999.0,          9,-999.000,          9
 33RO200501,       A16S,      31,          1,         23,         23,2,20050125,       0545,   -47.0003,   -32.1323,       5307,   451.0,   2.6675,  34.2694,2,  34.2685,2,    221.8,2,   222.6,2,   43.51,2,   32.46,2,    0.01,2,    2.16,2,   2.591,2,   1.333,2,   0.189,2,  2207.7,2,  2303.7,2,  -999.0,9,   20.00,   7.5964,2,    25.00,-999.000,9, -999.00,-999.000,9,-999.000,9, -999.00,9,  -999.0,9,  -999.0,-999.000,9,-999.000,   2.555,3,   41.76,2,  451.00,   0.1400,2,   0.1040,2,   0.0440,2,   0.0290,3,   0.0203,3,   0.0202,3,   2.6403,     -999.0,-999.000,     -999.0,          9,     -999.0,          9,-999.000,          9
 33RO200501,       A16S,      31,          1,         22,         22,2,20050125,       0545,   -47.0003,   -32.1323,       5307,   551.3,   2.5642,  34.3542,2,  34.3523,2,    206.3,2,   203.7,2,   53.17,2,   33.53,2,    0.00,2,    2.26,2,   1.852,2,   0.944,2,   0.127,2,  2223.6,2,  2308.2,2,  -999.0,9,   20.00,   7.5850,2,    25.00,-999.000,9, -999.00,-999.000,9,-999.000,9, -999.00,9,  -999.0,9,  -999.0,-999.000,9,-999.000,   1.916,3,   41.01,2,  551.30,-999.0000,9,-999.0000,9,-999.0000,9,-999.0000,9,-999.0000,9,-999.0000,9,   2.5308,     -999.0,-999.000,     -999.0,          9,     -999.0,          9,-999.000,          9
 33RO200501,       A16S,      31,          1,         21,         21,2,20050125,       0545,   -47.0003,   -32.1323,       5307,   653.0,   2.4044,  34.3987,2,  34.3982,2,    193.9,2,   195.5,2,   59.49,6,   34.01,6,    0.00,6,    2.29,6,   1.573,2,   0.799,2,   0.108,2,  2232.8,2,  2313.7,2,  -999.0,9,   20.00,   7.5749,2,    25.00,-999.000,9, -999.00,-999.000,9,-999.000,9, -999.00,9,  -999.0,9,  -999.0,-999.000,9,-999.000,   1.664,3,   40.67,2,  653.00,-999.0000,9,-999.0000,9,-999.0000,9,-999.0000,9,-999.0000,9,-999.0000,9,   2.3651,     -999.0,-999.000,     -999.0,          9,     -999.0,          9,-999.000,          9
 33RO200501,       A16S,      31,          1,         20,         20,2,20050125,       0545,   -47.0003,   -32.1323,       5307,   751.2,   2.5287,  34.4689,2,  34.4681,2,    183.1,2,   183.4,2,   63.90,2,   33.94,2,    0.00,2,    2.30,2,-999.000,9,-999.000,9,-999.000,9,  2239.6,2,  2326.7,2,  -999.0,9,   20.00,   7.5701,2,    25.00,-999.000,9, -999.00,-999.000,9,-999.000,9, -999.00,9,  -999.0,9,  -999.0,-999.000,9,-999.000,-999.000,9, -999.00,9,  751.20,-999.0000,9,-999.0000,9,-999.0000,9,-999.0000,9,-999.0000,9,-999.0000,9,   2.4820,     -999.0,-999.000,     -999.0,          9,     -999.0,          9,-999.000,          9
 33RO200501,       A16S,      31,          1,         19,         19,2,20050125,       0545,   -47.0003,   -32.1323,       5307,   851.4,   2.4539,  34.5227,2,  34.5213,2,    177.8,2,   175.9,2,   68.58,2,   33.86,2,    0.00,2,    2.28,2,   0.754,2,   0.377,2,   0.057,2,  2246.0,2,  2332.6,6,  -999.0,9,   20.00,   7.5700,6,    25.00,-999.000,9, -999.00,-999.000,9,-999.000,9, -999.00,9,  -999.0,9,  -999.0,-999.000,9,-999.000,   0.915,3,   39.93,2,  851.40,   0.1920,2,   0.1460,2,   0.0670,2,   0.0410,2,   0.0179,2,   0.0183,2,   2.4007,     -999.0,-999.000,     -999.0,          9,     -999.0,          9,-999.000,          9
 33RO200501,       A16S,      31,          1,         18,         18,2,20050125,       0545,   -47.0003,   -32.1323,       5307,   952.8,   2.5829,  34.5931,2,  34.5928,2,    175.8,2,   175.9,2,   69.65,2,   33.12,2,    0.00,2,    2.23,2,   0.396,2,   0.198,2,   0.020,2,  2245.4,6,  2330.3,2,  -999.0,9,   20.00,   7.5857,2,    25.00,-999.000,9, -999.00,-999.000,9,-999.000,9, -999.00,9,  -999.0,9,  -999.0,-999.000,9,-999.000,   0.584,3, -999.00,9,  952.80,-999.0000,9,-999.0000,9,-999.0000,9,-999.0000,9,-999.0000,9,-999.0000,9,   2.5215,     -999.0,-999.000,     -999.0,          9,     -999.0,          9,-999.000,          9
 33RO200501,       A16S,      31,          1,         17,         17,2,20050125,       0545,   -47.0003,   -32.1323,       5307,  1102.2,   2.6862,  34.6710,2,  34.6710,2,    178.3,2,   181.7,2,   67.05,2,   31.46,2,    0.00,2,    2.11,2,   0.217,2,   0.108,2,   0.012,2,  2239.4,2,  2330.4,2,  -999.0,9,   20.00,   7.5996,2,    25.00,-999.000,9, -999.00,-999.000,9,-999.000,9, -999.00,9,  -999.0,9,  -999.0,-999.000,9,-999.000,   0.356,3,   39.79,2, 1102.20,   0.1530,2,   0.1120,2,   0.0540,2,   0.0350,2,   0.0173,2,   0.0183,2,   2.6129,     -999.0,-999.000,     -999.0,          9,     -999.0,          9,-999.000,          9
 33RO200501,       A16S,      31,          1,         16,         16,2,20050125,       0545,   -47.0003,   -32.1323,       5307,  1300.3,   2.5537,  34.7153,2,  34.7150,2,    182.0,2,   185.8,2,   70.42,6,   30.65,6,    0.00,6,    2.08,6,-999.000,9,-999.000,9,-999.000,9,  2240.2,2,  2342.1,2,  -999.0,9,   20.00,   7.6218,2,    25.00,-999.000,9, -999.00,-999.000,9,-999.000,9, -999.00,9,  -999.0,9,  -999.0,-999.000,9,-999.000,-999.000,9, -999.00,9, 1300.30,-999.0000,9,-999.0000,9,-999.0000,9,-999.0000,9,-999.0000,9,-999.0000,9,   2.4664,     -999.0,-999.000,     -999.0,          9,     -999.0,          9,-999.000,          9
 33RO200501,       A16S,      31,          1,         15,         15,2,20050125,       0545,   -47.0003,   -32.1323,       5307,  1502.2,   2.4564,  34.7534,2,  34.7538,2,    191.7,2,   192.8,2,   71.44,2,   29.63,2,    0.00,2,    2.02,2,   0.127,2,   0.069,2,   0.004,2,  2236.4,2,  2344.4,2,  -999.0,9,   20.00,   7.6280,2,    25.00,-999.000,9, -999.00,-999.000,9,-999.000,9, -999.00,9,  -999.0,9,  -999.0,-999.000,9,-999.000,   0.244,3,   40.75,2, 1502.20,-999.0000,9,-999.0000,9,-999.0000,9,-999.0000,9,-999.0000,9,-999.0000,9,   2.3542,     -999.0,-999.000,     -999.0,          9,     -999.0,          9,-999.000,          9
 33RO200501,       A16S,      31,          1,         14,         14,2,20050125,       0545,   -47.0003,   -32.1323,       5307,  1700.7,   2.3663,  34.7773,2,  34.7760,2,    200.6,2,   199.6,2,   71.28,2,   28.67,2,    0.00,2,    1.95,2,   0.098,2,   0.048,2,   0.006,2,  2233.0,2,  2345.0,2,  -999.0,9,   20.00,   7.6389,2,    25.00,-999.000,9, -999.00,-999.000,9,-999.000,9, -999.00,9,  -999.0,9,  -999.0,-999.000,9,-999.000,   0.199,3, -999.00,9, 1700.70,-999.0000,9,-999.0000,9,-999.0000,9,-999.0000,9,-999.0000,9,-999.0000,9,   2.2491,     -999.0,-999.000,     -999.0,          9,     -999.0,          9,-999.000,          9
 33RO200501,       A16S,      31,          1,         13,         13,2,20050125,       0545,   -47.0003,   -32.1323,       5307,  1900.5,   2.1476,  34.7736,2,  34.7738,2,    199.9,2,   200.5,2,   76.64,2,   28.90,2,    0.00,2,    1.98,2,   0.103,2,   0.054,2,   0.005,2,  2236.0,2,  2347.1,2,  -999.0,9,   20.00,   7.6395,2,    25.00,-999.000,9, -999.00,-999.000,9,-999.000,9, -999.00,9,  -999.0,9,  -999.0,-999.000,9,-999.000,   0.182,3,   40.81,2, 1900.50,-999.0000,9,-999.0000,9,-999.0000,9,-999.0000,9,-999.0000,9,-999.0000,9,   2.0168,     -999.0,-999.000,     -999.0,          9,     -999.0,          9,-999.000,          9
 33RO200501,       A16S,      31,          1,         12,         12,2,20050125,       0545,   -47.0003,   -32.1323,       5307,  2100.6,   2.0016,  34.7710,2,  34.7701,2,    202.4,2,   201.9,2,   80.64,6,   29.03,6,    0.00,6,    1.99,6,-999.000,9,-999.000,9,-999.000,9,  2237.4,2,  2345.6,2,  -999.0,9,   20.00,   7.6389,2,    25.00,-999.000,9, -999.00,-999.000,9,-999.000,9, -999.00,9,  -999.0,9,  -999.0,-999.000,9,-999.000,-999.000,9, -999.00,9, 2100.60,-999.0000,9,-999.0000,9,-999.0000,9,-999.0000,9,-999.0000,9,-999.0000,9,   1.8561,     -999.0,-999.000,     -999.0,          9,     -999.0,          9,-999.000,          9
 33RO200501,       A16S,      31,          1,         11,         11,2,20050125,       0545,   -47.0003,   -32.1323,       5307,  2301.4,   1.6668,  34.7481,2,  34.7477,2,    199.9,2,   200.0,2,   92.50,2,   30.21,2,    0.00,2,    2.08,2,   0.130,2,   0.072,2,   0.005,2,  2247.9,2,  2350.5,2,  -999.0,9,   20.00,   7.6210,2,    25.00,-999.000,9, -999.00,-999.000,9,-999.000,9, -999.00,9,  -999.0,9,  -999.0,-999.000,9,-999.000,   0.204,3,   40.29,2, 2301.40,-999.0000,9,-999.0000,9,-999.0000,9,-999.0000,9,-999.0000,9,-999.0000,9,   1.5098,     -999.0,-999.000,     -999.0,          9,     -999.0,          9,-999.000,          9
 33RO200501,       A16S,      31,          1,         10,         10,2,20050125,       0545,   -47.0003,   -32.1323,       5307,  2502.0,   1.4509,  34.7372,2,  34.7373,2,    200.3,2,   200.8,2,   99.79,2,   30.75,2,    0.00,2,    2.12,2,   0.133,2,   0.075,2,   0.009,2,  2252.8,2,  2358.0,2,  -999.0,9,   20.00,   7.6146,2,    25.00,-999.000,9, -999.00,-999.000,9,-999.000,9, -999.00,9,  -999.0,9,  -999.0,-999.000,9,-999.000,   0.192,3, -999.00,9, 2502.00,-999.0000,9,-999.0000,9,-999.0000,9,-999.0000,9,-999.0000,9,-999.0000,9,   1.2803,     -999.0,-999.000,     -999.0,          9,     -999.0,          9,-999.000,          9
 33RO200501,       A16S,      31,          1,          9,          9,2,20050125,       0545,   -47.0003,   -32.1323,       5307,  2752.1,   1.1869,  34.7226,2,  34.7224,2,    202.6,2,   189.6,3,  107.45,2,   31.37,2,    0.00,2,    2.17,2,   0.175,2,   0.093,2,   0.017,2,  2254.6,2,  2360.5,2,  -999.0,9,   20.00,   7.6195,2,    25.00,-999.000,9, -999.00,-999.000,9,-999.000,9, -999.00,9,  -999.0,9,  -999.0,-999.000,9,-999.000,   0.238,3,   40.17,2, 2752.10,-999.0000,9,-999.0000,9,-999.0000,9,-999.0000,9,-999.0000,9,-999.0000,9,   0.9995,     -999.0,-999.000,     -999.0,          9,     -999.0,          9,-999.000,          9
 33RO200501,       A16S,      31,          1,          8,          8,2,20050125,       0545,   -47.0003,   -32.1323,       5307,  3050.4,   0.9428,  34.7103,2,  34.7098,2,    206.7,2,   206.6,2,  112.43,6,   31.68,6,    0.00,6,    2.22,6,   0.220,2,   0.116,2,   0.015,2,  2256.1,2,  2359.4,2,  -999.0,9,   20.00,   7.6273,2,    25.00,-999.000,9, -999.00,-999.000,9,-999.000,9, -999.00,9,  -999.0,9,  -999.0,-999.000,9,-999.000,   0.289,3, -999.00,9, 3050.40,   0.1560,2,   0.1130,2,   0.0550,2,   0.0370,2,   0.0165,2,   0.0178,2,   0.7335,     -999.0,-999.000,     -999.0,          9,     -999.0,          9,-999.000,          9