BOTTLE,20220818CCHSIOAMB
EXPOCODE,SECT_ID,STNNBR,CASTNO,SAMPNO,BTLNBR,BTLNBR_FLAG_W,DATE,TIME,LATITUDE,LONGITUDE,DEPTH,CTDPRS,CTDTMP,CTDSAL,CTDSAL_FLAG_W,SALNTY,SALNTY_FLAG_W,CTDOXY,CTDOXY_FLAG_W,OXYGEN,OXYGEN_FLAG_W,SILCAT,SILCAT_FLAG_W,NITRAT,NITRAT_FLAG_W,NITRIT,NITRIT_FLAG_W,PHSPHT,PHSPHT_FLAG_W,CFC-11,CFC-11_FLAG_W,CFC-12,CFC-12_FLAG_W,CFC113,CFC113_FLAG_W,TCARBN,TCARBN_FLAG_W,ALKALI,ALKALI_FLAG_W,PCO2,PCO2_FLAG_W,PCO2TMP,PH_SWS,PH_SWS_FLAG_W,PH_TMP,TRITUM,TRITUM_FLAG_W,TRITER,HELIUM,HELIUM_FLAG_W,DELHE3,DELHE3_FLAG_W,DELC13,DELC13_FLAG_W,DELC14,DELC14_FLAG_W,C14ERR,NEON,NEON_FLAG_W,NEONER,CCL4,CCL4_FLAG_W,DOC,DOC_FLAG_W,CTDRAW,CDOM325,CDOM325_FLAG_W,CDOM340,CDOM340_FLAG_W,CDOM380,CDOM380_FLAG_W,CDOM412,CDOM412_FLAG_W,CDOMSL,CDOMSL_FLAG_W,CDOMSN,CDOMSN_FLAG_W,THETA,HELIER,DELHER,CH3CL,CH3CL_FLAG_W,CH3BR,CH3BR_FLAG_W,CH3I,CH3I_FLAG_W
,,,,,,,,,,,METERS,DBAR,ITS-90,PSS-78,,PSS-78,,UMOL/KG,,UMOL/KG,,UMOL/KG,,UMOL/KG,,UMOL/KG,,UMOL/KG,,PMOL/KG,,PMOL/KG,,PMOL/KG,,UMOL/KG,,UMOL/KG,,UATM,,DEG C,,,DEG C,TU,,TU,NMOL/KG,,PERCNT,,/MILLE,,/MILLE,,/MILLE,NMOL/KG,,NMOL/KG,PMOL/KG,,UMOL/KG,,DBAR,1/M,,1/M,,1/M,,1/M,,1/NM,,1/NM,,DEG C,NMOL/KG,PERCNT,PMOL/KG,,PMOL/KG,,PMOL/KG,
 33RO200501,       A16S,      54,          1,         36,         36,2,20050201,       1122,   -35.5000,   -25.0003,       4118,     2.1,  19.1051,  35.3806,2,  35.3831,2,    236.1,2,   235.1,2,    1.22,2,    0.00,2,    0.00,2,    0.10,2,   2.373,2,   1.488,2,   0.202,2,  2052.7,6,  2324.8,6,  -999.0,9,   20.00,   7.9893,6,    25.00,-999.000,9, -999.00,-999.000,9,-999.000,9, -999.00,9,  -999.0,9,  -999.0,-999.000,9,-999.000,   2.150,4, -999.00,9,    2.10,-999.0000,9,-999.0000,9,-999.0000,9,-999.0000,9,-999.0000,9,-999.0000,9,  19.1048,     -999.0,-999.000,     70.042,          2,      1.251,          2,   4.476,          2
 33RO200501,       A16S,      54,          1,         35,         35,2,20050201,       1122,   -35.5000,   -25.0003,       4118,    24.4,  19.0256,  35.3785,2,  35.3784,2,    236.3,2,   235.4,2,    1.25,2,    0.00,2,    0.00,2,    0.09,2,-999.000,9,-999.000,9,-999.000,9,  -999.0,9,  -999.0,9,  -999.0,9,   20.00,-999.0000,9,    25.00,-999.000,9, -999.00,-999.000,9,-999.000,9, -999.00,9,  -999.0,9,  -999.0,-999.000,9,-999.000,-999.000,9, -999.00,9,   24.40,-999.0000,9,-999.0000,9,-999.0000,9,-999.0000,9,-999.0000,9,-999.0000,9,  19.0212,     -999.0,-999.000,     71.629,          2,      1.009,          2,   4.619,          2
 33RO200501,       A16S,      54,          1,         34,         34,2,20050201,       1122,   -35.5000,   -25.0003,       4118,    48.9,  18.3422,  35.3824,2,  35.3851,2,    241.6,2,   242.8,2,    1.33,2,    0.01,2,    0.00,2,    0.09,2,   2.505,2,   1.556,2,   0.216,2,  -999.0,9,  -999.0,9,  -999.0,9,   20.00,-999.0000,9,    25.00,-999.000,9, -999.00,-999.000,9,-999.000,9, -999.00,9,  -999.0,9,  -999.0,-999.000,9,-999.000,   2.136,4, -999.00,9,   48.90,-999.0000,9,-999.0000,9,-999.0000,9,-999.0000,9,-999.0000,9,-999.0000,9,  18.3337,     -999.0,-999.000,    103.221,          2,      1.390,          2,   7.580,          2
 33RO200501,       A16S,      54,          1,         33,         33,2,20050201,       1122,   -35.5000,   -25.0003,       4118,    70.1,  16.1670,  35.4345,2,  35.4340,2,    251.0,2,   254.3,2,    1.47,2,    0.01,2,    0.00,2,    0.12,2,-999.000,9,-999.000,9,-999.000,9,  -999.0,9,  -999.0,9,  -999.0,9,   20.00,-999.0000,9,    25.00,-999.000,9, -999.00,-999.000,9,-999.000,9, -999.00,9,  -999.0,9,  -999.0,-999.000,9,-999.000,-999.000,9, -999.00,9,   70.10,-999.0000,9,-999.0000,9,-999.0000,9,-999.0000,9,-999.0000,9,-999.0000,9,  16.1559,     -999.0,-999.000,     -999.0,          9,     -999.0,          9,-999.000,          9
 33RO200501,       A16S,      54,          1,         32,         32,2,20050201,       1122,   -35.5000,   -25.0003,       4118,    89.1,  15.2592,  35.4536,2,  35.4539,2,    244.2,2,   239.8,2,    1.73,2,    1.62,2,    0.18,2,    0.24,2,   2.783,2,   1.679,2,   0.193,2,  -999.0,9,  -999.0,9,  -999.0,9,   20.00,-999.0000,9,    25.00,-999.000,9, -999.00,-999.000,9,-999.000,9, -999.00,9,  -999.0,9,  -999.0,-999.000,9,-999.000,   1.676,4, -999.00,9,   89.10,-999.0000,9,-999.0000,9,-999.0000,9,-999.0000,9,-999.0000,9,-999.0000,9,  15.2455,     -999.0,-999.000,     56.514,          2,      0.513,          2,   2.319,          2
 33RO200501,       A16S,      54,          1,         31,         31,2,20050201,       1122,   -35.5000,   -25.0003,       4118,   113.6,  14.5128,  35.4454,2,  35.4463,2,    226.6,2,   227.6,2,    2.12,2,    4.76,2,    0.03,2,    0.40,2,-999.000,9,-999.000,9,-999.000,9,  -999.0,9,  -999.0,9,  -999.0,9,   20.00,-999.0000,9,    25.00,-999.000,9, -999.00,-999.000,9,-999.000,9, -999.00,9,  -999.0,9,  -999.0,-999.000,9,-999.000,-999.000,9, -999.00,9,  113.60,-999.0000,9,-999.0000,9,-999.0000,9,-999.0000,9,-999.0000,9,-999.0000,9,  14.4960,     -999.0,-999.000,     -999.0,          9,     -999.0,          9,-999.000,          9
 33RO200501,       A16S,      54,          1,         30,         30,2,20050201,       1122,   -35.5000,   -25.0003,       4118,   139.8,  14.3113,  35.4467,2,  35.4459,2,    224.2,2,   221.2,2,    2.27,2,    5.48,2,    0.01,2,    0.44,2,   2.853,2,   1.666,2,   0.140,2,  -999.0,9,  -999.0,9,  -999.0,9,   20.00,-999.0000,9,    25.00,-999.000,9, -999.00,-999.000,9,-999.000,9, -999.00,9,  -999.0,9,  -999.0,-999.000,9,-999.000,   1.125,4, -999.00,9,  139.80,-999.0000,9,-999.0000,9,-999.0000,9,-999.0000,9,-999.0000,9,-999.0000,9,  14.2908,     -999.0,-999.000,     20.919,          2,      0.211,          2,   0.270,          2
 33RO200501,       A16S,      54,          1,         29,         29,2,20050201,       1122,   -35.5000,   -25.0003,       4118,   164.4,  14.0689,  35.4204,2,  35.4199,2,    225.8,2,   228.4,2,    2.38,2,    5.81,2,    0.01,2,    0.46,2,-999.000,9,-999.000,9,-999.000,9,  -999.0,9,  -999.0,9,  -999.0,9,   20.00,-999.0000,9,    25.00,-999.000,9, -999.00,-999.000,9,-999.000,9, -999.00,9,  -999.0,9,  -999.0,-999.000,9,-999.000,-999.000,9, -999.00,9,  164.40,-999.0000,9,-999.0000,9,-999.0000,9,-999.0000,9,-999.0000,9,-999.0000,9,  14.0450,     -999.0,-999.000,     -999.0,          9,     -999.0,          9,-999.000,          9
 33RO200501,       A16S,      54,          1,         28,         28,2,20050201,       1122,   -35.5000,   -25.0003,       4118,   189.1,  13.8396,  35.3886,2,  35.3866,2,    228.5,2,   229.1,2,    2.49,2,    6.26,2,    0.01,2,    0.49,2,-999.000,9,-999.000,9,-999.000,9,  -999.0,9,  -999.0,9,  -999.0,9,   20.00,-999.0000,9,    25.00,-999.000,9, -999.00,-999.000,9,-999.000,9, -999.00,9,  -999.0,9,  -999.0,-999.000,9,-999.000,-999.000,9, -999.00,9,  189.10,-999.0000,9,-999.0000,9,-999.0000,9,-999.0000,9,-999.0000,9,-999.0000,9,  13.8124,     -999.0,-999.000,     10.182,          2,      0.000,          2,   0.174,          2
 33RO200501,       A16S,      54,          1,         27,         27,2,20050201,       1122,   -35.5000,   -25.0003,       4118,   225.0,  13.6004,  35.3509,2,  35.3513,2,    229.6,2,   229.0,2,    2.62,2,    6.78,2,    0.01,2,    0.52,2,-999.000,9,-999.000,9,-999.000,9,  -999.0,9,  -999.0,9,  -999.0,9,   20.00,-999.0000,9,    25.00,-999.000,9, -999.00,-999.000,9,-999.000,9, -999.00,9,  -999.0,9,  -999.0,-999.000,9,-999.000,-999.000,9, -999.00,9,  225.00,-999.0000,9,-999.0000,9,-999.0000,9,-999.0000,9,-999.0000,9,-999.0000,9,  13.5684,     -999.0,-999.000,     -999.0,          9,     -999.0,          9,-999.000,          9
 33RO200501,       A16S,      54,          1,         26,         26,2,20050201,       1122,   -35.5000,   -25.0003,       4118,   273.4,  13.3567,  35.3163,2,  35.3154,2,    231.7,2,   231.6,2,    2.66,2,    7.07,2,    0.01,2,    0.55,2,-999.000,9,-999.000,9,-999.000,9,  -999.0,9,  -999.0,9,  -999.0,9,   20.00,-999.0000,9,    25.00,-999.000,9, -999.00,-999.000,9,-999.000,9, -999.00,9,  -999.0,9,  -999.0,-999.000,9,-999.000,-999.000,9, -999.00,9,  273.40,-999.0000,9,-999.0000,9,-999.0000,9,-999.0000,9,-999.0000,9,-999.0000,9,  13.3181,     -999.0,-999.000,     -999.0,          9,     -999.0,          9,-999.000,          9
 33RO200501,       A16S,      54,          1,         25,         25,2,20050201,       1122,   -35.5000,   -25.0003,       4118,   323.4,  12.8025,  35.2182,2,  35.2163,2,    222.9,2,   223.5,2,    3.22,2,    9.26,2,    0.01,2,    0.67,2,-999.000,9,-999.000,9,-999.000,9,  -999.0,9,  -999.0,9,  -999.0,9,   20.00,-999.0000,9,    25.00,-999.000,9, -999.00,-999.000,9,-999.000,9, -999.00,9,  -999.0,9,  -999.0,-999.000,9,-999.000,-999.000,9, -999.00,9,  323.40,-999.0000,9,-999.0000,9,-999.0000,9,-999.0000,9,-999.0000,9,-999.0000,9,  12.7581,     -999.0,-999.000,      4.889,          2,      0.000,          2,   0.094,          2
 33RO200501,       A16S,      54,          1,         24,         24,2,20050201,       1122,   -35.5000,   -25.0003,       4118,   369.4,  11.9397,  35.0731,2,  35.0700,2,    214.2,2,   215.2,2,    4.07,2,   12.20,2,    0.01,2,    0.84,2,-999.000,9,-999.000,9,-999.000,9,  -999.0,9,  -999.0,9,  -999.0,9,   20.00,-999.0000,9,    25.00,-999.000,9, -999.00,-999.000,9,-999.000,9, -999.00,9,  -999.0,9,  -999.0,-999.000,9,-999.000,-999.000,9, -999.00,9,  369.40,-999.0000,9,-999.0000,9,-999.0000,9,-999.0000,9,-999.0000,9,-999.0000,9,  11.8913,     -999.0,-999.000,     -999.0,          9,     -999.0,          9,-999.000,          9
 33RO200501,       A16S,      54,          1,         23,         23,2,20050201,       1122,   -35.5000,   -25.0003,       4118,   448.8,  10.0196,  34.7910,2,  34.7883,2,    210.8,2,   211.4,2,    5.99,2,   17.03,2,    0.01,2,    1.13,2,-999.000,9,-999.000,9,-999.000,9,  -999.0,9,  -999.0,9,  -999.0,9,   20.00,-999.0000,9,    25.00,-999.000,9, -999.00,-999.000,9,-999.000,9, -999.00,9,  -999.0,9,  -999.0,-999.000,9,-999.000,-999.000,9, -999.00,9,  448.80,-999.0000,9,-999.0000,9,-999.0000,9,-999.0000,9,-999.0000,9,-999.0000,9,   9.9670,     -999.0,-999.000,     -999.0,          9,     -999.0,          9,-999.000,          9
 33RO200501,       A16S,      54,          1,         22,         22,2,20050201,       1122,   -35.5000,   -25.0003,       4118,   549.3,   7.7306,  34.5171,2,  34.5111,2,    217.4,2,   219.3,2,    9.12,2,   22.07,2,    0.01,2,    1.44,2,-999.000,9,-999.000,9,-999.000,9,  -999.0,9,  -999.0,9,  -999.0,9,   20.00,-999.0000,9,    25.00,-999.000,9, -999.00,-999.000,9,-999.000,9, -999.00,9,  -999.0,9,  -999.0,-999.000,9,-999.000,-999.000,9, -999.00,9,  549.30,-999.0000,9,-999.0000,9,-999.0000,9,-999.0000,9,-999.0000,9,-999.0000,9,   7.6752,     -999.0,-999.000,      0.000,          2,      0.000,          2,   0.044,          2
 33RO200501,       A16S,      54,          1,         21,         21,2,20050201,       1122,   -35.5000,   -25.0003,       4118,   649.8,   5.8298,  34.3292,2,  34.3287,2,    232.4,2,   234.3,2,   12.51,2,   25.18,2,    0.01,2,    1.64,2,-999.000,9,-999.000,9,-999.000,9,  -999.0,9,  -999.0,9,  -999.0,9,   20.00,-999.0000,9,    25.00,-999.000,9, -999.00,-999.000,9,-999.000,9, -999.00,9,  -999.0,9,  -999.0,-999.000,9,-999.000,-999.000,9, -999.00,9,  649.80,-999.0000,9,-999.0000,9,-999.0000,9,-999.0000,9,-999.0000,9,-999.0000,9,   5.7733,     -999.0,-999.000,     -999.0,          9,     -999.0,          9,-999.000,          9
 33RO200501,       A16S,      54,          1,         20,         20,2,20050201,       1122,   -35.5000,   -25.0003,       4118,   748.7,   5.0250,  34.2768,2,  34.2776,2,    239.4,2,   239.4,2,   15.67,2,   26.63,2,    0.01,2,    1.74,2,-999.000,9,-999.000,9,-999.000,9,  -999.0,9,  -999.0,9,  -999.0,9,   20.00,-999.0000,9,    25.00,-999.000,9, -999.00,-999.000,9,-999.000,9, -999.00,9,  -999.0,9,  -999.0,-999.000,9,-999.000,-999.000,9, -999.00,9,  748.70,-999.0000,9,-999.0000,9,-999.0000,9,-999.0000,9,-999.0000,9,-999.0000,9,   4.9641,     -999.0,-999.000,     -999.0,          9,     -999.0,          9,-999.000,          9
 33RO200501,       A16S,      54,          1,         19,         19,2,20050201,       1122,   -35.5000,   -25.0003,       4118,   849.6,   4.3906,  34.2564,2,  34.2570,2,    238.0,2,   237.2,2,   20.35,2,   28.14,2,    0.01,2,    1.85,2,-999.000,9,-999.000,9,-999.000,9,  -999.0,9,  -999.0,9,  -999.0,9,   20.00,-999.0000,9,    25.00,-999.000,9, -999.00,-999.000,9,-999.000,9, -999.00,9,  -999.0,9,  -999.0,-999.000,9,-999.000,-999.000,9, -999.00,9,  849.60,-999.0000,9,-999.0000,9,-999.0000,9,-999.0000,9,-999.0000,9,-999.0000,9,   4.3250,     -999.0,-999.000,      0.000,          2,      0.000,          2,   0.021,          2
 33RO200501,       A16S,      54,          1,         18,         18,2,20050201,       1122,   -35.5000,   -25.0003,       4118,   950.0,   3.8260,  34.2644,2,  34.2653,2,    231.0,2,   230.1,2,   26.97,2,   29.70,2,    0.01,2,    1.96,2,   2.344,2,   1.174,2,   0.135,2,  2183.1,2,  2288.7,2,  -999.0,9,   20.00,   7.6476,2,    25.00,-999.000,9, -999.00,-999.000,9,-999.000,9, -999.00,9,  -999.0,9,  -999.0,-999.000,9,-999.000,   2.453,4, -999.00,9,  950.00,-999.0000,9,-999.0000,9,-999.0000,9,-999.0000,9,-999.0000,9,-999.0000,9,   3.7562,     -999.0,-999.000,     -999.0,          9,     -999.0,          9,-999.000,          9
 33RO200501,       A16S,      54,          1,         17,         17,2,20050201,       1122,   -35.5000,   -25.0003,       4118,  1049.3,   3.4487,  34.2807,2,  34.2796,2,    223.5,2,   223.1,2,   32.67,2,   30.80,2,    0.01,2,    2.04,2,-999.000,9,-999.000,9,-999.000,9,  -999.0,9,  -999.0,9,  -999.0,9,   20.00,-999.0000,9,    25.00,-999.000,9, -999.00,-999.000,9,-999.000,9, -999.00,9,  -999.0,9,  -999.0,-999.000,9,-999.000,-999.000,9, -999.00,9, 1049.30,-999.0000,9,-999.0000,9,-999.0000,9,-999.0000,9,-999.0000,9,-999.0000,9,   3.3738,     -999.0,-999.000,     -999.0,          9,     -999.0,          9,-999.000,          9
 33RO200501,       A16S,      54,          1,         16,         16,2,20050201,       1122,   -35.5000,   -25.0003,       4118,  1147.6,   3.1995,  34.3319,2,  34.3314,2,    211.8,2,   210.2,2,   40.32,2,   31.10,2,    0.01,2,    2.12,2,-999.000,9,-999.000,9,-999.000,9,  -999.0,9,  -999.0,9,  -999.0,9,   20.00,-999.0000,9,    25.00,-999.000,9, -999.00,-999.000,9,-999.000,9, -999.00,9,  -999.0,9,  -999.0,-999.000,9,-999.000,-999.000,9, -999.00,9, 1147.60,-999.0000,9,-999.0000,9,-999.0000,9,-999.0000,9,-999.0000,9,-999.0000,9,   3.1188,     -999.0,-999.000,      0.000,          2,      0.000,          2,   0.024,          2
 33RO200501,       A16S,      54,          1,         15,         15,2,20050201,       1122,   -35.5000,   -25.0003,       4118,  1249.4,   3.0441,  34.3792,2,  34.3791,2,    200.8,2,   200.9,2,   46.27,6,   32.42,2,    0.01,6,    2.17,6,-999.000,9,-999.000,9,-999.000,9,  -999.0,9,  -999.0,9,  -999.0,9,   20.00,-999.0000,9,    25.00,-999.000,9, -999.00,-999.000,9,-999.000,9, -999.00,9,  -999.0,9,  -999.0,-999.000,9,-999.000,-999.000,9, -999.00,9, 1249.40,-999.0000,9,-999.0000,9,-999.0000,9,-999.0000,9,-999.0000,9,-999.0000,9,   2.9567,     -999.0,-999.000,     -999.0,          9,     -999.0,          9,-999.000,          9
 33RO200501,       A16S,      54,          1,         14,         14,2,20050201,       1122,   -35.5000,   -25.0003,       4118,  1349.7,   2.9189,  34.4401,2,  34.4417,2,    192.2,2,   192.3,2,   52.02,6,   32.71,2,    0.01,6,    2.20,6,-999.000,9,-999.000,9,-999.000,9,  -999.0,9,  -999.0,9,  -999.0,9,   20.00,-999.0000,9,    25.00,-999.000,9, -999.00,-999.000,9,-999.000,9, -999.00,9,  -999.0,9,  -999.0,-999.000,9,-999.000,-999.000,9, -999.00,9, 1349.70,-999.0000,9,-999.0000,9,-999.0000,9,-999.0000,9,-999.0000,9,-999.0000,9,   2.8246,     -999.0,-999.000,     -999.0,          9,     -999.0,          9,-999.000,          9
 33RO200501,       A16S,      54,          1,         13,         13,2,20050201,       1122,   -35.5000,   -25.0003,       4118,  1501.2,   2.8321,  34.5315,2,  34.5306,2,    184.1,2,   184.3,2,   57.92,6,   32.55,2,    0.00,6,    2.19,6,-999.000,9,-999.000,9,-999.000,9,  -999.0,9,  -999.0,9,  -999.0,9,   20.00,-999.0000,9,    25.00,-999.000,9, -999.00,-999.000,9,-999.000,9, -999.00,9,  -999.0,9,  -999.0,-999.000,9,-999.000,-999.000,9, -999.00,9, 1501.20,-999.0000,9,-999.0000,9,-999.0000,9,-999.0000,9,-999.0000,9,-999.0000,9,   2.7262,     -999.0,-999.000,     52.692,          2,      2.603,          2,   0.098,          2
 33RO200501,       A16S,      54,          1,         12,         12,2,20050201,       1122,   -35.5000,   -25.0003,       4118,  1700.5,   2.8354,  34.6407,2,  34.6412,2,    186.6,2,   186.6,2,   58.93,6,   30.90,2,    0.00,6,    2.08,6,-999.000,9,-999.000,9,-999.000,9,  -999.0,9,  -999.0,9,  -999.0,9,   20.00,-999.0000,9,    25.00,-999.000,9, -999.00,-999.000,9,-999.000,9, -999.00,9,  -999.0,9,  -999.0,-999.000,9,-999.000,-999.000,9, -999.00,9, 1700.50,-999.0000,9,-999.0000,9,-999.0000,9,-999.0000,9,-999.0000,9,-999.0000,9,   2.7125,     -999.0,-999.000,     -999.0,          9,     -999.0,          9,-999.000,          9
 33RO200501,       A16S,      54,          1,         11,         11,2,20050201,       1122,   -35.5000,   -25.0003,       4118,  1900.7,   2.8813,  34.7362,2,  34.7354,2,    197.7,2,   198.3,2,   55.19,6,   28.57,2,    0.00,6,    1.92,6,-999.000,9,-999.000,9,-999.000,9,  -999.0,9,  -999.0,9,  -999.0,9,   20.00,-999.0000,9,    25.00,-999.000,9, -999.00,-999.000,9,-999.000,9, -999.00,9,  -999.0,9,  -999.0,-999.000,9,-999.000,-999.000,9, -999.00,9, 1900.70,-999.0000,9,-999.0000,9,-999.0000,9,-999.0000,9,-999.0000,9,-999.0000,9,   2.7401,     -999.0,-999.000,     -999.0,          9,     -999.0,          9,-999.000,          9
 33RO200501,       A16S,      54,          1,         10,         10,2,20050201,       1122,   -35.5000,   -25.0003,       4118,  2099.2,   2.9227,  34.8023,2,  34.8022,2,    210.6,2,   211.7,2,   49.67,6,   26.73,6,    0.00,6,    1.75,6,-999.000,9,-999.000,9,-999.000,9,  -999.0,9,  -999.0,9,  -999.0,9,   20.00,-999.0000,9,    25.00,-999.000,9, -999.00,-999.000,9,-999.000,9, -999.00,9,  -999.0,9,  -999.0,-999.000,9,-999.000,-999.000,9, -999.00,9, 2099.20,-999.0000,9,-999.0000,9,-999.0000,9,-999.0000,9,-999.0000,9,-999.0000,9,   2.7628,     -999.0,-999.000,      0.000,          2,      0.000,          2,   0.024,          2
 33RO200501,       A16S,      54,          1,          9,          9,2,20050201,       1122,   -35.5000,   -25.0003,       4118,  2299.5,   2.9187,  34.8476,2,  34.8477,2,    222.8,2,   224.1,2,   44.87,2,   24.67,2,    0.00,2,    1.62,2,-999.000,9,-999.000,9,-999.000,9,  -999.0,9,  -999.0,9,  -999.0,9,   20.00,-999.0000,9,    25.00,-999.000,9, -999.00,-999.000,9,-999.000,9, -999.00,9,  -999.0,9,  -999.0,-999.000,9,-999.000,-999.000,9, -999.00,9, 2299.50,-999.0000,9,-999.0000,9,-999.0000,9,-999.0000,9,-999.0000,9,-999.0000,9,   2.7399,     -999.0,-999.000,     -999.0,          9,     -999.0,          9,-999.000,          9
 33RO200501,       A16S,      54,          1,          8,          8,2,20050201,       1122,   -35.5000,   -25.0003,       4118,  2499.1,   2.8734,  34.8709,2,  34.8717,2,    231.5,2,   232.5,2,   41.98,2,   23.48,2,    0.00,2,    1.54,2,-999.000,9,-999.000,9,-999.000,9,  -999.0,9,  -999.0,9,  -999.0,9,   20.00,-999.0000,9,    25.00,-999.000,9, -999.00,-999.000,9,-999.000,9, -999.00,9,  -999.0,9,  -999.0,-999.000,9,-999.000,-999.000,9, -999.00,9, 2499.10,-999.0000,9,-999.0000,9,-999.0000,9,-999.0000,9,-999.0000,9,-999.0000,9,   2.6761,     -999.0,-999.000,     -999.0,          9,     -999.0,          9,-999.000,          9