BOTTLE,20220818CCHSIOAMB
EXPOCODE,SECT_ID,STNNBR,CASTNO,SAMPNO,BTLNBR,BTLNBR_FLAG_W,DATE,TIME,LATITUDE,LONGITUDE,DEPTH,CTDPRS,CTDTMP,CTDSAL,CTDSAL_FLAG_W,SALNTY,SALNTY_FLAG_W,CTDOXY,CTDOXY_FLAG_W,OXYGEN,OXYGEN_FLAG_W,SILCAT,SILCAT_FLAG_W,NITRAT,NITRAT_FLAG_W,NITRIT,NITRIT_FLAG_W,PHSPHT,PHSPHT_FLAG_W,CFC-11,CFC-11_FLAG_W,CFC-12,CFC-12_FLAG_W,CFC113,CFC113_FLAG_W,TCARBN,TCARBN_FLAG_W,ALKALI,ALKALI_FLAG_W,PCO2,PCO2_FLAG_W,PCO2TMP,PH_SWS,PH_SWS_FLAG_W,PH_TMP,TRITUM,TRITUM_FLAG_W,TRITER,HELIUM,HELIUM_FLAG_W,DELHE3,DELHE3_FLAG_W,DELC13,DELC13_FLAG_W,DELC14,DELC14_FLAG_W,C14ERR,NEON,NEON_FLAG_W,NEONER,CCL4,CCL4_FLAG_W,DOC,DOC_FLAG_W,CTDRAW,CDOM325,CDOM325_FLAG_W,CDOM340,CDOM340_FLAG_W,CDOM380,CDOM380_FLAG_W,CDOM412,CDOM412_FLAG_W,CDOMSL,CDOMSL_FLAG_W,CDOMSN,CDOMSN_FLAG_W,THETA,HELIER,DELHER,CH3CL,CH3CL_FLAG_W,CH3BR,CH3BR_FLAG_W,CH3I,CH3I_FLAG_W
,,,,,,,,,,,METERS,DBAR,ITS-90,PSS-78,,PSS-78,,UMOL/KG,,UMOL/KG,,UMOL/KG,,UMOL/KG,,UMOL/KG,,UMOL/KG,,PMOL/KG,,PMOL/KG,,PMOL/KG,,UMOL/KG,,UMOL/KG,,UATM,,DEG C,,,DEG C,TU,,TU,NMOL/KG,,PERCNT,,/MILLE,,/MILLE,,/MILLE,NMOL/KG,,NMOL/KG,PMOL/KG,,UMOL/KG,,DBAR,1/M,,1/M,,1/M,,1/M,,1/NM,,1/NM,,DEG C,NMOL/KG,PERCNT,PMOL/KG,,PMOL/KG,,PMOL/KG,
 33RO200501,       A16S,      74,          1,         36,         36,2,20050207,       1127,   -25.4997,   -24.9993,       4947,     2.3,  25.4467,  36.8352,2,  36.8373,2,    205.3,2,   205.4,2,    1.58,2,    0.01,2,    0.00,2,    0.07,2,   1.724,2,   1.110,2,   0.142,2,  2079.2,2,  2413.7,6,  -999.0,9,   20.00,   8.0570,6,    25.00,   0.501,2,    0.01,-999.000,9,-999.000,9, -999.00,9,  -999.0,9,  -999.0,-999.000,9,-999.000,   1.493,4, -999.00,9,    2.30,-999.0000,9,-999.0000,9,-999.0000,9,-999.0000,9,-999.0000,9,-999.0000,9,  25.4462,     -999.0,-999.000,     57.141,          2,      0.902,          2,   1.672,          2
 33RO200501,       A16S,      74,          1,         35,         35,2,20050207,       1127,   -25.4997,   -24.9993,       4947,    24.2,  25.4528,  36.8628,2,  36.8651,2,    205.5,2,   204.7,2,    1.59,2,    0.00,2,    0.00,2,    0.07,2,-999.000,9,-999.000,9,-999.000,9,  -999.0,9,  -999.0,9,  -999.0,9,   20.00,-999.0000,9,    25.00,   0.513,2,    0.01,-999.000,9,-999.000,9, -999.00,9,  -999.0,9,  -999.0,-999.000,9,-999.000,-999.000,9, -999.00,9,   24.20,-999.0000,9,-999.0000,9,-999.0000,9,-999.0000,9,-999.0000,9,-999.0000,9,  25.4475,     -999.0,-999.000,     61.277,          2,      0.649,          2,   1.830,          2
 33RO200501,       A16S,      74,          1,         34,         34,2,20050207,       1127,   -25.4997,   -24.9993,       4947,    50.5,  25.3276,  36.9407,2,  36.9310,2,    209.0,2,   209.2,2,    1.54,2,    0.00,2,    0.00,2,    0.09,2,-999.000,9,-999.000,9,-999.000,9,  -999.0,9,  -999.0,9,  -999.0,9,   20.00,-999.0000,9,    25.00,-999.000,9, -999.00,-999.000,9,-999.000,9, -999.00,9,  -999.0,9,  -999.0,-999.000,9,-999.000,-999.000,9, -999.00,9,   50.50,-999.0000,9,-999.0000,9,-999.0000,9,-999.0000,9,-999.0000,9,-999.0000,9,  25.3165,     -999.0,-999.000,     88.047,          2,      0.646,          2,   2.923,          2
 33RO200501,       A16S,      74,          1,         33,         33,2,20050207,       1127,   -25.4997,   -24.9993,       4947,    69.2,  23.4552,  36.8067,2,  36.8080,2,    224.9,2,   224.4,2,    1.56,2,    0.00,2,    0.00,2,    0.10,2,-999.000,9,-999.000,9,-999.000,9,  -999.0,9,  -999.0,9,  -999.0,9,   20.00,-999.0000,9,    25.00,   0.562,2,    0.01,-999.000,9,-999.000,9, -999.00,9,  -999.0,9,  -999.0,-999.000,9,-999.000,-999.000,9, -999.00,9,   69.20,-999.0000,9,-999.0000,9,-999.0000,9,-999.0000,9,-999.0000,9,-999.0000,9,  23.4408,     -999.0,-999.000,     -999.0,          9,     -999.0,          9,-999.000,          9
 33RO200501,       A16S,      74,          1,         32,         32,2,20050207,       1127,   -25.4997,   -24.9993,       4947,    89.5,  22.7504,  36.7412,2,  36.7352,2,    225.5,2,   226.1,2,    1.56,2,    0.00,2,    0.00,2,    0.11,2,-999.000,9,-999.000,9,-999.000,9,  -999.0,9,  -999.0,9,  -999.0,9,   20.00,-999.0000,9,    25.00,-999.000,9, -999.00,-999.000,9,-999.000,9, -999.00,9,  -999.0,9,  -999.0,-999.000,9,-999.000,-999.000,9, -999.00,9,   89.50,-999.0000,9,-999.0000,9,-999.0000,9,-999.0000,9,-999.0000,9,-999.0000,9,  22.7322,     -999.0,-999.000,    173.437,          2,      0.483,          2,   3.255,          2
 33RO200501,       A16S,      74,          1,         31,         31,2,20050207,       1127,   -25.4997,   -24.9993,       4947,   115.0,  21.9733,  36.6590,2,  36.6553,2,    223.0,2,   223.4,2,    1.61,2,    0.01,2,    0.00,2,    0.12,2,-999.000,9,-999.000,9,-999.000,9,  2090.5,2,  2400.0,2,  -999.0,9,   20.00,   8.0337,2,    25.00,   0.517,2,    0.01,-999.000,9,-999.000,9, -999.00,9,  -999.0,9,  -999.0,-999.000,9,-999.000,-999.000,9, -999.00,9,  115.00,-999.0000,9,-999.0000,9,-999.0000,9,-999.0000,9,-999.0000,9,-999.0000,9,  21.9504,     -999.0,-999.000,     -999.0,          9,     -999.0,          9,-999.000,          9
 33RO200501,       A16S,      74,          1,         30,         30,2,20050207,       1127,   -25.4997,   -24.9993,       4947,   139.0,  21.4022,  36.5662,2,  36.5555,2,    220.6,2,   220.9,2,    1.70,2,    0.01,2,    0.00,2,    0.13,2,-999.000,9,-999.000,9,-999.000,9,  -999.0,9,  -999.0,9,  -999.0,9,   20.00,-999.0000,9,    25.00,-999.000,9, -999.00,-999.000,9,-999.000,9, -999.00,9,  -999.0,9,  -999.0,-999.000,9,-999.000,-999.000,9, -999.00,9,  139.00,-999.0000,9,-999.0000,9,-999.0000,9,-999.0000,9,-999.0000,9,-999.0000,9,  21.3750,     -999.0,-999.000,     89.083,          2,      0.350,          2,   1.329,          2
 33RO200501,       A16S,      74,          1,         29,         29,2,20050207,       1127,   -25.4997,   -24.9993,       4947,   164.1,  20.3989,  36.3715,2,  36.3862,2,    220.0,2,   220.3,2,    1.79,2,    0.02,2,    0.01,2,    0.13,2,-999.000,9,-999.000,9,-999.000,9,  -999.0,9,  -999.0,9,  -999.0,9,   20.00,-999.0000,9,    25.00,-999.000,9, -999.00,-999.000,9,-999.000,9, -999.00,9,  -999.0,9,  -999.0,-999.000,9,-999.000,-999.000,9, -999.00,9,  164.10,-999.0000,9,-999.0000,9,-999.0000,9,-999.0000,9,-999.0000,9,-999.0000,9,  20.3679,     -999.0,-999.000,     -999.0,          9,     -999.0,          9,-999.000,          9
 33RO200501,       A16S,      74,          1,         28,         28,2,20050207,       1127,   -25.4997,   -24.9993,       4947,   185.8,  19.1055,  36.1424,2,  36.0917,2,    214.0,2,   214.5,2,    2.05,2,    0.37,2,    0.13,2,    0.22,2,-999.000,9,-999.000,9,-999.000,9,  -999.0,9,  -999.0,9,  -999.0,9,   20.00,-999.0000,9,    25.00,-999.000,9, -999.00,-999.000,9,-999.000,9, -999.00,9,  -999.0,9,  -999.0,-999.000,9,-999.000,-999.000,9, -999.00,9,  185.80,-999.0000,9,-999.0000,9,-999.0000,9,-999.0000,9,-999.0000,9,-999.0000,9,  19.0720,     -999.0,-999.000,     16.383,          2,      0.069,          2,   0.183,          2
 33RO200501,       A16S,      74,          1,         27,         27,2,20050207,       1127,   -25.4997,   -24.9993,       4947,   224.0,  17.1318,  35.7816,2,  35.7709,2,    212.2,2,   212.3,2,    2.57,2,    2.40,2,    0.02,2,    0.34,2,   2.542,2,   1.534,2,   0.122,2,  2101.9,2,  2343.8,2,  -999.0,9,   20.00,   7.9430,2,    25.00,   0.396,2,    0.01,-999.000,9,-999.000,9, -999.00,9,  -999.0,9,  -999.0,-999.000,9,-999.000,   0.789,4, -999.00,9,  224.00,-999.0000,9,-999.0000,9,-999.0000,9,-999.0000,9,-999.0000,9,-999.0000,9,  17.0944,     -999.0,-999.000,     -999.0,          9,     -999.0,          9,-999.000,          9
 33RO200501,       A16S,      74,          1,         26,         26,2,20050207,       1127,   -25.4997,   -24.9993,       4947,   274.5,  15.1476,  35.4837,2,  35.4810,2,    208.7,2,   207.2,2,    3.32,2,    6.23,2,    0.01,2,    0.54,2,-999.000,9,-999.000,9,-999.000,9,  -999.0,9,  -999.0,9,  -999.0,9,   20.00,-999.0000,9,    25.00,-999.000,9, -999.00,-999.000,9,-999.000,9, -999.00,9,  -999.0,9,  -999.0,-999.000,9,-999.000,-999.000,9, -999.00,9,  274.50,-999.0000,9,-999.0000,9,-999.0000,9,-999.0000,9,-999.0000,9,-999.0000,9,  15.1055,     -999.0,-999.000,      6.930,          2,      0.124,          2,   0.039,          2
 33RO200501,       A16S,      74,          1,         25,         25,2,20050207,       1127,   -25.4997,   -24.9993,       4947,   323.3,  13.8413,  35.2944,2,  35.2896,2,    208.2,2,   208.6,2,    3.93,2,    8.49,2,    0.00,2,    0.66,2,-999.000,9,-999.000,9,-999.000,9,  -999.0,9,  -999.0,9,  -999.0,9,   20.00,-999.0000,9,    25.00,   0.445,2,    0.01,-999.000,9,-999.000,9, -999.00,9,  -999.0,9,  -999.0,-999.000,9,-999.000,-999.000,9, -999.00,9,  323.30,-999.0000,9,-999.0000,9,-999.0000,9,-999.0000,9,-999.0000,9,-999.0000,9,  13.7946,     -999.0,-999.000,     -999.0,          9,     -999.0,          9,-999.000,          9
 33RO200501,       A16S,      74,          1,         24,         24,2,20050207,       1127,   -25.4997,   -24.9993,       4947,   373.4,  12.7397,  35.1435,2,  35.1428,2,    205.5,2,   205.7,2,    4.74,2,   11.04,2,    0.00,2,    0.81,2,-999.000,9,-999.000,9,-999.000,9,  -999.0,9,  -999.0,9,  -999.0,9,   20.00,-999.0000,9,    25.00,-999.000,9, -999.00,-999.000,9,-999.000,9, -999.00,9,  -999.0,9,  -999.0,-999.000,9,-999.000,-999.000,9, -999.00,9,  373.40,-999.0000,9,-999.0000,9,-999.0000,9,-999.0000,9,-999.0000,9,-999.0000,9,  12.6886,     -999.0,-999.000,      4.022,          2,      0.000,          2,   0.012,          2
 33RO200501,       A16S,      74,          1,         23,         23,2,20050207,       1127,   -25.4997,   -24.9993,       4947,   449.5,  11.2058,  34.9489,2,  34.9440,2,    199.2,2,   198.9,2,    6.72,2,   15.28,2,    0.00,2,    1.06,2,   2.884,2,   1.557,2,   0.063,2,  -999.0,9,  -999.0,9,  -999.0,9,   20.00,-999.0000,9,    25.00,   0.459,2,    0.01,-999.000,9,-999.000,9, -999.00,9,  -999.0,9,  -999.0,-999.000,9,-999.000,   0.853,4, -999.00,9,  449.50,-999.0000,9,-999.0000,9,-999.0000,9,-999.0000,9,-999.0000,9,-999.0000,9,  11.1492,     -999.0,-999.000,     -999.0,          9,     -999.0,          9,-999.000,          9
 33RO200501,       A16S,      74,          1,         22,         22,2,20050207,       1127,   -25.4997,   -24.9993,       4947,   548.9,   9.0462,  34.7041,2,  34.7051,2,    188.4,2,   188.6,2,   11.06,2,   21.37,2,    0.00,2,    1.43,2,-999.000,9,-999.000,9,-999.000,9,  -999.0,9,  -999.0,9,  -999.0,9,   20.00,-999.0000,9,    25.00,   0.303,2,    0.01,-999.000,9,-999.000,9, -999.00,9,  -999.0,9,  -999.0,-999.000,9,-999.000,-999.000,9, -999.00,9,  548.90,-999.0000,9,-999.0000,9,-999.0000,9,-999.0000,9,-999.0000,9,-999.0000,9,   8.9854,     -999.0,-999.000,     -999.0,          9,     -999.0,          9,-999.000,          9
 33RO200501,       A16S,      74,          1,         21,         21,2,20050207,       1127,   -25.4997,   -24.9993,       4947,   649.0,   7.1801,  34.5241,2,  34.5212,2,    190.8,2,   191.7,2,   15.89,2,   25.52,2,    0.00,2,    1.69,2,-999.000,9,-999.000,9,-999.000,9,  -999.0,9,  -999.0,9,  -999.0,9,   20.00,-999.0000,9,    25.00,   0.230,2,    0.01,-999.000,9,-999.000,9, -999.00,9,  -999.0,9,  -999.0,-999.000,9,-999.000,-999.000,9, -999.00,9,  649.00,-999.0000,9,-999.0000,9,-999.0000,9,-999.0000,9,-999.0000,9,-999.0000,9,   7.1169,     -999.0,-999.000,      3.002,          2,      0.035,          2,   0.011,          2
 33RO200501,       A16S,      74,          1,         20,         20,2,20050207,       1127,   -25.4997,   -24.9993,       4947,   750.1,   5.6579,  34.4103,2,  34.4109,2,    195.2,2,   197.4,2,   21.68,2,   28.48,2,    0.00,2,    1.88,2,-999.000,9,-999.000,9,-999.000,9,  -999.0,9,  -999.0,9,  -999.0,9,   20.00,-999.0000,9,    25.00,   0.138,2,    0.01,-999.000,9,-999.000,9, -999.00,9,  -999.0,9,  -999.0,-999.000,9,-999.000,-999.000,9, -999.00,9,  750.10,-999.0000,9,-999.0000,9,-999.0000,9,-999.0000,9,-999.0000,9,-999.0000,9,   5.5932,     -999.0,-999.000,     -999.0,          9,     -999.0,          9,-999.000,          9
 33RO200501,       A16S,      74,          1,         19,         19,2,20050207,       1127,   -25.4997,   -24.9993,       4947,   849.5,   4.6221,  34.3762,2,  34.3752,2,    196.5,2,   196.4,2,   29.39,2,   30.59,2,    0.00,2,    2.03,2,-999.000,9,-999.000,9,-999.000,9,  -999.0,9,  -999.0,9,  -999.0,9,   20.00,-999.0000,9,    25.00,   0.132,2,    0.01,-999.000,9,-999.000,9, -999.00,9,  -999.0,9,  -999.0,-999.000,9,-999.000,-999.000,9, -999.00,9,  849.50,-999.0000,9,-999.0000,9,-999.0000,9,-999.0000,9,-999.0000,9,-999.0000,9,   4.5549,     -999.0,-999.000,     -999.0,          9,     -999.0,          9,-999.000,          9
 33RO200501,       A16S,      74,          1,         18,         18,2,20050207,       1127,   -25.4997,   -24.9993,       4947,   940.0,   4.0513,  34.3939,2,  34.3940,2,    192.8,2,   191.6,2,   36.27,2,   31.66,2,    0.00,2,    2.12,2,   0.906,2,   0.447,2,   0.041,2,  2206.8,2,  2299.7,2,  -999.0,9,   20.00,   7.6019,2,    25.00,   0.014,2,    0.01,-999.000,9,-999.000,9, -999.00,9,  -999.0,9,  -999.0,-999.000,9,-999.000,   1.098,4, -999.00,9,  940.00,-999.0000,9,-999.0000,9,-999.0000,9,-999.0000,9,-999.0000,9,-999.0000,9,   3.9804,     -999.0,-999.000,      6.051,          2,      0.484,          2,   0.007,          2
 33RO200501,       A16S,      74,          1,         17,         17,3,20050207,       1127,   -25.4997,   -24.9993,       4947,  1099.7,   3.5635,  34.4702,2,  34.4710,2,   -999.0,9,  -999.0,9,   43.96,2,   31.97,2,    0.00,2,    2.15,2,-999.000,9,-999.000,9,-999.000,9,  -999.0,9,  -999.0,9,  -999.0,9,   20.00,-999.0000,9,    25.00,-999.000,9, -999.00,-999.000,9,-999.000,9, -999.00,9,  -999.0,9,  -999.0,-999.000,9,-999.000,-999.000,9, -999.00,9, 1099.70,-999.0000,9,-999.0000,9,-999.0000,9,-999.0000,9,-999.0000,9,-999.0000,9,   3.4833,     -999.0,-999.000,     -999.0,          9,     -999.0,          9,-999.000,          9
 33RO200501,       A16S,      74,          1,         16,         16,2,20050207,       1127,   -25.4997,   -24.9993,       4947,  1299.7,   3.2784,  34.6044,2,  34.6065,2,    188.6,2,   188.4,2,   47.56,2,   30.39,2,    0.00,2,    2.05,2,-999.000,9,-999.000,9,-999.000,9,  2219.7,2,  2311.8,2,  -999.0,9,   20.00,   7.6205,2,    25.00,-999.000,9, -999.00,-999.000,9,-999.000,9, -999.00,9,  -999.0,9,  -999.0,-999.000,9,-999.000,-999.000,9, -999.00,9, 1299.70,-999.0000,9,-999.0000,9,-999.0000,9,-999.0000,9,-999.0000,9,-999.0000,9,   3.1841,     -999.0,-999.000,     -999.0,          9,     -999.0,          9,-999.000,          9
 33RO200501,       A16S,      74,          1,         15,         15,2,20050207,       1127,   -25.4997,   -24.9993,       4947,  1500.4,   3.1644,  34.7144,2,  34.7144,2,    199.3,2,   199.4,2,   46.22,2,   28.10,2,    0.00,2,    1.88,2,   0.019,2,   0.012,2,   0.000,2,  -999.0,9,  -999.0,9,  -999.0,9,   20.00,-999.0000,9,    25.00,-999.000,9, -999.00,-999.000,9,-999.000,9, -999.00,9,  -999.0,9,  -999.0,-999.000,9,-999.000,   0.093,4, -999.00,9, 1500.40,-999.0000,9,-999.0000,9,-999.0000,9,-999.0000,9,-999.0000,9,-999.0000,9,   3.0543,     -999.0,-999.000,      4.387,          2,      0.158,          2,   0.006,          2
 33RO200501,       A16S,      74,          1,         14,         14,2,20050207,       1127,   -25.4997,   -24.9993,       4947,  1698.5,   3.1183,  34.8083,2,  34.8095,2,    216.6,2,   217.3,2,   41.41,2,   25.33,2,    0.00,2,    1.68,2,-999.000,9,-999.000,9,-999.000,9,  -999.0,9,  -999.0,9,  -999.0,9,   20.00,-999.0000,9,    25.00,-999.000,9, -999.00,-999.000,9,-999.000,9, -999.00,9,  -999.0,9,  -999.0,-999.000,9,-999.000,-999.000,9, -999.00,9, 1698.50,-999.0000,9,-999.0000,9,-999.0000,9,-999.0000,9,-999.0000,9,-999.0000,9,   2.9914,     -999.0,-999.000,     -999.0,          9,     -999.0,          9,-999.000,          9
 33RO200501,       A16S,      74,          1,         13,         13,2,20050207,       1127,   -25.4997,   -24.9993,       4947,  1900.6,   3.1194,  34.8744,2,  34.8744,2,    232.2,2,   232.5,2,   35.39,2,   22.90,2,    0.00,2,    1.50,2,-999.000,9,-999.000,9,-999.000,9,  -999.0,9,  -999.0,9,  -999.0,9,   20.00,-999.0000,9,    25.00,-999.000,9, -999.00,-999.000,9,-999.000,9, -999.00,9,  -999.0,9,  -999.0,-999.000,9,-999.000,-999.000,9, -999.00,9, 1900.60,-999.0000,9,-999.0000,9,-999.0000,9,-999.0000,9,-999.0000,9,-999.0000,9,   2.9744,     -999.0,-999.000,     -999.0,          9,     -999.0,          9,-999.000,          9
 33RO200501,       A16S,      74,          1,         12,         12,2,20050207,       1127,   -25.4997,   -24.9993,       4947,  2100.5,   3.1202,  34.9163,2,  34.9167,2,    243.4,2,   243.4,2,   30.50,2,   21.17,2,    0.00,2,    1.38,2,   0.018,2,   0.014,2,   0.000,2,  2179.9,2,  2315.9,2,  -999.0,9,   20.00,   7.7237,2,    25.00,-999.000,9, -999.00,-999.000,9,-999.000,9, -999.00,9,  -999.0,9,  -999.0,-999.000,9,-999.000,   0.103,4, -999.00,9, 2100.50,-999.0000,9,-999.0000,9,-999.0000,9,-999.0000,9,-999.0000,9,-999.0000,9,   2.9566,     -999.0,-999.000,      8.447,          2,      0.301,          2,   0.011,          2
 33RO200501,       A16S,      74,          1,         11,         11,2,20050207,       1127,   -25.4997,   -24.9993,       4947,  2298.9,   3.0667,  34.9319,2,  34.9320,2,    248.8,2,   248.7,2,   29.00,2,   20.44,2,    0.00,2,    1.33,2,-999.000,9,-999.000,9,-999.000,9,  -999.0,9,  -999.0,9,  -999.0,9,   20.00,-999.0000,9,    25.00,-999.000,9, -999.00,-999.000,9,-999.000,9, -999.00,9,  -999.0,9,  -999.0,-999.000,9,-999.000,-999.000,9, -999.00,9, 2298.90,-999.0000,9,-999.0000,9,-999.0000,9,-999.0000,9,-999.0000,9,-999.0000,9,   2.8851,     -999.0,-999.000,     -999.0,          9,     -999.0,          9,-999.000,          9
 33RO200501,       A16S,      74,          1,         10,         10,2,20050207,       1127,   -25.4997,   -24.9993,       4947,  2499.6,   2.9697,  34.9318,2,  34.9325,2,    250.4,2,   250.5,2,   29.89,2,   20.29,2,    0.00,2,    1.32,2,   0.019,2,   0.014,2,   0.000,2,  2176.9,2,  2318.6,2,  -999.0,9,   20.00,   7.7352,2,    25.00,-999.000,9, -999.00,-999.000,9,-999.000,9, -999.00,9,  -999.0,9,  -999.0,-999.000,9,-999.000,   0.101,4, -999.00,9, 2499.60,-999.0000,9,-999.0000,9,-999.0000,9,-999.0000,9,-999.0000,9,-999.0000,9,   2.7704,     -999.0,-999.000,      2.212,          2,      0.000,          2,   0.004,          2
 33RO200501,       A16S,      74,          1,          9,          9,2,20050207,       1127,   -25.4997,   -24.9993,       4947,  2749.3,   2.8639,  34.9273,2,  34.9277,2,    251.1,2,   251.4,2,   31.59,2,   20.31,2,    0.00,2,    1.33,2,-999.000,9,-999.000,9,-999.000,9,  -999.0,9,  -999.0,9,  -999.0,9,   20.00,-999.0000,9,    25.00,-999.000,9, -999.00,-999.000,9,-999.000,9, -999.00,9,  -999.0,9,  -999.0,-999.000,9,-999.000,-999.000,9, -999.00,9, 2749.30,-999.0000,9,-999.0000,9,-999.0000,9,-999.0000,9,-999.0000,9,-999.0000,9,   2.6418,     -999.0,-999.000,     -999.0,          9,     -999.0,          9,-999.000,          9
 33RO200501,       A16S,      74,          1,          8,          8,2,20050207,       1127,   -25.4997,   -24.9993,       4947,  3049.7,   2.7223,  34.9188,2,  34.9189,2,    251.7,2,   251.9,2,   34.09,2,   20.51,2,    0.00,2,    1.35,2,   0.009,2,   0.013,2,   0.000,2,  -999.0,9,  -999.0,9,  -999.0,9,   20.00,-999.0000,9,    25.00,-999.000,9, -999.00,-999.000,9,-999.000,9, -999.00,9,  -999.0,9,  -999.0,-999.000,9,-999.000,   0.079,4, -999.00,9, 3049.70,-999.0000,9,-999.0000,9,-999.0000,9,-999.0000,9,-999.0000,9,-999.0000,9,   2.4725,     -999.0,-999.000,      2.037,          2,      0.075,          2,   0.006,          2