BOTTLE,20220818CCHSIOAMB
EXPOCODE,SECT_ID,STNNBR,CASTNO,SAMPNO,BTLNBR,BTLNBR_FLAG_W,DATE,TIME,LATITUDE,LONGITUDE,DEPTH,CTDPRS,CTDTMP,CTDSAL,CTDSAL_FLAG_W,SALNTY,SALNTY_FLAG_W,CTDOXY,CTDOXY_FLAG_W,OXYGEN,OXYGEN_FLAG_W,SILCAT,SILCAT_FLAG_W,NITRAT,NITRAT_FLAG_W,NITRIT,NITRIT_FLAG_W,PHSPHT,PHSPHT_FLAG_W,CFC-11,CFC-11_FLAG_W,CFC-12,CFC-12_FLAG_W,CFC113,CFC113_FLAG_W,TCARBN,TCARBN_FLAG_W,ALKALI,ALKALI_FLAG_W,PCO2,PCO2_FLAG_W,PCO2TMP,PH_SWS,PH_SWS_FLAG_W,PH_TMP,TRITUM,TRITUM_FLAG_W,TRITER,HELIUM,HELIUM_FLAG_W,DELHE3,DELHE3_FLAG_W,DELC13,DELC13_FLAG_W,DELC14,DELC14_FLAG_W,C14ERR,NEON,NEON_FLAG_W,NEONER,CCL4,CCL4_FLAG_W,DOC,DOC_FLAG_W,CTDRAW,CDOM325,CDOM325_FLAG_W,CDOM340,CDOM340_FLAG_W,CDOM380,CDOM380_FLAG_W,CDOM412,CDOM412_FLAG_W,CDOMSL,CDOMSL_FLAG_W,CDOMSN,CDOMSN_FLAG_W,THETA,HELIER,DELHER,CH3CL,CH3CL_FLAG_W,CH3BR,CH3BR_FLAG_W,CH3I,CH3I_FLAG_W
,,,,,,,,,,,METERS,DBAR,ITS-90,PSS-78,,PSS-78,,UMOL/KG,,UMOL/KG,,UMOL/KG,,UMOL/KG,,UMOL/KG,,UMOL/KG,,PMOL/KG,,PMOL/KG,,PMOL/KG,,UMOL/KG,,UMOL/KG,,UATM,,DEG C,,,DEG C,TU,,TU,NMOL/KG,,PERCNT,,/MILLE,,/MILLE,,/MILLE,NMOL/KG,,NMOL/KG,PMOL/KG,,UMOL/KG,,DBAR,1/M,,1/M,,1/M,,1/M,,1/NM,,1/NM,,DEG C,NMOL/KG,PERCNT,PMOL/KG,,PMOL/KG,,PMOL/KG,
 33RO200501,       A16S,      29,          1,          7,          7,2,20050124,       1403,   -48.0027,   -32.7517,       5312,  3401.1,   0.8361,  34.7035,2,  34.7033,2,    208.2,2,   209.1,2,  114.28,6,   31.91,6,    0.00,6,    2.23,6,   0.248,2,   0.122,2,   0.017,2,  2258.7,2,  2361.8,2,  1068.7,2,   20.00,   7.6078,2,    25.00,-999.000,9, -999.00,-999.000,9,-999.000,9, -999.00,9,  -999.0,9,  -999.0,-999.000,9,-999.000,   0.324,3,   39.31,2, 3401.10,-999.0000,9,-999.0000,9,-999.0000,9,-999.0000,9,-999.0000,9,-999.0000,9,   0.5963,     -999.0,-999.000,     -999.0,          9,     -999.0,          9,-999.000,          9
 33RO200501,       A16S,      29,          1,          6,          6,2,20050124,       1403,   -48.0027,   -32.7517,       5312,  3700.7,   0.6188,  34.6930,2,  34.6937,2,    212.5,2,   213.3,2,  118.18,2,   31.99,2,    0.00,2,    2.24,2,   0.258,2,   0.134,2,   0.010,2,  2260.1,2,  2362.0,2,  1075.6,2,   20.00,   7.6114,2,    25.00,-999.000,9, -999.00,-999.000,9,-999.000,9, -999.00,9,  -999.0,9,  -999.0,-999.000,9,-999.000,   0.391,3, -999.00,9, 3700.70,-999.0000,9,-999.0000,9,-999.0000,9,-999.0000,9,-999.0000,9,-999.0000,9,   0.3553,     -999.0,-999.000,     -999.0,          9,     -999.0,          9,-999.000,          9
 33RO200501,       A16S,      29,          1,          5,          5,2,20050124,       1403,   -48.0027,   -32.7517,       5312,  4001.1,   0.4380,  34.6837,2,  34.6835,2,    216.2,2,   217.3,2,  121.25,2,   32.19,2,    0.00,2,    2.27,2,   0.264,2,   0.115,2,   0.009,2,  2260.6,2,  2361.6,2,  1073.0,2,   20.00,   7.6093,2,    25.00,   0.001,2,    0.00,-999.000,9,-999.000,9, -999.00,9,  -999.0,9,  -999.0,-999.000,9,-999.000,   0.301,3,   39.04,2, 4001.10,   0.1620,2,   0.1240,2,   0.0570,2,   0.0350,2,   0.0182,2,   0.0184,2,   0.1491,     -999.0,-999.000,     -999.0,          9,     -999.0,          9,-999.000,          9
 33RO200501,       A16S,      29,          1,          4,          4,2,20050124,       1403,   -48.0027,   -32.7517,       5312,  4300.0,   0.3135,  34.6776,2,  34.6796,3,    219.3,2,   220.1,2,  123.59,6,   32.27,6,    0.00,6,    2.29,6,   0.232,2,   0.118,2,   0.013,2,  2261.6,2,  2365.4,2,  -999.0,9,   20.00,   7.6160,2,    25.00,-999.000,9, -999.00,-999.000,9,-999.000,9, -999.00,9,  -999.0,9,  -999.0,-999.000,9,-999.000,   0.389,3, -999.00,9, 4300.00,-999.0000,9,-999.0000,9,-999.0000,9,-999.0000,9,-999.0000,9,-999.0000,9,  -0.0028,     -999.0,-999.000,     -999.0,          9,     -999.0,          9,-999.000,          9
 33RO200501,       A16S,      29,          1,          3,          3,2,20050124,       1403,   -48.0027,   -32.7517,       5312,  4650.2,   0.2626,  34.6735,2,  34.6739,2,    221.6,2,   222.2,2,  125.59,6,   32.39,6,    0.00,6,    2.30,6,   0.270,2,   0.130,2,   0.013,2,  2262.5,2,  2359.5,2,  1074.6,2,   20.00,   7.6159,2,    25.00,-999.000,9, -999.00,-999.000,9,-999.000,9, -999.00,9,  -999.0,9,  -999.0,-999.000,9,-999.000,   0.433,3,   39.34,2, 4650.20,-999.0000,9,-999.0000,9,-999.0000,9,-999.0000,9,-999.0000,9,-999.0000,9,  -0.0899,     -999.0,-999.000,     -999.0,          9,     -999.0,          9,-999.000,          9
 33RO200501,       A16S,      29,          1,          2,          2,2,20050124,       1403,   -48.0027,   -32.7517,       5312,  4999.7,   0.2588,  34.6714,2,  34.6715,2,    222.8,2,   222.5,2,  127.04,6,   32.52,6,    0.00,6,    2.30,6,   0.305,2,   0.158,2,   0.017,2,  2263.2,2,  2360.8,6,  1068.4,2,   20.00,   7.6142,6,    25.00,   0.030,2,    0.02,-999.000,9,-999.000,9, -999.00,9,  -999.0,9,  -999.0,-999.000,9,-999.000,   0.454,3,   39.39,2, 4999.70,   0.1930,2,   0.1500,2,   0.0660,2,   0.0420,2,   0.0177,2,   0.0183,2,  -0.1329,     -999.0,-999.000,     -999.0,          9,     -999.0,          9,-999.000,          9
 33RO200501,       A16S,      29,          1,          1,          1,2,20050124,       1403,   -48.0027,   -32.7517,       5312,  5369.1,   0.2114,  34.6667,2,  34.6670,2,    227.0,2,   226.5,2,  127.64,6,   32.47,6,    0.00,6,    2.30,6,   0.492,2,   0.230,2,   0.029,2,  2261.0,6,  2357.5,2,  1068.5,2,   20.00,   7.6127,2,    25.00,   0.030,2,    0.01,-999.000,9,-999.000,9, -999.00,9,  -999.0,9,  -999.0,-999.000,9,-999.000,   0.602,3,   39.66,2, 5369.10,-999.0000,9,-999.0000,9,-999.0000,9,-999.0000,9,-999.0000,9,-999.0000,9,  -0.2218,     -999.0,-999.000,     -999.0,          9,     -999.0,          9,-999.000,          9