BOTTLE,20220818CCHSIOAMB
EXPOCODE,SECT_ID,STNNBR,CASTNO,SAMPNO,BTLNBR,BTLNBR_FLAG_W,DATE,TIME,LATITUDE,LONGITUDE,DEPTH,CTDPRS,CTDTMP,CTDSAL,CTDSAL_FLAG_W,SALNTY,SALNTY_FLAG_W,CTDOXY,CTDOXY_FLAG_W,OXYGEN,OXYGEN_FLAG_W,SILCAT,SILCAT_FLAG_W,NITRAT,NITRAT_FLAG_W,NITRIT,NITRIT_FLAG_W,PHSPHT,PHSPHT_FLAG_W,CFC-11,CFC-11_FLAG_W,CFC-12,CFC-12_FLAG_W,CFC113,CFC113_FLAG_W,TCARBN,TCARBN_FLAG_W,ALKALI,ALKALI_FLAG_W,PCO2,PCO2_FLAG_W,PCO2TMP,PH_SWS,PH_SWS_FLAG_W,PH_TMP,TRITUM,TRITUM_FLAG_W,TRITER,HELIUM,HELIUM_FLAG_W,DELHE3,DELHE3_FLAG_W,DELC13,DELC13_FLAG_W,DELC14,DELC14_FLAG_W,C14ERR,NEON,NEON_FLAG_W,NEONER,CCL4,CCL4_FLAG_W,DOC,DOC_FLAG_W,CTDRAW,CDOM325,CDOM325_FLAG_W,CDOM340,CDOM340_FLAG_W,CDOM380,CDOM380_FLAG_W,CDOM412,CDOM412_FLAG_W,CDOMSL,CDOMSL_FLAG_W,CDOMSN,CDOMSN_FLAG_W,THETA,HELIER,DELHER,CH3CL,CH3CL_FLAG_W,CH3BR,CH3BR_FLAG_W,CH3I,CH3I_FLAG_W
,,,,,,,,,,,METERS,DBAR,ITS-90,PSS-78,,PSS-78,,UMOL/KG,,UMOL/KG,,UMOL/KG,,UMOL/KG,,UMOL/KG,,UMOL/KG,,PMOL/KG,,PMOL/KG,,PMOL/KG,,UMOL/KG,,UMOL/KG,,UATM,,DEG C,,,DEG C,TU,,TU,NMOL/KG,,PERCNT,,/MILLE,,/MILLE,,/MILLE,NMOL/KG,,NMOL/KG,PMOL/KG,,UMOL/KG,,DBAR,1/M,,1/M,,1/M,,1/M,,1/NM,,1/NM,,DEG C,NMOL/KG,PERCNT,PMOL/KG,,PMOL/KG,,PMOL/KG,
 33RO200501,       A16S,      79,          1,          7,          7,2,20050209,       0109,   -23.0000,   -25.0002,       5148,  3348.9,   2.5023,  34.9025,2,  34.9016,2,    250.9,2,   251.0,2,   39.75,2,   20.93,2,    0.00,2,    1.40,2,   0.011,2,   0.008,2,   0.000,2,  2187.8,2,  2326.3,2,  -999.0,9,   20.00,   7.7284,2,    25.00,-999.000,9, -999.00,-999.000,9,-999.000,9, -999.00,9,  -999.0,9,  -999.0,-999.000,9,-999.000,   0.076,4,   39.55,2, 3348.90,-999.0000,9,-999.0000,9,-999.0000,9,-999.0000,9,-999.0000,9,-999.0000,9,   2.2261,     -999.0,-999.000,     -999.0,          9,     -999.0,          9,-999.000,          9
 33RO200501,       A16S,      79,          1,          6,          6,2,20050209,       0109,   -23.0000,   -25.0002,       5148,  3648.3,   2.2515,  34.8764,2,  34.8760,2,    247.2,2,   247.5,2,   49.17,2,   22.19,2,    0.00,2,    1.50,2,   0.004,2,   0.005,2,   0.000,2,  2194.5,2,  2335.2,2,  -999.0,9,   20.00,   7.7146,2,    25.00,-999.000,9, -999.00,-999.000,9,-999.000,9, -999.00,9,  -999.0,9,  -999.0,-999.000,9,-999.000,   0.052,4, -999.00,9, 3648.30,-999.0000,9,-999.0000,9,-999.0000,9,-999.0000,9,-999.0000,9,-999.0000,9,   1.9494,     -999.0,-999.000,     -999.0,          9,     -999.0,          9,-999.000,          9
 33RO200501,       A16S,      79,          1,          5,          5,2,20050209,       0109,   -23.0000,   -25.0002,       5148,  3948.5,   1.7899,  34.8272,2,  34.8265,2,    239.5,2,   239.4,2,   68.28,2,   24.67,2,    0.00,2,    1.70,2,-999.000,9,-999.000,9,-999.000,9,  2210.9,2,  2339.4,2,  -999.0,9,   20.00,   7.6905,2,    25.00,-999.000,9, -999.00,-999.000,9,-999.000,9, -999.00,9,  -999.0,9,  -999.0,-999.000,9,-999.000,-999.000,9,   39.53,2, 3948.50,-999.0000,9,-999.0000,9,-999.0000,9,-999.0000,9,-999.0000,9,-999.0000,9,   1.4676,     -999.0,-999.000,     -999.0,          9,     -999.0,          9,-999.000,          9
 33RO200501,       A16S,      79,          1,          4,          4,2,20050209,       0109,   -23.0000,   -25.0002,       5148,  4248.1,   1.3706,  34.7833,2,  34.7820,2,    233.2,2,   233.0,2,   85.18,2,   26.89,2,    0.00,2,    1.87,2,   0.008,6,   0.004,6,   0.000,6,  2229.0,2,  2347.5,2,  -999.0,9,   20.00,   7.6692,2,    25.00,-999.000,9, -999.00,-999.000,9,-999.000,9, -999.00,9,  -999.0,9,  -999.0,-999.000,9,-999.000,   0.045,4, -999.00,9, 4248.10,-999.0000,9,-999.0000,9,-999.0000,9,-999.0000,9,-999.0000,9,-999.0000,9,   1.0275,     -999.0,-999.000,     -999.0,          9,     -999.0,          9,-999.000,          9
 33RO200501,       A16S,      79,          1,          3,          3,2,20050209,       0109,   -23.0000,   -25.0002,       5148,  4548.2,   1.0722,  34.7513,2,  34.7506,2,    228.7,2,   228.8,2,   97.26,2,   28.45,2,    0.00,2,    1.99,2,   0.019,2,   0.013,2,   0.000,2,  2239.0,2,  2351.3,2,  -999.0,9,   20.00,   7.6485,2,    25.00,-999.000,9, -999.00,-999.000,9,-999.000,9, -999.00,9,  -999.0,9,  -999.0,-999.000,9,-999.000,   0.068,4,   39.24,2, 4548.20,-999.0000,9,-999.0000,9,-999.0000,9,-999.0000,9,-999.0000,9,-999.0000,9,   0.7046,     -999.0,-999.000,     -999.0,          9,     -999.0,          9,-999.000,          9
 33RO200501,       A16S,      79,          1,          2,          2,2,20050209,       0109,   -23.0000,   -25.0002,       5148,  4849.5,   0.8973,  34.7310,2,  34.7315,2,    225.9,2,   225.8,2,  104.87,2,   29.43,2,    0.00,2,    2.07,2,   0.032,2,   0.013,2,   0.000,2,  2248.4,2,  2356.7,6,  -999.0,9,   20.00,   7.6388,6,    25.00,   0.002,2,    0.00,   1.946,2,   5.180,2, -999.00,9,  -999.0,9,  -999.0,   8.463,2,   0.014,   0.091,4, -999.00,9, 4849.50,-999.0000,9,-999.0000,9,-999.0000,9,-999.0000,9,-999.0000,9,-999.0000,9,   0.5008,      0.001,   0.223,     -999.0,          9,     -999.0,          9,-999.000,          9
 33RO200501,       A16S,      79,          1,          1,          1,2,20050209,       0109,   -23.0000,   -25.0002,       5148,  5198.6,   0.8109,  34.7178,2,  34.7207,3,    224.1,2,   223.8,2,  109.48,2,   30.09,2,    0.00,2,    2.12,2,   0.053,2,   0.031,2,   0.000,2,  2255.3,6,  2355.2,2,  -999.0,9,   20.00,   7.6279,2,    25.00,   0.001,2,    0.00,   1.909,2,   5.900,2, -999.00,9,  -999.0,9,  -999.0,   8.288,2,   0.016,   0.124,4,   39.47,2, 5198.60,-999.0000,9,-999.0000,9,-999.0000,9,-999.0000,9,-999.0000,9,-999.0000,9,   0.3762,      0.001,   0.211,     -999.0,          9,     -999.0,          9,-999.000,          9