BOTTLE,20220818CCHSIOAMB
EXPOCODE,SECT_ID,STNNBR,CASTNO,SAMPNO,BTLNBR,BTLNBR_FLAG_W,DATE,TIME,LATITUDE,LONGITUDE,DEPTH,CTDPRS,CTDTMP,CTDSAL,CTDSAL_FLAG_W,SALNTY,SALNTY_FLAG_W,CTDOXY,CTDOXY_FLAG_W,OXYGEN,OXYGEN_FLAG_W,SILCAT,SILCAT_FLAG_W,NITRAT,NITRAT_FLAG_W,NITRIT,NITRIT_FLAG_W,PHSPHT,PHSPHT_FLAG_W,CFC-11,CFC-11_FLAG_W,CFC-12,CFC-12_FLAG_W,CFC113,CFC113_FLAG_W,TCARBN,TCARBN_FLAG_W,ALKALI,ALKALI_FLAG_W,PCO2,PCO2_FLAG_W,PCO2TMP,PH_SWS,PH_SWS_FLAG_W,PH_TMP,TRITUM,TRITUM_FLAG_W,TRITER,HELIUM,HELIUM_FLAG_W,DELHE3,DELHE3_FLAG_W,DELC13,DELC13_FLAG_W,DELC14,DELC14_FLAG_W,C14ERR,NEON,NEON_FLAG_W,NEONER,CCL4,CCL4_FLAG_W,DOC,DOC_FLAG_W,CTDRAW,CDOM325,CDOM325_FLAG_W,CDOM340,CDOM340_FLAG_W,CDOM380,CDOM380_FLAG_W,CDOM412,CDOM412_FLAG_W,CDOMSL,CDOMSL_FLAG_W,CDOMSN,CDOMSN_FLAG_W,THETA,HELIER,DELHER,CH3CL,CH3CL_FLAG_W,CH3BR,CH3BR_FLAG_W,CH3I,CH3I_FLAG_W
,,,,,,,,,,,METERS,DBAR,ITS-90,PSS-78,,PSS-78,,UMOL/KG,,UMOL/KG,,UMOL/KG,,UMOL/KG,,UMOL/KG,,UMOL/KG,,PMOL/KG,,PMOL/KG,,PMOL/KG,,UMOL/KG,,UMOL/KG,,UATM,,DEG C,,,DEG C,TU,,TU,NMOL/KG,,PERCNT,,/MILLE,,/MILLE,,/MILLE,NMOL/KG,,NMOL/KG,PMOL/KG,,UMOL/KG,,DBAR,1/M,,1/M,,1/M,,1/M,,1/NM,,1/NM,,DEG C,NMOL/KG,PERCNT,PMOL/KG,,PMOL/KG,,PMOL/KG,
 33RO200501,       A16S,      13,          1,          7,          7,2,20050120,       1013,   -55.2303,   -34.7392,        391,    41.0,   2.5726,  33.7788,2,  33.7776,2,    328.9,2,   328.5,2,    2.67,2,   19.58,2,    0.25,2,    1.36,2,-999.000,9,-999.000,9,-999.000,9,  2124.5,2,  2278.3,2,  -999.0,9,   20.00,   7.7785,2,    25.00,-999.000,9, -999.00,-999.000,9,-999.000,9, -999.00,9,  -999.0,9,  -999.0,-999.000,9,-999.000,-999.000,9,   43.82,2,   41.00,-999.0000,9,-999.0000,9,-999.0000,9,-999.0000,9,-999.0000,9,-999.0000,9,   2.5703,     -999.0,-999.000,     50.183,          2,      2.323,          2,   0.798,          2
 33RO200501,       A16S,      13,          1,          6,          6,2,20050120,       1013,   -55.2303,   -34.7392,        391,    60.2,   2.4633,  33.7772,2,  33.7779,2,    328.4,2,   327.9,2,    3.98,2,   19.98,2,    0.25,2,    1.39,2,   5.804,2,   3.167,2,   0.502,2,  2126.7,2,  -999.0,9,  -999.0,9,   20.00,-999.0000,9,    25.00,-999.000,9, -999.00,-999.000,9,-999.000,9, -999.00,9,  -999.0,9,  -999.0,-999.000,9,-999.000,   6.297,4,   43.29,2,   60.20,-999.0000,9,-999.0000,9,-999.0000,9,-999.0000,9,-999.0000,9,-999.0000,9,   2.4600,     -999.0,-999.000,     47.960,          2,      2.605,          2,   0.747,          2
 33RO200501,       A16S,      13,          1,          5,          5,2,20050120,       1013,   -55.2303,   -34.7392,        391,    80.1,   1.6031,  33.8462,2,  33.8455,2,    322.3,2,   324.3,2,   12.08,2,   22.13,2,    0.25,2,    1.62,2,-999.000,9,-999.000,9,-999.000,9,  2146.2,2,  2282.4,2,  -999.0,9,   20.00,   7.7352,2,    25.00,-999.000,9, -999.00,-999.000,9,-999.000,9, -999.00,9,  -999.0,9,  -999.0,-999.000,9,-999.000,-999.000,9,   43.01,2,   80.10,-999.0000,9,-999.0000,9,-999.0000,9,-999.0000,9,-999.0000,9,-999.0000,9,   1.5993,     -999.0,-999.000,     -999.0,          9,     -999.0,          9,-999.000,          9
 33RO200501,       A16S,      13,          1,          4,          4,2,20050120,       1013,   -55.2303,   -34.7392,        391,    99.9,   0.6654,  33.9163,2,  33.9166,2,    323.1,2,   320.3,2,   25.85,2,   25.21,2,    0.27,2,    1.86,2,-999.000,9,-999.000,9,-999.000,9,  2167.3,2,  -999.0,9,  -999.0,9,   20.00,-999.0000,9,    25.00,-999.000,9, -999.00,-999.000,9,-999.000,9, -999.00,9,  -999.0,9,  -999.0,-999.000,9,-999.000,-999.000,9,   42.47,2,   99.90,-999.0000,9,-999.0000,9,-999.0000,9,-999.0000,9,-999.0000,9,-999.0000,9,   0.6614,     -999.0,-999.000,     21.266,          2,      1.817,          2,   0.583,          2
 33RO200501,       A16S,      13,          1,          3,          3,2,20050120,       1013,   -55.2303,   -34.7392,        391,   125.8,   0.5616,  33.9704,2,  33.9706,2,    307.3,2,   307.4,2,   34.74,2,   27.33,2,    0.27,2,    1.97,2,   5.614,2,   2.996,2,   0.492,2,  2178.8,2,  2284.8,2,  -999.0,9,   20.00,   7.6559,2,    25.00,-999.000,9, -999.00,-999.000,9,-999.000,9, -999.00,9,  -999.0,9,  -999.0,-999.000,9,-999.000,   5.742,4,   42.32,2,  125.80,-999.0000,9,-999.0000,9,-999.0000,9,-999.0000,9,-999.0000,9,-999.0000,9,   0.5566,     -999.0,-999.000,     12.207,          2,      2.682,          2,   0.462,          2
 33RO200501,       A16S,      13,          1,          2,          2,2,20050120,       1013,   -55.2303,   -34.7392,        391,   151.4,   0.8897,  34.0838,2,  34.0699,2,    283.8,2,   282.8,2,   42.05,2,   29.12,2,    0.23,2,    2.08,2,-999.000,9,-999.000,9,-999.000,9,  2192.9,2,  -999.0,9,  -999.0,9,   20.00,-999.0000,9,    25.00,-999.000,9, -999.00,-999.000,9,-999.000,9, -999.00,9,  -999.0,9,  -999.0,-999.000,9,-999.000,-999.000,9,   41.66,2,  151.40,-999.0000,9,-999.0000,9,-999.0000,9,-999.0000,9,-999.0000,9,-999.0000,9,   0.8832,     -999.0,-999.000,     -999.0,          9,     -999.0,          9,-999.000,          9
 33RO200501,       A16S,      13,          1,          1,          1,2,20050120,       1013,   -55.2303,   -34.7392,        391,   170.1,   1.2474,  34.1890,2,  34.1728,2,    256.1,2,   254.4,2,   49.83,2,   31.12,2,    0.17,2,    2.18,2,   3.931,2,   2.097,2,   0.315,2,  2208.4,2,  2297.7,2,  -999.0,9,   20.00,   7.6110,2,    25.00,-999.000,9, -999.00,-999.000,9,-999.000,9, -999.00,9,  -999.0,9,  -999.0,-999.000,9,-999.000,   3.961,3,   41.48,2,  170.10,-999.0000,9,-999.0000,9,-999.0000,9,-999.0000,9,-999.0000,9,-999.0000,9,   1.2395,     -999.0,-999.000,      4.144,          2,      2.713,          2,   0.324,          2
 33RO200501,       A16S,      14,          1,         11,         11,2,20050120,       1849,   -53.8500,   -36.3830,        241,     9.6,   3.6872,  33.7835,2,  33.7836,2,    376.1,2,   380.2,2,    0.53,6,   10.00,6,    0.28,6,    0.40,6,   5.436,2,   3.003,2,   0.520,2,  2051.4,2,  2291.1,2,  -999.0,9,   20.00,   7.9553,2,    25.00,-999.000,9, -999.00,-999.000,9,-999.000,9, -999.00,9,  -999.0,9,  -999.0,-999.000,9,-999.000,   5.797,4, -999.00,9,    9.60,-999.0000,9,-999.0000,9,-999.0000,9,-999.0000,9,-999.0000,9,-999.0000,9,   3.6865,     -999.0,-999.000,     57.371,          2,      1.552,          2,   0.969,          2
 33RO200501,       A16S,      14,          1,         10,         10,2,20050120,       1849,   -53.8500,   -36.3830,        241,    30.0,   3.4914,  33.7866,2,  33.7854,2,    361.5,2,   362.6,2,    1.15,6,   11.35,6,    0.27,6,    0.64,6,-999.000,9,-999.000,9,-999.000,9,  -999.0,9,  -999.0,9,  -999.0,9,   20.00,-999.0000,9,    25.00,-999.000,9, -999.00,-999.000,9,-999.000,9, -999.00,9,  -999.0,9,  -999.0,-999.000,9,-999.000,-999.000,9, -999.00,9,   30.00,-999.0000,9,-999.0000,9,-999.0000,9,-999.0000,9,-999.0000,9,-999.0000,9,   3.4895,     -999.0,-999.000,     60.162,          2,      1.310,          2,   0.986,          2
 33RO200501,       A16S,      14,          1,          9,          9,2,20050120,       1849,   -53.8500,   -36.3830,        241,    50.0,   1.2286,  33.9112,2,  33.9048,2,    323.7,2,   323.6,2,   19.31,6,   22.82,6,    0.24,6,    1.75,6,   5.768,2,   3.117,2,   0.558,2,  2155.2,2,  2289.0,2,  -999.0,9,   20.00,   7.7300,2,    25.00,-999.000,9, -999.00,-999.000,9,-999.000,9, -999.00,9,  -999.0,9,  -999.0,-999.000,9,-999.000,   5.709,4, -999.00,9,   50.00,-999.0000,9,-999.0000,9,-999.0000,9,-999.0000,9,-999.0000,9,-999.0000,9,   1.2263,     -999.0,-999.000,     -999.0,          9,     -999.0,          9,-999.000,          9
 33RO200501,       A16S,      14,          1,          8,          8,2,20050120,       1849,   -53.8500,   -36.3830,        241,    70.3,   0.8994,  33.9550,2,  33.9569,2,    316.7,2,   310.0,2,   27.19,2,   25.30,2,    0.24,2,    1.86,2,-999.000,9,-999.000,9,-999.000,9,  -999.0,9,  -999.0,9,  -999.0,9,   20.00,-999.0000,9,    25.00,-999.000,9, -999.00,-999.000,9,-999.000,9, -999.00,9,  -999.0,9,  -999.0,-999.000,9,-999.000,-999.000,9, -999.00,9,   70.30,-999.0000,9,-999.0000,9,-999.0000,9,-999.0000,9,-999.0000,9,-999.0000,9,   0.8964,     -999.0,-999.000,      8.512,          2,      0.000,          2,   0.389,          2
 33RO200501,       A16S,      14,          1,          7,          7,2,20050120,       1849,   -53.8500,   -36.3830,        241,    90.1,   0.8209,  33.9834,2,  33.9957,2,    301.4,2,   307.0,2,   32.43,2,   26.84,2,    0.25,2,    1.93,2,-999.000,9,-999.000,9,-999.000,9,  2177.4,2,  2290.3,2,  -999.0,9,   20.00,   7.6713,2,    25.00,-999.000,9, -999.00,-999.000,9,-999.000,9, -999.00,9,  -999.0,9,  -999.0,-999.000,9,-999.000,-999.000,9, -999.00,9,   90.10,-999.0000,9,-999.0000,9,-999.0000,9,-999.0000,9,-999.0000,9,-999.0000,9,   0.8172,     -999.0,-999.000,     -999.0,          9,     -999.0,          9,-999.000,          9
 33RO200501,       A16S,      14,          1,          6,          6,2,20050120,       1849,   -53.8500,   -36.3830,        241,   115.2,   0.8294,  34.0797,2,  34.0931,2,    280.7,2,   280.3,2,   42.96,2,   29.69,2,    0.23,2,    2.07,2,   4.703,2,   2.525,2,   0.443,2,  -999.0,9,  -999.0,9,  -999.0,9,   20.00,-999.0000,9,    25.00,-999.000,9, -999.00,-999.000,9,-999.000,9, -999.00,9,  -999.0,9,  -999.0,-999.000,9,-999.000,   4.616,3, -999.00,9,  115.20,-999.0000,9,-999.0000,9,-999.0000,9,-999.0000,9,-999.0000,9,-999.0000,9,   0.8245,     -999.0,-999.000,      0.773,          2,      0.001,          2,   0.256,          2
 33RO200501,       A16S,      14,          1,          5,          5,2,20050120,       1849,   -53.8500,   -36.3830,        241,   139.4,   1.0079,  34.1469,2,  34.1499,2,    260.9,2,   266.3,2,   47.33,2,   30.92,2,    0.20,2,    2.13,2,-999.000,9,-999.000,9,-999.000,9,  2205.3,2,  2298.5,2,  -999.0,9,   20.00,   7.6194,2,    25.00,-999.000,9, -999.00,-999.000,9,-999.000,9, -999.00,9,  -999.0,9,  -999.0,-999.000,9,-999.000,-999.000,9, -999.00,9,  139.40,-999.0000,9,-999.0000,9,-999.0000,9,-999.0000,9,-999.0000,9,-999.0000,9,   1.0017,     -999.0,-999.000,     -999.0,          9,     -999.0,          9,-999.000,          9
 33RO200501,       A16S,      14,          1,          4,          4,2,20050120,       1849,   -53.8500,   -36.3830,        241,   165.3,   1.3040,  34.2346,2,  34.2442,2,    246.8,2,   245.0,2,   54.31,6,   32.39,6,    0.19,6,    2.20,6,   3.420,2,   1.818,2,   0.307,2,  -999.0,9,  -999.0,9,  -999.0,9,   20.00,-999.0000,9,    25.00,-999.000,9, -999.00,-999.000,9,-999.000,9, -999.00,9,  -999.0,9,  -999.0,-999.000,9,-999.000,   3.398,3, -999.00,9,  165.30,-999.0000,9,-999.0000,9,-999.0000,9,-999.0000,9,-999.0000,9,-999.0000,9,   1.2962,     -999.0,-999.000,      0.000,          2,      0.120,          2,   0.172,          2
 33RO200501,       A16S,      14,          1,          3,          3,2,20050120,       1849,   -53.8500,   -36.3830,        241,   190.6,   1.5717,  34.3082,2,  34.3093,2,    228.9,2,   225.0,2,   59.31,6,   33.25,6,    0.17,6,    2.25,6,-999.000,9,-999.000,9,-999.000,9,  2225.2,2,  2308.5,2,  -999.0,9,   20.00,   7.5911,2,    25.00,-999.000,9, -999.00,-999.000,9,-999.000,9, -999.00,9,  -999.0,9,  -999.0,-999.000,9,-999.000,-999.000,9, -999.00,9,  190.60,-999.0000,9,-999.0000,9,-999.0000,9,-999.0000,9,-999.0000,9,-999.0000,9,   1.5623,     -999.0,-999.000,      0.000,          2,      0.386,          2,   0.177,          2
 33RO200501,       A16S,      14,          1,          1,          1,2,20050120,       1849,   -53.8500,   -36.3830,        241,   211.8,   1.6290,  34.3416,2,  34.3423,2,    217.3,2,   217.5,2,   62.86,6,   33.56,6,    0.17,6,    2.28,6,   2.503,2,   1.315,2,   0.217,2,  2230.3,2,  2310.8,2,  -999.0,9,   20.00,   7.5768,2,    25.00,-999.000,9, -999.00,-999.000,9,-999.000,9, -999.00,9,  -999.0,9,  -999.0,-999.000,9,-999.000,   2.556,3, -999.00,9,  211.80,-999.0000,9,-999.0000,9,-999.0000,9,-999.0000,9,-999.0000,9,-999.0000,9,   1.6183,     -999.0,-999.000,     11.123,          2,      0.922,          2,   0.186,          2
 33RO200501,       A16S,      14,          1,          2,          2,2,20050120,       1849,   -53.8500,   -36.3830,        241,   212.0,   1.6323,  34.3466,2,  34.3417,2,    215.8,2,   218.2,2,   62.49,6,   33.63,6,    0.17,6,    2.27,6,-999.000,9,-999.000,9,-999.000,9,  -999.0,9,  -999.0,9,  -999.0,9,   20.00,-999.0000,9,    25.00,-999.000,9, -999.00,-999.000,9,-999.000,9, -999.00,9,  -999.0,9,  -999.0,-999.000,9,-999.000,-999.000,9, -999.00,9,  212.00,-999.0000,9,-999.0000,9,-999.0000,9,-999.0000,9,-999.0000,9,-999.0000,9,   1.6217,     -999.0,-999.000,     -999.0,          9,     -999.0,          9,-999.000,          9