BOTTLE,20220818CCHSIOAMB
EXPOCODE,SECT_ID,STNNBR,CASTNO,SAMPNO,BTLNBR,BTLNBR_FLAG_W,DATE,TIME,LATITUDE,LONGITUDE,DEPTH,CTDPRS,CTDTMP,CTDSAL,CTDSAL_FLAG_W,SALNTY,SALNTY_FLAG_W,CTDOXY,CTDOXY_FLAG_W,OXYGEN,OXYGEN_FLAG_W,SILCAT,SILCAT_FLAG_W,NITRAT,NITRAT_FLAG_W,NITRIT,NITRIT_FLAG_W,PHSPHT,PHSPHT_FLAG_W,CFC-11,CFC-11_FLAG_W,CFC-12,CFC-12_FLAG_W,CFC113,CFC113_FLAG_W,TCARBN,TCARBN_FLAG_W,ALKALI,ALKALI_FLAG_W,PCO2,PCO2_FLAG_W,PCO2TMP,PH_SWS,PH_SWS_FLAG_W,PH_TMP,TRITUM,TRITUM_FLAG_W,TRITER,HELIUM,HELIUM_FLAG_W,DELHE3,DELHE3_FLAG_W,DELC13,DELC13_FLAG_W,DELC14,DELC14_FLAG_W,C14ERR,NEON,NEON_FLAG_W,NEONER,CCL4,CCL4_FLAG_W,DOC,DOC_FLAG_W,CTDRAW,CDOM325,CDOM325_FLAG_W,CDOM340,CDOM340_FLAG_W,CDOM380,CDOM380_FLAG_W,CDOM412,CDOM412_FLAG_W,CDOMSL,CDOMSL_FLAG_W,CDOMSN,CDOMSN_FLAG_W,THETA,HELIER,DELHER,CH3CL,CH3CL_FLAG_W,CH3BR,CH3BR_FLAG_W,CH3I,CH3I_FLAG_W
,,,,,,,,,,,METERS,DBAR,ITS-90,PSS-78,,PSS-78,,UMOL/KG,,UMOL/KG,,UMOL/KG,,UMOL/KG,,UMOL/KG,,UMOL/KG,,PMOL/KG,,PMOL/KG,,PMOL/KG,,UMOL/KG,,UMOL/KG,,UATM,,DEG C,,,DEG C,TU,,TU,NMOL/KG,,PERCNT,,/MILLE,,/MILLE,,/MILLE,NMOL/KG,,NMOL/KG,PMOL/KG,,UMOL/KG,,DBAR,1/M,,1/M,,1/M,,1/M,,1/NM,,1/NM,,DEG C,NMOL/KG,PERCNT,PMOL/KG,,PMOL/KG,,PMOL/KG,
 33RO200501,       A16S,      21,          1,          7,          7,2,20050122,       0122,   -52.0000,   -35.2335,       4493,  2700.7,   0.4939,  34.6873,2,  34.6862,2,    212.6,2,   213.6,2,  119.07,6,   32.09,6,    0.00,6,    2.27,6,   0.381,2,   0.181,2,   0.019,2,  2257.3,2,  2366.0,2,  1087.6,2,   20.00,   7.6241,2,    25.00,-999.000,9, -999.00,-999.000,9,-999.000,9, -999.00,9,  -999.0,9,  -999.0,-999.000,9,-999.000,   0.480,3, -999.00,9, 2700.70,-999.0000,9,-999.0000,9,-999.0000,9,-999.0000,9,-999.0000,9,-999.0000,9,   0.3252,     -999.0,-999.000,     -999.0,          9,     -999.0,          9,-999.000,          9
 33RO200501,       A16S,      21,          1,          6,          6,2,20050122,       0122,   -52.0000,   -35.2335,       4493,  3001.2,   0.3653,  34.6816,2,  34.6809,2,    216.0,2,   217.5,2,  120.60,2,   32.15,2,    0.00,2,    2.27,2,   0.376,2,   0.175,2,   0.012,2,  2256.4,2,  2388.5,3,  1082.3,2,   20.00,   7.6126,2,    25.00,-999.000,9, -999.00,-999.000,9,-999.000,9, -999.00,9,  -999.0,9,  -999.0,-999.000,9,-999.000,   0.474,3,   40.59,2, 3001.20,-999.0000,9,-999.0000,9,-999.0000,9,-999.0000,9,-999.0000,9,-999.0000,9,   0.1736,     -999.0,-999.000,     -999.0,          9,     -999.0,          9,-999.000,          9
 33RO200501,       A16S,      21,          1,          5,          5,2,20050122,       0122,   -52.0000,   -35.2335,       4493,  3300.9,   0.2612,  34.6766,2,  34.6772,2,    219.2,2,   219.8,2,  121.88,2,   32.20,2,    0.00,2,    2.28,2,   0.385,2,   0.193,2,   0.024,2,  2256.5,2,  2359.9,2,  1086.7,2,   20.00,   7.6111,2,    25.00,-999.000,9, -999.00,-999.000,9,-999.000,9, -999.00,9,  -999.0,9,  -999.0,-999.000,9,-999.000,   0.499,3, -999.00,9, 3300.90,-999.0000,9,-999.0000,9,-999.0000,9,-999.0000,9,-999.0000,9,-999.0000,9,   0.0450,     -999.0,-999.000,     -999.0,          9,     -999.0,          9,-999.000,          9
 33RO200501,       A16S,      21,          1,          4,          4,2,20050122,       0122,   -52.0000,   -35.2335,       4493,  3601.0,   0.1763,  34.6719,2,  34.6727,2,    222.2,2,   223.1,2,  123.93,6,   32.25,6,    0.00,6,    2.29,6,   0.436,2,   0.221,2,   0.025,2,  2255.1,2,  2359.8,2,  1078.6,2,   20.00,   7.6147,2,    25.00,-999.000,9, -999.00,-999.000,9,-999.000,9, -999.00,9,  -999.0,9,  -999.0,-999.000,9,-999.000,   0.556,3,   40.05,2, 3601.00,-999.0000,9,-999.0000,9,-999.0000,9,-999.0000,9,-999.0000,9,-999.0000,9,  -0.0657,     -999.0,-999.000,     -999.0,          9,     -999.0,          9,-999.000,          9
 33RO200501,       A16S,      21,          1,          3,          3,2,20050122,       0122,   -52.0000,   -35.2335,       4493,  3899.1,   0.1067,  34.6682,2,  34.6686,2,    225.2,2,   225.9,2,  125.53,6,   32.30,6,    0.00,6,    2.29,6,   0.485,2,   0.240,2,   0.018,2,  2259.9,2,  2360.1,2,  1080.7,2,   20.00,   7.6082,2,    25.00,-999.000,9, -999.00,-999.000,9,-999.000,9, -999.00,9,  -999.0,9,  -999.0,-999.000,9,-999.000,   0.602,3, -999.00,9, 3899.10,-999.0000,9,-999.0000,9,-999.0000,9,-999.0000,9,-999.0000,9,-999.0000,9,  -0.1624,     -999.0,-999.000,     -999.0,          9,     -999.0,          9,-999.000,          9
 33RO200501,       A16S,      21,          1,          2,          2,2,20050122,       0122,   -52.0000,   -35.2335,       4493,  4201.1,   0.0267,  34.6638,2,  34.6639,2,    229.0,2,   230.0,2,  126.29,6,   32.30,6,    0.00,6,    2.29,6,   0.594,6,   0.289,6,   0.033,6,  2257.8,2,  2357.0,2,  1068.8,2,   20.00,   7.6124,6,    25.00,-999.000,9, -999.00,-999.000,9,-999.000,9, -999.00,9,  -999.0,9,  -999.0,-999.000,9,-999.000,   0.716,3,   39.61,2, 4201.10,-999.0000,9,-999.0000,9,-999.0000,9,-999.0000,9,-999.0000,9,-999.0000,9,  -0.2705,     -999.0,-999.000,     -999.0,          9,     -999.0,          9,-999.000,          9
 33RO200501,       A16S,      21,          1,          1,          1,2,20050122,       0122,   -52.0000,   -35.2335,       4493,  4519.1,  -0.1104,  34.6570,2,  34.6578,2,    233.5,2,   234.8,2,  133.55,6,   32.26,6,    0.01,6,    2.30,6,   0.780,2,   0.379,2,   0.050,2,  2255.0,6,  2357.1,2,  1072.2,2,   20.00,   7.6129,2,    25.00,-999.000,9, -999.00,-999.000,9,-999.000,9, -999.00,9,  -999.0,9,  -999.0,-999.000,9,-999.000,   0.851,3,   39.66,2, 4519.10,-999.0000,9,-999.0000,9,-999.0000,9,-999.0000,9,-999.0000,9,-999.0000,9,  -0.4366,     -999.0,-999.000,     -999.0,          9,     -999.0,          9,-999.000,          9