BOTTLE,20220818CCHSIOAMB
EXPOCODE,SECT_ID,STNNBR,CASTNO,SAMPNO,BTLNBR,BTLNBR_FLAG_W,DATE,TIME,LATITUDE,LONGITUDE,DEPTH,CTDPRS,CTDTMP,CTDSAL,CTDSAL_FLAG_W,SALNTY,SALNTY_FLAG_W,CTDOXY,CTDOXY_FLAG_W,OXYGEN,OXYGEN_FLAG_W,SILCAT,SILCAT_FLAG_W,NITRAT,NITRAT_FLAG_W,NITRIT,NITRIT_FLAG_W,PHSPHT,PHSPHT_FLAG_W,CFC-11,CFC-11_FLAG_W,CFC-12,CFC-12_FLAG_W,CFC113,CFC113_FLAG_W,TCARBN,TCARBN_FLAG_W,ALKALI,ALKALI_FLAG_W,PCO2,PCO2_FLAG_W,PCO2TMP,PH_SWS,PH_SWS_FLAG_W,PH_TMP,TRITUM,TRITUM_FLAG_W,TRITER,HELIUM,HELIUM_FLAG_W,DELHE3,DELHE3_FLAG_W,DELC13,DELC13_FLAG_W,DELC14,DELC14_FLAG_W,C14ERR,NEON,NEON_FLAG_W,NEONER,CCL4,CCL4_FLAG_W,DOC,DOC_FLAG_W,CTDRAW,CDOM325,CDOM325_FLAG_W,CDOM340,CDOM340_FLAG_W,CDOM380,CDOM380_FLAG_W,CDOM412,CDOM412_FLAG_W,CDOMSL,CDOMSL_FLAG_W,CDOMSN,CDOMSN_FLAG_W,THETA,HELIER,DELHER,CH3CL,CH3CL_FLAG_W,CH3BR,CH3BR_FLAG_W,CH3I,CH3I_FLAG_W
,,,,,,,,,,,METERS,DBAR,ITS-90,PSS-78,,PSS-78,,UMOL/KG,,UMOL/KG,,UMOL/KG,,UMOL/KG,,UMOL/KG,,UMOL/KG,,PMOL/KG,,PMOL/KG,,PMOL/KG,,UMOL/KG,,UMOL/KG,,UATM,,DEG C,,,DEG C,TU,,TU,NMOL/KG,,PERCNT,,/MILLE,,/MILLE,,/MILLE,NMOL/KG,,NMOL/KG,PMOL/KG,,UMOL/KG,,DBAR,1/M,,1/M,,1/M,,1/M,,1/NM,,1/NM,,DEG C,NMOL/KG,PERCNT,PMOL/KG,,PMOL/KG,,PMOL/KG,
 33RO200501,       A16S,      75,          1,         36,         36,2,20050207,       1921,   -25.0005,   -25.0000,       5370,     2.9,  25.4217,  36.4619,2,  36.4596,2,    206.5,2,   207.1,2,    1.91,2,    0.00,2,    0.00,2,    0.07,2,   1.740,2,   1.118,2,   0.133,2,  2069.1,6,  2386.6,2,  -999.0,9,   20.00,   8.0443,2,    25.00,-999.000,9, -999.00,   1.788,2,  -2.358,2, -999.00,9,  -999.0,9,  -999.0,   7.062,2,   0.008,   1.507,4,   67.81,2,    2.90,-999.0000,9,-999.0000,9,-999.0000,9,-999.0000,9,-999.0000,9,-999.0000,9,  25.4211,      0.001,   0.215,     -999.0,          9,     -999.0,          9,-999.000,          9
 33RO200501,       A16S,      75,          1,         35,         35,2,20050207,       1921,   -25.0005,   -25.0000,       5370,    24.2,  25.4368,  36.4696,2,  36.4679,2,    206.4,2,   207.3,2,    1.90,2,    0.00,2,    0.00,2,    0.07,2,   1.749,2,   1.144,2,   0.141,2,  2070.6,2,  2386.9,2,  -999.0,9,   20.00,   8.0445,6,    25.00,-999.000,9, -999.00,-999.000,9,-999.000,9, -999.00,9,  -999.0,9,  -999.0,-999.000,9,-999.000,   1.519,4,   67.26,2,   24.20,-999.0000,9,-999.0000,9,-999.0000,9,-999.0000,9,-999.0000,9,-999.0000,9,  25.4314,     -999.0,-999.000,     -999.0,          9,     -999.0,          9,-999.000,          9
 33RO200501,       A16S,      75,          1,         34,         34,2,20050207,       1921,   -25.0005,   -25.0000,       5370,    50.1,  23.5524,  36.6270,2,  36.6084,2,    224.5,2,   223.9,2,    1.68,2,    0.00,2,    0.00,2,    0.10,2,-999.000,9,-999.000,9,-999.000,9,  2082.1,2,  2399.0,2,  -999.0,9,   20.00,   8.0401,2,    25.00,-999.000,9, -999.00,-999.000,9,-999.000,9, -999.00,9,  -999.0,9,  -999.0,-999.000,9,-999.000,-999.000,9,   65.69,2,   50.10,-999.0000,9,-999.0000,9,-999.0000,9,-999.0000,9,-999.0000,9,-999.0000,9,  23.5420,     -999.0,-999.000,     -999.0,          9,     -999.0,          9,-999.000,          9
 33RO200501,       A16S,      75,          1,         33,         33,2,20050207,       1921,   -25.0005,   -25.0000,       5370,    68.8,  22.3092,  36.5596,2,  36.5662,2,    229.6,2,   230.1,2,    1.61,2,    0.01,2,    0.00,2,    0.10,2,   2.080,2,   1.314,2,   0.172,2,  2081.1,2,  2396.3,2,  -999.0,9,   20.00,   8.0359,2,    25.00,-999.000,9, -999.00,   1.735,2,  -2.349,2, -999.00,9,  -999.0,9,  -999.0,   6.989,2,   0.008,   1.390,4, -999.00,9,   68.80,-999.0000,9,-999.0000,9,-999.0000,9,-999.0000,9,-999.0000,9,-999.0000,9,  22.2953,      0.001,   0.219,     -999.0,          9,     -999.0,          9,-999.000,          9
 33RO200501,       A16S,      75,          1,         32,         32,2,20050207,       1921,   -25.0005,   -25.0000,       5370,    89.4,  21.6799,  36.5185,2,  36.5145,2,    225.5,2,   227.8,2,    1.57,2,    0.01,2,    0.00,2,    0.11,2,   2.089,2,   1.321,2,   0.166,2,  2081.6,2,  2392.6,2,  -999.0,9,   20.00,   8.0349,2,    25.00,-999.000,9, -999.00,   1.760,2,  -2.715,3, -999.00,9,  -999.0,9,  -999.0,   7.072,2,   0.010,   1.388,4,   60.71,2,   89.40,-999.0000,9,-999.0000,9,-999.0000,9,-999.0000,9,-999.0000,9,-999.0000,9,  21.6623,      0.001,   0.234,     -999.0,          9,     -999.0,          9,-999.000,          9
 33RO200501,       A16S,      75,          1,         31,         31,2,20050207,       1921,   -25.0005,   -25.0000,       5370,   107.3,  21.2339,  36.5172,2,  36.5147,2,    224.6,2,   220.9,2,    1.74,2,    0.01,2,    0.00,2,    0.12,2,-999.000,9,-999.000,9,-999.000,9,  2087.4,2,  2391.7,2,  -999.0,9,   20.00,   8.0271,2,    25.00,-999.000,9, -999.00,-999.000,9,-999.000,9, -999.00,9,  -999.0,9,  -999.0,-999.000,9,-999.000,-999.000,9, -999.00,9,  107.30,-999.0000,9,-999.0000,9,-999.0000,9,-999.0000,9,-999.0000,9,-999.0000,9,  21.2131,     -999.0,-999.000,     -999.0,          9,     -999.0,          9,-999.000,          9
 33RO200501,       A16S,      75,          1,         30,         30,2,20050207,       1921,   -25.0005,   -25.0000,       5370,   139.7,  20.6166,  36.4095,2,  34.8867,3,    221.0,2,   218.9,2,    1.66,2,    0.02,2,    0.00,2,    0.12,2,   2.135,2,   1.326,2,   0.157,2,  2086.5,3,  2384.7,2,  -999.0,9,   20.00,   8.0132,2,    25.00,-999.000,9, -999.00,-999.000,9,-999.000,9, -999.00,9,  -999.0,9,  -999.0,-999.000,9,-999.000,   1.318,4,   56.66,2,  139.70,-999.0000,9,-999.0000,9,-999.0000,9,-999.0000,9,-999.0000,9,-999.0000,9,  20.5901,     -999.0,-999.000,     -999.0,          9,     -999.0,          9,-999.000,          9
 33RO200501,       A16S,      75,          1,         29,         29,2,20050207,       1921,   -25.0005,   -25.0000,       5370,   164.3,  19.4474,  36.1943,2,  36.1908,2,    216.7,2,   216.7,2,    1.84,2,    0.11,2,    0.07,2,    0.17,2,   2.274,2,   1.385,2,   0.188,2,  2091.2,2,  2369.5,2,  -999.0,9,   20.00,   7.9893,2,    25.00,-999.000,9, -999.00,   1.743,2,  -1.614,2, -999.00,9,  -999.0,9,  -999.0,   7.092,2,   0.008,   1.102,4, -999.00,9,  164.30,-999.0000,9,-999.0000,9,-999.0000,9,-999.0000,9,-999.0000,9,-999.0000,9,  19.4174,      0.001,   0.218,     -999.0,          9,     -999.0,          9,-999.000,          9
 33RO200501,       A16S,      75,          1,         28,         28,2,20050207,       1921,   -25.0005,   -25.0000,       5370,   190.0,  18.0250,  35.9337,2,  35.9309,2,    213.0,2,   215.1,2,    1.95,2,    0.89,2,    0.07,2,    0.24,2,-999.000,9,-999.000,9,-999.000,9,  2090.1,2,  2355.8,2,  -999.0,9,   20.00,   7.9640,2,    25.00,-999.000,9, -999.00,-999.000,9,-999.000,9, -999.00,9,  -999.0,9,  -999.0,-999.000,9,-999.000,-999.000,9,   54.38,2,  190.00,-999.0000,9,-999.0000,9,-999.0000,9,-999.0000,9,-999.0000,9,-999.0000,9,  17.9921,     -999.0,-999.000,     -999.0,          9,     -999.0,          9,-999.000,          9
 33RO200501,       A16S,      75,          1,         27,         27,2,20050207,       1921,   -25.0005,   -25.0000,       5370,   225.3,  16.7796,  35.7166,2,  35.7168,2,   -999.0,9,   191.4,3,    2.34,2,    2.69,2,    0.02,2,    0.33,2,   2.557,2,   1.538,2,   0.096,2,  2091.6,2,  2338.1,2,  -999.0,9,   20.00,   7.9440,2,    25.00,-999.000,9, -999.00,-999.000,9,-999.000,9, -999.00,9,  -999.0,9,  -999.0,-999.000,9,-999.000,   0.739,4,   53.46,2,  225.30,-999.0000,9,-999.0000,9,-999.0000,9,-999.0000,9,-999.0000,9,-999.0000,9,  16.7425,     -999.0,-999.000,     -999.0,          9,     -999.0,          9,-999.000,          9
 33RO200501,       A16S,      75,          1,         26,         26,2,20050207,       1921,   -25.0005,   -25.0000,       5370,   274.4,  15.3940,  35.5116,2,  35.4993,2,   -999.0,9,   201.9,3,    2.93,2,    5.47,2,    0.01,2,    0.48,2,   2.733,2,   1.605,2,   0.053,2,  2100.4,2,  2327.9,2,  -999.0,9,   20.00,   7.9051,2,    25.00,-999.000,9, -999.00,   1.777,2,  -1.026,2, -999.00,9,  -999.0,9,  -999.0,   7.368,2,   0.008,   0.556,4,   49.70,2,  274.40,-999.0000,9,-999.0000,9,-999.0000,9,-999.0000,9,-999.0000,9,-999.0000,9,  15.3514,      0.001,   0.228,     -999.0,          9,     -999.0,          9,-999.000,          9
 33RO200501,       A16S,      75,          1,         25,         25,2,20050207,       1921,   -25.0005,   -25.0000,       5370,   323.8,  14.0876,  35.3275,2,  35.3246,2,    207.7,2,   208.3,2,    3.49,2,    8.07,2,    0.00,2,    0.62,2,-999.000,9,-999.000,9,-999.000,9,  2107.2,2,  2318.0,2,  -999.0,9,   20.00,   7.8698,2,    25.00,-999.000,9, -999.00,-999.000,9,-999.000,9, -999.00,9,  -999.0,9,  -999.0,-999.000,9,-999.000,-999.000,9,   47.61,2,  323.80,-999.0000,9,-999.0000,9,-999.0000,9,-999.0000,9,-999.0000,9,-999.0000,9,  14.0402,     -999.0,-999.000,     -999.0,          9,     -999.0,          9,-999.000,          9
 33RO200501,       A16S,      75,          1,         24,         24,2,20050207,       1921,   -25.0005,   -25.0000,       5370,   374.2,  13.0619,  35.1864,2,  35.1855,2,    202.0,2,   203.8,2,    4.29,2,   10.62,2,    0.00,2,    0.77,2,   2.899,2,   1.634,2,   0.048,2,  2116.7,2,  2312.2,2,  -999.0,9,   20.00,   7.8390,2,    25.00,-999.000,9, -999.00,   1.770,2,  -0.701,2, -999.00,9,  -999.0,9,  -999.0,   7.447,2,   0.007,   0.631,4,   46.62,2,  374.20,-999.0000,9,-999.0000,9,-999.0000,9,-999.0000,9,-999.0000,9,-999.0000,9,  13.0098,      0.001,   0.226,     -999.0,          9,     -999.0,          9,-999.000,          9
 33RO200501,       A16S,      75,          1,         23,         23,2,20050207,       1921,   -25.0005,   -25.0000,       5370,   448.7,  11.7353,  35.0139,2,  35.0127,2,    198.7,2,   198.7,2,    5.70,2,   14.12,2,    0.00,2,    0.97,2,   2.885,2,   1.588,2,   0.054,2,  2129.1,2,  2304.3,2,  -999.0,9,   20.00,   7.7891,2,    25.00,   0.367,2,    0.01,   1.778,2,  -0.280,2, -999.00,9,  -999.0,9,  -999.0,   7.490,2,   0.008,   0.776,4, -999.00,9,  448.70,-999.0000,9,-999.0000,9,-999.0000,9,-999.0000,9,-999.0000,9,-999.0000,9,  11.6770,      0.001,   0.216,     -999.0,          9,     -999.0,          9,-999.000,          9
 33RO200501,       A16S,      75,          1,         22,         22,2,20050207,       1921,   -25.0005,   -25.0000,       5370,   549.6,   9.4462,  34.7476,2,  34.7462,2,    193.8,2,   192.6,2,    9.54,2,   19.93,2,    0.00,2,    1.32,2,-999.000,9,-999.000,9,-999.000,9,  2148.6,2,  2293.8,2,  -999.0,9,   20.00,   7.7287,2,    25.00,-999.000,9, -999.00,-999.000,9,-999.000,9, -999.00,9,  -999.0,9,  -999.0,-999.000,9,-999.000,-999.000,9,   44.03,2,  549.60,-999.0000,9,-999.0000,9,-999.0000,9,-999.0000,9,-999.0000,9,-999.0000,9,   9.3836,     -999.0,-999.000,     -999.0,          9,     -999.0,          9,-999.000,          9
 33RO200501,       A16S,      75,          1,         21,         21,2,20050207,       1921,   -25.0005,   -25.0000,       5370,   647.5,   7.3779,  34.5382,2,  34.5352,2,    195.4,2,   195.7,2,   14.37,2,   24.61,2,    0.00,2,    1.62,2,   2.363,2,   1.225,2,   0.082,2,  2163.5,2,  2288.6,2,  -999.0,9,   20.00,   7.6765,2,    25.00,-999.000,9, -999.00,   1.802,2,   1.244,2, -999.00,9,  -999.0,9,  -999.0,   7.742,2,   0.008,   1.420,4, -999.00,9,  647.50,-999.0000,9,-999.0000,9,-999.0000,9,-999.0000,9,-999.0000,9,-999.0000,9,   7.3139,      0.001,   0.219,     -999.0,          9,     -999.0,          9,-999.000,          9
 33RO200501,       A16S,      75,          1,         20,         20,2,20050207,       1921,   -25.0005,   -25.0000,       5370,   748.7,   5.8162,  34.4164,2,  34.4148,2,    198.5,2,   198.5,2,   20.42,2,   27.97,2,    0.00,2,    1.84,2,-999.000,9,-999.000,9,-999.000,9,  2176.4,2,  2288.2,2,  -999.0,9,   20.00,   7.6435,2,    25.00,-999.000,9, -999.00,-999.000,9,-999.000,9, -999.00,9,  -999.0,9,  -999.0,-999.000,9,-999.000,-999.000,9,   42.09,2,  748.70,-999.0000,9,-999.0000,9,-999.0000,9,-999.0000,9,-999.0000,9,-999.0000,9,   5.7506,     -999.0,-999.000,     -999.0,          9,     -999.0,          9,-999.000,          9
 33RO200501,       A16S,      75,          1,         19,         19,2,20050207,       1921,   -25.0005,   -25.0000,       5370,   849.2,   4.8724,  34.3790,2,  34.3779,2,    196.1,2,   196.9,2,   26.92,2,   30.04,2,    0.00,2,    1.98,2,   1.528,2,   0.743,2,   0.073,2,  2187.9,2,  2290.3,6,  -999.0,9,   20.00,   7.6199,6,    25.00,   0.050,2,    0.00,   1.815,2,   1.550,2, -999.00,9,  -999.0,9,  -999.0,   7.923,2,   0.008,   1.501,4, -999.00,9,  849.20,-999.0000,9,-999.0000,9,-999.0000,9,-999.0000,9,-999.0000,9,-999.0000,9,   4.8035,      0.001,   0.217,     -999.0,          9,     -999.0,          9,-999.000,          9
 33RO200501,       A16S,      75,          1,         18,         18,2,20050207,       1921,   -25.0005,   -25.0000,       5370,   999.6,   4.0514,  34.4113,2,  34.4103,2,    186.2,2,   186.0,2,   35.75,2,   31.93,2,    0.00,2,    2.11,2,   0.657,2,   0.323,2,   0.026,2,  2206.5,6,  2296.7,2,  -999.0,9,   20.00,   7.5937,2,    25.00,   0.013,2,    0.00,   1.820,2,   3.030,2, -999.00,9,  -999.0,9,  -999.0,   7.945,2,   0.008,   0.862,4,   39.50,2,  999.60,-999.0000,9,-999.0000,9,-999.0000,9,-999.0000,9,-999.0000,9,-999.0000,9,   3.9755,      0.001,   0.225,     -999.0,          9,     -999.0,          9,-999.000,          9
 33RO200501,       A16S,      75,          1,         17,         17,2,20050207,       1921,   -25.0005,   -25.0000,       5370,  1199.9,   3.4509,  34.5228,2,  34.5216,2,    185.6,2,   184.8,2,   44.54,2,   31.56,2,    0.00,2,    2.10,2,   0.182,2,   0.093,2,   0.009,2,  2216.1,2,  2308.9,2,  -999.0,9,   20.00,   7.5939,2,    25.00,   0.001,2,    0.00,-999.000,9,-999.000,9, -999.00,9,  -999.0,9,  -999.0,-999.000,9,-999.000,   0.361,4,   40.17,2, 1199.90,-999.0000,9,-999.0000,9,-999.0000,9,-999.0000,9,-999.0000,9,-999.0000,9,   3.3633,     -999.0,-999.000,     -999.0,          9,     -999.0,          9,-999.000,          9
 33RO200501,       A16S,      75,          1,         16,         16,2,20050207,       1921,   -25.0005,   -25.0000,       5370,  1399.1,   3.2742,  34.6631,2,  34.6633,2,    193.5,2,   193.6,2,   45.36,2,   29.30,2,    0.00,2,    1.95,2,   0.038,2,   0.015,2,   0.000,2,  2213.2,2,  2317.1,2,  -999.0,9,   20.00,   7.6195,2,    25.00,-999.000,9, -999.00,   1.815,2,   2.320,2, -999.00,9,  -999.0,9,  -999.0,   7.947,2,   0.008,   0.135,4,   39.80,2, 1399.10,-999.0000,9,-999.0000,9,-999.0000,9,-999.0000,9,-999.0000,9,-999.0000,9,   3.1715,      0.001,   0.230,     -999.0,          9,     -999.0,          9,-999.000,          9
 33RO200501,       A16S,      75,          1,         15,         15,2,20050207,       1921,   -25.0005,   -25.0000,       5370,  1598.9,   3.1416,  34.7582,2,  34.7574,2,    207.4,2,   206.6,2,   43.65,2,   26.98,2,    0.00,2,    1.78,2,   0.015,2,   0.006,2,   0.000,2,  2206.3,2,  2318.1,2,  -999.0,9,   20.00,   7.6479,2,    25.00,   0.016,2,    0.01,   1.841,2,   4.650,2, -999.00,9,  -999.0,9,  -999.0,   8.046,2,   0.010,   0.081,4,   39.18,2, 1598.90,-999.0000,9,-999.0000,9,-999.0000,9,-999.0000,9,-999.0000,9,-999.0000,9,   3.0233,      0.001,   0.213,     -999.0,          9,     -999.0,          9,-999.000,          9
 33RO200501,       A16S,      75,          1,         14,         14,2,20050207,       1921,   -25.0005,   -25.0000,       5370,  1798.4,   3.1883,  34.8430,2,  34.8434,2,    223.9,2,   223.8,2,   37.00,2,   24.15,2,    0.00,2,    1.58,2,   0.016,2,   0.008,2,   0.000,2,  2192.1,2,  2319.2,2,  -999.0,9,   20.00,   7.6848,2,    25.00,   0.001,2,    0.00,   1.837,2,   3.750,2, -999.00,9,  -999.0,9,  -999.0,   7.894,2,   0.007,   0.097,4,   38.93,2, 1798.40,-999.0000,9,-999.0000,9,-999.0000,9,-999.0000,9,-999.0000,9,-999.0000,9,   3.0516,      0.001,   0.199,     -999.0,          9,     -999.0,          9,-999.000,          9
 33RO200501,       A16S,      75,          1,         13,         13,2,20050207,       1921,   -25.0005,   -25.0000,       5370,  2048.7,   3.2418,  34.9251,2,  34.9248,2,    241.3,2,   244.3,2,   27.60,2,   20.94,2,    0.00,2,    1.35,2,   0.032,2,   0.016,2,   0.000,2,  2175.1,2,  2315.8,2,  -999.0,9,   20.00,   7.7212,2,    25.00,-999.000,9, -999.00,   1.881,2,   1.930,2, -999.00,9,  -999.0,9,  -999.0,   8.051,2,   0.007,   0.137,4,   39.32,2, 2048.70,-999.0000,9,-999.0000,9,-999.0000,9,-999.0000,9,-999.0000,9,-999.0000,9,   3.0812,      0.001,   0.202,     -999.0,          9,     -999.0,          9,-999.000,          9
 33RO200501,       A16S,      75,          1,         12,         12,2,20050207,       1921,   -25.0005,   -25.0000,       5370,  2348.9,   3.0861,  34.9359,2,  34.9360,2,    250.2,2,   250.0,2,   27.29,2,   20.26,2,    0.00,2,    1.30,2,   0.013,2,   0.006,2,   0.000,2,  2172.9,2,  2317.7,2,  -999.0,9,   20.00,   7.7277,2,    25.00,   0.001,2,    0.00,-999.000,9,-999.000,9, -999.00,9,  -999.0,9,  -999.0,-999.000,9,-999.000,   0.075,4, -999.00,9, 2348.90,-999.0000,9,-999.0000,9,-999.0000,9,-999.0000,9,-999.0000,9,-999.0000,9,   2.8994,     -999.0,-999.000,     -999.0,          9,     -999.0,          9,-999.000,          9
 33RO200501,       A16S,      75,          1,         11,         11,2,20050207,       1921,   -25.0005,   -25.0000,       5370,  2648.4,   2.9324,  34.9308,2,  34.9299,2,    251.3,2,   250.8,2,   29.47,2,   20.31,2,    0.00,2,    1.31,2,   0.016,2,   0.006,2,   0.000,2,  2173.4,2,  2323.3,2,  -999.0,9,   20.00,   7.7311,2,    25.00,   0.026,2,    0.00,   1.885,2,   2.220,2, -999.00,9,  -999.0,9,  -999.0,   8.091,2,   0.007,   0.095,4,   39.47,2, 2648.40,-999.0000,9,-999.0000,9,-999.0000,9,-999.0000,9,-999.0000,9,-999.0000,9,   2.7191,      0.001,   0.200,     -999.0,          9,     -999.0,          9,-999.000,          9
 33RO200501,       A16S,      75,          1,         10,         10,2,20050207,       1921,   -25.0005,   -25.0000,       5370,  2949.9,   2.7826,  34.9224,2,  34.9244,2,    251.8,2,   251.8,2,   31.97,2,   20.45,2,    0.00,2,    1.33,2,   0.022,2,   0.014,2,   0.000,2,  2178.7,3,  2324.7,2,  -999.0,9,   20.00,   7.7305,2,    25.00,   0.028,2,    0.00,   1.877,2,   1.880,2, -999.00,9,  -999.0,9,  -999.0,   8.073,2,   0.007,   0.110,4, -999.00,9, 2949.90,-999.0000,9,-999.0000,9,-999.0000,9,-999.0000,9,-999.0000,9,-999.0000,9,   2.5417,      0.001,   0.205,     -999.0,          9,     -999.0,          9,-999.000,          9
 33RO200501,       A16S,      75,          1,          9,          9,2,20050207,       1921,   -25.0005,   -25.0000,       5370,  3248.6,   2.6527,  34.9127,2,  34.9130,2,    252.2,2,   252.3,2,   34.85,2,   20.68,2,    0.00,2,    1.35,2,   0.008,2,   0.004,2,   0.000,2,  2178.2,2,  2326.2,2,  -999.0,9,   20.00,   7.7308,2,    25.00,-999.000,9, -999.00,-999.000,9,-999.000,9, -999.00,9,  -999.0,9,  -999.0,-999.000,9,-999.000,   0.062,4,   38.92,2, 3248.60,-999.0000,9,-999.0000,9,-999.0000,9,-999.0000,9,-999.0000,9,-999.0000,9,   2.3836,     -999.0,-999.000,     -999.0,          9,     -999.0,          9,-999.000,          9
 33RO200501,       A16S,      75,          1,          8,          8,2,20050207,       1921,   -25.0005,   -25.0000,       5370,  3548.4,   2.4353,  34.8921,2,  34.8917,2,    250.3,2,   250.1,2,   42.11,2,   21.61,2,    0.00,2,    1.42,2,   0.006,2,   0.008,2,   0.000,2,  2185.7,2,  2330.6,2,  -999.0,9,   20.00,   7.7233,2,    25.00,-999.000,9, -999.00,-999.000,9,-999.000,9, -999.00,9,  -999.0,9,  -999.0,-999.000,9,-999.000,   0.050,4, -999.00,9, 3548.40,-999.0000,9,-999.0000,9,-999.0000,9,-999.0000,9,-999.0000,9,-999.0000,9,   2.1394,     -999.0,-999.000,     -999.0,          9,     -999.0,          9,-999.000,          9