BOTTLE,20220818CCHSIOAMB
EXPOCODE,SECT_ID,STNNBR,CASTNO,SAMPNO,BTLNBR,BTLNBR_FLAG_W,DATE,TIME,LATITUDE,LONGITUDE,DEPTH,CTDPRS,CTDTMP,CTDSAL,CTDSAL_FLAG_W,SALNTY,SALNTY_FLAG_W,CTDOXY,CTDOXY_FLAG_W,OXYGEN,OXYGEN_FLAG_W,SILCAT,SILCAT_FLAG_W,NITRAT,NITRAT_FLAG_W,NITRIT,NITRIT_FLAG_W,PHSPHT,PHSPHT_FLAG_W,CFC-11,CFC-11_FLAG_W,CFC-12,CFC-12_FLAG_W,CFC113,CFC113_FLAG_W,TCARBN,TCARBN_FLAG_W,ALKALI,ALKALI_FLAG_W,PCO2,PCO2_FLAG_W,PCO2TMP,PH_SWS,PH_SWS_FLAG_W,PH_TMP,TRITUM,TRITUM_FLAG_W,TRITER,HELIUM,HELIUM_FLAG_W,DELHE3,DELHE3_FLAG_W,DELC13,DELC13_FLAG_W,DELC14,DELC14_FLAG_W,C14ERR,NEON,NEON_FLAG_W,NEONER,CCL4,CCL4_FLAG_W,DOC,DOC_FLAG_W,CTDRAW,CDOM325,CDOM325_FLAG_W,CDOM340,CDOM340_FLAG_W,CDOM380,CDOM380_FLAG_W,CDOM412,CDOM412_FLAG_W,CDOMSL,CDOMSL_FLAG_W,CDOMSN,CDOMSN_FLAG_W,THETA,HELIER,DELHER,CH3CL,CH3CL_FLAG_W,CH3BR,CH3BR_FLAG_W,CH3I,CH3I_FLAG_W
,,,,,,,,,,,METERS,DBAR,ITS-90,PSS-78,,PSS-78,,UMOL/KG,,UMOL/KG,,UMOL/KG,,UMOL/KG,,UMOL/KG,,UMOL/KG,,PMOL/KG,,PMOL/KG,,PMOL/KG,,UMOL/KG,,UMOL/KG,,UATM,,DEG C,,,DEG C,TU,,TU,NMOL/KG,,PERCNT,,/MILLE,,/MILLE,,/MILLE,NMOL/KG,,NMOL/KG,PMOL/KG,,UMOL/KG,,DBAR,1/M,,1/M,,1/M,,1/M,,1/NM,,1/NM,,DEG C,NMOL/KG,PERCNT,PMOL/KG,,PMOL/KG,,PMOL/KG,
 33RO200501,       A16S,     108,          1,         36,         36,2,20050217,       2022,    -8.5002,   -25.0003,       5733,     2.1,  27.5960,  36.5370,2,  36.5393,2,    199.0,2,   198.5,2,    1.46,2,    0.00,2,    0.00,2,    0.06,2,   1.585,2,   1.053,2,   0.129,2,  2054.2,6,  2392.9,6,  -999.0,9,   20.00,   8.0734,6,    25.00,-999.000,9, -999.00,-999.000,9,-999.000,9, -999.00,9,  -999.0,9,  -999.0,-999.000,9,-999.000,   1.366,4, -999.00,9,    2.10,-999.0000,9,-999.0000,9,-999.0000,9,-999.0000,9,-999.0000,9,-999.0000,9,  27.5955,     -999.0,-999.000,     52.448,          2,      0.549,          2,   2.641,          2
 33RO200501,       A16S,     108,          1,         35,         35,2,20050217,       2022,    -8.5002,   -25.0003,       5733,    23.9,  27.6026,  36.5392,2,  36.5456,2,    199.0,2,   198.8,2,    1.46,2,    0.00,2,    0.00,2,    0.06,2,-999.000,9,-999.000,9,-999.000,9,  -999.0,9,  -999.0,9,  -999.0,9,   20.00,-999.0000,9,    25.00,-999.000,9, -999.00,-999.000,9,-999.000,9, -999.00,9,  -999.0,9,  -999.0,-999.000,9,-999.000,-999.000,9, -999.00,9,   23.90,-999.0000,9,-999.0000,9,-999.0000,9,-999.0000,9,-999.0000,9,-999.0000,9,  27.5970,     -999.0,-999.000,     -999.0,          9,     -999.0,          9,-999.000,          9
 33RO200501,       A16S,     108,          1,         34,         34,2,20050217,       2022,    -8.5002,   -25.0003,       5733,    48.5,  27.1894,  36.5738,2,  36.5781,2,    202.1,2,   202.2,2,    1.37,2,    0.00,2,    0.00,2,    0.08,2,-999.000,9,-999.000,9,-999.000,9,  -999.0,9,  -999.0,9,  -999.0,9,   20.00,-999.0000,9,    25.00,-999.000,9, -999.00,-999.000,9,-999.000,9, -999.00,9,  -999.0,9,  -999.0,-999.000,9,-999.000,-999.000,9, -999.00,9,   48.50,-999.0000,9,-999.0000,9,-999.0000,9,-999.0000,9,-999.0000,9,-999.0000,9,  27.1781,     -999.0,-999.000,    109.975,          2,      0.562,          2,   4.614,          2
 33RO200501,       A16S,     108,          1,         33,         33,2,20050217,       2022,    -8.5002,   -25.0003,       5733,    74.5,  25.3860,  36.8598,2,  36.8613,2,    215.0,2,   214.1,2,    1.27,2,    0.00,2,    0.00,2,    0.07,2,   1.775,2,   1.172,2,   0.142,2,  2066.2,2,  2414.6,2,  -999.0,9,   20.00,   8.0834,2,    25.00,-999.000,9, -999.00,-999.000,9,-999.000,9, -999.00,9,  -999.0,9,  -999.0,-999.000,9,-999.000,   1.164,4, -999.00,9,   74.50,-999.0000,9,-999.0000,9,-999.0000,9,-999.0000,9,-999.0000,9,-999.0000,9,  25.3696,     -999.0,-999.000,     -999.0,          9,     -999.0,          9,-999.000,          9
 33RO200501,       A16S,     108,          1,         32,         32,2,20050217,       2022,    -8.5002,   -25.0003,       5733,    97.7,  24.1023,  36.9050,2,  36.9048,2,    213.3,2,   213.8,2,    1.37,2,    0.10,2,    0.00,2,    0.09,2,   1.844,2,   1.204,2,   0.145,2,  -999.0,9,  -999.0,9,  -999.0,9,   20.00,-999.0000,9,    25.00,-999.000,9, -999.00,-999.000,9,-999.000,9, -999.00,9,  -999.0,9,  -999.0,-999.000,9,-999.000,   1.084,4, -999.00,9,   97.70,-999.0000,9,-999.0000,9,-999.0000,9,-999.0000,9,-999.0000,9,-999.0000,9,  24.0815,     -999.0,-999.000,    175.908,          2,      0.613,          2,   3.159,          2
 33RO200501,       A16S,     108,          1,         31,         31,2,20050217,       2022,    -8.5002,   -25.0003,       5733,   149.1,  18.0625,  35.9746,2,  35.9710,2,    140.3,2,   139.9,2,    4.30,2,   11.52,2,    0.09,2,    0.87,2,-999.000,9,-999.000,9,-999.000,9,  -999.0,9,  -999.0,9,  -999.0,9,   20.00,-999.0000,9,    25.00,-999.000,9, -999.00,-999.000,9,-999.000,9, -999.00,9,  -999.0,9,  -999.0,-999.000,9,-999.000,-999.000,9, -999.00,9,  149.10,-999.0000,9,-999.0000,9,-999.0000,9,-999.0000,9,-999.0000,9,-999.0000,9,  18.0367,     -999.0,-999.000,     -999.0,          9,     -999.0,          9,-999.000,          9
 33RO200501,       A16S,     108,          1,         30,         30,2,20050217,       2022,    -8.5002,   -25.0003,       5733,   199.3,  13.5060,  35.3632,2,  35.3372,2,    104.9,2,   105.2,2,    8.21,2,   21.88,2,    0.01,2,    1.39,2,-999.000,9,-999.000,9,-999.000,9,  -999.0,9,  -999.0,9,  -999.0,9,   20.00,-999.0000,9,    25.00,-999.000,9, -999.00,-999.000,9,-999.000,9, -999.00,9,  -999.0,9,  -999.0,-999.000,9,-999.000,-999.000,9, -999.00,9,  199.30,-999.0000,9,-999.0000,9,-999.0000,9,-999.0000,9,-999.0000,9,-999.0000,9,  13.4778,     -999.0,-999.000,      5.841,          2,      0.128,          2,   0.049,          2
 33RO200501,       A16S,     108,          1,         29,         29,2,20050217,       2022,    -8.5002,   -25.0003,       5733,   248.5,  10.4853,  34.9718,2,  34.9717,2,    107.1,2,   106.7,2,   11.92,2,   26.48,2,    0.00,2,    1.66,2,-999.000,9,-999.000,9,-999.000,9,  -999.0,9,  -999.0,9,  -999.0,9,   20.00,-999.0000,9,    25.00,-999.000,9, -999.00,-999.000,9,-999.000,9, -999.00,9,  -999.0,9,  -999.0,-999.000,9,-999.000,-999.000,9, -999.00,9,  248.50,-999.0000,9,-999.0000,9,-999.0000,9,-999.0000,9,-999.0000,9,-999.0000,9,  10.4555,     -999.0,-999.000,     -999.0,          9,     -999.0,          9,-999.000,          9
 33RO200501,       A16S,     108,          1,         28,         28,9,20050217,       2022,    -8.5002,   -25.0003,       5733,   299.0,   9.3777,  34.8415,2,-999.0000,9,   -999.0,9,  -999.0,9, -999.00,9, -999.00,9, -999.00,9, -999.00,9,-999.000,9,-999.000,9,-999.000,9,  -999.0,9,  -999.0,9,  -999.0,9,   20.00,-999.0000,9,    25.00,-999.000,9, -999.00,-999.000,9,-999.000,9, -999.00,9,  -999.0,9,  -999.0,-999.000,9,-999.000,-999.000,9, -999.00,9,  299.00,-999.0000,9,-999.0000,9,-999.0000,9,-999.0000,9,-999.0000,9,-999.0000,9,   9.3443,     -999.0,-999.000,     -999.0,          9,     -999.0,          9,-999.000,          9
 33RO200501,       A16S,     108,          1,         27,         27,2,20050217,       2022,    -8.5002,   -25.0003,       5733,   398.9,   8.0062,  34.6999,2,  34.6981,2,    105.1,2,   105.0,2,   17.79,2,   32.15,2,    0.00,2,    1.99,2,   0.664,2,   0.363,2,   0.013,2,  2213.9,2,  2294.3,2,  -999.0,9,   20.00,   7.5505,2,    25.00,-999.000,9, -999.00,-999.000,9,-999.000,9, -999.00,9,  -999.0,9,  -999.0,-999.000,9,-999.000,   0.363,4, -999.00,9,  398.90,-999.0000,9,-999.0000,9,-999.0000,9,-999.0000,9,-999.0000,9,-999.0000,9,   7.9655,     -999.0,-999.000,      9.914,          2,      0.138,          2,   0.014,          2
 33RO200501,       A16S,     108,          1,         26,         26,9,20050217,       2022,    -8.5002,   -25.0003,       5733,   499.8,   7.2048,  34.6352,2,-999.0000,9,   -999.0,9,  -999.0,9, -999.00,9, -999.00,9, -999.00,9, -999.00,9,-999.000,9,-999.000,9,-999.000,9,  -999.0,9,  -999.0,9,  -999.0,9,   20.00,-999.0000,9,    25.00,-999.000,9, -999.00,-999.000,9,-999.000,9, -999.00,9,  -999.0,9,  -999.0,-999.000,9,-999.000,-999.000,9, -999.00,9,  499.80,-999.0000,9,-999.0000,9,-999.0000,9,-999.0000,9,-999.0000,9,-999.0000,9,   7.1565,     -999.0,-999.000,     -999.0,          9,     -999.0,          9,-999.000,          9
 33RO200501,       A16S,     108,          1,         25,         25,2,20050217,       2022,    -8.5002,   -25.0003,       5733,   598.9,   6.3106,  34.5672,2,  34.5700,2,    107.5,2,   106.3,2,   23.95,2,   35.58,2,    0.00,2,    2.23,2,-999.000,9,-999.000,9,-999.000,9,  -999.0,9,  -999.0,9,  -999.0,9,   20.00,-999.0000,9,    25.00,-999.000,9, -999.00,-999.000,9,-999.000,9, -999.00,9,  -999.0,9,  -999.0,-999.000,9,-999.000,-999.000,9, -999.00,9,  598.90,-999.0000,9,-999.0000,9,-999.0000,9,-999.0000,9,-999.0000,9,-999.0000,9,   6.2563,     -999.0,-999.000,      1.606,          2,      0.063,          2,   0.017,          2
 33RO200501,       A16S,     108,          1,         24,         24,2,20050217,       2022,    -8.5002,   -25.0003,       5733,   698.6,   5.5211,  34.5141,2,  34.5119,2,    124.9,2,   123.0,2,   27.37,2,   35.48,2,    0.00,2,    2.25,2,-999.000,9,-999.000,9,-999.000,9,  -999.0,9,  -999.0,9,  -999.0,9,   20.00,-999.0000,9,    25.00,-999.000,9, -999.00,-999.000,9,-999.000,9, -999.00,9,  -999.0,9,  -999.0,-999.000,9,-999.000,-999.000,9, -999.00,9,  698.60,-999.0000,9,-999.0000,9,-999.0000,9,-999.0000,9,-999.0000,9,-999.0000,9,   5.4617,     -999.0,-999.000,     -999.0,          9,     -999.0,          9,-999.000,          9
 33RO200501,       A16S,     108,          1,         23,         23,2,20050217,       2022,    -8.5002,   -25.0003,       5733,   798.8,   4.6261,  34.4611,2,  34.4601,2,    153.5,2,   155.9,2,   31.87,2,   33.72,2,    0.00,2,    2.17,2,-999.000,9,-999.000,9,-999.000,9,  -999.0,9,  -999.0,9,  -999.0,9,   20.00,-999.0000,9,    25.00,-999.000,9, -999.00,-999.000,9,-999.000,9, -999.00,9,  -999.0,9,  -999.0,-999.000,9,-999.000,-999.000,9, -999.00,9,  798.80,-999.0000,9,-999.0000,9,-999.0000,9,-999.0000,9,-999.0000,9,-999.0000,9,   4.5630,     -999.0,-999.000,     -999.0,          9,     -999.0,          9,-999.000,          9
 33RO200501,       A16S,     108,          1,         22,         22,2,20050217,       2022,    -8.5002,   -25.0003,       5733,   897.2,   4.1934,  34.4824,2,  34.4836,2,    163.1,2,   163.9,2,   35.29,2,   33.24,2,    0.00,2,    2.14,2,-999.000,9,-999.000,9,-999.000,9,  -999.0,9,  -999.0,9,  -999.0,9,   20.00,-999.0000,9,    25.00,-999.000,9, -999.00,-999.000,9,-999.000,9, -999.00,9,  -999.0,9,  -999.0,-999.000,9,-999.000,-999.000,9, -999.00,9,  897.20,-999.0000,9,-999.0000,9,-999.0000,9,-999.0000,9,-999.0000,9,-999.0000,9,   4.1249,     -999.0,-999.000,      0.000,          2,      0.000,          2,   0.008,          2
 33RO200501,       A16S,     108,          1,         21,         21,2,20050217,       2022,    -8.5002,   -25.0003,       5733,   998.4,   4.0575,  34.5583,2,  34.5573,2,    166.0,2,   166.4,2,   35.87,2,   32.35,2,    0.00,2,    2.09,2,-999.000,9,-999.000,9,-999.000,9,  2216.1,2,  2299.3,2,  -999.0,9,   20.00,   7.5784,2,    25.00,-999.000,9, -999.00,-999.000,9,-999.000,9, -999.00,9,  -999.0,9,  -999.0,-999.000,9,-999.000,-999.000,9, -999.00,9,  998.40,-999.0000,9,-999.0000,9,-999.0000,9,-999.0000,9,-999.0000,9,-999.0000,9,   3.9814,     -999.0,-999.000,     -999.0,          9,     -999.0,          9,-999.000,          9
 33RO200501,       A16S,     108,          1,         20,         20,2,20050217,       2022,    -8.5002,   -25.0003,       5733,  1099.5,   4.0793,  34.6511,2,  34.6500,2,    171.5,2,   172.4,2,   33.43,6,   30.69,6,    0.00,6,    1.99,6,   0.019,2,   0.007,4,   0.002,2,  -999.0,9,  -999.0,9,  -999.0,9,   20.00,-999.0000,9,    25.00,-999.000,9, -999.00,-999.000,9,-999.000,9, -999.00,9,  -999.0,9,  -999.0,-999.000,9,-999.000,   0.072,4, -999.00,9, 1099.50,-999.0000,9,-999.0000,9,-999.0000,9,-999.0000,9,-999.0000,9,-999.0000,9,   3.9943,     -999.0,-999.000,     -999.0,          9,     -999.0,          9,-999.000,          9
 33RO200501,       A16S,     108,          1,         19,         19,2,20050217,       2022,    -8.5002,   -25.0003,       5733,  1299.5,   4.2646,  34.8371,2,  34.8385,2,    195.2,2,   195.2,2,   26.19,2,   26.09,2,    0.00,2,    1.66,2,-999.000,9,-999.000,9,-999.000,9,  -999.0,9,  -999.0,9,  -999.0,9,   20.00,-999.0000,9,    25.00,-999.000,9, -999.00,-999.000,9,-999.000,9, -999.00,9,  -999.0,9,  -999.0,-999.000,9,-999.000,-999.000,9, -999.00,9, 1299.50,-999.0000,9,-999.0000,9,-999.0000,9,-999.0000,9,-999.0000,9,-999.0000,9,   4.1601,     -999.0,-999.000,      0.000,          2,      0.000,          2,   0.007,          2
 33RO200501,       A16S,     108,          1,         18,         18,2,20050217,       2022,    -8.5002,   -25.0003,       5733,  1498.3,   4.1832,  34.9430,2,  34.9423,2,    224.9,2,   223.7,2,   20.91,2,   22.08,2,    0.00,2,    1.38,2,-999.000,9,-999.000,9,-999.000,9,  -999.0,9,  -999.0,9,  -999.0,9,   20.00,-999.0000,9,    25.00,-999.000,9, -999.00,-999.000,9,-999.000,9, -999.00,9,  -999.0,9,  -999.0,-999.000,9,-999.000,-999.000,9, -999.00,9, 1498.30,-999.0000,9,-999.0000,9,-999.0000,9,-999.0000,9,-999.0000,9,-999.0000,9,   4.0612,     -999.0,-999.000,     -999.0,          9,     -999.0,          9,-999.000,          9
 33RO200501,       A16S,     108,          1,         17,         17,2,20050217,       2022,    -8.5002,   -25.0003,       5733,  1699.1,   3.8479,  34.9654,2,  34.9661,2,    241.2,2,   241.2,2,   20.52,2,   20.32,2,    0.00,2,    1.26,2,-999.000,9,-999.000,9,-999.000,9,  -999.0,9,  -999.0,9,  -999.0,9,   20.00,-999.0000,9,    25.00,-999.000,9, -999.00,-999.000,9,-999.000,9, -999.00,9,  -999.0,9,  -999.0,-999.000,9,-999.000,-999.000,9, -999.00,9, 1699.10,-999.0000,9,-999.0000,9,-999.0000,9,-999.0000,9,-999.0000,9,-999.0000,9,   3.7113,     -999.0,-999.000,     -999.0,          9,     -999.0,          9,-999.000,          9
 33RO200501,       A16S,     108,          1,         16,         16,2,20050217,       2022,    -8.5002,   -25.0003,       5733,  1899.9,   3.4738,  34.9517,2,  34.9506,2,    244.8,2,   244.2,2,   24.43,6,   20.13,6,    0.00,6,    1.28,6,   0.060,2,   0.034,2,   0.006,2,  -999.0,9,  -999.0,9,  -999.0,9,   20.00,-999.0000,9,    25.00,-999.000,9, -999.00,-999.000,9,-999.000,9, -999.00,9,  -999.0,9,  -999.0,-999.000,9,-999.000,   0.186,4, -999.00,9, 1899.90,-999.0000,9,-999.0000,9,-999.0000,9,-999.0000,9,-999.0000,9,-999.0000,9,   3.3235,     -999.0,-999.000,      6.539,          2,      0.105,          2,   0.012,          2
 33RO200501,       A16S,     108,          1,         15,         15,2,20050217,       2022,    -8.5002,   -25.0003,       5733,  2099.7,   3.2347,  34.9417,2,  34.9425,2,    245.9,2,   245.4,2,   27.65,6,   20.52,2,    0.00,6,    1.30,6,   0.048,2,   0.018,2,   0.001,2,  2174.9,2,  2314.7,2,  -999.0,9,   20.00,   7.7279,2,    25.00,-999.000,9, -999.00,-999.000,9,-999.000,9, -999.00,9,  -999.0,9,  -999.0,-999.000,9,-999.000,   0.143,4, -999.00,9, 2099.70,-999.0000,9,-999.0000,9,-999.0000,9,-999.0000,9,-999.0000,9,-999.0000,9,   3.0693,     -999.0,-999.000,     -999.0,          9,     -999.0,          9,-999.000,          9
 33RO200501,       A16S,     108,          1,         14,         14,2,20050217,       2022,    -8.5002,   -25.0003,       5733,  2299.6,   3.0377,  34.9276,2,  34.9270,2,    243.5,2,   241.7,2,   32.15,6,   21.01,2,    0.00,6,    1.34,6,   0.018,2,   0.010,2,   0.000,2,  -999.0,9,  -999.0,9,  -999.0,9,   20.00,-999.0000,9,    25.00,-999.000,9, -999.00,-999.000,9,-999.000,9, -999.00,9,  -999.0,9,  -999.0,-999.000,9,-999.000,   0.073,4, -999.00,9, 2299.60,-999.0000,9,-999.0000,9,-999.0000,9,-999.0000,9,-999.0000,9,-999.0000,9,   2.8566,     -999.0,-999.000,     -999.0,          9,     -999.0,          9,-999.000,          9
 33RO200501,       A16S,     108,          1,         13,         13,2,20050217,       2022,    -8.5002,   -25.0003,       5733,  2500.1,   2.8898,  34.9188,2,  34.9177,2,    243.1,2,   243.4,2,   35.18,6,   21.30,2,    0.00,6,    1.37,6,-999.000,9,-999.000,9,-999.000,9,  -999.0,9,  -999.0,9,  -999.0,9,   20.00,-999.0000,9,    25.00,-999.000,9, -999.00,-999.000,9,-999.000,9, -999.00,9,  -999.0,9,  -999.0,-999.000,9,-999.000,-999.000,9, -999.00,9, 2500.10,-999.0000,9,-999.0000,9,-999.0000,9,-999.0000,9,-999.0000,9,-999.0000,9,   2.6920,     -999.0,-999.000,     10.459,          2,      0.146,          2,   0.018,          2
 33RO200501,       A16S,     108,          1,         12,         12,2,20050217,       2022,    -8.5002,   -25.0003,       5733,  2700.1,   2.7842,  34.9136,2,  34.9122,2,    243.2,2,   243.3,2,   37.13,6,   21.40,2,    0.00,6,    1.37,6,-999.000,9,-999.000,9,-999.000,9,  -999.0,9,  -999.0,9,  -999.0,9,   20.00,-999.0000,9,    25.00,-999.000,9, -999.00,-999.000,9,-999.000,9, -999.00,9,  -999.0,9,  -999.0,-999.000,9,-999.000,-999.000,9, -999.00,9, 2700.10,-999.0000,9,-999.0000,9,-999.0000,9,-999.0000,9,-999.0000,9,-999.0000,9,   2.5687,     -999.0,-999.000,     -999.0,          9,     -999.0,          9,-999.000,          9
 33RO200501,       A16S,     108,          1,         11,         11,2,20050217,       2022,    -8.5002,   -25.0003,       5733,  3000.4,   2.6574,  34.9084,2,  34.9093,2,    245.1,2,   245.8,2,   38.60,6,   21.40,2,    0.00,6,    1.36,6,   0.011,2,   0.005,2,   0.000,2,  2184.3,2,  2333.1,2,  -999.0,9,   20.00,   7.7242,2,    25.00,-999.000,9, -999.00,-999.000,9,-999.000,9, -999.00,9,  -999.0,9,  -999.0,-999.000,9,-999.000,   0.050,4, -999.00,9, 3000.40,-999.0000,9,-999.0000,9,-999.0000,9,-999.0000,9,-999.0000,9,-999.0000,9,   2.4141,     -999.0,-999.000,     -999.0,          9,     -999.0,          9,-999.000,          9
 33RO200501,       A16S,     108,          1,         10,         10,2,20050217,       2022,    -8.5002,   -25.0003,       5733,  3287.2,   2.5989,  34.9134,2,  34.9128,2,    252.8,2,   253.1,2,   35.28,6,   20.42,2,    0.00,6,    1.30,6,-999.000,9,-999.000,9,-999.000,9,  -999.0,9,  -999.0,9,  -999.0,9,   20.00,-999.0000,9,    25.00,-999.000,9, -999.00,-999.000,9,-999.000,9, -999.00,9,  -999.0,9,  -999.0,-999.000,9,-999.000,-999.000,9, -999.00,9, 3287.20,-999.0000,9,-999.0000,9,-999.0000,9,-999.0000,9,-999.0000,9,-999.0000,9,   2.3269,     -999.0,-999.000,      0.000,          2,      0.000,          2,   0.007,          2
 33RO200501,       A16S,     108,          1,          9,          9,2,20050217,       2022,    -8.5002,   -25.0003,       5733,  3599.4,   2.4315,  34.8994,2,  34.8989,2,    253.5,2,   253.6,2,   39.09,6,   20.72,2,    0.00,6,    1.33,6,-999.000,9,-999.000,9,-999.000,9,  -999.0,9,  -999.0,9,  -999.0,9,   20.00,-999.0000,9,    25.00,-999.000,9, -999.00,-999.000,9,-999.000,9, -999.00,9,  -999.0,9,  -999.0,-999.000,9,-999.000,-999.000,9, -999.00,9, 3599.40,-999.0000,9,-999.0000,9,-999.0000,9,-999.0000,9,-999.0000,9,-999.0000,9,   2.1301,     -999.0,-999.000,     -999.0,          9,     -999.0,          9,-999.000,          9
 33RO200501,       A16S,     108,          1,          8,          8,2,20050217,       2022,    -8.5002,   -25.0003,       5733,  3898.6,   2.0619,  34.8604,2,  34.8591,2,    247.1,2,   246.6,2,   53.94,6,   22.67,2,    0.01,6,    1.54,6,   0.018,2,   0.009,2,   0.000,2,  2196.8,2,  2339.9,2,  -999.0,9,   20.00,   7.7456,2,    25.00,-999.000,9, -999.00,-999.000,9,-999.000,9, -999.00,9,  -999.0,9,  -999.0,-999.000,9,-999.000,   0.092,4, -999.00,9, 3898.60,-999.0000,9,-999.0000,9,-999.0000,9,-999.0000,9,-999.0000,9,-999.0000,9,   1.7374,     -999.0,-999.000,     -999.0,          9,     -999.0,          9,-999.000,          9