BOTTLE,20220818CCHSIOAMB
EXPOCODE,SECT_ID,STNNBR,CASTNO,SAMPNO,BTLNBR,BTLNBR_FLAG_W,DATE,TIME,LATITUDE,LONGITUDE,DEPTH,CTDPRS,CTDTMP,CTDSAL,CTDSAL_FLAG_W,SALNTY,SALNTY_FLAG_W,CTDOXY,CTDOXY_FLAG_W,OXYGEN,OXYGEN_FLAG_W,SILCAT,SILCAT_FLAG_W,NITRAT,NITRAT_FLAG_W,NITRIT,NITRIT_FLAG_W,PHSPHT,PHSPHT_FLAG_W,CFC-11,CFC-11_FLAG_W,CFC-12,CFC-12_FLAG_W,CFC113,CFC113_FLAG_W,TCARBN,TCARBN_FLAG_W,ALKALI,ALKALI_FLAG_W,PCO2,PCO2_FLAG_W,PCO2TMP,PH_SWS,PH_SWS_FLAG_W,PH_TMP,TRITUM,TRITUM_FLAG_W,TRITER,HELIUM,HELIUM_FLAG_W,DELHE3,DELHE3_FLAG_W,DELC13,DELC13_FLAG_W,DELC14,DELC14_FLAG_W,C14ERR,NEON,NEON_FLAG_W,NEONER,CCL4,CCL4_FLAG_W,DOC,DOC_FLAG_W,CTDRAW,CDOM325,CDOM325_FLAG_W,CDOM340,CDOM340_FLAG_W,CDOM380,CDOM380_FLAG_W,CDOM412,CDOM412_FLAG_W,CDOMSL,CDOMSL_FLAG_W,CDOMSN,CDOMSN_FLAG_W,THETA,HELIER,DELHER,CH3CL,CH3CL_FLAG_W,CH3BR,CH3BR_FLAG_W,CH3I,CH3I_FLAG_W
,,,,,,,,,,,METERS,DBAR,ITS-90,PSS-78,,PSS-78,,UMOL/KG,,UMOL/KG,,UMOL/KG,,UMOL/KG,,UMOL/KG,,UMOL/KG,,PMOL/KG,,PMOL/KG,,PMOL/KG,,UMOL/KG,,UMOL/KG,,UATM,,DEG C,,,DEG C,TU,,TU,NMOL/KG,,PERCNT,,/MILLE,,/MILLE,,/MILLE,NMOL/KG,,NMOL/KG,PMOL/KG,,UMOL/KG,,DBAR,1/M,,1/M,,1/M,,1/M,,1/NM,,1/NM,,DEG C,NMOL/KG,PERCNT,PMOL/KG,,PMOL/KG,,PMOL/KG,
 33RO200501,       A16S,      57,          1,         36,         36,2,20050202,       0708,   -34.0003,   -24.9998,       3997,     3.3,  20.4295,  35.4927,2,  35.4920,2,    228.2,2,   227.9,2,    0.85,2,    0.01,2,    0.00,2,    0.09,2,   2.188,2,   1.442,2,   0.179,2,  2050.8,6,  2333.9,2,   364.2,2,   20.00,   7.9971,2,    25.00,-999.000,9, -999.00,-999.000,9,-999.000,9, -999.00,9,  -999.0,9,  -999.0,-999.000,9,-999.000,   1.991,4,   63.21,2,    3.30,   0.0490,2,   0.0320,2,   0.0130,2,   0.0080,2,   0.0287,2,   0.0291,2,  20.4288,     -999.0,-999.000,     -999.0,          9,     -999.0,          9,-999.000,          9
 33RO200501,       A16S,      57,          1,         35,         35,2,20050202,       0708,   -34.0003,   -24.9998,       3997,    21.1,  20.3066,  35.5025,2,  35.5016,2,    228.5,2,   228.7,2,    0.77,2,    0.01,2,    0.00,2,    0.09,2,   2.210,2,   1.405,2,   0.180,2,  2050.9,2,  2336.5,2,   365.7,2,   20.00,   7.9935,6,    25.00,-999.000,9, -999.00,-999.000,9,-999.000,9, -999.00,9,  -999.0,9,  -999.0,-999.000,9,-999.000,   1.995,4,   61.17,2,   21.10,   0.0750,2,   0.0540,2,   0.0200,2,   0.0110,2,   0.0218,2,   0.0218,2,  20.3026,     -999.0,-999.000,     -999.0,          9,     -999.0,          9,-999.000,          9
 33RO200501,       A16S,      57,          1,         34,         34,2,20050202,       0708,   -34.0003,   -24.9998,       3997,    40.6,  20.1670,  35.5153,2,  35.5115,2,    228.8,2,   229.4,2,    0.59,2,    0.00,2,    0.00,2,    0.10,2,   2.224,2,   1.450,2,   0.182,2,  2052.3,2,  2340.2,2,   367.8,2,   20.00,   8.0008,2,    25.00,-999.000,9, -999.00,-999.000,9,-999.000,9, -999.00,9,  -999.0,9,  -999.0,-999.000,9,-999.000,   2.005,4,   59.43,2,   40.60,   0.0470,2,   0.0290,2,   0.0100,2,   0.0070,2,   0.0314,2,   0.0315,2,  20.1594,     -999.0,-999.000,     -999.0,          9,     -999.0,          9,-999.000,          9
 33RO200501,       A16S,      57,          1,         33,         33,2,20050202,       0708,   -34.0003,   -24.9998,       3997,    59.4,  18.8573,  35.5983,2,  35.5940,2,    238.1,2,   239.0,2,    0.42,2,    0.01,2,    0.00,2,    0.10,2,   2.383,2,   1.503,2,   0.188,2,  2055.8,2,  2346.3,2,   365.4,2,   20.00,   7.9998,2,    25.00,-999.000,9, -999.00,-999.000,9,-999.000,9, -999.00,9,  -999.0,9,  -999.0,-999.000,9,-999.000,   1.976,4, -999.00,9,   59.40,-999.0000,9,-999.0000,9,-999.0000,9,-999.0000,9,-999.0000,9,-999.0000,9,  18.8468,     -999.0,-999.000,     -999.0,          9,     -999.0,          9,-999.000,          9
 33RO200501,       A16S,      57,          1,         32,         32,2,20050202,       0708,   -34.0003,   -24.9998,       3997,    79.7,  17.5460,  35.5611,2,  35.5600,2,    243.5,2,   243.4,2,    0.32,2,    0.01,2,    0.01,2,    0.13,2,-999.000,9,-999.000,9,-999.000,9,  2062.4,2,  2343.5,2,   375.7,2,   20.00,   7.9895,2,    25.00,-999.000,9, -999.00,-999.000,9,-999.000,9, -999.00,9,  -999.0,9,  -999.0,-999.000,9,-999.000,-999.000,9,   57.48,2,   79.70,   0.1060,2,   0.0730,2,   0.0330,2,   0.0210,2,   0.0210,2,   0.0222,2,  17.5325,     -999.0,-999.000,     -999.0,          9,     -999.0,          9,-999.000,          9
 33RO200501,       A16S,      57,          1,         31,         31,2,20050202,       0708,   -34.0003,   -24.9998,       3997,   100.3,  16.7493,  35.5561,2,  35.5557,2,    241.4,2,   240.9,2,    0.24,2,    0.02,2,    0.00,2,    0.15,2,   2.583,6,   1.590,6,   0.198,6,  2066.5,2,  2407.3,4,   387.1,2,   20.00,   7.9805,2,    25.00,-999.000,9, -999.00,-999.000,9,-999.000,9, -999.00,9,  -999.0,9,  -999.0,-999.000,9,-999.000,   1.768,4, -999.00,9,  100.30,-999.0000,9,-999.0000,9,-999.0000,9,-999.0000,9,-999.0000,9,-999.0000,9,  16.7329,     -999.0,-999.000,     -999.0,          9,     -999.0,          9,-999.000,          9
 33RO200501,       A16S,      57,          1,         30,         30,2,20050202,       0708,   -34.0003,   -24.9998,       3997,   124.0,  16.2734,  35.5406,2,  35.5403,2,    235.8,2,   235.7,2,    0.23,2,    0.08,2,    0.02,2,    0.19,2,-999.000,9,-999.000,9,-999.000,9,  2074.6,2,  2339.7,2,  -999.0,9,   20.00,   7.9655,2,    25.00,-999.000,9, -999.00,-999.000,9,-999.000,9, -999.00,9,  -999.0,9,  -999.0,-999.000,9,-999.000,-999.000,9,   55.20,2,  124.00,   0.1290,2,   0.0950,2,   0.0450,2,   0.0310,2,   0.0172,2,   0.0183,2,  16.2535,     -999.0,-999.000,     -999.0,          9,     -999.0,          9,-999.000,          9
 33RO200501,       A16S,      57,          1,         29,         29,2,20050202,       0708,   -34.0003,   -24.9998,       3997,   148.6,  15.5851,  35.5065,2,  35.5064,2,    225.1,2,   225.5,2,    0.39,2,    2.24,2,    0.05,2,    0.32,2,   2.684,2,   1.625,2,   0.138,2,  2086.9,2,  1974.1,4,   436.6,2,   20.00,   7.9369,2,    25.00,-999.000,9, -999.00,-999.000,9,-999.000,9, -999.00,9,  -999.0,9,  -999.0,-999.000,9,-999.000,   1.148,4, -999.00,9,  148.60,-999.0000,9,-999.0000,9,-999.0000,9,-999.0000,9,-999.0000,9,-999.0000,9,  15.5620,     -999.0,-999.000,     -999.0,          9,     -999.0,          9,-999.000,          9
 33RO200501,       A16S,      57,          1,         28,         28,2,20050202,       0708,   -34.0003,   -24.9998,       3997,   174.9,  15.0296,  35.4615,2,  35.4620,2,    222.7,2,   222.7,2, -999.00,9, -999.00,9, -999.00,9, -999.00,9,-999.000,9,-999.000,9,-999.000,9,  2093.5,2,  2313.5,4,  -999.0,9,   20.00,   7.9219,2,    25.00,-999.000,9, -999.00,-999.000,9,-999.000,9, -999.00,9,  -999.0,9,  -999.0,-999.000,9,-999.000,-999.000,9,   51.81,2,  174.90,   0.1470,2,   0.1130,2,   0.0530,2,   0.0340,2,   0.0173,2,   0.0178,2,  15.0030,     -999.0,-999.000,     -999.0,          9,     -999.0,          9,-999.000,          9
 33RO200501,       A16S,      57,          1,         27,         27,2,20050202,       0708,   -34.0003,   -24.9998,       3997,   199.9,  14.7028,  35.4303,2,  35.4295,2,    219.5,2,   219.6,2,    0.76,2,    4.96,2,    0.01,2,    0.48,2,   2.816,2,   1.668,2,   0.091,2,  2098.6,2,  2329.0,2,   472.9,2,   20.00,   7.9100,2,    25.00,-999.000,9, -999.00,-999.000,9,-999.000,9, -999.00,9,  -999.0,9,  -999.0,-999.000,9,-999.000,   0.874,4, -999.00,9,  199.90,-999.0000,9,-999.0000,9,-999.0000,9,-999.0000,9,-999.0000,9,-999.0000,9,  14.6728,     -999.0,-999.000,     -999.0,          9,     -999.0,          9,-999.000,          9
 33RO200501,       A16S,      57,          1,         26,         26,2,20050202,       0708,   -34.0003,   -24.9998,       3997,   250.4,  14.1404,  35.4029,2,  35.4030,2,    217.7,2,   219.3,2,    1.14,2,    6.58,2,    0.01,2,    0.57,2,-999.000,9,-999.000,9,-999.000,9,  2103.9,2,  2327.3,2,   492.3,2,   20.00,   7.8974,2,    25.00,-999.000,9, -999.00,-999.000,9,-999.000,9, -999.00,9,  -999.0,9,  -999.0,-999.000,9,-999.000,-999.000,9,   49.47,2,  250.40,   0.0910,2,   0.0630,2,   0.0300,2,   0.0220,2,   0.0205,2,   0.0216,2,  14.1038,     -999.0,-999.000,     -999.0,          9,     -999.0,          9,-999.000,          9
 33RO200501,       A16S,      57,          1,         25,         25,2,20050202,       0708,   -34.0003,   -24.9998,       3997,   300.5,  13.4100,  35.2847,2,  35.2846,2,    217.6,2,   217.8,2,    1.44,2,    8.23,2,    0.01,2,    0.67,2,   2.922,2,   1.698,2,   0.060,2,  2108.8,2,  2324.8,2,   519.8,2,   20.00,   7.8746,2,    25.00,-999.000,9, -999.00,-999.000,9,-999.000,9, -999.00,9,  -999.0,9,  -999.0,-999.000,9,-999.000,   0.749,4,   48.13,2,  300.50,-999.0000,9,-999.0000,9,-999.0000,9,-999.0000,9,-999.0000,9,-999.0000,9,  13.3676,     -999.0,-999.000,     -999.0,          9,     -999.0,          9,-999.000,          9
 33RO200501,       A16S,      57,          1,         24,         24,2,20050202,       0708,   -34.0003,   -24.9998,       3997,   349.6,  12.9268,  35.2259,2,  35.2186,2,    219.0,2,   219.1,2,    1.72,2,    9.41,2,    0.00,2,    0.74,2,   2.967,2,   1.732,2,   0.077,2,  2111.9,2,  2321.4,2,   538.2,2,   20.00,   7.8631,2,    25.00,-999.000,9, -999.00,-999.000,9,-999.000,9, -999.00,9,  -999.0,9,  -999.0,-999.000,9,-999.000,   0.820,4,   47.77,2,  349.60,   0.1270,2,   0.0940,2,   0.0450,2,   0.0290,2,   0.0179,2,   0.0185,2,  12.8785,     -999.0,-999.000,     -999.0,          9,     -999.0,          9,-999.000,          9
 33RO200501,       A16S,      57,          1,         23,         23,2,20050202,       0708,   -34.0003,   -24.9998,       3997,   399.9,  12.0352,  35.0826,2,  35.0823,2,    214.8,2,   214.4,2,    2.48,2,   11.74,2,    0.00,2,    0.87,2,   3.030,2,   1.711,2,   0.068,2,  2120.6,2,  2315.1,2,   579.0,2,   20.00,   7.8284,2,    25.00,-999.000,9, -999.00,-999.000,9,-999.000,9, -999.00,9,  -999.0,9,  -999.0,-999.000,9,-999.000,   0.849,4,   46.59,2,  399.90,-999.0000,9,-999.0000,9,-999.0000,9,-999.0000,9,-999.0000,9,-999.0000,9,  11.9824,     -999.0,-999.000,     -999.0,          9,     -999.0,          9,-999.000,          9
 33RO200501,       A16S,      57,          1,         22,         22,2,20050202,       0708,   -34.0003,   -24.9998,       3997,   500.4,   9.9767,  34.7933,2,  34.7950,2,    211.1,2,   211.0,2,    2.49,3,   11.77,3,    0.00,2,    0.86,3,   3.054,2,   1.671,2,   0.094,2,  2136.1,2,  2300.0,2,   677.6,2,   20.00,   7.7726,2,    25.00,-999.000,9, -999.00,-999.000,9,-999.000,9, -999.00,9,  -999.0,9,  -999.0,-999.000,9,-999.000,   1.221,4,   44.54,2,  500.40,   0.1160,2,   0.0840,2,   0.0420,2,   0.0280,2,   0.0173,2,   0.0182,2,   9.9179,     -999.0,-999.000,     -999.0,          9,     -999.0,          9,-999.000,          9
 33RO200501,       A16S,      57,          1,         21,         21,2,20050202,       0708,   -34.0003,   -24.9998,       3997,   599.1,   7.8338,  34.5417,2,  34.5472,2,    215.0,2,   215.6,2,    7.99,6,   21.83,6,    0.00,6,    1.45,6,   3.104,2,   1.636,2,   0.139,2,  2149.8,2,  2291.3,2,   770.0,2,   20.00,   7.7253,2,    25.00,-999.000,9, -999.00,-999.000,9,-999.000,9, -999.00,9,  -999.0,9,  -999.0,-999.000,9,-999.000,   1.817,4, -999.00,9,  599.10,-999.0000,9,-999.0000,9,-999.0000,9,-999.0000,9,-999.0000,9,-999.0000,9,   7.7727,     -999.0,-999.000,     -999.0,          9,     -999.0,          9,-999.000,          9
 33RO200501,       A16S,      57,          1,         20,         20,2,20050202,       0708,   -34.0003,   -24.9998,       3997,   700.7,   6.0582,  34.3615,2,  34.3600,2,    226.5,2,   229.3,2, -999.00,9, -999.00,9, -999.00,9, -999.00,9,-999.000,9,-999.000,9,-999.000,9,  2156.4,2,  2284.3,2,   839.1,2,   20.00,   7.6908,2,    25.00,-999.000,9, -999.00,-999.000,9,-999.000,9, -999.00,9,  -999.0,9,  -999.0,-999.000,9,-999.000,-999.000,9,   41.54,2,  700.70,   0.1010,2,   0.0700,2,   0.0380,2,   0.0270,3,   0.0160,2,   0.0178,2,   5.9959,     -999.0,-999.000,     -999.0,          9,     -999.0,          9,-999.000,          9
 33RO200501,       A16S,      57,          1,         19,         19,2,20050202,       0708,   -34.0003,   -24.9998,       3997,   800.6,   4.8285,  34.2635,2,  34.2638,2,    238.2,2,   240.3,2, -999.00,9, -999.00,9, -999.00,9, -999.00,9,   3.229,2,   1.655,2,   0.203,2,  2163.2,2,  2283.2,6,   874.7,2,   20.00,   7.6749,2,    25.00,-999.000,9, -999.00,-999.000,9,-999.000,9, -999.00,9,  -999.0,9,  -999.0,-999.000,9,-999.000,   2.927,4, -999.00,9,  800.60,-999.0000,9,-999.0000,9,-999.0000,9,-999.0000,9,-999.0000,9,-999.0000,9,   4.7643,     -999.0,-999.000,     -999.0,          9,     -999.0,          9,-999.000,          9
 33RO200501,       A16S,      57,          1,         18,         18,2,20050202,       0708,   -34.0003,   -24.9998,       3997,   900.4,   4.2960,  34.2544,2,  34.2562,2,    237.2,2,   237.1,2,   19.65,2,   28.30,2,    0.00,2,    1.87,2,   2.836,2,   1.437,2,   0.170,2,  2170.2,2,  2285.6,2,   908.2,2,   20.00,   7.6601,2,    25.00,-999.000,9, -999.00,-999.000,9,-999.000,9, -999.00,9,  -999.0,9,  -999.0,-999.000,9,-999.000,   2.737,4,   40.60,2,  900.40,   0.1140,2,   0.0810,2,   0.0430,2,   0.0300,3,   0.0158,3,   0.0172,3,   4.2269,     -999.0,-999.000,     -999.0,          9,     -999.0,          9,-999.000,          9
 33RO200501,       A16S,      57,          1,         17,         17,2,20050202,       0708,   -34.0003,   -24.9998,       3997,   998.9,   3.8570,  34.2623,2,  34.2621,2,    230.7,2,   230.8,2,   25.39,2,   29.61,2,    0.00,2,    1.95,2,   2.419,2,   1.213,2,   0.139,2,  2181.1,6,  2290.3,2,   951.2,2,   20.00,   7.6433,2,    25.00,-999.000,9, -999.00,-999.000,9,-999.000,9, -999.00,9,  -999.0,9,  -999.0,-999.000,9,-999.000,   2.506,4,   40.12,2,  998.90,-999.0000,9,-999.0000,9,-999.0000,9,-999.0000,9,-999.0000,9,-999.0000,9,   3.7829,     -999.0,-999.000,     -999.0,          9,     -999.0,          9,-999.000,          9
 33RO200501,       A16S,      57,          1,         16,         16,2,20050202,       0708,   -34.0003,   -24.9998,       3997,  1099.6,   3.4194,  34.2993,2,  34.2981,2,    220.6,2,   219.1,2,   33.73,6,   31.09,6,    0.00,6,    2.05,6,   1.793,2,   0.895,2,   0.092,2,  2196.3,2,  2296.5,2,  -999.0,9,   20.00,   7.6287,2,    25.00,-999.000,9, -999.00,-999.000,9,-999.000,9, -999.00,9,  -999.0,9,  -999.0,-999.000,9,-999.000,   2.023,4,   39.47,2, 1099.60,   0.0970,2,   0.0650,3,   0.0330,3,   0.0240,3,   0.0187,3,   0.0208,3,   3.3407,     -999.0,-999.000,     -999.0,          9,     -999.0,          9,-999.000,          9
 33RO200501,       A16S,      57,          1,         15,         15,2,20050202,       0708,   -34.0003,   -24.9998,       3997,  1200.1,   3.1853,  34.3468,2,  34.3460,2,    210.1,2,   208.1,2,   41.31,2,   32.16,2,    0.00,2,    2.11,2,   1.321,2,   0.653,2,   0.065,2,  2207.7,2,  2304.9,2,  1050.7,2,   20.00,   7.6099,2,    25.00,-999.000,9, -999.00,-999.000,9,-999.000,9, -999.00,9,  -999.0,9,  -999.0,-999.000,9,-999.000,   1.574,4,   39.89,2, 1200.10,-999.0000,9,-999.0000,9,-999.0000,9,-999.0000,9,-999.0000,9,-999.0000,9,   3.1006,     -999.0,-999.000,     -999.0,          9,     -999.0,          9,-999.000,          9
 33RO200501,       A16S,      57,          1,         14,         14,2,20050202,       0708,   -34.0003,   -24.9998,       3997,  1298.9,   3.0239,  34.3966,2,  34.3953,2,    200.1,2,   199.5,2,   47.22,2,   32.62,2,    0.00,2,    2.16,2,   0.972,6,   0.471,6,   0.045,6,  2217.6,2,  2311.5,2,  -999.0,9,   20.00,   7.5967,2,    25.00,-999.000,9, -999.00,-999.000,9,-999.000,9, -999.00,9,  -999.0,9,  -999.0,-999.000,9,-999.000,   1.214,4,   39.37,2, 1298.90,-999.0000,9,-999.0000,9,-999.0000,9,-999.0000,9,-999.0000,9,-999.0000,9,   2.9327,     -999.0,-999.000,     -999.0,          9,     -999.0,          9,-999.000,          9
 33RO200501,       A16S,      57,          1,         13,         13,2,20050202,       0708,   -34.0003,   -24.9998,       3997,  1398.8,   2.9020,  34.4625,2,  34.4624,2,    190.9,2,   191.1,2,   53.51,2,   32.84,2,    0.00,2,    2.18,2,   0.615,2,   0.304,2,   0.021,2,  2224.5,2,  2319.2,2,  1105.5,2,   20.00,   7.5854,2,    25.00,-999.000,9, -999.00,-999.000,9,-999.000,9, -999.00,9,  -999.0,9,  -999.0,-999.000,9,-999.000,   0.843,4,   39.20,2, 1398.80,-999.0000,9,-999.0000,9,-999.0000,9,-999.0000,9,-999.0000,9,-999.0000,9,   2.8039,     -999.0,-999.000,     -999.0,          9,     -999.0,          9,-999.000,          9
 33RO200501,       A16S,      57,          1,         12,         12,2,20050202,       0708,   -34.0003,   -24.9998,       3997,  1601.1,   2.8195,  34.5883,2,  34.5869,2,    184.9,2,   185.1,2,   59.36,2,   32.01,2,    0.00,2,    2.13,2,-999.000,9,-999.000,9,-999.000,9,  2231.0,2,  2325.4,2,  1089.4,2,   20.00,   7.5885,2,    25.00,-999.000,9, -999.00,-999.000,9,-999.000,9, -999.00,9,  -999.0,9,  -999.0,-999.000,9,-999.000,-999.000,9, -999.00,9, 1601.10,-999.0000,9,-999.0000,9,-999.0000,9,-999.0000,9,-999.0000,9,-999.0000,9,   2.7053,     -999.0,-999.000,     -999.0,          9,     -999.0,          9,-999.000,          9
 33RO200501,       A16S,      57,          1,         11,         11,2,20050202,       0708,   -34.0003,   -24.9998,       3997,  1799.9,   2.8371,  34.6979,2,  34.6981,2,    192.8,2,   194.0,2,   57.57,2,   29.73,2,    0.00,2,    1.98,2,   0.107,2,   0.048,2,   0.000,2,  2225.6,2,  2329.1,2,  1012.8,2,   20.00,   7.6202,2,    25.00,-999.000,9, -999.00,-999.000,9,-999.000,9, -999.00,9,  -999.0,9,  -999.0,-999.000,9,-999.000,   0.206,4,   39.08,2, 1799.90,-999.0000,9,-999.0000,9,-999.0000,9,-999.0000,9,-999.0000,9,-999.0000,9,   2.7055,     -999.0,-999.000,     -999.0,          9,     -999.0,          9,-999.000,          9
 33RO200501,       A16S,      57,          1,         10,         10,2,20050202,       0708,   -34.0003,   -24.9998,       3997,  1999.4,   2.8894,  34.7775,2,  34.7767,2,    204.5,2,   206.4,2,   52.73,2,   27.43,2,    0.00,2,    1.83,2,   0.049,2,   0.030,2,   0.000,2,  2215.0,2,  2330.8,2,  -999.0,9,   20.00,   7.6426,2,    25.00,-999.000,9, -999.00,-999.000,9,-999.000,9, -999.00,9,  -999.0,9,  -999.0,-999.000,9,-999.000,   0.140,4, -999.00,9, 1999.40,   0.1450,2,   0.1050,2,   0.0590,2,   0.0420,2,   0.0135,2,   0.0150,2,   2.7391,     -999.0,-999.000,     -999.0,          9,     -999.0,          9,-999.000,          9
 33RO200501,       A16S,      57,          1,          9,          9,2,20050202,       0708,   -34.0003,   -24.9998,       3997,  2200.6,   2.9198,  34.8365,2,  34.8353,2,    217.7,2,   219.8,2,   46.89,2,   25.25,2,    0.00,2,    1.68,2,   0.032,2,   0.018,2,   0.000,2,  2203.0,2,  2327.7,2,   881.4,2,   20.00,   7.6760,2,    25.00,-999.000,9, -999.00,-999.000,9,-999.000,9, -999.00,9,  -999.0,9,  -999.0,-999.000,9,-999.000,   0.112,4,   39.54,2, 2200.60,-999.0000,9,-999.0000,9,-999.0000,9,-999.0000,9,-999.0000,9,-999.0000,9,   2.7504,     -999.0,-999.000,     -999.0,          9,     -999.0,          9,-999.000,          9
 33RO200501,       A16S,      57,          1,          8,          8,2,20050202,       0708,   -34.0003,   -24.9998,       3997,  2401.3,   2.8469,  34.8595,2,  34.8586,2,    227.8,2,   228.7,2,   43.97,6,   24.17,6,    0.00,6,    1.60,6,   0.020,2,   0.011,2,   0.000,2,  2195.3,2,  2327.9,2,   845.7,2,   20.00,   7.6942,2,    25.00,-999.000,9, -999.00,-999.000,9,-999.000,9, -999.00,9,  -999.0,9,  -999.0,-999.000,9,-999.000,   0.079,4, -999.00,9, 2401.30,-999.0000,9,-999.0000,9,-999.0000,9,-999.0000,9,-999.0000,9,-999.0000,9,   2.6596,     -999.0,-999.000,     -999.0,          9,     -999.0,          9,-999.000,          9