BOTTLE,20220818CCHSIOAMB
EXPOCODE,SECT_ID,STNNBR,CASTNO,SAMPNO,BTLNBR,BTLNBR_FLAG_W,DATE,TIME,LATITUDE,LONGITUDE,DEPTH,CTDPRS,CTDTMP,CTDSAL,CTDSAL_FLAG_W,SALNTY,SALNTY_FLAG_W,CTDOXY,CTDOXY_FLAG_W,OXYGEN,OXYGEN_FLAG_W,SILCAT,SILCAT_FLAG_W,NITRAT,NITRAT_FLAG_W,NITRIT,NITRIT_FLAG_W,PHSPHT,PHSPHT_FLAG_W,CFC-11,CFC-11_FLAG_W,CFC-12,CFC-12_FLAG_W,CFC113,CFC113_FLAG_W,TCARBN,TCARBN_FLAG_W,ALKALI,ALKALI_FLAG_W,PCO2,PCO2_FLAG_W,PCO2TMP,PH_SWS,PH_SWS_FLAG_W,PH_TMP,TRITUM,TRITUM_FLAG_W,TRITER,HELIUM,HELIUM_FLAG_W,DELHE3,DELHE3_FLAG_W,DELC13,DELC13_FLAG_W,DELC14,DELC14_FLAG_W,C14ERR,NEON,NEON_FLAG_W,NEONER,CCL4,CCL4_FLAG_W,DOC,DOC_FLAG_W,CTDRAW,CDOM325,CDOM325_FLAG_W,CDOM340,CDOM340_FLAG_W,CDOM380,CDOM380_FLAG_W,CDOM412,CDOM412_FLAG_W,CDOMSL,CDOMSL_FLAG_W,CDOMSN,CDOMSN_FLAG_W,THETA,HELIER,DELHER,CH3CL,CH3CL_FLAG_W,CH3BR,CH3BR_FLAG_W,CH3I,CH3I_FLAG_W
,,,,,,,,,,,METERS,DBAR,ITS-90,PSS-78,,PSS-78,,UMOL/KG,,UMOL/KG,,UMOL/KG,,UMOL/KG,,UMOL/KG,,UMOL/KG,,PMOL/KG,,PMOL/KG,,PMOL/KG,,UMOL/KG,,UMOL/KG,,UATM,,DEG C,,,DEG C,TU,,TU,NMOL/KG,,PERCNT,,/MILLE,,/MILLE,,/MILLE,NMOL/KG,,NMOL/KG,PMOL/KG,,UMOL/KG,,DBAR,1/M,,1/M,,1/M,,1/M,,1/NM,,1/NM,,DEG C,NMOL/KG,PERCNT,PMOL/KG,,PMOL/KG,,PMOL/KG,
 33RO200501,       A16S,      61,          1,          7,          7,2,20050203,       1104,   -31.9987,   -24.9988,       4171,  2699.4,   2.7173,  34.8795,2,  34.8784,2,    238.9,2,   239.1,2,   41.67,2,   22.95,2,    0.00,2,    1.50,2,  -0.007,2,   0.004,2,   0.000,2,  2187.3,2,  2328.1,2,   786.5,2,   20.00,   7.7107,2,    25.00,-999.000,9, -999.00,-999.000,9,-999.000,9,    1.05,2,  -114.1,2,     3.3,-999.000,9,-999.000,   0.027,4,   39.60,2, 2699.40,-999.0000,9,-999.0000,9,-999.0000,9,-999.0000,9,-999.0000,9,-999.0000,9,   2.5033,     -999.0,-999.000,     -999.0,          9,     -999.0,          9,-999.000,          9
 33RO200501,       A16S,      61,          1,          6,          6,2,20050203,       1104,   -31.9987,   -24.9988,       4171,  2899.2,   2.6977,  34.8920,2,  34.8916,2,    243.2,2,   243.4,2,   39.97,2,   22.31,2,    0.00,2,    1.46,2,-999.000,9,-999.000,9,-999.000,9,  2183.9,2,  2328.9,2,   774.6,2,   20.00,   7.7183,2,    25.00,-999.000,9, -999.00,-999.000,9,-999.000,9,    1.11,2,  -111.0,2,     2.5,-999.000,9,-999.000,-999.000,9, -999.00,9, 2899.20,-999.0000,9,-999.0000,9,-999.0000,9,-999.0000,9,-999.0000,9,-999.0000,9,   2.4640,     -999.0,-999.000,     -999.0,          9,     -999.0,          9,-999.000,          9
 33RO200501,       A16S,      61,          1,          5,          5,2,20050203,       1104,   -31.9987,   -24.9988,       4171,  3196.5,   2.5764,  34.8946,2,  34.8939,2,    246.6,2,   246.9,2,   41.46,2,   22.06,2,    0.00,2,    1.44,2,   0.005,2,   0.005,2,   0.000,2,  2183.1,2,  2331.4,2,   773.8,2,   20.00,   7.7190,2,    25.00,-999.000,9, -999.00,-999.000,9,-999.000,9,    1.10,2,  -106.5,2,     2.4,-999.000,9,-999.000,   0.024,4,   38.98,2, 3196.50,   0.1890,3,   0.1450,3,   0.0770,3,   0.0510,3,   0.0146,3,   0.0154,3,   2.3146,     -999.0,-999.000,     -999.0,          9,     -999.0,          9,-999.000,          9
 33RO200501,       A16S,      61,          1,          4,          4,2,20050203,       1104,   -31.9987,   -24.9988,       4171,  3498.7,   2.2884,  34.8699,2,  34.8693,2,    244.0,2,   244.2,2,   51.33,6,   23.22,6,    0.00,6,    1.54,6,  -0.003,2,   0.005,2,   0.000,2,  2188.7,2,  2336.8,2,  -999.0,9,   20.00,   7.7098,2,    25.00,-999.000,9, -999.00,-999.000,9,-999.000,9,    1.04,2,  -114.9,2,     3.0,-999.000,9,-999.000,   0.034,4, -999.00,9, 3498.70,-999.0000,9,-999.0000,9,-999.0000,9,-999.0000,9,-999.0000,9,-999.0000,9,   2.0017,     -999.0,-999.000,     -999.0,          9,     -999.0,          9,-999.000,          9
 33RO200501,       A16S,      61,          1,          3,          3,2,20050203,       1104,   -31.9987,   -24.9988,       4171,  3799.6,   1.7925,  34.8195,2,  34.8190,2,    235.8,2,   236.0,2,   70.87,6,   25.76,6,    0.00,6,    1.73,6,  -0.005,2,   0.007,2,   0.000,2,  2211.9,2,  2344.5,2,   863.8,2,   20.00,   7.6825,2,    25.00,-999.000,9, -999.00,-999.000,9,-999.000,9,    0.92,2,  -132.3,2,     3.3,-999.000,9,-999.000,   0.000,4,   39.56,2, 3799.60,-999.0000,9,-999.0000,9,-999.0000,9,-999.0000,9,-999.0000,9,-999.0000,9,   1.4864,     -999.0,-999.000,     -999.0,          9,     -999.0,          9,-999.000,          9
 33RO200501,       A16S,      61,          1,          2,          2,2,20050203,       1104,   -31.9987,   -24.9988,       4171,  4099.6,   1.4094,  34.7777,2,  34.7775,2,    228.7,2,   228.9,2,   87.10,6,   27.91,6,    0.00,6,    1.91,6,   0.038,2,   0.021,2,   0.000,2,  2228.6,2,  2353.0,6,   908.4,2,   20.00,   7.6602,6,    25.00,-999.000,9, -999.00,-999.000,9,-999.000,9,    0.82,2,  -146.4,2,     3.6,-999.000,9,-999.000,   0.090,4, -999.00,9, 4099.60,-999.0000,9,-999.0000,9,-999.0000,9,-999.0000,9,-999.0000,9,-999.0000,9,   1.0816,     -999.0,-999.000,     -999.0,          9,     -999.0,          9,-999.000,          9
 33RO200501,       A16S,      61,          1,          1,          1,2,20050203,       1104,   -31.9987,   -24.9988,       4171,  4371.2,   1.2878,  34.7617,2,  34.7610,2,    225.3,2,   225.9,2,   93.41,6,   28.76,6,    0.00,6,    1.97,6,   0.042,2,   0.023,2,   0.000,2,  2240.1,2,  2354.5,2,   927.9,2,   20.00,   7.6500,2,    25.00,-999.000,9, -999.00,-999.000,9,-999.000,9,    0.78,2,  -154.9,2,     2.8,-999.000,9,-999.000,   0.139,4,   39.42,2, 4371.20,   0.2440,3,   0.1910,3,   0.0990,3,   0.0630,3,   0.0153,3,   0.0158,3,   0.9335,     -999.0,-999.000,     -999.0,          9,     -999.0,          9,-999.000,          9