BOTTLE,20220818CCHSIOAMB
EXPOCODE,SECT_ID,STNNBR,CASTNO,SAMPNO,BTLNBR,BTLNBR_FLAG_W,DATE,TIME,LATITUDE,LONGITUDE,DEPTH,CTDPRS,CTDTMP,CTDSAL,CTDSAL_FLAG_W,SALNTY,SALNTY_FLAG_W,CTDOXY,CTDOXY_FLAG_W,OXYGEN,OXYGEN_FLAG_W,SILCAT,SILCAT_FLAG_W,NITRAT,NITRAT_FLAG_W,NITRIT,NITRIT_FLAG_W,PHSPHT,PHSPHT_FLAG_W,CFC-11,CFC-11_FLAG_W,CFC-12,CFC-12_FLAG_W,CFC113,CFC113_FLAG_W,TCARBN,TCARBN_FLAG_W,ALKALI,ALKALI_FLAG_W,PCO2,PCO2_FLAG_W,PCO2TMP,PH_SWS,PH_SWS_FLAG_W,PH_TMP,TRITUM,TRITUM_FLAG_W,TRITER,HELIUM,HELIUM_FLAG_W,DELHE3,DELHE3_FLAG_W,DELC13,DELC13_FLAG_W,DELC14,DELC14_FLAG_W,C14ERR,NEON,NEON_FLAG_W,NEONER,CCL4,CCL4_FLAG_W,DOC,DOC_FLAG_W,CTDRAW,CDOM325,CDOM325_FLAG_W,CDOM340,CDOM340_FLAG_W,CDOM380,CDOM380_FLAG_W,CDOM412,CDOM412_FLAG_W,CDOMSL,CDOMSL_FLAG_W,CDOMSN,CDOMSN_FLAG_W,THETA,HELIER,DELHER,CH3CL,CH3CL_FLAG_W,CH3BR,CH3BR_FLAG_W,CH3I,CH3I_FLAG_W
,,,,,,,,,,,METERS,DBAR,ITS-90,PSS-78,,PSS-78,,UMOL/KG,,UMOL/KG,,UMOL/KG,,UMOL/KG,,UMOL/KG,,UMOL/KG,,PMOL/KG,,PMOL/KG,,PMOL/KG,,UMOL/KG,,UMOL/KG,,UATM,,DEG C,,,DEG C,TU,,TU,NMOL/KG,,PERCNT,,/MILLE,,/MILLE,,/MILLE,NMOL/KG,,NMOL/KG,PMOL/KG,,UMOL/KG,,DBAR,1/M,,1/M,,1/M,,1/M,,1/NM,,1/NM,,DEG C,NMOL/KG,PERCNT,PMOL/KG,,PMOL/KG,,PMOL/KG,
 33RO200501,       A16S,     104,          1,         36,         36,2,20050216,       1558,   -10.5000,   -25.0002,       5460,     3.8,  27.7022,  36.6817,2,  36.6816,2,    199.8,2,   199.1,2,    1.37,2,    0.00,2,    0.00,2,    0.05,2,   1.612,2,   1.028,2,   0.133,2,  2061.5,2,  2403.4,6,  -999.0,9,   20.00,   8.0775,6,    25.00,-999.000,9, -999.00,-999.000,9,-999.000,9, -999.00,9,  -999.0,9,  -999.0,-999.000,9,-999.000,   1.328,4, -999.00,9,    3.80,-999.0000,9,-999.0000,9,-999.0000,9,-999.0000,9,-999.0000,9,-999.0000,9,  27.7014,     -999.0,-999.000,     61.575,          2,      0.696,          2,   2.919,          2
 33RO200501,       A16S,     104,          1,         35,         35,2,20050216,       1558,   -10.5000,   -25.0002,       5460,    24.1,  27.5866,  36.6703,2,  36.6699,2,    200.1,2,   199.6,2,    1.46,2,    0.00,2,    0.00,2,    0.05,2,-999.000,9,-999.000,9,-999.000,9,  -999.0,9,  -999.0,9,  -999.0,9,   20.00,-999.0000,9,    25.00,-999.000,9, -999.00,-999.000,9,-999.000,9, -999.00,9,  -999.0,9,  -999.0,-999.000,9,-999.000,-999.000,9, -999.00,9,   24.10,-999.0000,9,-999.0000,9,-999.0000,9,-999.0000,9,-999.0000,9,-999.0000,9,  27.5810,     -999.0,-999.000,     -999.0,          9,     -999.0,          9,-999.000,          9
 33RO200501,       A16S,     104,          1,         34,         34,2,20050216,       1558,   -10.5000,   -25.0002,       5460,    49.2,  26.5013,  36.7371,2,  36.7429,2,    209.8,2,   209.1,2,    1.37,2,    0.00,2,    0.00,2,    0.08,2,-999.000,9,-999.000,9,-999.000,9,  -999.0,9,  -999.0,9,  -999.0,9,   20.00,-999.0000,9,    25.00,-999.000,9, -999.00,-999.000,9,-999.000,9, -999.00,9,  -999.0,9,  -999.0,-999.000,9,-999.000,-999.000,9, -999.00,9,   49.20,-999.0000,9,-999.0000,9,-999.0000,9,-999.0000,9,-999.0000,9,-999.0000,9,  26.4901,     -999.0,-999.000,    151.479,          2,      0.472,          2,   4.776,          2
 33RO200501,       A16S,     104,          1,         33,         33,2,20050216,       1558,   -10.5000,   -25.0002,       5460,    74.3,  24.8794,  36.8589,2,  36.8649,2,    211.6,2,   213.4,2,    1.46,2,    0.00,2,    0.00,2,    0.09,2,-999.000,9,-999.000,9,-999.000,9,  -999.0,9,  -999.0,9,  -999.0,9,   20.00,-999.0000,9,    25.00,-999.000,9, -999.00,-999.000,9,-999.000,9, -999.00,9,  -999.0,9,  -999.0,-999.000,9,-999.000,-999.000,9, -999.00,9,   74.30,-999.0000,9,-999.0000,9,-999.0000,9,-999.0000,9,-999.0000,9,-999.0000,9,  24.8633,     -999.0,-999.000,     -999.0,          9,     -999.0,          9,-999.000,          9
 33RO200501,       A16S,     104,          1,         32,         32,2,20050216,       1558,   -10.5000,   -25.0002,       5460,    99.0,  24.2076,  36.9655,2,  36.9646,2,    210.9,2,   213.3,2,    1.37,2,    0.10,2,    0.00,2,    0.13,2,-999.000,9,-999.000,9,-999.000,9,  -999.0,9,  -999.0,9,  -999.0,9,   20.00,-999.0000,9,    25.00,-999.000,9, -999.00,-999.000,9,-999.000,9, -999.00,9,  -999.0,9,  -999.0,-999.000,9,-999.000,-999.000,9, -999.00,9,   99.00,-999.0000,9,-999.0000,9,-999.0000,9,-999.0000,9,-999.0000,9,-999.0000,9,  24.1865,     -999.0,-999.000,    157.483,          2,      0.652,          2,   3.316,          2
 33RO200501,       A16S,     104,          1,         31,         31,2,20050216,       1558,   -10.5000,   -25.0002,       5460,   149.1,  19.8134,  36.2927,2,  36.2555,2,    176.4,2,   178.5,2,    2.54,2,    4.59,2,    0.21,2,    0.50,2,   2.182,2,   1.301,2,   0.125,2,  -999.0,9,  2378.0,2,  -999.0,9,   20.00,   7.9340,2,    25.00,-999.000,9, -999.00,-999.000,9,-999.000,9, -999.00,9,  -999.0,9,  -999.0,-999.000,9,-999.000,   0.638,4, -999.00,9,  149.10,-999.0000,9,-999.0000,9,-999.0000,9,-999.0000,9,-999.0000,9,-999.0000,9,  19.7858,     -999.0,-999.000,     -999.0,          9,     -999.0,          9,-999.000,          9
 33RO200501,       A16S,     104,          1,         30,         30,2,20050216,       1558,   -10.5000,   -25.0002,       5460,   199.4,  14.4558,  35.4804,2,  35.4610,2,    128.6,2,   126.3,2,    6.45,2,   17.78,2,    0.01,2,    1.16,2,-999.000,9,-999.000,9,-999.000,9,  -999.0,9,  -999.0,9,  -999.0,9,   20.00,-999.0000,9,    25.00,-999.000,9, -999.00,-999.000,9,-999.000,9, -999.00,9,  -999.0,9,  -999.0,-999.000,9,-999.000,-999.000,9, -999.00,9,  199.40,-999.0000,9,-999.0000,9,-999.0000,9,-999.0000,9,-999.0000,9,-999.0000,9,  14.4262,     -999.0,-999.000,     -999.0,          9,     -999.0,          9,-999.000,          9
 33RO200501,       A16S,     104,          1,         29,         29,2,20050216,       1558,   -10.5000,   -25.0002,       5460,   248.5,  11.4654,  35.0900,2,  35.0859,2,     97.8,2,    97.2,2,   10.65,2,   25.70,2,    0.01,2,    1.59,2,-999.000,9,-999.000,9,-999.000,9,  -999.0,9,  -999.0,9,  -999.0,9,   20.00,-999.0000,9,    25.00,-999.000,9, -999.00,-999.000,9,-999.000,9, -999.00,9,  -999.0,9,  -999.0,-999.000,9,-999.000,-999.000,9, -999.00,9,  248.50,-999.0000,9,-999.0000,9,-999.0000,9,-999.0000,9,-999.0000,9,-999.0000,9,  11.4339,     -999.0,-999.000,      4.392,          2,      0.351,          2,   0.033,          2
 33RO200501,       A16S,     104,          1,         28,         28,2,20050216,       1558,   -10.5000,   -25.0002,       5460,   298.7,   9.7774,  34.8964,2,  34.8928,2,     86.9,2,    89.5,2,   13.88,2,   29.81,2,    0.00,2,    1.83,2,   0.902,2,   0.473,2,   0.008,2,  -999.0,9,  2296.5,2,  -999.0,9,   20.00,   7.5679,2,    25.00,-999.000,9, -999.00,-999.000,9,-999.000,9, -999.00,9,  -999.0,9,  -999.0,-999.000,9,-999.000,   0.257,4, -999.00,9,  298.70,-999.0000,9,-999.0000,9,-999.0000,9,-999.0000,9,-999.0000,9,-999.0000,9,   9.7431,     -999.0,-999.000,     -999.0,          9,     -999.0,          9,-999.000,          9
 33RO200501,       A16S,     104,          1,         27,         27,2,20050216,       1558,   -10.5000,   -25.0002,       5460,   349.0,   8.6068,  34.7714,2,  34.7685,2,     95.6,2,    92.5,2,   16.42,2,   31.96,2,    0.00,2,    1.96,2,-999.000,9,-999.000,9,-999.000,9,  -999.0,9,  -999.0,9,  -999.0,9,   20.00,-999.0000,9,    25.00,-999.000,9, -999.00,-999.000,9,-999.000,9, -999.00,9,  -999.0,9,  -999.0,-999.000,9,-999.000,-999.000,9, -999.00,9,  349.00,-999.0000,9,-999.0000,9,-999.0000,9,-999.0000,9,-999.0000,9,-999.0000,9,   8.5696,     -999.0,-999.000,     -999.0,          9,     -999.0,          9,-999.000,          9
 33RO200501,       A16S,     104,          1,         26,         26,2,20050216,       1558,   -10.5000,   -25.0002,       5460,   400.7,   7.8786,  34.6975,2,  34.6958,2,     97.4,2,    97.5,2,   18.18,2,   33.04,2,    0.00,2,    2.02,2,-999.000,9,-999.000,9,-999.000,9,  -999.0,9,  -999.0,9,  -999.0,9,   20.00,-999.0000,9,    25.00,-999.000,9, -999.00,-999.000,9,-999.000,9, -999.00,9,  -999.0,9,  -999.0,-999.000,9,-999.000,-999.000,9, -999.00,9,  400.70,-999.0000,9,-999.0000,9,-999.0000,9,-999.0000,9,-999.0000,9,-999.0000,9,   7.8380,     -999.0,-999.000,      8.015,          2,      0.512,          2,   0.019,          2
 33RO200501,       A16S,     104,          1,         25,         25,2,20050216,       1558,   -10.5000,   -25.0002,       5460,   499.9,   6.8453,  34.5996,2,  34.5990,2,    108.7,2,   110.8,2,   21.11,2,   34.02,2,    0.00,2,    2.10,2,   0.326,2,   0.168,2,   0.001,2,  2223.5,2,  2290.2,2,  -999.0,9,   20.00,   7.5249,2,    25.00,-999.000,9, -999.00,-999.000,9,-999.000,9, -999.00,9,  -999.0,9,  -999.0,-999.000,9,-999.000,   0.291,4, -999.00,9,  499.90,-999.0000,9,-999.0000,9,-999.0000,9,-999.0000,9,-999.0000,9,-999.0000,9,   6.7983,     -999.0,-999.000,     -999.0,          9,     -999.0,          9,-999.000,          9
 33RO200501,       A16S,     104,          1,         24,         24,2,20050216,       1558,   -10.5000,   -25.0002,       5460,   598.5,   5.9896,  34.5356,2,  34.5341,2,    119.1,2,   119.5,2,   24.54,2,   34.90,2,    0.00,2,    2.17,2,-999.000,9,-999.000,9,-999.000,9,  -999.0,9,  -999.0,9,  -999.0,9,   20.00,-999.0000,9,    25.00,-999.000,9, -999.00,-999.000,9,-999.000,9, -999.00,9,  -999.0,9,  -999.0,-999.000,9,-999.000,-999.000,9, -999.00,9,  598.50,-999.0000,9,-999.0000,9,-999.0000,9,-999.0000,9,-999.0000,9,-999.0000,9,   5.9369,     -999.0,-999.000,     -999.0,          9,     -999.0,          9,-999.000,          9
 33RO200501,       A16S,     104,          1,         23,         23,2,20050216,       1558,   -10.5000,   -25.0002,       5460,   698.8,   5.2680,  34.4916,2,  34.4927,2,    133.0,2,   133.7,2,   27.86,2,   34.90,2,    0.00,2,    2.20,2,-999.000,9,-999.000,9,-999.000,9,  -999.0,9,  -999.0,9,  -999.0,9,   20.00,-999.0000,9,    25.00,-999.000,9, -999.00,-999.000,9,-999.000,9, -999.00,9,  -999.0,9,  -999.0,-999.000,9,-999.000,-999.000,9, -999.00,9,  698.80,-999.0000,9,-999.0000,9,-999.0000,9,-999.0000,9,-999.0000,9,-999.0000,9,   5.2099,     -999.0,-999.000,      4.230,          2,      0.289,          2,   0.033,          2
 33RO200501,       A16S,     104,          1,         22,         22,2,20050216,       1558,   -10.5000,   -25.0002,       5460,   799.3,   4.7645,  34.4837,2,  34.4825,2,    141.5,2,   142.3,2,   31.28,2,   34.90,2,    0.00,2,    2.21,2,-999.000,9,-999.000,9,-999.000,9,  -999.0,9,  2297.6,2,  -999.0,9,   20.00,   7.5370,2,    25.00,-999.000,9, -999.00,-999.000,9,-999.000,9, -999.00,9,  -999.0,9,  -999.0,-999.000,9,-999.000,-999.000,9, -999.00,9,  799.30,-999.0000,9,-999.0000,9,-999.0000,9,-999.0000,9,-999.0000,9,-999.0000,9,   4.7006,     -999.0,-999.000,     -999.0,          9,     -999.0,          9,-999.000,          9
 33RO200501,       A16S,     104,          1,         21,         21,2,20050216,       1558,   -10.5000,   -25.0002,       5460,   899.1,   4.2855,  34.5126,2,  34.5126,2,    152.2,2,   153.5,2,   34.31,2,   33.92,2,    0.00,2,    2.17,2,-999.000,9,-999.000,9,-999.000,9,  -999.0,9,  -999.0,9,  -999.0,9,   20.00,-999.0000,9,    25.00,-999.000,9, -999.00,-999.000,9,-999.000,9, -999.00,9,  -999.0,9,  -999.0,-999.000,9,-999.000,-999.000,9, -999.00,9,  899.10,-999.0000,9,-999.0000,9,-999.0000,9,-999.0000,9,-999.0000,9,-999.0000,9,   4.2162,     -999.0,-999.000,     -999.0,          9,     -999.0,          9,-999.000,          9
 33RO200501,       A16S,     104,          1,         20,         20,2,20050216,       1558,   -10.5000,   -25.0002,       5460,   998.7,   4.0708,  34.5565,2,  34.5552,2,    163.8,2,   163.9,2,   35.29,6,   32.75,6,    0.00,6,    2.12,6,   0.023,2,   0.010,2,   0.007,2,  2221.9,2,  2308.3,2,  -999.0,9,   20.00,   7.5623,2,    25.00,-999.000,9, -999.00,-999.000,9,-999.000,9, -999.00,9,  -999.0,9,  -999.0,-999.000,9,-999.000,   0.081,4, -999.00,9,  998.70,-999.0000,9,-999.0000,9,-999.0000,9,-999.0000,9,-999.0000,9,-999.0000,9,   3.9947,     -999.0,-999.000,      6.640,          2,      0.665,          2,   0.014,          2
 33RO200501,       A16S,     104,          1,         19,         19,2,20050216,       1558,   -10.5000,   -25.0002,       5460,  1097.8,   4.0004,  34.6274,2,  34.6275,2,    172.5,2,   173.0,2,   34.51,2,   31.09,2,    0.00,2,    2.00,2,-999.000,9,-999.000,9,-999.000,9,  -999.0,9,  -999.0,9,  -999.0,9,   20.00,-999.0000,9,    25.00,-999.000,9, -999.00,-999.000,9,-999.000,9, -999.00,9,  -999.0,9,  -999.0,-999.000,9,-999.000,-999.000,9, -999.00,9, 1097.80,-999.0000,9,-999.0000,9,-999.0000,9,-999.0000,9,-999.0000,9,-999.0000,9,   3.9163,     -999.0,-999.000,     -999.0,          9,     -999.0,          9,-999.000,          9
 33RO200501,       A16S,     104,          1,         18,         18,2,20050216,       1558,   -10.5000,   -25.0002,       5460,  1199.1,   4.0578,  34.7206,2,  34.7210,2,    181.0,2,   181.3,2,   31.28,2,   29.23,2,    0.00,2,    1.86,2,-999.000,9,-999.000,9,-999.000,9,  -999.0,9,  -999.0,9,  -999.0,9,   20.00,-999.0000,9,    25.00,-999.000,9, -999.00,-999.000,9,-999.000,9, -999.00,9,  -999.0,9,  -999.0,-999.000,9,-999.000,-999.000,9, -999.00,9, 1199.10,-999.0000,9,-999.0000,9,-999.0000,9,-999.0000,9,-999.0000,9,-999.0000,9,   3.9643,     -999.0,-999.000,      2.296,          2,      0.439,          2,   0.010,          2
 33RO200501,       A16S,     104,          1,         17,         17,2,20050216,       1558,   -10.5000,   -25.0002,       5460,  1399.2,   4.1521,  34.8837,2,  34.8832,2,    207.5,2,   208.3,2,   24.14,2,   24.43,2,    0.00,2,    1.54,2,-999.000,9,-999.000,9,-999.000,9,  -999.0,9,  -999.0,9,  -999.0,9,   20.00,-999.0000,9,    25.00,-999.000,9, -999.00,-999.000,9,-999.000,9, -999.00,9,  -999.0,9,  -999.0,-999.000,9,-999.000,-999.000,9, -999.00,9, 1399.20,-999.0000,9,-999.0000,9,-999.0000,9,-999.0000,9,-999.0000,9,-999.0000,9,   4.0396,     -999.0,-999.000,     -999.0,          9,     -999.0,          9,-999.000,          9
 33RO200501,       A16S,     104,          1,         16,         16,2,20050216,       1558,   -10.5000,   -25.0002,       5460,  1598.9,   3.9822,  34.9536,2,  34.9523,2,    234.6,2,   233.9,2,   20.52,2,   21.21,2,    0.00,2,    1.35,2,   0.109,2,   0.055,2,   0.008,2,  -999.0,9,  -999.0,9,  -999.0,9,   20.00,-999.0000,9,    25.00,-999.000,9, -999.00,-999.000,9,-999.000,9, -999.00,9,  -999.0,9,  -999.0,-999.000,9,-999.000,   0.271,4, -999.00,9, 1598.90,-999.0000,9,-999.0000,9,-999.0000,9,-999.0000,9,-999.0000,9,-999.0000,9,   3.8532,     -999.0,-999.000,      2.667,          2,      0.190,          2,   0.012,          2
 33RO200501,       A16S,     104,          1,         15,         15,2,20050216,       1558,   -10.5000,   -25.0002,       5460,  1795.2,   3.6781,  34.9662,2,  34.9680,2,    247.2,2,   247.0,2,   20.42,2,   19.84,2,    0.00,2,    1.22,2,-999.000,9,-999.000,9,-999.000,9,  -999.0,9,  -999.0,9,  -999.0,9,   20.00,-999.0000,9,    25.00,-999.000,9, -999.00,-999.000,9,-999.000,9, -999.00,9,  -999.0,9,  -999.0,-999.000,9,-999.000,-999.000,9, -999.00,9, 1795.20,-999.0000,9,-999.0000,9,-999.0000,9,-999.0000,9,-999.0000,9,-999.0000,9,   3.5347,     -999.0,-999.000,     -999.0,          9,     -999.0,          9,-999.000,          9
 33RO200501,       A16S,     104,          1,         14,         14,2,20050216,       1558,   -10.5000,   -25.0002,       5460,  1999.2,   3.3795,  34.9580,2,  34.9576,2,    250.3,2,   250.3,2,   23.06,2,   19.64,2,    0.00,2,    1.23,2,-999.000,9,-999.000,9,-999.000,9,  -999.0,9,  -999.0,9,  -999.0,9,   20.00,-999.0000,9,    25.00,-999.000,9, -999.00,-999.000,9,-999.000,9, -999.00,9,  -999.0,9,  -999.0,-999.000,9,-999.000,-999.000,9, -999.00,9, 1999.20,-999.0000,9,-999.0000,9,-999.0000,9,-999.0000,9,-999.0000,9,-999.0000,9,   3.2213,     -999.0,-999.000,      3.981,          2,      0.213,          2,   0.018,          2
 33RO200501,       A16S,     104,          1,         13,         13,2,20050216,       1558,   -10.5000,   -25.0002,       5460,  2194.9,   3.1258,  34.9363,2,  34.9362,2,    245.5,2,   246.2,2,   29.22,2,   20.72,2,    0.00,2,    1.32,2,-999.000,9,-999.000,9,-999.000,9,  -999.0,9,  -999.0,9,  -999.0,9,   20.00,-999.0000,9,    25.00,-999.000,9, -999.00,-999.000,9,-999.000,9, -999.00,9,  -999.0,9,  -999.0,-999.000,9,-999.000,-999.000,9, -999.00,9, 2194.90,-999.0000,9,-999.0000,9,-999.0000,9,-999.0000,9,-999.0000,9,-999.0000,9,   2.9531,     -999.0,-999.000,     -999.0,          9,     -999.0,          9,-999.000,          9
 33RO200501,       A16S,     104,          1,         12,         12,2,20050216,       1558,   -10.5000,   -25.0002,       5460,  2399.1,   3.0234,  34.9341,2,  34.9336,2,    247.0,2,   247.6,2,   30.10,2,   20.52,2,    0.00,2,    1.31,2,   0.052,2,   0.025,2,   0.000,2,  2180.0,2,  2326.9,2,  -999.0,9,   20.00,   7.7251,2,    25.00,-999.000,9, -999.00,-999.000,9,-999.000,9, -999.00,9,  -999.0,9,  -999.0,-999.000,9,-999.000,   0.143,4, -999.00,9, 2399.10,-999.0000,9,-999.0000,9,-999.0000,9,-999.0000,9,-999.0000,9,-999.0000,9,   2.8329,     -999.0,-999.000,      3.415,          2,      0.089,          2,   0.015,          2
 33RO200501,       A16S,     104,          1,         11,         11,2,20050216,       1558,   -10.5000,   -25.0002,       5460,  2596.6,   2.8894,  34.9269,2,  34.9269,2,    247.8,2,   248.5,2,   32.35,2,   20.62,2,    0.00,2,    1.32,2,-999.000,9,-999.000,9,-999.000,9,  -999.0,9,  -999.0,9,  -999.0,9,   20.00,-999.0000,9,    25.00,-999.000,9, -999.00,-999.000,9,-999.000,9, -999.00,9,  -999.0,9,  -999.0,-999.000,9,-999.000,-999.000,9, -999.00,9, 2596.60,-999.0000,9,-999.0000,9,-999.0000,9,-999.0000,9,-999.0000,9,-999.0000,9,   2.6821,     -999.0,-999.000,     -999.0,          9,     -999.0,          9,-999.000,          9
 33RO200501,       A16S,     104,          1,         10,         10,2,20050216,       1558,   -10.5000,   -25.0002,       5460,  2798.8,   2.8093,  34.9223,2,  34.9228,2,    248.3,2,   249.1,2,   33.52,2,   20.72,2,    0.00,2,    1.33,2,-999.000,9,-999.000,9,-999.000,9,  -999.0,9,  -999.0,9,  -999.0,9,   20.00,-999.0000,9,    25.00,-999.000,9, -999.00,-999.000,9,-999.000,9, -999.00,9,  -999.0,9,  -999.0,-999.000,9,-999.000,-999.000,9, -999.00,9, 2798.80,-999.0000,9,-999.0000,9,-999.0000,9,-999.0000,9,-999.0000,9,-999.0000,9,   2.5834,     -999.0,-999.000,      2.585,          2,      0.096,          2,   0.012,          2
 33RO200501,       A16S,     104,          1,          9,          9,2,20050216,       1558,   -10.5000,   -25.0002,       5460,  3096.2,   2.6987,  34.9182,2,  34.9183,2,    250.2,2,   251.6,2,   34.30,2,   20.52,2,    0.00,2,    1.32,2,-999.000,9,-999.000,9,-999.000,9,  -999.0,9,  -999.0,9,  -999.0,9,   20.00,-999.0000,9,    25.00,-999.000,9, -999.00,-999.000,9,-999.000,9, -999.00,9,  -999.0,9,  -999.0,-999.000,9,-999.000,-999.000,9, -999.00,9, 3096.20,-999.0000,9,-999.0000,9,-999.0000,9,-999.0000,9,-999.0000,9,-999.0000,9,   2.4446,     -999.0,-999.000,     -999.0,          9,     -999.0,          9,-999.000,          9
 33RO200501,       A16S,     104,          1,          8,          8,2,20050216,       1558,   -10.5000,   -25.0002,       5460,  3399.2,   2.5919,  34.9128,2,  34.9124,2,    252.9,2,   254.2,2,   34.99,2,   20.33,2,    0.01,2,    1.31,2,   0.032,2,   0.011,2,   0.000,2,  -999.0,9,  -999.0,9,  -999.0,9,   20.00,-999.0000,9,    25.00,-999.000,9, -999.00,-999.000,9,-999.000,9, -999.00,9,  -999.0,9,  -999.0,-999.000,9,-999.000,   0.120,4, -999.00,9, 3399.20,-999.0000,9,-999.0000,9,-999.0000,9,-999.0000,9,-999.0000,9,-999.0000,9,   2.3082,     -999.0,-999.000,     -999.0,          9,     -999.0,          9,-999.000,          9