BOTTLE,20220818CCHSIOAMB
EXPOCODE,SECT_ID,STNNBR,CASTNO,SAMPNO,BTLNBR,BTLNBR_FLAG_W,DATE,TIME,LATITUDE,LONGITUDE,DEPTH,CTDPRS,CTDTMP,CTDSAL,CTDSAL_FLAG_W,SALNTY,SALNTY_FLAG_W,CTDOXY,CTDOXY_FLAG_W,OXYGEN,OXYGEN_FLAG_W,SILCAT,SILCAT_FLAG_W,NITRAT,NITRAT_FLAG_W,NITRIT,NITRIT_FLAG_W,PHSPHT,PHSPHT_FLAG_W,CFC-11,CFC-11_FLAG_W,CFC-12,CFC-12_FLAG_W,CFC113,CFC113_FLAG_W,TCARBN,TCARBN_FLAG_W,ALKALI,ALKALI_FLAG_W,PCO2,PCO2_FLAG_W,PCO2TMP,PH_SWS,PH_SWS_FLAG_W,PH_TMP,TRITUM,TRITUM_FLAG_W,TRITER,HELIUM,HELIUM_FLAG_W,DELHE3,DELHE3_FLAG_W,DELC13,DELC13_FLAG_W,DELC14,DELC14_FLAG_W,C14ERR,NEON,NEON_FLAG_W,NEONER,CCL4,CCL4_FLAG_W,DOC,DOC_FLAG_W,CTDRAW,CDOM325,CDOM325_FLAG_W,CDOM340,CDOM340_FLAG_W,CDOM380,CDOM380_FLAG_W,CDOM412,CDOM412_FLAG_W,CDOMSL,CDOMSL_FLAG_W,CDOMSN,CDOMSN_FLAG_W,THETA,HELIER,DELHER,CH3CL,CH3CL_FLAG_W,CH3BR,CH3BR_FLAG_W,CH3I,CH3I_FLAG_W
,,,,,,,,,,,METERS,DBAR,ITS-90,PSS-78,,PSS-78,,UMOL/KG,,UMOL/KG,,UMOL/KG,,UMOL/KG,,UMOL/KG,,UMOL/KG,,PMOL/KG,,PMOL/KG,,PMOL/KG,,UMOL/KG,,UMOL/KG,,UATM,,DEG C,,,DEG C,TU,,TU,NMOL/KG,,PERCNT,,/MILLE,,/MILLE,,/MILLE,NMOL/KG,,NMOL/KG,PMOL/KG,,UMOL/KG,,DBAR,1/M,,1/M,,1/M,,1/M,,1/NM,,1/NM,,DEG C,NMOL/KG,PERCNT,PMOL/KG,,PMOL/KG,,PMOL/KG,
 33RO200501,       A16S,      16,          1,         30,         30,2,20050120,       2350,   -53.5938,   -36.2102,       1617,     3.6,   3.3494,  33.8213,2,  33.8224,2,    348.4,2,   347.9,2,    0.00,2,   17.58,2,    0.26,2,    0.90,2,   5.685,2,   3.105,2,   0.535,2,  2103.7,2,  2282.1,6,  -999.0,9,   20.00,   7.8386,6,    25.00,-999.000,9, -999.00,-999.000,9,-999.000,9, -999.00,9,  -999.0,9,  -999.0,-999.000,9,-999.000,   6.279,4,   49.60,2,    3.60,-999.0000,9,-999.0000,9,-999.0000,9,-999.0000,9,-999.0000,9,-999.0000,9,   3.3492,     -999.0,-999.000,     -999.0,          9,     -999.0,          9,-999.000,          9
 33RO200501,       A16S,      16,          1,         29,         29,2,20050120,       2350,   -53.5938,   -36.2102,       1617,    20.1,   3.3145,  33.8201,2,  33.8197,2,    345.0,2,   344.4,2,    0.00,2,   17.84,2,    0.25,2,    0.97,2,-999.000,9,-999.000,9,-999.000,9,  -999.0,9,  -999.0,9,  -999.0,9,   20.00,-999.0000,9,    25.00,-999.000,9, -999.00,-999.000,9,-999.000,9, -999.00,9,  -999.0,9,  -999.0,-999.000,9,-999.000,-999.000,9,   45.47,2,   20.10,-999.0000,9,-999.0000,9,-999.0000,9,-999.0000,9,-999.0000,9,-999.0000,9,   3.3133,     -999.0,-999.000,     -999.0,          9,     -999.0,          9,-999.000,          9
 33RO200501,       A16S,      16,          1,         28,         28,2,20050120,       2350,   -53.5938,   -36.2102,       1617,    40.0,   2.1399,  33.8594,2,  33.8606,2,    329.5,2,   335.2,2,    4.17,2,   20.27,2,    0.24,2,    1.40,2,   5.932,2,   3.200,2,   0.560,2,  2134.4,2,  2285.5,2,  -999.0,9,   20.00,   7.7811,2,    25.00,-999.000,9, -999.00,-999.000,9,-999.000,9, -999.00,9,  -999.0,9,  -999.0,-999.000,9,-999.000,   6.488,4, -999.00,9,   40.00,-999.0000,9,-999.0000,9,-999.0000,9,-999.0000,9,-999.0000,9,-999.0000,9,   2.1378,     -999.0,-999.000,     -999.0,          9,     -999.0,          9,-999.000,          9
 33RO200501,       A16S,      16,          1,         27,         27,2,20050120,       2350,   -53.5938,   -36.2102,       1617,    60.8,   1.3858,  33.9066,2,  33.9162,2,    325.9,2,   325.2,2,   14.85,2,   23.07,2,    0.24,2,    1.70,2,-999.000,9,-999.000,9,-999.000,9,  -999.0,9,  -999.0,9,  -999.0,9,   20.00,-999.0000,9,    25.00,-999.000,9, -999.00,-999.000,9,-999.000,9, -999.00,9,  -999.0,9,  -999.0,-999.000,9,-999.000,-999.000,9,   44.08,2,   60.80,-999.0000,9,-999.0000,9,-999.0000,9,-999.0000,9,-999.0000,9,-999.0000,9,   1.3830,     -999.0,-999.000,     -999.0,          9,     -999.0,          9,-999.000,          9
 33RO200501,       A16S,      16,          1,         26,         26,2,20050120,       2350,   -53.5938,   -36.2102,       1617,    79.8,   0.8739,  33.9564,2,  33.9583,2,    316.8,2,   316.8,2,   25.09,6,   25.11,6,    0.24,6,    1.87,6,-999.000,9,-999.000,9,-999.000,9,  -999.0,9,  -999.0,9,  -999.0,9,   20.00,-999.0000,9,    25.00,-999.000,9, -999.00,-999.000,9,-999.000,9, -999.00,9,  -999.0,9,  -999.0,-999.000,9,-999.000,-999.000,9, -999.00,9,   79.80,-999.0000,9,-999.0000,9,-999.0000,9,-999.0000,9,-999.0000,9,-999.0000,9,   0.8705,     -999.0,-999.000,     -999.0,          9,     -999.0,          9,-999.000,          9
 33RO200501,       A16S,      16,          1,         25,         25,2,20050120,       2350,   -53.5938,   -36.2102,       1617,   100.1,   0.7716,  34.0084,2,  33.9961,2,    306.1,2,   305.4,2,   31.61,2,   26.95,2,    0.25,2,    1.95,2,   5.475,2,   2.924,2,   0.491,2,  2181.0,2,  2292.4,2,  -999.0,9,   20.00,   7.6678,2,    25.00,-999.000,9, -999.00,-999.000,9,-999.000,9, -999.00,9,  -999.0,9,  -999.0,-999.000,9,-999.000,   5.588,3,   42.88,2,  100.10,-999.0000,9,-999.0000,9,-999.0000,9,-999.0000,9,-999.0000,9,-999.0000,9,   0.7674,     -999.0,-999.000,     -999.0,          9,     -999.0,          9,-999.000,          9
 33RO200501,       A16S,      16,          1,         24,         24,2,20050120,       2350,   -53.5938,   -36.2102,       1617,   125.2,   0.8365,  34.0738,2,  34.0904,2,    278.1,2,   275.3,2,   42.79,6,   30.44,6,    0.20,6,    2.10,6,-999.000,9,-999.000,9,-999.000,9,  -999.0,9,  -999.0,9,  -999.0,9,   20.00,-999.0000,9,    25.00,-999.000,9, -999.00,-999.000,9,-999.000,9, -999.00,9,  -999.0,9,  -999.0,-999.000,9,-999.000,-999.000,9, -999.00,9,  125.20,-999.0000,9,-999.0000,9,-999.0000,9,-999.0000,9,-999.0000,9,-999.0000,9,   0.8312,     -999.0,-999.000,     -999.0,          9,     -999.0,          9,-999.000,          9
 33RO200501,       A16S,      16,          1,         23,         23,2,20050120,       2350,   -53.5938,   -36.2102,       1617,   150.4,   1.0963,  34.1495,2,  34.1480,2,    259.8,2,   263.7,2,   46.31,2,   31.50,2,    0.18,2,    2.15,2,-999.000,9,-999.000,9,-999.000,9,  -999.0,9,  -999.0,9,  -999.0,9,   20.00,-999.0000,9,    25.00,-999.000,9, -999.00,-999.000,9,-999.000,9, -999.00,9,  -999.0,9,  -999.0,-999.000,9,-999.000,-999.000,9,   41.53,2,  150.40,-999.0000,9,-999.0000,9,-999.0000,9,-999.0000,9,-999.0000,9,-999.0000,9,   1.0896,     -999.0,-999.000,     -999.0,          9,     -999.0,          9,-999.000,          9
 33RO200501,       A16S,      16,          1,         22,         22,2,20050120,       2350,   -53.5938,   -36.2102,       1617,   175.7,   1.3755,  34.2235,2,  34.2270,2,    241.3,2,   242.0,2,   51.62,6,   32.69,6,    0.17,6,    2.21,6,-999.000,9,-999.000,9,-999.000,9,  -999.0,9,  -999.0,9,  -999.0,9,   20.00,-999.0000,9,    25.00,-999.000,9, -999.00,-999.000,9,-999.000,9, -999.00,9,  -999.0,9,  -999.0,-999.000,9,-999.000,-999.000,9, -999.00,9,  175.70,-999.0000,9,-999.0000,9,-999.0000,9,-999.0000,9,-999.0000,9,-999.0000,9,   1.3671,     -999.0,-999.000,     -999.0,          9,     -999.0,          9,-999.000,          9
 33RO200501,       A16S,      16,          1,         21,         21,2,20050120,       2350,   -53.5938,   -36.2102,       1617,   200.4,   1.5690,  34.2773,2,  34.2855,2,    228.7,2,   228.5,2,   54.89,2,   33.29,2,    0.09,2,    2.25,2,   2.944,2,   1.525,2,   0.250,2,  2220.9,2,  2305.3,2,  -999.0,9,   20.00,   7.5840,2,    25.00,-999.000,9, -999.00,-999.000,9,-999.000,9, -999.00,9,  -999.0,9,  -999.0,-999.000,9,-999.000,   3.072,3,   40.88,2,  200.40,-999.0000,9,-999.0000,9,-999.0000,9,-999.0000,9,-999.0000,9,-999.0000,9,   1.5591,     -999.0,-999.000,     -999.0,          9,     -999.0,          9,-999.000,          9
 33RO200501,       A16S,      16,          1,         20,         20,2,20050120,       2350,   -53.5938,   -36.2102,       1617,   225.2,   1.7399,  34.3269,2,  34.3267,2,    217.1,2,   218.4,2,   58.64,6,   33.73,6,    0.06,6,    2.28,6,-999.000,9,-999.000,9,-999.000,9,  -999.0,9,  -999.0,9,  -999.0,9,   20.00,-999.0000,9,    25.00,-999.000,9, -999.00,-999.000,9,-999.000,9, -999.00,9,  -999.0,9,  -999.0,-999.000,9,-999.000,-999.000,9, -999.00,9,  225.20,-999.0000,9,-999.0000,9,-999.0000,9,-999.0000,9,-999.0000,9,-999.0000,9,   1.7283,     -999.0,-999.000,     -999.0,          9,     -999.0,          9,-999.000,          9
 33RO200501,       A16S,      16,          1,         19,         19,2,20050120,       2350,   -53.5938,   -36.2102,       1617,   249.7,   1.8389,  34.3704,2,  34.3742,2,    207.9,2,   207.7,2,   61.87,2,   34.04,2,    0.05,2,    2.29,2,-999.000,9,-999.000,9,-999.000,9,  -999.0,9,  -999.0,9,  -999.0,9,   20.00,-999.0000,9,    25.00,-999.000,9, -999.00,-999.000,9,-999.000,9, -999.00,9,  -999.0,9,  -999.0,-999.000,9,-999.000,-999.000,9,   40.23,2,  249.70,-999.0000,9,-999.0000,9,-999.0000,9,-999.0000,9,-999.0000,9,-999.0000,9,   1.8259,     -999.0,-999.000,     -999.0,          9,     -999.0,          9,-999.000,          9
 33RO200501,       A16S,      16,          1,         18,         18,2,20050120,       2350,   -53.5938,   -36.2102,       1617,   300.6,   2.0049,  34.4433,2,  34.4452,2,    193.2,2,   192.2,2,   67.95,6,   34.45,6,    0.04,6,    2.32,6,   1.543,2,   0.768,2,   0.116,2,  2242.3,2,  2320.8,2,  -999.0,9,   20.00,   7.5652,2,    25.00,-999.000,9, -999.00,-999.000,9,-999.000,9, -999.00,9,  -999.0,9,  -999.0,-999.000,9,-999.000,   1.681,3,   39.79,2,  300.60,-999.0000,9,-999.0000,9,-999.0000,9,-999.0000,9,-999.0000,9,-999.0000,9,   1.9886,     -999.0,-999.000,     -999.0,          9,     -999.0,          9,-999.000,          9
 33RO200501,       A16S,      16,          1,         17,         17,2,20050120,       2350,   -53.5938,   -36.2102,       1617,   349.6,   1.9847,  34.4778,2,  34.4782,2,    187.4,2,   189.0,2,   70.53,2,   34.50,2,    0.04,2,    2.32,2,-999.000,9,-999.000,9,-999.000,9,  -999.0,9,  -999.0,9,  -999.0,9,   20.00,-999.0000,9,    25.00,-999.000,9, -999.00,-999.000,9,-999.000,9, -999.00,9,  -999.0,9,  -999.0,-999.000,9,-999.000,-999.000,9, -999.00,9,  349.60,-999.0000,9,-999.0000,9,-999.0000,9,-999.0000,9,-999.0000,9,-999.0000,9,   1.9657,     -999.0,-999.000,     -999.0,          9,     -999.0,          9,-999.000,          9
 33RO200501,       A16S,      16,          1,         16,         16,2,20050120,       2350,   -53.5938,   -36.2102,       1617,   400.7,   2.0377,  34.5260,2,  34.5271,2,    181.8,2,   181.4,2,   73.75,2,   34.35,2,    0.03,2,    2.32,2,-999.000,9,-999.000,9,-999.000,9,  -999.0,9,  -999.0,9,  -999.0,9,   20.00,-999.0000,9,    25.00,-999.000,9, -999.00,-999.000,9,-999.000,9, -999.00,9,  -999.0,9,  -999.0,-999.000,9,-999.000,-999.000,9,   38.94,2,  400.70,-999.0000,9,-999.0000,9,-999.0000,9,-999.0000,9,-999.0000,9,-999.0000,9,   2.0155,     -999.0,-999.000,     -999.0,          9,     -999.0,          9,-999.000,          9
 33RO200501,       A16S,      16,          1,         15,         15,2,20050120,       2350,   -53.5938,   -36.2102,       1617,   450.0,   2.0516,  34.5591,2,  34.5595,2,    177.8,2,   178.7,2,   76.10,2,   34.06,2,    0.03,2,    2.32,2,-999.000,9,-999.000,9,-999.000,9,  -999.0,9,  -999.0,9,  -999.0,9,   20.00,-999.0000,9,    25.00,-999.000,9, -999.00,-999.000,9,-999.000,9, -999.00,9,  -999.0,9,  -999.0,-999.000,9,-999.000,-999.000,9, -999.00,9,  450.00,-999.0000,9,-999.0000,9,-999.0000,9,-999.0000,9,-999.0000,9,-999.0000,9,   2.0264,     -999.0,-999.000,     -999.0,          9,     -999.0,          9,-999.000,          9
 33RO200501,       A16S,      16,          1,         14,         14,2,20050120,       2350,   -53.5938,   -36.2102,       1617,   500.4,   2.0574,  34.5850,2,  34.5843,2,    176.1,2,   176.1,2,   76.52,6,   34.12,6,    0.03,6,    2.32,6,   0.661,2,   0.320,2,   0.051,2,  2256.0,2,  2336.3,2,  -999.0,9,   20.00,   7.5689,2,    25.00,-999.000,9, -999.00,-999.000,9,-999.000,9, -999.00,9,  -999.0,9,  -999.0,-999.000,9,-999.000,   0.833,3,   39.20,2,  500.40,-999.0000,9,-999.0000,9,-999.0000,9,-999.0000,9,-999.0000,9,-999.0000,9,   2.0291,     -999.0,-999.000,     -999.0,          9,     -999.0,          9,-999.000,          9
 33RO200501,       A16S,      16,          1,         13,         13,2,20050120,       2350,   -53.5938,   -36.2102,       1617,   600.2,   2.0478,  34.6324,2,  34.6324,2,    174.6,2,   174.8,2,   80.69,6,   33.64,6,    0.03,6,    2.30,6,-999.000,9,-999.000,9,-999.000,9,  -999.0,9,  -999.0,9,  -999.0,9,   20.00,-999.0000,9,    25.00,-999.000,9, -999.00,-999.000,9,-999.000,9, -999.00,9,  -999.0,9,  -999.0,-999.000,9,-999.000,-999.000,9,   39.14,2,  600.20,-999.0000,9,-999.0000,9,-999.0000,9,-999.0000,9,-999.0000,9,-999.0000,9,   2.0134,     -999.0,-999.000,     -999.0,          9,     -999.0,          9,-999.000,          9
 33RO200501,       A16S,      16,          1,         12,         12,2,20050120,       2350,   -53.5938,   -36.2102,       1617,   700.4,   1.9696,  34.6640,2,  34.6643,2,    176.4,2,   175.5,2,   86.32,6,   32.91,6,    0.02,6,    2.26,6,-999.000,9,-999.000,9,-999.000,9,  -999.0,9,  -999.0,9,  -999.0,9,   20.00,-999.0000,9,    25.00,-999.000,9, -999.00,-999.000,9,-999.000,9, -999.00,9,  -999.0,9,  -999.0,-999.000,9,-999.000,-999.000,9, -999.00,9,  700.40,-999.0000,9,-999.0000,9,-999.0000,9,-999.0000,9,-999.0000,9,-999.0000,9,   1.9293,     -999.0,-999.000,     -999.0,          9,     -999.0,          9,-999.000,          9
 33RO200501,       A16S,      16,          1,         11,         11,2,20050120,       2350,   -53.5938,   -36.2102,       1617,   801.4,   1.8933,  34.6852,2,  34.6849,2,    178.2,2,   178.7,2,   89.55,6,   32.63,6,    0.01,6,    2.24,6,   0.251,2,   0.201,2,   0.016,2,  2260.2,2,  2342.1,2,  -999.0,9,   20.00,   7.5980,2,    25.00,-999.000,9, -999.00,-999.000,9,-999.000,9, -999.00,9,  -999.0,9,  -999.0,-999.000,9,-999.000,   0.356,3,   38.47,2,  801.40,-999.0000,9,-999.0000,9,-999.0000,9,-999.0000,9,-999.0000,9,-999.0000,9,   1.8469,     -999.0,-999.000,     -999.0,          9,     -999.0,          9,-999.000,          9
 33RO200501,       A16S,      16,          1,         10,         10,2,20050120,       2350,   -53.5938,   -36.2102,       1617,   899.7,   1.8202,  34.6936,2,  34.6935,2,    180.9,2,   169.4,3,   91.94,6,   32.41,6,    0.01,6,    2.22,6,-999.000,9,-999.000,9,-999.000,9,  -999.0,9,  -999.0,9,  -999.0,9,   20.00,-999.0000,9,    25.00,-999.000,9, -999.00,-999.000,9,-999.000,9, -999.00,9,  -999.0,9,  -999.0,-999.000,9,-999.000,-999.000,9, -999.00,9,  899.70,-999.0000,9,-999.0000,9,-999.0000,9,-999.0000,9,-999.0000,9,-999.0000,9,   1.7679,     -999.0,-999.000,     -999.0,          9,     -999.0,          9,-999.000,          9
 33RO200501,       A16S,      16,          1,          9,          9,2,20050120,       2350,   -53.5938,   -36.2102,       1617,  1000.2,   1.7225,  34.7001,2,  34.7000,2,    183.6,2,   184.3,2,   94.08,6,   32.23,6,    0.01,6,    2.22,6,-999.000,9,-999.000,9,-999.000,9,  -999.0,9,  -999.0,9,  -999.0,9,   20.00,-999.0000,9,    25.00,-999.000,9, -999.00,-999.000,9,-999.000,9, -999.00,9,  -999.0,9,  -999.0,-999.000,9,-999.000,-999.000,9,   38.41,2, 1000.20,-999.0000,9,-999.0000,9,-999.0000,9,-999.0000,9,-999.0000,9,-999.0000,9,   1.6643,     -999.0,-999.000,     -999.0,          9,     -999.0,          9,-999.000,          9
 33RO200501,       A16S,      16,          1,          8,          8,2,20050120,       2350,   -53.5938,   -36.2102,       1617,  1099.5,   1.6294,  34.7075,2,  34.7075,2,    186.0,2,   186.6,2,   96.31,6,   32.05,6,    0.01,6,    2.20,6,-999.000,9,-999.000,9,-999.000,9,  -999.0,9,  -999.0,9,  -999.0,9,   20.00,-999.0000,9,    25.00,-999.000,9, -999.00,-999.000,9,-999.000,9, -999.00,9,  -999.0,9,  -999.0,-999.000,9,-999.000,-999.000,9, -999.00,9, 1099.50,-999.0000,9,-999.0000,9,-999.0000,9,-999.0000,9,-999.0000,9,-999.0000,9,   1.5653,     -999.0,-999.000,     -999.0,          9,     -999.0,          9,-999.000,          9
 33RO200501,       A16S,      16,          1,          7,          7,2,20050120,       2350,   -53.5938,   -36.2102,       1617,  1199.5,   1.5464,  34.7066,2,  34.7063,2,    189.2,2,   189.6,2,   97.29,6,   31.96,6,    0.01,6,    2.21,6,-999.000,9,-999.000,9,-999.000,9,  -999.0,9,  -999.0,9,  -999.0,9,   20.00,-999.0000,9,    25.00,-999.000,9, -999.00,-999.000,9,-999.000,9, -999.00,9,  -999.0,9,  -999.0,-999.000,9,-999.000,-999.000,9,   40.18,2, 1199.50,-999.0000,9,-999.0000,9,-999.0000,9,-999.0000,9,-999.0000,9,-999.0000,9,   1.4764,     -999.0,-999.000,     -999.0,          9,     -999.0,          9,-999.000,          9
 33RO200501,       A16S,      16,          1,          6,          6,2,20050120,       2350,   -53.5938,   -36.2102,       1617,  1299.6,   1.4731,  34.7091,2,  34.7093,2,    191.4,2,   191.0,2,   98.69,6,   31.87,6,    0.01,6,    2.21,6,   0.254,2,   0.111,2,   0.014,2,  2259.5,2,  2349.9,2,  -999.0,9,   20.00,   7.6068,2,    25.00,-999.000,9, -999.00,-999.000,9,-999.000,9, -999.00,9,  -999.0,9,  -999.0,-999.000,9,-999.000,   0.292,3, -999.00,9, 1299.60,-999.0000,9,-999.0000,9,-999.0000,9,-999.0000,9,-999.0000,9,-999.0000,9,   1.3969,     -999.0,-999.000,     -999.0,          9,     -999.0,          9,-999.000,          9
 33RO200501,       A16S,      16,          1,          5,          5,2,20050120,       2350,   -53.5938,   -36.2102,       1617,  1399.5,   1.3525,  34.7090,2,  34.7089,2,    194.6,2,   194.9,2,  101.09,6,   31.78,6,    0.01,6,    2.20,6,-999.000,9,-999.000,9,-999.000,9,  -999.0,9,  -999.0,9,  -999.0,9,   20.00,-999.0000,9,    25.00,-999.000,9, -999.00,-999.000,9,-999.000,9, -999.00,9,  -999.0,9,  -999.0,-999.000,9,-999.000,-999.000,9,   40.52,2, 1399.50,-999.0000,9,-999.0000,9,-999.0000,9,-999.0000,9,-999.0000,9,-999.0000,9,   1.2706,     -999.0,-999.000,     -999.0,          9,     -999.0,          9,-999.000,          9
 33RO200501,       A16S,      16,          1,          4,          4,2,20050120,       2350,   -53.5938,   -36.2102,       1617,  1500.0,   1.2182,  34.7070,2,  34.7061,2,    197.5,2,   198.4,2,  104.47,6,   31.84,6,    0.01,6,    2.21,6,-999.000,9,-999.000,9,-999.000,9,  -999.0,9,  -999.0,9,  -999.0,9,   20.00,-999.0000,9,    25.00,-999.000,9, -999.00,-999.000,9,-999.000,9, -999.00,9,  -999.0,9,  -999.0,-999.000,9,-999.000,-999.000,9, -999.00,9, 1500.00,-999.0000,9,-999.0000,9,-999.0000,9,-999.0000,9,-999.0000,9,-999.0000,9,   1.1308,     -999.0,-999.000,     -999.0,          9,     -999.0,          9,-999.000,          9
 33RO200501,       A16S,      16,          1,          3,          3,2,20050120,       2350,   -53.5938,   -36.2102,       1617,  1600.0,   1.1224,  34.7039,2,  34.7036,2,    199.5,2,   200.2,2,  106.81,6,   31.83,6,    0.01,6,    2.21,6,-999.000,9,-999.000,9,-999.000,9,  -999.0,9,  -999.0,9,  -999.0,9,   20.00,-999.0000,9,    25.00,-999.000,9, -999.00,-999.000,9,-999.000,9, -999.00,9,  -999.0,9,  -999.0,-999.000,9,-999.000,-999.000,9,   39.23,2, 1600.00,-999.0000,9,-999.0000,9,-999.0000,9,-999.0000,9,-999.0000,9,-999.0000,9,   1.0291,     -999.0,-999.000,     -999.0,          9,     -999.0,          9,-999.000,          9
 33RO200501,       A16S,      16,          1,          2,          2,2,20050120,       2350,   -53.5938,   -36.2102,       1617,  1700.6,   1.0390,  34.7023,2,  34.7007,2,    201.4,2,   202.0,2,  108.76,6,   31.83,6,    0.01,6,    2.22,6,-999.000,9,-999.000,9,-999.000,9,  -999.0,9,  -999.0,9,  -999.0,9,   20.00,-999.0000,9,    25.00,-999.000,9, -999.00,-999.000,9,-999.000,9, -999.00,9,  -999.0,9,  -999.0,-999.000,9,-999.000,-999.000,9, -999.00,9, 1700.60,-999.0000,9,-999.0000,9,-999.0000,9,-999.0000,9,-999.0000,9,-999.0000,9,   0.9394,     -999.0,-999.000,     -999.0,          9,     -999.0,          9,-999.000,          9