BOTTLE,20220818CCHSIOAMB
EXPOCODE,SECT_ID,STNNBR,CASTNO,SAMPNO,BTLNBR,BTLNBR_FLAG_W,DATE,TIME,LATITUDE,LONGITUDE,DEPTH,CTDPRS,CTDTMP,CTDSAL,CTDSAL_FLAG_W,SALNTY,SALNTY_FLAG_W,CTDOXY,CTDOXY_FLAG_W,OXYGEN,OXYGEN_FLAG_W,SILCAT,SILCAT_FLAG_W,NITRAT,NITRAT_FLAG_W,NITRIT,NITRIT_FLAG_W,PHSPHT,PHSPHT_FLAG_W,CFC-11,CFC-11_FLAG_W,CFC-12,CFC-12_FLAG_W,CFC113,CFC113_FLAG_W,TCARBN,TCARBN_FLAG_W,ALKALI,ALKALI_FLAG_W,PCO2,PCO2_FLAG_W,PCO2TMP,PH_SWS,PH_SWS_FLAG_W,PH_TMP,TRITUM,TRITUM_FLAG_W,TRITER,HELIUM,HELIUM_FLAG_W,DELHE3,DELHE3_FLAG_W,DELC13,DELC13_FLAG_W,DELC14,DELC14_FLAG_W,C14ERR,NEON,NEON_FLAG_W,NEONER,CCL4,CCL4_FLAG_W,DOC,DOC_FLAG_W,CTDRAW,CDOM325,CDOM325_FLAG_W,CDOM340,CDOM340_FLAG_W,CDOM380,CDOM380_FLAG_W,CDOM412,CDOM412_FLAG_W,CDOMSL,CDOMSL_FLAG_W,CDOMSN,CDOMSN_FLAG_W,THETA,HELIER,DELHER,CH3CL,CH3CL_FLAG_W,CH3BR,CH3BR_FLAG_W,CH3I,CH3I_FLAG_W
,,,,,,,,,,,METERS,DBAR,ITS-90,PSS-78,,PSS-78,,UMOL/KG,,UMOL/KG,,UMOL/KG,,UMOL/KG,,UMOL/KG,,UMOL/KG,,PMOL/KG,,PMOL/KG,,PMOL/KG,,UMOL/KG,,UMOL/KG,,UATM,,DEG C,,,DEG C,TU,,TU,NMOL/KG,,PERCNT,,/MILLE,,/MILLE,,/MILLE,NMOL/KG,,NMOL/KG,PMOL/KG,,UMOL/KG,,DBAR,1/M,,1/M,,1/M,,1/M,,1/NM,,1/NM,,DEG C,NMOL/KG,PERCNT,PMOL/KG,,PMOL/KG,,PMOL/KG,
 33RO200501,       A16S,      87,          1,          7,          7,2,20050211,       1226,   -19.0050,   -25.0000,       4875,  4349.4,   1.2811,  34.7749,2,  34.7743,2,    232.7,2,   232.9,2,   87.36,6,   27.42,2,    0.00,6,    1.88,6,   0.008,2,   0.006,2,   0.000,2,  2230.1,2,  2354.1,2,  -999.0,9,   20.00,   7.6742,2,    25.00,-999.000,9, -999.00,-999.000,9,-999.000,9, -999.00,9,  -999.0,9,  -999.0,-999.000,9,-999.000,   0.047,4,   39.76,2, 4349.40,-999.0000,9,-999.0000,9,-999.0000,9,-999.0000,9,-999.0000,9,-999.0000,9,   0.9293,     -999.0,-999.000,     -999.0,          9,     -999.0,          9,-999.000,          9
 33RO200501,       A16S,      87,          1,          6,          6,2,20050211,       1226,   -19.0050,   -25.0000,       4875,  4650.2,   1.0107,  34.7448,2,  34.7440,2,    227.6,2,   228.1,2,   98.96,6,   28.96,2,    0.00,6,    2.13,3,   0.028,2,   0.018,2,   0.001,2,  2241.4,2,  2358.6,2,  -999.0,9,   20.00,   7.6620,2,    25.00,-999.000,9, -999.00,-999.000,9,-999.000,9, -999.00,9,  -999.0,9,  -999.0,-999.000,9,-999.000,   0.073,4, -999.00,9, 4650.20,-999.0000,9,-999.0000,9,-999.0000,9,-999.0000,9,-999.0000,9,-999.0000,9,   0.6335,     -999.0,-999.000,     -999.0,          9,     -999.0,          9,-999.000,          9
 33RO200501,       A16S,      87,          1,          5,          5,2,20050211,       1226,   -19.0050,   -25.0000,       4875,  4943.4,   0.8252,  34.7230,2,  34.7257,3,    224.8,2,   225.5,2,  107.15,6,   29.99,2,    0.00,6,    2.07,6,   0.044,2,   0.024,2,   0.006,2,  2249.3,2,  2360.7,2,  -999.0,9,   20.00,   7.6397,2,    25.00,-999.000,9, -999.00,-999.000,9,-999.000,9, -999.00,9,  -999.0,9,  -999.0,-999.000,9,-999.000,   0.102,4,   39.33,2, 4943.40,   0.1610,3,   0.1180,3,   0.0680,3,   0.0470,3,   0.0132,3,   0.0144,3,   0.4202,     -999.0,-999.000,     -999.0,          9,     -999.0,          9,-999.000,          9
 33RO200501,       A16S,      87,          1,          4,          4,2,20050211,       1226,   -19.0050,   -25.0000,       4875,  5232.4,   0.7455,  34.7111,2,  34.7110,2,   -999.0,9,   222.6,3,  111.54,6,   30.57,2,    0.00,6,    2.11,6,   0.069,2,   0.034,2,   0.000,2,  2252.8,2,  2361.4,2,  -999.0,9,   20.00,   7.6426,2,    25.00,-999.000,9, -999.00,-999.000,9,-999.000,9, -999.00,9,  -999.0,9,  -999.0,-999.000,9,-999.000,   0.145,4, -999.00,9, 5232.40,-999.0000,9,-999.0000,9,-999.0000,9,-999.0000,9,-999.0000,9,-999.0000,9,   0.3091,     -999.0,-999.000,     -999.0,          9,     -999.0,          9,-999.000,          9
 33RO200501,       A16S,      87,          1,          3,          3,2,20050211,       1226,   -19.0050,   -25.0000,       4875,  5549.0,   0.6557,  34.6981,2,  34.6981,2,    222.2,2,   222.4,2,  116.28,6,   31.15,2,    0.00,6,    2.16,6,   0.116,2,   0.059,2,   0.000,2,  2257.4,2,  2362.4,2,  -999.0,9,   20.00,   7.6150,2,    25.00,-999.000,9, -999.00,-999.000,9,-999.000,9, -999.00,9,  -999.0,9,  -999.0,-999.000,9,-999.000,   0.205,4,   40.63,2, 5549.00,-999.0000,9,-999.0000,9,-999.0000,9,-999.0000,9,-999.0000,9,-999.0000,9,   0.1840,     -999.0,-999.000,     -999.0,          9,     -999.0,          9,-999.000,          9
 33RO200501,       A16S,      87,          1,          2,          2,2,20050211,       1226,   -19.0050,   -25.0000,       4875,  5800.3,   0.6136,  34.6905,2,  34.6904,2,    221.3,2,   221.5,2,  119.38,6,   31.43,2,    0.00,6,    2.18,6,   0.148,2,   0.073,2,   0.000,2,  2260.0,2,  2363.0,6,  -999.0,9,   20.00,   7.6169,6,    25.00,-999.000,9, -999.00,-999.000,9,-999.000,9, -999.00,9,  -999.0,9,  -999.0,-999.000,9,-999.000,   0.239,4, -999.00,9, 5800.30,-999.0000,9,-999.0000,9,-999.0000,9,-999.0000,9,-999.0000,9,-999.0000,9,   0.1120,     -999.0,-999.000,     -999.0,          9,     -999.0,          9,-999.000,          9
 33RO200501,       A16S,      87,          1,          1,          1,2,20050211,       1226,   -19.0050,   -25.0000,       4875,  5938.5,   0.6155,  34.6887,2,  34.6890,2,    220.8,2,   221.0,2,  119.92,6,   31.57,2,    0.00,6,    2.20,6,   0.155,2,   0.077,2,   0.006,2,  2260.7,6,  2362.1,2,  -999.0,9,   20.00,   7.6242,2,    25.00,-999.000,9, -999.00,-999.000,9,-999.000,9, -999.00,9,  -999.0,9,  -999.0,-999.000,9,-999.000,   0.248,4,   40.08,2, 5938.50,   0.1820,3,   0.1350,3,   0.0750,3,   0.0520,3,   0.0135,3,   0.0147,3,   0.0963,     -999.0,-999.000,     -999.0,          9,     -999.0,          9,-999.000,          9