BOTTLE,20220818CCHSIOAMB
EXPOCODE,SECT_ID,STNNBR,CASTNO,SAMPNO,BTLNBR,BTLNBR_FLAG_W,DATE,TIME,LATITUDE,LONGITUDE,DEPTH,CTDPRS,CTDTMP,CTDSAL,CTDSAL_FLAG_W,SALNTY,SALNTY_FLAG_W,CTDOXY,CTDOXY_FLAG_W,OXYGEN,OXYGEN_FLAG_W,SILCAT,SILCAT_FLAG_W,NITRAT,NITRAT_FLAG_W,NITRIT,NITRIT_FLAG_W,PHSPHT,PHSPHT_FLAG_W,CFC-11,CFC-11_FLAG_W,CFC-12,CFC-12_FLAG_W,CFC113,CFC113_FLAG_W,TCARBN,TCARBN_FLAG_W,ALKALI,ALKALI_FLAG_W,PCO2,PCO2_FLAG_W,PCO2TMP,PH_SWS,PH_SWS_FLAG_W,PH_TMP,TRITUM,TRITUM_FLAG_W,TRITER,HELIUM,HELIUM_FLAG_W,DELHE3,DELHE3_FLAG_W,DELC13,DELC13_FLAG_W,DELC14,DELC14_FLAG_W,C14ERR,NEON,NEON_FLAG_W,NEONER,CCL4,CCL4_FLAG_W,DOC,DOC_FLAG_W,CTDRAW,CDOM325,CDOM325_FLAG_W,CDOM340,CDOM340_FLAG_W,CDOM380,CDOM380_FLAG_W,CDOM412,CDOM412_FLAG_W,CDOMSL,CDOMSL_FLAG_W,CDOMSN,CDOMSN_FLAG_W,THETA,HELIER,DELHER,CH3CL,CH3CL_FLAG_W,CH3BR,CH3BR_FLAG_W,CH3I,CH3I_FLAG_W
,,,,,,,,,,,METERS,DBAR,ITS-90,PSS-78,,PSS-78,,UMOL/KG,,UMOL/KG,,UMOL/KG,,UMOL/KG,,UMOL/KG,,UMOL/KG,,PMOL/KG,,PMOL/KG,,PMOL/KG,,UMOL/KG,,UMOL/KG,,UATM,,DEG C,,,DEG C,TU,,TU,NMOL/KG,,PERCNT,,/MILLE,,/MILLE,,/MILLE,NMOL/KG,,NMOL/KG,PMOL/KG,,UMOL/KG,,DBAR,1/M,,1/M,,1/M,,1/M,,1/NM,,1/NM,,DEG C,NMOL/KG,PERCNT,PMOL/KG,,PMOL/KG,,PMOL/KG,
 33RO200501,       A16S,     113,          1,          7,          7,2,20050219,       0829,    -5.9998,   -25.0008,       5856,  4090.1,   1.6981,  34.8240,2,  34.8249,2,    242.2,2,   241.8,2,   67.56,2,   24.56,2,    0.00,2,    1.63,2,   0.020,2,   0.017,2,   0.000,2,  2213.0,2,  2346.9,2,   841.6,2,   20.00,   7.6936,2,    25.00,-999.000,9, -999.00,-999.000,9,-999.000,9, -999.00,9,  -999.0,9,  -999.0,-999.000,9,-999.000,   0.105,4,   40.08,2, 4090.10,   0.1290,3,   0.0900,3,   0.0460,3,   0.0310,3,   0.0162,3,   0.0182,3,   1.3627,     -999.0,-999.000,     -999.0,          9,     -999.0,          9,-999.000,          9
 33RO200501,       A16S,     113,          1,          6,          6,2,20050219,       0829,    -5.9998,   -25.0008,       5856,  4400.4,   1.0953,  34.7583,2,  34.7581,2,    230.0,2,   229.6,2,   94.13,2,   28.33,2,    0.00,2,    1.90,2,   0.008,2,   0.004,2,   0.000,2,  2240.3,2,  2361.2,2,   930.3,2,   20.00,   7.6578,2,    25.00,-999.000,9, -999.00,-999.000,9,-999.000,9, -999.00,9,  -999.0,9,  -999.0,-999.000,9,-999.000,   0.064,4, -999.00,9, 4400.40,-999.0000,9,-999.0000,9,-999.0000,9,-999.0000,9,-999.0000,9,-999.0000,9,   0.7437,     -999.0,-999.000,     -999.0,          9,     -999.0,          9,-999.000,          9
 33RO200501,       A16S,     113,          1,          5,          5,2,20050219,       0829,    -5.9998,   -25.0008,       5856,  4699.9,   0.8677,  34.7310,2,  34.7309,2,    225.2,2,   225.0,2,  104.75,2,   29.78,2,    0.00,2,    2.01,2,   0.015,2,   0.010,2,   0.000,2,  2251.0,2,  2360.3,2,   966.0,2,   20.00,   7.6406,2,    25.00,-999.000,9, -999.00,-999.000,9,-999.000,9, -999.00,9,  -999.0,9,  -999.0,-999.000,9,-999.000,   0.063,4,   39.98,2, 4699.90,-999.0000,9,-999.0000,9,-999.0000,9,-999.0000,9,-999.0000,9,-999.0000,9,   0.4895,     -999.0,-999.000,     -999.0,          9,     -999.0,          9,-999.000,          9
 33RO200501,       A16S,     113,          1,          4,          4,2,20050219,       0829,    -5.9998,   -25.0008,       5856,  5000.8,   0.7917,  34.7189,2,  34.7193,2,    223.6,2,   222.8,2,  109.19,6,   30.39,6,    0.00,6,    2.06,6,   0.023,2,   0.015,2,   0.000,2,  2255.2,2,  2361.1,2,  -999.0,9,   20.00,   7.6359,2,    25.00,-999.000,9, -999.00,-999.000,9,-999.000,9, -999.00,9,  -999.0,9,  -999.0,-999.000,9,-999.000,   0.084,4, -999.00,9, 5000.80,   0.1460,3,   0.1030,3,   0.0520,3,   0.0350,3,   0.0160,3,   0.0179,3,   0.3812,     -999.0,-999.000,     -999.0,          9,     -999.0,          9,-999.000,          9
 33RO200501,       A16S,     113,          1,          3,          3,2,20050219,       0829,    -5.9998,   -25.0008,       5856,  5295.3,   0.7279,  34.7080,2,  34.7091,2,    222.4,2,   221.8,2,  113.22,6,   30.89,6,    0.00,6,    2.09,6,-999.000,9,-999.000,9,-999.000,9,  2257.7,2,  2361.0,2,  1008.4,2,   20.00,   7.6228,2,    25.00,-999.000,9, -999.00,-999.000,9,-999.000,9, -999.00,9,  -999.0,9,  -999.0,-999.000,9,-999.000,-999.000,9,   39.11,2, 5295.30,-999.0000,9,-999.0000,9,-999.0000,9,-999.0000,9,-999.0000,9,-999.0000,9,   0.2845,     -999.0,-999.000,     -999.0,          9,     -999.0,          9,-999.000,          9
 33RO200501,       A16S,     113,          1,          2,          2,2,20050219,       0829,    -5.9998,   -25.0008,       5856,  5600.2,   0.7237,  34.7035,2,  34.7044,2,    222.1,2,   221.1,2,  114.92,6,   31.16,6,    0.00,6,    2.10,6,   0.044,2,   0.025,2,   0.000,2,  2259.6,2,  2364.6,6,  1010.6,2,   20.00,   7.6218,2,    25.00,   0.013,2,    0.01,   1.915,2,   6.520,2, -999.00,9,  -999.0,9,  -999.0,   8.300,2,   0.009,   0.115,4, -999.00,9, 5600.20,-999.0000,9,-999.0000,9,-999.0000,9,-999.0000,9,-999.0000,9,-999.0000,9,   0.2430,      0.002,   0.273,     -999.0,          9,     -999.0,          9,-999.000,          9
 33RO200501,       A16S,     113,          1,          1,          1,2,20050219,       0829,    -5.9998,   -25.0008,       5856,  5884.2,   0.7603,  34.7029,2,  34.7072,3,    221.9,2,   221.2,2,  114.77,6,   31.10,6,    0.00,6,    2.09,6,   0.039,2,   0.023,2,   0.000,2,  2259.5,6,  2362.5,2,  1010.4,2,   20.00,   7.6206,2,    25.00,   0.029,2,    0.00,   1.895,2,   5.150,2, -999.00,9,  -999.0,9,  -999.0,   8.225,2,   0.009,   0.114,4,   39.31,2, 5884.20,   0.1340,3,   0.0940,3,   0.0500,3,   0.0360,3,   0.0145,3,   0.0168,3,   0.2422,      0.001,   0.222,     -999.0,          9,     -999.0,          9,-999.000,          9