BOTTLE,20220818CCHSIOAMB
EXPOCODE,SECT_ID,STNNBR,CASTNO,SAMPNO,BTLNBR,BTLNBR_FLAG_W,DATE,TIME,LATITUDE,LONGITUDE,DEPTH,CTDPRS,CTDTMP,CTDSAL,CTDSAL_FLAG_W,SALNTY,SALNTY_FLAG_W,CTDOXY,CTDOXY_FLAG_W,OXYGEN,OXYGEN_FLAG_W,SILCAT,SILCAT_FLAG_W,NITRAT,NITRAT_FLAG_W,NITRIT,NITRIT_FLAG_W,PHSPHT,PHSPHT_FLAG_W,CFC-11,CFC-11_FLAG_W,CFC-12,CFC-12_FLAG_W,CFC113,CFC113_FLAG_W,TCARBN,TCARBN_FLAG_W,ALKALI,ALKALI_FLAG_W,PCO2,PCO2_FLAG_W,PCO2TMP,PH_SWS,PH_SWS_FLAG_W,PH_TMP,TRITUM,TRITUM_FLAG_W,TRITER,HELIUM,HELIUM_FLAG_W,DELHE3,DELHE3_FLAG_W,DELC13,DELC13_FLAG_W,DELC14,DELC14_FLAG_W,C14ERR,NEON,NEON_FLAG_W,NEONER,CCL4,CCL4_FLAG_W,DOC,DOC_FLAG_W,CTDRAW,CDOM325,CDOM325_FLAG_W,CDOM340,CDOM340_FLAG_W,CDOM380,CDOM380_FLAG_W,CDOM412,CDOM412_FLAG_W,CDOMSL,CDOMSL_FLAG_W,CDOMSN,CDOMSN_FLAG_W,THETA,HELIER,DELHER,CH3CL,CH3CL_FLAG_W,CH3BR,CH3BR_FLAG_W,CH3I,CH3I_FLAG_W
,,,,,,,,,,,METERS,DBAR,ITS-90,PSS-78,,PSS-78,,UMOL/KG,,UMOL/KG,,UMOL/KG,,UMOL/KG,,UMOL/KG,,UMOL/KG,,PMOL/KG,,PMOL/KG,,PMOL/KG,,UMOL/KG,,UMOL/KG,,UATM,,DEG C,,,DEG C,TU,,TU,NMOL/KG,,PERCNT,,/MILLE,,/MILLE,,/MILLE,NMOL/KG,,NMOL/KG,PMOL/KG,,UMOL/KG,,DBAR,1/M,,1/M,,1/M,,1/M,,1/NM,,1/NM,,DEG C,NMOL/KG,PERCNT,PMOL/KG,,PMOL/KG,,PMOL/KG,
 33RO200501,       A16S,      72,          1,         36,         36,2,20050206,       2036,   -26.5007,   -24.9970,       4667,     2.2,  24.6908,  36.3173,2,  36.3130,2,    210.3,2,   210.8,2,    0.91,2,    0.00,2,    0.00,2,    0.02,2,   1.801,2,   1.144,2,   0.141,2,  2047.3,6,  2379.7,3,  -999.0,9,   20.00,   8.0707,6,    25.00,-999.000,9, -999.00,-999.000,9,-999.000,9, -999.00,9,  -999.0,9,  -999.0,-999.000,9,-999.000,   1.532,4, -999.00,9,    2.20,-999.0000,9,-999.0000,9,-999.0000,9,-999.0000,9,-999.0000,9,-999.0000,9,  24.6904,     -999.0,-999.000,     57.749,          2,      0.907,          2,   1.772,          2
 33RO200501,       A16S,      72,          1,         35,         35,2,20050206,       2036,   -26.5007,   -24.9970,       4667,    18.9,  24.7514,  36.4347,2,  36.5559,3,    210.1,2,   209.9,2,    0.97,2,    0.00,2,    0.00,2,    0.01,2,-999.000,9,-999.000,9,-999.000,9,  -999.0,9,  -999.0,9,  -999.0,9,   20.00,-999.0000,9,    25.00,-999.000,9, -999.00,-999.000,9,-999.000,9, -999.00,9,  -999.0,9,  -999.0,-999.000,9,-999.000,-999.000,9, -999.00,9,   18.90,-999.0000,9,-999.0000,9,-999.0000,9,-999.0000,9,-999.0000,9,-999.0000,9,  24.7473,     -999.0,-999.000,     64.031,          2,      0.624,          2,   2.203,          2
 33RO200501,       A16S,      72,          1,         34,         34,2,20050206,       2036,   -26.5007,   -24.9970,       4667,    38.9,  24.8195,  36.8066,2,  36.8046,2,    210.6,2,   210.6,2,    1.65,2,    0.00,2,    0.00,2,    0.03,2,-999.000,9,-999.000,9,-999.000,9,  -999.0,9,  -999.0,9,  -999.0,9,   20.00,-999.0000,9,    25.00,-999.000,9, -999.00,-999.000,9,-999.000,9, -999.00,9,  -999.0,9,  -999.0,-999.000,9,-999.000,-999.000,9, -999.00,9,   38.90,-999.0000,9,-999.0000,9,-999.0000,9,-999.0000,9,-999.0000,9,-999.0000,9,  24.8110,     -999.0,-999.000,     -999.0,          9,     -999.0,          9,-999.000,          9
 33RO200501,       A16S,      72,          1,         33,         33,2,20050206,       2036,   -26.5007,   -24.9970,       4667,    58.4,  23.8551,  36.6333,2,  36.5918,2,    219.3,2,   219.3,2,    1.66,2,    0.00,2,    0.00,2,    0.04,2,-999.000,9,-999.000,9,-999.000,9,  -999.0,9,  -999.0,9,  -999.0,9,   20.00,   8.0572,2,    25.00,-999.000,9, -999.00,-999.000,9,-999.000,9, -999.00,9,  -999.0,9,  -999.0,-999.000,9,-999.000,-999.000,9, -999.00,9,   58.40,-999.0000,9,-999.0000,9,-999.0000,9,-999.0000,9,-999.0000,9,-999.0000,9,  23.8428,     -999.0,-999.000,    107.719,          2,      0.748,          2,   4.219,          2
 33RO200501,       A16S,      72,          1,         32,         32,2,20050206,       2036,   -26.5007,   -24.9970,       4667,    78.4,  20.9897,  36.2735,2,  36.2745,2,    231.9,2,   231.8,2,    1.69,2,    0.00,2,    0.00,2,    0.06,2,-999.000,9,-999.000,9,-999.000,9,  -999.0,9,  -999.0,9,  -999.0,9,   20.00,-999.0000,9,    25.00,-999.000,9, -999.00,-999.000,9,-999.000,9, -999.00,9,  -999.0,9,  -999.0,-999.000,9,-999.000,-999.000,9, -999.00,9,   78.40,-999.0000,9,-999.0000,9,-999.0000,9,-999.0000,9,-999.0000,9,-999.0000,9,  20.9746,     -999.0,-999.000,     -999.0,          9,     -999.0,          9,-999.000,          9
 33RO200501,       A16S,      72,          1,         31,         31,2,20050206,       2036,   -26.5007,   -24.9970,       4667,    98.6,  20.1930,  36.2249,2,  36.2282,2,    229.1,2,   229.5,2,    1.66,2,    0.00,2,    0.00,2,    0.07,2,   2.229,2,   1.380,2,   0.180,2,  -999.0,9,  -999.0,9,  -999.0,9,   20.00,   8.0288,2,    25.00,-999.000,9, -999.00,-999.000,9,-999.000,9, -999.00,9,  -999.0,9,  -999.0,-999.000,9,-999.000,   1.410,4, -999.00,9,   98.60,-999.0000,9,-999.0000,9,-999.0000,9,-999.0000,9,-999.0000,9,-999.0000,9,  20.1746,     -999.0,-999.000,     91.803,          2,      0.526,          2,   3.127,          2
 33RO200501,       A16S,      72,          1,         30,         30,2,20050206,       2036,   -26.5007,   -24.9970,       4667,   123.6,  19.6032,  36.1513,2,  36.1391,2,    225.8,2,   225.9,2,    1.34,6,    0.01,6,    0.00,6,    0.07,6,-999.000,9,-999.000,9,-999.000,9,  -999.0,9,  -999.0,9,  -999.0,9,   20.00,-999.0000,9,    25.00,-999.000,9, -999.00,-999.000,9,-999.000,9, -999.00,9,  -999.0,9,  -999.0,-999.000,9,-999.000,-999.000,9, -999.00,9,  123.60,-999.0000,9,-999.0000,9,-999.0000,9,-999.0000,9,-999.0000,9,-999.0000,9,  19.5805,     -999.0,-999.000,     -999.0,          9,     -999.0,          9,-999.000,          9
 33RO200501,       A16S,      72,          1,         29,         29,2,20050206,       2036,   -26.5007,   -24.9970,       4667,   149.1,  18.8775,  36.0160,2,  36.0118,2,    224.3,2,   224.2,2,    1.39,6,    0.03,6,    0.01,6,    0.08,6,-999.000,9,-999.000,9,-999.000,9,  -999.0,9,  -999.0,9,  -999.0,9,   20.00,-999.0000,9,    25.00,-999.000,9, -999.00,-999.000,9,-999.000,9, -999.00,9,  -999.0,9,  -999.0,-999.000,9,-999.000,-999.000,9, -999.00,9,  149.10,-999.0000,9,-999.0000,9,-999.0000,9,-999.0000,9,-999.0000,9,-999.0000,9,  18.8509,     -999.0,-999.000,     34.876,          2,      0.441,          2,   1.037,          2
 33RO200501,       A16S,      72,          1,         28,         28,2,20050206,       2036,   -26.5007,   -24.9970,       4667,   173.8,  17.6581,  35.8163,2,  35.7889,2,    215.6,2,   216.0,2,    1.78,6,    0.95,2,    0.05,6,    0.21,6,-999.000,9,-999.000,9,-999.000,9,  -999.0,9,  -999.0,9,  -999.0,9,   20.00,-999.0000,9,    25.00,-999.000,9, -999.00,-999.000,9,-999.000,9, -999.00,9,  -999.0,9,  -999.0,-999.000,9,-999.000,-999.000,9, -999.00,9,  173.80,-999.0000,9,-999.0000,9,-999.0000,9,-999.0000,9,-999.0000,9,-999.0000,9,  17.6285,     -999.0,-999.000,     -999.0,          9,     -999.0,          9,-999.000,          9
 33RO200501,       A16S,      72,          1,         27,         27,2,20050206,       2036,   -26.5007,   -24.9970,       4667,   198.9,  16.3272,  35.6233,2,  35.6011,2,    213.5,2,   213.3,2,    2.20,6,    2.73,2,    0.02,6,    0.35,6,   2.691,2,   1.588,2,   0.099,2,  -999.0,9,  2338.7,2,  -999.0,9,   20.00,   7.9304,2,    25.00,-999.000,9, -999.00,-999.000,9,-999.000,9, -999.00,9,  -999.0,9,  -999.0,-999.000,9,-999.000,   0.736,4, -999.00,9,  198.90,-999.0000,9,-999.0000,9,-999.0000,9,-999.0000,9,-999.0000,9,-999.0000,9,  16.2952,     -999.0,-999.000,      6.926,          2,      0.078,          2,   0.059,          2
 33RO200501,       A16S,      72,          1,         26,         26,2,20050206,       2036,   -26.5007,   -24.9970,       4667,   248.8,  15.0316,  35.4509,2,  35.4498,2,    212.5,2,   213.3,2,    2.64,6,    5.07,2,    0.01,2,    0.46,6,-999.000,9,-999.000,9,-999.000,9,  -999.0,9,  -999.0,9,  -999.0,9,   20.00,-999.0000,9,    25.00,-999.000,9, -999.00,-999.000,9,-999.000,9, -999.00,9,  -999.0,9,  -999.0,-999.000,9,-999.000,-999.000,9, -999.00,9,  248.80,-999.0000,9,-999.0000,9,-999.0000,9,-999.0000,9,-999.0000,9,-999.0000,9,  14.9937,     -999.0,-999.000,     -999.0,          9,     -999.0,          9,-999.000,          9
 33RO200501,       A16S,      72,          1,         25,         25,2,20050206,       2036,   -26.5007,   -24.9970,       4667,   299.4,  13.8209,  35.2954,2,  35.2951,2,    213.5,2,   214.0,2,    3.11,6,    7.56,2,    0.01,2,    0.60,6,-999.000,9,-999.000,9,-999.000,9,  -999.0,9,  -999.0,9,  -999.0,9,   20.00,-999.0000,9,    25.00,-999.000,9, -999.00,-999.000,9,-999.000,9, -999.00,9,  -999.0,9,  -999.0,-999.000,9,-999.000,-999.000,9, -999.00,9,  299.40,-999.0000,9,-999.0000,9,-999.0000,9,-999.0000,9,-999.0000,9,-999.0000,9,  13.7778,     -999.0,-999.000,     -999.0,          9,     -999.0,          9,-999.000,          9
 33RO200501,       A16S,      72,          1,         24,         24,2,20050206,       2036,   -26.5007,   -24.9970,       4667,   349.1,  13.0900,  35.2007,2,  35.1942,2,    212.5,2,   213.5,2,    3.68,6,    9.44,2,    0.01,2,    0.71,6,   3.006,2,   1.700,2,   0.046,2,  -999.0,9,  2314.9,2,  -999.0,9,   20.00,   7.8536,2,    25.00,-999.000,9, -999.00,-999.000,9,-999.000,9, -999.00,9,  -999.0,9,  -999.0,-999.000,9,-999.000,   0.700,4, -999.00,9,  349.10,-999.0000,9,-999.0000,9,-999.0000,9,-999.0000,9,-999.0000,9,-999.0000,9,  13.0414,     -999.0,-999.000,      2.528,          2,      0.177,          2,   0.028,          2
 33RO200501,       A16S,      72,          1,         23,         23,2,20050206,       2036,   -26.5007,   -24.9970,       4667,   398.6,  12.0578,  35.0621,2,  35.0625,2,    210.8,2,   210.4,2,    4.60,6,   11.88,2,    0.00,2,    0.85,6,-999.000,9,-999.000,9,-999.000,9,  -999.0,9,  -999.0,9,  -999.0,9,   20.00,-999.0000,9,    25.00,-999.000,9, -999.00,-999.000,9,-999.000,9, -999.00,9,  -999.0,9,  -999.0,-999.000,9,-999.000,-999.000,9, -999.00,9,  398.60,-999.0000,9,-999.0000,9,-999.0000,9,-999.0000,9,-999.0000,9,-999.0000,9,  12.0051,     -999.0,-999.000,     -999.0,          9,     -999.0,          9,-999.000,          9
 33RO200501,       A16S,      72,          1,         22,         22,2,20050206,       2036,   -26.5007,   -24.9970,       4667,   499.1,   9.7596,  34.7739,2,  34.7729,2,    206.6,2,   206.1,2,    7.82,6,   18.00,2,    0.00,2,    1.21,6,-999.000,9,-999.000,9,-999.000,9,  -999.0,9,  -999.0,9,  -999.0,9,   20.00,-999.0000,9,    25.00,-999.000,9, -999.00,-999.000,9,-999.000,9, -999.00,9,  -999.0,9,  -999.0,-999.000,9,-999.000,-999.000,9, -999.00,9,  499.10,-999.0000,9,-999.0000,9,-999.0000,9,-999.0000,9,-999.0000,9,-999.0000,9,   9.7018,     -999.0,-999.000,     -999.0,          9,     -999.0,          9,-999.000,          9
 33RO200501,       A16S,      72,          1,         21,         21,2,20050206,       2036,   -26.5007,   -24.9970,       4667,   598.8,   7.6439,  34.5430,2,  34.5418,2,    205.9,2,   207.3,2,   11.97,6,   23.04,2,    0.00,6,    1.53,6,   2.868,2,   1.274,2,   0.125,2,  -999.0,9,  2288.9,2,  -999.0,9,   20.00,   7.7009,2,    25.00,-999.000,9, -999.00,-999.000,9,-999.000,9, -999.00,9,  -999.0,9,  -999.0,-999.000,9,-999.000,   1.676,4, -999.00,9,  598.80,-999.0000,9,-999.0000,9,-999.0000,9,-999.0000,9,-999.0000,9,-999.0000,9,   7.5837,     -999.0,-999.000,      1.623,          2,      0.067,          2,   0.012,          2
 33RO200501,       A16S,      72,          1,         20,         20,2,20050206,       2036,   -26.5007,   -24.9970,       4667,   699.1,   6.1230,  34.4125,2,  34.4121,2,    210.8,2,   211.2,2,   16.99,6,   26.39,2,    0.00,6,    1.75,6,-999.000,9,-999.000,9,-999.000,9,  -999.0,9,  -999.0,9,  -999.0,9,   20.00,-999.0000,9,    25.00,-999.000,9, -999.00,-999.000,9,-999.000,9, -999.00,9,  -999.0,9,  -999.0,-999.000,9,-999.000,-999.000,9, -999.00,9,  699.10,-999.0000,9,-999.0000,9,-999.0000,9,-999.0000,9,-999.0000,9,-999.0000,9,   6.0604,     -999.0,-999.000,     -999.0,          9,     -999.0,          9,-999.000,          9
 33RO200501,       A16S,      72,          1,         19,         19,2,20050206,       2036,   -26.5007,   -24.9970,       4667,   799.5,   4.9244,  34.3409,2,  34.3404,2,    214.3,2,   214.6,2,   23.26,6,   28.74,6,    0.00,6,    1.90,6,   2.311,2,   1.135,2,   0.115,2,  -999.0,9,  -999.0,9,  -999.0,9,   20.00,-999.0000,9,    25.00,-999.000,9, -999.00,-999.000,9,-999.000,9, -999.00,9,  -999.0,9,  -999.0,-999.000,9,-999.000,   2.071,4, -999.00,9,  799.50,-999.0000,9,-999.0000,9,-999.0000,9,-999.0000,9,-999.0000,9,-999.0000,9,   4.8597,     -999.0,-999.000,      2.933,          2,      0.188,          2,   0.013,          2
 33RO200501,       A16S,      72,          1,         18,         18,2,20050206,       2036,   -26.5007,   -24.9970,       4667,   897.9,   4.1923,  34.3377,2,  34.3369,2,    209.8,2,   210.2,2,   31.03,2,   30.44,2,    0.00,2,    1.99,2,-999.000,9,-999.000,9,-999.000,9,  -999.0,9,  -999.0,9,  -999.0,9,   20.00,-999.0000,9,    25.00,-999.000,9, -999.00,-999.000,9,-999.000,9, -999.00,9,  -999.0,9,  -999.0,-999.000,9,-999.000,-999.000,9, -999.00,9,  897.90,-999.0000,9,-999.0000,9,-999.0000,9,-999.0000,9,-999.0000,9,-999.0000,9,   4.1240,     -999.0,-999.000,     -999.0,          9,     -999.0,          9,-999.000,          9
 33RO200501,       A16S,      72,          1,         17,         17,2,20050206,       2036,   -26.5007,   -24.9970,       4667,   997.1,   3.7296,  34.3738,2,  34.3732,2,    202.2,2,   200.8,2,   39.01,2,   31.65,2,    0.00,2,    2.08,2,   1.205,2,   0.584,2,   0.059,2,  -999.0,9,  2301.4,2,  -999.0,9,   20.00,   7.6164,2,    25.00,-999.000,9, -999.00,-999.000,9,-999.000,9, -999.00,9,  -999.0,9,  -999.0,-999.000,9,-999.000,   1.395,4, -999.00,9,  997.10,-999.0000,9,-999.0000,9,-999.0000,9,-999.0000,9,-999.0000,9,-999.0000,9,   3.6565,     -999.0,-999.000,      6.730,          2,      0.678,          2,   0.025,          2
 33RO200501,       A16S,      72,          1,         16,         16,2,20050206,       2036,   -26.5007,   -24.9970,       4667,  1198.2,   3.2158,  34.4989,2,  34.4990,2,    188.3,2,   187.6,2,   50.68,2,   32.15,2,    0.00,2,    2.16,2,-999.000,9,-999.000,9,-999.000,9,  -999.0,9,  -999.0,9,  -999.0,9,   20.00,-999.0000,9,    25.00,-999.000,9, -999.00,-999.000,9,-999.000,9, -999.00,9,  -999.0,9,  -999.0,-999.000,9,-999.000,-999.000,9, -999.00,9, 1198.20,-999.0000,9,-999.0000,9,-999.0000,9,-999.0000,9,-999.0000,9,-999.0000,9,   3.1306,     -999.0,-999.000,     -999.0,          9,     -999.0,          9,-999.000,          9
 33RO200501,       A16S,      72,          1,         15,         15,2,20050206,       2036,   -26.5007,   -24.9970,       4667,  1397.9,   2.9959,  34.6268,2,  34.6273,2,    190.6,2,   190.4,2,   53.91,2,   30.61,2,    0.00,2,    2.05,2,-999.000,9,-999.000,9,-999.000,9,  -999.0,9,  -999.0,9,  -999.0,9,   20.00,-999.0000,9,    25.00,-999.000,9, -999.00,-999.000,9,-999.000,9, -999.00,9,  -999.0,9,  -999.0,-999.000,9,-999.000,-999.000,9, -999.00,9, 1397.90,-999.0000,9,-999.0000,9,-999.0000,9,-999.0000,9,-999.0000,9,-999.0000,9,   2.8964,     -999.0,-999.000,     -999.0,          9,     -999.0,          9,-999.000,          9
 33RO200501,       A16S,      72,          1,         14,         14,2,20050206,       2036,   -26.5007,   -24.9970,       4667,  1598.4,   2.9247,  34.7292,2,  34.7293,2,    202.7,2,   202.7,2,   50.88,2,   28.23,2,    0.00,2,    1.87,2,-999.000,9,-999.000,9,-999.000,9,  -999.0,9,  -999.0,9,  -999.0,9,   20.00,-999.0000,9,    25.00,-999.000,9, -999.00,-999.000,9,-999.000,9, -999.00,9,  -999.0,9,  -999.0,-999.000,9,-999.000,-999.000,9, -999.00,9, 1598.40,-999.0000,9,-999.0000,9,-999.0000,9,-999.0000,9,-999.0000,9,-999.0000,9,   2.8090,     -999.0,-999.000,     -999.0,          9,     -999.0,          9,-999.000,          9
 33RO200501,       A16S,      72,          1,         13,         13,2,20050206,       2036,   -26.5007,   -24.9970,       4667,  1794.1,   2.8994,  34.8043,2,  34.8036,2,    216.5,2,   218.1,2,   45.85,2,   25.68,2,    0.00,2,    1.69,2,   0.009,2,   0.007,2,   0.000,2,  -999.0,9,  -999.0,9,  -999.0,9,   20.00,-999.0000,9,    25.00,-999.000,9, -999.00,-999.000,9,-999.000,9, -999.00,9,  -999.0,9,  -999.0,-999.000,9,-999.000,   0.056,4, -999.00,9, 1794.10,-999.0000,9,-999.0000,9,-999.0000,9,-999.0000,9,-999.0000,9,-999.0000,9,   2.7671,     -999.0,-999.000,      3.763,          2,      0.292,          2,   0.024,          2
 33RO200501,       A16S,      72,          1,         12,         12,2,20050206,       2036,   -26.5007,   -24.9970,       4667,  1995.0,   2.9034,  34.8561,2,  34.8561,2,    229.5,2,   230.6,2,   40.26,6,   23.72,6,    0.00,6,    1.58,6,-999.000,9,-999.000,9,-999.000,9,  -999.0,9,  -999.0,9,  -999.0,9,   20.00,-999.0000,9,    25.00,-999.000,9, -999.00,-999.000,9,-999.000,9, -999.00,9,  -999.0,9,  -999.0,-999.000,9,-999.000,-999.000,9, -999.00,9, 1995.00,-999.0000,9,-999.0000,9,-999.0000,9,-999.0000,9,-999.0000,9,-999.0000,9,   2.7530,     -999.0,-999.000,     -999.0,          9,     -999.0,          9,-999.000,          9
 33RO200501,       A16S,      72,          1,         11,         11,2,20050206,       2036,   -26.5007,   -24.9970,       4667,  2199.9,   2.9164,  34.8909,2,  34.8909,2,    239.1,2,   240.2,2,   35.87,6,   22.14,6,    0.00,6,    1.47,6,-999.000,9,-999.000,9,-999.000,9,  -999.0,9,  2321.8,2,  -999.0,9,   20.00,   7.7149,2,    25.00,-999.000,9, -999.00,-999.000,9,-999.000,9, -999.00,9,  -999.0,9,  -999.0,-999.000,9,-999.000,-999.000,9, -999.00,9, 2199.90,-999.0000,9,-999.0000,9,-999.0000,9,-999.0000,9,-999.0000,9,-999.0000,9,   2.7468,     -999.0,-999.000,     -999.0,          9,     -999.0,          9,-999.000,          9
 33RO200501,       A16S,      72,          1,         10,         10,2,20050206,       2036,   -26.5007,   -24.9970,       4667,  2400.2,   2.8884,  34.9085,2,  34.9088,2,    245.3,2,   245.5,2,   33.90,6,   21.52,6,    0.00,6,    1.41,6,-999.000,9,-999.000,9,-999.000,9,  -999.0,9,  -999.0,9,  -999.0,9,   20.00,-999.0000,9,    25.00,-999.000,9, -999.00,-999.000,9,-999.000,9, -999.00,9,  -999.0,9,  -999.0,-999.000,9,-999.000,-999.000,9, -999.00,9, 2400.20,-999.0000,9,-999.0000,9,-999.0000,9,-999.0000,9,-999.0000,9,-999.0000,9,   2.7003,     -999.0,-999.000,     -999.0,          9,     -999.0,          9,-999.000,          9
 33RO200501,       A16S,      72,          1,          9,          9,2,20050206,       2036,   -26.5007,   -24.9970,       4667,  2600.0,   2.8474,  34.9179,2,  34.9181,2,    249.3,2,   248.9,2,   33.33,2,   21.00,2,    0.00,2,    1.36,2,   0.012,2,   0.009,2,   0.000,2,  -999.0,9,  -999.0,9,  -999.0,9,   20.00,-999.0000,9,    25.00,-999.000,9, -999.00,-999.000,9,-999.000,9,    1.10,6,  -107.1,6,     2.1,-999.000,9,-999.000,   0.071,4, -999.00,9, 2600.00,-999.0000,9,-999.0000,9,-999.0000,9,-999.0000,9,-999.0000,9,-999.0000,9,   2.6405,     -999.0,-999.000,      4.480,          2,      0.394,          2,   0.027,          2
 33RO200501,       A16S,      72,          1,          8,          8,2,20050206,       2036,   -26.5007,   -24.9970,       4667,  2899.5,   2.7268,  34.9173,2,  34.9169,2,    251.6,2,   251.0,2,   34.55,2,   20.78,2,    0.00,2,    1.36,2,-999.000,9,-999.000,9,-999.000,9,  -999.0,9,  -999.0,9,  -999.0,9,   20.00,-999.0000,9,    25.00,-999.000,9, -999.00,-999.000,9,-999.000,9, -999.00,9,  -999.0,9,  -999.0,-999.000,9,-999.000,-999.000,9, -999.00,9, 2899.50,-999.0000,9,-999.0000,9,-999.0000,9,-999.0000,9,-999.0000,9,-999.0000,9,   2.4923,     -999.0,-999.000,     -999.0,          9,     -999.0,          9,-999.000,          9