BOTTLE,20220818CCHSIOAMB
EXPOCODE,SECT_ID,STNNBR,CASTNO,SAMPNO,BTLNBR,BTLNBR_FLAG_W,DATE,TIME,LATITUDE,LONGITUDE,DEPTH,CTDPRS,CTDTMP,CTDSAL,CTDSAL_FLAG_W,SALNTY,SALNTY_FLAG_W,CTDOXY,CTDOXY_FLAG_W,OXYGEN,OXYGEN_FLAG_W,SILCAT,SILCAT_FLAG_W,NITRAT,NITRAT_FLAG_W,NITRIT,NITRIT_FLAG_W,PHSPHT,PHSPHT_FLAG_W,CFC-11,CFC-11_FLAG_W,CFC-12,CFC-12_FLAG_W,CFC113,CFC113_FLAG_W,TCARBN,TCARBN_FLAG_W,ALKALI,ALKALI_FLAG_W,PCO2,PCO2_FLAG_W,PCO2TMP,PH_SWS,PH_SWS_FLAG_W,PH_TMP,TRITUM,TRITUM_FLAG_W,TRITER,HELIUM,HELIUM_FLAG_W,DELHE3,DELHE3_FLAG_W,DELC13,DELC13_FLAG_W,DELC14,DELC14_FLAG_W,C14ERR,NEON,NEON_FLAG_W,NEONER,CCL4,CCL4_FLAG_W,DOC,DOC_FLAG_W,CTDRAW,CDOM325,CDOM325_FLAG_W,CDOM340,CDOM340_FLAG_W,CDOM380,CDOM380_FLAG_W,CDOM412,CDOM412_FLAG_W,CDOMSL,CDOMSL_FLAG_W,CDOMSN,CDOMSN_FLAG_W,THETA,HELIER,DELHER,CH3CL,CH3CL_FLAG_W,CH3BR,CH3BR_FLAG_W,CH3I,CH3I_FLAG_W
,,,,,,,,,,,METERS,DBAR,ITS-90,PSS-78,,PSS-78,,UMOL/KG,,UMOL/KG,,UMOL/KG,,UMOL/KG,,UMOL/KG,,UMOL/KG,,PMOL/KG,,PMOL/KG,,PMOL/KG,,UMOL/KG,,UMOL/KG,,UATM,,DEG C,,,DEG C,TU,,TU,NMOL/KG,,PERCNT,,/MILLE,,/MILLE,,/MILLE,NMOL/KG,,NMOL/KG,PMOL/KG,,UMOL/KG,,DBAR,1/M,,1/M,,1/M,,1/M,,1/NM,,1/NM,,DEG C,NMOL/KG,PERCNT,PMOL/KG,,PMOL/KG,,PMOL/KG,
 33RO200501,       A16S,      55,          1,         36,         36,2,20050201,       1756,   -35.0002,   -24.9987,       4104,     2.9,  20.7150,  35.5966,2,  35.5963,2,    230.4,2,   228.4,2,    0.96,2,    0.00,2,    0.00,2,    0.03,2,   2.156,2,   1.365,2,   0.178,2,  2050.1,6,  2337.8,2,  -999.0,9,   20.00,   8.0087,2,    25.00,-999.000,9, -999.00,-999.000,9,-999.000,9, -999.00,9,  -999.0,9,  -999.0,-999.000,9,-999.000,   1.944,4,   62.78,2,    2.90,-999.0000,9,-999.0000,9,-999.0000,9,-999.0000,9,-999.0000,9,-999.0000,9,  20.7144,     -999.0,-999.000,     -999.0,          9,     -999.0,          9,-999.000,          9
 33RO200501,       A16S,      55,          1,         35,         35,2,20050201,       1756,   -35.0002,   -24.9987,       4104,    23.6,  20.5989,  35.5953,2,  35.5985,2,    230.4,2,   228.3,2,    0.94,2,    0.00,2,    0.00,2,    0.03,2,   2.177,2,   1.391,2,   0.192,2,  2049.7,2,  2336.6,6,  -999.0,9,   20.00,   8.0064,6,    25.00,-999.000,9, -999.00,-999.000,9,-999.000,9, -999.00,9,  -999.0,9,  -999.0,-999.000,9,-999.000,   1.955,4,   61.32,2,   23.60,-999.0000,9,-999.0000,9,-999.0000,9,-999.0000,9,-999.0000,9,-999.0000,9,  20.5945,     -999.0,-999.000,     -999.0,          9,     -999.0,          9,-999.000,          9
 33RO200501,       A16S,      55,          1,         34,         34,2,20050201,       1756,   -35.0002,   -24.9987,       4104,    49.3,  19.0263,  35.5548,2,  35.5537,2,    237.5,2,   239.8,2,    0.99,2,    0.00,2,    0.00,2,    0.07,2,   2.377,2,   1.473,2,   0.191,2,  2055.7,2,  2333.4,2,  -999.0,9,   20.00,   7.9979,2,    25.00,-999.000,9, -999.00,-999.000,9,-999.000,9, -999.00,9,  -999.0,9,  -999.0,-999.000,9,-999.000,   1.959,4,   58.36,2,   49.30,-999.0000,9,-999.0000,9,-999.0000,9,-999.0000,9,-999.0000,9,-999.0000,9,  19.0175,     -999.0,-999.000,     -999.0,          9,     -999.0,          9,-999.000,          9
 33RO200501,       A16S,      55,          1,         33,         33,2,20050201,       1756,   -35.0002,   -24.9987,       4104,    69.7,  17.2535,  35.5489,2,  35.5444,2,    241.2,2,   244.6,2,    1.05,2,    0.01,2,    0.00,2,    0.10,2,   2.564,2,   1.562,2,   0.219,2,  2062.2,2,  2334.2,2,  -999.0,9,   20.00,   7.9842,2,    25.00,-999.000,9, -999.00,-999.000,9,-999.000,9, -999.00,9,  -999.0,9,  -999.0,-999.000,9,-999.000,   1.788,4, -999.00,9,   69.70,-999.0000,9,-999.0000,9,-999.0000,9,-999.0000,9,-999.0000,9,-999.0000,9,  17.2419,     -999.0,-999.000,     -999.0,          9,     -999.0,          9,-999.000,          9
 33RO200501,       A16S,      55,          1,         32,         32,2,20050201,       1756,   -35.0002,   -24.9987,       4104,    89.5,  15.8668,  35.4868,2,  35.4856,2,    237.2,2,   239.6,2,    1.11,2,    0.05,2,    0.01,2,    0.18,2,-999.000,9,-999.000,9,-999.000,9,  2076.7,2,  2332.9,2,  -999.0,9,   20.00,   7.9577,2,    25.00,-999.000,9, -999.00,-999.000,9,-999.000,9, -999.00,9,  -999.0,9,  -999.0,-999.000,9,-999.000,-999.000,9,   55.48,2,   89.50,-999.0000,9,-999.0000,9,-999.0000,9,-999.0000,9,-999.0000,9,-999.0000,9,  15.8527,     -999.0,-999.000,     -999.0,          9,     -999.0,          9,-999.000,          9
 33RO200501,       A16S,      55,          1,         31,         31,2,20050201,       1756,   -35.0002,   -24.9987,       4104,   114.0,  15.1857,  35.4812,2,  35.4827,2,    227.2,2,   224.4,2,    1.64,2,    3.22,2,    0.08,2,    0.34,2,   2.756,2,   1.616,2,   0.141,2,  2092.7,2,  2330.1,2,  -999.0,9,   20.00,   7.9289,2,    25.00,-999.000,9, -999.00,-999.000,9,-999.000,9, -999.00,9,  -999.0,9,  -999.0,-999.000,9,-999.000,   1.104,4, -999.00,9,  114.00,-999.0000,9,-999.0000,9,-999.0000,9,-999.0000,9,-999.0000,9,-999.0000,9,  15.1682,     -999.0,-999.000,     -999.0,          9,     -999.0,          9,-999.000,          9
 33RO200501,       A16S,      55,          1,         30,         30,2,20050201,       1756,   -35.0002,   -24.9987,       4104,   138.5,  14.9188,  35.4749,2,  35.4719,2,    217.2,2,   213.7,2,    1.87,2,    4.66,2,    0.02,2,    0.42,2,-999.000,9,-999.000,9,-999.000,9,  2099.0,2,  2331.0,2,  -999.0,9,   20.00,   7.9146,2,    25.00,-999.000,9, -999.00,-999.000,9,-999.000,9, -999.00,9,  -999.0,9,  -999.0,-999.000,9,-999.000,-999.000,9,   52.23,2,  138.50,-999.0000,9,-999.0000,9,-999.0000,9,-999.0000,9,-999.0000,9,-999.0000,9,  14.8978,     -999.0,-999.000,     -999.0,          9,     -999.0,          9,-999.000,          9
 33RO200501,       A16S,      55,          1,         29,         29,2,20050201,       1756,   -35.0002,   -24.9987,       4104,   164.8,  14.6137,  35.4552,2,  35.4535,2,    216.7,2,   219.3,2,    2.03,2,    5.51,2,    0.01,2,    0.46,2,   2.827,2,   1.656,2,   0.085,2,  2102.9,2,  2329.7,2,  -999.0,9,   20.00,   7.9074,2,    25.00,-999.000,9, -999.00,-999.000,9,-999.000,9, -999.00,9,  -999.0,9,  -999.0,-999.000,9,-999.000,   0.796,4, -999.00,9,  164.80,-999.0000,9,-999.0000,9,-999.0000,9,-999.0000,9,-999.0000,9,-999.0000,9,  14.5891,     -999.0,-999.000,     -999.0,          9,     -999.0,          9,-999.000,          9
 33RO200501,       A16S,      55,          1,         28,         28,2,20050201,       1756,   -35.0002,   -24.9987,       4104,   189.8,  14.3774,  35.4390,2,  35.4371,2,    216.9,2,   218.9,2,    2.19,2,    6.22,2,    0.01,2,    0.50,2,-999.000,9,-999.000,9,-999.000,9,  2104.7,2,  2329.9,2,  -999.0,9,   20.00,   7.8999,2,    25.00,-999.000,9, -999.00,-999.000,9,-999.000,9, -999.00,9,  -999.0,9,  -999.0,-999.000,9,-999.000,-999.000,9,   48.90,2,  189.80,-999.0000,9,-999.0000,9,-999.0000,9,-999.0000,9,-999.0000,9,-999.0000,9,  14.3494,     -999.0,-999.000,     -999.0,          9,     -999.0,          9,-999.000,          9
 33RO200501,       A16S,      55,          1,         27,         27,2,20050201,       1756,   -35.0002,   -24.9987,       4104,   223.4,  14.0817,  35.4016,2,  35.4014,2,    219.6,2,   224.1,2,    2.22,2,    6.23,2,    0.01,2,    0.50,2,   2.880,2,   1.685,2,   0.101,2,  2103.5,2,  2330.3,2,  -999.0,9,   20.00,   7.9002,2,    25.00,-999.000,9, -999.00,-999.000,9,-999.000,9, -999.00,9,  -999.0,9,  -999.0,-999.000,9,-999.000,   0.931,4, -999.00,9,  223.40,-999.0000,9,-999.0000,9,-999.0000,9,-999.0000,9,-999.0000,9,-999.0000,9,  14.0492,     -999.0,-999.000,     -999.0,          9,     -999.0,          9,-999.000,          9
 33RO200501,       A16S,      55,          1,         26,         26,2,20050201,       1756,   -35.0002,   -24.9987,       4104,   274.4,  13.5155,  35.3154,2,  35.3116,2,    219.4,2,   218.5,2,    2.74,2,    8.21,2,    0.01,2,    0.62,2,   2.948,2,   1.687,2,   0.068,2,  2111.4,2,  2325.8,2,  -999.0,9,   20.00,   7.8783,2,    25.00,-999.000,9, -999.00,-999.000,9,-999.000,9, -999.00,9,  -999.0,9,  -999.0,-999.000,9,-999.000,   0.753,4,   47.19,2,  274.40,-999.0000,9,-999.0000,9,-999.0000,9,-999.0000,9,-999.0000,9,-999.0000,9,  13.4766,     -999.0,-999.000,     -999.0,          9,     -999.0,          9,-999.000,          9
 33RO200501,       A16S,      55,          1,         25,         25,2,20050201,       1756,   -35.0002,   -24.9987,       4104,   323.8,  12.8509,  35.2119,2,  35.2095,2,    218.9,2,   217.6,2,    3.11,2,    9.72,2,    0.01,2,    0.70,2,   2.961,2,   1.702,2,   0.075,2,  2114.8,2,  2317.9,2,  -999.0,9,   20.00,   7.8606,2,    25.00,-999.000,9, -999.00,-999.000,9,-999.000,9, -999.00,9,  -999.0,9,  -999.0,-999.000,9,-999.000,   0.796,4,   46.28,2,  323.80,-999.0000,9,-999.0000,9,-999.0000,9,-999.0000,9,-999.0000,9,-999.0000,9,  12.8064,     -999.0,-999.000,     -999.0,          9,     -999.0,          9,-999.000,          9
 33RO200501,       A16S,      55,          1,         24,         24,2,20050201,       1756,   -35.0002,   -24.9987,       4104,   375.1,  12.0152,  35.0745,2,  35.0730,2,    213.6,2,   215.0,2,    3.83,2,   11.85,2,    0.00,2,    0.83,2,   3.043,2,   1.703,2,   0.071,2,  2120.9,2,  2311.0,2,  -999.0,9,   20.00,   7.8337,2,    25.00,-999.000,9, -999.00,-999.000,9,-999.000,9, -999.00,9,  -999.0,9,  -999.0,-999.000,9,-999.000,   0.841,4,   44.75,2,  375.10,-999.0000,9,-999.0000,9,-999.0000,9,-999.0000,9,-999.0000,9,-999.0000,9,  11.9659,     -999.0,-999.000,     -999.0,          9,     -999.0,          9,-999.000,          9
 33RO200501,       A16S,      55,          1,         23,         23,2,20050201,       1756,   -35.0002,   -24.9987,       4104,   448.6,  10.7390,  34.8905,2,  34.8894,2,    212.5,2,   212.6,2,    5.09,2,   15.03,2,    0.00,2,    1.02,2,   3.052,2,   1.681,2,   0.084,2,  2128.4,2,  2304.0,2,  -999.0,9,   20.00,   7.7946,2,    25.00,-999.000,9, -999.00,-999.000,9,-999.000,9, -999.00,9,  -999.0,9,  -999.0,-999.000,9,-999.000,   1.060,4,   42.71,2,  448.60,-999.0000,9,-999.0000,9,-999.0000,9,-999.0000,9,-999.0000,9,-999.0000,9,  10.6839,     -999.0,-999.000,     -999.0,          9,     -999.0,          9,-999.000,          9
 33RO200501,       A16S,      55,          1,         22,         22,2,20050201,       1756,   -35.0002,   -24.9987,       4104,   549.3,   8.9161,  34.6627,2,  34.6606,2,    212.3,2,   212.9,2,    7.68,2,   19.64,2,    0.00,2,    1.29,2,   3.101,2,   1.635,2,   0.130,2,  2140.8,2,  2290.4,2,  -999.0,9,   20.00,   7.7514,2,    25.00,-999.000,9, -999.00,-999.000,9,-999.000,9, -999.00,9,  -999.0,9,  -999.0,-999.000,9,-999.000,   1.510,4,   41.12,2,  549.30,-999.0000,9,-999.0000,9,-999.0000,9,-999.0000,9,-999.0000,9,-999.0000,9,   8.8558,     -999.0,-999.000,     -999.0,          9,     -999.0,          9,-999.000,          9
 33RO200501,       A16S,      55,          1,         21,         21,2,20050201,       1756,   -35.0002,   -24.9987,       4104,   649.6,   7.1134,  34.4634,2,  34.4610,2,    219.5,2,   220.0,2,   10.65,2,   23.43,2,    0.00,2,    1.53,2,   3.168,2,   1.634,2,   0.167,2,  2151.2,2,  2283.5,2,  -999.0,9,   20.00,   7.7061,2,    25.00,-999.000,9, -999.00,-999.000,9,-999.000,9, -999.00,9,  -999.0,9,  -999.0,-999.000,9,-999.000,   2.088,4, -999.00,9,  649.60,-999.0000,9,-999.0000,9,-999.0000,9,-999.0000,9,-999.0000,9,-999.0000,9,   7.0506,     -999.0,-999.000,     -999.0,          9,     -999.0,          9,-999.000,          9
 33RO200501,       A16S,      55,          1,         20,         20,2,20050201,       1756,   -35.0002,   -24.9987,       4104,   749.4,   5.3241,  34.2937,2,  34.2964,2,    235.3,2,   237.1,2,   14.10,2,   26.18,2,    0.00,2,    1.71,2,   3.335,2,   1.721,2,   0.209,2,  2157.7,2,  2282.0,2,  -999.0,9,   20.00,   7.6828,2,    25.00,-999.000,9, -999.00,-999.000,9,-999.000,9, -999.00,9,  -999.0,9,  -999.0,-999.000,9,-999.000,   2.761,4,   40.13,2,  749.40,-999.0000,9,-999.0000,9,-999.0000,9,-999.0000,9,-999.0000,9,-999.0000,9,   5.2614,     -999.0,-999.000,     -999.0,          9,     -999.0,          9,-999.000,          9
 33RO200501,       A16S,      55,          1,         19,         19,2,20050201,       1756,   -35.0002,   -24.9987,       4104,   848.8,   4.4850,  34.2552,2,  34.2570,2,    240.0,2,   238.4,2,   19.01,2,   27.94,2,    0.00,2,    1.82,2,   2.997,2,   1.529,2,   0.188,2,  2166.8,2,  2282.3,6,  -999.0,9,   20.00,   7.6713,6,    25.00,-999.000,9, -999.00,-999.000,9,-999.000,9, -999.00,9,  -999.0,9,  -999.0,-999.000,9,-999.000,   2.789,4, -999.00,9,  848.80,-999.0000,9,-999.0000,9,-999.0000,9,-999.0000,9,-999.0000,9,-999.0000,9,   4.4189,     -999.0,-999.000,     -999.0,          9,     -999.0,          9,-999.000,          9
 33RO200501,       A16S,      55,          1,         18,         18,2,20050201,       1756,   -35.0002,   -24.9987,       4104,   949.1,   4.0431,  34.2666,2,  34.2681,2,    229.1,2,   231.0,2,   24.83,2,   29.38,2,    0.00,2,    1.92,2,   2.514,2,   1.235,2,   0.145,2,  2178.6,6,  2288.4,2,  -999.0,9,   20.00,   7.6496,2,    25.00,-999.000,9, -999.00,-999.000,9,-999.000,9, -999.00,9,  -999.0,9,  -999.0,-999.000,9,-999.000,   2.521,4,   40.22,2,  949.10,-999.0000,9,-999.0000,9,-999.0000,9,-999.0000,9,-999.0000,9,-999.0000,9,   3.9717,     -999.0,-999.000,     -999.0,          9,     -999.0,          9,-999.000,          9
 33RO200501,       A16S,      55,          1,         17,         17,2,20050201,       1756,   -35.0002,   -24.9987,       4104,  1049.3,   3.5397,  34.2721,2,  34.2721,2,    225.9,2,   225.9,2,   30.83,2,   30.60,2,    0.00,2,    2.01,2,   2.125,2,   1.059,2,   0.127,2,  2188.6,2,  2293.4,2,  -999.0,9,   20.00,   7.6329,2,    25.00,-999.000,9, -999.00,-999.000,9,-999.000,9, -999.00,9,  -999.0,9,  -999.0,-999.000,9,-999.000,   2.285,4,   39.54,2, 1049.30,-999.0000,9,-999.0000,9,-999.0000,9,-999.0000,9,-999.0000,9,-999.0000,9,   3.4640,     -999.0,-999.000,     -999.0,          9,     -999.0,          9,-999.000,          9
 33RO200501,       A16S,      55,          1,         16,         16,2,20050201,       1756,   -35.0002,   -24.9987,       4104,  1148.8,   3.2402,  34.3170,2,  34.3182,2,    214.2,2,   214.0,2,   38.58,2,   31.77,2,    0.00,2,    2.10,2,   1.592,2,   0.771,2,   0.085,2,  2202.0,2,  2300.4,2,  -999.0,9,   20.00,   7.6308,2,    25.00,-999.000,9, -999.00,-999.000,9,-999.000,9, -999.00,9,  -999.0,9,  -999.0,-999.000,9,-999.000,   1.807,4,   39.73,2, 1148.80,-999.0000,9,-999.0000,9,-999.0000,9,-999.0000,9,-999.0000,9,-999.0000,9,   3.1591,     -999.0,-999.000,     -999.0,          9,     -999.0,          9,-999.000,          9
 33RO200501,       A16S,      55,          1,         15,         15,2,20050201,       1756,   -35.0002,   -24.9987,       4104,  1248.4,   3.0306,  34.3736,2,  34.3758,2,    202.8,2,   201.1,2,   46.34,2,   32.66,2,    0.00,2,    2.17,2,   1.099,2,   0.531,2,   0.059,2,  2215.3,2,  2305.6,2,  -999.0,9,   20.00,   7.6041,2,    25.00,-999.000,9, -999.00,-999.000,9,-999.000,9, -999.00,9,  -999.0,9,  -999.0,-999.000,9,-999.000,   1.341,4,   39.90,2, 1248.40,-999.0000,9,-999.0000,9,-999.0000,9,-999.0000,9,-999.0000,9,-999.0000,9,   2.9434,     -999.0,-999.000,     -999.0,          9,     -999.0,          9,-999.000,          9
 33RO200501,       A16S,      55,          1,         14,         14,2,20050201,       1756,   -35.0002,   -24.9987,       4104,  1347.4,   2.9082,  34.4380,2,  34.4383,2,    191.9,2,   191.6,2,   52.15,2,   32.92,2,    0.00,2,    2.19,2,   0.711,2,   0.331,2,   0.030,2,  2225.3,2,  2314.2,2,  -999.0,9,   20.00,   7.5961,2,    25.00,-999.000,9, -999.00,-999.000,9,-999.000,9, -999.00,9,  -999.0,9,  -999.0,-999.000,9,-999.000,   0.836,4,   39.14,2, 1347.40,-999.0000,9,-999.0000,9,-999.0000,9,-999.0000,9,-999.0000,9,-999.0000,9,   2.8142,     -999.0,-999.000,     -999.0,          9,     -999.0,          9,-999.000,          9
 33RO200501,       A16S,      55,          1,         13,         13,2,20050201,       1756,   -35.0002,   -24.9987,       4104,  1498.9,   2.8326,  34.5268,2,  34.5262,2,    183.2,2,   185.2,2,   57.47,2,   32.60,2,    0.00,2,    2.18,2,   0.388,2,   0.253,2,   0.011,2,  2232.3,2,  2319.7,2,  -999.0,9,   20.00,   7.5876,2,    25.00,-999.000,9, -999.00,-999.000,9,-999.000,9, -999.00,9,  -999.0,9,  -999.0,-999.000,9,-999.000,   0.570,4,   38.99,2, 1498.90,-999.0000,9,-999.0000,9,-999.0000,9,-999.0000,9,-999.0000,9,-999.0000,9,   2.7269,     -999.0,-999.000,     -999.0,          9,     -999.0,          9,-999.000,          9
 33RO200501,       A16S,      55,          1,         12,         12,2,20050201,       1756,   -35.0002,   -24.9987,       4104,  1698.9,   2.8302,  34.6401,2,  34.6419,2,    185.1,2,   186.5,2,   58.60,2,   30.90,2,    0.00,2,    2.07,2,   0.162,2,   0.072,2,   0.004,2,  2231.1,2,  2325.4,2,  -999.0,9,   20.00,   7.6038,2,    25.00,-999.000,9, -999.00,-999.000,9,-999.000,9, -999.00,9,  -999.0,9,  -999.0,-999.000,9,-999.000,   0.284,4, -999.00,9, 1698.90,-999.0000,9,-999.0000,9,-999.0000,9,-999.0000,9,-999.0000,9,-999.0000,9,   2.7075,     -999.0,-999.000,     -999.0,          9,     -999.0,          9,-999.000,          9
 33RO200501,       A16S,      55,          1,         11,         11,2,20050201,       1756,   -35.0002,   -24.9987,       4104,  1899.4,   2.8813,  34.7335,2,  34.7347,2,    195.3,2,   193.5,2,   55.10,2,   28.66,2,    0.00,2,    1.91,2,   0.067,2,   0.029,2,   0.004,2,  2222.7,2,  2329.4,2,  -999.0,9,   20.00,   7.6346,2,    25.00,-999.000,9, -999.00,-999.000,9,-999.000,9, -999.00,9,  -999.0,9,  -999.0,-999.000,9,-999.000,   0.162,4,   39.45,2, 1899.40,-999.0000,9,-999.0000,9,-999.0000,9,-999.0000,9,-999.0000,9,-999.0000,9,   2.7402,     -999.0,-999.000,     -999.0,          9,     -999.0,          9,-999.000,          9
 33RO200501,       A16S,      55,          1,         10,         10,2,20050201,       1756,   -35.0002,   -24.9987,       4104,  2099.1,   2.9274,  34.8059,2,  34.8058,2,    210.6,2,   211.1,2,   49.18,2,   26.25,2,    0.00,2,    1.75,2,   0.041,2,   0.018,2,   0.002,2,  2210.4,2,  2327.6,2,  -999.0,9,   20.00,   7.6654,2,    25.00,-999.000,9, -999.00,-999.000,9,-999.000,9, -999.00,9,  -999.0,9,  -999.0,-999.000,9,-999.000,   0.123,4, -999.00,9, 2099.10,-999.0000,9,-999.0000,9,-999.0000,9,-999.0000,9,-999.0000,9,-999.0000,9,   2.7673,     -999.0,-999.000,     -999.0,          9,     -999.0,          9,-999.000,          9
 33RO200501,       A16S,      55,          1,          9,          9,2,20050201,       1756,   -35.0002,   -24.9987,       4104,  2299.4,   2.9329,  34.8494,2,  34.8497,2,    222.9,2,   224.4,2,   44.29,2,   24.43,2,    0.00,2,    1.62,2,   0.030,6,   0.013,6,   0.000,6,  2200.1,2,  2327.1,2,  -999.0,9,   20.00,   7.6893,2,    25.00,-999.000,9, -999.00,-999.000,9,-999.000,9, -999.00,9,  -999.0,9,  -999.0,-999.000,9,-999.000,   0.122,4,   39.15,2, 2299.40,-999.0000,9,-999.0000,9,-999.0000,9,-999.0000,9,-999.0000,9,-999.0000,9,   2.7539,     -999.0,-999.000,     -999.0,          9,     -999.0,          9,-999.000,          9
 33RO200501,       A16S,      55,          1,          8,          8,2,20050201,       1756,   -35.0002,   -24.9987,       4104,  2499.8,   2.8830,  34.8742,2,  34.8749,2,    232.8,2,   233.4,2,   40.85,2,   23.33,2,    0.00,2,    1.53,2,   0.007,2,   0.014,3,  -0.001,2,  2192.6,2,  2326.0,2,  -999.0,9,   20.00,   7.7094,2,    25.00,-999.000,9, -999.00,-999.000,9,-999.000,9, -999.00,9,  -999.0,9,  -999.0,-999.000,9,-999.000,   0.082,4, -999.00,9, 2499.80,-999.0000,9,-999.0000,9,-999.0000,9,-999.0000,9,-999.0000,9,-999.0000,9,   2.6855,     -999.0,-999.000,     -999.0,          9,     -999.0,          9,-999.000,          9