BOTTLE,20220818CCHSIOAMB
EXPOCODE,SECT_ID,STNNBR,CASTNO,SAMPNO,BTLNBR,BTLNBR_FLAG_W,DATE,TIME,LATITUDE,LONGITUDE,DEPTH,CTDPRS,CTDTMP,CTDSAL,CTDSAL_FLAG_W,SALNTY,SALNTY_FLAG_W,CTDOXY,CTDOXY_FLAG_W,OXYGEN,OXYGEN_FLAG_W,SILCAT,SILCAT_FLAG_W,NITRAT,NITRAT_FLAG_W,NITRIT,NITRIT_FLAG_W,PHSPHT,PHSPHT_FLAG_W,CFC-11,CFC-11_FLAG_W,CFC-12,CFC-12_FLAG_W,CFC113,CFC113_FLAG_W,TCARBN,TCARBN_FLAG_W,ALKALI,ALKALI_FLAG_W,PCO2,PCO2_FLAG_W,PCO2TMP,PH_SWS,PH_SWS_FLAG_W,PH_TMP,TRITUM,TRITUM_FLAG_W,TRITER,HELIUM,HELIUM_FLAG_W,DELHE3,DELHE3_FLAG_W,DELC13,DELC13_FLAG_W,DELC14,DELC14_FLAG_W,C14ERR,NEON,NEON_FLAG_W,NEONER,CCL4,CCL4_FLAG_W,DOC,DOC_FLAG_W,CTDRAW,CDOM325,CDOM325_FLAG_W,CDOM340,CDOM340_FLAG_W,CDOM380,CDOM380_FLAG_W,CDOM412,CDOM412_FLAG_W,CDOMSL,CDOMSL_FLAG_W,CDOMSN,CDOMSN_FLAG_W,THETA,HELIER,DELHER,CH3CL,CH3CL_FLAG_W,CH3BR,CH3BR_FLAG_W,CH3I,CH3I_FLAG_W
,,,,,,,,,,,METERS,DBAR,ITS-90,PSS-78,,PSS-78,,UMOL/KG,,UMOL/KG,,UMOL/KG,,UMOL/KG,,UMOL/KG,,UMOL/KG,,PMOL/KG,,PMOL/KG,,PMOL/KG,,UMOL/KG,,UMOL/KG,,UATM,,DEG C,,,DEG C,TU,,TU,NMOL/KG,,PERCNT,,/MILLE,,/MILLE,,/MILLE,NMOL/KG,,NMOL/KG,PMOL/KG,,UMOL/KG,,DBAR,1/M,,1/M,,1/M,,1/M,,1/NM,,1/NM,,DEG C,NMOL/KG,PERCNT,PMOL/KG,,PMOL/KG,,PMOL/KG,
 33RO200501,       A16S,      67,          1,          7,          7,2,20050205,       0840,   -29.0005,   -25.0023,       5233,  3350.6,   2.3820,  34.8846,2,  34.8888,3,    247.4,2,   247.0,2,   45.57,2,   22.37,2,    0.00,2,    1.49,2,   0.000,2,   0.013,2,   0.004,2,  2190.3,2,  2329.8,2,  -999.0,9,   20.00,   7.7398,2,    25.00,-999.000,9, -999.00,-999.000,9,-999.000,9, -999.00,9,  -999.0,9,  -999.0,-999.000,9,-999.000,   0.023,4,   39.32,2, 3350.60,-999.0000,9,-999.0000,9,-999.0000,9,-999.0000,9,-999.0000,9,-999.0000,9,   2.1086,     -999.0,-999.000,     -999.0,          9,     -999.0,          9,-999.000,          9
 33RO200501,       A16S,      67,          1,          6,          6,2,20050205,       0840,   -29.0005,   -25.0023,       5233,  3649.3,   1.9183,  34.8390,2,  34.8388,2,    240.4,2,   240.2,2,   63.64,2,   24.69,2,    0.00,2,    1.67,2,-999.000,9,-999.000,9,-999.000,9,  2208.7,2,  2342.7,2,  -999.0,9,   20.00,   7.6966,2,    25.00,-999.000,9, -999.00,-999.000,9,-999.000,9, -999.00,9,  -999.0,9,  -999.0,-999.000,9,-999.000,-999.000,9, -999.00,9, 3649.30,-999.0000,9,-999.0000,9,-999.0000,9,-999.0000,9,-999.0000,9,-999.0000,9,   1.6249,     -999.0,-999.000,     -999.0,          9,     -999.0,          9,-999.000,          9
 33RO200501,       A16S,      67,          1,          5,          5,2,20050205,       0840,   -29.0005,   -25.0023,       5233,  3950.6,   1.5189,  34.7970,2,  34.7971,2,    233.6,2,   233.8,2,   80.00,2,   26.85,2,    0.00,2,    1.84,2,   0.009,2,   0.007,2,   0.000,2,  2224.5,2,  2343.9,2,  -999.0,9,   20.00,   7.6734,2,    25.00,-999.000,9, -999.00,-999.000,9,-999.000,9, -999.00,9,  -999.0,9,  -999.0,-999.000,9,-999.000,   0.045,4,   38.96,2, 3950.60,-999.0000,9,-999.0000,9,-999.0000,9,-999.0000,9,-999.0000,9,-999.0000,9,   1.2041,     -999.0,-999.000,     -999.0,          9,     -999.0,          9,-999.000,          9
 33RO200501,       A16S,      67,          1,          4,          4,2,20050205,       0840,   -29.0005,   -25.0023,       5233,  4251.0,   1.3201,  34.7719,2,  34.7714,2,    228.8,2,   228.9,2,   89.78,6,   28.16,6,    0.00,6,    1.95,6,   0.028,2,   0.015,2,   0.000,2,  2233.8,2,  2348.1,2,  -999.0,9,   20.00,   7.6576,2,    25.00,-999.000,9, -999.00,-999.000,9,-999.000,9, -999.00,9,  -999.0,9,  -999.0,-999.000,9,-999.000,   0.060,4, -999.00,9, 4251.00,   0.1540,2,   0.1130,2,   0.0570,2,   0.0370,3,   0.0163,3,   0.0174,3,   0.9782,     -999.0,-999.000,     -999.0,          9,     -999.0,          9,-999.000,          9
 33RO200501,       A16S,      67,          1,          3,          3,2,20050205,       0840,   -29.0005,   -25.0023,       5233,  4549.5,   1.2600,  34.7624,2,  34.7627,2,    227.5,2,   227.6,2,   93.39,6,   28.64,6,    0.00,6,    1.98,6,   0.021,2,   0.006,2,   0.000,2,  2237.8,2,  2350.7,2,  -999.0,9,   20.00,   7.6501,2,    25.00,-999.000,9, -999.00,-999.000,9,-999.000,9, -999.00,9,  -999.0,9,  -999.0,-999.000,9,-999.000,   0.066,4,   39.36,2, 4549.50,-999.0000,9,-999.0000,9,-999.0000,9,-999.0000,9,-999.0000,9,-999.0000,9,   0.8863,     -999.0,-999.000,     -999.0,          9,     -999.0,          9,-999.000,          9
 33RO200501,       A16S,      67,          1,          2,          2,2,20050205,       0840,   -29.0005,   -25.0023,       5233,  4850.5,   1.2509,  34.7587,2,  34.7590,2,    227.3,2,   227.3,2,   94.67,6,   28.80,6,    0.00,6,    2.00,6,   0.021,2,   0.014,2,   0.000,2,  2239.5,2,  2357.0,6,  -999.0,9,   20.00,   7.6578,6,    25.00,-999.000,9, -999.00,-999.000,9,-999.000,9, -999.00,9,  -999.0,9,  -999.0,-999.000,9,-999.000,   0.067,4, -999.00,9, 4850.50,-999.0000,9,-999.0000,9,-999.0000,9,-999.0000,9,-999.0000,9,-999.0000,9,   0.8424,     -999.0,-999.000,     -999.0,          9,     -999.0,          9,-999.000,          9
 33RO200501,       A16S,      67,          1,          1,          1,2,20050205,       0840,   -29.0005,   -25.0023,       5233,  5120.3,   1.2639,  34.7576,2,  34.7590,2,    227.6,2,   228.0,2,   94.90,6,   28.82,6,    0.00,6,    2.00,6,   0.018,2,   0.011,2,   0.000,2,  2238.6,6,  2351.4,2,  -999.0,9,   20.00,   7.6499,2,    25.00,-999.000,9, -999.00,-999.000,9,-999.000,9, -999.00,9,  -999.0,9,  -999.0,-999.000,9,-999.000,   0.066,4,   38.43,2, 5120.30,-999.0000,9,-999.0000,9,-999.0000,9,-999.0000,9,-999.0000,9,-999.0000,9,   0.8225,     -999.0,-999.000,     -999.0,          9,     -999.0,          9,-999.000,          9