BOTTLE,20220818CCHSIOAMB
EXPOCODE,SECT_ID,STNNBR,CASTNO,SAMPNO,BTLNBR,BTLNBR_FLAG_W,DATE,TIME,LATITUDE,LONGITUDE,DEPTH,CTDPRS,CTDTMP,CTDSAL,CTDSAL_FLAG_W,SALNTY,SALNTY_FLAG_W,CTDOXY,CTDOXY_FLAG_W,OXYGEN,OXYGEN_FLAG_W,SILCAT,SILCAT_FLAG_W,NITRAT,NITRAT_FLAG_W,NITRIT,NITRIT_FLAG_W,PHSPHT,PHSPHT_FLAG_W,CFC-11,CFC-11_FLAG_W,CFC-12,CFC-12_FLAG_W,CFC113,CFC113_FLAG_W,TCARBN,TCARBN_FLAG_W,ALKALI,ALKALI_FLAG_W,PCO2,PCO2_FLAG_W,PCO2TMP,PH_SWS,PH_SWS_FLAG_W,PH_TMP,TRITUM,TRITUM_FLAG_W,TRITER,HELIUM,HELIUM_FLAG_W,DELHE3,DELHE3_FLAG_W,DELC13,DELC13_FLAG_W,DELC14,DELC14_FLAG_W,C14ERR,NEON,NEON_FLAG_W,NEONER,CCL4,CCL4_FLAG_W,DOC,DOC_FLAG_W,CTDRAW,CDOM325,CDOM325_FLAG_W,CDOM340,CDOM340_FLAG_W,CDOM380,CDOM380_FLAG_W,CDOM412,CDOM412_FLAG_W,CDOMSL,CDOMSL_FLAG_W,CDOMSN,CDOMSN_FLAG_W,THETA,HELIER,DELHER,CH3CL,CH3CL_FLAG_W,CH3BR,CH3BR_FLAG_W,CH3I,CH3I_FLAG_W
,,,,,,,,,,,METERS,DBAR,ITS-90,PSS-78,,PSS-78,,UMOL/KG,,UMOL/KG,,UMOL/KG,,UMOL/KG,,UMOL/KG,,UMOL/KG,,PMOL/KG,,PMOL/KG,,PMOL/KG,,UMOL/KG,,UMOL/KG,,UATM,,DEG C,,,DEG C,TU,,TU,NMOL/KG,,PERCNT,,/MILLE,,/MILLE,,/MILLE,NMOL/KG,,NMOL/KG,PMOL/KG,,UMOL/KG,,DBAR,1/M,,1/M,,1/M,,1/M,,1/NM,,1/NM,,DEG C,NMOL/KG,PERCNT,PMOL/KG,,PMOL/KG,,PMOL/KG,
 33RO200501,       A16S,     114,          1,          7,          7,2,20050219,       1547,    -5.5010,   -25.0003,       5649,  3848.0,   2.1398,  34.8739,2,  34.8751,2,    254.6,2,   253.1,2,   46.21,2,   21.38,2,    0.00,2,    1.40,2,-999.000,9,-999.000,9,-999.000,9,  -999.0,9,  -999.0,9,  -999.0,9,   20.00,-999.0000,9,    25.00,-999.000,9, -999.00,-999.000,9,-999.000,9, -999.00,9,  -999.0,9,  -999.0,-999.000,9,-999.000,-999.000,9, -999.00,9, 3848.00,-999.0000,9,-999.0000,9,-999.0000,9,-999.0000,9,-999.0000,9,-999.0000,9,   1.8188,     -999.0,-999.000,     33.399,          2,      1.931,          2,   0.048,          2
 33RO200501,       A16S,     114,          1,          6,          6,2,20050219,       1547,    -5.5010,   -25.0003,       5649,  4149.2,   1.5766,  34.8108,2,  34.8123,2,    239.9,2,   239.7,2,   72.39,2,   25.16,2,    0.00,2,    1.67,2,   0.016,2,   0.013,2,   0.000,2,  -999.0,9,  -999.0,9,  -999.0,9,   20.00,-999.0000,9,    25.00,-999.000,9, -999.00,-999.000,9,-999.000,9, -999.00,9,  -999.0,9,  -999.0,-999.000,9,-999.000,   0.092,4, -999.00,9, 4149.20,-999.0000,9,-999.0000,9,-999.0000,9,-999.0000,9,-999.0000,9,-999.0000,9,   1.2383,     -999.0,-999.000,     -999.0,          9,     -999.0,          9,-999.000,          9
 33RO200501,       A16S,     114,          1,          5,          5,2,20050219,       1547,    -5.5010,   -25.0003,       5649,  4448.3,   1.0686,  34.7551,2,  34.7549,2,    229.4,2,   229.3,2,   95.26,2,   28.36,2,    0.00,2,    1.90,2,-999.000,9,-999.000,9,-999.000,9,  -999.0,9,  -999.0,9,  -999.0,9,   20.00,-999.0000,9,    25.00,-999.000,9, -999.00,-999.000,9,-999.000,9, -999.00,9,  -999.0,9,  -999.0,-999.000,9,-999.000,-999.000,9, -999.00,9, 4448.30,-999.0000,9,-999.0000,9,-999.0000,9,-999.0000,9,-999.0000,9,-999.0000,9,   0.7124,     -999.0,-999.000,      3.547,          2,      0.121,          2,   0.020,          2
 33RO200501,       A16S,     114,          1,          4,          4,2,20050219,       1547,    -5.5010,   -25.0003,       5649,  4747.5,   0.8476,  34.7278,2,  34.7274,2,    224.8,2,   224.7,2,  105.44,6,   29.81,6,    0.00,6,    2.01,6,-999.000,9,-999.000,9,-999.000,9,  2250.1,2,  2362.2,2,  -999.0,9,   20.00,   7.6520,2,    25.00,-999.000,9, -999.00,-999.000,9,-999.000,9, -999.00,9,  -999.0,9,  -999.0,-999.000,9,-999.000,-999.000,9, -999.00,9, 4747.50,-999.0000,9,-999.0000,9,-999.0000,9,-999.0000,9,-999.0000,9,-999.0000,9,   0.4647,     -999.0,-999.000,     -999.0,          9,     -999.0,          9,-999.000,          9
 33RO200501,       A16S,     114,          1,          3,          3,2,20050219,       1547,    -5.5010,   -25.0003,       5649,  5047.8,   0.7686,  34.7153,2,  34.7154,2,    222.9,2,   222.9,2,  110.21,6,   30.48,6,    0.00,6,    2.05,6,   0.034,2,   0.023,2,   0.000,2,  -999.0,9,  -999.0,9,  -999.0,9,   20.00,-999.0000,9,    25.00,-999.000,9, -999.00,-999.000,9,-999.000,9, -999.00,9,  -999.0,9,  -999.0,-999.000,9,-999.000,   0.099,4, -999.00,9, 5047.80,-999.0000,9,-999.0000,9,-999.0000,9,-999.0000,9,-999.0000,9,-999.0000,9,   0.3533,     -999.0,-999.000,      2.294,          2,      0.112,          2,   0.026,          2
 33RO200501,       A16S,     114,          1,          2,          2,2,20050219,       1547,    -5.5010,   -25.0003,       5649,  5348.4,   0.7235,  34.7066,2,  34.7070,2,    221.9,2,   221.4,2,  113.32,6,   30.83,6,    0.00,6,    2.08,6,-999.000,9,-999.000,9,-999.000,9,  -999.0,9,  -999.0,9,  -999.0,9,   20.00,-999.0000,9,    25.00,-999.000,9, -999.00,-999.000,9,-999.000,9, -999.00,9,  -999.0,9,  -999.0,-999.000,9,-999.000,-999.000,9, -999.00,9, 5348.40,-999.0000,9,-999.0000,9,-999.0000,9,-999.0000,9,-999.0000,9,-999.0000,9,   0.2738,     -999.0,-999.000,     -999.0,          9,     -999.0,          9,-999.000,          9
 33RO200501,       A16S,     114,          1,          1,          1,2,20050219,       1547,    -5.5010,   -25.0003,       5649,  5732.1,   0.7485,  34.7040,2,  34.7075,3,    221.6,2,   221.1,2,  114.05,6,   30.88,6,    0.00,6,    2.08,6,   0.044,2,   0.032,2,   0.000,2,  2257.7,2,  2364.5,2,  -999.0,9,   20.00,   7.6260,2,    25.00,-999.000,9, -999.00,-999.000,9,-999.000,9, -999.00,9,  -999.0,9,  -999.0,-999.000,9,-999.000,   0.116,4, -999.00,9, 5732.10,-999.0000,9,-999.0000,9,-999.0000,9,-999.0000,9,-999.0000,9,-999.0000,9,   0.2503,     -999.0,-999.000,      2.738,          2,      0.490,          2,   0.604,          2