BOTTLE,20220818CCHSIOAMB
EXPOCODE,SECT_ID,STNNBR,CASTNO,SAMPNO,BTLNBR,BTLNBR_FLAG_W,DATE,TIME,LATITUDE,LONGITUDE,DEPTH,CTDPRS,CTDTMP,CTDSAL,CTDSAL_FLAG_W,SALNTY,SALNTY_FLAG_W,CTDOXY,CTDOXY_FLAG_W,OXYGEN,OXYGEN_FLAG_W,SILCAT,SILCAT_FLAG_W,NITRAT,NITRAT_FLAG_W,NITRIT,NITRIT_FLAG_W,PHSPHT,PHSPHT_FLAG_W,CFC-11,CFC-11_FLAG_W,CFC-12,CFC-12_FLAG_W,CFC113,CFC113_FLAG_W,TCARBN,TCARBN_FLAG_W,ALKALI,ALKALI_FLAG_W,PCO2,PCO2_FLAG_W,PCO2TMP,PH_SWS,PH_SWS_FLAG_W,PH_TMP,TRITUM,TRITUM_FLAG_W,TRITER,HELIUM,HELIUM_FLAG_W,DELHE3,DELHE3_FLAG_W,DELC13,DELC13_FLAG_W,DELC14,DELC14_FLAG_W,C14ERR,NEON,NEON_FLAG_W,NEONER,CCL4,CCL4_FLAG_W,DOC,DOC_FLAG_W,CTDRAW,CDOM325,CDOM325_FLAG_W,CDOM340,CDOM340_FLAG_W,CDOM380,CDOM380_FLAG_W,CDOM412,CDOM412_FLAG_W,CDOMSL,CDOMSL_FLAG_W,CDOMSN,CDOMSN_FLAG_W,THETA,HELIER,DELHER,CH3CL,CH3CL_FLAG_W,CH3BR,CH3BR_FLAG_W,CH3I,CH3I_FLAG_W
,,,,,,,,,,,METERS,DBAR,ITS-90,PSS-78,,PSS-78,,UMOL/KG,,UMOL/KG,,UMOL/KG,,UMOL/KG,,UMOL/KG,,UMOL/KG,,PMOL/KG,,PMOL/KG,,PMOL/KG,,UMOL/KG,,UMOL/KG,,UATM,,DEG C,,,DEG C,TU,,TU,NMOL/KG,,PERCNT,,/MILLE,,/MILLE,,/MILLE,NMOL/KG,,NMOL/KG,PMOL/KG,,UMOL/KG,,DBAR,1/M,,1/M,,1/M,,1/M,,1/NM,,1/NM,,DEG C,NMOL/KG,PERCNT,PMOL/KG,,PMOL/KG,,PMOL/KG,
 33RO200501,       A16S,      93,          1,          7,          7,2,20050213,       0944,   -16.0022,   -25.0003,       5678,  4000.1,   1.8450,  34.8325,2,  34.8356,3,    240.9,2,   240.9,2,   63.39,2,   24.57,2,    0.00,2,    1.65,2,   0.001,2,   0.004,2,   0.000,2,  2213.5,2,  -999.0,5,   837.2,2,   20.00,   7.6954,2,    25.00,-999.000,9, -999.00,-999.000,9,-999.000,9, -999.00,9,  -999.0,9,  -999.0,-999.000,9,-999.000,   0.035,4,   39.56,2, 4000.10,   0.1610,3,   0.1190,3,   0.0680,3,   0.0510,3,   0.0118,4,   0.0134,4,   1.5154,     -999.0,-999.000,     -999.0,          9,     -999.0,          9,-999.000,          9
 33RO200501,       A16S,      93,          1,          6,          6,2,20050213,       0944,   -16.0022,   -25.0003,       5678,  4200.2,   1.5152,  34.7991,2,  34.7986,2,    235.8,2,   236.3,2,   76.71,2,   26.26,2,    0.00,2,    1.78,2,   0.007,2,   0.001,2,   0.000,2,  2223.2,2,  -999.0,5,   883.1,2,   20.00,   7.6745,2,    25.00,-999.000,9, -999.00,-999.000,9,-999.000,9, -999.00,9,  -999.0,9,  -999.0,-999.000,9,-999.000,   0.033,4, -999.00,9, 4200.20,-999.0000,9,-999.0000,9,-999.0000,9,-999.0000,9,-999.0000,9,-999.0000,9,   1.1730,     -999.0,-999.000,     -999.0,          9,     -999.0,          9,-999.000,          9
 33RO200501,       A16S,      93,          1,          5,          5,2,20050213,       0944,   -16.0022,   -25.0003,       5678,  4501.3,   1.1332,  34.7583,2,  34.7584,2,    230.1,2,   230.5,2,   91.67,2,   28.32,2,    0.00,2,    1.94,2,   0.015,2,   0.003,2,   0.001,2,  2240.8,2,  2353.9,2,   931.7,2,   20.00,   7.6515,2,    25.00,-999.000,9, -999.00,-999.000,9,-999.000,9, -999.00,9,  -999.0,9,  -999.0,-999.000,9,-999.000,   0.053,4,   39.17,2, 4501.30,-999.0000,9,-999.0000,9,-999.0000,9,-999.0000,9,-999.0000,9,-999.0000,9,   0.7690,     -999.0,-999.000,     -999.0,          9,     -999.0,          9,-999.000,          9
 33RO200501,       A16S,      93,          1,          4,          4,2,20050213,       0944,   -16.0022,   -25.0003,       5678,  4801.6,   0.9002,  34.7321,2,  34.7318,2,    226.6,2,   227.3,2,  102.19,6,   29.61,6,    0.00,6,    2.04,6,-999.000,9,-999.000,9,-999.000,9,  2245.8,2,  2358.5,2,  -999.0,9,   20.00,   7.6346,2,    25.00,-999.000,9, -999.00,-999.000,9,-999.000,9, -999.00,9,  -999.0,9,  -999.0,-999.000,9,-999.000,-999.000,9, -999.00,9, 4801.60,   0.1520,3,   0.1110,3,   0.0630,3,   0.0450,3,   0.0131,3,   0.0146,3,   0.5092,     -999.0,-999.000,     -999.0,          9,     -999.0,          9,-999.000,          9
 33RO200501,       A16S,      93,          1,          3,          3,2,20050213,       0944,   -16.0022,   -25.0003,       5678,  5100.8,   0.8195,  34.7203,2,  34.7207,2,    225.0,2,   225.5,2,  106.58,6,   30.18,6,    0.00,6,    2.09,6,   0.045,2,   0.021,2,   0.000,2,  2255.1,2,  2358.9,2,   989.8,2,   20.00,   7.6306,2,    25.00,-999.000,9, -999.00,-999.000,9,-999.000,9, -999.00,9,  -999.0,9,  -999.0,-999.000,9,-999.000,   0.105,4,   39.37,2, 5100.80,-999.0000,9,-999.0000,9,-999.0000,9,-999.0000,9,-999.0000,9,-999.0000,9,   0.3962,     -999.0,-999.000,     -999.0,          9,     -999.0,          9,-999.000,          9
 33RO200501,       A16S,      93,          1,          2,          2,2,20050213,       0944,   -16.0022,   -25.0003,       5678,  5399.9,   0.7525,  34.7095,2,  34.7101,2,    223.7,2,   223.7,2,  110.48,6,   30.70,6,    0.00,6,    2.13,6,   0.071,2,   0.037,2,   0.007,2,  2254.6,2,  2356.2,2,  1003.1,2,   20.00,   7.6234,6,    25.00,-999.000,9, -999.00,-999.000,9,-999.000,9, -999.00,9,  -999.0,9,  -999.0,-999.000,9,-999.000,   0.142,4, -999.00,9, 5399.90,-999.0000,9,-999.0000,9,-999.0000,9,-999.0000,9,-999.0000,9,-999.0000,9,   0.2955,     -999.0,-999.000,     -999.0,          9,     -999.0,          9,-999.000,          9
 33RO200501,       A16S,      93,          1,          1,          1,2,20050213,       0944,   -16.0022,   -25.0003,       5678,  5747.2,   0.7360,  34.7029,2,  34.7069,3,    223.0,2,   222.5,2,  112.69,6,   30.97,6,    0.00,6,    2.15,6,   0.094,2,   0.046,2,   0.001,2,  2256.8,6,  2358.5,2,  1012.0,2,   20.00,   7.6188,2,    25.00,-999.000,9, -999.00,-999.000,9,-999.000,9, -999.00,9,  -999.0,9,  -999.0,-999.000,9,-999.000,   0.172,4,   38.96,2, 5747.20,   0.1680,3,   0.1240,2,   0.0700,3,   0.0490,3,   0.0132,3,   0.0145,3,   0.2364,     -999.0,-999.000,     -999.0,          9,     -999.0,          9,-999.000,          9