BOTTLE,20220818CCHSIOAMB
EXPOCODE,SECT_ID,STNNBR,CASTNO,SAMPNO,BTLNBR,BTLNBR_FLAG_W,DATE,TIME,LATITUDE,LONGITUDE,DEPTH,CTDPRS,CTDTMP,CTDSAL,CTDSAL_FLAG_W,SALNTY,SALNTY_FLAG_W,CTDOXY,CTDOXY_FLAG_W,OXYGEN,OXYGEN_FLAG_W,SILCAT,SILCAT_FLAG_W,NITRAT,NITRAT_FLAG_W,NITRIT,NITRIT_FLAG_W,PHSPHT,PHSPHT_FLAG_W,CFC-11,CFC-11_FLAG_W,CFC-12,CFC-12_FLAG_W,CFC113,CFC113_FLAG_W,TCARBN,TCARBN_FLAG_W,ALKALI,ALKALI_FLAG_W,PCO2,PCO2_FLAG_W,PCO2TMP,PH_SWS,PH_SWS_FLAG_W,PH_TMP,TRITUM,TRITUM_FLAG_W,TRITER,HELIUM,HELIUM_FLAG_W,DELHE3,DELHE3_FLAG_W,DELC13,DELC13_FLAG_W,DELC14,DELC14_FLAG_W,C14ERR,NEON,NEON_FLAG_W,NEONER,CCL4,CCL4_FLAG_W,DOC,DOC_FLAG_W,CTDRAW,CDOM325,CDOM325_FLAG_W,CDOM340,CDOM340_FLAG_W,CDOM380,CDOM380_FLAG_W,CDOM412,CDOM412_FLAG_W,CDOMSL,CDOMSL_FLAG_W,CDOMSN,CDOMSN_FLAG_W,THETA,HELIER,DELHER,CH3CL,CH3CL_FLAG_W,CH3BR,CH3BR_FLAG_W,CH3I,CH3I_FLAG_W
,,,,,,,,,,,METERS,DBAR,ITS-90,PSS-78,,PSS-78,,UMOL/KG,,UMOL/KG,,UMOL/KG,,UMOL/KG,,UMOL/KG,,UMOL/KG,,PMOL/KG,,PMOL/KG,,PMOL/KG,,UMOL/KG,,UMOL/KG,,UATM,,DEG C,,,DEG C,TU,,TU,NMOL/KG,,PERCNT,,/MILLE,,/MILLE,,/MILLE,NMOL/KG,,NMOL/KG,PMOL/KG,,UMOL/KG,,DBAR,1/M,,1/M,,1/M,,1/M,,1/NM,,1/NM,,DEG C,NMOL/KG,PERCNT,PMOL/KG,,PMOL/KG,,PMOL/KG,
 33RO200501,       A16S,     102,          1,         36,         36,2,20050216,       0211,   -11.5000,   -25.0002,       5113,     2.6,  27.4411,  36.7625,2,  36.7625,2,    200.2,2,   199.8,2,    1.76,2,    0.00,2,    0.00,2,    0.05,2,   1.634,2,   1.047,2,   0.126,2,  2060.8,6,  2409.2,6,  -999.0,9,   20.00,   8.0819,6,    25.00,-999.000,9, -999.00,-999.000,9,-999.000,9, -999.00,9,  -999.0,9,  -999.0,-999.000,9,-999.000,   1.372,4, -999.00,9,    2.60,-999.0000,9,-999.0000,9,-999.0000,9,-999.0000,9,-999.0000,9,-999.0000,9,  27.4405,     -999.0,-999.000,     55.958,          2,      0.687,          2,   2.909,          2
 33RO200501,       A16S,     102,          1,         35,         35,2,20050216,       0211,   -11.5000,   -25.0002,       5113,    24.6,  27.4347,  36.7604,2,  36.7605,2,    201.0,2,   200.3,2,    1.76,2,    0.00,2,    0.00,2,    0.05,2,-999.000,9,-999.000,9,-999.000,9,  -999.0,9,  -999.0,9,  -999.0,9,   20.00,-999.0000,9,    25.00,-999.000,9, -999.00,-999.000,9,-999.000,9, -999.00,9,  -999.0,9,  -999.0,-999.000,9,-999.000,-999.000,9, -999.00,9,   24.60,-999.0000,9,-999.0000,9,-999.0000,9,-999.0000,9,-999.0000,9,-999.0000,9,  27.4289,     -999.0,-999.000,     -999.0,          9,     -999.0,          9,-999.000,          9
 33RO200501,       A16S,     102,          1,         34,         34,2,20050216,       0211,   -11.5000,   -25.0002,       5113,    53.9,  26.4156,  36.7280,2,  36.7355,2,    209.0,2,   208.0,2,    1.76,2,    0.00,2,    0.00,2,    0.08,2,   1.740,2,   1.113,2,   0.133,2,  2061.9,2,  2407.8,2,  -999.0,9,   20.00,   8.0797,2,    25.00,-999.000,9, -999.00,-999.000,9,-999.000,9, -999.00,9,  -999.0,9,  -999.0,-999.000,9,-999.000,   1.305,4, -999.00,9,   53.90,-999.0000,9,-999.0000,9,-999.0000,9,-999.0000,9,-999.0000,9,-999.0000,9,  26.4034,     -999.0,-999.000,    130.017,          2,      0.776,          2,   4.608,          2
 33RO200501,       A16S,     102,          1,         33,         33,2,20050216,       0211,   -11.5000,   -25.0002,       5113,    84.3,  24.3262,  36.9172,2,  36.9129,2,    213.2,2,   215.4,2,    1.76,2,    0.00,2,    0.00,2,    0.10,2,-999.000,9,-999.000,9,-999.000,9,  -999.0,9,  -999.0,9,  -999.0,9,   20.00,-999.0000,9,    25.00,-999.000,9, -999.00,-999.000,9,-999.000,9, -999.00,9,  -999.0,9,  -999.0,-999.000,9,-999.000,-999.000,9, -999.00,9,   84.30,-999.0000,9,-999.0000,9,-999.0000,9,-999.0000,9,-999.0000,9,-999.0000,9,  24.3082,     -999.0,-999.000,     -999.0,          9,     -999.0,          9,-999.000,          9
 33RO200501,       A16S,     102,          1,         32,         32,2,20050216,       0211,   -11.5000,   -25.0002,       5113,   114.4,  22.6110,  36.7061,2,  36.6776,2,    201.4,2,   203.3,2,    2.05,2,    0.20,2,    0.02,2,    0.22,2,   2.004,2,   1.243,2,   0.135,2,  2098.6,2,  2405.4,2,  -999.0,9,   20.00,   8.0158,2,    25.00,-999.000,9, -999.00,-999.000,9,-999.000,9, -999.00,9,  -999.0,9,  -999.0,-999.000,9,-999.000,   0.803,4, -999.00,9,  114.40,-999.0000,9,-999.0000,9,-999.0000,9,-999.0000,9,-999.0000,9,-999.0000,9,  22.5878,     -999.0,-999.000,     73.646,          2,      0.484,          2,   2.005,          2
 33RO200501,       A16S,     102,          1,         31,         31,2,20050216,       0211,   -11.5000,   -25.0002,       5113,   163.8,  16.9945,  35.8269,2,  35.8135,2,    171.7,2,   172.2,2,    3.81,2,    8.59,2,    0.03,2,    0.69,2,-999.000,9,-999.000,9,-999.000,9,  -999.0,9,  -999.0,9,  -999.0,9,   20.00,-999.0000,9,    25.00,-999.000,9, -999.00,-999.000,9,-999.000,9, -999.00,9,  -999.0,9,  -999.0,-999.000,9,-999.000,-999.000,9, -999.00,9,  163.80,-999.0000,9,-999.0000,9,-999.0000,9,-999.0000,9,-999.0000,9,-999.0000,9,  16.9674,     -999.0,-999.000,     -999.0,          9,     -999.0,          9,-999.000,          9
 33RO200501,       A16S,     102,          1,         30,         30,2,20050216,       0211,   -11.5000,   -25.0002,       5113,   214.2,  13.3631,  35.3023,2,  35.2960,2,    139.4,2,   137.5,2,    7.13,2,   17.87,2,    0.01,2,    1.17,2,-999.000,9,-999.000,9,-999.000,9,  -999.0,9,  -999.0,9,  -999.0,9,   20.00,-999.0000,9,    25.00,-999.000,9, -999.00,-999.000,9,-999.000,9, -999.00,9,  -999.0,9,  -999.0,-999.000,9,-999.000,-999.000,9, -999.00,9,  214.20,-999.0000,9,-999.0000,9,-999.0000,9,-999.0000,9,-999.0000,9,-999.0000,9,  13.3330,     -999.0,-999.000,      2.546,          2,      0.292,          2,   0.044,          2
 33RO200501,       A16S,     102,          1,         29,         29,2,20050216,       0211,   -11.5000,   -25.0002,       5113,   263.9,  11.4618,  35.0869,2,  35.0760,2,     96.1,2,    95.1,2,   11.13,2,   26.18,2,    0.00,2,    1.63,2,-999.000,9,-999.000,9,-999.000,9,  2200.4,2,  2307.5,2,  -999.0,9,   20.00,   7.6734,2,    25.00,-999.000,9, -999.00,-999.000,9,-999.000,9, -999.00,9,  -999.0,9,  -999.0,-999.000,9,-999.000,-999.000,9, -999.00,9,  263.90,-999.0000,9,-999.0000,9,-999.0000,9,-999.0000,9,-999.0000,9,-999.0000,9,  11.4283,     -999.0,-999.000,     -999.0,          9,     -999.0,          9,-999.000,          9
 33RO200501,       A16S,     102,          1,         28,         28,2,20050216,       0211,   -11.5000,   -25.0002,       5113,   314.8,  10.1550,  34.9381,2,  34.9378,2,     85.5,2,    85.4,2,   13.68,2,   29.60,2,    0.00,2,    1.82,2,   0.981,2,   0.521,2,   0.011,2,  -999.0,9,  -999.0,9,  -999.0,9,   20.00,-999.0000,9,    25.00,-999.000,9, -999.00,-999.000,9,-999.000,9, -999.00,9,  -999.0,9,  -999.0,-999.000,9,-999.000,   0.236,4, -999.00,9,  314.80,-999.0000,9,-999.0000,9,-999.0000,9,-999.0000,9,-999.0000,9,-999.0000,9,  10.1179,     -999.0,-999.000,      4.529,          2,      0.400,          2,   0.012,          2
 33RO200501,       A16S,     102,          1,         27,         27,2,20050216,       0211,   -11.5000,   -25.0002,       5113,   365.4,   8.8686,  34.7977,2,  34.7958,2,     90.5,2,    91.7,2,   16.22,2,   31.65,2,    0.00,2,    1.94,2,-999.000,9,-999.000,9,-999.000,9,  -999.0,9,  -999.0,9,  -999.0,9,   20.00,-999.0000,9,    25.00,-999.000,9, -999.00,-999.000,9,-999.000,9, -999.00,9,  -999.0,9,  -999.0,-999.000,9,-999.000,-999.000,9, -999.00,9,  365.40,-999.0000,9,-999.0000,9,-999.0000,9,-999.0000,9,-999.0000,9,-999.0000,9,   8.8290,     -999.0,-999.000,     -999.0,          9,     -999.0,          9,-999.000,          9
 33RO200501,       A16S,     102,          1,         26,         26,2,20050216,       0211,   -11.5000,   -25.0002,       5113,   449.7,   7.4776,  34.6579,2,  34.6580,2,    100.9,2,   100.9,2,   19.83,2,   33.71,2,    0.00,2,    2.07,2,-999.000,9,-999.000,9,-999.000,9,  2223.0,2,  2291.6,2,  -999.0,9,   20.00,   7.5274,2,    25.00,-999.000,9, -999.00,-999.000,9,-999.000,9, -999.00,9,  -999.0,9,  -999.0,-999.000,9,-999.000,-999.000,9, -999.00,9,  449.70,-999.0000,9,-999.0000,9,-999.0000,9,-999.0000,9,-999.0000,9,-999.0000,9,   7.4333,     -999.0,-999.000,      3.203,          2,      0.287,          2,   0.020,          2
 33RO200501,       A16S,     102,          1,         25,         25,2,20050216,       0211,   -11.5000,   -25.0002,       5113,   549.5,   6.5415,  34.5763,2,  34.5769,2,    110.7,2,   111.4,2,   22.86,2,   34.59,2,    0.00,2,    2.15,2,-999.000,9,-999.000,9,-999.000,9,  -999.0,9,  -999.0,9,  -999.0,9,   20.00,-999.0000,9,    25.00,-999.000,9, -999.00,-999.000,9,-999.000,9, -999.00,9,  -999.0,9,  -999.0,-999.000,9,-999.000,-999.000,9, -999.00,9,  549.50,-999.0000,9,-999.0000,9,-999.0000,9,-999.0000,9,-999.0000,9,-999.0000,9,   6.4910,     -999.0,-999.000,     -999.0,          9,     -999.0,          9,-999.000,          9
 33RO200501,       A16S,     102,          1,         24,         24,2,20050216,       0211,   -11.5000,   -25.0002,       5113,   647.8,   5.5449,  34.5034,2,  34.5031,2,    128.3,2,   129.8,2,   26.97,2,   34.88,2,    0.00,2,    2.20,2,   0.201,2,   0.103,2,   0.000,2,  -999.0,9,  -999.0,9,  -999.0,9,   20.00,-999.0000,9,    25.00,-999.000,9, -999.00,-999.000,9,-999.000,9, -999.00,9,  -999.0,9,  -999.0,-999.000,9,-999.000,   0.276,4, -999.00,9,  647.80,-999.0000,9,-999.0000,9,-999.0000,9,-999.0000,9,-999.0000,9,-999.0000,9,   5.4899,     -999.0,-999.000,      6.226,          2,      0.531,          2,   0.021,          2
 33RO200501,       A16S,     102,          1,         23,         23,2,20050216,       0211,   -11.5000,   -25.0002,       5113,   749.8,   4.8888,  34.4842,2,  34.4830,2,    137.0,2,   138.3,2,   30.88,2,   35.08,2,    0.00,2,    2.24,2,-999.000,9,-999.000,9,-999.000,9,  2222.2,2,  2294.0,2,  -999.0,9,   20.00,   7.5382,2,    25.00,-999.000,9, -999.00,-999.000,9,-999.000,9, -999.00,9,  -999.0,9,  -999.0,-999.000,9,-999.000,-999.000,9, -999.00,9,  749.80,-999.0000,9,-999.0000,9,-999.0000,9,-999.0000,9,-999.0000,9,-999.0000,9,   4.8283,     -999.0,-999.000,     -999.0,          9,     -999.0,          9,-999.000,          9
 33RO200501,       A16S,     102,          1,         22,         22,2,20050216,       0211,   -11.5000,   -25.0002,       5113,   849.2,   4.5079,  34.4934,2,  34.4938,2,    147.3,2,   147.0,2,   33.42,2,   34.59,2,    0.00,2,    2.22,2,-999.000,9,-999.000,9,-999.000,9,  -999.0,9,  -999.0,9,  -999.0,9,   20.00,-999.0000,9,    25.00,-999.000,9, -999.00,-999.000,9,-999.000,9, -999.00,9,  -999.0,9,  -999.0,-999.000,9,-999.000,-999.000,9, -999.00,9,  849.20,-999.0000,9,-999.0000,9,-999.0000,9,-999.0000,9,-999.0000,9,-999.0000,9,   4.4413,     -999.0,-999.000,      1.737,          2,      0.367,          2,   0.015,          2
 33RO200501,       A16S,     102,          1,         21,         21,2,20050216,       0211,   -11.5000,   -25.0002,       5113,   949.4,   4.1228,  34.5309,2,  34.5298,2,    160.4,2,   160.8,2,   35.86,2,   33.32,2,    0.00,2,    2.15,2,-999.000,9,-999.000,9,-999.000,9,  2218.8,2,  2305.5,2,  -999.0,9,   20.00,   7.5685,2,    25.00,-999.000,9, -999.00,-999.000,9,-999.000,9, -999.00,9,  -999.0,9,  -999.0,-999.000,9,-999.000,-999.000,9, -999.00,9,  949.40,-999.0000,9,-999.0000,9,-999.0000,9,-999.0000,9,-999.0000,9,-999.0000,9,   4.0504,     -999.0,-999.000,     -999.0,          9,     -999.0,          9,-999.000,          9
 33RO200501,       A16S,     102,          1,         20,         20,2,20050216,       0211,   -11.5000,   -25.0002,       5113,  1050.1,   4.0397,  34.5977,2,  34.5952,2,    167.2,2,   166.6,2,   35.17,6,   32.15,6,    0.00,6,    2.09,6,-999.000,9,-999.000,9,-999.000,9,  -999.0,9,  -999.0,9,  -999.0,9,   20.00,-999.0000,9,    25.00,-999.000,9, -999.00,-999.000,9,-999.000,9, -999.00,9,  -999.0,9,  -999.0,-999.000,9,-999.000,-999.000,9, -999.00,9, 1050.10,-999.0000,9,-999.0000,9,-999.0000,9,-999.0000,9,-999.0000,9,-999.0000,9,   3.9593,     -999.0,-999.000,     -999.0,          9,     -999.0,          9,-999.000,          9
 33RO200501,       A16S,     102,          1,         19,         19,2,20050216,       0211,   -11.5000,   -25.0002,       5113,  1149.6,   4.0269,  34.6884,2,  34.6889,2,    175.8,2,   176.6,2,   33.02,2,   30.19,2,    0.00,2,    1.94,2,   0.019,2,   0.004,2,   0.009,2,  2210.9,2,  2311.6,2,  -999.0,9,   20.00,   7.6064,2,    25.00,-999.000,9, -999.00,-999.000,9,-999.000,9, -999.00,9,  -999.0,9,  -999.0,-999.000,9,-999.000,   0.042,4, -999.00,9, 1149.60,-999.0000,9,-999.0000,9,-999.0000,9,-999.0000,9,-999.0000,9,-999.0000,9,   3.9380,     -999.0,-999.000,      0.603,          2,      0.062,          2,   0.014,          2
 33RO200501,       A16S,     102,          1,         18,         18,2,20050216,       0211,   -11.5000,   -25.0002,       5113,  1300.3,   4.0788,  34.7917,2,  34.7911,2,    190.9,2,   191.3,2,   29.11,2,   27.45,2,    0.00,2,    1.76,2,-999.000,9,-999.000,9,-999.000,9,  -999.0,9,  -999.0,9,  -999.0,9,   20.00,-999.0000,9,    25.00,-999.000,9, -999.00,-999.000,9,-999.000,9, -999.00,9,  -999.0,9,  -999.0,-999.000,9,-999.000,-999.000,9, -999.00,9, 1300.30,-999.0000,9,-999.0000,9,-999.0000,9,-999.0000,9,-999.0000,9,-999.0000,9,   3.9761,     -999.0,-999.000,     -999.0,          9,     -999.0,          9,-999.000,          9
 33RO200501,       A16S,     102,          1,         17,         17,2,20050216,       0211,   -11.5000,   -25.0002,       5113,  1499.4,   4.0473,  34.9063,2,  34.9085,2,    217.8,2,   216.9,2,   23.74,2,   23.44,2,    0.00,2,    1.48,2,-999.000,9,-999.000,9,-999.000,9,  -999.0,9,  -999.0,9,  -999.0,9,   20.00,-999.0000,9,    25.00,-999.000,9, -999.00,-999.000,9,-999.000,9, -999.00,9,  -999.0,9,  -999.0,-999.000,9,-999.000,-999.000,9, -999.00,9, 1499.40,-999.0000,9,-999.0000,9,-999.0000,9,-999.0000,9,-999.0000,9,-999.0000,9,   3.9268,     -999.0,-999.000,     -999.0,          9,     -999.0,          9,-999.000,          9
 33RO200501,       A16S,     102,          1,         16,         16,2,20050216,       0211,   -11.5000,   -25.0002,       5113,  1700.7,   3.7972,  34.9517,2,  34.9510,2,    237.8,2,   238.0,2,   21.88,2,   21.00,2,    0.00,2,    1.32,2,   0.068,2,   0.034,2,   0.000,2,  2172.1,2,  2312.7,2,  -999.0,9,   20.00,   7.7183,2,    25.00,-999.000,9, -999.00,-999.000,9,-999.000,9, -999.00,9,  -999.0,9,  -999.0,-999.000,9,-999.000,   0.199,4, -999.00,9, 1700.70,-999.0000,9,-999.0000,9,-999.0000,9,-999.0000,9,-999.0000,9,-999.0000,9,   3.6611,     -999.0,-999.000,      4.432,          2,      0.000,          2,   0.016,          2
 33RO200501,       A16S,     102,          1,         15,         15,2,20050216,       0211,   -11.5000,   -25.0002,       5113,  1901.2,   3.5489,  34.9602,2,  34.9626,2,    247.7,2,   247.4,2,   22.27,2,   20.02,2,    0.00,2,    1.26,2,-999.000,9,-999.000,9,-999.000,9,  -999.0,9,  -999.0,9,  -999.0,9,   20.00,-999.0000,9,    25.00,-999.000,9, -999.00,-999.000,9,-999.000,9, -999.00,9,  -999.0,9,  -999.0,-999.000,9,-999.000,-999.000,9, -999.00,9, 1901.20,-999.0000,9,-999.0000,9,-999.0000,9,-999.0000,9,-999.0000,9,-999.0000,9,   3.3974,     -999.0,-999.000,     -999.0,          9,     -999.0,          9,-999.000,          9
 33RO200501,       A16S,     102,          1,         14,         14,2,20050216,       0211,   -11.5000,   -25.0002,       5113,  2098.9,   3.3049,  34.9520,2,  34.9514,2,    250.1,2,   250.0,2,   24.91,2,   19.93,2,    0.00,2,    1.27,2,-999.000,9,-999.000,9,-999.000,9,  2170.2,2,  2316.7,2,  -999.0,9,   20.00,   7.7320,2,    25.00,-999.000,9, -999.00,-999.000,9,-999.000,9, -999.00,9,  -999.0,9,  -999.0,-999.000,9,-999.000,-999.000,9, -999.00,9, 2098.90,-999.0000,9,-999.0000,9,-999.0000,9,-999.0000,9,-999.0000,9,-999.0000,9,   3.1385,     -999.0,-999.000,     -999.0,          9,     -999.0,          9,-999.000,          9
 33RO200501,       A16S,     102,          1,         13,         13,2,20050216,       0211,   -11.5000,   -25.0002,       5113,  2298.7,   3.0997,  34.9391,2,  34.9380,2,    249.1,2,   249.2,2,   28.52,2,   20.42,2,    0.00,2,    1.31,2,   0.035,2,   0.018,2,   0.000,2,  -999.0,9,  -999.0,9,  -999.0,9,   20.00,-999.0000,9,    25.00,-999.000,9, -999.00,-999.000,9,-999.000,9, -999.00,9,  -999.0,9,  -999.0,-999.000,9,-999.000,   0.127,4, -999.00,9, 2298.70,-999.0000,9,-999.0000,9,-999.0000,9,-999.0000,9,-999.0000,9,-999.0000,9,   2.9176,     -999.0,-999.000,      5.588,          2,      0.192,          2,   0.036,          2
 33RO200501,       A16S,     102,          1,         12,         12,2,20050216,       0211,   -11.5000,   -25.0002,       5113,  2499.7,   2.9421,  34.9291,2,  34.9284,2,    248.1,2,   248.0,2,   31.75,2,   20.71,2,    0.00,2,    1.34,2,-999.000,9,-999.000,9,-999.000,9,  -999.0,9,  -999.0,9,  -999.0,9,   20.00,-999.0000,9,    25.00,-999.000,9, -999.00,-999.000,9,-999.000,9, -999.00,9,  -999.0,9,  -999.0,-999.000,9,-999.000,-999.000,9, -999.00,9, 2499.70,-999.0000,9,-999.0000,9,-999.0000,9,-999.0000,9,-999.0000,9,-999.0000,9,   2.7433,     -999.0,-999.000,     -999.0,          9,     -999.0,          9,-999.000,          9
 33RO200501,       A16S,     102,          1,         11,         11,2,20050216,       0211,   -11.5000,   -25.0002,       5113,  2698.5,   2.8458,  34.9237,2,  34.9241,2,    248.4,2,   252.9,3,   33.41,2,   20.81,2,    0.00,2,    1.35,2,   0.027,2,   0.018,2,   0.000,2,  2178.9,2,  2328.3,2,  -999.0,9,   20.00,   7.7291,2,    25.00,-999.000,9, -999.00,-999.000,9,-999.000,9, -999.00,9,  -999.0,9,  -999.0,-999.000,9,-999.000,   0.105,4, -999.00,9, 2698.50,-999.0000,9,-999.0000,9,-999.0000,9,-999.0000,9,-999.0000,9,-999.0000,9,   2.6292,     -999.0,-999.000,      3.133,          2,      0.185,          2,   0.018,          2
 33RO200501,       A16S,     102,          1,          6,          6,2,20050216,       0211,   -11.5000,   -25.0002,       5113,  2948.1,   2.7471,  34.9182,2,  34.9174,2,    249.0,2,   248.8,2,   35.07,2,   20.90,2,    0.00,2,    1.35,2,   0.027,6,   0.016,6,   0.000,6,  -999.0,9,  -999.0,9,  -999.0,9,   20.00,-999.0000,9,    25.00,-999.000,9, -999.00,-999.000,9,-999.000,9, -999.00,9,  -999.0,9,  -999.0,-999.000,9,-999.000,   0.101,4, -999.00,9, 2948.10,-999.0000,9,-999.0000,9,-999.0000,9,-999.0000,9,-999.0000,9,-999.0000,9,   2.5073,     -999.0,-999.000,      0.000,          2,      0.007,          2,   0.008,          2
 33RO200501,       A16S,     102,          1,          8,          8,5,20050216,       0211,   -11.5000,   -25.0002,       5113,  2948.3,   2.7475,  34.9182,2,  34.9176,2,    249.0,2,   248.8,2, -999.00,9, -999.00,9, -999.00,9, -999.00,9,-999.000,9,-999.000,9,-999.000,9,  -999.0,9,  -999.0,9,  -999.0,9,   20.00,-999.0000,9,    25.00,-999.000,9, -999.00,-999.000,9,-999.000,9, -999.00,9,  -999.0,9,  -999.0,-999.000,9,-999.000,-999.000,9, -999.00,9, 2948.30,-999.0000,9,-999.0000,9,-999.0000,9,-999.0000,9,-999.0000,9,-999.0000,9,   2.5077,     -999.0,-999.000,     -999.0,          9,     -999.0,          9,-999.000,          9
 33RO200501,       A16S,     102,          1,          7,          7,5,20050216,       0211,   -11.5000,   -25.0002,       5113,  2948.4,   2.7471,  34.9181,2,  34.9189,2,   -999.0,9,  -999.0,9, -999.00,9, -999.00,9, -999.00,9, -999.00,9,-999.000,9,-999.000,9,-999.000,9,  -999.0,9,  -999.0,9,  -999.0,9,   20.00,-999.0000,9,    25.00,-999.000,9, -999.00,-999.000,9,-999.000,9, -999.00,9,  -999.0,9,  -999.0,-999.000,9,-999.000,-999.000,9, -999.00,9, 2948.40,-999.0000,9,-999.0000,9,-999.0000,9,-999.0000,9,-999.0000,9,-999.0000,9,   2.5072,     -999.0,-999.000,     -999.0,          9,     -999.0,          9,-999.000,          9