BOTTLE,20220818CCHSIOAMB
EXPOCODE,SECT_ID,STNNBR,CASTNO,SAMPNO,BTLNBR,BTLNBR_FLAG_W,DATE,TIME,LATITUDE,LONGITUDE,DEPTH,CTDPRS,CTDTMP,CTDSAL,CTDSAL_FLAG_W,SALNTY,SALNTY_FLAG_W,CTDOXY,CTDOXY_FLAG_W,OXYGEN,OXYGEN_FLAG_W,SILCAT,SILCAT_FLAG_W,NITRAT,NITRAT_FLAG_W,NITRIT,NITRIT_FLAG_W,PHSPHT,PHSPHT_FLAG_W,CFC-11,CFC-11_FLAG_W,CFC-12,CFC-12_FLAG_W,CFC113,CFC113_FLAG_W,TCARBN,TCARBN_FLAG_W,ALKALI,ALKALI_FLAG_W,PCO2,PCO2_FLAG_W,PCO2TMP,PH_SWS,PH_SWS_FLAG_W,PH_TMP,TRITUM,TRITUM_FLAG_W,TRITER,HELIUM,HELIUM_FLAG_W,DELHE3,DELHE3_FLAG_W,DELC13,DELC13_FLAG_W,DELC14,DELC14_FLAG_W,C14ERR,NEON,NEON_FLAG_W,NEONER,CCL4,CCL4_FLAG_W,DOC,DOC_FLAG_W,CTDRAW,CDOM325,CDOM325_FLAG_W,CDOM340,CDOM340_FLAG_W,CDOM380,CDOM380_FLAG_W,CDOM412,CDOM412_FLAG_W,CDOMSL,CDOMSL_FLAG_W,CDOMSN,CDOMSN_FLAG_W,THETA,HELIER,DELHER,CH3CL,CH3CL_FLAG_W,CH3BR,CH3BR_FLAG_W,CH3I,CH3I_FLAG_W
,,,,,,,,,,,METERS,DBAR,ITS-90,PSS-78,,PSS-78,,UMOL/KG,,UMOL/KG,,UMOL/KG,,UMOL/KG,,UMOL/KG,,UMOL/KG,,PMOL/KG,,PMOL/KG,,PMOL/KG,,UMOL/KG,,UMOL/KG,,UATM,,DEG C,,,DEG C,TU,,TU,NMOL/KG,,PERCNT,,/MILLE,,/MILLE,,/MILLE,NMOL/KG,,NMOL/KG,PMOL/KG,,UMOL/KG,,DBAR,1/M,,1/M,,1/M,,1/M,,1/NM,,1/NM,,DEG C,NMOL/KG,PERCNT,PMOL/KG,,PMOL/KG,,PMOL/KG,
 33RO200501,       A16S,     119,          1,         36,         36,2,20050221,       0323,    -3.0000,   -25.0005,       5387,     2.7,  28.0188,  36.1531,2,  36.1537,2,    198.5,2,   198.6,2,    5.68,2,    0.01,2,    0.00,2, -999.00,5,   1.594,6,   1.039,6,   0.121,6,  2035.2,6,  2367.8,2,  -999.0,9,   20.00,   8.0671,2,    25.00,-999.000,9, -999.00,-999.000,9,-999.000,9, -999.00,9,  -999.0,9,  -999.0,-999.000,9,-999.000,   1.289,4,   70.96,2,    2.70,   0.0760,2,   0.0520,2,   0.0220,2,   0.0130,2,   0.0229,2,   0.0236,2,  28.0182,     -999.0,-999.000,     -999.0,          9,     -999.0,          9,-999.000,          9
 33RO200501,       A16S,     119,          1,         35,         35,2,20050221,       0323,    -3.0000,   -25.0005,       5387,    31.3,  27.9005,  36.1554,2,  36.1568,2,    199.1,2,   201.0,2,    5.80,2,    0.04,2,    0.00,2, -999.00,5,   1.597,2,   1.031,2,   0.132,2,  2036.8,2,  2369.0,6,  -999.0,9,   20.00,   8.0715,2,    25.00,-999.000,9, -999.00,-999.000,9,-999.000,9, -999.00,9,  -999.0,9,  -999.0,-999.000,9,-999.000,   1.283,4,   71.11,2,   31.30,-999.0000,9,-999.0000,9,-999.0000,9,-999.0000,9,-999.0000,9,-999.0000,9,  27.8931,     -999.0,-999.000,     -999.0,          9,     -999.0,          9,-999.000,          9
 33RO200501,       A16S,     119,          1,         34,         34,2,20050221,       0323,    -3.0000,   -25.0005,       5387,    51.1,  25.9725,  36.0951,2,  36.0832,2,    196.5,2,   193.5,2,    6.63,2,    1.04,2,    0.04,2, -999.00,5,   1.724,2,   1.095,2,   0.110,2,  2067.4,2,  2366.3,2,  -999.0,9,   20.00,   8.0210,2,    25.00,-999.000,9, -999.00,-999.000,9,-999.000,9, -999.00,9,  -999.0,9,  -999.0,-999.000,9,-999.000,   0.983,4,   69.78,2,   51.10,   0.1740,2,   0.1270,2,   0.0590,2,   0.0360,2,   0.0182,2,   0.0190,2,  25.9611,     -999.0,-999.000,     -999.0,          9,     -999.0,          9,-999.000,          9
 33RO200501,       A16S,     119,          1,         33,         33,2,20050221,       0323,    -3.0000,   -25.0005,       5387,    69.3,  18.8894,  35.9134,2,  35.8650,2,    120.2,2,   122.3,2,    9.67,2,   13.65,2,    0.37,2, -999.00,5,   1.921,2,   1.126,2,   0.073,2,  2167.8,2,  2349.8,2,  -999.0,9,   20.00,   7.8089,2,    25.00,-999.000,9, -999.00,-999.000,9,-999.000,9, -999.00,9,  -999.0,9,  -999.0,-999.000,9,-999.000,   0.419,4,   58.13,2,   69.30,-999.0000,9,-999.0000,9,-999.0000,9,-999.0000,9,-999.0000,9,-999.0000,9,  18.8771,     -999.0,-999.000,     -999.0,          9,     -999.0,          9,-999.000,          9
 33RO200501,       A16S,     119,          1,         32,         32,2,20050221,       0323,    -3.0000,   -25.0005,       5387,    87.0,  15.2057,  35.5265,2,  35.5272,2,     91.3,2,    94.0,2,   12.17,2,   20.82,2,    0.16,2, -999.00,5,   1.920,2,   1.079,2,   0.038,2,  2191.3,2,  2331.5,2,  -999.0,9,   20.00,   7.7007,2,    25.00,-999.000,9, -999.00,-999.000,9,-999.000,9, -999.00,9,  -999.0,9,  -999.0,-999.000,9,-999.000,   0.307,4,   55.54,2,   87.00,   0.1900,2,   0.1380,2,   0.0740,2,   0.0530,2,   0.0140,2,   0.0155,3,  15.1924,     -999.0,-999.000,     -999.0,          9,     -999.0,          9,-999.000,          9
 33RO200501,       A16S,     119,          1,         31,         31,2,20050221,       0323,    -3.0000,   -25.0005,       5387,   115.5,  13.6843,  35.3644,2,  35.3628,2,    107.9,2,   102.1,2,   13.48,2,   21.97,2,    0.02,2, -999.00,5,   1.873,2,   1.030,2,   0.022,2,  2191.0,2,  2324.4,2,  -999.0,9,   20.00,   7.6948,2,    25.00,-999.000,9, -999.00,-999.000,9,-999.000,9, -999.00,9,  -999.0,9,  -999.0,-999.000,9,-999.000,   0.308,4,   53.76,2,  115.50,-999.0000,9,-999.0000,9,-999.0000,9,-999.0000,9,-999.0000,9,-999.0000,9,  13.6679,     -999.0,-999.000,     -999.0,          9,     -999.0,          9,-999.000,          9
 33RO200501,       A16S,     119,          1,         30,         30,2,20050221,       0323,    -3.0000,   -25.0005,       5387,   165.2,  13.1403,  35.2921,2,  35.2895,2,     94.9,2,    98.5,2,   14.35,2,   23.23,2,    0.01,2, -999.00,5,   1.753,2,   0.952,2,   0.022,2,  2193.7,2,  2305.6,3,  -999.0,9,   20.00,   7.6758,2,    25.00,-999.000,9, -999.00,-999.000,9,-999.000,9, -999.00,9,  -999.0,9,  -999.0,-999.000,9,-999.000,   0.290,4,   50.91,2,  165.20,   0.1390,2,   0.0990,2,   0.0510,2,   0.0370,2,   0.0147,2,   0.0169,2,  13.1174,     -999.0,-999.000,     -999.0,          9,     -999.0,          9,-999.000,          9
 33RO200501,       A16S,     119,          1,         29,         29,2,20050221,       0323,    -3.0000,   -25.0005,       5387,   213.9,  12.6897,  35.2332,2,  35.2323,2,     97.5,2,    99.9,2,   14.93,2,   23.79,2,    0.00,2, -999.00,5,   1.696,2,   0.918,2,   0.014,2,  2195.8,2,  2317.7,2,  -999.0,9,   20.00,   7.6612,2,    25.00,-999.000,9, -999.00,-999.000,9,-999.000,9, -999.00,9,  -999.0,9,  -999.0,-999.000,9,-999.000,   0.289,4,   49.33,2,  213.90,-999.0000,9,-999.0000,9,-999.0000,9,-999.0000,9,-999.0000,9,-999.0000,9,  12.6606,     -999.0,-999.000,     -999.0,          9,     -999.0,          9,-999.000,          9
 33RO200501,       A16S,     119,          1,         28,         28,2,20050221,       0323,    -3.0000,   -25.0005,       5387,   261.0,  12.0345,  35.1511,2,  35.1496,2,     92.0,2,    86.2,2,   16.35,2,   26.28,2,    0.00,2, -999.00,5,   1.501,2,   0.820,2,   0.015,2,  2206.3,2,  2312.2,2,  -999.0,9,   20.00,   7.6179,2,    25.00,-999.000,9, -999.00,-999.000,9,-999.000,9, -999.00,9,  -999.0,9,  -999.0,-999.000,9,-999.000,   0.262,4,   46.97,2,  261.00,   0.1520,2,   0.1090,2,   0.0590,2,   0.0440,2,   0.0136,2,   0.0155,3,  12.0002,     -999.0,-999.000,     -999.0,          9,     -999.0,          9,-999.000,          9
 33RO200501,       A16S,     119,          1,         27,         27,2,20050221,       0323,    -3.0000,   -25.0005,       5387,   313.8,  11.1596,  35.0493,2,  35.0472,2,     78.4,2,    78.5,2,   18.06,2,   28.71,2,    0.00,2, -999.00,5,-999.000,9,-999.000,9,-999.000,9,  2216.2,2,  2305.5,2,  -999.0,9,   20.00,-999.0000,5,    25.00,-999.000,9, -999.00,-999.000,9,-999.000,9, -999.00,9,  -999.0,9,  -999.0,-999.000,9,-999.000,-999.000,9,   46.15,2,  313.80,-999.0000,9,-999.0000,9,-999.0000,9,-999.0000,9,-999.0000,9,-999.0000,9,  11.1203,     -999.0,-999.000,     -999.0,          9,     -999.0,          9,-999.000,          9
 33RO200501,       A16S,     119,          1,         26,         26,2,20050221,       0323,    -3.0000,   -25.0005,       5387,   357.9,  10.5516,  34.9684,2,  34.9679,2,    100.0,2,   100.0,2,   18.47,2,   27.60,2,    0.00,2, -999.00,5,   1.344,2,   0.710,2,   0.022,2,  2205.5,2,  2305.3,2,  -999.0,9,   20.00,   7.6039,2,    25.00,-999.000,9, -999.00,-999.000,9,-999.000,9, -999.00,9,  -999.0,9,  -999.0,-999.000,9,-999.000,   0.359,4,   45.20,2,  357.90,   0.1630,2,   0.1180,2,   0.0640,2,   0.0470,2,   0.0135,2,   0.0152,2,  10.5083,     -999.0,-999.000,     -999.0,          9,     -999.0,          9,-999.000,          9
 33RO200501,       A16S,     119,          1,         25,         25,2,20050221,       0323,    -3.0000,   -25.0005,       5387,   449.2,   8.6253,  34.7661,2,  34.7669,2,     88.5,2,    90.1,2,   22.91,2,   32.54,2,    0.00,2, -999.00,5,   0.714,2,   0.377,2,   0.013,2,  2223.3,2,  2294.5,2,  -999.0,9,   20.00,   7.5316,2,    25.00,-999.000,9, -999.00,-999.000,9,-999.000,9, -999.00,9,  -999.0,9,  -999.0,-999.000,9,-999.000,   0.299,4,   43.64,2,  449.20,-999.0000,9,-999.0000,9,-999.0000,9,-999.0000,9,-999.0000,9,-999.0000,9,   8.5772,     -999.0,-999.000,     -999.0,          9,     -999.0,          9,-999.000,          9
 33RO200501,       A16S,     119,          1,         24,         24,2,20050221,       0323,    -3.0000,   -25.0005,       5387,   539.9,   6.9980,  34.6184,2,  34.6148,2,    100.5,2,   102.0,2,   27.44,2,   34.93,2,    0.00,2, -999.00,5,   0.373,2,   0.210,2,   0.007,2,  2226.3,2,  2293.2,2,  -999.0,9,   20.00,   7.5127,2,    25.00,-999.000,9, -999.00,-999.000,9,-999.000,9, -999.00,9,  -999.0,9,  -999.0,-999.000,9,-999.000,   0.288,4,   42.00,2,  539.90,   0.1600,2,   0.1140,2,   0.0620,2,   0.0460,2,   0.0133,3,   0.0152,3,   6.9465,     -999.0,-999.000,     -999.0,          9,     -999.0,          9,-999.000,          9
 33RO200501,       A16S,     119,          1,         23,         23,2,20050221,       0323,    -3.0000,   -25.0005,       5387,   649.3,   5.4137,  34.4957,2,  34.4948,2,    134.6,2,   136.8,2,   33.26,2,   34.42,2,    0.00,2, -999.00,5,   0.287,2,   0.149,2,   0.007,2,  2220.0,2,  2293.0,2,  -999.0,9,   20.00,   7.5410,2,    25.00,-999.000,9, -999.00,-999.000,9,-999.000,9, -999.00,9,  -999.0,9,  -999.0,-999.000,9,-999.000,   0.354,4,   41.30,2,  649.30,-999.0000,9,-999.0000,9,-999.0000,9,-999.0000,9,-999.0000,9,-999.0000,9,   5.3592,     -999.0,-999.000,     -999.0,          9,     -999.0,          9,-999.000,          9
 33RO200501,       A16S,     119,          1,         22,         22,2,20050221,       0323,    -3.0000,   -25.0005,       5387,   748.6,   4.7920,  34.4781,2,  34.4778,2,    151.5,2,   151.5,2,   36.96,2,   34.05,2,    0.00,2, -999.00,5,   0.242,2,   0.124,2,   0.009,2,  2217.1,2,  2296.0,2,  -999.0,9,   20.00,   7.5474,2,    25.00,-999.000,9, -999.00,-999.000,9,-999.000,9, -999.00,9,  -999.0,9,  -999.0,-999.000,9,-999.000,   0.347,4,   40.13,2,  748.60,   0.1270,2,   0.0880,2,   0.0480,2,   0.0350,2,   0.0141,2,   0.0164,2,   4.7322,     -999.0,-999.000,     -999.0,          9,     -999.0,          9,-999.000,          9
 33RO200501,       A16S,     119,          1,         21,         21,2,20050221,       0323,    -3.0000,   -25.0005,       5387,   850.2,   4.4898,  34.5012,2,  34.5003,2,    154.5,2,   155.7,2,   39.09,2,   33.67,2,    0.00,2, -999.00,5,-999.000,9,-999.000,9,-999.000,9,  2218.1,2,  2298.9,2,  -999.0,9,   20.00,   7.5604,2,    25.00,-999.000,9, -999.00,-999.000,9,-999.000,9, -999.00,9,  -999.0,9,  -999.0,-999.000,9,-999.000,-999.000,9,   40.04,2,  850.20,-999.0000,9,-999.0000,9,-999.0000,9,-999.0000,9,-999.0000,9,-999.0000,9,   4.4232,     -999.0,-999.000,     -999.0,          9,     -999.0,          9,-999.000,          9
 33RO200501,       A16S,     119,          1,         20,         20,2,20050221,       0323,    -3.0000,   -25.0005,       5387,   945.8,   4.3525,  34.5604,2,  34.5589,2,    159.2,2,   159.3,2,   39.76,2,   32.90,2,    0.00,2, -999.00,5,   0.082,2,   0.041,2,   0.000,2,  2217.5,6,  2307.1,2,  -999.0,9,   20.00,   7.5691,2,    25.00,-999.000,9, -999.00,-999.000,9,-999.000,9, -999.00,9,  -999.0,9,  -999.0,-999.000,9,-999.000,   0.165,4,   40.67,2,  945.80,   0.1550,2,   0.1110,2,   0.0620,2,   0.0450,2,   0.0132,2,   0.0150,3,   4.2787,     -999.0,-999.000,     -999.0,          9,     -999.0,          9,-999.000,          9
 33RO200501,       A16S,     119,          1,         19,         19,2,20050221,       0323,    -3.0000,   -25.0005,       5387,  1048.8,   4.3898,  34.6686,2,  34.6709,2,    164.2,2,   163.0,2,   37.46,2,   31.12,2,    0.00,2, -999.00,5,-999.000,9,-999.000,9,-999.000,9,  2215.5,2,  2308.6,6,  -999.0,9,   20.00,   7.5990,2,    25.00,-999.000,9, -999.00,-999.000,9,-999.000,9, -999.00,9,  -999.0,9,  -999.0,-999.000,9,-999.000,-999.000,9,   41.29,2, 1048.80,-999.0000,9,-999.0000,9,-999.0000,9,-999.0000,9,-999.0000,9,-999.0000,9,   4.3066,     -999.0,-999.000,     -999.0,          9,     -999.0,          9,-999.000,          9
 33RO200501,       A16S,     119,          1,         18,         18,2,20050221,       0323,    -3.0000,   -25.0005,       5387,  1150.1,   4.4980,  34.7712,2,  34.7713,2,    175.8,2,   175.2,2,   34.07,2,   28.77,2,    0.00,2, -999.00,5,   0.039,2,   0.018,2,   0.000,2,  2206.3,2,  2313.4,2,  -999.0,9,   20.00,   7.6172,2,    25.00,-999.000,9, -999.00,-999.000,9,-999.000,9, -999.00,9,  -999.0,9,  -999.0,-999.000,9,-999.000,   0.104,4,   40.80,2, 1150.10,-999.0000,9,-999.0000,9,-999.0000,9,-999.0000,9,-999.0000,9,-999.0000,9,   4.4048,     -999.0,-999.000,     -999.0,          9,     -999.0,          9,-999.000,          9
 33RO200501,       A16S,     119,          1,         17,         17,2,20050221,       0323,    -3.0000,   -25.0005,       5387,  1300.5,   4.4752,  34.8642,2,  34.8655,2,    194.7,2,   193.9,2,   30.71,2,   25.90,2,    0.00,2, -999.00,5,   0.080,2,   0.044,2,   0.000,2,  2195.1,2,  2314.4,2,  -999.0,9,   20.00,   7.6536,2,    25.00,-999.000,9, -999.00,-999.000,9,-999.000,9, -999.00,9,  -999.0,9,  -999.0,-999.000,9,-999.000,   0.172,4,   40.50,2, 1300.50,-999.0000,9,-999.0000,9,-999.0000,9,-999.0000,9,-999.0000,9,-999.0000,9,   4.3685,     -999.0,-999.000,     -999.0,          9,     -999.0,          9,-999.000,          9
 33RO200501,       A16S,     119,          1,         16,         16,2,20050221,       0323,    -3.0000,   -25.0005,       5387,  1500.4,   4.2269,  34.9677,2,  34.9674,2,    231.6,2,   230.6,2,   25.46,2,   21.09,2,    0.00,2, -999.00,5,-999.000,9,-999.000,9,-999.000,9,  2175.0,2,  2314.9,2,  -999.0,9,   20.00,   7.7098,2,    25.00,-999.000,9, -999.00,-999.000,9,-999.000,9, -999.00,9,  -999.0,9,  -999.0,-999.000,9,-999.000,-999.000,9,   40.04,2, 1500.40,-999.0000,9,-999.0000,9,-999.0000,9,-999.0000,9,-999.0000,9,-999.0000,9,   4.1041,     -999.0,-999.000,     -999.0,          9,     -999.0,          9,-999.000,          9
 33RO200501,       A16S,     119,          1,         15,         15,2,20050221,       0323,    -3.0000,   -25.0005,       5387,  1697.8,   3.9149,  34.9759,2,  34.9763,2,    244.1,2,   243.2,2,   25.44,2,   19.85,2,    0.00,2, -999.00,5,   0.221,2,   0.112,2,   0.010,2,  2169.1,2,  2315.1,2,  -999.0,9,   20.00,   7.7234,2,    25.00,-999.000,9, -999.00,-999.000,9,-999.000,9, -999.00,9,  -999.0,9,  -999.0,-999.000,9,-999.000,   0.460,4, -999.00,9, 1697.80,-999.0000,9,-999.0000,9,-999.0000,9,-999.0000,9,-999.0000,9,-999.0000,9,   3.7774,     -999.0,-999.000,     -999.0,          9,     -999.0,          9,-999.000,          9
 33RO200501,       A16S,     119,          1,         14,         14,2,20050221,       0323,    -3.0000,   -25.0005,       5387,  1899.5,   3.5889,  34.9675,2,  34.9686,2,    248.2,2,   247.2,2,   27.98,2,   19.68,2,    0.00,2, -999.00,5,   0.147,2,   0.076,2,   0.008,2,  2170.4,2,  2318.3,2,  -999.0,9,   20.00,   7.7295,2,    25.00,-999.000,9, -999.00,-999.000,9,-999.000,9, -999.00,9,  -999.0,9,  -999.0,-999.000,9,-999.000,   0.352,4,   40.24,2, 1899.50,   0.1650,2,   0.1210,2,   0.0580,2,   0.0380,2,   0.0168,2,   0.0182,2,   3.4370,     -999.0,-999.000,     -999.0,          9,     -999.0,          9,-999.000,          9
 33RO200501,       A16S,     119,          1,         13,         13,2,20050221,       0323,    -3.0000,   -25.0005,       5387,  2099.4,   3.3235,  34.9549,2,  34.9544,2,    248.8,2,   250.0,2,   28.58,6,   19.97,6,    0.00,6, -999.00,5,   0.077,2,   0.042,2,   0.004,2,  2172.8,2,  2322.1,2,  -999.0,9,   20.00,   7.7297,2,    25.00,-999.000,9, -999.00,-999.000,9,-999.000,9, -999.00,9,  -999.0,9,  -999.0,-999.000,9,-999.000,   0.228,4, -999.00,9, 2099.40,-999.0000,9,-999.0000,9,-999.0000,9,-999.0000,9,-999.0000,9,-999.0000,9,   3.1567,     -999.0,-999.000,     -999.0,          9,     -999.0,          9,-999.000,          9
 33RO200501,       A16S,     119,          1,         12,         12,2,20050221,       0323,    -3.0000,   -25.0005,       5387,  2299.4,   3.0985,  34.9382,2,  34.9389,2,    244.8,2,   245.3,2,   34.03,6,   20.70,6,    0.00,6, -999.00,5,-999.000,9,-999.000,9,-999.000,9,  2177.5,2,  2326.1,2,  -999.0,9,   20.00,   7.7282,2,    25.00,-999.000,9, -999.00,-999.000,9,-999.000,9, -999.00,9,  -999.0,9,  -999.0,-999.000,9,-999.000,-999.000,9,   40.58,2, 2299.40,-999.0000,9,-999.0000,9,-999.0000,9,-999.0000,9,-999.0000,9,-999.0000,9,   2.9164,     -999.0,-999.000,     -999.0,          9,     -999.0,          9,-999.000,          9
 33RO200501,       A16S,     119,          1,         11,         11,2,20050221,       0323,    -3.0000,   -25.0005,       5387,  2498.3,   2.9334,  34.9284,2,  34.9291,2,    243.8,2,   244.6,2,   37.27,6,   20.98,6,    0.00,6, -999.00,5,   0.022,2,   0.010,2,   0.000,2,  2182.8,2,  2326.3,2,  -999.0,9,   20.00,   7.7345,2,    25.00,-999.000,9, -999.00,-999.000,9,-999.000,9, -999.00,9,  -999.0,9,  -999.0,-999.000,9,-999.000,   0.093,4, -999.00,9, 2498.30,-999.0000,9,-999.0000,9,-999.0000,9,-999.0000,9,-999.0000,9,-999.0000,9,   2.7349,     -999.0,-999.000,     -999.0,          9,     -999.0,          9,-999.000,          9
 33RO200501,       A16S,     119,          1,         10,         10,2,20050221,       0323,    -3.0000,   -25.0005,       5387,  2699.4,   2.7906,  34.9178,2,  34.9177,2,    242.4,2,   242.9,2,   40.87,6,   21.44,6,    0.00,6, -999.00,5,   0.012,2,   0.008,2,   0.000,2,  2188.0,2,  2333.1,2,  -999.0,9,   20.00,   7.7194,2,    25.00,-999.000,9, -999.00,-999.000,9,-999.000,9, -999.00,9,  -999.0,9,  -999.0,-999.000,9,-999.000,   0.062,4,   40.18,2, 2699.40,-999.0000,9,-999.0000,9,-999.0000,9,-999.0000,9,-999.0000,9,-999.0000,9,   2.5750,     -999.0,-999.000,     -999.0,          9,     -999.0,          9,-999.000,          9
 33RO200501,       A16S,     119,          1,          9,          9,2,20050221,       0323,    -3.0000,   -25.0005,       5387,  2995.8,   2.6628,  34.9115,2,  34.9118,2,    244.7,2,   245.0,2,   42.04,6,   21.40,6,    0.00,6, -999.00,5,   0.014,2,   0.008,2,   0.005,2,  2186.9,2,  2335.4,2,  -999.0,9,   20.00,   7.7234,2,    25.00,-999.000,9, -999.00,-999.000,9,-999.000,9, -999.00,9,  -999.0,9,  -999.0,-999.000,9,-999.000,   0.076,4, -999.00,9, 2995.80,   0.1870,2,   0.1400,2,   0.0800,2,   0.0570,2,   0.0126,2,   0.0138,2,   2.4199,     -999.0,-999.000,     -999.0,          9,     -999.0,          9,-999.000,          9
 33RO200501,       A16S,     119,          1,          8,          8,2,20050221,       0323,    -3.0000,   -25.0005,       5387,  3294.8,   2.5449,  34.9060,2,  34.9061,2,    247.2,2,   248.5,2,   41.39,6,   21.10,6,    0.00,6, -999.00,5,   0.028,2,   0.015,2,   0.000,2,  2185.9,2,  2335.2,2,  -999.0,9,   20.00,   7.7265,2,    25.00,-999.000,9, -999.00,-999.000,9,-999.000,9, -999.00,9,  -999.0,9,  -999.0,-999.000,9,-999.000,   0.118,4,   40.28,2, 3294.80,-999.0000,9,-999.0000,9,-999.0000,9,-999.0000,9,-999.0000,9,-999.0000,9,   2.2735,     -999.0,-999.000,     -999.0,          9,     -999.0,          9,-999.000,          9