BOTTLE,20220818CCHSIOAMB
EXPOCODE,SECT_ID,STNNBR,CASTNO,SAMPNO,BTLNBR,BTLNBR_FLAG_W,DATE,TIME,LATITUDE,LONGITUDE,DEPTH,CTDPRS,CTDTMP,CTDSAL,CTDSAL_FLAG_W,SALNTY,SALNTY_FLAG_W,CTDOXY,CTDOXY_FLAG_W,OXYGEN,OXYGEN_FLAG_W,SILCAT,SILCAT_FLAG_W,NITRAT,NITRAT_FLAG_W,NITRIT,NITRIT_FLAG_W,PHSPHT,PHSPHT_FLAG_W,CFC-11,CFC-11_FLAG_W,CFC-12,CFC-12_FLAG_W,CFC113,CFC113_FLAG_W,TCARBN,TCARBN_FLAG_W,ALKALI,ALKALI_FLAG_W,PCO2,PCO2_FLAG_W,PCO2TMP,PH_SWS,PH_SWS_FLAG_W,PH_TMP,TRITUM,TRITUM_FLAG_W,TRITER,HELIUM,HELIUM_FLAG_W,DELHE3,DELHE3_FLAG_W,DELC13,DELC13_FLAG_W,DELC14,DELC14_FLAG_W,C14ERR,NEON,NEON_FLAG_W,NEONER,CCL4,CCL4_FLAG_W,DOC,DOC_FLAG_W,CTDRAW,CDOM325,CDOM325_FLAG_W,CDOM340,CDOM340_FLAG_W,CDOM380,CDOM380_FLAG_W,CDOM412,CDOM412_FLAG_W,CDOMSL,CDOMSL_FLAG_W,CDOMSN,CDOMSN_FLAG_W,THETA,HELIER,DELHER,CH3CL,CH3CL_FLAG_W,CH3BR,CH3BR_FLAG_W,CH3I,CH3I_FLAG_W
,,,,,,,,,,,METERS,DBAR,ITS-90,PSS-78,,PSS-78,,UMOL/KG,,UMOL/KG,,UMOL/KG,,UMOL/KG,,UMOL/KG,,UMOL/KG,,PMOL/KG,,PMOL/KG,,PMOL/KG,,UMOL/KG,,UMOL/KG,,UATM,,DEG C,,,DEG C,TU,,TU,NMOL/KG,,PERCNT,,/MILLE,,/MILLE,,/MILLE,NMOL/KG,,NMOL/KG,PMOL/KG,,UMOL/KG,,DBAR,1/M,,1/M,,1/M,,1/M,,1/NM,,1/NM,,DEG C,NMOL/KG,PERCNT,PMOL/KG,,PMOL/KG,,PMOL/KG,
 33RO200501,       A16S,     109,          1,         36,         36,2,20050218,       0337,    -8.0000,   -25.0003,       5705,     1.9,  27.5401,  36.4598,2,  36.4591,2,    200.6,2,   198.5,2,    1.37,2,    0.00,2,    0.00,2,    0.07,2,   1.600,2,   1.045,2,   0.132,2,  2052.0,2,  2386.1,2,   305.2,2,   20.00,   8.0630,2,    25.00,-999.000,9, -999.00,   1.701,2,  -1.656,2,    1.66,2,    62.5,2,     4.0,   6.654,2,   0.006,   1.358,4,   68.51,2,    1.90,   0.0710,2,   0.0480,2,   0.0230,2,   0.0140,2,   0.0227,2,   0.0237,2,  27.5397,      0.001,   0.201,     -999.0,          9,     -999.0,          9,-999.000,          9
 33RO200501,       A16S,     109,          1,         35,         35,2,20050218,       0337,    -8.0000,   -25.0003,       5705,    23.9,  27.5471,  36.4594,2,  36.4591,2,    199.9,2,   200.6,2,    1.27,2,    0.00,2,    0.00,2,    0.07,2,   1.610,2,   1.049,2,   0.128,2,  2051.8,2,  2389.5,6,  -999.0,9,   20.00,   8.0687,6,    25.00,-999.000,9, -999.00,   1.688,2,  -1.983,2, -999.00,9,  -999.0,9,  -999.0,   6.547,2,   0.006,   1.349,4,   68.35,2,   23.90,   0.0720,2,   0.0500,2,   0.0220,2,   0.0140,2,   0.0222,2,   0.0227,2,  27.5415,      0.001,   0.208,     -999.0,          9,     -999.0,          9,-999.000,          9
 33RO200501,       A16S,     109,          1,         34,         34,2,20050218,       0337,    -8.0000,   -25.0003,       5705,    49.0,  27.5453,  36.4592,2,  36.4621,2,    200.9,2,   200.4,2,    1.27,2,    0.00,2,    0.00,2,    0.09,2,-999.000,9,-999.000,9,-999.000,9,  2052.3,2,  2386.5,2,   306.6,2,   20.00,   8.0723,2,    25.00,-999.000,9, -999.00,-999.000,9,-999.000,9,    1.68,2,    78.1,2,     3.3,-999.000,9,-999.000,-999.000,9,   66.10,2,   49.00,   0.0830,2,   0.0590,2,   0.0240,2,   0.0130,2,   0.0209,2,   0.0211,2,  27.5338,     -999.0,-999.000,     -999.0,          9,     -999.0,          9,-999.000,          9
 33RO200501,       A16S,     109,          1,         33,         33,2,20050218,       0337,    -8.0000,   -25.0003,       5705,    73.0,  26.8198,  36.5050,2,  36.5071,2,    205.4,2,   207.6,2,    1.27,2,    0.00,2,    0.00,2,    0.08,2,   1.665,2,   1.074,2,   0.134,2,  2051.9,2,  2393.6,2,  -999.0,9,   20.00,   8.0767,2,    25.00,-999.000,9, -999.00,   1.707,2,  -2.042,2, -999.00,9,  -999.0,9,  -999.0,   6.681,2,   0.006,   1.234,4,   64.12,2,   73.00,-999.0000,9,-999.0000,9,-999.0000,9,-999.0000,9,-999.0000,9,-999.0000,9,  26.8031,      0.001,   0.210,     -999.0,          9,     -999.0,          9,-999.000,          9
 33RO200501,       A16S,     109,          1,         32,         32,2,20050218,       0337,    -8.0000,   -25.0003,       5705,   100.0,  24.3925,  36.9646,2,  36.9367,2,    207.2,2,   207.9,2,    1.17,2,    0.10,2,    0.00,2,    0.13,2,-999.000,9,-999.000,9,-999.000,9,  2085.3,2,  2420.9,3,   323.1,2,   20.00,   8.0572,2,    25.00,-999.000,9, -999.00,-999.000,9,-999.000,9,    1.59,2,    56.9,2,     3.7,-999.000,9,-999.000,-999.000,9,   57.81,2,  100.00,   0.1340,2,   0.0930,2,   0.0430,2,   0.0270,2,   0.0197,2,   0.0211,2,  24.3710,     -999.0,-999.000,     -999.0,          9,     -999.0,          9,-999.000,          9
 33RO200501,       A16S,     109,          1,         31,         31,2,20050218,       0337,    -8.0000,   -25.0003,       5705,   130.3,  20.7764,  36.3994,2,  36.3793,2,    178.8,2,   177.1,2,    2.05,2,    3.41,2,    0.20,2,    0.45,2,   2.089,6,   1.270,6,   0.123,6,  2121.5,2,  2388.6,2,   431.4,2,   20.00,   7.9499,2,    25.00,-999.000,9, -999.00,   1.733,2,  -1.636,2, -999.00,9,  -999.0,9,  -999.0,   6.970,2,   0.006,   0.578,4,   51.78,2,  130.30,-999.0000,9,-999.0000,9,-999.0000,9,-999.0000,9,-999.0000,9,-999.0000,9,  20.7515,      0.001,   0.203,     -999.0,          9,     -999.0,          9,-999.000,          9
 33RO200501,       A16S,     109,          1,         30,         30,2,20050218,       0337,    -8.0000,   -25.0003,       5705,   159.2,  17.8333,  35.9617,2,  35.9316,2,    153.8,2,   152.3,2,    3.51,2,   10.25,2,    0.03,2,    0.79,2,-999.000,9,-999.000,9,-999.000,9,  2149.2,2,  2357.6,2,  -999.0,9,   20.00,   7.8658,2,    25.00,-999.000,9, -999.00,-999.000,9,-999.000,9,    0.99,2,    57.1,2,     4.9,-999.000,9,-999.000,-999.000,9,   49.54,2,  159.20,   0.1680,2,   0.1220,2,   0.0570,2,   0.0390,2,   0.0167,2,   0.0183,2,  17.8060,     -999.0,-999.000,     -999.0,          9,     -999.0,          9,-999.000,          9
 33RO200501,       A16S,     109,          1,         29,         29,2,20050218,       0337,    -8.0000,   -25.0003,       5705,   199.6,  14.0303,  35.4305,2,  35.4381,2,    119.0,2,   119.4,2,    6.54,2,   18.94,2,    0.01,2,    1.23,2,   1.953,2,   1.117,2,   0.031,2,  2177.6,2,  2326.2,2,   758.1,2,   20.00,   7.7323,2,    25.00,-999.000,9, -999.00,-999.000,9,-999.000,9, -999.00,9,  -999.0,9,  -999.0,-999.000,9,-999.000,   0.334,4,   46.41,2,  199.60,-999.0000,9,-999.0000,9,-999.0000,9,-999.0000,9,-999.0000,9,-999.0000,9,  14.0013,     -999.0,-999.000,     -999.0,          9,     -999.0,          9,-999.000,          9
 33RO200501,       A16S,     109,          1,         28,         28,2,20050218,       0337,    -8.0000,   -25.0003,       5705,   250.4,  11.2325,  35.0659,2,  35.0655,2,    100.7,2,   101.3,2,   10.55,2,   25.78,2,    0.00,2,    1.62,2,   1.402,2,   0.754,2,   0.018,2,  2201.8,2,  -999.0,5,  -999.0,9,   20.00,   7.6290,2,    25.00,-999.000,9, -999.00,   1.789,2,   1.057,2,    0.65,2,     5.0,2,     3.5,   9.056,4,   1.033,   0.304,4,   43.03,2,  250.40,   0.1400,2,   0.0990,2,   0.0520,2,   0.0360,2,   0.0150,2,   0.0169,2,  11.2011,      0.003,   0.220,     -999.0,          9,     -999.0,          9,-999.000,          9
 33RO200501,       A16S,     109,          1,         27,         27,2,20050218,       0337,    -8.0000,   -25.0003,       5705,   299.7,   9.4197,  34.8431,2,  34.8414,2,    113.9,2,   114.8,2,   13.28,2,   27.93,2,    0.00,2,    1.75,2,-999.000,9,-999.000,9,-999.000,9,  2203.4,2,  2300.9,2,  1024.8,2,   20.00,   7.6077,2,    25.00,-999.000,9, -999.00,-999.000,9,-999.000,9,    0.75,2,   -10.4,2,     3.4,-999.000,9,-999.000,-999.000,9,   42.63,2,  299.70,-999.0000,9,-999.0000,9,-999.0000,9,-999.0000,9,-999.0000,9,-999.0000,9,   9.3861,     -999.0,-999.000,     -999.0,          9,     -999.0,          9,-999.000,          9
 33RO200501,       A16S,     109,          1,         26,         26,2,20050218,       0337,    -8.0000,   -25.0003,       5705,   348.0,   8.5723,  34.7534,2,  34.7500,2,    109.9,2,   111.7,2,   15.53,2,   30.28,2,    0.00,2,    1.88,2,   0.914,2,   0.477,2,   0.013,2,  2210.4,2,  2295.8,2,  1110.8,2,   20.00,   7.5768,2,    25.00,-999.000,9, -999.00,-999.000,9,-999.000,9,    0.74,2,   -28.8,6,     2.2,-999.000,9,-999.000,   0.418,4,   41.96,2,  348.00,   0.1560,2,   0.1120,2,   0.0600,2,   0.0410,2,   0.0146,2,   0.0162,2,   8.5354,     -999.0,-999.000,     -999.0,          9,     -999.0,          9,-999.000,          9
 33RO200501,       A16S,     109,          1,         25,         25,2,20050218,       0337,    -8.0000,   -25.0003,       5705,   399.6,   7.9218,  34.6899,2,  34.6946,2,    107.4,2,   106.5,2,   17.49,2,   32.24,2,    0.00,2,    1.99,2,   0.686,2,   0.351,2,   0.013,2,  2218.7,2,  2287.9,2,  1191.5,2,   20.00,   7.5472,2,    25.00,-999.000,9, -999.00,   1.790,2,   1.250,2,    0.69,2,   -46.7,2,     2.7,   7.611,2,   0.008,   0.377,4,   40.12,2,  399.60,-999.0000,9,-999.0000,9,-999.0000,9,-999.0000,9,-999.0000,9,-999.0000,9,   7.8813,      0.001,   0.202,     -999.0,          9,     -999.0,          9,-999.000,          9
 33RO200501,       A16S,     109,          1,         24,         24,2,20050218,       0337,    -8.0000,   -25.0003,       5705,   498.9,   6.8587,  34.5970,2,  34.5940,2,    113.2,2,   112.0,2,   21.00,2,   34.19,2,    0.00,2,    2.12,2,   0.412,2,   0.212,2,   0.007,2,  2221.3,2,  2286.2,2,  1249.6,2,   20.00,   7.5292,2,    25.00,-999.000,9, -999.00,   1.798,2,   1.140,2,    0.72,2,   -68.7,2,     3.1,   7.698,2,   0.008,   0.341,4,   40.09,2,  498.90,   0.1870,2,   0.1390,3,   0.0770,3,   0.0570,3,   0.0126,3,   0.0140,4,   6.8118,      0.001,   0.201,     -999.0,          9,     -999.0,          9,-999.000,          9
 33RO200501,       A16S,     109,          1,         23,         23,2,20050218,       0337,    -8.0000,   -25.0003,       5705,   598.9,   6.0538,  34.5491,2,  34.5474,2,    109.9,2,   110.7,2,   24.72,2,   35.85,2,    0.00,2,    2.24,2,   0.147,2,   0.084,2,   0.000,2,  2229.0,2,  2286.9,2,  1321.1,2,   20.00,   7.5088,2,    25.00,-999.000,9, -999.00,   1.804,2,   0.771,2,    0.71,2,   -86.6,2,     2.8,   7.711,2,   0.008,   0.197,4,   40.11,2,  598.90,-999.0000,9,-999.0000,9,-999.0000,9,-999.0000,9,-999.0000,9,-999.0000,9,   6.0008,      0.001,   0.211,     -999.0,          9,     -999.0,          9,-999.000,          9
 33RO200501,       A16S,     109,          1,         22,         22,2,20050218,       0337,    -8.0000,   -25.0003,       5705,   698.8,   5.2226,  34.4974,2,  34.4940,2,    131.4,2,   130.3,2,   28.43,2,   35.46,2,    0.00,2,    2.25,2,   0.111,2,   0.062,2,   0.000,2,  2225.6,2,  2287.5,2,  1255.1,2,   20.00,   7.5226,2,    25.00,-999.000,9, -999.00,-999.000,9,-999.000,9,    0.73,2,  -103.6,2,     3.7,-999.000,9,-999.000,   0.200,4,   40.12,2,  698.80,   0.1310,2,   0.0900,2,   0.0490,2,   0.0350,2,   0.0145,3,   0.0168,3,   5.1647,     -999.0,-999.000,     -999.0,          9,     -999.0,          9,-999.000,          9
 33RO200501,       A16S,     109,          1,         21,         21,2,20050218,       0337,    -8.0000,   -25.0003,       5705,   790.0,   4.6202,  34.4806,2,  34.4785,2,    148.9,2,   148.1,2,   32.05,2,   34.68,2,    0.00,2,    2.21,2,   0.103,2,   0.057,2,   0.004,2,  2222.5,2,  2291.4,2,  1196.9,2,   20.00,   7.5462,2,    25.00,-999.000,9, -999.00,   1.812,2,   2.023,2,    0.81,2,  -101.9,2,     3.0,   7.835,2,   0.008,   0.207,4,   39.42,2,  790.00,-999.0000,9,-999.0000,9,-999.0000,9,-999.0000,9,-999.0000,9,-999.0000,9,   4.5579,      0.001,   0.199,     -999.0,          9,     -999.0,          9,-999.000,          9
 33RO200501,       A16S,     109,          1,         20,         20,2,20050218,       0337,    -8.0000,   -25.0003,       5705,   899.8,   4.1502,  34.4933,2,  34.4915,2,    164.2,2,   164.1,2,   35.37,6,   33.41,6,    0.00,6,    2.16,6,   0.110,2,   0.059,2,   0.002,2,  2219.0,2,  2303.5,2,  1132.8,2,   20.00,   7.5674,2,    25.00,-999.000,9, -999.00,   1.820,2,   2.084,2,    0.83,2,  -114.4,2,     2.9,   7.890,2,   0.008,   0.227,4,   39.78,2,  899.80,   0.1450,2,   0.1040,2,   0.0580,2,   0.0400,2,   0.0141,2,   0.0156,2,   4.0818,      0.001,   0.213,     -999.0,          9,     -999.0,          9,-999.000,          9
 33RO200501,       A16S,     109,          1,         19,         19,2,20050218,       0337,    -8.0000,   -25.0003,       5705,   999.1,   4.0175,  34.5856,2,  34.5856,2,    169.8,2,   169.6,2,   35.17,2,   32.04,2,    0.00,2,    2.06,2,   0.051,2,   0.032,2,   0.000,2,  2215.6,2,  2308.1,2,  1089.1,2,   20.00,   7.5866,2,    25.00,-999.000,9, -999.00,   1.826,2,   2.070,2,    0.81,2,  -113.3,2,     3.2,   7.896,2,   0.008,   0.133,4,   40.19,2,  999.10,-999.0000,9,-999.0000,9,-999.0000,9,-999.0000,9,-999.0000,9,-999.0000,9,   3.9417,      0.001,   0.206,     -999.0,          9,     -999.0,          9,-999.000,          9
 33RO200501,       A16S,     109,          1,         18,         18,2,20050218,       0337,    -8.0000,   -25.0003,       5705,  1099.5,   4.0685,  34.6766,2,  34.6803,3,    175.5,2,   176.0,2,   32.43,2,   30.28,2,    0.00,2,    1.94,2,   0.029,2,   0.015,2,   0.001,2,  2211.1,2,  2306.6,6,  1034.1,2,   20.00,   7.6052,2,    25.00,-999.000,9, -999.00,   1.820,2,   2.376,2,    0.84,2,  -112.3,2,     2.8,   7.757,2,   0.012,   0.076,4,   39.85,2, 1099.50,-999.0000,9,-999.0000,9,-999.0000,9,-999.0000,9,-999.0000,9,-999.0000,9,   3.9836,      0.001,   0.221,     -999.0,          9,     -999.0,          9,-999.000,          9
 33RO200501,       A16S,     109,          1,         17,         17,2,20050218,       0337,    -8.0000,   -25.0003,       5705,  1199.4,   4.1977,  34.7742,2,  34.7805,3,    184.8,2,   185.6,2,   28.13,2,   28.03,2,    0.00,2,    1.78,2,   0.024,2,   0.015,2,   0.004,2,  2203.7,2,  2312.2,2,   967.3,2,   20.00,   7.6321,2,    25.00,-999.000,9, -999.00,   1.831,2,   1.785,2,    0.89,2,  -102.5,2,     3.3,   7.873,2,   0.008,   0.075,4,   39.77,2, 1199.40,-999.0000,9,-999.0000,9,-999.0000,9,-999.0000,9,-999.0000,9,-999.0000,9,   4.1028,      0.001,   0.223,     -999.0,          9,     -999.0,          9,-999.000,          9
 33RO200501,       A16S,     109,          1,         16,         16,2,20050218,       0337,    -8.0000,   -25.0003,       5705,  1401.2,   4.2271,  34.9271,2,  34.9259,2,    217.0,2,   217.0,2,   21.00,2,   23.05,2,    0.00,2,    1.45,2,   0.081,2,   0.041,2,   0.000,2,  2184.1,2,  2312.8,2,   836.0,2,   20.00,   7.6921,2,    25.00,-999.000,9, -999.00,-999.000,9,-999.000,9,    1.04,2,   -95.5,2,     4.3,-999.000,9,-999.000,   0.217,4, -999.00,9, 1401.20,-999.0000,9,-999.0000,9,-999.0000,9,-999.0000,9,-999.0000,9,-999.0000,9,   4.1135,     -999.0,-999.000,     -999.0,          9,     -999.0,          9,-999.000,          9
 33RO200501,       A16S,     109,          1,         15,         15,2,20050218,       0337,    -8.0000,   -25.0003,       5705,  1599.6,   3.9335,  34.9646,2,  34.9656,2,    236.4,2,   237.8,2,   19.24,2,   20.70,2,    0.00,2,    1.28,2,   0.120,2,   0.063,2,   0.000,2,  2172.3,2,  2313.0,2,   775.6,2,   20.00,   7.7188,2,    25.00,-999.000,9, -999.00,   1.828,2,   2.745,2,    1.13,2,   -77.1,2,     3.0,   7.881,2,   0.008,   0.301,4,   39.82,2, 1599.60,   0.2120,3,   0.1600,3,   0.0740,3,   0.0440,3,   0.0177,3,   0.0183,3,   3.8049,      0.001,   0.220,     -999.0,          9,     -999.0,          9,-999.000,          9
 33RO200501,       A16S,     109,          1,         14,         14,2,20050218,       0337,    -8.0000,   -25.0003,       5705,  1899.9,   3.4468,  34.9488,2,  34.9487,2,    244.2,2,   242.3,2,   24.51,2,   20.71,2,    0.00,2,    1.29,2,   0.040,2,   0.025,2,   0.000,2,  2174.5,2,  2315.4,2,   766.0,2,   20.00,   7.7256,2,    25.00,-999.000,9, -999.00,-999.000,9,-999.000,9,    1.11,2,  -102.4,2,     3.4,-999.000,9,-999.000,   0.156,4, -999.00,9, 1899.90,-999.0000,9,-999.0000,9,-999.0000,9,-999.0000,9,-999.0000,9,-999.0000,9,   3.2970,     -999.0,-999.000,     -999.0,          9,     -999.0,          9,-999.000,          9
 33RO200501,       A16S,     109,          1,         13,         13,2,20050218,       0337,    -8.0000,   -25.0003,       5705,  2199.3,   3.0808,  34.9297,2,  34.9302,2,    244.0,2,   243.1,2,   30.86,2,   21.19,2,    0.00,2,    1.34,2,   0.018,2,   0.012,2,   0.000,2,  2180.2,2,  2321.3,2,   769.3,2,   20.00,   7.7214,2,    25.00,-999.000,9, -999.00,   1.851,2,   2.983,2,    1.11,2,  -108.8,2,     2.8,   8.006,2,   5.479,   0.082,4,   39.96,2, 2199.30,-999.0000,9,-999.0000,9,-999.0000,9,-999.0000,9,-999.0000,9,-999.0000,9,   2.9085,      0.524,   0.223,     -999.0,          9,     -999.0,          9,-999.000,          9
 33RO200501,       A16S,     109,          1,         12,         12,2,20050218,       0337,    -8.0000,   -25.0003,       5705,  2493.3,   2.8503,  34.9153,2,  34.9151,2,    242.9,2,   241.9,2,   35.84,2,   21.68,2,    0.00,2,    1.39,2,   0.008,2,   0.007,2,   0.004,2,  2185.3,2,  2322.3,2,   777.9,2,   20.00,   7.7214,2,    25.00,-999.000,9, -999.00,-999.000,9,-999.000,9,    1.09,2,  -114.5,2,     3.5,-999.000,9,-999.000,   0.045,4, -999.00,9, 2493.30,-999.0000,9,-999.0000,9,-999.0000,9,-999.0000,9,-999.0000,9,-999.0000,9,   2.6539,     -999.0,-999.000,     -999.0,          9,     -999.0,          9,-999.000,          9
 33RO200501,       A16S,     109,          1,         11,         11,2,20050218,       0337,    -8.0000,   -25.0003,       5705,  2799.4,   2.7077,  34.9038,2,  34.9053,2,    240.6,2,   240.6,2,   39.75,2,   22.07,2,    0.00,2,    1.42,2,   0.002,2,   0.002,2,   0.000,2,  2188.8,2,  2326.6,2,   781.6,2,   20.00,   7.7181,2,    25.00,-999.000,9, -999.00,   1.859,2,   3.765,2,    1.05,2,  -119.9,2,     2.8,   7.967,2,   0.011,   0.030,4,   40.43,2, 2799.40,   0.2110,3,   0.1560,3,   0.0760,3,   0.0470,3,   0.0167,3,   0.0177,3,   2.4838,      0.001,   0.221,     -999.0,          9,     -999.0,          9,-999.000,          9
 33RO200501,       A16S,     109,          1,         10,         10,2,20050218,       0337,    -8.0000,   -25.0003,       5705,  3098.2,   2.6405,  34.9093,2,  34.9098,2,    245.8,2,   246.2,2,   37.80,2,   21.39,2,    0.00,2,    1.37,2,-999.000,9,-999.000,9,-999.000,9,  2184.9,2,  2332.1,2,  -999.0,9,   20.00,-999.0000,1,    25.00,-999.000,9, -999.00,-999.000,9,-999.000,9,    1.14,2,  -114.6,2,     4.1,-999.000,9,-999.000,-999.000,9,   40.29,2, 3098.20,-999.0000,9,-999.0000,9,-999.0000,9,-999.0000,9,-999.0000,9,-999.0000,9,   2.3875,     -999.0,-999.000,     -999.0,          9,     -999.0,          9,-999.000,          9
 33RO200501,       A16S,     109,          1,          9,          9,2,20050218,       0337,    -8.0000,   -25.0003,       5705,  3400.1,   2.5371,  34.9073,2,  34.9072,2,    251.5,2,   251.6,2,   36.82,2,   20.90,2,    0.00,2,    1.33,2,   0.027,2,   0.005,2,   0.000,2,  2181.4,2,  2330.2,2,   757.7,2,   20.00,   7.7291,2,    25.00,-999.000,9, -999.00,-999.000,9,-999.000,9,    1.09,2,  -117.2,2,     5.1,-999.000,9,-999.000,   0.095,4,   40.23,2, 3400.10,-999.0000,9,-999.0000,9,-999.0000,9,-999.0000,9,-999.0000,9,-999.0000,9,   2.2546,     -999.0,-999.000,     -999.0,          9,     -999.0,          9,-999.000,          9
 33RO200501,       A16S,     109,          1,          8,          8,2,20050218,       0337,    -8.0000,   -25.0003,       5705,  3698.6,   2.3540,  34.8907,2,  34.8915,2,    251.0,2,   251.0,2,   42.19,2,   21.39,2,    0.00,2,    1.37,2,   0.025,2,   0.004,2,   0.006,2,  2186.8,2,  2333.3,2,   769.9,2,   20.00,   7.7271,2,    25.00,-999.000,9, -999.00,-999.000,9,-999.000,9,    1.09,2,  -107.2,2,     2.8,-999.000,9,-999.000,   0.111,4,   40.15,2, 3698.60,-999.0000,9,-999.0000,9,-999.0000,9,-999.0000,9,-999.0000,9,-999.0000,9,   2.0437,     -999.0,-999.000,     -999.0,          9,     -999.0,          9,-999.000,          9