BOTTLE,20220818CCHSIOAMB
EXPOCODE,SECT_ID,STNNBR,CASTNO,SAMPNO,BTLNBR,BTLNBR_FLAG_W,DATE,TIME,LATITUDE,LONGITUDE,DEPTH,CTDPRS,CTDTMP,CTDSAL,CTDSAL_FLAG_W,SALNTY,SALNTY_FLAG_W,CTDOXY,CTDOXY_FLAG_W,OXYGEN,OXYGEN_FLAG_W,SILCAT,SILCAT_FLAG_W,NITRAT,NITRAT_FLAG_W,NITRIT,NITRIT_FLAG_W,PHSPHT,PHSPHT_FLAG_W,CFC-11,CFC-11_FLAG_W,CFC-12,CFC-12_FLAG_W,CFC113,CFC113_FLAG_W,TCARBN,TCARBN_FLAG_W,ALKALI,ALKALI_FLAG_W,PCO2,PCO2_FLAG_W,PCO2TMP,PH_SWS,PH_SWS_FLAG_W,PH_TMP,TRITUM,TRITUM_FLAG_W,TRITER,HELIUM,HELIUM_FLAG_W,DELHE3,DELHE3_FLAG_W,DELC13,DELC13_FLAG_W,DELC14,DELC14_FLAG_W,C14ERR,NEON,NEON_FLAG_W,NEONER,CCL4,CCL4_FLAG_W,DOC,DOC_FLAG_W,CTDRAW,CDOM325,CDOM325_FLAG_W,CDOM340,CDOM340_FLAG_W,CDOM380,CDOM380_FLAG_W,CDOM412,CDOM412_FLAG_W,CDOMSL,CDOMSL_FLAG_W,CDOMSN,CDOMSN_FLAG_W,THETA,HELIER,DELHER,CH3CL,CH3CL_FLAG_W,CH3BR,CH3BR_FLAG_W,CH3I,CH3I_FLAG_W
,,,,,,,,,,,METERS,DBAR,ITS-90,PSS-78,,PSS-78,,UMOL/KG,,UMOL/KG,,UMOL/KG,,UMOL/KG,,UMOL/KG,,UMOL/KG,,PMOL/KG,,PMOL/KG,,PMOL/KG,,UMOL/KG,,UMOL/KG,,UATM,,DEG C,,,DEG C,TU,,TU,NMOL/KG,,PERCNT,,/MILLE,,/MILLE,,/MILLE,NMOL/KG,,NMOL/KG,PMOL/KG,,UMOL/KG,,DBAR,1/M,,1/M,,1/M,,1/M,,1/NM,,1/NM,,DEG C,NMOL/KG,PERCNT,PMOL/KG,,PMOL/KG,,PMOL/KG,
 33RO200501,       A16S,      33,          1,         36,         36,2,20050125,       2259,   -46.0003,   -31.5143,       5238,     4.1,  11.3214,  34.3985,2,  34.3963,2,    279.2,2,   278.9,2,    0.32,2,    6.13,2,    0.12,2,    0.56,2,   3.439,2,   2.085,2,   0.287,2,  2053.3,2,  2295.8,2,   430.8,2,   20.00,   7.9290,2,    25.00,-999.000,9, -999.00,-999.000,9,-999.000,9, -999.00,9,  -999.0,9,  -999.0,-999.000,9,-999.000,   4.978,4,   60.48,2,    4.10,-999.0000,9,-999.0000,9,-999.0000,9,-999.0000,9,-999.0000,9,-999.0000,9,  11.3209,     -999.0,-999.000,     -999.0,          9,     -999.0,          9,-999.000,          9
 33RO200501,       A16S,      33,          1,         35,         35,2,20050125,       2259,   -46.0003,   -31.5143,       5238,    20.8,  11.3200,  34.4014,2,  34.4002,2,    279.4,2,   279.3,2,    0.33,2,    6.12,2,    0.12,2,    0.56,2,   3.459,2,   2.091,2,   0.288,2,  2053.5,2,  2295.5,2,   430.2,2,   20.00,   7.9306,2,    25.00,-999.000,9, -999.00,-999.000,9,-999.000,9, -999.00,9,  -999.0,9,  -999.0,-999.000,9,-999.000,   5.069,4, -999.00,9,   20.80,-999.0000,9,-999.0000,9,-999.0000,9,-999.0000,9,-999.0000,9,-999.0000,9,  11.3174,     -999.0,-999.000,     -999.0,          9,     -999.0,          9,-999.000,          9
 33RO200501,       A16S,      33,          1,         34,         34,2,20050125,       2259,   -46.0003,   -31.5143,       5238,    40.0,  11.1605,  34.4065,2,  34.4063,2,    277.9,2,   277.9,2,    0.31,2,    6.74,2,    0.13,2,    0.60,2,   3.465,2,   2.100,2,   0.283,2,  2059.4,2,  2295.9,2,   444.1,2,   20.00,   7.9164,2,    25.00,-999.000,9, -999.00,-999.000,9,-999.000,9, -999.00,9,  -999.0,9,  -999.0,-999.000,9,-999.000,   5.102,4,   56.08,2,   40.00,-999.0000,9,-999.0000,9,-999.0000,9,-999.0000,9,-999.0000,9,-999.0000,9,  11.1556,     -999.0,-999.000,     -999.0,          9,     -999.0,          9,-999.000,          9
 33RO200501,       A16S,      33,          1,         33,         33,2,20050125,       2259,   -46.0003,   -31.5143,       5238,    60.1,   9.6760,  34.4069,2,  34.4038,2,    275.1,2,   277.0,2,    1.86,2,   11.31,2,    0.34,2,    0.91,2,   3.806,2,   2.257,2,   0.306,2,  2090.0,2,  2293.8,2,   535.0,2,   20.00,   7.8526,2,    25.00,-999.000,9, -999.00,-999.000,9,-999.000,9, -999.00,9,  -999.0,9,  -999.0,-999.000,9,-999.000,   4.861,4, -999.00,9,   60.10,-999.0000,9,-999.0000,9,-999.0000,9,-999.0000,9,-999.0000,9,-999.0000,9,   9.6693,     -999.0,-999.000,     -999.0,          9,     -999.0,          9,-999.000,          9
 33RO200501,       A16S,      33,          1,         32,         32,2,20050125,       2259,   -46.0003,   -31.5143,       5238,    81.3,   9.0725,  34.5638,2,  34.5622,2,    266.9,2,   265.8,2,    3.11,2,   13.37,2,    0.06,2,    0.97,2,   3.779,2,   2.192,2,   0.307,2,  2103.8,2,  2294.0,2,   568.4,2,   20.00,   7.8310,2,    25.00,-999.000,9, -999.00,-999.000,9,-999.000,9, -999.00,9,  -999.0,9,  -999.0,-999.000,9,-999.000,   3.461,3,   51.67,2,   81.30,-999.0000,9,-999.0000,9,-999.0000,9,-999.0000,9,-999.0000,9,-999.0000,9,   9.0637,     -999.0,-999.000,     -999.0,          9,     -999.0,          9,-999.000,          9
 33RO200501,       A16S,      33,          1,         31,         31,2,20050125,       2259,   -46.0003,   -31.5143,       5238,    99.8,   8.8109,  34.5748,2,  34.5744,2,    261.3,2,   260.9,2,    3.82,2,   14.93,2,    0.04,2,    1.06,2,   3.793,2,   2.185,2,   0.292,2,  2111.4,2,  2297.1,2,   595.4,2,   20.00,   7.8143,2,    25.00,-999.000,9, -999.00,-999.000,9,-999.000,9, -999.00,9,  -999.0,9,  -999.0,-999.000,9,-999.000,   3.021,3, -999.00,9,   99.80,-999.0000,9,-999.0000,9,-999.0000,9,-999.0000,9,-999.0000,9,-999.0000,9,   8.8003,     -999.0,-999.000,     -999.0,          9,     -999.0,          9,-999.000,          9
 33RO200501,       A16S,      33,          1,         30,         30,2,20050125,       2259,   -46.0003,   -31.5143,       5238,   125.6,   7.6775,  34.4447,2,  34.4415,2,    258.8,2,   257.6,2,    5.41,2,   18.67,2,    0.04,2,    1.26,2,-999.000,9,-999.000,9,-999.000,9,  2123.1,2,  2289.6,2,  -999.0,9,   20.00,   7.7710,2,    25.00,-999.000,9, -999.00,-999.000,9,-999.000,9, -999.00,9,  -999.0,9,  -999.0,-999.000,9,-999.000,-999.000,9,   49.67,2,  125.60,-999.0000,9,-999.0000,9,-999.0000,9,-999.0000,9,-999.0000,9,-999.0000,9,   7.6653,     -999.0,-999.000,     -999.0,          9,     -999.0,          9,-999.000,          9
 33RO200501,       A16S,      33,          1,         29,         29,2,20050125,       2259,   -46.0003,   -31.5143,       5238,   149.6,   6.6524,  34.3235,2,  34.3237,2,    258.8,2,   254.8,2,    6.94,2,   21.49,2,    0.04,2,    1.43,2,   4.064,2,   2.265,2,   0.302,2,  2131.9,2,  2283.5,2,   725.6,2,   20.00,   7.7391,2,    25.00,-999.000,9, -999.00,-999.000,9,-999.000,9, -999.00,9,  -999.0,9,  -999.0,-999.000,9,-999.000,   3.067,3, -999.00,9,  149.60,-999.0000,9,-999.0000,9,-999.0000,9,-999.0000,9,-999.0000,9,-999.0000,9,   6.6389,     -999.0,-999.000,     -999.0,          9,     -999.0,          9,-999.000,          9
 33RO200501,       A16S,      33,          1,         28,         28,2,20050125,       2259,   -46.0003,   -31.5143,       5238,   175.5,   5.9247,  34.2555,2,  34.2502,2,    259.7,2,   258.1,2,    8.35,2,   23.52,2,    0.02,2,    1.56,2,-999.000,9,-999.000,9,-999.000,9,  2139.4,2,  2435.9,3,  -999.0,9,   20.00,   7.7243,2,    25.00,-999.000,9, -999.00,-999.000,9,-999.000,9, -999.00,9,  -999.0,9,  -999.0,-999.000,9,-999.000,-999.000,9,   47.35,2,  175.50,-999.0000,9,-999.0000,9,-999.0000,9,-999.0000,9,-999.0000,9,-999.0000,9,   5.9100,     -999.0,-999.000,     -999.0,          9,     -999.0,          9,-999.000,          9
 33RO200501,       A16S,      33,          1,         27,         27,2,20050125,       2259,   -46.0003,   -31.5143,       5238,   196.8,   5.1967,  34.1896,2,  34.1902,2,    260.3,2,   264.3,2,    9.53,2,   24.43,2,    0.02,2,    1.63,2,   4.321,2,   2.362,2,   0.342,2,  2143.3,2,  2279.2,2,   782.3,2,   20.00,   7.7142,2,    25.00,-999.000,9, -999.00,-999.000,9,-999.000,9, -999.00,9,  -999.0,9,  -999.0,-999.000,9,-999.000,   3.590,3, -999.00,9,  196.80,-999.0000,9,-999.0000,9,-999.0000,9,-999.0000,9,-999.0000,9,-999.0000,9,   5.1813,     -999.0,-999.000,     -999.0,          9,     -999.0,          9,-999.000,          9
 33RO200501,       A16S,      33,          1,         26,         26,2,20050125,       2259,   -46.0003,   -31.5143,       5238,   250.7,   4.6005,  34.1592,2,  34.1594,2,    263.4,2,   269.4,2,   11.58,2,   25.51,2,    0.01,2,    1.69,2,   4.367,2,   2.379,2,   0.345,2,  2148.7,2,  2275.5,2,   800.6,2,   20.00,   7.7024,2,    25.00,-999.000,9, -999.00,-999.000,9,-999.000,9, -999.00,9,  -999.0,9,  -999.0,-999.000,9,-999.000,   3.973,3,   46.31,2,  250.70,-999.0000,9,-999.0000,9,-999.0000,9,-999.0000,9,-999.0000,9,-999.0000,9,   4.5820,     -999.0,-999.000,     -999.0,          9,     -999.0,          9,-999.000,          9
 33RO200501,       A16S,      33,          1,         25,         25,2,20050125,       2259,   -46.0003,   -31.5143,       5238,   300.7,   4.3548,  34.1629,2,  34.1633,2,    264.5,2,   265.1,2,   13.68,2,   26.55,2,    0.01,2,    1.76,2,-999.000,9,-999.000,9,-999.000,9,  2154.4,2,  2296.0,2,   824.5,2,   20.00,   7.6857,2,    25.00,-999.000,9, -999.00,-999.000,9,-999.000,9, -999.00,9,  -999.0,9,  -999.0,-999.000,9,-999.000,-999.000,9,   44.17,2,  300.70,-999.0000,9,-999.0000,9,-999.0000,9,-999.0000,9,-999.0000,9,-999.0000,9,   4.3329,     -999.0,-999.000,     -999.0,          9,     -999.0,          9,-999.000,          9
 33RO200501,       A16S,      33,          1,         24,         24,2,20050125,       2259,   -46.0003,   -31.5143,       5238,   350.2,   4.1105,  34.1653,2,  34.1655,2,    261.3,2,   262.8,2,   15.91,2,   27.47,2,    0.01,2,    1.81,2,   4.072,2,   2.193,2,   0.313,2,  2157.5,2,  2289.0,2,   840.5,2,   20.00,   7.6884,2,    25.00,-999.000,9, -999.00,-999.000,9,-999.000,9, -999.00,9,  -999.0,9,  -999.0,-999.000,9,-999.000,   3.448,3,   43.78,2,  350.20,-999.0000,9,-999.0000,9,-999.0000,9,-999.0000,9,-999.0000,9,-999.0000,9,   4.0856,     -999.0,-999.000,     -999.0,          9,     -999.0,          9,-999.000,          9
 33RO200501,       A16S,      33,          1,         23,         23,2,20050125,       2259,   -46.0003,   -31.5143,       5238,   401.2,   3.8415,  34.1660,2,  34.1651,2,    260.0,2,   260.6,2,   18.14,2,   28.14,2,    0.01,2,    1.86,2,   3.985,2,   2.110,2,   0.307,2,  2162.9,2,  2319.9,3,   861.6,2,   20.00,   7.6716,2,    25.00,-999.000,9, -999.00,-999.000,9,-999.000,9, -999.00,9,  -999.0,9,  -999.0,-999.000,9,-999.000,   3.372,3,   43.19,2,  401.20,-999.0000,9,-999.0000,9,-999.0000,9,-999.0000,9,-999.0000,9,-999.0000,9,   3.8137,     -999.0,-999.000,     -999.0,          9,     -999.0,          9,-999.000,          9
 33RO200501,       A16S,      33,          1,         22,         22,2,20050125,       2259,   -46.0003,   -31.5143,       5238,   500.8,   3.4137,  34.1848,2,  34.1853,2,    251.7,2,   250.6,2,   24.74,2,   29.49,2,    0.01,2,    1.96,2,   3.513,2,   1.851,2,   0.259,2,  2174.5,2,  2287.1,2,   906.9,2,   20.00,   7.6535,2,    25.00,-999.000,9, -999.00,-999.000,9,-999.000,9, -999.00,9,  -999.0,9,  -999.0,-999.000,9,-999.000,   3.356,3,   41.27,2,  500.80,-999.0000,9,-999.0000,9,-999.0000,9,-999.0000,9,-999.0000,9,-999.0000,9,   3.3803,     -999.0,-999.000,     -999.0,          9,     -999.0,          9,-999.000,          9
 33RO200501,       A16S,      33,          1,         21,         21,2,20050125,       2259,   -46.0003,   -31.5143,       5238,   598.6,   3.1254,  34.2328,2,  34.2336,2,    236.3,2,   233.9,2,   33.18,2,   31.10,2,    0.01,2,    2.07,2,   2.835,2,   1.481,2,   0.206,2,  2189.9,2,  2406.7,3,   968.9,2,   20.00,   7.6292,2,    25.00,-999.000,9, -999.00,-999.000,9,-999.000,9, -999.00,9,  -999.0,9,  -999.0,-999.000,9,-999.000,   2.604,3, -999.00,9,  598.60,-999.0000,9,-999.0000,9,-999.0000,9,-999.0000,9,-999.0000,9,-999.0000,9,   3.0863,     -999.0,-999.000,     -999.0,          9,     -999.0,          9,-999.000,          9
 33RO200501,       A16S,      33,          1,         20,         20,2,20050125,       2259,   -46.0003,   -31.5143,       5238,   700.2,   2.9364,  34.2904,2,  34.2908,2,    219.6,2,   217.9,2,   41.54,6,   32.31,6,    0.01,6,    2.17,6,   2.232,2,   1.139,2,   0.157,2,  2205.0,2,  2300.2,2,  1030.2,2,   20.00,   7.6087,2,    25.00,-999.000,9, -999.00,-999.000,9,-999.000,9, -999.00,9,  -999.0,9,  -999.0,-999.000,9,-999.000,   2.140,3,   40.87,2,  700.20,-999.0000,9,-999.0000,9,-999.0000,9,-999.0000,9,-999.0000,9,-999.0000,9,   2.8911,     -999.0,-999.000,     -999.0,          9,     -999.0,          9,-999.000,          9
 33RO200501,       A16S,      33,          1,         19,         19,2,20050125,       2259,   -46.0003,   -31.5143,       5238,   800.5,   2.8324,  34.3458,2,  34.3458,2,    204.8,2,   204.6,2,   48.70,2,   33.12,2,    0.00,2,    2.23,2,-999.000,9,-999.000,9,-999.000,9,  2216.7,2,  2307.5,2,  1075.1,2,   20.00,   7.5918,2,    25.00,-999.000,9, -999.00,-999.000,9,-999.000,9, -999.00,9,  -999.0,9,  -999.0,-999.000,9,-999.000,-999.000,9, -999.00,9,  800.50,-999.0000,9,-999.0000,9,-999.0000,9,-999.0000,9,-999.0000,9,-999.0000,9,   2.7806,     -999.0,-999.000,     -999.0,          9,     -999.0,          9,-999.000,          9
 33RO200501,       A16S,      33,          1,         18,         18,2,20050125,       2259,   -46.0003,   -31.5143,       5238,   900.5,   2.7374,  34.4184,2,  34.4184,2,    192.3,2,   191.5,2,   56.32,2,   33.79,2,    0.00,2,    2.28,2,   1.161,2,   0.578,2,   0.069,2,  2228.8,2,  2314.9,2,  1113.3,2,   20.00,   7.5835,6,    25.00,-999.000,9, -999.00,-999.000,9,-999.000,9, -999.00,9,  -999.0,9,  -999.0,-999.000,9,-999.000,   1.362,3,   40.72,2,  900.50,-999.0000,9,-999.0000,9,-999.0000,9,-999.0000,9,-999.0000,9,-999.0000,9,   2.6789,     -999.0,-999.000,     -999.0,          9,     -999.0,          9,-999.000,          9
 33RO200501,       A16S,      33,          1,         17,         17,2,20050125,       2259,   -46.0003,   -31.5143,       5238,  1001.0,   2.6492,  34.4822,2,  34.4865,2,    182.5,2,   182.1,2,   62.70,2,   34.05,2,    0.00,2,    2.30,2,   0.819,6,   0.406,6,   0.051,6,  2237.1,6,  2322.3,2,  1132.5,2,   20.00,   7.5759,2,    25.00,-999.000,9, -999.00,-999.000,9,-999.000,9, -999.00,9,  -999.0,9,  -999.0,-999.000,9,-999.000,   0.914,3,   40.39,2, 1001.00,-999.0000,9,-999.0000,9,-999.0000,9,-999.0000,9,-999.0000,9,-999.0000,9,   2.5841,     -999.0,-999.000,     -999.0,          9,     -999.0,          9,-999.000,          9
 33RO200501,       A16S,      33,          1,         16,         16,2,20050125,       2259,   -46.0003,   -31.5143,       5238,  1199.6,   2.6676,  34.5931,2,  34.5948,2,    175.1,2,   177.1,2,   67.04,6,   33.03,6,    0.01,6,    2.25,6,-999.000,9,-999.000,9,-999.000,9,  2243.1,2,  2330.2,2,  -999.0,9,   20.00,   7.5886,2,    25.00,-999.000,9, -999.00,-999.000,9,-999.000,9, -999.00,9,  -999.0,9,  -999.0,-999.000,9,-999.000,-999.000,9,   40.39,2, 1199.60,-999.0000,9,-999.0000,9,-999.0000,9,-999.0000,9,-999.0000,9,-999.0000,9,   2.5872,     -999.0,-999.000,     -999.0,          9,     -999.0,          9,-999.000,          9
 33RO200501,       A16S,      33,          1,         15,         15,2,20050125,       2259,   -46.0003,   -31.5143,       5238,  1400.3,   2.5211,  34.6406,2,  34.6405,2,    177.5,2,   176.0,2,   72.95,2,   32.70,2,    0.00,2,    2.24,2,   0.274,2,   0.221,2,   0.020,2,  2247.2,2,  2337.3,2,  1109.4,2,   20.00,   7.5844,2,    25.00,-999.000,9, -999.00,-999.000,9,-999.000,9, -999.00,9,  -999.0,9,  -999.0,-999.000,9,-999.000,   0.374,3,   39.88,2, 1400.30,-999.0000,9,-999.0000,9,-999.0000,9,-999.0000,9,-999.0000,9,-999.0000,9,   2.4265,     -999.0,-999.000,     -999.0,          9,     -999.0,          9,-999.000,          9
 33RO200501,       A16S,      33,          1,         14,         14,2,20050125,       2259,   -46.0003,   -31.5143,       5238,  1600.3,   2.5615,  34.7103,2,  34.7072,2,    187.4,2,   183.4,2,   71.57,2,   30.99,2,    0.00,2,    2.14,2,   0.166,2,   0.081,2,   0.012,2,  2242.7,2,  -999.0,5,  -999.0,9,   20.00,   7.5981,2,    25.00,-999.000,9, -999.00,-999.000,9,-999.000,9, -999.00,9,  -999.0,9,  -999.0,-999.000,9,-999.000,   0.268,3,   40.03,2, 1600.30,-999.0000,9,-999.0000,9,-999.0000,9,-999.0000,9,-999.0000,9,-999.0000,9,   2.4503,     -999.0,-999.000,     -999.0,          9,     -999.0,          9,-999.000,          9
 33RO200501,       A16S,      33,          1,         13,         13,2,20050125,       2259,   -46.0003,   -31.5143,       5238,  1800.4,   2.5280,  34.7522,2,  34.7522,2,    192.9,2,   191.9,2,   70.00,2,   29.61,2,    0.00,2,    2.04,2,   0.116,2,   0.049,2,   0.004,2,  2236.1,2,  -999.0,5,   991.4,2,   20.00,   7.6213,2,    25.00,-999.000,9, -999.00,-999.000,9,-999.000,9, -999.00,9,  -999.0,9,  -999.0,-999.000,9,-999.000,   0.232,3,   39.23,2, 1800.40,-999.0000,9,-999.0000,9,-999.0000,9,-999.0000,9,-999.0000,9,-999.0000,9,   2.4004,     -999.0,-999.000,     -999.0,          9,     -999.0,          9,-999.000,          9
 33RO200501,       A16S,      33,          1,         12,         12,2,20050125,       2259,   -46.0003,   -31.5143,       5238,  2002.4,   2.6019,  34.8056,2,  34.8043,2,    196.6,2,   207.2,2,   62.21,6,   27.38,6,    0.01,6,    1.86,6,   0.084,2,   0.041,2,  -0.002,2,  2223.0,2,  2341.5,2,   929.7,2,   20.00,   7.6525,2,    25.00,-999.000,9, -999.00,-999.000,9,-999.000,9, -999.00,9,  -999.0,9,  -999.0,-999.000,9,-999.000,   0.213,3,   39.86,2, 2002.40,-999.0000,9,-999.0000,9,-999.0000,9,-999.0000,9,-999.0000,9,-999.0000,9,   2.4555,     -999.0,-999.000,     -999.0,          9,     -999.0,          9,-999.000,          9
 33RO200501,       A16S,      33,          1,         11,         11,2,20050125,       2259,   -46.0003,   -31.5143,       5238,  2199.3,   2.2389,  34.7770,2,-999.0000,9,    200.9,2,   200.5,2,   75.71,2,   28.99,2,    0.00,2,    1.99,2,   0.085,2,   0.041,2,  -0.001,2,  2235.5,2,  2349.0,2,   971.1,2,   20.00,   7.6404,2,    25.00,-999.000,9, -999.00,-999.000,9,-999.000,9, -999.00,9,  -999.0,9,  -999.0,-999.000,9,-999.000,   0.186,3, -999.00,9, 2199.30,-999.0000,9,-999.0000,9,-999.0000,9,-999.0000,9,-999.0000,9,-999.0000,9,   2.0810,     -999.0,-999.000,     -999.0,          9,     -999.0,          9,-999.000,          9
 33RO200501,       A16S,      33,          1,         10,         10,2,20050125,       2259,   -46.0003,   -31.5143,       5238,  2399.6,   1.9837,  34.7668,2,  34.7660,2,    201.5,2,   200.5,2,   83.15,2,   29.52,2,    0.00,2,    2.03,2,   0.101,2,   0.056,2,   0.004,2,  2240.2,2,  2352.0,2,  -999.0,9,   20.00,   7.6306,2,    25.00,-999.000,9, -999.00,-999.000,9,-999.000,9, -999.00,9,  -999.0,9,  -999.0,-999.000,9,-999.000,   0.178,3,   40.11,2, 2399.60,-999.0000,9,-999.0000,9,-999.0000,9,-999.0000,9,-999.0000,9,-999.0000,9,   1.8123,     -999.0,-999.000,     -999.0,          9,     -999.0,          9,-999.000,          9
 33RO200501,       A16S,      33,          1,          9,          9,2,20050125,       2259,   -46.0003,   -31.5143,       5238,  2600.0,   1.7683,  34.7565,2,  34.7565,2,    201.9,2,   202.3,2,   89.55,2,   30.00,2,    0.00,2,    2.08,2,   0.104,2,   0.042,2,   0.004,2,  2244.5,2,  2354.3,2,   996.2,2,   20.00,   7.6226,2,    25.00,-999.000,9, -999.00,-999.000,9,-999.000,9, -999.00,9,  -999.0,9,  -999.0,-999.000,9,-999.000,   0.179,3, -999.00,9, 2600.00,-999.0000,9,-999.0000,9,-999.0000,9,-999.0000,9,-999.0000,9,-999.0000,9,   1.5828,     -999.0,-999.000,     -999.0,          9,     -999.0,          9,-999.000,          9
 33RO200501,       A16S,      33,          1,          8,          8,2,20050125,       2259,   -46.0003,   -31.5143,       5238,  2900.6,   1.3865,  34.7343,2,  34.7345,2,    201.5,2,   202.1,2,  101.85,6,   30.96,6,    0.01,6,    2.17,6,   0.128,2,   0.055,2,   0.002,2,  2252.2,2,  2357.1,2,  1018.8,2,   20.00,   7.6226,2,    25.00,-999.000,9, -999.00,-999.000,9,-999.000,9, -999.00,9,  -999.0,9,  -999.0,-999.000,9,-999.000,   0.197,3,   39.88,2, 2900.60,-999.0000,9,-999.0000,9,-999.0000,9,-999.0000,9,-999.0000,9,-999.0000,9,   1.1812,     -999.0,-999.000,     -999.0,          9,     -999.0,          9,-999.000,          9