BOTTLE,20220818CCHSIOAMB
EXPOCODE,SECT_ID,STNNBR,CASTNO,SAMPNO,BTLNBR,BTLNBR_FLAG_W,DATE,TIME,LATITUDE,LONGITUDE,DEPTH,CTDPRS,CTDTMP,CTDSAL,CTDSAL_FLAG_W,SALNTY,SALNTY_FLAG_W,CTDOXY,CTDOXY_FLAG_W,OXYGEN,OXYGEN_FLAG_W,SILCAT,SILCAT_FLAG_W,NITRAT,NITRAT_FLAG_W,NITRIT,NITRIT_FLAG_W,PHSPHT,PHSPHT_FLAG_W,CFC-11,CFC-11_FLAG_W,CFC-12,CFC-12_FLAG_W,CFC113,CFC113_FLAG_W,TCARBN,TCARBN_FLAG_W,ALKALI,ALKALI_FLAG_W,PCO2,PCO2_FLAG_W,PCO2TMP,PH_SWS,PH_SWS_FLAG_W,PH_TMP,TRITUM,TRITUM_FLAG_W,TRITER,HELIUM,HELIUM_FLAG_W,DELHE3,DELHE3_FLAG_W,DELC13,DELC13_FLAG_W,DELC14,DELC14_FLAG_W,C14ERR,NEON,NEON_FLAG_W,NEONER,CCL4,CCL4_FLAG_W,DOC,DOC_FLAG_W,CTDRAW,CDOM325,CDOM325_FLAG_W,CDOM340,CDOM340_FLAG_W,CDOM380,CDOM380_FLAG_W,CDOM412,CDOM412_FLAG_W,CDOMSL,CDOMSL_FLAG_W,CDOMSN,CDOMSN_FLAG_W,THETA,HELIER,DELHER,CH3CL,CH3CL_FLAG_W,CH3BR,CH3BR_FLAG_W,CH3I,CH3I_FLAG_W
,,,,,,,,,,,METERS,DBAR,ITS-90,PSS-78,,PSS-78,,UMOL/KG,,UMOL/KG,,UMOL/KG,,UMOL/KG,,UMOL/KG,,UMOL/KG,,PMOL/KG,,PMOL/KG,,PMOL/KG,,UMOL/KG,,UMOL/KG,,UATM,,DEG C,,,DEG C,TU,,TU,NMOL/KG,,PERCNT,,/MILLE,,/MILLE,,/MILLE,NMOL/KG,,NMOL/KG,PMOL/KG,,UMOL/KG,,DBAR,1/M,,1/M,,1/M,,1/M,,1/NM,,1/NM,,DEG C,NMOL/KG,PERCNT,PMOL/KG,,PMOL/KG,,PMOL/KG,
 33RO200501,       A16S,      56,          1,         36,         36,2,20050202,       0033,   -34.5002,   -25.0002,       3975,     2.2,  20.3604,  35.5242,2,  35.5247,2,    228.1,2,   228.5,2,    0.93,2,    0.00,2,    0.00,2,    0.07,2,   2.198,2,   1.392,2,   0.178,2,  2053.5,6,  2332.4,6,  -999.0,9,   20.00,   8.0019,6,    25.00,-999.000,9, -999.00,-999.000,9,-999.000,9, -999.00,9,  -999.0,9,  -999.0,-999.000,9,-999.000,   1.969,4, -999.00,9,    2.20,-999.0000,9,-999.0000,9,-999.0000,9,-999.0000,9,-999.0000,9,-999.0000,9,  20.3600,     -999.0,-999.000,     72.618,          2,      0.866,          2,   3.924,          2
 33RO200501,       A16S,      56,          1,         35,         35,2,20050202,       0033,   -34.5002,   -25.0002,       3975,    19.4,  20.3678,  35.5250,2,  35.5247,2,    227.7,2,   228.6,2,    0.92,2,    0.00,2,    0.00,2,    0.07,2,-999.000,9,-999.000,9,-999.000,9,  -999.0,9,  -999.0,9,  -999.0,9,   20.00,-999.0000,9,    25.00,-999.000,9, -999.00,-999.000,9,-999.000,9, -999.00,9,  -999.0,9,  -999.0,-999.000,9,-999.000,-999.000,9, -999.00,9,   19.40,-999.0000,9,-999.0000,9,-999.0000,9,-999.0000,9,-999.0000,9,-999.0000,9,  20.3641,     -999.0,-999.000,     74.003,          2,      0.877,          2,   4.007,          2
 33RO200501,       A16S,      56,          1,         34,         34,2,20050202,       0033,   -34.5002,   -25.0002,       3975,    39.6,  19.6798,  35.5388,2,  35.5397,2,    236.1,2,   234.5,2,    0.92,2,    0.00,2,    0.00,2,    0.08,2,-999.000,9,-999.000,9,-999.000,9,  -999.0,9,  -999.0,9,  -999.0,9,   20.00,-999.0000,9,    25.00,-999.000,9, -999.00,-999.000,9,-999.000,9, -999.00,9,  -999.0,9,  -999.0,-999.000,9,-999.000,-999.000,9, -999.00,9,   39.60,-999.0000,9,-999.0000,9,-999.0000,9,-999.0000,9,-999.0000,9,-999.0000,9,  19.6726,     -999.0,-999.000,     -999.0,          9,     -999.0,          9,-999.000,          9
 33RO200501,       A16S,      56,          1,         33,         33,2,20050202,       0033,   -34.5002,   -25.0002,       3975,    59.6,  18.5801,  35.5477,2,  35.5464,2,    239.2,2,   241.0,2,    0.91,2,    0.00,2,    0.00,2,    0.10,2,-999.000,9,-999.000,9,-999.000,9,  -999.0,9,  -999.0,9,  -999.0,9,   20.00,-999.0000,9,    25.00,-999.000,9, -999.00,-999.000,9,-999.000,9, -999.00,9,  -999.0,9,  -999.0,-999.000,9,-999.000,-999.000,9, -999.00,9,   59.60,-999.0000,9,-999.0000,9,-999.0000,9,-999.0000,9,-999.0000,9,-999.0000,9,  18.5697,     -999.0,-999.000,    118.025,          2,      1.044,          2,   9.100,          2
 33RO200501,       A16S,      56,          1,         32,         32,2,20050202,       0033,   -34.5002,   -25.0002,       3975,    79.2,  17.3325,  35.5533,2,  35.5487,2,    244.2,2,   245.5,2,    0.95,2,    0.01,2,    0.00,2,    0.11,2,-999.000,9,-999.000,9,-999.000,9,  -999.0,9,  -999.0,9,  -999.0,9,   20.00,-999.0000,9,    25.00,-999.000,9, -999.00,-999.000,9,-999.000,9, -999.00,9,  -999.0,9,  -999.0,-999.000,9,-999.000,-999.000,9, -999.00,9,   79.20,-999.0000,9,-999.0000,9,-999.0000,9,-999.0000,9,-999.0000,9,-999.0000,9,  17.3193,     -999.0,-999.000,     -999.0,          9,     -999.0,          9,-999.000,          9
 33RO200501,       A16S,      56,          1,         31,         31,2,20050202,       0033,   -34.5002,   -25.0002,       3975,    98.9,  16.2837,  35.5165,2,  35.5170,2,    238.9,2,   240.7,2,    0.95,2,    0.01,2,    0.00,2,    0.16,2,-999.000,9,-999.000,9,-999.000,9,  -999.0,9,  -999.0,9,  -999.0,9,   20.00,-999.0000,9,    25.00,-999.000,9, -999.00,-999.000,9,-999.000,9, -999.00,9,  -999.0,9,  -999.0,-999.000,9,-999.000,-999.000,9, -999.00,9,   98.90,-999.0000,9,-999.0000,9,-999.0000,9,-999.0000,9,-999.0000,9,-999.0000,9,  16.2678,     -999.0,-999.000,     79.375,          2,      0.878,          2,   4.694,          2
 33RO200501,       A16S,      56,          1,         30,         30,2,20050202,       0033,   -34.5002,   -25.0002,       3975,   123.9,  15.5711,  35.5059,2,  35.5048,2,    225.7,2,   221.1,2,    1.29,2,    2.09,2,    0.08,2,    0.29,2,-999.000,9,-999.000,9,-999.000,9,  -999.0,9,  -999.0,9,  -999.0,9,   20.00,-999.0000,9,    25.00,-999.000,9, -999.00,-999.000,9,-999.000,9, -999.00,9,  -999.0,9,  -999.0,-999.000,9,-999.000,-999.000,9, -999.00,9,  123.90,-999.0000,9,-999.0000,9,-999.0000,9,-999.0000,9,-999.0000,9,-999.0000,9,  15.5519,     -999.0,-999.000,     -999.0,          9,     -999.0,          9,-999.000,          9
 33RO200501,       A16S,      56,          1,         29,         29,2,20050202,       0033,   -34.5002,   -25.0002,       3975,   148.6,  15.1120,  35.4787,2,  35.4761,2,    218.5,2,   219.9,2,    1.60,2,    3.99,2,    0.02,2,    0.39,2,   2.758,2,   1.634,2,   0.103,2,  -999.0,9,  2329.5,2,  -999.0,9,   20.00,   7.9221,2,    25.00,-999.000,9, -999.00,-999.000,9,-999.000,9, -999.00,9,  -999.0,9,  -999.0,-999.000,9,-999.000,   0.908,4, -999.00,9,  148.60,-999.0000,9,-999.0000,9,-999.0000,9,-999.0000,9,-999.0000,9,-999.0000,9,  15.0894,     -999.0,-999.000,     14.400,          2,      0.244,          2,   0.186,          2
 33RO200501,       A16S,      56,          1,         28,         28,2,20050202,       0033,   -34.5002,   -25.0002,       3975,   173.5,  14.7726,  35.4493,2,  35.4464,2,    217.2,2,   218.2,2,    1.79,2,    5.05,2,    0.01,2,    0.45,2,-999.000,9,-999.000,9,-999.000,9,  -999.0,9,  -999.0,9,  -999.0,9,   20.00,-999.0000,9,    25.00,-999.000,9, -999.00,-999.000,9,-999.000,9, -999.00,9,  -999.0,9,  -999.0,-999.000,9,-999.000,-999.000,9, -999.00,9,  173.50,-999.0000,9,-999.0000,9,-999.0000,9,-999.0000,9,-999.0000,9,-999.0000,9,  14.7465,     -999.0,-999.000,     -999.0,          9,     -999.0,          9,-999.000,          9
 33RO200501,       A16S,      56,          1,         27,         27,2,20050202,       0033,   -34.5002,   -25.0002,       3975,   199.1,  14.3700,  35.4015,2,  35.4012,2,    216.7,2,   217.8,2,    1.99,2,    5.94,2,    0.00,2,    0.50,2,-999.000,9,-999.000,9,-999.000,9,  -999.0,9,  -999.0,9,  -999.0,9,   20.00,-999.0000,9,    25.00,-999.000,9, -999.00,-999.000,9,-999.000,9, -999.00,9,  -999.0,9,  -999.0,-999.000,9,-999.000,-999.000,9, -999.00,9,  199.10,-999.0000,9,-999.0000,9,-999.0000,9,-999.0000,9,-999.0000,9,-999.0000,9,  14.3406,     -999.0,-999.000,     -999.0,          9,     -999.0,          9,-999.000,          9
 33RO200501,       A16S,      56,          1,         26,         26,2,20050202,       0033,   -34.5002,   -25.0002,       3975,   248.8,  13.9934,  35.3876,2,  35.3882,2,    218.9,2,   219.1,2,    2.34,2,    6.96,2,    0.00,2,    0.55,2,-999.000,9,-999.000,9,-999.000,9,  -999.0,9,  -999.0,9,  -999.0,9,   20.00,-999.0000,9,    25.00,-999.000,9, -999.00,-999.000,9,-999.000,9, -999.00,9,  -999.0,9,  -999.0,-999.000,9,-999.000,-999.000,9, -999.00,9,  248.80,-999.0000,9,-999.0000,9,-999.0000,9,-999.0000,9,-999.0000,9,-999.0000,9,  13.9573,     -999.0,-999.000,     -999.0,          9,     -999.0,          9,-999.000,          9
 33RO200501,       A16S,      56,          1,         25,         25,2,20050202,       0033,   -34.5002,   -25.0002,       3975,   300.1,  13.2968,  35.2770,2,  35.2766,2,    217.2,2,   216.8,2,    2.81,2,    8.71,2,    0.00,2,    0.65,2,   2.936,2,   1.684,2,   0.064,2,  -999.0,9,  2320.4,2,  -999.0,9,   20.00,   7.8705,2,    25.00,-999.000,9, -999.00,-999.000,9,-999.000,9, -999.00,9,  -999.0,9,  -999.0,-999.000,9,-999.000,   0.732,4, -999.00,9,  300.10,-999.0000,9,-999.0000,9,-999.0000,9,-999.0000,9,-999.0000,9,-999.0000,9,  13.2546,     -999.0,-999.000,      3.944,          2,      0.000,          2,   0.031,          2
 33RO200501,       A16S,      56,          1,         24,         24,2,20050202,       0033,   -34.5002,   -25.0002,       3975,   348.9,  12.5840,  35.1643,2,  35.1622,2,    214.2,2,   214.6,2,    3.41,2,   10.52,2,    0.00,2,    0.75,2,-999.000,9,-999.000,9,-999.000,9,  -999.0,9,  -999.0,9,  -999.0,9,   20.00,-999.0000,9,    25.00,-999.000,9, -999.00,-999.000,9,-999.000,9, -999.00,9,  -999.0,9,  -999.0,-999.000,9,-999.000,-999.000,9, -999.00,9,  348.90,-999.0000,9,-999.0000,9,-999.0000,9,-999.0000,9,-999.0000,9,-999.0000,9,  12.5367,     -999.0,-999.000,     -999.0,          9,     -999.0,          9,-999.000,          9
 33RO200501,       A16S,      56,          1,         23,         23,2,20050202,       0033,   -34.5002,   -25.0002,       3975,   398.5,  11.8735,  35.0548,2,  35.0572,2,    212.5,2,   213.8,2,    3.92,2,   12.18,2,    0.00,2,    0.85,2,-999.000,9,-999.000,9,-999.000,9,  -999.0,9,  -999.0,9,  -999.0,9,   20.00,-999.0000,9,    25.00,-999.000,9, -999.00,-999.000,9,-999.000,9, -999.00,9,  -999.0,9,  -999.0,-999.000,9,-999.000,-999.000,9, -999.00,9,  398.50,-999.0000,9,-999.0000,9,-999.0000,9,-999.0000,9,-999.0000,9,-999.0000,9,  11.8214,     -999.0,-999.000,     -999.0,          9,     -999.0,          9,-999.000,          9
 33RO200501,       A16S,      56,          1,         22,         22,2,20050202,       0033,   -34.5002,   -25.0002,       3975,   499.4,   9.8343,  34.7749,2,  34.7749,2,    211.7,2,   212.0,2,    6.29,2,   17.30,2,    0.00,2,    1.15,2,   3.079,2,   1.661,2,   0.100,2,  -999.0,9,  2295.0,2,  -999.0,9,   20.00,   7.7768,2,    25.00,-999.000,9, -999.00,-999.000,9,-999.000,9, -999.00,9,  -999.0,9,  -999.0,-999.000,9,-999.000,   1.261,4, -999.00,9,  499.40,-999.0000,9,-999.0000,9,-999.0000,9,-999.0000,9,-999.0000,9,-999.0000,9,   9.7762,     -999.0,-999.000,      0.000,          2,      0.000,          2,   0.024,          2
 33RO200501,       A16S,      56,          1,         21,         21,2,20050202,       0033,   -34.5002,   -25.0002,       3975,   599.4,   8.0591,  34.5680,2,  34.5660,2,    212.7,2,   213.2,2,    9.38,2,   21.74,2,    0.00,2,    1.43,2,-999.000,9,-999.000,9,-999.000,9,  -999.0,9,  -999.0,9,  -999.0,9,   20.00,-999.0000,9,    25.00,-999.000,9, -999.00,-999.000,9,-999.000,9, -999.00,9,  -999.0,9,  -999.0,-999.000,9,-999.000,-999.000,9, -999.00,9,  599.40,-999.0000,9,-999.0000,9,-999.0000,9,-999.0000,9,-999.0000,9,-999.0000,9,   7.9970,     -999.0,-999.000,     -999.0,          9,     -999.0,          9,-999.000,          9
 33RO200501,       A16S,      56,          1,         20,         20,2,20050202,       0033,   -34.5002,   -25.0002,       3975,   700.1,   6.3499,  34.3900,2,  34.3901,2,    224.0,2,   224.7,2,   12.35,6,   24.76,6,    0.00,6,    1.62,6,-999.000,9,-999.000,9,-999.000,9,  -999.0,9,  -999.0,9,  -999.0,9,   20.00,-999.0000,9,    25.00,-999.000,9, -999.00,-999.000,9,-999.000,9, -999.00,9,  -999.0,9,  -999.0,-999.000,9,-999.000,-999.000,9, -999.00,9,  700.10,-999.0000,9,-999.0000,9,-999.0000,9,-999.0000,9,-999.0000,9,-999.0000,9,   6.2860,     -999.0,-999.000,     -999.0,          9,     -999.0,          9,-999.000,          9
 33RO200501,       A16S,      56,          1,         19,         19,2,20050202,       0033,   -34.5002,   -25.0002,       3975,   799.3,   5.3356,  34.3176,2,  34.3183,2,    228.6,2,   229.0,2,   16.25,2,   26.80,2,    0.00,2,    1.76,2,   3.017,2,   1.544,2,   0.169,2,  -999.0,9,  2281.8,2,  -999.0,9,   20.00,   7.6805,2,    25.00,-999.000,9, -999.00,-999.000,9,-999.000,9, -999.00,9,  -999.0,9,  -999.0,-999.000,9,-999.000,   2.552,4, -999.00,9,  799.30,-999.0000,9,-999.0000,9,-999.0000,9,-999.0000,9,-999.0000,9,-999.0000,9,   5.2684,     -999.0,-999.000,      2.153,          2,      0.274,          2,   0.033,          2
 33RO200501,       A16S,      56,          1,         18,         18,2,20050202,       0033,   -34.5002,   -25.0002,       3975,   898.0,   4.4164,  34.2716,2,  34.2720,2,    230.8,2,   232.2,2,   21.60,2,   28.60,2,    0.00,2,    1.88,2,-999.000,9,-999.000,9,-999.000,9,  -999.0,9,  -999.0,9,  -999.0,9,   20.00,-999.0000,9,    25.00,-999.000,9, -999.00,-999.000,9,-999.000,9, -999.00,9,  -999.0,9,  -999.0,-999.000,9,-999.000,-999.000,9, -999.00,9,  898.00,-999.0000,9,-999.0000,9,-999.0000,9,-999.0000,9,-999.0000,9,-999.0000,9,   4.3466,     -999.0,-999.000,     -999.0,          9,     -999.0,          9,-999.000,          9
 33RO200501,       A16S,      56,          1,         17,         17,2,20050202,       0033,   -34.5002,   -25.0002,       3975,  1000.1,   3.7007,  34.2582,2,  34.2582,2,    228.0,2,   230.3,2,   27.91,2,   30.06,2,    0.00,2,    1.98,2,-999.000,9,-999.000,9,-999.000,9,  -999.0,9,  -999.0,9,  -999.0,9,   20.00,-999.0000,9,    25.00,-999.000,9, -999.00,-999.000,9,-999.000,9, -999.00,9,  -999.0,9,  -999.0,-999.000,9,-999.000,-999.000,9, -999.00,9, 1000.10,-999.0000,9,-999.0000,9,-999.0000,9,-999.0000,9,-999.0000,9,-999.0000,9,   3.6277,     -999.0,-999.000,     -999.0,          9,     -999.0,          9,-999.000,          9
 33RO200501,       A16S,      56,          1,         16,         16,2,20050202,       0033,   -34.5002,   -25.0002,       3975,  1101.0,   3.3577,  34.2923,2,  34.2920,2,    219.1,2,   214.8,2,   35.08,6,   31.26,6,    0.00,6,    2.06,6,-999.000,9,-999.000,9,-999.000,9,  -999.0,9,  -999.0,9,  -999.0,9,   20.00,-999.0000,9,    25.00,-999.000,9, -999.00,-999.000,9,-999.000,9, -999.00,9,  -999.0,9,  -999.0,-999.000,9,-999.000,-999.000,9, -999.00,9, 1101.00,-999.0000,9,-999.0000,9,-999.0000,9,-999.0000,9,-999.0000,9,-999.0000,9,   3.2794,     -999.0,-999.000,     -999.0,          9,     -999.0,          9,-999.000,          9
 33RO200501,       A16S,      56,          1,         15,         15,2,20050202,       0033,   -34.5002,   -25.0002,       3975,  1199.1,   3.1464,  34.3322,2,  34.3320,2,    208.2,2,   209.4,2,   41.48,2,   32.13,2,    0.00,2,    2.12,2,   1.430,2,   0.701,2,   0.071,2,  -999.0,9,  2300.7,2,  -999.0,9,   20.00,   7.6088,2,    25.00,-999.000,9, -999.00,-999.000,9,-999.000,9, -999.00,9,  -999.0,9,  -999.0,-999.000,9,-999.000,   1.653,4, -999.00,9, 1199.10,-999.0000,9,-999.0000,9,-999.0000,9,-999.0000,9,-999.0000,9,-999.0000,9,   3.0621,     -999.0,-999.000,      0.000,          2,      0.000,          2,   0.024,          2
 33RO200501,       A16S,      56,          1,         14,         14,2,20050202,       0033,   -34.5002,   -25.0002,       3975,  1299.6,   2.9831,  34.3881,2,  34.3891,2,    197.4,2,   198.3,2,   48.29,2,   32.82,2,    0.00,2,    2.18,2,-999.000,9,-999.000,9,-999.000,9,  -999.0,9,  -999.0,9,  -999.0,9,   20.00,-999.0000,9,    25.00,-999.000,9, -999.00,-999.000,9,-999.000,9, -999.00,9,  -999.0,9,  -999.0,-999.000,9,-999.000,-999.000,9, -999.00,9, 1299.60,-999.0000,9,-999.0000,9,-999.0000,9,-999.0000,9,-999.0000,9,-999.0000,9,   2.8923,     -999.0,-999.000,     -999.0,          9,     -999.0,          9,-999.000,          9
 33RO200501,       A16S,      56,          1,         13,         13,2,20050202,       0033,   -34.5002,   -25.0002,       3975,  1399.5,   2.8923,  34.4466,2,  34.4444,2,    190.1,2,   190.6,2,   53.38,2,   32.95,2,    0.00,2,    2.20,2,   0.689,2,   0.332,2,   0.027,2,  -999.0,9,  2314.9,2,  -999.0,9,   20.00,   7.5872,2,    25.00,-999.000,9, -999.00,-999.000,9,-999.000,9, -999.00,9,  -999.0,9,  -999.0,-999.000,9,-999.000,   0.914,4, -999.00,9, 1399.50,-999.0000,9,-999.0000,9,-999.0000,9,-999.0000,9,-999.0000,9,-999.0000,9,   2.7943,     -999.0,-999.000,      0.000,          2,      0.000,          2,   0.016,          2
 33RO200501,       A16S,      56,          1,         12,         12,2,20050202,       0033,   -34.5002,   -25.0002,       3975,  1599.1,   2.8198,  34.5865,2,  34.5872,2,    183.0,2,   183.1,2,   59.97,6,   32.05,6,    0.00,6,    2.14,6,-999.000,9,-999.000,9,-999.000,9,  -999.0,9,  -999.0,9,  -999.0,9,   20.00,-999.0000,9,    25.00,-999.000,9, -999.00,-999.000,9,-999.000,9, -999.00,9,  -999.0,9,  -999.0,-999.000,9,-999.000,-999.000,9, -999.00,9, 1599.10,-999.0000,9,-999.0000,9,-999.0000,9,-999.0000,9,-999.0000,9,-999.0000,9,   2.7058,     -999.0,-999.000,     -999.0,          9,     -999.0,          9,-999.000,          9
 33RO200501,       A16S,      56,          1,         11,         11,2,20050202,       0033,   -34.5002,   -25.0002,       3975,  1798.8,   2.8523,  34.6890,2,  34.6891,2,    190.5,2,   190.7,2,   58.52,2,   30.03,2,    0.00,2,    2.00,2,-999.000,9,-999.000,9,-999.000,9,  -999.0,9,  -999.0,9,  -999.0,9,   20.00,-999.0000,9,    25.00,-999.000,9, -999.00,-999.000,9,-999.000,9, -999.00,9,  -999.0,9,  -999.0,-999.000,9,-999.000,-999.000,9, -999.00,9, 1798.80,-999.0000,9,-999.0000,9,-999.0000,9,-999.0000,9,-999.0000,9,-999.0000,9,   2.7206,     -999.0,-999.000,     -999.0,          9,     -999.0,          9,-999.000,          9
 33RO200501,       A16S,      56,          1,         10,         10,2,20050202,       0033,   -34.5002,   -25.0002,       3975,  1998.6,   2.9056,  34.7696,2,  34.7691,2,    203.1,2,   203.7,2,   53.38,2,   27.65,2,    0.00,2,    1.84,2,   0.052,6,   0.026,6,   0.000,6,  -999.0,9,  2328.0,2,  -999.0,9,   20.00,   7.6468,2,    25.00,-999.000,9, -999.00,-999.000,9,-999.000,9, -999.00,9,  -999.0,9,  -999.0,-999.000,9,-999.000,   0.128,4, -999.00,9, 1998.60,-999.0000,9,-999.0000,9,-999.0000,9,-999.0000,9,-999.0000,9,-999.0000,9,   2.7551,     -999.0,-999.000,      7.048,          2,      0.379,          2,   0.021,          2
 33RO200501,       A16S,      56,          1,          9,          9,2,20050202,       0033,   -34.5002,   -25.0002,       3975,  2200.6,   2.9024,  34.8247,2,  34.8252,2,    216.7,2,   217.8,2,   47.66,2,   25.49,2,    0.00,2,    1.69,2,-999.000,9,-999.000,9,-999.000,9,  -999.0,9,  -999.0,9,  -999.0,9,   20.00,-999.0000,9,    25.00,-999.000,9, -999.00,-999.000,9,-999.000,9, -999.00,9,  -999.0,9,  -999.0,-999.000,9,-999.000,-999.000,9, -999.00,9, 2200.60,-999.0000,9,-999.0000,9,-999.0000,9,-999.0000,9,-999.0000,9,-999.0000,9,   2.7332,     -999.0,-999.000,     -999.0,          9,     -999.0,          9,-999.000,          9
 33RO200501,       A16S,      56,          1,          8,          8,2,20050202,       0033,   -34.5002,   -25.0002,       3975,  2399.3,   2.8830,  34.8638,2,  34.8639,2,    228.0,2,   229.1,2,   43.15,6,   23.97,6,    0.00,6,    1.58,6,-999.000,9,-999.000,9,-999.000,9,  -999.0,9,  -999.0,9,  -999.0,9,   20.00,-999.0000,9,    25.00,-999.000,9, -999.00,-999.000,9,-999.000,9, -999.00,9,  -999.0,9,  -999.0,-999.000,9,-999.000,-999.000,9, -999.00,9, 2399.30,-999.0000,9,-999.0000,9,-999.0000,9,-999.0000,9,-999.0000,9,-999.0000,9,   2.6952,     -999.0,-999.000,     -999.0,          9,     -999.0,          9,-999.000,          9