BOTTLE,20220818CCHSIOAMB
EXPOCODE,SECT_ID,STNNBR,CASTNO,SAMPNO,BTLNBR,BTLNBR_FLAG_W,DATE,TIME,LATITUDE,LONGITUDE,DEPTH,CTDPRS,CTDTMP,CTDSAL,CTDSAL_FLAG_W,SALNTY,SALNTY_FLAG_W,CTDOXY,CTDOXY_FLAG_W,OXYGEN,OXYGEN_FLAG_W,SILCAT,SILCAT_FLAG_W,NITRAT,NITRAT_FLAG_W,NITRIT,NITRIT_FLAG_W,PHSPHT,PHSPHT_FLAG_W,CFC-11,CFC-11_FLAG_W,CFC-12,CFC-12_FLAG_W,CFC113,CFC113_FLAG_W,TCARBN,TCARBN_FLAG_W,ALKALI,ALKALI_FLAG_W,PCO2,PCO2_FLAG_W,PCO2TMP,PH_SWS,PH_SWS_FLAG_W,PH_TMP,TRITUM,TRITUM_FLAG_W,TRITER,HELIUM,HELIUM_FLAG_W,DELHE3,DELHE3_FLAG_W,DELC13,DELC13_FLAG_W,DELC14,DELC14_FLAG_W,C14ERR,NEON,NEON_FLAG_W,NEONER,CCL4,CCL4_FLAG_W,DOC,DOC_FLAG_W,CTDRAW,CDOM325,CDOM325_FLAG_W,CDOM340,CDOM340_FLAG_W,CDOM380,CDOM380_FLAG_W,CDOM412,CDOM412_FLAG_W,CDOMSL,CDOMSL_FLAG_W,CDOMSN,CDOMSN_FLAG_W,THETA,HELIER,DELHER,CH3CL,CH3CL_FLAG_W,CH3BR,CH3BR_FLAG_W,CH3I,CH3I_FLAG_W
,,,,,,,,,,,METERS,DBAR,ITS-90,PSS-78,,PSS-78,,UMOL/KG,,UMOL/KG,,UMOL/KG,,UMOL/KG,,UMOL/KG,,UMOL/KG,,PMOL/KG,,PMOL/KG,,PMOL/KG,,UMOL/KG,,UMOL/KG,,UATM,,DEG C,,,DEG C,TU,,TU,NMOL/KG,,PERCNT,,/MILLE,,/MILLE,,/MILLE,NMOL/KG,,NMOL/KG,PMOL/KG,,UMOL/KG,,DBAR,1/M,,1/M,,1/M,,1/M,,1/NM,,1/NM,,DEG C,NMOL/KG,PERCNT,PMOL/KG,,PMOL/KG,,PMOL/KG,
 33RO200501,       A16S,      88,          1,          7,          7,2,20050211,       2144,   -18.5018,   -25.0005,       5591,  3700.3,   2.2861,  34.8800,2,  34.8808,2,    248.1,2,   248.6,2,   47.57,2,   21.97,2,    0.00,2,    1.45,2,   0.014,2,   0.005,2,   0.000,2,  -999.0,9,  -999.0,9,  -999.0,9,   20.00,-999.0000,9,    25.00,-999.000,9, -999.00,-999.000,9,-999.000,9, -999.00,9,  -999.0,9,  -999.0,-999.000,9,-999.000,   0.067,4, -999.00,9, 3700.30,-999.0000,9,-999.0000,9,-999.0000,9,-999.0000,9,-999.0000,9,-999.0000,9,   1.9775,     -999.0,-999.000,      2.263,          2,      0.068,          2,   0.006,          2
 33RO200501,       A16S,      88,          1,          6,          6,2,20050211,       2144,   -18.5018,   -25.0005,       5591,  3999.4,   1.8149,  34.8300,2,  34.8297,2,    240.6,2,   240.2,2,   66.96,2,   24.61,2,    0.00,2,    1.66,2,-999.000,9,-999.000,9,-999.000,9,  2211.2,2,  -999.0,5,  -999.0,9,   20.00,   7.6941,2,    25.00,-999.000,9, -999.00,-999.000,9,-999.000,9, -999.00,9,  -999.0,9,  -999.0,-999.000,9,-999.000,-999.000,9, -999.00,9, 3999.40,-999.0000,9,-999.0000,9,-999.0000,9,-999.0000,9,-999.0000,9,-999.0000,9,   1.4863,     -999.0,-999.000,     -999.0,          9,     -999.0,          9,-999.000,          9
 33RO200501,       A16S,      88,          1,          5,          5,2,20050211,       2144,   -18.5018,   -25.0005,       5591,  4299.3,   1.3636,  34.7833,2,  34.7850,3,    233.2,2,   233.5,2,   84.66,2,   26.92,2,    0.00,2,    1.84,2,-999.000,9,-999.000,9,-999.000,9,  -999.0,9,  -999.0,9,  -999.0,9,   20.00,-999.0000,9,    25.00,-999.000,9, -999.00,-999.000,9,-999.000,9, -999.00,9,  -999.0,9,  -999.0,-999.000,9,-999.000,-999.000,9, -999.00,9, 4299.30,-999.0000,9,-999.0000,9,-999.0000,9,-999.0000,9,-999.0000,9,-999.0000,9,   1.0149,     -999.0,-999.000,     -999.0,          9,     -999.0,          9,-999.000,          9
 33RO200501,       A16S,      88,          1,          4,          4,2,20050211,       2144,   -18.5018,   -25.0005,       5591,  4600.1,   1.0882,  34.7531,2,  34.7528,2,    229.2,2,   229.3,2,   96.17,6,   28.44,6,    0.00,6,    1.95,6,   0.018,2,   0.015,2,   0.000,2,  -999.0,9,  -999.0,9,  -999.0,9,   20.00,-999.0000,9,    25.00,-999.000,9, -999.00,-999.000,9,-999.000,9, -999.00,9,  -999.0,9,  -999.0,-999.000,9,-999.000,   0.061,4, -999.00,9, 4600.10,-999.0000,9,-999.0000,9,-999.0000,9,-999.0000,9,-999.0000,9,-999.0000,9,   0.7142,     -999.0,-999.000,      3.868,          2,      0.206,          2,   0.012,          2
 33RO200501,       A16S,      88,          1,          3,          3,2,20050211,       2144,   -18.5018,   -25.0005,       5591,  4898.0,   0.8885,  34.7299,2,  34.7310,3,    226.1,2,   226.1,2,  104.85,6,   29.58,6,    0.00,6,    2.04,6,-999.000,9,-999.000,9,-999.000,9,  2248.7,2,  2356.3,2,  -999.0,9,   20.00,   7.6377,2,    25.00,-999.000,9, -999.00,-999.000,9,-999.000,9, -999.00,9,  -999.0,9,  -999.0,-999.000,9,-999.000,-999.000,9, -999.00,9, 4898.00,-999.0000,9,-999.0000,9,-999.0000,9,-999.0000,9,-999.0000,9,-999.0000,9,   0.4867,     -999.0,-999.000,     -999.0,          9,     -999.0,          9,-999.000,          9
 33RO200501,       A16S,      88,          1,          2,          2,2,20050211,       2144,   -18.5018,   -25.0005,       5591,  5198.5,   0.7876,  34.7158,2,  34.7157,2,    224.3,2,   224.0,2,  110.11,6,   30.22,6,    0.00,6,    2.09,6,   0.058,2,   0.033,2,   0.003,2,  -999.0,9,  -999.0,9,  -999.0,9,   20.00,-999.0000,9,    25.00,-999.000,9, -999.00,-999.000,9,-999.000,9, -999.00,9,  -999.0,9,  -999.0,-999.000,9,-999.000,   0.130,4, -999.00,9, 5198.50,-999.0000,9,-999.0000,9,-999.0000,9,-999.0000,9,-999.0000,9,-999.0000,9,   0.3537,     -999.0,-999.000,      8.022,          2,      0.405,          2,   0.075,          2
 33RO200501,       A16S,      88,          1,          1,          1,2,20050211,       2144,   -18.5018,   -25.0005,       5591,  5594.8,   0.6591,  34.6975,2,  34.6973,2,    221.6,2,   221.8,2,  116.54,6,   31.05,6,    0.00,6,    2.17,6,   0.116,2,   0.062,2,   0.000,2,  2258.7,2,  2361.2,2,  -999.0,9,   20.00,   7.6142,2,    25.00,-999.000,9, -999.00,-999.000,9,-999.000,9, -999.00,9,  -999.0,9,  -999.0,-999.000,9,-999.000,   0.205,4, -999.00,9, 5594.80,-999.0000,9,-999.0000,9,-999.0000,9,-999.0000,9,-999.0000,9,-999.0000,9,   0.1815,     -999.0,-999.000,     -999.0,          9,     -999.0,          9,-999.000,          9