BOTTLE,20220818CCHSIOAMB
EXPOCODE,SECT_ID,STNNBR,CASTNO,SAMPNO,BTLNBR,BTLNBR_FLAG_W,DATE,TIME,LATITUDE,LONGITUDE,DEPTH,CTDPRS,CTDTMP,CTDSAL,CTDSAL_FLAG_W,SALNTY,SALNTY_FLAG_W,CTDOXY,CTDOXY_FLAG_W,OXYGEN,OXYGEN_FLAG_W,SILCAT,SILCAT_FLAG_W,NITRAT,NITRAT_FLAG_W,NITRIT,NITRIT_FLAG_W,PHSPHT,PHSPHT_FLAG_W,CFC-11,CFC-11_FLAG_W,CFC-12,CFC-12_FLAG_W,CFC113,CFC113_FLAG_W,TCARBN,TCARBN_FLAG_W,ALKALI,ALKALI_FLAG_W,PCO2,PCO2_FLAG_W,PCO2TMP,PH_SWS,PH_SWS_FLAG_W,PH_TMP,TRITUM,TRITUM_FLAG_W,TRITER,HELIUM,HELIUM_FLAG_W,DELHE3,DELHE3_FLAG_W,DELC13,DELC13_FLAG_W,DELC14,DELC14_FLAG_W,C14ERR,NEON,NEON_FLAG_W,NEONER,CCL4,CCL4_FLAG_W,DOC,DOC_FLAG_W,CTDRAW,CDOM325,CDOM325_FLAG_W,CDOM340,CDOM340_FLAG_W,CDOM380,CDOM380_FLAG_W,CDOM412,CDOM412_FLAG_W,CDOMSL,CDOMSL_FLAG_W,CDOMSN,CDOMSN_FLAG_W,THETA,HELIER,DELHER,CH3CL,CH3CL_FLAG_W,CH3BR,CH3BR_FLAG_W,CH3I,CH3I_FLAG_W
,,,,,,,,,,,METERS,DBAR,ITS-90,PSS-78,,PSS-78,,UMOL/KG,,UMOL/KG,,UMOL/KG,,UMOL/KG,,UMOL/KG,,UMOL/KG,,PMOL/KG,,PMOL/KG,,PMOL/KG,,UMOL/KG,,UMOL/KG,,UATM,,DEG C,,,DEG C,TU,,TU,NMOL/KG,,PERCNT,,/MILLE,,/MILLE,,/MILLE,NMOL/KG,,NMOL/KG,PMOL/KG,,UMOL/KG,,DBAR,1/M,,1/M,,1/M,,1/M,,1/NM,,1/NM,,DEG C,NMOL/KG,PERCNT,PMOL/KG,,PMOL/KG,,PMOL/KG,
 33RO200501,       A16S,      15,          1,         21,         21,2,20050120,       2109,   -53.7407,   -36.2438,       1523,    10.9,   3.0970,  33.8126,2,-999.0000,9,    349.5,2,   340.7,2,    1.93,2,   18.93,2,    0.25,2,    1.16,2,   5.779,2,   3.136,2,   0.526,2,  -999.0,9,  2281.9,2,  -999.0,9,   20.00,   7.8140,6,    25.00,-999.000,9, -999.00,-999.000,9,-999.000,9, -999.00,9,  -999.0,9,  -999.0,-999.000,9,-999.000,   6.087,4, -999.00,9,   10.90,-999.0000,9,-999.0000,9,-999.0000,9,-999.0000,9,-999.0000,9,-999.0000,9,   3.0964,     -999.0,-999.000,     70.524,          2,      2.014,          2,   0.709,          2
 33RO200501,       A16S,      15,          1,         20,         20,2,20050120,       2109,   -53.7407,   -36.2438,       1523,    30.1,   3.0119,  33.8132,2,-999.0000,9,    341.9,2,   340.2,2,    1.86,2,   18.89,2,    0.25,2,    1.16,2,-999.000,9,-999.000,9,-999.000,9,  -999.0,9,  -999.0,9,  -999.0,9,   20.00,-999.0000,9,    25.00,-999.000,9, -999.00,-999.000,9,-999.000,9, -999.00,9,  -999.0,9,  -999.0,-999.000,9,-999.000,-999.000,9, -999.00,9,   30.10,-999.0000,9,-999.0000,9,-999.0000,9,-999.0000,9,-999.0000,9,-999.0000,9,   3.0101,     -999.0,-999.000,     64.013,          2,      1.326,          2,   0.762,          2
 33RO200501,       A16S,      15,          1,         19,         19,2,20050120,       2109,   -53.7407,   -36.2438,       1523,    50.2,   2.2635,  33.8362,2,  33.8363,2,    324.4,2,   322.9,2,    4.80,2,   20.25,2,    0.24,2,    1.42,2,   5.886,2,   3.174,2,   0.556,2,  -999.0,9,  -999.0,9,  -999.0,9,   20.00,-999.0000,9,    25.00,-999.000,9, -999.00,-999.000,9,-999.000,9, -999.00,9,  -999.0,9,  -999.0,-999.000,9,-999.000,   6.425,4, -999.00,9,   50.20,-999.0000,9,-999.0000,9,-999.0000,9,-999.0000,9,-999.0000,9,-999.0000,9,   2.2608,     -999.0,-999.000,     51.926,          2,      0.813,          2,   0.803,          2
 33RO200501,       A16S,      15,          1,         18,         18,2,20050120,       2109,   -53.7407,   -36.2438,       1523,    70.4,   1.4367,  33.9085,2,  33.9111,2,    327.1,2,   326.5,2,   14.23,2,   22.90,2,    0.25,2,    1.62,2,-999.000,9,-999.000,9,-999.000,9,  -999.0,9,  -999.0,9,  -999.0,9,   20.00,-999.0000,9,    25.00,-999.000,9, -999.00,-999.000,9,-999.000,9, -999.00,9,  -999.0,9,  -999.0,-999.000,9,-999.000,-999.000,9, -999.00,9,   70.40,-999.0000,9,-999.0000,9,-999.0000,9,-999.0000,9,-999.0000,9,-999.0000,9,   1.4334,     -999.0,-999.000,     -999.0,          9,     -999.0,          9,-999.000,          9
 33RO200501,       A16S,      15,          1,         17,         17,2,20050120,       2109,   -53.7407,   -36.2438,       1523,    91.2,   0.9110,  33.9667,2,  33.9571,2,    319.7,2,   322.3,2,   24.99,2,   24.87,2,    0.26,2,    1.77,2,-999.000,9,-999.000,9,-999.000,9,  -999.0,9,  -999.0,9,  -999.0,9,   20.00,-999.0000,9,    25.00,-999.000,9, -999.00,-999.000,9,-999.000,9, -999.00,9,  -999.0,9,  -999.0,-999.000,9,-999.000,-999.000,9, -999.00,9,   91.20,-999.0000,9,-999.0000,9,-999.0000,9,-999.0000,9,-999.0000,9,-999.0000,9,   0.9071,     -999.0,-999.000,     36.116,          2,      0.587,          2,   0.562,          2
 33RO200501,       A16S,      15,          1,         16,         16,2,20050120,       2109,   -53.7407,   -36.2438,       1523,   115.3,   0.8472,  34.0289,2,  34.0439,2,    291.0,2,   288.2,2,   38.41,2,   28.58,2,    0.24,2,    2.03,2,   5.045,2,   2.673,2,   0.459,2,  -999.0,9,  -999.0,9,  -999.0,9,   20.00,-999.0000,9,    25.00,-999.000,9, -999.00,-999.000,9,-999.000,9, -999.00,9,  -999.0,9,  -999.0,-999.000,9,-999.000,   5.066,3, -999.00,9,  115.30,-999.0000,9,-999.0000,9,-999.0000,9,-999.0000,9,-999.0000,9,-999.0000,9,   0.8423,     -999.0,-999.000,     -999.0,          9,     -999.0,          9,-999.000,          9
 33RO200501,       A16S,      15,          1,         15,         15,2,20050120,       2109,   -53.7407,   -36.2438,       1523,   141.1,   0.9572,  34.1279,2,  34.1301,2,    266.8,2,   269.8,2,   46.31,2,   30.90,2,    0.22,2,    2.12,2,-999.000,9,-999.000,9,-999.000,9,  -999.0,9,  -999.0,9,  -999.0,9,   20.00,-999.0000,9,    25.00,-999.000,9, -999.00,-999.000,9,-999.000,9, -999.00,9,  -999.0,9,  -999.0,-999.000,9,-999.000,-999.000,9, -999.00,9,  141.10,-999.0000,9,-999.0000,9,-999.0000,9,-999.0000,9,-999.0000,9,-999.0000,9,   0.9511,     -999.0,-999.000,     -999.0,          9,     -999.0,          9,-999.000,          9
 33RO200501,       A16S,      15,          1,         14,         14,2,20050120,       2109,   -53.7407,   -36.2438,       1523,   164.9,   1.2107,  34.1891,2,  34.1879,2,    250.1,2,   254.2,2,   49.93,2,   31.72,2,    0.19,2,    2.17,2,-999.000,9,-999.000,9,-999.000,9,  -999.0,9,  -999.0,9,  -999.0,9,   20.00,-999.0000,9,    25.00,-999.000,9, -999.00,-999.000,9,-999.000,9, -999.00,9,  -999.0,9,  -999.0,-999.000,9,-999.000,-999.000,9, -999.00,9,  164.90,-999.0000,9,-999.0000,9,-999.0000,9,-999.0000,9,-999.0000,9,-999.0000,9,   1.2032,     -999.0,-999.000,     12.159,          2,      0.167,          2,   0.210,          2
 33RO200501,       A16S,      15,          1,         13,         13,2,20050120,       2109,   -53.7407,   -36.2438,       1523,   191.2,   1.4571,  34.2801,2,  34.2756,2,    233.7,2,   233.6,2,   56.67,2,   32.71,2,    0.18,2,    2.23,2,   3.098,2,   1.635,2,   0.248,2,  -999.0,9,  -999.0,9,  -999.0,9,   20.00,-999.0000,9,    25.00,-999.000,9, -999.00,-999.000,9,-999.000,9, -999.00,9,  -999.0,9,  -999.0,-999.000,9,-999.000,   3.183,3, -999.00,9,  191.20,-999.0000,9,-999.0000,9,-999.0000,9,-999.0000,9,-999.0000,9,-999.0000,9,   1.4478,     -999.0,-999.000,     -999.0,          9,     -999.0,          9,-999.000,          9
 33RO200501,       A16S,      15,          1,         12,         12,2,20050120,       2109,   -53.7407,   -36.2438,       1523,   215.8,   1.5980,  34.3339,2,  34.3282,2,    224.9,2,   221.6,2,   61.00,2,   33.34,2,    0.17,2,    2.26,2,-999.000,9,-999.000,9,-999.000,9,  -999.0,9,  -999.0,9,  -999.0,9,   20.00,-999.0000,9,    25.00,-999.000,9, -999.00,-999.000,9,-999.000,9, -999.00,9,  -999.0,9,  -999.0,-999.000,9,-999.000,-999.000,9, -999.00,9,  215.80,-999.0000,9,-999.0000,9,-999.0000,9,-999.0000,9,-999.0000,9,-999.0000,9,   1.5873,     -999.0,-999.000,     -999.0,          9,     -999.0,          9,-999.000,          9
 33RO200501,       A16S,      15,          1,         11,         11,2,20050120,       2109,   -53.7407,   -36.2438,       1523,   241.0,   1.7046,  34.3684,2,  34.3662,2,    212.0,2,   212.0,2,   64.00,2,   33.87,2,    0.16,2,    2.28,2,-999.000,9,-999.000,9,-999.000,9,  -999.0,9,  -999.0,9,  -999.0,9,   20.00,-999.0000,9,    25.00,-999.000,9, -999.00,-999.000,9,-999.000,9, -999.00,9,  -999.0,9,  -999.0,-999.000,9,-999.000,-999.000,9, -999.00,9,  241.00,-999.0000,9,-999.0000,9,-999.0000,9,-999.0000,9,-999.0000,9,-999.0000,9,   1.6922,     -999.0,-999.000,     -999.0,          9,     -999.0,          9,-999.000,          9
 33RO200501,       A16S,      15,          1,         10,         10,2,20050120,       2109,   -53.7407,   -36.2438,       1523,   275.4,   1.8274,  34.4207,2,  34.4169,2,    198.4,2,   200.4,2,   67.96,2,   34.41,2,    0.14,2,    2.31,2,   1.916,2,   1.008,2,   0.142,2,  -999.0,9,  -999.0,9,  -999.0,9,   20.00,-999.0000,9,    25.00,-999.000,9, -999.00,-999.000,9,-999.000,9, -999.00,9,  -999.0,9,  -999.0,-999.000,9,-999.000,   2.070,3, -999.00,9,  275.40,-999.0000,9,-999.0000,9,-999.0000,9,-999.0000,9,-999.0000,9,-999.0000,9,   1.8129,     -999.0,-999.000,      0.000,          2,      0.000,          2,   0.135,          2
 33RO200501,       A16S,      15,          1,          9,          9,2,20050120,       2109,   -53.7407,   -36.2438,       1523,   375.3,   2.0001,  34.5100,2,  34.5089,2,    183.9,2,   184.5,2,   74.02,2,   34.64,2,    0.04,2,    2.32,2,-999.000,9,-999.000,9,-999.000,9,  -999.0,9,  -999.0,9,  -999.0,9,   20.00,-999.0000,9,    25.00,-999.000,9, -999.00,-999.000,9,-999.000,9, -999.00,9,  -999.0,9,  -999.0,-999.000,9,-999.000,-999.000,9, -999.00,9,  375.30,-999.0000,9,-999.0000,9,-999.0000,9,-999.0000,9,-999.0000,9,-999.0000,9,   1.9795,     -999.0,-999.000,     -999.0,          9,     -999.0,          9,-999.000,          9
 33RO200501,       A16S,      15,          1,          8,          8,2,20050120,       2109,   -53.7407,   -36.2438,       1523,   427.2,   2.0367,  34.5449,2,  34.5445,2,    180.1,2,   180.1,2,   76.48,2,   34.32,2,    0.04,2,    2.31,2,-999.000,9,-999.000,9,-999.000,9,  -999.0,9,  -999.0,9,  -999.0,9,   20.00,-999.0000,9,    25.00,-999.000,9, -999.00,-999.000,9,-999.000,9, -999.00,9,  -999.0,9,  -999.0,-999.000,9,-999.000,-999.000,9, -999.00,9,  427.20,-999.0000,9,-999.0000,9,-999.0000,9,-999.0000,9,-999.0000,9,-999.0000,9,   2.0130,     -999.0,-999.000,     -999.0,          9,     -999.0,          9,-999.000,          9
 33RO200501,       A16S,      15,          1,          7,          7,2,20050120,       2109,   -53.7407,   -36.2438,       1523,   475.0,   2.0560,  34.5696,2,  34.5673,2,    176.6,2,   177.1,2,   78.35,2,   34.17,2,    0.06,2,    2.31,2,   0.764,2,   0.393,2,   0.043,2,  -999.0,9,  -999.0,9,  -999.0,9,   20.00,-999.0000,9,    25.00,-999.000,9, -999.00,-999.000,9,-999.000,9, -999.00,9,  -999.0,9,  -999.0,-999.000,9,-999.000,   0.941,3, -999.00,9,  475.00,-999.0000,9,-999.0000,9,-999.0000,9,-999.0000,9,-999.0000,9,-999.0000,9,   2.0293,     -999.0,-999.000,     -999.0,          9,     -999.0,          9,-999.000,          9
 33RO200501,       A16S,      15,          1,          6,          6,2,20050120,       2109,   -53.7407,   -36.2438,       1523,   550.1,   2.0525,  34.6025,2,  34.6009,2,    175.0,2,   175.3,2,   81.06,2,   33.85,2,    0.05,2,    2.29,2,-999.000,9,-999.000,9,-999.000,9,  -999.0,9,  -999.0,9,  -999.0,9,   20.00,-999.0000,9,    25.00,-999.000,9, -999.00,-999.000,9,-999.000,9, -999.00,9,  -999.0,9,  -999.0,-999.000,9,-999.000,-999.000,9, -999.00,9,  550.10,-999.0000,9,-999.0000,9,-999.0000,9,-999.0000,9,-999.0000,9,-999.0000,9,   2.0212,     -999.0,-999.000,      0.000,          2,      0.045,          2,   0.153,          2
 33RO200501,       A16S,      15,          1,          5,          5,2,20050120,       2109,   -53.7407,   -36.2438,       1523,   650.6,   2.0210,  34.6433,2,  34.6411,2,    174.1,2,   174.8,2,   85.69,2,   33.40,2,    0.04,2,    2.27,2,   0.395,2,   0.212,2,   0.021,2,  -999.0,9,  -999.0,9,  -999.0,9,   20.00,-999.0000,9,    25.00,-999.000,9, -999.00,-999.000,9,-999.000,9, -999.00,9,  -999.0,9,  -999.0,-999.000,9,-999.000,   0.548,3, -999.00,9,  650.60,-999.0000,9,-999.0000,9,-999.0000,9,-999.0000,9,-999.0000,9,-999.0000,9,   1.9836,     -999.0,-999.000,     -999.0,          9,     -999.0,          9,-999.000,          9
 33RO200501,       A16S,      15,          1,          4,          4,2,20050120,       2109,   -53.7407,   -36.2438,       1523,   750.4,   1.9300,  34.6713,2,  34.6694,2,    176.3,2,   177.7,2,   89.72,2,   33.02,2,    0.04,2,    2.24,2,-999.000,9,-999.000,9,-999.000,9,  -999.0,9,  -999.0,9,  -999.0,9,   20.00,-999.0000,9,    25.00,-999.000,9, -999.00,-999.000,9,-999.000,9, -999.00,9,  -999.0,9,  -999.0,-999.000,9,-999.000,-999.000,9, -999.00,9,  750.40,-999.0000,9,-999.0000,9,-999.0000,9,-999.0000,9,-999.0000,9,-999.0000,9,   1.8867,     -999.0,-999.000,     -999.0,          9,     -999.0,          9,-999.000,          9
 33RO200501,       A16S,      15,          1,          3,          3,2,20050120,       2109,   -53.7407,   -36.2438,       1523,   850.4,   1.8665,  34.6803,2,  34.6785,2,    177.7,2,   178.3,2,   92.46,2,   32.82,2,    0.04,2,    2.24,2,   0.296,2,   0.164,2,   0.014,2,  -999.0,9,  -999.0,9,  -999.0,9,   20.00,-999.0000,9,    25.00,-999.000,9, -999.00,-999.000,9,-999.000,9, -999.00,9,  -999.0,9,  -999.0,-999.000,9,-999.000,   0.421,3, -999.00,9,  850.40,-999.0000,9,-999.0000,9,-999.0000,9,-999.0000,9,-999.0000,9,-999.0000,9,   1.8172,     -999.0,-999.000,     -999.0,          9,     -999.0,          9,-999.000,          9
 33RO200501,       A16S,      15,          1,          1,          1,2,20050120,       2109,   -53.7407,   -36.2438,       1523,   925.3,   1.8247,  34.6873,2,  34.6852,2,    179.2,2,   179.3,2,   92.87,2,   32.50,2,    0.04,2,    2.25,2,   0.285,2,   0.156,2,   0.013,2,  -999.0,9,  2346.0,2,  -999.0,9,   20.00,   7.6008,6,    25.00,-999.000,9, -999.00,-999.000,9,-999.000,9, -999.00,9,  -999.0,9,  -999.0,-999.000,9,-999.000,   0.406,3, -999.00,9,  925.30,-999.0000,9,-999.0000,9,-999.0000,9,-999.0000,9,-999.0000,9,-999.0000,9,   1.7707,     -999.0,-999.000,      0.000,          2,      0.510,          2,   0.106,          2
 33RO200501,       A16S,      15,          1,          2,          2,2,20050120,       2109,   -53.7407,   -36.2438,       1523,   925.4,   1.8243,  34.6874,2,  34.6855,2,    179.2,2,   179.4,2,   93.45,2,   32.68,2,    0.04,2,    2.24,2,-999.000,9,-999.000,9,-999.000,9,  -999.0,9,  -999.0,9,  -999.0,9,   20.00,-999.0000,9,    25.00,-999.000,9, -999.00,-999.000,9,-999.000,9, -999.00,9,  -999.0,9,  -999.0,-999.000,9,-999.000,-999.000,9, -999.00,9,  925.40,-999.0000,9,-999.0000,9,-999.0000,9,-999.0000,9,-999.0000,9,-999.0000,9,   1.7703,     -999.0,-999.000,     -999.0,          9,     -999.0,          9,-999.000,          9