BOTTLE,20220818CCHSIOAMB
EXPOCODE,SECT_ID,STNNBR,CASTNO,SAMPNO,BTLNBR,BTLNBR_FLAG_W,DATE,TIME,LATITUDE,LONGITUDE,DEPTH,CTDPRS,CTDTMP,CTDSAL,CTDSAL_FLAG_W,SALNTY,SALNTY_FLAG_W,CTDOXY,CTDOXY_FLAG_W,OXYGEN,OXYGEN_FLAG_W,SILCAT,SILCAT_FLAG_W,NITRAT,NITRAT_FLAG_W,NITRIT,NITRIT_FLAG_W,PHSPHT,PHSPHT_FLAG_W,CFC-11,CFC-11_FLAG_W,CFC-12,CFC-12_FLAG_W,CFC113,CFC113_FLAG_W,TCARBN,TCARBN_FLAG_W,ALKALI,ALKALI_FLAG_W,PCO2,PCO2_FLAG_W,PCO2TMP,PH_SWS,PH_SWS_FLAG_W,PH_TMP,TRITUM,TRITUM_FLAG_W,TRITER,HELIUM,HELIUM_FLAG_W,DELHE3,DELHE3_FLAG_W,DELC13,DELC13_FLAG_W,DELC14,DELC14_FLAG_W,C14ERR,NEON,NEON_FLAG_W,NEONER,CCL4,CCL4_FLAG_W,DOC,DOC_FLAG_W,CTDRAW,CDOM325,CDOM325_FLAG_W,CDOM340,CDOM340_FLAG_W,CDOM380,CDOM380_FLAG_W,CDOM412,CDOM412_FLAG_W,CDOMSL,CDOMSL_FLAG_W,CDOMSN,CDOMSN_FLAG_W,THETA,HELIER,DELHER,CH3CL,CH3CL_FLAG_W,CH3BR,CH3BR_FLAG_W,CH3I,CH3I_FLAG_W
,,,,,,,,,,,METERS,DBAR,ITS-90,PSS-78,,PSS-78,,UMOL/KG,,UMOL/KG,,UMOL/KG,,UMOL/KG,,UMOL/KG,,UMOL/KG,,PMOL/KG,,PMOL/KG,,PMOL/KG,,UMOL/KG,,UMOL/KG,,UATM,,DEG C,,,DEG C,TU,,TU,NMOL/KG,,PERCNT,,/MILLE,,/MILLE,,/MILLE,NMOL/KG,,NMOL/KG,PMOL/KG,,UMOL/KG,,DBAR,1/M,,1/M,,1/M,,1/M,,1/NM,,1/NM,,DEG C,NMOL/KG,PERCNT,PMOL/KG,,PMOL/KG,,PMOL/KG,
 33RO200501,       A16S,      37,          1,          7,          7,2,20050127,       0552,   -43.9978,   -30.2668,       5200,  3001.5,   1.5480,  34.7523,2,  34.7518,2,    205.3,2,   205.0,2,   94.87,2,   30.25,2,    0.00,2,    2.08,2,   0.085,6,   0.044,6,   0.001,6,  2245.9,2,  2357.4,2,  1005.8,2,   20.00,   7.6185,3,    25.00,-999.000,9, -999.00,-999.000,9,-999.000,9, -999.00,9,  -999.0,9,  -999.0,-999.000,9,-999.000,   0.146,3,   38.90,2, 3001.50,-999.0000,9,-999.0000,9,-999.0000,9,-999.0000,9,-999.0000,9,-999.0000,9,   1.3296,     -999.0,-999.000,     -999.0,          9,     -999.0,          9,-999.000,          9
 33RO200501,       A16S,      37,          1,          6,          6,2,20050127,       0552,   -43.9978,   -30.2668,       5200,  3202.7,   1.3131,  34.7357,2,  34.7355,2,    205.6,2,   205.3,2,  102.35,2,   30.98,2,    0.00,2,    2.14,2,   0.120,2,   0.060,2,  -0.003,2,  2250.7,2,  2373.9,3,  1026.9,2,   20.00,   7.6250,2,    25.00,-999.000,9, -999.00,-999.000,9,-999.000,9, -999.00,9,  -999.0,9,  -999.0,-999.000,9,-999.000,   0.181,3, -999.00,9, 3202.70,-999.0000,9,-999.0000,9,-999.0000,9,-999.0000,9,-999.0000,9,-999.0000,9,   1.0808,     -999.0,-999.000,     -999.0,          9,     -999.0,          9,-999.000,          9
 33RO200501,       A16S,      37,          1,          5,          5,2,20050127,       0552,   -43.9978,   -30.2668,       5200,  3489.1,   1.0162,  34.7179,2,  34.7174,2,    208.5,2,   207.9,2,  109.57,2,   31.54,2,    0.00,2,    2.19,2,   0.161,2,   0.079,2,   0.002,2,  2253.9,2,  2365.7,2,  1038.6,2,   20.00,   7.6153,2,    25.00,-999.000,9, -999.00,-999.000,9,-999.000,9, -999.00,9,  -999.0,9,  -999.0,-999.000,9,-999.000,   0.253,3,   39.27,2, 3489.10,-999.0000,9,-999.0000,9,-999.0000,9,-999.0000,9,-999.0000,9,-999.0000,9,   0.7632,     -999.0,-999.000,     -999.0,          9,     -999.0,          9,-999.000,          9
 33RO200501,       A16S,      37,          1,          4,          4,2,20050127,       0552,   -43.9978,   -30.2668,       5200,  3801.6,   0.6745,  34.6967,2,  34.6962,2,    212.8,2,   214.0,3,  117.00,6,   32.18,6,    0.00,6,    2.26,6,   0.214,2,   0.110,2,   0.005,2,  2257.4,2,  2366.6,2,  -999.0,9,   20.00,   7.6082,2,    25.00,-999.000,9, -999.00,-999.000,9,-999.000,9, -999.00,9,  -999.0,9,  -999.0,-999.000,9,-999.000,   0.304,3, -999.00,9, 3801.60,   0.1650,2,   0.1220,2,   0.0640,2,   0.0440,2,   0.0148,2,   0.0160,2,   0.3993,     -999.0,-999.000,     -999.0,          9,     -999.0,          9,-999.000,          9
 33RO200501,       A16S,      37,          1,          3,          3,2,20050127,       0552,   -43.9978,   -30.2668,       5200,  4100.4,   0.4326,  34.6835,2,  34.6841,2,    217.2,2,   217.4,2,  122.30,6,   32.47,6,    0.00,6,    2.30,6,   0.255,2,   0.128,2,   0.004,2,  2260.7,2,  2368.8,2,  1063.6,2,   20.00,   7.6134,2,    25.00,-999.000,9, -999.00,-999.000,9,-999.000,9, -999.00,9,  -999.0,9,  -999.0,-999.000,9,-999.000,   0.380,3,   39.29,2, 4100.40,-999.0000,9,-999.0000,9,-999.0000,9,-999.0000,9,-999.0000,9,-999.0000,9,   0.1336,     -999.0,-999.000,     -999.0,          9,     -999.0,          9,-999.000,          9
 33RO200501,       A16S,      37,          1,          2,          2,2,20050127,       0552,   -43.9978,   -30.2668,       5200,  4399.6,   0.3247,  34.6771,2,  34.6774,2,    219.7,2,   219.2,2,  125.61,6,   32.64,6,    0.00,6,    2.31,6,   0.302,2,   0.146,2,   0.008,2,  2262.1,2,  2369.2,6,  1058.3,2,   20.00,   7.6118,6,    25.00,-999.000,9, -999.00,-999.000,9,-999.000,9, -999.00,9,  -999.0,9,  -999.0,-999.000,9,-999.000,   0.423,3, -999.00,9, 4399.60,-999.0000,9,-999.0000,9,-999.0000,9,-999.0000,9,-999.0000,9,-999.0000,9,  -0.0025,     -999.0,-999.000,     -999.0,          9,     -999.0,          9,-999.000,          9
 33RO200501,       A16S,      37,          1,          1,          1,2,20050127,       0552,   -43.9978,   -30.2668,       5200,  4708.1,   0.3104,  34.6748,2,  34.6749,2,    221.0,2,   220.1,2,  127.16,6,   32.76,6,    0.00,6,    2.31,6,   0.319,2,   0.157,2,   0.006,2,  2263.1,6,  2369.5,2,  1051.1,2,   20.00,   7.6102,2,    25.00,-999.000,9, -999.00,-999.000,9,-999.000,9, -999.00,9,  -999.0,9,  -999.0,-999.000,9,-999.000,   0.416,3,   39.52,2, 4708.10,   0.1420,2,   0.1020,2,   0.0570,2,   0.0400,2,   0.0140,2,   0.0156,2,  -0.0501,     -999.0,-999.000,     -999.0,          9,     -999.0,          9,-999.000,          9