BOTTLE,20220818CCHSIOAMB
EXPOCODE,SECT_ID,STNNBR,CASTNO,SAMPNO,BTLNBR,BTLNBR_FLAG_W,DATE,TIME,LATITUDE,LONGITUDE,DEPTH,CTDPRS,CTDTMP,CTDSAL,CTDSAL_FLAG_W,SALNTY,SALNTY_FLAG_W,CTDOXY,CTDOXY_FLAG_W,OXYGEN,OXYGEN_FLAG_W,SILCAT,SILCAT_FLAG_W,NITRAT,NITRAT_FLAG_W,NITRIT,NITRIT_FLAG_W,PHSPHT,PHSPHT_FLAG_W,CFC-11,CFC-11_FLAG_W,CFC-12,CFC-12_FLAG_W,CFC113,CFC113_FLAG_W,TCARBN,TCARBN_FLAG_W,ALKALI,ALKALI_FLAG_W,PCO2,PCO2_FLAG_W,PCO2TMP,PH_SWS,PH_SWS_FLAG_W,PH_TMP,TRITUM,TRITUM_FLAG_W,TRITER,HELIUM,HELIUM_FLAG_W,DELHE3,DELHE3_FLAG_W,DELC13,DELC13_FLAG_W,DELC14,DELC14_FLAG_W,C14ERR,NEON,NEON_FLAG_W,NEONER,CCL4,CCL4_FLAG_W,DOC,DOC_FLAG_W,CTDRAW,CDOM325,CDOM325_FLAG_W,CDOM340,CDOM340_FLAG_W,CDOM380,CDOM380_FLAG_W,CDOM412,CDOM412_FLAG_W,CDOMSL,CDOMSL_FLAG_W,CDOMSN,CDOMSN_FLAG_W,THETA,HELIER,DELHER,CH3CL,CH3CL_FLAG_W,CH3BR,CH3BR_FLAG_W,CH3I,CH3I_FLAG_W
,,,,,,,,,,,METERS,DBAR,ITS-90,PSS-78,,PSS-78,,UMOL/KG,,UMOL/KG,,UMOL/KG,,UMOL/KG,,UMOL/KG,,UMOL/KG,,PMOL/KG,,PMOL/KG,,PMOL/KG,,UMOL/KG,,UMOL/KG,,UATM,,DEG C,,,DEG C,TU,,TU,NMOL/KG,,PERCNT,,/MILLE,,/MILLE,,/MILLE,NMOL/KG,,NMOL/KG,PMOL/KG,,UMOL/KG,,DBAR,1/M,,1/M,,1/M,,1/M,,1/NM,,1/NM,,DEG C,NMOL/KG,PERCNT,PMOL/KG,,PMOL/KG,,PMOL/KG,
 33RO200501,       A16S,     113,          1,         36,         36,2,20050219,       0829,    -5.9998,   -25.0008,       5856,     2.1,  27.7476,  36.3364,2,  36.3370,2,    200.3,2,   198.1,2,    1.44,2,    0.01,2,    0.00,2,    0.05,2,   1.604,2,   1.064,2,   0.127,2,  2048.3,6,  2381.9,2,   306.6,2,   20.00,   8.0682,2,    25.00,-999.000,9, -999.00,   1.694,2,  -1.936,2, -999.00,9,  -999.0,9,  -999.0,  -0.021,4,   0.002,   1.346,4,   68.35,2,    2.10,   0.0620,2,   0.0410,2,   0.0180,2,   0.0120,2,   0.0256,2,   0.0262,2,  27.7471,      0.000,   0.198,     -999.0,          9,     -999.0,          9,-999.000,          9
 33RO200501,       A16S,     113,          1,         35,         35,2,20050219,       0829,    -5.9998,   -25.0008,       5856,    23.9,  27.7268,  36.3355,2,  36.3362,2,    200.7,2,   198.3,2,    1.64,2,    0.00,2,    0.00,2,    0.07,2,   1.596,2,   1.044,2,   0.125,2,  2049.0,2,  2380.5,6,  -999.0,9,   20.00,   8.0659,6,    25.00,   0.443,2,    0.02,   1.695,2,  -1.950,2, -999.00,9,  -999.0,9,  -999.0,  -0.021,4,   0.002,   1.338,4,   66.32,2,   23.90,   0.0590,2,   0.0390,2,   0.0150,2,   0.0090,2,   0.0275,2,   0.0278,2,  27.7212,      0.000,   0.191,     -999.0,          9,     -999.0,          9,-999.000,          9
 33RO200501,       A16S,     113,          1,         34,         34,2,20050219,       0829,    -5.9998,   -25.0008,       5856,    49.5,  27.6550,  36.3474,2,  36.3536,2,    201.1,2,   199.2,2,    1.48,2,    0.02,2,    0.00,2,    0.09,2,   1.613,2,   1.055,2,   0.133,2,  2049.2,2,  2382.3,2,   306.8,2,   20.00,   8.0630,2,    25.00,-999.000,9, -999.00,-999.000,9,-999.000,9, -999.00,9,  -999.0,9,  -999.0,-999.000,9,-999.000,   1.328,4,   65.49,2,   49.50,-999.0000,9,-999.0000,9,-999.0000,9,-999.0000,9,-999.0000,9,-999.0000,9,  27.6434,     -999.0,-999.000,     -999.0,          9,     -999.0,          9,-999.000,          9
 33RO200501,       A16S,     113,          1,         33,         33,2,20050219,       0829,    -5.9998,   -25.0008,       5856,    74.4,  26.6463,  36.3209,2,  36.3344,2,    203.8,2,   205.4,2,    1.58,2,    0.06,2,    0.00,2,    0.11,2,-999.000,9,-999.000,9,-999.000,9,  2051.7,2,  2381.9,2,  -999.0,9,   20.00,   8.0615,2,    25.00,-999.000,9, -999.00,-999.000,9,-999.000,9, -999.00,9,  -999.0,9,  -999.0,-999.000,9,-999.000,-999.000,9, -999.00,9,   74.40,   0.1250,2,   0.0890,2,   0.0410,2,   0.0240,2,   0.0199,2,   0.0204,2,  26.6294,     -999.0,-999.000,     -999.0,          9,     -999.0,          9,-999.000,          9
 33RO200501,       A16S,     113,          1,         32,         32,2,20050219,       0829,    -5.9998,   -25.0008,       5856,    93.5,  23.7355,  36.5991,2,  36.5751,2,    189.0,2,   189.9,2,    1.97,2,    1.04,2,    0.06,2,    0.24,2,   1.846,2,   1.158,2,   0.130,2,  2096.4,2,  2399.8,2,   361.5,2,   20.00,   8.0145,2,    25.00,-999.000,9, -999.00,   1.696,2,  -1.808,2, -999.00,9,  -999.0,9,  -999.0,   6.844,2,   0.007,   0.687,4,   58.89,2,   93.50,-999.0000,9,-999.0000,9,-999.0000,9,-999.0000,9,-999.0000,9,-999.0000,9,  23.7158,      0.001,   0.223,     -999.0,          9,     -999.0,          9,-999.000,          9
 33RO200501,       A16S,     113,          1,         31,         31,2,20050219,       0829,    -5.9998,   -25.0008,       5856,   128.4,  18.5562,  35.9989,2,  35.8854,2,    117.6,2,   124.0,2,    4.92,2,   14.45,2,    0.07,2,    1.00,2,   1.915,2,   1.119,2,   0.082,2,  2163.4,2,  2354.4,2,   620.7,2,   20.00,   7.8094,2,    25.00,-999.000,9, -999.00,-999.000,9,-999.000,9, -999.00,9,  -999.0,9,  -999.0,-999.000,9,-999.000,   0.387,4, -999.00,9,  128.40,   0.1570,2,   0.1110,2,   0.0550,2,   0.0400,2,   0.0153,2,   0.0175,2,  18.5336,     -999.0,-999.000,     -999.0,          9,     -999.0,          9,-999.000,          9
 33RO200501,       A16S,     113,          1,         30,         30,2,20050219,       0829,    -5.9998,   -25.0008,       5856,   163.6,  12.4683,  35.2125,2,  35.1949,2,    100.6,2,   121.0,2,    8.68,2,   21.71,2,    0.01,2,    1.38,2,   1.833,2,   0.998,2,   0.023,2,  2181.7,2,  2314.0,2,  -999.0,9,   20.00,   7.6958,2,    25.00,-999.000,9, -999.00,-999.000,9,-999.000,9, -999.00,9,  -999.0,9,  -999.0,-999.000,9,-999.000,   0.369,4,   56.16,2,  163.60,-999.0000,9,-999.0000,9,-999.0000,9,-999.0000,9,-999.0000,9,-999.0000,9,  12.4464,     -999.0,-999.000,     -999.0,          9,     -999.0,          9,-999.000,          9
 33RO200501,       A16S,     113,          1,         29,         29,2,20050219,       0829,    -5.9998,   -25.0008,       5856,   199.5,  10.2475,  34.9237,2,  34.9241,2,    107.7,2,   126.1,2,   11.85,2,   25.27,2,    0.00,2,    1.60,2,   1.593,2,   0.840,2,   0.023,2,  2189.4,2,  2304.0,2,   933.8,2,   20.00,   7.6458,2,    25.00,-999.000,9, -999.00,   1.767,2,   0.665,2, -999.00,9,  -999.0,9,  -999.0,  -0.020,4,   0.002,   0.489,4, -999.00,9,  199.50,   0.1270,2,   0.0890,2,   0.0470,2,   0.0330,2,   0.0151,2,   0.0172,2,  10.2240,      0.000,   0.203,     -999.0,          9,     -999.0,          9,-999.000,          9
 33RO200501,       A16S,     113,          1,         28,         28,2,20050219,       0829,    -5.9998,   -25.0008,       5856,   249.5,   9.4656,  34.8431,2,  34.8432,2,    113.4,2,   113.7,2,   13.98,2,   28.31,2,    0.00,2,    1.76,2,   1.246,2,   0.649,2,   0.023,2,  2201.8,2,  2299.6,2,  -999.0,9,   20.00,   7.6025,2,    25.00,-999.000,9, -999.00,   1.783,2,   1.023,2, -999.00,9,  -999.0,9,  -999.0,  -0.022,4,   0.002,   0.447,4,   50.68,2,  249.50,-999.0000,9,-999.0000,9,-999.0000,9,-999.0000,9,-999.0000,9,-999.0000,9,   9.4376,      0.000,   0.201,     -999.0,          9,     -999.0,          9,-999.000,          9
 33RO200501,       A16S,     113,          1,         27,         27,2,20050219,       0829,    -5.9998,   -25.0008,       5856,   300.2,   8.9773,  34.8038,2,  34.8033,2,     95.4,2,    87.8,2,   16.00,2,   32.21,2,    0.00,2,    1.96,2,-999.000,9,-999.000,9,-999.000,9,  2221.8,2,  2299.4,2,  1222.4,2,   20.00,   7.5410,2,    25.00,-999.000,9, -999.00,-999.000,9,-999.000,9, -999.00,9,  -999.0,9,  -999.0,-999.000,9,-999.000,-999.000,9,   47.48,2,  300.20,   0.1500,2,   0.1070,2,   0.0590,2,   0.0440,2,   0.0133,2,   0.0152,3,   8.9446,     -999.0,-999.000,     -999.0,          9,     -999.0,          9,-999.000,          9
 33RO200501,       A16S,     113,          1,         26,         26,2,20050219,       0829,    -5.9998,   -25.0008,       5856,   349.9,   8.5238,  34.7603,2,  34.7549,2,     84.1,2,    86.0,2,   17.39,2,   33.46,2,    0.00,2,    2.03,2,   0.604,2,   0.318,2,   0.010,2,  2227.3,2,  2299.9,2,  1277.4,2,   20.00,   7.5216,2,    25.00,-999.000,9, -999.00,   1.786,2,   1.361,2, -999.00,9,  -999.0,9,  -999.0,   7.579,2,   0.008,   0.264,4,   43.67,2,  349.90,-999.0000,9,-999.0000,9,-999.0000,9,-999.0000,9,-999.0000,9,-999.0000,9,   8.4868,      0.001,   0.211,     -999.0,          9,     -999.0,          9,-999.000,          9
 33RO200501,       A16S,     113,          1,         25,         25,2,20050219,       0829,    -5.9998,   -25.0008,       5856,   399.5,   7.9238,  34.7027,2,  34.7030,2,     88.1,2,    87.2,2,   18.95,2,   34.47,2,    0.00,2,    2.10,2,   0.457,2,   0.240,2,   0.000,2,  2230.7,2,  2289.8,2,  1320.2,2,   20.00,   7.5078,2,    25.00,   0.096,2,    0.01,   1.776,2,   0.920,2, -999.00,9,  -999.0,9,  -999.0,  -0.020,4,   0.002,   0.245,4,   42.13,2,  399.50,   0.1460,2,   0.1030,2,   0.0570,2,   0.0420,2,   0.0135,3,   0.0155,3,   7.8833,      0.000,   0.206,     -999.0,          9,     -999.0,          9,-999.000,          9
 33RO200501,       A16S,     113,          1,         24,         24,2,20050219,       0829,    -5.9998,   -25.0008,       5856,   500.1,   6.4996,  34.5726,2,  34.5741,2,    105.4,2,   117.3,2,   22.57,2,   34.28,2,    0.00,2,    2.13,2,-999.000,9,-999.000,9,-999.000,9,  2222.9,2,  2289.1,2,  1247.1,2,   20.00,   7.5327,2,    25.00,-999.000,9, -999.00,-999.000,9,-999.000,9, -999.00,9,  -999.0,9,  -999.0,-999.000,9,-999.000,-999.000,9,   41.24,2,  500.10,-999.0000,9,-999.0000,9,-999.0000,9,-999.0000,9,-999.0000,9,-999.0000,9,   6.4539,     -999.0,-999.000,     -999.0,          9,     -999.0,          9,-999.000,          9
 33RO200501,       A16S,     113,          1,         23,         23,2,20050219,       0829,    -5.9998,   -25.0008,       5856,   599.7,   5.7319,  34.5121,2,  34.5148,2,    134.7,2,   134.2,2,   25.35,2,   34.16,2,    0.00,2,    2.15,2,   0.357,2,   0.187,2,   0.013,2,  2218.4,2,  2288.9,2,  1207.4,2,   20.00,   7.5428,2,    25.00,   0.061,2,    0.01,   1.802,2,   1.290,2, -999.00,9,  -999.0,9,  -999.0,   7.750,2,   0.008,   0.383,4,   41.15,2,  599.70,   0.1360,2,   0.0950,2,   0.0520,2,   0.0380,2,   0.0139,2,   0.0161,2,   5.6803,      0.002,   0.225,     -999.0,          9,     -999.0,          9,-999.000,          9
 33RO200501,       A16S,     113,          1,         22,         22,2,20050219,       0829,    -5.9998,   -25.0008,       5856,   699.9,   5.1422,  34.4776,2,  34.4773,2,    143.2,2,   145.1,2,   28.45,2,   34.26,2,    0.00,2,    2.18,2,   0.282,2,   0.144,2,   0.010,2,  2217.3,2,  2290.4,2,  1185.8,2,   20.00,   7.5423,2,    25.00,   0.048,2,    0.00,   1.813,2,   0.910,2, -999.00,9,  -999.0,9,  -999.0,   7.806,2,   0.008,   0.367,4,   40.88,2,  699.90,-999.0000,9,-999.0000,9,-999.0000,9,-999.0000,9,-999.0000,9,-999.0000,9,   5.0847,      0.001,   0.211,     -999.0,          9,     -999.0,          9,-999.000,          9
 33RO200501,       A16S,     113,          1,         21,         21,2,20050219,       0829,    -5.9998,   -25.0008,       5856,   799.9,   4.6490,  34.4657,2,  34.4679,2,    160.8,2,   155.8,2,   31.64,2,   33.92,2,    0.00,2,    2.17,2,   0.228,2,   0.120,2,   0.008,2,  2218.3,2,  2294.4,2,  1159.9,2,   20.00,   7.5624,2,    25.00,-999.000,9, -999.00,   1.809,2,   1.677,2, -999.00,9,  -999.0,9,  -999.0,   7.820,2,   0.008,   0.355,4,   40.89,2,  799.90,   0.1160,2,   0.0780,2,   0.0400,2,   0.0290,2,   0.0169,2,   0.0193,2,   4.5858,      0.001,   0.206,     -999.0,          9,     -999.0,          9,-999.000,          9
 33RO200501,       A16S,     113,          1,         20,         20,2,20050219,       0829,    -5.9998,   -25.0008,       5856,   901.0,   4.2436,  34.4876,2,  34.4883,2,    164.6,2,   163.3,2,   35.00,6,   33.40,6,    0.00,6,    2.17,6,   0.153,2,   0.082,2,   0.007,2,  2220.3,2,  2302.4,2,  1133.0,2,   20.00,   7.5685,2,    25.00,   0.002,2,    0.01,   1.814,2,   2.260,2, -999.00,9,  -999.0,9,  -999.0,   7.872,2,   0.008,   0.276,4,   40.25,2,  901.00,-999.0000,9,-999.0000,9,-999.0000,9,-999.0000,9,-999.0000,9,-999.0000,9,   4.1744,      0.001,   0.215,     -999.0,          9,     -999.0,          9,-999.000,          9
 33RO200501,       A16S,     113,          1,         19,         19,2,20050219,       0829,    -5.9998,   -25.0008,       5856,  1000.7,   4.0992,  34.5651,2,  34.5669,2,    169.8,2,   167.9,2,   35.32,2,   32.26,2,    0.00,2,    2.09,2,   0.076,2,   0.040,2,   0.010,2,  2217.7,6,  2304.8,6,  1093.4,2,   20.00,   7.5845,6,    25.00,   0.027,2,    0.00,   1.819,2,   2.340,2, -999.00,9,  -999.0,9,  -999.0,   7.883,2,   0.008,   0.172,4,   39.94,2, 1000.70,   0.1170,2,   0.0790,2,   0.0400,2,   0.0280,2,   0.0174,2,   0.0196,2,   4.0226,      0.001,   0.222,     -999.0,          9,     -999.0,          9,-999.000,          9
 33RO200501,       A16S,     113,          1,         18,         18,2,20050219,       0829,    -5.9998,   -25.0008,       5856,  1193.4,   4.3759,  34.7814,2,  34.7795,2,    183.2,2,   180.3,2,   27.93,2,   28.30,2,    0.00,2,    1.81,2,   0.036,2,   0.023,2,   0.000,2,  2206.2,2,  2312.9,3,   983.2,2,   20.00,   7.6269,2,    25.00,   0.064,2,    0.01,   1.826,2,   0.980,3, -999.00,9,  -999.0,9,  -999.0,   7.886,2,   0.008,   0.096,4,   39.88,2, 1193.40,-999.0000,9,-999.0000,9,-999.0000,9,-999.0000,9,-999.0000,9,-999.0000,9,   4.2799,      0.001,   0.210,     -999.0,          9,     -999.0,          9,-999.000,          9
 33RO200501,       A16S,     113,          1,         17,         17,2,20050219,       0829,    -5.9998,   -25.0008,       5856,  1401.2,   4.3432,  34.9156,2,  34.9179,2,    209.4,2,   210.3,2,   21.78,2,   23.70,2,    0.00,2,    1.50,2,   0.087,2,   0.044,2,   0.005,2,  2186.8,2,  2312.6,2,   855.3,2,   20.00,   7.6832,2,    25.00,   0.053,2,    0.01,   1.825,2,   2.190,2, -999.00,9,  -999.0,9,  -999.0,   7.894,2,   0.008,   0.208,4,   40.19,2, 1401.20,-999.0000,9,-999.0000,9,-999.0000,9,-999.0000,9,-999.0000,9,-999.0000,9,   4.2284,      0.001,   0.207,     -999.0,          9,     -999.0,          9,-999.000,          9
 33RO200501,       A16S,     113,          1,         16,         16,2,20050219,       0829,    -5.9998,   -25.0008,       5856,  1599.4,   4.0795,  34.9595,2,  34.9608,2,    231.0,2,   231.3,2,   19.76,2,   21.35,2,    0.00,2,    1.33,2,   0.076,6,   0.046,6,   0.000,6,  2176.3,2,  2312.8,2,   789.8,2,   20.00,   7.7102,2,    25.00,-999.000,9, -999.00,   1.818,2,   1.650,2, -999.00,9,  -999.0,9,  -999.0,   7.897,2,   0.008,   0.240,4,   40.64,2, 1599.40,-999.0000,9,-999.0000,9,-999.0000,9,-999.0000,9,-999.0000,9,-999.0000,9,   3.9492,      0.001,   0.222,     -999.0,          9,     -999.0,          9,-999.000,          9
 33RO200501,       A16S,     113,          1,         15,         15,2,20050219,       0829,    -5.9998,   -25.0008,       5856,  1799.7,   3.7753,  34.9640,2,  34.9671,2,    241.8,2,   241.7,2,   20.70,2,   20.36,2,    0.00,2,    1.28,2,   0.071,2,   0.046,2,   0.000,2,  2171.9,2,  2312.5,2,   762.6,2,   20.00,   7.7249,2,    25.00,-999.000,9, -999.00,-999.000,9,-999.000,9, -999.00,9,  -999.0,9,  -999.0,-999.000,9,-999.000,   0.229,4,   40.34,2, 1799.70,-999.0000,9,-999.0000,9,-999.0000,9,-999.0000,9,-999.0000,9,-999.0000,9,   3.6302,     -999.0,-999.000,     -999.0,          9,     -999.0,          9,-999.000,          9
 33RO200501,       A16S,     113,          1,         14,         14,2,20050219,       0829,    -5.9998,   -25.0008,       5856,  2001.1,   3.4116,  34.9488,2,  34.9496,2,    243.6,2,   243.2,2,   25.15,2,   20.61,2,    0.00,2,    1.30,2,   0.035,2,   0.017,2,   0.000,2,  2174.8,2,  2316.3,2,   762.3,2,   20.00,   7.7263,2,    25.00,   0.033,2,    0.00,   1.829,2,   2.590,2, -999.00,9,  -999.0,9,  -999.0,   7.974,2,   0.008,   0.142,4,   39.81,2, 2001.10,   0.1430,2,   0.1000,2,   0.0480,2,   0.0310,2,   0.0182,2,   0.0196,2,   3.2528,      0.001,   0.191,     -999.0,          9,     -999.0,          9,-999.000,          9
 33RO200501,       A16S,     113,          1,         13,         13,2,20050219,       0829,    -5.9998,   -25.0008,       5856,  2300.4,   3.0498,  34.9297,2,  34.9333,3,    243.2,2,   243.3,2,   31.72,2,   21.10,2,    0.00,2,    1.35,2,   0.015,2,   0.012,2,   0.000,2,  2180.7,2,  2322.0,2,   768.3,2,   20.00,   7.7235,2,    25.00,-999.000,9, -999.00,-999.000,9,-999.000,9, -999.00,9,  -999.0,9,  -999.0,-999.000,9,-999.000,   0.079,4,   39.88,2, 2300.40,-999.0000,9,-999.0000,9,-999.0000,9,-999.0000,9,-999.0000,9,-999.0000,9,   2.8684,     -999.0,-999.000,     -999.0,          9,     -999.0,          9,-999.000,          9
 33RO200501,       A16S,     113,          1,         12,         12,2,20050219,       0829,    -5.9998,   -25.0008,       5856,  2599.5,   2.8179,  34.9138,2,  34.9158,3,    241.1,2,   240.9,2,   37.36,2,   21.69,2,    0.00,2,    1.40,2,   0.006,2,   0.000,2,   0.000,2,  2187.5,2,  2326.9,2,   775.8,2,   20.00,   7.7216,2,    25.00,   0.031,2,    0.00,   1.845,2,   3.220,2, -999.00,9,  -999.0,9,  -999.0,   7.998,2,   0.008,   0.043,4,   40.41,2, 2599.50,-999.0000,9,-999.0000,9,-999.0000,9,-999.0000,9,-999.0000,9,-999.0000,9,   2.6117,      0.001,   0.223,     -999.0,          9,     -999.0,          9,-999.000,          9
 33RO200501,       A16S,     113,          1,         11,         11,2,20050219,       0829,    -5.9998,   -25.0008,       5856,  2899.0,   2.7157,  34.9162,2,  34.9191,3,    246.7,2,   246.9,2,   35.92,2,   21.02,2,    0.00,2,    1.35,2,   0.018,2,   0.012,2,   0.000,2,  2185.2,2,  2325.7,2,   760.4,2,   20.00,   7.7262,2,    25.00,-999.000,9, -999.00,-999.000,9,-999.000,9, -999.00,9,  -999.0,9,  -999.0,-999.000,9,-999.000,   0.076,4,   40.18,2, 2899.00,   0.1540,2,   0.1090,2,   0.0500,2,   0.0320,2,   0.0185,2,   0.0199,2,   2.4816,     -999.0,-999.000,     -999.0,          9,     -999.0,          9,-999.000,          9
 33RO200501,       A16S,     113,          1,         10,         10,2,20050219,       0829,    -5.9998,   -25.0008,       5856,  3200.1,   2.6370,  34.9177,2,  34.9181,2,    253.2,2,   252.9,2,   33.31,2,   20.21,2,    0.00,2,    1.30,2,   0.048,2,   0.022,2,   0.000,2,  2178.8,2,  2327.8,2,  -999.0,9,   20.00,   7.7324,2,    25.00,-999.000,9, -999.00,   1.853,2,   3.040,2, -999.00,9,  -999.0,9,  -999.0,   8.080,2,   0.008,   0.162,4,   39.81,2, 3200.10,-999.0000,9,-999.0000,9,-999.0000,9,-999.0000,9,-999.0000,9,-999.0000,9,   2.3733,      0.001,   0.211,     -999.0,          9,     -999.0,          9,-999.000,          9
 33RO200501,       A16S,     113,          1,          9,          9,2,20050219,       0829,    -5.9998,   -25.0008,       5856,  3499.4,   2.5330,  34.9110,2,  34.9119,2,    256.0,2,   256.3,2,   33.95,2,   19.97,2,    0.00,2,    1.29,2,   0.066,2,   0.040,2,   0.005,2,  2178.6,2,  2328.2,2,   748.6,2,   20.00,   7.7347,2,    25.00,-999.000,9, -999.00,-999.000,9,-999.000,9, -999.00,9,  -999.0,9,  -999.0,-999.000,9,-999.000,   0.216,4,   39.76,2, 3499.40,-999.0000,9,-999.0000,9,-999.0000,9,-999.0000,9,-999.0000,9,-999.0000,9,   2.2398,     -999.0,-999.000,     -999.0,          9,     -999.0,          9,-999.000,          9
 33RO200501,       A16S,     113,          1,          8,          8,2,20050219,       0829,    -5.9998,   -25.0008,       5856,  3798.8,   2.2564,  34.8859,2,  34.8869,2,    254.1,2,   254.8,2,   41.83,2,   20.86,2,    0.00,2,    1.36,2,   0.067,2,   0.039,2,   0.000,2,  2185.6,2,  2332.3,2,   768.0,2,   20.00,   7.7256,2,    25.00,-999.000,9, -999.00,   1.905,2,   3.460,2, -999.00,9,  -999.0,9,  -999.0,   8.263,2,   0.009,   0.226,4,   39.99,2, 3798.80,-999.0000,9,-999.0000,9,-999.0000,9,-999.0000,9,-999.0000,9,-999.0000,9,   1.9376,      0.001,   0.211,     -999.0,          9,     -999.0,          9,-999.000,          9