BOTTLE,20220818CCHSIOAMB
EXPOCODE,SECT_ID,STNNBR,CASTNO,SAMPNO,BTLNBR,BTLNBR_FLAG_W,DATE,TIME,LATITUDE,LONGITUDE,DEPTH,CTDPRS,CTDTMP,CTDSAL,CTDSAL_FLAG_W,SALNTY,SALNTY_FLAG_W,CTDOXY,CTDOXY_FLAG_W,OXYGEN,OXYGEN_FLAG_W,SILCAT,SILCAT_FLAG_W,NITRAT,NITRAT_FLAG_W,NITRIT,NITRIT_FLAG_W,PHSPHT,PHSPHT_FLAG_W,CFC-11,CFC-11_FLAG_W,CFC-12,CFC-12_FLAG_W,CFC113,CFC113_FLAG_W,TCARBN,TCARBN_FLAG_W,ALKALI,ALKALI_FLAG_W,PCO2,PCO2_FLAG_W,PCO2TMP,PH_SWS,PH_SWS_FLAG_W,PH_TMP,TRITUM,TRITUM_FLAG_W,TRITER,HELIUM,HELIUM_FLAG_W,DELHE3,DELHE3_FLAG_W,DELC13,DELC13_FLAG_W,DELC14,DELC14_FLAG_W,C14ERR,NEON,NEON_FLAG_W,NEONER,CCL4,CCL4_FLAG_W,DOC,DOC_FLAG_W,CTDRAW,CDOM325,CDOM325_FLAG_W,CDOM340,CDOM340_FLAG_W,CDOM380,CDOM380_FLAG_W,CDOM412,CDOM412_FLAG_W,CDOMSL,CDOMSL_FLAG_W,CDOMSN,CDOMSN_FLAG_W,THETA,HELIER,DELHER,CH3CL,CH3CL_FLAG_W,CH3BR,CH3BR_FLAG_W,CH3I,CH3I_FLAG_W
,,,,,,,,,,,METERS,DBAR,ITS-90,PSS-78,,PSS-78,,UMOL/KG,,UMOL/KG,,UMOL/KG,,UMOL/KG,,UMOL/KG,,UMOL/KG,,PMOL/KG,,PMOL/KG,,PMOL/KG,,UMOL/KG,,UMOL/KG,,UATM,,DEG C,,,DEG C,TU,,TU,NMOL/KG,,PERCNT,,/MILLE,,/MILLE,,/MILLE,NMOL/KG,,NMOL/KG,PMOL/KG,,UMOL/KG,,DBAR,1/M,,1/M,,1/M,,1/M,,1/NM,,1/NM,,DEG C,NMOL/KG,PERCNT,PMOL/KG,,PMOL/KG,,PMOL/KG,
 33RO200501,       A16S,     118,          1,          7,          7,2,20050220,       2034,    -3.5013,   -25.0010,       5515,  3850.4,   2.2622,  34.8879,2,  34.8868,2,    257.6,2,   256.9,2,   40.16,2,   20.56,2,    0.00,2,    1.34,2,   0.097,2,   0.051,2,   0.005,2,  -999.0,9,  -999.0,9,  -999.0,9,   20.00,-999.0000,9,    25.00,-999.000,9, -999.00,-999.000,9,-999.000,9, -999.00,9,  -999.0,9,  -999.0,-999.000,9,-999.000,   0.298,4, -999.00,9, 3850.40,-999.0000,9,-999.0000,9,-999.0000,9,-999.0000,9,-999.0000,9,-999.0000,9,   1.9375,     -999.0,-999.000,      1.230,          2,      0.000,          2,   0.034,          2
 33RO200501,       A16S,     118,          1,          6,          6,2,20050220,       2034,    -3.5013,   -25.0010,       5515,  4145.9,   1.6775,  34.8223,2,  34.8215,2,    244.5,2,   242.5,2,   67.71,2,   24.59,2,    0.00,2,    1.63,2,-999.000,9,-999.000,9,-999.000,9,  -999.0,9,  -999.0,9,  -999.0,9,   20.00,-999.0000,9,    25.00,-999.000,9, -999.00,-999.000,9,-999.000,9, -999.00,9,  -999.0,9,  -999.0,-999.000,9,-999.000,-999.000,9, -999.00,9, 4145.90,-999.0000,9,-999.0000,9,-999.0000,9,-999.0000,9,-999.0000,9,-999.0000,9,   1.3366,     -999.0,-999.000,     -999.0,          9,     -999.0,          9,-999.000,          9
 33RO200501,       A16S,     118,          1,          5,          5,2,20050220,       2034,    -3.5013,   -25.0010,       5515,  4448.3,   1.0243,  34.7504,2,  34.7499,2,    229.5,2,   228.6,2,   96.97,2,   28.75,2,    0.00,2,    1.93,2,-999.000,9,-999.000,9,-999.000,9,  -999.0,9,  2361.0,2,  -999.0,9,   20.00,   7.6571,2,    25.00,-999.000,9, -999.00,-999.000,9,-999.000,9, -999.00,9,  -999.0,9,  -999.0,-999.000,9,-999.000,-999.000,9, -999.00,9, 4448.30,-999.0000,9,-999.0000,9,-999.0000,9,-999.0000,9,-999.0000,9,-999.0000,9,   0.6695,     -999.0,-999.000,     -999.0,          9,     -999.0,          9,-999.000,          9
 33RO200501,       A16S,     118,          1,          4,          4,2,20050220,       2034,    -3.5013,   -25.0010,       5515,  4749.7,   0.8363,  34.7258,2,  34.7256,2,    224.1,2,   224.2,2,  106.50,6,   30.09,6,    0.00,6,    2.02,6,   0.033,2,   0.017,2,   0.000,2,  -999.0,9,  -999.0,9,  -999.0,9,   20.00,-999.0000,9,    25.00,-999.000,9, -999.00,-999.000,9,-999.000,9, -999.00,9,  -999.0,9,  -999.0,-999.000,9,-999.000,   0.098,4, -999.00,9, 4749.70,-999.0000,9,-999.0000,9,-999.0000,9,-999.0000,9,-999.0000,9,-999.0000,9,   0.4534,     -999.0,-999.000,      0.392,          2,      0.000,          2,   0.090,          2
 33RO200501,       A16S,     118,          1,          3,          3,2,20050220,       2034,    -3.5013,   -25.0010,       5515,  5050.4,   0.7692,  34.7143,2,  34.7132,2,    221.8,2,   222.7,2,  110.98,6,   30.59,6,    0.00,6,    2.07,6,-999.000,9,-999.000,9,-999.000,9,  -999.0,9,  -999.0,9,  -999.0,9,   20.00,-999.0000,9,    25.00,-999.000,9, -999.00,-999.000,9,-999.000,9, -999.00,9,  -999.0,9,  -999.0,-999.000,9,-999.000,-999.000,9, -999.00,9, 5050.40,-999.0000,9,-999.0000,9,-999.0000,9,-999.0000,9,-999.0000,9,-999.0000,9,   0.3537,     -999.0,-999.000,     -999.0,          9,     -999.0,          9,-999.000,          9
 33RO200501,       A16S,     118,          1,          2,          2,2,20050220,       2034,    -3.5013,   -25.0010,       5515,  5347.5,   0.7470,  34.7088,2,  34.7089,2,    221.0,2,   221.6,2,  113.05,6,   30.90,6,    0.00,6,    2.08,6,-999.000,9,-999.000,9,-999.000,9,  -999.0,9,  -999.0,9,  -999.0,9,   20.00,-999.0000,9,    25.00,-999.000,9, -999.00,-999.000,9,-999.000,9, -999.00,9,  -999.0,9,  -999.0,-999.000,9,-999.000,-999.000,9, -999.00,9, 5347.50,-999.0000,9,-999.0000,9,-999.0000,9,-999.0000,9,-999.0000,9,-999.0000,9,   0.2966,     -999.0,-999.000,     -999.0,          9,     -999.0,          9,-999.000,          9
 33RO200501,       A16S,     118,          1,          1,          1,2,20050220,       2034,    -3.5013,   -25.0010,       5515,  5625.9,   0.7598,  34.7060,2,  34.7064,2,    220.6,2,   220.1,2,  114.10,6,   31.13,6,    0.00,6,    2.09,6,   0.048,2,   0.026,2,   0.004,2,  -999.0,9,  2364.7,2,  -999.0,9,   20.00,   7.6242,2,    25.00,-999.000,9, -999.00,-999.000,9,-999.000,9, -999.00,9,  -999.0,9,  -999.0,-999.000,9,-999.000,   0.121,4, -999.00,9, 5625.90,-999.0000,9,-999.0000,9,-999.0000,9,-999.0000,9,-999.0000,9,-999.0000,9,   0.2745,     -999.0,-999.000,     16.289,          2,      1.450,          2,   0.340,          2