BOTTLE,20220818CCHSIOAMB
EXPOCODE,SECT_ID,STNNBR,CASTNO,SAMPNO,BTLNBR,BTLNBR_FLAG_W,DATE,TIME,LATITUDE,LONGITUDE,DEPTH,CTDPRS,CTDTMP,CTDSAL,CTDSAL_FLAG_W,SALNTY,SALNTY_FLAG_W,CTDOXY,CTDOXY_FLAG_W,OXYGEN,OXYGEN_FLAG_W,SILCAT,SILCAT_FLAG_W,NITRAT,NITRAT_FLAG_W,NITRIT,NITRIT_FLAG_W,PHSPHT,PHSPHT_FLAG_W,CFC-11,CFC-11_FLAG_W,CFC-12,CFC-12_FLAG_W,CFC113,CFC113_FLAG_W,TCARBN,TCARBN_FLAG_W,ALKALI,ALKALI_FLAG_W,PCO2,PCO2_FLAG_W,PCO2TMP,PH_SWS,PH_SWS_FLAG_W,PH_TMP,TRITUM,TRITUM_FLAG_W,TRITER,HELIUM,HELIUM_FLAG_W,DELHE3,DELHE3_FLAG_W,DELC13,DELC13_FLAG_W,DELC14,DELC14_FLAG_W,C14ERR,NEON,NEON_FLAG_W,NEONER,CCL4,CCL4_FLAG_W,DOC,DOC_FLAG_W,CTDRAW,CDOM325,CDOM325_FLAG_W,CDOM340,CDOM340_FLAG_W,CDOM380,CDOM380_FLAG_W,CDOM412,CDOM412_FLAG_W,CDOMSL,CDOMSL_FLAG_W,CDOMSN,CDOMSN_FLAG_W,THETA,HELIER,DELHER,CH3CL,CH3CL_FLAG_W,CH3BR,CH3BR_FLAG_W,CH3I,CH3I_FLAG_W
,,,,,,,,,,,METERS,DBAR,ITS-90,PSS-78,,PSS-78,,UMOL/KG,,UMOL/KG,,UMOL/KG,,UMOL/KG,,UMOL/KG,,UMOL/KG,,PMOL/KG,,PMOL/KG,,PMOL/KG,,UMOL/KG,,UMOL/KG,,UATM,,DEG C,,,DEG C,TU,,TU,NMOL/KG,,PERCNT,,/MILLE,,/MILLE,,/MILLE,NMOL/KG,,NMOL/KG,PMOL/KG,,UMOL/KG,,DBAR,1/M,,1/M,,1/M,,1/M,,1/NM,,1/NM,,DEG C,NMOL/KG,PERCNT,PMOL/KG,,PMOL/KG,,PMOL/KG,
 33RO200501,       A16S,      23,          1,         36,         36,2,20050122,       1553,   -51.0018,   -34.6157,       5174,    10.8,   5.4676,  33.7448,2,  33.7457,2,    321.5,2,   321.0,2,    1.09,2,   16.56,2,    0.21,2,    1.03,2,   5.144,2,   2.823,2,   0.477,2,  2096.5,2,  2281.8,2,  -999.0,9,   20.00,   7.8424,2,    25.00,   0.109,2,    0.01,   1.878,2,  -2.340,2,    2.06,2,   -61.4,2,     2.9,   8.199,2,   0.009,   5.448,4,   51.37,2,   10.80,   0.1480,2,   0.1100,2,   0.0540,2,   0.0360,2,   0.0163,2,   0.0175,2,   5.4668,      0.001,   0.236,     -999.0,          9,     -999.0,          9,-999.000,          9
 33RO200501,       A16S,      23,          1,         35,         35,2,20050122,       1553,   -51.0018,   -34.6157,       5174,    30.9,   4.9067,  33.7407,2,  33.7475,2,    320.8,2,   323.8,2,    0.97,2,   16.39,2,    0.20,2,    1.03,2,   5.170,2,   2.823,2,   0.485,2,  2094.3,2,  2282.4,2,  -999.0,9,   20.00,   7.8422,2,    25.00,   0.114,2,    0.01,-999.000,9,-999.000,9, -999.00,9,  -999.0,9,  -999.0,-999.000,9,-999.000,   5.531,4,   51.79,2,   30.90,-999.0000,9,-999.0000,9,-999.0000,9,-999.0000,9,-999.0000,9,-999.0000,9,   4.9045,     -999.0,-999.000,     -999.0,          9,     -999.0,          9,-999.000,          9
 33RO200501,       A16S,      23,          1,         34,         34,2,20050122,       1553,   -51.0018,   -34.6157,       5174,    51.2,   4.5877,  33.7409,2,  33.7420,2,    314.5,2,   317.8,2,    1.13,2,   16.69,2,    0.22,2,    1.06,2,   5.235,2,   2.867,2,   0.486,2,  2100.7,2,  2283.7,6,  -999.0,9,   20.00,   7.8334,6,    25.00,   0.131,2,    0.00,-999.000,9,-999.000,9,    2.04,2,   -58.1,2,     3.2,-999.000,9,-999.000,   5.358,4,   50.47,2,   51.20,   0.1150,2,   0.0800,2,   0.0430,2,   0.0320,2,   0.0143,2,   0.0166,2,   4.5840,     -999.0,-999.000,     -999.0,          9,     -999.0,          9,-999.000,          9
 33RO200501,       A16S,      23,          1,         33,         33,2,20050122,       1553,   -51.0018,   -34.6157,       5174,    70.6,   3.8945,  33.7662,2,  33.7759,2,    317.6,2,   320.9,2,    4.39,2,   18.45,2,    0.23,2,    1.39,2,-999.000,9,-999.000,9,-999.000,9,  2118.9,2,  2285.4,2,  -999.0,9,   20.00,   7.7922,2,    25.00,-999.000,9, -999.00,-999.000,9,-999.000,9, -999.00,9,  -999.0,9,  -999.0,-999.000,9,-999.000,-999.000,9, -999.00,9,   70.60,-999.0000,9,-999.0000,9,-999.0000,9,-999.0000,9,-999.0000,9,-999.0000,9,   3.8898,     -999.0,-999.000,     -999.0,          9,     -999.0,          9,-999.000,          9
 33RO200501,       A16S,      23,          1,         32,         32,2,20050122,       1553,   -51.0018,   -34.6157,       5174,    90.7,   1.9759,  33.8296,2,  33.8356,2,    326.4,2,   325.5,2,   14.51,2,   21.98,2,    0.26,2,    1.69,2,   5.813,2,   3.099,2,   0.544,2,  2143.9,2,  2288.0,2,  -999.0,9,   20.00,   7.7388,2,    25.00,-999.000,9, -999.00,   1.803,2,  -2.264,2,    1.56,2,   -58.0,2,     3.4,   7.985,2,   0.008,   5.752,4,   47.86,2,   90.70,   0.1270,2,   0.0900,2,   0.0490,2,   0.0360,2,   0.0139,2,   0.0159,2,   1.9713,      0.002,   0.237,     -999.0,          9,     -999.0,          9,-999.000,          9
 33RO200501,       A16S,      23,          1,         31,         31,2,20050122,       1553,   -51.0018,   -34.6157,       5174,   114.5,   1.4365,  33.8636,2,  33.8746,2,    324.3,2,   324.4,2,   23.03,2,   24.78,2,    0.28,2,    1.82,2,-999.000,9,-999.000,9,-999.000,9,  2156.5,2,  2287.7,2,  -999.0,9,   20.00,   7.7007,2,    25.00,-999.000,9, -999.00,-999.000,9,-999.000,9, -999.00,9,  -999.0,9,  -999.0,-999.000,9,-999.000,-999.000,9, -999.00,9,  114.50,-999.0000,9,-999.0000,9,-999.0000,9,-999.0000,9,-999.0000,9,-999.0000,9,   1.4312,     -999.0,-999.000,     -999.0,          9,     -999.0,          9,-999.000,          9
 33RO200501,       A16S,      23,          1,         30,         30,2,20050122,       1553,   -51.0018,   -34.6157,       5174,   140.6,   0.9110,  33.9428,2,  33.9545,2,    311.7,2,   298.8,2,   33.31,2,   28.30,2,    0.16,2,    1.94,2,   5.455,2,   2.874,2,   0.500,2,  2172.7,2,  2286.5,2,  -999.0,9,   20.00,   7.6688,2,    25.00,   0.193,2,    0.02,-999.000,9,-999.000,9,    1.27,2,   -69.7,2,     3.7,-999.000,9,-999.000,   5.344,4,   42.84,2,  140.60,   0.1260,2,   0.0900,2,   0.0470,2,   0.0340,2,   0.0149,2,   0.0166,2,   0.9050,     -999.0,-999.000,     -999.0,          9,     -999.0,          9,-999.000,          9
 33RO200501,       A16S,      23,          1,         29,         29,2,20050122,       1553,   -51.0018,   -34.6157,       5174,   166.1,   0.9018,  33.9970,2,  34.0143,2,    289.9,2,   294.7,2,   38.39,2,   29.80,2,    0.12,2,    2.00,2,-999.000,9,-999.000,9,-999.000,9,  2183.7,2,  2289.8,2,  -999.0,9,   20.00,   7.6472,2,    25.00,-999.000,9, -999.00,-999.000,9,-999.000,9, -999.00,9,  -999.0,9,  -999.0,-999.000,9,-999.000,-999.000,9, -999.00,9,  166.10,-999.0000,9,-999.0000,9,-999.0000,9,-999.0000,9,-999.0000,9,-999.0000,9,   0.8947,     -999.0,-999.000,     -999.0,          9,     -999.0,          9,-999.000,          9
 33RO200501,       A16S,      23,          1,         28,         28,2,20050122,       1553,   -51.0018,   -34.6157,       5174,   191.3,   1.1225,  34.1093,2,  34.1180,2,    266.4,2,   269.4,2,   45.51,2,   31.45,2,    0.04,2,    2.09,2,   4.261,2,   2.224,2,   0.387,2,  2198.9,2,  2296.2,2,  -999.0,9,   20.00,   7.6279,2,    25.00,   0.100,2,    0.01,-999.000,9,-999.000,9,    1.03,2,   -91.0,2,     2.9,-999.000,9,-999.000,   4.210,3,   42.50,2,  191.30,   0.1300,2,   0.0930,2,   0.0480,2,   0.0340,2,   0.0154,2,   0.0170,2,   1.1138,     -999.0,-999.000,     -999.0,          9,     -999.0,          9,-999.000,          9
 33RO200501,       A16S,      23,          1,         27,         27,2,20050122,       1553,   -51.0018,   -34.6157,       5174,   225.6,   1.5995,  34.2311,2,  34.2366,2,    235.8,2,   238.8,2,   51.49,2,   32.74,2,    0.03,2,    2.18,2,   3.209,2,   1.655,2,   0.275,2,  2213.3,2,  2306.5,2,  -999.0,9,   20.00,   7.6065,2,    25.00,   0.010,2,    0.01,   1.909,2,  -0.450,2,    0.86,2,  -103.2,2,     3.1,   8.398,2,   0.008,   3.247,3, -999.00,9,  225.60,-999.0000,9,-999.0000,9,-999.0000,9,-999.0000,9,-999.0000,9,-999.0000,9,   1.5883,      0.001,   0.224,     -999.0,          9,     -999.0,          9,-999.000,          9
 33RO200501,       A16S,      23,          1,         26,         26,2,20050122,       1553,   -51.0018,   -34.6157,       5174,   260.5,   1.8950,  34.3275,2,  34.3292,2,    221.5,2,   215.4,2,   57.93,2,   33.64,2,    0.02,2,    2.24,2,   2.393,2,   1.213,2,   0.193,2,  2227.3,2,  2311.3,2,  -999.0,9,   20.00,   7.5805,2,    25.00,   0.080,2,    0.01,-999.000,9,-999.000,9,    0.75,2,  -105.6,2,     3.1,-999.000,9,-999.000,   2.420,3,   42.13,2,  260.50,   0.1200,2,   0.0830,2,   0.0450,2,   0.0330,2,   0.0146,2,   0.0169,2,   1.8813,     -999.0,-999.000,     -999.0,          9,     -999.0,          9,-999.000,          9
 33RO200501,       A16S,      23,          1,         25,         25,2,20050122,       1553,   -51.0018,   -34.6157,       5174,   325.4,   2.0566,  34.4044,2,  34.4076,2,    194.8,2,   196.8,2,   64.59,2,   34.27,2,    0.01,2,    2.29,2,   1.701,2,   0.853,2,   0.135,2,  2238.8,2,  2321.6,2,  -999.0,9,   20.00,   7.5699,2,    25.00,   0.035,2,    0.02,   1.873,2,   3.510,2,    0.67,2,  -127.2,2,     3.1,   8.263,2,   0.008,   1.820,3, -999.00,9,  325.40,-999.0000,9,-999.0000,9,-999.0000,9,-999.0000,9,-999.0000,9,-999.0000,9,   2.0388,      0.001,   0.226,     -999.0,          9,     -999.0,          9,-999.000,          9
 33RO200501,       A16S,      23,          1,         24,         24,2,20050122,       1553,   -51.0018,   -34.6157,       5174,   376.0,   2.1197,  34.4597,2,  34.4647,2,    185.0,2,   186.2,2,   69.72,2,   34.59,2,    0.01,2,    2.31,2,   1.288,2,   0.658,2,   0.098,2,  2246.0,2,  2328.3,2,  -999.0,9,   20.00,   7.5652,2,    25.00,   0.012,2,    0.00,   1.878,2,   5.280,2,    0.58,2,  -136.4,2,     3.1,   8.172,2,   0.008,   1.413,3,   41.54,2,  376.00,   0.1510,2,   0.1100,2,   0.0560,2,   0.0390,2,   0.0152,2,   0.0168,2,   2.0987,      0.001,   0.226,     -999.0,          9,     -999.0,          9,-999.000,          9
 33RO200501,       A16S,      23,          1,         23,         23,2,20050122,       1553,   -51.0018,   -34.6157,       5174,   450.8,   2.2122,  34.5365,2,  34.5368,2,    176.8,2,   176.3,2,   75.22,2,   34.40,2,    0.01,2,    2.30,2,-999.000,9,-999.000,9,-999.000,9,  2252.8,2,  2336.0,2,  -999.0,9,   20.00,   7.5287,4,    25.00,-999.000,9, -999.00,-999.000,9,-999.000,9,    0.55,2,  -140.7,2,     3.0,-999.000,9,-999.000,-999.000,9,   40.43,2,  450.80,-999.0000,9,-999.0000,9,-999.0000,9,-999.0000,9,-999.0000,9,-999.0000,9,   2.1864,     -999.0,-999.000,     -999.0,          9,     -999.0,          9,-999.000,          9
 33RO200501,       A16S,      23,          1,         22,         22,2,20050122,       1553,   -51.0018,   -34.6157,       5174,   551.0,   2.1295,  34.5828,2,  34.5832,2,    173.4,2,   174.4,2,   79.94,2,   34.08,2,    0.01,2,    2.29,2,   0.594,6,   0.293,6,   0.040,6,  2256.6,2,  2340.7,2,  -999.0,9,   20.00,   7.5628,2,    25.00,   0.002,2,    0.00,   1.902,2,   7.960,2,    0.51,2,  -160.3,2,     3.0,   8.244,2,   0.009,   0.720,3,   39.70,2,  551.00,   0.1500,2,   0.1090,2,   0.0540,2,   0.0370,2,   0.0157,2,   0.0175,2,   2.0978,      0.001,   0.243,     -999.0,          9,     -999.0,          9,-999.000,          9
 33RO200501,       A16S,      23,          1,         21,         21,2,20050122,       1553,   -51.0018,   -34.6157,       5174,   650.9,   2.1420,  34.6222,2,  34.6230,2,    172.2,2,   173.1,2,   82.42,2,   33.65,2,    0.00,2,    2.27,2,   0.385,2,   0.203,2,   0.021,2,  -999.0,5,  2345.2,2,  -999.0,9,   20.00,   7.5675,3,    25.00,-999.000,9, -999.00,-999.000,9,-999.000,9,    0.49,2,  -151.5,2,     3.4,-999.000,9,-999.000,   0.521,3, -999.00,9,  650.90,-999.0000,9,-999.0000,9,-999.0000,9,-999.0000,9,-999.0000,9,-999.0000,9,   2.1040,     -999.0,-999.000,     -999.0,          9,     -999.0,          9,-999.000,          9
 33RO200501,       A16S,      23,          1,         20,         20,2,20050122,       1553,   -51.0018,   -34.6157,       5174,   745.0,   2.4045,  34.6885,2,  34.6899,2,    182.3,2,   181.5,2,   74.50,2,   31.57,2,    0.00,2,    2.12,2,   0.194,2,   0.098,2,   0.004,2,  2247.6,2,  2344.0,2,  -999.0,9,   20.00,   7.6024,2,    25.00,   0.001,2,    0.01,   1.928,2,   9.060,2,    0.56,2,  -141.7,2,     2.5,   8.354,2,   0.008,   0.313,3,   39.84,2,  745.00,   0.1880,2,   0.1460,2,   0.0620,2,   0.0380,2,   0.0189,2,   0.0190,2,   2.3587,      0.001,   0.235,     -999.0,          9,     -999.0,          9,-999.000,          9
 33RO200501,       A16S,      23,          1,         19,         19,2,20050122,       1553,   -51.0018,   -34.6157,       5174,   850.5,   2.3596,  34.7206,2,  34.7210,2,    183.1,2,   185.7,2,   75.25,2,   30.80,2,    0.00,2,    2.08,2,   0.145,2,   0.072,2,   0.002,2,  2246.0,2,  2347.2,2,  -999.0,9,   20.00,   7.6111,2,    25.00,   0.001,2,    0.01,-999.000,9,-999.000,9,    0.59,2,  -140.3,2,     3.3,-999.000,9,-999.000,   0.261,3, -999.00,9,  850.50,-999.0000,9,-999.0000,9,-999.0000,9,-999.0000,9,-999.0000,9,-999.0000,9,   2.3069,     -999.0,-999.000,     -999.0,          9,     -999.0,          9,-999.000,          9
 33RO200501,       A16S,      23,          1,         18,         18,2,20050122,       1553,   -51.0018,   -34.6157,       5174,   950.9,   2.2786,  34.7319,2,  34.7353,2,    187.1,2,   187.9,2,   77.27,2,   30.52,2,    0.00,2,    2.06,2,   0.127,2,   0.064,2,   0.006,2,  2245.0,6,  2348.6,2,  -999.0,9,   20.00,   7.6232,2,    25.00,   0.001,2,    0.01,   1.916,2,   9.260,2,    0.59,2,  -143.3,2,     2.9,   8.289,2,   0.007,   0.234,3,   39.97,2,  950.90,   0.1630,2,   0.1220,2,   0.0540,2,   0.0350,2,   0.0183,3,   0.0192,3,   2.2194,      0.001,   0.239,     -999.0,          9,     -999.0,          9,-999.000,          9
 33RO200501,       A16S,      23,          1,         17,         17,2,20050122,       1553,   -51.0018,   -34.6157,       5174,  1100.6,   2.2515,  34.7577,2,  34.7580,2,    193.1,2,   194.6,2,   76.39,2,   29.60,2,    0.00,2,    2.00,2,   0.105,2,   0.052,2,   0.005,2,  2241.7,2,  2348.9,2,  -999.0,9,   20.00,   7.6278,2,    25.00,   0.001,2,    0.01,   1.909,2,   9.570,2,    0.64,2,  -144.4,2,     2.6,   8.288,2,   0.009,   0.199,3,   40.05,2, 1100.60,   0.1910,2,   0.1510,2,   0.0650,2,   0.0400,3,   0.0186,3,   0.0186,3,   2.1819,      0.001,   0.238,     -999.0,          9,     -999.0,          9,-999.000,          9
 33RO200501,       A16S,      23,          1,         16,         16,2,20050122,       1553,   -51.0018,   -34.6157,       5174,  1295.9,   1.9658,  34.7484,2,  34.7497,2,    193.2,2,   194.0,2,   85.05,2,   30.24,2,    0.00,2,    2.05,2,   0.132,2,   0.073,2,   0.000,2,  2248.0,2,  2353.0,2,  -999.0,9,   20.00,   7.6405,2,    25.00,   0.001,2,    0.01,   1.901,2,   9.760,2,    0.98,3,  -159.1,2,     3.4,   8.291,2,   0.009,   0.218,3,   39.67,2, 1295.90,-999.0000,9,-999.0000,9,-999.0000,9,-999.0000,9,-999.0000,9,-999.0000,9,   1.8847,      0.001,   0.241,     -999.0,          9,     -999.0,          9,-999.000,          9
 33RO200501,       A16S,      23,          1,         15,         15,2,20050122,       1553,   -51.0018,   -34.6157,       5174,  1500.1,   1.9040,  34.7702,2,  34.7718,2,    200.5,2,   203.0,2,   82.67,2,   29.24,2,    0.00,2,    1.96,2,   0.098,2,   0.047,2,   0.004,2,  2240.7,2,  2351.4,6,  -999.0,9,   20.00,   7.6395,6,    25.00,   0.001,2,    0.01,   1.909,2,   8.760,2,    0.68,2,  -146.5,2,     3.4,   8.110,2,   0.007,   0.177,3,   39.25,2, 1500.10,-999.0000,9,-999.0000,9,-999.0000,9,-999.0000,9,-999.0000,9,-999.0000,9,   1.8083,      0.001,   0.219,     -999.0,          9,     -999.0,          9,-999.000,          9
 33RO200501,       A16S,      23,          1,         14,         14,2,20050122,       1553,   -51.0018,   -34.6157,       5174,  1700.3,   1.6041,  34.7473,2,  34.7466,2,    199.7,2,   200.6,2,   93.63,2,   30.29,2,    0.00,2,    2.06,2,   0.116,2,   0.058,2,   0.004,2,  2249.5,2,  2355.2,2,  -999.0,9,   20.00,   7.6258,2,    25.00,   0.001,2,    0.01,   1.898,2,   9.030,2,    0.65,2,  -152.0,2,     3.8,   8.134,2,   0.007,   0.185,3,   39.88,2, 1700.30,-999.0000,9,-999.0000,9,-999.0000,9,-999.0000,9,-999.0000,9,-999.0000,9,   1.4970,      0.001,   0.217,     -999.0,          9,     -999.0,          9,-999.000,          9
 33RO200501,       A16S,      23,          1,         13,         13,2,20050122,       1553,   -51.0018,   -34.6157,       5174,  1900.6,   1.3739,  34.7334,2,  34.7336,2,    199.1,2,   201.0,2,  100.94,2,   30.91,2,    0.00,2,    2.12,2,   0.135,2,   0.066,2,   0.004,2,  2253.6,2,  2358.3,2,  -999.0,9,   20.00,   7.6197,2,    25.00,   0.001,2,    0.01,   1.916,2,   9.810,2,    0.62,2,  -155.8,2,     3.6,   8.205,2,   0.007,   0.199,3,   39.77,2, 1900.60,-999.0000,9,-999.0000,9,-999.0000,9,-999.0000,9,-999.0000,9,-999.0000,9,   1.2545,      0.001,   0.244,     -999.0,          9,     -999.0,          9,-999.000,          9
 33RO200501,       A16S,      23,          1,         12,         12,2,20050122,       1553,   -51.0018,   -34.6157,       5174,  2098.9,   1.1625,  34.7222,2,  34.7219,2,    201.1,2,   202.9,2,  106.40,2,   31.33,2,    0.00,2,    2.15,2,   0.171,2,   0.088,2,   0.008,2,  2257.1,2,  2367.4,3,  -999.0,9,   20.00,   7.6240,2,    25.00,   0.001,2,    0.01,   1.922,2,   8.960,2,    0.63,2,  -161.6,2,     3.7,   8.251,2,   0.007,   0.240,3, -999.00,9, 2098.90,   0.1490,2,   0.1070,2,   0.0520,2,   0.0350,2,   0.0164,3,   0.0182,3,   1.0308,      0.001,   0.222,     -999.0,          9,     -999.0,          9,-999.000,          9
 33RO200501,       A16S,      23,          1,         11,         11,2,20050122,       1553,   -51.0018,   -34.6157,       5174,  2261.2,   1.0315,  34.7156,2,  34.7160,2,    203.0,2,   204.9,2,  109.19,2,   31.54,2,    0.00,2,    2.17,2,   0.193,2,   0.100,2,   0.004,2,  2258.5,2,  2355.7,2,  -999.0,9,   20.00,   7.6173,2,    25.00,   0.001,2,    0.01,-999.000,9,-999.000,9,    0.63,2,  -167.3,2,     2.6,-999.000,9,-999.000,   0.283,3,   39.86,2, 2261.20,-999.0000,9,-999.0000,9,-999.0000,9,-999.0000,9,-999.0000,9,-999.0000,9,   0.8889,     -999.0,-999.000,     -999.0,          9,     -999.0,          9,-999.000,          9
 33RO200501,       A16S,      23,          1,         10,         10,2,20050122,       1553,   -51.0018,   -34.6157,       5174,  2500.7,   0.7824,  34.7026,2,  34.7032,2,    207.0,2,   208.8,2,  114.77,2,   31.92,2,    0.00,2,    2.21,2,   0.273,2,   0.139,2,   0.011,2,  2260.0,2,  2356.7,2,  -999.0,9,   20.00,   7.6153,2,    25.00,   0.001,2,    0.01,-999.000,9,-999.000,9,    0.63,2,  -167.4,2,     2.4,-999.000,9,-999.000,   0.350,3, -999.00,9, 2500.70,-999.0000,9,-999.0000,9,-999.0000,9,-999.0000,9,-999.0000,9,-999.0000,9,   0.6247,     -999.0,-999.000,     -999.0,          9,     -999.0,          9,-999.000,          9
 33RO200501,       A16S,      23,          1,          9,          9,2,20050122,       1553,   -51.0018,   -34.6157,       5174,  2749.4,   0.5925,  34.6931,2,  34.6934,2,    211.0,2,   212.0,2,  118.79,2,   32.18,2,    0.00,2,    2.23,2,   0.320,2,   0.161,2,   0.015,2,  2260.4,2,  2361.5,2,  -999.0,9,   20.00,   7.6117,2,    25.00,   0.000,2,    0.01,-999.000,9,-999.000,9,    0.63,2,  -172.5,2,     2.7,-999.000,9,-999.000,   0.409,3,   39.70,2, 2749.40,-999.0000,9,-999.0000,9,-999.0000,9,-999.0000,9,-999.0000,9,-999.0000,9,   0.4177,     -999.0,-999.000,     -999.0,          9,     -999.0,          9,-999.000,          9
 33RO200501,       A16S,      23,          1,          8,          8,2,20050122,       1553,   -51.0018,   -34.6157,       5174,  3050.5,   0.4326,  34.6852,2,  34.6860,2,    214.3,2,   215.7,2,  121.47,2,   32.42,2,    0.00,2,    2.24,2,   0.351,2,   0.173,2,   0.013,2,  2260.4,2,  2362.4,2,  -999.0,9,   20.00,   7.6189,2,    25.00,   0.001,2,    0.01,-999.000,9,-999.000,9,    0.64,2,  -173.4,2,     3.1,-999.000,9,-999.000,   0.454,3, -999.00,9, 3050.50,   0.1650,2,   0.1230,2,   0.0590,3,   0.0390,2,   0.0165,3,   0.0177,3,   0.2350,     -999.0,-999.000,     -999.0,          9,     -999.0,          9,-999.000,          9