BOTTLE,20220818CCHSIOAMB
EXPOCODE,SECT_ID,STNNBR,CASTNO,SAMPNO,BTLNBR,BTLNBR_FLAG_W,DATE,TIME,LATITUDE,LONGITUDE,DEPTH,CTDPRS,CTDTMP,CTDSAL,CTDSAL_FLAG_W,SALNTY,SALNTY_FLAG_W,CTDOXY,CTDOXY_FLAG_W,OXYGEN,OXYGEN_FLAG_W,SILCAT,SILCAT_FLAG_W,NITRAT,NITRAT_FLAG_W,NITRIT,NITRIT_FLAG_W,PHSPHT,PHSPHT_FLAG_W,CFC-11,CFC-11_FLAG_W,CFC-12,CFC-12_FLAG_W,CFC113,CFC113_FLAG_W,TCARBN,TCARBN_FLAG_W,ALKALI,ALKALI_FLAG_W,PCO2,PCO2_FLAG_W,PCO2TMP,PH_SWS,PH_SWS_FLAG_W,PH_TMP,TRITUM,TRITUM_FLAG_W,TRITER,HELIUM,HELIUM_FLAG_W,DELHE3,DELHE3_FLAG_W,DELC13,DELC13_FLAG_W,DELC14,DELC14_FLAG_W,C14ERR,NEON,NEON_FLAG_W,NEONER,CCL4,CCL4_FLAG_W,DOC,DOC_FLAG_W,CTDRAW,CDOM325,CDOM325_FLAG_W,CDOM340,CDOM340_FLAG_W,CDOM380,CDOM380_FLAG_W,CDOM412,CDOM412_FLAG_W,CDOMSL,CDOMSL_FLAG_W,CDOMSN,CDOMSN_FLAG_W,THETA,HELIER,DELHER,CH3CL,CH3CL_FLAG_W,CH3BR,CH3BR_FLAG_W,CH3I,CH3I_FLAG_W
,,,,,,,,,,,METERS,DBAR,ITS-90,PSS-78,,PSS-78,,UMOL/KG,,UMOL/KG,,UMOL/KG,,UMOL/KG,,UMOL/KG,,UMOL/KG,,PMOL/KG,,PMOL/KG,,PMOL/KG,,UMOL/KG,,UMOL/KG,,UATM,,DEG C,,,DEG C,TU,,TU,NMOL/KG,,PERCNT,,/MILLE,,/MILLE,,/MILLE,NMOL/KG,,NMOL/KG,PMOL/KG,,UMOL/KG,,DBAR,1/M,,1/M,,1/M,,1/M,,1/NM,,1/NM,,DEG C,NMOL/KG,PERCNT,PMOL/KG,,PMOL/KG,,PMOL/KG,
 33RO200501,       A16S,     111,          1,         36,         36,2,20050218,       1806,    -7.0002,   -25.0000,       5627,     2.3,  27.5242,  36.4054,2,  36.4053,2,    199.7,2,   199.6,2,    2.01,2,    0.01,2,    0.00,2,    0.08,2,   1.601,6,   1.062,6,   0.122,6,  2053.3,2,  2386.6,2,  -999.0,9,   20.00,   8.0699,2,    25.00,-999.000,9, -999.00,-999.000,9,-999.000,9, -999.00,9,  -999.0,9,  -999.0,-999.000,9,-999.000,   1.342,4,   67.72,2,    2.30,-999.0000,9,-999.0000,9,-999.0000,9,-999.0000,9,-999.0000,9,-999.0000,9,  27.5237,     -999.0,-999.000,     -999.0,          9,     -999.0,          9,-999.000,          9
 33RO200501,       A16S,     111,          1,         35,         35,2,20050218,       1806,    -7.0002,   -25.0000,       5627,    34.6,  27.5305,  36.4033,2,  36.4043,2,    200.4,2,   199.5,2,    2.04,2,    0.02,2,    0.00,2,    0.08,2,   1.613,2,   1.062,2,   0.122,2,  2052.1,2,  2386.1,6,  -999.0,9,   20.00,   8.0693,2,    25.00,-999.000,9, -999.00,-999.000,9,-999.000,9, -999.00,9,  -999.0,9,  -999.0,-999.000,9,-999.000,   1.343,4,   67.39,2,   34.60,-999.0000,9,-999.0000,9,-999.0000,9,-999.0000,9,-999.0000,9,-999.0000,9,  27.5224,     -999.0,-999.000,     -999.0,          9,     -999.0,          9,-999.000,          9
 33RO200501,       A16S,     111,          1,         34,         34,2,20050218,       1806,    -7.0002,   -25.0000,       5627,    74.3,  26.6125,  36.4057,2,  36.4402,2,    206.7,2,   206.5,2,    2.00,2,    0.07,2,    0.00,2,    0.10,2,   1.705,2,   1.108,2,   0.135,2,  2053.7,2,  2396.4,2,  -999.0,9,   20.00,   8.0702,2,    25.00,-999.000,9, -999.00,-999.000,9,-999.000,9, -999.00,9,  -999.0,9,  -999.0,-999.000,9,-999.000,   1.140,4,   66.23,2,   74.30,-999.0000,9,-999.0000,9,-999.0000,9,-999.0000,9,-999.0000,9,-999.0000,9,  26.5955,     -999.0,-999.000,     -999.0,          9,     -999.0,          9,-999.000,          9
 33RO200501,       A16S,     111,          1,         33,         33,2,20050218,       1806,    -7.0002,   -25.0000,       5627,   114.0,  21.9020,  36.4109,2,  36.3659,2,    161.9,2,   162.4,2,    3.19,2,    5.60,2,    0.30,2,    0.54,2,   1.934,2,   1.185,2,   0.115,2,  2125.2,2,  2380.9,2,  -999.0,9,   20.00,   7.9398,2,    25.00,-999.000,9, -999.00,-999.000,9,-999.000,9, -999.00,9,  -999.0,9,  -999.0,-999.000,9,-999.000,   0.536,4, -999.00,9,  114.00,-999.0000,9,-999.0000,9,-999.0000,9,-999.0000,9,-999.0000,9,-999.0000,9,  21.8794,     -999.0,-999.000,     -999.0,          9,     -999.0,          9,-999.000,          9
 33RO200501,       A16S,     111,          1,         32,         32,2,20050218,       1806,    -7.0002,   -25.0000,       5627,   144.5,  15.0313,  35.5567,2,  35.5452,2,    107.0,2,   107.3,2,    7.42,2,   19.54,2,    0.01,2,    1.26,2,   1.824,2,   1.053,2,   0.038,2,  2179.2,2,  2326.3,2,  -999.0,9,   20.00,   7.7298,2,    25.00,-999.000,9, -999.00,-999.000,9,-999.000,9, -999.00,9,  -999.0,9,  -999.0,-999.000,9,-999.000,   0.306,4,   55.83,2,  144.50,-999.0000,9,-999.0000,9,-999.0000,9,-999.0000,9,-999.0000,9,-999.0000,9,  15.0093,     -999.0,-999.000,     -999.0,          9,     -999.0,          9,-999.000,          9
 33RO200501,       A16S,     111,          1,         31,         31,2,20050218,       1806,    -7.0002,   -25.0000,       5627,   147.5,  14.5448,  35.5071,2,  35.4945,2,    107.1,2,   107.5,2,    7.76,2,   19.98,2,    0.01,2,    1.28,2,   1.817,2,   1.036,2,   0.033,2,  2181.4,2,  2322.9,2,  -999.0,9,   20.00,   7.7213,2,    25.00,-999.000,9, -999.00,-999.000,9,-999.000,9, -999.00,9,  -999.0,9,  -999.0,-999.000,9,-999.000,   0.298,4, -999.00,9,  147.50,-999.0000,9,-999.0000,9,-999.0000,9,-999.0000,9,-999.0000,9,-999.0000,9,  14.5228,     -999.0,-999.000,     -999.0,          9,     -999.0,          9,-999.000,          9
 33RO200501,       A16S,     111,          1,         30,         30,2,20050218,       1806,    -7.0002,   -25.0000,       5627,   174.4,  12.3098,  35.2119,2,  35.1874,2,     93.8,2,    91.6,2,   10.71,2,   25.33,2,    0.00,2,    1.58,2,   1.488,2,   0.815,2,   0.021,2,  2199.2,2,  2306.2,2,  -999.0,9,   20.00,   7.6395,2,    25.00,-999.000,9, -999.00,-999.000,9,-999.000,9, -999.00,9,  -999.0,9,  -999.0,-999.000,9,-999.000,   0.272,4,   48.52,2,  174.40,-999.0000,9,-999.0000,9,-999.0000,9,-999.0000,9,-999.0000,9,-999.0000,9,  12.2867,     -999.0,-999.000,     -999.0,          9,     -999.0,          9,-999.000,          9
 33RO200501,       A16S,     111,          1,         29,         29,2,20050218,       1806,    -7.0002,   -25.0000,       5627,   203.5,  11.3121,  35.0819,2,  35.0795,2,     91.1,2,    91.0,2,   11.89,2,   26.84,2,    0.00,2,    1.66,2,   1.361,2,   0.738,2,   0.014,2,  2202.5,2,  2300.7,2,  -999.0,9,   20.00,   7.6105,2,    25.00,-999.000,9, -999.00,-999.000,9,-999.000,9, -999.00,9,  -999.0,9,  -999.0,-999.000,9,-999.000,   0.275,4, -999.00,9,  203.50,-999.0000,9,-999.0000,9,-999.0000,9,-999.0000,9,-999.0000,9,-999.0000,9,  11.2865,     -999.0,-999.000,     -999.0,          9,     -999.0,          9,-999.000,          9
 33RO200501,       A16S,     111,          1,         28,         28,2,20050218,       1806,    -7.0002,   -25.0000,       5627,   264.4,   9.9055,  34.9059,2,  34.9022,2,     93.0,2,    94.3,2,   14.38,2,   29.35,2,    0.00,2,    1.80,2,   1.072,2,   0.566,2,   0.012,2,  2207.5,2,  2301.7,2,  -999.0,9,   20.00,   7.5769,2,    25.00,-999.000,9, -999.00,-999.000,9,-999.000,9, -999.00,9,  -999.0,9,  -999.0,-999.000,9,-999.000,   0.305,4,   45.28,2,  264.40,-999.0000,9,-999.0000,9,-999.0000,9,-999.0000,9,-999.0000,9,-999.0000,9,   9.8749,     -999.0,-999.000,     -999.0,          9,     -999.0,          9,-999.000,          9
 33RO200501,       A16S,     111,          1,         27,         27,2,20050218,       1806,    -7.0002,   -25.0000,       5627,   349.0,   8.8216,  34.7790,2,  34.7805,2,    104.7,2,   102.9,2,   16.54,2,   30.72,2,    0.00,2,    1.88,2,-999.000,9,-999.000,9,-999.000,9,  2209.4,2,  2299.0,2,  -999.0,9,   20.00,   7.5660,2,    25.00,-999.000,9, -999.00,-999.000,9,-999.000,9, -999.00,9,  -999.0,9,  -999.0,-999.000,9,-999.000,-999.000,9,   42.94,2,  349.00,-999.0000,9,-999.0000,9,-999.0000,9,-999.0000,9,-999.0000,9,-999.0000,9,   8.7839,     -999.0,-999.000,     -999.0,          9,     -999.0,          9,-999.000,          9
 33RO200501,       A16S,     111,          1,         26,         26,2,20050218,       1806,    -7.0002,   -25.0000,       5627,   449.1,   7.8282,  34.6826,2,  34.6798,2,    104.1,2,   104.5,2,   18.70,2,   32.75,2,    0.00,2,    2.01,2,   0.662,2,   0.353,2,   0.014,2,  2216.0,2,  2295.4,2,  -999.0,9,   20.00,   7.5386,2,    25.00,-999.000,9, -999.00,-999.000,9,-999.000,9, -999.00,9,  -999.0,9,  -999.0,-999.000,9,-999.000,   0.381,4,   41.76,2,  449.10,-999.0000,9,-999.0000,9,-999.0000,9,-999.0000,9,-999.0000,9,-999.0000,9,   7.7828,     -999.0,-999.000,     -999.0,          9,     -999.0,          9,-999.000,          9
 33RO200501,       A16S,     111,          1,         25,         25,2,20050218,       1806,    -7.0002,   -25.0000,       5627,   548.9,   6.6750,  34.5816,2,  34.5824,2,    117.6,2,   117.6,2,   22.07,2,   33.83,2,    0.00,2,    2.10,2,   0.464,2,   0.243,2,   0.008,2,  2217.1,2,  2293.9,2,  -999.0,9,   20.00,   7.5328,2,    25.00,-999.000,9, -999.00,-999.000,9,-999.000,9, -999.00,9,  -999.0,9,  -999.0,-999.000,9,-999.000,   0.384,4,   41.24,2,  548.90,-999.0000,9,-999.0000,9,-999.0000,9,-999.0000,9,-999.0000,9,-999.0000,9,   6.6240,     -999.0,-999.000,     -999.0,          9,     -999.0,          9,-999.000,          9
 33RO200501,       A16S,     111,          1,         24,         24,2,20050218,       1806,    -7.0002,   -25.0000,       5627,   648.4,   5.8072,  34.5112,2,  34.5082,2,    135.4,2,   135.9,2,   25.20,2,   33.82,2,    0.00,2,    2.14,2,-999.000,9,-999.000,9,-999.000,9,  2213.6,3,  2294.2,2,  -999.0,9,   20.00,   7.5490,2,    25.00,-999.000,9, -999.00,-999.000,9,-999.000,9, -999.00,9,  -999.0,9,  -999.0,-999.000,9,-999.000,-999.000,9,   39.99,2,  648.40,-999.0000,9,-999.0000,9,-999.0000,9,-999.0000,9,-999.0000,9,-999.0000,9,   5.7509,     -999.0,-999.000,     -999.0,          9,     -999.0,          9,-999.000,          9
 33RO200501,       A16S,     111,          1,         23,         23,2,20050218,       1806,    -7.0002,   -25.0000,       5627,   749.6,   5.0264,  34.4720,2,  34.4730,2,    147.5,2,   146.6,2,   29.38,2,   34.09,2,    0.00,2,    2.17,2,   0.249,2,   0.128,2,   0.000,2,  2215.7,2,  2297.8,2,  -999.0,9,   20.00,   7.5492,2,    25.00,-999.000,9, -999.00,-999.000,9,-999.000,9, -999.00,9,  -999.0,9,  -999.0,-999.000,9,-999.000,   0.357,4,   39.59,2,  749.60,-999.0000,9,-999.0000,9,-999.0000,9,-999.0000,9,-999.0000,9,-999.0000,9,   4.9652,     -999.0,-999.000,     -999.0,          9,     -999.0,          9,-999.000,          9
 33RO200501,       A16S,     111,          1,         22,         22,2,20050218,       1806,    -7.0002,   -25.0000,       5627,   848.9,   4.3612,  34.4698,2,  34.4689,2,    157.3,2,   161.6,2,   33.86,2,   33.49,2,    0.00,2,    2.15,2,-999.000,9,-999.000,9,-999.000,9,  2214.6,2,  2301.6,2,  -999.0,9,   20.00,   7.5654,2,    25.00,-999.000,9, -999.00,-999.000,9,-999.000,9, -999.00,9,  -999.0,9,  -999.0,-999.000,9,-999.000,-999.000,9,   39.76,2,  848.90,-999.0000,9,-999.0000,9,-999.0000,9,-999.0000,9,-999.0000,9,-999.0000,9,   4.2956,     -999.0,-999.000,     -999.0,          9,     -999.0,          9,-999.000,          9
 33RO200501,       A16S,     111,          1,         21,         21,2,20050218,       1806,    -7.0002,   -25.0000,       5627,   948.6,   4.1006,  34.5557,2,  34.5510,2,    164.7,2,   164.5,2,   35.47,2,   32.71,2,    0.00,2,    2.11,2,   0.057,2,   0.029,2,   0.007,2,  2215.8,2,  2299.7,2,  -999.0,9,   20.00,-999.0000,1,    25.00,-999.000,9, -999.00,-999.000,9,-999.000,9, -999.00,9,  -999.0,9,  -999.0,-999.000,9,-999.000,   0.143,4,   40.46,2,  948.60,-999.0000,9,-999.0000,9,-999.0000,9,-999.0000,9,-999.0000,9,-999.0000,9,   4.0284,     -999.0,-999.000,     -999.0,          9,     -999.0,          9,-999.000,          9
 33RO200501,       A16S,     111,          1,         20,         20,2,20050218,       1806,    -7.0002,   -25.0000,       5627,  1050.1,   4.1166,  34.6386,2,  34.6380,2,    170.3,2,   169.2,2,   33.61,6,   31.22,6,    0.00,6,    2.02,6,   0.021,2,   0.013,2,   0.005,2,  2213.6,2,  2302.7,2,  -999.0,9,   20.00,   7.5910,2,    25.00,-999.000,9, -999.00,-999.000,9,-999.000,9, -999.00,9,  -999.0,9,  -999.0,-999.000,9,-999.000,   0.070,4,   38.93,2, 1050.10,-999.0000,9,-999.0000,9,-999.0000,9,-999.0000,9,-999.0000,9,-999.0000,9,   4.0355,     -999.0,-999.000,     -999.0,          9,     -999.0,          9,-999.000,          9
 33RO200501,       A16S,     111,          1,         19,         19,2,20050218,       1806,    -7.0002,   -25.0000,       5627,  1149.5,   4.2439,  34.7546,2,  34.7543,2,    180.3,2,   179.9,2,   29.40,2,   28.74,2,    0.00,2,    1.84,2,   0.019,2,   0.013,2,   0.006,2,  2204.1,2,  2308.2,6,  -999.0,9,   20.00,   7.6208,6,    25.00,-999.000,9, -999.00,-999.000,9,-999.000,9, -999.00,9,  -999.0,9,  -999.0,-999.000,9,-999.000,   0.063,4,   39.96,2, 1149.50,-999.0000,9,-999.0000,9,-999.0000,9,-999.0000,9,-999.0000,9,-999.0000,9,   4.1530,     -999.0,-999.000,     -999.0,          9,     -999.0,          9,-999.000,          9
 33RO200501,       A16S,     111,          1,         18,         18,2,20050218,       1806,    -7.0002,   -25.0000,       5627,  1298.1,   4.3108,  34.8743,2,  34.8757,2,    200.5,2,   201.0,2,   24.12,2,   25.15,2,    0.00,2,    1.59,2,   0.040,2,   0.032,2,   0.000,2,  2189.9,2,  2304.6,2,  -999.0,9,   20.00,   7.6636,2,    25.00,-999.000,9, -999.00,-999.000,9,-999.000,9, -999.00,9,  -999.0,9,  -999.0,-999.000,9,-999.000,   0.123,4,   38.78,2, 1298.10,-999.0000,9,-999.0000,9,-999.0000,9,-999.0000,9,-999.0000,9,-999.0000,9,   4.2059,     -999.0,-999.000,     -999.0,          9,     -999.0,          9,-999.000,          9
 33RO200501,       A16S,     111,          1,         17,         17,2,20050218,       1806,    -7.0002,   -25.0000,       5627,  1499.4,   4.1860,  34.9426,2,  34.9431,2,    222.4,2,   222.7,2,   20.80,2,   22.25,2,    0.00,2,    1.39,2,   0.066,2,   0.041,2,   0.000,2,  2177.5,2,  2308.4,2,  -999.0,9,   20.00,   7.6972,2,    25.00,-999.000,9, -999.00,-999.000,9,-999.000,9, -999.00,9,  -999.0,9,  -999.0,-999.000,9,-999.000,   0.205,4,   39.82,2, 1499.40,-999.0000,9,-999.0000,9,-999.0000,9,-999.0000,9,-999.0000,9,-999.0000,9,   4.0638,     -999.0,-999.000,     -999.0,          9,     -999.0,          9,-999.000,          9
 33RO200501,       A16S,     111,          1,         16,         16,2,20050218,       1806,    -7.0002,   -25.0000,       5627,  1698.1,   3.9286,  34.9668,2,  34.9663,2,    238.5,2,   238.9,2,   19.91,2,   20.52,2,    0.00,2,    1.28,2,   0.086,2,   0.049,2,   0.000,2,  2169.4,2,  2309.3,2,  -999.0,9,   20.00,   7.7184,2,    25.00,-999.000,9, -999.00,-999.000,9,-999.000,9, -999.00,9,  -999.0,9,  -999.0,-999.000,9,-999.000,   0.261,4,   40.83,2, 1698.10,-999.0000,9,-999.0000,9,-999.0000,9,-999.0000,9,-999.0000,9,-999.0000,9,   3.7910,     -999.0,-999.000,     -999.0,          9,     -999.0,          9,-999.000,          9
 33RO200501,       A16S,     111,          1,         15,         15,2,20050218,       1806,    -7.0002,   -25.0000,       5627,  1898.5,   3.5619,  34.9537,2,  34.9539,2,    243.5,2,   242.4,2,   23.74,2,   20.53,2,    0.00,2,    1.29,2,   0.035,2,   0.022,2,   0.000,2,  2170.9,2,  2310.8,2,  -999.0,9,   20.00,   7.7219,2,    25.00,-999.000,9, -999.00,-999.000,9,-999.000,9, -999.00,9,  -999.0,9,  -999.0,-999.000,9,-999.000,   0.156,4,   40.68,2, 1898.50,-999.0000,9,-999.0000,9,-999.0000,9,-999.0000,9,-999.0000,9,-999.0000,9,   3.4105,     -999.0,-999.000,     -999.0,          9,     -999.0,          9,-999.000,          9
 33RO200501,       A16S,     111,          1,         14,         14,2,20050218,       1806,    -7.0002,   -25.0000,       5627,  2098.0,   3.2272,  34.9364,2,  34.9357,2,    243.5,2,   241.2,2,   29.03,2,   20.99,2,    0.00,2,    1.33,2,   0.020,2,   0.010,2,   0.000,2,  2176.3,2,  2314.7,2,  -999.0,9,   20.00,   7.7220,2,    25.00,-999.000,9, -999.00,-999.000,9,-999.000,9, -999.00,9,  -999.0,9,  -999.0,-999.000,9,-999.000,   0.087,4,   40.61,2, 2098.00,-999.0000,9,-999.0000,9,-999.0000,9,-999.0000,9,-999.0000,9,-999.0000,9,   3.0621,     -999.0,-999.000,     -999.0,          9,     -999.0,          9,-999.000,          9
 33RO200501,       A16S,     111,          1,         13,         13,2,20050218,       1806,    -7.0002,   -25.0000,       5627,  2300.0,   3.0068,  34.9233,2,  34.9225,2,    242.1,2,   241.4,2,   33.64,2,   21.44,2,    0.00,2,    1.37,2,   0.012,6,   0.005,6,   0.000,6,  2181.5,2,  2327.4,2,  -999.0,9,   20.00,   7.7212,2,    25.00,-999.000,9, -999.00,-999.000,9,-999.000,9, -999.00,9,  -999.0,9,  -999.0,-999.000,9,-999.000,   0.061,4,   39.73,2, 2300.00,-999.0000,9,-999.0000,9,-999.0000,9,-999.0000,9,-999.0000,9,-999.0000,9,   2.8262,     -999.0,-999.000,     -999.0,          9,     -999.0,          9,-999.000,          9
 33RO200501,       A16S,     111,          1,         12,         12,2,20050218,       1806,    -7.0002,   -25.0000,       5627,  2500.1,   2.8619,  34.9146,2,  34.9152,2,    241.2,2,   240.6,2,   36.83,2,   21.66,2,    0.00,2,    1.39,2,-999.000,9,-999.000,9,-999.000,9,  2184.6,2,  2331.3,2,  -999.0,9,   20.00,   7.7193,2,    25.00,-999.000,9, -999.00,-999.000,9,-999.000,9, -999.00,9,  -999.0,9,  -999.0,-999.000,9,-999.000,-999.000,9,   39.36,2, 2500.10,-999.0000,9,-999.0000,9,-999.0000,9,-999.0000,9,-999.0000,9,-999.0000,9,   2.6646,     -999.0,-999.000,     -999.0,          9,     -999.0,          9,-999.000,          9
 33RO200501,       A16S,     111,          1,         11,         11,2,20050218,       1806,    -7.0002,   -25.0000,       5627,  2698.5,   2.7529,  34.9105,2,  34.9111,2,    241.9,2,   241.3,2,   38.49,2,   21.67,2,    0.00,2,    1.39,2,   0.005,2,   0.004,2,   0.000,2,  2187.2,2,  2331.5,2,  -999.0,9,   20.00,   7.7194,2,    25.00,-999.000,9, -999.00,-999.000,9,-999.000,9, -999.00,9,  -999.0,9,  -999.0,-999.000,9,-999.000,   0.031,4,   39.70,2, 2698.50,-999.0000,9,-999.0000,9,-999.0000,9,-999.0000,9,-999.0000,9,-999.0000,9,   2.5381,     -999.0,-999.000,     -999.0,          9,     -999.0,          9,-999.000,          9
 33RO200501,       A16S,     111,          1,         10,         10,2,20050218,       1806,    -7.0002,   -25.0000,       5627,  2948.9,   2.6760,  34.9105,2,  34.9093,2,    245.5,2,   245.1,2,   37.98,2,   21.33,2,    0.00,2,    1.37,2,   0.009,2,   0.005,2,   0.000,2,  2183.9,2,  2332.6,2,  -999.0,9,   20.00,   7.7213,2,    25.00,-999.000,9, -999.00,-999.000,9,-999.000,9, -999.00,9,  -999.0,9,  -999.0,-999.000,9,-999.000,   0.049,4,   38.81,2, 2948.90,-999.0000,9,-999.0000,9,-999.0000,9,-999.0000,9,-999.0000,9,-999.0000,9,   2.4376,     -999.0,-999.000,     -999.0,          9,     -999.0,          9,-999.000,          9
 33RO200501,       A16S,     111,          1,          9,          9,2,20050218,       1806,    -7.0002,   -25.0000,       5627,  3240.1,   2.6236,  34.9155,2,  34.9150,2,    252.6,2,   253.1,2,   34.44,2,   20.29,2,    0.00,2,    1.31,2,   0.034,2,   0.022,2,   0.000,2,  2177.5,2,  2327.7,2,  -999.0,9,   20.00,   7.7294,2,    25.00,-999.000,9, -999.00,-999.000,9,-999.000,9, -999.00,9,  -999.0,9,  -999.0,-999.000,9,-999.000,   0.133,4,   39.57,2, 3240.10,-999.0000,9,-999.0000,9,-999.0000,9,-999.0000,9,-999.0000,9,-999.0000,9,   2.3561,     -999.0,-999.000,     -999.0,          9,     -999.0,          9,-999.000,          9
 33RO200501,       A16S,     111,          1,          8,          8,2,20050218,       1806,    -7.0002,   -25.0000,       5627,  3550.0,   2.4999,  34.9081,2,  34.9071,2,    255.7,2,   256.2,2,   35.16,2,   20.06,2,    0.00,2,    1.29,2,   0.049,2,   0.029,2,   0.000,2,  -999.0,9,  2328.0,2,  -999.0,9,   20.00,   7.7347,2,    25.00,-999.000,9, -999.00,-999.000,9,-999.000,9, -999.00,9,  -999.0,9,  -999.0,-999.000,9,-999.000,   0.184,4,   40.43,2, 3550.00,-999.0000,9,-999.0000,9,-999.0000,9,-999.0000,9,-999.0000,9,-999.0000,9,   2.2021,     -999.0,-999.000,     -999.0,          9,     -999.0,          9,-999.000,          9