BOTTLE,20220818CCHSIOAMB
EXPOCODE,SECT_ID,STNNBR,CASTNO,SAMPNO,BTLNBR,BTLNBR_FLAG_W,DATE,TIME,LATITUDE,LONGITUDE,DEPTH,CTDPRS,CTDTMP,CTDSAL,CTDSAL_FLAG_W,SALNTY,SALNTY_FLAG_W,CTDOXY,CTDOXY_FLAG_W,OXYGEN,OXYGEN_FLAG_W,SILCAT,SILCAT_FLAG_W,NITRAT,NITRAT_FLAG_W,NITRIT,NITRIT_FLAG_W,PHSPHT,PHSPHT_FLAG_W,CFC-11,CFC-11_FLAG_W,CFC-12,CFC-12_FLAG_W,CFC113,CFC113_FLAG_W,TCARBN,TCARBN_FLAG_W,ALKALI,ALKALI_FLAG_W,PCO2,PCO2_FLAG_W,PCO2TMP,PH_SWS,PH_SWS_FLAG_W,PH_TMP,TRITUM,TRITUM_FLAG_W,TRITER,HELIUM,HELIUM_FLAG_W,DELHE3,DELHE3_FLAG_W,DELC13,DELC13_FLAG_W,DELC14,DELC14_FLAG_W,C14ERR,NEON,NEON_FLAG_W,NEONER,CCL4,CCL4_FLAG_W,DOC,DOC_FLAG_W,CTDRAW,CDOM325,CDOM325_FLAG_W,CDOM340,CDOM340_FLAG_W,CDOM380,CDOM380_FLAG_W,CDOM412,CDOM412_FLAG_W,CDOMSL,CDOMSL_FLAG_W,CDOMSN,CDOMSN_FLAG_W,THETA,HELIER,DELHER,CH3CL,CH3CL_FLAG_W,CH3BR,CH3BR_FLAG_W,CH3I,CH3I_FLAG_W
,,,,,,,,,,,METERS,DBAR,ITS-90,PSS-78,,PSS-78,,UMOL/KG,,UMOL/KG,,UMOL/KG,,UMOL/KG,,UMOL/KG,,UMOL/KG,,PMOL/KG,,PMOL/KG,,PMOL/KG,,UMOL/KG,,UMOL/KG,,UATM,,DEG C,,,DEG C,TU,,TU,NMOL/KG,,PERCNT,,/MILLE,,/MILLE,,/MILLE,NMOL/KG,,NMOL/KG,PMOL/KG,,UMOL/KG,,DBAR,1/M,,1/M,,1/M,,1/M,,1/NM,,1/NM,,DEG C,NMOL/KG,PERCNT,PMOL/KG,,PMOL/KG,,PMOL/KG,
 33RO200501,       A16S,      75,          1,          7,          7,2,20050207,       1921,   -25.0005,   -25.0000,       5370,  3849.2,   2.0297,  34.8503,2,  34.8504,2,    244.2,2,   244.1,2,   57.50,2,   23.61,2,    0.00,2,    1.59,2,   0.004,2,   0.004,2,   0.000,2,  2200.2,2,  2339.7,2,  -999.0,9,   20.00,   7.6978,2,    25.00,-999.000,9, -999.00,-999.000,9,-999.000,9, -999.00,9,  -999.0,9,  -999.0,-999.000,9,-999.000,   0.032,4,   40.05,2, 3849.20,-999.0000,9,-999.0000,9,-999.0000,9,-999.0000,9,-999.0000,9,-999.0000,9,   1.7117,     -999.0,-999.000,     -999.0,          9,     -999.0,          9,-999.000,          9
 33RO200501,       A16S,      75,          1,          6,          6,2,20050207,       1921,   -25.0005,   -25.0000,       5370,  4148.8,   1.6726,  34.8124,2,  34.8111,2,    238.1,2,   237.9,2,   72.35,2,   25.58,2,    0.00,2,    1.74,2,   0.007,2,   0.002,2,   0.000,2,  2214.9,2,  2346.6,2,  -999.0,9,   20.00,   7.6836,2,    25.00,-999.000,9, -999.00,-999.000,9,-999.000,9, -999.00,9,  -999.0,9,  -999.0,-999.000,9,-999.000,   0.036,4, -999.00,9, 4148.80,-999.0000,9,-999.0000,9,-999.0000,9,-999.0000,9,-999.0000,9,-999.0000,9,   1.3316,     -999.0,-999.000,     -999.0,          9,     -999.0,          9,-999.000,          9
 33RO200501,       A16S,      75,          1,          5,          5,2,20050207,       1921,   -25.0005,   -25.0000,       5370,  4448.7,   1.3095,  34.7745,2,  34.7751,2,    232.6,2,   232.6,2,   86.81,2,   27.18,2,    0.00,2,    1.89,2,   0.016,2,   0.002,2,   0.000,2,  2227.7,2,  2353.4,2,  -999.0,9,   20.00,   7.6594,2,    25.00,-999.000,9, -999.00,-999.000,9,-999.000,9, -999.00,9,  -999.0,9,  -999.0,-999.000,9,-999.000,   0.047,4,   39.28,2, 4448.70,-999.0000,9,-999.0000,9,-999.0000,9,-999.0000,9,-999.0000,9,-999.0000,9,   0.9457,     -999.0,-999.000,     -999.0,          9,     -999.0,          9,-999.000,          9
 33RO200501,       A16S,      75,          1,          4,          4,2,20050207,       1921,   -25.0005,   -25.0000,       5370,  4728.8,   1.1412,  34.7552,2,  34.7600,3,    229.9,2,   230.1,2,   94.25,6,   28.36,6,    0.00,6,    1.96,6,   0.021,2,   0.008,2,   0.000,2,  2234.6,2,  2352.1,2,  -999.0,9,   20.00,   7.6540,2,    25.00,-999.000,9, -999.00,-999.000,9,-999.000,9, -999.00,9,  -999.0,9,  -999.0,-999.000,9,-999.000,   0.061,4, -999.00,9, 4728.80,-999.0000,9,-999.0000,9,-999.0000,9,-999.0000,9,-999.0000,9,-999.0000,9,   0.7506,     -999.0,-999.000,     -999.0,          9,     -999.0,          9,-999.000,          9
 33RO200501,       A16S,      75,          1,          3,          3,2,20050207,       1921,   -25.0005,   -25.0000,       5370,  5048.7,   0.9652,  34.7344,2,  34.7358,3,    227.5,2,   227.2,2,  101.81,6,   29.34,6,    0.00,6,    2.04,6,   0.042,2,   0.016,2,   0.000,2,  2241.7,2,  2354.5,2,  -999.0,9,   20.00,   7.6381,2,    25.00,   0.001,2,    0.00,-999.000,9,-999.000,9, -999.00,9,  -999.0,9,  -999.0,-999.000,9,-999.000,   0.093,4,   39.12,2, 5048.70,-999.0000,9,-999.0000,9,-999.0000,9,-999.0000,9,-999.0000,9,-999.0000,9,   0.5430,     -999.0,-999.000,     -999.0,          9,     -999.0,          9,-999.000,          9
 33RO200501,       A16S,      75,          1,          2,          2,2,20050207,       1921,   -25.0005,   -25.0000,       5370,  5349.0,   0.7371,  34.7083,2,  34.7083,2,    223.2,2,   223.8,2,  111.32,6,   30.54,6,    0.00,6,    2.14,6,   0.077,6,   0.034,6,   0.003,6,  2250.6,2,  2360.8,6,  -999.0,9,   20.00,   7.6227,6,    25.00,-999.000,9, -999.00,   1.939,2,   5.610,2, -999.00,9,  -999.0,9,  -999.0,   8.337,2,   0.007,   0.154,4, -999.00,9, 5349.00,-999.0000,9,-999.0000,9,-999.0000,9,-999.0000,9,-999.0000,9,-999.0000,9,   0.2869,      0.001,   0.208,     -999.0,          9,     -999.0,          9,-999.000,          9
 33RO200501,       A16S,      75,          1,          1,          1,2,20050207,       1921,   -25.0005,   -25.0000,       5370,  5525.6,   0.7549,  34.7077,2,  34.7081,2,    223.1,2,   223.5,2,  111.43,6,   30.54,6,    0.00,6,    2.15,6,   0.083,2,   0.036,2,   0.000,2,  2251.9,6,  2357.7,2,  -999.0,9,   20.00,   7.6218,2,    25.00,   0.003,2,    0.01,-999.000,9,-999.000,9, -999.00,9,  -999.0,9,  -999.0,-999.000,9,-999.000,   0.154,4,   39.48,2, 5525.60,-999.0000,9,-999.0000,9,-999.0000,9,-999.0000,9,-999.0000,9,-999.0000,9,   0.2823,     -999.0,-999.000,     -999.0,          9,     -999.0,          9,-999.000,          9