BOTTLE,20220818CCHSIOAMB
EXPOCODE,SECT_ID,STNNBR,CASTNO,SAMPNO,BTLNBR,BTLNBR_FLAG_W,DATE,TIME,LATITUDE,LONGITUDE,DEPTH,CTDPRS,CTDTMP,CTDSAL,CTDSAL_FLAG_W,SALNTY,SALNTY_FLAG_W,CTDOXY,CTDOXY_FLAG_W,OXYGEN,OXYGEN_FLAG_W,SILCAT,SILCAT_FLAG_W,NITRAT,NITRAT_FLAG_W,NITRIT,NITRIT_FLAG_W,PHSPHT,PHSPHT_FLAG_W,CFC-11,CFC-11_FLAG_W,CFC-12,CFC-12_FLAG_W,CFC113,CFC113_FLAG_W,TCARBN,TCARBN_FLAG_W,ALKALI,ALKALI_FLAG_W,PCO2,PCO2_FLAG_W,PCO2TMP,PH_SWS,PH_SWS_FLAG_W,PH_TMP,TRITUM,TRITUM_FLAG_W,TRITER,HELIUM,HELIUM_FLAG_W,DELHE3,DELHE3_FLAG_W,DELC13,DELC13_FLAG_W,DELC14,DELC14_FLAG_W,C14ERR,NEON,NEON_FLAG_W,NEONER,CCL4,CCL4_FLAG_W,DOC,DOC_FLAG_W,CTDRAW,CDOM325,CDOM325_FLAG_W,CDOM340,CDOM340_FLAG_W,CDOM380,CDOM380_FLAG_W,CDOM412,CDOM412_FLAG_W,CDOMSL,CDOMSL_FLAG_W,CDOMSN,CDOMSN_FLAG_W,THETA,HELIER,DELHER,CH3CL,CH3CL_FLAG_W,CH3BR,CH3BR_FLAG_W,CH3I,CH3I_FLAG_W
,,,,,,,,,,,METERS,DBAR,ITS-90,PSS-78,,PSS-78,,UMOL/KG,,UMOL/KG,,UMOL/KG,,UMOL/KG,,UMOL/KG,,UMOL/KG,,PMOL/KG,,PMOL/KG,,PMOL/KG,,UMOL/KG,,UMOL/KG,,UATM,,DEG C,,,DEG C,TU,,TU,NMOL/KG,,PERCNT,,/MILLE,,/MILLE,,/MILLE,NMOL/KG,,NMOL/KG,PMOL/KG,,UMOL/KG,,DBAR,1/M,,1/M,,1/M,,1/M,,1/NM,,1/NM,,DEG C,NMOL/KG,PERCNT,PMOL/KG,,PMOL/KG,,PMOL/KG,
 33RO200501,       A16S,      10,          1,         33,         33,2,20050120,       0022,   -55.5998,   -34.1837,       2179,     3.5,   3.0112,  33.7772,2,  33.7776,2,    329.0,2,   333.1,2,    0.45,2,   18.08,2,    0.27,2,    1.20,2,   5.802,2,   3.253,2,   0.503,2,  2115.3,6,  2283.7,6,  -999.0,9,   20.00,   7.8133,6,    25.00,-999.000,9, -999.00,-999.000,9,-999.000,9, -999.00,9,  -999.0,9,  -999.0,-999.000,9,-999.000,   6.877,4, -999.00,9,    3.50,-999.0000,9,-999.0000,9,-999.0000,9,-999.0000,9,-999.0000,9,-999.0000,9,   3.0109,     -999.0,-999.000,    229.930,          2,     15.629,          2,   1.445,          2
 33RO200501,       A16S,      10,          1,         32,         32,2,20050120,       0022,   -55.5998,   -34.1837,       2179,    10.4,   2.9312,  33.7765,2,  33.7764,2,    231.0,2,  -999.0,5,    0.48,2,   18.08,2,    0.26,2,    1.21,2,-999.000,9,-999.000,9,-999.000,9,  -999.0,9,  -999.0,9,  -999.0,9,   20.00,-999.0000,9,    25.00,-999.000,9, -999.00,-999.000,9,-999.000,9, -999.00,9,  -999.0,9,  -999.0,-999.000,9,-999.000,-999.000,9, -999.00,9,   10.40,-999.0000,9,-999.0000,9,-999.0000,9,-999.0000,9,-999.0000,9,-999.0000,9,   2.9306,     -999.0,-999.000,     -999.0,          9,     -999.0,          9,-999.000,          9
 33RO200501,       A16S,      10,          1,         31,         31,2,20050120,       0022,   -55.5998,   -34.1837,       2179,    29.8,   2.8683,  33.7759,2,  33.7764,2,    328.4,2,   314.5,3,    0.47,2,   18.06,2,    0.26,2,    1.22,2,-999.000,9,-999.000,9,-999.000,9,  -999.0,9,  -999.0,9,  -999.0,9,   20.00,-999.0000,9,    25.00,-999.000,9, -999.00,-999.000,9,-999.000,9, -999.00,9,  -999.0,9,  -999.0,-999.000,9,-999.000,-999.000,9, -999.00,9,   29.80,-999.0000,9,-999.0000,9,-999.0000,9,-999.0000,9,-999.0000,9,-999.0000,9,   2.8666,     -999.0,-999.000,    100.610,          2,      9.125,          2,   1.354,          2
 33RO200501,       A16S,      10,          1,         30,         30,2,20050120,       0022,   -55.5998,   -34.1837,       2179,    51.0,   2.8156,  33.7772,2,  33.7783,2,    327.8,2,   323.6,2,    0.49,2,   18.13,2,    0.26,2,    1.20,2,-999.000,9,-999.000,9,-999.000,9,  -999.0,9,  -999.0,9,  -999.0,9,   20.00,-999.0000,9,    25.00,-999.000,9, -999.00,-999.000,9,-999.000,9, -999.00,9,  -999.0,9,  -999.0,-999.000,9,-999.000,-999.000,9, -999.00,9,   51.00,-999.0000,9,-999.0000,9,-999.0000,9,-999.0000,9,-999.0000,9,-999.0000,9,   2.8126,     -999.0,-999.000,     83.934,          2,      9.011,          2,   1.367,          2
 33RO200501,       A16S,      10,          1,         29,         29,2,20050120,       0022,   -55.5998,   -34.1837,       2179,    70.7,   1.5614,  33.8450,2,  33.8596,2,    327.0,2,   331.7,2,   11.72,2,   22.06,2,    0.27,2,    1.63,2,-999.000,9,-999.000,9,-999.000,9,  -999.0,9,  -999.0,9,  -999.0,9,   20.00,-999.0000,9,    25.00,-999.000,9, -999.00,-999.000,9,-999.000,9, -999.00,9,  -999.0,9,  -999.0,-999.000,9,-999.000,-999.000,9, -999.00,9,   70.70,-999.0000,9,-999.0000,9,-999.0000,9,-999.0000,9,-999.0000,9,-999.0000,9,   1.5580,     -999.0,-999.000,     47.228,          2,      8.468,          2,   0.792,          2
 33RO200501,       A16S,      10,          1,         28,         28,2,20050120,       0022,   -55.5998,   -34.1837,       2179,    91.6,   0.4020,  33.9126,2,  33.9126,2,    323.6,2,   326.8,2,   27.25,2,   25.37,2,    0.29,2,    1.87,2,   6.178,2,   3.310,2,   0.544,2,  -999.0,9,  -999.0,9,  -999.0,9,   20.00,-999.0000,9,    25.00,-999.000,9, -999.00,-999.000,9,-999.000,9, -999.00,9,  -999.0,9,  -999.0,-999.000,9,-999.000,   6.408,4, -999.00,9,   91.60,-999.0000,9,-999.0000,9,-999.0000,9,-999.0000,9,-999.0000,9,-999.0000,9,   0.3985,     -999.0,-999.000,     17.367,          2,      8.604,          2,   0.572,          2
 33RO200501,       A16S,      10,          1,         27,         27,2,20050120,       0022,   -55.5998,   -34.1837,       2179,   116.1,   0.6104,  34.0343,2,  34.0327,2,    297.0,2,   291.2,2,   41.16,2,   29.68,2,    0.24,2,    2.06,2,-999.000,9,-999.000,9,-999.000,9,  -999.0,9,  -999.0,9,  -999.0,9,   20.00,-999.0000,9,    25.00,-999.000,9, -999.00,-999.000,9,-999.000,9, -999.00,9,  -999.0,9,  -999.0,-999.000,9,-999.000,-999.000,9, -999.00,9,  116.10,-999.0000,9,-999.0000,9,-999.0000,9,-999.0000,9,-999.0000,9,-999.0000,9,   0.6057,     -999.0,-999.000,     -999.0,          9,     -999.0,          9,-999.000,          9
 33RO200501,       A16S,      10,          1,         26,         26,2,20050120,       0022,   -55.5998,   -34.1837,       2179,   140.7,   0.9368,  34.1030,2,  34.1062,2,    272.5,2,   271.1,2,   44.87,2,   31.28,2,    0.20,2,    2.12,2,-999.000,9,-999.000,9,-999.000,9,  -999.0,9,  -999.0,9,  -999.0,9,   20.00,-999.0000,9,    25.00,-999.000,9, -999.00,-999.000,9,-999.000,9, -999.00,9,  -999.0,9,  -999.0,-999.000,9,-999.000,-999.000,9, -999.00,9,  140.70,-999.0000,9,-999.0000,9,-999.0000,9,-999.0000,9,-999.0000,9,-999.0000,9,   0.9307,     -999.0,-999.000,     -999.0,          9,     -999.0,          9,-999.000,          9
 33RO200501,       A16S,      10,          1,         25,         25,2,20050120,       0022,   -55.5998,   -34.1837,       2179,   164.2,   1.1280,  34.1471,2,  34.1458,2,    261.6,2,   261.9,2,   46.36,2,   31.77,2,    0.16,2,    2.14,2,-999.000,9,-999.000,9,-999.000,9,  -999.0,9,  -999.0,9,  -999.0,9,   20.00,-999.0000,9,    25.00,-999.000,9, -999.00,-999.000,9,-999.000,9, -999.00,9,  -999.0,9,  -999.0,-999.000,9,-999.000,-999.000,9, -999.00,9,  164.20,-999.0000,9,-999.0000,9,-999.0000,9,-999.0000,9,-999.0000,9,-999.0000,9,   1.1206,     -999.0,-999.000,      0.000,          2,      8.394,          2,   0.215,          2
 33RO200501,       A16S,      10,          1,         24,         24,2,20050120,       0022,   -55.5998,   -34.1837,       2179,   191.0,   1.4667,  34.2275,2,  34.2277,2,    237.6,2,   240.6,2,   50.57,2,   32.76,2,    0.05,2,    2.20,2,-999.000,9,-999.000,9,-999.000,9,  -999.0,9,  -999.0,9,  -999.0,9,   20.00,-999.0000,9,    25.00,-999.000,9, -999.00,-999.000,9,-999.000,9, -999.00,9,  -999.0,9,  -999.0,-999.000,9,-999.000,-999.000,9, -999.00,9,  191.00,-999.0000,9,-999.0000,9,-999.0000,9,-999.0000,9,-999.0000,9,-999.0000,9,   1.4574,     -999.0,-999.000,     -999.0,          9,     -999.0,          9,-999.000,          9
 33RO200501,       A16S,      10,          1,         23,         23,2,20050120,       0022,   -55.5998,   -34.1837,       2179,   215.3,   1.6281,  34.2711,2,  34.2701,2,    228.3,2,   229.8,2,   53.43,2,   33.19,2,    0.04,2,    2.23,2,-999.000,9,-999.000,9,-999.000,9,  -999.0,9,  -999.0,9,  -999.0,9,   20.00,-999.0000,9,    25.00,-999.000,9, -999.00,-999.000,9,-999.000,9, -999.00,9,  -999.0,9,  -999.0,-999.000,9,-999.000,-999.000,9, -999.00,9,  215.30,-999.0000,9,-999.0000,9,-999.0000,9,-999.0000,9,-999.0000,9,-999.0000,9,   1.6174,     -999.0,-999.000,     -999.0,          9,     -999.0,          9,-999.000,          9
 33RO200501,       A16S,      10,          1,         22,         22,2,20050120,       0022,   -55.5998,   -34.1837,       2179,   240.8,   1.8232,  34.3336,2,  34.3342,2,    211.2,2,   214.0,2,   58.45,2,   33.74,2,    0.03,2,    2.27,2,   2.447,2,   1.263,2,   0.181,2,  -999.0,9,  -999.0,9,  -999.0,9,   20.00,-999.0000,9,    25.00,-999.000,9, -999.00,-999.000,9,-999.000,9, -999.00,9,  -999.0,9,  -999.0,-999.000,9,-999.000,   2.507,3, -999.00,9,  240.80,-999.0000,9,-999.0000,9,-999.0000,9,-999.0000,9,-999.0000,9,-999.0000,9,   1.8107,     -999.0,-999.000,      0.000,          2,      9.204,          2,   0.151,          2
 33RO200501,       A16S,      10,          1,         21,         21,2,20050120,       0022,   -55.5998,   -34.1837,       2179,   276.1,   1.9943,  34.4035,2,  34.4029,2,    198.0,2,   199.0,2,   63.94,2,   34.20,2,    0.02,2,    2.30,2,-999.000,9,-999.000,9,-999.000,9,  -999.0,9,  -999.0,9,  -999.0,9,   20.00,-999.0000,9,    25.00,-999.000,9, -999.00,-999.000,9,-999.000,9, -999.00,9,  -999.0,9,  -999.0,-999.000,9,-999.000,-999.000,9, -999.00,9,  276.10,-999.0000,9,-999.0000,9,-999.0000,9,-999.0000,9,-999.0000,9,-999.0000,9,   1.9794,     -999.0,-999.000,     -999.0,          9,     -999.0,          9,-999.000,          9
 33RO200501,       A16S,      10,          1,         20,         20,2,20050120,       0022,   -55.5998,   -34.1837,       2179,   325.8,   2.0017,  34.4482,2,  34.4500,2,    192.1,2,   191.3,2,   68.38,2,   34.39,2,    0.03,2,    2.32,2,-999.000,9,-999.000,9,-999.000,9,  -999.0,9,  -999.0,9,  -999.0,9,   20.00,-999.0000,9,    25.00,-999.000,9, -999.00,-999.000,9,-999.000,9, -999.00,9,  -999.0,9,  -999.0,-999.000,9,-999.000,-999.000,9, -999.00,9,  325.80,-999.0000,9,-999.0000,9,-999.0000,9,-999.0000,9,-999.0000,9,-999.0000,9,   1.9840,     -999.0,-999.000,     -999.0,          9,     -999.0,          9,-999.000,          9
 33RO200501,       A16S,      10,          1,         19,         19,2,20050120,       0022,   -55.5998,   -34.1837,       2179,   375.3,   2.0824,  34.4955,2,  34.4936,2,    184.4,2,   184.0,2,   71.58,2,   34.42,2,    0.02,2,    2.32,2,-999.000,9,-999.000,9,-999.000,9,  -999.0,9,  -999.0,9,  -999.0,9,   20.00,-999.0000,9,    25.00,-999.000,9, -999.00,-999.000,9,-999.000,9, -999.00,9,  -999.0,9,  -999.0,-999.000,9,-999.000,-999.000,9, -999.00,9,  375.30,-999.0000,9,-999.0000,9,-999.0000,9,-999.0000,9,-999.0000,9,-999.0000,9,   2.0616,     -999.0,-999.000,      0.000,          2,      9.738,          2,   0.105,          2
 33RO200501,       A16S,      10,          1,         18,         18,2,20050120,       0022,   -55.5998,   -34.1837,       2179,   425.5,   2.1000,  34.5320,2,  34.5311,2,    179.9,2,   179.6,2,   74.18,2,   34.19,2,    0.02,2,    2.32,2,-999.000,9,-999.000,9,-999.000,9,  -999.0,9,  -999.0,9,  -999.0,9,   20.00,-999.0000,9,    25.00,-999.000,9, -999.00,-999.000,9,-999.000,9, -999.00,9,  -999.0,9,  -999.0,-999.000,9,-999.000,-999.000,9, -999.00,9,  425.50,-999.0000,9,-999.0000,9,-999.0000,9,-999.0000,9,-999.0000,9,-999.0000,9,   2.0761,     -999.0,-999.000,     -999.0,          9,     -999.0,          9,-999.000,          9
 33RO200501,       A16S,      10,          1,         17,         17,2,20050120,       0022,   -55.5998,   -34.1837,       2179,   475.2,   2.0946,  34.5593,2,  34.5622,2,    177.7,2,   177.0,2,   76.28,2,   33.89,2,    0.01,2,    2.31,2,-999.000,9,-999.000,9,-999.000,9,  -999.0,9,  -999.0,9,  -999.0,9,   20.00,-999.0000,9,    25.00,-999.000,9, -999.00,-999.000,9,-999.000,9, -999.00,9,  -999.0,9,  -999.0,-999.000,9,-999.000,-999.000,9, -999.00,9,  475.20,-999.0000,9,-999.0000,9,-999.0000,9,-999.0000,9,-999.0000,9,-999.0000,9,   2.0677,     -999.0,-999.000,     -999.0,          9,     -999.0,          9,-999.000,          9
 33RO200501,       A16S,      10,          1,         16,         16,2,20050120,       0022,   -55.5998,   -34.1837,       2179,   550.1,   2.0987,  34.5996,2,  34.5993,2,    174.8,2,   174.3,2,   79.07,2,   33.64,2,    0.01,2,    2.30,2,   0.562,2,   0.294,2,   0.032,2,  -999.0,9,  -999.0,9,  -999.0,9,   20.00,-999.0000,9,    25.00,-999.000,9, -999.00,-999.000,9,-999.000,9, -999.00,9,  -999.0,9,  -999.0,-999.000,9,-999.000,   0.759,3, -999.00,9,  550.10,-999.0000,9,-999.0000,9,-999.0000,9,-999.0000,9,-999.0000,9,-999.0000,9,   2.0672,     -999.0,-999.000,      0.491,          2,     10.678,          2,   0.072,          2
 33RO200501,       A16S,      10,          1,         15,         15,2,20050120,       0022,   -55.5998,   -34.1837,       2179,   649.8,   2.0622,  34.6510,2,  34.6494,2,    173.7,2,   173.6,2,   83.88,2,   33.05,2,    0.01,2,    2.27,2,-999.000,9,-999.000,9,-999.000,9,  -999.0,9,  -999.0,9,  -999.0,9,   20.00,-999.0000,9,    25.00,-999.000,9, -999.00,-999.000,9,-999.000,9, -999.00,9,  -999.0,9,  -999.0,-999.000,9,-999.000,-999.000,9, -999.00,9,  649.80,-999.0000,9,-999.0000,9,-999.0000,9,-999.0000,9,-999.0000,9,-999.0000,9,   2.0246,     -999.0,-999.000,     -999.0,          9,     -999.0,          9,-999.000,          9
 33RO200501,       A16S,      10,          1,         14,         14,2,20050120,       0022,   -55.5998,   -34.1837,       2179,   750.3,   1.9694,  34.6709,2,  34.6702,2,    176.6,2,   176.2,2,   87.16,2,   32.76,2,    0.01,2,    2.25,2,-999.000,9,-999.000,9,-999.000,9,  -999.0,9,  -999.0,9,  -999.0,9,   20.00,-999.0000,9,    25.00,-999.000,9, -999.00,-999.000,9,-999.000,9, -999.00,9,  -999.0,9,  -999.0,-999.000,9,-999.000,-999.000,9, -999.00,9,  750.30,-999.0000,9,-999.0000,9,-999.0000,9,-999.0000,9,-999.0000,9,-999.0000,9,   1.9259,     -999.0,-999.000,     -999.0,          9,     -999.0,          9,-999.000,          9
 33RO200501,       A16S,      10,          1,         13,         13,2,20050120,       0022,   -55.5998,   -34.1837,       2179,   850.1,   1.9028,  34.6873,2,  34.6867,2,    177.8,2,   178.1,2,   90.51,2,   32.58,2,    0.01,2,    2.23,2,-999.000,9,-999.000,9,-999.000,9,  -999.0,9,  -999.0,9,  -999.0,9,   20.00,-999.0000,9,    25.00,-999.000,9, -999.00,-999.000,9,-999.000,9, -999.00,9,  -999.0,9,  -999.0,-999.000,9,-999.000,-999.000,9, -999.00,9,  850.10,-999.0000,9,-999.0000,9,-999.0000,9,-999.0000,9,-999.0000,9,-999.0000,9,   1.8532,     -999.0,-999.000,     20.530,          2,     12.873,          2,   0.089,          2
 33RO200501,       A16S,      10,          1,         12,         12,2,20050120,       0022,   -55.5998,   -34.1837,       2179,   950.9,   1.8336,  34.7011,2,  34.7009,2,    179.1,2,   180.0,2,   93.43,2,   32.33,2,    0.00,2,    2.22,2,-999.000,9,-999.000,9,-999.000,9,  -999.0,9,  -999.0,9,  -999.0,9,   20.00,-999.0000,9,    25.00,-999.000,9, -999.00,-999.000,9,-999.000,9, -999.00,9,  -999.0,9,  -999.0,-999.000,9,-999.000,-999.000,9, -999.00,9,  950.90,-999.0000,9,-999.0000,9,-999.0000,9,-999.0000,9,-999.0000,9,-999.0000,9,   1.7778,     -999.0,-999.000,     -999.0,          9,     -999.0,          9,-999.000,          9
 33RO200501,       A16S,      10,          1,         11,         11,2,20050120,       0022,   -55.5998,   -34.1837,       2179,  1050.6,   1.7632,  34.7065,2,  34.7064,2,    181.6,2,   181.9,2,   94.64,2,   32.17,2,    0.00,2,    2.21,2,-999.000,9,-999.000,9,-999.000,9,  -999.0,9,  -999.0,9,  -999.0,9,   20.00,-999.0000,9,    25.00,-999.000,9, -999.00,-999.000,9,-999.000,9, -999.00,9,  -999.0,9,  -999.0,-999.000,9,-999.000,-999.000,9, -999.00,9, 1050.60,-999.0000,9,-999.0000,9,-999.0000,9,-999.0000,9,-999.0000,9,-999.0000,9,   1.7013,     -999.0,-999.000,     -999.0,          9,     -999.0,          9,-999.000,          9
 33RO200501,       A16S,      10,          1,         10,         10,2,20050120,       0022,   -55.5998,   -34.1837,       2179,  1148.7,   1.7064,  34.7089,2,  34.7083,2,    183.4,2,   183.7,2,   95.13,2,   31.97,2,    0.00,2,    2.21,2,   0.179,2,   0.096,2,   0.003,2,  -999.0,9,  -999.0,9,  -999.0,9,   20.00,-999.0000,9,    25.00,-999.000,9, -999.00,-999.000,9,-999.000,9, -999.00,9,  -999.0,9,  -999.0,-999.000,9,-999.000,   0.263,3, -999.00,9, 1148.70,-999.0000,9,-999.0000,9,-999.0000,9,-999.0000,9,-999.0000,9,-999.0000,9,   1.6383,     -999.0,-999.000,     32.777,          2,     14.396,          2,   0.093,          2
 33RO200501,       A16S,      10,          1,          9,          9,2,20050120,       0022,   -55.5998,   -34.1837,       2179,  1251.0,   1.6177,  34.7132,2,  34.7131,2,    185.8,2,   186.6,2,   96.43,2,   31.79,2,    0.00,2,    2.20,2,-999.000,9,-999.000,9,-999.000,9,  -999.0,9,  -999.0,9,  -999.0,9,   20.00,-999.0000,9,    25.00,-999.000,9, -999.00,-999.000,9,-999.000,9, -999.00,9,  -999.0,9,  -999.0,-999.000,9,-999.000,-999.000,9, -999.00,9, 1251.00,-999.0000,9,-999.0000,9,-999.0000,9,-999.0000,9,-999.0000,9,-999.0000,9,   1.5434,     -999.0,-999.000,     -999.0,          9,     -999.0,          9,-999.000,          9
 33RO200501,       A16S,      10,          1,          8,          8,2,20050120,       0022,   -55.5998,   -34.1837,       2179,  1350.1,   1.5295,  34.7136,2,  34.7136,2,    188.4,2,   189.4,2,   97.98,2,   31.67,2,    0.00,2,    2.20,2,-999.000,9,-999.000,9,-999.000,9,  -999.0,9,  -999.0,9,  -999.0,9,   20.00,-999.0000,9,    25.00,-999.000,9, -999.00,-999.000,9,-999.000,9, -999.00,9,  -999.0,9,  -999.0,-999.000,9,-999.000,-999.000,9, -999.00,9, 1350.10,-999.0000,9,-999.0000,9,-999.0000,9,-999.0000,9,-999.0000,9,-999.0000,9,   1.4491,     -999.0,-999.000,     -999.0,          9,     -999.0,          9,-999.000,          9
 33RO200501,       A16S,      10,          1,          7,          7,2,20050120,       0022,   -55.5998,   -34.1837,       2179,  1450.5,   1.4030,  34.7113,2,  34.7111,2,    191.8,2,   192.8,2,  100.87,2,   31.65,2,    0.00,2,    2.20,2,-999.000,9,-999.000,9,-999.000,9,  -999.0,9,  -999.0,9,  -999.0,9,   20.00,-999.0000,9,    25.00,-999.000,9, -999.00,-999.000,9,-999.000,9, -999.00,9,  -999.0,9,  -999.0,-999.000,9,-999.000,-999.000,9, -999.00,9, 1450.50,-999.0000,9,-999.0000,9,-999.0000,9,-999.0000,9,-999.0000,9,-999.0000,9,   1.3169,     -999.0,-999.000,     38.525,          2,     15.348,          2,   0.113,          2
 33RO200501,       A16S,      10,          1,          6,          6,2,20050120,       0022,   -55.5998,   -34.1837,       2179,  1551.2,   1.3028,  34.7095,2,  34.7091,2,    194.7,2,   195.5,2,  103.52,2,   31.76,2,    0.01,2,    2.20,2,-999.000,9,-999.000,9,-999.000,9,  -999.0,9,  -999.0,9,  -999.0,9,   20.00,-999.0000,9,    25.00,-999.000,9, -999.00,-999.000,9,-999.000,9, -999.00,9,  -999.0,9,  -999.0,-999.000,9,-999.000,-999.000,9, -999.00,9, 1551.20,-999.0000,9,-999.0000,9,-999.0000,9,-999.0000,9,-999.0000,9,-999.0000,9,   1.2107,     -999.0,-999.000,     -999.0,          9,     -999.0,          9,-999.000,          9
 33RO200501,       A16S,      10,          1,          5,          5,2,20050120,       0022,   -55.5998,   -34.1837,       2179,  1650.0,   1.2433,  34.7082,2,  34.7077,2,    197.0,2,   197.0,2,  105.24,2,   31.83,2,    0.01,2,    2.20,2,-999.000,9,-999.000,9,-999.000,9,  -999.0,9,  -999.0,9,  -999.0,9,   20.00,-999.0000,9,    25.00,-999.000,9, -999.00,-999.000,9,-999.000,9, -999.00,9,  -999.0,9,  -999.0,-999.000,9,-999.000,-999.000,9, -999.00,9, 1650.00,-999.0000,9,-999.0000,9,-999.0000,9,-999.0000,9,-999.0000,9,-999.0000,9,   1.1447,     -999.0,-999.000,     -999.0,          9,     -999.0,          9,-999.000,          9