BOTTLE,20220818CCHSIOAMB
EXPOCODE,SECT_ID,STNNBR,CASTNO,SAMPNO,BTLNBR,BTLNBR_FLAG_W,DATE,TIME,LATITUDE,LONGITUDE,DEPTH,CTDPRS,CTDTMP,CTDSAL,CTDSAL_FLAG_W,SALNTY,SALNTY_FLAG_W,CTDOXY,CTDOXY_FLAG_W,OXYGEN,OXYGEN_FLAG_W,SILCAT,SILCAT_FLAG_W,NITRAT,NITRAT_FLAG_W,NITRIT,NITRIT_FLAG_W,PHSPHT,PHSPHT_FLAG_W,CFC-11,CFC-11_FLAG_W,CFC-12,CFC-12_FLAG_W,CFC113,CFC113_FLAG_W,TCARBN,TCARBN_FLAG_W,ALKALI,ALKALI_FLAG_W,PCO2,PCO2_FLAG_W,PCO2TMP,PH_SWS,PH_SWS_FLAG_W,PH_TMP,TRITUM,TRITUM_FLAG_W,TRITER,HELIUM,HELIUM_FLAG_W,DELHE3,DELHE3_FLAG_W,DELC13,DELC13_FLAG_W,DELC14,DELC14_FLAG_W,C14ERR,NEON,NEON_FLAG_W,NEONER,CCL4,CCL4_FLAG_W,DOC,DOC_FLAG_W,CTDRAW,CDOM325,CDOM325_FLAG_W,CDOM340,CDOM340_FLAG_W,CDOM380,CDOM380_FLAG_W,CDOM412,CDOM412_FLAG_W,CDOMSL,CDOMSL_FLAG_W,CDOMSN,CDOMSN_FLAG_W,THETA,HELIER,DELHER,CH3CL,CH3CL_FLAG_W,CH3BR,CH3BR_FLAG_W,CH3I,CH3I_FLAG_W
,,,,,,,,,,,METERS,DBAR,ITS-90,PSS-78,,PSS-78,,UMOL/KG,,UMOL/KG,,UMOL/KG,,UMOL/KG,,UMOL/KG,,UMOL/KG,,PMOL/KG,,PMOL/KG,,PMOL/KG,,UMOL/KG,,UMOL/KG,,UATM,,DEG C,,,DEG C,TU,,TU,NMOL/KG,,PERCNT,,/MILLE,,/MILLE,,/MILLE,NMOL/KG,,NMOL/KG,PMOL/KG,,UMOL/KG,,DBAR,1/M,,1/M,,1/M,,1/M,,1/NM,,1/NM,,DEG C,NMOL/KG,PERCNT,PMOL/KG,,PMOL/KG,,PMOL/KG,
 33RO200501,       A16S,      62,          1,         36,         36,2,20050203,       1827,   -31.5010,   -25.0002,       4450,     2.8,  22.7255,  36.1577,2,  36.1563,2,    219.0,2,   219.0,2,    1.02,2,    0.09,2,    0.00,2,    0.03,2,   1.887,2,   1.182,2,   0.171,2,  2060.4,2,  2364.4,2,  -999.0,9,   20.00,   8.0362,6,    25.00,-999.000,9, -999.00,-999.000,9,-999.000,9, -999.00,9,  -999.0,9,  -999.0,-999.000,9,-999.000,   1.513,4, -999.00,9,    2.80,-999.0000,9,-999.0000,9,-999.0000,9,-999.0000,9,-999.0000,9,-999.0000,9,  22.7249,     -999.0,-999.000,     65.647,          2,      0.873,          2,   5.744,          2
 33RO200501,       A16S,      62,          1,         35,         35,2,20050203,       1827,   -31.5010,   -25.0002,       4450,    23.6,  22.7049,  36.1555,2,  36.1532,2,    219.6,2,   219.8,2,    1.02,2,    0.09,2,    0.00,2,    0.03,2,-999.000,9,-999.000,9,-999.000,9,  -999.0,9,  2364.6,2,  -999.0,9,   20.00,   8.0377,2,    25.00,-999.000,9, -999.00,-999.000,9,-999.000,9, -999.00,9,  -999.0,9,  -999.0,-999.000,9,-999.000,-999.000,9, -999.00,9,   23.60,-999.0000,9,-999.0000,9,-999.0000,9,-999.0000,9,-999.0000,9,-999.0000,9,  22.7001,     -999.0,-999.000,     70.301,          2,      0.867,          2,   6.434,          2
 33RO200501,       A16S,      62,          1,         34,         34,2,20050203,       1827,   -31.5010,   -25.0002,       4450,    48.7,  22.5868,  36.1536,2,  36.1558,2,    219.5,2,   220.5,2,    1.04,2,    0.09,2,    0.00,2,    0.05,2,-999.000,9,-999.000,9,-999.000,9,  -999.0,9,  2368.4,2,  -999.0,9,   20.00,   8.0371,2,    25.00,-999.000,9, -999.00,-999.000,9,-999.000,9, -999.00,9,  -999.0,9,  -999.0,-999.000,9,-999.000,-999.000,9, -999.00,9,   48.70,-999.0000,9,-999.0000,9,-999.0000,9,-999.0000,9,-999.0000,9,-999.0000,9,  22.5769,     -999.0,-999.000,     83.567,          2,      0.878,          2,   7.265,          2
 33RO200501,       A16S,      62,          1,         33,         33,2,20050203,       1827,   -31.5010,   -25.0002,       4450,    68.7,  21.0682,  36.1345,2,  36.1581,2,    232.0,2,   231.1,2,    1.05,2,    0.09,2,    0.00,2,    0.08,2,-999.000,9,-999.000,9,-999.000,9,  -999.0,9,  -999.0,9,  -999.0,9,   20.00,-999.0000,9,    25.00,-999.000,9, -999.00,-999.000,9,-999.000,9, -999.00,9,  -999.0,9,  -999.0,-999.000,9,-999.000,-999.000,9, -999.00,9,   68.70,-999.0000,9,-999.0000,9,-999.0000,9,-999.0000,9,-999.0000,9,-999.0000,9,  21.0549,     -999.0,-999.000,     -999.0,          9,     -999.0,          9,-999.000,          9
 33RO200501,       A16S,      62,          1,         32,         32,2,20050203,       1827,   -31.5010,   -25.0002,       4450,    89.6,  19.7855,  36.1315,2,  36.1364,2,    230.9,2,   231.1,2,    1.06,2,    0.10,2,    0.00,2,    0.09,2,-999.000,9,-999.000,9,-999.000,9,  -999.0,9,  -999.0,9,  -999.0,9,   20.00,-999.0000,9,    25.00,-999.000,9, -999.00,-999.000,9,-999.000,9, -999.00,9,  -999.0,9,  -999.0,-999.000,9,-999.000,-999.000,9, -999.00,9,   89.60,-999.0000,9,-999.0000,9,-999.0000,9,-999.0000,9,-999.0000,9,-999.0000,9,  19.7690,     -999.0,-999.000,     99.265,          2,      0.397,          2,   4.901,          2
 33RO200501,       A16S,      62,          1,         31,         31,2,20050203,       1827,   -31.5010,   -25.0002,       4450,   113.7,  19.0873,  36.0434,2,  36.0451,2,    227.9,2,   227.3,2,    1.08,2,    0.10,2,    0.00,2,    0.12,2,   2.194,2,   1.347,2,   0.188,2,  2070.3,2,  2359.1,2,  -999.0,9,   20.00,   8.0106,2,    25.00,-999.000,9, -999.00,-999.000,9,-999.000,9, -999.00,9,  -999.0,9,  -999.0,-999.000,9,-999.000,   1.271,4, -999.00,9,  113.70,-999.0000,9,-999.0000,9,-999.0000,9,-999.0000,9,-999.0000,9,-999.0000,9,  19.0669,     -999.0,-999.000,     -999.0,          9,     -999.0,          9,-999.000,          9
 33RO200501,       A16S,      62,          1,         30,         30,2,20050203,       1827,   -31.5010,   -25.0002,       4450,   139.1,  18.3731,  35.9138,2,  35.9122,2,    225.4,2,   224.0,2,    1.16,2,    0.12,2,    0.02,2,    0.14,2,-999.000,9,-999.000,9,-999.000,9,  -999.0,9,  2365.1,2,  -999.0,9,   20.00,   7.9900,2,    25.00,-999.000,9, -999.00,-999.000,9,-999.000,9, -999.00,9,  -999.0,9,  -999.0,-999.000,9,-999.000,-999.000,9, -999.00,9,  139.10,-999.0000,9,-999.0000,9,-999.0000,9,-999.0000,9,-999.0000,9,-999.0000,9,  18.3488,     -999.0,-999.000,     33.459,          2,      0.495,          2,   1.197,          2
 33RO200501,       A16S,      62,          1,         29,         29,2,20050203,       1827,   -31.5010,   -25.0002,       4450,   163.2,  17.2480,  35.7374,2,  35.7238,2,    217.5,2,   218.2,2,    1.42,2,    0.87,2,    0.07,2,    0.25,2,-999.000,9,-999.000,9,-999.000,9,  -999.0,9,  -999.0,9,  -999.0,9,   20.00,-999.0000,9,    25.00,-999.000,9, -999.00,-999.000,9,-999.000,9, -999.00,9,  -999.0,9,  -999.0,-999.000,9,-999.000,-999.000,9, -999.00,9,  163.20,-999.0000,9,-999.0000,9,-999.0000,9,-999.0000,9,-999.0000,9,-999.0000,9,  17.2206,     -999.0,-999.000,     -999.0,          9,     -999.0,          9,-999.000,          9
 33RO200501,       A16S,      62,          1,         28,         28,2,20050203,       1827,   -31.5010,   -25.0002,       4450,   189.0,  16.0619,  35.5629,2,  35.5608,2,    215.7,2,   216.8,2,    1.74,2,    2.47,2,    0.01,2,    0.36,2,-999.000,9,-999.000,9,-999.000,9,  -999.0,9,  -999.0,9,  -999.0,9,   20.00,-999.0000,9,    25.00,-999.000,9, -999.00,-999.000,9,-999.000,9, -999.00,9,  -999.0,9,  -999.0,-999.000,9,-999.000,-999.000,9, -999.00,9,  189.00,-999.0000,9,-999.0000,9,-999.0000,9,-999.0000,9,-999.0000,9,-999.0000,9,  16.0317,     -999.0,-999.000,      8.375,          2,      0.336,          2,   0.138,          2
 33RO200501,       A16S,      62,          1,         27,         27,2,20050203,       1827,   -31.5010,   -25.0002,       4450,   225.1,  15.2754,  35.4629,2,  35.4604,2,    215.4,2,   215.4,2,    2.02,2,    4.16,2,    0.00,2,    0.45,2,   2.634,2,   1.563,2,   0.078,2,  2095.7,2,  2320.2,2,  -999.0,9,   20.00,   7.9271,2,    25.00,-999.000,9, -999.00,-999.000,9,-999.000,9, -999.00,9,  -999.0,9,  -999.0,-999.000,9,-999.000,   0.683,4, -999.00,9,  225.10,-999.0000,9,-999.0000,9,-999.0000,9,-999.0000,9,-999.0000,9,-999.0000,9,  15.2407,     -999.0,-999.000,     -999.0,          9,     -999.0,          9,-999.000,          9
 33RO200501,       A16S,      62,          1,         26,         26,2,20050203,       1827,   -31.5010,   -25.0002,       4450,   274.5,  14.2600,  35.3445,2,  35.3429,2,    213.9,2,   214.4,2,    2.50,2,    6.52,2,    0.00,2,    0.57,2,-999.000,9,-999.000,9,-999.000,9,  -999.0,9,  -999.0,9,  -999.0,9,   20.00,-999.0000,9,    25.00,-999.000,9, -999.00,-999.000,9,-999.000,9, -999.00,9,  -999.0,9,  -999.0,-999.000,9,-999.000,-999.000,9, -999.00,9,  274.50,-999.0000,9,-999.0000,9,-999.0000,9,-999.0000,9,-999.0000,9,-999.0000,9,  14.2196,     -999.0,-999.000,     -999.0,          9,     -999.0,          9,-999.000,          9
 33RO200501,       A16S,      62,          1,         25,         25,2,20050203,       1827,   -31.5010,   -25.0002,       4450,   299.9,  13.9973,  35.3148,2,  35.3141,2,    214.2,2,   214.2,2,    2.66,2,    7.14,2,    0.00,2,    0.60,2,-999.000,9,-999.000,9,-999.000,9,  -999.0,9,  -999.0,9,  -999.0,9,   20.00,   7.8850,2,    25.00,-999.000,9, -999.00,-999.000,9,-999.000,9, -999.00,9,  -999.0,9,  -999.0,-999.000,9,-999.000,-999.000,9, -999.00,9,  299.90,-999.0000,9,-999.0000,9,-999.0000,9,-999.0000,9,-999.0000,9,-999.0000,9,  13.9537,     -999.0,-999.000,      5.280,          2,      0.027,          2,   0.031,          2
 33RO200501,       A16S,      62,          1,         24,         24,2,20050203,       1827,   -31.5010,   -25.0002,       4450,   374.4,  12.9213,  35.1860,2,  35.1853,2,    212.8,2,   213.3,2,    3.35,2,    9.70,2,    0.00,2,    0.75,2,-999.000,9,-999.000,9,-999.000,9,  -999.0,9,  -999.0,9,  -999.0,9,   20.00,-999.0000,9,    25.00,-999.000,9, -999.00,-999.000,9,-999.000,9, -999.00,9,  -999.0,9,  -999.0,-999.000,9,-999.000,-999.000,9, -999.00,9,  374.40,-999.0000,9,-999.0000,9,-999.0000,9,-999.0000,9,-999.0000,9,-999.0000,9,  12.8696,     -999.0,-999.000,     -999.0,          9,     -999.0,          9,-999.000,          9
 33RO200501,       A16S,      62,          1,         23,         23,2,20050203,       1827,   -31.5010,   -25.0002,       4450,   449.9,  11.7320,  35.0201,2,  35.0067,2,    210.0,2,   209.7,2,    4.70,2,   13.07,2,    0.00,2,    0.95,2,-999.000,9,-999.000,9,-999.000,9,  -999.0,9,  -999.0,9,  -999.0,9,   20.00,-999.0000,9,    25.00,-999.000,9, -999.00,-999.000,9,-999.000,9, -999.00,9,  -999.0,9,  -999.0,-999.000,9,-999.000,-999.000,9, -999.00,9,  449.90,-999.0000,9,-999.0000,9,-999.0000,9,-999.0000,9,-999.0000,9,-999.0000,9,  11.6735,     -999.0,-999.000,     -999.0,          9,     -999.0,          9,-999.000,          9
 33RO200501,       A16S,      62,          1,         22,         22,2,20050203,       1827,   -31.5010,   -25.0002,       4450,   548.9,   9.6730,  34.7579,2,  34.7583,2,    208.9,2,   208.6,2,    7.12,2,   17.94,2,    0.00,2,    1.23,2,-999.000,9,-999.000,9,-999.000,9,  -999.0,9,  -999.0,9,  -999.0,9,   20.00,-999.0000,9,    25.00,-999.000,9, -999.00,-999.000,9,-999.000,9, -999.00,9,  -999.0,9,  -999.0,-999.000,9,-999.000,-999.000,9, -999.00,9,  548.90,-999.0000,9,-999.0000,9,-999.0000,9,-999.0000,9,-999.0000,9,-999.0000,9,   9.6096,     -999.0,-999.000,      6.482,          2,      0.403,          2,   0.031,          2
 33RO200501,       A16S,      62,          1,         21,         21,2,20050203,       1827,   -31.5010,   -25.0002,       4450,   649.0,   7.7837,  34.5438,2,  34.5437,2,    212.1,2,   212.1,2,   10.16,2,   21.95,2,    0.00,2,    1.49,2,   2.926,2,   1.544,2,   0.145,2,  2152.4,2,  2281.1,2,  -999.0,9,   20.00,   7.7182,2,    25.00,-999.000,9, -999.00,-999.000,9,-999.000,9, -999.00,9,  -999.0,9,  -999.0,-999.000,9,-999.000,   1.692,4, -999.00,9,  649.00,-999.0000,9,-999.0000,9,-999.0000,9,-999.0000,9,-999.0000,9,-999.0000,9,   7.7176,     -999.0,-999.000,     -999.0,          9,     -999.0,          9,-999.000,          9
 33RO200501,       A16S,      62,          1,         20,         20,2,20050203,       1827,   -31.5010,   -25.0002,       4450,   749.8,   6.1848,  34.3951,2,  34.3912,2,    217.8,2,   219.3,2,   14.46,2,   25.58,2,    0.00,2,    1.71,2,-999.000,9,-999.000,9,-999.000,9,  -999.0,9,  -999.0,9,  -999.0,9,   20.00,-999.0000,9,    25.00,-999.000,9, -999.00,-999.000,9,-999.000,9, -999.00,9,  -999.0,9,  -999.0,-999.000,9,-999.000,-999.000,9, -999.00,9,  749.80,-999.0000,9,-999.0000,9,-999.0000,9,-999.0000,9,-999.0000,9,-999.0000,9,   6.1171,     -999.0,-999.000,     -999.0,          9,     -999.0,          9,-999.000,          9
 33RO200501,       A16S,      62,          1,         19,         19,2,20050203,       1827,   -31.5010,   -25.0002,       4450,   849.1,   4.9521,  34.2972,2,  34.2966,2,    227.2,2,   230.8,2,   18.32,2,   27.61,2,    0.00,2,    1.83,2,-999.000,9,-999.000,9,-999.000,9,  -999.0,9,  -999.0,9,  -999.0,9,   20.00,   7.6700,2,    25.00,-999.000,9, -999.00,-999.000,9,-999.000,9, -999.00,9,  -999.0,9,  -999.0,-999.000,9,-999.000,-999.000,9, -999.00,9,  849.10,-999.0000,9,-999.0000,9,-999.0000,9,-999.0000,9,-999.0000,9,-999.0000,9,   4.8828,     -999.0,-999.000,      0.812,          2,      0.122,          2,   0.023,          2
 33RO200501,       A16S,      62,          1,         18,         18,2,20050203,       1827,   -31.5010,   -25.0002,       4450,   947.9,   4.2514,  34.2931,2,  34.2921,2,    228.4,2,   224.2,2,   25.27,2,   29.40,2,    0.00,2,    1.96,2,   2.381,2,   1.160,2,   0.134,2,  -999.0,9,  -999.0,9,  -999.0,9,   20.00,-999.0000,9,    25.00,-999.000,9, -999.00,-999.000,9,-999.000,9, -999.00,9,  -999.0,9,  -999.0,-999.000,9,-999.000,   2.332,4, -999.00,9,  947.90,-999.0000,9,-999.0000,9,-999.0000,9,-999.0000,9,-999.0000,9,-999.0000,9,   4.1786,     -999.0,-999.000,     -999.0,          9,     -999.0,          9,-999.000,          9
 33RO200501,       A16S,      62,          1,         17,         17,2,20050203,       1827,   -31.5010,   -25.0002,       4450,  1050.5,   3.7214,  34.3078,2,  34.3077,2,    217.6,2,   217.1,2,   32.42,2,   30.79,2,    0.00,2,    2.06,2,-999.000,9,-999.000,9,-999.000,9,  -999.0,9,  -999.0,9,  -999.0,9,   20.00,-999.0000,9,    25.00,-999.000,9, -999.00,-999.000,9,-999.000,9, -999.00,9,  -999.0,9,  -999.0,-999.000,9,-999.000,-999.000,9, -999.00,9, 1050.50,-999.0000,9,-999.0000,9,-999.0000,9,-999.0000,9,-999.0000,9,-999.0000,9,   3.6441,     -999.0,-999.000,     -999.0,          9,     -999.0,          9,-999.000,          9
 33RO200501,       A16S,      62,          1,         16,         16,2,20050203,       1827,   -31.5010,   -25.0002,       4450,  1149.1,   3.3306,  34.3341,2,  34.3351,2,    209.9,2,   210.8,2,   39.27,2,   31.78,2,    0.00,2,    2.13,2,-999.000,9,-999.000,9,-999.000,9,  -999.0,9,  -999.0,9,  -999.0,9,   20.00,-999.0000,9,    25.00,-999.000,9, -999.00,-999.000,9,-999.000,9, -999.00,9,  -999.0,9,  -999.0,-999.000,9,-999.000,-999.000,9, -999.00,9, 1149.10,-999.0000,9,-999.0000,9,-999.0000,9,-999.0000,9,-999.0000,9,-999.0000,9,   3.2486,     -999.0,-999.000,      6.193,          2,      0.222,          2,   0.034,          2
 33RO200501,       A16S,      62,          1,         15,         15,2,20050203,       1827,   -31.5010,   -25.0002,       4450,  1248.7,   3.0525,  34.4025,2,  34.4025,2,    199.7,2,   198.7,2,   47.38,2,   32.52,2,    0.00,2,    2.19,2,   0.836,2,   0.395,2,   0.046,2,  2218.4,2,  -999.0,9,  -999.0,9,   20.00,   7.6008,2,    25.00,-999.000,9, -999.00,-999.000,9,-999.000,9, -999.00,9,  -999.0,9,  -999.0,-999.000,9,-999.000,   1.059,4, -999.00,9, 1248.70,-999.0000,9,-999.0000,9,-999.0000,9,-999.0000,9,-999.0000,9,-999.0000,9,   2.9650,     -999.0,-999.000,     -999.0,          9,     -999.0,          9,-999.000,          9
 33RO200501,       A16S,      62,          1,         14,         14,2,20050203,       1827,   -31.5010,   -25.0002,       4450,  1399.7,   2.9555,  34.5165,2,  34.5154,2,    189.2,2,   189.3,2,   53.82,2,   32.28,2,    0.00,2,    2.17,2,-999.000,9,-999.000,9,-999.000,9,  -999.0,9,  -999.0,9,  -999.0,9,   20.00,-999.0000,9,    25.00,-999.000,9, -999.00,-999.000,9,-999.000,9, -999.00,9,  -999.0,9,  -999.0,-999.000,9,-999.000,-999.000,9, -999.00,9, 1399.70,-999.0000,9,-999.0000,9,-999.0000,9,-999.0000,9,-999.0000,9,-999.0000,9,   2.8565,     -999.0,-999.000,     -999.0,          9,     -999.0,          9,-999.000,          9
 33RO200501,       A16S,      62,          1,         13,         13,2,20050203,       1827,   -31.5010,   -25.0002,       4450,  1598.9,   2.8583,  34.6225,2,  34.6216,2,    190.4,2,   190.5,2,   56.30,2,   30.53,2,    0.00,2,    2.08,2,-999.000,9,-999.000,9,-999.000,9,  -999.0,9,  -999.0,9,  -999.0,9,   20.00,-999.0000,9,    25.00,-999.000,9, -999.00,-999.000,9,-999.000,9, -999.00,9,  -999.0,9,  -999.0,-999.000,9,-999.000,-999.000,9, -999.00,9, 1598.90,-999.0000,9,-999.0000,9,-999.0000,9,-999.0000,9,-999.0000,9,-999.0000,9,   2.7438,     -999.0,-999.000,      0.000,          2,      0.059,          2,   0.010,          2
 33RO200501,       A16S,      62,          1,         12,         12,2,20050203,       1827,   -31.5010,   -25.0002,       4450,  1799.7,   2.7923,  34.7187,2,  34.7183,2,    200.8,2,   200.7,2,   54.35,2,   28.71,2,    0.00,2,    1.93,2,-999.000,9,-999.000,9,-999.000,9,  -999.0,9,  -999.0,9,  -999.0,9,   20.00,-999.0000,9,    25.00,-999.000,9, -999.00,-999.000,9,-999.000,9, -999.00,9,  -999.0,9,  -999.0,-999.000,9,-999.000,-999.000,9, -999.00,9, 1799.70,-999.0000,9,-999.0000,9,-999.0000,9,-999.0000,9,-999.0000,9,-999.0000,9,   2.6612,     -999.0,-999.000,     -999.0,          9,     -999.0,          9,-999.000,          9
 33RO200501,       A16S,      62,          1,         11,         11,2,20050203,       1827,   -31.5010,   -25.0002,       4450,  1999.0,   2.7421,  34.7789,2,  34.7781,2,    211.9,2,   212.0,2,   51.60,2,   26.92,2,    0.00,2,    1.80,2,   0.025,2,   0.018,2,   0.000,2,  2213.0,2,  2501.6,4,  -999.0,9,   20.00,   7.6605,2,    25.00,-999.000,9, -999.00,-999.000,9,-999.000,9, -999.00,9,  -999.0,9,  -999.0,-999.000,9,-999.000,   0.096,4, -999.00,9, 1999.00,-999.0000,9,-999.0000,9,-999.0000,9,-999.0000,9,-999.0000,9,-999.0000,9,   2.5940,     -999.0,-999.000,     -999.0,          9,     -999.0,          9,-999.000,          9
 33RO200501,       A16S,      62,          1,         10,         10,2,20050203,       1827,   -31.5010,   -25.0002,       4450,  2199.3,   2.6973,  34.8167,2,  34.8167,2,    221.3,2,   223.2,2,   48.74,2,   25.42,2,    0.00,2,    1.70,2,-999.000,9,-999.000,9,-999.000,9,  -999.0,9,  -999.0,9,  -999.0,9,   20.00,-999.0000,9,    25.00,-999.000,9, -999.00,-999.000,9,-999.000,9, -999.00,9,  -999.0,9,  -999.0,-999.000,9,-999.000,-999.000,9, -999.00,9, 2199.30,-999.0000,9,-999.0000,9,-999.0000,9,-999.0000,9,-999.0000,9,-999.0000,9,   2.5317,     -999.0,-999.000,      0.000,          2,      0.341,          2,   0.009,          2
 33RO200501,       A16S,      62,          1,          9,          9,2,20050203,       1827,   -31.5010,   -25.0002,       4450,  2399.8,   2.6904,  34.8473,2,  34.8470,2,    229.8,2,   230.1,2,   45.65,2,   24.27,2,    0.00,2,    1.62,2,-999.000,9,-999.000,9,-999.000,9,  -999.0,9,  -999.0,9,  -999.0,9,   20.00,-999.0000,9,    25.00,-999.000,9, -999.00,-999.000,9,-999.000,9, -999.00,9,  -999.0,9,  -999.0,-999.000,9,-999.000,-999.000,9, -999.00,9, 2399.80,-999.0000,9,-999.0000,9,-999.0000,9,-999.0000,9,-999.0000,9,-999.0000,9,   2.5061,     -999.0,-999.000,     -999.0,          9,     -999.0,          9,-999.000,          9
 33RO200501,       A16S,      62,          1,          8,          8,2,20050203,       1827,   -31.5010,   -25.0002,       4450,  2599.2,   2.7053,  34.8708,2,  34.8700,2,    236.0,2,   236.6,2,   42.44,2,   23.16,2,    0.00,2,    1.55,2,-999.000,9,-999.000,9,-999.000,9,  -999.0,9,  -999.0,9,  -999.0,9,   20.00,-999.0000,9,    25.00,-999.000,9, -999.00,-999.000,9,-999.000,9, -999.00,9,  -999.0,9,  -999.0,-999.000,9,-999.000,-999.000,9, -999.00,9, 2599.20,-999.0000,9,-999.0000,9,-999.0000,9,-999.0000,9,-999.0000,9,-999.0000,9,   2.5014,     -999.0,-999.000,     -999.0,          9,     -999.0,          9,-999.000,          9