BOTTLE,20220818CCHSIOAMB
EXPOCODE,SECT_ID,STNNBR,CASTNO,SAMPNO,BTLNBR,BTLNBR_FLAG_W,DATE,TIME,LATITUDE,LONGITUDE,DEPTH,CTDPRS,CTDTMP,CTDSAL,CTDSAL_FLAG_W,SALNTY,SALNTY_FLAG_W,CTDOXY,CTDOXY_FLAG_W,OXYGEN,OXYGEN_FLAG_W,SILCAT,SILCAT_FLAG_W,NITRAT,NITRAT_FLAG_W,NITRIT,NITRIT_FLAG_W,PHSPHT,PHSPHT_FLAG_W,CFC-11,CFC-11_FLAG_W,CFC-12,CFC-12_FLAG_W,CFC113,CFC113_FLAG_W,TCARBN,TCARBN_FLAG_W,ALKALI,ALKALI_FLAG_W,PCO2,PCO2_FLAG_W,PCO2TMP,PH_SWS,PH_SWS_FLAG_W,PH_TMP,TRITUM,TRITUM_FLAG_W,TRITER,HELIUM,HELIUM_FLAG_W,DELHE3,DELHE3_FLAG_W,DELC13,DELC13_FLAG_W,DELC14,DELC14_FLAG_W,C14ERR,NEON,NEON_FLAG_W,NEONER,CCL4,CCL4_FLAG_W,DOC,DOC_FLAG_W,CTDRAW,CDOM325,CDOM325_FLAG_W,CDOM340,CDOM340_FLAG_W,CDOM380,CDOM380_FLAG_W,CDOM412,CDOM412_FLAG_W,CDOMSL,CDOMSL_FLAG_W,CDOMSN,CDOMSN_FLAG_W,THETA,HELIER,DELHER,CH3CL,CH3CL_FLAG_W,CH3BR,CH3BR_FLAG_W,CH3I,CH3I_FLAG_W
,,,,,,,,,,,METERS,DBAR,ITS-90,PSS-78,,PSS-78,,UMOL/KG,,UMOL/KG,,UMOL/KG,,UMOL/KG,,UMOL/KG,,UMOL/KG,,PMOL/KG,,PMOL/KG,,PMOL/KG,,UMOL/KG,,UMOL/KG,,UATM,,DEG C,,,DEG C,TU,,TU,NMOL/KG,,PERCNT,,/MILLE,,/MILLE,,/MILLE,NMOL/KG,,NMOL/KG,PMOL/KG,,UMOL/KG,,DBAR,1/M,,1/M,,1/M,,1/M,,1/NM,,1/NM,,DEG C,NMOL/KG,PERCNT,PMOL/KG,,PMOL/KG,,PMOL/KG,
 33RO200501,       A16S,      45,          1,         36,         36,2,20050129,       1522,   -40.0013,   -27.8032,       4356,     3.9,  17.2236,  35.2135,2,  35.2186,2,    248.7,2,   251.6,2,    0.28,2,    0.00,2,    0.01,2,    0.18,2,   2.698,2,   1.699,2,   0.233,2,  2051.3,6,  2322.1,2,   371.2,2,   20.00,   7.9954,6,    25.00,-999.000,9, -999.00,   1.735,2,  -2.273,2,    1.94,2,    61.5,2,     3.1,   7.095,2,   0.006,   5.995,4,   59.39,2,    3.90,   0.2540,2,   0.1980,2,   0.0940,2,   0.0570,2,   0.0165,2,   0.0173,2,  17.2230,      0.001,   0.208,     -999.0,          9,     -999.0,          9,-999.000,          9
 33RO200501,       A16S,      45,          1,         35,         35,2,20050129,       1522,   -40.0013,   -27.8032,       4356,    20.4,  16.0083,  35.2615,2,  35.2603,2,    251.6,2,   254.0,2,    0.12,2,    0.00,2,    0.01,2,    0.18,2,   2.717,2,   1.751,2,   0.237,2,  2051.0,2,  2322.4,2,   366.9,2,   20.00,   7.9957,2,    25.00,-999.000,9, -999.00,   1.727,2,  -2.118,2, -999.00,9,  -999.0,9,  -999.0,   7.145,2,   0.006,   7.909,4, -999.00,9,   20.40,-999.0000,9,-999.0000,9,-999.0000,9,-999.0000,9,-999.0000,9,-999.0000,9,  16.0051,      0.009,   0.219,     -999.0,          9,     -999.0,          9,-999.000,          9
 33RO200501,       A16S,      45,          1,         34,         34,2,20050129,       1522,   -40.0013,   -27.8032,       4356,    40.3,  15.4831,  35.3240,2,  35.3224,2,    248.2,2,   248.3,2,    0.26,2,    0.13,2,    0.02,2,    0.24,2,-999.000,9,-999.000,9,-999.000,9,  2069.9,2,  2329.9,2,   404.2,2,   20.00,   7.9706,2,    25.00,-999.000,9, -999.00,   1.753,2,  -2.133,2,    1.75,2,    61.2,2,     3.6,   7.222,2,   0.004,-999.000,9,   56.26,2,   40.30,   0.1650,2,   0.1220,2,   0.0600,2,   0.0380,2,   0.0167,2,   0.0177,2,  15.4769,      0.001,   0.206,     -999.0,          9,     -999.0,          9,-999.000,          9
 33RO200501,       A16S,      45,          1,         33,         33,2,20050129,       1522,   -40.0013,   -27.8032,       4356,    60.8,  14.7927,  35.3406,2,  35.3327,2,    247.4,2,   246.5,2,    1.07,2,    1.74,2,    0.34,2,    0.34,2,   2.886,2,   1.768,2,   0.247,2,  2082.0,2,  2327.5,2,   430.5,2,   20.00,   7.9474,2,    25.00,-999.000,9, -999.00,   1.788,2,  -2.200,2, -999.00,9,  -999.0,9,  -999.0,   7.592,2,   0.006,   5.390,4, -999.00,9,   60.80,-999.0000,9,-999.0000,9,-999.0000,9,-999.0000,9,-999.0000,9,-999.0000,9,  14.7836,      0.009,   0.219,     -999.0,          9,     -999.0,          9,-999.000,          9
 33RO200501,       A16S,      45,          1,         32,         32,2,20050129,       1522,   -40.0013,   -27.8032,       4356,    79.9,  14.1078,  35.3300,2,  35.3232,2,    244.5,2,   228.1,2,    1.44,2,    4.55,2,    0.07,2,    0.45,2,-999.000,9,-999.000,9,-999.000,9,  2091.8,2,  2324.3,6,   455.0,2,   20.00,   7.9266,2,    25.00,-999.000,9, -999.00,-999.000,9,-999.000,9,    1.50,2,    60.0,2,     2.9,-999.000,9,-999.000,-999.000,9,   51.42,2,   79.90,   0.1360,2,   0.1000,2,   0.0500,2,   0.0330,2,   0.0164,2,   0.0176,2,  14.0962,     -999.0,-999.000,     -999.0,          9,     -999.0,          9,-999.000,          9
 33RO200501,       A16S,      45,          1,         31,         31,2,20050129,       1522,   -40.0013,   -27.8032,       4356,   101.2,  13.7194,  35.2920,2,  35.2948,2,    242.5,2,   241.2,2,    1.56,2,    5.38,2,    0.03,2,    0.49,2,   2.963,2,   1.770,2,   0.227,2,  2096.1,2,  2323.7,2,   466.1,2,   20.00,   7.9163,2,    25.00,-999.000,9, -999.00,   1.757,2,  -2.542,4, -999.00,9,  -999.0,9,  -999.0,   7.310,2,   0.006,   2.192,3, -999.00,9,  101.20,-999.0000,9,-999.0000,9,-999.0000,9,-999.0000,9,-999.0000,9,-999.0000,9,  13.7050,      0.009,   0.221,     -999.0,          9,     -999.0,          9,-999.000,          9
 33RO200501,       A16S,      45,          1,         30,         30,2,20050129,       1522,   -40.0013,   -27.8032,       4356,   125.2,  13.5386,  35.2825,2,  35.2784,2,    239.4,2,   233.1,2,    1.64,2,    5.83,2,    0.02,2,    0.52,2,   2.975,2,   1.775,2,   0.226,2,  2096.4,2,  2323.0,2,  -999.0,9,   20.00,   7.9129,2,    25.00,-999.000,9, -999.00,   1.756,2,  -2.834,4,    1.47,2,    56.0,2,     3.5,   7.397,2,   0.006,   2.142,3,   51.76,2,  125.20,   0.2150,2,   0.1700,2,   0.0780,2,   0.0470,3,   0.0172,3,   0.0177,3,  13.5209,      0.010,   0.218,     -999.0,          9,     -999.0,          9,-999.000,          9
 33RO200501,       A16S,      45,          1,         29,         29,2,20050129,       1522,   -40.0013,   -27.8032,       4356,   150.9,  13.1715,  35.2230,2,  35.2203,2,    238.9,2,   239.8,2,    1.86,2,    6.63,2,    0.02,2,    0.56,2,   2.866,2,   1.683,2,   0.236,2,  2095.2,2,  2318.6,2,   492.5,2,   20.00,   7.9025,2,    25.00,-999.000,9, -999.00,   1.820,2,  -2.377,2, -999.00,9,  -999.0,9,  -999.0,   7.470,2,   0.007,   1.539,3, -999.00,9,  150.90,-999.0000,9,-999.0000,9,-999.0000,9,-999.0000,9,-999.0000,9,-999.0000,9,  13.1506,      0.011,   0.215,     -999.0,          9,     -999.0,          9,-999.000,          9
 33RO200501,       A16S,      45,          1,         28,         28,2,20050129,       1522,   -40.0013,   -27.8032,       4356,   175.6,  12.8626,  35.1723,2,  35.1658,2,    238.3,2,   235.3,2,    2.11,2,    7.73,2,    0.02,2,    0.62,2,-999.000,9,-999.000,9,-999.000,9,  2100.0,2,  2316.7,2,  -999.0,9,   20.00,   7.8881,2,    25.00,-999.000,9, -999.00,-999.000,9,-999.000,9,    1.46,2,    57.1,2,     4.0,-999.000,9,-999.000,-999.000,9,   50.97,2,  175.60,   0.1600,2,   0.1220,2,   0.0580,2,   0.0360,2,   0.0174,2,   0.0179,2,  12.8386,     -999.0,-999.000,     -999.0,          9,     -999.0,          9,-999.000,          9
 33RO200501,       A16S,      45,          1,         27,         27,2,20050129,       1522,   -40.0013,   -27.8032,       4356,   201.4,  12.2564,  35.0662,2,  35.0655,2,    234.8,2,   233.7,2,    2.47,2,    9.36,2,    0.02,2,    0.71,2,   3.138,2,   1.807,2,   0.189,2,  2106.6,2,  2308.2,2,   530.7,2,   20.00,   7.8710,2,    25.00,-999.000,9, -999.00,   1.814,2,  -1.485,2,    1.41,2,    54.6,2,     2.9,   7.548,2,   0.006,   1.507,3, -999.00,9,  201.40,-999.0000,9,-999.0000,9,-999.0000,9,-999.0000,9,-999.0000,9,-999.0000,9,  12.2297,      0.010,   0.225,     -999.0,          9,     -999.0,          9,-999.000,          9
 33RO200501,       A16S,      45,          1,         26,         26,2,20050129,       1522,   -40.0013,   -27.8032,       4356,   250.4,  11.2184,  34.9064,2,  34.8949,2,    222.1,2,   218.5,2,    3.82,2,   13.62,2,    0.02,2,    0.94,2,-999.000,9,-999.000,9,-999.000,9,  2119.6,2,  2298.2,2,   619.2,2,   20.00,   7.8261,2,    25.00,-999.000,9, -999.00,-999.000,9,-999.000,9,    1.26,2,    58.8,2,     3.5,-999.000,9,-999.000,-999.000,9,   46.66,2,  250.40,   0.1750,2,   0.1340,2,   0.0750,2,   0.0510,2,   0.0135,2,   0.0143,2,  11.1871,     -999.0,-999.000,     -999.0,          9,     -999.0,          9,-999.000,          9
 33RO200501,       A16S,      45,          1,         25,         25,2,20050129,       1522,   -40.0013,   -27.8032,       4356,   301.0,   9.9001,  34.7230,2,  34.7154,2,    219.5,2,   220.9,2,    4.79,2,   16.54,2,    0.01,2,    1.11,2,   3.238,6,   1.786,6,   0.176,6,  2127.6,2,  2288.9,2,   664.2,2,   20.00,   7.7837,2,    25.00,-999.000,9, -999.00,-999.000,9,-999.000,9,    1.27,2,    47.1,2,     3.2,-999.000,9,-999.000,   1.558,3,   45.22,2,  301.00,-999.0000,9,-999.0000,9,-999.0000,9,-999.0000,9,-999.0000,9,-999.0000,9,   9.8653,     -999.0,-999.000,     -999.0,          9,     -999.0,          9,-999.000,          9
 33RO200501,       A16S,      45,          1,         24,         24,2,20050129,       1522,   -40.0013,   -27.8032,       4356,   351.1,   8.6341,  34.5740,2,  34.5663,2,    223.0,2,   223.7,2,    5.97,2,   19.61,2,    0.01,2,    1.30,2,-999.000,9,-999.000,9,-999.000,9,  2136.0,2,  2283.5,2,   731.0,2,   20.00,   7.7540,2,    25.00,-999.000,9, -999.00,-999.000,9,-999.000,9,    1.27,2,    33.9,2,     2.9,-999.000,9,-999.000,-999.000,9,   44.72,2,  351.10,   0.1460,2,   0.1090,2,   0.0540,2,   0.0350,2,   0.0164,2,   0.0172,2,   8.5968,     -999.0,-999.000,     -999.0,          9,     -999.0,          9,-999.000,          9
 33RO200501,       A16S,      45,          1,         23,         23,2,20050129,       1522,   -40.0013,   -27.8032,       4356,   401.0,   7.6978,  34.4881,2,  34.4858,2,    222.9,2,   222.8,2,    7.53,2,   21.91,2,    0.01,2,    1.44,2,   3.404,2,   1.828,2,   0.201,2,  2142.9,2,  2279.4,2,   774.0,2,   20.00,   7.7102,2,    25.00,-999.000,9, -999.00,   1.901,3,  -1.316,2,    1.24,2,    19.0,2,     3.5,   7.650,2,   0.007,   2.126,3,   44.06,2,  401.00,-999.0000,9,-999.0000,9,-999.0000,9,-999.0000,9,-999.0000,9,-999.0000,9,   7.6579,      0.014,   0.213,     -999.0,          9,     -999.0,          9,-999.000,          9
 33RO200501,       A16S,      45,          1,         22,         22,2,20050129,       1522,   -40.0013,   -27.8032,       4356,   500.4,   5.6773,  34.2606,2,  34.2599,2,    248.9,2,   249.1,2,    9.58,2,   24.65,2,    0.00,2,    1.61,2,   3.876,2,   2.138,2,   0.287,2,  2146.1,2,  2271.0,2,   821.3,2,   20.00,   7.7013,2,    25.00,-999.000,9, -999.00,   1.827,2,  -1.390,2,    1.33,2,     1.7,2,     3.8,   7.787,2,   0.006,   3.123,3,   43.01,2,  500.40,   0.1400,2,   0.1040,2,   0.0540,2,   0.0360,2,   0.0153,2,   0.0163,2,   5.6350,      0.010,   0.218,     -999.0,          9,     -999.0,          9,-999.000,          9
 33RO200501,       A16S,      45,          1,         21,         21,2,20050129,       1522,   -40.0013,   -27.8032,       4356,   600.5,   4.8531,  34.2139,2,  34.2160,2,    257.9,2,   258.1,2,   12.43,2,   25.73,2,    0.00,2,    1.69,2,   3.902,2,   2.079,2,   0.300,2,  2149.1,2,  2273.0,2,   832.7,2,   20.00,   7.6976,2,    25.00,-999.000,9, -999.00,   1.883,2,  -1.093,2,    1.33,2,   -14.7,2,     3.5,   7.826,2,   0.007,   3.303,3, -999.00,9,  600.50,-999.0000,9,-999.0000,9,-999.0000,9,-999.0000,9,-999.0000,9,-999.0000,9,   4.8058,      0.012,   0.213,     -999.0,          9,     -999.0,          9,-999.000,          9
 33RO200501,       A16S,      45,          1,         20,         20,2,20050129,       1522,   -40.0013,   -27.8032,       4356,   700.9,   4.4043,  34.2058,2,  34.2103,2,    256.5,2,   257.2,2,   15.53,2,   26.84,2,    0.00,2,    1.76,2,   3.700,2,   1.948,2,   0.285,2,  2155.1,2,  2276.1,2,   867.9,2,   20.00,   7.6825,2,    25.00,-999.000,9, -999.00,-999.000,9,-999.000,9,    1.29,2,   -26.4,2,     2.9,-999.000,9,-999.000,   3.268,3,   41.33,2,  700.90,   0.1450,2,   0.1080,2,   0.0540,2,   0.0340,2,   0.0167,2,   0.0173,2,   4.3510,     -999.0,-999.000,     -999.0,          9,     -999.0,          9,-999.000,          9
 33RO200501,       A16S,      45,          1,         19,         19,2,20050129,       1522,   -40.0013,   -27.8032,       4356,   801.1,   3.9590,  34.2049,2,  34.2054,2,    252.1,2,   252.2,2,   19.98,2,   28.26,2,    0.00,2,    1.85,2,   3.295,2,   1.719,2,   0.274,2,  2164.2,2,  2283.2,2,   894.1,2,   20.00,   7.6662,2,    25.00,-999.000,9, -999.00,   1.875,2,   0.116,2,    1.25,2,   -43.0,2,     3.9,   7.726,2,   0.007,   0.000,4, -999.00,9,  801.10,-999.0000,9,-999.0000,9,-999.0000,9,-999.0000,9,-999.0000,9,-999.0000,9,   3.9002,      0.015,   0.221,     -999.0,          9,     -999.0,          9,-999.000,          9
 33RO200501,       A16S,      45,          1,         18,         18,2,20050129,       1522,   -40.0013,   -27.8032,       4356,   900.0,   3.4894,  34.2161,2,  34.2175,2,    245.4,2,   243.6,2,   26.04,2,   29.72,2,    0.00,2,    1.95,2,   3.071,2,   1.593,2,   0.226,2,  2176.4,2,  2287.9,2,   948.1,2,   20.00,   7.6615,2,    25.00,-999.000,9, -999.00,   1.796,2,   0.920,2,    1.17,2,   -59.1,2,     3.4,   7.952,2,   0.007,   3.076,3,   40.82,2,  900.00,-999.0000,9,-999.0000,9,-999.0000,9,-999.0000,9,-999.0000,9,-999.0000,9,   3.4260,      0.009,   0.228,     -999.0,          9,     -999.0,          9,-999.000,          9
 33RO200501,       A16S,      45,          1,         17,         17,2,20050129,       1522,   -40.0013,   -27.8032,       4356,  1000.9,   3.2904,  34.2563,2,  34.2574,2,    230.5,2,   229.5,2,   32.28,2,   30.92,2,    0.00,2,    2.03,2,   2.303,2,   1.155,2,   0.180,2,  2189.8,6,  2292.8,2,   996.9,2,   20.00,   7.6337,2,    25.00,   0.048,2,    0.01,   1.867,2,   0.860,2,    1.09,2,   -75.0,2,     3.6,   7.777,2,   0.007,   2.270,3,   40.74,2, 1000.90,   0.1740,2,   0.1320,2,   0.0670,2,   0.0430,2,   0.0159,2,   0.0166,2,   3.2205,      0.016,   0.225,     -999.0,          9,     -999.0,          9,-999.000,          9
 33RO200501,       A16S,      45,          1,         16,         16,2,20050129,       1522,   -40.0013,   -27.8032,       4356,  1099.5,   3.1378,  34.2970,2,  34.2970,2,    216.3,2,   215.9,2,   38.36,2,   31.92,2,    0.00,2,    2.10,2,   1.968,2,   0.987,2,   0.128,2,  2199.7,2,  2296.7,6,  -999.0,9,   20.00,   7.6274,6,    25.00,-999.000,9, -999.00,   1.850,2,   2.360,2,    0.97,2,   -88.6,2,     3.1,   7.916,2,   0.007,   2.014,3,   40.19,2, 1099.50,-999.0000,9,-999.0000,9,-999.0000,9,-999.0000,9,-999.0000,9,-999.0000,9,   3.0615,      0.010,   0.232,     -999.0,          9,     -999.0,          9,-999.000,          9
 33RO200501,       A16S,      45,          1,         15,         15,2,20050129,       1522,   -40.0013,   -27.8032,       4356,  1200.5,   3.0341,  34.3505,2,  34.3521,2,    202.4,2,   203.0,2,   45.41,2,   32.79,2,    0.00,2,    2.16,2,   1.381,2,   0.677,2,   0.087,2,  2211.6,2,  2306.1,2,  1084.4,2,   20.00,   7.6049,2,    25.00,-999.000,9, -999.00,   1.879,2,   2.540,2,    0.87,2,   -94.5,2,     3.7,   7.984,2,   0.007,   1.564,3,   39.14,2, 1200.50,   0.1600,2,   0.1200,2,   0.0750,2,   0.0550,2,   0.0115,2,   0.0123,2,   2.9507,      0.007,   0.279,     -999.0,          9,     -999.0,          9,-999.000,          9
 33RO200501,       A16S,      45,          1,         14,         14,2,20050129,       1522,   -40.0013,   -27.8032,       4356,  1299.5,   2.9191,  34.4095,2,  34.4086,2,    193.0,2,   192.2,2,   51.80,2,   33.29,2,    0.00,2,    2.20,2,   1.005,2,   0.482,2,   0.056,2,  2222.7,2,  2312.9,2,  -999.0,9,   20.00,   7.5923,2,    25.00,-999.000,9, -999.00,   1.913,2,   2.440,2,    0.80,2,  -127.5,2,     4.4,   8.116,2,   0.008,   1.196,3,   39.71,2, 1299.50,-999.0000,9,-999.0000,9,-999.0000,9,-999.0000,9,-999.0000,9,-999.0000,9,   2.8288,      0.007,   0.250,     -999.0,          9,     -999.0,          9,-999.000,          9
 33RO200501,       A16S,      45,          1,         13,         13,2,20050129,       1522,   -40.0013,   -27.8032,       4356,  1499.3,   2.8103,  34.5301,2,  34.5307,2,    181.0,2,   180.6,2,   60.67,2,   33.20,2,    0.00,2,    2.21,2,   0.469,2,   0.226,2,   0.022,2,  2235.3,2,  2322.7,2,  1143.9,3,   20.00,   7.5772,2,    25.00,-999.000,9, -999.00,   1.882,2,   6.000,2,    0.69,2,  -122.5,2,     3.0,   8.060,2,   0.007,   0.673,3,   39.75,2, 1499.30,-999.0000,9,-999.0000,9,-999.0000,9,-999.0000,9,-999.0000,9,-999.0000,9,   2.7048,      0.002,   0.202,     -999.0,          9,     -999.0,          9,-999.000,          9
 33RO200501,       A16S,      45,          1,         12,         12,2,20050129,       1522,   -40.0013,   -27.8032,       4356,  1700.5,   2.8175,  34.6225,2,  34.6225,2,    180.3,2,   180.7,2,   62.51,2,   32.14,2,    0.00,2,    2.14,2,   0.254,2,   0.126,2,   0.015,2,  2235.6,2,  2328.0,2,  1092.2,2,   20.00,   7.5896,2,    25.00,-999.000,9, -999.00,   1.893,2,   7.000,2,    0.67,2,  -136.6,2,     2.8,   8.074,2,   0.008,   0.412,3,   39.21,2, 1700.50,-999.0000,9,-999.0000,9,-999.0000,9,-999.0000,9,-999.0000,9,-999.0000,9,   2.6949,      0.002,   0.219,     -999.0,          9,     -999.0,          9,-999.000,          9
 33RO200501,       A16S,      45,          1,         11,         11,2,20050129,       1522,   -40.0013,   -27.8032,       4356,  1901.5,   2.8254,  34.7047,2,  34.7038,2,    186.7,2,   187.2,2,   62.01,2,   30.41,2,    0.00,2,    2.03,2,   0.152,2,   0.069,2,   0.006,2,  2230.0,2,  2326.8,2,  1054.1,2,   20.00,   7.6083,2,    25.00,   0.057,2,    0.01,   1.904,2,   6.640,2,    0.32,3,  -124.5,2,     2.9,   8.037,2,   0.007,   0.291,3, -999.00,9, 1901.50,-999.0000,9,-999.0000,9,-999.0000,9,-999.0000,9,-999.0000,9,-999.0000,9,   2.6850,      0.007,   0.262,     -999.0,          9,     -999.0,          9,-999.000,          9
 33RO200501,       A16S,      45,          1,         10,         10,2,20050129,       1522,   -40.0013,   -27.8032,       4356,  2100.5,   2.7969,  34.7545,2,  34.7551,2,    195.4,2,   195.1,2,   61.07,2,   29.00,2,    0.00,2,    1.94,2,   0.118,2,   0.059,2,   0.004,2,  2225.9,2,  2330.4,2,  -999.0,9,   20.00,   7.6306,2,    25.00,-999.000,9, -999.00,   1.904,2,   7.550,2,    0.74,2,  -129.4,2,     2.6,   8.105,2,   0.007,   0.239,3,   39.13,2, 2100.50,-999.0000,9,-999.0000,9,-999.0000,9,-999.0000,9,-999.0000,9,-999.0000,9,   2.6390,      0.002,   0.205,     -999.0,          9,     -999.0,          9,-999.000,          9
 33RO200501,       A16S,      45,          1,          9,          9,2,20050129,       1522,   -40.0013,   -27.8032,       4356,  2300.0,   2.7355,  34.7869,2,  34.7872,2,    202.3,2,   202.0,2,   60.74,2,   27.98,2,    0.00,2,    1.86,2,   0.083,2,   0.046,2,   0.000,2,  2221.8,2,  2329.8,2,   973.2,2,   20.00,   7.6418,2,    25.00,-999.000,9, -999.00,-999.000,9,-999.000,9,    0.77,2,  -138.0,2,     3.5,-999.000,9,-999.000,   0.208,3, -999.00,9, 2300.00,-999.0000,9,-999.0000,9,-999.0000,9,-999.0000,9,-999.0000,9,-999.0000,9,   2.5601,     -999.0,-999.000,     -999.0,          9,     -999.0,          9,-999.000,          9
 33RO200501,       A16S,      45,          1,          8,          8,2,20050129,       1522,   -40.0013,   -27.8032,       4356,  2499.8,   2.6884,  34.8198,2,  34.8198,2,    211.8,2,   211.7,2,   58.05,2,   26.60,2,    0.00,2,    1.77,2,   0.067,2,   0.026,2,   0.007,2,  2214.4,2,  2328.3,2,   925.7,2,   20.00,   7.6675,2,    25.00,-999.000,9, -999.00,-999.000,9,-999.000,9,    0.85,2,  -115.4,2,     4.3,-999.000,9,-999.000,   0.166,3,   39.20,2, 2499.80,-999.0000,9,-999.0000,9,-999.0000,9,-999.0000,9,-999.0000,9,-999.0000,9,   2.4947,     -999.0,-999.000,     -999.0,          9,     -999.0,          9,-999.000,          9