BOTTLE,20220818CCHSIOAMB
EXPOCODE,SECT_ID,STNNBR,CASTNO,SAMPNO,BTLNBR,BTLNBR_FLAG_W,DATE,TIME,LATITUDE,LONGITUDE,DEPTH,CTDPRS,CTDTMP,CTDSAL,CTDSAL_FLAG_W,SALNTY,SALNTY_FLAG_W,CTDOXY,CTDOXY_FLAG_W,OXYGEN,OXYGEN_FLAG_W,SILCAT,SILCAT_FLAG_W,NITRAT,NITRAT_FLAG_W,NITRIT,NITRIT_FLAG_W,PHSPHT,PHSPHT_FLAG_W,CFC-11,CFC-11_FLAG_W,CFC-12,CFC-12_FLAG_W,CFC113,CFC113_FLAG_W,TCARBN,TCARBN_FLAG_W,ALKALI,ALKALI_FLAG_W,PCO2,PCO2_FLAG_W,PCO2TMP,PH_SWS,PH_SWS_FLAG_W,PH_TMP,TRITUM,TRITUM_FLAG_W,TRITER,HELIUM,HELIUM_FLAG_W,DELHE3,DELHE3_FLAG_W,DELC13,DELC13_FLAG_W,DELC14,DELC14_FLAG_W,C14ERR,NEON,NEON_FLAG_W,NEONER,CCL4,CCL4_FLAG_W,DOC,DOC_FLAG_W,CTDRAW,CDOM325,CDOM325_FLAG_W,CDOM340,CDOM340_FLAG_W,CDOM380,CDOM380_FLAG_W,CDOM412,CDOM412_FLAG_W,CDOMSL,CDOMSL_FLAG_W,CDOMSN,CDOMSN_FLAG_W,THETA,HELIER,DELHER,CH3CL,CH3CL_FLAG_W,CH3BR,CH3BR_FLAG_W,CH3I,CH3I_FLAG_W
,,,,,,,,,,,METERS,DBAR,ITS-90,PSS-78,,PSS-78,,UMOL/KG,,UMOL/KG,,UMOL/KG,,UMOL/KG,,UMOL/KG,,UMOL/KG,,PMOL/KG,,PMOL/KG,,PMOL/KG,,UMOL/KG,,UMOL/KG,,UATM,,DEG C,,,DEG C,TU,,TU,NMOL/KG,,PERCNT,,/MILLE,,/MILLE,,/MILLE,NMOL/KG,,NMOL/KG,PMOL/KG,,UMOL/KG,,DBAR,1/M,,1/M,,1/M,,1/M,,1/NM,,1/NM,,DEG C,NMOL/KG,PERCNT,PMOL/KG,,PMOL/KG,,PMOL/KG,
 33RO200501,       A16S,     110,          1,         36,         36,2,20050218,       1055,    -7.5000,   -25.0002,       5746,     2.9,  27.5436,  36.4212,2,  36.4208,2,    199.3,2,   199.0,2,    1.78,2,    0.00,2,    0.00,2,    0.08,2,   1.619,2,   1.050,2,   0.126,2,  2052.0,6,  2387.9,2,  -999.0,9,   20.00,   8.0685,6,    25.00,-999.000,9, -999.00,-999.000,9,-999.000,9, -999.00,9,  -999.0,9,  -999.0,-999.000,9,-999.000,   1.347,4, -999.00,9,    2.90,-999.0000,9,-999.0000,9,-999.0000,9,-999.0000,9,-999.0000,9,-999.0000,9,  27.5429,     -999.0,-999.000,     66.479,          2,      0.647,          2,   3.156,          2
 33RO200501,       A16S,     110,          1,         35,         35,2,20050218,       1055,    -7.5000,   -25.0002,       5746,    23.8,  27.5227,  36.4200,2,  36.4196,2,    199.3,2,   199.3,2,    1.78,2,    0.01,2,    0.00,2,    0.07,2,-999.000,9,-999.000,9,-999.000,9,  -999.0,9,  -999.0,9,  -999.0,9,   20.00,-999.0000,9,    25.00,-999.000,9, -999.00,-999.000,9,-999.000,9, -999.00,9,  -999.0,9,  -999.0,-999.000,9,-999.000,-999.000,9, -999.00,9,   23.80,-999.0000,9,-999.0000,9,-999.0000,9,-999.0000,9,-999.0000,9,-999.0000,9,  27.5171,     -999.0,-999.000,     -999.0,          9,     -999.0,          9,-999.000,          9
 33RO200501,       A16S,     110,          1,         34,         34,2,20050218,       1055,    -7.5000,   -25.0002,       5746,    54.6,  27.3395,  36.4206,2,  36.4281,2,    201.0,2,   201.3,2,    1.81,2,    0.03,2,    0.00,2,    0.10,2,-999.000,9,-999.000,9,-999.000,9,  -999.0,9,  -999.0,9,  -999.0,9,   20.00,-999.0000,9,    25.00,-999.000,9, -999.00,-999.000,9,-999.000,9, -999.00,9,  -999.0,9,  -999.0,-999.000,9,-999.000,-999.000,9, -999.00,9,   54.60,-999.0000,9,-999.0000,9,-999.0000,9,-999.0000,9,-999.0000,9,-999.0000,9,  27.3268,     -999.0,-999.000,     86.921,          2,      0.433,          2,   4.473,          2
 33RO200501,       A16S,     110,          1,         33,         33,2,20050218,       1055,    -7.5000,   -25.0002,       5746,    83.2,  25.9790,  36.6292,2,  36.6332,2,    209.0,2,   208.9,2,    1.81,2,    0.06,2,    0.00,2,    0.08,2,-999.000,9,-999.000,9,-999.000,9,  2057.4,2,  2399.0,2,  -999.0,9,   20.00,   8.0765,2,    25.00,-999.000,9, -999.00,-999.000,9,-999.000,9, -999.00,9,  -999.0,9,  -999.0,-999.000,9,-999.000,-999.000,9, -999.00,9,   83.20,-999.0000,9,-999.0000,9,-999.0000,9,-999.0000,9,-999.0000,9,-999.0000,9,  25.9604,     -999.0,-999.000,     -999.0,          9,     -999.0,          9,-999.000,          9
 33RO200501,       A16S,     110,          1,         32,         32,2,20050218,       1055,    -7.5000,   -25.0002,       5746,   113.9,  22.2093,  36.4797,2,  36.4753,2,    174.8,2,   173.0,2,    2.68,2,    3.62,2,    0.28,2,    0.43,2,-999.000,9,-999.000,9,-999.000,9,  -999.0,9,  -999.0,9,  -999.0,9,   20.00,-999.0000,9,    25.00,-999.000,9, -999.00,-999.000,9,-999.000,9, -999.00,9,  -999.0,9,  -999.0,-999.000,9,-999.000,-999.000,9, -999.00,9,  113.90,-999.0000,9,-999.0000,9,-999.0000,9,-999.0000,9,-999.0000,9,-999.0000,9,  22.1864,     -999.0,-999.000,     24.513,          2,      0.277,          2,   0.786,          2
 33RO200501,       A16S,     110,          1,         31,         31,2,20050218,       1055,    -7.5000,   -25.0002,       5746,   144.4,  18.7146,  36.0821,2,  36.0648,2,    147.5,2,   147.7,2,    4.06,2,    9.81,2,    0.05,2,    0.77,2,   2.073,2,   1.248,2,   0.094,2,  -999.0,5,  -999.0,5,  -999.0,9,   20.00,   7.8674,2,    25.00,-999.000,9, -999.00,-999.000,9,-999.000,9, -999.00,9,  -999.0,9,  -999.0,-999.000,9,-999.000,   0.459,4, -999.00,9,  144.40,-999.0000,9,-999.0000,9,-999.0000,9,-999.0000,9,-999.0000,9,-999.0000,9,  18.6890,     -999.0,-999.000,     -999.0,          9,     -999.0,          9,-999.000,          9
 33RO200501,       A16S,     110,          1,         30,         30,2,20050218,       1055,    -7.5000,   -25.0002,       5746,   174.2,  15.0998,  35.5729,2,  35.5565,2,    127.7,2,   124.9,2,    6.38,2,   17.04,2,    0.01,2,    1.13,2,-999.000,9,-999.000,9,-999.000,9,  -999.0,9,  -999.0,9,  -999.0,9,   20.00,-999.0000,9,    25.00,-999.000,9, -999.00,-999.000,9,-999.000,9, -999.00,9,  -999.0,9,  -999.0,-999.000,9,-999.000,-999.000,9, -999.00,9,  174.20,-999.0000,9,-999.0000,9,-999.0000,9,-999.0000,9,-999.0000,9,-999.0000,9,  15.0732,     -999.0,-999.000,      0.889,          2,      0.189,          2,   0.063,          2
 33RO200501,       A16S,     110,          1,         29,         29,2,20050218,       1055,    -7.5000,   -25.0002,       5746,   204.9,  12.7540,  35.2637,2,  35.2679,2,     98.6,2,   101.5,2,    9.17,2,   23.16,2,    0.01,2,    1.46,2,-999.000,9,-999.000,9,-999.000,9,  2190.1,2,  2307.0,2,  -999.0,9,   20.00,   7.6691,2,    25.00,-999.000,9, -999.00,-999.000,9,-999.000,9, -999.00,9,  -999.0,9,  -999.0,-999.000,9,-999.000,-999.000,9, -999.00,9,  204.90,-999.0000,9,-999.0000,9,-999.0000,9,-999.0000,9,-999.0000,9,-999.0000,9,  12.7261,     -999.0,-999.000,     -999.0,          9,     -999.0,          9,-999.000,          9
 33RO200501,       A16S,     110,          1,         28,         28,2,20050218,       1055,    -7.5000,   -25.0002,       5746,   265.1,  10.2704,  34.9368,2,  34.9348,2,    110.4,2,   112.7,2,   12.50,2,   26.52,2,    0.00,2,    1.66,2,-999.000,9,-999.000,9,-999.000,9,  -999.0,9,  -999.0,9,  -999.0,9,   20.00,-999.0000,9,    25.00,-999.000,9, -999.00,-999.000,9,-999.000,9, -999.00,9,  -999.0,9,  -999.0,-999.000,9,-999.000,-999.000,9, -999.00,9,  265.10,-999.0000,9,-999.0000,9,-999.0000,9,-999.0000,9,-999.0000,9,-999.0000,9,  10.2390,     -999.0,-999.000,      3.261,          2,      0.240,          2,   0.050,          2
 33RO200501,       A16S,     110,          1,         27,         27,2,20050218,       1055,    -7.5000,   -25.0002,       5746,   349.7,   8.9156,  34.7889,2,  34.7888,2,    105.8,2,   108.0,2,   15.45,2,   30.00,2,    0.00,2,    1.85,2,   0.975,2,   0.510,2,   0.015,2,  2207.7,2,  2296.8,2,  -999.0,9,   20.00,   7.5755,2,    25.00,-999.000,9, -999.00,-999.000,9,-999.000,9, -999.00,9,  -999.0,9,  -999.0,-999.000,9,-999.000,   0.387,4, -999.00,9,  349.70,-999.0000,9,-999.0000,9,-999.0000,9,-999.0000,9,-999.0000,9,-999.0000,9,   8.8775,     -999.0,-999.000,     -999.0,          9,     -999.0,          9,-999.000,          9
 33RO200501,       A16S,     110,          1,         26,         26,2,20050218,       1055,    -7.5000,   -25.0002,       5746,   449.7,   7.8667,  34.6911,2,  34.6870,2,    102.4,2,    96.6,2,   18.86,2,   33.44,2,    0.00,2,    2.05,2,-999.000,9,-999.000,9,-999.000,9,  -999.0,9,  -999.0,9,  -999.0,9,   20.00,-999.0000,9,    25.00,-999.000,9, -999.00,-999.000,9,-999.000,9, -999.00,9,  -999.0,9,  -999.0,-999.000,9,-999.000,-999.000,9, -999.00,9,  449.70,-999.0000,9,-999.0000,9,-999.0000,9,-999.0000,9,-999.0000,9,-999.0000,9,   7.8211,     -999.0,-999.000,      9.671,          2,      0.626,          2,   0.027,          2
 33RO200501,       A16S,     110,          1,         25,         25,2,20050218,       1055,    -7.5000,   -25.0002,       5746,   550.0,   6.4643,  34.5556,2,  34.5585,2,    125.4,2,   128.8,2,   22.01,2,   33.12,2,    0.00,2,    2.07,2,-999.000,9,-999.000,9,-999.000,9,  -999.0,9,  -999.0,9,  -999.0,9,   20.00,-999.0000,9,    25.00,-999.000,9, -999.00,-999.000,9,-999.000,9, -999.00,9,  -999.0,9,  -999.0,-999.000,9,-999.000,-999.000,9, -999.00,9,  550.00,-999.0000,9,-999.0000,9,-999.0000,9,-999.0000,9,-999.0000,9,-999.0000,9,   6.4141,     -999.0,-999.000,     -999.0,          9,     -999.0,          9,-999.000,          9
 33RO200501,       A16S,     110,          1,         24,         24,2,20050218,       1055,    -7.5000,   -25.0002,       5746,   650.1,   5.5679,  34.5000,2,  34.4988,2,    138.1,2,   135.1,2,   26.41,2,   34.30,2,    0.00,2,    2.17,2,-999.000,9,-999.000,9,-999.000,9,  -999.0,9,  -999.0,9,  -999.0,9,   20.00,-999.0000,9,    25.00,-999.000,9, -999.00,-999.000,9,-999.000,9, -999.00,9,  -999.0,9,  -999.0,-999.000,9,-999.000,-999.000,9, -999.00,9,  650.10,-999.0000,9,-999.0000,9,-999.0000,9,-999.0000,9,-999.0000,9,-999.0000,9,   5.5126,     -999.0,-999.000,      6.051,          2,      0.221,          2,   0.010,          2
 33RO200501,       A16S,     110,          1,         23,         23,2,20050218,       1055,    -7.5000,   -25.0002,       5746,   749.0,   4.8463,  34.4747,2,  34.4753,2,    147.0,2,   145.4,2,   30.66,2,   34.46,2,    0.00,2,    2.20,2,   0.167,2,   0.089,2,   0.008,2,  2219.3,2,  2288.7,2,  -999.0,9,   20.00,   7.5458,2,    25.00,-999.000,9, -999.00,-999.000,9,-999.000,9, -999.00,9,  -999.0,9,  -999.0,-999.000,9,-999.000,   0.279,4, -999.00,9,  749.00,-999.0000,9,-999.0000,9,-999.0000,9,-999.0000,9,-999.0000,9,-999.0000,9,   4.7862,     -999.0,-999.000,     -999.0,          9,     -999.0,          9,-999.000,          9
 33RO200501,       A16S,     110,          1,         22,         22,2,20050218,       1055,    -7.5000,   -25.0002,       5746,   849.3,   4.2439,  34.4806,2,  34.4800,2,    161.9,2,   162.1,2,   34.83,6,   33.66,6,    0.00,6,    2.17,6,-999.000,9,-999.000,9,-999.000,9,  -999.0,9,  -999.0,9,  -999.0,9,   20.00,-999.0000,9,    25.00,-999.000,9, -999.00,-999.000,9,-999.000,9, -999.00,9,  -999.0,9,  -999.0,-999.000,9,-999.000,-999.000,9, -999.00,9,  849.30,-999.0000,9,-999.0000,9,-999.0000,9,-999.0000,9,-999.0000,9,-999.0000,9,   4.1790,     -999.0,-999.000,     -999.0,          9,     -999.0,          9,-999.000,          9
 33RO200501,       A16S,     110,          1,         21,         21,2,20050218,       1055,    -7.5000,   -25.0002,       5746,  1000.1,   4.0920,  34.6021,2,  34.5992,2,    166.2,2,   167.1,2,   34.66,6,   31.94,6,    0.00,6,    2.07,6,-999.000,9,-999.000,9,-999.000,9,  2216.7,2,  2306.5,2,  -999.0,9,   20.00,   7.5856,2,    25.00,-999.000,9, -999.00,-999.000,9,-999.000,9, -999.00,9,  -999.0,9,  -999.0,-999.000,9,-999.000,-999.000,9, -999.00,9, 1000.10,-999.0000,9,-999.0000,9,-999.0000,9,-999.0000,9,-999.0000,9,-999.0000,9,   4.0155,     -999.0,-999.000,      7.314,          2,      0.520,          2,   0.032,          2
 33RO200501,       A16S,     110,          1,         20,         20,2,20050218,       1055,    -7.5000,   -25.0002,       5746,  1199.5,   4.2765,  34.7911,2,  34.7901,2,    185.3,2,   184.5,2,   27.87,6,   27.89,6,    0.00,6,    1.78,6,   0.019,2,   0.014,2,   0.009,2,  -999.0,9,  -999.0,9,  -999.0,9,   20.00,-999.0000,9,    25.00,-999.000,9, -999.00,-999.000,9,-999.000,9, -999.00,9,  -999.0,9,  -999.0,-999.000,9,-999.000,   0.069,4, -999.00,9, 1199.50,-999.0000,9,-999.0000,9,-999.0000,9,-999.0000,9,-999.0000,9,-999.0000,9,   4.1809,     -999.0,-999.000,     -999.0,          9,     -999.0,          9,-999.000,          9
 33RO200501,       A16S,     110,          1,         19,         19,2,20050218,       1055,    -7.5000,   -25.0002,       5746,  1399.4,   4.3183,  34.9229,2,  34.9228,2,    212.9,2,   213.4,2,   21.61,6,   23.49,6,    0.00,6,    1.47,6,-999.000,9,-999.000,9,-999.000,9,  2184.2,2,  2305.8,2,  -999.0,9,   20.00,   7.6815,2,    25.00,-999.000,9, -999.00,-999.000,9,-999.000,9, -999.00,9,  -999.0,9,  -999.0,-999.000,9,-999.000,-999.000,9, -999.00,9, 1399.40,-999.0000,9,-999.0000,9,-999.0000,9,-999.0000,9,-999.0000,9,-999.0000,9,   4.2039,     -999.0,-999.000,     -999.0,          9,     -999.0,          9,-999.000,          9
 33RO200501,       A16S,     110,          1,         18,         18,2,20050218,       1055,    -7.5000,   -25.0002,       5746,  1599.7,   4.0985,  34.9659,2,  34.9671,2,    233.5,2,   234.4,2,   19.35,6,   20.94,6,    0.00,6,    1.31,6,   0.142,2,   0.075,2,   0.006,2,  -999.0,9,  -999.0,9,  -999.0,9,   20.00,-999.0000,9,    25.00,-999.000,9, -999.00,-999.000,9,-999.000,9, -999.00,9,  -999.0,9,  -999.0,-999.000,9,-999.000,   0.328,4, -999.00,9, 1599.70,-999.0000,9,-999.0000,9,-999.0000,9,-999.0000,9,-999.0000,9,-999.0000,9,   3.9680,     -999.0,-999.000,      5.939,          2,      0.541,          2,   0.015,          2
 33RO200501,       A16S,     110,          1,         17,         17,2,20050218,       1055,    -7.5000,   -25.0002,       5746,  1799.9,   3.7858,  34.9716,2,  34.9728,2,    245.7,2,   246.0,2,   19.68,6,   19.75,6,    0.00,6,    1.24,6,-999.000,9,-999.000,9,-999.000,9,  2170.7,2,  2307.3,2,  -999.0,9,   20.00,   7.7252,2,    25.00,-999.000,9, -999.00,-999.000,9,-999.000,9, -999.00,9,  -999.0,9,  -999.0,-999.000,9,-999.000,-999.000,9, -999.00,9, 1799.90,-999.0000,9,-999.0000,9,-999.0000,9,-999.0000,9,-999.0000,9,-999.0000,9,   3.6405,     -999.0,-999.000,     -999.0,          9,     -999.0,          9,-999.000,          9
 33RO200501,       A16S,     110,          1,         16,         16,2,20050218,       1055,    -7.5000,   -25.0002,       5746,  1998.8,   3.3516,  34.9387,2,  34.9384,2,    241.0,2,   240.5,2,   27.78,6,   21.11,6,    0.00,6,    1.35,6,   0.018,2,   0.013,2,   0.000,2,  -999.0,9,  -999.0,9,  -999.0,9,   20.00,-999.0000,9,    25.00,-999.000,9, -999.00,-999.000,9,-999.000,9, -999.00,9,  -999.0,9,  -999.0,-999.000,9,-999.000,   0.096,4, -999.00,9, 1998.80,-999.0000,9,-999.0000,9,-999.0000,9,-999.0000,9,-999.0000,9,-999.0000,9,   3.1939,     -999.0,-999.000,     -999.0,          9,     -999.0,          9,-999.000,          9
 33RO200501,       A16S,     110,          1,         15,         15,2,20050218,       1055,    -7.5000,   -25.0002,       5746,  2197.7,   3.0985,  34.9298,2,  34.9311,2,    242.4,2,   242.5,2,   31.36,6,   21.17,6,    0.00,6,    1.36,6,-999.000,9,-999.000,9,-999.000,9,  2179.6,2,  2319.9,2,  -999.0,9,   20.00,   7.7236,2,    25.00,-999.000,9, -999.00,-999.000,9,-999.000,9, -999.00,9,  -999.0,9,  -999.0,-999.000,9,-999.000,-999.000,9, -999.00,9, 2197.70,-999.0000,9,-999.0000,9,-999.0000,9,-999.0000,9,-999.0000,9,-999.0000,9,   2.9260,     -999.0,-999.000,      7.436,          2,      0.325,          2,   0.035,          2
 33RO200501,       A16S,     110,          1,         14,         14,2,20050218,       1055,    -7.5000,   -25.0002,       5746,  2399.0,   2.9181,  34.9191,2,  34.9191,2,    241.8,2,   241.1,2,   35.46,2, -999.00,5,    0.00,2,    1.37,2,-999.000,9,-999.000,9,-999.000,9,  -999.0,9,  -999.0,9,  -999.0,9,   20.00,-999.0000,9,    25.00,-999.000,9, -999.00,-999.000,9,-999.000,9, -999.00,9,  -999.0,9,  -999.0,-999.000,9,-999.000,-999.000,9, -999.00,9, 2399.00,-999.0000,9,-999.0000,9,-999.0000,9,-999.0000,9,-999.0000,9,-999.0000,9,   2.7295,     -999.0,-999.000,     -999.0,          9,     -999.0,          9,-999.000,          9
 33RO200501,       A16S,     110,          1,         13,         13,2,20050218,       1055,    -7.5000,   -25.0002,       5746,  2599.8,   2.8170,  34.9138,2,  34.9132,2,    241.3,2,   241.8,2,   37.55,2, -999.00,5,    0.00,2,    1.39,2,   0.004,2,   0.005,2,   0.000,2,  2185.5,2,  2324.5,2,  -999.0,9,   20.00,   7.7185,2,    25.00,-999.000,9, -999.00,-999.000,9,-999.000,9, -999.00,9,  -999.0,9,  -999.0,-999.000,9,-999.000,   0.031,4, -999.00,9, 2599.80,-999.0000,9,-999.0000,9,-999.0000,9,-999.0000,9,-999.0000,9,-999.0000,9,   2.6108,     -999.0,-999.000,     -999.0,          9,     -999.0,          9,-999.000,          9
 33RO200501,       A16S,     110,          1,         12,         12,2,20050218,       1055,    -7.5000,   -25.0002,       5746,  2849.9,   2.7173,  34.9114,2,  34.9112,2,    245.3,2,   243.9,2,   38.23,2, -999.00,5,    0.00,2,    1.37,2,-999.000,9,-999.000,9,-999.000,9,  -999.0,9,  -999.0,9,  -999.0,9,   20.00,-999.0000,9,    25.00,-999.000,9, -999.00,-999.000,9,-999.000,9, -999.00,9,  -999.0,9,  -999.0,-999.000,9,-999.000,-999.000,9, -999.00,9, 2849.90,-999.0000,9,-999.0000,9,-999.0000,9,-999.0000,9,-999.0000,9,-999.0000,9,   2.4881,     -999.0,-999.000,      0.096,          2,      0.039,          2,   0.023,          2
 33RO200501,       A16S,     110,          1,         11,         11,2,20050218,       1055,    -7.5000,   -25.0002,       5746,  3150.0,   2.6483,  34.9125,2,  34.9135,2,    248.8,2,   248.7,2,   36.89,2, -999.00,5,    0.00,2,    1.34,2,-999.000,9,-999.000,9,-999.000,9,  2181.8,2,  2330.0,2,  -999.0,9,   20.00,   7.7250,2,    25.00,-999.000,9, -999.00,-999.000,9,-999.000,9, -999.00,9,  -999.0,9,  -999.0,-999.000,9,-999.000,-999.000,9, -999.00,9, 3150.00,-999.0000,9,-999.0000,9,-999.0000,9,-999.0000,9,-999.0000,9,-999.0000,9,   2.3897,     -999.0,-999.000,     -999.0,          9,     -999.0,          9,-999.000,          9
 33RO200501,       A16S,     110,          1,         10,         10,2,20050218,       1055,    -7.5000,   -25.0002,       5746,  3448.2,   2.5352,  34.9080,2,  34.9084,2,    253.3,2,   253.7,2,   36.93,2, -999.00,5,    0.00,2,    1.32,2,   0.025,2,   0.016,2,   0.000,2,  -999.0,9,  -999.0,9,  -999.0,9,   20.00,-999.0000,9,    25.00,-999.000,9, -999.00,-999.000,9,-999.000,9, -999.00,9,  -999.0,9,  -999.0,-999.000,9,-999.000,   0.111,4, -999.00,9, 3448.20,-999.0000,9,-999.0000,9,-999.0000,9,-999.0000,9,-999.0000,9,-999.0000,9,   2.2475,     -999.0,-999.000,     -999.0,          9,     -999.0,          9,-999.000,          9
 33RO200501,       A16S,     110,          1,          9,          9,2,20050218,       1055,    -7.5000,   -25.0002,       5746,  3748.0,   2.3361,  34.8897,2,  34.8892,2,    253.3,2,   252.4,2,   42.78,2, -999.00,5,    0.00,2,    1.37,2,   0.025,2,   0.019,2,   0.000,2,  2170.7,4,  2333.0,2,  -999.0,9,   20.00,   7.7267,2,    25.00,-999.000,9, -999.00,-999.000,9,-999.000,9, -999.00,9,  -999.0,9,  -999.0,-999.000,9,-999.000,   0.131,4, -999.00,9, 3748.00,-999.0000,9,-999.0000,9,-999.0000,9,-999.0000,9,-999.0000,9,-999.0000,9,   2.0208,     -999.0,-999.000,      1.395,          2,      0.102,          2,   0.021,          2
 33RO200501,       A16S,     110,          1,          8,          8,2,20050218,       1055,    -7.5000,   -25.0002,       5746,  4046.0,   1.8539,  34.8375,2,  34.8370,2,    244.1,2,   243.2,2,   63.21,2, -999.00,5,    0.00,2,    1.62,2,-999.000,9,-999.000,9,-999.000,9,  -999.0,9,  -999.0,9,  -999.0,9,   20.00,-999.0000,9,    25.00,-999.000,9, -999.00,-999.000,9,-999.000,9, -999.00,9,  -999.0,9,  -999.0,-999.000,9,-999.000,-999.000,9, -999.00,9, 4046.00,-999.0000,9,-999.0000,9,-999.0000,9,-999.0000,9,-999.0000,9,-999.0000,9,   1.5189,     -999.0,-999.000,     -999.0,          9,     -999.0,          9,-999.000,          9