BOTTLE,20220818CCHSIOAMB
EXPOCODE,SECT_ID,STNNBR,CASTNO,SAMPNO,BTLNBR,BTLNBR_FLAG_W,DATE,TIME,LATITUDE,LONGITUDE,DEPTH,CTDPRS,CTDTMP,CTDSAL,CTDSAL_FLAG_W,SALNTY,SALNTY_FLAG_W,CTDOXY,CTDOXY_FLAG_W,OXYGEN,OXYGEN_FLAG_W,SILCAT,SILCAT_FLAG_W,NITRAT,NITRAT_FLAG_W,NITRIT,NITRIT_FLAG_W,PHSPHT,PHSPHT_FLAG_W,CFC-11,CFC-11_FLAG_W,CFC-12,CFC-12_FLAG_W,CFC113,CFC113_FLAG_W,TCARBN,TCARBN_FLAG_W,ALKALI,ALKALI_FLAG_W,PCO2,PCO2_FLAG_W,PCO2TMP,PH_SWS,PH_SWS_FLAG_W,PH_TMP,TRITUM,TRITUM_FLAG_W,TRITER,HELIUM,HELIUM_FLAG_W,DELHE3,DELHE3_FLAG_W,DELC13,DELC13_FLAG_W,DELC14,DELC14_FLAG_W,C14ERR,NEON,NEON_FLAG_W,NEONER,CCL4,CCL4_FLAG_W,DOC,DOC_FLAG_W,CTDRAW,CDOM325,CDOM325_FLAG_W,CDOM340,CDOM340_FLAG_W,CDOM380,CDOM380_FLAG_W,CDOM412,CDOM412_FLAG_W,CDOMSL,CDOMSL_FLAG_W,CDOMSN,CDOMSN_FLAG_W,THETA,HELIER,DELHER,CH3CL,CH3CL_FLAG_W,CH3BR,CH3BR_FLAG_W,CH3I,CH3I_FLAG_W
,,,,,,,,,,,METERS,DBAR,ITS-90,PSS-78,,PSS-78,,UMOL/KG,,UMOL/KG,,UMOL/KG,,UMOL/KG,,UMOL/KG,,UMOL/KG,,PMOL/KG,,PMOL/KG,,PMOL/KG,,UMOL/KG,,UMOL/KG,,UATM,,DEG C,,,DEG C,TU,,TU,NMOL/KG,,PERCNT,,/MILLE,,/MILLE,,/MILLE,NMOL/KG,,NMOL/KG,PMOL/KG,,UMOL/KG,,DBAR,1/M,,1/M,,1/M,,1/M,,1/NM,,1/NM,,DEG C,NMOL/KG,PERCNT,PMOL/KG,,PMOL/KG,,PMOL/KG,
 33RO200501,       A16S,      83,          1,         36,         36,2,20050210,       0608,   -20.9998,   -24.9995,       5000,     2.8,  26.8770,  37.3377,2,  37.3381,2,    201.2,2,   201.1,2,    0.30,2,    0.00,2,    0.00,2,    0.08,2,   1.654,2,   1.069,2,   0.136,2,  2100.5,6,  2447.7,2,  -999.0,9,   20.00,   8.0693,2,    25.00,   0.483,2,    0.01,   1.760,2,  -2.370,2, -999.00,9,  -999.0,9,  -999.0,   6.820,2,   0.031,   1.396,4,   71.88,2,    2.80,   0.0510,2,   0.0360,2,   0.0200,3,   0.0140,3,   0.0209,2,   0.0216,2,  26.8764,      0.004,   0.247,     -999.0,          9,     -999.0,          9,-999.000,          9
 33RO200501,       A16S,      83,          1,         35,         35,2,20050210,       0608,   -20.9998,   -24.9995,       5000,    24.9,  26.8818,  37.3371,2,  37.3383,2,    201.4,2,   201.2,2,    0.36,2,    0.01,2,    0.00,2,    0.07,2,   1.645,2,   1.077,2,   0.125,2,  2100.3,2,  2445.3,6,  -999.0,9,   20.00,   8.0659,6,    25.00,-999.000,9, -999.00,   1.692,2,  -2.272,2, -999.00,9,  -999.0,9,  -999.0,   6.696,2,   0.008,   1.388,4,   71.14,2,   24.90,   0.0450,2,   0.0300,2,   0.0160,2,   0.0110,3,   0.0272,2,   0.0273,2,  26.8761,      0.002,   0.249,     -999.0,          9,     -999.0,          9,-999.000,          9
 33RO200501,       A16S,      83,          1,         34,         34,2,20050210,       0608,   -20.9998,   -24.9995,       5000,    54.3,  24.7916,  36.9172,2,  36.9155,2,    218.5,2,   218.2,2,    0.97,2,    0.01,2,    0.00,2,    0.07,2,-999.000,9,-999.000,9,-999.000,9,  2084.8,2,  2418.1,2,  -999.0,9,   20.00,   8.0585,2,    25.00,-999.000,9, -999.00,-999.000,9,-999.000,9, -999.00,9,  -999.0,9,  -999.0,-999.000,9,-999.000,-999.000,9, -999.00,9,   54.30,   0.0750,2,   0.0510,2,   0.0260,2,   0.0170,2,   0.0211,2,   0.0223,2,  24.7798,     -999.0,-999.000,     -999.0,          9,     -999.0,          9,-999.000,          9
 33RO200501,       A16S,      83,          1,         33,         33,2,20050210,       0608,   -20.9998,   -24.9995,       5000,    84.1,  22.8356,  36.6824,2,  36.6810,2,    227.5,2,   227.4,2,    1.27,2,    0.01,2,    0.00,2,    0.09,2,   2.025,2,   1.286,2,   0.159,2,  2086.3,2,  2400.5,2,  -999.0,9,   20.00,   8.0463,2,    25.00,   0.459,2,    0.01,   1.717,2,  -2.650,2, -999.00,9,  -999.0,9,  -999.0,   6.784,2,   0.056,   1.315,4,   70.40,2,   84.10,-999.0000,9,-999.0000,9,-999.0000,9,-999.0000,9,-999.0000,9,-999.0000,9,  22.8184,      0.010,   0.262,     -999.0,          9,     -999.0,          9,-999.000,          9
 33RO200501,       A16S,      83,          1,         32,         32,2,20050210,       0608,   -20.9998,   -24.9995,       5000,   115.0,  21.9290,  36.7071,2,  36.7064,2,    217.5,2,   217.4,2,    1.23,2,    0.03,2,    0.00,2,    0.10,2,-999.000,9,-999.000,9,-999.000,9,  2088.4,2,  2401.7,2,  -999.0,9,   20.00,   8.0300,2,    25.00,-999.000,9, -999.00,-999.000,9,-999.000,9, -999.00,9,  -999.0,9,  -999.0,-999.000,9,-999.000,-999.000,9,   64.49,2,  115.00,   0.1270,2,   0.0940,2,   0.0460,2,   0.0290,3,   0.0175,3,   0.0181,3,  21.9061,     -999.0,-999.000,     -999.0,          9,     -999.0,          9,-999.000,          9
 33RO200501,       A16S,      83,          1,         31,         31,2,20050210,       0608,   -20.9998,   -24.9995,       5000,   165.0,  20.2683,  36.3891,2,  36.3910,2,    212.9,2,   212.5,2,    1.57,2,    0.09,2,    0.04,2,    0.16,2,   2.180,2,   1.350,2,   0.157,2,  2093.5,2,  2381.8,2,  -999.0,9,   20.00,   8.0077,2,    25.00,   0.538,2,    0.01,   1.740,2,  -2.490,2, -999.00,9,  -999.0,9,  -999.0,   6.939,2,   0.031,   1.080,4,   62.69,2,  165.00,-999.0000,9,-999.0000,9,-999.0000,9,-999.0000,9,-999.0000,9,-999.0000,9,  20.2373,      0.004,   0.247,     -999.0,          9,     -999.0,          9,-999.000,          9
 33RO200501,       A16S,      83,          1,         30,         30,2,20050210,       0608,   -20.9998,   -24.9995,       5000,   214.6,  16.6700,  35.7290,2,  35.7242,2,    202.6,2,   202.8,2,    2.12,2,    3.36,2,    0.01,2,    0.37,2,-999.000,9,-999.000,9,-999.000,9,  2106.2,3,  2342.2,2,  -999.0,9,   20.00,-999.0000,9,    25.00,-999.000,9, -999.00,-999.000,9,-999.000,9, -999.00,9,  -999.0,9,  -999.0,-999.000,9,-999.000,-999.000,9,   51.78,2,  214.60,   0.1150,2,   0.0840,2,   0.0440,3,   0.0300,3,   0.0155,3,   0.0169,3,  16.6349,     -999.0,-999.000,     -999.0,          9,     -999.0,          9,-999.000,          9
 33RO200501,       A16S,      83,          1,         29,         29,2,20050210,       0608,   -20.9998,   -24.9995,       5000,   263.7,  15.0121,  35.4646,2,  35.4645,2,    207.8,2,   207.8,2,    2.87,2,    5.91,2,    0.01,2,    0.51,2,   2.763,2,   1.639,2,   0.036,2,  2105.2,2,  2326.4,2,  -999.0,9,   20.00,   7.8959,2,    25.00,   0.476,2,    0.01,   1.770,2,  -1.100,2, -999.00,9,  -999.0,9,  -999.0,   7.261,2,   0.033,   0.533,4,   48.84,2,  263.70,-999.0000,9,-999.0000,9,-999.0000,9,-999.0000,9,-999.0000,9,-999.0000,9,  14.9719,      0.004,   0.246,     -999.0,          9,     -999.0,          9,-999.000,          9
 33RO200501,       A16S,      83,          1,         28,         28,2,20050210,       0608,   -20.9998,   -24.9995,       5000,   314.2,  13.8811,  35.3009,2,  35.2995,2,    206.7,2,   207.0,2,    3.41,2,    8.21,2,    0.00,2,    0.63,2,   2.864,2,   1.657,2,   0.036,2,  2112.5,2,  2317.5,2,  -999.0,9,   20.00,   7.8667,2,    25.00,-999.000,9, -999.00,-999.000,9,-999.000,9, -999.00,9,  -999.0,9,  -999.0,-999.000,9,-999.000,   0.582,4,   47.44,2,  314.20,   0.1290,2,   0.0960,2,   0.0460,2,   0.0300,3,   0.0173,3,   0.0181,3,  13.8357,     -999.0,-999.000,     -999.0,          9,     -999.0,          9,-999.000,          9
 33RO200501,       A16S,      83,          1,         27,         27,2,20050210,       0608,   -20.9998,   -24.9995,       5000,   364.6,  12.5758,  35.1262,2,  35.1240,2,    204.5,2,   203.9,2,    4.45,2,   11.37,2,    0.00,2,    0.81,2,   2.904,2,   1.630,2,   0.040,2,  2120.3,2,  2309.0,2,  -999.0,9,   20.00,   7.8308,2,    25.00,-999.000,9, -999.00,-999.000,9,-999.000,9, -999.00,9,  -999.0,9,  -999.0,-999.000,9,-999.000,   0.693,4,   46.36,2,  364.60,-999.0000,9,-999.0000,9,-999.0000,9,-999.0000,9,-999.0000,9,-999.0000,9,  12.5264,     -999.0,-999.000,     -999.0,          9,     -999.0,          9,-999.000,          9
 33RO200501,       A16S,      83,          1,         26,         26,2,20050210,       0608,   -20.9998,   -24.9995,       5000,   411.8,  11.4626,  34.9877,2,  34.9767,2,    200.6,2,   200.2,2,    5.99,2,   14.56,2,    0.00,2,    0.99,2,   2.825,2,   1.553,2,   0.052,2,  2134.0,2,  2303.3,2,  -999.0,9,   20.00,   7.7945,2,    25.00,   0.298,2,    0.01,-999.000,9,-999.000,9, -999.00,9,  -999.0,9,  -999.0,-999.000,9,-999.000,   0.808,4,   45.02,2,  411.80,   0.1630,2,   0.1230,2,   0.0690,2,   0.0440,3,   0.0143,3,   0.0150,3,  11.4100,     -999.0,-999.000,     -999.0,          9,     -999.0,          9,-999.000,          9
 33RO200501,       A16S,      83,          1,         25,         25,9,20050210,       0608,   -20.9998,   -24.9995,       5000,   459.9,  10.2152,  34.8382,2,-999.0000,9,   -999.0,9,  -999.0,9, -999.00,9, -999.00,9, -999.00,9, -999.00,9,-999.000,9,-999.000,9,-999.000,9,  -999.0,9,  -999.0,9,  -999.0,9,   20.00,-999.0000,9,    25.00,-999.000,9, -999.00,   1.788,2,  -0.632,2, -999.00,9,  -999.0,9,  -999.0,   7.446,2,   0.034,-999.000,9, -999.00,9,  459.90,-999.0000,9,-999.0000,9,-999.0000,9,-999.0000,9,-999.0000,9,-999.0000,9,  10.1605,      0.004,   0.246,     -999.0,          9,     -999.0,          9,-999.000,          9
 33RO200501,       A16S,      83,          1,         24,         24,2,20050210,       0608,   -20.9998,   -24.9995,       5000,   549.8,   8.1926,  34.6227,2,  34.6171,2,    188.5,2,   188.9,2,   12.78,2,   23.32,2,    0.00,2,    1.53,2,   2.339,6,   1.215,6,   0.071,6,  2164.8,2,  2283.8,2,  -999.0,9,   20.00,   7.6954,2,    25.00,-999.000,9, -999.00,-999.000,9,-999.000,9, -999.00,9,  -999.0,9,  -999.0,-999.000,9,-999.000,   1.238,4,   42.93,2,  549.80,   0.1400,2,   0.1010,2,   0.0550,3,   0.0380,3,   0.0143,3,   0.0158,3,   8.1352,     -999.0,-999.000,     -999.0,          9,     -999.0,          9,-999.000,          9
 33RO200501,       A16S,      83,          1,         23,         23,2,20050210,       0608,   -20.9998,   -24.9995,       5000,   650.4,   6.0942,  34.4476,2,  34.4502,2,    187.6,2,   188.2,2,   19.98,2,   28.23,2,    0.00,2,    1.84,2,   1.788,2,   0.904,2,   0.060,2,  2181.5,2,  2280.0,2,  -999.0,9,   20.00,   7.6535,2,    25.00,   0.173,2,    0.01,   1.810,2,   0.610,2, -999.00,9,  -999.0,9,  -999.0,   7.807,2,   0.010,   1.421,4,   41.75,2,  650.40,-999.0000,9,-999.0000,9,-999.0000,9,-999.0000,9,-999.0000,9,-999.0000,9,   6.0363,      0.000,   0.226,     -999.0,          9,     -999.0,          9,-999.000,          9
 33RO200501,       A16S,      83,          1,         22,         22,2,20050210,       0608,   -20.9998,   -24.9995,       5000,   749.0,   5.0023,  34.4085,2,  34.4078,2,    181.0,2,   181.4,2,   27.28,2,   31.00,2,    0.00,2,    2.02,2,-999.000,9,-999.000,9,-999.000,9,  2201.6,2,  2287.2,2,  -999.0,9,   20.00,   7.6011,2,    25.00,-999.000,9, -999.00,-999.000,9,-999.000,9, -999.00,9,  -999.0,9,  -999.0,-999.000,9,-999.000,-999.000,9, -999.00,9,  749.00,   0.1430,2,   0.1030,2,   0.0610,3,   0.0440,3,   0.0125,3,   0.0139,3,   4.9414,     -999.0,-999.000,     -999.0,          9,     -999.0,          9,-999.000,          9
 33RO200501,       A16S,      83,          1,         21,         21,2,20050210,       0608,   -20.9998,   -24.9995,       5000,   847.9,   4.3554,  34.4248,2,  34.4243,2,    175.9,2,   176.0,2,   33.57,2,   32.34,2,    0.00,2,    2.12,2,   0.471,2,   0.236,2,   0.011,2,  2209.8,2,  2289.5,2,  -999.0,9,   20.00,   7.5866,2,    25.00,   0.031,2,    0.01,-999.000,9,-999.000,9, -999.00,9,  -999.0,9,  -999.0,-999.000,9,-999.000,   0.650,4,   40.64,2,  847.90,-999.0000,9,-999.0000,9,-999.0000,9,-999.0000,9,-999.0000,9,-999.0000,9,   4.2900,     -999.0,-999.000,     -999.0,          9,     -999.0,          9,-999.000,          9
 33RO200501,       A16S,      83,          1,         20,         20,2,20050210,       0608,   -20.9998,   -24.9995,       5000,   950.3,   3.8708,  34.4660,2,  34.4651,2,    178.1,2,   178.6,2,   38.66,6,   32.32,6,    0.00,6,    2.13,6,   0.208,2,   0.111,2,   0.008,2,  2214.3,6,  2304.6,2,  -999.0,9,   20.00,   7.5933,2,    25.00,-999.000,9, -999.00,-999.000,9,-999.000,9, -999.00,9,  -999.0,9,  -999.0,-999.000,9,-999.000,   0.403,4, -999.00,9,  950.30,-999.0000,9,-999.0000,9,-999.0000,9,-999.0000,9,-999.0000,9,-999.0000,9,   3.8002,     -999.0,-999.000,     -999.0,          9,     -999.0,          9,-999.000,          9
 33RO200501,       A16S,      83,          1,         19,         19,2,20050210,       0608,   -20.9998,   -24.9995,       5000,  1046.9,   3.6001,  34.5211,2,  34.5207,2,    182.3,2,   182.3,2,   42.20,2,   31.65,2,    0.00,2,    2.09,2,   0.109,2,   0.059,2,   0.003,2,  2217.8,2,  2305.0,6,  -999.0,9,   20.00,   7.5979,6,    25.00,   0.001,2,    0.01,   1.832,2,   3.250,2, -999.00,9,  -999.0,9,  -999.0,   7.885,2,   0.036,   0.264,4,   39.82,2, 1046.90,-999.0000,9,-999.0000,9,-999.0000,9,-999.0000,9,-999.0000,9,-999.0000,9,   3.5237,      0.004,   0.245,     -999.0,          9,     -999.0,          9,-999.000,          9
 33RO200501,       A16S,      83,          1,         18,         18,2,20050210,       0608,   -20.9998,   -24.9995,       5000,  1150.8,   3.5236,  34.5894,2,  34.5907,2,    185.4,2,   185.3,2,   42.88,2,   30.65,2,    0.00,2,    2.02,2,   0.054,2,   0.025,2,   0.009,2,  2217.2,2,  2313.4,2,  -999.0,9,   20.00,   7.6060,2,    25.00,-999.000,9, -999.00,-999.000,9,-999.000,9, -999.00,9,  -999.0,9,  -999.0,-999.000,9,-999.000,   0.176,4, -999.00,9, 1150.80,   0.1910,2,   0.1430,2,   0.0780,2,   0.0540,3,   0.0133,3,   0.0147,3,   3.4393,     -999.0,-999.000,     -999.0,          9,     -999.0,          9,-999.000,          9
 33RO200501,       A16S,      83,          1,         17,         17,2,20050210,       0608,   -20.9998,   -24.9995,       5000,  1250.3,   3.4607,  34.6596,2,  34.6607,2,    190.0,2,   190.3,2,   43.28,2,   29.41,2,    0.00,2,    1.94,2,   0.037,2,   0.019,2,   0.000,2,  2214.5,2,  -999.0,5,  -999.0,9,   20.00,   7.6193,2,    25.00,   0.001,2,    0.01,   1.821,2,   3.610,2, -999.00,9,  -999.0,9,  -999.0,   7.831,2,   0.018,   0.133,4,   39.81,2, 1250.30,-999.0000,9,-999.0000,9,-999.0000,9,-999.0000,9,-999.0000,9,-999.0000,9,   3.3686,      0.003,   0.247,     -999.0,          9,     -999.0,          9,-999.000,          9
 33RO200501,       A16S,      83,          1,         16,         16,2,20050210,       0608,   -20.9998,   -24.9995,       5000,  1399.9,   3.2935,  34.7398,2,  34.7405,2,    200.0,2,   200.7,2,   43.42,6,   27.59,6,    0.00,6,    1.82,6,   0.022,2,   0.018,2,   0.000,2,  2208.8,2,  2320.7,2,  -999.0,9,   20.00,   7.6482,2,    25.00,-999.000,9, -999.00,-999.000,9,-999.000,9, -999.00,9,  -999.0,9,  -999.0,-999.000,9,-999.000,   0.107,4, -999.00,9, 1399.90,-999.0000,9,-999.0000,9,-999.0000,9,-999.0000,9,-999.0000,9,-999.0000,9,   3.1904,     -999.0,-999.000,     -999.0,          9,     -999.0,          9,-999.000,          9
 33RO200501,       A16S,      83,          1,         15,         15,2,20050210,       0608,   -20.9998,   -24.9995,       5000,  1601.5,   3.2535,  34.8353,2,  34.8360,2,    220.9,2,   219.0,2,   38.32,2,   24.60,2,    0.00,2,    1.60,2,   0.029,2,   0.018,2,   0.000,2,  2196.7,2,  2313.3,2,  -999.0,9,   20.00,   7.6801,2,    25.00,-999.000,9, -999.00,-999.000,9,-999.000,9, -999.00,9,  -999.0,9,  -999.0,-999.000,9,-999.000,   0.110,4,   39.76,2, 1601.50,-999.0000,9,-999.0000,9,-999.0000,9,-999.0000,9,-999.0000,9,-999.0000,9,   3.1333,     -999.0,-999.000,     -999.0,          9,     -999.0,          9,-999.000,          9
 33RO200501,       A16S,      83,          1,         14,         14,2,20050210,       0608,   -20.9998,   -24.9995,       5000,  1800.0,   3.3120,  34.9118,2,  34.9131,2,    238.0,2,   237.7,2,   29.95,2,   21.61,2,    0.00,2,    1.39,2,   0.050,2,   0.024,2,   0.000,2,  2182.8,2,  2312.2,2,  -999.0,9,   20.00,   7.7163,2,    25.00,-999.000,9, -999.00,-999.000,9,-999.000,9, -999.00,9,  -999.0,9,  -999.0,-999.000,9,-999.000,   0.176,4,   40.13,2, 1800.00,-999.0000,9,-999.0000,9,-999.0000,9,-999.0000,9,-999.0000,9,-999.0000,9,   3.1732,     -999.0,-999.000,     -999.0,          9,     -999.0,          9,-999.000,          9
 33RO200501,       A16S,      83,          1,         13,         13,2,20050210,       0608,   -20.9998,   -24.9995,       5000,  2000.8,   3.2647,  34.9440,2,  34.9442,2,    247.8,2,   248.1,2,   25.87,2,   20.11,2,    0.00,2,    1.29,2,   0.060,2,   0.033,2,   0.000,2,  2171.2,2,  2315.0,2,  -999.0,9,   20.00,   7.7293,2,    25.00,-999.000,9, -999.00,   1.847,2,   3.055,2, -999.00,9,  -999.0,9,  -999.0,   7.932,2,   0.018,   0.201,4,   40.32,2, 2000.80,-999.0000,9,-999.0000,9,-999.0000,9,-999.0000,9,-999.0000,9,-999.0000,9,   3.1080,      0.003,   0.247,     -999.0,          9,     -999.0,          9,-999.000,          9
 33RO200501,       A16S,      83,          1,         12,         12,2,20050210,       0608,   -20.9998,   -24.9995,       5000,  2200.6,   3.1527,  34.9437,2,  34.9438,2,    250.2,2,   249.9,2,   26.63,2,   19.89,2,    0.00,2,    1.28,2,   0.057,2,   0.033,2,   0.002,2,  2172.4,2,  2318.7,2,  -999.0,9,   20.00,   7.7198,2,    25.00,-999.000,9, -999.00,-999.000,9,-999.000,9, -999.00,9,  -999.0,9,  -999.0,-999.000,9,-999.000,   0.190,4, -999.00,9, 2200.60,   0.1830,2,   0.1390,2,   0.0750,2,   0.0480,3,   0.0146,3,   0.0154,3,   2.9790,     -999.0,-999.000,     -999.0,          9,     -999.0,          9,-999.000,          9
 33RO200501,       A16S,      83,          1,         11,         11,2,20050210,       0608,   -20.9998,   -24.9995,       5000,  2400.0,   3.0128,  34.9367,2,  34.9414,2,    250.2,2,   251.3,2,   28.83,2,   20.05,2,    0.00,2,    1.30,2,   0.044,6,   0.027,6,   0.000,6,  2173.5,2,  2318.8,2,  -999.0,9,   20.00,   7.7330,2,    25.00,   0.024,2,    0.01,   1.853,2,   2.820,2, -999.00,9,  -999.0,9,  -999.0,   7.939,2,   0.018,   0.154,4, -999.00,9, 2400.00,-999.0000,9,-999.0000,9,-999.0000,9,-999.0000,9,-999.0000,9,-999.0000,9,   2.8224,      0.003,   0.247,     -999.0,          9,     -999.0,          9,-999.000,          9
 33RO200501,       A16S,      83,          1,         10,         10,2,20050210,       0608,   -20.9998,   -24.9995,       5000,  2600.5,   2.9008,  34.9299,2,  34.9331,2,    250.0,2,   250.0,2,   30.91,2,   20.25,2,    0.00,2,    1.32,2,   0.032,2,   0.014,2,   0.000,2,  2175.2,2,  2324.1,2,  -999.0,9,   20.00,   7.7602,2,    25.00,   0.010,2,    0.01,   1.872,2,   2.810,2, -999.00,9,  -999.0,9,  -999.0,   7.990,2,   0.018,   0.125,4, -999.00,9, 2600.50,-999.0000,9,-999.0000,9,-999.0000,9,-999.0000,9,-999.0000,9,-999.0000,9,   2.6929,      0.003,   0.247,     -999.0,          9,     -999.0,          9,-999.000,          9
 33RO200501,       A16S,      83,          1,          9,          9,2,20050210,       0608,   -20.9998,   -24.9995,       5000,  2844.6,   2.7761,  34.9232,2,  34.9225,2,    250.4,2,   250.6,2,   32.84,2,   20.31,2,    0.00,2,    1.32,2,   0.030,2,   0.019,2,   0.004,2,  2177.8,2,  2325.4,2,  -999.0,9,   20.00,   7.7549,2,    25.00,-999.000,9, -999.00,-999.000,9,-999.000,9, -999.00,9,  -999.0,9,  -999.0,-999.000,9,-999.000,   0.116,4,   39.94,2, 2844.60,-999.0000,9,-999.0000,9,-999.0000,9,-999.0000,9,-999.0000,9,-999.0000,9,   2.5462,     -999.0,-999.000,     -999.0,          9,     -999.0,          9,-999.000,          9
 33RO200501,       A16S,      83,          1,          8,          8,2,20050210,       0608,   -20.9998,   -24.9995,       5000,  3144.3,   2.6647,  34.9159,2,  34.9154,2,    251.2,2,   251.5,2,   34.78,2,   20.43,2,    0.00,2,    1.34,2,   0.021,2,   0.012,2,   0.000,2,  2176.9,2,  2325.7,2,  -999.0,9,   20.00,   7.7694,2,    25.00,-999.000,9, -999.00,-999.000,9,-999.000,9, -999.00,9,  -999.0,9,  -999.0,-999.000,9,-999.000,   0.103,4, -999.00,9, 3144.30,   0.1790,2,   0.1340,2,   0.0770,3,   0.0540,3,   0.0123,3,   0.0137,3,   2.4063,     -999.0,-999.000,     -999.0,          9,     -999.0,          9,-999.000,          9