BOTTLE,20220818CCHSIOAMB
EXPOCODE,SECT_ID,STNNBR,CASTNO,SAMPNO,BTLNBR,BTLNBR_FLAG_W,DATE,TIME,LATITUDE,LONGITUDE,DEPTH,CTDPRS,CTDTMP,CTDSAL,CTDSAL_FLAG_W,SALNTY,SALNTY_FLAG_W,CTDOXY,CTDOXY_FLAG_W,OXYGEN,OXYGEN_FLAG_W,SILCAT,SILCAT_FLAG_W,NITRAT,NITRAT_FLAG_W,NITRIT,NITRIT_FLAG_W,PHSPHT,PHSPHT_FLAG_W,CFC-11,CFC-11_FLAG_W,CFC-12,CFC-12_FLAG_W,CFC113,CFC113_FLAG_W,TCARBN,TCARBN_FLAG_W,ALKALI,ALKALI_FLAG_W,PCO2,PCO2_FLAG_W,PCO2TMP,PH_SWS,PH_SWS_FLAG_W,PH_TMP,TRITUM,TRITUM_FLAG_W,TRITER,HELIUM,HELIUM_FLAG_W,DELHE3,DELHE3_FLAG_W,DELC13,DELC13_FLAG_W,DELC14,DELC14_FLAG_W,C14ERR,NEON,NEON_FLAG_W,NEONER,CCL4,CCL4_FLAG_W,DOC,DOC_FLAG_W,CTDRAW,CDOM325,CDOM325_FLAG_W,CDOM340,CDOM340_FLAG_W,CDOM380,CDOM380_FLAG_W,CDOM412,CDOM412_FLAG_W,CDOMSL,CDOMSL_FLAG_W,CDOMSN,CDOMSN_FLAG_W,THETA,HELIER,DELHER,CH3CL,CH3CL_FLAG_W,CH3BR,CH3BR_FLAG_W,CH3I,CH3I_FLAG_W
,,,,,,,,,,,METERS,DBAR,ITS-90,PSS-78,,PSS-78,,UMOL/KG,,UMOL/KG,,UMOL/KG,,UMOL/KG,,UMOL/KG,,UMOL/KG,,PMOL/KG,,PMOL/KG,,PMOL/KG,,UMOL/KG,,UMOL/KG,,UATM,,DEG C,,,DEG C,TU,,TU,NMOL/KG,,PERCNT,,/MILLE,,/MILLE,,/MILLE,NMOL/KG,,NMOL/KG,PMOL/KG,,UMOL/KG,,DBAR,1/M,,1/M,,1/M,,1/M,,1/NM,,1/NM,,DEG C,NMOL/KG,PERCNT,PMOL/KG,,PMOL/KG,,PMOL/KG,
 33RO200501,       A16S,      82,          1,         36,         36,2,20050209,       2255,   -21.5008,   -25.0002,       5290,     2.0,  26.8839,  37.2406,2,  37.2413,2,    202.2,2,   201.3,2,    1.24,2,    0.00,2,    0.00,2,    0.06,2,   1.655,2,   1.073,2,   0.136,2,  2096.3,6,  2440.9,2,  -999.0,9,   20.00,   8.0646,6,    25.00,-999.000,9, -999.00,-999.000,9,-999.000,9, -999.00,9,  -999.0,9,  -999.0,-999.000,9,-999.000,   1.429,4, -999.00,9,    2.00,-999.0000,9,-999.0000,9,-999.0000,9,-999.0000,9,-999.0000,9,-999.0000,9,  26.8834,     -999.0,-999.000,     72.863,          2,      0.716,          2,   3.668,          2
 33RO200501,       A16S,      82,          1,         35,         35,2,20050209,       2255,   -21.5008,   -25.0002,       5290,    23.5,  26.8592,  37.2405,2,  37.2240,2,    202.5,2,   202.6,2,    1.22,2,    0.01,2,    0.00,2,    0.06,2,-999.000,9,-999.000,9,-999.000,9,  -999.0,9,  -999.0,9,  -999.0,9,   20.00,-999.0000,9,    25.00,-999.000,9, -999.00,-999.000,9,-999.000,9, -999.00,9,  -999.0,9,  -999.0,-999.000,9,-999.000,-999.000,9, -999.00,9,   23.50,-999.0000,9,-999.0000,9,-999.0000,9,-999.0000,9,-999.0000,9,-999.0000,9,  26.8538,     -999.0,-999.000,     -999.0,          9,     -999.0,          9,-999.000,          9
 33RO200501,       A16S,      82,          1,         34,         34,2,20050209,       2255,   -21.5008,   -25.0002,       5290,    53.5,  22.7960,  36.6716,2,  36.6673,2,    229.0,2,   227.9,2,    1.33,2,    0.01,2,    0.00,2,    0.08,2,-999.000,9,-999.000,9,-999.000,9,  -999.0,9,  -999.0,9,  -999.0,9,   20.00,-999.0000,9,    25.00,-999.000,9, -999.00,-999.000,9,-999.000,9, -999.00,9,  -999.0,9,  -999.0,-999.000,9,-999.000,-999.000,9, -999.00,9,   53.50,-999.0000,9,-999.0000,9,-999.0000,9,-999.0000,9,-999.0000,9,-999.0000,9,  22.7851,     -999.0,-999.000,    214.865,          2,      0.711,          2,   7.637,          2
 33RO200501,       A16S,      82,          1,         33,         33,2,20050209,       2255,   -21.5008,   -25.0002,       5290,    83.8,  21.9697,  36.6657,2,  36.6614,2,    223.7,2,   223.1,2,    1.30,2,    0.01,2,    0.00,2,    0.11,2,   2.042,2,   1.300,2,   0.172,2,  2086.1,2,  2406.6,2,  -999.0,9,   20.00,   8.0378,2,    25.00,-999.000,9, -999.00,-999.000,9,-999.000,9, -999.00,9,  -999.0,9,  -999.0,-999.000,9,-999.000,   1.310,4, -999.00,9,   83.80,-999.0000,9,-999.0000,9,-999.0000,9,-999.0000,9,-999.0000,9,-999.0000,9,  21.9530,     -999.0,-999.000,     -999.0,          9,     -999.0,          9,-999.000,          9
 33RO200501,       A16S,      82,          1,         32,         32,2,20050209,       2255,   -21.5008,   -25.0002,       5290,   113.9,  21.2944,  36.5740,2,  36.5690,2,    220.4,2,   220.4,2,    1.22,2,    0.05,2,    0.00,2,    0.11,2,-999.000,9,-999.000,9,-999.000,9,  -999.0,9,  -999.0,9,  -999.0,9,   20.00,-999.0000,9,    25.00,-999.000,9, -999.00,-999.000,9,-999.000,9, -999.00,9,  -999.0,9,  -999.0,-999.000,9,-999.000,-999.000,9, -999.00,9,  113.90,-999.0000,9,-999.0000,9,-999.0000,9,-999.0000,9,-999.0000,9,-999.0000,9,  21.2722,     -999.0,-999.000,     88.227,          2,      0.227,          2,   2.954,          2
 33RO200501,       A16S,      82,          1,         31,         31,2,20050209,       2255,   -21.5008,   -25.0002,       5290,   163.7,  20.0701,  36.3464,2,  36.3204,2,    213.1,2,   213.7,2,    1.33,2,    0.15,2,    0.07,2,    0.15,2,-999.000,9,-999.000,9,-999.000,9,  -999.0,9,  -999.0,9,  -999.0,9,   20.00,-999.0000,9,    25.00,-999.000,9, -999.00,-999.000,9,-999.000,9, -999.00,9,  -999.0,9,  -999.0,-999.000,9,-999.000,-999.000,9, -999.00,9,  163.70,-999.0000,9,-999.0000,9,-999.0000,9,-999.0000,9,-999.0000,9,-999.0000,9,  20.0396,     -999.0,-999.000,     -999.0,          9,     -999.0,          9,-999.000,          9
 33RO200501,       A16S,      82,          1,         30,         30,2,20050209,       2255,   -21.5008,   -25.0002,       5290,   214.1,  16.4011,  35.6790,2,  35.6735,2,    208.4,2,   208.0,2,    2.24,2,    3.60,2,    0.01,2,    0.38,2,   2.610,2,   1.576,2,   0.065,2,  -999.0,9,  -999.0,9,  -999.0,9,   20.00,-999.0000,9,    25.00,-999.000,9, -999.00,-999.000,9,-999.000,9, -999.00,9,  -999.0,9,  -999.0,-999.000,9,-999.000,   0.604,4, -999.00,9,  214.10,-999.0000,9,-999.0000,9,-999.0000,9,-999.0000,9,-999.0000,9,-999.0000,9,  16.3665,     -999.0,-999.000,      7.362,          2,      0.000,          2,   0.066,          2
 33RO200501,       A16S,      82,          1,         29,         29,2,20050209,       2255,   -21.5008,   -25.0002,       5290,   263.4,  14.9520,  35.4587,2,  35.4573,2,    205.5,2,   206.2,2,    2.49,2,    6.00,2,    0.01,2,    0.50,2,-999.000,9,-999.000,9,-999.000,9,  -999.0,9,  -999.0,9,  -999.0,9,   20.00,-999.0000,9,    25.00,-999.000,9, -999.00,-999.000,9,-999.000,9, -999.00,9,  -999.0,9,  -999.0,-999.000,9,-999.000,-999.000,9, -999.00,9,  263.40,-999.0000,9,-999.0000,9,-999.0000,9,-999.0000,9,-999.0000,9,-999.0000,9,  14.9120,     -999.0,-999.000,     -999.0,          9,     -999.0,          9,-999.000,          9
 33RO200501,       A16S,      82,          1,         28,         28,2,20050209,       2255,   -21.5008,   -25.0002,       5290,   312.5,  13.7747,  35.2870,2,  35.2665,2,    206.7,2,   206.3,2,    3.27,2,    8.74,2,    0.01,2,    0.66,2,-999.000,9,-999.000,9,-999.000,9,  -999.0,9,  -999.0,9,  -999.0,9,   20.00,-999.0000,9,    25.00,-999.000,9, -999.00,-999.000,9,-999.000,9, -999.00,9,  -999.0,9,  -999.0,-999.000,9,-999.000,-999.000,9, -999.00,9,  312.50,-999.0000,9,-999.0000,9,-999.0000,9,-999.0000,9,-999.0000,9,-999.0000,9,  13.7298,     -999.0,-999.000,      4.886,          2,      0.000,          2,   0.028,          2
 33RO200501,       A16S,      82,          1,         27,         27,2,20050209,       2255,   -21.5008,   -25.0002,       5290,   363.3,  12.3772,  35.1011,2,  35.0975,2,    202.8,2,   202.0,2,    4.45,2,   11.97,2,    0.00,2,    0.84,2,   2.900,2,   1.632,2,   0.040,2,  2122.7,2,  2311.5,2,  -999.0,9,   20.00,   7.8313,2,    25.00,-999.000,9, -999.00,-999.000,9,-999.000,9, -999.00,9,  -999.0,9,  -999.0,-999.000,9,-999.000,   0.706,4, -999.00,9,  363.30,-999.0000,9,-999.0000,9,-999.0000,9,-999.0000,9,-999.0000,9,-999.0000,9,  12.3285,     -999.0,-999.000,     -999.0,          9,     -999.0,          9,-999.000,          9
 33RO200501,       A16S,      82,          1,         26,         26,2,20050209,       2255,   -21.5008,   -25.0002,       5290,   413.9,  11.2764,  34.9637,2,  34.9629,2,    199.7,2,   199.8,2,    5.90,2,   14.83,2,    0.00,2,    1.01,2,-999.000,9,-999.000,9,-999.000,9,  -999.0,9,  -999.0,9,  -999.0,9,   20.00,-999.0000,9,    25.00,-999.000,9, -999.00,-999.000,9,-999.000,9, -999.00,9,  -999.0,9,  -999.0,-999.000,9,-999.000,-999.000,9, -999.00,9,  413.90,-999.0000,9,-999.0000,9,-999.0000,9,-999.0000,9,-999.0000,9,-999.0000,9,  11.2241,     -999.0,-999.000,      5.853,          2,      0.034,          2,   0.035,          2
 33RO200501,       A16S,      82,          1,         25,         25,2,20050209,       2255,   -21.5008,   -25.0002,       5290,   463.3,  10.3016,  34.8492,2,  34.6066,3,    194.6,2,   195.2,2,    7.56,2,   17.50,2,    0.00,2,    1.17,2,-999.000,9,-999.000,9,-999.000,9,  -999.0,9,  -999.0,9,  -999.0,9,   20.00,-999.0000,9,    25.00,-999.000,9, -999.00,-999.000,9,-999.000,9, -999.00,9,  -999.0,9,  -999.0,-999.000,9,-999.000,-999.000,9, -999.00,9,  463.30,-999.0000,9,-999.0000,9,-999.0000,9,-999.0000,9,-999.0000,9,-999.0000,9,  10.2462,     -999.0,-999.000,     -999.0,          9,     -999.0,          9,-999.000,          9
 33RO200501,       A16S,      82,          1,         24,         24,2,20050209,       2255,   -21.5008,   -25.0002,       5290,   546.0,   8.0186,  34.6082,2,  34.6066,2,    185.9,2,   185.5,2,   13.16,2,   23.92,2,    0.00,2,    1.56,2,-999.000,9,-999.000,9,-999.000,9,  -999.0,9,  -999.0,9,  -999.0,9,   20.00,-999.0000,9,    25.00,-999.000,9, -999.00,-999.000,9,-999.000,9, -999.00,9,  -999.0,9,  -999.0,-999.000,9,-999.000,-999.000,9, -999.00,9,  546.00,-999.0000,9,-999.0000,9,-999.0000,9,-999.0000,9,-999.0000,9,-999.0000,9,   7.9623,     -999.0,-999.000,      2.697,          2,      0.022,          2,   0.022,          2
 33RO200501,       A16S,      82,          1,         23,         23,2,20050209,       2255,   -21.5008,   -25.0002,       5290,   648.5,   6.2996,  34.4625,2,  34.4676,2,    186.9,2,   187.4,2,   18.67,2,   27.66,2,    0.00,2,    1.80,2,-999.000,9,-999.000,9,-999.000,9,  -999.0,9,  -999.0,9,  -999.0,9,   20.00,-999.0000,9,    25.00,-999.000,9, -999.00,-999.000,9,-999.000,9, -999.00,9,  -999.0,9,  -999.0,-999.000,9,-999.000,-999.000,9, -999.00,9,  648.50,-999.0000,9,-999.0000,9,-999.0000,9,-999.0000,9,-999.0000,9,-999.0000,9,   6.2408,     -999.0,-999.000,     -999.0,          9,     -999.0,          9,-999.000,          9
 33RO200501,       A16S,      82,          1,         22,         22,2,20050209,       2255,   -21.5008,   -25.0002,       5290,   748.5,   5.2210,  34.4300,2,  34.4299,2,    173.1,2,   173.0,2,   26.20,2,   31.16,2,    0.00,2,    2.03,2,-999.000,9,-999.000,9,-999.000,9,  -999.0,9,  -999.0,9,  -999.0,9,   20.00,-999.0000,9,    25.00,-999.000,9, -999.00,-999.000,9,-999.000,9, -999.00,9,  -999.0,9,  -999.0,-999.000,9,-999.000,-999.000,9, -999.00,9,  748.50,-999.0000,9,-999.0000,9,-999.0000,9,-999.0000,9,-999.0000,9,-999.0000,9,   5.1589,     -999.0,-999.000,      2.048,          2,      0.000,          2,   0.014,          2
 33RO200501,       A16S,      82,          1,         21,         21,2,20050209,       2255,   -21.5008,   -25.0002,       5290,   848.5,   4.3905,  34.4247,2,  34.4260,2,    175.6,2,   175.8,2,   33.06,2,   32.16,2,    0.00,2,    2.12,2,   0.461,2,   0.247,2,   0.013,2,  2207.3,2,  2300.0,2,  -999.0,9,   20.00,   7.6033,2,    25.00,-999.000,9, -999.00,-999.000,9,-999.000,9, -999.00,9,  -999.0,9,  -999.0,-999.000,9,-999.000,   0.642,4, -999.00,9,  848.50,-999.0000,9,-999.0000,9,-999.0000,9,-999.0000,9,-999.0000,9,-999.0000,9,   4.3248,     -999.0,-999.000,     -999.0,          9,     -999.0,          9,-999.000,          9
 33RO200501,       A16S,      82,          1,         20,         20,2,20050209,       2255,   -21.5008,   -25.0002,       5290,   949.0,   3.8208,  34.4552,2,  34.4548,2,    180.2,2,   180.9,2,   39.37,2,   32.12,2,    0.00,2,    2.13,2,-999.000,9,-999.000,9,-999.000,9,  -999.0,9,  -999.0,9,  -999.0,9,   20.00,-999.0000,9,    25.00,-999.000,9, -999.00,-999.000,9,-999.000,9, -999.00,9,  -999.0,9,  -999.0,-999.000,9,-999.000,-999.000,9, -999.00,9,  949.00,-999.0000,9,-999.0000,9,-999.0000,9,-999.0000,9,-999.0000,9,-999.0000,9,   3.7508,     -999.0,-999.000,      5.376,          2,      0.866,          2,   0.019,          2
 33RO200501,       A16S,      82,          1,         19,         19,2,20050209,       2255,   -21.5008,   -25.0002,       5290,  1048.2,   3.5715,  34.5157,2,  34.5126,2,    183.1,2,   183.0,2,   42.51,2,   31.56,2,    0.00,2,    2.10,2,-999.000,9,-999.000,9,-999.000,9,  -999.0,9,  -999.0,9,  -999.0,9,   20.00,-999.0000,9,    25.00,-999.000,9, -999.00,-999.000,9,-999.000,9, -999.00,9,  -999.0,9,  -999.0,-999.000,9,-999.000,-999.000,9, -999.00,9, 1048.20,-999.0000,9,-999.0000,9,-999.0000,9,-999.0000,9,-999.0000,9,-999.0000,9,   3.4953,     -999.0,-999.000,     -999.0,          9,     -999.0,          9,-999.000,          9
 33RO200501,       A16S,      82,          1,         18,         18,2,20050209,       2255,   -21.5008,   -25.0002,       5290,  1148.4,   3.4742,  34.5794,2,  34.5791,2,    185.8,2,   185.4,2,   43.66,2,   30.65,2,    0.00,2,    2.04,2,   0.072,2,   0.041,2,   0.000,2,  -999.0,9,  -999.0,9,  -999.0,9,   20.00,-999.0000,9,    25.00,-999.000,9, -999.00,-999.000,9,-999.000,9, -999.00,9,  -999.0,9,  -999.0,-999.000,9,-999.000,   0.206,4, -999.00,9, 1148.40,-999.0000,9,-999.0000,9,-999.0000,9,-999.0000,9,-999.0000,9,-999.0000,9,   3.3905,     -999.0,-999.000,      4.297,          2,      0.366,          2,   0.024,          2
 33RO200501,       A16S,      82,          1,         17,         17,2,20050209,       2255,   -21.5008,   -25.0002,       5290,  1248.5,   3.3399,  34.6403,2,  34.6418,2,    189.6,2,   189.3,2,   45.17,2,   29.63,2,    0.00,2,    1.98,2,-999.000,9,-999.000,9,-999.000,9,  -999.0,9,  -999.0,9,  -999.0,9,   20.00,-999.0000,9,    25.00,-999.000,9, -999.00,-999.000,9,-999.000,9, -999.00,9,  -999.0,9,  -999.0,-999.000,9,-999.000,-999.000,9, -999.00,9, 1248.50,-999.0000,9,-999.0000,9,-999.0000,9,-999.0000,9,-999.0000,9,-999.0000,9,   3.2491,     -999.0,-999.000,     -999.0,          9,     -999.0,          9,-999.000,          9
 33RO200501,       A16S,      82,          1,         16,         16,2,20050209,       2255,   -21.5008,   -25.0002,       5290,  1398.2,   3.2712,  34.7337,2,  34.7346,2,    200.2,2,   200.3,2,   43.57,2,   27.62,2,    0.00,2,    1.83,2,-999.000,9,-999.000,9,-999.000,9,  -999.0,9,  -999.0,9,  -999.0,9,   20.00,-999.0000,9,    25.00,-999.000,9, -999.00,-999.000,9,-999.000,9, -999.00,9,  -999.0,9,  -999.0,-999.000,9,-999.000,-999.000,9, -999.00,9, 1398.20,-999.0000,9,-999.0000,9,-999.0000,9,-999.0000,9,-999.0000,9,-999.0000,9,   3.1685,     -999.0,-999.000,      5.812,          2,      0.237,          2,   0.034,          2
 33RO200501,       A16S,      82,          1,         15,         15,2,20050209,       2255,   -21.5008,   -25.0002,       5290,  1599.3,   3.2662,  34.8470,2,  34.8447,2,    220.5,2,   221.2,2,   36.55,2,   24.15,2,    0.00,2,    1.58,2,   0.024,2,   0.013,2,   0.000,2,  2193.6,2,  2324.4,2,  -999.0,9,   20.00,   7.6841,2,    25.00,-999.000,9, -999.00,-999.000,9,-999.000,9, -999.00,9,  -999.0,9,  -999.0,-999.000,9,-999.000,   0.121,4, -999.00,9, 1599.30,-999.0000,9,-999.0000,9,-999.0000,9,-999.0000,9,-999.0000,9,-999.0000,9,   3.1460,     -999.0,-999.000,     -999.0,          9,     -999.0,          9,-999.000,          9
 33RO200501,       A16S,      82,          1,         14,         14,2,20050209,       2255,   -21.5008,   -25.0002,       5290,  1798.6,   3.3483,  34.9188,2,  34.9194,2,    240.1,2,   239.2,2,   27.87,2,   21.25,2,    0.00,2,    1.38,2,-999.000,9,-999.000,9,-999.000,9,  -999.0,9,  -999.0,9,  -999.0,9,   20.00,-999.0000,9,    25.00,-999.000,9, -999.00,-999.000,9,-999.000,9, -999.00,9,  -999.0,9,  -999.0,-999.000,9,-999.000,-999.000,9, -999.00,9, 1798.60,-999.0000,9,-999.0000,9,-999.0000,9,-999.0000,9,-999.0000,9,-999.0000,9,   3.2091,     -999.0,-999.000,     10.914,          2,      0.340,          2,   0.279,          2
 33RO200501,       A16S,      82,          1,         13,         13,2,20050209,       2255,   -21.5008,   -25.0002,       5290,  1995.8,   3.2906,  34.9492,2,  34.9490,2,    249.3,2,   249.5,2,   23.99,2,   19.81,2,    0.00,2,    1.27,2,   0.075,2,   0.042,2,   0.000,2,  -999.0,9,  -999.0,9,  -999.0,9,   20.00,-999.0000,9,    25.00,-999.000,9, -999.00,-999.000,9,-999.000,9, -999.00,9,  -999.0,9,  -999.0,-999.000,9,-999.000,   0.235,4, -999.00,9, 1995.80,-999.0000,9,-999.0000,9,-999.0000,9,-999.0000,9,-999.0000,9,-999.0000,9,   3.1341,     -999.0,-999.000,     -999.0,          9,     -999.0,          9,-999.000,          9
 33RO200501,       A16S,      82,          1,         12,         12,2,20050209,       2255,   -21.5008,   -25.0002,       5290,  2199.2,   3.1270,  34.9433,2,  34.9437,2,    250.6,2,   250.3,2,   26.07,2,   19.84,2,    0.00,2,    1.29,2,-999.000,9,-999.000,9,-999.000,9,  -999.0,9,  -999.0,9,  -999.0,9,   20.00,-999.0000,9,    25.00,-999.000,9, -999.00,-999.000,9,-999.000,9, -999.00,9,  -999.0,9,  -999.0,-999.000,9,-999.000,-999.000,9, -999.00,9, 2199.20,-999.0000,9,-999.0000,9,-999.0000,9,-999.0000,9,-999.0000,9,-999.0000,9,   2.9539,     -999.0,-999.000,     -999.0,          9,     -999.0,          9,-999.000,          9
 33RO200501,       A16S,      82,          1,         11,         11,2,20050209,       2255,   -21.5008,   -25.0002,       5290,  2399.1,   3.0145,  34.9370,2,  34.9372,2,    250.6,2,   250.6,2,   28.42,6,   19.99,6,    0.00,6,    1.29,6,-999.000,9,-999.000,9,-999.000,9,  -999.0,9,  -999.0,9,  -999.0,9,   20.00,-999.0000,9,    25.00,-999.000,9, -999.00,-999.000,9,-999.000,9, -999.00,9,  -999.0,9,  -999.0,-999.000,9,-999.000,-999.000,9, -999.00,9, 2399.10,-999.0000,9,-999.0000,9,-999.0000,9,-999.0000,9,-999.0000,9,-999.0000,9,   2.8242,     -999.0,-999.000,      4.878,          2,      0.501,          2,   0.025,          2
 33RO200501,       A16S,      82,          1,         10,         10,2,20050209,       2255,   -21.5008,   -25.0002,       5290,  2599.2,   2.8987,  34.9303,2,  34.9305,2,    250.4,2,   250.4,2,   31.25,6,   20.14,6,    0.00,6,    1.30,6,   0.042,2,   0.024,2,   0.000,2,  2174.7,2,  2321.0,2,  -999.0,9,   20.00,   7.7389,2,    25.00,-999.000,9, -999.00,-999.000,9,-999.000,9, -999.00,9,  -999.0,9,  -999.0,-999.000,9,-999.000,   0.145,4, -999.00,9, 2599.20,-999.0000,9,-999.0000,9,-999.0000,9,-999.0000,9,-999.0000,9,-999.0000,9,   2.6909,     -999.0,-999.000,     -999.0,          9,     -999.0,          9,-999.000,          9
 33RO200501,       A16S,      82,          1,          9,          9,2,20050209,       2255,   -21.5008,   -25.0002,       5290,  2800.0,   2.7981,  34.9248,2,  34.9244,2,    250.8,2,   250.9,2,   33.03,6,   20.27,2,    0.00,6,    1.31,6,-999.000,9,-999.000,9,-999.000,9,  -999.0,9,  -999.0,9,  -999.0,9,   20.00,-999.0000,9,    25.00,-999.000,9, -999.00,-999.000,9,-999.000,9, -999.00,9,  -999.0,9,  -999.0,-999.000,9,-999.000,-999.000,9, -999.00,9, 2800.00,-999.0000,9,-999.0000,9,-999.0000,9,-999.0000,9,-999.0000,9,-999.0000,9,   2.5722,     -999.0,-999.000,     -999.0,          9,     -999.0,          9,-999.000,          9
 33RO200501,       A16S,      82,          1,          8,          8,2,20050209,       2255,   -21.5008,   -25.0002,       5290,  3049.7,   2.6826,  34.9166,2,  34.9161,2,    251.0,2,   251.1,2,   34.02,6,   20.51,6,    0.00,6,    1.33,6,-999.000,9,-999.000,9,-999.000,9,  -999.0,9,  -999.0,9,  -999.0,9,   20.00,-999.0000,9,    25.00,-999.000,9, -999.00,-999.000,9,-999.000,9, -999.00,9,  -999.0,9,  -999.0,-999.000,9,-999.000,-999.000,9, -999.00,9, 3049.70,-999.0000,9,-999.0000,9,-999.0000,9,-999.0000,9,-999.0000,9,-999.0000,9,   2.4337,     -999.0,-999.000,      3.650,          2,      0.254,          2,   0.016,          2