BOTTLE,20220818CCHSIOAMB
EXPOCODE,SECT_ID,STNNBR,CASTNO,SAMPNO,BTLNBR,BTLNBR_FLAG_W,DATE,TIME,LATITUDE,LONGITUDE,DEPTH,CTDPRS,CTDTMP,CTDSAL,CTDSAL_FLAG_W,SALNTY,SALNTY_FLAG_W,CTDOXY,CTDOXY_FLAG_W,OXYGEN,OXYGEN_FLAG_W,SILCAT,SILCAT_FLAG_W,NITRAT,NITRAT_FLAG_W,NITRIT,NITRIT_FLAG_W,PHSPHT,PHSPHT_FLAG_W,CFC-11,CFC-11_FLAG_W,CFC-12,CFC-12_FLAG_W,CFC113,CFC113_FLAG_W,TCARBN,TCARBN_FLAG_W,ALKALI,ALKALI_FLAG_W,PCO2,PCO2_FLAG_W,PCO2TMP,PH_SWS,PH_SWS_FLAG_W,PH_TMP,TRITUM,TRITUM_FLAG_W,TRITER,HELIUM,HELIUM_FLAG_W,DELHE3,DELHE3_FLAG_W,DELC13,DELC13_FLAG_W,DELC14,DELC14_FLAG_W,C14ERR,NEON,NEON_FLAG_W,NEONER,CCL4,CCL4_FLAG_W,DOC,DOC_FLAG_W,CTDRAW,CDOM325,CDOM325_FLAG_W,CDOM340,CDOM340_FLAG_W,CDOM380,CDOM380_FLAG_W,CDOM412,CDOM412_FLAG_W,CDOMSL,CDOMSL_FLAG_W,CDOMSN,CDOMSN_FLAG_W,THETA,HELIER,DELHER,CH3CL,CH3CL_FLAG_W,CH3BR,CH3BR_FLAG_W,CH3I,CH3I_FLAG_W
,,,,,,,,,,,METERS,DBAR,ITS-90,PSS-78,,PSS-78,,UMOL/KG,,UMOL/KG,,UMOL/KG,,UMOL/KG,,UMOL/KG,,UMOL/KG,,PMOL/KG,,PMOL/KG,,PMOL/KG,,UMOL/KG,,UMOL/KG,,UATM,,DEG C,,,DEG C,TU,,TU,NMOL/KG,,PERCNT,,/MILLE,,/MILLE,,/MILLE,NMOL/KG,,NMOL/KG,PMOL/KG,,UMOL/KG,,DBAR,1/M,,1/M,,1/M,,1/M,,1/NM,,1/NM,,DEG C,NMOL/KG,PERCNT,PMOL/KG,,PMOL/KG,,PMOL/KG,
 33RO200501,       A16S,       7,          1,          7,          7,2,20050119,       0520,   -56.9987,   -32.2882,       3573,  2200.8,   0.4163,  34.6822,2,  34.6823,2,    213.8,2,   215.2,2,  117.74,2,   32.22,2,    0.00,2,    2.24,2,   0.572,2,   0.291,2,   0.020,2,  2259.1,2,  2353.3,2,  -999.0,9,   20.00,   7.6039,2,    25.00,-999.000,9, -999.00,-999.000,9,-999.000,9, -999.00,9,  -999.0,9,  -999.0,-999.000,9,-999.000,   0.625,3,   40.27,2, 2200.80,-999.0000,9,-999.0000,9,-999.0000,9,-999.0000,9,-999.0000,9,-999.0000,9,   0.2891,     -999.0,-999.000,     -999.0,          9,     -999.0,          9,-999.000,          9
 33RO200501,       A16S,       7,          1,          6,          6,2,20050119,       0520,   -56.9987,   -32.2882,       3573,  2449.6,   0.3149,  34.6779,2,  34.6779,2,    217.0,2,   218.1,2,  119.12,2,   32.24,2,    0.00,2,    2.24,2,   0.621,2,   0.306,2,   0.022,2,  2258.9,2,  2354.2,2,  -999.0,9,   20.00,   7.6032,2,    25.00,-999.000,9, -999.00,-999.000,9,-999.000,9, -999.00,9,  -999.0,9,  -999.0,-999.000,9,-999.000,   0.629,3, -999.00,9, 2449.60,-999.0000,9,-999.0000,9,-999.0000,9,-999.0000,9,-999.0000,9,-999.0000,9,   0.1703,     -999.0,-999.000,     -999.0,          9,     -999.0,          9,-999.000,          9
 33RO200501,       A16S,       7,          1,          5,          5,2,20050119,       0520,   -56.9987,   -32.2882,       3573,  2700.6,   0.1986,  34.6730,2,  34.6732,2,    220.6,2,   221.5,2,  120.14,2,   32.28,2,    0.00,2,    2.25,2,   0.701,2,   0.339,2,   0.043,2,  2258.5,2,  2351.8,2,  -999.0,9,   20.00,   7.6147,2,    25.00,-999.000,9, -999.00,-999.000,9,-999.000,9, -999.00,9,  -999.0,9,  -999.0,-999.000,9,-999.000,   0.717,3,   40.17,2, 2700.60,-999.0000,9,-999.0000,9,-999.0000,9,-999.0000,9,-999.0000,9,-999.0000,9,   0.0361,     -999.0,-999.000,     -999.0,          9,     -999.0,          9,-999.000,          9
 33RO200501,       A16S,       7,          1,          4,          4,2,20050119,       0520,   -56.9987,   -32.2882,       3573,  2949.6,   0.0916,  34.6682,2,  34.6679,2,    224.5,2,   225.3,2,  120.72,6,   32.27,6,    0.01,6,    2.26,6,   0.765,2,   0.379,2,   0.032,2,  2257.9,2,  2351.5,2,  -999.0,9,   20.00,   7.6070,6,    25.00,-999.000,9, -999.00,-999.000,9,-999.000,9, -999.00,9,  -999.0,9,  -999.0,-999.000,9,-999.000,   0.795,3, -999.00,9, 2949.60,-999.0000,9,-999.0000,9,-999.0000,9,-999.0000,9,-999.0000,9,-999.0000,9,  -0.0895,     -999.0,-999.000,     -999.0,          9,     -999.0,          9,-999.000,          9
 33RO200501,       A16S,       7,          1,          3,          3,2,20050119,       0520,   -56.9987,   -32.2882,       3573,  3198.6,   0.0643,  34.6666,2,  34.6662,2,    226.9,2,   226.4,2,  121.33,6,   32.26,6,    0.01,6,    2.26,6,   0.794,2,   0.389,2,   0.032,2,  2257.2,2,  2351.7,2,  -999.0,9,   20.00,   7.5900,3,    25.00,-999.000,9, -999.00,-999.000,9,-999.000,9, -999.00,9,  -999.0,9,  -999.0,-999.000,9,-999.000,   0.824,3,   40.47,2, 3198.60,-999.0000,9,-999.0000,9,-999.0000,9,-999.0000,9,-999.0000,9,-999.0000,9,  -0.1378,     -999.0,-999.000,     -999.0,          9,     -999.0,          9,-999.000,          9
 33RO200501,       A16S,       7,          1,          2,          2,2,20050119,       0520,   -56.9987,   -32.2882,       3573,  3449.7,   0.0784,  34.6662,2,  34.6660,2,    228.1,2,   226.9,2,  121.37,6,   32.25,6,    0.01,6,    2.26,6,   0.803,2,   0.397,2,   0.032,2,  2258.4,2,  2351.5,2,  -999.0,9,   20.00,   7.6018,2,    25.00,-999.000,9, -999.00,-999.000,9,-999.000,9, -999.00,9,  -999.0,9,  -999.0,-999.000,9,-999.000,   0.866,3, -999.00,9, 3449.70,-999.0000,9,-999.0000,9,-999.0000,9,-999.0000,9,-999.0000,9,-999.0000,9,  -0.1468,     -999.0,-999.000,     -999.0,          9,     -999.0,          9,-999.000,          9
 33RO200501,       A16S,       7,          1,          1,          1,2,20050119,       0520,   -56.9987,   -32.2882,       3573,  3744.2,   0.0598,  34.6645,2,  34.6647,2,    230.3,2,   228.4,2,  121.37,6,   32.25,6,    0.01,6,    2.27,6,   0.815,6,   0.403,6,   0.039,6,  2258.1,6,  2352.6,6,  -999.0,9,   20.00,   7.6016,6,    25.00,-999.000,9, -999.00,-999.000,9,-999.000,9, -999.00,9,  -999.0,9,  -999.0,-999.000,9,-999.000,   0.840,6,   40.08,2, 3744.20,-999.0000,9,-999.0000,9,-999.0000,9,-999.0000,9,-999.0000,9,-999.0000,9,  -0.1928,     -999.0,-999.000,     -999.0,          9,     -999.0,          9,-999.000,          9