BOTTLE,20220818CCHSIOAMB
EXPOCODE,SECT_ID,STNNBR,CASTNO,SAMPNO,BTLNBR,BTLNBR_FLAG_W,DATE,TIME,LATITUDE,LONGITUDE,DEPTH,CTDPRS,CTDTMP,CTDSAL,CTDSAL_FLAG_W,SALNTY,SALNTY_FLAG_W,CTDOXY,CTDOXY_FLAG_W,OXYGEN,OXYGEN_FLAG_W,SILCAT,SILCAT_FLAG_W,NITRAT,NITRAT_FLAG_W,NITRIT,NITRIT_FLAG_W,PHSPHT,PHSPHT_FLAG_W,CFC-11,CFC-11_FLAG_W,CFC-12,CFC-12_FLAG_W,CFC113,CFC113_FLAG_W,TCARBN,TCARBN_FLAG_W,ALKALI,ALKALI_FLAG_W,PCO2,PCO2_FLAG_W,PCO2TMP,PH_SWS,PH_SWS_FLAG_W,PH_TMP,TRITUM,TRITUM_FLAG_W,TRITER,HELIUM,HELIUM_FLAG_W,DELHE3,DELHE3_FLAG_W,DELC13,DELC13_FLAG_W,DELC14,DELC14_FLAG_W,C14ERR,NEON,NEON_FLAG_W,NEONER,CCL4,CCL4_FLAG_W,DOC,DOC_FLAG_W,CTDRAW,CDOM325,CDOM325_FLAG_W,CDOM340,CDOM340_FLAG_W,CDOM380,CDOM380_FLAG_W,CDOM412,CDOM412_FLAG_W,CDOMSL,CDOMSL_FLAG_W,CDOMSN,CDOMSN_FLAG_W,THETA,HELIER,DELHER,CH3CL,CH3CL_FLAG_W,CH3BR,CH3BR_FLAG_W,CH3I,CH3I_FLAG_W
,,,,,,,,,,,METERS,DBAR,ITS-90,PSS-78,,PSS-78,,UMOL/KG,,UMOL/KG,,UMOL/KG,,UMOL/KG,,UMOL/KG,,UMOL/KG,,PMOL/KG,,PMOL/KG,,PMOL/KG,,UMOL/KG,,UMOL/KG,,UATM,,DEG C,,,DEG C,TU,,TU,NMOL/KG,,PERCNT,,/MILLE,,/MILLE,,/MILLE,NMOL/KG,,NMOL/KG,PMOL/KG,,UMOL/KG,,DBAR,1/M,,1/M,,1/M,,1/M,,1/NM,,1/NM,,DEG C,NMOL/KG,PERCNT,PMOL/KG,,PMOL/KG,,PMOL/KG,
 33RO200501,       A16S,      85,          1,         36,         36,2,20050210,       2109,   -20.0015,   -24.9992,       5405,     2.0,  26.7962,  37.2615,2,  37.2616,2,    201.9,2,   202.2,2,    1.17,2,    0.00,2,    0.00,2,    0.11,2,   1.665,6,   1.066,6,   0.144,6,  2103.4,6,  2443.9,2,   316.3,2,   20.00,   8.0619,2,    25.00,-999.000,9, -999.00,-999.000,9,-999.000,9,    1.72,2,    83.6,2,     3.8,-999.000,9,-999.000,   1.407,4,   71.42,2,    2.00,-999.0000,9,-999.0000,9,-999.0000,9,-999.0000,9,-999.0000,9,-999.0000,9,  26.7957,     -999.0,-999.000,     -999.0,          9,     -999.0,          9,-999.000,          9
 33RO200501,       A16S,      85,          1,         35,         35,2,20050210,       2109,   -20.0015,   -24.9992,       5405,    23.4,  26.6704,  37.2591,2,  37.2584,2,    201.8,2,   202.8,2,    1.17,2,    0.00,2,    0.00,2,    0.10,2,   1.679,2,   1.088,2,   0.136,2,  2103.9,2,  -999.0,5,  -999.0,9,   20.00,   8.0602,6,    25.00,-999.000,9, -999.00,-999.000,9,-999.000,9, -999.00,9,  -999.0,9,  -999.0,-999.000,9,-999.000,   1.418,4,   72.25,2,   23.40,-999.0000,9,-999.0000,9,-999.0000,9,-999.0000,9,-999.0000,9,-999.0000,9,  26.6650,     -999.0,-999.000,     -999.0,          9,     -999.0,          9,-999.000,          9
 33RO200501,       A16S,      85,          1,         34,         34,2,20050210,       2109,   -20.0015,   -24.9992,       5405,    47.8,  24.5349,  37.0205,2,  37.0261,2,    218.1,2,   218.7,2,    1.19,2,    0.00,2,    0.00,2,    0.13,2,   1.887,2,   1.208,2,   0.154,2,  2095.8,2,  2275.0,4,   320.8,2,   20.00,   8.0545,2,    25.00,-999.000,9, -999.00,-999.000,9,-999.000,9,    1.72,2,    71.3,2,     3.2,-999.000,9,-999.000,   1.327,4,   71.81,2,   47.80,-999.0000,9,-999.0000,9,-999.0000,9,-999.0000,9,-999.0000,9,-999.0000,9,  24.5246,     -999.0,-999.000,     -999.0,          9,     -999.0,          9,-999.000,          9
 33RO200501,       A16S,      85,          1,         33,         33,2,20050210,       2109,   -20.0015,   -24.9992,       5405,    73.3,  23.5593,  36.9279,2,  36.9266,2,    223.4,2,   223.6,2,    1.19,2,    0.01,2,    0.00,2,    0.14,2,-999.000,9,-999.000,9,-999.000,9,  2092.6,2,  2422.5,2,  -999.0,9,   20.00,   8.0529,2,    25.00,-999.000,9, -999.00,-999.000,9,-999.000,9, -999.00,9,  -999.0,9,  -999.0,-999.000,9,-999.000,-999.000,9,   68.31,2,   73.30,-999.0000,9,-999.0000,9,-999.0000,9,-999.0000,9,-999.0000,9,-999.0000,9,  23.5439,     -999.0,-999.000,     -999.0,          9,     -999.0,          9,-999.000,          9
 33RO200501,       A16S,      85,          1,         32,         32,2,20050210,       2109,   -20.0015,   -24.9992,       5405,    98.7,  22.9746,  36.9051,2,  36.9040,2,    220.3,2,   219.9,2,    1.17,2,    0.02,2,    0.00,2,    0.14,2,   1.972,2,   1.251,2,   0.167,2,  2095.6,2,  2420.5,2,   330.3,2,   20.00,   8.0449,2,    25.00,-999.000,9, -999.00,-999.000,9,-999.000,9,    1.68,2,    82.1,2,     3.4,-999.000,9,-999.000,   1.274,4,   65.19,2,   98.70,-999.0000,9,-999.0000,9,-999.0000,9,-999.0000,9,-999.0000,9,-999.0000,9,  22.9543,     -999.0,-999.000,     -999.0,          9,     -999.0,          9,-999.000,          9
 33RO200501,       A16S,      85,          1,         31,         31,2,20050210,       2109,   -20.0015,   -24.9992,       5405,   148.6,  21.7832,  36.7104,2,  36.7145,2,    212.7,2,   211.9,2,    1.28,2,    0.04,2,    0.01,2,    0.14,2,-999.000,9,-999.000,9,-999.000,9,  2100.0,2,  2407.1,2,   350.2,2,   20.00,   8.0245,2,    25.00,-999.000,9, -999.00,-999.000,9,-999.000,9, -999.00,9,  -999.0,9,  -999.0,-999.000,9,-999.000,-999.000,9,   64.15,2,  148.60,-999.0000,9,-999.0000,9,-999.0000,9,-999.0000,9,-999.0000,9,-999.0000,9,  21.7538,     -999.0,-999.000,     -999.0,          9,     -999.0,          9,-999.000,          9
 33RO200501,       A16S,      85,          1,         30,         30,2,20050210,       2109,   -20.0015,   -24.9992,       5405,   199.6,  17.3406,  35.8544,2,  35.8267,2,    201.1,2,   201.9,2,    2.06,2,    3.11,2,    0.02,2,    0.37,2,   2.536,2,   1.506,2,   0.080,2,  2105.3,2,  2338.6,3,  -999.0,9,   20.00,   7.9333,2,    25.00,-999.000,9, -999.00,-999.000,9,-999.000,9,    4.21,4,    74.6,2,     3.9,-999.000,9,-999.000,   0.624,4,   51.83,2,  199.60,-999.0000,9,-999.0000,9,-999.0000,9,-999.0000,9,-999.0000,9,-999.0000,9,  17.3070,     -999.0,-999.000,     -999.0,          9,     -999.0,          9,-999.000,          9
 33RO200501,       A16S,      85,          1,         29,         29,2,20050210,       2109,   -20.0015,   -24.9992,       5405,   248.8,  15.2469,  35.5095,2,  35.5040,2,    201.2,2,   202.6,2,    2.71,2,    6.04,2,    0.01,2,    0.52,2,-999.000,9,-999.000,9,-999.000,9,  2109.7,2,  2319.3,3,   496.0,2,   20.00,   7.8916,2,    25.00,-999.000,9, -999.00,-999.000,9,-999.000,9, -999.00,9,  -999.0,9,  -999.0,-999.000,9,-999.000,-999.000,9,   47.20,2,  248.80,-999.0000,9,-999.0000,9,-999.0000,9,-999.0000,9,-999.0000,9,-999.0000,9,  15.2086,     -999.0,-999.000,     -999.0,          9,     -999.0,          9,-999.000,          9
 33RO200501,       A16S,      85,          1,         28,         28,2,20050210,       2109,   -20.0015,   -24.9992,       5405,   298.0,  13.8946,  35.3066,2,  35.2989,2,    200.1,2,   199.3,2,    3.65,2,    9.24,2,    0.00,2,    0.69,2,   2.835,2,   1.621,2,   0.038,2,  2118.8,2,  2307.0,3,  -999.0,9,   20.00,   7.8518,2,    25.00,-999.000,9, -999.00,-999.000,9,-999.000,9,    1.22,2,    79.6,2,     3.7,-999.000,9,-999.000,   0.558,4,   46.51,2,  298.00,-999.0000,9,-999.0000,9,-999.0000,9,-999.0000,9,-999.0000,9,-999.0000,9,  13.8515,     -999.0,-999.000,     -999.0,          9,     -999.0,          9,-999.000,          9
 33RO200501,       A16S,      85,          1,         27,         27,2,20050210,       2109,   -20.0015,   -24.9992,       5405,   399.0,  11.2892,  34.9695,2,  34.9817,2,    176.9,2,   177.3,2,    7.02,2,   17.06,2,    0.00,2,    1.13,2,-999.000,9,-999.000,9,-999.000,9,  2148.7,2,  2289.7,3,   700.2,2,   20.00,   7.7563,2,    25.00,-999.000,9, -999.00,-999.000,9,-999.000,9,    3.84,4,    53.8,2,     4.1,-999.000,9,-999.000,-999.000,9,   43.67,2,  399.00,-999.0000,9,-999.0000,9,-999.0000,9,-999.0000,9,-999.0000,9,-999.0000,9,  11.2388,     -999.0,-999.000,     -999.0,          9,     -999.0,          9,-999.000,          9
 33RO200501,       A16S,      85,          1,         26,         26,2,20050210,       2109,   -20.0015,   -24.9992,       5405,   499.2,   8.7698,  34.6930,2,  34.6892,2,    171.9,2,   171.7,2,   12.40,2,   23.66,2,    0.00,2,    1.54,2,   2.159,2,   1.131,2,   0.061,2,  2171.2,2,  2280.3,3,   859.6,2,   20.00,   7.6773,2,    25.00,-999.000,9, -999.00,-999.000,9,-999.000,9,    1.04,2,    20.9,2,     4.0,-999.000,9,-999.000,   0.970,4,   42.51,2,  499.20,-999.0000,9,-999.0000,9,-999.0000,9,-999.0000,9,-999.0000,9,-999.0000,9,   8.7157,     -999.0,-999.000,     -999.0,          9,     -999.0,          9,-999.000,          9
 33RO200501,       A16S,      85,          1,         25,         25,2,20050210,       2109,   -20.0015,   -24.9992,       5405,   599.5,   6.9202,  34.5290,2,  34.5277,2,    169.5,2,   170.5,2,   18.05,2,   28.13,2,    0.00,2,    1.81,2,-999.000,9,-999.000,9,-999.000,9,  2187.9,2,  2290.9,2,   974.2,2,   20.00,   7.6277,2,    25.00,-999.000,9, -999.00,-999.000,9,-999.000,9,    1.03,2,   -19.4,2,     3.2,-999.000,9,-999.000,-999.000,9,   41.16,2,  599.50,-999.0000,9,-999.0000,9,-999.0000,9,-999.0000,9,-999.0000,9,-999.0000,9,   6.8632,     -999.0,-999.000,     -999.0,          9,     -999.0,          9,-999.000,          9
 33RO200501,       A16S,      85,          1,         24,         24,2,20050210,       2109,   -20.0015,   -24.9992,       5405,   699.2,   5.5568,  34.4430,2,  34.4421,2,    171.5,2,   173.0,2,   24.33,2,   30.85,2,    0.00,2,    1.99,2,   1.041,2,   0.520,2,   0.027,2,  2199.0,2,  2293.5,2,  1043.1,2,   20.00,   7.6008,2,    25.00,-999.000,9, -999.00,-999.000,9,-999.000,9,    1.00,2,   -46.9,2,     3.1,-999.000,9,-999.000,   0.964,4, -999.00,9,  699.20,-999.0000,9,-999.0000,9,-999.0000,9,-999.0000,9,-999.0000,9,-999.0000,9,   5.4971,     -999.0,-999.000,     -999.0,          9,     -999.0,          9,-999.000,          9
 33RO200501,       A16S,      85,          1,         23,         23,2,20050210,       2109,   -20.0015,   -24.9992,       5405,   799.1,   4.5498,  34.4198,2,  34.4217,2,    175.1,2,   176.1,2,   31.35,2,   32.17,2,    0.00,2,    2.09,2,-999.000,9,-999.000,9,-999.000,9,  2207.2,2,  2297.4,2,  1078.2,2,   20.00,-999.0000,9,    25.00,-999.000,9, -999.00,-999.000,9,-999.000,9,    0.99,2,   -75.8,2,     3.0,-999.000,9,-999.000,-999.000,9,   40.24,2,  799.10,-999.0000,9,-999.0000,9,-999.0000,9,-999.0000,9,-999.0000,9,-999.0000,9,   4.4872,     -999.0,-999.000,     -999.0,          9,     -999.0,          9,-999.000,          9
 33RO200501,       A16S,      85,          1,         22,         22,2,20050210,       2109,   -20.0015,   -24.9992,       5405,   848.8,   4.2127,  34.4300,2,  34.4307,2,    176.7,2,   177.6,2,   34.54,2,   32.41,2,    0.00,2,    2.11,2,   0.361,2,   0.179,2,   0.009,2,  2210.8,2,  2294.3,6,  1082.9,2,   20.00,   7.5868,6,    25.00,-999.000,9, -999.00,-999.000,9,-999.000,9,    0.98,2,  -100.9,2,     3.4,-999.000,9,-999.000,   0.561,4, -999.00,9,  848.80,-999.0000,9,-999.0000,9,-999.0000,9,-999.0000,9,-999.0000,9,-999.0000,9,   4.1481,     -999.0,-999.000,     -999.0,          9,     -999.0,          9,-999.000,          9
 33RO200501,       A16S,      85,          1,         21,         21,2,20050210,       2109,   -20.0015,   -24.9992,       5405,   999.1,   3.7091,  34.4994,2,  34.4990,2,    181.4,2,   181.5,2,   40.16,2,   31.89,2,    0.00,2,    2.09,2,   0.124,2,   0.067,2,   0.006,2,  2215.6,6,  2309.4,2,  1069.5,2,   20.00,   7.5936,2,    25.00,-999.000,9, -999.00,-999.000,9,-999.000,9,    0.93,2,  -108.3,2,     3.5,-999.000,9,-999.000,   0.298,4,   39.45,2,  999.10,-999.0000,9,-999.0000,9,-999.0000,9,-999.0000,9,-999.0000,9,-999.0000,9,   3.6358,     -999.0,-999.000,     -999.0,          9,     -999.0,          9,-999.000,          9
 33RO200501,       A16S,      85,          1,         20,         20,2,20050210,       2109,   -20.0015,   -24.9992,       5405,  1098.9,   3.5959,  34.5730,2,  34.5735,2,    185.0,2,   184.6,2,   41.36,6,   30.94,6,    0.00,6,    2.03,6,   0.065,2,   0.035,2,   0.002,2,  2218.3,2,  2299.0,2,  1039.9,2,   20.00,   7.6027,2,    25.00,-999.000,9, -999.00,-999.000,9,-999.000,9,    0.92,2,  -119.9,2,     3.2,-999.000,9,-999.000,   0.192,4, -999.00,9, 1098.90,-999.0000,9,-999.0000,9,-999.0000,9,-999.0000,9,-999.0000,9,-999.0000,9,   3.5152,     -999.0,-999.000,     -999.0,          9,     -999.0,          9,-999.000,          9
 33RO200501,       A16S,      85,          1,         19,         19,2,20050210,       2109,   -20.0015,   -24.9992,       5405,  1298.6,   3.8212,  34.7740,2,  34.7771,2,    199.3,2,   199.3,2,   32.50,2,   26.83,2,    0.00,2,    1.73,2,   0.027,2,   0.018,2,   0.000,2,  2202.0,2,  2303.6,2,   932.7,2,   20.00,   7.6478,2,    25.00,-999.000,9, -999.00,-999.000,9,-999.000,9,    0.95,2,   -94.0,2,     3.4,-999.000,9,-999.000,   0.113,4,   39.96,2, 1298.60,-999.0000,9,-999.0000,9,-999.0000,9,-999.0000,9,-999.0000,9,-999.0000,9,   3.7212,     -999.0,-999.000,     -999.0,          9,     -999.0,          9,-999.000,          9
 33RO200501,       A16S,      85,          1,         18,         18,2,20050210,       2109,   -20.0015,   -24.9992,       5405,  1499.4,   3.6981,  34.8765,2,  34.8764,2,    219.6,2,   221.4,2,   28.52,2,   23.67,2,    0.00,2,    1.51,2,   0.033,2,   0.024,2,   0.000,2,  2186.3,2,  2304.6,2,   843.0,2,   20.00,   7.6861,2,    25.00,-999.000,9, -999.00,-999.000,9,-999.000,9,    1.03,2,   -96.1,2,     3.4,-999.000,9,-999.000,   0.131,4, -999.00,9, 1499.40,-999.0000,9,-999.0000,9,-999.0000,9,-999.0000,9,-999.0000,9,-999.0000,9,   3.5816,     -999.0,-999.000,     -999.0,          9,     -999.0,          9,-999.000,          9
 33RO200501,       A16S,      85,          1,         17,         17,2,20050210,       2109,   -20.0015,   -24.9992,       5405,  1698.4,   3.5823,  34.9166,2,  34.9177,2,    233.7,2,   233.6,2,   25.95,2,   21.95,2,    0.00,2,    1.39,2,   0.034,2,   0.022,2,  -0.001,2,  2179.0,2,  2305.9,2,   799.4,2,   20.00,   7.7060,2,    25.00,-999.000,9, -999.00,-999.000,9,-999.000,9,    1.05,2,   -93.3,2,     3.1,-999.000,9,-999.000,   0.153,4,   39.87,2, 1698.40,-999.0000,9,-999.0000,9,-999.0000,9,-999.0000,9,-999.0000,9,-999.0000,9,   3.4492,     -999.0,-999.000,     -999.0,          9,     -999.0,          9,-999.000,          9
 33RO200501,       A16S,      85,          1,         16,         16,2,20050210,       2109,   -20.0015,   -24.9992,       5405,  1898.6,   3.4246,  34.9385,2,  34.9389,2,    243.5,2,   243.6,2,   24.75,2,   20.76,2,    0.00,2,    1.31,2,   0.027,2,   0.022,2,   0.005,2,  2174.0,2,  2307.3,2,   767.3,2,   20.00,   7.7228,2,    25.00,-999.000,9, -999.00,-999.000,9,-999.000,9,    1.17,2,   -98.0,2,     3.1,-999.000,9,-999.000,   0.141,4, -999.00,9, 1898.60,-999.0000,9,-999.0000,9,-999.0000,9,-999.0000,9,-999.0000,9,-999.0000,9,   3.2752,     -999.0,-999.000,     -999.0,          9,     -999.0,          9,-999.000,          9
 33RO200501,       A16S,      85,          1,         15,         15,2,20050210,       2109,   -20.0015,   -24.9992,       5405,  2098.0,   3.2547,  34.9418,2,  34.9412,2,    247.7,2,   247.6,2,   25.62,2,   20.35,2,    0.00,2,    1.30,2,   0.029,2,   0.021,2,   0.000,2,  2173.5,2,  2309.3,2,   758.4,2,   20.00,   7.7301,2,    25.00,-999.000,9, -999.00,-999.000,9,-999.000,9,    1.15,2,  -101.7,2,     3.2,-999.000,9,-999.000,   0.127,4,   40.12,2, 2098.00,-999.0000,9,-999.0000,9,-999.0000,9,-999.0000,9,-999.0000,9,-999.0000,9,   3.0892,     -999.0,-999.000,     -999.0,          9,     -999.0,          9,-999.000,          9
 33RO200501,       A16S,      85,          1,         14,         14,2,20050210,       2109,   -20.0015,   -24.9992,       5405,  2299.0,   3.0722,  34.9367,2,  34.9373,2,    249.0,2,   249.1,2,   27.79,2,   20.34,2,    0.00,2,    1.30,2,   0.026,2,   0.017,2,   0.005,2,  2175.4,2,  2315.9,2,   753.6,2,   20.00,   7.7293,2,    25.00,-999.000,9, -999.00,-999.000,9,-999.000,9,    1.16,2,  -102.0,2,     2.9,-999.000,9,-999.000,   0.108,4, -999.00,9, 2299.00,-999.0000,9,-999.0000,9,-999.0000,9,-999.0000,9,-999.0000,9,-999.0000,9,   2.8905,     -999.0,-999.000,     -999.0,          9,     -999.0,          9,-999.000,          9
 33RO200501,       A16S,      85,          1,         13,         13,2,20050210,       2109,   -20.0015,   -24.9992,       5405,  2499.1,   2.9527,  34.9302,2,  34.9300,2,    248.7,2,   249.5,2,   29.89,2,   20.48,2,    0.00,2,    1.32,2,   0.012,2,   0.010,2,   0.000,2,  2175.9,2,  2315.7,2,   755.8,2,   20.00,   7.7286,2,    25.00,-999.000,9, -999.00,-999.000,9,-999.000,9,    1.14,2,  -102.4,2,     3.5,-999.000,9,-999.000,   0.085,4,   39.89,2, 2499.10,-999.0000,9,-999.0000,9,-999.0000,9,-999.0000,9,-999.0000,9,-999.0000,9,   2.7538,     -999.0,-999.000,     -999.0,          9,     -999.0,          9,-999.000,          9
 33RO200501,       A16S,      85,          1,         12,         12,2,20050210,       2109,   -20.0015,   -24.9992,       5405,  2699.1,   2.8407,  34.9242,2,  34.9243,2,    249.0,2,   249.4,2,   31.81,2,   20.60,2,    0.00,2,    1.33,2,   0.019,2,   0.011,2,   0.000,2,  2178.1,2,  2317.0,2,   758.2,2,   20.00,   7.7273,2,    25.00,-999.000,9, -999.00,-999.000,9,-999.000,9,    1.14,2,   -95.0,2,     3.5,-999.000,9,-999.000,   0.082,4, -999.00,9, 2699.10,-999.0000,9,-999.0000,9,-999.0000,9,-999.0000,9,-999.0000,9,-999.0000,9,   2.6241,     -999.0,-999.000,     -999.0,          9,     -999.0,          9,-999.000,          9
 33RO200501,       A16S,      85,          1,         11,         11,2,20050210,       2109,   -20.0015,   -24.9992,       5405,  2999.2,   2.7314,  34.9183,2,  34.9194,2,    249.7,2,   250.1,2,   33.56,2,   20.62,2,    0.00,2,    1.34,2,   0.009,2,   0.005,2,   0.000,2,  2180.3,2,  2329.2,2,   755.6,2,   20.00,   7.7311,2,    25.00,-999.000,9, -999.00,-999.000,9,-999.000,9,    1.16,2,   -98.4,2,     4.4,-999.000,9,-999.000,   0.080,4,   40.67,2, 2999.20,-999.0000,9,-999.0000,9,-999.0000,9,-999.0000,9,-999.0000,9,-999.0000,9,   2.4866,     -999.0,-999.000,     -999.0,          9,     -999.0,          9,-999.000,          9
 33RO200501,       A16S,      85,          1,         10,         10,2,20050210,       2109,   -20.0015,   -24.9992,       5405,  3299.4,   2.5739,  34.9083,2,  34.9088,2,    250.8,2,   251.4,2,   36.40,2,   20.70,2,    0.00,2,    1.35,2,   0.012,2,   0.010,2,  -0.001,2,  2183.2,2,  2330.7,2,  -999.0,9,   20.00,   7.7253,2,    25.00,-999.000,9, -999.00,-999.000,9,-999.000,9,    1.12,2,  -101.3,2,     3.0,-999.000,9,-999.000,   0.080,4, -999.00,9, 3299.40,-999.0000,9,-999.0000,9,-999.0000,9,-999.0000,9,-999.0000,9,-999.0000,9,   2.3012,     -999.0,-999.000,     -999.0,          9,     -999.0,          9,-999.000,          9
 33RO200501,       A16S,      85,          1,          9,          9,2,20050210,       2109,   -20.0015,   -24.9992,       5405,  3599.6,   2.3151,  34.8840,2,  34.8836,2,    249.0,2,   249.5,2,   45.05,2,   21.77,2,    0.00,2,    1.43,2,   0.007,2,   0.010,2,   0.000,2,  2191.3,2,  2333.6,2,   780.3,2,   20.00,   7.7194,2,    25.00,-999.000,9, -999.00,-999.000,9,-999.000,9,    1.06,2,  -119.8,2,     2.7,-999.000,9,-999.000,   0.070,4,   39.10,2, 3599.60,-999.0000,9,-999.0000,9,-999.0000,9,-999.0000,9,-999.0000,9,-999.0000,9,   2.0167,     -999.0,-999.000,     -999.0,          9,     -999.0,          9,-999.000,          9
 33RO200501,       A16S,      85,          1,          8,          8,2,20050210,       2109,   -20.0015,   -24.9992,       5405,  3899.4,   1.9419,  34.8453,2,  34.8458,2,    243.3,2,   243.8,2,   59.58,2,   23.70,2,    0.00,2,    1.59,2,   0.019,2,   0.008,2,   0.000,2,  2205.0,2,  2342.1,2,   820.4,2,   20.00,   7.7002,2,    25.00,-999.000,9, -999.00,-999.000,9,-999.000,9,    1.01,2,  -138.2,2,     3.7,-999.000,9,-999.000,   0.052,4, -999.00,9, 3899.40,-999.0000,9,-999.0000,9,-999.0000,9,-999.0000,9,-999.0000,9,-999.0000,9,   1.6207,     -999.0,-999.000,     -999.0,          9,     -999.0,          9,-999.000,          9