BOTTLE,20220818CCHSIOAMB
EXPOCODE,SECT_ID,STNNBR,CASTNO,SAMPNO,BTLNBR,BTLNBR_FLAG_W,DATE,TIME,LATITUDE,LONGITUDE,DEPTH,CTDPRS,CTDTMP,CTDSAL,CTDSAL_FLAG_W,SALNTY,SALNTY_FLAG_W,CTDOXY,CTDOXY_FLAG_W,OXYGEN,OXYGEN_FLAG_W,SILCAT,SILCAT_FLAG_W,NITRAT,NITRAT_FLAG_W,NITRIT,NITRIT_FLAG_W,PHSPHT,PHSPHT_FLAG_W,CFC-11,CFC-11_FLAG_W,CFC-12,CFC-12_FLAG_W,CFC113,CFC113_FLAG_W,TCARBN,TCARBN_FLAG_W,ALKALI,ALKALI_FLAG_W,PCO2,PCO2_FLAG_W,PCO2TMP,PH_SWS,PH_SWS_FLAG_W,PH_TMP,TRITUM,TRITUM_FLAG_W,TRITER,HELIUM,HELIUM_FLAG_W,DELHE3,DELHE3_FLAG_W,DELC13,DELC13_FLAG_W,DELC14,DELC14_FLAG_W,C14ERR,NEON,NEON_FLAG_W,NEONER,CCL4,CCL4_FLAG_W,DOC,DOC_FLAG_W,CTDRAW,CDOM325,CDOM325_FLAG_W,CDOM340,CDOM340_FLAG_W,CDOM380,CDOM380_FLAG_W,CDOM412,CDOM412_FLAG_W,CDOMSL,CDOMSL_FLAG_W,CDOMSN,CDOMSN_FLAG_W,THETA,HELIER,DELHER,CH3CL,CH3CL_FLAG_W,CH3BR,CH3BR_FLAG_W,CH3I,CH3I_FLAG_W
,,,,,,,,,,,METERS,DBAR,ITS-90,PSS-78,,PSS-78,,UMOL/KG,,UMOL/KG,,UMOL/KG,,UMOL/KG,,UMOL/KG,,UMOL/KG,,PMOL/KG,,PMOL/KG,,PMOL/KG,,UMOL/KG,,UMOL/KG,,UATM,,DEG C,,,DEG C,TU,,TU,NMOL/KG,,PERCNT,,/MILLE,,/MILLE,,/MILLE,NMOL/KG,,NMOL/KG,PMOL/KG,,UMOL/KG,,DBAR,1/M,,1/M,,1/M,,1/M,,1/NM,,1/NM,,DEG C,NMOL/KG,PERCNT,PMOL/KG,,PMOL/KG,,PMOL/KG,
 33RO200501,       A16S,      86,          1,         36,         36,2,20050211,       0440,   -19.4998,   -25.0002,       5244,     2.5,  26.6017,  37.3183,2,  37.3177,2,    202.0,2,   202.1,2,    1.62,2,    0.02,2,    0.00,2,    0.15,2,   1.674,2,   1.086,2,   0.138,2,  2104.5,6,  2444.7,2,  -999.0,9,   20.00,   8.0618,6,    25.00,-999.000,9, -999.00,-999.000,9,-999.000,9, -999.00,9,  -999.0,9,  -999.0,-999.000,9,-999.000,   1.421,4, -999.00,9,    2.50,-999.0000,9,-999.0000,9,-999.0000,9,-999.0000,9,-999.0000,9,-999.0000,9,  26.6012,     -999.0,-999.000,     66.377,          2,      0.618,          2,   2.285,          2
 33RO200501,       A16S,      86,          1,         35,         35,2,20050211,       0440,   -19.4998,   -25.0002,       5244,    25.0,  26.6000,  37.3176,2,  37.3167,2,    202.9,2,   202.6,2,    1.62,2,    0.02,2,    0.00,2,    0.15,2,-999.000,9,-999.000,9,-999.000,9,  -999.0,9,  -999.0,9,  -999.0,9,   20.00,-999.0000,9,    25.00,-999.000,9, -999.00,-999.000,9,-999.000,9, -999.00,9,  -999.0,9,  -999.0,-999.000,9,-999.000,-999.000,9, -999.00,9,   25.00,-999.0000,9,-999.0000,9,-999.0000,9,-999.0000,9,-999.0000,9,-999.0000,9,  26.5943,     -999.0,-999.000,     71.520,          2,      0.563,          2,   2.515,          2
 33RO200501,       A16S,      86,          1,         34,         34,2,20050211,       0440,   -19.4998,   -25.0002,       5244,    54.4,  25.7065,  37.1874,2,  37.1825,2,    210.2,2,   211.9,2,    1.65,2,    0.02,2,    0.00,2,    0.16,2,   1.774,2,   1.138,2,   0.142,2,  2098.5,2,  2435.6,2,  -999.0,9,   20.00,   8.0515,2,    25.00,-999.000,9, -999.00,-999.000,9,-999.000,9, -999.00,9,  -999.0,9,  -999.0,-999.000,9,-999.000,   1.346,4, -999.00,9,   54.40,-999.0000,9,-999.0000,9,-999.0000,9,-999.0000,9,-999.0000,9,-999.0000,9,  25.6944,     -999.0,-999.000,    136.646,          2,      0.492,          2,   3.987,          2
 33RO200501,       A16S,      86,          1,         33,         33,2,20050211,       0440,   -19.4998,   -25.0002,       5244,    84.6,  23.5145,  36.9313,2,  36.9299,2,    222.9,2,   223.2,2,    1.66,2,    0.03,2,    0.00,2,    0.17,2,-999.000,9,-999.000,9,-999.000,9,  -999.0,9,  -999.0,9,  -999.0,9,   20.00,-999.0000,9,    25.00,-999.000,9, -999.00,-999.000,9,-999.000,9, -999.00,9,  -999.0,9,  -999.0,-999.000,9,-999.000,-999.000,9, -999.00,9,   84.60,-999.0000,9,-999.0000,9,-999.0000,9,-999.0000,9,-999.0000,9,-999.0000,9,  23.4968,     -999.0,-999.000,     -999.0,          9,     -999.0,          9,-999.000,          9
 33RO200501,       A16S,      86,          1,         32,         32,2,20050211,       0440,   -19.4998,   -25.0002,       5244,   115.9,  22.9350,  36.9151,2,  36.9134,2,    218.0,2,   218.3,2,    1.75,2,    0.04,2,    0.00,2,    0.15,2,   1.959,2,   1.240,2,   0.153,2,  2093.8,2,  2420.3,2,  -999.0,9,   20.00,   8.0467,2,    25.00,-999.000,9, -999.00,-999.000,9,-999.000,9, -999.00,9,  -999.0,9,  -999.0,-999.000,9,-999.000,   1.243,4, -999.00,9,  115.90,-999.0000,9,-999.0000,9,-999.0000,9,-999.0000,9,-999.0000,9,-999.0000,9,  22.9112,     -999.0,-999.000,    153.271,          2,      0.291,          2,   2.822,          2
 33RO200501,       A16S,      86,          1,         31,         31,2,20050211,       0440,   -19.4998,   -25.0002,       5244,   164.3,  21.4962,  36.6398,2,  36.6352,2,    208.0,2,   209.3,2,    1.89,2,    0.08,2,    0.02,2,    0.18,2,-999.000,9,-999.000,9,-999.000,9,  -999.0,9,  -999.0,9,  -999.0,9,   20.00,-999.0000,9,    25.00,-999.000,9, -999.00,-999.000,9,-999.000,9, -999.00,9,  -999.0,9,  -999.0,-999.000,9,-999.000,-999.000,9, -999.00,9,  164.30,-999.0000,9,-999.0000,9,-999.0000,9,-999.0000,9,-999.0000,9,-999.0000,9,  21.4640,     -999.0,-999.000,     -999.0,          9,     -999.0,          9,-999.000,          9
 33RO200501,       A16S,      86,          1,         30,         30,2,20050211,       0440,   -19.4998,   -25.0002,       5244,   214.3,  17.2605,  35.8464,2,  35.8392,2,    198.4,2,   199.4,2,    2.81,2,    3.90,2,    0.02,2,    0.44,2,   2.516,2,   1.509,2,   0.085,2,  2107.8,2,  2351.8,2,  -999.0,9,   20.00,   7.9269,2,    25.00,-999.000,9, -999.00,-999.000,9,-999.000,9, -999.00,9,  -999.0,9,  -999.0,-999.000,9,-999.000,   0.603,4, -999.00,9,  214.30,-999.0000,9,-999.0000,9,-999.0000,9,-999.0000,9,-999.0000,9,-999.0000,9,  17.2246,     -999.0,-999.000,      9.366,          2,      0.089,          2,   0.056,          2
 33RO200501,       A16S,      86,          1,         29,         29,2,20050211,       0440,   -19.4998,   -25.0002,       5244,   259.4,  15.3207,  35.5236,2,  35.5123,2,    197.5,2,   198.7,2,    3.53,2,    6.86,2,    0.01,2,    0.58,2,-999.000,9,-999.000,9,-999.000,9,  -999.0,9,  -999.0,9,  -999.0,9,   20.00,-999.0000,9,    25.00,-999.000,9, -999.00,-999.000,9,-999.000,9, -999.00,9,  -999.0,9,  -999.0,-999.000,9,-999.000,-999.000,9, -999.00,9,  259.40,-999.0000,9,-999.0000,9,-999.0000,9,-999.0000,9,-999.0000,9,-999.0000,9,  15.2806,     -999.0,-999.000,     -999.0,          9,     -999.0,          9,-999.000,          9
 33RO200501,       A16S,      86,          1,         28,         28,2,20050211,       0440,   -19.4998,   -25.0002,       5244,   316.3,  13.3252,  35.2277,2,  35.2129,2,    192.2,2,   192.0,2,    5.03,2,   11.49,2,    0.00,2,    0.84,2,   2.812,2,   1.572,2,   0.034,2,  2124.2,2,  2314.0,2,  -999.0,9,   20.00,   7.8265,2,    25.00,-999.000,9, -999.00,-999.000,9,-999.000,9, -999.00,9,  -999.0,9,  -999.0,-999.000,9,-999.000,   0.572,4, -999.00,9,  316.30,-999.0000,9,-999.0000,9,-999.0000,9,-999.0000,9,-999.0000,9,-999.0000,9,  13.2807,     -999.0,-999.000,      4.144,          2,      0.104,          2,   0.015,          2
 33RO200501,       A16S,      86,          1,         27,         27,2,20050211,       0440,   -19.4998,   -25.0002,       5244,   349.5,  12.5502,  35.1248,2,  35.1113,2,    187.9,2,   187.5,2,    5.86,2,   13.70,2,    0.00,2,    0.96,2,-999.000,9,-999.000,9,-999.000,9,  -999.0,9,  -999.0,9,  -999.0,9,   20.00,-999.0000,9,    25.00,-999.000,9, -999.00,-999.000,9,-999.000,9, -999.00,9,  -999.0,9,  -999.0,-999.000,9,-999.000,-999.000,9, -999.00,9,  349.50,-999.0000,9,-999.0000,9,-999.0000,9,-999.0000,9,-999.0000,9,-999.0000,9,  12.5029,     -999.0,-999.000,     -999.0,          9,     -999.0,          9,-999.000,          9
 33RO200501,       A16S,      86,          1,         26,         26,2,20050211,       0440,   -19.4998,   -25.0002,       5244,   449.8,  10.0555,  34.8327,2,  34.8327,2,    166.7,2,   165.8,2,   10.33,2,   21.37,2,    0.00,2,    1.40,2,   2.367,2,   1.259,2,   0.053,2,  2162.5,2,  2296.7,2,  -999.0,9,   20.00,   7.7130,2,    25.00,-999.000,9, -999.00,-999.000,9,-999.000,9, -999.00,9,  -999.0,9,  -999.0,-999.000,9,-999.000,   0.790,4, -999.00,9,  449.80,-999.0000,9,-999.0000,9,-999.0000,9,-999.0000,9,-999.0000,9,-999.0000,9,  10.0025,     -999.0,-999.000,      7.692,          2,      0.269,          2,   0.016,          2
 33RO200501,       A16S,      86,          1,         25,         25,2,20050211,       0440,   -19.4998,   -25.0002,       5244,   550.3,   7.4850,  34.5717,2,  34.5715,2,    172.6,2,   173.5,2,   16.34,2,   26.54,2,    0.00,2,    1.72,2,-999.000,9,-999.000,9,-999.000,9,  -999.0,9,  -999.0,9,  -999.0,9,   20.00,-999.0000,9,    25.00,-999.000,9, -999.00,-999.000,9,-999.000,9, -999.00,9,  -999.0,9,  -999.0,-999.000,9,-999.000,-999.000,9, -999.00,9,  550.30,-999.0000,9,-999.0000,9,-999.0000,9,-999.0000,9,-999.0000,9,-999.0000,9,   7.4305,     -999.0,-999.000,     -999.0,          9,     -999.0,          9,-999.000,          9
 33RO200501,       A16S,      86,          1,         24,         24,2,20050211,       0440,   -19.4998,   -25.0002,       5244,   649.2,   5.8674,  34.4599,2,  34.4582,2,    171.9,2,   173.6,2,   22.89,2,   30.25,2,    0.00,2,    1.95,2,   1.108,2,   0.552,2,   0.030,2,  2191.9,2,  2291.3,2,  -999.0,9,   20.00,   7.6071,2,    25.00,-999.000,9, -999.00,-999.000,9,-999.000,9, -999.00,9,  -999.0,9,  -999.0,-999.000,9,-999.000,   0.974,4, -999.00,9,  649.20,-999.0000,9,-999.0000,9,-999.0000,9,-999.0000,9,-999.0000,9,-999.0000,9,   5.8107,     -999.0,-999.000,      4.665,          2,      0.158,          2,   0.002,          2
 33RO200501,       A16S,      86,          1,         23,         23,2,20050211,       0440,   -19.4998,   -25.0002,       5244,   750.2,   4.5157,  34.3955,2,  34.3950,2,    183.4,2,   186.7,2,   30.90,2,   31.59,2,    0.00,2,    2.06,2,-999.000,9,-999.000,9,-999.000,9,  -999.0,9,  -999.0,9,  -999.0,9,   20.00,-999.0000,9,    25.00,-999.000,9, -999.00,-999.000,9,-999.000,9, -999.00,9,  -999.0,9,  -999.0,-999.000,9,-999.000,-999.000,9, -999.00,9,  750.20,-999.0000,9,-999.0000,9,-999.0000,9,-999.0000,9,-999.0000,9,-999.0000,9,   4.4575,     -999.0,-999.000,     -999.0,          9,     -999.0,          9,-999.000,          9
 33RO200501,       A16S,      86,          1,         22,         22,2,20050211,       0440,   -19.4998,   -25.0002,       5244,   850.0,   3.9473,  34.4098,2,  34.4103,2,    188.9,2,   187.8,2,   37.12,2,   32.04,2,    0.00,2,    2.11,2,-999.000,9,-999.000,9,-999.000,9,  -999.0,9,  -999.0,9,  -999.0,9,   20.00,-999.0000,9,    25.00,-999.000,9, -999.00,-999.000,9,-999.000,9, -999.00,9,  -999.0,9,  -999.0,-999.000,9,-999.000,-999.000,9, -999.00,9,  850.00,-999.0000,9,-999.0000,9,-999.0000,9,-999.0000,9,-999.0000,9,-999.0000,9,   3.8844,     -999.0,-999.000,     -999.0,          9,     -999.0,          9,-999.000,          9
 33RO200501,       A16S,      86,          1,         21,         21,2,20050211,       0440,   -19.4998,   -25.0002,       5244,   943.9,   3.6509,  34.4626,2,  34.4611,2,    186.8,2,   186.4,2,   41.65,2,   32.11,2,    0.00,2,    2.11,2,   0.302,2,   0.152,2,   0.013,2,  2211.8,2,  2308.4,2,  -999.0,9,   20.00,   7.6007,2,    25.00,-999.000,9, -999.00,-999.000,9,-999.000,9, -999.00,9,  -999.0,9,  -999.0,-999.000,9,-999.000,   0.527,4, -999.00,9,  943.90,-999.0000,9,-999.0000,9,-999.0000,9,-999.0000,9,-999.0000,9,-999.0000,9,   3.5825,     -999.0,-999.000,      2.601,          2,      0.126,          2,   0.011,          2
 33RO200501,       A16S,      86,          1,         20,         20,2,20050211,       0440,   -19.4998,   -25.0002,       5244,  1034.1,   3.5744,  34.5269,2,  34.5257,2,    186.0,2,   186.0,2,   42.54,6,   31.55,6,    0.00,6,    2.08,6,-999.000,9,-999.000,9,-999.000,9,  -999.0,9,  -999.0,9,  -999.0,9,   20.00,-999.0000,9,    25.00,-999.000,9, -999.00,-999.000,9,-999.000,9, -999.00,9,  -999.0,9,  -999.0,-999.000,9,-999.000,-999.000,9, -999.00,9, 1034.10,-999.0000,9,-999.0000,9,-999.0000,9,-999.0000,9,-999.0000,9,-999.0000,9,   3.4993,     -999.0,-999.000,     -999.0,          9,     -999.0,          9,-999.000,          9
 33RO200501,       A16S,      86,          1,         19,         19,2,20050211,       0440,   -19.4998,   -25.0002,       5244,  1142.2,   3.6297,  34.6246,2,  34.6222,2,    187.1,2,   186.8,2,   40.67,2,   30.33,2,    0.00,2,    1.98,2,   0.034,2,   0.019,2,   0.000,2,  2211.0,2,  2314.9,2,  -999.0,9,   20.00,   7.6131,2,    25.00,-999.000,9, -999.00,-999.000,9,-999.000,9, -999.00,9,  -999.0,9,  -999.0,-999.000,9,-999.000,   0.148,4, -999.00,9, 1142.20,-999.0000,9,-999.0000,9,-999.0000,9,-999.0000,9,-999.0000,9,-999.0000,9,   3.5451,     -999.0,-999.000,     -999.0,          9,     -999.0,          9,-999.000,          9
 33RO200501,       A16S,      86,          1,         18,         18,2,20050211,       0440,   -19.4998,   -25.0002,       5244,  1299.1,   3.8262,  34.7737,2,  34.7769,2,    197.5,2,   198.5,2,   33.65,2,   27.17,2,    0.00,2,    1.76,2,-999.000,9,-999.000,9,-999.000,9,  -999.0,9,  -999.0,9,  -999.0,9,   20.00,-999.0000,9,    25.00,-999.000,9, -999.00,-999.000,9,-999.000,9, -999.00,9,  -999.0,9,  -999.0,-999.000,9,-999.000,-999.000,9, -999.00,9, 1299.10,-999.0000,9,-999.0000,9,-999.0000,9,-999.0000,9,-999.0000,9,-999.0000,9,   3.7261,     -999.0,-999.000,      8.298,          2,      0.912,          2,   0.019,          2
 33RO200501,       A16S,      86,          1,         17,         17,2,20050211,       0440,   -19.4998,   -25.0002,       5244,  1500.0,   3.7220,  34.8761,2,  34.8809,2,    218.1,2,   219.5,2,   29.14,2,   23.84,2,    0.00,2,    1.53,2,-999.000,9,-999.000,9,-999.000,9,  -999.0,9,  -999.0,9,  -999.0,9,   20.00,-999.0000,9,    25.00,-999.000,9, -999.00,-999.000,9,-999.000,9, -999.00,9,  -999.0,9,  -999.0,-999.000,9,-999.000,-999.000,9, -999.00,9, 1500.00,-999.0000,9,-999.0000,9,-999.0000,9,-999.0000,9,-999.0000,9,-999.0000,9,   3.6052,     -999.0,-999.000,     -999.0,          9,     -999.0,          9,-999.000,          9
 33RO200501,       A16S,      86,          1,         16,         16,2,20050211,       0440,   -19.4998,   -25.0002,       5244,  1688.6,   3.5619,  34.9221,2,  34.9214,2,    234.4,2,   235.3,2,   26.48,2,   21.84,2,    0.00,2,    1.39,2,   0.034,2,   0.023,2,   0.000,2,  2177.0,2,  2311.8,2,  -999.0,9,   20.00,   7.7108,2,    25.00,-999.000,9, -999.00,-999.000,9,-999.000,9, -999.00,9,  -999.0,9,  -999.0,-999.000,9,-999.000,   0.152,4, -999.00,9, 1688.60,-999.0000,9,-999.0000,9,-999.0000,9,-999.0000,9,-999.0000,9,-999.0000,9,   3.4299,     -999.0,-999.000,     -999.0,          9,     -999.0,          9,-999.000,          9
 33RO200501,       A16S,      86,          1,         15,         15,2,20050211,       0440,   -19.4998,   -25.0002,       5244,  1895.7,   3.3997,  34.9416,2,  34.9423,2,    244.5,2,   245.0,2,   25.43,2,   20.69,2,    0.00,2,    1.31,2,-999.000,9,-999.000,9,-999.000,9,  -999.0,9,  -999.0,9,  -999.0,9,   20.00,-999.0000,9,    25.00,-999.000,9, -999.00,-999.000,9,-999.000,9, -999.00,9,  -999.0,9,  -999.0,-999.000,9,-999.000,-999.000,9, -999.00,9, 1895.70,-999.0000,9,-999.0000,9,-999.0000,9,-999.0000,9,-999.0000,9,-999.0000,9,   3.2509,     -999.0,-999.000,      3.840,          2,      0.145,          2,   0.017,          2
 33RO200501,       A16S,      86,          1,         14,         14,2,20050211,       0440,   -19.4998,   -25.0002,       5244,  2100.0,   3.2431,  34.9429,2,  34.9431,2,    248.6,2,   248.4,2,   26.46,2,   20.39,2,    0.00,2,    1.30,2,   0.023,2,   0.016,2,   0.000,2,  2171.9,2,  2315.3,2,  -999.0,9,   20.00,   7.7309,2,    25.00,-999.000,9, -999.00,-999.000,9,-999.000,9, -999.00,9,  -999.0,9,  -999.0,-999.000,9,-999.000,   0.127,4, -999.00,9, 2100.00,-999.0000,9,-999.0000,9,-999.0000,9,-999.0000,9,-999.0000,9,-999.0000,9,   3.0776,     -999.0,-999.000,     -999.0,          9,     -999.0,          9,-999.000,          9
 33RO200501,       A16S,      86,          1,         13,         13,2,20050211,       0440,   -19.4998,   -25.0002,       5244,  2294.7,   3.0821,  34.9376,2,  34.9383,2,    249.7,2,   249.7,2,   28.53,2,   20.40,2,    0.00,2,    1.31,2,-999.000,9,-999.000,9,-999.000,9,  -999.0,9,  -999.0,9,  -999.0,9,   20.00,-999.0000,9,    25.00,-999.000,9, -999.00,-999.000,9,-999.000,9, -999.00,9,  -999.0,9,  -999.0,-999.000,9,-999.000,-999.000,9, -999.00,9, 2294.70,-999.0000,9,-999.0000,9,-999.0000,9,-999.0000,9,-999.0000,9,-999.0000,9,   2.9007,     -999.0,-999.000,     -999.0,          9,     -999.0,          9,-999.000,          9
 33RO200501,       A16S,      86,          1,         12,         12,2,20050211,       0440,   -19.4998,   -25.0002,       5244,  2499.0,   2.9521,  34.9310,2,  34.9301,2,    249.6,2,   249.5,2,   30.87,2,   20.60,2,    0.00,2,    1.33,2,   0.018,2,   0.013,2,   0.000,2,  2175.2,2,  2318.9,2,  -999.0,9,   20.00,   7.7320,2,    25.00,-999.000,9, -999.00,-999.000,9,-999.000,9, -999.00,9,  -999.0,9,  -999.0,-999.000,9,-999.000,   0.088,4, -999.00,9, 2499.00,-999.0000,9,-999.0000,9,-999.0000,9,-999.0000,9,-999.0000,9,-999.0000,9,   2.7532,     -999.0,-999.000,      6.602,          2,      0.406,          2,   0.021,          2
 33RO200501,       A16S,      86,          1,         11,         11,2,20050211,       0440,   -19.4998,   -25.0002,       5244,  2700.7,   2.8509,  34.9245,2,  34.9250,2,    249.3,2,   249.3,2,   32.91,2,   20.74,2,    0.00,2,    1.34,2,-999.000,9,-999.000,9,-999.000,9,  -999.0,9,  -999.0,9,  -999.0,9,   20.00,-999.0000,9,    25.00,-999.000,9, -999.00,-999.000,9,-999.000,9, -999.00,9,  -999.0,9,  -999.0,-999.000,9,-999.000,-999.000,9, -999.00,9, 2700.70,-999.0000,9,-999.0000,9,-999.0000,9,-999.0000,9,-999.0000,9,-999.0000,9,   2.6340,     -999.0,-999.000,     -999.0,          9,     -999.0,          9,-999.000,          9
 33RO200501,       A16S,      86,          1,         10,         10,2,20050211,       0440,   -19.4998,   -25.0002,       5244,  2939.1,   2.7566,  34.9197,2,  34.9207,2,    249.8,2,   250.1,2,   34.37,2,   20.77,2,    0.00,2,    1.35,2,-999.000,9,-999.000,9,-999.000,9,  -999.0,9,  -999.0,9,  -999.0,9,   20.00,-999.0000,9,    25.00,-999.000,9, -999.00,-999.000,9,-999.000,9, -999.00,9,  -999.0,9,  -999.0,-999.000,9,-999.000,-999.000,9, -999.00,9, 2939.10,-999.0000,9,-999.0000,9,-999.0000,9,-999.0000,9,-999.0000,9,-999.0000,9,   2.5175,     -999.0,-999.000,      2.446,          2,      0.118,          2,   0.007,          2
 33RO200501,       A16S,      86,          1,          9,          9,2,20050211,       0440,   -19.4998,   -25.0002,       5244,  3244.7,   2.6238,  34.9118,2,  34.9122,2,    251.1,2,   251.5,2,   36.48,2,   20.80,2,    0.00,2,    1.35,2,-999.000,9,-999.000,9,-999.000,9,  -999.0,9,  -999.0,9,  -999.0,9,   20.00,-999.0000,9,    25.00,-999.000,9, -999.00,-999.000,9,-999.000,9, -999.00,9,  -999.0,9,  -999.0,-999.000,9,-999.000,-999.000,9, -999.00,9, 3244.70,-999.0000,9,-999.0000,9,-999.0000,9,-999.0000,9,-999.0000,9,-999.0000,9,   2.3558,     -999.0,-999.000,     -999.0,          9,     -999.0,          9,-999.000,          9
 33RO200501,       A16S,      86,          1,          8,          8,2,20050211,       0440,   -19.4998,   -25.0002,       5244,  3543.9,   2.4367,  34.8945,2,  34.8951,2,    249.7,2,   250.2,2,   42.31,2,   21.46,2,    0.00,2,    1.41,2,-999.000,9,-999.000,9,-999.000,9,  -999.0,9,  -999.0,9,  -999.0,9,   20.00,-999.0000,9,    25.00,-999.000,9, -999.00,-999.000,9,-999.000,9, -999.00,9,  -999.0,9,  -999.0,-999.000,9,-999.000,-999.000,9, -999.00,9, 3543.90,-999.0000,9,-999.0000,9,-999.0000,9,-999.0000,9,-999.0000,9,-999.0000,9,   2.1411,     -999.0,-999.000,      3.732,          2,      0.131,          2,   0.023,          2