BOTTLE,20220818CCHSIOAMB
EXPOCODE,SECT_ID,STNNBR,CASTNO,SAMPNO,BTLNBR,BTLNBR_FLAG_W,DATE,TIME,LATITUDE,LONGITUDE,DEPTH,CTDPRS,CTDTMP,CTDSAL,SALNTY,SALNTY_FLAG_W,CTDOXY,CTDOXY_FLAG_W,OXYGEN,OXYGEN_FLAG_W,SILCAT,SILCAT_FLAG_W,NITRAT,NITRAT_FLAG_W,NITRIT,NITRIT_FLAG_W,PHSPHT,PHSPHT_FLAG_W,CFC-11,CFC-11_FLAG_W,CFC-12,CFC-12_FLAG_W,CFC113,CFC113_FLAG_W,SF6,SF6_FLAG_W,TCARBN,TCARBN_FLAG_W,ALKALI,ALKALI_FLAG_W,PH_SWS,PH_SWS_FLAG_W,PH_TMP,TRITUM,TRITUM_FLAG_W,HELIUM,HELIUM_FLAG_W,DELHE3,DELHE3_FLAG_W,DELC13,DELC13_FLAG_W,DELC14,DELC14_FLAG_W,C14ERR,NEON,NEON_FLAG_W,NEONER,DOC,DOC_FLAG_W,TRITER,HELIER,DELHER,THETA,SBE35,SBE35_FLAG_W,BTL_DATE,BTL_TIME
,,,,,,,,,,,METERS,DBAR,ITS-90,PSS-78,PSS-78,,UMOL/KG,,UMOL/KG,,UMOL/KG,,UMOL/KG,,UMOL/KG,,UMOL/KG,,PMOL/KG,,PMOL/KG,,PMOL/KG,,FMOL/KG,,UMOL/KG,,UMOL/KG,,,,DEG C,TU,,NMOL/KG,,PERCNT,,/MILLE,,/MILLE,,/MILLE,NMOL/KG,,NMOL/KG,UMOL/KG,,TU,NMOL/KG,PERCNT,DEG C,ITS-90,,,
318M20091121,        P06,      60,          1,         36,         36,2,20091207,       2038,   -30.0800,   176.0000,       4254,     5.5,  21.9500,  35.6072,  35.6063,2,    225.0,2,   224.6,2,    0.42,2,    0.04,2,    0.00,2,    0.07,2,   1.927,2,   1.218,2,-999.000,1,    1.144,2,  2032.7,6,  2331.9,2,   8.0294,6,    25.00,   0.401,2,   1.7334,2,   -1.49,2, -999.00,9,  -999.0,9,  -999.0,   7.010,2,   0.032,    64.5,2,   0.017,   0.0073,    0.15,  21.9489,  21.9531,2,20091207,       2252
318M20091121,        P06,      60,          1,         35,         35,2,20091207,       2038,   -30.0800,   176.0000,       4254,    34.4,  19.4589,  35.5771,  35.5799,2,    238.3,2,   237.6,2,    0.20,2,    0.00,2,    0.00,2,    0.07,2,   2.064,2,   1.302,2,-999.000,1,    1.185,2,  2027.7,2,  2332.0,6,   8.0254,2,    25.00,-999.000,9,-999.0000,9, -999.00,9, -999.00,9,  -999.0,9,  -999.0,-999.000,9,-999.000,    62.4,2,-999.000,-999.0000, -999.00,  19.4527,  19.4400,2,20091207,       2249
318M20091121,        P06,      60,          1,         34,         34,2,20091207,       2038,   -30.0800,   176.0000,       4254,    60.0,  18.5136,  35.5725,  35.5696,2,    231.7,2,   231.8,2,    0.39,2,    0.00,2,    0.00,2,    0.11,2,   2.105,6,   1.337,6,-999.000,1,    1.175,6,  2041.4,2,  2331.9,2,   8.0237,2,    25.00,   0.405,2,   1.7595,2,   -1.24,2, -999.00,9,  -999.0,9,  -999.0,   7.179,2,   0.033,    59.2,2,   0.020,   0.0074,    0.15,  18.5031,  18.5077,2,20091207,       2247
318M20091121,        P06,      60,          1,         33,         33,2,20091207,       2038,   -30.0800,   176.0000,       4254,    85.1,  17.6729,  35.5795,  35.5797,2,    222.0,2,   222.9,2,    0.58,2,    1.09,2,    0.16,2,    0.21,2,   2.209,2,   1.380,2,-999.000,1,    1.141,2,  2059.5,2,  2331.1,2,   7.9890,2,    25.00,-999.000,9,-999.0000,9, -999.00,9, -999.00,9,  -999.0,9,  -999.0,-999.000,9,-999.000,    55.3,2,-999.000,-999.0000, -999.00,  17.6585,  17.6666,2,20091207,       2245
318M20091121,        P06,      60,          1,         32,         32,2,20091207,       2038,   -30.0800,   176.0000,       4254,   111.0,  17.1874,  35.5862,  35.5850,2,    225.6,2,   224.1,2,    0.76,2,    2.06,2,    0.03,2,    0.25,2,   2.263,2,   1.419,2,-999.000,1,    1.232,2,  2064.4,2,  2331.3,2,   7.9747,2,    25.00,   0.372,2,   1.9319,2,   -1.25,2, -999.00,9,  -999.0,9,  -999.0,   7.593,2,   0.035,  -999.0,5,   0.017,   0.0081,    0.15,  17.1689,  17.1879,2,20091207,       2243
318M20091121,        P06,      60,          1,         31,         31,2,20091207,       2038,   -30.0800,   176.0000,       4254,   136.2,  16.8840,  35.5991,  35.5994,2,    228.3,2,   228.4,2,    0.74,2,    2.31,2,    0.02,2,    0.26,2,   2.248,2,   1.418,2,-999.000,1,    1.176,2,  2066.4,2,  2332.7,2,   7.9699,2,    25.00,-999.000,9,-999.0000,9, -999.00,9, -999.00,9,  -999.0,9,  -999.0,-999.000,9,-999.000,    55.9,2,-999.000,-999.0000, -999.00,  16.8616,  16.8829,2,20091207,       2240
318M20091121,        P06,      60,          1,         30,         30,2,20091207,       2038,   -30.0800,   176.0000,       4254,   164.1,  16.7428,  35.6054,  35.6046,2,    229.2,2,   229.2,2,    0.73,2,    2.41,2,    0.01,2,    0.27,2,   2.280,2,   1.430,2,-999.000,1,    1.159,2,  2067.8,2,  2333.7,2,   7.9788,2,    25.00,   0.346,2,   1.8554,2,   -1.10,2, -999.00,9,  -999.0,9,  -999.0,   7.322,2,   0.034,    55.3,2,   0.017,   0.0078,    0.15,  16.7159,  16.7431,2,20091207,       2238
318M20091121,        P06,      60,          1,         29,         29,2,20091207,       2038,   -30.0800,   176.0000,       4254,   215.8,  16.5076,  35.5753,  35.5756,2,    226.7,2,   227.0,2,    0.92,2,    2.94,2,    0.01,2,    0.31,2,   2.287,2,   1.446,2,-999.000,1,    1.188,2,  2070.7,2,  2331.8,2,   7.9614,2,    25.00,   0.354,2,   1.8749,2,   -1.09,2, -999.00,9,  -999.0,9,  -999.0,   7.422,2,   0.034,    49.9,2,   0.017,   0.0079,    0.15,  16.4725,  16.5085,2,20091207,       2235
318M20091121,        P06,      60,          1,         28,         28,2,20091207,       2038,   -30.0800,   176.0000,       4254,   265.5,  15.7800,  35.4802,  35.4762,2,    215.4,2,   214.9,2,    1.49,2,    5.38,2,    0.01,2,    0.47,2,   2.305,2,   1.435,2,-999.000,1,    1.017,2,  2084.7,2,  2325.5,2,   7.9234,2,    25.00,   0.336,2,   1.7854,2,   -0.68,2, -999.00,9,  -999.0,9,  -999.0,   7.166,2,   0.033,    47.9,2,   0.017,   0.0075,    0.15,  15.7381,  15.7879,2,20091207,       2232
318M20091121,        P06,      60,          1,         27,         27,2,20091207,       2038,   -30.0800,   176.0000,       4254,   316.8,  14.7141,  35.3521,  35.3433,2,    211.2,2,   210.7,2,    2.27,2,    7.36,2,    0.01,2,    0.61,2,   2.365,2,   1.448,2,-999.000,1,    1.028,2,  2097.6,2,  2320.4,2,   7.9066,2,    25.00,   0.310,2,   1.7615,2,   -0.79,2, -999.00,9,  -999.0,9,  -999.0,   7.188,2,   0.033,    49.3,2,   0.017,   0.0074,    0.15,  14.6664,  14.7493,3,20091207,       2229
318M20091121,        P06,      60,          1,         26,         26,2,20091207,       2038,   -30.0800,   176.0000,       4254,   367.5,  13.4625,  35.1878,  35.1896,2,    203.4,2,   200.7,2,    3.06,2,   10.45,2,    0.01,2,    0.79,2,   2.430,2,   1.451,2,-999.000,1,    1.028,2,  2113.8,2,  2313.4,2,   7.8507,2,    25.00,   0.271,2,   1.7697,2,   -0.17,2, -999.00,9,  -999.0,9,  -999.0,   7.241,2,   0.033,    48.3,2,   0.017,   0.0074,    0.15,  13.4104,  13.4721,2,20091207,       2225
318M20091121,        P06,      60,          1,         25,         25,2,20091207,       2038,   -30.0800,   176.0000,       4254,   418.3,  11.8556,  34.9684,  34.9677,2,    200.3,2,   200.1,2,    3.84,2,   13.61,2,    0.01,2,    1.00,2,   2.486,2,   1.440,2,-999.000,1,    0.798,2,  2123.8,2,  2305.0,2,   7.8150,2,    25.00,   0.235,2,   1.7508,2,    0.11,2, -999.00,9,  -999.0,9,  -999.0,   7.311,2,   0.034,    44.6,2,   0.017,   0.0074,    0.15,  11.8010,  11.8560,2,20091207,       2223
318M20091121,        P06,      60,          1,         24,         24,2,20091207,       2038,   -30.0800,   176.0000,       4254,   468.6,  10.8957,  34.8556,  34.8566,2,    202.4,2,   201.9,2,    4.81,2,   15.63,2,    0.00,2,    1.12,2,   2.488,2,   1.426,2,-999.000,1,    0.781,2,  2130.4,2,  2300.2,2,   7.7820,2,    25.00,-999.000,9,-999.0000,9, -999.00,9, -999.00,9,  -999.0,9,  -999.0,-999.000,9,-999.000,    45.0,2,-999.000,-999.0000, -999.00,  10.8376,  10.8952,2,20091207,       2220
318M20091121,        P06,      60,          1,         23,         23,2,20091207,       2038,   -30.0800,   176.0000,       4254,   535.3,   9.8412,  34.7377,  34.7371,2,    204.3,2,   204.5,2,    6.19,2,   17.96,2,    0.00,2,    1.28,2,   2.439,2,   1.380,2,-999.000,1,    0.625,2,  2138.0,2,  2296.4,2,   7.7526,4,    25.00,   0.115,2,   1.7749,2,    0.51,2, -999.00,9,  -999.0,9,  -999.0,   7.421,2,   0.034,    41.8,2,   0.017,   0.0075,    0.15,   9.7788,   9.8371,2,20091207,       2218
318M20091121,        P06,      60,          1,         22,         22,2,20091207,       2038,   -30.0800,   176.0000,       4254,   635.7,   8.1084,  34.5225,  34.5232,2,    216.2,2,   216.8,2,    7.17,2,   20.93,2,    0.00,2,    1.47,2,   2.445,2,   1.289,2,-999.000,1,    0.429,2,  2143.3,2,  2287.1,2,   7.7315,2,    25.00,   0.126,2,-999.0000,9, -999.00,9, -999.00,9,  -999.0,9,  -999.0,-999.000,9,-999.000,  -999.0,9,   0.017,-999.0000, -999.00,   8.0422,   8.0845,3,20091207,       2215
318M20091121,        P06,      60,          1,         21,         21,2,20091207,       2038,   -30.0800,   176.0000,       4254,   737.1,   7.2079,  34.4395,  34.4409,2,    220.3,2,   220.7,2,    9.54,2,   22.94,2,    0.00,2,    1.60,2,   2.100,2,   1.109,2,-999.000,1,    0.266,2,  2149.1,2,  2287.1,2,   7.7081,2,    25.00,   0.094,2,   1.7933,2,    1.52,2, -999.00,9,  -999.0,9,  -999.0,   7.513,2,   0.035,    39.9,2,   0.017,   0.0075,    0.15,   7.1357,   7.1984,2,20091207,       2211
318M20091121,        P06,      60,          1,         20,         20,2,20091207,       2038,   -30.0800,   176.0000,       4254,   839.8,   6.1225,  34.3603,  34.3601,2,    217.1,2,   219.1,2,   14.12,2,   25.72,2,    0.00,2,    1.80,2,   1.367,2,   0.712,2,-999.000,1,    0.133,2,  2158.1,2,  2288.8,2,   7.6801,2,    25.00,   0.064,2,   1.7893,2,    2.04,2, -999.00,9,  -999.0,9,  -999.0,   7.631,2,   0.035,  -999.0,9,   0.017,   0.0075,    0.15,   6.0465,   6.1224,2,20091207,       2208
318M20091121,        P06,      60,          1,         19,         19,2,20091207,       2038,   -30.0800,   176.0000,       4254,   941.8,   5.5004,  34.3556,  34.3556,2,    207.1,2,   207.4,2,   21.49,2,   27.93,2,    0.00,2,    1.95,2,   0.839,2,   0.466,2,-999.000,1,        0,2,  2173.1,2,  2293.3,2,   7.6826,4,    25.00,   0.045,2,   1.8167,2,    3.38,2, -999.00,9,  -999.0,9,  -999.0,   7.674,2,   0.035,    37.8,2,   0.017,   0.0076,    0.15,   5.4190,   5.5011,2,20091207,       2205
318M20091121,        P06,      60,          1,         18,         18,2,20091207,       2038,   -30.0800,   176.0000,       4254,  1043.7,   4.8690,  34.3623,  34.3615,2,    195.5,2,   195.6,2,   30.73,2,   30.01,2,    0.00,2,    2.10,2,   0.482,2,   0.287,2,-999.000,1,        0,2,  2190.1,6,  2303.1,2,   7.6133,2,    25.00,   0.041,2,   1.8181,2,    5.06,2, -999.00,9,  -999.0,9,  -999.0,   7.647,2,   0.035,  -999.0,9,   0.017,   0.0076,    0.15,   4.7830,   4.8681,2,20091207,       2202
318M20091121,        P06,      60,          1,         17,         17,2,20091207,       2038,   -30.0800,   176.0000,       4254,  1140.1,   4.3746,  34.3896,  34.3889,2,    186.8,2,   185.8,2,   40.80,2,   31.41,2,    0.00,2,    2.21,2,   0.295,2,   0.205,4,-999.000,1,        0,2,  2206.8,2,  2313.5,2,   7.8842,4,    25.00,   0.021,2,   1.8610,2,    7.10,2, -999.00,9,  -999.0,9,  -999.0,   7.876,2,   0.036,  -999.0,9,   0.017,   0.0078,    0.15,   4.2841,   4.3692,2,20091207,       2158
318M20091121,        P06,      60,          1,         16,         16,2,20091207,       2038,   -30.0800,   176.0000,       4254,  1242.1,   3.9533,  34.4315,  34.4308,2,    177.6,2,   177.8,2,   52.33,2,   32.37,2,    0.00,2,    2.29,2,   0.187,2,   0.150,4,-999.000,1,        0,2,  2223.4,2,  2323.8,6,   7.6226,4,    25.00,   0.016,2,   1.8389,2,    9.56,2, -999.00,9,  -999.0,9,  -999.0,   7.787,2,   0.036,  -999.0,9,   0.017,   0.0077,    0.15,   3.8577,   3.9518,2,20091207,       2155
318M20091121,        P06,      60,          1,         15,         15,2,20091207,       2038,   -30.0800,   176.0000,       4254,  1345.9,   3.5293,  34.4856,  34.4845,2,    168.9,2,   169.9,2,   66.58,2,   33.20,2,    0.00,2,    2.34,2,   0.126,2,   0.130,4,-999.000,1,        0,2,  2242.0,2,  2339.6,2,   7.5865,2,    25.00,-999.000,9,-999.0000,9, -999.00,9, -999.00,9,  -999.0,9,  -999.0,-999.000,9,-999.000,    36.5,2,-999.000,-999.0000, -999.00,   3.4289,   3.5293,2,20091207,       2152
318M20091121,        P06,      60,          1,         14,         14,2,20091207,       2038,   -30.0800,   176.0000,       4254,  1446.4,   3.2345,  34.5291,  34.5280,2,    164.0,2,   164.1,2,   78.65,2,   33.68,2,    0.00,2,    2.38,2,   0.091,2,   0.127,4,-999.000,1,        0,2,  2256.0,2,  2353.2,2,   7.5881,2,    25.00,   0.036,2,   1.8751,2,   15.16,2, -999.00,9,  -999.0,9,  -999.0,   7.947,2,   0.037,  -999.0,9,   0.017,   0.0079,    0.15,   3.1286,   3.2359,2,20091207,       2148
318M20091121,        P06,      60,          1,         13,         13,2,20091207,       2038,   -30.0800,   176.0000,       4254,  1549.0,   2.9738,  34.5678,  34.5675,2,    159.5,2,   159.7,2,   89.32,2,   33.93,2,    0.00,2,    2.41,2,   0.070,2,   0.124,4,-999.000,1,        0,2,  2267.6,2,  2366.0,2,   7.5817,2,    25.00,   0.038,2,   1.8637,2,   17.28,2, -999.00,9,  -999.0,9,  -999.0,   7.867,2,   0.036,  -999.0,9,   0.017,   0.0078,    0.15,   2.8622,   2.9746,2,20091207,       2145
318M20091121,        P06,      60,          1,         12,         12,2,20091207,       2038,   -30.0800,   176.0000,       4254,  1646.8,   2.7484,  34.5917,  34.5896,2,    155.9,2,   156.4,2,   97.34,2,   34.26,2,    0.00,2,    2.44,2,   0.051,2,   0.124,4,-999.000,1,        0,2,  2280.1,2,  2374.8,2,   7.5868,2,    25.00,   0.005,2,   1.8836,2,   18.76,2, -999.00,9,  -999.0,9,  -999.0,   7.947,2,   0.037,  -999.0,9,   0.017,   0.0079,    0.15,   2.6313,   2.7476,2,20091207,       2142
318M20091121,        P06,      60,          1,         11,         11,2,20091207,       2038,   -30.0800,   176.0000,       4254,  1752.7,   2.5818,  34.6083,  34.6080,2,    154.3,2,   154.3,2,  102.91,2,   34.50,2,    0.00,2,    2.46,2,   0.045,2,   0.122,4,-999.000,1,        0,2,  2284.9,2,  2379.5,2,   7.5945,2,    25.00,   0.022,2,   1.8922,2,   19.94,2, -999.00,9,  -999.0,9,  -999.0,   7.931,2,   0.036,    36.0,2,   0.016,   0.0079,    0.15,   2.4579,   2.5821,2,20091207,       2138
318M20091121,        P06,      60,          1,         10,         10,2,20091207,       2038,   -30.0800,   176.0000,       4254,  1879.7,   2.4542,  34.6206,  34.6201,2,    153.2,2,   153.5,2,  107.03,2,   34.65,2,    0.00,2,    2.47,2,   0.044,2,   0.113,4,-999.000,1,        0,2,  2289.9,2,  2386.7,2,   7.5854,2,    25.00,  -0.002,2,   1.8812,2,   20.63,2, -999.00,9,  -999.0,9,  -999.0,   7.904,2,   0.036,  -999.0,9,   0.016,   0.0079,    0.15,   2.3212,   2.4560,2,20091207,       2134
318M20091121,        P06,      60,          1,          9,          9,2,20091207,       2038,   -30.0800,   176.0000,       4254,  2107.0,   2.2212,  34.6417,  34.6413,2,    152.6,2,   152.9,2,  113.84,2,   34.88,2,    0.00,2,    2.48,2,   0.041,2,   0.097,4,-999.000,1,        0,2,  2297.4,2,  2391.8,2,   7.5866,2,    25.00,   0.006,2,-999.0000,9, -999.00,9, -999.00,9,  -999.0,9,  -999.0,-999.000,9,-999.000,    36.4,2,   0.016,-999.0000, -999.00,   2.0721,   2.2211,2,20091207,       2129
318M20091121,        P06,      60,          1,          8,          8,2,20091207,       2038,   -30.0800,   176.0000,       4254,  2356.7,   2.0658,  34.6563,  34.6569,2,    153.0,2,   153.2,2,  118.38,2,   34.88,2,    0.00,2,    2.49,2,   0.072,4,   0.098,4,-999.000,1,        0,2,  2296.5,2,  2397.0,2,   7.5814,2,    25.00,  -0.010,2,   1.8448,2,   20.63,2, -999.00,9,  -999.0,9,  -999.0,   7.650,2,   0.035,  -999.0,9,   0.016,   0.0077,    0.15,   1.8972,   2.0658,2,20091207,       2123
318M20091121,        P06,      60,          1,          7,          7,2,20091207,       2038,   -30.0800,   176.0000,       4254,  2614.0,   1.9543,  34.6669,  34.6667,2,    153.8,2,   153.7,2,  121.68,2,   34.92,2,    0.00,2,    2.49,2,   0.032,2,   0.051,4,-999.000,1,        0,2,  2312.6,3,  2401.5,2,-999.0000,5,  -999.00,   0.016,6,   1.9039,2,   20.08,2, -999.00,9,  -999.0,9,  -999.0,   8.018,2,   0.037,    35.6,2,   0.012,   0.0080,    0.15,   1.7643,   1.9552,2,20091207,       2117
318M20091121,        P06,      60,          1,          6,          6,2,20091207,       2038,   -30.0800,   176.0000,       4254,  2867.1,   1.8831,  34.6743,  34.6742,2,    154.1,2,   154.1,2,  123.75,2,   34.97,2,    0.00,2,    2.49,2,   0.030,2,   0.033,4,-999.000,1,        0,2,  2308.0,2,  2407.6,2,   7.5709,2,    25.00,   0.014,2,   1.8956,2,   19.59,2, -999.00,9,  -999.0,9,  -999.0,   7.940,2,   0.037,  -999.0,9,   0.016,   0.0080,    0.15,   1.6707,   1.8835,2,20091207,       2111
318M20091121,        P06,      60,          1,          5,          5,2,20091207,       2038,   -30.0800,   176.0000,       4254,  3123.6,   1.8506,  34.6783,  34.6785,2,    154.5,2,   154.4,2,  125.19,2,   34.96,2,    0.00,2,    2.49,2,   0.026,2,   0.016,4,-999.000,1,        0,2,  2309.4,2,  2406.3,2,   7.5823,2,    25.00,   0.004,2,   1.9259,2,   19.08,2, -999.00,9,  -999.0,9,  -999.0,   8.024,2,   0.037,    37.0,2,   0.016,   0.0081,    0.15,   1.6139,   1.8506,2,20091207,       2105
318M20091121,        P06,      60,          1,          4,          4,2,20091207,       2038,   -30.0800,   176.0000,       4254,  3381.2,   1.8456,  34.6807,  34.6807,2,    154.4,2,   155.0,2,  126.02,2,   34.96,2,    0.00,2,    2.49,2,   0.027,2,   0.016,4,-999.000,1,        0,2,  2311.4,2,  2407.6,2,   7.5811,2,    25.00,   0.015,2,   1.9486,2,   18.99,2, -999.00,9,  -999.0,9,  -999.0,   8.075,2,   0.037,  -999.0,9,   0.016,   0.0082,    0.15,   1.5830,   1.8459,2,20091207,       2059
318M20091121,        P06,      60,          1,          3,          3,2,20091207,       2038,   -30.0800,   176.0000,       4254,  3633.3,   1.8598,  34.6813,  34.6813,2,    154.5,2,   154.7,2,  126.21,2,   35.00,2,    0.00,2,    2.48,2,   0.013,2,   0.012,4,-999.000,1,        0,2,  2311.3,2,  2408.7,2,   7.5446,4,    25.00,   0.003,2,   1.9430,2,   19.11,2, -999.00,9,  -999.0,9,  -999.0,   8.022,2,   0.037,    36.9,2,   0.016,   0.0082,    0.15,   1.5705,   1.8595,2,20091207,       2053
318M20091121,        P06,      60,          1,          2,          2,2,20091207,       2038,   -30.0800,   176.0000,       4254,  3974.3,   1.8855,  34.6821,  34.6819,2,    154.1,2,   154.9,2,  126.62,2,   34.95,2,    0.00,2,    2.48,2,   0.003,2,   0.011,4,-999.000,1,        0,2,  2311.8,2,  2408.7,2,   7.5807,6,    25.00,   0.001,2,   1.9214,2,   19.21,2, -999.00,9,  -999.0,9,  -999.0,   7.891,2,   0.036,  -999.0,9,   0.016,   0.0081,    0.15,   1.5586,   1.8856,2,20091207,       2046
318M20091121,        P06,      60,          1,          1,          1,2,20091207,       2038,   -30.0800,   176.0000,       4254,  4322.9,   1.9204,  34.6821,  34.6823,2,    155.3,2,   155.4,2,  126.81,2,   34.99,2,    0.00,2,    2.48,2,   0.003,2,   0.008,4,-999.000,1,        0,2,  2310.9,6,  2408.8,6,   7.5833,2,    25.00,  -0.006,2,-999.0000,9, -999.00,9, -999.00,9,  -999.0,9,  -999.0,-999.000,9,-999.000,    35.8,2,   0.016,-999.0000, -999.00,   1.5530,   1.9203,2,20091207,       2038