BOTTLE,20220818CCHSIOAMB
EXPOCODE,SECT_ID,STNNBR,CASTNO,SAMPNO,BTLNBR,BTLNBR_FLAG_W,DATE,TIME,LATITUDE,LONGITUDE,DEPTH,CTDPRS,CTDTMP,CTDSAL,SALNTY,SALNTY_FLAG_W,CTDOXY,CTDOXY_FLAG_W,OXYGEN,OXYGEN_FLAG_W,SILCAT,SILCAT_FLAG_W,NITRAT,NITRAT_FLAG_W,NITRIT,NITRIT_FLAG_W,PHSPHT,PHSPHT_FLAG_W,CFC-11,CFC-11_FLAG_W,CFC-12,CFC-12_FLAG_W,CFC113,CFC113_FLAG_W,SF6,SF6_FLAG_W,TCARBN,TCARBN_FLAG_W,ALKALI,ALKALI_FLAG_W,PH_SWS,PH_SWS_FLAG_W,PH_TMP,TRITUM,TRITUM_FLAG_W,HELIUM,HELIUM_FLAG_W,DELHE3,DELHE3_FLAG_W,DELC13,DELC13_FLAG_W,DELC14,DELC14_FLAG_W,C14ERR,NEON,NEON_FLAG_W,NEONER,DOC,DOC_FLAG_W,TRITER,HELIER,DELHER,THETA,SBE35,SBE35_FLAG_W,BTL_DATE,BTL_TIME
,,,,,,,,,,,METERS,DBAR,ITS-90,PSS-78,PSS-78,,UMOL/KG,,UMOL/KG,,UMOL/KG,,UMOL/KG,,UMOL/KG,,UMOL/KG,,PMOL/KG,,PMOL/KG,,PMOL/KG,,FMOL/KG,,UMOL/KG,,UMOL/KG,,,,DEG C,TU,,NMOL/KG,,PERCNT,,/MILLE,,/MILLE,,/MILLE,NMOL/KG,,NMOL/KG,UMOL/KG,,TU,NMOL/KG,PERCNT,DEG C,ITS-90,,,
318M20091121,        P06,       3,          6,         35,         35,2,20091122,       0137,   -30.0800,   153.6000,       1091,     2.0,  21.4201,  35.4170,  35.4182,2,    222.5,2,   222.2,2,    0.66,2,    1.67,2,    0.01,2,    0.14,2,   1.977,2,   1.199,2,   0.148,2,    1.031,2,  2022.6,6,  2322.5,2,   8.0484,4,    25.00,   0.372,2,-999.0000,9, -999.00,9, -999.00,9,  -999.0,9,  -999.0,-999.000,9,-999.000,  -999.0,9,   0.008,-999.0000, -999.00,  21.4197,  21.4198,2,20091122,       0250
318M20091121,        P06,       3,          6,         33,         33,9,20091122,       0137,   -30.0800,   153.6000,       1091,    34.8,  18.2507,  35.5289,-999.0000,9,   -999.0,9,  -999.0,9, -999.00,9, -999.00,9, -999.00,9, -999.00,9,-999.000,9,-999.000,9,-999.000,9,-999.0000,9,  -999.0,9,  -999.0,9,-999.0000,9,  -999.00,-999.000,9,-999.0000,9, -999.00,9, -999.00,9,  -999.0,9,  -999.0,-999.000,9,-999.000,  -999.0,9,-999.000,-999.0000, -999.00,  18.2447,  18.2691,3,20091122,       0246
318M20091121,        P06,       3,          6,         32,         32,2,20091122,       0137,   -30.0800,   153.6000,       1091,    34.9,  18.2114,  35.5317,  35.5275,2,    177.2,2,   168.5,2,    2.70,2,    8.84,2,    0.05,2,    0.63,2,-999.000,9,-999.000,9,-999.000,9,-999.0000,9,  -999.0,9,  -999.0,9,-999.0000,9,  -999.00,-999.000,9,-999.0000,9, -999.00,9, -999.00,9,  -999.0,9,  -999.0,-999.000,9,-999.000,  -999.0,9,-999.000,-999.0000, -999.00,  18.2054,  18.2293,3,20091122,       0246
318M20091121,        P06,       3,          6,         34,         34,9,20091122,       0137,   -30.0800,   153.6000,       1091,    35.1,  18.2146,  35.5319,-999.0000,9,   -999.0,9,  -999.0,9, -999.00,9, -999.00,9, -999.00,9, -999.00,9,-999.000,9,-999.000,9,-999.000,9,-999.0000,9,  -999.0,9,  -999.0,9,-999.0000,9,  -999.00,-999.000,9,-999.0000,9, -999.00,9, -999.00,9,  -999.0,9,  -999.0,-999.000,9,-999.000,  -999.0,9,-999.000,-999.0000, -999.00,  18.2085,  18.2615,3,20091122,       0246
318M20091121,        P06,       3,          6,         31,         31,2,20091122,       0137,   -30.0800,   153.6000,       1091,    61.3,  17.8727,  35.5773,  35.5765,2,    198.8,2,   187.5,2,    1.87,2,    7.49,2,    0.01,2,    0.49,2,-999.000,9,-999.000,9,-999.000,9,-999.0000,9,  2079.1,2,  2345.8,2,   7.9467,2,    25.00,-999.000,9,-999.0000,9, -999.00,9, -999.00,9,  -999.0,9,  -999.0,-999.000,9,-999.000,  -999.0,9,-999.000,-999.0000, -999.00,  17.8622,  17.8735,2,20091122,       0243
318M20091121,        P06,       3,          6,         30,         30,2,20091122,       0137,   -30.0800,   153.6000,       1091,    84.0,  17.3964,  35.5529,  35.5516,2,    193.0,2,   191.0,2,    2.05,2,    7.72,2,    0.01,2,    0.51,2,-999.000,9,-999.000,9,-999.000,9,-999.0000,9,  -999.0,9,  -999.0,9,-999.0000,9,  -999.00,   0.347,2,-999.0000,9, -999.00,9, -999.00,9,  -999.0,9,  -999.0,-999.000,9,-999.000,  -999.0,9,   0.009,-999.0000, -999.00,  17.3823,  17.3957,2,20091122,       0241
318M20091121,        P06,       3,          6,         29,         29,2,20091122,       0137,   -30.0800,   153.6000,       1091,   110.3,  17.0256,  35.4891,  35.4955,2,    196.3,2,   183.8,2,    2.45,2,    8.98,2,    0.03,2,    0.61,2,   2.254,6,   1.310,6,   0.068,2,   1.0225,6,  2091.1,2,  2335.0,6,-999.0000,9,  -999.00,-999.000,9,   1.8672,2,   -0.78,2, -999.00,9,  -999.0,9,  -999.0,   7.479,2,   0.034,  -999.0,9,-999.000,   0.0078,    0.15,  17.0074,  17.0285,2,20091122,       0238
318M20091121,        P06,       3,          6,         28,         28,2,20091122,       0137,   -30.0800,   153.6000,       1091,   135.8,  16.8021,  35.4562,  35.4534,2,    198.3,2,   178.1,2,    3.05,2,   10.05,2,    0.05,2,    0.67,2,-999.000,9,-999.000,9,-999.000,9,-999.0000,9,  -999.0,9,  -999.0,9,-999.0000,9,  -999.00,-999.000,9,-999.0000,9, -999.00,9, -999.00,9,  -999.0,9,  -999.0,-999.000,9,-999.000,  -999.0,9,-999.000,-999.0000, -999.00,  16.7798,  16.8017,2,20091122,       0236
318M20091121,        P06,       3,          6,         27,         27,2,20091122,       0137,   -30.0800,   153.6000,       1091,   159.8,  15.9417,  35.4218,  35.4199,2,    184.6,2,   184.1,2,    3.03,2,   10.36,2,    0.01,2,    0.69,2,-999.000,9,-999.000,9,-999.000,9,-999.0000,9,  2101.2,2,  -999.0,5,   7.8730,2,    25.00,-999.000,9,-999.0000,9, -999.00,9, -999.00,9,  -999.0,9,  -999.0,-999.000,9,-999.000,  -999.0,9,-999.000,-999.0000, -999.00,  15.9164,  15.9392,2,20091122,       0234
318M20091121,        P06,       3,          6,         26,         26,2,20091122,       0137,   -30.0800,   153.6000,       1091,   185.6,  15.4724,  35.3792,  35.3758,2,    184.4,2,   184.7,2,    3.22,2,   11.03,2,    0.01,2,    0.74,2,-999.000,9,-999.000,9,-999.000,9,-999.0000,9,  -999.0,9,  -999.0,9,-999.0000,9,  -999.00,-999.000,9,-999.0000,9, -999.00,9, -999.00,9,  -999.0,9,  -999.0,-999.000,9,-999.000,  -999.0,9,-999.000,-999.0000, -999.00,  15.4436,  15.4707,2,20091122,       0231
318M20091121,        P06,       3,          6,         25,         25,2,20091122,       0137,   -30.0800,   153.6000,       1091,   211.8,  14.3743,  35.3035,  35.3026,2,    189.8,2,   189.9,2,    3.61,2,   11.94,2,    0.01,2,    0.81,2,   2.406,2,   1.361,2,   0.077,2,    0.897,2,  2112.4,2,  2328.2,2,-999.0000,9,  -999.00,   0.279,2,   1.8334,2,   -0.30,2, -999.00,9,  -999.0,9,  -999.0,   7.389,2,   0.034,  -999.0,9,   0.008,   0.0077,    0.15,  14.3430,  14.3738,2,20091122,       0229
318M20091121,        P06,       3,          6,         24,         24,2,20091122,       0137,   -30.0800,   153.6000,       1091,   236.4,  13.6774,  35.2216,  35.2160,2,    189.8,2,   189.9,2,    4.43,2,   13.18,2,    0.01,2,    0.90,2,-999.000,9,-999.000,9,-999.000,9,-999.0000,9,  -999.0,9,  -999.0,9,-999.0000,9,  -999.00,-999.000,9,-999.0000,9, -999.00,9, -999.00,9,  -999.0,9,  -999.0,-999.000,9,-999.000,  -999.0,9,-999.000,-999.0000, -999.00,  13.6436,  13.6779,2,20091122,       0225
318M20091121,        P06,       3,          6,         23,         23,2,20091122,       0137,   -30.0800,   153.6000,       1091,   261.1,  13.2440,  35.2010,  35.2027,2,    193.4,2,   193.6,2,    4.41,2,   13.27,2,    0.01,2,    0.91,2,   2.459,2,   1.354,2,   0.086,2,    0.853,2,  2120.5,2,  2309.2,2,   7.8411,2,    25.00,   0.277,2,   1.7869,2,   -0.17,2, -999.00,9,  -999.0,9,  -999.0,   7.335,2,   0.034,  -999.0,9,   0.008,   0.0075,    0.15,  13.2075,  13.2438,2,20091122,       0222
318M20091121,        P06,       3,          6,         22,         22,2,20091122,       0137,   -30.0800,   153.6000,       1091,   287.3,  12.8176,  35.1673,  35.1666,2,    196.8,2,   196.9,2,    4.80,2,   13.66,2,    0.00,2,    0.95,2,-999.000,9,-999.000,9,-999.000,9,-999.0000,9,  -999.0,9,  -999.0,9,-999.0000,9,  -999.00,-999.000,9,-999.0000,9, -999.00,9, -999.00,9,  -999.0,9,  -999.0,-999.000,9,-999.000,  -999.0,9,-999.000,-999.0000, -999.00,  12.7783,  12.8160,2,20091122,       0220
318M20091121,        P06,       3,          6,         21,         21,2,20091122,       0137,   -30.0800,   153.6000,       1091,   311.1,  12.3805,  35.0888,-999.0000,9,   -999.0,9,  -999.0,9, -999.00,9, -999.00,9, -999.00,9, -999.00,9,-999.000,9,-999.000,9,-999.000,9,-999.0000,9,  -999.0,9,  -999.0,9,-999.0000,9,  -999.00,-999.000,9,-999.0000,9, -999.00,9, -999.00,9,  -999.0,9,  -999.0,-999.000,9,-999.000,  -999.0,9,-999.000,-999.0000, -999.00,  12.3388,  12.3776,2,20091122,       0217
318M20091121,        P06,       3,          6,         20,         20,2,20091122,       0137,   -30.0800,   153.6000,       1091,   341.1,  11.7526,  35.0120,  35.0162,2,    195.1,2,   195.1,2,    6.02,2,   15.78,2,    0.00,2,    1.09,2,   2.459,2,   1.317,2,   0.082,2,    0.613,2,  -999.0,9,  -999.0,9,-999.0000,9,  -999.00,   0.234,2,   1.8106,2,   -0.84,2, -999.00,9,  -999.0,9,  -999.0,   7.493,2,   0.034,  -999.0,9,   0.008,   0.0076,    0.15,  11.7084,  11.7441,2,20091122,       0214
318M20091121,        P06,       3,          6,         19,         19,2,20091122,       0137,   -30.0800,   153.6000,       1091,   362.0,  11.2987,  34.9406,  34.9401,2,    193.4,2,   195.6,3,    6.62,2,   16.89,2,    0.00,2,    1.17,2,   2.323,2,   1.254,2,   0.076,2,    0.667,2,  2133.6,2,  2298.4,6,-999.0000,9,  -999.00,   0.219,2,-999.0000,9, -999.00,9, -999.00,9,  -999.0,9,  -999.0,-999.000,9,-999.000,  -999.0,9,   0.008,-999.0000, -999.00,  11.2530,  11.2983,2,20091122,       0211
318M20091121,        P06,       3,          6,         18,         18,2,20091122,       0137,   -30.0800,   153.6000,       1091,   379.6,  11.1482,  34.9273,  34.9249,2,    194.2,2,   194.3,2,    6.61,2,   17.08,2,    0.00,2,    1.19,2,-999.000,9,-999.000,9,-999.000,9,-999.0000,9,  -999.0,9,  -999.0,9,-999.0000,9,  -999.00,-999.000,9,-999.0000,9, -999.00,9, -999.00,9,  -999.0,9,  -999.0,-999.000,9,-999.000,  -999.0,9,-999.000,-999.0000, -999.00,  11.1006,  11.1439,2,20091122,       0208
318M20091121,        P06,       3,          6,         17,         17,2,20091122,       0137,   -30.0800,   153.6000,       1091,   412.6,  10.4402,  34.8320,  34.8308,2,    194.6,2,   194.7,2,    7.01,2,   18.49,2,    0.00,2,    1.28,2,   2.250,2,   1.198,2,   0.074,2,    0.477,2,  2139.5,2,  -999.0,9,-999.0000,9,  -999.00,   0.193,2,   1.7902,2,   -1.19,2, -999.00,9,  -999.0,9,  -999.0,   7.517,2,   0.035,  -999.0,9,   0.008,   0.0075,    0.15,  10.3906,  10.4366,2,20091122,       0204
318M20091121,        P06,       3,          6,         16,         16,2,20091122,       0137,   -30.0800,   153.6000,       1091,   437.4,  10.2608,  34.8088,  34.8091,2,    195.0,2,   195.3,2,    7.19,2,   18.78,2,    0.00,2,    1.31,2,-999.000,9,-999.000,9,-999.000,9,-999.0000,9,  -999.0,9,  2294.2,2,   7.7668,2,    25.00,-999.000,9,-999.0000,9, -999.00,9, -999.00,9,  -999.0,9,  -999.0,-999.000,9,-999.000,  -999.0,9,-999.000,-999.0000, -999.00,  10.2087,  10.2570,2,20091122,       0201
318M20091121,        P06,       3,          6,         15,         15,2,20091122,       0137,   -30.0800,   153.6000,       1091,   462.2,   9.9159,  34.7673,  34.7672,2,    196.0,2,   196.4,2,    7.59,2,   19.42,2,    0.00,2,    1.36,2,-999.000,9,-999.000,9,-999.000,9,-999.0000,9,  2142.4,2,  -999.0,9,-999.0000,9,  -999.00,-999.000,9,-999.0000,9, -999.00,9, -999.00,9,  -999.0,9,  -999.0,-999.000,9,-999.000,  -999.0,9,-999.000,-999.0000, -999.00,   9.8620,   9.9148,2,20091122,       0158
318M20091121,        P06,       3,          6,         14,         14,2,20091122,       0137,   -30.0800,   153.6000,       1091,   488.1,   9.3364,  34.7013,  34.7005,2,    197.6,2,   197.6,2,    8.61,2,   20.49,2,    0.00,2,    1.43,2,-999.000,9,-999.000,9,-999.000,9,-999.0000,9,  -999.0,9,  -999.0,9,-999.0000,9,  -999.00,-999.000,9,-999.0000,9, -999.00,9, -999.00,9,  -999.0,9,  -999.0,-999.000,9,-999.000,  -999.0,9,-999.000,-999.0000, -999.00,   9.2815,   9.3377,2,20091122,       0154
318M20091121,        P06,       3,          6,         13,         13,2,20091122,       0137,   -30.0800,   153.6000,       1091,   513.4,   9.3426,  34.7013,  34.7076,2,    198.1,2,   198.0,2,    8.59,2,   20.49,2,    0.00,2,    1.44,2,-999.000,9,-999.000,9,-999.000,9,-999.0000,9,  2145.7,2,  2295.8,2,-999.0000,9,  -999.00,-999.000,9,-999.0000,9, -999.00,9, -999.00,9,  -999.0,9,  -999.0,-999.000,9,-999.000,  -999.0,9,-999.000,-999.0000, -999.00,   9.2847,   9.3417,2,20091122,       0150
318M20091121,        P06,       3,          6,         12,         12,2,20091122,       0137,   -30.0800,   153.6000,       1091,   535.8,   8.9566,  34.6570,  34.6592,2,    198.8,2,   199.2,2,    9.20,2,   21.14,2,    0.00,2,    1.48,2,-999.000,9,-999.000,9,-999.000,9,-999.0000,9,  -999.0,9,  -999.0,9,-999.0000,9,  -999.00,-999.000,9,-999.0000,9, -999.00,9, -999.00,9,  -999.0,9,  -999.0,-999.000,9,-999.000,  -999.0,9,-999.000,-999.0000, -999.00,   8.8977,   8.9612,2,20091122,       0144
318M20091121,        P06,       3,          6,         11,         11,2,20091122,       0137,   -30.0800,   153.6000,       1091,   561.4,   8.6587,  34.6282,  34.6275,2,    199.2,2,   199.1,2,   10.21,2,   21.87,2,    0.00,2,    1.53,2,-999.000,9,-999.000,9,-999.000,9,-999.0000,9,  2150.4,2,  -999.0,5,   7.7275,4,    25.00,-999.000,9,-999.0000,9, -999.00,9, -999.00,9,  -999.0,9,  -999.0,-999.000,9,-999.000,  -999.0,9,-999.000,-999.0000, -999.00,   8.5981,   8.6554,2,20091122,       0141
318M20091121,        P06,       3,          6,          3,          3,9,20091122,       0137,   -30.0800,   153.6000,       1091,   600.8,   8.0680,  34.5644,-999.0000,9,   -999.0,9,  -999.0,9, -999.00,9, -999.00,9, -999.00,9, -999.00,9,-999.000,9,-999.000,9,-999.000,9,-999.0000,9,  -999.0,9,  -999.0,9,-999.0000,9,  -999.00,-999.000,9,-999.0000,9, -999.00,9, -999.00,9,  -999.0,9,  -999.0,-999.000,9,-999.000,  -999.0,9,-999.000,-999.0000, -999.00,   8.0057,   8.0666,2,20091122,       0135
318M20091121,        P06,       3,          6,          2,          2,9,20091122,       0137,   -30.0800,   153.6000,       1091,   601.0,   8.0675,  34.5644,-999.0000,9,   -999.0,9,  -999.0,9, -999.00,9, -999.00,9, -999.00,9, -999.00,9,-999.000,9,-999.000,9,-999.000,9,-999.0000,9,  -999.0,9,  -999.0,9,-999.0000,9,  -999.00,-999.000,9,-999.0000,9, -999.00,9, -999.00,9,  -999.0,9,  -999.0,-999.000,9,-999.000,  -999.0,9,-999.000,-999.0000, -999.00,   8.0052,   8.0666,2,20091122,       0135
318M20091121,        P06,       3,          6,          9,          9,9,20091122,       0137,   -30.0800,   153.6000,       1091,   601.3,   8.0662,  34.5641,-999.0000,9,   -999.0,9,  -999.0,9, -999.00,9, -999.00,9, -999.00,9, -999.00,9,-999.000,9,-999.000,9,-999.000,9,-999.0000,9,  -999.0,9,  -999.0,9,-999.0000,9,  -999.00,-999.000,9,-999.0000,9, -999.00,9, -999.00,9,  -999.0,9,  -999.0,-999.000,9,-999.000,  -999.0,9,-999.000,-999.0000, -999.00,   8.0039,   8.0656,2,20091122,       0136
318M20091121,        P06,       3,          6,          5,          5,9,20091122,       0137,   -30.0800,   153.6000,       1091,   601.3,   8.0661,  34.5643,-999.0000,9,   -999.0,9,  -999.0,9, -999.00,9, -999.00,9, -999.00,9, -999.00,9,-999.000,9,-999.000,9,-999.000,9,-999.0000,9,  -999.0,9,  -999.0,9,-999.0000,9,  -999.00,-999.000,9,-999.0000,9, -999.00,9, -999.00,9,  -999.0,9,  -999.0,-999.000,9,-999.000,  -999.0,9,-999.000,-999.0000, -999.00,   8.0038,   8.0662,2,20091122,       0135
318M20091121,        P06,       3,          6,          7,          7,9,20091122,       0137,   -30.0800,   153.6000,       1091,   601.4,   8.0664,  34.5642,-999.0000,9,   -999.0,9,  -999.0,9, -999.00,9, -999.00,9, -999.00,9, -999.00,9,-999.000,9,-999.000,9,-999.000,9,-999.0000,9,  -999.0,9,  -999.0,9,-999.0000,9,  -999.00,-999.000,9,-999.0000,9, -999.00,9, -999.00,9,  -999.0,9,  -999.0,-999.000,9,-999.000,  -999.0,9,-999.000,-999.0000, -999.00,   8.0040,   8.0656,2,20091122,       0136
318M20091121,        P06,       3,          6,          8,          8,9,20091122,       0137,   -30.0800,   153.6000,       1091,   601.5,   8.0659,  34.5641,-999.0000,9,   -999.0,9,  -999.0,9, -999.00,9, -999.00,9, -999.00,9, -999.00,9,-999.000,9,-999.000,9,-999.000,9,-999.0000,9,  -999.0,9,  -999.0,9,-999.0000,9,  -999.00,-999.000,9,-999.0000,9, -999.00,9, -999.00,9,  -999.0,9,  -999.0,-999.000,9,-999.000,  -999.0,9,-999.000,-999.0000, -999.00,   8.0035,   8.0650,2,20091122,       0136
318M20091121,        P06,       3,          6,          1,          1,2,20091122,       0137,   -30.0800,   153.6000,       1091,   601.5,   8.0666,  34.5644,-999.0000,9,    199.4,2,   199.6,2, -999.00,9, -999.00,9, -999.00,9, -999.00,9,-999.000,9,-999.000,9,-999.000,9,-999.0000,9,  -999.0,9,  -999.0,9,-999.0000,9,  -999.00,-999.000,9,-999.0000,9, -999.00,9, -999.00,9,  -999.0,9,  -999.0,-999.000,9,-999.000,  -999.0,9,-999.000,-999.0000, -999.00,   8.0042,   8.0666,2,20091122,       0134
318M20091121,        P06,       3,          6,          6,          6,9,20091122,       0137,   -30.0800,   153.6000,       1091,   601.5,   8.0662,  34.5642,-999.0000,9,   -999.0,9,  -999.0,9, -999.00,9, -999.00,9, -999.00,9, -999.00,9,-999.000,9,-999.000,9,-999.000,9,-999.0000,9,  -999.0,9,  -999.0,9,-999.0000,9,  -999.00,-999.000,9,-999.0000,9, -999.00,9, -999.00,9,  -999.0,9,  -999.0,-999.000,9,-999.000,  -999.0,9,-999.000,-999.0000, -999.00,   8.0038,   8.0662,2,20091122,       0136
318M20091121,        P06,       3,          6,          4,          4,9,20091122,       0137,   -30.0800,   153.6000,       1091,   601.5,   8.0675,  34.5644,-999.0000,9,   -999.0,9,  -999.0,9, -999.00,9, -999.00,9, -999.00,9, -999.00,9,-999.000,9,-999.000,9,-999.000,9,-999.0000,9,  -999.0,9,  -999.0,9,-999.0000,9,  -999.00,-999.000,9,-999.0000,9, -999.00,9, -999.00,9,  -999.0,9,  -999.0,-999.000,9,-999.000,  -999.0,9,-999.000,-999.0000, -999.00,   8.0051,   8.0664,2,20091122,       0135
318M20091121,        P06,       3,          6,         10,         10,9,20091122,       0137,   -30.0800,   153.6000,       1091,   601.7,   8.0665,  34.5642,-999.0000,9,   -999.0,9,  -999.0,9, -999.00,9, -999.00,9, -999.00,9, -999.00,9,-999.000,9,-999.000,9,-999.000,9,-999.0000,9,  -999.0,9,  -999.0,9,-999.0000,9,  -999.00,-999.000,9,-999.0000,9, -999.00,9, -999.00,9,  -999.0,9,  -999.0,-999.000,9,-999.000,  -999.0,9,-999.000,-999.0000, -999.00,   8.0041,   8.0661,2,20091122,       0137