BOTTLE,20220818CCHSIOAMB
EXPOCODE,SECT_ID,STNNBR,CASTNO,SAMPNO,BTLNBR,BTLNBR_FLAG_W,DATE,TIME,LATITUDE,LONGITUDE,DEPTH,CTDPRS,CTDTMP,CTDSAL,SALNTY,SALNTY_FLAG_W,CTDOXY,CTDOXY_FLAG_W,OXYGEN,OXYGEN_FLAG_W,SILCAT,SILCAT_FLAG_W,NITRAT,NITRAT_FLAG_W,NITRIT,NITRIT_FLAG_W,PHSPHT,PHSPHT_FLAG_W,CFC-11,CFC-11_FLAG_W,CFC-12,CFC-12_FLAG_W,CFC113,CFC113_FLAG_W,SF6,SF6_FLAG_W,TCARBN,TCARBN_FLAG_W,ALKALI,ALKALI_FLAG_W,PH_SWS,PH_SWS_FLAG_W,PH_TMP,TRITUM,TRITUM_FLAG_W,HELIUM,HELIUM_FLAG_W,DELHE3,DELHE3_FLAG_W,DELC13,DELC13_FLAG_W,DELC14,DELC14_FLAG_W,C14ERR,NEON,NEON_FLAG_W,NEONER,DOC,DOC_FLAG_W,TRITER,HELIER,DELHER,THETA,SBE35,SBE35_FLAG_W,BTL_DATE,BTL_TIME
,,,,,,,,,,,METERS,DBAR,ITS-90,PSS-78,PSS-78,,UMOL/KG,,UMOL/KG,,UMOL/KG,,UMOL/KG,,UMOL/KG,,UMOL/KG,,PMOL/KG,,PMOL/KG,,PMOL/KG,,FMOL/KG,,UMOL/KG,,UMOL/KG,,,,DEG C,TU,,NMOL/KG,,PERCNT,,/MILLE,,/MILLE,,/MILLE,NMOL/KG,,NMOL/KG,UMOL/KG,,TU,NMOL/KG,PERCNT,DEG C,ITS-90,,,
318M20091121,        P06,     101,          1,         36,         36,2,20091220,       2128,   -32.5000,  -165.3083,       5156,     5.6,  19.2080,  35.1607,  35.1620,2,    232.1,2,   231.7,2,    0.55,2,    0.00,2,    0.00,2,    0.15,2,   2.154,2,   1.354,2,-999.000,1,    1.109,2,  2047.6,6,  2313.1,6,   7.9880,6,    25.00,-999.000,9,-999.0000,9, -999.00,9, -999.00,9,  -999.0,9,  -999.0,-999.000,9,-999.000,  -999.0,9,-999.000,-999.0000, -999.00,  19.2070,  19.2063,2,20091220,       2359
318M20091121,        P06,     101,          1,         35,         35,2,20091220,       2128,   -32.5000,  -165.3083,       5156,    25.2,  19.1142,  35.1627,  35.1638,2,    231.4,2,   232.1,2,    0.53,2,    0.00,2,    0.00,2,    0.15,2,   2.172,2,   1.358,2,-999.000,1,    1.095,2,  2048.1,2,  2313.2,2,   7.9878,2,    25.00,-999.000,9,-999.0000,9, -999.00,9, -999.00,9,  -999.0,9,  -999.0,-999.000,9,-999.000,  -999.0,9,-999.000,-999.0000, -999.00,  19.1097,  19.1145,2,20091220,       2356
318M20091121,        P06,     101,          1,         34,         34,2,20091220,       2128,   -32.5000,  -165.3083,       5156,    49.5,  16.5530,  35.3106,  35.3118,2,    257.6,2,   257.6,2,    0.50,2,    0.00,2,    0.00,2,    0.14,2,   2.443,2,   1.490,2,-999.000,1,    1.258,2,  -999.0,9,  2321.1,2,   7.9960,2,    25.00,-999.000,9,-999.0000,9, -999.00,9, -999.00,9,  -999.0,9,  -999.0,-999.000,9,-999.000,  -999.0,9,-999.000,-999.0000, -999.00,  16.5450,  16.5480,2,20091220,       2354
318M20091121,        P06,     101,          1,         33,         33,2,20091220,       2128,   -32.5000,  -165.3083,       5156,    74.8,  15.3965,  35.3587,  35.3581,2,    259.7,2,   237.8,2,    0.68,2,   -0.01,2,    0.01,2,    0.18,2,-999.000,5,-999.000,5,-999.000,1,-999.0000,5,  2061.2,2,  2323.8,2,   7.9791,2,    25.00,-999.000,9,-999.0000,9, -999.00,9, -999.00,9,  -999.0,9,  -999.0,-999.000,9,-999.000,  -999.0,9,-999.000,-999.0000, -999.00,  15.3850,  15.3974,2,20091220,       2351
318M20091121,        P06,     101,          1,         32,         32,2,20091220,       2128,   -32.5000,  -165.3083,       5156,   100.1,  14.8367,  35.3067,  35.3102,2,    239.9,2,   260.5,3,    0.65,2,    1.05,2,    0.27,2,    0.27,2,   2.581,2,   1.569,2,-999.000,1,    1.213,2,  -999.0,9,  2321.4,2,   7.9483,2,    25.00,-999.000,9,-999.0000,9, -999.00,9, -999.00,9,  -999.0,9,  -999.0,-999.000,9,-999.000,  -999.0,9,-999.000,-999.0000, -999.00,  14.8217,  14.8355,2,20091220,       2348
318M20091121,        P06,     101,          1,         31,         31,2,20091220,       2128,   -32.5000,  -165.3083,       5156,   147.5,  13.8828,  35.2382,  35.2407,2,    215.1,2,   205.7,2,    1.87,2,    7.69,2,    0.01,2,    0.63,2,   2.610,2,   1.534,2,-999.000,1,    1.142,2,  2105.2,2,  -999.0,5,   7.8823,2,    25.00,-999.000,9,-999.0000,9, -999.00,9, -999.00,9,  -999.0,9,  -999.0,-999.000,9,-999.000,  -999.0,9,-999.000,-999.0000, -999.00,  13.8616,  13.9220,3,20091220,       2346
318M20091121,        P06,     101,          1,         30,         30,2,20091220,       2128,   -32.5000,  -165.3083,       5156,   200.9,  12.6566,  35.0987,  35.0977,2,    209.6,2,   208.9,2,    2.46,2,   10.49,2,    0.01,2,    0.80,2,   2.774,2,   1.606,2,-999.000,1,    0.975,2,  -999.0,9,  2306.3,2,   7.8444,2,    25.00,-999.000,9,-999.0000,9, -999.00,9, -999.00,9,  -999.0,9,  -999.0,-999.000,9,-999.000,  -999.0,9,-999.000,-999.0000, -999.00,  12.6294,  12.6763,2,20091220,       2343
318M20091121,        P06,     101,          1,         29,         29,2,20091220,       2128,   -32.5000,  -165.3083,       5156,   248.2,  11.8101,  34.9801,  34.9767,2,    211.1,2,   208.6,2,    3.06,2,   12.36,2,    0.01,2,    0.93,2,   2.806,2,   1.574,2,-999.000,1,    0.936,2,  2121.8,2,  2304.7,2,   7.8229,2,    25.00,-999.000,9,-999.0000,9, -999.00,9, -999.00,9,  -999.0,9,  -999.0,-999.000,9,-999.000,  -999.0,9,-999.000,-999.0000, -999.00,  11.7780,  11.8128,2,20091220,       2338
318M20091121,        P06,     101,          1,         28,         28,2,20091220,       2128,   -32.5000,  -165.3083,       5156,   298.7,  10.4935,  34.7869,  34.7884,2,    208.7,2,   209.2,2,    3.86,2,   15.15,2,    0.00,2,    1.10,2,   2.908,2,   1.574,2,-999.000,1,    0.667,2,  -999.0,9,  2297.1,2,   7.7912,2,    25.00,-999.000,9,-999.0000,9, -999.00,9, -999.00,9,  -999.0,9,  -999.0,-999.000,9,-999.000,  -999.0,9,-999.000,-999.0000, -999.00,  10.4577,  10.4970,2,20091220,       2330
318M20091121,        P06,     101,          1,         27,         27,2,20091220,       2128,   -32.5000,  -165.3083,       5156,   350.6,   9.4938,  34.6576,  34.6573,2,    211.4,2,   213.1,2,    4.46,2,   17.23,2,    0.00,2,    1.23,2,   3.003,2,   1.603,2,-999.000,1,    0.693,2,  2133.0,2,  2292.7,2,   7.7697,2,    25.00,-999.000,9,-999.0000,9, -999.00,9, -999.00,9,  -999.0,9,  -999.0,-999.000,9,-999.000,  -999.0,9,-999.000,-999.0000, -999.00,   9.4543,   9.4969,2,20091220,       2328
318M20091121,        P06,     101,          1,         26,         26,2,20091220,       2128,   -32.5000,  -165.3083,       5156,   400.6,   8.7502,  34.5730,  34.5771,2,    218.2,2,   218.9,2,    4.85,2,   18.67,2,    0.00,2,    1.33,2,   3.117,2,   1.647,2,-999.000,1,    0.608,2,  -999.0,9,  2288.6,2,   7.7568,2,    25.00,-999.000,9,-999.0000,9, -999.00,9, -999.00,9,  -999.0,9,  -999.0,-999.000,9,-999.000,  -999.0,9,-999.000,-999.0000, -999.00,   8.7071,   8.7567,2,20091220,       2325
318M20091121,        P06,     101,          1,         25,         25,2,20091220,       2128,   -32.5000,  -165.3083,       5156,   502.8,   7.7791,  34.4671,  34.4682,2,    230.4,2,   229.9,2,    5.85,2,   20.60,2,    0.00,2,    1.45,2,   3.287,2,   1.690,2,-999.000,1,    0.665,2,  2139.5,2,  2282.6,2,   7.7431,2,    25.00,-999.000,9,-999.0000,9, -999.00,9, -999.00,9,  -999.0,9,  -999.0,-999.000,9,-999.000,  -999.0,9,-999.000,-999.0000, -999.00,   7.7284,   7.7807,2,20091220,       2322
318M20091121,        P06,     101,          1,         24,         24,2,20091220,       2128,   -32.5000,  -165.3083,       5156,   604.6,   7.1349,  34.4024,  34.4019,2,    236.6,2,   236.7,2,    6.87,2,   21.99,2,    0.00,2,    1.54,2,   3.187,2,   1.605,2,-999.000,1,    0.577,2,  2140.3,2,  2280.1,2,   7.7376,2,    25.00,-999.000,9,-999.0000,9, -999.00,9, -999.00,9,  -999.0,9,  -999.0,-999.000,9,-999.000,  -999.0,9,-999.000,-999.0000, -999.00,   7.0765,   7.1356,2,20091220,       2319
318M20091121,        P06,     101,          1,         23,         23,2,20091220,       2128,   -32.5000,  -165.3083,       5156,   700.9,   6.6781,  34.3765,  34.3770,2,    230.8,2,   230.6,2,    9.12,2,   23.57,2,    0.00,2,    1.65,2,   2.394,6,   1.176,6,-999.000,1,    0.225,6,  2151.5,2,  2281.7,2,   7.7267,2,    25.00,-999.000,9,-999.0000,9, -999.00,9, -999.00,9,  -999.0,9,  -999.0,-999.000,9,-999.000,  -999.0,9,-999.000,-999.0000, -999.00,   6.6124,   6.6813,2,20091220,       2315
318M20091121,        P06,     101,          1,         22,         22,2,20091220,       2128,   -32.5000,  -165.3083,       5156,   802.5,   6.1215,  34.3538,  34.3536,2,    220.5,2,   220.5,2,   13.68,2,   25.71,2,    0.00,2,    1.80,2,   1.798,2,   0.873,2,-999.000,1,    0.104,2,  2161.9,2,  2288.6,6,   7.7027,2,    25.00,-999.000,9,-999.0000,9, -999.00,9, -999.00,9,  -999.0,9,  -999.0,-999.000,9,-999.000,  -999.0,9,-999.000,-999.0000, -999.00,   6.0491,   6.1222,2,20091220,       2312
318M20091121,        P06,     101,          1,         21,         21,2,20091220,       2128,   -32.5000,  -165.3083,       5156,   904.4,   5.4696,  34.3418,  34.3416,2,    209.5,2,   209.8,2,   20.12,2,   27.90,2,    0.00,2,    1.96,2,   1.244,2,   0.597,2,-999.000,1,    0.069,2,  2174.9,2,  2293.6,2,   7.6770,2,    25.00,-999.000,9,-999.0000,9, -999.00,9, -999.00,9,  -999.0,9,  -999.0,-999.000,9,-999.000,  -999.0,9,-999.000,-999.0000, -999.00,   5.3919,   5.4693,2,20091220,       2309
318M20091121,        P06,     101,          1,         20,         20,2,20091220,       2128,   -32.5000,  -165.3083,       5156,  1006.4,   4.8221,  34.3435,  34.3436,2,    200.6,2,   200.5,2,   28.25,2,   29.77,2,    0.00,2,    2.10,2,   0.834,2,   0.392,2,-999.000,1,        0,2,  2186.6,2,  2300.4,2,   7.6511,2,    25.00,-999.000,9,-999.0000,9, -999.00,9, -999.00,9,  -999.0,9,  -999.0,-999.000,9,-999.000,  -999.0,9,-999.000,-999.0000, -999.00,   4.7398,   4.8203,2,20091220,       2306
318M20091121,        P06,     101,          1,         19,         19,2,20091220,       2128,   -32.5000,  -165.3083,       5156,  1107.6,   4.1827,  34.3625,  34.3615,2,    191.7,2,   192.4,2,   37.47,2,   31.78,2,    0.00,2,    2.22,2,   0.524,2,   0.255,2,-999.000,1,        0,2,  -999.0,9,  2308.7,2,   7.6289,2,    25.00,-999.000,9,-999.0000,9, -999.00,9, -999.00,9,  -999.0,9,  -999.0,-999.000,9,-999.000,  -999.0,9,-999.000,-999.0000, -999.00,   4.0967,   4.1856,2,20091220,       2303
318M20091121,        P06,     101,          1,         18,         18,2,20091220,       2128,   -32.5000,  -165.3083,       5156,  1210.5,   3.6407,  34.3958,  34.3961,2,    182.9,2,   183.4,2,   48.43,2,   33.15,2,    0.00,2,    2.32,2,   0.206,2,   0.104,2,-999.000,1,        0,2,  -999.0,9,  2319.1,2,-999.0000,9,  -999.00,-999.000,9,-999.0000,9, -999.00,9, -999.00,9,  -999.0,9,  -999.0,-999.000,9,-999.000,  -999.0,9,-999.000,-999.0000, -999.00,   3.5507,   3.6429,2,20091220,       2259
318M20091121,        P06,     101,          1,         17,         17,2,20091220,       2128,   -32.5000,  -165.3083,       5156,  1307.8,   3.2768,  34.4403,  34.4395,2,    175.6,2,   175.7,2,   58.14,2,   33.80,2,    0.00,2,    2.38,2,   0.107,2,   0.059,2,-999.000,1,        0,2,  2235.3,2,  2323.6,2,   7.5956,2,    25.00,-999.000,9,-999.0000,9, -999.00,9, -999.00,9,  -999.0,9,  -999.0,-999.000,9,-999.000,  -999.0,9,-999.000,-999.0000, -999.00,   3.1822,   3.2776,2,20091220,       2256
318M20091121,        P06,     101,          1,         16,         16,2,20091220,       2128,   -32.5000,  -165.3083,       5156,  1409.7,   2.9857,  34.4896,  34.4886,2,    169.1,2,   169.3,2,   68.75,2,   34.41,2,    0.00,2,    2.41,2,   0.048,2,   0.027,2,-999.000,1,        0,2,  -999.0,9,  2335.7,2,-999.0000,9,  -999.00,-999.000,9,-999.0000,9, -999.00,9, -999.00,9,  -999.0,9,  -999.0,-999.000,9,-999.000,  -999.0,9,-999.000,-999.0000, -999.00,   2.8857,   2.9844,2,20091220,       2252
318M20091121,        P06,     101,          1,         15,         15,2,20091220,       2128,   -32.5000,  -165.3083,       5156,  1512.3,   2.8098,  34.5288,  34.5284,2,    163.2,2,   164.2,2,   77.70,2,   34.63,2,    0.00,2,    2.43,2,   0.031,2,   0.018,2,-999.000,1,        0,2,  2259.6,2,  2347.2,2,   7.5852,2,    25.00,-999.000,9,-999.0000,9, -999.00,9, -999.00,9,  -999.0,9,  -999.0,-999.000,9,-999.000,  -999.0,9,-999.000,-999.0000, -999.00,   2.7032,   2.8075,2,20091220,       2249
318M20091121,        P06,     101,          1,         14,         14,2,20091220,       2128,   -32.5000,  -165.3083,       5156,  1614.4,   2.6158,  34.5691,  34.5687,2,    158.1,2,   159.1,2,   88.80,2,   34.90,2,    0.00,2,    2.46,2,   0.012,2,   0.007,2,-999.000,1,        0,2,  -999.0,9,  2359.1,2,-999.0000,9,  -999.00,-999.000,9,-999.0000,9, -999.00,9, -999.00,9,  -999.0,9,  -999.0,-999.000,9,-999.000,  -999.0,9,-999.000,-999.0000, -999.00,   2.5031,   2.6154,2,20091220,       2245
318M20091121,        P06,     101,          1,         13,         13,2,20091220,       2128,   -32.5000,  -165.3083,       5156,  1818.6,   2.3910,  34.6097,  34.6090,2,    152.8,2,   153.1,2,  102.95,2,   35.22,2,    0.00,2,    2.49,2,   0.008,2,   0.006,2,-999.000,1,        0,2,  2288.5,2,  2378.4,2,   7.5837,2,    25.00,-999.000,9,-999.0000,9, -999.00,9, -999.00,9,  -999.0,9,  -999.0,-999.000,9,-999.000,  -999.0,9,-999.000,-999.0000, -999.00,   2.2641,   2.3915,2,20091220,       2240
318M20091121,        P06,     101,          1,         12,         12,2,20091220,       2128,   -32.5000,  -165.3083,       5156,  2019.7,   2.2198,  34.6300,  34.6299,2,    149.9,2,   149.7,2,  113.05,2,   35.50,2,    0.00,2,    2.52,2,   0.016,2,   0.011,2,-999.000,1,        0,2,  -999.0,9,  2389.1,2,-999.0000,9,  -999.00,-999.000,9,-999.0000,9, -999.00,9, -999.00,9,  -999.0,9,  -999.0,-999.000,9,-999.000,  -999.0,9,-999.000,-999.0000, -999.00,   2.0783,   2.2190,2,20091220,       2235
318M20091121,        P06,     101,          1,         11,         11,2,20091220,       2128,   -32.5000,  -165.3083,       5156,  2274.7,   2.0680,  34.6438,  34.6439,2,    147.5,2,   146.9,2,  121.66,2,   35.87,2,    0.00,2,    2.54,2,   0.014,2,   0.011,2,-999.000,1,        0,2,  -999.0,9,  2401.1,2,-999.0000,9,  -999.00,-999.000,9,-999.0000,9, -999.00,9, -999.00,9,  -999.0,9,  -999.0,-999.000,9,-999.000,  -999.0,9,-999.000,-999.0000, -999.00,   1.9067,   2.0674,2,20091220,       2230
318M20091121,        P06,     101,          1,         10,         10,2,20091220,       2128,   -32.5000,  -165.3083,       5156,  2526.7,   1.9578,  34.6539,  34.6535,2,    147.3,2,   147.2,2,  126.60,2,   35.71,2,    0.00,2,    2.55,2,   0.010,2,   0.006,2,-999.000,1,        0,2,  2312.2,2,  2407.1,2,   7.5820,2,    25.00,-999.000,9,-999.0000,9, -999.00,9, -999.00,9,  -999.0,9,  -999.0,-999.000,9,-999.000,  -999.0,9,-999.000,-999.0000, -999.00,   1.7758,   1.9576,2,20091220,       2224
318M20091121,        P06,     101,          1,          9,          9,2,20091220,       2128,   -32.5000,  -165.3083,       5156,  2783.2,   1.8525,  34.6630,  34.6628,2,    148.2,2,   148.2,2,  130.27,2,   35.70,2,    0.00,2,    2.54,2,   0.011,2,   0.009,2,-999.000,1,        0,2,  -999.0,9,  2410.4,2,-999.0000,9,  -999.00,-999.000,9,-999.0000,9, -999.00,9, -999.00,9,  -999.0,9,  -999.0,-999.000,9,-999.000,  -999.0,9,-999.000,-999.0000, -999.00,   1.6488,   1.8526,2,20091220,       2218
318M20091121,        P06,     101,          1,          8,          8,2,20091220,       2128,   -32.5000,  -165.3083,       5156,  3035.2,   1.7544,  34.6734,  34.6732,2,    152.9,2,   153.7,2,  130.68,2,   35.36,2,    0.00,2,    2.51,2,   0.050,4,   0.031,4,-999.000,1,        0,2,  -999.0,9,  2410.6,2,-999.0000,9,  -999.00,-999.000,9,-999.0000,9, -999.00,9, -999.00,9,  -999.0,9,  -999.0,-999.000,9,-999.000,  -999.0,9,-999.000,-999.0000, -999.00,   1.5286,   1.7542,2,20091220,       2213
318M20091121,        P06,     101,          1,          7,          7,2,20091220,       2128,   -32.5000,  -165.3083,       5156,  3344.7,   1.6606,  34.6903,  34.6906,2,    166.1,2,   167.1,2,  123.95,2,   34.15,2,    0.00,2,    2.42,2,   0.011,2,   0.009,2,-999.000,1,        0,2,  2295.7,2,  2398.2,2,   7.6001,2,    25.00,-999.000,9,-999.0000,9, -999.00,9, -999.00,9,  -999.0,9,  -999.0,-999.000,9,-999.000,  -999.0,9,-999.000,-999.0000, -999.00,   1.4062,   1.6602,2,20091220,       2207
318M20091121,        P06,     101,          1,          6,          6,2,20091220,       2128,   -32.5000,  -165.3083,       5156,  3648.2,   1.5240,  34.7105,  34.7102,2,    185.6,2,   186.0,2,  114.64,2,   32.62,2,    0.00,2,    2.30,2,   0.016,2,   0.011,2,-999.000,1,        0,2,  -999.0,9,  2383.6,2,-999.0000,9,  -999.00,-999.000,9,-999.0000,9, -999.00,9, -999.00,9,  -999.0,9,  -999.0,-999.000,9,-999.000,  -999.0,9,-999.000,-999.0000, -999.00,   1.2417,   1.5246,2,20091220,       2200
318M20091121,        P06,     101,          1,          5,          5,2,20091220,       2128,   -32.5000,  -165.3083,       5156,  3958.0,   1.3169,  34.7183,  34.7175,2,    198.9,2,   198.9,2,  113.12,2,   31.90,2,    0.00,2,    2.24,2,   0.038,2,   0.019,2,-999.000,1,        0,2,  -999.0,9,  2364.9,2,-999.0000,9,  -999.00,-999.000,9,-999.0000,9, -999.00,9, -999.00,9,  -999.0,9,  -999.0,-999.000,9,-999.000,  -999.0,9,-999.000,-999.0000, -999.00,   1.0074,   1.3178,2,20091220,       2154
318M20091121,        P06,     101,          1,          4,          4,2,20091220,       2128,   -32.5000,  -165.3083,       5156,  4263.6,   1.1065,  34.7134,  34.7126,2,    203.7,2,   204.1,2,  118.28,2,   31.99,2,    0.00,2,    2.25,2,   0.062,2,   0.034,2,-999.000,1,        0,2,  2261.8,2,  2366.2,6,   7.6235,2,    25.00,-999.000,9,-999.0000,9, -999.00,9, -999.00,9,  -999.0,9,  -999.0,-999.000,9,-999.000,  -999.0,9,-999.000,-999.0000, -999.00,   0.7699,   1.1068,2,20091220,       2147
318M20091121,        P06,     101,          1,          3,          3,2,20091220,       2128,   -32.5000,  -165.3083,       5156,  4569.4,   1.0172,  34.7091,  34.7083,2,    206.2,2,   206.2,2,  121.93,2,   32.11,2,    0.00,2,    2.26,2,   0.095,2,   0.049,2,-999.000,1,        0,2,  -999.0,9,  2365.4,2,-999.0000,9,  -999.00,-999.000,9,-999.0000,9, -999.00,9, -999.00,9,  -999.0,9,  -999.0,-999.000,9,-999.000,  -999.0,9,-999.000,-999.0000, -999.00,   0.6492,   1.0172,2,20091220,       2140
318M20091121,        P06,     101,          1,          2,          2,2,20091220,       2128,   -32.5000,  -165.3083,       5156,  4882.9,   1.0214,  34.7079,  34.7073,2,    206.8,2,   207.1,2,  122.99,2,   31.92,2,    0.00,2,    2.26,2,   0.163,4,   0.093,4,-999.000,1,        0,2,  -999.0,9,  2366.9,2,-999.0000,9,  -999.00,-999.000,9,-999.0000,9, -999.00,9, -999.00,9,  -999.0,9,  -999.0,-999.000,9,-999.000,  -999.0,9,-999.000,-999.0000, -999.00,   0.6170,   1.0214,2,20091220,       2133
318M20091121,        P06,     101,          1,          1,          1,2,20091220,       2128,   -32.5000,  -165.3083,       5156,  5100.8,   1.0411,  34.7075,  34.7071,2,    206.8,2,   207.1,2,  122.98,2,   32.05,2,    0.00,2,    2.26,2,   0.110,2,   0.060,2,-999.000,1,        0,2,  2263.9,6,  2367.4,2,   7.6218,6,    25.00,-999.000,9,-999.0000,9, -999.00,9, -999.00,9,  -999.0,9,  -999.0,-999.000,9,-999.000,  -999.0,9,-999.000,-999.0000, -999.00,   0.6101,   1.0409,2,20091220,       2128