BOTTLE,20220818CCHSIOAMB
EXPOCODE,SECT_ID,STNNBR,CASTNO,SAMPNO,BTLNBR,BTLNBR_FLAG_W,DATE,TIME,LATITUDE,LONGITUDE,DEPTH,CTDPRS,CTDTMP,CTDSAL,SALNTY,SALNTY_FLAG_W,CTDOXY,CTDOXY_FLAG_W,OXYGEN,OXYGEN_FLAG_W,SILCAT,SILCAT_FLAG_W,NITRAT,NITRAT_FLAG_W,NITRIT,NITRIT_FLAG_W,PHSPHT,PHSPHT_FLAG_W,CFC-11,CFC-11_FLAG_W,CFC-12,CFC-12_FLAG_W,CFC113,CFC113_FLAG_W,SF6,SF6_FLAG_W,TCARBN,TCARBN_FLAG_W,ALKALI,ALKALI_FLAG_W,PH_SWS,PH_SWS_FLAG_W,PH_TMP,TRITUM,TRITUM_FLAG_W,HELIUM,HELIUM_FLAG_W,DELHE3,DELHE3_FLAG_W,DELC13,DELC13_FLAG_W,DELC14,DELC14_FLAG_W,C14ERR,NEON,NEON_FLAG_W,NEONER,DOC,DOC_FLAG_W,TRITER,HELIER,DELHER,THETA,SBE35,SBE35_FLAG_W,BTL_DATE,BTL_TIME
,,,,,,,,,,,METERS,DBAR,ITS-90,PSS-78,PSS-78,,UMOL/KG,,UMOL/KG,,UMOL/KG,,UMOL/KG,,UMOL/KG,,UMOL/KG,,PMOL/KG,,PMOL/KG,,PMOL/KG,,FMOL/KG,,UMOL/KG,,UMOL/KG,,,,DEG C,TU,,NMOL/KG,,PERCNT,,/MILLE,,/MILLE,,/MILLE,NMOL/KG,,NMOL/KG,UMOL/KG,,TU,NMOL/KG,PERCNT,DEG C,ITS-90,,,
318M20091121,        P06,     119,          2,         36,         36,2,20091227,       1143,   -32.5000,  -151.4167,       5225,     6.3,  22.0325,  35.4921,  35.4922,2,    220.6,2,   220.4,2,    0.48,2,   -0.01,2,    0.01,2,    0.08,2,   1.913,2,   1.286,2,-999.000,1,    1.041,2,  2041.7,6,  2329.1,6,   8.0196,6,    25.00,-999.000,9,-999.0000,9, -999.00,9, -999.00,9,  -999.0,9,  -999.0,-999.000,9,-999.000,  -999.0,9,-999.000,-999.0000, -999.00,  22.0313,  22.0282,2,20091227,       1422
318M20091121,        P06,     119,          2,         35,         35,2,20091227,       1143,   -32.5000,  -151.4167,       5225,    25.0,  22.0082,  35.4879,  35.4875,2,    221.7,2,   220.2,2,    0.43,2,   -0.01,2,    0.01,2,    0.08,2,   1.916,6,   1.286,6,-999.000,1,     1.16,6,  -999.0,9,  -999.0,9,-999.0000,9,  -999.00,-999.000,9,-999.0000,9, -999.00,9, -999.00,9,  -999.0,9,  -999.0,-999.000,9,-999.000,  -999.0,9,-999.000,-999.0000, -999.00,  22.0033,  21.9945,2,20091227,       1420
318M20091121,        P06,     119,          2,         34,         34,2,20091227,       1143,   -32.5000,  -151.4167,       5225,    49.6,  19.7951,  35.4171,  35.4146,2,    232.9,2,   233.5,2,    0.38,2,   -0.01,2,    0.01,2,    0.08,2,   2.135,2,   1.423,2,-999.000,1,     1.32,2,  -999.0,9,  2324.6,2,   8.0073,2,    25.00,-999.000,9,-999.0000,9, -999.00,9, -999.00,9,  -999.0,9,  -999.0,-999.000,9,-999.000,  -999.0,9,-999.000,-999.0000, -999.00,  19.7860,  19.8087,2,20091227,       1418
318M20091121,        P06,     119,          2,         33,         33,2,20091227,       1143,   -32.5000,  -151.4167,       5225,    74.8,  17.8883,  35.3745,  35.3730,2,    243.3,2,   244.2,2,    0.13,2,   -0.01,2,    0.01,2,    0.09,2,   2.310,2,   1.509,2,-999.000,1,    1.271,2,  -999.0,9,  -999.0,9,-999.0000,9,  -999.00,-999.000,9,-999.0000,9, -999.00,9, -999.00,9,  -999.0,9,  -999.0,-999.000,9,-999.000,  -999.0,9,-999.000,-999.0000, -999.00,  17.8755,  17.8844,2,20091227,       1416
318M20091121,        P06,     119,          2,         32,         32,2,20091227,       1143,   -32.5000,  -151.4167,       5225,   100.3,  17.1762,  35.3546,  35.3609,2,    243.2,2,   243.6,2,    0.28,2,   -0.01,2,    0.01,2,    0.10,2,   2.362,2,   1.553,2,-999.000,1,    1.212,2,  -999.0,9,  2321.7,2,   7.9962,2,    25.00,-999.000,9,-999.0000,9, -999.00,9, -999.00,9,  -999.0,9,  -999.0,-999.000,9,-999.000,  -999.0,9,-999.000,-999.0000, -999.00,  17.1595,  17.1762,2,20091227,       1413
318M20091121,        P06,     119,          2,         31,         31,2,20091227,       1143,   -32.5000,  -151.4167,       5225,   151.0,  16.4777,  35.3683,  35.3657,2,    218.9,2,   214.8,2,    0.43,2,    2.01,2,    0.07,2,    0.28,2,   2.397,2,   1.545,2,-999.000,1,    1.122,2,  -999.0,9,  -999.0,9,-999.0000,9,  -999.00,-999.000,9,-999.0000,9, -999.00,9, -999.00,9,  -999.0,9,  -999.0,-999.000,9,-999.000,  -999.0,9,-999.000,-999.0000, -999.00,  16.4533,  16.4796,2,20091227,       1410
318M20091121,        P06,     119,          2,         30,         30,2,20091227,       1143,   -32.5000,  -151.4167,       5225,   199.5,  15.5135,  35.2822,  35.2828,2,    205.7,2,   205.7,2,    0.98,2,    4.38,2,    0.01,2,    0.44,2,   2.448,2,   1.535,2,-999.000,1,    1.103,2,  -999.0,9,  2318.9,2,   7.9132,2,    25.00,-999.000,9,-999.0000,9, -999.00,9, -999.00,9,  -999.0,9,  -999.0,-999.000,9,-999.000,  -999.0,9,-999.000,-999.0000, -999.00,  15.4825,  15.5167,2,20091227,       1408
318M20091121,        P06,     119,          2,         29,         29,2,20091227,       1143,   -32.5000,  -151.4167,       5225,   250.7,  13.9954,  35.1074,  35.1038,2,    201.1,2,   201.0,2,    1.52,2,    7.68,2,    0.01,2,    0.65,2,   2.571,2,   1.573,2,-999.000,1,     0.85,2,  -999.0,9,  -999.0,9,-999.0000,9,  -999.00,-999.000,9,-999.0000,9, -999.00,9, -999.00,9,  -999.0,9,  -999.0,-999.000,9,-999.000,  -999.0,9,-999.000,-999.0000, -999.00,  13.9591,  13.9918,2,20091227,       1405
318M20091121,        P06,     119,          2,         28,         28,2,20091227,       1143,   -32.5000,  -151.4167,       5225,   301.0,  12.5278,  34.9377,  34.9357,2,    202.2,2,   202.5,2,    2.07,2,   10.53,2,    0.01,2,    0.82,2,   2.682,2,   1.598,2,-999.000,1,     0.75,2,  -999.0,9,  2306.0,2,   7.8338,2,    25.00,-999.000,9,-999.0000,9, -999.00,9, -999.00,9,  -999.0,9,  -999.0,-999.000,9,-999.000,  -999.0,9,-999.000,-999.0000, -999.00,  12.4873,  12.5402,2,20091227,       1402
318M20091121,        P06,     119,          2,         27,         27,9,20091227,       1143,   -32.5000,  -151.4167,       5225,   349.9,  10.6294,  34.7004,-999.0000,9,   -999.0,9,  -999.0,9, -999.00,9, -999.00,9, -999.00,9, -999.00,9,-999.000,9,-999.000,9,-999.000,9,-999.0000,9,  -999.0,9,  -999.0,9,-999.0000,9,  -999.00,-999.000,9,-999.0000,9, -999.00,9, -999.00,9,  -999.0,9,  -999.0,-999.000,9,-999.000,  -999.0,9,-999.000,-999.0000, -999.00,  10.5870,  10.6267,2,20091227,       1359
318M20091121,        P06,     119,          2,         26,         26,2,20091227,       1143,   -32.5000,  -151.4167,       5225,   400.6,   9.4815,  34.5761,  34.5744,2,    214.5,2,   214.6,2,    3.58,2,   16.34,2,    0.00,2,    1.21,2,   2.935,2,   1.644,2,-999.000,1,    0.635,2,  -999.0,9,  2282.9,3,   7.7678,2,    25.00,-999.000,9,-999.0000,9, -999.00,9, -999.00,9,  -999.0,9,  -999.0,-999.000,9,-999.000,  -999.0,9,-999.000,-999.0000, -999.00,   9.4363,   9.4952,2,20091227,       1356
318M20091121,        P06,     119,          2,         25,         25,2,20091227,       1143,   -32.5000,  -151.4167,       5225,   502.8,   7.7530,  34.4346,  34.4344,2,    231.9,2,   232.3,2,    4.92,2,   19.58,2,    0.00,2,    1.40,2,   3.131,2,   1.715,2,-999.000,1,     0.59,2,  -999.0,9,  2285.5,2,   7.7422,2,    25.00,-999.000,9,-999.0000,9, -999.00,9, -999.00,9,  -999.0,9,  -999.0,-999.000,9,-999.000,  -999.0,9,-999.000,-999.0000, -999.00,   7.7025,   7.7611,2,20091227,       1352
318M20091121,        P06,     119,          2,         24,         24,2,20091227,       1143,   -32.5000,  -151.4167,       5225,   601.9,   6.9186,  34.3703,  34.3700,2,    241.1,2,   241.5,2,    6.47,2,   21.36,2,    0.00,2,    1.50,2,   3.125,2,   1.701,2,-999.000,1,    0.549,2,  -999.0,9,  2282.4,2,   7.7350,2,    25.00,-999.000,9,-999.0000,9, -999.00,9, -999.00,9,  -999.0,9,  -999.0,-999.000,9,-999.000,  -999.0,9,-999.000,-999.0000, -999.00,   6.8615,   6.9186,2,20091227,       1349
318M20091121,        P06,     119,          2,         23,         23,2,20091227,       1143,   -32.5000,  -151.4167,       5225,   703.5,   6.4268,  34.3405,  34.3397,2,    239.9,2,   240.5,2,    8.22,2,   22.85,2,    0.00,2,    1.57,2,   2.590,2,   1.373,2,-999.000,1,    0.482,2,  -999.0,9,  2279.0,2,   7.7361,2,    25.00,-999.000,9,-999.0000,9, -999.00,9, -999.00,9,  -999.0,9,  -999.0,-999.000,9,-999.000,  -999.0,9,-999.000,-999.0000, -999.00,   6.3622,   6.4280,2,20091227,       1345
318M20091121,        P06,     119,          2,         22,         22,2,20091227,       1143,   -32.5000,  -151.4167,       5225,   804.8,   5.9462,  34.3162,  34.3154,2,    234.7,2,   234.4,2,   10.97,2,   24.50,2,    0.00,2,    1.69,2,   2.035,2,   1.053,2,-999.000,1,    0.365,2,  -999.0,9,  2282.9,2,   7.7081,2,    25.00,-999.000,9,-999.0000,9, -999.00,9, -999.00,9,  -999.0,9,  -999.0,-999.000,9,-999.000,  -999.0,9,-999.000,-999.0000, -999.00,   5.8747,   5.9498,2,20091227,       1341
318M20091121,        P06,     119,          2,         21,         21,2,20091227,       1143,   -32.5000,  -151.4167,       5225,   905.8,   5.4394,  34.3058,  34.3064,2,    222.8,2,   223.6,2,   15.92,2,   26.59,2,    0.00,2,    1.84,2,   1.431,2,   0.726,2,-999.000,1,    0.187,2,  -999.0,9,  2289.5,2,   7.6833,2,    25.00,-999.000,9,-999.0000,9, -999.00,9, -999.00,9,  -999.0,9,  -999.0,-999.000,9,-999.000,  -999.0,9,-999.000,-999.0000, -999.00,   5.3618,   5.4408,2,20091227,       1338
318M20091121,        P06,     119,          2,         20,         20,2,20091227,       1143,   -32.5000,  -151.4167,       5225,  1006.7,   4.9159,  34.3145,  34.3135,2,    210.7,2,   210.5,2,   22.88,2,   28.65,2,    0.00,2,    1.98,2,   0.866,2,   0.434,2,-999.000,1,    0.061,2,  -999.0,9,  2289.6,3,   7.6591,2,    25.00,-999.000,9,-999.0000,9, -999.00,9, -999.00,9,  -999.0,9,  -999.0,-999.000,9,-999.000,  -999.0,9,-999.000,-999.0000, -999.00,   4.8329,   4.9179,2,20091227,       1335
318M20091121,        P06,     119,          2,         19,         19,2,20091227,       1143,   -32.5000,  -151.4167,       5225,  1109.0,   4.3537,  34.3319,  34.3263,3,    198.2,2,   199.4,2,   31.46,2,   30.47,2,    0.00,2,    2.10,2,   0.553,2,   0.276,2,-999.000,1,        0,2,  -999.0,9,  2301.5,6,   7.6320,2,    25.00,-999.000,9,-999.0000,9, -999.00,9, -999.00,9,  -999.0,9,  -999.0,-999.000,9,-999.000,  -999.0,9,-999.000,-999.0000, -999.00,   4.2662,   4.3563,2,20091227,       1332
318M20091121,        P06,     119,          2,         18,         18,2,20091227,       1143,   -32.5000,  -151.4167,       5225,  1210.8,   3.7369,  34.3723,  34.3718,2,    188.8,2,   187.6,2,   42.87,2,   32.11,2,    0.00,2,    2.21,2,   0.332,2,   0.168,2,-999.000,1,        0,2,  -999.0,9,  -999.0,9,-999.0000,9,  -999.00,-999.000,9,-999.0000,9, -999.00,9, -999.00,9,  -999.0,9,  -999.0,-999.000,9,-999.000,  -999.0,9,-999.000,-999.0000, -999.00,   3.6461,   3.7362,2,20091227,       1328
318M20091121,        P06,     119,          2,         17,         17,2,20091227,       1143,   -32.5000,  -151.4167,       5225,  1311.0,   3.3430,  34.4174,  34.4166,2,    180.4,2,   179.4,2,   52.89,2,   33.00,2,    0.00,2,    2.27,2,   0.182,2,   0.096,2,-999.000,1,        0,2,  -999.0,9,  2306.6,3,   7.5938,2,    25.00,-999.000,9,-999.0000,9, -999.00,9, -999.00,9,  -999.0,9,  -999.0,-999.000,9,-999.000,  -999.0,9,-999.000,-999.0000, -999.00,   3.2475,   3.3431,2,20091227,       1324
318M20091121,        P06,     119,          2,         16,         16,2,20091227,       1143,   -32.5000,  -151.4167,       5225,  1410.8,   3.0579,  34.4657,  34.4648,2,    172.7,2,   173.2,2,   62.52,2,   33.50,2,    0.00,2,    2.33,2,   0.086,2,   0.048,2,-999.000,1,        0,2,  -999.0,9,  -999.0,9,-999.0000,9,  -999.00,-999.000,9,-999.0000,9, -999.00,9, -999.00,9,  -999.0,9,  -999.0,-999.000,9,-999.000,  -999.0,9,-999.000,-999.0000, -999.00,   2.9571,   3.0579,2,20091227,       1321
318M20091121,        P06,     119,          2,         15,         15,2,20091227,       1143,   -32.5000,  -151.4167,       5225,  1511.8,   2.8186,  34.5145,  34.5136,2,    166.3,2,   167.9,2,   72.59,2,   33.85,2,    0.00,2,    2.35,2,   0.047,2,   0.032,2,-999.000,1,        0,2,  -999.0,9,  2347.7,2,   7.5778,2,    25.00,-999.000,9,-999.0000,9, -999.00,9, -999.00,9,  -999.0,9,  -999.0,-999.000,9,-999.000,  -999.0,9,-999.000,-999.0000, -999.00,   2.7120,   2.8193,2,20091227,       1316
318M20091121,        P06,     119,          2,         14,         14,2,20091227,       1143,   -32.5000,  -151.4167,       5225,  1614.7,   2.6486,  34.5523,  34.5515,2,    161.4,2,   162.8,2,   82.06,2,   34.09,2,    0.00,2,    2.37,2,   0.043,2,   0.028,2,-999.000,1,        0,2,  -999.0,9,  -999.0,9,-999.0000,9,  -999.00,-999.000,9,-999.0000,9, -999.00,9, -999.00,9,  -999.0,9,  -999.0,-999.000,9,-999.000,  -999.0,9,-999.000,-999.0000, -999.00,   2.5355,   2.6489,2,20091227,       1313
318M20091121,        P06,     119,          2,         13,         13,2,20091227,       1143,   -32.5000,  -151.4167,       5225,  1817.0,   2.3847,  34.6010,  34.6007,2,    155.9,2,   156.7,2,   97.05,2,   34.40,2,    0.00,2,    2.41,2,   0.012,2,   0.008,2,-999.000,1,        0,2,  -999.0,9,  2376.3,2,   7.5783,2,    25.00,-999.000,9,-999.0000,9, -999.00,9, -999.00,9,  -999.0,9,  -999.0,-999.000,9,-999.000,  -999.0,9,-999.000,-999.0000, -999.00,   2.2581,   2.3843,2,20091227,       1307
318M20091121,        P06,     119,          2,         12,         12,2,20091227,       1143,   -32.5000,  -151.4167,       5225,  2019.2,   2.2136,  34.6285,  34.6281,2,    152.6,2,   152.9,2,  106.78,2,   34.64,2,    0.00,2,    2.41,2,   0.016,2,   0.013,2,-999.000,1,        0,2,  -999.0,9,  -999.0,9,-999.0000,9,  -999.00,-999.000,9,-999.0000,9, -999.00,9, -999.00,9,  -999.0,9,  -999.0,-999.000,9,-999.000,  -999.0,9,-999.000,-999.0000, -999.00,   2.0723,   2.2146,2,20091227,       1301
318M20091121,        P06,     119,          2,         11,         11,2,20091227,       1143,   -32.5000,  -151.4167,       5225,  2254.2,   2.0498,  34.6457,  34.6448,2,    150.5,2,   150.7,2,  115.11,2,   34.84,2,    0.00,2,    2.43,2,   0.012,2,   0.009,2,-999.000,1,        0,2,  -999.0,9,  2399.5,2,   7.5767,2,    25.00,-999.000,9,-999.0000,9, -999.00,9, -999.00,9,  -999.0,9,  -999.0,-999.000,9,-999.000,  -999.0,9,-999.000,-999.0000, -999.00,   1.8907,   2.0491,2,20091227,       1254
318M20091121,        P06,     119,          2,         10,         10,2,20091227,       1143,   -32.5000,  -151.4167,       5225,  2526.9,   1.9041,  34.6574,  34.6572,2,    151.4,2,   151.9,3,  121.00,2,   34.94,2,    0.00,2,    2.44,2,   0.022,2,   0.015,2,-999.000,1,        0,2,  -999.0,9,  -999.0,9,-999.0000,9,  -999.00,-999.000,9,-999.0000,9, -999.00,9, -999.00,9,  -999.0,9,  -999.0,-999.000,9,-999.000,  -999.0,9,-999.000,-999.0000, -999.00,   1.7231,   1.9042,2,20091227,       1247
318M20091121,        P06,     119,          2,          9,          9,2,20091227,       1143,   -32.5000,  -151.4167,       5225,  2784.6,   1.8043,  34.6663,  34.6657,2,    153.1,2,   152.3,2,  125.04,2,   34.88,2,    0.00,2,    2.44,2,   0.024,2,   0.017,2,-999.000,1,        0,2,  -999.0,9,  2400.2,2,   7.5812,2,    25.00,-999.000,9,-999.0000,9, -999.00,9, -999.00,9,  -999.0,9,  -999.0,-999.000,9,-999.000,  -999.0,9,-999.000,-999.0000, -999.00,   1.6014,   1.8042,2,20091227,       1241
318M20091121,        P06,     119,          2,          8,          8,2,20091227,       1143,   -32.5000,  -151.4167,       5225,  3041.3,   1.7357,  34.6745,  34.6746,2,    155.1,2,   156.0,2,  126.43,2,   34.68,2,    0.00,2,    2.42,2,   0.013,2,   0.009,2,-999.000,1,        0,2,  -999.0,9,  -999.0,9,-999.0000,9,  -999.00,-999.000,9,-999.0000,9, -999.00,9, -999.00,9,  -999.0,9,  -999.0,-999.000,9,-999.000,  -999.0,9,-999.000,-999.0000, -999.00,   1.5097,   1.7356,2,20091227,       1235
318M20091121,        P06,     119,          2,          7,          7,2,20091227,       1143,   -32.5000,  -151.4167,       5225,  3340.2,   1.6233,  34.6895,  34.6897,2,    166.3,2,   167.6,2,  121.67,2,   33.72,2,    0.00,2,    2.35,2,   0.028,2,   0.019,2,-999.000,1,        0,2,  -999.0,9,  2393.7,2,   7.5923,2,    25.00,-999.000,9,-999.0000,9, -999.00,9, -999.00,9,  -999.0,9,  -999.0,-999.000,9,-999.000,  -999.0,9,-999.000,-999.0000, -999.00,   1.3702,   1.6232,2,20091227,       1228
318M20091121,        P06,     119,          2,          6,          6,2,20091227,       1143,   -32.5000,  -151.4167,       5225,  3648.4,   1.5111,  34.7034,  34.7033,2,    181.2,2,   181.6,2,  115.49,2,   32.56,2,    0.00,2,    2.25,2,   0.013,2,   0.009,2,-999.000,1,        0,2,  -999.0,9,  -999.0,9,-999.0000,9,  -999.00,-999.000,9,-999.0000,9, -999.00,9, -999.00,9,  -999.0,9,  -999.0,-999.000,9,-999.000,  -999.0,9,-999.000,-999.0000, -999.00,   1.2292,   1.5118,2,20091227,       1221
318M20091121,        P06,     119,          2,          5,         37,2,20091227,       1143,   -32.5000,  -151.4167,       5225,  3958.8,   1.3737,  34.7099,  34.7096,2,    192.0,2,   191.8,2,  113.40,2,   31.92,2,    0.00,2,    2.20,2,   0.031,2,   0.019,2,-999.000,1,        0,2,  -999.0,9,  -999.0,9,-999.0000,9,  -999.00,-999.000,9,-999.0000,9, -999.00,9, -999.00,9,  -999.0,9,  -999.0,-999.000,9,-999.000,  -999.0,9,-999.000,-999.0000, -999.00,   1.0626,   1.3738,2,20091227,       1214
318M20091121,        P06,     119,          2,          4,          4,2,20091227,       1143,   -32.5000,  -151.4167,       5225,  4265.3,   1.2318,  34.7083,  34.7081,2,    196.3,2,   197.0,2,  115.81,2,   31.81,2,    0.00,2,    2.20,2,   0.022,2,   0.013,2,-999.000,1,        0,2,  -999.0,9,  -999.0,9,-999.0000,9,  -999.00,-999.000,9,-999.0000,9, -999.00,9, -999.00,9,  -999.0,9,  -999.0,-999.000,9,-999.000,  -999.0,9,-999.000,-999.0000, -999.00,   0.8913,   1.2325,2,20091227,       1206
318M20091121,        P06,     119,          2,          3,          3,2,20091227,       1143,   -32.5000,  -151.4167,       5225,  4574.8,   1.1595,  34.7103,  34.7140,3,    201.7,2,   201.9,2,  115.96,2,   31.52,2,    0.00,2,    2.19,2,   0.037,2,   0.024,2,-999.000,1,        0,2,  -999.0,9,  2373.8,2,   7.6165,2,    25.00,-999.000,9,-999.0000,9, -999.00,9, -999.00,9,  -999.0,9,  -999.0,-999.000,9,-999.000,  -999.0,9,-999.000,-999.0000, -999.00,   0.7864,   1.1594,2,20091227,       1159
318M20091121,        P06,     119,          2,          2,          2,2,20091227,       1143,   -32.5000,  -151.4167,       5225,  4935.9,   1.1466,  34.7102,  34.7110,2,    203.4,2,   204.2,2,  116.54,2,   31.51,2,    0.00,2,    2.18,2,   0.032,2,   0.019,2,-999.000,1,        0,2,  -999.0,9,  -999.0,9,-999.0000,9,  -999.00,-999.000,9,-999.0000,9, -999.00,9, -999.00,9,  -999.0,9,  -999.0,-999.000,9,-999.000,  -999.0,9,-999.000,-999.0000, -999.00,   0.7317,   1.1467,2,20091227,       1152
318M20091121,        P06,     119,          2,          1,          1,2,20091227,       1143,   -32.5000,  -151.4167,       5225,  5306.9,   1.1536,  34.7097,  34.7095,2,    204.9,2,   205.1,2,  117.11,2,   31.51,2,    0.00,2,    2.17,2,   0.050,2,   0.029,2,-999.000,1,        0,2,  -999.0,9,  2375.4,6,   7.6217,6,    25.00,-999.000,9,-999.0000,9, -999.00,9, -999.00,9,  -999.0,9,  -999.0,-999.000,9,-999.000,  -999.0,9,-999.000,-999.0000, -999.00,   0.6935,   1.1535,2,20091227,       1143