BOTTLE,20220818CCHSIOAMB
EXPOCODE,SECT_ID,STNNBR,CASTNO,SAMPNO,BTLNBR,BTLNBR_FLAG_W,DATE,TIME,LATITUDE,LONGITUDE,DEPTH,CTDPRS,CTDTMP,CTDSAL,SALNTY,SALNTY_FLAG_W,CTDOXY,CTDOXY_FLAG_W,OXYGEN,OXYGEN_FLAG_W,SILCAT,SILCAT_FLAG_W,NITRAT,NITRAT_FLAG_W,NITRIT,NITRIT_FLAG_W,PHSPHT,PHSPHT_FLAG_W,CFC-11,CFC-11_FLAG_W,CFC-12,CFC-12_FLAG_W,CFC113,CFC113_FLAG_W,SF6,SF6_FLAG_W,TCARBN,TCARBN_FLAG_W,ALKALI,ALKALI_FLAG_W,PH_SWS,PH_SWS_FLAG_W,PH_TMP,TRITUM,TRITUM_FLAG_W,HELIUM,HELIUM_FLAG_W,DELHE3,DELHE3_FLAG_W,DELC13,DELC13_FLAG_W,DELC14,DELC14_FLAG_W,C14ERR,NEON,NEON_FLAG_W,NEONER,DOC,DOC_FLAG_W,TRITER,HELIER,DELHER,THETA,SBE35,SBE35_FLAG_W,BTL_DATE,BTL_TIME
,,,,,,,,,,,METERS,DBAR,ITS-90,PSS-78,PSS-78,,UMOL/KG,,UMOL/KG,,UMOL/KG,,UMOL/KG,,UMOL/KG,,UMOL/KG,,PMOL/KG,,PMOL/KG,,PMOL/KG,,FMOL/KG,,UMOL/KG,,UMOL/KG,,,,DEG C,TU,,NMOL/KG,,PERCNT,,/MILLE,,/MILLE,,/MILLE,NMOL/KG,,NMOL/KG,UMOL/KG,,TU,NMOL/KG,PERCNT,DEG C,ITS-90,,,
318M20091121,        P06,     110,          1,         36,         36,2,20091224,       0730,   -32.5000,  -157.8600,       5407,     3.7,  21.1113,  35.3976,  35.3973,2,    223.8,2,   223.5,2,    0.24,2,    0.00,2,    0.00,2,    0.08,2,   1.969,2,   1.328,2,-999.000,1,    1.131,2,  1933.6,4,  2321.1,6,   8.0180,2,    25.00,-999.000,9,-999.0000,9, -999.00,9,    1.08,2,    68.3,2,     3.3,-999.000,9,-999.000,    58.7,2,-999.000,-999.0000, -999.00,  21.1106,  21.1094,2,20091224,       0947
318M20091121,        P06,     110,          1,         35,         35,2,20091224,       0730,   -32.5000,  -157.8600,       5407,    26.4,  21.1098,  35.3962,  35.3962,2,    224.4,2,   224.2,2,   -0.01,2,    0.00,2,    0.00,2,    0.08,2,   1.950,6,   1.299,6,-999.000,1,   1.1685,6,  1930.9,4,  2320.4,2,   8.0170,6,    25.00,-999.000,9,-999.0000,9, -999.00,9, -999.00,9,  -999.0,9,  -999.0,-999.000,9,-999.000,    60.2,2,-999.000,-999.0000, -999.00,  21.1047,  21.1078,2,20091224,       0945
318M20091121,        P06,     110,          1,         34,         34,2,20091224,       0730,   -32.5000,  -157.8600,       5407,    50.4,  19.0734,  35.4421,  35.4380,2,    238.4,2,   238.8,2,   -0.06,2,    0.00,2,    0.00,2,    0.09,2,   2.182,2,   1.443,2,-999.000,1,    1.127,2,  2039.3,2,  2322.3,2,   8.0125,2,    25.00,-999.000,9,-999.0000,9, -999.00,9, -999.00,9,  -999.0,9,  -999.0,-999.000,9,-999.000,    60.5,2,-999.000,-999.0000, -999.00,  19.0644,  19.0868,2,20091224,       0943
318M20091121,        P06,     110,          1,         33,         33,2,20091224,       0730,   -32.5000,  -157.8600,       5407,    72.8,  17.7290,  35.4601,  35.4631,2,    238.8,2,   240.2,2,    0.09,2,    0.00,2,    0.00,2,    0.10,2,   2.287,2,   1.517,2,-999.000,1,    1.173,2,  2043.4,2,  2324.4,2,   8.0079,2,    25.00,-999.000,9,-999.0000,9, -999.00,9,    1.14,2,    70.4,2,     3.2,-999.000,9,-999.000,    57.6,2,-999.000,-999.0000, -999.00,  17.7166,  17.7015,2,20091224,       0941
318M20091121,        P06,     110,          1,         32,         32,2,20091224,       0730,   -32.5000,  -157.8600,       5407,   102.0,  16.8266,  35.4047,  35.4053,2,    237.0,2,   236.5,2,    0.03,2,   -0.01,2,    0.01,2,    0.13,2,   2.347,2,   1.546,2,-999.000,1,    1.185,2,  2053.7,2,  2325.3,2,   7.9905,2,    25.00,-999.000,9,-999.0000,9, -999.00,9,    1.10,2,    64.5,2,     3.7,-999.000,9,-999.000,    57.4,2,-999.000,-999.0000, -999.00,  16.8099,  16.8578,3,20091224,       0939
318M20091121,        P06,     110,          1,         31,         31,2,20091224,       0730,   -32.5000,  -157.8600,       5407,   152.0,  15.9262,  35.3514,  35.3540,2,    226.7,2,   217.7,2,    0.78,2,    2.19,2,    0.03,2,    0.32,2,   2.419,2,   1.573,2,-999.000,1,    0.943,2,  2074.3,2,  2320.8,2,   7.9408,2,    25.00,-999.000,9,-999.0000,9, -999.00,9, -999.00,9,  -999.0,9,  -999.0,-999.000,9,-999.000,    49.6,2,-999.000,-999.0000, -999.00,  15.9022,  15.9469,2,20091224,       0937
318M20091121,        P06,     110,          1,         30,         30,3,20091224,       0730,   -32.5000,  -157.8600,       5407,   211.4,  14.5302,  35.2082,-999.0000,9,   -999.0,9,  -999.0,9,    1.53,2,    6.18,2,    0.01,2,    0.59,2,-999.000,9,-999.000,9,-999.000,9,-999.0000,9,  2098.7,2,  2313.9,2,   7.8858,2,    25.00,-999.000,9,-999.0000,9, -999.00,9,    0.99,2,    71.2,2,     3.1,-999.000,9,-999.000,    42.9,2,-999.000,-999.0000, -999.00,  14.4988,  14.5225,2,20091224,       0934
318M20091121,        P06,     110,          1,         29,         29,9,20091224,       0730,   -32.5000,  -157.8600,       5407,   278.6,  12.7618,  35.0072,-999.0000,9,   -999.0,9,  -999.0,9, -999.00,9, -999.00,9, -999.00,9, -999.00,9,-999.000,9,-999.000,9,-999.000,9,-999.0000,9,  -999.0,9,  -999.0,9,-999.0000,9,  -999.00,-999.000,9,-999.0000,9, -999.00,9, -999.00,9,  -999.0,9,  -999.0,-999.000,9,-999.000,  -999.0,9,-999.000,-999.0000, -999.00,  12.7238,  12.7616,2,20091224,       0931
318M20091121,        P06,     110,          1,         28,         28,2,20091224,       0730,   -32.5000,  -157.8600,       5407,   280.8,  12.7782,  35.0094,  35.0055,2,    202.7,2,   201.2,2,    2.29,2,   10.10,2,    0.01,2,    0.81,2,   2.682,2,   1.618,2,-999.000,1,    0.832,2,  2115.9,2,  2305.7,2,   7.8363,2,    25.00,-999.000,9,-999.0000,9, -999.00,9,    1.01,2,    66.4,2,     3.1,-999.000,9,-999.000,    43.2,2,-999.000,-999.0000, -999.00,  12.7399,  12.7666,2,20091224,       0931
318M20091121,        P06,     110,          1,         27,         27,2,20091224,       0730,   -32.5000,  -157.8600,       5407,   351.5,  10.6868,  34.7645,  34.7669,2,    209.2,2,   209.4,2,    3.25,2,   14.01,2,    0.00,2,    1.06,2,   2.871,2,   1.696,2,-999.000,1,    0.779,2,  2122.0,2,  2290.6,2,   7.7920,2,    25.00,-999.000,9,-999.0000,9, -999.00,9,    1.09,2,    46.4,2,     3.1,-999.000,9,-999.000,    42.8,2,-999.000,-999.0000, -999.00,  10.6441,  10.6903,2,20091224,       0929
318M20091121,        P06,     110,          1,         26,         26,2,20091224,       0730,   -32.5000,  -157.8600,       5407,   402.2,   9.5188,  34.6244,  34.6245,2,    216.3,2,   215.9,2,    3.79,2,   16.46,2,    0.00,2,    1.20,2,   2.976,2,   1.725,2,-999.000,1,    0.749,2,  2128.1,2,  2286.8,2,   7.7684,2,    25.00,-999.000,9,-999.0000,9, -999.00,9,    1.13,2,    40.6,2,     3.7,-999.000,9,-999.000,    41.1,2,-999.000,-999.0000, -999.00,   9.4733,   9.5217,2,20091224,       0927
318M20091121,        P06,     110,          1,         25,         25,2,20091224,       0730,   -32.5000,  -157.8600,       5407,   505.3,   7.8496,  34.4564,  34.4595,2,    232.8,2,   232.9,2,    5.15,2,   19.85,2,    0.00,2,    1.39,2,   3.293,2,   1.853,2,-999.000,1,    0.668,2,  2135.7,2,  2283.9,2,   7.7454,2,    25.00,-999.000,9,-999.0000,9, -999.00,9,    1.19,2,    26.8,2,     3.2,-999.000,9,-999.000,    41.5,2,-999.000,-999.0000, -999.00,   7.7984,   7.8699,2,20091224,       0924
318M20091121,        P06,     110,          1,         24,         24,2,20091224,       0730,   -32.5000,  -157.8600,       5407,   606.0,   7.1728,  34.3986,  34.3989,2,    239.3,2,   239.3,2,    6.32,2,   21.62,2,    0.00,2,    1.50,2,   3.160,2,   1.750,2,-999.000,1,    0.485,2,  2136.8,2,  2283.1,2,   7.7373,2,    25.00,-999.000,9,-999.0000,9, -999.00,9,    1.25,2,    16.9,2,     2.9,-999.000,9,-999.000,  -999.0,9,-999.000,-999.0000, -999.00,   7.1141,   7.1799,2,20091224,       0921
318M20091121,        P06,     110,          1,         23,         23,2,20091224,       0730,   -32.5000,  -157.8600,       5407,   705.0,   6.6348,  34.3605,  34.3605,2,    238.7,2,   238.7,2,    8.08,2,   23.28,2,    0.00,2,    1.60,2,   2.604,2,   1.400,2,-999.000,1,    0.404,2,  2141.1,2,  2284.7,2,   7.7287,2,    25.00,-999.000,9,-999.0000,9, -999.00,9,    1.30,2,     7.9,2,     4.1,-999.000,9,-999.000,    39.4,2,-999.000,-999.0000, -999.00,   6.5690,   6.6356,2,20091224,       0918
318M20091121,        P06,     110,          1,         22,         22,2,20091224,       0730,   -32.5000,  -157.8600,       5407,   805.9,   6.1714,  34.3329,  34.3330,2,    232.6,2,   233.6,2,   10.45,2,   24.89,2,    0.00,2,    1.70,2,   2.010,2,   1.075,2,-999.000,1,    0.196,2,  2148.7,2,  2284.3,6,   7.7168,2,    25.00,-999.000,9,-999.0000,9, -999.00,9,    1.29,2,   -14.7,2,     3.0,-999.000,9,-999.000,  -999.0,9,-999.000,-999.0000, -999.00,   6.0984,   6.1728,2,20091224,       0915
318M20091121,        P06,     110,          1,         21,         21,2,20091224,       0730,   -32.5000,  -157.8600,       5407,   907.9,   5.5991,  34.3155,  34.3153,2,    223.8,2,   223.2,2,   15.26,2,   27.14,2,    0.00,2,    1.85,2,   1.370,2,   0.714,2,-999.000,1,    0.082,2,  2158.4,2,  2288.1,2,   7.6905,2,    25.00,-999.000,9,-999.0000,9, -999.00,9,    1.21,2,   -39.9,2,     2.6,-999.000,9,-999.000,    39.3,2,-999.000,-999.0000, -999.00,   5.5202,   5.6108,2,20091224,       0913
318M20091121,        P06,     110,          1,         20,         20,2,20091224,       0730,   -32.5000,  -157.8600,       5407,  1008.1,   4.9109,  34.3196,  34.3200,2,    210.0,2,   208.1,2,   23.93,2,   29.86,2,    0.00,2,    2.03,2,   0.834,2,   0.435,2,-999.000,1,        0,2,  2178.8,2,  2290.7,2,   7.6582,2,    25.00,-999.000,9,-999.0000,9, -999.00,9,    1.08,2,   -70.8,2,     2.9,-999.000,9,-999.000,  -999.0,9,-999.000,-999.0000, -999.00,   4.8278,   4.9139,2,20091224,       0910
318M20091121,        P06,     110,          1,         19,         19,2,20091224,       0730,   -32.5000,  -157.8600,       5407,  1106.5,   4.2706,  34.3369,  34.3373,2,    199.7,2,   197.5,2,   33.42,2,   31.91,2,    0.00,2,    2.17,2,   0.551,2,   0.273,2,-999.000,1,        0,2,  2198.9,2,  2299.8,2,   7.6301,2,    25.00,-999.000,9,-999.0000,9, -999.00,9,    0.98,2,  -100.9,2,     2.9,-999.000,9,-999.000,    37.5,2,-999.000,-999.0000, -999.00,   4.1840,   4.2716,2,20091224,       0907
318M20091121,        P06,     110,          1,         18,         18,2,20091224,       0730,   -32.5000,  -157.8600,       5407,  1210.0,   3.7779,  34.3715,  34.3723,2,    189.4,2,   188.9,2,   43.13,2,   33.25,2,    0.00,2,    2.27,2,   0.311,2,   0.161,2,-999.000,1,        0,2,  2215.8,2,  2316.1,2,   7.6094,2,    25.00,-999.000,9,-999.0000,9, -999.00,9,    0.84,2,  -112.6,2,     2.8,-999.000,9,-999.000,  -999.0,9,-999.000,-999.0000, -999.00,   3.6868,   3.7779,2,20091224,       0904
318M20091121,        P06,     110,          1,         17,         17,2,20091224,       0730,   -32.5000,  -157.8600,       5407,  1313.3,   3.4300,  34.4099,  34.4098,2,    180.4,2,   180.6,2,   51.63,2,   34.16,2,    0.00,2,    2.33,2,   0.182,2,   0.099,2,-999.000,1,        0,2,  2228.0,2,  2322.3,2,   7.5963,2,    25.00,-999.000,9,-999.0000,9, -999.00,9,    0.75,2,  -134.4,2,     3.0,-999.000,9,-999.000,    37.7,2,-999.000,-999.0000, -999.00,   3.3335,   3.4325,2,20091224,       0902
318M20091121,        P06,     110,          1,         16,         16,2,20091224,       0730,   -32.5000,  -157.8600,       5407,  1415.1,   3.0549,  34.4678,  34.4676,2,    173.7,2,   173.0,2,   63.43,2,   34.81,2,    0.00,2,    2.38,2,   0.081,2,   0.049,2,-999.000,1,        0,2,  2246.0,2,  2331.1,2,   7.5867,2,    25.00,-999.000,9,-999.0000,9, -999.00,9,    0.68,2,  -153.1,2,     2.6,-999.000,9,-999.000,  -999.0,9,-999.000,-999.0000, -999.00,   2.9537,   3.0592,2,20091224,       0859
318M20091121,        P06,     110,          1,         15,         15,2,20091224,       0730,   -32.5000,  -157.8600,       5407,  1615.6,   2.6388,  34.5610,  34.5618,2,    161.1,2,   160.3,2,   84.69,2,   35.35,2,    0.00,2,    2.43,2,   0.024,2,   0.016,2,-999.000,1,        0,2,  2271.7,2,  2356.3,2,   7.5770,2,    25.00,-999.000,9,-999.0000,9, -999.00,9,    0.51,2,  -184.8,2,     2.4,-999.000,9,-999.000,    37.7,2,-999.000,-999.0000, -999.00,   2.5257,   2.6388,2,20091224,       0854
318M20091121,        P06,     110,          1,         14,         14,2,20091224,       0730,   -32.5000,  -157.8600,       5407,  1818.5,   2.4031,  34.6050,  34.6055,2,    154.9,2,   155.0,2,   99.23,2,   35.74,2,    0.00,2,    2.46,2,   0.017,2,   0.014,2,-999.000,1,        0,2,  2288.6,2,  2377.7,2,   7.5773,2,    25.00,-999.000,9,-999.0000,9, -999.00,9,    0.40,2,  -198.6,2,     2.2,-999.000,9,-999.000,  -999.0,9,-999.000,-999.0000, -999.00,   2.2761,   2.4033,2,20091224,       0849
318M20091121,        P06,     110,          1,         13,         13,2,20091224,       0730,   -32.5000,  -157.8600,       5407,  2019.0,   2.2269,  34.6283,  34.6286,2,    151.0,2,   151.6,2,  109.28,2,   35.97,2,    0.00,2,    2.48,2,   0.010,2,   0.009,2,-999.000,1,        0,2,  2300.3,2,  2388.9,2,   7.5763,2,    25.00,-999.000,9,-999.0000,9, -999.00,9,    0.36,2,  -204.9,2,     2.9,-999.000,9,-999.000,    38.3,2,-999.000,-999.0000, -999.00,   2.0854,   2.2265,2,20091224,       0844
318M20091121,        P06,     110,          1,         12,         12,2,20091224,       0730,   -32.5000,  -157.8600,       5407,  2326.4,   2.0362,  34.6469,  34.6477,2,    148.1,2,   148.1,2,  119.98,2,   36.35,2,    0.00,2,    2.51,2,   0.021,2,   0.015,2,-999.000,1,        0,2,  2311.4,2,  2401.2,2,   7.5765,2,    25.00,-999.000,9,-999.0000,9, -999.00,9,    0.25,2,  -217.3,2,     2.1,-999.000,9,-999.000,  -999.0,9,-999.000,-999.0000, -999.00,   1.8709,   2.0360,2,20091224,       0838
318M20091121,        P06,     110,          1,         11,         11,2,20091224,       0730,   -32.5000,  -157.8600,       5407,  2633.0,   1.9066,  34.6583,  34.6585,2,    148.3,2,   148.0,2,  125.73,2,   36.32,2,    0.00,2,    2.52,2,   0.008,2,   0.006,2,-999.000,1,        0,2,  2316.6,2,  2406.4,2,   7.5772,2,    25.00,-999.000,9,-999.0000,9, -999.00,9,    0.26,2,  -221.7,2,     2.2,-999.000,9,-999.000,    37.1,2,-999.000,-999.0000, -999.00,   1.7158,   1.9068,2,20091224,       0831
318M20091121,        P06,     110,          1,         10,         10,2,20091224,       0730,   -32.5000,  -157.8600,       5407,  2786.3,   1.8526,  34.6635,  34.6632,2,    149.4,2,   149.2,2,  127.35,2,   36.28,2,    0.00,2,    2.51,2,   0.014,2,   0.010,2,-999.000,1,        0,2,  2316.6,2,  2408.4,2,   7.5791,2,    25.00,-999.000,9,-999.0000,9, -999.00,9,    0.26,2,  -227.7,2,     2.2,-999.000,9,-999.000,  -999.0,9,-999.000,-999.0000, -999.00,   1.6486,   1.8534,2,20091224,       0827
318M20091121,        P06,     110,          1,          9,          9,2,20091224,       0730,   -32.5000,  -157.8600,       5407,  3041.0,   1.7833,  34.6706,  34.6711,2,    152.1,2,   152.5,2,  128.54,2,   36.04,2,    0.00,2,    2.50,2,   0.016,2,   0.012,2,-999.000,1,        0,2,  2315.2,2,  2405.5,2,   7.5811,2,    25.00,-999.000,9,-999.0000,9, -999.00,9,    0.21,2,  -214.2,2,     2.2,-999.000,9,-999.000,  -999.0,5,-999.000,-999.0000, -999.00,   1.5563,   1.7839,2,20091224,       0821
318M20091121,        P06,     110,          1,          8,          8,2,20091224,       0730,   -32.5000,  -157.8600,       5407,  3347.3,   1.6849,  34.6844,  34.6849,2,    162.0,2,   162.6,2,  125.17,2,   35.17,2,    0.00,2,    2.43,2,   0.011,2,   0.010,2,-999.000,1,        0,2,  2304.6,2,  2395.9,2,   7.5895,2,    25.00,-999.000,9,-999.0000,9, -999.00,9,    0.34,2,  -207.5,2,     2.7,-999.000,9,-999.000,  -999.0,9,-999.000,-999.0000, -999.00,   1.4296,   1.6851,2,20091224,       0815
318M20091121,        P06,     110,          1,          7,          7,2,20091224,       0730,   -32.5000,  -157.8600,       5407,  3653.8,   1.5634,  34.7038,  34.7042,2,    179.1,2,   180.7,2,  116.21,2,   33.52,2,    0.00,2,    2.32,2,   0.016,2,   0.012,2,-999.000,1,        0,2,  2285.3,2,  2384.4,2,   7.6021,2,    25.00,-999.000,9,-999.0000,9, -999.00,9,    0.41,2,  -187.8,2,     2.9,-999.000,9,-999.000,    36.1,2,-999.000,-999.0000, -999.00,   1.2796,   1.5648,2,20091224,       0809
318M20091121,        P06,     110,          1,          6,          6,2,20091224,       0730,   -32.5000,  -157.8600,       5407,  3958.6,   1.4000,  34.7145,  34.7155,2,    193.3,2,   194.0,2,  112.23,2,   32.44,2,    0.00,2,    2.25,2,   0.027,2,   0.019,2,-999.000,1,        0,2,  2268.7,2,  2374.7,2,   7.6115,2,    25.00,-999.000,9,-999.0000,9, -999.00,9,    0.53,2,  -172.7,2,     2.3,-999.000,9,-999.000,  -999.0,9,-999.000,-999.0000, -999.00,   1.0881,   1.4023,2,20091224,       0803
318M20091121,        P06,     110,          1,          5,         37,2,20091224,       0730,   -32.5000,  -157.8600,       5407,  4267.1,   1.2248,  34.7146,  34.7155,2,    201.0,2,   200.9,2,  114.04,2,   32.21,2,    0.00,2,    2.23,2,   0.027,2,   0.018,2,-999.000,1,        0,2,  2265.3,2,  -999.0,9,-999.0000,9,  -999.00,-999.000,9,-999.0000,9, -999.00,9,    0.48,2,  -170.7,2,     2.4,-999.000,9,-999.000,    38.3,2,-999.000,-999.0000, -999.00,   0.8843,   1.2255,2,20091224,       0757
318M20091121,        P06,     110,          1,          4,          4,2,20091224,       0730,   -32.5000,  -157.8600,       5407,  4576.1,   1.1223,  34.7120,  34.7122,2,    204.3,2,   204.3,2,  116.88,2,   32.18,2,    0.00,2,    2.23,2,   0.038,2,   0.023,2,-999.000,1,        0,2,  2265.3,2,  2367.2,2,   7.6180,2,    25.00,-999.000,9,-999.0000,9, -999.00,9,    0.50,2,  -171.9,2,     2.5,-999.000,9,-999.000,  -999.0,9,-999.000,-999.0000, -999.00,   0.7502,   1.1231,2,20091224,       0750
318M20091121,        P06,     110,          1,          3,          3,2,20091224,       0730,   -32.5000,  -157.8600,       5407,  4963.1,   1.0839,  34.7096,  34.7102,2,    206.0,2,   206.4,2,  118.90,2,   32.25,2,    0.00,2,    2.23,2,   0.052,2,   0.030,2,-999.000,1,        0,2,  2265.5,2,  2367.8,2,   7.6178,2,    25.00,-999.000,9,-999.0000,9, -999.00,9,    0.50,2,  -164.5,2,     2.3,-999.000,9,-999.000,  -999.0,5,-999.000,-999.0000, -999.00,   0.6679,   1.0845,2,20091224,       0742
318M20091121,        P06,     110,          1,          2,          2,2,20091224,       0730,   -32.5000,  -157.8600,       5407,  5349.4,   1.1165,  34.7090,  34.7106,2,    206.5,2,   205.9,2,  119.47,2,   32.22,2,    0.00,2,    2.23,2,   0.063,2,   0.037,2,-999.000,1,        0,2,  2265.6,2,  2366.1,6,   7.6170,2,    25.00,-999.000,9,-999.0000,9, -999.00,9,    0.50,2,  -166.4,2,     2.3,-999.000,9,-999.000,  -999.0,9,-999.000,-999.0000, -999.00,   0.6525,   1.1166,2,20091224,       0735
318M20091121,        P06,     110,          1,          1,          1,2,20091224,       0730,   -32.5000,  -157.8600,       5407,  5495.9,   1.1329,  34.7086,  34.7098,2,    206.1,2,   205.5,2,  119.83,2,   32.18,2,    0.00,2,    2.23,2,   0.066,2,   0.040,2,-999.000,1,    0.043,2,  2266.3,6,  2367.3,2,   7.6161,6,    25.00,-999.000,9,-999.0000,9, -999.00,9,    0.53,2,  -170.4,2,     2.7,-999.000,9,-999.000,    38.3,2,-999.000,-999.0000, -999.00,   0.6500,   1.1328,2,20091224,       0730