BOTTLE,20220818CCHSIOAMB
EXPOCODE,SECT_ID,STNNBR,CASTNO,SAMPNO,BTLNBR,BTLNBR_FLAG_W,DATE,TIME,LATITUDE,LONGITUDE,DEPTH,CTDPRS,CTDTMP,CTDSAL,SALNTY,SALNTY_FLAG_W,CTDOXY,CTDOXY_FLAG_W,OXYGEN,OXYGEN_FLAG_W,SILCAT,SILCAT_FLAG_W,NITRAT,NITRAT_FLAG_W,NITRIT,NITRIT_FLAG_W,PHSPHT,PHSPHT_FLAG_W,CFC-11,CFC-11_FLAG_W,CFC-12,CFC-12_FLAG_W,CFC113,CFC113_FLAG_W,SF6,SF6_FLAG_W,TCARBN,TCARBN_FLAG_W,ALKALI,ALKALI_FLAG_W,PH_SWS,PH_SWS_FLAG_W,PH_TMP,TRITUM,TRITUM_FLAG_W,HELIUM,HELIUM_FLAG_W,DELHE3,DELHE3_FLAG_W,DELC13,DELC13_FLAG_W,DELC14,DELC14_FLAG_W,C14ERR,NEON,NEON_FLAG_W,NEONER,DOC,DOC_FLAG_W,TRITER,HELIER,DELHER,THETA,SBE35,SBE35_FLAG_W,BTL_DATE,BTL_TIME
,,,,,,,,,,,METERS,DBAR,ITS-90,PSS-78,PSS-78,,UMOL/KG,,UMOL/KG,,UMOL/KG,,UMOL/KG,,UMOL/KG,,UMOL/KG,,PMOL/KG,,PMOL/KG,,PMOL/KG,,FMOL/KG,,UMOL/KG,,UMOL/KG,,,,DEG C,TU,,NMOL/KG,,PERCNT,,/MILLE,,/MILLE,,/MILLE,NMOL/KG,,NMOL/KG,UMOL/KG,,TU,NMOL/KG,PERCNT,DEG C,ITS-90,,,
318M20091121,        P06,      82,          1,         36,         36,2,20091213,       1828,   -32.4997,  -175.7500,       5851,     7.4,  19.7304,  35.2294,  35.2344,2,    236.0,2,   235.0,2,    1.01,2,    0.00,2,    0.00,2,    0.17,2,   2.262,2,   1.324,2,-999.000,1,    1.236,2,  2055.1,6,  2318.4,4,   7.9804,6,    25.00,-999.000,9,-999.0000,9, -999.00,9, -999.00,9,  -999.0,9,  -999.0,-999.000,9,-999.000,    58.2,2,-999.000,-999.0000, -999.00,  19.7290,  19.7201,2,20091213,       2113
318M20091121,        P06,      82,          1,         35,         35,2,20091213,       1828,   -32.4997,  -175.7500,       5851,    20.0,  19.4221,  35.5073,  35.5147,2,    240.7,2,   241.8,2,    0.57,2,    0.00,2,    0.00,2,    0.12,2,   2.257,2,   1.334,2,-999.000,1,    1.165,2,  2043.9,2,  2330.7,6,   8.0087,2,    25.00,-999.000,9,-999.0000,9, -999.00,9, -999.00,9,  -999.0,9,  -999.0,-999.000,9,-999.000,    59.3,2,-999.000,-999.0000, -999.00,  19.4185,  19.4200,2,20091213,       2110
318M20091121,        P06,      82,          1,         34,         34,2,20091213,       1828,   -32.4997,  -175.7500,       5851,    41.5,  17.6463,  35.5355,  35.5355,2,    249.0,2,   248.1,2,    0.55,2,    0.00,2,    0.00,2,    0.11,2,   2.351,2,   1.377,2,-999.000,1,     1.18,2,  2047.3,2,  2331.2,2,   8.0084,2,    25.00,-999.000,9,-999.0000,9, -999.00,9, -999.00,9,  -999.0,9,  -999.0,-999.000,9,-999.000,    60.2,2,-999.000,-999.0000, -999.00,  17.6393,  17.6467,2,20091213,       2108
318M20091121,        P06,      82,          1,         33,         33,2,20091213,       1828,   -32.4997,  -175.7500,       5851,    66.5,  16.2843,  35.5044,  35.5019,2,    229.6,2,   234.8,2,    1.15,2,    1.47,2,    0.05,2,    0.24,2,   2.424,2,   1.402,2,-999.000,1,    1.173,2,  2068.8,2,  2329.2,2,   7.9714,2,    25.00,-999.000,9,-999.0000,9, -999.00,9, -999.00,9,  -999.0,9,  -999.0,-999.000,9,-999.000,    57.1,2,-999.000,-999.0000, -999.00,  16.2736,  16.2812,2,20091213,       2106
318M20091121,        P06,      82,          1,         32,         32,2,20091213,       1828,   -32.4997,  -175.7500,       5851,    92.3,  15.6124,  35.4505,  35.4494,2,    223.8,2,   212.0,2,    1.75,2,    5.51,2,    0.02,2,    0.48,2,   2.417,2,   1.390,2,-999.000,1,    1.117,2,  2089.1,2,  2324.8,2,   7.9256,2,    25.00,-999.000,9,-999.0000,9, -999.00,9, -999.00,9,  -999.0,9,  -999.0,-999.000,9,-999.000,    53.0,2,-999.000,-999.0000, -999.00,  15.5980,  15.6141,2,20091213,       2103
318M20091121,        P06,      82,          1,         31,         31,2,20091213,       1828,   -32.4997,  -175.7500,       5851,   133.0,  14.7815,  35.3725,  35.3743,2,    226.1,2,   224.7,2,    1.73,2,    4.79,2,    0.04,2,    0.45,2,   2.553,6,   1.470,6,-999.000,1,    1.251,6,  2090.6,2,  2321.8,2,   7.9190,2,    25.00,-999.000,9,-999.0000,9, -999.00,9, -999.00,9,  -999.0,9,  -999.0,-999.000,9,-999.000,    53.0,2,-999.000,-999.0000, -999.00,  14.7615,  14.7805,2,20091213,       2101
318M20091121,        P06,      82,          1,         30,         30,2,20091213,       1828,   -32.4997,  -175.7500,       5851,   183.4,  14.1115,  35.3064,  35.2980,2,    236.4,2,   233.8,2,    1.49,2,    4.97,2,    0.01,2,    0.47,2,   2.655,2,   1.535,2,-999.000,1,    1.118,2,  2091.9,2,  2319.0,2,   7.9101,2,    25.00,-999.000,9,-999.0000,9, -999.00,9, -999.00,9,  -999.0,9,  -999.0,-999.000,9,-999.000,    53.9,2,-999.000,-999.0000, -999.00,  14.0848,  14.1159,2,20091213,       2058
318M20091121,        P06,      82,          1,         29,         29,2,20091213,       1828,   -32.4997,  -175.7500,       5851,   234.1,  13.2916,  35.1846,  35.1841,2,    209.5,2,   210.0,2,    2.71,2,    9.34,2,    0.01,2,    0.72,2,   2.622,2,   1.472,2,-999.000,1,     1.07,2,  2113.5,2,  2312.6,2,   7.8553,2,    25.00,-999.000,9,-999.0000,9, -999.00,9, -999.00,9,  -999.0,9,  -999.0,-999.000,9,-999.000,    47.1,2,-999.000,-999.0000, -999.00,  13.2588,  13.2936,2,20091213,       2056
318M20091121,        P06,      82,          1,         28,         28,2,20091213,       1828,   -32.4997,  -175.7500,       5851,   286.5,  12.5848,  35.0931,  35.0859,2,    207.6,2,   207.2,2,    3.12,2,   11.12,2,    0.00,2,    0.83,2,   2.699,2,   1.496,2,-999.000,1,    0.962,2,  2120.1,2,  2309.5,2,   7.8316,2,    25.00,-999.000,9,-999.0000,9, -999.00,9, -999.00,9,  -999.0,9,  -999.0,-999.000,9,-999.000,    48.2,2,-999.000,-999.0000, -999.00,  12.5461,  12.5747,2,20091213,       2053
318M20091121,        P06,      82,          1,         27,         27,2,20091213,       1828,   -32.4997,  -175.7500,       5851,   337.3,  11.6125,  34.9630,  34.9622,2,    206.3,2,   207.1,2,    3.71,2,   13.15,2,    0.00,2,    0.96,2,   2.746,2,   1.525,2,-999.000,1,    1.136,3,  2125.7,2,  2300.6,2,   7.8063,2,    25.00,-999.000,9,-999.0000,9, -999.00,9, -999.00,9,  -999.0,9,  -999.0,-999.000,9,-999.000,    48.5,2,-999.000,-999.0000, -999.00,  11.5692,  11.6213,2,20091213,       2050
318M20091121,        P06,      82,          1,         26,         26,2,20091213,       1828,   -32.4997,  -175.7500,       5851,   387.6,  10.7417,  34.8385,  34.8349,2,    204.7,2,   207.2,2,    4.31,2,   15.11,2,    0.00,2,    1.08,2,   2.814,2,   1.533,2,-999.000,1,    1.094,3,  2129.9,2,  2297.5,2,   7.7832,2,    25.00,-999.000,9,-999.0000,9, -999.00,9, -999.00,9,  -999.0,9,  -999.0,-999.000,9,-999.000,    44.7,2,-999.000,-999.0000, -999.00,  10.6943,  10.7427,2,20091213,       2047
318M20091121,        P06,      82,          1,         25,         25,2,20091213,       1828,   -32.4997,  -175.7500,       5851,   464.6,   9.2063,  34.6366,  34.6363,2,    211.0,2,   212.1,2,    5.32,2,   18.34,2,    0.00,2,    1.28,2,   2.821,2,   1.478,2,-999.000,1,    0.791,2,  2136.7,2,  2291.1,2,   7.7515,2,    25.00,-999.000,9,-999.0000,9, -999.00,9, -999.00,9,  -999.0,9,  -999.0,-999.000,9,-999.000,    42.2,2,-999.000,-999.0000, -999.00,   9.1546,   9.1952,2,20091213,       2044
318M20091121,        P06,      82,          1,         24,         24,2,20091213,       1828,   -32.4997,  -175.7500,       5851,   565.7,   7.9563,  34.4952,  34.4931,2,    219.7,2,   220.5,2,    6.55,2,   20.83,2,    0.00,2,    1.46,2,   2.755,2,   1.389,2,-999.000,1,    0.423,2,  2140.8,2,  2286.5,2,   7.7338,2,    25.00,-999.000,9,-999.0000,9, -999.00,9, -999.00,9,  -999.0,9,  -999.0,-999.000,9,-999.000,  -999.0,9,-999.000,-999.0000, -999.00,   7.8983,   7.9559,2,20091213,       2041
318M20091121,        P06,      82,          1,         23,         23,2,20091213,       1828,   -32.4997,  -175.7500,       5851,   667.3,   7.1792,  34.4236,  34.4222,2,    225.5,2,   226.3,2,    8.19,2,   22.56,2,    0.00,2,    1.56,2,   2.463,2,   1.215,2,-999.000,1,    0.271,2,  2144.0,2,  2285.5,2,   7.7234,2,    25.00,-999.000,9,-999.0000,9, -999.00,9, -999.00,9,  -999.0,9,  -999.0,-999.000,9,-999.000,    39.4,2,-999.000,-999.0000, -999.00,   7.1143,   7.1788,2,20091213,       2038
318M20091121,        P06,      82,          1,         22,         22,2,20091213,       1828,   -32.4997,  -175.7500,       5851,   769.7,   6.5383,  34.3812,  34.3797,2,    223.8,2,   223.2,2,   11.28,2,   24.39,2,    0.00,2,    1.69,2,   1.820,2,   0.886,2,-999.000,1,    0.168,2,  2150.4,2,  2287.5,6,   7.7101,2,    25.00,-999.000,9,-999.0000,9, -999.00,9, -999.00,9,  -999.0,9,  -999.0,-999.000,9,-999.000,  -999.0,9,-999.000,-999.0000, -999.00,   6.4666,   6.5380,2,20091213,       2034
318M20091121,        P06,      82,          1,         21,         21,2,20091213,       1828,   -32.4997,  -175.7500,       5851,   870.9,   6.0312,  34.3658,  34.3664,2,    216.2,2,   214.7,2,   15.85,2,   26.08,2,    0.00,2,    1.81,2,   1.303,2,   0.636,2,-999.000,1,    0.108,2,  2160.4,2,  2299.1,4,   7.6898,2,    25.00,-999.000,9,-999.0000,9, -999.00,9, -999.00,9,  -999.0,9,  -999.0,-999.000,9,-999.000,    38.6,2,-999.000,-999.0000, -999.00,   5.9528,   6.0333,2,20091213,       2031
318M20091121,        P06,      82,          1,         20,         20,2,20091213,       1828,   -32.4997,  -175.7500,       5851,   972.6,   5.4087,  34.3667,  34.3658,2,    204.9,2,   203.4,2,   23.76,2,   28.01,2,    0.00,2,    1.95,2,   0.828,2,   0.408,2,-999.000,1,    0.079,2,  2176.7,6,  2297.9,2,   7.6649,2,    25.00,-999.000,9,-999.0000,9, -999.00,9, -999.00,9,  -999.0,9,  -999.0,-999.000,9,-999.000,  -999.0,9,-999.000,-999.0000, -999.00,   5.3251,   5.4114,2,20091213,       2027
318M20091121,        P06,      82,          1,         19,         19,2,20091213,       1828,   -32.4997,  -175.7500,       5851,  1074.9,   4.7856,  34.3683,  34.3683,2,    194.7,2,   194.7,2,   31.70,2,   30.00,2,    0.00,2,    2.09,2,   0.522,2,   0.265,2,-999.000,1,    0.106,2,   829.6,3,  2303.3,2,   7.6199,2,    25.00,-999.000,9,-999.0000,9, -999.00,9, -999.00,9,  -999.0,9,  -999.0,-999.000,9,-999.000,    37.6,2,-999.000,-999.0000, -999.00,   4.6974,   4.7874,2,20091213,       2024
318M20091121,        P06,      82,          1,         18,         18,2,20091213,       1828,   -32.4997,  -175.7500,       5851,  1171.6,   4.1748,  34.3835,  34.3839,2,    187.3,2,   187.8,2,   40.73,2,   31.46,2,    0.00,2,    2.20,2,   0.382,2,   0.197,2,-999.000,1,        0,2,   854.8,3,  2311.8,2,   7.6411,3,    25.00,-999.000,9,-999.0000,9, -999.00,9, -999.00,9,  -999.0,9,  -999.0,-999.000,9,-999.000,  -999.0,9,-999.000,-999.0000, -999.00,   4.0833,   4.1768,2,20091213,       2021
318M20091121,        P06,      82,          1,         17,         17,2,20091213,       1828,   -32.4997,  -175.7500,       5851,  1273.9,   3.6424,  34.4156,  34.4149,2,    180.4,2,   180.0,2,   50.85,2,   32.63,2,    0.00,2,    2.29,2,   0.165,2,   0.091,2,-999.000,1,        0,2,   919.2,3,  2319.9,2,   7.6026,2,    25.00,-999.000,9,-999.0000,9, -999.00,9, -999.00,9,  -999.0,9,  -999.0,-999.000,9,-999.000,    42.1,3,-999.000,-999.0000, -999.00,   3.5471,   3.6434,2,20091213,       2017
318M20091121,        P06,      82,          1,         16,         16,2,20091213,       1828,   -32.4997,  -175.7500,       5851,  1376.1,   3.2128,  34.4665,  34.4651,2,    173.1,2,   171.6,2,   63.13,2,   33.46,2,    0.00,2,    2.35,2,   0.063,2,   0.039,2,-999.000,1,        0,2,   919.8,3,  2333.7,2,   7.5908,2,    25.00,-999.000,9,-999.0000,9, -999.00,9, -999.00,9,  -999.0,9,  -999.0,-999.000,9,-999.000,  -999.0,9,-999.000,-999.0000, -999.00,   3.1132,   3.2143,2,20091213,       2014
318M20091121,        P06,      82,          1,         15,         15,2,20091213,       1828,   -32.4997,  -175.7500,       5851,  1549.9,   2.8150,  34.5400,  34.5392,2,    163.1,2,   161.7,2,   80.59,2,   34.10,2,    0.00,2,    2.40,2,   0.020,2,   0.014,2,-999.000,1,        0,2,   945.7,3,  2353.8,2,   7.5684,2,    25.00,-999.000,9,-999.0000,9, -999.00,9, -999.00,9,  -999.0,9,  -999.0,-999.000,9,-999.000,    36.9,2,-999.000,-999.0000, -999.00,   2.7053,   2.8150,2,20091213,       2010
318M20091121,        P06,      82,          1,         14,         14,2,20091213,       1828,   -32.4997,  -175.7500,       5851,  1749.7,   2.5618,  34.5886,  34.5890,2,    155.0,2,   155.2,2,   96.00,2,   34.54,2,    0.00,2,    2.45,2,   0.007,2,   0.006,2,-999.000,1,        0,2,   849.4,3,  2371.8,2,   7.5733,2,    25.00,-999.000,9,-999.0000,9, -999.00,9, -999.00,9,  -999.0,9,  -999.0,-999.000,9,-999.000,  -999.0,9,-999.000,-999.0000, -999.00,   2.4385,   2.5613,2,20091213,       2005
318M20091121,        P06,      82,          1,         13,         13,2,20091213,       1828,   -32.4997,  -175.7500,       5851,  1953.6,   2.4004,  34.6133,  34.6142,2,    150.9,2,   150.5,2,  105.86,2,   34.83,2,    0.00,2,    2.47,2,   0.008,2,   0.007,2,-999.000,1,        0,2,  1039.4,3,  2382.9,2,   7.6559,4,    25.00,-999.000,9,-999.0000,9, -999.00,9, -999.00,9,  -999.0,9,  -999.0,-999.000,9,-999.000,    36.9,2,-999.000,-999.0000, -999.00,   2.2619,   2.4005,2,20091213,       1959
318M20091121,        P06,      82,          1,         12,         12,2,20091213,       1828,   -32.4997,  -175.7500,       5851,  2183.9,   2.2387,  34.6313,  34.6325,2,    148.8,2,   148.8,2,  113.81,2,   35.08,2,    0.00,2,    2.49,2,   0.004,2,   0.004,2,-999.000,1,        0,2,  1039.3,3,  2392.3,2,   7.5637,2,    25.00,-999.000,9,-999.0000,9, -999.00,9, -999.00,9,  -999.0,9,  -999.0,-999.000,9,-999.000,  -999.0,9,-999.000,-999.0000, -999.00,   2.0826,   2.2378,2,20091213,       1954
318M20091121,        P06,      82,          1,         11,         11,2,20091213,       1828,   -32.4997,  -175.7500,       5851,  2439.8,   2.0971,  34.6444,  34.6431,2,    147.9,2,   147.5,2,  120.04,2,   35.27,2,    0.00,2,    2.50,2,   0.005,2,   0.005,2,-999.000,1,        0,2,  1019.0,3,  2398.4,2,   7.5651,2,    25.00,-999.000,9,-999.0000,9, -999.00,9, -999.00,9,  -999.0,9,  -999.0,-999.000,9,-999.000,    36.2,2,-999.000,-999.0000, -999.00,   1.9205,   2.0978,2,20091213,       1948
318M20091121,        P06,      82,          1,         10,         10,2,20091213,       1828,   -32.4997,  -175.7500,       5851,  2698.5,   1.9526,  34.6582,  34.6583,2,    149.3,2,   149.3,2,  124.12,2,   35.17,2,    0.00,2,    2.50,2,   0.006,2,   0.006,2,-999.000,1,        0,2,  1035.5,3,  2402.1,2,   7.5653,2,    25.00,-999.000,9,-999.0000,9, -999.00,9, -999.00,9,  -999.0,9,  -999.0,-999.000,9,-999.000,  -999.0,9,-999.000,-999.0000, -999.00,   1.7548,   1.9518,2,20091213,       1942
318M20091121,        P06,      82,          1,          9,          9,2,20091213,       1828,   -32.4997,  -175.7500,       5851,  2950.1,   1.8194,  34.6775,  34.6773,2,    158.2,2,   158.5,2,  122.37,2,   34.38,2,    0.00,2,    2.43,2,   0.010,2,   0.007,2,-999.000,1,        0,2,  1040.5,3,  2396.3,2,   7.5704,2,    25.00,-999.000,9,-999.0000,9, -999.00,9, -999.00,9,  -999.0,9,  -999.0,-999.000,9,-999.000,    36.1,2,-999.000,-999.0000, -999.00,   1.6004,   1.8196,2,20091213,       1936
318M20091121,        P06,      82,          1,          8,          8,2,20091213,       1828,   -32.4997,  -175.7500,       5851,  3238.5,   1.6586,  34.7095,  34.7094,2,    181.8,2,   181.2,2,  110.07,2,   32.36,2,    0.00,2,    2.29,2,   0.028,2,   0.017,2,-999.000,1,        0,2,  1076.7,3,  2375.0,2,   7.6007,2,    25.00,-999.000,9,-999.0000,9, -999.00,9, -999.00,9,  -999.0,9,  -999.0,-999.000,9,-999.000,  -999.0,9,-999.000,-999.0000, -999.00,   1.4148,   1.6584,2,20091213,       1930
318M20091121,        P06,      82,          1,          7,          7,2,20091213,       1828,   -32.4997,  -175.7500,       5851,  3615.6,   1.4067,  34.7217,  34.7218,2,    196.3,2,   196.9,2,  108.75,2,   31.43,2,    0.00,2,    2.20,2,   0.060,2,   0.034,2,-999.000,1,        0,2,  1168.4,3,  2365.9,2,   7.6027,6,    25.00,-999.000,9,-999.0000,9, -999.00,9, -999.00,9,  -999.0,9,  -999.0,-999.000,9,-999.000,    40.0,2,-999.000,-999.0000, -999.00,   1.1308,   1.4069,2,20091213,       1922
318M20091121,        P06,      82,          1,          6,          6,2,20091213,       1828,   -32.4997,  -175.7500,       5851,  4023.8,   1.1532,  34.7159,  34.7161,2,    202.9,2,   203.2,2,  114.98,2,   31.43,2,    0.00,2,    2.20,2,   0.063,2,   0.034,2,-999.000,1,        0,2,  1180.4,3,  2372.3,2,   7.6105,2,    25.00,-999.000,9,-999.0000,9, -999.00,9, -999.00,9,  -999.0,9,  -999.0,-999.000,9,-999.000,  -999.0,9,-999.000,-999.0000, -999.00,   0.8413,   1.1522,2,20091213,       1913
318M20091121,        P06,      82,          1,          5,          5,2,20091213,       1828,   -32.4997,  -175.7500,       5851,  4432.5,   1.0771,  34.7120,  34.7130,2,    205.4,2,   205.2,2,  118.19,2,   31.48,2,    0.00,2,    2.22,2,   0.074,2,   0.038,2,-999.000,1,        0,2,  2259.1,2,  2365.0,2,   7.5995,2,    25.00,-999.000,9,-999.0000,9, -999.00,9, -999.00,9,  -999.0,9,  -999.0,-999.000,9,-999.000,    39.5,2,-999.000,-999.0000, -999.00,   0.7226,   1.0769,2,20091213,       1904
318M20091121,        P06,      82,          1,          4,          4,2,20091213,       1828,   -32.4997,  -175.7500,       5851,  4847.9,   1.0422,  34.7093,  34.7093,2,    206.8,2,   206.3,2,  120.55,2,   31.67,2,    0.00,2,    2.22,2,   0.081,2,   0.045,2,-999.000,1,        0,2,  2273.0,3,  2365.6,2,   7.6081,2,    25.00,-999.000,9,-999.0000,9, -999.00,9, -999.00,9,  -999.0,9,  -999.0,-999.000,9,-999.000,  -999.0,9,-999.000,-999.0000, -999.00,   0.6412,   1.0423,2,20091213,       1856
318M20091121,        P06,      82,          1,          3,          3,2,20091213,       1828,   -32.4997,  -175.7500,       5851,  5257.8,   1.0636,  34.7084,  34.7085,2,    207.2,2,   206.6,2,  121.17,2,   31.77,2,    0.00,2,    2.23,2,   0.077,2,   0.044,2,-999.000,1,        0,2,  2254.9,3,  2370.2,2,   7.5897,2,    25.00,-999.000,9,-999.0000,9, -999.00,9, -999.00,9,  -999.0,9,  -999.0,-999.000,9,-999.000,    42.3,3,-999.000,-999.0000, -999.00,   0.6128,   1.0639,2,20091213,       1847
318M20091121,        P06,      82,          1,          2,          2,2,20091213,       1828,   -32.4997,  -175.7500,       5851,  5547.9,   1.0968,  34.7081,  34.7085,2,    206.7,2,   207.0,2,  121.59,2,   31.77,2,    0.00,2,    2.22,2,   0.080,2,   0.044,2,-999.000,1,        0,2,  2262.9,2,  2368.6,6,   7.6121,2,    25.00,-999.000,9,-999.0000,9, -999.00,9, -999.00,9,  -999.0,9,  -999.0,-999.000,9,-999.000,  -999.0,9,-999.000,-999.0000, -999.00,   0.6087,   1.0968,2,20091213,       1840
318M20091121,        P06,      82,          1,          1,          1,2,20091213,       1828,   -32.4997,  -175.7500,       5851,  5984.1,   1.1557,  34.7079,  34.7083,2,    206.6,2,   206.3,2,  121.57,2,   31.77,2,    0.00,2,    2.22,2,   0.081,2,   0.042,2,-999.000,1,        0,2,  2262.0,6,  2428.4,4,   7.6147,2,    25.00,-999.000,9,-999.0000,9, -999.00,9, -999.00,9,  -999.0,9,  -999.0,-999.000,9,-999.000,    43.7,3,-999.000,-999.0000, -999.00,   0.6091,   1.1554,2,20091213,       1828