BOTTLE,20220818CCHSIOAMB
EXPOCODE,SECT_ID,STNNBR,CASTNO,SAMPNO,BTLNBR,BTLNBR_FLAG_W,DATE,TIME,LATITUDE,LONGITUDE,DEPTH,CTDPRS,CTDTMP,CTDSAL,SALNTY,SALNTY_FLAG_W,CTDOXY,CTDOXY_FLAG_W,OXYGEN,OXYGEN_FLAG_W,SILCAT,SILCAT_FLAG_W,NITRAT,NITRAT_FLAG_W,NITRIT,NITRIT_FLAG_W,PHSPHT,PHSPHT_FLAG_W,CFC-11,CFC-11_FLAG_W,CFC-12,CFC-12_FLAG_W,CFC113,CFC113_FLAG_W,SF6,SF6_FLAG_W,TCARBN,TCARBN_FLAG_W,ALKALI,ALKALI_FLAG_W,PH_SWS,PH_SWS_FLAG_W,PH_TMP,TRITUM,TRITUM_FLAG_W,HELIUM,HELIUM_FLAG_W,DELHE3,DELHE3_FLAG_W,DELC13,DELC13_FLAG_W,DELC14,DELC14_FLAG_W,C14ERR,NEON,NEON_FLAG_W,NEONER,DOC,DOC_FLAG_W,TRITER,HELIER,DELHER,THETA,SBE35,SBE35_FLAG_W,BTL_DATE,BTL_TIME
,,,,,,,,,,,METERS,DBAR,ITS-90,PSS-78,PSS-78,,UMOL/KG,,UMOL/KG,,UMOL/KG,,UMOL/KG,,UMOL/KG,,UMOL/KG,,PMOL/KG,,PMOL/KG,,PMOL/KG,,FMOL/KG,,UMOL/KG,,UMOL/KG,,,,DEG C,TU,,NMOL/KG,,PERCNT,,/MILLE,,/MILLE,,/MILLE,NMOL/KG,,NMOL/KG,UMOL/KG,,TU,NMOL/KG,PERCNT,DEG C,ITS-90,,,
318M20091121,        P06,      21,          1,         27,         27,2,20091127,       1954,   -30.0799,   158.0000,       2003,     5.0,  23.5676,  35.4976,  35.4975,2,    216.1,2,   216.1,2,    0.63,2,    0.03,2,    0.00,2,    0.10,2,   1.926,2,   1.183,2,-999.000,1,    1.158,2,  2015.8,2,  2324.5,2,   8.0755,2,    25.00,-999.000,9,-999.0000,9, -999.00,9, -999.00,9,  -999.0,9,  -999.0,-999.000,9,-999.000,  -999.0,9,-999.000,-999.0000, -999.00,  23.5666,  23.5672,2,20091127,       2120
318M20091121,        P06,      21,          1,         26,         26,2,20091127,       1954,   -30.0799,   158.0000,       2003,    31.9,  23.4810,  35.5011,  35.5008,2,    216.9,2,   217.3,2,    0.40,2,    0.02,2,    0.00,2,    0.09,2,   1.955,2,   1.197,2,-999.000,1,    1.273,2,  -999.0,9,  -999.0,9,-999.0000,9,  -999.00,-999.000,9,-999.0000,9, -999.00,9, -999.00,9,  -999.0,9,  -999.0,-999.000,9,-999.000,  -999.0,9,-999.000,-999.0000, -999.00,  23.4744,  23.4700,2,20091127,       2117
318M20091121,        P06,      21,          1,         25,         25,2,20091127,       1954,   -30.0799,   158.0000,       2003,    59.9,  21.4817,  35.5393,  35.5405,2,    226.3,2,   226.6,2,    0.38,2,    0.01,2,    0.00,2,    0.09,2,   2.123,6,   1.288,6,-999.000,1,    1.149,6,  2015.3,2,  2325.4,2,   8.0637,2,    25.00,-999.000,9,-999.0000,9, -999.00,9, -999.00,9,  -999.0,9,  -999.0,-999.000,9,-999.000,  -999.0,9,-999.000,-999.0000, -999.00,  21.4700,  21.4800,2,20091127,       2114
318M20091121,        P06,      21,          1,         24,         24,2,20091127,       1954,   -30.0799,   158.0000,       2003,    84.8,  20.8311,  35.5400,  35.5403,2,    216.0,2,   219.5,2,    0.36,2,    0.05,2,    0.00,2,    0.11,2,   2.198,2,   1.305,2,-999.000,1,    1.074,2,  -999.0,9,  -999.0,9,-999.0000,9,  -999.00,-999.000,9,-999.0000,9, -999.00,9, -999.00,9,  -999.0,9,  -999.0,-999.000,9,-999.000,  -999.0,9,-999.000,-999.0000, -999.00,  20.8149,  20.8236,2,20091127,       2111
318M20091121,        P06,      21,          1,         23,         23,2,20091127,       1954,   -30.0799,   158.0000,       2003,   108.2,  20.0570,  35.5500,  35.5463,2,    201.8,2,   200.4,2,    0.55,2,    2.28,2,    0.05,2,    0.25,2,   2.238,2,   1.294,2,-999.000,1,    1.235,2,  2043.0,2,  2326.0,2,   8.0108,2,    25.00,-999.000,9,-999.0000,9, -999.00,9, -999.00,9,  -999.0,9,  -999.0,-999.000,9,-999.000,  -999.0,9,-999.000,-999.0000, -999.00,  20.0369,  20.0498,2,20091127,       2107
318M20091121,        P06,      21,          1,         22,         22,2,20091127,       1954,   -30.0799,   158.0000,       2003,   138.4,  19.6691,  35.5848,  35.5844,2,    195.0,2,   190.5,2,    0.94,2,    3.62,2,    0.02,2,    0.35,2,   2.276,2,   1.333,2,-999.000,1,    1.176,2,  -999.0,9,  -999.0,9,-999.0000,9,  -999.00,-999.000,9,-999.0000,9, -999.00,9, -999.00,9,  -999.0,9,  -999.0,-999.000,9,-999.000,  -999.0,9,-999.000,-999.0000, -999.00,  19.6437,  19.6722,2,20091127,       2104
318M20091121,        P06,      21,          1,         21,         21,2,20091127,       1954,   -30.0799,   158.0000,       2003,   168.7,  19.3375,  35.5905,  35.5890,2,    199.1,2,   192.6,2,    0.91,2,    3.76,2,    0.01,2,    0.36,2,   2.321,2,   1.298,2,-999.000,1,    1.091,2,  2060.6,2,  2330.3,2,   7.9887,2,    25.00,-999.000,9,-999.0000,9, -999.00,9, -999.00,9,  -999.0,9,  -999.0,-999.000,9,-999.000,  -999.0,9,-999.000,-999.0000, -999.00,  19.3069,  19.3344,2,20091127,       2102
318M20091121,        P06,      21,          1,         20,         20,2,20091127,       1954,   -30.0799,   158.0000,       2003,   213.0,  18.8603,  35.6225,  35.6222,2,    191.0,2,   190.1,2,    0.89,2,    4.29,2,    0.01,2,    0.40,2,   2.357,2,   1.338,2,-999.000,1,    1.096,2,  -999.0,9,  -999.0,9,-999.0000,9,  -999.00,-999.000,9,-999.0000,9, -999.00,9, -999.00,9,  -999.0,9,  -999.0,-999.000,9,-999.000,  -999.0,9,-999.000,-999.0000, -999.00,  18.8223,  18.8578,2,20091127,       2059
318M20091121,        P06,      21,          1,         19,         19,2,20091127,       1954,   -30.0799,   158.0000,       2003,   264.6,  17.7192,  35.5628,  35.5623,2,    204.2,2,   203.6,2,    1.07,2,    4.05,2,    0.00,2,    0.39,2,   2.461,2,   1.355,2,-999.000,1,    1.339,2,  2069.4,2,  2348.9,4,   7.9678,2,    25.00,-999.000,9,-999.0000,9, -999.00,9, -999.00,9,  -999.0,9,  -999.0,-999.000,9,-999.000,  -999.0,9,-999.000,-999.0000, -999.00,  17.6740,  17.7177,2,20091127,       2057
318M20091121,        P06,      21,          1,         18,         18,2,20091127,       1954,   -30.0799,   158.0000,       2003,   315.9,  16.8233,  35.5153,  35.5151,2,    196.6,2,   196.8,2,    1.67,2,    6.08,2,    0.00,2,    0.52,2,   2.307,2,   1.367,2,-999.000,1,-999.0000,5,  -999.0,9,  -999.0,9,-999.0000,9,  -999.00,-999.000,9,-999.0000,9, -999.00,9, -999.00,9,  -999.0,9,  -999.0,-999.000,9,-999.000,  -999.0,9,-999.000,-999.0000, -999.00,  16.7712,  16.8256,2,20091127,       2054
318M20091121,        P06,      21,          1,         17,         17,2,20091127,       1954,   -30.0799,   158.0000,       2003,   367.3,  15.2767,  35.3752,  35.3745,2,    185.6,2,   187.2,2,    2.67,2,    9.19,2,    0.00,2,    0.72,2,   2.371,2,   1.360,2,-999.000,1,-999.0000,5,  2106.5,2,  2322.5,2,   7.8844,2,    25.00,-999.000,9,-999.0000,9, -999.00,9, -999.00,9,  -999.0,9,  -999.0,-999.000,9,-999.000,  -999.0,9,-999.000,-999.0000, -999.00,  15.2199,  15.2713,2,20091127,       2051
318M20091121,        P06,      21,          1,         16,         16,2,20091127,       1954,   -30.0799,   158.0000,       2003,   414.1,  14.3005,  35.2909,  35.2898,2,    189.5,2,   189.1,2,    3.26,2,   10.59,2,    0.00,2,    0.82,2,   2.423,2,   1.360,2,-999.000,1,-999.0000,5,  -999.0,9,  -999.0,9,-999.0000,9,  -999.00,-999.000,9,-999.0000,9, -999.00,9, -999.00,9,  -999.0,9,  -999.0,-999.000,9,-999.000,  -999.0,9,-999.000,-999.0000, -999.00,  14.2392,  14.3002,2,20091127,       2048
318M20091121,        P06,      21,          1,         15,         15,2,20091127,       1954,   -30.0799,   158.0000,       2003,   464.5,  13.0573,  35.1726,  35.1714,2,    194.0,2,   194.8,2,    4.06,2,   12.20,2,    0.00,2,    0.93,2,   2.471,2,   1.393,2,-999.000,1,-999.0000,5,  2122.4,2,  2314.5,2,   7.8370,2,    25.00,-999.000,9,-999.0000,9, -999.00,9, -999.00,9,  -999.0,9,  -999.0,-999.000,9,-999.000,  -999.0,9,-999.000,-999.0000, -999.00,  12.9925,  13.0571,2,20091127,       2046
318M20091121,        P06,      21,          1,         14,         14,2,20091127,       1954,   -30.0799,   158.0000,       2003,   535.4,  11.7590,  35.0253,  35.0251,2,    198.4,2,   198.6,2,    5.06,2,   14.39,2,    0.00,2,    1.08,2,   2.506,2,   1.398,2,-999.000,1,-999.0000,5,  2131.3,2,  2307.7,2,   7.8030,2,    25.00,-999.000,9,-999.0000,9, -999.00,9, -999.00,9,  -999.0,9,  -999.0,-999.000,9,-999.000,  -999.0,9,-999.000,-999.0000, -999.00,  11.6891,  11.7572,2,20091127,       2043
318M20091121,        P06,      21,          1,         13,         13,2,20091127,       1954,   -30.0799,   158.0000,       2003,   637.9,   9.9986,  34.7951,  34.7955,2,    202.1,2,   202.4,2,    6.68,2,   17.94,2,    0.00,2,    1.30,2,   2.522,2,   1.387,2,-999.000,1,-999.0000,5,  2141.7,2,  2298.1,2,   7.7617,2,    25.00,-999.000,9,-999.0000,9, -999.00,9, -999.00,9,  -999.0,9,  -999.0,-999.000,9,-999.000,  -999.0,9,-999.000,-999.0000, -999.00,   9.9231,  10.0014,2,20091127,       2040
318M20091121,        P06,      21,          1,         12,         12,2,20091127,       1954,   -30.0799,   158.0000,       2003,   739.4,   8.1744,  34.5762,  34.5758,2,    199.5,2,   199.1,2,   11.59,2,   22.44,2,    0.00,2,    1.59,2,   1.832,2,   0.946,2,-999.000,1,-999.0000,5,  2155.1,2,  2292.7,2,   7.7181,2,    25.00,-999.000,9,-999.0000,9, -999.00,9, -999.00,9,  -999.0,9,  -999.0,-999.000,9,-999.000,  -999.0,9,-999.000,-999.0000, -999.00,   8.0965,   8.1782,2,20091127,       2036
318M20091121,        P06,      21,          1,         11,         11,2,20091127,       1954,   -30.0799,   158.0000,       2003,   841.6,   7.1614,  34.5011,  34.5011,2,    195.1,2,   195.4,2,   16.91,2,   25.04,2,    0.00,2,    1.78,2,   1.316,2,   0.674,2,-999.000,1,-999.0000,5,  2167.3,2,  2293.3,2,   7.6912,2,    25.00,-999.000,9,-999.0000,9, -999.00,9, -999.00,9,  -999.0,9,  -999.0,-999.000,9,-999.000,  -999.0,9,-999.000,-999.0000, -999.00,   7.0785,   7.1696,2,20091127,       2033
318M20091121,        P06,      21,          1,         10,         10,2,20091127,       1954,   -30.0799,   158.0000,       2003,   938.6,   6.2699,  34.4575,  34.4565,2,    191.5,2,   191.4,2,   24.52,2,   27.24,2,    0.00,2,    1.94,2,   0.871,2,   0.445,2,-999.000,1,-999.0000,5,  2179.7,2,  2299.8,6,   7.6733,2,    25.00,-999.000,9,-999.0000,9, -999.00,9, -999.00,9,  -999.0,9,  -999.0,-999.000,9,-999.000,  -999.0,9,-999.000,-999.0000, -999.00,   6.1832,   6.2736,2,20091127,       2029
318M20091121,        P06,      21,          1,          9,          9,2,20091127,       1954,   -30.0799,   158.0000,       2003,  1040.2,   5.5182,  34.4460,  34.4447,2,    185.5,2,    -0.7,4,   33.81,2,   29.10,2,    0.00,2,    2.06,2,   0.551,2,   0.296,2,-999.000,1,-999.0000,5,  2196.6,2,  2305.6,2,   7.6506,2,    25.00,-999.000,9,-999.0000,9, -999.00,9, -999.00,9,  -999.0,9,  -999.0,-999.000,9,-999.000,  -999.0,9,-999.000,-999.0000, -999.00,   5.4273,   5.5189,2,20091127,       2026
318M20091121,        P06,      21,          1,          8,          8,2,20091127,       1954,   -30.0799,   158.0000,       2003,  1141.8,   4.8049,  34.4629,  34.4612,2,    177.0,2,   177.3,2,   46.46,2,   30.83,2,    0.00,2,    2.19,2,   0.322,2,   0.184,2,-999.000,1,-999.0000,5,  -999.0,9,  -999.0,9,-999.0000,9,  -999.00,-999.000,9,-999.0000,9, -999.00,9, -999.00,9,  -999.0,9,  -999.0,-999.000,9,-999.000,  -999.0,9,-999.000,-999.0000, -999.00,   4.7104,   4.8088,2,20091127,       2022
318M20091121,        P06,      21,          1,          7,          7,2,20091127,       1954,   -30.0799,   158.0000,       2003,  1244.2,   4.2665,  34.4900,  34.4891,2,    170.5,2,   168.9,2,   58.97,2,   32.10,2,    0.00,2,    2.29,2,   0.179,2,   0.111,2,-999.000,1,-999.0000,5,  2233.0,2,  2331.6,2,   7.6135,2,    25.00,-999.000,9,-999.0000,9, -999.00,9, -999.00,9,  -999.0,9,  -999.0,-999.000,9,-999.000,  -999.0,9,-999.000,-999.0000, -999.00,   4.1676,   4.2672,2,20091127,       2019
318M20091121,        P06,      21,          1,          6,          6,2,20091127,       1954,   -30.0799,   158.0000,       2003,  1346.8,   3.7914,  34.5217,  34.5216,2,    161.4,2,   160.9,2,   70.89,2,   33.28,2,    0.00,2,    2.38,2,   0.089,2,   0.063,2,-999.000,1,-999.0000,5,  -999.0,9,  -999.0,9,-999.0000,9,  -999.00,-999.000,9,-999.0000,9, -999.00,9, -999.00,9,  -999.0,9,  -999.0,-999.000,9,-999.000,  -999.0,9,-999.000,-999.0000, -999.00,   3.6881,   3.7891,2,20091127,       2015
318M20091121,        P06,      21,          1,          5,          5,2,20091127,       1954,   -30.0799,   158.0000,       2003,  1443.4,   3.4444,  34.5469,  34.5460,2,    156.2,2,   156.2,2,   79.50,2,   33.92,2,    0.00,2,    2.44,2,   0.057,2,   0.045,2,-999.000,1,-999.0000,5,  2261.5,2,  2354.6,2,   7.5874,2,    25.00,-999.000,9,-999.0000,9, -999.00,9, -999.00,9,  -999.0,9,  -999.0,-999.000,9,-999.000,  -999.0,9,-999.000,-999.0000, -999.00,   3.3364,   3.4444,2,20091127,       2012
318M20091121,        P06,      21,          1,          4,          4,2,20091127,       1954,   -30.0799,   158.0000,       2003,  1546.0,   3.1681,  34.5710,  34.5708,2,    153.0,2,   152.8,2,   86.86,2,   34.40,2,    0.00,2,    2.46,2,   0.031,2,   0.019,2,-999.000,1,-999.0000,5,  -999.0,9,  -999.0,9,-999.0000,9,  -999.00,-999.000,9,-999.0000,9, -999.00,9, -999.00,9,  -999.0,9,  -999.0,-999.000,9,-999.000,  -999.0,9,-999.000,-999.0000, -999.00,   3.0544,   3.1654,2,20091127,       2009
318M20091121,        P06,      21,          1,          3,          3,2,20091127,       1954,   -30.0799,   158.0000,       2003,  1679.4,   2.8626,  34.6000,  34.5987,2,    151.6,2,   151.6,2,   93.60,2,   34.64,2,    0.00,2,    2.48,2,   0.018,2,   0.013,2,-999.000,1,-999.0000,5,  2278.7,2,  2366.7,2,   7.5778,6,    25.00,-999.000,9,-999.0000,9, -999.00,9, -999.00,9,  -999.0,9,  -999.0,-999.000,9,-999.000,  -999.0,9,-999.000,-999.0000, -999.00,   2.7412,   2.8631,2,20091127,       2005
318M20091121,        P06,      21,          1,          2,          2,2,20091127,       1954,   -30.0799,   158.0000,       2003,  1817.3,   2.6493,  34.6228,  34.6217,2,    154.0,2,   154.4,2,   96.75,2,   34.53,2,    0.00,2,    2.47,2,   0.021,2,   0.013,2,-999.000,1,-999.0000,5,  -999.0,9,  -999.0,9,-999.0000,9,  -999.00,-999.000,9,-999.0000,9, -999.00,9, -999.00,9,  -999.0,9,  -999.0,-999.000,9,-999.000,  -999.0,9,-999.000,-999.0000, -999.00,   2.5189,   2.6487,2,20091127,       2001
318M20091121,        P06,      21,          1,          1,          1,2,20091127,       1954,   -30.0799,   158.0000,       2003,  2024.6,   2.4333,  34.6504,  34.6504,2,    160.3,2,   160.0,2,   97.17,2,   34.03,2,    0.00,2,    2.43,2,   0.011,2,   0.006,2,-999.000,1,-999.0000,5,  2278.0,6,  2368.9,6,   7.5837,2,    25.00,-999.000,9,-999.0000,9, -999.00,9, -999.00,9,  -999.0,9,  -999.0,-999.000,9,-999.000,  -999.0,9,-999.000,-999.0000, -999.00,   2.2881,   2.4328,2,20091127,       1954