BOTTLE,20220818CCHSIOAMB
EXPOCODE,SECT_ID,STNNBR,CASTNO,SAMPNO,BTLNBR,BTLNBR_FLAG_W,DATE,TIME,LATITUDE,LONGITUDE,DEPTH,CTDPRS,CTDTMP,CTDSAL,SALNTY,SALNTY_FLAG_W,CTDOXY,CTDOXY_FLAG_W,OXYGEN,OXYGEN_FLAG_W,SILCAT,SILCAT_FLAG_W,NITRAT,NITRAT_FLAG_W,NITRIT,NITRIT_FLAG_W,PHSPHT,PHSPHT_FLAG_W,CFC-11,CFC-11_FLAG_W,CFC-12,CFC-12_FLAG_W,CFC113,CFC113_FLAG_W,SF6,SF6_FLAG_W,TCARBN,TCARBN_FLAG_W,ALKALI,ALKALI_FLAG_W,PH_SWS,PH_SWS_FLAG_W,PH_TMP,TRITUM,TRITUM_FLAG_W,HELIUM,HELIUM_FLAG_W,DELHE3,DELHE3_FLAG_W,DELC13,DELC13_FLAG_W,DELC14,DELC14_FLAG_W,C14ERR,NEON,NEON_FLAG_W,NEONER,DOC,DOC_FLAG_W,TRITER,HELIER,DELHER,THETA,SBE35,SBE35_FLAG_W,BTL_DATE,BTL_TIME
,,,,,,,,,,,METERS,DBAR,ITS-90,PSS-78,PSS-78,,UMOL/KG,,UMOL/KG,,UMOL/KG,,UMOL/KG,,UMOL/KG,,UMOL/KG,,PMOL/KG,,PMOL/KG,,PMOL/KG,,FMOL/KG,,UMOL/KG,,UMOL/KG,,,,DEG C,TU,,NMOL/KG,,PERCNT,,/MILLE,,/MILLE,,/MILLE,NMOL/KG,,NMOL/KG,UMOL/KG,,TU,NMOL/KG,PERCNT,DEG C,ITS-90,,,
318M20091121,        P06,      53,          1,         24,         24,2,20091206,       2248,   -30.0800,   172.5000,       2148,     3.4,  21.7132,  35.6003,  35.6018,2,    225.0,2,   223.9,2,    0.97,2,    0.00,2,    0.00,2,    0.09,2,   1.910,2,   1.232,2,-999.000,1,    1.095,2,  2033.9,6,  2332.2,6,   8.0353,2,    25.00,-999.000,9,-999.0000,9, -999.00,9,    1.18,2,    63.9,2,     2.9,-999.000,9,-999.000,  -999.0,9,-999.000,-999.0000, -999.00,  21.7125,  21.7186,2,20091206,       0005
318M20091121,        P06,      53,          1,         23,         23,2,20091206,       2248,   -30.0800,   172.5000,       2148,    24.1,  20.1979,  35.6874,  35.6890,2,    233.4,2,   233.7,2,    0.76,2,    0.00,2,    0.00,2,    0.09,2,   2.019,2,   1.304,2,-999.000,1,      1.1,2,  -999.0,9,  2323.8,3,   8.0377,6,    25.00,-999.000,9,-999.0000,9, -999.00,9, -999.00,9,  -999.0,9,  -999.0,-999.000,9,-999.000,  -999.0,9,-999.000,-999.0000, -999.00,  20.1934,  20.2188,2,20091206,       0002
318M20091121,        P06,      53,          1,         22,         22,2,20091206,       2248,   -30.0800,   172.5000,       2148,    49.0,  18.4935,  35.6008,  35.6032,2,    240.7,2,   240.8,2,    0.75,2,    0.00,2,    0.00,2,    0.10,2,   2.141,2,   1.370,2,-999.000,1,    1.107,2,  -999.0,9,  2334.5,2,   8.0222,2,    25.00,-999.000,9,-999.0000,9, -999.00,9, -999.00,9,  -999.0,9,  -999.0,-999.000,9,-999.000,  -999.0,9,-999.000,-999.0000, -999.00,  18.4849,  18.4735,2,20091206,       0000
318M20091121,        P06,      53,          1,         21,         21,2,20091206,       2248,   -30.0800,   172.5000,       2148,    75.1,  17.3972,  35.5692,  35.5698,2,    220.0,2,   214.6,2,    1.31,2,    1.98,2,    0.04,2,    0.30,2,   2.171,2,   1.364,2,-999.000,1,    1.066,2,  -999.0,9,  -999.0,9,-999.0000,9,  -999.00,-999.000,9,-999.0000,9, -999.00,9, -999.00,9,  -999.0,9,  -999.0,-999.000,9,-999.000,  -999.0,9,-999.000,-999.0000, -999.00,  17.3846,  17.3907,2,20091206,       2358
318M20091121,        P06,      53,          1,         20,         20,2,20091206,       2248,   -30.0800,   172.5000,       2148,    98.1,  17.1106,  35.5631,  35.5633,2,    213.5,2,   215.5,2,    1.30,2,    2.27,2,    0.06,2,    0.32,2,   2.185,2,   1.394,2,-999.000,1,    1.062,2,  -999.0,9,  2328.4,2,   7.9617,2,    25.00,-999.000,9,-999.0000,9, -999.00,9,    0.98,2,    65.1,2,     3.0,-999.000,9,-999.000,  -999.0,9,-999.000,-999.0000, -999.00,  17.0943,  17.1097,2,20091206,       2356
318M20091121,        P06,      53,          1,         19,         19,2,20091206,       2248,   -30.0800,   172.5000,       2148,   149.3,  16.4267,  35.5207,  35.5244,2,    208.1,2,   208.9,2,    1.67,2,    4.04,2,    0.02,2,    0.43,2,   2.251,2,   1.392,2,-999.000,1,    1.044,2,  -999.0,9,  -999.0,9,-999.0000,9,  -999.00,-999.000,9,-999.0000,9, -999.00,9, -999.00,9,  -999.0,9,  -999.0,-999.000,9,-999.000,  -999.0,9,-999.000,-999.0000, -999.00,  16.4026,  16.4335,2,20091206,       2354
318M20091121,        P06,      53,          1,         18,         18,2,20091206,       2248,   -30.0800,   172.5000,       2148,   199.4,  15.4403,  35.4154,  35.4173,2,    198.3,2,   199.4,2,    2.42,2,    6.75,2,    0.01,2,    0.60,2,   2.302,2,   1.407,2,-999.000,1,    1.002,2,  -999.0,9,  2321.4,2,   7.9031,2,    25.00,-999.000,9,-999.0000,9, -999.00,9,    0.90,2,    62.3,2,     3.0,-999.000,9,-999.000,  -999.0,9,-999.000,-999.0000, -999.00,  15.4094,  15.4437,2,20091206,       2351
318M20091121,        P06,      53,          1,         17,         17,2,20091206,       2248,   -30.0800,   172.5000,       2148,   250.5,  14.4459,  35.2988,  35.2995,2,    194.2,2,   194.6,2,    2.99,2,    8.83,2,    0.01,2,    0.73,2,   2.316,2,   1.390,2,-999.000,1,    1.034,2,  -999.0,9,  -999.0,9,-999.0000,9,  -999.00,-999.000,9,-999.0000,9, -999.00,9, -999.00,9,  -999.0,9,  -999.0,-999.000,9,-999.000,  -999.0,9,-999.000,-999.0000, -999.00,  14.4088,  14.4467,2,20091206,       2349
318M20091121,        P06,      53,          1,         16,         16,2,20091206,       2248,   -30.0800,   172.5000,       2148,   300.8,  13.6667,  35.2076,  35.2087,2,    194.6,2,   194.8,2,    3.36,2,   10.14,2,    0.00,2,    0.82,2,   2.356,2,   1.398,2,-999.000,1,    0.974,2,  -999.0,9,  2315.7,2,   7.8613,2,    25.00,-999.000,9,-999.0000,9, -999.00,9,    0.94,2,    62.2,2,     2.9,-999.000,9,-999.000,  -999.0,9,-999.000,-999.0000, -999.00,  13.6237,  13.6583,2,20091206,       2346
318M20091121,        P06,      53,          1,         15,         15,2,20091206,       2248,   -30.0800,   172.5000,       2148,   351.0,  12.5476,  35.0701,  35.0713,2,    195.9,2,   196.0,2,    4.11,2,   12.11,2,    0.00,2,    0.94,2,   2.378,2,   1.407,2,-999.000,1,    0.855,2,  -999.0,9,  -999.0,9,-999.0000,9,  -999.00,-999.000,9,-999.0000,9, -999.00,9, -999.00,9,  -999.0,9,  -999.0,-999.000,9,-999.000,  -999.0,9,-999.000,-999.0000, -999.00,  12.5001,  12.5438,2,20091206,       2344
318M20091121,        P06,      53,          1,         14,         14,2,20091206,       2248,   -30.0800,   172.5000,       2148,   402.2,  11.1992,  34.8851,  34.8853,2,    198.5,2,   198.6,2,    4.87,2,   14.64,2,    0.00,2,    1.09,2,   2.380,2,   1.362,2,-999.000,1,    0.545,2,  -999.0,9,  2301.8,2,   7.7943,2,    25.00,-999.000,9,-999.0000,9, -999.00,9,    1.04,2,    41.3,2,     3.0,-999.000,9,-999.000,  -999.0,9,-999.000,-999.0000, -999.00,  11.1486,  11.2003,2,20091206,       2341
318M20091121,        P06,      53,          1,         13,         13,2,20091206,       2248,   -30.0800,   172.5000,       2148,   502.7,   9.6690,  34.7326,  34.7340,2,    204.0,2,   201.9,2,    7.36,2,   18.16,2,    0.00,2,    1.31,2,   2.268,2,   1.255,2,-999.000,1,    0.417,2,  -999.0,9,  2296.5,6,   7.7522,2,    25.00,-999.000,9,-999.0000,9, -999.00,9,    1.06,2,    25.9,2,     3.0,-999.000,9,-999.000,  -999.0,9,-999.000,-999.0000, -999.00,   9.6112,   9.6728,2,20091206,       2337
318M20091121,        P06,      53,          1,         12,         12,2,20091206,       2248,   -30.0800,   172.5000,       2148,   597.8,   8.3845,  34.5687,  34.5680,2,    210.5,2,   210.9,2,    8.12,2,   20.17,2,    0.00,2,    1.45,2,   2.297,2,   1.232,2,-999.000,1,    0.392,2,  -999.0,9,  2273.5,4,   7.7371,2,    25.00,-999.000,9,-999.0000,9, -999.00,9,    1.05,2,    17.2,2,     2.8,-999.000,9,-999.000,  -999.0,9,-999.000,-999.0000, -999.00,   8.3211,   8.3838,2,20091206,       2334
318M20091121,        P06,      53,          1,         11,         11,2,20091206,       2248,   -30.0800,   172.5000,       2148,   702.0,   7.3224,  34.4720,  34.4714,2,    213.1,2,   214.1,2,   11.20,2,   22.75,2,    0.00,2,    1.61,2,   1.910,2,   1.007,2,-999.000,1,    0.235,2,  -999.0,9,  2289.8,2,   7.7081,2,    25.00,-999.000,9,-999.0000,9, -999.00,9,    1.17,2,    -2.1,2,     2.7,-999.000,9,-999.000,  -999.0,9,-999.000,-999.0000, -999.00,   7.2531,   7.3209,2,20091206,       2330
318M20091121,        P06,      53,          1,         10,         10,2,20091206,       2248,   -30.0800,   172.5000,       2148,   803.9,   6.5650,  34.4305,  34.4288,2,    209.0,2,   209.7,2,   16.23,2,   24.92,2,    0.00,2,    1.75,2,   1.413,2,   0.752,2,-999.000,1,    0.153,2,  -999.0,9,  -999.0,9,-999.0000,9,  -999.00,-999.000,9,-999.0000,9, -999.00,9,    1.14,2,   -33.1,2,     2.6,-999.000,9,-999.000,  -999.0,9,-999.000,-999.0000, -999.00,   6.4897,   6.5800,2,20091206,       2327
318M20091121,        P06,      53,          1,          9,          9,2,20091206,       2248,   -30.0800,   172.5000,       2148,   906.0,   5.7750,  34.3953,  34.3942,2,    203.1,2,   203.8,2,   22.83,2,   27.23,2,    0.00,2,    1.91,2,   0.933,2,   0.491,2,-999.000,1,    0.106,2,  -999.0,9,  2295.6,2,   7.6727,2,    25.00,-999.000,9,-999.0000,9, -999.00,9,    1.12,2,   -60.0,2,     2.6,-999.000,9,-999.000,  -999.0,9,-999.000,-999.0000, -999.00,   5.6950,   5.7738,2,20091206,       2323
318M20091121,        P06,      53,          1,          8,          8,2,20091206,       2248,   -30.0800,   172.5000,       2148,  1008.1,   5.0791,  34.4223,  34.4195,2,    191.3,2,   191.1,2,   35.33,2,   29.41,2,    0.00,2,    2.05,2,   0.587,2,   0.320,2,-999.000,1,        0,2,  -999.0,9,  -999.0,9,-999.0000,9,  -999.00,-999.000,9,-999.0000,9, -999.00,9,    0.98,2,   -87.2,2,     3.0,-999.000,9,-999.000,  -999.0,9,-999.000,-999.0000, -999.00,   4.9946,   5.0795,2,20091206,       2320
318M20091121,        P06,      53,          1,          7,          7,2,20091206,       2248,   -30.0800,   172.5000,       2148,  1106.5,   4.5435,  34.4383,  34.4367,2,    182.5,2,   183.2,2,   44.96,2,   30.89,2,    0.00,2,    2.16,2,   0.388,2,   0.213,2,-999.000,1,        0,2,  -999.0,9,  2317.9,2,   7.6286,2,    25.00,-999.000,9,-999.0000,9, -999.00,9,    0.86,2,  -114.1,2,     2.6,-999.000,9,-999.000,  -999.0,9,-999.000,-999.0000, -999.00,   4.4544,   4.5420,2,20091206,       2317
318M20091121,        P06,      53,          1,          6,          6,2,20091206,       2248,   -30.0800,   172.5000,       2148,  1206.5,   4.2058,  34.4782,  34.4768,2,    176.7,2,   176.5,2,   55.62,2,   31.59,2,    0.00,2,    2.21,2,   0.320,2,   0.179,2,-999.000,1,        0,2,  -999.0,9,  -999.0,9,-999.0000,9,  -999.00,-999.000,9,-999.0000,9, -999.00,9,    0.77,2,  -128.2,2,     2.4,-999.000,9,-999.000,  -999.0,9,-999.000,-999.0000, -999.00,   4.1108,   4.2075,2,20091206,       2313
318M20091121,        P06,      53,          1,          5,          5,2,20091206,       2248,   -30.0800,   172.5000,       2148,  1311.0,   3.9531,  34.5003,  34.5116,3,    172.4,2,   172.6,2,   62.96,2,   32.15,2,    0.00,2,    2.25,2,   0.268,2,   0.150,2,-999.000,1,        0,2,  -999.0,9,  2338.5,2,   7.6103,2,    25.00,-999.000,9,-999.0000,9, -999.00,9,    0.73,2,  -144.4,2,     2.5,-999.000,9,-999.000,  -999.0,9,-999.000,-999.0000, -999.00,   3.8513,   3.9485,2,20091206,       2309
318M20091121,        P06,      53,          1,          4,          4,2,20091206,       2248,   -30.0800,   172.5000,       2148,  1408.1,   3.6735,  34.5234,  34.5214,2,    168.5,2,   168.6,2,   70.52,2,   32.50,2,    0.00,2,    2.29,2,   0.220,2,   0.125,2,-999.000,1,        0,2,  -999.0,9,  -999.0,9,-999.0000,9,  -999.00,-999.000,9,-999.0000,9, -999.00,9,    0.65,2,  -150.1,2,     2.5,-999.000,9,-999.000,  -999.0,9,-999.000,-999.0000, -999.00,   3.5661,   3.6731,2,20091206,       2306
318M20091121,        P06,      53,          1,          3,          3,2,20091206,       2248,   -30.0800,   172.5000,       2148,  1611.2,   3.0977,  34.5650,  34.5654,2,    160.7,2,   161.3,2,   86.11,2,   33.87,2,    0.00,2,    2.37,2,   0.100,2,   0.061,2,-999.000,1,        0,2,  -999.0,9,  2364.9,2,   7.5878,2,    25.00,-999.000,9,-999.0000,9, -999.00,9,    0.46,2,  -173.7,2,     2.3,-999.000,9,-999.000,  -999.0,9,-999.000,-999.0000, -999.00,   2.9793,   3.0977,2,20091206,       2301
318M20091121,        P06,      53,          1,          2,          2,2,20091206,       2248,   -30.0800,   172.5000,       2148,  1816.4,   2.6908,  34.6070,  34.6058,2,    156.1,2,   156.4,2,   98.37,2,   34.33,2,    0.00,2,    2.41,2,   0.062,2,   0.043,2,-999.000,1,        0,2,  -999.0,9,  -999.0,9,-999.0000,9,  -999.00,-999.000,9,-999.0000,9, -999.00,9, -999.00,9,  -999.0,9,  -999.0,-999.000,9,-999.000,  -999.0,9,-999.000,-999.0000, -999.00,   2.5600,   2.6902,2,20091206,       2256
318M20091121,        P06,      53,          1,          1,          1,2,20091206,       2248,   -30.0800,   172.5000,       2148,  2157.4,   2.1468,  34.6498,  34.6504,2,    153.7,2,   154.0,2,  113.69,2,   35.14,2,    0.00,2,    2.46,2,   0.019,2,   0.016,2,-999.000,1,        0,2,  -999.0,9,  2395.5,6,   7.5782,6,    25.00,-999.000,9,-999.0000,9, -999.00,9, -999.00,9,  -999.0,9,  -999.0,-999.000,9,-999.000,  -999.0,9,-999.000,-999.0000, -999.00,   1.9945,   2.1475,2,20091206,       2248