BOTTLE,20220818CCHSIOAMB
EXPOCODE,SECT_ID,STNNBR,CASTNO,SAMPNO,BTLNBR,BTLNBR_FLAG_W,DATE,TIME,LATITUDE,LONGITUDE,DEPTH,CTDPRS,CTDTMP,CTDSAL,SALNTY,SALNTY_FLAG_W,CTDOXY,CTDOXY_FLAG_W,OXYGEN,OXYGEN_FLAG_W,SILCAT,SILCAT_FLAG_W,NITRAT,NITRAT_FLAG_W,NITRIT,NITRIT_FLAG_W,PHSPHT,PHSPHT_FLAG_W,CFC-11,CFC-11_FLAG_W,CFC-12,CFC-12_FLAG_W,CFC113,CFC113_FLAG_W,SF6,SF6_FLAG_W,TCARBN,TCARBN_FLAG_W,ALKALI,ALKALI_FLAG_W,PH_SWS,PH_SWS_FLAG_W,PH_TMP,TRITUM,TRITUM_FLAG_W,HELIUM,HELIUM_FLAG_W,DELHE3,DELHE3_FLAG_W,DELC13,DELC13_FLAG_W,DELC14,DELC14_FLAG_W,C14ERR,NEON,NEON_FLAG_W,NEONER,DOC,DOC_FLAG_W,TRITER,HELIER,DELHER,THETA,SBE35,SBE35_FLAG_W,BTL_DATE,BTL_TIME
,,,,,,,,,,,METERS,DBAR,ITS-90,PSS-78,PSS-78,,UMOL/KG,,UMOL/KG,,UMOL/KG,,UMOL/KG,,UMOL/KG,,UMOL/KG,,PMOL/KG,,PMOL/KG,,PMOL/KG,,FMOL/KG,,UMOL/KG,,UMOL/KG,,,,DEG C,TU,,NMOL/KG,,PERCNT,,/MILLE,,/MILLE,,/MILLE,NMOL/KG,,NMOL/KG,UMOL/KG,,TU,NMOL/KG,PERCNT,DEG C,ITS-90,,,
318M20091121,        P06,      76,          1,         36,         36,2,20091211,       2126,   -32.5001,  -178.2800,       5110,     4.2,  20.8237,  35.5735,  35.5751,2,    229.3,2,   229.0,2,    0.82,2,   -0.01,2,    0.01,2,    0.15,2,-999.000,9,-999.000,9,-999.000,9,-999.0000,9,  2057.4,6,  2338.1,2,   7.9974,6,    25.00,-999.000,9,-999.0000,9, -999.00,9,    1.35,2,    58.0,2,     3.8,-999.000,9,-999.000,    64.0,2,-999.000,-999.0000, -999.00,  20.8229,  20.8304,2,20091211,       2355
318M20091121,        P06,      76,          1,         35,         35,2,20091211,       2126,   -32.5001,  -178.2800,       5110,    19.5,  20.3556,  35.5472,  35.5478,2,    231.0,2,   230.9,2,    0.74,2,    0.00,2,    0.00,2,    0.15,2,-999.000,9,-999.000,9,-999.000,9,-999.0000,9,  2055.2,2,  2334.1,6,   8.0001,2,    25.00,-999.000,9,-999.0000,9, -999.00,9, -999.00,9,  -999.0,9,  -999.0,-999.000,9,-999.000,    61.3,2,-999.000,-999.0000, -999.00,  20.3519,  20.3580,2,20091211,       2353
318M20091121,        P06,      76,          1,         34,         34,2,20091211,       2126,   -32.5001,  -178.2800,       5110,    39.7,  18.9070,  35.5159,  35.5162,2,    241.0,2,   243.0,2,    0.66,2,    0.00,2,    0.00,2,    0.14,2,-999.000,9,-999.000,9,-999.000,9,-999.0000,9,  2052.4,2,  2330.5,2,   7.9856,2,    25.00,-999.000,9,-999.0000,9, -999.00,9, -999.00,9,  -999.0,9,  -999.0,-999.000,9,-999.000,    65.7,2,-999.000,-999.0000, -999.00,  18.8999,  18.8410,3,20091211,       2351
318M20091121,        P06,      76,          1,         33,         33,2,20091211,       2126,   -32.5001,  -178.2800,       5110,    65.7,  16.1405,  35.4304,  35.4297,2,    255.4,2,   255.1,2,    0.78,2,   -0.01,2,    0.01,2,    0.16,2,-999.000,9,-999.000,9,-999.000,9,-999.0000,9,  2057.1,2,  2328.2,2,   7.9332,2,    25.00,-999.000,9,-999.0000,9, -999.00,9, -999.00,9,  -999.0,9,  -999.0,-999.000,9,-999.000,    63.4,2,-999.000,-999.0000, -999.00,  16.1300,  16.1680,3,20091211,       2349
318M20091121,        P06,      76,          1,         32,         32,2,20091211,       2126,   -32.5001,  -178.2800,       5110,    90.5,  15.0586,  35.3891,  35.3910,2,    232.7,2,   232.7,2,    1.46,2,    3.24,2,    0.13,2,    0.37,2,-999.000,9,-999.000,9,-999.000,9,-999.0000,9,  2082.6,2,  2324.7,2,   7.8897,2,    25.00,-999.000,9,-999.0000,9, -999.00,9,    1.10,2,    58.6,2,     3.2,-999.000,9,-999.000,    58.5,2,-999.000,-999.0000, -999.00,  15.0449,  15.0488,2,20091211,       2347
318M20091121,        P06,      76,          1,         31,         31,2,20091211,       2126,   -32.5001,  -178.2800,       5110,   136.2,  13.9810,  35.2845,  35.2836,2,    220.8,2,   220.6,2,    2.13,2,    6.73,2,    0.02,2,    0.58,2,-999.000,9,-999.000,9,-999.000,9,-999.0000,9,  2097.7,2,  2319.8,2,   7.8629,2,    25.00,-999.000,9,-999.0000,9, -999.00,9, -999.00,9,  -999.0,9,  -999.0,-999.000,9,-999.000,    58.1,2,-999.000,-999.0000, -999.00,  13.9613,  13.9803,2,20091211,       2344
318M20091121,        P06,      76,          1,         30,         30,2,20091211,       2126,   -32.5001,  -178.2800,       5110,   186.2,  13.2274,  35.1950,  35.1928,2,    217.2,2,   216.0,2,    2.81,2,    8.77,2,    0.01,2,    0.70,2,-999.000,9,-999.000,9,-999.000,9,-999.0000,9,  2107.3,2,  2315.8,2,   7.8246,2,    25.00,-999.000,9,-999.0000,9, -999.00,9,    0.99,2,    55.2,2,     3.2,-999.000,9,-999.000,    51.2,2,-999.000,-999.0000, -999.00,  13.2015,  13.2288,2,20091211,       2342
318M20091121,        P06,      76,          1,         29,         29,2,20091211,       2126,   -32.5001,  -178.2800,       5110,   237.8,  12.2419,  35.0644,  35.0577,2,    211.8,2,   209.5,2,    3.67,2,   11.85,2,    0.01,2,    0.89,2,-999.000,9,-999.000,9,-999.000,9,-999.0000,9,  2123.5,2,  2309.3,2,   7.8045,2,    25.00,-999.000,9,-999.0000,9, -999.00,9,    0.97,2,    44.1,2,     3.3,-999.000,9,-999.000,    53.6,2,-999.000,-999.0000, -999.00,  12.2104,  12.2433,2,20091211,       2339
318M20091121,        P06,      76,          1,         28,         28,2,20091211,       2126,   -32.5001,  -178.2800,       5110,   283.2,  11.4752,  34.9567,  34.9567,2,    207.9,2,   206.5,2,    4.34,2,   13.65,2,    0.01,2,    1.01,2,-999.000,9,-999.000,9,-999.000,9,-999.0000,9,  2128.6,2,  2304.3,6,   7.7817,2,    25.00,-999.000,9,-999.0000,9, -999.00,9,    1.02,2,    27.5,2,     3.1,-999.000,9,-999.000,  -999.0,5,-999.000,-999.0000, -999.00,  11.4392,  11.4757,2,20091211,       2337
318M20091121,        P06,      76,          1,         27,         27,2,20091211,       2126,   -32.5001,  -178.2800,       5110,   334.4,  10.6668,  34.8424,  34.8426,2,    205.8,2,   206.2,2,    4.83,2,   15.49,2,    0.01,2,    1.12,2,-999.000,9,-999.000,9,-999.000,9,-999.0000,9,  2133.9,2,  2299.1,2,   7.7662,2,    25.00,-999.000,9,-999.0000,9, -999.00,9,    1.01,2,    26.7,2,     3.2,-999.000,9,-999.000,    51.0,2,-999.000,-999.0000, -999.00,  10.6262,  10.6606,2,20091211,       2335
318M20091121,        P06,      76,          1,         26,         26,2,20091211,       2126,   -32.5001,  -178.2800,       5110,   384.9,  10.0513,  34.7615,  34.7585,2,    207.2,2,   206.9,2,    5.51,2,   16.98,2,    0.00,2,    1.22,2,-999.000,9,-999.000,9,-999.000,9,-999.0000,9,  2137.7,2,  2296.0,2,   7.7430,2,    25.00,-999.000,9,-999.0000,9, -999.00,9,    1.03,2,    53.5,2,     3.5,-999.000,9,-999.000,    47.9,2,-999.000,-999.0000, -999.00,  10.0062,  10.0510,2,20091211,       2333
318M20091121,        P06,      76,          1,         25,         25,2,20091211,       2126,   -32.5001,  -178.2800,       5110,   466.5,   9.0464,  34.6360,  34.6326,2,    210.9,2,   211.9,2,    6.38,2,   19.09,2,    0.00,2,    1.36,2,-999.000,9,-999.000,9,-999.000,9,-999.0000,9,  2142.8,2,  2291.1,2,   7.7261,2,    25.00,-999.000,9,-999.0000,9, -999.00,9,    1.09,2,    32.2,2,     3.4,-999.000,9,-999.000,  -999.0,5,-999.000,-999.0000, -999.00,   8.9950,   9.0484,2,20091211,       2330
318M20091121,        P06,      76,          1,         24,         24,2,20091211,       2126,   -32.5001,  -178.2800,       5110,   567.7,   7.9663,  34.5186,  34.5165,2,    217.3,2,   217.6,2,    8.20,2,   21.29,2,    0.00,2,    1.52,2,-999.000,9,-999.000,9,-999.000,9,-999.0000,9,  2147.0,2,  2288.5,2,   7.7161,2,    25.00,-999.000,9,-999.0000,9, -999.00,9,    1.13,2,    29.0,2,     3.0,-999.000,9,-999.000,    47.3,2,-999.000,-999.0000, -999.00,   7.9080,   7.9732,2,20091211,       2327
318M20091121,        P06,      76,          1,         23,         23,2,20091211,       2126,   -32.5001,  -178.2800,       5110,   670.3,   7.2741,  34.4587,  34.4581,2,    217.3,2,   218.8,2,   10.39,2,   22.96,2,    0.00,2,    1.62,2,-999.000,9,-999.000,9,-999.000,9,-999.0000,9,  2151.6,2,  2288.2,2,   7.7012,2,    25.00,-999.000,9,-999.0000,9, -999.00,9,    1.16,2,    10.2,2,     4.4,-999.000,9,-999.000,  -999.0,9,-999.000,-999.0000, -999.00,   7.2084,   7.2741,2,20091211,       2324
318M20091121,        P06,      76,          1,         22,         22,2,20091211,       2126,   -32.5001,  -178.2800,       5110,   771.7,   6.7326,  34.4252,  34.4249,2,    215.4,2,   214.2,2,   13.71,2,   24.49,2,    0.00,2,    1.73,2,-999.000,9,-999.000,9,-999.000,9,-999.0000,9,  2157.0,2,  2290.8,2,   7.6697,2,    25.00,-999.000,9,-999.0000,9, -999.00,9,    1.17,2,   -14.7,2,     3.1,-999.000,9,-999.000,    41.6,2,-999.000,-999.0000, -999.00,   6.6595,   6.7340,2,20091211,       2321
318M20091121,        P06,      76,          1,         21,         21,2,20091211,       2126,   -32.5001,  -178.2800,       5110,   873.2,   6.1894,  34.4130,  34.4133,2,    209.3,2,   206.2,2,   19.15,2,   26.21,2,    0.00,2,    1.86,2,-999.000,9,-999.000,9,-999.000,9,-999.0000,9,  2168.4,2,  2294.6,2,   7.6641,2,    25.00,-999.000,9,-999.0000,9, -999.00,9,    1.10,2,   -30.5,2,     2.8,-999.000,9,-999.000,  -999.0,9,-999.000,-999.0000, -999.00,   6.1097,   6.1911,2,20091211,       2317
318M20091121,        P06,      76,          1,         20,         20,2,20091211,       2126,   -32.5001,  -178.2800,       5110,   970.5,   5.5860,  34.3951,  34.3954,2,    200.4,2,   200.3,2,   25.18,2,   27.94,2,    0.00,2,    1.98,2,-999.000,9,-999.000,9,-999.000,9,-999.0000,9,  2179.9,6,  2298.2,2,   7.6373,2,    25.00,-999.000,9,-999.0000,9, -999.00,9,    1.05,2,   -57.3,2,     2.7,-999.000,9,-999.000,    42.2,2,-999.000,-999.0000, -999.00,   5.5012,   5.5866,2,20091211,       2314
318M20091121,        P06,      76,          1,         19,         19,2,20091211,       2126,   -32.5001,  -178.2800,       5110,  1071.8,   4.7539,  34.3810,  34.3807,2,    193.3,2,   192.6,2,   33.71,2,   30.13,2,    0.00,2,    2.13,2,-999.000,9,-999.000,9,-999.000,9,-999.0000,9,  2196.6,2,  2303.9,2,   7.6237,2,    25.00,-999.000,9,-999.0000,9, -999.00,9,    1.00,2,   -85.0,2,     2.5,-999.000,9,-999.000,  -999.0,9,-999.000,-999.0000, -999.00,   4.6663,   4.7639,2,20091211,       2311
318M20091121,        P06,      76,          1,         18,         18,2,20091211,       2126,   -32.5001,  -178.2800,       5110,  1174.4,   4.3541,  34.4123,  34.4117,2,    185.1,2,   185.6,2,   43.06,2,   31.22,2,    0.00,2,    2.21,2,-999.000,9,-999.000,9,-999.000,9,-999.0000,9,  2210.7,2,  2314.4,2,   7.6061,2,    25.00,-999.000,9,-999.0000,9, -999.00,9,    0.85,2,  -110.7,2,     3.4,-999.000,9,-999.000,    37.8,2,-999.000,-999.0000, -999.00,   4.2607,   4.3533,2,20091211,       2308
318M20091121,        P06,      76,          1,         17,         17,2,20091211,       2126,   -32.5001,  -178.2800,       5110,  1276.4,   3.8310,  34.4383,  34.4367,2,    178.1,2,   177.8,2,   53.04,2,   32.37,2,    0.00,2,    2.31,2,-999.000,9,-999.000,9,-999.000,9,-999.0000,9,  2226.3,2,  2323.5,2,   7.6012,2,    25.00,-999.000,9,-999.0000,9, -999.00,9,    0.77,2,  -126.4,2,     2.5,-999.000,9,-999.000,  -999.0,9,-999.000,-999.0000, -999.00,   3.7336,   3.8327,2,20091211,       2304
318M20091121,        P06,      76,          1,         16,         16,2,20091211,       2126,   -32.5001,  -178.2800,       5110,  1377.9,   3.5607,  34.4936,  34.4925,2,    170.6,2,   170.1,2,   65.98,2,   32.73,2,    0.00,2,    2.34,2,-999.000,9,-999.000,9,-999.000,9,-999.0000,9,  2243.3,2,  2339.6,2,   7.5963,2,    25.00,-999.000,9,-999.0000,9, -999.00,9,    0.67,2,  -146.3,2,     3.2,-999.000,9,-999.000,  -999.0,9,-999.000,-999.0000, -999.00,   3.4572,   3.5597,2,20091211,       2301
318M20091121,        P06,      76,          1,         15,         15,2,20091211,       2126,   -32.5001,  -178.2800,       5110,  1474.8,   3.2706,  34.5254,  34.5250,2,    166.2,2,   165.8,2,   75.66,2,   33.28,2,    0.00,2,    2.39,2,-999.000,9,-999.000,9,-999.000,9,-999.0000,9,  2253.8,2,  2349.6,2,   7.5940,2,    25.00,-999.000,9,-999.0000,9, -999.00,9,    0.60,2,  -157.5,2,     2.5,-999.000,9,-999.000,    37.7,2,-999.000,-999.0000, -999.00,   3.1619,   3.2704,2,20091211,       2257
318M20091121,        P06,      76,          1,         14,         14,2,20091211,       2126,   -32.5001,  -178.2800,       5110,  1579.1,   3.0849,  34.5563,  34.5549,2,    162.4,2,   162.8,2,   84.40,2,   33.51,2,    0.00,2,    2.40,2,-999.000,9,-999.000,9,-999.000,9,-999.0000,9,  2264.2,2,  2360.1,2,   7.5887,2,    25.00,-999.000,9,-999.0000,9, -999.00,9,    0.53,2,  -166.0,2,     2.4,-999.000,9,-999.000,  -999.0,9,-999.000,-999.0000, -999.00,   2.9694,   3.0856,2,20091211,       2253
318M20091121,        P06,      76,          1,         13,         13,2,20091211,       2126,   -32.5001,  -178.2800,       5110,  1747.3,   2.7035,  34.5945,  34.5940,2,    157.8,2,   157.3,2,   96.89,2,   34.06,2,    0.00,2,    2.45,2,-999.000,9,-999.000,9,-999.000,9,-999.0000,9,  2279.7,2,  2374.3,2,   7.5894,2,    25.00,-999.000,9,-999.0000,9, -999.00,9,    0.43,2,  -184.4,2,     2.3,-999.000,9,-999.000,    34.6,2,-999.000,-999.0000, -999.00,   2.5785,   2.7031,2,20091211,       2249
318M20091121,        P06,      76,          1,         12,         12,2,20091211,       2126,   -32.5001,  -178.2800,       5110,  1951.9,   2.3751,  34.6275,  34.6274,2,    154.5,2,   154.9,2,  107.86,2,   34.33,2,    0.00,2,    2.47,2,-999.000,9,-999.000,9,-999.000,9,-999.0000,9,  2291.2,2,  2387.5,2,   7.5817,2,    25.00,-999.000,9,-999.0000,9, -999.00,9,    0.38,2,  -190.5,2,     2.2,-999.000,9,-999.000,  -999.0,9,-999.000,-999.0000, -999.00,   2.2371,   2.3765,2,20091211,       2242
318M20091121,        P06,      76,          1,         11,         11,2,20091211,       2126,   -32.5001,  -178.2800,       5110,  2188.3,   2.1494,  34.6432,  34.6428,2,    150.2,2,   150.9,2,  116.48,2,   34.88,2,    0.00,2,    2.51,2,-999.000,9,-999.000,9,-999.000,9,-999.0000,9,  2301.4,3,  2394.2,2,   7.5850,2,    25.00,-999.000,9,-999.0000,9, -999.00,9,    0.29,2,  -206.1,2,     2.2,-999.000,9,-999.000,    34.0,2,-999.000,-999.0000, -999.00,   1.9944,   2.1492,2,20091211,       2236
318M20091121,        P06,      76,          1,         10,         10,2,20091211,       2126,   -32.5001,  -178.2800,       5110,  2438.9,   1.8933,  34.6728,  34.6725,2,    161.2,2,   158.8,2,  118.00,2,   34.27,2,    0.00,2,    2.46,2,-999.000,9,-999.000,9,-999.000,9,-999.0000,9,  2297.0,2,  2392.9,2,   7.6129,3,    25.00,-999.000,9,-999.0000,9, -999.00,9,    0.34,2,  -201.4,2,     2.2,-999.000,9,-999.000,  -999.0,9,-999.000,-999.0000, -999.00,   1.7204,   1.8934,2,20091211,       2230
318M20091121,        P06,      76,          1,          9,          9,2,20091211,       2126,   -32.5001,  -178.2800,       5110,  2696.0,   1.6908,  34.7084,  34.7087,2,    180.3,2,   180.7,2,  107.86,2,   32.32,2,    0.00,2,    2.31,2,-999.000,9,-999.000,9,-999.000,9,-999.0000,9,  2273.0,2,  2373.1,2,-999.0000,9,  -999.00,-999.000,9,-999.0000,9, -999.00,9,    0.41,2,  -173.6,2,     2.4,-999.000,9,-999.000,    38.8,2,-999.000,-999.0000, -999.00,   1.4983,   1.6905,2,20091211,       2224
318M20091121,        P06,      76,          1,          8,          8,2,20091211,       2126,   -32.5001,  -178.2800,       5110,  2952.1,   1.5301,  34.7215,  34.7215,2,    192.0,2,   191.7,2,  105.82,2,   31.49,2,    0.00,2,    2.25,2,-999.000,9,-999.000,9,-999.000,9,-999.0000,9,  2261.8,2,  2366.0,2,-999.0000,9,  -999.00,-999.000,9,-999.0000,9, -999.00,9,    0.45,2,  -158.6,2,     2.4,-999.000,9,-999.000,  -999.0,9,-999.000,-999.0000, -999.00,   1.3169,   1.5292,2,20091211,       2218
318M20091121,        P06,      76,          1,          7,          7,2,20091211,       2126,   -32.5001,  -178.2800,       5110,  3244.5,   1.2891,  34.7211,  34.7207,2,    198.9,2,   199.3,2,  110.50,2,   31.39,2,    0.00,2,    2.24,2,-999.000,9,-999.000,9,-999.000,9,-999.0000,9,  2261.2,2,  2365.2,2,   7.6125,2,    25.00,-999.000,9,-999.0000,9, -999.00,9,    0.26,4,  -161.1,2,     2.6,-999.000,9,-999.000,    40.2,2,-999.000,-999.0000, -999.00,   1.0533,   1.2892,2,20091211,       2211
318M20091121,        P06,      76,          1,          6,          6,2,20091211,       2126,   -32.5001,  -178.2800,       5110,  3549.3,   1.1513,  34.7174,  34.7178,2,    202.5,2,   202.5,2,  114.19,2,   31.39,2,    0.00,2,    2.24,2,-999.000,9,-999.000,9,-999.000,9,-999.0000,9,  2260.2,2,  2368.0,2,-999.0000,9,  -999.00,-999.000,9,-999.0000,9, -999.00,9,    0.54,2,  -153.4,2,     2.4,-999.000,9,-999.000,  -999.0,9,-999.000,-999.0000, -999.00,   0.8888,   1.1517,2,20091211,       2205
318M20091121,        P06,      76,          1,          5,          5,2,20091211,       2126,   -32.5001,  -178.2800,       5110,  3862.9,   1.0720,  34.7143,  34.7146,2,    204.6,2,   204.6,2,  117.50,2,   31.52,2,    0.00,2,    2.24,2,-999.000,9,-999.000,9,-999.000,9,-999.0000,9,  2258.8,2,  2364.8,2,-999.0000,9,  -999.00,-999.000,9,-999.0000,9, -999.00,9,    0.52,2,  -151.3,2,     2.3,-999.000,9,-999.000,    37.5,2,-999.000,-999.0000, -999.00,   0.7794,   1.0712,2,20091211,       2157
318M20091121,        P06,      76,          1,          4,          4,2,20091211,       2126,   -32.5001,  -178.2800,       5110,  4059.3,   1.0424,  34.7125,  34.7121,2,    205.7,2,   205.5,2,  118.82,2,   31.56,2,    0.00,2,    2.25,2,-999.000,9,-999.000,9,-999.000,9,-999.0000,9,  2260.4,2,  2366.8,2,   7.6161,2,    25.00,-999.000,9,-999.0000,9, -999.00,9,    0.53,2,  -157.5,2,     2.4,-999.000,9,-999.000,  -999.0,9,-999.000,-999.0000, -999.00,   0.7299,   1.0423,2,20091211,       2151
318M20091121,        P06,      76,          1,          3,          3,2,20091211,       2126,   -32.5001,  -178.2800,       5110,  4469.7,   1.0171,  34.7098,  34.7091,2,    206.9,2,   206.6,2,  120.93,2,   31.65,2,    0.00,2,    2.25,2,-999.000,9,-999.000,9,-999.000,9,-999.0000,9,  2259.8,3,  2368.0,2,-999.0000,9,  -999.00,-999.000,9,-999.0000,9, -999.00,9,    0.55,2,  -155.1,2,     2.4,-999.000,9,-999.000,    42.2,2,-999.000,-999.0000, -999.00,   0.6604,   1.0172,2,20091211,       2142
318M20091121,        P06,      76,          1,          2,          2,2,20091211,       2126,   -32.5001,  -178.2800,       5110,  4831.7,   1.0161,  34.7082,  34.7081,2,    206.6,2,   206.9,2,  122.07,2,   31.69,2,    0.00,2,    2.26,2,-999.000,9,-999.000,9,-999.000,9,-999.0000,9,  2262.5,2,  2366.0,2,-999.0000,9,  -999.00,-999.000,9,-999.0000,9, -999.00,9,    0.54,2,  -159.4,2,     2.4,-999.000,9,-999.000,  -999.0,9,-999.000,-999.0000, -999.00,   0.6179,   1.0160,2,20091211,       2134
318M20091121,        P06,      76,          1,          1,          1,2,20091211,       2126,   -32.5001,  -178.2800,       5110,  5185.7,   1.0522,  34.7078,  34.7081,2,    206.9,2,   206.8,2,  122.41,2,   31.74,2,    0.00,2,    2.26,2,-999.000,9,-999.000,9,-999.000,9,-999.0000,9,  2260.2,6,  2368.0,6,   7.6140,2,    25.00,-999.000,9,-999.0000,9, -999.00,9,    0.46,2,  -159.3,2,     2.4,-999.000,9,-999.000,    37.3,2,-999.000,-999.0000, -999.00,   0.6106,   1.0526,2,20091211,       2126