BOTTLE,20220818CCHSIOAMB
EXPOCODE,SECT_ID,STNNBR,CASTNO,SAMPNO,BTLNBR,BTLNBR_FLAG_W,DATE,TIME,LATITUDE,LONGITUDE,DEPTH,CTDPRS,CTDTMP,CTDSAL,SALNTY,SALNTY_FLAG_W,CTDOXY,CTDOXY_FLAG_W,OXYGEN,OXYGEN_FLAG_W,SILCAT,SILCAT_FLAG_W,NITRAT,NITRAT_FLAG_W,NITRIT,NITRIT_FLAG_W,PHSPHT,PHSPHT_FLAG_W,CFC-11,CFC-11_FLAG_W,CFC-12,CFC-12_FLAG_W,CFC113,CFC113_FLAG_W,SF6,SF6_FLAG_W,TCARBN,TCARBN_FLAG_W,ALKALI,ALKALI_FLAG_W,PH_SWS,PH_SWS_FLAG_W,PH_TMP,TRITUM,TRITUM_FLAG_W,HELIUM,HELIUM_FLAG_W,DELHE3,DELHE3_FLAG_W,DELC13,DELC13_FLAG_W,DELC14,DELC14_FLAG_W,C14ERR,NEON,NEON_FLAG_W,NEONER,DOC,DOC_FLAG_W,TRITER,HELIER,DELHER,THETA,SBE35,SBE35_FLAG_W,BTL_DATE,BTL_TIME
,,,,,,,,,,,METERS,DBAR,ITS-90,PSS-78,PSS-78,,UMOL/KG,,UMOL/KG,,UMOL/KG,,UMOL/KG,,UMOL/KG,,UMOL/KG,,PMOL/KG,,PMOL/KG,,PMOL/KG,,FMOL/KG,,UMOL/KG,,UMOL/KG,,,,DEG C,TU,,NMOL/KG,,PERCNT,,/MILLE,,/MILLE,,/MILLE,NMOL/KG,,NMOL/KG,UMOL/KG,,TU,NMOL/KG,PERCNT,DEG C,ITS-90,,,
318M20091121,        P06,     102,          1,         36,         36,2,20091221,       0811,   -32.5002,  -164.2449,       5786,     2.7,  19.1354,  35.2763,  35.2773,2,    233.9,2,   233.1,2,    0.68,2,    0.00,2,    0.00,2,    0.13,2,   2.154,2,   1.334,2,-999.000,1,    1.164,2,  2046.6,2,  2316.0,2,   7.9964,2,    25.00,   0.396,2,-999.0000,9, -999.00,9,    1.40,3,    59.2,2,     3.6,-999.000,9,-999.000,    59.3,2,   0.016,-999.0000, -999.00,  19.1349,  19.1330,2,20091221,       1038
318M20091121,        P06,     102,          1,         35,         35,2,20091221,       0811,   -32.5002,  -164.2449,       5786,    35.6,  19.1036,  35.2739,  35.2809,2,    234.5,2,   235.6,2,    0.64,2,    0.00,2,    0.00,2,    0.13,2,   2.182,2,   1.347,2,-999.000,1,     1.13,2,  2047.7,6,  2317.5,6,   7.9961,6,    25.00,-999.000,9,-999.0000,9, -999.00,9, -999.00,9,  -999.0,9,  -999.0,-999.000,9,-999.000,    64.2,2,-999.000,-999.0000, -999.00,  19.0972,  19.1118,2,20091221,       1036
318M20091121,        P06,     102,          1,         34,         34,2,20091221,       0811,   -32.5002,  -164.2449,       5786,    60.1,  15.9951,  35.2908,  35.2999,2,    254.9,2,   257.4,2,    0.62,2,    0.00,2,    0.00,2,    0.15,2,   2.478,2,   1.500,2,-999.000,1,    1.177,2,  2052.2,2,  2320.5,2,   7.9905,2,    25.00,   0.370,2,-999.0000,9, -999.00,9, -999.00,9,  -999.0,9,  -999.0,-999.000,9,-999.000,    59.8,2,   0.016,-999.0000, -999.00,  15.9856,  15.9936,2,20091221,       1034
318M20091121,        P06,     102,          1,         33,         33,2,20091221,       0811,   -32.5002,  -164.2449,       5786,    85.7,  15.5266,  35.4060,  35.4057,2,    230.0,2,   229.9,2,    0.99,2,    1.91,2,    0.07,2,    0.28,2,   2.448,6,   1.467,6,-999.000,1,   1.1455,6,  2077.0,2,  2325.8,2,   7.9514,2,    25.00,-999.000,9,-999.0000,9, -999.00,9,    1.08,2,    58.8,2,     3.0,-999.000,9,-999.000,    47.2,3,-999.000,-999.0000, -999.00,  15.5133,  15.5266,2,20091221,       1032
318M20091121,        P06,     102,          1,         32,         32,2,20091221,       0811,   -32.5002,  -164.2449,       5786,   115.2,  14.9232,  35.3397,  35.3364,2,    221.1,2,   213.0,2,    1.55,2,    5.43,2,    0.02,2,    0.48,2,   2.539,4,   1.886,4,-999.000,1,   16.417,4,  2091.9,2,  2321.4,2,   7.9137,2,    25.00,   0.326,2,-999.0000,9, -999.00,9, -999.00,9,  -999.0,9,  -999.0,-999.000,9,-999.000,    49.5,2,   0.016,-999.0000, -999.00,  14.9058,  14.9129,2,20091221,       1031
318M20091121,        P06,     102,          1,         31,         31,2,20091221,       0811,   -32.5002,  -164.2449,       5786,   168.1,  13.1566,  35.1288,  35.1241,2,    211.3,2,   208.8,2,    2.13,2,    9.16,2,    0.01,2,    0.71,2,-999.000,5,-999.000,5,-999.000,1,-999.0000,5,  2112.0,2,  2308.4,2,   7.8584,2,    25.00,   0.280,2,-999.0000,9, -999.00,9,    1.03,2,    52.3,2,     3.0,-999.000,9,-999.000,    48.6,2,   0.016,-999.0000, -999.00,  13.1333,  13.1241,3,20091221,       1029
318M20091121,        P06,     102,          1,         30,         30,2,20091221,       0811,   -32.5002,  -164.2449,       5786,   217.6,  12.4392,  35.0646,  35.0638,2,    214.6,2,   215.0,2,    2.50,2,   10.41,2,    0.01,2,    0.79,2,   3.270,4,   1.983,4,-999.000,1,    1.627,4,  2115.5,2,  2306.6,2,   7.8437,2,    25.00,   0.287,2,-999.0000,9, -999.00,9, -999.00,9,  -999.0,9,  -999.0,-999.000,9,-999.000,    45.2,2,   0.016,-999.0000, -999.00,  12.4101,  12.4384,2,20091221,       1027
318M20091121,        P06,     102,          1,         29,         29,2,20091221,       0811,   -32.5002,  -164.2449,       5786,   267.0,  11.5796,  34.9405,  34.9509,2,    207.8,2,   208.5,2,    3.27,2,   12.77,2,    0.01,2,    0.93,2,-999.000,5,-999.000,5,-999.000,1,-999.0000,5,  2123.3,2,  2300.2,2,   7.8198,2,    25.00,   0.257,2,-999.0000,9, -999.00,9,    1.18,2,    45.5,2,     3.0,-999.000,9,-999.000,    47.2,2,   0.016,-999.0000, -999.00,  11.5455,  11.5911,2,20091221,       1024
318M20091121,        P06,     102,          1,         28,         28,2,20091221,       0811,   -32.5002,  -164.2449,       5786,   316.3,  10.4430,  34.7929,  34.7928,2,    210.7,2,   209.2,2,    4.05,2,   15.39,2,    0.00,2,    1.09,2,   2.904,2,   1.590,2,-999.000,1,    0.925,2,  2129.9,2,  2296.3,2,   7.7886,2,    25.00,   0.220,2,-999.0000,9, -999.00,9,    0.38,4,    32.0,4,     3.5,-999.000,9,-999.000,    42.5,2,   0.016,-999.0000, -999.00,  10.4051,  10.4820,3,20091221,       1022
318M20091121,        P06,     102,          1,         27,         27,2,20091221,       0811,   -32.5002,  -164.2449,       5786,   365.8,   9.5317,  34.6750,  34.6776,2,    213.6,2,   213.1,2,    4.83,2,   17.24,2,    0.00,2,    1.22,2,   3.007,2,   1.625,2,-999.000,1,    0.919,2,  2134.9,2,  2293.7,2,   7.7682,2,    25.00,   0.196,2,-999.0000,9, -999.00,9,    0.99,2,    30.5,2,     2.9,-999.000,9,-999.000,    43.7,2,   0.016,-999.0000, -999.00,   9.4903,   9.5275,2,20091221,       1020
318M20091121,        P06,     102,          1,         26,         26,2,20091221,       0811,   -32.5002,  -164.2449,       5786,   437.4,   8.4326,  34.5411,  34.5419,2,    221.6,2,   221.2,2,    5.40,2,   19.44,2,    0.00,2,    1.37,2,   3.098,2,   1.619,2,-999.000,1,    0.787,2,  2138.1,2,  2288.3,2,   7.7484,2,    25.00,   0.178,2,-999.0000,9, -999.00,9,    1.19,2,    25.9,2,     2.9,-999.000,9,-999.000,    42.8,2,   0.017,-999.0000, -999.00,   8.3865,   8.4383,2,20091221,       1018
318M20091121,        P06,     102,          1,         25,         25,2,20091221,       0811,   -32.5002,  -164.2449,       5786,   538.6,   7.5422,  34.4457,  34.4460,2,    230.5,2,   230.6,2,    6.38,2,   21.37,2,    0.00,2,    1.48,2,   3.155,2,   1.618,2,-999.000,1,    0.664,2,  2140.6,2,  2282.5,2,   7.7375,2,    25.00,   0.147,2,-999.0000,9, -999.00,9,    1.25,2,    25.2,2,     4.1,-999.000,9,-999.000,    41.4,2,   0.018,-999.0000, -999.00,   7.4888,   7.5409,2,20091221,       1014
318M20091121,        P06,     102,          1,         24,         24,2,20091221,       0811,   -32.5002,  -164.2449,       5786,   638.2,   6.8848,  34.3907,  34.3904,2,    231.1,2,   232.0,2,    8.17,2,   23.04,2,    0.00,2,    1.59,2,   2.725,2,   1.349,2,-999.000,1,     0.52,2,  2144.3,2,  2280.4,2,   7.7291,2,    25.00,   0.122,2,-999.0000,9, -999.00,9,    1.28,2,     3.4,2,     3.9,-999.000,9,-999.000,  -999.0,9,   0.017,-999.0000, -999.00,   6.8243,   6.8841,2,20091221,       1011
318M20091121,        P06,     102,          1,         23,         23,2,20091221,       0811,   -32.5002,  -164.2449,       5786,   740.4,   6.2973,  34.3491,  34.3487,2,    228.9,2,   229.4,2,   10.77,2,   24.56,2,    0.00,2,    1.71,2,   1.942,2,   0.934,2,-999.000,1,     0.24,2,  2148.5,2,  2281.4,2,   7.7188,2,    25.00,   0.077,2,-999.0000,9, -999.00,9,    1.32,2,   -15.9,2,     2.7,-999.000,9,-999.000,    41.3,2,   0.017,-999.0000, -999.00,   6.2299,   6.2968,2,20091221,       1008
318M20091121,        P06,     102,          1,         22,         22,2,20091221,       0811,   -32.5002,  -164.2449,       5786,   841.8,   5.5865,  34.3297,  34.3285,2,    220.1,2,   216.7,2,   17.04,2,   27.20,2,    0.00,2,    1.89,2,   1.198,2,   0.578,2,-999.000,1,    0.083,2,  2163.9,2,  2290.9,6,   7.6870,2,    25.00,   0.057,2,-999.0000,9, -999.00,9,    1.22,2,   -47.3,2,     2.7,-999.000,9,-999.000,  -999.0,9,   0.017,-999.0000, -999.00,   5.5138,   5.5877,2,20091221,       1005
318M20091121,        P06,     102,          1,         21,         21,2,20091221,       0811,   -32.5002,  -164.2449,       5786,   941.9,   5.0182,  34.3310,  34.3308,2,    207.1,2,   206.0,2,   23.93,2,   28.96,2,    0.00,2,    2.02,2,   0.815,2,   0.391,2,-999.000,1,    0.118,2,  2179.6,6,  2296.8,2,   7.6640,2,    25.00,   0.023,2,-999.0000,9, -999.00,9,    1.16,2,   -75.2,2,     2.6,-999.000,9,-999.000,    37.0,2,   0.017,-999.0000, -999.00,   4.9402,   5.0212,2,20091221,       1002
318M20091121,        P06,     102,          1,         20,         20,2,20091221,       0811,   -32.5002,  -164.2449,       5786,  1044.7,   4.4087,  34.3452,  34.3453,2,    197.7,2,   196.3,2,   32.69,2,   30.84,2,    0.00,2,    2.15,2,   0.509,2,   0.246,2,-999.000,1,        0,2,  2194.6,2,  2298.9,2,   7.6381,2,    25.00,   0.032,2,-999.0000,9, -999.00,9,    0.80,2,   -95.8,2,     3.0,-999.000,9,-999.000,  -999.0,9,   0.017,-999.0000, -999.00,   4.3263,   4.4087,2,20091221,       0959
318M20091121,        P06,     102,          1,         19,         19,2,20091221,       0811,   -32.5002,  -164.2449,       5786,  1144.2,   3.9127,  34.3723,  34.3722,2,    188.2,2,   188.6,2,   41.49,2,   32.00,2,    0.00,2,    2.24,2,   0.315,2,   0.160,2,-999.000,1,        0,2,  2208.9,2,  2311.3,2,   7.6190,2,    25.00,   0.004,2,-999.0000,9, -999.00,9,    0.69,2,  -120.0,2,     2.4,-999.000,9,-999.000,    38.2,2,   0.017,-999.0000, -999.00,   3.8259,   3.9116,2,20091221,       0956
318M20091121,        P06,     102,          1,         18,         18,2,20091221,       0811,   -32.5002,  -164.2449,       5786,  1245.2,   3.5248,  34.4112,  34.4114,2,    180.1,2,   182.0,2,   50.95,2,   32.90,2,    0.00,2,    2.31,2,   0.194,2,   0.104,2,-999.000,1,        0,2,  2229.3,2,  2317.8,2,   7.6036,2,    25.00,   0.018,2,-999.0000,9, -999.00,9,    0.60,2,  -137.8,2,     2.6,-999.000,9,-999.000,  -999.0,9,   0.017,-999.0000, -999.00,   3.4330,   3.5260,2,20091221,       0953
318M20091121,        P06,     102,          1,         17,         17,2,20091221,       0811,   -32.5002,  -164.2449,       5786,  1348.1,   3.1163,  34.4637,  34.4633,2,    172.4,2,   172.9,2,   62.30,2,   33.65,2,    0.00,2,    2.37,2,   0.078,2,   0.047,2,-999.000,1,        0,2,  2246.3,2,  2334.0,2,   7.5915,2,    25.00,-999.000,9,-999.0000,9, -999.00,9,    0.48,2,  -150.9,2,     2.4,-999.000,9,-999.000,    38.6,2,-999.000,-999.0000, -999.00,   3.0200,   3.1184,2,20091221,       0950
318M20091121,        P06,     102,          1,         16,         16,2,20091221,       0811,   -32.5002,  -164.2449,       5786,  1449.3,   2.8793,  34.5130,  34.5132,2,    166.2,2,   166.0,2,   73.08,2,   34.03,2,    0.00,2,    2.40,2,   0.043,2,   0.030,2,-999.000,1,        0,2,  2259.5,2,  2344.8,2,   7.5866,2,    25.00,   0.000,2,-999.0000,9, -999.00,9,    0.54,2,  -168.8,2,     1.6,-999.000,9,-999.000,  -999.0,9,   0.017,-999.0000, -999.00,   2.7772,   2.8789,2,20091221,       0947
318M20091121,        P06,     102,          1,         15,         15,2,20091221,       0811,   -32.5002,  -164.2449,       5786,  1550.7,   2.6938,  34.5544,  34.5540,2,    161.0,2,   160.9,2,   83.48,2,   34.26,2,    0.00,2,    2.42,2,   0.020,2,   0.015,2,-999.000,1,        0,2,  2272.6,2,  2358.2,2,   7.5862,2,    25.00,-999.000,9,-999.0000,9, -999.00,9,    0.44,2,  -180.2,2,     2.8,-999.000,9,-999.000,    36.9,2,-999.000,-999.0000, -999.00,   2.5854,   2.6934,2,20091221,       0943
318M20091121,        P06,     102,          1,         14,         14,2,20091221,       0811,   -32.5002,  -164.2449,       5786,  1680.8,   2.5270,  34.5882,  34.5886,2,    156.3,2,   156.5,2,   94.12,2,   34.40,2,    0.00,2,    2.45,2,   0.008,2,   0.009,2,-999.000,1,        0,2,  2283.3,2,  2367.3,2,   7.5841,2,    25.00,   0.004,2,-999.0000,9, -999.00,9,    0.39,2,  -197.9,2,     1.8,-999.000,9,-999.000,  -999.0,9,   0.017,-999.0000, -999.00,   2.4099,   2.5283,2,20091221,       0939
318M20091121,        P06,     102,          1,         13,         13,2,20091221,       0811,   -32.5002,  -164.2449,       5786,  1881.6,   2.3489,  34.6150,  34.6158,2,    151.6,2,   152.0,2,  104.99,2,   34.73,2,    0.00,2,    2.47,2,   0.015,2,   0.015,2,-999.000,1,        0,2,  2295.3,2,  2380.2,2,   7.5893,2,    25.00,  -0.011,2,-999.0000,9, -999.00,9,    0.32,2,  -206.2,2,     2.1,-999.000,9,-999.000,    37.2,2,   0.017,-999.0000, -999.00,   2.2173,   2.3488,2,20091221,       0934
318M20091121,        P06,     102,          1,         12,         12,2,20091221,       0811,   -32.5002,  -164.2449,       5786,  2106.8,   2.1685,  34.6348,  34.6351,2,    148.4,2,   148.8,2,  115.07,2,   35.06,2,    0.00,2,    2.50,2,   0.014,2,   0.013,2,-999.000,1,        0,2,  2306.0,2,  2391.0,2,   7.5821,2,    25.00,   0.004,2,-999.0000,9, -999.00,9,    0.23,2,  -222.5,2,     1.7,-999.000,9,-999.000,  -999.0,9,   0.009,-999.0000, -999.00,   2.0203,   2.1686,2,20091221,       0929
318M20091121,        P06,     102,          1,         11,         11,2,20091221,       0811,   -32.5002,  -164.2449,       5786,  2362.1,   2.0353,  34.6470,  34.6467,2,    147.0,2,   146.9,2,  121.77,2,   35.44,2,    0.00,2,    2.52,2,   0.010,2,   0.010,2,-999.000,1,        0,2,  2313.2,2,  2402.0,2,   7.5828,2,    25.00,-999.000,9,-999.0000,9, -999.00,9,    0.18,2,  -228.6,2,     1.8,-999.000,9,-999.000,    36.4,2,-999.000,-999.0000, -999.00,   1.8668,   2.0349,2,20091221,       0923
318M20091121,        P06,     102,          1,         10,         10,2,20091221,       0811,   -32.5002,  -164.2449,       5786,  2616.8,   1.9271,  34.6567,  34.6573,2,    147.4,2,   147.4,2,  126.38,2,   35.39,2,    0.00,2,    2.52,2,   0.012,2,   0.011,2,-999.000,1,        0,2,  2315.5,2,  2407.5,2,   7.5835,2,    25.00,   0.001,2,-999.0000,9, -999.00,9,    0.17,2,  -230.7,2,     1.6,-999.000,9,-999.000,  -999.0,9,   0.009,-999.0000, -999.00,   1.7374,   1.9273,2,20091221,       0917
318M20091121,        P06,     102,          1,          9,          9,2,20091221,       0811,   -32.5002,  -164.2449,       5786,  2870.8,   1.8357,  34.6654,  34.6662,2,    149.4,2,   149.6,2,  129.09,2,   35.29,2,    0.00,2,    2.51,2,   0.016,2,   0.011,2,-999.000,1,        0,2,  2316.2,2,  2409.8,2,   7.5861,2,    25.00,   0.000,2,-999.0000,9, -999.00,9,   -1.41,4,  -220.5,2,     1.8,-999.000,9,-999.000,    35.7,2,   0.009,-999.0000, -999.00,   1.6240,   1.8357,2,20091221,       0911
318M20091121,        P06,     102,          1,          8,          8,2,20091221,       0811,   -32.5002,  -164.2449,       5786,  3142.7,   1.7514,  34.6753,  34.6757,2,    155.5,2,   155.7,2,  128.42,2,   34.87,2,    0.00,2,    2.47,2,   0.018,2,   0.013,2,-999.000,1,        0,2,  2313.6,2,  2407.8,2,   7.5906,2,    25.00,-999.000,9,-999.0000,9, -999.00,9,    0.20,2,  -217.6,2,     1.6,-999.000,9,-999.000,  -999.0,9,-999.000,-999.0000, -999.00,   1.5151,   1.7517,2,20091221,       0905
318M20091121,        P06,     102,          1,          7,          7,2,20091221,       0811,   -32.5002,  -164.2449,       5786,  3449.7,   1.6494,  34.6948,  34.6958,2,    172.8,2,   171.4,2,  120.37,2,   33.54,2,    0.00,2,    2.36,2,   0.025,2,   0.018,2,-999.000,1,        0,2,  2293.0,2,  2393.3,2,   7.6024,2,    25.00,-999.000,9,-999.0000,9, -999.00,9,    0.29,2,  -203.2,2,     2.8,-999.000,9,-999.000,    40.2,2,-999.000,-999.0000, -999.00,   1.3845,   1.6489,2,20091221,       0859
318M20091121,        P06,     102,          1,          6,          6,2,20091221,       0811,   -32.5002,  -164.2449,       5786,  3757.4,   1.4876,  34.7139,  34.7151,2,    190.7,2,   190.3,2,  111.92,2,   31.95,2,    0.00,2,    2.25,2,   0.029,2,   0.018,2,-999.000,1,        0,2,  2270.1,2,  2376.6,2,   7.6164,2,    25.00,  -0.002,2,-999.0000,9, -999.00,9,    0.42,2,  -181.1,2,     1.7,-999.000,9,-999.000,  -999.0,9,   0.009,-999.0000, -999.00,   1.1948,   1.4873,2,20091221,       0852
318M20091121,        P06,     102,          1,          5,          5,2,20091221,       0811,   -32.5002,  -164.2449,       5786,  4064.0,   1.2902,  34.7170,  34.7174,2,    199.6,2,   199.3,2,  112.73,2,   31.48,2,    0.00,2,    2.21,2,   0.053,2,   0.039,2,-999.000,1,        0,2,  2262.9,2,  2368.2,2,   7.6216,2,    25.00,  -0.001,2,-999.0000,9, -999.00,9,    0.47,2,  -172.1,2,     2.0,-999.000,9,-999.000,    39.2,2,   0.009,-999.0000, -999.00,   0.9700,   1.2910,2,20091221,       0846
318M20091121,        P06,     102,          1,          4,          4,2,20091221,       0811,   -32.5002,  -164.2449,       5786,  4369.7,   1.1154,  34.7129,  34.7135,2,    204.0,2,   204.2,2,  117.33,2,   31.53,2,    0.00,2,    2.22,2,   0.060,2,   0.033,2,-999.000,1,        0,2,  2263.1,2,  2367.2,2,   7.6237,2,    25.00,  -0.002,2,-999.0000,9, -999.00,9,    0.51,2,  -172.1,2,     2.6,-999.000,9,-999.000,  -999.0,9,   0.008,-999.0000, -999.00,   0.7668,   1.1154,2,20091221,       0839
318M20091121,        P06,     102,          1,          3,          3,2,20091221,       0811,   -32.5002,  -164.2449,       5786,  4678.1,   1.0494,  34.7098,  34.7096,2,    205.8,2,   206.4,2,  120.04,2,   31.67,2,    0.00,2,    2.23,2,   0.089,2,   0.048,2,-999.000,1,        0,2,  2263.6,2,  2367.8,2,   7.6221,2,    25.00,   0.003,2,-999.0000,9, -999.00,9,    0.45,2,  -166.9,2,     2.2,-999.000,9,-999.000,    39.2,2,   0.009,-999.0000, -999.00,   0.6679,   1.0496,2,20091221,       0833
318M20091121,        P06,     102,          1,          2,          2,2,20091221,       0811,   -32.5002,  -164.2449,       5786,  5228.4,   1.0781,  34.7084,  34.7086,2,    206.8,2,   206.5,2,  121.06,2,   31.72,2,    0.00,2,    2.23,2,   0.102,2,   0.058,2,-999.000,1,        0,2,  2263.1,2,  2365.9,6,   7.6230,2,    25.00,   0.001,2,-999.0000,9, -999.00,9,    0.43,2,  -168.1,2,     2.9,-999.000,9,-999.000,  -999.0,9,   0.009,-999.0000, -999.00,   0.6303,   1.0783,2,20091221,       0821
318M20091121,        P06,     102,          1,          1,          1,2,20091221,       0811,   -32.5002,  -164.2449,       5786,  5781.7,   1.1455,  34.7081,  34.7089,2,    206.6,2,   206.5,2,  121.24,2,   31.72,2,    0.00,2,    2.23,2,   0.105,2,   0.056,2,-999.000,1,        0,2,  2265.0,6,  2365.8,2,   7.6202,6,    25.00,-999.000,9,-999.0000,9, -999.00,9,    0.46,2,  -170.3,2,     2.2,-999.000,9,-999.000,    40.5,2,-999.000,-999.0000, -999.00,   0.6257,   1.1456,2,20091221,       0811