BOTTLE,20220818CCHSIOAMB
EXPOCODE,SECT_ID,STNNBR,CASTNO,SAMPNO,BTLNBR,BTLNBR_FLAG_W,DATE,TIME,LATITUDE,LONGITUDE,DEPTH,CTDPRS,CTDTMP,CTDSAL,SALNTY,SALNTY_FLAG_W,CTDOXY,CTDOXY_FLAG_W,OXYGEN,OXYGEN_FLAG_W,SILCAT,SILCAT_FLAG_W,NITRAT,NITRAT_FLAG_W,NITRIT,NITRIT_FLAG_W,PHSPHT,PHSPHT_FLAG_W,CFC-11,CFC-11_FLAG_W,CFC-12,CFC-12_FLAG_W,CFC113,CFC113_FLAG_W,SF6,SF6_FLAG_W,TCARBN,TCARBN_FLAG_W,ALKALI,ALKALI_FLAG_W,PH_SWS,PH_SWS_FLAG_W,PH_TMP,TRITUM,TRITUM_FLAG_W,HELIUM,HELIUM_FLAG_W,DELHE3,DELHE3_FLAG_W,DELC13,DELC13_FLAG_W,DELC14,DELC14_FLAG_W,C14ERR,NEON,NEON_FLAG_W,NEONER,DOC,DOC_FLAG_W,TRITER,HELIER,DELHER,THETA,SBE35,SBE35_FLAG_W,BTL_DATE,BTL_TIME
,,,,,,,,,,,METERS,DBAR,ITS-90,PSS-78,PSS-78,,UMOL/KG,,UMOL/KG,,UMOL/KG,,UMOL/KG,,UMOL/KG,,UMOL/KG,,PMOL/KG,,PMOL/KG,,PMOL/KG,,FMOL/KG,,UMOL/KG,,UMOL/KG,,,,DEG C,TU,,NMOL/KG,,PERCNT,,/MILLE,,/MILLE,,/MILLE,NMOL/KG,,NMOL/KG,UMOL/KG,,TU,NMOL/KG,PERCNT,DEG C,ITS-90,,,
318M20091121,        P06,      74,          1,         33,         33,2,20091211,       1102,   -32.4999,  -178.6503,       3443,     3.9,  20.8448,  35.5748,  35.5698,2,    229.3,2,   228.8,2,    1.48,2,    0.00,2,    0.00,2,    0.16,2,-999.000,9,-999.000,9,-999.000,9,-999.0000,9,  2059.0,6,  2334.9,2,   7.9905,2,    25.00,-999.000,9,-999.0000,9, -999.00,9, -999.00,9,  -999.0,9,  -999.0,-999.000,9,-999.000,    57.9,2,-999.000,-999.0000, -999.00,  20.8441,  20.8473,2,20091211,       1300
318M20091121,        P06,      74,          1,         32,         32,2,20091211,       1102,   -32.4999,  -178.6503,       3443,    25.4,  19.3367,  35.5325,  35.5341,2,    240.3,2,   239.5,2,    1.56,2,    0.00,2,    0.00,2,    0.14,2,-999.000,9,-999.000,9,-999.000,9,-999.0000,9,  2053.8,2,  2333.0,6,   7.9939,6,    25.00,-999.000,9,-999.0000,9, -999.00,9, -999.00,9,  -999.0,9,  -999.0,-999.000,9,-999.000,    59.0,2,-999.000,-999.0000, -999.00,  19.3321,  19.3386,2,20091211,       1258
318M20091121,        P06,      74,          1,         31,         31,2,20091211,       1102,   -32.4999,  -178.6503,       3443,    50.4,  16.2828,  35.4179,  35.4225,2,    254.6,2,   254.4,2,    1.83,2,    0.00,2,    0.00,2,    0.15,2,-999.000,9,-999.000,9,-999.000,9,-999.0000,9,  2056.5,2,  2327.3,2,   7.9836,2,    25.00,-999.000,9,-999.0000,9, -999.00,9, -999.00,9,  -999.0,9,  -999.0,-999.000,9,-999.000,    60.0,2,-999.000,-999.0000, -999.00,  16.2747,  16.3295,3,20091211,       1255
318M20091121,        P06,      74,          1,         30,         30,2,20091211,       1102,   -32.4999,  -178.6503,       3443,    75.9,  15.2376,  35.3854,-999.0000,9,    240.8,2,   240.4,2,    2.28,2,    2.25,2,    0.17,2,    0.30,2,-999.000,9,-999.000,9,-999.000,9,-999.0000,9,  2076.8,2,  2323.9,2,   7.9408,2,    25.00,-999.000,9,-999.0000,9, -999.00,9, -999.00,9,  -999.0,9,  -999.0,-999.000,9,-999.000,    54.4,2,-999.000,-999.0000, -999.00,  15.2260,  15.2364,2,20091211,       1253
318M20091121,        P06,      74,          1,         29,         29,2,20091211,       1102,   -32.4999,  -178.6503,       3443,   113.3,  14.3591,  35.3306,  35.3252,2,    226.7,2,   226.7,2,    3.29,2,    5.63,2,    0.02,2,    0.50,2,-999.000,9,-999.000,9,-999.000,9,-999.0000,9,  2093.2,2,  2321.6,2,   7.9035,2,    25.00,-999.000,9,-999.0000,9, -999.00,9, -999.00,9,  -999.0,9,  -999.0,-999.000,9,-999.000,    50.5,2,-999.000,-999.0000, -999.00,  14.3424,  14.3561,2,20091211,       1249
318M20091121,        P06,      74,          1,         28,         28,2,20091211,       1102,   -32.4999,  -178.6503,       3443,   127.7,  14.0653,  35.2977,  35.2959,2,    225.7,2,   225.3,2,    3.37,2,    6.18,2,    0.01,2,    0.54,2,-999.000,9,-999.000,9,-999.000,9,-999.0000,9,  2096.7,2,  2318.0,2,   7.8940,2,    25.00,-999.000,9,-999.0000,9, -999.00,9, -999.00,9,  -999.0,9,  -999.0,-999.000,9,-999.000,    51.7,2,-999.000,-999.0000, -999.00,  14.0468,  14.0636,2,20091211,       1247
318M20091121,        P06,      74,          1,         27,         27,2,20091211,       1102,   -32.4999,  -178.6503,       3443,   152.0,  13.7288,  35.2588,  35.2577,2,    224.5,2,   223.8,2,    3.63,2,    7.05,2,    0.01,2,    0.61,2,-999.000,9,-999.000,9,-999.000,9,-999.0000,9,  2100.5,2,  2318.0,2,   7.8826,2,    25.00,-999.000,9,-999.0000,9, -999.00,9, -999.00,9,  -999.0,9,  -999.0,-999.000,9,-999.000,    54.0,2,-999.000,-999.0000, -999.00,  13.7071,  13.7311,2,20091211,       1245
318M20091121,        P06,      74,          1,         26,         26,2,20091211,       1102,   -32.4999,  -178.6503,       3443,   201.8,  12.8519,  35.1468,  35.1450,2,    217.8,2,   215.0,2,    4.28,2,    9.88,2,    0.01,2,    0.75,2,-999.000,9,-999.000,9,-999.000,9,-999.0000,9,  2112.6,2,  2314.7,2,   7.8486,2,    25.00,-999.000,9,-999.0000,9, -999.00,9, -999.00,9,  -999.0,9,  -999.0,-999.000,9,-999.000,    46.7,2,-999.000,-999.0000, -999.00,  12.8243,  12.8521,2,20091211,       1242
318M20091121,        P06,      74,          1,         25,         25,2,20091211,       1102,   -32.4999,  -178.6503,       3443,   251.7,  11.9993,  35.0292,  35.0289,2,    209.4,2,   208.4,2,    5.11,2,   12.43,2,    0.00,2,    0.91,2,-999.000,9,-999.000,9,-999.000,9,-999.0000,9,  2123.1,2,  2308.1,2,   7.8174,2,    25.00,-999.000,9,-999.0000,9, -999.00,9, -999.00,9,  -999.0,9,  -999.0,-999.000,9,-999.000,    45.9,2,-999.000,-999.0000, -999.00,  11.9664,  11.9987,2,20091211,       1240
318M20091121,        P06,      74,          1,         24,         24,2,20091211,       1102,   -32.4999,  -178.6503,       3443,   301.2,  11.0922,  34.9022,  34.9018,2,    204.7,2,   204.7,2,    6.14,2,   14.96,2,    0.00,2,    1.07,2,-999.000,9,-999.000,9,-999.000,9,-999.0000,9,  2130.9,2,  2303.6,2,   7.7899,2,    25.00,-999.000,9,-999.0000,9, -999.00,9, -999.00,9,  -999.0,9,  -999.0,-999.000,9,-999.000,    42.9,2,-999.000,-999.0000, -999.00,  11.0547,  11.0805,2,20091211,       1237
318M20091121,        P06,      74,          1,         23,         23,2,20091211,       1102,   -32.4999,  -178.6503,       3443,   351.3,  10.4276,  34.8133,  34.8120,2,    205.3,2,   205.3,2,    6.77,2,   16.41,2,    0.00,2,    1.16,2,-999.000,9,-999.000,9,-999.000,9,-999.0000,9,  2135.4,2,  2299.4,2,   7.7715,2,    25.00,-999.000,9,-999.0000,9, -999.00,9, -999.00,9,  -999.0,9,  -999.0,-999.000,9,-999.000,    44.3,2,-999.000,-999.0000, -999.00,  10.3855,  10.4286,2,20091211,       1235
318M20091121,        P06,      74,          1,         22,         22,2,20091211,       1102,   -32.4999,  -178.6503,       3443,   401.8,   9.8829,  34.7460,  34.7447,2,    207.6,2,   207.7,2,    7.23,2,   17.41,2,    0.00,2,    1.23,2,-999.000,9,-999.000,9,-999.000,9,-999.0000,9,  1967.1,4,  2294.6,2,   7.7617,2,    25.00,-999.000,9,-999.0000,9, -999.00,9, -999.00,9,  -999.0,9,  -999.0,-999.000,9,-999.000,    42.6,2,-999.000,-999.0000, -999.00,   9.8363,   9.8832,2,20091211,       1232
318M20091121,        P06,      74,          1,         21,         21,2,20091211,       1102,   -32.4999,  -178.6503,       3443,   452.8,   9.1585,  34.6585,  34.6573,2,    208.6,2,   214.1,3,    8.26,2,   19.13,2,    0.00,2,    1.35,2,-999.000,9,-999.000,9,-999.000,9,-999.0000,9,  1972.1,4,  2293.4,2,   7.7429,2,    25.00,-999.000,9,-999.0000,9, -999.00,9, -999.00,9,  -999.0,9,  -999.0,-999.000,9,-999.000,    42.1,2,-999.000,-999.0000, -999.00,   9.1083,   9.1576,2,20091211,       1229
318M20091121,        P06,      74,          1,         20,         20,2,20091211,       1102,   -32.4999,  -178.6503,       3443,   503.7,   8.5863,  34.5906,  34.5904,2,    213.7,2,   207.5,3,    8.91,2,   20.30,2,    0.00,2,    1.42,2,-999.000,9,-999.000,9,-999.000,9,-999.0000,9,  1983.7,4,  2292.5,2,   7.7336,2,    25.00,-999.000,9,-999.0000,9, -999.00,9, -999.00,9,  -999.0,9,  -999.0,-999.000,9,-999.000,    43.3,2,-999.000,-999.0000, -999.00,   8.5324,   8.5866,2,20091211,       1226
318M20091121,        P06,      74,          1,         19,         19,2,20091211,       1102,   -32.4999,  -178.6503,       3443,   603.3,   7.7016,  34.4906,  34.4901,2,    219.2,2,   218.7,2,    9.75,2,   21.98,2,    0.00,2,    1.53,2,-999.000,9,-999.000,9,-999.000,9,-999.0000,9,  1987.2,4,  2294.8,2,   7.7227,2,    25.00,-999.000,9,-999.0000,9, -999.00,9, -999.00,9,  -999.0,9,  -999.0,-999.000,9,-999.000,  -999.0,9,-999.000,-999.0000, -999.00,   7.6407,   7.7022,2,20091211,       1223
318M20091121,        P06,      74,          1,         18,         18,2,20091211,       1102,   -32.4999,  -178.6503,       3443,   704.8,   7.1703,  34.4548,  34.4549,2,    216.1,2,   216.9,2,   12.47,2,   23.43,2,    0.00,2,    1.63,2,-999.000,9,-999.000,9,-999.000,9,-999.0000,9,  2000.2,4,  2292.9,2,   7.7116,2,    25.00,-999.000,9,-999.0000,9, -999.00,9, -999.00,9,  -999.0,9,  -999.0,-999.000,9,-999.000,    39.8,2,-999.000,-999.0000, -999.00,   7.1016,   7.1720,2,20091211,       1219
318M20091121,        P06,      74,          1,         17,         17,2,20091211,       1102,   -32.4999,  -178.6503,       3443,   806.6,   6.6729,  34.4335,  34.4472,3,    211.2,2,   211.1,2,   15.97,2,   24.66,2,    0.00,2,    1.72,2,-999.000,9,-999.000,9,-999.000,9,-999.0000,9,  -999.0,9,  -999.0,9,-999.0000,9,  -999.00,-999.000,9,-999.0000,9, -999.00,9, -999.00,9,  -999.0,9,  -999.0,-999.000,9,-999.000,  -999.0,9,-999.000,-999.0000, -999.00,   6.5967,   6.6733,2,20091211,       1216
318M20091121,        P06,      74,          1,         16,         16,2,20091211,       1102,   -32.4999,  -178.6503,       3443,   908.1,   5.9530,  34.4052,  34.4066,2,    204.8,2,   204.0,2,   22.53,2,   27.07,2,    0.00,2,    1.89,2,-999.000,9,-999.000,9,-999.000,9,-999.0000,9,  2021.3,4,  2294.8,2,   7.6756,2,    25.00,-999.000,9,-999.0000,9, -999.00,9, -999.00,9,  -999.0,9,  -999.0,-999.000,9,-999.000,    36.4,2,-999.000,-999.0000, -999.00,   5.8715,   5.9527,2,20091211,       1213
318M20091121,        P06,      74,          1,         15,         15,2,20091211,       1102,   -32.4999,  -178.6503,       3443,  1009.9,   5.4156,  34.4190,  34.4184,2,    195.7,2,   194.6,2,   31.42,2,   28.67,2,    0.00,2,    2.00,2,-999.000,9,-999.000,9,-999.000,9,-999.0000,9,  2188.2,2,  2303.9,6,   7.6539,2,    25.00,-999.000,9,-999.0000,9, -999.00,9, -999.00,9,  -999.0,9,  -999.0,-999.000,9,-999.000,  -999.0,9,-999.000,-999.0000, -999.00,   5.3283,   5.4159,2,20091211,       1209
318M20091121,        P06,      74,          1,         14,         14,2,20091211,       1102,   -32.4999,  -178.6503,       3443,  1110.8,   4.6360,  34.3972,  34.3963,2,    190.3,2,   189.8,2,   38.43,2,   30.56,2,    0.00,2,    2.14,2,-999.000,9,-999.000,9,-999.000,9,-999.0000,9,  2050.8,4,  2310.1,2,   7.6311,2,    25.00,-999.000,9,-999.0000,9, -999.00,9, -999.00,9,  -999.0,9,  -999.0,-999.000,9,-999.000,    37.1,2,-999.000,-999.0000, -999.00,   4.5458,   4.6334,2,20091211,       1206
318M20091121,        P06,      74,          1,         13,         13,2,20091211,       1102,   -32.4999,  -178.6503,       3443,  1262.0,   4.0303,  34.4407,  34.4394,2,    178.9,2,   179.3,2,   52.24,2,   31.95,2,    0.00,2,    2.25,2,-999.000,9,-999.000,9,-999.000,9,-999.0000,9,  2074.6,4,  2321.2,2,   7.6140,2,    25.00,-999.000,9,-999.0000,9, -999.00,9, -999.00,9,  -999.0,9,  -999.0,-999.000,9,-999.000,  -999.0,9,-999.000,-999.0000, -999.00,   3.9322,   4.0282,2,20091211,       1201
318M20091121,        P06,      74,          1,         12,         12,2,20091211,       1102,   -32.4999,  -178.6503,       3443,  1394.8,   3.5110,  34.4974,  34.5005,2,    169.8,2,   169.7,2,   68.28,2,   32.96,2,    0.00,2,    2.33,2,-999.000,9,-999.000,9,-999.000,9,-999.0000,9,  2241.5,2,  2341.7,2,   7.6005,2,    25.00,-999.000,9,-999.0000,9, -999.00,9, -999.00,9,  -999.0,9,  -999.0,-999.000,9,-999.000,  -999.0,9,-999.000,-999.0000, -999.00,   3.4066,   3.5184,2,20091211,       1157
318M20091121,        P06,      74,          1,         11,         11,2,20091211,       1102,   -32.4999,  -178.6503,       3443,  1414.8,   3.4493,  34.5119,  34.5116,2,    168.6,2,   168.1,2,   71.91,2,   33.01,2,    0.00,2,    2.34,2,-999.000,9,-999.000,9,-999.000,9,-999.0000,9,  2245.0,2,  2343.8,2,   7.6003,2,    25.00,-999.000,9,-999.0000,9, -999.00,9, -999.00,9,  -999.0,9,  -999.0,-999.000,9,-999.000,    35.9,2,-999.000,-999.0000, -999.00,   3.3438,   3.4490,2,20091211,       1156
318M20091121,        P06,      74,          1,         10,         10,2,20091211,       1102,   -32.4999,  -178.6503,       3443,  1517.1,   3.2650,  34.5361,  34.5352,2,    165.2,2,   164.9,2,   78.86,2,   33.33,2,    0.00,2,    2.36,2,-999.000,9,-999.000,9,-999.000,9,-999.0000,9,  2253.2,2,  2353.8,2,   7.5974,2,    25.00,-999.000,9,-999.0000,9, -999.00,9, -999.00,9,  -999.0,9,  -999.0,-999.000,9,-999.000,  -999.0,9,-999.000,-999.0000, -999.00,   3.1528,   3.2647,2,20091211,       1153
318M20091121,        P06,      74,          1,          9,          9,2,20091211,       1102,   -32.4999,  -178.6503,       3443,  1618.3,   3.0067,  34.5695,  34.5672,2,    161.3,2,   160.7,2,   88.58,2,   33.66,2,    0.00,2,    2.39,2,-999.000,9,-999.000,9,-999.000,9,-999.0000,9,  2266.5,2,  2365.2,2,   7.5947,2,    25.00,-999.000,9,-999.0000,9, -999.00,9, -999.00,9,  -999.0,9,  -999.0,-999.000,9,-999.000,  -999.0,9,-999.000,-999.0000, -999.00,   2.8888,   3.0063,2,20091211,       1150
318M20091121,        P06,      74,          1,          8,          8,2,20091211,       1102,   -32.4999,  -178.6503,       3443,  1718.5,   2.7747,  34.5910,  34.5912,2,    158.6,2,   158.5,2,   95.78,2,   33.98,2,    0.00,2,    2.41,2,-999.000,9,-999.000,9,-999.000,9,-999.0000,9,  2273.5,2,  2374.3,2,   7.5917,2,    25.00,-999.000,9,-999.0000,9, -999.00,9, -999.00,9,  -999.0,9,  -999.0,-999.000,9,-999.000,  -999.0,9,-999.000,-999.0000, -999.00,   2.6512,   2.7741,2,20091211,       1146
318M20091121,        P06,      74,          1,          7,          7,2,20091211,       1102,   -32.4999,  -178.6503,       3443,  1819.0,   2.5248,  34.6148,  34.6142,2,    156.6,2,   155.9,2,  103.78,2,   34.26,2,    0.00,2,    2.43,2,-999.000,9,-999.000,9,-999.000,9,-999.0000,9,  2284.0,2,  2384.8,2,   7.5865,2,    25.00,-999.000,9,-999.0000,9, -999.00,9, -999.00,9,  -999.0,9,  -999.0,-999.000,9,-999.000,    36.1,2,-999.000,-999.0000, -999.00,   2.3960,   2.5250,2,20091211,       1143
318M20091121,        P06,      74,          1,          6,          6,2,20091211,       1102,   -32.4999,  -178.6503,       3443,  2025.9,   2.2628,  34.6368,  34.6367,2,    153.9,2,   153.9,2,  111.61,2,   34.58,2,    0.00,2,    2.46,2,-999.000,9,-999.000,9,-999.000,9,-999.0000,9,  2293.9,2,  2393.2,2,   7.5858,2,    25.00,-999.000,9,-999.0000,9, -999.00,9, -999.00,9,  -999.0,9,  -999.0,-999.000,9,-999.000,  -999.0,9,-999.000,-999.0000, -999.00,   2.1201,   2.2629,2,20091211,       1137
318M20091121,        P06,      74,          1,          5,          5,2,20091211,       1102,   -32.4999,  -178.6503,       3443,  2274.7,   2.1084,  34.6487,  34.6485,2,    151.8,2,   152.0,2,  117.46,2,   34.86,2,    0.00,2,    2.48,2,-999.000,9,-999.000,9,-999.000,9,-999.0000,9,  2299.4,2,  2398.5,2,   7.5818,2,    25.00,-999.000,9,-999.0000,9, -999.00,9, -999.00,9,  -999.0,9,  -999.0,-999.000,9,-999.000,    35.6,2,-999.000,-999.0000, -999.00,   1.9464,   2.1083,2,20091211,       1131
318M20091121,        P06,      74,          1,          4,          4,2,20091211,       1102,   -32.4999,  -178.6503,       3443,  2528.6,   1.8501,  34.6862,  34.6861,2,    167.4,2,   167.1,2,  112.82,2,   33.51,2,    0.00,2,    2.38,2,-999.000,9,-999.000,9,-999.000,9,-999.0000,9,  2286.3,2,  2384.2,2,   7.5917,2,    25.00,-999.000,9,-999.0000,9, -999.00,9, -999.00,9,  -999.0,9,  -999.0,-999.000,9,-999.000,  -999.0,9,-999.000,-999.0000, -999.00,   1.6699,   1.8500,2,20091211,       1124
318M20091121,        P06,      74,          1,          3,          3,2,20091211,       1102,   -32.4999,  -178.6503,       3443,  2733.2,   1.7115,  34.7082,  34.7083,2,    180.6,2,   180.5,2,  107.60,2,   32.39,2,    0.00,2,    2.29,2,-999.000,9,-999.000,9,-999.000,9,-999.0000,9,  2270.5,2,  2376.9,2,   7.6024,2,    25.00,-999.000,9,-999.0000,9, -999.00,9, -999.00,9,  -999.0,9,  -999.0,-999.000,9,-999.000,    36.8,2,-999.000,-999.0000, -999.00,   1.5151,   1.7111,2,20091211,       1119
318M20091121,        P06,      74,          1,          2,          2,2,20091211,       1102,   -32.4999,  -178.6503,       3443,  3104.8,   1.4669,  34.7243,  34.7242,2,    195.8,2,   195.5,2,  106.52,2,   31.41,2,    0.00,2,    2.21,2,-999.000,9,-999.000,9,-999.000,9,-999.0000,9,  2258.1,2,  2370.3,2,   7.6121,2,    25.00,-999.000,9,-999.0000,9, -999.00,9, -999.00,9,  -999.0,9,  -999.0,-999.000,9,-999.000,  -999.0,9,-999.000,-999.0000, -999.00,   1.2405,   1.4667,2,20091211,       1110
318M20091121,        P06,      74,          1,          1,          1,2,20091211,       1102,   -32.4999,  -178.6503,       3443,  3470.8,   1.2596,  34.7201,  34.7203,2,    200.7,2,   200.2,2,  111.77,2,   31.51,2,    0.00,2,    2.22,2,-999.000,9,-999.000,9,-999.000,9,-999.0000,9,  2259.1,2,  2370.8,6,   7.6163,6,    25.00,-999.000,9,-999.0000,9, -999.00,9, -999.00,9,  -999.0,9,  -999.0,-999.000,9,-999.000,    37.0,2,-999.000,-999.0000, -999.00,   1.0022,   1.2596,2,20091211,       1102