BOTTLE,20220818CCHSIOAMB
EXPOCODE,SECT_ID,STNNBR,CASTNO,SAMPNO,BTLNBR,BTLNBR_FLAG_W,DATE,TIME,LATITUDE,LONGITUDE,DEPTH,CTDPRS,CTDTMP,CTDSAL,SALNTY,SALNTY_FLAG_W,CTDOXY,CTDOXY_FLAG_W,OXYGEN,OXYGEN_FLAG_W,SILCAT,SILCAT_FLAG_W,NITRAT,NITRAT_FLAG_W,NITRIT,NITRIT_FLAG_W,PHSPHT,PHSPHT_FLAG_W,CFC-11,CFC-11_FLAG_W,CFC-12,CFC-12_FLAG_W,CFC113,CFC113_FLAG_W,SF6,SF6_FLAG_W,TCARBN,TCARBN_FLAG_W,ALKALI,ALKALI_FLAG_W,PH_SWS,PH_SWS_FLAG_W,PH_TMP,TRITUM,TRITUM_FLAG_W,HELIUM,HELIUM_FLAG_W,DELHE3,DELHE3_FLAG_W,DELC13,DELC13_FLAG_W,DELC14,DELC14_FLAG_W,C14ERR,NEON,NEON_FLAG_W,NEONER,DOC,DOC_FLAG_W,TRITER,HELIER,DELHER,THETA,SBE35,SBE35_FLAG_W,BTL_DATE,BTL_TIME
,,,,,,,,,,,METERS,DBAR,ITS-90,PSS-78,PSS-78,,UMOL/KG,,UMOL/KG,,UMOL/KG,,UMOL/KG,,UMOL/KG,,UMOL/KG,,PMOL/KG,,PMOL/KG,,PMOL/KG,,FMOL/KG,,UMOL/KG,,UMOL/KG,,,,DEG C,TU,,NMOL/KG,,PERCNT,,/MILLE,,/MILLE,,/MILLE,NMOL/KG,,NMOL/KG,UMOL/KG,,TU,NMOL/KG,PERCNT,DEG C,ITS-90,,,
318M20091121,        P06,      66,          1,         36,         36,2,20091209,       1253,   -31.5400,   177.9549,       3843,     4.2,  21.0054,  35.6550,  35.6547,2,    227.1,2,   226.8,2,    2.43,2,    0.00,2,    0.00,2,    0.08,2,-999.000,9,-999.000,9,-999.000,9,-999.0000,9,  2042.1,6,  2338.3,2,   8.0223,2,    25.00,-999.000,9,-999.0000,9, -999.00,9, -999.00,9,  -999.0,9,  -999.0,-999.000,9,-999.000,  -999.0,5,-999.000,-999.0000, -999.00,  21.0046,  21.0053,2,20091209,       1503
318M20091121,        P06,      66,          1,         35,         35,2,20091209,       1253,   -31.5400,   177.9549,       3843,    37.1,  19.6255,  35.6462,  35.6435,2,    237.1,2,   237.4,2,    2.90,2,    0.00,2,    0.00,2,    0.09,2,-999.000,9,-999.000,9,-999.000,9,-999.0000,9,  2040.1,2,  2337.2,6,   8.0287,2,    25.00,-999.000,9,-999.0000,9, -999.00,9, -999.00,9,  -999.0,9,  -999.0,-999.000,9,-999.000,  -999.0,5,-999.000,-999.0000, -999.00,  19.6187,  19.6253,2,20091209,       1501
318M20091121,        P06,      66,          1,         34,         34,2,20091209,       1253,   -31.5400,   177.9549,       3843,    57.4,  18.7169,  35.6141,  35.6122,2,    243.5,2,   243.4,2,    2.97,2,    0.00,2,    0.00,2,    0.10,2,-999.000,9,-999.000,9,-999.000,9,-999.0000,9,  2040.7,2,  2333.1,2,   8.0265,2,    25.00,-999.000,9,-999.0000,9, -999.00,9, -999.00,9,  -999.0,9,  -999.0,-999.000,9,-999.000,  -999.0,5,-999.000,-999.0000, -999.00,  18.7068,  18.7137,2,20091209,       1458
318M20091121,        P06,      66,          1,         33,         33,2,20091209,       1253,   -31.5400,   177.9549,       3843,    82.8,  17.2836,  35.5557,  35.5583,2,    231.5,2,   235.1,2,    2.83,2,    0.09,2,    0.05,2,    0.16,2,-999.000,9,-999.000,9,-999.000,9,-999.0000,9,  2057.7,2,  2332.0,2,   7.9940,6,    25.00,-999.000,9,-999.0000,9, -999.00,9, -999.00,9,  -999.0,9,  -999.0,-999.000,9,-999.000,  -999.0,5,-999.000,-999.0000, -999.00,  17.2698,  17.2786,2,20091209,       1456
318M20091121,        P06,      66,          1,         32,         32,2,20091209,       1253,   -31.5400,   177.9549,       3843,   108.5,  16.7853,  35.5548,  35.5512,2,    219.2,2,   219.1,2,    3.69,2,    3.28,2,    0.01,2,    0.33,2,-999.000,9,-999.000,9,-999.000,9,-999.0000,9,  2072.1,2,  2330.2,2,   7.9610,2,    25.00,-999.000,9,-999.0000,9, -999.00,9, -999.00,9,  -999.0,9,  -999.0,-999.000,9,-999.000,  -999.0,5,-999.000,-999.0000, -999.00,  16.7675,  16.7853,2,20091209,       1453
318M20091121,        P06,      66,          1,         31,         31,2,20091209,       1253,   -31.5400,   177.9549,       3843,   133.6,  16.5803,  35.5662,  35.5690,2,    221.5,2,   222.0,2,    3.96,2,    3.47,2,    0.01,2,    0.33,2,-999.000,9,-999.000,9,-999.000,9,-999.0000,9,  2073.8,2,  2329.1,2,   7.9612,2,    25.00,-999.000,9,-999.0000,9, -999.00,9, -999.00,9,  -999.0,9,  -999.0,-999.000,9,-999.000,  -999.0,5,-999.000,-999.0000, -999.00,  16.5586,  16.5840,2,20091209,       1450
318M20091121,        P06,      66,          1,         30,         30,2,20091209,       1253,   -31.5400,   177.9549,       3843,   164.0,  16.3516,  35.5548,  35.5536,2,    222.3,2,   222.4,2,    4.62,2,    3.86,2,    0.01,2,    0.36,2,-999.000,9,-999.000,9,-999.000,9,-999.0000,9,  2076.7,2,  2329.1,2,   7.9528,2,    25.00,-999.000,9,-999.0000,9, -999.00,9, -999.00,9,  -999.0,9,  -999.0,-999.000,9,-999.000,  -999.0,5,-999.000,-999.0000, -999.00,  16.3252,  16.3511,2,20091209,       1448
318M20091121,        P06,      66,          1,         29,         29,2,20091209,       1253,   -31.5400,   177.9549,       3843,   209.5,  15.8257,  35.4920,  35.4915,2,    216.1,2,   216.2,2,    5.29,2,    5.30,2,    0.01,2,    0.45,2,-999.000,9,-999.000,9,-999.000,9,-999.0000,9,  2086.4,2,  2328.4,2,   7.9352,2,    25.00,-999.000,9,-999.0000,9, -999.00,9, -999.00,9,  -999.0,9,  -999.0,-999.000,9,-999.000,  -999.0,5,-999.000,-999.0000, -999.00,  15.7926,  15.8266,2,20091209,       1445
318M20091121,        P06,      66,          1,         28,         28,2,20091209,       1253,   -31.5400,   177.9549,       3843,   265.6,  15.0822,  35.4093,  35.4003,2,    212.5,2,   214.7,2,    5.95,2,    6.60,2,    0.01,2,    0.55,2,-999.000,9,-999.000,9,-999.000,9,-999.0000,9,  2093.9,2,  2322.5,2,   7.9107,2,    25.00,-999.000,9,-999.0000,9, -999.00,9, -999.00,9,  -999.0,9,  -999.0,-999.000,9,-999.000,  -999.0,5,-999.000,-999.0000, -999.00,  15.0416,  15.0780,2,20091209,       1442
318M20091121,        P06,      66,          1,         27,         27,2,20091209,       1253,   -31.5400,   177.9549,       3843,   311.8,  14.2094,  35.3169,  35.3134,2,    220.6,2,   220.2,2,    6.22,2,    7.03,2,    0.01,2,    0.58,2,-999.000,9,-999.000,9,-999.000,9,-999.0000,9,  2098.5,2,  2319.9,2,   7.8967,2,    25.00,-999.000,9,-999.0000,9, -999.00,9, -999.00,9,  -999.0,9,  -999.0,-999.000,9,-999.000,  -999.0,5,-999.000,-999.0000, -999.00,  14.1636,  14.2135,2,20091209,       1439
318M20091121,        P06,      66,          1,         26,         26,2,20091209,       1253,   -31.5400,   177.9549,       3843,   366.8,  13.1444,  35.1690,  35.1680,2,    208.9,2,   208.2,2,    6.69,2,   10.22,2,    0.00,2,    0.77,2,-999.000,9,-999.000,9,-999.000,9,-999.0000,9,  2113.2,2,  2311.6,2,   7.8489,2,    25.00,-999.000,9,-999.0000,9, -999.00,9, -999.00,9,  -999.0,9,  -999.0,-999.000,9,-999.000,  -999.0,5,-999.000,-999.0000, -999.00,  13.0932,  13.1452,2,20091209,       1437
318M20091121,        P06,      66,          1,         25,         25,2,20091209,       1253,   -31.5400,   177.9549,       3843,   412.8,  12.5156,  35.0864,  35.0868,2,    206.6,2,   206.5,2,    7.15,2,   11.70,2,    0.00,2,    0.87,2,-999.000,9,-999.000,9,-999.000,9,-999.0000,9,  2119.8,2,  2308.4,2,   7.8343,2,    25.00,-999.000,9,-999.0000,9, -999.00,9, -999.00,9,  -999.0,9,  -999.0,-999.000,9,-999.000,  -999.0,5,-999.000,-999.0000, -999.00,  12.4597,  12.5156,2,20091209,       1434
318M20091121,        P06,      66,          1,         24,         24,2,20091209,       1253,   -31.5400,   177.9549,       3843,   468.7,  11.2275,  34.9149,  34.9136,2,    205.2,2,   205.0,2,    8.02,2,   14.64,2,    0.00,2,    1.05,2,-999.000,9,-999.000,9,-999.000,9,-999.0000,9,  2129.1,2,  2300.3,2,   7.7969,2,    25.00,-999.000,9,-999.0000,9, -999.00,9, -999.00,9,  -999.0,9,  -999.0,-999.000,9,-999.000,  -999.0,5,-999.000,-999.0000, -999.00,  11.1683,  11.2379,2,20091209,       1431
318M20091121,        P06,      66,          1,         23,         23,2,20091209,       1253,   -31.5400,   177.9549,       3843,   540.1,  10.1895,  34.8003,  34.8001,2,    200.2,2,   199.7,2,   10.27,2,   17.81,2,    0.00,2,    1.25,2,-999.000,9,-999.000,9,-999.000,9,-999.0000,9,  2140.1,2,  2297.6,2,   7.7624,2,    25.00,-999.000,9,-999.0000,9, -999.00,9, -999.00,9,  -999.0,9,  -999.0,-999.000,9,-999.000,  -999.0,5,-999.000,-999.0000, -999.00,  10.1251,  10.1903,2,20091209,       1428
318M20091121,        P06,      66,          1,         22,         22,2,20091209,       1253,   -31.5400,   177.9549,       3843,   636.6,   8.5312,  34.5789,  34.5778,2,    211.8,2,   213.2,2,   10.35,2,   20.27,2,    0.00,2,    1.42,2,-999.000,9,-999.000,9,-999.000,9,-999.0000,9,  2143.0,2,  2289.1,2,   7.7374,2,    25.00,-999.000,9,-999.0000,9, -999.00,9, -999.00,9,  -999.0,9,  -999.0,-999.000,9,-999.000,  -999.0,9,-999.000,-999.0000, -999.00,   8.4629,   8.5347,2,20091209,       1424
318M20091121,        P06,      66,          1,         21,         21,2,20091209,       1253,   -31.5400,   177.9549,       3843,   738.5,   7.5049,  34.4699,  34.4708,2,    219.1,2,   218.6,2,   12.02,2,   22.31,2,    0.00,2,    1.55,2,-999.000,9,-999.000,9,-999.000,9,-999.0000,9,  2145.8,2,  2283.8,2,   7.7209,2,    25.00,-999.000,9,-999.0000,9, -999.00,9, -999.00,9,  -999.0,9,  -999.0,-999.000,9,-999.000,  -999.0,5,-999.000,-999.0000, -999.00,   7.4308,   7.5084,2,20091209,       1421
318M20091121,        P06,      66,          1,         20,         20,2,20091209,       1253,   -31.5400,   177.9549,       3843,   840.1,   6.7952,  34.4284,  34.4264,2,    216.6,2,   215.1,2,   16.08,2,   24.40,2,    0.00,2,    1.69,2,-999.000,9,-999.000,9,-999.000,9,-999.0000,9,  2154.8,2,  2289.8,2,   7.7063,2,    25.00,-999.000,9,-999.0000,9, -999.00,9, -999.00,9,  -999.0,9,  -999.0,-999.000,9,-999.000,  -999.0,9,-999.000,-999.0000, -999.00,   6.7149,   6.7957,2,20091209,       1418
318M20091121,        P06,      66,          1,         19,         19,2,20091209,       1253,   -31.5400,   177.9549,       3843,   942.2,   6.0828,  34.4028,  34.4024,2,    207.2,2,   207.8,2,   22.56,2,   26.48,2,    0.00,2,    1.84,2,-999.000,9,-999.000,9,-999.000,9,-999.0000,9,  2168.3,2,  2293.3,6,   7.6866,2,    25.00,-999.000,9,-999.0000,9, -999.00,9, -999.00,9,  -999.0,9,  -999.0,-999.000,9,-999.000,  -999.0,5,-999.000,-999.0000, -999.00,   5.9971,   6.0806,2,20091209,       1414
318M20091121,        P06,      66,          1,         18,         18,2,20091209,       1253,   -31.5400,   177.9549,       3843,  1048.5,   5.5558,  34.4042,  34.4042,2,    198.5,2,   198.6,2,   29.88,2,   28.16,2,    0.00,2,    1.97,2,-999.000,9,-999.000,9,-999.000,9,-999.0000,9,  2181.7,6,  2300.1,2,   7.6608,2,    25.00,-999.000,9,-999.0000,9, -999.00,9, -999.00,9,  -999.0,9,  -999.0,-999.000,9,-999.000,  -999.0,9,-999.000,-999.0000, -999.00,   5.4638,   5.5579,2,20091209,       1411
318M20091121,        P06,      66,          1,         17,         17,2,20091209,       1253,   -31.5400,   177.9549,       3843,  1151.0,   4.8836,  34.4157,  34.4150,2,    188.8,2,   189.2,2,   39.85,2,   29.88,2,    0.00,2,    2.09,2,-999.000,9,-999.000,9,-999.000,9,-999.0000,9,  2199.1,2,  2308.5,2,   7.6366,2,    25.00,-999.000,9,-999.0000,9, -999.00,9, -999.00,9,  -999.0,9,  -999.0,-999.000,9,-999.000,  -999.0,5,-999.000,-999.0000, -999.00,   4.7876,   4.8856,2,20091209,       1408
318M20091121,        P06,      66,          1,         16,         16,2,20091209,       1253,   -31.5400,   177.9549,       3843,  1244.7,   4.3644,  34.4409,  34.4399,2,    181.2,2,   181.6,2,   50.49,2,   31.22,2,    0.00,2,    2.18,2,-999.000,9,-999.000,9,-999.000,9,-999.0000,9,  2215.6,2,  2320.0,2,   7.6215,2,    25.00,-999.000,9,-999.0000,9, -999.00,9, -999.00,9,  -999.0,9,  -999.0,-999.000,9,-999.000,  -999.0,9,-999.000,-999.0000, -999.00,   4.2646,   4.3648,2,20091209,       1404
318M20091121,        P06,      66,          1,         15,         15,2,20091209,       1253,   -31.5400,   177.9549,       3843,  1346.4,   3.7064,  34.4501,  34.4480,2,    174.8,2,   176.1,2,   60.16,2,   32.60,2,    0.00,2,    2.30,2,-999.000,9,-999.000,9,-999.000,9,-999.0000,9,  2230.3,2,  2328.2,2,   7.6013,2,    25.00,-999.000,9,-999.0000,9, -999.00,9, -999.00,9,  -999.0,9,  -999.0,-999.000,9,-999.000,  -999.0,9,-999.000,-999.0000, -999.00,   3.6042,   3.7067,2,20091209,       1400
318M20091121,        P06,      66,          1,         14,         14,2,20091209,       1253,   -31.5400,   177.9549,       3843,  1447.1,   3.2729,  34.5103,  34.5093,2,    166.8,2,   167.0,2,   76.03,2,   33.28,2,    0.00,2,    2.36,2,-999.000,9,-999.000,9,-999.000,9,-999.0000,9,  2249.5,2,  2346.2,2,   7.5912,2,    25.00,-999.000,9,-999.0000,9, -999.00,9, -999.00,9,  -999.0,9,  -999.0,-999.000,9,-999.000,  -999.0,9,-999.000,-999.0000, -999.00,   3.1666,   3.2770,2,20091209,       1357
318M20091121,        P06,      66,          1,         13,         13,2,20091209,       1253,   -31.5400,   177.9549,       3843,  1549.5,   2.9975,  34.5531,  34.5501,2,    162.1,2,   162.2,2,   86.82,2,   33.65,2,    0.00,2,    2.39,2,-999.000,9,-999.000,9,-999.000,9,-999.0000,9,  2263.9,2,  2361.6,2,   7.5900,2,    25.00,-999.000,9,-999.0000,9, -999.00,9, -999.00,9,  -999.0,9,  -999.0,-999.000,9,-999.000,  -999.0,5,-999.000,-999.0000, -999.00,   2.8856,   3.0009,2,20091209,       1354
318M20091121,        P06,      66,          1,         12,         12,2,20091209,       1253,   -31.5400,   177.9549,       3843,  1650.6,   2.8125,  34.5814,  34.5985,3,    158.2,2,   158.2,2,   95.38,2,   33.90,2,    0.00,2,    2.41,2,-999.000,9,-999.000,9,-999.000,9,-999.0000,9,  2273.9,2,  2371.9,2,   7.5879,2,    25.00,-999.000,9,-999.0000,9, -999.00,9, -999.00,9,  -999.0,9,  -999.0,-999.000,9,-999.000,  -999.0,9,-999.000,-999.0000, -999.00,   2.6943,   2.8135,2,20091209,       1350
318M20091121,        P06,      66,          1,         11,         11,2,20091209,       1253,   -31.5400,   177.9549,       3843,  1752.1,   2.6400,  34.6006,  34.5990,2,    156.1,2,   155.7,2,  101.69,2,   34.18,2,    0.00,2,    2.43,2,-999.000,9,-999.000,9,-999.000,9,-999.0000,9,  2280.6,2,  2377.8,2,   7.5857,2,    25.00,-999.000,9,-999.0000,9, -999.00,9, -999.00,9,  -999.0,9,  -999.0,-999.000,9,-999.000,  -999.0,9,-999.000,-999.0000, -999.00,   2.5154,   2.6400,2,20091209,       1347
318M20091121,        P06,      66,          1,         10,         10,2,20091209,       1253,   -31.5400,   177.9549,       3843,  1885.0,   2.4868,  34.6186,  34.6179,2,    155.2,2,   155.0,2,  106.76,2,   34.22,2,    0.00,2,    2.43,2,-999.000,9,-999.000,9,-999.000,9,-999.0000,9,  2287.4,2,  2382.4,2,   7.5860,2,    25.00,-999.000,9,-999.0000,9, -999.00,9, -999.00,9,  -999.0,9,  -999.0,-999.000,9,-999.000,  -999.0,9,-999.000,-999.0000, -999.00,   2.3529,   2.4874,2,20091209,       1343
318M20091121,        P06,      66,          1,          9,          9,2,20091209,       1253,   -31.5400,   177.9549,       3843,  2086.9,   2.2498,  34.6401,  34.6398,2,    153.9,2,   153.5,2,  113.73,2,   34.47,2,    0.00,2,    2.45,2,-999.000,9,-999.000,9,-999.000,9,-999.0000,9,  2295.3,2,  2391.3,2,   7.5842,2,    25.00,-999.000,9,-999.0000,9, -999.00,9, -999.00,9,  -999.0,9,  -999.0,-999.000,9,-999.000,  -999.0,5,-999.000,-999.0000, -999.00,   2.1020,   2.2495,2,20091209,       1339
318M20091121,        P06,      66,          1,          8,          8,2,20091209,       1253,   -31.5400,   177.9549,       3843,  2290.0,   2.0656,  34.6562,  34.6553,2,    153.5,2,   153.3,2,  119.03,2,   34.65,2,    0.00,2,    2.46,2,-999.000,9,-999.000,9,-999.000,9,-999.0000,9,  2301.2,2,  2398.9,2,   7.5847,2,    25.00,-999.000,9,-999.0000,9, -999.00,9, -999.00,9,  -999.0,9,  -999.0,-999.000,9,-999.000,  -999.0,9,-999.000,-999.0000, -999.00,   1.9030,   2.0668,2,20091209,       1333
318M20091121,        P06,      66,          1,          7,          7,2,20091209,       1253,   -31.5400,   177.9549,       3843,  2492.5,   1.9432,  34.6671,  34.6668,2,    153.8,2,   153.5,2,  122.06,2,   34.61,2,    0.00,2,    2.46,2,-999.000,9,-999.000,9,-999.000,9,-999.0000,9,  2304.1,2,  2401.3,2,   7.5860,2,    25.00,-999.000,9,-999.0000,9, -999.00,9, -999.00,9,  -999.0,9,  -999.0,-999.000,9,-999.000,  -999.0,5,-999.000,-999.0000, -999.00,   1.7646,   1.9432,2,20091209,       1328
318M20091121,        P06,      66,          1,          6,          6,2,20091209,       1253,   -31.5400,   177.9549,       3843,  2696.8,   1.8787,  34.6736,  34.6735,2,    154.4,2,   154.1,2,  124.04,2,   34.69,2,    0.00,2,    2.47,2,-999.000,9,-999.000,9,-999.000,9,-999.0000,9,  2305.9,2,  2405.4,2,   7.5877,2,    25.00,-999.000,9,-999.0000,9, -999.00,9, -999.00,9,  -999.0,9,  -999.0,-999.000,9,-999.000,  -999.0,9,-999.000,-999.0000, -999.00,   1.6825,   1.8790,2,20091209,       1323
318M20091121,        P06,      66,          1,          5,          5,2,20091209,       1253,   -31.5400,   177.9549,       3843,  2899.1,   1.8497,  34.6771,  34.6768,2,    154.7,2,   154.4,2,  124.98,2,   34.69,2,    0.00,2,    2.46,2,-999.000,9,-999.000,9,-999.000,9,-999.0000,9,  2307.8,2,  2404.9,2,   7.5866,2,    25.00,-999.000,9,-999.0000,9, -999.00,9, -999.00,9,  -999.0,9,  -999.0,-999.000,9,-999.000,  -999.0,5,-999.000,-999.0000, -999.00,   1.6349,   1.8495,2,20091209,       1318
318M20091121,        P06,      66,          1,          4,          4,2,20091209,       1253,   -31.5400,   177.9549,       3843,  3104.8,   1.8351,  34.6798,  34.6790,2,    154.8,2,   154.9,2,  125.92,2,   34.68,2,    0.00,2,    2.46,2,-999.000,9,-999.000,9,-999.000,9,-999.0000,9,  2308.5,2,  2407.7,2,   7.5865,2,    25.00,-999.000,9,-999.0000,9, -999.00,9, -999.00,9,  -999.0,9,  -999.0,-999.000,9,-999.000,  -999.0,9,-999.000,-999.0000, -999.00,   1.6006,   1.8351,2,20091209,       1312
318M20091121,        P06,      66,          1,          3,          3,2,20091209,       1253,   -31.5400,   177.9549,       3843,  3308.5,   1.8371,  34.6809,  34.6803,2,    155.0,2,   155.0,2,  126.45,2,   34.68,2,    0.00,2,    2.46,2,-999.000,9,-999.000,9,-999.000,9,-999.0000,9,  2309.7,2,  2405.6,2,   7.5857,6,    25.00,-999.000,9,-999.0000,9, -999.00,9, -999.00,9,  -999.0,9,  -999.0,-999.000,9,-999.000,  -999.0,5,-999.000,-999.0000, -999.00,   1.5821,   1.8373,2,20091209,       1307
318M20091121,        P06,      66,          1,          2,          2,2,20091209,       1253,   -31.5400,   177.9549,       3843,  3550.3,   1.8504,  34.6815,  34.6809,2,    154.5,2,   155.5,2,  126.56,2,   34.67,2,    0.00,2,    2.46,2,-999.000,9,-999.000,9,-999.000,9,-999.0000,9,  2310.4,2,  2408.5,6,   7.5898,2,    25.00,-999.000,9,-999.0000,9, -999.00,9, -999.00,9,  -999.0,9,  -999.0,-999.000,9,-999.000,  -999.0,9,-999.000,-999.0000, -999.00,   1.5701,   1.8500,2,20091209,       1301
318M20091121,        P06,      66,          1,          1,          1,2,20091209,       1253,   -31.5400,   177.9549,       3843,  3895.7,   1.8800,  34.6820,  34.6819,2,    155.2,2,   154.9,2,  127.09,2,   34.72,2,    0.00,2,    2.46,2,-999.000,9,-999.000,9,-999.000,9,-999.0000,9,  2311.6,6,  2413.0,2,   7.5933,2,    25.00,-999.000,9,-999.0000,9, -999.00,9, -999.00,9,  -999.0,9,  -999.0,-999.000,9,-999.000,  -999.0,5,-999.000,-999.0000, -999.00,   1.5619,   1.8798,2,20091209,       1253