BOTTLE,20220818CCHSIOAMB
EXPOCODE,SECT_ID,STNNBR,CASTNO,SAMPNO,BTLNBR,BTLNBR_FLAG_W,DATE,TIME,LATITUDE,LONGITUDE,DEPTH,CTDPRS,CTDTMP,CTDSAL,SALNTY,SALNTY_FLAG_W,CTDOXY,CTDOXY_FLAG_W,OXYGEN,OXYGEN_FLAG_W,SILCAT,SILCAT_FLAG_W,NITRAT,NITRAT_FLAG_W,NITRIT,NITRIT_FLAG_W,PHSPHT,PHSPHT_FLAG_W,CFC-11,CFC-11_FLAG_W,CFC-12,CFC-12_FLAG_W,CFC113,CFC113_FLAG_W,SF6,SF6_FLAG_W,TCARBN,TCARBN_FLAG_W,ALKALI,ALKALI_FLAG_W,PH_SWS,PH_SWS_FLAG_W,PH_TMP,TRITUM,TRITUM_FLAG_W,HELIUM,HELIUM_FLAG_W,DELHE3,DELHE3_FLAG_W,DELC13,DELC13_FLAG_W,DELC14,DELC14_FLAG_W,C14ERR,NEON,NEON_FLAG_W,NEONER,DOC,DOC_FLAG_W,TRITER,HELIER,DELHER,THETA,SBE35,SBE35_FLAG_W,BTL_DATE,BTL_TIME
,,,,,,,,,,,METERS,DBAR,ITS-90,PSS-78,PSS-78,,UMOL/KG,,UMOL/KG,,UMOL/KG,,UMOL/KG,,UMOL/KG,,UMOL/KG,,PMOL/KG,,PMOL/KG,,PMOL/KG,,FMOL/KG,,UMOL/KG,,UMOL/KG,,,,DEG C,TU,,NMOL/KG,,PERCNT,,/MILLE,,/MILLE,,/MILLE,NMOL/KG,,NMOL/KG,UMOL/KG,,TU,NMOL/KG,PERCNT,DEG C,ITS-90,,,
318M20091121,        P06,      39,          1,         29,         29,2,20091201,       2218,   -30.0800,   165.9401,       2391,     4.7,  22.1360,  35.7115,  35.7115,2,    221.6,2,   222.1,2,    0.44,2,   -0.01,2,    0.00,2,    0.09,2,   2.060,2,   1.277,2,-999.000,1,    1.237,2,  2032.4,6,  2334.6,2,   8.0479,2,    25.00,-999.000,9,-999.0000,9, -999.00,9, -999.00,9,  -999.0,9,  -999.0,-999.000,9,-999.000,  -999.0,9,-999.000,-999.0000, -999.00,  22.1351,  22.1352,2,20091201,       2357
318M20091121,        P06,      39,          1,         28,         28,2,20091201,       2218,   -30.0800,   165.9401,       2391,    35.5,  20.5450,  35.6777,  35.6842,2,    237.5,2,   236.3,2,    0.23,2,    0.00,2,    0.00,2,    0.06,2,   2.205,2,   1.340,2,-999.000,1,    1.111,2,  -999.0,9,  2334.9,6,   8.0493,6,    25.00,-999.000,9,-999.0000,9, -999.00,9, -999.00,9,  -999.0,9,  -999.0,-999.000,9,-999.000,  -999.0,9,-999.000,-999.0000, -999.00,  20.5383,  20.5481,2,20091201,       2354
318M20091121,        P06,      39,          1,         27,         27,2,20091201,       2218,   -30.0800,   165.9401,       2391,    59.9,  19.6607,  35.6463,  35.6474,2,    240.9,2,   241.3,2,    0.22,2,    0.00,2,    0.00,2,    0.07,2,   2.270,6,   1.388,6,-999.000,1,   1.1815,6,  -999.0,9,  -999.0,9,-999.0000,9,  -999.00,-999.000,9,-999.0000,9, -999.00,9, -999.00,9,  -999.0,9,  -999.0,-999.000,9,-999.000,  -999.0,9,-999.000,-999.0000, -999.00,  19.6497,  19.6818,3,20091201,       2353
318M20091121,        P06,      39,          1,         26,         26,2,20091201,       2218,   -30.0800,   165.9401,       2391,    86.0,  18.6866,  35.5932,  35.5925,2,    229.0,2,   225.7,2,    0.41,2,    0.18,2,    0.05,2,    0.16,2,   2.288,2,   1.387,2,-999.000,1,    1.164,2,  -999.0,9,  -999.0,9,-999.0000,9,  -999.00,-999.000,9,-999.0000,9, -999.00,9, -999.00,9,  -999.0,9,  -999.0,-999.000,9,-999.000,  -999.0,9,-999.000,-999.0000, -999.00,  18.6714,  18.6885,2,20091201,       2350
318M20091121,        P06,      39,          1,         25,         25,2,20091201,       2218,   -30.0800,   165.9401,       2391,   115.2,  18.2317,  35.5946,  35.5937,2,    215.8,2,   214.5,2,    0.60,2,    2.01,2,    0.07,2,    0.26,2,   2.314,2,   1.402,2,-999.000,1,    1.162,2,  -999.0,9,  2329.1,2,   7.9912,2,    25.00,-999.000,9,-999.0000,9, -999.00,9, -999.00,9,  -999.0,9,  -999.0,-999.000,9,-999.000,  -999.0,9,-999.000,-999.0000, -999.00,  18.2117,  18.2340,2,20091201,       2348
318M20091121,        P06,      39,          1,         24,         24,2,20091201,       2218,   -30.0800,   165.9401,       2391,   162.9,  17.6813,  35.5743,  35.5728,2,    204.3,2,   204.1,2,    0.99,2,    4.21,2,    0.02,2,    0.38,2,   2.344,2,   1.411,2,-999.000,1,    1.168,2,  -999.0,9,  -999.0,9,-999.0000,9,  -999.00,-999.000,9,-999.0000,9, -999.00,9, -999.00,9,  -999.0,9,  -999.0,-999.000,9,-999.000,  -999.0,9,-999.000,-999.0000, -999.00,  17.6536,  17.6861,2,20091201,       2346
318M20091121,        P06,      39,          1,         23,         23,2,20091201,       2218,   -30.0800,   165.9401,       2391,   214.2,  16.8849,  35.5282,  35.5287,2,    206.8,2,   207.8,3,    1.17,2,    4.67,2,    0.02,2,    0.42,2,-999.000,9,-999.000,9,-999.000,9,-999.0000,9,  -999.0,9,  2527.0,4,   7.9498,2,    25.00,-999.000,9,-999.0000,9, -999.00,9, -999.00,9,  -999.0,9,  -999.0,-999.000,9,-999.000,  -999.0,9,-999.000,-999.0000, -999.00,  16.8496,  16.8882,2,20091201,       2344
318M20091121,        P06,      39,          1,         22,         22,2,20091201,       2218,   -30.0800,   165.9401,       2391,   264.2,  16.0252,  35.4620,  35.4616,2,    193.8,2,   195.5,2,    1.95,2,    7.32,2,    0.01,2,    0.59,2,   2.438,2,   1.429,2,-999.000,1,    1.113,2,  -999.0,9,  -999.0,9,-999.0000,9,  -999.00,-999.000,9,-999.0000,9, -999.00,9, -999.00,9,  -999.0,9,  -999.0,-999.000,9,-999.000,  -999.0,9,-999.000,-999.0000, -999.00,  15.9831,  16.0144,2,20091201,       2341
318M20091121,        P06,      39,          1,         21,         21,2,20091201,       2218,   -30.0800,   165.9401,       2391,   315.9,  14.5945,  35.3245,  35.3256,2,    190.5,2,   190.4,2,    2.94,2,   10.06,2,    0.01,2,    0.76,2,-999.000,9,-999.000,9,-999.000,9,-999.0000,9,  -999.0,9,  -999.0,9,-999.0000,9,  -999.00,-999.000,9,-999.0000,9, -999.00,9, -999.00,9,  -999.0,9,  -999.0,-999.000,9,-999.000,  -999.0,9,-999.000,-999.0000, -999.00,  14.5472,  14.5990,2,20091201,       2338
318M20091121,        P06,      39,          1,         20,         20,2,20091201,       2218,   -30.0800,   165.9401,       2391,   366.3,  13.5609,  35.2307,  35.2300,2,    194.1,2,   193.7,2,    3.53,2,   11.62,2,    0.01,2,    0.86,2,   2.517,2,   1.431,2,-999.000,1,    0.958,2,  -999.0,9,  2314.7,6,   7.8441,2,    25.00,-999.000,9,-999.0000,9, -999.00,9, -999.00,9,  -999.0,9,  -999.0,-999.000,9,-999.000,  -999.0,9,-999.000,-999.0000, -999.00,  13.5087,  13.5623,2,20091201,       2335
318M20091121,        P06,      39,          1,         19,         19,2,20091201,       2218,   -30.0800,   165.9401,       2391,   417.2,  12.5421,  35.1226,  35.1222,2,    197.3,2,   196.9,2,    4.52,2,   13.28,2,    0.01,2,    0.97,2,   2.531,2,   1.428,2,-999.000,1,    0.783,2,  -999.0,9,  -999.0,9,-999.0000,9,  -999.00,-999.000,9,-999.0000,9, -999.00,9, -999.00,9,  -999.0,9,  -999.0,-999.000,9,-999.000,  -999.0,9,-999.000,-999.0000, -999.00,  12.4855,  12.5410,2,20091201,       2332
318M20091121,        P06,      39,          1,         18,         18,3,20091201,       2218,   -30.0800,   165.9401,       2391,   452.1,  11.7626,  35.0238,-999.0000,9,   -999.0,9,  -999.0,9, -999.00,9, -999.00,9, -999.00,9, -999.00,9,-999.000,9,-999.000,9,-999.000,9,-999.0000,9,  -999.0,9,  -999.0,9,-999.0000,9,  -999.00,-999.000,9,-999.0000,9, -999.00,9, -999.00,9,  -999.0,9,  -999.0,-999.000,9,-999.000,  -999.0,9,-999.000,-999.0000, -999.00,  11.7037,  11.8160,3,20091201,       2330
318M20091121,        P06,      39,          1,         17,         17,2,20091201,       2218,   -30.0800,   165.9401,       2391,   467.2,  11.5899,  34.9956,  34.9990,2,    197.1,2,   197.2,2,    5.50,2,   15.14,2,    0.01,2,    1.08,2,   2.498,2,   1.386,2,-999.000,1,    0.794,2,  -999.0,9,  2306.1,2,   7.8010,2,    25.00,-999.000,9,-999.0000,9, -999.00,9, -999.00,9,  -999.0,9,  -999.0,-999.000,9,-999.000,  -999.0,9,-999.000,-999.0000, -999.00,  11.5296,  11.5867,2,20091201,       2329
318M20091121,        P06,      39,          1,         16,         16,2,20091201,       2218,   -30.0800,   165.9401,       2391,   539.0,  10.0970,  34.8026,  34.7941,3,    197.5,2,   198.8,2,    7.68,2,   18.40,2,    0.01,2,    1.30,2,   2.354,2,   1.268,2,-999.000,1,    0.496,2,  -999.0,9,  -999.0,9,-999.0000,9,  -999.00,-999.000,9,-999.0000,9, -999.00,9, -999.00,9,  -999.0,9,  -999.0,-999.000,9,-999.000,  -999.0,9,-999.000,-999.0000, -999.00,  10.0331,  10.1060,2,20091201,       2326
318M20091121,        P06,      39,          1,         15,         15,2,20091201,       2218,   -30.0800,   165.9401,       2391,   636.2,   8.9596,  34.6751,  34.6760,2,    200.0,2,   200.7,2,   10.27,2,   20.70,2,    0.00,2,    1.46,2,-999.000,9,-999.000,9,-999.000,9,-999.0000,9,  -999.0,9,  2296.3,2,   7.7387,2,    25.00,-999.000,9,-999.0000,9, -999.00,9, -999.00,9,  -999.0,9,  -999.0,-999.000,9,-999.000,  -999.0,9,-999.000,-999.0000, -999.00,   8.8892,   8.9587,2,20091201,       2322
318M20091121,        P06,      39,          1,         14,         14,2,20091201,       2218,   -30.0800,   165.9401,       2391,   737.2,   7.6941,  34.5562,  34.5556,2,    200.5,2,   199.9,2,   15.07,2,   23.61,2,    0.00,2,    1.65,2,   1.688,2,   0.871,2,-999.000,1,    0.272,2,  -999.0,9,  -999.0,9,-999.0000,9,  -999.00,-999.000,9,-999.0000,9, -999.00,9, -999.00,9,  -999.0,9,  -999.0,-999.000,9,-999.000,  -999.0,9,-999.000,-999.0000, -999.00,   7.6191,   7.7005,2,20091201,       2318
318M20091121,        P06,      39,          1,         13,         13,2,20091201,       2218,   -30.0800,   165.9401,       2391,   838.7,   6.7404,  34.4616,  34.4626,2,    203.3,2,   205.5,2,   17.66,2,   25.37,2,    0.00,2,    1.77,2,-999.000,9,-999.000,9,-999.000,9,-999.0000,9,  -999.0,9,  -999.0,9,-999.0000,9,  -999.00,-999.000,9,-999.0000,9, -999.00,9, -999.00,9,  -999.0,9,  -999.0,-999.000,9,-999.000,  -999.0,9,-999.000,-999.0000, -999.00,   6.6605,   6.7477,2,20091201,       2314
318M20091121,        P06,      39,          1,         12,         12,2,20091201,       2218,   -30.0800,   165.9401,       2391,   941.5,   6.1243,  34.4563,  34.4558,2,    197.1,2,   197.6,2,   25.91,2,   27.28,2,    0.00,2,    1.91,2,   1.044,2,   0.527,2,-999.000,1,    0.149,2,  -999.0,9,  2296.0,2,   7.6764,2,    25.00,-999.000,9,-999.0000,9, -999.00,9, -999.00,9,  -999.0,9,  -999.0,-999.000,9,-999.000,  -999.0,9,-999.000,-999.0000, -999.00,   6.0383,   6.1251,2,20091201,       2310
318M20091121,        P06,      39,          1,         11,         11,2,20091201,       2218,   -30.0800,   165.9401,       2391,  1043.5,   5.5111,  34.4712,  34.4715,2,    187.8,2,   187.5,2,   36.61,2,   28.99,2,    0.00,2,    2.02,2,   0.750,2,   0.388,2,-999.000,1,    0.118,2,  -999.0,9,  -999.0,9,-999.0000,9,  -999.00,-999.000,9,-999.0000,9, -999.00,9, -999.00,9,  -999.0,9,  -999.0,-999.000,9,-999.000,  -999.0,9,-999.000,-999.0000, -999.00,   5.4199,   5.5125,2,20091201,       2306
318M20091121,        P06,      39,          1,         10,         10,2,20091201,       2218,   -30.0800,   165.9401,       2391,  1140.3,   5.0093,  34.4847,  34.4845,2,    181.0,2,   179.7,2,   46.35,2,   30.40,2,    0.00,2,    2.13,2,-999.000,9,-999.000,9,-999.000,9,-999.0000,9,  -999.0,9,  -999.0,9,-999.0000,9,  -999.00,-999.000,9,-999.0000,9, -999.00,9, -999.00,9,  -999.0,9,  -999.0,-999.000,9,-999.000,  -999.0,9,-999.000,-999.0000, -999.00,   4.9131,   5.0094,2,20091201,       2302
318M20091121,        P06,      39,          1,          9,          9,2,20091201,       2218,   -30.0800,   165.9401,       2391,  1242.1,   4.5090,  34.5029,  34.5010,2,    173.3,2,   173.4,2,   56.33,2,   31.56,2,    0.00,2,    2.22,2,   0.385,2,   0.208,2,-999.000,1,        0,2,  -999.0,9,  2326.6,2,   7.6220,2,    25.00,-999.000,9,-999.0000,9, -999.00,9, -999.00,9,  -999.0,9,  -999.0,-999.000,9,-999.000,  -999.0,9,-999.000,-999.0000, -999.00,   4.4080,   4.5082,2,20091201,       2258
318M20091121,        P06,      39,          1,          8,          8,2,20091201,       2218,   -30.0800,   165.9401,       2391,  1344.5,   4.0214,  34.5250,  34.5240,2,    168.6,2,   168.3,2,   66.56,2,   32.52,2,    0.00,2,    2.29,2,-999.000,9,-999.000,9,-999.000,9,-999.0000,9,  -999.0,9,  -999.0,9,-999.0000,9,  -999.00,-999.000,9,-999.0000,9, -999.00,9, -999.00,9,  -999.0,9,  -999.0,-999.000,9,-999.000,  -999.0,9,-999.000,-999.0000, -999.00,   3.9159,   4.0215,2,20091201,       2254
318M20091121,        P06,      39,          1,          7,          7,2,20091201,       2218,   -30.0800,   165.9401,       2391,  1446.4,   3.5540,  34.5539,  34.5525,2,    162.6,2,   161.5,2,   77.86,2,   33.52,2,    0.00,2,    2.37,2,   0.174,2,   0.100,2,-999.000,1,        0,2,  -999.0,9,  -999.0,9,-999.0000,9,  -999.00,-999.000,9,-999.0000,9, -999.00,9, -999.00,9,  -999.0,9,  -999.0,-999.000,9,-999.000,  -999.0,9,-999.000,-999.0000, -999.00,   3.4445,   3.5584,2,20091201,       2250
318M20091121,        P06,      39,          1,          6,          6,2,20091201,       2218,   -30.0800,   165.9401,       2391,  1548.5,   3.1525,  34.5820,  34.5813,2,    157.8,2,   157.1,2,   88.16,2,   34.19,2,    0.00,2,    2.43,2,-999.000,9,-999.000,9,-999.000,9,-999.0000,9,  -999.0,9,  2362.5,2,   7.5907,2,    25.00,-999.000,9,-999.0000,9, -999.00,9, -999.00,9,  -999.0,9,  -999.0,-999.000,9,-999.000,  -999.0,9,-999.000,-999.0000, -999.00,   3.0388,   3.1513,2,20091201,       2245
318M20091121,        P06,      39,          1,          5,          5,2,20091201,       2218,   -30.0800,   165.9401,       2391,  1677.0,   2.8462,  34.6036,  34.6021,2,    154.2,2,   154.8,2,   96.02,2,   34.64,2,    0.00,2,    2.45,2,   0.049,2,   0.034,2,-999.000,1,        0,2,  -999.0,9,  -999.0,9,-999.0000,9,  -999.00,-999.000,9,-999.0000,9, -999.00,9, -999.00,9,  -999.0,9,  -999.0,-999.000,9,-999.000,  -999.0,9,-999.000,-999.0000, -999.00,   2.7252,   2.8466,2,20091201,       2240
318M20091121,        P06,      39,          1,          4,          4,2,20091201,       2218,   -30.0800,   165.9401,       2391,  1881.5,   2.4941,  34.6315,  34.6318,2,    153.3,2,   154.4,2,  104.92,2,   35.04,2,    0.00,2,    2.48,2,-999.000,9,-999.000,9,-999.000,9,-999.0000,9,  -999.0,9,  2379.9,6,   7.5837,6,    25.00,-999.000,9,-999.0000,9, -999.00,9, -999.00,9,  -999.0,9,  -999.0,-999.000,9,-999.000,  -999.0,9,-999.000,-999.0000, -999.00,   2.3604,   2.4914,3,20091201,       2234
318M20091121,        P06,      39,          1,          3,          3,2,20091201,       2218,   -30.0800,   165.9401,       2391,  2101.6,   2.2143,  34.6551,  34.6535,2,    153.4,2,   153.7,2,  110.72,2,   35.14,2,    0.00,2,    2.49,2,   0.016,2,   0.014,2,-999.000,1,        0,2,  -999.0,9,  -999.0,9,-999.0000,9,  -999.00,-999.000,9,-999.0000,9, -999.00,9, -999.00,9,  -999.0,9,  -999.0,-999.000,9,-999.000,  -999.0,9,-999.000,-999.0000, -999.00,   2.0658,   2.2141,2,20091201,       2228
318M20091121,        P06,      39,          1,          2,          2,2,20091201,       2218,   -30.0800,   165.9401,       2391,  2357.8,   2.0392,  34.6709,  34.6703,2,    155.6,2,   155.4,2,  114.47,2,   35.08,2,    0.00,2,    2.49,2,-999.000,9,-999.000,9,-999.000,9,-999.0000,9,  -999.0,9,  -999.0,9,-999.0000,9,  -999.00,-999.000,9,-999.0000,9, -999.00,9, -999.00,9,  -999.0,9,  -999.0,-999.000,9,-999.000,  -999.0,9,-999.000,-999.0000, -999.00,   1.8709,   2.0392,2,20091201,       2221
318M20091121,        P06,      39,          1,          1,          1,2,20091201,       2218,   -30.0800,   165.9401,       2391,  2418.7,   2.0256,  34.6723,  34.6725,2,    155.6,2,   155.4,2,  115.30,2,   35.13,2,    0.00,2,    2.49,2,   0.022,2,   0.017,2,-999.000,1,        0,2,  -999.0,9,  2394.2,2,   7.6046,2,    25.00,-999.000,9,-999.0000,9, -999.00,9, -999.00,9,  -999.0,9,  -999.0,-999.000,9,-999.000,  -999.0,9,-999.000,-999.0000, -999.00,   1.8521,   2.0252,2,20091201,       2218