BOTTLE,20220818CCHSIOAMB
EXPOCODE,SECT_ID,STNNBR,CASTNO,SAMPNO,BTLNBR,BTLNBR_FLAG_W,DATE,TIME,LATITUDE,LONGITUDE,DEPTH,CTDPRS,CTDTMP,CTDSAL,SALNTY,SALNTY_FLAG_W,CTDOXY,CTDOXY_FLAG_W,OXYGEN,OXYGEN_FLAG_W,SILCAT,SILCAT_FLAG_W,NITRAT,NITRAT_FLAG_W,NITRIT,NITRIT_FLAG_W,PHSPHT,PHSPHT_FLAG_W,CFC-11,CFC-11_FLAG_W,CFC-12,CFC-12_FLAG_W,CFC113,CFC113_FLAG_W,SF6,SF6_FLAG_W,TCARBN,TCARBN_FLAG_W,ALKALI,ALKALI_FLAG_W,PH_SWS,PH_SWS_FLAG_W,PH_TMP,TRITUM,TRITUM_FLAG_W,HELIUM,HELIUM_FLAG_W,DELHE3,DELHE3_FLAG_W,DELC13,DELC13_FLAG_W,DELC14,DELC14_FLAG_W,C14ERR,NEON,NEON_FLAG_W,NEONER,DOC,DOC_FLAG_W,TRITER,HELIER,DELHER,THETA,SBE35,SBE35_FLAG_W,BTL_DATE,BTL_TIME
,,,,,,,,,,,METERS,DBAR,ITS-90,PSS-78,PSS-78,,UMOL/KG,,UMOL/KG,,UMOL/KG,,UMOL/KG,,UMOL/KG,,UMOL/KG,,PMOL/KG,,PMOL/KG,,PMOL/KG,,FMOL/KG,,UMOL/KG,,UMOL/KG,,,,DEG C,TU,,NMOL/KG,,PERCNT,,/MILLE,,/MILLE,,/MILLE,NMOL/KG,,NMOL/KG,UMOL/KG,,TU,NMOL/KG,PERCNT,DEG C,ITS-90,,,
318M20091121,        P06,     121,          2,         36,         36,2,20091228,       0412,   -32.4990,  -149.9991,       5137,     3.3,  21.3242,  35.2150,  35.2158,2,    224.8,2,   224.8,2,    0.08,2,    0.04,2,    0.00,2,    0.11,2,   1.968,2,   1.397,2,-999.000,1,    1.162,2,  2040.5,3,  2312.3,2,   7.9959,2,    25.00,-999.000,9,-999.0000,9, -999.00,9, -999.00,9,  -999.0,9,  -999.0,-999.000,9,-999.000,  -999.0,9,-999.000,-999.0000, -999.00,  21.3236,  21.3214,2,20091228,       0631
318M20091121,        P06,     121,          2,         35,         35,2,20091228,       0412,   -32.4990,  -149.9991,       5137,    21.6,  19.7018,  35.2158,  35.2172,2,    234.8,2,   232.9,2,    0.03,2,    0.04,2,    0.00,2,    0.11,2,   2.109,2,   1.474,2,-999.000,1,    1.231,2,  -999.0,9,  -999.0,9,-999.0000,9,  -999.00,-999.000,9,-999.0000,9, -999.00,9, -999.00,9,  -999.0,9,  -999.0,-999.000,9,-999.000,  -999.0,9,-999.000,-999.0000, -999.00,  19.6979,  19.6974,2,20091228,       0630
318M20091121,        P06,     121,          2,         34,         34,2,20091228,       0412,   -32.4990,  -149.9991,       5137,    40.7,  18.4776,  35.2817,  35.2827,2,    241.3,2,   240.6,2,   -0.02,2,    0.03,2,    0.00,2,    0.10,2,   2.217,2,   1.567,2,-999.000,1,     1.38,2,  2044.9,2,  2316.3,6,   7.9933,6,    25.00,-999.000,9,-999.0000,9, -999.00,9, -999.00,9,  -999.0,9,  -999.0,-999.000,9,-999.000,  -999.0,9,-999.000,-999.0000, -999.00,  18.4705,  18.5017,2,20091228,       0628
318M20091121,        P06,     121,          2,         33,         33,2,20091228,       0412,   -32.4990,  -149.9991,       5137,    64.7,  16.9130,  35.2860,  35.2865,2,    248.0,2,   248.0,2,   -0.07,2,    0.03,2,    0.00,2,    0.11,2,   2.342,2,   1.613,2,-999.000,1,     1.35,2,  -999.0,9,  -999.0,9,-999.0000,9,  -999.00,-999.000,9,-999.0000,9, -999.00,9, -999.00,9,  -999.0,9,  -999.0,-999.000,9,-999.000,  -999.0,9,-999.000,-999.0000, -999.00,  16.9024,  16.9375,2,20091228,       0627
318M20091121,        P06,     121,          2,         32,         32,2,20091228,       0412,   -32.4990,  -149.9991,       5137,    90.5,  16.1797,  35.2282,  35.2275,2,    251.4,2,   249.0,2,    0.08,2,    0.02,2,    0.00,2,    0.12,2,   2.420,6,   1.658,6,-999.000,1,   1.2815,6,  2051.4,3,  2313.9,2,   7.9789,2,    25.00,-999.000,9,-999.0000,9, -999.00,9, -999.00,9,  -999.0,9,  -999.0,-999.000,9,-999.000,  -999.0,9,-999.000,-999.0000, -999.00,  16.1653,  16.1809,2,20091228,       0625
318M20091121,        P06,     121,          2,         31,         31,2,20091228,       0412,   -32.4990,  -149.9991,       5137,   136.2,  15.5678,  35.2208,  35.2163,2,    234.7,2,   229.8,2,    0.03,2,    0.24,2,    0.30,2,    0.24,2,   2.428,2,   1.660,2,-999.000,1,    1.233,2,  -999.0,9,  -999.0,9,-999.0000,9,  -999.00,-999.000,9,-999.0000,9, -999.00,9, -999.00,9,  -999.0,9,  -999.0,-999.000,9,-999.000,  -999.0,9,-999.000,-999.0000, -999.00,  15.5466,  15.5708,2,20091228,       0623
318M20091121,        P06,     121,          2,         30,         30,2,20091228,       0412,   -32.4990,  -149.9991,       5137,   185.9,  14.6176,  35.0887,  35.0818,2,    224.4,2,   219.5,2,    0.38,2,    2.50,2,    0.02,2,    0.43,2,   2.498,2,   1.677,2,-999.000,1,     1.24,2,  2084.7,3,  2307.7,2,   7.9097,2,    25.00,-999.000,9,-999.0000,9, -999.00,9, -999.00,9,  -999.0,9,  -999.0,-999.000,9,-999.000,  -999.0,9,-999.000,-999.0000, -999.00,  14.5899,  14.6264,2,20091228,       0621
318M20091121,        P06,     121,          2,         29,         29,2,20091228,       0412,   -32.4990,  -149.9991,       5137,   236.4,  12.7283,  34.9288,  34.9180,3,    207.9,2,   205.5,2,    1.54,2,    8.24,2,    0.01,2,    0.79,2,   2.690,2,   1.736,2,-999.000,1,    0.989,2,  -999.0,9,  -999.0,9,-999.0000,9,  -999.00,-999.000,9,-999.0000,9, -999.00,9, -999.00,9,  -999.0,9,  -999.0,-999.000,9,-999.000,  -999.0,9,-999.000,-999.0000, -999.00,  12.6962,  12.7825,3,20091228,       0619
318M20091121,        P06,     121,          2,         28,         28,2,20091228,       0412,   -32.4990,  -149.9991,       5137,   287.1,  11.1938,  34.7638,  34.7453,3,    207.9,2,   208.5,2,    2.30,2,   11.78,2,    0.01,2,    1.01,2,   2.815,2,   1.748,2,-999.000,1,    0.801,2,  2120.9,2,  2293.3,2,   7.8015,2,    25.00,-999.000,9,-999.0000,9, -999.00,9, -999.00,9,  -999.0,9,  -999.0,-999.000,9,-999.000,  -999.0,9,-999.000,-999.0000, -999.00,  11.1579,  11.1691,2,20091228,       0616
318M20091121,        P06,     121,          2,         27,         27,2,20091228,       0412,   -32.4990,  -149.9991,       5137,   337.5,   9.5787,  34.5894,  34.5914,2,    216.0,2,   217.7,2,    3.05,2,   14.55,2,    0.00,2,    1.17,2,   2.966,2,   1.812,2,-999.000,1,      0.8,2,  -999.0,9,  -999.0,9,-999.0000,9,  -999.00,-999.000,9,-999.0000,9, -999.00,9, -999.00,9,  -999.0,9,  -999.0,-999.000,9,-999.000,  -999.0,9,-999.000,-999.0000, -999.00,   9.5405,   9.5752,2,20091228,       0614
318M20091121,        P06,     121,          2,         26,         26,2,20091228,       0412,   -32.4990,  -149.9991,       5137,   387.3,   8.5640,  34.4955,  34.5122,3,    228.6,2,   226.4,2,    3.60,2,   16.59,2,    0.00,2,    1.29,2,   3.121,2,   1.882,2,-999.000,1,    0.845,2,  2132.2,2,  2284.2,2,   7.7561,2,    25.00,-999.000,9,-999.0000,9, -999.00,9, -999.00,9,  -999.0,9,  -999.0,-999.000,9,-999.000,  -999.0,9,-999.000,-999.0000, -999.00,   8.5230,   8.5761,2,20091228,       0612
318M20091121,        P06,     121,          2,         25,         25,2,20091228,       0412,   -32.4990,  -149.9991,       5137,   469.1,   7.5673,  34.4162,  34.4166,2,    235.9,2,   237.4,2,    4.96,2,   19.05,2,    0.00,2,    1.43,2,   3.231,2,   1.882,2,-999.000,1,    0.715,2,  2136.8,2,  2284.3,2,   7.7406,2,    25.00,-999.000,9,-999.0000,9, -999.00,9, -999.00,9,  -999.0,9,  -999.0,-999.000,9,-999.000,  -999.0,9,-999.000,-999.0000, -999.00,   7.5209,   7.5737,2,20091228,       0609
318M20091121,        P06,     121,          2,         24,         24,2,20091228,       0412,   -32.4990,  -149.9991,       5137,   570.1,   6.8608,  34.3666,  34.3671,2,    241.0,2,   241.4,2,    6.32,2,   20.94,2,    0.00,2,    1.54,2,   2.976,2,   1.692,2,-999.000,1,    0.682,2,  2139.8,2,  2281.0,2,   7.7318,2,    25.00,-999.000,9,-999.0000,9, -999.00,9, -999.00,9,  -999.0,9,  -999.0,-999.000,9,-999.000,  -999.0,9,-999.000,-999.0000, -999.00,   6.8071,   6.8603,2,20091228,       0606
318M20091121,        P06,     121,          2,         23,         23,2,20091228,       0412,   -32.4990,  -149.9991,       5137,   670.7,   6.3732,  34.3358,  34.3365,2,    239.7,2,   239.5,2,    8.28,2,   22.62,2,    0.00,2,    1.63,2,   2.416,2,   1.353,2,-999.000,1,    0.289,2,  2142.9,2,  2281.7,2,   7.7226,2,    25.00,-999.000,9,-999.0000,9, -999.00,9, -999.00,9,  -999.0,9,  -999.0,-999.000,9,-999.000,  -999.0,9,-999.000,-999.0000, -999.00,   6.3121,   6.3686,2,20091228,       0603
318M20091121,        P06,     121,          2,         22,         22,2,20091228,       0412,   -32.4990,  -149.9991,       5137,   770.0,   5.8823,  34.3129,  34.3135,2,    234.9,2,   233.7,2,   11.46,2,   24.36,2,    0.00,2,    1.75,2,   1.977,2,   1.095,2,-999.000,1,    0.243,2,  2151.7,2,  2284.9,2,   7.7076,2,    25.00,-999.000,9,-999.0000,9, -999.00,9, -999.00,9,  -999.0,9,  -999.0,-999.000,9,-999.000,  -999.0,9,-999.000,-999.0000, -999.00,   5.8145,   5.8875,2,20091228,       0600
318M20091121,        P06,     121,          2,         21,         21,2,20091228,       0412,   -32.4990,  -149.9991,       5137,   873.5,   5.3678,  34.3037,  34.3041,2,    223.4,2,   221.8,2,   16.45,2,   26.60,2,    0.00,2,    1.89,2,   1.355,2,   0.724,2,-999.000,1,    0.218,2,  2164.0,2,  2288.4,2,   7.6823,2,    25.00,-999.000,9,-999.0000,9, -999.00,9, -999.00,9,  -999.0,9,  -999.0,-999.000,9,-999.000,  -999.0,9,-999.000,-999.0000, -999.00,   5.2937,   5.3715,2,20091228,       0557
318M20091121,        P06,     121,          2,         20,         20,2,20091228,       0412,   -32.4990,  -149.9991,       5137,   973.4,   4.8205,  34.3120,  34.3129,2,    208.8,2,   209.3,2,   23.88,2,   28.80,2,    0.00,2,    2.03,2,   0.929,2,   0.496,2,-999.000,1,    0.141,2,  2179.3,6,  2294.5,6,   7.6556,2,    25.00,-999.000,9,-999.0000,9, -999.00,9, -999.00,9,  -999.0,9,  -999.0,-999.000,9,-999.000,  -999.0,9,-999.000,-999.0000, -999.00,   4.7412,   4.8205,2,20091228,       0554
318M20091121,        P06,     121,          2,         19,         19,2,20091228,       0412,   -32.4990,  -149.9991,       5137,  1075.4,   4.2402,  34.3344,  34.3355,2,    197.2,2,   197.6,2,   33.13,2,   30.95,2,    0.00,2,    2.16,2,   0.618,2,   0.324,2,-999.000,1,        0,2,  -999.0,9,  2302.3,2,   7.6293,2,    25.00,-999.000,9,-999.0000,9, -999.00,9, -999.00,9,  -999.0,9,  -999.0,-999.000,9,-999.000,  -999.0,9,-999.000,-999.0000, -999.00,   4.1565,   4.2406,2,20091228,       0551
318M20091121,        P06,     121,          2,         18,         18,2,20091228,       0412,   -32.4990,  -149.9991,       5137,  1176.8,   3.6856,  34.3740,  34.3742,2,    188.3,2,   187.6,2,   43.82,2,   32.45,2,    0.00,2,    2.28,2,   0.342,2,   0.184,2,-999.000,1,        0,2,  -999.0,9,  -999.0,9,-999.0000,9,  -999.00,-999.000,9,-999.0000,9, -999.00,9, -999.00,9,  -999.0,9,  -999.0,-999.000,9,-999.000,  -999.0,9,-999.000,-999.0000, -999.00,   3.5981,   3.6896,2,20091228,       0548
318M20091121,        P06,     121,          2,         17,         17,2,20091228,       0412,   -32.4990,  -149.9991,       5137,  1277.9,   3.3068,  34.4181,  34.4189,2,    179.5,2,   179.3,2,   53.52,2,   33.51,2,    0.00,2,    2.35,2,   0.189,2,   0.105,2,-999.000,1,        0,2,  2228.0,2,  2320.7,2,   7.5937,2,    25.00,-999.000,9,-999.0000,9, -999.00,9, -999.00,9,  -999.0,9,  -999.0,-999.000,9,-999.000,  -999.0,9,-999.000,-999.0000, -999.00,   3.2144,   3.3086,2,20091228,       0544
318M20091121,        P06,     121,          2,         16,         16,2,20091228,       0412,   -32.4990,  -149.9991,       5137,  1378.1,   2.9994,  34.4710,  34.4718,2,    172.1,2,   171.4,2,   63.84,2,   34.12,2,    0.00,2,    2.39,2,   0.104,2,   0.067,2,-999.000,1,        0,2,  -999.0,9,  -999.0,9,-999.0000,9,  -999.00,-999.000,9,-999.0000,9, -999.00,9, -999.00,9,  -999.0,9,  -999.0,-999.000,9,-999.000,  -999.0,9,-999.000,-999.0000, -999.00,   2.9018,   2.9993,2,20091228,       0541
318M20091121,        P06,     121,          2,         15,         15,2,20091228,       0412,   -32.4990,  -149.9991,       5137,  1551.4,   2.6818,  34.5456,  34.5457,2,    161.9,2,   163.0,2,   79.71,2,   34.52,2,    0.00,2,    2.42,2,   0.031,2,   0.022,2,-999.000,1,        0,2,  2261.7,2,  2350.6,2,   7.5764,2,    25.00,-999.000,9,-999.0000,9, -999.00,9, -999.00,9,  -999.0,9,  -999.0,-999.000,9,-999.000,  -999.0,9,-999.000,-999.0000, -999.00,   2.5735,   2.6824,2,20091228,       0537
318M20091121,        P06,     121,          2,         14,         14,2,20091228,       0412,   -32.4990,  -149.9991,       5137,  1751.6,   2.4043,  34.6029,  34.6031,2,    154.9,2,   155.7,2,   97.27,2,   34.91,2,    0.00,2,    2.45,2,   0.012,2,   0.010,2,-999.000,1,        0,2,  -999.0,9,  -999.0,9,-999.0000,9,  -999.00,-999.000,9,-999.0000,9, -999.00,9, -999.00,9,  -999.0,9,  -999.0,-999.000,9,-999.000,  -999.0,9,-999.000,-999.0000, -999.00,   2.2829,   2.4040,2,20091228,       0532
318M20091121,        P06,     121,          2,         13,         13,2,20091228,       0412,   -32.4990,  -149.9991,       5137,  1953.6,   2.2130,  34.6294,  34.6303,2,    151.1,2,   151.2,2,  108.11,2,   35.25,2,    0.00,2,    2.48,2,   0.017,2,   0.015,2,-999.000,1,        0,2,  2295.1,2,  2384.1,2,   7.5773,2,    25.00,-999.000,9,-999.0000,9, -999.00,9, -999.00,9,  -999.0,9,  -999.0,-999.000,9,-999.000,  -999.0,9,-999.000,-999.0000, -999.00,   2.0772,   2.2130,2,20091228,       0527
318M20091121,        P06,     121,          2,         12,         12,2,20091228,       0412,   -32.4990,  -149.9991,       5137,  2191.4,   2.0511,  34.6450,  34.6456,2,    149.7,2,   149.7,2,  116.10,2,   35.58,2,    0.00,2,    2.49,2,   0.013,2,   0.010,2,-999.000,1,        0,2,  -999.0,9,  -999.0,9,-999.0000,9,  -999.00,-999.000,9,-999.0000,9, -999.00,9, -999.00,9,  -999.0,9,  -999.0,-999.000,9,-999.000,  -999.0,9,-999.000,-999.0000, -999.00,   1.8974,   2.0510,2,20091228,       0521
318M20091121,        P06,     121,          2,         11,         11,2,20091228,       0412,   -32.4990,  -149.9991,       5137,  2444.9,   1.9328,  34.6557,  34.6563,2,    148.7,2,   148.6,2,  122.03,2,   35.82,2,    0.00,2,    2.51,2,   0.017,2,   0.014,2,-999.000,1,        0,2,  2309.4,2,  2401.7,2,   7.5777,2,    25.00,-999.000,9,-999.0000,9, -999.00,9, -999.00,9,  -999.0,9,  -999.0,-999.000,9,-999.000,  -999.0,9,-999.000,-999.0000, -999.00,   1.7587,   1.9326,2,20091228,       0516
318M20091121,        P06,     121,          2,         10,         10,2,20091228,       0412,   -32.4990,  -149.9991,       5137,  2700.2,   1.8260,  34.6642,  34.6645,2,    150.6,2,   150.4,2,  125.71,2,   35.76,2,    0.00,2,    2.50,2,   0.014,2,   0.011,2,-999.000,1,        0,2,  -999.0,9,  -999.0,9,-999.0000,9,  -999.00,-999.000,9,-999.0000,9, -999.00,9, -999.00,9,  -999.0,9,  -999.0,-999.000,9,-999.000,  -999.0,9,-999.000,-999.0000, -999.00,   1.6306,   1.8268,2,20091228,       0510
318M20091121,        P06,     121,          2,          9,          9,2,20091228,       0412,   -32.4990,  -149.9991,       5137,  2953.5,   1.7374,  34.6723,  34.6726,2,    155.2,2,   155.1,2,  126.29,2,   35.43,2,    0.00,2,    2.47,2,   0.024,2,   0.018,2,-999.000,1,        0,2,  2307.2,2,  2405.7,2,   7.5840,2,    25.00,-999.000,9,-999.0000,9, -999.00,9, -999.00,9,  -999.0,9,  -999.0,-999.000,9,-999.000,  -999.0,9,-999.000,-999.0000, -999.00,   1.5198,   1.7373,2,20091228,       0504
318M20091121,        P06,     121,          2,          8,          8,2,20091228,       0412,   -32.4990,  -149.9991,       5137,  3246.4,   1.6287,  34.6836,  34.6836,2,    163.1,2,   163.0,2,  124.80,2,   34.76,2,    0.00,2,    2.43,2,   0.020,2,   0.015,2,-999.000,1,        0,2,  -999.0,9,  -999.0,9,-999.0000,9,  -999.00,-999.000,9,-999.0000,9, -999.00,9, -999.00,9,  -999.0,9,  -999.0,-999.000,9,-999.000,  -999.0,9,-999.000,-999.0000, -999.00,   1.3849,   1.6292,2,20091228,       0457
318M20091121,        P06,     121,          2,          7,          7,2,20091228,       0412,   -32.4990,  -149.9991,       5137,  3553.1,   1.5228,  34.6922,  34.6925,2,    172.7,2,   173.3,2,  122.07,2,   33.98,2,    0.00,2,    2.38,2,   0.008,2,   0.007,2,-999.000,1,        0,2,  2290.8,2,  2393.7,2,   7.5990,2,    25.00,-999.000,9,-999.0000,9, -999.00,9, -999.00,9,  -999.0,9,  -999.0,-999.000,9,-999.000,  -999.0,9,-999.000,-999.0000, -999.00,   1.2505,   1.5237,2,20091228,       0450
318M20091121,        P06,     121,          2,          6,          6,2,20091228,       0412,   -32.4990,  -149.9991,       5137,  3858.5,   1.4132,  34.7033,  34.7041,2,    184.9,2,   185.2,2,  117.50,2,   32.98,2,    0.00,2,    2.31,2,   0.011,2,   0.010,2,-999.000,1,        0,2,  -999.0,9,  -999.0,9,-999.0000,9,  -999.00,-999.000,9,-999.0000,9, -999.00,9, -999.00,9,  -999.0,9,  -999.0,-999.000,9,-999.000,  -999.0,9,-999.000,-999.0000, -999.00,   1.1118,   1.4132,2,20091228,       0443
318M20091121,        P06,     121,          2,          5,         37,2,20091228,       0412,   -32.4990,  -149.9991,       5137,  4165.2,   1.2968,  34.7077,  34.7081,2,    193.1,2,   193.7,2,  116.21,2,   32.42,2,    0.00,2,    2.27,2,   0.020,2,   0.015,2,-999.000,1,        0,2,  2269.7,2,  -999.0,9,-999.0000,9,  -999.00,-999.000,9,-999.0000,9, -999.00,9, -999.00,9,  -999.0,9,  -999.0,-999.000,9,-999.000,  -999.0,9,-999.000,-999.0000, -999.00,   0.9654,   1.2968,2,20091228,       0437
318M20091121,        P06,     121,          2,          4,          4,2,20091228,       0412,   -32.4990,  -149.9991,       5137,  4474.1,   1.2080,  34.7084,  34.7085,2,    198.4,2,   198.3,2,  117.20,2,   32.21,2,    0.00,2,    2.25,2,   0.016,2,   0.013,2,-999.000,1,        0,2,  -999.0,9,  -999.0,9,-999.0000,9,  -999.00,-999.000,9,-999.0000,9, -999.00,9, -999.00,9,  -999.0,9,  -999.0,-999.000,9,-999.000,  -999.0,9,-999.000,-999.0000, -999.00,   0.8448,   1.2074,2,20091228,       0430
318M20091121,        P06,     121,          2,          3,          3,2,20091228,       0412,   -32.4990,  -149.9991,       5137,  4730.9,   1.1539,  34.7099,  34.7103,2,    202.1,2,   201.9,2,  117.36,2,   32.04,2,    0.00,2,    2.24,2,   0.017,2,   0.013,2,-999.000,1,        0,2,  2264.3,2,  2371.2,6,   7.6207,6,    25.00,-999.000,9,-999.0000,9, -999.00,9, -999.00,9,  -999.0,9,  -999.0,-999.000,9,-999.000,  -999.0,9,-999.000,-999.0000, -999.00,   0.7629,   1.1539,2,20091228,       0424
318M20091121,        P06,     121,          2,          2,          2,2,20091228,       0412,   -32.4990,  -149.9991,       5137,  4988.4,   1.1565,  34.7099,  34.7101,2,    203.6,2,   203.0,2,  117.33,2,   32.04,2,    0.00,2,    2.23,2,   0.019,2,   0.011,2,-999.000,1,        0,2,  -999.0,9,  -999.0,9,-999.0000,9,  -999.00,-999.000,9,-999.0000,9, -999.00,9, -999.00,9,  -999.0,9,  -999.0,-999.000,9,-999.000,  -999.0,9,-999.000,-999.0000, -999.00,   0.7350,   1.1567,2,20091228,       0418
318M20091121,        P06,     121,          2,          1,          1,2,20091228,       0412,   -32.4990,  -149.9991,       5137,  5219.8,   1.1605,  34.7097,  34.7103,2,    204.1,2,   203.6,2,  117.90,2,   31.94,2,    0.00,2,    2.23,2,   0.022,2,   0.012,2,-999.000,1,        0,2,  2264.0,6,  2371.4,2,   7.6249,2,    25.00,-999.000,9,-999.0000,9, -999.00,9, -999.00,9,  -999.0,9,  -999.0,-999.000,9,-999.000,  -999.0,9,-999.000,-999.0000, -999.00,   0.7109,   1.1604,2,20091228,       0412