BOTTLE,20220818CCHSIOAMB
EXPOCODE,SECT_ID,STNNBR,CASTNO,SAMPNO,BTLNBR,BTLNBR_FLAG_W,DATE,TIME,LATITUDE,LONGITUDE,DEPTH,CTDPRS,CTDTMP,CTDSAL,SALNTY,SALNTY_FLAG_W,CTDOXY,CTDOXY_FLAG_W,OXYGEN,OXYGEN_FLAG_W,SILCAT,SILCAT_FLAG_W,NITRAT,NITRAT_FLAG_W,NITRIT,NITRIT_FLAG_W,PHSPHT,PHSPHT_FLAG_W,CFC-11,CFC-11_FLAG_W,CFC-12,CFC-12_FLAG_W,CFC113,CFC113_FLAG_W,SF6,SF6_FLAG_W,TCARBN,TCARBN_FLAG_W,ALKALI,ALKALI_FLAG_W,PH_SWS,PH_SWS_FLAG_W,PH_TMP,TRITUM,TRITUM_FLAG_W,HELIUM,HELIUM_FLAG_W,DELHE3,DELHE3_FLAG_W,DELC13,DELC13_FLAG_W,DELC14,DELC14_FLAG_W,C14ERR,NEON,NEON_FLAG_W,NEONER,DOC,DOC_FLAG_W,TRITER,HELIER,DELHER,THETA,SBE35,SBE35_FLAG_W,BTL_DATE,BTL_TIME
,,,,,,,,,,,METERS,DBAR,ITS-90,PSS-78,PSS-78,,UMOL/KG,,UMOL/KG,,UMOL/KG,,UMOL/KG,,UMOL/KG,,UMOL/KG,,PMOL/KG,,PMOL/KG,,PMOL/KG,,FMOL/KG,,UMOL/KG,,UMOL/KG,,,,DEG C,TU,,NMOL/KG,,PERCNT,,/MILLE,,/MILLE,,/MILLE,NMOL/KG,,NMOL/KG,UMOL/KG,,TU,NMOL/KG,PERCNT,DEG C,ITS-90,,,
318M20091121,        P06,      94,          1,         36,         36,2,20091217,       0612,   -32.5002,  -171.2508,       5430,     6.1,  20.0832,  35.4772,  35.4773,2,    234.1,2,   231.8,2,    0.94,2,    0.00,2,    0.00,2,    0.13,2,   2.111,2,   1.326,2,-999.000,1,    1.128,2,  2052.2,2,  2332.8,2,   8.0116,6,    25.00,-999.000,9,-999.0000,9, -999.00,9, -999.00,9,  -999.0,9,  -999.0,-999.000,9,-999.000,    61.0,2,-999.000,-999.0000, -999.00,  20.0821,  20.0795,2,20091217,       0844
318M20091121,        P06,      94,          1,         35,         35,2,20091217,       0612,   -32.5002,  -171.2508,       5430,    20.3,  20.0857,  35.4767,  35.4775,2,    234.3,2,   232.3,2,    0.96,2,    0.00,2,    0.00,2,    0.12,2,   2.108,2,   1.321,2,-999.000,1,    1.256,2,  2050.4,2,  2331.2,6,   8.0005,2,    25.00,-999.000,9,-999.0000,9, -999.00,9, -999.00,9,  -999.0,9,  -999.0,-999.000,9,-999.000,    61.3,2,-999.000,-999.0000, -999.00,  20.0819,  20.0792,2,20091217,       0842
318M20091121,        P06,      94,          1,         34,         34,2,20091217,       0612,   -32.5002,  -171.2508,       5430,    39.7,  17.8280,  35.5109,  35.5107,2,    249.9,2,   250.6,2,    0.77,2,    0.00,2,    0.00,2,    0.11,2,   2.275,2,   1.427,2,-999.000,1,    1.255,2,  2044.0,2,  2332.8,2,-999.0000,9,  -999.00,-999.000,9,-999.0000,9, -999.00,9, -999.00,9,  -999.0,9,  -999.0,-999.000,9,-999.000,    60.3,2,-999.000,-999.0000, -999.00,  17.8212,  17.8211,2,20091217,       0840
318M20091121,        P06,      94,          1,         33,         33,2,20091217,       0612,   -32.5002,  -171.2508,       5430,    65.4,  16.6453,  35.5123,  35.5123,2,    244.1,2,   240.2,2,    1.00,2,   -0.01,2,    0.00,2,    0.14,2,   2.316,2,   1.437,2,-999.000,1,    1.221,2,  2060.7,2,  2326.8,2,   7.9800,2,    25.00,-999.000,9,-999.0000,9, -999.00,9, -999.00,9,  -999.0,9,  -999.0,-999.000,9,-999.000,    55.8,2,-999.000,-999.0000, -999.00,  16.6347,  16.6375,2,20091217,       0839
318M20091121,        P06,      94,          1,         32,         32,2,20091217,       0612,   -32.5002,  -171.2508,       5430,    90.6,  15.8681,  35.4729,  35.4728,2,    227.7,2,   225.4,2,    1.23,2,    2.49,2,    0.05,2,    0.30,2,   2.374,2,   1.474,2,-999.000,1,    1.183,2,  2075.7,2,  2327.5,2,-999.0000,9,  -999.00,-999.000,9,-999.0000,9, -999.00,9, -999.00,9,  -999.0,9,  -999.0,-999.000,9,-999.000,  -999.0,9,-999.000,-999.0000, -999.00,  15.8538,  15.8648,2,20091217,       0837
318M20091121,        P06,      94,          1,         31,         31,2,20091217,       0612,   -32.5002,  -171.2508,       5430,   136.1,  15.2205,  35.4013,  35.4019,2,    225.2,2,   223.0,2,    1.66,2,    3.96,2,    0.01,2,    0.40,2,   2.418,2,   1.475,2,-999.000,1,    1.181,2,  2084.7,2,  2325.3,2,   7.9269,2,    25.00,-999.000,9,-999.0000,9, -999.00,9, -999.00,9,  -999.0,9,  -999.0,-999.000,9,-999.000,    56.0,2,-999.000,-999.0000, -999.00,  15.1997,  15.2164,2,20091217,       0834
318M20091121,        P06,      94,          1,         30,         30,2,20091217,       0612,   -32.5002,  -171.2508,       5430,   186.5,  14.2428,  35.2979,  35.2973,2,    217.0,2,   226.6,2,    2.10,2,    5.30,2,    0.01,2,    0.49,2,   2.566,2,   1.563,2,-999.000,1,    1.151,2,  2092.6,2,  2319.9,2,-999.0000,9,  -999.00,-999.000,9,-999.0000,9, -999.00,9, -999.00,9,  -999.0,9,  -999.0,-999.000,9,-999.000,    51.3,2,-999.000,-999.0000, -999.00,  14.2155,  14.2504,2,20091217,       0832
318M20091121,        P06,      94,          1,         29,         29,2,20091217,       0612,   -32.5002,  -171.2508,       5430,   236.4,  13.2777,  35.1891,  35.1890,2,    213.8,2,   214.2,2,    2.95,2,    8.96,2,    0.01,2,    0.70,2,   2.586,6,   1.553,6,-999.000,1,    1.149,6,  2109.1,2,  2314.0,2,   7.8594,2,    25.00,-999.000,9,-999.0000,9, -999.00,9, -999.00,9,  -999.0,9,  -999.0,-999.000,9,-999.000,    49.0,2,-999.000,-999.0000, -999.00,  13.2446,  13.2785,2,20091217,       0830
318M20091121,        P06,      94,          1,         28,         28,2,20091217,       0612,   -32.5002,  -171.2508,       5430,   285.8,  12.3817,  35.0726,  35.0710,2,    209.9,2,   207.9,2,    3.80,2,   11.64,2,    0.00,2,    0.87,2,   2.590,2,   1.542,2,-999.000,1,    1.022,2,  2118.4,2,  2316.8,2,-999.0000,9,  -999.00,-999.000,9,-999.0000,9, -999.00,9, -999.00,9,  -999.0,9,  -999.0,-999.000,9,-999.000,    47.4,2,-999.000,-999.0000, -999.00,  12.3435,  12.3771,2,20091217,       0827
318M20091121,        P06,      94,          1,         27,         27,2,20091217,       0612,   -32.5002,  -171.2508,       5430,   337.7,  11.1306,  34.8881,  34.8819,2,    207.1,2,   206.4,2,    4.65,2,   14.51,2,    0.00,2,    1.05,2,   2.696,2,   1.548,2,-999.000,1,    0.903,2,  2127.7,2,  2300.1,2,   7.7942,2,    25.00,-999.000,9,-999.0000,9, -999.00,9, -999.00,9,  -999.0,9,  -999.0,-999.000,9,-999.000,    48.4,2,-999.000,-999.0000, -999.00,  11.0884,  11.1416,2,20091217,       0825
318M20091121,        P06,      94,          1,         26,         26,2,20091217,       0612,   -32.5002,  -171.2508,       5430,   386.6,  10.0016,  34.7358,  34.7350,2,    208.4,2,   208.7,2,    5.29,2,   16.76,2,    0.00,2,    1.19,2,   2.741,2,   1.543,2,-999.000,1,    0.898,2,  2133.3,2,  2298.3,2,-999.0000,9,  -999.00,-999.000,9,-999.0000,9, -999.00,9, -999.00,9,  -999.0,9,  -999.0,-999.000,9,-999.000,    47.4,2,-999.000,-999.0000, -999.00,   9.9564,  10.0001,2,20091217,       0823
318M20091121,        P06,      94,          1,         25,         25,2,20091217,       0612,   -32.5002,  -171.2508,       5430,   468.6,   8.7695,  34.5882,  34.5888,2,    215.9,2,   217.3,2,    6.35,2,   19.24,2,    0.00,2,    1.36,2,   2.860,2,   1.582,2,-999.000,1,     0.89,2,  2143.3,2,  2291.4,2,   7.7423,2,    25.00,-999.000,9,-999.0000,9, -999.00,9, -999.00,9,  -999.0,9,  -999.0,-999.000,9,-999.000,    44.2,2,-999.000,-999.0000, -999.00,   8.7189,   8.7751,2,20091217,       0820
318M20091121,        P06,      94,          1,         24,         24,2,20091217,       0612,   -32.5002,  -171.2508,       5430,   568.1,   7.7479,  34.4708,  34.4673,2,    225.9,2,   226.4,2,    7.20,2,   21.30,2,    0.00,2,    1.49,2,   2.870,2,   1.545,2,-999.000,1,    0.749,2,  2144.2,2,  2287.1,2,-999.0000,9,  -999.00,-999.000,9,-999.0000,9, -999.00,9, -999.00,9,  -999.0,9,  -999.0,-999.000,9,-999.000,  -999.0,9,-999.000,-999.0000, -999.00,   7.6905,   7.7466,2,20091217,       0817
318M20091121,        P06,      94,          1,         23,         23,2,20091217,       0612,   -32.5002,  -171.2508,       5430,   669.3,   7.1226,  34.4144,  34.4134,2,    229.3,2,   229.4,2,    8.68,2,   22.76,2,    0.00,2,    1.58,2,   2.576,2,   1.372,2,-999.000,1,     0.53,2,  2147.1,2,  2285.6,2,   7.7232,2,    25.00,-999.000,9,-999.0000,9, -999.00,9, -999.00,9,  -999.0,9,  -999.0,-999.000,9,-999.000,    39.3,2,-999.000,-999.0000, -999.00,   7.0578,   7.1225,2,20091217,       0814
318M20091121,        P06,      94,          1,         22,         22,2,20091217,       0612,   -32.5002,  -171.2508,       5430,   767.8,   6.5080,  34.3713,  34.3698,2,    227.9,2,   226.9,2,   11.40,2,   24.45,2,    0.00,2,    1.70,2,   1.880,2,   0.980,2,-999.000,1,    0.288,2,  2153.7,2,  2288.9,2,-999.0000,9,  -999.00,-999.000,9,-999.0000,9, -999.00,9, -999.00,9,  -999.0,9,  -999.0,-999.000,9,-999.000,  -999.0,9,-999.000,-999.0000, -999.00,   6.4367,   6.5112,2,20091217,       0810
318M20091121,        P06,      94,          1,         21,         21,2,20091217,       0612,   -32.5002,  -171.2508,       5430,   870.8,   5.9636,  34.3492,  34.3496,2,    220.6,2,   219.1,2,   15.58,2,   26.20,2,    0.00,2,    1.83,2,   1.288,2,   0.659,2,-999.000,1,    0.047,2,  2162.3,2,  2285.5,2,   7.6935,2,    25.00,-999.000,9,-999.0000,9, -999.00,9, -999.00,9,  -999.0,9,  -999.0,-999.000,9,-999.000,    39.3,2,-999.000,-999.0000, -999.00,   5.8857,   5.9715,2,20091217,       0807
318M20091121,        P06,      94,          1,         20,         20,2,20091217,       0612,   -32.5002,  -171.2508,       5430,   972.3,   5.3486,  34.3397,  34.3392,2,    211.0,2,   208.7,2,   22.27,2,   28.37,2,    0.00,2,    1.98,2,   0.827,2,   0.419,2,-999.000,1,        0,2,  2177.2,6,  2292.1,2,   7.6667,2,    25.00,-999.000,9,-999.0000,9, -999.00,9, -999.00,9,  -999.0,9,  -999.0,-999.000,9,-999.000,  -999.0,9,-999.000,-999.0000, -999.00,   5.2655,   5.3500,2,20091217,       0804
318M20091121,        P06,      94,          1,         19,         19,2,20091217,       0612,   -32.5002,  -171.2508,       5430,  1074.5,   4.8045,  34.3519,  34.3518,2,    199.1,2,   198.4,2,   30.46,2,   30.18,2,    0.00,2,    2.10,2,   0.511,2,   0.269,2,-999.000,1,        0,2,  2193.0,2,  2300.4,6,   7.6421,2,    25.00,-999.000,9,-999.0000,9, -999.00,9, -999.00,9,  -999.0,9,  -999.0,-999.000,9,-999.000,    40.6,2,-999.000,-999.0000, -999.00,   4.7163,   4.8044,2,20091217,       0801
318M20091121,        P06,      94,          1,         18,         18,2,20091217,       0612,   -32.5002,  -171.2508,       5430,  1175.8,   4.2252,  34.3723,  34.3710,2,    189.7,2,   189.9,2,   39.96,2,   31.66,2,    0.00,2,    2.22,2,   0.308,2,   0.170,2,-999.000,1,        0,2,  2208.6,2,  2309.9,2,-999.0000,9,  -999.00,-999.000,9,-999.0000,9, -999.00,9, -999.00,9,  -999.0,9,  -999.0,-999.000,9,-999.000,  -999.0,9,-999.000,-999.0000, -999.00,   4.1329,   4.2270,2,20091217,       0758
318M20091121,        P06,      94,          1,         17,         17,2,20091217,       0612,   -32.5002,  -171.2508,       5430,  1275.6,   3.7182,  34.4035,  34.4025,2,    182.3,2,   182.4,2,   49.89,2,   32.80,2,    0.00,2,    2.31,2,   0.163,2,   0.094,2,-999.000,1,        0,2,  2223.8,2,  2316.2,2,   7.6037,2,    25.00,-999.000,9,-999.0000,9, -999.00,9, -999.00,9,  -999.0,9,  -999.0,-999.000,9,-999.000,    36.7,2,-999.000,-999.0000, -999.00,   3.6220,   3.7192,2,20091217,       0755
318M20091121,        P06,      94,          1,         16,         16,2,20091217,       0612,   -32.5002,  -171.2508,       5430,  1376.2,   3.3145,  34.4512,  34.4509,2,    174.1,2,   174.3,2,   61.15,2,   33.62,2,    0.00,2,    2.37,2,   0.089,2,   0.058,2,-999.000,1,        0,2,  2238.6,2,  2331.9,2,   7.5908,2,    25.00,-999.000,9,-999.0000,9, -999.00,9, -999.00,9,  -999.0,9,  -999.0,-999.000,9,-999.000,  -999.0,9,-999.000,-999.0000, -999.00,   3.2138,   3.3143,2,20091217,       0751
318M20091121,        P06,      94,          1,         15,         15,2,20091217,       0612,   -32.5002,  -171.2508,       5430,  1549.0,   2.8804,  34.5267,  34.5264,2,    163.7,2,   164.0,2,   79.07,2,   34.29,2,    0.00,2,    2.42,2,   0.028,2,   0.021,2,-999.000,1,        0,2,  2260.1,2,  2349.7,2,-999.0000,9,  -999.00,-999.000,9,-999.0000,9, -999.00,9, -999.00,9,  -999.0,9,  -999.0,-999.000,9,-999.000,    37.3,2,-999.000,-999.0000, -999.00,   2.7700,   2.8802,2,20091217,       0747
318M20091121,        P06,      94,          1,         14,         14,2,20091217,       0612,   -32.5002,  -171.2508,       5430,  1750.4,   2.5754,  34.5843,  34.5836,2,    156.1,2,   156.7,2,   94.30,2,   34.77,2,    0.00,2,    2.47,2,   0.018,2,   0.016,2,-999.000,1,        0,2,  2279.9,2,  2370.0,2,-999.0000,9,  -999.00,-999.000,9,-999.0000,9, -999.00,9, -999.00,9,  -999.0,9,  -999.0,-999.000,9,-999.000,  -999.0,9,-999.000,-999.0000, -999.00,   2.4518,   2.5765,2,20091217,       0742
318M20091121,        P06,      94,          1,         13,         13,2,20091217,       0612,   -32.5002,  -171.2508,       5430,  1952.1,   2.3786,  34.6139,  34.6135,2,    152.1,2,   151.9,2,  104.91,2,   35.06,2,    0.00,2,    2.50,2,   0.011,2,   0.009,2,-999.000,1,        0,2,  2290.6,2,  2383.8,2,   7.5740,2,    25.00,-999.000,9,-999.0000,9, -999.00,9, -999.00,9,  -999.0,9,  -999.0,-999.000,9,-999.000,    35.5,2,-999.000,-999.0000, -999.00,   2.2406,   2.3797,2,20091217,       0738
318M20091121,        P06,      94,          1,         12,         12,2,20091217,       0612,   -32.5002,  -171.2508,       5430,  2186.9,   2.2109,  34.6325,  34.6328,2,    149.3,2,   148.9,2,  113.80,2,   35.36,2,    0.00,2,    2.53,2,   0.022,2,   0.019,2,-999.000,1,        0,2,  2299.5,2,  2393.0,2,-999.0000,9,  -999.00,-999.000,9,-999.0000,9, -999.00,9, -999.00,9,  -999.0,9,  -999.0,-999.000,9,-999.000,  -999.0,9,-999.000,-999.0000, -999.00,   2.0550,   2.2106,2,20091217,       0732
318M20091121,        P06,      94,          1,         11,         11,2,20091217,       0612,   -32.5002,  -171.2508,       5430,  2441.9,   2.0650,  34.6466,  34.6468,2,    148.6,2,   148.4,2,  119.95,2,   35.45,2,    0.00,2,    2.53,2,   0.007,2,   0.006,2,-999.000,1,        0,2,  2308.3,2,  2399.0,2,-999.0000,9,  -999.00,-999.000,9,-999.0000,9, -999.00,9, -999.00,9,  -999.0,9,  -999.0,-999.000,9,-999.000,    35.8,2,-999.000,-999.0000, -999.00,   1.8888,   2.0646,2,20091217,       0727
318M20091121,        P06,      94,          1,         10,         10,2,20091217,       0612,   -32.5002,  -171.2508,       5430,  2698.1,   1.9382,  34.6578,  34.6576,2,    149.7,2,   149.0,2,  125.06,2,   35.55,2,    0.00,2,    2.53,2,   0.005,2,   0.007,2,-999.000,1,        0,2,  2311.4,3,  2405.0,2,   7.5742,2,    25.00,-999.000,9,-999.0000,9, -999.00,9, -999.00,9,  -999.0,9,  -999.0,-999.000,9,-999.000,  -999.0,9,-999.000,-999.0000, -999.00,   1.7407,   1.9379,2,20091217,       0721
318M20091121,        P06,      94,          1,          9,          9,2,20091217,       0612,   -32.5002,  -171.2508,       5430,  2950.6,   1.8123,  34.6736,  34.6722,2,    155.5,2,   155.9,2,  124.62,2,   35.03,2,    0.00,2,    2.49,2,   0.014,2,   0.010,2,-999.000,1,        0,2,  1961.1,4,  2401.1,2,-999.0000,9,  -999.00,-999.000,9,-999.0000,9, -999.00,9, -999.00,9,  -999.0,9,  -999.0,-999.000,9,-999.000,    37.9,2,-999.000,-999.0000, -999.00,   1.5934,   1.8134,2,20091217,       0715
318M20091121,        P06,      94,          1,          8,          8,2,20091217,       0612,   -32.5002,  -171.2508,       5430,  3243.1,   1.6808,  34.6965,  34.6964,2,    171.0,2,   172.0,2,  117.18,2,   33.53,2,    0.00,2,    2.37,2,   0.015,2,   0.013,2,-999.000,1,        0,2,  2288.9,2,  2389.2,2,-999.0000,9,  -999.00,-999.000,9,-999.0000,9, -999.00,9, -999.00,9,  -999.0,9,  -999.0,-999.000,9,-999.000,  -999.0,9,-999.000,-999.0000, -999.00,   1.4361,   1.6810,2,20091217,       0709
318M20091121,        P06,      94,          1,          7,          7,2,20091217,       0612,   -32.5002,  -171.2508,       5430,  3548.3,   1.5245,  34.7149,  34.7153,2,    188.5,2,   189.2,2,  109.96,2,   32.24,2,    0.00,2,    2.26,2,   0.031,2,   0.021,2,-999.000,1,        0,2,  2268.3,2,  2371.9,2,   7.6312,2,    25.00,-999.000,9,-999.0000,9, -999.00,9, -999.00,9,  -999.0,9,  -999.0,-999.000,9,-999.000,    39.5,2,-999.000,-999.0000, -999.00,   1.2525,   1.5246,2,20091217,       0701
318M20091121,        P06,      94,          1,          6,          6,2,20091217,       0612,   -32.5002,  -171.2508,       5430,  3856.4,   1.3174,  34.7185,  34.7197,2,    198.6,2,   199.0,2,  111.01,2,   31.72,2,    0.00,2,    2.22,2,   0.036,2,   0.024,2,-999.000,1,        0,2,  2261.5,2,  2366.6,2,-999.0000,9,  -999.00,-999.000,9,-999.0000,9, -999.00,9, -999.00,9,  -999.0,9,  -999.0,-999.000,9,-999.000,  -999.0,9,-999.000,-999.0000, -999.00,   1.0187,   1.3170,2,20091217,       0655
318M20091121,        P06,      94,          1,          5,          5,2,20091217,       0612,   -32.5002,  -171.2508,       5430,  4228.2,   1.1201,  34.7140,  34.7152,2,    204.3,2,   204.7,2,  116.32,2,   31.82,2,    0.00,2,    2.23,2,   0.060,2,   0.037,2,-999.000,1,        0,2,  2261.8,2,  2368.7,2,-999.0000,9,  -999.00,-999.000,9,-999.0000,9, -999.00,9, -999.00,9,  -999.0,9,  -999.0,-999.000,9,-999.000,    37.9,2,-999.000,-999.0000, -999.00,   0.7870,   1.1202,2,20091217,       0647
318M20091121,        P06,      94,          1,          4,          4,2,20091217,       0612,   -32.5002,  -171.2508,       5430,  4457.6,   1.0528,  34.7112,  34.7108,2,    206.1,2,   205.7,2,  118.87,2,   31.87,2,    0.00,2,    2.23,2,   0.068,2,   0.041,2,-999.000,1,        0,2,  2261.0,2,  2369.8,2,   7.6157,2,    25.00,-999.000,9,-999.0000,9, -999.00,9, -999.00,9,  -999.0,9,  -999.0,-999.000,9,-999.000,  -999.0,9,-999.000,-999.0000, -999.00,   0.6963,   1.0532,2,20091217,       0641
318M20091121,        P06,      94,          1,          3,          3,2,20091217,       0612,   -32.5002,  -171.2508,       5430,  4779.4,   1.0320,  34.7092,  34.7089,2,    207.5,2,   206.5,2,  120.13,2,   31.77,2,    0.00,2,    2.24,2,   0.086,2,   0.052,2,-999.000,1,        0,2,  2261.9,2,  2373.0,2,-999.0000,9,  -999.00,-999.000,9,-999.0000,9, -999.00,9, -999.00,9,  -999.0,9,  -999.0,-999.000,9,-999.000,    37.9,2,-999.000,-999.0000, -999.00,   0.6394,   1.0322,2,20091217,       0634
318M20091121,        P06,      94,          1,          2,          2,2,20091217,       0612,   -32.5002,  -171.2508,       5430,  5088.8,   1.0491,  34.7084,  34.7081,2,    207.4,2,   206.9,2,  121.18,2,   32.01,2,    0.00,2,    2.24,2,   0.073,2,   0.045,2,-999.000,1,        0,2,  2262.7,2,  2366.4,6,-999.0000,9,  -999.00,-999.000,9,-999.0000,9, -999.00,9, -999.00,9,  -999.0,9,  -999.0,-999.000,9,-999.000,  -999.0,9,-999.000,-999.0000, -999.00,   0.6193,   1.0492,2,20091217,       0627
318M20091121,        P06,      94,          1,          1,          1,2,20091217,       0612,   -32.5002,  -171.2508,       5430,  5551.5,   1.0995,  34.7078,  34.7083,2,    207.0,2,   206.4,2,  121.82,2,   31.97,2,    0.00,2,    2.24,2,   0.075,2,   0.048,2,-999.000,1,        0,2,  2263.3,6,  2367.1,2,   7.6164,6,    25.00,-999.000,9,-999.0000,9, -999.00,9, -999.00,9,  -999.0,9,  -999.0,-999.000,9,-999.000,    38.6,2,-999.000,-999.0000, -999.00,   0.6108,   1.0994,2,20091217,       0612