BOTTLE,20220818CCHSIOAMB
EXPOCODE,SECT_ID,STNNBR,CASTNO,SAMPNO,BTLNBR,BTLNBR_FLAG_W,DATE,TIME,LATITUDE,LONGITUDE,DEPTH,CTDPRS,CTDTMP,CTDSAL,SALNTY,SALNTY_FLAG_W,CTDOXY,CTDOXY_FLAG_W,OXYGEN,OXYGEN_FLAG_W,SILCAT,SILCAT_FLAG_W,NITRAT,NITRAT_FLAG_W,NITRIT,NITRIT_FLAG_W,PHSPHT,PHSPHT_FLAG_W,CFC-11,CFC-11_FLAG_W,CFC-12,CFC-12_FLAG_W,CFC113,CFC113_FLAG_W,SF6,SF6_FLAG_W,TCARBN,TCARBN_FLAG_W,ALKALI,ALKALI_FLAG_W,PH_SWS,PH_SWS_FLAG_W,PH_TMP,TRITUM,TRITUM_FLAG_W,HELIUM,HELIUM_FLAG_W,DELHE3,DELHE3_FLAG_W,DELC13,DELC13_FLAG_W,DELC14,DELC14_FLAG_W,C14ERR,NEON,NEON_FLAG_W,NEONER,DOC,DOC_FLAG_W,TRITER,HELIER,DELHER,THETA,SBE35,SBE35_FLAG_W,BTL_DATE,BTL_TIME
,,,,,,,,,,,METERS,DBAR,ITS-90,PSS-78,PSS-78,,UMOL/KG,,UMOL/KG,,UMOL/KG,,UMOL/KG,,UMOL/KG,,UMOL/KG,,PMOL/KG,,PMOL/KG,,PMOL/KG,,FMOL/KG,,UMOL/KG,,UMOL/KG,,,,DEG C,TU,,NMOL/KG,,PERCNT,,/MILLE,,/MILLE,,/MILLE,NMOL/KG,,NMOL/KG,UMOL/KG,,TU,NMOL/KG,PERCNT,DEG C,ITS-90,,,
318M20091121,        P06,      23,          2,         31,         31,2,20091128,       0857,   -30.0801,   158.6796,       3172,     3.0,  23.5258,  35.5818,  35.5812,2,    217.4,2,   217.3,2,    0.59,2,    0.01,2,    0.00,2,    0.10,2,   1.885,2,   1.190,2,-999.000,1,    1.067,2,  2008.2,2,  2330.9,2,   8.0682,6,    25.00,-999.000,9,-999.0000,9, -999.00,9, -999.00,9,  -999.0,9,  -999.0,-999.000,9,-999.000,  -999.0,9,-999.000,-999.0000, -999.00,  23.5252,  23.5238,2,20091128,       1048
318M20091121,        P06,      23,          2,         30,         30,2,20091128,       0857,   -30.0801,   158.6796,       3172,    24.8,  23.4937,  35.5798,  35.5799,2,    217.9,2,   217.0,2,    0.35,2,    0.02,2,    0.00,2,    0.08,2,   1.895,2,   1.190,2,-999.000,1,    1.047,2,  -999.0,9,  2330.4,6,   8.0681,2,    25.00,-999.000,9,-999.0000,9, -999.00,9, -999.00,9,  -999.0,9,  -999.0,-999.000,9,-999.000,  -999.0,9,-999.000,-999.0000, -999.00,  23.4886,  23.4934,2,20091128,       1046
318M20091121,        P06,      23,          2,         29,         29,2,20091128,       0857,   -30.0801,   158.6796,       3172,    49.6,  22.2935,  35.6300,  35.6289,2,    223.4,2,   225.6,2,    0.54,2,    0.03,2,    0.00,2,    0.06,2,   2.011,6,   1.251,6,-999.000,1,   1.1985,6,  -999.0,9,  2330.0,2,   8.0619,2,    25.00,-999.000,9,-999.0000,9, -999.00,9, -999.00,9,  -999.0,9,  -999.0,-999.000,9,-999.000,  -999.0,9,-999.000,-999.0000, -999.00,  22.2836,  22.2907,2,20091128,       1044
318M20091121,        P06,      23,          2,         28,         28,2,20091128,       0857,   -30.0801,   158.6796,       3172,    74.9,  21.2888,  35.5928,  35.5906,2,    229.9,2,   229.4,2,    0.51,2,    0.00,2,    0.00,2,    0.06,2,   2.059,2,   1.283,2,-999.000,1,    1.065,2,  -999.0,9,  2318.7,2,   8.0612,2,    25.00,-999.000,9,-999.0000,9, -999.00,9, -999.00,9,  -999.0,9,  -999.0,-999.000,9,-999.000,  -999.0,9,-999.000,-999.0000, -999.00,  21.2743,  21.2886,2,20091128,       1041
318M20091121,        P06,      23,          2,         27,         27,2,20091128,       0857,   -30.0801,   158.6796,       3172,   100.6,  20.5588,  35.5780,  35.5764,2,    227.4,2,   226.1,2,    0.27,2,    0.04,2,    0.00,2,    0.08,2,   2.101,2,   1.298,2,-999.000,1,    1.299,2,  -999.0,9,  2316.7,2,   8.0446,2,    25.00,-999.000,9,-999.0000,9, -999.00,9, -999.00,9,  -999.0,9,  -999.0,-999.000,9,-999.000,  -999.0,9,-999.000,-999.0000, -999.00,  20.5398,  20.5600,2,20091128,       1039
318M20091121,        P06,      23,          2,         26,         26,2,20091128,       0857,   -30.0801,   158.6796,       3172,   151.2,  19.5656,  35.5689,  35.5675,2,    213.5,2,   213.6,2,    0.45,2,    1.26,2,    0.10,2,    0.19,2,   2.166,2,   1.337,2,-999.000,1,    1.175,2,  -999.0,9,  -999.0,9,-999.0000,9,  -999.00,-999.000,9,-999.0000,9, -999.00,9, -999.00,9,  -999.0,9,  -999.0,-999.000,9,-999.000,  -999.0,9,-999.000,-999.0000, -999.00,  19.5380,  19.5655,2,20091128,       1036
318M20091121,        P06,      23,          2,         25,         25,2,20091128,       0857,   -30.0801,   158.6796,       3172,   200.9,  19.1133,  35.6021,  35.6017,2,    197.9,2,   195.9,2,    0.84,2,    3.55,2,    0.01,2,    0.33,2,   2.183,2,   1.327,2,-999.000,1,     1.15,2,  -999.0,9,  2318.3,2,   7.9825,2,    25.00,-999.000,9,-999.0000,9, -999.00,9, -999.00,9,  -999.0,9,  -999.0,-999.000,9,-999.000,  -999.0,9,-999.000,-999.0000, -999.00,  19.0772,  19.1140,2,20091128,       1033
318M20091121,        P06,      23,          2,         24,         24,2,20091128,       0857,   -30.0801,   158.6796,       3172,   251.2,  18.2332,  35.5928,  35.5917,2,    190.0,2,   195.5,2,    1.22,2,    4.24,2,    0.01,2,    0.38,2,   2.250,2,   1.365,2,-999.000,1,      1.1,2,  -999.0,9,  2325.7,2,   7.9680,2,    25.00,-999.000,9,-999.0000,9, -999.00,9, -999.00,9,  -999.0,9,  -999.0,-999.000,9,-999.000,  -999.0,9,-999.000,-999.0000, -999.00,  18.1894,  18.2349,2,20091128,       1030
318M20091121,        P06,      23,          2,         23,         23,2,20091128,       0857,   -30.0801,   158.6796,       3172,   303.5,  17.3698,  35.5450,  35.5437,2,    185.3,2,   184.9,2,    1.81,2,    6.53,2,    0.00,2,    0.53,2,   2.295,2,   1.358,2,-999.000,1,    0.984,2,  -999.0,9,  -999.0,9,-999.0000,9,  -999.00,-999.000,9,-999.0000,9, -999.00,9, -999.00,9,  -999.0,9,  -999.0,-999.000,9,-999.000,  -999.0,9,-999.000,-999.0000, -999.00,  17.3186,  17.3702,2,20091128,       1028
318M20091121,        P06,      23,          2,         22,         22,2,20091128,       0857,   -30.0801,   158.6796,       3172,   353.6,  16.3233,  35.4736,  35.4735,2,    187.1,2,   187.5,2,    2.19,2,    7.61,2,    0.00,2,    0.61,2,   2.354,2,   1.390,2,-999.000,1,     1.01,2,  -999.0,9,  2331.0,2,   7.9135,2,    25.00,-999.000,9,-999.0000,9, -999.00,9, -999.00,9,  -999.0,9,  -999.0,-999.000,9,-999.000,  -999.0,9,-999.000,-999.0000, -999.00,  16.2661,  16.3239,2,20091128,       1025
318M20091121,        P06,      23,          2,         21,         21,2,20091128,       0857,   -30.0801,   158.6796,       3172,   399.2,  15.0465,  35.3585,  35.3575,2,    187.6,2,   187.7,2,    2.98,2,    9.46,2,    0.00,2,    0.73,2,   2.410,2,   1.384,2,-999.000,1,    0.969,2,  -999.0,9,  2320.1,2,   7.8820,2,    25.00,-999.000,9,-999.0000,9, -999.00,9, -999.00,9,  -999.0,9,  -999.0,-999.000,9,-999.000,  -999.0,9,-999.000,-999.0000, -999.00,  14.9854,  15.0461,2,20091128,       1022
318M20091121,        P06,      23,          2,         20,         20,2,20091128,       0857,   -30.0801,   158.6796,       3172,   450.9,  14.0099,  35.2674,  35.2566,2,    193.5,2,   193.2,2,    3.57,2,   10.83,2,    0.00,2,    0.83,2,   2.447,2,   1.389,2,-999.000,1,    0.822,2,  -999.0,9,  -999.0,9,-999.0000,9,  -999.00,-999.000,9,-999.0000,9, -999.00,9, -999.00,9,  -999.0,9,  -999.0,-999.000,9,-999.000,  -999.0,9,-999.000,-999.0000, -999.00,  13.9440,  13.9902,2,20091128,       1019
318M20091121,        P06,      23,          2,         19,         19,2,20091128,       0857,   -30.0801,   158.6796,       3172,   501.1,  12.9682,  35.1683,  35.1683,2,    195.1,2,   195.0,2,    4.15,2,   12.34,2,    0.00,2,    0.93,2,   2.478,2,   1.401,2,-999.000,1,    0.835,2,  -999.0,9,  2311.6,2,   7.8362,2,    25.00,-999.000,9,-999.0000,9, -999.00,9, -999.00,9,  -999.0,9,  -999.0,-999.000,9,-999.000,  -999.0,9,-999.000,-999.0000, -999.00,  12.8985,  12.9625,2,20091128,       1016
318M20091121,        P06,      23,          2,         18,         18,2,20091128,       0857,   -30.0801,   158.6796,       3172,   602.9,  10.9917,  34.9246,  34.9259,2,    199.4,2,   199.7,2,    5.97,2,   15.96,2,    0.00,2,    1.16,2,   2.485,2,   1.381,2,-999.000,1,    0.668,2,  -999.0,9,  2301.0,2,   7.7876,2,    25.00,-999.000,9,-999.0000,9, -999.00,9, -999.00,9,  -999.0,9,  -999.0,-999.000,9,-999.000,  -999.0,9,-999.000,-999.0000, -999.00,  10.9161,  11.0005,2,20091128,       1013
318M20091121,        P06,      23,          2,         17,         17,2,20091128,       0857,   -30.0801,   158.6796,       3172,   704.9,   9.0715,  34.6751,  34.6778,2,    199.0,2,   199.4,2,    8.83,2,   20.36,2,    0.00,2,    1.45,2,   2.210,2,   1.176,2,-999.000,1,    0.383,2,  -999.0,9,  -999.0,9,-999.0000,9,  -999.00,-999.000,9,-999.0000,9, -999.00,9, -999.00,9,  -999.0,9,  -999.0,-999.000,9,-999.000,  -999.0,9,-999.000,-999.0000, -999.00,   8.9926,   9.0823,2,20091128,       1009
318M20091121,        P06,      23,          2,         16,         16,2,20091128,       0857,   -30.0801,   158.6796,       3172,   806.7,   7.7661,  34.5408,  34.5413,2,    198.3,2,   199.0,2,   13.33,2,   23.40,2,    0.00,2,    1.65,2,   1.631,2,   0.841,2,-999.000,1,    0.228,2,  -999.0,9,  2293.5,2,   7.7112,2,    25.00,-999.000,9,-999.0000,9, -999.00,9, -999.00,9,  -999.0,9,  -999.0,-999.000,9,-999.000,  -999.0,9,-999.000,-999.0000, -999.00,   7.6832,   7.7743,2,20091128,       1006
318M20091121,        P06,      23,          2,         15,         15,2,20091128,       0857,   -30.0801,   158.6796,       3172,   908.7,   6.7111,  34.4658,  34.4635,2,    197.6,2,  6735.9,4,   19.48,2,   25.90,2,    0.00,2,    1.83,2,   1.119,2,   0.570,2,-999.000,1,    0.165,2,  -999.0,9,  2282.8,3,   7.6870,6,    25.00,-999.000,9,-999.0000,9, -999.00,9, -999.00,9,  -999.0,9,  -999.0,-999.000,9,-999.000,  -999.0,9,-999.000,-999.0000, -999.00,   6.6243,   6.7022,2,20091128,       1002
318M20091121,        P06,      23,          2,         14,         14,2,20091128,       0857,   -30.0801,   158.6796,       3172,  1005.1,   5.9942,  34.4513,  34.4511,2,    189.5,2,   190.0,2,   27.73,2,   27.92,2,    0.00,2,    1.97,2,   0.742,2,   0.386,2,-999.000,1,     0.09,2,  -999.0,9,  2288.5,6,   7.6657,2,    25.00,-999.000,9,-999.0000,9, -999.00,9, -999.00,9,  -999.0,9,  -999.0,-999.000,9,-999.000,  -999.0,9,-999.000,-999.0000, -999.00,   5.9030,   5.9982,2,20091128,       0959
318M20091121,        P06,      23,          2,         13,         13,2,20091128,       0857,   -30.0801,   158.6796,       3172,  1107.2,   5.2166,  34.4520,  34.4511,2,    181.7,2,   182.2,2,   39.11,2,   29.84,2,    0.00,2,    2.11,2,   0.442,2,   0.243,2,-999.000,1,        0,2,  -999.0,9,  2302.5,2,   7.6440,2,    25.00,-999.000,9,-999.0000,9, -999.00,9, -999.00,9,  -999.0,9,  -999.0,-999.000,9,-999.000,  -999.0,9,-999.000,-999.0000, -999.00,   5.1218,   5.2155,2,20091128,       0955
318M20091121,        P06,      23,          2,         12,         12,2,20091128,       0857,   -30.0801,   158.6796,       3172,  1208.5,   4.7585,  34.4659,  34.4657,2,    176.7,2,   176.6,2,   48.05,2,   30.98,2,    0.00,2,    2.19,2,   0.297,2,   0.163,2,-999.000,1,        0,2,  -999.0,9,  -999.0,9,-999.0000,9,  -999.00,-999.000,9,-999.0000,9, -999.00,9, -999.00,9,  -999.0,9,  -999.0,-999.000,9,-999.000,  -999.0,9,-999.000,-999.0000, -999.00,   4.6583,   4.7600,2,20091128,       0952
318M20091121,        P06,      23,          2,         11,         11,2,20091128,       0857,   -30.0801,   158.6796,       3172,  1311.3,   4.1431,  34.4988,  34.4984,2,    166.6,2,   166.9,2,   62.03,2,   32.46,2,    0.00,2,    2.31,2,   0.154,2,   0.090,2,-999.000,1,        0,2,  -999.0,9,  -999.0,9,-999.0000,9,  -999.00,-999.000,9,-999.0000,9, -999.00,9, -999.00,9,  -999.0,9,  -999.0,-999.000,9,-999.000,  -999.0,9,-999.000,-999.0000, -999.00,   4.0394,   4.1436,2,20091128,       0948
318M20091121,        P06,      23,          2,         10,         10,2,20091128,       0857,   -30.0801,   158.6796,       3172,  1413.2,   3.7864,  34.5223,  34.5194,2,    161.5,2,   161.1,2,   71.02,2,   33.31,2,    0.00,2,    2.37,2,   0.096,2,   0.057,2,-999.000,1,        0,2,  -999.0,9,  2335.3,2,   7.5996,2,    25.00,-999.000,9,-999.0000,9, -999.00,9, -999.00,9,  -999.0,9,  -999.0,-999.000,9,-999.000,  -999.0,9,-999.000,-999.0000, -999.00,   3.6774,   3.7895,2,20091128,       0945
318M20091121,        P06,      23,          2,          9,          9,2,20091128,       0857,   -30.0801,   158.6796,       3172,  1510.2,   3.4972,  34.5450,  34.5444,2,    156.2,2,   156.2,2,   79.21,2,   33.96,2,    0.00,2,    2.42,2,   0.053,2,   0.030,2,-999.000,1,        0,2,  -999.0,9,  -999.0,9,-999.0000,9,  -999.00,-999.000,9,-999.0000,9, -999.00,9, -999.00,9,  -999.0,9,  -999.0,-999.000,9,-999.000,  -999.0,9,-999.000,-999.0000, -999.00,   3.3828,   3.4987,2,20091128,       0941
318M20091121,        P06,      23,          2,          8,          8,2,20091128,       0857,   -30.0801,   158.6796,       3172,  1612.3,   3.2262,  34.5672,  34.5667,2,    152.5,2,   153.1,2,   85.93,2,   34.41,2,    0.00,2,    2.45,2,   0.031,2,   0.021,2,-999.000,1,        0,2,  -999.0,9,  -999.0,9,-999.0000,9,  -999.00,-999.000,9,-999.0000,9, -999.00,9, -999.00,9,  -999.0,9,  -999.0,-999.000,9,-999.000,  -999.0,9,-999.000,-999.0000, -999.00,   3.1061,   3.2262,2,20091128,       0938
318M20091121,        P06,      23,          2,          7,          7,2,20091128,       0857,   -30.0801,   158.6796,       3172,  1817.6,   2.7600,  34.6117,  34.6123,2,    152.7,2,   152.9,2,   94.78,2,   34.66,2,    0.00,2,    2.47,2,   0.014,2,   0.014,2,-999.000,1,        0,2,  -999.0,9,  2368.8,2,   7.5806,2,    25.00,-999.000,9,-999.0000,9, -999.00,9, -999.00,9,  -999.0,9,  -999.0,-999.000,9,-999.000,  -999.0,9,-999.000,-999.0000, -999.00,   2.6281,   2.7588,2,20091128,       0932
318M20091121,        P06,      23,          2,          6,          6,2,20091128,       0857,   -30.0801,   158.6796,       3172,  2016.8,   2.4605,  34.6474,  34.6480,2,    158.9,2,   158.9,2,   96.65,2,   34.18,2,    0.00,2,    2.43,2,   0.012,2,   0.008,2,-999.000,1,        0,2,  -999.0,9,  -999.0,9,-999.0000,9,  -999.00,-999.000,9,-999.0000,9, -999.00,9, -999.00,9,  -999.0,9,  -999.0,-999.000,9,-999.000,  -999.0,9,-999.000,-999.0000, -999.00,   2.3155,   2.4607,2,20091128,       0927
318M20091121,        P06,      23,          2,          5,          5,2,20091128,       0857,   -30.0801,   158.6796,       3172,  2274.5,   2.2128,  34.6817,  34.6822,2,    169.8,2,   169.6,2,   95.79,2,   33.25,2,    0.00,2,    2.36,2,   0.011,2,   0.006,2,-999.000,1,        0,2,  -999.0,9,  -999.0,9,-999.0000,9,  -999.00,-999.000,9,-999.0000,9, -999.00,9, -999.00,9,  -999.0,9,  -999.0,-999.000,9,-999.000,  -999.0,9,-999.000,-999.0000, -999.00,   2.0489,   2.2126,2,20091128,       0921
318M20091121,        P06,      23,          2,          4,          4,2,20091128,       0857,   -30.0801,   158.6796,       3172,  2524.7,   2.0161,  34.7056,  34.7098,3,    177.8,2,   178.1,2,   96.61,2,   32.52,2,    0.00,2,    2.31,2,   0.011,2,   0.006,2,-999.000,1,        0,2,  -999.0,9,  2365.3,2,   7.6042,2,    25.00,-999.000,9,-999.0000,9, -999.00,9, -999.00,9,  -999.0,9,  -999.0,-999.000,9,-999.000,  -999.0,9,-999.000,-999.0000, -999.00,   1.8330,   2.0158,2,20091128,       0915
318M20091121,        P06,      23,          2,          3,          3,2,20091128,       0857,   -30.0801,   158.6796,       3172,  2757.0,   1.8100,  34.7188,  34.7201,2,    183.8,2,   184.0,2,  100.19,2,   32.22,2,    0.00,2,    2.28,2,   0.009,2,   0.006,2,-999.000,1,        0,2,  -999.0,9,  -999.0,9,-999.0000,9,  -999.00,-999.000,9,-999.0000,9, -999.00,9, -999.00,9,  -999.0,9,  -999.0,-999.000,9,-999.000,  -999.0,9,-999.000,-999.0000, -999.00,   1.6093,   1.8093,2,20091128,       0910
318M20091121,        P06,      23,          2,          2,          2,2,20091128,       0857,   -30.0801,   158.6796,       3172,  2961.2,   1.6142,  34.7214,  34.7223,2,    188.3,2,   188.7,2,  105.26,2,   32.19,2,    0.00,2,    2.28,2,   0.008,2,   0.005,2,-999.000,1,        0,2,  -999.0,9,  -999.0,9,-999.0000,9,  -999.00,-999.000,9,-999.0000,9, -999.00,9, -999.00,9,  -999.0,9,  -999.0,-999.000,9,-999.000,  -999.0,9,-999.000,-999.0000, -999.00,   1.3983,   1.6128,2,20091128,       0904
318M20091121,        P06,      23,          2,          1,          1,2,20091128,       0857,   -30.0801,   158.6796,       3172,  3206.2,   1.4558,  34.7212,  34.7217,2,    190.5,2,   190.4,2,  109.47,2,   32.29,2,    0.00,2,    2.28,2,   0.010,2,   0.006,2,-999.000,1,        0,2,  -999.0,9,  2376.9,6,   7.6311,2,    25.00,-999.000,9,-999.0000,9, -999.00,9, -999.00,9,  -999.0,9,  -999.0,-999.000,9,-999.000,  -999.0,9,-999.000,-999.0000, -999.00,   1.2198,   1.4559,2,20091128,       0857