BOTTLE,20220818CCHSIOAMB
EXPOCODE,SECT_ID,STNNBR,CASTNO,SAMPNO,BTLNBR,BTLNBR_FLAG_W,DATE,TIME,LATITUDE,LONGITUDE,DEPTH,CTDPRS,CTDTMP,CTDSAL,SALNTY,SALNTY_FLAG_W,CTDOXY,CTDOXY_FLAG_W,OXYGEN,OXYGEN_FLAG_W,SILCAT,SILCAT_FLAG_W,NITRAT,NITRAT_FLAG_W,NITRIT,NITRIT_FLAG_W,PHSPHT,PHSPHT_FLAG_W,CFC-11,CFC-11_FLAG_W,CFC-12,CFC-12_FLAG_W,CFC113,CFC113_FLAG_W,SF6,SF6_FLAG_W,TCARBN,TCARBN_FLAG_W,ALKALI,ALKALI_FLAG_W,PH_SWS,PH_SWS_FLAG_W,PH_TMP,TRITUM,TRITUM_FLAG_W,HELIUM,HELIUM_FLAG_W,DELHE3,DELHE3_FLAG_W,DELC13,DELC13_FLAG_W,DELC14,DELC14_FLAG_W,C14ERR,NEON,NEON_FLAG_W,NEONER,DOC,DOC_FLAG_W,TRITER,HELIER,DELHER,THETA,SBE35,SBE35_FLAG_W,BTL_DATE,BTL_TIME
,,,,,,,,,,,METERS,DBAR,ITS-90,PSS-78,PSS-78,,UMOL/KG,,UMOL/KG,,UMOL/KG,,UMOL/KG,,UMOL/KG,,UMOL/KG,,PMOL/KG,,PMOL/KG,,PMOL/KG,,FMOL/KG,,UMOL/KG,,UMOL/KG,,,,DEG C,TU,,NMOL/KG,,PERCNT,,/MILLE,,/MILLE,,/MILLE,NMOL/KG,,NMOL/KG,UMOL/KG,,TU,NMOL/KG,PERCNT,DEG C,ITS-90,,,
318M20091121,        P06,     105,          2,         36,         36,2,20091222,       1005,   -32.5000,  -161.8385,       5424,     6.1,  19.3350,  35.1805,  35.1814,2,    232.6,2,   232.4,2,    0.63,2,    0.00,2,    0.00,2,    0.14,2,   2.181,2,   1.405,2,-999.000,1,    1.277,2,  2045.7,6,  2311.1,6,   7.9865,6,    25.00,   0.391,2,-999.0000,9, -999.00,9, -999.00,9,  -999.0,9,  -999.0,-999.000,9,-999.000,  -999.0,9,   0.015,-999.0000, -999.00,  19.3339,  19.3336,2,20091222,       1241
318M20091121,        P06,     105,          2,         35,         35,2,20091222,       1005,   -32.5000,  -161.8385,       5424,    35.4,  19.0884,  35.1896,  35.1907,2,    233.6,2,   233.7,2,    0.61,2,    0.00,2,    0.00,2,    0.14,2,   2.194,6,   1.420,6,-999.000,1,   1.2535,6,  -999.0,9,  -999.0,9,-999.0000,9,  -999.00,-999.000,9,-999.0000,9, -999.00,9, -999.00,9,  -999.0,9,  -999.0,-999.000,9,-999.000,  -999.0,9,-999.000,-999.0000, -999.00,  19.0821,  19.0840,2,20091222,       1238
318M20091121,        P06,     105,          2,         34,         34,2,20091222,       1005,   -32.5000,  -161.8385,       5424,    60.8,  16.4854,  35.3762,  35.3760,2,    253.6,2,   253.4,2,    0.57,2,    0.00,2,    0.00,2,    0.14,2,   2.448,2,   1.556,2,-999.000,1,    1.239,2,  -999.0,9,  -999.0,9,-999.0000,9,  -999.00,   0.371,2,-999.0000,9, -999.00,9, -999.00,9,  -999.0,9,  -999.0,-999.000,9,-999.000,  -999.0,9,   0.015,-999.0000, -999.00,  16.4756,  16.4842,2,20091222,       1236
318M20091121,        P06,     105,          2,         33,         33,2,20091222,       1005,   -32.5000,  -161.8385,       5424,    85.4,  15.4346,  35.3605,  35.3489,3,    240.0,2,   230.4,2,    0.94,2,    1.34,2,    0.10,2,    0.30,2,   2.500,2,   1.561,2,-999.000,1,    1.258,2,  2078.3,2,  2322.3,2,   7.9417,2,    25.00,-999.000,9,-999.0000,9, -999.00,9, -999.00,9,  -999.0,9,  -999.0,-999.000,9,-999.000,  -999.0,9,-999.000,-999.0000, -999.00,  15.4214,  15.4315,2,20091222,       1235
318M20091121,        P06,     105,          2,         32,         32,2,20091222,       1005,   -32.5000,  -161.8385,       5424,   115.6,  14.6979,  35.2382,  35.2390,2,    237.1,2,   233.9,2,    0.91,2,    1.84,2,    0.03,2,    0.32,2,   2.600,2,   1.642,2,-999.000,1,    1.201,2,  -999.0,9,  -999.0,9,-999.0000,9,  -999.00,   0.340,2,-999.0000,9, -999.00,9, -999.00,9,  -999.0,9,  -999.0,-999.000,9,-999.000,  -999.0,9,   0.015,-999.0000, -999.00,  14.6806,  14.6977,2,20091222,       1233
318M20091121,        P06,     105,          2,         31,         31,2,20091222,       1005,   -32.5000,  -161.8385,       5424,   165.6,  13.4521,  35.1551,  35.1493,2,    202.3,2,   202.0,2,    2.30,2,    8.64,2,    0.01,2,    0.72,2,   2.627,2,   1.601,2,-999.000,1,    0.976,2,  2113.0,2,  2312.9,2,   7.8553,2,    25.00,-999.000,9,-999.0000,9, -999.00,9, -999.00,9,  -999.0,9,  -999.0,-999.000,9,-999.000,  -999.0,9,-999.000,-999.0000, -999.00,  13.4288,  13.4659,2,20091222,       1230
318M20091121,        P06,     105,          2,         30,         30,2,20091222,       1005,   -32.5000,  -161.8385,       5424,   216.3,  12.6297,  35.0721,  35.0706,2,    206.5,2,   206.2,2,    2.67,2,   10.04,2,    0.00,2,    0.81,2,   2.704,2,   1.623,2,-999.000,1,    0.956,2,  -999.0,9,  -999.0,9,-999.0000,9,  -999.00,   0.257,2,-999.0000,9, -999.00,9, -999.00,9,  -999.0,9,  -999.0,-999.000,9,-999.000,  -999.0,9,   0.015,-999.0000, -999.00,  12.6005,  12.6485,2,20091222,       1227
318M20091121,        P06,     105,          2,         29,         29,2,20091222,       1005,   -32.5000,  -161.8385,       5424,   266.8,  11.6040,  34.9381,  34.9392,2,    209.8,2,   210.1,2,    3.24,2,   12.02,2,    0.00,2,    0.94,2,   2.813,2,   1.654,2,-999.000,1,    0.902,2,  2124.5,2,  2300.5,2,   7.8134,2,    25.00,   0.246,2,-999.0000,9, -999.00,9, -999.00,9,  -999.0,9,  -999.0,-999.000,9,-999.000,  -999.0,9,   0.016,-999.0000, -999.00,  11.5699,  11.6030,2,20091222,       1225
318M20091121,        P06,     105,          2,         28,         28,2,20091222,       1005,   -32.5000,  -161.8385,       5424,   316.9,  10.5596,  34.7937,  34.7944,2,    211.0,2,   211.1,2,    3.82,2,   14.24,2,    0.00,2,    1.07,2,   2.913,2,   1.682,2,-999.000,1,    0.842,2,  -999.0,9,  -999.0,9,-999.0000,9,  -999.00,   0.224,6,-999.0000,9, -999.00,9, -999.00,9,  -999.0,9,  -999.0,-999.000,9,-999.000,  -999.0,9,   0.012,-999.0000, -999.00,  10.5214,  10.5534,2,20091222,       1221
318M20091121,        P06,     105,          2,         27,         27,2,20091222,       1005,   -32.5000,  -161.8385,       5424,   369.0,   9.4633,  34.6476,  34.6494,2,    215.7,2,   215.0,2,    4.19,2,   16.35,2,    0.00,2,    1.21,2,   2.996,2,   1.687,2,-999.000,1,    0.721,2,  2134.1,2,  2288.0,2,   7.7653,2,    25.00,   0.194,2,-999.0000,9, -999.00,9, -999.00,9,  -999.0,9,  -999.0,-999.000,9,-999.000,  -999.0,9,   0.016,-999.0000, -999.00,   9.4217,   9.4582,2,20091222,       1219
318M20091121,        P06,     105,          2,         26,         26,2,20091222,       1005,   -32.5000,  -161.8385,       5424,   437.9,   8.3696,  34.5159,  34.5152,2,    224.9,2,   225.8,2,    4.77,2,   18.55,2,    0.00,2,    1.35,2,   3.172,2,   1.739,2,-999.000,1,    0.688,2,  2138.1,2,  2284.7,2,   7.7481,2,    25.00,   0.170,2,-999.0000,9, -999.00,9, -999.00,9,  -999.0,9,  -999.0,-999.000,9,-999.000,  -999.0,9,   0.016,-999.0000, -999.00,   8.3237,   8.3739,2,20091222,       1215
318M20091121,        P06,     105,          2,         25,         25,2,20091222,       1005,   -32.5000,  -161.8385,       5424,   539.9,   7.3670,  34.4165,  34.4169,2,    235.6,2,   236.4,2,    5.95,2,   20.57,2,    0.00,2,    1.49,2,   3.155,2,   1.669,2,-999.000,1,    0.578,2,  2140.1,2,  2279.7,2,   7.7388,2,    25.00,   0.137,2,-999.0000,9, -999.00,9, -999.00,9,  -999.0,9,  -999.0,-999.000,9,-999.000,  -999.0,9,   0.016,-999.0000, -999.00,   7.3142,   7.3659,2,20091222,       1212
318M20091121,        P06,     105,          2,         24,         24,2,20091222,       1005,   -32.5000,  -161.8385,       5424,   641.0,   6.8755,  34.3784,  34.3792,2,    238.6,2,   237.8,2,    7.34,2,   21.95,2,    0.00,2,    1.56,2,   2.810,2,   1.472,2,-999.000,1,    0.356,2,  2142.9,2,  2282.5,2,   7.7300,2,    25.00,   0.125,2,-999.0000,9, -999.00,9, -999.00,9,  -999.0,9,  -999.0,-999.000,9,-999.000,  -999.0,9,   0.016,-999.0000, -999.00,   6.8147,   6.8752,2,20091222,       1209
318M20091121,        P06,     105,          2,         23,         23,2,20091222,       1005,   -32.5000,  -161.8385,       5424,   739.9,   6.4017,  34.3519,  34.3523,2,    232.9,2,   232.7,2,    9.95,2,   23.48,2,    0.00,2,    1.67,2,   2.202,2,   1.136,2,-999.000,1,    0.254,2,  2149.1,2,  2285.8,2,   7.7175,2,    25.00,   0.096,2,-999.0000,9, -999.00,9, -999.00,9,  -999.0,9,  -999.0,-999.000,9,-999.000,  -999.0,9,   0.016,-999.0000, -999.00,   6.3337,   6.4011,2,20091222,       1205
318M20091121,        P06,     105,          2,         22,         22,2,20091222,       1005,   -32.5000,  -161.8385,       5424,   842.0,   5.9480,  34.3332,  34.3337,2,    224.1,2,   224.6,2,   13.37,2,   25.38,2,    0.00,2,    1.80,2,   1.657,2,   0.824,2,-999.000,1,    0.165,2,  2157.6,2,  2288.2,6,   7.6989,2,    25.00,   0.078,2,-999.0000,9, -999.00,9, -999.00,9,  -999.0,9,  -999.0,-999.000,9,-999.000,  -999.0,9,   0.016,-999.0000, -999.00,   5.8730,   5.9491,2,20091222,       1202
318M20091121,        P06,     105,          2,         21,         21,2,20091222,       1005,   -32.5000,  -161.8385,       5424,   943.1,   5.3118,  34.3226,  34.3229,2,    213.7,2,   213.7,2,   19.84,2,   27.74,2,    0.00,2,    1.95,2,   1.098,2,   0.539,2,-999.000,1,    0.076,2,  2173.2,6,  2292.1,2,   7.6717,2,    25.00,   0.055,2,-999.0000,9, -999.00,9, -999.00,9,  -999.0,9,  -999.0,-999.000,9,-999.000,  -999.0,9,   0.016,-999.0000, -999.00,   5.2316,   5.3200,2,20091222,       1158
318M20091121,        P06,     105,          2,         20,         20,2,20091222,       1005,   -32.5000,  -161.8385,       5424,  1044.6,   4.7194,  34.3278,  34.3278,2,    202.9,2,   204.1,2,   27.14,2,   29.70,2,    0.00,2,    2.08,2,   0.775,2,   0.374,2,-999.000,1,    0.084,2,  -999.0,9,  -999.0,9,-999.0000,9,  -999.00,   0.033,2,-999.0000,9, -999.00,9, -999.00,9,  -999.0,9,  -999.0,-999.000,9,-999.000,  -999.0,9,   0.016,-999.0000, -999.00,   4.6346,   4.7211,2,20091222,       1154
318M20091121,        P06,     105,          2,         19,         19,2,20091222,       1005,   -32.5000,  -161.8385,       5424,  1145.6,   4.0972,  34.3525,  34.3524,2,    194.6,2,   194.0,2,   37.10,2,   31.42,2,    0.00,2,    2.21,2,   0.449,2,   0.223,2,-999.000,1,        0,2,  2206.4,2,  2307.2,2,   7.6218,2,    25.00,   0.019,2,-999.0000,9, -999.00,9, -999.00,9,  -999.0,9,  -999.0,-999.000,9,-999.000,  -999.0,9,   0.016,-999.0000, -999.00,   4.0087,   4.0932,2,20091222,       1151
318M20091121,        P06,     105,          2,         18,         18,2,20091222,       1005,   -32.5000,  -161.8385,       5424,  1245.7,   3.5736,  34.3917,  34.3919,2,    185.2,2,   184.9,2,   47.70,2,   32.79,2,    0.00,2,    2.30,2,   0.235,2,   0.124,2,-999.000,1,        0,2,  -999.0,9,  -999.0,9,-999.0000,9,  -999.00,   0.005,2,-999.0000,9, -999.00,9, -999.00,9,  -999.0,9,  -999.0,-999.000,9,-999.000,  -999.0,9,   0.016,-999.0000, -999.00,   3.4813,   3.5723,2,20091222,       1147
318M20091121,        P06,     105,          2,         17,         17,2,20091222,       1005,   -32.5000,  -161.8385,       5424,  1347.0,   3.1695,  34.4477,  34.4483,2,    175.6,2,   175.1,2,   59.33,2,   33.61,2,    0.00,2,    2.36,2,   0.112,2,   0.067,2,-999.000,1,        0,2,  2240.6,2,  2330.7,2,   7.5880,2,    25.00,-999.000,9,-999.0000,9, -999.00,9, -999.00,9,  -999.0,9,  -999.0,-999.000,9,-999.000,  -999.0,9,-999.000,-999.0000, -999.00,   3.0728,   3.1697,2,20091222,       1144
318M20091121,        P06,     105,          2,         16,         16,2,20091222,       1005,   -32.5000,  -161.8385,       5424,  1478.1,   2.8334,  34.5181,  34.5181,2,    167.6,2,   166.9,2,   73.68,2,   34.17,2,    0.00,2,    2.40,2,   0.035,2,   0.023,2,-999.000,1,        0,2,  -999.0,9,  -999.0,9,-999.0000,9,  -999.00,   0.008,2,-999.0000,9, -999.00,9, -999.00,9,  -999.0,9,  -999.0,-999.000,9,-999.000,  -999.0,9,   0.016,-999.0000, -999.00,   2.7294,   2.8337,2,20091222,       1140
318M20091121,        P06,     105,          2,         15,         15,2,20091222,       1005,   -32.5000,  -161.8385,       5424,  1682.3,   2.5447,  34.5848,  34.5850,2,    157.5,2,   158.3,2,   91.56,2,   34.57,2,    0.00,2,    2.45,2,   0.013,2,   0.013,2,-999.000,1,        0,2,  2280.2,2,  2370.3,2,   7.5786,2,    25.00,   0.016,2,-999.0000,9, -999.00,9, -999.00,9,  -999.0,9,  -999.0,-999.000,9,-999.000,  -999.0,9,   0.016,-999.0000, -999.00,   2.4272,   2.5441,2,20091222,       1135
318M20091121,        P06,     105,          2,         14,         14,2,20091222,       1005,   -32.5000,  -161.8385,       5424,  1884.2,   2.3234,  34.6184,  34.6185,2,    152.3,2,   152.9,2,  104.76,2,   34.98,2,    0.00,2,    2.47,2,   0.013,2,   0.013,2,-999.000,1,        0,2,  -999.0,9,  -999.0,9,-999.0000,9,  -999.00,   0.005,2,-999.0000,9, -999.00,9, -999.00,9,  -999.0,9,  -999.0,-999.000,9,-999.000,  -999.0,9,   0.016,-999.0000, -999.00,   2.1919,   2.3227,2,20091222,       1130
318M20091121,        P06,     105,          2,         13,         13,2,20091222,       1005,   -32.5000,  -161.8385,       5424,  2105.7,   2.1567,  34.6359,  34.6366,2,    149.1,2,   149.7,2,  114.06,2,   35.28,2,    0.00,2,    2.50,2,   0.004,2,   0.007,2,-999.000,1,        0,2,  2304.9,2,  2397.2,2,   7.5752,2,    25.00,   0.006,2,-999.0000,9, -999.00,9, -999.00,9,  -999.0,9,  -999.0,-999.000,9,-999.000,  -999.0,9,   0.016,-999.0000, -999.00,   2.0088,   2.1563,2,20091222,       1124
318M20091121,        P06,     105,          2,         12,         12,2,20091222,       1005,   -32.5000,  -161.8385,       5424,  2360.6,   2.0238,  34.6478,  34.6477,2,    147.6,2,   147.8,2,  121.10,2,   35.54,2,    0.00,2,    2.52,2,   0.015,2,   0.013,2,-999.000,1,        0,2,  -999.0,9,  -999.0,9,-999.0000,9,  -999.00,-999.000,9,-999.0000,9, -999.00,9, -999.00,9,  -999.0,9,  -999.0,-999.000,9,-999.000,  -999.0,9,-999.000,-999.0000, -999.00,   1.8557,   2.0235,2,20091222,       1118
318M20091121,        P06,     105,          2,         11,         11,2,20091222,       1005,   -32.5000,  -161.8385,       5424,  2616.6,   1.9169,  34.6573,  34.6573,2,    148.1,2,   147.7,2,  125.65,2,   35.57,2,    0.00,2,    2.52,2,   0.011,2,   0.010,2,-999.000,1,        0,2,  2315.6,2,  2413.2,2,   7.5771,2,    25.00,  -0.006,2,-999.0000,9, -999.00,9, -999.00,9,  -999.0,9,  -999.0,-999.000,9,-999.000,  -999.0,9,   0.016,-999.0000, -999.00,   1.7274,   1.9168,2,20091222,       1111
318M20091121,        P06,     105,          2,         10,         10,2,20091222,       1005,   -32.5000,  -161.8385,       5424,  2870.4,   1.8358,  34.6652,  34.6650,2,    150.0,2,   149.9,2,  127.50,2,   35.47,2,    0.00,2,    2.51,2,   0.005,2,   0.008,2,-999.000,1,        0,2,  -999.0,9,  -999.0,9,-999.0000,9,  -999.00,   0.001,2,-999.0000,9, -999.00,9, -999.00,9,  -999.0,9,  -999.0,-999.000,9,-999.000,  -999.0,9,   0.016,-999.0000, -999.00,   1.6241,   1.8358,2,20091222,       1105
318M20091121,        P06,     105,          2,          9,          9,2,20091222,       1005,   -32.5000,  -161.8385,       5424,  3141.0,   1.7419,  34.6754,  34.6761,2,    155.7,2,   155.1,2,  127.48,2,   35.05,2,    0.00,2,    2.48,2,   0.005,2,   0.005,2,-999.000,1,        0,2,  2313.2,2,  2402.3,2,   7.5829,2,    25.00,   0.001,2,-999.0000,9, -999.00,9, -999.00,9,  -999.0,9,  -999.0,-999.000,9,-999.000,  -999.0,9,   0.016,-999.0000, -999.00,   1.5060,   1.7416,2,20091222,       1059
318M20091121,        P06,     105,          2,          8,          8,2,20091222,       1005,   -32.5000,  -161.8385,       5424,  3448.0,   1.6411,  34.6924,  34.6932,2,    168.5,2,   169.5,2,  121.22,2,   33.80,2,    0.00,2,    2.38,2,   0.018,2,   0.014,2,-999.000,1,        0,2,  -999.0,9,  -999.0,9,-999.0000,9,  -999.00,   0.006,2,-999.0000,9, -999.00,9, -999.00,9,  -999.0,9,  -999.0,-999.000,9,-999.000,  -999.0,9,   0.016,-999.0000, -999.00,   1.3766,   1.6409,2,20091222,       1052
318M20091121,        P06,     105,          2,          7,          7,2,20091222,       1005,   -32.5000,  -161.8385,       5424,  3756.3,   1.4992,  34.7105,  34.7109,2,    187.2,2,   187.3,2,  112.89,2,   32.31,2,    0.00,2,    2.28,2,   0.020,2,   0.015,2,-999.000,1,        0,2,  2274.5,2,  2374.0,2,   7.6074,2,    25.00,   0.000,2,-999.0000,9, -999.00,9, -999.00,9,  -999.0,9,  -999.0,-999.000,9,-999.000,  -999.0,9,   0.016,-999.0000, -999.00,   1.2062,   1.4995,2,20091222,       1046
318M20091121,        P06,     105,          2,          6,          6,2,20091222,       1005,   -32.5000,  -161.8385,       5424,  4098.6,   1.2853,  34.7165,  34.7170,2,    199.6,2,   200.2,2,  112.24,2,   31.60,2,    0.00,2,    2.22,2,   0.027,2,   0.017,2,-999.000,1,        0,2,  -999.0,9,  -999.0,9,-999.0000,9,  -999.00,   0.008,2,-999.0000,9, -999.00,9, -999.00,9,  -999.0,9,  -999.0,-999.000,9,-999.000,  -999.0,9,   0.016,-999.0000, -999.00,   0.9615,   1.2856,2,20091222,       1038
318M20091121,        P06,     105,          2,          5,          5,2,20091222,       1005,   -32.5000,  -161.8385,       5424,  4516.3,   1.0862,  34.7114,  34.7117,2,    205.2,2,   204.7,2,  117.41,2,   31.69,2,    0.00,2,    2.23,2,   0.067,2,   0.037,2,-999.000,1,        0,2,  2265.0,2,  2366.4,2,   7.6174,2,    25.00,  -0.003,2,-999.0000,9, -999.00,9, -999.00,9,  -999.0,9,  -999.0,-999.000,9,-999.000,  -999.0,9,   0.016,-999.0000, -999.00,   0.7220,   1.0863,2,20091222,       1029
318M20091121,        P06,     105,          2,          4,          4,2,20091222,       1005,   -32.5000,  -161.8385,       5424,  4885.7,   1.0569,  34.7089,  34.7086,2,    206.1,2,   206.2,2,  119.25,2,   31.84,2,    0.00,2,    2.22,2,   0.077,2,   0.042,2,-999.000,1,        0,2,  -999.0,9,  -999.0,9,-999.0000,9,  -999.00,  -0.023,2,-999.0000,9, -999.00,9, -999.00,9,  -999.0,9,  -999.0,-999.000,9,-999.000,  -999.0,9,   0.016,-999.0000, -999.00,   0.6510,   1.0572,2,20091222,       1022
318M20091121,        P06,     105,          2,          3,          3,2,20091222,       1005,   -32.5000,  -161.8385,       5424,  5094.4,   1.0692,  34.7085,  34.7092,2,    206.2,2,   206.6,2,  119.85,2,   31.83,2,    0.00,2,    2.23,2,   0.082,2,   0.045,2,-999.000,1,        0,2,  2264.1,2,  2365.8,6,   7.6168,2,    25.00,  -0.004,2,-999.0000,9, -999.00,9, -999.00,9,  -999.0,9,  -999.0,-999.000,9,-999.000,  -999.0,9,   0.016,-999.0000, -999.00,   0.6380,   1.0692,2,20091222,       1016
318M20091121,        P06,     105,          2,          2,          2,2,20091222,       1005,   -32.5000,  -161.8385,       5424,  5308.3,   1.0934,  34.7082,  34.7085,2,    207.1,2,   206.9,2,  120.03,2,   31.82,2,    0.00,2,    2.23,2,   0.087,2,   0.047,2,-999.000,1,        0,2,  -999.0,9,  -999.0,9,-999.0000,9,  -999.00,   0.009,2,-999.0000,9, -999.00,9, -999.00,9,  -999.0,9,  -999.0,-999.000,9,-999.000,  -999.0,9,   0.016,-999.0000, -999.00,   0.6353,   1.0932,2,20091222,       1011
318M20091121,        P06,     105,          2,          1,          1,2,20091222,       1005,   -32.5000,  -161.8385,       5424,  5512.7,   1.1189,  34.7081,  34.7093,2,    206.7,2,   206.8,2,  120.01,2,   31.87,2,    0.00,2,    2.22,2,   0.077,2,   0.039,2,-999.000,1,        0,2,  2265.1,6,  2368.7,2,   7.6165,2,    25.00,  -0.009,2,-999.0000,9, -999.00,9, -999.00,9,  -999.0,9,  -999.0,-999.000,9,-999.000,  -999.0,9,   0.016,-999.0000, -999.00,   0.6344,   1.1188,2,20091222,       1005