BOTTLE,20220818CCHSIOAMB
EXPOCODE,SECT_ID,STNNBR,CASTNO,SAMPNO,BTLNBR,BTLNBR_FLAG_W,DATE,TIME,LATITUDE,LONGITUDE,DEPTH,CTDPRS,CTDTMP,CTDSAL,SALNTY,SALNTY_FLAG_W,CTDOXY,CTDOXY_FLAG_W,OXYGEN,OXYGEN_FLAG_W,SILCAT,SILCAT_FLAG_W,NITRAT,NITRAT_FLAG_W,NITRIT,NITRIT_FLAG_W,PHSPHT,PHSPHT_FLAG_W,CFC-11,CFC-11_FLAG_W,CFC-12,CFC-12_FLAG_W,CFC113,CFC113_FLAG_W,SF6,SF6_FLAG_W,TCARBN,TCARBN_FLAG_W,ALKALI,ALKALI_FLAG_W,PH_SWS,PH_SWS_FLAG_W,PH_TMP,TRITUM,TRITUM_FLAG_W,HELIUM,HELIUM_FLAG_W,DELHE3,DELHE3_FLAG_W,DELC13,DELC13_FLAG_W,DELC14,DELC14_FLAG_W,C14ERR,NEON,NEON_FLAG_W,NEONER,DOC,DOC_FLAG_W,TRITER,HELIER,DELHER,THETA,SBE35,SBE35_FLAG_W,BTL_DATE,BTL_TIME
,,,,,,,,,,,METERS,DBAR,ITS-90,PSS-78,PSS-78,,UMOL/KG,,UMOL/KG,,UMOL/KG,,UMOL/KG,,UMOL/KG,,UMOL/KG,,PMOL/KG,,PMOL/KG,,PMOL/KG,,FMOL/KG,,UMOL/KG,,UMOL/KG,,,,DEG C,TU,,NMOL/KG,,PERCNT,,/MILLE,,/MILLE,,/MILLE,NMOL/KG,,NMOL/KG,UMOL/KG,,TU,NMOL/KG,PERCNT,DEG C,ITS-90,,,
318M20091121,        P06,      67,          1,         34,         34,2,20091209,       1843,   -31.8600,   178.2733,       3541,     5.9,  21.0267,  35.6668,  35.6674,2,    227.0,2,   226.8,2,    0.36,2,    0.00,2,    0.00,2,    0.08,2,   1.876,2,   1.234,2,-999.000,1,    1.173,2,  2041.4,6,  2337.0,2,   8.1971,4,    25.00,-999.000,9,-999.0000,9, -999.00,9, -999.00,9,  -999.0,9,  -999.0,-999.000,9,-999.000,  -999.0,9,-999.000,-999.0000, -999.00,  21.0256,  21.0267,2,20091209,       2042
318M20091121,        P06,      67,          1,         33,         33,2,20091209,       1843,   -31.8600,   178.2733,       3541,    20.5,  20.7705,  35.6523,  35.6479,2,    228.8,2,   230.0,2,    0.10,2,    0.00,2,    0.00,2,    0.07,2,   1.923,6,   1.251,6,-999.000,1,   1.1695,6,  -999.0,9,  -999.0,9,-999.0000,9,  -999.00,-999.000,9,-999.0000,9, -999.00,9, -999.00,9,  -999.0,9,  -999.0,-999.000,9,-999.000,  -999.0,9,-999.000,-999.0000, -999.00,  20.7666,  20.7992,3,20091209,       2040
318M20091121,        P06,      67,          1,         32,         32,2,20091209,       1843,   -31.8600,   178.2733,       3541,    40.5,  19.1614,  35.6080,  35.6202,3,    239.3,2,   239.3,2,    0.03,2,    0.00,2,    0.00,2,    0.08,2,   2.074,2,   1.319,2,-999.000,1,    1.184,2,  -999.0,9,  -999.0,9,-999.0000,9,  -999.00,-999.000,9,-999.0000,9, -999.00,9, -999.00,9,  -999.0,9,  -999.0,-999.000,9,-999.000,  -999.0,9,-999.000,-999.0000, -999.00,  19.1541,  19.1597,2,20091209,       2038
318M20091121,        P06,      67,          1,         31,         31,2,20091209,       1843,   -31.8600,   178.2733,       3541,    64.7,  17.5997,  35.5860,  35.5900,2,    230.2,2,   229.0,2,    0.35,2,    0.19,2,    0.21,2,    0.17,2,   2.177,2,   1.382,2,-999.000,1,    1.153,2,  2060.2,2,  2333.2,6,   7.9844,2,    25.00,-999.000,9,-999.0000,9, -999.00,9, -999.00,9,  -999.0,9,  -999.0,-999.000,9,-999.000,  -999.0,9,-999.000,-999.0000, -999.00,  17.5888,  17.6001,2,20091209,       2035
318M20091121,        P06,      67,          1,         30,         30,2,20091209,       1843,   -31.8600,   178.2733,       3541,    91.1,  17.1123,  35.5863,  35.5839,2,    224.0,2,   221.4,2,    0.49,2,    2.19,2,    0.04,2,    0.27,2,   2.167,2,   1.367,2,-999.000,1,    1.132,2,  -999.0,9,  -999.0,9,-999.0000,9,  -999.00,-999.000,9,-999.0000,9, -999.00,9, -999.00,9,  -999.0,9,  -999.0,-999.000,9,-999.000,  -999.0,9,-999.000,-999.0000, -999.00,  17.0972,  17.1126,2,20091209,       2033
318M20091121,        P06,      67,          1,         29,         29,2,20091209,       1843,   -31.8600,   178.2733,       3541,   116.4,  16.8775,  35.5907,  35.5912,2,    220.4,2,   223.8,2,    0.62,2,    2.70,2,    0.02,2,    0.29,2,   2.196,2,   1.389,2,-999.000,1,    1.112,2,  2072.3,2,  2341.2,3,   7.8241,4,    25.00,-999.000,9,-999.0000,9, -999.00,9, -999.00,9,  -999.0,9,  -999.0,-999.000,9,-999.000,  -999.0,9,-999.000,-999.0000, -999.00,  16.8583,  16.8738,2,20091209,       2030
318M20091121,        P06,      67,          1,         28,         28,2,20091209,       1843,   -31.8600,   178.2733,       3541,   141.5,  16.7404,  35.5926,  35.5894,2,    222.4,2,   224.6,2,    0.74,2,    2.84,2,    0.02,2,    0.30,2,-999.000,5,-999.000,5,-999.000,1,-999.0000,5,  -999.0,9,  -999.0,9,-999.0000,9,  -999.00,-999.000,9,-999.0000,9, -999.00,9, -999.00,9,  -999.0,9,  -999.0,-999.000,9,-999.000,  -999.0,9,-999.000,-999.0000, -999.00,  16.7172,  16.7408,2,20091209,       2028
318M20091121,        P06,      67,          1,         27,         27,2,20091209,       1843,   -31.8600,   178.2733,       3541,   188.0,  16.5416,  35.5740,  35.5699,2,    224.1,2,   223.5,2,    0.87,2,    3.38,2,    0.01,2,    0.33,2,   2.286,2,   1.437,2,-999.000,1,    1.125,2,  2075.8,2,  2330.8,2,   7.9530,2,    25.00,-999.000,9,-999.0000,9, -999.00,9, -999.00,9,  -999.0,9,  -999.0,-999.000,9,-999.000,  -999.0,9,-999.000,-999.0000, -999.00,  16.5110,  16.5407,2,20091209,       2025
318M20091121,        P06,      67,          1,         26,         26,2,20091209,       1843,   -31.8600,   178.2733,       3541,   233.6,  16.2490,  35.5427,  35.5407,2,    224.2,2,   220.4,2,    1.00,2,    4.24,2,    0.01,2,    0.39,2,   2.285,2,   1.401,2,-999.000,1,    1.121,2,  -999.0,9,  -999.0,9,-999.0000,9,  -999.00,-999.000,9,-999.0000,9, -999.00,9, -999.00,9,  -999.0,9,  -999.0,-999.000,9,-999.000,  -999.0,9,-999.000,-999.0000, -999.00,  16.2114,  16.2508,2,20091209,       2023
318M20091121,        P06,      67,          1,         25,         25,2,20091209,       1843,   -31.8600,   178.2733,       3541,   283.4,  15.4826,  35.4585,  35.4593,2,    220.0,2,   220.1,2,    1.53,2,    5.20,2,    0.01,2,    0.46,2,   2.366,2,   1.443,2,-999.000,1,    1.108,2,  2090.1,2,  2325.2,2,   7.3825,4,    25.00,-999.000,9,-999.0000,9, -999.00,9, -999.00,9,  -999.0,9,  -999.0,-999.000,9,-999.000,  -999.0,9,-999.000,-999.0000, -999.00,  15.4385,  15.4826,2,20091209,       2020
318M20091121,        P06,      67,          1,         24,         24,2,20091209,       1843,   -31.8600,   178.2733,       3541,   334.8,  14.7518,  35.3884,  35.3868,2,    222.1,2,   222.6,2,    1.85,2,    5.97,2,    0.01,2,    0.52,2,   2.439,2,   1.483,2,-999.000,1,    1.084,2,  -999.0,9,  -999.0,9,-999.0000,9,  -999.00,-999.000,9,-999.0000,9, -999.00,9, -999.00,9,  -999.0,9,  -999.0,-999.000,9,-999.000,  -999.0,9,-999.000,-999.0000, -999.00,  14.7013,  14.7521,2,20091209,       2017
318M20091121,        P06,      67,          1,         23,         23,2,20091209,       1843,   -31.8600,   178.2733,       3541,   385.7,  14.0618,  35.2968,  35.2949,2,    216.8,2,   216.8,2,    2.18,2,    7.74,2,    0.01,2,    0.63,2,   2.467,2,   1.488,2,-999.000,1,    1.074,2,  2105.5,2,  2318.3,2,   7.8828,2,    25.00,-999.000,9,-999.0000,9, -999.00,9, -999.00,9,  -999.0,9,  -999.0,-999.000,9,-999.000,  -999.0,9,-999.000,-999.0000, -999.00,  14.0054,  14.0546,2,20091209,       2015
318M20091121,        P06,      67,          1,         22,         22,2,20091209,       1843,   -31.8600,   178.2733,       3541,   436.1,  13.1723,  35.1684,  35.1694,2,    207.6,2,   206.5,2,    2.90,2,   10.31,2,    0.01,2,    0.79,2,   2.482,2,   1.464,2,-999.000,1,    1.061,2,  -999.0,9,  -999.0,9,-999.0000,9,  -999.00,-999.000,9,-999.0000,9, -999.00,9, -999.00,9,  -999.0,9,  -999.0,-999.000,9,-999.000,  -999.0,9,-999.000,-999.0000, -999.00,  13.1112,  13.1721,2,20091209,       2012
318M20091121,        P06,      67,          1,         21,         21,2,20091209,       1843,   -31.8600,   178.2733,       3541,   487.1,  12.2294,  35.0504,  35.0474,2,    205.2,2,   205.6,2,    3.42,2,   12.39,2,    0.01,2,    0.92,2,   2.554,2,   1.482,2,-999.000,1,     0.75,2,  2125.5,2,  2305.7,2,   7.7084,4,    25.00,-999.000,9,-999.0000,9, -999.00,9, -999.00,9,  -999.0,9,  -999.0,-999.000,9,-999.000,  -999.0,9,-999.000,-999.0000, -999.00,  12.1643,  12.2309,2,20091209,       2009
318M20091121,        P06,      67,          1,         20,         20,2,20091209,       1843,   -31.8600,   178.2733,       3541,   568.2,  10.5750,  34.8265,  34.8253,2,    204.4,2,   204.5,2,    4.74,2,   16.17,2,    0.00,2,    1.15,2,   2.547,2,   1.433,2,-999.000,1,     0.54,2,  2137.4,2,  2297.4,2,   7.4269,4,    25.00,-999.000,9,-999.0000,9, -999.00,9, -999.00,9,  -999.0,9,  -999.0,-999.000,9,-999.000,  -999.0,9,-999.000,-999.0000, -999.00,  10.5056,  10.5743,2,20091209,       2006
318M20091121,        P06,      67,          1,         19,         19,2,20091209,       1843,   -31.8600,   178.2733,       3541,   670.4,   8.8002,  34.6022,  34.6051,2,    212.0,2,   212.0,2,    6.27,2,   19.65,2,    0.00,2,    1.38,2,   2.400,2,   1.281,2,-999.000,1,    0.406,2,  2144.5,2,  2290.1,2,   7.8121,4,    25.00,-999.000,9,-999.0000,9, -999.00,9, -999.00,9,  -999.0,9,  -999.0,-999.000,9,-999.000,  -999.0,9,-999.000,-999.0000, -999.00,   8.7267,   8.8023,2,20091209,       2003
318M20091121,        P06,      67,          1,         18,         18,2,20091209,       1843,   -31.8600,   178.2733,       3541,   766.8,   7.7882,  34.5026,  34.5027,2,    217.3,2,   217.4,2,    8.19,2,   21.83,2,    0.00,2,    1.53,2,   2.344,2,   1.224,2,-999.000,1,     0.39,2,  2148.4,2,  2287.4,2,   7.7223,3,    25.00,-999.000,9,-999.0000,9, -999.00,9, -999.00,9,  -999.0,9,  -999.0,-999.000,9,-999.000,  -999.0,9,-999.000,-999.0000, -999.00,   7.7095,   7.7924,2,20091209,       1959
318M20091121,        P06,      67,          1,         17,         17,2,20091209,       1843,   -31.8600,   178.2733,       3541,   869.0,   6.9723,  34.4354,  34.4335,2,    216.8,2,   216.6,2,   11.52,2,   23.86,2,    0.00,2,    1.66,2,   1.832,2,   0.924,2,-999.000,1,    0.243,2,  2155.5,2,  2289.7,2,   7.7080,3,    25.00,-999.000,9,-999.0000,9, -999.00,9, -999.00,9,  -999.0,9,  -999.0,-999.000,9,-999.000,  -999.0,9,-999.000,-999.0000, -999.00,   6.8879,   6.9698,2,20091209,       1955
318M20091121,        P06,      67,          1,         16,         16,2,20091209,       1843,   -31.8600,   178.2733,       3541,   970.6,   6.0761,  34.3826,  34.3879,3,    213.4,2,   213.0,2,   16.65,2,   26.09,2,    0.00,2,    1.82,2,   1.305,2,   0.677,2,-999.000,1,    0.148,2,  2166.5,6,  2290.3,2,   7.6883,3,    25.00,-999.000,9,-999.0000,9, -999.00,9, -999.00,9,  -999.0,9,  -999.0,-999.000,9,-999.000,  -999.0,9,-999.000,-999.0000, -999.00,   5.9877,   6.0868,2,20091209,       1952
318M20091121,        P06,      67,          1,         15,         15,2,20091209,       1843,   -31.8600,   178.2733,       3541,  1073.0,   5.3493,  34.3691,  34.3698,2,    203.8,2,   203.8,2,   24.40,2,   28.27,2,    0.00,2,    1.98,2,   0.818,2,   0.428,2,-999.000,1,    0.052,2,  -999.0,9,  -999.0,9,-999.0000,9,  -999.00,-999.000,9,-999.0000,9, -999.00,9, -999.00,9,  -999.0,9,  -999.0,-999.000,9,-999.000,  -999.0,9,-999.000,-999.0000, -999.00,   5.2567,   5.3603,2,20091209,       1948
318M20091121,        P06,      67,          1,         14,         14,2,20091209,       1843,   -31.8600,   178.2733,       3541,  1174.9,   4.7846,  34.3798,  34.3791,2,    193.4,2,   194.7,2,   33.19,2,   29.98,2,    0.00,2,    2.10,2,   0.506,2,   0.268,2,-999.000,1,        0,2,  -999.0,9,  -999.0,9,-999.0000,9,  -999.00,-999.000,9,-999.0000,9, -999.00,9, -999.00,9,  -999.0,9,  -999.0,-999.000,9,-999.000,  -999.0,9,-999.000,-999.0000, -999.00,   4.6874,   4.7869,2,20091209,       1944
318M20091121,        P06,      67,          1,         13,         13,2,20091209,       1843,   -31.8600,   178.2733,       3541,  1276.6,   4.1989,  34.4112,  34.4098,2,    183.4,2,   183.8,2,   45.07,2,   31.56,2,    0.00,2,    2.22,2,   0.295,2,   0.168,2,-999.000,1,        0,2,  2217.0,2,  2315.6,2,   7.6194,2,    25.00,-999.000,9,-999.0000,9, -999.00,9, -999.00,9,  -999.0,9,  -999.0,-999.000,9,-999.000,  -999.0,9,-999.000,-999.0000, -999.00,   4.0979,   4.2097,2,20091209,       1941
318M20091121,        P06,      67,          1,         12,         12,2,20091209,       1843,   -31.8600,   178.2733,       3541,  1373.6,   3.8081,  34.4692,  34.4739,3,    174.5,2,   174.2,2,   59.26,2,   32.38,2,    0.00,2,    2.28,2,   0.195,2,   0.111,2,-999.000,1,        0,2,  -999.0,9,  -999.0,9,-999.0000,9,  -999.00,-999.000,9,-999.0000,9, -999.00,9, -999.00,9,  -999.0,9,  -999.0,-999.000,9,-999.000,  -999.0,9,-999.000,-999.0000, -999.00,   3.7024,   3.8124,2,20091209,       1938
318M20091121,        P06,      67,          1,         11,         11,2,20091209,       1843,   -31.8600,   178.2733,       3541,  1476.0,   3.3540,  34.5037,  34.5028,2,    167.7,2,   167.4,2,   71.26,2,   33.29,2,    0.00,2,    2.36,2,   0.104,2,   0.062,2,-999.000,1,        0,2,  2250.8,2,  2344.7,2,   7.5949,2,    25.00,-999.000,9,-999.0000,9, -999.00,9, -999.00,9,  -999.0,9,  -999.0,-999.000,9,-999.000,  -999.0,9,-999.000,-999.0000, -999.00,   3.2443,   3.3547,2,20091209,       1934
318M20091121,        P06,      67,          1,         10,         10,2,20091209,       1843,   -31.8600,   178.2733,       3541,  1578.6,   3.0725,  34.5427,  34.5423,2,    162.6,2,   162.9,2,   82.49,2,   33.68,2,    0.00,2,    2.39,2,   0.072,2,   0.042,2,-999.000,1,        0,2,  -999.0,9,  -999.0,9,-999.0000,9,  -999.00,-999.000,9,-999.0000,9, -999.00,9, -999.00,9,  -999.0,9,  -999.0,-999.000,9,-999.000,  -999.0,9,-999.000,-999.0000, -999.00,   2.9573,   3.0710,2,20091209,       1931
318M20091121,        P06,      67,          1,          9,          9,2,20091209,       1843,   -31.8600,   178.2733,       3541,  1681.2,   2.8576,  34.5763,  34.5766,2,    159.5,2,   159.8,2,   91.71,2,   33.86,2,    0.00,2,    2.41,2,   0.061,2,   0.036,2,-999.000,1,        0,2,  -999.0,9,  -999.0,9,-999.0000,9,  -999.00,-999.000,9,-999.0000,9, -999.00,9, -999.00,9,  -999.0,9,  -999.0,-999.000,9,-999.000,  -999.0,9,-999.000,-999.0000, -999.00,   2.7362,   2.8569,2,20091209,       1928
318M20091121,        P06,      67,          1,          8,          8,2,20091209,       1843,   -31.8600,   178.2733,       3541,  1777.8,   2.7196,  34.5984,  34.5990,2,    157.5,2,   157.3,2,   98.05,2,   34.01,2,    0.00,2,    2.43,2,   0.052,2,   0.030,2,-999.000,1,        0,2,  -999.0,9,  -999.0,9,-999.0000,9,  -999.00,-999.000,9,-999.0000,9, -999.00,9, -999.00,9,  -999.0,9,  -999.0,-999.000,9,-999.000,  -999.0,9,-999.000,-999.0000, -999.00,   2.5917,   2.7200,2,20091209,       1925
318M20091121,        P06,      67,          1,          7,          7,2,20091209,       1843,   -31.8600,   178.2733,       3541,  1951.7,   2.4649,  34.6216,  34.6210,2,    154.9,2,   155.2,2,  105.64,2,   34.35,2,    0.00,2,    2.45,2,   0.031,2,   0.020,2,-999.000,1,        0,2,  2290.2,2,  2384.9,2,   7.5875,2,    25.00,-999.000,9,-999.0000,9, -999.00,9, -999.00,9,  -999.0,9,  -999.0,-999.000,9,-999.000,  -999.0,9,-999.000,-999.0000, -999.00,   2.3256,   2.4662,2,20091209,       1921
318M20091121,        P06,      67,          1,          6,          6,2,20091209,       1843,   -31.8600,   178.2733,       3541,  2157.4,   2.2196,  34.6429,  34.6431,2,    153.7,2,   153.5,2,  113.45,2,   34.59,2,    0.00,2,    2.47,2,   0.020,2,   0.012,2,-999.000,1,        0,2,  -999.0,9,  -999.0,9,-999.0000,9,  -999.00,-999.000,9,-999.0000,9, -999.00,9, -999.00,9,  -999.0,9,  -999.0,-999.000,9,-999.000,  -999.0,9,-999.000,-999.0000, -999.00,   2.0661,   2.2188,2,20091209,       1916
318M20091121,        P06,      67,          1,          5,          5,2,20091209,       1843,   -31.8600,   178.2733,       3541,  2356.8,   2.0404,  34.6585,  34.6585,2,    153.6,2,   153.6,2,  118.16,2,   34.73,2,    0.00,2,    2.48,2,   0.011,2,   0.006,2,-999.000,1,        0,2,  -999.0,9,  -999.0,9,-999.0000,9,  -999.00,-999.000,9,-999.0000,9, -999.00,9, -999.00,9,  -999.0,9,  -999.0,-999.000,9,-999.000,  -999.0,9,-999.000,-999.0000, -999.00,   1.8723,   2.0399,2,20091209,       1911
318M20091121,        P06,      67,          1,          4,          4,2,20091209,       1843,   -31.8600,   178.2733,       3541,  2562.0,   1.9173,  34.6695,  34.6693,2,    153.9,2,   154.5,2,  121.64,2,   34.73,2,    0.00,2,    2.48,2,   0.008,2,   0.005,2,-999.000,1,        0,2,  -999.0,9,  -999.0,9,-999.0000,9,  -999.00,-999.000,9,-999.0000,9, -999.00,9, -999.00,9,  -999.0,9,  -999.0,-999.000,9,-999.000,  -999.0,9,-999.000,-999.0000, -999.00,   1.7328,   1.9173,2,20091209,       1906
318M20091121,        P06,      67,          1,          3,          3,2,20091209,       1843,   -31.8600,   178.2733,       3541,  2762.9,   1.8668,  34.6748,  34.6746,2,    154.2,2,   154.0,2,  123.25,2,   34.78,2,    0.00,2,    2.48,2,   0.007,2,   0.004,2,-999.000,1,        0,2,  2311.6,2,  2404.5,6,   7.5879,2,    25.00,-999.000,9,-999.0000,9, -999.00,9, -999.00,9,  -999.0,9,  -999.0,-999.000,9,-999.000,  -999.0,9,-999.000,-999.0000, -999.00,   1.6646,   1.8663,2,20091209,       1901
318M20091121,        P06,      67,          1,          2,          2,2,20091209,       1843,   -31.8600,   178.2733,       3541,  3169.3,   1.8322,  34.6803,  34.6803,2,    154.2,2,   154.8,2,  125.27,2,   34.78,2,    0.00,2,    2.48,2,   0.008,2,   0.004,2,-999.000,1,        0,2,  -999.0,9,  -999.0,9,-999.0000,9,  -999.00,-999.000,9,-999.0000,9, -999.00,9, -999.00,9,  -999.0,9,  -999.0,-999.000,9,-999.000,  -999.0,9,-999.000,-999.0000, -999.00,   1.5914,   1.8320,2,20091209,       1852
318M20091121,        P06,      67,          1,          1,          1,2,20091209,       1843,   -31.8600,   178.2733,       3541,  3586.8,   1.8479,  34.6820,  34.6827,2,    154.0,2,   154.0,2,  126.04,2,   34.88,2,    0.00,2,    2.48,2,   0.007,2,   0.003,2,-999.000,1,        0,2,  2315.0,6,  2367.8,4,   7.5913,6,    25.00,-999.000,9,-999.0000,9, -999.00,9, -999.00,9,  -999.0,9,  -999.0,-999.000,9,-999.000,  -999.0,9,-999.000,-999.0000, -999.00,   1.5639,   1.8478,2,20091209,       1843