BOTTLE,20220818CCHSIOAMB
EXPOCODE,SECT_ID,STNNBR,CASTNO,SAMPNO,BTLNBR,BTLNBR_FLAG_W,DATE,TIME,LATITUDE,LONGITUDE,DEPTH,CTDPRS,CTDTMP,CTDSAL,SALNTY,SALNTY_FLAG_W,CTDOXY,CTDOXY_FLAG_W,OXYGEN,OXYGEN_FLAG_W,SILCAT,SILCAT_FLAG_W,NITRAT,NITRAT_FLAG_W,NITRIT,NITRIT_FLAG_W,PHSPHT,PHSPHT_FLAG_W,CFC-11,CFC-11_FLAG_W,CFC-12,CFC-12_FLAG_W,CFC113,CFC113_FLAG_W,SF6,SF6_FLAG_W,TCARBN,TCARBN_FLAG_W,ALKALI,ALKALI_FLAG_W,PH_SWS,PH_SWS_FLAG_W,PH_TMP,TRITUM,TRITUM_FLAG_W,HELIUM,HELIUM_FLAG_W,DELHE3,DELHE3_FLAG_W,DELC13,DELC13_FLAG_W,DELC14,DELC14_FLAG_W,C14ERR,NEON,NEON_FLAG_W,NEONER,DOC,DOC_FLAG_W,TRITER,HELIER,DELHER,THETA,SBE35,SBE35_FLAG_W,BTL_DATE,BTL_TIME
,,,,,,,,,,,METERS,DBAR,ITS-90,PSS-78,PSS-78,,UMOL/KG,,UMOL/KG,,UMOL/KG,,UMOL/KG,,UMOL/KG,,UMOL/KG,,PMOL/KG,,PMOL/KG,,PMOL/KG,,FMOL/KG,,UMOL/KG,,UMOL/KG,,,,DEG C,TU,,NMOL/KG,,PERCNT,,/MILLE,,/MILLE,,/MILLE,NMOL/KG,,NMOL/KG,UMOL/KG,,TU,NMOL/KG,PERCNT,DEG C,ITS-90,,,
318M20091121,        P06,      51,          2,         24,         24,2,20091205,       1252,   -30.0801,   171.4997,       2266,     4.3,  21.6485,  35.6652,  35.6683,2,    224.6,2,   224.6,2,    0.43,2,    0.06,2,    0.00,2,    0.10,2,   1.800,2,   1.296,2,-999.000,1,    1.131,2,  2041.1,6,  2335.3,6,   8.0323,2,    25.00,-999.000,9,-999.0000,9, -999.00,9, -999.00,9,  -999.0,9,  -999.0,-999.000,9,-999.000,  -999.0,9,-999.000,-999.0000, -999.00,  21.6477,  21.6481,2,20091205,       1404
318M20091121,        P06,      51,          2,         23,         23,2,20091205,       1252,   -30.0801,   171.4997,       2266,    34.3,  19.2187,  35.6298,  35.6328,2,    237.9,2,   237.9,2,    0.42,2,    0.00,2,    0.00,2,    0.11,2,   1.949,6,   1.381,6,-999.000,1,    1.122,6,  -999.0,9,  -999.0,9,-999.0000,9,  -999.00,-999.000,9,-999.0000,9, -999.00,9, -999.00,9,  -999.0,9,  -999.0,-999.000,9,-999.000,  -999.0,9,-999.000,-999.0000, -999.00,  19.2125,  19.2110,2,20091205,       1402
318M20091121,        P06,      51,          2,         22,         22,2,20091205,       1252,   -30.0801,   171.4997,       2266,    60.5,  18.0826,  35.5931,  35.5943,2,    235.6,2,   236.0,2,    0.60,2,   -0.03,2,    0.03,2,    0.14,2,   1.989,2,   1.397,2,-999.000,1,    1.122,2,  -999.0,9,  -999.0,9,-999.0000,9,  -999.00,-999.000,9,-999.0000,9, -999.00,9, -999.00,9,  -999.0,9,  -999.0,-999.000,9,-999.000,  -999.0,9,-999.000,-999.0000, -999.00,  18.0722,  18.0852,2,20091205,       1400
318M20091121,        P06,      51,          2,         21,         21,2,20091205,       1252,   -30.0801,   171.4997,       2266,    84.0,  17.7555,  35.5809,  35.5825,2,    228.6,2,   229.0,2,    0.78,2,    0.09,2,    0.11,2,    0.20,2,   2.016,2,   1.413,2,-999.000,1,    1.118,2,  2055.2,2,  2328.0,2,   8.0004,6,    25.00,-999.000,9,-999.0000,9, -999.00,9, -999.00,9,  -999.0,9,  -999.0,-999.000,9,-999.000,  -999.0,9,-999.000,-999.0000, -999.00,  17.7412,  17.7569,2,20091205,       1358
318M20091121,        P06,      51,          2,         20,         20,2,20091205,       1252,   -30.0801,   171.4997,       2266,   114.8,  17.3132,  35.5664,  35.5673,2,    222.9,2,   221.9,2,    0.97,2,    0.70,2,    0.16,2,    0.26,2,   2.032,2,   1.432,2,-999.000,1,     1.15,2,  -999.0,9,  -999.0,9,-999.0000,9,  -999.00,-999.000,9,-999.0000,9, -999.00,9, -999.00,9,  -999.0,9,  -999.0,-999.000,9,-999.000,  -999.0,9,-999.000,-999.0000, -999.00,  17.2940,  17.3114,2,20091205,       1357
318M20091121,        P06,      51,          2,         19,         19,2,20091205,       1252,   -30.0801,   171.4997,       2266,   165.6,  16.2508,  35.4933,  35.4943,2,    211.0,2,   209.5,2,    1.73,2,    3.92,2,    0.02,2,    0.46,2,   2.068,2,   1.451,2,-999.000,1,    1.134,2,  2084.4,2,  2322.7,2,   7.9410,2,    25.00,-999.000,9,-999.0000,9, -999.00,9, -999.00,9,  -999.0,9,  -999.0,-999.000,9,-999.000,  -999.0,9,-999.000,-999.0000, -999.00,  16.2242,  16.2503,2,20091205,       1354
318M20091121,        P06,      51,          2,         18,         18,2,20091205,       1252,   -30.0801,   171.4997,       2266,   216.4,  15.6641,  35.4518,  35.4532,2,    206.3,2,   207.3,2,    2.11,2,    5.03,2,    0.01,2,    0.53,2,   2.100,2,   1.446,2,-999.000,1,    1.066,2,  -999.0,9,  -999.0,9,-999.0000,9,  -999.00,-999.000,9,-999.0000,9, -999.00,9, -999.00,9,  -999.0,9,  -999.0,-999.000,9,-999.000,  -999.0,9,-999.000,-999.0000, -999.00,  15.6302,  15.6637,2,20091205,       1352
318M20091121,        P06,      51,          2,         17,         17,2,20091205,       1252,   -30.0801,   171.4997,       2266,   267.6,  14.5276,  35.3240,  35.3277,2,    199.9,2,   200.0,2,    2.87,2,    7.69,2,    0.01,2,    0.70,2,   2.093,2,   1.433,2,-999.000,1,    1.009,2,  2105.7,2,  2317.1,2,   7.8810,2,    25.00,-999.000,9,-999.0000,9, -999.00,9, -999.00,9,  -999.0,9,  -999.0,-999.000,9,-999.000,  -999.0,9,-999.000,-999.0000, -999.00,  14.4877,  14.5333,2,20091205,       1350
318M20091121,        P06,      51,          2,         16,         16,2,20091205,       1252,   -30.0801,   171.4997,       2266,   318.2,  13.8960,  35.2512,  35.2536,2,    196.2,2,   195.8,2,    3.45,2,    9.29,2,    0.01,2,    0.80,2,   2.066,2,   1.403,2,-999.000,1,    0.938,2,  -999.0,9,  -999.0,9,-999.0000,9,  -999.00,-999.000,9,-999.0000,9, -999.00,9, -999.00,9,  -999.0,9,  -999.0,-999.000,9,-999.000,  -999.0,9,-999.000,-999.0000, -999.00,  13.8499,  13.8989,2,20091205,       1347
318M20091121,        P06,      51,          2,         15,         15,2,20091205,       1252,   -30.0801,   171.4997,       2266,   369.1,  12.7367,  35.1239,  35.1242,2,    196.0,2,   196.1,2,    4.60,2,   11.54,2,    0.01,2,    0.94,2,   2.076,2,   1.381,2,-999.000,1,    0.757,2,  2123.2,2,  2310.3,2,   7.8295,2,    25.00,-999.000,9,-999.0000,9, -999.00,9, -999.00,9,  -999.0,9,  -999.0,-999.000,9,-999.000,  -999.0,9,-999.000,-999.0000, -999.00,  12.6862,  12.7347,2,20091205,       1345
318M20091121,        P06,      51,          2,         14,         14,2,20091205,       1252,   -30.0801,   171.4997,       2266,   436.3,  11.6613,  35.0039,  35.0064,2,    196.9,2,   197.1,2,    5.96,2,   13.68,2,    0.01,2,    1.06,2,   2.090,2,   1.371,2,-999.000,1,    0.691,2,  -999.0,9,  -999.0,9,-999.0000,9,  -999.00,-999.000,9,-999.0000,9, -999.00,9, -999.00,9,  -999.0,9,  -999.0,-999.000,9,-999.000,  -999.0,9,-999.000,-999.0000, -999.00,  11.6049,  11.6729,2,20091205,       1343
318M20091121,        P06,      51,          2,         13,         13,2,20091205,       1252,   -30.0801,   171.4997,       2266,   538.2,   9.8520,  34.7703,  34.7757,2,    199.2,2,   199.9,2,    8.10,2,   17.53,2,    0.01,2,    1.30,2,   2.006,2,   1.273,2,-999.000,1,    0.514,2,  2142.6,2,  2296.5,6,   7.7629,4,    25.00,-999.000,9,-999.0000,9, -999.00,9, -999.00,9,  -999.0,9,  -999.0,-999.000,9,-999.000,  -999.0,9,-999.000,-999.0000, -999.00,   9.7892,   9.8514,2,20091205,       1340
318M20091121,        P06,      51,          2,         12,         12,2,20091205,       1252,   -30.0801,   171.4997,       2266,   637.8,   8.4466,  34.6154,  34.6166,2,    201.8,2,   203.5,2,   11.23,2,   20.64,2,    0.00,2,    1.49,2,   1.770,2,   1.094,2,-999.000,1,    0.373,2,  2151.9,2,  2290.7,2,   7.7231,2,    25.00,-999.000,9,-999.0000,9, -999.00,9, -999.00,9,  -999.0,9,  -999.0,-999.000,9,-999.000,  -999.0,9,-999.000,-999.0000, -999.00,   8.3785,   8.4423,2,20091205,       1336
318M20091121,        P06,      51,          2,         11,         11,2,20091205,       1252,   -30.0801,   171.4997,       2266,   740.1,   7.1772,  34.4913,  34.4919,2,    204.0,2,   206.7,2,   15.34,2,   23.49,2,    0.00,2,    1.68,2,   1.408,2,   0.860,2,-999.000,1,    0.162,2,  2160.2,2,  2291.0,2,   7.6994,2,    25.00,-999.000,9,-999.0000,9, -999.00,9, -999.00,9,  -999.0,9,  -999.0,-999.000,9,-999.000,  -999.0,9,-999.000,-999.0000, -999.00,   7.1048,   7.1745,2,20091205,       1333
318M20091121,        P06,      51,          2,         10,         10,2,20091205,       1252,   -30.0801,   171.4997,       2266,   841.7,   6.5593,  34.4615,  34.4652,2,    202.3,2,   202.1,2,   20.66,2,   25.23,2,    0.00,2,    1.80,2,   1.119,2,   0.680,2,-999.000,1,    0.154,2,  2170.7,2,  2302.1,2,   7.6926,2,    25.00,-999.000,9,-999.0000,9, -999.00,9, -999.00,9,  -999.0,9,  -999.0,-999.000,9,-999.000,  -999.0,9,-999.000,-999.0000, -999.00,   6.4803,   6.5585,2,20091205,       1330
318M20091121,        P06,      51,          2,          9,          9,2,20091205,       1252,   -30.0801,   171.4997,       2266,   940.8,   5.8314,  34.4442,  34.4450,2,    195.0,2,   195.7,2,   28.37,2,   27.30,2,    0.00,2,    1.93,2,   0.784,2,   0.483,2,-999.000,1,    0.071,2,  2184.6,2,  -999.0,5,   7.6623,6,    25.00,-999.000,9,-999.0000,9, -999.00,9, -999.00,9,  -999.0,9,  -999.0,-999.000,9,-999.000,  -999.0,9,-999.000,-999.0000, -999.00,   5.7476,   5.8316,2,20091205,       1327
318M20091121,        P06,      51,          2,          8,          8,2,20091205,       1252,   -30.0801,   171.4997,       2266,  1044.2,   4.9814,  34.4268,  34.4275,2,    188.6,2,   189.3,2,   38.30,2,   29.60,2,    0.00,2,    2.08,2,   0.467,2,   0.294,2,-999.000,1,        0,2,  2201.9,2,  -999.0,5,   7.6473,2,    25.00,-999.000,9,-999.0000,9, -999.00,9, -999.00,9,  -999.0,9,  -999.0,-999.000,9,-999.000,  -999.0,9,-999.000,-999.0000, -999.00,   4.8943,   4.9826,2,20091205,       1324
318M20091121,        P06,      51,          2,          7,          7,2,20091205,       1252,   -30.0801,   171.4997,       2266,  1142.8,   4.3978,  34.4548,  34.4556,2,    179.9,2,   180.3,2,   50.27,2,   31.13,2,    0.00,2,    2.19,2,   0.301,2,   0.193,2,-999.000,1,        0,2,  -999.0,9,  -999.0,9,-999.0000,9,  -999.00,-999.000,9,-999.0000,9, -999.00,9, -999.00,9,  -999.0,9,  -999.0,-999.000,9,-999.000,  -999.0,9,-999.000,-999.0000, -999.00,   4.3067,   4.3980,2,20091205,       1321
318M20091121,        P06,      51,          2,          6,          6,2,20091205,       1252,   -30.0801,   171.4997,       2266,  1243.9,   4.1213,  34.5097,  34.5107,2,    172.1,2,   171.8,2,   62.71,2,   31.72,2,    0.00,2,    2.24,2,   0.271,2,   0.182,2,-999.000,1,        0,2,  -999.0,9,  -999.0,9,-999.0000,9,  -999.00,-999.000,9,-999.0000,9, -999.00,9, -999.00,9,  -999.0,9,  -999.0,-999.000,9,-999.000,  -999.0,9,-999.000,-999.0000, -999.00,   4.0237,   4.1233,2,20091205,       1317
318M20091121,        P06,      51,          2,          5,          5,2,20091205,       1252,   -30.0801,   171.4997,       2266,  1346.0,   3.6739,  34.5290,  34.5298,2,    167.5,2,   167.8,2,   72.58,2,   32.64,2,    0.00,2,    2.30,2,   0.177,2,   0.116,2,-999.000,1,        0,2,  2249.0,2,  2344.7,2,   7.6136,2,    25.00,-999.000,9,-999.0000,9, -999.00,9, -999.00,9,  -999.0,9,  -999.0,-999.000,9,-999.000,  -999.0,9,-999.000,-999.0000, -999.00,   3.5719,   3.6738,2,20091205,       1314
318M20091121,        P06,      51,          2,          4,          4,2,20091205,       1252,   -30.0801,   171.4997,       2266,  1475.6,   3.2993,  34.5617,  34.5616,2,    161.6,2,   162.1,2,   83.30,2,   33.34,2,    0.00,2,    2.35,2,   0.124,2,   0.085,2,-999.000,1,        0,2,  -999.0,9,  -999.0,9,-999.0000,9,  -999.00,-999.000,9,-999.0000,9, -999.00,9, -999.00,9,  -999.0,9,  -999.0,-999.000,9,-999.000,  -999.0,9,-999.000,-999.0000, -999.00,   3.1901,   3.2998,2,20091205,       1310
318M20091121,        P06,      51,          2,          3,          3,2,20091205,       1252,   -30.0801,   171.4997,       2266,  1680.1,   2.8205,  34.5921,  34.5930,2,    157.9,2,   158.4,2,   95.48,2,   34.10,2,    0.00,2,    2.40,2,   0.062,2,   0.043,2,-999.000,1,        0,2,  2279.1,2,  2375.4,6,   7.5825,2,    25.00,-999.000,9,-999.0000,9, -999.00,9, -999.00,9,  -999.0,9,  -999.0,-999.000,9,-999.000,  -999.0,9,-999.000,-999.0000, -999.00,   2.6996,   2.8212,2,20091205,       1305
318M20091121,        P06,      51,          2,          2,          2,2,20091205,       1252,   -30.0801,   171.4997,       2266,  1953.5,   2.3913,  34.6298,  34.6309,2,    154.9,2,   156.2,2,  108.10,2,   34.58,2,    0.00,2,    2.44,2,   0.046,2,   0.035,2,-999.000,1,        0,2,  -999.0,9,  -999.0,9,-999.0000,9,  -999.00,-999.000,9,-999.0000,9, -999.00,9, -999.00,9,  -999.0,9,  -999.0,-999.000,9,-999.000,  -999.0,9,-999.000,-999.0000, -999.00,   2.2529,   2.3917,2,20091205,       1300
318M20091121,        P06,      51,          2,          1,          1,2,20091205,       1252,   -30.0801,   171.4997,       2266,  2275.0,   2.0918,  34.6542,  34.6551,2,    154.0,2,   154.1,2,  117.08,2,   34.94,2,    0.00,2,    2.46,2,   0.018,2,   0.019,2,-999.000,1,        0,2,  2291.3,2,  2399.7,2,   7.5833,2,    25.00,-999.000,9,-999.0000,9, -999.00,9, -999.00,9,  -999.0,9,  -999.0,-999.000,9,-999.000,  -999.0,9,-999.000,-999.0000, -999.00,   1.9301,   2.0925,2,20091205,       1252