BOTTLE,20220818CCHSIOAMB
EXPOCODE,SECT_ID,STNNBR,CASTNO,SAMPNO,BTLNBR,BTLNBR_FLAG_W,DATE,TIME,LATITUDE,LONGITUDE,DEPTH,CTDPRS,CTDTMP,CTDSAL,SALNTY,SALNTY_FLAG_W,CTDOXY,CTDOXY_FLAG_W,OXYGEN,OXYGEN_FLAG_W,SILCAT,SILCAT_FLAG_W,NITRAT,NITRAT_FLAG_W,NITRIT,NITRIT_FLAG_W,PHSPHT,PHSPHT_FLAG_W,CFC-11,CFC-11_FLAG_W,CFC-12,CFC-12_FLAG_W,CFC113,CFC113_FLAG_W,SF6,SF6_FLAG_W,TCARBN,TCARBN_FLAG_W,ALKALI,ALKALI_FLAG_W,PH_SWS,PH_SWS_FLAG_W,PH_TMP,TRITUM,TRITUM_FLAG_W,HELIUM,HELIUM_FLAG_W,DELHE3,DELHE3_FLAG_W,DELC13,DELC13_FLAG_W,DELC14,DELC14_FLAG_W,C14ERR,NEON,NEON_FLAG_W,NEONER,DOC,DOC_FLAG_W,TRITER,HELIER,DELHER,THETA,SBE35,SBE35_FLAG_W,BTL_DATE,BTL_TIME
,,,,,,,,,,,METERS,DBAR,ITS-90,PSS-78,PSS-78,,UMOL/KG,,UMOL/KG,,UMOL/KG,,UMOL/KG,,UMOL/KG,,UMOL/KG,,PMOL/KG,,PMOL/KG,,PMOL/KG,,FMOL/KG,,UMOL/KG,,UMOL/KG,,,,DEG C,TU,,NMOL/KG,,PERCNT,,/MILLE,,/MILLE,,/MILLE,NMOL/KG,,NMOL/KG,UMOL/KG,,TU,NMOL/KG,PERCNT,DEG C,ITS-90,,,
318M20091121,        P06,      75,          1,         36,         36,2,20091211,       1607,   -32.5004,  -178.4695,       4338,     5.5,  20.4172,  35.5609,  35.5826,3,    231.2,2,   230.2,2,    1.04,2,    0.00,2,    0.00,2,    0.15,2,   2.151,2,   1.340,2,-999.000,1,    1.268,2,  2057.3,6,  2335.4,2,   7.9924,6,    25.00,-999.000,9,-999.0000,9, -999.00,9, -999.00,9,  -999.0,9,  -999.0,-999.000,9,-999.000,  -999.0,9,-999.000,-999.0000, -999.00,  20.4162,  20.3781,3,20091211,       1823
318M20091121,        P06,      75,          1,         35,         35,2,20091211,       1607,   -32.5004,  -178.4695,       4338,    34.6,  18.2179,  35.4884,  35.4844,2,    250.1,2,   249.3,2,    0.94,2,    0.00,2,    0.00,2,    0.14,2,   2.381,6,   1.466,6,-999.000,1,    1.307,6,  -999.0,9,  -999.0,9,-999.0000,9,  -999.00,-999.000,9,-999.0000,9, -999.00,9, -999.00,9,  -999.0,9,  -999.0,-999.000,9,-999.000,  -999.0,9,-999.000,-999.0000, -999.00,  18.2119,  18.3069,3,20091211,       1820
318M20091121,        P06,      75,          1,         34,         34,2,20091211,       1607,   -32.5004,  -178.4695,       4338,    59.2,  15.7375,  35.4194,  35.4190,2,    258.6,2,   250.2,2,    1.22,2,    0.29,2,    0.06,2,    0.21,2,   2.518,2,   1.540,2,-999.000,1,    1.354,2,  -999.0,9,  2326.4,6,   7.9665,2,    25.00,-999.000,9,-999.0000,9, -999.00,9, -999.00,9,  -999.0,9,  -999.0,-999.000,9,-999.000,  -999.0,9,-999.000,-999.0000, -999.00,  15.7282,  15.7369,2,20091211,       1817
318M20091121,        P06,      75,          1,         33,         33,2,20091211,       1607,   -32.5004,  -178.4695,       4338,    84.7,  14.7405,  35.3635,  35.3592,2,    237.3,2,   231.6,2,    1.69,2,    4.21,2,    0.07,2,    0.42,2,   2.584,2,   1.564,2,-999.000,1,    1.289,2,  -999.0,9,  -999.0,9,-999.0000,9,  -999.00,-999.000,9,-999.0000,9, -999.00,9, -999.00,9,  -999.0,9,  -999.0,-999.000,9,-999.000,  -999.0,9,-999.000,-999.0000, -999.00,  14.7278,  14.7323,2,20091211,       1814
318M20091121,        P06,      75,          1,         32,         32,2,20091211,       1607,   -32.5004,  -178.4695,       4338,   110.3,  14.2068,  35.3127,  35.3126,2,    227.8,2,   225.2,2,    2.16,2,    5.85,2,    0.03,2,    0.51,2,   2.601,2,   1.574,2,-999.000,1,    1.302,2,  -999.0,9,  2318.9,2,   7.8972,2,    25.00,-999.000,9,-999.0000,9, -999.00,9, -999.00,9,  -999.0,9,  -999.0,-999.000,9,-999.000,  -999.0,9,-999.000,-999.0000, -999.00,  14.1907,  14.2107,2,20091211,       1812
318M20091121,        P06,      75,          1,         31,         31,2,20091211,       1607,   -32.5004,  -178.4695,       4338,   135.1,  13.7477,  35.2661,  35.2585,2,    229.8,2,   224.2,2,    2.43,2,    6.87,2,    0.01,2,    0.58,2,   2.643,2,   1.595,2,-999.000,1,    1.232,2,  -999.0,9,  -999.0,9,-999.0000,9,  -999.00,-999.000,9,-999.0000,9, -999.00,9, -999.00,9,  -999.0,9,  -999.0,-999.000,9,-999.000,  -999.0,9,-999.000,-999.0000, -999.00,  13.7284,  13.7593,2,20091211,       1810
318M20091121,        P06,      75,          1,         30,         30,2,20091211,       1607,   -32.5004,  -178.4695,       4338,   165.6,  13.2123,  35.1964,  35.1948,2,    223.5,2,   219.2,2,    2.72,2,    8.42,2,    0.01,2,    0.67,2,   2.654,2,   1.586,2,-999.000,1,    1.125,2,  -999.0,9,  2313.6,2,   7.8633,2,    25.00,-999.000,9,-999.0000,9, -999.00,9, -999.00,9,  -999.0,9,  -999.0,-999.000,9,-999.000,  -999.0,9,-999.000,-999.0000, -999.00,  13.1893,  13.2104,2,20091211,       1807
318M20091121,        P06,      75,          1,         29,         29,2,20091211,       1607,   -32.5004,  -178.4695,       4338,   216.4,  12.4003,  35.0886,  35.0865,2,    211.4,2,   211.5,2,    3.57,2,   11.14,2,    0.01,2,    0.83,2,   2.701,2,   1.586,2,-999.000,1,    1.047,2,  -999.0,9,  2308.3,2,   7.8285,2,    25.00,-999.000,9,-999.0000,9, -999.00,9, -999.00,9,  -999.0,9,  -999.0,-999.000,9,-999.000,  -999.0,9,-999.000,-999.0000, -999.00,  12.3714,  12.4000,2,20091211,       1805
318M20091121,        P06,      75,          1,         28,         28,2,20091211,       1607,   -32.5004,  -178.4695,       4338,   268.0,  11.5269,  34.9612,  34.9626,2,    208.7,2,   207.4,2,    4.42,2,   13.58,2,    0.00,2,    0.98,2,   2.702,2,   1.558,2,-999.000,1,    0.961,2,  -999.0,9,  -999.0,9,-999.0000,9,  -999.00,-999.000,9,-999.0000,9, -999.00,9, -999.00,9,  -999.0,9,  -999.0,-999.000,9,-999.000,  -999.0,9,-999.000,-999.0000, -999.00,  11.4927,  11.5387,2,20091211,       1802
318M20091121,        P06,      75,          1,         27,         27,2,20091211,       1607,   -32.5004,  -178.4695,       4338,   317.9,  10.6364,  34.8392,  34.8383,2,    205.9,2,   205.7,2,    5.27,2,   15.79,2,    0.00,2,    1.11,2,   2.701,2,   1.549,2,-999.000,1,    1.016,2,  -999.0,9,  2300.0,2,   7.7768,2,    25.00,-999.000,9,-999.0000,9, -999.00,9, -999.00,9,  -999.0,9,  -999.0,-999.000,9,-999.000,  -999.0,9,-999.000,-999.0000, -999.00,  10.5979,  10.6372,2,20091211,       1800
318M20091121,        P06,      75,          1,         26,         26,2,20091211,       1607,   -32.5004,  -178.4695,       4338,   369.0,   9.9338,  34.7491,  34.7489,2,    206.6,2,   206.4,2,    6.12,2,   17.42,2,    0.00,2,    1.23,2,   2.705,2,   1.531,2,-999.000,1,    0.782,2,  -999.0,9,  -999.0,9,-999.0000,9,  -999.00,-999.000,9,-999.0000,9, -999.00,9, -999.00,9,  -999.0,9,  -999.0,-999.000,9,-999.000,  -999.0,9,-999.000,-999.0000, -999.00,   9.8909,   9.9342,2,20091211,       1757
318M20091121,        P06,      75,          1,         25,         25,2,20091211,       1607,   -32.5004,  -178.4695,       4338,   419.4,   9.3222,  34.6750,  34.6753,2,    207.8,2,   208.2,2,    6.78,2,   18.72,2,    0.00,2,    1.32,2,   2.708,2,   1.506,2,-999.000,1,     0.72,2,  -999.0,9,  2292.4,2,   7.7453,2,    25.00,-999.000,9,-999.0000,9, -999.00,9, -999.00,9,  -999.0,9,  -999.0,-999.000,9,-999.000,  -999.0,9,-999.000,-999.0000, -999.00,   9.2752,   9.3215,2,20091211,       1754
318M20091121,        P06,      75,          1,         24,         24,2,20091211,       1607,   -32.5004,  -178.4695,       4338,   465.6,   8.7449,  34.6075,  34.6080,2,    211.5,2,   211.3,2,    7.63,2,   19.89,2,    0.00,2,    1.40,2,   2.691,2,   1.473,2,-999.000,1,    0.586,2,  -999.0,9,  -999.0,9,-999.0000,9,  -999.00,-999.000,9,-999.0000,9, -999.00,9, -999.00,9,  -999.0,9,  -999.0,-999.000,9,-999.000,  -999.0,9,-999.000,-999.0000, -999.00,   8.6947,   8.7441,2,20091211,       1752
318M20091121,        P06,      75,          1,         23,         23,2,20091211,       1607,   -32.5004,  -178.4695,       4338,   536.3,   8.1323,  34.5388,  34.5383,2,    215.2,2,   215.6,2,    8.49,2,   21.07,2,    0.00,2,    1.47,2,   2.645,2,   1.431,2,-999.000,1,    0.602,2,  -999.0,9,  2288.1,2,   7.7271,2,    25.00,-999.000,9,-999.0000,9, -999.00,9, -999.00,9,  -999.0,9,  -999.0,-999.000,9,-999.000,  -999.0,9,-999.000,-999.0000, -999.00,   8.0767,   8.1311,2,20091211,       1749
318M20091121,        P06,      75,          1,         22,         22,2,20091211,       1607,   -32.5004,  -178.4695,       4338,   638.8,   7.4720,  34.4762,  34.4754,2,    216.6,2,   217.8,2,   10.29,2,   22.59,2,    0.00,2,    1.57,2,   2.387,2,   1.272,2,-999.000,1,    0.454,2,  -999.0,9,  2286.7,2,   7.7161,2,    25.00,-999.000,9,-999.0000,9, -999.00,9, -999.00,9,  -999.0,9,  -999.0,-999.000,9,-999.000,  -999.0,9,-999.000,-999.0000, -999.00,   7.4085,   7.4706,2,20091211,       1746
318M20091121,        P06,      75,          1,         21,         21,2,20091211,       1607,   -32.5004,  -178.4695,       4338,   740.2,   6.9392,  34.4459,  34.4457,2,    217.9,2,   214.1,2,   13.43,2,   24.09,2,    0.00,2,    1.67,2,   1.856,2,   0.970,2,-999.000,1,    0.248,2,  -999.0,9,  2288.2,2,   7.7038,2,    25.00,-999.000,9,-999.0000,9, -999.00,9, -999.00,9,  -999.0,9,  -999.0,-999.000,9,-999.000,  -999.0,9,-999.000,-999.0000, -999.00,   6.8681,   6.9364,2,20091211,       1743
318M20091121,        P06,      75,          1,         20,         20,2,20091211,       1607,   -32.5004,  -178.4695,       4338,   841.7,   6.3570,  34.4190,  34.4221,2,    207.8,2,   208.3,2,   18.30,2,   25.85,2,    0.00,2,    1.80,2,   1.349,2,   0.711,2,-999.000,1,    0.199,2,  -999.0,9,  2292.8,2,   7.6873,2,    25.00,-999.000,9,-999.0000,9, -999.00,9, -999.00,9,  -999.0,9,  -999.0,-999.000,9,-999.000,  -999.0,9,-999.000,-999.0000, -999.00,   6.2793,   6.3538,2,20091211,       1739
318M20091121,        P06,      75,          1,         19,         19,2,20091211,       1607,   -32.5004,  -178.4695,       4338,   938.9,   5.7528,  34.4117,  34.4102,2,    199.8,2,   199.8,2,   25.50,2,   27.63,2,    0.00,2,    1.93,2,   0.937,2,   0.490,2,-999.000,1,        0,2,  -999.0,9,  2297.8,6,   7.6662,2,    25.00,-999.000,9,-999.0000,9, -999.00,9, -999.00,9,  -999.0,9,  -999.0,-999.000,9,-999.000,  -999.0,9,-999.000,-999.0000, -999.00,   5.6698,   5.7478,2,20091211,       1736
318M20091121,        P06,      75,          1,         18,         18,2,20091211,       1607,   -32.5004,  -178.4695,       4338,  1040.4,   5.0839,  34.4060,  34.4050,2,    192.7,2,   192.7,2,   33.30,2,   29.36,2,    0.00,2,    2.04,2,   0.643,2,   0.336,2,-999.000,1,    0.041,2,  -999.0,9,  2304.2,2,   7.6438,2,    25.00,-999.000,9,-999.0000,9, -999.00,9, -999.00,9,  -999.0,9,  -999.0,-999.000,9,-999.000,  -999.0,9,-999.000,-999.0000, -999.00,   4.9964,   5.0858,2,20091211,       1733
318M20091121,        P06,      75,          1,         17,         17,2,20091211,       1607,   -32.5004,  -178.4695,       4338,  1147.7,   4.2609,  34.4075,  34.4064,2,    186.1,2,   184.9,2,   43.65,2,   31.32,2,    0.00,2,    2.19,2,   0.342,2,   0.186,2,-999.000,1,        0,2,  -999.0,9,  -999.0,9,-999.0000,9,  -999.00,-999.000,9,-999.0000,9, -999.00,9, -999.00,9,  -999.0,9,  -999.0,-999.000,9,-999.000,  -999.0,9,-999.000,-999.0000, -999.00,   4.1707,   4.2613,2,20091211,       1730
318M20091121,        P06,      75,          1,         16,         16,2,20091211,       1607,   -32.5004,  -178.4695,       4338,  1242.9,   3.7663,  34.4332,  34.4324,2,    179.3,2,   178.1,2,   53.23,2,   32.43,2,    0.00,2,    2.28,2,   0.218,2,   0.130,2,-999.000,1,        0,2,  -999.0,9,  2321.8,2,   7.6044,2,    25.00,-999.000,9,-999.0000,9, -999.00,9, -999.00,9,  -999.0,9,  -999.0,-999.000,9,-999.000,  -999.0,9,-999.000,-999.0000, -999.00,   3.6724,   3.7660,2,20091211,       1726
318M20091121,        P06,      75,          1,         15,         15,2,20091211,       1607,   -32.5004,  -178.4695,       4338,  1343.8,   3.5354,  34.4804,  34.4784,2,    173.0,2,   171.7,2,   63.15,2,   32.84,2,    0.00,2,    2.32,2,   0.127,2,   0.078,2,-999.000,1,        0,2,  -999.0,9,  -999.0,9,-999.0000,9,  -999.00,-999.000,9,-999.0000,9, -999.00,9, -999.00,9,  -999.0,9,  -999.0,-999.000,9,-999.000,  -999.0,9,-999.000,-999.0000, -999.00,   3.4351,   3.5354,2,20091211,       1723
318M20091121,        P06,      75,          1,         14,         14,2,20091211,       1607,   -32.5004,  -178.4695,       4338,  1446.6,   3.3002,  34.5292,  34.5283,2,    166.2,2,   166.3,2,   75.66,2,   33.11,2,    0.00,2,    2.34,2,   0.112,2,   0.068,2,-999.000,1,        0,2,  -999.0,9,  -999.0,9,-999.0000,9,  -999.00,-999.000,9,-999.0000,9, -999.00,9, -999.00,9,  -999.0,9,  -999.0,-999.000,9,-999.000,  -999.0,9,-999.000,-999.0000, -999.00,   3.1936,   3.2996,2,20091211,       1720
318M20091121,        P06,      75,          1,         13,         13,2,20091211,       1607,   -32.5004,  -178.4695,       4338,  1545.7,   3.0544,  34.5449,  34.5417,2,    162.1,2,   163.1,2,   80.89,2,   33.67,2,    0.00,2,    2.38,2,   0.071,2,   0.044,2,-999.000,1,        0,2,  -999.0,9,  2355.8,2,   7.5904,2,    25.00,-999.000,9,-999.0000,9, -999.00,9, -999.00,9,  -999.0,9,  -999.0,-999.000,9,-999.000,  -999.0,9,-999.000,-999.0000, -999.00,   2.9422,   3.0524,2,20091211,       1716
318M20091121,        P06,      75,          1,         12,         12,2,20091211,       1607,   -32.5004,  -178.4695,       4338,  1647.7,   2.8333,  34.5823,  34.5816,2,    159.3,2,   159.4,2,   92.30,2,   33.71,2,    0.00,2,    2.40,2,   0.062,2,   0.039,2,-999.000,1,        0,2,  -999.0,9,  -999.0,9,-999.0000,9,  -999.00,-999.000,9,-999.0000,9, -999.00,9, -999.00,9,  -999.0,9,  -999.0,-999.000,9,-999.000,  -999.0,9,-999.000,-999.0000, -999.00,   2.7150,   2.8333,2,20091211,       1713
318M20091121,        P06,      75,          1,         11,         11,2,20091211,       1607,   -32.5004,  -178.4695,       4338,  1750.5,   2.6425,  34.6036,  34.6028,2,    157.0,2,   156.8,2,   99.36,2,   33.89,2,    0.00,2,    2.41,2,   0.055,2,   0.037,2,-999.000,1,        0,2,  -999.0,9,  -999.0,9,-999.0000,9,  -999.00,-999.000,9,-999.0000,9, -999.00,9, -999.00,9,  -999.0,9,  -999.0,-999.000,9,-999.000,  -999.0,9,-999.000,-999.0000, -999.00,   2.5180,   2.6423,2,20091211,       1710
318M20091121,        P06,      75,          1,         10,         10,2,20091211,       1607,   -32.5004,  -178.4695,       4338,  1884.2,   2.4295,  34.6205,  34.6210,2,    154.9,2,   154.4,2,  106.26,2,   34.35,2,    0.00,2,    2.44,2,   0.027,2,   0.017,2,-999.000,1,        0,2,  -999.0,9,  -999.0,9,-999.0000,9,  -999.00,-999.000,9,-999.0000,9, -999.00,9, -999.00,9,  -999.0,9,  -999.0,-999.000,9,-999.000,  -999.0,9,-999.000,-999.0000, -999.00,   2.2965,   2.4268,2,20091211,       1706
318M20091121,        P06,      75,          1,          9,          9,2,20091211,       1607,   -32.5004,  -178.4695,       4338,  2103.8,   2.1926,  34.6419,  34.6412,2,    152.9,2,   152.8,2,  112.98,2,   34.54,2,    0.00,2,    2.46,2,   0.014,2,   0.010,2,-999.000,1,    0.153,4,  -999.0,9,  -999.0,9,-999.0000,9,  -999.00,-999.000,9,-999.0000,9, -999.00,9, -999.00,9,  -999.0,9,  -999.0,-999.000,9,-999.000,  -999.0,9,-999.000,-999.0000, -999.00,   2.0443,   2.1926,2,20091211,       1700
318M20091121,        P06,      75,          1,          8,          8,2,20091211,       1607,   -32.5004,  -178.4695,       4338,  2361.1,   1.9543,  34.6657,  34.6656,2,    155.9,2,   156.7,2,  116.68,2,   34.34,2,    0.00,2,    2.44,2,   0.014,2,   0.010,2,-999.000,1,        0,2,  -999.0,9,  2396.2,2,   7.5851,2,    25.00,-999.000,9,-999.0000,9, -999.00,9, -999.00,9,  -999.0,9,  -999.0,-999.000,9,-999.000,  -999.0,9,-999.000,-999.0000, -999.00,   1.7873,   1.9539,2,20091211,       1655
318M20091121,        P06,      75,          1,          7,          7,2,20091211,       1607,   -32.5004,  -178.4695,       4338,  2617.4,   1.7562,  34.7015,  34.7010,2,    175.3,2,   176.4,2,  107.85,2,   32.58,2,    0.00,2,    2.31,2,   0.036,2,   0.023,2,-999.000,1,        0,2,  -999.0,9,  2379.6,3,   7.5988,2,    25.00,-999.000,9,-999.0000,9, -999.00,9, -999.00,9,  -999.0,9,  -999.0,-999.000,9,-999.000,  -999.0,9,-999.000,-999.0000, -999.00,   1.5696,   1.7570,2,20091211,       1649
318M20091121,        P06,      75,          1,          6,          6,2,20091211,       1607,   -32.5004,  -178.4695,       4338,  2874.2,   1.5893,  34.7195,  34.7197,2,    188.2,2,   189.2,2,  104.60,2,   31.56,2,    0.00,2,    2.23,2,   0.055,2,   0.036,2,-999.000,1,        0,2,  -999.0,9,  -999.0,9,-999.0000,9,  -999.00,-999.000,9,-999.0000,9, -999.00,9, -999.00,9,  -999.0,9,  -999.0,-999.000,9,-999.000,  -999.0,9,-999.000,-999.0000, -999.00,   1.3822,   1.5892,2,20091211,       1643
318M20091121,        P06,      75,          1,          5,          5,2,20091211,       1607,   -32.5004,  -178.4695,       4338,  3144.1,   1.4179,  34.7250,  34.7243,2,    197.1,2,   197.0,2,  106.31,2,   31.19,2,    0.00,2,    2.19,2,   0.066,2,   0.040,2,-999.000,1,        0,2,  -999.0,9,  2366.6,2,   7.6161,2,    25.00,-999.000,9,-999.0000,9, -999.00,9, -999.00,9,  -999.0,9,  -999.0,-999.000,9,-999.000,  -999.0,9,-999.000,-999.0000, -999.00,   1.1888,   1.4181,2,20091211,       1636
318M20091121,        P06,      75,          1,          4,          4,2,20091211,       1607,   -32.5004,  -178.4695,       4338,  3445.4,   1.2041,  34.7196,  34.7191,2,    201.9,2,   202.0,2,  111.80,2,   31.33,2,    0.00,2,    2.19,2,   0.069,2,   0.043,2,-999.000,1,        0,2,  -999.0,9,  -999.0,9,-999.0000,9,  -999.00,-999.000,9,-999.0000,9, -999.00,9, -999.00,9,  -999.0,9,  -999.0,-999.000,9,-999.000,  -999.0,9,-999.000,-999.0000, -999.00,   0.9506,   1.2057,3,20091211,       1629
318M20091121,        P06,      75,          1,          3,          3,2,20091211,       1607,   -32.5004,  -178.4695,       4338,  3754.1,   1.0696,  34.7146,  34.7144,2,    204.8,2,   204.3,2,  115.91,2,   31.46,2,    0.00,2,    2.21,2,   0.089,2,   0.054,2,-999.000,1,        0,2,  -999.0,9,  2363.9,2,   7.6164,2,    25.00,-999.000,9,-999.0000,9, -999.00,9, -999.00,9,  -999.0,9,  -999.0,-999.000,9,-999.000,  -999.0,9,-999.000,-999.0000, -999.00,   0.7884,   1.0700,2,20091211,       1622
318M20091121,        P06,      75,          1,          2,          2,2,20091211,       1607,   -32.5004,  -178.4695,       4338,  4187.8,   1.0248,  34.7112,  34.7109,2,    206.8,2,   206.0,2,  118.62,2,   31.60,2,    0.00,2,    2.21,2,   0.112,2,   0.068,2,-999.000,1,        0,2,  -999.0,9,  -999.0,9,-999.0000,9,  -999.00,-999.000,9,-999.0000,9, -999.00,9, -999.00,9,  -999.0,9,  -999.0,-999.000,9,-999.000,  -999.0,9,-999.000,-999.0000, -999.00,   0.6989,   1.0252,2,20091211,       1613
318M20091121,        P06,      75,          1,          1,          1,2,20091211,       1607,   -32.5004,  -178.4695,       4338,  4427.1,   1.0352,  34.7103,  34.7099,2,    206.6,2,   206.5,2,  119.14,2,   31.60,2,    0.00,2,    2.21,2,   0.118,2,   0.072,2,-999.000,1,        0,2,  -999.0,9,  2366.1,6,   7.6170,6,    25.00,-999.000,9,-999.0000,9, -999.00,9, -999.00,9,  -999.0,9,  -999.0,-999.000,9,-999.000,  -999.0,9,-999.000,-999.0000, -999.00,   0.6827,   1.0352,2,20091211,       1607