BOTTLE,20220818CCHSIOAMB
EXPOCODE,SECT_ID,STNNBR,CASTNO,SAMPNO,BTLNBR,BTLNBR_FLAG_W,DATE,TIME,LATITUDE,LONGITUDE,DEPTH,CTDPRS,CTDTMP,CTDSAL,SALNTY,SALNTY_FLAG_W,CTDOXY,CTDOXY_FLAG_W,OXYGEN,OXYGEN_FLAG_W,SILCAT,SILCAT_FLAG_W,NITRAT,NITRAT_FLAG_W,NITRIT,NITRIT_FLAG_W,PHSPHT,PHSPHT_FLAG_W,CFC-11,CFC-11_FLAG_W,CFC-12,CFC-12_FLAG_W,CFC113,CFC113_FLAG_W,SF6,SF6_FLAG_W,TCARBN,TCARBN_FLAG_W,ALKALI,ALKALI_FLAG_W,PH_SWS,PH_SWS_FLAG_W,PH_TMP,TRITUM,TRITUM_FLAG_W,HELIUM,HELIUM_FLAG_W,DELHE3,DELHE3_FLAG_W,DELC13,DELC13_FLAG_W,DELC14,DELC14_FLAG_W,C14ERR,NEON,NEON_FLAG_W,NEONER,DOC,DOC_FLAG_W,TRITER,HELIER,DELHER,THETA,SBE35,SBE35_FLAG_W,BTL_DATE,BTL_TIME
,,,,,,,,,,,METERS,DBAR,ITS-90,PSS-78,PSS-78,,UMOL/KG,,UMOL/KG,,UMOL/KG,,UMOL/KG,,UMOL/KG,,UMOL/KG,,PMOL/KG,,PMOL/KG,,PMOL/KG,,FMOL/KG,,UMOL/KG,,UMOL/KG,,,,DEG C,TU,,NMOL/KG,,PERCNT,,/MILLE,,/MILLE,,/MILLE,NMOL/KG,,NMOL/KG,UMOL/KG,,TU,NMOL/KG,PERCNT,DEG C,ITS-90,,,
318M20091121,        P06,      14,          1,         36,         36,2,20091126,       0108,   -30.0795,   156.2318,       4728,     6.8,  24.6993,  35.4312,  35.4324,2,    212.1,2,   211.9,2,    0.88,2,    0.05,2,    0.00,2,    0.11,2,-999.000,9,-999.000,9,-999.000,9,-999.0000,9,  1996.1,6,  2318.7,2,   8.0776,2,    25.00,-999.000,9,-999.0000,9, -999.00,9, -999.00,9,  -999.0,9,  -999.0,-999.000,9,-999.000,    57.3,2,-999.000,-999.0000, -999.00,  24.6978,  24.7078,2,20091126,       0401
318M20091121,        P06,      14,          1,         35,         35,2,20091126,       0108,   -30.0795,   156.2318,       4728,    49.9,  22.6567,  35.4214,  35.4192,2,    221.4,2,   209.8,2,    0.64,2,    0.04,2,    0.01,2,    0.15,2,-999.000,9,-999.000,9,-999.000,9,-999.0000,9,  -999.0,9,  2313.4,2,   8.0579,2,    25.00,-999.000,9,-999.0000,9, -999.00,9, -999.00,9,  -999.0,9,  -999.0,-999.000,9,-999.000,    55.9,2,-999.000,-999.0000, -999.00,  22.6466,  22.6466,3,20091126,       0357
318M20091121,        P06,      14,          1,         33,         33,2,20091126,       0108,   -30.0795,   156.2318,       4728,    99.9,  20.6299,  35.5437,  35.5395,2,    201.0,2,   201.0,2,    1.03,2,    1.46,2,    0.18,2,    0.22,2,-999.000,9,-999.000,9,-999.000,9,-999.0000,9,  2038.5,2,  2327.1,6,   8.0222,2,    25.00,-999.000,9,-999.0000,9, -999.00,9, -999.00,9,  -999.0,9,  -999.0,-999.000,9,-999.000,    52.8,2,-999.000,-999.0000, -999.00,  20.6110,  20.6257,2,20091126,       0341
318M20091121,        P06,      14,          1,         34,         34,2,20091126,       0108,   -30.0795,   156.2318,       4728,   100.4,  20.6108,  35.5432,  35.5405,2,    201.0,2,   200.6,2,    1.05,2,    1.50,2,    0.19,2,    0.22,2,-999.000,9,-999.000,9,-999.000,9,-999.0000,9,  2038.4,2,  2324.0,2,   8.0192,6,    25.00,-999.000,9,-999.0000,9, -999.00,9, -999.00,9,  -999.0,9,  -999.0,-999.000,9,-999.000,    54.4,2,-999.000,-999.0000, -999.00,  20.5918,  20.6091,2,20091126,       0347
318M20091121,        P06,      14,          1,         32,         32,2,20091126,       0108,   -30.0795,   156.2318,       4728,   151.6,  19.4631,  35.5783,  35.5755,2,    203.0,2,   204.2,2,    0.80,2,    2.60,2,    0.01,2,    0.26,2,-999.000,9,-999.000,9,-999.000,9,-999.0000,9,  2047.7,2,  2327.8,2,   8.0006,2,    25.00,-999.000,9,-999.0000,9, -999.00,9, -999.00,9,  -999.0,9,  -999.0,-999.000,9,-999.000,    51.1,2,-999.000,-999.0000, -999.00,  19.4355,  19.4612,2,20091126,       0337
318M20091121,        P06,      14,          1,         31,         31,2,20091126,       0108,   -30.0795,   156.2318,       4728,   200.5,  18.7094,  35.6169,  35.6182,2,    189.8,2,   188.4,2,    1.20,2,    4.74,2,    0.00,2,    0.40,2,-999.000,9,-999.000,9,-999.000,9,-999.0000,9,  2071.8,2,  2346.9,4,   7.9664,2,    25.00,-999.000,9,-999.0000,9, -999.00,9, -999.00,9,  -999.0,9,  -999.0,-999.000,9,-999.000,    47.5,2,-999.000,-999.0000, -999.00,  18.6739,  18.7112,2,20091126,       0334
318M20091121,        P06,      14,          1,         30,         30,2,20091126,       0108,   -30.0795,   156.2318,       4728,   248.8,  17.8811,  35.5776,  35.5771,2,    206.4,2,   189.7,2,    1.60,2,    5.61,2,    0.00,2,    0.47,2,-999.000,9,-999.000,9,-999.000,9,-999.0000,9,  2079.9,2,  2328.4,2,   7.9504,2,    25.00,-999.000,9,-999.0000,9, -999.00,9, -999.00,9,  -999.0,9,  -999.0,-999.000,9,-999.000,    47.9,2,-999.000,-999.0000, -999.00,  17.8384,  17.8846,2,20091126,       0330
318M20091121,        P06,      14,          1,         29,         29,2,20091126,       0108,   -30.0795,   156.2318,       4728,   299.7,  16.8482,  35.5188,  35.5220,2,    201.2,2,   201.9,2,    1.79,2,    5.65,2,    0.00,2,    0.48,2,-999.000,9,-999.000,9,-999.000,9,-999.0000,9,  2080.3,2,  2325.3,2,-999.0000,9,  -999.00,-999.000,9,-999.0000,9, -999.00,9, -999.00,9,  -999.0,9,  -999.0,-999.000,9,-999.000,    47.7,2,-999.000,-999.0000, -999.00,  16.7987,  16.8485,2,20091126,       0327
318M20091121,        P06,      14,          1,         28,         28,2,20091126,       0108,   -30.0795,   156.2318,       4728,   352.4,  15.5879,  35.3964,  35.3952,2,    189.4,2,   185.3,2,    3.03,2,    9.16,2,    0.00,2,    0.70,2,-999.000,9,-999.000,9,-999.000,9,-999.0000,9,  2104.1,2,  2322.4,2,-999.0000,9,  -999.00,-999.000,9,-999.0000,9, -999.00,9, -999.00,9,  -999.0,9,  -999.0,-999.000,9,-999.000,    46.3,2,-999.000,-999.0000, -999.00,  15.5327,  15.5839,2,20091126,       0325
318M20091121,        P06,      14,          1,         27,         27,2,20091126,       0108,   -30.0795,   156.2318,       4728,   399.8,  14.5036,  35.3016,  35.3056,2,    187.1,2,   189.0,2,    3.43,2,   10.51,2,    0.00,2,    0.80,2,-999.000,9,-999.000,9,-999.000,9,-999.0000,9,  2107.5,2,  2311.0,2,   7.8724,2,    25.00,-999.000,9,-999.0000,9, -999.00,9, -999.00,9,  -999.0,9,  -999.0,-999.000,9,-999.000,  -999.0,5,-999.000,-999.0000, -999.00,  14.4439,  14.5122,2,20091126,       0322
318M20091121,        P06,      14,          1,         26,         26,2,20091126,       0108,   -30.0795,   156.2318,       4728,   453.3,  12.9399,  35.1121,  35.1122,2,    189.1,2,   187.8,2,    5.08,2,   13.53,2,    0.00,2,    1.01,2,-999.000,9,-999.000,9,-999.000,9,-999.0000,9,  2123.2,2,  2318.0,3,-999.0000,9,  -999.00,-999.000,9,-999.0000,9, -999.00,9, -999.00,9,  -999.0,9,  -999.0,-999.000,9,-999.000,    43.8,2,-999.000,-999.0000, -999.00,  12.8771,  12.9402,2,20091126,       0318
318M20091121,        P06,      14,          1,         25,         25,2,20091126,       0108,   -30.0795,   156.2318,       4728,   483.0,  12.4817,  35.1005,  35.1006,2,    193.6,2,   195.0,2,    4.86,2,   13.61,2,    0.00,2,    1.01,2,-999.000,9,-999.000,9,-999.000,9,-999.0000,9,  2126.0,2,  2308.3,2,   7.8227,2,    25.00,-999.000,9,-999.0000,9, -999.00,9, -999.00,9,  -999.0,9,  -999.0,-999.000,9,-999.000,  -999.0,5,-999.000,-999.0000, -999.00,  12.4162,  12.5116,3,20091126,       0317
318M20091121,        P06,      14,          1,         24,         24,2,20091126,       0108,   -30.0795,   156.2318,       4728,   501.7,  12.3752,  35.1307,  35.1292,2,    198.0,2,   202.1,3,    4.63,2,   13.08,2,    0.00,2,    0.98,2,-999.000,9,-999.000,9,-999.000,9,-999.0000,9,  2125.7,2,  2308.9,2,   7.8255,2,    25.00,-999.000,9,-999.0000,9, -999.00,9, -999.00,9,  -999.0,9,  -999.0,-999.000,9,-999.000,  -999.0,9,-999.000,-999.0000, -999.00,  12.3075,  12.3749,2,20091126,       0316
318M20091121,        P06,      14,          1,         23,         23,2,20091126,       0108,   -30.0795,   156.2318,       4728,   602.6,  10.0886,  34.8046,  34.8051,2,    199.5,2,   198.4,2,    7.55,2,   18.44,2,    0.00,2,    1.32,2,-999.000,9,-999.000,9,-999.000,9,-999.0000,9,  2141.0,2,  2295.9,2,-999.0000,9,  -999.00,-999.000,9,-999.0000,9, -999.00,9, -999.00,9,  -999.0,9,  -999.0,-999.000,9,-999.000,    41.6,2,-999.000,-999.0000, -999.00,  10.0170,  10.0916,2,20091126,       0312
318M20091121,        P06,      14,          1,         22,         22,2,20091126,       0108,   -30.0795,   156.2318,       4728,   703.8,   8.3774,  34.6028,  34.6016,2,    198.7,2,   198.4,2,   11.73,2,   22.40,2,    0.00,2,    1.58,2,-999.000,9,-999.000,9,-999.000,9,-999.0000,9,  2153.6,2,  2291.0,2,-999.0000,9,  -999.00,-999.000,9,-999.0000,9, -999.00,9, -999.00,9,  -999.0,9,  -999.0,-999.000,9,-999.000,  -999.0,9,-999.000,-999.0000, -999.00,   8.3023,   8.3772,2,20091126,       0308
318M20091121,        P06,      14,          1,         21,         21,2,20091126,       0108,   -30.0795,   156.2318,       4728,   805.8,   7.1743,  34.4999,  34.4977,2,    196.0,2,   197.5,2,   17.39,2,   25.23,2,    0.00,2,    1.78,2,-999.000,9,-999.000,9,-999.000,9,-999.0000,9,  2165.0,2,  2293.6,2,-999.0000,9,  -999.00,-999.000,9,-999.0000,9, -999.00,9, -999.00,9,  -999.0,9,  -999.0,-999.000,9,-999.000,    38.9,2,-999.000,-999.0000, -999.00,   7.0951,   7.1744,2,20091126,       0300
318M20091121,        P06,      14,          1,         20,         20,2,20091126,       0108,   -30.0795,   156.2318,       4728,   904.4,   6.3671,  34.4644,  34.4635,2,    191.5,2,   192.2,2,   24.55,2,   27.34,2,    0.00,2,    1.93,2,-999.000,9,-999.000,9,-999.000,9,-999.0000,9,  2178.0,2,  2298.6,2,   7.6732,2,    25.00,-999.000,9,-999.0000,9, -999.00,9, -999.00,9,  -999.0,9,  -999.0,-999.000,9,-999.000,  -999.0,9,-999.000,-999.0000, -999.00,   6.2831,   6.3666,2,20091126,       0257
318M20091121,        P06,      14,          1,         19,         19,2,20091126,       0108,   -30.0795,   156.2318,       4728,  1004.3,   5.6057,  34.4440,  34.4429,2,    187.2,2,   187.7,2,   33.22,2,   29.11,2,    0.00,2,    2.05,2,-999.000,9,-999.000,9,-999.000,9,-999.0000,9,  2192.0,2,  2306.2,2,   7.6553,2,    25.00,-999.000,9,-999.0000,9, -999.00,9, -999.00,9,  -999.0,9,  -999.0,-999.000,9,-999.000,    37.7,2,-999.000,-999.0000, -999.00,   5.5175,   5.6057,2,20091126,       0253
318M20091121,        P06,      14,          1,         18,         18,2,20091126,       0108,   -30.0795,   156.2318,       4728,  1106.8,   4.9120,  34.4607,  34.4592,2,    178.6,2,   178.0,2,   45.53,2,   30.98,2,    0.00,2,    2.19,2,-999.000,9,-999.000,9,-999.000,9,-999.0000,9,  2211.4,6,  2316.9,2,   7.6323,2,    25.00,-999.000,9,-999.0000,9, -999.00,9, -999.00,9,  -999.0,9,  -999.0,-999.000,9,-999.000,  -999.0,9,-999.000,-999.0000, -999.00,   4.8197,   4.9122,2,20091126,       0250
318M20091121,        P06,      14,          1,         16,         16,2,20091126,       0108,   -30.0795,   156.2318,       4728,  1203.8,   4.3736,  34.4853,  34.4843,2,    170.5,2,   170.5,2,   57.44,2,   32.25,2,    0.00,2,    2.29,2,-999.000,9,-999.000,9,-999.000,9,-999.0000,9,  2227.6,2,  2330.3,2,   7.6189,2,    25.00,-999.000,9,-999.0000,9, -999.00,9, -999.00,9,  -999.0,9,  -999.0,-999.000,9,-999.000,  -999.0,9,-999.000,-999.0000, -999.00,   4.2773,   4.3748,2,20091126,       0245
318M20091121,        P06,      14,          1,         17,         17,2,20091126,       0108,   -30.0795,   156.2318,       4728,  1204.4,   4.3706,  34.4854,  34.4840,2,    170.1,2,   170.6,2,   57.24,2,   32.25,2,    0.00,2,    2.29,2,-999.000,9,-999.000,9,-999.000,9,-999.0000,9,  2226.9,2,  2328.1,2,-999.0000,9,  -999.00,-999.000,9,-999.0000,9, -999.00,9, -999.00,9,  -999.0,9,  -999.0,-999.000,9,-999.000,    35.9,2,-999.000,-999.0000, -999.00,   4.2743,   4.3742,2,20091126,       0245
318M20091121,        P06,      14,          1,         15,         15,2,20091126,       0108,   -30.0795,   156.2318,       4728,  1409.5,   3.3920,  34.5526,  34.5524,2,    156.4,2,   156.0,2,   81.87,2,   34.36,2,    0.00,2,    2.45,2,-999.000,9,-999.000,9,-999.000,9,-999.0000,9,  2262.6,2,  2375.3,4,   7.5879,2,    25.00,-999.000,9,-999.0000,9, -999.00,9, -999.00,9,  -999.0,9,  -999.0,-999.000,9,-999.000,    35.1,2,-999.000,-999.0000, -999.00,   3.2875,   3.3903,2,20091126,       0239
318M20091121,        P06,      14,          1,         14,         14,2,20091126,       0108,   -30.0795,   156.2318,       4728,  1511.1,   3.0749,  34.5770,  34.5762,2,    153.3,2,   153.6,2,   88.76,2,   34.80,2,    0.00,2,    2.48,2,-999.000,9,-999.000,9,-999.000,9,-999.0000,9,  2271.6,2,  2363.8,2,-999.0000,9,  -999.00,-999.000,9,-999.0000,9, -999.00,9, -999.00,9,  -999.0,9,  -999.0,-999.000,9,-999.000,  -999.0,9,-999.000,-999.0000, -999.00,   2.9653,   3.0747,2,20091126,       0235
318M20091121,        P06,      14,          1,         13,         13,2,20091126,       0108,   -30.0795,   156.2318,       4728,  1613.2,   2.8568,  34.6000,  34.5994,2,    152.9,2,   153.4,2,   93.49,2,   34.90,2,    0.00,2,    2.49,2,-999.000,9,-999.000,9,-999.000,9,-999.0000,9,  2275.2,2,  2365.9,2,   7.5792,2,    25.00,-999.000,9,-999.0000,9, -999.00,9, -999.00,9,  -999.0,9,  -999.0,-999.000,9,-999.000,    36.2,2,-999.000,-999.0000, -999.00,   2.7411,   2.8567,2,20091126,       0232
318M20091121,        P06,      14,          1,         12,         12,2,20091126,       0108,   -30.0795,   156.2318,       4728,  1818.0,   2.5081,  34.6402,  34.6401,2,    158.1,2,   158.4,2,   97.15,2,   34.54,2,    0.00,2,    2.45,2,-999.000,9,-999.000,9,-999.000,9,-999.0000,9,  2276.8,2,  2368.2,2,   7.5832,2,    25.00,-999.000,9,-999.0000,9, -999.00,9, -999.00,9,  -999.0,9,  -999.0,-999.000,9,-999.000,  -999.0,9,-999.000,-999.0000, -999.00,   2.3796,   2.5080,2,20091126,       0227
318M20091121,        P06,      14,          1,         11,         11,2,20091126,       0108,   -30.0795,   156.2318,       4728,  2023.1,   2.2925,  34.6700,  34.6695,2,    165.2,2,   166.1,2,   96.91,2,   33.84,2,    0.00,2,    2.41,2,-999.000,9,-999.000,9,-999.000,9,-999.0000,9,  2273.0,2,  2366.4,2,   7.5901,2,    25.00,-999.000,9,-999.0000,9, -999.00,9, -999.00,9,  -999.0,9,  -999.0,-999.000,9,-999.000,    37.6,2,-999.000,-999.0000, -999.00,   2.1495,   2.2923,2,20091126,       0222
318M20091121,        P06,      14,          1,         10,         10,2,20091126,       0108,   -30.0795,   156.2318,       4728,  2269.4,   2.0654,  34.7017,  34.7013,2,    176.0,2,   176.3,2,   96.90,2,   32.90,2,    0.00,2,    2.34,2,-999.000,9,-999.000,9,-999.000,9,-999.0000,9,  2265.9,2,  2362.6,6,-999.0000,9,  -999.00,-999.000,9,-999.0000,9, -999.00,9, -999.00,9,  -999.0,9,  -999.0,-999.000,9,-999.000,  -999.0,9,-999.000,-999.0000, -999.00,   1.9044,   2.0653,2,20091126,       0216
318M20091121,        P06,      14,          1,          9,          9,2,20091126,       0108,   -30.0795,   156.2318,       4728,  2526.3,   1.8368,  34.7178,  34.7173,2,    183.1,2,   183.0,2,  100.99,2,   32.50,2,    0.00,2,    2.30,2,-999.000,9,-999.000,9,-999.000,9,-999.0000,9,  2265.0,2,  2366.1,2,   7.6094,2,    25.00,-999.000,9,-999.0000,9, -999.00,9, -999.00,9,  -999.0,9,  -999.0,-999.000,9,-999.000,    37.0,2,-999.000,-999.0000, -999.00,   1.6569,   1.8369,2,20091126,       0210
318M20091121,        P06,      14,          1,          8,          8,2,20091126,       0108,   -30.0795,   156.2318,       4728,  2733.8,   1.6250,  34.7228,  34.7226,2,    187.5,2,   187.7,2,  105.74,2,   32.40,2,    0.00,2,    2.29,2,-999.000,9,-999.000,9,-999.000,9,-999.0000,9,  2266.7,2,  2373.3,2,   7.6178,2,    25.00,-999.000,9,-999.0000,9, -999.00,9, -999.00,9,  -999.0,9,  -999.0,-999.000,9,-999.000,  -999.0,9,-999.000,-999.0000, -999.00,   1.4302,   1.6251,2,20091126,       0202
318M20091121,        P06,      14,          1,          7,          7,2,20091126,       0108,   -30.0795,   156.2318,       4728,  3036.4,   1.4150,  34.7221,  34.7222,2,    191.5,2,   191.7,2,  111.15,2,   32.49,2,    0.00,2,    2.31,2,-999.000,9,-999.000,9,-999.000,9,-999.0000,9,  2270.1,2,  2379.1,2,   7.6183,2,    25.00,-999.000,9,-999.0000,9, -999.00,9, -999.00,9,  -999.0,9,  -999.0,-999.000,9,-999.000,    39.2,2,-999.000,-999.0000, -999.00,   1.1964,   1.4152,2,20091126,       0151
318M20091121,        P06,      14,          1,          6,          6,2,20091126,       0108,   -30.0795,   156.2318,       4728,  3340.2,   1.2507,  34.7188,  34.7187,2,    194.3,2,   194.6,2,  115.70,2,   32.63,2,    0.00,2,    2.30,2,-999.000,9,-999.000,9,-999.000,9,-999.0000,9,  2273.0,2,  -999.0,5,   7.6192,2,    25.00,-999.000,9,-999.0000,9, -999.00,9, -999.00,9,  -999.0,9,  -999.0,-999.000,9,-999.000,  -999.0,9,-999.000,-999.0000, -999.00,   1.0065,   1.2504,2,20091126,       0145
318M20091121,        P06,      14,          1,          5,          5,2,20091126,       0108,   -30.0795,   156.2318,       4728,  3648.9,   1.1758,  34.7168,  34.7161,2,    195.6,2,   196.2,2,  118.29,2,   32.72,2,    0.00,2,    2.32,2,-999.000,9,-999.000,9,-999.000,9,-999.0000,9,  2274.5,2,  2383.8,2,   7.6234,2,    25.00,-999.000,9,-999.0000,9, -999.00,9, -999.00,9,  -999.0,9,  -999.0,-999.000,9,-999.000,    39.1,2,-999.000,-999.0000, -999.00,   0.9025,   1.1761,2,20091126,       0138
318M20091121,        P06,      14,          1,          4,          4,2,20091126,       0108,   -30.0795,   156.2318,       4728,  3958.4,   1.1809,  34.7161,  34.7164,2,    195.8,2,   196.0,2,  118.92,2,   32.77,2,    0.00,2,    2.32,2,-999.000,9,-999.000,9,-999.000,9,-999.0000,9,  2275.4,2,  2385.1,6,-999.0000,9,  -999.00,-999.000,9,-999.0000,9, -999.00,9, -999.00,9,  -999.0,9,  -999.0,-999.000,9,-999.000,  -999.0,9,-999.000,-999.0000, -999.00,   0.8752,   1.1810,2,20091126,       0131
318M20091121,        P06,      14,          1,          3,          3,2,20091126,       0108,   -30.0795,   156.2318,       4728,  4361.8,   1.2010,  34.7155,  34.7152,2,    196.2,2,   196.4,2,  120.00,2,   32.76,2,    0.00,2,    2.32,2,-999.000,9,-999.000,9,-999.000,9,-999.0000,9,  2275.1,2,  2383.2,2,   7.6218,6,    25.00,-999.000,9,-999.0000,9, -999.00,9, -999.00,9,  -999.0,9,  -999.0,-999.000,9,-999.000,    39.4,2,-999.000,-999.0000, -999.00,   0.8506,   1.2010,2,20091126,       0123
318M20091121,        P06,      14,          1,          2,          2,2,20091126,       0108,   -30.0795,   156.2318,       4728,  4607.6,   1.2044,  34.7147,  34.7144,2,    196.4,2,   196.3,2,  120.65,2,   32.86,2,    0.00,2,    2.32,2,-999.000,9,-999.000,9,-999.000,9,-999.0000,9,  2277.5,2,  2383.7,2,-999.0000,9,  -999.00,-999.000,9,-999.0000,9, -999.00,9, -999.00,9,  -999.0,9,  -999.0,-999.000,9,-999.000,  -999.0,9,-999.000,-999.0000, -999.00,   0.8260,   1.2047,2,20091126,       0116
318M20091121,        P06,      14,          1,          1,          1,2,20091126,       0108,   -30.0795,   156.2318,       4728,  4810.3,   1.2229,  34.7144,  34.7144,2,    196.0,2,   196.3,2,  120.84,2,   32.85,2,    0.00,2,    2.34,2,-999.000,9,-999.000,9,-999.000,9,-999.0000,9,  2278.6,6,  2387.2,2,   7.6217,2,    25.00,-999.000,9,-999.0000,9, -999.00,9, -999.00,9,  -999.0,9,  -999.0,-999.000,9,-999.000,    39.1,2,-999.000,-999.0000, -999.00,   0.8203,   1.2231,2,20091126,       0108