BOTTLE,20220818CCHSIOAMB
EXPOCODE,SECT_ID,STNNBR,CASTNO,SAMPNO,BTLNBR,BTLNBR_FLAG_W,DATE,TIME,LATITUDE,LONGITUDE,DEPTH,CTDPRS,CTDTMP,CTDSAL,SALNTY,SALNTY_FLAG_W,CTDOXY,CTDOXY_FLAG_W,OXYGEN,OXYGEN_FLAG_W,SILCAT,SILCAT_FLAG_W,NITRAT,NITRAT_FLAG_W,NITRIT,NITRIT_FLAG_W,PHSPHT,PHSPHT_FLAG_W,CFC-11,CFC-11_FLAG_W,CFC-12,CFC-12_FLAG_W,CFC113,CFC113_FLAG_W,SF6,SF6_FLAG_W,TCARBN,TCARBN_FLAG_W,ALKALI,ALKALI_FLAG_W,PH_SWS,PH_SWS_FLAG_W,PH_TMP,TRITUM,TRITUM_FLAG_W,HELIUM,HELIUM_FLAG_W,DELHE3,DELHE3_FLAG_W,DELC13,DELC13_FLAG_W,DELC14,DELC14_FLAG_W,C14ERR,NEON,NEON_FLAG_W,NEONER,DOC,DOC_FLAG_W,TRITER,HELIER,DELHER,THETA,SBE35,SBE35_FLAG_W,BTL_DATE,BTL_TIME
,,,,,,,,,,,METERS,DBAR,ITS-90,PSS-78,PSS-78,,UMOL/KG,,UMOL/KG,,UMOL/KG,,UMOL/KG,,UMOL/KG,,UMOL/KG,,PMOL/KG,,PMOL/KG,,PMOL/KG,,FMOL/KG,,UMOL/KG,,UMOL/KG,,,,DEG C,TU,,NMOL/KG,,PERCNT,,/MILLE,,/MILLE,,/MILLE,NMOL/KG,,NMOL/KG,UMOL/KG,,TU,NMOL/KG,PERCNT,DEG C,ITS-90,,,
318M20091121,        P06,     125,          2,         36,         36,2,20091229,       1242,   -32.5000,  -147.2250,       4777,     7.0,  22.2873,  35.4161,  35.4164,2,    219.5,2,   218.7,2,    0.20,2,    0.00,2,    0.00,2,    0.08,2,   1.846,2,   1.220,2,-999.000,1,    1.264,2,  2035.7,6,  2323.4,6,   8.0164,6,    25.00,-999.000,9,-999.0000,9, -999.00,9, -999.00,9,  -999.0,9,  -999.0,-999.000,9,-999.000,  -999.0,9,-999.000,-999.0000, -999.00,  22.2859,  22.2887,2,20091229,       1512
318M20091121,        P06,     125,          2,         35,         35,2,20091229,       1242,   -32.5000,  -147.2250,       4777,    25.1,  21.1574,  35.3675,  35.3659,2,    227.3,2,   226.3,2,    0.14,2,    0.00,2,    0.00,2,    0.07,2,   1.932,2,   1.269,2,-999.000,1,    1.168,2,  -999.0,9,  -999.0,9,-999.0000,9,  -999.00,-999.000,9,-999.0000,9, -999.00,9, -999.00,9,  -999.0,9,  -999.0,-999.000,9,-999.000,  -999.0,9,-999.000,-999.0000, -999.00,  21.1526,  21.1632,2,20091229,       1510
318M20091121,        P06,     125,          2,         34,         34,2,20091229,       1242,   -32.5000,  -147.2250,       4777,    50.8,  18.8943,  35.4191,  35.4190,2,    241.1,2,   238.7,2,    0.08,2,    0.00,2,    0.00,2,    0.08,2,   2.176,2,   1.431,2,-999.000,1,    1.131,2,  -999.0,9,  -999.0,9,-999.0000,9,  -999.00,-999.000,9,-999.0000,9, -999.00,9, -999.00,9,  -999.0,9,  -999.0,-999.000,9,-999.000,  -999.0,9,-999.000,-999.0000, -999.00,  18.8853,  18.8898,2,20091229,       1507
318M20091121,        P06,     125,          2,         33,         33,2,20091229,       1242,   -32.5000,  -147.2250,       4777,    76.0,  18.1939,  35.3871,  35.3852,2,    243.3,2,   241.7,2,    0.21,2,    0.00,2,    0.00,2,    0.09,2,   2.237,2,   1.457,2,-999.000,1,    1.292,2,  2040.3,2,  2323.4,2,   8.0051,2,    25.00,-999.000,9,-999.0000,9, -999.00,9, -999.00,9,  -999.0,9,  -999.0,-999.000,9,-999.000,  -999.0,9,-999.000,-999.0000, -999.00,  18.1808,  18.1930,2,20091229,       1505
318M20091121,        P06,     125,          2,         32,         32,2,20091229,       1242,   -32.5000,  -147.2250,       4777,   100.8,  17.7278,  35.4094,  35.4091,2,    237.6,2,   239.1,2,    0.16,2,    0.00,2,    0.00,2,    0.09,2,   2.247,2,   1.459,2,-999.000,1,    1.261,2,  -999.0,9,  -999.0,9,-999.0000,9,  -999.00,-999.000,9,-999.0000,9, -999.00,9, -999.00,9,  -999.0,9,  -999.0,-999.000,9,-999.000,  -999.0,9,-999.000,-999.0000, -999.00,  17.7107,  17.7294,2,20091229,       1503
318M20091121,        P06,     125,          2,         31,         31,2,20091229,       1242,   -32.5000,  -147.2250,       4777,   151.9,  16.5419,  35.3813,  35.3809,2,    211.2,2,   211.1,2,    0.49,2,    2.42,2,    0.05,2,    0.29,2,   2.304,2,   1.465,2,-999.000,1,    1.048,2,  2073.1,2,  2317.5,2,   7.9469,2,    25.00,-999.000,9,-999.0000,9, -999.00,9, -999.00,9,  -999.0,9,  -999.0,-999.000,9,-999.000,  -999.0,9,-999.000,-999.0000, -999.00,  16.5173,  16.5523,2,20091229,       1501
318M20091121,        P06,     125,          2,         30,         30,2,20091229,       1242,   -32.5000,  -147.2250,       4777,   197.5,  15.5542,  35.3036,  35.3026,2,    206.1,2,   204.8,2,    0.83,2,    4.50,2,    0.01,2,    0.44,2,   2.370,2,   1.504,2,-999.000,1,    1.077,2,  -999.0,9,  -999.0,9,-999.0000,9,  -999.00,-999.000,9,-999.0000,9, -999.00,9, -999.00,9,  -999.0,9,  -999.0,-999.000,9,-999.000,  -999.0,9,-999.000,-999.0000, -999.00,  15.5235,  15.5522,2,20091229,       1458
318M20091121,        P06,     125,          2,         29,         29,2,20091229,       1242,   -32.5000,  -147.2250,       4777,   248.5,  14.4528,  35.1820,  35.1726,2,    200.1,2,   200.0,2,    1.38,2,    7.09,2,    0.01,2,    0.61,2,   2.465,2,   1.508,2,-999.000,1,    0.971,2,  2098.6,2,  2308.2,2,   7.8793,2,    25.00,-999.000,9,-999.0000,9, -999.00,9, -999.00,9,  -999.0,9,  -999.0,-999.000,9,-999.000,  -999.0,9,-999.000,-999.0000, -999.00,  14.4160,  14.4560,2,20091229,       1455
318M20091121,        P06,     125,          2,         28,         28,2,20091229,       1242,   -32.5000,  -147.2250,       4777,   299.1,  12.6008,  34.9421,  34.9526,2,    204.8,2,   202.7,2,    1.92,2,   10.16,2,    0.01,2,    0.80,2,   2.620,2,   1.567,2,-999.000,1,    0.705,2,  -999.0,9,  -999.0,9,-999.0000,9,  -999.00,-999.000,9,-999.0000,9, -999.00,9, -999.00,9,  -999.0,9,  -999.0,-999.000,9,-999.000,  -999.0,9,-999.000,-999.0000, -999.00,  12.5604,  12.6002,2,20091229,       1453
318M20091121,        P06,     125,          2,         27,         27,2,20091229,       1242,   -32.5000,  -147.2250,       4777,   349.7,  10.9217,  34.7379,  34.7389,2,    211.4,2,   210.5,2,    2.26,2,   13.11,2,    0.00,2,    0.99,2,   2.849,6,   1.691,6,-999.000,1,   0.7545,6,  2118.8,2,  2293.6,2,   7.7994,2,    25.00,-999.000,9,-999.0000,9, -999.00,9, -999.00,9,  -999.0,9,  -999.0,-999.000,9,-999.000,  -999.0,9,-999.000,-999.0000, -999.00,  10.8786,  10.9206,2,20091229,       1450
318M20091121,        P06,     125,          2,         26,         26,2,20091229,       1242,   -32.5000,  -147.2250,       4777,   400.6,   9.1073,  34.5182,  34.5203,2,    215.8,2,   216.0,2,    3.80,2,   17.36,2,    0.00,2,    1.26,2,   2.889,2,   1.634,2,-999.000,1,    0.736,2,  -999.0,9,  -999.0,9,-999.0000,9,  -999.00,-999.000,9,-999.0000,9, -999.00,9, -999.00,9,  -999.0,9,  -999.0,-999.000,9,-999.000,  -999.0,9,-999.000,-999.0000, -999.00,   9.0632,   9.1112,2,20091229,       1448
318M20091121,        P06,     125,          2,         25,         25,2,20091229,       1242,   -32.5000,  -147.2250,       4777,   452.1,   8.0188,  34.4247,  34.4264,2,    224.0,2,   225.5,2,    4.74,2,   19.65,2,    0.00,2,    1.41,2,   3.019,2,   1.681,2,-999.000,1,    0.669,2,  2134.8,2,  2282.5,2,   7.7395,2,    25.00,-999.000,9,-999.0000,9, -999.00,9, -999.00,9,  -999.0,9,  -999.0,-999.000,9,-999.000,  -999.0,9,-999.000,-999.0000, -999.00,   7.9726,   8.0228,2,20091229,       1446
318M20091121,        P06,     125,          2,         24,         24,2,20091229,       1242,   -32.5000,  -147.2250,       4777,   502.0,   7.6013,  34.4142,  34.4130,2,    232.7,2,   233.6,2,    5.28,2,   20.27,2,    0.00,2,    1.44,2,   3.062,2,   1.708,2,-999.000,1,    0.577,2,  -999.0,9,  -999.0,9,-999.0000,9,  -999.00,-999.000,9,-999.0000,9, -999.00,9, -999.00,9,  -999.0,9,  -999.0,-999.000,9,-999.000,  -999.0,9,-999.000,-999.0000, -999.00,   7.5514,   7.6133,2,20091229,       1443
318M20091121,        P06,     125,          2,         23,         23,2,20091229,       1242,   -32.5000,  -147.2250,       4777,   604.1,   6.8387,  34.3655,  34.3653,2,    241.1,2,   242.3,2,    6.63,2,   21.80,2,    0.00,2,    1.53,2,   3.006,2,   1.661,2,-999.000,1,     0.63,2,  2137.0,2,  -999.0,5,   7.7340,2,    25.00,-999.000,9,-999.0000,9, -999.00,9, -999.00,9,  -999.0,9,  -999.0,-999.000,9,-999.000,  -999.0,9,-999.000,-999.0000, -999.00,   6.7818,   6.8417,2,20091229,       1440
318M20091121,        P06,     125,          2,         22,         22,2,20091229,       1242,   -32.5000,  -147.2250,       4777,   700.8,   6.4207,  34.3388,  34.3387,2,    239.0,2,   239.6,2,    8.38,2,   23.15,2,    0.00,2,    1.61,2,   2.499,2,   1.360,2,-999.000,1,    0.339,2,  2141.3,2,  2284.3,2,   7.7248,2,    25.00,-999.000,9,-999.0000,9, -999.00,9, -999.00,9,  -999.0,9,  -999.0,-999.000,9,-999.000,  -999.0,9,-999.000,-999.0000, -999.00,   6.3564,   6.4184,2,20091229,       1437
318M20091121,        P06,     125,          2,         21,         21,2,20091229,       1242,   -32.5000,  -147.2250,       4777,   802.3,   5.8562,  34.3101,  34.3099,2,    234.5,2,   232.9,2,   11.54,2,   25.14,2,    0.00,2,    1.74,2,   1.846,2,   0.995,2,-999.000,1,    0.154,2,  2150.8,2,  2286.6,2,   7.7060,2,    25.00,-999.000,9,-999.0000,9, -999.00,9, -999.00,9,  -999.0,9,  -999.0,-999.000,9,-999.000,  -999.0,9,-999.000,-999.0000, -999.00,   5.7855,   5.8558,2,20091229,       1434
318M20091121,        P06,     125,          2,         20,         20,2,20091229,       1242,   -32.5000,  -147.2250,       4777,   906.4,   5.3856,  34.3026,  34.3028,2,    222.7,2,   222.7,2,   16.30,2,   27.03,2,    0.00,2,    1.88,2,   1.302,2,   0.693,2,-999.000,1,        0,2,  2161.3,2,  2278.5,4,   7.6852,2,    25.00,-999.000,9,-999.0000,9, -999.00,9, -999.00,9,  -999.0,9,  -999.0,-999.000,9,-999.000,  -999.0,9,-999.000,-999.0000, -999.00,   5.3083,   5.3893,2,20091229,       1431
318M20091121,        P06,     125,          2,         19,         19,2,20091229,       1242,   -32.5000,  -147.2250,       4777,  1006.3,   4.7287,  34.3130,  34.3130,2,    208.4,2,   205.2,2,   25.12,2,   29.58,2,    0.00,2,    2.04,2,   0.772,2,   0.406,2,-999.000,1,        0,2,  2181.6,6,  2295.7,6,   7.6526,2,    25.00,-999.000,9,-999.0000,9, -999.00,9, -999.00,9,  -999.0,9,  -999.0,-999.000,9,-999.000,  -999.0,9,-999.000,-999.0000, -999.00,   4.6472,   4.7299,2,20091229,       1427
318M20091121,        P06,     125,          2,         18,         18,2,20091229,       1242,   -32.5000,  -147.2250,       4777,  1109.8,   4.1849,  34.3406,  34.3415,2,    196.1,2,   193.3,2,   34.94,2,   31.50,2,    0.00,2,    2.18,2,   0.452,2,   0.239,2,-999.000,1,        0,2,  -999.0,9,  -999.0,9,-999.0000,9,  -999.00,-999.000,9,-999.0000,9, -999.00,9, -999.00,9,  -999.0,9,  -999.0,-999.000,9,-999.000,  -999.0,9,-999.000,-999.0000, -999.00,   4.0987,   4.1851,2,20091229,       1424
318M20091121,        P06,     125,          2,         17,         17,2,20091229,       1242,   -32.5000,  -147.2250,       4777,  1210.8,   3.7086,  34.3769,  34.3777,2,    185.7,2,   185.2,2,   44.60,2,   32.69,2,    0.00,2,    2.27,2,   0.293,2,   0.162,2,-999.000,1,        0,2,  2215.4,2,  2314.2,2,   7.6077,2,    25.00,-999.000,9,-999.0000,9, -999.00,9, -999.00,9,  -999.0,9,  -999.0,-999.000,9,-999.000,  -999.0,9,-999.000,-999.0000, -999.00,   3.6180,   3.7067,2,20091229,       1421
318M20091121,        P06,     125,          2,         16,         16,2,20091229,       1242,   -32.5000,  -147.2250,       4777,  1311.8,   3.3528,  34.4168,  34.4158,2,    179.8,2,   178.8,2,   53.46,2,   33.50,2,    0.00,2,    2.32,2,   0.200,2,   0.117,2,-999.000,1,        0,2,  -999.0,9,  -999.0,9,-999.0000,9,  -999.00,-999.000,9,-999.0000,9, -999.00,9, -999.00,9,  -999.0,9,  -999.0,-999.000,9,-999.000,  -999.0,9,-999.000,-999.0000, -999.00,   3.2572,   3.3591,2,20091229,       1417
318M20091121,        P06,     125,          2,         15,         15,2,20091229,       1242,   -32.5000,  -147.2250,       4777,  1409.2,   3.0011,  34.4726,  34.4709,2,    172.0,2,   172.1,2,   64.16,2,   33.93,2,    0.00,2,    2.37,2,   0.117,2,   0.076,2,-999.000,1,        0,2,  -999.0,9,  -999.0,9,-999.0000,9,  -999.00,-999.000,9,-999.0000,9, -999.00,9, -999.00,9,  -999.0,9,  -999.0,-999.000,9,-999.000,  -999.0,9,-999.000,-999.0000, -999.00,   2.9010,   3.0019,2,20091229,       1414
318M20091121,        P06,     125,          2,         14,         14,2,20091229,       1242,   -32.5000,  -147.2250,       4777,  1512.4,   2.7811,  34.5229,  34.5234,2,    166.2,2,   166.1,2,   75.71,2,   34.28,2,    0.00,2,    2.40,2,   0.050,2,   0.042,2,-999.000,1,        0,2,  2255.9,2,  2352.3,2,   7.5810,2,    25.00,-999.000,9,-999.0000,9, -999.00,9, -999.00,9,  -999.0,9,  -999.0,-999.000,9,-999.000,  -999.0,9,-999.000,-999.0000, -999.00,   2.6749,   2.7809,2,20091229,       1410
318M20091121,        P06,     125,          2,         13,         13,2,20091229,       1242,   -32.5000,  -147.2250,       4777,  1615.0,   2.6160,  34.5579,  34.5571,2,    161.6,2,   161.6,2,   84.22,2,   34.49,2,    0.00,2,    2.41,2,   0.043,2,   0.037,2,-999.000,1,        0,2,  -999.0,9,  -999.0,9,-999.0000,9,  -999.00,-999.000,9,-999.0000,9, -999.00,9, -999.00,9,  -999.0,9,  -999.0,-999.000,9,-999.000,  -999.0,9,-999.000,-999.0000, -999.00,   2.5032,   2.6165,2,20091229,       1407
318M20091121,        P06,     125,          2,         12,         12,2,20091229,       1242,   -32.5000,  -147.2250,       4777,  1825.0,   2.3516,  34.6061,  34.6062,2,    156.2,2,   155.7,2,   99.71,2,   34.83,2,    0.00,2,    2.44,2,   0.025,2,   0.024,2,-999.000,1,        0,2,  -999.0,9,  -999.0,9,-999.0000,9,  -999.00,-999.000,9,-999.0000,9, -999.00,9, -999.00,9,  -999.0,9,  -999.0,-999.000,9,-999.000,  -999.0,9,-999.000,-999.0000, -999.00,   2.2248,   2.3510,2,20091229,       1401
318M20091121,        P06,     125,          2,         11,         11,2,20091229,       1242,   -32.5000,  -147.2250,       4777,  2019.7,   2.1711,  34.6308,  34.6307,2,    153.8,2,   152.8,2,  109.09,2,   34.99,2,    0.00,2,    2.45,2,   0.022,2,   0.021,2,-999.000,1,        0,2,  2294.5,2,  2390.8,2,   7.5827,2,    25.00,-999.000,9,-999.0000,9, -999.00,9, -999.00,9,  -999.0,9,  -999.0,-999.000,9,-999.000,  -999.0,9,-999.000,-999.0000, -999.00,   2.0304,   2.1708,2,20091229,       1355
318M20091121,        P06,     125,          2,         10,         10,2,20091229,       1242,   -32.5000,  -147.2250,       4777,  2274.2,   2.0044,  34.6484,  34.6484,2,    152.2,2,   152.4,2,  117.06,2,   35.23,2,    0.00,2,    2.47,2,   0.024,2,   0.019,2,-999.000,1,        0,2,  -999.0,9,  -999.0,9,-999.0000,9,  -999.00,-999.000,9,-999.0000,9, -999.00,9, -999.00,9,  -999.0,9,  -999.0,-999.000,9,-999.000,  -999.0,9,-999.000,-999.0000, -999.00,   1.8443,   2.0044,2,20091229,       1348
318M20091121,        P06,     125,          2,          9,          9,2,20091229,       1242,   -32.5000,  -147.2250,       4777,  2526.8,   1.8879,  34.6586,  34.6584,2,    152.5,2,   152.4,2,  122.37,2,   35.28,2,    0.00,2,    2.47,2,   0.028,2,   0.017,2,-999.000,1,        0,2,  2306.8,2,  2403.2,2,   7.5844,2,    25.00,-999.000,9,-999.0000,9, -999.00,9, -999.00,9,  -999.0,9,  -999.0,-999.000,9,-999.000,  -999.0,9,-999.000,-999.0000, -999.00,   1.7072,   1.8883,2,20091229,       1342
318M20091121,        P06,     125,          2,          8,          8,2,20091229,       1242,   -32.5000,  -147.2250,       4777,  2784.5,   1.7685,  34.6683,  34.6685,2,    155.0,2,   155.4,2,  125.41,2,   35.18,2,    0.00,2,    2.46,2,   0.024,2,   0.013,2,-999.000,1,        0,2,  -999.0,9,  -999.0,9,-999.0000,9,  -999.00,-999.000,9,-999.0000,9, -999.00,9, -999.00,9,  -999.0,9,  -999.0,-999.000,9,-999.000,  -999.0,9,-999.000,-999.0000, -999.00,   1.5663,   1.7686,2,20091229,       1336
318M20091121,        P06,     125,          2,          7,          7,2,20091229,       1242,   -32.5000,  -147.2250,       4777,  3036.8,   1.6791,  34.6762,  34.6756,2,    159.6,2,   161.0,2,  125.58,2,   34.78,2,    0.00,2,    2.43,2,   0.029,2,   0.014,2,-999.000,1,        0,2,  2303.4,2,  2397.1,2,   7.5923,2,    25.00,-999.000,9,-999.0000,9, -999.00,9, -999.00,9,  -999.0,9,  -999.0,-999.000,9,-999.000,  -999.0,9,-999.000,-999.0000, -999.00,   1.4548,   1.6795,2,20091229,       1330
318M20091121,        P06,     125,          2,          6,          6,2,20091229,       1242,   -32.5000,  -147.2250,       4777,  3346.5,   1.5803,  34.6851,  34.6856,2,    168.1,2,   169.6,2,  123.88,2,   34.18,2,    0.00,2,    2.40,2,   0.026,2,   0.010,2,-999.000,1,        0,2,  -999.0,9,  -999.0,9,-999.0000,9,  -999.00,-999.000,9,-999.0000,9, -999.00,9, -999.00,9,  -999.0,9,  -999.0,-999.000,9,-999.000,  -999.0,9,-999.000,-999.0000, -999.00,   1.3277,   1.5807,2,20091229,       1323
318M20091121,        P06,     125,          2,          5,         37,2,20091229,       1242,   -32.5000,  -147.2250,       4777,  3649.1,   1.4636,  34.6944,  34.6897,2,    178.7,2,   173.7,3,  122.39,2,   33.88,2,    0.00,2,    2.37,2,   0.022,2,   0.008,2,-999.000,1,        0,2,  2291.9,2,  -999.0,9,-999.0000,9,  -999.00,-999.000,9,-999.0000,9, -999.00,9, -999.00,9,  -999.0,9,  -999.0,-999.000,9,-999.000,  -999.0,9,-999.000,-999.0000, -999.00,   1.1829,   1.4645,2,20091229,       1311
318M20091121,        P06,     125,          2,          4,          4,2,20091229,       1242,   -32.5000,  -147.2250,       4777,  3960.4,   1.3451,  34.7014,  34.7012,2,    187.8,2,   187.9,2,  119.26,2,   32.83,2,    0.00,2,    2.29,2,   0.025,2,   0.010,2,-999.000,1,        0,2,  -999.0,9,  -999.0,9,-999.0000,9,  -999.00,-999.000,9,-999.0000,9, -999.00,9, -999.00,9,  -999.0,9,  -999.0,-999.000,9,-999.000,  -999.0,9,-999.000,-999.0000, -999.00,   1.0347,   1.3451,2,20091229,       1304
318M20091121,        P06,     125,          2,          3,          3,2,20091229,       1242,   -32.5000,  -147.2250,       4777,  4264.9,   1.2763,  34.7051,  34.7041,2,    193.7,2,   193.6,2,  118.39,2,   32.48,2,    0.00,2,    2.26,2,   0.023,2,   0.010,2,-999.000,1,        0,2,  2271.6,2,  2378.6,2,   7.6171,2,    25.00,-999.000,9,-999.0000,9, -999.00,9, -999.00,9,  -999.0,9,  -999.0,-999.000,9,-999.000,  -999.0,9,-999.000,-999.0000, -999.00,   0.9346,   1.2765,2,20091229,       1257
318M20091121,        P06,     125,          2,          2,          2,2,20091229,       1242,   -32.5000,  -147.2250,       4777,  4546.9,   1.2653,  34.7064,  34.7059,2,    195.6,2,   195.4,2,  118.14,2,   32.33,2,    0.00,2,    2.25,2,   0.026,2,   0.013,2,-999.000,1,        0,2,  -999.0,9,  -999.0,9,-999.0000,9,  -999.00,-999.000,9,-999.0000,9, -999.00,9, -999.00,9,  -999.0,9,  -999.0,-999.000,9,-999.000,  -999.0,9,-999.000,-999.0000, -999.00,   0.8921,   1.2655,2,20091229,       1250
318M20091121,        P06,     125,          2,          1,          1,2,20091229,       1242,   -32.5000,  -147.2250,       4777,  4890.1,   1.2683,  34.7079,  34.7075,2,    197.9,2,   197.5,2,  117.47,2,   32.19,2,    0.00,2,    2.24,2,   0.027,2,   0.015,2,-999.000,1,        0,2,  2267.3,6,  2375.7,6,   7.6234,6,    25.00,-999.000,9,-999.0000,9, -999.00,9, -999.00,9,  -999.0,9,  -999.0,-999.000,9,-999.000,  -999.0,9,-999.000,-999.0000, -999.00,   0.8548,   1.2674,2,20091229,       1242