BOTTLE,20220818CCHSIOAMB
EXPOCODE,SECT_ID,STNNBR,CASTNO,SAMPNO,BTLNBR,BTLNBR_FLAG_W,DATE,TIME,LATITUDE,LONGITUDE,DEPTH,CTDPRS,CTDTMP,CTDSAL,SALNTY,SALNTY_FLAG_W,CTDOXY,CTDOXY_FLAG_W,OXYGEN,OXYGEN_FLAG_W,SILCAT,SILCAT_FLAG_W,NITRAT,NITRAT_FLAG_W,NITRIT,NITRIT_FLAG_W,PHSPHT,PHSPHT_FLAG_W,CFC-11,CFC-11_FLAG_W,CFC-12,CFC-12_FLAG_W,CFC113,CFC113_FLAG_W,SF6,SF6_FLAG_W,TCARBN,TCARBN_FLAG_W,ALKALI,ALKALI_FLAG_W,PH_SWS,PH_SWS_FLAG_W,PH_TMP,TRITUM,TRITUM_FLAG_W,HELIUM,HELIUM_FLAG_W,DELHE3,DELHE3_FLAG_W,DELC13,DELC13_FLAG_W,DELC14,DELC14_FLAG_W,C14ERR,NEON,NEON_FLAG_W,NEONER,DOC,DOC_FLAG_W,TRITER,HELIER,DELHER,THETA,SBE35,SBE35_FLAG_W,BTL_DATE,BTL_TIME
,,,,,,,,,,,METERS,DBAR,ITS-90,PSS-78,PSS-78,,UMOL/KG,,UMOL/KG,,UMOL/KG,,UMOL/KG,,UMOL/KG,,UMOL/KG,,PMOL/KG,,PMOL/KG,,PMOL/KG,,FMOL/KG,,UMOL/KG,,UMOL/KG,,,,DEG C,TU,,NMOL/KG,,PERCNT,,/MILLE,,/MILLE,,/MILLE,NMOL/KG,,NMOL/KG,UMOL/KG,,TU,NMOL/KG,PERCNT,DEG C,ITS-90,,,
318M20091121,        P06,      15,          2,         36,         36,2,20091126,       0831,   -30.0792,   156.4704,       4798,     6.3,  24.5275,  35.4559,  35.4561,2,    212.2,2,   212.2,2,    0.45,2,    0.00,2,    0.00,2,    0.10,2,   1.730,2,   1.087,2,   0.184,2,    0.921,2,  1998.5,6,  2320.4,2,   8.0822,2,    25.00,-999.000,9,-999.0000,9, -999.00,9, -999.00,9,  -999.0,9,  -999.0,-999.000,9,-999.000,  -999.0,9,-999.000,-999.0000, -999.00,  24.5262,  24.5266,2,20091126,       1101
318M20091121,        P06,      15,          2,         35,         35,2,20091126,       0831,   -30.0792,   156.4704,       4798,    35.7,  23.5994,  35.4912,  35.4897,2,    215.5,2,   218.0,2,    0.22,2,    0.00,2,    0.00,2,    0.09,2,   1.814,2,   1.125,2,   0.185,2,    1.026,2,  -999.0,9,  -999.0,9,-999.0000,9,  -999.00,-999.000,9,-999.0000,9, -999.00,9, -999.00,9,  -999.0,9,  -999.0,-999.000,9,-999.000,  -999.0,9,-999.000,-999.0000, -999.00,  23.5920,  23.6067,2,20091126,       1058
318M20091121,        P06,      15,          2,         34,         34,2,20091126,       0831,   -30.0792,   156.4704,       4798,    60.5,  22.0594,  35.4570,  35.4569,2,    216.9,2,   187.0,2,    1.04,2,    2.42,2,    0.05,2,    0.29,2,   1.878,2,   1.139,2,   0.132,2,    1.051,2,  -999.0,9,  2318.4,6,   8.0113,6,    25.00,-999.000,9,-999.0000,9, -999.00,9, -999.00,9,  -999.0,9,  -999.0,-999.000,9,-999.000,  -999.0,9,-999.000,-999.0000, -999.00,  22.0474,  22.0558,2,20091126,       1056
318M20091121,        P06,      15,          2,         33,         33,2,20091126,       0831,   -30.0792,   156.4704,       4798,    87.6,  21.1811,  35.5851,  35.5844,2,    189.7,2,   171.6,2,    0.81,2,    4.20,2,    0.05,2,    0.41,2,   1.930,2,   1.185,2,   0.113,2,    1.011,2,  -999.0,9,  -999.0,9,-999.0000,9,  -999.00,-999.000,9,-999.0000,9, -999.00,9, -999.00,9,  -999.0,9,  -999.0,-999.000,9,-999.000,  -999.0,9,-999.000,-999.0000, -999.00,  21.1642,  21.1771,2,20091126,       1054
318M20091121,        P06,      15,          2,         32,         32,2,20091126,       0831,   -30.0792,   156.4704,       4798,   118.7,  20.2025,  35.5622,  35.5614,2,    186.8,2,   193.4,2,    0.38,2,    2.71,2,    0.04,2,    0.30,2,   1.999,2,   1.240,2,   0.153,2,    1.035,2,  -999.0,9,  2326.4,2,   8.0046,2,    25.00,-999.000,9,-999.0000,9, -999.00,9, -999.00,9,  -999.0,9,  -999.0,-999.000,9,-999.000,  -999.0,9,-999.000,-999.0000, -999.00,  20.1804,  20.1996,2,20091126,       1052
318M20091121,        P06,      15,          2,         31,         31,2,20091126,       0831,   -30.0792,   156.4704,       4798,   168.9,  19.2381,  35.5851,  35.5844,2,    198.8,2,   203.0,2,    0.36,2,    2.73,2,    0.01,2,    0.29,2,   2.060,2,   1.260,2,   0.146,2,    1.138,2,  -999.0,9,  -999.0,9,-999.0000,9,  -999.00,-999.000,9,-999.0000,9, -999.00,9, -999.00,9,  -999.0,9,  -999.0,-999.000,9,-999.000,  -999.0,9,-999.000,-999.0000, -999.00,  19.2076,  19.2373,2,20091126,       1049
318M20091121,        P06,      15,          2,         30,         30,2,20091126,       0831,   -30.0792,   156.4704,       4798,   217.2,  18.3104,  35.5918,  35.5905,2,    195.7,2,   196.0,2,    0.75,2,    4.01,2,    0.00,2,    0.38,2,   2.151,6,   1.297,6,   0.118,2,    1.108,6,  -999.0,9,  2329.0,2,   7.9668,2,    25.00,-999.000,9,-999.0000,9, -999.00,9, -999.00,9,  -999.0,9,  -999.0,-999.000,9,-999.000,  -999.0,9,-999.000,-999.0000, -999.00,  18.2725,  18.3105,2,20091126,       1047
318M20091121,        P06,      15,          2,         29,         29,2,20091126,       0831,   -30.0792,   156.4704,       4798,   268.7,  17.2679,  35.5375,  35.5373,2,    183.1,2,   182.8,2,    1.56,2,    6.57,2,    0.00,2,    0.55,2,   2.188,2,   1.290,2,   0.053,2,    1.043,2,  -999.0,9,  -999.0,9,-999.0000,9,  -999.00,-999.000,9,-999.0000,9, -999.00,9, -999.00,9,  -999.0,9,  -999.0,-999.000,9,-999.000,  -999.0,9,-999.000,-999.0000, -999.00,  17.2228,  17.2630,2,20091126,       1044
318M20091121,        P06,      15,          2,         28,         28,2,20091126,       0831,   -30.0792,   156.4704,       4798,   315.9,  16.0688,  35.4415,  35.4407,2,    187.1,2,   184.7,2,    2.16,2,    8.01,2,    0.00,2,    0.65,2,   2.241,2,   1.309,2,   0.061,2,    1.027,2,  -999.0,9,  2321.2,2,   7.9020,2,    25.00,-999.000,9,-999.0000,9, -999.00,9, -999.00,9,  -999.0,9,  -999.0,-999.000,9,-999.000,  -999.0,9,-999.000,-999.0000, -999.00,  16.0183,  16.0680,2,20091126,       1041
318M20091121,        P06,      15,          2,         27,         27,2,20091126,       0831,   -30.0792,   156.4704,       4798,   366.7,  14.8650,  35.3779,  35.3744,2,    198.3,2,   197.4,2,    2.56,2,    8.34,2,    0.00,2,    0.68,2,   2.359,2,   1.383,2,   0.109,2,    1.023,2,  -999.0,9,  -999.0,9,-999.0000,9,  -999.00,-999.000,9,-999.0000,9, -999.00,9, -999.00,9,  -999.0,9,  -999.0,-999.000,9,-999.000,  -999.0,9,-999.000,-999.0000, -999.00,  14.8093,  14.8650,2,20091126,       1038
318M20091121,        P06,      15,          2,         26,         26,2,20091126,       0831,   -30.0792,   156.4704,       4798,   417.1,  13.3601,  35.2008,  35.1993,2,    191.4,2,   192.5,2,    3.78,2,   11.58,2,    0.00,2,    0.90,2,   2.344,2,   1.347,2,   0.100,2,     0.83,2,  -999.0,9,  2310.0,2,   7.8412,2,    25.00,-999.000,9,-999.0000,9, -999.00,9, -999.00,9,  -999.0,9,  -999.0,-999.000,9,-999.000,  -999.0,9,-999.000,-999.0000, -999.00,  13.3011,  13.3599,2,20091126,       1036
318M20091121,        P06,      15,          2,         25,         25,2,20091126,       0831,   -30.0792,   156.4704,       4798,   467.3,  12.5290,  35.1423,  35.1481,2,    200.3,2,   200.6,2,    4.17,2,   12.19,2,    0.00,2,    0.95,2,   2.449,2,   1.400,2,   0.112,2,    0.884,2,  -999.0,9,  -999.0,9,-999.0000,9,  -999.00,-999.000,9,-999.0000,9, -999.00,9, -999.00,9,  -999.0,9,  -999.0,-999.000,9,-999.000,  -999.0,9,-999.000,-999.0000, -999.00,  12.4655,  12.5287,2,20091126,       1033
318M20091121,        P06,      15,          2,         24,         24,2,20091126,       0831,   -30.0792,   156.4704,       4798,   536.4,  11.1655,  34.9712,  34.9718,2,    208.2,2,   204.0,2,    4.98,2,   14.61,2,    0.00,2,    1.09,2,   2.500,2,   1.419,2,   0.132,2,    0.872,2,  -999.0,9,  2296.8,2,   7.7957,2,    25.00,-999.000,9,-999.0000,9, -999.00,9, -999.00,9,  -999.0,9,  -999.0,-999.000,9,-999.000,  -999.0,9,-999.000,-999.0000, -999.00,  11.0977,  11.1648,2,20091126,       1030
318M20091121,        P06,      15,          2,         23,         23,2,20091126,       0831,   -30.0792,   156.4704,       4798,   638.4,   9.1895,  34.6935,  34.6930,2,    203.7,2,   203.4,2,    8.06,2,   19.41,2,    0.00,2,    1.41,2,   2.319,2,   1.265,2,   0.132,2,    0.768,2,  -999.0,9,  -999.0,9,-999.0000,9,  -999.00,-999.000,9,-999.0000,9, -999.00,9, -999.00,9,  -999.0,9,  -999.0,-999.000,9,-999.000,  -999.0,9,-999.000,-999.0000, -999.00,   9.1178,   9.1899,2,20091126,       1027
318M20091121,        P06,      15,          2,         22,         22,2,20091126,       0831,   -30.0792,   156.4704,       4798,   739.5,   7.9502,  34.5592,  34.5582,2,    197.7,2,   197.6,2,   12.61,2,   22.61,2,    0.00,2,    1.62,2,   1.658,2,   0.866,2,   0.090,2,    0.444,2,  -999.0,9,  2290.5,2,   7.7114,2,    25.00,-999.000,9,-999.0000,9, -999.00,9, -999.00,9,  -999.0,9,  -999.0,-999.000,9,-999.000,  -999.0,9,-999.000,-999.0000, -999.00,   7.8735,   7.9488,2,20091126,       1023
318M20091121,        P06,      15,          2,         21,         21,2,20091126,       0831,   -30.0792,   156.4704,       4798,   839.4,   6.9480,  34.4830,  34.4811,2,    195.8,2,   196.4,2,   17.99,2,   24.90,2,    0.00,2,    1.79,2,   1.162,2,   0.605,2,   0.054,2,    0.093,2,  -999.0,9,  2291.1,2,   7.6916,2,    25.00,-999.000,9,-999.0000,9, -999.00,9, -999.00,9,  -999.0,9,  -999.0,-999.000,9,-999.000,  -999.0,9,-999.000,-999.0000, -999.00,   6.8667,   6.9469,2,20091126,       1020
318M20091121,        P06,      15,          2,         20,         20,2,20091126,       0831,   -30.0792,   156.4704,       4798,   941.1,   6.0992,  34.4505,  34.4493,2,    191.0,2,   191.5,2,   26.10,2,   27.03,2,    0.00,2,    1.95,2,   0.758,2,   0.401,2,   0.039,2,    0.088,2,  -999.0,9,  2299.5,6,   7.6671,6,    25.00,-999.000,9,-999.0000,9, -999.00,9, -999.00,9,  -999.0,9,  -999.0,-999.000,9,-999.000,  -999.0,9,-999.000,-999.0000, -999.00,   6.0135,   6.0982,2,20091126,       1017
318M20091121,        P06,      15,          2,         19,         19,2,20091126,       0831,   -30.0792,   156.4704,       4798,  1041.3,   5.4028,  34.4517,  34.4504,2,    182.8,2,   183.4,2,   36.11,2,   28.88,2,    0.00,2,    2.07,2,   0.498,2,   0.265,2,   0.019,2,        0,2,  -999.0,9,  -999.0,9,-999.0000,9,  -999.00,-999.000,9,-999.0000,9, -999.00,9, -999.00,9,  -999.0,9,  -999.0,-999.000,9,-999.000,  -999.0,9,-999.000,-999.0000, -999.00,   5.3126,   5.4021,2,20091126,       1013
318M20091121,        P06,      15,          2,         18,         18,2,20091126,       0831,   -30.0792,   156.4704,       4798,  1143.2,   4.6512,  34.4702,  34.4693,2,    173.9,2,   175.4,2,   49.95,2,   30.69,2,    0.00,2,    2.21,2,   0.275,2,   0.154,2,   0.018,2,        0,2,  -999.0,9,  2319.5,2,   7.6290,2,    25.00,-999.000,9,-999.0000,9, -999.00,9, -999.00,9,  -999.0,9,  -999.0,-999.000,9,-999.000,  -999.0,9,-999.000,-999.0000, -999.00,   4.5579,   4.6506,2,20091126,       1010
318M20091121,        P06,      15,          2,         17,         17,2,20091126,       0831,   -30.0792,   156.4704,       4798,  1243.8,   4.0936,  34.5011,  34.4990,2,    166.4,2,   166.3,2,   62.57,2,   31.95,2,    0.00,2,    2.31,2,   0.151,2,   0.086,2,   0.007,2,        0,2,  -999.0,9,  -999.0,9,-999.0000,9,  -999.00,-999.000,9,-999.0000,9, -999.00,9, -999.00,9,  -999.0,9,  -999.0,-999.000,9,-999.000,  -999.0,9,-999.000,-999.0000, -999.00,   3.9963,   4.0979,2,20091126,       1007
318M20091121,        P06,      15,          2,         16,         16,2,20091126,       0831,   -30.0792,   156.4704,       4798,  1346.3,   3.6024,  34.5366,  34.5399,2,    159.9,2,   159.2,2,   75.04,2,   32.97,2,    0.00,2,    2.39,2,   0.085,2,   0.052,2,   0.017,2,        0,2,  -999.0,9,  -999.0,9,-999.0000,9,  -999.00,-999.000,9,-999.0000,9, -999.00,9, -999.00,9,  -999.0,9,  -999.0,-999.000,9,-999.000,  -999.0,9,-999.000,-999.0000, -999.00,   3.5010,   3.6020,2,20091126,       1003
318M20091121,        P06,      15,          2,         15,         15,2,20091126,       0831,   -30.0792,   156.4704,       4798,  1446.0,   3.2390,  34.5656,  34.5647,2,    155.2,2,   154.5,2,   84.15,2,   33.65,2,    0.00,2,    2.43,2,   0.049,2,   0.031,2,   0.002,2,        0,2,  -999.0,9,  2356.9,2,   7.5853,2,    25.00,-999.000,9,-999.0000,9, -999.00,9, -999.00,9,  -999.0,9,  -999.0,-999.000,9,-999.000,  -999.0,9,-999.000,-999.0000, -999.00,   3.1330,   3.2351,2,20091126,       1000
318M20091121,        P06,      15,          2,         14,         14,2,20091126,       0831,   -30.0792,   156.4704,       4798,  1548.1,   2.9768,  34.5890,  34.5875,2,    153.3,2,   153.4,2,   89.64,2,   33.98,2,    0.00,2,    2.46,2,   0.029,2,   0.017,2,   0.008,2,        0,2,  -999.0,9,  -999.0,9,-999.0000,9,  -999.00,-999.000,9,-999.0000,9, -999.00,9, -999.00,9,  -999.0,9,  -999.0,-999.000,9,-999.000,  -999.0,9,-999.000,-999.0000, -999.00,   2.8652,   2.9787,2,20091126,       0956
318M20091121,        P06,      15,          2,         13,         13,2,20091126,       0831,   -30.0792,   156.4704,       4798,  1679.2,   2.7026,  34.6163,  34.6154,2,    154.3,2,   155.0,2,   94.09,2,   33.97,2,    0.00,2,    2.45,2,   0.021,2,   0.011,2,   0.000,2,        0,2,  -999.0,9,  -999.0,9,-999.0000,9,  -999.00,-999.000,9,-999.0000,9, -999.00,9, -999.00,9,  -999.0,9,  -999.0,-999.000,9,-999.000,  -999.0,9,-999.000,-999.0000, -999.00,   2.5833,   2.7041,2,20091126,       0952
318M20091121,        P06,      15,          2,         12,         12,2,20091126,       0831,   -30.0792,   156.4704,       4798,  1881.4,   2.4057,  34.6538,  34.6536,2,    161.0,2,   161.8,2,   94.72,2,   33.41,2,    0.00,2,    2.40,2,   0.015,2,   0.008,2,   0.000,2,        0,2,  -999.0,9,  2366.5,2,   7.5828,2,    25.00,-999.000,9,-999.0000,9, -999.00,9, -999.00,9,  -999.0,9,  -999.0,-999.000,9,-999.000,  -999.0,9,-999.000,-999.0000, -999.00,   2.2732,   2.4054,2,20091126,       0947
318M20091121,        P06,      15,          2,         11,         11,2,20091126,       0831,   -30.0792,   156.4704,       4798,  2105.9,   2.2124,  34.6839,  34.6812,3,    170.3,2,   170.8,2,   94.05,2,   32.62,2,    0.00,2,    2.34,2,   0.016,2,   0.008,2,   0.000,2,        0,2,  -999.0,9,  -999.0,9,-999.0000,9,  -999.00,-999.000,9,-999.0000,9, -999.00,9, -999.00,9,  -999.0,9,  -999.0,-999.000,9,-999.000,  -999.0,9,-999.000,-999.0000, -999.00,   2.0634,   2.2128,2,20091126,       0941
318M20091121,        P06,      15,          2,         10,         10,2,20091126,       0831,   -30.0792,   156.4704,       4798,  2359.1,   1.9984,  34.7076,  34.7073,2,    178.0,2,   178.6,2,   96.17,2,   32.02,2,    0.00,2,    2.30,2,   0.011,2,   0.007,2,   0.000,2,        0,2,  -999.0,9,  -999.0,9,-999.0000,9,  -999.00,-999.000,9,-999.0000,9, -999.00,9, -999.00,9,  -999.0,9,  -999.0,-999.000,9,-999.000,  -999.0,9,-999.000,-999.0000, -999.00,   1.8306,   1.9985,2,20091126,       0935
318M20091121,        P06,      15,          2,          9,          9,2,20091126,       0831,   -30.0792,   156.4704,       4798,  2612.8,   1.7947,  34.7198,  34.7162,3,    184.6,2,   184.3,2,  100.42,2,   31.76,2,    0.00,2,    2.27,2,   0.008,2,   0.004,2,   0.000,2,        0,2,  -999.0,9,  2367.1,2,   7.6109,2,    25.00,-999.000,9,-999.0000,9, -999.00,9, -999.00,9,  -999.0,9,  -999.0,-999.000,9,-999.000,  -999.0,9,-999.000,-999.0000, -999.00,   1.6077,   1.7950,2,20091126,       0929
318M20091121,        P06,      15,          2,          8,          8,2,20091126,       0831,   -30.0792,   156.4704,       4798,  2867.9,   1.5858,  34.7234,  34.7231,2,    188.7,2,   188.9,2,  105.31,2,   31.75,2,    0.00,2,    2.27,2,   0.007,2,   0.004,2,   0.000,2,        0,2,  -999.0,9,  -999.0,9,-999.0000,9,  -999.00,-999.000,9,-999.0000,9, -999.00,9, -999.00,9,  -999.0,9,  -999.0,-999.000,9,-999.000,  -999.0,9,-999.000,-999.0000, -999.00,   1.3794,   1.5862,2,20091126,       0922
318M20091121,        P06,      15,          2,          7,          7,2,20091126,       0831,   -30.0792,   156.4704,       4798,  3138.6,   1.4144,  34.7219,  34.7215,2,    192.0,2,   191.8,2,  109.77,2,   31.84,2,    0.00,2,    2.28,2,   0.008,2,   0.004,2,   0.000,2,        0,2,  -999.0,9,  -999.0,9,-999.0000,9,  -999.00,-999.000,9,-999.0000,9, -999.00,9, -999.00,9,  -999.0,9,  -999.0,-999.000,9,-999.000,  -999.0,9,-999.000,-999.0000, -999.00,   1.1860,   1.4144,2,20091126,       0916
318M20091121,        P06,      15,          2,          6,          6,2,20091126,       0831,   -30.0792,   156.4704,       4798,  3444.6,   1.2410,  34.7186,  34.7189,2,    194.4,2,   194.6,2,  114.45,2,   32.02,2,    0.00,2,    2.29,2,   0.009,2,   0.005,2,   0.000,2,        0,2,  -999.0,9,  -999.0,5,   7.6198,2,    25.00,-999.000,9,-999.0000,9, -999.00,9, -999.00,9,  -999.0,9,  -999.0,-999.000,9,-999.000,  -999.0,9,-999.000,-999.0000, -999.00,   0.9867,   1.2409,2,20091126,       0908
318M20091121,        P06,      15,          2,          5,          5,2,20091126,       0831,   -30.0792,   156.4704,       4798,  3749.1,   1.1877,  34.7168,  34.7166,2,    195.4,2,   195.7,2,  116.36,2,   32.20,2,    0.00,2,    2.29,2,   0.012,2,   0.006,2,   0.000,2,        0,2,  -999.0,9,  -999.0,9,-999.0000,9,  -999.00,-999.000,9,-999.0000,9, -999.00,9, -999.00,9,  -999.0,9,  -999.0,-999.000,9,-999.000,  -999.0,9,-999.000,-999.0000, -999.00,   0.9038,   1.1879,2,20091126,       0901
318M20091121,        P06,      15,          2,          4,          4,2,20091126,       0831,   -30.0792,   156.4704,       4798,  4060.1,   1.1762,  34.7158,  34.7152,2,    196.0,2,   196.1,2,  117.84,2,   32.24,2,    0.00,2,    2.29,2,   0.014,2,   0.009,2,   0.000,2,        0,2,  -999.0,9,  -999.0,9,-999.0000,9,  -999.00,-999.000,9,-999.0000,9, -999.00,9, -999.00,9,  -999.0,9,  -999.0,-999.000,9,-999.000,  -999.0,9,-999.000,-999.0000, -999.00,   0.8597,   1.1762,2,20091126,       0853
318M20091121,        P06,      15,          2,          3,          3,2,20091126,       0831,   -30.0792,   156.4704,       4798,  4319.4,   1.1827,  34.7153,  34.7146,2,    196.2,2,   196.2,2,  118.25,2,   32.28,2,    0.00,2,    2.30,2,   0.016,2,   0.010,2,   0.000,2,        0,2,  -999.0,9,  2383.9,6,   7.6245,2,    25.00,-999.000,9,-999.0000,9, -999.00,9, -999.00,9,  -999.0,9,  -999.0,-999.000,9,-999.000,  -999.0,9,-999.000,-999.0000, -999.00,   0.8376,   1.1832,2,20091126,       0847
318M20091121,        P06,      15,          2,          2,          2,2,20091126,       0831,   -30.0792,   156.4704,       4798,  4577.4,   1.2008,  34.7149,  34.7148,2,    195.7,2,   197.3,2,  118.65,2,   32.32,2,    0.00,2,    2.30,2,   0.020,2,   0.011,2,   0.000,2,        0,2,  -999.0,9,  -999.0,9,-999.0000,9,  -999.00,-999.000,9,-999.0000,9, -999.00,9, -999.00,9,  -999.0,9,  -999.0,-999.000,9,-999.000,  -999.0,9,-999.000,-999.0000, -999.00,   0.8260,   1.2007,2,20091126,       0840
318M20091121,        P06,      15,          2,          1,          1,2,20091126,       0831,   -30.0792,   156.4704,       4798,  4888.7,   1.2325,  34.7145,  34.7140,2,    196.0,2,   202.9,4,  118.84,2,   32.36,2,    0.00,2,    2.30,2,   0.023,2,   0.013,2,   0.001,2,        0,2,  -999.0,9,  2386.0,2,   7.6236,6,    25.00,-999.000,9,-999.0000,9, -999.00,9, -999.00,9,  -999.0,9,  -999.0,-999.000,9,-999.000,  -999.0,9,-999.000,-999.0000, -999.00,   0.8203,   1.2329,2,20091126,       0831