BOTTLE,20220818CCHSIOAMB
EXPOCODE,SECT_ID,STNNBR,CASTNO,SAMPNO,BTLNBR,BTLNBR_FLAG_W,DATE,TIME,LATITUDE,LONGITUDE,DEPTH,CTDPRS,CTDTMP,CTDSAL,SALNTY,SALNTY_FLAG_W,CTDOXY,CTDOXY_FLAG_W,OXYGEN,OXYGEN_FLAG_W,SILCAT,SILCAT_FLAG_W,NITRAT,NITRAT_FLAG_W,NITRIT,NITRIT_FLAG_W,PHSPHT,PHSPHT_FLAG_W,CFC-11,CFC-11_FLAG_W,CFC-12,CFC-12_FLAG_W,CFC113,CFC113_FLAG_W,SF6,SF6_FLAG_W,TCARBN,TCARBN_FLAG_W,ALKALI,ALKALI_FLAG_W,PH_SWS,PH_SWS_FLAG_W,PH_TMP,TRITUM,TRITUM_FLAG_W,HELIUM,HELIUM_FLAG_W,DELHE3,DELHE3_FLAG_W,DELC13,DELC13_FLAG_W,DELC14,DELC14_FLAG_W,C14ERR,NEON,NEON_FLAG_W,NEONER,DOC,DOC_FLAG_W,TRITER,HELIER,DELHER,THETA,SBE35,SBE35_FLAG_W,BTL_DATE,BTL_TIME
,,,,,,,,,,,METERS,DBAR,ITS-90,PSS-78,PSS-78,,UMOL/KG,,UMOL/KG,,UMOL/KG,,UMOL/KG,,UMOL/KG,,UMOL/KG,,PMOL/KG,,PMOL/KG,,PMOL/KG,,FMOL/KG,,UMOL/KG,,UMOL/KG,,,,DEG C,TU,,NMOL/KG,,PERCNT,,/MILLE,,/MILLE,,/MILLE,NMOL/KG,,NMOL/KG,UMOL/KG,,TU,NMOL/KG,PERCNT,DEG C,ITS-90,,,
318M20091121,        P06,      41,          2,         29,         29,2,20091202,       1130,   -30.0801,   167.0000,       2839,     5.1,  22.3337,  35.7163,  35.7167,2,    221.7,2,   222.5,2,    0.46,2,    0.00,2,    0.00,2,    0.08,2,   2.035,2,   1.261,2,-999.000,1,    1.265,2,  -999.0,9,  2336.0,2,   8.0486,2,    25.00,-999.000,9,-999.0000,9, -999.00,9, -999.00,9,  -999.0,9,  -999.0,-999.000,9,-999.000,  -999.0,9,-999.000,-999.0000, -999.00,  22.3327,  22.3325,2,20091202,       1316
318M20091121,        P06,      41,          2,         28,         28,2,20091202,       1130,   -30.0801,   167.0000,       2839,    24.2,  21.5153,  35.6751,  35.6752,2,    228.5,2,   228.8,2,    0.25,2,    0.03,2,    0.00,2,    0.08,2,   2.122,2,   1.283,2,-999.000,1,    1.246,2,  -999.0,9,  -999.0,9,-999.0000,9,  -999.00,-999.000,9,-999.0000,9, -999.00,9, -999.00,9,  -999.0,9,  -999.0,-999.000,9,-999.000,  -999.0,9,-999.000,-999.0000, -999.00,  21.5106,  21.5233,2,20091202,       1314
318M20091121,        P06,      41,          2,         27,         27,2,20091202,       1130,   -30.0801,   167.0000,       2839,    49.7,  19.9712,  35.5999,  35.6080,2,    235.2,2,   234.8,2,    0.24,2,    0.00,2,    0.00,2,    0.09,2,   2.206,6,   1.334,6,-999.000,1,    1.135,6,  -999.0,9,  2328.5,6,   8.0500,6,    25.00,-999.000,9,-999.0000,9, -999.00,9, -999.00,9,  -999.0,9,  -999.0,-999.000,9,-999.000,  -999.0,9,-999.000,-999.0000, -999.00,  19.9620,  19.9636,3,20091202,       1311
318M20091121,        P06,      41,          2,         26,         26,2,20091202,       1130,   -30.0801,   167.0000,       2839,    75.8,  19.3840,  35.6145,  35.6146,2,    231.9,2,   233.1,2,    0.23,2,    0.00,2,    0.00,2,    0.10,2,   2.253,2,   1.362,2,-999.000,1,    1.141,2,  -999.0,9,  -999.0,9,-999.0000,9,  -999.00,-999.000,9,-999.0000,9, -999.00,9, -999.00,9,  -999.0,9,  -999.0,-999.000,9,-999.000,  -999.0,9,-999.000,-999.0000, -999.00,  19.3703,  19.3858,2,20091202,       1309
318M20091121,        P06,      41,          2,         25,         25,2,20091202,       1130,   -30.0801,   167.0000,       2839,   100.6,  18.9096,  35.6053,  35.6057,2,    219.9,2,   217.4,2,    0.43,2,    0.90,2,    0.17,2,    0.20,2,   2.266,2,   1.373,2,-999.000,1,    1.171,2,  -999.0,9,  2328.7,2,   8.0137,2,    25.00,-999.000,9,-999.0000,9, -999.00,9, -999.00,9,  -999.0,9,  -999.0,-999.000,9,-999.000,  -999.0,9,-999.000,-999.0000, -999.00,  18.8917,  18.9115,2,20091202,       1306
318M20091121,        P06,      41,          2,         24,         24,2,20091202,       1130,   -30.0801,   167.0000,       2839,   151.2,  18.1740,  35.6002,  35.5968,2,    211.9,2,   201.7,2,    1.02,2,    3.96,2,    0.02,2,    0.36,2,   2.302,2,   1.365,2,-999.000,1,    1.112,2,  -999.0,9,  -999.0,9,-999.0000,9,  -999.00,-999.000,9,-999.0000,9, -999.00,9, -999.00,9,  -999.0,9,  -999.0,-999.000,9,-999.000,  -999.0,9,-999.000,-999.0000, -999.00,  18.1478,  18.1714,2,20091202,       1304
318M20091121,        P06,      41,          2,         23,         23,2,20091202,       1130,   -30.0801,   167.0000,       2839,   201.2,  17.1312,  35.5441,  35.5431,2,    197.4,2,   204.0,2,    1.40,2,    4.87,2,    0.02,2,    0.43,2,   2.391,2,   1.410,2,-999.000,1,    1.138,2,  -999.0,9,  2323.0,2,   7.9558,2,    25.00,-999.000,9,-999.0000,9, -999.00,9, -999.00,9,  -999.0,9,  -999.0,-999.000,9,-999.000,  -999.0,9,-999.000,-999.0000, -999.00,  17.0977,  17.1319,2,20091202,       1300
318M20091121,        P06,      41,          2,         22,         22,2,20091202,       1130,   -30.0801,   167.0000,       2839,   251.5,  16.1439,  35.4594,  35.4589,2,    193.4,2,   192.2,2,    1.98,2,    7.42,2,    0.01,2,    0.59,2,   2.424,2,   1.402,2,-999.000,1,    0.923,2,  -999.0,9,  2320.9,2,   7.9144,4,    25.00,-999.000,9,-999.0000,9, -999.00,9, -999.00,9,  -999.0,9,  -999.0,-999.000,9,-999.000,  -999.0,9,-999.000,-999.0000, -999.00,  16.1036,  16.1469,2,20091202,       1257
318M20091121,        P06,      41,          2,         21,         21,2,20091202,       1130,   -30.0801,   167.0000,       2839,   301.8,  15.0701,  35.3578,  35.3598,2,    192.2,2,   193.0,2,    2.57,2,    9.03,2,    0.01,2,    0.69,2,   2.480,2,   1.406,2,-999.000,1,    0.854,2,  -999.0,9,  2317.7,6,   7.8851,4,    25.00,-999.000,9,-999.0000,9, -999.00,9, -999.00,9,  -999.0,9,  -999.0,-999.000,9,-999.000,  -999.0,9,-999.000,-999.0000, -999.00,  15.0240,  15.0727,2,20091202,       1254
318M20091121,        P06,      41,          2,         20,         20,2,20091202,       1130,   -30.0801,   167.0000,       2839,   350.8,  14.1022,  35.2457,  35.2462,2,    191.8,2,   192.4,2,    3.16,2,   10.64,2,    0.01,2,    0.80,2,   2.504,2,   1.405,2,-999.000,1,    0.798,2,  -999.0,9,  -999.0,9,-999.0000,9,  -999.00,-999.000,9,-999.0000,9, -999.00,9, -999.00,9,  -999.0,9,  -999.0,-999.000,9,-999.000,  -999.0,9,-999.000,-999.0000, -999.00,  14.0509,  14.1084,2,20091202,       1252
318M20091121,        P06,      41,          2,         19,         19,2,20091202,       1130,   -30.0801,   167.0000,       2839,   403.0,  12.8748,  35.1049,  35.1044,2,    192.9,2,   193.5,2,    4.14,2,   12.85,2,    0.00,2,    0.94,2,   2.515,2,   1.395,2,-999.000,1,    0.733,2,  -999.0,9,  2309.6,2,   7.8353,2,    25.00,-999.000,9,-999.0000,9, -999.00,9, -999.00,9,  -999.0,9,  -999.0,-999.000,9,-999.000,  -999.0,9,-999.000,-999.0000, -999.00,  12.8192,  12.8791,2,20091202,       1249
318M20091121,        P06,      41,          2,         18,         18,2,20091202,       1130,   -30.0801,   167.0000,       2839,   502.7,  10.9824,  34.8931,  34.8927,2,    195.6,2,   195.9,2,    6.31,2,   16.45,2,    0.00,2,    1.17,2,   2.463,2,   1.328,2,-999.000,1,    0.656,2,  -999.0,9,  -999.0,9,-999.0000,9,  -999.00,-999.000,9,-999.0000,9, -999.00,9, -999.00,9,  -999.0,9,  -999.0,-999.000,9,-999.000,  -999.0,9,-999.000,-999.0000, -999.00,  10.9197,  10.9844,2,20091202,       1245
318M20091121,        P06,      41,          2,         17,         17,2,20091202,       1130,   -30.0801,   167.0000,       2839,   604.1,   9.3502,  34.6904,  34.6925,2,    200.0,2,   201.9,2,    7.90,2,   19.45,2,    0.00,2,    1.37,2,   2.373,2,   1.236,2,-999.000,1,    0.378,2,  -999.0,9,  2292.7,2,   7.7516,2,    25.00,-999.000,9,-999.0000,9, -999.00,9, -999.00,9,  -999.0,9,  -999.0,-999.000,9,-999.000,  -999.0,9,-999.000,-999.0000, -999.00,   9.2818,   9.3546,2,20091202,       1241
318M20091121,        P06,      41,          2,         16,         16,2,20091202,       1130,   -30.0801,   167.0000,       2839,   704.5,   8.2842,  34.6108,  34.6105,2,    198.9,2,   200.7,2,   12.87,2,   22.25,2,    0.00,2,    1.55,2,   1.940,2,   0.994,2,-999.000,1,    0.234,2,  -999.0,9,  -999.0,9,-999.0000,9,  -999.00,-999.000,9,-999.0000,9, -999.00,9, -999.00,9,  -999.0,9,  -999.0,-999.000,9,-999.000,  -999.0,9,-999.000,-999.0000, -999.00,   8.2095,   8.2813,2,20091202,       1238
318M20091121,        P06,      41,          2,         15,         15,2,20091202,       1130,   -30.0801,   167.0000,       2839,   806.3,   7.2736,  34.5295,  34.5273,2,    198.9,2,   199.5,2,   18.24,2,   24.50,2,    0.00,2,    1.71,2,   1.536,2,   0.785,2,-999.000,1,    0.328,2,  -999.0,9,  2296.0,2,   7.6987,2,    25.00,-999.000,9,-999.0000,9, -999.00,9, -999.00,9,  -999.0,9,  -999.0,-999.000,9,-999.000,  -999.0,9,-999.000,-999.0000, -999.00,   7.1937,   7.2706,2,20091202,       1234
318M20091121,        P06,      41,          2,         14,         14,2,20091202,       1130,   -30.0801,   167.0000,       2839,   906.1,   6.5711,  34.4972,  34.4964,2,    195.1,2,   195.3,2,   24.25,2,   26.26,2,    0.00,2,    1.84,2,   1.211,2,   0.619,2,-999.000,1,    0.248,2,  -999.0,9,  -999.0,9,-999.0000,9,  -999.00,-999.000,9,-999.0000,9, -999.00,9, -999.00,9,  -999.0,9,  -999.0,-999.000,9,-999.000,  -999.0,9,-999.000,-999.0000, -999.00,   6.4855,   6.5704,2,20091202,       1230
318M20091121,        P06,      41,          2,         13,         13,2,20091202,       1130,   -30.0801,   167.0000,       2839,  1008.0,   5.8026,  34.4749,  34.4740,2,    189.9,2,   190.2,2,   32.48,2,   28.12,2,    0.00,2,    1.97,2,   0.873,2,   0.444,2,-999.000,1,    0.165,2,  -999.0,9,  2309.6,2,   7.6627,2,    25.00,-999.000,9,-999.0000,9, -999.00,9, -999.00,9,  -999.0,9,  -999.0,-999.000,9,-999.000,  -999.0,9,-999.000,-999.0000, -999.00,   5.7125,   5.8086,2,20091202,       1226
318M20091121,        P06,      41,          2,         12,         12,2,20091202,       1130,   -30.0801,   167.0000,       2839,  1109.3,   5.1364,  34.4798,  34.4785,2,    182.7,2,   182.2,2,   43.58,2,   29.89,2,    0.00,2,    2.09,2,   0.584,2,   0.305,2,-999.000,1,        0,2,  -999.0,9,  -999.0,9,-999.0000,9,  -999.00,-999.000,9,-999.0000,9, -999.00,9, -999.00,9,  -999.0,9,  -999.0,-999.000,9,-999.000,  -999.0,9,-999.000,-999.0000, -999.00,   5.0420,   5.1536,3,20091202,       1223
318M20091121,        P06,      41,          2,         11,         11,2,20091202,       1130,   -30.0801,   167.0000,       2839,  1209.7,   4.6603,  34.4978,  34.4971,2,    175.2,2,   175.7,2,   53.50,2,   31.01,2,    0.00,2,    2.18,2,   0.426,2,   0.226,2,-999.000,1,        0,2,  -999.0,9,  2323.7,2,   7.6299,2,    25.00,-999.000,9,-999.0000,9, -999.00,9, -999.00,9,  -999.0,9,  -999.0,-999.000,9,-999.000,  -999.0,9,-999.000,-999.0000, -999.00,   4.5608,   4.6565,2,20091202,       1219
318M20091121,        P06,      41,          2,         10,         10,2,20091202,       1130,   -30.0801,   167.0000,       2839,  1309.7,   4.0875,  34.5190,  34.5187,2,    168.5,2,   169.2,2,   64.70,2,   32.17,2,    0.00,2,    2.26,2,   0.299,2,   0.164,2,-999.000,1,        0,2,  -999.0,9,  -999.0,9,-999.0000,9,  -999.00,-999.000,9,-999.0000,9, -999.00,9, -999.00,9,  -999.0,9,  -999.0,-999.000,9,-999.000,  -999.0,9,-999.000,-999.0000, -999.00,   3.9845,   4.0887,2,20091202,       1215
318M20091121,        P06,      41,          2,          9,          9,2,20091202,       1130,   -30.0801,   167.0000,       2839,  1412.7,   3.6381,  34.5447,  34.5429,2,    162.9,2,   163.2,2,   75.33,2,   33.09,2,    0.00,2,    2.33,2,-999.000,9,-999.000,9,-999.000,9,-999.0000,9,  -999.0,9,  2346.0,2,   7.6012,2,    25.00,-999.000,9,-999.0000,9, -999.00,9, -999.00,9,  -999.0,9,  -999.0,-999.000,9,-999.000,  -999.0,9,-999.000,-999.0000, -999.00,   3.5307,   3.6387,2,20091202,       1211
318M20091121,        P06,      41,          2,          8,          8,2,20091202,       1130,   -30.0801,   167.0000,       2839,  1513.0,   3.2428,  34.5756,  34.5754,2,    158.1,2,   158.0,2,   85.58,2,   33.80,2,    0.00,2,    2.39,2,   0.124,2,   0.071,2,-999.000,1,        0,2,  -999.0,9,  -999.0,9,-999.0000,9,  -999.00,-999.000,9,-999.0000,9, -999.00,9, -999.00,9,  -999.0,9,  -999.0,-999.000,9,-999.000,  -999.0,9,-999.000,-999.0000, -999.00,   3.1311,   3.2459,2,20091202,       1207
318M20091121,        P06,      41,          2,          7,          7,2,20091202,       1130,   -30.0801,   167.0000,       2839,  1615.0,   3.0181,  34.5912,  34.5911,2,    155.2,2,   155.6,2,   91.74,2,   34.22,2,    0.00,2,    2.41,2,-999.000,9,-999.000,9,-999.000,9,-999.0000,9,  -999.0,9,  2364.0,2,   7.5884,2,    25.00,-999.000,9,-999.0000,9, -999.00,9, -999.00,9,  -999.0,9,  -999.0,-999.000,9,-999.000,  -999.0,9,-999.000,-999.0000, -999.00,   2.9003,   3.0180,2,20091202,       1203
318M20091121,        P06,      41,          2,          6,          6,2,20091202,       1130,   -30.0801,   167.0000,       2839,  1818.0,   2.6056,  34.6220,  34.6224,2,    152.6,2,   153.3,2,  101.83,2,   34.78,2,    0.00,2,    2.45,2,   0.027,2,   0.018,2,-999.000,1,        0,2,  -999.0,9,  -999.0,9,-999.0000,9,  -999.00,-999.000,9,-999.0000,9, -999.00,9, -999.00,9,  -999.0,9,  -999.0,-999.000,9,-999.000,  -999.0,9,-999.000,-999.0000, -999.00,   2.4758,   2.6053,2,20091202,       1158
318M20091121,        P06,      41,          2,          5,          5,2,20091202,       1130,   -30.0801,   167.0000,       2839,  2019.8,   2.3295,  34.6452,  34.6446,2,    153.1,2,   154.1,2,  108.02,2,   34.89,2,    0.00,2,    2.45,2,-999.000,9,-999.000,9,-999.000,9,-999.0000,9,  -999.0,9,  -999.0,9,-999.0000,9,  -999.00,-999.000,9,-999.0000,9, -999.00,9, -999.00,9,  -999.0,9,  -999.0,-999.000,9,-999.000,  -999.0,9,-999.000,-999.0000, -999.00,   2.1863,   2.3291,2,20091202,       1152
318M20091121,        P06,      41,          2,          4,          4,2,20091202,       1130,   -30.0801,   167.0000,       2839,  2275.5,   2.1402,  34.6622,  34.6630,2,    154.9,2,   155.4,2,  112.36,2,   34.89,2,    0.00,2,    2.45,2,   0.026,2,   0.018,2,-999.000,1,        0,2,  -999.0,9,  2388.3,2,   7.5884,2,    25.00,-999.000,9,-999.0000,9, -999.00,9, -999.00,9,  -999.0,9,  -999.0,-999.000,9,-999.000,  -999.0,9,-999.000,-999.0000, -999.00,   1.9776,   2.1396,2,20091202,       1146
318M20091121,        P06,      41,          2,          3,          3,2,20091202,       1130,   -30.0801,   167.0000,       2839,  2528.8,   2.0095,  34.6740,  34.6738,2,    156.9,2,   157.7,2,  115.04,2,   34.85,2,    0.00,2,    2.45,2,-999.000,9,-999.000,9,-999.000,9,-999.0000,9,  -999.0,9,  -999.0,9,-999.0000,9,  -999.00,-999.000,9,-999.0000,9, -999.00,9, -999.00,9,  -999.0,9,  -999.0,-999.000,9,-999.000,  -999.0,9,-999.000,-999.0000, -999.00,   1.8263,   2.0089,2,20091202,       1139
318M20091121,        P06,      41,          2,          2,          2,2,20091202,       1130,   -30.0801,   167.0000,       2839,  2682.2,   1.9688,  34.6780,  34.6791,2,    158.7,2,   159.2,2,  116.07,2,   34.75,2,    0.00,2,    2.44,2,   0.022,2,   0.016,2,-999.000,1,        0,2,  -999.0,9,  -999.0,9,-999.0000,9,  -999.00,-999.000,9,-999.0000,9, -999.00,9, -999.00,9,  -999.0,9,  -999.0,-999.000,9,-999.000,  -999.0,9,-999.000,-999.0000, -999.00,   1.7721,   1.9678,2,20091202,       1134
318M20091121,        P06,      41,          2,          1,          1,2,20091202,       1130,   -30.0801,   167.0000,       2839,  2860.7,   1.9279,  34.6823,  34.6829,2,    158.9,2,   159.0,2,  117.10,2,   34.76,2,    0.00,2,    2.44,2,   0.026,2,   0.021,2,-999.000,1,        0,2,  -999.0,9,  2396.6,6,   7.6033,6,    25.00,-999.000,9,-999.0000,9, -999.00,9, -999.00,9,  -999.0,9,  -999.0,-999.000,9,-999.000,  -999.0,9,-999.000,-999.0000, -999.00,   1.7151,   1.9279,2,20091202,       1130