BOTTLE,20220818CCHSIOAMB
EXPOCODE,SECT_ID,STNNBR,CASTNO,SAMPNO,BTLNBR,BTLNBR_FLAG_W,DATE,TIME,LATITUDE,LONGITUDE,DEPTH,CTDPRS,CTDTMP,CTDSAL,SALNTY,SALNTY_FLAG_W,CTDOXY,CTDOXY_FLAG_W,OXYGEN,OXYGEN_FLAG_W,SILCAT,SILCAT_FLAG_W,NITRAT,NITRAT_FLAG_W,NITRIT,NITRIT_FLAG_W,PHSPHT,PHSPHT_FLAG_W,CFC-11,CFC-11_FLAG_W,CFC-12,CFC-12_FLAG_W,CFC113,CFC113_FLAG_W,SF6,SF6_FLAG_W,TCARBN,TCARBN_FLAG_W,ALKALI,ALKALI_FLAG_W,PH_SWS,PH_SWS_FLAG_W,PH_TMP,TRITUM,TRITUM_FLAG_W,HELIUM,HELIUM_FLAG_W,DELHE3,DELHE3_FLAG_W,DELC13,DELC13_FLAG_W,DELC14,DELC14_FLAG_W,C14ERR,NEON,NEON_FLAG_W,NEONER,DOC,DOC_FLAG_W,TRITER,HELIER,DELHER,THETA,SBE35,SBE35_FLAG_W,BTL_DATE,BTL_TIME
,,,,,,,,,,,METERS,DBAR,ITS-90,PSS-78,PSS-78,,UMOL/KG,,UMOL/KG,,UMOL/KG,,UMOL/KG,,UMOL/KG,,UMOL/KG,,PMOL/KG,,PMOL/KG,,PMOL/KG,,FMOL/KG,,UMOL/KG,,UMOL/KG,,,,DEG C,TU,,NMOL/KG,,PERCNT,,/MILLE,,/MILLE,,/MILLE,NMOL/KG,,NMOL/KG,UMOL/KG,,TU,NMOL/KG,PERCNT,DEG C,ITS-90,,,
318M20091121,        P06,     109,          1,         36,         36,2,20091223,       2028,   -32.5000,  -158.8767,       5263,     3.9,  20.2433,  35.4511,  35.4521,2,    228.6,2,   228.6,2,    0.38,2,   -0.01,2,    0.01,2,    0.11,2,   2.065,2,   1.385,2,-999.000,1,    1.157,2,  2047.1,6,  2322.7,2,   8.0023,6,    25.00,-999.000,9,-999.0000,9, -999.00,9, -999.00,9,  -999.0,9,  -999.0,-999.000,9,-999.000,  -999.0,9,-999.000,-999.0000, -999.00,  20.2426,  20.2407,2,20091223,       2307
318M20091121,        P06,     109,          1,         35,         35,2,20091223,       2028,   -32.5000,  -158.8767,       5263,    20.6,  20.1146,  35.4474,  35.4465,2,    228.8,2,   228.5,2,    0.34,2,    0.00,2,    0.00,2,    0.10,2,   2.054,2,   1.382,2,-999.000,1,    1.328,2,  -999.0,9,  -999.0,9,-999.0000,9,  -999.00,-999.000,9,-999.0000,9, -999.00,9, -999.00,9,  -999.0,9,  -999.0,-999.000,9,-999.000,  -999.0,9,-999.000,-999.0000, -999.00,  20.1108,  20.1191,2,20091223,       2304
318M20091121,        P06,     109,          1,         34,         34,2,20091223,       2028,   -32.5000,  -158.8767,       5263,    41.6,  19.9142,  35.4349,  35.4353,2,    229.8,2,   229.4,2,    0.10,2,    0.00,2,    0.00,2,    0.10,2,   2.084,2,   1.398,2,-999.000,1,     1.29,2,  -999.0,9,  -999.0,9,-999.0000,9,  -999.00,-999.000,9,-999.0000,9, -999.00,9, -999.00,9,  -999.0,9,  -999.0,-999.000,9,-999.000,  -999.0,9,-999.000,-999.0000, -999.00,  19.9065,  19.9140,2,20091223,       2301
318M20091121,        P06,     109,          1,         33,         33,2,20091223,       2028,   -32.5000,  -158.8767,       5263,    67.0,  17.6317,  35.3890,  35.3814,2,    243.4,2,   244.4,2,    0.25,2,    0.00,2,    0.00,2,    0.10,2,   2.285,2,   1.521,2,-999.000,1,    1.289,2,  2043.9,2,  2320.7,6,   8.0037,2,    25.00,-999.000,9,-999.0000,9, -999.00,9, -999.00,9,  -999.0,9,  -999.0,-999.000,9,-999.000,  -999.0,9,-999.000,-999.0000, -999.00,  17.6204,  17.6301,2,20091223,       2259
318M20091121,        P06,     109,          1,         32,         32,2,20091223,       2028,   -32.5000,  -158.8767,       5263,    93.1,  16.8350,  35.3915,  35.3960,2,    242.3,2,   241.6,2,    0.21,2,    0.00,2,    0.00,2,    0.12,2,   2.302,2,   1.532,2,-999.000,1,    1.207,2,  -999.0,9,  -999.0,9,-999.0000,9,  -999.00,-999.000,9,-999.0000,9, -999.00,9, -999.00,9,  -999.0,9,  -999.0,-999.000,9,-999.000,  -999.0,9,-999.000,-999.0000, -999.00,  16.8197,  16.8578,2,20091223,       2257
318M20091121,        P06,     109,          1,         31,         31,2,20091223,       2028,   -32.5000,  -158.8767,       5263,   138.8,  16.2737,  35.4194,  35.4070,3,    227.2,2,   229.5,2,    0.18,2,    0.69,2,    0.21,2,    0.21,2,   2.331,2,   1.551,2,-999.000,1,    1.256,2,  2065.8,2,  2322.8,2,   7.9682,2,    25.00,-999.000,9,-999.0000,9, -999.00,9, -999.00,9,  -999.0,9,  -999.0,-999.000,9,-999.000,  -999.0,9,-999.000,-999.0000, -999.00,  16.2514,  16.2542,2,20091223,       2254
318M20091121,        P06,     109,          1,         30,         30,2,20091223,       2028,   -32.5000,  -158.8767,       5263,   183.7,  15.8807,  35.4223,  35.4220,2,    223.7,2,   225.0,2,    0.55,2,    2.04,2,    0.04,2,    0.28,2,   2.357,2,   1.559,2,-999.000,1,    1.259,2,  -999.0,9,  -999.0,9,-999.0000,9,  -999.00,-999.000,9,-999.0000,9, -999.00,9, -999.00,9,  -999.0,9,  -999.0,-999.000,9,-999.000,  -999.0,9,-999.000,-999.0000, -999.00,  15.8517,  15.8772,2,20091223,       2251
318M20091121,        P06,     109,          1,         29,         29,2,20091223,       2028,   -32.5000,  -158.8767,       5263,   233.8,  14.5895,  35.2633,  35.2700,2,    209.6,2,   209.6,2,    1.32,2,    5.76,2,    0.01,2,    0.54,2,   2.421,2,   1.585,2,-999.000,1,    0.988,2,  2096.4,2,  2314.1,2,   7.8961,2,    25.00,-999.000,9,-999.0000,9, -999.00,9, -999.00,9,  -999.0,9,  -999.0,-999.000,9,-999.000,  -999.0,9,-999.000,-999.0000, -999.00,  14.5546,  14.5775,2,20091223,       2248
318M20091121,        P06,     109,          1,         28,         28,2,20091223,       2028,   -32.5000,  -158.8767,       5263,   284.5,  13.0086,  35.0606,  35.0655,2,    202.0,2,   201.2,2,    2.10,2,    9.58,2,    0.01,2,    0.78,2,   2.548,2,   1.603,2,-999.000,1,     0.93,2,  -999.0,9,  -999.0,9,-999.0000,9,  -999.00,-999.000,9,-999.0000,9, -999.00,9, -999.00,9,  -999.0,9,  -999.0,-999.000,9,-999.000,  -999.0,9,-999.000,-999.0000, -999.00,  12.9693,  13.0079,2,20091223,       2242
318M20091121,        P06,     109,          1,         27,         27,2,20091223,       2028,   -32.5000,  -158.8767,       5263,   334.3,  11.6771,  34.9073,  34.9062,2,    206.7,2,   205.6,2,    2.87,2,   12.34,2,    0.01,2,    0.95,2,   2.642,2,   1.630,2,-999.000,1,     0.79,2,  2121.5,2,  2299.1,2,   7.8139,2,    25.00,-999.000,9,-999.0000,9, -999.00,9, -999.00,9,  -999.0,9,  -999.0,-999.000,9,-999.000,  -999.0,9,-999.000,-999.0000, -999.00,  11.6340,  11.6606,2,20091223,       2239
318M20091121,        P06,     109,          1,         26,         26,2,20091223,       2028,   -32.5000,  -158.8767,       5263,   386.6,  10.2680,  34.7334,  34.7327,2,    211.6,2,   211.8,2,    3.45,2,   14.91,2,    0.01,2,    1.11,2,   2.770,2,   1.688,2,-999.000,1,    0.766,2,  -999.0,9,  -999.0,9,-999.0000,9,  -999.00,-999.000,9,-999.0000,9, -999.00,9, -999.00,9,  -999.0,9,  -999.0,-999.000,9,-999.000,  -999.0,9,-999.000,-999.0000, -999.00,  10.2221,  10.2750,2,20091223,       2236
318M20091121,        P06,     109,          1,         25,         25,2,20091223,       2028,   -32.5000,  -158.8767,       5263,   468.4,   8.4643,  34.5233,  34.5244,2,    224.3,2,   224.9,2,    4.44,2,   18.47,2,    0.00,2,    1.33,2,   2.940,6,   1.747,6,-999.000,1,   0.6155,6,  2134.9,2,  2286.4,6,   7.7497,2,    25.00,-999.000,9,-999.0000,9, -999.00,9, -999.00,9,  -999.0,9,  -999.0,-999.000,9,-999.000,  -999.0,9,-999.000,-999.0000, -999.00,   8.4148,   8.4744,2,20091223,       2233
318M20091121,        P06,     109,          1,         24,         24,2,20091223,       2028,   -32.5000,  -158.8767,       5263,   569.1,   7.4709,  34.4292,  34.4286,2,    234.2,2,   235.6,2,    5.62,2,   20.70,2,    0.00,2,    1.47,2,   3.095,2,   1.796,2,-999.000,1,    0.443,2,  2138.5,2,  2284.2,2,   7.7395,2,    25.00,-999.000,9,-999.0000,9, -999.00,9, -999.00,9,  -999.0,9,  -999.0,-999.000,9,-999.000,  -999.0,9,-999.000,-999.0000, -999.00,   7.4146,   7.4698,2,20091223,       2229
318M20091121,        P06,     109,          1,         23,         23,2,20091223,       2028,   -32.5000,  -158.8767,       5263,   670.6,   6.9738,  34.3861,  34.3860,2,    237.1,2,   237.4,2,    7.02,2,   22.07,2,    0.00,2,    1.55,2,   2.677,2,   1.539,2,-999.000,1,    0.254,2,  2142.7,2,  2283.9,2,   7.7311,2,    25.00,-999.000,9,-999.0000,9, -999.00,9, -999.00,9,  -999.0,9,  -999.0,-999.000,9,-999.000,  -999.0,9,-999.000,-999.0000, -999.00,   6.9096,   6.9720,2,20091223,       2226
318M20091121,        P06,     109,          1,         22,         22,2,20091223,       2028,   -32.5000,  -158.8767,       5263,   772.3,   6.5021,  34.3564,  34.3549,2,    233.8,2,   233.8,2,    9.02,2,   23.64,2,    0.00,2,    1.65,2,   2.132,2,   1.207,2,-999.000,1,     0.14,2,  2146.8,2,  2284.3,2,   7.7215,2,    25.00,-999.000,9,-999.0000,9, -999.00,9, -999.00,9,  -999.0,9,  -999.0,-999.000,9,-999.000,  -999.0,9,-999.000,-999.0000, -999.00,   6.4304,   6.5027,2,20091223,       2223
318M20091121,        P06,     109,          1,         21,         21,2,20091223,       2028,   -32.5000,  -158.8767,       5263,   868.3,   5.9383,  34.3272,  34.3266,2,    229.2,2,   227.6,2,   12.46,2,   25.50,2,    0.00,2,    1.78,2,   1.543,2,   0.851,2,-999.000,1,    0.044,2,  -999.0,5,  2286.2,2,   7.7029,2,    25.00,-999.000,9,-999.0000,9, -999.00,9, -999.00,9,  -999.0,9,  -999.0,-999.000,9,-999.000,  -999.0,9,-999.000,-999.0000, -999.00,   5.8608,   5.9340,2,20091223,       2220
318M20091121,        P06,     109,          1,         20,         20,2,20091223,       2028,   -32.5000,  -158.8767,       5263,   971.7,   5.2374,  34.3217,  34.3209,2,    213.6,2,   212.4,2,   20.22,2,   28.17,2,    0.00,2,    1.96,2,   0.911,2,   0.493,2,-999.000,1,        0,2,  2172.7,2,  2292.0,2,   7.6717,2,    25.00,-999.000,9,-999.0000,9, -999.00,9, -999.00,9,  -999.0,9,  -999.0,-999.000,9,-999.000,  -999.0,9,-999.000,-999.0000, -999.00,   5.1552,   5.2455,2,20091223,       2216
318M20091121,        P06,     109,          1,         19,         19,2,20091223,       2028,   -32.5000,  -158.8767,       5263,  1073.9,   4.6046,  34.3303,  34.3309,2,    201.6,2,   200.9,2,   28.80,2,   30.32,2,    0.00,2,    2.11,2,   0.550,2,   0.300,2,-999.000,1,        0,2,  2189.0,6,  2299.0,2,   7.6436,2,    25.00,-999.000,9,-999.0000,9, -999.00,9, -999.00,9,  -999.0,9,  -999.0,-999.000,9,-999.000,  -999.0,9,-999.000,-999.0000, -999.00,   4.5181,   4.6043,2,20091223,       2213
318M20091121,        P06,     109,          1,         18,         18,2,20091223,       2028,   -32.5000,  -158.8767,       5263,  1174.1,   4.0461,  34.3584,  34.3572,2,    190.7,2,   191.8,2,   38.43,2,   31.93,2,    0.00,2,    2.23,2,   0.341,2,   0.188,2,-999.000,1,        0,2,  -999.0,9,  -999.0,9,-999.0000,9,  -999.00,-999.000,9,-999.0000,9, -999.00,9, -999.00,9,  -999.0,9,  -999.0,-999.000,9,-999.000,  -999.0,9,-999.000,-999.0000, -999.00,   3.9556,   4.0449,2,20091223,       2208
318M20091121,        P06,     109,          1,         17,         17,2,20091223,       2028,   -32.5000,  -158.8767,       5263,  1272.7,   3.5425,  34.3993,  34.3991,2,    181.4,2,   181.9,2,   49.30,2,   33.23,2,    0.00,2,    2.32,2,   0.165,2,   0.096,2,-999.000,1,        0,2,  2221.8,2,  2319.6,2,   7.6008,2,    25.00,-999.000,9,-999.0000,9, -999.00,9, -999.00,9,  -999.0,9,  -999.0,-999.000,9,-999.000,  -999.0,9,-999.000,-999.0000, -999.00,   3.4483,   3.5419,2,20091223,       2205
318M20091121,        P06,     109,          1,         16,         16,2,20091223,       2028,   -32.5000,  -158.8767,       5263,  1374.4,   3.1690,  34.4530,  34.4520,2,    173.9,2,   173.2,2,   60.63,2,   34.00,2,    0.00,2,    2.39,2,   0.088,2,   0.055,2,-999.000,1,        0,2,  -999.0,9,  -999.0,9,-999.0000,9,  -999.00,-999.000,9,-999.0000,9, -999.00,9, -999.00,9,  -999.0,9,  -999.0,-999.000,9,-999.000,  -999.0,9,-999.000,-999.0000, -999.00,   3.0700,   3.1707,2,20091223,       2201
318M20091121,        P06,     109,          1,         15,         15,2,20091223,       2028,   -32.5000,  -158.8767,       5263,  1546.9,   2.7631,  34.5337,  34.5332,2,    163.7,2,   163.2,2,   77.99,2,   34.55,2,    0.00,2,    2.42,2,   0.025,2,   0.020,2,-999.000,1,        0,2,  2260.2,2,  2352.3,2,   7.5785,2,    25.00,-999.000,9,-999.0000,9, -999.00,9, -999.00,9,  -999.0,9,  -999.0,-999.000,9,-999.000,  -999.0,9,-999.000,-999.0000, -999.00,   2.6542,   2.7621,2,20091223,       2156
318M20091121,        P06,     109,          1,         14,         14,2,20091223,       2028,   -32.5000,  -158.8767,       5263,  1754.5,   2.4803,  34.5929,  34.5921,2,    155.3,2,   156.2,2,   94.78,2,   34.95,2,    0.00,2,    2.46,2,   0.008,2,   0.006,2,-999.000,1,        0,2,  -999.0,9,  -999.0,9,-999.0000,9,  -999.00,-999.000,9,-999.0000,9, -999.00,9, -999.00,9,  -999.0,9,  -999.0,-999.000,9,-999.000,  -999.0,9,-999.000,-999.0000, -999.00,   2.3576,   2.4806,2,20091223,       2151
318M20091121,        P06,     109,          1,         13,         13,2,20091223,       2028,   -32.5000,  -158.8767,       5263,  1953.4,   2.2876,  34.6217,  34.6209,2,    151.6,2,   151.7,2,  106.42,2,   35.26,2,    0.00,2,    2.49,2,   0.008,2,   0.007,2,-999.000,1,        0,2,  2291.9,2,  2386.8,2,   7.5763,2,    25.00,-999.000,9,-999.0000,9, -999.00,9, -999.00,9,  -999.0,9,  -999.0,-999.000,9,-999.000,  -999.0,9,-999.000,-999.0000, -999.00,   2.1508,   2.2874,2,20091223,       2146
318M20091121,        P06,     109,          1,         12,         12,2,20091223,       2028,   -32.5000,  -158.8767,       5263,  2186.7,   2.1101,  34.6407,  34.6395,2,    148.5,2,   149.2,2,  116.00,2,   35.61,2,    0.00,2,    2.52,2,   0.007,2,   0.006,2,-999.000,1,        0,2,  -999.0,9,  -999.0,9,-999.0000,9,  -999.00,-999.000,9,-999.0000,9, -999.00,9, -999.00,9,  -999.0,9,  -999.0,-999.000,9,-999.000,  -999.0,9,-999.000,-999.0000, -999.00,   1.9559,   2.1101,2,20091223,       2141
318M20091121,        P06,     109,          1,         11,         11,2,20091223,       2028,   -32.5000,  -158.8767,       5263,  2445.1,   1.9673,  34.6530,  34.6519,2,    147.4,2,   147.6,2,  123.30,2,   35.77,2,    0.00,2,    2.53,2,   0.006,2,   0.005,2,-999.000,1,        0,2,  2310.0,2,  2406.5,2,   7.5756,2,    25.00,-999.000,9,-999.0000,9, -999.00,9, -999.00,9,  -999.0,9,  -999.0,-999.000,9,-999.000,  -999.0,9,-999.000,-999.0000, -999.00,   1.7926,   1.9673,2,20091223,       2134
318M20091121,        P06,     109,          1,         10,         10,2,20091223,       2028,   -32.5000,  -158.8767,       5263,  2695.3,   1.8801,  34.6606,  34.6596,2,    148.2,2,   148.3,2,  126.84,2,   35.77,2,    0.00,2,    2.53,2,   0.051,4,   0.035,4,-999.000,1,        0,4,  -999.0,9,  -999.0,9,-999.0000,9,  -999.00,-999.000,9,-999.0000,9, -999.00,9, -999.00,9,  -999.0,9,  -999.0,-999.000,9,-999.000,  -999.0,9,-999.000,-999.0000, -999.00,   1.6841,   1.8798,2,20091223,       2128
318M20091121,        P06,     109,          1,          9,          9,2,20091223,       2028,   -32.5000,  -158.8767,       5263,  2953.8,   1.8016,  34.6679,  34.6681,3,    150.7,2,   150.4,2,  128.90,2,   35.61,2,    0.00,2,    2.52,2,   0.006,2,   0.005,2,-999.000,1,        0,2,  2313.8,2,  2406.7,2,   7.5782,2,    25.00,-999.000,9,-999.0000,9, -999.00,9, -999.00,9,  -999.0,9,  -999.0,-999.000,9,-999.000,  -999.0,9,-999.000,-999.0000, -999.00,   1.5826,   1.8009,2,20091223,       2123
318M20091121,        P06,     109,          1,          8,          8,2,20091223,       2028,   -32.5000,  -158.8767,       5263,  3247.9,   1.7071,  34.6786,  34.6771,2,    156.9,2,   156.9,2,  128.24,2,   35.11,2,    0.00,2,    2.48,2,   0.007,2,   0.007,2,-999.000,1,        0,2,  -999.0,9,  -999.0,9,-999.0000,9,  -999.00,-999.000,9,-999.0000,9, -999.00,9, -999.00,9,  -999.0,9,  -999.0,-999.000,9,-999.000,  -999.0,9,-999.000,-999.0000, -999.00,   1.4614,   1.7070,2,20091223,       2116
318M20091121,        P06,     109,          1,          7,          7,2,20091223,       2028,   -32.5000,  -158.8767,       5263,  3544.5,   1.6101,  34.6933,  34.6919,2,    169.4,2,   169.9,2,  122.54,2,   34.04,2,    0.00,2,    2.40,2,   0.008,2,   0.007,2,-999.000,1,        0,2,  2294.2,2,  2393.9,2,   7.5949,2,    25.00,-999.000,9,-999.0000,9, -999.00,9, -999.00,9,  -999.0,9,  -999.0,-999.000,9,-999.000,  -999.0,9,-999.000,-999.0000, -999.00,   1.3365,   1.6104,2,20091223,       2110
318M20091121,        P06,     109,          1,          6,          6,2,20091223,       2028,   -32.5000,  -158.8767,       5263,  3857.0,   1.4790,  34.7109,  34.7094,2,    186.5,2,   187.6,2,  114.14,2,   32.53,2,    0.00,2,    2.29,2,   0.013,2,   0.011,2,-999.000,1,        0,2,  -999.0,9,  -999.0,9,-999.0000,9,  -999.00,-999.000,9,-999.0000,9, -999.00,9, -999.00,9,  -999.0,9,  -999.0,-999.000,9,-999.000,  -999.0,9,-999.000,-999.0000, -999.00,   1.1759,   1.4795,2,20091223,       2103
318M20091121,        P06,     109,          1,          5,         37,2,20091223,       2028,   -32.5000,  -158.8767,       5263,  4265.1,   1.2433,  34.7150,  34.7139,2,    199.9,2,   199.9,2,  114.31,2,   31.88,2,    0.00,2,    2.24,2,   0.023,2,   0.017,2,-999.000,1,        0,2,  2262.6,2,  -999.0,9,-999.0000,9,  -999.00,-999.000,9,-999.0000,9, -999.00,9, -999.00,9,  -999.0,9,  -999.0,-999.000,9,-999.000,  -999.0,9,-999.000,-999.0000, -999.00,   0.9025,   1.2437,2,20091223,       2055
318M20091121,        P06,     109,          1,          4,          4,2,20091223,       2028,   -32.5000,  -158.8767,       5263,  4574.5,   1.1284,  34.7123,  34.7105,2,    203.6,2,   203.7,2,  117.22,2,   31.98,2,    0.00,2,    2.23,2,   0.031,2,   0.019,2,-999.000,1,        0,2,  -999.0,9,  -999.0,9,-999.0000,9,  -999.00,-999.000,9,-999.0000,9, -999.00,9, -999.00,9,  -999.0,9,  -999.0,-999.000,9,-999.000,  -999.0,9,-999.000,-999.0000, -999.00,   0.7563,   1.1285,2,20091223,       2049
318M20091121,        P06,     109,          1,          3,          3,2,20091223,       2028,   -32.5000,  -158.8767,       5263,  4958.4,   1.0833,  34.7096,  34.7084,2,    205.3,2,   205.2,2,  119.70,2,   31.98,2,    0.00,2,    2.24,2,   0.044,2,   0.028,2,-999.000,1,        0,2,  2263.4,2,  2369.3,6,   7.6175,2,    25.00,-999.000,9,-999.0000,9, -999.00,9, -999.00,9,  -999.0,9,  -999.0,-999.000,9,-999.000,  -999.0,9,-999.000,-999.0000, -999.00,   0.6679,   1.0832,2,20091223,       2041
318M20091121,        P06,     109,          1,          2,          2,2,20091223,       2028,   -32.5000,  -158.8767,       5263,  5091.0,   1.0895,  34.7092,  34.7076,2,    205.5,2,   205.6,2,  120.08,2,   32.03,2,    0.00,2,    2.24,2,   0.057,2,   0.034,2,-999.000,1,        0,2,  -999.0,9,  -999.0,9,-999.0000,9,  -999.00,-999.000,9,-999.0000,9, -999.00,9, -999.00,9,  -999.0,9,  -999.0,-999.000,9,-999.000,  -999.0,9,-999.000,-999.0000, -999.00,   0.6580,   1.0897,2,20091223,       2036
318M20091121,        P06,     109,          1,          1,          1,2,20091223,       2028,   -32.5000,  -158.8767,       5263,  5382.3,   1.1162,  34.7088,  34.7081,2,    206.0,2,   205.7,2,  120.47,2,   31.98,2,    0.00,2,    2.25,2,   0.053,2,   0.032,2,-999.000,1,        0,2,  2263.6,6,  2368.4,2,   7.6176,6,    25.00,-999.000,9,-999.0000,9, -999.00,9, -999.00,9,  -999.0,9,  -999.0,-999.000,9,-999.000,  -999.0,9,-999.000,-999.0000, -999.00,   0.6481,   1.1167,2,20091223,       2028