BOTTLE,20220818CCHSIOAMB
EXPOCODE,SECT_ID,STNNBR,CASTNO,SAMPNO,BTLNBR,BTLNBR_FLAG_W,DATE,TIME,LATITUDE,LONGITUDE,DEPTH,CTDPRS,CTDTMP,CTDSAL,SALNTY,SALNTY_FLAG_W,CTDOXY,CTDOXY_FLAG_W,OXYGEN,OXYGEN_FLAG_W,SILCAT,SILCAT_FLAG_W,NITRAT,NITRAT_FLAG_W,NITRIT,NITRIT_FLAG_W,PHSPHT,PHSPHT_FLAG_W,CFC-11,CFC-11_FLAG_W,CFC-12,CFC-12_FLAG_W,CFC113,CFC113_FLAG_W,SF6,SF6_FLAG_W,TCARBN,TCARBN_FLAG_W,ALKALI,ALKALI_FLAG_W,PH_SWS,PH_SWS_FLAG_W,PH_TMP,TRITUM,TRITUM_FLAG_W,HELIUM,HELIUM_FLAG_W,DELHE3,DELHE3_FLAG_W,DELC13,DELC13_FLAG_W,DELC14,DELC14_FLAG_W,C14ERR,NEON,NEON_FLAG_W,NEONER,DOC,DOC_FLAG_W,TRITER,HELIER,DELHER,THETA,SBE35,SBE35_FLAG_W,BTL_DATE,BTL_TIME
,,,,,,,,,,,METERS,DBAR,ITS-90,PSS-78,PSS-78,,UMOL/KG,,UMOL/KG,,UMOL/KG,,UMOL/KG,,UMOL/KG,,UMOL/KG,,PMOL/KG,,PMOL/KG,,PMOL/KG,,FMOL/KG,,UMOL/KG,,UMOL/KG,,,,DEG C,TU,,NMOL/KG,,PERCNT,,/MILLE,,/MILLE,,/MILLE,NMOL/KG,,NMOL/KG,UMOL/KG,,TU,NMOL/KG,PERCNT,DEG C,ITS-90,,,
318M20091121,        P06,      46,          1,         28,         28,2,20091203,       1525,   -30.0802,   169.5000,       2706,     5.9,  21.5933,  35.6432,  35.6450,2,    225.7,2,   224.7,2,    0.63,2,    0.00,2,    0.00,2,    0.08,2,   2.138,6,   1.328,6,-999.000,1,   1.1405,6,  2033.0,6,  2336.7,6,   8.0376,2,    25.00,-999.000,9,-999.0000,9, -999.00,9, -999.00,9,  -999.0,9,  -999.0,-999.000,9,-999.000,    56.1,2,-999.000,-999.0000, -999.00,  21.5921,  21.5836,2,20091203,       1655
318M20091121,        P06,      46,          1,         27,         27,2,20091203,       1525,   -30.0802,   169.5000,       2706,    24.9,  20.5455,  35.6633,  35.6634,2,    232.4,2,   232.2,2,    0.62,2,    0.00,2,    0.00,2,    0.07,2,   2.167,2,   1.331,2,-999.000,1,    1.126,2,  2032.3,2,  2340.2,2,   8.0409,6,    25.00,-999.000,9,-999.0000,9, -999.00,9, -999.00,9,  -999.0,9,  -999.0,-999.000,9,-999.000,    60.2,2,-999.000,-999.0000, -999.00,  20.5408,  20.5410,2,20091203,       1652
318M20091121,        P06,      46,          1,         26,         26,2,20091203,       1525,   -30.0802,   169.5000,       2706,    51.3,  19.3805,  35.6329,  35.6353,2,    237.2,2,   237.8,2,    0.40,2,    0.00,2,    0.00,2,    0.08,2,   2.239,2,   1.384,2,-999.000,1,    1.169,2,  2031.5,2,  2335.2,2,   8.0372,2,    25.00,-999.000,9,-999.0000,9, -999.00,9, -999.00,9,  -999.0,9,  -999.0,-999.000,9,-999.000,    59.5,2,-999.000,-999.0000, -999.00,  19.3712,  19.3881,2,20091203,       1649
318M20091121,        P06,      46,          1,         25,         25,2,20091203,       1525,   -30.0802,   169.5000,       2706,    75.7,  18.9326,  35.6188,  35.6183,2,    234.5,2,   234.3,2,    0.59,2,    0.00,2,    0.00,2,    0.10,2,   2.266,2,   1.394,2,-999.000,1,    1.163,2,  2036.3,2,  2336.7,2,   8.0307,2,    25.00,-999.000,9,-999.0000,9, -999.00,9, -999.00,9,  -999.0,9,  -999.0,-999.000,9,-999.000,    61.8,2,-999.000,-999.0000, -999.00,  18.9191,  18.9326,2,20091203,       1647
318M20091121,        P06,      46,          1,         24,         24,2,20091203,       1525,   -30.0802,   169.5000,       2706,   100.6,  18.5670,  35.6060,  35.6062,2,    220.9,2,   222.3,2,    0.58,2,   -0.09,2,    0.08,2,    0.17,2,   2.272,2,   1.397,2,-999.000,1,    1.164,2,  2047.3,2,  2329.4,2,   8.0075,2,    25.00,-999.000,9,-999.0000,9, -999.00,9, -999.00,9,  -999.0,9,  -999.0,-999.000,9,-999.000,    51.8,2,-999.000,-999.0000, -999.00,  18.5493,  18.5614,2,20091203,       1645
318M20091121,        P06,      46,          1,         23,         23,2,20091203,       1525,   -30.0802,   169.5000,       2706,   147.7,  17.8194,  35.5837,  35.5853,2,    210.6,2,   212.0,2,    0.96,2,    1.96,2,    0.02,2,    0.29,2,   2.298,2,   1.395,2,-999.000,1,    1.164,2,  2062.2,2,  2329.4,2,   7.9793,2,    25.00,-999.000,9,-999.0000,9, -999.00,9, -999.00,9,  -999.0,9,  -999.0,-999.000,9,-999.000,    52.7,2,-999.000,-999.0000, -999.00,  17.7941,  17.8486,3,20091203,       1643
318M20091121,        P06,      46,          1,         22,         22,2,20091203,       1525,   -30.0802,   169.5000,       2706,   197.7,  17.0014,  35.5405,  35.5402,2,    204.8,2,   204.5,2,    1.34,2,    3.97,2,    0.01,2,    0.42,2,   2.355,2,   1.420,2,-999.000,1,     1.13,2,  2078.5,2,  2327.4,2,   7.9474,2,    25.00,-999.000,9,-999.0000,9, -999.00,9, -999.00,9,  -999.0,9,  -999.0,-999.000,9,-999.000,    47.7,2,-999.000,-999.0000, -999.00,  16.9686,  17.0089,2,20091203,       1640
318M20091121,        P06,      46,          1,         21,         21,2,20091203,       1525,   -30.0802,   169.5000,       2706,   247.8,  16.0974,  35.4994,  35.4999,2,    220.1,2,   220.9,2,    1.52,2,    3.33,2,    0.01,2,    0.40,2,   2.489,2,   1.498,2,-999.000,1,    1.135,2,  2066.5,3,  2325.7,2,   7.9520,4,    25.00,-999.000,9,-999.0000,9, -999.00,9, -999.00,9,  -999.0,9,  -999.0,-999.000,9,-999.000,    53.6,2,-999.000,-999.0000, -999.00,  16.0578,  16.1063,2,20091203,       1638
318M20091121,        P06,      46,          1,         20,         20,2,20091203,       1525,   -30.0802,   169.5000,       2706,   298.3,  15.1537,  35.3959,  35.3962,2,    206.8,2,   203.3,2,    2.50,2,    6.89,2,    0.01,2,    0.62,2,   2.494,2,   1.471,2,-999.000,1,    1.047,2,  2095.2,2,  2322.8,2,   7.9025,2,    25.00,-999.000,9,-999.0000,9, -999.00,9, -999.00,9,  -999.0,9,  -999.0,-999.000,9,-999.000,    45.7,2,-999.000,-999.0000, -999.00,  15.1079,  15.1604,2,20091203,       1636
318M20091121,        P06,      46,          1,         19,         19,2,20091203,       1525,   -30.0802,   169.5000,       2706,   349.4,  13.8992,  35.2660,  35.2673,2,    203.1,2,   200.9,2,    3.48,2,    9.29,2,    0.01,2,    0.76,2,   2.514,2,   1.466,2,-999.000,1,    0.934,2,  2107.9,2,  2317.1,2,   7.8665,2,    25.00,-999.000,9,-999.0000,9, -999.00,9, -999.00,9,  -999.0,9,  -999.0,-999.000,9,-999.000,    54.1,2,-999.000,-999.0000, -999.00,  13.8486,  13.8951,2,20091203,       1633
318M20091121,        P06,      46,          1,         18,         18,2,20091203,       1525,   -30.0802,   169.5000,       2706,   400.0,  13.1987,  35.2013,  35.2014,2,    200.5,2,   201.3,2,    4.26,2,   10.68,2,    0.01,2,    0.85,2,   2.533,2,   1.452,2,-999.000,1,    0.924,2,  2116.6,2,  2313.1,2,   7.8491,2,    25.00,-999.000,9,-999.0000,9, -999.00,9, -999.00,9,  -999.0,9,  -999.0,-999.000,9,-999.000,    46.9,2,-999.000,-999.0000, -999.00,  13.1426,  13.2008,2,20091203,       1631
318M20091121,        P06,      46,          1,         17,         17,2,20091203,       1525,   -30.0802,   169.5000,       2706,   501.4,  11.4131,  34.9495,  34.9496,2,    196.1,2,   195.4,2,    5.83,2,   14.87,2,    0.01,2,    1.11,2,   2.457,2,   1.361,2,-999.000,1,    0.738,2,  2130.9,2,  2302.8,2,   7.7940,2,    25.00,-999.000,9,-999.0000,9, -999.00,9, -999.00,9,  -999.0,9,  -999.0,-999.000,9,-999.000,    44.1,2,-999.000,-999.0000, -999.00,  11.3490,  11.4138,2,20091203,       1628
318M20091121,        P06,      46,          1,         16,         16,2,20091203,       1525,   -30.0802,   169.5000,       2706,   602.6,  10.0419,  34.8133,  34.8113,2,    197.4,2,   197.4,2,    9.00,2,   17.99,2,    0.00,2,    1.31,2,   2.300,2,   1.242,2,-999.000,1,    0.545,2,  2140.0,2,  2298.7,2,   7.7616,2,    25.00,-999.000,9,-999.0000,9, -999.00,9, -999.00,9,  -999.0,9,  -999.0,-999.000,9,-999.000,  -999.0,9,-999.000,-999.0000, -999.00,   9.9705,  10.0487,2,20091203,       1624
318M20091121,        P06,      46,          1,         15,         15,2,20091203,       1525,   -30.0802,   169.5000,       2706,   706.3,   8.5408,  34.6254,  34.6237,2,    201.6,2,   202.6,2,   11.17,2,   20.89,2,    0.00,2,    1.50,2,   2.120,2,   1.113,2,-999.000,1,    0.535,2,  2149.1,2,  2293.0,2,   7.7294,6,    25.00,-999.000,9,-999.0000,9, -999.00,9, -999.00,9,  -999.0,9,  -999.0,-999.000,9,-999.000,    40.0,2,-999.000,-999.0000, -999.00,   8.4646,   8.5373,2,20091203,       1621
318M20091121,        P06,      46,          1,         14,         14,2,20091203,       1525,   -30.0802,   169.5000,       2706,   802.2,   7.7189,  34.5685,  34.5659,2,    198.1,2,   199.4,2,   16.15,2,   23.14,2,    0.00,2,    1.65,2,   1.715,2,   0.896,2,-999.000,1,    0.189,2,  2159.8,2,  2295.5,2,   7.7086,2,    25.00,-999.000,9,-999.0000,9, -999.00,9, -999.00,9,  -999.0,9,  -999.0,-999.000,9,-999.000,  -999.0,9,-999.000,-999.0000, -999.00,   7.6367,   7.7179,2,20091203,       1618
318M20091121,        P06,      46,          1,         13,         13,2,20091203,       1525,   -30.0802,   169.5000,       2706,   903.0,   6.9186,  34.5337,  34.5289,2,    190.5,2,   193.0,2,   23.93,2,   25.44,2,    0.00,2,    1.80,2,   1.284,2,   0.664,2,-999.000,1,    0.167,2,  2172.8,2,  2302.1,6,   7.6837,2,    25.00,-999.000,9,-999.0000,9, -999.00,9, -999.00,9,  -999.0,9,  -999.0,-999.000,9,-999.000,    39.0,2,-999.000,-999.0000, -999.00,   6.8309,   6.9200,2,20091203,       1615
318M20091121,        P06,      46,          1,         12,         12,2,20091203,       1525,   -30.0802,   169.5000,       2706,  1006.0,   5.8813,  34.4636,  34.4634,2,    191.6,2,   193.6,2,   30.14,2,   27.55,2,    0.00,2,    1.94,2,   0.927,2,   0.478,2,-999.000,1,    0.157,2,  2181.6,2,  2304.5,2,   7.6684,2,    25.00,-999.000,9,-999.0000,9, -999.00,9, -999.00,9,  -999.0,9,  -999.0,-999.000,9,-999.000,  -999.0,9,-999.000,-999.0000, -999.00,   5.7908,   5.8829,2,20091203,       1612
318M20091121,        P06,      46,          1,         11,         11,2,20091203,       1525,   -30.0802,   169.5000,       2706,  1107.8,   5.1848,  34.4633,  34.4628,2,    185.6,2,   186.1,2,   40.20,2,   29.27,2,    0.00,2,    2.06,2,   0.633,2,   0.331,2,-999.000,1,        0,2,  2200.0,6,  2318.3,2,   7.6478,2,    25.00,-999.000,9,-999.0000,9, -999.00,9, -999.00,9,  -999.0,9,  -999.0,-999.000,9,-999.000,  -999.0,9,-999.000,-999.0000, -999.00,   5.0902,   5.1844,2,20091203,       1608
318M20091121,        P06,      46,          1,         10,         10,2,20091203,       1525,   -30.0802,   169.5000,       2706,  1209.9,   4.5891,  34.4807,  34.4803,2,    179.0,2,   178.3,2,   51.93,2,   30.83,2,    0.00,2,    2.17,2,-999.000,9,-999.000,9,-999.000,9,-999.0000,9,  2216.4,2,  2326.5,2,   7.6327,2,    25.00,-999.000,9,-999.0000,9, -999.00,9, -999.00,9,  -999.0,9,  -999.0,-999.000,9,-999.000,    36.9,2,-999.000,-999.0000, -999.00,   4.4903,   4.5848,2,20091203,       1605
318M20091121,        P06,      46,          1,          9,          9,2,20091203,       1525,   -30.0802,   169.5000,       2706,  1312.3,   4.0341,  34.5061,  34.5049,2,    172.5,2,   172.2,2,   63.70,2,   31.97,2,    0.00,2,    2.26,2,   0.277,2,   0.150,2,-999.000,1,        0,2,  2233.9,2,  2341.7,2,   7.6125,2,    25.00,-999.000,9,-999.0000,9, -999.00,9, -999.00,9,  -999.0,9,  -999.0,-999.000,9,-999.000,  -999.0,9,-999.000,-999.0000, -999.00,   3.9314,   4.0367,2,20091203,       1601
318M20091121,        P06,      46,          1,          8,          8,2,20091203,       1525,   -30.0802,   169.5000,       2706,  1408.9,   3.7107,  34.5307,  34.5336,2,    167.9,2,   167.8,2,   72.47,2,   32.65,2,    0.00,2,    2.30,2,-999.000,9,-999.000,9,-999.000,9,-999.0000,9,  2245.0,2,  2349.2,2,   7.6645,4,    25.00,-999.000,9,-999.0000,9, -999.00,9, -999.00,9,  -999.0,9,  -999.0,-999.000,9,-999.000,  -999.0,9,-999.000,-999.0000, -999.00,   3.6028,   3.7112,2,20091203,       1558
318M20091121,        P06,      46,          1,          7,          7,2,20091203,       1525,   -30.0802,   169.5000,       2706,  1511.3,   3.3597,  34.5540,  34.5522,2,    164.0,2,   164.5,2,   81.25,2,   33.31,2,    0.00,2,    2.35,2,   0.145,2,   0.082,2,-999.000,1,        0,2,  2257.8,2,  2359.8,2,   7.5515,4,    25.00,-999.000,9,-999.0000,9, -999.00,9, -999.00,9,  -999.0,9,  -999.0,-999.000,9,-999.000,    36.9,2,-999.000,-999.0000, -999.00,   3.2468,   3.3599,2,20091203,       1555
318M20091121,        P06,      46,          1,          6,          6,2,20091203,       1525,   -30.0802,   169.5000,       2706,  1613.3,   3.0355,  34.5775,  34.5764,2,    160.1,2,   160.5,2,   90.06,2,   33.87,2,    0.00,2,    2.38,2,-999.000,9,-999.000,9,-999.000,9,-999.0000,9,  2267.9,2,  2366.4,2,   7.5947,2,    25.00,-999.000,9,-999.0000,9, -999.00,9, -999.00,9,  -999.0,9,  -999.0,-999.000,9,-999.000,  -999.0,9,-999.000,-999.0000, -999.00,   2.9177,   3.0354,2,20091203,       1552
318M20091121,        P06,      46,          1,          5,          5,2,20091203,       1525,   -30.0802,   169.5000,       2706,  1818.1,   2.6467,  34.6079,  34.6069,2,    157.0,2,   157.5,2,  100.96,2,   34.43,2,    0.00,2,    2.42,2,   0.054,2,   0.032,2,-999.000,1,        0,2,  2282.2,2,  2381.1,2,   7.5880,2,    25.00,-999.000,9,-999.0000,9, -999.00,9, -999.00,9,  -999.0,9,  -999.0,-999.000,9,-999.000,    36.1,2,-999.000,-999.0000, -999.00,   2.5163,   2.6472,2,20091203,       1547
318M20091121,        P06,      46,          1,          4,          4,2,20091203,       1525,   -30.0802,   169.5000,       2706,  2017.5,   2.3907,  34.6292,  34.6289,2,    155.3,2,   156.2,2,  108.57,2,   34.72,2,    0.00,2,    2.44,2,-999.000,9,-999.000,9,-999.000,9,-999.0000,9,  2290.4,2,  2387.6,6,   7.5824,2,    25.00,-999.000,9,-999.0000,9, -999.00,9, -999.00,9,  -999.0,9,  -999.0,-999.000,9,-999.000,  -999.0,9,-999.000,-999.0000, -999.00,   2.2468,   2.3905,2,20091203,       1542
318M20091121,        P06,      46,          1,          3,          3,5,20091203,       1525,   -30.0802,   169.5000,       2706,  2273.7,   2.1531,  34.6492,  34.6488,2,    154.1,2,   154.5,2,  115.56,2,   35.01,2,    0.00,2,    2.47,2,-999.000,9,-999.000,9,-999.000,9,-999.0000,9,  -999.0,9,  -999.0,9,-999.0000,9,  -999.00,-999.000,9,-999.0000,9, -999.00,9, -999.00,9,  -999.0,9,  -999.0,-999.000,9,-999.000,  -999.0,9,-999.000,-999.0000, -999.00,   1.9905,   2.1529,2,20091203,       1536
318M20091121,        P06,      46,          1,          2,          2,2,20091203,       1525,   -30.0802,   169.5000,       2706,  2488.4,   2.0524,  34.6581,  34.7107,3,    154.0,2,   154.0,2,  118.86,2,   35.15,2,    0.00,2,    2.47,2,   0.015,2,   0.010,2,-999.000,1,        0,2,  2300.9,2,  2421.5,4,   7.6234,4,    25.00,-999.000,9,-999.0000,9, -999.00,9, -999.00,9,  -999.0,9,  -999.0,-999.000,9,-999.000,    36.5,2,-999.000,-999.0000, -999.00,   1.8721,   2.0518,2,20091203,       1531
318M20091121,        P06,      46,          1,          1,          1,2,20091203,       1525,   -30.0802,   169.5000,       2706,  2742.3,   1.9733,  34.6658,  34.6647,2,    154.0,2,   154.3,2,  121.32,2,   35.22,2,    0.00,2,    2.47,2,   0.014,2,   0.008,2,-999.000,1,        0,2,  2302.8,6,  2404.0,2,   7.5862,2,    25.00,-999.000,9,-999.0000,9, -999.00,9, -999.00,9,  -999.0,9,  -999.0,-999.000,9,-999.000,    37.7,2,-999.000,-999.0000, -999.00,   1.7709,   1.9736,2,20091203,       1525