BOTTLE,20220818CCHSIOAMB
EXPOCODE,SECT_ID,STNNBR,CASTNO,SAMPNO,BTLNBR,BTLNBR_FLAG_W,DATE,TIME,LATITUDE,LONGITUDE,DEPTH,CTDPRS,CTDTMP,CTDSAL,SALNTY,SALNTY_FLAG_W,CTDOXY,CTDOXY_FLAG_W,OXYGEN,OXYGEN_FLAG_W,SILCAT,SILCAT_FLAG_W,NITRAT,NITRAT_FLAG_W,NITRIT,NITRIT_FLAG_W,PHSPHT,PHSPHT_FLAG_W,CFC-11,CFC-11_FLAG_W,CFC-12,CFC-12_FLAG_W,CFC113,CFC113_FLAG_W,SF6,SF6_FLAG_W,TCARBN,TCARBN_FLAG_W,ALKALI,ALKALI_FLAG_W,PH_SWS,PH_SWS_FLAG_W,PH_TMP,TRITUM,TRITUM_FLAG_W,HELIUM,HELIUM_FLAG_W,DELHE3,DELHE3_FLAG_W,DELC13,DELC13_FLAG_W,DELC14,DELC14_FLAG_W,C14ERR,NEON,NEON_FLAG_W,NEONER,DOC,DOC_FLAG_W,TRITER,HELIER,DELHER,THETA,SBE35,SBE35_FLAG_W,BTL_DATE,BTL_TIME
,,,,,,,,,,,METERS,DBAR,ITS-90,PSS-78,PSS-78,,UMOL/KG,,UMOL/KG,,UMOL/KG,,UMOL/KG,,UMOL/KG,,UMOL/KG,,PMOL/KG,,PMOL/KG,,PMOL/KG,,FMOL/KG,,UMOL/KG,,UMOL/KG,,,,DEG C,TU,,NMOL/KG,,PERCNT,,/MILLE,,/MILLE,,/MILLE,NMOL/KG,,NMOL/KG,UMOL/KG,,TU,NMOL/KG,PERCNT,DEG C,ITS-90,,,
318M20091121,        P06,     118,          1,         36,         36,2,20091227,       0311,   -32.5000,  -152.1266,       4777,     3.6,  21.4604,  35.3887,  35.3890,2,    223.3,2,   222.8,2,    0.49,2,    0.00,2,    0.00,2,    0.08,2,   1.953,2,   1.293,2,-999.000,1,    1.099,2,  2039.3,6,  2321.7,2,   8.0097,2,    25.00,-999.000,9,-999.0000,9, -999.00,9, -999.00,9,  -999.0,9,  -999.0,-999.000,9,-999.000,    59.6,2,-999.000,-999.0000, -999.00,  21.4597,  21.4611,2,20091227,       0527
318M20091121,        P06,     118,          1,         35,         35,2,20091227,       0311,   -32.5000,  -152.1266,       4777,    19.9,  21.4304,  35.3854,  35.3857,2,    223.5,2,   223.0,2,    0.23,2,    0.00,2,    0.00,2,    0.08,2,   1.975,2,   1.315,2,-999.000,1,    1.196,2,  2038.6,2,  2323.9,6,   8.0074,6,    25.00,-999.000,9,-999.0000,9, -999.00,9, -999.00,9,  -999.0,9,  -999.0,-999.000,9,-999.000,    58.8,2,-999.000,-999.0000, -999.00,  21.4265,  21.4257,2,20091227,       0525
318M20091121,        P06,     118,          1,         34,         34,2,20091227,       0311,   -32.5000,  -152.1266,       4777,    39.5,  19.8494,  35.4089,  35.4143,2,    232.1,2,   232.0,2,    0.19,2,    0.00,2,    0.00,2,    0.08,2,   2.114,2,   1.396,2,-999.000,1,    1.265,2,  2041.2,2,  2329.2,2,   8.0084,2,    25.00,-999.000,9,-999.0000,9, -999.00,9, -999.00,9,  -999.0,9,  -999.0,-999.000,9,-999.000,    60.3,2,-999.000,-999.0000, -999.00,  19.8421,  19.9409,3,20091227,       0523
318M20091121,        P06,     118,          1,         33,         33,2,20091227,       0311,   -32.5000,  -152.1266,       4777,    65.3,  18.0636,  35.3583,  35.3572,2,    242.9,2,   243.5,2,    0.14,2,    0.00,2,    0.00,2,    0.08,2,   2.284,2,   1.506,2,-999.000,1,    1.364,2,  2042.8,2,  2316.8,2,   8.0024,2,    25.00,-999.000,9,-999.0000,9, -999.00,9, -999.00,9,  -999.0,9,  -999.0,-999.000,9,-999.000,    59.1,2,-999.000,-999.0000, -999.00,  18.0524,  18.0736,2,20091227,       0521
318M20091121,        P06,     118,          1,         32,         32,2,20091227,       0311,   -32.5000,  -152.1266,       4777,    89.9,  17.3911,  35.3806,  35.3829,2,    242.0,2,   241.9,2,    0.29,2,    0.00,2,    0.00,2,    0.10,2,   2.337,2,   1.530,2,-999.000,1,    1.305,2,  2046.4,2,  2350.4,4,   8.0008,2,    25.00,-999.000,9,-999.0000,9, -999.00,9, -999.00,9,  -999.0,9,  -999.0,-999.000,9,-999.000,    58.5,2,-999.000,-999.0000, -999.00,  17.3760,  17.3942,2,20091227,       0519
318M20091121,        P06,     118,          1,         31,         31,2,20091227,       0311,   -32.5000,  -152.1266,       4777,   134.6,  16.3952,  35.3613,  35.3565,2,    226.8,2,   222.8,2,    0.44,2,    0.87,2,    0.12,2,    0.22,2,   2.374,6,   1.542,6,-999.000,1,   1.2805,6,  2067.6,2,  2322.8,2,   7.9574,2,    25.00,-999.000,9,-999.0000,9, -999.00,9, -999.00,9,  -999.0,9,  -999.0,-999.000,9,-999.000,    54.6,2,-999.000,-999.0000, -999.00,  16.3735,  16.3925,2,20091227,       0516
318M20091121,        P06,     118,          1,         30,         30,2,20091227,       0311,   -32.5000,  -152.1266,       4777,   186.4,  15.3643,  35.2661,  35.2645,2,    211.4,2,   206.5,2,    0.80,2,    4.25,2,    0.01,2,    0.44,2,   2.454,2,   1.569,2,-999.000,1,    1.034,2,  2088.1,2,  2316.9,2,   7.9118,2,    25.00,-999.000,9,-999.0000,9, -999.00,9, -999.00,9,  -999.0,9,  -999.0,-999.000,9,-999.000,    49.0,2,-999.000,-999.0000, -999.00,  15.3356,  15.3732,2,20091227,       0514
318M20091121,        P06,     118,          1,         29,         29,2,20091227,       0311,   -32.5000,  -152.1266,       4777,   237.8,  14.2635,  35.1726,  35.1712,2,    204.7,2,   201.9,2,    1.56,2,    6.92,2,    0.01,2,    0.61,2,   2.527,2,   1.588,2,-999.000,1,    0.966,2,  2100.7,2,  2314.1,2,   7.8752,2,    25.00,-999.000,9,-999.0000,9, -999.00,9, -999.00,9,  -999.0,9,  -999.0,-999.000,9,-999.000,    49.4,2,-999.000,-999.0000, -999.00,  14.2286,  14.2767,2,20091227,       0512
318M20091121,        P06,     118,          1,         28,         28,2,20091227,       0311,   -32.5000,  -152.1266,       4777,   287.5,  12.3696,  34.9642,  34.9640,2,    203.1,2,   202.3,2,    2.33,2,   10.79,2,    0.00,2,    0.84,2,   2.691,2,   1.649,2,-999.000,1,    0.919,2,  2116.4,2,  2300.2,2,   7.8267,2,    25.00,-999.000,9,-999.0000,9, -999.00,9, -999.00,9,  -999.0,9,  -999.0,-999.000,9,-999.000,    44.5,2,-999.000,-999.0000, -999.00,  12.3312,  12.3772,2,20091227,       0509
318M20091121,        P06,     118,          1,         27,         27,2,20091227,       0311,   -32.5000,  -152.1266,       4777,   336.8,  10.8403,  34.7907,  34.7936,2,    209.2,2,   209.4,2,    3.09,2,   13.49,2,    0.00,2,    1.01,2,   2.876,2,   1.727,2,-999.000,1,    0.976,2,  2125.1,2,  2294.3,2,   7.7942,2,    25.00,-999.000,9,-999.0000,9, -999.00,9, -999.00,9,  -999.0,9,  -999.0,-999.000,9,-999.000,    45.6,2,-999.000,-999.0000, -999.00,  10.7990,  10.8556,2,20091227,       0507
318M20091121,        P06,     118,          1,         26,         26,2,20091227,       0311,   -32.5000,  -152.1266,       4777,   387.5,   9.7022,  34.6547,  34.6566,2,    216.5,2,   216.6,2,    3.45,2,   15.53,2,    0.00,2,    1.13,2,   3.030,2,   1.791,2,-999.000,1,    0.875,2,  2130.6,2,  2293.7,2,   7.7724,2,    25.00,-999.000,9,-999.0000,9, -999.00,9, -999.00,9,  -999.0,9,  -999.0,-999.000,9,-999.000,    45.2,2,-999.000,-999.0000, -999.00,   9.6578,   9.7131,2,20091227,       0505
318M20091121,        P06,     118,          1,         25,         25,2,20091227,       0311,   -32.5000,  -152.1266,       4777,   437.7,   8.6747,  34.5356,  34.5367,2,    226.8,2,   225.6,2,    4.01,2,   17.57,2,    0.00,2,    1.26,2,   3.151,2,   1.834,2,-999.000,1,    0.918,2,  2133.3,2,  2287.6,2,   7.7563,2,    25.00,-999.000,9,-999.0000,9, -999.00,9, -999.00,9,  -999.0,9,  -999.0,-999.000,9,-999.000,    44.3,2,-999.000,-999.0000, -999.00,   8.6278,   8.6834,2,20091227,       0502
318M20091121,        P06,     118,          1,         24,         24,2,20091227,       0311,   -32.5000,  -152.1266,       4777,   486.2,   8.0362,  34.4703,  34.4702,2,    232.7,2,   231.7,2,    4.57,2,   18.93,2,    0.00,2,    1.35,2,   3.250,2,   1.868,2,-999.000,1,    0.869,2,  2138.4,2,  2286.6,2,   7.7472,2,    25.00,-999.000,9,-999.0000,9, -999.00,9, -999.00,9,  -999.0,9,  -999.0,-999.000,9,-999.000,  -999.0,9,-999.000,-999.0000, -999.00,   7.9863,   8.0346,2,20091227,       0500
318M20091121,        P06,     118,          1,         23,         23,2,20091227,       0311,   -32.5000,  -152.1266,       4777,   567.3,   7.3767,  34.4158,  34.4168,2,    237.8,2,   238.2,2,    5.53,2,   20.51,2,    0.00,2,    1.45,2,   3.190,2,   1.794,2,-999.000,1,    0.687,2,  2138.9,2,  2284.7,2,   7.7389,2,    25.00,-999.000,9,-999.0000,9, -999.00,9, -999.00,9,  -999.0,9,  -999.0,-999.000,9,-999.000,    41.1,2,-999.000,-999.0000, -999.00,   7.3210,   7.3764,2,20091227,       0456
318M20091121,        P06,     118,          1,         22,         22,2,20091227,       0311,   -32.5000,  -152.1266,       4777,   668.5,   6.7610,  34.3693,  34.3690,2,    238.9,2,   239.4,2,    7.32,2,   22.28,2,    0.00,2,    1.55,2,   2.727,2,   1.504,2,-999.000,1,    0.501,2,  2142.2,2,  2278.8,2,   7.7306,2,    25.00,-999.000,9,-999.0000,9, -999.00,9, -999.00,9,  -999.0,9,  -999.0,-999.000,9,-999.000,  -999.0,9,-999.000,-999.0000, -999.00,   6.6981,   6.7603,2,20091227,       0453
318M20091121,        P06,     118,          1,         21,         21,2,20091227,       0311,   -32.5000,  -152.1266,       4777,   770.2,   6.2882,  34.3408,  34.3415,2,    233.9,2,   234.0,2,    9.72,2,   23.90,2,    0.00,2,    1.65,2,   2.118,2,   1.141,2,-999.000,1,    0.345,2,  2146.1,2,  2280.5,2,   7.7177,2,    25.00,-999.000,9,-999.0000,9, -999.00,9, -999.00,9,  -999.0,9,  -999.0,-999.000,9,-999.000,    38.3,2,-999.000,-999.0000, -999.00,   6.2180,   6.2914,2,20091227,       0450
318M20091121,        P06,     118,          1,         20,         20,2,20091227,       0311,   -32.5000,  -152.1266,       4777,   872.4,   5.7520,  34.3219,  34.3220,2,    225.0,2,   224.0,2,   14.36,2,   26.14,2,    0.00,2,    1.80,2,   1.511,2,   0.794,2,-999.000,1,    0.155,2,  2158.5,2,  2283.2,2,   7.6951,2,    25.00,-999.000,9,-999.0000,9, -999.00,9, -999.00,9,  -999.0,9,  -999.0,-999.000,9,-999.000,  -999.0,9,-999.000,-999.0000, -999.00,   5.6754,   5.7532,2,20091227,       0447
318M20091121,        P06,     118,          1,         19,         19,2,20091227,       0311,   -32.5000,  -152.1266,       4777,   973.1,   5.2680,  34.3166,  34.3166,2,    213.0,2,   214.7,2,   19.41,2,   27.84,2,    0.00,2,    1.93,2,   1.036,2,   0.534,2,-999.000,1,    0.086,2,  2168.4,6,  2291.3,6,   7.6726,2,    25.00,-999.000,9,-999.0000,9, -999.00,9, -999.00,9,  -999.0,9,  -999.0,-999.000,9,-999.000,    39.8,2,-999.000,-999.0000, -999.00,   5.1854,   5.2692,2,20091227,       0444
318M20091121,        P06,     118,          1,         18,         18,2,20091227,       0311,   -32.5000,  -152.1266,       4777,  1075.6,   4.6646,  34.3240,  34.3244,2,    201.7,2,   203.8,2,   27.33,2,   30.00,2,    0.00,2,    2.06,2,   0.694,2,   0.362,2,-999.000,1,        0,2,  2185.0,2,  2297.2,2,   7.6454,2,    25.00,-999.000,9,-999.0000,9, -999.00,9, -999.00,9,  -999.0,9,  -999.0,-999.000,9,-999.000,  -999.0,9,-999.000,-999.0000, -999.00,   4.5774,   4.6600,2,20091227,       0441
318M20091121,        P06,     118,          1,         17,         17,2,20091227,       0311,   -32.5000,  -152.1266,       4777,  1173.0,   4.0444,  34.3523,  34.3513,2,    191.0,2,   193.3,2,   37.32,2,   31.67,2,    0.00,2,    2.18,2,   0.403,2,   0.213,2,-999.000,1,        0,2,  2203.1,2,  2307.0,2,   7.6215,2,    25.00,-999.000,9,-999.0000,9, -999.00,9, -999.00,9,  -999.0,9,  -999.0,-999.000,9,-999.000,    37.5,2,-999.000,-999.0000, -999.00,   3.9540,   4.0489,2,20091227,       0438
318M20091121,        P06,     118,          1,         16,         16,2,20091227,       0311,   -32.5000,  -152.1266,       4777,  1276.4,   3.4768,  34.4027,  34.4038,2,    182.1,2,   181.4,2,   50.20,2,   33.14,2,    0.00,2,    2.29,2,   0.191,2,   0.110,2,-999.000,1,        0,2,  2221.0,2,  2320.0,2,   7.5985,2,    25.00,-999.000,9,-999.0000,9, -999.00,9, -999.00,9,  -999.0,9,  -999.0,-999.000,9,-999.000,  -999.0,9,-999.000,-999.0000, -999.00,   3.3829,   3.4697,2,20091227,       0435
318M20091121,        P06,     118,          1,         15,         15,2,20091227,       0311,   -32.5000,  -152.1266,       4777,  1377.2,   3.1296,  34.4548,  34.4547,2,    174.5,2,   173.7,2,   60.83,2,   33.85,2,    0.00,2,    2.35,2,   0.098,2,   0.056,2,-999.000,1,        0,2,  2237.6,2,  2331.0,2,   7.5834,2,    25.00,-999.000,9,-999.0000,9, -999.00,9, -999.00,9,  -999.0,9,  -999.0,-999.000,9,-999.000,    38.0,2,-999.000,-999.0000, -999.00,   3.0308,   3.1293,2,20091227,       0432
318M20091121,        P06,     118,          1,         14,         14,2,20091227,       0311,   -32.5000,  -152.1266,       4777,  1477.4,   2.8772,  34.5055,  34.5053,2,    167.6,2,   167.4,2,   71.08,2,   34.00,2,    0.00,2,    2.37,2,   0.047,2,   0.032,2,-999.000,1,        0,2,  2249.1,2,  2339.2,2,   7.5787,2,    25.00,-999.000,9,-999.0000,9, -999.00,9, -999.00,9,  -999.0,9,  -999.0,-999.000,9,-999.000,  -999.0,9,-999.000,-999.0000, -999.00,   2.7728,   2.8782,2,20091227,       0428
318M20091121,        P06,     118,          1,         13,         13,2,20091227,       0311,   -32.5000,  -152.1266,       4777,  1581.3,   2.6880,  34.5497,  34.5501,2,    162.3,2,   161.5,2,   81.36,2,   34.51,2,    0.00,2,    2.39,2,   0.025,2,   0.018,2,-999.000,1,        0,2,  2261.6,2,  2350.7,2,   7.5768,2,    25.00,-999.000,9,-999.0000,9, -999.00,9, -999.00,9,  -999.0,9,  -999.0,-999.000,9,-999.000,    38.0,2,-999.000,-999.0000, -999.00,   2.5772,   2.6882,2,20091227,       0425
318M20091121,        P06,     118,          1,         12,         12,2,20091227,       0311,   -32.5000,  -152.1266,       4777,  1752.0,   2.4687,  34.5951,  34.5944,2,    156.2,2,   155.8,2,   95.16,2,   34.77,2,    0.00,2,    2.42,2,   0.012,2,   0.012,2,-999.000,1,        0,2,  2277.7,2,  2367.9,2,   7.5785,2,    25.00,-999.000,9,-999.0000,9, -999.00,9, -999.00,9,  -999.0,9,  -999.0,-999.000,9,-999.000,  -999.0,9,-999.000,-999.0000, -999.00,   2.3464,   2.4686,2,20091227,       0421
318M20091121,        P06,     118,          1,         11,         11,2,20091227,       0311,   -32.5000,  -152.1266,       4777,  1954.5,   2.2707,  34.6239,  34.6247,2,    151.7,2,   151.9,2,  106.52,2,   35.07,2,    0.00,2,    2.45,2,   0.012,2,   0.008,2,-999.000,1,        0,2,  2290.0,2,  2386.0,2,   7.5763,2,    25.00,-999.000,9,-999.0000,9, -999.00,9, -999.00,9,  -999.0,9,  -999.0,-999.000,9,-999.000,    37.8,2,-999.000,-999.0000, -999.00,   2.1340,   2.2704,2,20091227,       0416
318M20091121,        P06,     118,          1,         10,         10,2,20091227,       0311,   -32.5000,  -152.1266,       4777,  2185.1,   2.1021,  34.6413,  34.6418,2,    149.3,2,   149.5,2,  115.21,2,   35.44,2,    0.00,2,    2.47,2,   0.010,2,   0.008,2,-999.000,1,        0,2,  2300.1,2,  2395.6,2,   7.5771,2,    25.00,-999.000,9,-999.0000,9, -999.00,9, -999.00,9,  -999.0,9,  -999.0,-999.000,9,-999.000,  -999.0,9,-999.000,-999.0000, -999.00,   1.9481,   2.1025,2,20091227,       0411
318M20091121,        P06,     118,          1,          9,          9,2,20091227,       0311,   -32.5000,  -152.1266,       4777,  2442.4,   1.9601,  34.6534,  34.6534,2,    148.2,2,   148.4,2,  122.23,2,   35.64,2,    0.00,2,    2.47,2,   0.007,2,   0.005,2,-999.000,1,        0,2,  2306.3,2,  2403.3,2,   7.5741,2,    25.00,-999.000,9,-999.0000,9, -999.00,9, -999.00,9,  -999.0,9,  -999.0,-999.000,9,-999.000,    36.7,2,-999.000,-999.0000, -999.00,   1.7857,   1.9607,2,20091227,       0405
318M20091121,        P06,     118,          1,          8,          8,2,20091227,       0311,   -32.5000,  -152.1266,       4777,  2697.3,   1.8603,  34.6619,  34.6605,2,    148.8,2,   148.8,2,  126.55,2,   35.69,2,    0.00,2,    2.48,2,   0.011,2,   0.007,2,-999.000,1,        0,2,  2308.8,2,  2403.0,2,   7.5786,2,    25.00,-999.000,9,-999.0000,9, -999.00,9, -999.00,9,  -999.0,9,  -999.0,-999.000,9,-999.000,  -999.0,9,-999.000,-999.0000, -999.00,   1.6645,   1.8603,2,20091227,       0359
318M20091121,        P06,     118,          1,          7,          7,2,20091227,       0311,   -32.5000,  -152.1266,       4777,  2950.3,   1.7880,  34.6690,  34.6696,2,    151.4,2,   151.2,2,  128.16,2,   35.53,2,    0.00,2,    2.46,2,   0.009,2,   0.007,2,-999.000,1,        0,2,  2308.5,2,  2402.5,2,-999.0000,9,  -999.00,-999.000,9,-999.0000,9, -999.00,9, -999.00,9,  -999.0,9,  -999.0,-999.000,9,-999.000,    36.7,2,-999.000,-999.0000, -999.00,   1.5697,   1.7883,2,20091227,       0354
318M20091121,        P06,     118,          1,          6,          6,2,20091227,       0311,   -32.5000,  -152.1266,       4777,  3242.5,   1.6953,  34.6798,  34.6806,2,    159.0,2,   158.4,2,  126.85,2,   34.91,2,    0.00,2,    2.41,2,   0.006,2,   0.005,2,-999.000,1,        0,2,  2303.6,2,  2399.6,2,   7.5849,2,    25.00,-999.000,9,-999.0000,9, -999.00,9, -999.00,9,  -999.0,9,  -999.0,-999.000,9,-999.000,  -999.0,9,-999.000,-999.0000, -999.00,   1.4504,   1.6955,2,20091227,       0347
318M20091121,        P06,     118,          1,          5,         37,2,20091227,       0311,   -32.5000,  -152.1266,       4777,  3547.4,   1.5876,  34.6952,  34.6958,2,    172.7,2,   172.7,2,  120.53,2,   33.74,2,    0.00,2,    2.33,2,   0.006,2,   0.005,2,-999.000,1,        0,2,  2288.0,2,  -999.0,9,-999.0000,9,  -999.00,-999.000,9,-999.0000,9, -999.00,9, -999.00,9,  -999.0,9,  -999.0,-999.000,9,-999.000,    37.4,2,-999.000,-999.0000, -999.00,   1.3142,   1.5877,2,20091227,       0340
318M20091121,        P06,     118,          1,          4,          4,2,20091227,       0311,   -32.5000,  -152.1266,       4777,  3857.8,   1.4474,  34.7103,  34.7103,2,    188.2,2,   188.3,2,  113.80,2,   32.36,2,    0.00,2,    2.25,2,   0.027,2,   0.021,2,-999.000,1,        0,2,  2268.8,2,  2379.1,2,   7.6080,2,    25.00,-999.000,9,-999.0000,9, -999.00,9, -999.00,9,  -999.0,9,  -999.0,-999.000,9,-999.000,  -999.0,9,-999.000,-999.0000, -999.00,   1.1451,   1.4479,2,20091227,       0333
318M20091121,        P06,     118,          1,          3,          3,2,20091227,       0311,   -32.5000,  -152.1266,       4777,  4162.6,   1.2640,  34.7137,  34.7143,2,    198.3,2,   198.3,2,  113.96,2,   31.86,2,    0.00,2,    2.20,2,   0.015,2,   0.010,2,-999.000,1,        0,2,  2261.5,2,  2374.9,2,-999.0000,9,  -999.00,-999.000,9,-999.0000,9, -999.00,9, -999.00,9,  -999.0,9,  -999.0,-999.000,9,-999.000,    37.5,2,-999.000,-999.0000, -999.00,   0.9338,   1.2646,2,20091227,       0326
318M20091121,        P06,     118,          1,          2,          2,2,20091227,       0311,   -32.5000,  -152.1266,       4777,  4468.4,   1.1402,  34.7113,  34.7116,2,    201.9,2,   203.0,2,  116.61,2,   31.85,2,    0.00,2,    2.19,2,   0.044,2,   0.028,2,-999.000,1,        0,2,  2262.3,2,  2368.9,6,   7.6172,6,    25.00,-999.000,9,-999.0000,9, -999.00,9, -999.00,9,  -999.0,9,  -999.0,-999.000,9,-999.000,  -999.0,9,-999.000,-999.0000, -999.00,   0.7798,   1.1403,2,20091227,       0319
318M20091121,        P06,     118,          1,          1,          1,2,20091227,       0311,   -32.5000,  -152.1266,       4777,  4840.5,   1.0926,  34.7096,  34.7112,2,    204.4,2,   204.0,2,  118.63,2,   31.80,2,    0.00,2,    2.19,2,   0.029,2,   0.016,2,-999.000,1,        0,2,  2261.5,6,  2370.2,2,   7.6201,2,    25.00,-999.000,9,-999.0000,9, -999.00,9, -999.00,9,  -999.0,9,  -999.0,-999.000,9,-999.000,    37.5,2,-999.000,-999.0000, -999.00,   0.6908,   1.0922,2,20091227,       0311