BOTTLE,20220818CCHSIOAMB
EXPOCODE,SECT_ID,STNNBR,CASTNO,SAMPNO,BTLNBR,BTLNBR_FLAG_W,DATE,TIME,LATITUDE,LONGITUDE,DEPTH,CTDPRS,CTDTMP,CTDSAL,SALNTY,SALNTY_FLAG_W,CTDOXY,CTDOXY_FLAG_W,OXYGEN,OXYGEN_FLAG_W,SILCAT,SILCAT_FLAG_W,NITRAT,NITRAT_FLAG_W,NITRIT,NITRIT_FLAG_W,PHSPHT,PHSPHT_FLAG_W,CFC-11,CFC-11_FLAG_W,CFC-12,CFC-12_FLAG_W,CFC113,CFC113_FLAG_W,SF6,SF6_FLAG_W,TCARBN,TCARBN_FLAG_W,ALKALI,ALKALI_FLAG_W,PH_SWS,PH_SWS_FLAG_W,PH_TMP,TRITUM,TRITUM_FLAG_W,HELIUM,HELIUM_FLAG_W,DELHE3,DELHE3_FLAG_W,DELC13,DELC13_FLAG_W,DELC14,DELC14_FLAG_W,C14ERR,NEON,NEON_FLAG_W,NEONER,DOC,DOC_FLAG_W,TRITER,HELIER,DELHER,THETA,SBE35,SBE35_FLAG_W,BTL_DATE,BTL_TIME
,,,,,,,,,,,METERS,DBAR,ITS-90,PSS-78,PSS-78,,UMOL/KG,,UMOL/KG,,UMOL/KG,,UMOL/KG,,UMOL/KG,,UMOL/KG,,PMOL/KG,,PMOL/KG,,PMOL/KG,,FMOL/KG,,UMOL/KG,,UMOL/KG,,,,DEG C,TU,,NMOL/KG,,PERCNT,,/MILLE,,/MILLE,,/MILLE,NMOL/KG,,NMOL/KG,UMOL/KG,,TU,NMOL/KG,PERCNT,DEG C,ITS-90,,,
318M20091121,        P06,      47,          1,         32,         32,9,20091203,       2041,   -30.0801,   170.0000,       2949,     7.5,  21.5845,  35.6799,-999.0000,9,   -999.0,9,  -999.0,9, -999.00,9, -999.00,9, -999.00,9, -999.00,9,-999.000,9,-999.000,9,-999.000,9,-999.0000,9,  -999.0,9,  -999.0,9,-999.0000,9,  -999.00,-999.000,9,-999.0000,9, -999.00,9, -999.00,9,  -999.0,9,  -999.0,-999.000,9,-999.000,  -999.0,9,-999.000,-999.0000, -999.00,  21.5830,-999.0000,9,20091203,       2231
318M20091121,        P06,      47,          1,         31,         31,2,20091203,       2041,   -30.0801,   170.0000,       2949,     8.1,  21.5895,  35.6802,  35.6801,2,    226.0,2,   226.4,2,    0.26,2,    0.00,2,    0.00,2,    0.09,2,   2.114,2,   1.306,2,-999.000,1,    1.219,2,  2035.7,6,  2335.0,6,   8.0741,6,    25.00,-999.000,9,-999.0000,9, -999.00,9, -999.00,9,  -999.0,9,  -999.0,-999.000,9,-999.000,  -999.0,9,-999.000,-999.0000, -999.00,  21.5879,-999.0000,9,20091203,       2231
318M20091121,        P06,      47,          1,         30,         30,2,20091203,       2041,   -30.0801,   170.0000,       2949,    25.6,  20.1950,  35.6631,  35.6661,2,    233.8,2,   233.8,2,    0.26,2,    0.02,2,    0.00,2,    0.08,2,   2.199,2,   1.353,2,-999.000,1,    1.302,2,  -999.0,9,  -999.0,9,-999.0000,9,  -999.00,-999.000,9,-999.0000,9, -999.00,9, -999.00,9,  -999.0,9,  -999.0,-999.000,9,-999.000,  -999.0,9,-999.000,-999.0000, -999.00,  20.1902,-999.0000,9,20091203,       2228
318M20091121,        P06,      47,          1,         29,         29,2,20091203,       2041,   -30.0801,   170.0000,       2949,    50.3,  19.1574,  35.6245,  35.6246,2,    237.4,2,   237.2,2,    0.06,2,    0.05,2,    0.00,2,    0.10,2,   2.263,2,   1.398,2,-999.000,1,    1.381,2,  2034.2,2,  2332.9,2,   8.0052,2,    25.00,-999.000,9,-999.0000,9, -999.00,9, -999.00,9,  -999.0,9,  -999.0,-999.000,9,-999.000,  -999.0,9,-999.000,-999.0000, -999.00,  19.1484,-999.0000,9,20091203,       2225
318M20091121,        P06,      47,          1,         28,         28,2,20091203,       2041,   -30.0801,   170.0000,       2949,    75.7,  18.7877,  35.6087,  35.6096,2,    229.9,2,   231.5,2,    0.24,2,    0.00,2,    0.00,2,    0.11,2,   2.265,2,   1.394,2,-999.000,1,     1.39,2,  -999.0,9,  -999.0,9,-999.0000,9,  -999.00,-999.000,9,-999.0000,9, -999.00,9, -999.00,9,  -999.0,9,  -999.0,-999.000,9,-999.000,  -999.0,9,-999.000,-999.0000, -999.00,  18.7743,-999.0000,9,20091203,       2223
318M20091121,        P06,      47,          1,         27,         27,2,20091203,       2041,   -30.0801,   170.0000,       2949,   100.8,  18.4585,  35.6067,  35.6073,2,    217.7,2,   216.5,2,    0.44,2,    1.49,2,    0.03,2,    0.22,2,   2.268,2,   1.394,2,-999.000,1,    1.345,2,  2053.9,2,  2330.7,2,   8.0475,4,    25.00,-999.000,9,-999.0000,9, -999.00,9, -999.00,9,  -999.0,9,  -999.0,-999.000,9,-999.000,  -999.0,9,-999.000,-999.0000, -999.00,  18.4408,-999.0000,9,20091203,       2220
318M20091121,        P06,      47,          1,         26,         26,2,20091203,       2041,   -30.0801,   170.0000,       2949,   126.6,  18.0420,  35.5920,  35.5925,2,    213.4,2,   213.4,2,    0.43,2,    2.33,2,    0.02,2,    0.28,2,   2.301,2,   1.410,2,-999.000,1,    1.284,2,  -999.0,9,  -999.0,9,-999.0000,9,  -999.00,-999.000,9,-999.0000,9, -999.00,9, -999.00,9,  -999.0,9,  -999.0,-999.000,9,-999.000,  -999.0,9,-999.000,-999.0000, -999.00,  18.0202,-999.0000,9,20091203,       2217
318M20091121,        P06,      47,          1,         25,         25,2,20091203,       2041,   -30.0801,   170.0000,       2949,   151.6,  17.6383,  35.5782,  35.5785,2,    207.9,2,   206.3,2,    0.81,2,    3.73,2,    0.01,2,    0.37,2,   2.314,2,   1.398,2,-999.000,1,    1.157,2,  2069.3,2,  2329.8,2,   7.9681,2,    25.00,-999.000,9,-999.0000,9, -999.00,9, -999.00,9,  -999.0,9,  -999.0,-999.000,9,-999.000,  -999.0,9,-999.000,-999.0000, -999.00,  17.6126,-999.0000,9,20091203,       2215
318M20091121,        P06,      47,          1,         24,         24,2,20091203,       2041,   -30.0801,   170.0000,       2949,   202.0,  16.6921,  35.5159,  35.5172,2,    203.8,2,   201.3,2,    1.40,2,    5.66,2,    0.01,2,    0.50,2,   2.380,6,   1.426,6,-999.000,1,    1.112,6,  2083.9,2,  2329.8,2,   7.9118,2,    25.00,-999.000,9,-999.0000,9, -999.00,9, -999.00,9,  -999.0,9,  -999.0,-999.000,9,-999.000,  -999.0,9,-999.000,-999.0000, -999.00,  16.6590,-999.0000,9,20091203,       2212
318M20091121,        P06,      47,          1,         23,         23,2,20091203,       2041,   -30.0801,   170.0000,       2949,   252.3,  15.7880,  35.4417,  35.4420,2,    199.9,2,   201.2,2,    1.79,2,    7.15,2,    0.00,2,    0.60,2,   2.430,2,   1.446,2,-999.000,1,    1.095,2,  -999.0,9,  -999.0,9,-999.0000,9,  -999.00,-999.000,9,-999.0000,9, -999.00,9, -999.00,9,  -999.0,9,  -999.0,-999.000,9,-999.000,  -999.0,9,-999.000,-999.0000, -999.00,  15.7482,-999.0000,9,20091203,       2210
318M20091121,        P06,      47,          1,         22,         22,2,20091203,       2041,   -30.0801,   170.0000,       2949,   301.9,  14.9675,  35.3563,  35.3563,2,    201.0,2,   197.0,2,    2.36,2,    8.74,2,    0.00,2,    0.70,2,   2.459,2,   1.445,2,-999.000,1,    0.973,2,  2102.7,2,  2321.2,6,   7.8427,2,    25.00,-999.000,9,-999.0000,9, -999.00,9, -999.00,9,  -999.0,9,  -999.0,-999.000,9,-999.000,  -999.0,9,-999.000,-999.0000, -999.00,  14.9216,-999.0000,9,20091203,       2207
318M20091121,        P06,      47,          1,         21,         21,2,20091203,       2041,   -30.0801,   170.0000,       2949,   353.8,  13.9898,  35.2766,  35.2756,2,    202.8,2,   202.4,2,    3.15,2,    9.81,2,    0.00,2,    0.78,2,   2.506,2,   1.450,2,-999.000,1,    0.893,2,  -999.0,9,  -999.0,9,-999.0000,9,  -999.00,-999.000,9,-999.0000,9, -999.00,9, -999.00,9,  -999.0,9,  -999.0,-999.000,9,-999.000,  -999.0,9,-999.000,-999.0000, -999.00,  13.9383,-999.0000,9,20091203,       2204
318M20091121,        P06,      47,          1,         20,         20,2,20091203,       2041,   -30.0801,   170.0000,       2949,   404.2,  13.0852,  35.1970,  35.1980,2,    201.5,2,   201.9,2,    4.12,2,   11.55,2,    0.00,2,    0.89,2,   2.525,2,   1.445,2,-999.000,1,    0.863,2,  2117.2,2,  2317.6,2,   7.9056,4,    25.00,-999.000,9,-999.0000,9, -999.00,9, -999.00,9,  -999.0,9,  -999.0,-999.000,9,-999.000,  -999.0,9,-999.000,-999.0000, -999.00,  13.0288,-999.0000,9,20091203,       2201
318M20091121,        P06,      47,          1,         19,         19,2,20091203,       2041,   -30.0801,   170.0000,       2949,   449.8,  12.0661,  35.0390,  35.0395,2,    197.2,2,   198.1,2,    4.90,2,   13.91,2,    0.00,2,    1.05,2,   2.516,2,   1.414,2,-999.000,1,    0.746,2,  -999.0,9,  -999.0,9,-999.0000,9,  -999.00,-999.000,9,-999.0000,9, -999.00,9, -999.00,9,  -999.0,9,  -999.0,-999.000,9,-999.000,  -999.0,9,-999.000,-999.0000, -999.00,  12.0066,-999.0000,9,20091203,       2159
318M20091121,        P06,      47,          1,         18,         18,2,20091203,       2041,   -30.0801,   170.0000,       2949,   500.8,  11.1726,  34.9352,  34.9380,2,    197.9,2,   198.0,2,    6.28,2,   15.91,2,    0.00,2,    1.17,2,   2.466,2,   1.365,2,-999.000,1,    0.674,2,  2133.1,2,  2305.4,2,   7.7891,2,    25.00,-999.000,9,-999.0000,9, -999.00,9, -999.00,9,  -999.0,9,  -999.0,-999.000,9,-999.000,  -999.0,9,-999.000,-999.0000, -999.00,  11.1094,-999.0000,9,20091203,       2155
318M20091121,        P06,      47,          1,         17,         17,2,20091203,       2041,   -30.0801,   170.0000,       2949,   602.8,   9.3912,  34.7156,  34.7159,2,    199.3,2,   201.0,2,    8.65,2,   19.55,2,    0.00,2,    1.42,2,   2.315,2,   1.231,2,-999.000,1,    0.599,2,  2143.4,2,  2299.5,2,   7.7967,4,    25.00,-999.000,9,-999.0000,9, -999.00,9, -999.00,9,  -999.0,9,  -999.0,-999.000,9,-999.000,  -999.0,9,-999.000,-999.0000, -999.00,   9.3227,-999.0000,9,20091203,       2152
318M20091121,        P06,      47,          1,         16,         16,2,20091203,       2041,   -30.0801,   170.0000,       2949,   704.7,   7.9749,  34.5503,  34.5512,2,    205.1,2,   209.1,3,   10.82,2,   22.16,2,    0.00,2,    1.59,2,-999.000,5,-999.000,5,-999.000,1,-999.0000,9,  2150.2,2,  2296.0,2,   7.7354,4,    25.00,-999.000,9,-999.0000,9, -999.00,9, -999.00,9,  -999.0,9,  -999.0,-999.000,9,-999.000,  -999.0,9,-999.000,-999.0000, -999.00,   7.9019,-999.0000,9,20091203,       2149
318M20091121,        P06,      47,          1,         15,         15,2,20091203,       2041,   -30.0801,   170.0000,       2949,   806.0,   7.2938,  34.5477,  34.5475,2,    199.4,2,   196.9,2,   19.55,2,   24.72,2,    0.00,2,    1.77,2,   1.478,2,   0.771,2,-999.000,1,    0.337,2,  2167.9,2,  2301.1,2,   7.6628,3,    25.00,-999.000,9,-999.0000,9, -999.00,9, -999.00,9,  -999.0,9,  -999.0,-999.000,9,-999.000,  -999.0,9,-999.000,-999.0000, -999.00,   7.2138,-999.0000,9,20091203,       2145
318M20091121,        P06,      47,          1,         14,         14,2,20091203,       2041,   -30.0801,   170.0000,       2949,   907.7,   6.3942,  34.5095,  34.5098,2,    190.4,2,   190.8,2,   28.12,2,   27.02,2,    0.00,2,    1.94,2,   1.056,2,   0.547,2,-999.000,1,    0.112,2,  2182.0,2,  2307.9,2,   7.7188,4,    25.00,-999.000,9,-999.0000,9, -999.00,9, -999.00,9,  -999.0,9,  -999.0,-999.000,9,-999.000,  -999.0,9,-999.000,-999.0000, -999.00,   6.3096,-999.0000,9,20091203,       2142
318M20091121,        P06,      47,          1,         13,         13,2,20091203,       2041,   -30.0801,   170.0000,       2949,  1010.1,   5.8818,  34.4882,  34.4871,2,    186.2,2,   188.3,2,   33.12,2,   28.18,2,    0.00,2,    2.01,2,   0.854,2,   0.438,2,-999.000,1,        0,2,  2189.6,2,  2311.0,2,   7.6571,2,    25.00,-999.000,9,-999.0000,9, -999.00,9, -999.00,9,  -999.0,9,  -999.0,-999.000,9,-999.000,  -999.0,9,-999.000,-999.0000, -999.00,   5.7909,-999.0000,9,20091203,       2138
318M20091121,        P06,      47,          1,         12,         12,2,20091203,       2041,   -30.0801,   170.0000,       2949,  1106.1,   5.1185,  34.4870,  34.4875,2,    181.4,2,   181.2,2,   44.17,2,   29.97,2,    0.00,2,    2.14,2,   0.588,2,   0.315,2,-999.000,1,        0,2,  -999.0,9,  -999.0,9,-999.0000,9,  -999.00,-999.000,9,-999.0000,9, -999.00,9, -999.00,9,  -999.0,9,  -999.0,-999.000,9,-999.000,  -999.0,9,-999.000,-999.0000, -999.00,   5.0245,-999.0000,9,20091203,       2135
318M20091121,        P06,      47,          1,         11,         11,2,20091203,       2041,   -30.0801,   170.0000,       2949,  1207.7,   4.5946,  34.5024,  34.5032,2,    176.7,2,   175.1,2,   54.26,2,   31.13,2,    0.00,2,    2.24,2,   0.434,2,   0.231,2,-999.000,1,        0,2,  -999.0,9,  -999.0,9,-999.0000,9,  -999.00,-999.000,9,-999.0000,9, -999.00,9, -999.00,9,  -999.0,9,  -999.0,-999.000,9,-999.000,  -999.0,9,-999.000,-999.0000, -999.00,   4.4959,-999.0000,9,20091203,       2131
318M20091121,        P06,      47,          1,         10,         10,2,20091203,       2041,   -30.0801,   170.0000,       2949,  1310.7,   4.2980,  34.5078,  34.5082,2,    171.8,2,   172.5,2,   59.72,2,   31.78,2,    0.00,2,    2.28,2,   0.352,2,   0.192,2,-999.000,1,        0,2,  -999.0,9,  -999.0,9,-999.0000,9,  -999.00,-999.000,9,-999.0000,9, -999.00,9, -999.00,9,  -999.0,9,  -999.0,-999.000,9,-999.000,  -999.0,9,-999.000,-999.0000, -999.00,   4.1928,-999.0000,9,20091203,       2128
318M20091121,        P06,      47,          1,          9,          9,2,20091203,       2041,   -30.0801,   170.0000,       2949,  1408.5,   3.9449,  34.5140,  34.5146,2,    169.4,2,   170.1,2,   66.01,2,   32.47,2,    0.00,2,    2.33,2,   0.270,2,   0.148,2,-999.000,1,        0,2,  -999.0,9,  -999.0,9,-999.0000,9,  -999.00,-999.000,9,-999.0000,9, -999.00,9, -999.00,9,  -999.0,9,  -999.0,-999.000,9,-999.000,  -999.0,9,-999.000,-999.0000, -999.00,   3.8346,-999.0000,9,20091203,       2125
318M20091121,        P06,      47,          1,          8,          8,2,20091203,       2041,   -30.0801,   170.0000,       2949,  1509.8,   3.5906,  34.5347,  34.5355,2,    165.4,2,   166.4,2,   74.75,2,   33.16,2,    0.00,2,    2.38,2,   0.183,2,   0.104,2,-999.000,1,        0,2,  2250.9,2,  2350.9,2,   7.6515,4,    25.00,-999.000,9,-999.0000,9, -999.00,9, -999.00,9,  -999.0,9,  -999.0,-999.000,9,-999.000,  -999.0,9,-999.000,-999.0000, -999.00,   3.4752,-999.0000,9,20091203,       2121
318M20091121,        P06,      47,          1,          7,          7,2,20091203,       2041,   -30.0801,   170.0000,       2949,  1613.1,   3.1801,  34.5658,  34.5657,2,    160.8,2,   161.7,2,   85.78,2,   33.81,2,    0.00,2,    2.42,2,   0.128,2,   0.079,2,-999.000,1,        0,2,  -999.0,9,  -999.0,9,   7.5979,2,    25.00,-999.000,9,-999.0000,9, -999.00,9, -999.00,9,  -999.0,9,  -999.0,-999.000,9,-999.000,  -999.0,9,-999.000,-999.0000, -999.00,   3.0605,-999.0000,9,20091203,       2115
318M20091121,        P06,      47,          1,          6,          6,2,20091203,       2041,   -30.0801,   170.0000,       2949,  1812.3,   2.7347,  34.6015,  34.6019,2,    157.8,2,   157.8,2,   98.48,2,   34.46,2,    0.00,2,    2.47,2,   0.220,4,   0.332,4,-999.000,1,    2.941,4,  -999.0,9,  -999.0,9,-999.0000,9,  -999.00,-999.000,9,-999.0000,9, -999.00,9, -999.00,9,  -999.0,9,  -999.0,-999.000,9,-999.000,  -999.0,9,-999.000,-999.0000, -999.00,   2.6036,-999.0000,9,20091203,       2110
318M20091121,        P06,      47,          1,          5,          5,2,20091203,       2041,   -30.0801,   170.0000,       2949,  2017.5,   2.4194,  34.6268,  34.6284,3,    155.5,2,   155.9,2,  107.51,2,   34.84,2,    0.00,2,    2.50,2,   0.061,2,   0.040,2,-999.000,1,        0,2,  2290.5,2,  2386.3,2,   7.5496,3,    25.00,-999.000,9,-999.0000,9, -999.00,9, -999.00,9,  -999.0,9,  -999.0,-999.000,9,-999.000,  -999.0,9,-999.000,-999.0000, -999.00,   2.2751,-999.0000,9,20091203,       2105
318M20091121,        P06,      47,          1,          4,          4,2,20091203,       2041,   -30.0801,   170.0000,       2949,  2274.1,   2.2004,  34.6457,  34.6458,2,    154.5,2,   154.6,2,  114.09,2,   35.11,2,    0.00,2,    2.52,2,   0.030,2,   0.023,2,-999.000,1,        0,2,  -999.0,9,  -999.0,9,-999.0000,9,  -999.00,-999.000,9,-999.0000,9, -999.00,9, -999.00,9,  -999.0,9,  -999.0,-999.000,9,-999.000,  -999.0,9,-999.000,-999.0000, -999.00,   2.0369,-999.0000,9,20091203,       2058
318M20091121,        P06,      47,          1,          3,          3,2,20091203,       2041,   -30.0801,   170.0000,       2949,  2529.7,   2.0607,  34.6578,  34.6583,2,    153.7,2,   154.1,2,  118.42,2,   35.29,2,    0.00,2,    2.52,2,   0.043,2,   0.031,2,-999.000,1,        0,2,  2303.1,2,  2397.4,6,   7.5777,2,    25.00,-999.000,9,-999.0000,9, -999.00,9, -999.00,9,  -999.0,9,  -999.0,-999.000,9,-999.000,  -999.0,9,-999.000,-999.0000, -999.00,   1.8765,-999.0000,9,20091203,       2052
318M20091121,        P06,      47,          1,          2,          2,2,20091203,       2041,   -30.0801,   170.0000,       2949,  2787.4,   1.9701,  34.6662,  34.6670,2,    154.0,2,   154.5,2,  121.30,2,   35.31,2,    0.00,2,    2.52,2,   0.038,2,   0.039,2,-999.000,1,        0,2,  -999.0,9,  -999.0,9,-999.0000,9,  -999.00,-999.000,9,-999.0000,9, -999.00,9, -999.00,9,  -999.0,9,  -999.0,-999.000,9,-999.000,  -999.0,9,-999.000,-999.0000, -999.00,   1.7635,-999.0000,9,20091203,       2046
318M20091121,        P06,      47,          1,          1,          1,2,20091203,       2041,   -30.0801,   170.0000,       2949,  2975.9,   1.9231,  34.6712,  34.6719,2,    153.9,2,   154.3,2,  122.96,2,   35.32,2,    0.00,2,    2.53,2,   0.290,4,   0.591,4,-999.000,1,    6.167,4,  2305.4,6,  2403.6,2,   7.5769,6,    25.00,-999.000,9,-999.0000,9, -999.00,9, -999.00,9,  -999.0,9,  -999.0,-999.000,9,-999.000,  -999.0,9,-999.000,-999.0000, -999.00,   1.6993,-999.0000,9,20091203,       2041