BOTTLE,20220818CCHSIOAMB
EXPOCODE,SECT_ID,STNNBR,CASTNO,SAMPNO,BTLNBR,BTLNBR_FLAG_W,DATE,TIME,LATITUDE,LONGITUDE,DEPTH,CTDPRS,CTDTMP,CTDSAL,SALNTY,SALNTY_FLAG_W,CTDOXY,CTDOXY_FLAG_W,OXYGEN,OXYGEN_FLAG_W,SILCAT,SILCAT_FLAG_W,NITRAT,NITRAT_FLAG_W,NITRIT,NITRIT_FLAG_W,PHSPHT,PHSPHT_FLAG_W,CFC-11,CFC-11_FLAG_W,CFC-12,CFC-12_FLAG_W,CFC113,CFC113_FLAG_W,SF6,SF6_FLAG_W,TCARBN,TCARBN_FLAG_W,ALKALI,ALKALI_FLAG_W,PH_SWS,PH_SWS_FLAG_W,PH_TMP,TRITUM,TRITUM_FLAG_W,HELIUM,HELIUM_FLAG_W,DELHE3,DELHE3_FLAG_W,DELC13,DELC13_FLAG_W,DELC14,DELC14_FLAG_W,C14ERR,NEON,NEON_FLAG_W,NEONER,DOC,DOC_FLAG_W,TRITER,HELIER,DELHER,THETA,SBE35,SBE35_FLAG_W,BTL_DATE,BTL_TIME
,,,,,,,,,,,METERS,DBAR,ITS-90,PSS-78,PSS-78,,UMOL/KG,,UMOL/KG,,UMOL/KG,,UMOL/KG,,UMOL/KG,,UMOL/KG,,PMOL/KG,,PMOL/KG,,PMOL/KG,,FMOL/KG,,UMOL/KG,,UMOL/KG,,,,DEG C,TU,,NMOL/KG,,PERCNT,,/MILLE,,/MILLE,,/MILLE,NMOL/KG,,NMOL/KG,UMOL/KG,,TU,NMOL/KG,PERCNT,DEG C,ITS-90,,,
318M20091121,        P06,      92,          1,         28,         28,2,20091216,       1815,   -32.5000,  -171.7601,       2783,     7.7,  20.4302,  35.5863,  35.5804,2,    230.8,2,   230.1,2,    0.57,2,    0.00,2,    0.00,2,    0.11,2,-999.000,9,-999.000,9,-999.000,9,-999.0000,9,  2048.0,6,  2335.4,2,   8.0002,6,    25.00,-999.000,9,-999.0000,9, -999.00,9, -999.00,9,  -999.0,9,  -999.0,-999.000,9,-999.000,    61.0,2,-999.000,-999.0000, -999.00,  20.4288,  20.4249,2,20091216,       1954
318M20091121,        P06,      92,          1,         27,         27,2,20091216,       1815,   -32.5000,  -171.7601,       2783,    25.7,  19.6905,  35.5547,  35.5567,2,    236.0,2,   236.2,2,    0.33,2,    0.00,2,    0.00,2,    0.10,2,-999.000,9,-999.000,9,-999.000,9,-999.0000,9,  2045.1,2,  2333.0,6,-999.0000,9,  -999.00,-999.000,9,-999.0000,9, -999.00,9, -999.00,9,  -999.0,9,  -999.0,-999.000,9,-999.000,    61.9,2,-999.000,-999.0000, -999.00,  19.6858,  19.7063,2,20091216,       1951
318M20091121,        P06,      92,          1,         26,         26,2,20091216,       1815,   -32.5000,  -171.7601,       2783,    49.0,  17.7808,  35.5229,  35.5225,2,   -999.0,9,  -999.0,5,    0.31,2,    0.00,2,    0.00,2,    0.11,2,-999.000,9,-999.000,9,-999.000,9,-999.0000,9,  2041.0,2,  2331.6,2,   8.0060,2,    25.00,-999.000,9,-999.0000,9, -999.00,9, -999.00,9,  -999.0,9,  -999.0,-999.000,9,-999.000,    61.7,2,-999.000,-999.0000, -999.00,  17.7725,  17.7289,3,20091216,       1949
318M20091121,        P06,      92,          1,         25,         25,2,20091216,       1815,   -32.5000,  -171.7601,       2783,    76.0,  16.9121,  35.5110,  35.5109,2,    244.1,2,   243.8,2,    0.28,2,    0.00,2,    0.00,2,    0.13,2,-999.000,9,-999.000,9,-999.000,9,-999.0000,9,  2047.6,2,  2334.7,2,-999.0000,9,  -999.00,-999.000,9,-999.0000,9, -999.00,9, -999.00,9,  -999.0,9,  -999.0,-999.000,9,-999.000,    57.2,2,-999.000,-999.0000, -999.00,  16.8996,  16.9045,2,20091216,       1947
318M20091121,        P06,      92,          1,         24,         24,2,20091216,       1815,   -32.5000,  -171.7601,       2783,    98.3,  16.2671,  35.5036,  35.5030,2,    234.8,2,   231.9,2,    0.47,2,    0.37,2,    0.08,2,    0.21,2,-999.000,9,-999.000,9,-999.000,9,-999.0000,9,  2064.6,2,  2334.0,2,-999.0000,9,  -999.00,-999.000,9,-999.0000,9, -999.00,9, -999.00,9,  -999.0,9,  -999.0,-999.000,9,-999.000,    55.5,2,-999.000,-999.0000, -999.00,  16.2513,  16.2664,2,20091216,       1945
318M20091121,        P06,      92,          1,         23,         23,2,20091216,       1815,   -32.5000,  -171.7601,       2783,   150.4,  15.2824,  35.4098,  35.4131,2,    225.1,2,   224.6,2,    0.86,2,    3.48,2,    0.01,2,    0.36,2,-999.000,9,-999.000,9,-999.000,9,-999.0000,9,  2076.2,2,  2325.3,2,   7.9320,2,    25.00,-999.000,9,-999.0000,9, -999.00,9, -999.00,9,  -999.0,9,  -999.0,-999.000,9,-999.000,    55.6,2,-999.000,-999.0000, -999.00,  15.2593,  15.2948,2,20091216,       1942
318M20091121,        P06,      92,          1,         22,         22,2,20091216,       1815,   -32.5000,  -171.7601,       2783,   199.9,  14.2059,  35.2715,  35.2686,2,    219.3,2,   212.8,2,    1.66,2,    6.83,2,    0.01,2,    0.58,2,-999.000,9,-999.000,9,-999.000,9,-999.0000,9,  2096.3,2,  2321.4,2,-999.0000,9,  -999.00,-999.000,9,-999.0000,9, -999.00,9, -999.00,9,  -999.0,9,  -999.0,-999.000,9,-999.000,    47.8,2,-999.000,-999.0000, -999.00,  14.1766,  14.2168,2,20091216,       1940
318M20091121,        P06,      92,          1,         21,         21,2,20091216,       1815,   -32.5000,  -171.7601,       2783,   251.7,  13.1168,  35.1442,  35.1438,2,    205.7,2,   205.3,2,    2.47,2,    9.97,2,    0.01,2,    0.76,2,-999.000,9,-999.000,9,-999.000,9,-999.0000,9,  2110.1,2,  2315.6,2,   7.8451,2,    25.00,-999.000,9,-999.0000,9, -999.00,9, -999.00,9,  -999.0,9,  -999.0,-999.000,9,-999.000,    46.5,2,-999.000,-999.0000, -999.00,  13.0819,  13.1176,2,20091216,       1938
318M20091121,        P06,      92,          1,         20,         20,2,20091216,       1815,   -32.5000,  -171.7601,       2783,   302.1,  12.4065,  35.0739,  35.0748,2,    211.4,2,   210.0,2,    2.86,2,   11.18,2,    0.01,2,    0.83,2,-999.000,9,-999.000,9,-999.000,9,-999.0000,9,  2114.4,2,  2311.4,2,   7.8290,2,    25.00,-999.000,9,-999.0000,9, -999.00,9, -999.00,9,  -999.0,9,  -999.0,-999.000,9,-999.000,    45.1,2,-999.000,-999.0000, -999.00,  12.3660,  12.4137,2,20091216,       1934
318M20091121,        P06,      92,          1,         19,         19,2,20091216,       1815,   -32.5000,  -171.7601,       2783,   351.7,  11.2417,  34.9027,  34.9039,2,    206.3,2,   206.4,2,    3.68,2,   14.02,2,    0.01,2,    1.02,2,-999.000,9,-999.000,9,-999.000,9,-999.0000,9,  2128.3,2,  2300.6,2,   7.7933,2,    25.00,-999.000,9,-999.0000,9, -999.00,9, -999.00,9,  -999.0,9,  -999.0,-999.000,9,-999.000,    46.0,2,-999.000,-999.0000, -999.00,  11.1975,  11.2419,2,20091216,       1932
318M20091121,        P06,      92,          1,         18,         18,2,20091216,       1815,   -32.5000,  -171.7601,       2783,   403.4,  10.1661,  34.7613,  34.7608,2,    208.3,2,   208.7,2,    4.48,2,   16.38,2,    0.00,2,    1.16,2,-999.000,9,-999.000,9,-999.000,9,-999.0000,9,  2133.5,2,  2297.5,2,-999.0000,9,  -999.00,-999.000,9,-999.0000,9, -999.00,9, -999.00,9,  -999.0,9,  -999.0,-999.000,9,-999.000,    47.1,2,-999.000,-999.0000, -999.00,  10.1184,  10.1650,2,20091216,       1929
318M20091121,        P06,      92,          1,         17,         17,2,20091216,       1815,   -32.5000,  -171.7601,       2783,   452.3,   9.2138,  34.6394,  34.6399,2,    213.3,2,   213.1,2,    5.08,2,   18.24,2,    0.00,2,    1.28,2,-999.000,9,-999.000,9,-999.000,9,-999.0000,9,  2138.9,2,  2290.9,2,   7.7486,2,    25.00,-999.000,9,-999.0000,9, -999.00,9, -999.00,9,  -999.0,9,  -999.0,-999.000,9,-999.000,    42.5,2,-999.000,-999.0000, -999.00,   9.1635,   9.2151,2,20091216,       1927
318M20091121,        P06,      92,          1,         16,         16,2,20091216,       1815,   -32.5000,  -171.7601,       2783,   505.1,   8.4670,  34.5474,  34.5473,2,    219.2,2,   219.1,2,    5.48,2,   19.59,2,    0.00,2,    1.38,2,-999.000,9,-999.000,9,-999.000,9,-999.0000,9,  2139.4,2,  2288.7,6,-999.0000,9,  -999.00,-999.000,9,-999.0000,9, -999.00,9, -999.00,9,  -999.0,9,  -999.0,-999.000,9,-999.000,    43.5,2,-999.000,-999.0000, -999.00,   8.4135,   8.4692,2,20091216,       1924
318M20091121,        P06,      92,          1,         15,         15,2,20091216,       1815,   -32.5000,  -171.7601,       2783,   554.6,   7.9627,  34.4913,  34.4905,2,    224.1,2,   224.6,2,    5.87,2,   20.66,2,    0.00,2,    1.45,2,-999.000,9,-999.000,9,-999.000,9,-999.0000,9,  2145.5,2,  2286.1,2,   7.7343,2,    25.00,-999.000,9,-999.0000,9, -999.00,9, -999.00,9,  -999.0,9,  -999.0,-999.000,9,-999.000,    40.0,2,-999.000,-999.0000, -999.00,   7.9058,   7.9646,2,20091216,       1922
318M20091121,        P06,      92,          1,         14,         14,2,20091216,       1815,   -32.5000,  -171.7601,       2783,   651.9,   7.3146,  34.4257,  34.4258,2,    229.7,2,   230.6,2,    6.68,2,   22.01,2,    0.00,2,    1.53,2,-999.000,9,-999.000,9,-999.000,9,-999.0000,9,  2146.1,2,  2284.9,2,-999.0000,9,  -999.00,-999.000,9,-999.0000,9, -999.00,9, -999.00,9,  -999.0,9,  -999.0,-999.000,9,-999.000,  -999.0,9,-999.000,-999.0000, -999.00,   7.2506,   7.3105,2,20091216,       1918
318M20091121,        P06,      92,          1,         13,         13,2,20091216,       1815,   -32.5000,  -171.7601,       2783,   754.6,   6.7303,  34.3843,  34.3841,2,    229.0,2,   228.0,2,    9.16,2,   23.68,2,    0.00,2,    1.64,2,-999.000,9,-999.000,9,-999.000,9,-999.0000,9,  2147.4,2,  2286.0,2,   7.7174,2,    25.00,-999.000,9,-999.0000,9, -999.00,9, -999.00,9,  -999.0,9,  -999.0,-999.000,9,-999.000,    38.0,2,-999.000,-999.0000, -999.00,   6.6590,   6.7295,2,20091216,       1915
318M20091121,        P06,      92,          1,         12,         12,2,20091216,       1815,   -32.5000,  -171.7601,       2783,   855.5,   6.1506,  34.3562,  34.3570,2,    222.4,2,   221.6,2,   12.69,2,   25.50,2,    0.00,2,    1.77,2,-999.000,9,-999.000,9,-999.000,9,-999.0000,9,  2155.3,2,  2287.8,2,-999.0000,9,  -999.00,-999.000,9,-999.0000,9, -999.00,9, -999.00,9,  -999.0,9,  -999.0,-999.000,9,-999.000,  -999.0,9,-999.000,-999.0000, -999.00,   6.0730,   6.1583,2,20091216,       1911
318M20091121,        P06,      92,          1,         11,         11,2,20091216,       1815,   -32.5000,  -171.7601,       2783,   957.0,   5.5816,  34.3471,  34.3470,2,    210.8,2,   210.5,2,   18.96,2,   27.60,2,    0.00,2,    1.92,2,-999.000,9,-999.000,9,-999.000,9,-999.0000,9,  2170.7,2,  2290.8,2,   7.6759,2,    25.00,-999.000,9,-999.0000,9, -999.00,9, -999.00,9,  -999.0,9,  -999.0,-999.000,9,-999.000,    39.4,2,-999.000,-999.0000, -999.00,   5.4982,   5.5828,2,20091216,       1908
318M20091121,        P06,      92,          1,         10,         10,2,20091216,       1815,   -32.5000,  -171.7601,       2783,  1054.9,   4.9063,  34.3517,  34.3511,2,    200.0,2,   199.6,2,   27.78,2,   29.76,2,    0.00,2,    2.07,2,-999.000,9,-999.000,9,-999.000,9,-999.0000,9,  2187.5,2,  2298.9,2,-999.0000,9,  -999.00,-999.000,9,-999.0000,9, -999.00,9, -999.00,9,  -999.0,9,  -999.0,-999.000,9,-999.000,  -999.0,9,-999.000,-999.0000, -999.00,   4.8190,   4.9037,2,20091216,       1905
318M20091121,        P06,      92,          1,          9,          9,2,20091216,       1815,   -32.5000,  -171.7601,       2783,  1156.8,   4.2763,  34.3661,  34.3663,2,    190.7,2,   191.1,2,   37.05,2,   31.38,2,    0.00,2,    2.20,2,-999.000,9,-999.000,9,-999.000,9,-999.0000,9,  2203.0,2,  2306.5,2,   7.6231,2,    25.00,-999.000,9,-999.0000,9, -999.00,9, -999.00,9,  -999.0,9,  -999.0,-999.000,9,-999.000,  -999.0,9,-999.000,-999.0000, -999.00,   4.1852,   4.2770,2,20091216,       1902
318M20091121,        P06,      92,          1,          8,          8,2,20091216,       1815,   -32.5000,  -171.7601,       2783,  1260.2,   3.8110,  34.3963,  34.3967,2,    182.5,2,   183.7,2,   46.37,2,   32.51,2,    0.00,2,    2.28,2,-999.000,9,-999.000,9,-999.000,9,-999.0000,9,  2216.8,2,  2315.0,2,-999.0000,9,  -999.00,-999.000,9,-999.0000,9, -999.00,9, -999.00,9,  -999.0,9,  -999.0,-999.000,9,-999.000,    37.6,2,-999.000,-999.0000, -999.00,   3.7152,   3.8106,2,20091216,       1858
318M20091121,        P06,      92,          1,          7,          7,2,20091216,       1815,   -32.5000,  -171.7601,       2783,  1366.3,   3.3148,  34.4522,  34.4522,2,    173.2,2,   174.2,2,   59.55,2,   33.46,2,    0.00,2,    2.36,2,-999.000,9,-999.000,9,-999.000,9,-999.0000,9,  2235.9,2,  2330.4,2,   7.5882,2,    25.00,-999.000,9,-999.0000,9, -999.00,9, -999.00,9,  -999.0,9,  -999.0,-999.000,9,-999.000,  -999.0,9,-999.000,-999.0000, -999.00,   3.2149,   3.3137,2,20091216,       1855
318M20091121,        P06,      92,          1,          6,          6,2,20091216,       1815,   -32.5000,  -171.7601,       2783,  1460.5,   3.0412,  34.4955,  34.4952,2,    167.9,2,   168.1,2,   69.80,2,   33.98,2,    0.00,2,    2.41,2,-999.000,9,-999.000,9,-999.000,9,-999.0000,9,  2248.7,2,  2343.2,2,-999.0000,9,  -999.00,-999.000,9,-999.0000,9, -999.00,9, -999.00,9,  -999.0,9,  -999.0,-999.000,9,-999.000,  -999.0,9,-999.000,-999.0000, -999.00,   2.9364,   3.0400,2,20091216,       1851
318M20091121,        P06,      92,          1,          5,          5,2,20091216,       1815,   -32.5000,  -171.7601,       2783,  1564.1,   2.7993,  34.5421,  34.5416,2,    161.9,2,   161.7,2,   81.16,2,   34.32,2,    0.00,2,    2.43,2,-999.000,9,-999.000,9,-999.000,9,-999.0000,9,  2262.7,2,  2358.0,2,-999.0000,9,  -999.00,-999.000,9,-999.0000,9, -999.00,9, -999.00,9,  -999.0,9,  -999.0,-999.000,9,-999.000,    36.1,2,-999.000,-999.0000, -999.00,   2.6886,   2.8007,2,20091216,       1848
318M20091121,        P06,      92,          1,          4,          4,2,20091216,       1815,   -32.5000,  -171.7601,       2783,  1762.7,   2.4799,  34.5976,  34.5977,2,    154.7,2,   154.3,2,   98.82,2,   34.83,2,    0.00,2,    2.46,2,-999.000,9,-999.000,9,-999.000,9,-999.0000,9,  2285.3,2,  2374.9,2,   7.5735,2,    25.00,-999.000,9,-999.0000,9, -999.00,9, -999.00,9,  -999.0,9,  -999.0,-999.000,9,-999.000,  -999.0,9,-999.000,-999.0000, -999.00,   2.3565,   2.4792,2,20091216,       1839
318M20091121,        P06,      92,          1,          3,          3,2,20091216,       1815,   -32.5000,  -171.7601,       2783,  2118.3,   2.2413,  34.6287,  34.6294,2,    149.4,2,   149.3,2,  112.43,2,   35.22,2,    0.00,2,    2.50,2,-999.000,9,-999.000,9,-999.000,9,-999.0000,9,  2299.1,2,  2396.9,2,   7.5692,2,    25.00,-999.000,9,-999.0000,9, -999.00,9, -999.00,9,  -999.0,9,  -999.0,-999.000,9,-999.000,    35.9,2,-999.000,-999.0000, -999.00,   2.0910,   2.2414,2,20091216,       1832
318M20091121,        P06,      92,          1,          2,          2,2,20091216,       1815,   -32.5000,  -171.7601,       2783,  2426.6,   2.0780,  34.6448,  34.6475,3,    148.1,2,   147.9,2,  120.22,2,   35.41,2,    0.00,2,    2.52,2,-999.000,9,-999.000,9,-999.000,9,-999.0000,9,  2306.8,2,  2402.4,2,   7.5696,2,    25.00,-999.000,9,-999.0000,9, -999.00,9, -999.00,9,  -999.0,9,  -999.0,-999.000,9,-999.000,  -999.0,9,-999.000,-999.0000, -999.00,   1.9030,   2.0777,2,20091216,       1825
318M20091121,        P06,      92,          1,          1,          1,2,20091216,       1815,   -32.5000,  -171.7601,       2783,  2914.2,   1.8281,  34.6705,  34.6752,3,    156.2,2,   156.6,2,  125.21,2,   34.94,2,    0.00,2,    2.48,2,-999.000,9,-999.000,9,-999.000,9,-999.0000,9,  2306.2,6,  2399.1,6,   7.5807,2,    25.00,-999.000,9,-999.0000,9, -999.00,9, -999.00,9,  -999.0,9,  -999.0,-999.000,9,-999.000,    37.5,2,-999.000,-999.0000, -999.00,   1.6124,   1.8268,2,20091216,       1815