BOTTLE,20220818CCHSIOAMB
EXPOCODE,SECT_ID,STNNBR,CASTNO,SAMPNO,BTLNBR,BTLNBR_FLAG_W,DATE,TIME,LATITUDE,LONGITUDE,DEPTH,CTDPRS,CTDTMP,CTDSAL,SALNTY,SALNTY_FLAG_W,CTDOXY,CTDOXY_FLAG_W,OXYGEN,OXYGEN_FLAG_W,SILCAT,SILCAT_FLAG_W,NITRAT,NITRAT_FLAG_W,NITRIT,NITRIT_FLAG_W,PHSPHT,PHSPHT_FLAG_W,CFC-11,CFC-11_FLAG_W,CFC-12,CFC-12_FLAG_W,CFC113,CFC113_FLAG_W,SF6,SF6_FLAG_W,TCARBN,TCARBN_FLAG_W,ALKALI,ALKALI_FLAG_W,PH_SWS,PH_SWS_FLAG_W,PH_TMP,TRITUM,TRITUM_FLAG_W,HELIUM,HELIUM_FLAG_W,DELHE3,DELHE3_FLAG_W,DELC13,DELC13_FLAG_W,DELC14,DELC14_FLAG_W,C14ERR,NEON,NEON_FLAG_W,NEONER,DOC,DOC_FLAG_W,TRITER,HELIER,DELHER,THETA,SBE35,SBE35_FLAG_W,BTL_DATE,BTL_TIME
,,,,,,,,,,,METERS,DBAR,ITS-90,PSS-78,PSS-78,,UMOL/KG,,UMOL/KG,,UMOL/KG,,UMOL/KG,,UMOL/KG,,UMOL/KG,,PMOL/KG,,PMOL/KG,,PMOL/KG,,FMOL/KG,,UMOL/KG,,UMOL/KG,,,,DEG C,TU,,NMOL/KG,,PERCNT,,/MILLE,,/MILLE,,/MILLE,NMOL/KG,,NMOL/KG,UMOL/KG,,TU,NMOL/KG,PERCNT,DEG C,ITS-90,,,
318M20091121,        P06,       8,          1,         36,         36,2,20091124,       0551,   -30.0800,   154.0000,       4431,     3.6,  24.1574,  35.5193,  35.5164,2,    215.3,2,   215.2,2,    0.26,2,    0.00,3,    0.00,2,    0.13,2,   1.849,2,   1.096,2,-999.000,1,    1.253,2,  2005.8,6,  2321.5,2,   8.0729,2,    25.00,-999.000,9,-999.0000,9, -999.00,9, -999.00,9,  -999.0,9,  -999.0,-999.000,9,-999.000,    65.6,2,-999.000,-999.0000, -999.00,  24.1566,  24.1677,2,20091124,       0825
318M20091121,        P06,       8,          1,         35,         35,2,20091124,       0551,   -30.0800,   154.0000,       4431,    26.5,  22.8364,  35.4777,  35.4765,2,    227.1,2,   227.6,2,    0.01,2,    0.00,3,    0.00,2,    0.12,2,   1.894,2,   1.135,2,-999.000,1,    1.221,2,  2000.7,2,  2323.4,6,   8.0772,2,    25.00,-999.000,9,-999.0000,9, -999.00,9, -999.00,9,  -999.0,9,  -999.0,-999.000,9,-999.000,    64.4,2,-999.000,-999.0000, -999.00,  22.8310,  22.8270,2,20091124,       0822
318M20091121,        P06,       8,          1,         34,         34,2,20091124,       0551,   -30.0800,   154.0000,       4431,    46.9,  21.4594,  35.4944,  35.4933,2,    217.5,2,   220.1,2,    0.00,2,    0.07,3,    0.01,2,    0.16,2,   1.992,2,   1.168,2,-999.000,1,    1.258,2,  2028.4,2,  2325.0,2,   8.0374,2,    25.00,-999.000,9,-999.0000,9, -999.00,9, -999.00,9,  -999.0,9,  -999.0,-999.000,9,-999.000,    59.2,2,-999.000,-999.0000, -999.00,  21.4503,  21.4388,3,20091124,       0819
318M20091121,        P06,       8,          1,         33,         33,2,20091124,       0551,   -30.0800,   154.0000,       4431,    73.0,  18.5000,  35.5212,  35.5188,2,    191.4,2,   193.7,2,    1.38,2,    3.77,3,    0.02,2,    0.43,2,   2.187,2,   1.256,2,-999.000,1,    1.204,2,  2063.7,2,  2323.2,2,   7.9769,2,    25.00,-999.000,9,-999.0000,9, -999.00,9, -999.00,9,  -999.0,9,  -999.0,-999.000,9,-999.000,    53.5,2,-999.000,-999.0000, -999.00,  18.4872,  18.5094,2,20091124,       0816
318M20091121,        P06,       8,          1,         32,         32,2,20091124,       0551,   -30.0800,   154.0000,       4431,    97.6,  17.6958,  35.5541,  35.5520,2,    225.9,2,   211.2,2,    0.71,2,    2.07,3,    0.02,2,    0.34,2,   2.319,2,   1.328,2,-999.000,1,    1.225,2,  2059.8,2,  2329.8,2,   7.9822,2,    25.00,-999.000,9,-999.0000,9, -999.00,9, -999.00,9,  -999.0,9,  -999.0,-999.000,9,-999.000,    51.7,2,-999.000,-999.0000, -999.00,  17.6792,  17.6982,2,20091124,       0814
318M20091121,        P06,       8,          1,         31,         31,2,20091124,       0551,   -30.0800,   154.0000,       4431,   124.2,  17.3048,  35.5537,  35.5499,2,    212.8,2,   210.8,2,    1.08,2,    2.84,3,    0.01,2,    0.39,2,   2.334,2,   1.346,2,-999.000,1,    1.235,2,  2065.9,2,  2333.7,2,   7.9681,2,    25.00,-999.000,9,-999.0000,9, -999.00,9, -999.00,9,  -999.0,9,  -999.0,-999.000,9,-999.000,    53.2,2,-999.000,-999.0000, -999.00,  17.2840,  17.3014,2,20091124,       0810
318M20091121,        P06,       8,          1,         30,         30,2,20091124,       0551,   -30.0800,   154.0000,       4431,   149.3,  16.8403,  35.5172,  35.5149,2,    218.6,2,   199.4,2,    1.67,2,    4.70,3,    0.00,2,    0.51,2,   2.344,2,   1.340,2,-999.000,1,    1.253,2,  2079.6,2,  2328.4,2,   7.9404,2,    25.00,-999.000,9,-999.0000,9, -999.00,9, -999.00,9,  -999.0,9,  -999.0,-999.000,9,-999.000,    53.4,2,-999.000,-999.0000, -999.00,  16.8158,  16.8418,2,20091124,       0806
318M20091121,        P06,       8,          1,         29,         29,2,20091124,       0551,   -30.0800,   154.0000,       4431,   199.5,  15.9145,  35.4572,  35.4559,2,    199.0,2,   196.4,2,    2.04,2,    6.29,3,    0.00,2,    0.61,2,   2.406,2,   1.354,2,-999.000,1,     1.25,2,  2093.0,2,  2324.2,2,   7.9088,2,    25.00,-999.000,9,-999.0000,9, -999.00,9, -999.00,9,  -999.0,9,  -999.0,-999.000,9,-999.000,    51.5,2,-999.000,-999.0000, -999.00,  15.8829,  15.9080,2,20091124,       0804
318M20091121,        P06,       8,          1,         28,         28,2,20091124,       0551,   -30.0800,   154.0000,       4431,   250.0,  14.5196,  35.3505,  35.3492,2,    197.4,2,   197.9,2,    2.83,2,    8.40,3,    0.00,2,    0.74,2,   2.502,2,   1.383,2,-999.000,1,    1.218,2,  2024.2,4,  2319.3,2,   7.8735,2,    25.00,-999.000,9,-999.0000,9, -999.00,9, -999.00,9,  -999.0,9,  -999.0,-999.000,9,-999.000,    48.6,2,-999.000,-999.0000, -999.00,  14.4824,  14.5194,2,20091124,       0801
318M20091121,        P06,       8,          1,         27,         27,2,20091124,       0551,   -30.0800,   154.0000,       4431,   300.6,  13.5651,  35.2747,  35.2733,2,    202.5,2,   202.3,2,    3.21,2,    9.73,3,    0.00,2,    0.83,2,   2.567,2,   1.412,2,-999.000,1,    1.169,2,  2014.2,4,  2315.0,2,   7.8623,2,    25.00,-999.000,9,-999.0000,9, -999.00,9, -999.00,9,  -999.0,9,  -999.0,-999.000,9,-999.000,    49.9,2,-999.000,-999.0000, -999.00,  13.5223,  13.5643,2,20091124,       0758
318M20091121,        P06,       8,          1,         26,         26,2,20091124,       0551,   -30.0800,   154.0000,       4431,   351.5,  12.6953,  35.1750,  35.1741,2,    205.5,2,   202.8,2,    3.79,2,   11.52,3,    0.00,2,    0.94,2,   2.577,2,   1.415,6,-999.000,1,   1.0735,6,  1999.3,4,  2311.4,2,   7.8410,2,    25.00,-999.000,9,-999.0000,9, -999.00,9, -999.00,9,  -999.0,9,  -999.0,-999.000,9,-999.000,    49.2,2,-999.000,-999.0000, -999.00,  12.6473,  12.6944,2,20091124,       0755
318M20091121,        P06,       8,          1,         25,         25,2,20091124,       0551,   -30.0800,   154.0000,       4431,   401.7,  11.4606,  34.9784,  34.9787,2,    196.2,2,   196.0,2,    5.43,2,   14.79,3,    0.00,2,    1.14,2,   2.453,2,   1.296,2,-999.000,1,    0.733,2,  2040.1,4,  2301.1,2,   7.8035,2,    25.00,-999.000,9,-999.0000,9, -999.00,9, -999.00,9,  -999.0,9,  -999.0,-999.000,9,-999.000,  -999.0,5,-999.000,-999.0000, -999.00,  11.4093,  11.4562,2,20091124,       0753
318M20091121,        P06,       8,          1,         24,         24,2,20091124,       0551,   -30.0800,   154.0000,       4431,   453.7,  10.4748,  34.8450,  34.8477,2,    199.5,2,   196.7,2,    6.42,2,   17.04,3,    0.00,2,    1.28,2,   2.393,2,   1.252,2,-999.000,1,    0.587,2,  2085.1,4,  2295.6,2,   7.7730,2,    25.00,-999.000,9,-999.0000,9, -999.00,9, -999.00,9,  -999.0,9,  -999.0,-999.000,9,-999.000,  -999.0,9,-999.000,-999.0000, -999.00,  10.4200,  10.4939,3,20091124,       0750
318M20091121,        P06,       8,          1,         23,         23,2,20091124,       0551,   -30.0800,   154.0000,       4431,   503.8,   9.6236,  34.7470,  34.7459,2,    200.0,2,   200.0,2,    7.64,2,   18.93,3,    0.00,2,    1.39,2,   2.397,2,   1.238,2,-999.000,1,    0.513,2,  2034.9,4,  2292.3,2,   7.7488,6,    25.00,-999.000,9,-999.0000,9, -999.00,9, -999.00,9,  -999.0,9,  -999.0,-999.000,9,-999.000,    42.5,2,-999.000,-999.0000, -999.00,   9.5658,   9.6254,2,20091124,       0747
318M20091121,        P06,       8,          1,         22,         22,2,20091124,       0551,   -30.0800,   154.0000,       4431,   605.6,   8.2420,  34.5871,  34.5856,2,    198.0,2,   198.6,2,   11.58,2,   22.52,3,    0.00,2,    1.61,2,   1.879,2,   0.946,2,-999.000,1,    0.377,2,  2098.1,4,  2291.7,2,   7.7195,2,    25.00,-999.000,9,-999.0000,9, -999.00,9, -999.00,9,  -999.0,9,  -999.0,-999.000,9,-999.000,  -999.0,9,-999.000,-999.0000, -999.00,   8.1784,   8.2410,2,20091124,       0744
318M20091121,        P06,       8,          1,         21,         21,2,20091124,       0551,   -30.0800,   154.0000,       4431,   706.7,   7.1760,  34.5038,  34.5044,2,    194.1,2,   194.6,2,   17.20,2,   25.49,3,    0.00,2,    1.80,2,   1.305,2,   0.668,2,-999.000,1,    0.227,2,  2105.7,4,  2295.0,2,   7.6906,2,    25.00,-999.000,9,-999.0000,9, -999.00,9, -999.00,9,  -999.0,9,  -999.0,-999.000,9,-999.000,    40.4,2,-999.000,-999.0000, -999.00,   7.1070,   7.1751,2,20091124,       0740
318M20091121,        P06,       8,          1,         20,         20,2,20091124,       0551,   -30.0800,   154.0000,       4431,   808.7,   6.3001,  34.4593,  34.4578,2,    190.9,2,   192.1,2,   24.32,2,   27.74,3,    0.00,2,    1.95,2,   0.874,2,   0.455,2,-999.000,1,    0.138,2,  2086.8,4,  2298.4,2,   7.6788,2,    25.00,-999.000,9,-999.0000,9, -999.00,9, -999.00,9,  -999.0,9,  -999.0,-999.000,9,-999.000,  -999.0,9,-999.000,-999.0000, -999.00,   6.2259,   6.3013,2,20091124,       0737
318M20091121,        P06,       8,          1,         19,         19,2,20091124,       0551,   -30.0800,   154.0000,       4431,   910.0,   5.6458,  34.4484,  34.4468,2,    185.6,2,   186.2,2,   32.30,2,   29.57,3,    0.00,2,    2.06,2,   0.600,2,   0.316,2,-999.000,1,        0,2,  2192.5,2,  2301.3,2,   7.6550,2,    25.00,-999.000,9,-999.0000,9, -999.00,9, -999.00,9,  -999.0,9,  -999.0,-999.000,9,-999.000,    40.2,2,-999.000,-999.0000, -999.00,   5.5662,   5.6458,2,20091124,       0733
318M20091121,        P06,       8,          1,         18,         18,2,20091124,       0551,   -30.0800,   154.0000,       4431,  1011.4,   4.9768,  34.4554,  34.4552,2,    179.2,2,   180.4,2,   43.28,2,   31.36,3,    0.00,2,    2.18,2,   0.366,2,   0.203,2,-999.000,1,        0,2,  2208.7,6,  2314.5,6,   7.6371,2,    25.00,-999.000,9,-999.0000,9, -999.00,9, -999.00,9,  -999.0,9,  -999.0,-999.000,9,-999.000,  -999.0,9,-999.000,-999.0000, -999.00,   4.8927,   4.9755,2,20091124,       0729
318M20091121,        P06,       8,          1,         17,         17,2,20091124,       0551,   -30.0800,   154.0000,       4431,  1114.0,   4.3817,  34.4823,  34.4817,2,    171.1,2,   171.0,2,   56.42,2,   32.88,3,    0.00,2,    2.29,2,   0.192,2,   0.113,2,-999.000,1,        0,2,  2229.9,2,  2328.1,2,   7.6190,2,    25.00,-999.000,9,-999.0000,9, -999.00,9, -999.00,9,  -999.0,9,  -999.0,-999.000,9,-999.000,    39.2,2,-999.000,-999.0000, -999.00,   4.2932,   4.3830,2,20091124,       0726
318M20091121,        P06,       8,          1,         16,         16,2,20091124,       0551,   -30.0800,   154.0000,       4431,  1215.3,   3.9791,  34.5062,  34.5055,2,    164.0,2,   164.6,2,   65.77,2,   33.89,3,    0.00,2,    2.37,2,   0.138,2,   0.083,2,-999.000,1,        0,2,  2243.2,2,  2339.4,2,   7.6038,2,    25.00,-999.000,9,-999.0000,9, -999.00,9, -999.00,9,  -999.0,9,  -999.0,-999.000,9,-999.000,  -999.0,9,-999.000,-999.0000, -999.00,   3.8854,   3.9790,2,20091124,       0722
318M20091121,        P06,       8,          1,         15,         15,2,20091124,       0551,   -30.0800,   154.0000,       4431,  1317.8,   3.5310,  34.5381,  34.5384,2,    159.1,2,   158.2,2,   77.08,2,   34.94,3,    0.00,2,    2.45,2,   0.083,2,   0.050,2,-999.000,1,        0,2,  2264.2,2,  2350.2,2,   7.5903,2,    25.00,-999.000,9,-999.0000,9, -999.00,9, -999.00,9,  -999.0,9,  -999.0,-999.000,9,-999.000,    35.2,2,-999.000,-999.0000, -999.00,   3.4328,   3.5311,2,20091124,       0718
318M20091121,        P06,       8,          1,         14,         14,2,20091124,       0551,   -30.0800,   154.0000,       4431,  1418.9,   3.2536,  34.5601,  34.5599,2,    155.2,2,   155.0,2,   83.91,2,   35.48,3,    0.00,2,    2.47,2,   0.065,2,   0.038,2,-999.000,1,        0,2,  2119.0,4,  2247.2,4,   7.5855,2,    25.00,-999.000,9,-999.0000,9, -999.00,9, -999.00,9,  -999.0,9,  -999.0,-999.000,9,-999.000,  -999.0,9,-999.000,-999.0000, -999.00,   3.1497,   3.2551,2,20091124,       0714
318M20091121,        P06,       8,          1,         13,         13,2,20091124,       0551,   -30.0800,   154.0000,       4431,  1519.2,   2.9219,  34.5912,  34.5911,2,    154.0,2,   154.0,2,   90.53,2,   35.76,3,    0.00,2,    2.49,2,   0.036,2,   0.024,2,-999.000,1,        0,2,  2274.3,2,  2361.2,2,   7.5834,2,    25.00,-999.000,9,-999.0000,9, -999.00,9, -999.00,9,  -999.0,9,  -999.0,-999.000,9,-999.000,    36.4,2,-999.000,-999.0000, -999.00,   2.8133,   2.9222,2,20091124,       0711
318M20091121,        P06,       8,          1,         12,         12,2,20091124,       0551,   -30.0800,   154.0000,       4431,  1620.4,   2.6911,  34.6162,  34.6148,2,    155.7,2,   155.8,2,   93.50,2,   35.68,3,    0.00,2,    2.48,2,   0.027,2,   0.020,2,-999.000,1,        0,2,  2276.7,2,  2362.9,2,   7.5808,2,    25.00,-999.000,9,-999.0000,9, -999.00,9, -999.00,9,  -999.0,9,  -999.0,-999.000,9,-999.000,  -999.0,9,-999.000,-999.0000, -999.00,   2.5768,   2.6919,2,20091124,       0707
318M20091121,        P06,       8,          1,         11,         11,2,20091124,       0551,   -30.0800,   154.0000,       4431,  1823.6,   2.4128,  34.6536,  34.6540,2,    162.6,2,   163.4,2,   93.89,2,   34.93,3,    0.00,2,    2.43,2,   0.020,2,   0.014,2,-999.000,1,        0,2,  2266.6,2,  2364.7,2,   7.5880,2,    25.00,-999.000,9,-999.0000,9, -999.00,9, -999.00,9,  -999.0,9,  -999.0,-999.000,9,-999.000,    37.2,2,-999.000,-999.0000, -999.00,   2.2851,   2.4128,2,20091124,       0702
318M20091121,        P06,       8,          1,         10,         10,2,20091124,       0551,   -30.0800,   154.0000,       4431,  2016.9,   2.1993,  34.6869,  34.6870,2,    170.4,2,   172.0,2,   93.42,2,   34.03,3,    0.00,2,    2.37,2,   0.018,2,   0.011,2,-999.000,1,        0,2,  2265.2,2,  2366.4,2,   7.5963,2,    25.00,-999.000,9,-999.0000,9, -999.00,9, -999.00,9,  -999.0,9,  -999.0,-999.000,9,-999.000,  -999.0,9,-999.000,-999.0000, -999.00,   2.0582,   2.2000,2,20091124,       0656
318M20091121,        P06,       8,          1,          9,          9,2,20091124,       0551,   -30.0800,   154.0000,       4431,  2269.3,   2.0068,  34.7075,  34.7073,2,    178.0,2,   178.3,2,   96.82,2,   33.43,3,    0.00,2,    2.33,2,   0.011,2,   0.008,2,-999.000,1,        0,2,  2267.7,2,  2394.6,4,   7.6035,2,    25.00,-999.000,9,-999.0000,9, -999.00,9, -999.00,9,  -999.0,9,  -999.0,-999.000,9,-999.000,    38.0,2,-999.000,-999.0000, -999.00,   1.8468,   2.0063,2,20091124,       0649
318M20091121,        P06,       8,          1,          8,          8,2,20091124,       0551,   -30.0800,   154.0000,       4431,  2523.9,   1.8545,  34.7186,  34.7193,2,    182.7,2,   183.1,2,  100.01,2,   33.10,3,    0.00,2,    2.31,2,   0.008,2,   0.007,2,-999.000,1,        0,2,  2272.6,3,  2362.2,2,   7.6092,2,    25.00,-999.000,9,-999.0000,9, -999.00,9, -999.00,9,  -999.0,9,  -999.0,-999.000,9,-999.000,  -999.0,9,-999.000,-999.0000, -999.00,   1.6745,   1.8546,2,20091124,       0643
318M20091121,        P06,       8,          1,          7,          7,2,20091124,       0551,   -30.0800,   154.0000,       4431,  2780.6,   1.6978,  34.7243,  34.7253,2,    186.9,2,   187.3,2,  103.85,2,   33.13,3,    0.00,2,    2.29,2,   0.008,2,   0.006,2,-999.000,1,        0,2,  2270.6,2,  2366.3,2,   7.6116,2,    25.00,-999.000,9,-999.0000,9, -999.00,9, -999.00,9,  -999.0,9,  -999.0,-999.000,9,-999.000,  -999.0,5,-999.000,-999.0000, -999.00,   1.4972,   1.6975,2,20091124,       0636
318M20091121,        P06,       8,          1,          6,          6,2,20091124,       0551,   -30.0800,   154.0000,       4431,  3038.1,   1.4742,  34.7239,  34.7306,3,    191.4,2,   191.3,2,  109.44,2,   33.20,3,    0.00,2,    2.29,2,   0.009,2,   0.006,2,-999.000,1,        0,2,  2272.4,2,  2370.1,2,   7.6163,2,    25.00,-999.000,9,-999.0000,9, -999.00,9, -999.00,9,  -999.0,9,  -999.0,-999.000,9,-999.000,  -999.0,9,-999.000,-999.0000, -999.00,   1.2541,   1.4739,2,20091124,       0630
318M20091121,        P06,       8,          1,          5,          5,2,20091124,       0551,   -30.0800,   154.0000,       4431,  3345.3,   1.2835,  34.7197,  34.7200,2,    194.5,2,   194.0,2,  114.58,2,   33.43,3,    0.00,2,    2.31,2,   0.010,2,   0.009,2,-999.000,1,        0,2,  2273.7,2,  2377.9,3,   7.6607,4,    25.00,-999.000,9,-999.0000,9, -999.00,9, -999.00,9,  -999.0,9,  -999.0,-999.000,9,-999.000,    40.1,2,-999.000,-999.0000, -999.00,   1.0380,   1.2831,2,20091124,       0622
318M20091121,        P06,       8,          1,          4,          4,2,20091124,       0551,   -30.0800,   154.0000,       4431,  3649.9,   1.2256,  34.7179,  34.7185,2,    195.4,2,   195.3,2,  116.71,2,   33.51,3,    0.00,2,    2.31,2,   0.012,2,   0.009,2,-999.000,1,        0,2,  2273.9,2,  2381.3,6,   7.6224,2,    25.00,-999.000,9,-999.0000,9, -999.00,9, -999.00,9,  -999.0,9,  -999.0,-999.000,9,-999.000,  -999.0,9,-999.000,-999.0000, -999.00,   0.9509,   1.2262,2,20091124,       0615
318M20091121,        P06,       8,          1,          3,          3,2,20091124,       0551,   -30.0800,   154.0000,       4431,  3957.9,   1.1713,  34.7158,  34.7159,2,    196.5,2,   196.4,2,  118.83,2,   33.58,3,    0.00,2,    2.32,2,   0.015,2,   0.011,2,-999.000,1,        0,2,  2277.3,2,  2378.1,2,   7.6247,6,    25.00,-999.000,9,-999.0000,9, -999.00,9, -999.00,9,  -999.0,9,  -999.0,-999.000,9,-999.000,    38.1,2,-999.000,-999.0000, -999.00,   0.8659,   1.1712,2,20091124,       0607
318M20091121,        P06,       8,          1,          2,          2,2,20091124,       0551,   -30.0800,   154.0000,       4431,  4213.1,   1.1641,  34.7146,  34.7150,2,    196.3,2,   197.3,2,  119.45,2,   33.66,3,    0.00,2,    2.33,2,   0.020,2,   0.015,2,-999.000,1,        0,2,  2279.1,2,  2380.8,2,   7.6249,2,    25.00,-999.000,9,-999.0000,9, -999.00,9, -999.00,9,  -999.0,9,  -999.0,-999.000,9,-999.000,  -999.0,9,-999.000,-999.0000, -999.00,   0.8313,   1.1638,2,20091124,       0559
318M20091121,        P06,       8,          1,          1,          1,2,20091124,       0551,   -30.0800,   154.0000,       4431,  4503.0,   1.1684,  34.7138,  34.7150,2,    196.9,2,   196.7,2,  120.49,2,   33.69,3,    0.00,2,    2.33,2,   0.028,2,   0.019,2,-999.000,1,        0,2,  2278.5,2,  2386.7,2,   7.6513,3,    25.00,-999.000,9,-999.0000,9, -999.00,9, -999.00,9,  -999.0,9,  -999.0,-999.000,9,-999.000,    38.4,2,-999.000,-999.0000, -999.00,   0.8031,   1.1686,2,20091124,       0551