BOTTLE,20220818CCHSIOAMB
EXPOCODE,SECT_ID,STNNBR,CASTNO,SAMPNO,BTLNBR,BTLNBR_FLAG_W,DATE,TIME,LATITUDE,LONGITUDE,DEPTH,CTDPRS,CTDTMP,CTDSAL,SALNTY,SALNTY_FLAG_W,CTDOXY,CTDOXY_FLAG_W,OXYGEN,OXYGEN_FLAG_W,SILCAT,SILCAT_FLAG_W,NITRAT,NITRAT_FLAG_W,NITRIT,NITRIT_FLAG_W,PHSPHT,PHSPHT_FLAG_W,CFC-11,CFC-11_FLAG_W,CFC-12,CFC-12_FLAG_W,CFC113,CFC113_FLAG_W,SF6,SF6_FLAG_W,TCARBN,TCARBN_FLAG_W,ALKALI,ALKALI_FLAG_W,PH_SWS,PH_SWS_FLAG_W,PH_TMP,TRITUM,TRITUM_FLAG_W,HELIUM,HELIUM_FLAG_W,DELHE3,DELHE3_FLAG_W,DELC13,DELC13_FLAG_W,DELC14,DELC14_FLAG_W,C14ERR,NEON,NEON_FLAG_W,NEONER,DOC,DOC_FLAG_W,TRITER,HELIER,DELHER,THETA,SBE35,SBE35_FLAG_W,BTL_DATE,BTL_TIME
,,,,,,,,,,,METERS,DBAR,ITS-90,PSS-78,PSS-78,,UMOL/KG,,UMOL/KG,,UMOL/KG,,UMOL/KG,,UMOL/KG,,UMOL/KG,,PMOL/KG,,PMOL/KG,,PMOL/KG,,FMOL/KG,,UMOL/KG,,UMOL/KG,,,,DEG C,TU,,NMOL/KG,,PERCNT,,/MILLE,,/MILLE,,/MILLE,NMOL/KG,,NMOL/KG,UMOL/KG,,TU,NMOL/KG,PERCNT,DEG C,ITS-90,,,
318M20091121,        P06,     127,          1,         36,         36,2,20091230,       0459,   -32.4999,  -145.8416,       5024,     3.4,  21.5985,  35.4002,  35.3993,2,    223.7,2,   223.5,2,    0.34,2,   -0.01,2,    0.00,2,    0.08,2,   1.963,2,   1.277,2,-999.000,1,    1.026,2,  2038.3,6,  2324.0,6,   7.9940,6,    25.00,-999.000,9,-999.0000,9, -999.00,9, -999.00,9,  -999.0,9,  -999.0,-999.000,9,-999.000,  -999.0,9,-999.000,-999.0000, -999.00,  21.5978,  21.5978,2,20091230,       0714
318M20091121,        P06,     127,          1,         35,         35,2,20091230,       0459,   -32.4999,  -145.8416,       5024,    21.4,  21.4863,  35.3984,  35.3997,2,    226.1,2,   224.0,2,    0.20,2,    0.00,2,    0.00,2,    0.08,2,   1.975,2,   1.287,2,-999.000,1,    1.036,2,  2037.9,2,  -999.0,9,-999.0000,9,  -999.00,-999.000,9,-999.0000,9, -999.00,9, -999.00,9,  -999.0,9,  -999.0,-999.000,9,-999.000,  -999.0,9,-999.000,-999.0000, -999.00,  21.4821,  21.5137,3,20091230,       0712
318M20091121,        P06,     127,          1,         34,         34,2,20091230,       0459,   -32.4999,  -145.8416,       5024,    41.8,  19.9509,  35.4083,  35.4072,2,    232.5,2,   231.7,2,    0.06,2,    0.00,2,    0.00,2,    0.08,2,   2.097,2,   1.359,2,-999.000,1,    1.225,2,  2039.9,2,  2325.7,2,   7.9931,2,    25.00,-999.000,9,-999.0000,9, -999.00,9, -999.00,9,  -999.0,9,  -999.0,-999.000,9,-999.000,  -999.0,9,-999.000,-999.0000, -999.00,  19.9432,  19.9464,2,20091230,       0710
318M20091121,        P06,     127,          1,         33,         33,2,20091230,       0459,   -32.4999,  -145.8416,       5024,    66.6,  18.4564,  35.4236,  35.4242,2,    238.2,2,   238.5,2,    0.11,2,    0.00,2,    0.00,2,    0.09,2,   2.216,2,   1.425,2,-999.000,1,     1.28,2,  2041.8,2,  -999.0,9,-999.0000,9,  -999.00,-999.000,9,-999.0000,9, -999.00,9, -999.00,9,  -999.0,9,  -999.0,-999.000,9,-999.000,  -999.0,9,-999.000,-999.0000, -999.00,  18.4448,  18.4734,2,20091230,       0708
318M20091121,        P06,     127,          1,         32,         32,2,20091230,       0459,   -32.4999,  -145.8416,       5024,    88.4,  17.6659,  35.4049,  35.4044,2,    237.8,2,   237.6,2,    0.17,2,    0.00,2,    0.00,2,    0.10,2,   2.240,2,   1.423,2,-999.000,1,    1.147,2,  2046.3,2,  2324.1,2,   7.9818,2,    25.00,-999.000,9,-999.0000,9, -999.00,9, -999.00,9,  -999.0,9,  -999.0,-999.000,9,-999.000,  -999.0,9,-999.000,-999.0000, -999.00,  17.6509,  17.6675,2,20091230,       0706
318M20091121,        P06,     127,          1,         31,         31,2,20091230,       0459,   -32.4999,  -145.8416,       5024,   132.6,  16.7070,  35.3563,  35.3551,2,    232.1,2,   229.5,2,    0.22,2,    0.34,2,    0.05,2,    0.17,2,  -0.006,4,  -0.001,4,-999.000,1,    0.003,4,  2060.2,2,  -999.0,9,-999.0000,9,  -999.00,-999.000,9,-999.0000,9, -999.00,9, -999.00,9,  -999.0,9,  -999.0,-999.000,9,-999.000,  -999.0,9,-999.000,-999.0000, -999.00,  16.6854,  16.7051,2,20091230,       0704
318M20091121,        P06,     127,          1,         30,         30,2,20091230,       0459,   -32.4999,  -145.8416,       5024,   184.2,  15.7539,  35.2185,  35.2181,2,    238.6,2,   238.2,2,    0.08,2,    0.22,2,    0.14,2,    0.19,2,   2.429,2,   1.562,2,-999.000,1,    1.194,2,  2061.3,2,  2315.4,2,   7.9388,2,    25.00,-999.000,9,-999.0000,9, -999.00,9, -999.00,9,  -999.0,9,  -999.0,-999.000,9,-999.000,  -999.0,9,-999.000,-999.0000, -999.00,  15.7250,  15.7503,2,20091230,       0702
318M20091121,        P06,     127,          1,         29,         29,2,20091230,       0459,   -32.4999,  -145.8416,       5024,   235.3,  15.2930,  35.1821,  35.1830,2,    222.3,2,   221.6,2,    0.34,2,    2.74,2,    0.04,2,    0.33,2,   2.472,2,   1.556,2,-999.000,1,    1.028,2,  2076.2,2,  -999.0,9,-999.0000,9,  -999.00,-999.000,9,-999.0000,9, -999.00,9, -999.00,9,  -999.0,9,  -999.0,-999.000,9,-999.000,  -999.0,9,-999.000,-999.0000, -999.00,  15.2568,  15.2878,2,20091230,       0700
318M20091121,        P06,     127,          1,         28,         28,2,20091230,       0459,   -32.4999,  -145.8416,       5024,   287.2,  13.7729,  35.0129,  35.0142,2,    206.3,2,   207.4,2,    1.01,2,    6.95,2,    0.01,2,    0.60,2,   2.638,2,   1.611,2,-999.000,1,    0.992,2,  2098.6,2,  2302.5,2,   7.8489,2,    25.00,-999.000,9,-999.0000,9, -999.00,9, -999.00,9,  -999.0,9,  -999.0,-999.000,9,-999.000,  -999.0,9,-999.000,-999.0000, -999.00,  13.7317,  13.7700,2,20091230,       0658
318M20091121,        P06,     127,          1,         27,         27,2,20091230,       0459,   -32.4999,  -145.8416,       5024,   336.4,  11.6398,  34.7733,  34.7889,2,    208.9,2,   208.3,2,    1.66,2,   11.27,2,    0.00,2,    0.88,2,   2.812,2,   1.664,2,-999.000,1,    0.853,2,  2113.5,2,  -999.0,9,-999.0000,9,  -999.00,-999.000,9,-999.0000,9, -999.00,9, -999.00,9,  -999.0,9,  -999.0,-999.000,9,-999.000,  -999.0,9,-999.000,-999.0000, -999.00,  11.5966,  11.6504,2,20091230,       0656
318M20091121,        P06,     127,          1,         26,         26,2,20091230,       0459,   -32.4999,  -145.8416,       5024,   388.4,   9.7096,  34.5690,  34.5705,2,    219.2,2,   218.6,2,    2.73,2,   15.29,2,    0.00,2,    1.13,2,   3.030,2,   1.769,2,-999.000,1,    0.668,2,  2125.4,2,  2280.6,2,   7.7536,2,    25.00,-999.000,9,-999.0000,9, -999.00,9, -999.00,9,  -999.0,9,  -999.0,-999.000,9,-999.000,  -999.0,9,-999.000,-999.0000, -999.00,   9.6651,   9.6985,2,20091230,       0653
318M20091121,        P06,     127,          1,         25,         25,2,20091230,       0459,   -32.4999,  -145.8416,       5024,   470.4,   8.1943,  34.4550,  34.4535,2,    227.6,2,   228.5,2,    4.40,2,   18.88,2,    0.00,2,    1.36,2,   3.063,2,   1.730,2,-999.000,1,    0.733,2,  2135.7,2,  2279.0,2,   7.7243,3,    25.00,-999.000,9,-999.0000,9, -999.00,9, -999.00,9,  -999.0,9,  -999.0,-999.000,9,-999.000,  -999.0,9,-999.000,-999.0000, -999.00,   8.1456,   8.1998,2,20091230,       0651
318M20091121,        P06,     127,          1,         24,         24,2,20091230,       0459,   -32.4999,  -145.8416,       5024,   570.6,   7.1205,  34.3840,  34.3847,2,    241.6,2,   241.2,2,    5.87,2,   21.04,2,    0.00,2,    1.48,2,   3.148,2,   1.745,2,-999.000,1,    0.596,2,  2138.6,2,  2278.7,2,   7.7135,3,    25.00,-999.000,9,-999.0000,9, -999.00,9, -999.00,9,  -999.0,9,  -999.0,-999.000,9,-999.000,  -999.0,9,-999.000,-999.0000, -999.00,   7.0656,   7.1197,2,20091230,       0648
318M20091121,        P06,     127,          1,         23,         23,2,20091230,       0459,   -32.4999,  -145.8416,       5024,   667.0,   6.5974,  34.3491,  34.3493,2,    242.9,2,   243.4,2,    7.34,2,   22.43,2,    0.00,2,    1.56,2,   2.811,2,   1.532,2,-999.000,1,     0.61,2,  2143.4,2,  2277.0,2,   7.7079,3,    25.00,-999.000,9,-999.0000,9, -999.00,9, -999.00,9,  -999.0,9,  -999.0,-999.000,9,-999.000,  -999.0,9,-999.000,-999.0000, -999.00,   6.5355,   6.5951,2,20091230,       0645
318M20091121,        P06,     127,          1,         22,         22,2,20091230,       0459,   -32.4999,  -145.8416,       5024,   768.9,   6.0453,  34.3168,  34.3163,2,    237.4,2,   237.0,2,    9.83,2,   24.25,2,    0.00,2,    1.68,2,   2.157,2,   1.158,2,-999.000,1,    0.281,2,  2147.8,2,  2280.4,2,   7.6918,3,    25.00,-999.000,9,-999.0000,9, -999.00,9, -999.00,9,  -999.0,9,  -999.0,-999.000,9,-999.000,  -999.0,9,-999.000,-999.0000, -999.00,   5.9766,   6.0486,2,20091230,       0642
318M20091121,        P06,     127,          1,         21,         21,2,20091230,       0459,   -32.4999,  -145.8416,       5024,   872.2,   5.4957,  34.2966,  34.2969,2,    227.8,2,   227.4,2,   14.13,2,   26.29,2,    0.00,2,    1.83,2,   1.454,2,   0.767,2,-999.000,1,    0.186,2,  2159.2,2,  2285.3,6,   7.6687,3,    25.00,-999.000,9,-999.0000,9, -999.00,9, -999.00,9,  -999.0,9,  -999.0,-999.000,9,-999.000,  -999.0,9,-999.000,-999.0000, -999.00,   5.4208,   5.4962,2,20091230,       0639
318M20091121,        P06,     127,          1,         20,         20,2,20091230,       0459,   -32.4999,  -145.8416,       5024,   973.0,   4.9182,  34.3040,  34.3043,2,    211.3,2,   211.0,2,   22.08,2,   28.77,2,    0.00,2,    2.01,2,   0.865,2,   0.464,2,-999.000,1,        0,2,  2177.3,6,  2291.2,2,   7.6390,3,    25.00,-999.000,9,-999.0000,9, -999.00,9, -999.00,9,  -999.0,9,  -999.0,-999.000,9,-999.000,  -999.0,9,-999.000,-999.0000, -999.00,   4.8382,   4.9205,2,20091230,       0636
318M20091121,        P06,     127,          1,         19,         19,2,20091230,       0459,   -32.4999,  -145.8416,       5024,  1074.7,   4.4213,  34.3272,  34.3271,2,    198.4,2,   197.7,2,   30.66,2,   30.69,2,    0.00,2,    2.13,2,   0.492,2,   0.270,2,-999.000,1,        0,2,  2195.0,2,  2299.7,2,   7.6108,3,    25.00,-999.000,9,-999.0000,9, -999.00,9, -999.00,9,  -999.0,9,  -999.0,-999.000,9,-999.000,  -999.0,9,-999.000,-999.0000, -999.00,   4.3362,   4.4234,2,20091230,       0634
318M20091121,        P06,     127,          1,         18,         18,2,20091230,       0459,   -32.4999,  -145.8416,       5024,  1172.9,   3.9821,  34.3599,  34.3597,2,    186.8,2,   187.5,2,   39.86,2,   32.12,2,    0.00,2,    2.24,2,   0.277,2,   0.167,2,-999.000,1,        0,2,  2210.3,2,  -999.0,9,-999.0000,9,  -999.00,-999.000,9,-999.0000,9, -999.00,9, -999.00,9,  -999.0,9,  -999.0,-999.000,9,-999.000,  -999.0,9,-999.000,-999.0000, -999.00,   3.8923,   3.9836,2,20091230,       0631
318M20091121,        P06,     127,          1,         17,         17,2,20091230,       0459,   -32.4999,  -145.8416,       5024,  1274.4,   3.5545,  34.4032,  34.4030,2,    177.7,2,   178.6,2,   50.10,2,   33.11,2,    0.00,2,    2.31,2,   0.152,2,   0.096,2,-999.000,1,        0,2,  2226.5,2,  2319.6,2,   7.5736,3,    25.00,-999.000,9,-999.0000,9, -999.00,9, -999.00,9,  -999.0,9,  -999.0,-999.000,9,-999.000,  -999.0,9,-999.000,-999.0000, -999.00,   3.4600,   3.5540,2,20091230,       0628
318M20091121,        P06,     127,          1,         16,         16,2,20091230,       0459,   -32.4999,  -145.8416,       5024,  1375.7,   3.1668,  34.4563,  34.4564,2,    171.1,2,   171.1,2,   61.38,2,   33.81,2,    0.00,2,    2.36,2,   0.066,2,   0.045,2,-999.000,1,        0,2,  2242.2,2,  -999.0,9,-999.0000,9,  -999.00,-999.000,9,-999.0000,9, -999.00,9, -999.00,9,  -999.0,9,  -999.0,-999.000,9,-999.000,  -999.0,9,-999.000,-999.0000, -999.00,   3.0677,   3.1682,2,20091230,       0625
318M20091121,        P06,     127,          1,         15,         15,2,20091230,       0459,   -32.4999,  -145.8416,       5024,  1478.0,   2.9098,  34.4997,  34.4997,2,    166.6,2,   166.8,2,   70.85,2,   34.16,2,    0.00,2,    2.39,2,   0.045,2,   0.035,2,-999.000,1,        0,2,  2253.5,2,  2340.8,2,   7.5565,3,    25.00,-999.000,9,-999.0000,9, -999.00,9, -999.00,9,  -999.0,9,  -999.0,-999.000,9,-999.000,  -999.0,9,-999.000,-999.0000, -999.00,   2.8050,   2.9099,2,20091230,       0622
318M20091121,        P06,     127,          1,         14,         14,2,20091230,       0459,   -32.4999,  -145.8416,       5024,  1580.3,   2.7162,  34.5364,  34.5365,2,    162.6,2,   163.0,2,   79.53,2,   34.36,2,    0.00,2,    2.39,2,   0.031,2,   0.024,2,-999.000,1,        0,2,  2263.0,2,  -999.0,9,-999.0000,9,  -999.00,-999.000,9,-999.0000,9, -999.00,9, -999.00,9,  -999.0,9,  -999.0,-999.000,9,-999.000,  -999.0,9,-999.000,-999.0000, -999.00,   2.6051,   2.7163,2,20091230,       0619
318M20091121,        P06,     127,          1,         13,         13,2,20091230,       0459,   -32.4999,  -145.8416,       5024,  1748.8,   2.4652,  34.5847,  34.5847,2,    157.7,2,   157.9,2,   92.13,2,   34.55,2,    0.00,2,    2.43,2,   0.011,2,   0.010,2,-999.000,1,        0,2,  2278.1,2,  2364.4,2,   7.5539,3,    25.00,-999.000,9,-999.0000,9, -999.00,9, -999.00,9,  -999.0,9,  -999.0,-999.000,9,-999.000,  -999.0,9,-999.000,-999.0000, -999.00,   2.3432,   2.4654,2,20091230,       0615
318M20091121,        P06,     127,          1,         12,         12,2,20091230,       0459,   -32.4999,  -145.8416,       5024,  1953.2,   2.2684,  34.6177,  34.6177,2,    154.3,2,   154.1,2,  103.13,2,   34.76,2,    0.00,2,    2.43,2,   0.019,2,   0.018,2,-999.000,1,        0,2,  2290.2,2,  -999.0,9,-999.0000,9,  -999.00,-999.000,9,-999.0000,9, -999.00,9, -999.00,9,  -999.0,9,  -999.0,-999.000,9,-999.000,  -999.0,9,-999.000,-999.0000, -999.00,   2.1319,   2.2685,2,20091230,       0610
318M20091121,        P06,     127,          1,         11,         11,2,20091230,       0459,   -32.4999,  -145.8416,       5024,  2189.5,   2.0861,  34.6396,  34.6396,2,    152.8,2,   153.0,2,  112.08,2,   34.91,2,    0.00,2,    2.43,2,   0.012,2,   0.012,2,-999.000,1,        0,2,  2299.3,2,  2386.1,2,   7.5574,3,    25.00,-999.000,9,-999.0000,9, -999.00,9, -999.00,9,  -999.0,9,  -999.0,-999.000,9,-999.000,  -999.0,9,-999.000,-999.0000, -999.00,   1.9320,   2.0865,2,20091230,       0605
318M20091121,        P06,     127,          1,         10,         10,2,20091230,       0459,   -32.4999,  -145.8416,       5024,  2438.7,   1.9161,  34.6556,  34.6555,2,    151.8,2,   151.5,2,  120.44,2,   35.11,2,    0.00,2,    2.47,2,   0.015,2,   0.014,2,-999.000,1,        0,2,  2307.9,2,  -999.0,9,-999.0000,9,  -999.00,-999.000,9,-999.0000,9, -999.00,9, -999.00,9,  -999.0,9,  -999.0,-999.000,9,-999.000,  -999.0,9,-999.000,-999.0000, -999.00,   1.7429,   1.9158,2,20091230,       0559
318M20091121,        P06,     127,          1,          9,          9,2,20091230,       0459,   -32.4999,  -145.8416,       5024,  2699.5,   1.7953,  34.6656,  34.6653,2,    153.7,2,   153.3,2,  124.67,2,   35.06,2,    0.00,2,    2.46,2,   0.022,2,   0.019,2,-999.000,1,        0,2,  2310.1,2,  2404.2,2,   7.5596,3,    25.00,-999.000,9,-999.0000,9, -999.00,9, -999.00,9,  -999.0,9,  -999.0,-999.000,9,-999.000,  -999.0,9,-999.000,-999.0000, -999.00,   1.6005,   1.7959,2,20091230,       0553
318M20091121,        P06,     127,          1,          8,          8,2,20091230,       0459,   -32.4999,  -145.8416,       5024,  2951.1,   1.7146,  34.6726,  34.6724,2,    157.6,2,   157.3,2,  125.60,2,   34.82,2,    0.00,2,    2.44,2,   0.018,2,   0.018,2,-999.000,1,        0,2,  2307.2,2,  -999.0,9,-999.0000,9,  -999.00,-999.000,9,-999.0000,9, -999.00,9, -999.00,9,  -999.0,9,  -999.0,-999.000,9,-999.000,  -999.0,9,-999.000,-999.0000, -999.00,   1.4978,   1.7139,2,20091230,       0547
318M20091121,        P06,     127,          1,          7,          7,2,20091230,       0459,   -32.4999,  -145.8416,       5024,  3243.7,   1.6211,  34.6804,  34.6803,2,    165.5,2,   164.7,2,  124.22,2,   34.32,2,    0.00,2,    2.41,2,   0.009,2,   0.009,2,-999.000,1,        0,2,  2301.4,2,  2400.6,2,   7.5720,3,    25.00,-999.000,9,-999.0000,9, -999.00,9, -999.00,9,  -999.0,9,  -999.0,-999.000,9,-999.000,  -999.0,9,-999.000,-999.0000, -999.00,   1.3778,   1.6210,2,20091230,       0541
318M20091121,        P06,     127,          1,          6,          6,2,20091230,       0459,   -32.4999,  -145.8416,       5024,  3548.0,   1.5240,  34.6881,  34.6884,2,    173.0,2,   173.6,2,  122.24,2,   33.77,2,    0.00,2,    2.36,2,   0.012,2,   0.010,2,-999.000,1,        0,2,  2293.0,2,  -999.0,9,-999.0000,9,  -999.00,-999.000,9,-999.0000,9, -999.00,9, -999.00,9,  -999.0,9,  -999.0,-999.000,9,-999.000,  -999.0,9,-999.000,-999.0000, -999.00,   1.2522,   1.5239,2,20091230,       0534
318M20091121,        P06,     127,          1,          5,         37,2,20091230,       0459,   -32.4999,  -145.8416,       5024,  3858.9,   1.4299,  34.6965,  34.6959,2,    181.5,2,   181.4,2,  120.25,2,   33.08,2,    0.00,2,    2.32,2,   0.013,2,   0.011,2,-999.000,1,        0,2,  2285.8,2,  -999.0,9,-999.0000,9,  -999.00,-999.000,9,-999.0000,9, -999.00,9, -999.00,9,  -999.0,9,  -999.0,-999.000,9,-999.000,  -999.0,9,-999.000,-999.0000, -999.00,   1.1280,   1.4299,2,20091230,       0527
318M20091121,        P06,     127,          1,          4,          4,2,20091230,       0459,   -32.4999,  -145.8416,       5024,  4164.2,   1.3248,  34.7034,  34.7030,2,    188.7,2,   190.2,2,  118.27,2,   32.53,2,    0.00,2,    2.27,2,   0.017,2,   0.012,2,-999.000,1,        0,2,  2276.9,2,  -999.0,9,-999.0000,9,  -999.00,-999.000,9,-999.0000,9, -999.00,9, -999.00,9,  -999.0,9,  -999.0,-999.000,9,-999.000,  -999.0,9,-999.000,-999.0000, -999.00,   0.9928,   1.3249,2,20091230,       0520
318M20091121,        P06,     127,          1,          3,          3,2,20091230,       0459,   -32.4999,  -145.8416,       5024,  4467.1,   1.2617,  34.7069,  34.7063,2,    195.7,2,   195.2,2,  117.73,2,   32.09,2,    0.00,2,    2.24,2,   0.027,2,   0.021,2,-999.000,1,        0,2,  2270.8,2,  2373.0,6,   7.5938,6,    25.00,-999.000,9,-999.0000,9, -999.00,9, -999.00,9,  -999.0,9,  -999.0,-999.000,9,-999.000,  -999.0,9,-999.000,-999.0000, -999.00,   0.8977,   1.2616,2,20091230,       0513
318M20091121,        P06,     127,          1,          2,          2,2,20091230,       0459,   -32.4999,  -145.8416,       5024,  4779.7,   1.2213,  34.7093,  34.7087,2,    199.2,2,   199.5,2,  116.99,2,   31.94,2,    0.00,2,    2.22,2,   0.023,2,   0.016,2,-999.000,1,        0,2,  2268.3,2,  -999.0,9,-999.0000,9,  -999.00,-999.000,9,-999.0000,9, -999.00,9, -999.00,9,  -999.0,9,  -999.0,-999.000,9,-999.000,  -999.0,9,-999.000,-999.0000, -999.00,   0.8224,   1.2217,2,20091230,       0507
318M20091121,        P06,     127,          1,          1,          1,2,20091230,       0459,   -32.4999,  -145.8416,       5024,  5121.5,   1.2432,  34.7097,  34.7093,2,    200.3,2,   200.2,2,  117.28,2,   31.89,2,    0.00,2,    2.22,2,   0.010,2,   0.007,2,-999.000,1,        0,2,  2267.5,6,  2369.9,2,-999.0000,5,  -999.00,-999.000,9,-999.0000,9, -999.00,9, -999.00,9,  -999.0,9,  -999.0,-999.000,9,-999.000,  -999.0,9,-999.000,-999.0000, -999.00,   0.8027,   1.2436,2,20091230,       0459