BOTTLE,20220818CCHSIOAMB
EXPOCODE,SECT_ID,STNNBR,CASTNO,SAMPNO,BTLNBR,BTLNBR_FLAG_W,DATE,TIME,LATITUDE,LONGITUDE,DEPTH,CTDPRS,CTDTMP,CTDSAL,SALNTY,SALNTY_FLAG_W,CTDOXY,CTDOXY_FLAG_W,OXYGEN,OXYGEN_FLAG_W,SILCAT,SILCAT_FLAG_W,NITRAT,NITRAT_FLAG_W,NITRIT,NITRIT_FLAG_W,PHSPHT,PHSPHT_FLAG_W,CFC-11,CFC-11_FLAG_W,CFC-12,CFC-12_FLAG_W,CFC113,CFC113_FLAG_W,SF6,SF6_FLAG_W,TCARBN,TCARBN_FLAG_W,ALKALI,ALKALI_FLAG_W,PH_SWS,PH_SWS_FLAG_W,PH_TMP,TRITUM,TRITUM_FLAG_W,HELIUM,HELIUM_FLAG_W,DELHE3,DELHE3_FLAG_W,DELC13,DELC13_FLAG_W,DELC14,DELC14_FLAG_W,C14ERR,NEON,NEON_FLAG_W,NEONER,DOC,DOC_FLAG_W,TRITER,HELIER,DELHER,THETA,SBE35,SBE35_FLAG_W,BTL_DATE,BTL_TIME
,,,,,,,,,,,METERS,DBAR,ITS-90,PSS-78,PSS-78,,UMOL/KG,,UMOL/KG,,UMOL/KG,,UMOL/KG,,UMOL/KG,,UMOL/KG,,PMOL/KG,,PMOL/KG,,PMOL/KG,,FMOL/KG,,UMOL/KG,,UMOL/KG,,,,DEG C,TU,,NMOL/KG,,PERCNT,,/MILLE,,/MILLE,,/MILLE,NMOL/KG,,NMOL/KG,UMOL/KG,,TU,NMOL/KG,PERCNT,DEG C,ITS-90,,,
318M20091121,        P06,      58,          1,         36,         36,2,20091207,       0626,   -30.0806,   175.0001,       3901,     4.8,  21.4367,  35.6213,  35.6224,2,    227.4,2,   227.1,2,    0.41,2,    0.00,2,    0.00,2,    0.11,2,   2.026,2,   1.285,2,-999.000,1,    1.363,4,  2042.4,6,  2331.7,2,   8.0114,2,    25.00,-999.000,9,-999.0000,9, -999.00,9, -999.00,9,  -999.0,9,  -999.0,-999.000,9,-999.000,    56.2,2,-999.000,-999.0000, -999.00,  21.4358,  21.4442,2,20091207,       0838
318M20091121,        P06,      58,          1,         35,         35,2,20091207,       0626,   -30.0806,   175.0001,       3901,    20.7,  20.1589,  35.6469,  35.6513,2,    233.1,2,   233.6,2,    0.40,2,    0.00,2,    0.00,2,    0.10,2,   2.129,2,   1.351,2,-999.000,1,    1.142,4,  2042.6,2,  2333.6,6,   8.0210,6,    25.00,-999.000,9,-999.0000,9, -999.00,9, -999.00,9,  -999.0,9,  -999.0,-999.000,9,-999.000,    55.9,2,-999.000,-999.0000, -999.00,  20.1550,  20.1536,2,20091207,       0836
318M20091121,        P06,      58,          1,         34,         34,2,20091207,       0626,   -30.0806,   175.0001,       3901,    41.3,  18.8027,  35.6428,  35.6438,2,    239.4,2,   241.0,2,    0.38,2,    0.00,2,    0.00,2,    0.09,2,   2.176,2,   1.379,2,-999.000,1,     1.23,4,  2039.4,2,  2334.7,2,   8.0281,2,    25.00,-999.000,9,-999.0000,9, -999.00,9, -999.00,9,  -999.0,9,  -999.0,-999.000,9,-999.000,    56.7,2,-999.000,-999.0000, -999.00,  18.7954,  18.7953,2,20091207,       0834
318M20091121,        P06,      58,          1,         33,         33,2,20091207,       0626,   -30.0806,   175.0001,       3901,    65.6,  17.8382,  35.5972,  35.5989,2,    238.2,2,   238.0,2,    0.37,2,    0.00,2,    0.00,2,    0.11,2,   2.229,6,   1.397,6,-999.000,1,    1.356,4,  2047.1,2,  2335.6,2,   8.0149,2,    25.00,-999.000,9,-999.0000,9, -999.00,9, -999.00,9,  -999.0,9,  -999.0,-999.000,9,-999.000,    55.8,2,-999.000,-999.0000, -999.00,  17.8270,  17.8367,2,20091207,       0832
318M20091121,        P06,      58,          1,         32,         32,2,20091207,       0626,   -30.0806,   175.0001,       3901,    91.4,  17.3714,  35.5915,  35.5924,2,    224.4,2,   224.9,2,    0.56,2,    1.19,2,    0.08,2,    0.23,2,   2.258,2,   1.409,2,-999.000,1,    1.136,4,  2058.8,2,  2332.1,2,   7.9857,2,    25.00,-999.000,9,-999.0000,9, -999.00,9, -999.00,9,  -999.0,9,  -999.0,-999.000,9,-999.000,    55.1,2,-999.000,-999.0000, -999.00,  17.3561,  17.3624,2,20091207,       0829
318M20091121,        P06,      58,          1,         31,         31,2,20091207,       0626,   -30.0806,   175.0001,       3901,   116.9,  16.9762,  35.5679,  35.5673,2,    219.2,2,   218.6,2,    0.94,2,    2.59,2,    0.02,2,    0.32,2,   2.276,2,   1.403,2,-999.000,1,    1.367,4,  2068.3,2,  2334.3,2,   7.9702,2,    25.00,-999.000,9,-999.0000,9, -999.00,9, -999.00,9,  -999.0,9,  -999.0,-999.000,9,-999.000,    51.5,2,-999.000,-999.0000, -999.00,  16.9569,  16.9784,2,20091207,       0827
318M20091121,        P06,      58,          1,         30,         30,2,20091207,       0626,   -30.0806,   175.0001,       3901,   141.6,  16.7377,  35.5548,  35.5570,2,    210.9,2,   216.4,2,    0.92,2,    3.32,2,    0.02,2,    0.36,2,   2.303,2,   1.417,2,-999.000,1,    1.177,4,  2073.1,2,  2330.8,2,   7.9600,2,    25.00,-999.000,9,-999.0000,9, -999.00,9, -999.00,9,  -999.0,9,  -999.0,-999.000,9,-999.000,    52.1,2,-999.000,-999.0000, -999.00,  16.7145,  16.7376,2,20091207,       0825
318M20091121,        P06,      58,          1,         29,         29,2,20091207,       0626,   -30.0806,   175.0001,       3901,   185.8,  16.1663,  35.5007,  35.5084,2,    208.4,2,   208.8,2,    1.50,2,    5.10,2,    0.01,2,    0.48,2,   2.289,2,   1.412,2,-999.000,1,    1.267,4,  2084.2,2,  2328.7,2,   7.9369,2,    25.00,-999.000,9,-999.0000,9, -999.00,9, -999.00,9,  -999.0,9,  -999.0,-999.000,9,-999.000,    47.3,2,-999.000,-999.0000, -999.00,  16.1366,  16.1952,3,20091207,       0822
318M20091121,        P06,      58,          1,         28,         28,2,20091207,       0626,   -30.0806,   175.0001,       3901,   236.6,  15.1452,  35.3926,  35.3948,2,    207.4,2,   204.3,2,    2.28,2,    7.30,2,    0.01,2,    0.62,2,   2.362,2,   1.421,2,-999.000,1,    1.093,4,  2096.4,2,  2320.2,2,   7.9123,2,    25.00,-999.000,9,-999.0000,9, -999.00,9, -999.00,9,  -999.0,9,  -999.0,-999.000,9,-999.000,    45.2,3,-999.000,-999.0000, -999.00,  15.1090,  15.1477,2,20091207,       0819
318M20091121,        P06,      58,          1,         27,         27,2,20091207,       0626,   -30.0806,   175.0001,       3901,   287.1,  14.0792,  35.2788,  35.2766,2,    204.0,2,   206.0,2,    2.67,2,    8.66,2,    0.01,2,    0.70,2,   2.391,2,   1.415,2,-999.000,1,    0.779,4,  2105.5,2,  2315.4,2,   7.8895,2,    25.00,-999.000,9,-999.0000,9, -999.00,9, -999.00,9,  -999.0,9,  -999.0,-999.000,9,-999.000,    47.9,2,-999.000,-999.0000, -999.00,  14.0373,  14.0695,2,20091207,       0816
318M20091121,        P06,      58,          1,         26,         26,2,20091207,       0626,   -30.0806,   175.0001,       3901,   337.0,  13.1560,  35.1821,  35.1815,2,    211.9,2,   209.5,2,    3.24,2,    9.88,2,    0.01,2,    0.77,2,   2.495,2,   1.462,2,-999.000,1,    1.033,4,  2111.3,2,  2311.0,2,   7.8838,2,    25.00,-999.000,9,-999.0000,9, -999.00,9, -999.00,9,  -999.0,9,  -999.0,-999.000,9,-999.000,    42.5,2,-999.000,-999.0000, -999.00,  13.1090,  13.1582,2,20091207,       0813
318M20091121,        P06,      58,          1,         25,         25,2,20091207,       0626,   -30.0806,   175.0001,       3901,   386.6,  11.8775,  34.9986,  35.0003,2,    199.5,2,   199.8,2,    4.42,2,   13.67,2,    0.00,2,    1.00,2,   2.450,2,   1.400,2,-999.000,1,    0.892,4,  2126.4,2,  2304.9,2,   7.8495,3,    25.00,-999.000,9,-999.0000,9, -999.00,9, -999.00,9,  -999.0,9,  -999.0,-999.000,9,-999.000,    43.5,2,-999.000,-999.0000, -999.00,  11.8270,  11.8823,2,20091207,       0810
318M20091121,        P06,      58,          1,         24,         24,2,20091207,       0626,   -30.0806,   175.0001,       3901,   436.8,  10.4642,  34.7703,  34.7716,2,    201.0,2,   203.2,2,    4.60,2,   15.99,2,    0.00,2,    1.16,2,   2.534,2,   1.399,2,-999.000,1,    0.536,4,  2130.0,2,  2295.2,2,   7.7742,4,    25.00,-999.000,9,-999.0000,9, -999.00,9, -999.00,9,  -999.0,9,  -999.0,-999.000,9,-999.000,    41.7,2,-999.000,-999.0000, -999.00,  10.4116,  10.4630,2,20091207,       0808
318M20091121,        P06,      58,          1,         23,         23,2,20091207,       0626,   -30.0806,   175.0001,       3901,   487.1,   9.8110,  34.7235,  34.7153,3,    204.5,2,   205.3,2,    5.78,2,   17.84,2,    0.00,2,    1.27,2,   2.460,2,   1.343,2,-999.000,1,    0.668,4,  2135.5,2,  2297.0,2,   7.7830,3,    25.00,-999.000,9,-999.0000,9, -999.00,9, -999.00,9,  -999.0,9,  -999.0,-999.000,9,-999.000,    42.9,2,-999.000,-999.0000, -999.00,   9.7545,   9.8144,2,20091207,       0806
318M20091121,        P06,      58,          1,         22,         22,2,20091207,       0626,   -30.0806,   175.0001,       3901,   568.1,   8.6470,  34.5844,  34.5855,2,    211.3,2,   211.3,2,    6.96,2,   19.92,2,    0.00,2,    1.41,2,   2.410,2,   1.297,2,-999.000,1,     0.33,4,  2141.4,2,  2287.7,2,   7.7613,3,    25.00,-999.000,9,-999.0000,9, -999.00,9, -999.00,9,  -999.0,9,  -999.0,-999.000,9,-999.000,    39.2,2,-999.000,-999.0000, -999.00,   8.5858,   8.6477,2,20091207,       0803
318M20091121,        P06,      58,          1,         21,         21,2,20091207,       0626,   -30.0806,   175.0001,       3901,   669.2,   7.5174,  34.4727,  34.4741,2,    218.0,2,   216.9,2,    9.13,2,   22.29,2,    0.00,2,    1.55,2,   2.135,2,   1.124,2,-999.000,1,    0.294,4,  2146.3,2,  2287.3,2,   7.7432,3,    25.00,-999.000,9,-999.0000,9, -999.00,9, -999.00,9,  -999.0,9,  -999.0,-999.000,9,-999.000,  -999.0,9,-999.000,-999.0000, -999.00,   7.4505,   7.5140,2,20091207,       0759
318M20091121,        P06,      58,          1,         20,         20,2,20091207,       0626,   -30.0806,   175.0001,       3901,   770.5,   6.7910,  34.4203,  34.4210,2,    218.6,2,   216.5,2,   12.31,2,   24.13,2,    0.00,2,    1.68,2,   1.671,2,   0.857,2,-999.000,1,    0.115,4,  2152.8,2,  2287.7,2,   7.7642,3,    25.00,-999.000,9,-999.0000,9, -999.00,9, -999.00,9,  -999.0,9,  -999.0,-999.000,9,-999.000,    47.2,2,-999.000,-999.0000, -999.00,   6.7177,   6.7930,2,20091207,       0756
318M20091121,        P06,      58,          1,         19,         19,2,20091207,       0626,   -30.0806,   175.0001,       3901,   871.8,   6.1708,  34.3879,  34.3888,2,    212.6,2,   212.4,2,   16.69,2,   25.93,2,    0.00,2,    1.80,2,   1.261,2,   0.655,2,-999.000,1,    0.091,4,  2162.0,2,  2292.6,2,   7.7419,3,    25.00,-999.000,9,-999.0000,9, -999.00,9, -999.00,9,  -999.0,9,  -999.0,-999.000,9,-999.000,  -999.0,9,-999.000,-999.0000, -999.00,   6.0914,   6.1710,2,20091207,       0753
318M20091121,        P06,      58,          1,         18,         18,2,20091207,       0626,   -30.0806,   175.0001,       3901,   971.0,   5.5888,  34.3747,  34.3760,2,    204.3,2,   205.4,2,   22.47,2,   27.69,2,    0.00,2,    1.92,2,   0.883,2,   0.472,2,-999.000,1,    0.065,4,  2173.2,2,  2294.6,2,   7.7157,3,    25.00,-999.000,9,-999.0000,9, -999.00,9, -999.00,9,  -999.0,9,  -999.0,-999.000,9,-999.000,    39.1,2,-999.000,-999.0000, -999.00,   5.5040,   5.6151,3,20091207,       0749
318M20091121,        P06,      58,          1,         17,         17,2,20091207,       0626,   -30.0806,   175.0001,       3901,  1073.2,   4.9788,  34.3821,  34.3835,2,    193.4,2,   194.6,2,   31.90,2,   29.70,2,    0.00,2,    2.06,2,   0.519,2,   0.281,2,-999.000,1,   -0.011,4,  2191.0,2,  2302.3,6,   7.7012,3,    25.00,-999.000,9,-999.0000,9, -999.00,9, -999.00,9,  -999.0,9,  -999.0,-999.000,9,-999.000,  -999.0,9,-999.000,-999.0000, -999.00,   4.8892,   4.9831,2,20091207,       0746
318M20091121,        P06,      58,          1,         16,         16,2,20091207,       0626,   -30.0806,   175.0001,       3901,  1175.1,   4.1862,  34.4171,  34.4186,2,    180.5,2,   181.0,2,   47.25,2,   31.85,2,    0.00,2,    2.22,2,   0.246,2,   0.144,2,-999.000,1,    0.021,4,  2215.5,2,  2317.5,2,   7.6759,3,    25.00,-999.000,9,-999.0000,9, -999.00,9, -999.00,9,  -999.0,9,  -999.0,-999.000,9,-999.000,    36.7,2,-999.000,-999.0000, -999.00,   4.0942,   4.1937,2,20091207,       0743
318M20091121,        P06,      58,          1,         15,         15,2,20091207,       0626,   -30.0806,   175.0001,       3901,  1275.2,   3.7403,  34.4583,  34.4586,2,    173.0,2,   173.4,2,   59.23,2,   32.79,2,    0.00,2,    2.29,2,   0.146,2,   0.088,2,-999.000,1,   -0.108,4,  2230.2,2,  2329.7,2,   7.5886,4,    25.00,-999.000,9,-999.0000,9, -999.00,9, -999.00,9,  -999.0,9,  -999.0,-999.000,9,-999.000,  -999.0,9,-999.000,-999.0000, -999.00,   3.6438,   3.7432,2,20091207,       0740
318M20091121,        P06,      58,          1,         14,         14,2,20091207,       0626,   -30.0806,   175.0001,       3901,  1375.9,   3.3965,  34.5020,  34.5012,2,    166.8,2,   167.4,2,   71.06,2,   33.39,2,    0.00,2,    2.34,2,   0.093,2,   0.058,2,-999.000,1,   -0.102,4,  2245.1,2,  2346.5,2,   7.6348,3,    25.00,-999.000,9,-999.0000,9, -999.00,9, -999.00,9,  -999.0,9,  -999.0,-999.000,9,-999.000,  -999.0,9,-999.000,-999.0000, -999.00,   3.2949,   3.4002,2,20091207,       0737
318M20091121,        P06,      58,          1,         13,         13,2,20091207,       0626,   -30.0806,   175.0001,       3901,  1478.6,   3.1022,  34.5435,  34.5429,2,    161.5,2,   161.4,2,   82.73,2,   33.79,2,    0.00,2,    2.37,2,   0.061,2,   0.039,2,-999.000,1,   -0.095,4,  2259.6,2,  2356.7,2,   7.5912,2,    25.00,-999.000,9,-999.0000,9, -999.00,9, -999.00,9,  -999.0,9,  -999.0,-999.000,9,-999.000,  -999.0,9,-999.000,-999.0000, -999.00,   2.9951,   3.1043,2,20091207,       0729
318M20091121,        P06,      58,          1,         12,         12,2,20091207,       0626,   -30.0806,   175.0001,       3901,  1578.8,   2.8984,  34.5731,  34.5744,2,    158.2,2,   158.2,2,   91.56,2,   34.03,2,    0.00,2,    2.40,2,   0.071,2,   0.045,2,-999.000,1,   -0.089,4,  2270.1,2,  2368.2,2,   7.5923,2,    25.00,-999.000,9,-999.0000,9, -999.00,9, -999.00,9,  -999.0,9,  -999.0,-999.000,9,-999.000,    35.2,2,-999.000,-999.0000, -999.00,   2.7852,   2.8983,2,20091207,       0725
318M20091121,        P06,      58,          1,         11,         11,2,20091207,       0626,   -30.0806,   175.0001,       3901,  1680.9,   2.6972,  34.5971,  34.5978,2,    156.1,2,   155.9,2,   98.55,2,   34.29,2,    0.00,2,    2.42,2,   0.042,2,   0.027,2,-999.000,1,   -0.082,4,  2278.5,2,  2375.3,2,   7.5789,2,    25.00,-999.000,9,-999.0000,9, -999.00,9, -999.00,9,  -999.0,9,  -999.0,-999.000,9,-999.000,  -999.0,9,-999.000,-999.0000, -999.00,   2.5778,   2.6975,2,20091207,       0722
318M20091121,        P06,      58,          1,         10,         10,2,20091207,       0626,   -30.0806,   175.0001,       3901,  1780.2,   2.5609,  34.6107,  34.6110,2,    154.7,2,   154.5,2,  103.27,2,   34.38,2,    0.00,2,    2.43,2,   0.031,2,   0.020,2,-999.000,1,   -0.075,4,  2284.6,2,  2380.0,2,   7.5429,3,    25.00,-999.000,9,-999.0000,9, -999.00,9, -999.00,9,  -999.0,9,  -999.0,-999.000,9,-999.000,  -999.0,9,-999.000,-999.0000, -999.00,   2.4349,   2.5624,2,20091207,       0718
318M20091121,        P06,      58,          1,          9,          9,2,20091207,       0626,   -30.0806,   175.0001,       3901,  1952.4,   2.3733,  34.6280,  34.6288,2,    153.5,2,   153.3,2,  109.05,2,   34.64,2,    0.00,2,    2.44,2,   0.034,2,   0.022,2,-999.000,1,   -0.069,4,  2289.2,2,  2385.1,2,   7.6407,4,    25.00,-999.000,9,-999.0000,9, -999.00,9, -999.00,9,  -999.0,9,  -999.0,-999.000,9,-999.000,    37.8,2,-999.000,-999.0000, -999.00,   2.2353,   2.3738,2,20091207,       0713
318M20091121,        P06,      58,          1,          8,          8,2,20091207,       0626,   -30.0806,   175.0001,       3901,  2187.5,   2.1970,  34.6441,  34.6446,2,    152.7,2,   152.4,2,  114.41,2,   34.84,2,    0.00,2,    2.45,2,   0.029,2,   0.019,2,-999.000,1,   -0.062,4,  2295.6,2,  2391.7,2,   7.5660,2,    25.00,-999.000,9,-999.0000,9, -999.00,9, -999.00,9,  -999.0,9,  -999.0,-999.000,9,-999.000,  -999.0,9,-999.000,-999.0000, -999.00,   2.0413,   2.1962,2,20091207,       0707
318M20091121,        P06,      58,          1,          7,          7,2,20091207,       0626,   -30.0806,   175.0001,       3901,  2442.7,   2.0291,  34.6594,  34.6611,2,    152.9,2,   153.0,2,  119.15,2,   34.94,2,    0.00,2,    2.46,2,   0.032,2,   0.024,2,-999.000,1,   -0.055,4,  2293.3,2,  2397.5,2,   7.5956,2,    25.00,-999.000,9,-999.0000,9, -999.00,9, -999.00,9,  -999.0,9,  -999.0,-999.000,9,-999.000,    35.6,2,-999.000,-999.0000, -999.00,   1.8534,   2.0293,2,20091207,       0701
318M20091121,        P06,      58,          1,          6,          6,2,20091207,       0626,   -30.0806,   175.0001,       3901,  2696.8,   1.9306,  34.6691,  34.6704,2,    153.6,2,   154.1,2,  122.03,2,   34.89,2,    0.00,2,    2.46,2,   0.023,2,   0.020,2,-999.000,1,   -0.048,4,  2295.3,2,  2402.0,2,   7.5868,2,    25.00,-999.000,9,-999.0000,9, -999.00,9, -999.00,9,  -999.0,9,  -999.0,-999.000,9,-999.000,  -999.0,9,-999.000,-999.0000, -999.00,   1.7334,   1.9303,2,20091207,       0656
318M20091121,        P06,      58,          1,          5,          5,2,20091207,       0626,   -30.0806,   175.0001,       3901,  2950.4,   1.8732,  34.6754,  34.6765,2,    154.1,2,   154.1,2,  123.88,2,   34.84,2,    0.00,2,    2.46,2,   0.010,2,   0.009,2,-999.000,1,   -0.041,4,  2297.4,2,  2403.7,2,   7.5907,2,    25.00,-999.000,9,-999.0000,9, -999.00,9, -999.00,9,  -999.0,9,  -999.0,-999.000,9,-999.000,    36.2,2,-999.000,-999.0000, -999.00,   1.6530,   1.8732,2,20091207,       0650
318M20091121,        P06,      58,          1,          4,          4,2,20091207,       0626,   -30.0806,   175.0001,       3901,  3241.2,   1.8533,  34.6789,  34.6798,2,    154.5,2,   154.4,2,  125.11,2,   34.85,2,    0.00,2,    2.46,2,   0.030,2,   0.022,2,-999.000,1,   -0.034,4,  2300.3,2,  2404.4,2,   7.6064,4,    25.00,-999.000,9,-999.0000,9, -999.00,9, -999.00,9,  -999.0,9,  -999.0,-999.000,9,-999.000,  -999.0,9,-999.000,-999.0000, -999.00,   1.6048,   1.8533,2,20091207,       0643
318M20091121,        P06,      58,          1,          3,          3,2,20091207,       0626,   -30.0806,   175.0001,       3901,  3547.9,   1.8583,  34.6808,  34.6814,2,    154.1,2,   154.4,2,  125.92,2,   34.95,2,    0.00,2,    2.46,2,   0.021,2,   0.016,2,-999.000,1,   -0.027,4,  2302.2,2,  2410.6,2,   7.5964,2,    25.00,-999.000,9,-999.0000,9, -999.00,9, -999.00,9,  -999.0,9,  -999.0,-999.000,9,-999.000,    36.3,2,-999.000,-999.0000, -999.00,   1.5781,   1.8580,2,20091207,       0637
318M20091121,        P06,      58,          1,          2,          2,2,20091207,       0626,   -30.0806,   175.0001,       3901,  3754.7,   1.8678,  34.6815,  34.6829,2,    155.2,2,   154.5,2,  126.31,2,   35.05,2,    0.00,2,    2.46,2,   0.009,2,   0.007,2,-999.000,1,    -0.02,4,  2301.3,2,  2409.1,6,   7.5934,6,    25.00,-999.000,9,-999.0000,9, -999.00,9, -999.00,9,  -999.0,9,  -999.0,-999.000,9,-999.000,  -999.0,9,-999.000,-999.0000, -999.00,   1.5653,   1.8678,2,20091207,       0631
318M20091121,        P06,      58,          1,          1,          1,2,20091207,       0626,   -30.0806,   175.0001,       3901,  3948.3,   1.8806,  34.6817,  34.6833,2,    155.4,2,   155.4,2,  126.29,2,   35.05,2,    0.00,2,    2.46,2,   0.008,2,   0.005,2,-999.000,1,   -0.013,4,  2301.6,6,  2410.7,2,   7.5957,2,    25.00,-999.000,9,-999.0000,9, -999.00,9, -999.00,9,  -999.0,9,  -999.0,-999.000,9,-999.000,    36.8,2,-999.000,-999.0000, -999.00,   1.5567,   1.8805,2,20091207,       0626