BOTTLE,20220818CCHSIOAMB
EXPOCODE,SECT_ID,STNNBR,CASTNO,SAMPNO,BTLNBR,BTLNBR_FLAG_W,DATE,TIME,LATITUDE,LONGITUDE,DEPTH,CTDPRS,CTDTMP,CTDSAL,SALNTY,SALNTY_FLAG_W,CTDOXY,CTDOXY_FLAG_W,OXYGEN,OXYGEN_FLAG_W,SILCAT,SILCAT_FLAG_W,NITRAT,NITRAT_FLAG_W,NITRIT,NITRIT_FLAG_W,PHSPHT,PHSPHT_FLAG_W,CFC-11,CFC-11_FLAG_W,CFC-12,CFC-12_FLAG_W,CFC113,CFC113_FLAG_W,SF6,SF6_FLAG_W,TCARBN,TCARBN_FLAG_W,ALKALI,ALKALI_FLAG_W,PH_SWS,PH_SWS_FLAG_W,PH_TMP,TRITUM,TRITUM_FLAG_W,HELIUM,HELIUM_FLAG_W,DELHE3,DELHE3_FLAG_W,DELC13,DELC13_FLAG_W,DELC14,DELC14_FLAG_W,C14ERR,NEON,NEON_FLAG_W,NEONER,DOC,DOC_FLAG_W,TRITER,HELIER,DELHER,THETA,SBE35,SBE35_FLAG_W,BTL_DATE,BTL_TIME
,,,,,,,,,,,METERS,DBAR,ITS-90,PSS-78,PSS-78,,UMOL/KG,,UMOL/KG,,UMOL/KG,,UMOL/KG,,UMOL/KG,,UMOL/KG,,PMOL/KG,,PMOL/KG,,PMOL/KG,,FMOL/KG,,UMOL/KG,,UMOL/KG,,,,DEG C,TU,,NMOL/KG,,PERCNT,,/MILLE,,/MILLE,,/MILLE,NMOL/KG,,NMOL/KG,UMOL/KG,,TU,NMOL/KG,PERCNT,DEG C,ITS-90,,,
318M20091121,        P06,      25,          1,         31,         31,2,20091128,       1918,   -30.0799,   159.5001,       2696,     5.8,  23.3364,  35.5117,  35.5118,2,    217.0,2,   216.8,2,    0.60,2,    0.06,2,    0.00,2,    0.11,2,   1.893,2,   1.184,2,-999.000,5,    1.097,2,  2009.6,6,  2328.8,3,   8.0707,2,    25.00,   0.428,2,   1.7480,2,   -1.48,2, -999.00,9,  -999.0,9,  -999.0,   6.900,2,   0.032,  -999.0,9,   0.009,   0.0073,    0.15,  23.3352,  23.3359,2,20091128,       2100
318M20091121,        P06,      25,          1,         30,         30,2,20091128,       1918,   -30.0799,   159.5001,       2696,    26.4,  23.3230,  35.5127,  35.5140,2,    217.3,2,   216.8,2,    0.58,2,    0.03,2,    0.00,2,    0.10,2,   1.895,2,   1.197,2,-999.000,5,    1.059,2,  -999.0,9,  -999.0,9,-999.0000,9,  -999.00,-999.000,9,-999.0000,9, -999.00,9, -999.00,9,  -999.0,9,  -999.0,-999.000,9,-999.000,  -999.0,9,-999.000,-999.0000, -999.00,  23.3176,  23.3180,2,20091128,       2056
318M20091121,        P06,      25,          1,         29,         29,2,20091128,       1918,   -30.0799,   159.5001,       2696,    50.5,  22.2869,  35.4556,  35.4556,2,    222.4,2,   219.6,2,    0.55,2,    0.01,2,    0.00,2,    0.11,2,   1.945,2,   1.221,2,-999.000,5,    1.094,2,  -999.0,9,  2322.2,3,   8.0647,6,    25.00,   0.422,2,   1.7189,2,   -1.38,2, -999.00,9,  -999.0,9,  -999.0,   6.867,2,   0.032,  -999.0,9,   0.009,   0.0072,    0.15,  22.2768,  22.2927,2,20091128,       2054
318M20091121,        P06,      25,          1,         28,         28,2,20091128,       1918,   -30.0799,   159.5001,       2696,    77.9,  21.2975,  35.4767,  35.4757,2,    204.5,2,   207.7,2,    0.73,2,    0.69,2,    0.08,2,    0.16,2,   1.992,2,   1.239,2,-999.000,5,    1.228,2,  -999.0,9,  -999.0,9,-999.0000,9,  -999.00,-999.000,9,-999.0000,9, -999.00,9, -999.00,9,  -999.0,9,  -999.0,-999.000,9,-999.000,  -999.0,9,-999.000,-999.0000, -999.00,  21.2824,  21.3013,2,20091128,       2051
318M20091121,        P06,      25,          1,         27,         27,2,20091128,       1918,   -30.0799,   159.5001,       2696,   102.5,  21.1248,  35.5752,  35.5749,2,    210.0,2,   218.4,2,    0.50,2,    0.18,2,    0.03,2,    0.14,2,   2.022,2,   1.260,2,-999.000,5,    1.222,2,  -999.0,9,  2330.5,3,   8.0368,2,    25.00,   0.418,2,   1.7467,2,   -1.55,2, -999.00,9,  -999.0,9,  -999.0,   6.938,2,   0.032,  -999.0,9,   0.009,   0.0073,    0.15,  21.1051,  21.1226,2,20091128,       2049
318M20091121,        P06,      25,          1,         26,         26,2,20091128,       1918,   -30.0799,   159.5001,       2696,   123.3,  20.5152,  35.5786,  35.5787,2,    215.6,2,   214.9,2,    0.68,2,    0.61,2,    0.16,2,    0.16,2,   2.086,2,   1.294,2,-999.000,5,    1.198,2,  -999.0,9,  -999.0,9,-999.0000,9,  -999.00,-999.000,9,-999.0000,9, -999.00,9, -999.00,9,  -999.0,9,  -999.0,-999.000,9,-999.000,  -999.0,9,-999.000,-999.0000, -999.00,  20.4919,  20.5166,2,20091128,       2047
318M20091121,        P06,      25,          1,         25,         25,2,20091128,       1918,   -30.0799,   159.5001,       2696,   149.9,  20.1855,  35.5614,  35.5595,2,    217.2,2,   219.1,2,    0.46,2,    0.29,2,    0.16,2,    0.16,2,   2.104,2,   1.303,2,-999.000,5,    1.182,2,  -999.0,9,  2330.0,3,   8.0335,4,    25.00,   0.387,2,   1.7788,2,   -1.34,2, -999.00,9,  -999.0,9,  -999.0,   7.072,2,   0.033,  -999.0,9,   0.009,   0.0075,    0.15,  20.1575,  20.1830,2,20091128,       2044
318M20091121,        P06,      25,          1,         24,         24,2,20091128,       1918,   -30.0799,   159.5001,       2696,   200.7,  19.5480,  35.5727,  35.5725,2,    207.4,2,   205.3,2,    0.84,2,    2.28,2,    0.01,2,    0.24,2,   2.086,2,   1.320,2,-999.000,5,    1.507,4,  -999.0,9,  -999.0,9,-999.0000,9,  -999.00,   0.366,2,   1.7524,2,   -1.20,2, -999.00,9,  -999.0,9,  -999.0,   6.987,2,   0.032,  -999.0,9,   0.009,   0.0074,    0.15,  19.5113,  19.5457,2,20091128,       2042
318M20091121,        P06,      25,          1,         23,         23,2,20091128,       1918,   -30.0799,   159.5001,       2696,   250.8,  18.7430,  35.6053,  35.6046,2,    193.5,2,   191.2,2,    1.21,2,    4.37,2,    0.00,2,    0.39,2,   2.047,2,   1.251,2,-999.000,5,    1.049,2,  -999.0,9,  -999.0,9,-999.0000,9,  -999.00,   0.335,2,   1.8082,2,   -0.78,2, -999.00,9,  -999.0,9,  -999.0,   7.178,2,   0.033,  -999.0,9,   0.009,   0.0076,    0.15,  18.6985,  18.7320,2,20091128,       2040
318M20091121,        P06,      25,          1,         22,         22,2,20091128,       1918,   -30.0799,   159.5001,       2696,   301.6,  17.8544,  35.5808,  35.5799,2,    189.5,2,   192.0,2,    1.40,2,    5.22,2,    0.00,2,    0.45,2,   2.209,2,   1.346,2,-999.000,1,    1.041,2,  -999.0,9,  -999.0,9,-999.0000,9,  -999.00,   0.325,2,   1.7425,2,   -0.64,2, -999.00,9,  -999.0,9,  -999.0,   7.002,2,   0.032,  -999.0,9,   0.009,   0.0073,    0.15,  17.8026,  17.8560,2,20091128,       2037
318M20091121,        P06,      25,          1,         21,         21,2,20091128,       1918,   -30.0799,   159.5001,       2696,   352.6,  16.7866,  35.5001,  35.5013,2,    186.1,2,   185.4,2,    2.18,2,    7.25,2,    0.00,2,    0.59,2,   2.244,2,   1.339,2,-999.000,1,    1.067,2,  -999.0,9,  2325.7,3,   7.3750,4,    25.00,   0.272,2,   1.7569,2,   -0.34,2, -999.00,9,  -999.0,9,  -999.0,   7.053,2,   0.032,  -999.0,9,   0.009,   0.0074,    0.15,  16.7285,  16.7906,2,20091128,       2035
318M20091121,        P06,      25,          1,         20,         20,2,20091128,       1918,   -30.0799,   159.5001,       2696,   403.0,  15.1791,  35.3539,  35.3539,2,    184.5,2,   184.6,2,    2.97,2,    9.62,2,    0.00,2,    0.75,2,   2.334,2,   1.378,2,-999.000,1,     0.97,2,  -999.0,9,  -999.0,9,-999.0000,9,  -999.00,   0.233,2,   1.7946,2,   -0.03,2, -999.00,9,  -999.0,9,  -999.0,   7.316,2,   0.034,  -999.0,9,   0.009,   0.0075,    0.15,  15.1170,  15.1805,2,20091128,       2033
318M20091121,        P06,      25,          1,         19,         19,2,20091128,       1918,   -30.0799,   159.5001,       2696,   448.1,  14.1501,  35.2739,  35.2746,2,    190.1,2,   190.3,2,    3.55,2,   10.67,2,    0.00,2,    0.83,2,   2.414,2,   1.410,2,-999.000,1,    1.002,2,  -999.0,9,  -999.0,9,-999.0000,9,  -999.00,-999.000,9,-999.0000,9, -999.00,9, -999.00,9,  -999.0,9,  -999.0,-999.000,9,-999.000,  -999.0,9,-999.000,-999.0000, -999.00,  14.0842,  14.1617,2,20091128,       2030
318M20091121,        P06,      25,          1,         18,         18,2,20091128,       1918,   -30.0799,   159.5001,       2696,   499.0,  13.1714,  35.1892,  35.1894,2,    194.1,2,   195.5,2,    4.13,2,   11.87,2,    0.00,2,    0.92,2,   2.433,2,   1.402,2,-999.000,1,    0.776,2,  -999.0,9,  2313.2,3,   7.8426,6,    25.00,   0.157,2,   1.8592,2,    0.13,2, -999.00,9,  -999.0,9,  -999.0,   7.521,2,   0.035,  -999.0,9,   0.009,   0.0078,    0.15,  13.1013,  13.1719,2,20091128,       2028
318M20091121,        P06,      25,          1,         17,         17,2,20091128,       1918,   -30.0799,   159.5001,       2696,   601.5,  11.2355,  34.9404,  34.9434,2,    197.6,2,   195.7,2,    5.93,2,   15.46,2,    0.00,2,    1.15,2,   2.340,2,   1.309,2,-999.000,1,     0.63,2,  -999.0,9,  2304.3,3,   7.7915,2,    25.00,   0.172,2,   1.7971,2,    0.63,2, -999.00,9,  -999.0,9,  -999.0,   7.383,2,   0.034,  -999.0,9,   0.009,   0.0075,    0.15,  11.1590,  11.2314,2,20091128,       2025
318M20091121,        P06,      25,          1,         16,         16,2,20091128,       1918,   -30.0799,   159.5001,       2696,   703.0,   9.1242,  34.6749,  34.6748,2,    199.8,2,   199.4,2,    8.96,2,   19.86,2,    0.00,2,    1.44,2,   2.161,2,   1.166,2,-999.000,1,    0.402,2,  -999.0,9,  2283.8,3,   7.7417,2,    25.00,   0.059,2,   1.8172,2,    1.33,2, -999.00,9,  -999.0,9,  -999.0,   7.484,2,   0.034,  -999.0,9,   0.009,   0.0076,    0.15,   9.0453,   9.1252,2,20091128,       2021
318M20091121,        P06,      25,          1,         15,         15,2,20091128,       1918,   -30.0799,   159.5001,       2696,   804.1,   7.8651,  34.5507,  34.5512,2,    197.8,2,   198.0,2,   13.21,2,   22.82,2,    0.00,2,    1.65,2,   1.633,2,   0.849,2,-999.000,1,    0.256,2,  -999.0,9,  -999.0,5,   7.7118,2,    25.00,-999.000,9,-999.0000,9, -999.00,9, -999.00,9,  -999.0,9,  -999.0,-999.000,9,-999.000,  -999.0,9,-999.000,-999.0000, -999.00,   7.7819,   7.8645,2,20091128,       2018
318M20091121,        P06,      25,          1,         14,         14,2,20091128,       1918,   -30.0799,   159.5001,       2696,   907.1,   6.8016,  34.4764,  34.4763,2,    195.1,2,   197.8,2,   19.51,2,   25.35,2,    0.00,2,    1.83,2,   1.048,2,   0.543,2,-999.000,1,    0.093,2,  -999.0,9,  -999.0,5,-999.0000,9,  -999.00,-999.000,9,   1.8105,2,    3.36,2, -999.00,9,  -999.0,9,  -999.0,   7.617,2,   0.035,  -999.0,9,-999.000,   0.0076,    0.15,   6.7144,   6.8020,2,20091128,       2014
318M20091121,        P06,      25,          1,         13,         13,2,20091128,       1918,   -30.0799,   159.5001,       2696,  1007.7,   6.0394,  34.4480,  34.4480,2,    190.6,2,   191.5,2,   26.85,2,   27.15,2,    0.00,2,    1.96,2,   0.711,2,   0.363,2,-999.000,1,        0,2,  -999.0,9,  -999.0,5,   7.6696,2,    25.00,   0.046,2,   1.8438,2,    4.80,2, -999.00,9,  -999.0,9,  -999.0,   7.699,2,   0.035,  -999.0,9,   0.017,   0.0077,    0.15,   5.9476,   6.0372,2,20091128,       2011
318M20091121,        P06,      25,          1,         12,         12,2,20091128,       1918,   -30.0799,   159.5001,       2696,  1108.8,   5.3912,  34.4480,  34.4482,2,    184.2,2,   184.6,2,   36.06,2,   28.79,2,    0.00,2,    2.07,2,   0.515,2,   0.260,2,-999.000,1,        0,2,  -999.0,9,  -999.0,9,-999.0000,9,  -999.00,  -0.018,2,   1.8853,2,    6.75,2, -999.00,9,  -999.0,9,  -999.0,   7.791,2,   0.036,  -999.0,9,   0.017,   0.0079,    0.15,   5.2948,   5.4046,2,20091128,       2007
318M20091121,        P06,      25,          1,         11,         11,2,20091128,       1918,   -30.0799,   159.5001,       2696,  1209.2,   4.8232,  34.4640,  34.4693,3,    176.9,2,   177.2,2,   46.96,2,   30.24,2,    0.00,2,    2.18,2,   0.339,2,   0.179,2,-999.000,1,        0,2,  -999.0,9,  2309.5,3,   7.6330,2,    25.00,   0.033,2,   1.8489,2,    8.87,2, -999.00,9,  -999.0,9,  -999.0,   7.766,2,   0.036,  -999.0,9,   0.017,   0.0078,    0.15,   4.7223,   4.8241,2,20091128,       2003
318M20091121,        P06,      25,          1,         10,         10,2,20091128,       1918,   -30.0799,   159.5001,       2696,  1306.8,   4.2922,  34.4894,  34.4891,2,    168.9,2,   169.3,2,   58.73,2,   31.59,2,    0.00,2,    2.28,2,   0.198,2,   0.112,2,-999.000,1,        0,2,  -999.0,9,  -999.0,9,-999.0000,9,  -999.00,-999.000,9,-999.0000,9, -999.00,9, -999.00,9,  -999.0,9,  -999.0,-999.000,9,-999.000,  -999.0,9,-999.000,-999.0000, -999.00,   4.1875,   4.2912,2,20091128,       2000
318M20091121,        P06,      25,          1,          9,          9,2,20091128,       1918,   -30.0799,   159.5001,       2696,  1410.8,   3.8254,  34.5191,  34.5182,2,    162.0,2,   162.3,2,   70.13,2,   32.70,2,    0.00,2,    2.36,2,   0.114,2,   0.064,2,-999.000,1,        0,2,  -999.0,9,  2344.3,4,   7.6004,2,    25.00,-999.000,9,   1.9000,2,   13.96,2, -999.00,9,  -999.0,9,  -999.0,   7.879,2,   0.036,  -999.0,9,-999.000,   0.0080,    0.15,   3.7162,   3.8260,2,20091128,       1956
318M20091121,        P06,      25,          1,          8,          8,2,20091128,       1918,   -30.0799,   159.5001,       2696,  1513.4,   3.4725,  34.5462,  34.5462,2,    156.6,2,   156.7,2,   79.48,2,   33.36,2,    0.00,2,    2.42,2,   0.072,2,   0.042,2,-999.000,1,        0,2,  -999.0,9,  -999.0,9,-999.0000,9,  -999.00,-999.000,9,-999.0000,9, -999.00,9, -999.00,9,  -999.0,9,  -999.0,-999.000,9,-999.000,  -999.0,9,-999.000,-999.0000, -999.00,   3.3581,   3.4724,2,20091128,       1953
318M20091121,        P06,      25,          1,          7,          7,2,20091128,       1918,   -30.0799,   159.5001,       2696,  1615.4,   3.1197,  34.5764,  34.5755,2,    152.5,2,   153.1,2,   88.24,2,   34.02,2,    0.00,2,    2.45,2,   0.037,2,   0.020,2,-999.000,1,        0,2,  -999.0,9,  2317.2,3,   7.5825,2,    25.00,  -0.002,2,   1.8927,2,   17.15,2, -999.00,9,  -999.0,9,  -999.0,   7.883,2,   0.036,  -999.0,9,   0.017,   0.0079,    0.15,   3.0007,   3.1197,2,20091128,       1948
318M20091121,        P06,      25,          1,          6,          6,2,20091128,       1918,   -30.0799,   159.5001,       2696,  1713.4,   2.9033,  34.5972,  34.5965,2,    150.9,2,   151.0,2,   94.09,2,   34.29,2,    0.00,2,    2.47,2,   0.018,2,   0.012,2,-999.000,1,        0,2,  -999.0,9,  -999.0,9,-999.0000,9,  -999.00,-999.000,9,-999.0000,9, -999.00,9, -999.00,9,  -999.0,9,  -999.0,-999.000,9,-999.000,  -999.0,9,-999.000,-999.0000, -999.00,   2.7785,   2.9039,2,20091128,       1944
318M20091121,        P06,      25,          1,          5,          5,2,20091128,       1918,   -30.0799,   159.5001,       2696,  1918.9,   2.5848,  34.6312,  34.6308,2,    154.5,2,   155.3,2,   98.26,2,   34.16,2,    0.00,2,    2.46,2,   0.011,2,   0.008,2,-999.000,1,        0,2,  -999.0,9,  2372.5,3,   7.5806,2,    25.00,   0.008,2,   1.9582,2,   16.88,2, -999.00,9,  -999.0,9,  -999.0,   8.152,2,   0.038,  -999.0,9,   0.017,   0.0082,    0.15,   2.4466,   2.5862,2,20091128,       1939
318M20091121,        P06,      25,          1,          4,          4,2,20091128,       1918,   -30.0799,   159.5001,       2696,  2015.0,   2.4797,  34.6447,  34.6445,2,    157.5,2,   158.2,2,   97.83,2,   33.78,2,    0.00,2,    2.43,2,   0.010,2,   0.009,2,-999.000,1,        0,2,  -999.0,9,  -999.0,9,-999.0000,9,  -999.00,  -0.006,2,   1.9837,2,   15.70,2, -999.00,9,  -999.0,9,  -999.0,   8.235,2,   0.038,  -999.0,9,   0.017,   0.0083,    0.15,   2.3346,   2.4807,2,20091128,       1936
318M20091121,        P06,      25,          1,          3,          3,2,20091128,       1918,   -30.0799,   159.5001,       2696,  2246.4,   2.2771,  34.6727,  34.6725,2,    165.9,2,   166.5,2,   97.20,2,   33.06,2,    0.00,2,    2.38,2,   0.009,2,   0.008,2,-999.000,1,        0,2,  -999.0,9,  2370.7,3,   7.5900,2,    25.00,  -0.005,2,   1.9083,2,   14.00,2, -999.00,9,  -999.0,9,  -999.0,   7.994,2,   0.037,  -999.0,9,   0.017,   0.0080,    0.15,   2.1147,   2.2770,2,20091128,       1930
318M20091121,        P06,      25,          1,          2,          2,2,20091128,       1918,   -30.0799,   159.5001,       2696,  2477.5,   2.0959,  34.6948,  34.6945,2,    174.0,2,   174.6,2,   97.40,2,   32.54,2,    0.00,2,    2.33,2,   0.013,2,   0.010,2,-999.000,1,        0,2,  -999.0,9,  -999.0,9,-999.0000,9,  -999.00,  -0.001,6,   1.8884,2,   12.61,2, -999.00,9,  -999.0,9,  -999.0,   7.932,2,   0.036,  -999.0,9,   0.017,   0.0079,    0.15,   1.9157,   2.0957,2,20091128,       1924
318M20091121,        P06,      25,          1,          1,          1,2,20091128,       1918,   -30.0799,   159.5001,       2696,  2715.0,   1.7723,  34.7157,  34.7162,2,    184.3,2,   184.4,2,  102.21,2,   32.07,2,    0.00,2,    2.29,2,   0.012,2,   0.011,2,-999.000,1,        0,2,  -999.0,9,  2370.4,3,   7.6111,2,    25.00,-999.000,9,   1.9844,2,   10.81,2, -999.00,9,  -999.0,9,  -999.0,   8.232,2,   0.038,  -999.0,9,-999.000,   0.0083,    0.15,   1.5763,   1.7694,3,20091128,       1918