BOTTLE,20220818CCHSIOAMB
EXPOCODE,SECT_ID,STNNBR,CASTNO,SAMPNO,BTLNBR,BTLNBR_FLAG_W,DATE,TIME,LATITUDE,LONGITUDE,DEPTH,CTDPRS,CTDTMP,CTDSAL,SALNTY,SALNTY_FLAG_W,CTDOXY,CTDOXY_FLAG_W,OXYGEN,OXYGEN_FLAG_W,SILCAT,SILCAT_FLAG_W,NITRAT,NITRAT_FLAG_W,NITRIT,NITRIT_FLAG_W,PHSPHT,PHSPHT_FLAG_W,CFC-11,CFC-11_FLAG_W,CFC-12,CFC-12_FLAG_W,CFC113,CFC113_FLAG_W,SF6,SF6_FLAG_W,TCARBN,TCARBN_FLAG_W,ALKALI,ALKALI_FLAG_W,PH_SWS,PH_SWS_FLAG_W,PH_TMP,TRITUM,TRITUM_FLAG_W,HELIUM,HELIUM_FLAG_W,DELHE3,DELHE3_FLAG_W,DELC13,DELC13_FLAG_W,DELC14,DELC14_FLAG_W,C14ERR,NEON,NEON_FLAG_W,NEONER,DOC,DOC_FLAG_W,TRITER,HELIER,DELHER,THETA,SBE35,SBE35_FLAG_W,BTL_DATE,BTL_TIME
,,,,,,,,,,,METERS,DBAR,ITS-90,PSS-78,PSS-78,,UMOL/KG,,UMOL/KG,,UMOL/KG,,UMOL/KG,,UMOL/KG,,UMOL/KG,,PMOL/KG,,PMOL/KG,,PMOL/KG,,FMOL/KG,,UMOL/KG,,UMOL/KG,,,,DEG C,TU,,NMOL/KG,,PERCNT,,/MILLE,,/MILLE,,/MILLE,NMOL/KG,,NMOL/KG,UMOL/KG,,TU,NMOL/KG,PERCNT,DEG C,ITS-90,,,
318M20091121,        P06,      99,          1,         36,         36,2,20091220,       0332,   -32.4998,  -167.4363,       5600,     9.6,  19.1510,  35.4471,  35.4469,2,    233.6,2,   233.1,2,    0.66,2,    0.00,2,    0.00,2,    0.11,2,   2.196,2,   1.372,2,-999.000,1,    1.207,2,  2045.5,6,  2327.5,6,   8.0078,6,    25.00,-999.000,9,-999.0000,9, -999.00,9, -999.00,9,  -999.0,9,  -999.0,-999.000,9,-999.000,  -999.0,9,-999.000,-999.0000, -999.00,  19.1493,  19.1517,2,20091220,       0611
318M20091121,        P06,      99,          1,         35,         35,2,20091220,       0332,   -32.4998,  -167.4363,       5600,    35.5,  19.1372,  35.4471,  35.4488,2,    233.3,2,   234.4,2,    0.63,2,    0.00,2,    0.00,2,    0.11,2,   2.200,2,   1.372,2,-999.000,1,    1.259,2,  -999.0,9,  2325.6,2,-999.0000,9,  -999.00,-999.000,9,-999.0000,9, -999.00,9, -999.00,9,  -999.0,9,  -999.0,-999.000,9,-999.000,  -999.0,9,-999.000,-999.0000, -999.00,  19.1308,  19.1291,2,20091220,       0609
318M20091121,        P06,      99,          1,         34,         34,2,20091220,       0332,   -32.4998,  -167.4363,       5600,    60.6,  16.4619,  35.4774,  35.4753,2,    244.7,2,   242.5,2,    0.79,2,   -0.01,2,    0.01,2,    0.15,2,   2.417,2,   1.500,2,-999.000,1,    1.202,2,  2059.4,2,  2327.1,2,   7.9880,2,    25.00,-999.000,9,-999.0000,9, -999.00,9, -999.00,9,  -999.0,9,  -999.0,-999.000,9,-999.000,  -999.0,9,-999.000,-999.0000, -999.00,  16.4521,  16.4589,2,20091220,       0607
318M20091121,        P06,      99,          1,         33,         33,2,20091220,       0332,   -32.4998,  -167.4363,       5600,    85.2,  16.0192,  35.4695,  35.4684,2,    224.0,2,   225.4,2,    0.96,2,    1.71,2,    0.11,2,    0.27,2,   2.437,2,   1.516,2,-999.000,1,    1.258,2,  -999.0,9,  2325.9,2,-999.0000,9,  -999.00,-999.000,9,-999.0000,9, -999.00,9, -999.00,9,  -999.0,9,  -999.0,-999.000,9,-999.000,  -999.0,9,-999.000,-999.0000, -999.00,  16.0057,  16.0188,2,20091220,       0605
318M20091121,        P06,      99,          1,         32,         32,2,20091220,       0332,   -32.4998,  -167.4363,       5600,   115.9,  15.4301,  35.3997,  35.4088,2,    218.0,2,   218.2,2,    1.33,2,    3.78,2,    0.02,2,    0.38,2,   2.460,2,   1.522,2,-999.000,1,    1.156,2,  2083.4,2,  2324.9,2,   7.9362,2,    25.00,-999.000,9,-999.0000,9, -999.00,9, -999.00,9,  -999.0,9,  -999.0,-999.000,9,-999.000,  -999.0,9,-999.000,-999.0000, -999.00,  15.4122,  15.4323,2,20091220,       0603
318M20091121,        P06,      99,          1,         31,         31,2,20091220,       0332,   -32.4998,  -167.4363,       5600,   165.2,  14.4872,  35.2900,  35.2917,2,    208.0,2,   207.6,2,    1.91,2,    6.72,2,    0.01,2,    0.57,2,   2.549,2,   1.544,2,-999.000,1,    1.143,2,  -999.0,9,  2317.4,2,-999.0000,9,  -999.00,-999.000,9,-999.0000,9, -999.00,9, -999.00,9,  -999.0,9,  -999.0,-999.000,9,-999.000,  -999.0,9,-999.000,-999.0000, -999.00,  14.4627,  14.5126,2,20091220,       0600
318M20091121,        P06,      99,          1,         30,         30,2,20091220,       0332,   -32.4998,  -167.4363,       5600,   215.9,  13.2641,  35.1468,  35.1469,2,    202.4,2,   202.4,2,    2.70,2,    9.84,2,    0.01,2,    0.75,2,   2.652,6,   1.572,6,-999.000,1,    0.992,6,  2113.9,2,  2312.5,2,   7.8543,2,    25.00,-999.000,9,-999.0000,9, -999.00,9, -999.00,9,  -999.0,9,  -999.0,-999.000,9,-999.000,  -999.0,9,-999.000,-999.0000, -999.00,  13.2339,  13.2635,2,20091220,       0558
318M20091121,        P06,      99,          1,         29,         29,2,20091220,       0332,   -32.4998,  -167.4363,       5600,   267.3,  12.4455,  35.0623,  35.0647,2,    207.6,2,   207.1,2,    3.07,2,   11.18,2,    0.01,2,    0.84,2,   2.743,2,   1.598,2,-999.000,1,     0.89,2,  -999.0,9,  2309.9,2,-999.0000,9,  -999.00,-999.000,9,-999.0000,9, -999.00,9, -999.00,9,  -999.0,9,  -999.0,-999.000,9,-999.000,  -999.0,9,-999.000,-999.0000, -999.00,  12.4097,  12.4443,2,20091220,       0555
318M20091121,        P06,      99,          1,         28,         28,2,20091220,       0332,   -32.4998,  -167.4363,       5600,   318.4,  11.2819,  34.8988,  34.9015,2,    206.2,2,   205.1,2,    3.85,2,   13.81,2,    0.00,2,    1.00,2,   2.803,2,   1.593,2,-999.000,1,    0.662,2,  2128.0,2,  2303.5,2,   7.8064,2,    25.00,-999.000,9,-999.0000,9, -999.00,9, -999.00,9,  -999.0,9,  -999.0,-999.000,9,-999.000,  -999.0,9,-999.000,-999.0000, -999.00,  11.2418,  11.2769,2,20091220,       0552
318M20091121,        P06,      99,          1,         27,         27,2,20091220,       0332,   -32.4998,  -167.4363,       5600,   367.9,  10.2363,  34.7590,  34.7590,2,    207.9,2,   208.2,2,    4.43,2,   15.93,2,    0.00,2,    1.14,2,   2.866,2,   1.584,2,-999.000,1,    0.673,2,  -999.0,9,  2298.2,2,-999.0000,9,  -999.00,-999.000,9,-999.0000,9, -999.00,9, -999.00,9,  -999.0,9,  -999.0,-999.000,9,-999.000,  -999.0,9,-999.000,-999.0000, -999.00,  10.1927,  10.2335,2,20091220,       0549
318M20091121,        P06,      99,          1,         26,         26,2,20091220,       0332,   -32.4998,  -167.4363,       5600,   436.5,   9.0778,  34.6136,  34.6112,2,    215.2,2,   214.8,2,    5.00,2,   18.23,2,    0.00,2,    1.29,2,   2.979,2,   1.614,2,-999.000,1,    0.611,2,  2138.0,2,  2292.7,2,   7.7598,2,    25.00,-999.000,9,-999.0000,9, -999.00,9, -999.00,9,  -999.0,9,  -999.0,-999.000,9,-999.000,  -999.0,9,-999.000,-999.0000, -999.00,   9.0297,   9.0833,2,20091220,       0547
318M20091121,        P06,      99,          1,         25,         25,2,20091220,       0332,   -32.4998,  -167.4363,       5600,   538.9,   7.8589,  34.4759,  34.4733,2,    226.2,2,   226.4,2,    5.99,2,   20.57,2,    0.00,2,    1.44,2,   3.037,2,   1.597,2,-999.000,1,    0.482,2,  2144.0,2,  2284.9,2,   7.7427,2,    25.00,-999.000,9,-999.0000,9, -999.00,9, -999.00,9,  -999.0,9,  -999.0,-999.000,9,-999.000,  -999.0,9,-999.000,-999.0000, -999.00,   7.8041,   7.8572,2,20091220,       0544
318M20091121,        P06,      99,          1,         24,         24,2,20091220,       0332,   -32.4998,  -167.4363,       5600,   638.1,   7.1218,  34.4069,  34.4065,2,    231.6,2,   231.8,2,    7.39,2,   22.19,2,    0.00,2,    1.54,2,   2.798,2,   1.431,2,-999.000,1,    0.388,2,  2147.7,2,  2153.3,4,   7.7345,2,    25.00,-999.000,9,-999.0000,9, -999.00,9, -999.00,9,  -999.0,9,  -999.0,-999.000,9,-999.000,  -999.0,9,-999.000,-999.0000, -999.00,   7.0601,   7.1232,2,20091220,       0541
318M20091121,        P06,      99,          1,         23,         23,2,20091220,       0332,   -32.4998,  -167.4363,       5600,   740.2,   6.6002,  34.3711,  34.3707,2,    229.6,2,   229.5,2,    9.62,2,   23.71,2,    0.00,2,    1.64,2,   2.163,2,   1.090,2,-999.000,1,    0.206,2,  2153.7,2,  2287.2,2,   7.7251,2,    25.00,-999.000,9,-999.0000,9, -999.00,9, -999.00,9,  -999.0,9,  -999.0,-999.000,9,-999.000,  -999.0,9,-999.000,-999.0000, -999.00,   6.5311,   6.5991,2,20091220,       0538
318M20091121,        P06,      99,          1,         22,         22,2,20091220,       0332,   -32.4998,  -167.4363,       5600,   840.9,   6.0538,  34.3492,  34.3483,2,    221.6,2,   221.2,2,   13.69,2,   25.66,2,    0.00,2,    1.78,2,   1.541,2,   0.774,2,-999.000,1,     0.17,2,  2167.3,2,  2289.3,2,   7.7029,2,    25.00,-999.000,9,-999.0000,9, -999.00,9, -999.00,9,  -999.0,9,  -999.0,-999.000,9,-999.000,  -999.0,9,-999.000,-999.0000, -999.00,   5.9782,   6.0575,2,20091220,       0534
318M20091121,        P06,      99,          1,         21,         21,2,20091220,       0332,   -32.4998,  -167.4363,       5600,   941.9,   5.4737,  34.3360,  34.3350,2,    211.5,2,   211.8,2,   19.44,2,   27.61,2,    0.00,2,    1.93,2,   1.046,2,   0.512,2,-999.000,1,    0.171,2,  2179.0,2,  2287.1,2,   7.6802,2,    25.00,-999.000,9,-999.0000,9, -999.00,9, -999.00,9,  -999.0,9,  -999.0,-999.000,9,-999.000,  -999.0,9,-999.000,-999.0000, -999.00,   5.3925,   5.4716,2,20091220,       0531
318M20091121,        P06,      99,          1,         20,         20,2,20091220,       0332,   -32.4998,  -167.4363,       5600,  1043.2,   4.6942,  34.3413,  34.3411,2,    201.1,2,   199.4,2,   29.35,2,   29.98,2,    0.00,2,    2.09,2,   0.599,2,   0.304,2,-999.000,1,        0,2,  2196.3,2,  2297.9,2,   7.6487,2,    25.00,-999.000,9,-999.0000,9, -999.00,9, -999.00,9,  -999.0,9,  -999.0,-999.000,9,-999.000,  -999.0,9,-999.000,-999.0000, -999.00,   4.6097,   4.6969,2,20091220,       0529
318M20091121,        P06,      99,          1,         19,         19,2,20091220,       0332,   -32.4998,  -167.4363,       5600,  1144.9,   4.0525,  34.3671,  34.3662,2,    190.6,2,   189.8,2,   39.72,2,   31.62,2,    0.00,2,    2.21,2,   0.328,2,   0.166,2,-999.000,1,        0,2,  -999.0,9,  2307.6,2,-999.0000,9,  -999.00,-999.000,9,-999.0000,9, -999.00,9, -999.00,9,  -999.0,9,  -999.0,-999.000,9,-999.000,  -999.0,9,-999.000,-999.0000, -999.00,   3.9644,   4.0493,2,20091220,       0525
318M20091121,        P06,      99,          1,         18,         18,2,20091220,       0332,   -32.4998,  -167.4363,       5600,  1245.9,   3.6338,  34.4010,  34.3995,2,    183.1,2,   182.5,2,   48.45,2,   32.56,2,    0.00,2,    2.29,2,   0.180,2,   0.098,2,-999.000,1,        0,2,  2229.2,2,  2317.6,2,   7.6095,2,    25.00,-999.000,9,-999.0000,9, -999.00,9, -999.00,9,  -999.0,9,  -999.0,-999.000,9,-999.000,  -999.0,9,-999.000,-999.0000, -999.00,   3.5409,   3.6378,2,20091220,       0522
318M20091121,        P06,      99,          1,         17,         17,2,20091220,       0332,   -32.4998,  -167.4363,       5600,  1347.3,   3.2490,  34.4424,  34.4413,2,    175.8,2,   175.3,2,   58.28,2,   33.36,2,    0.00,2,    2.35,2,   0.095,2,   0.052,2,-999.000,1,        0,2,  -999.0,9,  2329.0,2,-999.0000,9,  -999.00,-999.000,9,-999.0000,9, -999.00,9, -999.00,9,  -999.0,9,  -999.0,-999.000,9,-999.000,  -999.0,9,-999.000,-999.0000, -999.00,   3.1514,   3.2480,2,20091220,       0519
318M20091121,        P06,      99,          1,         16,         16,2,20091220,       0332,   -32.4998,  -167.4363,       5600,  1476.0,   2.8931,  34.5079,  34.5095,2,    167.7,2,   166.5,2,   71.93,2,   33.93,2,    0.00,2,    2.39,2,   0.033,2,   0.019,2,-999.000,1,        0,2,  2254.1,2,  2345.6,2,   7.5867,2,    25.00,-999.000,9,-999.0000,9, -999.00,9, -999.00,9,  -999.0,9,  -999.0,-999.000,9,-999.000,  -999.0,9,-999.000,-999.0000, -999.00,   2.7886,   2.8911,2,20091220,       0516
318M20091121,        P06,      99,          1,         15,         15,2,20091220,       0332,   -32.4998,  -167.4363,       5600,  1677.8,   2.5805,  34.5777,  34.5768,2,    158.1,2,   157.8,2,   90.10,2,   34.31,2,    0.00,2,    2.43,2,   0.017,2,   0.011,2,-999.000,1,        0,2,  -999.0,9,  2366.7,2,-999.0000,9,  -999.00,-999.000,9,-999.0000,9, -999.00,9, -999.00,9,  -999.0,9,  -999.0,-999.000,9,-999.000,  -999.0,9,-999.000,-999.0000, -999.00,   2.4629,   2.5801,2,20091220,       0511
318M20091121,        P06,      99,          1,         14,         14,2,20091220,       0332,   -32.4998,  -167.4363,       5600,  1883.2,   2.3809,  34.6118,  34.6110,2,    152.2,2,   152.6,2,  103.25,2,   34.68,2,    0.00,2,    2.46,2,   0.016,2,   0.014,2,-999.000,1,        0,2,  -999.0,9,  2382.8,2,-999.0000,9,  -999.00,-999.000,9,-999.0000,9, -999.00,9, -999.00,9,  -999.0,9,  -999.0,-999.000,9,-999.000,  -999.0,9,-999.000,-999.0000, -999.00,   2.2487,   2.3801,2,20091220,       0506
318M20091121,        P06,      99,          1,         13,         13,2,20091220,       0332,   -32.4998,  -167.4363,       5600,  2106.5,   2.2176,  34.6312,  34.6309,2,    149.3,2,   149.2,2,  112.59,2,   34.96,2,    0.00,2,    2.48,2,   0.016,2,   0.012,2,-999.000,1,        0,2,  2302.6,2,  2388.8,2,   7.5820,2,    25.00,-999.000,9,-999.0000,9, -999.00,9, -999.00,9,  -999.0,9,  -999.0,-999.000,9,-999.000,  -999.0,9,-999.000,-999.0000, -999.00,   2.0687,   2.2176,2,20091220,       0500
318M20091121,        P06,      99,          1,         12,         12,2,20091220,       0332,   -32.4998,  -167.4363,       5600,  2360.0,   2.0662,  34.6450,  34.6447,2,    147.2,2,   147.3,2,  120.47,2,   35.25,2,    0.00,2,    2.50,2,   0.015,2,   0.013,2,-999.000,1,        0,2,  -999.0,9,  2396.7,2,-999.0000,9,  -999.00,-999.000,9,-999.0000,9, -999.00,9, -999.00,9,  -999.0,9,  -999.0,-999.000,9,-999.000,  -999.0,9,-999.000,-999.0000, -999.00,   1.8974,   2.0665,2,20091220,       0454
318M20091121,        P06,      99,          1,         11,         11,2,20091220,       0332,   -32.4998,  -167.4363,       5600,  2614.6,   1.9607,  34.6543,  34.6540,2,    147.2,2,   146.9,2,  125.14,2,   35.29,2,    0.00,2,    2.51,2,   0.011,2,   0.008,2,-999.000,1,        0,2,  -999.0,9,  2405.0,2,-999.0000,9,  -999.00,-999.000,9,-999.0000,9, -999.00,9, -999.00,9,  -999.0,9,  -999.0,-999.000,9,-999.000,  -999.0,9,-999.000,-999.0000, -999.00,   1.7706,   1.9605,2,20091220,       0448
318M20091121,        P06,      99,          1,         10,         10,2,20091220,       0332,   -32.4998,  -167.4363,       5600,  2869.3,   1.8817,  34.6619,  34.6618,2,    148.6,2,   148.4,2,  128.31,2,   35.25,2,    0.00,2,    2.51,2,   0.009,2,   0.006,2,-999.000,1,        0,2,  -999.0,9,  2410.7,2,-999.0000,9,  -999.00,-999.000,9,-999.0000,9, -999.00,9, -999.00,9,  -999.0,9,  -999.0,-999.000,9,-999.000,  -999.0,9,-999.000,-999.0000, -999.00,   1.6692,   1.8814,2,20091220,       0442
318M20091121,        P06,      99,          1,          9,          9,2,20091220,       0332,   -32.4998,  -167.4363,       5600,  3140.2,   1.7717,  34.6739,  34.6736,2,    153.8,2,   153.9,2,  128.70,2,   34.82,2,    0.00,2,    2.47,2,   0.010,2,   0.006,2,-999.000,1,        0,2,  2313.8,2,  2407.7,2,   7.5876,2,    25.00,-999.000,9,-999.0000,9, -999.00,9, -999.00,9,  -999.0,9,  -999.0,-999.000,9,-999.000,  -999.0,9,-999.000,-999.0000, -999.00,   1.5352,   1.7719,2,20091220,       0436
318M20091121,        P06,      99,          1,          8,          8,2,20091220,       0332,   -32.4998,  -167.4363,       5600,  3446.6,   1.6717,  34.6916,  34.6910,2,    167.1,2,   167.7,2,  122.25,2,   33.64,2,    0.00,2,    2.38,2,   0.018,2,   0.013,2,-999.000,1,        0,2,  -999.0,9,  2391.9,2,-999.0000,9,  -999.00,-999.000,9,-999.0000,9, -999.00,9, -999.00,9,  -999.0,9,  -999.0,-999.000,9,-999.000,  -999.0,9,-999.000,-999.0000, -999.00,   1.4066,   1.6719,2,20091220,       0429
318M20091121,        P06,      99,          1,          7,          7,2,20091220,       0332,   -32.4998,  -167.4363,       5600,  3755.4,   1.5097,  34.7131,  34.7130,2,    188.9,2,   189.0,2,  111.97,2,   31.99,2,    0.00,2,    2.25,2,   0.018,2,   0.013,2,-999.000,1,        0,2,  -999.0,9,  2373.0,2,-999.0000,9,  -999.00,-999.000,9,-999.0000,9, -999.00,9, -999.00,9,  -999.0,9,  -999.0,-999.000,9,-999.000,  -999.0,9,-999.000,-999.0000, -999.00,   1.2165,   1.5092,2,20091220,       0422
318M20091121,        P06,      99,          1,          6,          6,2,20091220,       0332,   -32.4998,  -167.4363,       5600,  4061.0,   1.2842,  34.7178,  34.7173,2,    200.0,2,   200.0,2,  112.36,2,   31.38,2,    0.00,2,    2.21,2,   0.034,2,   0.019,2,-999.000,1,        0,2,  2262.3,2,  2372.2,2,   7.6317,4,    25.00,-999.000,9,-999.0000,9, -999.00,9, -999.00,9,  -999.0,9,  -999.0,-999.000,9,-999.000,  -999.0,9,-999.000,-999.0000, -999.00,   0.9645,   1.2843,2,20091220,       0415
318M20091121,        P06,      99,          1,          5,          5,2,20091220,       0332,   -32.4998,  -167.4363,       5600,  4368.7,   1.1186,  34.7134,  34.7126,2,    204.3,2,   204.5,2,  117.03,2,   31.43,2,    0.00,2,    2.21,2,   0.055,2,   0.031,2,-999.000,1,        0,2,  -999.0,9,  2370.5,2,-999.0000,9,  -999.00,-999.000,9,-999.0000,9, -999.00,9, -999.00,9,  -999.0,9,  -999.0,-999.000,9,-999.000,  -999.0,9,-999.000,-999.0000, -999.00,   0.7700,   1.1189,2,20091220,       0408
318M20091121,        P06,      99,          1,          4,          4,2,20091220,       0332,   -32.4998,  -167.4363,       5600,  4676.5,   1.0489,  34.7101,  34.7097,2,    206.4,2,   206.0,2,  119.78,2,   31.57,2,    0.00,2,    2.22,2,   0.065,2,   0.037,2,-999.000,1,        0,2,  -999.0,9,  2371.4,2,-999.0000,9,  -999.00,-999.000,9,-999.0000,9, -999.00,9, -999.00,9,  -999.0,9,  -999.0,-999.000,9,-999.000,  -999.0,9,-999.000,-999.0000, -999.00,   0.6676,   1.0492,2,20091220,       0402
318M20091121,        P06,      99,          1,          3,          3,2,20091220,       0332,   -32.4998,  -167.4363,       5600,  4984.6,   1.0424,  34.7085,  34.7075,2,    207.0,2,   206.6,2,  121.03,2,   31.62,2,    0.00,2,    2.22,2,   0.074,2,   0.040,2,-999.000,1,        0,2,  2262.3,2,  2373.3,2,   7.6235,2,    25.00,-999.000,9,-999.0000,9, -999.00,9, -999.00,9,  -999.0,9,  -999.0,-999.000,9,-999.000,  -999.0,9,-999.000,-999.0000, -999.00,   0.6253,   1.0423,2,20091220,       0354
318M20091121,        P06,      99,          1,          2,          2,2,20091220,       0332,   -32.4998,  -167.4363,       5600,  5358.1,   1.0792,  34.7081,  34.7077,2,    206.4,2,   206.6,2,  121.42,2,   31.62,2,    0.00,2,    2.22,2,   0.083,2,   0.046,2,-999.000,1,        0,2,  -999.0,9,  2365.7,2,-999.0000,9,  -999.00,-999.000,9,-999.0000,9, -999.00,9, -999.00,9,  -999.0,9,  -999.0,-999.000,9,-999.000,  -999.0,9,-999.000,-999.0000, -999.00,   0.6155,   1.0792,2,20091220,       0344
318M20091121,        P06,      99,          1,          1,          1,2,20091220,       0332,   -32.4998,  -167.4363,       5600,  5735.1,   1.1291,  34.7079,  34.7079,2,    207.1,2,   206.9,2,  121.61,2,   31.66,2,    0.00,2,    2.23,2,   0.092,2,   0.049,2,-999.000,1,        0,2,  2262.2,6,  2366.8,6,   7.6240,6,    25.00,-999.000,9,-999.0000,9, -999.00,9, -999.00,9,  -999.0,9,  -999.0,-999.000,9,-999.000,  -999.0,9,-999.000,-999.0000, -999.00,   0.6159,   1.1289,2,20091220,       0332