BOTTLE,20220818CCHSIOAMB
EXPOCODE,SECT_ID,STNNBR,CASTNO,SAMPNO,BTLNBR,BTLNBR_FLAG_W,DATE,TIME,LATITUDE,LONGITUDE,DEPTH,CTDPRS,CTDTMP,CTDSAL,SALNTY,SALNTY_FLAG_W,CTDOXY,CTDOXY_FLAG_W,OXYGEN,OXYGEN_FLAG_W,SILCAT,SILCAT_FLAG_W,NITRAT,NITRAT_FLAG_W,NITRIT,NITRIT_FLAG_W,PHSPHT,PHSPHT_FLAG_W,CFC-11,CFC-11_FLAG_W,CFC-12,CFC-12_FLAG_W,CFC113,CFC113_FLAG_W,SF6,SF6_FLAG_W,TCARBN,TCARBN_FLAG_W,ALKALI,ALKALI_FLAG_W,PH_SWS,PH_SWS_FLAG_W,PH_TMP,TRITUM,TRITUM_FLAG_W,HELIUM,HELIUM_FLAG_W,DELHE3,DELHE3_FLAG_W,DELC13,DELC13_FLAG_W,DELC14,DELC14_FLAG_W,C14ERR,NEON,NEON_FLAG_W,NEONER,DOC,DOC_FLAG_W,TRITER,HELIER,DELHER,THETA,SBE35,SBE35_FLAG_W,BTL_DATE,BTL_TIME
,,,,,,,,,,,METERS,DBAR,ITS-90,PSS-78,PSS-78,,UMOL/KG,,UMOL/KG,,UMOL/KG,,UMOL/KG,,UMOL/KG,,UMOL/KG,,PMOL/KG,,PMOL/KG,,PMOL/KG,,FMOL/KG,,UMOL/KG,,UMOL/KG,,,,DEG C,TU,,NMOL/KG,,PERCNT,,/MILLE,,/MILLE,,/MILLE,NMOL/KG,,NMOL/KG,UMOL/KG,,TU,NMOL/KG,PERCNT,DEG C,ITS-90,,,
318M20091121,        P06,      36,          1,         31,         31,2,20091201,       0612,   -30.0796,   164.8290,       3383,     5.0,  22.2409,  35.7564,  35.7563,2,    221.8,2,   222.3,2,    0.34,2,    0.00,2,    0.00,2,    0.08,2,   2.265,6,   1.354,6,-999.000,1,   1.1795,6,  2035.6,6,  2339.8,6,   8.0431,2,    25.00,-999.000,9,-999.0000,9, -999.00,9, -999.00,9,  -999.0,9,  -999.0,-999.000,9,-999.000,    57.4,2,-999.000,-999.0000, -999.00,  22.2399,  22.2408,2,20091201,       0810
318M20091121,        P06,      36,          1,         30,         30,2,20091201,       0612,   -30.0796,   164.8290,       3383,    35.4,  19.8433,  35.6554,  35.6529,2,    240.4,2,   241.1,2,    0.12,2,    0.03,2,    0.00,2,    0.07,2,   2.466,2,   1.465,2,-999.000,1,    1.296,2,  2027.0,2,  2331.0,2,   8.0500,2,    25.00,-999.000,9,-999.0000,9, -999.00,9, -999.00,9,  -999.0,9,  -999.0,-999.000,9,-999.000,    54.1,2,-999.000,-999.0000, -999.00,  19.8368,  19.8495,2,20091201,       0806
318M20091121,        P06,      36,          1,         29,         29,2,20091201,       0612,   -30.0796,   164.8290,       3383,    60.7,  18.7789,  35.6138,  35.6120,2,    237.8,2,   237.1,2,    0.10,2,    0.04,2,    0.00,2,    0.10,2,   2.524,2,   1.479,2,-999.000,1,    1.269,2,  2033.8,2,  2329.6,2,   8.0353,2,    25.00,-999.000,9,-999.0000,9, -999.00,9, -999.00,9,  -999.0,9,  -999.0,-999.000,9,-999.000,    51.2,2,-999.000,-999.0000, -999.00,  18.7682,  18.7826,2,20091201,       0803
318M20091121,        P06,      36,          1,         28,         28,2,20091201,       0612,   -30.0796,   164.8290,       3383,    86.0,  18.1165,  35.5863,  35.5841,2,    222.0,2,   215.1,2,    0.66,2,    1.76,2,    0.12,2,    0.25,2,   2.524,2,   1.479,2,-999.000,1,    1.238,2,  2055.3,2,  2328.2,2,   7.9940,2,    25.00,-999.000,9,-999.0000,9, -999.00,9, -999.00,9,  -999.0,9,  -999.0,-999.000,9,-999.000,    48.1,2,-999.000,-999.0000, -999.00,  18.1016,  18.1127,2,20091201,       0800
318M20091121,        P06,      36,          1,         27,         27,2,20091201,       0612,   -30.0796,   164.8290,       3383,   114.1,  17.6852,  35.5672,  35.5664,2,    205.8,2,   201.9,2,    1.05,2,    4.34,2,    0.03,2,    0.39,2,   2.516,2,   1.476,2,-999.000,1,    1.254,2,  2069.7,2,  2328.3,2,   7.9668,2,    25.00,-999.000,9,-999.0000,9, -999.00,9, -999.00,9,  -999.0,9,  -999.0,-999.000,9,-999.000,    49.4,2,-999.000,-999.0000, -999.00,  17.6658,  17.6840,2,20091201,       0757
318M20091121,        P06,      36,          1,         26,         26,2,20091201,       0612,   -30.0796,   164.8290,       3383,   166.4,  16.9544,  35.5370,  35.5354,2,    208.0,2,   208.2,2,    1.22,2,    4.50,2,    0.02,2,    0.41,2,   2.595,2,   1.506,2,-999.000,1,    1.199,2,  2075.6,2,  2326.8,2,   7.9551,2,    25.00,-999.000,9,-999.0000,9, -999.00,9, -999.00,9,  -999.0,9,  -999.0,-999.000,9,-999.000,    48.9,2,-999.000,-999.0000, -999.00,  16.9269,  16.9524,2,20091201,       0754
318M20091121,        P06,      36,          1,         25,         25,2,20091201,       0612,   -30.0796,   164.8290,       3383,   216.1,  16.0328,  35.4801,  35.4795,2,    206.8,2,   206.5,2,    1.59,2,    6.19,2,    0.01,2,    0.52,2,   2.658,2,   1.534,2,-999.000,1,    1.194,2,  2077.1,2,  2322.2,2,   7.9297,2,    25.00,-999.000,9,-999.0000,9, -999.00,9, -999.00,9,  -999.0,9,  -999.0,-999.000,9,-999.000,    49.3,2,-999.000,-999.0000, -999.00,  15.9984,  16.0341,2,20091201,       0752
318M20091121,        P06,      36,          1,         24,         24,2,20091201,       0612,   -30.0796,   164.8290,       3383,   266.5,  15.0510,  35.3847,  35.3845,2,    196.5,2,   197.9,2,    2.37,2,    8.44,2,    0.01,2,    0.66,2,   2.677,2,   1.514,2,-999.000,1,    1.073,2,  2091.3,2,  2316.5,2,   7.8952,2,    25.00,-999.000,9,-999.0000,9, -999.00,9, -999.00,9,  -999.0,9,  -999.0,-999.000,9,-999.000,    49.3,2,-999.000,-999.0000, -999.00,  15.0103,  15.0466,2,20091201,       0749
318M20091121,        P06,      36,          1,         23,         23,2,20091201,       0612,   -30.0796,   164.8290,       3383,   317.3,  14.0989,  35.2890,  35.2928,2,    194.5,2,   196.7,2,    3.14,2,   10.15,2,    0.01,2,    0.76,2,   2.709,2,   1.517,2,-999.000,1,    1.081,2,  2101.1,2,  2312.8,2,   7.8671,2,    25.00,-999.000,9,-999.0000,9, -999.00,9, -999.00,9,  -999.0,9,  -999.0,-999.000,9,-999.000,    44.2,2,-999.000,-999.0000, -999.00,  14.0525,  14.1123,2,20091201,       0747
318M20091121,        P06,      36,          1,         22,         22,2,20091201,       0612,   -30.0796,   164.8290,       3383,   367.3,  12.9819,  35.1601,  35.1600,2,    194.6,2,   195.4,2,    3.91,2,   12.35,2,    0.01,2,    0.91,2,   2.702,2,   1.484,2,-999.000,1,    0.958,2,  2110.3,2,  2311.9,2,   7.8358,2,    25.00,-999.000,9,-999.0000,9, -999.00,9, -999.00,9,  -999.0,9,  -999.0,-999.000,9,-999.000,    44.8,2,-999.000,-999.0000, -999.00,  12.9310,  12.9819,2,20091201,       0744
318M20091121,        P06,      36,          1,         21,         21,2,20091201,       0612,   -30.0796,   164.8290,       3383,   417.5,  11.5567,  34.9339,  34.9335,2,    194.1,2,   193.4,2,    4.89,2,   15.18,2,    0.00,2,    1.09,2,   2.617,2,   1.396,2,-999.000,1,    0.763,2,  2119.8,2,  2302.2,2,   7.7971,2,    25.00,-999.000,9,-999.0000,9, -999.00,9, -999.00,9,  -999.0,9,  -999.0,-999.000,9,-999.000,    41.2,2,-999.000,-999.0000, -999.00,  11.5031,  11.5569,2,20091201,       0742
318M20091121,        P06,      36,          1,         20,         20,2,20091201,       0612,   -30.0796,   164.8290,       3383,   467.2,  11.0437,  34.9197,  34.9194,2,    194.9,2,   195.6,2,    5.86,2,   16.34,2,    0.00,2,    1.16,2,   2.573,2,   1.367,2,-999.000,1,    0.716,2,  2125.2,2,  2301.1,2,   7.7741,2,    25.00,-999.000,9,-999.0000,9, -999.00,9, -999.00,9,  -999.0,9,  -999.0,-999.000,9,-999.000,    41.8,2,-999.000,-999.0000, -999.00,  10.9853,  11.0458,2,20091201,       0739
318M20091121,        P06,      36,          1,         19,         19,2,20091201,       0612,   -30.0796,   164.8290,       3383,   538.1,   9.7470,  34.7665,  34.7670,2,    196.8,2,   197.2,2,    8.23,2,   18.97,2,    0.00,2,    1.34,2,   1.424,4,   1.273,4,-999.000,1,    0.626,4,  2133.4,2,  2294.5,2,   7.7544,2,    25.00,-999.000,9,-999.0000,9, -999.00,9, -999.00,9,  -999.0,9,  -999.0,-999.000,9,-999.000,    39.0,2,-999.000,-999.0000, -999.00,   9.6846,   9.7425,2,20091201,       0736
318M20091121,        P06,      36,          1,         18,         18,2,20091201,       0612,   -30.0796,   164.8290,       3383,   639.6,   8.5924,  34.6500,  34.6432,2,    196.5,2,   198.3,2,   11.81,2,   21.65,2,    0.00,2,    1.52,2,   2.151,2,   1.119,2,-999.000,1,    0.535,2,  2144.1,2,  2291.8,2,   7.7263,2,    25.00,-999.000,9,-999.0000,9, -999.00,9, -999.00,9,  -999.0,9,  -999.0,-999.000,9,-999.000,  -999.0,9,-999.000,-999.0000, -999.00,   8.5234,   8.5771,2,20091201,       0732
318M20091121,        P06,      36,          1,         17,         17,2,20091201,       0612,   -30.0796,   164.8290,       3383,   740.2,   7.3541,  34.5215,  34.5213,2,    201.7,2,   202.2,2,   15.80,2,   23.88,2,    0.00,2,    1.66,2,   2.165,4,   1.208,4,-999.000,1,    0.833,4,  2150.7,2,  2291.4,2,   7.7046,2,    25.00,-999.000,9,-999.0000,9, -999.00,9, -999.00,9,  -999.0,9,  -999.0,-999.000,9,-999.000,    36.4,2,-999.000,-999.0000, -999.00,   7.2806,   7.3426,2,20091201,       0729
318M20091121,        P06,      36,          1,         16,         16,2,20091201,       0612,   -30.0796,   164.8290,       3383,   842.5,   6.5760,  34.4816,  34.4859,2,    200.8,2,   197.5,2,   22.21,2,   25.78,2,    0.00,2,    1.81,2,   1.286,2,   0.646,2,-999.000,1,    0.149,2,  2163.5,2,  2299.6,2,   7.6880,2,    25.00,-999.000,9,-999.0000,9, -999.00,9, -999.00,9,  -999.0,9,  -999.0,-999.000,9,-999.000,  -999.0,9,-999.000,-999.0000, -999.00,   6.4967,   6.5649,2,20091201,       0725
318M20091121,        P06,      36,          1,         15,         15,2,20091201,       0612,   -30.0796,   164.8290,       3383,   941.6,   5.9048,  34.4794,  34.4790,2,    189.0,2,   189.1,2,   31.27,2,   27.72,2,    0.00,2,    1.95,2,   0.887,2,   0.446,2,-999.000,1,    0.184,2,  2180.2,2,  2306.9,2,   7.6635,2,    25.00,-999.000,9,-999.0000,9, -999.00,9, -999.00,9,  -999.0,9,  -999.0,-999.000,9,-999.000,    42.3,3,-999.000,-999.0000, -999.00,   5.8203,   5.9053,2,20091201,       0722
318M20091121,        P06,      36,          1,         14,         14,2,20091201,       0612,   -30.0796,   164.8290,       3383,  1041.5,   5.4193,  34.4897,  34.4897,2,    182.0,2,   184.1,2,   39.57,2,   28.97,2,    0.00,2,    2.03,2,   0.700,2,   0.355,2,-999.000,1,    0.084,2,  2192.8,2,  2314.7,6,   7.6535,6,    25.00,-999.000,9,-999.0000,9, -999.00,9, -999.00,9,  -999.0,9,  -999.0,-999.000,9,-999.000,  -999.0,9,-999.000,-999.0000, -999.00,   5.3289,   5.4187,2,20091201,       0719
318M20091121,        P06,      36,          1,         13,         13,2,20091201,       0612,   -30.0796,   164.8290,       3383,  1144.5,   4.8433,  34.4929,  34.4942,2,    176.9,2,   176.6,2,   49.11,2,   30.28,2,    0.00,2,    2.12,2,   0.509,2,   0.262,2,-999.000,1,        0,2,  2207.7,2,  2319.9,2,   7.6336,2,    25.00,-999.000,9,-999.0000,9, -999.00,9, -999.00,9,  -999.0,9,  -999.0,-999.000,9,-999.000,    36.2,2,-999.000,-999.0000, -999.00,   4.7481,   4.8493,2,20091201,       0715
318M20091121,        P06,      36,          1,         12,         12,2,20091201,       0612,   -30.0796,   164.8290,       3383,  1245.7,   4.4197,  34.5141,  34.5133,2,    171.8,2,   171.4,2,   58.28,2,   31.13,2,    0.00,2,    2.20,2,   0.432,2,   0.258,2,-999.000,1,    0.627,4,  2220.5,2,  2331.4,2,   7.6212,2,    25.00,-999.000,9,-999.0000,9, -999.00,9, -999.00,9,  -999.0,9,  -999.0,-999.000,9,-999.000,  -999.0,9,-999.000,-999.0000, -999.00,   4.3192,   4.4198,2,20091201,       0711
318M20091121,        P06,      36,          1,         11,         11,2,20091201,       0612,   -30.0796,   164.8290,       3383,  1346.0,   3.8931,  34.5293,  34.5288,2,    166.3,2,   166.6,2,   68.52,2,   32.14,2,    0.00,2,    2.27,2,   0.594,4,   0.806,4,-999.000,1,    7.327,4,  2234.6,2,  2344.8,2,   7.6102,2,    25.00,-999.000,9,-999.0000,9, -999.00,9, -999.00,9,  -999.0,9,  -999.0,-999.000,9,-999.000,    37.2,2,-999.000,-999.0000, -999.00,   3.7888,   3.8939,2,20091201,       0708
318M20091121,        P06,      36,          1,         10,         10,2,20091201,       0612,   -30.0796,   164.8290,       3383,  1449.2,   3.4736,  34.5559,  34.5552,2,    160.4,2,   159.6,2,   78.99,2,   33.09,2,    0.00,2,    2.34,2,   0.131,2,   0.075,2,-999.000,1,        0,2,  2250.2,2,  2355.6,2,   7.6019,4,    25.00,-999.000,9,-999.0000,9, -999.00,9, -999.00,9,  -999.0,9,  -999.0,-999.000,9,-999.000,  -999.0,9,-999.000,-999.0000, -999.00,   3.3648,   3.4767,2,20091201,       0704
318M20091121,        P06,      36,          1,          9,          9,2,20091201,       0612,   -30.0796,   164.8290,       3383,  1549.5,   3.1294,  34.5811,  34.5802,2,    156.1,2,   155.5,2,   87.65,2,   33.36,2,    0.00,2,    2.39,2,   0.081,2,   0.046,2,-999.000,1,        0,2,  2261.3,2,  2367.7,2,   7.5891,2,    25.00,-999.000,9,-999.0000,9, -999.00,9, -999.00,9,  -999.0,9,  -999.0,-999.000,9,-999.000,    37.7,2,-999.000,-999.0000, -999.00,   3.0159,   3.1317,2,20091201,       0701
318M20091121,        P06,      36,          1,          8,          8,2,20091201,       0612,   -30.0796,   164.8290,       3383,  1678.7,   2.8186,  34.6044,  34.6039,2,    152.9,2,   153.0,2,   95.91,2,   34.16,2,    0.00,2,    2.43,2,   0.036,2,   0.024,2,-999.000,1,        0,2,  2270.0,2,  2370.1,2,   7.5854,2,    25.00,-999.000,9,-999.0000,9, -999.00,9, -999.00,9,  -999.0,9,  -999.0,-999.000,9,-999.000,  -999.0,9,-999.000,-999.0000, -999.00,   2.6978,   2.8180,2,20091201,       0656
318M20091121,        P06,      36,          1,          7,          7,2,20091201,       0612,   -30.0796,   164.8290,       3383,  1883.8,   2.4834,  34.6318,  34.6322,2,    151.8,2,   152.0,2,  103.78,2,   34.42,2,    0.00,2,    2.44,2,   0.023,2,   0.017,2,-999.000,1,        0,2,  2280.2,2,  2378.4,2,   7.5826,2,    25.00,-999.000,9,-999.0000,9, -999.00,9, -999.00,9,  -999.0,9,  -999.0,-999.000,9,-999.000,    36.2,2,-999.000,-999.0000, -999.00,   2.3496,   2.4838,2,20091201,       0651
318M20091121,        P06,      36,          1,          6,          6,2,20091201,       0612,   -30.0796,   164.8290,       3383,  2105.2,   2.2429,  34.6530,  34.6533,2,    152.9,2,   153.3,2,  108.95,2,   34.48,2,    0.00,2,    2.44,2,   0.010,2,   0.006,2,-999.000,1,        0,2,  2287.2,2,  2386.8,2,   7.5835,2,    25.00,-999.000,9,-999.0000,9, -999.00,9, -999.00,9,  -999.0,9,  -999.0,-999.000,9,-999.000,  -999.0,9,-999.000,-999.0000, -999.00,   2.0936,   2.2427,2,20091201,       0645
318M20091121,        P06,      36,          1,          5,          5,2,20091201,       0612,   -30.0796,   164.8290,       3383,  2359.2,   2.0824,  34.6677,  34.6675,2,    154.5,2,   154.7,2,  112.24,2,   34.43,2,    0.00,2,    2.44,2,   0.018,2,   0.012,2,-999.000,1,        0,2,  2289.7,2,  2395.3,2,   7.5847,2,    25.00,-999.000,9,-999.0000,9, -999.00,9, -999.00,9,  -999.0,9,  -999.0,-999.000,9,-999.000,    35.9,2,-999.000,-999.0000, -999.00,   1.9133,   2.0823,2,20091201,       0639
318M20091121,        P06,      36,          1,          4,          4,2,20091201,       0612,   -30.0796,   164.8290,       3383,  2614.3,   2.0011,  34.6757,  34.6759,2,    155.5,2,   155.4,2,  114.30,2,   34.44,2,    0.00,2,    2.43,2,   0.018,2,   0.013,2,-999.000,1,        0,2,  2291.7,2,  2398.1,2,   7.5879,2,    25.00,-999.000,9,-999.0000,9, -999.00,9, -999.00,9,  -999.0,9,  -999.0,-999.000,9,-999.000,  -999.0,9,-999.000,-999.0000, -999.00,   1.8101,   2.0008,2,20091201,       0633
318M20091121,        P06,      36,          1,          3,          3,2,20091201,       0612,   -30.0796,   164.8290,       3383,  2871.7,   1.9521,  34.6811,  34.6813,2,    156.7,2,   156.4,2,  115.75,2,   34.34,2,    0.00,2,    2.43,2,   0.015,2,   0.011,2,-999.000,1,        0,2,  2293.8,2,  2402.0,2,   7.5899,2,    25.00,-999.000,9,-999.0000,9, -999.00,9, -999.00,9,  -999.0,9,  -999.0,-999.000,9,-999.000,    37.2,2,-999.000,-999.0000, -999.00,   1.7378,   1.9519,2,20091201,       0626
318M20091121,        P06,      36,          1,          2,          2,2,20091201,       0612,   -30.0796,   164.8290,       3383,  3144.5,   1.9265,  34.6841,  34.6848,2,    158.0,2,   158.5,2,  116.56,2,   34.30,2,    0.00,2,    2.42,2,   0.017,2,   0.014,2,-999.000,1,        0,2,  2293.1,2,  2396.9,2,   7.5916,2,    25.00,-999.000,9,-999.0000,9, -999.00,9, -999.00,9,  -999.0,9,  -999.0,-999.000,9,-999.000,  -999.0,9,-999.000,-999.0000, -999.00,   1.6860,   1.9271,2,20091201,       0619
318M20091121,        P06,      36,          1,          1,          1,2,20091201,       0612,   -30.0796,   164.8290,       3383,  3416.7,   1.9247,  34.6860,  34.6868,2,    159.6,2,   159.4,2,  117.17,2,   34.21,2,    0.00,2,    2.42,2,   0.019,2,   0.016,2,-999.000,1,        0,2,  2294.2,6,  2397.1,6,   7.5945,6,    25.00,-999.000,9,-999.0000,9, -999.00,9, -999.00,9,  -999.0,9,  -999.0,-999.000,9,-999.000,    38.5,2,-999.000,-999.0000, -999.00,   1.6565,   1.9245,2,20091201,       0612