BOTTLE,20220818CCHSIOAMB
EXPOCODE,SECT_ID,STNNBR,CASTNO,SAMPNO,BTLNBR,BTLNBR_FLAG_W,DATE,TIME,LATITUDE,LONGITUDE,DEPTH,CTDPRS,CTDTMP,CTDSAL,SALNTY,SALNTY_FLAG_W,CTDOXY,CTDOXY_FLAG_W,OXYGEN,OXYGEN_FLAG_W,SILCAT,SILCAT_FLAG_W,NITRAT,NITRAT_FLAG_W,NITRIT,NITRIT_FLAG_W,PHSPHT,PHSPHT_FLAG_W,CFC-11,CFC-11_FLAG_W,CFC-12,CFC-12_FLAG_W,CFC113,CFC113_FLAG_W,SF6,SF6_FLAG_W,TCARBN,TCARBN_FLAG_W,ALKALI,ALKALI_FLAG_W,PH_SWS,PH_SWS_FLAG_W,PH_TMP,TRITUM,TRITUM_FLAG_W,HELIUM,HELIUM_FLAG_W,DELHE3,DELHE3_FLAG_W,DELC13,DELC13_FLAG_W,DELC14,DELC14_FLAG_W,C14ERR,NEON,NEON_FLAG_W,NEONER,DOC,DOC_FLAG_W,TRITER,HELIER,DELHER,THETA,SBE35,SBE35_FLAG_W,BTL_DATE,BTL_TIME
,,,,,,,,,,,METERS,DBAR,ITS-90,PSS-78,PSS-78,,UMOL/KG,,UMOL/KG,,UMOL/KG,,UMOL/KG,,UMOL/KG,,UMOL/KG,,PMOL/KG,,PMOL/KG,,PMOL/KG,,FMOL/KG,,UMOL/KG,,UMOL/KG,,,,DEG C,TU,,NMOL/KG,,PERCNT,,/MILLE,,/MILLE,,/MILLE,NMOL/KG,,NMOL/KG,UMOL/KG,,TU,NMOL/KG,PERCNT,DEG C,ITS-90,,,
318M20091121,        P06,       4,          1,         36,         36,2,20091123,       0627,   -30.0800,   153.6800,       2682,     5.7,  21.1842,  35.4489,  35.4486,2,    224.6,2,   225.5,2,    0.60,2,    0.13,2,    0.01,2,    0.14,2,   1.980,2,   1.205,2,   0.187,2,    1.241,2,  2020.1,6,  2323.5,6,   7.9956,2,    25.00,-999.000,9,-999.0000,9, -999.00,9, -999.00,9,  -999.0,9,  -999.0,-999.000,9,-999.000,    62.0,2,-999.000,-999.0000, -999.00,  21.1831,  21.1859,2,20091123,       0832
318M20091121,        P06,       4,          1,         35,         35,2,20091123,       0627,   -30.0800,   153.6800,       2682,    21.2,  21.1714,  35.4486,  35.4488,2,    223.8,2,   224.4,2,    0.39,2,    0.18,2,    0.01,2,    0.14,2,   1.959,6,   1.195,6,   0.181,2,    1.271,6,  2020.5,2,  2319.1,2,-999.0000,9,  -999.00,-999.000,9,-999.0000,9, -999.00,9, -999.00,9,  -999.0,9,  -999.0,-999.000,9,-999.000,    60.3,2,-999.000,-999.0000, -999.00,  21.1673,  21.1719,2,20091123,       0830
318M20091121,        P06,       4,          1,         34,         34,2,20091123,       0627,   -30.0800,   153.6800,       2682,    41.9,  18.5574,  35.5399,  35.5375,2,    174.4,2,   175.5,2,    2.24,2,    6.12,2,    0.09,2,    0.56,2,-999.000,9,-999.000,9,-999.000,9,-999.0000,9,  2083.1,2,  2324.7,2,   7.9354,3,    25.00,-999.000,9,-999.0000,9, -999.00,9, -999.00,9,  -999.0,9,  -999.0,-999.000,9,-999.000,    54.2,2,-999.000,-999.0000, -999.00,  18.5500,  18.5549,2,20091123,       0828
318M20091121,        P06,       4,          1,         33,         33,2,20091123,       0627,   -30.0800,   153.6800,       2682,    65.9,  18.0283,  35.5747,  35.5733,2,    204.0,2,   203.7,2,    1.42,2,    3.67,2,    0.01,2,    0.37,2,   2.201,2,   1.328,2,   0.164,2,    1.155,2,  2064.3,2,  2325.4,2,   7.9737,2,    25.00,-999.000,9,-999.0000,9, -999.00,9, -999.00,9,  -999.0,9,  -999.0,-999.000,9,-999.000,    55.7,2,-999.000,-999.0000, -999.00,  18.0170,  18.0281,2,20091123,       0825
318M20091121,        P06,       4,          1,         32,         32,2,20091123,       0627,   -30.0800,   153.6800,       2682,    89.9,  17.6762,  35.5633,  35.5626,2,    197.7,2,   198.6,4,    1.62,2,    4.75,2,    0.01,2,    0.44,2,-999.000,9,-999.000,9,-999.000,9,-999.0000,9,  2073.2,2,  2328.2,2,-999.0000,9,  -999.00,-999.000,9,-999.0000,9, -999.00,9, -999.00,9,  -999.0,9,  -999.0,-999.000,9,-999.000,    57.8,2,-999.000,-999.0000, -999.00,  17.6609,  17.6864,2,20091123,       0823
318M20091121,        P06,       4,          1,         31,         31,2,20091123,       0627,   -30.0800,   153.6800,       2682,   114.8,  17.1874,  35.5420,  35.5410,2,    195.6,2,   201.0,2,    1.83,2,    5.18,2,    0.01,2,    0.47,2,   2.223,2,   1.322,2,   0.146,2,    1.123,2,  2076.1,2,  2325.9,2,-999.0000,9,  -999.00,-999.000,9,-999.0000,9, -999.00,9, -999.00,9,  -999.0,9,  -999.0,-999.000,9,-999.000,    54.5,2,-999.000,-999.0000, -999.00,  17.1683,  17.1888,2,20091123,       0820
318M20091121,        P06,       4,          1,         30,         30,2,20091123,       0627,   -30.0800,   153.6800,       2682,   140.5,  16.8226,  35.5154,  35.5181,2,    197.6,2,   198.4,2,    2.03,2,    5.87,2,    0.01,2,    0.51,2,-999.000,9,-999.000,9,-999.000,9,-999.0000,9,  2081.8,2,  2332.6,2,   7.9406,6,    25.00,-999.000,9,-999.0000,9, -999.00,9, -999.00,9,  -999.0,9,  -999.0,-999.000,9,-999.000,    51.8,2,-999.000,-999.0000, -999.00,  16.7995,  16.8825,3,20091123,       0818
318M20091121,        P06,       4,          1,         29,         29,2,20091123,       0627,   -30.0800,   153.6800,       2682,   165.2,  16.2409,  35.4621,  35.4624,2,    189.0,2,   188.8,2,    2.65,2,    7.61,2,    0.01,2,    0.63,2,   2.246,2,   1.330,2,   0.094,2,    0.973,2,  2093.5,2,  2323.0,2,   7.9137,2,    25.00,-999.000,9,-999.0000,9, -999.00,9, -999.00,9,  -999.0,9,  -999.0,-999.000,9,-999.000,  -999.0,5,-999.000,-999.0000, -999.00,  16.2144,  16.2484,2,20091123,       0816
318M20091121,        P06,       4,          1,         28,         28,2,20091123,       0627,   -30.0800,   153.6800,       2682,   190.2,  15.5917,  35.3968,  35.3988,2,    187.1,2,   185.5,2,    3.06,2,    8.87,2,    0.01,2,    0.71,2,-999.000,9,-999.000,9,-999.000,9,-999.0000,9,  2101.6,2,  2320.2,2,   7.8955,2,    25.00,-999.000,9,-999.0000,9, -999.00,9, -999.00,9,  -999.0,9,  -999.0,-999.000,9,-999.000,    46.7,2,-999.000,-999.0000, -999.00,  15.5620,  15.5936,2,20091123,       0814
318M20091121,        P06,       4,          1,         27,         27,2,20091123,       0627,   -30.0800,   153.6800,       2682,   216.0,  14.8656,  35.3252,  35.3244,2,    186.2,2,   185.4,2,    3.67,2,   10.04,2,    0.01,2,    0.79,2,   2.216,2,   1.304,2,   0.075,2,    1.267,2,  2107.5,2,  2333.8,3,-999.0000,9,  -999.00,-999.000,9,-999.0000,9, -999.00,9, -999.00,9,  -999.0,9,  -999.0,-999.000,9,-999.000,    47.4,2,-999.000,-999.0000, -999.00,  14.8330,  14.8597,2,20091123,       0811
318M20091121,        P06,       4,          1,         26,         26,2,20091123,       0627,   -30.0800,   153.6800,       2682,   241.7,  14.2142,  35.2921,  35.2908,2,    191.7,2,   191.7,2,    3.88,2,   10.61,2,    0.00,2,    0.82,2,-999.000,9,-999.000,9,-999.000,9,-999.0000,9,  2111.7,2,  2313.0,2,-999.0000,9,  -999.00,-999.000,9,-999.0000,9, -999.00,9, -999.00,9,  -999.0,9,  -999.0,-999.000,9,-999.000,    52.1,2,-999.000,-999.0000, -999.00,  14.1788,  14.2228,2,20091123,       0809
318M20091121,        P06,       4,          1,         25,         25,2,20091123,       0627,   -30.0800,   153.6800,       2682,   287.4,  12.9683,  35.1791,  35.1783,2,    194.9,2,   196.0,2,    4.70,2,   12.34,2,    0.00,2,    0.95,2,   2.332,2,   1.363,2,   0.116,2,    1.491,3,  2120.5,2,  2308.6,2,   7.8379,2,    25.00,-999.000,9,-999.0000,9, -999.00,9, -999.00,9,  -999.0,9,  -999.0,-999.000,9,-999.000,    50.8,2,-999.000,-999.0000, -999.00,  12.9286,  12.9763,2,20091123,       0806
318M20091121,        P06,       4,          1,         24,         24,2,20091123,       0627,   -30.0800,   153.6800,       2682,   337.6,  11.8782,  35.0472,  35.0555,2,    198.2,2,   197.0,2,    5.53,2,   14.21,2,    0.00,2,    1.07,2,-999.000,9,-999.000,9,-999.000,9,-999.0000,9,  2128.0,2,  2304.1,2,-999.0000,5,  -999.00,-999.000,9,-999.0000,9, -999.00,9, -999.00,9,  -999.0,9,  -999.0,-999.000,9,-999.000,  -999.0,9,-999.000,-999.0000, -999.00,  11.8342,  11.8786,2,20091123,       0803
318M20091121,        P06,       4,          1,         23,         23,2,20091123,       0627,   -30.0800,   153.6800,       2682,   386.3,  10.9621,  34.9147,  34.9167,2,    197.6,2,   195.8,2,    7.15,2,   16.37,2,    0.00,2,    1.22,2,   2.279,2,   1.281,2,   0.121,2,    0.987,2,  2135.1,2,  2296.0,2,-999.0000,9,  -999.00,-999.000,9,-999.0000,9, -999.00,9, -999.00,9,  -999.0,9,  -999.0,-999.000,9,-999.000,    48.4,2,-999.000,-999.0000, -999.00,  10.9142,  10.9608,2,20091123,       0800
318M20091121,        P06,       4,          1,         22,         22,2,20091123,       0627,   -30.0800,   153.6800,       2682,   438.2,  10.3104,  34.8381,  34.8374,2,    197.3,2,   199.1,2,   11.08,3,   17.55,2,    0.00,2,    1.28,2,-999.000,9,-999.000,9,-999.000,9,-999.0000,9,  2139.4,2,  2294.5,2,-999.0000,5,  -999.00,-999.000,9,-999.0000,9, -999.00,9, -999.00,9,  -999.0,9,  -999.0,-999.000,9,-999.000,  -999.0,9,-999.000,-999.0000, -999.00,  10.2580,  10.3108,2,20091123,       0757
318M20091121,        P06,       4,          1,         21,         21,2,20091123,       0627,   -30.0800,   153.6800,       2682,   487.6,   9.5398,  34.7364,  34.7350,2,    199.8,2,   200.0,2,   10.67,2,   19.29,2,    0.00,2,    1.40,2,   2.272,2,   1.246,2,   0.130,2,    1.222,3,  2142.9,2,  2290.9,2,-999.0000,5,  -999.00,-999.000,9,-999.0000,9, -999.00,9, -999.00,9,  -999.0,9,  -999.0,-999.000,9,-999.000,    46.8,2,-999.000,-999.0000, -999.00,   9.4842,   9.5354,2,20091123,       0754
318M20091121,        P06,       4,          1,         20,         20,2,20091123,       0627,   -30.0800,   153.6800,       2682,   567.4,   8.5222,  34.6162,  34.6163,2,    200.2,2,   199.4,2,   12.73,2,   21.74,2,    0.00,2,    1.55,2,   1.933,2,   1.037,2,   0.115,2,     0.59,2,  2150.4,2,  2295.0,2,-999.0000,9,  -999.00,-999.000,9,-999.0000,9, -999.00,9, -999.00,9,  -999.0,9,  -999.0,-999.000,9,-999.000,  -999.0,9,-999.000,-999.0000, -999.00,   8.4615,   8.5206,2,20091123,       0751
318M20091121,        P06,       4,          1,         19,         19,2,20091123,       0627,   -30.0800,   153.6800,       2682,   670.1,   7.3289,  34.5066,  34.5069,2,    197.2,2,   198.0,2,   17.48,2,   24.47,2,    0.00,2,    1.73,2,   1.346,2,   0.702,2,   0.077,2,     0.26,2,  2160.4,2,  -999.0,5,   7.7020,2,    25.00,-999.000,9,-999.0000,9, -999.00,9, -999.00,9,  -999.0,9,  -999.0,-999.000,9,-999.000,    37.7,2,-999.000,-999.0000, -999.00,   7.2628,   7.3293,2,20091123,       0747
318M20091121,        P06,       4,          1,         18,         18,2,20091123,       0627,   -30.0800,   153.6800,       2682,   770.3,   6.4975,  34.4551,  34.4552,2,    193.1,2,   196.1,2,   22.85,2,   26.41,2,    0.00,2,    1.88,2,   0.972,2,   0.505,2,   0.058,2,        0,2,  2171.2,2,  2295.4,2,   7.6829,2,    25.00,-999.000,9,-999.0000,9, -999.00,9, -999.00,9,  -999.0,9,  -999.0,-999.000,9,-999.000,  -999.0,9,-999.000,-999.0000, -999.00,   6.4259,   6.4970,2,20091123,       0743
318M20091121,        P06,       4,          1,         17,         17,2,20091123,       0627,   -30.0800,   153.6800,       2682,   870.9,   5.7541,  34.4475,  34.4473,2,    187.6,2,   187.7,2,   31.97,2,   28.54,2,    0.00,2,    2.02,2,   0.608,2,   0.326,2,   0.036,2,        0,2,  2187.4,6,  2302.0,2,   7.6585,2,    25.00,-999.000,9,-999.0000,9, -999.00,9, -999.00,9,  -999.0,9,  -999.0,-999.000,9,-999.000,    37.7,2,-999.000,-999.0000, -999.00,   5.6774,   5.7580,2,20091123,       0739
318M20091121,        P06,       4,          1,         16,         16,2,20091123,       0627,   -30.0800,   153.6800,       2682,   972.4,   5.1050,  34.4548,  34.4544,2,    180.0,2,   180.4,2,   42.37,2,   30.05,2,    0.00,2,    2.14,2,   0.388,2,   0.219,2,   0.028,2,        0,2,  2204.5,2,  2324.4,3,-999.0000,9,  -999.00,-999.000,9,-999.0000,9, -999.00,9, -999.00,9,  -999.0,9,  -999.0,-999.000,9,-999.000,  -999.0,9,-999.000,-999.0000, -999.00,   5.0235,   5.1043,2,20091123,       0735
318M20091121,        P06,       4,          1,         15,         15,2,20091123,       0627,   -30.0800,   153.6800,       2682,  1072.5,   4.5202,  34.4758,  34.4760,2,    173.4,2,   172.7,2,   53.85,2,   31.53,2,    0.00,2,    2.25,2,   0.234,2,   0.130,2,   0.019,2,        0,2,  2220.8,2,  2312.5,2,   7.6269,2,    25.00,-999.000,9,-999.0000,9, -999.00,9, -999.00,9,  -999.0,9,  -999.0,-999.000,9,-999.000,    36.5,2,-999.000,-999.0000, -999.00,   4.4342,   4.5199,2,20091123,       0732
318M20091121,        P06,       4,          1,         14,         14,2,20091123,       0627,   -30.0800,   153.6800,       2682,  1174.0,   4.0508,  34.5026,  34.5031,2,    165.7,2,   166.2,2,   65.36,2,   32.61,2,    0.00,2,    2.33,2,   0.114,2,   0.069,2,   0.011,2,        0,2,  2237.7,2,  2334.8,2,-999.0000,9,  -999.00,-999.000,9,-999.0000,9, -999.00,9, -999.00,9,  -999.0,9,  -999.0,-999.000,9,-999.000,  -999.0,9,-999.000,-999.0000, -999.00,   3.9600,   4.0513,2,20091123,       0728
318M20091121,        P06,       4,          1,         13,         13,2,20091123,       0627,   -30.0800,   153.6800,       2682,  1272.7,   3.7483,  34.5234,  34.5225,2,    159.9,2,   160.1,2,   73.35,2,   33.29,2,    0.00,2,    2.37,2,   0.071,2,   0.047,2,   0.015,2,        0,2,  1863.4,4,  2345.6,2,   7.5977,6,    25.00,-999.000,9,-999.0000,9, -999.00,9, -999.00,9,  -999.0,9,  -999.0,-999.000,9,-999.000,    37.1,2,-999.000,-999.0000, -999.00,   3.6518,   3.7497,2,20091123,       0724
318M20091121,        P06,       4,          1,         12,         12,2,20091123,       0627,   -30.0800,   153.6800,       2682,  1378.0,   3.4585,  34.5457,  34.5455,2,    155.9,2,   155.9,2,   81.33,2,   33.85,2,    0.00,2,    2.43,2,   0.038,2,   0.027,2,   0.006,2,        0,2,  1961.6,4,  2351.2,2,   7.5909,2,    25.00,-999.000,9,-999.0000,9, -999.00,9, -999.00,9,  -999.0,9,  -999.0,-999.000,9,-999.000,  -999.0,9,-999.000,-999.0000, -999.00,   3.3559,   3.4582,2,20091123,       0720
318M20091121,        P06,       4,          1,         11,         11,2,20091123,       0627,   -30.0800,   153.6800,       2682,  1469.6,   3.1620,  34.5716,  34.5703,2,    153.1,2,   153.0,2,   88.71,2,   34.23,2,    0.00,2,    2.46,2,   0.019,2,   0.076,2,   0.008,2,        0,2,  2269.4,2,  2361.2,6,-999.0000,9,  -999.00,-999.000,9,-999.0000,9, -999.00,9, -999.00,9,  -999.0,9,  -999.0,-999.000,9,-999.000,    36.1,2,-999.000,-999.0000, -999.00,   3.0549,   3.1635,2,20091123,       0716
318M20091121,        P06,       4,          1,         10,         10,2,20091123,       0627,   -30.0800,   153.6800,       2682,  1572.3,   2.9563,  34.5909,  34.5906,2,    151.3,2,   151.4,2,   93.55,2,   34.52,2,    0.00,2,    2.48,2,   0.008,2,   0.012,4,   0.007,2,        0,2,  2275.4,2,  2366.2,2,   7.5968,2,    25.00,-999.000,9,-999.0000,9, -999.00,9, -999.00,9,  -999.0,9,  -999.0,-999.000,9,-999.000,  -999.0,9,-999.000,-999.0000, -999.00,   2.8429,   2.9574,2,20091123,       0712
318M20091121,        P06,       4,          1,          9,          9,2,20091123,       0627,   -30.0800,   153.6800,       2682,  1680.7,   2.7286,  34.6137,  34.6130,2,    152.4,2,   153.4,2,   96.07,2,   34.38,2,    0.00,2,    2.47,2,   0.004,2,   0.005,2,   0.006,2,        0,2,  2278.7,2,  2369.8,2,   7.5847,2,    25.00,-999.000,9,-999.0000,9, -999.00,9, -999.00,9,  -999.0,9,  -999.0,-999.000,9,-999.000,    37.6,2,-999.000,-999.0000, -999.00,   2.6088,   2.7280,2,20091123,       0708
318M20091121,        P06,       4,          1,          8,          8,2,20091123,       0627,   -30.0800,   153.6800,       2682,  1781.5,   2.5620,  34.6327,  34.6334,2,    156.1,2,   156.7,2,   97.32,2,   34.13,2,    0.00,2,    2.45,2,   0.008,2,   0.007,2,   0.008,2,        0,2,  2278.5,2,  2369.0,2,-999.0000,9,  -999.00,-999.000,9,-999.0000,9, -999.00,9, -999.00,9,  -999.0,9,  -999.0,-999.000,9,-999.000,  -999.0,9,-999.000,-999.0000, -999.00,   2.4358,   2.5612,2,20091123,       0704
318M20091121,        P06,       4,          1,          7,          7,2,20091123,       0627,   -30.0800,   153.6800,       2682,  1883.7,   2.4310,  34.6499,  34.6494,2,    160.6,2,   160.5,2,   96.89,2,   33.76,2,    0.00,2,    2.43,2,   0.009,2,   0.010,2,   0.002,2,        0,2,  2275.0,2,  2367.8,2,   7.5860,2,    25.00,-999.000,9,-999.0000,9, -999.00,9, -999.00,9,  -999.0,9,  -999.0,-999.000,9,-999.000,    38.1,2,-999.000,-999.0000, -999.00,   2.2979,   2.4311,2,20091123,       0659
318M20091121,        P06,       4,          1,          6,          6,2,20091123,       0627,   -30.0800,   153.6800,       2682,  1985.0,   2.3302,  34.6640,  34.6645,2,    164.7,2,   164.6,2,   96.03,2,   33.42,2,    0.00,2,    2.40,2,   0.011,2,   0.011,2,   0.007,2,        0,2,  2272.9,2,  2383.7,4,   7.5919,2,    25.00,-999.000,9,-999.0000,9, -999.00,9, -999.00,9,  -999.0,9,  -999.0,-999.000,9,-999.000,  -999.0,9,-999.000,-999.0000, -999.00,   2.1899,   2.3298,2,20091123,       0655
318M20091121,        P06,       4,          1,          5,          5,2,20091123,       0627,   -30.0800,   153.6800,       2682,  2105.9,   2.1757,  34.6854,  34.6852,2,    171.1,2,   171.9,2,   95.81,2,   32.80,2,    0.00,2,    2.35,2,   0.016,2,   0.013,2,   0.003,2,        0,2,  2269.0,2,  2361.7,2,   7.5881,2,    25.00,-999.000,9,-999.0000,9, -999.00,9, -999.00,9,  -999.0,9,  -999.0,-999.000,9,-999.000,    37.9,2,-999.000,-999.0000, -999.00,   2.0273,   2.1753,2,20091123,       0650
318M20091121,        P06,       4,          1,          4,          4,2,20091123,       0627,   -30.0800,   153.6800,       2682,  2233.0,   2.0505,  34.7016,  34.7009,2,    176.5,2,   176.4,2,   95.79,2,   32.38,2,    0.00,2,    2.31,2,   0.014,2,   0.010,2,   0.003,2,        0,2,  2264.7,2,  2361.4,2,   7.5997,6,    25.00,-999.000,9,-999.0000,9, -999.00,9, -999.00,9,  -999.0,9,  -999.0,-999.000,9,-999.000,  -999.0,9,-999.000,-999.0000, -999.00,   1.8930,   2.0504,2,20091123,       0643
318M20091121,        P06,       4,          1,          3,          3,2,20091123,       0627,   -30.0800,   153.6800,       2682,  2358.7,   1.9736,  34.7090,  34.7094,2,    179.6,2,   179.6,2,   97.25,2,   32.19,2,    0.00,2,    2.30,2,   0.016,2,   0.011,2,   0.003,2,        0,2,  2264.3,2,  2361.2,2,   7.6055,2,    25.00,-999.000,9,-999.0000,9, -999.00,9, -999.00,9,  -999.0,9,  -999.0,-999.000,9,-999.000,    39.4,2,-999.000,-999.0000, -999.00,   1.8063,   1.9737,2,20091123,       0638
318M20091121,        P06,       4,          1,          2,          2,2,20091123,       0627,   -30.0800,   153.6800,       2682,  2538.2,   1.9180,  34.7124,  34.7125,2,    181.2,2,   180.9,3,   98.51,2,   32.09,2,    0.00,2,    2.28,2,   0.010,2,   0.007,2,   0.003,2,        0,2,  2265.4,2,  2363.7,2,-999.0000,9,  -999.00,-999.000,9,-999.0000,9, -999.00,9, -999.00,9,  -999.0,9,  -999.0,-999.000,9,-999.000,  -999.0,9,-999.000,-999.0000, -999.00,   1.7355,   1.9176,2,20091123,       0632
318M20091121,        P06,       4,          1,          1,          1,2,20091123,       0627,   -30.0800,   153.6800,       2682,  2666.7,   1.8154,  34.7177,  34.7188,2,    183.7,2,   184.0,2,  100.61,2,   31.95,2,    0.00,2,    2.28,2,   0.012,2,   0.007,2,   0.002,2,        0,2,  2265.0,6,  2365.2,6,   7.6024,2,    25.00,-999.000,9,-999.0000,9, -999.00,9, -999.00,9,  -999.0,9,  -999.0,-999.000,9,-999.000,    38.3,2,-999.000,-999.0000, -999.00,   1.6230,   1.8157,2,20091123,       0627