BOTTLE,20220818CCHSIOAMB
EXPOCODE,SECT_ID,STNNBR,CASTNO,SAMPNO,BTLNBR,BTLNBR_FLAG_W,DATE,TIME,LATITUDE,LONGITUDE,DEPTH,CTDPRS,CTDTMP,CTDSAL,SALNTY,SALNTY_FLAG_W,CTDOXY,CTDOXY_FLAG_W,OXYGEN,OXYGEN_FLAG_W,SILCAT,SILCAT_FLAG_W,NITRAT,NITRAT_FLAG_W,NITRIT,NITRIT_FLAG_W,PHSPHT,PHSPHT_FLAG_W,CFC-11,CFC-11_FLAG_W,CFC-12,CFC-12_FLAG_W,CFC113,CFC113_FLAG_W,SF6,SF6_FLAG_W,TCARBN,TCARBN_FLAG_W,ALKALI,ALKALI_FLAG_W,PH_SWS,PH_SWS_FLAG_W,PH_TMP,TRITUM,TRITUM_FLAG_W,HELIUM,HELIUM_FLAG_W,DELHE3,DELHE3_FLAG_W,DELC13,DELC13_FLAG_W,DELC14,DELC14_FLAG_W,C14ERR,NEON,NEON_FLAG_W,NEONER,DOC,DOC_FLAG_W,TRITER,HELIER,DELHER,THETA,SBE35,SBE35_FLAG_W,BTL_DATE,BTL_TIME
,,,,,,,,,,,METERS,DBAR,ITS-90,PSS-78,PSS-78,,UMOL/KG,,UMOL/KG,,UMOL/KG,,UMOL/KG,,UMOL/KG,,UMOL/KG,,PMOL/KG,,PMOL/KG,,PMOL/KG,,FMOL/KG,,UMOL/KG,,UMOL/KG,,,,DEG C,TU,,NMOL/KG,,PERCNT,,/MILLE,,/MILLE,,/MILLE,NMOL/KG,,NMOL/KG,UMOL/KG,,TU,NMOL/KG,PERCNT,DEG C,ITS-90,,,
318M20091121,        P06,     123,          1,         36,         36,2,20091228,       1934,   -32.5002,  -148.6083,       4937,     3.2,  22.0066,  35.3937,  35.3938,2,    220.8,2,   220.8,2,    0.09,2,    0.00,2,    0.00,2,    0.09,2,   1.848,2,   1.285,2,-999.000,1,    1.062,2,  2042.3,6,  2322.9,6,   8.0051,6,    25.00,-999.000,9,-999.0000,9, -999.00,9, -999.00,9,  -999.0,9,  -999.0,-999.000,9,-999.000,  -999.0,9,-999.000,-999.0000, -999.00,  22.0060,  22.0086,2,20091228,       2155
318M20091121,        P06,     123,          1,         35,         35,2,20091228,       1934,   -32.5002,  -148.6083,       4937,    35.3,  19.2682,  35.3532,  35.3519,2,    237.0,2,   237.8,2,    0.01,2,    0.00,2,    0.00,2,    0.09,2,   2.113,2,   1.474,2,-999.000,1,    1.342,2,  -999.0,9,  -999.0,9,-999.0000,9,  -999.00,-999.000,9,-999.0000,9, -999.00,9, -999.00,9,  -999.0,9,  -999.0,-999.000,9,-999.000,  -999.0,9,-999.000,-999.0000, -999.00,  19.2618,  19.2747,2,20091228,       2152
318M20091121,        P06,     123,          1,         34,         34,2,20091228,       1934,   -32.5002,  -148.6083,       4937,    59.7,  17.9464,  35.3416,  35.3413,2,    244.0,2,   243.7,2,   -0.07,2,    0.00,2,    0.00,2,    0.09,2,   2.226,2,   1.555,2,-999.000,1,    1.249,2,  -999.0,9,  -999.0,9,-999.0000,9,  -999.00,-999.000,9,-999.0000,9, -999.00,9, -999.00,9,  -999.0,9,  -999.0,-999.000,9,-999.000,  -999.0,9,-999.000,-999.0000, -999.00,  17.9362,  17.9452,2,20091228,       2150
318M20091121,        P06,     123,          1,         33,         33,2,20091228,       1934,   -32.5002,  -148.6083,       4937,    85.2,  16.9834,  35.3495,  35.3468,2,    244.0,2,   244.6,2,    0.00,2,    0.00,2,    0.00,2,    0.10,2,   2.248,2,   1.544,2,-999.000,1,    1.305,2,  2046.6,2,  2318.3,2,   7.9964,2,    25.00,-999.000,9,-999.0000,9, -999.00,9, -999.00,9,  -999.0,9,  -999.0,-999.000,9,-999.000,  -999.0,9,-999.000,-999.0000, -999.00,  16.9694,  16.9851,2,20091228,       2147
318M20091121,        P06,     123,          1,         32,         32,2,20091228,       1934,   -32.5002,  -148.6083,       4937,   116.6,  16.1734,  35.3182,  35.3162,2,    232.4,2,   233.1,2,   -0.02,2,    0.33,2,    0.08,2,    0.18,2,   2.279,2,   1.561,2,-999.000,1,    1.277,2,  -999.0,9,  -999.0,9,-999.0000,9,  -999.00,-999.000,9,-999.0000,9, -999.00,9, -999.00,9,  -999.0,9,  -999.0,-999.000,9,-999.000,  -999.0,9,-999.000,-999.0000, -999.00,  16.1548,  16.1728,2,20091228,       2145
318M20091121,        P06,     123,          1,         31,         31,2,20091228,       1934,   -32.5002,  -148.6083,       4937,   162.0,  15.6083,  35.2610,  35.2620,2,    232.2,2,   229.0,2,    0.11,2,    1.43,2,    0.19,2,    0.25,2,   2.349,2,   1.604,2,-999.000,1,    1.234,2,  2067.4,2,  2313.8,2,   7.9509,2,    25.00,-999.000,9,-999.0000,9, -999.00,9, -999.00,9,  -999.0,9,  -999.0,-999.000,9,-999.000,  -999.0,9,-999.000,-999.0000, -999.00,  15.5831,  15.6019,2,20091228,       2142
318M20091121,        P06,     123,          1,         30,         30,2,20091228,       1934,   -32.5002,  -148.6083,       4937,   212.9,  14.5270,  35.1932,  35.1925,2,    208.3,2,   205.4,2,    1.05,2,    6.03,2,    0.01,2,    0.55,2,   2.410,2,   1.584,2,-999.000,1,     1.04,2,  -999.0,9,  -999.0,9,-999.0000,9,  -999.00,-999.000,9,-999.0000,9, -999.00,9, -999.00,9,  -999.0,9,  -999.0,-999.000,9,-999.000,  -999.0,9,-999.000,-999.0000, -999.00,  14.4954,  14.5228,2,20091228,       2140
318M20091121,        P06,     123,          1,         29,         29,2,20091228,       1934,   -32.5002,  -148.6083,       4937,   263.4,  12.7280,  34.9758,  34.9765,2,    202.1,2,   201.2,2,    1.78,2,   10.13,2,    0.00,2,    0.82,2,   2.530,2,   1.603,2,-999.000,1,    0.872,2,  2111.8,2,  2301.5,2,   7.8383,2,    25.00,-999.000,9,-999.0000,9, -999.00,9, -999.00,9,  -999.0,9,  -999.0,-999.000,9,-999.000,  -999.0,9,-999.000,-999.0000, -999.00,  12.6922,  12.7326,2,20091228,       2137
318M20091121,        P06,     123,          1,         28,         28,2,20091228,       1934,   -32.5002,  -148.6083,       4937,   314.8,  11.0519,  34.7702,  34.7697,2,    209.2,2,   206.9,2,    2.31,2,   13.17,2,    0.00,2,    1.01,2,   2.721,2,   1.680,2,-999.000,1,    0.853,2,  -999.0,9,  -999.0,9,-999.0000,9,  -999.00,-999.000,9,-999.0000,9, -999.00,9, -999.00,9,  -999.0,9,  -999.0,-999.000,9,-999.000,  -999.0,9,-999.000,-999.0000, -999.00,  11.0129,  11.0489,2,20091228,       2135
318M20091121,        P06,     123,          1,         27,         27,2,20091228,       1934,   -32.5002,  -148.6083,       4937,   366.5,   9.2825,  34.5710,  34.5651,2,    221.3,2,   221.3,2,    3.05,2,   16.34,2,    0.00,2,    1.21,2,   2.994,2,   1.818,2,-999.000,1,    0.731,2,  2129.9,2,  2301.6,4,   7.7662,2,    25.00,-999.000,9,-999.0000,9, -999.00,9, -999.00,9,  -999.0,9,  -999.0,-999.000,9,-999.000,  -999.0,9,-999.000,-999.0000, -999.00,   9.2418,   9.2556,3,20091228,       2132
318M20091121,        P06,     123,          1,         26,         26,2,20091228,       1934,   -32.5002,  -148.6083,       4937,   416.6,   8.2517,  34.4807,  34.4797,2,    230.7,2,   230.7,2,    3.98,2,   18.38,2,    0.00,2,    1.33,2,   3.120,2,   1.875,2,-999.000,1,    0.718,2,  -999.0,9,  -999.0,9,-999.0000,9,  -999.00,-999.000,9,-999.0000,9, -999.00,9, -999.00,9,  -999.0,9,  -999.0,-999.000,9,-999.000,  -999.0,9,-999.000,-999.0000, -999.00,   8.2085,   8.2575,2,20091228,       2129
318M20091121,        P06,     123,          1,         25,         25,2,20091228,       1934,   -32.5002,  -148.6083,       4937,   468.3,   7.6334,  34.4304,  34.4308,2,    236.2,2,   237.0,2,    4.72,2,   19.76,2,    0.00,2,    1.42,2,   3.173,6,   1.875,6,-999.000,1,   0.7305,6,  2136.4,2,  2283.5,2,   7.7447,2,    25.00,-999.000,9,-999.0000,9, -999.00,9, -999.00,9,  -999.0,9,  -999.0,-999.000,9,-999.000,  -999.0,9,-999.000,-999.0000, -999.00,   7.5868,   7.6338,2,20091228,       2127
318M20091121,        P06,     123,          1,         24,         24,2,20091228,       1934,   -32.5002,  -148.6083,       4937,   537.8,   7.1702,  34.3948,  34.3959,2,    240.6,2,   241.2,2,    5.66,2,   20.96,2,    0.00,2,    1.50,2,   3.173,2,   1.824,2,-999.000,1,    0.566,2,  2138.0,2,  2284.3,2,   7.7394,2,    25.00,-999.000,9,-999.0000,9, -999.00,9, -999.00,9,  -999.0,9,  -999.0,-999.000,9,-999.000,  -999.0,9,-999.000,-999.0000, -999.00,   7.1184,   7.1714,2,20091228,       2124
318M20091121,        P06,     123,          1,         23,         23,2,20091228,       1934,   -32.5002,  -148.6083,       4937,   634.7,   6.7333,  34.3634,  34.3632,2,    241.7,2,   242.3,2,    7.01,2,   22.11,2,    0.00,2,    1.57,2,   2.850,2,   1.647,2,-999.000,1,    0.538,2,  2140.5,2,  2281.5,2,   7.7329,2,    25.00,-999.000,9,-999.0000,9, -999.00,9, -999.00,9,  -999.0,9,  -999.0,-999.000,9,-999.000,  -999.0,9,-999.000,-999.0000, -999.00,   6.6739,   6.7341,2,20091228,       2121
318M20091121,        P06,     123,          1,         22,         22,2,20091228,       1934,   -32.5002,  -148.6083,       4937,   736.9,   6.2619,  34.3324,  34.3318,2,    237.9,2,   238.5,2,    9.16,2,   23.74,2,    0.00,2,    1.67,2,   2.351,2,   1.328,2,-999.000,1,    0.255,2,  2145.6,2,  2295.1,4,   7.7232,2,    25.00,-999.000,9,-999.0000,9, -999.00,9, -999.00,9,  -999.0,9,  -999.0,-999.000,9,-999.000,  -999.0,9,-999.000,-999.0000, -999.00,   6.1950,   6.2617,2,20091228,       2117
318M20091121,        P06,     123,          1,         21,         21,2,20091228,       1934,   -32.5002,  -148.6083,       4937,   838.6,   5.6905,  34.3108,  34.3106,2,    229.1,2,   228.0,2,   13.36,2,   25.93,2,    0.00,2,    1.82,2,   1.642,2,   0.898,2,-999.000,1,    0.156,2,  2156.3,2,  2286.3,6,   7.6994,2,    25.00,-999.000,9,-999.0000,9, -999.00,9, -999.00,9,  -999.0,9,  -999.0,-999.000,9,-999.000,  -999.0,9,-999.000,-999.0000, -999.00,   5.6175,   5.6907,2,20091228,       2113
318M20091121,        P06,     123,          1,         20,         20,2,20091228,       1934,   -32.5002,  -148.6083,       4937,   940.5,   5.1680,  34.3081,  34.3085,2,    216.5,2,   215.7,2,   19.37,2,   28.02,2,    0.00,2,    1.97,2,   1.135,2,   0.604,2,-999.000,1,        0,2,  2170.7,2,  2290.7,2,   7.6708,2,    25.00,-999.000,9,-999.0000,9, -999.00,9, -999.00,9,  -999.0,9,  -999.0,-999.000,9,-999.000,  -999.0,9,-999.000,-999.0000, -999.00,   5.0891,   5.1744,2,20091228,       2110
318M20091121,        P06,     123,          1,         19,         19,2,20091228,       1934,   -32.5002,  -148.6083,       4937,  1042.4,   4.5757,  34.3216,  34.3220,2,    203.5,2,   203.1,2,   27.84,2,   30.13,2,    0.00,2,    2.11,2,   0.751,2,   0.382,2,-999.000,1,        0,2,  2188.1,6,  2297.5,2,   7.6425,2,    25.00,-999.000,9,-999.0000,9, -999.00,9, -999.00,9,  -999.0,9,  -999.0,-999.000,9,-999.000,  -999.0,9,-999.000,-999.0000, -999.00,   4.4922,   4.5788,2,20091228,       2106
318M20091121,        P06,     123,          1,         18,         18,2,20091228,       1934,   -32.5002,  -148.6083,       4937,  1144.5,   3.9535,  34.3521,  34.3525,2,    193.3,2,   193.3,2,   38.16,2,   31.86,2,    0.00,2,    2.23,2,   0.474,2,   0.242,2,-999.000,1,        0,2,  -999.0,9,  -999.0,9,-999.0000,9,  -999.00,-999.000,9,-999.0000,9, -999.00,9, -999.00,9,  -999.0,9,  -999.0,-999.000,9,-999.000,  -999.0,9,-999.000,-999.0000, -999.00,   3.8664,   3.9559,2,20091228,       2103
318M20091121,        P06,     123,          1,         17,         17,2,20091228,       1934,   -32.5002,  -148.6083,       4937,  1245.8,   3.4561,  34.3977,  34.3981,2,    183.7,2,   182.7,2,   49.33,2,   33.10,2,    0.00,2,    2.33,2,   0.264,2,   0.132,2,-999.000,1,        0,2,  -999.0,9,  -999.0,9,-999.0000,9,  -999.00,-999.000,9,-999.0000,9, -999.00,9, -999.00,9,  -999.0,9,  -999.0,-999.000,9,-999.000,  -999.0,9,-999.000,-999.0000, -999.00,   3.3650,   3.4578,2,20091228,       2100
318M20091121,        P06,     123,          1,         16,         16,2,20091228,       1934,   -32.5002,  -148.6083,       4937,  1344.8,   3.1258,  34.4481,  34.4475,2,    174.9,2,   175.1,2,   59.28,2,   33.79,2,    0.00,2,    2.38,2,   0.134,2,   0.072,2,-999.000,1,        0,2,  -999.0,9,  -999.0,9,-999.0000,9,  -999.00,-999.000,9,-999.0000,9, -999.00,9, -999.00,9,  -999.0,9,  -999.0,-999.000,9,-999.000,  -999.0,9,-999.000,-999.0000, -999.00,   3.0297,   3.1286,2,20091228,       2056
318M20091121,        P06,     123,          1,         15,         15,2,20091228,       1934,   -32.5002,  -148.6083,       4937,  1446.7,   2.8560,  34.5019,  34.5015,2,    168.5,2,   168.8,2,   69.46,2,   34.14,2,    0.00,2,    2.42,2,   0.068,2,   0.039,2,-999.000,1,        0,2,  2248.6,2,  2341.1,2,   7.5783,2,    25.00,-999.000,9,-999.0000,9, -999.00,9, -999.00,9,  -999.0,9,  -999.0,-999.000,9,-999.000,  -999.0,9,-999.000,-999.0000, -999.00,   2.7544,   2.8564,2,20091228,       2053
318M20091121,        P06,     123,          1,         14,         14,2,20091228,       1934,   -32.5002,  -148.6083,       4937,  1548.1,   2.6739,  34.5453,  34.5456,2,    163.1,2,   163.5,2,   79.87,2,   34.43,2,    0.00,2,    2.44,2,   0.032,2,   0.018,2,-999.000,1,        0,2,  -999.0,9,  -999.0,9,-999.0000,9,  -999.00,-999.000,9,-999.0000,9, -999.00,9, -999.00,9,  -999.0,9,  -999.0,-999.000,9,-999.000,  -999.0,9,-999.000,-999.0000, -999.00,   2.5660,   2.6733,2,20091228,       2049
318M20091121,        P06,     123,          1,         13,         13,2,20091228,       1934,   -32.5002,  -148.6083,       4937,  1679.9,   2.4816,  34.5857,  34.5855,2,    158.2,2,   157.9,2,   91.14,2,   34.63,2,    0.00,2,    2.46,2,   0.015,2,   0.009,2,-999.000,1,        0,2,  -999.0,9,  -999.0,9,-999.0000,9,  -999.00,-999.000,9,-999.0000,9, -999.00,9, -999.00,9,  -999.0,9,  -999.0,-999.000,9,-999.000,  -999.0,9,-999.000,-999.0000, -999.00,   2.3651,   2.4833,2,20091228,       2046
318M20091121,        P06,     123,          1,         12,         12,2,20091228,       1934,   -32.5002,  -148.6083,       4937,  1880.7,   2.2844,  34.6180,  34.6168,2,    154.4,2,   154.1,2,  103.25,2,   34.87,2,    0.00,2,    2.47,2,   0.013,2,   0.008,2,-999.000,1,        0,2,  -999.0,9,  -999.0,9,-999.0000,9,  -999.00,-999.000,9,-999.0000,9, -999.00,9, -999.00,9,  -999.0,9,  -999.0,-999.000,9,-999.000,  -999.0,9,-999.000,-999.0000, -999.00,   2.1538,   2.2831,2,20091228,       2041
318M20091121,        P06,     123,          1,         11,         11,2,20091228,       1934,   -32.5002,  -148.6083,       4937,  2107.3,   2.1056,  34.6384,  34.6389,2,    151.8,2,   151.4,2,  112.49,2,   35.17,2,    0.00,2,    2.50,2,   0.011,2,   0.005,2,-999.000,1,        0,2,  2299.0,2,  2393.2,2,   7.5766,2,    25.00,-999.000,9,-999.0000,9, -999.00,9, -999.00,9,  -999.0,9,  -999.0,-999.000,9,-999.000,  -999.0,9,-999.000,-999.0000, -999.00,   1.9583,   2.1045,2,20091228,       2036
318M20091121,        P06,     123,          1,         10,         10,2,20091228,       1934,   -32.5002,  -148.6083,       4937,  2357.5,   1.9420,  34.6538,  34.6542,2,    151.2,2,   151.2,2,  119.68,2,   35.22,2,    0.00,2,    2.50,2,   0.018,2,   0.009,2,-999.000,1,        0,2,  -999.0,9,  -999.0,9,-999.0000,9,  -999.00,-999.000,9,-999.0000,9, -999.00,9, -999.00,9,  -999.0,9,  -999.0,-999.000,9,-999.000,  -999.0,9,-999.000,-999.0000, -999.00,   1.7756,   1.9422,2,20091228,       2030
318M20091121,        P06,     123,          1,          9,          9,2,20091228,       1934,   -32.5002,  -148.6083,       4937,  2614.9,   1.8182,  34.6639,  34.6643,2,    152.5,2,   152.3,2,  124.81,2,   35.32,2,    0.00,2,    2.52,2,   0.010,2,   0.006,2,-999.000,1,        0,2,  2310.2,3,  2400.7,2,   7.5811,2,    25.00,-999.000,9,-999.0000,9, -999.00,9, -999.00,9,  -999.0,9,  -999.0,-999.000,9,-999.000,  -999.0,9,-999.000,-999.0000, -999.00,   1.6308,   1.8183,2,20091228,       2025
318M20091121,        P06,     123,          1,          8,          8,2,20091228,       1934,   -32.5002,  -148.6083,       4937,  2871.7,   1.7264,  34.6719,  34.6720,2,    156.2,2,   156.7,2,  125.78,2,   35.07,2,    0.00,2,    2.49,2,   0.023,2,   0.012,2,-999.000,1,        0,2,  -999.0,9,  -999.0,9,-999.0000,9,  -999.00,-999.000,9,-999.0000,9, -999.00,9, -999.00,9,  -999.0,9,  -999.0,-999.000,9,-999.000,  -999.0,9,-999.000,-999.0000, -999.00,   1.5169,   1.7261,2,20091228,       2019
318M20091121,        P06,     123,          1,          7,          7,2,20091228,       1934,   -32.5002,  -148.6083,       4937,  3139.0,   1.6333,  34.6807,  34.6816,2,    162.1,2,   162.9,2,  124.88,2,   34.46,2,    0.00,2,    2.46,2,   0.008,2,   0.005,2,-999.000,1,        0,2,  2302.1,2,  2399.0,2,   7.5925,2,    25.00,-999.000,9,-999.0000,9, -999.00,9, -999.00,9,  -999.0,9,  -999.0,-999.000,9,-999.000,  -999.0,9,-999.000,-999.0000, -999.00,   1.4000,   1.6337,2,20091228,       2013
318M20091121,        P06,     123,          1,          6,          6,2,20091228,       1934,   -32.5002,  -148.6083,       4937,  3458.0,   1.5206,  34.6908,  34.6925,2,    172.3,2,   172.7,2,  122.30,2,   33.81,2,    0.00,2,    2.38,2,   0.007,2,   0.005,2,-999.000,1,        0,2,  -999.0,9,  -999.0,9,-999.0000,9,  -999.00,-999.000,9,-999.0000,9, -999.00,9, -999.00,9,  -999.0,9,  -999.0,-999.000,9,-999.000,  -999.0,9,-999.000,-999.0000, -999.00,   1.2581,   1.5208,2,20091228,       2006
318M20091121,        P06,     123,          1,          5,         37,2,20091228,       1934,   -32.5002,  -148.6083,       4937,  3753.5,   1.4030,  34.6979,  34.6986,2,    182.1,2,   182.3,2,  120.16,2,   33.16,2,    0.00,2,    2.33,2,   0.010,2,   0.007,2,-999.000,1,        0,2,  2283.8,2,  -999.0,9,-999.0000,9,  -999.00,-999.000,9,-999.0000,9, -999.00,9, -999.00,9,  -999.0,9,  -999.0,-999.000,9,-999.000,  -999.0,9,-999.000,-999.0000, -999.00,   1.1130,   1.4027,2,20091228,       1959
318M20091121,        P06,     123,          1,          4,          4,2,20091228,       1934,   -32.5002,  -148.6083,       4937,  4062.1,   1.3111,  34.7027,  34.7023,2,    189.5,2,   189.7,2,  119.05,2,   32.71,2,    0.00,2,    2.29,2,   0.011,2,   0.008,2,-999.000,1,        0,2,  -999.0,9,  -999.0,9,-999.0000,9,  -999.00,-999.000,9,-999.0000,9, -999.00,9, -999.00,9,  -999.0,9,  -999.0,-999.000,9,-999.000,  -999.0,9,-999.000,-999.0000, -999.00,   0.9906,   1.3114,2,20091228,       1952
318M20091121,        P06,     123,          1,          3,          3,2,20091228,       1934,   -32.5002,  -148.6083,       4937,  4369.1,   1.2673,  34.7053,  34.7057,2,    193.4,2,   193.5,2,  118.56,2,   32.36,2,    0.00,2,    2.26,2,   0.011,2,   0.008,2,-999.000,1,        0,2,  2273.9,2,  2376.8,6,   7.6142,2,    25.00,-999.000,9,-999.0000,9, -999.00,9, -999.00,9,  -999.0,9,  -999.0,-999.000,9,-999.000,  -999.0,9,-999.000,-999.0000, -999.00,   0.9142,   1.2679,2,20091228,       1946
318M20091121,        P06,     123,          1,          2,          2,2,20091228,       1934,   -32.5002,  -148.6083,       4937,  4680.0,   1.2248,  34.7076,  34.7079,2,    198.0,2,   197.5,2,  118.07,2,   32.21,2,    0.00,2,    2.26,2,   0.024,2,   0.014,2,-999.000,1,        0,2,  -999.0,9,  -999.0,9,-999.0000,9,  -999.00,-999.000,9,-999.0000,9, -999.00,9, -999.00,9,  -999.0,9,  -999.0,-999.000,9,-999.000,  -999.0,9,-999.000,-999.0000, -999.00,   0.8375,   1.2255,2,20091228,       1939
318M20091121,        P06,     123,          1,          1,          1,2,20091228,       1934,   -32.5002,  -148.6083,       4937,  4855.7,   1.2347,  34.7081,  34.7081,2,    198.7,2,   198.6,2,  117.80,2,   32.16,2,    0.00,2,    2.25,2,   0.036,2,   0.021,2,-999.000,1,        0,2,  2269.6,6,  2416.7,4,   7.6154,6,    25.00,-999.000,9,-999.0000,9, -999.00,9, -999.00,9,  -999.0,9,  -999.0,-999.000,9,-999.000,  -999.0,9,-999.000,-999.0000, -999.00,   0.8264,   1.2351,2,20091228,       1934