BOTTLE,20220818CCHSIOAMB
EXPOCODE,SECT_ID,STNNBR,CASTNO,SAMPNO,BTLNBR,BTLNBR_FLAG_W,DATE,TIME,LATITUDE,LONGITUDE,DEPTH,CTDPRS,CTDTMP,CTDSAL,SALNTY,SALNTY_FLAG_W,CTDOXY,CTDOXY_FLAG_W,OXYGEN,OXYGEN_FLAG_W,SILCAT,SILCAT_FLAG_W,NITRAT,NITRAT_FLAG_W,NITRIT,NITRIT_FLAG_W,PHSPHT,PHSPHT_FLAG_W,CFC-11,CFC-11_FLAG_W,CFC-12,CFC-12_FLAG_W,CFC113,CFC113_FLAG_W,SF6,SF6_FLAG_W,TCARBN,TCARBN_FLAG_W,ALKALI,ALKALI_FLAG_W,PH_SWS,PH_SWS_FLAG_W,PH_TMP,TRITUM,TRITUM_FLAG_W,HELIUM,HELIUM_FLAG_W,DELHE3,DELHE3_FLAG_W,DELC13,DELC13_FLAG_W,DELC14,DELC14_FLAG_W,C14ERR,NEON,NEON_FLAG_W,NEONER,DOC,DOC_FLAG_W,TRITER,HELIER,DELHER,THETA,SBE35,SBE35_FLAG_W,BTL_DATE,BTL_TIME
,,,,,,,,,,,METERS,DBAR,ITS-90,PSS-78,PSS-78,,UMOL/KG,,UMOL/KG,,UMOL/KG,,UMOL/KG,,UMOL/KG,,UMOL/KG,,PMOL/KG,,PMOL/KG,,PMOL/KG,,FMOL/KG,,UMOL/KG,,UMOL/KG,,,,DEG C,TU,,NMOL/KG,,PERCNT,,/MILLE,,/MILLE,,/MILLE,NMOL/KG,,NMOL/KG,UMOL/KG,,TU,NMOL/KG,PERCNT,DEG C,ITS-90,,,
318M20091121,        P06,      89,          2,         36,         36,2,20091216,       2207,   -32.5000,  -172.9100,       5908,     4.3,  21.7147,  35.6308,  35.6306,2,    224.8,2,   224.7,2,    0.82,2,    0.00,2,    0.00,2,    0.09,2,   1.999,2,   1.209,2,-999.000,1,    1.136,2,  2048.9,6,  2337.2,2,   8.0156,2,    25.00,-999.000,9,-999.0000,9, -999.00,9, -999.00,9,  -999.0,9,  -999.0,-999.000,9,-999.000,  -999.0,9,-999.000,-999.0000, -999.00,  21.7139,  21.7550,3,20091216,       0105
318M20091121,        P06,      89,          2,         35,         35,2,20091216,       2207,   -32.5000,  -172.9100,       5908,    26.7,  19.7089,  35.5939,  35.5931,2,    240.5,2,   240.4,2,    0.59,2,    0.00,2,    0.00,2,    0.07,2,   2.188,2,   1.318,2,-999.000,1,    1.159,2,  -999.0,9,  2333.3,6,-999.0000,9,  -999.00,-999.000,9,-999.0000,9, -999.00,9, -999.00,9,  -999.0,9,  -999.0,-999.000,9,-999.000,  -999.0,9,-999.000,-999.0000, -999.00,  19.7040,  19.7096,2,20091216,       0103
318M20091121,        P06,      89,          2,         34,         34,2,20091216,       2207,   -32.5000,  -172.9100,       5908,    52.0,  17.8664,  35.5556,  35.5555,2,    248.0,2,   245.8,2,    0.74,2,    0.00,2,    0.00,2,    0.09,2,   2.306,2,   1.387,2,-999.000,1,    1.256,2,  -999.0,9,  2331.9,2,-999.0000,9,  -999.00,-999.000,9,-999.0000,9, -999.00,9, -999.00,9,  -999.0,9,  -999.0,-999.000,9,-999.000,  -999.0,9,-999.000,-999.0000, -999.00,  17.8575,  17.8682,2,20091216,       0059
318M20091121,        P06,      89,          2,         33,         33,2,20091216,       2207,   -32.5000,  -172.9100,       5908,    88.2,  16.1884,  35.4900,  35.4901,2,    234.9,2,   234.2,2,    0.91,2,    0.36,2,    0.06,2,    0.19,2,   2.411,2,   1.419,2,-999.000,1,    1.193,2,  -999.0,9,  -999.0,9,-999.0000,9,  -999.00,-999.000,9,-999.0000,9, -999.00,9, -999.00,9,  -999.0,9,  -999.0,-999.000,9,-999.000,  -999.0,9,-999.000,-999.0000, -999.00,  16.1743,  16.1975,2,20091216,       0057
318M20091121,        P06,      89,          2,         32,         32,2,20091216,       2207,   -32.5000,  -172.9100,       5908,   148.8,  15.2810,  35.4075,  35.4116,2,    220.9,2,   221.6,2,    1.27,2,    3.88,2,    0.01,2,    0.39,2,   2.450,2,   1.427,2,-999.000,1,    1.122,2,  -999.0,9,  2323.3,2,   7.9272,2,    25.00,-999.000,9,-999.0000,9, -999.00,9, -999.00,9,  -999.0,9,  -999.0,-999.000,9,-999.000,  -999.0,9,-999.000,-999.0000, -999.00,  15.2581,  15.2942,3,20091216,       0050
318M20091121,        P06,      89,          2,         31,         31,2,20091216,       2207,   -32.5000,  -172.9100,       5908,   149.0,  15.2865,  35.4076,  35.4118,2,    220.9,2,   222.0,2,    1.43,2,    3.88,2,    0.01,2,    0.39,2,   2.463,2,   1.443,2,-999.000,1,    1.127,2,  -999.0,9,  -999.0,9,-999.0000,9,  -999.00,-999.000,9,-999.0000,9, -999.00,9, -999.00,9,  -999.0,9,  -999.0,-999.000,9,-999.000,  -999.0,9,-999.000,-999.0000, -999.00,  15.2636,  15.3020,2,20091216,       0049
318M20091121,        P06,      89,          2,         30,         30,2,20091216,       2207,   -32.5000,  -172.9100,       5908,   199.0,  14.0842,  35.2654,  35.2663,2,    219.0,2,   217.6,2,    1.99,2,    6.62,2,    0.01,2,    0.56,2,   2.584,2,   1.484,2,-999.000,1,    1.146,2,  -999.0,9,  2317.2,2,-999.0000,9,  -999.00,-999.000,9,-999.0000,9, -999.00,9, -999.00,9,  -999.0,9,  -999.0,-999.000,9,-999.000,  -999.0,9,-999.000,-999.0000, -999.00,  14.0552,  14.0867,2,20091216,       0041
318M20091121,        P06,      89,          2,         29,         29,2,20091216,       2207,   -32.5000,  -172.9100,       5908,   250.2,  12.9422,  35.1292,  35.1272,2,    205.8,2,   206.3,2,    2.76,2,   10.32,2,    0.00,2,    0.78,2,   2.601,2,   1.465,2,-999.000,1,    0.975,2,  -999.0,9,  -999.0,9,-999.0000,9,  -999.00,-999.000,9,-999.0000,9, -999.00,9, -999.00,9,  -999.0,9,  -999.0,-999.000,9,-999.000,  -999.0,9,-999.000,-999.0000, -999.00,  12.9078,  12.9371,2,20091216,       0038
318M20091121,        P06,      89,          2,         28,         28,2,20091216,       2207,   -32.5000,  -172.9100,       5908,   300.5,  11.9702,  35.0101,  35.0064,2,    208.3,2,   205.6,2,    3.53,2,   12.59,2,    0.00,2,    0.92,2,   2.649,2,   1.470,2,-999.000,1,    0.938,2,  -999.0,9,  2304.8,6,   7.8160,2,    25.00,-999.000,9,-999.0000,9, -999.00,9, -999.00,9,  -999.0,9,  -999.0,-999.000,9,-999.000,  -999.0,9,-999.000,-999.0000, -999.00,  11.9309,  12.0193,3,20091216,       0035
318M20091121,        P06,      89,          2,         27,         27,2,20091216,       2207,   -32.5000,  -172.9100,       5908,   350.7,  10.9214,  34.8734,  34.8754,2,    204.8,2,   205.3,2,    4.70,2,   15.14,2,    0.00,2,    1.08,2,   2.676,2,   1.466,2,-999.000,1,    0.791,2,  -999.0,9,  2299.7,2,   7.8751,3,    25.00,-999.000,9,-999.0000,9, -999.00,9, -999.00,9,  -999.0,9,  -999.0,-999.000,9,-999.000,  -999.0,9,-999.000,-999.0000, -999.00,  10.8781,  10.9246,2,20091216,       0032
318M20091121,        P06,      89,          2,         26,         26,2,20091216,       2207,   -32.5000,  -172.9100,       5908,   402.5,  10.1042,  34.7641,  34.7610,2,    205.9,2,   206.0,2,    5.27,2,   17.03,2,    0.00,2,    1.20,2,   2.679,2,   1.435,2,-999.000,1,    0.802,2,  -999.0,9,  -999.0,9,-999.0000,9,  -999.00,-999.000,9,-999.0000,9, -999.00,9, -999.00,9,  -999.0,9,  -999.0,-999.000,9,-999.000,  -999.0,9,-999.000,-999.0000, -999.00,  10.0568,  10.0984,2,20091216,       0030
318M20091121,        P06,      89,          2,         25,         25,2,20091216,       2207,   -32.5000,  -172.9100,       5908,   504.1,   8.6601,  34.5812,  34.5823,2,    217.1,2,   216.6,2,    6.24,2,   19.63,2,    0.00,2,    1.37,2,   2.899,2,   1.547,2,-999.000,1,    0.693,2,  -999.0,9,  2289.1,2,-999.0000,9,  -999.00,-999.000,9,-999.0000,9, -999.00,9, -999.00,9,  -999.0,9,  -999.0,-999.000,9,-999.000,  -999.0,9,-999.000,-999.0000, -999.00,   8.6059,   8.6576,2,20091216,       0026
318M20091121,        P06,      89,          2,         24,         24,2,20091216,       2207,   -32.5000,  -172.9100,       5908,   605.1,   7.6320,  34.4600,  34.4594,2,    226.5,2,   226.8,2,    6.81,2,   21.50,2,    0.00,2,    1.49,2,   2.962,2,   1.536,2,-999.000,1,    0.677,2,  -999.0,9,  -999.0,9,-999.0000,9,  -999.00,-999.000,9,-999.0000,9, -999.00,9, -999.00,9,  -999.0,9,  -999.0,-999.000,9,-999.000,  -999.0,9,-999.000,-999.0000, -999.00,   7.5713,   7.6316,2,20091216,       0022
318M20091121,        P06,      89,          2,         23,         23,2,20091216,       2207,   -32.5000,  -172.9100,       5908,   701.9,   7.0933,  34.4161,  34.4156,2,    226.2,2,   227.2,2,    8.38,2,   22.92,2,    0.00,2,    1.58,2,   2.578,2,   1.289,2,-999.000,1,    0.348,2,  -999.0,9,  2284.7,2,   7.7210,2,    25.00,-999.000,9,-999.0000,9, -999.00,9, -999.00,9,  -999.0,9,  -999.0,-999.000,9,-999.000,  -999.0,9,-999.000,-999.0000, -999.00,   7.0253,   7.0921,2,20091216,       0019
318M20091121,        P06,      89,          2,         22,         22,2,20091216,       2207,   -32.5000,  -172.9100,       5908,   804.7,   6.5306,  34.3862,  34.3854,2,    220.2,2,   220.6,2,   11.99,2,   24.77,2,    0.00,2,    1.71,2,   1.830,2,   0.910,2,-999.000,1,    0.167,2,  -999.0,9,  -999.0,9,-999.0000,9,  -999.00,-999.000,9,-999.0000,9, -999.00,9, -999.00,9,  -999.0,9,  -999.0,-999.000,9,-999.000,  -999.0,9,-999.000,-999.0000, -999.00,   6.4555,   6.5294,2,20091216,       0016
318M20091121,        P06,      89,          2,         21,         21,2,20091216,       2207,   -32.5000,  -172.9100,       5908,   906.1,   5.7756,  34.3614,  34.3604,2,    211.0,2,   210.8,2,   18.45,2,   27.19,2,    0.00,2,    1.88,2,   1.098,2,   0.543,2,-999.000,1,        0,2,  -999.0,9,  2291.0,2,-999.0000,9,  -999.00,-999.000,9,-999.0000,9, -999.00,9, -999.00,9,  -999.0,9,  -999.0,-999.000,9,-999.000,  -999.0,9,-999.000,-999.0000, -999.00,   5.6956,   5.7805,2,20091216,       0013
318M20091121,        P06,      89,          2,         20,         20,2,20091216,       2207,   -32.5000,  -172.9100,       5908,  1008.4,   5.2031,  34.3719,  34.3712,2,    198.8,2,   199.1,2,   26.97,2,   29.09,2,    0.00,2,    2.02,2,   0.778,2,   0.398,2,-999.000,1,        0,2,  -999.0,9,  -999.0,9,-999.0000,9,  -999.00,-999.000,9,-999.0000,9, -999.00,9, -999.00,9,  -999.0,9,  -999.0,-999.000,9,-999.000,  -999.0,9,-999.000,-999.0000, -999.00,   5.1177,   5.2007,2,20091216,       0009
318M20091121,        P06,      89,          2,         19,         19,2,20091216,       2207,   -32.5000,  -172.9100,       5908,  1104.8,   4.4227,  34.3625,  34.3620,2,    192.1,2,   192.7,2,   34.92,2,   31.05,2,    0.00,2,    2.16,2,   0.416,2,   0.216,2,-999.000,1,        0,2,  -999.0,9,  2304.5,2,   7.7106,3,    25.00,-999.000,9,-999.0000,9, -999.00,9, -999.00,9,  -999.0,9,  -999.0,-999.000,9,-999.000,  -999.0,9,-999.000,-999.0000, -999.00,   4.3349,   4.4254,2,20091216,       0006
318M20091121,        P06,      89,          2,         18,         18,2,20091216,       2207,   -32.5000,  -172.9100,       5908,  1206.4,   3.8283,  34.4041,  34.4033,2,    182.5,2,   183.2,2,   47.42,2,   32.44,2,    0.00,2,    2.27,2,   0.266,2,   0.132,2,-999.000,1,        0,2,  -999.0,9,  -999.0,9,-999.0000,9,  -999.00,-999.000,9,-999.0000,9, -999.00,9, -999.00,9,  -999.0,9,  -999.0,-999.000,9,-999.000,  -999.0,9,-999.000,-999.0000, -999.00,   3.7369,   3.8271,2,20091216,       0003
318M20091121,        P06,      89,          2,         17,         17,2,20091216,       2207,   -32.5000,  -172.9100,       5908,  1308.9,   3.4608,  34.4534,  34.4528,2,    175.7,2,   174.5,2,   58.75,2,   33.21,2,    0.00,2,    2.33,2,   0.180,2,   0.089,2,-999.000,1,        0,2,  -999.0,9,  2328.3,2,-999.0000,9,  -999.00,-999.000,9,-999.0000,9, -999.00,9, -999.00,9,  -999.0,9,  -999.0,-999.000,9,-999.000,  -999.0,9,-999.000,-999.0000, -999.00,   3.3642,   3.4605,2,20091216,       0000
318M20091121,        P06,      89,          2,         16,         16,2,20091216,       2207,   -32.5000,  -172.9100,       5908,  1411.5,   3.1364,  34.4916,  34.4905,2,    169.2,2,   169.7,2,   82.01,3,   34.31,3,    0.00,2,    2.41,3,   0.180,2,   0.086,2,-999.000,1,        0,2,  -999.0,9,  -999.0,9,-999.0000,9,  -999.00,-999.000,9,-999.0000,9, -999.00,9, -999.00,9,  -999.0,9,  -999.0,-999.000,9,-999.000,  -999.0,9,-999.000,-999.0000, -999.00,   3.0346,   3.1361,2,20091216,       2356
318M20091121,        P06,      89,          2,         15,         15,2,20091216,       2207,   -32.5000,  -172.9100,       5908,  1616.0,   2.7751,  34.5489,  34.5484,2,    162.3,2,   162.1,2,   68.01,3,   33.69,3,    0.00,2,    2.38,3,   0.117,2,   0.051,2,-999.000,1,        0,2,  -999.0,9,  2354.9,2,   7.5759,2,    25.00,-999.000,9,-999.0000,9, -999.00,9, -999.00,9,  -999.0,9,  -999.0,-999.000,9,-999.000,  -999.0,9,-999.000,-999.0000, -999.00,   2.6603,   2.7746,2,20091216,       2350
318M20091121,        P06,      89,          2,         14,         14,2,20091216,       2207,   -32.5000,  -172.9100,       5908,  1820.2,   2.5100,  34.5964,  34.5960,2,    154.0,2,   153.8,2,   98.89,2,   34.84,2,    0.00,2,    2.46,2,   0.027,2,   0.010,2,-999.000,1,        0,2,  -999.0,9,  -999.0,9,-999.0000,9,  -999.00,-999.000,9,-999.0000,9, -999.00,9, -999.00,9,  -999.0,9,  -999.0,-999.000,9,-999.000,  -999.0,9,-999.000,-999.0000, -999.00,   2.3814,   2.5103,2,20091216,       2345
318M20091121,        P06,      89,          2,         13,         13,2,20091216,       2207,   -32.5000,  -172.9100,       5908,  2019.2,   2.3253,  34.6205,  34.6204,2,    150.2,2,   149.8,2,  108.72,2,   35.13,2,    0.00,2,    2.49,2,   0.022,2,   0.008,2,-999.000,1,        0,2,  -999.0,9,  2385.5,2,-999.0000,9,  -999.00,-999.000,9,-999.0000,9, -999.00,9, -999.00,9,  -999.0,9,  -999.0,-999.000,9,-999.000,  -999.0,9,-999.000,-999.0000, -999.00,   2.1823,   2.3251,2,20091216,       2340
318M20091121,        P06,      89,          2,         12,         12,2,20091216,       2207,   -32.5000,  -172.9100,       5908,  2224.9,   2.1841,  34.6350,  34.6345,2,    148.1,2,   147.9,2,  116.26,2,   35.43,2,    0.00,2,    2.51,2,   0.027,2,   0.009,2,-999.000,1,        0,2,  -999.0,9,  2394.2,2,-999.0000,9,  -999.00,-999.000,9,-999.0000,9, -999.00,9, -999.00,9,  -999.0,9,  -999.0,-999.000,9,-999.000,  -999.0,9,-999.000,-999.0000, -999.00,   2.0253,   2.1840,2,20091216,       2334
318M20091121,        P06,      89,          2,         11,         11,2,20091216,       2207,   -32.5000,  -172.9100,       5908,  2471.9,   2.0413,  34.6479,  34.6468,2,    146.9,2,   146.6,2,  122.76,2,   35.52,2,    0.00,2,    2.52,2,   0.028,2,   0.010,2,-999.000,1,        0,2,  -999.0,9,  2399.9,2,   7.5708,2,    25.00,-999.000,9,-999.0000,9, -999.00,9, -999.00,9,  -999.0,9,  -999.0,-999.000,9,-999.000,  -999.0,9,-999.000,-999.0000, -999.00,   1.8628,   2.0409,2,20091216,       2328
318M20091121,        P06,      89,          2,         10,         10,2,20091216,       2207,   -32.5000,  -172.9100,       5908,  2780.4,   1.8973,  34.6613,  34.6621,2,    148.0,2,   148.7,2,  127.36,2,   35.43,2,    0.00,2,    2.51,2,   0.026,2,   0.010,2,-999.000,1,        0,2,  -999.0,9,  -999.0,9,-999.0000,9,  -999.00,-999.000,9,-999.0000,9, -999.00,9, -999.00,9,  -999.0,9,  -999.0,-999.000,9,-999.000,  -999.0,9,-999.000,-999.0000, -999.00,   1.6929,   1.8966,2,20091216,       2321
318M20091121,        P06,      89,          2,          9,          9,2,20091216,       2207,   -32.5000,  -172.9100,       5908,  3037.0,   1.7873,  34.6749,  34.6744,2,    153.5,2,   155.0,2,  127.12,2,   34.99,2,    0.00,2,    2.47,2,   0.026,2,   0.009,2,-999.000,1,        0,2,  -999.0,9,  2403.8,2,   7.6599,3,    25.00,-999.000,9,-999.0000,9, -999.00,9, -999.00,9,  -999.0,9,  -999.0,-999.000,9,-999.000,  -999.0,9,-999.000,-999.0000, -999.00,   1.5606,   1.7876,2,20091216,       2315
318M20091121,        P06,      89,          2,          8,          8,2,20091216,       2207,   -32.5000,  -172.9100,       5908,  3340.8,   1.6803,  34.7026,  34.7020,2,    173.2,2,   175.7,2,  114.86,2,   33.06,2,    0.00,2,    2.33,2,   0.040,2,   0.019,2,-999.000,1,        0,2,  -999.0,9,  -999.0,9,-999.0000,9,  -999.00,-999.000,9,-999.0000,9, -999.00,9, -999.00,9,  -999.0,9,  -999.0,-999.000,9,-999.000,  -999.0,9,-999.000,-999.0000, -999.00,   1.4257,   1.6806,2,20091216,       2309
318M20091121,        P06,      89,          2,          7,          7,2,20091216,       2207,   -32.5000,  -172.9100,       5908,  3650.6,   1.5112,  34.7171,  34.7169,2,    190.4,2,   190.7,2,  110.19,2,   32.00,2,    0.00,2,    2.25,2,   0.039,2,   0.016,2,-999.000,1,        0,2,  -999.0,9,  2370.3,2,-999.0000,9,  -999.00,-999.000,9,-999.0000,9, -999.00,9, -999.00,9,  -999.0,9,  -999.0,-999.000,9,-999.000,  -999.0,9,-999.000,-999.0000, -999.00,   1.2290,   1.5120,2,20091216,       2302
318M20091121,        P06,      89,          2,          6,          6,2,20091216,       2207,   -32.5000,  -172.9100,       5908,  3960.9,   1.3088,  34.7190,  34.7193,2,    199.6,2,   199.3,2,  112.26,2,   31.67,2,    0.00,2,    2.22,2,   0.055,2,   0.029,2,-999.000,1,        0,2,  -999.0,9,  -999.0,9,-999.0000,9,  -999.00,-999.000,9,-999.0000,9, -999.00,9, -999.00,9,  -999.0,9,  -999.0,-999.000,9,-999.000,  -999.0,9,-999.000,-999.0000, -999.00,   0.9992,   1.3080,2,20091216,       2255
318M20091121,        P06,      89,          2,          5,          5,2,20091216,       2207,   -32.5000,  -172.9100,       5908,  4255.5,   1.1593,  34.7155,  34.7158,2,    203.5,2,   203.4,2,  116.01,2,   31.67,2,    0.00,2,    2.22,2,   0.073,2,   0.037,2,-999.000,1,        0,2,  -999.0,9,  2366.7,2,   7.6110,2,    25.00,-999.000,9,-999.0000,9, -999.00,9, -999.00,9,  -999.0,9,  -999.0,-999.000,9,-999.000,  -999.0,9,-999.000,-999.0000, -999.00,   0.8220,   1.1598,2,20091216,       2247
318M20091121,        P06,      89,          2,          4,          4,2,20091216,       2207,   -32.5000,  -172.9100,       5908,  4726.6,   1.0652,  34.7110,  34.7109,2,    206.1,2,   206.2,2,  119.98,2,   31.82,2,    0.00,2,    2.23,2,   0.089,2,   0.046,2,-999.000,1,        0,2,  -999.0,9,  -999.0,9,-999.0000,9,  -999.00,-999.000,9,-999.0000,9, -999.00,9, -999.00,9,  -999.0,9,  -999.0,-999.000,9,-999.000,  -999.0,9,-999.000,-999.0000, -999.00,   0.6776,   1.0650,2,20091216,       2238
318M20091121,        P06,      89,          2,          3,          3,2,20091216,       2207,   -32.5000,  -172.9100,       5908,  5137.2,   1.0617,  34.7091,  34.7089,2,    206.0,2,   207.0,2,  121.64,2,   31.87,2,    0.00,2,    2.23,2,   0.096,2,   0.048,2,-999.000,1,        0,2,  -999.0,9,  2367.3,2,-999.0000,9,  -999.00,-999.000,9,-999.0000,9, -999.00,9, -999.00,9,  -999.0,9,  -999.0,-999.000,9,-999.000,  -999.0,9,-999.000,-999.0000, -999.00,   0.6256,   1.0618,2,20091216,       2230
318M20091121,        P06,      89,          2,          2,          2,2,20091216,       2207,   -32.5000,  -172.9100,       5908,  5553.5,   1.0974,  34.7084,  34.7085,2,    206.9,2,   206.2,2,  122.23,2,   31.95,2,    0.00,2,    2.23,2,   0.094,2,   0.047,2,-999.000,1,        0,2,  -999.0,9,  -999.0,9,-999.0000,9,  -999.00,-999.000,9,-999.0000,9, -999.00,9, -999.00,9,  -999.0,9,  -999.0,-999.000,9,-999.000,  -999.0,9,-999.000,-999.0000, -999.00,   0.6086,   1.0977,2,20091216,       2220
318M20091121,        P06,      89,          2,          1,          1,2,20091216,       2207,   -32.5000,  -172.9100,       5908,  6088.4,   1.1657,  34.7079,  34.7083,2,    206.2,2,   206.2,2,  122.41,2,   32.00,2,    0.00,2,    2.24,2,   0.090,2,   0.045,2,-999.000,1,        0,2,  -999.0,9,  2368.2,6,   7.6130,2,    25.00,-999.000,9,-999.0000,9, -999.00,9, -999.00,9,  -999.0,9,  -999.0,-999.000,9,-999.000,  -999.0,9,-999.000,-999.0000, -999.00,   0.6049,   1.1656,2,20091216,       2207