BOTTLE,20220818CCHSIOAMB
EXPOCODE,SECT_ID,STNNBR,CASTNO,SAMPNO,BTLNBR,BTLNBR_FLAG_W,DATE,TIME,LATITUDE,LONGITUDE,DEPTH,CTDPRS,CTDTMP,CTDSAL,SALNTY,SALNTY_FLAG_W,CTDOXY,CTDOXY_FLAG_W,OXYGEN,OXYGEN_FLAG_W,SILCAT,SILCAT_FLAG_W,NITRAT,NITRAT_FLAG_W,NITRIT,NITRIT_FLAG_W,PHSPHT,PHSPHT_FLAG_W,CFC-11,CFC-11_FLAG_W,CFC-12,CFC-12_FLAG_W,CFC113,CFC113_FLAG_W,SF6,SF6_FLAG_W,TCARBN,TCARBN_FLAG_W,ALKALI,ALKALI_FLAG_W,PH_SWS,PH_SWS_FLAG_W,PH_TMP,TRITUM,TRITUM_FLAG_W,HELIUM,HELIUM_FLAG_W,DELHE3,DELHE3_FLAG_W,DELC13,DELC13_FLAG_W,DELC14,DELC14_FLAG_W,C14ERR,NEON,NEON_FLAG_W,NEONER,DOC,DOC_FLAG_W,TRITER,HELIER,DELHER,THETA,SBE35,SBE35_FLAG_W,BTL_DATE,BTL_TIME
,,,,,,,,,,,METERS,DBAR,ITS-90,PSS-78,PSS-78,,UMOL/KG,,UMOL/KG,,UMOL/KG,,UMOL/KG,,UMOL/KG,,UMOL/KG,,PMOL/KG,,PMOL/KG,,PMOL/KG,,FMOL/KG,,UMOL/KG,,UMOL/KG,,,,DEG C,TU,,NMOL/KG,,PERCNT,,/MILLE,,/MILLE,,/MILLE,NMOL/KG,,NMOL/KG,UMOL/KG,,TU,NMOL/KG,PERCNT,DEG C,ITS-90,,,
318M20091121,        P06,     104,          2,         36,         36,2,20091222,       0209,   -32.5000,  -162.4300,       5270,     3.3,  20.4337,  35.3292,  35.3292,2,    227.4,2,   227.9,2,    0.46,2,    0.00,2,    0.00,2,    0.12,2,   2.160,2,   1.344,2,-999.000,1,    1.365,2,  2045.8,6,  2320.1,6,   7.9970,6,    25.00,-999.000,9,-999.0000,9, -999.00,9, -999.00,9,  -999.0,9,  -999.0,-999.000,9,-999.000,    60.6,2,-999.000,-999.0000, -999.00,  20.4331,  20.4266,2,20091222,       0441
318M20091121,        P06,     104,          2,         35,         35,2,20091222,       0209,   -32.5000,  -162.4300,       5270,    25.4,  19.8713,  35.3510,  35.3512,2,    228.3,2,   228.6,2,    0.43,2,    0.00,2,    0.00,2,    0.11,2,   2.175,2,   1.342,2,-999.000,1,    1.342,2,  2042.9,2,  2321.3,2,   8.0017,2,    25.00,-999.000,9,-999.0000,9, -999.00,9, -999.00,9,  -999.0,9,  -999.0,-999.000,9,-999.000,    60.2,2,-999.000,-999.0000, -999.00,  19.8666,  19.8711,2,20091222,       0438
318M20091121,        P06,     104,          2,         34,         34,2,20091222,       0209,   -32.5000,  -162.4300,       5270,    50.7,  17.5555,  35.4451,  35.4432,2,    246.8,2,   246.9,2,    0.40,2,    0.00,2,    0.00,2,    0.11,2,   2.435,2,   1.483,2,-999.000,1,    1.336,2,  2048.0,2,  2327.2,2,-999.0000,9,  -999.00,-999.000,9,-999.0000,9, -999.00,9, -999.00,9,  -999.0,9,  -999.0,-999.000,9,-999.000,    59.0,2,-999.000,-999.0000, -999.00,  17.5469,  17.5608,2,20091222,       0436
318M20091121,        P06,     104,          2,         33,         33,2,20091222,       0209,   -32.5000,  -162.4300,       5270,    76.4,  16.6807,  35.4668,  35.4624,2,    239.6,2,   236.2,2,   -0.03,2,    0.03,2,    0.03,2,    0.15,2,   2.459,2,   1.492,2,-999.000,1,    1.322,2,  2061.3,2,  2329.1,2,   7.9848,2,    25.00,-999.000,9,-999.0000,9, -999.00,9, -999.00,9,  -999.0,9,  -999.0,-999.000,9,-999.000,    56.0,2,-999.000,-999.0000, -999.00,  16.6683,  16.6805,2,20091222,       0434
318M20091121,        P06,     104,          2,         32,         32,2,20091222,       0209,   -32.5000,  -162.4300,       5270,    99.5,  15.9174,  35.4125,  35.4089,2,    217.2,2,   217.5,2,    0.75,2,    2.98,2,    0.06,2,    0.34,2,   2.519,2,   1.517,2,-999.000,1,    1.318,2,  2080.9,2,  2325.3,2,-999.0000,9,  -999.00,-999.000,9,-999.0000,9, -999.00,9, -999.00,9,  -999.0,9,  -999.0,-999.000,9,-999.000,    53.4,2,-999.000,-999.0000, -999.00,  15.9017,  15.9174,2,20091222,       0431
318M20091121,        P06,     104,          2,         31,         31,2,20091222,       0209,   -32.5000,  -162.4300,       5270,   149.7,  15.1015,  35.3370,  35.3364,2,    231.3,2,   223.8,2,    0.92,2,    3.30,2,    0.01,2,    0.37,2,   2.614,2,   1.575,2,-999.000,1,     1.18,2,  2086.6,2,  2319.2,2,   7.9281,2,    25.00,-999.000,9,-999.0000,9, -999.00,9, -999.00,9,  -999.0,9,  -999.0,-999.000,9,-999.000,    49.9,2,-999.000,-999.0000, -999.00,  15.0787,  15.0983,2,20091222,       0428
318M20091121,        P06,     104,          2,         30,         30,2,20091222,       0209,   -32.5000,  -162.4300,       5270,   200.2,  14.0104,  35.2321,  35.2336,2,    207.5,2,   207.6,2,    1.70,2,    7.29,2,    0.01,2,    0.62,2,   2.673,2,   1.584,2,-999.000,1,    0.973,2,  2106.5,2,  2313.0,2,-999.0000,9,  -999.00,-999.000,9,-999.0000,9, -999.00,9, -999.00,9,  -999.0,9,  -999.0,-999.000,9,-999.000,    48.0,2,-999.000,-999.0000, -999.00,  13.9814,  14.0174,2,20091222,       0425
318M20091121,        P06,     104,          2,         29,         29,2,20091222,       0209,   -32.5000,  -162.4300,       5270,   250.7,  12.7775,  35.0888,  35.0869,2,    204.2,2,   204.3,2,    2.48,2,   10.17,2,    0.01,2,    0.80,2,   2.750,2,   1.592,2,-999.000,1,    0.957,2,  2116.8,2,  2305.7,2,   7.8360,2,    25.00,-999.000,9,-999.0000,9, -999.00,9, -999.00,9,  -999.0,9,  -999.0,-999.000,9,-999.000,    42.2,2,-999.000,-999.0000, -999.00,  12.7433,  12.7751,2,20091222,       0423
318M20091121,        P06,     104,          2,         28,         28,2,20091222,       0209,   -32.5000,  -162.4300,       5270,   301.5,  11.7007,  34.9394,  34.9385,2,    206.8,2,   205.6,2,    3.06,2,   12.30,2,    0.00,2,    0.93,2,   2.821,2,   1.598,2,-999.000,1,    0.963,2,  2123.2,2,  2301.5,2,-999.0000,9,  -999.00,-999.000,9,-999.0000,9, -999.00,9, -999.00,9,  -999.0,9,  -999.0,-999.000,9,-999.000,    41.9,2,-999.000,-999.0000, -999.00,  11.6619,  11.7016,2,20091222,       0419
318M20091121,        P06,     104,          2,         27,         27,2,20091222,       0209,   -32.5000,  -162.4300,       5270,   350.1,  10.6188,  34.7879,  34.7886,3,    209.4,2,   208.8,2,    3.44,2,   14.39,2,    0.00,2,    1.07,2,   2.904,6,   1.618,6,-999.000,1,    0.776,6,  2128.6,2,  2296.6,2,   7.7886,2,    25.00,-999.000,9,-999.0000,9, -999.00,9, -999.00,9,  -999.0,9,  -999.0,-999.000,9,-999.000,    43.5,2,-999.000,-999.0000, -999.00,  10.5764,  10.6108,2,20091222,       0417
318M20091121,        P06,     104,          2,         26,         26,2,20091222,       0209,   -32.5000,  -162.4300,       5270,   401.4,   9.5734,  34.6609,  34.6601,2,    216.5,2,   213.9,2,    4.02,2,   16.55,2,    0.00,2,    1.19,2,   3.001,2,   1.659,2,-999.000,1,    0.805,2,  2133.3,2,  2291.7,2,-999.0000,9,  -999.00,-999.000,9,-999.0000,9, -999.00,9, -999.00,9,  -999.0,9,  -999.0,-999.000,9,-999.000,    42.7,2,-999.000,-999.0000, -999.00,   9.5278,   9.5739,2,20091222,       0414
318M20091121,        P06,     104,          2,         25,         25,2,20091222,       0209,   -32.5000,  -162.4300,       5270,   505.8,   7.9643,  34.4800,  34.4811,2,    226.9,2,   227.0,2,    5.40,2,   19.83,2,    0.00,2,    1.39,2,   3.114,2,   1.669,2,-999.000,1,    0.709,2,  2139.4,2,  2284.0,2,   7.7425,2,    25.00,-999.000,9,-999.0000,9, -999.00,9, -999.00,9,  -999.0,9,  -999.0,-999.000,9,-999.000,    39.7,2,-999.000,-999.0000, -999.00,   7.9126,   7.9667,2,20091222,       0411
318M20091121,        P06,     104,          2,         24,         24,2,20091222,       0209,   -32.5000,  -162.4300,       5270,   603.8,   7.1791,  34.4082,  34.4070,2,    232.5,2,   233.2,2,    6.79,2,   21.76,2,    0.00,2,    1.51,2,   2.886,2,   1.512,2,-999.000,1,    0.479,2,  2142.3,2,  2283.0,2,   7.7315,2,    25.00,-999.000,9,-999.0000,9, -999.00,9, -999.00,9,  -999.0,9,  -999.0,-999.000,9,-999.000,  -999.0,9,-999.000,-999.0000, -999.00,   7.1206,   7.1765,2,20091222,       0408
318M20091121,        P06,     104,          2,         23,         23,2,20091222,       0209,   -32.5000,  -162.4300,       5270,   702.6,   6.6577,  34.3720,  34.3721,2,    231.4,2,   232.2,2,    8.80,2,   23.23,2,    0.00,2,    1.61,2,   2.358,2,   1.217,2,-999.000,1,    0.215,2,  2145.3,2,  2281.8,2,   7.7246,2,    25.00,-999.000,9,-999.0000,9, -999.00,9, -999.00,9,  -999.0,9,  -999.0,-999.000,9,-999.000,    38.5,2,-999.000,-999.0000, -999.00,   6.5920,   6.6586,2,20091222,       0404
318M20091121,        P06,     104,          2,         22,         22,2,20091222,       0209,   -32.5000,  -162.4300,       5270,   804.9,   6.1153,  34.3391,  34.3396,2,    225.0,2,   227.5,2,   11.81,2,   24.94,2,    0.00,2,    1.72,2,   1.761,2,   0.880,2,-999.000,1,    0.143,2,  2153.0,2,  2285.5,6,   7.7078,2,    25.00,-999.000,9,-999.0000,9, -999.00,9, -999.00,9,  -999.0,9,  -999.0,-999.000,9,-999.000,  -999.0,9,-999.000,-999.0000, -999.00,   6.0428,   6.1085,2,20091222,       0401
318M20091121,        P06,     104,          2,         21,         21,2,20091222,       0209,   -32.5000,  -162.4300,       5270,   906.6,   5.5838,  34.3276,  34.3336,3,    216.6,2,   217.1,2,   16.85,2,   26.97,2,    0.00,2,    1.86,2,   1.180,2,   0.584,2,-999.000,1,        0,2,  2166.4,2,  2289.1,2,   7.6842,2,    25.00,-999.000,9,-999.0000,9, -999.00,9, -999.00,9,  -999.0,9,  -999.0,-999.000,9,-999.000,    39.9,2,-999.000,-999.0000, -999.00,   5.5051,   5.5866,2,20091222,       0358
318M20091121,        P06,     104,          2,         20,         20,2,20091222,       0209,   -32.5000,  -162.4300,       5270,  1007.2,   4.9019,  34.3300,  34.3301,2,    204.4,2,   204.2,2,   25.16,2,   29.34,2,    0.00,2,    2.02,2,   0.706,2,   0.340,2,-999.000,1,        0,2,  2183.0,6,  2293.8,2,-999.0000,9,  -999.00,-999.000,9,-999.0000,9, -999.00,9, -999.00,9,  -999.0,9,  -999.0,-999.000,9,-999.000,  -999.0,9,-999.000,-999.0000, -999.00,   4.8190,   4.9042,2,20091222,       0353
318M20091121,        P06,     104,          2,         19,         19,2,20091222,       0209,   -32.5000,  -162.4300,       5270,  1109.8,   4.3336,  34.3508,  34.3513,2,    193.4,2,   194.4,2,   34.29,2,   30.98,2,    0.00,2,    2.14,2,   0.476,2,   0.236,2,-999.000,1,        0,2,  2199.1,2,  2301.5,2,   7.6320,2,    25.00,-999.000,9,-999.0000,9, -999.00,9, -999.00,9,  -999.0,9,  -999.0,-999.000,9,-999.000,    38.0,2,-999.000,-999.0000, -999.00,   4.2462,   4.3321,2,20091222,       0350
318M20091121,        P06,     104,          2,         18,         18,2,20091222,       0209,   -32.5000,  -162.4300,       5270,  1206.2,   3.7519,  34.3845,  34.3859,2,    186.0,2,   185.7,2,   45.27,2,   32.59,2,    0.00,2,    2.25,2,   0.261,2,   0.133,2,-999.000,1,        0,2,  2217.8,2,  2312.2,2,-999.0000,9,  -999.00,-999.000,9,-999.0000,9, -999.00,9, -999.00,9,  -999.0,9,  -999.0,-999.000,9,-999.000,  -999.0,9,-999.000,-999.0000, -999.00,   3.6613,   3.7556,2,20091222,       0347
318M20091121,        P06,     104,          2,         17,         17,2,20091222,       0209,   -32.5000,  -162.4300,       5270,  1308.7,   3.3127,  34.4282,  34.4288,2,    178.8,2,   177.8,2,   55.46,2,   33.44,2,    0.00,2,    2.32,2,   0.165,2,   0.091,2,-999.000,1,        0,2,  2230.7,2,  2325.3,2,   7.5945,2,    25.00,-999.000,9,-999.0000,9, -999.00,9, -999.00,9,  -999.0,9,  -999.0,-999.000,9,-999.000,    37.8,2,-999.000,-999.0000, -999.00,   3.2177,   3.3126,2,20091222,       0344
318M20091121,        P06,     104,          2,         16,         16,2,20091222,       0209,   -32.5000,  -162.4300,       5270,  1410.2,   3.0016,  34.4866,  34.4868,2,    170.1,2,   169.3,2,   67.11,2,   34.05,2,    0.00,2,    2.37,2,   0.065,2,   0.040,2,-999.000,1,        0,2,  2247.3,2,  2339.4,2,-999.0000,9,  -999.00,-999.000,9,-999.0000,9, -999.00,9, -999.00,9,  -999.0,9,  -999.0,-999.000,9,-999.000,  -999.0,9,-999.000,-999.0000, -999.00,   2.9014,   3.0025,2,20091222,       0340
318M20091121,        P06,     104,          2,         15,         15,2,20091222,       0209,   -32.5000,  -162.4300,       5270,  1513.7,   2.8119,  34.5269,  34.5267,2,    163.9,2,   164.8,2,   75.90,2,   34.35,2,    0.00,2,    2.38,2,   0.038,2,   0.025,2,-999.000,1,        0,2,  2258.6,2,  2356.1,2,   7.5792,2,    25.00,-999.000,9,-999.0000,9, -999.00,9, -999.00,9,  -999.0,9,  -999.0,-999.000,9,-999.000,    43.2,2,-999.000,-999.0000, -999.00,   2.7052,   2.8127,2,20091222,       0336
318M20091121,        P06,     104,          2,         14,         14,2,20091222,       0209,   -32.5000,  -162.4300,       5270,  1615.5,   2.6351,  34.5649,  34.5660,2,    159.1,2,   159.7,2,   86.37,2,   34.56,2,    0.00,2,    2.41,2,   0.010,2,   0.006,2,-999.000,1,        0,2,  2269.5,2,  2375.3,2,-999.0000,9,  -999.00,-999.000,9,-999.0000,9, -999.00,9, -999.00,9,  -999.0,9,  -999.0,-999.000,9,-999.000,  -999.0,9,-999.000,-999.0000, -999.00,   2.5220,   2.6338,2,20091222,       0333
318M20091121,        P06,     104,          2,         13,         13,2,20091222,       0209,   -32.5000,  -162.4300,       5270,  1815.5,   2.4039,  34.6069,  34.6068,2,    153.2,2,   153.6,2,  100.15,2,   34.91,2,    0.00,2,    2.44,2,   0.005,2,   0.005,2,-999.000,1,        0,2,  2286.4,2,  2358.3,4,   7.5790,2,    25.00,-999.000,9,-999.0000,9, -999.00,9, -999.00,9,  -999.0,9,  -999.0,-999.000,9,-999.000,    40.3,2,-999.000,-999.0000, -999.00,   2.2771,   2.4040,2,20091222,       0328
318M20091121,        P06,     104,          2,         12,         12,2,20091222,       0209,   -32.5000,  -162.4300,       5270,  2020.5,   2.2083,  34.6309,  34.6316,2,    149.6,2,   149.9,2,  110.88,2,   35.26,2,    0.00,2,    2.46,2,   0.017,2,   0.012,2,-999.000,1,        0,2,  2300.5,2,  2385.9,2,-999.0000,9,  -999.00,-999.000,9,-999.0000,9, -999.00,9, -999.00,9,  -999.0,9,  -999.0,-999.000,9,-999.000,  -999.0,9,-999.000,-999.0000, -999.00,   2.0669,   2.2081,2,20091222,       0322
318M20091121,        P06,     104,          2,         11,         11,2,20091222,       0209,   -32.5000,  -162.4300,       5270,  2274.4,   2.0604,  34.6447,  34.6452,2,    147.3,2,   147.2,2,  118.74,2,   35.41,2,    0.00,2,    2.49,2,   0.011,2,   0.009,2,-999.000,1,        0,2,  2309.6,2,  2389.9,2,-999.0000,9,  -999.00,-999.000,9,-999.0000,9, -999.00,9, -999.00,9,  -999.0,9,  -999.0,-999.000,9,-999.000,    39.0,2,-999.000,-999.0000, -999.00,   1.8993,   2.0611,2,20091222,       0317
318M20091121,        P06,     104,          2,         10,         10,2,20091222,       0209,   -32.5000,  -162.4300,       5270,  2537.8,   1.9439,  34.6549,  34.6548,2,    146.4,2,   147.2,2,  124.74,2,   35.67,2,    0.00,2,    2.50,2,   0.004,2,   0.004,2,-999.000,1,        0,2,  2314.0,2,  2404.9,2,   7.5757,2,    25.00,-999.000,9,-999.0000,9, -999.00,9, -999.00,9,  -999.0,9,  -999.0,-999.000,9,-999.000,  -999.0,9,-999.000,-999.0000, -999.00,   1.7612,   1.9438,2,20091222,       0311
318M20091121,        P06,     104,          2,          9,          9,2,20091222,       0209,   -32.5000,  -162.4300,       5270,  2784.3,   1.8613,  34.6625,  34.6631,2,    148.0,2,   148.1,2,  127.83,2,   35.61,2,    0.00,2,    2.49,2,   0.011,2,   0.009,2,-999.000,1,        0,2,  2316.0,2,  2408.5,2,-999.0000,9,  -999.00,-999.000,9,-999.0000,9, -999.00,9, -999.00,9,  -999.0,9,  -999.0,-999.000,9,-999.000,    37.5,2,-999.000,-999.0000, -999.00,   1.6573,   1.8611,2,20091222,       0305
318M20091121,        P06,     104,          2,          8,          8,2,20091222,       0209,   -32.5000,  -162.4300,       5270,  3037.1,   1.7798,  34.6707,  34.6710,2,    151.6,2,   151.9,2,  129.06,2,   35.41,2,    0.00,2,    2.47,2,   0.013,2,   0.008,2,-999.000,1,        0,2,  2314.0,2,  2405.3,2,-999.0000,9,  -999.00,-999.000,9,-999.0000,9, -999.00,9, -999.00,9,  -999.0,9,  -999.0,-999.000,9,-999.000,  -999.0,9,-999.000,-999.0000, -999.00,   1.5532,   1.7794,2,20091222,       0259
318M20091121,        P06,     104,          2,          7,          7,2,20091222,       0209,   -32.5000,  -162.4300,       5270,  3343.9,   1.6705,  34.6868,  34.6868,2,    163.7,2,   163.4,2,  124.67,2,   34.45,2,    0.00,2,    2.40,2,   0.011,2,   0.010,2,-999.000,1,        0,2,  2302.0,2,  2395.8,2,   7.5904,2,    25.00,-999.000,9,-999.0000,9, -999.00,9, -999.00,9,  -999.0,9,  -999.0,-999.000,9,-999.000,    36.3,2,-999.000,-999.0000, -999.00,   1.4159,   1.6708,2,20091222,       0252
318M20091121,        P06,     104,          2,          6,          6,2,20091222,       0209,   -32.5000,  -162.4300,       5270,  3650.8,   1.5461,  34.7068,  34.7078,2,    182.7,2,   182.4,2,  114.90,2,   32.88,2,    0.00,2,    2.28,2,   0.011,2,   0.008,2,-999.000,1,        0,2,  2279.5,2,  2377.9,2,-999.0000,9,  -999.00,-999.000,9,-999.0000,9, -999.00,9, -999.00,9,  -999.0,9,  -999.0,-999.000,9,-999.000,  -999.0,9,-999.000,-999.0000, -999.00,   1.2630,   1.5457,2,20091222,       0245
318M20091121,        P06,     104,          2,          5,          5,2,20091222,       0209,   -32.5000,  -162.4300,       5270,  3960.2,   1.3794,  34.7164,  34.7169,2,    195.2,2,   195.4,2,  111.56,2,   31.97,2,    0.00,2,    2.21,2,   0.020,2,   0.012,2,-999.000,1,        0,2,  2265.2,2,  2373.6,2,-999.0000,9,  -999.00,-999.000,9,-999.0000,9, -999.00,9, -999.00,9,  -999.0,9,  -999.0,-999.000,9,-999.000,    39.2,2,-999.000,-999.0000, -999.00,   1.0679,   1.3796,2,20091222,       0239
318M20091121,        P06,     104,          2,          4,          4,2,20091222,       0209,   -32.5000,  -162.4300,       5270,  4266.3,   1.1941,  34.7151,  34.7147,2,    202.7,2,   201.9,2,  114.44,2,   31.82,2,    0.00,2,    2.20,2,   0.038,2,   0.021,2,-999.000,1,        0,2,  2262.0,2,  2371.8,2,   7.6185,2,    25.00,-999.000,9,-999.0000,9, -999.00,9, -999.00,9,  -999.0,9,  -999.0,-999.000,9,-999.000,  -999.0,9,-999.000,-999.0000, -999.00,   0.8546,   1.1937,2,20091222,       0232
318M20091121,        P06,     104,          2,          3,          3,2,20091222,       0209,   -32.5000,  -162.4300,       5270,  4571.5,   1.0813,  34.7113,  34.7112,2,    205.1,2,   205.1,2,  117.95,2,   31.88,2,    0.00,2,    2.20,2,   0.052,2,   0.029,2,-999.000,1,        0,2,  2262.9,2,  2375.0,2,-999.0000,9,  -999.00,-999.000,9,-999.0000,9, -999.00,9, -999.00,9,  -999.0,9,  -999.0,-999.000,9,-999.000,    38.8,2,-999.000,-999.0000, -999.00,   0.7110,   1.0812,2,20091222,       0226
318M20091121,        P06,     104,          2,          2,          2,2,20091222,       0209,   -32.5000,  -162.4300,       5270,  4987.2,   1.0639,  34.7091,  34.7094,2,    205.0,2,   205.8,2,  120.20,2,   31.92,2,    0.00,2,    2.21,2,   0.079,2,   0.043,2,-999.000,1,        0,2,  2264.3,2,  2364.5,2,-999.0000,9,  -999.00,-999.000,9,-999.0000,9, -999.00,9, -999.00,9,  -999.0,9,  -999.0,-999.000,9,-999.000,  -999.0,9,-999.000,-999.0000, -999.00,   0.6457,   1.0643,2,20091222,       0217
318M20091121,        P06,     104,          2,          1,          1,2,20091222,       0209,   -32.5000,  -162.4300,       5270,  5393.9,   1.1042,  34.7081,  34.7091,2,    206.4,2,   206.2,2,  119.77,2,   31.87,2,    0.00,2,    2.20,2,   0.067,2,   0.034,2,-999.000,1,        0,2,  2264.4,6,  2367.1,6,   7.6172,6,    25.00,-999.000,9,-999.0000,9, -999.00,9, -999.00,9,  -999.0,9,  -999.0,-999.000,9,-999.000,    41.5,2,-999.000,-999.0000, -999.00,   0.6351,   1.1044,2,20091222,       0209