BOTTLE,20220818CCHSIOAMB
EXPOCODE,SECT_ID,STNNBR,CASTNO,SAMPNO,BTLNBR,BTLNBR_FLAG_W,DATE,TIME,LATITUDE,LONGITUDE,DEPTH,CTDPRS,CTDTMP,CTDSAL,SALNTY,SALNTY_FLAG_W,CTDOXY,CTDOXY_FLAG_W,OXYGEN,OXYGEN_FLAG_W,SILCAT,SILCAT_FLAG_W,NITRAT,NITRAT_FLAG_W,NITRIT,NITRIT_FLAG_W,PHSPHT,PHSPHT_FLAG_W,CFC-11,CFC-11_FLAG_W,CFC-12,CFC-12_FLAG_W,CFC113,CFC113_FLAG_W,SF6,SF6_FLAG_W,TCARBN,TCARBN_FLAG_W,ALKALI,ALKALI_FLAG_W,PH_SWS,PH_SWS_FLAG_W,PH_TMP,TRITUM,TRITUM_FLAG_W,HELIUM,HELIUM_FLAG_W,DELHE3,DELHE3_FLAG_W,DELC13,DELC13_FLAG_W,DELC14,DELC14_FLAG_W,C14ERR,NEON,NEON_FLAG_W,NEONER,DOC,DOC_FLAG_W,TRITER,HELIER,DELHER,THETA,SBE35,SBE35_FLAG_W,BTL_DATE,BTL_TIME
,,,,,,,,,,,METERS,DBAR,ITS-90,PSS-78,PSS-78,,UMOL/KG,,UMOL/KG,,UMOL/KG,,UMOL/KG,,UMOL/KG,,UMOL/KG,,PMOL/KG,,PMOL/KG,,PMOL/KG,,FMOL/KG,,UMOL/KG,,UMOL/KG,,,,DEG C,TU,,NMOL/KG,,PERCNT,,/MILLE,,/MILLE,,/MILLE,NMOL/KG,,NMOL/KG,UMOL/KG,,TU,NMOL/KG,PERCNT,DEG C,ITS-90,,,
318M20091121,        P06,       9,          2,         36,         36,2,20091124,       1211,   -30.0800,   154.1600,       4597,     4.2,  24.1107,  35.5149,  35.5136,2,    369.6,4,   213.0,2,    0.66,2,    0.04,3,    0.00,2,    0.13,2,   1.838,2,   1.140,2,   0.141,2,-999.0000,5,  2005.5,6,  2320.2,2,   8.0500,2,    25.00,-999.000,9,-999.0000,9, -999.00,9, -999.00,9,  -999.0,9,  -999.0,-999.000,9,-999.000,  -999.0,9,-999.000,-999.0000, -999.00,  24.1098,  24.1112,2,20091124,       1458
318M20091121,        P06,       9,          2,         35,         35,2,20091124,       1211,   -30.0800,   154.1600,       4597,    27.3,  22.5089,  35.5087,  35.5087,2,    131.9,4,   223.9,2,    0.80,2,    0.02,3,    0.00,2,    0.10,2,   1.989,2,   1.208,2,   0.147,2,-999.0000,5,  -999.0,9,  -999.0,9,-999.0000,9,  -999.00,-999.000,9,-999.0000,9, -999.00,9, -999.00,9,  -999.0,9,  -999.0,-999.000,9,-999.000,  -999.0,9,-999.000,-999.0000, -999.00,  22.5034,  22.4759,3,20091124,       1454
318M20091121,        P06,       9,          2,         34,         34,2,20091124,       1211,   -30.0800,   154.1600,       4597,    63.8,  20.6656,  35.5442,  35.5421,2,    209.0,2,   203.4,2,    0.94,2,    0.25,3,    0.05,2,    0.20,2,   2.083,2,   1.261,2,   0.123,2,-999.0000,5,  2034.2,2,  2324.0,6,   8.0179,2,    25.00,-999.000,9,-999.0000,9, -999.00,9, -999.00,9,  -999.0,9,  -999.0,-999.000,9,-999.000,  -999.0,9,-999.000,-999.0000, -999.00,  20.6535,  20.6642,2,20091124,       1451
318M20091121,        P06,       9,          2,         33,         33,2,20091124,       1211,   -30.0800,   154.1600,       4597,    85.6,  20.0229,  35.5585,  35.5562,2,    194.1,2,   198.0,2,    1.07,2,    1.55,3,    0.04,2,    0.27,2,   2.189,2,   1.306,2,   0.121,2,-999.0000,5,  -999.0,9,  -999.0,9,-999.0000,9,  -999.00,-999.000,9,-999.0000,9, -999.00,9, -999.00,9,  -999.0,9,  -999.0,-999.000,9,-999.000,  -999.0,9,-999.000,-999.0000, -999.00,  20.0070,  20.0200,2,20091124,       1448
318M20091121,        P06,       9,          2,         32,         32,2,20091124,       1211,   -30.0800,   154.1600,       4597,   104.2,  19.6063,  35.5797,  35.5791,2,    191.6,2,   196.1,2,    0.80,2,    2.06,3,    0.02,2,    0.32,2,   2.334,2,   1.351,2,   0.102,2,-999.0000,5,  2050.4,2,  2325.3,2,   7.9940,2,    25.00,-999.000,9,-999.0000,9, -999.00,9, -999.00,9,  -999.0,9,  -999.0,-999.000,9,-999.000,  -999.0,9,-999.000,-999.0000, -999.00,  19.5873,  19.6056,2,20091124,       1445
318M20091121,        P06,       9,          2,         31,         31,2,20091124,       1211,   -30.0800,   154.1600,       4597,   132.7,  18.9166,  35.6074,  35.6050,2,    190.7,2,   191.5,2,    1.14,2,    3.26,3,    0.01,2,    0.39,2,   2.484,2,   1.360,2,   0.069,2,-999.0000,5,  -999.0,9,  -999.0,9,-999.0000,9,  -999.00,-999.000,9,-999.0000,9, -999.00,9, -999.00,9,  -999.0,9,  -999.0,-999.000,9,-999.000,  -999.0,9,-999.000,-999.0000, -999.00,  18.8929,  18.9241,2,20091124,       1443
318M20091121,        P06,       9,          2,         30,         30,2,20091124,       1211,   -30.0800,   154.1600,       4597,   164.3,  18.1408,  35.5779,  35.5768,2,    187.2,2,   185.0,2,    1.49,2,    4.70,3,    0.01,2,    0.49,2,   2.478,2,   1.279,2,   0.053,2,-999.0000,5,  2077.8,2,  2327.7,2,   7.9381,6,    25.00,-999.000,9,-999.0000,9, -999.00,9, -999.00,9,  -999.0,9,  -999.0,-999.000,9,-999.000,  -999.0,9,-999.000,-999.0000, -999.00,  18.1123,  18.1380,2,20091124,       1440
318M20091121,        P06,       9,          2,         29,         29,2,20091124,       1211,   -30.0800,   154.1600,       4597,   212.0,  15.5254,  35.3452,  35.3473,2,    181.2,2,   181.0,2,    3.47,2,    9.09,3,    0.01,2,    0.77,2,   2.254,2,   1.263,2,   0.046,2,-999.0000,5,  2105.2,2,  2317.3,2,   7.8804,2,    25.00,-999.000,9,-999.0000,9, -999.00,9, -999.00,9,  -999.0,9,  -999.0,-999.000,9,-999.000,  -999.0,9,-999.000,-999.0000, -999.00,  15.4924,  15.5427,3,20091124,       1437
318M20091121,        P06,       9,          2,         28,         28,2,20091124,       1211,   -30.0800,   154.1600,       4597,   263.5,  14.1676,  35.2806,  35.2786,2,    190.1,2,   190.9,2,    3.62,2,    9.83,3,    0.00,2,    0.82,2,   2.405,2,   1.347,2,   0.067,2,-999.0000,5,  -999.0,9,  -999.0,9,-999.0000,9,  -999.00,-999.000,9,-999.0000,9, -999.00,9, -999.00,9,  -999.0,9,  -999.0,-999.000,9,-999.000,  -999.0,9,-999.000,-999.0000, -999.00,  14.1290,  14.1694,2,20091124,       1434
318M20091121,        P06,       9,          2,         27,         27,2,20091124,       1211,   -30.0800,   154.1600,       4597,   314.5,  13.4186,  35.2242,  35.2218,2,    192.1,2,   195.7,2,    3.75,2,   10.77,3,    0.00,2,    0.88,2,   2.459,2,   1.369,2,   0.076,2,-999.0000,5,  2118.5,2,  2313.2,2,   7.8470,2,    25.00,-999.000,9,-999.0000,9, -999.00,9, -999.00,9,  -999.0,9,  -999.0,-999.000,9,-999.000,  -999.0,9,-999.000,-999.0000, -999.00,  13.3741,  13.4097,2,20091124,       1430
318M20091121,        P06,       9,          2,         26,         26,2,20091124,       1211,   -30.0800,   154.1600,       4597,   365.3,  12.1752,  35.0597,  35.0627,2,    198.9,2,   194.6,2,    5.12,2,   13.31,3,    0.00,2,    1.04,2,   2.414,2,   1.322,2,   0.071,2,-999.0000,5,  -999.0,9,  -999.0,9,-999.0000,9,  -999.00,-999.000,9,-999.0000,9, -999.00,9, -999.00,9,  -999.0,9,  -999.0,-999.000,9,-999.000,  -999.0,9,-999.000,-999.0000, -999.00,  12.1267,  12.1737,2,20091124,       1427
318M20091121,        P06,       9,          2,         25,         25,2,20091124,       1211,   -30.0800,   154.1600,       4597,   411.3,  11.4481,  34.9947,  34.9915,2,    199.3,2,   198.8,2,    5.46,2,   14.46,3,    0.00,2,    1.11,2,   2.459,2,   1.360,2,   0.078,2,-999.0000,5,  2132.9,2,  2306.5,2,   7.7970,2,    25.00,-999.000,9,-999.0000,9, -999.00,9, -999.00,9,  -999.0,9,  -999.0,-999.000,9,-999.000,  -999.0,9,-999.000,-999.0000, -999.00,  11.3956,  11.4485,2,20091124,       1424
318M20091121,        P06,       9,          2,         24,         24,2,20091124,       1211,   -30.0800,   154.1600,       4597,   462.0,  10.6556,  34.8826,  34.8816,2,    200.0,2,   198.6,2,    6.43,2,   16.39,3,    0.00,2,    1.22,2,   2.425,2,   1.308,2,   0.078,2,-999.0000,5,  -999.0,9,  -999.0,9,-999.0000,9,  -999.00,-999.000,9,-999.0000,9, -999.00,9, -999.00,9,  -999.0,9,  -999.0,-999.000,9,-999.000,  -999.0,9,-999.000,-999.0000, -999.00,  10.5992,  10.6546,2,20091124,       1421
318M20091121,        P06,       9,          2,         23,         23,2,20091124,       1211,   -30.0800,   154.1600,       4597,   533.2,   9.5488,  34.7365,  34.7355,2,    200.1,2,   200.8,2,    8.22,2,   18.94,3,    0.00,2,    1.38,2,   2.353,2,   1.246,2,   0.079,2,-999.0000,5,  2146.9,2,  2292.7,2,   7.7501,2,    25.00,-999.000,9,-999.0000,9, -999.00,9, -999.00,9,  -999.0,9,  -999.0,-999.000,9,-999.000,  -999.0,9,-999.000,-999.0000, -999.00,   9.4878,   9.5479,2,20091124,       1418
318M20091121,        P06,       9,          2,         22,         22,2,20091124,       1211,   -30.0800,   154.1600,       4597,   634.0,   8.0696,  34.5702,  34.5704,2,    198.5,2,   198.3,2,   12.28,2,   22.70,3,    0.00,2,    1.61,2,   1.771,2,   0.914,2,   0.058,2,-999.0000,5,  2157.3,2,  2292.1,2,   7.7156,2,    25.00,-999.000,9,-999.0000,9, -999.00,9, -999.00,9,  -999.0,9,  -999.0,-999.000,9,-999.000,  -999.0,9,-999.000,-999.0000, -999.00,   8.0037,   8.0686,2,20091124,       1413
318M20091121,        P06,       9,          2,         21,         21,2,20091124,       1211,   -30.0800,   154.1600,       4597,   736.3,   7.0603,  34.4937,  34.4936,2,    195.6,2,   196.4,2,   17.81,2,   25.40,3,    0.00,2,    1.79,2,   1.242,2,   0.648,2,   0.035,2,-999.0000,5,  2168.5,2,  2288.7,2,   7.6929,2,    25.00,-999.000,9,-999.0000,9, -999.00,9, -999.00,9,  -999.0,9,  -999.0,-999.000,9,-999.000,  -999.0,9,-999.000,-999.0000, -999.00,   6.9889,   7.0600,2,20091124,       1409
318M20091121,        P06,       9,          2,         20,         20,2,20091124,       1211,   -30.0800,   154.1600,       4597,   838.0,   6.2635,  34.4569,  34.4558,2,    192.6,2,   192.9,2,   24.58,2,   27.46,3,    0.00,2,    1.92,2,   0.842,2,   0.445,2,   0.023,2,-999.0000,5,  2179.6,2,  2293.6,2,   7.6744,2,    25.00,-999.000,9,-999.0000,9, -999.00,9, -999.00,9,  -999.0,9,  -999.0,-999.000,9,-999.000,  -999.0,9,-999.000,-999.0000, -999.00,   6.1867,   6.2624,2,20091124,       1405
318M20091121,        P06,       9,          2,         19,         19,2,20091124,       1211,   -30.0800,   154.1600,       4597,   940.0,   5.4790,  34.4455,  34.4449,2,    185.4,2,   186.0,2,   34.72,2,   29.66,3,    0.00,2,    2.07,2,   0.539,2,   0.299,2,   0.020,2,-999.0000,5,  2195.2,2,  2302.9,2,   7.6509,2,    25.00,-999.000,9,-999.0000,9, -999.00,9, -999.00,9,  -999.0,9,  -999.0,-999.000,9,-999.000,  -999.0,9,-999.000,-999.0000, -999.00,   5.3978,   5.4783,2,20091124,       1401
318M20091121,        P06,       9,          2,         18,         18,2,20091124,       1211,   -30.0800,   154.1600,       4597,  1043.0,   4.8380,  34.4589,  34.4584,2,    178.0,2,   178.4,2,   45.94,2,   31.26,3,    0.00,2,    2.17,2,   0.327,2,   0.172,2,   0.013,2,-999.0000,5,  2212.3,6,  -999.0,5,   7.6328,2,    25.00,-999.000,9,-999.0000,9, -999.00,9, -999.00,9,  -999.0,9,  -999.0,-999.000,9,-999.000,  -999.0,9,-999.000,-999.0000, -999.00,   4.7521,   4.8425,2,20091124,       1357
318M20091121,        P06,       9,          2,         17,         17,2,20091124,       1211,   -30.0800,   154.1600,       4597,  1134.4,   4.3858,  34.4810,  34.4799,2,    171.6,2,   171.1,2,   56.16,2,   32.46,3,    0.00,2,    2.27,2,   0.192,2,   0.110,2,   0.003,2,-999.0000,5,  -999.0,9,  -999.0,9,-999.0000,9,  -999.00,-999.000,9,-999.0000,9, -999.00,9, -999.00,9,  -999.0,9,  -999.0,-999.000,9,-999.000,  -999.0,9,-999.000,-999.0000, -999.00,   4.2955,   4.3851,2,20091124,       1352
318M20091121,        P06,       9,          2,         16,         16,2,20091124,       1211,   -30.0800,   154.1600,       4597,  1241.7,   3.8993,  34.5111,  34.5100,2,    163.6,2,   163.8,2,   67.26,2,   33.71,3,    0.00,2,    2.35,2,   0.131,2,   0.078,2,   0.001,2,-999.0000,5,  2244.0,2,  2341.1,6,   7.6018,2,    25.00,-999.000,9,-999.0000,9, -999.00,9, -999.00,9,  -999.0,9,  -999.0,-999.000,9,-999.000,  -999.0,9,-999.000,-999.0000, -999.00,   3.8040,   3.9005,2,20091124,       1348
318M20091121,        P06,       9,          2,         15,         15,2,20091124,       1211,   -30.0800,   154.1600,       4597,  1344.1,   3.4830,  34.5422,  34.5421,2,    157.8,2,   157.9,2,   77.75,2,   34.60,3,    0.00,2,    2.42,2,   0.075,2,   0.044,2,   0.001,2,-999.0000,5,  -999.0,9,  -999.0,9,-999.0000,9,  -999.00,-999.000,9,-999.0000,9, -999.00,9, -999.00,9,  -999.0,9,  -999.0,-999.000,9,-999.000,  -999.0,9,-999.000,-999.0000, -999.00,   3.3831,   3.4829,2,20091124,       1343
318M20091121,        P06,       9,          2,         14,         14,2,20091124,       1211,   -30.0800,   154.1600,       4597,  1446.1,   3.1722,  34.5679,  34.5665,2,    154.4,2,   154.1,2,   84.88,2,   35.14,3,    0.00,2,    2.45,2,   0.048,2,   0.028,2,   0.002,2,-999.0000,5,  -999.0,9,  -999.0,9,-999.0000,9,  -999.00,-999.000,9,-999.0000,9, -999.00,9, -999.00,9,  -999.0,9,  -999.0,-999.000,9,-999.000,  -999.0,9,-999.000,-999.0000, -999.00,   3.0669,   3.1738,2,20091124,       1338
318M20091121,        P06,       9,          2,         13,         13,2,20091124,       1211,   -30.0800,   154.1600,       4597,  1547.9,   2.9564,  34.5880,  34.5869,2,    153.7,2,   153.7,2,   89.27,2,   35.38,3,    0.00,2,    2.46,2,   0.036,2,   0.022,2,  -0.001,2,-999.0000,5,  2272.8,2,  2361.6,2,   7.5809,2,    25.00,-999.000,9,-999.0000,9, -999.00,9, -999.00,9,  -999.0,9,  -999.0,-999.000,9,-999.000,  -999.0,9,-999.000,-999.0000, -999.00,   2.8450,   2.9560,2,20091124,       1333
318M20091121,        P06,       9,          2,         12,         12,2,20091124,       1211,   -30.0800,   154.1600,       4597,  1676.3,   2.6676,  34.6193,  34.6192,2,    156.1,2,   156.4,2,   92.61,2,   35.16,3,    0.00,2,    2.45,2,   0.027,2,   0.015,2,   0.001,2,-999.0000,5,  2275.4,2,  2364.4,2,   7.5853,2,    25.00,-999.000,9,-999.0000,9, -999.00,9, -999.00,9,  -999.0,9,  -999.0,-999.000,9,-999.000,  -999.0,9,-999.000,-999.0000, -999.00,   2.5489,   2.6669,2,20091124,       1327
318M20091121,        P06,       9,          2,         11,         11,2,20091124,       1211,   -30.0800,   154.1600,       4597,  1881.5,   2.3819,  34.6586,  34.6580,2,    163.7,2,   164.3,2,   93.39,2,   34.43,3,    0.00,2,    2.39,2,   0.022,2,   0.013,2,   0.000,2,-999.0000,5,  -999.0,9,  -999.0,9,-999.0000,9,  -999.00,-999.000,9,-999.0000,9, -999.00,9, -999.00,9,  -999.0,9,  -999.0,-999.000,9,-999.000,  -999.0,9,-999.000,-999.0000, -999.00,   2.2497,   2.3813,2,20091124,       1321
318M20091121,        P06,       9,          2,         10,         10,2,20091124,       1211,   -30.0800,   154.1600,       4597,  2104.9,   2.2067,  34.6866,  34.6861,2,    171.8,2,   171.8,2,   92.91,2,   33.65,3,    0.00,2,    2.34,2,   0.019,2,   0.010,2,   0.002,2,-999.0000,5,  2265.9,2,  2360.7,2,   7.5945,2,    25.00,-999.000,9,-999.0000,9, -999.00,9, -999.00,9,  -999.0,9,  -999.0,-999.000,9,-999.000,  -999.0,9,-999.000,-999.0000, -999.00,   2.0579,   2.2065,2,20091124,       1314
318M20091121,        P06,       9,          2,          9,          9,2,20091124,       1211,   -30.0800,   154.1600,       4597,  2357.3,   1.9943,  34.7119,  34.7117,2,    180.0,2,   181.3,2,   95.82,2,   32.93,3,    0.00,2,    2.29,2,   0.015,2,   0.009,2,  -0.001,2,-999.0000,5,  -999.0,9,  -999.0,9,-999.0000,9,  -999.00,-999.000,9,-999.0000,9, -999.00,9, -999.00,9,  -999.0,9,  -999.0,-999.000,9,-999.000,  -999.0,9,-999.000,-999.0000, -999.00,   1.8267,   1.9940,2,20091124,       1308
318M20091121,        P06,       9,          2,          8,          8,2,20091124,       1211,   -30.0800,   154.1600,       4597,  2613.7,   1.7908,  34.7230,  34.7224,2,    185.3,2,   185.2,2,  100.22,2,   32.65,3,    0.00,2,    2.26,2,   0.014,2,   0.008,2,  -0.001,2,-999.0000,5,  2265.1,2,  2363.0,2,   7.6112,2,    25.00,-999.000,9,-999.0000,9, -999.00,9, -999.00,9,  -999.0,9,  -999.0,-999.000,9,-999.000,  -999.0,9,-999.000,-999.0000, -999.00,   1.6038,   1.7904,2,20091124,       1302
318M20091121,        P06,       9,          2,          7,          7,2,20091124,       1211,   -30.0800,   154.1600,       4597,  2876.2,   1.5950,  34.7244,  34.7247,2,    189.3,2,   188.9,2,  105.27,2,   32.68,3,    0.00,2,    2.27,2,   0.012,2,   0.008,2,   0.000,2,-999.0000,5,  -999.0,9,  -999.0,9,-999.0000,9,  -999.00,-999.000,9,-999.0000,9, -999.00,9, -999.00,9,  -999.0,9,  -999.0,-999.000,9,-999.000,  -999.0,9,-999.000,-999.0000, -999.00,   1.3876,   1.5949,2,20091124,       1256
318M20091121,        P06,       9,          2,          6,          6,2,20091124,       1211,   -30.0800,   154.1600,       4597,  3138.2,   1.4065,  34.7221,  34.7228,2,    192.3,2,   191.8,2,  109.89,2,   32.87,3,    0.00,2,    2.28,2,   0.009,2,   0.007,2,  -0.002,2,-999.0000,5,  2269.4,2,  2371.4,2,   7.6168,6,    25.00,-999.000,9,-999.0000,9, -999.00,9, -999.00,9,  -999.0,9,  -999.0,-999.000,9,-999.000,  -999.0,9,-999.000,-999.0000, -999.00,   1.1783,   1.4066,2,20091124,       1249
318M20091121,        P06,       9,          2,          5,          5,2,20091124,       1211,   -30.0800,   154.1600,       4597,  3442.8,   1.2346,  34.7186,  34.7185,2,    195.0,2,   195.9,2,  114.75,2,   33.10,3,    0.00,2,    2.29,2,   0.011,2,   0.008,2,  -0.002,2,-999.0000,5,  2273.6,2,  2375.0,2,   7.6194,2,    25.00,-999.000,9,-999.0000,9, -999.00,9, -999.00,9,  -999.0,9,  -999.0,-999.000,9,-999.000,  -999.0,9,-999.000,-999.0000, -999.00,   0.9806,   1.2345,2,20091124,       1242
318M20091121,        P06,       9,          2,          4,          4,2,20091124,       1211,   -30.0800,   154.1600,       4597,  3753.0,   1.1689,  34.7161,  34.7155,2,    195.7,2,   195.8,2,  117.24,2,   33.19,3,    0.00,2,    2.29,2,   0.013,2,   0.008,2,  -0.002,2,-999.0000,5,  -999.0,9,  -999.0,9,-999.0000,9,  -999.00,-999.000,9,-999.0000,9, -999.00,9, -999.00,9,  -999.0,9,  -999.0,-999.000,9,-999.000,  -999.0,9,-999.000,-999.0000, -999.00,   0.8851,   1.1689,2,20091124,       1234
318M20091121,        P06,       9,          2,          3,          3,2,20091124,       1211,   -30.0800,   154.1600,       4597,  4056.0,   1.1570,  34.7151,  34.7148,2,    196.8,2,   196.8,2,  118.48,2,   33.22,3,    0.00,2,    2.30,2,   0.017,2,   0.011,2,  -0.002,2,-999.0000,5,  2276.6,2,  2384.1,6,   7.6236,2,    25.00,-999.000,9,-999.0000,9, -999.00,9, -999.00,9,  -999.0,9,  -999.0,-999.000,9,-999.000,  -999.0,9,-999.000,-999.0000, -999.00,   0.8415,   1.1570,2,20091124,       1226
318M20091121,        P06,       9,          2,          2,          2,2,20091124,       1211,   -30.0800,   154.1600,       4597,  4316.7,   1.1682,  34.7146,  34.7138,2,    196.3,2,   196.6,2,  118.84,2,   33.21,3,    0.00,2,    2.30,2,   0.020,2,   0.018,2,   0.000,2,-999.0000,5,  -999.0,9,  -999.0,9,-999.0000,9,  -999.00,-999.000,9,-999.0000,9, -999.00,9, -999.00,9,  -999.0,9,  -999.0,-999.000,9,-999.000,  -999.0,9,-999.000,-999.0000, -999.00,   0.8239,   1.1679,2,20091124,       1219
318M20091121,        P06,       9,          2,          1,          1,2,20091124,       1211,   -30.0800,   154.1600,       4597,  4668.4,   1.1841,  34.7138,  34.7136,2,    196.4,2,   196.4,2,  119.86,2,   33.24,3,    0.00,2,    2.30,2,   0.031,2,   0.021,2,   0.004,2,-999.0000,5,  2276.6,6,  2384.2,2,   7.6161,2,    25.00,-999.000,9,-999.0000,9, -999.00,9, -999.00,9,  -999.0,9,  -999.0,-999.000,9,-999.000,  -999.0,9,-999.000,-999.0000, -999.00,   0.7994,   1.1841,2,20091124,       1211