BOTTLE,20220818CCHSIOAMB
EXPOCODE,SECT_ID,STNNBR,CASTNO,SAMPNO,BTLNBR,BTLNBR_FLAG_W,DATE,TIME,LATITUDE,LONGITUDE,DEPTH,CTDPRS,CTDTMP,CTDSAL,SALNTY,SALNTY_FLAG_W,CTDOXY,CTDOXY_FLAG_W,OXYGEN,OXYGEN_FLAG_W,SILCAT,SILCAT_FLAG_W,NITRAT,NITRAT_FLAG_W,NITRIT,NITRIT_FLAG_W,PHSPHT,PHSPHT_FLAG_W,CFC-11,CFC-11_FLAG_W,CFC-12,CFC-12_FLAG_W,CFC113,CFC113_FLAG_W,SF6,SF6_FLAG_W,TCARBN,TCARBN_FLAG_W,ALKALI,ALKALI_FLAG_W,PH_SWS,PH_SWS_FLAG_W,PH_TMP,TRITUM,TRITUM_FLAG_W,HELIUM,HELIUM_FLAG_W,DELHE3,DELHE3_FLAG_W,DELC13,DELC13_FLAG_W,DELC14,DELC14_FLAG_W,C14ERR,NEON,NEON_FLAG_W,NEONER,DOC,DOC_FLAG_W,TRITER,HELIER,DELHER,THETA,SBE35,SBE35_FLAG_W,BTL_DATE,BTL_TIME
,,,,,,,,,,,METERS,DBAR,ITS-90,PSS-78,PSS-78,,UMOL/KG,,UMOL/KG,,UMOL/KG,,UMOL/KG,,UMOL/KG,,UMOL/KG,,PMOL/KG,,PMOL/KG,,PMOL/KG,,FMOL/KG,,UMOL/KG,,UMOL/KG,,,,DEG C,TU,,NMOL/KG,,PERCNT,,/MILLE,,/MILLE,,/MILLE,NMOL/KG,,NMOL/KG,UMOL/KG,,TU,NMOL/KG,PERCNT,DEG C,ITS-90,,,
318M20091121,        P06,      38,          1,         31,         31,2,20091201,       1653,   -30.0800,   165.4100,       3376,     6.4,  22.0247,  35.7011,  35.7006,2,    221.9,2,   222.3,2,    0.62,2,    0.00,2,    0.00,2,    0.08,2,   2.177,2,   1.329,2,-999.000,1,     1.24,2,  2029.1,2,  2336.2,6,   8.0448,2,    25.00,-999.000,9,-999.0000,9, -999.00,9, -999.00,9,  -999.0,9,  -999.0,-999.000,9,-999.000,  -999.0,5,-999.000,-999.0000, -999.00,  22.0234,  22.0348,2,20091201,       1850
318M20091121,        P06,      38,          1,         30,         30,2,20091201,       1653,   -30.0800,   165.4100,       3376,    25.1,  20.6012,  35.6394,  35.6372,2,    232.6,2,   235.3,2,    0.40,2,    0.00,2,    0.00,2,    0.08,2,   2.055,2,   1.261,2,-999.000,1,    1.165,2,  2038.2,2,  2328.4,2,   8.0564,2,    25.00,-999.000,9,-999.0000,9, -999.00,9, -999.00,9,  -999.0,9,  -999.0,-999.000,9,-999.000,    59.2,2,-999.000,-999.0000, -999.00,  20.5965,  20.5950,2,20091201,       1847
318M20091121,        P06,      38,          1,         29,         29,2,20091201,       1653,   -30.0800,   165.4100,       3376,    50.3,  19.6287,  35.6357,  35.6414,2,    234.8,2,   234.8,2,    0.59,2,    0.00,2,    0.00,2,    0.09,2,   2.256,6,   1.359,6,-999.000,1,    1.146,6,  2046.5,2,  2331.3,2,   8.0351,2,    25.00,-999.000,9,-999.0000,9, -999.00,9, -999.00,9,  -999.0,9,  -999.0,-999.000,9,-999.000,    56.6,2,-999.000,-999.0000, -999.00,  19.6195,  19.6353,2,20091201,       1845
318M20091121,        P06,      38,          1,         28,         28,2,20091201,       1653,   -30.0800,   165.4100,       3376,    76.2,  19.0170,  35.5974,  35.5949,2,    203.7,2,   204.5,2,    0.97,2,    2.45,2,    0.15,2,    0.28,2,   2.222,2,   1.342,2,-999.000,1,    1.138,2,  2064.4,2,  2325.7,2,   7.9962,2,    25.00,-999.000,9,-999.0000,9, -999.00,9, -999.00,9,  -999.0,9,  -999.0,-999.000,9,-999.000,    54.1,2,-999.000,-999.0000, -999.00,  19.0034,  19.0164,2,20091201,       1843
318M20091121,        P06,      38,          1,         27,         27,2,20091201,       1653,   -30.0800,   165.4100,       3376,   101.4,  18.6957,  35.6004,  35.5997,2,    216.1,2,   216.3,2,    0.75,2,    1.19,2,    0.20,2,    0.22,2,   2.284,2,   1.371,2,-999.000,1,    1.185,2,  2067.0,2,  2331.4,2,   8.0064,6,    25.00,-999.000,9,-999.0000,9, -999.00,9, -999.00,9,  -999.0,9,  -999.0,-999.000,9,-999.000,    48.6,2,-999.000,-999.0000, -999.00,  18.6778,  18.6966,2,20091201,       1840
318M20091121,        P06,      38,          1,         26,         26,2,20091201,       1653,   -30.0800,   165.4100,       3376,   151.4,  18.0587,  35.5874,  35.5864,2,    215.6,2,   217.5,2,    0.73,2,    1.73,2,    0.03,2,    0.25,2,   2.337,2,   1.406,2,-999.000,1,     1.12,2,  2063.0,3,  2329.3,2,   7.9961,2,    25.00,-999.000,9,-999.0000,9, -999.00,9, -999.00,9,  -999.0,9,  -999.0,-999.000,9,-999.000,    50.6,2,-999.000,-999.0000, -999.00,  18.0326,  18.0569,2,20091201,       1837
318M20091121,        P06,      38,          1,         25,         25,2,20091201,       1653,   -30.0800,   165.4100,       3376,   203.1,  17.3697,  35.5601,  35.5604,2,    198.6,2,   196.5,2,    1.51,2,    5.16,2,    0.02,2,    0.45,2,   2.341,2,   1.389,2,-999.000,1,    1.032,2,  2087.4,2,  2328.8,2,   7.9479,2,    25.00,-999.000,9,-999.0000,9, -999.00,9, -999.00,9,  -999.0,9,  -999.0,-999.000,9,-999.000,    49.8,2,-999.000,-999.0000, -999.00,  17.3355,  17.3770,2,20091201,       1834
318M20091121,        P06,      38,          1,         24,         24,2,20091201,       1653,   -30.0800,   165.4100,       3376,   253.1,  16.2565,  35.4706,  35.4721,2,    189.5,2,   189.5,2,    2.10,2,    7.45,2,    0.01,2,    0.60,2,   2.389,2,   1.388,2,-999.000,1,    1.024,2,  2104.1,3,  2324.3,2,   7.9127,2,    25.00,-999.000,9,-999.0000,9, -999.00,9, -999.00,9,  -999.0,9,  -999.0,-999.000,9,-999.000,    43.1,2,-999.000,-999.0000, -999.00,  16.2158,  16.2648,2,20091201,       1831
318M20091121,        P06,      38,          1,         23,         23,2,20091201,       1653,   -30.0800,   165.4100,       3376,   299.3,  15.1876,  35.3687,  35.3659,2,    189.5,2,   189.8,2,    2.88,2,    9.13,2,    0.01,2,    0.71,2,   2.444,2,   1.399,2,-999.000,1,    0.957,2,  2113.4,3,  2320.1,2,   7.8833,2,    25.00,-999.000,9,-999.0000,9, -999.00,9, -999.00,9,  -999.0,9,  -999.0,-999.000,9,-999.000,    42.7,2,-999.000,-999.0000, -999.00,  15.1416,  15.1892,2,20091201,       1828
318M20091121,        P06,      38,          1,         22,         22,2,20091201,       1653,   -30.0800,   165.4100,       3376,   350.4,  14.3016,  35.3176,  35.3126,2,    202.3,2,   200.1,2,    3.27,2,    9.54,2,    0.01,2,    0.74,2,   2.513,2,   1.449,2,-999.000,1,    0.915,2,  2116.2,3,  2313.6,2,   7.8746,2,    25.00,-999.000,9,-999.0000,9, -999.00,9, -999.00,9,  -999.0,9,  -999.0,-999.000,9,-999.000,    43.3,2,-999.000,-999.0000, -999.00,  14.2498,  14.2992,2,20091201,       1825
318M20091121,        P06,      38,          1,         21,         21,2,20091201,       1653,   -30.0800,   165.4100,       3376,   400.8,  13.2007,  35.1690,  35.1730,2,    194.5,2,   194.7,2,    4.06,2,   11.95,2,    0.01,2,    0.90,2,   2.499,2,   1.412,2,-999.000,1,    0.894,2,  2126.8,3,  2307.7,2,   7.8395,2,    25.00,-999.000,9,-999.0000,9, -999.00,9, -999.00,9,  -999.0,9,  -999.0,-999.000,9,-999.000,    46.9,3,-999.000,-999.0000, -999.00,  13.1445,  13.2147,2,20091201,       1823
318M20091121,        P06,      38,          1,         20,         20,2,20091201,       1653,   -30.0800,   165.4100,       3376,   451.5,  12.2171,  35.0701,  35.0665,2,    195.6,2,   195.9,2,    5.04,2,   13.97,2,    0.01,2,    1.02,2,   2.469,2,   1.372,2,-999.000,1,    0.821,2,  2134.7,3,  2302.8,2,   7.8145,2,    25.00,-999.000,9,-999.0000,9, -999.00,9, -999.00,9,  -999.0,9,  -999.0,-999.000,9,-999.000,    44.2,2,-999.000,-999.0000, -999.00,  12.1568,  12.2400,2,20091201,       1820
318M20091121,        P06,      38,          1,         19,         19,2,20091201,       1653,   -30.0800,   165.4100,       3376,   503.1,  11.2038,  34.9461,  34.9522,3,    196.2,2,   196.6,2,    6.02,2,   15.83,2,    0.01,2,    1.13,2,   2.448,2,   1.350,2,-999.000,1,    0.672,2,  2141.6,3,  2304.1,2,   7.7904,2,    25.00,-999.000,9,-999.0000,9, -999.00,9, -999.00,9,  -999.0,9,  -999.0,-999.000,9,-999.000,    43.7,2,-999.000,-999.0000, -999.00,  11.1402,  11.2414,3,20091201,       1817
318M20091121,        P06,      38,          1,         18,         18,4,20091201,       1653,   -30.0800,   165.4100,       3376,   604.6,   9.3463,  34.7241,  35.3543,4,    197.2,2,   195.3,4,    3.01,4,    9.10,4,    0.01,4,    0.71,4,   2.443,4,   1.418,4,-999.000,1,    0.844,4,  2113.5,3,  2320.2,4,   7.8820,4,    25.00,-999.000,9,-999.0000,9, -999.00,9, -999.00,9,  -999.0,9,  -999.0,-999.000,9,-999.000,  -999.0,9,-999.000,-999.0000, -999.00,   9.2778,   9.3499,2,20091201,       1813
318M20091121,        P06,      38,          1,         17,         17,2,20091201,       1653,   -30.0800,   165.4100,       3376,   705.9,   8.1578,  34.5961,  34.5959,2,    198.2,2,   200.0,2,   13.21,2,   22.39,2,    0.00,2,    1.56,2,   1.844,2,   0.969,2,-999.000,1,    0.376,2,  2163.4,3,  2294.5,6,   7.7189,6,    25.00,-999.000,9,-999.0000,9, -999.00,9, -999.00,9,  -999.0,9,  -999.0,-999.000,9,-999.000,    37.6,2,-999.000,-999.0000, -999.00,   8.0836,   8.1568,2,20091201,       1810
318M20091121,        P06,      38,          1,         16,         16,2,20091201,       1653,   -30.0800,   165.4100,       3376,   802.3,   7.0859,  34.5073,  34.5076,2,    200.5,2,   201.3,2,   18.23,2,   24.64,2,    0.00,2,    1.72,2,   1.482,2,   0.760,2,-999.000,1,    0.145,2,  2171.5,2,  2294.1,2,   7.6987,2,    25.00,-999.000,9,-999.0000,9, -999.00,9, -999.00,9,  -999.0,9,  -999.0,-999.000,9,-999.000,  -999.0,9,-999.000,-999.0000, -999.00,   7.0076,   7.0888,2,20091201,       1806
318M20091121,        P06,      38,          1,         15,         15,2,20091201,       1653,   -30.0800,   165.4100,       3376,   903.9,   6.1549,  34.4486,  34.4467,2,    200.4,2,   199.6,2,   24.47,2,   26.85,2,    0.00,2,    1.88,2,   1.052,2,   0.547,2,-999.000,1,    0.111,2,  2183.3,2,  2298.8,2,   7.6789,2,    25.00,-999.000,9,-999.0000,9, -999.00,9, -999.00,9,  -999.0,9,  -999.0,-999.000,9,-999.000,    40.1,2,-999.000,-999.0000, -999.00,   6.0724,   6.1549,2,20091201,       1802
318M20091121,        P06,      38,          1,         14,         14,2,20091201,       1653,   -30.0800,   165.4100,       3376,  1006.1,   5.8135,  34.5020,  34.5022,2,    184.4,2,   184.7,2,   36.21,2,   28.32,2,    0.00,2,    1.98,2,   0.801,2,   0.414,2,-999.000,1,    0.103,2,  2202.2,2,  2305.2,2,   7.6567,2,    25.00,-999.000,9,-999.0000,9, -999.00,9, -999.00,9,  -999.0,9,  -999.0,-999.000,9,-999.000,  -999.0,9,-999.000,-999.0000, -999.00,   5.7234,   5.8227,2,20091201,       1759
318M20091121,        P06,      38,          1,         13,         13,2,20091201,       1653,   -30.0800,   165.4100,       3376,  1108.3,   5.1685,  34.4922,  34.4914,2,    180.2,2,   179.9,2,   44.94,2,   29.93,2,    0.00,2,    2.09,2,   0.559,2,   0.299,2,-999.000,1,        0,2,  2215.1,2,  2314.7,2,   7.6412,2,    25.00,-999.000,9,-999.0000,9, -999.00,9, -999.00,9,  -999.0,9,  -999.0,-999.000,9,-999.000,  -999.0,5,-999.000,-999.0000, -999.00,   5.0739,   5.1685,2,20091201,       1755
318M20091121,        P06,      38,          1,         12,         12,2,20091201,       1653,   -30.0800,   165.4100,       3376,  1205.4,   4.6347,  34.4987,  34.4983,2,    173.4,2,   174.3,2,   53.93,2,   31.09,2,    0.00,2,    2.19,2,   0.412,2,   0.226,2,-999.000,1,        0,2,  2226.0,2,  2322.1,2,   7.6279,2,    25.00,-999.000,9,-999.0000,9, -999.00,9, -999.00,9,  -999.0,9,  -999.0,-999.000,9,-999.000,  -999.0,9,-999.000,-999.0000, -999.00,   4.5358,   4.6352,2,20091201,       1752
318M20091121,        P06,      38,          1,         11,         11,2,20091201,       1653,   -30.0800,   165.4100,       3376,  1307.1,   4.0988,  34.5119,  34.5107,2,    169.6,2,   170.4,2,   63.96,2,   32.10,2,    0.00,2,    2.26,2,   0.270,2,   0.148,2,-999.000,1,        0,2,  2239.9,2,  2334.0,2,   7.6248,2,    25.00,-999.000,9,-999.0000,9, -999.00,9, -999.00,9,  -999.0,9,  -999.0,-999.000,9,-999.000,    36.4,2,-999.000,-999.0000, -999.00,   3.9959,   4.0997,2,20091201,       1748
318M20091121,        P06,      38,          1,         10,         10,2,20091201,       1653,   -30.0800,   165.4100,       3376,  1408.2,   3.7377,  34.5365,  34.5347,2,    164.5,2,   165.3,2,   72.59,2,   32.86,2,    0.00,2,    2.32,2,   0.185,2,   0.105,2,-999.000,1,        0,2,  2252.0,2,  2341.3,2,   7.6047,2,    25.00,-999.000,9,-999.0000,9, -999.00,9, -999.00,9,  -999.0,9,  -999.0,-999.000,9,-999.000,  -999.0,9,-999.000,-999.0000, -999.00,   3.6296,   3.7528,2,20091201,       1745
318M20091121,        P06,      38,          1,          9,          9,2,20091201,       1653,   -30.0800,   165.4100,       3376,  1511.5,   3.3439,  34.5662,  34.5641,2,    159.0,2,   159.1,2,   83.30,2,   33.62,2,    0.00,2,    2.38,2,   0.102,2,   0.061,2,-999.000,1,        0,2,  2264.9,2,  2355.9,2,   7.5940,2,    25.00,-999.000,9,-999.0000,9, -999.00,9, -999.00,9,  -999.0,9,  -999.0,-999.000,9,-999.000,    37.3,2,-999.000,-999.0000, -999.00,   3.2311,   3.3450,2,20091201,       1741
318M20091121,        P06,      38,          1,          8,          8,2,20091201,       1653,   -30.0800,   165.4100,       3376,  1614.8,   3.0349,  34.5901,  34.5893,2,    156.0,2,   156.5,2,   91.57,2,   34.18,2,    0.00,2,    2.42,2,   0.063,2,   0.038,2,-999.000,1,        0,2,  2274.9,2,  2364.0,2,   7.5901,2,    25.00,-999.000,9,-999.0000,9, -999.00,9, -999.00,9,  -999.0,9,  -999.0,-999.000,9,-999.000,  -999.0,9,-999.000,-999.0000, -999.00,   2.9169,   3.0336,2,20091201,       1738
318M20091121,        P06,      38,          1,          7,          7,2,20091201,       1653,   -30.0800,   165.4100,       3376,  1813.5,   2.5919,  34.6234,  34.6221,2,    152.5,2,   152.6,2,  101.94,2,   34.74,2,    0.00,2,    2.46,2,   0.018,2,   0.011,2,-999.000,1,        0,2,  2288.0,2,  2375.8,6,   7.5842,2,    25.00,-999.000,9,-999.0000,9, -999.00,9, -999.00,9,  -999.0,9,  -999.0,-999.000,9,-999.000,  -999.0,5,-999.000,-999.0000, -999.00,   2.4626,   2.5915,2,20091201,       1733
318M20091121,        P06,      38,          1,          6,          6,2,20091201,       1653,   -30.0800,   165.4100,       3376,  2018.3,   2.3210,  34.6462,  34.6462,2,    152.9,2,   153.1,2,  108.37,2,   34.85,2,    0.00,2,    2.47,2,   0.011,2,   0.008,2,-999.000,1,        0,2,  2330.6,3,  2387.8,2,   7.5823,2,    25.00,-999.000,9,-999.0000,9, -999.00,9, -999.00,9,  -999.0,9,  -999.0,-999.000,9,-999.000,  -999.0,9,-999.000,-999.0000, -999.00,   2.1780,   2.3210,2,20091201,       1727
318M20091121,        P06,      38,          1,          5,          5,2,20091201,       1653,   -30.0800,   165.4100,       3376,  2274.6,   2.1267,  34.6638,  34.6633,2,    154.2,2,   155.2,2,  112.73,2,   34.89,2,    0.00,2,    2.47,2,   0.015,2,   0.012,2,-999.000,1,        0,2,  2335.8,3,  2394.1,2,   7.5855,2,    25.00,-999.000,9,-999.0000,9, -999.00,9, -999.00,9,  -999.0,9,  -999.0,-999.000,9,-999.000,    36.9,2,-999.000,-999.0000, -999.00,   1.9644,   2.1269,2,20091201,       1721
318M20091121,        P06,      38,          1,          4,          4,2,20091201,       1653,   -30.0800,   165.4100,       3376,  2526.7,   2.0207,  34.6737,  34.6726,2,    155.4,2,   156.1,2,  115.01,2,   34.85,2,    0.00,2,    2.46,2,   0.014,2,   0.011,2,-999.000,1,        0,2,  2336.4,3,  2398.7,2,   7.5884,2,    25.00,-999.000,9,-999.0000,9, -999.00,9, -999.00,9,  -999.0,9,  -999.0,-999.000,9,-999.000,  -999.0,9,-999.000,-999.0000, -999.00,   1.8375,   2.0212,2,20091201,       1715
318M20091121,        P06,      38,          1,          3,          3,2,20091201,       1653,   -30.0800,   165.4100,       3376,  2783.9,   1.9610,  34.6798,  34.6791,2,    156.8,2,   156.5,2,  116.44,2,   34.80,2,    0.00,2,    2.46,2,   0.010,2,   0.008,2,-999.000,1,        0,2,  2336.3,3,  2401.9,2,   7.5916,2,    25.00,-999.000,9,-999.0000,9, -999.00,9, -999.00,9,  -999.0,9,  -999.0,-999.000,9,-999.000,    38.6,2,-999.000,-999.0000, -999.00,   1.7549,   1.9609,2,20091201,       1708
318M20091121,        P06,      38,          1,          2,          2,2,20091201,       1653,   -30.0800,   165.4100,       3376,  3035.3,   1.9327,  34.6832,  34.6828,2,    157.6,2,   158.4,2,  117.26,2,   34.70,2,    0.00,2,    2.44,2,   0.009,2,   0.007,2,-999.000,1,        0,2,  2339.1,3,  2403.2,2,   7.5942,2,    25.00,-999.000,9,-999.0000,9, -999.00,9, -999.00,9,  -999.0,9,  -999.0,-999.000,9,-999.000,  -999.0,9,-999.000,-999.0000, -999.00,   1.7029,   1.9326,2,20091201,       1702
318M20091121,        P06,      38,          1,          1,          1,2,20091201,       1653,   -30.0800,   165.4100,       3376,  3411.4,   1.9240,  34.6861,  34.6849,2,    160.0,2,   160.2,2,  118.50,2,   34.59,2,    0.00,2,    2.44,2,   0.013,2,   0.011,2,-999.000,1,        0,2,  2330.0,3,  2404.0,2,   7.6133,2,    25.00,-999.000,9,-999.0000,9, -999.00,9, -999.00,9,  -999.0,9,  -999.0,-999.000,9,-999.000,    37.8,2,-999.000,-999.0000, -999.00,   1.6564,   1.9231,2,20091201,       1653