BOTTLE,20220818CCHSIOAMB
EXPOCODE,SECT_ID,STNNBR,CASTNO,SAMPNO,BTLNBR,BTLNBR_FLAG_W,DATE,TIME,LATITUDE,LONGITUDE,DEPTH,CTDPRS,CTDTMP,CTDSAL,SALNTY,SALNTY_FLAG_W,CTDOXY,CTDOXY_FLAG_W,OXYGEN,OXYGEN_FLAG_W,SILCAT,SILCAT_FLAG_W,NITRAT,NITRAT_FLAG_W,NITRIT,NITRIT_FLAG_W,PHSPHT,PHSPHT_FLAG_W,CFC-11,CFC-11_FLAG_W,CFC-12,CFC-12_FLAG_W,CFC113,CFC113_FLAG_W,SF6,SF6_FLAG_W,TCARBN,TCARBN_FLAG_W,ALKALI,ALKALI_FLAG_W,PH_SWS,PH_SWS_FLAG_W,PH_TMP,TRITUM,TRITUM_FLAG_W,HELIUM,HELIUM_FLAG_W,DELHE3,DELHE3_FLAG_W,DELC13,DELC13_FLAG_W,DELC14,DELC14_FLAG_W,C14ERR,NEON,NEON_FLAG_W,NEONER,DOC,DOC_FLAG_W,TRITER,HELIER,DELHER,THETA,SBE35,SBE35_FLAG_W,BTL_DATE,BTL_TIME
,,,,,,,,,,,METERS,DBAR,ITS-90,PSS-78,PSS-78,,UMOL/KG,,UMOL/KG,,UMOL/KG,,UMOL/KG,,UMOL/KG,,UMOL/KG,,PMOL/KG,,PMOL/KG,,PMOL/KG,,FMOL/KG,,UMOL/KG,,UMOL/KG,,,,DEG C,TU,,NMOL/KG,,PERCNT,,/MILLE,,/MILLE,,/MILLE,NMOL/KG,,NMOL/KG,UMOL/KG,,TU,NMOL/KG,PERCNT,DEG C,ITS-90,,,
318M20091121,        P06,      19,          2,         30,         30,2,20091127,       1102,   -30.0799,   157.4001,       2865,     5.5,  24.3272,  35.4759,  35.4753,2,    212.4,2,   212.5,2,    0.25,2,    0.00,2,    0.00,2,    0.11,2,   1.813,2,   1.128,2,-999.000,1,     1.07,2,  2000.2,6,  2325.7,2,   8.0804,6,    25.00,-999.000,9,-999.0000,9, -999.00,9,    1.16,2,    53.5,2,     4.7,-999.000,9,-999.000,  -999.0,9,-999.000,-999.0000, -999.00,  24.3260,  24.3259,2,20091127,       1246
318M20091121,        P06,      19,          2,         29,         29,2,20091127,       1102,   -30.0799,   157.4001,       2865,    15.5,  24.3264,  35.4759,  35.4747,2,    212.3,2,   212.6,2,    0.04,2,    0.00,2,    0.00,2,    0.10,2,   1.805,6,   1.124,6,-999.000,1,   1.0215,6,  -999.0,9,  -999.0,9,-999.0000,9,  -999.00,-999.000,9,-999.0000,9, -999.00,9, -999.00,9,  -999.0,9,  -999.0,-999.000,9,-999.000,  -999.0,9,-999.000,-999.0000, -999.00,  24.3231,  24.3251,2,20091127,       1244
318M20091121,        P06,      19,          2,         28,         28,2,20091127,       1102,   -30.0799,   157.4001,       2865,    40.6,  23.4515,  35.4893,  35.4875,2,    216.5,2,   219.1,2,    0.02,2,    0.00,2,    0.00,2,    0.09,2,   1.875,2,   1.166,2,-999.000,1,    1.019,2,  -999.0,9,  2321.6,2,   8.0775,2,    25.00,-999.000,9,-999.0000,9, -999.00,9, -999.00,9,  -999.0,9,  -999.0,-999.000,9,-999.000,  -999.0,9,-999.000,-999.0000, -999.00,  23.4431,  23.4380,2,20091127,       1241
318M20091121,        P06,      19,          2,         27,         27,2,20091127,       1102,   -30.0799,   157.4001,       2865,    67.5,  21.3154,  35.5239,  35.5211,2,    220.6,2,   221.5,2,    0.21,2,    0.00,2,    0.00,2,    0.10,2,   2.027,2,   1.244,2,-999.000,1,    1.051,2,  -999.0,9,  -999.0,9,-999.0000,9,  -999.00,-999.000,9,-999.0000,9, -999.00,9, -999.00,9,  -999.0,9,  -999.0,-999.000,9,-999.000,  -999.0,9,-999.000,-999.0000, -999.00,  21.3023,  21.3044,3,20091127,       1239
318M20091121,        P06,      19,          2,         26,         26,2,20091127,       1102,   -30.0799,   157.4001,       2865,    91.4,  20.3661,  35.5423,  35.5401,2,    208.4,2,   203.8,2,    0.39,2,    1.47,2,    0.05,2,    0.21,2,   2.073,2,   1.272,2,-999.000,1,    0.987,2,  -999.0,9,  2326.0,2,   8.0211,2,    25.00,-999.000,9,-999.0000,9, -999.00,9, -999.00,9,  -999.0,9,  -999.0,-999.000,9,-999.000,  -999.0,9,-999.000,-999.0000, -999.00,  20.3490,  20.3597,2,20091127,       1237
318M20091121,        P06,      19,          2,         25,         25,2,20091127,       1102,   -30.0799,   157.4001,       2865,   138.9,  19.5796,  35.5753,  35.5752,2,    204.1,2,   206.9,2,    0.38,2,    1.81,2,    0.04,2,    0.23,2,   2.151,2,   1.311,2,-999.000,1,    0.969,2,  -999.0,9,  -999.0,9,-999.0000,9,  -999.00,-999.000,9,-999.0000,9, -999.00,9,    0.96,2,    62.4,2,     3.2,-999.000,9,-999.000,  -999.0,9,-999.000,-999.0000, -999.00,  19.5542,  19.5778,2,20091127,       1234
318M20091121,        P06,      19,          2,         24,         24,2,20091127,       1102,   -30.0799,   157.4001,       2865,   181.0,  18.8872,  35.6040,  35.6016,2,    206.3,2,   189.9,2,    0.98,2,    4.16,2,    0.01,2,    0.39,2,   2.184,2,   1.327,2,-999.000,1,    0.983,2,  -999.0,9,  2331.1,3,   7.9720,2,    25.00,-999.000,9,-999.0000,9, -999.00,9, -999.00,9,  -999.0,9,  -999.0,-999.000,9,-999.000,  -999.0,9,-999.000,-999.0000, -999.00,  18.8549,  18.8807,2,20091127,       1230
318M20091121,        P06,      19,          2,         23,         23,2,20091127,       1102,   -30.0799,   157.4001,       2865,   244.1,  17.5213,  35.5552,  35.5538,2,    185.8,2,   183.5,2,    1.57,2,    6.28,2,    0.00,2,    0.53,2,   2.254,2,   1.342,2,-999.000,1,     1.06,2,  -999.0,9,  -999.0,9,-999.0000,9,  -999.00,-999.000,9,-999.0000,9, -999.00,9,    0.84,2,    73.8,2,     3.0,-999.000,9,-999.000,  -999.0,9,-999.000,-999.0000, -999.00,  17.4800,  17.5205,2,20091127,       1227
318M20091121,        P06,      19,          2,         22,         22,2,20091127,       1102,   -30.0799,   157.4001,       2865,   287.7,  16.6371,  35.5107,  35.5100,2,    206.2,2,   201.4,2,    1.55,2,    5.45,2,    0.01,2,    0.49,2,   2.353,2,   1.415,2,-999.000,1,    1.095,2,  -999.0,9,  2326.1,2,   7.9389,2,    25.00,-999.000,9,-999.0000,9, -999.00,9, -999.00,9,  -999.0,9,  -999.0,-999.000,9,-999.000,  -999.0,9,-999.000,-999.0000, -999.00,  16.5900,  16.6330,2,20091127,       1224
318M20091121,        P06,      19,          2,         21,         21,2,20091127,       1102,   -30.0799,   157.4001,       2865,   336.6,  15.2575,  35.3887,  35.3889,2,    194.2,2,   190.1,2,    2.56,2,    8.70,2,    0.00,2,    0.69,2,   2.394,2,   1.413,2,-999.000,1,    0.987,2,  -999.0,9,  2318.2,2,   7.8887,2,    25.00,-999.000,9,-999.0000,9, -999.00,9,    0.88,2,    66.0,2,     3.0,-999.000,9,-999.000,  -999.0,9,-999.000,-999.0000, -999.00,  15.2055,  15.2642,2,20091127,       1221
318M20091121,        P06,      19,          2,         20,         20,2,20091127,       1102,   -30.0799,   157.4001,       2865,   383.4,  13.8934,  35.2616,  35.2612,2,    192.5,2,   191.6,2,    3.35,2,   10.82,2,    0.00,2,    0.83,2,   2.427,2,   1.412,2,-999.000,1,    0.946,2,  -999.0,9,  2312.8,2,   7.8541,2,    25.00,-999.000,9,-999.0000,9, -999.00,9, -999.00,9,  -999.0,9,  -999.0,-999.000,9,-999.000,  -999.0,9,-999.000,-999.0000, -999.00,  13.8378,  13.8963,2,20091127,       1218
318M20091121,        P06,      19,          2,         19,         19,2,20091127,       1102,   -30.0799,   157.4001,       2865,   465.7,  12.4294,  35.1484,  35.1495,2,    203.3,2,   203.2,2,    3.95,2,   12.22,2,    0.00,2,    0.93,2,   2.559,2,   1.481,2,-999.000,1,    1.082,2,  -999.0,9,  2307.2,6,   7.8362,2,    25.00,-999.000,9,-999.0000,9, -999.00,9,    0.95,2,    51.2,2,     3.9,-999.000,9,-999.000,  -999.0,9,-999.000,-999.0000, -999.00,  12.3665,  12.4307,2,20091127,       1215
318M20091121,        P06,      19,          2,         18,         18,2,20091127,       1102,   -30.0799,   157.4001,       2865,   569.3,  10.0183,  34.7983,  34.7978,2,    199.1,2,   200.1,2,    7.00,2,   17.84,2,    0.00,2,    1.29,2,   2.312,2,   1.278,2,-999.000,1,    0.644,2,  -999.0,9,  -999.0,9,-999.0000,9,  -999.00,-999.000,9,-999.0000,9, -999.00,9,    1.04,2,    26.4,2,     2.9,-999.000,9,-999.000,  -999.0,9,-999.000,-999.0000, -999.00,   9.9511,  10.0200,2,20091127,       1211
318M20091121,        P06,      19,          2,         17,         17,2,20091127,       1102,   -30.0799,   157.4001,       2865,   671.1,   8.2980,  34.5928,  34.5919,2,    199.2,2,   199.3,2,   11.08,2,   21.87,2,    0.00,2,    1.55,2,   1.831,2,   0.979,2,-999.000,1,    0.263,2,  -999.0,9,  -999.0,9,-999.0000,9,  -999.00,-999.000,9,-999.0000,9, -999.00,9,    1.08,2,     1.6,2,     3.7,-999.000,9,-999.000,  -999.0,9,-999.000,-999.0000, -999.00,   8.2269,   8.2975,2,20091127,       1208
318M20091121,        P06,      19,          2,         16,         16,2,20091127,       1102,   -30.0799,   157.4001,       2865,   766.3,   7.3620,  34.5117,  34.5140,2,    196.8,2,   197.0,2,   15.37,2,   24.20,2,    0.00,2,    1.72,2,   1.387,2,   0.735,2,-999.000,1,    0.296,2,  -999.0,9,  2293.0,2,   7.6974,2,    25.00,-999.000,9,-999.0000,9, -999.00,9,    1.05,2,   -20.0,2,     2.8,-999.000,9,-999.000,  -999.0,9,-999.000,-999.0000, -999.00,   7.2858,   7.3624,2,20091127,       1205
318M20091121,        P06,      19,          2,         15,         15,2,20091127,       1102,   -30.0799,   157.4001,       2865,   870.5,   6.4669,  34.4611,  34.4605,2,    194.0,2,   194.2,2,   21.93,2,   26.39,2,    0.00,2,    1.88,2,   0.872,2,   0.490,2,-999.000,1,    0.282,2,  -999.0,9,  -999.0,9,-999.0000,9,  -999.00,-999.000,9,-999.0000,9, -999.00,9,    1.05,2,   -50.3,2,     2.7,-999.000,9,-999.000,  -999.0,9,-999.000,-999.0000, -999.00,   6.3856,   6.4670,2,20091127,       1202
318M20091121,        P06,      19,          2,         14,         14,2,20091127,       1102,   -30.0799,   157.4001,       2865,   969.3,   5.7929,  34.4467,  34.4456,2,    187.8,2,   188.2,2,   29.75,2,   28.14,2,    0.00,2,    1.99,2,   0.649,2,   0.341,2,-999.000,1,        0,2,  -999.0,9,  -999.0,9,-999.0000,9,  -999.00,-999.000,9,-999.0000,9, -999.00,9,    0.99,2,   -63.5,2,     3.1,-999.000,9,-999.000,  -999.0,9,-999.000,-999.0000, -999.00,   5.7066,   5.7944,2,20091127,       1158
318M20091121,        P06,      19,          2,         13,         13,2,20091127,       1102,   -30.0799,   157.4001,       2865,  1074.3,   5.0623,  34.4561,  34.4552,2,    179.1,2,   179.9,2,   41.74,2,   30.00,2,    0.00,2,    2.14,2,   0.390,2,   0.212,2,-999.000,1,    0.091,2,  -999.0,9,  2315.6,2,   7.6380,6,    25.00,-999.000,9,-999.0000,9, -999.00,9,    0.88,2,   -99.8,2,     2.6,-999.000,9,-999.000,  -999.0,9,-999.000,-999.0000, -999.00,   4.9718,   5.0621,2,20091127,       1155
318M20091121,        P06,      19,          2,         12,         12,2,20091127,       1102,   -30.0799,   157.4001,       2865,  1171.0,   4.4234,  34.4805,  34.4800,2,    171.6,2,   171.2,2,   54.60,2,   31.56,2,    0.00,2,    2.25,2,   0.224,2,   0.128,2,-999.000,1,        0,2,  -999.0,9,  -999.0,9,-999.0000,9,  -999.00,-999.000,9,-999.0000,9, -999.00,9,    0.75,2,  -129.8,2,     3.0,-999.000,9,-999.000,  -999.0,9,-999.000,-999.0000, -999.00,   4.3296,   4.4230,2,20091127,       1151
318M20091121,        P06,      19,          2,         11,         11,2,20091127,       1102,   -30.0799,   157.4001,       2865,  1276.4,   3.8403,  34.5156,  34.5140,2,    162.6,2,   162.7,2,   68.37,2,   32.88,2,    0.00,2,    2.36,2,   0.112,2,   0.068,2,-999.000,1,        0,2,  -999.0,9,  -999.0,9,-999.0000,9,  -999.00,-999.000,9,-999.0000,9, -999.00,9,    0.62,2,  -152.1,2,     2.4,-999.000,9,-999.000,  -999.0,9,-999.000,-999.0000, -999.00,   3.7426,   3.8409,2,20091127,       1148
318M20091121,        P06,      19,          2,         10,         10,2,20091127,       1102,   -30.0799,   157.4001,       2865,  1375.4,   3.4736,  34.5450,  34.5435,2,    155.9,2,   156.1,2,   79.24,2,   33.71,2,    0.00,2,    2.42,2,   0.047,2,   0.032,2,-999.000,1,        0,2,  -999.0,9,  2354.3,2,   7.5892,2,    25.00,-999.000,9,-999.0000,9, -999.00,9,    0.54,2,  -170.4,2,     2.3,-999.000,9,-999.000,  -999.0,9,-999.000,-999.0000, -999.00,   3.3711,   3.4718,2,20091127,       1145
318M20091121,        P06,      19,          2,          9,          9,2,20091127,       1102,   -30.0799,   157.4001,       2865,  1475.7,   3.1767,  34.5702,  34.5681,2,    152.8,2,   153.0,2,   86.37,2,   34.20,2,    0.00,2,    2.45,2,   0.026,2,   0.021,2,-999.000,1,        0,2,  -999.0,9,  -999.0,9,-999.0000,9,  -999.00,-999.000,9,-999.0000,9, -999.00,9,    0.50,2,  -178.7,2,     2.2,-999.000,9,-999.000,  -999.0,9,-999.000,-999.0000, -999.00,   3.0689,   3.1758,2,20091127,       1142
318M20091121,        P06,      19,          2,          8,          8,2,20091127,       1102,   -30.0799,   157.4001,       2865,  1580.5,   2.9185,  34.5952,  34.5938,2,    151.3,2,   151.6,2,   92.87,2,   34.38,2,    0.00,2,    2.47,2,   0.013,2,   0.016,2,-999.000,1,        0,2,  -999.0,9,  -999.0,9,-999.0000,9,  -999.00,-999.000,9,-999.0000,9, -999.00,9,    0.46,2,  -182.8,2,     2.5,-999.000,9,-999.000,  -999.0,9,-999.000,-999.0000, -999.00,   2.8048,   2.9181,2,20091127,       1139
318M20091121,        P06,      19,          2,          7,          7,2,20091127,       1102,   -30.0799,   157.4001,       2865,  1752.2,   2.5643,  34.6318,  34.6306,2,    154.3,2,   155.0,2,   97.28,2,   34.32,2,    0.00,2,    2.46,2,   0.002,2,   0.006,2,-999.000,1,        0,2,  -999.0,9,  2370.7,6,   7.5775,2,    25.00,-999.000,9,-999.0000,9, -999.00,9, -999.00,9,  -999.0,9,  -999.0,-999.000,9,-999.000,  -999.0,9,-999.000,-999.0000, -999.00,   2.4406,   2.5646,2,20091127,       1134
318M20091121,        P06,      19,          2,          6,          6,2,20091127,       1102,   -30.0799,   157.4001,       2865,  1951.2,   2.3643,  34.6579,  34.6576,2,    161.8,2,   161.6,2,   97.05,2,   33.72,2,    0.00,2,    2.42,2,   0.002,2,   0.006,2,-999.000,1,        0,2,  -999.0,9,  -999.0,9,-999.0000,9,  -999.00,-999.000,9,-999.0000,9, -999.00,9, -999.00,9,  -999.0,9,  -999.0,-999.000,9,-999.000,  -999.0,9,-999.000,-999.0000, -999.00,   2.2264,   2.3640,2,20091127,       1129
318M20091121,        P06,      19,          2,          5,          5,2,20091127,       1102,   -30.0799,   157.4001,       2865,  2187.6,   2.1737,  34.6849,  34.6837,2,    170.2,2,   170.4,2,   95.99,2,   32.98,2,    0.00,2,    2.35,2,   0.002,2,   0.006,2,-999.000,1,        0,2,  -999.0,9,  -999.0,9,-999.0000,9,  -999.00,-999.000,9,-999.0000,9, -999.00,9, -999.00,9,  -999.0,9,  -999.0,-999.000,9,-999.000,  -999.0,9,-999.000,-999.0000, -999.00,   2.0182,   2.1735,2,20091127,       1123
318M20091121,        P06,      19,          2,          4,          4,2,20091127,       1102,   -30.0799,   157.4001,       2865,  2224.1,   2.1400,  34.6886,  34.6883,2,    171.7,2,   172.2,2,   95.97,2,   32.87,2,    0.00,2,    2.35,2,   0.002,2,   0.010,2,-999.000,1,        0,2,  -999.0,9,  2365.0,2,   7.5941,2,    25.00,-999.000,9,-999.0000,9, -999.00,9, -999.00,9,  -999.0,9,  -999.0,-999.000,9,-999.000,  -999.0,9,-999.000,-999.0000, -999.00,   1.9818,   2.1392,2,20091127,       1121
318M20091121,        P06,      19,          2,          3,          3,2,20091127,       1102,   -30.0799,   157.4001,       2865,  2362.2,   2.0254,  34.7010,  34.7005,2,    176.2,2,   176.7,2,   97.02,2,   32.48,2,    0.00,2,    2.31,2,   0.006,2,   0.010,2,-999.000,1,        0,2,  -999.0,9,  -999.0,9,-999.0000,9,  -999.00,-999.000,9,-999.0000,9, -999.00,9, -999.00,9,  -999.0,9,  -999.0,-999.000,9,-999.000,  -999.0,9,-999.000,-999.0000, -999.00,   1.8569,   2.0254,2,20091127,       1117
318M20091121,        P06,      19,          2,          2,          2,2,20091127,       1102,   -30.0799,   157.4001,       2865,  2471.0,   1.9652,  34.7062,  34.7062,2,    179.3,2,   179.3,2,   97.63,2,   32.37,2,    0.00,2,    2.32,4,   0.006,2,   0.007,2,-999.000,1,        0,2,  -999.0,9,  -999.0,9,-999.0000,9,  -999.00,-999.000,9,-999.0000,9, -999.00,9, -999.00,9,  -999.0,9,  -999.0,-999.000,9,-999.000,  -999.0,9,-999.000,-999.0000, -999.00,   1.7879,   1.9654,2,20091127,       1112
318M20091121,        P06,      19,          2,          1,          1,2,20091127,       1102,   -30.0799,   157.4001,       2865,  2926.6,   1.6875,  34.7189,  34.7193,2,    186.1,2,   186.5,2,  103.52,2,   32.12,2,    0.00,2,    2.28,2,   0.007,2,   0.004,2,-999.000,1,        0,2,  -999.0,9,  2369.6,2,   7.6118,2,    25.00,-999.000,9,-999.0000,9, -999.00,9, -999.00,9,  -999.0,9,  -999.0,-999.000,9,-999.000,  -999.0,9,-999.000,-999.0000, -999.00,   1.4734,   1.6872,2,20091127,       1102