BOTTLE,20220818CCHSIOAMB
EXPOCODE,SECT_ID,STNNBR,CASTNO,SAMPNO,BTLNBR,BTLNBR_FLAG_W,DATE,TIME,LATITUDE,LONGITUDE,DEPTH,CTDPRS,CTDTMP,CTDSAL,SALNTY,SALNTY_FLAG_W,CTDOXY,CTDOXY_FLAG_W,OXYGEN,OXYGEN_FLAG_W,SILCAT,SILCAT_FLAG_W,NITRAT,NITRAT_FLAG_W,NITRIT,NITRIT_FLAG_W,PHSPHT,PHSPHT_FLAG_W,CFC-11,CFC-11_FLAG_W,CFC-12,CFC-12_FLAG_W,CFC113,CFC113_FLAG_W,SF6,SF6_FLAG_W,TCARBN,TCARBN_FLAG_W,ALKALI,ALKALI_FLAG_W,PH_SWS,PH_SWS_FLAG_W,PH_TMP,TRITUM,TRITUM_FLAG_W,HELIUM,HELIUM_FLAG_W,DELHE3,DELHE3_FLAG_W,DELC13,DELC13_FLAG_W,DELC14,DELC14_FLAG_W,C14ERR,NEON,NEON_FLAG_W,NEONER,DOC,DOC_FLAG_W,TRITER,HELIER,DELHER,THETA,SBE35,SBE35_FLAG_W,BTL_DATE,BTL_TIME
,,,,,,,,,,,METERS,DBAR,ITS-90,PSS-78,PSS-78,,UMOL/KG,,UMOL/KG,,UMOL/KG,,UMOL/KG,,UMOL/KG,,UMOL/KG,,PMOL/KG,,PMOL/KG,,PMOL/KG,,FMOL/KG,,UMOL/KG,,UMOL/KG,,,,DEG C,TU,,NMOL/KG,,PERCNT,,/MILLE,,/MILLE,,/MILLE,NMOL/KG,,NMOL/KG,UMOL/KG,,TU,NMOL/KG,PERCNT,DEG C,ITS-90,,,
318M20091121,        P06,      96,          1,         36,         36,2,20091218,       0135,   -32.5000,  -170.2499,       5748,    29.6,  19.1506,  35.4331,  35.4277,2,    240.7,2,   238.6,2,    0.78,2,   -0.01,2,    0.01,2,    0.13,2,   2.247,2,   1.327,2,-999.000,1,    1.193,2,  -999.0,9,  2329.0,2,   8.0109,2,    25.00,-999.000,9,-999.0000,9, -999.00,9,    1.40,2,    63.5,2,     2.9,-999.000,9,-999.000,    63.3,2,-999.000,-999.0000, -999.00,  19.1453,  18.9831,3,20091218,       0434
318M20091121,        P06,      96,          1,         35,         35,2,20091218,       0135,   -32.5000,  -170.2499,       5748,    55.0,  16.2497,  35.3896,  35.3886,2,    255.2,2,   256.1,2,    0.56,2,   -0.01,2,    0.01,2,    0.14,2,   2.401,2,   1.426,2,-999.000,1,    1.281,2,  -999.0,9,  2326.0,6,   7.9939,6,    25.00,-999.000,9,-999.0000,9, -999.00,9, -999.00,9,  -999.0,9,  -999.0,-999.000,9,-999.000,    54.3,2,-999.000,-999.0000, -999.00,  16.2409,  16.3457,3,20091218,       0433
318M20091121,        P06,      96,          1,         34,         34,2,20091218,       0135,   -32.5000,  -170.2499,       5748,    81.1,  15.0398,  35.3431,  35.3424,2,    240.4,2,   249.7,2,    0.74,2,   -0.03,2,    0.03,2,    0.20,2,   2.519,2,   1.443,2,-999.000,1,    1.225,2,  -999.0,9,  2321.7,2,   7.9590,2,    25.00,-999.000,9,-999.0000,9, -999.00,9,    1.23,2,    62.7,2,     2.9,-999.000,9,-999.000,    57.0,2,-999.000,-999.0000, -999.00,  15.0275,  15.0371,2,20091218,       0431
318M20091121,        P06,      96,          1,         33,         33,2,20091218,       0135,   -32.5000,  -170.2499,       5748,   124.8,  14.7443,  35.3223,  35.3213,2,    232.3,2,   232.5,2,    1.12,2,    2.98,2,    0.02,2,    0.35,2,   2.598,2,   1.519,2,-999.000,1,    1.216,2,  -999.0,9,  2322.2,2,   7.9298,2,    25.00,-999.000,9,-999.0000,9, -999.00,9,    1.11,2,    56.1,2,     3.4,-999.000,9,-999.000,    59.1,2,-999.000,-999.0000, -999.00,  14.7256,  14.7469,2,20091218,       0428
318M20091121,        P06,      96,          1,         32,         32,2,20091218,       0135,   -32.5000,  -170.2499,       5748,   159.1,  13.8483,  35.2336,  35.2337,2,    216.4,2,   213.4,2,    1.92,2,    7.26,2,    0.02,2,    0.61,2,   2.620,2,   1.525,2,-999.000,1,    1.224,2,  -999.0,9,  2315.0,2,   7.8575,2,    25.00,-999.000,9,-999.0000,9, -999.00,9, -999.00,9,  -999.0,9,  -999.0,-999.000,9,-999.000,    60.6,2,-999.000,-999.0000, -999.00,  13.8255,  13.8574,2,20091218,       0425
318M20091121,        P06,      96,          1,         31,         31,2,20091218,       0135,   -32.5000,  -170.2499,       5748,   228.9,  12.4230,  35.0736,  35.0742,2,    212.4,2,   211.0,2,    2.93,2,   10.99,2,    0.01,2,    0.82,2,   2.749,2,   1.563,2,-999.000,1,    0.957,2,  -999.0,9,  2308.8,2,   7.8341,2,    25.00,-999.000,9,-999.0000,9, -999.00,9,    0.97,2,    47.5,2,     3.0,-999.000,9,-999.000,    48.4,3,-999.000,-999.0000, -999.00,  12.3924,  12.4337,2,20091218,       0421
318M20091121,        P06,      96,          1,         30,         30,2,20091218,       0135,   -32.5000,  -170.2499,       5748,   316.3,  10.3550,  34.7862,  34.7869,2,    212.3,2,   212.7,2,    4.14,2,   15.43,2,    0.01,2,    1.10,2,   2.901,2,   1.569,2,-999.000,1,     0.91,2,  -999.0,9,  2296.2,2,   7.7777,2,    25.00,-999.000,9,-999.0000,9, -999.00,9, -999.00,9,  -999.0,9,  -999.0,-999.000,9,-999.000,    52.3,3,-999.000,-999.0000, -999.00,  10.3174,  10.3647,3,20091218,       0413
318M20091121,        P06,      96,          1,         29,         29,2,20091218,       0135,   -32.5000,  -170.2499,       5748,   353.3,   9.5625,  34.6826,  34.5498,3,    212.2,2,   212.0,2,    4.93,2,   17.45,2,    0.01,2,    1.23,2,   2.957,2,   1.583,2,-999.000,1,     0.85,2,  -999.0,9,  2294.2,2,   7.7771,2,    25.00,-999.000,9,-999.0000,9, -999.00,9,    1.09,2,    27.4,2,     2.8,-999.000,9,-999.000,    40.4,2,-999.000,-999.0000, -999.00,   9.5225,   9.6414,3,20091218,       0412
318M20091121,        P06,      96,          1,         28,         28,2,20091218,       0135,   -32.5000,  -170.2499,       5748,   366.5,   9.4320,  34.6662,  34.6661,2,    211.7,2,   211.9,2,    4.91,2,   17.87,2,    0.01,2,    1.26,2,   2.946,2,   1.567,2,-999.000,1,    0.875,2,  -999.0,9,  2294.4,2,   7.7898,4,    25.00,-999.000,9,-999.0000,9, -999.00,9, -999.00,9,  -999.0,9,  -999.0,-999.000,9,-999.000,  -999.0,9,-999.000,-999.0000, -999.00,   9.3908,   9.4289,2,20091218,       0411
318M20091121,        P06,      96,          1,         27,         27,2,20091218,       0135,   -32.5000,  -170.2499,       5748,   368.0,   9.4165,  34.6644,  34.6619,2,    211.7,2,   212.7,2,    5.10,2,   17.87,2,    0.01,2,    1.27,2,   2.928,2,   1.579,2,-999.000,1,    0.856,2,  -999.0,9,  2292.3,2,   7.7536,2,    25.00,-999.000,9,-999.0000,9, -999.00,9,    1.10,2,    27.3,2,     3.1,-999.000,9,-999.000,    47.9,2,-999.000,-999.0000, -999.00,   9.3752,   9.4223,2,20091218,       0410
318M20091121,        P06,      96,          1,         26,         26,2,20091218,       0135,   -32.5000,  -170.2499,       5748,   439.1,   8.5144,  34.5570,  34.5563,2,    216.8,2,   218.2,2,    5.89,2,   19.78,2,    0.01,2,    1.39,2,   2.996,2,   1.549,2,-999.000,1,    0.812,2,  -999.0,9,  2287.5,2,   7.7400,2,    25.00,-999.000,9,-999.0000,9, -999.00,9,    1.15,2,    21.9,2,     3.1,-999.000,9,-999.000,    44.1,2,-999.000,-999.0000, -999.00,   8.4679,   8.5345,2,20091218,       0407
318M20091121,        P06,      96,          1,         25,         25,2,20091218,       0135,   -32.5000,  -170.2499,       5748,   536.7,   7.5670,  34.4543,  34.4543,2,    227.4,2,   227.1,2,    6.90,2,   21.56,2,    0.00,2,    1.50,2,   2.977,2,   1.511,2,-999.000,1,    0.568,2,  -999.0,9,  2287.7,2,   7.7304,2,    25.00,-999.000,9,-999.0000,9, -999.00,9,    1.22,2,    11.4,2,     3.2,-999.000,9,-999.000,    41.3,2,-999.000,-999.0000, -999.00,   7.5137,   7.5658,2,20091218,       0404
318M20091121,        P06,      96,          1,         24,         24,2,20091218,       0135,   -32.5000,  -170.2499,       5748,   640.0,   6.9714,  34.4039,  34.4038,2,    228.9,2,   228.5,2,    8.52,2,   23.16,2,    0.00,2,    1.60,2,   2.458,2,   1.221,2,-999.000,1,    0.507,2,  -999.0,9,  2283.2,2,   7.7188,2,    25.00,-999.000,9,-999.0000,9, -999.00,9,    1.22,2,     2.3,2,     2.9,-999.000,9,-999.000,  -999.0,9,-999.000,-999.0000, -999.00,   6.9103,   6.9789,2,20091218,       0401
318M20091121,        P06,      96,          1,         23,         23,2,20091218,       0135,   -32.5000,  -170.2499,       5748,   739.5,   6.4201,  34.3692,  34.3687,2,    226.5,2,   224.7,2,   11.38,2,   24.76,2,    0.00,2,    1.72,2,   1.864,2,   0.918,2,-999.000,1,    0.232,2,  -999.0,9,  2284.9,2,   7.7089,2,    25.00,-999.000,9,-999.0000,9, -999.00,9,    1.23,2,   -14.4,2,     2.8,-999.000,9,-999.000,    41.0,2,-999.000,-999.0000, -999.00,   6.3521,   6.4189,2,20091218,       0358
318M20091121,        P06,      96,          1,         22,         22,2,20091218,       0135,   -32.5000,  -170.2499,       5748,   840.0,   5.8854,  34.3467,  34.3455,2,    219.1,2,   217.7,2,   15.48,2,   26.49,2,    0.00,2,    1.85,2,   1.328,2,   0.645,2,-999.000,1,    0.253,2,  -999.0,9,  2291.5,6,   7.6877,2,    25.00,-999.000,9,-999.0000,9, -999.00,9,    1.18,2,   -36.0,2,     2.8,-999.000,9,-999.000,  -999.0,9,-999.000,-999.0000, -999.00,   5.8109,   5.8856,2,20091218,       0354
318M20091121,        P06,      96,          1,         21,         21,2,20091218,       0135,   -32.5000,  -170.2499,       5748,   941.8,   5.4124,  34.3424,  34.3420,2,    208.2,2,   207.4,2,   20.83,2,   28.14,2,    0.00,2,    1.96,2,   0.907,2,   0.442,2,-999.000,1,    0.182,2,  -999.0,9,  2290.0,2,   7.6691,2,    25.00,-999.000,9,-999.0000,9, -999.00,9,    1.14,2,   -65.5,2,     2.7,-999.000,9,-999.000,    39.1,2,-999.000,-999.0000, -999.00,   5.3316,   5.4120,2,20091218,       0351
318M20091121,        P06,      96,          1,         20,         20,2,20091218,       0135,   -32.5000,  -170.2499,       5748,  1044.3,   4.7195,  34.3571,  34.3563,2,    196.5,2,   196.5,2,   30.97,2,   30.22,2,    0.00,2,    2.12,2,   0.577,2,   0.296,2,-999.000,1,        0,2,  -999.0,9,  2303.7,2,   7.6389,2,    25.00,-999.000,9,-999.0000,9, -999.00,9,    0.99,2,   -89.2,2,     2.6,-999.000,9,-999.000,  -999.0,9,-999.000,-999.0000, -999.00,   4.6346,   4.7303,2,20091218,       0348
318M20091121,        P06,      96,          1,         19,         19,2,20091218,       0135,   -32.5000,  -170.2499,       5748,  1143.0,   4.1582,  34.3702,  34.3707,2,    187.7,2,   191.0,2,   39.07,2,   31.70,2,    0.00,2,    2.22,2,   0.461,2,   0.236,2,-999.000,1,        0,2,  -999.0,9,  2310.1,2,   7.6198,2,    25.00,-999.000,9,-999.0000,9, -999.00,9,    0.91,2,  -104.1,2,     2.6,-999.000,9,-999.000,    38.5,2,-999.000,-999.0000, -999.00,   4.0694,   4.1550,2,20091218,       0343
318M20091121,        P06,      96,          1,         18,         18,2,20091218,       0135,   -32.5000,  -170.2499,       5748,  1245.4,   3.6965,  34.4066,  34.4061,2,    179.8,2,   183.1,2,   49.07,2,   32.74,2,    0.00,2,    2.31,2,   0.261,2,   0.134,2,-999.000,1,        0,2,  -999.0,9,  2320.3,2,   7.6033,2,    25.00,-999.000,9,-999.0000,9, -999.00,9,    0.79,2,  -120.0,2,     2.5,-999.000,9,-999.000,  -999.0,9,-999.000,-999.0000, -999.00,   3.6031,   3.7046,2,20091218,       0338
318M20091121,        P06,      96,          1,         17,         17,2,20091218,       0135,   -32.5000,  -170.2499,       5748,  1343.1,   3.3022,  34.4517,  34.4513,2,    172.0,2,   174.0,2,   60.16,2,   33.51,2,    0.00,2,    2.37,2,   0.118,2,   0.068,2,-999.000,1,        0,2,  -999.0,9,  2326.2,2,   7.5878,2,    25.00,-999.000,9,-999.0000,9, -999.00,9,    0.71,2,  -143.7,2,     2.3,-999.000,9,-999.000,    39.7,2,-999.000,-999.0000, -999.00,   3.2044,   3.2972,2,20091218,       0334
318M20091121,        P06,      96,          1,         16,         16,2,20091218,       0135,   -32.5000,  -170.2499,       5748,  1475.8,   2.9173,  34.5139,  34.5138,2,    165.2,2,   165.8,2,   74.04,2,   34.13,2,    0.00,2,    2.42,2,   0.048,2,   0.037,2,-999.000,1,        0,2,  -999.0,9,  2341.7,2,   7.5841,2,    25.00,-999.000,9,-999.0000,9, -999.00,9,    0.51,2,  -170.3,2,     2.2,-999.000,9,-999.000,  -999.0,9,-999.000,-999.0000, -999.00,   2.8126,   2.9171,2,20091218,       0330
318M20091121,        P06,      96,          1,         15,         15,2,20091218,       0135,   -32.5000,  -170.2499,       5748,  1681.9,   2.5991,  34.5792,  34.5791,2,    156.8,2,   156.5,2,   92.43,2,   34.60,2,    0.00,2,    2.46,2,   0.025,2,   0.011,2,-999.000,1,        0,2,  -999.0,9,  2359.6,2,   7.5803,2,    25.00,-999.000,9,-999.0000,9, -999.00,9,    0.39,2,  -192.8,2,     1.6,-999.000,9,-999.000,    37.0,2,-999.000,-999.0000, -999.00,   2.4810,   2.6001,2,20091218,       0323
318M20091121,        P06,      96,          1,         14,         14,2,20091218,       0135,   -32.5000,  -170.2499,       5748,  1883.9,   2.3754,  34.6131,  34.6126,2,    151.4,2,   151.9,2,  105.58,2,   34.99,2,    0.00,2,    2.50,2,   0.026,2,   0.024,2,-999.000,1,        0,2,  -999.0,9,  2382.4,2,   7.5755,2,    25.00,-999.000,9,-999.0000,9, -999.00,9,    0.34,2,  -205.3,2,     1.6,-999.000,9,-999.000,  -999.0,9,-999.000,-999.0000, -999.00,   2.2432,   2.3781,2,20091218,       0317
318M20091121,        P06,      96,          1,         13,         13,2,20091218,       0135,   -32.5000,  -170.2499,       5748,  2109.0,   2.2091,  34.6321,  34.6328,2,    148.7,2,   148.3,2,  114.27,2,   35.09,2,    0.00,2,    2.52,2,   0.022,2,   0.010,2,-999.000,1,        0,2,  -999.0,9,  2398.8,2,   7.5750,2,    25.00,-999.000,9,-999.0000,9, -999.00,9,    0.29,2,  -219.8,2,     2.2,-999.000,9,-999.000,    35.8,2,-999.000,-999.0000, -999.00,   2.0601,   2.2096,2,20091218,       0311
318M20091121,        P06,      96,          1,         12,         12,2,20091218,       0135,   -32.5000,  -170.2499,       5748,  2359.5,   2.0750,  34.6445,  34.6429,2,    147.1,2,   147.3,2,  121.27,2,   35.47,2,    0.00,2,    2.54,2,   0.013,2,   0.010,2,-999.000,1,        0,2,  -999.0,9,  2395.0,4,   7.5895,2,    25.00,-999.000,9,-999.0000,9, -999.00,9,    0.27,2,  -221.8,2,     1.6,-999.000,9,-999.000,  -999.0,9,-999.000,-999.0000, -999.00,   1.9061,   2.0744,2,20091218,       0302
318M20091121,        P06,      96,          1,         11,         11,2,20091218,       0135,   -32.5000,  -170.2499,       5748,  2617.0,   1.9609,  34.6551,  34.6547,2,    147.9,2,   147.2,2,  126.15,2,   35.57,2,    0.00,2,    2.54,2,   0.022,2,   0.014,2,-999.000,1,        0,2,  -999.0,9,  2404.7,2,   7.5758,2,    25.00,-999.000,9,-999.0000,9, -999.00,9,    0.23,2,  -225.1,2,     1.6,-999.000,9,-999.000,    35.4,2,-999.000,-999.0000, -999.00,   1.7706,   1.9616,2,20091218,       0257
318M20091121,        P06,      96,          1,         10,         10,2,20091218,       0135,   -32.5000,  -170.2499,       5748,  2869.3,   1.8483,  34.6659,  34.6661,2,    151.2,2,   150.8,2,  128.89,2,   35.23,2,    0.00,2,    2.52,2,   0.026,2,   0.021,2,-999.000,1,        0,2,  -999.0,9,  2406.7,2,   7.5843,2,    25.00,-999.000,9,-999.0000,9, -999.00,9,    0.25,2,  -223.6,2,     1.8,-999.000,9,-999.000,  -999.0,9,-999.000,-999.0000, -999.00,   1.6365,   1.8481,2,20091218,       0251
318M20091121,        P06,      96,          1,          9,          9,2,20091218,       0135,   -32.5000,  -170.2499,       5748,  3146.1,   1.7340,  34.6819,  34.6819,2,    159.9,2,   159.8,2,  126.06,2,   34.55,2,    0.00,2,    2.46,2,   0.017,2,   0.013,2,-999.000,1,        0,2,  -999.0,9,  2399.6,2,   7.5867,2,    25.00,-999.000,9,-999.0000,9, -999.00,9,    0.26,2,  -217.1,2,     1.6,-999.000,9,-999.000,    36.7,2,-999.000,-999.0000, -999.00,   1.4977,   1.7336,2,20091218,       0244
318M20091121,        P06,      96,          1,          8,          8,2,20091218,       0135,   -32.5000,  -170.2499,       5748,  3446.4,   1.6086,  34.7075,  34.7073,2,    179.8,2,   181.6,2,  113.86,2,   32.70,2,    0.00,2,    2.32,2,   0.030,2,   0.017,2,-999.000,1,        0,2,  -999.0,9,  2371.9,2,   7.6044,2,    25.00,-999.000,9,-999.0000,9, -999.00,9,    0.42,2,  -184.9,2,     2.0,-999.000,9,-999.000,  -999.0,9,-999.000,-999.0000, -999.00,   1.3450,   1.6081,2,20091218,       0238
318M20091121,        P06,      96,          1,          7,          7,2,20091218,       0135,   -32.5000,  -170.2499,       5748,  3753.7,   1.4295,  34.7184,  34.7187,2,    194.2,2,   194.7,2,  111.04,2,   31.84,2,    0.00,2,    2.25,2,   0.035,2,   0.016,2,-999.000,1,        0,2,  -999.0,9,  2365.7,2,   7.6104,2,    25.00,-999.000,9,-999.0000,9, -999.00,9,    0.46,2,  -178.8,2,     1.7,-999.000,9,-999.000,    40.0,2,-999.000,-999.0000, -999.00,   1.1386,   1.4295,2,20091218,       0231
318M20091121,        P06,      96,          1,          6,          6,2,20091218,       0135,   -32.5000,  -170.2499,       5748,  4063.0,   1.2171,  34.7171,  34.7169,2,    201.6,2,   202.0,2,  114.84,2,   31.64,2,    0.00,2,    2.24,2,   0.063,2,   0.030,2,-999.000,1,        0,2,  -999.0,9,  2318.3,4,   7.6117,2,    25.00,-999.000,9,-999.0000,9, -999.00,9,    0.50,2,  -176.3,2,     1.7,-999.000,9,-999.000,  -999.0,9,-999.000,-999.0000, -999.00,   0.8991,   1.2172,2,20091218,       0225
318M20091121,        P06,      96,          1,          5,          5,2,20091218,       0135,   -32.5000,  -170.2499,       5748,  4370.8,   1.0828,  34.7124,  34.7120,2,    205.4,2,   205.0,2,  118.86,2,   31.74,2,    0.00,2,    2.24,2,   0.065,2,   0.032,2,-999.000,1,        0,2,  -999.0,9,  2368.9,2,   7.6122,2,    25.00,-999.000,9,-999.0000,9, -999.00,9,    0.47,2,  -175.0,2,     1.9,-999.000,9,-999.000,    37.9,2,-999.000,-999.0000, -999.00,   0.7351,   1.0828,2,20091218,       0218
318M20091121,        P06,      96,          1,          4,          4,2,20091218,       0135,   -32.5000,  -170.2499,       5748,  4679.0,   1.0330,  34.7096,  34.7092,2,    206.7,2,   206.4,2,  121.37,2,   31.74,2,    0.00,2,    2.25,2,   0.080,2,   0.040,2,-999.000,1,        0,2,  -999.0,9,  2369.9,2,   7.6138,2,    25.00,-999.000,9,-999.0000,9, -999.00,9,    0.48,2,  -177.6,2,     2.3,-999.000,9,-999.000,  -999.0,9,-999.000,-999.0000, -999.00,   0.6520,   1.0333,2,20091218,       0211
318M20091121,        P06,      96,          1,          3,          3,2,20091218,       0135,   -32.5000,  -170.2499,       5748,  4987.6,   1.0387,  34.7087,  34.7079,2,    207.2,2,   206.6,2,  121.98,2,   31.79,2,    0.00,2,    2.25,2,   0.080,2,   0.037,2,-999.000,1,        0,2,  -999.0,9,  2371.7,2,   7.6166,2,    25.00,-999.000,9,-999.0000,9, -999.00,9,    0.50,2,  -175.7,2,     2.3,-999.000,9,-999.000,    37.5,2,-999.000,-999.0000, -999.00,   0.6214,   1.0390,2,20091218,       0205
318M20091121,        P06,      96,          1,          2,          2,2,20091218,       0135,   -32.5000,  -170.2499,       5748,  5464.8,   1.0912,  34.7083,  34.7079,2,    206.7,2,   206.6,2,  122.36,2,   31.93,2,    0.00,2,    2.26,2,   0.082,2,   0.041,2,-999.000,1,        0,2,  -999.0,9,  2365.8,2,   7.6132,2,    25.00,-999.000,9,-999.0000,9, -999.00,9,    0.51,2,  -175.5,2,     1.8,-999.000,9,-999.000,  -999.0,9,-999.000,-999.0000, -999.00,   0.6137,   1.0914,2,20091218,       0154
318M20091121,        P06,      96,          1,          1,          1,2,20091218,       0135,   -32.5000,  -170.2499,       5748,  5832.4,   1.1382,  34.7083,  34.7075,2,    206.9,2,   206.6,2,  122.32,2,   31.88,2,    0.00,2,    2.26,2,   0.083,2,   0.044,2,-999.000,1,        0,2,  -999.0,9,  2366.0,6,   7.6191,6,    25.00,-999.000,9,-999.0000,9, -999.00,9,    0.27,4,  -175.5,2,     2.9,-999.000,9,-999.000,    40.5,2,-999.000,-999.0000, -999.00,   0.6121,   1.1387,2,20091218,       0135