BOTTLE,20220818CCHSIOAMB
EXPOCODE,SECT_ID,STNNBR,CASTNO,SAMPNO,BTLNBR,BTLNBR_FLAG_W,DATE,TIME,LATITUDE,LONGITUDE,DEPTH,CTDPRS,CTDTMP,CTDSAL,SALNTY,SALNTY_FLAG_W,CTDOXY,CTDOXY_FLAG_W,OXYGEN,OXYGEN_FLAG_W,SILCAT,SILCAT_FLAG_W,NITRAT,NITRAT_FLAG_W,NITRIT,NITRIT_FLAG_W,PHSPHT,PHSPHT_FLAG_W,CFC-11,CFC-11_FLAG_W,CFC-12,CFC-12_FLAG_W,CFC113,CFC113_FLAG_W,SF6,SF6_FLAG_W,TCARBN,TCARBN_FLAG_W,ALKALI,ALKALI_FLAG_W,PH_SWS,PH_SWS_FLAG_W,PH_TMP,TRITUM,TRITUM_FLAG_W,HELIUM,HELIUM_FLAG_W,DELHE3,DELHE3_FLAG_W,DELC13,DELC13_FLAG_W,DELC14,DELC14_FLAG_W,C14ERR,NEON,NEON_FLAG_W,NEONER,DOC,DOC_FLAG_W,TRITER,HELIER,DELHER,THETA,SBE35,SBE35_FLAG_W,BTL_DATE,BTL_TIME
,,,,,,,,,,,METERS,DBAR,ITS-90,PSS-78,PSS-78,,UMOL/KG,,UMOL/KG,,UMOL/KG,,UMOL/KG,,UMOL/KG,,UMOL/KG,,PMOL/KG,,PMOL/KG,,PMOL/KG,,FMOL/KG,,UMOL/KG,,UMOL/KG,,,,DEG C,TU,,NMOL/KG,,PERCNT,,/MILLE,,/MILLE,,/MILLE,NMOL/KG,,NMOL/KG,UMOL/KG,,TU,NMOL/KG,PERCNT,DEG C,ITS-90,,,
318M20091121,        P06,      93,          2,         36,         36,2,20091217,       2359,   -32.5000,  -171.5899,       4819,     8.2,  20.4317,  35.5650,  35.5660,2,    230.4,2,   230.7,2,    0.79,2,    0.00,2,    0.00,2,    0.12,2,   2.047,2,   1.316,2,-999.000,1,    1.143,2,  2053.3,6,  2335.2,2,   8.0001,6,    25.00,-999.000,9,-999.0000,9, -999.00,9, -999.00,9,  -999.0,9,  -999.0,-999.000,9,-999.000,  -999.0,9,-999.000,-999.0000, -999.00,  20.4302,  20.4299,2,20091217,       0220
318M20091121,        P06,      93,          2,         35,         35,2,20091217,       2359,   -32.5000,  -171.5899,       4819,    35.2,  17.9732,  35.5365,  35.5356,2,    247.8,2,   248.5,2,    0.57,2,    0.00,2,    0.00,2,    0.11,2,   2.279,2,   1.432,2,-999.000,1,     1.31,2,  -999.0,9,  2331.8,6,-999.0000,9,  -999.00,-999.000,9,-999.0000,9, -999.00,9, -999.00,9,  -999.0,9,  -999.0,-999.000,9,-999.000,  -999.0,9,-999.000,-999.0000, -999.00,  17.9672,  17.9625,2,20091217,       0217
318M20091121,        P06,      93,          2,         34,         34,2,20091217,       2359,   -32.5000,  -171.5899,       4819,    60.5,  17.1523,  35.5277,  35.5275,2,    248.3,2,   245.4,2,    0.55,2,    0.00,2,    0.00,2,    0.11,2,   2.274,2,   1.431,2,-999.000,1,    1.257,2,  -999.0,9,  -999.0,9,-999.0000,9,  -999.00,-999.000,9,-999.0000,9, -999.00,9, -999.00,9,  -999.0,9,  -999.0,-999.000,9,-999.000,  -999.0,9,-999.000,-999.0000, -999.00,  17.1422,  17.1249,2,20091217,       0215
318M20091121,        P06,      93,          2,         33,         33,2,20091217,       2359,   -32.5000,  -171.5899,       4819,    86.2,  16.1116,  35.4986,  35.4998,2,    227.4,2,   229.4,2,    0.94,2,    1.24,2,    0.06,2,    0.24,2,   2.352,2,   1.473,2,-999.000,1,    1.204,2,  -999.0,9,  2329.9,2,-999.0000,9,  -999.00,-999.000,9,-999.0000,9, -999.00,9, -999.00,9,  -999.0,9,  -999.0,-999.000,9,-999.000,  -999.0,9,-999.000,-999.0000, -999.00,  16.0979,  16.1117,2,20091217,       0213
318M20091121,        P06,      93,          2,         32,         32,2,20091217,       2359,   -32.5000,  -171.5899,       4819,   112.7,  15.7639,  35.4671,  35.4676,2,    223.1,2,   223.1,2,    1.12,2,    3.08,2,    0.02,2,    0.33,2,   2.357,2,   1.474,2,-999.000,1,     1.19,2,  -999.0,9,  -999.0,9,-999.0000,9,  -999.00,-999.000,9,-999.0000,9, -999.00,9, -999.00,9,  -999.0,9,  -999.0,-999.000,9,-999.000,  -999.0,9,-999.000,-999.0000, -999.00,  15.7462,  15.7719,2,20091217,       0210
318M20091121,        P06,      93,          2,         31,         31,2,20091217,       2359,   -32.5000,  -171.5899,       4819,   136.7,  15.4802,  35.4352,  35.4353,2,    224.0,2,   221.6,2,    1.10,2,    3.70,2,    0.01,2,    0.38,2,   2.366,2,   1.477,2,-999.000,1,    1.212,2,  -999.0,9,  2326.0,2,   7.9339,2,    25.00,-999.000,9,-999.0000,9, -999.00,9, -999.00,9,  -999.0,9,  -999.0,-999.000,9,-999.000,  -999.0,9,-999.000,-999.0000, -999.00,  15.4590,  15.4815,2,20091217,       0208
318M20091121,        P06,      93,          2,         30,         30,2,20091217,       2359,   -32.5000,  -171.5899,       4819,   165.7,  14.5290,  35.3070,  35.3024,2,    230.3,2,   228.3,2,    1.49,2,    4.18,2,    0.01,2,    0.42,2,   2.479,2,   1.545,2,-999.000,1,    1.246,2,  -999.0,9,  -999.0,9,-999.0000,9,  -999.00,-999.000,9,-999.0000,9, -999.00,9, -999.00,9,  -999.0,9,  -999.0,-999.000,9,-999.000,  -999.0,9,-999.000,-999.0000, -999.00,  14.5044,  14.5606,2,20091217,       0205
318M20091121,        P06,      93,          2,         29,         29,2,20091217,       2359,   -32.5000,  -171.5899,       4819,   227.3,  13.9991,  35.2698,  35.2708,2,    241.7,2,   237.5,2,    1.47,2,    4.03,2,    0.01,2,    0.42,2,   2.566,2,   1.595,2,-999.000,1,    1.219,2,  -999.0,9,  2325.9,2,-999.0000,9,  -999.00,-999.000,9,-999.0000,9, -999.00,9, -999.00,9,  -999.0,9,  -999.0,-999.000,9,-999.000,  -999.0,9,-999.000,-999.0000, -999.00,  13.9661,  14.0054,2,20091217,       0202
318M20091121,        P06,      93,          2,         28,         28,2,20091217,       2359,   -32.5000,  -171.5899,       4819,   268.5,  12.9795,  35.1535,  35.1525,2,    211.8,2,   211.3,2,    2.69,2,    9.74,2,    0.01,2,    0.75,2,   2.542,2,   1.542,2,-999.000,1,    1.086,2,  -999.0,9,  -999.0,9,-999.0000,9,  -999.00,-999.000,9,-999.0000,9, -999.00,9, -999.00,9,  -999.0,9,  -999.0,-999.000,9,-999.000,  -999.0,9,-999.000,-999.0000, -999.00,  12.9425,  12.9586,2,20091217,       0159
318M20091121,        P06,      93,          2,         27,         27,2,20091217,       2359,   -32.5000,  -171.5899,       4819,   317.8,  12.1571,  35.0338,  35.0381,2,    208.4,2,   209.4,2,    3.09,2,   11.60,2,    0.01,2,    0.86,2,   2.597,2,   1.539,2,-999.000,1,    0.803,2,  -999.0,9,  2309.5,2,-999.0000,9,  -999.00,-999.000,9,-999.0000,9, -999.00,9, -999.00,9,  -999.0,9,  -999.0,-999.000,9,-999.000,  -999.0,9,-999.000,-999.0000, -999.00,  12.1151,  12.1825,2,20091217,       0157
318M20091121,        P06,      93,          2,         26,         26,2,20091217,       2359,   -32.5000,  -171.5899,       4819,   367.3,  10.9271,  34.8606,  34.8615,2,    206.6,2,   206.2,2,    4.09,2,   14.70,2,    0.01,2,    1.06,2,   2.615,6,   1.516,6,-999.000,1,    0.799,6,  -999.0,9,  -999.0,9,-999.0000,9,  -999.00,-999.000,9,-999.0000,9, -999.00,9, -999.00,9,  -999.0,9,  -999.0,-999.000,9,-999.000,  -999.0,9,-999.000,-999.0000, -999.00,  10.8817,  10.9253,2,20091217,       0155
318M20091121,        P06,      93,          2,         25,         25,2,20091217,       2359,   -32.5000,  -171.5899,       4819,   418.3,   9.9343,  34.7296,  34.7310,2,    208.7,2,   208.6,2,    4.91,2,   16.78,2,    0.01,2,    1.19,2,   2.704,2,   1.538,2,-999.000,1,    0.776,2,  -999.0,9,  2294.8,2,   7.7668,2,    25.00,-999.000,9,-999.0000,9, -999.00,9, -999.00,9,  -999.0,9,  -999.0,-999.000,9,-999.000,  -999.0,9,-999.000,-999.0000, -999.00,   9.8856,   9.9361,2,20091217,       0152
318M20091121,        P06,      93,          2,         24,         24,2,20091217,       2359,   -32.5000,  -171.5899,       4819,   467.0,   9.0366,  34.6139,  34.6139,2,    215.1,2,   214.8,2,    5.30,2,   18.44,2,    0.00,2,    1.30,2,   2.808,2,   1.587,2,-999.000,1,    0.723,2,  -999.0,9,  -999.0,9,-999.0000,9,  -999.00,-999.000,9,-999.0000,9, -999.00,9, -999.00,9,  -999.0,9,  -999.0,-999.000,9,-999.000,  -999.0,9,-999.000,-999.0000, -999.00,   8.9852,   9.0362,2,20091217,       0151
318M20091121,        P06,      93,          2,         23,         23,2,20091217,       2359,   -32.5000,  -171.5899,       4819,   538.0,   7.9505,  34.4890,  34.4898,2,    223.2,2,   226.0,2,    5.89,2,   20.48,2,    0.00,2,    1.43,2,   2.953,2,   1.629,2,-999.000,1,    0.678,2,  -999.0,9,  2284.7,2,-999.0000,9,  -999.00,-999.000,9,-999.0000,9, -999.00,9, -999.00,9,  -999.0,9,  -999.0,-999.000,9,-999.000,  -999.0,9,-999.000,-999.0000, -999.00,   7.8955,   7.9532,2,20091217,       0148
318M20091121,        P06,      93,          2,         22,         22,2,20091217,       2359,   -32.5000,  -171.5899,       4819,   639.3,   7.2286,  34.4165,  34.4159,2,    231.3,2,   232.9,2,    7.12,2,   22.01,2,    0.00,2,    1.52,2,   2.891,2,   1.572,2,-999.000,1,    0.529,2,  -999.0,9,  -999.0,9,-999.0000,9,  -999.00,-999.000,9,-999.0000,9, -999.00,9, -999.00,9,  -999.0,9,  -999.0,-999.000,9,-999.000,  -999.0,9,-999.000,-999.0000, -999.00,   7.1663,   7.2280,2,20091217,       0144
318M20091121,        P06,      93,          2,         21,         21,2,20091217,       2359,   -32.5000,  -171.5899,       4819,   741.5,   6.7935,  34.3913,  34.3909,2,    227.7,2,   227.0,2,    9.38,2,   23.49,2,    0.00,2,    1.62,2,   2.096,2,   1.101,2,-999.000,1,    0.201,2,  -999.0,9,  2290.7,4,-999.0000,9,  -999.00,-999.000,9,-999.0000,9, -999.00,9, -999.00,9,  -999.0,9,  -999.0,-999.000,9,-999.000,  -999.0,9,-999.000,-999.0000, -999.00,   6.7232,   6.7951,2,20091217,       0141
318M20091121,        P06,      93,          2,         20,         20,2,20091217,       2359,   -32.5000,  -171.5899,       4819,   840.5,   6.2865,  34.3629,  34.3629,2,    222.7,2,   222.6,2,   12.27,2,   25.07,2,    0.00,2,    1.74,2,   1.551,2,   0.800,2,-999.000,1,    0.148,2,  -999.0,9,  2286.3,6,   7.7033,2,    25.00,-999.000,9,-999.0000,9, -999.00,9, -999.00,9,  -999.0,9,  -999.0,-999.000,9,-999.000,  -999.0,9,-999.000,-999.0000, -999.00,   6.2094,   6.2874,2,20091217,       0139
318M20091121,        P06,      93,          2,         19,         19,2,20091217,       2359,   -32.5000,  -171.5899,       4819,   942.7,   5.6246,  34.3475,  34.3465,2,    210.6,2,   211.2,2,   18.70,2,   27.35,2,    0.00,2,    1.90,2,   1.001,2,   0.501,2,-999.000,1,        0,2,  -999.0,9,  2292.7,2,-999.0000,9,  -999.00,-999.000,9,-999.0000,9, -999.00,9, -999.00,9,  -999.0,9,  -999.0,-999.000,9,-999.000,  -999.0,9,-999.000,-999.0000, -999.00,   5.5422,   5.6321,2,20091217,       0136
318M20091121,        P06,      93,          2,         18,         18,2,20091217,       2359,   -32.5000,  -171.5899,       4819,  1043.1,   4.8269,  34.3509,  34.3501,2,    199.4,2,   198.9,2,   28.92,2,   29.73,2,    0.00,2,    2.07,2,   0.564,2,   0.286,2,-999.000,1,        0,2,  -999.0,9,  -999.0,9,-999.0000,9,  -999.00,-999.000,9,-999.0000,9, -999.00,9, -999.00,9,  -999.0,9,  -999.0,-999.000,9,-999.000,  -999.0,9,-999.000,-999.0000, -999.00,   4.7413,   4.8277,2,20091217,       0132
318M20091121,        P06,      93,          2,         17,         17,2,20091217,       2359,   -32.5000,  -171.5899,       4819,  1145.5,   4.2812,  34.3708,  34.3691,2,    192.0,2,   190.2,2,   37.72,2,   31.09,2,    0.00,2,    2.18,2,   0.375,2,   0.194,2,-999.000,1,        0,2,  -999.0,9,  2308.9,2,-999.0000,9,  -999.00,-999.000,9,-999.0000,9, -999.00,9, -999.00,9,  -999.0,9,  -999.0,-999.000,9,-999.000,  -999.0,9,-999.000,-999.0000, -999.00,   4.1911,   4.2835,2,20091217,       0129
318M20091121,        P06,      93,          2,         16,         16,2,20091217,       2359,   -32.5000,  -171.5899,       4819,  1245.5,   3.8076,  34.3962,  34.3945,2,    183.7,2,   183.6,2,   46.55,2,   32.37,2,    0.00,2,    2.27,2,   0.192,2,   0.106,2,-999.000,1,        0,2,  -999.0,9,  -999.0,9,-999.0000,9,  -999.00,-999.000,9,-999.0000,9, -999.00,9, -999.00,9,  -999.0,9,  -999.0,-999.000,9,-999.000,  -999.0,9,-999.000,-999.0000, -999.00,   3.7131,   3.8088,2,20091217,       0126
318M20091121,        P06,      93,          2,         15,         15,2,20091217,       2359,   -32.5000,  -171.5899,       4819,  1347.4,   3.3771,  34.4427,  34.4417,2,    175.9,2,   175.6,2,   57.75,2,   33.22,2,    0.00,2,    2.34,2,   0.092,2,   0.054,2,-999.000,1,        0,2,  -999.0,9,  2326.1,2,-999.0000,9,  -999.00,-999.000,9,-999.0000,9, -999.00,9, -999.00,9,  -999.0,9,  -999.0,-999.000,9,-999.000,  -999.0,9,-999.000,-999.0000, -999.00,   3.2782,   3.3773,2,20091217,       0123
318M20091121,        P06,      93,          2,         14,         14,2,20091217,       2359,   -32.5000,  -171.5899,       4819,  1448.4,   3.0921,  34.4877,  34.4881,2,    169.3,2,   169.0,2,   68.34,2,   33.74,2,    0.00,2,    2.38,2,   0.051,2,   0.032,2,-999.000,1,        0,2,  -999.0,9,  -999.0,9,-999.0000,9,  -999.00,-999.000,9,-999.0000,9, -999.00,9, -999.00,9,  -999.0,9,  -999.0,-999.000,9,-999.000,  -999.0,9,-999.000,-999.0000, -999.00,   2.9877,   3.0916,2,20091217,       0120
318M20091121,        P06,      93,          2,         13,         13,2,20091217,       2359,   -32.5000,  -171.5899,       4819,  1550.5,   2.8600,  34.5304,  34.5308,2,    163.1,2,   163.1,2,   78.56,2,   34.07,2,    0.00,2,    2.40,2,   0.024,2,   0.016,2,-999.000,1,        0,2,  -999.0,9,  2365.3,2,   7.5700,2,    25.00,-999.000,9,-999.0000,9, -999.00,9, -999.00,9,  -999.0,9,  -999.0,-999.000,9,-999.000,  -999.0,9,-999.000,-999.0000, -999.00,   2.7497,   2.8596,2,20091217,       0116
318M20091121,        P06,      93,          2,         12,         12,2,20091217,       2359,   -32.5000,  -171.5899,       4819,  1682.8,   2.6681,  34.5683,  34.5679,2,    157.5,2,   158.3,2,   89.02,2,   34.35,2,    0.00,2,    2.43,2,   0.015,2,   0.011,2,-999.000,1,        0,2,  -999.0,9,  -999.0,9,-999.0000,9,  -999.00,-999.000,9,-999.0000,9, -999.00,9, -999.00,9,  -999.0,9,  -999.0,-999.000,9,-999.000,  -999.0,9,-999.000,-999.0000, -999.00,   2.5490,   2.6685,2,20091217,       0112
318M20091121,        P06,      93,          2,         11,         11,2,20091217,       2359,   -32.5000,  -171.5899,       4819,  1884.3,   2.4287,  34.6071,  34.6069,2,    152.1,2,   152.4,2,  102.30,2,   34.73,2,    0.00,2,    2.46,2,   0.011,2,   0.007,2,-999.000,1,        0,2,  -999.0,9,  -999.0,9,-999.0000,9,  -999.00,-999.000,9,-999.0000,9, -999.00,9, -999.00,9,  -999.0,9,  -999.0,-999.000,9,-999.000,  -999.0,9,-999.000,-999.0000, -999.00,   2.2958,   2.4286,2,20091217,       0108
318M20091121,        P06,      93,          2,         10,         10,2,20091217,       2359,   -32.5000,  -171.5899,       4819,  2106.1,   2.2373,  34.6295,  34.6291,2,    149.0,2,   150.5,2,  113.03,2,   35.07,2,    0.00,2,    2.49,2,   0.008,2,   0.005,2,-999.000,1,        0,2,  -999.0,9,  2392.4,2,-999.0000,9,  -999.00,-999.000,9,-999.0000,9, -999.00,9, -999.00,9,  -999.0,9,  -999.0,-999.000,9,-999.000,  -999.0,9,-999.000,-999.0000, -999.00,   2.0881,   2.2373,2,20091217,       0102
318M20091121,        P06,      93,          2,          9,          9,2,20091217,       2359,   -32.5000,  -171.5899,       4819,  2363.9,   2.0893,  34.6442,  34.6439,2,    148.4,2,   147.9,2,  119.48,2,   35.20,2,    0.00,2,    2.50,2,   0.020,2,   0.017,2,-999.000,1,        0,2,  -999.0,9,  -999.0,9,-999.0000,9,  -999.00,-999.000,9,-999.0000,9, -999.00,9, -999.00,9,  -999.0,9,  -999.0,-999.000,9,-999.000,  -999.0,9,-999.000,-999.0000, -999.00,   1.9197,   2.0893,2,20091217,       0056
318M20091121,        P06,      93,          2,          8,          8,2,20091217,       2359,   -32.5000,  -171.5899,       4819,  2561.8,   2.0003,  34.6530,  34.6522,2,    148.8,2,   148.7,2,  123.14,2,   35.25,2,    0.00,2,    2.50,2,   0.013,2,   0.011,2,-999.000,1,        0,2,  -999.0,9,  -999.0,9,-999.0000,9,  -999.00,-999.000,9,-999.0000,9, -999.00,9, -999.00,9,  -999.0,9,  -999.0,-999.000,9,-999.000,  -999.0,9,-999.000,-999.0000, -999.00,   1.8143,   2.0007,2,20091217,       0051
318M20091121,        P06,      93,          2,          7,          7,2,20091217,       2359,   -32.5000,  -171.5899,       4819,  2887.4,   1.8433,  34.6696,  34.6699,2,    155.0,2,   155.4,2,  125.28,2,   34.82,2,    0.00,2,    2.47,2,   0.014,2,   0.009,2,-999.000,1,        0,2,  -999.0,9,  2406.5,2,-999.0000,9,  -999.00,-999.000,9,-999.0000,9, -999.00,9, -999.00,9,  -999.0,9,  -999.0,-999.000,9,-999.000,  -999.0,9,-999.000,-999.0000, -999.00,   1.6298,   1.8432,2,20091217,       0044
318M20091121,        P06,      93,          2,          6,          6,2,20091217,       2359,   -32.5000,  -171.5899,       4819,  3140.2,   1.7367,  34.6877,  34.6874,2,    165.0,2,   165.1,2,  120.95,2,   33.87,2,    0.00,2,    2.39,2,   0.009,2,   0.006,2,-999.000,1,        0,2,  -999.0,9,  -999.0,9,-999.0000,9,  -999.00,-999.000,9,-999.0000,9, -999.00,9, -999.00,9,  -999.0,9,  -999.0,-999.000,9,-999.000,  -999.0,9,-999.000,-999.0000, -999.00,   1.5009,   1.7379,2,20091217,       0039
318M20091121,        P06,      93,          2,          5,          5,2,20091217,       2359,   -32.5000,  -171.5899,       4819,  3443.2,   1.6139,  34.7076,  34.7071,2,    182.1,2,   181.1,2,  112.96,2,   32.54,2,    0.00,2,    2.30,2,   0.018,2,   0.010,2,-999.000,1,        0,2,  -999.0,9,  -999.0,9,-999.0000,9,  -999.00,-999.000,9,-999.0000,9, -999.00,9, -999.00,9,  -999.0,9,  -999.0,-999.000,9,-999.000,  -999.0,9,-999.000,-999.0000, -999.00,   1.3505,   1.6144,2,20091217,       0032
318M20091121,        P06,      93,          2,          4,          4,2,20091217,       2359,   -32.5000,  -171.5899,       4819,  3752.1,   1.3902,  34.7183,  34.7185,2,    195.8,2,   196.0,2,  110.79,2,   31.60,2,    0.00,2,    2.22,2,   0.028,2,   0.019,2,-999.000,1,        0,2,  -999.0,9,  2374.2,2,-999.0000,9,  -999.00,-999.000,9,-999.0000,9, -999.00,9, -999.00,9,  -999.0,9,  -999.0,-999.000,9,-999.000,  -999.0,9,-999.000,-999.0000, -999.00,   1.1005,   1.3904,2,20091217,       0026
318M20091121,        P06,      93,          2,          3,          3,2,20091217,       2359,   -32.5000,  -171.5899,       4819,  4057.1,   1.2038,  34.7163,  34.7165,2,    202.3,2,   201.7,2,  114.66,2,   31.51,2,    0.00,2,    2.21,2,   0.037,2,   0.026,2,-999.000,1,        0,2,  -999.0,9,  -999.0,9,-999.0000,9,  -999.00,-999.000,9,-999.0000,9, -999.00,9, -999.00,9,  -999.0,9,  -999.0,-999.000,9,-999.000,  -999.0,9,-999.000,-999.0000, -999.00,   0.8869,   1.2041,2,20091217,       0019
318M20091121,        P06,      93,          2,          2,          2,2,20091217,       2359,   -32.5000,  -171.5899,       4819,  4481.8,   1.0526,  34.7108,  34.7109,2,    205.7,2,   205.8,2,  119.39,2,   31.60,2,    0.00,2,    2.22,2,   0.057,2,   0.038,2,-999.000,1,        0,2,  -999.0,9,  -999.0,9,-999.0000,9,  -999.00,-999.000,9,-999.0000,9, -999.00,9, -999.00,9,  -999.0,9,  -999.0,-999.000,9,-999.000,  -999.0,9,-999.000,-999.0000, -999.00,   0.6934,   1.0527,2,20091217,       0010
318M20091121,        P06,      93,          2,          1,          1,2,20091217,       2359,   -32.5000,  -171.5899,       4819,  4909.6,   1.0251,  34.7079,  34.7083,2,    207.3,2,   207.1,2,  121.75,2,   31.74,2,    0.00,2,    2.23,2,   0.064,2,   0.042,2,-999.000,1,        0,2,  -999.0,9,  2369.1,6,   7.6208,2,    25.00,-999.000,9,-999.0000,9, -999.00,9, -999.00,9,  -999.0,9,  -999.0,-999.000,9,-999.000,  -999.0,9,-999.000,-999.0000, -999.00,   0.6175,   1.0249,2,20091217,       2359