BOTTLE,20220818CCHSIOAMB
EXPOCODE,SECT_ID,STNNBR,CASTNO,SAMPNO,BTLNBR,BTLNBR_FLAG_W,DATE,TIME,LATITUDE,LONGITUDE,DEPTH,CTDPRS,CTDTMP,CTDSAL,SALNTY,SALNTY_FLAG_W,CTDOXY,CTDOXY_FLAG_W,OXYGEN,OXYGEN_FLAG_W,SILCAT,SILCAT_FLAG_W,NITRAT,NITRAT_FLAG_W,NITRIT,NITRIT_FLAG_W,PHSPHT,PHSPHT_FLAG_W,CFC-11,CFC-11_FLAG_W,CFC-12,CFC-12_FLAG_W,CFC113,CFC113_FLAG_W,SF6,SF6_FLAG_W,TCARBN,TCARBN_FLAG_W,ALKALI,ALKALI_FLAG_W,PH_SWS,PH_SWS_FLAG_W,PH_TMP,TRITUM,TRITUM_FLAG_W,HELIUM,HELIUM_FLAG_W,DELHE3,DELHE3_FLAG_W,DELC13,DELC13_FLAG_W,DELC14,DELC14_FLAG_W,C14ERR,NEON,NEON_FLAG_W,NEONER,DOC,DOC_FLAG_W,TRITER,HELIER,DELHER,THETA,SBE35,SBE35_FLAG_W,BTL_DATE,BTL_TIME
,,,,,,,,,,,METERS,DBAR,ITS-90,PSS-78,PSS-78,,UMOL/KG,,UMOL/KG,,UMOL/KG,,UMOL/KG,,UMOL/KG,,UMOL/KG,,PMOL/KG,,PMOL/KG,,PMOL/KG,,FMOL/KG,,UMOL/KG,,UMOL/KG,,,,DEG C,TU,,NMOL/KG,,PERCNT,,/MILLE,,/MILLE,,/MILLE,NMOL/KG,,NMOL/KG,UMOL/KG,,TU,NMOL/KG,PERCNT,DEG C,ITS-90,,,
318M20091121,        P06,      43,          1,         22,         22,2,20091202,       2056,   -30.0799,   167.9996,       1194,     3.2,  22.1093,  35.6558,  35.6563,2,    222.8,2,   223.2,2,    0.44,2,    0.00,2,    0.00,2,    0.07,2,   2.075,2,   1.274,2,-999.000,1,    1.217,2,  2022.5,6,  2330.2,6,   8.0591,2,    25.00,-999.000,9,-999.0000,9, -999.00,9, -999.00,9,  -999.0,9,  -999.0,-999.000,9,-999.000,  -999.0,9,-999.000,-999.0000, -999.00,  22.1087,  22.1126,2,20091202,       2156
318M20091121,        P06,      43,          1,         21,         21,2,20091202,       2056,   -30.0799,   167.9996,       1194,    20.2,  21.7469,  35.6567,  35.6559,2,    226.9,2,   225.9,2,    0.43,2,    0.00,2,    0.00,2,    0.06,2,   2.091,6,   1.281,6,-999.000,1,    1.169,6,  -999.0,9,  2330.3,2,   8.0633,6,    25.00,-999.000,9,-999.0000,9, -999.00,9, -999.00,9,  -999.0,9,  -999.0,-999.000,9,-999.000,  -999.0,9,-999.000,-999.0000, -999.00,  21.7429,  21.7526,2,20091202,       2152
318M20091121,        P06,      43,          1,         20,         20,2,20091202,       2056,   -30.0799,   167.9996,       1194,    40.3,  21.3345,  35.6801,  35.6802,2,    228.4,2,   229.0,2,    0.21,2,    0.00,2,    0.00,2,    0.08,2,   2.135,2,   1.304,2,-999.000,1,    1.217,2,  2025.3,2,  2332.4,2,   8.0570,4,    25.00,-999.000,9,-999.0000,9, -999.00,9, -999.00,9,  -999.0,9,  -999.0,-999.000,9,-999.000,  -999.0,9,-999.000,-999.0000, -999.00,  21.3267,  21.3441,2,20091202,       2149
318M20091121,        P06,      43,          1,         19,         19,2,20091202,       2056,   -30.0799,   167.9996,       1194,    64.4,  20.4360,  35.6517,  35.6527,2,    231.4,2,   232.4,2,    0.21,2,    0.04,2,    0.00,2,    0.07,2,   2.197,2,   1.337,2,-999.000,1,    1.201,2,  2029.3,2,  2334.9,2,   8.0525,2,    25.00,-999.000,9,-999.0000,9, -999.00,9, -999.00,9,  -999.0,9,  -999.0,-999.000,9,-999.000,  -999.0,9,-999.000,-999.0000, -999.00,  20.4239,  20.4378,2,20091202,       2148
318M20091121,        P06,      43,          1,         18,         18,2,20091202,       2056,   -30.0799,   167.9996,       1194,    90.0,  18.9786,  35.6145,  35.6149,2,    218.2,2,   220.9,2,    0.39,2,    0.44,2,    0.16,2,    0.17,2,   2.276,2,   1.376,2,-999.000,1,    1.214,2,  -999.0,9,  -999.0,9,-999.0000,9,  -999.00,-999.000,9,-999.0000,9, -999.00,9, -999.00,9,  -999.0,9,  -999.0,-999.000,9,-999.000,  -999.0,9,-999.000,-999.0000, -999.00,  18.9625,  18.9783,2,20091202,       2145
318M20091121,        P06,      43,          1,         17,         17,2,20091202,       2056,   -30.0799,   167.9996,       1194,   115.7,  18.4767,  35.6150,  35.6151,2,    203.9,2,   204.2,2,    0.78,2,    3.05,2,    0.03,2,    0.30,2,   2.292,2,   1.383,2,-999.000,1,    1.226,2,  2063.6,2,  2332.0,2,   7.9881,2,    25.00,-999.000,9,-999.0000,9, -999.00,9, -999.00,9,  -999.0,9,  -999.0,-999.000,9,-999.000,  -999.0,9,-999.000,-999.0000, -999.00,  18.4564,  18.4821,2,20091202,       2143
318M20091121,        P06,      43,          1,         16,         16,2,20091202,       2056,   -30.0799,   167.9996,       1194,   140.3,  18.0786,  35.6023,  35.6028,2,    201.1,2,   200.9,2,    0.97,2,    3.93,2,    0.02,2,    0.36,2,   2.328,2,   1.380,2,-999.000,1,    1.095,2,  -999.0,9,  -999.0,9,-999.0000,9,  -999.00,-999.000,9,-999.0000,9, -999.00,9, -999.00,9,  -999.0,9,  -999.0,-999.000,9,-999.000,  -999.0,9,-999.000,-999.0000, -999.00,  18.0544,  18.0702,2,20091202,       2141
318M20091121,        P06,      43,          1,         15,         15,2,20091202,       2056,   -30.0799,   167.9996,       1194,   165.8,  17.7951,  35.5815,  35.5822,2,    197.1,2,   194.6,2,    1.15,2,    4.90,2,    0.01,2,    0.42,2,   2.329,2,   1.383,2,-999.000,1,    1.132,2,  2077.9,2,  2329.5,2,   7.9554,2,    25.00,-999.000,9,-999.0000,9, -999.00,9, -999.00,9,  -999.0,9,  -999.0,-999.000,9,-999.000,  -999.0,9,-999.000,-999.0000, -999.00,  17.7668,  17.7939,2,20091202,       2139
318M20091121,        P06,      43,          1,         14,         14,2,20091202,       2056,   -30.0799,   167.9996,       1194,   190.8,  17.2906,  35.5513,  35.5524,2,    194.9,2,   196.2,2,    1.34,2,    5.35,2,    0.01,2,    0.46,2,   2.365,2,   1.390,2,-999.000,1,    1.179,2,  -999.0,9,  -999.0,9,-999.0000,9,  -999.00,-999.000,9,-999.0000,9, -999.00,9, -999.00,9,  -999.0,9,  -999.0,-999.000,9,-999.000,  -999.0,9,-999.000,-999.0000, -999.00,  17.2586,  17.2848,2,20091202,       2137
318M20091121,        P06,      43,          1,         13,         13,2,20091202,       2056,   -30.0799,   167.9996,       1194,   236.8,  16.2322,  35.4680,  35.4696,2,    195.3,2,   194.2,2,    1.91,2,    6.98,2,    0.01,2,    0.57,2,   2.441,2,   1.426,2,-999.000,1,    1.169,2,  2094.5,2,  2325.0,6,   7.9190,2,    25.00,-999.000,9,-999.0000,9, -999.00,9, -999.00,9,  -999.0,9,  -999.0,-999.000,9,-999.000,  -999.0,9,-999.000,-999.0000, -999.00,  16.1942,  16.2198,2,20091202,       2134
318M20091121,        P06,      43,          1,         12,         12,2,20091202,       2056,   -30.0799,   167.9996,       1194,   286.9,  15.8347,  35.4244,  35.4245,2,    191.2,2,   191.8,2,    2.11,2,    7.85,2,    0.01,2,    0.63,2,   2.447,2,   1.412,2,-999.000,1,    1.025,2,  -999.0,9,  -999.0,9,-999.0000,9,  -999.00,-999.000,9,-999.0000,9, -999.00,9, -999.00,9,  -999.0,9,  -999.0,-999.000,9,-999.000,  -999.0,9,-999.000,-999.0000, -999.00,  15.7893,  15.8345,2,20091202,       2131
318M20091121,        P06,      43,          1,         11,         11,2,20091202,       2056,   -30.0799,   167.9996,       1194,   337.7,  14.5601,  35.2846,  35.2962,3,    190.7,2,   191.5,2,    2.69,2,    9.68,2,    0.00,2,    0.74,2,   2.561,4,   1.697,4,-999.000,1,    4.515,4,  2108.3,2,  2317.3,2,   7.8751,2,    25.00,-999.000,9,-999.0000,9, -999.00,9, -999.00,9,  -999.0,9,  -999.0,-999.000,9,-999.000,  -999.0,9,-999.000,-999.0000, -999.00,  14.5096,  14.5871,3,20091202,       2129
318M20091121,        P06,      43,          1,         10,         10,2,20091202,       2056,   -30.0799,   167.9996,       1194,   388.6,  13.6051,  35.1806,  35.1798,2,    191.0,2,   191.9,2,    3.47,2,   11.50,2,    0.00,2,    0.86,2,   2.490,2,   1.395,2,-999.000,1,    0.943,2,  -999.0,9,  -999.0,9,-999.0000,9,  -999.00,-999.000,9,-999.0000,9, -999.00,9, -999.00,9,  -999.0,9,  -999.0,-999.000,9,-999.000,  -999.0,9,-999.000,-999.0000, -999.00,  13.5495,  13.6044,2,20091202,       2126
318M20091121,        P06,      43,          1,          9,          9,2,20091202,       2056,   -30.0799,   167.9996,       1194,   439.3,  12.4775,  35.0622,  35.0618,2,    193.8,2,   193.9,2,    4.45,2,   13.57,2,    0.00,2,    0.99,2,   2.479,2,   1.374,2,-999.000,1,      0.7,2,  2124.4,2,  2306.3,2,-999.0000,5,  -999.00,-999.000,9,-999.0000,9, -999.00,9, -999.00,9,  -999.0,9,  -999.0,-999.000,9,-999.000,  -999.0,9,-999.000,-999.0000, -999.00,  12.4181,  12.4779,2,20091202,       2124
318M20091121,        P06,      43,          1,          8,          8,2,20091202,       2056,   -30.0799,   167.9996,       1194,   489.1,  11.4205,  34.9345,  34.9343,2,    196.2,2,   195.8,2,    5.43,2,   15.53,2,    0.00,2,    1.11,2,   2.468,2,   1.341,2,-999.000,1,    0.605,2,  -999.0,9,  -999.0,9,-999.0000,9,  -999.00,-999.000,9,-999.0000,9, -999.00,9, -999.00,9,  -999.0,9,  -999.0,-999.000,9,-999.000,  -999.0,9,-999.000,-999.0000, -999.00,  11.3580,  11.4182,2,20091202,       2121
318M20091121,        P06,      43,          1,          7,          7,2,20091202,       2056,   -30.0799,   167.9996,       1194,   569.5,   9.6478,  34.7183,  34.7189,2,    201.0,2,   201.2,2,    7.41,2,   18.91,2,    0.00,2,    1.33,2,   2.332,2,   1.222,2,-999.000,1,    0.505,2,  2141.1,2,  2296.8,2,   7.7569,6,    25.00,-999.000,9,-999.0000,9, -999.00,9, -999.00,9,  -999.0,9,  -999.0,-999.000,9,-999.000,  -999.0,9,-999.000,-999.0000, -999.00,   9.5821,   9.6500,2,20091202,       2118
318M20091121,        P06,      43,          1,          6,          6,2,20091202,       2056,   -30.0799,   167.9996,       1194,   669.7,   8.1595,  34.5636,  34.5658,2,    203.3,2,   206.3,2,   10.58,2,   21.94,2,    0.00,2,    1.53,2,   2.056,2,   1.052,2,-999.000,1,    0.345,2,  2148.0,2,  2287.6,2,   7.7256,2,    25.00,-999.000,9,-999.0000,9, -999.00,9, -999.00,9,  -999.0,9,  -999.0,-999.000,9,-999.000,  -999.0,9,-999.000,-999.0000, -999.00,   8.0893,   8.1607,2,20091202,       2115
318M20091121,        P06,      43,          1,          5,          5,2,20091202,       2056,   -30.0799,   167.9996,       1194,   772.1,   7.0925,  34.4625,  34.4631,2,    209.4,2,   210.7,2,   13.35,2,   24.15,2,    0.00,2,    1.68,2,   1.697,2,   0.857,2,-999.000,1,    0.265,2,  2155.1,2,  2285.0,2,   7.7077,2,    25.00,-999.000,9,-999.0000,9, -999.00,9, -999.00,9,  -999.0,9,  -999.0,-999.000,9,-999.000,  -999.0,9,-999.000,-999.0000, -999.00,   7.0173,   7.0984,2,20091202,       2111
318M20091121,        P06,      43,          1,          4,          4,2,20091202,       2056,   -30.0799,   167.9996,       1194,   871.2,   6.2763,  34.4294,  34.6718,4,    204.0,2,   204.4,2,   20.53,2,   26.48,2,    0.00,2,    1.84,2,   1.192,2,   0.608,2,-999.000,1,    0.131,2,  2169.2,2,  2301.6,4,   7.6860,2,    25.00,-999.000,9,-999.0000,9, -999.00,9, -999.00,9,  -999.0,9,  -999.0,-999.000,9,-999.000,  -999.0,9,-999.000,-999.0000, -999.00,   6.1962,   6.2773,2,20091202,       2107
318M20091121,        P06,      43,          1,          3,          3,2,20091202,       2056,   -30.0799,   167.9996,       1194,   969.3,   5.6882,  34.4461,  34.4448,2,    194.0,2,   194.5,2,   30.54,2,   28.24,2,    0.00,2,    1.97,2,   0.858,2,   0.451,2,-999.000,1,    0.101,2,  2186.1,2,  2299.5,2,   7.6687,2,    25.00,-999.000,9,-999.0000,9, -999.00,9, -999.00,9,  -999.0,9,  -999.0,-999.000,9,-999.000,  -999.0,9,-999.000,-999.0000, -999.00,   5.6027,   5.6921,2,20091202,       2103
318M20091121,        P06,      43,          1,          2,          2,2,20091202,       2056,   -30.0799,   167.9996,       1194,  1080.1,   5.0690,  34.4450,  34.4507,3,    185.1,2,   186.4,2,   40.41,2,   30.01,2,    0.00,2,    2.09,2,   0.550,2,   0.296,2,-999.000,1,        0,2,  -999.0,9,  -999.0,9,-999.0000,9,  -999.00,-999.000,9,-999.0000,9, -999.00,9, -999.00,9,  -999.0,9,  -999.0,-999.000,9,-999.000,  -999.0,9,-999.000,-999.0000, -999.00,   4.9779,   5.0656,2,20091202,       2100
318M20091121,        P06,      43,          1,          1,          1,2,20091202,       2056,   -30.0799,   167.9996,       1194,  1195.3,   4.3266,  34.4914,  34.4880,2,    175.6,2,   176.5,2,   55.60,2,   31.47,2,    0.00,2,    2.20,2,   0.362,2,   0.200,2,-999.000,1,        0,2,  2223.3,6,  2325.9,6,   7.6394,2,    25.00,-999.000,9,-999.0000,9, -999.00,9, -999.00,9,  -999.0,9,  -999.0,-999.000,9,-999.000,  -999.0,9,-999.000,-999.0000, -999.00,   4.2315,   4.3157,3,20091202,       2056