BOTTLE,20220818CCHSIOAMB
EXPOCODE,SECT_ID,STNNBR,CASTNO,SAMPNO,BTLNBR,BTLNBR_FLAG_W,DATE,TIME,LATITUDE,LONGITUDE,DEPTH,CTDPRS,CTDTMP,CTDSAL,SALNTY,SALNTY_FLAG_W,CTDOXY,CTDOXY_FLAG_W,OXYGEN,OXYGEN_FLAG_W,SILCAT,SILCAT_FLAG_W,NITRAT,NITRAT_FLAG_W,NITRIT,NITRIT_FLAG_W,PHSPHT,PHSPHT_FLAG_W,CFC-11,CFC-11_FLAG_W,CFC-12,CFC-12_FLAG_W,CFC113,CFC113_FLAG_W,SF6,SF6_FLAG_W,TCARBN,TCARBN_FLAG_W,ALKALI,ALKALI_FLAG_W,PH_SWS,PH_SWS_FLAG_W,PH_TMP,TRITUM,TRITUM_FLAG_W,HELIUM,HELIUM_FLAG_W,DELHE3,DELHE3_FLAG_W,DELC13,DELC13_FLAG_W,DELC14,DELC14_FLAG_W,C14ERR,NEON,NEON_FLAG_W,NEONER,DOC,DOC_FLAG_W,TRITER,HELIER,DELHER,THETA,SBE35,SBE35_FLAG_W,BTL_DATE,BTL_TIME
,,,,,,,,,,,METERS,DBAR,ITS-90,PSS-78,PSS-78,,UMOL/KG,,UMOL/KG,,UMOL/KG,,UMOL/KG,,UMOL/KG,,UMOL/KG,,PMOL/KG,,PMOL/KG,,PMOL/KG,,FMOL/KG,,UMOL/KG,,UMOL/KG,,,,DEG C,TU,,NMOL/KG,,PERCNT,,/MILLE,,/MILLE,,/MILLE,NMOL/KG,,NMOL/KG,UMOL/KG,,TU,NMOL/KG,PERCNT,DEG C,ITS-90,,,
318M20091121,        P06,     108,          1,         36,         36,2,20091223,       1225,   -32.5001,  -159.4684,       5435,     6.9,  20.4158,  35.4011,  35.4013,2,    227.7,2,   226.6,2,    0.52,2,    0.00,2,    0.00,2,    0.10,2,   1.951,2,   1.327,2,-999.000,1,    1.313,2,  2042.3,2,  2324.1,6,   8.0104,6,    25.00,-999.000,9,-999.0000,9, -999.00,9, -999.00,9,  -999.0,9,  -999.0,-999.000,9,-999.000,    59.0,2,-999.000,-999.0000, -999.00,  20.4145,  20.4155,2,20091223,       1523
318M20091121,        P06,     108,          1,         35,         35,2,20091223,       1225,   -32.5001,  -159.4684,       5435,    35.8,  20.0143,  35.3864,  35.3896,2,    228.9,2,   228.4,2,    0.27,2,    0.00,2,    0.00,2,    0.10,2,   1.964,6,   1.332,6,-999.000,1,   1.1005,6,  2041.6,6,  2321.7,2,   8.0131,2,    25.00,-999.000,9,-999.0000,9, -999.00,9, -999.00,9,  -999.0,9,  -999.0,-999.000,9,-999.000,    60.0,2,-999.000,-999.0000, -999.00,  20.0077,  20.0415,2,20091223,       1520
318M20091121,        P06,     108,          1,         34,         34,2,20091223,       1225,   -32.5001,  -159.4684,       5435,    62.4,  17.6241,  35.4493,  35.4505,2,    241.9,2,   242.1,2,    0.22,2,    0.00,2,    0.00,2,    0.11,2,   2.157,2,   1.436,2,-999.000,1,    1.232,2,  2045.0,2,  2328.4,2,   8.0114,2,    25.00,-999.000,9,-999.0000,9, -999.00,9, -999.00,9,  -999.0,9,  -999.0,-999.000,9,-999.000,    60.9,2,-999.000,-999.0000, -999.00,  17.6135,  17.6077,2,20091223,       1517
318M20091121,        P06,     108,          1,         33,         33,2,20091223,       1225,   -32.5001,  -159.4684,       5435,    87.1,  16.9746,  35.4314,  35.4345,2,    238.4,2,   240.4,2,    0.38,2,    0.00,2,    0.00,2,    0.12,2,   2.237,2,   1.458,2,-999.000,1,    1.281,2,  2050.3,2,  2314.8,4,   8.0029,2,    25.00,-999.000,9,-999.0000,9, -999.00,9, -999.00,9,  -999.0,9,  -999.0,-999.000,9,-999.000,    54.0,2,-999.000,-999.0000, -999.00,  16.9602,  16.9795,2,20091223,       1515
318M20091121,        P06,     108,          1,         32,         32,2,20091223,       1225,   -32.5001,  -159.4684,       5435,   112.8,  16.5967,  35.4177,  35.4147,2,    234.9,2,   233.2,2,    0.33,2,    0.11,2,    0.11,2,    0.16,2,   2.218,2,   1.447,2,-999.000,1,    1.015,2,  2058.3,2,  2325.4,2,   7.9854,2,    25.00,-999.000,9,-999.0000,9, -999.00,9, -999.00,9,  -999.0,9,  -999.0,-999.000,9,-999.000,    54.8,2,-999.000,-999.0000, -999.00,  16.5784,  16.5952,2,20091223,       1513
318M20091121,        P06,     108,          1,         31,         31,2,20091223,       1225,   -32.5001,  -159.4684,       5435,   164.9,  15.9286,  35.3789,  35.3776,2,    226.7,2,   225.1,2,    0.69,2,    1.98,2,    0.02,2,    0.27,2,-999.000,5,-999.000,5,-999.000,1,-999.0000,5,  2071.7,2,  2322.2,2,   7.9577,2,    25.00,-999.000,9,-999.0000,9, -999.00,9, -999.00,9,  -999.0,9,  -999.0,-999.000,9,-999.000,    52.1,2,-999.000,-999.0000, -999.00,  15.9025,  15.9273,2,20091223,       1510
318M20091121,        P06,     108,          1,         30,         30,2,20091223,       1225,   -32.5001,  -159.4684,       5435,   216.1,  15.2943,  35.3171,  35.3176,2,    212.9,2,   214.1,2,    1.05,2,    4.00,2,    0.01,2,    0.41,2,-999.000,5,-999.000,5,-999.000,1,-999.0000,5,  2086.6,2,  2318.8,2,   7.9276,2,    25.00,-999.000,9,-999.0000,9, -999.00,9, -999.00,9,  -999.0,9,  -999.0,-999.000,9,-999.000,    50.9,2,-999.000,-999.0000, -999.00,  15.2610,  15.2955,2,20091223,       1508
318M20091121,        P06,     108,          1,         29,         29,2,20091223,       1225,   -32.5001,  -159.4684,       5435,   264.6,  13.8361,  35.1560,  35.1582,2,    200.9,2,   199.4,2,    1.82,2,    8.30,2,    0.01,2,    0.68,2,   2.459,2,   1.532,2,-999.000,1,    0.871,2,  2108.3,2,  2310.9,2,   7.8690,2,    25.00,-999.000,9,-999.0000,9, -999.00,9, -999.00,9,  -999.0,9,  -999.0,-999.000,9,-999.000,    47.3,2,-999.000,-999.0000, -999.00,  13.7980,  13.8191,2,20091223,       1505
318M20091121,        P06,     108,          1,         28,         28,2,20091223,       1225,   -32.5001,  -159.4684,       5435,   316.5,  12.6064,  35.0244,  35.0281,2,    202.8,2,   203.2,2,    2.59,2,   10.59,2,    0.01,2,    0.83,2,   2.582,2,   1.577,2,-999.000,1,    0.774,2,  2117.1,2,  2304.5,2,   7.8399,2,    25.00,-999.000,9,-999.0000,9, -999.00,9, -999.00,9,  -999.0,9,  -999.0,-999.000,9,-999.000,    48.0,2,-999.000,-999.0000, -999.00,  12.5635,  12.6107,2,20091223,       1502
318M20091121,        P06,     108,          1,         27,         27,2,20091223,       1225,   -32.5001,  -159.4684,       5435,   367.2,  10.3831,  34.7298,  34.7323,2,    210.8,2,   211.1,2,    3.36,2,   14.64,2,    0.00,2,    1.08,2,   2.791,2,   1.645,2,-999.000,1,    0.751,2,  2127.0,2,  2292.9,2,   7.7931,2,    25.00,-999.000,9,-999.0000,9, -999.00,9, -999.00,9,  -999.0,9,  -999.0,-999.000,9,-999.000,    44.8,2,-999.000,-999.0000, -999.00,  10.3392,  10.3943,2,20091223,       1500
318M20091121,        P06,     108,          1,         26,         26,2,20091223,       1225,   -32.5001,  -159.4684,       5435,   436.5,   8.9524,  34.5597,  34.5610,2,    219.9,2,   221.1,2,    4.12,2,   17.34,2,    0.00,2,    1.26,2,   2.971,2,   1.708,2,-999.000,1,    0.748,2,  2132.9,2,  2286.4,2,   7.7652,2,    25.00,-999.000,9,-999.0000,9, -999.00,9, -999.00,9,  -999.0,9,  -999.0,-999.000,9,-999.000,    43.7,2,-999.000,-999.0000, -999.00,   8.9047,   8.9620,2,20091223,       1457
318M20091121,        P06,     108,          1,         25,         25,2,20091223,       1225,   -32.5001,  -159.4684,       5435,   536.9,   7.5504,  34.4254,  34.4275,2,    236.7,2,   237.8,2,    5.30,2,   20.05,2,    0.00,2,    1.43,2,   3.230,2,   1.816,2,-999.000,1,    0.712,2,  2137.3,2,  2284.8,2,   7.7392,2,    25.00,-999.000,9,-999.0000,9, -999.00,9, -999.00,9,  -999.0,9,  -999.0,-999.000,9,-999.000,    41.5,2,-999.000,-999.0000, -999.00,   7.4971,   7.5563,2,20091223,       1454
318M20091121,        P06,     108,          1,         24,         24,2,20091223,       1225,   -32.5001,  -159.4684,       5435,   637.9,   6.9434,  34.3804,  34.3801,2,    240.1,2,   240.0,2,    6.89,2,   21.86,2,    0.00,2,    1.53,2,   2.899,2,   1.573,2,-999.000,1,    0.337,2,  2140.3,2,  2284.0,2,   7.7389,2,    25.00,-999.000,9,-999.0000,9, -999.00,9, -999.00,9,  -999.0,9,  -999.0,-999.000,9,-999.000,  -999.0,9,-999.000,-999.0000, -999.00,   6.8826,   6.9430,2,20091223,       1451
318M20091121,        P06,     108,          1,         23,         23,2,20091223,       1225,   -32.5001,  -159.4684,       5435,   739.7,   6.4696,  34.3520,  34.3519,2,    236.5,2,   235.6,2,    9.08,2,   23.52,2,    0.00,2,    1.64,2,   2.275,2,   1.214,2,-999.000,1,    0.143,2,  2145.1,2,  2285.1,2,   7.7283,2,    25.00,-999.000,9,-999.0000,9, -999.00,9, -999.00,9,  -999.0,9,  -999.0,-999.000,9,-999.000,    39.3,2,-999.000,-999.0000, -999.00,   6.4013,   6.4690,2,20091223,       1447
318M20091121,        P06,     108,          1,         22,         22,2,20091223,       1225,   -32.5001,  -159.4684,       5435,   841.2,   6.0068,  34.3296,  34.3293,2,    228.8,2,   228.9,2,   12.10,2,   25.18,2,    0.00,2,    1.75,2,   1.691,2,   0.887,2,-999.000,1,    0.068,2,  2152.3,2,  2287.6,2,   7.7108,2,    25.00,-999.000,9,-999.0000,9, -999.00,9, -999.00,9,  -999.0,9,  -999.0,-999.000,9,-999.000,  -999.0,9,-999.000,-999.0000, -999.00,   5.9315,   6.0089,2,20091223,       1444
318M20091121,        P06,     108,          1,         21,         21,2,20091223,       1225,   -32.5001,  -159.4684,       5435,   942.8,   5.3745,  34.3159,  34.3155,2,    217.5,2,   217.9,2,   18.18,2,   27.51,2,    0.00,2,    1.92,2,   1.091,2,   0.551,2,-999.000,1,        0,2,  2166.4,2,  2288.2,2,   7.6835,2,    25.00,-999.000,9,-999.0000,9, -999.00,9, -999.00,9,  -999.0,9,  -999.0,-999.000,9,-999.000,    39.2,2,-999.000,-999.0000, -999.00,   5.2939,   5.3812,2,20091223,       1441
318M20091121,        P06,     108,          1,         20,         20,2,20091223,       1225,   -32.5001,  -159.4684,       5435,  1038.6,   4.7973,  34.3238,  34.3240,2,    206.7,2,   205.4,2,   26.32,2,   29.65,2,    0.00,2,    2.06,2,   0.663,2,   0.336,2,-999.000,1,        0,2,  2183.4,2,  2296.7,2,   7.6580,2,    25.00,-999.000,9,-999.0000,9, -999.00,9, -999.00,9,  -999.0,9,  -999.0,-999.000,9,-999.000,  -999.0,9,-999.000,-999.0000, -999.00,   4.7124,   4.7958,2,20091223,       1438
318M20091121,        P06,     108,          1,         19,         19,2,20091223,       1225,   -32.5001,  -159.4684,       5435,  1141.4,   4.0940,  34.3536,  34.3537,2,    192.5,2,   192.2,2,   37.74,2,   31.75,2,    0.00,2,    2.20,2,   0.354,2,   0.183,2,-999.000,1,        0,2,  2204.0,6,  2306.8,6,   7.6257,2,    25.00,-999.000,9,-999.0000,9, -999.00,9, -999.00,9,  -999.0,9,  -999.0,-999.000,9,-999.000,    37.8,2,-999.000,-999.0000, -999.00,   4.0059,   4.0974,2,20091223,       1435
318M20091121,        P06,     108,          1,         18,         18,2,20091223,       1225,   -32.5001,  -159.4684,       5435,  1243.0,   3.6730,  34.3880,  34.3873,2,    184.7,2,   184.2,2,   46.92,2,   32.85,2,    0.00,2,    2.29,2,-999.000,5,-999.000,5,-999.000,1,-999.0000,5,  2218.4,2,  2316.4,2,   7.6102,2,    25.00,-999.000,9,-999.0000,9, -999.00,9, -999.00,9,  -999.0,9,  -999.0,-999.000,9,-999.000,  -999.0,9,-999.000,-999.0000, -999.00,   3.5800,   3.6735,2,20091223,       1432
318M20091121,        P06,     108,          1,         17,         17,2,20091223,       1225,   -32.5001,  -159.4684,       5435,  1345.3,   3.2222,  34.4464,  34.4465,2,    176.1,2,   174.7,2,   59.84,2,   33.75,2,    0.00,2,    2.35,2,   0.084,2,   0.049,2,-999.000,1,        0,2,  2236.9,2,  2328.5,2,   7.5944,2,    25.00,-999.000,9,-999.0000,9, -999.00,9, -999.00,9,  -999.0,9,  -999.0,-999.000,9,-999.000,    40.2,2,-999.000,-999.0000, -999.00,   3.1251,   3.2213,2,20091223,       1427
318M20091121,        P06,     108,          1,         16,         16,2,20091223,       1225,   -32.5001,  -159.4684,       5435,  1473.1,   2.9128,  34.5011,  34.5015,2,    167.1,2,   167.9,2,   71.33,2,   34.24,2,    0.00,2,    2.39,2,   0.046,2,   0.027,2,-999.000,1,        0,2,  2251.7,2,  2338.1,2,   7.5880,2,    25.00,-999.000,9,-999.0000,9, -999.00,9, -999.00,9,  -999.0,9,  -999.0,-999.000,9,-999.000,  -999.0,9,-999.000,-999.0000, -999.00,   2.8084,   2.9122,2,20091223,       1424
318M20091121,        P06,     108,          1,         15,         15,2,20091223,       1225,   -32.5001,  -159.4684,       5435,  1676.3,   2.5736,  34.5747,  34.5739,2,    158.3,2,   159.1,2,   89.48,2,   34.70,2,    0.00,2,    2.44,2,   0.032,2,   0.021,2,-999.000,1,        0,2,  2273.3,2,  2361.8,2,   7.5794,2,    25.00,-999.000,9,-999.0000,9, -999.00,9, -999.00,9,  -999.0,9,  -999.0,-999.000,9,-999.000,    36.8,2,-999.000,-999.0000, -999.00,   2.4563,   2.5725,2,20091223,       1419
318M20091121,        P06,     108,          1,         14,         14,2,20091223,       1225,   -32.5001,  -159.4684,       5435,  1881.7,   2.3314,  34.6160,  34.6162,2,    152.5,2,   153.9,2,  103.97,2,   35.04,2,    0.00,2,    2.47,2,   0.018,2,   0.012,2,-999.000,1,        0,2,  2291.0,2,  2353.7,4,   7.5852,2,    25.00,-999.000,9,-999.0000,9, -999.00,9, -999.00,9,  -999.0,9,  -999.0,-999.000,9,-999.000,  -999.0,9,-999.000,-999.0000, -999.00,   2.2000,   2.3308,2,20091223,       1414
318M20091121,        P06,     108,          1,         13,         13,2,20091223,       1225,   -32.5001,  -159.4684,       5435,  2105.4,   2.1464,  34.6366,  34.6367,2,    150.0,2,   150.2,2,  113.90,2,   35.50,2,    0.00,2,    2.49,2,   0.020,2,   0.014,2,-999.000,1,        0,2,  2302.0,2,  2394.4,2,   7.5837,2,    25.00,-999.000,9,-999.0000,9, -999.00,9, -999.00,9,  -999.0,9,  -999.0,-999.000,9,-999.000,    35.6,2,-999.000,-999.0000, -999.00,   1.9987,   2.1485,2,20091223,       1408
318M20091121,        P06,     108,          1,         12,         12,2,20091223,       1225,   -32.5001,  -159.4684,       5435,  2356.2,   1.9931,  34.6501,  34.6503,2,    148.0,2,   148.5,2,  122.00,2,   35.59,2,    0.00,2,    2.52,2,   0.010,2,   0.006,2,-999.000,1,        0,2,  2310.5,2,  2402.1,2,   7.5850,2,    25.00,-999.000,9,-999.0000,9, -999.00,9, -999.00,9,  -999.0,9,  -999.0,-999.000,9,-999.000,  -999.0,9,-999.000,-999.0000, -999.00,   1.8259,   1.9927,2,20091223,       1402
318M20091121,        P06,     108,          1,         11,         11,2,20091223,       1225,   -32.5001,  -159.4684,       5435,  2610.6,   1.8842,  34.6597,  34.6594,2,    148.7,2,   149.0,2,  126.55,2,   35.64,2,    0.00,2,    2.51,2,   0.012,2,   0.010,2,-999.000,1,        0,2,  2315.0,2,  2404.9,2,   7.5853,2,    25.00,-999.000,9,-999.0000,9, -999.00,9, -999.00,9,  -999.0,9,  -999.0,-999.000,9,-999.000,    35.4,2,-999.000,-999.0000, -999.00,   1.6959,   1.8838,2,20091223,       1355
318M20091121,        P06,     108,          1,         10,         10,2,20091223,       1225,   -32.5001,  -159.4684,       5435,  2866.7,   1.8066,  34.6674,  34.6668,2,    151.9,2,   151.6,2,  128.17,2,   35.44,2,    0.00,2,    2.50,2,   0.019,2,   0.015,2,-999.000,1,        0,2,  2312.4,2,  2406.5,2,   7.5847,2,    25.00,-999.000,9,-999.0000,9, -999.00,9, -999.00,9,  -999.0,9,  -999.0,-999.000,9,-999.000,  -999.0,9,-999.000,-999.0000, -999.00,   1.5959,   1.8065,2,20091223,       1349
318M20091121,        P06,     108,          1,          9,          9,2,20091223,       1225,   -32.5001,  -159.4684,       5435,  3135.2,   1.7603,  34.6733,  34.6731,2,    154.7,2,   154.6,2,  128.34,2,   35.22,2,    0.00,2,    2.48,2,   0.022,2,   0.016,2,-999.000,1,        0,2,  2311.8,2,  2406.1,2,   7.5946,2,    25.00,-999.000,9,-999.0000,9, -999.00,9, -999.00,9,  -999.0,9,  -999.0,-999.000,9,-999.000,    35.8,2,-999.000,-999.0000, -999.00,   1.5245,   1.7599,2,20091223,       1342
318M20091121,        P06,     108,          1,          8,          8,2,20091223,       1225,   -32.5001,  -159.4684,       5435,  3447.9,   1.6686,  34.6844,  34.6846,2,    163.7,2,   162.9,2,  125.98,2,   34.55,2,    0.00,2,    2.42,2,   0.012,2,   0.008,2,-999.000,1,        0,2,  2304.0,2,  2400.8,2,   7.5973,2,    25.00,-999.000,9,-999.0000,9, -999.00,9, -999.00,9,  -999.0,9,  -999.0,-999.000,9,-999.000,  -999.0,9,-999.000,-999.0000, -999.00,   1.4035,   1.6692,2,20091223,       1335
318M20091121,        P06,     108,          1,          7,          7,2,20091223,       1225,   -32.5001,  -159.4684,       5435,  3753.5,   1.5626,  34.7021,  34.7015,2,    180.8,2,   178.1,2,  118.64,2,   33.19,2,    0.00,2,    2.33,2,   0.013,2,   0.010,2,-999.000,1,        0,2,  2285.0,2,  2387.2,2,   7.6057,2,    25.00,-999.000,9,-999.0000,9, -999.00,9, -999.00,9,  -999.0,9,  -999.0,-999.000,9,-999.000,    37.0,2,-999.000,-999.0000, -999.00,   1.2683,   1.5632,2,20091223,       1327
318M20091121,        P06,     108,          1,          6,          6,2,20091223,       1225,   -32.5001,  -159.4684,       5435,  4069.4,   1.3929,  34.7148,  34.7149,2,    194.7,2,   194.5,2,  112.97,2,   31.97,2,    0.00,2,    2.24,2,   0.020,2,   0.013,2,-999.000,1,        0,2,  2268.0,2,  2374.4,2,   7.6245,2,    25.00,-999.000,9,-999.0000,9, -999.00,9, -999.00,9,  -999.0,9,  -999.0,-999.000,9,-999.000,  -999.0,9,-999.000,-999.0000, -999.00,   1.0692,   1.3928,2,20091223,       1317
318M20091121,        P06,     108,          1,          5,         37,2,20091223,       1225,   -32.5001,  -159.4684,       5435,  4357.2,   1.2401,  34.7152,  34.7155,2,    201.0,2,   201.0,2,  114.59,2,   31.76,2,    0.00,2,    2.23,2,   0.029,2,   0.019,2,-999.000,1,        0,2,  2264.8,2,  -999.0,9,-999.0000,9,  -999.00,-999.000,9,-999.0000,9, -999.00,9, -999.00,9,  -999.0,9,  -999.0,-999.000,9,-999.000,    37.9,2,-999.000,-999.0000, -999.00,   0.8891,   1.2405,2,20091223,       1306
318M20091121,        P06,     108,          1,          4,          4,2,20091223,       1225,   -32.5001,  -159.4684,       5435,  4678.3,   1.1187,  34.7115,  34.7114,2,    204.6,2,   205.0,2,  117.88,2,   31.81,2,    0.00,2,    2.23,2,   0.046,2,   0.027,2,-999.000,1,        0,2,  2265.0,2,  2364.9,2,   7.6235,2,    25.00,-999.000,9,-999.0000,9, -999.00,9, -999.00,9,  -999.0,9,  -999.0,-999.000,9,-999.000,  -999.0,9,-999.000,-999.0000, -999.00,   0.7350,   1.1188,2,20091223,       1254
318M20091121,        P06,     108,          1,          3,          3,2,20091223,       1225,   -32.5001,  -159.4684,       5435,  4933.5,   1.0827,  34.7097,  34.7092,2,    205.6,2,   205.7,2,  119.72,2,   31.80,2,    0.00,2,    2.22,2,   0.058,2,   0.034,2,-999.000,1,        0,2,  2263.6,2,  2366.8,2,   7.6246,2,    25.00,-999.000,9,-999.0000,9, -999.00,9, -999.00,9,  -999.0,9,  -999.0,-999.000,9,-999.000,    38.2,2,-999.000,-999.0000, -999.00,   0.6703,   1.0827,2,20091223,       1244
318M20091121,        P06,     108,          1,          2,          2,2,20091223,       1225,   -32.5001,  -159.4684,       5435,  5191.6,   1.0940,  34.7090,  34.7098,2,    206.6,2,   206.9,2,  120.30,2,   31.90,2,    0.00,2,    2.23,2,   0.067,2,   0.037,2,-999.000,1,        0,2,  2264.4,2,  2368.2,6,   7.6232,6,    25.00,-999.000,9,-999.0000,9, -999.00,9, -999.00,9,  -999.0,9,  -999.0,-999.000,9,-999.000,  -999.0,9,-999.000,-999.0000, -999.00,   0.6502,   1.0939,2,20091223,       1234
318M20091121,        P06,     108,          1,          1,          1,2,20091223,       1225,   -32.5001,  -159.4684,       5435,  5402.2,   1.1190,  34.7088,  34.7091,2,    206.2,2,   206.1,2,  120.27,2,   31.95,2,    0.00,2,    2.23,2,   0.080,2,   0.046,2,-999.000,1,        0,2,  2264.6,6,  2366.9,2,   7.6264,2,    25.00,-999.000,9,-999.0000,9, -999.00,9, -999.00,9,  -999.0,9,  -999.0,-999.000,9,-999.000,    40.7,2,-999.000,-999.0000, -999.00,   0.6483,   1.1192,2,20091223,       1225