BOTTLE,20220818CCHSIOAMB
EXPOCODE,SECT_ID,STNNBR,CASTNO,SAMPNO,BTLNBR,BTLNBR_FLAG_W,DATE,TIME,LATITUDE,LONGITUDE,DEPTH,CTDPRS,CTDTMP,CTDSAL,SALNTY,SALNTY_FLAG_W,CTDOXY,CTDOXY_FLAG_W,OXYGEN,OXYGEN_FLAG_W,SILCAT,SILCAT_FLAG_W,NITRAT,NITRAT_FLAG_W,NITRIT,NITRIT_FLAG_W,PHSPHT,PHSPHT_FLAG_W,CFC-11,CFC-11_FLAG_W,CFC-12,CFC-12_FLAG_W,CFC113,CFC113_FLAG_W,SF6,SF6_FLAG_W,TCARBN,TCARBN_FLAG_W,ALKALI,ALKALI_FLAG_W,PH_SWS,PH_SWS_FLAG_W,PH_TMP,TRITUM,TRITUM_FLAG_W,HELIUM,HELIUM_FLAG_W,DELHE3,DELHE3_FLAG_W,DELC13,DELC13_FLAG_W,DELC14,DELC14_FLAG_W,C14ERR,NEON,NEON_FLAG_W,NEONER,DOC,DOC_FLAG_W,TRITER,HELIER,DELHER,THETA,SBE35,SBE35_FLAG_W,BTL_DATE,BTL_TIME
,,,,,,,,,,,METERS,DBAR,ITS-90,PSS-78,PSS-78,,UMOL/KG,,UMOL/KG,,UMOL/KG,,UMOL/KG,,UMOL/KG,,UMOL/KG,,PMOL/KG,,PMOL/KG,,PMOL/KG,,FMOL/KG,,UMOL/KG,,UMOL/KG,,,,DEG C,TU,,NMOL/KG,,PERCNT,,/MILLE,,/MILLE,,/MILLE,NMOL/KG,,NMOL/KG,UMOL/KG,,TU,NMOL/KG,PERCNT,DEG C,ITS-90,,,
318M20091121,        P06,      16,          1,         36,         36,2,20091126,       1418,   -30.0799,   156.7100,       4829,     7.7,  24.1796,  35.4708,  35.4715,2,    214.0,2,   213.2,2,    0.27,2,    0.00,2,    0.00,2,    0.11,2,-999.000,9,-999.000,9,-999.000,9,-999.0000,9,  1999.6,6,  2322.4,2,   8.0796,2,    25.00,-999.000,9,-999.0000,9, -999.00,9, -999.00,9,  -999.0,9,  -999.0,-999.000,9,-999.000,    63.9,2,-999.000,-999.0000, -999.00,  24.1780,  24.1760,2,20091126,       1734
318M20091121,        P06,      16,          1,         35,         35,2,20091126,       1418,   -30.0799,   156.7100,       4829,    22.0,  24.0727,  35.4759,  35.4747,2,    215.8,2,   213.8,2,    0.26,2,    0.00,2,    0.00,2,    0.09,2,-999.000,9,-999.000,9,-999.000,9,-999.0000,9,  2000.7,2,  2321.3,2,   8.0801,6,    25.00,-999.000,9,-999.0000,9, -999.00,9, -999.00,9,  -999.0,9,  -999.0,-999.000,9,-999.000,    62.4,2,-999.000,-999.0000, -999.00,  24.0681,  24.0220,3,20091126,       1729
318M20091121,        P06,      16,          1,         34,         34,2,20091126,       1418,   -30.0799,   156.7100,       4829,    42.4,  23.0809,  35.4965,  35.4970,2,    222.1,2,   220.8,2,    0.24,2,    0.00,2,    0.00,2,    0.10,2,-999.000,9,-999.000,9,-999.000,9,-999.0000,9,  2003.6,2,  2325.6,2,   8.0741,2,    25.00,-999.000,9,-999.0000,9, -999.00,9, -999.00,9,  -999.0,9,  -999.0,-999.000,9,-999.000,    60.2,2,-999.000,-999.0000, -999.00,  23.0722,  23.0824,2,20091126,       1726
318M20091121,        P06,      16,          1,         33,         33,2,20091126,       1418,   -30.0799,   156.7100,       4829,    69.7,  21.2968,  35.5854,  35.5831,2,    162.6,2,   161.9,2,    1.47,2,    5.25,2,    0.06,2,    0.49,2,-999.000,9,-999.000,9,-999.000,9,-999.0000,9,  2069.5,3,  2328.6,6,   7.9689,4,    25.00,-999.000,9,-999.0000,9, -999.00,9, -999.00,9,  -999.0,9,  -999.0,-999.000,9,-999.000,    52.5,2,-999.000,-999.0000, -999.00,  21.2833,  21.2843,2,20091126,       1724
318M20091121,        P06,      16,          1,         32,         32,2,20091126,       1418,   -30.0799,   156.7100,       4829,    93.4,  20.4716,  35.5394,  35.5383,2,    198.0,2,   199.3,2,    0.63,2,    1.91,2,    0.08,2,    0.26,2,-999.000,9,-999.000,9,-999.000,9,-999.0000,9,  2038.2,2,  2323.0,2,   8.0179,2,    25.00,-999.000,9,-999.0000,9, -999.00,9, -999.00,9,  -999.0,9,  -999.0,-999.000,9,-999.000,    53.5,2,-999.000,-999.0000, -999.00,  20.4540,  20.4686,2,20091126,       1722
318M20091121,        P06,      16,          1,         31,         31,2,20091126,       1418,   -30.0799,   156.7100,       4829,   136.5,  19.4224,  35.5932,  35.6031,3,    200.1,2,   184.2,2,    1.03,2,    4.34,2,    0.01,2,    0.41,2,-999.000,9,-999.000,9,-999.000,9,-999.0000,9,  2065.7,2,  2327.2,2,   7.9747,2,    25.00,-999.000,9,-999.0000,9, -999.00,9, -999.00,9,  -999.0,9,  -999.0,-999.000,9,-999.000,    52.1,2,-999.000,-999.0000, -999.00,  19.3976,  19.4015,2,20091126,       1718
318M20091121,        P06,      16,          1,         30,         30,2,20091126,       1418,   -30.0799,   156.7100,       4829,   186.6,  18.4970,  35.6036,  35.6037,2,    193.4,2,   188.5,2,    1.02,2,    4.81,2,    0.01,2,    0.44,2,-999.000,9,-999.000,9,-999.000,9,-999.0000,9,  2073.7,2,  2328.3,2,   7.9615,2,    25.00,-999.000,9,-999.0000,9, -999.00,9, -999.00,9,  -999.0,9,  -999.0,-999.000,9,-999.000,    48.4,2,-999.000,-999.0000, -999.00,  18.4642,  18.4943,2,20091126,       1714
318M20091121,        P06,      16,          1,         29,         29,2,20091126,       1418,   -30.0799,   156.7100,       4829,   233.7,  17.4703,  35.5509,  35.5503,2,    190.1,2,   187.8,2,    1.61,2,    6.11,2,    0.00,2,    0.53,2,-999.000,9,-999.000,9,-999.000,9,-999.0000,9,  2084.2,2,  2327.9,2,   7.9349,2,    25.00,-999.000,9,-999.0000,9, -999.00,9, -999.00,9,  -999.0,9,  -999.0,-999.000,9,-999.000,    46.7,2,-999.000,-999.0000, -999.00,  17.4308,  17.4651,2,20091126,       1711
318M20091121,        P06,      16,          1,         28,         28,2,20091126,       1418,   -30.0799,   156.7100,       4829,   285.3,  16.3551,  35.4857,  35.4906,2,    195.8,2,   198.3,2,    1.81,2,    6.28,2,    0.01,2,    0.54,2,-999.000,9,-999.000,9,-999.000,9,-999.0000,9,  2086.3,2,  2324.6,2,   7.9274,2,    25.00,-999.000,9,-999.0000,9, -999.00,9, -999.00,9,  -999.0,9,  -999.0,-999.000,9,-999.000,    46.1,2,-999.000,-999.0000, -999.00,  16.3090,  16.3617,2,20091126,       1708
318M20091121,        P06,      16,          1,         27,         27,2,20091126,       1418,   -30.0799,   156.7100,       4829,   335.1,  14.8404,  35.3499,  35.3492,2,    190.6,2,   188.9,2,    2.82,2,    9.61,2,    0.00,2,    0.76,2,-999.000,9,-999.000,9,-999.000,9,-999.0000,9,  2108.5,2,  2318.4,2,   7.8769,2,    25.00,-999.000,9,-999.0000,9, -999.00,9, -999.00,9,  -999.0,9,  -999.0,-999.000,9,-999.000,    46.6,2,-999.000,-999.0000, -999.00,  14.7897,  14.8398,2,20091126,       1704
318M20091121,        P06,      16,          1,         26,         26,2,20091126,       1418,   -30.0799,   156.7100,       4829,   385.9,  13.6224,  35.2633,  35.2663,2,    197.6,2,   197.7,2,    3.42,2,   10.71,2,    0.00,2,    0.84,2,-999.000,9,-999.000,9,-999.000,9,-999.0000,9,  2115.9,2,  2313.1,2,   7.8511,2,    25.00,-999.000,9,-999.0000,9, -999.00,9, -999.00,9,  -999.0,9,  -999.0,-999.000,9,-999.000,    45.9,2,-999.000,-999.0000, -999.00,  13.5671,  13.6244,2,20091126,       1701
318M20091121,        P06,      16,          1,         25,         25,2,20091126,       1418,   -30.0799,   156.7100,       4829,   467.7,  12.1149,  35.0884,  35.0878,2,    199.2,2,   198.9,2,    4.64,2,   13.47,2,    0.00,2,    1.02,2,-999.000,9,-999.000,9,-999.000,9,-999.0000,9,  2129.3,2,  2305.0,2,   7.8156,2,    25.00,-999.000,9,-999.0000,9, -999.00,9, -999.00,9,  -999.0,9,  -999.0,-999.000,9,-999.000,    46.2,2,-999.000,-999.0000, -999.00,  12.0528,  12.1127,2,20091126,       1657
318M20091121,        P06,      16,          1,         24,         24,2,20091126,       1418,   -30.0799,   156.7100,       4829,   558.5,  10.3727,  34.8506,  34.8505,2,    199.5,2,   200.6,2,    6.27,2,   17.14,2,    0.00,2,    1.25,2,-999.000,9,-999.000,9,-999.000,9,-999.0000,9,  2141.1,2,  2296.1,2,   7.7702,2,    25.00,-999.000,9,-999.0000,9, -999.00,9, -999.00,9,  -999.0,9,  -999.0,-999.000,9,-999.000,  -999.0,9,-999.000,-999.0000, -999.00,  10.3053,  10.3721,2,20091126,       1652
318M20091121,        P06,      16,          1,         23,         23,2,20091126,       1418,   -30.0799,   156.7100,       4829,   665.5,   8.5262,  34.6092,  34.6084,2,    198.9,2,   199.6,2,   10.18,2,   21.42,2,    0.00,2,    1.53,2,-999.000,9,-999.000,9,-999.000,9,-999.0000,9,  2152.4,2,  2291.6,2,-999.0000,5,  -999.00,-999.000,9,-999.0000,9, -999.00,9, -999.00,9,  -999.0,9,  -999.0,-999.000,9,-999.000,    43.2,2,-999.000,-999.0000, -999.00,   8.4546,   8.5281,2,20091126,       1647
318M20091121,        P06,      16,          1,         22,         22,2,20091126,       1418,   -30.0799,   156.7100,       4829,   768.7,   7.3867,  34.5126,  34.5130,2,    196.3,2,   197.2,2,   15.33,2,   24.18,2,    0.00,2,    1.73,2,-999.000,9,-999.000,9,-999.000,9,-999.0000,9,  2163.5,2,  2290.8,2,   7.6993,2,    25.00,-999.000,9,-999.0000,9, -999.00,9, -999.00,9,  -999.0,9,  -999.0,-999.000,9,-999.000,  -999.0,9,-999.000,-999.0000, -999.00,   7.3101,   7.3879,2,20091126,       1642
318M20091121,        P06,      16,          1,         21,         21,2,20091126,       1418,   -30.0799,   156.7100,       4829,   866.1,   6.4843,  34.4626,  34.4616,2,    194.2,2,   194.5,2,   21.95,2,   26.46,2,    0.00,2,    1.88,2,-999.000,9,-999.000,9,-999.000,9,-999.0000,9,  2175.6,2,  2295.2,2,   7.6784,2,    25.00,-999.000,9,-999.0000,9, -999.00,9, -999.00,9,  -999.0,9,  -999.0,-999.000,9,-999.000,    39.5,2,-999.000,-999.0000, -999.00,   6.4033,   6.4841,2,20091126,       1638
318M20091121,        P06,      16,          1,         20,         20,2,20091126,       1418,   -30.0799,   156.7100,       4829,   966.9,   5.6804,  34.4519,  34.4512,2,    188.0,2,   215.4,4,   32.11,2,   28.50,2,    0.00,2,    2.02,2,-999.000,9,-999.000,9,-999.000,9,-999.0000,9,  2192.8,2,  2302.6,2,   7.6760,2,    25.00,-999.000,9,-999.0000,9, -999.00,9, -999.00,9,  -999.0,9,  -999.0,-999.000,9,-999.000,  -999.0,9,-999.000,-999.0000, -999.00,   5.5952,   5.6807,2,20091126,       1633
318M20091121,        P06,      16,          1,         19,         19,2,20091126,       1418,   -30.0799,   156.7100,       4829,  1073.2,   4.9756,  34.4580,  34.4559,2,    180.1,2,   179.1,2,   43.36,2,   30.25,2,    0.00,2,    2.16,2,-999.000,9,-999.000,9,-999.000,9,-999.0000,9,  2209.0,6,  2313.3,2,   7.6347,2,    25.00,-999.000,9,-999.0000,9, -999.00,9, -999.00,9,  -999.0,9,  -999.0,-999.000,9,-999.000,    37.8,2,-999.000,-999.0000, -999.00,   4.8859,   4.9772,2,20091126,       1628
318M20091121,        P06,      16,          1,         18,         18,2,20091126,       1418,   -30.0799,   156.7100,       4829,  1175.0,   4.4356,  34.4816,  34.4826,2,    172.3,2,   171.4,2,   54.87,2,   31.51,2,    0.00,2,    2.26,2,-999.000,9,-999.000,9,-999.000,9,-999.0000,9,  2224.1,2,  2324.7,2,   7.6197,2,    25.00,-999.000,9,-999.0000,9, -999.00,9, -999.00,9,  -999.0,9,  -999.0,-999.000,9,-999.000,  -999.0,9,-999.000,-999.0000, -999.00,   4.3413,   4.4348,2,20091126,       1624
318M20091121,        P06,      16,          1,         17,         17,2,20091126,       1418,   -30.0799,   156.7100,       4829,  1273.4,   3.9453,  34.5119,  34.5108,2,    164.0,2,   163.9,2,   66.83,2,   32.67,2,    0.00,2,    2.35,2,-999.000,9,-999.000,9,-999.000,9,-999.0000,9,  2241.8,2,  2339.1,6,   7.6043,2,    25.00,-999.000,9,-999.0000,9, -999.00,9, -999.00,9,  -999.0,9,  -999.0,-999.000,9,-999.000,    39.9,2,-999.000,-999.0000, -999.00,   3.8469,   3.9472,2,20091126,       1619
318M20091121,        P06,      16,          1,         16,         16,2,20091126,       1418,   -30.0799,   156.7100,       4829,  1371.4,   3.5554,  34.5398,  34.5406,2,    158.7,2,   158.3,2,   76.31,2,   33.34,2,    0.00,2,    2.40,2,-999.000,9,-999.000,9,-999.000,9,-999.0000,9,  2257.3,2,  2349.9,2,   7.5945,2,    25.00,-999.000,9,-999.0000,9, -999.00,9, -999.00,9,  -999.0,9,  -999.0,-999.000,9,-999.000,  -999.0,9,-999.000,-999.0000, -999.00,   3.4524,   3.5545,2,20091126,       1615
318M20091121,        P06,      16,          1,         15,         15,2,20091126,       1418,   -30.0799,   156.7100,       4829,  1545.1,   3.0290,  34.5827,  34.5811,2,    152.3,2,   153.0,2,   88.56,2,   34.21,2,    0.00,2,    2.47,2,-999.000,9,-999.000,9,-999.000,9,-999.0000,9,  2272.9,2,  2360.0,2,   7.5809,2,    25.00,-999.000,9,-999.0000,9, -999.00,9, -999.00,9,  -999.0,9,  -999.0,-999.000,9,-999.000,    36.5,2,-999.000,-999.0000, -999.00,   2.9170,   3.0294,2,20091126,       1608
318M20091121,        P06,      16,          1,         14,         14,4,20091126,       1418,   -30.0799,   156.7100,       4829,  1751.2,   2.5803,  34.6308,-999.0000,9,   -999.0,9,  -999.0,9, -999.00,9, -999.00,9, -999.00,9, -999.00,9,-999.000,9,-999.000,9,-999.000,9,-999.0000,9,  -999.0,9,  -999.0,9,-999.0000,9,  -999.00,-999.000,9,-999.0000,9, -999.00,9, -999.00,9,  -999.0,9,  -999.0,-999.000,9,-999.000,  -999.0,9,-999.000,-999.0000, -999.00,   2.4565,   2.5794,2,20091126,       1601
318M20091121,        P06,      16,          1,         13,         13,2,20091126,       1418,   -30.0799,   156.7100,       4829,  1950.6,   2.3723,  34.6589,  34.6577,2,    163.1,2,   162.7,2,   95.75,2,   33.55,2,    0.00,2,    2.41,2,-999.000,9,-999.000,9,-999.000,9,-999.0000,9,  2274.7,2,  2367.0,2,   7.5811,6,    25.00,-999.000,9,-999.0000,9, -999.00,9, -999.00,9,  -999.0,9,  -999.0,-999.000,9,-999.000,    39.0,2,-999.000,-999.0000, -999.00,   2.2344,   2.3723,2,20091126,       1554
318M20091121,        P06,      16,          1,         12,         12,2,20091126,       1418,   -30.0799,   156.7100,       4829,  2187.1,   2.1579,  34.6919,  34.6919,2,    173.0,2,   173.2,2,   94.25,2,   32.49,2,    0.00,2,    2.34,2,-999.000,9,-999.000,9,-999.000,9,-999.0000,9,  2267.5,2,  2359.0,3,   7.5970,2,    25.00,-999.000,9,-999.0000,9, -999.00,9, -999.00,9,  -999.0,9,  -999.0,-999.000,9,-999.000,  -999.0,9,-999.000,-999.0000, -999.00,   2.0027,   2.1573,2,20091126,       1546
318M20091121,        P06,      16,          1,         11,         11,2,20091126,       1418,   -30.0799,   156.7100,       4829,  2439.4,   1.9133,  34.7142,  34.7137,2,    180.5,2,   181.0,2,   97.85,2,   31.98,2,    0.00,2,    2.29,2,-999.000,9,-999.000,9,-999.000,9,-999.0000,9,  2265.2,2,  2367.5,2,   7.6080,2,    25.00,-999.000,9,-999.0000,9, -999.00,9, -999.00,9,  -999.0,9,  -999.0,-999.000,9,-999.000,    36.9,2,-999.000,-999.0000, -999.00,   1.7398,   1.9131,2,20091126,       1538
318M20091121,        P06,      16,          1,         10,         10,2,20091126,       1418,   -30.0799,   156.7100,       4829,  2691.6,   1.7630,  34.7223,  34.7216,2,    185.6,2,   185.1,2,  101.24,2,   31.77,2,    0.00,2,    2.27,2,-999.000,9,-999.000,9,-999.000,9,-999.0000,9,  2265.8,2,  2367.1,2,   7.6106,2,    25.00,-999.000,9,-999.0000,9, -999.00,9, -999.00,9,  -999.0,9,  -999.0,-999.000,9,-999.000,  -999.0,9,-999.000,-999.0000, -999.00,   1.5694,   1.7634,2,20091126,       1530
318M20091121,        P06,      16,          1,          9,          9,2,20091126,       1418,   -30.0799,   156.7100,       4829,  2949.2,   1.5579,  34.7239,  34.7232,2,    189.4,2,   189.4,2,  106.33,2,   31.81,2,    0.00,2,    2.28,2,-999.000,9,-999.000,9,-999.000,9,-999.0000,9,  2267.8,2,  2370.7,2,   7.6141,2,    25.00,-999.000,9,-999.0000,9, -999.00,9, -999.00,9,  -999.0,9,  -999.0,-999.000,9,-999.000,    37.7,2,-999.000,-999.0000, -999.00,   1.3444,   1.5572,2,20091126,       1521
318M20091121,        P06,      16,          1,          8,          8,2,20091126,       1418,   -30.0799,   156.7100,       4829,  3237.0,   1.3632,  34.7212,  34.7208,2,    192.5,2,   192.5,2,  111.43,2,   31.94,2,    0.00,2,    2.28,2,-999.000,9,-999.000,9,-999.000,9,-999.0000,9,  2270.5,2,  2380.8,2,   7.6177,2,    25.00,-999.000,9,-999.0000,9, -999.00,9, -999.00,9,  -999.0,9,  -999.0,-999.000,9,-999.000,  -999.0,9,-999.000,-999.0000, -999.00,   1.1264,   1.3636,2,20091126,       1512
318M20091121,        P06,      16,          1,          7,          7,2,20091126,       1418,   -30.0799,   156.7100,       4829,  3547.9,   1.2364,  34.7184,  34.7168,2,    194.6,2,   194.8,2,  115.25,2,   32.11,2,    0.00,2,    2.30,2,-999.000,9,-999.000,9,-999.000,9,-999.0000,9,  2273.5,2,  2379.2,2,   7.6201,2,    25.00,-999.000,9,-999.0000,9, -999.00,9, -999.00,9,  -999.0,9,  -999.0,-999.000,9,-999.000,    41.2,2,-999.000,-999.0000, -999.00,   0.9718,   1.2370,2,20091126,       1503
318M20091121,        P06,      16,          1,          6,          6,2,20091126,       1418,   -30.0799,   156.7100,       4829,  3852.7,   1.1890,  34.7168,  34.7168,2,    195.6,2,   195.6,2,  116.74,2,   32.15,2,    0.00,2,    2.30,2,-999.000,9,-999.000,9,-999.000,9,-999.0000,9,  2274.2,2,  2379.0,2,   7.6216,2,    25.00,-999.000,9,-999.0000,9, -999.00,9, -999.00,9,  -999.0,9,  -999.0,-999.000,9,-999.000,  -999.0,9,-999.000,-999.0000, -999.00,   0.8942,   1.1892,2,20091126,       1454
318M20091121,        P06,      16,          1,          5,          5,2,20091126,       1418,   -30.0799,   156.7100,       4829,  4059.3,   1.1780,  34.7159,  34.7156,2,    195.9,2,   196.9,2,  118.01,2,   32.23,2,    0.00,2,    2.30,2,-999.000,9,-999.000,9,-999.000,9,-999.0000,9,  2274.1,2,  2379.8,2,   7.6228,2,    25.00,-999.000,9,-999.0000,9, -999.00,9, -999.00,9,  -999.0,9,  -999.0,-999.000,9,-999.000,    39.3,2,-999.000,-999.0000, -999.00,   0.8616,   1.1779,2,20091126,       1447
318M20091121,        P06,      16,          1,          4,          4,2,20091126,       1418,   -30.0799,   156.7100,       4829,  4265.8,   1.1803,  34.7154,  34.7146,2,    196.1,2,   196.1,2,  118.63,2,   32.31,2,    0.00,2,    2.31,2,-999.000,9,-999.000,9,-999.000,9,-999.0000,9,  2275.2,2,  2379.8,2,   7.6251,2,    25.00,-999.000,9,-999.0000,9, -999.00,9, -999.00,9,  -999.0,9,  -999.0,-999.000,9,-999.000,  -999.0,9,-999.000,-999.0000, -999.00,   0.8413,   1.1804,2,20091126,       1440
318M20091121,        P06,      16,          1,          3,          3,2,20091126,       1418,   -30.0799,   156.7100,       4829,  4471.0,   1.1911,  34.7152,  34.7148,2,    195.9,2,   196.5,2,  118.84,2,   32.43,2,    0.00,2,    2.30,2,-999.000,9,-999.000,9,-999.000,9,-999.0000,9,  2276.1,2,  2382.2,2,   7.6252,2,    25.00,-999.000,9,-999.0000,9, -999.00,9, -999.00,9,  -999.0,9,  -999.0,-999.000,9,-999.000,    38.7,2,-999.000,-999.0000, -999.00,   0.8288,   1.1914,2,20091126,       1433
318M20091121,        P06,      16,          1,          2,          2,2,20091126,       1418,   -30.0799,   156.7100,       4829,  4676.5,   1.2071,  34.7147,  34.7142,2,    196.0,2,   195.9,2,  119.68,2,   32.47,2,    0.00,2,    2.31,2,-999.000,9,-999.000,9,-999.000,9,-999.0000,9,  2277.3,2,  2384.7,6,   7.6251,2,    25.00,-999.000,9,-999.0000,9, -999.00,9, -999.00,9,  -999.0,9,  -999.0,-999.000,9,-999.000,  -999.0,9,-999.000,-999.0000, -999.00,   0.8207,   1.2074,2,20091126,       1426
318M20091121,        P06,      16,          1,          1,          1,2,20091126,       1418,   -30.0799,   156.7100,       4829,  4923.3,   1.2359,  34.7148,  34.7146,2,    196.2,2,   196.2,2,  119.04,2,   32.50,2,    0.00,2,    2.31,2,-999.000,9,-999.000,9,-999.000,9,-999.0000,9,  2276.9,6,  2386.3,2,   7.6289,2,    25.00,-999.000,9,-999.0000,9, -999.00,9, -999.00,9,  -999.0,9,  -999.0,-999.000,9,-999.000,    41.9,2,-999.000,-999.0000, -999.00,   0.8195,   1.2359,2,20091126,       1418