BOTTLE,20220818CCHSIOAMB
EXPOCODE,SECT_ID,STNNBR,CASTNO,SAMPNO,BTLNBR,BTLNBR_FLAG_W,DATE,TIME,LATITUDE,LONGITUDE,DEPTH,CTDPRS,CTDTMP,CTDSAL,SALNTY,SALNTY_FLAG_W,CTDOXY,CTDOXY_FLAG_W,OXYGEN,OXYGEN_FLAG_W,SILCAT,SILCAT_FLAG_W,NITRAT,NITRAT_FLAG_W,NITRIT,NITRIT_FLAG_W,PHSPHT,PHSPHT_FLAG_W,CFC-11,CFC-11_FLAG_W,CFC-12,CFC-12_FLAG_W,CFC113,CFC113_FLAG_W,SF6,SF6_FLAG_W,TCARBN,TCARBN_FLAG_W,ALKALI,ALKALI_FLAG_W,PH_SWS,PH_SWS_FLAG_W,PH_TMP,TRITUM,TRITUM_FLAG_W,HELIUM,HELIUM_FLAG_W,DELHE3,DELHE3_FLAG_W,DELC13,DELC13_FLAG_W,DELC14,DELC14_FLAG_W,C14ERR,NEON,NEON_FLAG_W,NEONER,DOC,DOC_FLAG_W,TRITER,HELIER,DELHER,THETA,SBE35,SBE35_FLAG_W,BTL_DATE,BTL_TIME
,,,,,,,,,,,METERS,DBAR,ITS-90,PSS-78,PSS-78,,UMOL/KG,,UMOL/KG,,UMOL/KG,,UMOL/KG,,UMOL/KG,,UMOL/KG,,PMOL/KG,,PMOL/KG,,PMOL/KG,,FMOL/KG,,UMOL/KG,,UMOL/KG,,,,DEG C,TU,,NMOL/KG,,PERCNT,,/MILLE,,/MILLE,,/MILLE,NMOL/KG,,NMOL/KG,UMOL/KG,,TU,NMOL/KG,PERCNT,DEG C,ITS-90,,,
318M20091121,        P06,      63,          1,         36,         36,2,20091208,       1549,   -30.5803,   177.0005,       4288,     6.0,  21.5068,  35.6050,  35.6049,2,    227.1,2,   224.8,2,    0.53,2,    0.00,2,    0.00,2,    0.11,2,   1.966,2,   1.234,2,-999.000,1,    1.167,2,  2044.9,6,  2333.4,2,   7.5226,4,    25.00,-999.000,9,-999.0000,9, -999.00,9, -999.00,9,  -999.0,9,  -999.0,-999.000,9,-999.000,  -999.0,9,-999.000,-999.0000, -999.00,  21.5056,  21.5076,2,20091208,       1816
318M20091121,        P06,      63,          1,         35,         35,2,20091208,       1549,   -30.5803,   177.0005,       4288,    28.7,  18.9391,  35.6260,  35.6247,2,    238.3,2,   239.2,2,    0.50,2,    0.00,2,    0.00,2,    0.11,2,   2.214,2,   1.380,2,-999.000,1,    1.222,2,  -999.0,9,  -999.0,9,-999.0000,9,  -999.00,-999.000,9,-999.0000,9, -999.00,9, -999.00,9,  -999.0,9,  -999.0,-999.000,9,-999.000,  -999.0,9,-999.000,-999.0000, -999.00,  18.9340,  18.9436,2,20091208,       1811
318M20091121,        P06,      63,          1,         34,         34,2,20091208,       1549,   -30.5803,   177.0005,       4288,    59.7,  18.3304,  35.6223,  35.6202,2,    240.3,2,   239.1,2,    0.48,2,    0.00,2,    0.00,2,    0.10,2,   2.210,2,   1.375,2,-999.000,1,    1.207,2,  2045.7,2,  2333.8,6,   8.0043,2,    25.00,-999.000,9,-999.0000,9, -999.00,9, -999.00,9,  -999.0,9,  -999.0,-999.000,9,-999.000,  -999.0,9,-999.000,-999.0000, -999.00,  18.3200,  18.3309,2,20091208,       1808
318M20091121,        P06,      63,          1,         33,         33,2,20091208,       1549,   -30.5803,   177.0005,       4288,    84.7,  17.4669,  35.5860,  35.5844,2,    236.1,2,   235.1,2,    0.64,2,    0.21,2,    0.10,2,    0.16,2,   2.213,6,   1.393,6,-999.000,1,   1.1615,6,  -999.0,9,  -999.0,9,-999.0000,9,  -999.00,-999.000,9,-999.0000,9, -999.00,9, -999.00,9,  -999.0,9,  -999.0,-999.000,9,-999.000,  -999.0,9,-999.000,-999.0000, -999.00,  17.4526,  17.4670,2,20091208,       1806
318M20091121,        P06,      63,          1,         32,         32,2,20091208,       1549,   -30.5803,   177.0005,       4288,   109.7,  16.9664,  35.5624,  35.5621,2,    217.4,2,   217.2,2,    1.21,2,    2.94,2,    0.26,2,    0.32,2,   2.253,2,   1.402,2,-999.000,1,    1.112,2,  2070.8,2,  2329.1,2,   7.9606,2,    25.00,-999.000,9,-999.0000,9, -999.00,9, -999.00,9,  -999.0,9,  -999.0,-999.000,9,-999.000,  -999.0,9,-999.000,-999.0000, -999.00,  16.9483,  16.9653,2,20091208,       1804
318M20091121,        P06,      63,          1,         31,         31,2,20091208,       1549,   -30.5803,   177.0005,       4288,   135.2,  16.5637,  35.5356,  35.5325,2,    215.8,2,   210.7,2,    1.58,2,    4.56,2,    0.05,2,    0.41,2,   2.235,2,   1.396,2,-999.000,1,    1.114,2,  -999.0,9,  -999.0,9,-999.0000,9,  -999.00,-999.000,9,-999.0000,9, -999.00,9, -999.00,9,  -999.0,9,  -999.0,-999.000,9,-999.000,  -999.0,9,-999.000,-999.0000, -999.00,  16.5417,  16.5631,2,20091208,       1801
318M20091121,        P06,      63,          1,         30,         30,2,20091208,       1549,   -30.5803,   177.0005,       4288,   165.7,  16.0961,  35.4941,  35.4916,2,    211.2,2,   212.1,2,    1.76,2,    5.13,2,    0.02,2,    0.45,2,   2.300,2,   1.409,2,-999.000,1,    1.128,2,  2083.1,2,  2326.0,2,   7.9340,2,    25.00,-999.000,9,-999.0000,9, -999.00,9, -999.00,9,  -999.0,9,  -999.0,-999.000,9,-999.000,  -999.0,9,-999.000,-999.0000, -999.00,  16.0697,  16.0934,2,20091208,       1759
318M20091121,        P06,      63,          1,         29,         29,2,20091208,       1549,   -30.5803,   177.0005,       4288,   216.8,  15.0964,  35.4021,  35.4035,2,    212.9,2,   214.3,2,    2.52,2,    6.64,2,    0.01,2,    0.55,2,   2.336,2,   1.439,2,-999.000,1,    1.084,2,  2092.1,2,  2322.9,2,   7.9120,2,    25.00,-999.000,9,-999.0000,9, -999.00,9, -999.00,9,  -999.0,9,  -999.0,-999.000,9,-999.000,  -999.0,9,-999.000,-999.0000, -999.00,  15.0633,  15.1057,2,20091208,       1756
318M20091121,        P06,      63,          1,         28,         28,2,20091208,       1549,   -30.5803,   177.0005,       4288,   266.9,  14.2395,  35.3140,  35.3161,2,    212.2,2,   216.6,2,    2.50,2,    7.23,2,    0.01,2,    0.60,2,   2.455,2,   1.495,2,-999.000,1,    1.051,2,  -999.0,9,  -999.0,9,-999.0000,9,  -999.00,-999.000,9,-999.0000,9, -999.00,9, -999.00,9,  -999.0,9,  -999.0,-999.000,9,-999.000,  -999.0,9,-999.000,-999.0000, -999.00,  14.2003,  14.2677,3,20091208,       1753
318M20091121,        P06,      63,          1,         27,         27,2,20091208,       1549,   -30.5803,   177.0005,       4288,   317.7,  13.0739,  35.1500,  35.1553,2,    207.4,2,   204.4,2,    3.46,2,   10.65,2,    0.01,2,    0.81,2,   2.462,2,   1.472,2,-999.000,1,    0.786,2,  2114.0,2,  2310.0,2,   7.8421,2,    25.00,-999.000,9,-999.0000,9, -999.00,9, -999.00,9,  -999.0,9,  -999.0,-999.000,9,-999.000,  -999.0,9,-999.000,-999.0000, -999.00,  13.0298,  13.0958,3,20091208,       1750
318M20091121,        P06,      63,          1,         26,         26,2,20091208,       1549,   -30.5803,   177.0005,       4288,   368.6,  11.9579,  35.0002,  34.9958,2,    200.8,2,   200.3,2,    4.62,2,   13.57,2,    0.01,2,    0.99,2,   2.445,2,   1.421,2,-999.000,1,    0.746,2,  -999.0,9,  -999.0,9,-999.0000,9,  -999.00,-999.000,9,-999.0000,9, -999.00,9, -999.00,9,  -999.0,9,  -999.0,-999.000,9,-999.000,  -999.0,9,-999.000,-999.0000, -999.00,  11.9096,  11.9616,2,20091208,       1747
318M20091121,        P06,      63,          1,         25,         25,2,20091208,       1549,   -30.5803,   177.0005,       4288,   420.0,  11.0532,  34.8973,  34.8985,2,    202.1,2,   200.6,2,    5.59,2,   15.48,2,    0.01,2,    1.10,2,   2.436,2,   1.417,2,-999.000,1,    0.725,2,  2130.5,2,  2303.0,2,   7.7905,2,    25.00,-999.000,9,-999.0000,9, -999.00,9, -999.00,9,  -999.0,9,  -999.0,-999.000,9,-999.000,  -999.0,9,-999.000,-999.0000, -999.00,  11.0008,  11.0510,2,20091208,       1744
318M20091121,        P06,      63,          1,         24,         24,2,20091208,       1549,   -30.5803,   177.0005,       4288,   465.0,  10.2502,  34.7943,  34.7930,2,    200.9,2,   203.2,2,    6.36,2,   17.12,2,    0.01,2,    1.21,2,   2.437,2,   1.396,2,-999.000,1,    0.599,2,  -999.0,9,  -999.0,9,-999.0000,9,  -999.00,-999.000,9,-999.0000,9, -999.00,9, -999.00,9,  -999.0,9,  -999.0,-999.000,9,-999.000,  -999.0,9,-999.000,-999.0000, -999.00,  10.1948,  10.2508,2,20091208,       1742
318M20091121,        P06,      63,          1,         23,         23,2,20091208,       1549,   -30.5803,   177.0005,       4288,   536.7,   9.1121,  34.6660,  34.6629,2,    207.0,2,   204.4,2,    8.71,2,   19.89,2,    0.01,2,    1.39,2,   2.246,2,   1.244,2,-999.000,1,    0.445,2,  2142.3,2,  2292.1,2,   7.7434,2,    25.00,-999.000,9,-999.0000,9, -999.00,9, -999.00,9,  -999.0,9,  -999.0,-999.000,9,-999.000,  -999.0,9,-999.000,-999.0000, -999.00,   9.0525,   9.1137,2,20091208,       1739
318M20091121,        P06,      63,          1,         22,         22,2,20091208,       1549,   -30.5803,   177.0005,       4288,   638.1,   7.7111,  34.5076,  34.5052,2,    209.7,2,   213.9,2,   10.28,2,   22.28,2,    0.00,2,    1.55,2,   2.121,2,   1.124,2,-999.000,1,    0.313,2,  2147.4,2,  2287.6,2,   7.7191,2,    25.00,-999.000,9,-999.0000,9, -999.00,9, -999.00,9,  -999.0,9,  -999.0,-999.000,9,-999.000,  -999.0,9,-999.000,-999.0000, -999.00,   7.6465,   7.7107,2,20091208,       1735
318M20091121,        P06,      63,          1,         21,         21,2,20091208,       1549,   -30.5803,   177.0005,       4288,   735.2,   6.8889,  34.4249,  34.4236,2,    217.7,2,   218.9,2,   12.05,2,   23.86,2,    0.00,2,    1.65,2,   1.864,2,   0.990,2,-999.000,1,    0.215,2,  2150.7,2,  2285.4,2,   7.7202,2,    25.00,-999.000,9,-999.0000,9, -999.00,9, -999.00,9,  -999.0,9,  -999.0,-999.000,9,-999.000,  -999.0,9,-999.000,-999.0000, -999.00,   6.8186,   6.8881,2,20091208,       1732
318M20091121,        P06,      63,          1,         20,         20,2,20091208,       1549,   -30.5803,   177.0005,       4288,   836.3,   6.2442,  34.3887,  34.3865,2,    215.7,2,   215.0,2,   16.20,2,   25.59,2,    0.00,2,    1.78,2,   1.404,2,   0.732,2,-999.000,1,    0.093,2,  2160.3,2,  2289.3,6,   7.6939,2,    25.00,-999.000,9,-999.0000,9, -999.00,9, -999.00,9,  -999.0,9,  -999.0,-999.000,9,-999.000,  -999.0,9,-999.000,-999.0000, -999.00,   6.1678,   6.2507,2,20091208,       1729
318M20091121,        P06,      63,          1,         19,         19,2,20091208,       1549,   -30.5803,   177.0005,       4288,   938.7,   5.6010,  34.3683,  34.3686,2,    208.0,2,   208.1,2,   21.77,2,   27.52,2,    0.00,2,    1.91,2,   0.961,2,   0.515,2,-999.000,1,        0,2,  2170.7,2,  2293.1,2,   7.6806,2,    25.00,-999.000,9,-999.0000,9, -999.00,9, -999.00,9,  -999.0,9,  -999.0,-999.000,9,-999.000,  -999.0,9,-999.000,-999.0000, -999.00,   5.5191,   5.6071,2,20091208,       1724
318M20091121,        P06,      63,          1,         18,         18,2,20091208,       1549,   -30.5803,   177.0005,       4288,  1041.8,   4.8958,  34.3771,  34.3759,2,    196.8,2,   195.3,2,   32.17,2,   29.75,2,    0.00,2,    2.07,2,   0.538,2,   0.302,2,-999.000,1,        0,2,  -999.0,9,  2300.2,2,   7.6409,2,    25.00,-999.000,9,-999.0000,9, -999.00,9, -999.00,9,  -999.0,9,  -999.0,-999.000,9,-999.000,  -999.0,9,-999.000,-999.0000, -999.00,   4.8097,   4.8935,2,20091208,       1720
318M20091121,        P06,      63,          1,         17,         17,2,20091208,       1549,   -30.5803,   177.0005,       4288,  1143.5,   4.3660,  34.4033,  34.4032,2,    185.9,2,   185.4,2,   43.03,2,   31.14,2,    0.00,2,    2.18,2,   0.322,2,   0.187,2,-999.000,1,        0,2,  -999.0,9,  -999.0,9,-999.0000,9,  -999.00,-999.000,9,-999.0000,9, -999.00,9, -999.00,9,  -999.0,9,  -999.0,-999.000,9,-999.000,  -999.0,9,-999.000,-999.0000, -999.00,   4.2752,   4.3644,2,20091208,       1717
318M20091121,        P06,      63,          1,         16,         16,2,20091208,       1549,   -30.5803,   177.0005,       4288,  1245.6,   3.7941,  34.4432,  34.4415,2,    175.5,2,   175.8,2,   55.77,2,   32.61,2,    0.00,2,    2.29,2,   0.154,2,   0.094,2,-999.000,1,        0,2,  2226.5,2,  2299.1,4,   7.6100,2,    25.00,-999.000,9,-999.0000,9, -999.00,9, -999.00,9,  -999.0,9,  -999.0,-999.000,9,-999.000,  -999.0,9,-999.000,-999.0000, -999.00,   3.6996,   3.7949,2,20091208,       1713
318M20091121,        P06,      63,          1,         15,         15,2,20091208,       1549,   -30.5803,   177.0005,       4288,  1346.9,   3.4173,  34.4913,  34.4899,2,    168.6,2,   169.0,2,   68.78,2,   33.19,2,    0.00,2,    2.34,2,   0.093,2,   0.057,2,-999.000,1,        0,2,  -999.0,9,  -999.0,9,-999.0000,9,  -999.00,-999.000,9,-999.0000,9, -999.00,9, -999.00,9,  -999.0,9,  -999.0,-999.000,9,-999.000,  -999.0,9,-999.000,-999.0000, -999.00,   3.3179,   3.4214,2,20091208,       1710
318M20091121,        P06,      63,          1,         14,         14,2,20091208,       1549,   -30.5803,   177.0005,       4288,  1444.1,   3.1697,  34.5476,  34.5460,2,    163.0,2,   163.5,2,   81.86,2,   33.49,2,    0.00,2,    2.35,2,   0.084,2,   0.052,2,-999.000,1,        0,2,  -999.0,9,  -999.0,9,-999.0000,9,  -999.00,-999.000,9,-999.0000,9, -999.00,9, -999.00,9,  -999.0,9,  -999.0,-999.000,9,-999.000,  -999.0,9,-999.000,-999.0000, -999.00,   3.0647,   3.1704,2,20091208,       1706
318M20091121,        P06,      63,          1,         13,         13,2,20091208,       1549,   -30.5803,   177.0005,       4288,  1526.3,   2.9624,  34.5745,  34.5727,2,    160.4,2,   160.0,2,   89.84,2,   33.78,2,    0.00,2,    2.37,2,   0.068,2,   0.045,2,-999.000,1,        0,2,  2268.6,2,  2366.4,2,   7.5844,2,    25.00,-999.000,9,-999.0000,9, -999.00,9, -999.00,9,  -999.0,9,  -999.0,-999.000,9,-999.000,  -999.0,9,-999.000,-999.0000, -999.00,   2.8528,   2.9630,2,20091208,       1703
318M20091121,        P06,      63,          1,         12,         12,2,20091208,       1549,   -30.5803,   177.0005,       4288,  1628.6,   2.7472,  34.5983,  34.5973,2,    157.9,2,   157.3,2,   97.22,2,   33.97,2,    0.00,2,    2.39,2,   0.055,2,   0.037,2,-999.000,1,        0,2,  -999.0,9,  -999.0,9,-999.0000,9,  -999.00,-999.000,9,-999.0000,9, -999.00,9, -999.00,9,  -999.0,9,  -999.0,-999.000,9,-999.000,  -999.0,9,-999.000,-999.0000, -999.00,   2.6316,   2.7472,2,20091208,       1659
318M20091121,        P06,      63,          1,         11,         11,2,20091208,       1549,   -30.5803,   177.0005,       4288,  1746.3,   2.5485,  34.6139,  34.6123,2,    155.6,2,   155.1,2,  103.18,2,   34.27,2,    0.00,2,    2.42,2,   0.035,2,   0.025,2,-999.000,1,        0,2,  -999.0,9,  -999.0,9,-999.0000,9,  -999.00,-999.000,9,-999.0000,9, -999.00,9, -999.00,9,  -999.0,9,  -999.0,-999.000,9,-999.000,  -999.0,9,-999.000,-999.0000, -999.00,   2.4255,   2.5503,2,20091208,       1654
318M20091121,        P06,      63,          1,         10,         10,2,20091208,       1549,   -30.5803,   177.0005,       4288,  1884.9,   2.3667,  34.6289,  34.6279,2,    153.7,2,   153.7,2,  108.94,2,   34.51,2,    0.00,2,    2.44,2,   0.019,2,   0.015,2,-999.000,1,        0,2,  -999.0,9,  -999.0,9,-999.0000,9,  -999.00,-999.000,9,-999.0000,9, -999.00,9, -999.00,9,  -999.0,9,  -999.0,-999.000,9,-999.000,  -999.0,9,-999.000,-999.0000, -999.00,   2.2345,   2.3682,2,20091208,       1650
318M20091121,        P06,      63,          1,          9,          9,2,20091208,       1549,   -30.5803,   177.0005,       4288,  2105.6,   2.1899,  34.6447,  34.6438,2,    152.8,2,   152.7,2,  114.50,2,   34.75,2,    0.00,2,    2.46,2,   0.019,2,   0.016,2,-999.000,1,        0,2,  2296.7,2,  2394.2,2,   7.5759,2,    25.00,-999.000,9,-999.0000,9, -999.00,9, -999.00,9,  -999.0,9,  -999.0,-999.000,9,-999.000,  -999.0,9,-999.000,-999.0000, -999.00,   2.0414,   2.1898,2,20091208,       1644
318M20091121,        P06,      63,          1,          8,          8,2,20091208,       1549,   -30.5803,   177.0005,       4288,  2362.1,   2.0289,  34.6594,  34.6588,2,    153.1,2,   153.7,2,  118.82,2,   34.76,2,    0.00,2,    2.46,2,   0.009,2,   0.009,2,-999.000,1,        0,2,  -999.0,9,  -999.0,9,-999.0000,9,  -999.00,-999.000,9,-999.0000,9, -999.00,9, -999.00,9,  -999.0,9,  -999.0,-999.000,9,-999.000,  -999.0,9,-999.000,-999.0000, -999.00,   1.8605,   2.0281,2,20091208,       1638
318M20091121,        P06,      63,          1,          7,          7,2,20091208,       1549,   -30.5803,   177.0005,       4288,  2563.0,   1.9543,  34.6668,  34.6663,2,    153.4,2,   153.3,2,  120.89,2,   34.81,2,    0.00,2,    2.46,2,   0.004,2,   0.005,2,-999.000,1,        0,2,  2302.5,2,  2401.2,2,   7.5856,2,    25.00,-999.000,9,-999.0000,9, -999.00,9, -999.00,9,  -999.0,9,  -999.0,-999.000,9,-999.000,  -999.0,9,-999.000,-999.0000, -999.00,   1.7690,   1.9542,2,20091208,       1633
318M20091121,        P06,      63,          1,          6,          6,2,20091208,       1549,   -30.5803,   177.0005,       4288,  2871.3,   1.8779,  34.6747,  34.6744,2,    154.1,2,   154.3,2,  123.56,2,   34.81,2,    0.00,2,    2.46,2,   0.006,2,   0.007,2,-999.000,1,        0,2,  -999.0,9,  -999.0,9,-999.0000,9,  -999.00,-999.000,9,-999.0000,9, -999.00,9, -999.00,9,  -999.0,9,  -999.0,-999.000,9,-999.000,  -999.0,9,-999.000,-999.0000, -999.00,   1.6652,   1.8778,2,20091208,       1626
318M20091121,        P06,      63,          1,          5,          5,2,20091208,       1549,   -30.5803,   177.0005,       4288,  3123.5,   1.8540,  34.6785,  34.6805,3,    154.6,2,   154.2,2,  124.57,2,   34.67,2,    0.00,2,    2.46,2,   0.005,2,   0.005,2,-999.000,1,        0,2,  2304.5,2,  2405.9,2,   7.5918,2,    25.00,-999.000,9,-999.0000,9, -999.00,9, -999.00,9,  -999.0,9,  -999.0,-999.000,9,-999.000,  -999.0,9,-999.000,-999.0000, -999.00,   1.6172,   1.8542,2,20091208,       1620
318M20091121,        P06,      63,          1,          4,          4,2,20091208,       1549,   -30.5803,   177.0005,       4288,  3380.2,   1.8519,  34.6803,  34.6791,2,    154.8,2,   152.9,3,  125.38,2,   34.81,2,    0.00,2,    2.46,2,   0.008,2,   0.007,2,-999.000,1,        0,2,  -999.0,9,  -999.0,9,-999.0000,9,  -999.00,-999.000,9,-999.0000,9, -999.00,9, -999.00,9,  -999.0,9,  -999.0,-999.000,9,-999.000,  -999.0,9,-999.000,-999.0000, -999.00,   1.5893,   1.8517,2,20091208,       1612
318M20091121,        P06,      63,          1,          3,          3,2,20091208,       1549,   -30.5803,   177.0005,       4288,  3628.1,   1.8593,  34.6815,  34.6809,2,   -999.0,9,  -999.0,5,  125.79,2,   34.81,2,    0.00,2,    2.49,2,   0.007,2,   0.006,2,-999.000,1,        0,2,  2309.5,2,  2408.7,6,   7.4195,4,    25.00,-999.000,9,-999.0000,9, -999.00,9, -999.00,9,  -999.0,9,  -999.0,-999.000,9,-999.000,  -999.0,9,-999.000,-999.0000, -999.00,   1.5706,   1.8597,2,20091208,       1606
318M20091121,        P06,      63,          1,          2,          2,2,20091208,       1549,   -30.5803,   177.0005,       4288,  3969.1,   1.8838,  34.6822,  34.6815,2,    155.1,2,   155.3,2,  126.19,2,   34.81,2,    0.00,2,    2.46,2,   0.010,2,   0.007,2,-999.000,1,        0,2,  -999.0,9,  -999.0,9,-999.0000,9,  -999.00,-999.000,9,-999.0000,9, -999.00,9, -999.00,9,  -999.0,9,  -999.0,-999.000,9,-999.000,  -999.0,9,-999.000,-999.0000, -999.00,   1.5575,   1.8839,2,20091208,       1558
318M20091121,        P06,      63,          1,          1,          1,2,20091208,       1549,   -30.5803,   177.0005,       4288,  4354.4,   1.9244,  34.6823,  34.6823,2,    156.2,2,   155.7,2,  126.38,2,   34.81,2,    0.00,2,    2.50,2,   0.011,2,   0.007,2,-999.000,1,        0,2,  2311.1,6,  2409.3,2,   7.5893,2,    25.00,-999.000,9,-999.0000,9, -999.00,9, -999.00,9,  -999.0,9,  -999.0,-999.000,9,-999.000,  -999.0,9,-999.000,-999.0000, -999.00,   1.5532,   1.9243,2,20091208,       1549