BOTTLE,20220818CCHSIOAMB
EXPOCODE,SECT_ID,STNNBR,CASTNO,SAMPNO,BTLNBR,BTLNBR_FLAG_W,DATE,TIME,LATITUDE,LONGITUDE,DEPTH,CTDPRS,CTDTMP,CTDSAL,SALNTY,SALNTY_FLAG_W,CTDOXY,CTDOXY_FLAG_W,OXYGEN,OXYGEN_FLAG_W,SILCAT,SILCAT_FLAG_W,NITRAT,NITRAT_FLAG_W,NITRIT,NITRIT_FLAG_W,PHSPHT,PHSPHT_FLAG_W,CFC-11,CFC-11_FLAG_W,CFC-12,CFC-12_FLAG_W,CFC113,CFC113_FLAG_W,SF6,SF6_FLAG_W,TCARBN,TCARBN_FLAG_W,ALKALI,ALKALI_FLAG_W,PH_SWS,PH_SWS_FLAG_W,PH_TMP,TRITUM,TRITUM_FLAG_W,HELIUM,HELIUM_FLAG_W,DELHE3,DELHE3_FLAG_W,DELC13,DELC13_FLAG_W,DELC14,DELC14_FLAG_W,C14ERR,NEON,NEON_FLAG_W,NEONER,DOC,DOC_FLAG_W,TRITER,HELIER,DELHER,THETA,SBE35,SBE35_FLAG_W,BTL_DATE,BTL_TIME
,,,,,,,,,,,METERS,DBAR,ITS-90,PSS-78,PSS-78,,UMOL/KG,,UMOL/KG,,UMOL/KG,,UMOL/KG,,UMOL/KG,,UMOL/KG,,PMOL/KG,,PMOL/KG,,PMOL/KG,,FMOL/KG,,UMOL/KG,,UMOL/KG,,,,DEG C,TU,,NMOL/KG,,PERCNT,,/MILLE,,/MILLE,,/MILLE,NMOL/KG,,NMOL/KG,UMOL/KG,,TU,NMOL/KG,PERCNT,DEG C,ITS-90,,,
318M20091121,        P06,      45,          2,         31,         31,2,20091203,       1002,   -30.0798,   168.9997,       3149,     3.5,  22.1406,  35.5978,  35.5998,2,    223.9,2,   224.7,2,    0.40,2,    0.00,2,    0.00,2,    0.08,2,   2.138,2,   1.305,2,-999.000,1,    1.165,2,  2029.0,6,  2331.9,2,   8.0420,6,    25.00,-999.000,9,-999.0000,9, -999.00,9, -999.00,9,  -999.0,9,  -999.0,-999.000,9,-999.000,  -999.0,9,-999.000,-999.0000, -999.00,  22.1399,  22.1406,2,20091203,       1149
318M20091121,        P06,      45,          2,         30,         30,2,20091203,       1002,   -30.0798,   168.9997,       3149,    20.4,  21.0787,  35.6467,  35.6474,2,    228.7,2,   230.0,2,    0.38,2,    0.00,2,    0.00,2,    0.08,2,   2.208,2,   1.347,2,-999.000,1,     1.13,2,  -999.0,9,  -999.0,9,-999.0000,9,  -999.00,-999.000,9,-999.0000,9, -999.00,9, -999.00,9,  -999.0,9,  -999.0,-999.000,9,-999.000,  -999.0,9,-999.000,-999.0000, -999.00,  21.0748,  21.0895,2,20091203,       1147
318M20091121,        P06,      45,          2,         29,         29,2,20091203,       1002,   -30.0798,   168.9997,       3149,    40.8,  19.8933,  35.6735,  35.6726,2,    233.9,2,   236.8,2,    0.37,2,    0.00,2,    0.00,2,    0.07,2,   2.248,6,   1.357,6,-999.000,1,   1.1665,6,  -999.0,9,  2335.6,6,   8.0576,2,    25.00,-999.000,9,-999.0000,9, -999.00,9, -999.00,9,  -999.0,9,  -999.0,-999.000,9,-999.000,  -999.0,9,-999.000,-999.0000, -999.00,  19.8858,  19.8997,2,20091203,       1145
318M20091121,        P06,      45,          2,         28,         28,2,20091203,       1002,   -30.0798,   168.9997,       3149,    65.4,  19.1980,  35.6458,  35.6453,2,    236.0,2,   236.2,2,    0.35,2,    0.00,2,    0.00,2,    0.09,2,   2.276,2,   1.356,2,-999.000,1,    1.208,2,  -999.0,9,  -999.0,9,-999.0000,9,  -999.00,-999.000,9,-999.0000,9, -999.00,9, -999.00,9,  -999.0,9,  -999.0,-999.000,9,-999.000,  -999.0,9,-999.000,-999.0000, -999.00,  19.1862,  19.1913,2,20091203,       1142
318M20091121,        P06,      45,          2,         27,         27,2,20091203,       1002,   -30.0798,   168.9997,       3149,    90.7,  18.6481,  35.6183,  35.6192,2,    233.5,2,   230.5,2,    0.34,2,   -0.06,2,    0.06,2,    0.11,2,   2.310,2,   1.403,2,-999.000,1,    1.141,2,  -999.0,9,  2333.7,2,   8.0208,2,    25.00,-999.000,9,-999.0000,9, -999.00,9, -999.00,9,  -999.0,9,  -999.0,-999.000,9,-999.000,  -999.0,9,-999.000,-999.0000, -999.00,  18.6321,  18.6529,2,20091203,       1140
318M20091121,        P06,      45,          2,         26,         26,2,20091203,       1002,   -30.0798,   168.9997,       3149,   135.1,  17.9051,  35.5889,  35.5892,2,    215.8,2,   211.0,2,    0.71,2,    2.74,2,    0.05,2,    0.29,2,   2.354,2,   1.422,2,-999.000,1,    1.123,2,  -999.0,9,  -999.0,9,-999.0000,9,  -999.00,-999.000,9,-999.0000,9, -999.00,9, -999.00,9,  -999.0,9,  -999.0,-999.000,9,-999.000,  -999.0,9,-999.000,-999.0000, -999.00,  17.8819,  17.8958,2,20091203,       1138
318M20091121,        P06,      45,          2,         25,         25,2,20091203,       1002,   -30.0798,   168.9997,       3149,   186.1,  17.1821,  35.5538,  35.5534,2,    206.0,2,   209.2,2,    1.09,2,    3.97,2,    0.02,2,    0.38,2,   2.407,2,   1.428,2,-999.000,1,    1.062,2,  -999.0,9,  2335.2,2,   7.9383,2,    25.00,-999.000,9,-999.0000,9, -999.00,9, -999.00,9,  -999.0,9,  -999.0,-999.000,9,-999.000,  -999.0,9,-999.000,-999.0000, -999.00,  17.1510,  17.1835,2,20091203,       1135
318M20091121,        P06,      45,          2,         24,         24,2,20091203,       1002,   -30.0798,   168.9997,       3149,   234.4,  16.7083,  35.5257,  35.5248,2,    216.1,2,   214.8,2,    1.08,2,    3.78,2,    0.02,2,    0.38,2,   2.468,2,   1.467,2,-999.000,1,    1.101,2,  -999.0,9,  -999.0,9,-999.0000,9,  -999.00,-999.000,9,-999.0000,9, -999.00,9, -999.00,9,  -999.0,9,  -999.0,-999.000,9,-999.000,  -999.0,9,-999.000,-999.0000, -999.00,  16.6699,  16.7088,2,20091203,       1132
318M20091121,        P06,      45,          2,         23,         23,2,20091203,       1002,   -30.0798,   168.9997,       3149,   285.9,  15.6622,  35.4209,  35.4264,2,    196.5,2,   197.3,2,    2.05,2,    7.32,2,    0.01,2,    0.60,2,   2.473,2,   1.429,2,-999.000,1,    1.066,2,  -999.0,9,  2323.9,2,   7.9104,2,    25.00,-999.000,9,-999.0000,9, -999.00,9, -999.00,9,  -999.0,9,  -999.0,-999.000,9,-999.000,  -999.0,9,-999.000,-999.0000, -999.00,  15.6173,  15.6807,2,20091203,       1130
318M20091121,        P06,      45,          2,         22,         22,2,20091203,       1002,   -30.0798,   168.9997,       3149,   336.2,  14.7297,  35.3327,  35.3318,2,    195.5,2,   194.1,2,    2.82,2,    9.31,2,    0.01,2,    0.72,2,   2.494,2,   1.426,2,-999.000,1,    0.961,2,  -999.0,9,  -999.0,9,-999.0000,9,  -999.00,-999.000,9,-999.0000,9, -999.00,9, -999.00,9,  -999.0,9,  -999.0,-999.000,9,-999.000,  -999.0,9,-999.000,-999.0000, -999.00,  14.6790,  14.7228,2,20091203,       1127
318M20091121,        P06,      45,          2,         21,         21,2,20091203,       1002,   -30.0798,   168.9997,       3149,   386.6,  14.0648,  35.2681,  35.2689,2,    194.4,2,   194.6,2,    3.20,2,   10.40,2,    0.01,2,    0.79,2,   2.516,2,   1.429,2,-999.000,1,    0.926,2,  -999.0,9,  2315.3,2,   7.8651,2,    25.00,-999.000,9,-999.0000,9, -999.00,9, -999.00,9,  -999.0,9,  -999.0,-999.000,9,-999.000,  -999.0,9,-999.000,-999.0000, -999.00,  14.0083,  14.0665,2,20091203,       1125
318M20091121,        P06,      45,          2,         20,         20,2,20091203,       1002,   -30.0798,   168.9997,       3149,   436.7,  12.8013,  35.1294,  35.1324,2,    195.3,2,   195.8,2,    4.38,2,   12.58,2,    0.00,2,    0.93,2,   2.532,2,   1.424,2,-999.000,1,    0.882,2,  -999.0,9,  -999.0,9,-999.0000,9,  -999.00,-999.000,9,-999.0000,9, -999.00,9, -999.00,9,  -999.0,9,  -999.0,-999.000,9,-999.000,  -999.0,9,-999.000,-999.0000, -999.00,  12.7412,  12.8129,2,20091203,       1122
318M20091121,        P06,      45,          2,         19,         19,2,20091203,       1002,   -30.0798,   168.9997,       3149,   486.2,  12.0463,  35.0411,  35.0417,2,    196.0,2,   196.3,2,    5.16,2,   14.11,2,    0.00,2,    1.04,2,   2.523,2,   1.393,2,-999.000,1,    0.819,2,  -999.0,9,  2306.4,2,   7.8174,2,    25.00,-999.000,9,-999.0000,9, -999.00,9, -999.00,9,  -999.0,9,  -999.0,-999.000,9,-999.000,  -999.0,9,-999.000,-999.0000, -999.00,  11.9819,  12.0441,2,20091203,       1120
318M20091121,        P06,      45,          2,         18,         18,2,20091203,       1002,   -30.0798,   168.9997,       3149,   567.7,  10.8242,  34.9064,  34.9075,2,    196.3,2,   197.9,2,    7.32,2,   16.68,2,    0.00,2,    1.19,2,   2.429,2,   1.316,2,-999.000,1,    0.784,2,  -999.0,9,  -999.0,9,-999.0000,9,  -999.00,-999.000,9,-999.0000,9, -999.00,9, -999.00,9,  -999.0,9,  -999.0,-999.000,9,-999.000,  -999.0,9,-999.000,-999.0000, -999.00,  10.7538,  10.8230,2,20091203,       1116
318M20091121,        P06,      45,          2,         17,         17,2,20091203,       1002,   -30.0798,   168.9997,       3149,   669.5,   9.5845,  34.7611,  34.7606,2,    197.5,2,   197.9,2,    9.88,2,   19.41,2,    0.00,2,    1.38,2,   2.273,2,   1.199,2,-999.000,1,    0.619,2,  -999.0,9,  2299.3,2,   7.7477,2,    25.00,-999.000,9,-999.0000,9, -999.00,9, -999.00,9,  -999.0,9,  -999.0,-999.000,9,-999.000,  -999.0,9,-999.000,-999.0000, -999.00,   9.5072,   9.5845,2,20091203,       1113
318M20091121,        P06,      45,          2,         16,         16,2,20091203,       1002,   -30.0798,   168.9997,       3149,   769.4,   8.4254,  34.6355,  34.6357,2,    198.7,2,   199.1,2,   13.25,2,   21.89,2,    0.00,2,    1.54,2,   1.981,2,   1.030,2,-999.000,1,    0.469,2,  -999.0,9,  -999.0,9,-999.0000,9,  -999.00,-999.000,9,-999.0000,9, -999.00,9, -999.00,9,  -999.0,9,  -999.0,-999.000,9,-999.000,  -999.0,9,-999.000,-999.0000, -999.00,   8.3427,   8.4255,2,20091203,       1109
318M20091121,        P06,      45,          2,         15,         15,2,20091203,       1002,   -30.0798,   168.9997,       3149,   871.9,   7.4306,  34.5257,  34.5263,2,    202.0,2,   204.0,2,   15.43,2,   23.72,2,    0.00,2,    1.66,2,   1.759,2,   0.906,2,-999.000,1,    0.258,2,  -999.0,9,  2293.9,2,   7.7159,2,    25.00,-999.000,9,-999.0000,9, -999.00,9, -999.00,9,  -999.0,9,  -999.0,-999.000,9,-999.000,  -999.0,9,-999.000,-999.0000, -999.00,   7.3428,   7.4334,2,20091203,       1105
318M20091121,        P06,      45,          2,         14,         14,2,20091203,       1002,   -30.0798,   168.9997,       3149,   973.2,   6.3826,  34.4727,  34.4731,2,    197.8,2,   197.6,2,   23.99,2,   26.40,2,    0.00,2,    1.85,2,   1.198,2,   0.612,2,-999.000,1,    0.104,2,  -999.0,9,  2300.5,6,   7.6791,2,    25.00,-999.000,9,-999.0000,9, -999.00,9, -999.00,9,  -999.0,9,  -999.0,-999.000,9,-999.000,  -999.0,9,-999.000,-999.0000, -999.00,   6.2916,   6.3837,2,20091203,       1102
318M20091121,        P06,      45,          2,         13,         13,2,20091203,       1002,   -30.0798,   168.9997,       3149,  1072.4,   5.6585,  34.4515,  34.4516,2,    192.1,2,   193.0,2,   32.00,2,   28.22,2,    0.00,2,    1.97,2,   0.870,2,   0.445,2,-999.000,1,        0,2,  -999.0,9,  2308.0,2,   7.6634,2,    25.00,-999.000,9,-999.0000,9, -999.00,9, -999.00,9,  -999.0,9,  -999.0,-999.000,9,-999.000,  -999.0,9,-999.000,-999.0000, -999.00,   5.5634,   5.6564,2,20091203,       1059
318M20091121,        P06,      45,          2,         12,         12,2,20091203,       1002,   -30.0798,   168.9997,       3149,  1173.5,   4.8556,  34.4508,  34.4507,2,    184.8,2,   184.9,2,   43.48,2,   30.26,2,    0.00,2,    2.12,2,   0.541,2,   0.285,2,-999.000,1,        0,2,  -999.0,9,  -999.0,9,-999.0000,9,  -999.00,-999.000,9,-999.0000,9, -999.00,9, -999.00,9,  -999.0,9,  -999.0,-999.000,9,-999.000,  -999.0,9,-999.000,-999.0000, -999.00,   4.7577,   4.8543,2,20091203,       1055
318M20091121,        P06,      45,          2,         11,         11,2,20091203,       1002,   -30.0798,   168.9997,       3149,  1274.8,   4.2993,  34.4584,  34.4573,2,    178.0,2,   178.9,2,   52.36,2,   31.59,2,    0.00,2,    2.22,2,   0.342,2,   0.181,2,-999.000,1,        0,2,  -999.0,9,  -999.0,9,-999.0000,9,  -999.00,-999.000,9,-999.0000,9, -999.00,9, -999.00,9,  -999.0,9,  -999.0,-999.000,9,-999.000,  -999.0,9,-999.000,-999.0000, -999.00,   4.1974,   4.2997,2,20091203,       1052
318M20091121,        P06,      45,          2,         10,         10,2,20091203,       1002,   -30.0798,   168.9997,       3149,  1377.4,   3.9089,  34.4916,  34.4916,2,    171.9,2,   172.1,2,   63.33,2,   32.47,2,    0.00,2,    2.28,2,   0.251,2,   0.155,2,-999.000,1,    0.354,4,  -999.0,9,  2338.6,2,   7.6153,2,    25.00,-999.000,9,-999.0000,9, -999.00,9, -999.00,9,  -999.0,9,  -999.0,-999.000,9,-999.000,  -999.0,9,-999.000,-999.0000, -999.00,   3.8018,   3.9087,2,20091203,       1049
318M20091121,        P06,      45,          2,          9,          9,2,20091203,       1002,   -30.0798,   168.9997,       3149,  1480.1,   3.5682,  34.5216,  34.5211,2,    166.7,2,   167.1,2,   72.90,2,   33.08,2,    0.00,2,    2.34,2,   0.646,4,   1.246,4,-999.000,1,    9.192,4,  -999.0,9,  -999.0,9,-999.0000,9,  -999.00,-999.000,9,-999.0000,9, -999.00,9, -999.00,9,  -999.0,9,  -999.0,-999.000,9,-999.000,  -999.0,9,-999.000,-999.0000, -999.00,   3.4557,   3.5696,2,20091203,       1045
318M20091121,        P06,      45,          2,          8,          8,2,20091203,       1002,   -30.0798,   168.9997,       3149,  1579.2,   3.2794,  34.5467,  34.5472,2,    163.1,2,   163.0,2,   81.69,2,   33.55,2,    0.00,2,    2.38,2,   0.128,2,   0.076,2,-999.000,1,        0,2,  -999.0,9,  -999.0,9,-999.0000,9,  -999.00,-999.000,9,-999.0000,9, -999.00,9, -999.00,9,  -999.0,9,  -999.0,-999.000,9,-999.000,  -999.0,9,-999.000,-999.0000, -999.00,   3.1616,   3.2813,2,20091203,       1042
318M20091121,        P06,      45,          2,          7,          7,2,20091203,       1002,   -30.0798,   168.9997,       3149,  1751.2,   2.9135,  34.5820,  34.5825,2,    158.5,2,   159.0,2,   93.17,2,   34.17,2,    0.00,2,    2.41,2,   0.079,2,   0.047,2,-999.000,1,        0,2,  -999.0,9,  2370.1,2,   7.5942,2,    25.00,-999.000,9,-999.0000,9, -999.00,9, -999.00,9,  -999.0,9,  -999.0,-999.000,9,-999.000,  -999.0,9,-999.000,-999.0000, -999.00,   2.7854,   2.9133,2,20091203,       1038
318M20091121,        P06,      45,          2,          6,          6,2,20091203,       1002,   -30.0798,   168.9997,       3149,  1952.4,   2.5912,  34.6107,  34.6106,2,    155.9,2,   155.7,2,  103.45,2,   34.64,2,    0.00,2,    2.45,2,   0.046,2,   0.028,2,-999.000,1,        0,2,  -999.0,9,  -999.0,9,-999.0000,9,  -999.00,-999.000,9,-999.0000,9, -999.00,9, -999.00,9,  -999.0,9,  -999.0,-999.000,9,-999.000,  -999.0,9,-999.000,-999.0000, -999.00,   2.4500,   2.5915,2,20091203,       1032
318M20091121,        P06,      45,          2,          5,          5,2,20091203,       1002,   -30.0798,   168.9997,       3149,  2183.9,   2.3094,  34.6367,  34.6370,2,    154.2,2,   154.4,2,  111.48,2,   34.86,2,    0.00,2,    2.46,2,   0.036,2,   0.024,2,-999.000,1,        0,2,  -999.0,9,  -999.0,9,-999.0000,9,  -999.00,-999.000,9,-999.0000,9, -999.00,9, -999.00,9,  -999.0,9,  -999.0,-999.000,9,-999.000,  -999.0,9,-999.000,-999.0000, -999.00,   2.1522,   2.3098,2,20091203,       1027
318M20091121,        P06,      45,          2,          4,          4,2,20091203,       1002,   -30.0798,   168.9997,       3149,  2442.4,   2.0666,  34.6567,  34.6571,2,    153.3,2,   153.8,2,  118.70,2,   35.07,2,    0.00,2,    2.48,2,   0.016,2,   0.011,2,-999.000,1,        0,2,  -999.0,9,  2399.0,2,   7.5899,6,    25.00,-999.000,9,-999.0000,9, -999.00,9, -999.00,9,  -999.0,9,  -999.0,-999.000,9,-999.000,  -999.0,9,-999.000,-999.0000, -999.00,   1.8903,   2.0666,2,20091203,       1020
318M20091121,        P06,      45,          2,          3,          3,2,20091203,       1002,   -30.0798,   168.9997,       3149,  2698.5,   1.9631,  34.6668,  34.6673,2,    153.3,2,   153.6,2,  122.00,2,   35.19,2,    0.00,2,    2.48,2,   0.010,2,   0.009,2,-999.000,1,        0,2,  -999.0,9,  -999.0,9,-999.0000,9,  -999.00,-999.000,9,-999.0000,9, -999.00,9, -999.00,9,  -999.0,9,  -999.0,-999.000,9,-999.000,  -999.0,9,-999.000,-999.0000, -999.00,   1.7651,   1.9632,2,20091203,       1015
318M20091121,        P06,      45,          2,          2,          2,2,20091203,       1002,   -30.0798,   168.9997,       3149,  2932.9,   1.9350,  34.6707,  34.6707,2,    153.3,2,   154.0,2,  123.23,2,   35.20,2,    0.00,2,    2.49,2,   0.033,2,   0.022,2,-999.000,1,        0,2,  -999.0,9,  -999.0,9,-999.0000,9,  -999.00,-999.000,9,-999.0000,9, -999.00,9, -999.00,9,  -999.0,9,  -999.0,-999.000,9,-999.000,  -999.0,9,-999.000,-999.0000, -999.00,   1.7152,   1.9348,2,20091203,       1009
318M20091121,        P06,      45,          2,          1,          1,2,20091203,       1002,   -30.0798,   168.9997,       3149,  3197.7,   1.9342,  34.6725,  34.6733,2,    153.9,2,   154.2,2,  123.84,2,   35.27,2,    0.00,2,    2.50,2,   0.019,2,   0.013,2,-999.000,1,        0,2,  -999.0,9,  2408.1,6,   7.5902,2,    25.00,-999.000,9,-999.0000,9, -999.00,9, -999.00,9,  -999.0,9,  -999.0,-999.000,9,-999.000,  -999.0,9,-999.000,-999.0000, -999.00,   1.6882,   1.9336,2,20091203,       1002