BOTTLE,20220818CCHSIOAMB
EXPOCODE,SECT_ID,STNNBR,CASTNO,SAMPNO,BTLNBR,BTLNBR_FLAG_W,DATE,TIME,LATITUDE,LONGITUDE,DEPTH,CTDPRS,CTDTMP,CTDSAL,SALNTY,SALNTY_FLAG_W,CTDOXY,CTDOXY_FLAG_W,OXYGEN,OXYGEN_FLAG_W,SILCAT,SILCAT_FLAG_W,NITRAT,NITRAT_FLAG_W,NITRIT,NITRIT_FLAG_W,PHSPHT,PHSPHT_FLAG_W,CFC-11,CFC-11_FLAG_W,CFC-12,CFC-12_FLAG_W,CFC113,CFC113_FLAG_W,SF6,SF6_FLAG_W,TCARBN,TCARBN_FLAG_W,ALKALI,ALKALI_FLAG_W,PH_SWS,PH_SWS_FLAG_W,PH_TMP,TRITUM,TRITUM_FLAG_W,HELIUM,HELIUM_FLAG_W,DELHE3,DELHE3_FLAG_W,DELC13,DELC13_FLAG_W,DELC14,DELC14_FLAG_W,C14ERR,NEON,NEON_FLAG_W,NEONER,DOC,DOC_FLAG_W,TRITER,HELIER,DELHER,THETA,SBE35,SBE35_FLAG_W,BTL_DATE,BTL_TIME
,,,,,,,,,,,METERS,DBAR,ITS-90,PSS-78,PSS-78,,UMOL/KG,,UMOL/KG,,UMOL/KG,,UMOL/KG,,UMOL/KG,,UMOL/KG,,PMOL/KG,,PMOL/KG,,PMOL/KG,,FMOL/KG,,UMOL/KG,,UMOL/KG,,,,DEG C,TU,,NMOL/KG,,PERCNT,,/MILLE,,/MILLE,,/MILLE,NMOL/KG,,NMOL/KG,UMOL/KG,,TU,NMOL/KG,PERCNT,DEG C,ITS-90,,,
318M20091121,        P06,      86,          1,         36,         36,2,20091215,       0114,   -32.5000,  -174.0000,       5661,     3.5,  22.4500,  35.6930,  35.6941,2,    224.6,2,   224.5,2,    0.27,2,    0.00,2,    0.00,2,    0.11,2,   1.974,2,   1.212,2,-999.000,1,    1.188,2,  2050.7,6,  2340.8,2,   8.0125,2,    25.00,-999.000,9,   1.7165,2,   -1.41,2, -999.00,9,  -999.0,9,  -999.0,   6.895,2,   0.032,    59.1,2,-999.000,   0.0072,    0.15,  22.4493,  22.4489,2,20091215,       0352
318M20091121,        P06,      86,          1,         35,         35,2,20091215,       0114,   -32.5000,  -174.0000,       5661,    25.8,  19.7857,  35.5500,  35.5468,2,    236.2,2,   238.0,2,    0.45,2,    0.00,2,    0.00,2,    0.11,2,   2.174,2,   1.320,2,-999.000,1,    1.286,2,  2048.5,2,  2330.8,6,   8.0059,6,    25.00,-999.000,9,-999.0000,9, -999.00,9, -999.00,9,  -999.0,9,  -999.0,-999.000,9,-999.000,  -999.0,5,-999.000,-999.0000, -999.00,  19.7810,  19.7795,2,20091215,       0350
318M20091121,        P06,      86,          1,         34,         34,2,20091215,       0114,   -32.5000,  -174.0000,       5661,    50.2,  17.7035,  35.4785,  35.4797,2,    251.2,2,   250.6,2,    0.42,2,    0.00,2,    0.00,2,    0.12,2,   2.331,2,   1.414,2,-999.000,1,    1.245,2,  2045.8,2,  2326.2,2,-999.0000,9,  -999.00,-999.000,9,   1.7381,2,   -1.52,2, -999.00,9,  -999.0,9,  -999.0,   7.043,2,   0.032,    56.5,2,-999.000,   0.0073,    0.15,  17.6950,  17.7022,2,20091215,       0348
318M20091121,        P06,      86,          1,         33,         33,2,20091215,       0114,   -32.5000,  -174.0000,       5661,    75.4,  16.2487,  35.4462,  35.4374,2,    253.4,2,   250.8,2,    0.79,2,   -0.01,2,    0.01,2,    0.15,2,   2.432,2,   1.439,2,-999.000,1,    1.244,2,  2057.8,2,  2325.2,2,   7.9843,2,    25.00,-999.000,9,-999.0000,9, -999.00,9, -999.00,9,  -999.0,9,  -999.0,-999.000,9,-999.000,    56.5,2,-999.000,-999.0000, -999.00,  16.2366,  16.2567,2,20091215,       0346
318M20091121,        P06,      86,          1,         32,         32,2,20091215,       0114,   -32.5000,  -174.0000,       5661,    99.3,  15.4835,  35.4253,  35.4250,2,    232.1,2,   224.3,2,    1.16,4,    3.33,4,    0.11,4,    0.36,4,   2.413,2,   1.443,2,-999.000,1,    1.265,2,  2085.4,2,  2322.2,2,-999.0000,9,  -999.00,-999.000,9,   1.7551,2,   -1.04,2, -999.00,9,  -999.0,9,  -999.0,   7.192,2,   0.033,    50.4,2,-999.000,   0.0074,    0.15,  15.4681,  15.4819,2,20091215,       0344
318M20091121,        P06,      86,          1,         31,         31,2,20091215,       0114,   -32.5000,  -174.0000,       5661,   150.8,  14.5424,  35.3236,  35.3273,2,    221.5,2,   221.2,2,    1.12,4,    3.33,4,    0.11,4,    0.36,4,   2.480,2,   1.487,2,-999.000,1,    1.252,2,  2092.8,2,  2319.8,2,   7.9108,2,    25.00,-999.000,9,   1.7652,2,   -1.06,2, -999.00,9,  -999.0,9,  -999.0,   7.200,2,   0.033,    49.2,2,-999.000,   0.0074,    0.15,  14.5200,  14.5533,2,20091215,       0342
318M20091121,        P06,      86,          1,         30,         30,2,20091215,       0114,   -32.5000,  -174.0000,       5661,   200.6,  13.8491,  35.2613,  35.2533,2,    223.7,2,   218.5,2,    1.91,2,    7.31,2,    0.01,2,    0.61,2,   2.545,2,   1.492,2,-999.000,1,     1.21,2,  2102.9,2,  2317.0,2,-999.0000,9,  -999.00,   0.314,2,   1.7657,2,   -0.92,2, -999.00,9,  -999.0,9,  -999.0,   7.256,2,   0.033,    49.2,2,   0.016,   0.0074,    0.15,  13.8202,  13.8603,2,20091215,       0340
318M20091121,        P06,      86,          1,         29,         29,2,20091215,       0114,   -32.5000,  -174.0000,       5661,   250.5,  12.8730,  35.1421,  35.1403,2,    213.0,2,   210.6,2,    2.68,2,   10.05,2,    0.01,2,    0.77,2,   2.617,2,   1.507,2,-999.000,1,    1.161,2,  2115.8,2,  2312.8,2,   7.8398,2,    25.00,   0.295,2,   1.7616,2,   -0.77,2, -999.00,9,  -999.0,9,  -999.0,   7.237,2,   0.033,    49.4,2,   0.016,   0.0074,    0.15,  12.8387,  12.8639,2,20091215,       0337
318M20091121,        P06,      86,          1,         28,         28,2,20091215,       0114,   -32.5000,  -174.0000,       5661,   302.2,  12.1464,  35.0459,  35.0395,2,    208.9,2,   208.8,2,    3.05,2,   11.88,2,    0.01,2,    0.88,2,   2.668,2,   1.515,2,-999.000,1,    0.913,2,  2120.7,2,  2307.9,2,-999.0000,9,  -999.00,   0.261,2,   1.7568,2,   -0.61,2, -999.00,9,  -999.0,9,  -999.0,   7.291,2,   0.034,    43.8,3,   0.016,   0.0074,    0.15,  12.1065,  12.1344,2,20091215,       0335
318M20091121,        P06,      86,          1,         27,         27,2,20091215,       0114,   -32.5000,  -174.0000,       5661,   352.9,  11.0315,  34.8820,  34.8807,2,    207.0,2,   208.7,2,    3.63,2,   14.31,2,    0.01,2,    1.04,2,   2.719,2,   1.508,2,-999.000,1,    0.894,2,  2128.0,2,  2298.3,2,   7.7897,2,    25.00,   0.249,2,   1.7690,2,   -0.15,2, -999.00,9,  -999.0,9,  -999.0,   7.387,2,   0.034,    47.0,2,   0.016,   0.0074,    0.15,  10.9877,  11.0318,2,20091215,       0333
318M20091121,        P06,      86,          1,         26,         26,2,20091215,       0114,   -32.5000,  -174.0000,       5661,   402.6,   9.9853,  34.7339,  34.7421,2,    208.5,2,   208.6,2,    4.40,2,   16.65,2,    0.00,2,    1.18,2,   2.897,2,   1.612,2,-999.000,1,    0.837,2,  2133.5,2,  2295.5,2,-999.0000,9,  -999.00,   0.155,2,-999.0000,9, -999.00,9, -999.00,9,  -999.0,9,  -999.0,-999.000,9,-999.000,    45.1,2,   0.016,-999.0000, -999.00,   9.9383,   9.9812,2,20091215,       0330
318M20091121,        P06,      86,          1,         25,         25,2,20091215,       0114,   -32.5000,  -174.0000,       5661,   503.7,   8.3424,  34.5344,  34.5344,2,    219.1,2,   219.4,2,    5.39,2,   19.92,2,    0.00,2,    1.39,2,-999.000,5,-999.000,5,-999.000,1,-999.0000,5,  2140.3,2,  2287.3,2,   7.7405,2,    25.00,   0.164,2,   1.7698,2,    0.23,2, -999.00,9,  -999.0,9,  -999.0,   7.304,2,   0.034,  -999.0,5,   0.016,   0.0074,    0.15,   8.2895,   8.3489,2,20091215,       0327
318M20091121,        P06,      86,          1,         24,         24,2,20091215,       0114,   -32.5000,  -174.0000,       5661,   604.9,   7.4533,  34.4404,  34.4398,2,    227.0,2,   227.7,2,    6.37,2,   21.79,2,    0.00,2,    1.52,2,   2.786,2,   1.413,2,-999.000,1,    0.543,2,  2142.8,2,  2284.3,2,-999.0000,9,  -999.00,   0.091,2,   1.7848,2,    0.40,2, -999.00,9,  -999.0,9,  -999.0,   7.358,2,   0.034,  -999.0,9,   0.016,   0.0075,    0.15,   7.3934,   7.4551,2,20091215,       0324
318M20091121,        P06,      86,          1,         23,         23,2,20091215,       0114,   -32.5000,  -174.0000,       5661,   706.6,   6.9102,  34.3971,  34.3960,2,    229.3,2,   228.6,2,    8.16,2,   23.15,2,    0.00,2,    1.60,2,   2.326,2,   1.151,2,-999.000,1,    0.151,2,  2144.7,2,  2285.3,2,   7.7299,2,    25.00,   0.092,2,   1.7830,2,    0.88,2, -999.00,9,  -999.0,9,  -999.0,   7.360,2,   0.034,    37.9,2,   0.016,   0.0075,    0.15,   6.8427,   6.9148,2,20091215,       0321
318M20091121,        P06,      86,          1,         22,         22,2,20091215,       0114,   -32.5000,  -174.0000,       5661,   807.5,   6.3823,  34.3671,  34.3657,2,    224.2,2,   223.2,2,   11.58,2,   24.88,2,    0.00,2,    1.73,2,   1.683,2,   0.826,2,-999.000,1,    0.133,2,  2152.0,2,  2285.3,2,-999.0000,9,  -999.00,   0.070,2,   1.7959,2,    1.37,2, -999.00,9,  -999.0,9,  -999.0,   7.400,2,   0.034,  -999.0,9,   0.016,   0.0075,    0.15,   6.3079,   6.3871,2,20091215,       0317
318M20091121,        P06,      86,          1,         21,         21,2,20091215,       0114,   -32.5000,  -174.0000,       5661,   907.8,   5.7403,  34.3459,  34.3455,2,    214.3,2,   214.6,2,   16.84,2,   26.91,2,    0.00,2,    1.87,2,   1.098,2,   0.547,2,-999.000,1,        0,2,  2163.8,2,  2288.1,2,   7.6830,2,    25.00,   0.035,2,   1.7942,2,    1.93,2, -999.00,9,  -999.0,9,  -999.0,   7.488,2,   0.034,    38.3,2,   0.016,   0.0075,    0.15,   5.6604,   5.7430,2,20091215,       0314
318M20091121,        P06,      86,          1,         20,         20,2,20091215,       0114,   -32.5000,  -174.0000,       5661,  1009.0,   5.1488,  34.3417,  34.3410,2,    204.2,2,   204.2,2,   23.35,2,   28.89,2,    0.00,2,    2.01,2,   0.698,2,   0.348,2,-999.000,1,        0,2,  2178.5,6,  2294.1,2,   7.6533,2,    25.00,   0.043,6,-999.0000,9, -999.00,9, -999.00,9,  -999.0,9,  -999.0,-999.000,9,-999.000,  -999.0,9,   0.012,-999.0000, -999.00,   5.0638,   5.1547,2,20091215,       0311
318M20091121,        P06,      86,          1,         19,         19,2,20091215,       0114,   -32.5000,  -174.0000,       5661,  1110.1,   4.4764,  34.3589,  34.3585,2,    194.0,2,   193.1,2,   33.57,2,   30.87,2,    0.00,2,    2.16,2,   0.406,2,   0.207,2,-999.000,1,        0,2,  2197.3,2,  2304.0,6,   7.6301,2,    25.00,   0.026,2,   1.8339,2,    4.82,2, -999.00,9,  -999.0,9,  -999.0,   7.533,2,   0.035,    38.4,2,   0.016,   0.0077,    0.15,   4.3877,   4.4776,2,20091215,       0308
318M20091121,        P06,      86,          1,         18,         18,2,20091215,       0114,   -32.5000,  -174.0000,       5661,  1212.0,   3.9615,  34.3894,  34.3893,2,    186.4,2,   186.5,2,   43.43,2,   31.92,2,    0.00,2,    2.25,2,   0.336,2,   0.169,2,-999.000,1,        0,2,  2212.8,2,  2314.4,2,-999.0000,9,  -999.00,   0.010,2,-999.0000,9, -999.00,9, -999.00,9,  -999.0,9,  -999.0,-999.000,9,-999.000,  -999.0,9,   0.016,-999.0000, -999.00,   3.8685,   3.9614,2,20091215,       0304
318M20091121,        P06,      86,          1,         17,         17,2,20091215,       0114,   -32.5000,  -174.0000,       5661,  1312.5,   3.4658,  34.4331,  34.4338,2,    178.4,2,   176.9,2,   54.78,2,   33.11,2,    0.00,2,    2.34,2,   0.150,2,   0.080,2,-999.000,1,        0,2,  2228.8,2,  2325.2,2,   7.6832,4,    25.00,-999.000,9,-999.0000,9, -999.00,9, -999.00,9,  -999.0,9,  -999.0,-999.000,9,-999.000,    38.7,2,-999.000,-999.0000, -999.00,   3.3689,   3.4667,2,20091215,       0301
318M20091121,        P06,      86,          1,         16,         16,2,20091215,       0114,   -32.5000,  -174.0000,       5661,  1414.1,   3.1507,  34.4776,  34.4780,2,    169.9,2,   170.1,2,   65.57,2,   33.74,2,    0.00,2,    2.41,2,   0.086,2,   0.052,2,-999.000,1,        0,2,  2243.2,2,  2337.1,2,-999.0000,9,  -999.00,   0.011,2,   2.0017,2,   12.48,2, -999.00,9,  -999.0,9,  -999.0,   8.766,2,   0.040,  -999.0,9,   0.016,   0.0084,    0.15,   3.0486,   3.1475,2,20091215,       0258
318M20091121,        P06,      86,          1,         15,         15,2,20091215,       0114,   -32.5000,  -174.0000,       5661,  1614.9,   2.6970,  34.5609,  34.5582,2,    160.2,2,   158.8,2,   85.79,2,   34.30,2,    0.00,2,    2.43,2,   0.046,2,   0.028,2,-999.000,1,        0,2,  2271.2,2,  2360.6,2,   7.5774,2,    25.00,   0.012,2,   1.9792,2,   17.72,2, -999.00,9,  -999.0,9,  -999.0,   8.666,2,   0.040,  -999.0,5,   0.016,   0.0083,    0.15,   2.5833,   2.6999,2,20091215,       0253
318M20091121,        P06,      86,          1,         14,         14,2,20091215,       0114,   -32.5000,  -174.0000,       5661,  1817.6,   2.4450,  34.6046,  34.6041,2,    153.0,2,   152.3,2,  101.50,2,   34.83,2,    0.00,2,    2.47,2,   0.032,2,   0.019,2,-999.000,1,        0,2,  2287.1,2,  2376.2,2,-999.0000,9,  -999.00,   0.024,2,   1.9383,2,   22.50,2, -999.00,9,  -999.0,9,  -999.0,   8.427,2,   0.039,  -999.0,9,   0.016,   0.0081,    0.15,   2.3175,   2.4455,2,20091215,       0248
318M20091121,        P06,      86,          1,         13,         13,2,20091215,       0114,   -32.5000,  -174.0000,       5661,  2020.5,   2.3046,  34.6231,  34.6289,3,    149.5,2,   149.2,2,  114.75,2,   34.97,2,    0.00,2,    2.50,2,   0.031,2,   0.018,2,-999.000,1,        0,2,  2296.3,2,  2385.6,2,   7.5755,2,    25.00,   0.026,2,   1.9420,2,   24.89,2, -999.00,9,  -999.0,9,  -999.0,   8.252,2,   0.038,  -999.0,5,   0.016,   0.0082,    0.15,   2.1618,   2.3046,2,20091215,       0244
318M20091121,        P06,      86,          1,         12,         12,2,20091215,       0114,   -32.5000,  -174.0000,       5661,  2224.5,   2.1702,  34.6366,  34.6370,2,    147.9,2,   147.7,2,  116.42,2,   35.26,2,    0.00,2,    2.51,2,   0.034,2,   0.020,2,-999.000,1,        0,2,  2303.5,2,  2394.2,2,-999.0000,9,  -999.00,   0.017,2,   1.9025,2,   26.83,2, -999.00,9,  -999.0,9,  -999.0,   7.926,2,   0.036,  -999.0,9,   0.016,   0.0080,    0.15,   2.0117,   2.1703,2,20091215,       0239
318M20091121,        P06,      86,          1,         11,         11,2,20091215,       0114,   -32.5000,  -174.0000,       5661,  2478.8,   2.0453,  34.6481,  34.6488,2,    147.2,2,   147.0,2,  122.09,2,   35.40,2,    0.00,2,    2.52,2,   0.034,2,   0.019,2,-999.000,1,        0,2,  2308.3,2,  2400.1,2,-999.0000,9,  -999.00,   0.014,2,   2.0230,2,   25.16,2, -999.00,9,  -999.0,9,  -999.0,   8.616,2,   0.040,    35.7,2,   0.016,   0.0085,    0.15,   1.8661,   2.0458,2,20091215,       0232
318M20091121,        P06,      86,          1,         10,         10,2,20091215,       0114,   -32.5000,  -174.0000,       5661,  2631.2,   1.9720,  34.6549,  34.6551,2,    148.0,2,   148.0,2,  124.38,2,   35.45,2,    0.00,2,    2.52,2,   0.029,2,   0.014,2,-999.000,1,        0,2,  2310.2,2,  2402.9,2,   7.5753,2,    25.00,-999.000,9,   1.9225,2,   26.01,2, -999.00,9,  -999.0,9,  -999.0,   8.114,2,   0.037,  -999.0,9,-999.000,   0.0081,    0.15,   1.7801,   1.9718,2,20091215,       0228
318M20091121,        P06,      86,          1,          9,          9,2,20091215,       0114,   -32.5000,  -174.0000,       5661,  2985.7,   1.8127,  34.6731,  34.6730,2,    154.4,2,   154.7,2,  125.82,2,   34.87,2,    0.00,2,    2.48,2,   0.024,2,   0.009,2,-999.000,1,        0,2,  2306.2,2,  2402.5,2,-999.0000,9,  -999.00,  -0.005,2,   1.9012,2,   22.92,2, -999.00,9,  -999.0,9,  -999.0,   7.983,2,   0.037,    37.9,2,   0.016,   0.0080,    0.15,   1.5904,   1.8128,2,20091215,       0219
318M20091121,        P06,      86,          1,          8,          8,2,20091215,       0114,   -32.5000,  -174.0000,       5661,  3345.2,   1.6648,  34.7039,  34.7041,2,    177.8,2,   177.5,2,  113.54,2,   32.76,2,    0.00,2,    2.33,2,   0.037,2,   0.017,2,-999.000,1,        0,2,  2278.9,2,  2378.0,2,-999.0000,9,  -999.00,-999.000,9,-999.0000,9, -999.00,9, -999.00,9,  -999.0,9,  -999.0,-999.000,9,-999.000,  -999.0,9,-999.000,-999.0000, -999.00,   1.4101,   1.6647,2,20091215,       0210
318M20091121,        P06,      86,          1,          7,          7,2,20091215,       0114,   -32.5000,  -174.0000,       5661,  3652.2,   1.4790,  34.7180,  34.7185,2,    193.0,2,   192.4,2,  109.50,2,   31.77,2,    0.00,2,    2.24,2,   0.043,2,   0.017,2,-999.000,1,        0,2,  2263.9,2,  2366.1,2,   7.6105,2,    25.00,-999.000,9,   1.8896,2,   12.05,2, -999.00,9,  -999.0,9,  -999.0,   8.000,2,   0.037,    40.1,2,-999.000,   0.0079,    0.15,   1.1974,   1.4790,2,20091215,       0203
318M20091121,        P06,      86,          1,          6,          6,2,20091215,       0114,   -32.5000,  -174.0000,       5661,  3907.8,   1.3037,  34.7189,  34.7199,2,    200.0,2,   199.2,2,  111.79,2,   31.57,2,    0.00,2,    2.22,2,   0.060,2,   0.026,2,-999.000,1,        0,2,  2260.2,2,  2366.2,2,-999.0000,9,  -999.00,-999.000,9,-999.0000,9, -999.00,9, -999.00,9,  -999.0,9,  -999.0,-999.000,9,-999.000,  -999.0,9,-999.000,-999.0000, -999.00,   0.9999,   1.3037,2,20091215,       0157
318M20091121,        P06,      86,          1,          5,          5,2,20091215,       0114,   -32.5000,  -174.0000,       5661,  4215.0,   1.1576,  34.7155,  34.7157,2,    203.9,2,   203.9,2,  115.34,2,   31.62,2,    0.00,2,    2.22,2,   0.072,2,   0.030,2,-999.000,1,        0,2,  2259.1,2,  2366.3,2,-999.0000,9,  -999.00,   0.012,2,   1.9002,2,    9.83,2, -999.00,9,  -999.0,9,  -999.0,   8.038,2,   0.037,    40.3,2,   0.016,   0.0080,    0.15,   0.8248,   1.1574,2,20091215,       0150
318M20091121,        P06,      86,          1,          4,          4,2,20091215,       0114,   -32.5000,  -174.0000,       5661,  4575.5,   1.0595,  34.7111,  34.7110,2,    206.1,2,   206.3,2,  119.11,2,   31.72,2,    0.00,2,    2.23,2,   0.083,2,   0.035,2,-999.000,1,        0,2,  2260.6,2,  2367.6,2,   7.6152,2,    25.00,  -0.002,2,   1.9177,2,    9.59,2, -999.00,9,  -999.0,9,  -999.0,   8.162,2,   0.038,  -999.0,9,   0.016,   0.0081,    0.15,   0.6894,   1.0598,2,20091215,       0142
318M20091121,        P06,      86,          1,          3,          3,2,20091215,       0114,   -32.5000,  -174.0000,       5661,  4985.8,   1.0416,  34.7089,  34.7087,2,    207.0,2,   206.7,2,  120.98,2,   31.85,2,    0.00,2,    2.24,2,   0.079,2,   0.039,2,-999.000,1,        0,2,  2261.3,2,  2370.2,2,-999.0000,9,  -999.00,   0.005,2,   1.8901,2,    9.43,2, -999.00,9,  -999.0,9,  -999.0,   8.121,2,   0.037,    39.8,2,   0.016,   0.0079,    0.15,   0.6244,   1.0418,2,20091215,       0133
318M20091121,        P06,      86,          1,          2,          2,2,20091215,       0114,   -32.5000,  -174.0000,       5661,  5369.8,   1.0722,  34.7081,  34.7075,2,    205.9,2,   206.0,2,  121.79,2,   31.85,2,    0.00,2,    2.24,2,   0.077,2,   0.038,2,-999.000,1,        0,2,  2261.8,2,  2367.0,2,-999.0000,9,  -999.00,  -0.016,2,   1.8774,2,    9.52,2, -999.00,9,  -999.0,9,  -999.0,   8.069,2,   0.037,  -999.0,9,   0.016,   0.0079,    0.15,   0.6073,   1.0722,2,20091215,       0125
318M20091121,        P06,      86,          1,          1,          1,2,20091215,       0114,   -32.5000,  -174.0000,       5661,  5739.8,   1.1190,  34.7078,  34.7071,2,    206.7,2,   206.3,2,  121.76,2,   31.95,2,    0.00,2,    2.24,2,   0.076,2,   0.040,2,-999.000,1,        0,2,  2262.5,6,  2367.1,6,   7.6161,6,    25.00,   0.019,2,   1.9212,2,    9.36,2, -999.00,9,  -999.0,9,  -999.0,   8.225,2,   0.038,    42.6,3,   0.016,   0.0081,    0.15,   0.6056,   1.1188,2,20091215,       0114