BOTTLE,20220818CCHSIOAMB
EXPOCODE,SECT_ID,STNNBR,CASTNO,SAMPNO,BTLNBR,BTLNBR_FLAG_W,DATE,TIME,LATITUDE,LONGITUDE,DEPTH,CTDPRS,CTDTMP,CTDSAL,SALNTY,SALNTY_FLAG_W,CTDOXY,CTDOXY_FLAG_W,OXYGEN,OXYGEN_FLAG_W,SILCAT,SILCAT_FLAG_W,NITRAT,NITRAT_FLAG_W,NITRIT,NITRIT_FLAG_W,PHSPHT,PHSPHT_FLAG_W,CFC-11,CFC-11_FLAG_W,CFC-12,CFC-12_FLAG_W,CFC113,CFC113_FLAG_W,SF6,SF6_FLAG_W,TCARBN,TCARBN_FLAG_W,ALKALI,ALKALI_FLAG_W,PH_SWS,PH_SWS_FLAG_W,PH_TMP,TRITUM,TRITUM_FLAG_W,HELIUM,HELIUM_FLAG_W,DELHE3,DELHE3_FLAG_W,DELC13,DELC13_FLAG_W,DELC14,DELC14_FLAG_W,C14ERR,NEON,NEON_FLAG_W,NEONER,DOC,DOC_FLAG_W,TRITER,HELIER,DELHER,THETA,SBE35,SBE35_FLAG_W,BTL_DATE,BTL_TIME
,,,,,,,,,,,METERS,DBAR,ITS-90,PSS-78,PSS-78,,UMOL/KG,,UMOL/KG,,UMOL/KG,,UMOL/KG,,UMOL/KG,,UMOL/KG,,PMOL/KG,,PMOL/KG,,PMOL/KG,,FMOL/KG,,UMOL/KG,,UMOL/KG,,,,DEG C,TU,,NMOL/KG,,PERCNT,,/MILLE,,/MILLE,,/MILLE,NMOL/KG,,NMOL/KG,UMOL/KG,,TU,NMOL/KG,PERCNT,DEG C,ITS-90,,,
318M20091121,        P06,      87,          2,         36,         36,2,20091215,       0814,   -32.5000,  -173.6700,       5613,     3.8,  21.1661,  35.5283,  35.5289,2,    228.9,2,   228.5,2,    0.60,2,    0.00,2,    0.00,2,    0.13,2,   2.053,2,   1.231,2,-999.000,1,    1.134,2,  2053.0,6,  2330.2,2,   8.0198,2,    25.00,-999.000,9,-999.0000,9, -999.00,9, -999.00,9,  -999.0,9,  -999.0,-999.000,9,-999.000,  -999.0,9,-999.000,-999.0000, -999.00,  21.1654,  21.1664,2,20091215,       1046
318M20091121,        P06,      87,          2,         35,         35,2,20091215,       0814,   -32.5000,  -173.6700,       5613,    34.7,  18.2917,  35.5384,  35.5382,2,    254.4,2,   254.4,2,    0.18,2,    0.00,2,    0.00,2,    0.13,2,   2.327,6,   1.385,6,-999.000,1,   1.1735,6,  2042.2,2,  2330.2,6,   8.0278,6,    25.00,-999.000,9,-999.0000,9, -999.00,9, -999.00,9,  -999.0,9,  -999.0,-999.000,9,-999.000,  -999.0,9,-999.000,-999.0000, -999.00,  18.2857,  18.2667,3,20091215,       1044
318M20091121,        P06,      87,          2,         34,         34,2,20091215,       0814,   -32.5000,  -173.6700,       5613,    60.4,  16.8916,  35.5063,  35.5068,2,    254.4,2,   253.7,2,    0.36,2,    0.00,2,    0.00,2,    0.15,2,   2.382,2,   1.414,2,-999.000,1,    1.246,2,  -999.0,9,  -999.0,9,-999.0000,9,  -999.00,-999.000,9,-999.0000,9, -999.00,9, -999.00,9,  -999.0,9,  -999.0,-999.000,9,-999.000,  -999.0,9,-999.000,-999.0000, -999.00,  16.8817,  16.8821,2,20091215,       1042
318M20091121,        P06,      87,          2,         33,         33,2,20091215,       0814,   -32.5000,  -173.6700,       5613,    83.7,  16.1804,  35.4933,  35.4943,2,    239.5,2,   239.9,2,    0.74,2,    0.72,2,    0.11,2,    0.22,2,   2.393,2,   1.414,2,-999.000,1,    1.214,2,  2065.4,2,  2329.4,2,   8.0029,2,    25.00,-999.000,9,-999.0000,9, -999.00,9, -999.00,9,  -999.0,9,  -999.0,-999.000,9,-999.000,  -999.0,9,-999.000,-999.0000, -999.00,  16.1670,  16.1773,2,20091215,       1040
318M20091121,        P06,      87,          2,         32,         32,2,20091215,       0814,   -32.5000,  -173.6700,       5613,   115.4,  15.3755,  35.4342,  35.4252,2,    225.0,2,   220.0,2,    1.33,2,    5.05,2,    0.03,2,    0.46,2,   2.428,2,   1.432,2,-999.000,1,    1.188,2,  -999.0,9,  -999.0,9,-999.0000,9,  -999.00,-999.000,9,-999.0000,9, -999.00,9, -999.00,9,  -999.0,9,  -999.0,-999.000,9,-999.000,  -999.0,9,-999.000,-999.0000, -999.00,  15.3577,  15.3784,2,20091215,       1038
318M20091121,        P06,      87,          2,         31,         31,2,20091215,       0814,   -32.5000,  -173.6700,       5613,   164.9,  14.3026,  35.3031,  35.3066,2,    212.2,2,   218.6,2,    1.51,2,    6.30,2,    0.01,2,    0.55,2,   2.539,2,   1.469,2,-999.000,1,    1.232,2,  2096.1,2,  2317.3,2,   7.8966,2,    25.00,-999.000,9,-999.0000,9, -999.00,9, -999.00,9,  -999.0,9,  -999.0,-999.000,9,-999.000,  -999.0,9,-999.000,-999.0000, -999.00,  14.2784,  14.2999,2,20091215,       1035
318M20091121,        P06,      87,          2,         30,         30,2,20091215,       0814,   -32.5000,  -173.6700,       5613,   215.7,  13.2702,  35.1763,  35.1771,2,    208.3,2,   209.5,2,    2.10,2,    9.18,2,    0.01,2,    0.72,2,   2.581,2,   1.493,2,-999.000,1,    1.107,2,  -999.0,9,  -999.0,9,-999.0000,9,  -999.00,-999.000,9,-999.0000,9, -999.00,9, -999.00,9,  -999.0,9,  -999.0,-999.000,9,-999.000,  -999.0,9,-999.000,-999.0000, -999.00,  13.2400,  13.2663,2,20091215,       1033
318M20091121,        P06,      87,          2,         29,         29,2,20091215,       0814,   -32.5000,  -173.6700,       5613,   266.6,  12.4848,  35.0938,  35.0947,2,    211.0,2,   211.1,2,    2.89,2,   11.02,2,    0.01,2,    0.83,2,   2.625,2,   1.476,2,-999.000,1,        1,2,  2116.9,2,  2312.5,2,   7.8308,2,    25.00,-999.000,9,-999.0000,9, -999.00,9, -999.00,9,  -999.0,9,  -999.0,-999.000,9,-999.000,  -999.0,9,-999.000,-999.0000, -999.00,  12.4490,  12.4864,2,20091215,       1030
318M20091121,        P06,      87,          2,         28,         28,2,20091215,       0814,   -32.5000,  -173.6700,       5613,   317.6,  11.3933,  34.9348,  34.9292,2,    206.9,2,   205.9,2,    3.88,2,   14.17,2,    0.00,2,    1.03,2,   2.612,2,   1.443,2,-999.000,1,    0.954,2,  -999.0,9,  -999.0,9,-999.0000,9,  -999.00,-999.000,9,-999.0000,9, -999.00,9, -999.00,9,  -999.0,9,  -999.0,-999.000,9,-999.000,  -999.0,9,-999.000,-999.0000, -999.00,  11.3531,  11.4010,2,20091215,       1028
318M20091121,        P06,      87,          2,         27,         27,2,20091215,       0814,   -32.5000,  -173.6700,       5613,   366.8,  10.6349,  34.8305,  34.8315,2,    208.3,2,   207.5,2,    4.07,2,   15.43,2,    0.00,2,    1.11,2,   2.750,2,   1.509,2,-999.000,1,    0.865,2,  2130.4,2,  -999.0,5,   7.7947,2,    25.00,-999.000,9,-999.0000,9, -999.00,9, -999.00,9,  -999.0,9,  -999.0,-999.000,9,-999.000,  -999.0,9,-999.000,-999.0000, -999.00,  10.5904,  10.6340,2,20091215,       1025
318M20091121,        P06,      87,          2,         26,         26,2,20091215,       0814,   -32.5000,  -173.6700,       5613,   436.3,   9.1811,  34.6293,  34.6293,2,    212.5,2,   213.2,2,    4.86,2,   18.15,2,    0.00,2,    1.28,2,   2.812,2,   1.482,2,-999.000,1,    0.729,2,  -999.0,9,  -999.0,9,-999.0000,9,  -999.00,-999.000,9,-999.0000,9, -999.00,9, -999.00,9,  -999.0,9,  -999.0,-999.000,9,-999.000,  -999.0,9,-999.000,-999.0000, -999.00,   9.1327,   9.1827,2,20091215,       1023
318M20091121,        P06,      87,          2,         25,         25,2,20091215,       0814,   -32.5000,  -173.6700,       5613,   538.2,   7.8358,  34.4751,  34.4753,2,    223.4,2,   225.7,2,    5.65,2,   20.77,2,    0.00,2,    1.46,2,   2.908,2,   1.491,2,-999.000,1,    0.518,2,  2140.1,2,  2285.3,2,   7.7196,2,    25.00,-999.000,9,-999.0000,9, -999.00,9, -999.00,9,  -999.0,9,  -999.0,-999.000,9,-999.000,  -999.0,9,-999.000,-999.0000, -999.00,   7.7812,   7.8252,2,20091215,       1020
318M20091121,        P06,      87,          2,         24,         24,2,20091215,       0814,   -32.5000,  -173.6700,       5613,   639.4,   7.1259,  34.4128,  34.4126,2,    228.2,2,   229.1,2,    7.25,2,   22.55,2,    0.00,2,    1.57,2,   2.622,2,   1.310,2,-999.000,1,     0.44,2,  -999.0,9,  -999.0,9,-999.0000,9,  -999.00,-999.000,9,-999.0000,9, -999.00,9, -999.00,9,  -999.0,9,  -999.0,-999.000,9,-999.000,  -999.0,9,-999.000,-999.0000, -999.00,   7.0641,   7.1292,2,20091215,       1017
318M20091121,        P06,      87,          2,         23,         23,2,20091215,       0814,   -32.5000,  -173.6700,       5613,   738.5,   6.6487,  34.3806,  34.4134,3,    227.8,2,   227.2,2,    9.67,2,   23.96,2,    0.00,2,    1.66,2,   2.144,2,   1.057,2,-999.000,1,     0.14,2,  2147.5,2,  2286.1,2,   7.7003,2,    25.00,-999.000,9,-999.0000,9, -999.00,9, -999.00,9,  -999.0,9,  -999.0,-999.000,9,-999.000,  -999.0,9,-999.000,-999.0000, -999.00,   6.5795,   6.6473,2,20091215,       1014
318M20091121,        P06,      87,          2,         22,         22,2,20091215,       0814,   -32.5000,  -173.6700,       5613,   840.7,   6.0449,  34.3523,  34.3525,2,    221.0,2,   219.9,2,   13.72,2,   25.89,2,    0.00,2,    1.80,2,   1.437,2,   0.704,2,-999.000,1,     0.08,2,  2156.9,2,  2286.2,2,   7.7064,2,    25.00,-999.000,9,-999.0000,9, -999.00,9, -999.00,9,  -999.0,9,  -999.0,-999.000,9,-999.000,  -999.0,9,-999.000,-999.0000, -999.00,   5.9694,   6.0496,2,20091215,       1010
318M20091121,        P06,      87,          2,         21,         21,2,20091215,       0814,   -32.5000,  -173.6700,       5613,   941.9,   5.5196,  34.3421,  34.3415,2,    211.8,2,   211.0,2,   19.00,2,   27.68,2,    0.00,2,    1.94,2,   0.915,2,   0.459,2,-999.000,1,        0,2,  2168.7,6,  2290.0,6,   7.6526,2,    25.00,-999.000,9,-999.0000,9, -999.00,9, -999.00,9,  -999.0,9,  -999.0,-999.000,9,-999.000,  -999.0,9,-999.000,-999.0000, -999.00,   5.4380,   5.5187,2,20091215,       1007
318M20091121,        P06,      87,          2,         20,         20,2,20091215,       0814,   -32.5000,  -173.6700,       5613,  1043.6,   4.8600,  34.3457,  34.3452,2,    200.2,2,   200.0,2,   27.56,2,   29.81,2,    0.00,2,    2.08,2,   0.541,2,   0.276,2,-999.000,1,        0,2,  -999.0,9,  -999.0,9,-999.0000,9,  -999.00,-999.000,9,-999.0000,9, -999.00,9, -999.00,9,  -999.0,9,  -999.0,-999.000,9,-999.000,  -999.0,9,-999.000,-999.0000, -999.00,   4.7741,   4.8621,2,20091215,       1004
318M20091121,        P06,      87,          2,         19,         19,2,20091215,       0814,   -32.5000,  -173.6700,       5613,  1143.5,   4.2100,  34.3698,  34.3682,2,    191.4,2,   190.5,2,   37.82,2,   31.47,2,    0.00,2,    2.21,2,   0.343,2,   0.176,2,-999.000,1,        0,2,  2203.0,2,  2306.0,2,   7.5932,2,    25.00,-999.000,9,-999.0000,9, -999.00,9, -999.00,9,  -999.0,9,  -999.0,-999.000,9,-999.000,  -999.0,9,-999.000,-999.0000, -999.00,   4.1207,   4.2147,2,20091215,       1001
318M20091121,        P06,      87,          2,         18,         18,2,20091215,       0814,   -32.5000,  -173.6700,       5613,  1244.5,   3.7038,  34.4066,  34.4064,2,    182.8,2,   181.7,2,   48.94,2,   32.65,2,    0.00,2,    2.30,2,   0.168,2,   0.091,2,-999.000,1,        0,2,  -999.0,9,  -999.0,9,-999.0000,9,  -999.00,-999.000,9,-999.0000,9, -999.00,9, -999.00,9,  -999.0,9,  -999.0,-999.000,9,-999.000,  -999.0,9,-999.000,-999.0000, -999.00,   3.6104,   3.7079,2,20091215,       0958
318M20091121,        P06,      87,          2,         17,         17,2,20091215,       0814,   -32.5000,  -173.6700,       5613,  1346.6,   3.3060,  34.4535,  34.4514,2,    174.2,2,   174.2,2,   59.70,2,   33.41,2,    0.00,2,    2.37,2,   0.091,2,   0.050,2,-999.000,1,        0,2,  2233.5,2,  2342.9,3,   7.5614,2,    25.00,-999.000,9,-999.0000,9, -999.00,9, -999.00,9,  -999.0,9,  -999.0,-999.000,9,-999.000,  -999.0,9,-999.000,-999.0000, -999.00,   3.2079,   3.3075,2,20091215,       0954
318M20091121,        P06,      87,          2,         16,         16,2,20091215,       0814,   -32.5000,  -173.6700,       5613,  1479.9,   2.9707,  34.5097,  34.5153,3,    165.8,2,   166.3,2,   72.80,2,   33.99,2,    0.00,2,    2.40,2,   0.046,2,   0.026,2,-999.000,1,        0,2,  -999.0,9,  -999.0,9,-999.0000,9,  -999.00,-999.000,9,-999.0000,9, -999.00,9, -999.00,9,  -999.0,9,  -999.0,-999.000,9,-999.000,  -999.0,9,-999.000,-999.0000, -999.00,   2.8650,   2.9691,2,20091215,       0950
318M20091121,        P06,      87,          2,         15,         15,2,20091215,       0814,   -32.5000,  -173.6700,       5613,  1680.2,   2.6494,  34.5747,  34.5737,2,    157.2,2,   157.7,2,   90.98,2,   34.52,2,    0.00,2,    2.45,2,   0.023,2,   0.012,2,-999.000,1,        0,2,  2273.0,2,  2363.6,2,   7.5921,4,    25.00,-999.000,9,-999.0000,9, -999.00,9, -999.00,9,  -999.0,9,  -999.0,-999.000,9,-999.000,  -999.0,9,-999.000,-999.0000, -999.00,   2.5308,   2.6519,2,20091215,       0946
318M20091121,        P06,      87,          2,         14,         14,2,20091215,       0814,   -32.5000,  -173.6700,       5613,  1882.9,   2.4373,  34.6088,  34.6085,2,    152.1,2,   152.7,2,  103.98,2,   34.85,2,    0.00,2,    2.48,2,   0.020,2,   0.011,2,-999.000,1,        0,2,  -999.0,9,  -999.0,9,-999.0000,9,  -999.00,-999.000,9,-999.0000,9, -999.00,9, -999.00,9,  -999.0,9,  -999.0,-999.000,9,-999.000,  -999.0,9,-999.000,-999.0000, -999.00,   2.3044,   2.4361,2,20091215,       0941
318M20091121,        P06,      87,          2,         13,         13,2,20091215,       0814,   -32.5000,  -173.6700,       5613,  2107.6,   2.2631,  34.6288,  34.6286,2,    150.5,2,   150.5,2,  112.40,2,   35.09,2,    0.00,2,    2.50,2,   0.029,2,   0.019,2,-999.000,1,        0,2,  2298.8,2,  2389.9,2,   7.5570,2,    25.00,-999.000,9,-999.0000,9, -999.00,9, -999.00,9,  -999.0,9,  -999.0,-999.000,9,-999.000,  -999.0,9,-999.000,-999.0000, -999.00,   2.1133,   2.2624,2,20091215,       0935
318M20091121,        P06,      87,          2,         12,         12,2,20091215,       0814,   -32.5000,  -173.6700,       5613,  2361.5,   2.1178,  34.6419,  34.6416,2,    148.7,2,   148.1,2,  118.92,2,   35.33,2,    0.00,2,    2.52,2,   0.019,2,   0.011,2,-999.000,1,        0,2,  -999.0,9,  -999.0,9,-999.0000,9,  -999.00,-999.000,9,-999.0000,9, -999.00,9, -999.00,9,  -999.0,9,  -999.0,-999.000,9,-999.000,  -999.0,9,-999.000,-999.0000, -999.00,   1.9479,   2.1176,2,20091215,       0930
318M20091121,        P06,      87,          2,         11,         11,2,20091215,       0814,   -32.5000,  -173.6700,       5613,  2615.6,   1.9932,  34.6535,  34.6532,2,    148.8,2,   148.5,2,  123.76,2,   35.32,2,    0.00,2,    2.52,2,   0.022,2,   0.013,2,-999.000,1,        0,2,  2311.2,2,  2401.8,2,   7.5785,2,    25.00,-999.000,9,-999.0000,9, -999.00,9, -999.00,9,  -999.0,9,  -999.0,-999.000,9,-999.000,  -999.0,9,-999.000,-999.0000, -999.00,   1.8024,   1.9933,2,20091215,       0924
318M20091121,        P06,      87,          2,         10,         10,2,20091215,       0814,   -32.5000,  -173.6700,       5613,  2871.0,   1.8819,  34.6663,  34.6662,2,    152.3,2,   152.2,2,  125.43,2,   35.03,2,    0.00,2,    2.50,2,   0.019,2,   0.011,2,-999.000,1,        0,2,  -999.0,9,  -999.0,9,-999.0000,9,  -999.00,-999.000,9,-999.0000,9, -999.00,9, -999.00,9,  -999.0,9,  -999.0,-999.000,9,-999.000,  -999.0,9,-999.000,-999.0000, -999.00,   1.6692,   1.8821,2,20091215,       0918
318M20091121,        P06,      87,          2,          9,          9,2,20091215,       0814,   -32.5000,  -173.6700,       5613,  3140.9,   1.7595,  34.6905,  34.6902,2,    164.5,2,   167.2,2,  118.24,2,   33.64,2,    0.00,2,    2.39,2,   0.018,2,   0.009,2,-999.000,1,        0,2,  2291.0,2,  2389.4,2,   7.5809,4,    25.00,-999.000,9,-999.0000,9, -999.00,9, -999.00,9,  -999.0,9,  -999.0,-999.000,9,-999.000,  -999.0,9,-999.000,-999.0000, -999.00,   1.5231,   1.7598,2,20091215,       0912
318M20091121,        P06,      87,          2,          8,          8,2,20091215,       0814,   -32.5000,  -173.6700,       5613,  3446.8,   1.6243,  34.7150,  34.7154,2,    186.3,2,   186.9,2,  108.31,2,   31.96,2,    0.00,2,    2.27,2,   0.031,2,   0.017,2,-999.000,1,        0,2,  -999.0,9,  -999.0,9,-999.0000,9,  -999.00,-999.000,9,-999.0000,9, -999.00,9, -999.00,9,  -999.0,9,  -999.0,-999.000,9,-999.000,  -999.0,9,-999.000,-999.0000, -999.00,   1.3602,   1.6243,2,20091215,       0905
318M20091121,        P06,      87,          2,          7,          7,2,20091215,       0814,   -32.5000,  -173.6700,       5613,  3753.8,   1.3962,  34.7222,  34.7223,2,    198.2,2,   198.4,2,  108.93,2,   31.39,2,    0.00,2,    2.21,2,   0.047,2,   0.025,2,-999.000,1,        0,2,  2259.4,2,  2370.0,2,   7.6094,2,    25.00,-999.000,9,-999.0000,9, -999.00,9, -999.00,9,  -999.0,9,  -999.0,-999.000,9,-999.000,  -999.0,9,-999.000,-999.0000, -999.00,   1.1062,   1.3961,2,20091215,       0858
318M20091121,        P06,      87,          2,          6,          6,2,20091215,       0814,   -32.5000,  -173.6700,       5613,  4064.0,   1.1829,  34.7173,  34.7175,2,    203.4,2,   203.3,2,  114.19,2,   31.48,2,    0.00,2,    2.22,2,   0.070,2,   0.039,2,-999.000,1,        0,2,  -999.0,9,  -999.0,9,-999.0000,9,  -999.00,-999.000,9,-999.0000,9, -999.00,9, -999.00,9,  -999.0,9,  -999.0,-999.000,9,-999.000,  -999.0,9,-999.000,-999.0000, -999.00,   0.8658,   1.1838,2,20091215,       0852
318M20091121,        P06,      87,          2,          5,          5,2,20091215,       0814,   -32.5000,  -173.6700,       5613,  4368.9,   1.0740,  34.7126,  34.7124,2,    205.7,2,   205.7,2,  117.97,2,   31.63,2,    0.00,2,    2.23,2,   0.076,2,   0.042,2,-999.000,1,        0,2,  -999.0,9,  -999.0,9,-999.0000,9,  -999.00,-999.000,9,-999.0000,9, -999.00,9, -999.00,9,  -999.0,9,  -999.0,-999.000,9,-999.000,  -999.0,9,-999.000,-999.0000, -999.00,   0.7267,   1.0743,2,20091215,       0845
318M20091121,        P06,      87,          2,          4,          4,2,20091215,       0814,   -32.5000,  -173.6700,       5613,  4675.6,   1.0393,  34.7101,  34.7107,2,    206.9,2,   206.8,2,  120.08,2,   31.68,2,    0.00,2,    2.24,2,   0.079,2,   0.044,2,-999.000,1,        0,2,  2261.6,2,  2367.1,2,   7.6093,4,    25.00,-999.000,9,-999.0000,9, -999.00,9, -999.00,9,  -999.0,9,  -999.0,-999.000,9,-999.000,  -999.0,9,-999.000,-999.0000, -999.00,   0.6584,   1.0390,2,20091215,       0838
318M20091121,        P06,      87,          2,          3,          3,2,20091215,       0814,   -32.5000,  -173.6700,       5613,  4924.4,   1.0350,  34.7088,  34.7079,2,    207.4,2,   206.8,2,  120.91,2,   31.72,2,    0.00,2,    2.24,2,   0.083,2,   0.047,2,-999.000,1,        0,2,  -999.0,9,  -999.0,9,-999.0000,9,  -999.00,-999.000,9,-999.0000,9, -999.00,9, -999.00,9,  -999.0,9,  -999.0,-999.000,9,-999.000,  -999.0,9,-999.000,-999.0000, -999.00,   0.6253,   1.0351,2,20091215,       0832
318M20091121,        P06,      87,          2,          2,          2,2,20091215,       0814,   -32.5000,  -173.6700,       5613,  5339.2,   1.0645,  34.7081,  34.7069,2,    206.7,2,   207.0,2,  121.74,2,   31.81,2,    0.00,2,    2.24,2,   0.085,2,   0.046,2,-999.000,1,        0,2,  -999.0,9,  -999.0,9,-999.0000,9,  -999.00,-999.000,9,-999.0000,9, -999.00,9, -999.00,9,  -999.0,9,  -999.0,-999.000,9,-999.000,  -999.0,9,-999.000,-999.0000, -999.00,   0.6036,   1.0647,2,20091215,       0824
318M20091121,        P06,      87,          2,          1,          1,2,20091215,       0814,   -32.5000,  -173.6700,       5613,  5735.3,   1.1163,  34.7078,  34.7075,2,    207.0,2,   206.6,2,  121.94,2,   31.82,2,    0.00,2,    2.24,2,   0.086,2,   0.046,2,-999.000,1,        0,2,  2262.9,6,  2370.2,6,   7.5953,6,    25.00,-999.000,9,-999.0000,9, -999.00,9, -999.00,9,  -999.0,9,  -999.0,-999.000,9,-999.000,  -999.0,9,-999.000,-999.0000, -999.00,   0.6036,   1.1164,2,20091215,       0814