BOTTLE,20220818CCHSIOAMB
EXPOCODE,SECT_ID,STNNBR,CASTNO,SAMPNO,BTLNBR,BTLNBR_FLAG_W,DATE,TIME,LATITUDE,LONGITUDE,DEPTH,CTDPRS,CTDTMP,CTDSAL,SALNTY,SALNTY_FLAG_W,CTDOXY,CTDOXY_FLAG_W,OXYGEN,OXYGEN_FLAG_W,SILCAT,SILCAT_FLAG_W,NITRAT,NITRAT_FLAG_W,NITRIT,NITRIT_FLAG_W,PHSPHT,PHSPHT_FLAG_W,CFC-11,CFC-11_FLAG_W,CFC-12,CFC-12_FLAG_W,CFC113,CFC113_FLAG_W,SF6,SF6_FLAG_W,TCARBN,TCARBN_FLAG_W,ALKALI,ALKALI_FLAG_W,PH_SWS,PH_SWS_FLAG_W,PH_TMP,TRITUM,TRITUM_FLAG_W,HELIUM,HELIUM_FLAG_W,DELHE3,DELHE3_FLAG_W,DELC13,DELC13_FLAG_W,DELC14,DELC14_FLAG_W,C14ERR,NEON,NEON_FLAG_W,NEONER,DOC,DOC_FLAG_W,TRITER,HELIER,DELHER,THETA,SBE35,SBE35_FLAG_W,BTL_DATE,BTL_TIME
,,,,,,,,,,,METERS,DBAR,ITS-90,PSS-78,PSS-78,,UMOL/KG,,UMOL/KG,,UMOL/KG,,UMOL/KG,,UMOL/KG,,UMOL/KG,,PMOL/KG,,PMOL/KG,,PMOL/KG,,FMOL/KG,,UMOL/KG,,UMOL/KG,,,,DEG C,TU,,NMOL/KG,,PERCNT,,/MILLE,,/MILLE,,/MILLE,NMOL/KG,,NMOL/KG,UMOL/KG,,TU,NMOL/KG,PERCNT,DEG C,ITS-90,,,
318M20091121,        P06,     115,          2,         36,         36,2,20091226,       0323,   -32.4999,  -154.2532,       4981,     3.5,  21.6875,  35.4546,  35.4549,2,    222.2,2,   221.8,2,    0.58,2,    0.00,2,    0.00,2,    0.08,2,   1.927,2,   1.307,2,-999.000,1,    1.322,2,  2039.8,6,  2325.9,6,   8.0134,6,    25.00,-999.000,9,-999.0000,9, -999.00,9, -999.00,9,  -999.0,9,  -999.0,-999.000,9,-999.000,  -999.0,9,-999.000,-999.0000, -999.00,  21.6868,  21.6883,2,20091226,       0547
318M20091121,        P06,     115,          2,         35,         35,2,20091226,       0323,   -32.4999,  -154.2532,       4981,    19.9,  21.2536,  35.4360,  35.4370,2,    222.5,2,   224.8,2,    0.34,2,    0.00,2,    0.00,2,    0.07,2,   1.990,2,   1.348,2,-999.000,1,    1.362,2,  -999.0,9,  -999.0,9,-999.0000,9,  -999.00,-999.000,9,-999.0000,9, -999.00,9, -999.00,9,  -999.0,9,  -999.0,-999.000,9,-999.000,  -999.0,9,-999.000,-999.0000, -999.00,  21.2498,  21.2423,2,20091226,       0545
318M20091121,        P06,     115,          2,         34,         34,2,20091226,       0323,   -32.4999,  -154.2532,       4981,    44.6,  19.3028,  35.4127,  35.4123,2,    237.0,2,   237.8,2,    0.29,2,    0.00,2,    0.00,2,    0.08,2,   2.190,2,   1.464,2,-999.000,1,    1.343,2,  2038.1,2,  2319.8,2,   8.0173,2,    25.00,-999.000,9,-999.0000,9, -999.00,9, -999.00,9,  -999.0,9,  -999.0,-999.000,9,-999.000,  -999.0,9,-999.000,-999.0000, -999.00,  19.2948,  19.3148,2,20091226,       0542
318M20091121,        P06,     115,          2,         33,         33,2,20091226,       0323,   -32.4999,  -154.2532,       4981,    64.1,  18.6905,  35.4291,  35.4287,2,    240.6,2,   240.2,2,    0.46,2,    0.00,2,    0.00,2,    0.08,2,   2.221,2,   1.470,2,-999.000,1,    1.318,2,  -999.0,9,  -999.0,9,-999.0000,9,  -999.00,-999.000,9,-999.0000,9, -999.00,9, -999.00,9,  -999.0,9,  -999.0,-999.000,9,-999.000,  -999.0,9,-999.000,-999.0000, -999.00,  18.6792,  18.6921,2,20091226,       0540
318M20091121,        P06,     115,          2,         32,         32,2,20091226,       0323,   -32.4999,  -154.2532,       4981,    90.6,  17.7127,  35.4231,  35.4216,2,    236.7,2,   237.6,2,    0.42,2,    0.00,2,    0.00,2,    0.10,2,   2.262,2,   1.495,2,-999.000,1,    1.297,2,  2045.9,2,  2321.9,2,   8.0051,2,    25.00,-999.000,9,-999.0000,9, -999.00,9, -999.00,9,  -999.0,9,  -999.0,-999.000,9,-999.000,  -999.0,9,-999.000,-999.0000, -999.00,  17.6973,  17.6897,2,20091226,       0537
318M20091121,        P06,     115,          2,         31,         31,2,20091226,       0323,   -32.4999,  -154.2532,       4981,   136.0,  17.0474,  35.4074,  35.4079,2,    234.0,2,   231.8,2,    0.38,2,   -0.04,2,    0.02,2,    0.13,2,   2.315,2,   1.543,2,-999.000,1,    1.215,2,  -999.0,9,  -999.0,9,-999.0000,9,  -999.00,-999.000,9,-999.0000,9, -999.00,9, -999.00,9,  -999.0,9,  -999.0,-999.000,9,-999.000,  -999.0,9,-999.000,-999.0000, -999.00,  17.0249,  17.0371,2,20091226,       0534
318M20091121,        P06,     115,          2,         30,         30,2,20091226,       0323,   -32.4999,  -154.2532,       4981,   185.1,  16.1785,  35.3201,  35.3199,2,    226.3,2,   226.9,2,    0.55,2,    1.11,2,    0.17,2,    0.22,2,   2.402,2,   1.578,2,-999.000,1,    1.315,2,  2067.1,2,  2319.2,2,   7.9624,2,    25.00,-999.000,9,-999.0000,9, -999.00,9, -999.00,9,  -999.0,9,  -999.0,-999.000,9,-999.000,  -999.0,9,-999.000,-999.0000, -999.00,  16.1489,  16.2006,2,20091226,       0532
318M20091121,        P06,     115,          2,         29,         29,2,20091226,       0323,   -32.4999,  -154.2532,       4981,   235.8,  15.5829,  35.2772,  35.2757,2,    212.7,2,   213.1,2,    0.91,2,    3.52,2,    0.01,2,    0.38,2,   2.436,6,   1.581,6,-999.000,1,    1.173,6,  -999.0,9,  -999.0,9,-999.0000,9,  -999.00,-999.000,9,-999.0000,9, -999.00,9, -999.00,9,  -999.0,9,  -999.0,-999.000,9,-999.000,  -999.0,9,-999.000,-999.0000, -999.00,  15.5461,  15.5893,2,20091226,       0529
318M20091121,        P06,     115,          2,         28,         28,2,20091226,       0323,   -32.4999,  -154.2532,       4981,   287.1,  14.2535,  35.1690,  35.1672,2,    201.2,2,   200.4,2,    1.69,2,    7.32,2,    0.00,2,    0.63,2,   2.535,2,   1.596,2,-999.000,1,    1.003,2,  2099.6,2,  2312.3,2,   7.8744,2,    25.00,-999.000,9,-999.0000,9, -999.00,9, -999.00,9,  -999.0,9,  -999.0,-999.000,9,-999.000,  -999.0,9,-999.000,-999.0000, -999.00,  14.2113,  14.2580,2,20091226,       0526
318M20091121,        P06,     115,          2,         27,         27,2,20091226,       0323,   -32.4999,  -154.2532,       4981,   337.0,  12.7697,  34.9731,  34.9807,2,    201.8,2,   201.0,2,    2.26,2,   10.16,2,    0.00,2,    0.81,2,   2.653,2,   1.635,2,-999.000,1,    0.875,2,  -999.0,9,  -999.0,9,-999.0000,9,  -999.00,-999.000,9,-999.0000,9, -999.00,9, -999.00,9,  -999.0,9,  -999.0,-999.000,9,-999.000,  -999.0,9,-999.000,-999.0000, -999.00,  12.7237,  12.8050,3,20091226,       0524
318M20091121,        P06,     115,          2,         26,         26,2,20091226,       0323,   -32.4999,  -154.2532,       4981,   389.0,  10.9306,  34.7776,  34.7760,2,    206.8,2,   207.0,2,    3.25,2,   13.83,2,    0.00,2,    1.04,2,   2.795,2,   1.646,2,-999.000,1,    0.758,2,  2121.4,2,  2295.7,2,   7.7979,2,    25.00,-999.000,9,-999.0000,9, -999.00,9, -999.00,9,  -999.0,9,  -999.0,-999.000,9,-999.000,  -999.0,9,-999.000,-999.0000, -999.00,  10.8825,  10.9304,2,20091226,       0522
318M20091121,        P06,     115,          2,         25,         25,2,20091226,       0323,   -32.4999,  -154.2532,       4981,   438.0,   9.9284,  34.6660,  34.6674,2,    213.3,2,   212.6,2,    3.81,2,   15.68,2,    0.00,2,    1.15,2,   2.877,2,   1.671,2,-999.000,1,      0.8,2,  -999.0,9,  2285.8,2,   7.7763,2,    25.00,-999.000,9,-999.0000,9, -999.00,9, -999.00,9,  -999.0,9,  -999.0,-999.000,9,-999.000,  -999.0,9,-999.000,-999.0000, -999.00,   9.8774,   9.9235,2,20091226,       0519
318M20091121,        P06,     115,          2,         24,         24,2,20091226,       0323,   -32.4999,  -154.2532,       4981,   488.0,   8.6531,  34.5283,  34.5291,2,    226.0,2,   224.7,2,    4.19,2,   17.86,2,    0.00,2,    1.29,2,   3.144,2,   1.829,2,-999.000,1,    0.853,2,  2131.0,2,  2282.4,2,   7.7536,2,    25.00,-999.000,9,-999.0000,9, -999.00,9, -999.00,9,  -999.0,9,  -999.0,-999.000,9,-999.000,  -999.0,9,-999.000,-999.0000, -999.00,   8.6008,   8.6384,2,20091226,       0517
318M20091121,        P06,     115,          2,         23,         23,2,20091226,       0323,   -32.4999,  -154.2532,       4981,   569.5,   7.5974,  34.4326,  34.4328,2,    237.9,2,   238.5,2,    5.37,2,   19.98,2,    0.00,2,    1.41,2,   3.331,2,   1.890,2,-999.000,1,    0.799,2,  2134.2,2,  2281.6,2,   7.7447,2,    25.00,-999.000,9,-999.0000,9, -999.00,9, -999.00,9,  -999.0,9,  -999.0,-999.000,9,-999.000,  -999.0,9,-999.000,-999.0000, -999.00,   7.5406,   7.5973,2,20091226,       0514
318M20091121,        P06,     115,          2,         22,         22,2,20091226,       0323,   -32.4999,  -154.2532,       4981,   669.5,   6.9433,  34.3794,  34.3799,2,    241.5,2,   242.3,2,    6.76,2,   21.73,2,    0.00,2,    1.53,2,   3.079,2,   1.728,2,-999.000,1,    0.653,2,  2137.2,2,  2283.5,2,   7.7366,2,    25.00,-999.000,9,-999.0000,9, -999.00,9, -999.00,9,  -999.0,9,  -999.0,-999.000,9,-999.000,  -999.0,9,-999.000,-999.0000, -999.00,   6.8794,   6.9416,2,20091226,       0511
318M20091121,        P06,     115,          2,         21,         21,2,20091226,       0323,   -32.4999,  -154.2532,       4981,   770.9,   6.3379,  34.3395,  34.3394,2,    238.9,2,   237.3,2,    9.38,2,   23.69,2,    0.00,2,    1.65,2,   2.319,2,   1.266,2,-999.000,1,    0.345,2,  2150.3,2,  2284.9,2,   7.7208,2,    25.00,-999.000,9,-999.0000,9, -999.00,9, -999.00,9,  -999.0,9,  -999.0,-999.000,9,-999.000,  -999.0,9,-999.000,-999.0000, -999.00,   6.2673,   6.3374,2,20091226,       0508
318M20091121,        P06,     115,          2,         20,         20,2,20091226,       0323,   -32.4999,  -154.2532,       4981,   871.6,   5.8460,  34.3177,  34.3176,2,    229.7,2,   229.7,2,   12.81,2,   25.45,2,    0.00,2,    1.77,2,   1.649,2,   0.886,2,-999.000,1,    0.148,2,  2157.3,6,  2286.4,6,   7.7033,2,    25.00,-999.000,9,-999.0000,9, -999.00,9, -999.00,9,  -999.0,9,  -999.0,-999.000,9,-999.000,  -999.0,9,-999.000,-999.0000, -999.00,   5.7688,   5.8461,2,20091226,       0504
318M20091121,        P06,     115,          2,         19,         19,2,20091226,       0323,   -32.4999,  -154.2532,       4981,   973.9,   5.3060,  34.3104,  34.3109,2,    219.4,2,   218.4,2,   18.30,2,   27.63,2,    0.00,2,    1.92,2,   1.116,2,   0.582,2,-999.000,1,    0.036,2,  2170.4,2,  2288.6,2,   7.6788,2,    25.00,-999.000,9,-999.0000,9, -999.00,9, -999.00,9,  -999.0,9,  -999.0,-999.000,9,-999.000,  -999.0,9,-999.000,-999.0000, -999.00,   5.2231,   5.3104,2,20091226,       0501
318M20091121,        P06,     115,          2,         18,         18,2,20091226,       0323,   -32.4999,  -154.2532,       4981,  1073.3,   4.6277,  34.3232,  34.3235,2,    205.6,2,   203.7,2,   27.89,2,   30.12,2,    0.00,2,    2.08,2,   0.650,2,   0.337,2,-999.000,1,        0,2,  -999.0,9,  -999.0,9,-999.0000,9,  -999.00,-999.000,9,-999.0000,9, -999.00,9, -999.00,9,  -999.0,9,  -999.0,-999.000,9,-999.000,  -999.0,9,-999.000,-999.0000, -999.00,   4.5411,   4.6283,2,20091226,       0458
318M20091121,        P06,     115,          2,         17,         17,2,20091226,       0323,   -32.4999,  -154.2532,       4981,  1175.4,   4.1524,  34.3474,  34.3479,2,    194.4,2,   193.7,2,   36.27,2,   31.56,2,    0.00,2,    2.19,2,   0.402,2,   0.212,2,-999.000,1,        0,2,  2204.2,2,  2305.6,2,   7.6218,2,    25.00,-999.000,9,-999.0000,9, -999.00,9, -999.00,9,  -999.0,9,  -999.0,-999.000,9,-999.000,  -999.0,9,-999.000,-999.0000, -999.00,   4.0608,   4.1537,2,20091226,       0455
318M20091121,        P06,     115,          2,         16,         16,2,20091226,       0323,   -32.4999,  -154.2532,       4981,  1275.8,   3.6756,  34.3845,  34.3846,2,    184.6,2,   184.6,2,   46.31,2,   32.83,2,    0.00,2,    2.28,2,   0.239,2,   0.131,2,-999.000,1,        0,2,  -999.0,9,  -999.0,9,-999.0000,9,  -999.00,-999.000,9,-999.0000,9, -999.00,9, -999.00,9,  -999.0,9,  -999.0,-999.000,9,-999.000,  -999.0,9,-999.000,-999.0000, -999.00,   3.5798,   3.6792,2,20091226,       0451
318M20091121,        P06,     115,          2,         15,         15,2,20091226,       0323,   -32.4999,  -154.2532,       4981,  1377.8,   3.2834,  34.4307,  34.4300,2,    176.0,2,   177.1,2,   56.14,2,   33.72,2,    0.00,2,    2.34,2,   0.136,2,   0.078,2,-999.000,1,        0,2,  2234.8,2,  2321.8,2,   7.5915,2,    25.00,-999.000,9,-999.0000,9, -999.00,9, -999.00,9,  -999.0,9,  -999.0,-999.000,9,-999.000,  -999.0,9,-999.000,-999.0000, -999.00,   3.1830,   3.2762,2,20091226,       0448
318M20091121,        P06,     115,          2,         14,         14,2,20091226,       0323,   -32.4999,  -154.2532,       4981,  1478.0,   2.9625,  34.4857,  34.4849,2,    169.5,2,   170.7,2,   67.46,2,   34.23,2,    0.00,2,    2.39,2,   0.062,2,   0.035,2,-999.000,1,        0,2,  -999.0,9,  -999.0,9,-999.0000,9,  -999.00,-999.000,9,-999.0000,9, -999.00,9, -999.00,9,  -999.0,9,  -999.0,-999.000,9,-999.000,  -999.0,9,-999.000,-999.0000, -999.00,   2.8571,   2.9652,2,20091226,       0445
318M20091121,        P06,     115,          2,         13,         13,2,20091226,       0323,   -32.4999,  -154.2532,       4981,  1580.1,   2.7346,  34.5357,  34.5354,2,    164.2,2,   163.3,2,   78.79,2,   34.48,2,    0.00,2,    2.42,2,   0.031,2,   0.021,2,-999.000,1,        0,2,  2264.9,2,  2348.8,2,   7.5763,2,    25.00,-999.000,9,-999.0000,9, -999.00,9, -999.00,9,  -999.0,9,  -999.0,-999.000,9,-999.000,  -999.0,9,-999.000,-999.0000, -999.00,   2.6233,   2.7328,2,20091226,       0442
318M20091121,        P06,     115,          2,         12,         12,2,20091226,       0323,   -32.4999,  -154.2532,       4981,  1752.5,   2.4853,  34.5913,  34.5912,2,    157.1,2,   156.6,2,   94.30,2,   34.83,2,    0.00,2,    2.44,2,   0.024,2,   0.019,2,-999.000,1,        0,2,  -999.0,9,  -999.0,9,-999.0000,9,  -999.00,-999.000,9,-999.0000,9, -999.00,9, -999.00,9,  -999.0,9,  -999.0,-999.000,9,-999.000,  -999.0,9,-999.000,-999.0000, -999.00,   2.3627,   2.4856,2,20091226,       0437
318M20091121,        P06,     115,          2,         11,         11,2,20091226,       0323,   -32.4999,  -154.2532,       4981,  1953.3,   2.2997,  34.6211,  34.6208,2,    152.2,2,   152.5,2,  105.50,2,   35.19,2,    0.00,2,    2.46,2,   0.015,2,   0.010,2,-999.000,1,        0,2,  2295.7,2,  2384.5,2,   7.5767,2,    25.00,-999.000,9,-999.0000,9, -999.00,9, -999.00,9,  -999.0,9,  -999.0,-999.000,9,-999.000,  -999.0,9,-999.000,-999.0000, -999.00,   2.1627,   2.2995,2,20091226,       0432
318M20091121,        P06,     115,          2,         10,         10,2,20091226,       0323,   -32.4999,  -154.2532,       4981,  2187.5,   2.1151,  34.6405,  34.6406,2,    149.7,2,   149.6,2,  115.46,2,   35.49,2,    0.00,2,    2.49,2,   0.016,2,   0.012,2,-999.000,1,        0,2,  -999.0,9,  -999.0,9,-999.0000,9,  -999.00,-999.000,9,-999.0000,9, -999.00,9, -999.00,9,  -999.0,9,  -999.0,-999.000,9,-999.000,  -999.0,9,-999.000,-999.0000, -999.00,   1.9607,   2.1148,2,20091226,       0427
318M20091121,        P06,     115,          2,          9,          9,2,20091226,       0323,   -32.4999,  -154.2532,       4981,  2441.6,   1.9714,  34.6527,  34.6528,2,    147.9,2,   148.4,2,  122.74,2,   35.69,2,    0.00,2,    2.50,2,   0.008,2,   0.007,2,-999.000,1,        0,2,  2312.9,2,  2404.3,2,   7.5768,2,    25.00,-999.000,9,-999.0000,9, -999.00,9, -999.00,9,  -999.0,9,  -999.0,-999.000,9,-999.000,  -999.0,9,-999.000,-999.0000, -999.00,   1.7969,   1.9712,2,20091226,       0420
318M20091121,        P06,     115,          2,          8,          8,2,20091226,       0323,   -32.4999,  -154.2532,       4981,  2695.4,   1.8775,  34.6608,  34.6609,2,    149.1,2,   149.2,2,  126.24,2,   35.64,2,    0.00,2,    2.50,2,   0.007,2,   0.007,2,-999.000,1,        0,2,  -999.0,9,  -999.0,9,-999.0000,9,  -999.00,-999.000,9,-999.0000,9, -999.00,9, -999.00,9,  -999.0,9,  -999.0,-999.000,9,-999.000,  -999.0,9,-999.000,-999.0000, -999.00,   1.6815,   1.8773,2,20091226,       0414
318M20091121,        P06,     115,          2,          7,          7,2,20091226,       0323,   -32.4999,  -154.2532,       4981,  2954.0,   1.7932,  34.6687,  34.6688,2,    151.4,2,   151.4,2,  128.10,2,   35.48,2,    0.00,2,    2.49,2,   0.008,2,   0.006,2,-999.000,1,        0,2,  2316.6,2,  2408.4,2,   7.5799,2,    25.00,-999.000,9,-999.0000,9, -999.00,9, -999.00,9,  -999.0,9,  -999.0,-999.000,9,-999.000,  -999.0,9,-999.000,-999.0000, -999.00,   1.5744,   1.7932,2,20091226,       0407
318M20091121,        P06,     115,          2,          6,          6,2,20091226,       0323,   -32.4999,  -154.2532,       4981,  3243.4,   1.6936,  34.6796,  34.6796,2,    158.9,2,   158.8,2,  127.21,2,   34.92,2,    0.00,2,    2.45,2,   0.006,2,   0.005,2,-999.000,1,        0,2,  -999.0,9,  -999.0,9,-999.0000,9,  -999.00,-999.000,9,-999.0000,9, -999.00,9, -999.00,9,  -999.0,9,  -999.0,-999.000,9,-999.000,  -999.0,9,-999.000,-999.0000, -999.00,   1.4486,   1.6934,2,20091226,       0401
318M20091121,        P06,     115,          2,          5,         37,2,20091226,       0323,   -32.4999,  -154.2532,       4981,  3549.9,   1.5705,  34.6930,  34.6928,2,    171.0,2,   172.1,2,  122.57,2,   33.91,2,    0.00,2,    2.38,2,   0.010,2,   0.008,2,-999.000,1,        0,2,  2296.1,2,  -999.0,9,-999.0000,9,  -999.00,-999.000,9,-999.0000,9, -999.00,9, -999.00,9,  -999.0,9,  -999.0,-999.000,9,-999.000,  -999.0,9,-999.000,-999.0000, -999.00,   1.2973,   1.5701,2,20091226,       0354
318M20091121,        P06,     115,          2,          4,          4,2,20091226,       0323,   -32.4999,  -154.2532,       4981,  3857.9,   1.4394,  34.7025,  34.7020,2,    183.7,2,   184.5,2,  118.56,2,   32.95,2,    0.00,2,    2.31,2,   0.018,2,   0.013,2,-999.000,1,        0,2,  -999.0,9,  -999.0,9,-999.0000,9,  -999.00,-999.000,9,-999.0000,9, -999.00,9, -999.00,9,  -999.0,9,  -999.0,-999.000,9,-999.000,  -999.0,9,-999.000,-999.0000, -999.00,   1.1373,   1.4394,2,20091226,       0346
318M20091121,        P06,     115,          2,          3,          3,2,20091226,       0323,   -32.4999,  -154.2532,       4981,  4165.9,   1.2937,  34.7081,  34.7079,2,    194.1,2,   194.0,2,  116.63,2,   32.39,2,    0.00,2,    2.26,2,   0.017,2,   0.010,2,-999.000,1,        0,2,  2275.4,2,  2375.4,2,   7.6138,2,    25.00,-999.000,9,-999.0000,9, -999.00,9, -999.00,9,  -999.0,9,  -999.0,-999.000,9,-999.000,  -999.0,9,-999.000,-999.0000, -999.00,   0.9624,   1.2937,2,20091226,       0339
318M20091121,        P06,     115,          2,          2,          2,2,20091226,       0323,   -32.4999,  -154.2532,       4981,  4493.5,   1.1886,  34.7100,  34.7095,2,    200.1,2,   200.4,2,  117.43,2,   32.13,2,    0.00,2,    2.24,2,   0.017,2,   0.011,2,-999.000,1,        0,2,  -999.0,9,  -999.0,9,-999.0000,9,  -999.00,-999.000,9,-999.0000,9, -999.00,9, -999.00,9,  -999.0,9,  -999.0,-999.000,9,-999.000,  -999.0,9,-999.000,-999.0000, -999.00,   0.8238,   1.1885,2,20091226,       0332
318M20091121,        P06,     115,          2,          1,          1,2,20091226,       0323,   -32.4999,  -154.2532,       4981,  4928.8,   1.1239,  34.7099,  34.7099,2,    204.6,2,   204.4,2,  118.64,2,   31.93,2,    0.00,2,    2.23,2,   0.029,2,   0.018,2,-999.000,1,        0,2,  2268.5,6,  2369.6,6,   7.6173,6,    25.00,-999.000,9,-999.0000,9, -999.00,9, -999.00,9,  -999.0,9,  -999.0,-999.000,9,-999.000,  -999.0,9,-999.000,-999.0000, -999.00,   0.7106,   1.1237,2,20091226,       0323