BOTTLE,20220818CCHSIOAMB
EXPOCODE,SECT_ID,STNNBR,CASTNO,SAMPNO,BTLNBR,BTLNBR_FLAG_W,DATE,TIME,LATITUDE,LONGITUDE,DEPTH,CTDPRS,CTDTMP,CTDSAL,SALNTY,SALNTY_FLAG_W,CTDOXY,CTDOXY_FLAG_W,OXYGEN,OXYGEN_FLAG_W,SILCAT,SILCAT_FLAG_W,NITRAT,NITRAT_FLAG_W,NITRIT,NITRIT_FLAG_W,PHSPHT,PHSPHT_FLAG_W,CFC-11,CFC-11_FLAG_W,CFC-12,CFC-12_FLAG_W,CFC113,CFC113_FLAG_W,SF6,SF6_FLAG_W,TCARBN,TCARBN_FLAG_W,ALKALI,ALKALI_FLAG_W,PH_SWS,PH_SWS_FLAG_W,PH_TMP,TRITUM,TRITUM_FLAG_W,HELIUM,HELIUM_FLAG_W,DELHE3,DELHE3_FLAG_W,DELC13,DELC13_FLAG_W,DELC14,DELC14_FLAG_W,C14ERR,NEON,NEON_FLAG_W,NEONER,DOC,DOC_FLAG_W,TRITER,HELIER,DELHER,THETA,SBE35,SBE35_FLAG_W,BTL_DATE,BTL_TIME
,,,,,,,,,,,METERS,DBAR,ITS-90,PSS-78,PSS-78,,UMOL/KG,,UMOL/KG,,UMOL/KG,,UMOL/KG,,UMOL/KG,,UMOL/KG,,PMOL/KG,,PMOL/KG,,PMOL/KG,,FMOL/KG,,UMOL/KG,,UMOL/KG,,,,DEG C,TU,,NMOL/KG,,PERCNT,,/MILLE,,/MILLE,,/MILLE,NMOL/KG,,NMOL/KG,UMOL/KG,,TU,NMOL/KG,PERCNT,DEG C,ITS-90,,,
318M20091121,        P06,      17,          1,         36,         36,2,20091127,       2116,   -30.0800,   156.9200,       4810,     6.4,  24.0712,  35.4835,  35.4829,2,    213.9,2,   214.3,2,    0.55,2,    0.04,2,    0.00,2,    0.10,2,   1.822,2,   1.138,2,-999.000,1,    1.135,2,  2000.7,6,  2324.0,2,   8.0773,6,    25.00,-999.000,9,-999.0000,9, -999.00,9, -999.00,9,  -999.0,9,  -999.0,-999.000,9,-999.000,  -999.0,9,-999.000,-999.0000, -999.00,  24.0698,  24.0722,2,20091127,       0009
318M20091121,        P06,      17,          1,         35,         35,2,20091127,       2116,   -30.0800,   156.9200,       4810,    30.4,  23.3582,  35.4929,  35.4920,2,    219.9,2,   219.8,2,    0.31,2,    0.00,2,    0.00,2,    0.09,2,   1.882,2,   1.169,2,-999.000,1,    1.091,2,  2003.1,2,  2323.8,6,   8.0800,2,    25.00,-999.000,9,-999.0000,9, -999.00,9, -999.00,9,  -999.0,9,  -999.0,-999.000,9,-999.000,  -999.0,9,-999.000,-999.0000, -999.00,  23.3519,  23.3586,2,20091127,       0007
318M20091121,        P06,      17,          1,         34,         34,2,20091127,       2116,   -30.0800,   156.9200,       4810,    47.9,  22.7882,  35.4979,  35.4958,2,    220.8,2,   224.2,2,    0.28,2,    0.00,2,    0.00,2,    0.09,2,   1.936,2,   1.188,2,-999.000,1,    1.299,2,  -999.0,9,  -999.0,9,-999.0000,9,  -999.00,-999.000,9,-999.0000,9, -999.00,9, -999.00,9,  -999.0,9,  -999.0,-999.000,9,-999.000,  -999.0,9,-999.000,-999.0000, -999.00,  22.7785,  22.7724,2,20091127,       0004
318M20091121,        P06,      17,          1,         33,         33,2,20091127,       2116,   -30.0800,   156.9200,       4810,    78.1,  20.8679,  35.5747,  35.5725,2,    179.0,2,   179.3,2,    1.07,2,    3.83,2,    0.04,2,    0.38,2,   2.007,2,   1.224,2,-999.000,1,    1.214,2,  2055.8,3,  2347.5,4,   7.9949,2,    25.00,-999.000,9,-999.0000,9, -999.00,9, -999.00,9,  -999.0,9,  -999.0,-999.000,9,-999.000,  -999.0,9,-999.000,-999.0000, -999.00,  20.8530,  20.8652,2,20091127,       0001
318M20091121,        P06,      17,          1,         32,         32,2,20091127,       2116,   -30.0800,   156.9200,       4810,    99.7,  20.3297,  35.5747,  35.5736,2,    197.8,2,   185.4,2,    1.05,2,    3.53,2,    0.04,2,    0.35,2,   2.058,2,   1.247,2,-999.000,1,     0.92,2,  -999.0,9,  -999.0,9,-999.0000,9,  -999.00,-999.000,9,-999.0000,9, -999.00,9, -999.00,9,  -999.0,9,  -999.0,-999.000,9,-999.000,  -999.0,9,-999.000,-999.0000, -999.00,  20.3110,  20.3242,2,20091127,       2359
318M20091121,        P06,      17,          1,         31,         31,2,20091127,       2116,   -30.0800,   156.9200,       4810,   159.9,  19.0990,  35.5874,  35.5858,2,    200.4,2,   201.1,2,    0.80,2,    3.16,2,    0.01,2,    0.32,2,   2.144,2,   1.315,2,-999.000,1,    0.962,2,  2055.1,2,  2327.3,2,   7.9919,2,    25.00,-999.000,9,-999.0000,9, -999.00,9, -999.00,9,  -999.0,9,  -999.0,-999.000,9,-999.000,  -999.0,9,-999.000,-999.0000, -999.00,  19.0703,  19.0989,2,20091127,       2356
318M20091121,        P06,      17,          1,         30,         30,2,20091127,       2116,   -30.0800,   156.9200,       4810,   193.3,  18.5090,  35.5945,  35.5937,2,    192.9,2,   198.1,2,    0.98,2,    3.79,2,    0.01,2,    0.37,2,   2.216,2,   1.321,2,-999.000,1,    0.954,2,  -999.0,9,  -999.0,9,-999.0000,9,  -999.00,-999.000,9,-999.0000,9, -999.00,9, -999.00,9,  -999.0,9,  -999.0,-999.000,9,-999.000,  -999.0,9,-999.000,-999.0000, -999.00,  18.4750,  18.5096,2,20091127,       2353
318M20091121,        P06,      17,          1,         29,         29,2,20091127,       2116,   -30.0800,   156.9200,       4810,   247.7,  17.4626,  35.5512,  35.5505,2,    189.7,2,   193.1,2,    1.56,2,    5.64,2,    0.00,2,    0.49,2,   2.267,2,   1.334,2,-999.000,1,    0.947,2,  2081.2,2,  2327.4,2,   7.9455,2,    25.00,-999.000,9,-999.0000,9, -999.00,9, -999.00,9,  -999.0,9,  -999.0,-999.000,9,-999.000,  -999.0,9,-999.000,-999.0000, -999.00,  17.4207,  17.4618,2,20091127,       2350
318M20091121,        P06,      17,          1,         28,         28,2,20091127,       2116,   -30.0800,   156.9200,       4810,   299.2,  16.0730,  35.4706,  35.4695,2,    206.6,2,   199.5,2,    1.94,2,    6.74,2,    0.01,2,    0.57,2,   2.368,6,   1.398,6,-999.000,1,   1.0705,6,  -999.0,9,  -999.0,9,-999.0000,9,  -999.00,-999.000,9,-999.0000,9, -999.00,9, -999.00,9,  -999.0,9,  -999.0,-999.000,9,-999.000,  -999.0,9,-999.000,-999.0000, -999.00,  16.0252,  16.0760,2,20091127,       2347
318M20091121,        P06,      17,          1,         27,         27,2,20091127,       2116,   -30.0800,   156.9200,       4810,   345.0,  14.6174,  35.3330,  35.3332,2,    191.1,2,   190.0,2,    3.15,2,   10.01,2,    0.01,2,    0.78,2,   2.413,2,   1.383,2,-999.000,1,    0.999,2,  2109.7,2,  2316.2,2,   7.8704,2,    25.00,-999.000,9,-999.0000,9, -999.00,9, -999.00,9,  -999.0,9,  -999.0,-999.000,9,-999.000,  -999.0,9,-999.000,-999.0000, -999.00,  14.5657,  14.6204,2,20091127,       2344
318M20091121,        P06,      17,          1,         26,         26,2,20091127,       2116,   -30.0800,   156.9200,       4810,   400.3,  13.4579,  35.2476,  35.2462,2,    198.4,2,   198.1,2,    3.73,2,   11.22,2,    0.00,2,    0.86,2,   2.515,2,   1.437,2,-999.000,1,    0.959,2,  -999.0,9,  -999.0,9,-999.0000,9,  -999.00,-999.000,9,-999.0000,9, -999.00,9, -999.00,9,  -999.0,9,  -999.0,-999.000,9,-999.000,  -999.0,9,-999.000,-999.0000, -999.00,  13.4010,  13.4587,2,20091127,       2341
318M20091121,        P06,      17,          1,         25,         25,2,20091127,       2116,   -30.0800,   156.9200,       4810,   457.2,  12.3632,  35.1181,  35.1182,2,    199.4,2,   199.6,2,    4.73,2,   13.25,2,    0.00,2,    1.00,2,   2.539,2,   1.416,2,-999.000,1,    0.809,2,  2126.8,2,  2305.5,2,   7.8176,2,    25.00,-999.000,9,-999.0000,9, -999.00,9, -999.00,9,  -999.0,9,  -999.0,-999.000,9,-999.000,  -999.0,9,-999.000,-999.0000, -999.00,  12.3017,  12.3615,2,20091127,       2338
318M20091121,        P06,      17,          1,         24,         24,2,20091127,       2116,   -30.0800,   156.9200,       4810,   478.5,  11.8895,  35.0564,  35.0575,2,    199.5,2,   198.9,2,    5.11,2,   14.17,2,    0.00,2,    1.06,2,   2.517,2,   1.406,2,-999.000,1,    0.801,2,  -999.0,9,  -999.0,9,-999.0000,9,  -999.00,-999.000,9,-999.0000,9, -999.00,9, -999.00,9,  -999.0,9,  -999.0,-999.000,9,-999.000,  -999.0,9,-999.000,-999.0000, -999.00,  11.8267,  11.8757,2,20091127,       2335
318M20091121,        P06,      17,          1,         23,         23,2,20091127,       2116,   -30.0800,   156.9200,       4810,   515.3,  11.2696,  34.9692,  34.9680,2,    198.5,2,   198.3,2,    5.71,2,   15.58,2,    0.00,2,    1.14,2,   2.495,2,   1.363,2,-999.000,1,    0.699,2,  2133.3,2,  2300.8,2,   7.7924,2,    25.00,-999.000,9,-999.0000,9, -999.00,9, -999.00,9,  -999.0,9,  -999.0,-999.000,9,-999.000,  -999.0,9,-999.000,-999.0000, -999.00,  11.2042,  11.2711,2,20091127,       2332
318M20091121,        P06,      17,          1,         22,         22,2,20091127,       2116,   -30.0800,   156.9200,       4810,   705.6,   8.1459,  34.5770,  34.5755,2,    197.7,2,   198.3,2,   12.08,2,   22.72,2,    0.00,2,    1.61,2,   1.824,2,   0.944,2,-999.000,1,    0.333,2,  2155.3,2,  2290.1,2,-999.0000,9,  -999.00,-999.000,9,-999.0000,9, -999.00,9, -999.00,9,  -999.0,9,  -999.0,-999.000,9,-999.000,  -999.0,9,-999.000,-999.0000, -999.00,   8.0718,   8.1439,2,20091127,       2324
318M20091121,        P06,      17,          1,         21,         21,2,20091127,       2116,   -30.0800,   156.9200,       4810,   801.1,   7.1498,  34.4970,  34.4972,2,    196.0,2,   196.6,2,   17.01,2,   25.06,2,    0.00,2,    1.77,2,   1.322,2,   0.654,2,-999.000,1,    0.228,2,  2164.8,2,  2290.5,2,   7.6911,2,    25.00,-999.000,9,-999.0000,9, -999.00,9, -999.00,9,  -999.0,9,  -999.0,-999.000,9,-999.000,  -999.0,9,-999.000,-999.0000, -999.00,   7.0712,   7.1526,2,20091127,       2320
318M20091121,        P06,      17,          1,         20,         20,2,20091127,       2116,   -30.0800,   156.9200,       4810,   904.8,   6.1620,  34.4514,  34.4504,2,    190.4,2,   192.0,2,   25.51,2,   27.51,2,    0.00,2,    1.95,2,   0.840,2,   0.429,2,-999.000,1,    0.204,2,  2178.6,2,  2296.9,6,   7.6704,2,    25.00,-999.000,9,-999.0000,9, -999.00,9, -999.00,9,  -999.0,9,  -999.0,-999.000,9,-999.000,  -999.0,9,-999.000,-999.0000, -999.00,   6.0794,   6.1614,2,20091127,       2316
318M20091121,        P06,      17,          1,         19,         19,2,20091127,       2116,   -30.0800,   156.9200,       4810,  1005.3,   5.4454,  34.4527,  34.4508,2,    184.4,2,   184.0,2,   35.68,2,   29.43,2,    0.00,2,    2.08,2,   0.547,2,   0.279,2,-999.000,1,        0,2,  2196.7,6,  2309.5,2,   7.6467,2,    25.00,-999.000,9,-999.0000,9, -999.00,9, -999.00,9,  -999.0,9,  -999.0,-999.000,9,-999.000,  -999.0,9,-999.000,-999.0000, -999.00,   5.3583,   5.4462,2,20091127,       2313
318M20091121,        P06,      17,          1,         18,         18,2,20091127,       2116,   -30.0800,   156.9200,       4810,  1105.5,   4.7411,  34.4666,  34.4654,2,    175.7,2,   177.1,2,   48.64,2,   31.19,2,    0.00,2,    2.21,2,   0.323,2,   0.174,2,-999.000,1,        0,2,  -999.0,9,  -999.0,9,-999.0000,9,  -999.00,-999.000,9,-999.0000,9, -999.00,9, -999.00,9,  -999.0,9,  -999.0,-999.000,9,-999.000,  -999.0,9,-999.000,-999.0000, -999.00,   4.6504,   4.7398,2,20091127,       2309
318M20091121,        P06,      17,          1,         17,         17,2,20091127,       2116,   -30.0800,   156.9200,       4810,  1208.6,   4.1577,  34.4985,  34.4957,2,    167.7,2,   167.3,2,   61.86,2,   32.51,2,    0.00,2,    2.32,2,   0.189,2,   0.106,2,-999.000,1,        0,2,  -999.0,9,  -999.0,9,-999.0000,9,  -999.00,-999.000,9,-999.0000,9, -999.00,9, -999.00,9,  -999.0,9,  -999.0,-999.000,9,-999.000,  -999.0,9,-999.000,-999.0000, -999.00,   4.0629,   4.1588,2,20091127,       2306
318M20091121,        P06,      17,          1,         16,         16,2,20091127,       2116,   -30.0800,   156.9200,       4810,  1305.5,   3.7835,  34.5204,  34.5187,2,    161.7,2,   161.6,2,   70.90,2,   33.34,2,    0.00,2,    2.38,2,   0.125,2,   0.066,2,-999.000,1,        0,2,  -999.0,9,  -999.0,9,-999.0000,9,  -999.00,-999.000,9,-999.0000,9, -999.00,9, -999.00,9,  -999.0,9,  -999.0,-999.000,9,-999.000,  -999.0,9,-999.000,-999.0000, -999.00,   3.6839,   3.7840,2,20091127,       2302
318M20091121,        P06,      17,          1,         15,         15,2,20091127,       2116,   -30.0800,   156.9200,       4810,  1413.0,   3.4043,  34.5485,  34.5474,2,    156.2,2,   156.4,2,   80.39,2,   34.12,2,    0.00,2,    2.43,2,   0.077,2,   0.041,2,-999.000,1,        0,2,  2261.1,2,  2355.5,2,   7.5862,2,    25.00,-999.000,9,-999.0000,9, -999.00,9, -999.00,9,  -999.0,9,  -999.0,-999.000,9,-999.000,  -999.0,9,-999.000,-999.0000, -999.00,   3.2993,   3.4041,2,20091127,       2258
318M20091121,        P06,      17,          1,         14,         14,2,20091127,       2116,   -30.0800,   156.9200,       4810,  1515.5,   3.0782,  34.5791,  34.5777,2,    153.2,2,   153.5,2,   88.85,2,   34.56,2,    0.00,2,    2.48,2,   0.047,2,   0.023,2,-999.000,1,        0,2,  -999.0,9,  -999.0,9,-999.0000,9,  -999.00,-999.000,9,-999.0000,9, -999.00,9, -999.00,9,  -999.0,9,  -999.0,-999.000,9,-999.000,  -999.0,9,-999.000,-999.0000, -999.00,   2.9681,   3.0801,2,20091127,       2254
318M20091121,        P06,      17,          1,         13,         13,2,20091127,       2116,   -30.0800,   156.9200,       4810,  1609.1,   2.8286,  34.6020,  34.6005,2,    153.9,2,   153.8,2,   92.01,2,   34.65,2,    0.00,2,    2.47,2,   0.036,2,   0.016,2,-999.000,5,        0,2,  -999.0,9,  -999.0,9,-999.0000,9,  -999.00,-999.000,9,-999.0000,9, -999.00,9, -999.00,9,  -999.0,9,  -999.0,-999.000,9,-999.000,  -999.0,9,-999.000,-999.0000, -999.00,   2.7136,   2.8301,2,20091127,       2251
318M20091121,        P06,      17,          1,         12,         12,2,20091127,       2116,   -30.0800,   156.9200,       4810,  1816.5,   2.4814,  34.6437,  34.6421,2,    159.1,2,   159.6,2,   95.40,2,   34.25,2,    0.00,2,    2.44,2,   0.029,2,   0.014,2,-999.000,5,        0,2,  -999.0,9,  -999.0,9,-999.0000,9,  -999.00,-999.000,9,-999.0000,9, -999.00,9, -999.00,9,  -999.0,9,  -999.0,-999.000,9,-999.000,  -999.0,9,-999.000,-999.0000, -999.00,   2.3534,   2.4820,2,20091127,       2245
318M20091121,        P06,      17,          1,         11,         11,2,20091127,       2116,   -30.0800,   156.9200,       4810,  2016.6,   2.2689,  34.6748,  34.6738,2,    167.5,2,   168.3,2,   94.95,2,   33.40,2,    0.00,2,    2.38,2,   0.024,2,   0.011,2,-999.000,5,        0,2,  2269.6,2,  2367.0,2,   7.5901,2,    25.00,-999.000,9,-999.0000,9, -999.00,9, -999.00,9,  -999.0,9,  -999.0,-999.000,9,-999.000,  -999.0,9,-999.000,-999.0000, -999.00,   2.1268,   2.2683,2,20091127,       2239
318M20091121,        P06,      17,          1,         10,         10,2,20091127,       2116,   -30.0800,   156.9200,       4810,  2273.7,   2.0768,  34.7036,  34.7023,2,    176.2,2,   176.7,2,   94.49,2,   32.59,2,    0.00,2,    2.32,2,   0.024,2,   0.010,2,-999.000,5,        0,2,  -999.0,9,  -999.0,9,-999.0000,9,  -999.00,-999.000,9,-999.0000,9, -999.00,9, -999.00,9,  -999.0,9,  -999.0,-999.000,9,-999.000,  -999.0,9,-999.000,-999.0000, -999.00,   1.9153,   2.0770,2,20091127,       2231
318M20091121,        P06,      17,          1,          9,          9,2,20091127,       2116,   -30.0800,   156.9200,       4810,  2525.2,   1.8763,  34.7184,  34.7175,2,    182.6,2,   182.6,2,   98.94,2,   32.24,2,    0.00,2,    2.29,2,   0.022,2,   0.010,2,-999.000,5,        0,2,  2264.9,2,  2368.3,2,   7.6048,2,    25.00,-999.000,9,-999.0000,9, -999.00,9, -999.00,9,  -999.0,9,  -999.0,-999.000,9,-999.000,  -999.0,9,-999.000,-999.0000, -999.00,   1.6957,   1.8765,2,20091127,       2223
318M20091121,        P06,      17,          1,          8,          8,2,20091127,       2116,   -30.0800,   156.9200,       4810,  2781.7,   1.6491,  34.7232,  34.7218,2,    187.7,2,   187.5,2,  104.45,2,   32.18,2,    0.00,2,    2.28,2,   0.017,2,   0.005,2,-999.000,5,        0,2,  -999.0,9,  -999.0,9,-999.0000,9,  -999.00,-999.000,9,-999.0000,9, -999.00,9, -999.00,9,  -999.0,9,  -999.0,-999.000,9,-999.000,  -999.0,9,-999.000,-999.0000, -999.00,   1.4494,   1.6492,2,20091127,       2216
318M20091121,        P06,      17,          1,          7,          7,2,20091127,       2116,   -30.0800,   156.9200,       4810,  3035.5,   1.4736,  34.7230,  34.7220,2,    190.9,2,   191.0,2,  108.91,2,   32.22,2,    0.00,2,    2.29,2,   0.016,2,   0.006,2,-999.000,5,        0,2,  2268.8,2,  2364.5,2,   7.6156,2,    25.00,-999.000,9,-999.0000,9, -999.00,9, -999.00,9,  -999.0,9,  -999.0,-999.000,9,-999.000,  -999.0,9,-999.000,-999.0000, -999.00,   1.2537,   1.4739,2,20091127,       2209
318M20091121,        P06,      17,          1,          6,          6,2,20091127,       2116,   -30.0800,   156.9200,       4810,  3344.2,   1.3098,  34.7203,  34.7187,2,    193.6,2,   193.6,2,  113.37,2,   32.36,2,    0.00,2,    2.29,2,   0.017,2,   0.007,2,-999.000,5,        0,2,  -999.0,9,  -999.0,9,-999.0000,9,  -999.00,-999.000,9,-999.0000,9, -999.00,9, -999.00,9,  -999.0,9,  -999.0,-999.000,9,-999.000,  -999.0,9,-999.000,-999.0000, -999.00,   1.0638,   1.3107,2,20091127,       2201
318M20091121,        P06,      17,          1,          5,          5,2,20091127,       2116,   -30.0800,   156.9200,       4810,  3643.6,   1.2237,  34.7180,  34.7173,2,    195.1,2,   195.7,2,  115.91,2,   32.44,2,    0.00,2,    2.30,2,   0.019,2,   0.008,2,-999.000,5,        0,2,  2273.6,2,  2399.9,4,   7.6220,2,    25.00,-999.000,9,-999.0000,9, -999.00,9, -999.00,9,  -999.0,9,  -999.0,-999.000,9,-999.000,  -999.0,9,-999.000,-999.0000, -999.00,   0.9497,   1.2238,2,20091127,       2154
318M20091121,        P06,      17,          1,          4,          4,2,20091127,       2116,   -30.0800,   156.9200,       4810,  3955.2,   1.1854,  34.7165,  34.7150,2,    196.0,2,   195.9,2,  117.80,2,   32.53,2,    0.00,2,    2.30,2,   0.020,2,   0.010,2,-999.000,5,        0,2,  -999.0,9,  -999.0,9,-999.0000,9,  -999.00,-999.000,9,-999.0000,9, -999.00,9, -999.00,9,  -999.0,9,  -999.0,-999.000,9,-999.000,  -999.0,9,-999.000,-999.0000, -999.00,   0.8799,   1.1855,2,20091127,       2145
318M20091121,        P06,      17,          1,          3,          3,2,20091127,       2116,   -30.0800,   156.9200,       4810,  4254.8,   1.1839,  34.7157,  34.7146,2,    196.4,2,   196.4,2,  118.63,2,   32.58,2,    0.00,2,    2.31,2,   0.023,2,   0.014,2,-999.000,5,        0,2,  2275.6,2,  2387.4,2,   7.6232,6,    25.00,-999.000,9,-999.0000,9, -999.00,9, -999.00,9,  -999.0,9,  -999.0,-999.000,9,-999.000,  -999.0,9,-999.000,-999.0000, -999.00,   0.8460,   1.1842,2,20091127,       2137
318M20091121,        P06,      17,          1,          2,          2,2,20091127,       2116,   -30.0800,   156.9200,       4810,  4569.2,   1.2018,  34.7152,  34.7138,2,    195.9,2,   196.9,2,  119.48,2,   32.62,2,    0.00,2,    2.31,2,   0.025,2,   0.012,2,-999.000,5,        0,2,  -999.0,9,  -999.0,9,-999.0000,9,  -999.00,-999.000,9,-999.0000,9, -999.00,9, -999.00,9,  -999.0,9,  -999.0,-999.000,9,-999.000,  -999.0,9,-999.000,-999.0000, -999.00,   0.8279,   1.2017,2,20091127,       2129
318M20091121,        P06,      17,          1,          1,          1,2,20091127,       2116,   -30.0800,   156.9200,       4810,  4943.3,   1.2398,  34.7148,  34.7140,2,    196.5,2,   196.4,2,  119.45,2,   32.66,2,    0.00,2,    2.32,2,   0.031,2,   0.016,2,-999.000,5,        0,2,  2278.2,6,  2387.7,6,   7.6226,2,    25.00,-999.000,9,-999.0000,9, -999.00,9, -999.00,9,  -999.0,9,  -999.0,-999.000,9,-999.000,  -999.0,9,-999.000,-999.0000, -999.00,   0.8209,   1.2403,2,20091127,       2116