BOTTLE,20220818CCHSIOAMB
EXPOCODE,SECT_ID,STNNBR,CASTNO,SAMPNO,BTLNBR,BTLNBR_FLAG_W,DATE,TIME,LATITUDE,LONGITUDE,DEPTH,CTDPRS,CTDTMP,CTDSAL,SALNTY,SALNTY_FLAG_W,CTDOXY,CTDOXY_FLAG_W,OXYGEN,OXYGEN_FLAG_W,SILCAT,SILCAT_FLAG_W,NITRAT,NITRAT_FLAG_W,NITRIT,NITRIT_FLAG_W,PHSPHT,PHSPHT_FLAG_W,CFC-11,CFC-11_FLAG_W,CFC-12,CFC-12_FLAG_W,CFC113,CFC113_FLAG_W,SF6,SF6_FLAG_W,TCARBN,TCARBN_FLAG_W,ALKALI,ALKALI_FLAG_W,PH_SWS,PH_SWS_FLAG_W,PH_TMP,TRITUM,TRITUM_FLAG_W,HELIUM,HELIUM_FLAG_W,DELHE3,DELHE3_FLAG_W,DELC13,DELC13_FLAG_W,DELC14,DELC14_FLAG_W,C14ERR,NEON,NEON_FLAG_W,NEONER,DOC,DOC_FLAG_W,TRITER,HELIER,DELHER,THETA,SBE35,SBE35_FLAG_W,BTL_DATE,BTL_TIME
,,,,,,,,,,,METERS,DBAR,ITS-90,PSS-78,PSS-78,,UMOL/KG,,UMOL/KG,,UMOL/KG,,UMOL/KG,,UMOL/KG,,UMOL/KG,,PMOL/KG,,PMOL/KG,,PMOL/KG,,FMOL/KG,,UMOL/KG,,UMOL/KG,,,,DEG C,TU,,NMOL/KG,,PERCNT,,/MILLE,,/MILLE,,/MILLE,NMOL/KG,,NMOL/KG,UMOL/KG,,TU,NMOL/KG,PERCNT,DEG C,ITS-90,,,
318M20091121,        P06,      78,          1,         36,         36,2,20091212,       1105,   -32.4999,  -177.6698,       7330,     3.6,  20.7871,  35.5566,  35.5581,2,    230.7,2,   229.9,2,    1.03,2,    0.03,2,    0.00,2,    0.15,2,   2.122,2,   1.345,2,-999.000,1,    1.301,2,  2057.6,6,  2338.8,2,   7.9972,3,    25.00,   0.354,2,   1.7189,2,   -1.37,2, -999.00,9,  -999.0,9,  -999.0,   6.891,2,   0.032,    56.2,2,   0.016,   0.0072,    0.15,  20.7864,  20.7844,2,20091212,       1354
318M20091121,        P06,      78,          1,         35,         35,2,20091212,       1105,   -32.4999,  -177.6698,       7330,    35.8,  18.5882,  35.4919,  35.4912,2,    247.2,2,   244.0,2,    0.81,2,    0.00,2,    0.00,2,    0.14,2,   2.326,2,   1.438,2,-999.000,1,     1.38,2,  2053.3,2,  2329.1,6,   7.9822,3,    25.00,-999.000,9,-999.0000,9, -999.00,9, -999.00,9,  -999.0,9,  -999.0,-999.000,9,-999.000,    57.1,2,-999.000,-999.0000, -999.00,  18.5819,  18.5792,2,20091212,       1351
318M20091121,        P06,      78,          1,         34,         34,2,20091212,       1105,   -32.4999,  -177.6698,       7330,    61.2,  16.5676,  35.4519,  35.4527,2,    250.1,2,   248.3,2,    0.98,2,    0.00,2,    0.00,2,    0.15,2,   2.425,2,   1.502,2,-999.000,1,    1.359,2,  2058.6,2,  2325.4,2,   7.9937,3,    25.00,   0.303,2,   1.7428,2,   -1.49,2, -999.00,9,  -999.0,9,  -999.0,   7.069,2,   0.033,    54.8,2,   0.016,   0.0073,    0.15,  16.5577,  16.5715,2,20091212,       1349
318M20091121,        P06,      78,          1,         33,         33,2,20091212,       1105,   -32.4999,  -177.6698,       7330,    86.1,  15.3728,  35.4107,  35.4087,2,    236.1,2,   230.2,2,    1.51,2,    2.02,2,    0.08,2,    0.36,2,   2.512,2,   1.535,2,-999.000,1,     1.42,2,  2082.6,2,  2323.9,2,   7.9306,3,    25.00,   0.346,2,   1.7801,2,   -1.22,2, -999.00,9,  -999.0,9,  -999.0,   7.222,2,   0.033,    52.9,2,   0.016,   0.0075,    0.15,  15.3595,  15.3748,2,20091212,       1347
318M20091121,        P06,      78,          1,         32,         32,2,20091212,       1105,   -32.4999,  -177.6698,       7330,   117.2,  14.8611,  35.3793,  35.3771,2,    223.9,2,   219.0,2,    2.04,2,    4.84,2,    0.02,2,    0.52,2,   2.481,2,   1.509,2,-999.000,1,    1.375,2,  2093.5,2,  2322.9,2,   7.9343,3,    25.00,-999.000,9,-999.0000,9, -999.00,9, -999.00,9,  -999.0,9,  -999.0,-999.000,9,-999.000,    49.7,2,-999.000,-999.0000, -999.00,  14.8434,  14.8689,2,20091212,       1344
318M20091121,        P06,      78,          1,         31,         31,2,20091212,       1105,   -32.4999,  -177.6698,       7330,   164.7,  13.6882,  35.2372,  35.2405,2,    205.6,2,   205.2,2,    2.96,2,    8.43,2,    0.01,2,    0.73,2,   2.499,2,   1.476,2,-999.000,1,    0.994,2,  2110.2,2,  2316.8,2,   7.8784,3,    25.00,   0.296,2,   1.7935,2,   -0.53,2, -999.00,9,  -999.0,9,  -999.0,   7.320,2,   0.034,    49.0,2,   0.016,   0.0075,    0.15,  13.6647,  13.7053,2,20091212,       1341
318M20091121,        P06,      78,          1,         30,         30,2,20091212,       1105,   -32.4999,  -177.6698,       7330,   216.3,  13.2492,  35.1984,  35.1951,2,    220.5,2,   219.3,2,    2.55,2,    7.26,2,    0.01,2,    0.67,2,   2.670,2,   1.605,2,-999.000,1,    1.009,2,  2109.6,2,  2313.3,2,   7.8248,3,    25.00,   0.304,2,   1.8016,2,   -1.10,2, -999.00,9,  -999.0,9,  -999.0,   7.335,2,   0.034,    50.2,2,   0.016,   0.0076,    0.15,  13.2190,  13.2479,2,20091212,       1339
318M20091121,        P06,      78,          1,         29,         29,2,20091212,       1105,   -32.4999,  -177.6698,       7330,   265.9,  12.3068,  35.0583,  35.0546,2,    204.3,2,   204.2,2,    3.84,2,   11.55,2,    0.01,2,    0.92,2,   2.582,2,   1.498,2,-999.000,1,    0.995,2,  2124.0,2,  2307.6,2,   7.8191,4,    25.00,   0.217,2,   1.7612,2,   -0.18,2, -999.00,9,  -999.0,9,  -999.0,   7.316,2,   0.034,    51.1,2,   0.016,   0.0074,    0.15,  12.2714,  12.3090,2,20091212,       1336
318M20091121,        P06,      78,          1,         28,         28,2,20091212,       1105,   -32.4999,  -177.6698,       7330,   316.7,  11.3832,  34.9419,  34.9395,2,    203.5,2,   204.0,2,    4.75,2,   13.70,2,    0.00,2,    1.05,2,   2.606,2,   1.478,2,-999.000,1,    0.788,2,  2130.6,2,  2303.4,2,   7.7881,4,    25.00,   0.238,2,   1.7773,2,    0.06,2, -999.00,9,  -999.0,9,  -999.0,   7.433,2,   0.034,    48.9,2,   0.016,   0.0075,    0.15,  11.3431,  11.3834,2,20091212,       1333
318M20091121,        P06,      78,          1,         27,         27,2,20091212,       1105,   -32.4999,  -177.6698,       7330,   367.3,  10.4754,  34.8190,  34.8192,2,    205.2,2,   205.7,2,    5.29,2,   15.51,2,    0.00,2,    1.15,2,   2.671,2,   1.506,2,-999.000,1,    0.754,2,  2136.2,2,  2296.8,2,   7.7478,3,    25.00,   0.214,2,   1.7827,2,    0.17,2, -999.00,9,  -999.0,9,  -999.0,   7.459,2,   0.034,    46.4,2,   0.016,   0.0075,    0.15,  10.4312,  10.4753,2,20091212,       1330
318M20091121,        P06,      78,          1,         26,         26,2,20091212,       1105,   -32.4999,  -177.6698,       7330,   436.3,   9.2944,  34.6632,  34.6625,2,    208.2,2,   210.7,2,    6.02,2,   17.83,2,    0.00,2,    1.30,2,   2.833,2,   1.556,2,-999.000,1,     0.72,2,  1835.9,4,  2292.3,2,   7.7475,3,    25.00,   0.174,2,-999.0000,9, -999.00,9, -999.00,9,  -999.0,9,  -999.0,-999.000,9,-999.000,  -999.0,5,   0.017,-999.0000, -999.00,   9.2456,   9.2967,2,20091212,       1327
318M20091121,        P06,      78,          1,         25,         25,2,20091212,       1105,   -32.4999,  -177.6698,       7330,   537.8,   8.2441,  34.5345,  34.5345,2,    217.1,2,   218.4,2,    6.75,2,   19.96,2,    0.00,2,    1.43,2,   2.860,2,   1.552,2,-999.000,1,    0.619,2,  2144.3,2,  2287.8,2,   7.7216,3,    25.00,   0.148,2,-999.0000,9, -999.00,9, -999.00,9,  -999.0,9,  -999.0,-999.000,9,-999.000,    41.6,2,   0.017,-999.0000, -999.00,   8.1879,   8.2425,2,20091212,       1324
318M20091121,        P06,      78,          1,         24,         24,2,20091212,       1105,   -32.4999,  -177.6698,       7330,   639.6,   7.4175,  34.4577,  34.4576,2,    223.7,2,   221.8,2,    8.79,2,   21.99,2,    0.00,2,    1.56,2,   2.596,2,   1.355,2,-999.000,1,    0.479,2,  2149.5,2,  2286.0,2,   7.6968,3,    25.00,   0.098,2,   1.7886,2,    0.53,2, -999.00,9,  -999.0,9,  -999.0,   7.603,2,   0.035,  -999.0,9,   0.017,   0.0075,    0.15,   7.3542,   7.4171,2,20091212,       1320
318M20091121,        P06,      78,          1,         23,         23,2,20091212,       1105,   -32.4999,  -177.6698,       7330,   740.7,   6.9120,  34.4132,  34.4122,2,    221.9,2,   222.6,2,   10.08,2,   23.40,2,    0.00,2,    1.64,2,   2.230,2,   1.151,2,-999.000,1,    0.281,2,  2152.4,2,  2286.2,2,   7.7077,3,    25.00,   0.086,2,   1.7857,2,    1.08,2, -999.00,9,  -999.0,9,  -999.0,   7.554,2,   0.035,    39.0,2,   0.017,   0.0075,    0.15,   6.8411,   6.9116,2,20091212,       1317
318M20091121,        P06,      78,          1,         22,         22,2,20091212,       1105,   -32.4999,  -177.6698,       7330,   842.8,   6.2810,  34.3848,  34.3851,2,    215.8,2,   214.7,2,   14.79,2,   25.14,2,    0.00,2,    1.78,2,   1.543,2,   0.791,2,-999.000,1,    0.112,2,  2159.5,2,  2290.7,2,   7.6918,3,    25.00,   0.069,2,-999.0000,9, -999.00,9, -999.00,9,  -999.0,9,  -999.0,-999.000,9,-999.000,  -999.0,9,   0.017,-999.0000, -999.00,   6.2037,   6.2808,2,20091212,       1313
318M20091121,        P06,      78,          1,         21,         21,2,20091212,       1105,   -32.4999,  -177.6698,       7330,   944.3,   5.6324,  34.3768,  34.3768,2,    207.6,2,   205.3,2,   22.15,2,   27.41,2,    0.00,2,    1.93,2,   0.983,2,   0.504,2,-999.000,1,    0.059,2,  2174.4,2,  2295.8,2,   7.6848,3,    25.00,   0.050,2,   1.7838,2,    1.52,2, -999.00,9,  -999.0,9,  -999.0,   7.668,2,   0.035,    40.9,2,   0.017,   0.0075,    0.15,   5.5498,   5.6319,2,20091212,       1310
318M20091121,        P06,      78,          1,         20,         20,2,20091212,       1105,   -32.4999,  -177.6698,       7330,  1046.4,   5.0901,  34.3934,  34.3934,2,    195.9,2,   194.6,2,   31.08,2,   29.20,2,    0.00,2,    2.05,2,   0.663,2,   0.346,2,-999.000,1,        0,2,  2190.4,6,  2306.2,2,   7.7135,4,    25.00,   0.027,2,   1.8166,2,    4.84,2, -999.00,9,  -999.0,9,  -999.0,   7.669,2,   0.035,  -999.0,9,   0.017,   0.0076,    0.15,   5.0020,   5.0900,2,20091212,       1306
318M20091121,        P06,      78,          1,         19,         19,2,20091212,       1105,   -32.4999,  -177.6698,       7330,  1248.3,   3.9300,  34.4269,  34.4276,2,    181.4,2,   180.0,2,   49.86,2,   32.04,2,    0.00,2,    2.26,2,   0.245,2,   0.132,2,-999.000,1,        0,2,  2220.0,2,  2320.1,2,   7.5892,3,    25.00,   0.000,2,   1.8304,2,    7.93,2, -999.00,9,  -999.0,9,  -999.0,   7.721,2,   0.036,    38.8,2,   0.017,   0.0077,    0.15,   3.8341,   3.9290,2,20091212,       1301
318M20091121,        P06,      78,          1,         18,         18,2,20091212,       1105,   -32.4999,  -177.6698,       7330,  1450.0,   3.2418,  34.5096,  34.5104,2,    167.5,2,   166.7,2,   72.30,2,   33.51,2,    0.00,2,    2.37,2,   0.102,2,   0.060,2,-999.000,1,        0,2,  2251.1,2,  2346.2,2,   7.5805,3,    25.00,  -0.010,2,   1.8595,2,   12.60,2, -999.00,9,  -999.0,9,  -999.0,   7.788,2,   0.036,  -999.0,9,   0.017,   0.0078,    0.15,   3.1356,   3.2431,2,20091212,       1256
318M20091121,        P06,      78,          1,         17,         17,2,20091212,       1105,   -32.4999,  -177.6698,       7330,  1648.9,   2.8759,  34.5804,  34.5806,2,    160.1,2,   160.6,2,   91.40,2,   33.85,2,    0.00,2,    2.40,2,   0.078,2,   0.047,2,-999.000,1,        0,2,  2270.1,2,  2369.2,2,   7.5784,3,    25.00,   0.018,2,   1.8925,2,   16.31,2, -999.00,9,  -999.0,9,  -999.0,   7.936,2,   0.037,    37.7,2,   0.017,   0.0079,    0.15,   2.7570,   2.8747,2,20091212,       1251
318M20091121,        P06,      78,          1,         16,         16,2,20091212,       1105,   -32.4999,  -177.6698,       7330,  1854.5,   2.5464,  34.6072,  34.6077,2,    156.6,2,   154.9,2,  101.57,2,   34.44,2,    0.00,2,    2.44,2,   0.050,2,   0.034,2,-999.000,1,        0,2,  2284.8,2,  2380.7,2,   7.5819,3,    25.00,   0.005,2,   1.9157,2,   19.85,2, -999.00,9,  -999.0,9,  -999.0,   7.880,2,   0.036,  -999.0,9,   0.017,   0.0080,    0.15,   2.4143,   2.5451,2,20091212,       1246
318M20091121,        P06,      78,          1,         15,         15,2,20091212,       1105,   -32.4999,  -177.6698,       7330,  2055.3,   2.3805,  34.6223,  34.6235,2,    154.7,2,   153.0,2,  108.03,2,   34.65,2,    0.00,2,    2.46,2,   0.028,2,   0.020,2,-999.000,1,        0,2,  2294.6,2,  2388.9,2,   7.5815,3,    25.00,  -0.005,2,   1.9062,2,   21.12,2, -999.00,9,  -999.0,9,  -999.0,   7.996,2,   0.037,    36.7,2,   0.015,   0.0080,    0.15,   2.2335,   2.3804,2,20091212,       1241
318M20091121,        P06,      78,          1,         14,         14,2,20091212,       1105,   -32.4999,  -177.6698,       7330,  2309.2,   2.2243,  34.6385,  34.6396,2,    152.0,2,   152.5,2,  113.91,2,   34.79,2,    0.00,2,    2.47,2,   0.034,2,   0.024,2,-999.000,1,        0,2,  2299.5,2,  2391.6,2,   7.5714,3,    25.00,  -0.001,2,   1.9502,2,   21.66,2, -999.00,9,  -999.0,9,  -999.0,   8.123,2,   0.037,  -999.0,9,   0.015,   0.0082,    0.15,   2.0573,   2.2237,2,20091212,       1235
318M20091121,        P06,      78,          1,         13,         13,2,20091212,       1105,   -32.4999,  -177.6698,       7330,  2577.8,   2.0223,  34.6557,  34.6562,2,    151.5,2,   152.0,2,  120.58,2,   35.05,2,    0.00,2,    2.49,2,   0.013,2,   0.008,2,-999.000,1,        0,2,  2305.0,2,  2400.0,4,   7.5586,3,    25.00,   0.006,2,-999.0000,9, -999.00,9, -999.00,9,  -999.0,9,  -999.0,-999.000,9,-999.000,    34.4,2,   0.015,-999.0000, -999.00,   1.8344,   2.0219,2,20091212,       1229
318M20091121,        P06,      78,          1,         12,         12,2,20091212,       1105,   -32.4999,  -177.6698,       7330,  2935.0,   1.7740,  34.7040,  34.7054,2,    176.4,2,   177.8,2,  107.58,2,   32.41,2,    0.00,2,    2.30,2,   0.046,2,   0.029,2,-999.000,1,        0,2,  2274.8,2,  2373.9,6,   7.5999,4,    25.00,-999.000,9,-999.0000,9, -999.00,9, -999.00,9,  -999.0,9,  -999.0,-999.000,9,-999.000,  -999.0,9,-999.000,-999.0000, -999.00,   1.5573,   1.7738,2,20091212,       1221
318M20091121,        P06,      78,          1,         11,         11,2,20091212,       1105,   -32.4999,  -177.6698,       7330,  3239.8,   1.5732,  34.7202,  34.7204,2,    191.3,2,   190.7,2,  105.98,2,   31.52,2,    0.00,2,    2.22,2,   0.059,2,   0.035,2,-999.000,1,        0,2,  2264.2,2,  2365.6,2,   7.6335,4,    25.00,-999.000,9,-999.0000,9, -999.00,9, -999.00,9,  -999.0,9,  -999.0,-999.000,9,-999.000,    38.6,2,-999.000,-999.0000, -999.00,   1.3312,   1.5731,2,20091212,       1214
318M20091121,        P06,      78,          1,         10,         10,2,20091212,       1105,   -32.4999,  -177.6698,       7330,  3549.2,   1.3294,  34.7219,  34.7218,2,    199.3,2,   199.2,2,  109.70,2,   31.24,2,    0.00,2,    2.21,2,   0.079,2,   0.047,2,-999.000,1,        0,2,  2259.5,2,  2364.5,2,   7.6225,4,    25.00,   0.016,2,-999.0000,9, -999.00,9, -999.00,9,  -999.0,9,  -999.0,-999.000,9,-999.000,  -999.0,9,   0.015,-999.0000, -999.00,   1.0623,   1.3296,2,20091212,       1207
318M20091121,        P06,      78,          1,          9,          9,2,20091212,       1105,   -32.4999,  -177.6698,       7330,  3855.1,   1.1318,  34.7164,  34.7176,2,    203.6,2,   203.7,2,  115.19,2,   31.30,2,    0.00,2,    2.21,2,   0.092,2,   0.053,2,-999.000,1,        0,2,  2258.7,2,  2365.3,2,   7.5963,3,    25.00,-999.000,9,-999.0000,9, -999.00,9, -999.00,9,  -999.0,9,  -999.0,-999.000,9,-999.000,    39.3,2,-999.000,-999.0000, -999.00,   0.8384,   1.1318,2,20091212,       1200
318M20091121,        P06,      78,          1,          8,          8,2,20091212,       1105,   -32.4999,  -177.6698,       7330,  4161.9,   1.0486,  34.7125,  34.7129,2,    205.3,2,   205.6,2,  118.32,2,   31.46,2,    0.00,2,    2.22,2,   0.103,2,   0.061,2,-999.000,1,        0,2,  2258.7,2,  2364.9,2,   7.6186,3,    25.00,-999.000,9,-999.0000,9, -999.00,9, -999.00,9,  -999.0,9,  -999.0,-999.000,9,-999.000,  -999.0,9,-999.000,-999.0000, -999.00,   0.7248,   1.0488,2,20091212,       1154
318M20091121,        P06,      78,          1,          7,          7,2,20091212,       1105,   -32.4999,  -177.6698,       7330,  4472.4,   1.0177,  34.7100,  34.7102,2,    206.3,2,   206.9,2,  120.08,2,   31.57,2,    0.00,2,    2.22,2,   0.100,2,   0.057,2,-999.000,1,        0,2,  2260.3,2,  2365.8,2,   7.6124,3,    25.00,   0.008,2,   1.8995,2,    9.26,2, -999.00,9,  -999.0,9,  -999.0,   8.141,2,   0.037,    38.5,2,   0.015,   0.0080,    0.15,   0.6606,   1.0175,2,20091212,       1147
318M20091121,        P06,      78,          1,          6,          6,2,20091212,       1105,   -32.4999,  -177.6698,       7330,  4782.2,   1.0283,  34.7092,  34.7092,2,    206.7,2,   206.4,2,  120.85,2,   31.53,2,    0.00,2,    2.23,2,   0.100,2,   0.058,2,-999.000,1,        0,2,  2260.0,2,  2367.5,2,   7.5747,4,    25.00,-999.000,9,-999.0000,9, -999.00,9, -999.00,9,  -999.0,9,  -999.0,-999.000,9,-999.000,  -999.0,9,-999.000,-999.0000, -999.00,   0.6355,   1.0286,2,20091212,       1139
318M20091121,        P06,      78,          1,          5,          5,2,20091212,       1105,   -32.4999,  -177.6698,       7330,  5092.5,   1.0507,  34.7086,  34.7086,2,    207.0,2,   206.8,2,  121.43,2,   31.54,2,    0.00,2,    2.23,2,   0.099,2,   0.055,2,-999.000,1,        0,2,  2259.1,3,  2368.4,2,   7.6186,2,    25.00,   0.022,2,   1.8977,2,    9.63,2, -999.00,9,  -999.0,9,  -999.0,   8.067,2,   0.037,    40.1,2,   0.015,   0.0080,    0.15,   0.6204,   1.0508,2,20091212,       1132
318M20091121,        P06,      78,          1,          4,          4,2,20091212,       1105,   -32.4999,  -177.6698,       7330,  5401.2,   1.0804,  34.7084,  34.7081,2,    207.1,2,   207.0,2,  121.40,2,   31.51,2,    0.00,2,    2.23,2,   0.108,2,   0.065,2,-999.000,1,        0,2,  2260.7,2,  2366.1,2,   7.6242,2,    25.00,   0.003,2,   1.9145,2,    8.90,2, -999.00,9,  -999.0,9,  -999.0,   8.166,2,   0.038,  -999.0,9,   0.015,   0.0080,    0.15,   0.6113,   1.0806,2,20091212,       1125
318M20091121,        P06,      78,          1,          3,          3,2,20091212,       1105,   -32.4999,  -177.6698,       7330,  5705.9,   1.1152,  34.7079,  34.7075,2,    207.3,2,   206.9,2,  121.58,2,   31.62,2,    0.00,2,    2.23,2,   0.108,2,   0.067,2,-999.000,1,        0,2,  2261.3,2,  2366.5,2,   7.6100,2,    25.00,   0.008,2,   1.9127,2,    9.50,2, -999.00,9,  -999.0,9,  -999.0,   8.118,2,   0.037,    39.4,2,   0.015,   0.0080,    0.15,   0.6063,   1.1148,2,20091212,       1118
318M20091121,        P06,      78,          1,          2,          2,2,20091212,       1105,   -32.4999,  -177.6698,       7330,  6025.3,   1.1530,  34.7076,  34.7071,2,    207.6,2,   207.5,2,  121.56,2,   31.81,2,    0.00,2,    2.23,2,   0.089,2,   0.054,2,-999.000,1,        0,2,  2261.4,2,  2367.8,6,   7.6114,6,    25.00,   0.006,2,   1.9045,2,    9.77,2, -999.00,9,  -999.0,9,  -999.0,   7.998,2,   0.037,  -999.0,9,   0.015,   0.0080,    0.15,   0.6011,   1.1525,2,20091212,       1111
318M20091121,        P06,      78,          1,          1,          1,2,20091212,       1105,   -32.4999,  -177.6698,       7330,  6128.5,   1.1659,  34.7075,  34.7077,2,    207.0,2,   207.1,2,  121.95,2,   31.74,2,    0.00,2,    2.23,2,-999.000,5,-999.000,5,-999.000,1,-999.0000,5,  2261.8,6,  2369.9,2,   7.6329,2,    25.00,   0.005,2,   1.9015,2,    6.89,2, -999.00,9,  -999.0,9,  -999.0,   8.175,2,   0.038,    39.6,2,   0.015,   0.0080,    0.15,   0.5998,   1.1658,2,20091212,       1105