BOTTLE,20220818CCHSIOAMB
EXPOCODE,SECT_ID,STNNBR,CASTNO,SAMPNO,BTLNBR,BTLNBR_FLAG_W,DATE,TIME,LATITUDE,LONGITUDE,DEPTH,CTDPRS,CTDTMP,CTDSAL,SALNTY,SALNTY_FLAG_W,CTDOXY,CTDOXY_FLAG_W,OXYGEN,OXYGEN_FLAG_W,SILCAT,SILCAT_FLAG_W,NITRAT,NITRAT_FLAG_W,NITRIT,NITRIT_FLAG_W,PHSPHT,PHSPHT_FLAG_W,CFC-11,CFC-11_FLAG_W,CFC-12,CFC-12_FLAG_W,CFC113,CFC113_FLAG_W,SF6,SF6_FLAG_W,TCARBN,TCARBN_FLAG_W,ALKALI,ALKALI_FLAG_W,PH_SWS,PH_SWS_FLAG_W,PH_TMP,TRITUM,TRITUM_FLAG_W,HELIUM,HELIUM_FLAG_W,DELHE3,DELHE3_FLAG_W,DELC13,DELC13_FLAG_W,DELC14,DELC14_FLAG_W,C14ERR,NEON,NEON_FLAG_W,NEONER,DOC,DOC_FLAG_W,TRITER,HELIER,DELHER,THETA,SBE35,SBE35_FLAG_W,BTL_DATE,BTL_TIME
,,,,,,,,,,,METERS,DBAR,ITS-90,PSS-78,PSS-78,,UMOL/KG,,UMOL/KG,,UMOL/KG,,UMOL/KG,,UMOL/KG,,UMOL/KG,,PMOL/KG,,PMOL/KG,,PMOL/KG,,FMOL/KG,,UMOL/KG,,UMOL/KG,,,,DEG C,TU,,NMOL/KG,,PERCNT,,/MILLE,,/MILLE,,/MILLE,NMOL/KG,,NMOL/KG,UMOL/KG,,TU,NMOL/KG,PERCNT,DEG C,ITS-90,,,
318M20091121,        P06,      50,          1,         18,         18,2,20091205,       0849,   -30.0798,   171.2700,        588,     4.8,  21.4354,  35.6950,  35.6970,2,    228.3,2,   228.7,2,    0.59,2,    0.17,2,    0.00,2,    0.11,2,   1.893,2,   1.328,2,-999.000,1,    1.128,2,  2039.1,6,  2338.8,2,   8.0220,2,    25.00,-999.000,9,-999.0000,9, -999.00,9, -999.00,9,  -999.0,9,  -999.0,-999.000,9,-999.000,    53.7,2,-999.000,-999.0000, -999.00,  21.4345,  21.4349,2,20091205,       0932
318M20091121,        P06,      50,          1,         17,         17,2,20091205,       0849,   -30.0798,   171.2700,        588,    25.4,  20.1279,  35.6699,  35.6719,2,    235.3,2,   237.9,2,    0.58,2,    0.15,2,    0.00,2,    0.10,2,   1.985,2,   1.379,2,-999.000,1,     1.11,2,  2037.9,2,  2334.1,6,   8.0394,6,    25.00,-999.000,9,-999.0000,9, -999.00,9, -999.00,9,  -999.0,9,  -999.0,-999.000,9,-999.000,    56.4,2,-999.000,-999.0000, -999.00,  20.1232,  20.1292,2,20091205,       0930
318M20091121,        P06,      50,          1,         16,         16,2,20091205,       0849,   -30.0798,   171.2700,        588,    50.1,  19.4796,  35.6483,  35.6485,2,    241.7,2,   241.8,2,    0.36,2,    0.14,2,    0.00,2,    0.10,2,   2.030,2,   1.417,2,-999.000,1,     1.13,2,  2034.1,2,  -999.0,5,   8.0278,2,    25.00,-999.000,9,-999.0000,9, -999.00,9, -999.00,9,  -999.0,9,  -999.0,-999.000,9,-999.000,    55.6,2,-999.000,-999.0000, -999.00,  19.4705,  19.4685,2,20091205,       0928
318M20091121,        P06,      50,          1,         15,         15,2,20091205,       0849,   -30.0798,   171.2700,        588,    75.7,  18.3252,  35.6076,  35.6090,2,    241.2,2,   241.4,2,    0.55,2,    0.13,2,    0.00,2,    0.11,2,   2.096,2,   1.477,2,-999.000,1,    1.724,4,  2038.9,2,  2329.6,2,   8.0231,2,    25.00,-999.000,9,-999.0000,9, -999.00,9, -999.00,9,  -999.0,9,  -999.0,-999.000,9,-999.000,    53.9,2,-999.000,-999.0000, -999.00,  18.3120,  18.3283,2,20091205,       0926
318M20091121,        P06,      50,          1,         14,         14,2,20091205,       0849,   -30.0798,   171.2700,        588,   101.1,  17.9546,  35.5914,  35.5932,2,    236.8,2,   237.9,2,    0.53,2,    0.09,2,    0.03,2,    0.14,2,   2.372,4,   2.388,4,-999.000,1,   -0.314,4,  2044.7,2,  2334.6,4,   7.9999,2,    25.00,-999.000,9,-999.0000,9, -999.00,9, -999.00,9,  -999.0,9,  -999.0,-999.000,9,-999.000,    50.1,2,-999.000,-999.0000, -999.00,  17.9372,  17.9736,2,20091205,       0924
318M20091121,        P06,      50,          1,         13,         13,2,20091205,       0849,   -30.0798,   171.2700,        588,   125.7,  17.2500,  35.5580,  35.5530,2,    221.1,2,   217.9,2,    1.10,2,    0.91,2,    0.10,2,    0.31,2,-999.000,9,-999.000,9,-999.000,9,-999.0000,9,  2068.4,2,  2332.1,4,   7.9726,2,    25.00,-999.000,9,-999.0000,9, -999.00,9, -999.00,9,  -999.0,9,  -999.0,-999.000,9,-999.000,    49.9,2,-999.000,-999.0000, -999.00,  17.2290,  17.2286,3,20091205,       0921
318M20091121,        P06,      50,          1,         12,         12,2,20091205,       0849,   -30.0798,   171.2700,        588,   150.3,  16.7203,  35.5240,  35.5244,2,    212.7,2,   213.0,2,    1.47,2,    2.19,2,    0.03,2,    0.39,2,   2.170,2,   1.471,2,-999.000,1,    1.156,2,  2076.8,2,  2325.1,2,   7.9430,2,    25.00,-999.000,9,-999.0000,9, -999.00,9, -999.00,9,  -999.0,9,  -999.0,-999.000,9,-999.000,    48.4,2,-999.000,-999.0000, -999.00,  16.6957,  16.7230,2,20091205,       0919
318M20091121,        P06,      50,          1,         11,         11,2,20091205,       0849,   -30.0798,   171.2700,        588,   176.6,  16.1176,  35.4813,  35.4888,2,    212.5,2,   213.1,2,    1.66,2,    3.04,2,    0.02,2,    0.45,2,-999.000,9,-999.000,9,-999.000,9,-999.0000,9,  2082.1,2,  2324.1,2,   7.9421,2,    25.00,-999.000,9,-999.0000,9, -999.00,9, -999.00,9,  -999.0,9,  -999.0,-999.000,9,-999.000,  -999.0,9,-999.000,-999.0000, -999.00,  16.0894,  16.1333,2,20091205,       0917
318M20091121,        P06,      50,          1,         10,         10,2,20091205,       0849,   -30.0798,   171.2700,        588,   201.4,  15.6352,  35.4437,  35.4468,2,    209.4,2,   209.5,2,    2.03,2,    4.24,2,    0.01,2,    0.53,2,   2.210,2,   1.473,2,-999.000,1,    1.096,2,  2089.7,2,  2321.1,2,   7.9182,2,    25.00,-999.000,9,-999.0000,9, -999.00,9, -999.00,9,  -999.0,9,  -999.0,-999.000,9,-999.000,    47.1,2,-999.000,-999.0000, -999.00,  15.6037,  15.6492,2,20091205,       0915
318M20091121,        P06,      50,          1,          9,          9,2,20091205,       0849,   -30.0798,   171.2700,        588,   225.0,  15.2097,  35.3985,  35.3987,2,    202.8,2,   202.2,2,    2.41,2,    5.61,2,    0.01,2,    0.62,2,-999.000,9,-999.000,9,-999.000,9,-999.0000,9,  2097.8,2,  2320.7,3,   7.9083,2,    25.00,-999.000,9,-999.0000,9, -999.00,9, -999.00,9,  -999.0,9,  -999.0,-999.000,9,-999.000,  -999.0,9,-999.000,-999.0000, -999.00,  15.1752,  15.2099,2,20091205,       0913
318M20091121,        P06,      50,          1,          8,          8,2,20091205,       0849,   -30.0798,   171.2700,        588,   256.6,  14.6213,  35.3320,  35.3325,2,    200.9,2,   199.4,2,    2.78,2,    6.86,2,    0.01,2,    0.69,2,   2.222,2,   1.453,2,-999.000,1,    0.927,2,  2104.9,2,  2321.3,3,   7.8892,2,    25.00,-999.000,9,-999.0000,9, -999.00,9, -999.00,9,  -999.0,9,  -999.0,-999.000,9,-999.000,    45.5,2,-999.000,-999.0000, -999.00,  14.5829,  14.6200,2,20091205,       0911
318M20091121,        P06,      50,          1,          7,          7,2,20091205,       0849,   -30.0798,   171.2700,        588,   301.8,  13.4532,  35.1954,  35.1947,2,    194.8,2,   194.8,2,    3.75,2,    9.65,2,    0.01,2,    0.86,2,   2.238,2,   1.429,2,-999.000,1,    0.881,2,  2117.0,2,  2341.1,4,   7.8597,2,    25.00,-999.000,9,-999.0000,9, -999.00,9, -999.00,9,  -999.0,9,  -999.0,-999.000,9,-999.000,    45.0,2,-999.000,-999.0000, -999.00,  13.4105,  13.4440,2,20091205,       0908
318M20091121,        P06,      50,          1,          6,          6,2,20091205,       0849,   -30.0798,   171.2700,        588,   352.1,  12.5857,  35.1047,  35.0994,2,    195.3,2,   196.2,2,    4.72,2,   11.48,2,    0.01,2,    0.97,2,-999.000,9,-999.000,9,-999.000,9,-999.0000,9,  2124.4,2,  2311.0,2,   7.8208,2,    25.00,-999.000,9,-999.0000,9, -999.00,9, -999.00,9,  -999.0,9,  -999.0,-999.000,9,-999.000,    42.9,2,-999.000,-999.0000, -999.00,  12.5380,  12.5790,2,20091205,       0905
318M20091121,        P06,      50,          1,          5,          5,2,20091205,       0849,   -30.0798,   171.2700,        588,   401.1,  11.9686,  35.0343,  35.0331,2,    196.7,2,   196.8,2,    5.28,2,   12.64,2,    0.00,2,    1.04,2,   2.249,2,   1.395,2,-999.000,1,    0.743,2,  2127.5,2,  2306.2,2,   7.8064,2,    25.00,-999.000,9,-999.0000,9, -999.00,9, -999.00,9,  -999.0,9,  -999.0,-999.000,9,-999.000,  -999.0,5,-999.000,-999.0000, -999.00,  11.9159,  11.9689,2,20091205,       0902
318M20091121,        P06,      50,          1,          4,          4,2,20091205,       0849,   -30.0798,   171.2700,        588,   452.1,  11.3671,  34.9613,  34.9619,2,    198.0,2,   197.6,2,    6.06,2,   13.92,2,    0.00,2,    1.10,2,-999.000,9,-999.000,9,-999.000,9,-999.0000,9,  2132.2,2,  2303.3,2,   7.7839,2,    25.00,-999.000,9,-999.0000,9, -999.00,9, -999.00,9,  -999.0,9,  -999.0,-999.000,9,-999.000,    40.7,2,-999.000,-999.0000, -999.00,  11.3095,  11.3645,2,20091205,       0859
318M20091121,        P06,      50,          1,          3,          3,2,20091205,       0849,   -30.0798,   171.2700,        588,   502.7,  10.2116,  34.8248,  34.8099,3,    199.2,2,   199.0,2,    8.21,2,   16.84,2,    0.00,2,    1.28,2,   2.133,2,   1.285,2,-999.000,1,    0.547,2,  2140.8,2,  2298.7,2,   7.7648,2,    25.00,-999.000,9,-999.0000,9, -999.00,9, -999.00,9,  -999.0,9,  -999.0,-999.000,9,-999.000,  -999.0,5,-999.000,-999.0000, -999.00,  10.1517,  10.2520,3,20091205,       0856
318M20091121,        P06,      50,          1,          2,          2,2,20091205,       0849,   -30.0798,   171.2700,        588,   543.1,   9.2450,  34.7016,  34.7008,2,    201.5,2,   202.3,2,    9.37,2,   18.70,2,    0.01,2,    1.40,2,-999.000,9,-999.000,9,-999.000,9,-999.0000,9,  2145.7,2,  2296.5,2,   7.7473,2,    25.00,-999.000,9,-999.0000,9, -999.00,9, -999.00,9,  -999.0,9,  -999.0,-999.000,9,-999.000,  -999.0,9,-999.000,-999.0000, -999.00,   9.1841,   9.2282,2,20091205,       0853
318M20091121,        P06,      50,          1,          1,          1,2,20091205,       0849,   -30.0798,   171.2700,        588,   585.6,   8.0109,  34.5573,  34.5635,3,    206.4,2,   206.7,2,   11.13,2,   21.02,2,    0.00,2,    1.54,2,   1.878,2,   1.062,2,-999.000,1,    0.283,2,  2150.6,6,  2292.3,6,   7.7309,6,    25.00,-999.000,9,-999.0000,9, -999.00,9, -999.00,9,  -999.0,9,  -999.0,-999.000,9,-999.000,  -999.0,5,-999.000,-999.0000, -999.00,   7.9505,   8.0108,2,20091205,       0849