BOTTLE,20220818CCHSIOAMB
EXPOCODE,SECT_ID,STNNBR,CASTNO,SAMPNO,BTLNBR,BTLNBR_FLAG_W,DATE,TIME,LATITUDE,LONGITUDE,DEPTH,CTDPRS,CTDTMP,CTDSAL,SALNTY,SALNTY_FLAG_W,CTDOXY,CTDOXY_FLAG_W,OXYGEN,OXYGEN_FLAG_W,SILCAT,SILCAT_FLAG_W,NITRAT,NITRAT_FLAG_W,NITRIT,NITRIT_FLAG_W,PHSPHT,PHSPHT_FLAG_W,CFC-11,CFC-11_FLAG_W,CFC-12,CFC-12_FLAG_W,CFC113,CFC113_FLAG_W,SF6,SF6_FLAG_W,TCARBN,TCARBN_FLAG_W,ALKALI,ALKALI_FLAG_W,PH_SWS,PH_SWS_FLAG_W,PH_TMP,TRITUM,TRITUM_FLAG_W,HELIUM,HELIUM_FLAG_W,DELHE3,DELHE3_FLAG_W,DELC13,DELC13_FLAG_W,DELC14,DELC14_FLAG_W,C14ERR,NEON,NEON_FLAG_W,NEONER,DOC,DOC_FLAG_W,TRITER,HELIER,DELHER,THETA,SBE35,SBE35_FLAG_W,BTL_DATE,BTL_TIME
,,,,,,,,,,,METERS,DBAR,ITS-90,PSS-78,PSS-78,,UMOL/KG,,UMOL/KG,,UMOL/KG,,UMOL/KG,,UMOL/KG,,UMOL/KG,,PMOL/KG,,PMOL/KG,,PMOL/KG,,FMOL/KG,,UMOL/KG,,UMOL/KG,,,,DEG C,TU,,NMOL/KG,,PERCNT,,/MILLE,,/MILLE,,/MILLE,NMOL/KG,,NMOL/KG,UMOL/KG,,TU,NMOL/KG,PERCNT,DEG C,ITS-90,,,
318M20091121,        P06,      95,          3,         36,         36,2,20091217,       1544,   -32.5000,  -170.7503,       5677,     7.5,  19.8311,  35.4651,  35.4662,2,    232.4,2,    -0.7,3,    0.78,2,    0.00,2,    0.00,2,    0.13,2,   2.092,2,   1.336,2,-999.000,1,    1.212,2,  2055.8,6,  2330.5,6,   7.9950,2,    25.00,-999.000,9,-999.0000,9, -999.00,9, -999.00,9,  -999.0,9,  -999.0,-999.000,9,-999.000,  -999.0,9,-999.000,-999.0000, -999.00,  19.8297,  19.8298,2,20091217,       1840
318M20091121,        P06,      95,          3,         35,         35,2,20091217,       1544,   -32.5000,  -170.7503,       5677,    23.9,  19.8320,  35.4653,  35.4664,2,    233.5,2,   231.8,2,    0.75,2,    0.00,2,    0.00,2,    0.13,2,   2.094,2,   1.330,2,-999.000,1,    1.223,2,  -999.0,9,  -999.0,9,-999.0000,9,  -999.00,-999.000,9,-999.0000,9, -999.00,9, -999.00,9,  -999.0,9,  -999.0,-999.000,9,-999.000,  -999.0,9,-999.000,-999.0000, -999.00,  19.8276,  19.8313,2,20091217,       1838
318M20091121,        P06,      95,          3,         34,         34,2,20091217,       1544,   -32.5000,  -170.7503,       5677,    48.3,  17.4523,  35.5059,  35.5067,2,    249.7,2,   249.2,2,    0.53,2,    0.00,2,    0.00,2,    0.12,2,   2.329,2,   1.449,2,-999.000,1,    1.236,2,  -999.0,9,  -999.0,9,-999.0000,9,  -999.00,-999.000,9,-999.0000,9, -999.00,9, -999.00,9,  -999.0,9,  -999.0,-999.000,9,-999.000,  -999.0,9,-999.000,-999.0000, -999.00,  17.4442,  17.4534,2,20091217,       1835
318M20091121,        P06,      95,          3,         33,         33,2,20091217,       1544,   -32.5000,  -170.7503,       5677,    72.5,  15.4017,  35.4209,  35.4224,2,    232.6,2,   227.6,2,    1.12,2,    2.88,2,    0.05,2,    0.33,2,   2.389,2,   1.477,2,-999.000,1,    1.269,2,  2082.6,2,  2321.8,2,   7.9409,6,    25.00,-999.000,9,-999.0000,9, -999.00,9, -999.00,9,  -999.0,9,  -999.0,-999.000,9,-999.000,  -999.0,9,-999.000,-999.0000, -999.00,  15.3905,  15.4011,2,20091217,       1832
318M20091121,        P06,      95,          3,         32,         32,2,20091217,       1544,   -32.5000,  -170.7503,       5677,    98.7,  14.6082,  35.3156,  35.3156,2,    224.8,2,   224.8,2,    1.30,2,    4.56,2,    0.02,2,    0.44,2,   2.469,2,   1.522,2,-999.000,1,     1.23,2,  -999.0,9,  -999.0,9,-999.0000,9,  -999.00,-999.000,9,-999.0000,9, -999.00,9, -999.00,9,  -999.0,9,  -999.0,-999.000,9,-999.000,  -999.0,9,-999.000,-999.0000, -999.00,  14.5935,  14.6021,2,20091217,       1829
318M20091121,        P06,      95,          3,         31,         31,2,20091217,       1544,   -32.5000,  -170.7503,       5677,   150.5,  13.8718,  35.2652,  35.2682,2,    219.4,2,   225.0,2,    1.89,2,    6.27,2,    0.01,2,    0.54,2,   2.529,6,   1.553,6,-999.000,1,    1.276,6,  2101.5,2,  2317.8,2,   7.8949,2,    25.00,-999.000,9,-999.0000,9, -999.00,9, -999.00,9,  -999.0,9,  -999.0,-999.000,9,-999.000,  -999.0,9,-999.000,-999.0000, -999.00,  13.8502,  13.8717,2,20091217,       1826
318M20091121,        P06,      95,          3,         30,         30,2,20091217,       1544,   -32.5000,  -170.7503,       5677,   200.9,  12.8108,  35.1186,  35.1189,2,    207.8,2,   208.2,2,    2.69,2,   10.44,2,    0.01,2,    0.79,2,   2.559,2,   1.544,2,-999.000,1,    1.045,2,  -999.0,9,  -999.0,9,-999.0000,9,  -999.00,-999.000,9,-999.0000,9, -999.00,9, -999.00,9,  -999.0,9,  -999.0,-999.000,9,-999.000,  -999.0,9,-999.000,-999.0000, -999.00,  12.7834,  12.8155,2,20091217,       1823
318M20091121,        P06,      95,          3,         29,         29,2,20091217,       1544,   -32.5000,  -170.7503,       5677,   253.4,  11.8639,  34.9915,  34.9941,2,    207.5,2,   207.5,2,    3.49,2,   12.54,2,    0.01,2,    0.92,2,   2.621,2,   1.537,2,-999.000,1,    1.012,2,  2120.9,2,  2303.7,2,   7.8195,2,    25.00,-999.000,9,-999.0000,9, -999.00,9, -999.00,9,  -999.0,9,  -999.0,-999.000,9,-999.000,  -999.0,9,-999.000,-999.0000, -999.00,  11.8310,  11.8825,2,20091217,       1820
318M20091121,        P06,      95,          3,         28,         28,2,20091217,       1544,   -32.5000,  -170.7503,       5677,   300.1,  10.9688,  34.8675,  34.8670,2,    207.2,2,   206.1,2,    4.08,2,   14.59,2,    0.00,2,    1.05,2,   2.648,2,   1.559,2,-999.000,1,    0.836,2,  -999.0,9,  -999.0,9,-999.0000,9,  -999.00,-999.000,9,-999.0000,9, -999.00,9, -999.00,9,  -999.0,9,  -999.0,-999.000,9,-999.000,  -999.0,9,-999.000,-999.0000, -999.00,  10.9317,  10.9672,2,20091217,       1818
318M20091121,        P06,      95,          3,         27,         27,2,20091217,       1544,   -32.5000,  -170.7503,       5677,   352.7,  10.1418,  34.7628,  34.7655,2,    210.1,2,   209.5,2,    4.88,2,   16.31,2,    0.00,2,    1.15,2,   2.734,2,   1.585,2,-999.000,1,    0.773,2,  2132.2,2,  2296.8,2,   7.7510,2,    25.00,-999.000,9,-999.0000,9, -999.00,9, -999.00,9,  -999.0,9,  -999.0,-999.000,9,-999.000,  -999.0,9,-999.000,-999.0000, -999.00,  10.1003,  10.1371,2,20091217,       1816
318M20091121,        P06,      95,          3,         26,         26,2,20091217,       1544,   -32.5000,  -170.7503,       5677,   402.1,   9.2528,  34.6499,  34.6497,2,    213.1,2,   215.3,2,    5.47,2,   18.17,2,    0.00,2,    1.27,2,   2.826,2,   1.607,2,-999.000,1,    0.918,2,  -999.0,9,  -999.0,9,-999.0000,9,  -999.00,-999.000,9,-999.0000,9, -999.00,9, -999.00,9,  -999.0,9,  -999.0,-999.000,9,-999.000,  -999.0,9,-999.000,-999.0000, -999.00,   9.2080,   9.2364,2,20091217,       1813
318M20091121,        P06,      95,          3,         25,         25,2,20091217,       1544,   -32.5000,  -170.7503,       5677,   504.6,   8.1738,  34.5227,  34.5232,2,    220.8,2,   221.8,2,    6.26,2,   20.40,2,    0.00,2,    1.42,2,   2.921,2,   1.615,2,-999.000,1,    0.833,2,  2141.6,2,  2289.1,2,   7.7369,4,    25.00,-999.000,9,-999.0000,9, -999.00,9, -999.00,9,  -999.0,9,  -999.0,-999.000,9,-999.000,  -999.0,9,-999.000,-999.0000, -999.00,   8.1214,   8.1714,2,20091217,       1810
318M20091121,        P06,      95,          3,         24,         24,2,20091217,       1544,   -32.5000,  -170.7503,       5677,   606.7,   7.3431,  34.4338,  34.4338,2,    226.8,2,   228.0,2,    7.27,2,   21.99,2,    0.00,2,    1.52,2,   2.702,2,   1.440,2,-999.000,1,    0.586,2,  2142.5,2,  2288.2,2,   7.7270,2,    25.00,-999.000,9,-999.0000,9, -999.00,9, -999.00,9,  -999.0,9,  -999.0,-999.000,9,-999.000,  -999.0,9,-999.000,-999.0000, -999.00,   7.2836,   7.3444,2,20091217,       1807
318M20091121,        P06,      95,          3,         23,         23,2,20091217,       1544,   -32.5000,  -170.7503,       5677,   704.5,   6.7998,  34.3918,  34.3915,2,    226.6,2,   227.9,2,    9.30,2,   23.47,2,    0.00,2,    1.62,2,   2.153,2,   1.139,2,-999.000,1,    0.307,2,  2146.8,2,  2287.2,2,   7.7183,2,    25.00,-999.000,9,-999.0000,9, -999.00,9, -999.00,9,  -999.0,9,  -999.0,-999.000,9,-999.000,  -999.0,9,-999.000,-999.0000, -999.00,   6.7331,   6.8018,2,20091217,       1804
318M20091121,        P06,      95,          3,         22,         22,2,20091217,       1544,   -32.5000,  -170.7503,       5677,   803.7,   6.3429,  34.3786,  34.3782,2,    218.9,2,   218.1,2,   13.39,2,   25.25,2,    0.00,2,    1.74,2,   1.619,2,   0.844,2,-999.000,1,    0.197,2,  2157.7,2,  2289.5,2,   7.7038,4,    25.00,-999.000,9,-999.0000,9, -999.00,9, -999.00,9,  -999.0,9,  -999.0,-999.000,9,-999.000,  -999.0,9,-999.000,-999.0000, -999.00,   6.2690,   6.3370,2,20091217,       1801
318M20091121,        P06,      95,          3,         21,         21,2,20091217,       1544,   -32.5000,  -170.7503,       5677,   908.8,   5.7540,  34.3674,  34.3664,2,    210.4,2,   208.6,2,   19.56,2,   27.22,2,    0.00,2,    1.89,2,   1.064,2,   0.546,2,-999.000,1,    0.077,2,  2169.0,2,  2294.0,2,   7.6896,2,    25.00,-999.000,9,-999.0000,9, -999.00,9, -999.00,9,  -999.0,9,  -999.0,-999.000,9,-999.000,  -999.0,9,-999.000,-999.0000, -999.00,   5.6739,   5.7512,2,20091217,       1757
318M20091121,        P06,      95,          3,         20,         20,2,20091217,       1544,   -32.5000,  -170.7503,       5677,   997.9,   5.0641,  34.3478,  34.3467,2,    203.1,2,   202.4,2,   25.74,2,   29.14,2,    0.00,2,    2.02,2,   0.777,2,   0.394,2,-999.000,1,        0,2,  2182.2,2,  2297.3,6,   7.6538,2,    25.00,-999.000,9,-999.0000,9, -999.00,9, -999.00,9,  -999.0,9,  -999.0,-999.000,9,-999.000,  -999.0,9,-999.000,-999.0000, -999.00,   4.9807,   5.0553,2,20091217,       1754
318M20091121,        P06,      95,          3,         19,         19,2,20091217,       1544,   -32.5000,  -170.7503,       5677,  1108.3,   4.2875,  34.3695,  34.3688,2,    192.4,2,   191.5,2,   37.35,2,   31.07,2,    0.00,2,    2.17,2,   0.433,2,   0.225,2,-999.000,1,        0,2,  -999.0,9,  -999.0,9,-999.0000,9,  -999.00,-999.000,9,-999.0000,9, -999.00,9, -999.00,9,  -999.0,9,  -999.0,-999.000,9,-999.000,  -999.0,9,-999.000,-999.0000, -999.00,   4.2005,   4.2957,2,20091217,       1751
318M20091121,        P06,      95,          3,         18,         18,2,20091217,       1544,   -32.5000,  -170.7503,       5677,  1206.7,   3.7631,  34.3962,  34.3957,2,    184.4,2,   185.3,2,   46.72,2,   32.30,2,    0.00,2,    2.26,2,   0.254,2,   0.136,2,-999.000,1,        0,2,  -999.0,9,  -999.0,9,-999.0000,9,  -999.00,-999.000,9,-999.0000,9, -999.00,9, -999.00,9,  -999.0,9,  -999.0,-999.000,9,-999.000,  -999.0,9,-999.000,-999.0000, -999.00,   3.6723,   3.7630,2,20091217,       1748
318M20091121,        P06,      95,          3,         17,         17,2,20091217,       1544,   -32.5000,  -170.7503,       5677,  1311.3,   3.3568,  34.4377,  34.4386,2,    177.1,2,   176.3,2,   56.97,2,   33.16,2,    0.00,2,    2.33,2,   0.134,2,   0.070,2,-999.000,1,        0,2,  2232.0,2,  2327.6,2,   7.5992,2,    25.00,-999.000,9,-999.0000,9, -999.00,9, -999.00,9,  -999.0,9,  -999.0,-999.000,9,-999.000,  -999.0,9,-999.000,-999.0000, -999.00,   3.2611,   3.3540,2,20091217,       1744
318M20091121,        P06,      95,          3,         16,         16,2,20091217,       1544,   -32.5000,  -170.7503,       5677,  1406.4,   3.0543,  34.4840,  34.4836,2,    170.2,2,   169.7,2,   67.03,2,   33.73,2,    0.00,2,    2.37,2,   0.091,2,   0.053,2,-999.000,1,        0,2,  -999.0,9,  -999.0,9,-999.0000,9,  -999.00,-999.000,9,-999.0000,9, -999.00,9, -999.00,9,  -999.0,9,  -999.0,-999.000,9,-999.000,  -999.0,9,-999.000,-999.0000, -999.00,   2.9538,   3.0521,2,20091217,       1741
318M20091121,        P06,      95,          3,         15,         15,2,20091217,       1544,   -32.5000,  -170.7503,       5677,  1612.0,   2.6877,  34.5598,  34.5593,2,    159.9,2,   160.1,2,   85.18,2,   34.25,2,    0.00,2,    2.41,2,   0.027,2,   0.014,2,-999.000,1,        0,2,  -999.0,9,  -999.0,9,-999.0000,9,  -999.00,-999.000,9,-999.0000,9, -999.00,9, -999.00,9,  -999.0,9,  -999.0,-999.000,9,-999.000,  -999.0,9,-999.000,-999.0000, -999.00,   2.5743,   2.6871,2,20091217,       1735
318M20091121,        P06,      95,          3,         14,         14,2,20091217,       1544,   -32.5000,  -170.7503,       5677,  1817.6,   2.4259,  34.6062,  34.6063,2,    153.7,2,   153.6,2,  101.29,2,   34.68,2,    0.00,2,    2.45,2,   0.026,2,   0.016,2,-999.000,1,        0,2,  -999.0,9,  -999.0,9,-999.0000,9,  -999.00,-999.000,9,-999.0000,9, -999.00,9, -999.00,9,  -999.0,9,  -999.0,-999.000,9,-999.000,  -999.0,9,-999.000,-999.0000, -999.00,   2.2986,   2.4264,2,20091217,       1730
318M20091121,        P06,      95,          3,         13,         13,2,20091217,       1544,   -32.5000,  -170.7503,       5677,  2020.8,   2.2772,  34.6254,  34.6260,2,    150.5,2,   150.1,2,  110.00,2,   34.92,2,    0.00,2,    2.47,2,   0.023,2,   0.013,2,-999.000,1,        0,2,  2315.4,3,  2388.6,2,   7.5735,2,    25.00,-999.000,9,-999.0000,9, -999.00,9, -999.00,9,  -999.0,9,  -999.0,-999.000,9,-999.000,  -999.0,9,-999.000,-999.0000, -999.00,   2.1348,   2.2755,2,20091217,       1725
318M20091121,        P06,      95,          3,         12,         12,2,20091217,       1544,   -32.5000,  -170.7503,       5677,  2274.5,   2.1117,  34.6410,  34.6414,2,    147.5,2,   148.0,2,  118.94,2,   35.21,2,    0.00,2,    2.50,2,   0.018,2,   0.010,2,-999.000,1,        0,2,  -999.0,9,  -999.0,9,-999.0000,9,  -999.00,-999.000,9,-999.0000,9, -999.00,9, -999.00,9,  -999.0,9,  -999.0,-999.000,9,-999.000,  -999.0,9,-999.000,-999.0000, -999.00,   1.9497,   2.1117,2,20091217,       1719
318M20091121,        P06,      95,          3,         11,         11,2,20091217,       1544,   -32.5000,  -170.7503,       5677,  2525.3,   1.9935,  34.6519,  34.6518,2,    147.4,2,   147.4,2,  124.06,2,   35.31,2,    0.00,2,    2.50,2,   0.021,2,   0.011,2,-999.000,1,        0,2,  2308.6,2,  2404.5,2,   7.5725,2,    25.00,-999.000,9,-999.0000,9, -999.00,9, -999.00,9,  -999.0,9,  -999.0,-999.000,9,-999.000,  -999.0,9,-999.000,-999.0000, -999.00,   1.8110,   1.9934,2,20091217,       1714
318M20091121,        P06,      95,          3,         10,         10,2,20091217,       1544,   -32.5000,  -170.7503,       5677,  2782.0,   1.8860,  34.6617,  34.6620,2,    149.0,2,   149.2,2,  127.67,2,   35.26,2,    0.00,2,    2.50,2,   0.020,2,   0.012,2,-999.000,1,        0,2,  -999.0,9,  -999.0,9,-999.0000,9,  -999.00,-999.000,9,-999.0000,9, -999.00,9, -999.00,9,  -999.0,9,  -999.0,-999.000,9,-999.000,  -999.0,9,-999.000,-999.0000, -999.00,   1.6817,   1.8857,2,20091217,       1708
318M20091121,        P06,      95,          3,          9,          9,2,20091217,       1544,   -32.5000,  -170.7503,       5677,  3037.2,   1.7783,  34.6764,  34.6764,2,    156.1,2,   156.8,2,  126.38,2,   34.63,2,    0.00,2,    2.44,2,   0.027,2,   0.016,2,-999.000,1,        0,2,  2306.2,2,  2400.3,2,   7.5816,2,    25.00,-999.000,9,-999.0000,9, -999.00,9, -999.00,9,  -999.0,9,  -999.0,-999.000,9,-999.000,  -999.0,9,-999.000,-999.0000, -999.00,   1.5517,   1.7780,2,20091217,       1702
318M20091121,        P06,      95,          3,          8,          8,2,20091217,       1544,   -32.5000,  -170.7503,       5677,  3342.1,   1.6526,  34.7002,  34.7008,2,    173.3,2,   175.5,2,  116.53,2,   33.02,2,    0.00,2,    2.33,2,   0.024,2,   0.013,2,-999.000,1,        0,2,  -999.0,9,  -999.0,9,-999.0000,9,  -999.00,-999.000,9,-999.0000,9, -999.00,9, -999.00,9,  -999.0,9,  -999.0,-999.000,9,-999.000,  -999.0,9,-999.000,-999.0000, -999.00,   1.3986,   1.6522,2,20091217,       1655
318M20091121,        P06,      95,          3,          7,          7,2,20091217,       1544,   -32.5000,  -170.7503,       5677,  3647.5,   1.4792,  34.7167,  34.7165,2,    190.9,2,   191.3,2,  110.75,2,   31.78,2,    0.00,2,    2.23,2,   0.036,2,   0.021,2,-999.000,1,        0,2,  2266.6,2,  2368.6,2,   7.6092,2,    25.00,-999.000,9,-999.0000,9, -999.00,9, -999.00,9,  -999.0,9,  -999.0,-999.000,9,-999.000,  -999.0,9,-999.000,-999.0000, -999.00,   1.1981,   1.4794,2,20091217,       1648
318M20091121,        P06,      95,          3,          6,          6,2,20091217,       1544,   -32.5000,  -170.7503,       5677,  4008.7,   1.2426,  34.7172,  34.7171,2,    201.0,2,   201.4,2,  113.51,2,   31.54,2,    0.00,2,    2.20,2,   0.054,2,   0.029,2,-999.000,1,        0,2,  -999.0,9,  -999.0,9,-999.0000,9,  -999.00,-999.000,9,-999.0000,9, -999.00,9, -999.00,9,  -999.0,9,  -999.0,-999.000,9,-999.000,  -999.0,9,-999.000,-999.0000, -999.00,   0.9298,   1.2425,2,20091217,       1640
318M20091121,        P06,      95,          3,          5,          5,2,20091217,       1544,   -32.5000,  -170.7503,       5677,  4163.3,   1.1797,  34.7159,  34.7187,3,    203.0,2,   203.1,2,  115.20,2,   31.54,2,    0.00,2,    2.20,2,   0.050,2,   0.028,2,-999.000,1,        0,2,  2259.3,3,  2363.6,2,   7.6127,2,    25.00,-999.000,9,-999.0000,9, -999.00,9, -999.00,9,  -999.0,9,  -999.0,-999.000,9,-999.000,  -999.0,9,-999.000,-999.0000, -999.00,   0.8519,   1.1799,2,20091217,       1635
318M20091121,        P06,      95,          3,          4,          4,2,20091217,       1544,   -32.5000,  -170.7503,       5677,  4552.2,   1.0684,  34.7113,  34.7109,2,    206.3,2,   206.0,2,  118.81,2,   31.59,2,    0.00,2,    2.21,2,   0.071,2,   0.039,2,-999.000,1,        0,2,  -999.0,9,  -999.0,9,-999.0000,9,  -999.00,-999.000,9,-999.0000,9, -999.00,9, -999.00,9,  -999.0,9,  -999.0,-999.000,9,-999.000,  -999.0,9,-999.000,-999.0000, -999.00,   0.7007,   1.0685,2,20091217,       1625
318M20091121,        P06,      95,          3,          3,          3,2,20091217,       1544,   -32.5000,  -170.7503,       5677,  4889.3,   1.0504,  34.7093,  34.7089,2,    206.7,2,   206.7,2,  120.50,2,   31.64,2,    0.00,2,    2.21,2,   0.077,2,   0.043,2,-999.000,1,        0,2,  2260.5,2,  2365.6,2,   7.6146,2,    25.00,-999.000,9,-999.0000,9, -999.00,9, -999.00,9,  -999.0,9,  -999.0,-999.000,9,-999.000,  -999.0,9,-999.000,-999.0000, -999.00,   0.6443,   1.0503,2,20091217,       1615
318M20091121,        P06,      95,          3,          2,          2,2,20091217,       1544,   -32.5000,  -170.7503,       5677,  5337.5,   1.0755,  34.7083,  34.7087,2,    207.5,2,   206.6,2,  121.34,2,   31.79,2,    0.00,2,    2.22,2,   0.079,2,   0.046,2,-999.000,1,        0,2,  -999.0,9,  -999.0,9,-999.0000,9,  -999.00,-999.000,9,-999.0000,9, -999.00,9, -999.00,9,  -999.0,9,  -999.0,-999.000,9,-999.000,  -999.0,9,-999.000,-999.0000, -999.00,   0.6144,   1.0757,2,20091217,       1602
318M20091121,        P06,      95,          3,          1,          1,2,20091217,       1544,   -32.5000,  -170.7503,       5677,  5830.1,   1.1365,  34.7080,  34.7081,2,    206.4,2,   206.3,2,  121.76,2,   31.74,2,    0.00,2,    2.22,2,   0.082,2,   0.044,2,-999.000,1,        0,2,  2263.2,6,  2369.4,6,   7.6132,6,    25.00,-999.000,9,-999.0000,9, -999.00,9, -999.00,9,  -999.0,9,  -999.0,-999.000,9,-999.000,  -999.0,9,-999.000,-999.0000, -999.00,   0.6108,   1.1364,2,20091217,       1544