BOTTLE,20220818CCHSIOAMB
EXPOCODE,SECT_ID,STNNBR,CASTNO,SAMPNO,BTLNBR,BTLNBR_FLAG_W,DATE,TIME,LATITUDE,LONGITUDE,DEPTH,CTDPRS,CTDTMP,CTDSAL,SALNTY,SALNTY_FLAG_W,CTDOXY,CTDOXY_FLAG_W,OXYGEN,OXYGEN_FLAG_W,SILCAT,SILCAT_FLAG_W,NITRAT,NITRAT_FLAG_W,NITRIT,NITRIT_FLAG_W,PHSPHT,PHSPHT_FLAG_W,CFC-11,CFC-11_FLAG_W,CFC-12,CFC-12_FLAG_W,CFC113,CFC113_FLAG_W,SF6,SF6_FLAG_W,TCARBN,TCARBN_FLAG_W,ALKALI,ALKALI_FLAG_W,PH_SWS,PH_SWS_FLAG_W,PH_TMP,TRITUM,TRITUM_FLAG_W,HELIUM,HELIUM_FLAG_W,DELHE3,DELHE3_FLAG_W,DELC13,DELC13_FLAG_W,DELC14,DELC14_FLAG_W,C14ERR,NEON,NEON_FLAG_W,NEONER,DOC,DOC_FLAG_W,TRITER,HELIER,DELHER,THETA,SBE35,SBE35_FLAG_W,BTL_DATE,BTL_TIME
,,,,,,,,,,,METERS,DBAR,ITS-90,PSS-78,PSS-78,,UMOL/KG,,UMOL/KG,,UMOL/KG,,UMOL/KG,,UMOL/KG,,UMOL/KG,,PMOL/KG,,PMOL/KG,,PMOL/KG,,FMOL/KG,,UMOL/KG,,UMOL/KG,,,,DEG C,TU,,NMOL/KG,,PERCNT,,/MILLE,,/MILLE,,/MILLE,NMOL/KG,,NMOL/KG,UMOL/KG,,TU,NMOL/KG,PERCNT,DEG C,ITS-90,,,
318M20091121,        P06,      91,          2,         36,         36,2,20091216,       1257,   -32.5000,  -171.9201,       4254,     6.5,  21.2394,  35.5913,  35.5926,2,    229.1,2,   228.8,2,    0.53,2,    0.00,2,    0.00,2,    0.11,2,   2.050,2,   1.265,2,-999.000,1,    1.182,2,  2048.7,6,  2335.1,6,   7.9982,6,    25.00,-999.000,9,-999.0000,9, -999.00,9, -999.00,9,  -999.0,9,  -999.0,-999.000,9,-999.000,  -999.0,9,-999.000,-999.0000, -999.00,  21.2381,  21.2664,2,20091216,       1523
318M20091121,        P06,      91,          2,         35,         35,2,20091216,       1257,   -32.5000,  -171.9201,       4254,    20.0,  20.0655,  35.5637,  35.5641,2,    234.9,2,   234.3,2,    0.28,2,    0.00,2,    0.00,2,    0.11,2,   2.105,6,   1.298,6,-999.000,1,    1.233,6,  -999.0,9,  -999.0,9,-999.0000,9,  -999.00,-999.000,9,-999.0000,9, -999.00,9, -999.00,9,  -999.0,9,  -999.0,-999.000,9,-999.000,  -999.0,9,-999.000,-999.0000, -999.00,  20.0618,  20.0685,2,20091216,       1521
318M20091121,        P06,      91,          2,         34,         34,2,20091216,       1257,   -32.5000,  -171.9201,       4254,    39.5,  18.9361,  35.5454,  35.5463,2,    241.7,2,   242.0,2,    0.25,2,    0.00,2,    0.00,2,    0.11,2,   2.168,2,   1.336,2,-999.000,1,    1.192,2,  -999.0,9,  -999.0,9,-999.0000,9,  -999.00,-999.000,9,-999.0000,9, -999.00,9, -999.00,9,  -999.0,9,  -999.0,-999.000,9,-999.000,  -999.0,9,-999.000,-999.0000, -999.00,  18.9291,  18.9236,2,20091216,       1519
318M20091121,        P06,      91,          2,         33,         33,2,20091216,       1257,   -32.5000,  -171.9201,       4254,    65.3,  17.0840,  35.4955,  35.4962,2,    247.7,2,   246.9,2,    0.22,2,    0.00,2,    0.00,2,    0.12,2,   2.313,2,   1.394,2,-999.000,1,    1.202,2,  2043.9,2,  2329.5,2,   8.0026,2,    25.00,-999.000,9,-999.0000,9, -999.00,9, -999.00,9,  -999.0,9,  -999.0,-999.000,9,-999.000,  -999.0,9,-999.000,-999.0000, -999.00,  17.0732,  17.0836,2,20091216,       1516
318M20091121,        P06,      91,          2,         32,         32,2,20091216,       1257,   -32.5000,  -171.9201,       4254,    90.3,  16.3198,  35.5096,  35.5098,2,    235.5,2,   233.7,2,    0.41,2,    0.21,2,    0.05,2,    0.19,2,   2.319,2,   1.393,2,-999.000,1,    1.227,2,  -999.0,9,  -999.0,9,-999.0000,9,  -999.00,-999.000,9,-999.0000,9, -999.00,9, -999.00,9,  -999.0,9,  -999.0,-999.000,9,-999.000,  -999.0,9,-999.000,-999.0000, -999.00,  16.3053,  16.3170,2,20091216,       1513
318M20091121,        P06,      91,          2,         31,         31,2,20091216,       1257,   -32.5000,  -171.9201,       4254,   115.6,  15.8464,  35.4761,  35.4835,2,    225.5,2,   225.0,2,    0.59,2,    2.67,2,    0.03,2,    0.31,2,   2.346,2,   1.420,2,-999.000,1,    1.204,2,  2072.9,2,  2325.5,2,   7.9457,2,    25.00,-999.000,9,-999.0000,9, -999.00,9, -999.00,9,  -999.0,9,  -999.0,-999.000,9,-999.000,  -999.0,9,-999.000,-999.0000, -999.00,  15.8282,  15.8377,2,20091216,       1510
318M20091121,        P06,      91,          2,         30,         30,2,20091216,       1257,   -32.5000,  -171.9201,       4254,   140.7,  15.4222,  35.4252,  35.4275,2,    223.7,2,   224.9,2,    0.76,2,    3.30,2,    0.01,2,    0.36,2,   2.392,2,   1.424,2,-999.000,1,    1.126,2,  -999.0,9,  -999.0,9,-999.0000,9,  -999.00,-999.000,9,-999.0000,9, -999.00,9, -999.00,9,  -999.0,9,  -999.0,-999.000,9,-999.000,  -999.0,9,-999.000,-999.0000, -999.00,  15.4004,  15.4239,2,20091216,       1507
318M20091121,        P06,      91,          2,         29,         29,2,20091216,       1257,   -32.5000,  -171.9201,       4254,   186.9,  14.5487,  35.3058,  35.3060,2,    219.9,2,   218.3,2,    1.36,2,    5.53,2,    0.01,2,    0.51,2,   2.464,2,   1.468,2,-999.000,1,    1.204,2,  2088.9,2,  2315.3,2,   7.9011,2,    25.00,-999.000,9,-999.0000,9, -999.00,9, -999.00,9,  -999.0,9,  -999.0,-999.000,9,-999.000,  -999.0,9,-999.000,-999.0000, -999.00,  14.5209,  14.5506,2,20091216,       1504
318M20091121,        P06,      91,          2,         28,         28,2,20091216,       1257,   -32.5000,  -171.9201,       4254,   237.1,  13.6345,  35.2063,  35.2011,2,    207.3,2,   207.2,2,    2.16,2,    8.77,2,    0.01,2,    0.69,2,   2.517,2,   1.475,2,-999.000,1,    1.085,2,  -999.0,9,  -999.0,9,-999.0000,9,  -999.00,-999.000,9,-999.0000,9, -999.00,9, -999.00,9,  -999.0,9,  -999.0,-999.000,9,-999.000,  -999.0,9,-999.000,-999.0000, -999.00,  13.6007,  13.6309,2,20091216,       1500
318M20091121,        P06,      91,          2,         27,         27,2,20091216,       1257,   -32.5000,  -171.9201,       4254,   283.1,  12.7136,  35.0989,  35.1001,2,    206.6,2,   207.2,2,    2.55,2,   10.70,2,    0.01,2,    0.81,2,   2.585,2,   1.479,2,-999.000,1,    1.019,2,  2112.1,2,  2306.2,2,   7.8350,2,    25.00,-999.000,9,-999.0000,9, -999.00,9, -999.00,9,  -999.0,9,  -999.0,-999.000,9,-999.000,  -999.0,9,-999.000,-999.0000, -999.00,  12.6751,  12.7021,2,20091216,       1458
318M20091121,        P06,      91,          2,         26,         26,2,20091216,       1257,   -32.5000,  -171.9201,       4254,   338.8,  11.7023,  34.9767,  34.9702,2,    209.8,2,   208.7,2,    3.35,2,   12.95,2,    0.00,2,    0.95,2,   2.667,2,   1.509,2,-999.000,1,    0.931,2,  -999.0,9,  -999.0,9,-999.0000,9,  -999.00,-999.000,9,-999.0000,9, -999.00,9, -999.00,9,  -999.0,9,  -999.0,-999.000,9,-999.000,  -999.0,9,-999.000,-999.0000, -999.00,  11.6586,  11.6972,2,20091216,       1455
318M20091121,        P06,      91,          2,         25,         25,2,20091216,       1257,   -32.5000,  -171.9201,       4254,   389.7,  10.7770,  34.8461,  34.8455,2,    208.0,2,   208.5,2,    3.95,2,   15.04,2,    0.00,2,    1.08,2,   2.680,2,   1.486,2,-999.000,1,    0.748,2,  2125.7,2,  2301.9,2,   7.7834,2,    25.00,-999.000,9,-999.0000,9, -999.00,9, -999.00,9,  -999.0,9,  -999.0,-999.000,9,-999.000,  -999.0,9,-999.000,-999.0000, -999.00,  10.7292,  10.7772,2,20091216,       1452
318M20091121,        P06,      91,          2,         24,         24,2,20091216,       1257,   -32.5000,  -171.9201,       4254,   439.7,   9.7839,  34.7141,  34.7132,2,    209.4,2,   209.4,2,    4.75,2,   17.28,2,    0.00,2,    1.22,2,   2.720,2,   1.481,2,-999.000,1,    0.623,2,  -999.0,9,  -999.0,9,-999.0000,9,  -999.00,-999.000,9,-999.0000,9, -999.00,9, -999.00,9,  -999.0,9,  -999.0,-999.000,9,-999.000,  -999.0,9,-999.000,-999.0000, -999.00,   9.7331,   9.7837,2,20091216,       1449
318M20091121,        P06,      91,          2,         23,         23,2,20091216,       1257,   -32.5000,  -171.9201,       4254,   491.5,   8.9225,  34.6010,  34.6007,2,    215.6,2,   216.5,2,    4.93,2,   18.77,2,    0.00,2,    1.32,2,   2.838,2,   1.517,2,-999.000,1,    0.632,2,  2133.5,2,  2289.3,2,   7.7451,2,    25.00,-999.000,9,-999.0000,9, -999.00,9, -999.00,9,  -999.0,9,  -999.0,-999.000,9,-999.000,  -999.0,9,-999.000,-999.0000, -999.00,   8.8687,   8.9227,2,20091216,       1446
318M20091121,        P06,      91,          2,         22,         22,2,20091216,       1257,   -32.5000,  -171.9201,       4254,   567.7,   8.0340,  34.5011,  34.5004,2,    223.3,2,   223.3,2,    5.74,2,   20.58,2,    0.00,2,    1.44,2,   2.845,2,   1.487,2,-999.000,1,    0.381,2,  -999.0,9,  -999.0,9,-999.0000,9,  -999.00,-999.000,9,-999.0000,9, -999.00,9, -999.00,9,  -999.0,9,  -999.0,-999.000,9,-999.000,  -999.0,9,-999.000,-999.0000, -999.00,   7.9754,   8.0347,2,20091216,       1443
318M20091121,        P06,      91,          2,         21,         21,2,20091216,       1257,   -32.5000,  -171.9201,       4254,   669.2,   7.2892,  34.4267,  34.4253,2,    228.7,2,   228.2,2,    6.96,2,   22.12,2,    0.00,2,    1.54,2,   2.680,2,   1.367,2,-999.000,1,    0.299,2,  2137.1,2,  2284.6,2,   7.7260,2,    25.00,-999.000,9,-999.0000,9, -999.00,9, -999.00,9,  -999.0,9,  -999.0,-999.000,9,-999.000,  -999.0,9,-999.000,-999.0000, -999.00,   7.2235,   7.2897,2,20091216,       1439
318M20091121,        P06,      91,          2,         20,         20,2,20091216,       1257,   -32.5000,  -171.9201,       4254,   771.4,   6.6612,  34.3822,  34.3815,2,    227.7,2,   226.9,2,    9.44,2,   23.89,2,    0.00,2,    1.66,2,   1.976,2,   0.982,2,-999.000,1,    0.243,2,  2143.3,2,  2284.8,2,   7.7169,2,    25.00,-999.000,9,-999.0000,9, -999.00,9, -999.00,9,  -999.0,9,  -999.0,-999.000,9,-999.000,  -999.0,9,-999.000,-999.0000, -999.00,   6.5886,   6.6618,2,20091216,       1435
318M20091121,        P06,      91,          2,         19,         19,2,20091216,       1257,   -32.5000,  -171.9201,       4254,   868.9,   6.1758,  34.3578,  34.3571,2,    219.5,2,   221.3,2,   12.76,2,   25.49,2,    0.00,2,    1.77,2,   1.503,2,   0.732,2,-999.000,1,    0.033,2,  2150.7,2,  2286.9,6,   7.7012,2,    25.00,-999.000,9,-999.0000,9, -999.00,9, -999.00,9,  -999.0,9,  -999.0,-999.000,9,-999.000,  -999.0,9,-999.000,-999.0000, -999.00,   6.0967,   6.1762,2,20091216,       1432
318M20091121,        P06,      91,          2,         18,         18,2,20091216,       1257,   -32.5000,  -171.9201,       4254,   969.7,   5.5548,  34.3471,  34.3465,2,    208.0,2,   211.2,2,   19.03,2,   27.64,2,    0.00,2,    1.92,2,   0.990,2,   0.486,2,-999.000,1,        0,2,  2164.4,2,  2291.3,2,   7.6830,2,    25.00,-999.000,9,-999.0000,9, -999.00,9, -999.00,9,  -999.0,9,  -999.0,-999.000,9,-999.000,  -999.0,9,-999.000,-999.0000, -999.00,   5.4704,   5.5564,2,20091216,       1429
318M20091121,        P06,      91,          2,         17,         17,2,20091216,       1257,   -32.5000,  -171.9201,       4254,  1072.1,   4.8862,  34.3537,  34.3528,2,    198.6,2,   199.0,2,   27.85,2,   29.76,2,    0.00,2,    2.07,2,   0.581,2,   0.293,2,-999.000,1,        0,2,  2181.5,2,  2298.7,2,   7.6491,2,    25.00,-999.000,9,-999.0000,9, -999.00,9, -999.00,9,  -999.0,9,  -999.0,-999.000,9,-999.000,  -999.0,9,-999.000,-999.0000, -999.00,   4.7975,   4.8872,2,20091216,       1425
318M20091121,        P06,      91,          2,         16,         16,2,20091216,       1257,   -32.5000,  -171.9201,       4254,  1173.6,   4.2342,  34.3753,  34.3747,2,    188.6,2,   189.8,2,   38.61,2,   31.50,2,    0.00,2,    2.20,2,   0.321,2,   0.168,2,-999.000,1,        0,2,  -999.0,9,  -999.0,9,-999.0000,9,  -999.00,-999.000,9,-999.0000,9, -999.00,9, -999.00,9,  -999.0,9,  -999.0,-999.000,9,-999.000,  -999.0,9,-999.000,-999.0000, -999.00,   4.1420,   4.2353,2,20091216,       1422
318M20091121,        P06,      91,          2,         15,         15,2,20091216,       1257,   -32.5000,  -171.9201,       4254,  1276.0,   3.6752,  34.4109,  34.4093,2,    182.2,2,   181.5,2,   49.44,2,   32.69,2,    0.00,2,    2.30,2,   0.183,2,   0.098,2,-999.000,1,        0,2,  2216.0,2,  2319.3,2,   7.6054,2,    25.00,-999.000,9,-999.0000,9, -999.00,9, -999.00,9,  -999.0,9,  -999.0,-999.000,9,-999.000,  -999.0,9,-999.000,-999.0000, -999.00,   3.5794,   3.6788,2,20091216,       1418
318M20091121,        P06,      91,          2,         14,         14,2,20091216,       1257,   -32.5000,  -171.9201,       4254,  1376.5,   3.2660,  34.4571,  34.4558,2,    173.9,2,   174.4,2,   60.72,2,   33.49,2,    0.00,2,    2.36,2,   0.075,2,   0.041,2,-999.000,1,        0,2,  -999.0,9,  -999.0,9,-999.0000,9,  -999.00,-999.000,9,-999.0000,9, -999.00,9, -999.00,9,  -999.0,9,  -999.0,-999.000,9,-999.000,  -999.0,9,-999.000,-999.0000, -999.00,   3.1658,   3.2655,2,20091216,       1414
318M20091121,        P06,      91,          2,         13,         13,2,20091216,       1257,   -32.5000,  -171.9201,       4254,  1474.7,   2.9812,  34.5038,  34.5024,2,    167.9,2,   166.9,2,   71.00,2,   33.97,2,    0.00,2,    2.39,2,   0.046,2,   0.026,2,-999.000,1,        0,2,  -999.0,9,  -999.0,9,-999.0000,9,  -999.00,-999.000,9,-999.0000,9, -999.00,9, -999.00,9,  -999.0,9,  -999.0,-999.000,9,-999.000,  -999.0,9,-999.000,-999.0000, -999.00,   2.8758,   2.9824,2,20091216,       1411
318M20091121,        P06,      91,          2,         12,         12,2,20091216,       1257,   -32.5000,  -171.9201,       4254,  1578.2,   2.7942,  34.5422,  34.5408,2,    162.2,2,   162.0,2,   81.08,2,   34.20,2,    0.00,2,    2.41,2,   0.033,2,   0.020,2,-999.000,1,        0,2,  2259.3,2,  2355.2,2,   7.5818,2,    25.00,-999.000,9,-999.0000,9, -999.00,9, -999.00,9,  -999.0,9,  -999.0,-999.000,9,-999.000,  -999.0,9,-999.000,-999.0000, -999.00,   2.6824,   2.7946,2,20091216,       1407
318M20091121,        P06,      91,          2,         11,         11,2,20091216,       1257,   -32.5000,  -171.9201,       4254,  1680.3,   2.6234,  34.5743,  34.5735,2,    157.9,2,   157.8,2,   90.34,2,   34.49,2,    0.00,2,    2.44,2,   0.031,2,   0.019,2,-999.000,1,        0,2,  -999.0,9,  -999.0,9,-999.0000,9,  -999.00,-999.000,9,-999.0000,9, -999.00,9, -999.00,9,  -999.0,9,  -999.0,-999.000,9,-999.000,  -999.0,9,-999.000,-999.0000, -999.00,   2.5051,   2.6232,2,20091216,       1403
318M20091121,        P06,      91,          2,         10,         10,2,20091216,       1257,   -32.5000,  -171.9201,       4254,  1782.2,   2.5030,  34.5952,  34.5947,2,    154.6,2,   154.0,2,   98.10,2,   34.73,2,    0.00,2,    2.47,2,   0.026,2,   0.016,2,-999.000,1,        0,2,  -999.0,9,  -999.0,9,-999.0000,9,  -999.00,-999.000,9,-999.0000,9, -999.00,9, -999.00,9,  -999.0,9,  -999.0,-999.000,9,-999.000,  -999.0,9,-999.000,-999.0000, -999.00,   2.3777,   2.5033,2,20091216,       1400
318M20091121,        P06,      91,          2,          9,          9,2,20091216,       1257,   -32.5000,  -171.9201,       4254,  1951.0,   2.3523,  34.6163,  34.6158,2,    151.7,2,   151.7,2,  106.53,2,   35.01,2,    0.00,2,    2.48,2,   0.020,2,   0.011,2,-999.000,1,        0,2,  2292.4,2,  2384.9,2,   7.5612,2,    25.00,-999.000,9,-999.0000,9, -999.00,9, -999.00,9,  -999.0,9,  -999.0,-999.000,9,-999.000,  -999.0,9,-999.000,-999.0000, -999.00,   2.2148,   2.3524,2,20091216,       1355
318M20091121,        P06,      91,          2,          8,          8,2,20091216,       1257,   -32.5000,  -171.9201,       4254,  2186.1,   2.2055,  34.6328,  34.6331,2,    149.2,2,   149.1,2,  114.54,2,   35.25,2,    0.00,2,    2.51,2,   0.012,2,   0.007,2,-999.000,1,        0,2,  -999.0,9,  -999.0,9,-999.0000,9,  -999.00,-999.000,9,-999.0000,9, -999.00,9, -999.00,9,  -999.0,9,  -999.0,-999.000,9,-999.000,  -999.0,9,-999.000,-999.0000, -999.00,   2.0498,   2.2056,2,20091216,       1349
318M20091121,        P06,      91,          2,          7,          7,2,20091216,       1257,   -32.5000,  -171.9201,       4254,  2438.9,   2.0770,  34.6453,  34.6449,2,    148.4,2,   149.0,2,  120.40,2,   35.39,2,    0.00,2,    2.51,2,   0.017,2,   0.011,2,-999.000,1,        0,2,  2305.6,2,  2400.9,2,   7.5591,2,    25.00,-999.000,9,-999.0000,9, -999.00,9, -999.00,9,  -999.0,9,  -999.0,-999.000,9,-999.000,  -999.0,9,-999.000,-999.0000, -999.00,   1.9009,   2.0773,2,20091216,       1343
318M20091121,        P06,      91,          2,          6,          6,2,20091216,       1257,   -32.5000,  -171.9201,       4254,  2695.8,   1.9503,  34.6571,  34.6577,2,    150.0,2,   149.6,2,  124.72,2,   35.29,2,    0.00,2,    2.51,2,   0.013,2,   0.009,2,-999.000,1,        0,2,  -999.0,9,  -999.0,9,-999.0000,9,  -999.00,-999.000,9,-999.0000,9, -999.00,9, -999.00,9,  -999.0,9,  -999.0,-999.000,9,-999.000,  -999.0,9,-999.000,-999.0000, -999.00,   1.7528,   1.9500,2,20091216,       1337
318M20091121,        P06,      91,          2,          5,          5,2,20091216,       1257,   -32.5000,  -171.9201,       4254,  2952.6,   1.8243,  34.6720,  34.6701,2,    155.5,2,   155.0,2,  125.37,2,   34.81,2,    0.00,2,    2.47,2,   0.012,2,   0.006,2,-999.000,1,        0,2,  2306.0,2,  2399.8,2,   7.5862,2,    25.00,-999.000,9,-999.0000,9, -999.00,9, -999.00,9,  -999.0,9,  -999.0,-999.000,9,-999.000,  -999.0,9,-999.000,-999.0000, -999.00,   1.6050,   1.8241,2,20091216,       1331
318M20091121,        P06,      91,          2,          4,          4,2,20091216,       1257,   -32.5000,  -171.9201,       4254,  3242.0,   1.6823,  34.6960,  34.6965,2,    171.3,2,   172.7,2,  117.29,2,   33.34,2,    0.00,2,    2.36,2,   0.014,2,   0.009,2,-999.000,1,        0,2,  -999.0,9,  -999.0,9,-999.0000,9,  -999.00,-999.000,9,-999.0000,9, -999.00,9, -999.00,9,  -999.0,9,  -999.0,-999.000,9,-999.000,  -999.0,9,-999.000,-999.0000, -999.00,   1.4376,   1.6826,2,20091216,       1324
318M20091121,        P06,      91,          2,          3,          3,2,20091216,       1257,   -32.5000,  -171.9201,       4254,  3694.7,   1.4043,  34.7170,  34.7173,2,    195.2,2,   195.0,2,  110.75,2,   31.72,2,    0.00,2,    2.23,2,   0.029,2,   0.018,2,-999.000,1,        0,2,  2264.1,2,  2366.4,2,   7.6093,2,    25.00,-999.000,9,-999.0000,9, -999.00,9, -999.00,9,  -999.0,9,  -999.0,-999.000,9,-999.000,  -999.0,9,-999.000,-999.0000, -999.00,   1.1203,   1.4047,2,20091216,       1314
318M20091121,        P06,      91,          2,          2,          2,2,20091216,       1257,   -32.5000,  -171.9201,       4254,  4062.9,   1.1812,  34.7151,  34.7160,2,    203.0,2,   202.8,2,  114.87,2,   31.48,2,    0.00,2,    2.22,2,   0.051,2,   0.032,2,-999.000,1,        0,2,  -999.0,9,  -999.0,9,-999.0000,9,  -999.00,-999.000,9,-999.0000,9, -999.00,9, -999.00,9,  -999.0,9,  -999.0,-999.000,9,-999.000,  -999.0,9,-999.000,-999.0000, -999.00,   0.8643,   1.1814,2,20091216,       1305
318M20091121,        P06,      91,          2,          1,          1,2,20091216,       1257,   -32.5000,  -171.9201,       4254,  4352.3,   1.0917,  34.7120,  34.7124,2,    205.2,2,   205.0,2,  117.69,2,   31.67,2,    0.00,2,    2.23,2,   0.068,2,   0.044,2,-999.000,1,        0,2,  2260.9,6,  2366.4,6,   7.6155,6,    25.00,-999.000,9,-999.0000,9, -999.00,9, -999.00,9,  -999.0,9,  -999.0,-999.000,9,-999.000,  -999.0,9,-999.000,-999.0000, -999.00,   0.7458,   1.0922,2,20091216,       1257