BOTTLE,20220818CCHSIOAMB
EXPOCODE,SECT_ID,STNNBR,CASTNO,SAMPNO,BTLNBR,BTLNBR_FLAG_W,DATE,TIME,LATITUDE,LONGITUDE,DEPTH,CTDPRS,CTDTMP,CTDSAL,SALNTY,SALNTY_FLAG_W,CTDOXY,CTDOXY_FLAG_W,OXYGEN,OXYGEN_FLAG_W,SILCAT,SILCAT_FLAG_W,NITRAT,NITRAT_FLAG_W,NITRIT,NITRIT_FLAG_W,PHSPHT,PHSPHT_FLAG_W,CFC-11,CFC-11_FLAG_W,CFC-12,CFC-12_FLAG_W,CFC113,CFC113_FLAG_W,SF6,SF6_FLAG_W,TCARBN,TCARBN_FLAG_W,ALKALI,ALKALI_FLAG_W,PH_SWS,PH_SWS_FLAG_W,PH_TMP,TRITUM,TRITUM_FLAG_W,HELIUM,HELIUM_FLAG_W,DELHE3,DELHE3_FLAG_W,DELC13,DELC13_FLAG_W,DELC14,DELC14_FLAG_W,C14ERR,NEON,NEON_FLAG_W,NEONER,DOC,DOC_FLAG_W,TRITER,HELIER,DELHER,THETA,SBE35,SBE35_FLAG_W,BTL_DATE,BTL_TIME
,,,,,,,,,,,METERS,DBAR,ITS-90,PSS-78,PSS-78,,UMOL/KG,,UMOL/KG,,UMOL/KG,,UMOL/KG,,UMOL/KG,,UMOL/KG,,PMOL/KG,,PMOL/KG,,PMOL/KG,,FMOL/KG,,UMOL/KG,,UMOL/KG,,,,DEG C,TU,,NMOL/KG,,PERCNT,,/MILLE,,/MILLE,,/MILLE,NMOL/KG,,NMOL/KG,UMOL/KG,,TU,NMOL/KG,PERCNT,DEG C,ITS-90,,,
318M20091121,        P06,     112,          2,         36,         36,2,20091225,       0048,   -32.5000,  -156.3864,       5336,     4.4,  20.7053,  35.3968,  35.3965,2,    226.3,2,   226.2,2,    0.25,2,   -0.02,2,    0.00,2,    0.11,2,   1.994,2,   1.353,2,-999.000,1,    1.395,2,  2045.4,6,  -999.0,9,   8.0021,2,    25.00,-999.000,9,-999.0000,9, -999.00,9, -999.00,9,  -999.0,9,  -999.0,-999.000,9,-999.000,    57.9,2,-999.000,-999.0000, -999.00,  20.7045,  20.7046,2,20091225,       0316
318M20091121,        P06,     112,          2,         35,         35,2,20091225,       0048,   -32.5000,  -156.3864,       5336,    21.7,  20.6504,  35.3950,  35.3949,2,    226.4,2,   226.1,2,    0.01,2,    0.00,2,    0.00,2,    0.11,2,   2.010,2,   1.335,2,-999.000,1,     1.31,2,  2045.2,2,  2323.0,2,   8.0028,6,    25.00,-999.000,9,-999.0000,9, -999.00,9, -999.00,9,  -999.0,9,  -999.0,-999.000,9,-999.000,    59.2,2,-999.000,-999.0000, -999.00,  20.6463,  20.6411,2,20091225,       0313
318M20091121,        P06,     112,          2,         34,         34,2,20091225,       0048,   -32.5000,  -156.3864,       5336,    40.9,  19.1071,  35.3461,  35.3495,2,    236.0,2,   237.1,2,   -0.02,2,   -0.03,2,    0.00,2,    0.11,2,   2.171,2,   1.436,2,-999.000,1,    1.262,2,  2046.0,2,  2316.1,2,   7.9961,2,    25.00,-999.000,9,-999.0000,9, -999.00,9, -999.00,9,  -999.0,9,  -999.0,-999.000,9,-999.000,    57.0,2,-999.000,-999.0000, -999.00,  19.0998,  19.0763,3,20091225,       0311
318M20091121,        P06,     112,          2,         33,         33,2,20091225,       0048,   -32.5000,  -156.3864,       5336,    66.2,  17.6425,  35.3763,  35.3778,2,    245.9,2,   245.9,2,   -0.05,2,   -0.03,2,    0.00,2,    0.11,2,   2.296,2,   1.511,2,-999.000,1,    1.324,2,  2044.9,2,  2317.7,2,   7.9997,2,    25.00,-999.000,9,-999.0000,9, -999.00,9, -999.00,9,  -999.0,9,  -999.0,-999.000,9,-999.000,    56.6,2,-999.000,-999.0000, -999.00,  17.6313,  17.6443,2,20091225,       0310
318M20091121,        P06,     112,          2,         32,         32,2,20091225,       0048,   -32.5000,  -156.3864,       5336,    92.1,  16.7701,  35.4039,  35.4046,2,    246.8,2,   244.4,2,    0.33,2,    0.00,2,    0.00,2,    0.13,2,   2.343,2,   1.527,2,-999.000,1,    1.339,2,  2050.8,2,  2321.6,2,   7.9933,2,    25.00,-999.000,9,-999.0000,9, -999.00,9, -999.00,9,  -999.0,9,  -999.0,-999.000,9,-999.000,    54.8,2,-999.000,-999.0000, -999.00,  16.7550,  16.7904,2,20091225,       0308
318M20091121,        P06,     112,          2,         31,         31,2,20091225,       0048,   -32.5000,  -156.3864,       5336,   136.4,  15.6870,  35.3298,  35.3300,2,    216.9,2,   212.9,2,    0.71,2,    3.47,2,    0.02,2,    0.37,2,   2.370,2,   1.531,2,-999.000,1,    1.274,2,  2081.0,2,  2319.3,2,   7.9302,2,    25.00,-999.000,9,-999.0000,9, -999.00,9, -999.00,9,  -999.0,9,  -999.0,-999.000,9,-999.000,    47.3,2,-999.000,-999.0000, -999.00,  15.6657,  15.6857,2,20091225,       0305
318M20091121,        P06,     112,          2,         30,         30,2,20091225,       0048,   -32.5000,  -156.3864,       5336,   186.4,  14.6127,  35.2234,  35.2227,2,    206.1,2,   204.3,2,    1.08,2,    6.30,2,    0.01,2,    0.56,2,   2.463,2,   1.548,2,-999.000,1,    1.072,2,  2097.9,2,  2314.7,2,   7.8890,2,    25.00,-999.000,9,-999.0000,9, -999.00,9, -999.00,9,  -999.0,9,  -999.0,-999.000,9,-999.000,    49.0,2,-999.000,-999.0000, -999.00,  14.5849,  14.6115,2,20091225,       0303
318M20091121,        P06,     112,          2,         29,         29,2,20091225,       0048,   -32.5000,  -156.3864,       5336,   236.8,  13.4715,  35.1266,  35.1284,2,    202.4,2,   203.3,2,    1.88,2,    8.63,2,    0.01,2,    0.70,2,   2.581,6,   1.618,6,-999.000,1,    1.046,6,  2110.0,2,  2303.2,2,   7.8551,2,    25.00,-999.000,9,-999.0000,9, -999.00,9, -999.00,9,  -999.0,9,  -999.0,-999.000,9,-999.000,    44.2,2,-999.000,-999.0000, -999.00,  13.4381,  13.4810,2,20091225,       0301
318M20091121,        P06,     112,          2,         28,         28,2,20091225,       0048,   -32.5000,  -156.3864,       5336,   285.6,  11.8249,  34.9015,  34.9031,2,    204.5,2,   204.2,2,    2.46,2,   12.05,2,    0.01,2,    0.93,2,   2.710,2,   1.638,2,-999.000,1,    0.957,2,  2119.7,2,  2295.4,2,   7.8159,2,    25.00,-999.000,9,-999.0000,9, -999.00,9, -999.00,9,  -999.0,9,  -999.0,-999.000,9,-999.000,    41.9,2,-999.000,-999.0000, -999.00,  11.7879,  11.8082,2,20091225,       0258
318M20091121,        P06,     112,          2,         27,         27,2,20091225,       0048,   -32.5000,  -156.3864,       5336,   345.9,  10.2282,  34.7037,  34.7056,2,    210.3,2,   210.6,2,    3.26,2,   15.17,2,    0.00,2,    1.12,2,   2.828,2,   1.666,2,-999.000,1,    0.759,2,  2127.2,2,  2291.4,2,   7.7827,2,    25.00,-999.000,9,-999.0000,9, -999.00,9, -999.00,9,  -999.0,9,  -999.0,-999.000,9,-999.000,    42.7,2,-999.000,-999.0000, -999.00,  10.1873,  10.2152,2,20091225,       0255
318M20091121,        P06,     112,          2,         26,         26,2,20091225,       0048,   -32.5000,  -156.3864,       5336,   385.1,   9.3654,  34.6018,  34.6029,2,    217.1,2,   216.6,2,    3.63,2,   16.76,2,    0.01,2,    1.22,2,   2.922,2,   1.695,2,-999.000,1,     0.75,2,  2130.7,2,  2286.0,2,   7.7674,2,    25.00,-999.000,9,-999.0000,9, -999.00,9, -999.00,9,  -999.0,9,  -999.0,-999.000,9,-999.000,    41.8,2,-999.000,-999.0000, -999.00,   9.3223,   9.3684,2,20091225,       0253
318M20091121,        P06,     112,          2,         25,         25,2,20091225,       0048,   -32.5000,  -156.3864,       5336,   467.3,   8.0608,  34.4729,  34.4733,2,    232.1,2,   232.0,2,    4.63,2,   19.18,2,    0.01,2,    1.37,2,   3.175,2,   1.815,2,-999.000,1,    0.749,2,  2135.8,2,  2260.5,4,   7.7489,2,    25.00,-999.000,9,-999.0000,9, -999.00,9, -999.00,9,  -999.0,9,  -999.0,-999.000,9,-999.000,    41.4,2,-999.000,-999.0000, -999.00,   8.0128,   8.0617,2,20091225,       0250
318M20091121,        P06,     112,          2,         24,         24,2,20091225,       0048,   -32.5000,  -156.3864,       5336,   568.1,   7.2467,  34.4065,  34.4069,2,    237.4,2,   237.2,2,    6.03,2,   21.32,2,    0.00,2,    1.50,2,   3.045,2,   1.682,2,-999.000,1,    0.582,2,  2139.0,2,  2283.6,2,   7.7366,2,    25.00,-999.000,9,-999.0000,9, -999.00,9, -999.00,9,  -999.0,9,  -999.0,-999.000,9,-999.000,  -999.0,9,-999.000,-999.0000, -999.00,   7.1915,   7.2456,2,20091225,       0247
318M20091121,        P06,     112,          2,         23,         23,2,20091225,       0048,   -32.5000,  -156.3864,       5336,   669.5,   6.7421,  34.3683,  34.3684,2,    237.5,2,   238.8,2,    7.65,2,   22.69,2,    0.00,2,    1.58,2,   2.571,2,   1.444,2,-999.000,1,    0.436,2,  2144.9,2,  2283.8,2,   7.7297,2,    25.00,-999.000,9,-999.0000,9, -999.00,9, -999.00,9,  -999.0,9,  -999.0,-999.000,9,-999.000,    41.5,2,-999.000,-999.0000, -999.00,   6.6792,   6.7409,2,20091225,       0244
318M20091121,        P06,     112,          2,         22,         22,2,20091225,       0048,   -32.5000,  -156.3864,       5336,   770.6,   6.2706,  34.3425,  34.3403,2,    232.2,2,   232.2,2,   10.29,2,   24.46,2,    0.00,2,    1.70,2,   2.000,2,   1.108,2,-999.000,1,    0.267,2,  2150.5,2,  2284.6,6,   7.7169,2,    25.00,-999.000,9,-999.0000,9, -999.00,9, -999.00,9,  -999.0,9,  -999.0,-999.000,9,-999.000,  -999.0,9,-999.000,-999.0000, -999.00,   6.2004,   6.2705,2,20091225,       0240
318M20091121,        P06,     112,          2,         21,         21,2,20091225,       0048,   -32.5000,  -156.3864,       5336,   871.2,   5.6668,  34.3233,  34.3248,2,    221.0,2,   220.9,2,   15.19,2,   26.72,2,    0.00,2,    1.86,2,   1.368,2,   0.693,2,-999.000,1,    0.107,2,  2162.7,2,  2288.8,2,   7.6908,2,    25.00,-999.000,9,-999.0000,9, -999.00,9, -999.00,9,  -999.0,9,  -999.0,-999.000,9,-999.000,    40.1,2,-999.000,-999.0000, -999.00,   5.5909,   5.6745,2,20091225,       0237
318M20091121,        P06,     112,          2,         20,         20,2,20091225,       0048,   -32.5000,  -156.3864,       5336,   973.0,   5.1965,  34.3210,  34.3214,2,    211.3,2,   211.4,2,   20.91,2,   28.56,2,    0.00,2,    1.98,2,   0.993,2,   0.499,2,-999.000,1,        0,2,  2173.8,6,  2289.8,2,   7.6700,2,    25.00,-999.000,9,-999.0000,9, -999.00,9, -999.00,9,  -999.0,9,  -999.0,-999.000,9,-999.000,  -999.0,9,-999.000,-999.0000, -999.00,   5.1145,   5.1955,2,20091225,       0234
318M20091121,        P06,     112,          2,         19,         19,2,20091225,       0048,   -32.5000,  -156.3864,       5336,  1075.5,   4.5072,  34.3340,  34.3352,2,    200.5,2,   199.2,2,   30.15,2,   30.70,2,    0.00,2,    2.13,2,   0.580,2,   0.288,2,-999.000,1,        0,2,  2194.3,2,  2297.9,2,   7.6392,2,    25.00,-999.000,9,-999.0000,9, -999.00,9, -999.00,9,  -999.0,9,  -999.0,-999.000,9,-999.000,    38.2,2,-999.000,-999.0000, -999.00,   4.4213,   4.5065,2,20091225,       0231
318M20091121,        P06,     112,          2,         18,         18,2,20091225,       0048,   -32.5000,  -156.3864,       5336,  1176.2,   3.9495,  34.3606,  34.3608,2,    190.4,2,   190.7,2,   40.02,2,   32.21,2,    0.00,2,    2.24,2,   0.343,2,   0.171,2,-999.000,1,        0,2,  2210.6,2,  2306.8,2,   7.6163,2,    25.00,-999.000,9,-999.0000,9, -999.00,9, -999.00,9,  -999.0,9,  -999.0,-999.000,9,-999.000,  -999.0,9,-999.000,-999.0000, -999.00,   3.8597,   3.9488,2,20091225,       0228
318M20091121,        P06,     112,          2,         17,         17,2,20091225,       0048,   -32.5000,  -156.3864,       5336,  1277.1,   3.4696,  34.4024,  34.4028,2,    181.9,2,   181.9,2,   50.11,2,   33.31,2,    0.00,2,    2.33,2,   0.183,2,   0.096,2,-999.000,1,        0,2,  2227.5,2,  2315.0,2,   7.5998,2,    25.00,-999.000,9,-999.0000,9, -999.00,9, -999.00,9,  -999.0,9,  -999.0,-999.000,9,-999.000,    38.5,2,-999.000,-999.0000, -999.00,   3.3757,   3.4717,2,20091225,       0225
318M20091121,        P06,     112,          2,         16,         16,2,20091225,       0048,   -32.5000,  -156.3864,       5336,  1377.0,   3.1535,  34.4517,  34.4545,2,    173.8,2,   173.7,2,   60.44,2,   33.97,2,    0.00,2,    2.38,2,   0.084,2,   0.049,2,-999.000,1,        0,2,  2242.8,2,  2326.8,2,   7.5879,2,    25.00,-999.000,9,-999.0000,9, -999.00,9, -999.00,9,  -999.0,9,  -999.0,-999.000,9,-999.000,  -999.0,9,-999.000,-999.0000, -999.00,   3.0544,   3.1461,2,20091225,       0220
318M20091121,        P06,     112,          2,         15,         15,2,20091225,       0048,   -32.5000,  -156.3864,       5336,  1548.7,   2.7798,  34.5310,  34.5320,2,    162.9,2,   163.8,2,   76.80,2,   34.57,2,    0.00,2,    2.42,2,   0.021,2,   0.011,2,-999.000,1,        0,2,  2263.2,2,  2344.8,2,   7.5787,2,    25.00,-999.000,9,-999.0000,9, -999.00,9, -999.00,9,  -999.0,9,  -999.0,-999.000,9,-999.000,    40.2,2,-999.000,-999.0000, -999.00,   2.6706,   2.7796,2,20091225,       0216
318M20091121,        P06,     112,          2,         14,         14,2,20091225,       0048,   -32.5000,  -156.3864,       5336,  1753.5,   2.5035,  34.5917,  34.5922,2,    155.8,2,   156.2,2,   93.63,2,   34.96,2,    0.00,2,    2.45,2,   0.012,2,   0.007,2,-999.000,1,        0,2,  2284.0,2,  2370.5,2,   7.5781,2,    25.00,-999.000,9,-999.0000,9, -999.00,9, -999.00,9,  -999.0,9,  -999.0,-999.000,9,-999.000,  -999.0,9,-999.000,-999.0000, -999.00,   2.3806,   2.5062,2,20091225,       0211
318M20091121,        P06,     112,          2,         13,         13,2,20091225,       0048,   -32.5000,  -156.3864,       5336,  1953.5,   2.2769,  34.6225,  34.6243,2,    151.5,2,   151.5,2,  106.34,2,   35.26,2,    0.00,2,    2.48,2,   0.014,2,   0.007,2,-999.000,1,        0,2,  2296.8,2,  2385.4,2,   7.5776,2,    25.00,-999.000,9,-999.0000,9, -999.00,9, -999.00,9,  -999.0,9,  -999.0,-999.000,9,-999.000,    36.8,2,-999.000,-999.0000, -999.00,   2.1402,   2.2768,2,20091225,       0206
318M20091121,        P06,     112,          2,         12,         12,2,20091225,       0048,   -32.5000,  -156.3864,       5336,  2189.9,   2.1073,  34.6406,  34.6408,2,    148.7,2,   148.7,2,  115.52,2,   35.56,2,    0.00,2,    2.51,2,   0.013,2,   0.008,2,-999.000,1,        0,2,  2306.2,2,  2396.2,2,   7.5765,2,    25.00,-999.000,9,-999.0000,9, -999.00,9, -999.00,9,  -999.0,9,  -999.0,-999.000,9,-999.000,  -999.0,9,-999.000,-999.0000, -999.00,   1.9528,   2.1078,2,20091225,       0201
318M20091121,        P06,     112,          2,         11,         11,2,20091225,       0048,   -32.5000,  -156.3864,       5336,  2443.1,   1.9752,  34.6518,  34.6526,2,    147.1,2,   147.0,2,  122.63,2,   35.81,2,    0.00,2,    2.53,2,   0.008,2,   0.005,2,-999.000,1,        0,2,  2314.1,2,  2402.8,2,   7.5768,2,    25.00,-999.000,9,-999.0000,9, -999.00,9, -999.00,9,  -999.0,9,  -999.0,-999.000,9,-999.000,    38.2,2,-999.000,-999.0000, -999.00,   1.8005,   1.9750,2,20091225,       0155
318M20091121,        P06,     112,          2,         10,         10,2,20091225,       0048,   -32.5000,  -156.3864,       5336,  2696.8,   1.8868,  34.6598,  34.6597,2,    147.8,2,   148.0,2,  126.16,2,   35.80,2,    0.00,2,    2.52,2,   0.010,2,   0.005,2,-999.000,1,        0,2,  2316.6,2,  2407.1,2,   7.5772,2,    25.00,-999.000,9,-999.0000,9, -999.00,9, -999.00,9,  -999.0,9,  -999.0,-999.000,9,-999.000,  -999.0,9,-999.000,-999.0000, -999.00,   1.6905,   1.8867,2,20091225,       0150
318M20091121,        P06,     112,          2,          9,          9,2,20091225,       0048,   -32.5000,  -156.3864,       5336,  2953.6,   1.8079,  34.6677,  34.6678,2,    150.1,2,   150.0,2,  128.44,2,   35.58,2,    0.00,2,    2.51,2,   0.012,2,   0.007,2,-999.000,1,        0,2,  2316.6,2,  2405.1,2,   7.5788,2,    25.00,-999.000,9,-999.0000,9, -999.00,9, -999.00,9,  -999.0,9,  -999.0,-999.000,9,-999.000,    34.4,2,-999.000,-999.0000, -999.00,   1.5888,   1.8079,2,20091225,       0144
318M20091121,        P06,     112,          2,          8,          8,2,20091225,       0048,   -32.5000,  -156.3864,       5336,  3242.4,   1.7144,  34.6786,  34.6786,2,    156.5,2,   156.9,2,  127.57,2,   35.06,2,    0.00,2,    2.47,2,   0.013,2,   0.008,2,-999.000,1,        0,2,  2310.7,2,  2398.4,2,   7.5855,2,    25.00,-999.000,9,-999.0000,9, -999.00,9, -999.00,9,  -999.0,9,  -999.0,-999.000,9,-999.000,  -999.0,9,-999.000,-999.0000, -999.00,   1.4690,   1.7148,2,20091225,       0137
318M20091121,        P06,     112,          2,          7,          7,2,20091225,       0048,   -32.5000,  -156.3864,       5336,  3551.3,   1.6099,  34.6927,  34.6928,2,    170.4,2,   169.9,2,  122.07,2,   33.99,2,    0.00,2,    2.39,2,   0.008,2,   0.005,2,-999.000,1,        0,2,  2296.5,2,  2390.3,2,   7.5954,2,    25.00,-999.000,9,-999.0000,9, -999.00,9, -999.00,9,  -999.0,9,  -999.0,-999.000,9,-999.000,    36.0,2,-999.000,-999.0000, -999.00,   1.3356,   1.6101,2,20091225,       0130
318M20091121,        P06,     112,          2,          6,          6,2,20091225,       0048,   -32.5000,  -156.3864,       5336,  3858.2,   1.4789,  34.7086,  34.7091,2,    186.2,2,   186.6,2,  114.70,2,   32.61,2,    0.00,2,    2.29,2,   0.011,2,   0.005,2,-999.000,1,        0,2,  2277.1,2,  2378.2,2,   7.6061,2,    25.00,-999.000,9,-999.0000,9, -999.00,9, -999.00,9,  -999.0,9,  -999.0,-999.000,9,-999.000,  -999.0,9,-999.000,-999.0000, -999.00,   1.1757,   1.4783,2,20091225,       0124
318M20091121,        P06,     112,          2,          5,         37,2,20091225,       0048,   -32.5000,  -156.3864,       5336,  4214.9,   1.2710,  34.7144,  34.7148,2,    198.6,2,   198.6,2,  113.83,2,   31.90,2,    0.00,2,    2.24,2,   0.018,2,   0.010,2,-999.000,1,        0,2,  2266.7,2,  -999.0,9,-999.0000,9,  -999.00,-999.000,9,-999.0000,9, -999.00,9, -999.00,9,  -999.0,9,  -999.0,-999.000,9,-999.000,    39.0,2,-999.000,-999.0000, -999.00,   0.9349,   1.2713,2,20091225,       0116
318M20091121,        P06,     112,          2,          4,          4,2,20091225,       0048,   -32.5000,  -156.3864,       5336,  4549.3,   1.1473,  34.7111,  34.7117,2,    202.3,2,   202.3,2,  117.15,2,   31.95,2,    0.00,2,    2.24,2,   0.022,2,   0.013,2,-999.000,1,        0,2,  2266.5,2,  2372.2,2,   7.6177,2,    25.00,-999.000,9,-999.0000,9, -999.00,9, -999.00,9,  -999.0,9,  -999.0,-999.000,9,-999.000,  -999.0,9,-999.000,-999.0000, -999.00,   0.7774,   1.1474,2,20091225,       0108
318M20091121,        P06,     112,          2,          3,          3,2,20091225,       0048,   -32.5000,  -156.3864,       5336,  4935.7,   1.1021,  34.7100,  34.7099,2,    204.9,2,   204.9,2,  118.81,2,   31.94,2,    0.00,2,    2.23,2,   0.037,2,   0.019,2,-999.000,1,        0,2,  2266.1,2,  2372.6,2,   7.6179,2,    25.00,-999.000,9,-999.0000,9, -999.00,9, -999.00,9,  -999.0,9,  -999.0,-999.000,9,-999.000,    39.8,2,-999.000,-999.0000, -999.00,   0.6888,   1.1021,2,20091225,       0101
318M20091121,        P06,     112,          2,          2,          2,2,20091225,       0048,   -32.5000,  -156.3864,       5336,  5141.1,   1.1146,  34.7096,  34.7101,2,    204.9,2,   205.2,2,  118.98,2,   31.93,2,    0.00,2,    2.23,2,   0.071,2,   0.044,2,-999.000,1,        0,2,  2265.7,2,  2369.7,6,   7.6151,2,    25.00,-999.000,9,-999.0000,9, -999.00,9, -999.00,9,  -999.0,9,  -999.0,-999.000,9,-999.000,  -999.0,9,-999.000,-999.0000, -999.00,   0.6762,   1.1148,2,20091225,       0055
318M20091121,        P06,     112,          2,          1,          1,2,20091225,       0048,   -32.5000,  -156.3864,       5336,  5421.6,   1.1422,  34.7092,  34.7099,2,    205.2,2,   205.2,2,  119.16,2,   31.82,2,    0.00,2,    2.23,2,   0.041,2,   0.024,2,-999.000,1,        0,2,  2265.5,6,  2370.8,2,   7.6141,6,    25.00,-999.000,9,-999.0000,9, -999.00,9, -999.00,9,  -999.0,9,  -999.0,-999.000,9,-999.000,    37.6,2,-999.000,-999.0000, -999.00,   0.6683,   1.1421,2,20091225,       0048