BOTTLE,20220818CCHSIOAMB
EXPOCODE,SECT_ID,STNNBR,CASTNO,SAMPNO,BTLNBR,BTLNBR_FLAG_W,DATE,TIME,LATITUDE,LONGITUDE,DEPTH,CTDPRS,CTDTMP,CTDSAL,SALNTY,SALNTY_FLAG_W,CTDOXY,CTDOXY_FLAG_W,OXYGEN,OXYGEN_FLAG_W,SILCAT,SILCAT_FLAG_W,NITRAT,NITRAT_FLAG_W,NITRIT,NITRIT_FLAG_W,PHSPHT,PHSPHT_FLAG_W,CFC-11,CFC-11_FLAG_W,CFC-12,CFC-12_FLAG_W,CFC113,CFC113_FLAG_W,SF6,SF6_FLAG_W,TCARBN,TCARBN_FLAG_W,ALKALI,ALKALI_FLAG_W,PH_SWS,PH_SWS_FLAG_W,PH_TMP,TRITUM,TRITUM_FLAG_W,HELIUM,HELIUM_FLAG_W,DELHE3,DELHE3_FLAG_W,DELC13,DELC13_FLAG_W,DELC14,DELC14_FLAG_W,C14ERR,NEON,NEON_FLAG_W,NEONER,DOC,DOC_FLAG_W,TRITER,HELIER,DELHER,THETA,SBE35,SBE35_FLAG_W,BTL_DATE,BTL_TIME
,,,,,,,,,,,METERS,DBAR,ITS-90,PSS-78,PSS-78,,UMOL/KG,,UMOL/KG,,UMOL/KG,,UMOL/KG,,UMOL/KG,,UMOL/KG,,PMOL/KG,,PMOL/KG,,PMOL/KG,,FMOL/KG,,UMOL/KG,,UMOL/KG,,,,DEG C,TU,,NMOL/KG,,PERCNT,,/MILLE,,/MILLE,,/MILLE,NMOL/KG,,NMOL/KG,UMOL/KG,,TU,NMOL/KG,PERCNT,DEG C,ITS-90,,,
318M20091121,        P06,      68,          2,         32,         32,2,20091210,       0137,   -32.1800,   178.5917,       2980,     2.7,  22.0307,  35.6946,  35.7141,3,    224.2,2,   224.6,2,    1.50,2,    0.00,2,    0.00,2,    0.09,2,   1.984,2,   1.273,2,-999.000,1,    1.108,2,  2044.5,6,  2342.1,6,-999.0000,9,  -999.00,-999.000,9,-999.0000,9, -999.00,9, -999.00,9,  -999.0,9,  -999.0,-999.000,9,-999.000,    59.8,2,-999.000,-999.0000, -999.00,  22.0302,  22.0781,3,20091210,       0332
318M20091121,        P06,      68,          2,         31,         31,2,20091210,       0137,   -32.1800,   178.5917,       2980,    24.7,  20.8345,  35.6545,  35.6570,2,    228.3,2,   230.7,2,    1.74,2,    0.00,2,    0.00,2,    0.08,2,   2.066,2,   1.320,2,-999.000,1,    1.151,2,  2040.2,2,  2330.5,2,-999.0000,9,  -999.00,-999.000,9,-999.0000,9, -999.00,9, -999.00,9,  -999.0,9,  -999.0,-999.000,9,-999.000,    58.4,2,-999.000,-999.0000, -999.00,  20.8298,  20.7816,3,20091210,       0328
318M20091121,        P06,      68,          2,         30,         30,2,20091210,       0137,   -32.1800,   178.5917,       2980,    49.8,  19.1803,  35.6205,  35.6201,2,    240.6,2,   241.4,2,    1.79,2,    0.00,2,    0.00,2,    0.08,2,   2.185,2,   1.383,2,-999.000,1,    1.098,2,  2041.7,2,  2336.1,2,-999.0000,9,  -999.00,-999.000,9,-999.0000,9, -999.00,9, -999.00,9,  -999.0,9,  -999.0,-999.000,9,-999.000,    56.8,2,-999.000,-999.0000, -999.00,  19.1714,  19.1793,2,20091210,       0326
318M20091121,        P06,      68,          2,         29,         29,2,20091210,       0137,   -32.1800,   178.5917,       2980,    75.6,  18.3566,  35.5999,  35.6001,2,    240.0,2,   241.9,2,    1.84,2,    0.00,2,    0.00,2,    0.10,2,   2.242,2,   1.411,2,-999.000,1,    1.146,2,  2043.5,2,  2331.7,2,-999.0000,9,  -999.00,-999.000,9,-999.0000,9, -999.00,9, -999.00,9,  -999.0,9,  -999.0,-999.000,9,-999.000,    57.3,2,-999.000,-999.0000, -999.00,  18.3434,  18.3556,2,20091210,       0322
318M20091121,        P06,      68,          2,         28,         28,2,20091210,       0137,   -32.1800,   178.5917,       2980,   101.0,  17.5530,  35.5868,  35.5865,2,    225.9,2,   223.3,2,    2.08,2,    0.76,2,    0.21,2,    0.21,2,   2.253,2,   1.412,2,-999.000,1,    1.129,2,  2061.4,2,  2337.9,2,-999.0000,9,  -999.00,-999.000,9,-999.0000,9, -999.00,9, -999.00,9,  -999.0,9,  -999.0,-999.000,9,-999.000,    53.5,2,-999.000,-999.0000, -999.00,  17.5359,  17.5526,2,20091210,       0319
318M20091121,        P06,      68,          2,         27,         27,2,20091210,       0137,   -32.1800,   178.5917,       2980,   126.5,  17.2053,  35.5731,  35.5725,2,    218.1,2,   217.0,2,    2.14,2,    2.59,2,    0.05,2,    0.29,2,   2.291,2,   1.415,2,-999.000,1,    1.162,2,  2070.8,2,  2330.5,2,-999.0000,9,  -999.00,-999.000,9,-999.0000,9, -999.00,9, -999.00,9,  -999.0,9,  -999.0,-999.000,9,-999.000,    51.3,2,-999.000,-999.0000, -999.00,  17.1842,  17.2059,2,20091210,       0317
318M20091121,        P06,      68,          2,         26,         26,2,20091210,       0137,   -32.1800,   178.5917,       2980,   151.4,  16.7902,  35.5568,  35.5567,2,    214.8,2,   214.5,2,    2.39,2,    3.68,2,    0.01,2,    0.35,2,   2.307,2,   1.428,2,-999.000,1,     1.15,2,  2080.0,2,  2329.4,2,-999.0000,9,  -999.00,-999.000,9,-999.0000,9, -999.00,9, -999.00,9,  -999.0,9,  -999.0,-999.000,9,-999.000,    49.6,2,-999.000,-999.0000, -999.00,  16.7654,  16.7884,2,20091210,       0314
318M20091121,        P06,      68,          2,         25,         25,2,20091210,       0137,   -32.1800,   178.5917,       2980,   202.7,  16.2575,  35.5228,  35.5220,2,    213.4,2,   216.2,2,    2.43,2,    4.34,2,    0.01,2,    0.40,2,   2.338,2,   1.452,2,-999.000,1,    1.112,2,  2083.2,2,  2328.4,2,-999.0000,9,  -999.00,-999.000,9,-999.0000,9, -999.00,9, -999.00,9,  -999.0,9,  -999.0,-999.000,9,-999.000,    49.4,2,-999.000,-999.0000, -999.00,  16.2249,  16.2570,2,20091210,       0312
318M20091121,        P06,      68,          2,         24,         24,2,20091210,       0137,   -32.1800,   178.5917,       2980,   251.2,  15.4794,  35.4382,  35.4422,2,    210.4,2,   211.3,2,    2.87,2,    6.09,2,    0.01,2,    0.52,2,   2.389,2,   1.454,2,-999.000,1,     1.11,2,  2089.8,2,  2326.4,2,-999.0000,9,  -999.00,-999.000,9,-999.0000,9, -999.00,9, -999.00,9,  -999.0,9,  -999.0,-999.000,9,-999.000,    50.1,2,-999.000,-999.0000, -999.00,  15.4403,  15.4782,2,20091210,       0309
318M20091121,        P06,      68,          2,         23,         23,2,20091210,       0137,   -32.1800,   178.5917,       2980,   302.1,  14.7147,  35.3579,  35.3569,2,    212.9,2,   210.7,2,    3.71,2,    7.18,2,    0.01,2,    0.59,2,   2.444,2,   1.478,2,-999.000,1,     1.04,2,  2102.0,2,  2321.3,2,-999.0000,9,  -999.00,-999.000,9,-999.0000,9, -999.00,9, -999.00,9,  -999.0,9,  -999.0,-999.000,9,-999.000,    49.0,2,-999.000,-999.0000, -999.00,  14.6693,  14.7144,2,20091210,       0306
318M20091121,        P06,      68,          2,         22,         22,2,20091210,       0137,   -32.1800,   178.5917,       2980,   350.0,  13.9144,  35.2602,  35.2624,2,    208.8,2,   209.2,2,    4.15,2,    8.63,2,    0.01,2,    0.68,2,   2.519,2,   1.494,2,-999.000,1,    0.994,2,  2108.4,2,  2331.7,4,-999.0000,9,  -999.00,-999.000,9,-999.0000,9, -999.00,9, -999.00,9,  -999.0,9,  -999.0,-999.000,9,-999.000,    48.5,2,-999.000,-999.0000, -999.00,  13.8636,  13.9175,2,20091210,       0302
318M20091121,        P06,      68,          2,         21,         21,2,20091210,       0137,   -32.1800,   178.5917,       2980,   400.1,  13.0951,  35.1595,  35.1596,2,    207.2,2,   206.9,2,    4.78,2,   10.33,2,    0.01,2,    0.78,2,   2.537,2,   1.508,2,-999.000,1,    1.007,2,  2113.7,2,  2311.4,2,-999.0000,9,  -999.00,-999.000,9,-999.0000,9, -999.00,9, -999.00,9,  -999.0,9,  -999.0,-999.000,9,-999.000,    47.3,2,-999.000,-999.0000, -999.00,  13.0393,  13.0916,2,20091210,       0259
318M20091121,        P06,      68,          2,         20,         20,2,20091210,       0137,   -32.1800,   178.5917,       2980,   451.3,  11.9864,  35.0221,  35.0220,2,    203.3,2,   201.2,2,    5.82,2,   13.42,2,    0.00,2,    0.98,2,   2.527,2,   1.456,2,-999.000,1,    0.975,2,  2127.1,2,  2305.3,2,-999.0000,9,  -999.00,-999.000,9,-999.0000,9, -999.00,9, -999.00,9,  -999.0,9,  -999.0,-999.000,9,-999.000,    45.5,2,-999.000,-999.0000, -999.00,  11.9269,  11.9870,2,20091210,       0257
318M20091121,        P06,      68,          2,         19,         19,2,20091210,       0137,   -32.1800,   178.5917,       2980,   501.9,  10.8336,  34.8675,  34.8678,2,    203.8,2,   202.8,2,    7.44,2,   15.76,2,    0.00,2,    1.12,2,   2.537,2,   1.429,2,-999.000,1,    0.831,2,  2134.1,2,  2300.2,2,-999.0000,9,  -999.00,-999.000,9,-999.0000,9, -999.00,9, -999.00,9,  -999.0,9,  -999.0,-999.000,9,-999.000,    44.3,2,-999.000,-999.0000, -999.00,  10.7715,  10.8380,2,20091210,       0253
318M20091121,        P06,      68,          2,         18,         18,2,20091210,       0137,   -32.1800,   178.5917,       2980,   603.5,   9.0463,  34.6378,  34.6380,2,    211.5,2,   211.0,2,    8.28,2,   19.12,2,    0.00,2,    1.34,2,   2.582,2,   1.401,2,-999.000,1,    0.597,2,  2140.4,2,  2292.2,2,-999.0000,9,  -999.00,-999.000,9,-999.0000,9, -999.00,9, -999.00,9,  -999.0,9,  -999.0,-999.000,9,-999.000,  -999.0,9,-999.000,-999.0000, -999.00,   8.9793,   9.0463,2,20091210,       0250
318M20091121,        P06,      68,          2,         17,         17,2,20091210,       0137,   -32.1800,   178.5917,       2980,   705.2,   8.0380,  34.5266,  34.5263,2,    213.3,2,   214.5,2,    9.90,2,   21.27,2,    0.00,2,    1.49,2,   2.369,2,   1.258,2,-999.000,1,    0.372,2,  2149.6,2,  2288.4,2,-999.0000,9,  -999.00,-999.000,9,-999.0000,9, -999.00,9, -999.00,9,  -999.0,9,  -999.0,-999.000,9,-999.000,    40.5,2,-999.000,-999.0000, -999.00,   7.9646,   8.0403,2,20091210,       0247
318M20091121,        P06,      68,          2,         16,         16,2,20091210,       0137,   -32.1800,   178.5917,       2980,   807.3,   7.8018,  34.5620,  34.5624,2,    201.5,2,   202.9,2,   15.67,2,   22.90,2,    0.00,2,    1.60,2,   1.776,2,   0.947,2,-999.000,1,     0.26,2,  2156.8,2,  2295.2,3,-999.0000,9,  -999.00,-999.000,9,-999.0000,9, -999.00,9, -999.00,9,  -999.0,9,  -999.0,-999.000,9,-999.000,  -999.0,9,-999.000,-999.0000, -999.00,   7.7186,   7.8012,2,20091210,       0243
318M20091121,        P06,      68,          2,         15,         15,2,20091210,       0137,   -32.1800,   178.5917,       2980,   909.2,   6.3899,  34.3961,  34.3917,2,    216.1,2,   214.3,2,   16.71,2,   25.20,2,    0.00,2,    1.77,2,   1.432,2,   0.730,2,-999.000,1,    0.065,2,  2159.8,2,  2288.6,2,-999.0000,9,  -999.00,-999.000,9,-999.0000,9, -999.00,9, -999.00,9,  -999.0,9,  -999.0,-999.000,9,-999.000,    41.4,2,-999.000,-999.0000, -999.00,   6.3054,   6.3767,2,20091210,       0240
318M20091121,        P06,      68,          2,         14,         14,2,20091210,       0137,   -32.1800,   178.5917,       2980,  1005.9,   5.6196,  34.3613,  34.3597,2,    207.3,2,   207.9,2,   22.51,2,   27.56,2,    0.00,2,    1.92,2,   0.936,2,   0.479,2,-999.000,1,        0,2,  2173.8,6,  2292.7,2,-999.0000,9,  -999.00,-999.000,9,-999.0000,9, -999.00,9, -999.00,9,  -999.0,9,  -999.0,-999.000,9,-999.000,  -999.0,9,-999.000,-999.0000, -999.00,   5.5313,   5.6168,2,20091210,       0236
318M20091121,        P06,      68,          2,         13,         13,2,20091210,       0137,   -32.1800,   178.5917,       2980,  1108.0,   4.9768,  34.3749,  34.3754,2,    196.2,2,   196.7,2,   32.11,2,   29.39,2,    0.00,2,    2.05,2,   0.611,2,   0.321,2,-999.000,1,        0,2,  2189.9,2,  2301.8,2,-999.0000,9,  -999.00,-999.000,9,-999.0000,9, -999.00,9, -999.00,9,  -999.0,9,  -999.0,-999.000,9,-999.000,    38.8,2,-999.000,-999.0000, -999.00,   4.8840,   4.9804,2,20091210,       0233
318M20091121,        P06,      68,          2,         12,         12,2,20091210,       0137,   -32.1800,   178.5917,       2980,  1210.2,   4.4221,  34.4221,  34.4220,2,    184.1,2,   183.9,2,   45.96,2,   30.91,2,    0.00,2,    2.17,2,   0.367,2,   0.198,2,-999.000,1,        0,2,  2211.8,2,  2316.4,2,-999.0000,9,  -999.00,-999.000,9,-999.0000,9, -999.00,9, -999.00,9,  -999.0,9,  -999.0,-999.000,9,-999.000,  -999.0,9,-999.000,-999.0000, -999.00,   4.3249,   4.4165,2,20091210,       0229
318M20091121,        P06,      68,          2,         11,         11,2,20091210,       0137,   -32.1800,   178.5917,       2980,  1312.4,   3.9400,  34.4513,  34.4529,2,    176.5,2,   176.5,2,   56.88,2,   32.01,2,    0.00,2,    2.25,2,   0.224,2,   0.126,2,-999.000,1,        0,2,  2227.3,2,  2327.2,2,-999.0000,9,  -999.00,-999.000,9,-999.0000,9, -999.00,9, -999.00,9,  -999.0,9,  -999.0,-999.000,9,-999.000,  -999.0,9,-999.000,-999.0000, -999.00,   3.8383,   3.9358,2,20091210,       0225
318M20091121,        P06,      68,          2,         10,         10,2,20091210,       0137,   -32.1800,   178.5917,       2980,  1414.7,   3.5331,  34.4835,  34.4844,2,    169.9,2,   170.1,2,   67.45,2,   32.87,2,    0.00,2,    2.32,2,   0.141,2,   0.083,2,-999.000,1,        0,2,  2240.8,2,  2338.7,2,-999.0000,9,  -999.00,-999.000,9,-999.0000,9, -999.00,9, -999.00,9,  -999.0,9,  -999.0,-999.000,9,-999.000,  -999.0,9,-999.000,-999.0000, -999.00,   3.4267,   3.5327,2,20091210,       0221
318M20091121,        P06,      68,          2,          9,          9,2,20091210,       0137,   -32.1800,   178.5917,       2980,  1515.0,   3.1910,  34.5168,  34.5163,2,    165.7,2,   165.6,2,   77.05,2,   33.39,2,    0.00,2,    2.36,2,   0.100,2,   0.056,2,-999.000,1,        0,2,  2254.6,2,  2349.8,2,-999.0000,9,  -999.00,-999.000,9,-999.0000,9, -999.00,9, -999.00,9,  -999.0,9,  -999.0,-999.000,9,-999.000,    36.2,2,-999.000,-999.0000, -999.00,   3.0798,   3.1923,2,20091210,       0218
318M20091121,        P06,      68,          2,          8,          8,2,20091210,       0137,   -32.1800,   178.5917,       2980,  1614.2,   2.9390,  34.5521,  34.5535,2,    161.6,2,   161.2,2,   87.70,2,   33.87,2,    0.00,2,    2.40,2,   0.063,2,   0.037,2,-999.000,1,        0,2,  2265.9,2,  2363.7,2,-999.0000,9,  -999.00,-999.000,9,-999.0000,9, -999.00,9, -999.00,9,  -999.0,9,  -999.0,-999.000,9,-999.000,  -999.0,9,-999.000,-999.0000, -999.00,   2.8223,   2.9362,2,20091210,       0215
318M20091121,        P06,      68,          2,          7,          7,2,20091210,       0137,   -32.1800,   178.5917,       2980,  1716.2,   2.7585,  34.5779,  34.5775,2,    158.7,2,   159.0,2,   94.71,2,   34.11,2,    0.00,2,    2.41,2,   0.050,2,   0.031,2,-999.000,1,        0,2,  2274.2,2,  2369.6,2,-999.0000,9,  -999.00,-999.000,9,-999.0000,9, -999.00,9, -999.00,9,  -999.0,9,  -999.0,-999.000,9,-999.000,  -999.0,9,-999.000,-999.0000, -999.00,   2.6354,   2.7633,3,20091210,       0211
318M20091121,        P06,      68,          2,          6,          6,2,20091210,       0137,   -32.1800,   178.5917,       2980,  1818.4,   2.6239,  34.6037,  34.6046,2,    156.5,2,   157.2,2,  101.74,2,   34.07,2,    0.00,2,    2.42,2,   0.050,2,   0.035,2,-999.000,1,        0,2,  2282.1,2,  2378.1,2,-999.0000,9,  -999.00,-999.000,9,-999.0000,9, -999.00,9, -999.00,9,  -999.0,9,  -999.0,-999.000,9,-999.000,  -999.0,9,-999.000,-999.0000, -999.00,   2.4938,   2.6241,2,20091210,       0207
318M20091121,        P06,      68,          2,          5,          5,2,20091210,       0137,   -32.1800,   178.5917,       2980,  2018.5,   2.3256,  34.6337,  34.6344,2,    154.5,2,   154.2,2,  111.44,2,   34.45,2,    0.00,2,    2.45,2,   0.027,2,   0.017,2,-999.000,1,        0,2,  2292.9,2,  2389.5,2,-999.0000,9,  -999.00,-999.000,9,-999.0000,9, -999.00,9, -999.00,9,  -999.0,9,  -999.0,-999.000,9,-999.000,    35.9,2,-999.000,-999.0000, -999.00,   2.1826,   2.3258,2,20091210,       0202
318M20091121,        P06,      68,          2,          4,          4,2,20091210,       0137,   -32.1800,   178.5917,       2980,  2274.3,   1.9854,  34.6621,  34.6627,2,    153.8,2,   154.0,2,  120.76,2,   34.64,2,    0.00,2,    2.47,2,   0.026,2,   0.017,2,-999.000,1,        0,2,  2303.2,2,  2400.8,2,-999.0000,9,  -999.00,-999.000,9,-999.0000,9, -999.00,9, -999.00,9,  -999.0,9,  -999.0,-999.000,9,-999.000,  -999.0,9,-999.000,-999.0000, -999.00,   1.8255,   1.9857,2,20091210,       0156
318M20091121,        P06,      68,          2,          3,          3,2,20091210,       0137,   -32.1800,   178.5917,       2980,  2526.6,   1.8596,  34.6736,  34.6742,2,    153.6,2,   153.9,2,  124.54,2,   34.79,2,    0.00,2,    2.47,2,   0.012,2,   0.008,2,-999.000,1,        0,2,  2307.4,2,  2405.4,2,-999.0000,9,  -999.00,-999.000,9,-999.0000,9, -999.00,9, -999.00,9,  -999.0,9,  -999.0,-999.000,9,-999.000,    36.0,2,-999.000,-999.0000, -999.00,   1.6794,   1.8596,2,20091210,       0149
318M20091121,        P06,      68,          2,          2,          2,2,20091210,       0137,   -32.1800,   178.5917,       2980,  2782.7,   1.8246,  34.6779,  34.6787,2,    153.9,2,   153.8,2,  125.86,2,   34.69,2,    0.00,2,    2.47,2,   0.014,2,   0.011,2,-999.000,1,        0,2,  2310.3,2,  2407.8,2,-999.0000,9,  -999.00,-999.000,9,-999.0000,9, -999.00,9, -999.00,9,  -999.0,9,  -999.0,-999.000,9,-999.000,  -999.0,9,-999.000,-999.0000, -999.00,   1.6214,   1.8241,2,20091210,       0144
318M20091121,        P06,      68,          2,          1,          1,2,20091210,       0137,   -32.1800,   178.5917,       2980,  3003.3,   1.8246,  34.6795,  34.6813,2,    153.5,2,   153.4,2,  126.98,2,   34.69,2,    0.00,2,    2.47,2,   0.007,2,   0.005,2,-999.000,1,        0,2,  2312.0,6,  2408.4,6,-999.0000,9,  -999.00,-999.000,9,-999.0000,9, -999.00,9, -999.00,9,  -999.0,9,  -999.0,-999.000,9,-999.000,    37.6,2,-999.000,-999.0000, -999.00,   1.6003,   1.8242,2,20091210,       0137