BOTTLE,20220818CCHSIOAMB
EXPOCODE,SECT_ID,STNNBR,CASTNO,SAMPNO,BTLNBR,BTLNBR_FLAG_W,DATE,TIME,LATITUDE,LONGITUDE,DEPTH,CTDPRS,CTDTMP,CTDSAL,SALNTY,SALNTY_FLAG_W,CTDOXY,CTDOXY_FLAG_W,OXYGEN,OXYGEN_FLAG_W,SILCAT,SILCAT_FLAG_W,NITRAT,NITRAT_FLAG_W,NITRIT,NITRIT_FLAG_W,PHSPHT,PHSPHT_FLAG_W,CFC-11,CFC-11_FLAG_W,CFC-12,CFC-12_FLAG_W,CFC113,CFC113_FLAG_W,SF6,SF6_FLAG_W,TCARBN,TCARBN_FLAG_W,ALKALI,ALKALI_FLAG_W,PH_SWS,PH_SWS_FLAG_W,PH_TMP,TRITUM,TRITUM_FLAG_W,HELIUM,HELIUM_FLAG_W,DELHE3,DELHE3_FLAG_W,DELC13,DELC13_FLAG_W,DELC14,DELC14_FLAG_W,C14ERR,NEON,NEON_FLAG_W,NEONER,DOC,DOC_FLAG_W,TRITER,HELIER,DELHER,THETA,SBE35,SBE35_FLAG_W,BTL_DATE,BTL_TIME
,,,,,,,,,,,METERS,DBAR,ITS-90,PSS-78,PSS-78,,UMOL/KG,,UMOL/KG,,UMOL/KG,,UMOL/KG,,UMOL/KG,,UMOL/KG,,PMOL/KG,,PMOL/KG,,PMOL/KG,,FMOL/KG,,UMOL/KG,,UMOL/KG,,,,DEG C,TU,,NMOL/KG,,PERCNT,,/MILLE,,/MILLE,,/MILLE,NMOL/KG,,NMOL/KG,UMOL/KG,,TU,NMOL/KG,PERCNT,DEG C,ITS-90,,,
318M20091121,        P06,     100,          1,         36,         36,2,20091220,       1236,   -32.5000,  -166.3721,       4722,     4.5,  19.9768,  35.5583,  35.5590,2,    230.5,2,   229.9,2,    0.52,2,    0.00,2,    0.00,2,    0.08,2,   2.118,2,   1.310,2,-999.000,1,    1.156,2,  2040.6,2,  2333.0,6,   8.0209,6,    25.00,-999.000,9,-999.0000,9, -999.00,9, -999.00,9,  -999.0,9,  -999.0,-999.000,9,-999.000,    58.7,2,-999.000,-999.0000, -999.00,  19.9760,  19.9735,2,20091220,       1458
318M20091121,        P06,     100,          1,         35,         35,2,20091220,       1236,   -32.5000,  -166.3721,       4722,    19.2,  19.9848,  35.5579,  35.5589,2,    230.8,2,   229.2,2,    0.49,2,    0.00,2,    0.00,2,    0.08,2,   2.115,6,   1.309,6,-999.000,1,      1.2,6,  2039.8,6,  2334.9,2,   8.0211,2,    25.00,-999.000,9,-999.0000,9, -999.00,9, -999.00,9,  -999.0,9,  -999.0,-999.000,9,-999.000,    60.4,2,-999.000,-999.0000, -999.00,  19.9813,  19.9815,2,20091220,       1455
318M20091121,        P06,     100,          1,         34,         34,2,20091220,       1236,   -32.5000,  -166.3721,       4722,    39.7,  18.6901,  35.5473,  35.5454,2,    241.7,2,   242.0,2,    0.46,2,    0.00,2,    0.00,2,    0.09,2,   2.268,2,   1.391,2,-999.000,1,    1.204,2,  2042.4,2,  2333.4,2,   8.0167,2,    25.00,-999.000,9,-999.0000,9, -999.00,9, -999.00,9,  -999.0,9,  -999.0,-999.000,9,-999.000,    61.1,2,-999.000,-999.0000, -999.00,  18.6831,  18.6319,3,20091220,       1453
318M20091121,        P06,     100,          1,         33,         33,2,20091220,       1236,   -32.5000,  -166.3721,       4722,    64.6,  17.0791,  35.5341,  35.5352,2,    238.7,2,   241.4,2,    0.62,2,    0.00,2,    0.00,2,    0.13,2,   2.352,2,   1.435,2,-999.000,1,    1.159,2,  2055.3,2,  2333.7,2,   7.9948,2,    25.00,-999.000,9,-999.0000,9, -999.00,9, -999.00,9,  -999.0,9,  -999.0,-999.000,9,-999.000,    55.5,2,-999.000,-999.0000, -999.00,  17.0684,  17.0577,2,20091220,       1451
318M20091121,        P06,     100,          1,         32,         32,2,20091220,       1236,   -32.5000,  -166.3721,       4722,    87.6,  16.4504,  35.5067,  35.5087,2,    219.9,2,   213.4,2,    1.01,2,    3.48,2,    0.03,2,    0.34,2,   2.384,2,   1.434,2,-999.000,1,    1.305,4,  2078.2,2,  2330.9,2,   7.9406,2,    25.00,-999.000,9,-999.0000,9, -999.00,9, -999.00,9,  -999.0,9,  -999.0,-999.000,9,-999.000,    51.4,2,-999.000,-999.0000, -999.00,  16.4363,  16.4309,2,20091220,       1449
318M20091121,        P06,     100,          1,         31,         31,2,20091220,       1236,   -32.5000,  -166.3721,       4722,   134.3,  15.6383,  35.4425,  35.4425,2,    214.8,2,   213.9,2,    1.39,2,    4.79,2,    0.01,2,    0.43,2,   2.454,2,   1.476,2,-999.000,1,    1.177,2,  2085.9,2,  2324.7,2,   7.9189,2,    25.00,-999.000,9,-999.0000,9, -999.00,9, -999.00,9,  -999.0,9,  -999.0,-999.000,9,-999.000,    52.4,2,-999.000,-999.0000, -999.00,  15.6173,  15.6379,2,20091220,       1446
318M20091121,        P06,     100,          1,         30,         30,2,20091220,       1236,   -32.5000,  -166.3721,       4722,   184.8,  14.3418,  35.2637,  35.2597,2,    210.7,2,   200.6,2,    2.17,2,    8.18,2,    0.01,2,    0.65,2,   2.504,2,   1.463,2,-999.000,1,    1.004,2,  2104.2,2,  2317.5,2,   7.8757,2,    25.00,-999.000,9,-999.0000,9, -999.00,9, -999.00,9,  -999.0,9,  -999.0,-999.000,9,-999.000,    50.7,2,-999.000,-999.0000, -999.00,  14.3146,  14.3508,2,20091220,       1444
318M20091121,        P06,     100,          1,         29,         29,2,20091220,       1236,   -32.5000,  -166.3721,       4722,   235.7,  13.1774,  35.1284,  35.1275,2,    202.2,2,   202.0,2,    2.75,2,   10.30,2,    0.00,2,    0.78,2,   2.611,2,   1.500,2,-999.000,1,    0.949,2,  2114.2,2,  2308.6,2,   7.8400,2,    25.00,-999.000,9,-999.0000,9, -999.00,9, -999.00,9,  -999.0,9,  -999.0,-999.000,9,-999.000,    47.2,2,-999.000,-999.0000, -999.00,  13.1446,  13.1823,2,20091220,       1441
318M20091121,        P06,     100,          1,         28,         28,2,20091220,       1236,   -32.5000,  -166.3721,       4722,   286.2,  12.4270,  35.0727,  35.0708,2,    210.8,2,   209.5,2,    3.13,2,   11.14,2,    0.00,2,    0.83,2,   2.743,2,   1.599,2,-999.000,1,    0.935,2,  2118.4,2,  2310.2,2,   7.8320,2,    25.00,-999.000,9,-999.0000,9, -999.00,9, -999.00,9,  -999.0,9,  -999.0,-999.000,9,-999.000,    49.3,2,-999.000,-999.0000, -999.00,  12.3886,  12.4320,2,20091220,       1439
318M20091121,        P06,     100,          1,         27,         27,2,20091220,       1236,   -32.5000,  -166.3721,       4722,   336.1,  11.2250,  34.8928,  34.8969,2,    207.5,2,   207.2,2,    3.71,2,   13.80,2,    0.00,2,    1.01,2,   2.759,2,   1.553,2,-999.000,1,    0.935,2,  2125.5,2,  2303.4,2,   7.8011,2,    25.00,-999.000,9,-999.0000,9, -999.00,9, -999.00,9,  -999.0,9,  -999.0,-999.000,9,-999.000,    47.9,2,-999.000,-999.0000, -999.00,  11.1828,  11.2348,2,20091220,       1436
318M20091121,        P06,     100,          1,         26,         26,2,20091220,       1236,   -32.5000,  -166.3721,       4722,   387.8,  10.1066,  34.7452,  34.7378,2,    209.4,2,   210.5,2,    4.30,2,   16.28,2,    0.00,2,    1.16,2,   2.879,2,   1.581,2,-999.000,1,    0.813,2,  2131.6,2,  2287.7,2,   7.7726,2,    25.00,-999.000,9,-999.0000,9, -999.00,9, -999.00,9,  -999.0,9,  -999.0,-999.000,9,-999.000,    49.7,2,-999.000,-999.0000, -999.00,  10.0610,  10.1421,3,20091220,       1433
318M20091121,        P06,     100,          1,         25,         25,2,20091220,       1236,   -32.5000,  -166.3721,       4722,   469.0,   8.6102,  34.5601,  34.5629,2,    218.3,2,   220.9,2,    5.29,2,   19.03,2,    0.00,2,    1.34,2,   3.072,2,   1.658,2,-999.000,1,    0.719,2,  2138.4,2,  2287.2,2,   7.7466,2,    25.00,-999.000,9,-999.0000,9, -999.00,9, -999.00,9,  -999.0,9,  -999.0,-999.000,9,-999.000,    50.3,2,-999.000,-999.0000, -999.00,   8.5601,   8.6050,2,20091220,       1430
318M20091121,        P06,     100,          1,         24,         24,2,20091220,       1236,   -32.5000,  -166.3721,       4722,   571.5,   7.5735,  34.4465,  34.4459,2,    228.8,2,   229.6,2,    6.27,2,   21.13,2,    0.00,2,    1.48,2,   2.997,2,   1.549,2,-999.000,1,    0.522,2,  2139.8,2,  2282.1,2,   7.7313,2,    25.00,-999.000,9,-999.0000,9, -999.00,9, -999.00,9,  -999.0,9,  -999.0,-999.000,9,-999.000,  -999.0,9,-999.000,-999.0000, -999.00,   7.5165,   7.5757,2,20091220,       1427
318M20091121,        P06,     100,          1,         23,         23,2,20091220,       1236,   -32.5000,  -166.3721,       4722,   667.3,   7.0377,  34.4014,  34.4021,2,    232.0,2,   233.6,2,    7.68,2,   22.46,2,    0.00,2,    1.56,2,   2.794,2,   1.434,2,-999.000,1,    0.342,2,  2141.9,2,  2295.0,4,   7.7289,2,    25.00,-999.000,9,-999.0000,9, -999.00,9, -999.00,9,  -999.0,9,  -999.0,-999.000,9,-999.000,    41.6,2,-999.000,-999.0000, -999.00,   6.9735,   7.0403,2,20091220,       1423
318M20091121,        P06,     100,          1,         22,         22,2,20091220,       1236,   -32.5000,  -166.3721,       4722,   769.6,   6.4235,  34.3628,  34.3634,2,    228.5,2,   227.5,2,   10.72,2,   24.33,2,    0.00,2,    1.69,2,   1.914,2,   0.958,2,-999.000,1,    0.081,2,  2148.6,2,  2287.5,2,   7.7124,2,    25.00,-999.000,9,-999.0000,9, -999.00,9, -999.00,9,  -999.0,9,  -999.0,-999.000,9,-999.000,  -999.0,9,-999.000,-999.0000, -999.00,   6.3525,   6.4227,2,20091220,       1420
318M20091121,        P06,     100,          1,         21,         21,2,20091220,       1236,   -32.5000,  -166.3721,       4722,   870.9,   5.8242,  34.3362,  34.3359,2,    221.5,2,   220.6,2,   14.99,2,   26.22,2,    0.00,2,    1.83,2,   1.356,2,   0.667,2,-999.000,1,        0,2,  2158.3,2,  2289.0,2,   7.6922,2,    25.00,-999.000,9,-999.0000,9, -999.00,9, -999.00,9,  -999.0,9,  -999.0,-999.000,9,-999.000,    41.9,2,-999.000,-999.0000, -999.00,   5.7472,   5.8229,2,20091220,       1417
318M20091121,        P06,     100,          1,         20,         20,2,20091220,       1236,   -32.5000,  -166.3721,       4722,   973.2,   5.1807,  34.3229,  34.3227,2,    212.8,2,   211.4,2,   21.13,2,   28.25,2,    0.00,2,    1.97,2,   0.903,2,   0.440,2,-999.000,1,        0,2,  2170.3,2,  2293.3,2,   7.6686,2,    25.00,-999.000,9,-999.0000,9, -999.00,9, -999.00,9,  -999.0,9,  -999.0,-999.000,9,-999.000,  -999.0,9,-999.000,-999.0000, -999.00,   5.0987,   5.1824,2,20091220,       1414
318M20091121,        P06,     100,          1,         19,         19,2,20091220,       1236,   -32.5000,  -166.3721,       4722,  1069.2,   4.6084,  34.3348,  34.3593,3,    202.3,2,   201.2,2,   28.94,2,   30.01,2,    0.00,2,    2.10,2,   0.563,2,   0.286,2,-999.000,1,        0,2,  2186.1,6,  2300.8,6,   7.6436,2,    25.00,-999.000,9,-999.0000,9, -999.00,9, -999.00,9,  -999.0,9,  -999.0,-999.000,9,-999.000,    40.7,2,-999.000,-999.0000, -999.00,   4.5223,   4.6133,2,20091220,       1410
318M20091121,        P06,     100,          1,         18,         18,2,20091220,       1236,   -32.5000,  -166.3721,       4722,  1172.1,   4.1037,  34.3609,  34.3616,2,    192.5,2,   193.2,2,   38.64,2,   31.51,2,    0.00,2,    2.21,2,   0.309,2,   0.162,2,-999.000,1,        0,2,  2202.4,2,  2309.6,2,   7.6193,2,    25.00,-999.000,9,-999.0000,9, -999.00,9, -999.00,9,  -999.0,9,  -999.0,-999.000,9,-999.000,  -999.0,9,-999.000,-999.0000, -999.00,   4.0128,   4.1047,2,20091220,       1407
318M20091121,        P06,     100,          1,         17,         17,2,20091220,       1236,   -32.5000,  -166.3721,       4722,  1274.1,   3.5547,  34.4100,  34.4098,2,    182.8,2,   180.8,2,   50.68,2,   32.72,2,    0.00,2,    2.31,2,   0.142,2,   0.083,2,-999.000,1,        0,2,  2220.7,2,  2321.2,2,   7.6011,2,    25.00,-999.000,9,-999.0000,9, -999.00,9, -999.00,9,  -999.0,9,  -999.0,-999.000,9,-999.000,    38.9,2,-999.000,-999.0000, -999.00,   3.4602,   3.5550,2,20091220,       1404
318M20091121,        P06,     100,          1,         16,         16,2,20091220,       1236,   -32.5000,  -166.3721,       4722,  1375.8,   3.2187,  34.4552,  34.4548,2,    175.0,2,   173.6,2,   60.90,2,   33.42,2,    0.00,2,    2.36,2,   0.074,2,   0.052,2,-999.000,1,        0,2,  2234.2,2,  2327.2,2,   7.5907,2,    25.00,-999.000,9,-999.0000,9, -999.00,9, -999.00,9,  -999.0,9,  -999.0,-999.000,9,-999.000,  -999.0,9,-999.000,-999.0000, -999.00,   3.1191,   3.2207,2,20091220,       1400
318M20091121,        P06,     100,          1,         15,         15,2,20091220,       1236,   -32.5000,  -166.3721,       4722,  1478.1,   2.9535,  34.5030,  34.5033,2,    168.3,2,   167.3,2,   71.15,2,   33.74,2,    0.00,2,    2.38,2,   0.049,2,   0.030,2,-999.000,1,        0,2,  2248.3,2,  2341.7,2,   7.5798,2,    25.00,-999.000,9,-999.0000,9, -999.00,9, -999.00,9,  -999.0,9,  -999.0,-999.000,9,-999.000,    38.3,2,-999.000,-999.0000, -999.00,   2.8482,   2.9531,2,20091220,       1357
318M20091121,        P06,     100,          1,         14,         14,2,20091220,       1236,   -32.5000,  -166.3721,       4722,  1581.0,   2.7820,  34.5378,  34.5383,2,    163.0,2,   164.0,2,   79.55,2,   34.03,2,    0.00,2,    2.40,2,   0.026,2,   0.017,2,-999.000,1,        0,2,  2257.8,2,  2350.9,2,   7.5745,2,    25.00,-999.000,9,-999.0000,9, -999.00,9, -999.00,9,  -999.0,9,  -999.0,-999.000,9,-999.000,  -999.0,9,-999.000,-999.0000, -999.00,   2.6701,   2.7815,2,20091220,       1353
318M20091121,        P06,     100,          1,         13,         13,2,20091220,       1236,   -32.5000,  -166.3721,       4722,  1749.5,   2.5433,  34.5858,  34.5871,2,    156.4,2,   156.6,2,   93.45,2,   34.40,2,    0.00,2,    2.44,2,   0.020,2,   0.014,2,-999.000,1,        0,2,  2275.0,2,  2370.2,2,   7.5776,2,    25.00,-999.000,9,-999.0000,9, -999.00,9, -999.00,9,  -999.0,9,  -999.0,-999.000,9,-999.000,    38.8,2,-999.000,-999.0000, -999.00,   2.4202,   2.5428,2,20091220,       1349
318M20091121,        P06,     100,          1,         12,         12,2,20091220,       1236,   -32.5000,  -166.3721,       4722,  1954.0,   2.3225,  34.6193,  34.6200,2,    151.7,2,   152.4,2,  106.35,2,   34.72,2,    0.00,2,    2.47,2,   0.013,2,   0.010,2,-999.000,1,        0,2,  2290.0,2,  2381.7,2,   7.5784,2,    25.00,-999.000,9,-999.0000,9, -999.00,9, -999.00,9,  -999.0,9,  -999.0,-999.000,9,-999.000,  -999.0,9,-999.000,-999.0000, -999.00,   2.1851,   2.3226,2,20091220,       1343
318M20091121,        P06,     100,          1,         11,         11,2,20091220,       1236,   -32.5000,  -166.3721,       4722,  2183.9,   2.1468,  34.6378,  34.6379,2,    149.0,2,   148.9,2,  115.88,2,   35.05,2,    0.00,2,    2.50,2,   0.015,2,   0.009,2,-999.000,1,        0,2,  2300.8,2,  2396.1,2,   7.5757,2,    25.00,-999.000,9,-999.0000,9, -999.00,9, -999.00,9,  -999.0,9,  -999.0,-999.000,9,-999.000,    34.3,2,-999.000,-999.0000, -999.00,   1.9922,   2.1471,2,20091220,       1338
318M20091121,        P06,     100,          1,         10,         10,2,20091220,       1236,   -32.5000,  -166.3721,       4722,  2440.4,   2.0141,  34.6493,  34.6493,2,    147.6,2,   147.3,2,  122.89,2,   35.24,2,    0.00,2,    2.51,2,   0.016,2,   0.013,2,-999.000,1,        0,2,  2307.9,2,  2404.6,2,   7.5752,2,    25.00,-999.000,9,-999.0000,9, -999.00,9, -999.00,9,  -999.0,9,  -999.0,-999.000,9,-999.000,  -999.0,9,-999.000,-999.0000, -999.00,   1.8390,   2.0140,2,20091220,       1332
318M20091121,        P06,     100,          1,          9,          9,2,20091220,       1236,   -32.5000,  -166.3721,       4722,  2698.1,   1.9066,  34.6588,  34.6597,2,    148.1,2,   148.1,2,  127.33,2,   35.24,2,    0.00,2,    2.51,2,   0.027,2,   0.019,2,-999.000,1,        0,2,  2310.8,2,  2410.0,2,   7.5733,2,    25.00,-999.000,9,-999.0000,9, -999.00,9, -999.00,9,  -999.0,9,  -999.0,-999.000,9,-999.000,    35.3,2,-999.000,-999.0000, -999.00,   1.7098,   1.9066,2,20091220,       1326
318M20091121,        P06,     100,          1,          8,          8,2,20091220,       1236,   -32.5000,  -166.3721,       4722,  2950.1,   1.8088,  34.6680,  34.6686,2,    150.3,2,   151.0,2,  129.44,2,   34.99,2,    0.00,2,    2.49,2,   0.020,2,   0.015,2,-999.000,1,        0,2,  2310.7,2,  2410.4,2,   7.5806,2,    25.00,-999.000,9,-999.0000,9, -999.00,9, -999.00,9,  -999.0,9,  -999.0,-999.000,9,-999.000,  -999.0,9,-999.000,-999.0000, -999.00,   1.5900,   1.8084,2,20091220,       1320
318M20091121,        P06,     100,          1,          7,          7,2,20091220,       1236,   -32.5000,  -166.3721,       4722,  3237.5,   1.7124,  34.6820,  34.6829,2,    160.0,2,   160.5,2,  126.44,2,   34.28,2,    0.00,2,    2.43,2,   0.021,2,   0.013,2,-999.000,1,        0,2,  2302.9,2,  2403.9,2,   7.5884,2,    25.00,-999.000,9,-999.0000,9, -999.00,9, -999.00,9,  -999.0,9,  -999.0,-999.000,9,-999.000,    35.8,2,-999.000,-999.0000, -999.00,   1.4675,   1.7122,2,20091220,       1314
318M20091121,        P06,     100,          1,          6,          6,2,20091220,       1236,   -32.5000,  -166.3721,       4722,  3548.7,   1.5923,  34.7043,  34.7060,2,    179.0,2,   180.3,2,  115.55,2,   32.64,2,    0.00,2,    2.31,2,   0.015,2,   0.010,2,-999.000,1,        0,2,  2280.1,2,  2385.7,2,   7.6015,2,    25.00,-999.000,9,-999.0000,9, -999.00,9, -999.00,9,  -999.0,9,  -999.0,-999.000,9,-999.000,  -999.0,9,-999.000,-999.0000, -999.00,   1.3186,   1.5925,2,20091220,       1306
318M20091121,        P06,     100,          1,          5,          5,2,20091220,       1236,   -32.5000,  -166.3721,       4722,  3858.6,   1.3948,  34.7175,  34.7182,2,    195.3,2,   196.0,2,  111.07,2,   31.51,2,    0.00,2,    2.22,2,   0.028,2,   0.016,2,-999.000,1,        0,2,  2263.4,2,  2366.9,2,   7.6225,2,    25.00,-999.000,9,-999.0000,9, -999.00,9, -999.00,9,  -999.0,9,  -999.0,-999.000,9,-999.000,    36.3,2,-999.000,-999.0000, -999.00,   1.0938,   1.3938,2,20091220,       1259
318M20091121,        P06,     100,          1,          4,          4,2,20091220,       1236,   -32.5000,  -166.3721,       4722,  4165.0,   1.1753,  34.7148,  34.7158,2,    203.1,2,   202.9,2,  114.87,2,   31.41,2,    0.00,2,    2.21,2,   0.054,2,   0.029,2,-999.000,1,        0,2,  2261.3,2,  2365.3,2,   7.6222,2,    25.00,-999.000,9,-999.0000,9, -999.00,9, -999.00,9,  -999.0,9,  -999.0,-999.000,9,-999.000,  -999.0,9,-999.000,-999.0000, -999.00,   0.8475,   1.1753,2,20091220,       1252
318M20091121,        P06,     100,          1,          3,          3,2,20091220,       1236,   -32.5000,  -166.3721,       4722,  4474.0,   1.0764,  34.7113,  34.7113,2,    205.0,2,   205.4,2,  118.26,2,   31.55,2,    0.00,2,    2.22,2,   0.064,2,   0.035,2,-999.000,1,        0,2,  2261.7,2,  2365.7,6,   7.6234,6,    25.00,-999.000,9,-999.0000,9, -999.00,9, -999.00,9,  -999.0,9,  -999.0,-999.000,9,-999.000,    39.6,2,-999.000,-999.0000, -999.00,   0.7173,   1.0765,2,20091220,       1245
318M20091121,        P06,     100,          1,          2,          2,2,20091220,       1236,   -32.5000,  -166.3721,       4722,  4578.6,   1.0632,  34.7104,  34.7107,2,    205.9,2,   206.3,2,  119.08,2,   31.50,2,    0.00,2,    2.21,2,   0.070,2,   0.038,2,-999.000,1,        0,2,  2261.6,2,  2364.3,2,   7.6220,2,    25.00,-999.000,9,-999.0000,9, -999.00,9, -999.00,9,  -999.0,9,  -999.0,-999.000,9,-999.000,  -999.0,9,-999.000,-999.0000, -999.00,   0.6927,   1.0632,2,20091220,       1241
318M20091121,        P06,     100,          1,          1,          1,2,20091220,       1236,   -32.5000,  -166.3721,       4722,  4774.8,   1.0632,  34.7095,  34.7105,2,    206.0,2,   206.0,2,  119.49,2,   31.55,2,    0.00,2,    2.22,2,   0.077,2,   0.047,2,-999.000,1,        0,2,  2262.4,6,  2367.4,2,   7.6241,2,    25.00,-999.000,9,-999.0000,9, -999.00,9, -999.00,9,  -999.0,9,  -999.0,-999.000,9,-999.000,    39.5,2,-999.000,-999.0000, -999.00,   0.6701,   1.0640,2,20091220,       1236