BOTTLE,20220818CCHSIOAMB
EXPOCODE,SECT_ID,STNNBR,CASTNO,SAMPNO,BTLNBR,BTLNBR_FLAG_W,DATE,TIME,LATITUDE,LONGITUDE,DEPTH,CTDPRS,CTDTMP,CTDSAL,SALNTY,SALNTY_FLAG_W,CTDOXY,CTDOXY_FLAG_W,OXYGEN,OXYGEN_FLAG_W,SILCAT,SILCAT_FLAG_W,NITRAT,NITRAT_FLAG_W,NITRIT,NITRIT_FLAG_W,PHSPHT,PHSPHT_FLAG_W,CFC-11,CFC-11_FLAG_W,CFC-12,CFC-12_FLAG_W,CFC113,CFC113_FLAG_W,SF6,SF6_FLAG_W,TCARBN,TCARBN_FLAG_W,ALKALI,ALKALI_FLAG_W,PH_SWS,PH_SWS_FLAG_W,PH_TMP,TRITUM,TRITUM_FLAG_W,HELIUM,HELIUM_FLAG_W,DELHE3,DELHE3_FLAG_W,DELC13,DELC13_FLAG_W,DELC14,DELC14_FLAG_W,C14ERR,NEON,NEON_FLAG_W,NEONER,DOC,DOC_FLAG_W,TRITER,HELIER,DELHER,THETA,SBE35,SBE35_FLAG_W,BTL_DATE,BTL_TIME
,,,,,,,,,,,METERS,DBAR,ITS-90,PSS-78,PSS-78,,UMOL/KG,,UMOL/KG,,UMOL/KG,,UMOL/KG,,UMOL/KG,,UMOL/KG,,PMOL/KG,,PMOL/KG,,PMOL/KG,,FMOL/KG,,UMOL/KG,,UMOL/KG,,,,DEG C,TU,,NMOL/KG,,PERCNT,,/MILLE,,/MILLE,,/MILLE,NMOL/KG,,NMOL/KG,UMOL/KG,,TU,NMOL/KG,PERCNT,DEG C,ITS-90,,,
318M20091121,        P06,      73,          2,         28,         28,2,20091211,       0701,   -32.4998,  -178.9104,       2008,     3.5,  20.3837,  35.5454,  35.5443,2,    231.4,2,   230.8,2,    3.10,2,    0.00,2,    0.00,2,    0.14,2,   2.162,2,   1.335,2,-999.000,1,    1.173,2,  2054.4,6,  2334.1,6,   7.9926,6,    25.00,-999.000,9,-999.0000,9, -999.00,9,    1.38,2,    49.7,2,     2.8,-999.000,9,-999.000,  -999.0,9,-999.000,-999.0000, -999.00,  20.3830,  20.5924,3,20091211,       0823
318M20091121,        P06,      73,          2,         27,         27,2,20091211,       0701,   -32.4998,  -178.9104,       2008,    20.4,  20.0343,  35.5328,  35.5318,2,    234.5,2,   233.7,2,    2.99,2,    0.00,2,    0.00,2,    0.13,2,   2.172,2,   1.339,2,-999.000,1,    1.188,2,  -999.0,9,  2333.1,2,   7.9934,2,    25.00,-999.000,9,-999.0000,9, -999.00,9, -999.00,9,  -999.0,9,  -999.0,-999.000,9,-999.000,  -999.0,9,-999.000,-999.0000, -999.00,  20.0305,  20.0419,2,20091211,       0821
318M20091121,        P06,      73,          2,         26,         26,2,20091211,       0701,   -32.4998,  -178.9104,       2008,    39.8,  16.7065,  35.4562,  35.4554,2,    255.5,2,   255.4,2,    3.07,2,    0.00,2,    0.00,2,    0.13,2,   2.487,2,   1.509,2,-999.000,1,    1.301,2,  -999.0,9,  -999.0,9,-999.0000,9,  -999.00,-999.000,9,-999.0000,9, -999.00,9, -999.00,9,  -999.0,9,  -999.0,-999.000,9,-999.000,  -999.0,9,-999.000,-999.0000, -999.00,  16.7000,  16.7077,2,20091211,       0819
318M20091121,        P06,      73,          2,         25,         25,2,20091211,       0701,   -32.4998,  -178.9104,       2008,    64.8,  15.6895,  35.4248,  35.4247,2,    248.9,2,   248.7,2,    3.54,2,    0.67,2,    0.09,2,    0.21,2,   2.509,2,   1.513,2,-999.000,1,    1.273,2,  -999.0,9,  2328.6,2,   7.9636,2,    25.00,-999.000,9,-999.0000,9, -999.00,9,    1.29,2,    55.1,2,     2.1,-999.000,9,-999.000,  -999.0,9,-999.000,-999.0000, -999.00,  15.6794,  15.6845,2,20091211,       0817
318M20091121,        P06,      73,          2,         24,         24,2,20091211,       0701,   -32.4998,  -178.9104,       2008,    90.7,  15.2334,  35.4191,  35.4170,2,    229.7,2,   227.1,2,    4.02,2,    4.27,2,    0.09,2,    0.41,2,   2.496,2,   1.495,2,-999.000,1,     1.23,2,  -999.0,9,  -999.0,9,-999.0000,9,  -999.00,-999.000,9,-999.0000,9, -999.00,9,    1.06,2,    51.9,2,     3.1,-999.000,9,-999.000,  -999.0,9,-999.000,-999.0000, -999.00,  15.2195,  15.2321,2,20091211,       0815
318M20091121,        P06,      73,          2,         23,         23,2,20091211,       0701,   -32.4998,  -178.9104,       2008,   115.9,  14.7788,  35.3741,  35.3726,2,    227.3,2,   227.7,2,    3.90,2,    4.77,2,    0.04,2,    0.44,2,   2.555,2,   1.537,2,-999.000,1,    1.243,2,  -999.0,9,  2324.2,2,   7.9137,2,    25.00,-999.000,9,-999.0000,9, -999.00,9,    1.01,2,    49.1,2,     2.1,-999.000,9,-999.000,  -999.0,9,-999.000,-999.0000, -999.00,  14.7614,  14.7840,2,20091211,       0812
318M20091121,        P06,      73,          2,         22,         22,2,20091211,       0701,   -32.4998,  -178.9104,       2008,   141.1,  14.3202,  35.3258,  35.3244,2,    226.8,2,   226.4,2,    3.99,2,    5.52,2,    0.02,2,    0.49,2,   2.556,2,   1.512,2,-999.000,1,    1.197,2,  -999.0,9,  -999.0,9,-999.0000,9,  -999.00,-999.000,9,-999.0000,9, -999.00,9,    1.03,2,    53.1,2,     3.5,-999.000,9,-999.000,  -999.0,9,-999.000,-999.0000, -999.00,  14.2995,  14.3191,2,20091211,       0810
318M20091121,        P06,      73,          2,         21,         21,2,20091211,       0701,   -32.4998,  -178.9104,       2008,   185.7,  13.5510,  35.2403,  35.2398,2,    223.2,2,   225.4,2,    4.26,2,    6.89,2,    0.01,2,    0.57,2,   2.657,2,   1.531,2,-999.000,1,    1.191,2,  -999.0,9,  2316.8,2,   7.8804,2,    25.00,-999.000,9,-999.0000,9, -999.00,9,    1.02,2,    47.0,2,     3.4,-999.000,9,-999.000,  -999.0,9,-999.000,-999.0000, -999.00,  13.5247,  13.5465,2,20091211,       0808
318M20091121,        P06,      73,          2,         20,         20,2,20091211,       0701,   -32.4998,  -178.9104,       2008,   234.1,  12.6658,  35.1232,  35.1240,2,    213.2,2,   213.7,2,    5.32,2,   10.34,2,    0.01,2,    0.78,2,   2.653,2,   1.557,2,-999.000,1,    1.129,2,  -999.0,9,  -999.0,9,-999.0000,9,  -999.00,-999.000,9,-999.0000,9, -999.00,9,    1.00,2,    44.4,2,     3.6,-999.000,9,-999.000,  -999.0,9,-999.000,-999.0000, -999.00,  12.6341,  12.6490,3,20091211,       0804
318M20091121,        P06,      73,          2,         19,         19,2,20091211,       0701,   -32.4998,  -178.9104,       2008,   285.2,  11.9450,  35.0202,  35.0200,2,    209.1,2,   208.6,2,    5.60,2,   12.46,2,    0.01,2,    0.91,2,   2.664,2,   1.582,2,-999.000,1,    1.078,2,  -999.0,9,  2307.0,2,   7.8138,2,    25.00,-999.000,9,-999.0000,9, -999.00,9, -999.00,9,  -999.0,9,  -999.0,-999.000,9,-999.000,  -999.0,9,-999.000,-999.0000, -999.00,  11.9078,  11.9434,2,20091211,       0802
318M20091121,        P06,      73,          2,         18,         18,2,20091211,       0701,   -32.4998,  -178.9104,       2008,   335.9,  11.1226,  34.9074,  34.9071,2,    207.8,2,   206.8,2,    6.66,2,   14.62,2,    0.00,2,    1.05,2,   2.631,2,   1.510,2,-999.000,1,    0.858,2,  -999.0,9,  -999.0,9,-999.0000,9,  -999.00,-999.000,9,-999.0000,9, -999.00,9,    0.98,2,    37.3,2,     2.6,-999.000,9,-999.000,  -999.0,9,-999.000,-999.0000, -999.00,  11.0807,  11.1235,2,20091211,       0759
318M20091121,        P06,      73,          2,         17,         17,2,20091211,       0701,   -32.4998,  -178.9104,       2008,   386.8,  10.2525,  34.7863,  34.7861,2,    207.7,2,   206.7,2,    7.14,2,   16.51,2,    0.00,2,    1.17,2,   2.722,2,   1.543,2,-999.000,1,    0.812,2,  -999.0,9,  2297.1,2,   7.7670,2,    25.00,-999.000,9,-999.0000,9, -999.00,9,    1.02,2,    31.2,2,     2.0,-999.000,9,-999.000,  -999.0,9,-999.000,-999.0000, -999.00,  10.2066,  10.2526,2,20091211,       0756
318M20091121,        P06,      73,          2,         16,         16,2,20091211,       0701,   -32.4998,  -178.9104,       2008,   437.5,   9.5608,  34.7179,  34.7171,2,    210.0,2,   209.0,2,    8.78,2,   18.17,2,    0.00,2,    1.28,2,   2.537,2,   1.431,2,-999.000,1,    0.685,2,  -999.0,9,  -999.0,9,-999.0000,9,  -999.00,-999.000,9,-999.0000,9, -999.00,9,    1.07,2,    32.2,2,     3.2,-999.000,9,-999.000,  -999.0,9,-999.000,-999.0000, -999.00,   9.5110,   9.5609,2,20091211,       0754
318M20091121,        P06,      73,          2,         15,         15,2,20091211,       0701,   -32.4998,  -178.9104,       2008,   487.7,   8.7451,  34.6108,  34.6097,2,    213.6,2,   212.0,2,    9.26,2,   19.84,2,    0.00,2,    1.40,2,   2.546,2,   1.394,2,-999.000,1,    0.581,2,  -999.0,9,  2293.4,6,   7.7393,2,    25.00,-999.000,9,-999.0000,9, -999.00,9,    1.12,2,    25.9,2,     2.8,-999.000,9,-999.000,  -999.0,9,-999.000,-999.0000, -999.00,   8.6924,   8.7434,2,20091211,       0751
318M20091121,        P06,      73,          2,         14,         14,2,20091211,       0701,   -32.4998,  -178.9104,       2008,   572.2,   8.0198,  34.5274,  34.5271,2,    217.1,2,   216.8,2,    9.93,2,   21.19,2,    0.00,2,    1.49,2,   2.426,2,   1.296,2,-999.000,1,    0.371,2,  -999.0,9,  -999.0,9,-999.0000,9,  -999.00,-999.000,9,-999.0000,9, -999.00,9,    1.19,2,    15.6,2,     3.2,-999.000,9,-999.000,  -999.0,9,-999.000,-999.0000, -999.00,   7.9608,   8.0203,2,20091211,       0748
318M20091121,        P06,      73,          2,         13,         13,2,20091211,       0701,   -32.4998,  -178.9104,       2008,   673.1,   7.2437,  34.4588,  34.4573,2,    218.0,2,   217.4,2,   12.56,2,   23.03,2,    0.00,2,    1.61,2,   2.148,2,   1.120,2,-999.000,1,     0.27,2,  -999.0,9,  2292.2,2,   7.7148,2,    25.00,-999.000,9,-999.0000,9, -999.00,9,    1.21,2,    -3.0,2,     2.7,-999.000,9,-999.000,  -999.0,9,-999.000,-999.0000, -999.00,   7.1778,   7.2435,2,20091211,       0745
318M20091121,        P06,      73,          2,         12,         12,2,20091211,       0701,   -32.4998,  -178.9104,       2008,   775.6,   6.6559,  34.4202,  34.4190,2,    214.4,2,   215.5,2,   15.79,2,   24.58,2,    0.00,2,    1.72,2,   1.712,2,   0.894,2,-999.000,1,    0.266,2,  -999.0,9,  -999.0,9,-999.0000,9,  -999.00,-999.000,9,-999.0000,9, -999.00,9,    1.21,2,   -22.3,2,     3.3,-999.000,9,-999.000,  -999.0,9,-999.000,-999.0000, -999.00,   6.5829,   6.6531,2,20091211,       0741
318M20091121,        P06,      73,          2,         11,         11,2,20091211,       0701,   -32.4998,  -178.9104,       2008,   874.6,   5.9797,  34.4027,  34.4023,2,    206.0,2,   206.2,2,   22.38,2,   26.70,2,    0.00,2,    1.87,2,   1.184,2,   0.611,2,-999.000,1,    0.184,2,  -999.0,9,  2295.8,2,   7.6773,2,    25.00,-999.000,9,-999.0000,9, -999.00,9,    1.13,2,   -53.6,2,     2.7,-999.000,9,-999.000,  -999.0,9,-999.000,-999.0000, -999.00,   5.9013,   5.9765,2,20091211,       0736
318M20091121,        P06,      73,          2,         10,         10,2,20091211,       0701,   -32.4998,  -178.9104,       2008,   975.0,   5.4030,  34.3954,  34.3948,2,    197.3,2,   197.7,2,   29.39,2,   28.48,2,    0.00,2,    2.00,2,   0.810,2,   0.420,2,-999.000,1,    0.066,2,  -999.0,9,  -999.0,9,-999.0000,9,  -999.00,-999.000,9,-999.0000,9, -999.00,9,    1.04,2,   -73.1,2,     2.7,-999.000,9,-999.000,  -999.0,9,-999.000,-999.0000, -999.00,   5.3191,   5.4036,2,20091211,       0733
318M20091121,        P06,      73,          2,          9,          9,2,20091211,       0701,   -32.4998,  -178.9104,       2008,  1076.0,   4.7405,  34.4215,  34.4184,2,    188.1,2,   187.0,2,   41.40,2,   30.22,2,    0.00,2,    2.13,2,   0.516,2,   0.278,2,-999.000,1,        0,2,  -999.0,9,  2311.7,2,   7.6328,2,    25.00,-999.000,9,-999.0000,9, -999.00,9,    0.94,2,   -98.8,2,     2.6,-999.000,9,-999.000,  -999.0,9,-999.000,-999.0000, -999.00,   4.6525,   4.7383,2,20091211,       0730
318M20091121,        P06,      73,          2,          8,          8,2,20091211,       0701,   -32.4998,  -178.9104,       2008,  1178.2,   4.1502,  34.4505,  34.4495,2,    180.1,2,   178.7,2,   53.51,2,   31.50,2,    0.00,2,    2.23,2,   0.318,2,   0.175,2,-999.000,1,        0,2,  -999.0,9,  -999.0,9,-999.0000,9,  -999.00,-999.000,9,-999.0000,9, -999.00,9,    0.79,2,  -124.4,2,     2.8,-999.000,9,-999.000,  -999.0,9,-999.000,-999.0000, -999.00,   4.0582,   4.1497,2,20091211,       0727
318M20091121,        P06,      73,          2,          7,          7,2,20091211,       0701,   -32.4998,  -178.9104,       2008,  1276.3,   3.7947,  34.4748,  34.4741,2,    174.0,2,   173.5,2,   61.84,2,   32.28,2,    0.00,2,    2.29,2,   0.220,2,   0.126,2,-999.000,1,        0,2,  -999.0,9,  2334.0,2,   7.6009,2,    25.00,-999.000,9,-999.0000,9, -999.00,9,    0.74,2,  -138.6,2,     2.3,-999.000,9,-999.000,  -999.0,9,-999.000,-999.0000, -999.00,   3.6976,   3.7941,2,20091211,       0724
318M20091121,        P06,      73,          2,          6,          6,2,20091211,       0701,   -32.4998,  -178.9104,       2008,  1375.3,   3.4081,  34.5209,  34.5207,2,    167.6,2,   166.9,2,   74.88,2,   32.89,2,    0.00,2,    2.35,2,   0.151,2,   0.088,2,-999.000,1,        0,2,  -999.0,9,  -999.0,9,-999.0000,9,  -999.00,-999.000,9,-999.0000,9, -999.00,9,    0.66,2,  -152.2,2,     2.6,-999.000,9,-999.000,  -999.0,9,-999.000,-999.0000, -999.00,   3.3064,   3.4055,2,20091211,       0720
318M20091121,        P06,      73,          2,          5,          5,2,20091211,       0701,   -32.4998,  -178.9104,       2008,  1477.0,   3.0002,  34.5429,  34.5429,2,    162.3,2,   162.3,2,   83.91,2,   33.77,2,    0.00,2,    2.41,2,   0.078,2,   0.048,2,-999.000,1,        0,2,  -999.0,9,  2357.2,2,   7.5886,2,    25.00,-999.000,9,-999.0000,9, -999.00,9,    0.55,2,  -170.8,2,     2.4,-999.000,9,-999.000,  -999.0,9,-999.000,-999.0000, -999.00,   2.8943,   2.9974,2,20091211,       0717
318M20091121,        P06,      73,          2,          4,          4,2,20091211,       0701,   -32.4998,  -178.9104,       2008,  1577.4,   2.7824,  34.5782,  34.5784,2,    158.2,2,   158.7,2,   94.01,2,   34.00,2,    0.00,2,    2.42,2,   0.062,2,   0.038,2,-999.000,1,        0,2,  -999.0,9,  -999.0,9,-999.0000,9,  -999.00,-999.000,9,-999.0000,9, -999.00,9,    0.46,2,  -180.7,2,     2.2,-999.000,9,-999.000,  -999.0,9,-999.000,-999.0000, -999.00,   2.6707,   2.7824,2,20091211,       0714
318M20091121,        P06,      73,          2,          3,          3,2,20091211,       0701,   -32.4998,  -178.9104,       2008,  1678.6,   2.6039,  34.5946,  34.5947,2,    154.8,2,   155.7,2,  100.46,2,   34.42,2,    0.00,2,    2.45,2,   0.047,2,   0.031,2,-999.000,1,        0,2,  -999.0,9,  2377.3,2,   7.5836,2,    25.00,-999.000,9,-999.0000,9, -999.00,9,    0.45,2,  -188.6,2,     2.3,-999.000,9,-999.000,  -999.0,9,-999.000,-999.0000, -999.00,   2.4859,   2.6034,2,20091211,       0710
318M20091121,        P06,      73,          2,          2,          2,2,20091211,       0701,   -32.4998,  -178.9104,       2008,  1822.4,   2.4327,  34.6143,  34.6136,2,    153.2,2,   153.1,2,  107.74,2,   34.66,2,    0.00,2,    2.47,2,   0.032,2,   0.021,2,-999.000,1,        0,2,  -999.0,9,  -999.0,9,-999.0000,9,  -999.00,-999.000,9,-999.0000,9, -999.00,9,    0.41,2,  -192.7,2,     2.4,-999.000,9,-999.000,  -999.0,9,-999.000,-999.0000, -999.00,   2.3049,   2.4320,2,20091211,       0706
318M20091121,        P06,      73,          2,          1,          1,2,20091211,       0701,   -32.4998,  -178.9104,       2008,  2010.7,   2.3094,  34.6295,  34.6298,2,    153.4,2,   152.6,2,  113.00,2,   34.70,2,    0.00,2,    2.47,2,   0.037,2,   0.022,2,-999.000,1,        0,2,  -999.0,9,  2390.4,6,   7.5833,6,    25.00,-999.000,9,-999.0000,9, -999.00,9,    0.38,2,  -200.1,2,     2.3,-999.000,9,-999.000,  -999.0,9,-999.000,-999.0000, -999.00,   2.1673,   2.3093,2,20091211,       0701