BOTTLE,20220818CCHSIOAMB
EXPOCODE,SECT_ID,STNNBR,CASTNO,SAMPNO,BTLNBR,BTLNBR_FLAG_W,DATE,TIME,LATITUDE,LONGITUDE,DEPTH,CTDPRS,CTDTMP,CTDSAL,SALNTY,SALNTY_FLAG_W,CTDOXY,CTDOXY_FLAG_W,OXYGEN,OXYGEN_FLAG_W,SILCAT,SILCAT_FLAG_W,NITRAT,NITRAT_FLAG_W,NITRIT,NITRIT_FLAG_W,PHSPHT,PHSPHT_FLAG_W,CFC-11,CFC-11_FLAG_W,CFC-12,CFC-12_FLAG_W,CFC113,CFC113_FLAG_W,SF6,SF6_FLAG_W,TCARBN,TCARBN_FLAG_W,ALKALI,ALKALI_FLAG_W,PH_SWS,PH_SWS_FLAG_W,PH_TMP,TRITUM,TRITUM_FLAG_W,HELIUM,HELIUM_FLAG_W,DELHE3,DELHE3_FLAG_W,DELC13,DELC13_FLAG_W,DELC14,DELC14_FLAG_W,C14ERR,NEON,NEON_FLAG_W,NEONER,DOC,DOC_FLAG_W,TRITER,HELIER,DELHER,THETA,SBE35,SBE35_FLAG_W,BTL_DATE,BTL_TIME
,,,,,,,,,,,METERS,DBAR,ITS-90,PSS-78,PSS-78,,UMOL/KG,,UMOL/KG,,UMOL/KG,,UMOL/KG,,UMOL/KG,,UMOL/KG,,PMOL/KG,,PMOL/KG,,PMOL/KG,,FMOL/KG,,UMOL/KG,,UMOL/KG,,,,DEG C,TU,,NMOL/KG,,PERCNT,,/MILLE,,/MILLE,,/MILLE,NMOL/KG,,NMOL/KG,UMOL/KG,,TU,NMOL/KG,PERCNT,DEG C,ITS-90,,,
318M20091121,        P06,      72,          2,         31,         31,2,20091211,       0033,   -32.5000,  -179.5000,       3150,     4.0,  20.3158,  35.5071,  35.5065,2,    237.5,2,   236.0,2,    2.09,2,    0.00,2,    0.00,2,    0.16,2,   2.214,2,   1.394,2,-999.000,1,    1.173,2,  2057.8,6,  2331.9,6,   7.9881,6,    25.00,-999.000,9,-999.0000,9, -999.00,9, -999.00,9,  -999.0,9,  -999.0,-999.000,9,-999.000,    57.5,2,-999.000,-999.0000, -999.00,  20.3151,  20.3314,2,20091211,       0224
318M20091121,        P06,      72,          2,         30,         30,2,20091211,       0033,   -32.5000,  -179.5000,       3150,    35.1,  18.0807,  35.4587,  35.4587,2,    244.8,2,   244.5,2,    2.13,2,    0.17,2,    0.02,2,    0.19,2,   2.369,2,   1.472,2,-999.000,1,    1.186,2,  2058.4,2,  2348.1,4,   7.9865,2,    25.00,-999.000,9,-999.0000,9, -999.00,9, -999.00,9,  -999.0,9,  -999.0,-999.000,9,-999.000,    53.7,2,-999.000,-999.0000, -999.00,  18.0747,  18.0707,2,20091211,       0220
318M20091121,        P06,      72,          2,         29,         29,2,20091211,       0033,   -32.5000,  -179.5000,       3150,    59.8,  15.6523,  35.3663,  35.3665,2,    239.1,2,   238.4,2,    2.93,2,    2.85,2,    0.07,2,    0.36,2,   2.473,2,   1.512,2,-999.000,1,    1.258,2,  2077.3,2,  2324.1,2,   7.9446,2,    25.00,-999.000,9,-999.0000,9, -999.00,9, -999.00,9,  -999.0,9,  -999.0,-999.000,9,-999.000,    51.3,2,-999.000,-999.0000, -999.00,  15.6430,  15.6551,2,20091211,       0218
318M20091121,        P06,      72,          2,         28,         28,2,20091211,       0033,   -32.5000,  -179.5000,       3150,    85.3,  14.8871,  35.3578,  35.3566,2,    228.6,2,   230.7,2,    3.16,2,    4.22,2,    0.13,2,    0.44,2,   2.529,2,   1.572,2,-999.000,1,    1.243,2,  2087.4,2,  2322.2,2,   7.9202,2,    25.00,-999.000,9,-999.0000,9, -999.00,9, -999.00,9,  -999.0,9,  -999.0,-999.000,9,-999.000,    50.1,2,-999.000,-999.0000, -999.00,  14.8743,  14.8911,2,20091211,       0216
318M20091121,        P06,      72,          2,         27,         27,2,20091211,       0033,   -32.5000,  -179.5000,       3150,   111.2,  14.2497,  35.3101,  35.3011,2,    218.4,2,   220.4,2,    3.58,2,    6.89,2,    0.03,2,    0.58,2,-999.000,5,-999.000,5,-999.000,1,-999.0000,5,  2099.8,2,  2318.5,2,   7.8936,2,    25.00,-999.000,9,-999.0000,9, -999.00,9, -999.00,9,  -999.0,9,  -999.0,-999.000,9,-999.000,  -999.0,5,-999.000,-999.0000, -999.00,  14.2334,  14.2557,2,20091211,       0213
318M20091121,        P06,      72,          2,         26,         26,2,20091211,       0033,   -32.5000,  -179.5000,       3150,   136.1,  13.6224,  35.2119,  35.2103,2,    221.8,2,   222.5,2,    3.99,2,    7.84,2,    0.05,2,    0.64,2,   2.576,2,   1.554,2,-999.000,1,    1.055,2,  2102.3,2,  2317.5,2,   7.8790,2,    25.00,-999.000,9,-999.0000,9, -999.00,9, -999.00,9,  -999.0,9,  -999.0,-999.000,9,-999.000,    49.5,2,-999.000,-999.0000, -999.00,  13.6031,  13.6218,2,20091211,       0211
318M20091121,        P06,      72,          2,         25,         25,2,20091211,       0033,   -32.5000,  -179.5000,       3150,   165.7,  13.1103,  35.1611,  35.1596,2,    218.8,2,   221.4,2,    4.60,2,    8.94,2,    0.03,2,    0.71,2,   2.607,2,   1.557,2,-999.000,1,    1.097,2,  2107.5,2,  2316.6,2,   7.8646,2,    25.00,-999.000,9,-999.0000,9, -999.00,9, -999.00,9,  -999.0,9,  -999.0,-999.000,9,-999.000,    49.4,2,-999.000,-999.0000, -999.00,  13.0874,  13.1096,2,20091211,       0209
318M20091121,        P06,      72,          2,         24,         24,2,20091211,       0033,   -32.5000,  -179.5000,       3150,   216.2,  12.2704,  35.0644,  35.0642,2,    217.9,2,   216.4,2,    5.41,2,   11.09,2,    0.02,2,    0.85,2,   2.612,2,   1.553,2,-999.000,1,    0.945,2,  2117.0,2,  2310.1,2,   7.8368,2,    25.00,-999.000,9,-999.0000,9, -999.00,9, -999.00,9,  -999.0,9,  -999.0,-999.000,9,-999.000,    46.9,2,-999.000,-999.0000, -999.00,  12.2417,  12.2700,2,20091211,       0206
318M20091121,        P06,      72,          2,         23,         23,2,20091211,       0033,   -32.5000,  -179.5000,       3150,   266.9,  11.7054,  34.9920,  34.9905,2,    214.2,2,   214.4,2,    6.22,2,   12.69,2,    0.01,2,    0.94,2,   2.609,2,   1.550,2,-999.000,1,    0.928,2,  2121.5,2,  2306.8,2,   7.8211,2,    25.00,-999.000,9,-999.0000,9, -999.00,9, -999.00,9,  -999.0,9,  -999.0,-999.000,9,-999.000,    48.0,2,-999.000,-999.0000, -999.00,  11.6710,  11.7060,2,20091211,       0204
318M20091121,        P06,      72,          2,         22,         22,2,20091211,       0033,   -32.5000,  -179.5000,       3150,   318.0,  10.9526,  34.8973,  34.8979,2,    212.8,2,   212.4,2,    7.03,2,   14.54,2,    0.01,2,    1.06,2,   2.568,2,   1.492,2,-999.000,1,    0.883,2,  2129.2,2,  2306.0,2,   7.8382,4,    25.00,-999.000,9,-999.0000,9, -999.00,9, -999.00,9,  -999.0,9,  -999.0,-999.000,9,-999.000,    45.3,2,-999.000,-999.0000, -999.00,  10.9133,  10.9520,2,20091211,       0201
318M20091121,        P06,      72,          2,         21,         21,2,20091211,       0033,   -32.5000,  -179.5000,       3150,   369.2,  10.3046,  34.8143,  34.8120,2,    211.6,2,   211.3,2,    7.64,2,   16.30,2,    0.01,2,    1.17,2,   2.575,2,   1.477,2,-999.000,1,    0.875,2,  2134.2,2,  2300.5,2,   7.7936,2,    25.00,-999.000,9,-999.0000,9, -999.00,9, -999.00,9,  -999.0,9,  -999.0,-999.000,9,-999.000,    45.2,2,-999.000,-999.0000, -999.00,  10.2607,  10.3040,2,20091211,       0158
318M20091121,        P06,      72,          2,         20,         20,2,20091211,       0033,   -32.5000,  -179.5000,       3150,   419.3,   9.5688,  34.7240,  34.7244,2,    211.7,2,   211.1,2,    8.46,2,   17.98,2,    0.01,2,    1.28,2,   2.529,2,   1.443,2,-999.000,1,    0.716,2,  2139.3,2,  2296.2,2,   7.7600,2,    25.00,-999.000,9,-999.0000,9, -999.00,9, -999.00,9,  -999.0,9,  -999.0,-999.000,9,-999.000,    46.7,2,-999.000,-999.0000, -999.00,   9.5211,   9.5594,2,20091211,       0155
318M20091121,        P06,      72,          2,         19,         19,2,20091211,       0033,   -32.5000,  -179.5000,       3150,   465.0,   9.1761,  34.6817,  34.6803,2,    212.0,2,   211.6,2,    9.27,2,   18.97,2,    0.00,2,    1.35,2,   2.452,6,   1.391,6,-999.000,1,   0.6535,6,  2140.5,2,  2294.5,2,   7.7522,2,    25.00,-999.000,9,-999.0000,9, -999.00,9, -999.00,9,  -999.0,9,  -999.0,-999.000,9,-999.000,    43.9,2,-999.000,-999.0000, -999.00,   9.1244,   9.1744,2,20091211,       0152
318M20091121,        P06,      72,          2,         18,         18,2,20091211,       0033,   -32.5000,  -179.5000,       3150,   536.9,   8.6737,  34.6173,  34.6163,2,    213.4,2,   212.7,2,    9.70,2,   20.06,2,    0.00,2,    1.42,2,   2.467,2,   1.362,2,-999.000,1,    0.594,2,  2145.5,2,  2292.9,2,   7.7382,2,    25.00,-999.000,9,-999.0000,9, -999.00,9, -999.00,9,  -999.0,9,  -999.0,-999.000,9,-999.000,    42.9,2,-999.000,-999.0000, -999.00,   8.6158,   8.6735,2,20091211,       0148
318M20091121,        P06,      72,          2,         17,         17,2,20091211,       0033,   -32.5000,  -179.5000,       3150,   638.5,   7.7637,  34.5193,  34.5198,2,    214.7,2,   214.1,2,   11.29,2,   22.10,2,    0.00,2,    1.55,2,   2.310,2,   1.243,2,-999.000,1,    0.334,2,  2151.1,2,  2292.5,2,   7.7199,2,    25.00,-999.000,9,-999.0000,9, -999.00,9, -999.00,9,  -999.0,9,  -999.0,-999.000,9,-999.000,  -999.0,9,-999.000,-999.0000, -999.00,   7.6988,   7.7689,2,20091211,       0145
318M20091121,        P06,      72,          2,         16,         16,2,20091211,       0033,   -32.5000,  -179.5000,       3150,   739.8,   6.9575,  34.4386,  34.4374,2,    215.5,2,   217.0,2,   13.47,2,   23.68,2,    0.00,2,    1.67,2,   1.979,2,   1.035,2,-999.000,1,    0.306,2,  2152.5,2,  2289.7,6,   7.7092,2,    25.00,-999.000,9,-999.0000,9, -999.00,9, -999.00,9,  -999.0,9,  -999.0,-999.000,9,-999.000,    40.0,2,-999.000,-999.0000, -999.00,   6.8864,   6.9542,2,20091211,       0142
318M20091121,        P06,      72,          2,         15,         15,2,20091211,       0033,   -32.5000,  -179.5000,       3150,   841.9,   6.1078,  34.4138,  34.4142,2,    207.4,2,   207.5,2,   21.15,2,   26.36,2,    0.00,2,    1.85,2,   1.330,2,   0.692,2,-999.000,1,    0.117,2,  2170.5,2,  2313.9,4,   7.6819,2,    25.00,-999.000,9,-999.0000,9, -999.00,9, -999.00,9,  -999.0,9,  -999.0,-999.000,9,-999.000,  -999.0,9,-999.000,-999.0000, -999.00,   6.0317,   6.1264,2,20091211,       0138
318M20091121,        P06,      72,          2,         14,         14,2,20091211,       0033,   -32.5000,  -179.5000,       3150,   944.0,   5.4039,  34.3777,  34.3774,2,    203.1,2,   203.4,2,   26.31,2,   28.28,2,    0.00,2,    1.98,2,   0.867,2,   0.456,2,-999.000,1,    0.042,2,  2179.8,2,  2319.8,4,   7.6626,2,    25.00,-999.000,9,-999.0000,9, -999.00,9, -999.00,9,  -999.0,9,  -999.0,-999.000,9,-999.000,    39.0,2,-999.000,-999.0000, -999.00,   5.3229,   5.4080,2,20091211,       0135
318M20091121,        P06,      72,          2,         13,         13,2,20091211,       0033,   -32.5000,  -179.5000,       3150,  1040.8,   4.9021,  34.3905,  34.3906,2,    194.5,2,   194.9,2,   34.45,2,   29.73,2,    0.00,2,    2.09,2,   0.610,2,   0.329,2,-999.000,1,    0.049,2,  2194.0,6,  2304.3,2,   7.6423,2,    25.00,-999.000,9,-999.0000,9, -999.00,9, -999.00,9,  -999.0,9,  -999.0,-999.000,9,-999.000,  -999.0,9,-999.000,-999.0000, -999.00,   4.8160,   4.9019,2,20091211,       0132
318M20091121,        P06,      72,          2,         12,         12,2,20091211,       0033,   -32.5000,  -179.5000,       3150,  1142.4,   4.6040,  34.4034,  34.4026,2,    189.4,2,   189.3,2,   40.05,2,   30.52,2,    0.00,2,    2.15,2,   0.484,2,   0.261,2,-999.000,1,        0,2,  2203.6,2,  2310.9,2,   7.6324,2,    25.00,-999.000,9,-999.0000,9, -999.00,9, -999.00,9,  -999.0,9,  -999.0,-999.000,9,-999.000,    39.5,2,-999.000,-999.0000, -999.00,   4.5113,   4.6083,2,20091211,       0128
318M20091121,        P06,      72,          2,         11,         11,2,20091211,       0033,   -32.5000,  -179.5000,       3150,  1245.1,   4.1831,  34.4246,  34.4202,2,    182.9,2,   182.2,2,   48.86,2,   31.57,2,    0.00,2,    2.23,2,   0.325,2,   0.176,2,-999.000,1,        0,2,  2219.4,2,  2319.8,2,   7.6188,2,    25.00,-999.000,9,-999.0000,9, -999.00,9, -999.00,9,  -999.0,9,  -999.0,-999.000,9,-999.000,  -999.0,9,-999.000,-999.0000, -999.00,   4.0850,   4.1827,2,20091211,       0124
318M20091121,        P06,      72,          2,         10,         10,2,20091211,       0033,   -32.5000,  -179.5000,       3150,  1347.0,   3.6042,  34.4680,  34.4619,3,    172.3,2,   173.0,2,   62.92,2,   32.86,2,    0.00,2,    2.33,2,   0.168,2,   0.099,2,-999.000,1,        0,2,  2237.6,2,  2334.7,2,   7.6016,2,    25.00,-999.000,9,-999.0000,9, -999.00,9, -999.00,9,  -999.0,9,  -999.0,-999.000,9,-999.000,  -999.0,9,-999.000,-999.0000, -999.00,   3.5029,   3.6035,2,20091211,       0121
318M20091121,        P06,      72,          2,          9,          9,2,20091211,       0033,   -32.5000,  -179.5000,       3150,  1449.3,   3.1308,  34.5210,  34.5209,2,    165.3,2,   165.1,2,   79.28,2,   33.65,2,    0.00,2,    2.40,2,   0.093,2,   0.053,2,-999.000,1,        0,2,  2258.3,2,  2352.8,2,   7.5899,2,    25.00,-999.000,9,-999.0000,9, -999.00,9, -999.00,9,  -999.0,9,  -999.0,-999.000,9,-999.000,  -999.0,9,-999.000,-999.0000, -999.00,   3.0258,   3.1301,2,20091211,       0117
318M20091121,        P06,      72,          2,          8,          8,2,20091211,       0033,   -32.5000,  -179.5000,       3150,  1546.5,   2.8482,  34.5571,  34.5563,2,    161.0,2,   160.8,2,   89.46,2,   33.97,2,    0.00,2,    2.42,2,   0.064,2,   0.039,2,-999.000,1,        0,2,  2269.4,2,  2365.0,2,   7.5876,2,    25.00,-999.000,9,-999.0000,9, -999.00,9, -999.00,9,  -999.0,9,  -999.0,-999.000,9,-999.000,    35.9,2,-999.000,-999.0000, -999.00,   2.7383,   2.8480,2,20091211,       0114
318M20091121,        P06,      72,          2,          7,          7,2,20091211,       0033,   -32.5000,  -179.5000,       3150,  1679.2,   2.6826,  34.5796,  34.5785,2,    158.7,2,   158.5,2,   96.23,2,   34.25,2,    0.00,2,    2.43,2,   0.054,2,   0.033,2,-999.000,1,        0,2,  2278.4,2,  2372.0,2,   7.5840,2,    25.00,-999.000,9,-999.0000,9, -999.00,9, -999.00,9,  -999.0,9,  -999.0,-999.000,9,-999.000,  -999.0,9,-999.000,-999.0000, -999.00,   2.5636,   2.6824,2,20091211,       0109
318M20091121,        P06,      72,          2,          6,          6,2,20091211,       0033,   -32.5000,  -179.5000,       3150,  1884.0,   2.4444,  34.6123,  34.6123,2,    155.9,2,   155.9,2,  105.87,2,   34.38,2,    0.00,2,    2.45,2,   0.041,2,   0.026,2,-999.000,1,        0,2,  2287.5,2,  2384.4,2,   7.5831,2,    25.00,-999.000,9,-999.0000,9, -999.00,9, -999.00,9,  -999.0,9,  -999.0,-999.000,9,-999.000,  -999.0,9,-999.000,-999.0000, -999.00,   2.3112,   2.4440,2,20091211,       0104
318M20091121,        P06,      72,          2,          5,          5,2,20091211,       0033,   -32.5000,  -179.5000,       3150,  2104.5,   2.3051,  34.6299,  34.6263,3,    154.7,2,   154.2,2,  111.26,2,   34.57,2,    0.00,2,    2.46,2,   0.025,2,   0.018,2,-999.000,1,        0,2,  2293.9,2,  2388.7,2,   7.5839,2,    25.00,-999.000,9,-999.0000,9, -999.00,9, -999.00,9,  -999.0,9,  -999.0,-999.000,9,-999.000,    36.4,2,-999.000,-999.0000, -999.00,   2.1549,   2.3051,2,20091211,       0058
318M20091121,        P06,      72,          2,          4,          4,2,20091211,       0033,   -32.5000,  -179.5000,       3150,  2361.4,   2.2008,  34.6429,  34.6391,3,    153.9,2,   153.7,2,  115.22,2,   34.71,2,    0.00,2,    2.47,2,   0.023,2,   0.017,2,-999.000,1,        0,2,  2299.8,2,  2392.9,2,   7.5840,2,    25.00,-999.000,9,-999.0000,9, -999.00,9, -999.00,9,  -999.0,9,  -999.0,-999.000,9,-999.000,  -999.0,9,-999.000,-999.0000, -999.00,   2.0295,   2.2008,2,20091211,       0052
318M20091121,        P06,      72,          2,          3,          3,2,20091211,       0033,   -32.5000,  -179.5000,       3150,  2612.8,   2.1571,  34.6497,  34.6463,3,    153.6,2,   153.4,2,  117.55,2,   34.52,2,    0.00,2,    2.48,2,   0.014,2,   0.009,2,-999.000,1,        0,2,  2300.7,2,  2395.9,2,   7.5854,2,    25.00,-999.000,9,-999.0000,9, -999.00,9, -999.00,9,  -999.0,9,  -999.0,-999.000,9,-999.000,  -999.0,9,-999.000,-999.0000, -999.00,   1.9634,   2.1569,2,20091211,       0046
318M20091121,        P06,      72,          2,          2,          2,2,20091211,       0033,   -32.5000,  -179.5000,       3150,  2926.8,   2.1513,  34.6533,  34.6495,3,    153.5,2,   153.6,2,  118.46,2,   34.76,2,    0.00,2,    2.48,2,   0.016,2,   0.010,2,-999.000,1,        0,2,  2304.6,2,  2397.1,6,   7.5819,2,    25.00,-999.000,9,-999.0000,9, -999.00,9, -999.00,9,  -999.0,9,  -999.0,-999.000,9,-999.000,    36.0,2,-999.000,-999.0000, -999.00,   1.9275,   2.1511,2,20091211,       0039
318M20091121,        P06,      72,          2,          1,          1,2,20091211,       0033,   -32.5000,  -179.5000,       3150,  3184.9,   2.1749,  34.6536,  34.6483,3,    153.6,2,   153.2,2,  119.18,2,   34.52,2,    0.00,2,    2.47,2,   0.013,2,   0.008,2,-999.000,1,        0,2,  2301.5,6,  2396.8,2,   7.5859,6,    25.00,-999.000,9,-999.0000,9, -999.00,9, -999.00,9,  -999.0,9,  -999.0,-999.000,9,-999.000,    38.7,2,-999.000,-999.0000, -999.00,   1.9248,   2.1744,2,20091211,       0033