BOTTLE,20220818CCHSIOAMB
EXPOCODE,SECT_ID,STNNBR,CASTNO,SAMPNO,BTLNBR,BTLNBR_FLAG_W,DATE,TIME,LATITUDE,LONGITUDE,DEPTH,CTDPRS,CTDTMP,CTDSAL,SALNTY,SALNTY_FLAG_W,CTDOXY,CTDOXY_FLAG_W,OXYGEN,OXYGEN_FLAG_W,SILCAT,SILCAT_FLAG_W,NITRAT,NITRAT_FLAG_W,NITRIT,NITRIT_FLAG_W,PHSPHT,PHSPHT_FLAG_W,CFC-11,CFC-11_FLAG_W,CFC-12,CFC-12_FLAG_W,CFC113,CFC113_FLAG_W,SF6,SF6_FLAG_W,TCARBN,TCARBN_FLAG_W,ALKALI,ALKALI_FLAG_W,PH_SWS,PH_SWS_FLAG_W,PH_TMP,TRITUM,TRITUM_FLAG_W,HELIUM,HELIUM_FLAG_W,DELHE3,DELHE3_FLAG_W,DELC13,DELC13_FLAG_W,DELC14,DELC14_FLAG_W,C14ERR,NEON,NEON_FLAG_W,NEONER,DOC,DOC_FLAG_W,TRITER,HELIER,DELHER,THETA,SBE35,SBE35_FLAG_W,BTL_DATE,BTL_TIME
,,,,,,,,,,,METERS,DBAR,ITS-90,PSS-78,PSS-78,,UMOL/KG,,UMOL/KG,,UMOL/KG,,UMOL/KG,,UMOL/KG,,UMOL/KG,,PMOL/KG,,PMOL/KG,,PMOL/KG,,FMOL/KG,,UMOL/KG,,UMOL/KG,,,,DEG C,TU,,NMOL/KG,,PERCNT,,/MILLE,,/MILLE,,/MILLE,NMOL/KG,,NMOL/KG,UMOL/KG,,TU,NMOL/KG,PERCNT,DEG C,ITS-90,,,
318M20091121,        P06,     107,          3,         36,         36,2,20091223,       0432,   -32.5004,  -160.0609,       5308,     3.7,  20.0059,  35.3702,  35.3693,2,    231.6,2,   231.2,2,    0.89,2,    0.00,2,    0.00,2,    0.12,2,   2.123,2,   1.369,2,-999.000,1,    0.985,3,  2049.3,6,  2324.9,2,   7.9926,2,    25.00,-999.000,9,-999.0000,9, -999.00,9, -999.00,9,  -999.0,9,  -999.0,-999.000,9,-999.000,  -999.0,9,-999.000,-999.0000, -999.00,  20.0052,  20.0041,2,20091223,       0701
318M20091121,        P06,     107,          3,         35,         35,2,20091223,       0432,   -32.5004,  -160.0609,       5308,    26.1,  19.3496,  35.3618,  35.3602,2,    234.4,2,   233.6,2,    0.89,2,    0.00,2,    0.00,2,    0.11,2,   2.182,2,   1.393,2,-999.000,1,    1.205,2,  2047.0,2,  2322.0,6,   7.9991,6,    25.00,-999.000,9,-999.0000,9, -999.00,9, -999.00,9,  -999.0,9,  -999.0,-999.000,9,-999.000,  -999.0,9,-999.000,-999.0000, -999.00,  19.3449,  19.3328,2,20091223,       0658
318M20091121,        P06,     107,          3,         34,         34,2,20091223,       0432,   -32.5004,  -160.0609,       5308,    51.4,  17.8522,  35.3903,  35.3877,2,    248.2,2,   246.3,2,    0.89,2,    0.00,2,    0.00,2,    0.11,2,   2.327,2,   1.488,2,-999.000,1,    1.241,2,  -999.0,9,  -999.0,9,-999.0000,9,  -999.00,-999.000,9,-999.0000,9, -999.00,9, -999.00,9,  -999.0,9,  -999.0,-999.000,9,-999.000,  -999.0,9,-999.000,-999.0000, -999.00,  17.8434,  17.8273,3,20091223,       0656
318M20091121,        P06,     107,          3,         33,         33,2,20091223,       0432,   -32.5004,  -160.0609,       5308,    77.4,  16.2247,  35.4282,  35.4242,2,    243.7,2,   243.6,2,    0.89,2,   -0.01,2,    0.00,2,    0.15,2,   2.422,2,   1.517,2,-999.000,1,    1.198,2,  2059.0,2,  2325.2,2,   7.9844,2,    25.00,-999.000,9,-999.0000,9, -999.00,9, -999.00,9,  -999.0,9,  -999.0,-999.000,9,-999.000,  -999.0,9,-999.000,-999.0000, -999.00,  16.2123,  16.2295,2,20091223,       0654
318M20091121,        P06,     107,          3,         32,         32,2,20091223,       0432,   -32.5004,  -160.0609,       5308,   101.4,  15.7444,  35.4014,  35.4007,2,    231.5,2,   232.1,2,    1.09,2,    0.87,2,    0.18,2,    0.24,2,   2.493,2,   1.557,2,-999.000,1,    1.278,2,  -999.0,9,  -999.0,9,-999.0000,9,  -999.00,-999.000,9,-999.0000,9, -999.00,9, -999.00,9,  -999.0,9,  -999.0,-999.000,9,-999.000,  -999.0,9,-999.000,-999.0000, -999.00,  15.7285,  15.7437,2,20091223,       0652
318M20091121,        P06,     107,          3,         31,         31,2,20091223,       0432,   -32.5004,  -160.0609,       5308,   150.3,  14.7060,  35.2465,  35.2438,2,    225.5,2,   231.8,2,    1.49,2,    2.42,2,    0.02,2,    0.33,2,   2.586,2,   1.605,2,-999.000,1,    1.347,2,  2080.0,2,  2317.6,2,   7.9287,2,    25.00,-999.000,9,-999.0000,9, -999.00,9, -999.00,9,  -999.0,9,  -999.0,-999.000,9,-999.000,  -999.0,9,-999.000,-999.0000, -999.00,  14.6835,  14.7052,2,20091223,       0650
318M20091121,        P06,     107,          3,         30,         30,2,20091223,       0432,   -32.5004,  -160.0609,       5308,   200.8,  13.4355,  35.1518,  35.1531,2,    202.1,2,   202.2,2,    2.91,2,    8.84,2,    0.01,2,    0.71,2,   2.633,2,   1.568,2,-999.000,1,    0.886,2,  -999.0,9,  -999.0,9,-999.0000,9,  -999.00,-999.000,9,-999.0000,9, -999.00,9, -999.00,9,  -999.0,9,  -999.0,-999.000,9,-999.000,  -999.0,9,-999.000,-999.0000, -999.00,  13.4072,  13.4015,3,20091223,       0648
318M20091121,        P06,     107,          3,         29,         29,2,20091223,       0432,   -32.5004,  -160.0609,       5308,   252.7,  12.4139,  35.0349,  35.0338,2,    207.3,2,   206.1,2,    3.31,2,   10.58,2,    0.01,2,    0.83,2,   2.717,2,   1.578,2,-999.000,1,    0.798,2,  2119.1,2,  2307.9,2,   7.8299,2,    25.00,-999.000,9,-999.0000,9, -999.00,9, -999.00,9,  -999.0,9,  -999.0,-999.000,9,-999.000,  -999.0,9,-999.000,-999.0000, -999.00,  12.3801,  12.4189,2,20091223,       0645
318M20091121,        P06,     107,          3,         28,         28,2,20091223,       0432,   -32.5004,  -160.0609,       5308,   300.5,  11.3057,  34.8944,  34.8949,2,    208.6,2,   209.1,2,    3.92,2,   12.79,2,    0.00,2,    0.97,2,-999.000,5,-999.000,5,-999.000,1,-999.0000,5,  -999.0,9,  -999.0,9,-999.0000,9,  -999.00,-999.000,9,-999.0000,9, -999.00,9, -999.00,9,  -999.0,9,  -999.0,-999.000,9,-999.000,  -999.0,9,-999.000,-999.0000, -999.00,  11.2679,  11.3003,2,20091223,       0643
318M20091121,        P06,     107,          3,         27,         27,2,20091223,       0432,   -32.5004,  -160.0609,       5308,   351.9,  10.2510,  34.7510,  34.7555,2,    211.4,2,   211.4,2,    4.52,2,   14.93,2,    0.00,2,    1.10,2,   2.946,2,   1.668,2,-999.000,1,    0.824,2,  2129.8,2,  2296.5,2,   7.7811,2,    25.00,-999.000,9,-999.0000,9, -999.00,9, -999.00,9,  -999.0,9,  -999.0,-999.000,9,-999.000,  -999.0,9,-999.000,-999.0000, -999.00,  10.2093,  10.2359,2,20091223,       0641
318M20091121,        P06,     107,          3,         26,         26,2,20091223,       0432,   -32.5004,  -160.0609,       5308,   402.0,   8.9506,  34.5913,  34.5922,2,    218.8,2,   219.3,2,    5.32,2,   17.52,2,    0.00,2,    1.26,2,   3.124,6,   1.726,6,-999.000,1,    0.744,6,  -999.0,9,  -999.0,9,-999.0000,9,  -999.00,-999.000,9,-999.0000,9, -999.00,9, -999.00,9,  -999.0,9,  -999.0,-999.000,9,-999.000,  -999.0,9,-999.000,-999.0000, -999.00,   8.9068,   8.9541,2,20091223,       0638
318M20091121,        P06,     107,          3,         25,         25,2,20091223,       0432,   -32.5004,  -160.0609,       5308,   503.4,   7.8064,  34.4653,  34.4648,2,    230.5,2,   229.8,2,    6.54,2,   19.91,2,    0.00,2,    1.42,2,   3.179,2,   1.692,2,-999.000,1,    0.512,2,  2139.0,2,  2279.7,2,   7.7412,2,    25.00,-999.000,9,-999.0000,9, -999.00,9, -999.00,9,  -999.0,9,  -999.0,-999.000,9,-999.000,  -999.0,9,-999.000,-999.0000, -999.00,   7.7556,   7.8059,2,20091223,       0635
318M20091121,        P06,     107,          3,         24,         24,2,20091223,       0432,   -32.5004,  -160.0609,       5308,   604.6,   7.0572,  34.3922,  34.3910,2,    236.5,2,   237.2,2,    7.55,2,   21.60,2,    0.00,2,    1.52,2,   2.966,2,   1.533,2,-999.000,1,    0.383,2,  2140.8,2,  2281.5,2,   7.7338,2,    25.00,-999.000,9,-999.0000,9, -999.00,9, -999.00,9,  -999.0,9,  -999.0,-999.000,9,-999.000,  -999.0,9,-999.000,-999.0000, -999.00,   6.9992,   7.0631,2,20091223,       0633
318M20091121,        P06,     107,          3,         23,         23,2,20091223,       0432,   -32.5004,  -160.0609,       5308,   704.9,   6.5421,  34.3567,  34.3555,2,    234.4,2,   235.3,2,    9.57,2,   23.10,2,    0.00,2,    1.62,2,   2.398,2,   1.214,2,-999.000,1,    0.344,2,  2143.6,2,  2281.6,2,   7.7239,2,    25.00,-999.000,9,-999.0000,9, -999.00,9, -999.00,9,  -999.0,9,  -999.0,-999.000,9,-999.000,  -999.0,9,-999.000,-999.0000, -999.00,   6.4768,   6.5415,2,20091223,       0630
318M20091121,        P06,     107,          3,         22,         22,2,20091223,       0432,   -32.5004,  -160.0609,       5308,   805.6,   6.0085,  34.3288,  34.3276,2,    228.0,2,   229.3,2,   12.80,2,   24.91,2,    0.00,2,    1.73,2,   1.763,2,   0.866,2,-999.000,1,    0.168,2,  2151.8,2,  2285.2,2,   7.7075,2,    25.00,-999.000,9,-999.0000,9, -999.00,9, -999.00,9,  -999.0,9,  -999.0,-999.000,9,-999.000,  -999.0,9,-999.000,-999.0000, -999.00,   5.9366,   6.0074,2,20091223,       0626
318M20091121,        P06,     107,          3,         21,         21,2,20091223,       0432,   -32.5004,  -160.0609,       5308,   908.0,   5.4337,  34.3278,  34.3262,2,    214.4,2,   214.0,2,   19.87,2,   27.45,2,    0.00,2,    1.91,2,   1.172,2,   0.577,2,-999.000,1,    0.094,2,  2168.8,2,  2290.7,2,   7.6757,2,    25.00,-999.000,9,-999.0000,9, -999.00,9, -999.00,9,  -999.0,9,  -999.0,-999.000,9,-999.000,  -999.0,9,-999.000,-999.0000, -999.00,   5.3559,   5.4337,2,20091223,       0623
318M20091121,        P06,     107,          3,         20,         20,2,20091223,       0432,   -32.5004,  -160.0609,       5308,  1008.1,   4.7980,  34.3312,  34.3302,2,    202.9,2,   202.6,2,   27.77,2,   29.57,2,    0.00,2,    2.05,2,   0.721,2,   0.348,2,-999.000,1,        0,2,  2183.8,6,  2295.2,6,   7.6508,2,    25.00,-999.000,9,-999.0000,9, -999.00,9, -999.00,9,  -999.0,9,  -999.0,-999.000,9,-999.000,  -999.0,9,-999.000,-999.0000, -999.00,   4.7158,   4.7940,2,20091223,       0620
318M20091121,        P06,     107,          3,         19,         19,2,20091223,       0432,   -32.5004,  -160.0609,       5308,  1109.9,   4.1948,  34.3515,  34.3504,2,    193.1,2,   193.0,2,   37.31,2,   31.36,2,    0.00,2,    2.17,2,   0.387,2,   0.190,2,-999.000,1,        0,2,  -999.0,9,  -999.0,9,-999.0000,9,  -999.00,-999.000,9,-999.0000,9, -999.00,9, -999.00,9,  -999.0,9,  -999.0,-999.000,9,-999.000,  -999.0,9,-999.000,-999.0000, -999.00,   4.1085,   4.1929,2,20091223,       0617
318M20091121,        P06,     107,          3,         18,         18,2,20091223,       0432,   -32.5004,  -160.0609,       5308,  1222.3,   3.6612,  34.3867,  34.3858,2,    185.5,2,   185.1,2,   47.26,2,   32.60,2,    0.00,2,    2.27,2,   0.264,2,   0.138,2,-999.000,1,        0,2,  -999.0,9,  -999.0,9,-999.0000,9,  -999.00,-999.000,9,-999.0000,9, -999.00,9, -999.00,9,  -999.0,9,  -999.0,-999.000,9,-999.000,  -999.0,9,-999.000,-999.0000, -999.00,   3.5701,   3.6654,2,20091223,       0614
318M20091121,        P06,     107,          3,         17,         17,2,20091223,       0432,   -32.5004,  -160.0609,       5308,  1312.0,   3.2422,  34.4371,  34.4358,2,    176.7,2,   176.6,2,   58.25,2,   33.49,2,    0.00,2,    2.33,2,   0.124,2,   0.067,2,-999.000,1,        0,2,  2233.2,2,  2386.7,4,   7.5913,2,    25.00,-999.000,9,-999.0000,9, -999.00,9, -999.00,9,  -999.0,9,  -999.0,-999.000,9,-999.000,  -999.0,9,-999.000,-999.0000, -999.00,   3.1476,   3.2466,2,20091223,       0610
318M20091121,        P06,     107,          3,         16,         16,2,20091223,       0432,   -32.5004,  -160.0609,       5308,  1412.6,   2.9913,  34.4839,  34.4810,2,    170.0,2,   169.9,2,   67.63,2,   33.94,2,    0.00,2,    2.36,2,   0.061,2,   0.038,2,-999.000,1,        0,2,  -999.0,9,  -999.0,9,-999.0000,9,  -999.00,-999.000,9,-999.0000,9, -999.00,9, -999.00,9,  -999.0,9,  -999.0,-999.000,9,-999.000,  -999.0,9,-999.000,-999.0000, -999.00,   2.8910,   2.9961,2,20091223,       0607
318M20091121,        P06,     107,          3,         15,         15,2,20091223,       0432,   -32.5004,  -160.0609,       5308,  1612.7,   2.6257,  34.5640,  34.5636,2,    160.2,2,   160.1,2,   86.87,2,   34.48,2,    0.00,2,    2.40,2,   0.014,2,   0.014,2,-999.000,1,        0,2,  -999.0,9,  -999.0,9,-999.0000,9,  -999.00,-999.000,9,-999.0000,9, -999.00,9, -999.00,9,  -999.0,9,  -999.0,-999.000,9,-999.000,  -999.0,9,-999.000,-999.0000, -999.00,   2.5130,   2.6244,2,20091223,       0603
318M20091121,        P06,     107,          3,         14,         14,2,20091223,       0432,   -32.5004,  -160.0609,       5308,  1818.3,   2.3735,  34.6096,  34.6084,2,    153.8,2,   153.6,2,  101.85,2,   34.78,2,    0.00,2,    2.44,2,   0.014,2,   0.013,2,-999.000,1,        0,2,  -999.0,9,  -999.0,9,-999.0000,9,  -999.00,-999.000,9,-999.0000,9, -999.00,9, -999.00,9,  -999.0,9,  -999.0,-999.000,9,-999.000,  -999.0,9,-999.000,-999.0000, -999.00,   2.2469,   2.3738,2,20091223,       0558
318M20091121,        P06,     107,          3,         13,         13,2,20091223,       0432,   -32.5004,  -160.0609,       5308,  2022.4,   2.2033,  34.6311,  34.6301,2,    150.8,2,   150.2,2,  111.74,2,   35.12,2,    0.00,2,    2.47,2,   0.010,2,   0.010,2,-999.000,1,        0,2,  2297.4,2,  2322.8,4,   7.5785,2,    25.00,-999.000,9,-999.0000,9, -999.00,9, -999.00,9,  -999.0,9,  -999.0,-999.000,9,-999.000,  -999.0,9,-999.000,-999.0000, -999.00,   2.0618,   2.2029,2,20091223,       0553
318M20091121,        P06,     107,          3,         12,         12,2,20091223,       0432,   -32.5004,  -160.0609,       5308,  2277.7,   2.0358,  34.6466,  34.6466,2,    147.6,2,   147.8,2,  121.03,2,   35.42,2,    0.00,2,    2.49,2,   0.016,2,   0.013,2,-999.000,1,        0,2,  -999.0,9,  -999.0,9,-999.0000,9,  -999.00,-999.000,9,-999.0000,9, -999.00,9, -999.00,9,  -999.0,9,  -999.0,-999.000,9,-999.000,  -999.0,9,-999.000,-999.0000, -999.00,   1.8748,   2.0363,2,20091223,       0547
318M20091121,        P06,     107,          3,         11,         11,2,20091223,       0432,   -32.5004,  -160.0609,       5308,  2533.3,   1.9271,  34.6563,  34.6547,2,    147.3,2,   147.8,2,  126.20,2,   35.61,2,    0.00,2,    2.50,2,   0.067,4,   0.047,4,-999.000,1,        0,4,  2311.8,2,  2406.8,2,   7.5765,2,    25.00,-999.000,9,-999.0000,9, -999.00,9, -999.00,9,  -999.0,9,  -999.0,-999.000,9,-999.000,  -999.0,9,-999.000,-999.0000, -999.00,   1.7451,   1.9269,2,20091223,       0542
318M20091121,        P06,     107,          3,         10,         10,2,20091223,       0432,   -32.5004,  -160.0609,       5308,  2782.6,   1.8420,  34.6638,  34.6624,2,    148.8,2,   149.5,2,  129.30,2,   35.50,2,    0.00,2,    2.50,2,   0.017,2,   0.013,2,-999.000,1,        0,2,  -999.0,9,  -999.0,9,-999.0000,9,  -999.00,-999.000,9,-999.0000,9, -999.00,9, -999.00,9,  -999.0,9,  -999.0,-999.000,9,-999.000,  -999.0,9,-999.000,-999.0000, -999.00,   1.6385,   1.8425,2,20091223,       0536
318M20091121,        P06,     107,          3,          9,          9,2,20091223,       0432,   -32.5004,  -160.0609,       5308,  3039.4,   1.7651,  34.6714,  34.6703,2,    152.4,2,   152.3,2,  130.13,2,   35.29,2,    0.00,2,    2.47,2,   0.013,2,   0.012,2,-999.000,1,        0,2,  2312.5,2,  2408.1,2,   7.5812,2,    25.00,-999.000,9,-999.0000,9, -999.00,9, -999.00,9,  -999.0,9,  -999.0,-999.000,9,-999.000,  -999.0,9,-999.000,-999.0000, -999.00,   1.5386,   1.7651,2,20091223,       0529
318M20091121,        P06,     107,          3,          8,          8,2,20091223,       0432,   -32.5004,  -160.0609,       5308,  3347.1,   1.6698,  34.6851,  34.6835,2,    162.1,2,   162.0,2,  126.82,2,   34.48,2,    0.00,2,    2.42,2,   0.014,2,   0.011,2,-999.000,1,        0,2,  -999.0,9,  -999.0,9,-999.0000,9,  -999.00,-999.000,9,-999.0000,9, -999.00,9, -999.00,9,  -999.0,9,  -999.0,-999.000,9,-999.000,  -999.0,9,-999.000,-999.0000, -999.00,   1.4149,   1.6702,2,20091223,       0523
318M20091121,        P06,     107,          3,          7,          7,2,20091223,       0432,   -32.5004,  -160.0609,       5308,  3653.8,   1.5575,  34.7028,  34.7014,2,    178.2,2,   178.6,2,  118.54,2,   32.96,2,    0.00,2,    2.32,2,   0.013,2,   0.014,2,-999.000,1,        0,2,  -999.0,9,  -999.0,9,-999.0000,9,  -999.00,-999.000,9,-999.0000,9, -999.00,9, -999.00,9,  -999.0,9,  -999.0,-999.000,9,-999.000,  -999.0,9,-999.000,-999.0000, -999.00,   1.2738,   1.5570,2,20091223,       0516
318M20091121,        P06,     107,          3,          6,          6,2,20091223,       0432,   -32.5004,  -160.0609,       5308,  3961.1,   1.4199,  34.7140,  34.7128,2,    192.1,2,   192.5,2,  113.60,2,   31.95,2,    0.00,2,    2.23,2,   0.027,2,   0.022,2,-999.000,1,        0,2,  2268.2,2,  2375.6,2,   7.6113,2,    25.00,-999.000,9,-999.0000,9, -999.00,9, -999.00,9,  -999.0,9,  -999.0,-999.000,9,-999.000,  -999.0,9,-999.000,-999.0000, -999.00,   1.1072,   1.4198,2,20091223,       0510
318M20091121,        P06,     107,          3,          5,          5,9,20091223,       0432,   -32.5004,  -160.0609,       5308,  4269.1,   1.2416,  34.7151,-999.0000,9,   -999.0,9,  -999.0,9, -999.00,9, -999.00,9, -999.00,9, -999.00,9,-999.000,9,-999.000,9,-999.000,9,-999.0000,9,  -999.0,9,  -999.0,9,-999.0000,9,  -999.00,-999.000,9,-999.0000,9, -999.00,9, -999.00,9,  -999.0,9,  -999.0,-999.000,9,-999.000,  -999.0,9,-999.000,-999.0000, -999.00,   0.9004,   1.2427,2,20091223,       0502
318M20091121,        P06,     107,          3,          4,          4,2,20091223,       0432,   -32.5004,  -160.0609,       5308,  4576.8,   1.1226,  34.7122,  34.7111,2,    204.1,2,   204.2,2,  118.33,2,   31.69,2,    0.00,2,    2.20,2,   0.047,2,   0.030,2,-999.000,1,        0,2,  -999.0,9,  -999.0,9,-999.0000,9,  -999.00,-999.000,9,-999.0000,9, -999.00,9, -999.00,9,  -999.0,9,  -999.0,-999.000,9,-999.000,  -999.0,9,-999.000,-999.0000, -999.00,   0.7504,   1.1229,2,20091223,       0456
318M20091121,        P06,     107,          3,          3,          3,2,20091223,       0432,   -32.5004,  -160.0609,       5308,  4884.1,   1.0745,  34.7097,  34.7085,2,    205.6,2,   205.9,2,  120.40,2,   31.78,2,    0.00,2,    2.21,2,   0.054,2,   0.031,2,-999.000,1,        0,2,  2264.6,2,  2365.9,2,   7.6167,2,    25.00,-999.000,9,-999.0000,9, -999.00,9, -999.00,9,  -999.0,9,  -999.0,-999.000,9,-999.000,  -999.0,9,-999.000,-999.0000, -999.00,   0.6682,   1.0745,2,20091223,       0449
318M20091121,        P06,     107,          3,          2,          2,2,20091223,       0432,   -32.5004,  -160.0609,       5308,  5157.0,   1.0875,  34.7088,  34.7079,2,    205.8,2,   205.5,2,  121.23,2,   31.78,2,    0.00,2,    2.21,2,   0.068,2,   0.040,2,-999.000,1,        0,2,  -999.0,9,  -999.0,9,-999.0000,9,  -999.00,-999.000,9,-999.0000,9, -999.00,9, -999.00,9,  -999.0,9,  -999.0,-999.000,9,-999.000,  -999.0,9,-999.000,-999.0000, -999.00,   0.6481,   1.0874,2,20091223,       0442
318M20091121,        P06,     107,          3,          1,          1,2,20091223,       0432,   -32.5004,  -160.0609,       5308,  5431.1,   1.1171,  34.7086,  34.7077,2,    206.4,2,   206.4,2,  121.43,2,   31.82,2,    0.00,2,    2.21,2,   0.060,2,   0.034,2,-999.000,1,        0,2,  2265.7,6,  2366.9,6,   7.6170,6,    25.00,-999.000,9,-999.0000,9, -999.00,9, -999.00,9,  -999.0,9,  -999.0,-999.000,9,-999.000,  -999.0,9,-999.000,-999.0000, -999.00,   0.6429,   1.1172,2,20091223,       0432