BOTTLE,20220818CCHSIOAMB
EXPOCODE,SECT_ID,STNNBR,CASTNO,SAMPNO,BTLNBR,BTLNBR_FLAG_W,DATE,TIME,LATITUDE,LONGITUDE,DEPTH,CTDPRS,CTDTMP,CTDSAL,SALNTY,SALNTY_FLAG_W,CTDOXY,CTDOXY_FLAG_W,OXYGEN,OXYGEN_FLAG_W,SILCAT,SILCAT_FLAG_W,NITRAT,NITRAT_FLAG_W,NITRIT,NITRIT_FLAG_W,PHSPHT,PHSPHT_FLAG_W,CFC-11,CFC-11_FLAG_W,CFC-12,CFC-12_FLAG_W,CFC113,CFC113_FLAG_W,SF6,SF6_FLAG_W,TCARBN,TCARBN_FLAG_W,ALKALI,ALKALI_FLAG_W,PH_SWS,PH_SWS_FLAG_W,PH_TMP,TRITUM,TRITUM_FLAG_W,HELIUM,HELIUM_FLAG_W,DELHE3,DELHE3_FLAG_W,DELC13,DELC13_FLAG_W,DELC14,DELC14_FLAG_W,C14ERR,NEON,NEON_FLAG_W,NEONER,DOC,DOC_FLAG_W,TRITER,HELIER,DELHER,THETA,SBE35,SBE35_FLAG_W,BTL_DATE,BTL_TIME
,,,,,,,,,,,METERS,DBAR,ITS-90,PSS-78,PSS-78,,UMOL/KG,,UMOL/KG,,UMOL/KG,,UMOL/KG,,UMOL/KG,,UMOL/KG,,PMOL/KG,,PMOL/KG,,PMOL/KG,,FMOL/KG,,UMOL/KG,,UMOL/KG,,,,DEG C,TU,,NMOL/KG,,PERCNT,,/MILLE,,/MILLE,,/MILLE,NMOL/KG,,NMOL/KG,UMOL/KG,,TU,NMOL/KG,PERCNT,DEG C,ITS-90,,,
318M20091121,        P06,       1,          1,          5,          5,2,20091122,       0402,   -30.0900,   153.4800,         88,    78.9,  17.4491,  35.5460,-999.0000,9,   -999.0,9,  -999.0,9, -999.00,9, -999.00,9, -999.00,9, -999.00,9,-999.000,9,-999.000,9,-999.000,9,-999.0000,9,  -999.0,9,  -999.0,9,-999.0000,9,  -999.00,-999.000,9,-999.0000,9, -999.00,9, -999.00,9,  -999.0,9,  -999.0,-999.000,9,-999.000,  -999.0,9,-999.000,-999.0000, -999.00,  17.4358,  17.4496,2,20091122,       0402
318M20091121,        P06,       1,          1,          2,          2,2,20091122,       0402,   -30.0900,   153.4800,         88,    79.0,  17.5069,  35.5479,  35.5519,2,    187.4,2,   189.6,2,    1.89,2,    7.10,2,    0.01,2,    0.53,2,   3.001,4,   1.740,4,   0.062,2,-999.0000,5,  2080.6,2,  2327.5,2,   7.9244,3,    25.00,-999.000,9,-999.0000,9, -999.00,9, -999.00,9,  -999.0,9,  -999.0,-999.000,9,-999.000,  -999.0,9,-999.000,-999.0000, -999.00,  17.4936,  17.4898,3,20091122,       0401
318M20091121,        P06,       1,          1,          4,          4,2,20091122,       0402,   -30.0900,   153.4800,         88,    79.2,  17.3904,  35.5420,-999.0000,9,   -999.0,9,  -999.0,9, -999.00,9, -999.00,9, -999.00,9, -999.00,9,-999.000,9,-999.000,9,-999.000,9,-999.0000,9,  -999.0,9,  -999.0,9,-999.0000,9,  -999.00,-999.000,9,-999.0000,9, -999.00,9, -999.00,9,  -999.0,9,  -999.0,-999.000,9,-999.000,  -999.0,9,-999.000,-999.0000, -999.00,  17.3771,  17.4342,3,20091122,       0402
318M20091121,        P06,       1,          1,          1,          1,2,20091122,       0402,   -30.0900,   153.4800,         88,    79.2,  17.4662,  35.5477,  35.5523,3,    187.4,2,   188.4,2,    1.87,2,    7.13,2,    0.01,2,    0.54,2,-999.000,5,-999.000,5,-999.000,1,-999.0000,5,  -999.0,9,  2328.1,2,   7.8609,4,    25.00,-999.000,9,-999.0000,9, -999.00,9, -999.00,9,  -999.0,9,  -999.0,-999.000,9,-999.000,  -999.0,9,-999.000,-999.0000, -999.00,  17.4529,  17.5099,3,20091122,       0401
318M20091121,        P06,       1,          1,          3,          3,2,20091122,       0402,   -30.0900,   153.4800,         88,    79.3,  17.4044,  35.5432,-999.0000,9,   -999.0,9,  -999.0,9, -999.00,9, -999.00,9, -999.00,9, -999.00,9,-999.000,9,-999.000,9,-999.000,9,-999.0000,9,  -999.0,9,  -999.0,9,-999.0000,9,  -999.00,-999.000,9,-999.0000,9, -999.00,9, -999.00,9,  -999.0,9,  -999.0,-999.000,9,-999.000,  -999.0,9,-999.000,-999.0000, -999.00,  17.3911,  17.4187,3,20091122,       0402
318M20091121,        P06,       2,          1,          6,          6,2,20091122,       0620,   -30.0805,   153.5197,        116,     5.5,  22.1187,  35.3910,  35.3900,2,    221.8,2,   221.8,2,    0.79,2,    0.57,2,    0.03,2,    0.20,2,   1.909,2,   1.186,2,   0.078,2,-999.0000,5,  -999.0,9,  -999.0,9,-999.0000,9,  -999.00,-999.000,9,-999.0000,9, -999.00,9, -999.00,9,  -999.0,9,  -999.0,-999.000,9,-999.000,  -999.0,9,-999.000,-999.0000, -999.00,  22.1176,  22.1174,2,20091122,       0646
318M20091121,        P06,       2,          1,          5,          5,2,20091122,       0620,   -30.0805,   153.5197,        116,    25.6,  18.6837,  35.5521,  35.5494,2,    173.1,2,   173.1,2,    2.19,2,    6.60,2,    0.03,2,    0.57,2,   2.081,2,   1.239,2,   0.033,2,-999.0000,5,  -999.0,9,  -999.0,9,-999.0000,9,  -999.00,-999.000,9,-999.0000,9, -999.00,9, -999.00,9,  -999.0,9,  -999.0,-999.000,9,-999.000,  -999.0,9,-999.000,-999.0000, -999.00,  18.6792,  18.6962,2,20091122,       0642
318M20091121,        P06,       2,          1,          4,          4,2,20091122,       0620,   -30.0805,   153.5197,        116,    50.0,  18.0040,  35.5749,  35.5729,2,    183.0,2,   184.2,2,    1.96,2,    6.07,2,    0.01,2,    0.54,2,   2.155,2,   1.295,2,   0.031,2,-999.0000,5,  -999.0,9,  -999.0,9,-999.0000,9,  -999.00,-999.000,9,-999.0000,9, -999.00,9, -999.00,9,  -999.0,9,  -999.0,-999.000,9,-999.000,  -999.0,9,-999.000,-999.0000, -999.00,  17.9954,  18.0033,2,20091122,       0638
318M20091121,        P06,       2,          1,          3,          3,2,20091122,       0620,   -30.0805,   153.5197,        116,    71.1,  17.2611,  35.5428,  35.5427,2,    191.5,2,   193.4,2,    1.93,2,    6.02,2,    0.02,2,    0.52,2,   2.214,2,   1.337,2,   0.055,2,-999.0000,5,  -999.0,9,  -999.0,9,-999.0000,9,  -999.00,-999.000,9,-999.0000,9, -999.00,9, -999.00,9,  -999.0,9,  -999.0,-999.000,9,-999.000,  -999.0,9,-999.000,-999.0000, -999.00,  17.2492,  17.2678,2,20091122,       0634
318M20091121,        P06,       2,          1,          2,          2,2,20091122,       0620,   -30.0805,   153.5197,        116,    90.3,  16.5157,  35.4930,  35.4933,2,    194.4,2,   194.5,2,    2.12,2,    6.86,2,    0.01,2,    0.57,2,   2.394,2,   1.315,2,   0.057,2,-999.0000,5,  -999.0,9,  -999.0,9,-999.0000,9,  -999.00,-999.000,9,-999.0000,9, -999.00,9, -999.00,9,  -999.0,9,  -999.0,-999.000,9,-999.000,  -999.0,9,-999.000,-999.0000, -999.00,  16.5011,  16.5232,2,20091122,       0631
318M20091121,        P06,       2,          1,          1,          1,2,20091122,       0620,   -30.0805,   153.5197,        116,   110.4,  16.0354,  35.4504,  35.4510,2,    191.6,2,   191.6,2,    2.50,2,    7.88,2,    0.01,2,    0.64,2,   2.306,2,   0.221,4,   0.055,2,-999.0000,5,  -999.0,9,  -999.0,9,-999.0000,9,  -999.00,-999.000,9,-999.0000,9, -999.00,9, -999.00,9,  -999.0,9,  -999.0,-999.000,9,-999.000,  -999.0,9,-999.000,-999.0000, -999.00,  16.0179,  16.0348,2,20091122,       0620
318M20091121,        P06,       3,          5,         10,         10,2,20091122,       2034,   -30.0800,   153.6000,       1091,   581.3,   7.9083,  34.5498,  34.5502,2,    199.8,2,   199.7,2,   12.73,2,   22.89,2,    0.00,2,    1.61,2,   1.541,2,   0.820,2,   0.024,2,    0.186,2,  2156.4,2,  -999.0,9,-999.0000,9,  -999.00,   0.117,2,   1.7973,2,    1.73,2, -999.00,9,  -999.0,9,  -999.0,   7.491,2,   0.034,  -999.0,9,   0.008,   0.0075,    0.15,   7.8488,   7.9081,2,20091122,       2105
318M20091121,        P06,       3,          5,          9,          9,2,20091122,       2034,   -30.0800,   153.6000,       1091,   611.9,   7.4713,  34.5151,  34.5150,2,    198.9,2,   199.2,2,   14.56,2,   23.93,2,    0.00,2,    1.69,2,   1.361,2,   0.737,2,   0.022,2,    0.187,2,  2159.5,2,  2291.4,2,-999.0000,9,  -999.00,   0.107,2,   1.8245,2,    2.22,2, -999.00,9,  -999.0,9,  -999.0,   7.613,2,   0.035,  -999.0,9,   0.008,   0.0077,    0.15,   7.4106,   7.4746,2,20091122,       2102
318M20091121,        P06,       3,          5,          8,          8,2,20091122,       2034,   -30.0800,   153.6000,       1091,   637.1,   7.0503,  34.4855,  34.4853,2,    198.8,2,   199.4,2,   17.02,2,   24.96,2,    0.00,2,    1.77,2,   1.180,2,   0.630,2,   0.020,2,    0.107,2,  2164.0,2,  -999.0,5,-999.0000,9,  -999.00,   0.087,2,-999.0000,9, -999.00,9, -999.00,9,  -999.0,9,  -999.0,-999.000,9,-999.000,  -999.0,9,   0.008,-999.0000, -999.00,   6.9890,   7.0490,2,20091122,       2100
318M20091121,        P06,       3,          5,          7,          7,2,20091122,       2034,   -30.0800,   153.6000,       1091,   667.5,   6.9900,  34.4819,  34.4820,2,    199.5,2,   198.5,2,   17.83,2,   25.17,2,    0.00,2,    1.79,2,   1.118,2,   0.606,2,   0.019,2,     0.21,2,  2165.9,2,  2288.5,2,-999.0000,9,  -999.00,   0.080,2,-999.0000,9, -999.00,9, -999.00,9,  -999.0,9,  -999.0,-999.000,9,-999.000,  -999.0,9,   0.008,-999.0000, -999.00,   6.9259,   6.9961,2,20091122,       2057
318M20091121,        P06,       3,          5,          6,          6,2,20091122,       2034,   -30.0800,   153.6000,       1091,   750.4,   6.4380,  34.4579,  34.4571,2,    195.4,2,   195.3,2,   22.35,2,   26.56,2,    0.00,2,    1.89,2,   0.858,2,   0.470,2,   0.015,2,        0,2,  2175.4,2,  2292.3,2,-999.0000,9,  -999.00,   0.063,2,-999.0000,9, -999.00,9, -999.00,9,  -999.0,9,  -999.0,-999.000,9,-999.000,  -999.0,9,   0.008,-999.0000, -999.00,   6.3687,   6.4377,2,20091122,       2052
318M20091121,        P06,       3,          5,          5,          5,2,20091122,       2034,   -30.0800,   153.6000,       1091,   854.9,   5.6557,  34.4445,  34.4435,2,    188.8,2,   187.9,2,   32.08,2,   28.64,2,    0.00,2,    2.03,2,   0.531,2,   0.299,2,   0.009,2,        0,2,  2191.4,2,  2300.8,2,-999.0000,9,  -999.00,   0.050,2,-999.0000,9, -999.00,9, -999.00,9,  -999.0,9,  -999.0,-999.000,9,-999.000,  -999.0,9,   0.008,-999.0000, -999.00,   5.5812,   5.6577,2,20091122,       2047
318M20091121,        P06,       3,          5,          4,          4,2,20091122,       2034,   -30.0800,   153.6000,       1091,   959.6,   5.0302,  34.4526,  34.4545,2,    181.5,2,   181.3,2,   41.85,2,   30.13,2,    0.00,2,    2.15,2,   0.343,2,   0.199,2,   0.007,2,        0,2,  2206.0,2,  2312.1,6,-999.0000,9,  -999.00,   0.026,2,-999.0000,9, -999.00,9, -999.00,9,  -999.0,9,  -999.0,-999.000,9,-999.000,  -999.0,9,   0.008,-999.0000, -999.00,   4.9504,   5.0359,2,20091122,       2043
318M20091121,        P06,       3,          5,          3,          3,2,20091122,       2034,   -30.0800,   153.6000,       1091,  1060.8,   4.5636,  34.4723,  34.4721,2,    174.2,2,   174.2,2,   51.88,2,   31.38,2,    0.00,2,    2.23,2,   0.236,2,   0.156,2,   0.008,2,        0,2,  2221.9,2,  2326.1,2,-999.0000,9,  -999.00,-999.000,9,-999.0000,9, -999.00,9, -999.00,9,  -999.0,9,  -999.0,-999.000,9,-999.000,  -999.0,9,-999.000,-999.0000, -999.00,   4.4783,   4.5636,2,20091122,       2039
318M20091121,        P06,       3,          5,          2,          2,2,20091122,       2034,   -30.0800,   153.6000,       1091,  1122.3,   4.3036,  34.4871,  34.4868,2,    169.9,2,   169.8,2,   58.17,2,   31.97,2,    0.00,2,    2.29,2,   0.159,2,   0.094,2,   0.003,2,        0,2,  2229.2,6,  -999.0,9,-999.0000,9,  -999.00,   0.013,2,-999.0000,9, -999.00,9, -999.00,9,  -999.0,9,  -999.0,-999.000,9,-999.000,  -999.0,9,   0.008,-999.0000, -999.00,   4.2151,   4.3016,2,20091122,       2034
318M20091121,        P06,       3,          5,          1,          1,3,20091122,       2034,   -30.0800,   153.6000,       1091,  1122.6,   4.3007,  34.4872,-999.0000,9,   -999.0,9,  -999.0,9, -999.00,9, -999.00,9, -999.00,9, -999.00,9,-999.000,9,-999.000,9,-999.000,9,-999.0000,9,  -999.0,9,  -999.0,9,-999.0000,9,  -999.00,-999.000,9,-999.0000,9, -999.00,9, -999.00,9,  -999.0,9,  -999.0,-999.000,9,-999.000,  -999.0,9,-999.000,-999.0000, -999.00,   4.2122,   4.3011,2,20091122,       2034