BOTTLE,20220818CCHSIOAMB
EXPOCODE,SECT_ID,STNNBR,CASTNO,SAMPNO,BTLNBR,BTLNBR_FLAG_W,DATE,TIME,LATITUDE,LONGITUDE,DEPTH,CTDPRS,CTDTMP,CTDSAL,SALNTY,SALNTY_FLAG_W,CTDOXY,CTDOXY_FLAG_W,OXYGEN,OXYGEN_FLAG_W,SILCAT,SILCAT_FLAG_W,NITRAT,NITRAT_FLAG_W,NITRIT,NITRIT_FLAG_W,PHSPHT,PHSPHT_FLAG_W,CFC-11,CFC-11_FLAG_W,CFC-12,CFC-12_FLAG_W,CFC113,CFC113_FLAG_W,SF6,SF6_FLAG_W,TCARBN,TCARBN_FLAG_W,ALKALI,ALKALI_FLAG_W,PH_SWS,PH_SWS_FLAG_W,PH_TMP,TRITUM,TRITUM_FLAG_W,HELIUM,HELIUM_FLAG_W,DELHE3,DELHE3_FLAG_W,DELC13,DELC13_FLAG_W,DELC14,DELC14_FLAG_W,C14ERR,NEON,NEON_FLAG_W,NEONER,DOC,DOC_FLAG_W,TRITER,HELIER,DELHER,THETA,SBE35,SBE35_FLAG_W,BTL_DATE,BTL_TIME
,,,,,,,,,,,METERS,DBAR,ITS-90,PSS-78,PSS-78,,UMOL/KG,,UMOL/KG,,UMOL/KG,,UMOL/KG,,UMOL/KG,,UMOL/KG,,PMOL/KG,,PMOL/KG,,PMOL/KG,,FMOL/KG,,UMOL/KG,,UMOL/KG,,,,DEG C,TU,,NMOL/KG,,PERCNT,,/MILLE,,/MILLE,,/MILLE,NMOL/KG,,NMOL/KG,UMOL/KG,,TU,NMOL/KG,PERCNT,DEG C,ITS-90,,,
318M20091121,        P06,      85,          1,         36,         36,2,20091214,       1729,   -32.5001,  -174.3300,       5806,     5.8,  21.3139,  35.5997,  35.6004,2,    228.0,2,   226.9,2,    0.77,2,    0.00,2,    0.00,2,    0.12,2,   2.059,2,   1.247,2,-999.000,1,    1.286,2,  2053.9,6,  2337.3,6,   8.0004,2,    25.00,-999.000,9,-999.0000,9, -999.00,9, -999.00,9,  -999.0,9,  -999.0,-999.000,9,-999.000,  -999.0,9,-999.000,-999.0000, -999.00,  21.3128,  21.2879,2,20091214,       2018
318M20091121,        P06,      85,          1,         35,         35,2,20091214,       1729,   -32.5001,  -174.3300,       5806,    19.4,  20.3415,  35.5464,  35.5564,3,    232.5,2,   231.3,2,    0.75,2,    0.00,2,    0.00,2,    0.11,2,   2.102,2,   1.277,2,-999.000,1,    1.179,2,  -999.0,9,  2332.9,2,   8.0015,6,    25.00,-999.000,9,-999.0000,9, -999.00,9, -999.00,9,  -999.0,9,  -999.0,-999.000,9,-999.000,  -999.0,9,-999.000,-999.0000, -999.00,  20.3379,  20.3589,2,20091214,       2015
318M20091121,        P06,      85,          1,         34,         34,2,20091214,       1729,   -32.5001,  -174.3300,       5806,    39.8,  18.4731,  35.4940,  35.4877,2,    244.8,2,   247.1,2,    0.73,2,    0.00,2,    0.00,2,    0.11,2,   2.326,2,   1.395,2,-999.000,1,    1.257,2,  -999.0,9,  -999.0,9,-999.0000,9,  -999.00,-999.000,9,-999.0000,9, -999.00,9, -999.00,9,  -999.0,9,  -999.0,-999.000,9,-999.000,  -999.0,9,-999.000,-999.0000, -999.00,  18.4661,  18.4428,3,20091214,       2013
318M20091121,        P06,      85,          1,         33,         33,2,20091214,       1729,   -32.5001,  -174.3300,       5806,    65.1,  16.7272,  35.4397,  35.4342,2,    252.6,2,   253.4,2,    0.71,2,    0.00,2,    0.00,2,    0.13,2,   2.406,2,   1.428,2,-999.000,1,    1.322,2,  -999.0,9,  2326.6,2,   7.9965,2,    25.00,-999.000,9,-999.0000,9, -999.00,9, -999.00,9,  -999.0,9,  -999.0,-999.000,9,-999.000,  -999.0,9,-999.000,-999.0000, -999.00,  16.7166,  16.7573,2,20091214,       2011
318M20091121,        P06,      85,          1,         32,         32,2,20091214,       1729,   -32.5001,  -174.3300,       5806,    88.6,  15.4027,  35.3852,  35.3854,2,    245.1,2,   243.4,2,    1.09,2,    0.68,2,    0.05,2,    0.21,2,   2.570,4,   1.568,4,-999.000,1,    3.252,4,  -999.0,9,  -999.0,9,-999.0000,9,  -999.00,-999.000,9,-999.0000,9, -999.00,9, -999.00,9,  -999.0,9,  -999.0,-999.000,9,-999.000,  -999.0,9,-999.000,-999.0000, -999.00,  15.3890,  15.3993,2,20091214,       2009
318M20091121,        P06,      85,          1,         31,         31,2,20091214,       1729,   -32.5001,  -174.3300,       5806,   134.3,  14.4473,  35.3079,  35.3023,2,    220.8,2,   219.7,2,    1.68,2,    5.66,2,    0.01,2,    0.50,2,-999.000,5,-999.000,5,-999.000,1,-999.0000,5,  -999.0,9,  2320.7,2,   7.9028,2,    25.00,-999.000,9,-999.0000,9, -999.00,9, -999.00,9,  -999.0,9,  -999.0,-999.000,9,-999.000,  -999.0,9,-999.000,-999.0000, -999.00,  14.4275,  14.4416,2,20091214,       2006
318M20091121,        P06,      85,          1,         30,         30,2,20091214,       1729,   -32.5001,  -174.3300,       5806,   184.5,  13.7933,  35.2437,  35.2434,2,    217.6,2,   218.4,2,    2.07,2,    7.05,2,    0.01,2,    0.59,2,   2.547,6,   1.500,6,-999.000,1,   1.2165,6,  -999.0,9,  -999.0,9,-999.0000,9,  -999.00,-999.000,9,-999.0000,9, -999.00,9, -999.00,9,  -999.0,9,  -999.0,-999.000,9,-999.000,  -999.0,9,-999.000,-999.0000, -999.00,  13.7668,  13.8027,2,20091214,       2003
318M20091121,        P06,      85,          1,         29,         29,2,20091214,       1729,   -32.5001,  -174.3300,       5806,   235.4,  12.8782,  35.1238,  35.1099,3,    206.5,2,   206.0,2,    3.07,2,   10.96,2,    0.01,2,    0.82,2,   2.547,2,   1.463,2,-999.000,1,    1.001,2,  -999.0,9,  2308.4,2,   7.8365,2,    25.00,-999.000,9,-999.0000,9, -999.00,9, -999.00,9,  -999.0,9,  -999.0,-999.000,9,-999.000,  -999.0,9,-999.000,-999.0000, -999.00,  12.8459,  12.8844,2,20091214,       2001
318M20091121,        P06,      85,          1,         28,         28,2,20091214,       1729,   -32.5001,  -174.3300,       5806,   286.0,  12.1831,  35.0466,  35.0461,2,    206.7,2,   207.0,2,    3.46,2,   12.20,2,    0.00,2,    0.90,2,   2.649,2,   1.500,2,-999.000,1,    0.844,2,  -999.0,9,  -999.0,9,-999.0000,9,  -999.00,-999.000,9,-999.0000,9, -999.00,9, -999.00,9,  -999.0,9,  -999.0,-999.000,9,-999.000,  -999.0,9,-999.000,-999.0000, -999.00,  12.1453,  12.1821,2,20091214,       1958
318M20091121,        P06,      85,          1,         27,         27,2,20091214,       1729,   -32.5001,  -174.3300,       5806,   337.1,  11.3519,  34.9303,  34.9351,2,    205.7,2,   205.3,2,    4.05,2,   14.05,2,    0.00,2,    1.01,2,   2.640,2,   1.464,2,-999.000,1,    0.802,2,  -999.0,9,  2306.4,4,   7.7943,2,    25.00,-999.000,9,-999.0000,9, -999.00,9, -999.00,9,  -999.0,9,  -999.0,-999.000,9,-999.000,  -999.0,9,-999.000,-999.0000, -999.00,  11.3092,  11.3352,2,20091214,       1955
318M20091121,        P06,      85,          1,         26,         26,2,20091214,       1729,   -32.5001,  -174.3300,       5806,   387.5,  10.2942,  34.7842,  34.7874,2,    207.1,2,   206.7,2,    4.84,2,   16.33,2,    0.00,2,    1.15,2,   2.697,2,   1.483,2,-999.000,1,    0.733,2,  -999.0,9,  -999.0,9,-999.0000,9,  -999.00,-999.000,9,-999.0000,9, -999.00,9, -999.00,9,  -999.0,9,  -999.0,-999.000,9,-999.000,  -999.0,9,-999.000,-999.0000, -999.00,  10.2481,  10.3219,3,20091214,       1952
318M20091121,        P06,      85,          1,         25,         25,2,20091214,       1729,   -32.5001,  -174.3300,       5806,   469.2,   8.9797,  34.6169,  34.6119,2,    213.3,2,   213.2,2,    5.84,2,   19.17,2,    0.00,2,    1.34,2,   2.756,2,   1.483,2,-999.000,1,     0.61,2,  -999.0,9,  2288.7,2,   7.7434,2,    25.00,-999.000,9,-999.0000,9, -999.00,9, -999.00,9,  -999.0,9,  -999.0,-999.000,9,-999.000,  -999.0,9,-999.000,-999.0000, -999.00,   8.9282,   8.9860,2,20091214,       1949
318M20091121,        P06,      85,          1,         24,         24,2,20091214,       1729,   -32.5001,  -174.3300,       5806,   565.8,   7.8574,  34.4824,  34.4813,2,    225.0,2,   224.4,2,    6.23,2,   20.97,2,    0.00,2,    1.46,2,   2.902,2,   1.523,2,-999.000,1,    0.502,2,  -999.0,9,  -999.0,9,-999.0000,9,  -999.00,-999.000,9,-999.0000,9, -999.00,9, -999.00,9,  -999.0,9,  -999.0,-999.000,9,-999.000,  -999.0,9,-999.000,-999.0000, -999.00,   7.7998,   7.8564,2,20091214,       1946
318M20091121,        P06,      85,          1,         23,         23,2,20091214,       1729,   -32.5001,  -174.3300,       5806,   667.3,   7.1126,  34.4103,  34.4096,2,    229.1,2,   230.1,2,    7.63,2,   22.63,2,    0.00,2,    1.56,2,   2.549,2,   1.278,2,-999.000,1,    0.358,2,  -999.0,9,  2281.7,2,   7.7281,2,    25.00,-999.000,9,-999.0000,9, -999.00,9, -999.00,9,  -999.0,9,  -999.0,-999.000,9,-999.000,  -999.0,9,-999.000,-999.0000, -999.00,   7.0480,   7.1132,2,20091214,       1943
318M20091121,        P06,      85,          1,         22,         22,2,20091214,       1729,   -32.5001,  -174.3300,       5806,   768.8,   6.5711,  34.3720,  34.3713,2,    228.1,2,   227.8,2,    9.87,2,   24.10,2,    0.00,2,    1.66,2,   1.974,2,   1.001,2,-999.000,1,    0.141,2,  -999.0,9,  -999.0,9,-999.0000,9,  -999.00,-999.000,9,-999.0000,9, -999.00,9, -999.00,9,  -999.0,9,  -999.0,-999.000,9,-999.000,  -999.0,9,-999.000,-999.0000, -999.00,   6.4993,   6.5723,2,20091214,       1940
318M20091121,        P06,      85,          1,         21,         21,2,20091214,       1729,   -32.5001,  -174.3300,       5806,   871.1,   6.0008,  34.3500,  34.3491,2,    219.7,2,   219.0,2,   14.36,2,   26.09,2,    0.00,2,    1.80,2,   1.334,2,   0.676,2,-999.000,1,    0.091,2,  -999.0,9,  2284.8,2,   7.6716,2,    25.00,-999.000,9,-999.0000,9, -999.00,9, -999.00,9,  -999.0,9,  -999.0,-999.000,9,-999.000,  -999.0,9,-999.000,-999.0000, -999.00,   5.9226,   6.0033,2,20091214,       1936
318M20091121,        P06,      85,          1,         20,         20,2,20091214,       1729,   -32.5001,  -174.3300,       5806,   972.9,   5.4538,  34.3449,  34.3440,2,    209.2,2,   208.8,2,   20.51,2,   28.10,2,    0.00,2,    1.95,2,   0.907,2,   0.460,2,-999.000,1,        0,2,  -999.0,9,  -999.0,9,-999.0000,9,  -999.00,-999.000,9,-999.0000,9, -999.00,9, -999.00,9,  -999.0,9,  -999.0,-999.000,9,-999.000,  -999.0,9,-999.000,-999.0000, -999.00,   5.3698,   5.4545,2,20091214,       1933
318M20091121,        P06,      85,          1,         19,         19,2,20091214,       1729,   -32.5001,  -174.3300,       5806,  1070.2,   4.7453,  34.3480,  34.3462,2,    199.6,2,   198.3,2,   29.37,2,   30.20,2,    0.00,2,    2.09,2,   0.501,2,   0.261,2,-999.000,1,        0,2,  -999.0,9,  2297.1,6,   7.6164,2,    25.00,-999.000,9,-999.0000,9, -999.00,9, -999.00,9,  -999.0,9,  -999.0,-999.000,9,-999.000,  -999.0,9,-999.000,-999.0000, -999.00,   4.6579,   4.7443,2,20091214,       1929
318M20091121,        P06,      85,          1,         18,         18,2,20091214,       1729,   -32.5001,  -174.3300,       5806,  1172.2,   4.2000,  34.3719,  34.3716,2,    189.1,2,   189.5,2,   39.11,2,   31.73,2,    0.00,2,    2.21,2,   0.292,2,   0.160,2,-999.000,1,        0,2,  -999.0,9,  -999.0,9,-999.0000,9,  -999.00,-999.000,9,-999.0000,9, -999.00,9, -999.00,9,  -999.0,9,  -999.0,-999.000,9,-999.000,  -999.0,9,-999.000,-999.0000, -999.00,   4.1083,   4.1982,2,20091214,       1926
318M20091121,        P06,      85,          1,         17,         17,2,20091214,       1729,   -32.5001,  -174.3300,       5806,  1274.4,   3.6882,  34.4078,  34.4056,2,    180.2,2,   181.2,2,   49.29,2,   32.85,2,    0.00,2,    2.29,2,   0.153,2,   0.088,2,-999.000,1,        0,2,  -999.0,9,  -999.0,9,-999.0000,9,  -999.00,-999.000,9,-999.0000,9, -999.00,9, -999.00,9,  -999.0,9,  -999.0,-999.000,9,-999.000,  -999.0,9,-999.000,-999.0000, -999.00,   3.5924,   3.6891,2,20091214,       1923
318M20091121,        P06,      85,          1,         16,         16,2,20091214,       1729,   -32.5001,  -174.3300,       5806,  1376.1,   3.3071,  34.4538,  34.4524,2,    172.8,2,   173.2,2,   60.56,2,   33.61,2,    0.00,2,    2.36,2,   0.074,2,   0.045,2,-999.000,1,        0,2,  -999.0,9,  2328.9,2,   7.5989,2,    25.00,-999.000,9,-999.0000,9, -999.00,9, -999.00,9,  -999.0,9,  -999.0,-999.000,9,-999.000,  -999.0,9,-999.000,-999.0000, -999.00,   3.2065,   3.3090,2,20091214,       1919
318M20091121,        P06,      85,          1,         15,         15,2,20091214,       1729,   -32.5001,  -174.3300,       5806,  1545.0,   2.8599,  34.5307,  34.5299,2,    163.1,2,   162.5,2,   78.63,2,   34.38,2,    0.00,2,    2.41,2,   0.022,2,   0.017,2,-999.000,1,        0,2,  -999.0,9,  2349.2,2,   7.5749,2,    25.00,-999.000,9,-999.0000,9, -999.00,9, -999.00,9,  -999.0,9,  -999.0,-999.000,9,-999.000,  -999.0,9,-999.000,-999.0000, -999.00,   2.7501,   2.8591,2,20091214,       1915
318M20091121,        P06,      85,          1,         14,         14,2,20091214,       1729,   -32.5001,  -174.3300,       5806,  1750.5,   2.5482,  34.5894,  34.5883,2,    155.9,2,   155.4,2,   96.37,2,   34.87,2,    0.00,2,    2.45,2,   0.010,2,   0.010,2,-999.000,1,        0,2,  -999.0,9,  -999.0,9,-999.0000,9,  -999.00,-999.000,9,-999.0000,9, -999.00,9, -999.00,9,  -999.0,9,  -999.0,-999.000,9,-999.000,  -999.0,9,-999.000,-999.0000, -999.00,   2.4250,   2.5472,2,20091214,       1909
318M20091121,        P06,      85,          1,         13,         13,2,20091214,       1729,   -32.5001,  -174.3300,       5806,  1954.5,   2.3620,  34.6161,  34.6155,2,    150.9,2,   150.4,2,  107.18,2,   35.21,2,    0.00,2,    2.48,2,   0.006,2,   0.006,2,-999.000,1,        0,2,  -999.0,9,  2383.8,2,   7.5564,2,    25.00,-999.000,9,-999.0000,9, -999.00,9, -999.00,9,  -999.0,9,  -999.0,-999.000,9,-999.000,  -999.0,9,-999.000,-999.0000, -999.00,   2.2240,   2.3618,2,20091214,       1904
318M20091121,        P06,      85,          1,         12,         12,2,20091214,       1729,   -32.5001,  -174.3300,       5806,  2190.4,   2.2076,  34.6333,  34.6322,2,    148.2,2,   148.3,2,  115.46,2,   35.39,2,    0.00,2,    2.51,2,   0.007,2,   0.007,2,-999.000,1,        0,2,  -999.0,9,  -999.0,9,-999.0000,9,  -999.00,-999.000,9,-999.0000,9, -999.00,9, -999.00,9,  -999.0,9,  -999.0,-999.000,9,-999.000,  -999.0,9,-999.000,-999.0000, -999.00,   2.0515,   2.2077,2,20091214,       1858
318M20091121,        P06,      85,          1,         11,         11,2,20091214,       1729,   -32.5001,  -174.3300,       5806,  2441.7,   2.0626,  34.6464,  34.6450,2,    147.4,2,   147.0,2,  121.62,2,   35.59,2,    0.00,2,    2.51,2,   0.002,2,   0.005,2,-999.000,1,        0,2,  -999.0,9,  -999.0,5,   7.5409,2,    25.00,-999.000,9,-999.0000,9, -999.00,9, -999.00,9,  -999.0,9,  -999.0,-999.000,9,-999.000,  -999.0,9,-999.000,-999.0000, -999.00,   1.8865,   2.0628,2,20091214,       1852
318M20091121,        P06,      85,          1,         10,         10,2,20091214,       1729,   -32.5001,  -174.3300,       5806,  2693.4,   1.9378,  34.6574,  34.6571,2,    148.1,2,   148.3,2,  126.30,2,   35.59,2,    0.00,2,    2.51,2,   0.014,2,   0.010,2,-999.000,1,        0,2,  -999.0,9,  2403.2,2,   7.5713,2,    25.00,-999.000,9,-999.0000,9, -999.00,9, -999.00,9,  -999.0,9,  -999.0,-999.000,9,-999.000,  -999.0,9,-999.000,-999.0000, -999.00,   1.7408,   1.9378,2,20091214,       1845
318M20091121,        P06,      85,          1,          9,          9,2,20091214,       1729,   -32.5001,  -174.3300,       5806,  2950.1,   1.8328,  34.6693,  34.6683,2,    152.5,2,   152.6,2,  127.56,2,   35.25,2,    0.00,2,    2.48,2,   0.006,2,   0.004,2,-999.000,1,        0,2,  -999.0,9,  -999.0,9,-999.0000,9,  -999.00,-999.000,9,-999.0000,9, -999.00,9, -999.00,9,  -999.0,9,  -999.0,-999.000,9,-999.000,  -999.0,9,-999.000,-999.0000, -999.00,   1.6135,   1.8330,2,20091214,       1839
318M20091121,        P06,      85,          1,          8,          8,2,20091214,       1729,   -32.5001,  -174.3300,       5806,  3239.4,   1.7086,  34.6905,  34.6900,2,    166.7,2,   167.1,2,  120.93,2,   33.94,2,    0.00,2,    2.39,2,   0.010,2,   0.006,2,-999.000,1,        0,2,  -999.0,9,  -999.0,9,-999.0000,9,  -999.00,-999.000,9,-999.0000,9, -999.00,9, -999.00,9,  -999.0,9,  -999.0,-999.000,9,-999.000,  -999.0,9,-999.000,-999.0000, -999.00,   1.4636,   1.7088,2,20091214,       1832
318M20091121,        P06,      85,          1,          7,          7,2,20091214,       1729,   -32.5001,  -174.3300,       5806,  3548.2,   1.5739,  34.7131,  34.7123,2,    186.3,2,   186.2,2,  110.91,2,   32.29,2,    0.00,2,    2.27,2,   0.032,2,   0.020,2,-999.000,1,        0,2,  -999.0,9,  2372.8,2,   7.5695,2,    25.00,-999.000,9,-999.0000,9, -999.00,9, -999.00,9,  -999.0,9,  -999.0,-999.000,9,-999.000,  -999.0,9,-999.000,-999.0000, -999.00,   1.3007,   1.5738,2,20091214,       1826
318M20091121,        P06,      85,          1,          6,          6,2,20091214,       1729,   -32.5001,  -174.3300,       5806,  3854.2,   1.3719,  34.7204,  34.7202,2,    198.2,2,   197.9,2,  110.47,2,   31.62,2,    0.00,2,    2.21,2,   0.039,2,   0.021,2,-999.000,1,        0,2,  -999.0,9,  -999.0,9,-999.0000,9,  -999.00,-999.000,9,-999.0000,9, -999.00,9, -999.00,9,  -999.0,9,  -999.0,-999.000,9,-999.000,  -999.0,9,-999.000,-999.0000, -999.00,   1.0719,   1.3719,2,20091214,       1819
318M20091121,        P06,      85,          1,          5,          5,2,20091214,       1729,   -32.5001,  -174.3300,       5806,  4267.4,   1.1562,  34.7152,  34.7147,2,    203.7,2,   203.9,2,  115.35,2,   31.72,2,    0.00,2,    2.22,2,   0.058,2,   0.031,2,-999.000,1,        0,2,  -999.0,9,  -999.0,9,-999.0000,9,  -999.00,-999.000,9,-999.0000,9, -999.00,9, -999.00,9,  -999.0,9,  -999.0,-999.000,9,-999.000,  -999.0,9,-999.000,-999.0000, -999.00,   0.8177,   1.1565,2,20091214,       1811
318M20091121,        P06,      85,          1,          4,          4,2,20091214,       1729,   -32.5001,  -174.3300,       5806,  4681.5,   1.0738,  34.7113,  34.7102,2,    206.1,2,   205.9,2,  119.39,2,   31.72,2,    0.00,2,    2.22,2,   0.078,2,   0.043,2,-999.000,1,        0,2,  -999.0,9,  2365.2,2,   7.5954,2,    25.00,-999.000,9,-999.0000,9, -999.00,9, -999.00,9,  -999.0,9,  -999.0,-999.000,9,-999.000,  -999.0,9,-999.000,-999.0000, -999.00,   0.6911,   1.0739,2,20091214,       1802
318M20091121,        P06,      85,          1,          3,          3,2,20091214,       1729,   -32.5001,  -174.3300,       5806,  5097.8,   1.0581,  34.7090,  34.7080,2,    207.3,2,   206.9,2,  121.50,2,   31.81,2,    0.00,2,    2.23,2,   0.086,2,   0.051,2,-999.000,1,        0,2,  -999.0,9,  -999.0,9,-999.0000,9,  -999.00,-999.000,9,-999.0000,9, -999.00,9, -999.00,9,  -999.0,9,  -999.0,-999.000,9,-999.000,  -999.0,9,-999.000,-999.0000, -999.00,   0.6269,   1.0583,2,20091214,       1753
318M20091121,        P06,      85,          1,          2,          2,2,20091214,       1729,   -32.5001,  -174.3300,       5806,  5559.5,   1.0968,  34.7080,  34.7075,2,    206.6,2,   206.7,2,  121.69,2,   31.90,2,    0.00,2,    2.23,2,   0.087,2,   0.049,2,-999.000,1,        0,2,  -999.0,9,  -999.0,9,-999.0000,9,  -999.00,-999.000,9,-999.0000,9, -999.00,9, -999.00,9,  -999.0,9,  -999.0,-999.000,9,-999.000,  -999.0,9,-999.000,-999.0000, -999.00,   0.6072,   1.0969,2,20091214,       1742
318M20091121,        P06,      85,          1,          1,          1,2,20091214,       1729,   -32.5001,  -174.3300,       5806,  5966.0,   1.1492,  34.7078,  34.7067,2,    206.9,2,   206.6,2,  122.11,2,   31.90,2,    0.00,2,    2.23,2,   0.100,2,   0.054,2,-999.000,1,        0,2,  -999.0,9,  2368.7,6,   7.6145,6,    25.00,-999.000,9,-999.0000,9, -999.00,9, -999.00,9,  -999.0,9,  -999.0,-999.000,9,-999.000,  -999.0,9,-999.000,-999.0000, -999.00,   0.6053,   1.1493,2,20091214,       1729