BOTTLE,20220818CCHSIOAMB
EXPOCODE,SECT_ID,STNNBR,CASTNO,SAMPNO,BTLNBR,BTLNBR_FLAG_W,DATE,TIME,LATITUDE,LONGITUDE,DEPTH,CTDPRS,CTDTMP,CTDSAL,SALNTY,SALNTY_FLAG_W,CTDOXY,CTDOXY_FLAG_W,OXYGEN,OXYGEN_FLAG_W,SILCAT,SILCAT_FLAG_W,NITRAT,NITRAT_FLAG_W,NITRIT,NITRIT_FLAG_W,PHSPHT,PHSPHT_FLAG_W,CFC-11,CFC-11_FLAG_W,CFC-12,CFC-12_FLAG_W,CFC113,CFC113_FLAG_W,SF6,SF6_FLAG_W,TCARBN,TCARBN_FLAG_W,ALKALI,ALKALI_FLAG_W,PH_SWS,PH_SWS_FLAG_W,PH_TMP,TRITUM,TRITUM_FLAG_W,HELIUM,HELIUM_FLAG_W,DELHE3,DELHE3_FLAG_W,DELC13,DELC13_FLAG_W,DELC14,DELC14_FLAG_W,C14ERR,NEON,NEON_FLAG_W,NEONER,DOC,DOC_FLAG_W,TRITER,HELIER,DELHER,THETA,SBE35,SBE35_FLAG_W,BTL_DATE,BTL_TIME
,,,,,,,,,,,METERS,DBAR,ITS-90,PSS-78,PSS-78,,UMOL/KG,,UMOL/KG,,UMOL/KG,,UMOL/KG,,UMOL/KG,,UMOL/KG,,PMOL/KG,,PMOL/KG,,PMOL/KG,,FMOL/KG,,UMOL/KG,,UMOL/KG,,,,DEG C,TU,,NMOL/KG,,PERCNT,,/MILLE,,/MILLE,,/MILLE,NMOL/KG,,NMOL/KG,UMOL/KG,,TU,NMOL/KG,PERCNT,DEG C,ITS-90,,,
318M20091121,        P06,     106,          1,         36,         36,2,20091222,       1811,   -32.4999,  -161.0501,       5671,     8.6,  19.4992,  35.2337,  35.2337,2,    231.1,2,   231.0,2,    0.43,2,    0.00,2,    0.00,2,    0.12,2,   2.236,2,   1.378,2,-999.000,1,    1.376,2,  2043.3,2,  2313.7,2,   7.9897,6,    25.00,-999.000,9,-999.0000,9, -999.00,9, -999.00,9,  -999.0,9,  -999.0,-999.000,9,-999.000,    59.2,2,-999.000,-999.0000, -999.00,  19.4976,  19.4992,2,20091222,       2042
318M20091121,        P06,     106,          1,         35,         35,2,20091222,       1811,   -32.4999,  -161.0501,       5671,    20.0,  19.4737,  35.2328,  35.2331,2,    231.4,2,   230.9,2,    0.40,2,    0.00,2,    0.00,2,    0.12,2,   2.252,2,   1.376,2,-999.000,1,    1.341,2,  2043.3,2,  2315.2,6,   7.9924,2,    25.00,-999.000,9,-999.0000,9, -999.00,9, -999.00,9,  -999.0,9,  -999.0,-999.000,9,-999.000,    59.9,2,-999.000,-999.0000, -999.00,  19.4701,  19.4730,2,20091222,       2039
318M20091121,        P06,     106,          1,         34,         34,2,20091222,       1811,   -32.4999,  -161.0501,       5671,    40.5,  18.2214,  35.3075,  35.3070,2,    242.3,2,   244.7,2,    0.36,2,    0.00,2,    0.00,2,    0.12,2,   2.425,2,   1.484,2,-999.000,1,    1.246,2,  2045.2,6,  2316.2,2,   7.9984,2,    25.00,-999.000,9,-999.0000,9, -999.00,9, -999.00,9,  -999.0,9,  -999.0,-999.000,9,-999.000,    58.9,2,-999.000,-999.0000, -999.00,  18.2144,  18.1793,3,20091222,       2037
318M20091121,        P06,     106,          1,         33,         33,2,20091222,       1811,   -32.4999,  -161.0501,       5671,    66.0,  16.3589,  35.4136,  35.4101,2,    251.4,2,   251.6,2,    0.33,2,    0.00,2,    0.00,2,    0.14,2,   2.549,2,   1.541,2,-999.000,1,    1.177,2,  2054.0,2,  2322.7,2,   7.9915,2,    25.00,-999.000,9,-999.0000,9, -999.00,9, -999.00,9,  -999.0,9,  -999.0,-999.000,9,-999.000,    59.2,2,-999.000,-999.0000, -999.00,  16.3483,  16.3460,2,20091222,       2035
318M20091121,        P06,     106,          1,         32,         32,2,20091222,       1811,   -32.4999,  -161.0501,       5671,    89.8,  15.4796,  35.3221,  35.3206,2,    236.9,2,   244.1,2,    0.30,2,    0.00,2,    0.03,2,    0.19,2,   2.614,2,   1.574,2,-999.000,1,    1.251,2,  2066.4,2,  2318.4,2,   7.9651,2,    25.00,-999.000,9,-999.0000,9, -999.00,9, -999.00,9,  -999.0,9,  -999.0,-999.000,9,-999.000,    57.5,2,-999.000,-999.0000, -999.00,  15.4657,  15.4779,2,20091222,       2033
318M20091121,        P06,     106,          1,         31,         31,2,20091222,       1811,   -32.4999,  -161.0501,       5671,   135.7,  14.6306,  35.2054,  35.2052,2,    234.5,2,   235.1,2,    0.47,2,    1.67,2,    0.17,2,    0.30,2,   2.704,6,   1.612,6,-999.000,1,   1.4645,4,  2077.1,2,  2315.2,2,   7.9323,2,    25.00,-999.000,9,-999.0000,9, -999.00,9, -999.00,9,  -999.0,9,  -999.0,-999.000,9,-999.000,    52.1,2,-999.000,-999.0000, -999.00,  14.6104,  14.6289,2,20091222,       2031
318M20091121,        P06,     106,          1,         30,         30,2,20091222,       1811,   -32.4999,  -161.0501,       5671,   183.7,  13.3415,  35.1351,  35.1334,2,    205.2,2,   204.7,2,    2.05,2,    8.55,2,    0.01,2,    0.70,2,   2.770,2,   1.605,2,-999.000,1,    1.175,2,  2112.6,2,  2310.3,2,   7.8536,2,    25.00,-999.000,9,-999.0000,9, -999.00,9, -999.00,9,  -999.0,9,  -999.0,-999.000,9,-999.000,    46.3,2,-999.000,-999.0000, -999.00,  13.3158,  13.3206,3,20091222,       2028
318M20091121,        P06,     106,          1,         29,         29,2,20091222,       1811,   -32.4999,  -161.0501,       5671,   239.3,  12.0171,  34.9862,  34.9698,3,    210.4,2,   210.3,2,    2.63,2,   11.30,2,    0.01,2,    0.87,2,   2.949,2,   1.678,2,-999.000,1,    1.096,2,  2123.0,2,  2302.7,2,   7.8186,2,    25.00,-999.000,9,-999.0000,9, -999.00,9, -999.00,9,  -999.0,9,  -999.0,-999.000,9,-999.000,    44.6,2,-999.000,-999.0000, -999.00,  11.9858,  12.0096,2,20091222,       2025
318M20091121,        P06,     106,          1,         28,         28,2,20091222,       1811,   -32.4999,  -161.0501,       5671,   285.8,  10.7734,  34.8167,  34.8183,2,    212.4,2,   210.7,2,    3.21,2,   13.63,2,    0.00,2,    1.03,2,   3.013,2,   1.685,2,-999.000,1,    0.977,2,  2123.1,2,  2297.9,2,   7.7934,2,    25.00,-999.000,9,-999.0000,9, -999.00,9, -999.00,9,  -999.0,9,  -999.0,-999.000,9,-999.000,    43.8,2,-999.000,-999.0000, -999.00,  10.7386,  10.7930,3,20091222,       2023
318M20091121,        P06,     106,          1,         27,         27,2,20091222,       1811,   -32.4999,  -161.0501,       5671,   336.3,   9.5621,  34.6483,  34.6496,2,    215.6,2,   215.2,2,    3.78,2,   16.12,2,    0.00,2,    1.18,2,   3.091,2,   1.653,2,-999.000,1,    0.857,2,  2131.6,2,  2291.1,2,   7.7661,2,    25.00,-999.000,9,-999.0000,9, -999.00,9, -999.00,9,  -999.0,9,  -999.0,-999.000,9,-999.000,    42.4,2,-999.000,-999.0000, -999.00,   9.5240,   9.5579,2,20091222,       2020
318M20091121,        P06,     106,          1,         26,         26,2,20091222,       1811,   -32.4999,  -161.0501,       5671,   386.7,   8.7537,  34.5543,  34.5561,2,    221.7,2,   222.0,2,    4.36,2,   17.71,2,    0.00,2,    1.28,2,   3.206,2,   1.711,2,-999.000,1,    0.773,2,  2134.7,2,  2288.4,2,   7.7552,2,    25.00,-999.000,9,-999.0000,9, -999.00,9, -999.00,9,  -999.0,9,  -999.0,-999.000,9,-999.000,    42.8,2,-999.000,-999.0000, -999.00,   8.7122,   8.7494,2,20091222,       2018
318M20091121,        P06,     106,          1,         25,         25,2,20091222,       1811,   -32.4999,  -161.0501,       5671,   466.9,   7.8121,  34.4576,  34.4574,2,    232.2,2,   232.6,2,    5.13,2,   19.69,2,    0.00,2,    1.40,2,   3.347,2,   1.739,2,-999.000,1,    0.555,2,  2138.2,2,  2286.8,2,   7.7418,2,    25.00,-999.000,9,-999.0000,9, -999.00,9, -999.00,9,  -999.0,9,  -999.0,-999.000,9,-999.000,    43.1,2,-999.000,-999.0000, -999.00,   7.7651,   7.8183,2,20091222,       2015
318M20091121,        P06,     106,          1,         24,         24,2,20091222,       1811,   -32.4999,  -161.0501,       5671,   569.1,   7.1477,  34.3983,  34.3976,2,    238.1,2,   237.2,2,    6.32,2,   21.34,2,    0.00,2,    1.51,2,   3.090,2,   1.588,2,-999.000,1,    0.412,2,  2140.6,2,  2284.7,2,   7.7348,2,    25.00,-999.000,9,-999.0000,9, -999.00,9, -999.00,9,  -999.0,9,  -999.0,-999.000,9,-999.000,  -999.0,9,-999.000,-999.0000, -999.00,   7.0929,   7.1486,2,20091222,       2012
318M20091121,        P06,     106,          1,         23,         23,2,20091222,       1811,   -32.4999,  -161.0501,       5671,   666.1,   6.7398,  34.3705,  34.3701,2,    237.3,2,   238.3,2,    7.70,2,   22.51,2,    0.00,2,    1.57,2,   2.787,2,   1.390,2,-999.000,1,    0.384,2,  2143.7,2,  2285.6,2,   7.7300,2,    25.00,-999.000,9,-999.0000,9, -999.00,9, -999.00,9,  -999.0,9,  -999.0,-999.000,9,-999.000,    42.3,2,-999.000,-999.0000, -999.00,   6.6772,   6.7419,2,20091222,       2009
318M20091121,        P06,     106,          1,         22,         22,2,20091222,       1811,   -32.4999,  -161.0501,       5671,   767.5,   6.2314,  34.3430,  34.3426,2,    230.2,2,   230.4,2,   10.71,2,   24.41,2,    0.00,2,    1.70,2,   2.062,2,   1.016,2,-999.000,1,    0.172,2,  2151.4,2,  2285.7,6,   7.7138,2,    25.00,-999.000,9,-999.0000,9, -999.00,9, -999.00,9,  -999.0,9,  -999.0,-999.000,9,-999.000,  -999.0,9,-999.000,-999.0000, -999.00,   6.1618,   6.2367,2,20091222,       2005
318M20091121,        P06,     106,          1,         21,         21,2,20091222,       1811,   -32.4999,  -161.0501,       5671,   870.5,   5.6526,  34.3275,  34.3275,2,    218.0,2,   218.9,2,   15.95,2,   26.58,2,    0.00,2,    1.85,2,   1.364,2,   0.654,2,-999.000,1,    0.081,2,  2164.2,2,  2289.0,2,   7.6862,2,    25.00,-999.000,9,-999.0000,9, -999.00,9, -999.00,9,  -999.0,9,  -999.0,-999.000,9,-999.000,    37.4,2,-999.000,-999.0000, -999.00,   5.5768,   5.6531,2,20091222,       2002
318M20091121,        P06,     106,          1,         20,         20,2,20091222,       1811,   -32.4999,  -161.0501,       5671,   971.4,   4.9670,  34.3300,  34.3300,2,    205.4,2,   205.6,2,   24.24,2,   29.05,2,    0.00,2,    2.01,2,   0.800,2,   0.372,2,-999.000,1,        0,2,  2183.0,2,  2296.4,2,   7.6570,2,    25.00,-999.000,9,-999.0000,9, -999.00,9, -999.00,9,  -999.0,9,  -999.0,-999.000,9,-999.000,  -999.0,9,-999.000,-999.0000, -999.00,   4.8868,   4.9702,2,20091222,       1958
318M20091121,        P06,     106,          1,         19,         19,2,20091222,       1811,   -32.4999,  -161.0501,       5671,  1073.8,   4.3264,  34.3450,  34.3455,2,    197.4,2,   195.5,2,   33.35,2,   30.94,2,    0.00,2,    2.14,2,   0.456,2,   0.219,2,-999.000,1,        0,2,  2198.3,6,  2304.7,2,   7.6316,2,    25.00,-999.000,9,-999.0000,9, -999.00,9, -999.00,9,  -999.0,9,  -999.0,-999.000,9,-999.000,    37.4,2,-999.000,-999.0000, -999.00,   4.2421,   4.3229,2,20091222,       1955
318M20091121,        P06,     106,          1,         18,         18,2,20091222,       1811,   -32.4999,  -161.0501,       5671,  1175.2,   3.7761,  34.3743,  34.3740,2,    188.8,2,   188.5,2,   42.89,2,   32.33,2,    0.00,2,    2.24,2,   0.301,2,   0.147,2,-999.000,1,        0,2,  2215.4,2,  2314.1,2,   7.6092,2,    25.00,-999.000,9,-999.0000,9, -999.00,9, -999.00,9,  -999.0,9,  -999.0,-999.000,9,-999.000,  -999.0,9,-999.000,-999.0000, -999.00,   3.6879,   3.7800,2,20091222,       1950
318M20091121,        P06,     106,          1,         17,         17,2,20091222,       1811,   -32.4999,  -161.0501,       5671,  1277.3,   3.3659,  34.4187,  34.4190,2,    179.6,2,   179.4,2,   53.05,2,   33.23,2,    0.00,2,    2.32,2,   0.155,2,   0.080,2,-999.000,1,        0,2,  2231.6,2,  2320.6,2,   7.5898,2,    25.00,-999.000,9,-999.0000,9, -999.00,9, -999.00,9,  -999.0,9,  -999.0,-999.000,9,-999.000,    37.5,2,-999.000,-999.0000, -999.00,   3.2730,   3.3678,2,20091222,       1946
318M20091121,        P06,     106,          1,         16,         16,2,20091222,       1811,   -32.4999,  -161.0501,       5671,  1375.6,   3.0593,  34.4670,  34.4668,2,    172.2,2,   172.6,2,   62.62,2,   33.78,2,    0.00,2,    2.36,2,   0.080,2,   0.042,2,-999.000,1,        0,2,  2243.1,2,  2331.1,2,   7.5864,2,    25.00,-999.000,9,-999.0000,9, -999.00,9, -999.00,9,  -999.0,9,  -999.0,-999.000,9,-999.000,  -999.0,9,-999.000,-999.0000, -999.00,   2.9613,   3.0607,2,20091222,       1943
318M20091121,        P06,     106,          1,         15,         15,2,20091222,       1811,   -32.4999,  -161.0501,       5671,  1548.7,   2.7190,  34.5492,  34.5504,2,    161.7,2,   161.2,2,   81.24,2,   34.38,2,    0.00,2,    2.40,2,   0.019,2,   0.011,2,-999.000,1,        0,2,  2265.7,2,  2353.6,2,   7.5774,2,    25.00,-999.000,9,-999.0000,9, -999.00,9, -999.00,9,  -999.0,9,  -999.0,-999.000,9,-999.000,    37.5,2,-999.000,-999.0000, -999.00,   2.6105,   2.7196,2,20091222,       1938
318M20091121,        P06,     106,          1,         14,         14,2,20091222,       1811,   -32.4999,  -161.0501,       5671,  1753.9,   2.4394,  34.6018,  34.6017,2,    155.0,2,   155.2,2,   97.04,2,   34.78,2,    0.00,2,    2.43,2,   0.014,2,   0.010,2,-999.000,1,        0,2,  2285.3,2,  2371.8,2,   7.5776,2,    25.00,-999.000,9,-999.0000,9, -999.00,9, -999.00,9,  -999.0,9,  -999.0,-999.000,9,-999.000,  -999.0,9,-999.000,-999.0000, -999.00,   2.3173,   2.4411,2,20091222,       1933
318M20091121,        P06,     106,          1,         13,         13,2,20091222,       1811,   -32.4999,  -161.0501,       5671,  1952.2,   2.2504,  34.6265,  34.6259,2,    151.1,2,   150.8,2,  107.73,2,   35.08,2,    0.00,2,    2.46,2,   0.025,2,   0.015,2,-999.000,1,        0,2,  2297.9,2,  2386.5,2,   7.5774,2,    25.00,-999.000,9,-999.0000,9, -999.00,9, -999.00,9,  -999.0,9,  -999.0,-999.000,9,-999.000,    36.0,2,-999.000,-999.0000, -999.00,   2.1142,   2.2504,2,20091222,       1929
318M20091121,        P06,     106,          1,         12,         12,2,20091222,       1811,   -32.4999,  -161.0501,       5671,  2187.9,   2.1015,  34.6412,  34.6415,2,    148.6,2,   148.2,2,  115.75,2,   35.37,2,    0.00,2,    2.49,2,   0.025,2,   0.014,2,-999.000,1,        0,2,  2306.1,2,  2396.8,2,   7.5757,2,    25.00,-999.000,9,-999.0000,9, -999.00,9, -999.00,9,  -999.0,9,  -999.0,-999.000,9,-999.000,  -999.0,9,-999.000,-999.0000, -999.00,   1.9473,   2.1021,2,20091222,       1923
318M20091121,        P06,     106,          1,         11,         11,2,20091222,       1811,   -32.4999,  -161.0501,       5671,  2445.9,   1.9707,  34.6523,  34.6527,2,    147.6,2,   147.9,2,  122.13,2,   35.51,2,    0.00,2,    2.50,2,   0.029,2,   0.018,2,-999.000,1,        0,2,  2313.0,2,  2404.3,2,   7.5764,2,    25.00,-999.000,9,-999.0000,9, -999.00,9, -999.00,9,  -999.0,9,  -999.0,-999.000,9,-999.000,    36.8,2,-999.000,-999.0000, -999.00,   1.7958,   1.9705,2,20091222,       1917
318M20091121,        P06,     106,          1,         10,         10,2,20091222,       1811,   -32.4999,  -161.0501,       5671,  2681.7,   1.8777,  34.6605,  34.6600,2,    148.4,2,   148.6,2,  126.03,2,   35.61,2,    0.00,2,    2.50,2,   0.019,2,   0.012,2,-999.000,1,        0,2,  2314.6,2,  2408.4,2,   7.5778,2,    25.00,-999.000,9,-999.0000,9, -999.00,9, -999.00,9,  -999.0,9,  -999.0,-999.000,9,-999.000,  -999.0,9,-999.000,-999.0000, -999.00,   1.6830,   1.8771,2,20091222,       1911
318M20091121,        P06,     106,          1,          9,          9,2,20091222,       1811,   -32.4999,  -161.0501,       5671,  2948.8,   1.7940,  34.6685,  34.6686,2,    151.0,2,   151.3,2,  127.66,2,   35.35,2,    0.00,2,    2.48,2,   0.024,2,   0.016,2,-999.000,1,        0,2,  2315.7,2,  2409.4,2,   7.5793,2,    25.00,-999.000,9,-999.0000,9, -999.00,9, -999.00,9,  -999.0,9,  -999.0,-999.000,9,-999.000,    35.9,2,-999.000,-999.0000, -999.00,   1.5757,   1.7937,2,20091222,       1904
318M20091121,        P06,     106,          1,          8,          8,2,20091222,       1811,   -32.4999,  -161.0501,       5671,  3243.9,   1.6986,  34.6801,  34.6808,2,    158.4,2,   158.6,2,  126.38,2,   34.68,2,    0.00,2,    2.43,2,   0.031,2,   0.019,2,-999.000,1,        0,2,  2307.8,2,  2406.7,2,   7.5872,2,    25.00,-999.000,9,-999.0000,9, -999.00,9, -999.00,9,  -999.0,9,  -999.0,-999.000,9,-999.000,  -999.0,9,-999.000,-999.0000, -999.00,   1.4534,   1.6982,2,20091222,       1857
318M20091121,        P06,     106,          1,          7,          7,2,20091222,       1811,   -32.4999,  -161.0501,       5671,  3546.0,   1.5910,  34.6990,  34.6989,2,    174.2,2,   174.9,2,  117.84,2,   33.27,2,    0.00,2,    2.33,2,   0.021,2,   0.012,2,-999.000,1,        0,2,  2289.4,2,  2392.2,2,   7.5991,2,    25.00,-999.000,9,-999.0000,9, -999.00,9, -999.00,9,  -999.0,9,  -999.0,-999.000,9,-999.000,    35.1,2,-999.000,-999.0000, -999.00,   1.3177,   1.5911,2,20091222,       1851
318M20091121,        P06,     106,          1,          6,          6,2,20091222,       1811,   -32.4999,  -161.0501,       5671,  3855.3,   1.4396,  34.7135,  34.7133,2,    191.3,2,   191.4,2,  111.18,2,   31.96,2,    0.00,2,    2.23,2,   0.021,2,   0.014,2,-999.000,1,        0,2,  2269.7,2,  2378.8,2,   7.6107,2,    25.00,-999.000,9,-999.0000,9, -999.00,9, -999.00,9,  -999.0,9,  -999.0,-999.000,9,-999.000,  -999.0,9,-999.000,-999.0000, -999.00,   1.1377,   1.4399,2,20091222,       1843
318M20091121,        P06,     106,          1,          5,          5,2,20091222,       1811,   -32.4999,  -161.0501,       5671,  4203.9,   1.2306,  34.7151,  34.7143,2,    200.9,2,   200.8,2,  113.01,2,   31.59,2,    0.00,2,    2.20,2,   0.033,2,   0.020,2,-999.000,1,        0,2,  2258.1,3,  2367.0,2,   7.6159,2,    25.00,-999.000,9,-999.0000,9, -999.00,9, -999.00,9,  -999.0,9,  -999.0,-999.000,9,-999.000,    35.7,2,-999.000,-999.0000, -999.00,   0.8969,   1.2303,2,20091222,       1835
318M20091121,        P06,     106,          1,          4,          4,2,20091222,       1811,   -32.4999,  -161.0501,       5671,  4368.6,   1.1427,  34.7131,  34.7127,2,    203.4,2,   203.4,2,  115.04,2,   31.59,2,    0.00,2,    2.20,2,   0.052,2,   0.030,2,-999.000,1,        0,2,  2271.6,3,  2366.9,2,   7.6168,2,    25.00,-999.000,9,-999.0000,9, -999.00,9, -999.00,9,  -999.0,9,  -999.0,-999.000,9,-999.000,  -999.0,9,-999.000,-999.0000, -999.00,   0.7934,   1.1409,2,20091222,       1831
318M20091121,        P06,     106,          1,          3,          3,2,20091222,       1811,   -32.4999,  -161.0501,       5671,  4731.9,   1.0502,  34.7096,  34.7092,2,    205.8,2,   205.9,2,  118.32,2,   31.68,2,    0.00,2,    2.21,2,   0.072,2,   0.042,2,-999.000,1,        0,2,  2264.6,2,  2366.4,2,   7.6171,2,    25.00,-999.000,9,-999.0000,9, -999.00,9, -999.00,9,  -999.0,9,  -999.0,-999.000,9,-999.000,    39.3,2,-999.000,-999.0000, -999.00,   0.6625,   1.0506,2,20091222,       1823
318M20091121,        P06,     106,          1,          2,          2,2,20091222,       1811,   -32.4999,  -161.0501,       5671,  4986.3,   1.0565,  34.7086,  34.7080,2,    206.1,2,   206.6,2,  119.32,2,   31.73,2,    0.00,2,    2.21,2,   0.077,2,   0.044,2,-999.000,1,        0,2,  2264.5,2,  2367.2,6,   7.6165,2,    25.00,-999.000,9,-999.0000,9, -999.00,9, -999.00,9,  -999.0,9,  -999.0,-999.000,9,-999.000,  -999.0,9,-999.000,-999.0000, -999.00,   0.6387,   1.0566,2,20091222,       1817
318M20091121,        P06,     106,          1,          1,          1,2,20091222,       1811,   -32.4999,  -161.0501,       5671,  5250.2,   1.0849,  34.7081,  34.7082,2,    206.3,2,   206.0,2,  119.28,2,   31.77,2,    0.00,2,    2.21,2,   0.090,2,   0.051,2,-999.000,1,        0,2,  2264.6,6,  2378.8,3,   7.6153,6,    25.00,-999.000,9,-999.0000,9, -999.00,9, -999.00,9,  -999.0,9,  -999.0,-999.000,9,-999.000,    39.9,2,-999.000,-999.0000, -999.00,   0.6342,   1.0845,2,20091222,       1811