BOTTLE,20220818CCHSIOAMB
EXPOCODE,SECT_ID,STNNBR,CASTNO,SAMPNO,BTLNBR,BTLNBR_FLAG_W,DATE,TIME,LATITUDE,LONGITUDE,DEPTH,CTDPRS,CTDTMP,CTDSAL,SALNTY,SALNTY_FLAG_W,CTDOXY,CTDOXY_FLAG_W,OXYGEN,OXYGEN_FLAG_W,SILCAT,SILCAT_FLAG_W,NITRAT,NITRAT_FLAG_W,NITRIT,NITRIT_FLAG_W,PHSPHT,PHSPHT_FLAG_W,CFC-11,CFC-11_FLAG_W,CFC-12,CFC-12_FLAG_W,CFC113,CFC113_FLAG_W,SF6,SF6_FLAG_W,TCARBN,TCARBN_FLAG_W,ALKALI,ALKALI_FLAG_W,PH_SWS,PH_SWS_FLAG_W,PH_TMP,TRITUM,TRITUM_FLAG_W,HELIUM,HELIUM_FLAG_W,DELHE3,DELHE3_FLAG_W,DELC13,DELC13_FLAG_W,DELC14,DELC14_FLAG_W,C14ERR,NEON,NEON_FLAG_W,NEONER,DOC,DOC_FLAG_W,TRITER,HELIER,DELHER,THETA,SBE35,SBE35_FLAG_W,BTL_DATE,BTL_TIME
,,,,,,,,,,,METERS,DBAR,ITS-90,PSS-78,PSS-78,,UMOL/KG,,UMOL/KG,,UMOL/KG,,UMOL/KG,,UMOL/KG,,UMOL/KG,,PMOL/KG,,PMOL/KG,,PMOL/KG,,FMOL/KG,,UMOL/KG,,UMOL/KG,,,,DEG C,TU,,NMOL/KG,,PERCNT,,/MILLE,,/MILLE,,/MILLE,NMOL/KG,,NMOL/KG,UMOL/KG,,TU,NMOL/KG,PERCNT,DEG C,ITS-90,,,
318M20091121,        P06,       6,          1,         36,         36,2,20091123,       1725,   -30.0800,   153.9201,       2590,     4.6,  22.7811,  35.4947,  35.4943,2,    225.5,2,   225.6,2,    0.44,2,    0.11,2,    0.00,2,    0.12,2,   1.911,2,   1.183,2,   0.072,2,    1.268,2,  2005.6,6,  2326.5,2,   8.0791,2,    25.00,-999.000,9,-999.0000,9, -999.00,9, -999.00,9,  -999.0,9,  -999.0,-999.000,9,-999.000,    64.7,2,-999.000,-999.0000, -999.00,  22.7802,  22.7820,2,20091123,       1930
318M20091121,        P06,       6,          1,         35,         35,2,20091123,       1725,   -30.0800,   153.9201,       2590,    33.6,  21.2570,  35.5085,  35.5082,2,    223.9,2,   209.6,2,    0.63,2,    1.00,2,    0.02,2,    0.20,2,   1.985,2,   1.212,2,   0.067,2,    1.164,2,  -999.0,9,  -999.0,9,-999.0000,9,  -999.00,-999.000,9,-999.0000,9, -999.00,9, -999.00,9,  -999.0,9,  -999.0,-999.000,9,-999.000,    58.6,2,-999.000,-999.0000, -999.00,  21.2505,  21.1532,3,20091123,       1925
318M20091121,        P06,       6,          1,         34,         34,2,20091123,       1725,   -30.0800,   153.9201,       2590,    59.2,  19.0442,  35.5870,  35.5831,2,    205.9,2,   207.6,2,    1.01,2,    2.53,2,    0.06,2,    0.28,2,   2.151,2,   1.330,2,   0.061,2,    1.392,2,  2050.9,2,  2327.5,6,   7.9871,2,    25.00,-999.000,9,-999.0000,9, -999.00,9, -999.00,9,  -999.0,9,  -999.0,-999.000,9,-999.000,    57.1,2,-999.000,-999.0000, -999.00,  19.0336,  19.0353,2,20091123,       1922
318M20091121,        P06,       6,          1,         33,         33,2,20091123,       1725,   -30.0800,   153.9201,       2590,    82.8,  18.3040,  35.5824,  35.5811,2,    233.1,2,   231.5,2,    0.38,2,    0.56,2,    0.02,2,    0.17,2,-999.000,9,-999.000,9,-999.000,9,-999.0000,9,  -999.0,9,  -999.0,9,-999.0000,9,  -999.00,-999.000,9,-999.0000,9, -999.00,9, -999.00,9,  -999.0,9,  -999.0,-999.000,9,-999.000,    58.2,2,-999.000,-999.0000, -999.00,  18.2896,  18.2944,2,20091123,       1919
318M20091121,        P06,       6,          1,         32,         32,2,20091123,       1725,   -30.0800,   153.9201,       2590,   108.0,  17.7242,  35.5653,  35.5638,2,    224.3,2,   205.0,3,    1.17,2,    4.05,2,    0.01,2,    0.37,2,   2.263,2,   1.353,2,   0.056,2,    1.392,2,  2067.6,2,  2330.5,2,   7.9742,2,    25.00,-999.000,9,-999.0000,9, -999.00,9, -999.00,9,  -999.0,9,  -999.0,-999.000,9,-999.000,    56.9,2,-999.000,-999.0000, -999.00,  17.7058,  17.7267,2,20091123,       1916
318M20091121,        P06,       6,          1,         31,         31,2,20091123,       1725,   -30.0800,   153.9201,       2590,   133.6,  17.2525,  35.5483,  35.5478,2,    196.6,2,   207.0,3,    1.56,2,    4.54,2,    0.01,2,    0.41,2,   2.309,2,   1.384,2,   0.064,2,    1.284,2,  -999.0,9,  -999.0,9,-999.0000,9,  -999.00,-999.000,9,-999.0000,9, -999.00,9, -999.00,9,  -999.0,9,  -999.0,-999.000,9,-999.000,    54.3,2,-999.000,-999.0000, -999.00,  17.2302,  17.2462,2,20091123,       1913
318M20091121,        P06,       6,          1,         30,         30,2,20091123,       1725,   -30.0800,   153.9201,       2590,   158.5,  16.8720,  35.5488,  35.5450,2,    200.6,2,   214.3,3,    1.34,2,    4.37,2,    0.01,2,    0.40,2,-999.000,5,-999.000,5,-999.000,5,-999.0000,5,  -999.0,9,  -999.0,9,-999.0000,9,  -999.00,-999.000,9,-999.0000,9, -999.00,9, -999.00,9,  -999.0,9,  -999.0,-999.000,9,-999.000,    55.1,2,-999.000,-999.0000, -999.00,  16.8459,  16.8661,2,20091123,       1910
318M20091121,        P06,       6,          1,         29,         29,2,20091123,       1725,   -30.0800,   153.9201,       2590,   184.3,  16.4683,  35.5110,  35.5028,2,    205.8,2,   204.3,2,    2.14,2,    5.93,2,    0.01,2,    0.51,2,-999.000,9,-999.000,9,-999.000,9,-999.0000,9,  -999.0,9,  -999.0,9,-999.0000,9,  -999.00,-999.000,9,-999.0000,9, -999.00,9, -999.00,9,  -999.0,9,  -999.0,-999.000,9,-999.000,    50.7,2,-999.000,-999.0000, -999.00,  16.4384,  16.4868,2,20091123,       1908
318M20091121,        P06,       6,          1,         28,         28,2,20091123,       1725,   -30.0800,   153.9201,       2590,   209.8,  15.7206,  35.4415,  35.4412,2,    196.8,2,   195.9,2,    2.12,2,    7.54,2,    0.00,2,    0.62,2,   2.370,2,   1.379,2,   0.044,2,    1.253,2,  2094.6,2,  2320.6,2,   7.9134,2,    25.00,-999.000,9,-999.0000,9, -999.00,9, -999.00,9,  -999.0,9,  -999.0,-999.000,9,-999.000,    49.7,2,-999.000,-999.0000, -999.00,  15.6877,  15.7212,2,20091123,       1906
318M20091121,        P06,       6,          1,         27,         27,2,20091123,       1725,   -30.0800,   153.9201,       2590,   235.0,  15.1790,  35.4053,  35.4050,2,    198.3,2,   199.2,2,    2.31,2,    7.98,2,    0.00,2,    0.65,2,-999.000,9,-999.000,9,-999.000,9,-999.0000,9,  -999.0,9,  -999.0,9,-999.0000,9,  -999.00,-999.000,9,-999.0000,9, -999.00,9, -999.00,9,  -999.0,9,  -999.0,-999.000,9,-999.000,    50.2,2,-999.000,-999.0000, -999.00,  15.1430,  15.1767,2,20091123,       1902
318M20091121,        P06,       6,          1,         26,         26,2,20091123,       1725,   -30.0800,   153.9201,       2590,   265.1,  14.3776,  35.3385,  35.3399,2,    199.8,2,   199.6,2,    2.70,2,    9.26,2,    0.00,2,    0.73,2,-999.000,9,-999.000,9,-999.000,9,-999.0000,9,  -999.0,9,  -999.0,9,-999.0000,9,  -999.00,-999.000,9,-999.0000,9, -999.00,9, -999.00,9,  -999.0,9,  -999.0,-999.000,9,-999.000,    48.2,2,-999.000,-999.0000, -999.00,  14.3384,  14.3800,2,20091123,       1900
318M20091121,        P06,       6,          1,         25,         25,2,20091123,       1725,   -30.0800,   153.9201,       2590,   315.4,  13.0519,  35.1822,  35.1811,2,    195.3,2,   196.0,2,    3.91,2,   12.10,2,    0.00,2,    0.93,2,   2.461,2,   1.374,2,   0.041,2,    0.915,2,  2120.7,2,  2309.0,2,   7.8386,2,    25.00,-999.000,9,-999.0000,9, -999.00,9, -999.00,9,  -999.0,9,  -999.0,-999.000,9,-999.000,    49.0,2,-999.000,-999.0000, -999.00,  13.0081,  13.0549,2,20091123,       1857
318M20091121,        P06,       6,          1,         24,         24,2,20091123,       1725,   -30.0800,   153.9201,       2590,   397.6,  11.5505,  35.0088,  35.0135,2,    200.5,2,   200.0,2,    5.12,2,   14.70,2,    0.00,2,    1.08,2,-999.000,9,-999.000,9,-999.000,9,-999.0000,9,  -999.0,9,  -999.0,9,-999.0000,9,  -999.00,-999.000,9,-999.0000,9, -999.00,9, -999.00,9,  -999.0,9,  -999.0,-999.000,9,-999.000,    48.0,2,-999.000,-999.0000, -999.00,  11.4995,  11.5493,2,20091123,       1853
318M20091121,        P06,       6,          1,         23,         23,2,20091123,       1725,   -30.0800,   153.9201,       2590,   467.6,  10.1819,  34.8213,  34.8226,2,    198.0,2,   199.1,2,    6.75,2,   17.74,2,    0.00,2,    1.28,2,   2.345,2,   1.332,2,   0.040,2,    0.414,2,  2140.6,2,  2294.0,2,   7.7697,2,    25.00,-999.000,9,-999.0000,9, -999.00,9, -999.00,9,  -999.0,9,  -999.0,-999.000,9,-999.000,    51.7,2,-999.000,-999.0000, -999.00,  10.1264,  10.1844,2,20091123,       1850
318M20091121,        P06,       6,          1,         22,         22,2,20091123,       1725,   -30.0800,   153.9201,       2590,   529.6,   9.1205,  34.6838,  34.6841,2,    198.8,2,   200.0,2,    8.58,2,   20.20,2,    0.00,2,    1.45,2,-999.000,9,-999.000,9,-999.000,9,-999.0000,9,  -999.0,9,  -999.0,9,-999.0000,9,  -999.00,-999.000,9,-999.0000,9, -999.00,9, -999.00,9,  -999.0,9,  -999.0,-999.000,9,-999.000,  -999.0,9,-999.000,-999.0000, -999.00,   9.0616,   9.1233,2,20091123,       1846
318M20091121,        P06,       6,          1,         21,         21,2,20091123,       1725,   -30.0800,   153.9201,       2590,   554.5,   8.8360,  34.6508,  34.6528,2,    199.2,2,   200.0,2,    9.38,2,   20.92,2,    0.00,2,    1.51,2,   2.077,2,   1.103,2,   0.027,2,    0.668,2,  2149.1,2,  2289.7,2,   7.7370,2,    25.00,-999.000,9,-999.0000,9, -999.00,9, -999.00,9,  -999.0,9,  -999.0,-999.000,9,-999.000,    43.1,2,-999.000,-999.0000, -999.00,   8.7755,   8.8332,2,20091123,       1844
318M20091121,        P06,       6,          1,         20,         20,2,20091123,       1725,   -30.0800,   153.9201,       2590,   584.7,   8.4047,  34.6043,  34.6030,2,    197.9,2,   199.1,2,   10.81,2,   22.07,2,    0.00,2,    1.56,2,-999.000,9,-999.000,9,-999.000,9,-999.0000,9,  -999.0,9,  -999.0,9,-999.0000,9,  -999.00,-999.000,9,-999.0000,9, -999.00,9, -999.00,9,  -999.0,9,  -999.0,-999.000,9,-999.000,  -999.0,9,-999.000,-999.0000, -999.00,   8.3426,   8.4112,2,20091123,       1840
318M20091121,        P06,       6,          1,         19,         19,2,20091123,       1725,   -30.0800,   153.9201,       2590,   645.4,   7.6135,  34.5340,  34.5332,2,    196.6,2,   196.8,2,   14.30,2,   23.89,2,    0.00,2,    1.69,2,   1.502,2,   0.768,2,   0.026,2,    0.527,2,  2159.1,2,  2288.6,2,   7.7122,6,    25.00,-999.000,9,-999.0000,9, -999.00,9, -999.00,9,  -999.0,9,  -999.0,-999.000,9,-999.000,    42.1,2,-999.000,-999.0000, -999.00,   7.5486,   7.6075,2,20091123,       1837
318M20091121,        P06,       6,          1,         18,         18,2,20091123,       1725,   -30.0800,   153.9201,       2590,   742.6,   6.6064,  34.4701,  34.4693,2,    195.1,2,   194.0,2,   21.10,2,   26.31,2,    0.00,2,    1.86,2,   1.020,6,   0.520,6,   0.026,2,        0,6,  2172.1,2,  2297.1,2,   7.6866,2,    25.00,-999.000,9,-999.0000,9, -999.00,9, -999.00,9,  -999.0,9,  -999.0,-999.000,9,-999.000,  -999.0,9,-999.000,-999.0000, -999.00,   6.5369,   6.6057,2,20091123,       1833
318M20091121,        P06,       6,          1,         17,         17,2,20091123,       1725,   -30.0800,   153.9201,       2590,   839.1,   5.9064,  34.4391,  34.4383,2,    193.0,2,   191.8,2,   27.72,2,   27.85,2,    0.00,2,    1.98,2,-999.000,9,-999.000,9,-999.000,9,-999.0000,9,  2183.0,2,  2182.0,4,   7.6696,2,    25.00,-999.000,9,-999.0000,9, -999.00,9, -999.00,9,  -999.0,9,  -999.0,-999.000,9,-999.000,    38.5,2,-999.000,-999.0000, -999.00,   5.8318,   5.9069,2,20091123,       1830
318M20091121,        P06,       6,          1,         16,         16,2,20091123,       1725,   -30.0800,   153.9201,       2590,   941.2,   5.1455,  34.4487,  34.4475,2,    184.4,2,   182.2,2,   39.35,2,   29.76,2,    0.00,2,    2.12,2,   0.409,2,   0.225,2,   0.008,2,    0.096,2,  2201.8,2,  2310.0,6,   7.6439,2,    25.00,-999.000,9,-999.0000,9, -999.00,9, -999.00,9,  -999.0,9,  -999.0,-999.000,9,-999.000,  -999.0,9,-999.000,-999.0000, -999.00,   5.0665,   5.1461,2,20091123,       1826
318M20091121,        P06,       6,          1,         15,         15,2,20091123,       1725,   -30.0800,   153.9201,       2590,  1041.7,   4.5973,  34.4698,  34.4700,2,    176.3,2,   174.9,2,   50.84,2,   31.15,2,    0.00,2,    2.22,2,   0.246,2,   0.143,2,   0.005,2,        0,2,  2219.9,6,  2322.4,2,   7.6293,2,    25.00,-999.000,9,-999.0000,9, -999.00,9, -999.00,9,  -999.0,9,  -999.0,-999.000,9,-999.000,    38.1,2,-999.000,-999.0000, -999.00,   4.5134,   4.5991,2,20091123,       1822
318M20091121,        P06,       6,          1,         14,         14,2,20091123,       1725,   -30.0800,   153.9201,       2590,  1144.3,   4.1233,  34.4969,  34.4967,2,    167.3,2,   166.3,2,   61.72,2,   32.26,2,    0.00,2,    2.32,2,-999.000,9,-999.000,9,-999.000,9,-999.0000,9,  -999.0,9,  -999.0,9,-999.0000,9,  -999.00,-999.000,9,-999.0000,9, -999.00,9, -999.00,9,  -999.0,9,  -999.0,-999.000,9,-999.000,  -999.0,9,-999.000,-999.0000, -999.00,   4.0344,   4.1232,2,20091123,       1819
318M20091121,        P06,       6,          1,         13,         13,2,20091123,       1725,   -30.0800,   153.9201,       2590,  1242.1,   3.7616,  34.5194,  34.5196,2,    161.5,2,   161.5,2,   70.34,2,   33.09,2,    0.00,2,    2.37,2,   0.115,2,   0.067,2,   0.004,2,        0,2,  2250.2,2,  2343.5,2,   7.5969,2,    25.00,-999.000,9,-999.0000,9, -999.00,9, -999.00,9,  -999.0,9,  -999.0,-999.000,9,-999.000,  -999.0,9,-999.000,-999.0000, -999.00,   3.6676,   3.7614,2,20091123,       1814
318M20091121,        P06,       6,          1,         12,         12,2,20091123,       1725,   -30.0800,   153.9201,       2590,  1344.8,   3.3517,  34.5507,  34.5507,2,    155.8,2,   155.8,2,   80.46,2,   33.86,2,    0.00,2,    2.43,2,   0.066,2,   0.041,2,   0.002,2,        0,2,  -999.0,9,  -999.0,9,-999.0000,9,  -999.00,-999.000,9,-999.0000,9, -999.00,9, -999.00,9,  -999.0,9,  -999.0,-999.000,9,-999.000,    37.6,2,-999.000,-999.0000, -999.00,   3.2530,   3.3509,2,20091123,       1810
318M20091121,        P06,       6,          1,         11,         11,2,20091123,       1725,   -30.0800,   153.9201,       2590,  1447.2,   3.0240,  34.5803,  34.5800,2,    153.7,2,   153.8,2,   87.64,2,   34.21,2,    0.00,2,    2.45,2,-999.000,9,-999.000,9,-999.000,9,-999.0000,9,  -999.0,9,  -999.0,9,-999.0000,9,  -999.00,-999.000,9,-999.0000,9, -999.00,9, -999.00,9,  -999.0,9,  -999.0,-999.000,9,-999.000,  -999.0,9,-999.000,-999.0000, -999.00,   2.9203,   3.0238,2,20091123,       1806
318M20091121,        P06,       6,          1,         10,         10,2,20091123,       1725,   -30.0800,   153.9201,       2590,  1548.8,   2.8054,  34.6034,  34.6032,2,    151.8,2,   151.7,2,   94.21,2,   34.36,2,    0.00,2,    2.48,2,   0.021,2,   0.014,2,   0.002,2,        0,2,  2280.3,2,  2363.5,2,   7.5756,2,    25.00,-999.000,9,-999.0000,9, -999.00,9, -999.00,9,  -999.0,9,  -999.0,-999.000,9,-999.000,  -999.0,9,-999.000,-999.0000, -999.00,   2.6957,   2.8049,2,20091123,       1803
318M20091121,        P06,       6,          1,          9,          9,2,20091123,       1725,   -30.0800,   153.9201,       2590,  1651.7,   2.6212,  34.6236,  34.6225,2,    152.7,2,   152.8,2,   97.82,2,   34.33,2,    0.00,2,    2.47,2,-999.000,9,-999.000,9,-999.000,9,-999.0000,9,  -999.0,9,  -999.0,9,-999.0000,9,  -999.00,-999.000,9,-999.0000,9, -999.00,9, -999.00,9,  -999.0,9,  -999.0,-999.000,9,-999.000,    37.7,2,-999.000,-999.0000, -999.00,   2.5052,   2.6218,2,20091123,       1759
318M20091121,        P06,       6,          1,          8,          8,2,20091123,       1725,   -30.0800,   153.9201,       2590,  1753.5,   2.4739,  34.6434,  34.6436,2,    159.6,2,   159.6,2,   94.63,2,   33.72,2,    0.00,2,    2.42,2,   0.019,2,   0.012,2,   0.002,2,        0,2,  2277.0,2,  2362.0,2,   7.5815,2,    25.00,-999.000,9,-999.0000,9, -999.00,9, -999.00,9,  -999.0,9,  -999.0,-999.000,9,-999.000,  -999.0,9,-999.000,-999.0000, -999.00,   2.3512,   2.4739,2,20091123,       1755
318M20091121,        P06,       6,          1,          7,          7,2,20091123,       1725,   -30.0800,   153.9201,       2590,  1854.4,   2.3446,  34.6622,  34.6623,2,    164.2,2,   165.0,2,   94.20,2,   33.36,2,    0.00,2,    2.39,2,   0.022,2,   0.008,2,   0.002,2,        0,2,  -999.0,9,  -999.0,9,-999.0000,9,  -999.00,-999.000,9,-999.0000,9, -999.00,9, -999.00,9,  -999.0,9,  -999.0,-999.000,9,-999.000,  -999.0,9,-999.000,-999.0000, -999.00,   2.2152,   2.3444,2,20091123,       1752
318M20091121,        P06,       6,          1,          6,          6,2,20091123,       1725,   -30.0800,   153.9201,       2590,  1962.1,   2.2707,  34.6724,  34.6729,2,    167.4,2,   167.0,2,   94.83,2,   33.18,2,    0.00,2,    2.38,2,-999.000,9,-999.000,9,-999.000,9,-999.0000,9,  -999.0,9,  -999.0,9,-999.0000,9,  -999.00,-999.000,9,-999.0000,9, -999.00,9, -999.00,9,  -999.0,9,  -999.0,-999.000,9,-999.000,    39.5,2,-999.000,-999.0000, -999.00,   2.1332,   2.2697,2,20091123,       1748
318M20091121,        P06,       6,          1,          5,          5,2,20091123,       1725,   -30.0800,   153.9201,       2590,  2090.5,   2.1039,  34.6951,  34.6954,2,    173.9,2,   175.1,2,   94.83,2,   32.48,2,    0.00,2,    2.32,2,   0.018,2,   0.008,2,   0.000,2,        0,2,  2268.2,2,  2360.5,6,   7.5985,2,    25.00,-999.000,9,-999.0000,9, -999.00,9, -999.00,9,  -999.0,9,  -999.0,-999.000,9,-999.000,  -999.0,9,-999.000,-999.0000, -999.00,   1.9579,   2.1039,2,20091123,       1745
318M20091121,        P06,       6,          1,          4,          4,2,20091123,       1725,   -30.0800,   153.9201,       2590,  2213.7,   2.0096,  34.7062,  34.7066,2,    178.2,2,   178.1,2,   95.67,2,   32.25,2,    0.00,2,    2.30,2,   0.056,4,   0.014,2,   0.002,2,        0,2,  -999.0,9,  -999.0,9,-999.0000,9,  -999.00,-999.000,9,-999.0000,9, -999.00,9, -999.00,9,  -999.0,9,  -999.0,-999.000,9,-999.000,    38.5,2,-999.000,-999.0000, -999.00,   1.8544,   2.0088,2,20091123,       1741
318M20091121,        P06,       6,          1,          3,          3,2,20091123,       1725,   -30.0800,   153.9201,       2590,  2553.0,   1.8300,  34.7197,  34.7208,2,    184.3,2,   183.9,2,   99.50,2,   31.93,2,    0.00,2,    2.27,2,   0.105,4,   0.008,2,   0.002,2,        0,2,  2266.3,2,  2364.3,2,   7.6100,6,    25.00,-999.000,9,-999.0000,9, -999.00,9, -999.00,9,  -999.0,9,  -999.0,-999.000,9,-999.000,    39.3,2,-999.000,-999.0000, -999.00,   1.6478,   1.8300,2,20091123,       1733
318M20091121,        P06,       6,          1,          1,          1,2,20091123,       1725,   -30.0800,   153.9201,       2590,  2881.3,   1.6606,  34.7236,  34.7252,2,    188.3,2,   188.0,2,  103.96,2,   31.86,2,    0.00,2,    2.27,2,   0.019,2,   0.009,2,   0.006,2,        0,2,  -999.0,9,  2364.2,2,   7.6101,2,    25.00,-999.000,9,-999.0000,9, -999.00,9, -999.00,9,  -999.0,9,  -999.0,-999.000,9,-999.000,    39.8,2,-999.000,-999.0000, -999.00,   1.4513,   1.6607,2,20091123,       1724
318M20091121,        P06,       6,          1,          2,          2,2,20091123,       1725,   -30.0800,   153.9201,       2590,  2881.5,   1.6660,  34.7235,  34.7236,2,    188.3,2,   187.9,2,  103.75,2,   31.90,2,    0.00,2,    2.26,2,-999.000,9,-999.000,9,-999.000,9,-999.0000,9,  2267.2,6,  -999.0,9,-999.0000,9,  -999.00,-999.000,9,-999.0000,9, -999.00,9, -999.00,9,  -999.0,9,  -999.0,-999.000,9,-999.000,  -999.0,9,-999.000,-999.0000, -999.00,   1.4566,   1.6639,3,20091123,       1725