BOTTLE,20220818CCHSIOAMB
EXPOCODE,SECT_ID,STNNBR,CASTNO,SAMPNO,BTLNBR,BTLNBR_FLAG_W,DATE,TIME,LATITUDE,LONGITUDE,DEPTH,CTDPRS,CTDTMP,CTDSAL,SALNTY,SALNTY_FLAG_W,CTDOXY,CTDOXY_FLAG_W,OXYGEN,OXYGEN_FLAG_W,SILCAT,SILCAT_FLAG_W,NITRAT,NITRAT_FLAG_W,NITRIT,NITRIT_FLAG_W,PHSPHT,PHSPHT_FLAG_W,CFC-11,CFC-11_FLAG_W,CFC-12,CFC-12_FLAG_W,CFC113,CFC113_FLAG_W,SF6,SF6_FLAG_W,TCARBN,TCARBN_FLAG_W,ALKALI,ALKALI_FLAG_W,PH_SWS,PH_SWS_FLAG_W,PH_TMP,TRITUM,TRITUM_FLAG_W,HELIUM,HELIUM_FLAG_W,DELHE3,DELHE3_FLAG_W,DELC13,DELC13_FLAG_W,DELC14,DELC14_FLAG_W,C14ERR,NEON,NEON_FLAG_W,NEONER,DOC,DOC_FLAG_W,TRITER,HELIER,DELHER,THETA,SBE35,SBE35_FLAG_W,BTL_DATE,BTL_TIME
,,,,,,,,,,,METERS,DBAR,ITS-90,PSS-78,PSS-78,,UMOL/KG,,UMOL/KG,,UMOL/KG,,UMOL/KG,,UMOL/KG,,UMOL/KG,,PMOL/KG,,PMOL/KG,,PMOL/KG,,FMOL/KG,,UMOL/KG,,UMOL/KG,,,,DEG C,TU,,NMOL/KG,,PERCNT,,/MILLE,,/MILLE,,/MILLE,NMOL/KG,,NMOL/KG,UMOL/KG,,TU,NMOL/KG,PERCNT,DEG C,ITS-90,,,
318M20091121,        P06,       7,          2,         36,         36,2,20091124,       2335,   -30.0800,   153.9600,       4065,     3.1,  23.9987,  35.4644,  35.4629,2,    214.5,2,   214.7,2,    0.52,2, -999.00,9,    0.00,2, -999.00,9,   1.775,2,   1.124,2,   0.128,2,     0.97,2,  2000.3,6,  2321.8,6,   8.0682,6,    25.00,-999.000,9,-999.0000,9, -999.00,9, -999.00,9,  -999.0,9,  -999.0,-999.000,9,-999.000,  -999.0,9,-999.000,-999.0000, -999.00,  23.9980,  24.0386,3,20091124,       0235
318M20091121,        P06,       7,          2,         35,         35,2,20091124,       2335,   -30.0800,   153.9600,       4065,    20.3,  22.8359,  35.4843,  35.4824,2,    219.1,2,   225.9,2,    0.28,2, -999.00,9,    0.00,2, -999.00,9,   1.845,2,   1.140,2,   0.127,2,    0.916,2,  -999.0,9,  -999.0,9,-999.0000,9,  -999.00,-999.000,9,-999.0000,9, -999.00,9, -999.00,9,  -999.0,9,  -999.0,-999.000,9,-999.000,  -999.0,9,-999.000,-999.0000, -999.00,  22.8318,  22.8451,2,20091124,       0232
318M20091121,        P06,       7,          2,         34,         34,2,20091124,       2335,   -30.0800,   153.9600,       4065,    40.7,  20.6918,  35.5160,  35.5140,2,    205.2,2,   206.1,2,    0.86,2, -999.00,9,    0.03,2, -999.00,9,   1.977,2,   1.207,2,   0.118,2,    1.083,2,  2037.2,2,  2330.5,2,   8.0224,2,    25.00,-999.000,9,-999.0000,9, -999.00,9, -999.00,9,  -999.0,9,  -999.0,-999.000,9,-999.000,  -999.0,9,-999.000,-999.0000, -999.00,  20.6841,  20.7063,3,20091124,       0229
318M20091121,        P06,       7,          2,         33,         33,2,20091124,       2335,   -30.0800,   153.9600,       4065,    56.1,  18.7949,  35.5913,  35.5855,2,    207.0,2,   207.7,2,    1.04,2, -999.00,9,    0.05,2, -999.00,9,   2.151,2,   1.303,2,   0.115,2,    1.158,2,  -999.0,9,  -999.0,9,-999.0000,9,  -999.00,-999.000,9,-999.0000,9, -999.00,9, -999.00,9,  -999.0,9,  -999.0,-999.000,9,-999.000,  -999.0,9,-999.000,-999.0000, -999.00,  18.7850,  18.7943,2,20091124,       0227
318M20091121,        P06,       7,          2,         32,         32,2,20091124,       2335,   -30.0800,   153.9600,       4065,    90.5,  17.8872,  35.5645,  35.5626,2,    207.9,2,   206.6,2,    1.20,2, -999.00,9,    0.01,2, -999.00,9,   2.216,2,   1.346,2,   0.123,2,    1.122,2,  2062.3,2,  2325.7,2,   7.9664,2,    25.00,-999.000,9,-999.0000,9, -999.00,9, -999.00,9,  -999.0,9,  -999.0,-999.000,9,-999.000,  -999.0,9,-999.000,-999.0000, -999.00,  17.8717,  17.8788,2,20091124,       0222
318M20091121,        P06,       7,          2,         31,         31,2,20091124,       2335,   -30.0800,   153.9600,       4065,   115.6,  17.3930,  35.5565,  35.5581,2,    205.7,2,   215.6,2,    1.16,2, -999.00,9,    0.01,2, -999.00,9,   2.237,2,   1.361,2,   0.150,2,    1.225,2,  -999.0,9,  -999.0,9,-999.0000,9,  -999.00,-999.000,9,-999.0000,9, -999.00,9, -999.00,9,  -999.0,9,  -999.0,-999.000,9,-999.000,  -999.0,9,-999.000,-999.0000, -999.00,  17.3736,  17.4023,2,20091124,       0220
318M20091121,        P06,       7,          2,         30,         30,2,20091124,       2335,   -30.0800,   153.9600,       4065,   141.3,  17.1966,  35.5557,  35.5541,2,    215.4,2,   215.8,2,    1.13,2, -999.00,9,    0.01,2, -999.00,9,   2.266,6,   1.374,6,   0.153,2,    1.172,6,  2062.6,2,  2325.0,2,   7.9732,2,    25.00,-999.000,9,-999.0000,9, -999.00,9, -999.00,9,  -999.0,9,  -999.0,-999.000,9,-999.000,  -999.0,9,-999.000,-999.0000, -999.00,  17.1730,  17.1928,2,20091124,       0218
318M20091121,        P06,       7,          2,         29,         29,2,20091124,       2335,   -30.0800,   153.9600,       4065,   186.7,  16.1891,  35.4809,  35.4790,2,    202.2,2,   199.2,2,    2.12,2, -999.00,9,    0.00,2, -999.00,9,   2.280,2,   1.385,2,   0.111,2,    0.974,2,  2086.2,2,  2321.5,2,   7.9273,2,    25.00,-999.000,9,-999.0000,9, -999.00,9, -999.00,9,  -999.0,9,  -999.0,-999.000,9,-999.000,  -999.0,9,-999.000,-999.0000, -999.00,  16.1592,  16.1944,2,20091124,       0214
318M20091121,        P06,       7,          2,         28,         28,2,20091124,       2335,   -30.0800,   153.9600,       4065,   229.7,  15.2368,  35.4102,  35.4107,2,    199.1,2,   177.3,4,    2.50,2, -999.00,9,    0.00,2, -999.00,9,   2.342,2,   1.385,2,   0.107,2,    0.798,2,  -999.0,9,  -999.0,9,-999.0000,9,  -999.00,-999.000,9,-999.0000,9, -999.00,9, -999.00,9,  -999.0,9,  -999.0,-999.000,9,-999.000,  -999.0,9,-999.000,-999.0000, -999.00,  15.2015,  15.2470,2,20091124,       0212
318M20091121,        P06,       7,          2,         27,         27,2,20091124,       2335,   -30.0800,   153.9600,       4065,   289.0,  13.8981,  35.3158,  35.3128,2,    202.8,2,   205.4,2,    3.08,2, -999.00,9,    0.00,2, -999.00,9,   2.480,2,   1.452,2,   0.122,2,    0.887,2,  2108.1,2,  2315.4,2,   7.8718,2,    25.00,-999.000,9,-999.0000,9, -999.00,9, -999.00,9,  -999.0,9,  -999.0,-999.000,9,-999.000,  -999.0,9,-999.000,-999.0000, -999.00,  13.8563,  13.8987,2,20091124,       0207
318M20091121,        P06,       7,          2,         26,         26,2,20091124,       2335,   -30.0800,   153.9600,       4065,   333.9,  13.1472,  35.2428,  35.2398,2,    205.3,2,   205.9,2,    3.67,2, -999.00,9,    0.00,2, -999.00,9,   2.478,2,   1.457,2,   0.112,2,    0.887,2,  -999.0,9,  -999.0,9,-999.0000,9,  -999.00,-999.000,9,-999.0000,9, -999.00,9, -999.00,9,  -999.0,9,  -999.0,-999.000,9,-999.000,  -999.0,9,-999.000,-999.0000, -999.00,  13.1006,  13.1445,2,20091124,       0205
318M20091121,        P06,       7,          2,         25,         25,2,20091124,       2335,   -30.0800,   153.9600,       4065,   385.0,  11.4692,  34.9724,  34.9701,2,    195.7,2,   195.3,2,    5.68,2, -999.00,9,    0.00,2, -999.00,9,   2.293,2,   1.273,2,   0.088,2,    0.709,2,  2131.3,2,  2304.3,2,   7.7972,2,    25.00,-999.000,9,-999.0000,9, -999.00,9, -999.00,9,  -999.0,9,  -999.0,-999.000,9,-999.000,  -999.0,9,-999.000,-999.0000, -999.00,  11.4200,  11.4687,2,20091124,       0202
318M20091121,        P06,       7,          2,         24,         24,2,20091124,       2335,   -30.0800,   153.9600,       4065,   435.8,  10.6285,  34.8818,  34.8802,2,    198.5,2,   198.0,2,    6.47,2, -999.00,9,    0.00,2, -999.00,9,   2.340,2,   1.312,2,   0.104,2,    0.765,2,  -999.0,9,  -999.0,9,-999.0000,9,  -999.00,-999.000,9,-999.0000,9, -999.00,9, -999.00,9,  -999.0,9,  -999.0,-999.000,9,-999.000,  -999.0,9,-999.000,-999.0000, -999.00,  10.5754,  10.6270,2,20091124,       0159
318M20091121,        P06,       7,          2,         23,         23,2,20091124,       2335,   -30.0800,   153.9600,       4065,   489.4,   9.6322,  34.7478,  34.7483,2,    199.5,2,   199.5,2,    7.88,2, -999.00,9,    0.00,2, -999.00,9,   2.224,2,   1.237,2,   0.103,2,    0.568,2,  2145.6,2,  2296.1,2,   7.7504,2,    25.00,-999.000,9,-999.0000,9, -999.00,9, -999.00,9,  -999.0,9,  -999.0,-999.000,9,-999.000,  -999.0,9,-999.000,-999.0000, -999.00,   9.5760,   9.6330,2,20091124,       0156
318M20091121,        P06,       7,          2,         22,         22,2,20091124,       2335,   -30.0800,   153.9600,       4065,   565.0,   8.5864,  34.6217,  34.6213,2,    199.1,2,   199.0,2,   10.52,2, -999.00,9,    0.00,2, -999.00,9,   1.893,2,   0.997,2,   0.098,2,    0.445,2,  -999.0,9,  -999.0,9,-999.0000,9,  -999.00,-999.000,9,-999.0000,9, -999.00,9, -999.00,9,  -999.0,9,  -999.0,-999.000,9,-999.000,  -999.0,9,-999.000,-999.0000, -999.00,   8.5257,   8.5837,2,20091124,       0151
318M20091121,        P06,       7,          2,         21,         21,2,20091124,       2335,   -30.0800,   153.9600,       4065,   666.5,   7.5906,  34.5323,  34.5316,2,    196.2,2,   196.1,2,   14.83,2, -999.00,9,    0.00,2, -999.00,9,   1.456,2,   0.764,2,   0.068,2,    0.274,2,  2162.2,2,  2325.7,4,   7.7017,2,    25.00,-999.000,9,-999.0000,9, -999.00,9, -999.00,9,  -999.0,9,  -999.0,-999.000,9,-999.000,  -999.0,9,-999.000,-999.0000, -999.00,   7.5236,   7.5887,2,20091124,       0147
318M20091121,        P06,       7,          2,         20,         20,2,20091124,       2335,   -30.0800,   153.9600,       4065,   771.6,   6.5197,  34.4645,  34.4630,2,    193.8,2,   194.3,2,   22.05,2, -999.00,9,    0.00,2, -999.00,9,   0.905,2,   0.485,2,   0.040,2,    0.137,2,  2174.7,2,  2295.9,2,   7.6802,2,    25.00,-999.000,9,-999.0000,9, -999.00,9, -999.00,9,  -999.0,9,  -999.0,-999.000,9,-999.000,  -999.0,9,-999.000,-999.0000, -999.00,   6.4478,   6.5180,2,20091124,       0143
318M20091121,        P06,       7,          2,         19,         19,2,20091124,       2335,   -30.0800,   153.9600,       4065,   871.8,   5.7475,  34.4407,  34.4434,2,    189.8,2,   189.4,2,   30.11,2, -999.00,9,    0.00,2, -999.00,9,   0.609,2,   0.339,2,   0.025,2,        0,2,  2188.6,2,  2299.2,2,   7.6612,2,    25.00,-999.000,9,-999.0000,9, -999.00,9, -999.00,9,  -999.0,9,  -999.0,-999.000,9,-999.000,  -999.0,9,-999.000,-999.0000, -999.00,   5.6708,   5.7479,2,20091124,       0138
318M20091121,        P06,       7,          2,         18,         18,2,20091124,       2335,   -30.0800,   153.9600,       4065,   974.5,   5.1446,  34.4488,  34.4485,2,    181.6,2,   182.7,2,   40.29,2, -999.00,9,    0.00,2, -999.00,9,   0.386,2,   0.225,2,   0.021,2,        0,2,  -999.0,9,  -999.0,9,-999.0000,9,  -999.00,-999.000,9,-999.0000,9, -999.00,9, -999.00,9,  -999.0,9,  -999.0,-999.000,9,-999.000,  -999.0,9,-999.000,-999.0000, -999.00,   5.0626,   5.1443,2,20091124,       0134
318M20091121,        P06,       7,          2,         17,         17,2,20091124,       2335,   -30.0800,   153.9600,       4065,  1070.6,   4.7370,  34.4634,  34.4626,2,    175.5,2,   176.7,2,   48.41,2, -999.00,9,    0.00,2, -999.00,9,   0.268,2,   0.161,2,   0.009,2,        0,2,  2215.8,6,  2319.9,6,   7.6310,6,    25.00,-999.000,9,-999.0000,9, -999.00,9, -999.00,9,  -999.0,9,  -999.0,-999.000,9,-999.000,  -999.0,9,-999.000,-999.0000, -999.00,   4.6495,   4.7354,2,20091124,       0130
318M20091121,        P06,       7,          2,         16,         16,2,20091124,       2335,   -30.0800,   153.9600,       4065,  1172.8,   4.1875,  34.4932,  34.4929,2,    166.2,2,   167.1,2,   60.56,2, -999.00,9,    0.00,2, -999.00,9,   0.165,2,   0.103,2,   0.009,2,        0,2,  -999.0,9,  -999.0,9,-999.0000,9,  -999.00,-999.000,9,-999.0000,9, -999.00,9, -999.00,9,  -999.0,9,  -999.0,-999.000,9,-999.000,  -999.0,9,-999.000,-999.0000, -999.00,   4.0956,   4.1872,2,20091124,       0126
318M20091121,        P06,       7,          2,         15,         15,2,20091124,       2335,   -30.0800,   153.9600,       4065,  1275.1,   3.7188,  34.5235,  34.5232,2,    160.2,2,   161.2,2,   71.90,2, -999.00,9,    0.00,2, -999.00,9,   0.098,2,   0.064,2,   0.009,2,        0,2,  2251.1,2,  2341.4,2,   7.5967,2,    25.00,-999.000,9,-999.0000,9, -999.00,9, -999.00,9,  -999.0,9,  -999.0,-999.000,9,-999.000,  -999.0,9,-999.000,-999.0000, -999.00,   3.6224,   3.7190,2,20091124,       0122
318M20091121,        P06,       7,          2,         14,         14,2,20091124,       2335,   -30.0800,   153.9600,       4065,  1378.0,   3.3164,  34.5541,  34.5533,2,    155.7,2,   155.7,2,   81.59,2, -999.00,9,    0.00,2, -999.00,9,   0.057,2,   0.039,2,   0.002,2,        0,2,  -999.0,9,  -999.0,9,-999.0000,9,  -999.00,-999.000,9,-999.0000,9, -999.00,9, -999.00,9,  -999.0,9,  -999.0,-999.000,9,-999.000,  -999.0,9,-999.000,-999.0000, -999.00,   3.2153,   3.3160,2,20091124,       0117
318M20091121,        P06,       7,          2,         13,         13,2,20091124,       2335,   -30.0800,   153.9600,       4065,  1480.5,   3.0177,  34.5811,  34.5804,2,    154.3,2,   154.0,2,   88.14,2, -999.00,9,    0.00,2, -999.00,9,   0.038,2,   0.026,2,   0.002,2,        0,2,  -999.0,9,  -999.0,9,-999.0000,9,  -999.00,-999.000,9,-999.0000,9, -999.00,9, -999.00,9,  -999.0,9,  -999.0,-999.000,9,-999.000,  -999.0,9,-999.000,-999.0000, -999.00,   2.9113,   3.0181,2,20091124,       0113
318M20091121,        P06,       7,          2,         12,         12,2,20091124,       2335,   -30.0800,   153.9600,       4065,  1580.8,   2.7858,  34.6047,  34.6042,2,    155.5,2,   134.2,4,   91.71,2, -999.00,9,    0.00,2, -999.00,9,   0.030,2,   0.021,2,   0.002,2,        0,2,  2275.6,2,  2365.1,2,   7.5801,2,    25.00,-999.000,9,-999.0000,9, -999.00,9, -999.00,9,  -999.0,9,  -999.0,-999.000,9,-999.000,  -999.0,9,-999.000,-999.0000, -999.00,   2.6737,   2.7866,2,20091124,       0108
318M20091121,        P06,       7,          2,         11,         11,2,20091124,       2335,   -30.0800,   153.9600,       4065,  1681.7,   2.6184,  34.6247,  34.6237,2,    154.7,2,   156.2,2,   94.67,2, -999.00,9,    0.00,2, -999.00,9,   0.019,2,   0.014,2,   0.003,2,        0,2,  -999.0,9,  -999.0,9,-999.0000,9,  -999.00,-999.000,9,-999.0000,9, -999.00,9, -999.00,9,  -999.0,9,  -999.0,-999.000,9,-999.000,  -999.0,9,-999.000,-999.0000, -999.00,   2.4999,   2.6180,2,20091124,       0103
318M20091121,        P06,       7,          2,         10,         10,2,20091124,       2335,   -30.0800,   153.9600,       4065,  1771.8,   2.4961,  34.6400,  34.6396,2,    158.1,2,   157.4,2,   97.19,2, -999.00,9,    0.00,2, -999.00,9,   0.018,2,   0.015,2,   0.002,2,        0,2,  -999.0,9,  -999.0,9,-999.0000,9,  -999.00,-999.000,9,-999.0000,9, -999.00,9, -999.00,9,  -999.0,9,  -999.0,-999.000,9,-999.000,  -999.0,9,-999.000,-999.0000, -999.00,   2.3716,   2.4961,2,20091124,       0058
318M20091121,        P06,       7,          2,          9,          9,2,20091124,       2335,   -30.0800,   153.9600,       4065,  1958.1,   2.2605,  34.6759,  34.6753,2,    167.1,2,   168.6,2,   93.98,2, -999.00,9,    0.00,2, -999.00,9,   0.016,2,   0.012,2,   0.002,2,        0,2,  2270.5,2,  2365.0,2,   7.5925,2,    25.00,-999.000,9,-999.0000,9, -999.00,9, -999.00,9,  -999.0,9,  -999.0,-999.000,9,-999.000,  -999.0,9,-999.000,-999.0000, -999.00,   2.1235,   2.2602,2,20091124,       0050
318M20091121,        P06,       7,          2,          8,          8,2,20091124,       2335,   -30.0800,   153.9600,       4065,  2160.6,   2.0845,  34.6988,  34.6981,2,    175.0,2,   175.4,2,   95.23,2, -999.00,9,    0.00,2, -999.00,9,   0.027,2,   0.019,2,   0.001,2,        0,2,  -999.0,9,  -999.0,9,-999.0000,9,  -999.00,-999.000,9,-999.0000,9, -999.00,9, -999.00,9,  -999.0,9,  -999.0,-999.000,9,-999.000,  -999.0,9,-999.000,-999.0000, -999.00,   1.9328,   2.0839,2,20091124,       0043
318M20091121,        P06,       7,          2,          7,          7,2,20091124,       2335,   -30.0800,   153.9600,       4065,  2379.7,   1.9413,  34.7134,  34.7130,2,    181.1,2,   180.9,2,   96.48,2, -999.00,9,    0.00,2, -999.00,9,   0.019,2,   0.015,2,   0.001,2,        0,2,  -999.0,9,  -999.0,9,-999.0000,9,  -999.00,-999.000,9,-999.0000,9, -999.00,9, -999.00,9,  -999.0,9,  -999.0,-999.000,9,-999.000,  -999.0,9,-999.000,-999.0000, -999.00,   1.7727,   1.9412,2,20091124,       0036
318M20091121,        P06,       7,          2,          6,          6,2,20091124,       2335,   -30.0800,   153.9600,       4065,  2559.2,   1.8562,  34.7193,  34.7195,2,    183.2,2,   183.5,2,   99.44,2, -999.00,9,    0.00,2, -999.00,9,   0.011,2,   0.009,2,   0.002,2,        0,2,  2265.5,2,  2366.4,2,   7.6094,2,    25.00,-999.000,9,-999.0000,9, -999.00,9, -999.00,9,  -999.0,9,  -999.0,-999.000,9,-999.000,  -999.0,9,-999.000,-999.0000, -999.00,   1.6729,   1.8560,2,20091124,       0029
318M20091121,        P06,       7,          2,          5,          5,2,20091124,       2335,   -30.0800,   153.9600,       4065,  2894.3,   1.5816,  34.7249,  34.7246,2,    189.7,2,   190.2,2,  106.01,2, -999.00,9,    0.00,2, -999.00,9,   0.008,2,   0.006,2,   0.001,2,        0,2,  -999.0,9,  -999.0,9,-999.0000,9,  -999.00,-999.000,9,-999.0000,9, -999.00,9, -999.00,9,  -999.0,9,  -999.0,-999.000,9,-999.000,  -999.0,9,-999.000,-999.0000, -999.00,   1.3728,   1.5813,2,20091124,       0019
318M20091121,        P06,       7,          2,          4,          4,2,20091124,       2335,   -30.0800,   153.9600,       4065,  3224.1,   1.3115,  34.7202,  34.7199,2,    193.6,2,   193.6,2,  112.82,2, -999.00,9,    0.00,2, -999.00,9,   0.015,2,   0.014,2,   0.004,2,        0,2,  -999.0,9,  -999.0,9,-999.0000,9,  -999.00,-999.000,9,-999.0000,9, -999.00,9, -999.00,9,  -999.0,9,  -999.0,-999.000,9,-999.000,  -999.0,9,-999.000,-999.0000, -999.00,   1.0772,   1.3119,2,20091124,       0009
318M20091121,        P06,       7,          2,          3,          3,2,20091124,       2335,   -30.0800,   153.9600,       4065,  3554.3,   1.2037,  34.7170,  34.7170,2,    195.5,2,   195.4,2,  116.00,2, -999.00,9,    0.00,2, -999.00,9,   0.012,2,   0.009,2,   0.001,2,        0,2,  2273.7,2,  2377.9,6,   7.6370,2,    25.00,-999.000,9,-999.0000,9, -999.00,9, -999.00,9,  -999.0,9,  -999.0,-999.000,9,-999.000,  -999.0,9,-999.000,-999.0000, -999.00,   0.9393,   1.2036,2,20091124,       2358
318M20091121,        P06,       7,          2,          2,          2,2,20091124,       2335,   -30.0800,   153.9600,       4065,  3895.4,   1.1535,  34.7149,  34.7144,2,    196.5,2,   196.9,2,  118.11,2, -999.00,9,    0.00,2, -999.00,9,   0.017,2,   0.015,2,   0.003,2,        0,2,  -999.0,9,  -999.0,9,-999.0000,9,  -999.00,-999.000,9,-999.0000,9, -999.00,9, -999.00,9,  -999.0,9,  -999.0,-999.000,9,-999.000,  -999.0,9,-999.000,-999.0000, -999.00,   0.8552,   1.1534,2,20091124,       2346
318M20091121,        P06,       7,          2,          1,          1,2,20091124,       2335,   -30.0800,   153.9600,       4065,  4207.8,   1.1633,  34.7141,  34.7140,2,    197.2,2,   198.7,3,  118.95,2, -999.00,9,    0.00,2, -999.00,9,   0.023,2,   0.016,2,   0.002,2,        0,2,  2276.4,6,  2381.9,2,   7.6214,6,    25.00,-999.000,9,-999.0000,9, -999.00,9, -999.00,9,  -999.0,9,  -999.0,-999.000,9,-999.000,  -999.0,9,-999.000,-999.0000, -999.00,   0.8312,   1.1632,2,20091124,       2335