BOTTLE,20220818CCHSIOAMB
EXPOCODE,SECT_ID,STNNBR,CASTNO,SAMPNO,BTLNBR,BTLNBR_FLAG_W,DATE,TIME,LATITUDE,LONGITUDE,DEPTH,CTDPRS,CTDTMP,CTDSAL,SALNTY,SALNTY_FLAG_W,CTDOXY,CTDOXY_FLAG_W,OXYGEN,OXYGEN_FLAG_W,SILCAT,SILCAT_FLAG_W,NITRAT,NITRAT_FLAG_W,NITRIT,NITRIT_FLAG_W,PHSPHT,PHSPHT_FLAG_W,CFC-11,CFC-11_FLAG_W,CFC-12,CFC-12_FLAG_W,CFC113,CFC113_FLAG_W,SF6,SF6_FLAG_W,TCARBN,TCARBN_FLAG_W,ALKALI,ALKALI_FLAG_W,PH_SWS,PH_SWS_FLAG_W,PH_TMP,TRITUM,TRITUM_FLAG_W,HELIUM,HELIUM_FLAG_W,DELHE3,DELHE3_FLAG_W,DELC13,DELC13_FLAG_W,DELC14,DELC14_FLAG_W,C14ERR,NEON,NEON_FLAG_W,NEONER,DOC,DOC_FLAG_W,TRITER,HELIER,DELHER,THETA,SBE35,SBE35_FLAG_W,BTL_DATE,BTL_TIME
,,,,,,,,,,,METERS,DBAR,ITS-90,PSS-78,PSS-78,,UMOL/KG,,UMOL/KG,,UMOL/KG,,UMOL/KG,,UMOL/KG,,UMOL/KG,,PMOL/KG,,PMOL/KG,,PMOL/KG,,FMOL/KG,,UMOL/KG,,UMOL/KG,,,,DEG C,TU,,NMOL/KG,,PERCNT,,/MILLE,,/MILLE,,/MILLE,NMOL/KG,,NMOL/KG,UMOL/KG,,TU,NMOL/KG,PERCNT,DEG C,ITS-90,,,
318M20091121,        P06,      18,          2,         35,         35,2,20091127,       0413,   -30.0799,   157.1202,       4010,     5.7,  24.2493,  35.4743,  35.4741,2,    216.2,2,   214.8,2,    0.47,2,    0.02,2,    0.00,2,    0.11,2,-999.000,9,-999.000,9,-999.000,9,-999.0000,9,  1999.4,2,  2322.0,2,   8.0824,2,    25.00,-999.000,9,-999.0000,9, -999.00,9, -999.00,9,  -999.0,9,  -999.0,-999.000,9,-999.000,    61.3,2,-999.000,-999.0000, -999.00,  24.2481,  24.2480,2,20091127,       0651
318M20091121,        P06,      18,          2,         34,         34,2,20091127,       0413,   -30.0799,   157.1202,       4010,    34.2,  23.0414,  35.4986,  35.4974,2,    223.0,2,   221.7,2,    0.25,2,    0.03,2,    0.00,2,    0.11,2,-999.000,9,-999.000,9,-999.000,9,-999.0000,9,  2004.2,2,  2323.1,2,   8.0750,2,    25.00,-999.000,9,-999.0000,9, -999.00,9, -999.00,9,  -999.0,9,  -999.0,-999.000,9,-999.000,    57.2,2,-999.000,-999.0000, -999.00,  23.0344,  23.0495,2,20091127,       0648
318M20091121,        P06,      18,          2,         33,         33,2,20091127,       0413,   -30.0799,   157.1202,       4010,    59.3,  21.4066,  35.4986,  35.5034,2,    187.4,2,   220.6,2,    0.44,2,    0.03,2,    0.00,2,    0.12,2,-999.000,9,-999.000,9,-999.000,9,-999.0000,9,  2014.2,2,  2323.8,6,   8.0536,6,    25.00,-999.000,9,-999.0000,9, -999.00,9, -999.00,9,  -999.0,9,  -999.0,-999.000,9,-999.000,    60.1,2,-999.000,-999.0000, -999.00,  21.3951,  21.4018,2,20091127,       0645
318M20091121,        P06,      18,          2,         32,         32,2,20091127,       0413,   -30.0799,   157.1202,       4010,    91.3,  20.3453,  35.5543,  35.5510,2,    194.5,2,   195.5,2,    0.84,2,    2.53,2,    0.07,2,    0.27,2,-999.000,9,-999.000,9,-999.000,9,-999.0000,9,  2044.1,2,  2328.3,2,   8.0093,2,    25.00,-999.000,9,-999.0000,9, -999.00,9, -999.00,9,  -999.0,9,  -999.0,-999.000,9,-999.000,  -999.0,5,-999.000,-999.0000, -999.00,  20.3282,  20.3438,2,20091127,       0642
318M20091121,        P06,      18,          2,         31,         31,2,20091127,       0413,   -30.0799,   157.1202,       4010,   114.6,  19.8247,  35.5745,  35.5733,2,    194.0,2,   192.1,2,    1.03,2,    3.49,2,    0.02,2,    0.34,2,-999.000,9,-999.000,9,-999.000,9,-999.0000,9,  2053.4,2,  2327.2,2,   7.9844,2,    25.00,-999.000,9,-999.0000,9, -999.00,9, -999.00,9,  -999.0,9,  -999.0,-999.000,9,-999.000,  -999.0,5,-999.000,-999.0000, -999.00,  19.8036,  19.8230,2,20091127,       0639
318M20091121,        P06,      18,          2,         30,         30,2,20091127,       0413,   -30.0799,   157.1202,       4010,   140.1,  19.2164,  35.5881,  35.5927,2,    202.4,2,   194.1,2,    1.01,2,    3.85,2,    0.01,2,    0.37,2,-999.000,9,-999.000,9,-999.000,9,-999.0000,9,  2059.0,2,  2329.8,2,   7.9854,2,    25.00,-999.000,9,-999.0000,9, -999.00,9, -999.00,9,  -999.0,9,  -999.0,-999.000,9,-999.000,    52.7,2,-999.000,-999.0000, -999.00,  19.1911,  19.2081,2,20091127,       0637
318M20091121,        P06,      18,          2,         29,         29,2,20091127,       0413,   -30.0799,   157.1202,       4010,   164.9,  18.9199,  35.6068,  35.6058,2,    199.0,2,   196.0,2,    1.00,2,    3.75,2,    0.01,2,    0.36,2,-999.000,9,-999.000,9,-999.000,9,-999.0000,9,  2059.5,2,  2331.3,2,   7.9827,2,    25.00,-999.000,9,-999.0000,9, -999.00,9, -999.00,9,  -999.0,9,  -999.0,-999.000,9,-999.000,    52.9,2,-999.000,-999.0000, -999.00,  18.8905,  18.9126,2,20091127,       0634
318M20091121,        P06,      18,          2,         28,         28,2,20091127,       0413,   -30.0799,   157.1202,       4010,   215.7,  17.9534,  35.5781,  35.5771,2,    190.6,2,   196.2,2,    1.18,2,    4.68,2,    0.00,2,    0.43,2,-999.000,9,-999.000,9,-999.000,9,-999.0000,9,  2071.7,2,  2328.6,2,   7.9620,2,    25.00,-999.000,9,-999.0000,9, -999.00,9, -999.00,9,  -999.0,9,  -999.0,-999.000,9,-999.000,    52.2,2,-999.000,-999.0000, -999.00,  17.9163,  17.9491,2,20091127,       0631
318M20091121,        P06,      18,          2,         27,         27,2,20091127,       0413,   -30.0799,   157.1202,       4010,   265.8,  16.7538,  35.5255,  35.5262,2,    213.8,2,   213.4,2,    1.38,2,    4.24,2,    0.01,2,    0.40,2,-999.000,9,-999.000,9,-999.000,9,-999.0000,9,  2069.9,2,  2326.3,2,   7.9597,2,    25.00,-999.000,9,-999.0000,9, -999.00,9, -999.00,9,  -999.0,9,  -999.0,-999.000,9,-999.000,    53.0,2,-999.000,-999.0000, -999.00,  16.7101,  16.7309,3,20091127,       0629
318M20091121,        P06,      18,          2,         26,         26,2,20091127,       0413,   -30.0799,   157.1202,       4010,   319.4,  15.1756,  35.3903,  35.3938,2,    194.1,2,   193.8,2,    2.59,2,    8.70,2,    0.01,2,    0.68,2,-999.000,9,-999.000,9,-999.000,9,-999.0000,9,  2101.2,2,  2321.3,2,   7.8939,2,    25.00,-999.000,9,-999.0000,9, -999.00,9, -999.00,9,  -999.0,9,  -999.0,-999.000,9,-999.000,    50.8,2,-999.000,-999.0000, -999.00,  15.1265,  15.1775,2,20091127,       0625
318M20091121,        P06,      18,          2,         25,         25,2,20091127,       0413,   -30.0799,   157.1202,       4010,   365.4,  13.9518,  35.2907,  35.2898,2,    197.5,2,   196.6,2,    3.39,2,   10.44,2,    0.00,2,    0.81,2,-999.000,9,-999.000,9,-999.000,9,-999.0000,9,  2113.4,2,  2316.6,2,   7.8626,2,    25.00,-999.000,9,-999.0000,9, -999.00,9, -999.00,9,  -999.0,9,  -999.0,-999.000,9,-999.000,    45.6,2,-999.000,-999.0000, -999.00,  13.8987,  13.9530,2,20091127,       0622
318M20091121,        P06,      18,          2,         24,         24,2,20091127,       0413,   -30.0799,   157.1202,       4010,   415.7,  12.8141,  35.1705,  35.1707,2,    197.4,2,   198.1,2,    4.20,2,   12.47,2,    0.00,2,    0.94,2,-999.000,9,-999.000,9,-999.000,9,-999.0000,9,  2122.0,2,  2310.3,2,-999.0000,5,  -999.00,-999.000,9,-999.0000,9, -999.00,9, -999.00,9,  -999.0,9,  -999.0,-999.000,9,-999.000,  -999.0,9,-999.000,-999.0000, -999.00,  12.7569,  12.8138,2,20091127,       0618
318M20091121,        P06,      18,          2,         23,         23,2,20091127,       0413,   -30.0799,   157.1202,       4010,   464.9,  12.0592,  35.0940,  35.0977,2,    204.4,2,   202.4,2,    4.59,2,   13.30,2,    0.00,2,    1.02,2,-999.000,9,-999.000,9,-999.000,9,-999.0000,9,  2125.3,2,  2325.6,4,   7.8192,2,    25.00,-999.000,9,-999.0000,9, -999.00,9, -999.00,9,  -999.0,9,  -999.0,-999.000,9,-999.000,    44.1,2,-999.000,-999.0000, -999.00,  11.9976,  12.0681,2,20091127,       0615
318M20091121,        P06,      18,          2,         22,         22,2,20091127,       0413,   -30.0799,   157.1202,       4010,   532.5,  10.5669,  34.8761,  34.8750,2,    200.1,2,   200.6,2,    6.23,2,   16.93,2,    0.00,2,    1.22,2,-999.000,9,-999.000,9,-999.000,9,-999.0000,9,  2137.1,2,  2299.6,2,   7.7734,2,    25.00,-999.000,9,-999.0000,9, -999.00,9, -999.00,9,  -999.0,9,  -999.0,-999.000,9,-999.000,  -999.0,9,-999.000,-999.0000, -999.00,  10.5020,  10.5669,2,20091127,       0612
318M20091121,        P06,      18,          2,         21,         21,2,20091127,       0413,   -30.0799,   157.1202,       4010,   641.1,   8.7599,  34.6427,  34.6427,2,    199.0,2,   199.3,2,    9.92,2,   21.16,2,    0.00,2,    1.51,2,-999.000,9,-999.000,9,-999.000,9,-999.0000,9,  2149.5,2,  2293.7,2,   7.7309,2,    25.00,-999.000,9,-999.0000,9, -999.00,9, -999.00,9,  -999.0,9,  -999.0,-999.000,9,-999.000,    43.6,2,-999.000,-999.0000, -999.00,   8.6899,   8.7567,2,20091127,       0607
318M20091121,        P06,      18,          2,         20,         20,2,20091127,       0413,   -30.0799,   157.1202,       4010,   743.5,   7.6212,  34.5300,  34.5295,2,    197.2,2,   197.9,2,   14.23,2,   23.84,2,    0.00,2,    1.69,2,-999.000,9,-999.000,9,-999.000,9,-999.0000,9,  2158.1,2,  2288.9,2,   7.7039,2,    25.00,-999.000,9,-999.0000,9, -999.00,9, -999.00,9,  -999.0,9,  -999.0,-999.000,9,-999.000,  -999.0,9,-999.000,-999.0000, -999.00,   7.5459,   7.6199,2,20091127,       0603
318M20091121,        P06,      18,          2,         19,         19,2,20091127,       0413,   -30.0799,   157.1202,       4010,   839.2,   6.6684,  34.4684,  34.4679,2,    194.8,2,   195.6,2,   20.41,2,   26.18,2,    0.00,2,    1.85,2,-999.000,9,-999.000,9,-999.000,9,-999.0000,9,  2171.6,2,  2294.2,2,   7.6850,2,    25.00,-999.000,9,-999.0000,9, -999.00,9, -999.00,9,  -999.0,9,  -999.0,-999.000,9,-999.000,    41.2,2,-999.000,-999.0000, -999.00,   6.5889,   6.6670,2,20091127,       0600
318M20091121,        P06,      18,          2,         18,         18,2,20091127,       0413,   -30.0799,   157.1202,       4010,   938.3,   5.8761,  34.4478,  34.4473,2,    189.6,2,   189.1,2,   29.09,2,   28.22,2,    0.00,2,    2.00,2,-999.000,9,-999.000,9,-999.000,9,-999.0000,9,  2186.5,6,  2302.6,6,   7.6604,2,    25.00,-999.000,9,-999.0000,9, -999.00,9, -999.00,9,  -999.0,9,  -999.0,-999.000,9,-999.000,  -999.0,9,-999.000,-999.0000, -999.00,   5.7922,   5.8760,2,20091127,       0556
318M20091121,        P06,      18,          2,         17,         17,2,20091127,       0413,   -30.0799,   157.1202,       4010,  1041.3,   5.1657,  34.4551,  34.4538,2,    181.5,2,   181.1,2,   40.32,2,   30.04,2,    0.00,2,    2.13,2,-999.000,9,-999.000,9,-999.000,9,-999.0000,9,  2204.2,2,  2311.5,2,   7.6417,2,    25.00,-999.000,9,-999.0000,9, -999.00,9, -999.00,9,  -999.0,9,  -999.0,-999.000,9,-999.000,    40.2,2,-999.000,-999.0000, -999.00,   5.0774,   5.1654,2,20091127,       0552
318M20091121,        P06,      18,          2,         16,         16,2,20091127,       0413,   -30.0799,   157.1202,       4010,  1141.4,   4.5759,  34.4738,  34.4731,2,    173.1,2,   174.0,2,   52.01,2,   31.51,2,    0.00,2,    2.24,2,-999.000,9,-999.000,9,-999.000,9,-999.0000,9,  2226.8,2,  2325.1,2,   7.6234,2,    25.00,-999.000,9,-999.0000,9, -999.00,9, -999.00,9,  -999.0,9,  -999.0,-999.000,9,-999.000,  -999.0,9,-999.000,-999.0000, -999.00,   4.4834,   4.5756,2,20091127,       0548
318M20091121,        P06,      18,          2,         15,         15,2,20091127,       0413,   -30.0799,   157.1202,       4010,  1244.9,   3.9790,  34.5042,  34.5032,2,    165.6,2,   164.6,2,   65.00,2,   32.78,2,    0.00,2,    2.34,2,-999.000,9,-999.000,9,-999.000,9,-999.0000,9,  2239.9,2,  2336.9,2,   7.6035,2,    25.00,-999.000,9,-999.0000,9, -999.00,9, -999.00,9,  -999.0,9,  -999.0,-999.000,9,-999.000,    39.4,2,-999.000,-999.0000, -999.00,   3.8827,   3.9801,2,20091127,       0544
318M20091121,        P06,      18,          2,         14,         14,2,20091127,       0413,   -30.0799,   157.1202,       4010,  1347.4,   3.5941,  34.5360,  34.5352,2,    158.8,2,   158.3,2,   76.14,2,   33.67,2,    0.00,2,    2.42,2,-999.000,9,-999.000,9,-999.000,9,-999.0000,9,  2254.5,2,  2347.3,2,   7.5952,2,    25.00,-999.000,9,-999.0000,9, -999.00,9, -999.00,9,  -999.0,9,  -999.0,-999.000,9,-999.000,  -999.0,9,-999.000,-999.0000, -999.00,   3.4927,   3.5952,2,20091127,       0540
318M20091121,        P06,      18,          2,         13,         13,2,20091127,       0413,   -30.0799,   157.1202,       4010,  1447.7,   3.2665,  34.5624,  34.5616,2,    154.1,2,   153.8,2,   85.00,2,   34.01,2,    0.00,2,    2.46,2,-999.000,9,-999.000,9,-999.000,9,-999.0000,9,  2266.7,2,  2359.9,2,   7.5873,2,    25.00,-999.000,9,-999.0000,9, -999.00,9, -999.00,9,  -999.0,9,  -999.0,-999.000,9,-999.000,    35.9,2,-999.000,-999.0000, -999.00,   3.1601,   3.2674,2,20091127,       0536
318M20091121,        P06,      18,          2,         12,         12,2,20091127,       0413,   -30.0799,   157.1202,       4010,  1546.5,   2.9826,  34.5869,  34.5864,2,    152.0,2,   153.1,2,   89.65,2,   34.50,2,    0.00,2,    2.47,2,-999.000,9,-999.000,9,-999.000,9,-999.0000,9,  2272.1,2,  2365.1,2,   7.5825,2,    25.00,-999.000,9,-999.0000,9, -999.00,9, -999.00,9,  -999.0,9,  -999.0,-999.000,9,-999.000,  -999.0,9,-999.000,-999.0000, -999.00,   2.8710,   2.9828,2,20091127,       0532
318M20091121,        P06,      18,          2,         11,         11,9,20091127,       0413,   -30.0799,   157.1202,       4010,  1678.1,   2.7008,  34.6166,-999.0000,9,   -999.0,9,  -999.0,9, -999.00,9, -999.00,9, -999.00,9, -999.00,9,-999.000,9,-999.000,9,-999.000,9,-999.0000,9,  -999.0,9,  -999.0,9,-999.0000,9,  -999.00,-999.000,9,-999.0000,9, -999.00,9, -999.00,9,  -999.0,9,  -999.0,-999.000,9,-999.000,  -999.0,9,-999.000,-999.0000, -999.00,   2.5816,   2.7002,2,20091127,       0528
318M20091121,        P06,      18,          2,         10,         10,2,20091127,       0413,   -30.0799,   157.1202,       4010,  1678.5,   2.6989,  34.6167,  34.6157,2,    154.0,2,   154.8,2,   94.31,2,   34.40,2,    0.00,2,    2.47,2,-999.000,9,-999.000,9,-999.000,9,-999.0000,9,  2277.1,2,  2370.0,2,   7.5817,2,    25.00,-999.000,9,-999.0000,9, -999.00,9, -999.00,9,  -999.0,9,  -999.0,-999.000,9,-999.000,  -999.0,9,-999.000,-999.0000, -999.00,   2.5797,   2.6985,2,20091127,       0527
318M20091121,        P06,      18,          2,          9,          9,2,20091127,       0413,   -30.0799,   157.1202,       4010,  1879.8,   2.4152,  34.6522,  34.6517,2,    161.5,2,   160.6,2,   96.43,2,   33.92,2,    0.00,2,    2.43,2,-999.000,9,-999.000,9,-999.000,9,-999.0000,9,  2274.4,2,  2368.4,2,   7.5851,2,    25.00,-999.000,9,-999.0000,9, -999.00,9, -999.00,9,  -999.0,9,  -999.0,-999.000,9,-999.000,    36.8,2,-999.000,-999.0000, -999.00,   2.2827,   2.4152,2,20091127,       0521
318M20091121,        P06,      18,          2,          8,          8,2,20091127,       0413,   -30.0799,   157.1202,       4010,  2107.8,   2.2309,  34.6780,  34.6771,2,    167.5,2,   168.1,2,   96.42,2,   33.29,2,    0.00,2,    2.38,2,-999.000,9,-999.000,9,-999.000,9,-999.0000,9,  2271.2,2,  2365.3,2,   7.5919,2,    25.00,-999.000,9,-999.0000,9, -999.00,9, -999.00,9,  -999.0,9,  -999.0,-999.000,9,-999.000,  -999.0,9,-999.000,-999.0000, -999.00,   2.0815,   2.2307,2,20091127,       0515
318M20091121,        P06,      18,          2,          7,          7,2,20091127,       0413,   -30.0799,   157.1202,       4010,  2357.5,   2.0332,  34.7042,  34.7043,2,    177.3,2,   177.6,2,   96.41,2,   32.45,2,    0.00,2,    2.32,2,-999.000,9,-999.000,9,-999.000,9,-999.0000,9,  2265.3,2,  2317.3,4,   7.6016,2,    25.00,-999.000,9,-999.0000,9, -999.00,9, -999.00,9,  -999.0,9,  -999.0,-999.000,9,-999.000,    34.8,2,-999.000,-999.0000, -999.00,   1.8649,   2.0330,2,20091127,       0508
318M20091121,        P06,      18,          2,          6,          6,2,20091127,       0413,   -30.0799,   157.1202,       4010,  2615.3,   1.8315,  34.7186,  34.7189,2,    183.9,2,   183.6,2,  100.03,2,   32.11,2,    0.00,2,    2.29,2,-999.000,9,-999.000,9,-999.000,9,-999.0000,9,  2265.1,2,  2365.0,2,   7.6082,6,    25.00,-999.000,9,-999.0000,9, -999.00,9, -999.00,9,  -999.0,9,  -999.0,-999.000,9,-999.000,  -999.0,9,-999.000,-999.0000, -999.00,   1.6436,   1.8314,2,20091127,       0501
318M20091121,        P06,      18,          2,          5,          5,2,20091127,       0413,   -30.0799,   157.1202,       4010,  2878.3,   1.6024,  34.7216,  34.7212,2,    188.2,2,   188.7,2,  105.96,2,   32.11,2,    0.00,2,    2.29,2,-999.000,9,-999.000,9,-999.000,9,-999.0000,9,  2266.6,2,  2372.4,2,   7.6124,2,    25.00,-999.000,9,-999.0000,9, -999.00,9, -999.00,9,  -999.0,9,  -999.0,-999.000,9,-999.000,    39.3,2,-999.000,-999.0000, -999.00,   1.3946,   1.6013,2,20091127,       0451
318M20091121,        P06,      18,          2,          4,          4,2,20091127,       0413,   -30.0799,   157.1202,       4010,  3141.0,   1.4674,  34.7214,  34.7212,2,    190.8,2,   190.7,2,  109.36,2,   32.16,2,    0.00,2,    2.29,2,-999.000,9,-999.000,9,-999.000,9,-999.0000,9,  2269.5,2,  2379.3,6,   7.6172,2,    25.00,-999.000,9,-999.0000,9, -999.00,9, -999.00,9,  -999.0,9,  -999.0,-999.000,9,-999.000,  -999.0,9,-999.000,-999.0000, -999.00,   1.2375,   1.4680,2,20091127,       0442
318M20091121,        P06,      18,          2,          3,          3,2,20091127,       0413,   -30.0799,   157.1202,       4010,  3446.0,   1.3066,  34.7196,  34.7197,2,    193.7,2,   193.9,2,  113.62,2,   32.22,2,    0.00,2,    2.29,2,-999.000,9,-999.000,9,-999.000,9,-999.0000,9,  2271.3,2,  2377.7,2,   7.6196,2,    25.00,-999.000,9,-999.0000,9, -999.00,9, -999.00,9,  -999.0,9,  -999.0,-999.000,9,-999.000,    37.8,2,-999.000,-999.0000, -999.00,   1.0505,   1.3068,2,20091127,       0433
318M20091121,        P06,      18,          2,          2,          2,2,20091127,       0413,   -30.0799,   157.1202,       4010,  3753.0,   1.2107,  34.7171,  34.7171,2,    194.9,2,   195.5,2,  116.60,2,   32.32,2,    0.00,2,    2.30,2,-999.000,9,-999.000,9,-999.000,9,-999.0000,9,  2273.4,2,  2380.8,2,   7.6241,2,    25.00,-999.000,9,-999.0000,9, -999.00,9, -999.00,9,  -999.0,9,  -999.0,-999.000,9,-999.000,  -999.0,9,-999.000,-999.0000, -999.00,   0.9258,   1.2105,2,20091127,       0423
318M20091121,        P06,      18,          2,          1,          1,2,20091127,       0413,   -30.0799,   157.1202,       4010,  4068.6,   1.1967,  34.7159,  34.7164,2,    195.8,2,   195.6,2,  117.88,2,   32.36,2,    0.00,2,    2.30,2,-999.000,9,-999.000,9,-999.000,9,-999.0000,9,  2274.6,6,  2382.6,2,   7.6230,2,    25.00,-999.000,9,-999.0000,9, -999.00,9, -999.00,9,  -999.0,9,  -999.0,-999.000,9,-999.000,    36.8,2,-999.000,-999.0000, -999.00,   0.8787,   1.1961,2,20091127,       0413