BOTTLE,20220818CCHSIOAMB
EXPOCODE,SECT_ID,STNNBR,CASTNO,SAMPNO,BTLNBR,BTLNBR_FLAG_W,DATE,TIME,LATITUDE,LONGITUDE,DEPTH,CTDPRS,CTDTMP,CTDSAL,SALNTY,SALNTY_FLAG_W,CTDOXY,CTDOXY_FLAG_W,OXYGEN,OXYGEN_FLAG_W,SILCAT,SILCAT_FLAG_W,NITRAT,NITRAT_FLAG_W,NITRIT,NITRIT_FLAG_W,PHSPHT,PHSPHT_FLAG_W,CFC-11,CFC-11_FLAG_W,CFC-12,CFC-12_FLAG_W,CFC113,CFC113_FLAG_W,SF6,SF6_FLAG_W,TCARBN,TCARBN_FLAG_W,ALKALI,ALKALI_FLAG_W,PH_SWS,PH_SWS_FLAG_W,PH_TMP,TRITUM,TRITUM_FLAG_W,HELIUM,HELIUM_FLAG_W,DELHE3,DELHE3_FLAG_W,DELC13,DELC13_FLAG_W,DELC14,DELC14_FLAG_W,C14ERR,NEON,NEON_FLAG_W,NEONER,DOC,DOC_FLAG_W,TRITER,HELIER,DELHER,THETA,SBE35,SBE35_FLAG_W,BTL_DATE,BTL_TIME
,,,,,,,,,,,METERS,DBAR,ITS-90,PSS-78,PSS-78,,UMOL/KG,,UMOL/KG,,UMOL/KG,,UMOL/KG,,UMOL/KG,,UMOL/KG,,PMOL/KG,,PMOL/KG,,PMOL/KG,,FMOL/KG,,UMOL/KG,,UMOL/KG,,,,DEG C,TU,,NMOL/KG,,PERCNT,,/MILLE,,/MILLE,,/MILLE,NMOL/KG,,NMOL/KG,UMOL/KG,,TU,NMOL/KG,PERCNT,DEG C,ITS-90,,,
318M20091121,        P06,      61,          3,         36,         36,2,20091208,       0414,   -30.0800,   176.5001,       4276,     3.1,  21.8617,  35.6389,  35.6392,2,    226.7,2,   226.5,2,    0.41,2,    0.00,2,    0.00,2,    0.07,2,   1.937,2,   1.238,2,-999.000,1,    1.166,2,  2036.4,6,  2334.7,2,   8.0166,3,    25.00,-999.000,9,-999.0000,9, -999.00,9,    1.14,2,    65.3,2,     3.0,-999.000,9,-999.000,  -999.0,9,-999.000,-999.0000, -999.00,  21.8611,  21.8637,2,20091208,       0630
318M20091121,        P06,      61,          3,         35,         35,2,20091208,       0414,   -30.0800,   176.5001,       4276,    20.0,  20.5639,  35.6396,  35.6398,2,    235.6,2,   234.7,2,    0.20,2,    0.00,2,    0.00,2,    0.06,2,   2.037,2,   1.288,2,-999.000,1,    1.216,2,  -999.0,9,  -999.0,9,-999.0000,9,  -999.00,-999.000,9,-999.0000,9, -999.00,9, -999.00,9,  -999.0,9,  -999.0,-999.000,9,-999.000,  -999.0,9,-999.000,-999.0000, -999.00,  20.5601,  20.5428,2,20091208,       0627
318M20091121,        P06,      61,          3,         34,         34,2,20091208,       0414,   -30.0800,   176.5001,       4276,    40.8,  19.3504,  35.6151,  35.6147,2,    241.6,2,   240.0,2,    0.39,2,    0.00,2,    0.00,2,    0.08,2,   2.092,2,   1.329,2,-999.000,1,    1.176,2,  -999.0,9,  -999.0,9,-999.0000,9,  -999.00,-999.000,9,-999.0000,9, -999.00,9, -999.00,9,  -999.0,9,  -999.0,-999.000,9,-999.000,  -999.0,9,-999.000,-999.0000, -999.00,  19.3430,  19.3509,2,20091208,       0625
318M20091121,        P06,      61,          3,         33,         33,2,20091208,       0414,   -30.0800,   176.5001,       4276,    65.9,  18.1780,  35.6043,  35.6040,2,    242.1,2,   240.9,2,    0.37,2,    0.00,2,    0.00,2,    0.10,2,   2.605,4,   2.555,4,-999.000,1,    -6.03,4,  -999.0,9,  2330.8,6,   7.9634,3,    25.00,-999.000,9,-999.0000,9, -999.00,9, -999.00,9,  -999.0,9,  -999.0,-999.000,9,-999.000,  -999.0,9,-999.000,-999.0000, -999.00,  18.1666,  18.1723,2,20091208,       0623
318M20091121,        P06,      61,          3,         32,         32,2,20091208,       0414,   -30.0800,   176.5001,       4276,    90.3,  17.5209,  35.5844,  35.5837,2,    219.5,2,   221.6,2,    0.36,2,    1.55,2,    0.06,2,    0.22,2,   2.213,2,   1.384,2,-999.000,1,    1.208,2,  -999.0,9,  -999.0,9,-999.0000,9,  -999.00,-999.000,9,-999.0000,9, -999.00,9,    1.02,2,    66.6,2,     3.2,-999.000,9,-999.000,  -999.0,9,-999.000,-999.0000, -999.00,  17.5057,  17.5214,2,20091208,       0620
318M20091121,        P06,      61,          3,         31,         31,2,20091208,       0414,   -30.0800,   176.5001,       4276,   116.2,  17.2330,  35.5789,  35.5817,2,    219.1,2,   219.7,2,    0.55,2,    2.17,2,    0.03,2,    0.26,2,   2.220,2,   1.380,2,-999.000,1,    1.155,2,  -999.0,9,  2330.0,2,   7.7119,4,    25.00,-999.000,9,-999.0000,9, -999.00,9, -999.00,9,  -999.0,9,  -999.0,-999.000,9,-999.000,  -999.0,9,-999.000,-999.0000, -999.00,  17.2136,  17.2366,2,20091208,       0618
318M20091121,        P06,      61,          3,         30,         30,2,20091208,       0414,   -30.0800,   176.5001,       4276,   140.7,  16.9148,  35.5792,  35.5776,2,    219.5,2,   219.2,2,    0.93,2,    3.30,2,    0.01,2,    0.32,2,   2.247,2,   1.406,2,-999.000,1,    1.255,2,  -999.0,9,  -999.0,9,-999.0000,9,  -999.00,-999.000,9,-999.0000,9, -999.00,9, -999.00,9,  -999.0,9,  -999.0,-999.000,9,-999.000,  -999.0,9,-999.000,-999.0000, -999.00,  16.8916,  16.9122,2,20091208,       0616
318M20091121,        P06,      61,          3,         29,         29,2,20091208,       0414,   -30.0800,   176.5001,       4276,   186.5,  16.3713,  35.5378,  35.5408,2,    218.6,2,   219.3,2,    1.10,2,    4.03,2,    0.01,2,    0.37,2,   2.268,2,   1.418,2,-999.000,1,    1.166,2,  -999.0,9,  2328.6,2,   7.9428,3,    25.00,-999.000,9,-999.0000,9, -999.00,9,    0.95,2,    64.4,2,     3.9,-999.000,9,-999.000,  -999.0,9,-999.000,-999.0000, -999.00,  16.3412,  16.3751,2,20091208,       0614
318M20091121,        P06,      61,          3,         28,         28,2,20091208,       0414,   -30.0800,   176.5001,       4276,   235.6,  15.6158,  35.4528,  35.4528,2,    214.4,2,   210.6,2,    1.68,2,    5.96,2,    0.01,2,    0.50,2,   2.328,2,   1.437,2,-999.000,1,    1.004,2,  -999.0,9,  -999.0,9,-999.0000,9,  -999.00,-999.000,9,-999.0000,9, -999.00,9, -999.00,9,  -999.0,9,  -999.0,-999.000,9,-999.000,  -999.0,9,-999.000,-999.0000, -999.00,  15.5790,  15.6147,2,20091208,       0612
318M20091121,        P06,      61,          3,         27,         27,2,20091208,       0414,   -30.0800,   176.5001,       4276,   287.1,  14.5040,  35.3278,  35.3256,2,    214.5,2,   210.1,2,    2.26,2,    7.70,2,    0.01,2,    0.61,2,   2.374,2,   1.419,2,-999.000,1,    1.001,2,  -999.0,9,  2318.1,2,   7.8977,3,    25.00,-999.000,9,-999.0000,9, -999.00,9,    0.95,2,    59.8,2,     3.4,-999.000,9,-999.000,  -999.0,9,-999.000,-999.0000, -999.00,  14.4613,  14.5018,2,20091208,       0609
318M20091121,        P06,      61,          3,         26,         26,2,20091208,       0414,   -30.0800,   176.5001,       4276,   337.0,  13.5194,  35.2149,  35.2128,2,    211.1,2,   208.0,2,    2.84,2,    9.63,2,    0.00,2,    0.73,2,   2.429,2,   1.447,2,-999.000,1,    0.992,2,  -999.0,9,  -999.0,9,-999.0000,9,  -999.00,-999.000,9,-999.0000,9, -999.00,9, -999.00,9,  -999.0,9,  -999.0,-999.000,9,-999.000,  -999.0,9,-999.000,-999.0000, -999.00,  13.4715,  13.5177,2,20091208,       0607
318M20091121,        P06,      61,          3,         25,         25,2,20091208,       0414,   -30.0800,   176.5001,       4276,   387.1,  12.3270,  35.0664,  35.0662,2,    202.7,2,   199.0,2,    4.40,2,   13.17,2,    0.00,2,    0.96,2,   2.371,2,   1.408,2,-999.000,1,    0.891,2,  -999.0,9,  2306.3,2,   7.8528,3,    25.00,-999.000,9,-999.0000,9, -999.00,9,    1.01,2,    45.2,2,     3.3,-999.000,9,-999.000,  -999.0,9,-999.000,-999.0000, -999.00,  12.2752,  12.3259,2,20091208,       0604
318M20091121,        P06,      61,          3,         24,         24,2,20091208,       0414,   -30.0800,   176.5001,       4276,   437.2,  11.0021,  34.8691,  34.8694,2,    199.0,2,   201.9,2,    4.59,2,   15.32,2,    0.00,2,    1.09,2,   2.503,2,   1.421,2,-999.000,1,    0.809,2,  -999.0,9,  -999.0,9,-999.0000,9,  -999.00,-999.000,9,-999.0000,9, -999.00,9, -999.00,9,  -999.0,9,  -999.0,-999.000,9,-999.000,  -999.0,9,-999.000,-999.0000, -999.00,  10.9477,  11.0030,2,20091208,       0602
318M20091121,        P06,      61,          3,         23,         23,2,20091208,       0414,   -30.0800,   176.5001,       4276,   486.7,  10.0932,  34.7495,  34.7505,2,    203.3,2,   205.2,2,    5.36,2,   17.19,2,    0.00,2,    1.21,2,   2.487,2,   1.404,2,-999.000,1,    0.672,2,  -999.0,9,  2292.7,2,   7.2535,4,    25.00,-999.000,9,-999.0000,9, -999.00,9,    1.10,2,    36.6,2,     3.0,-999.000,9,-999.000,  -999.0,9,-999.000,-999.0000, -999.00,  10.0357,  10.0801,2,20091208,       0600
318M20091121,        P06,      61,          3,         22,         22,2,20091208,       0414,   -30.0800,   176.5001,       4276,   568.0,   8.3934,  34.5411,  34.5398,2,    210.6,2,   215.4,2,    6.53,2,   20.24,2,    0.00,2,    1.42,2,   2.467,2,   1.328,2,-999.000,1,     0.49,2,  -999.0,9,  -999.0,9,-999.0000,9,  -999.00,-999.000,9,-999.0000,9, -999.00,9,    1.19,2,    23.1,2,     3.5,-999.000,9,-999.000,  -999.0,9,-999.000,-999.0000, -999.00,   8.3333,   8.4042,2,20091208,       0556
318M20091121,        P06,      61,          3,         21,         21,2,20091208,       0414,   -30.0800,   176.5001,       4276,   668.9,   7.2439,  34.4293,  34.4283,2,    219.5,2,   222.6,2,    8.50,2,   22.58,2,    0.00,2,    1.57,2,   2.183,6,   1.151,6,-999.000,1,   0.3225,6,  -999.0,9,  2281.4,2,   7.8867,4,    25.00,-999.000,9,-999.0000,9, -999.00,9,    1.26,2,     8.8,2,     3.2,-999.000,9,-999.000,  -999.0,9,-999.000,-999.0000, -999.00,   7.1785,   7.2434,2,20091208,       0553
318M20091121,        P06,      61,          3,         20,         20,2,20091208,       0414,   -30.0800,   176.5001,       4276,   769.9,   6.4758,  34.3806,  34.3796,2,    220.5,2,   221.4,2,   12.25,2,   24.65,2,    0.00,2,    1.71,2,   1.679,2,   0.872,2,-999.000,1,    0.249,2,  -999.0,9,  -999.0,9,-999.0000,9,  -999.00,-999.000,9,-999.0000,9, -999.00,9,    1.24,2,   -16.1,2,     2.7,-999.000,9,-999.000,  -999.0,9,-999.000,-999.0000, -999.00,   6.4045,   6.4751,2,20091208,       0549
318M20091121,        P06,      61,          3,         19,         19,2,20091208,       0414,   -30.0800,   176.5001,       4276,   871.2,   5.9431,  34.3676,  34.3678,2,    212.4,2,   213.0,2,   17.60,2,   26.46,2,    0.00,2,    1.85,2,   1.164,2,   0.614,2,-999.000,1,     0.18,2,  -999.0,9,  2289.2,2,   7.6561,3,    25.00,-999.000,9,-999.0000,9, -999.00,9,    1.19,2,   -41.0,2,     3.2,-999.000,9,-999.000,  -999.0,9,-999.000,-999.0000, -999.00,   5.8653,   5.9385,2,20091208,       0545
318M20091121,        P06,      61,          3,         18,         18,2,20091208,       0414,   -30.0800,   176.5001,       4276,   972.4,   5.3173,  34.3753,  34.3747,2,    203.3,2,   201.5,2,   26.55,2,   28.53,2,    0.00,2,    1.99,2,   0.743,2,   0.404,2,-999.000,1,    0.122,2,  -999.0,9,  -999.0,9,-999.0000,9,  -999.00,-999.000,9,-999.0000,9, -999.00,9,    1.08,2,   -71.0,2,     3.2,-999.000,9,-999.000,  -999.0,9,-999.000,-999.0000, -999.00,   5.2343,   5.3175,2,20091208,       0541
318M20091121,        P06,      61,          3,         17,         17,2,20091208,       0414,   -30.0800,   176.5001,       4276,  1073.1,   4.6643,  34.3918,  34.3912,2,    190.2,2,   189.9,2,   37.36,2,   30.57,2,    0.00,2,    2.13,2,   0.417,2,   0.241,2,-999.000,1,        0,2,  -999.0,9,  -999.0,9,-999.0000,9,  -999.00,-999.000,9,-999.0000,9, -999.00,9,    0.95,2,  -102.2,2,     2.5,-999.000,9,-999.000,  -999.0,9,-999.000,-999.0000, -999.00,   4.5773,   4.6638,2,20091208,       0538
318M20091121,        P06,      61,          3,         16,         16,2,20091208,       0414,   -30.0800,   176.5001,       4276,  1174.0,   4.0844,  34.4312,  34.4339,2,    179.8,2,   179.0,2,   50.64,2,   31.97,2,    0.00,2,    2.24,2,   0.221,2,   0.135,2,-999.000,1,        0,2,  -999.0,9,  2321.4,6,   7.5950,3,    25.00,-999.000,9,-999.0000,9, -999.00,9,    0.82,2,  -123.7,2,     2.6,-999.000,9,-999.000,  -999.0,9,-999.000,-999.0000, -999.00,   3.9934,   4.0839,2,20091208,       0535
318M20091121,        P06,      61,          3,         15,         15,2,20091208,       0414,   -30.0800,   176.5001,       4276,  1276.0,   3.6912,  34.4833,  34.4834,2,    171.7,2,   171.4,2,   64.20,2,   32.64,2,    0.00,2,    2.30,2,   0.169,2,   0.107,2,-999.000,1,        0,2,  -999.0,9,  -999.0,9,-999.0000,9,  -999.00,-999.000,9,-999.0000,9, -999.00,9,    0.73,2,  -144.9,2,     2.5,-999.000,9,-999.000,  -999.0,9,-999.000,-999.0000, -999.00,   3.5951,   3.6880,2,20091208,       0531
318M20091121,        P06,      61,          3,         14,         14,2,20091208,       0414,   -30.0800,   176.5001,       4276,  1376.9,   3.3585,  34.5173,  34.5179,2,    165.7,2,   167.0,2,   74.56,2,   33.23,2,    0.00,2,    2.34,2,   0.117,2,   0.078,2,-999.000,1,        0,2,  -999.0,9,  -999.0,9,-999.0000,9,  -999.00,-999.000,9,-999.0000,9, -999.00,9,    0.29,4,  -169.4,2,     2.3,-999.000,9,-999.000,  -999.0,9,-999.000,-999.0000, -999.00,   3.2571,   3.3549,2,20091208,       0527
318M20091121,        P06,      61,          3,         13,         13,2,20091208,       0414,   -30.0800,   176.5001,       4276,  1478.1,   3.0829,  34.5597,  34.5596,2,    160.6,2,   161.0,2,   85.77,2,   33.57,2,    0.00,2,    2.37,2,   0.085,2,   0.061,2,-999.000,1,        0,2,  -999.0,9,  2361.2,2,   7.6000,4,    25.00,-999.000,9,-999.0000,9, -999.00,9,    0.55,2,  -169.9,2,     2.9,-999.000,9,-999.000,  -999.0,9,-999.000,-999.0000, -999.00,   2.9760,   3.0839,2,20091208,       0524
318M20091121,        P06,      61,          3,         12,         12,2,20091208,       0414,   -30.0800,   176.5001,       4276,  1579.7,   2.8051,  34.5896,  34.5901,2,    157.6,2,   157.4,2,   95.38,2,   33.96,2,    0.00,2,    2.40,2,   0.067,2,   0.052,2,-999.000,1,        0,2,  -999.0,9,  -999.0,9,-999.0000,9,  -999.00,-999.000,9,-999.0000,9, -999.00,9, -999.00,9,  -999.0,9,  -999.0,-999.000,9,-999.000,  -999.0,9,-999.000,-999.0000, -999.00,   2.6929,   2.8039,2,20091208,       0521
318M20091121,        P06,      61,          3,         11,         11,2,20091208,       0414,   -30.0800,   176.5001,       4276,  1681.2,   2.6035,  34.6065,  34.6070,2,    154.8,2,   154.8,2,  102.13,2,   34.30,2,    0.00,2,    2.43,2,   0.035,2,   0.028,2,-999.000,1,        0,2,  -999.0,9,  -999.0,9,-999.0000,9,  -999.00,-999.000,9,-999.0000,9, -999.00,9, -999.00,9,  -999.0,9,  -999.0,-999.000,9,-999.000,  -999.0,9,-999.000,-999.0000, -999.00,   2.4853,   2.5985,2,20091208,       0517
318M20091121,        P06,      61,          3,         10,         10,2,20091208,       0414,   -30.0800,   176.5001,       4276,  1753.0,   2.5184,  34.6141,  34.6133,2,    154.0,2,   154.3,2,  104.58,2,   34.45,2,    0.00,2,    2.44,2,   0.034,2,   0.029,2,-999.000,1,        0,2,  -999.0,9,  2383.2,2,   7.5546,3,    25.00,-999.000,9,-999.0000,9, -999.00,9, -999.00,9,  -999.0,9,  -999.0,-999.000,9,-999.000,  -999.0,9,-999.000,-999.0000, -999.00,   2.3953,   2.5190,2,20091208,       0515
318M20091121,        P06,      61,          3,          9,          9,2,20091208,       0414,   -30.0800,   176.5001,       4276,  1953.0,   2.2913,  34.6350,  34.6346,2,    152.6,2,   152.5,2,  111.55,2,   34.69,2,    0.00,2,    2.46,2,   0.020,2,   0.019,2,-999.000,1,        0,2,  -999.0,9,  -999.0,9,-999.0000,9,  -999.00,-999.000,9,-999.0000,9, -999.00,9, -999.00,9,  -999.0,9,  -999.0,-999.000,9,-999.000,  -999.0,9,-999.000,-999.0000, -999.00,   2.1544,   2.2913,2,20091208,       0510
318M20091121,        P06,      61,          3,          8,          8,2,20091208,       0414,   -30.0800,   176.5001,       4276,  2186.4,   2.1288,  34.6501,  34.6497,2,    152.3,2,   152.4,2,  116.27,2,   34.79,2,    0.00,2,    2.47,2,   0.031,2,   0.027,2,-999.000,1,        0,2,  -999.0,9,  -999.0,9,-999.0000,9,  -999.00,-999.000,9,-999.0000,9, -999.00,9, -999.00,9,  -999.0,9,  -999.0,-999.000,9,-999.000,  -999.0,9,-999.000,-999.0000, -999.00,   1.9743,   2.1289,2,20091208,       0505
318M20091121,        P06,      61,          3,          7,          7,2,20091208,       0414,   -30.0800,   176.5001,       4276,  2441.4,   2.0123,  34.6611,  34.6611,2,    152.9,2,   153.0,2,  119.76,2,   34.74,2,    0.00,2,    2.47,2,   0.014,2,   0.015,2,-999.000,1,        0,2,  -999.0,9,  2400.5,2,   7.5044,3,    25.00,-999.000,9,-999.0000,9, -999.00,9, -999.00,9,  -999.0,9,  -999.0,-999.000,9,-999.000,  -999.0,9,-999.000,-999.0000, -999.00,   1.8370,   2.0120,2,20091208,       0459
318M20091121,        P06,      61,          3,          6,          6,2,20091208,       0414,   -30.0800,   176.5001,       4276,  2695.2,   1.9234,  34.6701,  34.6698,2,    153.5,2,   153.6,2,  122.22,2,   34.74,2,    0.00,2,    2.46,2,   0.020,2,   0.019,2,-999.000,1,        0,2,  -999.0,9,  -999.0,9,-999.0000,9,  -999.00,-999.000,9,-999.0000,9, -999.00,9, -999.00,9,  -999.0,9,  -999.0,-999.000,9,-999.000,  -999.0,9,-999.000,-999.0000, -999.00,   1.7265,   1.9238,2,20091208,       0453
318M20091121,        P06,      61,          3,          5,          5,2,20091208,       0414,   -30.0800,   176.5001,       4276,  2951.4,   1.8714,  34.6758,  34.6754,2,    154.0,2,   154.2,2,  124.06,2,   34.84,2,    0.00,2,    2.47,2,   0.031,2,   0.027,2,-999.000,1,        0,2,  -999.0,9,  -999.0,9,-999.0000,9,  -999.00,-999.000,9,-999.0000,9, -999.00,9, -999.00,9,  -999.0,9,  -999.0,-999.000,9,-999.000,  -999.0,9,-999.000,-999.0000, -999.00,   1.6511,   1.8717,2,20091208,       0446
318M20091121,        P06,      61,          3,          4,          4,2,20091208,       0414,   -30.0800,   176.5001,       4276,  3245.3,   1.8493,  34.6794,  34.6795,2,    154.3,2,   154.5,2,  125.28,2,   34.84,2,    0.00,2,    2.46,2,   0.013,2,   0.013,2,-999.000,1,        0,2,  -999.0,9,  2404.5,2,   7.6575,4,    25.00,-999.000,9,-999.0000,9, -999.00,9, -999.00,9,  -999.0,9,  -999.0,-999.000,9,-999.000,  -999.0,9,-999.000,-999.0000, -999.00,   1.6005,   1.8495,2,20091208,       0439
318M20091121,        P06,      61,          3,          3,          3,2,20091208,       0414,   -30.0800,   176.5001,       4276,  3597.4,   1.8587,  34.6814,  34.6807,2,    154.4,2,   154.3,2,  126.08,2,   34.84,2,    0.00,2,    2.47,2,   0.009,2,   0.013,2,-999.000,1,        0,2,  -999.0,9,  -999.0,9,-999.0000,9,  -999.00,-999.000,9,-999.0000,9, -999.00,9, -999.00,9,  -999.0,9,  -999.0,-999.000,9,-999.000,  -999.0,9,-999.000,-999.0000, -999.00,   1.5733,   1.8589,2,20091208,       0431
318M20091121,        P06,      61,          3,          2,          2,2,20091208,       0414,   -30.0800,   176.5001,       4276,  3954.3,   1.8827,  34.6821,  34.6817,2,    154.4,2,   154.9,2,  126.48,2,   34.84,2,    0.00,2,    2.47,2,   0.008,2,   0.010,2,-999.000,1,        0,2,  -999.0,9,  -999.0,9,-999.0000,9,  -999.00,-999.000,9,-999.0000,9, -999.00,9, -999.00,9,  -999.0,9,  -999.0,-999.000,9,-999.000,  -999.0,9,-999.000,-999.0000, -999.00,   1.5581,   1.8825,2,20091208,       0423
318M20091121,        P06,      61,          3,          1,          1,2,20091208,       0414,   -30.0800,   176.5001,       4276,  4344.1,   1.9221,  34.6822,  34.6825,2,    155.3,2,   155.2,2, -999.00,5, -999.00,5, -999.00,5, -999.00,5,   0.006,2,   0.007,2,-999.000,1,        0,2,  -999.0,9,  2407.6,6,   7.5579,6,    25.00,-999.000,9,-999.0000,9, -999.00,9, -999.00,9,  -999.0,9,  -999.0,-999.000,9,-999.000,  -999.0,9,-999.000,-999.0000, -999.00,   1.5522,   1.9221,2,20091208,       0414