BOTTLE,20220818CCHSIOAMB
EXPOCODE,SECT_ID,STNNBR,CASTNO,SAMPNO,BTLNBR,BTLNBR_FLAG_W,DATE,TIME,LATITUDE,LONGITUDE,DEPTH,CTDPRS,CTDTMP,CTDSAL,SALNTY,SALNTY_FLAG_W,CTDOXY,CTDOXY_FLAG_W,OXYGEN,OXYGEN_FLAG_W,SILCAT,SILCAT_FLAG_W,NITRAT,NITRAT_FLAG_W,NITRIT,NITRIT_FLAG_W,PHSPHT,PHSPHT_FLAG_W,CFC-11,CFC-11_FLAG_W,CFC-12,CFC-12_FLAG_W,CFC113,CFC113_FLAG_W,SF6,SF6_FLAG_W,TCARBN,TCARBN_FLAG_W,ALKALI,ALKALI_FLAG_W,PH_SWS,PH_SWS_FLAG_W,PH_TMP,TRITUM,TRITUM_FLAG_W,HELIUM,HELIUM_FLAG_W,DELHE3,DELHE3_FLAG_W,DELC13,DELC13_FLAG_W,DELC14,DELC14_FLAG_W,C14ERR,NEON,NEON_FLAG_W,NEONER,DOC,DOC_FLAG_W,TRITER,HELIER,DELHER,THETA,SBE35,SBE35_FLAG_W,BTL_DATE,BTL_TIME
,,,,,,,,,,,METERS,DBAR,ITS-90,PSS-78,PSS-78,,UMOL/KG,,UMOL/KG,,UMOL/KG,,UMOL/KG,,UMOL/KG,,UMOL/KG,,PMOL/KG,,PMOL/KG,,PMOL/KG,,FMOL/KG,,UMOL/KG,,UMOL/KG,,,,DEG C,TU,,NMOL/KG,,PERCNT,,/MILLE,,/MILLE,,/MILLE,NMOL/KG,,NMOL/KG,UMOL/KG,,TU,NMOL/KG,PERCNT,DEG C,ITS-90,,,
318M20091121,        P06,     122,          1,         36,         36,2,20091228,       1155,   -32.4999,  -149.3000,       5536,     5.7,  21.7201,  35.3265,  35.3266,2,    222.2,2,   221.8,2,    0.20,2,    0.00,2,    0.00,2,    0.10,2,   1.931,2,   1.310,2,-999.000,1,     1.12,2,  2042.5,2,  2321.1,6,   7.9988,6,    25.00,-999.000,9,-999.0000,9, -999.00,9,    1.11,2,    73.4,2,     3.1,-999.000,9,-999.000,    60.1,2,-999.000,-999.0000, -999.00,  21.7190,  21.7183,2,20091228,       1437
318M20091121,        P06,     122,          1,         35,         35,2,20091228,       1155,   -32.4999,  -149.3000,       5536,    25.0,  19.8669,  35.1989,  35.1994,2,    231.9,2,   232.0,2,    0.14,2,    0.00,2,    0.00,2,    0.10,2,   2.123,6,   1.406,6,-999.000,1,   1.1635,6,  2040.8,3,  2316.9,2,   7.9918,2,    25.00,-999.000,9,-999.0000,9, -999.00,9, -999.00,9,  -999.0,9,  -999.0,-999.000,9,-999.000,    57.4,2,-999.000,-999.0000, -999.00,  19.8623,  19.8570,2,20091228,       1435
318M20091121,        P06,     122,          1,         34,         34,2,20091228,       1155,   -32.4999,  -149.3000,       5536,    51.2,  18.0242,  35.3108,  35.3122,2,    244.2,2,   243.5,2,    0.08,2,    0.00,2,    0.00,2,    0.10,2,   2.278,2,   1.526,2,-999.000,1,    1.322,2,  2046.8,2,  2319.1,2,   7.9918,2,    25.00,-999.000,9,-999.0000,9, -999.00,9, -999.00,9,  -999.0,9,  -999.0,-999.000,9,-999.000,    59.2,2,-999.000,-999.0000, -999.00,  18.0154,  18.0591,3,20091228,       1432
318M20091121,        P06,     122,          1,         33,         33,2,20091228,       1155,   -32.4999,  -149.3000,       5536,    75.2,  16.7219,  35.2879,  35.2890,2,    248.5,2,   249.5,2,    0.02,2,    0.00,2,    0.00,2,    0.11,2,   2.402,2,   1.594,2,-999.000,1,    1.357,2,  2049.1,2,  2316.8,2,   7.9873,2,    25.00,-999.000,9,-999.0000,9, -999.00,9, -999.00,9,  -999.0,9,  -999.0,-999.000,9,-999.000,    57.8,2,-999.000,-999.0000, -999.00,  16.7096,  16.7219,2,20091228,       1430
318M20091121,        P06,     122,          1,         32,         32,2,20091228,       1155,   -32.4999,  -149.3000,       5536,   101.2,  15.9025,  35.2338,  35.2345,2,    243.5,2,   242.4,2,   -0.05,2,    0.00,2,    0.00,2,    0.14,2,   2.454,2,   1.612,2,-999.000,1,    1.362,2,  2057.5,3,  2316.4,2,   7.9713,2,    25.00,-999.000,9,-999.0000,9, -999.00,9,    1.12,2,    61.0,3,     3.1,-999.000,9,-999.000,    58.6,2,-999.000,-999.0000, -999.00,  15.8866,  15.9008,2,20091228,       1428
318M20091121,        P06,     122,          1,         31,         31,2,20091228,       1155,   -32.4999,  -149.3000,       5536,   150.7,  15.1987,  35.1523,  35.1519,2,    234.9,2,   231.0,2,    0.10,2,    1.23,2,    0.27,2,    0.26,2,   2.480,2,   1.636,2,-999.000,1,    1.372,2,  2068.3,3,  2312.1,2,   7.9410,2,    25.00,-999.000,9,-999.0000,9, -999.00,9, -999.00,9,  -999.0,9,  -999.0,-999.000,9,-999.000,    53.2,2,-999.000,-999.0000, -999.00,  15.1757,  15.1984,2,20091228,       1425
318M20091121,        P06,     122,          1,         30,         30,2,20091228,       1155,   -32.4999,  -149.3000,       5536,   196.9,  14.2639,  35.1074,  35.1152,2,    209.6,2,   207.9,2,    0.84,2,    5.76,2,    0.01,2,    0.55,2,   2.588,2,   1.627,2,-999.000,1,    1.232,2,  2094.9,2,  2310.4,2,   7.8865,2,    25.00,-999.000,9,-999.0000,9, -999.00,9,    1.07,2,    71.2,2,     3.1,-999.000,9,-999.000,    47.5,2,-999.000,-999.0000, -999.00,  14.2350,  14.2798,3,20091228,       1422
318M20091121,        P06,     122,          1,         29,         29,2,20091228,       1155,   -32.4999,  -149.3000,       5536,   249.3,  12.3081,  34.8889,  34.8923,2,    204.3,2,   206.7,2,    1.58,2,   10.11,2,    0.01,2,    0.82,2,   2.752,2,   1.677,2,-999.000,1,     0.91,2,  2111.7,2,  2308.6,2,   7.8296,2,    25.00,-999.000,9,-999.0000,9, -999.00,9,    1.11,2,    63.1,2,     3.0,-999.000,9,-999.000,    47.6,2,-999.000,-999.0000, -999.00,  12.2750,  12.3143,2,20091228,       1419
318M20091121,        P06,     122,          1,         28,         28,2,20091228,       1155,   -32.4999,  -149.3000,       5536,   298.4,  10.6601,  34.7018,  34.7015,2,    213.8,2,   212.8,2,    2.34,2,   13.40,2,    0.00,2,    1.04,2,-999.000,5,-999.000,5,-999.000,1,-999.0000,5,  2121.3,2,  2291.6,2,   7.7851,2,    25.00,-999.000,9,-999.0000,9, -999.00,9,    1.16,2,    48.7,2,     2.8,-999.000,9,-999.000,    47.4,2,-999.000,-999.0000, -999.00,  10.6240,  10.6590,2,20091228,       1416
318M20091121,        P06,     122,          1,         27,         27,2,20091228,       1155,   -32.4999,  -149.3000,       5536,   348.8,   9.1605,  34.5573,  34.5628,2,    222.9,2,   222.6,2,    3.08,2,   16.18,2,    0.00,2,    1.20,2,   3.204,2,   1.853,2,-999.000,1,     1.02,2,  2129.3,2,  2287.8,2,   7.7637,2,    25.00,-999.000,9,-999.0000,9, -999.00,9,    1.21,2,    41.3,2,     2.8,-999.000,9,-999.000,    47.2,2,-999.000,-999.0000, -999.00,   9.1221,   9.1609,2,20091228,       1414
318M20091121,        P06,     122,          1,         26,         26,2,20091228,       1155,   -32.4999,  -149.3000,       5536,   401.6,   8.3111,  34.4837,  34.4789,2,    230.5,2,   232.0,2,    3.83,2,   18.19,2,    0.00,2,    1.32,2,   3.355,2,   1.896,2,-999.000,1,    1.054,2,  2133.8,2,  2284.4,2,   7.7511,2,    25.00,-999.000,9,-999.0000,9, -999.00,9,    1.25,2,    32.9,2,     3.0,-999.000,9,-999.000,    43.1,2,-999.000,-999.0000, -999.00,   8.2693,   8.3139,2,20091228,       1410
318M20091121,        P06,     122,          1,         25,         25,2,20091228,       1155,   -32.4999,  -149.3000,       5536,   502.3,   7.3444,  34.4082,  34.4077,2,    241.3,2,   240.9,2,    5.18,2,   20.42,2,    0.00,2,    1.47,2,   3.409,2,   1.872,2,-999.000,1,    0.613,2,  2137.4,2,  2283.6,2,   7.7390,2,    25.00,-999.000,9,-999.0000,9, -999.00,9,    1.29,2,    23.6,2,     3.9,-999.000,9,-999.000,    44.6,2,-999.000,-999.0000, -999.00,   7.2955,   7.3467,2,20091228,       1407
318M20091121,        P06,     122,          1,         24,         24,2,20091228,       1155,   -32.4999,  -149.3000,       5536,   605.2,   6.8022,  34.3683,  34.3686,2,    242.0,2,   242.3,2,    6.74,2,   21.93,2,    0.00,2,    1.56,2,   3.049,2,   1.633,2,-999.000,1,    0.505,2,  2140.0,2,  2282.9,2,   7.7330,2,    25.00,-999.000,9,-999.0000,9, -999.00,9,    1.33,2,    14.8,2,     2.8,-999.000,9,-999.000,  -999.0,9,-999.000,-999.0000, -999.00,   6.7453,   6.8040,2,20091228,       1403
318M20091121,        P06,     122,          1,         23,         23,2,20091228,       1155,   -32.4999,  -149.3000,       5536,   700.7,   6.4091,  34.3435,  34.3443,2,    238.4,2,   239.0,2,    8.50,2,   23.29,2,    0.00,2,    1.64,2,   2.526,2,   1.331,2,-999.000,1,     0.44,2,  2142.0,2,  2283.8,2,   7.7241,2,    25.00,-999.000,9,-999.0000,9, -999.00,9,    1.35,2,     5.8,2,     3.0,-999.000,9,-999.000,    41.5,2,-999.000,-999.0000, -999.00,   6.3449,   6.4122,2,20091228,       1358
318M20091121,        P06,     122,          1,         22,         22,2,20091228,       1155,   -32.4999,  -149.3000,       5536,   802.6,   5.8553,  34.3174,  34.3182,2,    231.0,2,   229.9,2,   12.29,2,   25.40,2,    0.00,2,    1.78,2,   1.899,2,   0.981,2,-999.000,1,    0.323,2,  2152.7,2,  2285.9,2,   7.7033,2,    25.00,-999.000,9,-999.0000,9, -999.00,9,    0.76,4,   -13.8,2,     2.7,-999.000,9,-999.000,  -999.0,9,-999.000,-999.0000, -999.00,   5.7846,   5.8565,2,20091228,       1354
318M20091121,        P06,     122,          1,         21,         21,2,20091228,       1155,   -32.4999,  -149.3000,       5536,   904.0,   5.2789,  34.3109,  34.3117,2,    215.7,2,   217.7,2,   18.31,2,   27.62,2,    0.00,2,    1.94,2,   1.249,2,   0.628,2,-999.000,1,    0.285,2,  2166.5,2,  2288.4,2,   7.6756,2,    25.00,-999.000,9,-999.0000,9, -999.00,9,    1.19,2,   -50.9,2,     3.0,-999.000,9,-999.000,    38.5,2,-999.000,-999.0000, -999.00,   5.2026,   5.2847,2,20091228,       1351
318M20091121,        P06,     122,          1,         20,         20,2,20091228,       1155,   -32.4999,  -149.3000,       5536,  1006.3,   4.6336,  34.3208,  34.3215,2,    203.6,2,   204.5,2,   27.18,2,   30.01,2,    0.00,2,    2.10,2,   0.763,2,   0.373,2,-999.000,1,    0.062,2,  2185.0,2,  2299.7,2,   7.6462,2,    25.00,-999.000,9,-999.0000,9, -999.00,9,    1.01,2,   -76.5,2,     3.0,-999.000,9,-999.000,  -999.0,9,-999.000,-999.0000, -999.00,   4.5528,   4.6336,2,20091228,       1347
318M20091121,        P06,     122,          1,         19,         19,2,20091228,       1155,   -32.4999,  -149.3000,       5536,  1108.1,   3.9808,  34.3507,  34.3508,2,    194.2,2,   194.1,2,   37.70,2,   31.91,2,    0.00,2,    2.23,2,   0.521,2,   0.255,2,-999.000,1,    0.074,2,  2203.7,6,  2306.5,2,   7.6187,2,    25.00,-999.000,9,-999.0000,9, -999.00,9,    0.13,4,  -136.0,4,     3.1,-999.000,9,-999.000,    38.4,2,-999.000,-999.0000, -999.00,   3.8965,   3.9856,2,20091228,       1343
318M20091121,        P06,     122,          1,         18,         18,2,20091228,       1155,   -32.4999,  -149.3000,       5536,  1204.2,   3.5444,  34.3882,  34.3889,2,    185.3,2,   184.7,2,   47.21,2,   33.01,2,    0.00,2,    2.32,2,   0.302,2,   0.151,2,-999.000,1,        0,2,  2217.9,2,  2317.1,2,   7.6000,2,    25.00,-999.000,9,-999.0000,9, -999.00,9,    0.81,2,  -119.1,2,     2.4,-999.000,9,-999.000,  -999.0,9,-999.000,-999.0000, -999.00,   3.4559,   3.5434,2,20091228,       1340
318M20091121,        P06,     122,          1,         17,         17,2,20091228,       1155,   -32.4999,  -149.3000,       5536,  1310.3,   3.1488,  34.4423,  34.4428,2,    176.7,2,   176.1,2,   58.17,2,   33.86,2,    0.00,2,    2.38,2,   0.157,2,   0.083,2,-999.000,1,        0,2,  2234.0,2,  2327.6,2,   7.5934,4,    25.00,-999.000,9,-999.0000,9, -999.00,9,    0.64,2,  -135.5,2,     2.7,-999.000,9,-999.000,    37.3,2,-999.000,-999.0000, -999.00,   3.0553,   3.1488,2,20091228,       1336
318M20091121,        P06,     122,          1,         16,         16,2,20091228,       1155,   -32.4999,  -149.3000,       5536,  1413.8,   2.8797,  34.4964,  34.4969,2,    169.4,2,   169.4,2,   68.75,2,   34.26,2,    0.00,2,    2.42,2,   0.078,2,   0.045,2,-999.000,1,        0,2,  2247.0,2,  2339.7,2,   7.5794,2,    25.00,-999.000,9,-999.0000,9, -999.00,9,    0.63,2,  -161.7,2,     2.4,-999.000,9,-999.000,  -999.0,9,-999.000,-999.0000, -999.00,   2.7805,   2.8816,2,20091228,       1332
318M20091121,        P06,     122,          1,         15,         15,2,20091228,       1155,   -32.4999,  -149.3000,       5536,  1616.9,   2.5517,  34.5744,  34.5748,2,    159.8,2,   159.9,2,   87.57,2,   34.71,2,    0.00,2,    2.45,2,   0.021,2,   0.015,2,-999.000,1,        0,2,  2269.9,2,  2363.2,2,   7.5788,2,    25.00,-999.000,9,-999.0000,9, -999.00,9,    0.50,2,  -180.3,2,     2.4,-999.000,9,-999.000,    37.5,2,-999.000,-999.0000, -999.00,   2.4395,   2.5519,2,20091228,       1327
318M20091121,        P06,     122,          1,         14,         14,2,20091228,       1155,   -32.4999,  -149.3000,       5536,  1815.4,   2.3308,  34.6125,  34.6125,2,    154.5,2,   155.5,2,  100.48,2,   35.01,2,    0.00,2,    2.48,2,   0.016,2,   0.013,2,-999.000,1,        0,2,  2285.1,2,  2378.6,2,   7.5761,2,    25.00,-999.000,9,-999.0000,9, -999.00,9,    0.43,2,  -201.5,2,     2.2,-999.000,9,-999.000,  -999.0,9,-999.000,-999.0000, -999.00,   2.2050,   2.3313,2,20091228,       1322
318M20091121,        P06,     122,          1,         13,         13,2,20091228,       1155,   -32.4999,  -149.3000,       5536,  2019.6,   2.1568,  34.6349,  34.6358,2,    152.2,2,   152.6,2,  110.13,2,   35.05,2,    0.00,2,    2.49,2,   0.020,2,   0.013,2,-999.000,1,        0,2,  2296.9,2,  2391.9,2,   7.5758,2,    25.00,-999.000,9,-999.0000,9, -999.00,9,    0.35,2,  -207.4,2,     2.2,-999.000,9,-999.000,    37.0,2,-999.000,-999.0000, -999.00,   2.0163,   2.1566,2,20091228,       1317
318M20091121,        P06,     122,          1,         12,         12,2,20091228,       1155,   -32.4999,  -149.3000,       5536,  2270.8,   1.9839,  34.6508,  34.6511,2,    151.1,2,   151.1,2,  118.35,2,   35.40,2,    0.00,2,    2.51,2,   0.012,2,   0.009,2,-999.000,1,        0,2,  2304.7,2,  2396.8,2,   7.5774,2,    25.00,-999.000,9,-999.0000,9, -999.00,9,    0.29,2,  -219.8,2,     2.2,-999.000,9,-999.000,  -999.0,9,-999.000,-999.0000, -999.00,   1.8244,   1.9838,2,20091228,       1311
318M20091121,        P06,     122,          1,         11,         11,2,20091228,       1155,   -32.4999,  -149.3000,       5536,  2529.5,   1.8603,  34.6608,  34.6578,3,    151.4,2,   151.3,2,  123.90,2,   35.50,2,    0.00,2,    2.51,2,   0.012,2,   0.008,2,-999.000,1,        0,2,  2309.3,2,  2402.1,6,   7.5792,2,    25.00,-999.000,9,-999.0000,9, -999.00,9,    0.22,2,  -223.3,2,     2.2,-999.000,9,-999.000,    36.2,2,-999.000,-999.0000, -999.00,   1.6799,   1.8604,2,20091228,       1305
318M20091121,        P06,     122,          1,         10,         10,2,20091228,       1155,   -32.4999,  -149.3000,       5536,  2784.7,   1.7721,  34.6688,  34.6692,2,    154.1,2,   153.9,2,  126.33,2,   35.29,2,    0.00,2,    2.50,2,   0.015,2,   0.011,2,-999.000,1,        0,2,  2309.8,2,  2389.3,4,   7.5814,2,    25.00,-999.000,9,-999.0000,9, -999.00,9,    0.18,2,  -219.1,2,     2.2,-999.000,9,-999.000,  -999.0,9,-999.000,-999.0000, -999.00,   1.5698,   1.7724,2,20091228,       1258
318M20091121,        P06,     122,          1,          9,          9,2,20091228,       1155,   -32.4999,  -149.3000,       5536,  3038.0,   1.6834,  34.6772,  34.6767,2,    159.2,2,   158.7,2,  126.28,2,   34.93,2,    0.00,2,    2.47,2,   0.013,2,   0.009,2,-999.000,1,        0,2,  2305.9,2,  2402.4,2,   7.5856,2,    25.00,-999.000,9,-999.0000,9, -999.00,9,    0.34,2,  -212.3,2,     2.2,-999.000,9,-999.000,    36.9,2,-999.000,-999.0000, -999.00,   1.4589,   1.6839,2,20091228,       1252
318M20091121,        P06,     122,          1,          8,          8,2,20091228,       1155,   -32.4999,  -149.3000,       5536,  3340.3,   1.5670,  34.6886,  34.6887,2,    169.0,2,   169.2,2,  123.74,2,   34.27,2,    0.00,2,    2.42,2,   0.012,2,   0.007,2,-999.000,1,        0,2,  2296.6,2,  2394.4,2,   7.5947,2,    25.00,-999.000,9,-999.0000,9, -999.00,9, -999.00,9,  -999.0,9,     9.0,-999.000,9,-999.000,  -999.0,9,-999.000,-999.0000, -999.00,   1.3153,   1.5668,2,20091228,       1246
318M20091121,        P06,     122,          1,          7,          7,2,20091228,       1155,   -32.4999,  -149.3000,       5536,  3651.8,   1.4471,  34.6967,  34.6962,2,    179.8,2,   179.3,2,  120.99,2,   33.50,2,    0.00,2,    2.36,2,   0.022,2,   0.015,2,-999.000,1,        0,2,  2286.6,2,  2388.9,2,   7.6020,2,    25.00,-999.000,9,-999.0000,9, -999.00,9, -999.00,9,  -999.0,9,  -999.0,-999.000,9,-999.000,    36.8,2,-999.000,-999.0000, -999.00,   1.1665,   1.4478,2,20091228,       1239
318M20091121,        P06,     122,          1,          6,          6,2,20091228,       1155,   -32.4999,  -149.3000,       5536,  3956.7,   1.3392,  34.7017,  34.7015,2,    186.9,2,   187.4,2,  119.49,2,   32.94,2,    0.00,2,    2.32,2,   0.014,2,   0.010,2,-999.000,1,        0,2,  2279.2,2,  2385.5,2,   7.6032,2,    25.00,-999.000,9,-999.0000,9, -999.00,9, -999.00,9,  -999.0,9,     9.0,-999.000,9,-999.000,  -999.0,9,-999.000,-999.0000, -999.00,   1.0293,   1.3401,2,20091228,       1232
318M20091121,        P06,     122,          1,          5,         37,2,20091228,       1155,   -32.4999,  -149.3000,       5536,  4260.8,   1.2896,  34.7044,  34.7039,2,    191.5,2,   192.0,2,  119.02,2,   32.58,2,    0.00,2,    2.30,2,   0.019,2,   0.012,2,-999.000,1,        0,2,  2274.9,2,  -999.0,9,-999.0000,9,  -999.00,-999.000,9,-999.0000,9, -999.00,9, -999.00,9,  -999.0,9,  -999.0,-999.000,9,-999.000,    37.9,2,-999.000,-999.0000, -999.00,   0.9479,   1.2899,2,20091228,       1225
318M20091121,        P06,     122,          1,          4,          4,2,20091228,       1155,   -32.4999,  -149.3000,       5536,  4570.9,   1.2362,  34.7081,  34.7075,2,    197.0,2,   197.5,2,  117.73,2,   32.22,2,    0.00,2,    2.27,2,   0.043,2,   0.027,2,-999.000,1,        0,2,  2269.5,2,  2373.3,2,   7.6143,2,    25.00,-999.000,9,-999.0000,9, -999.00,9,    0.48,2,  -180.2,2,     2.3,-999.000,9,-999.000,  -999.0,9,-999.000,-999.0000, -999.00,   0.8611,   1.2363,2,20091228,       1219
318M20091121,        P06,     122,          1,          3,          3,2,20091228,       1155,   -32.4999,  -149.3000,       5536,  4883.2,   1.1787,  34.7096,  34.7091,2,    201.6,2,   201.0,2,  118.09,2,   32.02,2,    0.00,2,    2.25,2,   0.040,2,   0.024,2,-999.000,1,        0,2,  2267.1,2,  2375.1,2,   7.6167,2,    25.00,-999.000,9,-999.0000,9, -999.00,9,    0.48,2,  -175.1,2,     2.4,-999.000,9,-999.000,    37.3,2,-999.000,-999.0000, -999.00,   0.7690,   1.1792,2,20091228,       1212
318M20091121,        P06,     122,          1,          2,          2,2,20091228,       1155,   -32.4999,  -149.3000,       5536,  5191.1,   1.1845,  34.7101,  34.7093,2,    202.8,2,   203.1,2,  118.03,2,   31.97,2,    0.00,2,    2.25,2,   0.047,2,   0.029,2,-999.000,1,        0,2,  2264.7,2,  2370.6,2,   7.6177,2,    25.00,-999.000,9,-999.0000,9, -999.00,9,    0.49,2,  -172.5,2,     2.8,-999.000,9,-999.000,  -999.0,9,-999.000,-999.0000, -999.00,   0.7376,   1.1848,2,20091228,       1205
318M20091121,        P06,     122,          1,          1,          1,2,20091228,       1155,   -32.4999,  -149.3000,       5536,  5671.6,   1.2401,  34.7098,  34.7099,2,    203.4,2,   203.1,2,  118.19,2,   31.91,2,    0.00,2,    2.25,2,   0.038,2,   0.022,2,-999.000,1,        0,2,  2266.7,6,  2376.9,6,   7.6200,6,    25.00,-999.000,9,-999.0000,9, -999.00,9,    0.46,2,  -181.7,2,     2.5,-999.000,9,-999.000,    38.5,2,-999.000,-999.0000, -999.00,   0.7309,   1.2400,2,20091228,       1155