BOTTLE,20220818CCHSIOAMB
EXPOCODE,SECT_ID,STNNBR,CASTNO,SAMPNO,BTLNBR,BTLNBR_FLAG_W,DATE,TIME,LATITUDE,LONGITUDE,DEPTH,CTDPRS,CTDTMP,CTDSAL,SALNTY,SALNTY_FLAG_W,CTDOXY,CTDOXY_FLAG_W,OXYGEN,OXYGEN_FLAG_W,SILCAT,SILCAT_FLAG_W,NITRAT,NITRAT_FLAG_W,NITRIT,NITRIT_FLAG_W,PHSPHT,PHSPHT_FLAG_W,CFC-11,CFC-11_FLAG_W,CFC-12,CFC-12_FLAG_W,CFC113,CFC113_FLAG_W,SF6,SF6_FLAG_W,TCARBN,TCARBN_FLAG_W,ALKALI,ALKALI_FLAG_W,PH_SWS,PH_SWS_FLAG_W,PH_TMP,TRITUM,TRITUM_FLAG_W,HELIUM,HELIUM_FLAG_W,DELHE3,DELHE3_FLAG_W,DELC13,DELC13_FLAG_W,DELC14,DELC14_FLAG_W,C14ERR,NEON,NEON_FLAG_W,NEONER,DOC,DOC_FLAG_W,TRITER,HELIER,DELHER,THETA,SBE35,SBE35_FLAG_W,BTL_DATE,BTL_TIME
,,,,,,,,,,,METERS,DBAR,ITS-90,PSS-78,PSS-78,,UMOL/KG,,UMOL/KG,,UMOL/KG,,UMOL/KG,,UMOL/KG,,UMOL/KG,,PMOL/KG,,PMOL/KG,,PMOL/KG,,FMOL/KG,,UMOL/KG,,UMOL/KG,,,,DEG C,TU,,NMOL/KG,,PERCNT,,/MILLE,,/MILLE,,/MILLE,NMOL/KG,,NMOL/KG,UMOL/KG,,TU,NMOL/KG,PERCNT,DEG C,ITS-90,,,
318M20091121,        P06,      81,          2,         36,         36,2,20091213,       1125,   -32.5000,  -176.2501,       5876,     4.7,  21.5448,  35.6204,  35.6196,2,    227.1,2,   226.4,2,    0.64,2,    0.00,2,    0.00,2,    0.11,2,   2.063,2,   1.233,2,-999.000,1,    1.183,2,  2049.0,6,  2337.1,2,   8.0207,2,    25.00,-999.000,9,-999.0000,9, -999.00,9, -999.00,9,  -999.0,9,  -999.0,-999.000,9,-999.000,  -999.0,9,-999.000,-999.0000, -999.00,  21.5439,  21.5447,2,20091213,       1410
318M20091121,        P06,      81,          2,         35,         35,2,20091213,       1125,   -32.5000,  -176.2501,       5876,    35.7,  17.9784,  35.5473,  35.5408,2,    248.3,2,   249.2,2,    0.63,2,    0.00,2,    0.00,2,    0.12,2,   2.357,2,   1.392,2,-999.000,1,    1.183,2,  -999.0,9,  2331.5,6,   8.0189,6,    25.00,-999.000,9,-999.0000,9, -999.00,9, -999.00,9,  -999.0,9,  -999.0,-999.000,9,-999.000,  -999.0,9,-999.000,-999.0000, -999.00,  17.9723,  17.9824,2,20091213,       1407
318M20091121,        P06,      81,          2,         34,         34,2,20091213,       1125,   -32.5000,  -176.2501,       5876,    61.0,  16.6688,  35.5133,  35.5127,2,    246.2,2,   241.1,2,    0.97,2,    0.51,2,    0.07,2,    0.19,2,   2.399,6,   1.391,6,-999.000,1,    1.185,6,  -999.0,9,  -999.0,9,-999.0000,9,  -999.00,-999.000,9,-999.0000,9, -999.00,9, -999.00,9,  -999.0,9,  -999.0,-999.000,9,-999.000,  -999.0,9,-999.000,-999.0000, -999.00,  16.6589,  16.6678,2,20091213,       1405
318M20091121,        P06,      81,          2,         33,         33,2,20091213,       1125,   -32.5000,  -176.2501,       5876,    86.4,  16.1687,  35.4959,  35.4955,2,    222.7,2,   222.7,2,    1.32,2,    3.58,2,    0.04,2,    0.37,2,   2.421,2,   1.405,2,-999.000,1,    1.191,2,  -999.0,9,  2327.3,2,   7.9509,2,    25.00,-999.000,9,-999.0000,9, -999.00,9, -999.00,9,  -999.0,9,  -999.0,-999.000,9,-999.000,  -999.0,9,-999.000,-999.0000, -999.00,  16.1549,  16.1658,2,20091213,       1403
318M20091121,        P06,      81,          2,         32,         32,2,20091213,       1125,   -32.5000,  -176.2501,       5876,   116.9,  15.6945,  35.4824,  35.4785,2,    216.3,2,   222.3,2,    1.29,2,    3.92,2,    0.02,2,    0.39,2,   2.442,2,   1.402,2,-999.000,1,    1.192,2,  -999.0,9,  -999.0,9,-999.0000,9,  -999.00,-999.000,9,-999.0000,9, -999.00,9, -999.00,9,  -999.0,9,  -999.0,-999.000,9,-999.000,  -999.0,9,-999.000,-999.0000, -999.00,  15.6762,  15.6934,2,20091213,       1400
318M20091121,        P06,      81,          2,         31,         31,2,20091213,       1125,   -32.5000,  -176.2501,       5876,   162.3,  15.0925,  35.4061,  35.4035,2,    217.1,2,   216.2,2,    1.84,2,    5.84,2,    0.01,2,    0.51,2,   2.447,2,   1.408,2,-999.000,1,    1.203,2,  -999.0,9,  2322.4,2,   7.9084,2,    25.00,-999.000,9,-999.0000,9, -999.00,9, -999.00,9,  -999.0,9,  -999.0,-999.000,9,-999.000,  -999.0,9,-999.000,-999.0000, -999.00,  15.0678,  15.0974,2,20091213,       1358
318M20091121,        P06,      81,          2,         30,         30,2,20091213,       1125,   -32.5000,  -176.2501,       5876,   212.6,  14.0589,  35.3077,  35.3060,2,    215.8,2,   219.3,2,    2.37,2,    7.31,2,    0.01,2,    0.61,2,   2.544,2,   1.448,2,-999.000,1,    1.138,2,  -999.0,9,  -999.0,9,-999.0000,9,  -999.00,-999.000,9,-999.0000,9, -999.00,9, -999.00,9,  -999.0,9,  -999.0,-999.000,9,-999.000,  -999.0,9,-999.000,-999.0000, -999.00,  14.0280,  14.0710,2,20091213,       1355
318M20091121,        P06,      81,          2,         29,         29,2,20091213,       1125,   -32.5000,  -176.2501,       5876,   263.4,  13.2342,  35.1963,  35.1967,2,    219.2,2,   217.6,2,    2.54,2,    8.49,2,    0.01,2,    0.68,2,   2.648,2,   1.489,2,-999.000,1,    1.208,2,  -999.0,9,  2314.3,2,   7.8288,2,    25.00,-999.000,9,-999.0000,9, -999.00,9, -999.00,9,  -999.0,9,  -999.0,-999.000,9,-999.000,  -999.0,9,-999.000,-999.0000, -999.00,  13.1974,  13.2325,2,20091213,       1352
318M20091121,        P06,      81,          2,         28,         28,2,20091213,       1125,   -32.5000,  -176.2501,       5876,   314.2,  12.3089,  35.0631,  35.0622,2,    206.6,2,   206.1,2,    3.66,2,   12.16,2,    0.00,2,    0.90,2,   2.635,2,   1.485,2,-999.000,1,    0.983,2,  -999.0,9,  -999.0,9,-999.0000,9,  -999.00,-999.000,9,-999.0000,9, -999.00,9, -999.00,9,  -999.0,9,  -999.0,-999.000,9,-999.000,  -999.0,9,-999.000,-999.0000, -999.00,  12.2670,  12.3049,2,20091213,       1350
318M20091121,        P06,      81,          2,         27,         27,2,20091213,       1125,   -32.5000,  -176.2501,       5876,   365.2,  11.3522,  34.9402,  34.9388,2,    205.4,2,   205.9,2,    4.57,2,   14.23,2,    0.00,2,    1.03,2,   2.642,2,   1.424,2,-999.000,1,    0.804,2,  -999.0,9,  2301.6,2,   7.8066,2,    25.00,-999.000,9,-999.0000,9, -999.00,9, -999.00,9,  -999.0,9,  -999.0,-999.000,9,-999.000,  -999.0,9,-999.000,-999.0000, -999.00,  11.3059,  11.3522,2,20091213,       1347
318M20091121,        P06,      81,          2,         26,         26,2,20091213,       1125,   -32.5000,  -176.2501,       5876,   436.7,  10.2612,  34.7917,  34.7888,2,    203.9,2,   205.0,2,    5.50,2,   16.88,2,    0.01,2,    1.20,2,   2.602,2,   1.374,2,-999.000,1,    0.693,2,  -999.0,9,  -999.0,9,-999.0000,9,  -999.00,-999.000,9,-999.0000,9, -999.00,9, -999.00,9,  -999.0,9,  -999.0,-999.000,9,-999.000,  -999.0,9,-999.000,-999.0000, -999.00,  10.2092,  10.2655,2,20091213,       1344
318M20091121,        P06,      81,          2,         25,         25,2,20091213,       1125,   -32.5000,  -176.2501,       5876,   537.6,   8.8595,  34.6160,  34.6151,2,    210.4,2,   212.2,2,    6.81,2,   19.45,2,    0.00,2,    1.37,2,   2.628,2,   1.335,2,-999.000,1,    0.589,2,  -999.0,9,  2292.0,2,   7.7383,2,    25.00,-999.000,9,-999.0000,9, -999.00,9, -999.00,9,  -999.0,9,  -999.0,-999.000,9,-999.000,  -999.0,9,-999.000,-999.0000, -999.00,   8.8008,   8.8599,2,20091213,       1341
318M20091121,        P06,      81,          2,         24,         24,2,20091213,       1125,   -32.5000,  -176.2501,       5876,   640.3,   7.8305,  34.5028,  34.5030,2,    220.7,2,   218.2,2,    8.31,2,   21.52,2,    0.00,2,    1.51,2,   2.548,2,   1.269,2,-999.000,1,    0.473,2,  -999.0,9,  -999.0,9,-999.0000,9,  -999.00,-999.000,9,-999.0000,9, -999.00,9, -999.00,9,  -999.0,9,  -999.0,-999.000,9,-999.000,  -999.0,9,-999.000,-999.0000, -999.00,   7.7651,   7.8323,2,20091213,       1338
318M20091121,        P06,      81,          2,         23,         23,2,20091213,       1125,   -32.5000,  -176.2501,       5876,   741.7,   7.0766,  34.4386,  34.4391,2,    219.9,2,   219.0,2,   10.77,2,   23.38,2,    0.00,2,    1.62,2,   2.153,2,   1.052,2,-999.000,1,    0.203,2,  -999.0,9,  2290.6,2,   7.7149,2,    25.00,-999.000,9,-999.0000,9, -999.00,9, -999.00,9,  -999.0,9,  -999.0,-999.000,9,-999.000,  -999.0,9,-999.000,-999.0000, -999.00,   7.0046,   7.0780,2,20091213,       1334
318M20091121,        P06,      81,          2,         22,         22,2,20091213,       1125,   -32.5000,  -176.2501,       5876,   838.7,   6.4230,  34.3915,  34.3912,2,    214.2,2,   215.9,2,   13.81,2,   25.19,2,    0.00,2,    1.75,2,   1.710,2,   0.828,2,-999.000,1,    0.168,2,  -999.0,9,  2287.2,2,   7.7091,2,    25.00,-999.000,9,-999.0000,9, -999.00,9, -999.00,9,  -999.0,9,  -999.0,-999.000,9,-999.000,  -999.0,9,-999.000,-999.0000, -999.00,   6.3452,   6.4228,2,20091213,       1331
318M20091121,        P06,      81,          2,         21,         21,2,20091213,       1125,   -32.5000,  -176.2501,       5876,   939.7,   5.8955,  34.3772,  34.3764,2,    205.5,2,   208.9,2,   18.78,2,   26.91,2,    0.00,2,    1.87,2,   1.244,2,   0.606,2,-999.000,1,    0.114,2,  -999.0,9,  2291.5,6,   7.6941,2,    25.00,-999.000,9,-999.0000,9, -999.00,9, -999.00,9,  -999.0,9,  -999.0,-999.000,9,-999.000,  -999.0,9,-999.000,-999.0000, -999.00,   5.8114,   5.9013,2,20091213,       1327
318M20091121,        P06,      81,          2,         20,         20,2,20091213,       1125,   -32.5000,  -176.2501,       5876,  1042.2,   5.1900,  34.3772,  34.3768,2,    197.2,2,   198.1,2,   27.63,2,   29.05,2,    0.00,2,    2.02,2,   0.768,2,   0.374,2,-999.000,1,    0.079,2,  -999.0,9,  2299.2,2,   7.6303,2,    25.00,-999.000,9,-999.0000,9, -999.00,9, -999.00,9,  -999.0,9,  -999.0,-999.000,9,-999.000,  -999.0,9,-999.000,-999.0000, -999.00,   5.1016,   5.1916,2,20091213,       1323
318M20091121,        P06,      81,          2,         19,         19,2,20091213,       1125,   -32.5000,  -176.2501,       5876,  1143.9,   4.4582,  34.3925,  34.3920,2,    189.4,2,   188.5,2,   38.66,2,   30.89,2,    0.00,2,    2.16,2,   0.430,2,   0.220,2,-999.000,1,        0,2,  -999.0,9,  2309.4,2,   7.6281,2,    25.00,-999.000,9,-999.0000,9, -999.00,9, -999.00,9,  -999.0,9,  -999.0,-999.000,9,-999.000,  -999.0,9,-999.000,-999.0000, -999.00,   4.3666,   4.4582,2,20091213,       1320
318M20091121,        P06,      81,          2,         18,         18,2,20091213,       1125,   -32.5000,  -176.2501,       5876,  1246.3,   3.9143,  34.4160,  34.4156,2,    181.3,2,   181.5,2,   48.19,2,   32.13,2,    0.00,2,    2.26,2,   0.245,2,   0.130,2,-999.000,1,        0,2,  -999.0,9,  -999.0,9,-999.0000,9,  -999.00,-999.000,9,-999.0000,9, -999.00,9, -999.00,9,  -999.0,9,  -999.0,-999.000,9,-999.000,  -999.0,9,-999.000,-999.0000, -999.00,   3.8187,   3.9170,2,20091213,       1316
318M20091121,        P06,      81,          2,         17,         17,2,20091213,       1125,   -32.5000,  -176.2501,       5876,  1348.2,   3.4794,  34.4566,  34.4553,2,    173.5,2,   174.0,2,   59.33,2,   33.05,2,    0.00,2,    2.33,2,   0.142,2,   0.079,2,-999.000,1,        0,2,  -999.0,9,  -999.0,9,-999.0000,9,  -999.00,-999.000,9,-999.0000,9, -999.00,9, -999.00,9,  -999.0,9,  -999.0,-999.000,9,-999.000,  -999.0,9,-999.000,-999.0000, -999.00,   3.3793,   3.4792,2,20091213,       1312
318M20091121,        P06,      81,          2,         16,         16,2,20091213,       1125,   -32.5000,  -176.2501,       5876,  1475.4,   3.1077,  34.5099,  34.5101,2,    165.4,2,   165.8,2,   72.70,2,   33.74,2,    0.00,2,    2.39,2,   0.067,2,   0.043,2,-999.000,1,        0,2,  -999.0,9,  2347.2,2,   7.5846,2,    25.00,-999.000,9,-999.0000,9, -999.00,9, -999.00,9,  -999.0,9,  -999.0,-999.000,9,-999.000,  -999.0,9,-999.000,-999.0000, -999.00,   3.0008,   3.1070,2,20091213,       1307
318M20091121,        P06,      81,          2,         15,         15,2,20091213,       1125,   -32.5000,  -176.2501,       5876,  1680.7,   2.7291,  34.5686,  34.5682,2,    157.5,2,   158.1,2,   89.10,2,   34.35,2,    0.00,2,    2.43,2,   0.024,2,   0.017,2,-999.000,1,        0,2,  -999.0,9,  -999.0,9,-999.0000,9,  -999.00,-999.000,9,-999.0000,9, -999.00,9, -999.00,9,  -999.0,9,  -999.0,-999.000,9,-999.000,  -999.0,9,-999.000,-999.0000, -999.00,   2.6094,   2.7294,2,20091213,       1302
318M20091121,        P06,      81,          2,         14,         14,2,20091213,       1125,   -32.5000,  -176.2501,       5876,  1883.8,   2.4938,  34.6034,  34.6024,2,    153.0,2,   153.3,2,  101.60,2,   34.72,2,    0.00,2,    2.46,2,   0.016,2,   0.012,2,-999.000,1,        0,2,  -999.0,9,  -999.0,9,-999.0000,9,  -999.00,-999.000,9,-999.0000,9, -999.00,9, -999.00,9,  -999.0,9,  -999.0,-999.000,9,-999.000,  -999.0,9,-999.000,-999.0000, -999.00,   2.3600,   2.4937,2,20091213,       1257
318M20091121,        P06,      81,          2,         13,         13,2,20091213,       1125,   -32.5000,  -176.2501,       5876,  2096.2,   2.3345,  34.6236,  34.6234,2,    150.9,2,   150.9,2,  109.74,2,   34.90,2,    0.00,2,    2.48,2,   0.006,2,   0.008,2,-999.000,1,        0,2,  -999.0,9,  2390.7,2,   7.5648,2,    25.00,-999.000,9,-999.0000,9, -999.00,9, -999.00,9,  -999.0,9,  -999.0,-999.000,9,-999.000,  -999.0,9,-999.000,-999.0000, -999.00,   2.1846,   2.3356,2,20091213,       1252
318M20091121,        P06,      81,          2,         12,         12,2,20091213,       1125,   -32.5000,  -176.2501,       5876,  2361.4,   2.1948,  34.6384,  34.6382,2,    150.1,2,   149.7,2,  115.71,2,   35.05,2,    0.00,2,    2.49,2,   0.015,2,   0.013,2,-999.000,1,        0,2,  -999.0,9,  -999.0,9,-999.0000,9,  -999.00,-999.000,9,-999.0000,9, -999.00,9, -999.00,9,  -999.0,9,  -999.0,-999.000,9,-999.000,  -999.0,9,-999.000,-999.0000, -999.00,   2.0236,   2.1949,2,20091213,       1245
318M20091121,        P06,      81,          2,         11,         11,2,20091213,       1125,   -32.5000,  -176.2501,       5876,  2615.1,   2.0647,  34.6504,  34.6504,2,    149.9,2,   149.3,2,  120.49,2,   35.19,2,    0.00,2,    2.50,2,   0.026,2,   0.018,2,-999.000,1,        0,2,  -999.0,9,  -999.0,9,-999.0000,9,  -999.00,-999.000,9,-999.0000,9, -999.00,9, -999.00,9,  -999.0,9,  -999.0,-999.000,9,-999.000,  -999.0,9,-999.000,-999.0000, -999.00,   1.8725,   2.0646,2,20091213,       1239
318M20091121,        P06,      81,          2,         10,         10,2,20091213,       1125,   -32.5000,  -176.2501,       5876,  2869.7,   1.8800,  34.6780,  34.6776,2,    160.8,2,   160.5,2,  118.27,2,   34.16,2,    0.00,2,    2.42,2,   0.016,2,   0.011,2,-999.000,1,        0,2,  -999.0,9,  2389.0,2,   7.5813,2,    25.00,-999.000,9,-999.0000,9, -999.00,9, -999.00,9,  -999.0,9,  -999.0,-999.000,9,-999.000,  -999.0,9,-999.000,-999.0000, -999.00,   1.6674,   1.8797,2,20091213,       1233
318M20091121,        P06,      81,          2,          9,          9,2,20091213,       1125,   -32.5000,  -176.2501,       5876,  3141.6,   1.6890,  34.7143,  34.7134,2,    184.5,2,   184.7,2,  105.87,2,   32.04,2,    0.00,2,    2.26,2,   0.041,2,   0.022,2,-999.000,1,        0,2,  -999.0,9,  -999.0,9,-999.0000,9,  -999.00,-999.000,9,-999.0000,9, -999.00,9, -999.00,9,  -999.0,9,  -999.0,-999.000,9,-999.000,  -999.0,9,-999.000,-999.0000, -999.00,   1.4540,   1.6882,2,20091213,       1227
318M20091121,        P06,      81,          2,          8,          8,2,20091213,       1125,   -32.5000,  -176.2501,       5876,  3445.2,   1.4275,  34.7227,  34.7222,2,    196.2,2,   196.2,2,  107.85,2,   31.39,2,    0.00,2,    2.21,2,   0.060,2,   0.034,2,-999.000,1,        0,2,  -999.0,9,  -999.0,9,-999.0000,9,  -999.00,-999.000,9,-999.0000,9, -999.00,9, -999.00,9,  -999.0,9,  -999.0,-999.000,9,-999.000,  -999.0,9,-999.000,-999.0000, -999.00,   1.1685,   1.4271,2,20091213,       1220
318M20091121,        P06,      81,          2,          7,          7,2,20091213,       1125,   -32.5000,  -176.2501,       5876,  3753.2,   1.2082,  34.7186,  34.7183,2,    201.8,2,   201.7,2,  113.22,2,   31.49,2,    0.00,2,    2.21,2,   0.061,2,   0.034,2,-999.000,1,        0,2,  -999.0,9,  2365.2,2,   7.6335,2,    25.00,-999.000,9,-999.0000,9, -999.00,9, -999.00,9,  -999.0,9,  -999.0,-999.000,9,-999.000,  -999.0,9,-999.000,-999.0000, -999.00,   0.9233,   1.2081,2,20091213,       1213
318M20091121,        P06,      81,          2,          6,          6,2,20091213,       1125,   -32.5000,  -176.2501,       5876,  4060.7,   1.0993,  34.7143,  34.7138,2,    204.4,2,   204.3,2,  116.80,2,   31.58,2,    0.00,2,    2.22,2,   0.088,2,   0.048,2,-999.000,1,        0,2,  -999.0,9,  -999.0,9,-999.0000,9,  -999.00,-999.000,9,-999.0000,9, -999.00,9, -999.00,9,  -999.0,9,  -999.0,-999.000,9,-999.000,  -999.0,9,-999.000,-999.0000, -999.00,   0.7850,   1.0992,2,20091213,       1206
318M20091121,        P06,      81,          2,          5,          5,2,20091213,       1125,   -32.5000,  -176.2501,       5876,  4370.1,   1.0466,  34.7116,  34.7108,2,    205.8,2,   205.7,2,  118.99,2,   31.68,2,    0.00,2,    2.22,2,   0.078,2,   0.042,2,-999.000,1,        0,2,  -999.0,9,  -999.0,9,-999.0000,9,  -999.00,-999.000,9,-999.0000,9, -999.00,9, -999.00,9,  -999.0,9,  -999.0,-999.000,9,-999.000,  -999.0,9,-999.000,-999.0000, -999.00,   0.7001,   1.0469,2,20091213,       1158
318M20091121,        P06,      81,          2,          4,          4,2,20091213,       1125,   -32.5000,  -176.2501,       5876,  4678.4,   1.0361,  34.7099,  34.7087,2,    206.4,2,   206.5,2,  120.36,2,   31.76,2,    0.00,2,    2.23,2,   0.087,2,   0.052,2,-999.000,1,        0,2,  -999.0,9,  2367.5,2,   7.6254,2,    25.00,-999.000,9,-999.0000,9, -999.00,9, -999.00,9,  -999.0,9,  -999.0,-999.000,9,-999.000,  -999.0,9,-999.000,-999.0000, -999.00,   0.6550,   1.0357,2,20091213,       1151
318M20091121,        P06,      81,          2,          3,          3,2,20091213,       1125,   -32.5000,  -176.2501,       5876,  4991.0,   1.0441,  34.7091,  34.7081,2,    207.0,2,   206.5,2,  121.35,2,   31.76,2,    0.00,2,    2.23,2,   0.081,2,   0.042,2,-999.000,1,        0,2,  -999.0,9,  -999.0,9,-999.0000,9,  -999.00,-999.000,9,-999.0000,9, -999.00,9, -999.00,9,  -999.0,9,  -999.0,-999.000,9,-999.000,  -999.0,9,-999.000,-999.0000, -999.00,   0.6262,   1.0443,2,20091213,       1144
318M20091121,        P06,      81,          2,          2,          2,2,20091213,       1125,   -32.5000,  -176.2501,       5876,  5382.8,   1.0774,  34.7081,  34.7071,2,    206.1,2,   207.3,2,  121.74,2,   31.81,2,    0.00,2,    2.24,2,   0.100,2,   0.055,2,-999.000,1,        0,2,  -999.0,9,  -999.0,9,-999.0000,9,  -999.00,-999.000,9,-999.0000,9, -999.00,9, -999.00,9,  -999.0,9,  -999.0,-999.000,9,-999.000,  -999.0,9,-999.000,-999.0000, -999.00,   0.6107,   1.0774,2,20091213,       1135
318M20091121,        P06,      81,          2,          1,          1,2,20091213,       1125,   -32.5000,  -176.2501,       5876,  5786.6,   1.1245,  34.7077,  34.7071,2,    207.0,2,   206.8,2,  121.92,2,   31.81,2,    0.00,2,    2.23,2,   0.091,2,   0.055,2,-999.000,1,        0,2,  -999.0,9,  2365.4,6,   7.5994,6,    25.00,-999.000,9,-999.0000,9, -999.00,9, -999.00,9,  -999.0,9,  -999.0,-999.000,9,-999.000,  -999.0,9,-999.000,-999.0000, -999.00,   0.6049,   1.1243,2,20091213,       1125