BOTTLE,20220818CCHSIOAMB
EXPOCODE,SECT_ID,STNNBR,CASTNO,SAMPNO,BTLNBR,BTLNBR_FLAG_W,DATE,TIME,LATITUDE,LONGITUDE,DEPTH,CTDPRS,CTDTMP,CTDSAL,SALNTY,SALNTY_FLAG_W,CTDOXY,CTDOXY_FLAG_W,OXYGEN,OXYGEN_FLAG_W,SILCAT,SILCAT_FLAG_W,NITRAT,NITRAT_FLAG_W,NITRIT,NITRIT_FLAG_W,PHSPHT,PHSPHT_FLAG_W,CFC-11,CFC-11_FLAG_W,CFC-12,CFC-12_FLAG_W,CFC113,CFC113_FLAG_W,SF6,SF6_FLAG_W,TCARBN,TCARBN_FLAG_W,ALKALI,ALKALI_FLAG_W,PH_SWS,PH_SWS_FLAG_W,PH_TMP,TRITUM,TRITUM_FLAG_W,HELIUM,HELIUM_FLAG_W,DELHE3,DELHE3_FLAG_W,DELC13,DELC13_FLAG_W,DELC14,DELC14_FLAG_W,C14ERR,NEON,NEON_FLAG_W,NEONER,DOC,DOC_FLAG_W,TRITER,HELIER,DELHER,THETA,SBE35,SBE35_FLAG_W,BTL_DATE,BTL_TIME
,,,,,,,,,,,METERS,DBAR,ITS-90,PSS-78,PSS-78,,UMOL/KG,,UMOL/KG,,UMOL/KG,,UMOL/KG,,UMOL/KG,,UMOL/KG,,PMOL/KG,,PMOL/KG,,PMOL/KG,,FMOL/KG,,UMOL/KG,,UMOL/KG,,,,DEG C,TU,,NMOL/KG,,PERCNT,,/MILLE,,/MILLE,,/MILLE,NMOL/KG,,NMOL/KG,UMOL/KG,,TU,NMOL/KG,PERCNT,DEG C,ITS-90,,,
318M20091121,        P06,      64,          1,         36,         36,2,20091209,       2318,   -30.9001,   177.3183,       4149,     3.5,  21.7877,  35.6550,  35.6554,2,    226.2,2,   226.1,2,    2.13,2,    0.00,2,    0.00,2,    0.08,2,   1.964,2,   1.262,2,-999.000,1,    1.142,2,  2040.9,6,  2336.5,6,   8.0332,6,    25.00,-999.000,9,-999.0000,9, -999.00,9, -999.00,9,  -999.0,9,  -999.0,-999.000,9,-999.000,  -999.0,5,-999.000,-999.0000, -999.00,  21.7870,  21.7937,2,20091209,       0140
318M20091121,        P06,      64,          1,         35,         35,2,20091209,       2318,   -30.9001,   177.3183,       4149,    20.2,  21.0129,  35.6324,  35.6337,2,    228.0,2,   229.8,2,    2.16,2,    0.00,2,    0.00,2,    0.08,2,   2.034,2,   1.271,2,-999.000,1,    1.131,2,  2039.1,2,  2332.9,2,-999.0000,9,  -999.00,-999.000,9,-999.0000,9, -999.00,9, -999.00,9,  -999.0,9,  -999.0,-999.000,9,-999.000,    54.0,2,-999.000,-999.0000, -999.00,  21.0090,  21.0125,2,20091209,       0138
318M20091121,        P06,      64,          1,         34,         34,2,20091209,       2318,   -30.9001,   177.3183,       4149,    39.6,  18.8625,  35.6080,  35.6065,2,    246.5,2,   243.6,2,    2.58,2,    0.00,2,    0.00,2,    0.10,2,   2.163,2,   1.367,2,-999.000,1,      1.1,2,  2039.8,2,  2334.1,2,-999.0000,9,  -999.00,-999.000,9,-999.0000,9, -999.00,9, -999.00,9,  -999.0,9,  -999.0,-999.000,9,-999.000,    54.9,2,-999.000,-999.0000, -999.00,  18.8555,  18.8665,2,20091209,       0137
318M20091121,        P06,      64,          1,         33,         33,2,20091209,       2318,   -30.9001,   177.3183,       4149,    65.3,  17.5142,  35.5757,  35.5745,2,    235.1,2,   224.8,2,    4.56,2,    1.00,2,    0.06,2,    0.20,2,   2.240,2,   1.389,2,-999.000,1,    1.103,2,  2059.9,2,  2331.7,2,   7.9860,2,    25.00,-999.000,9,-999.0000,9, -999.00,9, -999.00,9,  -999.0,9,  -999.0,-999.000,9,-999.000,    49.0,2,-999.000,-999.0000, -999.00,  17.5032,  17.5169,2,20091209,       0134
318M20091121,        P06,      64,          1,         32,         32,2,20091209,       2318,   -30.9001,   177.3183,       4149,    90.2,  17.0545,  35.5718,  35.5707,2,    216.8,2,   216.6,2,    5.57,2,    2.98,2,    0.03,2,    0.30,2,   2.243,2,   1.384,2,-999.000,1,    1.128,2,  2069.7,2,  2330.1,2,-999.0000,9,  -999.00,-999.000,9,-999.0000,9, -999.00,9, -999.00,9,  -999.0,9,  -999.0,-999.000,9,-999.000,    52.4,2,-999.000,-999.0000, -999.00,  17.0396,  17.0503,2,20091209,       0132
318M20091121,        P06,      64,          1,         31,         31,2,20091209,       2318,   -30.9001,   177.3183,       4149,   115.3,  16.7315,  35.5610,  35.5613,2,    216.0,2,   215.8,2,    4.82,2,    3.67,2,    0.02,2,    0.35,2,   2.261,2,   1.409,2,-999.000,1,    1.086,2,  2074.7,2,  2329.8,2,-999.0000,9,  -999.00,-999.000,9,-999.0000,9, -999.00,9, -999.00,9,  -999.0,9,  -999.0,-999.000,9,-999.000,    48.7,2,-999.000,-999.0000, -999.00,  16.7126,  16.7347,2,20091209,       0130
318M20091121,        P06,      64,          1,         30,         30,2,20091209,       2318,   -30.9001,   177.3183,       4149,   140.6,  16.5104,  35.5444,  35.5404,2,    216.2,2,   215.1,2,    4.28,2,    4.15,2,    0.01,2,    0.39,2,   2.277,2,   1.420,2,-999.000,1,    1.101,2,  2079.6,2,  2327.6,2,-999.0000,9,  -999.00,-999.000,9,-999.0000,9, -999.00,9, -999.00,9,  -999.0,9,  -999.0,-999.000,9,-999.000,    44.6,2,-999.000,-999.0000, -999.00,  16.4876,  16.5129,2,20091209,       0127
318M20091121,        P06,      64,          1,         29,         29,2,20091209,       2318,   -30.9001,   177.3183,       4149,   183.6,  15.7203,  35.4687,  35.4703,2,    213.7,2,   214.7,2,    4.11,2,    5.31,2,    0.01,2,    0.46,2,   2.318,2,   1.435,2,-999.000,1,    1.053,2,  2087.0,2,  2324.3,2,   7.9319,2,    25.00,-999.000,9,-999.0000,9, -999.00,9, -999.00,9,  -999.0,9,  -999.0,-999.000,9,-999.000,  -999.0,5,-999.000,-999.0000, -999.00,  15.6915,  15.7183,2,20091209,       0124
318M20091121,        P06,      64,          1,         28,         28,2,20091209,       2318,   -30.9001,   177.3183,       4149,   234.2,  14.8437,  35.3777,  35.3753,2,    213.5,2,   213.7,2,    3.55,2,    6.67,2,    0.01,2,    0.56,2,   2.381,2,   1.464,2,-999.000,1,    1.072,2,  2096.2,2,  2321.0,2,-999.0000,9,  -999.00,-999.000,9,-999.0000,9, -999.00,9, -999.00,9,  -999.0,9,  -999.0,-999.000,9,-999.000,    47.9,2,-999.000,-999.0000, -999.00,  14.8083,  14.8508,2,20091209,       0122
318M20091121,        P06,      64,          1,         27,         27,2,20091209,       2318,   -30.9001,   177.3183,       4149,   285.2,  13.9610,  35.2557,  35.2559,2,    208.6,2,   204.6,2,    4.76,2,    9.01,2,    0.01,2,    0.71,2,   2.938,4,   3.151,4,-999.000,1,      -54,4,  2107.8,2,  2315.5,2,-999.0000,9,  -999.00,-999.000,9,-999.0000,9, -999.00,9, -999.00,9,  -999.0,9,  -999.0,-999.000,9,-999.000,  -999.0,5,-999.000,-999.0000, -999.00,  13.9196,  13.9629,2,20091209,       0118
318M20091121,        P06,      64,          1,         26,         26,2,20091209,       2318,   -30.9001,   177.3183,       4149,   335.4,  13.0218,  35.1512,  35.1557,2,    210.7,2,   207.7,2,    3.82,2,   10.36,2,    0.01,2,    0.78,2,   2.503,2,   1.489,2,-999.000,1,    0.988,2,  2114.6,2,  2310.8,2,   8.0009,4,    25.00,-999.000,9,-999.0000,9, -999.00,9, -999.00,9,  -999.0,9,  -999.0,-999.000,9,-999.000,    43.0,2,-999.000,-999.0000, -999.00,  12.9753,  13.0240,2,20091209,       0115
318M20091121,        P06,      64,          1,         25,         25,2,20091209,       2318,   -30.9001,   177.3183,       4149,   386.4,  11.6748,  34.9535,  34.9534,2,    201.5,2,   200.8,2,    4.25,2,   13.93,2,    0.00,2,    1.01,2,   2.509,2,   1.438,2,-999.000,1,    0.858,2,  2127.2,2,  2300.7,2,-999.0000,9,  -999.00,-999.000,9,-999.0000,9, -999.00,9, -999.00,9,  -999.0,9,  -999.0,-999.000,9,-999.000,    43.6,2,-999.000,-999.0000, -999.00,  11.6249,  11.6764,2,20091209,       0112
318M20091121,        P06,      64,          1,         24,         24,2,20091209,       2318,   -30.9001,   177.3183,       4149,   438.3,  10.4224,  34.7984,  34.7975,2,    204.0,2,   203.2,2,    4.67,2,   16.50,2,    0.00,2,    1.17,2,   2.486,2,   1.382,2,-999.000,1,    0.672,2,  2134.6,2,  2296.9,2,-999.0000,9,  -999.00,-999.000,9,-999.0000,9, -999.00,9, -999.00,9,  -999.0,9,  -999.0,-999.000,9,-999.000,    42.4,2,-999.000,-999.0000, -999.00,  10.3697,  10.4135,2,20091209,       0109
318M20091121,        P06,      64,          1,         23,         23,2,20091209,       2318,   -30.9001,   177.3183,       4149,   488.6,   9.5500,  34.6907,  34.6914,2,    207.8,2,   207.7,2,    5.10,2,   18.11,2,    0.00,2,    1.27,2,   2.512,2,   1.383,2,-999.000,1,    0.567,2,  2137.1,2,  2291.7,2,-999.0000,9,  -999.00,-999.000,9,-999.0000,9, -999.00,9, -999.00,9,  -999.0,9,  -999.0,-999.000,9,-999.000,    39.2,2,-999.000,-999.0000, -999.00,   9.4943,   9.5514,2,20091209,       0106
318M20091121,        P06,      64,          1,         22,         22,2,20091209,       2318,   -30.9001,   177.3183,       4149,   569.3,   8.3222,  34.5485,  34.5389,3,    214.4,2,   214.7,2,    6.11,2,   20.53,2,    0.00,2,    1.45,2,   2.417,2,   1.291,2,-999.000,1,    0.372,2,  2144.0,2,  2286.6,2,   7.8632,3,    25.00,-999.000,9,-999.0000,9, -999.00,9, -999.00,9,  -999.0,9,  -999.0,-999.000,9,-999.000,    39.4,2,-999.000,-999.0000, -999.00,   8.2622,   8.3347,2,20091209,       0102
318M20091121,        P06,      64,          1,         21,         21,2,20091209,       2318,   -30.9001,   177.3183,       4149,   665.7,   7.5068,  34.4773,  34.4788,2,    217.7,2,   217.5,2,    7.72,2,   22.24,2,    0.00,2,    1.54,2,   2.222,2,   1.181,2,-999.000,1,    0.297,2,  2151.2,2,  2287.1,2,-999.0000,9,  -999.00,-999.000,9,-999.0000,9, -999.00,9, -999.00,9,  -999.0,9,  -999.0,-999.000,9,-999.000,  -999.0,9,-999.000,-999.0000, -999.00,   7.4403,   7.5177,2,20091209,       0058
318M20091121,        P06,      64,          1,         20,         20,2,20091209,       2318,   -30.9001,   177.3183,       4149,   768.5,   6.6941,  34.4125,  34.4122,2,    217.3,2,   217.6,2,   10.51,2,   24.29,2,    0.00,2,    1.69,2,   1.687,2,   0.898,2,-999.000,1,    0.134,2,  2156.8,2,  2287.0,6,-999.0000,9,  -999.00,-999.000,9,-999.0000,9, -999.00,9, -999.00,9,  -999.0,9,  -999.0,-999.000,9,-999.000,    40.2,2,-999.000,-999.0000, -999.00,   6.6216,   6.6911,2,20091209,       0055
318M20091121,        P06,      64,          1,         19,         19,2,20091209,       2318,   -30.9001,   177.3183,       4149,   869.3,   6.0802,  34.3837,  34.3837,2,    211.9,2,   212.4,2,   14.89,2,   26.06,2,    0.00,2,    1.82,2,   1.277,2,   0.662,2,-999.000,1,    0.115,2,  2163.8,2,  2290.0,2,-999.0000,9,  -999.00,-999.000,9,-999.0000,9, -999.00,9, -999.00,9,  -999.0,9,  -999.0,-999.000,9,-999.000,  -999.0,9,-999.000,-999.0000, -999.00,   6.0016,   6.0837,2,20091209,       0050
318M20091121,        P06,      64,          1,         18,         18,2,20091209,       2318,   -30.9001,   177.3183,       4149,   971.0,   5.3272,  34.3691,  34.3692,2,    203.5,2,   203.8,2,   22.26,2,   28.25,2,    0.00,2,    1.96,2,   0.819,2,   0.444,2,-999.000,1,        0,2,  2179.3,6,  2295.5,2,   7.7673,3,    25.00,-999.000,9,-999.0000,9, -999.00,9, -999.00,9,  -999.0,9,  -999.0,-999.000,9,-999.000,    38.0,2,-999.000,-999.0000, -999.00,   5.2443,   5.3321,2,20091209,       0047
318M20091121,        P06,      64,          1,         17,         17,2,20091209,       2318,   -30.9001,   177.3183,       4149,  1072.5,   4.7586,  34.3865,  34.3859,2,    192.4,2,   192.3,2,   31.46,2,   30.02,2,    0.00,2,    2.09,2,   0.486,2,   0.270,2,-999.000,1,        0,2,  2197.0,2,  2305.3,2,-999.0000,9,  -999.00,-999.000,9,-999.0000,9, -999.00,9, -999.00,9,  -999.0,9,  -999.0,-999.000,9,-999.000,  -999.0,9,-999.000,-999.0000, -999.00,   4.6709,   4.7606,2,20091209,       0043
318M20091121,        P06,      64,          1,         16,         16,2,20091209,       2318,   -30.9001,   177.3183,       4149,  1175.2,   4.1513,  34.4224,  34.4231,2,    182.1,2,   180.9,2,   44.92,2,   31.61,2,    0.00,2,    2.22,2,   0.266,2,   0.156,2,-999.000,1,        0,2,  2217.6,2,  2319.7,2,-999.0000,9,  -999.00,-999.000,9,-999.0000,9, -999.00,9, -999.00,9,  -999.0,9,  -999.0,-999.000,9,-999.000,    37.4,2,-999.000,-999.0000, -999.00,   4.0596,   4.1480,2,20091209,       0040
318M20091121,        P06,      64,          1,         15,         15,2,20091209,       2318,   -30.9001,   177.3183,       4149,  1271.5,   3.6917,  34.4627,  34.4616,2,    174.5,2,   172.9,2,   56.65,2,   32.58,2,    0.00,2,    2.30,2,   0.152,2,   0.094,2,-999.000,1,        0,2,  2234.5,2,  2332.9,2,-999.0000,9,  -999.00,-999.000,9,-999.0000,9, -999.00,9, -999.00,9,  -999.0,9,  -999.0,-999.000,9,-999.000,  -999.0,9,-999.000,-999.0000, -999.00,   3.5960,   3.6933,2,20091209,       0036
318M20091121,        P06,      64,          1,         14,         14,2,20091209,       2318,   -30.9001,   177.3183,       4149,  1374.3,   3.4003,  34.5110,  34.5108,2,    167.0,2,   167.4,2,   68.85,2,   33.06,2,    0.00,2,    2.33,2,   0.110,2,   0.071,2,-999.000,1,        0,2,  2249.5,2,  2346.2,2,   7.5986,2,    25.00,-999.000,9,-999.0000,9, -999.00,9, -999.00,9,  -999.0,9,  -999.0,-999.000,9,-999.000,  -999.0,9,-999.000,-999.0000, -999.00,   3.2987,   3.3986,2,20091209,       0033
318M20091121,        P06,      64,          1,         13,         13,2,20091209,       2318,   -30.9001,   177.3183,       4149,  1475.5,   3.0921,  34.5567,  34.5584,2,    162.0,2,   161.2,2,   81.12,2,   33.40,2,    0.00,2,    2.36,2,   0.086,2,   0.057,2,-999.000,1,        0,2,  2264.8,2,  2360.3,2,-999.0000,9,  -999.00,-999.000,9,-999.0000,9, -999.00,9, -999.00,9,  -999.0,9,  -999.0,-999.000,9,-999.000,    35.1,2,-999.000,-999.0000, -999.00,   2.9853,   3.0916,2,20091209,       0030
318M20091121,        P06,      64,          1,         12,         12,2,20091209,       2318,   -30.9001,   177.3183,       4149,  1577.9,   2.8900,  34.5810,  34.5811,2,    158.3,2,   158.4,2,   88.74,2,   33.68,2,    0.00,2,    2.38,2,   0.067,2,   0.044,2,-999.000,1,        0,2,  2274.3,2,  2369.6,2,   7.5941,2,    25.00,-999.000,9,-999.0000,9, -999.00,9, -999.00,9,  -999.0,9,  -999.0,-999.000,9,-999.000,  -999.0,9,-999.000,-999.0000, -999.00,   2.7769,   2.8906,2,20091209,       0026
318M20091121,        P06,      64,          1,         11,         11,2,20091209,       2318,   -30.9001,   177.3183,       4149,  1680.4,   2.6938,  34.6013,  34.6010,2,    156.3,2,   156.3,2,   95.76,2,   33.97,2,    0.00,2,    2.40,2,   0.050,2,   0.034,2,-999.000,1,        0,2,  2281.3,2,  2376.9,2,-999.0000,9,  -999.00,-999.000,9,-999.0000,9, -999.00,9, -999.00,9,  -999.0,9,  -999.0,-999.000,9,-999.000,  -999.0,9,-999.000,-999.0000, -999.00,   2.5745,   2.6908,2,20091209,       0022
318M20091121,        P06,      64,          1,         10,         10,2,20091209,       2318,   -30.9001,   177.3183,       4149,  1778.2,   2.5524,  34.6137,  34.6132,2,    154.8,2,   154.9,2,  100.14,2,   34.07,2,    0.00,2,    2.42,2,   0.047,2,   0.035,2,-999.000,1,        0,2,  2286.1,2,  2382.7,2,   7.5890,2,    25.00,-999.000,9,-999.0000,9, -999.00,9, -999.00,9,  -999.0,9,  -999.0,-999.000,9,-999.000,  -999.0,9,-999.000,-999.0000, -999.00,   2.4267,   2.5530,2,20091209,       0018
318M20091121,        P06,      64,          1,          9,          9,2,20091209,       2318,   -30.9001,   177.3183,       4149,  1952.6,   2.3344,  34.6319,  34.6323,2,    153.3,2,   153.7,2,  107.61,2,   34.36,2,    0.00,2,    2.44,2,   0.017,2,   0.013,2,-999.000,1,        0,2,  2293.2,2,  2388.4,2,-999.0000,9,  -999.00,-999.000,9,-999.0000,9, -999.00,9, -999.00,9,  -999.0,9,  -999.0,-999.000,9,-999.000,    34.9,2,-999.000,-999.0000, -999.00,   2.1969,   2.3346,2,20091209,       0012
318M20091121,        P06,      64,          1,          8,          8,2,20091209,       2318,   -30.9001,   177.3183,       4149,  2187.2,   2.1200,  34.6509,  34.6506,2,    152.8,2,   152.6,2,  114.27,2,   34.55,2,    0.00,2,    2.45,2,   0.007,2,   0.009,2,-999.000,1,        0,2,  2300.4,2,  2395.7,2,   7.5874,2,    25.00,-999.000,9,-999.0000,9, -999.00,9, -999.00,9,  -999.0,9,  -999.0,-999.000,9,-999.000,  -999.0,9,-999.000,-999.0000, -999.00,   1.9655,   2.1196,2,20091209,       0006
318M20091121,        P06,      64,          1,          7,          7,2,20091209,       2318,   -30.9001,   177.3183,       4149,  2438.5,   1.9832,  34.6635,  34.6636,2,    153.2,2,   153.2,2,  117.86,2,   34.60,2,    0.00,2,    2.46,2,   0.005,2,   0.006,2,-999.000,1,        0,2,  2304.0,2,  2401.7,2,-999.0000,9,  -999.00,-999.000,9,-999.0000,9, -999.00,9, -999.00,9,  -999.0,9,  -999.0,-999.000,9,-999.000,    37.2,2,-999.000,-999.0000, -999.00,   1.8087,   1.9836,2,20091209,       0000
318M20091121,        P06,      64,          1,          6,          6,2,20091209,       2318,   -30.9001,   177.3183,       4149,  2696.2,   1.8983,  34.6719,  34.6729,2,    153.9,2,   153.9,2,  121.03,2,   34.64,2,    0.00,2,    2.45,2,   0.006,2,   0.006,2,-999.000,1,        0,2,  2307.0,2,  2405.1,2,   7.5869,2,    25.00,-999.000,9,-999.0000,9, -999.00,9, -999.00,9,  -999.0,9,  -999.0,-999.000,9,-999.000,  -999.0,9,-999.000,-999.0000, -999.00,   1.7017,   1.8982,2,20091209,       2354
318M20091121,        P06,      64,          1,          5,          5,2,20091209,       2318,   -30.9001,   177.3183,       4149,  2956.1,   1.8559,  34.6771,  34.6773,2,    154.4,2,   154.3,2,  122.76,2,   34.59,2,    0.00,2,    2.47,2,   0.005,2,   0.006,2,-999.000,1,        0,2,  2308.5,2,  2404.3,2,-999.0000,9,  -999.00,-999.000,9,-999.0000,9, -999.00,9, -999.00,9,  -999.0,9,  -999.0,-999.000,9,-999.000,    37.8,2,-999.000,-999.0000, -999.00,   1.6355,   1.8560,2,20091209,       2347
318M20091121,        P06,      64,          1,          4,          4,2,20091209,       2318,   -30.9001,   177.3183,       4149,  3241.9,   1.8415,  34.6800,  34.6802,2,    154.8,2,   154.5,2,  123.88,2,   34.59,2,    0.00,2,    2.46,2,   0.015,2,   0.012,2,-999.000,1,        0,2,  2309.3,2,  2406.3,2,   7.6726,4,    25.00,-999.000,9,-999.0000,9, -999.00,9, -999.00,9,  -999.0,9,  -999.0,-999.000,9,-999.000,  -999.0,9,-999.000,-999.0000, -999.00,   1.5932,   1.8419,2,20091209,       2339
318M20091121,        P06,      64,          1,          3,          3,2,20091209,       2318,   -30.9001,   177.3183,       4149,  3545.1,   1.8500,  34.6815,  34.6818,2,    155.1,2,   154.7,2,  124.38,2,   34.64,2,    0.00,2,    2.45,2,   0.010,2,   0.006,2,-999.000,1,        0,2,  2310.7,2,  2407.7,6,-999.0000,9,  -999.00,-999.000,9,-999.0000,9, -999.00,9, -999.00,9,  -999.0,9,  -999.0,-999.000,9,-999.000,    38.7,2,-999.000,-999.0000, -999.00,   1.5703,   1.8502,2,20091209,       2332
318M20091121,        P06,      64,          1,          2,          2,2,20091209,       2318,   -30.9001,   177.3183,       4149,  3876.0,   1.8745,  34.6822,  34.6827,2,    154.6,2,   155.0,2,  124.29,2,   34.69,2,    0.00,2,    2.45,2,   0.010,2,   0.006,2,-999.000,1,        0,2,  2311.5,2,  2408.7,2,-999.0000,5,  -999.00,-999.000,9,-999.0000,9, -999.00,9, -999.00,9,  -999.0,9,  -999.0,-999.000,9,-999.000,  -999.0,9,-999.000,-999.0000, -999.00,   1.5587,   1.8742,2,20091209,       2325
318M20091121,        P06,      64,          1,          1,          1,2,20091209,       2318,   -30.9001,   177.3183,       4149,  4210.6,   1.9075,  34.6823,  34.6835,2,    155.5,2,   155.3,2,  125.42,2,   34.69,2,    0.00,2,    2.45,2,   0.013,2,   0.006,2,-999.000,1,        0,2,  2310.4,6,  2409.8,2,-999.0000,9,  -999.00,-999.000,9,-999.0000,9, -999.00,9, -999.00,9,  -999.0,9,  -999.0,-999.000,9,-999.000,    35.7,2,-999.000,-999.0000, -999.00,   1.5534,   1.9078,2,20091209,       2318