BOTTLE,20220818CCHSIOAMB
EXPOCODE,SECT_ID,STNNBR,CASTNO,SAMPNO,BTLNBR,BTLNBR_FLAG_W,DATE,TIME,LATITUDE,LONGITUDE,DEPTH,CTDPRS,CTDTMP,CTDSAL,SALNTY,SALNTY_FLAG_W,CTDOXY,CTDOXY_FLAG_W,OXYGEN,OXYGEN_FLAG_W,SILCAT,SILCAT_FLAG_W,NITRAT,NITRAT_FLAG_W,NITRIT,NITRIT_FLAG_W,PHSPHT,PHSPHT_FLAG_W,CFC-11,CFC-11_FLAG_W,CFC-12,CFC-12_FLAG_W,CFC113,CFC113_FLAG_W,SF6,SF6_FLAG_W,TCARBN,TCARBN_FLAG_W,ALKALI,ALKALI_FLAG_W,PH_SWS,PH_SWS_FLAG_W,PH_TMP,TRITUM,TRITUM_FLAG_W,HELIUM,HELIUM_FLAG_W,DELHE3,DELHE3_FLAG_W,DELC13,DELC13_FLAG_W,DELC14,DELC14_FLAG_W,C14ERR,NEON,NEON_FLAG_W,NEONER,DOC,DOC_FLAG_W,TRITER,HELIER,DELHER,THETA,SBE35,SBE35_FLAG_W,BTL_DATE,BTL_TIME
,,,,,,,,,,,METERS,DBAR,ITS-90,PSS-78,PSS-78,,UMOL/KG,,UMOL/KG,,UMOL/KG,,UMOL/KG,,UMOL/KG,,UMOL/KG,,PMOL/KG,,PMOL/KG,,PMOL/KG,,FMOL/KG,,UMOL/KG,,UMOL/KG,,,,DEG C,TU,,NMOL/KG,,PERCNT,,/MILLE,,/MILLE,,/MILLE,NMOL/KG,,NMOL/KG,UMOL/KG,,TU,NMOL/KG,PERCNT,DEG C,ITS-90,,,
318M20091121,        P06,      33,          2,         23,         23,2,20091130,       1349,   -30.0799,   163.4999,       1442,     4.9,  22.3355,  35.6464,  35.6457,2,    221.3,2,   221.0,2,   -0.03,2,    0.00,2,    0.00,2,    0.10,2,   1.992,2,   1.251,2,-999.000,1,    1.197,2,  2026.9,6,  2487.0,4,   8.0544,2,    25.00,-999.000,9,-999.0000,9, -999.00,9, -999.00,9,  -999.0,9,  -999.0,-999.000,9,-999.000,  -999.0,9,-999.000,-999.0000, -999.00,  22.3345,  22.3353,2,20091130,       1508
318M20091121,        P06,      33,          2,         22,         22,2,20091130,       1349,   -30.0799,   163.4999,       1442,    35.5,  20.4816,  35.6755,  35.6753,2,    233.7,2,   233.8,2,    0.07,2,    0.00,2,    0.00,2,    0.07,2,   2.184,2,   1.348,2,-999.000,1,    1.218,2,  -999.0,9,  -999.0,9,-999.0000,9,  -999.00,-999.000,9,-999.0000,9, -999.00,9, -999.00,9,  -999.0,9,  -999.0,-999.000,9,-999.000,  -999.0,9,-999.000,-999.0000, -999.00,  20.4749,  20.4811,2,20091130,       1506
318M20091121,        P06,      33,          2,         21,         21,2,20091130,       1349,   -30.0799,   163.4999,       1442,    60.5,  19.4166,  35.6203,  35.6202,2,    233.9,2,   234.7,2,   -0.03,2,    0.00,2,    0.00,2,    0.09,2,   2.233,6,   1.386,6,-999.000,1,    1.149,6,  -999.0,9,  2293.9,4,   8.0379,6,    25.00,-999.000,9,-999.0000,9, -999.00,9, -999.00,9,  -999.0,9,  -999.0,-999.000,9,-999.000,  -999.0,9,-999.000,-999.0000, -999.00,  19.4056,  19.4177,2,20091130,       1503
318M20091121,        P06,      33,          2,         20,         20,2,20091130,       1349,   -30.0799,   163.4999,       1442,    85.4,  18.5670,  35.5812,  35.5807,2,    219.1,2,   218.9,2,    0.27,2,    0.64,2,    0.11,2,    0.20,2,   2.261,2,   1.394,2,-999.000,1,    1.251,2,  -999.0,9,  -999.0,9,-999.0000,9,  -999.00,-999.000,9,-999.0000,9, -999.00,9, -999.00,9,  -999.0,9,  -999.0,-999.000,9,-999.000,  -999.0,9,-999.000,-999.0000, -999.00,  18.5520,  18.5605,2,20091130,       1501
318M20091121,        P06,      33,          2,         19,         19,2,20091130,       1349,   -30.0799,   163.4999,       1442,   111.7,  17.9787,  35.5665,  35.5669,2,    209.4,2,   207.6,2,    0.58,2,    2.88,2,    0.03,2,    0.31,2,   2.273,2,   1.395,2,-999.000,1,    1.137,2,  -999.0,9,  2327.2,2,   7.9811,2,    25.00,-999.000,9,-999.0000,9, -999.00,9, -999.00,9,  -999.0,9,  -999.0,-999.000,9,-999.000,  -999.0,9,-999.000,-999.0000, -999.00,  17.9595,  17.9852,2,20091130,       1459
318M20091121,        P06,      33,          2,         18,         18,2,20091130,       1349,   -30.0799,   163.4999,       1442,   135.3,  17.4830,  35.5524,  35.5516,2,    207.0,2,   205.7,2,    0.67,2,    3.87,2,    0.02,2,    0.37,2,   2.337,2,   1.413,2,-999.000,1,    1.056,2,  -999.0,9,  -999.0,9,-999.0000,9,  -999.00,-999.000,9,-999.0000,9, -999.00,9, -999.00,9,  -999.0,9,  -999.0,-999.000,9,-999.000,  -999.0,9,-999.000,-999.0000, -999.00,  17.4602,  17.4823,2,20091130,       1456
318M20091121,        P06,      33,          2,         17,         17,2,20091130,       1349,   -30.0799,   163.4999,       1442,   164.6,  17.0361,  35.5329,  35.5317,2,    203.3,2,   203.8,2,    0.98,2,    4.74,2,    0.01,2,    0.42,2,   2.339,2,   1.404,2,-999.000,1,    1.051,2,  -999.0,9,  2326.9,2,   7.9529,2,    25.00,-999.000,9,-999.0000,9, -999.00,9, -999.00,9,  -999.0,9,  -999.0,-999.000,9,-999.000,  -999.0,9,-999.000,-999.0000, -999.00,  17.0088,  17.0349,2,20091130,       1453
318M20091121,        P06,      33,          2,         16,         16,2,20091130,       1349,   -30.0799,   163.4999,       1442,   215.8,  15.5229,  35.4120,  35.4141,2,    194.4,2,   190.6,2,    1.88,2,    8.26,2,    0.01,2,    0.65,2,   2.407,2,   1.413,2,-999.000,1,    0.841,2,  -999.0,9,  -999.0,9,-999.0000,9,  -999.00,-999.000,9,-999.0000,9, -999.00,9, -999.00,9,  -999.0,9,  -999.0,-999.000,9,-999.000,  -999.0,9,-999.000,-999.0000, -999.00,  15.4893,  15.5333,2,20091130,       1450
318M20091121,        P06,      33,          2,         15,         15,2,20091130,       1349,   -30.0799,   163.4999,       1442,   265.9,  14.5110,  35.3201,  35.3197,2,    189.8,2,   190.3,2,    2.78,2,    9.99,2,    0.01,2,    0.75,2,   2.401,2,   1.414,2,-999.000,1,    0.789,2,  -999.0,9,  -999.0,5,   7.8701,2,    25.00,-999.000,9,-999.0000,9, -999.00,9, -999.00,9,  -999.0,9,  -999.0,-999.000,9,-999.000,  -999.0,9,-999.000,-999.0000, -999.00,  14.4714,  14.5024,2,20091130,       1446
318M20091121,        P06,      33,          2,         14,         14,2,20091130,       1349,   -30.0799,   163.4999,       1442,   317.2,  13.4815,  35.2125,  35.2109,2,    191.9,2,   192.0,2,    3.48,2,   11.56,2,    0.01,2,    0.86,2,   2.472,2,   1.444,2,-999.000,1,    1.087,2,  -999.0,9,  -999.0,9,-999.0000,9,  -999.00,-999.000,9,-999.0000,9, -999.00,9, -999.00,9,  -999.0,9,  -999.0,-999.000,9,-999.000,  -999.0,9,-999.000,-999.0000, -999.00,  13.4365,  13.4817,2,20091130,       1443
318M20091121,        P06,      33,          2,         13,         13,2,20091130,       1349,   -30.0799,   163.4999,       1442,   367.7,  12.7741,  35.1592,  35.1579,2,    200.1,2,   200.1,2,    4.18,2,   12.17,2,    0.00,2,    0.90,2,  -0.043,4,   1.914,4,-999.000,1,    6.707,4,  -999.0,9,  2313.0,6,   7.8368,2,    25.00,-999.000,9,-999.0000,9, -999.00,9, -999.00,9,  -999.0,9,  -999.0,-999.000,9,-999.000,  -999.0,9,-999.000,-999.0000, -999.00,  12.7237,  12.7866,2,20091130,       1439
318M20091121,        P06,      33,          2,         12,         12,2,20091130,       1349,   -30.0799,   163.4999,       1442,   417.6,  11.6067,  34.9933,  34.9941,2,    197.1,2,   197.3,2,    5.29,2,   14.75,2,    0.00,2,    1.07,2,   2.477,2,   1.386,2,-999.000,1,    0.845,2,  -999.0,9,  -999.0,9,-999.0000,9,  -999.00,-999.000,9,-999.0000,9, -999.00,9, -999.00,9,  -999.0,9,  -999.0,-999.000,9,-999.000,  -999.0,9,-999.000,-999.0000, -999.00,  11.5529,  11.6154,2,20091130,       1436
318M20091121,        P06,      33,          2,         11,         11,2,20091130,       1349,   -30.0799,   163.4999,       1442,   468.2,  10.6423,  34.8820,  34.8815,2,    196.3,2,   196.7,2,    6.20,2,   16.91,2,    0.00,2,    1.20,2,   2.405,2,   1.330,2,-999.000,1,    0.657,2,  -999.0,9,  2302.2,2,   7.7755,2,    25.00,-999.000,9,-999.0000,9, -999.00,9, -999.00,9,  -999.0,9,  -999.0,-999.000,9,-999.000,  -999.0,9,-999.000,-999.0000, -999.00,  10.5851,  10.6391,2,20091130,       1433
318M20091121,        P06,      33,          2,         10,         10,2,20091130,       1349,   -30.0799,   163.4999,       1442,   537.4,   9.3509,  34.7182,  34.7199,2,    197.2,2,   197.9,2,    8.91,2,   19.68,2,    0.00,2,    1.39,2,   2.181,2,   1.159,2,-999.000,1,    0.511,2,  -999.0,9,  -999.0,9,-999.0000,9,  -999.00,-999.000,9,-999.0000,9, -999.00,9, -999.00,9,  -999.0,9,  -999.0,-999.000,9,-999.000,  -999.0,9,-999.000,-999.0000, -999.00,   9.2902,   9.3517,2,20091130,       1429
318M20091121,        P06,      33,          2,          9,          9,2,20091130,       1349,   -30.0799,   163.4999,       1442,   636.9,   8.2766,  34.6080,  34.6066,2,    199.0,2,   199.2,2,   12.43,2,   22.05,2,    0.00,2,    1.55,2,  -0.054,4,   1.855,4,-999.000,1,    9.168,4,  -999.0,9,  1923.5,4,   7.7220,6,    25.00,-999.000,9,-999.0000,9, -999.00,9, -999.00,9,  -999.0,9,  -999.0,-999.000,9,-999.000,  -999.0,9,-999.000,-999.0000, -999.00,   8.2094,   8.2747,2,20091130,       1425
318M20091121,        P06,      33,          2,          8,          8,2,20091130,       1349,   -30.0799,   163.4999,       1442,   738.8,   7.3056,  34.5262,  34.5256,2,    198.2,2,   198.5,2,   16.77,2,   24.27,2,    0.00,2,    1.69,2,   1.476,2,   0.775,2,-999.000,1,    0.178,2,  -999.0,9,  -999.0,9,-999.0000,9,  -999.00,-999.000,9,-999.0000,9, -999.00,9, -999.00,9,  -999.0,9,  -999.0,-999.000,9,-999.000,  -999.0,9,-999.000,-999.0000, -999.00,   7.2325,   7.3049,2,20091130,       1421
318M20091121,        P06,      33,          2,          7,          7,2,20091130,       1349,   -30.0799,   163.4999,       1442,   840.5,   6.4754,  34.4759,  34.4748,2,    195.7,2,   195.7,2,   22.94,2,   26.24,2,    0.00,2,    1.84,2,   1.075,2,   0.566,2,-999.000,1,        0,2,  -999.0,9,  2293.3,2,   7.6807,2,    25.00,-999.000,9,-999.0000,9, -999.00,9, -999.00,9,  -999.0,9,  -999.0,-999.000,9,-999.000,  -999.0,9,-999.000,-999.0000, -999.00,   6.3970,   6.4779,2,20091130,       1416
318M20091121,        P06,      33,          2,          6,          6,2,20091130,       1349,   -30.0799,   163.4999,       1442,   941.1,   5.7781,  34.4490,  34.4479,2,    191.4,2,   191.2,2,   29.96,2,   28.01,2,    0.00,2,    1.96,2,   0.752,2,   0.409,2,-999.000,1,        0,2,  -999.0,9,  -999.0,9,-999.0000,9,  -999.00,-999.000,9,-999.0000,9, -999.00,9, -999.00,9,  -999.0,9,  -999.0,-999.000,9,-999.000,  -999.0,9,-999.000,-999.0000, -999.00,   5.6946,   5.7797,2,20091130,       1412
318M20091121,        P06,      33,          2,          5,          5,2,20091130,       1349,   -30.0799,   163.4999,       1442,  1042.8,   5.1871,  34.4576,  34.4566,2,    183.5,2,   184.0,2,   39.65,2,   29.58,2,    0.00,2,    2.07,2,   0.505,2,   0.283,2,-999.000,1,        0,2,  -999.0,9,  2318.6,6,   7.6432,2,    25.00,-999.000,9,-999.0000,9, -999.00,9, -999.00,9,  -999.0,9,  -999.0,-999.000,9,-999.000,  -999.0,9,-999.000,-999.0000, -999.00,   5.0985,   5.1877,2,20091130,       1408
318M20091121,        P06,      33,          2,          4,          4,2,20091130,       1349,   -30.0799,   163.4999,       1442,  1143.1,   4.6760,  34.4789,  34.4775,2,    175.9,2,   176.2,2,   50.00,2,   30.81,2,    0.00,2,    2.16,2,   0.364,2,   0.213,2,-999.000,1,        0,2,  -999.0,9,  -999.0,9,-999.0000,9,  -999.00,-999.000,9,-999.0000,9, -999.00,9, -999.00,9,  -999.0,9,  -999.0,-999.000,9,-999.000,  -999.0,9,-999.000,-999.0000, -999.00,   4.5824,   4.6790,2,20091130,       1404
318M20091121,        P06,      33,          2,          3,          3,2,20091130,       1349,   -30.0799,   163.4999,       1442,  1243.6,   4.2678,  34.5002,  34.4992,2,    170.0,2,   170.0,2,   59.15,2,   31.82,2,    0.00,2,    2.24,2,   0.281,2,   0.168,2,-999.000,1,        0,2,  -999.0,9,  2335.3,2,   7.6180,2,    25.00,-999.000,9,-999.0000,9, -999.00,9, -999.00,9,  -999.0,9,  -999.0,-999.000,9,-999.000,  -999.0,9,-999.000,-999.0000, -999.00,   4.1689,   4.2694,2,20091130,       1359
318M20091121,        P06,      33,          2,          2,          2,2,20091130,       1349,   -30.0799,   163.4999,       1442,  1345.3,   3.8286,  34.5285,  34.5268,2,    163.9,2,   163.7,2,   70.01,2,   32.75,2,    0.00,2,    2.31,2,   0.224,2,   0.192,2,-999.000,1,    0.692,4,  -999.0,9,  -999.0,9,-999.0000,9,  -999.00,-999.000,9,-999.0000,9, -999.00,9, -999.00,9,  -999.0,9,  -999.0,-999.000,9,-999.000,  -999.0,9,-999.000,-999.0000, -999.00,   3.7250,   3.8297,2,20091130,       1354
318M20091121,        P06,      33,          2,          1,          1,2,20091130,       1349,   -30.0799,   163.4999,       1442,  1440.2,   3.5417,  34.5494,  34.5483,2,    159.3,2,   159.7,2,   77.17,2,   33.37,2,    0.00,2,    2.36,2,   0.142,2,   0.089,2,-999.000,1,        0,2,  -999.0,9,  -999.0,5,   7.7011,4,    25.00,-999.000,9,-999.0000,9, -999.00,9, -999.00,9,  -999.0,9,  -999.0,-999.000,9,-999.000,  -999.0,9,-999.000,-999.0000, -999.00,   3.4329,   3.5406,2,20091130,       1349