BOTTLE,20220818CCHSIOAMB
EXPOCODE,SECT_ID,STNNBR,CASTNO,SAMPNO,BTLNBR,BTLNBR_FLAG_W,DATE,TIME,LATITUDE,LONGITUDE,DEPTH,CTDPRS,CTDTMP,CTDSAL,SALNTY,SALNTY_FLAG_W,CTDOXY,CTDOXY_FLAG_W,OXYGEN,OXYGEN_FLAG_W,SILCAT,SILCAT_FLAG_W,NITRAT,NITRAT_FLAG_W,NITRIT,NITRIT_FLAG_W,PHSPHT,PHSPHT_FLAG_W,CFC-11,CFC-11_FLAG_W,CFC-12,CFC-12_FLAG_W,CFC113,CFC113_FLAG_W,SF6,SF6_FLAG_W,TCARBN,TCARBN_FLAG_W,ALKALI,ALKALI_FLAG_W,PH_SWS,PH_SWS_FLAG_W,PH_TMP,TRITUM,TRITUM_FLAG_W,HELIUM,HELIUM_FLAG_W,DELHE3,DELHE3_FLAG_W,DELC13,DELC13_FLAG_W,DELC14,DELC14_FLAG_W,C14ERR,NEON,NEON_FLAG_W,NEONER,DOC,DOC_FLAG_W,TRITER,HELIER,DELHER,THETA,SBE35,SBE35_FLAG_W,BTL_DATE,BTL_TIME
,,,,,,,,,,,METERS,DBAR,ITS-90,PSS-78,PSS-78,,UMOL/KG,,UMOL/KG,,UMOL/KG,,UMOL/KG,,UMOL/KG,,UMOL/KG,,PMOL/KG,,PMOL/KG,,PMOL/KG,,FMOL/KG,,UMOL/KG,,UMOL/KG,,,,DEG C,TU,,NMOL/KG,,PERCNT,,/MILLE,,/MILLE,,/MILLE,NMOL/KG,,NMOL/KG,UMOL/KG,,TU,NMOL/KG,PERCNT,DEG C,ITS-90,,,
318M20091121,        P06,      84,          1,         36,         36,2,20091214,       1021,   -32.5000,  -174.8403,       5734,     4.3,  20.8151,  35.6002,  35.6016,2,    230.8,2,   229.4,2,    0.80,2,    0.00,2,    0.00,2,    0.13,2,   2.126,2,   1.262,2,-999.000,1,    1.086,2,  -999.0,5,  2336.0,2,-999.0000,5,  -999.00,-999.000,9,-999.0000,9, -999.00,9,    1.12,2,    59.7,2,     3.5,-999.000,9,-999.000,    60.7,2,-999.000,-999.0000, -999.00,  20.8143,  20.7982,2,20091214,       1308
318M20091121,        P06,      84,          1,         35,         35,2,20091214,       1021,   -32.5000,  -174.8403,       5734,    34.1,  18.3984,  35.5748,  35.5751,2,    246.7,2,   246.5,2,    0.38,2,    0.00,2,    0.00,2,    0.10,2,   2.310,6,   1.363,6,-999.000,1,   1.1335,6,  -999.0,5,  2331.9,6,   7.6041,4,    25.00,-999.000,9,-999.0000,9, -999.00,9, -999.00,9,  -999.0,9,  -999.0,-999.000,9,-999.000,    56.9,2,-999.000,-999.0000, -999.00,  18.3925,  18.4099,2,20091214,       1306
318M20091121,        P06,      84,          1,         34,         34,2,20091214,       1021,   -32.5000,  -174.8403,       5734,    58.3,  16.9311,  35.5262,  35.5292,2,    245.6,2,   240.2,2,    0.77,2,    0.00,2,    0.00,2,    0.14,2,   2.356,2,   1.373,2,-999.000,1,    1.144,2,  -999.0,5,  2330.9,2,   7.9716,2,    25.00,-999.000,9,-999.0000,9, -999.00,9,    1.02,2,    58.9,2,     2.8,-999.000,9,-999.000,    55.7,2,-999.000,-999.0000, -999.00,  16.9215,  16.9750,3,20091214,       1303
318M20091121,        P06,      84,          1,         33,         33,2,20091214,       1021,   -32.5000,  -174.8403,       5734,    85.5,  16.1560,  35.5121,  35.5115,2,    222.1,2,   222.4,2,    1.15,2,    3.11,2,    0.05,2,    0.34,2,   2.421,2,   1.400,2,-999.000,1,    1.115,2,  -999.0,5,  2327.8,2,   7.9603,2,    25.00,-999.000,9,-999.0000,9, -999.00,9, -999.00,9,  -999.0,9,  -999.0,-999.000,9,-999.000,    53.5,2,-999.000,-999.0000, -999.00,  16.1424,  16.1570,2,20091214,       1301
318M20091121,        P06,      84,          1,         32,         32,2,20091214,       1021,   -32.5000,  -174.8403,       5734,   115.1,  15.5873,  35.4576,  35.4631,2,    211.0,2,   218.0,2,    1.54,2,    4.81,2,    0.02,2,    0.44,2,   2.441,2,   1.394,2,-999.000,1,    1.046,2,  2086.5,2,  2325.5,2,   7.9236,2,    25.00,-999.000,9,-999.0000,9, -999.00,9,    0.74,2,    57.9,2,     2.9,-999.000,9,-999.000,    48.7,2,-999.000,-999.0000, -999.00,  15.5694,  15.5949,2,20091214,       1258
318M20091121,        P06,      84,          1,         31,         31,2,20091214,       1021,   -32.5000,  -174.8403,       5734,   165.6,  14.7860,  35.3720,  35.3716,2,    216.5,2,   214.7,2,    1.93,2,    6.57,2,    0.01,2,    0.56,2,   2.463,2,   1.411,2,-999.000,1,    1.033,2,  2096.1,2,  2320.2,2,   7.9053,2,    25.00,-999.000,9,-999.0000,9, -999.00,9, -999.00,9,  -999.0,9,  -999.0,-999.000,9,-999.000,    48.8,2,-999.000,-999.0000, -999.00,  14.7611,  14.7880,2,20091214,       1255
318M20091121,        P06,      84,          1,         30,         30,2,20091214,       1021,   -32.5000,  -174.8403,       5734,   216.5,  14.0306,  35.2761,  35.2759,2,    214.8,2,   215.6,2,    2.12,2,    7.41,2,    0.01,2,    0.62,2,   2.563,2,   1.443,2,-999.000,1,    0.986,2,  2102.0,2,  2317.3,2,   7.8854,2,    25.00,-999.000,9,-999.0000,9, -999.00,9,    0.82,2,    53.0,2,     3.7,-999.000,9,-999.000,    50.7,2,-999.000,-999.0000, -999.00,  13.9992,  14.0272,2,20091214,       1252
318M20091121,        P06,      84,          1,         29,         29,2,20091214,       1021,   -32.5000,  -174.8403,       5734,   266.4,  12.8418,  35.1281,  35.1232,2,    203.4,2,   208.0,2,    3.13,2,   10.64,2,    0.01,2,    0.81,2,   2.607,2,   1.452,2,-999.000,1,    0.956,2,  2115.9,2,  2309.5,2,   7.8382,2,    25.00,-999.000,9,-999.0000,9, -999.00,9, -999.00,9,  -999.0,9,  -999.0,-999.000,9,-999.000,    50.4,2,-999.000,-999.0000, -999.00,  12.8053,  12.8435,2,20091214,       1250
318M20091121,        P06,      84,          1,         28,         28,2,20091214,       1021,   -32.5000,  -174.8403,       5734,   316.1,  11.9517,  35.0164,  35.0194,2,    210.7,2,   211.1,2,    3.31,2,   12.01,2,    0.00,2,    0.89,2,   2.742,2,   1.516,2,-999.000,1,    0.918,2,  2122.7,2,  2304.7,2,   7.8211,2,    25.00,-999.000,9,-999.0000,9, -999.00,9,    0.82,2,    45.4,2,     3.0,-999.000,9,-999.000,    55.7,2,-999.000,-999.0000, -999.00,  11.9104,  11.9551,2,20091214,       1247
318M20091121,        P06,      84,          1,         27,         27,2,20091214,       1021,   -32.5000,  -174.8403,       5734,   345.0,  11.3429,  34.9209,  34.9212,2,    209.6,2,   208.9,2,    3.70,2,   13.46,2,    0.00,2,    0.99,2,   2.769,2,   1.499,2,-999.000,1,    0.918,2,  2126.9,2,  2296.7,2,   7.7769,2,    25.00,-999.000,9,-999.0000,9, -999.00,9, -999.00,9,  -999.0,9,  -999.0,-999.000,9,-999.000,    45.2,2,-999.000,-999.0000, -999.00,  11.2993,  11.3496,2,20091214,       1244
318M20091121,        P06,      84,          1,         26,         26,2,20091214,       1021,   -32.5000,  -174.8403,       5734,   437.8,   9.4948,  34.6734,  34.6718,2,    209.8,2,   210.8,2,    4.91,2,   17.68,2,    0.00,2,    1.25,2,   2.858,2,   1.489,2,-999.000,1,    0.808,2,  2136.6,2,  2292.1,2,   6.0871,4,    25.00,-999.000,9,-999.0000,9, -999.00,9, -999.00,9,  -999.0,9,     9.0,-999.000,9,-999.000,    47.9,2,-999.000,-999.0000, -999.00,   9.4452,   9.5009,2,20091214,       1241
318M20091121,        P06,      84,          1,         25,         25,2,20091214,       1021,   -32.5000,  -174.8403,       5734,   538.1,   8.1070,  34.5087,  34.5089,2,    221.5,2,   223.8,2,    5.91,2,   20.20,2,    0.00,2,    1.41,2,   3.055,2,   1.564,2,-999.000,1,    0.449,2,  2141.4,2,  2285.6,2,   7.7285,2,    25.00,-999.000,9,-999.0000,9, -999.00,9,    0.99,2,    23.2,2,     2.9,-999.000,9,-999.000,    49.3,2,-999.000,-999.0000, -999.00,   8.0513,   8.1081,2,20091214,       1238
318M20091121,        P06,      84,          1,         24,         24,2,20091214,       1021,   -32.5000,  -174.8403,       5734,   640.1,   7.3105,  34.4344,  34.4336,2,    227.2,2,   226.5,2,    7.73,2,   22.19,2,    0.00,2,    1.54,2,   2.715,2,   1.345,2,-999.000,1,    0.255,2,  2145.4,2,  2284.7,2,   7.6949,2,    25.00,-999.000,9,-999.0000,9, -999.00,9,    1.00,2,     7.6,2,     3.1,-999.000,9,-999.000,  -999.0,9,-999.000,-999.0000, -999.00,   7.2477,   7.3103,2,20091214,       1235
318M20091121,        P06,      84,          1,         23,         23,2,20091214,       1021,   -32.5000,  -174.8403,       5734,   741.4,   6.6690,  34.3811,  34.3804,2,    227.2,2,   227.7,2,    9.56,2,   23.74,2,    0.00,2,    1.65,2,   2.093,2,   1.018,2,-999.000,1,    0.198,2,  2148.2,2,  2283.8,2,   7.7006,2,    25.00,-999.000,9,-999.0000,9, -999.00,9,    1.05,2,    -6.1,2,     2.8,-999.000,9,-999.000,    40.2,2,-999.000,-999.0000, -999.00,   6.5994,   6.6711,2,20091214,       1231
318M20091121,        P06,      84,          1,         22,         22,2,20091214,       1021,   -32.5000,  -174.8403,       5734,   840.4,   6.1742,  34.3549,  34.3538,2,    222.2,2,   222.5,2,   12.62,2,   25.29,2,    0.00,2,    1.76,2,   1.570,2,   0.764,2,-999.000,1,    0.084,2,  2156.0,2,  2285.4,2,   7.6939,2,    25.00,-999.000,9,-999.0000,9, -999.00,9,    1.07,2,   -28.5,2,     3.5,-999.000,9,-999.000,  -999.0,9,-999.000,-999.0000, -999.00,   6.0979,   6.1720,2,20091214,       1227
318M20091121,        P06,      84,          1,         21,         21,2,20091214,       1021,   -32.5000,  -174.8403,       5734,   941.2,   5.6062,  34.3453,  34.3444,2,    211.6,2,   211.9,2,   18.56,2,   27.34,2,    0.00,2,    1.91,2,   1.040,2,   0.510,2,-999.000,1,        0,2,  2168.6,6,  2289.6,2,   7.6606,2,    25.00,-999.000,9,-999.0000,9, -999.00,9,    1.00,2,   -54.2,2,     2.9,-999.000,9,-999.000,    40.1,2,-999.000,-999.0000, -999.00,   5.5241,   5.6073,2,20091214,       1224
318M20091121,        P06,      84,          1,         20,         20,2,20091214,       1021,   -32.5000,  -174.8403,       5734,  1043.0,   4.9220,  34.3475,  34.3470,2,    201.0,2,   200.7,2,   27.02,2,   29.53,2,    0.00,2,    2.05,2,   0.643,2,   0.319,2,-999.000,1,        0,2,  2187.0,2,  2296.6,2,   7.6411,2,    25.00,-999.000,9,-999.0000,9, -999.00,9,    0.90,2,   -87.1,2,     2.6,-999.000,9,-999.000,  -999.0,9,-999.000,-999.0000, -999.00,   4.8357,   4.9240,2,20091214,       1221
318M20091121,        P06,      84,          1,         19,         19,2,20091214,       1021,   -32.5000,  -174.8403,       5734,  1145.1,   4.2182,  34.3719,  34.3708,2,    190.8,2,   189.6,2,   38.61,2,   31.40,2,    0.00,2,    2.19,2,   0.333,2,   0.174,2,-999.000,1,        0,2,  2205.6,2,  2307.1,6,   7.6041,2,    25.00,-999.000,9,-999.0000,9, -999.00,9,    0.71,2,  -115.6,2,     2.4,-999.000,9,-999.000,    37.3,2,-999.000,-999.0000, -999.00,   4.1286,   4.2178,2,20091214,       1217
318M20091121,        P06,      84,          1,         18,         18,2,20091214,       1021,   -32.5000,  -174.8403,       5734,  1245.1,   3.7367,  34.4044,  34.4036,2,    182.4,2,   182.0,2,   48.39,2,   32.47,2,    0.00,2,    2.28,2,   0.170,2,   0.098,2,-999.000,1,        0,2,  2220.6,2,  2318.7,2,   7.5788,2,    25.00,-999.000,9,-999.0000,9, -999.00,9,    0.68,2,  -124.2,2,     2.4,-999.000,9,-999.000,  -999.0,9,-999.000,-999.0000, -999.00,   3.6429,   3.7385,2,20091214,       1213
318M20091121,        P06,      84,          1,         17,         17,2,20091214,       1021,   -32.5000,  -174.8403,       5734,  1346.7,   3.2967,  34.4551,  34.4541,2,    174.6,2,   173.0,2,   60.31,2,   33.36,2,    0.00,2,    2.35,2,   0.076,2,   0.046,2,-999.000,1,        0,2,  2237.0,2,  2325.9,2,   7.5867,2,    25.00,-999.000,9,-999.0000,9, -999.00,9,    0.54,2,  -149.9,2,     2.5,-999.000,9,-999.000,    41.7,3,-999.000,-999.0000, -999.00,   3.1987,   3.2975,2,20091214,       1209
318M20091121,        P06,      84,          1,         16,         16,2,20091214,       1021,   -32.5000,  -174.8403,       5734,  1478.7,   2.9646,  34.5114,  34.5101,2,    166.2,2,   165.8,2,   73.55,2,   33.91,2,    0.00,2,    2.39,2,   0.036,2,   0.023,2,-999.000,1,        0,2,  2253.3,2,  2347.3,2,   7.5800,2,    25.00,-999.000,9,-999.0000,9, -999.00,9,    0.46,2,  -168.3,2,     2.5,-999.000,9,-999.000,  -999.0,9,-999.000,-999.0000, -999.00,   2.8591,   2.9648,2,20091214,       1205
318M20091121,        P06,      84,          1,         15,         15,2,20091214,       1021,   -32.5000,  -174.8403,       5734,  1681.5,   2.6353,  34.5762,  34.5756,2,    156.9,2,   157.2,2,   91.72,2,   34.44,2,    0.00,2,    2.43,2,   0.025,2,   0.016,2,-999.000,1,        0,2,  2275.2,2,  2365.2,2,   7.5534,2,    25.00,-999.000,9,-999.0000,9, -999.00,9, -999.00,9,  -999.0,9,  -999.0,-999.000,9,-999.000,    35.5,2,-999.000,-999.0000, -999.00,   2.5167,   2.6366,2,20091214,       1200
318M20091121,        P06,      84,          1,         14,         14,2,20091214,       1021,   -32.5000,  -174.8403,       5734,  1886.5,   2.4562,  34.6063,  34.6065,2,    151.9,2,   152.4,2,  103.38,2,   34.79,2,    0.00,2,    2.47,2,   0.011,2,   0.009,2,-999.000,1,        0,2,  2287.1,2,  2380.5,2,   7.5851,4,    25.00,-999.000,9,-999.0000,9, -999.00,9, -999.00,9,  -999.0,9,  -999.0,-999.000,9,-999.000,  -999.0,9,-999.000,-999.0000, -999.00,   2.3227,   2.4558,2,20091214,       1154
318M20091121,        P06,      84,          1,         13,         13,2,20091214,       1021,   -32.5000,  -174.8403,       5734,  2106.1,   2.2844,  34.6265,  34.6260,2,    149.5,2,   149.4,2,  111.67,2,   35.09,2,    0.00,2,    2.49,2,   0.016,2,   0.012,2,-999.000,1,        0,2,  2296.2,2,  2387.7,2,   7.5470,2,    25.00,-999.000,9,-999.0000,9, -999.00,9, -999.00,9,  -999.0,9,  -999.0,-999.000,9,-999.000,    40.6,2,-999.000,-999.0000, -999.00,   2.1345,   2.2846,2,20091214,       1149
318M20091121,        P06,      84,          1,         12,         12,2,20091214,       1021,   -32.5000,  -174.8403,       5734,  2361.9,   2.1482,  34.6399,  34.6400,2,    148.4,2,   147.7,2,  117.84,2,   35.23,2,    0.00,2,    2.50,2,   0.009,2,   0.007,2,-999.000,1,        0,2,  2301.2,2,  2393.5,2,   7.5866,2,    25.00,-999.000,9,-999.0000,9, -999.00,9, -999.00,9,  -999.0,9,  -999.0,-999.000,9,-999.000,  -999.0,9,-999.000,-999.0000, -999.00,   1.9778,   2.1483,2,20091214,       1143
318M20091121,        P06,      84,          1,         11,         11,2,20091214,       1021,   -32.5000,  -174.8403,       5734,  2618.4,   2.0190,  34.6521,  34.6516,2,    148.4,2,   148.0,2,  122.55,2,   35.28,2,    0.00,2,    2.51,2,   0.024,2,   0.017,2,-999.000,1,        0,2,  2307.7,2,  2399.9,2,   7.5574,4,    25.00,-999.000,9,-999.0000,9, -999.00,9, -999.00,9,  -999.0,9,  -999.0,-999.000,9,-999.000,    37.1,2,-999.000,-999.0000, -999.00,   1.8274,   2.0190,2,20091214,       1136
318M20091121,        P06,      84,          1,         10,         10,2,20091214,       1021,   -32.5000,  -174.8403,       5734,  2869.8,   1.8856,  34.6673,  34.6673,2,    152.7,2,   153.2,2,  124.03,2,   34.88,2,    0.00,2,    2.47,2,   0.021,2,   0.012,2,-999.000,1,        0,2,  2305.6,2,  2399.8,2,   7.5474,4,    25.00,-999.000,9,-999.0000,9, -999.00,9, -999.00,9,  -999.0,9,  -999.0,-999.000,9,-999.000,  -999.0,9,-999.000,-999.0000, -999.00,   1.6729,   1.8851,2,20091214,       1130
318M20091121,        P06,      84,          1,          9,          9,2,20091214,       1021,   -32.5000,  -174.8403,       5734,  3141.1,   1.7426,  34.6981,  34.6980,2,    171.6,2,   172.7,2,  113.58,2,   33.00,2,    0.00,2,    2.34,2,   0.034,2,   0.020,2,-999.000,1,        0,2,  2281.3,2,  2382.3,2,   7.6198,2,    25.00,-999.000,9,-999.0000,9, -999.00,9, -999.00,9,  -999.0,9,  -999.0,-999.000,9,-999.000,    35.3,2,-999.000,-999.0000, -999.00,   1.5065,   1.7424,2,20091214,       1123
318M20091121,        P06,      84,          1,          8,          8,2,20091214,       1021,   -32.5000,  -174.8403,       5734,  3447.2,   1.5491,  34.7159,  34.7159,2,    187.6,2,   188.5,2,  108.89,2,   31.87,2,    0.00,2,    2.24,2,   0.031,2,   0.021,2,-999.000,1,        0,2,  2266.2,2,  2371.2,2,   7.6280,2,    25.00,-999.000,9,-999.0000,9, -999.00,9, -999.00,9,  -999.0,9,  -999.0,-999.000,9,-999.000,  -999.0,9,-999.000,-999.0000, -999.00,   1.2869,   1.5500,2,20091214,       1116
318M20091121,        P06,      84,          1,          7,          7,2,20091214,       1021,   -32.5000,  -174.8403,       5734,  3754.5,   1.3141,  34.7202,  34.7199,2,    199.1,2,   199.1,2,  110.59,2,   31.38,2,    0.00,2,    2.21,2,   0.062,2,   0.040,2,-999.000,1,        0,2,  2258.8,2,  2366.1,2,   7.6149,2,    25.00,-999.000,9,-999.0000,9, -999.00,9, -999.00,9,  -999.0,9,  -999.0,-999.000,9,-999.000,    41.4,2,-999.000,-999.0000, -999.00,   1.0262,   1.3140,2,20091214,       1109
318M20091121,        P06,      84,          1,          6,          6,2,20091214,       1021,   -32.5000,  -174.8403,       5734,  4097.8,   1.1298,  34.7151,  34.7161,2,    204.1,2,   204.1,2,  115.28,2,   31.43,2,    0.00,2,    2.21,2,   0.059,2,   0.038,2,-999.000,1,        0,2,  2259.2,2,  2366.9,2,   7.6144,2,    25.00,-999.000,9,-999.0000,9, -999.00,9, -999.00,9,  -999.0,9,  -999.0,-999.000,9,-999.000,  -999.0,9,-999.000,-999.0000, -999.00,   0.8106,   1.1299,2,20091214,       1100
318M20091121,        P06,      84,          1,          5,          5,2,20091214,       1021,   -32.5000,  -174.8403,       5734,  4509.2,   1.0470,  34.7110,  34.7134,3,    206.4,2,   206.0,2,  118.69,2,   31.58,2,    0.00,2,    2.21,2,   0.090,2,   0.052,2,-999.000,1,        0,2,  2257.4,2,  2361.2,2,   7.6158,2,    25.00,-999.000,9,-999.0000,9, -999.00,9, -999.00,9,  -999.0,9,  -999.0,-999.000,9,-999.000,    39.2,2,-999.000,-999.0000, -999.00,   0.6849,   1.0470,2,20091214,       1051
318M20091121,        P06,      84,          1,          4,          4,2,20091214,       1021,   -32.5000,  -174.8403,       5734,  4929.2,   1.0414,  34.7090,  34.7083,2,    206.7,2,   206.8,2,  120.41,2,   31.67,2,    0.00,2,    2.22,2,   0.088,2,   0.048,2,-999.000,1,        0,2,  2259.9,2,  2366.8,2,   7.6051,2,    25.00,-999.000,9,-999.0000,9, -999.00,9, -999.00,9,  -999.0,9,  -999.0,-999.000,9,-999.000,  -999.0,9,-999.000,-999.0000, -999.00,   0.6309,   1.0414,2,20091214,       1043
318M20091121,        P06,      84,          1,          3,          3,2,20091214,       1021,   -32.5000,  -174.8403,       5734,  5344.0,   1.0714,  34.7082,  34.7077,2,    207.1,2,   207.1,2,  121.25,2,   31.77,2,    0.00,2,    2.22,2,   0.096,2,   0.052,2,-999.000,1,        0,2,  2261.4,2,  2367.6,2,   7.6923,4,    25.00,-999.000,9,-999.0000,9, -999.00,9, -999.00,9,  -999.0,9,  -999.0,-999.000,9,-999.000,    42.7,2,-999.000,-999.0000, -999.00,   0.6097,   1.0716,2,20091214,       1033
318M20091121,        P06,      84,          1,          2,          2,2,20091214,       1021,   -32.5000,  -174.8403,       5734,  5581.3,   1.0992,  34.7081,  34.7075,2,    207.0,2,   207.1,2,  121.47,2,   31.77,2,    0.00,2,    2.22,2,   0.090,2,   0.047,2,-999.000,1,        0,2,  2261.3,2,  2366.5,6,-999.0000,9,  -999.00,-999.000,9,-999.0000,9, -999.00,9, -999.00,9,  -999.0,9,  -999.0,-999.000,9,-999.000,  -999.0,9,-999.000,-999.0000, -999.00,   0.6068,   1.0992,2,20091214,       1027
318M20091121,        P06,      84,          1,          1,          1,2,20091214,       1021,   -32.5000,  -174.8403,       5734,  5842.3,   1.1321,  34.7077,  34.7063,2,    207.3,2,   207.2,2,  121.47,2,   31.77,2,    0.00,2,    2.22,2,   0.092,2,   0.052,2,-999.000,1,        0,2,  2261.4,6,  2395.3,4,   7.6207,2,    25.00,-999.000,9,-999.0000,9, -999.00,9, -999.00,9,  -999.0,9,  -999.0,-999.000,9,-999.000,    37.7,2,-999.000,-999.0000, -999.00,   0.6050,   1.1321,2,20091214,       1021