BOTTLE,20220818CCHSIOAMB
EXPOCODE,SECT_ID,STNNBR,CASTNO,SAMPNO,BTLNBR,BTLNBR_FLAG_W,DATE,TIME,LATITUDE,LONGITUDE,DEPTH,CTDPRS,CTDTMP,CTDSAL,SALNTY,SALNTY_FLAG_W,CTDOXY,CTDOXY_FLAG_W,OXYGEN,OXYGEN_FLAG_W,SILCAT,SILCAT_FLAG_W,NITRAT,NITRAT_FLAG_W,NITRIT,NITRIT_FLAG_W,PHSPHT,PHSPHT_FLAG_W,CFC-11,CFC-11_FLAG_W,CFC-12,CFC-12_FLAG_W,CFC113,CFC113_FLAG_W,SF6,SF6_FLAG_W,TCARBN,TCARBN_FLAG_W,ALKALI,ALKALI_FLAG_W,PH_SWS,PH_SWS_FLAG_W,PH_TMP,TRITUM,TRITUM_FLAG_W,HELIUM,HELIUM_FLAG_W,DELHE3,DELHE3_FLAG_W,DELC13,DELC13_FLAG_W,DELC14,DELC14_FLAG_W,C14ERR,NEON,NEON_FLAG_W,NEONER,DOC,DOC_FLAG_W,TRITER,HELIER,DELHER,THETA,SBE35,SBE35_FLAG_W,BTL_DATE,BTL_TIME
,,,,,,,,,,,METERS,DBAR,ITS-90,PSS-78,PSS-78,,UMOL/KG,,UMOL/KG,,UMOL/KG,,UMOL/KG,,UMOL/KG,,UMOL/KG,,PMOL/KG,,PMOL/KG,,PMOL/KG,,FMOL/KG,,UMOL/KG,,UMOL/KG,,,,DEG C,TU,,NMOL/KG,,PERCNT,,/MILLE,,/MILLE,,/MILLE,NMOL/KG,,NMOL/KG,UMOL/KG,,TU,NMOL/KG,PERCNT,DEG C,ITS-90,,,
318M20091121,        P06,     117,          1,         36,         36,2,20091226,       1818,   -32.5001,  -152.8334,       5484,     9.9,  21.4930,  35.4209,  35.4205,2,    221.7,2,   221.7,2,    0.31,2,   -0.01,2,    0.01,2,    0.08,2,   1.958,2,   1.325,2,-999.000,1,    1.195,2,  2037.3,2,  2326.2,2,   8.0161,6,    25.00,-999.000,9,-999.0000,9, -999.00,9, -999.00,9,  -999.0,9,  -999.0,-999.000,9,-999.000,  -999.0,9,-999.000,-999.0000, -999.00,  21.4911,  21.4901,2,20091226,       2046
318M20091121,        P06,     117,          1,         35,         35,2,20091226,       1818,   -32.5001,  -152.8334,       5484,    34.3,  20.8724,  35.4114,  35.4112,2,    226.0,2,   225.9,2,    0.26,2,    0.00,2,    0.00,2,    0.08,2,   2.039,2,   1.363,2,-999.000,1,    1.255,2,  -999.0,9,  -999.0,9,-999.0000,9,  -999.00,-999.000,9,-999.0000,9, -999.00,9, -999.00,9,  -999.0,9,  -999.0,-999.000,9,-999.000,  -999.0,9,-999.000,-999.0000, -999.00,  20.8659,  20.8679,2,20091226,       2043
318M20091121,        P06,     117,          1,         34,         34,2,20091226,       1818,   -32.5001,  -152.8334,       5484,    60.0,  18.5699,  35.4139,  35.4112,2,    240.4,2,   239.3,2,    0.22,2,    0.00,2,    0.00,2,    0.09,2,   2.249,2,   1.502,2,-999.000,1,    1.198,2,  -999.0,9,  -999.0,9,-999.0000,9,  -999.00,-999.000,9,-999.0000,9, -999.00,9, -999.00,9,  -999.0,9,  -999.0,-999.000,9,-999.000,  -999.0,9,-999.000,-999.0000, -999.00,  18.5594,  18.5815,2,20091226,       2041
318M20091121,        P06,     117,          1,         33,         33,2,20091226,       1818,   -32.5001,  -152.8334,       5484,    86.8,  17.6726,  35.4408,  35.4402,2,    237.1,2,   236.8,2,    0.18,2,    0.00,2,    0.00,2,    0.10,2,   2.257,2,   1.504,2,-999.000,1,    1.156,2,  2045.7,2,  2326.5,6,   8.0018,2,    25.00,-999.000,9,-999.0000,9, -999.00,9, -999.00,9,  -999.0,9,  -999.0,-999.000,9,-999.000,  -999.0,9,-999.000,-999.0000, -999.00,  17.6579,  17.6702,2,20091226,       2038
318M20091121,        P06,     117,          1,         32,         32,2,20091226,       1818,   -32.5001,  -152.8334,       5484,   117.0,  16.7082,  35.3796,  35.3761,2,    235.5,2,   232.6,3,    0.13,2,   -0.06,2,    0.06,2,    0.15,2,   2.358,2,   1.550,2,-999.000,1,    1.324,2,  -999.0,9,  -999.0,9,-999.0000,9,  -999.00,-999.000,9,-999.0000,9, -999.00,9, -999.00,9,  -999.0,9,  -999.0,-999.000,9,-999.000,  -999.0,9,-999.000,-999.0000, -999.00,  16.6891,  16.7038,2,20091226,       2036
318M20091121,        P06,     117,          1,         31,         31,2,20091226,       1818,   -32.5001,  -152.8334,       5484,   167.4,  16.0342,  35.3257,  35.3228,2,    231.7,2,   231.4,2,    0.28,2,    0.34,2,    0.46,2,    0.20,2,   2.407,2,   1.584,2,-999.000,1,    1.299,2,  2062.5,2,  2321.2,2,   7.9649,2,    25.00,-999.000,9,-999.0000,9, -999.00,9, -999.00,9,  -999.0,9,  -999.0,-999.000,9,-999.000,  -999.0,9,-999.000,-999.0000, -999.00,  16.0076,  16.0346,2,20091226,       2034
318M20091121,        P06,     117,          1,         30,         30,2,20091226,       1818,   -32.5001,  -152.8334,       5484,   218.1,  15.0151,  35.2440,  35.2439,2,    218.4,2,   212.1,2,    0.84,2,    4.15,2,    0.01,2,    0.44,2,   2.484,6,   1.585,6,-999.000,1,    1.148,6,  -999.0,9,  -999.0,9,-999.0000,9,  -999.00,-999.000,9,-999.0000,9, -999.00,9, -999.00,9,  -999.0,9,  -999.0,-999.000,9,-999.000,  -999.0,9,-999.000,-999.0000, -999.00,  14.9820,  15.0148,2,20091226,       2031
318M20091121,        P06,     117,          1,         29,         29,2,20091226,       1818,   -32.5001,  -152.8334,       5484,   263.1,  13.4942,  35.0941,  35.0970,2,    200.7,2,   200.2,2,    1.81,2,    8.34,2,    0.01,2,    0.70,2,   2.594,2,   1.599,2,-999.000,1,    0.996,2,  2106.9,2,  2309.0,2,   7.8583,2,    25.00,-999.000,9,-999.0000,9, -999.00,9, -999.00,9,  -999.0,9,  -999.0,-999.000,9,-999.000,  -999.0,9,-999.000,-999.0000, -999.00,  13.4570,  13.5066,2,20091226,       2028
318M20091121,        P06,     117,          1,         28,         28,2,20091226,       1818,   -32.5001,  -152.8334,       5484,   314.4,  12.0651,  34.9257,  34.9298,2,    203.5,2,   204.0,2,    2.37,2,   11.02,2,    0.00,2,    0.87,2,   2.725,2,   1.656,2,-999.000,1,    0.919,2,  -999.0,9,  -999.0,9,-999.0000,9,  -999.00,-999.000,9,-999.0000,9, -999.00,9, -999.00,9,  -999.0,9,  -999.0,-999.000,9,-999.000,  -999.0,9,-999.000,-999.0000, -999.00,  12.0238,  12.0711,2,20091226,       2025
318M20091121,        P06,     117,          1,         27,         27,2,20091226,       1818,   -32.5001,  -152.8334,       5484,   365.2,  10.3213,  34.7191,  34.7211,2,    210.6,2,   210.7,2,    3.13,2,   14.34,2,    0.00,2,    1.09,2,   2.866,2,   1.696,2,-999.000,1,    0.932,2,  2125.0,2,  2291.5,2,   7.7925,2,    25.00,-999.000,9,-999.0000,9, -999.00,9, -999.00,9,  -999.0,9,  -999.0,-999.000,9,-999.000,  -999.0,9,-999.000,-999.0000, -999.00,  10.2779,  10.3473,2,20091226,       2022
318M20091121,        P06,     117,          1,         26,         26,2,20091226,       1818,   -32.5001,  -152.8334,       5484,   436.5,   8.5778,  34.5314,  34.5270,2,    223.9,2,   226.3,2,    4.10,2,   17.70,2,    0.00,2,    1.28,2,   3.189,2,   1.858,2,-999.000,1,    0.934,2,  2133.5,2,  2288.4,2,   7.7514,2,    25.00,-999.000,9,-999.0000,9, -999.00,9, -999.00,9,  -999.0,9,  -999.0,-999.000,9,-999.000,  -999.0,9,-999.000,-999.0000, -999.00,   8.5314,   8.5784,2,20091226,       2018
318M20091121,        P06,     117,          1,         25,         25,2,20091226,       1818,   -32.5001,  -152.8334,       5484,   538.1,   7.4730,  34.4209,  34.4198,2,    240.7,2,   241.7,2,    5.07,2,   19.79,2,    0.00,2,    1.41,2,   3.466,2,   1.971,2,-999.000,1,    0.987,2,  2136.4,2,  2285.2,2,   7.7428,2,    25.00,-999.000,9,-999.0000,9, -999.00,9, -999.00,9,  -999.0,9,  -999.0,-999.000,9,-999.000,  -999.0,9,-999.000,-999.0000, -999.00,   7.4199,   7.4721,2,20091226,       2015
318M20091121,        P06,     117,          1,         24,         24,2,20091226,       1818,   -32.5001,  -152.8334,       5484,   639.5,   7.0449,  34.3856,  34.3853,2,    250.6,2,   250.0,2,    5.63,2,   20.38,2,    0.00,2,    1.46,2,   3.557,2,   2.021,2,-999.000,1,    0.996,2,  2134.5,2,  2284.6,2,   7.7448,2,    25.00,-999.000,9,-999.0000,9, -999.00,9, -999.00,9,  -999.0,9,  -999.0,-999.000,9,-999.000,  -999.0,9,-999.000,-999.0000, -999.00,   6.9835,   7.0441,2,20091226,       2012
318M20091121,        P06,     117,          1,         23,         23,2,20091226,       1818,   -32.5001,  -152.8334,       5484,   741.5,   6.6971,  34.3613,  34.3609,2,    249.7,2,   248.8,2,    6.79,2,   21.51,2,    0.00,2,    1.52,2,   3.159,2,   1.797,2,-999.000,1,    0.797,2,  2137.9,2,  2284.5,2,   7.7382,2,    25.00,-999.000,9,-999.0000,9, -999.00,9, -999.00,9,  -999.0,9,  -999.0,-999.000,9,-999.000,  -999.0,9,-999.000,-999.0000, -999.00,   6.6273,   6.6954,2,20091226,       2009
318M20091121,        P06,     117,          1,         22,         22,2,20091226,       1818,   -32.5001,  -152.8334,       5484,   838.7,   6.2741,  34.3358,  34.3358,2,    237.2,2,   237.1,2,    9.38,2,   23.63,2,    0.00,2,    1.65,2,   2.352,2,   1.277,2,-999.000,1,    0.382,2,  2144.9,2,  2285.2,2,   7.7200,2,    25.00,-999.000,9,-999.0000,9, -999.00,9, -999.00,9,  -999.0,9,  -999.0,-999.000,9,-999.000,  -999.0,9,-999.000,-999.0000, -999.00,   6.1973,   6.2731,2,20091226,       2006
318M20091121,        P06,     117,          1,         21,         21,2,20091226,       1818,   -32.5001,  -152.8334,       5484,   940.3,   5.5999,  34.3142,  34.3143,2,    222.8,2,   222.8,2,   15.01,2,   26.41,2,    0.00,2,    1.84,2,   1.412,2,   0.730,2,-999.000,1,    0.138,2,  2159.6,2,  2289.6,2,   7.6896,2,    25.00,-999.000,9,-999.0000,9, -999.00,9, -999.00,9,  -999.0,9,  -999.0,-999.000,9,-999.000,  -999.0,9,-999.000,-999.0000, -999.00,   5.5180,   5.5956,2,20091226,       2003
318M20091121,        P06,     117,          1,         20,         20,2,20091226,       1818,   -32.5001,  -152.8334,       5484,  1042.5,   4.9585,  34.3150,  34.3151,2,    209.5,2,   210.2,2,   22.68,2,   28.76,2,    0.00,2,    2.00,2,   0.900,2,   0.462,2,-999.000,1,     0.13,2,  2195.5,3,  2294.3,6,   7.6611,2,    25.00,-999.000,9,-999.0000,9, -999.00,9, -999.00,9,  -999.0,9,  -999.0,-999.000,9,-999.000,  -999.0,9,-999.000,-999.0000, -999.00,   4.8720,   4.9564,2,20091226,       1959
318M20091121,        P06,     117,          1,         19,         19,2,20091226,       1818,   -32.5001,  -152.8334,       5484,  1143.8,   4.2801,  34.3373,  34.3373,2,    196.9,2,   197.7,2,   32.60,2,   30.92,2,    0.00,2,    2.14,2,   0.524,2,   0.269,2,-999.000,1,        0,2,  -999.0,9,  -999.0,9,-999.0000,9,  -999.00,-999.000,9,-999.0000,9, -999.00,9, -999.00,9,  -999.0,9,  -999.0,-999.000,9,-999.000,  -999.0,9,-999.000,-999.0000, -999.00,   4.1902,   4.2825,2,20091226,       1956
318M20091121,        P06,     117,          1,         18,         18,2,20091226,       1818,   -32.5001,  -152.8334,       5484,  1246.8,   3.6608,  34.3828,  34.3829,2,    186.4,2,   185.3,2,   45.18,2,   32.64,2,    0.00,2,    2.27,2,   0.235,2,   0.125,2,-999.000,1,        0,2,  -999.0,9,  -999.0,9,-999.0000,9,  -999.00,-999.000,9,-999.0000,9, -999.00,9, -999.00,9,  -999.0,9,  -999.0,-999.000,9,-999.000,  -999.0,9,-999.000,-999.0000, -999.00,   3.5676,   3.6627,2,20091226,       1951
318M20091121,        P06,     117,          1,         17,         17,2,20091226,       1818,   -32.5001,  -152.8334,       5484,  1342.6,   3.2820,  34.4290,  34.4289,2,    177.4,2,   177.8,2,   55.14,2,   33.45,2,    0.00,2,    2.33,2,   0.121,2,   0.065,2,-999.000,1,        0,2,  2230.1,2,  2323.3,2,   7.5909,2,    25.00,-999.000,9,-999.0000,9, -999.00,9, -999.00,9,  -999.0,9,  -999.0,-999.000,9,-999.000,  -999.0,9,-999.000,-999.0000, -999.00,   3.1845,   3.2827,2,20091226,       1948
318M20091121,        P06,     117,          1,         16,         16,2,20091226,       1818,   -32.5001,  -152.8334,       5484,  1476.0,   2.9646,  34.4870,  34.4873,2,    169.6,2,   169.6,2,   66.76,2,   34.06,2,    0.00,2,    2.38,2,   0.064,2,   0.040,2,-999.000,1,        0,2,  -999.0,9,  -999.0,9,-999.0000,9,  -999.00,-999.000,9,-999.0000,9, -999.00,9, -999.00,9,  -999.0,9,  -999.0,-999.000,9,-999.000,  -999.0,9,-999.000,-999.0000, -999.00,   2.8594,   2.9642,2,20091226,       1945
318M20091121,        P06,     117,          1,         15,         15,2,20091226,       1818,   -32.5001,  -152.8334,       5484,  1680.8,   2.6182,  34.5670,  34.5670,2,    160.0,2,   160.0,2,   85.59,2,   34.50,2,    0.00,2,    2.42,2,   0.023,2,   0.013,2,-999.000,1,        0,2,  2267.6,2,  2363.2,2,   7.5754,2,    25.00,-999.000,9,-999.0000,9, -999.00,9, -999.00,9,  -999.0,9,  -999.0,-999.000,9,-999.000,  -999.0,9,-999.000,-999.0000, -999.00,   2.4999,   2.6152,2,20091226,       1940
318M20091121,        P06,     117,          1,         14,         14,2,20091226,       1818,   -32.5001,  -152.8334,       5484,  1880.0,   2.3757,  34.6106,  34.6110,2,    154.1,2,   154.8,2,  100.17,2,   34.91,2,    0.00,2,    2.45,2,   0.006,2,   0.005,2,-999.000,1,        0,2,  -999.0,9,  -999.0,9,-999.0000,9,  -999.00,-999.000,9,-999.0000,9, -999.00,9, -999.00,9,  -999.0,9,  -999.0,-999.000,9,-999.000,  -999.0,9,-999.000,-999.0000, -999.00,   2.2439,   2.3757,2,20091226,       1935
318M20091121,        P06,     117,          1,         13,         13,2,20091226,       1818,   -32.5001,  -152.8334,       5484,  2104.9,   2.1912,  34.6335,  34.6331,2,    151.2,2,   151.6,2,  110.24,2,   35.22,2,    0.00,2,    2.47,2,   0.008,2,   0.005,2,-999.000,1,        0,2,  2296.5,2,  2392.4,2,   7.5758,2,    25.00,-999.000,9,-999.0000,9, -999.00,9, -999.00,9,  -999.0,9,  -999.0,-999.000,9,-999.000,  -999.0,9,-999.000,-999.0000, -999.00,   2.0428,   2.1914,2,20091226,       1930
318M20091121,        P06,     117,          1,         12,         12,2,20091226,       1818,   -32.5001,  -152.8334,       5484,  2362.6,   2.0119,  34.6491,  34.6489,2,    149.1,2,   148.4,2,  119.51,2,   35.57,2,    0.00,2,    2.49,2,   0.011,2,   0.009,2,-999.000,1,        0,2,  -999.0,9,  -999.0,9,-999.0000,9,  -999.00,-999.000,9,-999.0000,9, -999.00,9, -999.00,9,  -999.0,9,  -999.0,-999.000,9,-999.000,  -999.0,9,-999.000,-999.0000, -999.00,   1.8438,   2.0117,2,20091226,       1924
318M20091121,        P06,     117,          1,         11,         11,2,20091226,       1818,   -32.5001,  -152.8334,       5484,  2612.7,   1.8998,  34.6588,  34.6587,2,    149.0,2,   148.8,2,  124.64,2,   35.67,2,    0.00,2,    2.49,2,   0.006,2,   0.005,2,-999.000,1,        0,2,  2311.9,2,  2410.0,2,   7.5762,2,    25.00,-999.000,9,-999.0000,9, -999.00,9, -999.00,9,  -999.0,9,  -999.0,-999.000,9,-999.000,  -999.0,9,-999.000,-999.0000, -999.00,   1.7110,   1.8996,2,20091226,       1918
318M20091121,        P06,     117,          1,         10,         10,2,20091226,       1818,   -32.5001,  -152.8334,       5484,  2870.4,   1.8238,  34.6660,  34.6658,2,    151.1,2,   150.8,2,  126.87,2,   35.56,2,    0.00,2,    2.48,2,   0.007,2,   0.005,2,-999.000,1,        0,2,  -999.0,9,  -999.0,9,-999.0000,9,  -999.00,-999.000,9,-999.0000,9, -999.00,9, -999.00,9,  -999.0,9,  -999.0,-999.000,9,-999.000,  -999.0,9,-999.000,-999.0000, -999.00,   1.6124,   1.8239,2,20091226,       1912
318M20091121,        P06,     117,          1,          9,          9,2,20091226,       1818,   -32.5001,  -152.8334,       5484,  3137.8,   1.7396,  34.6747,  34.6745,2,    155.9,2,   155.6,2,  127.24,2,   35.20,2,    0.00,2,    2.46,2,   0.007,2,   0.005,2,-999.000,1,        0,2,  2308.6,2,  2405.1,2,   7.5833,2,    25.00,-999.000,9,-999.0000,9, -999.00,9, -999.00,9,  -999.0,9,  -999.0,-999.000,9,-999.000,  -999.0,9,-999.000,-999.0000, -999.00,   1.5040,   1.7392,2,20091226,       1906
318M20091121,        P06,     117,          1,          8,          8,2,20091226,       1818,   -32.5001,  -152.8334,       5484,  3443.0,   1.6460,  34.6881,  34.6883,2,    166.2,2,   166.2,2,  123.04,2,   34.32,2,    0.00,2,    2.39,2,   0.018,2,   0.013,2,-999.000,1,        0,2,  -999.0,9,  -999.0,9,-999.0000,9,  -999.00,-999.000,9,-999.0000,9, -999.00,9, -999.00,9,  -999.0,9,  -999.0,-999.000,9,-999.000,  -999.0,9,-999.000,-999.0000, -999.00,   1.3819,   1.6456,2,20091226,       1900
318M20091121,        P06,     117,          1,          7,          7,2,20091226,       1818,   -32.5001,  -152.8334,       5484,  3752.5,   1.5245,  34.7051,  34.7046,2,    181.9,2,   182.7,2,  115.33,2,   32.84,2,    0.00,2,    2.29,2,   0.014,2,   0.011,2,-999.000,1,        0,2,  2277.7,2,  2381.8,2,   7.6059,2,    25.00,-999.000,9,-999.0000,9, -999.00,9, -999.00,9,  -999.0,9,  -999.0,-999.000,9,-999.000,  -999.0,9,-999.000,-999.0000, -999.00,   1.2313,   1.5245,2,20091226,       1853
318M20091121,        P06,     117,          1,          6,          6,2,20091226,       1818,   -32.5001,  -152.8334,       5484,  4056.9,   1.3748,  34.7134,  34.7133,2,    194.4,2,   194.4,2,  112.39,2,   32.02,2,    0.00,2,    2.23,2,   0.017,2,   0.011,2,-999.000,1,        0,2,  -999.0,9,  -999.0,9,-999.0000,9,  -999.00,-999.000,9,-999.0000,9, -999.00,9, -999.00,9,  -999.0,9,  -999.0,-999.000,9,-999.000,  -999.0,9,-999.000,-999.0000, -999.00,   1.0530,   1.3749,2,20091226,       1847
318M20091121,        P06,     117,          1,          5,         37,2,20091226,       1818,   -32.5001,  -152.8334,       5484,  4366.8,   1.2105,  34.7124,  34.7121,2,    200.3,2,   200.0,2,  115.03,2,   31.76,2,    0.00,2,    2.21,2,   0.016,2,   0.011,2,-999.000,1,        0,2,  2262.8,2,  -999.0,9,-999.0000,9,  -999.00,-999.000,9,-999.0000,9, -999.00,9, -999.00,9,  -999.0,9,  -999.0,-999.000,9,-999.000,  -999.0,9,-999.000,-999.0000, -999.00,   0.8593,   1.2105,2,20091226,       1841
318M20091121,        P06,     117,          1,          4,          4,2,20091226,       1818,   -32.5001,  -152.8334,       5484,  4679.2,   1.1306,  34.7113,  34.7112,2,    203.5,2,   203.6,2,  116.84,2,   31.80,2,    0.00,2,    2.21,2,   0.029,2,   0.021,2,-999.000,1,        0,2,  -999.0,9,  -999.0,9,-999.0000,9,  -999.00,-999.000,9,-999.0000,9, -999.00,9, -999.00,9,  -999.0,9,  -999.0,-999.000,9,-999.000,  -999.0,9,-999.000,-999.0000, -999.00,   0.7464,   1.1307,2,20091226,       1834
318M20091121,        P06,     117,          1,          3,          3,2,20091226,       1818,   -32.5001,  -152.8334,       5484,  4881.0,   1.1217,  34.7104,  34.7104,2,    203.6,2,   203.5,2,  117.62,2,   31.85,2,    0.00,2,    2.21,2,   0.035,2,   0.022,2,-999.000,1,        0,2,  2262.2,2,  2369.4,6,   7.6186,2,    25.00,-999.000,9,-999.0000,9, -999.00,9, -999.00,9,  -999.0,9,  -999.0,-999.000,9,-999.000,  -999.0,9,-999.000,-999.0000, -999.00,   0.7142,   1.1217,2,20091226,       1829
318M20091121,        P06,     117,          1,          2,          2,2,20091226,       1818,   -32.5001,  -152.8334,       5484,  5088.1,   1.1181,  34.7097,  34.7094,2,    205.2,2,   204.9,2,  117.98,2,   31.85,2,    0.00,2,    2.21,2,   0.042,2,   0.027,2,-999.000,1,        0,2,  -999.0,9,  -999.0,9,-999.0000,9,  -999.00,-999.000,9,-999.0000,9, -999.00,9, -999.00,9,  -999.0,9,  -999.0,-999.000,9,-999.000,  -999.0,9,-999.000,-999.0000, -999.00,   0.6860,   1.1179,2,20091226,       1824
318M20091121,        P06,     117,          1,          1,          1,2,20091226,       1818,   -32.5001,  -152.8334,       5484,  5227.3,   1.1219,  34.7093,  34.7148,3,    205.2,2,   205.3,2,  118.56,2,   31.89,2,    0.00,2,    2.21,2,   0.051,2,   0.031,2,-999.000,1,        0,2,  2262.6,6,  2369.1,2,   7.6135,6,    25.00,-999.000,9,-999.0000,9, -999.00,9, -999.00,9,  -999.0,9,  -999.0,-999.000,9,-999.000,  -999.0,9,-999.000,-999.0000, -999.00,   0.6727,   1.1223,2,20091226,       1818