BOTTLE,20220818CCHSIOAMB
EXPOCODE,SECT_ID,STNNBR,CASTNO,SAMPNO,BTLNBR,BTLNBR_FLAG_W,DATE,TIME,LATITUDE,LONGITUDE,DEPTH,CTDPRS,CTDTMP,CTDSAL,SALNTY,SALNTY_FLAG_W,CTDOXY,CTDOXY_FLAG_W,OXYGEN,OXYGEN_FLAG_W,SILCAT,SILCAT_FLAG_W,NITRAT,NITRAT_FLAG_W,NITRIT,NITRIT_FLAG_W,PHSPHT,PHSPHT_FLAG_W,CFC-11,CFC-11_FLAG_W,CFC-12,CFC-12_FLAG_W,CFC113,CFC113_FLAG_W,SF6,SF6_FLAG_W,TCARBN,TCARBN_FLAG_W,ALKALI,ALKALI_FLAG_W,PH_SWS,PH_SWS_FLAG_W,PH_TMP,TRITUM,TRITUM_FLAG_W,HELIUM,HELIUM_FLAG_W,DELHE3,DELHE3_FLAG_W,DELC13,DELC13_FLAG_W,DELC14,DELC14_FLAG_W,C14ERR,NEON,NEON_FLAG_W,NEONER,DOC,DOC_FLAG_W,TRITER,HELIER,DELHER,THETA,SBE35,SBE35_FLAG_W,BTL_DATE,BTL_TIME
,,,,,,,,,,,METERS,DBAR,ITS-90,PSS-78,PSS-78,,UMOL/KG,,UMOL/KG,,UMOL/KG,,UMOL/KG,,UMOL/KG,,UMOL/KG,,PMOL/KG,,PMOL/KG,,PMOL/KG,,FMOL/KG,,UMOL/KG,,UMOL/KG,,,,DEG C,TU,,NMOL/KG,,PERCNT,,/MILLE,,/MILLE,,/MILLE,NMOL/KG,,NMOL/KG,UMOL/KG,,TU,NMOL/KG,PERCNT,DEG C,ITS-90,,,
318M20091121,        P06,     120,          1,         36,         36,2,20091227,       1928,   -32.4999,  -150.7081,       5086,     4.2,  22.2562,  35.4420,  35.4419,2,    218.9,2,   219.3,2,    0.32,2,   -0.02,2,    0.00,2,    0.08,2,   1.881,2,   1.250,2,-999.000,1,    1.128,2,  2034.5,6,  2325.6,2,   8.0247,6,    25.00,-999.000,9,-999.0000,9, -999.00,9, -999.00,9,  -999.0,9,  -999.0,-999.000,9,-999.000,  -999.0,5,-999.000,-999.0000, -999.00,  22.2554,  22.2561,2,20091227,       2155
318M20091121,        P06,     120,          1,         35,         35,2,20091227,       1928,   -32.4999,  -150.7081,       5086,    34.3,  20.4017,  35.4419,  35.4447,2,    231.5,2,   232.5,2,    0.27,2,   -0.01,2,    0.00,2,    0.08,2,   2.071,2,   1.357,2,-999.000,1,    1.097,2,  2037.3,2,  2325.9,6,   8.0197,2,    25.00,-999.000,9,-999.0000,9, -999.00,9, -999.00,9,  -999.0,9,  -999.0,-999.000,9,-999.000,    58.8,2,-999.000,-999.0000, -999.00,  20.3953,  20.3430,3,20091227,       2153
318M20091121,        P06,     120,          1,         34,         34,2,20091227,       1928,   -32.4999,  -150.7081,       5086,    59.8,  18.6514,  35.4384,  35.4386,2,    238.4,2,   239.5,2,    0.22,2,    0.00,2,    0.00,2,    0.09,2,   2.199,2,   1.445,2,-999.000,1,    1.256,2,  2038.7,2,  2327.1,2,   8.0139,2,    25.00,-999.000,9,-999.0000,9, -999.00,9, -999.00,9,  -999.0,9,  -999.0,-999.000,9,-999.000,  -999.0,5,-999.000,-999.0000, -999.00,  18.6409,  18.6358,2,20091227,       2151
318M20091121,        P06,     120,          1,         33,         33,2,20091227,       1928,   -32.4999,  -150.7081,       5086,    84.6,  17.9418,  35.4315,  35.4313,2,    238.7,2,   238.1,2,    0.18,2,    0.00,2,    0.00,2,    0.10,2,   2.263,2,   1.487,2,-999.000,1,    1.217,2,  2042.7,2,  2326.2,2,   8.0090,2,    25.00,-999.000,9,-999.0000,9, -999.00,9, -999.00,9,  -999.0,9,  -999.0,-999.000,9,-999.000,  -999.0,5,-999.000,-999.0000, -999.00,  17.9273,  17.9328,2,20091227,       2149
318M20091121,        P06,     120,          1,         32,         32,2,20091227,       1928,   -32.4999,  -150.7081,       5086,   115.9,  17.3236,  35.4137,  35.4146,2,    226.9,2,   230.8,2,    0.13,2,    0.03,2,    0.01,2,    0.13,2,   2.291,2,   1.491,2,-999.000,1,    1.211,2,  2051.8,2,  2326.5,2,   7.9894,2,    25.00,-999.000,9,-999.0000,9, -999.00,9, -999.00,9,  -999.0,9,  -999.0,-999.000,9,-999.000,    61.9,2,-999.000,-999.0000, -999.00,  17.3042,  17.3447,2,20091227,       2146
318M20091121,        P06,     120,          1,         31,         31,2,20091227,       1928,   -32.4999,  -150.7081,       5086,   164.8,  16.5265,  35.3720,  35.3694,2,    215.2,2,   215.2,2,    0.49,2,    2.27,2,    0.05,2,    0.28,2,   2.369,2,   1.529,2,-999.000,1,    1.164,2,  2071.2,2,  2323.3,2,   7.9497,2,    25.00,-999.000,9,-999.0000,9, -999.00,9, -999.00,9,  -999.0,9,  -999.0,-999.000,9,-999.000,    56.5,2,-999.000,-999.0000, -999.00,  16.4998,  16.5242,2,20091227,       2143
318M20091121,        P06,     120,          1,         30,         30,2,20091227,       1928,   -32.4999,  -150.7081,       5086,   211.6,  15.4922,  35.2625,  35.2618,2,    206.9,2,   208.8,2,    0.85,2,    4.41,2,    0.01,2,    0.44,2,   2.472,2,   1.558,2,-999.000,1,    1.095,2,  2084.5,2,  2318.3,2,   7.9177,2,    25.00,-999.000,9,-999.0000,9, -999.00,9, -999.00,9,  -999.0,9,  -999.0,-999.000,9,-999.000,    57.4,2,-999.000,-999.0000, -999.00,  15.4594,  15.4887,2,20091227,       2140
318M20091121,        P06,     120,          1,         29,         29,2,20091227,       1928,   -32.4999,  -150.7081,       5086,   266.0,  14.2710,  35.1461,  35.1466,2,    199.7,2,   201.2,2,    1.42,2,    7.32,2,    0.00,2,    0.63,2,   2.550,6,   1.561,6,-999.000,1,   0.9385,6,  2099.2,2,  2313.1,2,   7.8768,2,    25.00,-999.000,9,-999.0000,9, -999.00,9, -999.00,9,  -999.0,9,  -999.0,-999.000,9,-999.000,    53.2,2,-999.000,-999.0000, -999.00,  14.2319,  14.2989,3,20091227,       2137
318M20091121,        P06,     120,          1,         28,         28,2,20091227,       1928,   -32.4999,  -150.7081,       5086,   314.7,  12.5694,  34.9300,  34.9405,2,    201.5,2,   200.9,2,    2.18,2,   10.52,2,    0.00,2,    0.84,2,   2.687,2,   1.615,2,-999.000,1,    0.882,2,  2111.6,2,  2299.7,2,   7.8370,2,    25.00,-999.000,9,-999.0000,9, -999.00,9, -999.00,9,  -999.0,9,  -999.0,-999.000,9,-999.000,    47.8,2,-999.000,-999.0000, -999.00,  12.5269,  12.6000,3,20091227,       2134
318M20091121,        P06,     120,          1,         27,         27,2,20091227,       1928,   -32.4999,  -150.7081,       5086,   364.8,  11.2001,  34.7934,  34.7951,2,    206.6,2,   206.4,2,    2.75,2,   13.27,2,    0.00,2,    1.01,2,   2.823,2,   1.671,2,-999.000,1,    0.743,2,  2120.3,2,  2297.3,2,   7.7943,2,    25.00,-999.000,9,-999.0000,9, -999.00,9, -999.00,9,  -999.0,9,  -999.0,-999.000,9,-999.000,  -999.0,5,-999.000,-999.0000, -999.00,  11.1544,  11.1982,2,20091227,       2132
318M20091121,        P06,     120,          1,         26,         26,2,20091227,       1928,   -32.4999,  -150.7081,       5086,   436.0,   9.0833,  34.5575,  34.5623,2,    220.1,2,   220.1,2,    3.72,2,   17.09,2,    0.00,2,    1.24,2,   3.112,2,   1.781,2,-999.000,1,    0.702,2,  2128.4,2,  2290.6,2,   7.7615,2,    25.00,-999.000,9,-999.0000,9, -999.00,9, -999.00,9,  -999.0,9,  -999.0,-999.000,9,-999.000,  -999.0,5,-999.000,-999.0000, -999.00,   9.0353,   9.0851,2,20091227,       2128
318M20091121,        P06,     120,          1,         25,         25,2,20091227,       1928,   -32.4999,  -150.7081,       5086,   538.8,   7.6615,  34.4291,  34.4298,2,    234.8,2,   237.0,2,    5.10,2,   19.93,2,    0.00,2,    1.43,2,   3.357,2,   1.896,2,-999.000,1,    0.762,2,  2135.7,2,  2282.7,2,   7.7454,2,    25.00,-999.000,9,-999.0000,9, -999.00,9, -999.00,9,  -999.0,9,  -999.0,-999.000,9,-999.000,  -999.0,5,-999.000,-999.0000, -999.00,   7.6076,   7.6608,2,20091227,       2124
318M20091121,        P06,     120,          1,         24,         24,2,20091227,       1928,   -32.4999,  -150.7081,       5086,   634.4,   6.9487,  34.3779,  34.3781,2,    238.4,2,   239.7,2,    6.89,2,   21.82,2,    0.00,2,    1.54,2,   3.009,2,   1.644,2,-999.000,1,    0.373,2,  2139.1,2,  2281.8,2,   7.7312,2,    25.00,-999.000,9,-999.0000,9, -999.00,9, -999.00,9,  -999.0,9,  -999.0,-999.000,9,-999.000,  -999.0,9,-999.000,-999.0000, -999.00,   6.8882,   6.9503,2,20091227,       2121
318M20091121,        P06,     120,          1,         23,         23,2,20091227,       1928,   -32.4999,  -150.7081,       5086,   736.3,   6.4671,  34.3461,  34.3457,2,    239.3,2,   239.9,2,    8.48,2,   23.23,2,    0.00,2,    1.63,2,   2.613,2,   1.402,2,-999.000,1,    0.383,2,  2142.8,2,  2281.3,2,   7.7262,2,    25.00,-999.000,9,-999.0000,9, -999.00,9, -999.00,9,  -999.0,9,  -999.0,-999.000,9,-999.000,    42.9,2,-999.000,-999.0000, -999.00,   6.3991,   6.4670,2,20091227,       2117
318M20091121,        P06,     120,          1,         22,         22,2,20091227,       1928,   -32.4999,  -150.7081,       5086,   843.5,   5.9253,  34.3202,  34.3198,2,    231.1,2,   231.0,2,   12.11,2,   25.34,2,    0.00,2,    1.78,2,   1.851,2,   0.967,2,-999.000,1,    0.241,2,  2151.5,2,  2285.3,2,   7.7078,2,    25.00,-999.000,9,-999.0000,9, -999.00,9, -999.00,9,  -999.0,9,  -999.0,-999.000,9,-999.000,  -999.0,9,-999.000,-999.0000, -999.00,   5.8503,   5.9184,2,20091227,       2114
318M20091121,        P06,     120,          1,         21,         21,2,20091227,       1928,   -32.4999,  -150.7081,       5086,   940.4,   5.3674,  34.3108,  34.3116,2,    220.4,2,   218.8,2,   17.79,2,   27.50,2,    0.00,2,    1.93,2,   1.259,2,   0.642,2,-999.000,1,        0,2,  2165.8,2,  2289.7,2,   7.6807,2,    25.00,-999.000,9,-999.0000,9, -999.00,9, -999.00,9,  -999.0,9,  -999.0,-999.000,9,-999.000,    40.7,2,-999.000,-999.0000, -999.00,   5.2871,   5.3686,2,20091227,       2110
318M20091121,        P06,     120,          1,         20,         20,2,20091227,       1928,   -32.4999,  -150.7081,       5086,  1042.8,   4.7367,  34.3191,  34.3192,2,    206.2,2,   205.9,2,   26.14,2,   29.73,2,    0.00,2,    2.08,2,   0.924,2,   0.459,2,-999.000,1,        0,2,  2183.6,6,  2296.2,2,   7.6514,2,    25.00,-999.000,9,-999.0000,9, -999.00,9, -999.00,9,  -999.0,9,  -999.0,-999.000,9,-999.000,  -999.0,9,-999.000,-999.0000, -999.00,   4.6519,   4.7347,2,20091227,       2107
318M20091121,        P06,     120,          1,         19,         19,2,20091227,       1928,   -32.4999,  -150.7081,       5086,  1144.4,   4.1304,  34.3410,  34.3413,2,    196.7,2,   196.4,2,   35.12,2,   31.37,2,    0.00,2,    2.21,2,   0.634,2,   0.318,2,-999.000,1,        0,2,  2199.6,2,  2305.8,2,   7.6238,2,    25.00,-999.000,9,-999.0000,9, -999.00,9, -999.00,9,  -999.0,9,  -999.0,-999.000,9,-999.000,    40.1,2,-999.000,-999.0000, -999.00,   4.0417,   4.1307,2,20091227,       2103
318M20091121,        P06,     120,          1,         18,         18,2,20091227,       1928,   -32.4999,  -150.7081,       5086,  1245.2,   3.6533,  34.3755,  34.3759,2,    186.5,2,   187.9,2,   44.73,2,   32.73,2,    0.00,2,    2.30,2,   0.376,2,   0.192,2,-999.000,1,        0,2,  2215.1,2,  2316.0,2,   7.6059,2,    25.00,-999.000,9,-999.0000,9, -999.00,9, -999.00,9,  -999.0,9,  -999.0,-999.000,9,-999.000,  -999.0,9,-999.000,-999.0000, -999.00,   3.5604,   3.6549,2,20091227,       2100
318M20091121,        P06,     120,          1,         17,         17,2,20091227,       1928,   -32.4999,  -150.7081,       5086,  1348.3,   3.2445,  34.4278,  34.4284,2,    176.9,2,   178.1,2,   55.81,2,   33.69,2,    0.00,2,    2.37,2,   0.169,2,   0.089,2,-999.000,1,        0,2,  2231.3,2,  2322.8,2,   7.5915,2,    25.00,-999.000,9,-999.0000,9, -999.00,9, -999.00,9,  -999.0,9,  -999.0,-999.000,9,-999.000,    42.8,2,-999.000,-999.0000, -999.00,   3.1469,   3.2444,2,20091227,       2057
318M20091121,        P06,     120,          1,         16,         16,2,20091227,       1928,   -32.4999,  -150.7081,       5086,  1445.8,   2.9685,  34.4803,  34.4816,2,    170.5,2,   170.8,2,   66.07,2,   34.14,2,    0.00,2,    2.42,2,   0.078,2,   0.045,2,-999.000,1,        0,2,  2244.6,2,  2337.3,6,   7.5823,2,    25.00,-999.000,9,-999.0000,9, -999.00,9, -999.00,9,  -999.0,9,  -999.0,-999.000,9,-999.000,  -999.0,9,-999.000,-999.0000, -999.00,   2.8657,   2.9680,2,20091227,       2054
318M20091121,        P06,     120,          1,         15,         15,2,20091227,       1928,   -32.4999,  -150.7081,       5086,  1547.3,   2.7766,  34.5264,  34.5273,2,    164.6,2,   165.1,2,   75.96,2,   34.49,2,    0.00,2,    2.43,2,   0.032,2,   0.021,2,-999.000,1,        0,2,  2257.7,2,  2348.6,2,   7.5778,2,    25.00,-999.000,9,-999.0000,9, -999.00,9, -999.00,9,  -999.0,9,  -999.0,-999.000,9,-999.000,    38.3,2,-999.000,-999.0000, -999.00,   2.6676,   2.7750,2,20091227,       2051
318M20091121,        P06,     120,          1,         14,         14,2,20091227,       1928,   -32.4999,  -150.7081,       5086,  1679.5,   2.5641,  34.5762,  34.5767,2,    158.6,2,   159.1,2,   88.77,2,   34.68,2,    0.00,2,    2.45,2,   0.014,2,   0.010,2,-999.000,1,        0,2,  2271.1,2,  2364.3,2,   7.5777,2,    25.00,-999.000,9,-999.0000,9, -999.00,9, -999.00,9,  -999.0,9,  -999.0,-999.000,9,-999.000,  -999.0,9,-999.000,-999.0000, -999.00,   2.4466,   2.5645,2,20091227,       2047
318M20091121,        P06,     120,          1,         13,         13,2,20091227,       1928,   -32.4999,  -150.7081,       5086,  1880.5,   2.3491,  34.6111,  34.6109,2,    153.7,2,   154.0,2,  101.20,2,   34.99,2,    0.00,2,    2.48,2,   0.009,2,   0.008,2,-999.000,1,        0,2,  2284.5,2,  2379.8,2,   7.5757,2,    25.00,-999.000,9,-999.0000,9, -999.00,9, -999.00,9,  -999.0,9,  -999.0,-999.000,9,-999.000,    35.2,2,-999.000,-999.0000, -999.00,   2.2176,   2.3492,2,20091227,       2042
318M20091121,        P06,     120,          1,         12,         12,2,20091227,       1928,   -32.4999,  -150.7081,       5086,  2107.1,   2.1399,  34.6360,  34.6367,2,    151.2,2,   151.4,2,  112.00,2,   35.30,2,    0.00,2,    2.50,2,   0.010,2,   0.007,2,-999.000,1,        0,2,  2296.6,2,  2392.7,2,   7.5791,2,    25.00,-999.000,9,-999.0000,9, -999.00,9, -999.00,9,  -999.0,9,  -999.0,-999.000,9,-999.000,  -999.0,9,-999.000,-999.0000, -999.00,   1.9921,   2.1396,2,20091227,       2036
318M20091121,        P06,     120,          1,         11,         11,2,20091227,       1928,   -32.4999,  -150.7081,       5086,  2357.8,   1.9885,  34.6510,  34.6513,2,    149.3,2,   149.5,2,  119.90,2,   35.45,2,    0.00,2,    2.52,2,   0.010,2,   0.007,2,-999.000,1,        0,2,  2304.5,2,  2396.9,2,   7.5782,2,    25.00,-999.000,9,-999.0000,9, -999.00,9, -999.00,9,  -999.0,9,  -999.0,-999.000,9,-999.000,    34.3,3,-999.000,-999.0000, -999.00,   1.8212,   1.9894,2,20091227,       2030
318M20091121,        P06,     120,          1,         10,         10,2,20091227,       1928,   -32.4999,  -150.7081,       5086,  2614.8,   1.8789,  34.6601,  34.6603,2,    149.6,2,   149.9,2,  125.10,2,   35.60,2,    0.00,2,    2.52,2,   0.013,2,   0.011,2,-999.000,1,        0,2,  2309.9,2,  2404.8,2,   7.5780,2,    25.00,-999.000,9,-999.0000,9, -999.00,9, -999.00,9,  -999.0,9,  -999.0,-999.000,9,-999.000,  -999.0,9,-999.000,-999.0000, -999.00,   1.6903,   1.8786,2,20091227,       2025
318M20091121,        P06,     120,          1,          9,          9,2,20091227,       1928,   -32.4999,  -150.7081,       5086,  2867.1,   1.7958,  34.6678,  34.6564,3,    151.5,2,   151.7,2,  128.00,2,   35.49,2,    0.00,2,    2.52,2,   0.008,2,   0.006,2,-999.000,1,        0,2,  2310.9,2,  2387.9,4,   7.5805,2,    25.00,-999.000,9,-999.0000,9, -999.00,9, -999.00,9,  -999.0,9,  -999.0,-999.000,9,-999.000,    35.8,2,-999.000,-999.0000, -999.00,   1.5853,   1.7957,2,20091227,       2019
318M20091121,        P06,     120,          1,          8,          8,2,20091227,       1928,   -32.4999,  -150.7081,       5086,  3140.2,   1.7059,  34.6770,  34.6773,2,    156.9,2,   157.0,2,  127.97,2,   35.10,2,    0.00,2,    2.48,2,   0.016,2,   0.011,2,-999.000,1,        0,2,  2308.0,2,  2405.1,2,   7.5857,2,    25.00,-999.000,9,-999.0000,9, -999.00,9, -999.00,9,  -999.0,9,  -999.0,-999.000,9,-999.000,  -999.0,9,-999.000,-999.0000, -999.00,   1.4709,   1.7064,2,20091227,       2012
318M20091121,        P06,     120,          1,          7,          7,2,20091227,       1928,   -32.4999,  -150.7081,       5086,  3442.3,   1.5989,  34.6898,  34.6907,2,    167.8,2,   168.7,2,  123.53,2,   34.14,2,    0.00,2,    2.42,2,   0.006,2,   0.005,2,-999.000,1,        0,2,  2297.5,2,  2378.6,4,   7.5941,2,    25.00,-999.000,9,-999.0000,9, -999.00,9, -999.00,9,  -999.0,9,  -999.0,-999.000,9,-999.000,    36.0,2,-999.000,-999.0000, -999.00,   1.3361,   1.5990,2,20091227,       2005
318M20091121,        P06,     120,          1,          6,          6,2,20091227,       1928,   -32.4999,  -150.7081,       5086,  3752.0,   1.4771,  34.6994,  34.6994,2,    179.6,2,   180.1,2,  119.73,2,   33.32,2,    0.00,2,    2.36,2,   0.024,2,   0.014,2,-999.000,1,        0,2,  2285.2,2,  2387.6,2,   7.6019,2,    25.00,-999.000,9,-999.0000,9, -999.00,9, -999.00,9,  -999.0,9,  -999.0,-999.000,9,-999.000,  -999.0,9,-999.000,-999.0000, -999.00,   1.1852,   1.4769,2,20091227,       1958
318M20091121,        P06,     120,          1,          5,         37,2,20091227,       1928,   -32.4999,  -150.7081,       5086,  4057.8,   1.3476,  34.7098,  34.7067,3,    192.4,2,   187.4,3,  116.98,2,   32.62,2,    0.00,2,    2.31,2,   0.013,2,   0.007,2,-999.000,1,        0,2,  2277.7,2,  -999.0,9,-999.0000,9,  -999.00,-999.000,9,-999.0000,9, -999.00,9, -999.00,9,  -999.0,9,  -999.0,-999.000,9,-999.000,  -999.0,5,-999.000,-999.0000, -999.00,   1.0265,   1.3471,2,20091227,       1952
318M20091121,        P06,     120,          1,          4,          4,2,20091227,       1928,   -32.4999,  -150.7081,       5086,  4367.4,   1.2247,  34.7136,  34.7135,2,    200.5,2,   200.9,2,  115.27,2,   31.87,2,    0.00,2,    2.25,2,   0.025,2,   0.016,2,-999.000,1,        0,2,  2265.0,2,  2368.7,2,   7.6175,2,    25.00,-999.000,9,-999.0000,9, -999.00,9, -999.00,9,  -999.0,9,  -999.0,-999.000,9,-999.000,  -999.0,9,-999.000,-999.0000, -999.00,   0.8730,   1.2246,2,20091227,       1946
318M20091121,        P06,     120,          1,          3,          3,2,20091227,       1928,   -32.4999,  -150.7081,       5086,  4621.6,   1.1511,  34.7103,  34.7096,2,    202.1,2,   202.3,2,  117.96,2,   31.92,2,    0.00,2,    2.26,2,   0.038,2,   0.022,2,-999.000,1,        0,2,  2266.6,2,  2371.3,2,   7.6163,2,    25.00,-999.000,9,-999.0000,9, -999.00,9, -999.00,9,  -999.0,9,  -999.0,-999.000,9,-999.000,    37.8,2,-999.000,-999.0000, -999.00,   0.7729,   1.1515,2,20091227,       1940
318M20091121,        P06,     120,          1,          2,          2,2,20091227,       1928,   -32.4999,  -150.7081,       5086,  4829.2,   1.1342,  34.7101,  34.7102,2,    202.5,2,   203.1,2,  118.55,2,   31.98,2,    0.00,2,    2.25,2,   0.053,2,   0.034,2,-999.000,1,        0,2,  2265.9,2,  2370.9,6,   7.6180,2,    25.00,-999.000,9,-999.0000,9, -999.00,9, -999.00,9,  -999.0,9,  -999.0,-999.000,9,-999.000,  -999.0,9,-999.000,-999.0000, -999.00,   0.7324,   1.1347,2,20091227,       1935
318M20091121,        P06,     120,          1,          1,          1,2,20091227,       1928,   -32.4999,  -150.7081,       5086,  5171.5,   1.1390,  34.7096,  34.7097,2,    204.3,2,   204.4,2,  119.14,2,   31.87,2,    0.00,2,    2.25,2,   0.043,2,   0.025,2,-999.000,1,        0,2,  2265.2,6,  2372.0,2,   7.6207,6,    25.00,-999.000,9,-999.0000,9, -999.00,9, -999.00,9,  -999.0,9,  -999.0,-999.000,9,-999.000,    39.2,2,-999.000,-999.0000, -999.00,   0.6960,   1.1390,2,20091227,       1928