BOTTLE,20220818CCHSIOAMB
EXPOCODE,SECT_ID,STNNBR,CASTNO,SAMPNO,BTLNBR,BTLNBR_FLAG_W,DATE,TIME,LATITUDE,LONGITUDE,DEPTH,CTDPRS,CTDTMP,CTDSAL,SALNTY,SALNTY_FLAG_W,CTDOXY,CTDOXY_FLAG_W,OXYGEN,OXYGEN_FLAG_W,SILCAT,SILCAT_FLAG_W,NITRAT,NITRAT_FLAG_W,NITRIT,NITRIT_FLAG_W,PHSPHT,PHSPHT_FLAG_W,CFC-11,CFC-11_FLAG_W,CFC-12,CFC-12_FLAG_W,CFC113,CFC113_FLAG_W,SF6,SF6_FLAG_W,TCARBN,TCARBN_FLAG_W,ALKALI,ALKALI_FLAG_W,PH_SWS,PH_SWS_FLAG_W,PH_TMP,TRITUM,TRITUM_FLAG_W,HELIUM,HELIUM_FLAG_W,DELHE3,DELHE3_FLAG_W,DELC13,DELC13_FLAG_W,DELC14,DELC14_FLAG_W,C14ERR,NEON,NEON_FLAG_W,NEONER,DOC,DOC_FLAG_W,TRITER,HELIER,DELHER,THETA,SBE35,SBE35_FLAG_W,BTL_DATE,BTL_TIME
,,,,,,,,,,,METERS,DBAR,ITS-90,PSS-78,PSS-78,,UMOL/KG,,UMOL/KG,,UMOL/KG,,UMOL/KG,,UMOL/KG,,UMOL/KG,,PMOL/KG,,PMOL/KG,,PMOL/KG,,FMOL/KG,,UMOL/KG,,UMOL/KG,,,,DEG C,TU,,NMOL/KG,,PERCNT,,/MILLE,,/MILLE,,/MILLE,NMOL/KG,,NMOL/KG,UMOL/KG,,TU,NMOL/KG,PERCNT,DEG C,ITS-90,,,
318M20091121,        P06,      97,          1,         35,         35,2,20091219,       0818,   -32.4999,  -169.5001,       5632,    21.1,  18.8458,  35.3618,  35.3622,2,    237.5,2,   237.1,2,    0.89,2,    0.00,2,    0.00,2,    0.13,2,   2.079,2,   1.349,2,-999.000,1,    1.222,2,  2048.6,6,  2317.3,6,   7.9968,6,    25.00,-999.000,9,-999.0000,9, -999.00,9, -999.00,9,  -999.0,9,  -999.0,-999.000,9,-999.000,  -999.0,9,-999.000,-999.0000, -999.00,  18.8421,  18.8451,2,20091219,       1048
318M20091121,        P06,      97,          1,         36,         36,2,20091219,       0818,   -32.4999,  -169.5001,       5632,    21.1,  18.8433,  35.3616,-999.0000,9,   -999.0,9,  -999.0,9, -999.00,9, -999.00,9, -999.00,9, -999.00,9,-999.000,9,-999.000,9,-999.000,9,-999.0000,9,  -999.0,9,  -999.0,9,-999.0000,9,  -999.00,-999.000,9,-999.0000,9, -999.00,9, -999.00,9,  -999.0,9,  -999.0,-999.000,9,-999.000,  -999.0,9,-999.000,-999.0000, -999.00,  18.8396,  18.8422,2,20091219,       1049
318M20091121,        P06,      97,          1,         34,         34,2,20091219,       0818,   -32.4999,  -169.5001,       5632,    40.2,  18.8429,  35.3616,  35.3626,2,    237.6,2,   237.2,2,    0.86,2,    0.00,2,    0.00,2,    0.13,2,   2.065,2,   1.345,2,-999.000,1,    1.285,2,  -999.0,9,  -999.0,9,-999.0000,9,  -999.00,-999.000,9,-999.0000,9, -999.00,9, -999.00,9,  -999.0,9,  -999.0,-999.000,9,-999.000,  -999.0,9,-999.000,-999.0000, -999.00,  18.8358,  18.8442,2,20091219,       1047
318M20091121,        P06,      97,          1,         33,         33,2,20091219,       0818,   -32.4999,  -169.5001,       5632,    66.6,  15.7852,  35.3809,  35.3743,2,    252.4,2,   252.9,2,    1.03,2,   -0.01,2,    0.01,2,    0.17,2,   2.361,6,   1.510,6,-999.000,1,   1.3585,6,  2058.9,2,  2305.9,3,   7.9844,2,    25.00,-999.000,9,-999.0000,9, -999.00,9, -999.00,9,  -999.0,9,  -999.0,-999.000,9,-999.000,  -999.0,9,-999.000,-999.0000, -999.00,  15.7748,  15.7874,2,20091219,       1045
318M20091121,        P06,      97,          1,         32,         32,2,20091219,       0818,   -32.4999,  -169.5001,       5632,    90.1,  15.2186,  35.3989,  35.3997,2,    232.7,2,   232.7,2,    1.41,2,    2.42,2,    0.16,2,    0.31,2,   2.363,2,   1.513,2,-999.000,1,    1.261,2,  -999.0,9,  -999.0,9,-999.0000,9,  -999.00,-999.000,9,-999.0000,9, -999.00,9, -999.00,9,  -999.0,9,  -999.0,-999.000,9,-999.000,  -999.0,9,-999.000,-999.0000, -999.00,  15.2048,  15.2151,2,20091219,       1043
318M20091121,        P06,      97,          1,         31,         31,2,20091219,       0818,   -32.4999,  -169.5001,       5632,   136.5,  14.1362,  35.2752,  35.2772,2,    220.3,2,   220.2,2,    1.99,2,    6.09,2,    0.01,2,    0.53,2,   2.450,2,   1.535,2,-999.000,1,    1.118,2,  2095.1,2,  2318.0,2,   7.9075,2,    25.00,-999.000,9,-999.0000,9, -999.00,9, -999.00,9,  -999.0,9,  -999.0,-999.000,9,-999.000,  -999.0,9,-999.000,-999.0000, -999.00,  14.1163,  14.1425,2,20091219,       1040
318M20091121,        P06,      97,          1,         30,         30,2,20091219,       0818,   -32.4999,  -169.5001,       5632,   187.6,  12.8672,  35.1265,  35.1271,2,    208.9,2,   209.3,2,    2.77,2,    9.96,2,    0.01,2,    0.75,2,   2.529,2,   1.564,2,-999.000,1,    1.021,2,  -999.0,9,  -999.0,9,-999.0000,9,  -999.00,-999.000,9,-999.0000,9, -999.00,9, -999.00,9,  -999.0,9,  -999.0,-999.000,9,-999.000,  -999.0,9,-999.000,-999.0000, -999.00,  12.8415,  12.8681,2,20091219,       1038
318M20091121,        P06,      97,          1,         29,         29,2,20091219,       0818,   -32.4999,  -169.5001,       5632,   238.5,  12.0701,  35.0254,  35.0318,2,    211.1,2,   211.6,2,    3.15,2,   11.54,2,    0.01,2,    0.86,2,   2.581,2,   1.570,2,-999.000,1,     1.03,2,  2118.3,2,  2305.7,2,   7.8245,2,    25.00,-999.000,9,-999.0000,9, -999.00,9, -999.00,9,  -999.0,9,  -999.0,-999.000,9,-999.000,  -999.0,9,-999.000,-999.0000, -999.00,  12.0388,  12.0879,2,20091219,       1035
318M20091121,        P06,      97,          1,         28,         28,2,20091219,       0818,   -32.4999,  -169.5001,       5632,   287.2,  11.0676,  34.8832,  34.8846,2,    211.3,2,   209.8,2,    3.94,2,   13.91,2,    0.01,2,    1.01,2,   2.657,2,   1.582,2,-999.000,1,    0.991,2,  -999.0,9,  -999.0,9,-999.0000,9,  -999.00,-999.000,9,-999.0000,9, -999.00,9, -999.00,9,  -999.0,9,  -999.0,-999.000,9,-999.000,  -999.0,9,-999.000,-999.0000, -999.00,  11.0319,  11.0660,2,20091219,       1033
318M20091121,        P06,      97,          1,         27,         27,2,20091219,       0818,   -32.4999,  -169.5001,       5632,   336.3,  10.2066,  34.7653,  34.7653,2,    210.8,2,   210.9,2,    4.52,2,   15.81,2,    0.00,2,    1.12,2,   2.735,2,   1.608,2,-999.000,1,    0.805,2,  2130.8,2,  2292.3,2,   7.7816,2,    25.00,-999.000,9,-999.0000,9, -999.00,9, -999.00,9,  -999.0,9,  -999.0,-999.000,9,-999.000,  -999.0,9,-999.000,-999.0000, -999.00,  10.1669,  10.2066,2,20091219,       1031
318M20091121,        P06,      97,          1,         26,         26,2,20091219,       0818,   -32.4999,  -169.5001,       5632,   386.5,   9.4313,  34.6654,  34.6671,2,    213.4,2,   212.5,2,    5.11,2,   17.56,2,    0.00,2,    1.23,2,   2.723,2,   1.564,2,-999.000,1,    0.609,2,  -999.0,9,  -999.0,9,-999.0000,9,  -999.00,-999.000,9,-999.0000,9, -999.00,9, -999.00,9,  -999.0,9,  -999.0,-999.000,9,-999.000,  -999.0,9,-999.000,-999.0000, -999.00,   9.3878,   9.4318,2,20091219,       1029
318M20091121,        P06,      97,          1,         25,         25,2,20091219,       0818,   -32.4999,  -169.5001,       5632,   468.7,   8.3440,  34.5354,  34.5363,2,    218.7,2,   219.6,2,    6.10,2,   19.87,2,    0.00,2,    1.39,2,   2.710,2,   1.504,2,-999.000,1,    0.699,2,  2138.2,2,  2288.4,2,   7.7385,2,    25.00,-999.000,9,-999.0000,9, -999.00,9, -999.00,9,  -999.0,9,  -999.0,-999.000,9,-999.000,  -999.0,9,-999.000,-999.0000, -999.00,   8.2949,   8.3438,2,20091219,       1026
318M20091121,        P06,      97,          1,         24,         24,2,20091219,       0818,   -32.4999,  -169.5001,       5632,   567.9,   7.4261,  34.4354,  34.4358,2,    229.2,2,   228.7,2,    6.89,2,   21.57,2,    0.00,2,    1.49,2,   2.648,2,   1.454,2,-999.000,1,    0.789,2,  -999.0,9,  -999.0,9,-999.0000,9,  -999.00,-999.000,9,-999.0000,9, -999.00,9, -999.00,9,  -999.0,9,  -999.0,-999.000,9,-999.000,  -999.0,9,-999.000,-999.0000, -999.00,   7.3702,   7.4214,2,20091219,       1022
318M20091121,        P06,      97,          1,         23,         23,2,20091219,       0818,   -32.4999,  -169.5001,       5632,   670.2,   6.8473,  34.3890,  34.3894,2,    230.7,2,   231.0,2,    8.71,2,   23.01,2,    0.00,2,    1.59,2,   2.144,2,   1.146,2,-999.000,1,    0.235,2,  2142.7,2,  2281.3,2,   7.7257,2,    25.00,-999.000,9,-999.0000,9, -999.00,9, -999.00,9,  -999.0,9,  -999.0,-999.000,9,-999.000,  -999.0,9,-999.000,-999.0000, -999.00,   6.7838,   6.8461,2,20091219,       1019
318M20091121,        P06,      97,          1,         22,         22,2,20091219,       0818,   -32.4999,  -169.5001,       5632,   770.4,   6.2816,  34.3568,  34.3566,2,    225.8,2,   225.1,2,   11.97,2,   24.77,2,    0.00,2,    1.72,2,   1.532,2,   0.816,2,-999.000,1,    0.161,2,  -999.0,9,  -999.0,9,-999.0000,9,  -999.00,-999.000,9,-999.0000,9, -999.00,9, -999.00,9,  -999.0,9,  -999.0,-999.000,9,-999.000,  -999.0,9,-999.000,-999.0000, -999.00,   6.2114,   6.2812,2,20091219,       1016
318M20091121,        P06,      97,          1,         21,         21,2,20091219,       0818,   -32.4999,  -169.5001,       5632,   872.7,   5.6007,  34.3362,  34.3370,2,    216.4,2,   214.7,2,   17.93,2,   27.05,2,    0.00,2,    1.88,2,   0.983,2,   0.521,2,-999.000,1,    0.055,2,  2164.1,2,  2289.0,2,   7.6767,2,    25.00,-999.000,9,-999.0000,9, -999.00,9, -999.00,9,  -999.0,9,  -999.0,-999.000,9,-999.000,  -999.0,9,-999.000,-999.0000, -999.00,   5.5250,   5.6084,2,20091219,       1013
318M20091121,        P06,      97,          1,         20,         20,2,20091219,       0818,   -32.4999,  -169.5001,       5632,   972.5,   5.0478,  34.3412,  34.3409,2,    204.5,2,   203.7,2,   25.36,2,   29.06,2,    0.00,2,    2.01,2,   0.652,2,   0.341,2,-999.000,1,        0,2,  2180.1,2,  2295.4,2,   7.6578,2,    25.00,-999.000,9,-999.0000,9, -999.00,9, -999.00,9,  -999.0,9,  -999.0,-999.000,9,-999.000,  -999.0,9,-999.000,-999.0000, -999.00,   4.9669,   5.0456,2,20091219,       1010
318M20091121,        P06,      97,          1,         19,         19,2,20091219,       0818,   -32.4999,  -169.5001,       5632,  1074.7,   4.4512,  34.3554,  34.3559,2,    195.2,2,   194.0,2,   33.86,2,   30.66,2,    0.00,2,    2.14,2,   0.376,2,   0.202,2,-999.000,1,        0,2,  2199.2,2,  2303.1,6,   7.6347,3,    25.00,-999.000,9,-999.0000,9, -999.00,9, -999.00,9,  -999.0,9,  -999.0,-999.000,9,-999.000,  -999.0,9,-999.000,-999.0000, -999.00,   4.3658,   4.4537,2,20091219,       1007
318M20091121,        P06,      97,          1,         18,         18,2,20091219,       0818,   -32.4999,  -169.5001,       5632,  1175.0,   3.9478,  34.3825,  34.3830,2,    187.3,2,   187.1,2,   43.22,2,   31.93,2,    0.00,2,    2.23,2,   0.231,2,   0.128,2,-999.000,1,        0,2,  -999.0,9,  -999.0,9,-999.0000,9,  -999.00,-999.000,9,-999.0000,9, -999.00,9, -999.00,9,  -999.0,9,  -999.0,-999.000,9,-999.000,  -999.0,9,-999.000,-999.0000, -999.00,   3.8581,   3.9447,2,20091219,       1004
318M20091121,        P06,      97,          1,         17,         17,2,20091219,       0818,   -32.4999,  -169.5001,       5632,  1276.1,   3.5117,  34.4211,  34.4211,2,    179.0,2,   184.5,3,   53.05,2,   32.82,2,    0.00,2,    2.31,2,   0.142,2,   0.083,2,-999.000,1,        0,2,  2227.7,2,  2322.3,2,   7.6076,3,    25.00,-999.000,9,-999.0000,9, -999.00,9, -999.00,9,  -999.0,9,  -999.0,-999.000,9,-999.000,  -999.0,9,-999.000,-999.0000, -999.00,   3.4174,   3.5115,2,20091219,       1001
318M20091121,        P06,      97,          1,         16,         16,2,20091219,       0818,   -32.4999,  -169.5001,       5632,  1378.0,   3.1706,  34.4702,  34.4701,2,    171.5,2,   171.0,2,   64.38,2,   33.52,2,    0.00,2,    2.35,2,   0.062,2,   0.035,2,-999.000,1,        0,2,  -999.0,9,  -999.0,9,-999.0000,9,  -999.00,-999.000,9,-999.0000,9, -999.00,9, -999.00,9,  -999.0,9,  -999.0,-999.000,9,-999.000,  -999.0,9,-999.000,-999.0000, -999.00,   3.0712,   3.1696,2,20091219,       0958
318M20091121,        P06,      97,          1,         15,         15,2,20091219,       0818,   -32.4999,  -169.5001,       5632,  1548.5,   2.7988,  34.5415,  34.5413,2,    161.8,2,   162.5,2,   80.85,2,   34.00,2,    0.00,2,    2.40,2,   0.028,2,   0.016,2,-999.000,1,        0,2,  2259.5,2,  2357.7,2,   7.5795,2,    25.00,-999.000,9,-999.0000,9, -999.00,9, -999.00,9,  -999.0,9,  -999.0,-999.000,9,-999.000,  -999.0,9,-999.000,-999.0000, -999.00,   2.6894,   2.7989,2,20091219,       0953
318M20091121,        P06,      97,          1,         14,         14,2,20091219,       0818,   -32.4999,  -169.5001,       5632,  1750.1,   2.5127,  34.5935,  34.5932,2,    154.8,2,   155.5,2,   97.40,2,   34.28,2,    0.00,2,    2.44,2,   0.018,2,   0.012,2,-999.000,1,        0,2,  -999.0,9,  -999.0,9,-999.0000,9,  -999.00,-999.000,9,-999.0000,9, -999.00,9, -999.00,9,  -999.0,9,  -999.0,-999.000,9,-999.000,  -999.0,9,-999.000,-999.0000, -999.00,   2.3900,   2.5126,2,20091219,       0948
318M20091121,        P06,      97,          1,         13,         13,2,20091219,       0818,   -32.4999,  -169.5001,       5632,  1958.0,   2.3266,  34.6194,  34.6202,2,    150.9,2,   150.8,2,  108.02,2,   34.85,2,    0.00,2,    2.47,2,   0.018,2,   0.022,2,-999.000,1,        0,2,  2292.2,2,  2382.7,2,   7.5760,2,    25.00,-999.000,9,-999.0000,9, -999.00,9, -999.00,9,  -999.0,9,  -999.0,-999.000,9,-999.000,  -999.0,9,-999.000,-999.0000, -999.00,   2.1888,   2.3258,2,20091219,       0943
318M20091121,        P06,      97,          1,         12,         12,2,20091219,       0818,   -32.4999,  -169.5001,       5632,  2189.5,   2.1647,  34.6360,  34.6365,2,    148.8,2,   148.3,2,  116.33,2,   35.13,2,    0.00,2,    2.49,2,   0.015,2,   0.014,2,-999.000,1,        0,2,  -999.0,9,  -999.0,9,-999.0000,9,  -999.00,-999.000,9,-999.0000,9, -999.00,9, -999.00,9,  -999.0,9,  -999.0,-999.000,9,-999.000,  -999.0,9,-999.000,-999.0000, -999.00,   2.0093,   2.1646,2,20091219,       0937
318M20091121,        P06,      97,          1,         11,         11,2,20091219,       0818,   -32.4999,  -169.5001,       5632,  2443.9,   2.0437,  34.6478,  34.6478,2,    148.4,2,   148.5,2,  121.65,2,   35.13,2,    0.00,2,    2.50,2,   0.013,2,   0.009,2,-999.000,1,        0,2,  -999.0,9,  -999.0,9,-999.0000,9,  -999.00,-999.000,9,-999.0000,9, -999.00,9, -999.00,9,  -999.0,9,  -999.0,-999.000,9,-999.000,  -999.0,9,-999.000,-999.0000, -999.00,   1.8677,   2.0432,2,20091219,       0931
318M20091121,        P06,      97,          1,         10,         10,2,20091219,       0818,   -32.4999,  -169.5001,       5632,  2699.1,   1.9295,  34.6575,  34.6582,2,    148.7,2,   148.2,2,  126.33,2,   35.23,2,    0.00,2,    2.50,2,   0.024,2,   0.016,2,-999.000,1,        0,2,  2310.8,2,  2406.9,2,   7.5706,2,    25.00,-999.000,9,-999.0000,9, -999.00,9, -999.00,9,  -999.0,9,  -999.0,-999.000,9,-999.000,  -999.0,9,-999.000,-999.0000, -999.00,   1.7321,   1.9300,2,20091219,       0925
318M20091121,        P06,      97,          1,          9,          9,2,20091219,       0818,   -32.4999,  -169.5001,       5632,  2952.9,   1.8268,  34.6678,  34.6679,2,    151.5,2,   151.1,2,  128.44,2,   34.94,2,    0.00,2,    2.49,2,   0.015,2,   0.008,2,-999.000,1,        0,2,  -999.0,9,  -999.0,9,-999.0000,9,  -999.00,-999.000,9,-999.0000,9, -999.00,9, -999.00,9,  -999.0,9,  -999.0,-999.000,9,-999.000,  -999.0,9,-999.000,-999.0000, -999.00,   1.6074,   1.8271,2,20091219,       0919
318M20091121,        P06,      97,          1,          8,          8,2,20091219,       0818,   -32.4999,  -169.5001,       5632,  3243.7,   1.7137,  34.6863,  34.6862,2,    163.9,2,   163.9,2,  123.27,2,   33.94,2,    0.00,2,    2.40,2,   0.015,2,   0.008,2,-999.000,1,        0,2,  -999.0,9,  -999.0,9,-999.0000,9,  -999.00,-999.000,9,-999.0000,9, -999.00,9, -999.00,9,  -999.0,9,  -999.0,-999.000,9,-999.000,  -999.0,9,-999.000,-999.0000, -999.00,   1.4682,   1.7135,2,20091219,       0912
318M20091121,        P06,      97,          1,          7,          7,2,20091219,       0818,   -32.4999,  -169.5001,       5632,  3551.2,   1.5780,  34.7100,  34.7098,2,    183.6,2,   184.6,2,  112.32,2,   32.19,2,    0.00,2,    2.27,2,   0.026,2,   0.015,2,-999.000,1,        0,2,  2274.1,2,  -999.0,5,   7.6053,2,    25.00,-999.000,9,-999.0000,9, -999.00,9, -999.00,9,  -999.0,9,  -999.0,-999.000,9,-999.000,  -999.0,9,-999.000,-999.0000, -999.00,   1.3044,   1.5782,2,20091219,       0904
318M20091121,        P06,      97,          1,          6,          6,2,20091219,       0818,   -32.4999,  -169.5001,       5632,  3858.5,   1.3670,  34.7189,  34.7198,2,    197.4,2,   197.8,2,  110.79,2,   31.39,2,    0.00,2,    2.21,2,   0.037,2,   0.020,2,-999.000,1,        0,2,  -999.0,9,  -999.0,9,-999.0000,9,  -999.00,-999.000,9,-999.0000,9, -999.00,9, -999.00,9,  -999.0,9,  -999.0,-999.000,9,-999.000,  -999.0,9,-999.000,-999.0000, -999.00,   1.0667,   1.3669,2,20091219,       0857
318M20091121,        P06,      97,          1,          5,          5,2,20091219,       0818,   -32.4999,  -169.5001,       5632,  4164.1,   1.1465,  34.7147,  34.7147,2,    203.8,2,   204.3,2,  115.68,2,   31.39,2,    0.00,2,    2.21,2,-999.000,5,-999.000,5,-999.000,1,-999.0000,5,  -999.0,9,  -999.0,9,-999.0000,9,  -999.00,-999.000,9,-999.0000,9, -999.00,9, -999.00,9,  -999.0,9,  -999.0,-999.000,9,-999.000,  -999.0,9,-999.000,-999.0000, -999.00,   0.8196,   1.1467,2,20091219,       0850
318M20091121,        P06,      97,          1,          4,          4,2,20091219,       0818,   -32.4999,  -169.5001,       5632,  4472.8,   1.0549,  34.7111,  34.7118,2,    206.4,2,   206.0,2,  119.07,2,   31.54,2,    0.00,2,    2.21,2,   3.311,4,   4.249,4,-999.000,1,  109.992,4,  2261.1,2,  2367.2,2,   7.6161,2,    25.00,-999.000,9,-999.0000,9, -999.00,9, -999.00,9,  -999.0,9,  -999.0,-999.000,9,-999.000,  -999.0,9,-999.000,-999.0000, -999.00,   0.6966,   1.0553,2,20091219,       0844
318M20091121,        P06,      97,          1,          3,          3,2,20091219,       0818,   -32.4999,  -169.5001,       5632,  4848.8,   1.0313,  34.7088,  34.7083,2,    207.5,2,   206.9,2,  120.54,2,   31.58,2,    0.00,2,    2.22,2,-999.000,5,-999.000,5,-999.000,1,-999.0000,5,  -999.0,9,  -999.0,9,-999.0000,9,  -999.00,-999.000,9,-999.0000,9, -999.00,9, -999.00,9,  -999.0,9,  -999.0,-999.000,9,-999.000,  -999.0,9,-999.000,-999.0000, -999.00,   0.6306,   1.0314,2,20091219,       0835
318M20091121,        P06,      97,          1,          2,          2,2,20091219,       0818,   -32.4999,  -169.5001,       5632,  5219.0,   1.0617,  34.7082,  34.7085,2,    206.6,2,   207.1,2,  121.16,2,   31.58,2,    0.00,2,    2.22,2,   0.082,2,   0.044,2,-999.000,1,        0,2,  -999.0,9,  -999.0,9,-999.0000,9,  -999.00,-999.000,9,-999.0000,9, -999.00,9, -999.00,9,  -999.0,9,  -999.0,-999.000,9,-999.000,  -999.0,9,-999.000,-999.0000, -999.00,   0.6157,   1.0617,2,20091219,       0828
318M20091121,        P06,      97,          1,          1,          1,2,20091219,       0818,   -32.4999,  -169.5001,       5632,  5600.3,   1.1091,  34.7080,  34.7085,2,    206.8,2,   206.6,2,  121.35,2,   31.63,2,    0.00,2,    2.22,2,   0.085,2,   0.044,2,-999.000,1,        0,2,  2260.8,6,  2367.5,6,   7.6168,6,    25.00,-999.000,9,-999.0000,9, -999.00,9, -999.00,9,  -999.0,9,  -999.0,-999.000,9,-999.000,  -999.0,9,-999.000,-999.0000, -999.00,   0.6139,   1.1091,2,20091219,       0818