BOTTLE,20220818CCHSIOAMB
EXPOCODE,SECT_ID,STNNBR,CASTNO,SAMPNO,BTLNBR,BTLNBR_FLAG_W,DATE,TIME,LATITUDE,LONGITUDE,DEPTH,CTDPRS,CTDTMP,CTDSAL,SALNTY,SALNTY_FLAG_W,CTDOXY,CTDOXY_FLAG_W,OXYGEN,OXYGEN_FLAG_W,SILCAT,SILCAT_FLAG_W,NITRAT,NITRAT_FLAG_W,NITRIT,NITRIT_FLAG_W,PHSPHT,PHSPHT_FLAG_W,CFC-11,CFC-11_FLAG_W,CFC-12,CFC-12_FLAG_W,CFC113,CFC113_FLAG_W,SF6,SF6_FLAG_W,TCARBN,TCARBN_FLAG_W,ALKALI,ALKALI_FLAG_W,PH_SWS,PH_SWS_FLAG_W,PH_TMP,TRITUM,TRITUM_FLAG_W,HELIUM,HELIUM_FLAG_W,DELHE3,DELHE3_FLAG_W,DELC13,DELC13_FLAG_W,DELC14,DELC14_FLAG_W,C14ERR,NEON,NEON_FLAG_W,NEONER,DOC,DOC_FLAG_W,TRITER,HELIER,DELHER,THETA,SBE35,SBE35_FLAG_W,BTL_DATE,BTL_TIME
,,,,,,,,,,,METERS,DBAR,ITS-90,PSS-78,PSS-78,,UMOL/KG,,UMOL/KG,,UMOL/KG,,UMOL/KG,,UMOL/KG,,UMOL/KG,,PMOL/KG,,PMOL/KG,,PMOL/KG,,FMOL/KG,,UMOL/KG,,UMOL/KG,,,,DEG C,TU,,NMOL/KG,,PERCNT,,/MILLE,,/MILLE,,/MILLE,NMOL/KG,,NMOL/KG,UMOL/KG,,TU,NMOL/KG,PERCNT,DEG C,ITS-90,,,
318M20091121,        P06,      77,          2,         36,         36,2,20091212,       0451,   -32.4999,  -177.9996,       5832,     3.1,  21.1981,  35.5848,  35.5843,2,    228.5,2,   228.8,2,    0.72,2,    0.00,2,    0.00,2,    0.16,2,   2.134,2,   1.319,2,-999.000,1,    1.097,2,  2057.3,6,  2339.4,2,   7.9969,2,    25.00,-999.000,9,-999.0000,9, -999.00,9, -999.00,9,  -999.0,9,  -999.0,-999.000,9,-999.000,  -999.0,9,-999.000,-999.0000, -999.00,  21.1975,  21.1942,2,20091212,       0727
318M20091121,        P06,      77,          2,         35,         35,2,20091212,       0451,   -32.4999,  -177.9996,       5832,    24.7,  19.6044,  35.5339,  35.5340,2,    235.1,2,   237.8,2,    0.49,2,    0.00,2,    0.00,2,    0.14,2,   2.248,2,   1.408,2,-999.000,1,    1.214,2,  2053.9,2,  2334.8,6,   7.9985,6,    25.00,-999.000,9,-999.0000,9, -999.00,9, -999.00,9,  -999.0,9,  -999.0,-999.000,9,-999.000,  -999.0,9,-999.000,-999.0000, -999.00,  19.5999,  19.6035,2,20091212,       0724
318M20091121,        P06,      77,          2,         34,         34,2,20091212,       0451,   -32.4999,  -177.9996,       5832,    50.5,  16.7661,  35.4677,  35.4629,2,    251.8,2,   250.0,2,    0.64,2,   -0.01,2,    0.01,2,    0.16,2,   2.471,2,   1.526,2,-999.000,1,    1.251,2,  -999.0,9,  -999.0,9,-999.0000,9,  -999.00,-999.000,9,-999.0000,9, -999.00,9, -999.00,9,  -999.0,9,  -999.0,-999.000,9,-999.000,  -999.0,9,-999.000,-999.0000, -999.00,  16.7578,  16.7695,2,20091212,       0722
318M20091121,        P06,      77,          2,         33,         33,2,20091212,       0451,   -32.4999,  -177.9996,       5832,    76.0,  15.4798,  35.4210,  35.4203,2,    233.7,2,   236.4,2,    1.15,2,    1.77,2,    0.10,2,    0.31,2,   2.544,2,   1.557,2,-999.000,1,    1.245,2,  2074.8,2,  2325.3,2,   7.9511,2,    25.00,-999.000,9,-999.0000,9, -999.00,9, -999.00,9,  -999.0,9,  -999.0,-999.000,9,-999.000,  -999.0,9,-999.000,-999.0000, -999.00,  15.4680,  15.4818,2,20091212,       0720
318M20091121,        P06,      77,          2,         32,         32,2,20091212,       0451,   -32.4999,  -177.9996,       5832,   101.4,  14.9231,  35.3833,  35.3841,2,    227.8,2,   229.3,2,    1.30,2,    3.48,2,    0.04,2,    0.41,2,   2.578,2,   1.564,2,-999.000,1,    1.236,2,  -999.0,9,  -999.0,9,-999.0000,9,  -999.00,-999.000,9,-999.0000,9, -999.00,9, -999.00,9,  -999.0,9,  -999.0,-999.000,9,-999.000,  -999.0,9,-999.000,-999.0000, -999.00,  14.9078,  14.9169,2,20091212,       0718
318M20091121,        P06,      77,          2,         31,         31,2,20091212,       0451,   -32.4999,  -177.9996,       5832,   151.4,  14.2098,  35.3132,  35.3123,2,    221.6,2,   215.0,2,    2.20,2,    7.01,2,    0.02,2,    0.62,2,   2.519,2,   1.516,2,-999.000,1,    1.039,2,  2101.0,2,  2318.5,2,   7.8917,2,    25.00,-999.000,9,-999.0000,9, -999.00,9, -999.00,9,  -999.0,9,  -999.0,-999.000,9,-999.000,  -999.0,9,-999.000,-999.0000, -999.00,  14.1877,  14.2241,2,20091212,       0716
318M20091121,        P06,      77,          2,         30,         30,2,20091212,       0451,   -32.4999,  -177.9996,       5832,   201.6,  13.4135,  35.2103,  35.2077,2,    206.3,2,   208.6,2,    2.90,2,    9.27,2,    0.02,2,    0.75,2,   2.531,2,   1.482,2,-999.000,1,    0.902,2,  -999.0,9,  -999.0,9,-999.0000,9,  -999.00,-999.000,9,-999.0000,9, -999.00,9, -999.00,9,  -999.0,9,  -999.0,-999.000,9,-999.000,  -999.0,9,-999.000,-999.0000, -999.00,  13.3851,  13.4134,2,20091212,       0714
318M20091121,        P06,      77,          2,         29,         29,2,20091212,       0451,   -32.4999,  -177.9996,       5832,   252.3,  12.7974,  35.1368,  35.1360,2,    215.3,2,   214.2,2,    2.86,2,    9.45,2,    0.02,2,    0.77,2,   2.646,2,   1.554,2,-999.000,1,    1.017,2,  2112.9,2,  2310.8,2,   7.8489,2,    25.00,-999.000,9,-999.0000,9, -999.00,9, -999.00,9,  -999.0,9,  -999.0,-999.000,9,-999.000,  -999.0,9,-999.000,-999.0000, -999.00,  12.7629,  12.8093,2,20091212,       0711
318M20091121,        P06,      77,          2,         28,         28,2,20091212,       0451,   -32.4999,  -177.9996,       5832,   302.9,  11.8921,  35.0122,  35.0094,2,    207.9,2,   206.6,2,    3.57,2,   12.16,2,    0.01,2,    0.94,2,   2.716,2,   1.554,2,-999.000,1,    1.006,2,  -999.0,9,  -999.0,9,-999.0000,9,  -999.00,-999.000,9,-999.0000,9, -999.00,9, -999.00,9,  -999.0,9,  -999.0,-999.000,9,-999.000,  -999.0,9,-999.000,-999.0000, -999.00,  11.8526,  11.8927,2,20091212,       0709
318M20091121,        P06,      77,          2,         27,         27,2,20091212,       0451,   -32.4999,  -177.9996,       5832,   354.1,  11.0031,  34.8839,  34.8847,2,    206.8,2,   206.2,2,    4.10,2,   14.14,2,    0.01,2,    1.06,2,   2.761,2,   1.564,2,-999.000,1,    0.951,2,  2130.1,2,  2304.3,2,   7.7896,2,    25.00,-999.000,9,-999.0000,9, -999.00,9, -999.00,9,  -999.0,9,  -999.0,-999.000,9,-999.000,  -999.0,9,-999.000,-999.0000, -999.00,  10.9592,  11.0027,2,20091212,       0706
318M20091121,        P06,      77,          2,         26,         26,2,20091212,       0451,   -32.4999,  -177.9996,       5832,   476.7,   9.2081,  34.6616,  34.6634,2,    209.4,2,   209.3,2,    6.31,2,   18.31,2,    0.01,2,    1.33,2,   2.650,2,   1.447,2,-999.000,1,    0.758,2,  -999.0,9,  -999.0,9,-999.0000,9,  -999.00,-999.000,9,-999.0000,9, -999.00,9, -999.00,9,  -999.0,9,  -999.0,-999.000,9,-999.000,  -999.0,9,-999.000,-999.0000, -999.00,   9.1550,   9.2040,2,20091212,       0703
318M20091121,        P06,      77,          2,         25,         25,2,20091212,       0451,   -32.4999,  -177.9996,       5832,   599.7,   7.8698,  34.5002,  34.4996,2,    218.6,2,   219.7,2,    7.39,2,   20.74,2,    0.01,2,    1.50,2,   2.710,2,   1.427,2,-999.000,1,    0.601,2,  2145.9,2,  2289.1,2,   7.7291,2,    25.00,-999.000,9,-999.0000,9, -999.00,9, -999.00,9,  -999.0,9,  -999.0,-999.000,9,-999.000,  -999.0,9,-999.000,-999.0000, -999.00,   7.8086,   7.8695,2,20091212,       0659
318M20091121,        P06,      77,          2,         24,         24,2,20091212,       0451,   -32.4999,  -177.9996,       5832,   703.9,   7.2630,  34.4611,  34.4609,2,    216.3,2,   216.6,2,   10.55,2,   22.63,2,    0.01,2,    1.61,2,   2.226,2,   1.157,2,-999.000,1,    0.399,2,  -999.0,9,  -999.0,9,-999.0000,9,  -999.00,-999.000,9,-999.0000,9, -999.00,9, -999.00,9,  -999.0,9,  -999.0,-999.000,9,-999.000,  -999.0,9,-999.000,-999.0000, -999.00,   7.1939,   7.2646,2,20091212,       0656
318M20091121,        P06,      77,          2,         23,         23,2,20091212,       0451,   -32.4999,  -177.9996,       5832,   704.2,   7.2593,  34.4607,  34.4607,2,    216.3,2,   216.6,2,   10.51,2,   22.67,2,    0.01,2,    1.62,2,   2.209,2,   1.146,2,-999.000,1,    0.291,2,  -999.0,9,  2290.9,2,   7.7150,2,    25.00,-999.000,9,-999.0000,9, -999.00,9, -999.00,9,  -999.0,9,  -999.0,-999.000,9,-999.000,  -999.0,9,-999.000,-999.0000, -999.00,   7.1901,   7.2629,2,20091212,       0656
318M20091121,        P06,      77,          2,         22,         22,2,20091212,       0451,   -32.4999,  -177.9996,       5832,   804.8,   6.6572,  34.4268,  34.4255,2,    213.6,2,   212.0,2,   14.43,2,   24.43,2,    0.01,2,    1.74,2,   1.670,2,   0.863,2,-999.000,1,    0.194,2,  2162.2,2,  2289.6,2,   7.6994,2,    25.00,-999.000,9,-999.0000,9, -999.00,9, -999.00,9,  -999.0,9,  -999.0,-999.000,9,-999.000,  -999.0,9,-999.000,-999.0000, -999.00,   6.5813,   6.6578,2,20091212,       0652
318M20091121,        P06,      77,          2,         21,         21,2,20091212,       0451,   -32.4999,  -177.9996,       5832,   908.1,   6.0942,  34.4180,  34.4180,2,    203.2,2,   204.0,2,   20.84,2,   26.15,2,    0.00,2,    1.87,2,   1.177,2,   0.608,2,-999.000,1,    0.137,2,  -999.0,9,  2294.7,6,-999.0000,5,  -999.00,-999.000,9,-999.0000,9, -999.00,9, -999.00,9,  -999.0,9,  -999.0,-999.000,9,-999.000,  -999.0,9,-999.000,-999.0000, -999.00,   6.0117,   6.0950,2,20091212,       0649
318M20091121,        P06,      77,          2,         20,         20,2,20091212,       0451,   -32.4999,  -177.9996,       5832,  1006.9,   5.4051,  34.3856,  34.3856,2,    199.6,2,   199.4,2,   25.93,2,   27.96,2,    0.00,2,    2.00,2,   0.843,2,   0.436,2,-999.000,1,        0,2,  2184.1,6,  2327.9,4,   7.6585,2,    25.00,-999.000,9,-999.0000,9, -999.00,9, -999.00,9,  -999.0,9,  -999.0,-999.000,9,-999.000,  -999.0,9,-999.000,-999.0000, -999.00,   5.3183,   5.4042,2,20091212,       0646
318M20091121,        P06,      77,          2,         19,         19,2,20091212,       0451,   -32.4999,  -177.9996,       5832,  1114.3,   4.7418,  34.4067,  34.4070,2,    190.2,2,   189.1,2,   37.15,2,   29.74,2,    0.00,2,    2.12,2,   0.524,2,   0.266,2,-999.000,1,        0,2,  -999.0,9,  2308.8,2,   7.6349,2,    25.00,-999.000,9,-999.0000,9, -999.00,9, -999.00,9,  -999.0,9,  -999.0,-999.000,9,-999.000,  -999.0,9,-999.000,-999.0000, -999.00,   4.6504,   4.7416,2,20091212,       0643
318M20091121,        P06,      77,          2,         18,         18,2,20091212,       0451,   -32.4999,  -177.9996,       5832,  1313.9,   3.8249,  34.4636,  34.4637,2,    175.9,2,   175.3,2,   57.13,2,   31.84,2,    0.00,2,    2.29,2,   0.217,2,   0.130,2,-999.000,1,        0,2,  -999.0,9,  -999.0,9,-999.0000,9,  -999.00,-999.000,9,-999.0000,9, -999.00,9, -999.00,9,  -999.0,9,  -999.0,-999.000,9,-999.000,  -999.0,9,-999.000,-999.0000, -999.00,   3.7242,   3.8241,2,20091212,       0638
318M20091121,        P06,      77,          2,         17,         17,2,20091212,       0451,   -32.4999,  -177.9996,       5832,  1507.8,   3.3473,  34.5209,  34.5386,3,    166.0,2,   166.2,2,   73.58,2,   32.67,2,    0.00,2,    2.35,2,   0.129,2,   0.075,2,-999.000,1,        0,2,  2252.1,2,  -999.0,9,-999.0000,9,  -999.00,-999.000,9,-999.0000,9, -999.00,9, -999.00,9,  -999.0,9,  -999.0,-999.000,9,-999.000,  -999.0,9,-999.000,-999.0000, -999.00,   3.2349,   3.3468,2,20091212,       0633
318M20091121,        P06,      77,          2,         16,         16,2,20091212,       0451,   -32.4999,  -177.9996,       5832,  1716.7,   2.8678,  34.5800,  34.5795,2,    159.1,2,   159.3,2,   91.09,2,   33.31,2,    0.00,2,    2.41,2,   0.080,2,   0.048,2,-999.000,1,        0,2,  -999.0,9,  2367.7,2,   7.5915,2,    25.00,-999.000,9,-999.0000,9, -999.00,9, -999.00,9,  -999.0,9,  -999.0,-999.000,9,-999.000,  -999.0,9,-999.000,-999.0000, -999.00,   2.7432,   2.8674,2,20091212,       0628
318M20091121,        P06,      77,          2,         15,         15,2,20091212,       0451,   -32.4999,  -177.9996,       5832,  1917.9,   2.5602,  34.6113,  34.6116,2,    156.1,2,   156.3,2,  101.83,2,   33.73,2,    0.00,2,    2.43,2,   0.054,2,   0.034,2,-999.000,1,        0,2,  -999.0,9,  -999.0,9,-999.0000,9,  -999.00,-999.000,9,-999.0000,9, -999.00,9, -999.00,9,  -999.0,9,  -999.0,-999.000,9,-999.000,  -999.0,9,-999.000,-999.0000, -999.00,   2.4225,   2.5596,2,20091212,       0623
318M20091121,        P06,      77,          2,         14,         14,2,20091212,       0451,   -32.4999,  -177.9996,       5832,  2121.3,   2.3302,  34.6323,  34.6323,2,    154.2,2,   154.4,2,  108.86,2,   33.96,2,    0.00,2,    2.45,2,   0.036,2,   0.024,2,-999.000,1,        0,2,  2293.6,2,  -999.0,9,-999.0000,9,  -999.00,-999.000,9,-999.0000,9, -999.00,9, -999.00,9,  -999.0,9,  -999.0,-999.000,9,-999.000,  -999.0,9,-999.000,-999.0000, -999.00,   2.1782,   2.3304,2,20091212,       0618
318M20091121,        P06,      77,          2,         13,         13,2,20091212,       0451,   -32.4999,  -177.9996,       5832,  2426.5,   2.0697,  34.6536,  34.6541,2,    153.1,2,   152.8,2,  117.08,2,   34.28,2,    0.00,2,    2.48,2,   0.036,2,   0.024,2,-999.000,1,        0,2,  -999.0,9,  2396.2,2,   7.5821,2,    25.00,-999.000,9,-999.0000,9, -999.00,9, -999.00,9,  -999.0,9,  -999.0,-999.000,9,-999.000,  -999.0,9,-999.000,-999.0000, -999.00,   1.8948,   2.0695,2,20091212,       0611
318M20091121,        P06,      77,          2,         12,         12,2,20091212,       0451,   -32.4999,  -177.9996,       5832,  2732.2,   1.7035,  34.7093,  34.7098,2,    181.4,2,   181.7,2,  106.23,2,   31.84,2,    0.00,2,    2.29,2,   0.041,2,   0.023,2,-999.000,1,        0,2,  -999.0,9,  -999.0,9,-999.0000,9,  -999.00,-999.000,9,-999.0000,9, -999.00,9, -999.00,9,  -999.0,9,  -999.0,-999.000,9,-999.000,  -999.0,9,-999.000,-999.0000, -999.00,   1.5073,   1.7035,2,20091212,       0604
318M20091121,        P06,      77,          2,         11,         11,2,20091212,       0451,   -32.4999,  -177.9996,       5832,  3038.8,   1.5142,  34.7216,  34.7221,2,    192.5,2,   192.6,2,  105.40,2,   31.15,2,    0.00,2,    2.23,2,   0.058,2,   0.034,2,-999.000,1,        0,2,  2263.1,2,  -999.0,9,-999.0000,9,  -999.00,-999.000,9,-999.0000,9, -999.00,9, -999.00,9,  -999.0,9,  -999.0,-999.000,9,-999.000,  -999.0,9,-999.000,-999.0000, -999.00,   1.2931,   1.5136,2,20091212,       0557
318M20091121,        P06,      77,          2,         10,         10,2,20091212,       0451,   -32.4999,  -177.9996,       5832,  3344.6,   1.2925,  34.7221,  34.7213,2,    200.1,2,   200.0,2,  109.50,2,   30.97,2,    0.00,2,    2.21,2,   0.076,2,   0.045,2,-999.000,1,        0,2,  -999.0,9,  2365.4,2,   7.6151,2,    25.00,-999.000,9,-999.0000,9, -999.00,9, -999.00,9,  -999.0,9,  -999.0,-999.000,9,-999.000,  -999.0,9,-999.000,-999.0000, -999.00,   1.0468,   1.2929,2,20091212,       0551
318M20091121,        P06,      77,          2,          9,          9,2,20091212,       0451,   -32.4999,  -177.9996,       5832,  3649.8,   1.1350,  34.7169,  34.7170,2,    203.2,2,   202.9,2,  114.18,2,   31.15,2,    0.00,2,    2.23,2,   0.092,2,   0.053,2,-999.000,1,        0,2,  -999.0,9,  -999.0,9,-999.0000,9,  -999.00,-999.000,9,-999.0000,9, -999.00,9, -999.00,9,  -999.0,9,  -999.0,-999.000,9,-999.000,  -999.0,9,-999.000,-999.0000, -999.00,   0.8627,   1.1349,2,20091212,       0544
318M20091121,        P06,      77,          2,          8,          8,2,20091212,       0451,   -32.4999,  -177.9996,       5832,  3959.1,   1.0378,  34.7126,  34.7126,2,    205.2,2,   205.3,2,  117.68,2,   31.29,2,    0.00,2,    2.23,2,   0.108,2,   0.061,2,-999.000,1,        0,2,  2261.4,2,  -999.0,9,-999.0000,9,  -999.00,-999.000,9,-999.0000,9, -999.00,9, -999.00,9,  -999.0,9,  -999.0,-999.000,9,-999.000,  -999.0,9,-999.000,-999.0000, -999.00,   0.7361,   1.0381,2,20091212,       0538
318M20091121,        P06,      77,          2,          7,          7,2,20091212,       0451,   -32.4999,  -177.9996,       5832,  4265.3,   1.0096,  34.7102,  34.7103,2,    206.3,2,   206.4,2,  119.62,2,   31.20,2,    0.00,2,    2.24,2,   0.113,2,   0.062,2,-999.000,1,        0,2,  -999.0,9,  2368.7,2,   7.6086,2,    25.00,-999.000,9,-999.0000,9, -999.00,9, -999.00,9,  -999.0,9,  -999.0,-999.000,9,-999.000,  -999.0,9,-999.000,-999.0000, -999.00,   0.6757,   1.0095,2,20091212,       0531
318M20091121,        P06,      77,          2,          6,          6,2,20091212,       0451,   -32.4999,  -177.9996,       5832,  4573.9,   1.0128,  34.7091,  34.7091,2,    206.8,2,   206.8,2,  119.98,2,   31.39,2,    0.00,2,    2.24,2,   0.116,2,   0.070,2,-999.000,1,        0,2,  -999.0,9,  -999.0,9,-999.0000,9,  -999.00,-999.000,9,-999.0000,9, -999.00,9, -999.00,9,  -999.0,9,  -999.0,-999.000,9,-999.000,  -999.0,9,-999.000,-999.0000, -999.00,   0.6444,   1.0125,2,20091212,       0524
318M20091121,        P06,      77,          2,          5,          5,2,20091212,       0451,   -32.4999,  -177.9996,       5832,  4884.4,   1.0259,  34.7084,  34.7131,3,    207.1,2,   207.0,2,  121.13,2,   31.48,2,    0.00,2,    2.22,2,   0.125,2,   0.070,2,-999.000,1,        0,2,  -999.0,9,  -999.0,9,-999.0000,9,  -999.00,-999.000,9,-999.0000,9, -999.00,9, -999.00,9,  -999.0,9,  -999.0,-999.000,9,-999.000,  -999.0,9,-999.000,-999.0000, -999.00,   0.6212,   1.0261,2,20091212,       0517
318M20091121,        P06,      77,          2,          4,          4,2,20091212,       0451,   -32.4999,  -177.9996,       5832,  5192.7,   1.0523,  34.7080,  34.7078,2,    207.2,2,   207.0,2,  121.49,2, -999.00,5,    0.00,2,    2.23,2,   0.113,2,   0.064,2,-999.000,1,        0,2,  2263.5,2,  2366.3,2,   7.6150,2,    25.00,-999.000,9,-999.0000,9, -999.00,9, -999.00,9,  -999.0,9,  -999.0,-999.000,9,-999.000,  -999.0,9,-999.000,-999.0000, -999.00,   0.6098,   1.0527,2,20091212,       0510
318M20091121,        P06,      77,          2,          3,          3,2,20091212,       0451,   -32.4999,  -177.9996,       5832,  5502.9,   1.0850,  34.7077,  34.7051,3,    207.1,2,   207.2,2,  121.94,2, -999.00,5,    0.00,2,    2.23,2,   0.116,2,   0.063,2,-999.000,1,        0,2,  -999.0,9,  -999.0,9,-999.0000,9,  -999.00,-999.000,9,-999.0000,9, -999.00,9, -999.00,9,  -999.0,9,  -999.0,-999.000,9,-999.000,  -999.0,9,-999.000,-999.0000, -999.00,   0.6030,   1.0848,2,20091212,       0503
318M20091121,        P06,      77,          2,          2,          2,2,20091212,       0451,   -32.4999,  -177.9996,       5832,  5707.0,   1.1101,  34.7075,  34.7073,2,    206.6,2,   206.8,2,  122.01,2, -999.00,5,    0.00,2,    2.24,2,   0.117,2,   0.063,2,-999.000,1,        0,2,  -999.0,9,  -999.0,9,-999.0000,9,  -999.00,-999.000,9,-999.0000,9, -999.00,9, -999.00,9,  -999.0,9,  -999.0,-999.000,9,-999.000,  -999.0,9,-999.000,-999.0000, -999.00,   0.6013,   1.1100,2,20091212,       0458
318M20091121,        P06,      77,          2,          1,          1,2,20091212,       0451,   -32.4999,  -177.9996,       5832,  5988.3,   1.1479,  34.7073,  34.7077,3,    206.8,2,   206.7,2,  122.09,2, -999.00,5,    0.00,2,    2.23,2,   0.117,2,   0.064,2,-999.000,1,        0,2,  2281.4,3,  2367.2,6,   7.6132,2,    25.00,-999.000,9,-999.0000,9, -999.00,9, -999.00,9,  -999.0,9,  -999.0,-999.000,9,-999.000,  -999.0,9,-999.000,-999.0000, -999.00,   0.6011,   1.1482,2,20091212,       0451