BOTTLE,20220818CCHSIOAMB
EXPOCODE,SECT_ID,STNNBR,CASTNO,SAMPNO,BTLNBR,BTLNBR_FLAG_W,DATE,TIME,LATITUDE,LONGITUDE,DEPTH,CTDPRS,CTDTMP,CTDSAL,SALNTY,SALNTY_FLAG_W,CTDOXY,CTDOXY_FLAG_W,OXYGEN,OXYGEN_FLAG_W,SILCAT,SILCAT_FLAG_W,NITRAT,NITRAT_FLAG_W,NITRIT,NITRIT_FLAG_W,PHSPHT,PHSPHT_FLAG_W,CFC-11,CFC-11_FLAG_W,CFC-12,CFC-12_FLAG_W,CFC113,CFC113_FLAG_W,SF6,SF6_FLAG_W,TCARBN,TCARBN_FLAG_W,ALKALI,ALKALI_FLAG_W,PH_SWS,PH_SWS_FLAG_W,PH_TMP,TRITUM,TRITUM_FLAG_W,HELIUM,HELIUM_FLAG_W,DELHE3,DELHE3_FLAG_W,DELC13,DELC13_FLAG_W,DELC14,DELC14_FLAG_W,C14ERR,NEON,NEON_FLAG_W,NEONER,DOC,DOC_FLAG_W,TRITER,HELIER,DELHER,THETA,SBE35,SBE35_FLAG_W,BTL_DATE,BTL_TIME
,,,,,,,,,,,METERS,DBAR,ITS-90,PSS-78,PSS-78,,UMOL/KG,,UMOL/KG,,UMOL/KG,,UMOL/KG,,UMOL/KG,,UMOL/KG,,PMOL/KG,,PMOL/KG,,PMOL/KG,,FMOL/KG,,UMOL/KG,,UMOL/KG,,,,DEG C,TU,,NMOL/KG,,PERCNT,,/MILLE,,/MILLE,,/MILLE,NMOL/KG,,NMOL/KG,UMOL/KG,,TU,NMOL/KG,PERCNT,DEG C,ITS-90,,,
318M20091121,        P06,      34,          1,         26,         26,2,20091130,       1806,   -30.0800,   163.9202,       1964,     4.0,  21.8876,  35.7460,  35.7464,2,    222.4,2,   222.4,2,    0.43,2,    0.00,2,    0.00,2,    0.08,2,   2.086,2,   1.276,2,-999.000,1,     1.35,2,  2028.6,2,  2341.0,6,   8.0381,2,    25.00,-999.000,9,-999.0000,9, -999.00,9, -999.00,9,  -999.0,9,  -999.0,-999.000,9,-999.000,    60.2,2,-999.000,-999.0000, -999.00,  21.8868,  21.8907,2,20091130,       1926
318M20091121,        P06,      34,          1,         25,         25,2,20091130,       1806,   -30.0800,   163.9202,       1964,    19.8,  20.3679,  35.6842,  35.6879,2,    235.5,2,   235.7,2,    0.21,2,    0.00,2,    0.00,2,    0.07,2,   2.250,2,   1.375,2,-999.000,1,    1.297,2,  2026.2,2,  2337.2,2,   8.0395,2,    25.00,-999.000,9,-999.0000,9, -999.00,9, -999.00,9,  -999.0,9,  -999.0,-999.000,9,-999.000,    54.4,2,-999.000,-999.0000, -999.00,  20.3642,  20.3752,2,20091130,       1924
318M20091121,        P06,      34,          1,         24,         24,2,20091130,       1806,   -30.0800,   163.9202,       1964,    39.0,  18.9902,  35.6381,  35.6391,2,    241.6,2,   241.7,2,    0.21,2,    0.00,2,    0.00,2,    0.08,2,   2.336,2,   1.423,2,-999.000,1,    1.341,2,  2024.2,2,  2333.6,2,   8.0369,2,    25.00,-999.000,9,-999.0000,9, -999.00,9, -999.00,9,  -999.0,9,  -999.0,-999.000,9,-999.000,  -999.0,5,-999.000,-999.0000, -999.00,  18.9832,  18.9867,2,20091130,       1921
318M20091121,        P06,      34,          1,         23,         23,2,20091130,       1806,   -30.0800,   163.9202,       1964,    64.3,  18.1461,  35.5837,  35.5827,2,    239.9,2,   240.5,2,    0.19,2,    0.00,2,    0.00,2,    0.11,2,   2.370,2,   1.447,2,-999.000,1,    1.269,2,  2041.5,2,  2331.4,2,   8.0234,6,    25.00,-999.000,9,-999.0000,9, -999.00,9, -999.00,9,  -999.0,9,  -999.0,-999.000,9,-999.000,    53.9,2,-999.000,-999.0000, -999.00,  18.1350,  18.1431,2,20091130,       1919
318M20091121,        P06,      34,          1,         22,         22,2,20091130,       1806,   -30.0800,   163.9202,       1964,    89.1,  17.0255,  35.5386,  35.5383,2,    218.6,2,   212.9,2,    1.17,2,    3.56,2,    0.05,2,    0.34,2,   2.390,2,   1.455,2,-999.000,1,    1.101,2,  2069.7,2,  2327.2,2,   7.9588,4,    25.00,-999.000,9,-999.0000,9, -999.00,9, -999.00,9,  -999.0,9,  -999.0,-999.000,9,-999.000,    48.1,2,-999.000,-999.0000, -999.00,  17.0108,  17.0190,2,20091130,       1917
318M20091121,        P06,      34,          1,         21,         21,2,20091130,       1806,   -30.0800,   163.9202,       1964,   135.5,  16.3297,  35.4981,  35.4964,2,    205.4,2,   205.5,2,    1.55,2,    5.72,2,    0.01,2,    0.48,2,   2.416,6,   1.448,6,-999.000,1,   1.0885,6,  2075.1,2,  2326.0,2,   7.9402,2,    25.00,-999.000,9,-999.0000,9, -999.00,9, -999.00,9,  -999.0,9,  -999.0,-999.000,9,-999.000,    46.8,2,-999.000,-999.0000, -999.00,  16.3079,  16.3284,2,20091130,       1914
318M20091121,        P06,      34,          1,         20,         20,2,20091130,       1806,   -30.0800,   163.9202,       1964,   185.9,  15.3528,  35.4141,  35.4139,2,    197.7,2,   197.4,2,    2.34,2,    8.04,2,    0.01,2,    0.63,2,   2.438,2,   1.446,2,-999.000,1,    0.987,2,  2096.8,2,  2321.9,2,-999.0000,5,  -999.00,-999.000,9,-999.0000,9, -999.00,9, -999.00,9,  -999.0,9,  -999.0,-999.000,9,-999.000,  -999.0,5,-999.000,-999.0000, -999.00,  15.3241,  15.3521,2,20091130,       1912
318M20091121,        P06,      34,          1,         19,         19,2,20091130,       1806,   -30.0800,   163.9202,       1964,   236.5,  14.4244,  35.3303,  35.3292,2,    197.2,2,   199.8,2,    2.92,2,    9.30,2,    0.01,2,    0.70,2,   2.491,2,   1.456,2,-999.000,1,    0.995,2,  2103.7,2,  2318.3,2,   7.8819,2,    25.00,-999.000,9,-999.0000,9, -999.00,9, -999.00,9,  -999.0,9,  -999.0,-999.000,9,-999.000,    47.9,2,-999.000,-999.0000, -999.00,  14.3894,  14.4269,2,20091130,       1909
318M20091121,        P06,      34,          1,         18,         18,2,20091130,       1806,   -30.0800,   163.9202,       1964,   288.1,  13.5944,  35.2351,  35.2349,2,    197.4,2,   196.6,2,    3.51,2,   11.11,2,    0.00,2,    0.83,2,   2.509,2,   1.459,2,-999.000,1,    0.898,2,  2108.8,2,  2314.4,2,   7.8536,2,    25.00,-999.000,9,-999.0000,9, -999.00,9, -999.00,9,  -999.0,9,  -999.0,-999.000,9,-999.000,    48.8,2,-999.000,-999.0000, -999.00,  13.5534,  13.5932,2,20091130,       1907
318M20091121,        P06,      34,          1,         17,         17,2,20091130,       1806,   -30.0800,   163.9202,       1964,   338.5,  12.5133,  35.1180,  35.1183,2,    198.0,2,   197.8,2,    4.69,2,   13.06,2,    0.00,2,    0.95,2,   2.498,2,   1.420,2,-999.000,1,    0.859,2,  2121.7,2,  2310.4,2,   7.8265,2,    25.00,-999.000,9,-999.0000,9, -999.00,9, -999.00,9,  -999.0,9,  -999.0,-999.000,9,-999.000,    48.5,2,-999.000,-999.0000, -999.00,  12.4676,  12.5157,2,20091130,       1904
318M20091121,        P06,      34,          1,         16,         16,2,20091130,       1806,   -30.0800,   163.9202,       1964,   383.2,  11.6506,  35.0173,  35.0174,2,    198.0,2,   197.6,2,    5.48,2,   14.76,2,    0.00,2,    1.07,2,   2.493,2,   1.403,2,-999.000,1,    0.777,2,  2127.7,2,  2305.9,6,   7.8033,2,    25.00,-999.000,9,-999.0000,9, -999.00,9, -999.00,9,  -999.0,9,  -999.0,-999.000,9,-999.000,    42.2,2,-999.000,-999.0000, -999.00,  11.6012,  11.6517,2,20091130,       1902
318M20091121,        P06,      34,          1,         15,         15,2,20091130,       1806,   -30.0800,   163.9202,       1964,   434.8,  10.9412,  34.9288,  34.9315,2,    197.6,2,   197.4,2,    6.87,2,   16.31,2,    0.00,2,    1.16,2,   2.420,2,   1.357,2,-999.000,1,    0.661,2,  2131.8,2,  2302.4,2,   7.7866,2,    25.00,-999.000,9,-999.0000,9, -999.00,9, -999.00,9,  -999.0,9,  -999.0,-999.000,9,-999.000,    43.8,2,-999.000,-999.0000, -999.00,  10.8872,  10.9432,2,20091130,       1859
318M20091121,        P06,      34,          1,         14,         14,2,20091130,       1806,   -30.0800,   163.9202,       1964,   485.1,  10.0282,  34.8008,  34.8013,2,    196.9,2,   198.4,2,    7.86,2,   18.30,2,    0.00,2,    1.29,2,   2.348,2,   1.275,2,-999.000,1,    0.637,2,  2139.5,2,  2299.8,2,   7.7639,2,    25.00,-999.000,9,-999.0000,9, -999.00,9, -999.00,9,  -999.0,9,  -999.0,-999.000,9,-999.000,    41.3,2,-999.000,-999.0000, -999.00,   9.9711,  10.0244,2,20091130,       1857
318M20091121,        P06,      34,          1,         13,         13,2,20091130,       1806,   -30.0800,   163.9202,       1964,   566.2,   8.9673,  34.6702,  34.6692,2,    197.9,2,   198.5,2,    9.65,2,   20.64,2,    0.00,2,    1.45,2,   2.117,2,   1.124,2,-999.000,1,    0.514,2,  2157.8,3,  2293.7,2,   7.7367,2,    25.00,-999.000,9,-999.0000,9, -999.00,9, -999.00,9,  -999.0,9,  -999.0,-999.000,9,-999.000,    41.0,2,-999.000,-999.0000, -999.00,   8.9049,   8.9654,2,20091130,       1854
318M20091121,        P06,      34,          1,         12,         12,2,20091130,       1806,   -30.0800,   163.9202,       1964,   668.8,   7.9343,  34.5770,  34.5768,2,    198.9,2,   200.2,2,   13.65,2,   22.78,2,    0.00,2,    1.59,2,   1.805,2,   0.948,2,-999.000,1,    0.211,2,  2165.3,3,  -999.0,5,   7.7160,2,    25.00,-999.000,9,-999.0000,9, -999.00,9, -999.00,9,  -999.0,9,  -999.0,-999.000,9,-999.000,  -999.0,9,-999.000,-999.0000, -999.00,   7.8653,   7.9342,2,20091130,       1850
318M20091121,        P06,      34,          1,         11,         11,2,20091130,       1806,   -30.0800,   163.9202,       1964,   769.9,   7.2443,  34.5563,  34.5581,2,    192.4,2,   192.8,2,   21.08,2,   24.73,2,    0.00,2,    1.73,2,   1.399,2,   0.731,2,-999.000,1,    0.188,2,  2178.0,3,  2299.0,2,   7.6945,2,    25.00,-999.000,9,-999.0000,9, -999.00,9, -999.00,9,  -999.0,9,  -999.0,-999.000,9,-999.000,    39.8,2,-999.000,-999.0000, -999.00,   7.1683,   7.2512,2,20091130,       1847
318M20091121,        P06,      34,          1,         10,         10,2,20091130,       1806,   -30.0800,   163.9202,       1964,   867.0,   6.4006,  34.4930,  34.4920,2,    192.8,2,   192.9,2,   25.91,2,   26.52,2,    0.00,2,    1.86,2,   1.075,2,   0.556,2,-999.000,1,    0.205,2,  2189.5,2,  2304.3,2,   7.6885,2,    25.00,-999.000,9,-999.0000,9, -999.00,9, -999.00,9,  -999.0,9,  -999.0,-999.000,9,-999.000,  -999.0,9,-999.000,-999.0000, -999.00,   6.3200,   6.4019,2,20091130,       1844
318M20091121,        P06,      34,          1,          9,          9,2,20091130,       1806,   -30.0800,   163.9202,       1964,   974.3,   5.7649,  34.4843,  34.4834,2,    187.1,2,   186.4,2,   34.41,2,   28.22,2,    0.00,2,    1.99,2,   0.773,2,   0.408,2,-999.000,1,    0.147,2,  2203.6,2,  2310.4,2,   7.6592,6,    25.00,-999.000,9,-999.0000,9, -999.00,9, -999.00,9,  -999.0,9,  -999.0,-999.000,9,-999.000,    38.0,2,-999.000,-999.0000, -999.00,   5.6783,   5.7616,2,20091130,       1840
318M20091121,        P06,      34,          1,          8,          8,2,20091130,       1806,   -30.0800,   163.9202,       1964,  1074.8,   5.0049,  34.4639,  34.4639,2,    182.0,2,   181.6,2,   43.35,2,   29.98,2,    0.00,2,    2.10,2,   0.461,2,   0.248,2,-999.000,1,        0,2,  2217.2,2,  2318.4,2,   7.6396,2,    25.00,-999.000,9,-999.0000,9, -999.00,9, -999.00,9,  -999.0,9,  -999.0,-999.000,9,-999.000,  -999.0,9,-999.000,-999.0000, -999.00,   4.9148,   5.0088,2,20091130,       1836
318M20091121,        P06,      34,          1,          7,          7,2,20091130,       1806,   -30.0800,   163.9202,       1964,  1172.5,   4.4860,  34.4779,  34.4771,2,    175.5,2,   175.5,2,   52.74,2,   31.19,2,    0.00,2,    2.19,2,   0.307,2,   0.167,2,-999.000,1,        0,2,  2233.0,2,  2327.1,2,   7.6246,2,    25.00,-999.000,9,-999.0000,9, -999.00,9, -999.00,9,  -999.0,9,  -999.0,-999.000,9,-999.000,  -999.0,9,-999.000,-999.0000, -999.00,   4.3915,   4.4854,2,20091130,       1833
318M20091121,        P06,      34,          1,          6,          6,2,20091130,       1806,   -30.0800,   163.9202,       1964,  1276.1,   4.0413,  34.5090,  34.5094,2,    168.8,2,   168.2,2,   64.01,2,   32.14,2,    0.00,2,    2.27,2,   0.204,2,   0.116,2,-999.000,1,        0,2,  2247.4,2,  2340.4,2,   7.6085,2,    25.00,-999.000,9,-999.0000,9, -999.00,9, -999.00,9,  -999.0,9,  -999.0,-999.000,9,-999.000,    35.4,2,-999.000,-999.0000, -999.00,   3.9417,   4.0390,2,20091130,       1829
318M20091121,        P06,      34,          1,          5,          5,2,20091130,       1806,   -30.0800,   163.9202,       1964,  1373.4,   3.7348,  34.5320,  34.5318,2,    163.3,2,   163.6,2,   71.83,2,   32.80,2,    0.00,2,    2.32,2,   0.144,2,   0.087,2,-999.000,1,        0,2,  2259.0,2,  -999.0,5,   7.6012,2,    25.00,-999.000,9,-999.0000,9, -999.00,9, -999.00,9,  -999.0,9,  -999.0,-999.000,9,-999.000,  -999.0,9,-999.000,-999.0000, -999.00,   3.6298,   3.7377,2,20091130,       1826
318M20091121,        P06,      34,          1,          4,          4,2,20091130,       1806,   -30.0800,   163.9202,       1964,  1475.3,   3.4073,  34.5590,  34.5627,2,    158.8,2,   159.4,2,   80.91,2,   33.36,2,    0.00,2,    2.37,2,   0.103,2,   0.064,2,-999.000,1,        0,2,  2269.0,2,  -999.0,5,   7.5948,2,    25.00,-999.000,9,-999.0000,9, -999.00,9, -999.00,9,  -999.0,9,  -999.0,-999.000,9,-999.000,  -999.0,9,-999.000,-999.0000, -999.00,   3.2969,   3.4054,2,20091130,       1822
318M20091121,        P06,      34,          1,          3,          3,2,20091130,       1806,   -30.0800,   163.9202,       1964,  1577.6,   3.0852,  34.5831,  34.5816,2,    154.4,2,   154.8,2,   88.98,2,   34.01,2,    0.00,2,    2.42,2,   0.053,2,   0.031,2,-999.000,1,        0,2,  2280.9,2,  2364.7,2,   7.5870,2,    25.00,-999.000,9,-999.0000,9, -999.00,9, -999.00,9,  -999.0,9,  -999.0,-999.000,9,-999.000,    35.5,2,-999.000,-999.0000, -999.00,   2.9698,   3.0860,2,20091130,       1818
318M20091121,        P06,      34,          1,          2,          2,2,20091130,       1806,   -30.0800,   163.9202,       1964,  1755.8,   2.6692,  34.6161,  34.6528,3,    152.3,2,   152.5,2,   99.55,2,   34.47,2,    0.00,2,    2.45,2,   0.022,2,   0.016,2,-999.000,1,        0,2,  2294.8,3,  2377.4,2,   7.5846,2,    25.00,-999.000,9,-999.0000,9, -999.00,9, -999.00,9,  -999.0,9,  -999.0,-999.000,9,-999.000,  -999.0,9,-999.000,-999.0000, -999.00,   2.5438,   2.6709,2,20091130,       1813
318M20091121,        P06,      34,          1,          1,          1,2,20091130,       1806,   -30.0800,   163.9202,       1964,  1967.2,   2.2459,  34.6519,  34.6512,2,    152.9,2,   153.1,2,  108.90,2,   34.66,2,    0.00,2,    2.46,2,   0.009,2,   0.009,2,-999.000,1,        0,2,  2293.2,2,  2390.3,6,   7.6025,2,    25.00,-999.000,9,-999.0000,9, -999.00,9, -999.00,9,  -999.0,9,  -999.0,-999.000,9,-999.000,    35.0,2,-999.000,-999.0000, -999.00,   2.1084,   2.2466,2,20091130,       1806