BOTTLE,20220818CCHSIOAMB
EXPOCODE,SECT_ID,STNNBR,CASTNO,SAMPNO,BTLNBR,BTLNBR_FLAG_W,DATE,TIME,LATITUDE,LONGITUDE,DEPTH,CTDPRS,CTDTMP,CTDSAL,SALNTY,SALNTY_FLAG_W,CTDOXY,CTDOXY_FLAG_W,OXYGEN,OXYGEN_FLAG_W,SILCAT,SILCAT_FLAG_W,NITRAT,NITRAT_FLAG_W,NITRIT,NITRIT_FLAG_W,PHSPHT,PHSPHT_FLAG_W,CFC-11,CFC-11_FLAG_W,CFC-12,CFC-12_FLAG_W,CFC113,CFC113_FLAG_W,SF6,SF6_FLAG_W,TCARBN,TCARBN_FLAG_W,ALKALI,ALKALI_FLAG_W,PH_SWS,PH_SWS_FLAG_W,PH_TMP,TRITUM,TRITUM_FLAG_W,HELIUM,HELIUM_FLAG_W,DELHE3,DELHE3_FLAG_W,DELC13,DELC13_FLAG_W,DELC14,DELC14_FLAG_W,C14ERR,NEON,NEON_FLAG_W,NEONER,DOC,DOC_FLAG_W,TRITER,HELIER,DELHER,THETA,SBE35,SBE35_FLAG_W,BTL_DATE,BTL_TIME
,,,,,,,,,,,METERS,DBAR,ITS-90,PSS-78,PSS-78,,UMOL/KG,,UMOL/KG,,UMOL/KG,,UMOL/KG,,UMOL/KG,,UMOL/KG,,PMOL/KG,,PMOL/KG,,PMOL/KG,,FMOL/KG,,UMOL/KG,,UMOL/KG,,,,DEG C,TU,,NMOL/KG,,PERCNT,,/MILLE,,/MILLE,,/MILLE,NMOL/KG,,NMOL/KG,UMOL/KG,,TU,NMOL/KG,PERCNT,DEG C,ITS-90,,,
318M20091121,        P06,     103,          1,         36,         36,2,20091221,       1712,   -32.4998,  -163.1801,       5392,     4.7,  19.8886,  35.4318,  35.4317,2,    228.5,2,   228.2,2,    0.47,2,    0.00,2,    0.00,2,    0.10,2,   2.059,2,   1.339,2,-999.000,1,    1.336,2,  2043.7,6,  2326.9,2,   8.0081,6,    25.00,-999.000,9,-999.0000,9, -999.00,9, -999.00,9,  -999.0,9,  -999.0,-999.000,9,-999.000,  -999.0,9,-999.000,-999.0000, -999.00,  19.8877,  19.8958,2,20091221,       1942
318M20091121,        P06,     103,          1,         35,         35,2,20091221,       1712,   -32.4998,  -163.1801,       5392,    20.1,  19.8322,  35.4331,  35.4325,2,    228.0,2,   228.4,2,    0.23,2,    0.00,2,    0.00,2,    0.09,2,   2.064,2,   1.332,2,-999.000,1,    1.254,2,  -999.0,9,  2325.7,6,   8.0094,2,    25.00,-999.000,9,-999.0000,9, -999.00,9, -999.00,9,  -999.0,9,  -999.0,-999.000,9,-999.000,  -999.0,9,-999.000,-999.0000, -999.00,  19.8285,  19.8324,2,20091221,       1939
318M20091121,        P06,     103,          1,         34,         34,2,20091221,       1712,   -32.4998,  -163.1801,       5392,    40.4,  18.4087,  35.4855,  35.4840,2,    244.3,2,   244.0,2,    0.21,2,    0.00,2,    0.00,2,    0.10,2,   2.246,6,   1.447,6,-999.000,1,    1.375,6,  -999.0,9,  2326.8,2,   8.0112,2,    25.00,-999.000,9,-999.0000,9, -999.00,9, -999.00,9,  -999.0,9,  -999.0,-999.000,9,-999.000,  -999.0,9,-999.000,-999.0000, -999.00,  18.4017,  18.4117,2,20091221,       1937
318M20091121,        P06,     103,          1,         33,         33,2,20091221,       1712,   -32.4998,  -163.1801,       5392,    65.6,  17.1589,  35.4872,  35.4870,2,    242.5,2,   242.2,2,    0.38,2,    0.00,2,    0.00,2,    0.12,2,   2.302,2,   1.476,2,-999.000,1,     1.41,2,  2051.2,2,  2326.4,2,   8.0006,2,    25.00,-999.000,9,-999.0000,9, -999.00,9, -999.00,9,  -999.0,9,  -999.0,-999.000,9,-999.000,  -999.0,9,-999.000,-999.0000, -999.00,  17.1480,  17.1464,3,20091221,       1935
318M20091121,        P06,     103,          1,         32,         32,2,20091221,       1712,   -32.4998,  -163.1801,       5392,    90.5,  16.4573,  35.4697,  35.4696,2,    229.7,2,   216.7,3,    0.76,2,    2.32,2,    0.04,2,    0.29,2,   2.326,2,   1.462,2,-999.000,1,    1.032,2,  -999.0,9,  2325.5,2,   7.9565,2,    25.00,-999.000,9,-999.0000,9, -999.00,9, -999.00,9,  -999.0,9,  -999.0,-999.000,9,-999.000,  -999.0,9,-999.000,-999.0000, -999.00,  16.4427,  16.4608,2,20091221,       1933
318M20091121,        P06,     103,          1,         31,         31,2,20091221,       1712,   -32.4998,  -163.1801,       5392,   135.4,  15.3251,  35.3534,  35.3547,2,    207.0,2,   207.8,2,    1.13,2,    4.96,2,    0.01,2,    0.47,2,   2.403,2,   1.515,2,-999.000,1,    0.997,2,  2090.2,2,  2321.2,2,   7.9152,2,    25.00,-999.000,9,-999.0000,9, -999.00,9, -999.00,9,  -999.0,9,  -999.0,-999.000,9,-999.000,  -999.0,9,-999.000,-999.0000, -999.00,  15.3043,  15.3257,2,20091221,       1931
318M20091121,        P06,     103,          1,         30,         30,2,20091221,       1712,   -32.4998,  -163.1801,       5392,   185.6,  13.9586,  35.2081,  35.2081,2,    202.4,2,   201.8,2,    1.92,2,    8.10,2,    0.01,2,    0.66,2,   2.498,2,   1.524,2,-999.000,1,    0.942,2,  -999.0,9,  2312.3,2,   7.8679,2,    25.00,-999.000,9,-999.0000,9, -999.00,9, -999.00,9,  -999.0,9,  -999.0,-999.000,9,-999.000,  -999.0,9,-999.000,-999.0000, -999.00,  13.9318,  13.9477,2,20091221,       1928
318M20091121,        P06,     103,          1,         29,         29,2,20091221,       1712,   -32.4998,  -163.1801,       5392,   232.2,  13.0969,  35.1141,  35.1152,2,    203.3,2,   204.0,2,    2.31,2,    9.61,2,    0.01,2,    0.76,2,   2.574,2,   1.568,2,-999.000,1,    0.888,2,  2114.1,2,  2308.5,2,   7.8462,2,    25.00,-999.000,9,-999.0000,9, -999.00,9, -999.00,9,  -999.0,9,  -999.0,-999.000,9,-999.000,  -999.0,9,-999.000,-999.0000, -999.00,  13.0647,  13.0908,2,20091221,       1926
318M20091121,        P06,     103,          1,         28,         28,2,20091221,       1712,   -32.4998,  -163.1801,       5392,   283.6,  11.7417,  34.9235,  34.9254,2,    204.0,2,   204.2,2,    3.10,2,   12.41,2,    0.00,2,    0.95,2,   2.630,2,   1.557,2,-999.000,1,    0.795,2,  -999.0,9,  2302.6,2,   7.8116,2,    25.00,-999.000,9,-999.0000,9, -999.00,9, -999.00,9,  -999.0,9,  -999.0,-999.000,9,-999.000,  -999.0,9,-999.000,-999.0000, -999.00,  11.7051,  11.7405,2,20091221,       1923
318M20091121,        P06,     103,          1,         27,         27,2,20091221,       1712,   -32.4998,  -163.1801,       5392,   334.2,  10.5276,  34.7619,  34.7657,2,    207.5,2,   207.5,2,    3.47,2,   14.67,2,    0.00,2,    1.08,2,   2.715,2,   1.586,2,-999.000,1,    0.578,2,  2126.3,2,  2296.5,2,   7.7837,2,    25.00,-999.000,9,-999.0000,9, -999.00,9, -999.00,9,  -999.0,9,  -999.0,-999.000,9,-999.000,  -999.0,9,-999.000,-999.0000, -999.00,  10.4874,  10.5189,2,20091221,       1921
318M20091121,        P06,     103,          1,         26,         26,2,20091221,       1712,   -32.4998,  -163.1801,       5392,   385.7,   9.3712,  34.6266,  34.6262,2,    213.8,2,   215.4,2,    4.06,2,   16.99,2,    0.00,2,    1.23,2,   2.856,2,   1.629,2,-999.000,1,    0.987,4,  -999.0,9,  2291.3,2,   7.7613,2,    25.00,-999.000,9,-999.0000,9, -999.00,9, -999.00,9,  -999.0,9,  -999.0,-999.000,9,-999.000,  -999.0,9,-999.000,-999.0000, -999.00,   9.3280,   9.3527,2,20091221,       1919
318M20091121,        P06,     103,          1,         25,         25,2,20091221,       1712,   -32.4998,  -163.1801,       5392,   466.9,   8.3226,  34.5208,  34.5160,2,    224.9,2,   225.5,2,    4.85,2,   19.09,2,    0.00,2,    1.36,2,   3.035,2,   1.722,2,-999.000,1,    0.513,2,  2137.8,2,  2288.4,2,   7.7437,2,    25.00,-999.000,9,-999.0000,9, -999.00,9, -999.00,9,  -999.0,9,  -999.0,-999.000,9,-999.000,  -999.0,9,-999.000,-999.0000, -999.00,   8.2737,   8.3190,2,20091221,       1916
318M20091121,        P06,     103,          1,         24,         24,2,20091221,       1712,   -32.4998,  -163.1801,       5392,   568.6,   7.3155,  34.4169,  34.4162,2,    233.3,2,   233.7,2,    6.04,2,   21.20,2,    0.00,2,    1.50,2,   2.875,2,   1.586,2,-999.000,1,     0.32,2,  2140.1,2,  2285.4,2,   7.7347,2,    25.00,-999.000,9,-999.0000,9, -999.00,9, -999.00,9,  -999.0,9,  -999.0,-999.000,9,-999.000,  -999.0,9,-999.000,-999.0000, -999.00,   7.2600,   7.3172,2,20091221,       1913
318M20091121,        P06,     103,          1,         23,         23,2,20091221,       1712,   -32.4998,  -163.1801,       5392,   670.3,   6.8262,  34.3832,  34.3830,2,    234.4,2,   234.1,2,    8.07,2,   22.71,2,    0.00,2,    1.58,2,   2.526,2,   1.386,2,-999.000,1,    0.213,2,  2144.3,2,  2285.8,2,   7.7247,2,    25.00,-999.000,9,-999.0000,9, -999.00,9, -999.00,9,  -999.0,9,  -999.0,-999.000,9,-999.000,  -999.0,9,-999.000,-999.0000, -999.00,   6.7628,   6.8259,2,20091221,       1910
318M20091121,        P06,     103,          1,         22,         22,2,20091221,       1712,   -32.4998,  -163.1801,       5392,   766.9,   6.3282,  34.3556,  34.3558,2,    228.5,2,   227.6,2,   10.70,2,   24.41,2,    0.00,2,    1.70,2,   1.849,2,   0.984,2,-999.000,1,    0.198,2,  2150.4,2,  2287.0,2,   7.7104,2,    25.00,-999.000,9,-999.0000,9, -999.00,9, -999.00,9,  -999.0,9,  -999.0,-999.000,9,-999.000,  -999.0,9,-999.000,-999.0000, -999.00,   6.2580,   6.3330,2,20091221,       1907
318M20091121,        P06,     103,          1,         21,         21,2,20091221,       1712,   -32.4998,  -163.1801,       5392,   869.0,   5.8006,  34.3385,  34.3386,2,    218.0,2,   218.3,2,   15.38,2,   26.37,2,    0.00,2,    1.84,2,   1.279,2,   0.666,2,-999.000,1,    0.083,2,  2162.1,2,  2290.0,2,   7.6888,2,    25.00,-999.000,9,-999.0000,9, -999.00,9, -999.00,9,  -999.0,9,  -999.0,-999.000,9,-999.000,  -999.0,9,-999.000,-999.0000, -999.00,   5.7240,   5.7993,2,20091221,       1904
318M20091121,        P06,     103,          1,         20,         20,2,20091221,       1712,   -32.4998,  -163.1801,       5392,   969.8,   5.1128,  34.3315,  34.3321,2,    207.3,2,   207.5,2,   22.95,2,   28.68,2,    0.00,2,    1.99,2,   0.783,2,   0.396,2,-999.000,1,        0,2,  2177.6,2,  2295.8,6,   7.6616,2,    25.00,-999.000,9,-999.0000,9, -999.00,9, -999.00,9,  -999.0,9,  -999.0,-999.000,9,-999.000,  -999.0,9,-999.000,-999.0000, -999.00,   5.0316,   5.1142,2,20091221,       1901
318M20091121,        P06,     103,          1,         19,         19,2,20091221,       1712,   -32.4998,  -163.1801,       5392,  1071.8,   4.5464,  34.3440,  34.3441,2,    198.3,2,   197.6,2,   30.92,2,   30.41,2,    0.00,2,    2.12,2,   0.505,2,   0.263,2,-999.000,1,        0,2,  2193.8,6,  2303.4,2,   7.6357,2,    25.00,-999.000,9,-999.0000,9, -999.00,9, -999.00,9,  -999.0,9,  -999.0,-999.000,9,-999.000,  -999.0,9,-999.000,-999.0000, -999.00,   4.4605,   4.5456,2,20091221,       1858
318M20091121,        P06,     103,          1,         18,         18,2,20091221,       1712,   -32.4998,  -163.1801,       5392,  1173.8,   3.9503,  34.3768,  34.3769,2,    188.1,2,   188.8,2,   41.60,2,   31.96,2,    0.00,2,    2.23,2,   0.304,2,   0.164,2,-999.000,1,        0,2,  -999.0,9,  2314.8,2,   7.6142,2,    25.00,-999.000,9,-999.0000,9, -999.00,9, -999.00,9,  -999.0,9,  -999.0,-999.000,9,-999.000,  -999.0,9,-999.000,-999.0000, -999.00,   3.8606,   3.9516,2,20091221,       1854
318M20091121,        P06,     103,          1,         17,         17,2,20091221,       1712,   -32.4998,  -163.1801,       5392,  1275.8,   3.5126,  34.4096,  34.4093,2,    180.5,2,   181.2,2,   50.63,2,   32.99,2,    0.00,2,    2.31,2,   0.168,2,   0.093,2,-999.000,1,        0,2,  2224.9,2,  2318.7,2,   7.5948,2,    25.00,-999.000,9,-999.0000,9, -999.00,9, -999.00,9,  -999.0,9,  -999.0,-999.000,9,-999.000,  -999.0,9,-999.000,-999.0000, -999.00,   3.4184,   3.5117,2,20091221,       1851
318M20091121,        P06,     103,          1,         16,         16,2,20091221,       1712,   -32.4998,  -163.1801,       5392,  1342.5,   3.2111,  34.4477,  34.4469,2,    174.9,2,   175.1,2,   59.08,2,   33.67,2,    0.00,2,    2.35,2,   0.082,2,   0.050,2,-999.000,1,        0,2,  -999.0,9,  2333.1,2,   7.5902,2,    25.00,-999.000,9,-999.0000,9, -999.00,9, -999.00,9,  -999.0,9,  -999.0,-999.000,9,-999.000,  -999.0,9,-999.000,-999.0000, -999.00,   3.1143,   3.2130,2,20091221,       1848
318M20091121,        P06,     103,          1,         15,         15,2,20091221,       1712,   -32.4998,  -163.1801,       5392,  1547.4,   2.7720,  34.5385,  34.5377,2,    162.3,2,   162.8,2,   78.51,2,   34.45,2,    0.00,2,    2.40,2,   0.030,2,   0.020,2,-999.000,1,        0,2,  2260.1,2,  2355.6,2,   7.5788,2,    25.00,-999.000,9,-999.0000,9, -999.00,9, -999.00,9,  -999.0,9,  -999.0,-999.000,9,-999.000,  -999.0,9,-999.000,-999.0000, -999.00,   2.6630,   2.7725,2,20091221,       1843
318M20091121,        P06,     103,          1,         14,         14,2,20091221,       1712,   -32.4998,  -163.1801,       5392,  1753.0,   2.4939,  34.5922,  34.5926,2,    155.1,2,   156.8,2,   95.10,2,   34.69,2,    0.00,2,    2.44,2,   0.024,2,   0.018,2,-999.000,1,        0,2,  -999.0,9,  2373.7,2,   7.5765,2,    25.00,-999.000,9,-999.0000,9, -999.00,9, -999.00,9,  -999.0,9,  -999.0,-999.000,9,-999.000,  -999.0,9,-999.000,-999.0000, -999.00,   2.3712,   2.4937,2,20091221,       1838
318M20091121,        P06,     103,          1,         13,         13,2,20091221,       1712,   -32.4998,  -163.1801,       5392,  1952.2,   2.3123,  34.6192,  34.6191,2,    151.8,2,   152.3,2,  105.49,2,   35.18,2,    0.00,2,    2.47,2,   0.014,2,   0.012,2,-999.000,1,        0,2,  2292.7,2,  2387.9,2,   7.5758,2,    25.00,-999.000,9,-999.0000,9, -999.00,9, -999.00,9,  -999.0,9,  -999.0,-999.000,9,-999.000,  -999.0,9,-999.000,-999.0000, -999.00,   2.1752,   2.3120,2,20091221,       1833
318M20091121,        P06,     103,          1,         12,         12,2,20091221,       1712,   -32.4998,  -163.1801,       5392,  2182.7,   2.1153,  34.6397,  34.6402,2,    148.7,2,   149.0,2,  115.91,2,   35.47,2,    0.00,2,    2.49,2,   0.013,2,   0.011,2,-999.000,1,        0,2,  -999.0,9,  2397.7,2,   7.5767,2,    25.00,-999.000,9,-999.0000,9, -999.00,9, -999.00,9,  -999.0,9,  -999.0,-999.000,9,-999.000,  -999.0,9,-999.000,-999.0000, -999.00,   1.9613,   2.1153,2,20091221,       1827
318M20091121,        P06,     103,          1,         11,         11,2,20091221,       1712,   -32.4998,  -163.1801,       5392,  2438.5,   1.9960,  34.6506,  34.6500,2,    147.8,2,   147.6,2,  121.96,2,   35.61,2,    0.00,2,    2.50,2,   0.020,2,   0.015,2,-999.000,1,        0,2,  2310.7,2,  2404.2,2,   7.5760,2,    25.00,-999.000,9,-999.0000,9, -999.00,9, -999.00,9,  -999.0,9,  -999.0,-999.000,9,-999.000,  -999.0,9,-999.000,-999.0000, -999.00,   1.8213,   1.9961,2,20091221,       1821
318M20091121,        P06,     103,          1,         10,         10,2,20091221,       1712,   -32.4998,  -163.1801,       5392,  2695.7,   1.8940,  34.6596,  34.6589,2,    148.2,2,   148.1,2,  126.76,2,   35.66,2,    0.00,2,    2.53,2,   0.013,2,   0.011,2,-999.000,1,        0,2,  -999.0,9,  2409.2,2,   7.5764,2,    25.00,-999.000,9,-999.0000,9, -999.00,9, -999.00,9,  -999.0,9,  -999.0,-999.000,9,-999.000,  -999.0,9,-999.000,-999.0000, -999.00,   1.6976,   1.8948,2,20091221,       1814
318M20091121,        P06,     103,          1,          9,          9,2,20091221,       1712,   -32.4998,  -163.1801,       5392,  2948.6,   1.8158,  34.6674,  34.6670,2,    150.6,2,   150.5,2,  128.00,2,   35.45,2,    0.00,2,    2.49,2,   0.019,2,   0.013,2,-999.000,1,        0,2,  2314.6,2,  2407.3,2,   7.5782,2,    25.00,-999.000,9,-999.0000,9, -999.00,9, -999.00,9,  -999.0,9,  -999.0,-999.000,9,-999.000,  -999.0,9,-999.000,-999.0000, -999.00,   1.5970,   1.8153,2,20091221,       1809
318M20091121,        P06,     103,          1,          8,          8,2,20091221,       1712,   -32.4998,  -163.1801,       5392,  3241.3,   1.7189,  34.6810,  34.6805,2,    159.1,2,   159.7,2,  125.66,2,   34.76,2,    0.00,2,    2.44,2,   0.015,2,   0.010,2,-999.000,1,        0,2,  -999.0,9,  2404.6,2,   7.5857,2,    25.00,-999.000,9,-999.0000,9, -999.00,9, -999.00,9,  -999.0,9,  -999.0,-999.000,9,-999.000,  -999.0,9,-999.000,-999.0000, -999.00,   1.4735,   1.7190,2,20091221,       1802
318M20091121,        P06,     103,          1,          7,          7,2,20091221,       1712,   -32.4998,  -163.1801,       5392,  3546.6,   1.6012,  34.7012,  34.7010,2,    176.7,2,   177.5,2,  116.42,2,   33.19,2,    0.00,2,    2.33,2,   0.016,2,   0.013,2,-999.000,1,        0,2,  2286.6,2,  2389.1,2,   7.6008,2,    25.00,-999.000,9,-999.0000,9, -999.00,9, -999.00,9,  -999.0,9,  -999.0,-999.000,9,-999.000,  -999.0,9,-999.000,-999.0000, -999.00,   1.3275,   1.6001,2,20091221,       1756
318M20091121,        P06,     103,          1,          6,          6,2,20091221,       1712,   -32.4998,  -163.1801,       5392,  3854.6,   1.4503,  34.7149,  34.7148,2,    191.9,2,   192.4,2,  111.16,2,   32.06,2,    0.00,2,    2.23,2,   0.018,2,   0.014,2,-999.000,1,        0,2,  -999.0,9,  2375.5,2,   7.6105,2,    25.00,-999.000,9,-999.0000,9, -999.00,9, -999.00,9,  -999.0,9,  -999.0,-999.000,9,-999.000,  -999.0,9,-999.000,-999.0000, -999.00,   1.1482,   1.4511,2,20091221,       1749
318M20091121,        P06,     103,          1,          5,          5,2,20091221,       1712,   -32.4998,  -163.1801,       5392,  4160.6,   1.2440,  34.7162,  34.7166,2,    201.1,2,   201.4,2,  112.82,2,   31.67,2,    0.00,2,    2.21,2,   0.041,2,   0.026,2,-999.000,1,        0,2,  2262.6,2,  2371.7,2,   7.6154,2,    25.00,-999.000,9,-999.0000,9, -999.00,9, -999.00,9,  -999.0,9,  -999.0,-999.000,9,-999.000,  -999.0,9,-999.000,-999.0000, -999.00,   0.9146,   1.2441,2,20091221,       1742
318M20091121,        P06,     103,          1,          4,          4,2,20091221,       1712,   -32.4998,  -163.1801,       5392,  4469.8,   1.0855,  34.7120,  34.7114,2,    205.3,2,   205.1,2,  117.19,2,   31.72,2,    0.00,2,    2.21,2,   0.058,2,   0.033,2,-999.000,1,        0,2,  -999.0,9,  2370.6,2,   7.6167,2,    25.00,-999.000,9,-999.0000,9, -999.00,9, -999.00,9,  -999.0,9,  -999.0,-999.000,9,-999.000,  -999.0,9,-999.000,-999.0000, -999.00,   0.7266,   1.0857,2,20091221,       1735
318M20091121,        P06,     103,          1,          3,          3,2,20091221,       1712,   -32.4998,  -163.1801,       5392,  4777.1,   1.0517,  34.7095,  34.7093,2,    206.7,2,   206.7,2,  119.04,2,   31.81,2,    0.00,2,    2.21,2,   0.075,2,   0.042,2,-999.000,1,        0,2,  2262.8,2,  2368.7,2,   7.6160,2,    25.00,-999.000,9,-999.0000,9, -999.00,9, -999.00,9,  -999.0,9,  -999.0,-999.000,9,-999.000,  -999.0,9,-999.000,-999.0000, -999.00,   0.6587,   1.0516,2,20091221,       1729
318M20091121,        P06,     103,          1,          2,          2,2,20091221,       1712,   -32.4998,  -163.1801,       5392,  5140.8,   1.0741,  34.7087,  34.7091,2,    206.2,2,   206.4,2,  119.65,2,   31.86,2,    0.00,2,    2.22,2,   0.089,2,   0.053,2,-999.000,1,        0,2,  -999.0,9,  2372.1,6,   7.6147,2,    25.00,-999.000,9,-999.0000,9, -999.00,9, -999.00,9,  -999.0,9,  -999.0,-999.000,9,-999.000,  -999.0,9,-999.000,-999.0000, -999.00,   0.6371,   1.0745,2,20091221,       1721
318M20091121,        P06,     103,          1,          1,          1,2,20091221,       1712,   -32.4998,  -163.1801,       5392,  5502.4,   1.1153,  34.7081,  34.7087,2,    206.6,2,   206.7,2,  120.04,2,   31.95,2,    0.00,2,    2.22,2,   0.080,2,   0.042,2,-999.000,1,        0,2,  2263.5,6,  2323.6,4,   7.6165,6,    25.00,-999.000,9,-999.0000,9, -999.00,9, -999.00,9,  -999.0,9,  -999.0,-999.000,9,-999.000,  -999.0,9,-999.000,-999.0000, -999.00,   0.6322,   1.1153,2,20091221,       1712