BOTTLE,20220818CCHSIOAMB
EXPOCODE,SECT_ID,STNNBR,CASTNO,SAMPNO,BTLNBR,BTLNBR_FLAG_W,DATE,TIME,LATITUDE,LONGITUDE,DEPTH,CTDPRS,CTDTMP,CTDSAL,SALNTY,SALNTY_FLAG_W,CTDOXY,CTDOXY_FLAG_W,OXYGEN,OXYGEN_FLAG_W,SILCAT,SILCAT_FLAG_W,NITRAT,NITRAT_FLAG_W,NITRIT,NITRIT_FLAG_W,PHSPHT,PHSPHT_FLAG_W,CFC-11,CFC-11_FLAG_W,CFC-12,CFC-12_FLAG_W,CFC113,CFC113_FLAG_W,SF6,SF6_FLAG_W,TCARBN,TCARBN_FLAG_W,ALKALI,ALKALI_FLAG_W,PH_SWS,PH_SWS_FLAG_W,PH_TMP,TRITUM,TRITUM_FLAG_W,HELIUM,HELIUM_FLAG_W,DELHE3,DELHE3_FLAG_W,DELC13,DELC13_FLAG_W,DELC14,DELC14_FLAG_W,C14ERR,NEON,NEON_FLAG_W,NEONER,DOC,DOC_FLAG_W,TRITER,HELIER,DELHER,THETA,SBE35,SBE35_FLAG_W,BTL_DATE,BTL_TIME
,,,,,,,,,,,METERS,DBAR,ITS-90,PSS-78,PSS-78,,UMOL/KG,,UMOL/KG,,UMOL/KG,,UMOL/KG,,UMOL/KG,,UMOL/KG,,PMOL/KG,,PMOL/KG,,PMOL/KG,,FMOL/KG,,UMOL/KG,,UMOL/KG,,,,DEG C,TU,,NMOL/KG,,PERCNT,,/MILLE,,/MILLE,,/MILLE,NMOL/KG,,NMOL/KG,UMOL/KG,,TU,NMOL/KG,PERCNT,DEG C,ITS-90,,,
318M20091121,        P06,      30,          1,         22,         22,2,20091129,       2212,   -30.0803,   162.0002,       1170,     4.7,  23.1438,  35.5135,  35.5138,2,    217.5,2,   217.1,2,    0.27,2,    0.00,2,    0.00,2,    0.11,2,   1.911,2,   1.219,2,-999.000,1,    1.145,2,  2007.1,6,  2326.9,6,   8.0719,2,    25.00,-999.000,9,-999.0000,9, -999.00,9, -999.00,9,  -999.0,9,  -999.0,-999.000,9,-999.000,    58.6,2,-999.000,-999.0000, -999.00,  23.1428,  23.1447,2,20091129,       2309
318M20091121,        P06,      30,          1,         21,         21,2,20091129,       2212,   -30.0803,   162.0002,       1170,    34.3,  22.2845,  35.5053,  35.4974,2,    223.7,2,   224.2,2,    0.21,2,    0.00,2,    0.00,2,    0.10,2,   1.991,2,   1.253,2,-999.000,1,     1.15,2,  2008.3,2,  2324.8,2,   8.0704,2,    25.00,-999.000,9,-999.0000,9, -999.00,9, -999.00,9,  -999.0,9,  -999.0,-999.000,9,-999.000,    52.0,2,-999.000,-999.0000, -999.00,  22.2776,  22.3041,3,20091129,       2306
318M20091121,        P06,      30,          1,         20,         20,2,20091129,       2212,   -30.0803,   162.0002,       1170,    59.7,  20.6347,  35.5584,  35.5567,2,    227.1,2,   226.7,2,    0.17,2,    0.00,2,    0.00,2,    0.11,2,   2.112,6,   1.322,6,-999.000,1,    1.083,6,  2020.2,2,  2327.8,2,   8.0528,2,    25.00,-999.000,9,-999.0000,9, -999.00,9, -999.00,9,  -999.0,9,  -999.0,-999.000,9,-999.000,    51.8,2,-999.000,-999.0000, -999.00,  20.6234,  20.6386,2,20091129,       2305
318M20091121,        P06,      30,          1,         19,         19,2,20091129,       2212,   -30.0803,   162.0002,       1170,    85.1,  19.4997,  35.5666,  35.5667,2,    214.7,2,   211.5,2,    0.30,2,    1.17,2,    0.16,2,    0.21,2,   2.172,2,   1.349,2,-999.000,1,    1.202,2,  2040.1,2,  2326.5,2,   8.0186,2,    25.00,-999.000,9,-999.0000,9, -999.00,9, -999.00,9,  -999.0,9,  -999.0,-999.000,9,-999.000,    50.3,2,-999.000,-999.0000, -999.00,  19.4842,  19.5121,2,20091129,       2303
318M20091121,        P06,      30,          1,         18,         18,2,20091129,       2212,   -30.0803,   162.0002,       1170,   109.3,  18.9667,  35.5873,  35.5861,2,    202.2,2,   204.4,2,    0.45,2,    2.66,2,    0.08,2,    0.29,2,   2.118,2,   1.294,2,-999.000,1,    1.095,2,  2052.8,2,  2329.3,2,   7.9997,4,    25.00,-999.000,9,-999.0000,9, -999.00,9, -999.00,9,  -999.0,9,  -999.0,-999.000,9,-999.000,    47.3,2,-999.000,-999.0000, -999.00,  18.9472,  18.9674,2,20091129,       2301
318M20091121,        P06,      30,          1,         17,         17,2,20091129,       2212,   -30.0803,   162.0002,       1170,   134.5,  18.4202,  35.5905,  35.5885,2,    196.4,2,   197.0,2,    0.79,2,    3.91,2,    0.03,2,    0.37,2,-999.000,5,-999.000,5,-999.000,1,-999.0000,5,  2064.9,2,  2328.4,2,   7.9830,6,    25.00,-999.000,9,-999.0000,9, -999.00,9, -999.00,9,  -999.0,9,  -999.0,-999.000,9,-999.000,  -999.0,9,-999.000,-999.0000, -999.00,  18.3967,  18.4179,2,20091129,       2259
318M20091121,        P06,      30,          1,         16,         16,2,20091129,       2212,   -30.0803,   162.0002,       1170,   160.2,  17.9893,  35.5793,  35.5799,2,    200.3,2,   199.7,2,    0.73,2,    3.97,2,    0.02,2,    0.37,2,   2.277,2,   1.400,2,-999.000,1,     1.03,2,  2065.8,2,  2329.6,2,   7.9694,2,    25.00,-999.000,9,-999.0000,9, -999.00,9, -999.00,9,  -999.0,9,  -999.0,-999.000,9,-999.000,    47.6,2,-999.000,-999.0000, -999.00,  17.9617,  18.0029,3,20091129,       2257
318M20091121,        P06,      30,          1,         15,         15,2,20091129,       2212,   -30.0803,   162.0002,       1170,   185.3,  17.4829,  35.5540,  35.5537,2,    204.0,2,   204.0,2,    0.88,2,    4.11,2,    0.02,2,    0.38,2,   2.330,2,   1.420,2,-999.000,1,    1.023,2,  2067.7,2,  2328.6,2,   7.9660,2,    25.00,-999.000,9,-999.0000,9, -999.00,9, -999.00,9,  -999.0,9,  -999.0,-999.000,9,-999.000,  -999.0,9,-999.000,-999.0000, -999.00,  17.4516,  17.4866,2,20091129,       2255
318M20091121,        P06,      30,          1,         14,         14,2,20091129,       2212,   -30.0803,   162.0002,       1170,   210.5,  16.8771,  35.5204,  35.5203,2,    199.0,2,   198.5,2,    1.22,2,    5.56,2,    0.01,2,    0.44,2,   2.362,2,   1.420,2,-999.000,1,    1.131,2,  2079.0,2,  2326.7,2,   7.9446,2,    25.00,-999.000,9,-999.0000,9, -999.00,9, -999.00,9,  -999.0,9,  -999.0,-999.000,9,-999.000,    48.0,2,-999.000,-999.0000, -999.00,  16.8424,  16.8832,2,20091129,       2253
318M20091121,        P06,      30,          1,         13,         13,2,20091129,       2212,   -30.0803,   162.0002,       1170,   235.4,  16.2163,  35.4731,  35.4679,2,    196.6,2,   196.5,2,    1.77,2,    6.81,2,    0.01,2,    0.55,2,   2.413,2,   1.436,2,-999.000,1,    1.015,2,  2088.8,2,  2324.4,6,   7.9229,2,    25.00,-999.000,9,-999.0000,9, -999.00,9, -999.00,9,  -999.0,9,  -999.0,-999.000,9,-999.000,  -999.0,9,-999.000,-999.0000, -999.00,  16.1785,  16.2120,2,20091129,       2251
318M20091121,        P06,      30,          1,         12,         12,2,20091129,       2212,   -30.0803,   162.0002,       1170,   271.1,  15.5076,  35.4099,  35.4098,2,    192.2,2,   191.9,2,    2.11,2,    8.30,2,    0.01,2,    0.64,2,   2.410,2,   1.402,2,-999.000,1,        1,2,  2097.8,2,  2320.3,2,   7.9101,2,    25.00,-999.000,9,-999.0000,9, -999.00,9, -999.00,9,  -999.0,9,  -999.0,-999.000,9,-999.000,    46.1,2,-999.000,-999.0000, -999.00,  15.4654,  15.5528,3,20091129,       2249
318M20091121,        P06,      30,          1,         11,         11,2,20091129,       2212,   -30.0803,   162.0002,       1170,   321.9,  14.4899,  35.3082,  35.3090,2,    188.8,2,   188.9,2,    2.86,2,   10.28,2,    0.01,2,    0.76,2,   2.453,2,   1.411,2,-999.000,1,    0.833,2,  2108.9,2,  2316.3,2,   7.8715,2,    25.00,-999.000,9,-999.0000,9, -999.00,9, -999.00,9,  -999.0,9,  -999.0,-999.000,9,-999.000,    42.5,2,-999.000,-999.0000, -999.00,  14.4420,  14.4945,2,20091129,       2247
318M20091121,        P06,      30,          1,         10,         10,2,20091129,       2212,   -30.0803,   162.0002,       1170,   373.0,  13.4061,  35.2152,  35.2142,2,    193.6,2,   193.8,2,    3.40,2,   11.61,2,    0.01,2,    0.86,2,   2.498,2,   1.436,2,-999.000,1,    0.921,2,  2115.8,2,  2314.6,2,   7.8478,2,    25.00,-999.000,9,-999.0000,9, -999.00,9, -999.00,9,  -999.0,9,  -999.0,-999.000,9,-999.000,    41.4,2,-999.000,-999.0000, -999.00,  13.3533,  13.4061,2,20091129,       2244
318M20091121,        P06,      30,          1,          9,          9,2,20091129,       2212,   -30.0803,   162.0002,       1170,   423.3,  12.6237,  35.1368,  35.1340,2,    196.6,2,   196.8,2,    3.95,2,   12.89,2,    0.01,2,    0.94,2,   2.531,2,   1.435,2,-999.000,1,    0.736,2,  2122.4,2,  2308.3,2,   7.8297,2,    25.00,-999.000,9,-999.0000,9, -999.00,9, -999.00,9,  -999.0,9,  -999.0,-999.000,9,-999.000,    42.7,2,-999.000,-999.0000, -999.00,  12.5660,  12.6233,2,20091129,       2241
318M20091121,        P06,      30,          1,          8,          8,2,20091129,       2212,   -30.0803,   162.0002,       1170,   469.2,  11.4308,  34.9851,  34.9839,2,    196.3,2,   196.7,2,    5.10,2,   15.31,2,    0.00,2,    1.09,2,   2.539,2,   1.413,2,-999.000,1,    0.718,2,  2130.9,2,  2303.5,2,   7.7950,2,    25.00,-999.000,9,-999.0000,9, -999.00,9, -999.00,9,  -999.0,9,  -999.0,-999.000,9,-999.000,    43.8,2,-999.000,-999.0000, -999.00,  11.3708,  11.4267,2,20091129,       2239
318M20091121,        P06,      30,          1,          7,          7,2,20091129,       2212,   -30.0803,   162.0002,       1170,   536.0,   9.9337,  34.7870,  34.7895,2,    196.8,2,   197.4,2,    7.06,2,   18.56,2,    0.00,2,    1.29,2,   2.427,2,   1.309,2,-999.000,1,    0.583,2,  2140.3,2,  2295.9,2,   7.5562,4,    25.00,-999.000,9,-999.0000,9, -999.00,9, -999.00,9,  -999.0,9,  -999.0,-999.000,9,-999.000,    43.5,2,-999.000,-999.0000, -999.00,   9.8708,   9.9393,2,20091129,       2235
318M20091121,        P06,      30,          1,          6,          6,2,20091129,       2212,   -30.0803,   162.0002,       1170,   637.5,   8.4875,  34.6169,  34.6153,2,    198.0,2,   197.8,2,   10.43,2,   21.86,2,    0.00,2,    1.52,2,   2.015,2,   1.060,2,-999.000,1,     0.37,2,  2150.8,2,  2294.6,2,   7.7229,2,    25.00,-999.000,9,-999.0000,9, -999.00,9, -999.00,9,  -999.0,9,  -999.0,-999.000,9,-999.000,  -999.0,9,-999.000,-999.0000, -999.00,   8.4192,   8.4866,2,20091129,       2231
318M20091121,        P06,      30,          1,          5,          5,2,20091129,       2212,   -30.0803,   162.0002,       1170,   739.0,   7.2743,  34.5154,  34.5148,2,    195.9,2,   195.2,2,   16.45,2,   24.81,2,    0.00,2,    1.71,2,   1.403,2,   0.715,2,-999.000,1,    0.193,2,  2163.6,2,  2292.8,2,   7.6944,2,    25.00,-999.000,9,-999.0000,9, -999.00,9, -999.00,9,  -999.0,9,  -999.0,-999.000,9,-999.000,    39.8,2,-999.000,-999.0000, -999.00,   7.2014,   7.2760,2,20091129,       2227
318M20091121,        P06,      30,          1,          4,          4,2,20091129,       2212,   -30.0803,   162.0002,       1170,   840.8,   6.3983,  34.4701,  34.4680,2,    191.8,2,   192.1,2,   23.50,2,   26.98,2,    0.00,2,    1.86,2,   0.966,2,   0.495,2,-999.000,1,    0.167,2,  2176.0,2,  2296.5,2,   7.6759,2,    25.00,-999.000,9,-999.0000,9, -999.00,9, -999.00,9,  -999.0,9,  -999.0,-999.000,9,-999.000,  -999.0,9,-999.000,-999.0000, -999.00,   6.3204,   6.3982,2,20091129,       2224
318M20091121,        P06,      30,          1,          3,          3,2,20091129,       2212,   -30.0803,   162.0002,       1170,   943.1,   5.7651,  34.4538,  34.4517,2,    188.5,2,   188.4,2,   30.58,2,   28.42,2,    0.00,2,    1.97,2,   0.697,2,   0.360,2,-999.000,1,    0.129,2,  2187.7,2,  2305.1,2,   7.6587,2,    25.00,-999.000,9,-999.0000,9, -999.00,9, -999.00,9,  -999.0,9,  -999.0,-999.000,9,-999.000,    37.8,2,-999.000,-999.0000, -999.00,   5.6815,   5.7640,2,20091129,       2220
318M20091121,        P06,      30,          1,          2,          2,2,20091129,       2212,   -30.0803,   162.0002,       1170,  1030.0,   5.2041,  34.4599,  34.4582,2,    182.3,2,   182.5,2,   39.52,2,   29.86,2,    0.00,2,    2.07,2,  -0.006,4,   1.680,4,-999.000,1,     7.92,4,  2203.0,2,  2312.1,2,   7.6438,2,    25.00,-999.000,9,-999.0000,9, -999.00,9, -999.00,9,  -999.0,9,  -999.0,-999.000,9,-999.000,  -999.0,9,-999.000,-999.0000, -999.00,   5.1165,   5.2117,2,20091129,       2217
318M20091121,        P06,      30,          1,          1,          1,2,20091129,       2212,   -30.0803,   162.0002,       1170,  1173.1,   4.3006,  34.4995,  34.4977,2,    167.7,2,   167.4,2,   58.60,2,   32.09,2,    0.00,2,    2.24,2,   0.273,2,   0.143,2,-999.000,1,        0,2,  2233.0,6,  2333.3,6,   7.6215,6,    25.00,-999.000,9,-999.0000,9, -999.00,9, -999.00,9,  -999.0,9,  -999.0,-999.000,9,-999.000,    37.2,2,-999.000,-999.0000, -999.00,   4.2076,   4.3013,2,20091129,       2212