BOTTLE,20220818CCHSIOAMB
EXPOCODE,SECT_ID,STNNBR,CASTNO,SAMPNO,BTLNBR,BTLNBR_FLAG_W,DATE,TIME,LATITUDE,LONGITUDE,DEPTH,CTDPRS,CTDTMP,CTDSAL,SALNTY,SALNTY_FLAG_W,CTDOXY,CTDOXY_FLAG_W,OXYGEN,OXYGEN_FLAG_W,SILCAT,SILCAT_FLAG_W,NITRAT,NITRAT_FLAG_W,NITRIT,NITRIT_FLAG_W,PHSPHT,PHSPHT_FLAG_W,CFC-11,CFC-11_FLAG_W,CFC-12,CFC-12_FLAG_W,CFC113,CFC113_FLAG_W,SF6,SF6_FLAG_W,TCARBN,TCARBN_FLAG_W,ALKALI,ALKALI_FLAG_W,PH_SWS,PH_SWS_FLAG_W,PH_TMP,TRITUM,TRITUM_FLAG_W,HELIUM,HELIUM_FLAG_W,DELHE3,DELHE3_FLAG_W,DELC13,DELC13_FLAG_W,DELC14,DELC14_FLAG_W,C14ERR,NEON,NEON_FLAG_W,NEONER,DOC,DOC_FLAG_W,TRITER,HELIER,DELHER,THETA,SBE35,SBE35_FLAG_W,BTL_DATE,BTL_TIME
,,,,,,,,,,,METERS,DBAR,ITS-90,PSS-78,PSS-78,,UMOL/KG,,UMOL/KG,,UMOL/KG,,UMOL/KG,,UMOL/KG,,UMOL/KG,,PMOL/KG,,PMOL/KG,,PMOL/KG,,FMOL/KG,,UMOL/KG,,UMOL/KG,,,,DEG C,TU,,NMOL/KG,,PERCNT,,/MILLE,,/MILLE,,/MILLE,NMOL/KG,,NMOL/KG,UMOL/KG,,TU,NMOL/KG,PERCNT,DEG C,ITS-90,,,
318M20091121,        P06,      13,          1,         36,         36,2,20091125,       1840,   -30.0700,   155.9900,       4561,     4.8,  24.4410,  35.4282,  35.4283,2,    210.9,2,   211.2,2,    0.63,2,    0.52,2,    0.00,2,    0.11,2,   1.716,2,   1.087,2,   0.185,2,    1.189,2,  1992.3,2,  2317.5,6,   8.0817,2,    25.00,-999.000,9,-999.0000,9, -999.00,9, -999.00,9,  -999.0,9,  -999.0,-999.000,9,-999.000,  -999.0,9,-999.000,-999.0000, -999.00,  24.4400,  24.4381,2,20091125,       2054
318M20091121,        P06,      13,          1,         35,         35,2,20091125,       1840,   -30.0700,   155.9900,       4561,    19.7,  24.4272,  35.4248,  35.4274,2,    212.2,2,   211.1,2,    0.40,2,    0.51,2,    0.00,2,    0.10,2,   1.724,2,   1.086,2,   0.181,2,    1.162,2,  -999.0,9,  -999.0,9,-999.0000,9,  -999.00,-999.000,9,-999.0000,9, -999.00,9, -999.00,9,  -999.0,9,  -999.0,-999.000,9,-999.000,  -999.0,9,-999.000,-999.0000, -999.00,  24.4230,  24.4298,2,20091125,       2052
318M20091121,        P06,      13,          1,         34,         34,2,20091125,       1840,   -30.0700,   155.9900,       4561,    40.2,  24.0898,  35.4073,  35.4072,2,    211.3,2,   211.7,2,    0.37,2,    0.49,2,    0.00,2,    0.10,2,   1.776,2,   1.110,2,   0.180,2,     1.01,2,  1995.0,2,  2314.1,2,   8.0787,6,    25.00,-999.000,9,-999.0000,9, -999.00,9, -999.00,9,  -999.0,9,  -999.0,-999.000,9,-999.000,  -999.0,9,-999.000,-999.0000, -999.00,  24.0813,  24.0674,3,20091125,       2050
318M20091121,        P06,      13,          1,         33,         33,2,20091125,       1840,   -30.0700,   155.9900,       4561,    66.8,  22.0600,  35.4436,  35.4434,2,    201.9,2,   184.8,2,    1.17,2,    3.25,2,    0.06,2,    0.31,2,   1.909,6,   1.167,6,   0.136,2,   1.0245,6,  -999.0,9,  -999.0,9,-999.0000,9,  -999.00,-999.000,9,-999.0000,9, -999.00,9, -999.00,9,  -999.0,9,  -999.0,-999.000,9,-999.000,  -999.0,9,-999.000,-999.0000, -999.00,  22.0467,  22.0541,2,20091125,       2048
318M20091121,        P06,      13,          1,         32,         32,2,20091125,       1840,   -30.0700,   155.9900,       4561,    91.1,  21.0592,  35.5155,  35.5141,2,    214.2,2,   207.4,2,    0.54,2,    1.04,2,    0.15,2,    0.19,2,   2.004,2,   1.223,2,   0.172,2,    1.122,2,  2026.1,2,  2324.4,2,   8.0285,2,    25.00,-999.000,9,-999.0000,9, -999.00,9, -999.00,9,  -999.0,9,  -999.0,-999.000,9,-999.000,  -999.0,9,-999.000,-999.0000, -999.00,  21.0417,  21.0582,2,20091125,       2046
318M20091121,        P06,      13,          1,         31,         31,2,20091125,       1840,   -30.0700,   155.9900,       4561,   133.4,  20.1794,  35.5726,  35.5712,2,    179.8,2,   190.7,2,    0.72,2,    3.33,2,    0.05,2,    0.31,2,   2.068,2,   1.230,2,   0.143,2,    1.098,2,  2050.7,2,  2327.3,2,   7.9931,2,    25.00,-999.000,9,-999.0000,9, -999.00,9, -999.00,9,  -999.0,9,  -999.0,-999.000,9,-999.000,  -999.0,9,-999.000,-999.0000, -999.00,  20.1545,  20.1708,2,20091125,       2044
318M20091121,        P06,      13,          1,         30,         30,2,20091125,       1840,   -30.0700,   155.9900,       4561,   184.3,  19.2077,  35.5832,  35.5828,2,    200.1,2,   197.9,2,    0.90,2,    3.85,2,    0.01,2,    0.34,2,   2.153,2,   1.282,2,   0.135,2,    1.048,2,  -999.0,9,  -999.0,9,-999.0000,9,  -999.00,-999.000,9,-999.0000,9, -999.00,9, -999.00,9,  -999.0,9,  -999.0,-999.000,9,-999.000,  -999.0,9,-999.000,-999.0000, -999.00,  19.1745,  19.2071,2,20091125,       2041
318M20091121,        P06,      13,          1,         29,         29,2,20091125,       1840,   -30.0700,   155.9900,       4561,   234.9,  18.4096,  35.6177,  35.6174,2,    190.5,2,   186.7,2,    1.29,2,    5.43,2,    0.00,2,    0.44,2,   2.242,2,   1.311,2,   0.054,2,    0.975,2,  2077.4,2,  2333.1,2,   7.9538,2,    25.00,-999.000,9,-999.0000,9, -999.00,9, -999.00,9,  -999.0,9,  -999.0,-999.000,9,-999.000,  -999.0,9,-999.000,-999.0000, -999.00,  18.3684,  18.4090,2,20091125,       2039
318M20091121,        P06,      13,          1,         28,         28,2,20091125,       1840,   -30.0700,   155.9900,       4561,   285.2,  17.3083,  35.5454,  35.5455,2,    195.9,2,   198.1,2,    1.48,2,    5.66,2,    0.00,2,    0.47,2,   2.320,2,   1.359,2,   0.127,2,    1.074,2,  2076.7,2,  2330.5,2,-999.0000,9,  -999.00,-999.000,9,-999.0000,9, -999.00,9, -999.00,9,  -999.0,9,  -999.0,-999.000,9,-999.000,  -999.0,9,-999.000,-999.0000, -999.00,  17.2604,  17.3079,2,20091125,       2036
318M20091121,        P06,      13,          1,         27,         27,2,20091125,       1840,   -30.0700,   155.9900,       4561,   335.8,  16.2768,  35.4760,  35.4766,2,    198.3,2,   197.2,2,    2.06,2,    7.00,2,    0.00,2,    0.56,2,   2.373,2,   1.364,2,   0.128,2,    1.101,2,  -999.0,9,  -999.0,9,-999.0000,9,  -999.00,-999.000,9,-999.0000,9, -999.00,9, -999.00,9,  -999.0,9,  -999.0,-999.000,9,-999.000,  -999.0,9,-999.000,-999.0000, -999.00,  16.2226,  16.2734,2,20091125,       2033
318M20091121,        P06,      13,          1,         26,         26,2,20091125,       1840,   -30.0700,   155.9900,       4561,   387.0,  15.0674,  35.3413,  35.3411,2,    189.8,2,   183.9,2,    3.07,2,   10.21,2,    0.00,2,    0.78,2,   2.386,2,   1.332,2,   0.058,2,    0.847,2,  2107.1,2,  2319.1,2,   7.8741,2,    25.00,-999.000,9,-999.0000,9, -999.00,9, -999.00,9,  -999.0,9,  -999.0,-999.000,9,-999.000,  -999.0,9,-999.000,-999.0000, -999.00,  15.0081,  15.0661,2,20091125,       2030
318M20091121,        P06,      13,          1,         25,         25,2,20091125,       1840,   -30.0700,   155.9900,       4561,   438.5,  13.9721,  35.2472,  35.2480,2,    188.7,2,   189.1,2,    3.66,2,   11.55,2,    0.00,2,    0.87,2,   2.449,2,   1.358,2,   0.080,2,    0.823,2,  -999.0,9,  -999.0,9,-999.0000,9,  -999.00,-999.000,9,-999.0000,9, -999.00,9, -999.00,9,  -999.0,9,  -999.0,-999.000,9,-999.000,  -999.0,9,-999.000,-999.0000, -999.00,  13.9081,  13.9737,2,20091125,       2028
318M20091121,        P06,      13,          1,         24,         24,2,20091125,       1840,   -30.0700,   155.9900,       4561,   483.5,  12.8247,  35.1332,  35.1377,2,    192.6,2,   193.5,2,    4.47,2,   13.13,2,    0.00,2,    0.98,2,   2.481,2,   1.338,2,   0.092,2,    0.917,2,  2119.8,2,  2310.8,2,   7.8274,2,    25.00,-999.000,9,-999.0000,9, -999.00,9, -999.00,9,  -999.0,9,  -999.0,-999.000,9,-999.000,  -999.0,9,-999.000,-999.0000, -999.00,  12.7580,  12.8311,2,20091125,       2026
318M20091121,        P06,      13,          1,         23,         23,2,20091125,       1840,   -30.0700,   155.9900,       4561,   564.2,  11.3089,  34.9557,  34.9526,2,    196.2,2,   196.2,2,    5.88,2,   15.87,2,    0.00,2,    1.15,2,   2.469,2,   1.294,2,   0.100,2,    0.763,2,  2131.6,2,  2304.1,2,   7.7878,2,    25.00,-999.000,9,-999.0000,9, -999.00,9, -999.00,9,  -999.0,9,  -999.0,-999.000,9,-999.000,  -999.0,9,-999.000,-999.0000, -999.00,  11.2370,  11.3219,3,20091125,       2023
318M20091121,        P06,      13,          1,         22,         22,2,20091125,       1840,   -30.0700,   155.9900,       4561,   667.2,   9.3276,  34.7071,  34.7064,2,    200.7,2,   200.5,2,    8.53,2,   19.87,2,    0.00,2,    1.42,2,   2.401,2,   1.232,2,   0.121,2,    0.608,2,  -999.0,9,  -999.0,9,-999.0000,9,  -999.00,-999.000,9,-999.0000,9, -999.00,9, -999.00,9,  -999.0,9,  -999.0,-999.000,9,-999.000,  -999.0,9,-999.000,-999.0000, -999.00,   9.2518,   9.3310,2,20091125,       2019
318M20091121,        P06,      13,          1,         21,         21,2,20091125,       1840,   -30.0700,   155.9900,       4561,   769.8,   7.8989,  34.5555,  34.5554,2,    196.8,2,   197.6,2,   13.25,2,   23.35,2,    0.00,2,    1.64,2,   1.731,2,   0.851,2,   0.083,2,    0.345,2,  2169.2,3,  2294.6,2,   7.7065,2,    25.00,-999.000,9,-999.0000,9, -999.00,9, -999.00,9,  -999.0,9,  -999.0,-999.000,9,-999.000,  -999.0,9,-999.000,-999.0000, -999.00,   7.8192,   7.9000,2,20091125,       2016
318M20091121,        P06,      13,          1,         20,         20,2,20091125,       1840,   -30.0700,   155.9900,       4561,   866.6,   6.8506,  34.4818,  34.4812,2,    194.0,2,   194.7,2,   19.63,2,   25.87,2,    0.00,2,    1.83,2,   1.190,2,   0.584,2,   0.053,2,    0.153,2,  2156.3,3,  2295.1,2,   7.6820,6,    25.00,-999.000,9,-999.0000,9, -999.00,9, -999.00,9,  -999.0,9,  -999.0,-999.000,9,-999.000,  -999.0,9,-999.000,-999.0000, -999.00,   6.7672,   6.8511,2,20091125,       2013
318M20091121,        P06,      13,          1,         19,         19,2,20091125,       1840,   -30.0700,   155.9900,       4561,   970.3,   6.1339,  34.4555,  34.4547,2,    189.5,2,   190.5,2,   26.44,2,   27.66,2,    0.00,2,    1.96,2,   0.822,2,   0.399,2,   0.028,2,        0,2,  2181.7,6,  2300.2,2,   7.6681,2,    25.00,-999.000,9,-999.0000,9, -999.00,9, -999.00,9,  -999.0,9,  -999.0,-999.000,9,-999.000,  -999.0,9,-999.000,-999.0000, -999.00,   6.0450,   6.1319,2,20091125,       2009
318M20091121,        P06,      13,          1,         18,         18,2,20091125,       1840,   -30.0700,   155.9900,       4561,  1072.2,   5.2438,  34.4535,  34.4533,2,    182.2,2,   182.8,2,   39.09,2,   29.89,2,    0.00,2,    2.11,2,   0.473,2,   0.237,2,   0.018,2,        0,2,  2201.7,2,  2312.6,6,   7.6389,2,    25.00,-999.000,9,-999.0000,9, -999.00,9, -999.00,9,  -999.0,9,  -999.0,-999.000,9,-999.000,  -999.0,9,-999.000,-999.0000, -999.00,   5.1520,   5.2471,2,20091125,       2006
318M20091121,        P06,      13,          1,         17,         17,2,20091125,       1840,   -30.0700,   155.9900,       4561,  1173.9,   4.6939,  34.4695,  34.4685,2,    174.9,2,   175.1,2,   49.30,2,   31.15,2,    0.00,2,    2.21,2,   0.311,2,   0.160,2,   0.012,2,        0,2,  -999.0,9,  -999.0,9,-999.0000,9,  -999.00,-999.000,9,-999.0000,9, -999.00,9, -999.00,9,  -999.0,9,  -999.0,-999.000,9,-999.000,  -999.0,9,-999.000,-999.0000, -999.00,   4.5974,   4.6966,2,20091125,       2003
318M20091121,        P06,      13,          1,         16,         16,2,20091125,       1840,   -30.0700,   155.9900,       4561,  1275.1,   4.0787,  34.5018,  34.5007,2,    166.9,2,   165.9,2,   63.31,2,   32.61,2,    0.00,2,    2.32,2,   0.157,2,   0.086,2,   0.004,2,        0,2,  -999.0,9,  -999.0,9,-999.0000,9,  -999.00,-999.000,9,-999.0000,9, -999.00,9, -999.00,9,  -999.0,9,  -999.0,-999.000,9,-999.000,  -999.0,9,-999.000,-999.0000, -999.00,   3.9788,   4.0791,2,20091125,       2000
318M20091121,        P06,      13,          1,         15,         15,2,20091125,       1840,   -30.0700,   155.9900,       4561,  1373.5,   3.5848,  34.5345,  34.5330,2,    159.8,2,   159.0,2,   75.07,2,   33.67,2,    0.00,2,    2.41,2,   0.085,2,   0.048,2,   0.000,2,        0,2,  -999.0,9,  -999.0,9,-999.0000,9,  -999.00,-999.000,9,-999.0000,9, -999.00,9, -999.00,9,  -999.0,9,  -999.0,-999.000,9,-999.000,  -999.0,9,-999.000,-999.0000, -999.00,   3.4813,   3.5879,2,20091125,       1957
318M20091121,        P06,      13,          1,         14,         14,2,20091125,       1840,   -30.0700,   155.9900,       4561,  1475.0,   3.2046,  34.5668,  34.5662,2,    154.6,2,   154.1,2,   84.96,2,   34.30,2,    0.00,2,    2.45,2,   0.042,2,   0.026,2,   0.001,2,        0,2,  -999.0,9,  -999.0,9,-999.0000,9,  -999.00,-999.000,9,-999.0000,9, -999.00,9, -999.00,9,  -999.0,9,  -999.0,-999.000,9,-999.000,  -999.0,9,-999.000,-999.0000, -999.00,   3.0965,   3.2050,2,20091125,       1953
318M20091121,        P06,      13,          1,         13,         13,2,20091125,       1840,   -30.0700,   155.9900,       4561,  1576.8,   2.9007,  34.5957,  34.5943,2,    152.8,2,   153.6,2,   91.06,2,   34.47,2,    0.00,2,    2.46,2,   0.025,2,   0.018,2,   0.000,2,        0,2,  2274.1,2,  2367.5,2,   7.5815,2,    25.00,-999.000,9,-999.0000,9, -999.00,9, -999.00,9,  -999.0,9,  -999.0,-999.000,9,-999.000,  -999.0,9,-999.000,-999.0000, -999.00,   2.7875,   2.9045,2,20091125,       1950
318M20091121,        P06,      13,          1,         12,         12,2,20091125,       1840,   -30.0700,   155.9900,       4561,  1751.9,   2.5757,  34.6316,  34.6311,2,    156.4,2,   156.9,2,   95.07,2,   34.22,2,    0.00,2,    2.48,2,   0.014,2,   0.010,2,   0.001,2,        0,2,  -999.0,9,  -999.0,9,-999.0000,9,  -999.00,-999.000,9,-999.0000,9, -999.00,9, -999.00,9,  -999.0,9,  -999.0,-999.000,9,-999.000,  -999.0,9,-999.000,-999.0000, -999.00,   2.4519,   2.5762,2,20091125,       1946
318M20091121,        P06,      13,          1,         11,         11,2,20091125,       1840,   -30.0700,   155.9900,       4561,  1951.7,   2.3767,  34.6587,  34.6593,2,    163.3,2,   163.7,2,   95.05,2,   33.67,2,    0.00,2,    2.40,2,   0.014,2,   0.014,2,   0.000,2,        0,2,  2272.5,2,  2368.5,2,   7.5868,2,    25.00,-999.000,9,-999.0000,9, -999.00,9, -999.00,9,  -999.0,9,  -999.0,-999.000,9,-999.000,  -999.0,9,-999.000,-999.0000, -999.00,   2.2386,   2.3757,2,20091125,       1941
318M20091121,        P06,      13,          1,         10,         10,2,20091125,       1840,   -30.0700,   155.9900,       4561,  2182.1,   2.1970,  34.6852,  34.6851,2,    170.4,2,   171.0,2,   94.82,2,   32.93,2,    0.00,2,    2.35,2,   0.009,2,   0.008,2,   0.000,2,        0,2,  -999.0,9,  -999.0,9,-999.0000,9,  -999.00,-999.000,9,-999.0000,9, -999.00,9, -999.00,9,  -999.0,9,  -999.0,-999.000,9,-999.000,  -999.0,9,-999.000,-999.0000, -999.00,   2.0416,   2.1972,2,20091125,       1936
318M20091121,        P06,      13,          1,          9,          9,2,20091125,       1840,   -30.0700,   155.9900,       4561,  2438.2,   1.9700,  34.7123,  34.7126,2,    180.2,2,   180.0,2,   96.48,2,   32.23,2,    0.00,2,    2.29,2,   0.010,2,   0.010,2,   0.000,2,        0,2,  2263.7,2,  2363.9,2,   7.6040,2,    25.00,-999.000,9,-999.0000,9, -999.00,9, -999.00,9,  -999.0,9,  -999.0,-999.000,9,-999.000,  -999.0,9,-999.000,-999.0000, -999.00,   1.7956,   1.9701,2,20091125,       1930
318M20091121,        P06,      13,          1,          8,          8,2,20091125,       1840,   -30.0700,   155.9900,       4561,  2695.8,   1.7295,  34.7226,  34.7231,2,    185.9,2,   186.0,2,  101.98,2,   32.07,2,    0.00,2,    2.27,2,   0.004,2,   0.005,2,   0.000,2,        0,2,  -999.0,9,  -999.0,9,-999.0000,9,  -999.00,-999.000,9,-999.0000,9, -999.00,9, -999.00,9,  -999.0,9,  -999.0,-999.000,9,-999.000,  -999.0,9,-999.000,-999.0000, -999.00,   1.5361,   1.7300,2,20091125,       1924
318M20091121,        P06,      13,          1,          7,          7,2,20091125,       1840,   -30.0700,   155.9900,       4561,  2947.9,   1.5237,  34.7236,  34.7236,2,    189.9,2,   190.2,2,  106.84,2,   32.06,2,    0.00,2,    2.27,2,   0.003,2,   0.006,2,   0.000,2,        0,2,  2267.2,2,  2371.8,2,   7.5976,2,    25.00,-999.000,9,-999.0000,9, -999.00,9, -999.00,9,  -999.0,9,  -999.0,-999.000,9,-999.000,  -999.0,9,-999.000,-999.0000, -999.00,   1.3111,   1.5242,2,20091125,       1918
318M20091121,        P06,      13,          1,          6,          6,2,20091125,       1840,   -30.0700,   155.9900,       4561,  3236.0,   1.3027,  34.7202,  34.7201,2,    193.3,2,   193.6,2,  112.55,2,   32.24,2,    0.00,2,    2.28,2,   0.004,2,   0.005,2,   0.000,2,        0,2,  -999.0,9,  -999.0,9,-999.0000,9,  -999.00,-999.000,9,-999.0000,9, -999.00,9, -999.00,9,  -999.0,9,  -999.0,-999.000,9,-999.000,  -999.0,9,-999.000,-999.0000, -999.00,   1.0674,   1.3030,2,20091125,       1912
318M20091121,        P06,      13,          1,          5,          5,2,20091125,       1840,   -30.0700,   155.9900,       4561,  3546.4,   1.1949,  34.7174,  34.7170,2,    195.1,2,   195.2,2,  115.93,2,   32.38,2,    0.00,2,    2.29,2,   0.006,2,   0.008,2,   0.000,2,        0,2,  2272.7,2,  2381.6,2,   7.6243,2,    25.00,-999.000,9,-999.0000,9, -999.00,9, -999.00,9,  -999.0,9,  -999.0,-999.000,9,-999.000,  -999.0,9,-999.000,-999.0000, -999.00,   0.9315,   1.1946,2,20091125,       1905
318M20091121,        P06,      13,          1,          4,          4,2,20091125,       1840,   -30.0700,   155.9900,       4561,  3855.9,   1.1726,  34.7162,  34.7158,2,    195.9,2,   195.9,2,  116.98,2,   32.47,2,    0.00,2,    2.29,2,   0.010,2,   0.011,2,   0.003,2,        0,2,  -999.0,9,  -999.0,9,-999.0000,9,  -999.00,-999.000,9,-999.0000,9, -999.00,9, -999.00,9,  -999.0,9,  -999.0,-999.000,9,-999.000,  -999.0,9,-999.000,-999.0000, -999.00,   0.8780,   1.1727,2,20091125,       1859
318M20091121,        P06,      13,          1,          3,          3,2,20091125,       1840,   -30.0700,   155.9900,       4561,  4165.4,   1.1602,  34.7152,  34.7152,2,    196.2,2,   197.6,2,  118.45,2,   32.51,2,    0.00,2,    2.30,2,   0.014,2,   0.011,2,   0.000,2,        0,2,  2276.1,2,  2385.0,6,-999.0000,5,  -999.00,-999.000,9,-999.0000,9, -999.00,9, -999.00,9,  -999.0,9,  -999.0,-999.000,9,-999.000,  -999.0,9,-999.000,-999.0000, -999.00,   0.8328,   1.1606,2,20091125,       1852
318M20091121,        P06,      13,          1,          2,          2,2,20091125,       1840,   -30.0700,   155.9900,       4561,  4413.2,   1.1791,  34.7148,  34.7144,2,    196.6,2,   196.8,2,  118.65,2,   32.49,2,    0.00,2,    2.31,2,   0.015,2,   0.013,2,   0.000,2,        0,2,  -999.0,9,  -999.0,9,-999.0000,9,  -999.00,-999.000,9,-999.0000,9, -999.00,9, -999.00,9,  -999.0,9,  -999.0,-999.000,9,-999.000,  -999.0,9,-999.000,-999.0000, -999.00,   0.8237,   1.1788,2,20091125,       1846
318M20091121,        P06,      13,          1,          1,          1,2,20091125,       1840,   -30.0700,   155.9900,       4561,  4641.6,   1.2050,  34.7147,  34.7144,2,    196.7,2,   197.1,2,  118.84,2,   32.48,2,    0.00,2,    2.31,2,   0.021,2,   0.014,2,   0.000,2,        0,2,  2277.2,6,  2387.2,2,-999.0000,5,  -999.00,-999.000,9,-999.0000,9, -999.00,9, -999.00,9,  -999.0,9,  -999.0,-999.000,9,-999.000,  -999.0,9,-999.000,-999.0000, -999.00,   0.8227,   1.2050,2,20091125,       1840