BOTTLE,20220818CCHSIOAMB
EXPOCODE,SECT_ID,STNNBR,CASTNO,SAMPNO,BTLNBR,BTLNBR_FLAG_W,DATE,TIME,LATITUDE,LONGITUDE,DEPTH,CTDPRS,CTDTMP,CTDSAL,SALNTY,SALNTY_FLAG_W,CTDOXY,CTDOXY_FLAG_W,OXYGEN,OXYGEN_FLAG_W,SILCAT,SILCAT_FLAG_W,NITRAT,NITRAT_FLAG_W,NITRIT,NITRIT_FLAG_W,PHSPHT,PHSPHT_FLAG_W,CFC-11,CFC-11_FLAG_W,CFC-12,CFC-12_FLAG_W,CFC113,CFC113_FLAG_W,SF6,SF6_FLAG_W,TCARBN,TCARBN_FLAG_W,ALKALI,ALKALI_FLAG_W,PH_SWS,PH_SWS_FLAG_W,PH_TMP,TRITUM,TRITUM_FLAG_W,HELIUM,HELIUM_FLAG_W,DELHE3,DELHE3_FLAG_W,DELC13,DELC13_FLAG_W,DELC14,DELC14_FLAG_W,C14ERR,NEON,NEON_FLAG_W,NEONER,DOC,DOC_FLAG_W,TRITER,HELIER,DELHER,THETA,SBE35,SBE35_FLAG_W,BTL_DATE,BTL_TIME
,,,,,,,,,,,METERS,DBAR,ITS-90,PSS-78,PSS-78,,UMOL/KG,,UMOL/KG,,UMOL/KG,,UMOL/KG,,UMOL/KG,,UMOL/KG,,PMOL/KG,,PMOL/KG,,PMOL/KG,,FMOL/KG,,UMOL/KG,,UMOL/KG,,,,DEG C,TU,,NMOL/KG,,PERCNT,,/MILLE,,/MILLE,,/MILLE,NMOL/KG,,NMOL/KG,UMOL/KG,,TU,NMOL/KG,PERCNT,DEG C,ITS-90,,,
318M20091121,        P06,      42,          1,         24,         24,2,20091202,       1635,   -30.0804,   167.5001,       1207,     4.7,  21.9358,  35.7233,  35.7241,2,    223.0,2,   223.3,2,    0.62,2,    0.00,2,    0.00,2,    0.09,2,   2.048,2,   1.281,2,-999.000,1,    1.318,2,  2029.9,6,  2338.5,6,   8.0357,2,    25.00,-999.000,9,-999.0000,9, -999.00,9,    1.15,2,    70.7,2,     3.1,-999.000,9,-999.000,    60.2,2,-999.000,-999.0000, -999.00,  21.9349,  21.9249,2,20091202,       1745
318M20091121,        P06,      42,          1,         23,         23,2,20091202,       1635,   -30.0804,   167.5001,       1207,    35.0,  20.1720,  35.6663,  35.6689,2,    235.6,2,   236.2,2,    0.41,2,    0.00,2,    0.00,2,    0.09,2,   2.190,2,   1.353,2,-999.000,1,    1.326,2,  2027.1,2,  2335.7,2,   8.0401,6,    25.00,-999.000,9,-999.0000,9, -999.00,9, -999.00,9,  -999.0,9,  -999.0,-999.000,9,-999.000,    59.6,2,-999.000,-999.0000, -999.00,  20.1655,  20.1861,2,20091202,       1742
318M20091121,        P06,      42,          1,         22,         22,2,20091202,       1635,   -30.0804,   167.5001,       1207,    59.9,  18.9595,  35.6217,  35.6205,2,    238.8,2,   239.1,2,    0.39,2,   -0.01,2,    0.01,2,    0.11,2,   2.271,2,   1.394,2,-999.000,1,    1.237,2,  2032.3,2,  2333.6,2,   8.0300,2,    25.00,-999.000,9,-999.0000,9, -999.00,9, -999.00,9,  -999.0,9,  -999.0,-999.000,9,-999.000,    63.5,2,-999.000,-999.0000, -999.00,  18.9488,  18.9605,2,20091202,       1740
318M20091121,        P06,      42,          1,         21,         21,2,20091202,       1635,   -30.0804,   167.5001,       1207,    83.6,  18.0021,  35.5915,  35.5924,2,    226.2,2,   229.0,2,    0.77,2,    0.51,2,    0.19,2,    0.18,2,   2.319,6,   1.414,6,-999.000,1,    1.196,6,  2045.7,2,  2330.4,2,   8.0045,2,    25.00,-999.000,9,-999.0000,9, -999.00,9,    1.06,2,    70.1,2,     3.0,-999.000,9,-999.000,    54.8,2,-999.000,-999.0000, -999.00,  17.9877,  18.0047,2,20091202,       1738
318M20091121,        P06,      42,          1,         20,         20,2,20091202,       1635,   -30.0804,   167.5001,       1207,   109.1,  17.5671,  35.5744,  35.5733,2,    213.8,2,   214.7,2,    0.96,2,    2.67,2,    0.10,2,    0.29,2,   2.326,2,   1.416,2,-999.000,1,    1.232,2,  2059.4,2,  2336.1,4,   7.9741,2,    25.00,-999.000,9,-999.0000,9, -999.00,9, -999.00,9,  -999.0,9,  -999.0,-999.000,9,-999.000,    51.5,2,-999.000,-999.0000, -999.00,  17.5486,  17.5613,2,20091202,       1736
318M20091121,        P06,      42,          1,         19,         19,2,20091202,       1635,   -30.0804,   167.5001,       1207,   134.2,  17.2444,  35.5576,  35.5575,2,    207.4,2,   208.1,2,    1.14,2,    4.13,2,    0.03,2,    0.38,2,   2.326,2,   1.389,2,-999.000,1,    1.067,2,  2067.7,2,  2326.5,2,   7.9583,2,    25.00,-999.000,9,-999.0000,9, -999.00,9,    0.91,2,    69.6,2,     3.1,-999.000,9,-999.000,    49.2,2,-999.000,-999.0000, -999.00,  17.2220,  17.2456,2,20091202,       1734
318M20091121,        P06,      42,          1,         18,         18,2,20091202,       1635,   -30.0804,   167.5001,       1207,   160.1,  16.9557,  35.5306,  35.5310,2,    203.6,2,   201.4,2,    1.52,2,    5.32,2,    0.02,2,    0.46,2,   2.323,2,   1.359,2,-999.000,1,     1.03,2,  2072.9,2,  2323.8,2,   7.9413,2,    25.00,-999.000,9,-999.0000,9, -999.00,9, -999.00,9,  -999.0,9,  -999.0,-999.000,9,-999.000,    46.1,3,-999.000,-999.0000, -999.00,  16.9292,  16.9618,2,20091202,       1732
318M20091121,        P06,      42,          1,         17,         17,2,20091202,       1635,   -30.0804,   167.5001,       1207,   184.6,  16.7095,  35.5123,  35.5120,2,    202.5,2,   203.1,2,    1.51,2,    5.49,2,    0.02,2,    0.47,2,   2.373,2,   1.420,2,-999.000,1,    1.073,2,  2075.4,2,  2321.2,2,   7.9370,2,    25.00,-999.000,9,-999.0000,9, -999.00,9,    0.88,2,    72.1,2,     3.9,-999.000,9,-999.000,    49.4,2,-999.000,-999.0000, -999.00,  16.6793,  16.7109,2,20091202,       1730
318M20091121,        P06,      42,          1,         16,         16,2,20091202,       1635,   -30.0804,   167.5001,       1207,   210.7,  16.4152,  35.4891,  35.4879,2,    203.0,2,   202.9,2,    1.70,2,    5.91,2,    0.01,2,    0.50,2,  -9.262,4,  -9.063,4,-999.000,1,-999.0000,5,  2077.0,2,  2321.2,2,   7.9349,2,    25.00,-999.000,9,-999.0000,9, -999.00,9, -999.00,9,  -999.0,9,  -999.0,-999.000,9,-999.000,    46.8,2,-999.000,-999.0000, -999.00,  16.3811,  16.4144,2,20091202,       1728
318M20091121,        P06,      42,          1,         15,         15,2,20091202,       1635,   -30.0804,   167.5001,       1207,   235.6,  15.9712,  35.4546,  35.4595,2,    202.3,2,   202.0,2,    1.89,2,    6.68,2,    0.01,2,    0.54,2,   2.427,2,   1.416,2,-999.000,1,    1.034,2,  2082.2,2,  2320.6,2,   7.9215,2,    25.00,-999.000,9,-999.0000,9, -999.00,9,    0.91,2,    76.6,2,     3.4,-999.000,9,-999.000,    48.1,2,-999.000,-999.0000, -999.00,  15.9338,  15.9697,2,20091202,       1726
318M20091121,        P06,      42,          1,         14,         14,2,20091202,       1635,   -30.0804,   167.5001,       1207,   266.0,  15.5616,  35.4105,  35.4103,2,    200.4,2,   199.2,2,    2.27,2,    7.66,2,    0.01,2,    0.61,2,   2.440,2,   1.414,2,-999.000,1,    1.023,2,  2087.5,2,  2320.3,2,   7.9079,2,    25.00,-999.000,9,-999.0000,9, -999.00,9, -999.00,9,  -999.0,9,  -999.0,-999.000,9,-999.000,    47.6,2,-999.000,-999.0000, -999.00,  15.5201,  15.5646,2,20091202,       1724
318M20091121,        P06,      42,          1,         13,         13,2,20091202,       1635,   -30.0804,   167.5001,       1207,   316.9,  14.7155,  35.3189,  35.3173,2,    196.0,2,   196.1,2,    2.85,2,    9.45,2,    0.01,2,    0.72,2,   2.454,2,   1.400,2,-999.000,1,    0.926,2,  2096.8,2,  2316.6,6,   7.8824,2,    25.00,-999.000,9,-999.0000,9, -999.00,9,    0.94,2,    62.5,2,     3.5,-999.000,9,-999.000,    46.6,2,-999.000,-999.0000, -999.00,  14.6678,  14.7112,2,20091202,       1721
318M20091121,        P06,      42,          1,         12,         12,2,20091202,       1635,   -30.0804,   167.5001,       1207,   368.2,  14.0079,  35.2370,  35.2360,2,    193.9,2,   193.9,2,    3.43,2,   10.88,2,    0.01,2,    0.81,2,   2.489,2,   1.414,2,-999.000,1,    0.948,2,  2104.3,2,  2312.8,2,   7.8620,2,    25.00,-999.000,9,-999.0000,9, -999.00,9, -999.00,9,  -999.0,9,  -999.0,-999.000,9,-999.000,    45.1,2,-999.000,-999.0000, -999.00,  13.9542,  13.9904,3,20091202,       1718
318M20091121,        P06,      42,          1,         11,         11,2,20091202,       1635,   -30.0804,   167.5001,       1207,   418.6,  12.4491,  35.0631,  35.0637,2,    195.2,2,   195.6,2,    5.01,2,   13.73,2,    0.01,2,    1.00,2,   2.466,2,   1.368,2,-999.000,1,    0.715,2,  2115.5,2,  2305.4,2,   7.8170,2,    25.00,-999.000,9,-999.0000,9, -999.00,9,    0.98,2,    52.3,2,     3.4,-999.000,9,-999.000,    44.8,2,-999.000,-999.0000, -999.00,  12.3926,  12.4526,2,20091202,       1716
318M20091121,        P06,      42,          1,         10,         10,2,20091202,       1635,   -30.0804,   167.5001,       1207,   470.5,  11.3764,  34.9309,  34.9297,2,    195.4,2,   196.2,2,    5.99,2,   15.76,2,    0.00,2,    1.12,2,   2.449,2,   1.322,2,-999.000,1,    0.625,2,  2122.0,2,  2301.2,2,   7.7974,2,    25.00,-999.000,9,-999.0000,9, -999.00,9, -999.00,9,  -999.0,9,  -999.0,-999.000,9,-999.000,  -999.0,9,-999.000,-999.0000, -999.00,  11.3164,  11.3745,2,20091202,       1712
318M20091121,        P06,      42,          1,          9,          9,2,20091202,       1635,   -30.0804,   167.5001,       1207,   535.9,  10.3116,  34.8058,  34.8056,2,    198.1,2,   198.6,2,    7.17,2,   17.80,2,    0.00,2,    1.25,2,   2.395,2,   1.263,2,-999.000,1,    0.514,2,  2129.0,2,  2297.6,2,   7.7703,2,    25.00,-999.000,9,-999.0000,9, -999.00,9,    1.04,2,    36.9,2,     3.2,-999.000,9,-999.000,    39.7,2,-999.000,-999.0000, -999.00,  10.2473,  10.3094,2,20091202,       1709
318M20091121,        P06,      42,          1,          8,          8,2,20091202,       1635,   -30.0804,   167.5001,       1207,   637.6,   9.0619,  34.6820,  34.6812,2,    199.8,2,   200.7,2,   10.16,2,   20.54,2,    0.00,2,    1.43,2,   2.148,2,   1.105,2,-999.000,1,    0.372,2,  2138.9,2,  2294.7,2,   7.7431,2,    25.00,-999.000,9,-999.0000,9, -999.00,9,    1.09,2,    21.4,2,     3.1,-999.000,9,-999.000,  -999.0,9,-999.000,-999.0000, -999.00,   8.9909,   9.0597,2,20091202,       1705
318M20091121,        P06,      42,          1,          7,          7,2,20091202,       1635,   -30.0804,   167.5001,       1207,   739.0,   7.7315,  34.5462,  34.5458,2,    201.9,2,   204.4,2,   13.94,2,   23.28,2,    0.00,2,    1.61,2,   1.827,2,   0.927,2,-999.000,1,    0.338,2,  2147.8,2,  2294.7,2,   7.7154,2,    25.00,-999.000,9,-999.0000,9, -999.00,9,    1.13,2,    -2.0,2,     3.1,-999.000,9,-999.000,    39.1,2,-999.000,-999.0000, -999.00,   7.6561,   7.7306,2,20091202,       1701
318M20091121,        P06,      42,          1,          6,          6,2,20091202,       1635,   -30.0804,   167.5001,       1207,   841.0,   6.4082,  34.4491,  34.4493,2,    203.7,2,   203.3,2,   20.95,2,   26.28,2,    0.00,2,    1.82,2,   1.292,2,   0.644,2,-999.000,1,    0.258,2,  2163.4,2,  2291.4,4,   7.6894,2,    25.00,-999.000,9,-999.0000,9, -999.00,9,    1.10,2,   -40.3,2,     2.7,-999.000,9,-999.000,  -999.0,9,-999.000,-999.0000, -999.00,   6.3302,   6.4061,2,20091202,       1655
318M20091121,        P06,      42,          1,          5,          5,2,20091202,       1635,   -30.0804,   167.5001,       1207,   938.5,   5.8479,  34.4465,  34.4473,2,    194.4,2,   195.9,2,   28.78,2,   28.01,2,    0.00,2,    1.94,2,   0.944,2,   0.487,2,-999.000,1,     0.09,2,  2177.1,2,  2299.2,2,   7.6718,6,    25.00,-999.000,9,-999.0000,9, -999.00,9,    1.04,2,   -64.9,2,     2.5,-999.000,9,-999.000,    37.0,2,-999.000,-999.0000, -999.00,   5.7642,   5.8475,2,20091202,       1650
318M20091121,        P06,      42,          1,          4,          4,2,20091202,       1635,   -30.0804,   167.5001,       1207,  1042.0,   5.6519,  34.4545,  34.4542,2,    192.3,2,   192.9,2,   32.61,2,   28.53,2,    0.00,2,    1.97,2,   0.845,2,   0.432,2,-999.000,1,    0.153,2,  2183.8,2,  2303.3,2,   7.6642,2,    25.00,-999.000,9,-999.0000,9, -999.00,9,    0.99,2,   -75.5,2,     2.5,-999.000,9,-999.000,  -999.0,9,-999.000,-999.0000, -999.00,   5.5597,   5.6517,2,20091202,       1645
318M20091121,        P06,      42,          1,          3,          3,2,20091202,       1635,   -30.0804,   167.5001,       1207,  1141.1,   5.3357,  34.4639,  34.4636,2,    187.8,2,   188.1,2,   38.87,2,   29.36,2,    0.00,2,    2.04,2,   0.705,2,   0.364,2,-999.000,1,        0,2,  2194.6,2,  2307.8,2,   7.6532,2,    25.00,-999.000,9,-999.0000,9, -999.00,9,    0.85,2,   -89.7,2,     2.5,-999.000,9,-999.000,  -999.0,9,-999.000,-999.0000, -999.00,   5.2367,   5.3353,2,20091202,       1640
318M20091121,        P06,      42,          1,          1,          1,2,20091202,       1635,   -30.0804,   167.5001,       1207,  1247.7,   4.4381,  34.4977,  34.4957,2,    175.7,2,   175.9,2,   56.34,2,   31.42,2,    0.00,2,    2.19,2,   0.392,2,   0.211,2,-999.000,1,        0,2,  -999.0,9,  2327.7,6,   7.6435,2,    25.00,-999.000,9,-999.0000,9, -999.00,9,    0.68,2,  -122.3,2,     3.3,-999.000,9,-999.000,    37.1,2,-999.000,-999.0000, -999.00,   4.3372,   4.4407,2,20091202,       1635
318M20091121,        P06,      42,          1,          2,          2,2,20091202,       1635,   -30.0804,   167.5001,       1207,  1247.9,   4.4449,  34.4971,  34.4959,2,   -999.0,9,  -999.0,9,   56.35,2,   31.46,2,    0.00,2,    2.19,2,-999.000,9,-999.000,9,-999.000,9,-999.0000,9,  2221.9,6,  -999.0,9,-999.0000,9,  -999.00,-999.000,9,-999.0000,9, -999.00,9,    0.78,2,  -115.9,2,     3.0,-999.000,9,-999.000,  -999.0,9,-999.000,-999.0000, -999.00,   4.3440,   4.4535,2,20091202,       1635