BOTTLE,20220818CCHSIOAMB
EXPOCODE,SECT_ID,STNNBR,CASTNO,SAMPNO,BTLNBR,BTLNBR_FLAG_W,DATE,TIME,LATITUDE,LONGITUDE,DEPTH,CTDPRS,CTDTMP,CTDSAL,SALNTY,SALNTY_FLAG_W,CTDOXY,CTDOXY_FLAG_W,OXYGEN,OXYGEN_FLAG_W,SILCAT,SILCAT_FLAG_W,NITRAT,NITRAT_FLAG_W,NITRIT,NITRIT_FLAG_W,PHSPHT,PHSPHT_FLAG_W,CFC-11,CFC-11_FLAG_W,CFC-12,CFC-12_FLAG_W,CFC113,CFC113_FLAG_W,SF6,SF6_FLAG_W,TCARBN,TCARBN_FLAG_W,ALKALI,ALKALI_FLAG_W,PH_SWS,PH_SWS_FLAG_W,PH_TMP,TRITUM,TRITUM_FLAG_W,HELIUM,HELIUM_FLAG_W,DELHE3,DELHE3_FLAG_W,DELC13,DELC13_FLAG_W,DELC14,DELC14_FLAG_W,C14ERR,NEON,NEON_FLAG_W,NEONER,DOC,DOC_FLAG_W,TRITER,HELIER,DELHER,THETA,SBE35,SBE35_FLAG_W,BTL_DATE,BTL_TIME
,,,,,,,,,,,METERS,DBAR,ITS-90,PSS-78,PSS-78,,UMOL/KG,,UMOL/KG,,UMOL/KG,,UMOL/KG,,UMOL/KG,,UMOL/KG,,PMOL/KG,,PMOL/KG,,PMOL/KG,,FMOL/KG,,UMOL/KG,,UMOL/KG,,,,DEG C,TU,,NMOL/KG,,PERCNT,,/MILLE,,/MILLE,,/MILLE,NMOL/KG,,NMOL/KG,UMOL/KG,,TU,NMOL/KG,PERCNT,DEG C,ITS-90,,,
318M20091121,        P06,     114,          1,         36,         36,2,20091225,       1806,   -32.5001,  -154.9651,       5022,     7.4,  21.6307,  35.4471,  35.4475,2,    221.8,2,   221.6,2,    0.49,2,    0.00,2,    0.00,2,    0.08,2,   1.914,2,   1.290,2,-999.000,1,    1.281,2,  2040.0,2,  2325.9,6,   8.0188,6,    25.00,-999.000,9,-999.0000,9, -999.00,9, -999.00,9,  -999.0,9,  -999.0,-999.000,9,-999.000,    62.1,2,-999.000,-999.0000, -999.00,  21.6293,  21.6293,2,20091225,       2033
318M20091121,        P06,     114,          1,         35,         35,2,20091225,       1806,   -32.5001,  -154.9651,       5022,    26.8,  21.4751,  35.4378,  35.4431,2,    223.1,2,   221.9,2,    0.23,2,    0.01,2,    0.00,2,    0.08,2,   1.847,2,   1.273,2,-999.000,1,    1.193,2,  2039.5,6,  2326.6,2,   8.0202,2,    25.00,-999.000,9,-999.0000,9, -999.00,9, -999.00,9,  -999.0,9,  -999.0,-999.000,9,-999.000,    60.4,2,-999.000,-999.0000, -999.00,  21.4699,  21.5433,3,20091225,       2031
318M20091121,        P06,     114,          1,         34,         34,2,20091225,       1806,   -32.5001,  -154.9651,       5022,    50.4,  19.5041,  35.4423,  35.4430,2,    234.8,2,   235.3,2,    0.39,2,    0.00,2,    0.00,2,    0.08,2,   2.082,2,   1.435,2,-999.000,1,    1.321,2,  2040.8,2,  2321.6,2,   8.0187,2,    25.00,-999.000,9,-999.0000,9, -999.00,9, -999.00,9,  -999.0,9,  -999.0,-999.000,9,-999.000,    62.1,2,-999.000,-999.0000, -999.00,  19.4949,  19.5032,2,20091225,       2028
318M20091121,        P06,     114,          1,         33,         33,2,20091225,       1806,   -32.5001,  -154.9651,       5022,    77.2,  18.3445,  35.4519,  35.4558,2,    238.8,2,   239.0,2,    0.34,2,    0.00,2,    0.00,2,    0.09,2,   2.133,6,   1.456,6,-999.000,1,    1.231,6,  2043.6,2,  2324.6,2,   8.0141,2,    25.00,-999.000,9,-999.0000,9, -999.00,9, -999.00,9,  -999.0,9,  -999.0,-999.000,9,-999.000,    56.7,2,-999.000,-999.0000, -999.00,  18.3311,  18.3557,2,20091225,       2026
318M20091121,        P06,     114,          1,         32,         32,2,20091225,       1806,   -32.5001,  -154.9651,       5022,   102.5,  17.6588,  35.4250,  35.4248,2,    234.7,2,   234.6,2,    0.29,2,    0.00,2,    0.00,2,    0.10,2,   2.155,2,   1.498,2,-999.000,1,    1.291,2,  2050.4,2,  2324.2,2,   8.0061,4,    25.00,-999.000,9,-999.0000,9, -999.00,9, -999.00,9,  -999.0,9,  -999.0,-999.000,9,-999.000,    55.2,2,-999.000,-999.0000, -999.00,  17.6414,  17.6647,2,20091225,       2024
318M20091121,        P06,     114,          1,         31,         31,2,20091225,       1806,   -32.5001,  -154.9651,       5022,   146.3,  16.6703,  35.3726,  35.3699,2,    224.1,2,   223.4,2,    0.44,2,    1.00,2,    0.21,2,    0.22,2,   2.218,2,   1.506,2,-999.000,1,    1.304,2,  2066.2,2,  2317.5,2,   7.9656,2,    25.00,-999.000,9,-999.0000,9, -999.00,9, -999.00,9,  -999.0,9,  -999.0,-999.000,9,-999.000,    53.8,2,-999.000,-999.0000, -999.00,  16.6464,  16.6648,2,20091225,       2021
318M20091121,        P06,     114,          1,         30,         30,2,20091225,       1806,   -32.5001,  -154.9651,       5022,   197.3,  15.6441,  35.2721,  35.2709,2,    217.2,2,   214.6,2,    0.80,2,    3.24,2,    0.01,2,    0.36,2,   2.323,2,   1.571,2,-999.000,1,    1.327,2,  2078.8,2,  2321.2,2,   7.9281,2,    25.00,-999.000,9,-999.0000,9, -999.00,9, -999.00,9,  -999.0,9,  -999.0,-999.000,9,-999.000,    49.9,2,-999.000,-999.0000, -999.00,  15.6133,  15.6416,2,20091225,       2019
318M20091121,        P06,     114,          1,         29,         29,2,20091225,       1806,   -32.5001,  -154.9651,       5022,   247.3,  14.5099,  35.1736,  35.1722,2,    203.0,2,   201.9,2,    1.36,2,    6.69,2,    0.01,2,    0.59,2,   2.361,2,   1.529,2,-999.000,1,    0.788,2,  2099.7,2,  2311.6,2,   7.8827,2,    25.00,-999.000,9,-999.0000,9, -999.00,9, -999.00,9,  -999.0,9,  -999.0,-999.000,9,-999.000,    47.2,2,-999.000,-999.0000, -999.00,  14.4732,  14.4911,3,20091225,       2016
318M20091121,        P06,     114,          1,         28,         28,2,20091225,       1806,   -32.5001,  -154.9651,       5022,   299.2,  12.9489,  35.0094,  35.0092,2,    200.6,2,   201.5,2,    2.12,2,    9.91,2,    0.00,2,    0.80,2,   2.497,2,   1.600,2,-999.000,1,    0.666,2,  2112.4,2,  2306.0,2,   7.8398,2,    25.00,-999.000,9,-999.0000,9, -999.00,9, -999.00,9,  -999.0,9,  -999.0,-999.000,9,-999.000,    45.7,2,-999.000,-999.0000, -999.00,  12.9077,  12.9410,2,20091225,       2014
318M20091121,        P06,     114,          1,         27,         27,2,20091225,       1806,   -32.5001,  -154.9651,       5022,   349.9,  11.3361,  34.8241,  34.8272,2,    204.4,2,   205.2,2,    2.89,2,   13.02,2,    0.00,2,    1.00,2,   2.629,2,   1.638,2,-999.000,1,    0.644,2,  2122.2,2,  2298.8,2,   7.8029,2,    25.00,-999.000,9,-999.0000,9, -999.00,9, -999.00,9,  -999.0,9,  -999.0,-999.000,9,-999.000,    43.8,2,-999.000,-999.0000, -999.00,  11.2919,  11.3467,2,20091225,       2011
318M20091121,        P06,     114,          1,         26,         26,2,20091225,       1806,   -32.5001,  -154.9651,       5022,   400.4,   9.8391,  34.6470,  34.6467,2,    212.9,2,   212.9,2,    3.66,2,   15.86,2,    0.00,2,    1.17,2,   2.744,2,   1.669,2,-999.000,1,    0.582,2,  2128.7,2,  2291.3,2,   7.7734,2,    25.00,-999.000,9,-999.0000,9, -999.00,9, -999.00,9,  -999.0,9,  -999.0,-999.000,9,-999.000,    45.0,2,-999.000,-999.0000, -999.00,   9.7928,   9.8423,2,20091225,       2008
318M20091121,        P06,     114,          1,         25,         25,2,20091225,       1806,   -32.5001,  -154.9651,       5022,   503.5,   7.9294,  34.4524,  34.4530,2,    232.0,2,   231.9,2,    4.83,2,   19.36,2,    0.00,2,    1.39,2,   3.062,2,   1.812,2,-999.000,1,    0.638,2,  2136.0,2,  2268.1,4,   7.7460,2,    25.00,-999.000,9,-999.0000,9, -999.00,9, -999.00,9,  -999.0,9,  -999.0,-999.000,9,-999.000,    43.6,2,-999.000,-999.0000, -999.00,   7.8781,   7.9289,2,20091225,       2005
318M20091121,        P06,     114,          1,         24,         24,2,20091225,       1806,   -32.5001,  -154.9651,       5022,   604.4,   7.1413,  34.3883,  34.3879,2,    240.5,2,   240.7,2,    6.21,2,   21.18,2,    0.00,2,    1.51,2,   2.994,2,   1.754,2,-999.000,1,    0.442,2,  2140.4,2,  2284.6,2,   7.7352,2,    25.00,-999.000,9,-999.0000,9, -999.00,9, -999.00,9,  -999.0,9,  -999.0,-999.000,9,-999.000,  -999.0,9,-999.000,-999.0000, -999.00,   7.0829,   7.1391,2,20091225,       2002
318M20091121,        P06,     114,          1,         23,         23,2,20091225,       1806,   -32.5001,  -154.9651,       5022,   707.2,   6.6184,  34.3551,  34.3547,2,    240.2,2,   238.9,2,    8.00,2,   22.77,2,    0.00,2,    1.60,2,   2.479,2,   1.429,2,-999.000,1,    0.429,2,  2143.4,2,  2285.1,2,   7.7275,2,    25.00,-999.000,9,-999.0000,9, -999.00,9, -999.00,9,  -999.0,9,  -999.0,-999.000,9,-999.000,    43.2,2,-999.000,-999.0000, -999.00,   6.5524,   6.6190,2,20091225,       1959
318M20091121,        P06,     114,          1,         22,         22,2,20091225,       1806,   -32.5001,  -154.9651,       5022,   803.2,   6.1306,  34.3287,  34.3274,2,    233.3,2,   233.9,2,   10.60,2,   24.43,2,    0.00,2,    1.70,2,   1.897,2,   1.081,2,-999.000,1,    0.273,2,  2164.9,4,  2285.8,2,   7.7147,2,    25.00,-999.000,9,-999.0000,9, -999.00,9, -999.00,9,  -999.0,9,  -999.0,-999.000,9,-999.000,  -999.0,9,-999.000,-999.0000, -999.00,   6.0581,   6.1264,2,20091225,       1955
318M20091121,        P06,     114,          1,         21,         21,2,20091225,       1806,   -32.5001,  -154.9651,       5022,   905.6,   5.5155,  34.3125,  34.3119,2,    221.6,2,   222.4,2,   16.08,2,   26.67,2,    0.00,2,    1.88,2,   1.187,2,   0.660,2,-999.000,1,        0,2,  2150.0,3,  2280.8,4,   7.6884,2,    25.00,-999.000,9,-999.0000,9, -999.00,9, -999.00,9,  -999.0,9,  -999.0,-999.000,9,-999.000,    39.4,2,-999.000,-999.0000, -999.00,   5.4374,   5.5191,2,20091225,       1952
318M20091121,        P06,     114,          1,         20,         20,2,20091225,       1806,   -32.5001,  -154.9651,       5022,  1005.5,   4.9503,  34.3166,  34.3157,2,    209.7,2,   210.0,2,   23.40,2,   28.83,2,    0.00,2,    2.02,2,   0.779,2,   0.419,2,-999.000,1,        0,2,  2180.6,2,  2295.4,2,   7.6618,2,    25.00,-999.000,9,-999.0000,9, -999.00,9, -999.00,9,  -999.0,9,  -999.0,-999.000,9,-999.000,  -999.0,9,-999.000,-999.0000, -999.00,   4.8672,   4.9536,2,20091225,       1948
318M20091121,        P06,     114,          1,         19,         19,2,20091225,       1806,   -32.5001,  -154.9651,       5022,  1104.2,   4.4256,  34.3336,  34.3336,2,    198.5,2,   198.9,2,   31.56,2,   30.60,2,    0.00,2,    2.15,2,   0.517,2,   0.269,2,-999.000,1,        0,2,  2195.3,6,  2302.1,2,   7.6355,2,    25.00,-999.000,9,-999.0000,9, -999.00,9, -999.00,9,  -999.0,9,  -999.0,-999.000,9,-999.000,    37.5,2,-999.000,-999.0000, -999.00,   4.3379,   4.4232,2,20091225,       1945
318M20091121,        P06,     114,          1,         18,         18,2,20091225,       1806,   -32.5001,  -154.9651,       5022,  1206.1,   3.8213,  34.3689,  34.3694,2,    189.0,2,   188.3,2,   42.59,2,   32.29,2,    0.00,2,    2.27,2,   0.300,2,   0.154,2,-999.000,1,        0,2,  2214.8,2,  2312.4,6,   7.6109,2,    25.00,-999.000,9,-999.0000,9, -999.00,9, -999.00,9,  -999.0,9,  -999.0,-999.000,9,-999.000,  -999.0,9,-999.000,-999.0000, -999.00,   3.7301,   3.8225,2,20091225,       1942
318M20091121,        P06,     114,          1,         17,         17,2,20091225,       1806,   -32.5001,  -154.9651,       5022,  1308.6,   3.3727,  34.4184,  34.4181,2,    180.8,2,   179.1,2,   53.86,2,   33.33,2,    0.00,2,    2.34,2,   0.148,2,   0.079,2,-999.000,1,        0,2,  2227.2,2,  2321.2,2,   7.5924,2,    25.00,-999.000,9,-999.0000,9, -999.00,9, -999.00,9,  -999.0,9,  -999.0,-999.000,9,-999.000,    38.7,2,-999.000,-999.0000, -999.00,   3.2771,   3.3743,2,20091225,       1939
318M20091121,        P06,     114,          1,         16,         16,2,20091225,       1806,   -32.5001,  -154.9651,       5022,  1409.3,   3.0813,  34.4656,  34.4661,2,    172.7,2,   172.9,2,   63.71,2,   33.93,2,    0.00,2,    2.39,2,   0.070,2,   0.040,2,-999.000,1,        0,2,  2240.8,2,  2333.2,2,   7.5853,2,    25.00,-999.000,9,-999.0000,9, -999.00,9, -999.00,9,  -999.0,9,  -999.0,-999.000,9,-999.000,  -999.0,9,-999.000,-999.0000, -999.00,   2.9803,   3.0810,2,20091225,       1935
318M20091121,        P06,     114,          1,         15,         15,2,20091225,       1806,   -32.5001,  -154.9651,       5022,  1511.0,   2.8426,  34.5116,  34.5115,2,    167.0,2,   167.3,2,   73.37,2,   34.27,2,    0.00,2,    2.42,2,   0.035,2,   0.020,2,-999.000,1,        0,2,  2253.0,2,  2344.9,2,   7.5772,2,    25.00,-999.000,9,-999.0000,9, -999.00,9, -999.00,9,  -999.0,9,  -999.0,-999.000,9,-999.000,    35.8,2,-999.000,-999.0000, -999.00,   2.7358,   2.8462,2,20091225,       1932
318M20091121,        P06,     114,          1,         14,         14,2,20091225,       1806,   -32.5001,  -154.9651,       5022,  1615.7,   2.6597,  34.5518,  34.5519,2,    161.9,2,   162.6,2,   83.05,2,   34.46,2,    0.00,2,    2.44,2,   0.017,2,   0.012,2,-999.000,1,        0,2,  2264.4,2,  2355.2,2,   7.5788,2,    25.00,-999.000,9,-999.0000,9, -999.00,9, -999.00,9,  -999.0,9,  -999.0,-999.000,9,-999.000,  -999.0,9,-999.000,-999.0000, -999.00,   2.5464,   2.6607,2,20091225,       1929
318M20091121,        P06,     114,          1,         13,         13,2,20091225,       1806,   -32.5001,  -154.9651,       5022,  1817.8,   2.3924,  34.6032,  34.6036,2,    155.7,2,   156.1,2,   98.58,2,   34.81,2,    0.00,2,    2.45,2,   0.010,2,   0.005,2,-999.000,1,        0,2,  2282.6,2,  2374.6,2,   7.5772,2,    25.00,-999.000,9,-999.0000,9, -999.00,9, -999.00,9,  -999.0,9,  -999.0,-999.000,9,-999.000,    35.6,2,-999.000,-999.0000, -999.00,   2.2656,   2.3917,2,20091225,       1923
318M20091121,        P06,     114,          1,         12,         12,2,20091225,       1806,   -32.5001,  -154.9651,       5022,  2019.7,   2.2198,  34.6270,  34.6278,2,    152.9,2,   152.9,2,  108.11,2,   34.95,2,    0.00,2,    2.48,2,   0.010,2,   0.005,2,-999.000,1,        0,2,  2292.7,2,  2385.4,2,   7.5774,2,    25.00,-999.000,9,-999.0000,9, -999.00,9, -999.00,9,  -999.0,9,  -999.0,-999.000,9,-999.000,  -999.0,9,-999.000,-999.0000, -999.00,   2.0783,   2.2199,2,20091225,       1918
318M20091121,        P06,     114,          1,         11,         11,2,20091225,       1806,   -32.5001,  -154.9651,       5022,  2274.7,   2.0446,  34.6466,  34.6461,2,    148.8,2,   148.7,2,  118.69,2,   35.35,2,    0.00,2,    2.51,2,   0.011,2,   0.007,2,-999.000,1,        0,2,  2307.2,2,  2399.4,2,   7.5767,2,    25.00,-999.000,9,-999.0000,9, -999.00,9, -999.00,9,  -999.0,9,  -999.0,-999.000,9,-999.000,    38.0,2,-999.000,-999.0000, -999.00,   1.8837,   2.0448,2,20091225,       1912
318M20091121,        P06,     114,          1,         10,         10,2,20091225,       1806,   -32.5001,  -154.9651,       5022,  2526.0,   1.9270,  34.6563,  34.6572,2,    148.3,2,   148.5,2,  124.29,2,   35.29,2,    0.00,2,    2.52,2,   0.010,2,   0.006,2,-999.000,1,        0,2,  2312.4,2,  2403.6,2,   7.5759,2,    25.00,-999.000,9,-999.0000,9, -999.00,9, -999.00,9,  -999.0,9,  -999.0,-999.000,9,-999.000,  -999.0,9,-999.000,-999.0000, -999.00,   1.7457,   1.9267,2,20091225,       1906
318M20091121,        P06,     114,          1,          9,          9,2,20091225,       1806,   -32.5001,  -154.9651,       5022,  2784.1,   1.8307,  34.6649,  34.6656,2,    149.9,2,   150.2,2,  127.59,2,   35.39,2,    0.00,2,    2.51,2,   0.010,2,   0.006,2,-999.000,1,        0,2,  2313.2,2,  2406.1,2,   7.5731,2,    25.00,-999.000,9,-999.0000,9, -999.00,9, -999.00,9,  -999.0,9,  -999.0,-999.000,9,-999.000,    37.4,2,-999.000,-999.0000, -999.00,   1.6273,   1.8306,2,20091225,       1901
318M20091121,        P06,     114,          1,          8,          8,2,20091225,       1806,   -32.5001,  -154.9651,       5022,  3035.6,   1.7570,  34.6722,  34.6731,2,    153.7,2,   153.4,2,  128.59,2,   35.14,2,    0.00,2,    2.49,2,   0.007,2,   0.003,2,-999.000,1,        0,2,  2313.0,2,  2405.6,2,   7.5808,2,    25.00,-999.000,9,-999.0000,9, -999.00,9, -999.00,9,  -999.0,9,  -999.0,-999.000,9,-999.000,  -999.0,9,-999.000,-999.0000, -999.00,   1.5311,   1.7568,2,20091225,       1855
318M20091121,        P06,     114,          1,          7,          7,2,20091225,       1806,   -32.5001,  -154.9651,       5022,  3345.4,   1.6564,  34.6842,  34.6850,2,    163.3,2,   162.5,2,  125.82,2,   34.37,2,    0.00,2,    2.43,2,   0.007,2,   0.002,2,-999.000,1,        0,2,  2303.2,2,  2402.1,2,   7.5887,2,    25.00,-999.000,9,-999.0000,9, -999.00,9, -999.00,9,  -999.0,9,  -999.0,-999.000,9,-999.000,    40.6,3,-999.000,-999.0000, -999.00,   1.4020,   1.6565,2,20091225,       1848
318M20091121,        P06,     114,          1,          6,          6,2,20091225,       1806,   -32.5001,  -154.9651,       5022,  3648.8,   1.5552,  34.6980,  34.6993,2,    175.6,2,   175.6,2,  120.13,2,   33.37,2,    0.00,2,    2.36,2,   0.024,2,   0.010,2,-999.000,1,        0,2,  2288.6,2,  2393.2,2,   7.5995,2,    25.00,-999.000,9,-999.0000,9, -999.00,9, -999.00,9,  -999.0,9,  -999.0,-999.000,9,-999.000,  -999.0,9,-999.000,-999.0000, -999.00,   1.2721,   1.5549,2,20091225,       1842
318M20091121,        P06,     114,          1,          5,         37,2,20091225,       1806,   -32.5001,  -154.9651,       5022,  3955.3,   1.4357,  34.7086,  34.7094,2,    188.5,2,   188.4,2,  115.29,2,   32.36,2,    0.00,2,    2.28,2,   0.023,2,   0.011,2,-999.000,1,        0,2,  2273.9,2,  -999.0,9,-999.0000,9,  -999.00,-999.000,9,-999.0000,9, -999.00,9, -999.00,9,  -999.0,9,  -999.0,-999.000,9,-999.000,    42.3,3,-999.000,-999.0000, -999.00,   1.1232,   1.4356,2,20091225,       1834
318M20091121,        P06,     114,          1,          4,          4,2,20091225,       1806,   -32.5001,  -154.9651,       5022,  4265.9,   1.2869,  34.7134,  34.7133,2,    197.8,2,   198.2,2,  114.39,2,   31.86,2,    0.00,2,    2.23,2,   0.022,2,   0.009,2,-999.000,1,        0,2,  2266.7,2,  2374.3,2,   7.6179,2,    25.00,-999.000,9,-999.0000,9, -999.00,9, -999.00,9,  -999.0,9,  -999.0,-999.000,9,-999.000,  -999.0,9,-999.000,-999.0000, -999.00,   0.9447,   1.2875,2,20091225,       1827
318M20091121,        P06,     114,          1,          3,          3,2,20091225,       1806,   -32.5001,  -154.9651,       5022,  4575.2,   1.1641,  34.7117,  34.7118,2,    202.8,2,   202.2,2,  116.64,2,   31.80,2,    0.00,2,    2.23,2,   0.034,2,   0.016,2,-999.000,1,        0,2,  2264.1,2,  2372.9,6,   7.6165,2,    25.00,-999.000,9,-999.0000,9, -999.00,9, -999.00,9,  -999.0,9,  -999.0,-999.000,9,-999.000,    39.1,2,-999.000,-999.0000, -999.00,   0.7908,   1.1641,2,20091225,       1820
318M20091121,        P06,     114,          1,          2,          2,2,20091225,       1806,   -32.5001,  -154.9651,       5022,  4828.9,   1.1236,  34.7105,  34.7110,2,    203.8,2,   204.4,2,  118.06,2,   31.80,2,    0.00,2,    2.22,2,   0.050,2,   0.026,2,-999.000,1,        0,2,  2263.1,2,  2373.7,2,   7.6187,2,    25.00,-999.000,9,-999.0000,9, -999.00,9, -999.00,9,  -999.0,9,  -999.0,-999.000,9,-999.000,  -999.0,9,-999.000,-999.0000, -999.00,   0.7222,   1.1235,2,20091225,       1814
318M20091121,        P06,     114,          1,          1,          1,2,20091225,       1806,   -32.5001,  -154.9651,       5022,  5129.6,   1.1273,  34.7097,  34.7100,2,    204.6,2,   204.7,2,  119.06,2,   31.84,2,    0.00,2,    2.23,2,   0.050,2,   0.024,2,-999.000,1,        0,2,  2263.0,6,  2374.2,2,   7.6171,6,    25.00,-999.000,9,-999.0000,9, -999.00,9, -999.00,9,  -999.0,9,  -999.0,-999.000,9,-999.000,    40.1,2,-999.000,-999.0000, -999.00,   0.6898,   1.1275,2,20091225,       1806