BOTTLE,20220818CCHSIOAMB
EXPOCODE,SECT_ID,STNNBR,CASTNO,SAMPNO,BTLNBR,BTLNBR_FLAG_W,DATE,TIME,LATITUDE,LONGITUDE,DEPTH,CTDPRS,CTDTMP,CTDSAL,SALNTY,SALNTY_FLAG_W,CTDOXY,CTDOXY_FLAG_W,OXYGEN,OXYGEN_FLAG_W,SILCAT,SILCAT_FLAG_W,NITRAT,NITRAT_FLAG_W,NITRIT,NITRIT_FLAG_W,PHSPHT,PHSPHT_FLAG_W,CFC-11,CFC-11_FLAG_W,CFC-12,CFC-12_FLAG_W,CFC113,CFC113_FLAG_W,SF6,SF6_FLAG_W,TCARBN,TCARBN_FLAG_W,ALKALI,ALKALI_FLAG_W,PH_SWS,PH_SWS_FLAG_W,PH_TMP,TRITUM,TRITUM_FLAG_W,HELIUM,HELIUM_FLAG_W,DELHE3,DELHE3_FLAG_W,DELC13,DELC13_FLAG_W,DELC14,DELC14_FLAG_W,C14ERR,NEON,NEON_FLAG_W,NEONER,DOC,DOC_FLAG_W,TRITER,HELIER,DELHER,THETA,SBE35,SBE35_FLAG_W,BTL_DATE,BTL_TIME
,,,,,,,,,,,METERS,DBAR,ITS-90,PSS-78,PSS-78,,UMOL/KG,,UMOL/KG,,UMOL/KG,,UMOL/KG,,UMOL/KG,,UMOL/KG,,PMOL/KG,,PMOL/KG,,PMOL/KG,,FMOL/KG,,UMOL/KG,,UMOL/KG,,,,DEG C,TU,,NMOL/KG,,PERCNT,,/MILLE,,/MILLE,,/MILLE,NMOL/KG,,NMOL/KG,UMOL/KG,,TU,NMOL/KG,PERCNT,DEG C,ITS-90,,,
318M20091121,        P06,      26,          1,         23,         23,2,20091129,       0112,   -30.0798,   160.0000,       1654,     5.8,  23.3132,  35.6551,  35.6559,2,    218.4,2,   218.3,2,    0.51,2,    0.11,2,    0.00,2,    0.09,2,-999.000,9,-999.000,9,-999.000,9,-999.0000,9,  2021.1,2,  2326.3,6,   8.0634,6,    25.00,-999.000,9,-999.0000,9, -999.00,9, -999.00,9,  -999.0,9,  -999.0,-999.000,9,-999.000,    62.1,2,-999.000,-999.0000, -999.00,  23.3120,  23.3118,2,20091129,       0224
318M20091121,        P06,      26,          1,         22,         22,2,20091129,       0112,   -30.0798,   160.0000,       1654,    25.0,  23.2303,  35.6457,  35.6478,2,    218.5,2,   217.9,2,    0.49,2,    0.10,2,    0.00,2,    0.08,2,-999.000,9,-999.000,9,-999.000,9,-999.0000,9,  -999.0,9,  2325.0,2,   8.0623,2,    25.00,-999.000,9,-999.0000,9, -999.00,9, -999.00,9,  -999.0,9,  -999.0,-999.000,9,-999.000,    63.4,2,-999.000,-999.0000, -999.00,  23.2252,  23.2397,2,20091129,       0222
318M20091121,        P06,      26,          1,         21,         21,2,20091129,       0112,   -30.0798,   160.0000,       1654,    50.4,  22.0503,  35.5075,  35.5121,2,    221.9,2,   222.2,2,    0.47,2,    0.09,2,    0.00,2,    0.10,2,-999.000,9,-999.000,9,-999.000,9,-999.0000,9,  -999.0,9,  2324.3,2,   8.0636,2,    25.00,-999.000,9,-999.0000,9, -999.00,9, -999.00,9,  -999.0,9,  -999.0,-999.000,9,-999.000,    60.2,2,-999.000,-999.0000, -999.00,  22.0403,  22.0487,2,20091129,       0220
318M20091121,        P06,      26,          1,         20,         20,2,20091129,       0112,   -30.0798,   160.0000,       1654,    76.3,  21.0771,  35.5664,  35.5664,2,    224.9,2,   225.4,2,    0.21,2,    0.08,2,    0.00,2,    0.10,2,-999.000,9,-999.000,9,-999.000,9,-999.0000,9,  -999.0,9,  2329.4,6,   8.0546,2,    25.00,-999.000,9,-999.0000,9, -999.00,9, -999.00,9,  -999.0,9,  -999.0,-999.000,9,-999.000,    61.1,2,-999.000,-999.0000, -999.00,  21.0624,  21.0817,2,20091129,       0218
318M20091121,        P06,      26,          1,         19,         19,2,20091129,       0112,   -30.0798,   160.0000,       1654,   103.7,  20.6277,  35.5675,  35.5695,2,    217.4,2,   222.2,2,    0.20,2,    0.15,2,    0.02,2,    0.12,2,-999.000,9,-999.000,9,-999.000,9,-999.0000,9,  2024.8,2,  2329.2,2,   8.0452,2,    25.00,-999.000,9,-999.0000,9, -999.00,9, -999.00,9,  -999.0,9,  -999.0,-999.000,9,-999.000,    59.1,2,-999.000,-999.0000, -999.00,  20.6081,  20.6137,2,20091129,       0216
318M20091121,        P06,      26,          1,         18,         18,2,20091129,       0112,   -30.0798,   160.0000,       1654,   152.4,  19.5659,  35.5837,  35.5840,2,    210.7,2,   196.2,2,    0.64,2,    3.11,2,    0.01,2,    0.32,2,-999.000,9,-999.000,9,-999.000,9,-999.0000,9,  2053.5,2,  2329.2,2,   7.9958,2,    25.00,-999.000,9,-999.0000,9, -999.00,9, -999.00,9,  -999.0,9,  -999.0,-999.000,9,-999.000,    53.3,2,-999.000,-999.0000, -999.00,  19.5381,  19.5632,2,20091129,       0214
318M20091121,        P06,      26,          1,         17,         17,2,20091129,       0112,   -30.0798,   160.0000,       1654,   206.2,  18.8963,  35.6057,  35.6063,2,    196.6,2,   195.3,2,    0.85,2,    3.79,2,    0.01,2,    0.37,2,-999.000,9,-999.000,9,-999.000,9,-999.0000,9,  2064.2,2,  2331.9,2,   7.9815,2,    25.00,-999.000,9,-999.0000,9, -999.00,9, -999.00,9,  -999.0,9,  -999.0,-999.000,9,-999.000,    49.5,2,-999.000,-999.0000, -999.00,  18.8595,  18.8961,2,20091129,       0211
318M20091121,        P06,      26,          1,         16,         16,2,20091129,       0112,   -30.0798,   160.0000,       1654,   254.2,  18.1358,  35.5896,  35.5901,2,    192.2,2,   188.4,2,    1.30,2,    5.27,2,    0.00,2,    0.48,2,-999.000,9,-999.000,9,-999.000,9,-999.0000,9,  2081.4,2,  2329.2,2,   7.9547,2,    25.00,-999.000,9,-999.0000,9, -999.00,9, -999.00,9,  -999.0,9,  -999.0,-999.000,9,-999.000,  -999.0,5,-999.000,-999.0000, -999.00,  18.0917,  18.1245,2,20091129,       0208
318M20091121,        P06,      26,          1,         15,         15,2,20091129,       0112,   -30.0798,   160.0000,       1654,   302.9,  16.9501,  35.5199,  35.5231,2,    188.4,2,   188.3,2,    0.81,2,    6.69,2,    0.00,2,    0.57,2,-999.000,9,-999.000,9,-999.000,9,-999.0000,9,  2090.3,2,  2319.1,2,   7.9265,2,    25.00,-999.000,9,-999.0000,9, -999.00,9, -999.00,9,  -999.0,9,  -999.0,-999.000,9,-999.000,    48.8,2,-999.000,-999.0000, -999.00,  16.8999,  16.9539,2,20091129,       0206
318M20091121,        P06,      26,          1,         14,         14,2,20091129,       0112,   -30.0798,   160.0000,       1654,   355.4,  15.7817,  35.4163,  35.4245,2,    185.2,2,   186.3,2,    1.72,2,    8.41,2,    0.00,2,    0.69,2,-999.000,9,-999.000,9,-999.000,9,-999.0000,9,  2102.5,2,  2313.8,2,   7.8986,2,    25.00,-999.000,9,-999.0000,9, -999.00,9, -999.00,9,  -999.0,9,  -999.0,-999.000,9,-999.000,    44.5,2,-999.000,-999.0000, -999.00,  15.7255,  15.7805,2,20091129,       0202
318M20091121,        P06,      26,          1,         13,         13,2,20091129,       0112,   -30.0798,   160.0000,       1654,   399.6,  14.6374,  35.3099,  35.3161,2,    186.2,2,   186.7,2,    2.63,2,   10.24,2,    0.00,2,    0.81,2,-999.000,9,-999.000,9,-999.000,9,-999.0000,9,  2110.2,2,  2308.6,2,   7.8685,2,    25.00,-999.000,9,-999.0000,9, -999.00,9, -999.00,9,  -999.0,9,  -999.0,-999.000,9,-999.000,    46.0,2,-999.000,-999.0000, -999.00,  14.5773,  14.6442,2,20091129,       0200
318M20091121,        P06,      26,          1,         12,         12,2,20091129,       0112,   -30.0798,   160.0000,       1654,   446.9,  13.6538,  35.2041,  35.2054,2,    188.4,2,   188.2,2,    3.31,2,   11.86,2,    0.00,2,    0.92,2,-999.000,9,-999.000,9,-999.000,9,-999.0000,9,  2119.0,2,  2304.8,2,   7.8462,2,    25.00,-999.000,9,-999.0000,9, -999.00,9, -999.00,9,  -999.0,9,  -999.0,-999.000,9,-999.000,    45.4,2,-999.000,-999.0000, -999.00,  13.5896,  13.6489,2,20091129,       0157
318M20091121,        P06,      26,          1,         11,         11,2,20091129,       0112,   -30.0798,   160.0000,       1654,   502.9,  12.7215,  35.1647,  35.1644,2,    199.9,2,   200.1,2,    3.53,2,   12.35,2,    0.00,2,    0.95,2,-999.000,9,-999.000,9,-999.000,9,-999.0000,9,  2121.7,2,  2302.6,2,   7.8334,2,    25.00,-999.000,9,-999.0000,9, -999.00,9, -999.00,9,  -999.0,9,  -999.0,-999.000,9,-999.000,    47.1,2,-999.000,-999.0000, -999.00,  12.6524,  12.7194,2,20091129,       0154
318M20091121,        P06,      26,          1,         10,         10,2,20091129,       0112,   -30.0798,   160.0000,       1654,   605.3,  10.4814,  34.8665,  34.8683,2,    199.8,2,   199.9,2,    6.08,2,   16.90,2,    0.00,2,    1.24,2,-999.000,9,-999.000,9,-999.000,9,-999.0000,9,  2137.7,2,  2293.0,2,   7.7757,2,    25.00,-999.000,9,-999.0000,9, -999.00,9, -999.00,9,  -999.0,9,  -999.0,-999.000,9,-999.000,  -999.0,9,-999.000,-999.0000, -999.00,  10.4077,  10.4681,2,20091129,       0151
318M20091121,        P06,      26,          1,          9,          9,2,20091129,       0112,   -30.0798,   160.0000,       1654,   706.3,   8.7411,  34.6396,  34.6413,2,    199.6,2,   199.2,2,    9.34,2,   21.13,2,    0.00,2,    1.52,2,-999.000,9,-999.000,9,-999.000,9,-999.0000,9,  2152.0,2,  2292.3,2,   7.7305,2,    25.00,-999.000,9,-999.0000,9, -999.00,9, -999.00,9,  -999.0,9,  -999.0,-999.000,9,-999.000,    41.6,2,-999.000,-999.0000, -999.00,   8.6638,   8.7417,2,20091129,       0147
318M20091121,        P06,      26,          1,          8,          8,2,20091129,       0112,   -30.0798,   160.0000,       1654,   804.9,   7.6360,  34.5312,  34.5310,2,    197.7,2,   197.7,2,   13.54,2,   23.76,2,    0.00,2,    1.69,2,-999.000,9,-999.000,9,-999.000,9,-999.0000,9,  2158.8,2,  2292.8,2,   7.7058,2,    25.00,-999.000,9,-999.0000,9, -999.00,9, -999.00,9,  -999.0,9,  -999.0,-999.000,9,-999.000,  -999.0,9,-999.000,-999.0000, -999.00,   7.5541,   7.6362,2,20091129,       0144
318M20091121,        P06,      26,          1,          7,          7,2,20091129,       0112,   -30.0798,   160.0000,       1654,   904.3,   6.5499,  34.4619,  34.4608,2,    194.4,2,   195.0,2,   20.81,2,   26.34,2,    0.00,2,    1.88,2,-999.000,9,-999.000,9,-999.000,9,-999.0000,9,  2173.6,2,  2295.0,2,   7.6809,2,    25.00,-999.000,9,-999.0000,9, -999.00,9, -999.00,9,  -999.0,9,  -999.0,-999.000,9,-999.000,    38.2,2,-999.000,-999.0000, -999.00,   6.4647,   6.5518,2,20091129,       0140
318M20091121,        P06,      26,          1,          6,          6,2,20091129,       0112,   -30.0798,   160.0000,       1654,  1006.6,   5.7948,  34.4443,  34.4442,2,    189.2,2,   189.2,2,   29.27,2,   28.28,2,    0.00,2,    2.00,2,-999.000,9,-999.000,9,-999.000,9,-999.0000,9,  2187.3,2,  -999.0,5,   7.6607,2,    25.00,-999.000,9,-999.0000,9, -999.00,9, -999.00,9,  -999.0,9,  -999.0,-999.000,9,-999.000,  -999.0,9,-999.000,-999.0000, -999.00,   5.7049,   5.7956,2,20091129,       0137
318M20091121,        P06,      26,          1,          5,          5,2,20091129,       0112,   -30.0798,   160.0000,       1654,  1110.0,   5.1313,  34.4532,  34.4529,2,    181.1,2,   181.2,2,   40.12,2,   29.73,2,    0.00,2,    2.13,2,-999.000,9,-999.000,9,-999.000,9,-999.0000,9,  2205.1,2,  2223.7,4,   7.6386,2,    25.00,-999.000,9,-999.0000,9, -999.00,9, -999.00,9,  -999.0,9,  -999.0,-999.000,9,-999.000,  -999.0,9,-999.000,-999.0000, -999.00,   5.0369,   5.1320,2,20091129,       0133
318M20091121,        P06,      26,          1,          4,          4,2,20091129,       0112,   -30.0798,   160.0000,       1654,  1211.7,   4.5229,  34.4757,  34.4759,2,    173.4,2,   172.5,2,   52.43,2,   31.47,2,    0.00,2,    2.25,2,-999.000,9,-999.000,9,-999.000,9,-999.0000,9,  2223.1,2,  2319.2,2,   7.6213,2,    25.00,-999.000,9,-999.0000,9, -999.00,9, -999.00,9,  -999.0,9,  -999.0,-999.000,9,-999.000,    38.0,2,-999.000,-999.0000, -999.00,   4.4245,   4.5228,2,20091129,       0130
318M20091121,        P06,      26,          1,          3,          3,2,20091129,       0112,   -30.0798,   160.0000,       1654,  1307.4,   4.0869,  34.5027,  34.5028,2,    166.5,2,   166.6,2,   63.10,2,   32.41,2,    0.00,2,    2.32,2,-999.000,9,-999.000,9,-999.000,9,-999.0000,9,  2239.1,2,  2337.1,2,   7.6076,2,    25.00,-999.000,9,-999.0000,9, -999.00,9, -999.00,9,  -999.0,9,  -999.0,-999.000,9,-999.000,  -999.0,9,-999.000,-999.0000, -999.00,   3.9841,   4.0863,2,20091129,       0127
318M20091121,        P06,      26,          1,          2,          2,2,20091129,       0112,   -30.0798,   160.0000,       1654,  1465.0,   3.5061,  34.5445,  34.5435,2,    156.8,2,   156.5,2,   78.12,2,   33.71,2,    0.00,2,    2.41,2,-999.000,9,-999.000,9,-999.000,9,-999.0000,9,  2260.5,2,  -999.0,9,   7.5925,2,    25.00,-999.000,9,-999.0000,9, -999.00,9, -999.00,9,  -999.0,9,  -999.0,-999.000,9,-999.000,  -999.0,9,-999.000,-999.0000, -999.00,   3.3956,   3.5060,2,20091129,       0121
318M20091121,        P06,      26,          1,          1,          1,2,20091129,       0112,   -30.0798,   160.0000,       1654,  1659.6,   2.8702,  34.6005,  34.5999,2,    151.1,2,   151.5,2,   93.19,2,   34.60,2,    0.00,2, -999.00,5,-999.000,9,-999.000,9,-999.000,9,-999.0000,9,  2279.1,6,  2371.2,6,   7.5809,6,    25.00,-999.000,9,-999.0000,9, -999.00,9, -999.00,9,  -999.0,9,  -999.0,-999.000,9,-999.000,    37.4,2,-999.000,-999.0000, -999.00,   2.7504,   2.8643,2,20091129,       0112