BOTTLE,20220818CCHSIOAMB
EXPOCODE,SECT_ID,STNNBR,CASTNO,SAMPNO,BTLNBR,BTLNBR_FLAG_W,DATE,TIME,LATITUDE,LONGITUDE,DEPTH,CTDPRS,CTDTMP,CTDSAL,SALNTY,SALNTY_FLAG_W,CTDOXY,CTDOXY_FLAG_W,OXYGEN,OXYGEN_FLAG_W,SILCAT,SILCAT_FLAG_W,NITRAT,NITRAT_FLAG_W,NITRIT,NITRIT_FLAG_W,PHSPHT,PHSPHT_FLAG_W,CFC-11,CFC-11_FLAG_W,CFC-12,CFC-12_FLAG_W,CFC113,CFC113_FLAG_W,SF6,SF6_FLAG_W,TCARBN,TCARBN_FLAG_W,ALKALI,ALKALI_FLAG_W,PH_SWS,PH_SWS_FLAG_W,PH_TMP,TRITUM,TRITUM_FLAG_W,HELIUM,HELIUM_FLAG_W,DELHE3,DELHE3_FLAG_W,DELC13,DELC13_FLAG_W,DELC14,DELC14_FLAG_W,C14ERR,NEON,NEON_FLAG_W,NEONER,DOC,DOC_FLAG_W,TRITER,HELIER,DELHER,THETA,SBE35,SBE35_FLAG_W,BTL_DATE,BTL_TIME
,,,,,,,,,,,METERS,DBAR,ITS-90,PSS-78,PSS-78,,UMOL/KG,,UMOL/KG,,UMOL/KG,,UMOL/KG,,UMOL/KG,,UMOL/KG,,PMOL/KG,,PMOL/KG,,PMOL/KG,,FMOL/KG,,UMOL/KG,,UMOL/KG,,,,DEG C,TU,,NMOL/KG,,PERCNT,,/MILLE,,/MILLE,,/MILLE,NMOL/KG,,NMOL/KG,UMOL/KG,,TU,NMOL/KG,PERCNT,DEG C,ITS-90,,,
318M20091121,        P06,     126,          1,         36,         36,2,20091229,       2024,   -32.5001,  -146.5334,       5529,     6.1,  22.0481,  35.2504,  35.2494,2,    219.7,2,   220.0,2,    0.00,2,    0.00,2,    0.00,2,    0.07,2,   1.944,2,   1.232,2,-999.000,1,    1.291,2,  2018.7,3,  2313.0,2,   8.0308,6,    25.00,-999.000,9,-999.0000,9, -999.00,9, -999.00,9,  -999.0,9,  -999.0,-999.000,9,-999.000,    61.1,2,-999.000,-999.0000, -999.00,  22.0469,  22.0459,2,20091229,       2257
318M20091121,        P06,     126,          1,         35,         35,2,20091229,       2024,   -32.5001,  -146.5334,       5529,    34.7,  20.9493,  35.3396,  35.3426,2,    226.6,2,   226.9,2,   -0.12,2,    0.00,2,    0.00,2,    0.07,2,   2.058,2,   1.297,2,-999.000,1,    1.327,2,  1884.9,4,  2317.1,6,   8.0364,2,    25.00,-999.000,9,-999.0000,9, -999.00,9, -999.00,9,  -999.0,9,  -999.0,-999.000,9,-999.000,    63.0,2,-999.000,-999.0000, -999.00,  20.9427,  20.9698,2,20091229,       2254
318M20091121,        P06,     126,          1,         34,         34,2,20091229,       2024,   -32.5001,  -146.5334,       5529,    58.9,  19.1611,  35.4602,  35.4576,2,    234.2,2,   234.5,2,    0.00,2,    0.00,2,    0.00,2,    0.08,2,   2.231,2,   1.382,2,-999.000,1,    1.261,2,  -999.0,5,  2321.1,2,   8.0214,2,    25.00,-999.000,9,-999.0000,9, -999.00,9, -999.00,9,  -999.0,9,  -999.0,-999.000,9,-999.000,    62.3,2,-999.000,-999.0000, -999.00,  19.1505,  19.1645,2,20091229,       2251
318M20091121,        P06,     126,          1,         33,         33,2,20091229,       2024,   -32.5001,  -146.5334,       5529,    83.0,  18.4796,  35.4665,  35.4624,2,    232.2,2,   232.0,2,    0.00,2,    0.00,2,    0.00,2,    0.09,2,   2.261,6,   1.385,6,-999.000,1,    1.215,6,  2043.1,2,  2323.4,2,   8.0136,2,    25.00,-999.000,9,-999.0000,9, -999.00,9, -999.00,9,  -999.0,9,  -999.0,-999.000,9,-999.000,    60.0,2,-999.000,-999.0000, -999.00,  18.4651,  18.4944,2,20091229,       2249
318M20091121,        P06,     126,          1,         32,         32,2,20091229,       2024,   -32.5001,  -146.5334,       5529,   113.2,  17.5688,  35.4394,  35.4381,2,    228.9,2,   226.2,2,    0.00,2,    0.08,2,    0.01,2,    0.14,2,   2.331,2,   1.419,2,-999.000,1,    1.155,2,  2054.8,2,  2323.3,2,   7.9916,2,    25.00,-999.000,9,-999.0000,9, -999.00,9, -999.00,9,  -999.0,9,  -999.0,-999.000,9,-999.000,    54.3,2,-999.000,-999.0000, -999.00,  17.5497,  17.5681,2,20091229,       2247
318M20091121,        P06,     126,          1,         31,         31,2,20091229,       2024,   -32.5001,  -146.5334,       5529,   163.5,  16.5811,  35.3269,  35.3316,2,    234.7,2,   237.1,2,    0.00,2,   -0.01,2,    0.02,2,    0.14,2,   2.418,2,   1.478,2,-999.000,1,    1.109,2,  2056.3,2,  2319.8,2,   7.9832,2,    25.00,-999.000,9,-999.0000,9, -999.00,9, -999.00,9,  -999.0,9,  -999.0,-999.000,9,-999.000,    59.0,2,-999.000,-999.0000, -999.00,  16.5545,  16.5561,3,20091229,       2244
318M20091121,        P06,     126,          1,         30,         30,2,20091229,       2024,   -32.5001,  -146.5334,       5529,   215.4,  15.6651,  35.2981,  35.2983,2,    205.5,2,   208.9,2,    0.33,2,    4.19,2,    0.01,2,    0.41,2,   2.500,2,   1.500,2,-999.000,1,    1.065,2,  2086.4,2,  2318.5,2,   7.9198,2,    25.00,-999.000,9,-999.0000,9, -999.00,9, -999.00,9,  -999.0,9,  -999.0,-999.000,9,-999.000,    52.3,2,-999.000,-999.0000, -999.00,  15.6314,  15.6632,2,20091229,       2242
318M20091121,        P06,     126,          1,         29,         29,2,20091229,       2024,   -32.5001,  -146.5334,       5529,   266.5,  14.4046,  35.1565,  35.1569,2,    201.8,2,   200.7,2,    0.83,2,    7.02,2,    0.01,2,    0.61,2,   2.594,2,   1.508,2,-999.000,1,     0.88,2,  2098.8,2,  2311.4,2,   7.8805,2,    25.00,-999.000,9,-999.0000,9, -999.00,9, -999.00,9,  -999.0,9,  -999.0,-999.000,9,-999.000,    48.9,2,-999.000,-999.0000, -999.00,  14.3652,  14.4168,2,20091229,       2240
318M20091121,        P06,     126,          1,         28,         28,2,20091229,       2024,   -32.5001,  -146.5334,       5529,   316.8,  13.2556,  35.0197,  35.0189,2,    200.9,2,   201.8,2,    1.12,2,    8.94,2,    0.01,2,    0.72,2,   2.725,2,   1.561,2,-999.000,1,    0.928,2,  2108.3,2,  2300.9,2,   7.8503,2,    25.00,-999.000,9,-999.0000,9, -999.00,9, -999.00,9,  -999.0,9,  -999.0,-999.000,9,-999.000,    44.2,2,-999.000,-999.0000, -999.00,  13.2113,  13.2623,2,20091229,       2237
318M20091121,        P06,     126,          1,         27,         27,2,20091229,       2024,   -32.5001,  -146.5334,       5529,   366.6,  11.3879,  34.7982,  34.8054,2,    204.7,2,   204.3,2,    2.22,2,   12.92,2,    0.00,2,    0.98,2,   2.828,2,   1.558,2,-999.000,1,    0.711,2,  2120.7,2,  2291.4,2,   7.8083,2,    25.00,-999.000,9,-999.0000,9, -999.00,9, -999.00,9,  -999.0,9,  -999.0,-999.000,9,-999.000,    45.2,2,-999.000,-999.0000, -999.00,  11.3414,  11.4142,3,20091229,       2235
318M20091121,        P06,     126,          1,         26,         26,2,20091229,       2024,   -32.5001,  -146.5334,       5529,   437.7,   9.0306,  34.5042,  34.5031,2,    216.8,2,   216.3,2,    3.33,2,   17.65,2,    0.00,2,    1.29,2,   3.050,2,   1.617,2,-999.000,1,     0.74,2,  2131.9,2,  2280.3,2,   7.7557,2,    25.00,-999.000,9,-999.0000,9, -999.00,9, -999.00,9,  -999.0,9,  -999.0,-999.000,9,-999.000,    54.1,2,-999.000,-999.0000, -999.00,   8.9826,   9.0293,2,20091229,       2232
318M20091121,        P06,     126,          1,         25,         25,2,20091229,       2024,   -32.5001,  -146.5334,       5529,   535.5,   7.4454,  34.3850,  34.3838,2,    232.2,2,   230.3,2,    5.23,2,   21.05,2,    0.00,2,    1.50,2,   3.097,2,   1.598,2,-999.000,1,    0.606,2,  2140.3,2,  2281.2,2,   7.7311,2,    25.00,-999.000,9,-999.0000,9, -999.00,9, -999.00,9,  -999.0,9,  -999.0,-999.000,9,-999.000,    43.5,2,-999.000,-999.0000, -999.00,   7.3927,   7.4445,2,20091229,       2229
318M20091121,        P06,     126,          1,         24,         24,2,20091229,       2024,   -32.5001,  -146.5334,       5529,   637.1,   6.7013,  34.3513,  34.3516,2,    238.8,2,   239.7,2,    6.53,2,   22.45,2,    0.00,2,    1.57,2,   2.956,2,   1.506,2,-999.000,1,    0.353,2,  2142.2,2,  2273.0,4,   7.7274,2,    25.00,-999.000,9,-999.0000,9, -999.00,9, -999.00,9,  -999.0,9,  -999.0,-999.000,9,-999.000,  -999.0,9,-999.000,-999.0000, -999.00,   6.6418,   6.6995,2,20091229,       2226
318M20091121,        P06,     126,          1,         23,         23,2,20091229,       2024,   -32.5001,  -146.5334,       5529,   740.1,   6.1312,  34.3223,  34.3230,2,    237.2,2,   237.8,2,    9.06,2,   24.05,2,    0.00,2,    1.68,2,   2.402,2,   1.195,2,-999.000,1,    0.317,2,  2147.3,2,  2283.6,2,   7.7187,2,    25.00,-999.000,9,-999.0000,9, -999.00,9, -999.00,9,  -999.0,9,  -999.0,-999.000,9,-999.000,    37.3,2,-999.000,-999.0000, -999.00,   6.0648,   6.1392,2,20091229,       2220
318M20091121,        P06,     126,          1,         22,         22,2,20091229,       2024,   -32.5001,  -146.5334,       5529,   839.7,   5.6746,  34.3024,  34.3020,2,    230.2,2,   230.2,2,   12.18,2,   25.85,2,    0.00,2,    1.80,2,   1.708,2,   0.845,2,-999.000,1,    0.245,2,  2156.1,2,  2284.9,6,   7.7006,2,    25.00,-999.000,9,-999.0000,9, -999.00,9, -999.00,9,  -999.0,9,  -999.0,-999.000,9,-999.000,  -999.0,9,-999.000,-999.0000, -999.00,   5.6016,   5.6747,2,20091229,       2217
318M20091121,        P06,     126,          1,         21,         21,2,20091229,       2024,   -32.5001,  -146.5334,       5529,   941.5,   5.1561,  34.2988,  34.2986,2,    218.0,2,   218.0,2,   17.95,2,   27.91,2,    0.00,2,    1.95,2,   1.158,2,   0.570,2,-999.000,1,        0,2,  2168.5,2,  2290.0,2,   7.6736,2,    25.00,-999.000,9,-999.0000,9, -999.00,9, -999.00,9,  -999.0,9,  -999.0,-999.000,9,-999.000,    37.3,2,-999.000,-999.0000, -999.00,   5.0772,   5.1569,2,20091229,       2213
318M20091121,        P06,     126,          1,         20,         20,2,20091229,       2024,   -32.5001,  -146.5334,       5529,  1039.6,   4.6100,  34.3187,  34.3187,2,    204.6,2,   204.1,2,   26.56,2,   29.92,2,    0.00,2,    2.09,2,   0.768,2,   0.382,2,-999.000,1,        0,2,  2186.8,2,  2297.4,2,   7.6472,2,    25.00,-999.000,9,-999.0000,9, -999.00,9, -999.00,9,  -999.0,9,  -999.0,-999.000,9,-999.000,  -999.0,9,-999.000,-999.0000, -999.00,   4.5265,   4.6113,2,20091229,       2210
318M20091121,        P06,     126,          1,         19,         19,2,20091229,       2024,   -32.5001,  -146.5334,       5529,  1140.5,   4.0766,  34.3479,  34.3478,2,    191.9,2,   192.3,2,   36.41,2,   31.71,2,    0.00,2,    2.22,2,   0.410,2,   0.212,2,-999.000,1,        0,2,  2203.9,6,  2306.4,2,   7.6207,2,    25.00,-999.000,9,-999.0000,9, -999.00,9, -999.00,9,  -999.0,9,  -999.0,-999.000,9,-999.000,    38.9,2,-999.000,-999.0000, -999.00,   3.9887,   4.0805,2,20091229,       2206
318M20091121,        P06,     126,          1,         18,         18,2,20091229,       2024,   -32.5001,  -146.5334,       5529,  1242.7,   3.5812,  34.3882,  34.3881,2,    183.8,2,   184.4,2,   46.69,2,   32.86,2,    0.00,2,    2.31,2,   0.258,2,   0.136,2,-999.000,1,        0,2,  2220.5,2,  2316.3,2,   7.6019,2,    25.00,-999.000,9,-999.0000,9, -999.00,9, -999.00,9,  -999.0,9,  -999.0,-999.000,9,-999.000,  -999.0,9,-999.000,-999.0000, -999.00,   3.4891,   3.5809,2,20091229,       2202
318M20091121,        P06,     126,          1,         17,         17,2,20091229,       2024,   -32.5001,  -146.5334,       5529,  1346.1,   3.2008,  34.4377,  34.4366,2,    174.8,2,   176.0,2,   56.99,2,   33.61,2,    0.00,2,    2.36,2,   0.138,2,   0.077,2,-999.000,1,        0,2,  2233.9,2,  2322.7,2,   7.5888,2,    25.00,-999.000,9,-999.0000,9, -999.00,9, -999.00,9,  -999.0,9,  -999.0,-999.000,9,-999.000,    37.4,2,-999.000,-999.0000, -999.00,   3.1038,   3.2028,2,20091229,       2159
318M20091121,        P06,     126,          1,         16,         16,2,20091229,       2024,   -32.5001,  -146.5334,       5529,  1444.8,   2.9515,  34.4835,  34.4836,2,    170.5,2,   170.3,2,   66.09,2,   34.01,2,    0.00,2,    2.39,2,   0.073,2,   0.041,2,-999.000,1,        0,2,  2243.9,2,  2332.6,2,   7.5836,2,    25.00,-999.000,9,-999.0000,9, -999.00,9, -999.00,9,  -999.0,9,  -999.0,-999.000,9,-999.000,  -999.0,9,-999.000,-999.0000, -999.00,   2.8490,   2.9487,2,20091229,       2155
318M20091121,        P06,     126,          1,         15,         15,2,20091229,       2024,   -32.5001,  -146.5334,       5529,  1549.9,   2.7239,  34.5340,  34.5342,2,    164.3,2,   164.1,2,   77.06,2,   34.21,2,    0.00,2,    2.42,2,   0.026,2,   0.017,2,-999.000,1,        0,2,  2259.3,2,  2346.1,2,   7.5769,2,    25.00,-999.000,9,-999.0000,9, -999.00,9, -999.00,9,  -999.0,9,  -999.0,-999.000,9,-999.000,    34.7,2,-999.000,-999.0000, -999.00,   2.6153,   2.7243,2,20091229,       2151
318M20091121,        P06,     126,          1,         14,         14,2,20091229,       2024,   -32.5001,  -146.5334,       5529,  1677.9,   2.5194,  34.5776,  34.5777,2,    158.9,2,   159.1,2,   89.28,2,   34.51,2,    0.00,2,    2.44,2,   0.012,2,   0.007,2,-999.000,1,        0,2,  2272.7,2,  2361.5,2,   7.5761,2,    25.00,-999.000,9,-999.0000,9, -999.00,9, -999.00,9,  -999.0,9,  -999.0,-999.000,9,-999.000,  -999.0,9,-999.000,-999.0000, -999.00,   2.4026,   2.5197,2,20091229,       2147
318M20091121,        P06,     126,          1,         13,         13,2,20091229,       2024,   -32.5001,  -146.5334,       5529,  1882.2,   2.3031,  34.6143,  34.6140,2,    154.1,2,   154.2,2,  101.55,2,   34.81,2,    0.00,2,    2.46,2,   0.015,2,   0.011,2,-999.000,1,        0,2,  2287.4,2,  2376.1,2,   7.5777,2,    25.00,-999.000,9,-999.0000,9, -999.00,9, -999.00,9,  -999.0,9,  -999.0,-999.000,9,-999.000,    34.9,2,-999.000,-999.0000, -999.00,   2.1721,   2.3038,2,20091229,       2142
318M20091121,        P06,     126,          1,         12,         12,2,20091229,       2024,   -32.5001,  -146.5334,       5529,  2107.8,   2.1142,  34.6378,  34.6380,2,    151.9,2,   151.9,2,  111.16,2,   35.07,2,    0.00,2,    2.48,2,   0.003,2,   0.002,2,-999.000,1,        0,2,  2297.0,2,  2388.2,2,   7.5787,2,    25.00,-999.000,9,-999.0000,9, -999.00,9, -999.00,9,  -999.0,9,  -999.0,-999.000,9,-999.000,  -999.0,9,-999.000,-999.0000, -999.00,   1.9668,   2.1142,2,20091229,       2137
318M20091121,        P06,     126,          1,         11,         11,2,20091229,       2024,   -32.5001,  -146.5334,       5529,  2357.7,   1.9604,  34.6523,  34.6524,2,    151.0,2,   151.1,2,  118.73,2,   35.18,2,    0.00,2,    2.50,2,   0.006,2,   0.004,2,-999.000,1,        0,2,  2304.8,2,  2399.0,2,   7.5801,2,    25.00,-999.000,9,-999.0000,9, -999.00,9, -999.00,9,  -999.0,9,  -999.0,-999.000,9,-999.000,    34.9,2,-999.000,-999.0000, -999.00,   1.7936,   1.9599,2,20091229,       2132
318M20091121,        P06,     126,          1,         10,         10,2,20091229,       2024,   -32.5001,  -146.5334,       5529,  2615.7,   1.8428,  34.6621,  34.6621,2,    152.0,2,   152.1,2,  123.40,2,   35.18,2,    0.00,2,    2.49,2,   0.007,2,   0.004,2,-999.000,1,        0,2,  2308.1,2,  2390.3,4,   7.5803,2,    25.00,-999.000,9,-999.0000,9, -999.00,9, -999.00,9,  -999.0,9,  -999.0,-999.000,9,-999.000,  -999.0,9,-999.000,-999.0000, -999.00,   1.6548,   1.8431,2,20091229,       2126
318M20091121,        P06,     126,          1,          9,          9,2,20091229,       2024,   -32.5001,  -146.5334,       5529,  2867.4,   1.7582,  34.6696,  34.6683,2,    155.2,2,   156.5,2,  125.38,2,   35.03,2,    0.00,2,    2.48,2,   0.002,2,   0.001,2,-999.000,1,        0,2,  2307.8,2,  2404.4,2,   7.5831,2,    25.00,-999.000,9,-999.0000,9, -999.00,9, -999.00,9,  -999.0,9,  -999.0,-999.000,9,-999.000,    35.8,2,-999.000,-999.0000, -999.00,   1.5484,   1.7586,2,20091229,       2120
318M20091121,        P06,     126,          1,          8,          8,2,20091229,       2024,   -32.5001,  -146.5334,       5529,  3141.5,   1.6635,  34.6772,  34.6772,2,    161.1,2,   161.6,2,  125.09,2,   34.58,2,    0.00,2,    2.44,2,   0.005,2,   0.003,2,-999.000,1,        0,2,  2300.3,2,  2402.1,2,   7.5905,2,    25.00,-999.000,9,-999.0000,9, -999.00,9, -999.00,9,  -999.0,9,  -999.0,-999.000,9,-999.000,  -999.0,9,-999.000,-999.0000, -999.00,   1.4293,   1.6632,2,20091229,       2114
318M20091121,        P06,     126,          1,          7,          7,2,20091229,       2024,   -32.5001,  -146.5334,       5529,  3444.6,   1.5638,  34.6862,  34.6855,2,    169.9,2,   169.6,2,  123.33,2,   34.03,2,    0.00,2,    2.40,2,   0.006,2,   0.007,2,-999.000,1,        0,2,  2292.6,2,  2396.8,2,   7.5951,2,    25.00,-999.000,9,-999.0000,9, -999.00,9, -999.00,9,  -999.0,9,  -999.0,-999.000,9,-999.000,    36.1,2,-999.000,-999.0000, -999.00,   1.3016,   1.5630,2,20091229,       2107
318M20091121,        P06,     126,          1,          6,          6,2,20091229,       2024,   -32.5001,  -146.5334,       5529,  3749.0,   1.4517,  34.6943,  34.6944,2,    179.0,2,   179.0,2,  121.17,2,   33.28,2,    0.00,2,    2.36,2,   0.005,2,   0.004,2,-999.000,1,        0,2,  2286.9,2,  2391.8,2,   7.6037,2,    25.00,-999.000,9,-999.0000,9, -999.00,9, -999.00,9,  -999.0,9,  -999.0,-999.000,9,-999.000,  -999.0,9,-999.000,-999.0000, -999.00,   1.1609,   1.4516,2,20091229,       2100
318M20091121,        P06,     126,          1,          5,         37,2,20091229,       2024,   -32.5001,  -146.5334,       5529,  4057.6,   1.3563,  34.7010,  34.7006,2,    187.1,2,   187.2,2,  119.00,2,   32.79,2,    0.00,2,    2.31,2,   0.007,2,   0.006,2,-999.000,1,        0,2,  2278.2,2,  -999.0,9,-999.0000,9,  -999.00,-999.000,9,-999.0000,9, -999.00,9, -999.00,9,  -999.0,9,  -999.0,-999.000,9,-999.000,    36.0,2,-999.000,-999.0000, -999.00,   1.0350,   1.3573,2,20091229,       2054
318M20091121,        P06,     126,          1,          4,          4,2,20091229,       2024,   -32.5001,  -146.5334,       5529,  4369.8,   1.2799,  34.7058,  34.7058,2,    194.2,2,   194.2,2,  117.87,2,   32.39,2,    0.00,2,    2.28,2,   0.012,2,   0.008,2,-999.000,1,        0,2,  2271.2,2,  2375.7,2,   7.6140,2,    25.00,-999.000,9,-999.0000,9, -999.00,9, -999.00,9,  -999.0,9,  -999.0,-999.000,9,-999.000,  -999.0,9,-999.000,-999.0000, -999.00,   0.9263,   1.2799,2,20091229,       2047
318M20091121,        P06,     126,          1,          3,          3,2,20091229,       2024,   -32.5001,  -146.5334,       5529,  4674.9,   1.2387,  34.7084,  34.7076,2,    198.1,2,   198.5,2,  117.15,2,   32.09,2,    0.00,2,    2.25,2,   0.007,2,   0.007,2,-999.000,1,        0,2,  2268.5,2,  2372.9,2,   7.6158,2,    25.00,-999.000,9,-999.0000,9, -999.00,9, -999.00,9,  -999.0,9,  -999.0,-999.000,9,-999.000,    39.5,2,-999.000,-999.0000, -999.00,   0.8515,   1.2389,2,20091229,       2041
318M20091121,        P06,     126,          1,          2,          2,2,20091229,       2024,   -32.5001,  -146.5334,       5529,  4985.7,   1.2380,  34.7095,  34.7089,2,    199.4,2,   199.4,2,  117.47,2,   32.00,2,    0.00,2,    2.25,2,   0.008,2,   0.007,2,-999.000,1,        0,2,  2267.2,2,  2371.9,6,   7.6142,2,    25.00,-999.000,9,-999.0000,9, -999.00,9, -999.00,9,  -999.0,9,  -999.0,-999.000,9,-999.000,  -999.0,9,-999.000,-999.0000, -999.00,   0.8141,   1.2383,2,20091229,       2033
318M20091121,        P06,     126,          1,          1,          1,2,20091229,       2024,   -32.5001,  -146.5334,       5529,  5270.1,   1.2691,  34.7092,  34.7093,2,    200.1,2,   200.1,2,  117.17,2,   32.05,2,    0.00,2,    2.24,2,   0.009,2,   0.004,2,-999.000,1,        0,2,  2266.7,6,  2447.7,4,   7.6176,6,    25.00,-999.000,9,-999.0000,9, -999.00,9, -999.00,9,  -999.0,9,  -999.0,-999.000,9,-999.000,    38.6,2,-999.000,-999.0000, -999.00,   0.8095,   1.2690,2,20091229,       2024