BOTTLE,20220818CCHSIOAMB
EXPOCODE,SECT_ID,STNNBR,CASTNO,SAMPNO,BTLNBR,BTLNBR_FLAG_W,DATE,TIME,LATITUDE,LONGITUDE,DEPTH,CTDPRS,CTDTMP,CTDSAL,SALNTY,SALNTY_FLAG_W,CTDOXY,CTDOXY_FLAG_W,OXYGEN,OXYGEN_FLAG_W,SILCAT,SILCAT_FLAG_W,NITRAT,NITRAT_FLAG_W,NITRIT,NITRIT_FLAG_W,PHSPHT,PHSPHT_FLAG_W,CFC-11,CFC-11_FLAG_W,CFC-12,CFC-12_FLAG_W,CFC113,CFC113_FLAG_W,SF6,SF6_FLAG_W,TCARBN,TCARBN_FLAG_W,ALKALI,ALKALI_FLAG_W,PH_SWS,PH_SWS_FLAG_W,PH_TMP,TRITUM,TRITUM_FLAG_W,HELIUM,HELIUM_FLAG_W,DELHE3,DELHE3_FLAG_W,DELC13,DELC13_FLAG_W,DELC14,DELC14_FLAG_W,C14ERR,NEON,NEON_FLAG_W,NEONER,DOC,DOC_FLAG_W,TRITER,HELIER,DELHER,THETA,SBE35,SBE35_FLAG_W,BTL_DATE,BTL_TIME
,,,,,,,,,,,METERS,DBAR,ITS-90,PSS-78,PSS-78,,UMOL/KG,,UMOL/KG,,UMOL/KG,,UMOL/KG,,UMOL/KG,,UMOL/KG,,PMOL/KG,,PMOL/KG,,PMOL/KG,,FMOL/KG,,UMOL/KG,,UMOL/KG,,,,DEG C,TU,,NMOL/KG,,PERCNT,,/MILLE,,/MILLE,,/MILLE,NMOL/KG,,NMOL/KG,UMOL/KG,,TU,NMOL/KG,PERCNT,DEG C,ITS-90,,,
318M20091121,        P06,      48,          1,         29,         29,2,20091205,       2300,   -30.0796,   170.5004,       2926,     2.8,  21.7780,  35.6206,  35.6222,2,    226.1,2,   226.6,2,    0.40,2,    0.49,2,    0.00,2,    0.09,2,   1.990,2,   1.226,2,-999.000,1,    1.011,2,  2028.6,6,  2333.9,6,   8.0294,6,    25.00,-999.000,9,-999.0000,9, -999.00,9, -999.00,9,  -999.0,9,  -999.0,-999.000,9,-999.000,    59.0,2,-999.000,-999.0000, -999.00,  21.7774,  21.8059,2,20091205,       0038
318M20091121,        P06,      48,          1,         28,         28,2,20091205,       2300,   -30.0796,   170.5004,       2926,    34.8,  19.5446,  35.6156,  35.6169,2,    238.9,2,   238.6,2,    0.19,2,    0.58,2,    0.00,2,    0.09,2,   2.123,2,   1.305,2,-999.000,1,    1.105,2,  -999.0,9,  2335.4,2,   8.0215,2,    25.00,-999.000,9,-999.0000,9, -999.00,9, -999.00,9,  -999.0,9,  -999.0,-999.000,9,-999.000,    59.7,2,-999.000,-999.0000, -999.00,  19.5383,  19.5361,2,20091205,       0035
318M20091121,        P06,      48,          1,         27,         27,2,20091205,       2300,   -30.0796,   170.5004,       2926,    60.0,  18.7097,  35.6123,  35.6117,2,    231.3,2,   225.6,2,    0.37,2,    0.66,2,    0.06,2,    0.13,2,   2.125,2,   1.310,2,-999.000,1,     1.06,2,  2041.9,2,  2334.9,2,   8.0188,2,    25.00,-999.000,9,-999.0000,9, -999.00,9, -999.00,9,  -999.0,9,  -999.0,-999.000,9,-999.000,    53.5,2,-999.000,-999.0000, -999.00,  18.6991,  18.7089,2,20091205,       0033
318M20091121,        P06,      48,          1,         26,         26,2,20091205,       2300,   -30.0796,   170.5004,       2926,    85.6,  18.2818,  35.6010,  35.6046,2,    218.7,2,   216.1,2,    0.56,2,    1.57,2,    0.04,2,    0.22,2,   2.141,2,   1.316,2,-999.000,1,    0.986,2,  2052.0,2,  2332.9,2,   7.9970,2,    25.00,-999.000,9,-999.0000,9, -999.00,9, -999.00,9,  -999.0,9,  -999.0,-999.000,9,-999.000,    53.5,2,-999.000,-999.0000, -999.00,  18.2669,  18.2811,2,20091205,       0031
318M20091121,        P06,      48,          1,         25,         25,2,20091205,       2300,   -30.0796,   170.5004,       2926,   114.1,  17.7020,  35.5746,  35.5764,2,    217.3,2,   220.3,2,    0.54,2,    1.78,2,    0.08,2,    0.24,2,   2.225,2,   1.350,2,-999.000,1,    1.061,2,  -999.0,9,  2331.2,2,   7.9848,2,    25.00,-999.000,9,-999.0000,9, -999.00,9, -999.00,9,  -999.0,9,  -999.0,-999.000,9,-999.000,    50.1,2,-999.000,-999.0000, -999.00,  17.6826,  17.7018,2,20091205,       0028
318M20091121,        P06,      48,          1,         24,         24,2,20091205,       2300,   -30.0796,   170.5004,       2926,   165.8,  17.1747,  35.5515,  35.5515,2,    215.4,2,   207.4,2,    1.11,2,    4.11,2,    0.02,2,    0.39,2,   2.205,2,   1.344,2,-999.000,1,    0.986,2,  2071.4,2,  2329.4,2,   7.9551,2,    25.00,-999.000,9,-999.0000,9, -999.00,9, -999.00,9,  -999.0,9,  -999.0,-999.000,9,-999.000,    49.3,2,-999.000,-999.0000, -999.00,  17.1471,  17.1748,2,20091205,       0026
318M20091121,        P06,      48,          1,         23,         23,2,20091205,       2300,   -30.0796,   170.5004,       2926,   218.1,  16.4621,  35.5071,  35.5109,2,    214.0,2,   214.4,2,    1.30,2,    4.31,2,    0.01,2,    0.41,2,   2.252,2,   1.360,2,-999.000,1,     1.03,2,  2072.5,2,  2327.4,2,   7.9489,2,    25.00,-999.000,9,-999.0000,9, -999.00,9, -999.00,9,  -999.0,9,  -999.0,-999.000,9,-999.000,    50.4,2,-999.000,-999.0000, -999.00,  16.4267,  16.4654,2,20091205,       0023
318M20091121,        P06,      48,          1,         22,         22,2,20091205,       2300,   -30.0796,   170.5004,       2926,   267.6,  15.6510,  35.4538,  35.4580,2,    203.5,2,   216.8,2,    1.67,2,    5.24,2,    0.01,2,    0.47,2,   2.426,2,   1.459,2,-999.000,1,    0.934,2,  2083.0,2,  2325.3,2,   7.9281,2,    25.00,-999.000,9,-999.0000,9, -999.00,9, -999.00,9,  -999.0,9,  -999.0,-999.000,9,-999.000,    49.7,2,-999.000,-999.0000, -999.00,  15.6090,  15.6572,2,20091205,       0021
318M20091121,        P06,      48,          1,         21,         21,2,20091205,       2300,   -30.0796,   170.5004,       2926,   313.2,  14.1529,  35.2967,  35.2970,2,    206.7,2,   201.5,2,    3.04,2,    9.50,2,    0.01,2,    0.72,2,  -9.262,4,  -9.063,4,-999.000,1,-999.0000,5,  -999.0,9,  2317.8,2,   7.8768,2,    25.00,-999.000,9,-999.0000,9, -999.00,9, -999.00,9,  -999.0,9,  -999.0,-999.000,9,-999.000,    47.6,2,-999.000,-999.0000, -999.00,  14.1070,  14.1525,2,20091205,       0019
318M20091121,        P06,      48,          1,         20,         20,2,20091205,       2300,   -30.0796,   170.5004,       2926,   364.2,  12.5333,  35.0983,  35.0992,2,    198.6,2,   195.8,2,    4.60,2,   13.27,2,    0.01,2,    0.96,2,   2.441,2,   1.406,2,-999.000,1,    0.746,2,  2120.9,2,  2309.0,2,   7.8230,2,    25.00,-999.000,9,-999.0000,9, -999.00,9, -999.00,9,  -999.0,9,  -999.0,-999.000,9,-999.000,    43.5,2,-999.000,-999.0000, -999.00,  12.4840,  12.5332,2,20091205,       0016
318M20091121,        P06,      48,          1,         19,         19,2,20091205,       2300,   -30.0796,   170.5004,       2926,   414.8,  11.5554,  34.9843,  34.9860,2,    197.5,2,   197.0,2,    5.77,2,   15.18,2,    0.00,2,    1.08,2,   2.413,2,   1.373,2,-999.000,1,     0.69,2,  -999.0,9,  2305.2,2,   7.8075,2,    25.00,-999.000,9,-999.0000,9, -999.00,9, -999.00,9,  -999.0,9,  -999.0,-999.000,9,-999.000,    42.8,2,-999.000,-999.0000, -999.00,  11.5021,  11.5534,2,20091205,       0014
318M20091121,        P06,      48,          1,         18,         18,2,20091205,       2300,   -30.0796,   170.5004,       2926,   466.4,  11.0093,  34.9110,  34.9126,2,    198.4,2,   198.7,2,    6.15,2,   16.25,2,    0.00,2,    1.15,2,   2.281,2,   1.264,2,-999.000,1,    0.585,2,  -999.0,9,  2302.2,6,   7.7849,2,    25.00,-999.000,9,-999.0000,9, -999.00,9, -999.00,9,  -999.0,9,  -999.0,-999.000,9,-999.000,    44.5,2,-999.000,-999.0000, -999.00,  10.9511,  11.0076,2,20091205,       0012
318M20091121,        P06,      48,          1,         17,         17,2,20091205,       2300,   -30.0796,   170.5004,       2926,   536.7,   9.4765,  34.7169,  34.7172,2,    201.7,2,   202.7,2,    7.92,2,   19.19,2,    0.00,2,    1.35,2,   2.300,2,   1.232,2,-999.000,1,    0.474,2,  2139.0,2,  2296.7,2,   7.7535,2,    25.00,-999.000,9,-999.0000,9, -999.00,9, -999.00,9,  -999.0,9,  -999.0,-999.000,9,-999.000,    40.6,2,-999.000,-999.0000, -999.00,   9.4154,   9.4767,2,20091205,       0009
318M20091121,        P06,      48,          1,         16,         16,2,20091205,       2300,   -30.0796,   170.5004,       2926,   638.1,   8.2253,  34.5721,  34.5730,2,    207.9,2,   208.5,2,    9.88,2,   21.67,2,    0.00,2,    1.50,2,   2.124,2,   1.115,2,-999.000,1,     0.34,2,  2144.0,2,  2293.9,2,   7.7248,2,    25.00,-999.000,9,-999.0000,9, -999.00,9, -999.00,9,  -999.0,9,  -999.0,-999.000,9,-999.000,  -999.0,9,-999.000,-999.0000, -999.00,   8.1582,   8.2211,2,20091205,       0006
318M20091121,        P06,      48,          1,         15,         15,2,20091205,       2300,   -30.0796,   170.5004,       2926,   739.5,   7.3071,  34.4898,  34.4909,2,    209.8,2,   209.7,2,   13.23,2,   23.67,2,    0.00,2,    1.65,2,   1.787,2,   0.925,2,-999.000,1,    0.151,2,  2151.2,2,  2293.8,2,   7.7059,2,    25.00,-999.000,9,-999.0000,9, -999.00,9, -999.00,9,  -999.0,9,  -999.0,-999.000,9,-999.000,    39.3,2,-999.000,-999.0000, -999.00,   7.2340,   7.3074,2,20091205,       0003
318M20091121,        P06,      48,          1,         14,         14,2,20091205,       2300,   -30.0796,   170.5004,       2926,   836.5,   6.4533,  34.4490,  34.4493,2,    204.3,2,   204.5,2,   20.18,2,   25.88,2,    0.00,2,    1.81,2,   1.287,2,   0.670,2,-999.000,1,    0.131,2,  2164.4,2,  2296.8,2,   7.6876,2,    25.00,-999.000,9,-999.0000,9, -999.00,9, -999.00,9,  -999.0,9,  -999.0,-999.000,9,-999.000,  -999.0,9,-999.000,-999.0000, -999.00,   6.3755,   6.4578,2,20091205,       0000
318M20091121,        P06,      48,          1,         13,         13,2,20091205,       2300,   -30.0796,   170.5004,       2926,   939.2,   6.0660,  34.4844,  34.4854,2,    190.9,2,   191.1,2,   29.96,2,   27.41,2,    0.00,2,    1.92,2,   0.918,2,   0.480,2,-999.000,1,     0.07,2,  2181.3,2,  2306.4,2,   7.6699,2,    25.00,-999.000,9,-999.0000,9, -999.00,9, -999.00,9,  -999.0,9,  -999.0,-999.000,9,-999.000,    39.8,2,-999.000,-999.0000, -999.00,   5.9806,   6.0651,2,20091205,       2357
318M20091121,        P06,      48,          1,         12,         12,2,20091205,       2300,   -30.0796,   170.5004,       2926,  1041.1,   5.3109,  34.4876,  34.4866,2,    182.3,2,   182.6,2,   41.99,2,   29.36,2,    0.00,2,    2.07,2,   0.613,2,   0.324,2,-999.000,1,        0,2,  -999.0,9,  2317.1,2,   7.6407,2,    25.00,-999.000,9,-999.0000,9, -999.00,9, -999.00,9,  -999.0,9,  -999.0,-999.000,9,-999.000,  -999.0,9,-999.000,-999.0000, -999.00,   5.2214,   5.3211,2,20091205,       2353
318M20091121,        P06,      48,          1,         11,         11,2,20091205,       2300,   -30.0796,   170.5004,       2926,  1143.2,   4.8128,  34.4928,  34.4924,2,    177.3,2,   178.3,2,   49.43,2,   30.32,2,    0.00,2,    2.14,2,   0.478,2,   0.256,2,-999.000,1,        0,2,  -999.0,9,  2316.9,4,   7.6412,2,    25.00,-999.000,9,-999.0000,9, -999.00,9, -999.00,9,  -999.0,9,  -999.0,-999.000,9,-999.000,    37.1,2,-999.000,-999.0000, -999.00,   4.7180,   4.8180,2,20091205,       2350
318M20091121,        P06,      48,          1,         10,         10,2,20091205,       2300,   -30.0796,   170.5004,       2926,  1245.3,   4.2031,  34.5173,  34.5172,2,    170.9,2,   170.4,2,   62.38,2,   31.69,2,    0.00,2,    2.25,2,   0.311,2,   0.172,2,-999.000,1,        0,2,  2229.6,2,  2334.3,2,   7.6140,2,    25.00,-999.000,9,-999.0000,9, -999.00,9, -999.00,9,  -999.0,9,  -999.0,-999.000,9,-999.000,  -999.0,9,-999.000,-999.0000, -999.00,   4.1046,   4.2094,2,20091205,       2347
318M20091121,        P06,      48,          1,          9,          9,2,20091205,       2300,   -30.0796,   170.5004,       2926,  1347.3,   3.7058,  34.5301,  34.5301,2,    166.3,2,   166.7,2,   71.93,2,   32.55,2,    0.00,2,    2.32,2,   0.197,2,   0.113,2,-999.000,1,        0,2,  -999.0,9,  2345.4,2,   7.6133,2,    25.00,-999.000,9,-999.0000,9, -999.00,9, -999.00,9,  -999.0,9,  -999.0,-999.000,9,-999.000,  -999.0,9,-999.000,-999.0000, -999.00,   3.6033,   3.7046,2,20091205,       2343
318M20091121,        P06,      48,          1,          8,          8,2,20091205,       2300,   -30.0796,   170.5004,       2926,  1448.9,   3.3279,  34.5544,  34.5551,2,    162.6,2,   162.5,2,   81.51,2,   33.25,2,    0.00,2,    2.37,2,   0.139,2,   0.079,2,-999.000,1,        0,2,  -999.0,9,  2357.6,2,   7.5922,2,    25.00,-999.000,9,-999.0000,9, -999.00,9, -999.00,9,  -999.0,9,  -999.0,-999.000,9,-999.000,    37.6,2,-999.000,-999.0000, -999.00,   3.2207,   3.3287,2,20091205,       2339
318M20091121,        P06,      48,          1,          7,          7,2,20091205,       2300,   -30.0796,   170.5004,       2926,  1546.4,   3.0943,  34.5726,  34.5730,2,    159.7,2,   160.4,2,   88.25,2,   33.57,2,    0.00,2,    2.39,2,   0.262,4,   0.191,4,-999.000,1,        0,2,  2262.8,2,  2365.3,2,   7.5937,2,    25.00,-999.000,9,-999.0000,9, -999.00,9, -999.00,9,  -999.0,9,  -999.0,-999.000,9,-999.000,  -999.0,9,-999.000,-999.0000, -999.00,   2.9815,   3.1002,2,20091205,       2335
318M20091121,        P06,      48,          1,          6,          6,2,20091205,       2300,   -30.0796,   170.5004,       2926,  1679.8,   2.8393,  34.5907,  34.5922,2,    157.6,2,   157.9,2,   95.61,2,   34.01,2,    0.00,2,    2.42,2,  -9.262,4,  -9.063,4,-999.000,1,-999.0000,5,  -999.0,9,  2373.9,2,   7.5921,2,    25.00,-999.000,9,-999.0000,9, -999.00,9, -999.00,9,  -999.0,9,  -999.0,-999.000,9,-999.000,  -999.0,9,-999.000,-999.0000, -999.00,   2.7182,   2.8397,2,20091205,       2331
318M20091121,        P06,      48,          1,          5,          5,2,20091205,       2300,   -30.0796,   170.5004,       2926,  1878.5,   2.4764,  34.6220,  34.6256,3,    155.0,2,   155.4,2,  105.87,2,   34.44,2,    0.00,2,    2.45,2,   0.039,2,   0.023,2,-999.000,1,        0,2,  -999.0,9,  2385.8,2,   7.5897,2,    25.00,-999.000,9,-999.0000,9, -999.00,9, -999.00,9,  -999.0,9,  -999.0,-999.000,9,-999.000,    36.2,2,-999.000,-999.0000, -999.00,   2.3432,   2.4768,2,20091205,       2326
318M20091121,        P06,      48,          1,          4,          4,2,20091205,       2300,   -30.0796,   170.5004,       2926,  2104.3,   2.2441,  34.6417,  34.6421,2,    154.0,2,   154.5,2,  113.06,2,   34.55,2,    0.00,2,    2.47,2,   0.026,2,   0.016,2,-999.000,1,        0,2,  2291.7,2,  2392.5,2,   7.5841,2,    25.00,-999.000,9,-999.0000,9, -999.00,9, -999.00,9,  -999.0,9,  -999.0,-999.000,9,-999.000,  -999.0,9,-999.000,-999.0000, -999.00,   2.0949,   2.2443,2,20091205,       2321
318M20091121,        P06,      48,          1,          3,          3,2,20091205,       2300,   -30.0796,   170.5004,       2926,  2459.1,   2.0574,  34.6579,  34.6574,2,    153.9,2,   154.2,2,  118.61,2,   34.88,2,    0.00,2,    2.48,2,   0.019,2,   0.012,2,-999.000,1,        0,2,  -999.0,9,  2397.5,2,   7.5837,2,    25.00,-999.000,9,-999.0000,9, -999.00,9, -999.00,9,  -999.0,9,  -999.0,-999.000,9,-999.000,    34.2,3,-999.000,-999.0000, -999.00,   1.8797,   2.0575,2,20091205,       2313
318M20091121,        P06,      48,          1,          2,          2,2,20091205,       2300,   -30.0796,   170.5004,       2926,  2816.8,   1.8719,  34.6741,  34.6743,2,    154.8,2,   155.1,2,  124.38,2,   34.99,2,    0.00,2,    2.49,2,   0.066,4,   0.070,4,-999.000,1,        0,2,  -999.0,9,  2403.7,6,   7.5871,2,    25.00,-999.000,9,-999.0000,9, -999.00,9, -999.00,9,  -999.0,9,  -999.0,-999.000,9,-999.000,  -999.0,9,-999.000,-999.0000, -999.00,   1.6645,   1.8725,2,20091205,       2305
318M20091121,        P06,      48,          1,          1,          1,2,20091205,       2300,   -30.0796,   170.5004,       2926,  3025.3,   1.8775,  34.6749,  34.6765,3,    154.7,2,   154.8,2,  124.99,2,   35.00,2,    0.00,2,    2.53,2,   0.069,4,   0.044,4,-999.000,1,        0,2,  2303.2,6,  2404.0,2,   7.5924,6,    25.00,-999.000,9,-999.0000,9, -999.00,9, -999.00,9,  -999.0,9,  -999.0,-999.000,9,-999.000,    34.5,3,-999.000,-999.0000, -999.00,   1.6499,   1.8772,2,20091205,       2300