BOTTLE,20220818CCHSIOAMB
EXPOCODE,SECT_ID,STNNBR,CASTNO,SAMPNO,BTLNBR,BTLNBR_FLAG_W,DATE,TIME,LATITUDE,LONGITUDE,DEPTH,CTDPRS,CTDTMP,CTDSAL,SALNTY,SALNTY_FLAG_W,CTDOXY,CTDOXY_FLAG_W,OXYGEN,OXYGEN_FLAG_W,SILCAT,SILCAT_FLAG_W,NITRAT,NITRAT_FLAG_W,NITRIT,NITRIT_FLAG_W,PHSPHT,PHSPHT_FLAG_W,CFC-11,CFC-11_FLAG_W,CFC-12,CFC-12_FLAG_W,CFC113,CFC113_FLAG_W,SF6,SF6_FLAG_W,TCARBN,TCARBN_FLAG_W,ALKALI,ALKALI_FLAG_W,PH_SWS,PH_SWS_FLAG_W,PH_TMP,TRITUM,TRITUM_FLAG_W,HELIUM,HELIUM_FLAG_W,DELHE3,DELHE3_FLAG_W,DELC13,DELC13_FLAG_W,DELC14,DELC14_FLAG_W,C14ERR,NEON,NEON_FLAG_W,NEONER,DOC,DOC_FLAG_W,TRITER,HELIER,DELHER,THETA,SBE35,SBE35_FLAG_W,BTL_DATE,BTL_TIME
,,,,,,,,,,,METERS,DBAR,ITS-90,PSS-78,PSS-78,,UMOL/KG,,UMOL/KG,,UMOL/KG,,UMOL/KG,,UMOL/KG,,UMOL/KG,,PMOL/KG,,PMOL/KG,,PMOL/KG,,FMOL/KG,,UMOL/KG,,UMOL/KG,,,,DEG C,TU,,NMOL/KG,,PERCNT,,/MILLE,,/MILLE,,/MILLE,NMOL/KG,,NMOL/KG,UMOL/KG,,TU,NMOL/KG,PERCNT,DEG C,ITS-90,,,
318M20091121,        P06,      83,          3,         36,         36,2,20091214,       0346,   -32.4997,  -175.2602,       5775,     3.9,  21.0644,  35.6574,  35.6602,2,    229.0,2,   229.3,2,    0.37,2,    0.00,2,    0.00,2,    0.11,2,   2.134,2,   1.260,2,-999.000,1,    1.167,2,  2049.5,6,  2338.1,2,   8.0114,2,    25.00,-999.000,9,-999.0000,9, -999.00,9, -999.00,9,  -999.0,9,  -999.0,-999.000,9,-999.000,  -999.0,9,-999.000,-999.0000, -999.00,  21.0637,  21.0823,2,20091214,       0628
318M20091121,        P06,      83,          3,         35,         35,2,20091214,       0346,   -32.4997,  -175.2602,       5775,    25.3,  19.3516,  35.5888,  35.6001,3,    244.9,2,   240.3,2,    0.34,2,    0.00,2,    0.00,2,    0.09,2,   2.281,2,   1.316,2,-999.000,1,    1.171,2,  -999.0,9,  2335.5,6,   8.0139,6,    25.00,-999.000,9,-999.0000,9, -999.00,9, -999.00,9,  -999.0,9,  -999.0,-999.000,9,-999.000,  -999.0,9,-999.000,-999.0000, -999.00,  19.3470,  19.4451,3,20091214,       0625
318M20091121,        P06,      83,          3,         34,         34,2,20091214,       0346,   -32.4997,  -175.2602,       5775,    50.4,  17.7558,  35.5486,  35.5485,2,    246.7,2,   246.6,2,    0.32,2,    0.00,2,    0.00,2,    0.10,2,   2.378,2,   1.397,2,-999.000,1,    1.284,2,  -999.0,9,  -999.0,9,-999.0000,9,  -999.00,-999.000,9,-999.0000,9, -999.00,9, -999.00,9,  -999.0,9,  -999.0,-999.000,9,-999.000,  -999.0,9,-999.000,-999.0000, -999.00,  17.7472,  17.7654,2,20091214,       0623
318M20091121,        P06,      83,          3,         33,         33,2,20091214,       0346,   -32.4997,  -175.2602,       5775,    75.6,  16.9995,  35.5324,  35.5320,2,    241.1,2,   240.5,2,    0.51,2,    0.00,2,    0.00,2,    0.14,2,   2.428,2,   1.421,2,-999.000,1,    1.203,2,  -999.0,9,  2328.6,2,   7.9925,2,    25.00,-999.000,9,-999.0000,9, -999.00,9, -999.00,9,  -999.0,9,  -999.0,-999.000,9,-999.000,  -999.0,9,-999.000,-999.0000, -999.00,  16.9870,  17.0039,2,20091214,       0621
318M20091121,        P06,      83,          3,         32,         32,2,20091214,       0346,   -32.4997,  -175.2602,       5775,   101.1,  16.1384,  35.5271,  35.5247,2,    224.4,2,   224.2,2,    0.89,2,    2.89,2,    0.04,2,    0.31,2,   2.475,2,   1.436,2,-999.000,1,    1.142,2,  -999.0,9,  -999.0,9,-999.0000,9,  -999.00,-999.000,9,-999.0000,9, -999.00,9, -999.00,9,  -999.0,9,  -999.0,-999.000,9,-999.000,  -999.0,9,-999.000,-999.0000, -999.00,  16.1223,  16.1376,2,20091214,       0619
318M20091121,        P06,      83,          3,         31,         31,2,20091214,       0346,   -32.4997,  -175.2602,       5775,   150.7,  15.3299,  35.4371,  35.4528,3,    221.4,2,   223.4,2,    1.06,2,    4.23,2,    0.01,2,    0.40,2,   2.547,2,   1.470,2,-999.000,1,    1.193,2,  -999.0,9,  2324.8,2,   7.9330,2,    25.00,-999.000,9,-999.0000,9, -999.00,9, -999.00,9,  -999.0,9,  -999.0,-999.000,9,-999.000,  -999.0,9,-999.000,-999.0000, -999.00,  15.3067,  15.3294,2,20091214,       0616
318M20091121,        P06,      83,          3,         30,         30,2,20091214,       0346,   -32.4997,  -175.2602,       5775,   201.1,  14.4447,  35.3141,  35.3144,2,    219.1,2,   218.2,2,    1.65,2,    6.13,2,    0.01,2,    0.53,2,   2.597,2,   1.483,2,-999.000,1,    1.175,2,  -999.0,9,  -999.0,9,-999.0000,9,  -999.00,-999.000,9,-999.0000,9, -999.00,9, -999.00,9,  -999.0,9,  -999.0,-999.000,9,-999.000,  -999.0,9,-999.000,-999.0000, -999.00,  14.4149,  14.4475,2,20091214,       0613
318M20091121,        P06,      83,          3,         29,         29,2,20091214,       0346,   -32.4997,  -175.2602,       5775,   251.2,  13.4094,  35.1851,  35.1889,2,    205.0,2,   205.3,2,    2.65,2,    9.63,2,    0.01,2,    0.74,2,   2.633,2,   1.462,2,-999.000,1,    1.027,2,  -999.0,9,  2313.6,2,   7.8568,2,    25.00,-999.000,9,-999.0000,9, -999.00,9, -999.00,9,  -999.0,9,  -999.0,-999.000,9,-999.000,  -999.0,9,-999.000,-999.0000, -999.00,  13.3740,  13.4198,2,20091214,       0610
318M20091121,        P06,      83,          3,         28,         28,2,20091214,       0346,   -32.4997,  -175.2602,       5775,   299.3,  12.5758,  35.0803,  35.0735,2,    207.6,2,   205.2,2,    3.03,2,   11.41,2,    0.00,2,    0.85,2,   2.683,2,   1.473,2,-999.000,1,    0.999,2,  -999.0,9,  -999.0,9,-999.0000,9,  -999.00,-999.000,9,-999.0000,9, -999.00,9, -999.00,9,  -999.0,9,  -999.0,-999.000,9,-999.000,  -999.0,9,-999.000,-999.0000, -999.00,  12.5353,  12.5785,2,20091214,       0607
318M20091121,        P06,      83,          3,         27,         27,2,20091214,       0346,   -32.4997,  -175.2602,       5775,   352.1,  11.1490,  34.8946,  34.8980,2,    204.4,2,   204.0,2,    4.03,2,   14.59,2,    0.00,2,    1.05,2,   2.717,6,   1.437,6,-999.000,1,    0.696,6,  -999.0,9,  2299.6,2,   7.7950,2,    25.00,-999.000,9,-999.0000,9, -999.00,9, -999.00,9,  -999.0,9,  -999.0,-999.000,9,-999.000,  -999.0,9,-999.000,-999.0000, -999.00,  11.1049,  11.1495,2,20091214,       0604
318M20091121,        P06,      83,          3,         26,         26,2,20091214,       0346,   -32.4997,  -175.2602,       5775,   403.2,  10.1372,  34.7617,  34.7599,2,    206.6,2,   206.4,2,    5.02,2,   16.80,2,    0.00,2,    1.18,2,   2.747,2,   1.432,2,-999.000,1,    0.662,2,  -999.0,9,  -999.0,9,-999.0000,9,  -999.00,-999.000,9,-999.0000,9, -999.00,9, -999.00,9,  -999.0,9,  -999.0,-999.000,9,-999.000,  -999.0,9,-999.000,-999.0000, -999.00,  10.0897,  10.1366,2,20091214,       0602
318M20091121,        P06,      83,          3,         25,         25,2,20091214,       0346,   -32.4997,  -175.2602,       5775,   504.6,   8.4341,  34.5429,  34.5422,2,    215.8,2,   216.6,2,    5.61,2,   19.88,2,    0.00,2,    1.39,2,   2.807,2,   1.413,2,-999.000,1,    0.534,2,  -999.0,9,  2287.8,2,   7.7376,2,    25.00,-999.000,9,-999.0000,9, -999.00,9, -999.00,9,  -999.0,9,  -999.0,-999.000,9,-999.000,  -999.0,9,-999.000,-999.0000, -999.00,   8.3807,   8.4325,2,20091214,       0558
318M20091121,        P06,      83,          3,         24,         24,2,20091214,       0346,   -32.4997,  -175.2602,       5775,   602.7,   7.6646,  34.4774,  34.4772,2,    220.1,2,   221.4,2,    7.62,2,   21.70,2,    0.00,2,    1.51,2,   2.676,2,   1.346,2,-999.000,1,    0.352,2,  -999.0,9,  -999.0,9,-999.0000,9,  -999.00,-999.000,9,-999.0000,9, -999.00,9, -999.00,9,  -999.0,9,  -999.0,-999.000,9,-999.000,  -999.0,9,-999.000,-999.0000, -999.00,   7.6040,   7.6673,2,20091214,       0555
318M20091121,        P06,      83,          3,         23,         23,2,20091214,       0346,   -32.4997,  -175.2602,       5775,   703.6,   6.9730,  34.4128,  34.4123,2,    225.9,2,   224.5,2,    9.03,2,   23.25,2,    0.00,2,    1.61,2,   2.330,2,   1.138,2,-999.000,1,    0.299,2,  -999.0,9,  2284.2,2,   7.7175,2,    25.00,-999.000,9,-999.0000,9, -999.00,9, -999.00,9,  -999.0,9,  -999.0,-999.000,9,-999.000,  -999.0,9,-999.000,-999.0000, -999.00,   6.9055,   6.9731,2,20091214,       0552
318M20091121,        P06,      83,          3,         22,         22,2,20091214,       0346,   -32.4997,  -175.2602,       5775,   805.8,   6.4435,  34.3783,  34.3781,2,    220.2,2,   221.5,2,   11.87,2,   24.73,2,    0.00,2,    1.71,2,   1.828,2,   0.900,2,-999.000,1,    0.177,2,  -999.0,9,  -999.0,9,-999.0000,9,  -999.00,-999.000,9,-999.0000,9, -999.00,9, -999.00,9,  -999.0,9,  -999.0,-999.000,9,-999.000,  -999.0,9,-999.000,-999.0000, -999.00,   6.3688,   6.4428,2,20091214,       0549
318M20091121,        P06,      83,          3,         21,         21,2,20091214,       0346,   -32.4997,  -175.2602,       5775,   906.1,   5.6761,  34.3491,  34.3492,2,    212.6,2,   211.7,2,   17.99,2,   27.20,2,    0.00,2,    1.89,2,   1.096,2,   0.541,2,-999.000,1,        0,2,  -999.0,9,  2288.8,2,   7.6786,2,    25.00,-999.000,9,-999.0000,9, -999.00,9, -999.00,9,  -999.0,9,  -999.0,-999.000,9,-999.000,  -999.0,9,-999.000,-999.0000, -999.00,   5.5968,   5.6768,2,20091214,       0546
318M20091121,        P06,      83,          3,         20,         20,2,20091214,       0346,   -32.4997,  -175.2602,       5775,  1006.5,   4.9731,  34.3462,  34.3455,2,    201.6,2,   201.0,2,   26.18,2,   29.33,2,    0.00,2,    2.04,2,   0.635,2,   0.318,2,-999.000,1,        0,2,  -999.0,9,  2295.9,6,   7.6516,2,    25.00,-999.000,9,-999.0000,9, -999.00,9, -999.00,9,  -999.0,9,  -999.0,-999.000,9,-999.000,  -999.0,9,-999.000,-999.0000, -999.00,   4.8897,   4.9771,2,20091214,       0543
318M20091121,        P06,      83,          3,         19,         19,2,20091214,       0346,   -32.4997,  -175.2602,       5775,  1108.4,   4.4020,  34.3636,  34.3630,2,    191.6,2,   192.0,2,   35.23,2,   30.93,2,    0.00,2,    2.16,2,   0.379,2,   0.202,2,-999.000,1,        0,2,  -999.0,9,  2300.8,2,   7.6273,2,    25.00,-999.000,9,-999.0000,9, -999.00,9, -999.00,9,  -999.0,9,  -999.0,-999.000,9,-999.000,  -999.0,9,-999.000,-999.0000, -999.00,   4.3141,   4.4012,2,20091214,       0539
318M20091121,        P06,      83,          3,         18,         18,2,20091214,       0346,   -32.4997,  -175.2602,       5775,  1210.8,   3.8142,  34.3963,  34.3958,2,    184.0,2,   183.5,2,   45.98,2,   32.35,2,    0.00,2,    2.26,2,   0.198,2,   0.111,2,-999.000,1,        0,2,  -999.0,9,  -999.0,9,-999.0000,9,  -999.00,-999.000,9,-999.0000,9, -999.00,9, -999.00,9,  -999.0,9,  -999.0,-999.000,9,-999.000,  -999.0,9,-999.000,-999.0000, -999.00,   3.7226,   3.8130,2,20091214,       0536
318M20091121,        P06,      83,          3,         17,         17,2,20091214,       0346,   -32.4997,  -175.2602,       5775,  1311.8,   3.4554,  34.4319,  34.4310,2,    177.0,2,   176.8,2,   54.90,2,   33.08,2,    0.00,2,    2.33,2,   0.103,2,   0.060,2,-999.000,1,        0,2,  -999.0,9,  2322.6,2,   7.5948,2,    25.00,-999.000,9,-999.0000,9, -999.00,9, -999.00,9,  -999.0,9,  -999.0,-999.000,9,-999.000,  -999.0,9,-999.000,-999.0000, -999.00,   3.3587,   3.4529,2,20091214,       0532
318M20091121,        P06,      83,          3,         16,         16,2,20091214,       0346,   -32.4997,  -175.2602,       5775,  1412.0,   3.1732,  34.4720,  34.4725,2,    170.2,2,   170.9,2,   64.06,2,   33.57,2,    0.00,2,    2.37,2,   0.079,2,   0.054,2,-999.000,1,        0,2,  -999.0,9,  -999.0,9,-999.0000,9,  -999.00,-999.000,9,-999.0000,9, -999.00,9, -999.00,9,  -999.0,9,  -999.0,-999.000,9,-999.000,  -999.0,9,-999.000,-999.0000, -999.00,   3.0710,   3.1723,2,20091214,       0529
318M20091121,        P06,      83,          3,         15,         15,2,20091214,       0346,   -32.4997,  -175.2602,       5775,  1613.0,   2.7636,  34.5535,  34.5527,2,    159.5,2,   159.8,2,   84.17,2,   34.21,2,    0.00,2,    2.42,2,   0.019,2,   0.016,2,-999.000,1,        0,2,  -999.0,9,  -999.0,9,-999.0000,9,  -999.00,-999.000,9,-999.0000,9, -999.00,9, -999.00,9,  -999.0,9,  -999.0,-999.000,9,-999.000,  -999.0,9,-999.000,-999.0000, -999.00,   2.6492,   2.7644,2,20091214,       0524
318M20091121,        P06,      83,          3,         14,         14,2,20091214,       0346,   -32.4997,  -175.2602,       5775,  1816.9,   2.4925,  34.5984,  34.5978,2,    153.3,2,   153.8,2,   98.90,2,   34.55,2,    0.00,2,    2.45,2,   0.009,2,   0.008,2,-999.000,1,        0,2,  -999.0,9,  2371.7,2,   7.5770,2,    25.00,-999.000,9,-999.0000,9, -999.00,9, -999.00,9,  -999.0,9,  -999.0,-999.000,9,-999.000,  -999.0,9,-999.000,-999.0000, -999.00,   2.3644,   2.4929,2,20091214,       0519
318M20091121,        P06,      83,          3,         13,         13,2,20091214,       0346,   -32.4997,  -175.2602,       5775,  2020.1,   2.3154,  34.6221,  34.6224,2,    149.3,2,   149.8,2,  109.45,2,   34.99,2,    0.00,2,    2.48,2,   0.006,2,   0.007,2,-999.000,1,        0,2,  -999.0,9,  -999.0,9,-999.0000,9,  -999.00,-999.000,9,-999.0000,9, -999.00,9, -999.00,9,  -999.0,9,  -999.0,-999.000,9,-999.000,  -999.0,9,-999.000,-999.0000, -999.00,   2.1724,   2.3147,2,20091214,       0514
318M20091121,        P06,      83,          3,         12,         12,2,20091214,       0346,   -32.4997,  -175.2602,       5775,  2271.6,   2.1596,  34.6377,  34.6383,2,    147.9,2,   147.3,2,  116.85,2,   35.25,2,    0.00,2,    2.50,2,   0.006,2,   0.009,2,-999.000,1,        0,2,  -999.0,9,  2395.6,2,   7.5732,2,    25.00,-999.000,9,-999.0000,9, -999.00,9, -999.00,9,  -999.0,9,  -999.0,-999.000,9,-999.000,  -999.0,9,-999.000,-999.0000, -999.00,   1.9971,   2.1597,2,20091214,       0508
318M20091121,        P06,      83,          3,         11,         11,2,20091214,       0346,   -32.4997,  -175.2602,       5775,  2528.5,   2.0138,  34.6507,  34.6506,2,    147.6,2,   147.3,2,  122.98,2,   35.29,2,    0.00,2,    2.50,2,   0.007,2,   0.007,2,-999.000,1,        0,2,  -999.0,9,  -999.0,9,-999.0000,9,  -999.00,-999.000,9,-999.0000,9, -999.00,9, -999.00,9,  -999.0,9,  -999.0,-999.000,9,-999.000,  -999.0,9,-999.000,-999.0000, -999.00,   1.8306,   2.0136,2,20091214,       0502
318M20091121,        P06,      83,          3,         10,         10,2,20091214,       0346,   -32.4997,  -175.2602,       5775,  2785.8,   1.8868,  34.6633,  34.6630,2,    150.6,2,   150.2,2,  125.93,2,   35.19,2,    0.00,2,    2.49,2,   0.035,2,   0.024,2,-999.000,1,        0,2,  -999.0,9,  2403.9,2,   7.5775,2,    25.00,-999.000,9,-999.0000,9, -999.00,9, -999.00,9,  -999.0,9,  -999.0,-999.000,9,-999.000,  -999.0,9,-999.000,-999.0000, -999.00,   1.6821,   1.8869,2,20091214,       0456
318M20091121,        P06,      83,          3,          9,          9,2,20091214,       0346,   -32.4997,  -175.2602,       5775,  3040.0,   1.7718,  34.6789,  34.6789,2,    159.3,2,   160.4,2,  124.20,2,   34.50,2,    0.00,2,    2.43,2,   0.049,2,   0.033,2,-999.000,1,        0,2,  -999.0,9,  -999.0,9,-999.0000,9,  -999.00,-999.000,9,-999.0000,9, -999.00,9, -999.00,9,  -999.0,9,  -999.0,-999.000,9,-999.000,  -999.0,9,-999.000,-999.0000, -999.00,   1.5451,   1.7714,2,20091214,       0450
318M20091121,        P06,      83,          3,          8,          8,2,20091214,       0346,   -32.4997,  -175.2602,       5775,  3344.7,   1.6213,  34.7095,  34.7102,2,    180.2,2,   182.7,2,  110.82,2,   32.35,2,    0.00,2,    2.28,2,   0.025,2,   0.017,2,-999.000,1,        0,2,  -999.0,9,  -999.0,9,-999.0000,9,  -999.00,-999.000,9,-999.0000,9, -999.00,9, -999.00,9,  -999.0,9,  -999.0,-999.000,9,-999.000,  -999.0,9,-999.000,-999.0000, -999.00,   1.3677,   1.6210,2,20091214,       0444
318M20091121,        P06,      83,          3,          7,          7,2,20091214,       0346,   -32.4997,  -175.2602,       5775,  3651.0,   1.4342,  34.7214,  34.7216,2,    195.4,2,   196.5,2,  108.27,2,   31.42,2,    0.00,2,    2.21,2,   0.043,2,   0.027,2,-999.000,1,        0,2,  -999.0,9,  2368.2,2,   7.6133,2,    25.00,-999.000,9,-999.0000,9, -999.00,9, -999.00,9,  -999.0,9,  -999.0,-999.000,9,-999.000,  -999.0,9,-999.000,-999.0000, -999.00,   1.1539,   1.4337,2,20091214,       0437
318M20091121,        P06,      83,          3,          6,          6,2,20091214,       0346,   -32.4997,  -175.2602,       5775,  3958.2,   1.2490,  34.7185,  34.7185,2,    201.7,2,   201.1,2,  112.28,2,   31.42,2,    0.00,2,    2.20,2,   0.056,2,   0.035,2,-999.000,1,        0,2,  -999.0,9,  -999.0,9,-999.0000,9,  -999.00,-999.000,9,-999.0000,9, -999.00,9, -999.00,9,  -999.0,9,  -999.0,-999.000,9,-999.000,  -999.0,9,-999.000,-999.0000, -999.00,   0.9414,   1.2483,2,20091214,       0430
318M20091121,        P06,      83,          3,          5,          5,2,20091214,       0346,   -32.4997,  -175.2602,       5775,  4265.6,   1.1128,  34.7139,  34.7136,2,    204.9,2,   204.4,2,  116.28,2,   31.52,2,    0.00,2,    2.21,2,   0.063,2,   0.039,2,-999.000,1,        0,2,  -999.0,9,  -999.0,9,-999.0000,9,  -999.00,-999.000,9,-999.0000,9, -999.00,9, -999.00,9,  -999.0,9,  -999.0,-999.000,9,-999.000,  -999.0,9,-999.000,-999.0000, -999.00,   0.7758,   1.1131,2,20091214,       0422
318M20091121,        P06,      83,          3,          4,          4,2,20091214,       0346,   -32.4997,  -175.2602,       5775,  4573.2,   1.0584,  34.7109,  34.7106,2,    206.2,2,   206.0,2,  118.81,2,   31.62,2,    0.00,2,    2.21,2,   0.069,2,   0.038,2,-999.000,1,        0,2,  -999.0,9,  2366.4,2,   7.6151,2,    25.00,-999.000,9,-999.0000,9, -999.00,9, -999.00,9,  -999.0,9,  -999.0,-999.000,9,-999.000,  -999.0,9,-999.000,-999.0000, -999.00,   0.6886,   1.0583,2,20091214,       0415
318M20091121,        P06,      83,          3,          3,          3,2,20091214,       0346,   -32.4997,  -175.2602,       5775,  4983.1,   1.0455,  34.7088,  34.7081,2,    207.0,2,   207.1,2,  120.50,2,   31.67,2,    0.00,2,    2.22,2,   0.071,2,   0.044,2,-999.000,1,        0,2,  -999.0,9,  -999.0,9,-999.0000,9,  -999.00,-999.000,9,-999.0000,9, -999.00,9, -999.00,9,  -999.0,9,  -999.0,-999.000,9,-999.000,  -999.0,9,-999.000,-999.0000, -999.00,   0.6285,   1.0456,2,20091214,       0407
318M20091121,        P06,      83,          3,          2,          2,2,20091214,       0346,   -32.4997,  -175.2602,       5775,  5396.8,   1.0776,  34.7080,  34.7077,2,    206.1,2,   206.4,2,  121.33,2,   31.67,2,    0.00,2,    2.22,2,   0.082,2,   0.047,2,-999.000,1,        0,2,  -999.0,9,  -999.0,9,-999.0000,9,  -999.00,-999.000,9,-999.0000,9, -999.00,9, -999.00,9,  -999.0,9,  -999.0,-999.000,9,-999.000,  -999.0,9,-999.000,-999.0000, -999.00,   0.6091,   1.0778,2,20091214,       0358
318M20091121,        P06,      83,          3,          1,          1,2,20091214,       0346,   -32.4997,  -175.2602,       5775,  5832.5,   1.1313,  34.7076,  34.7075,2,    206.7,2,   206.6,2,  121.54,2,   31.77,2,    0.00,2,    2.22,2,   0.097,2,   0.054,2,-999.000,1,        0,2,  -999.0,9,  2370.1,6,   7.6157,6,    25.00,-999.000,9,-999.0000,9, -999.00,9, -999.00,9,  -999.0,9,  -999.0,-999.000,9,-999.000,  -999.0,9,-999.000,-999.0000, -999.00,   0.6055,   1.1313,2,20091214,       0346