BOTTLE,20220818CCHSIOAMB
EXPOCODE,SECT_ID,STNNBR,CASTNO,SAMPNO,BTLNBR,BTLNBR_FLAG_W,DATE,TIME,LATITUDE,LONGITUDE,DEPTH,CTDPRS,CTDTMP,CTDSAL,SALNTY,SALNTY_FLAG_W,CTDOXY,CTDOXY_FLAG_W,OXYGEN,OXYGEN_FLAG_W,SILCAT,SILCAT_FLAG_W,NITRAT,NITRAT_FLAG_W,NITRIT,NITRIT_FLAG_W,PHSPHT,PHSPHT_FLAG_W,CFC-11,CFC-11_FLAG_W,CFC-12,CFC-12_FLAG_W,CFC113,CFC113_FLAG_W,SF6,SF6_FLAG_W,TCARBN,TCARBN_FLAG_W,ALKALI,ALKALI_FLAG_W,PH_SWS,PH_SWS_FLAG_W,PH_TMP,TRITUM,TRITUM_FLAG_W,HELIUM,HELIUM_FLAG_W,DELHE3,DELHE3_FLAG_W,DELC13,DELC13_FLAG_W,DELC14,DELC14_FLAG_W,C14ERR,NEON,NEON_FLAG_W,NEONER,DOC,DOC_FLAG_W,TRITER,HELIER,DELHER,THETA,SBE35,SBE35_FLAG_W,BTL_DATE,BTL_TIME
,,,,,,,,,,,METERS,DBAR,ITS-90,PSS-78,PSS-78,,UMOL/KG,,UMOL/KG,,UMOL/KG,,UMOL/KG,,UMOL/KG,,UMOL/KG,,PMOL/KG,,PMOL/KG,,PMOL/KG,,FMOL/KG,,UMOL/KG,,UMOL/KG,,,,DEG C,TU,,NMOL/KG,,PERCNT,,/MILLE,,/MILLE,,/MILLE,NMOL/KG,,NMOL/KG,UMOL/KG,,TU,NMOL/KG,PERCNT,DEG C,ITS-90,,,
318M20091121,        P06,      11,          3,         36,         36,2,20091125,       0424,   -30.0800,   155.0000,       4701,     4.7,  24.8056,  35.4369,  35.4358,2,    211.9,2,   212.5,2,    0.51,2,    0.09,2,    0.00,2,    0.10,2,   1.756,2,   1.074,2,   0.163,2,    1.306,2,  1994.0,6,  2323.2,6,   8.0851,2,    25.00,-999.000,9,-999.0000,9, -999.00,9, -999.00,9,  -999.0,9,  -999.0,-999.000,9,-999.000,  -999.0,9,-999.000,-999.0000, -999.00,  24.8046,  24.7945,2,20091125,       0712
318M20091121,        P06,      11,          3,         35,         35,2,20091125,       0424,   -30.0800,   155.0000,       4701,    26.8,  23.6568,  35.4818,  35.4765,2,    217.4,2,   217.8,2,    0.47,2,    0.07,2,    0.00,2,    0.08,2,   1.823,2,   1.123,2,   0.165,2,    1.243,2,  -999.0,9,  -999.0,9,-999.0000,9,  -999.00,-999.000,9,-999.0000,9, -999.00,9, -999.00,9,  -999.0,9,  -999.0,-999.000,9,-999.000,  -999.0,9,-999.000,-999.0000, -999.00,  23.6512,  23.6884,3,20091125,       0709
318M20091121,        P06,      11,          3,         34,         34,2,20091125,       0424,   -30.0800,   155.0000,       4701,    51.4,  22.1532,  35.4985,  35.4978,2,    226.8,2,   225.3,2,    0.44,2,    0.11,2,    0.00,2,    0.08,2,   1.822,2,   1.099,2,   0.160,2,    1.064,2,  -999.0,9,  2324.7,2,   8.0731,6,    25.00,-999.000,9,-999.0000,9, -999.00,9, -999.00,9,  -999.0,9,  -999.0,-999.000,9,-999.000,  -999.0,9,-999.000,-999.0000, -999.00,  22.1430,  22.1531,2,20091125,       0707
318M20091121,        P06,      11,          3,         33,         33,2,20091125,       0424,   -30.0800,   155.0000,       4701,    76.9,  21.5277,  35.4847,  35.4840,2,    223.0,2,   222.8,2,    0.40,2,    0.10,2,    0.00,2,    0.09,2,   1.871,2,   1.134,2,   0.162,2,     1.04,2,  -999.0,9,  -999.0,9,-999.0000,9,  -999.00,-999.000,9,-999.0000,9, -999.00,9, -999.00,9,  -999.0,9,  -999.0,-999.000,9,-999.000,  -999.0,9,-999.000,-999.0000, -999.00,  21.5127,  21.5276,2,20091125,       0705
318M20091121,        P06,      11,          3,         32,         32,2,20091125,       0424,   -30.0800,   155.0000,       4701,   102.0,  20.6724,  35.5168,  35.5140,2,    213.3,2,   210.1,2,    0.36,2,    0.34,2,    0.07,2,    0.16,2,   1.983,2,   1.216,2,   0.158,2,    1.134,2,  -999.0,9,  2320.8,2,   8.0365,2,    25.00,-999.000,9,-999.0000,9, -999.00,9, -999.00,9,  -999.0,9,  -999.0,-999.000,9,-999.000,  -999.0,9,-999.000,-999.0000, -999.00,  20.6531,  20.6797,2,20091125,       0702
318M20091121,        P06,      11,          3,         31,         31,2,20091125,       0424,   -30.0800,   155.0000,       4701,   151.5,  19.8129,  35.5964,  35.5980,2,    183.1,2,   183.3,2,    0.95,2,    4.20,2,    0.01,2,    0.38,2,   2.057,2,   1.225,2,   0.101,2,    0.954,2,  -999.0,9,  -999.0,9,-999.0000,9,  -999.00,-999.000,9,-999.0000,9, -999.00,9, -999.00,9,  -999.0,9,  -999.0,-999.000,9,-999.000,  -999.0,9,-999.000,-999.0000, -999.00,  19.7850,  19.8116,2,20091125,       0659
318M20091121,        P06,      11,          3,         30,         30,2,20091125,       0424,   -30.0800,   155.0000,       4701,   203.0,  18.8831,  35.6171,  35.6157,2,    183.8,2,   184.0,2,    1.32,2,    5.00,2,    0.00,2,    0.44,2,   2.121,2,   1.267,2,   0.066,2,    0.937,2,  -999.0,9,  2328.1,2,   7.9621,2,    25.00,-999.000,9,-999.0000,9, -999.00,9, -999.00,9,  -999.0,9,  -999.0,-999.000,9,-999.000,  -999.0,9,-999.000,-999.0000, -999.00,  18.8469,  18.8823,2,20091125,       0656
318M20091121,        P06,      11,          3,         29,         29,2,20091125,       0424,   -30.0800,   155.0000,       4701,   253.3,  17.8098,  35.5734,  35.5725,2,    183.4,2,   182.5,2,    1.70,2,    6.33,2,    0.00,2,    0.53,2,   2.203,2,   1.291,2,   0.055,2,    0.953,2,  -999.0,9,  -999.0,9,-999.0000,9,  -999.00,-999.000,9,-999.0000,9, -999.00,9, -999.00,9,  -999.0,9,  -999.0,-999.000,9,-999.000,  -999.0,9,-999.000,-999.0000, -999.00,  17.7664,  17.8092,2,20091125,       0653
318M20091121,        P06,      11,          3,         28,         28,2,20091125,       0424,   -30.0800,   155.0000,       4701,   302.6,  16.6653,  35.4921,  35.4930,2,    184.3,2,   188.5,2,    1.87,2,    7.14,2,    0.00,2,    0.59,2,   2.265,2,   1.323,2,   0.077,2,    1.037,2,  -999.0,9,  2322.3,2,   7.9239,2,    25.00,-999.000,9,-999.0000,9, -999.00,9, -999.00,9,  -999.0,9,  -999.0,-999.000,9,-999.000,  -999.0,9,-999.000,-999.0000, -999.00,  16.6157,  16.6652,2,20091125,       0650
318M20091121,        P06,      11,          3,         27,         27,2,20091125,       0424,   -30.0800,   155.0000,       4701,   352.9,  15.4568,  35.3920,  35.3905,2,    186.6,2,   187.6,2,    2.66,2,    8.98,2,    0.00,2,    0.71,2,   2.313,6,   1.322,6,   0.064,2,   0.8425,6,  -999.0,9,  -999.0,9,-999.0000,9,  -999.00,-999.000,9,-999.0000,9, -999.00,9, -999.00,9,  -999.0,9,  -999.0,-999.000,9,-999.000,  -999.0,9,-999.000,-999.0000, -999.00,  15.4018,  15.4488,2,20091125,       0648
318M20091121,        P06,      11,          3,         26,         26,2,20091125,       0424,   -30.0800,   155.0000,       4701,   402.5,  14.0784,  35.2663,  35.2691,2,    191.7,2,   190.2,2,    3.44,2,   10.98,2,    0.00,2,    0.84,2,   2.394,2,   1.331,2,   0.082,2,    0.803,2,  -999.0,9,  2319.4,2,   7.8542,2,    25.00,-999.000,9,-999.0000,9, -999.00,9, -999.00,9,  -999.0,9,  -999.0,-999.000,9,-999.000,  -999.0,9,-999.000,-999.0000, -999.00,  14.0195,  14.0784,2,20091125,       0645
318M20091121,        P06,      11,          3,         25,         25,2,20091125,       0424,   -30.0800,   155.0000,       4701,   454.2,  12.9027,  35.1488,  35.1454,2,    196.8,2,   193.8,2,    4.44,2,   12.79,2,    0.00,2,    0.97,2,   2.429,2,   1.354,2,   0.089,2,     0.86,2,  -999.0,9,  -999.0,9,-999.0000,9,  -999.00,-999.000,9,-999.0000,9, -999.00,9, -999.00,9,  -999.0,9,  -999.0,-999.000,9,-999.000,  -999.0,9,-999.000,-999.0000, -999.00,  12.8398,  12.9017,2,20091125,       0642
318M20091121,        P06,      11,          3,         24,         24,2,20091125,       0424,   -30.0800,   155.0000,       4701,   501.6,  11.9475,  35.0677,  35.0689,2,    198.7,2,   201.1,2,    4.82,2,   13.83,2,    0.00,2,    1.04,2,   2.539,2,   1.390,2,   0.107,2,    1.107,2,  -999.0,9,  2325.8,3,   7.8147,2,    25.00,-999.000,9,-999.0000,9, -999.00,9, -999.00,9,  -999.0,9,  -999.0,-999.000,9,-999.000,  -999.0,9,-999.000,-999.0000, -999.00,  11.8814,  11.9449,2,20091125,       0638
318M20091121,        P06,      11,          3,         23,         23,2,20091125,       0424,   -30.0800,   155.0000,       4701,   603.5,   9.9185,  34.7874,  34.7870,2,    200.1,2,   200.7,2,    7.27,2,   18.42,2,    0.00,2,    1.32,2,   2.410,2,   1.281,2,   0.109,2,    0.596,2,  -999.0,9,  -999.0,9,-999.0000,9,  -999.00,-999.000,9,-999.0000,9, -999.00,9, -999.00,9,  -999.0,9,  -999.0,-999.000,9,-999.000,  -999.0,9,-999.000,-999.0000, -999.00,   9.8476,   9.9182,2,20091125,       0634
318M20091121,        P06,      11,          3,         22,         22,2,20091125,       0424,   -30.0800,   155.0000,       4701,   704.0,   8.3121,  34.5946,  34.5930,2,    199.1,2,   198.8,2,   11.58,2,   22.30,2,    0.00,2,    1.58,2,   1.925,2,   0.982,2,   0.088,2,    0.334,2,  -999.0,9,  -999.0,9,-999.0000,9,  -999.00,-999.000,9,-999.0000,9, -999.00,9, -999.00,9,  -999.0,9,  -999.0,-999.000,9,-999.000,  -999.0,9,-999.000,-999.0000, -999.00,   8.2373,   8.3115,2,20091125,       0631
318M20091121,        P06,      11,          3,         21,         21,2,20091125,       0424,   -30.0800,   155.0000,       4701,   805.3,   7.2966,  34.5097,  34.5090,2,    196.5,2,   196.5,2,   16.53,2,   24.84,2,    0.00,2,    1.75,2,   1.353,2,   0.679,2,   0.052,2,    0.181,2,  -999.0,9,  2294.9,2,   7.6946,2,    25.00,-999.000,9,-999.0000,9, -999.00,9, -999.00,9,  -999.0,9,  -999.0,-999.000,9,-999.000,  -999.0,9,-999.000,-999.0000, -999.00,   7.2167,   7.2970,2,20091125,       0627
318M20091121,        P06,      11,          3,         20,         20,2,20091125,       0424,   -30.0800,   155.0000,       4701,   905.9,   6.4124,  34.4611,  34.4594,2,    192.3,2,   193.1,2,   23.16,2,   26.95,2,    0.00,2,    1.91,2,   0.920,2,   0.463,2,   0.035,2,    0.087,2,  -999.0,9,  -999.0,9,-999.0000,9,  -999.00,-999.000,9,-999.0000,9, -999.00,9, -999.00,9,  -999.0,9,  -999.0,-999.000,9,-999.000,  -999.0,9,-999.000,-999.0000, -999.00,   6.3279,   6.4062,2,20091125,       0623
318M20091121,        P06,      11,          3,         19,         19,2,20091125,       0424,   -30.0800,   155.0000,       4701,  1006.0,   5.6258,  34.4464,  34.4453,2,    186.6,2,   186.8,2,   32.74,2,   28.93,2,    0.00,2,    2.04,2,   0.582,2,   0.295,2,   0.023,2,        0,2,  -999.0,9,  2302.3,2,   7.6543,2,    25.00,-999.000,9,-999.0000,9, -999.00,9, -999.00,9,  -999.0,9,  -999.0,-999.000,9,-999.000,  -999.0,9,-999.000,-999.0000, -999.00,   5.5373,   5.6245,2,20091125,       0619
318M20091121,        P06,      11,          3,         18,         18,2,20091125,       0424,   -30.0800,   155.0000,       4701,  1105.7,   4.9692,  34.4564,  34.4560,2,   -999.0,9,  -999.0,5,   43.60,2,   30.52,2,    0.00,2,    2.16,2,   0.358,2,   0.189,2,   0.012,2,        0,2,  -999.0,9,  -999.0,9,-999.0000,9,  -999.00,-999.000,9,-999.0000,9, -999.00,9, -999.00,9,  -999.0,9,  -999.0,-999.000,9,-999.000,  -999.0,9,-999.000,-999.0000, -999.00,   4.8766,   4.9694,2,20091125,       0615
318M20091121,        P06,      11,          3,         17,         17,2,20091125,       0424,   -30.0800,   155.0000,       4701,  1209.0,   4.3626,  34.4846,  34.4838,2,    171.0,2,   170.5,2,   57.03,2,   32.01,2,    0.00,2,    2.27,2,   0.190,2,   0.107,2,   0.002,2,        0,2,  -999.0,9,  -999.0,9,-999.0000,9,  -999.00,-999.000,9,-999.0000,9, -999.00,9, -999.00,9,  -999.0,9,  -999.0,-999.000,9,-999.000,  -999.0,9,-999.000,-999.0000, -999.00,   4.2659,   4.3624,2,20091125,       0611
318M20091121,        P06,      11,          3,         16,         16,2,20091125,       0424,   -30.0800,   155.0000,       4701,  1309.0,   3.9282,  34.5117,  34.5105,2,    163.7,2,   163.2,2,   68.20,2,   33.02,2,    0.00,2,    2.35,2,   0.106,2,   0.062,2,   0.000,2,        0,2,  -999.0,9,  2338.7,6,   7.6026,6,    25.00,-999.000,9,-999.0000,9, -999.00,9, -999.00,9,  -999.0,9,  -999.0,-999.000,9,-999.000,  -999.0,9,-999.000,-999.0000, -999.00,   3.8268,   3.9315,2,20091125,       0606
318M20091121,        P06,      11,          3,         15,         15,2,20091125,       0424,   -30.0800,   155.0000,       4701,  1410.9,   3.5612,  34.5389,  34.5370,2,    157.2,2,   157.2,2,   77.91,2,   33.89,2,    0.00,2,    2.41,2,   0.057,2,   0.036,2,   0.004,2,        0,2,  -999.0,9,  -999.0,9,-999.0000,9,  -999.00,-999.000,9,-999.0000,9, -999.00,9, -999.00,9,  -999.0,9,  -999.0,-999.000,9,-999.000,  -999.0,9,-999.000,-999.0000, -999.00,   3.4547,   3.5615,2,20091125,       0602
318M20091121,        P06,      11,          3,         14,         14,2,20091125,       0424,   -30.0800,   155.0000,       4701,  1511.7,   3.2644,  34.5623,  34.5620,2,    152.0,2,   152.8,2,   85.73,2,   34.46,2,    0.00,2,    2.46,2,   0.034,2,   0.022,2,   0.000,2,        0,2,  -999.0,9,  -999.0,9,-999.0000,9,  -999.00,-999.000,9,-999.0000,9, -999.00,9, -999.00,9,  -999.0,9,  -999.0,-999.000,9,-999.000,  -999.0,9,-999.000,-999.0000, -999.00,   3.1526,   3.2643,2,20091125,       0559
318M20091121,        P06,      11,          3,         13,         13,2,20091125,       0424,   -30.0800,   155.0000,       4701,  1612.3,   2.9753,  34.5888,  34.5874,2,    152.0,2,   152.4,2,   91.01,2,   34.70,2,    0.00,2,    2.47,2,   0.025,2,   0.017,2,   0.005,2,        0,2,  -999.0,9,  2365.8,2,   7.5815,2,    25.00,-999.000,9,-999.0000,9, -999.00,9, -999.00,9,  -999.0,9,  -999.0,-999.000,9,-999.000,  -999.0,9,-999.000,-999.0000, -999.00,   2.8583,   2.9784,2,20091125,       0555
318M20091121,        P06,      11,          3,         12,         12,2,20091125,       0424,   -30.0800,   155.0000,       4701,  1813.1,   2.5545,  34.6343,  34.6326,2,    157.0,2,   157.0,2,   95.87,2,   34.39,2,    0.00,2,    2.45,2,   0.018,2,   0.011,2,   0.003,2,        0,2,  -999.0,9,  -999.0,9,-999.0000,9,  -999.00,-999.000,9,-999.0000,9, -999.00,9, -999.00,9,  -999.0,9,  -999.0,-999.000,9,-999.000,  -999.0,9,-999.000,-999.0000, -999.00,   2.4258,   2.5558,2,20091125,       0550
318M20091121,        P06,      11,          3,         11,         11,2,20091125,       0424,   -30.0800,   155.0000,       4701,  2019.2,   2.3283,  34.6648,  34.6645,2,    164.4,2,   164.1,2,   96.26,2,   33.81,2,    0.00,2,    2.40,2,   0.009,2,   0.008,2,   0.000,2,        0,2,  -999.0,9,  -999.0,9,-999.0000,9,  -999.00,-999.000,9,-999.0000,9, -999.00,9, -999.00,9,  -999.0,9,  -999.0,-999.000,9,-999.000,  -999.0,9,-999.000,-999.0000, -999.00,   2.1851,   2.3283,2,20091125,       0545
318M20091121,        P06,      11,          3,         10,         10,2,20091125,       0424,   -30.0800,   155.0000,       4701,  2274.8,   2.1015,  34.6979,  34.6974,2,    175.2,2,   174.9,2,   95.17,2,   32.87,2,    0.00,2,    2.32,2,   0.012,2,   0.008,2,   0.000,2,        0,2,  -999.0,9,  -999.0,9,-999.0000,9,  -999.00,-999.000,9,-999.0000,9, -999.00,9, -999.00,9,  -999.0,9,  -999.0,-999.000,9,-999.000,  -999.0,9,-999.000,-999.0000, -999.00,   1.9395,   2.1020,2,20091125,       0538
318M20091121,        P06,      11,          3,          9,          9,2,20091125,       0424,   -30.0800,   155.0000,       4701,  2526.9,   1.9087,  34.7181,  34.7172,2,    181.7,2,   182.1,2,   97.69,2,   32.28,2,    0.00,2,    2.27,2,   0.011,2,   0.008,2,   0.003,2,        0,2,  -999.0,9,  2366.6,2,   7.6081,2,    25.00,-999.000,9,-999.0000,9, -999.00,9, -999.00,9,  -999.0,9,  -999.0,-999.000,9,-999.000,  -999.0,9,-999.000,-999.0000, -999.00,   1.7274,   1.9090,2,20091125,       0531
318M20091121,        P06,      11,          3,          8,          8,2,20091125,       0424,   -30.0800,   155.0000,       4701,  2780.8,   1.6552,  34.7243,  34.7245,2,    187.4,2,   187.6,2,  103.62,2,   32.17,2,    0.00,2,    2.26,2,   0.006,2,   0.006,2,   0.000,2,        0,2,  -999.0,9,  -999.0,9,-999.0000,9,  -999.00,-999.000,9,-999.0000,9, -999.00,9, -999.00,9,  -999.0,9,  -999.0,-999.000,9,-999.000,  -999.0,9,-999.000,-999.0000, -999.00,   1.4555,   1.6550,2,20091125,       0525
318M20091121,        P06,      11,          3,          7,          7,2,20091125,       0424,   -30.0800,   155.0000,       4701,  3040.5,   1.4077,  34.7218,  34.7214,2,    191.0,2,   191.9,2,  110.00,2,   32.31,2,    0.00,2,    2.27,2,   0.006,2,   0.004,2,   0.002,2,        0,2,  -999.0,9,  2373.0,2,   7.6159,2,    25.00,-999.000,9,-999.0000,9, -999.00,9, -999.00,9,  -999.0,9,  -999.0,-999.000,9,-999.000,  -999.0,9,-999.000,-999.0000, -999.00,   1.1888,   1.4075,2,20091125,       0517
318M20091121,        P06,      11,          3,          6,          6,2,20091125,       0424,   -30.0800,   155.0000,       4701,  3342.1,   1.2499,  34.7189,  34.7194,2,    194.0,2,   194.1,2,  114.24,2,   32.44,2,    0.00,2,    2.28,2,   0.007,2,   0.006,2,   0.000,2,        0,2,  -999.0,9,  -999.0,9,-999.0000,9,  -999.00,-999.000,9,-999.0000,9, -999.00,9, -999.00,9,  -999.0,9,  -999.0,-999.000,9,-999.000,  -999.0,9,-999.000,-999.0000, -999.00,   1.0055,   1.2502,2,20091125,       0509
318M20091121,        P06,      11,          3,          5,          5,2,20091125,       0424,   -30.0800,   155.0000,       4701,  3648.0,   1.1784,  34.7167,  34.7164,2,    195.2,2,   196.1,2,  116.56,2,   32.54,2,    0.00,2,    2.30,2,   0.013,2,   0.010,2,   0.000,2,        0,2,  -999.0,9,  -999.0,9,-999.0000,9,  -999.00,-999.000,9,-999.0000,9, -999.00,9, -999.00,9,  -999.0,9,  -999.0,-999.000,9,-999.000,  -999.0,9,-999.000,-999.0000, -999.00,   0.9051,   1.1782,2,20091125,       0501
318M20091121,        P06,      11,          3,          4,          4,2,20091125,       0424,   -30.0800,   155.0000,       4701,  3957.2,   1.1588,  34.7158,  34.7141,2,    196.1,2,   195.9,2,  118.03,2,   32.58,2,    0.00,2,    2.30,2,   0.013,2,   0.009,2,   0.000,2,        0,2,  -999.0,9,  2381.0,2,   7.6232,2,    25.00,-999.000,9,-999.0000,9, -999.00,9, -999.00,9,  -999.0,9,  -999.0,-999.000,9,-999.000,  -999.0,9,-999.000,-999.0000, -999.00,   0.8538,   1.1590,2,20091125,       0452
318M20091121,        P06,      11,          3,          3,          3,2,20091125,       0424,   -30.0800,   155.0000,       4701,  4264.8,   1.1721,  34.7150,  34.7148,2,    196.2,2,   196.2,2,  118.63,2,   32.62,2,    0.00,2,    2.30,2,   0.017,2,   0.012,2,   0.000,2,        0,2,  -999.0,9,  -999.0,9,-999.0000,9,  -999.00,-999.000,9,-999.0000,9, -999.00,9, -999.00,9,  -999.0,9,  -999.0,-999.000,9,-999.000,  -999.0,9,-999.000,-999.0000, -999.00,   0.8334,   1.1719,2,20091125,       0442
318M20091121,        P06,      11,          3,          2,          2,2,20091125,       0424,   -30.0800,   155.0000,       4701,  4522.4,   1.1910,  34.7147,  34.7136,2,    196.2,2,   196.3,2,  119.02,2,   32.66,2,    0.00,2,    2.29,2,   0.020,2,   0.014,2,   0.000,2,        0,2,  -999.0,9,  -999.0,9,-999.0000,9,  -999.00,-999.000,9,-999.0000,9, -999.00,9, -999.00,9,  -999.0,9,  -999.0,-999.000,9,-999.000,  -999.0,9,-999.000,-999.0000, -999.00,   0.8228,   1.1910,2,20091125,       0434
318M20091121,        P06,      11,          3,          1,          1,2,20091125,       0424,   -30.0800,   155.0000,       4701,  4776.5,   1.2178,  34.7144,  34.7142,2,    196.3,2,   196.5,2,  118.99,2,   32.65,2,    0.00,2,    2.30,2,   0.022,2,   0.015,2,   0.004,2,        0,2,  -999.0,9,  2384.9,6,   7.6247,6,    25.00,-999.000,9,-999.0000,9, -999.00,9, -999.00,9,  -999.0,9,  -999.0,-999.000,9,-999.000,  -999.0,9,-999.000,-999.0000, -999.00,   0.8194,   1.2175,2,20091125,       0424