BOTTLE,20220818CCHSIOAMB
# Copied DATE/TIME to BTL_DATE/BTL_TIME, set DATE/TIME to deepest bottle value
#BOTTLE,20211115CCHSIORKP
# Original header:
# Original header:
# Changed all fill flags to 9
# removed leg 2 stations 127 - 250
# changed flag to 9 for fill value at 73-2-19-19, 122-1-7-7, and 122-1-5-37 for DELC14
# BOTTLE,20160211PRINUNIVRMK
# 12/17/15 revised H3 data from Jenkins 
# 9/18/14 Added Jenkins tritium data 
# 9/17/14 Added Jenkins helium and neon data after averaging one duplicate 
# BOTTLE,20120509CCHDOSIOCBG 
# code : Justin Fields merge_exchange.rb  
# original HYD file: /data/co2clivar/pacific/p06/p06_318M20091121/original/2012.05.09_DOC_cberys/processing/exchange/orig_hy1.csv  2012-05-09 
#  merged DOC  
# BOTTLE,20110720CCHDOSIOCBG 
#  CHLORA units changed from 'UG/KG' to 'UGM/L' 
# BOTTLE,20110718CCHDOSIOCBG 
# code : Justin Fields merge_exchange.rb  
# original HYD file: /data/co2clivar/pacific/p06/p06_318M20091121/original/2011.07.18_talk-ph_cberys/original_hy1.csv  2011-07-18 
#  merged TCARBN  
# BOTTLE,20110610CCHDOSIOCBG 
# code : Justin Fields merge_exchange.rb 
# original HYD file: /data/co2clivar/pacific/p06/p06_318M20091121/original/201106006_p06_2009_ph-cfc_merge_cberys/p06_original_merged_hy1.csv  2011-06- 
#  merged ALKALI, PH, SF6, CFC-12, CFC-11  
# BOTTLE,20100913CCHDOSIOCBG 
# code: copy_exchange_bot.rb (J. Fields) 
# citations added by A. Barna 
# BOTTLE,20100308DBK 
# BOTTLE,20100210ODF 
#  Data provided by: 
#  PARAMETER/PROGRAM        Affiliation    PI               email 
#  -----------------------  -------------  ---------------  ------------------------------- 
#  CTDO/Rosette, NUTs, O2,  UCSD/SIO       James H. Swift   jswift@ucsd.edu 
#    SAL, Data Processing 
#  CO2-Alkalinity, pH       UM/RSMAS       Frank Millero    fmillero@rsmas.miami.edu 
#  CO2-DIC/Underway pCO2    NOAA/AOML      Rik Wanninkhof   Rik.Wanninkhof@noaa.gov 
#  CFCs                     UM/RSMAS       Rana Fine        rfine@rsmas.miami.edu 
#                           U. Washington  Mark War         nermwarner@ocean.washington.edu 
#  Helium/Tritium           WHOI           William Jenkins  wjenkins@whoi.edu 
#  DOC/TDN                  UM/RSMAS       Craig Carlson    carlson@lifesci.ucsb.edu 
#  13C/14C                  WHOI           Ann McNichol     amcnichol@whoi.edu 
#                           Princeton      Robert Key       key@Princeton.EDU 
#  Trace Elements           UHawaii        Chris Measures   chrism@soest.hawaii.edu 
#    (Leg 1 only)           FSU            Bill Landing     landing@ocean.fsu.edu 
#  ADCP/LADCP               UHawaii        Eric Firing      efiring@soest.hawaii.edu 
#  APEX and Iridium Floats  CSIRO          Anne Thresher    Ann.Thresher@csiro.au 
#  Transmissometer          TAMU           Wilf Gardner     wgardner@tamu.edu 
#  CDOM                     UCSB           Norm Nelson      norm@icess.ucsb.edu 
#                           UCSB           Craig Carlson    carlson@lifesci.ucsb.edu 
#  Isotopic Composition of  U. Mass.       Mark Altabet     maltabet@umassd.edu 
#    Nitrate 
#  Following American Geophysical Union recommendations, 
#  the data should be cited as: data provider(s), cruise name  
#  or cruise ID, data file name(s) CLIVAR and Carbon Hydrographic 
#  Data Office, La Jolla, CA USA," and data file date. For further 
#  information", please contact one of the parties listed above or 
#  cchdo@ucsd.edu. Users are also requested to acknowledge the 
#  NSF/NOAA-funded U.S. Repeat Hydrography Program in publications 
#  resulting from their use. 
EXPOCODE,SECT_ID,STNNBR,CASTNO,SAMPNO,BTLNBR,BTLNBR_FLAG_W,DATE,TIME,LATITUDE,LONGITUDE,DEPTH,CTDPRS,CTDTMP,CTDSAL,SALNTY,SALNTY_FLAG_W,CTDOXY,CTDOXY_FLAG_W,OXYGEN,OXYGEN_FLAG_W,SILCAT,SILCAT_FLAG_W,NITRAT,NITRAT_FLAG_W,NITRIT,NITRIT_FLAG_W,PHSPHT,PHSPHT_FLAG_W,CFC-11,CFC-11_FLAG_W,CFC-12,CFC-12_FLAG_W,CFC113,CFC113_FLAG_W,SF6,SF6_FLAG_W,TCARBN,TCARBN_FLAG_W,ALKALI,ALKALI_FLAG_W,PH_SWS,PH_SWS_FLAG_W,PH_TMP,TRITUM,TRITUM_FLAG_W,HELIUM,HELIUM_FLAG_W,DELHE3,DELHE3_FLAG_W,DELC13,DELC13_FLAG_W,DELC14,DELC14_FLAG_W,C14ERR,NEON,NEON_FLAG_W,NEONER,DOC,DOC_FLAG_W,TRITER,HELIER,DELHER,THETA,SBE35,SBE35_FLAG_W,BTL_DATE,BTL_TIME
,,,,,,,,,,,METERS,DBAR,ITS-90,PSS-78,PSS-78,,UMOL/KG,,UMOL/KG,,UMOL/KG,,UMOL/KG,,UMOL/KG,,UMOL/KG,,PMOL/KG,,PMOL/KG,,PMOL/KG,,FMOL/KG,,UMOL/KG,,UMOL/KG,,,,DEG C,TU,,NMOL/KG,,PERCNT,,/MILLE,,/MILLE,,/MILLE,NMOL/KG,,NMOL/KG,UMOL/KG,,TU,NMOL/KG,PERCNT,DEG C,ITS-90,,,
318M20091121,        P06,       1,          1,         33,         33,2,20091122,       0402,   -30.0900,   153.4800,         88,     2.4,  21.8284,  35.3176,-999.0000,9,   -999.0,9,  -999.0,9, -999.00,9, -999.00,9, -999.00,9, -999.00,9,-999.000,9,-999.000,9,-999.000,9,-999.0000,9,  -999.0,9,  -999.0,9,-999.0000,9,  -999.00,-999.000,9,-999.0000,9, -999.00,9, -999.00,9,  -999.0,9,  -999.0,-999.000,9,-999.000,  -999.0,9,-999.000,-999.0000, -999.00,  21.8279,  21.8230,2,20091122,       0421
318M20091121,        P06,       1,          1,         34,         34,2,20091122,       0402,   -30.0900,   153.4800,         88,     2.7,  21.8207,  35.3179,-999.0000,9,   -999.0,9,  -999.0,9, -999.00,9, -999.00,9, -999.00,9, -999.00,9,-999.000,9,-999.000,9,-999.000,9,-999.0000,9,  -999.0,9,  -999.0,9,-999.0000,9,  -999.00,-999.000,9,-999.0000,9, -999.00,9, -999.00,9,  -999.0,9,  -999.0,-999.000,9,-999.000,  -999.0,9,-999.000,-999.0000, -999.00,  21.8202,  21.8181,2,20091122,       0422
318M20091121,        P06,       1,          1,         35,         35,2,20091122,       0402,   -30.0900,   153.4800,         88,     2.8,  21.8156,  35.3181,-999.0000,9,   -999.0,9,  -999.0,9, -999.00,9, -999.00,9, -999.00,9, -999.00,9,-999.000,9,-999.000,9,-999.000,9,-999.0000,9,  -999.0,9,  -999.0,9,-999.0000,9,  -999.00,-999.000,9,-999.0000,9, -999.00,9, -999.00,9,  -999.0,9,  -999.0,-999.000,9,-999.000,  -999.0,9,-999.000,-999.0000, -999.00,  21.8150,  21.8148,2,20091122,       0422
318M20091121,        P06,       1,          1,         36,         36,2,20091122,       0402,   -30.0900,   153.4800,         88,     2.9,  21.8185,  35.3178,-999.0000,9,   -999.0,9,  -999.0,9, -999.00,9, -999.00,9, -999.00,9, -999.00,9,-999.000,9,-999.000,9,-999.000,9,-999.0000,9,  -999.0,9,  -999.0,9,-999.0000,9,  -999.00,-999.000,9,-999.0000,9, -999.00,9, -999.00,9,  -999.0,9,  -999.0,-999.000,9,-999.000,  -999.0,9,-999.000,-999.0000, -999.00,  21.8179,  21.8165,2,20091122,       0422
318M20091121,        P06,       1,          1,         32,         32,2,20091122,       0402,   -30.0900,   153.4800,         88,     3.0,  21.8314,  35.3177,  35.3168,2,    221.9,2,   221.5,2,    1.06,2,    0.53,2,    0.03,2,    0.19,2,   1.949,2,   1.213,2,   0.083,2,-999.0000,5,  2016.4,6,  2314.2,2,   7.9989,3,    25.00,-999.000,9,-999.0000,9, -999.00,9, -999.00,9,  -999.0,9,  -999.0,-999.000,9,-999.000,  -999.0,9,-999.000,-999.0000, -999.00,  21.8308,  21.8297,2,20091122,       0421
318M20091121,        P06,       1,          1,         31,         31,2,20091122,       0402,   -30.0900,   153.4800,         88,     3.3,  21.8168,  35.3181,  35.3172,2,    221.9,2,   221.2,2,    1.04,2,    0.65,2,    0.03,2,    0.19,2,   1.938,2,   1.203,2,   0.092,2,-999.0000,5,  -999.0,9,  -999.0,9,-999.0000,9,  -999.00,-999.000,9,-999.0000,9, -999.00,9, -999.00,9,  -999.0,9,  -999.0,-999.000,9,-999.000,  -999.0,9,-999.000,-999.0000, -999.00,  21.8162,  21.8253,2,20091122,       0421
318M20091121,        P06,       1,          1,         30,         30,2,20091122,       0402,   -30.0900,   153.4800,         88,    17.9,  21.2482,  35.3673,-999.0000,9,   -999.0,9,  -999.0,9, -999.00,9, -999.00,9, -999.00,9, -999.00,9,-999.000,9,-999.000,9,-999.000,9,-999.0000,9,  -999.0,9,  -999.0,9,-999.0000,9,  -999.00,-999.000,9,-999.0000,9, -999.00,9, -999.00,9,  -999.0,9,  -999.0,-999.000,9,-999.000,  -999.0,9,-999.000,-999.0000, -999.00,  21.2447,  21.2902,3,20091122,       0417
318M20091121,        P06,       1,          1,         26,         26,2,20091122,       0402,   -30.0900,   153.4800,         88,    17.9,  21.3255,  35.3523,  35.3551,2,    212.7,2,   212.9,2,    1.02,2,    1.26,2,    0.04,2,    0.23,2,   2.001,2,   1.221,2,   0.079,2,-999.0000,5,  2028.4,2,  2317.5,2,   8.0167,3,    25.00,-999.000,9,-999.0000,9, -999.00,9, -999.00,9,  -999.0,9,  -999.0,-999.000,9,-999.000,  -999.0,9,-999.000,-999.0000, -999.00,  21.3220,  21.2904,3,20091122,       0416
318M20091121,        P06,       1,          1,         28,         28,2,20091122,       0402,   -30.0900,   153.4800,         88,    18.1,  21.2083,  35.3744,-999.0000,9,   -999.0,9,  -999.0,9, -999.00,9, -999.00,9, -999.00,9, -999.00,9,-999.000,9,-999.000,9,-999.000,9,-999.0000,9,  -999.0,9,  -999.0,9,-999.0000,9,  -999.00,-999.000,9,-999.0000,9, -999.00,9, -999.00,9,  -999.0,9,  -999.0,-999.000,9,-999.000,  -999.0,9,-999.000,-999.0000, -999.00,  21.2048,  21.1363,3,20091122,       0417
318M20091121,        P06,       1,          1,         27,         27,2,20091122,       0402,   -30.0900,   153.4800,         88,    18.1,  21.2741,  35.3618,-999.0000,9,   -999.0,9,  -999.0,9, -999.00,9, -999.00,9, -999.00,9, -999.00,9,-999.000,9,-999.000,9,-999.000,9,-999.0000,9,  -999.0,9,  -999.0,9,-999.0000,9,  -999.00,-999.000,9,-999.0000,9, -999.00,9, -999.00,9,  -999.0,9,  -999.0,-999.000,9,-999.000,  -999.0,9,-999.000,-999.0000, -999.00,  21.2706,  21.2700,2,20091122,       0417
318M20091121,        P06,       1,          1,         25,         25,2,20091122,       0402,   -30.0900,   153.4800,         88,    18.3,  21.2798,  35.3583,  35.3534,2,    212.7,2,   213.1,2,    1.00,2,    1.63,2,    0.04,2,    0.24,2,   2.025,2,   1.241,2,   0.083,2,-999.0000,5,  -999.0,9,  2317.3,2,   8.0190,3,    25.00,-999.000,9,-999.0000,9, -999.00,9, -999.00,9,  -999.0,9,  -999.0,-999.000,9,-999.000,  -999.0,9,-999.000,-999.0000, -999.00,  21.2763,  21.2954,3,20091122,       0416
318M20091121,        P06,       1,          1,         29,         29,2,20091122,       0402,   -30.0900,   153.4800,         88,    18.4,  21.1077,  35.3941,-999.0000,9,   -999.0,9,  -999.0,9, -999.00,9, -999.00,9, -999.00,9, -999.00,9,-999.000,9,-999.000,9,-999.000,9,-999.0000,9,  -999.0,9,  -999.0,9,-999.0000,9,  -999.00,-999.000,9,-999.0000,9, -999.00,9, -999.00,9,  -999.0,9,  -999.0,-999.000,9,-999.000,  -999.0,9,-999.000,-999.0000, -999.00,  21.1042,  21.1778,3,20091122,       0417
318M20091121,        P06,       1,          1,         21,         21,2,20091122,       0402,   -30.0900,   153.4800,         88,    33.0,  18.6068,  35.5441,-999.0000,9,   -999.0,9,  -999.0,9, -999.00,9, -999.00,9, -999.00,9, -999.00,9,-999.000,9,-999.000,9,-999.000,9,-999.0000,9,  -999.0,9,  -999.0,9,-999.0000,9,  -999.00,-999.000,9,-999.0000,9, -999.00,9, -999.00,9,  -999.0,9,  -999.0,-999.000,9,-999.000,  -999.0,9,-999.000,-999.0000, -999.00,  18.6010,  18.6011,2,20091122,       0413
318M20091121,        P06,       1,          1,         19,         19,2,20091122,       0402,   -30.0900,   153.4800,         88,    33.2,  18.6084,  35.5439,  35.5434,2,    171.6,2,   172.5,2,    2.19,2,    7.69,2,    0.03,2,    0.59,2,   2.536,4,   1.282,2,   0.036,2,-999.0000,5,  -999.0,9,  -999.0,9,-999.0000,9,  -999.00,-999.000,9,-999.0000,9, -999.00,9, -999.00,9,  -999.0,9,  -999.0,-999.000,9,-999.000,  -999.0,9,-999.000,-999.0000, -999.00,  18.6026,  18.6059,2,20091122,       0413
318M20091121,        P06,       1,          1,         24,         24,2,20091122,       0402,   -30.0900,   153.4800,         88,    33.3,  18.6114,  35.5440,-999.0000,9,   -999.0,9,  -999.0,9, -999.00,9, -999.00,9, -999.00,9, -999.00,9,-999.000,9,-999.000,9,-999.000,9,-999.0000,9,  -999.0,9,  -999.0,9,-999.0000,9,  -999.00,-999.000,9,-999.0000,9, -999.00,9, -999.00,9,  -999.0,9,  -999.0,-999.000,9,-999.000,  -999.0,9,-999.000,-999.0000, -999.00,  18.6055,  18.6113,2,20091122,       0414
318M20091121,        P06,       1,          1,         22,         22,2,20091122,       0402,   -30.0900,   153.4800,         88,    33.3,  18.6098,  35.5446,-999.0000,9,   -999.0,9,  -999.0,9, -999.00,9, -999.00,9, -999.00,9, -999.00,9,-999.000,9,-999.000,9,-999.000,9,-999.0000,9,  -999.0,9,  -999.0,9,-999.0000,9,  -999.00,-999.000,9,-999.0000,9, -999.00,9, -999.00,9,  -999.0,9,  -999.0,-999.000,9,-999.000,  -999.0,9,-999.000,-999.0000, -999.00,  18.6039,  18.6085,2,20091122,       0414
318M20091121,        P06,       1,          1,         20,         20,2,20091122,       0402,   -30.0900,   153.4800,         88,    33.3,  18.6051,  35.5440,  35.5430,2,    171.6,2,   172.2,2,    2.21,2,    7.41,2,    0.03,2,    0.58,2,   2.184,2,   1.296,2,   0.036,2,-999.0000,5,  2085.5,3,  2327.3,2,-999.0000,5,  -999.00,-999.000,9,-999.0000,9, -999.00,9, -999.00,9,  -999.0,9,  -999.0,-999.000,9,-999.000,  -999.0,9,-999.000,-999.0000, -999.00,  18.5992,  18.6034,2,20091122,       0413
318M20091121,        P06,       1,          1,         23,         23,2,20091122,       0402,   -30.0900,   153.4800,         88,    33.3,  18.6104,  35.5445,-999.0000,9,   -999.0,9,  -999.0,9, -999.00,9, -999.00,9, -999.00,9, -999.00,9,-999.000,9,-999.000,9,-999.000,9,-999.0000,9,  -999.0,9,  -999.0,9,-999.0000,9,  -999.00,-999.000,9,-999.0000,9, -999.00,9, -999.00,9,  -999.0,9,  -999.0,-999.000,9,-999.000,  -999.0,9,-999.000,-999.0000, -999.00,  18.6045,  18.6100,2,20091122,       0414
318M20091121,        P06,       1,          1,         14,         14,2,20091122,       0402,   -30.0900,   153.4800,         88,    47.7,  18.1944,  35.5714,  35.5705,2,    179.0,2,   180.2,2,    1.96,2,    7.35,2,    0.01,2,    0.54,2,   2.269,2,   1.353,2,   0.038,2,-999.0000,5,  -999.0,9,  2328.0,2,   7.9407,3,    25.00,-999.000,9,-999.0000,9, -999.00,9, -999.00,9,  -999.0,9,  -999.0,-999.000,9,-999.000,  -999.0,9,-999.000,-999.0000, -999.00,  18.1861,  18.1884,2,20091122,       0410
318M20091121,        P06,       1,          1,         15,         15,2,20091122,       0402,   -30.0900,   153.4800,         88,    48.0,  18.1930,  35.5713,-999.0000,9,   -999.0,9,  -999.0,9, -999.00,9, -999.00,9, -999.00,9, -999.00,9,-999.000,9,-999.000,9,-999.000,9,-999.0000,9,  -999.0,9,  -999.0,9,-999.0000,9,  -999.00,-999.000,9,-999.0000,9, -999.00,9, -999.00,9,  -999.0,9,  -999.0,-999.000,9,-999.000,  -999.0,9,-999.000,-999.0000, -999.00,  18.1847,  18.1869,2,20091122,       0410
318M20091121,        P06,       1,          1,         18,         18,2,20091122,       0402,   -30.0900,   153.4800,         88,    48.3,  18.1726,  35.5712,-999.0000,9,   -999.0,9,  -999.0,9, -999.00,9, -999.00,9, -999.00,9, -999.00,9,-999.000,9,-999.000,9,-999.000,9,-999.0000,9,  -999.0,9,  -999.0,9,-999.0000,9,  -999.00,-999.000,9,-999.0000,9, -999.00,9, -999.00,9,  -999.0,9,  -999.0,-999.000,9,-999.000,  -999.0,9,-999.000,-999.0000, -999.00,  18.1642,  18.1724,2,20091122,       0410
318M20091121,        P06,       1,          1,         17,         17,2,20091122,       0402,   -30.0900,   153.4800,         88,    48.3,  18.1771,  35.5714,-999.0000,9,   -999.0,9,  -999.0,9, -999.00,9, -999.00,9, -999.00,9, -999.00,9,-999.000,9,-999.000,9,-999.000,9,-999.0000,9,  -999.0,9,  -999.0,9,-999.0000,9,  -999.00,-999.000,9,-999.0000,9, -999.00,9, -999.00,9,  -999.0,9,  -999.0,-999.000,9,-999.000,  -999.0,9,-999.000,-999.0000, -999.00,  18.1687,  18.1752,2,20091122,       0410
318M20091121,        P06,       1,          1,         13,         13,2,20091122,       0402,   -30.0900,   153.4800,         88,    48.5,  18.1886,  35.5712,  35.5699,2,    179.0,2,   180.8,2,    1.94,2,    7.37,2,    0.01,2,    0.54,2,   2.275,2,   1.355,2,   0.037,2,-999.0000,5,  2082.1,2,  2328.5,2,   7.9258,4,    25.00,-999.000,9,-999.0000,9, -999.00,9, -999.00,9,  -999.0,9,  -999.0,-999.000,9,-999.000,  -999.0,9,-999.000,-999.0000, -999.00,  18.1802,  18.1901,2,20091122,       0409
318M20091121,        P06,       1,          1,         16,         16,2,20091122,       0402,   -30.0900,   153.4800,         88,    48.6,  18.1781,  35.5709,-999.0000,9,   -999.0,9,  -999.0,9, -999.00,9, -999.00,9, -999.00,9, -999.00,9,-999.000,9,-999.000,9,-999.000,9,-999.0000,9,  -999.0,9,  -999.0,9,-999.0000,9,  -999.00,-999.000,9,-999.0000,9, -999.00,9, -999.00,9,  -999.0,9,  -999.0,-999.000,9,-999.000,  -999.0,9,-999.000,-999.0000, -999.00,  18.1697,  18.1818,2,20091122,       0410
318M20091121,        P06,       1,          1,         11,         11,2,20091122,       0402,   -30.0900,   153.4800,         88,    63.1,  18.0329,  35.5782,-999.0000,9,   -999.0,9,  -999.0,9, -999.00,9, -999.00,9, -999.00,9, -999.00,9,-999.000,9,-999.000,9,-999.000,9,-999.0000,9,  -999.0,9,  -999.0,9,-999.0000,9,  -999.00,-999.000,9,-999.0000,9, -999.00,9, -999.00,9,  -999.0,9,  -999.0,-999.000,9,-999.000,  -999.0,9,-999.000,-999.0000, -999.00,  18.0220,  18.0314,2,20091122,       0407
318M20091121,        P06,       1,          1,         10,         10,2,20091122,       0402,   -30.0900,   153.4800,         88,    63.5,  18.0330,  35.5782,-999.0000,9,   -999.0,9,  -999.0,9, -999.00,9, -999.00,9, -999.00,9, -999.00,9,-999.000,9,-999.000,9,-999.000,9,-999.0000,9,  -999.0,9,  -999.0,9,-999.0000,9,  -999.00,-999.000,9,-999.0000,9, -999.00,9, -999.00,9,  -999.0,9,  -999.0,-999.000,9,-999.000,  -999.0,9,-999.000,-999.0000, -999.00,  18.0221,  18.0318,2,20091122,       0407
318M20091121,        P06,       1,          1,          8,          8,2,20091122,       0402,   -30.0900,   153.4800,         88,    63.5,  18.0320,  35.5783,  35.5764,2,    182.6,2,   184.5,2,    1.92,2,    7.01,2,    0.01,2,    0.51,2,   2.342,2,   1.332,2,   0.038,2,-999.0000,5,  2080.0,2,  2327.5,2,   7.9375,3,    25.00,-999.000,9,-999.0000,9, -999.00,9, -999.00,9,  -999.0,9,  -999.0,-999.000,9,-999.000,  -999.0,9,-999.000,-999.0000, -999.00,  18.0211,  18.0318,2,20091122,       0406
318M20091121,        P06,       1,          1,          9,          9,2,20091122,       0402,   -30.0900,   153.4800,         88,    63.6,  18.0323,  35.5782,-999.0000,9,   -999.0,9,  -999.0,9, -999.00,9, -999.00,9, -999.00,9, -999.00,9,-999.000,9,-999.000,9,-999.000,9,-999.0000,9,  -999.0,9,  -999.0,9,-999.0000,9,  -999.00,-999.000,9,-999.0000,9, -999.00,9, -999.00,9,  -999.0,9,  -999.0,-999.000,9,-999.000,  -999.0,9,-999.000,-999.0000, -999.00,  18.0214,  18.0315,2,20091122,       0406
318M20091121,        P06,       1,          1,          7,          7,2,20091122,       0402,   -30.0900,   153.4800,         88,    63.7,  18.0276,  35.5779,  35.5778,2,    182.6,2,   184.8,2,    1.70,2,    6.99,2,    0.01,2,    0.51,2,   2.317,2,   1.289,2,   0.038,2,-999.0000,5,  -999.0,9,  -999.0,9,-999.0000,9,  -999.00,-999.000,9,-999.0000,9, -999.00,9, -999.00,9,  -999.0,9,  -999.0,-999.000,9,-999.000,  -999.0,9,-999.000,-999.0000, -999.00,  18.0166,  18.0284,2,20091122,       0406
318M20091121,        P06,       1,          1,         12,         12,2,20091122,       0402,   -30.0900,   153.4800,         88,    63.9,  18.0299,  35.5780,-999.0000,9,   -999.0,9,  -999.0,9, -999.00,9, -999.00,9, -999.00,9, -999.00,9,-999.000,9,-999.000,9,-999.000,9,-999.0000,9,  -999.0,9,  -999.0,9,-999.0000,9,  -999.00,-999.000,9,-999.0000,9, -999.00,9, -999.00,9,  -999.0,9,  -999.0,-999.000,9,-999.000,  -999.0,9,-999.000,-999.0000, -999.00,  18.0189,  18.0304,2,20091122,       0407
318M20091121,        P06,       1,          1,          6,          6,2,20091122,       0402,   -30.0900,   153.4800,         88,    78.2,  17.4626,  35.5469,-999.0000,9,   -999.0,9,  -999.0,9, -999.00,9, -999.00,9, -999.00,9, -999.00,9,-999.000,9,-999.000,9,-999.000,9,-999.0000,9,  -999.0,9,  -999.0,9,-999.0000,9,  -999.00,-999.000,9,-999.0000,9, -999.00,9, -999.00,9,  -999.0,9,  -999.0,-999.000,9,-999.000,  -999.0,9,-999.000,-999.0000, -999.00,  17.4494,  17.3556,3,20091122,       0402