BOTTLE,20220818CCHSIOAMB
EXPOCODE,SECT_ID,STNNBR,CASTNO,SAMPNO,BTLNBR,BTLNBR_FLAG_W,DATE,TIME,LATITUDE,LONGITUDE,DEPTH,CTDPRS,CTDTMP,CTDSAL,SALNTY,SALNTY_FLAG_W,CTDOXY,CTDOXY_FLAG_W,OXYGEN,OXYGEN_FLAG_W,SILCAT,SILCAT_FLAG_W,NITRAT,NITRAT_FLAG_W,NITRIT,NITRIT_FLAG_W,PHSPHT,PHSPHT_FLAG_W,CFC-11,CFC-11_FLAG_W,CFC-12,CFC-12_FLAG_W,CFC113,CFC113_FLAG_W,SF6,SF6_FLAG_W,TCARBN,TCARBN_FLAG_W,ALKALI,ALKALI_FLAG_W,PH_SWS,PH_SWS_FLAG_W,PH_TMP,TRITUM,TRITUM_FLAG_W,HELIUM,HELIUM_FLAG_W,DELHE3,DELHE3_FLAG_W,DELC13,DELC13_FLAG_W,DELC14,DELC14_FLAG_W,C14ERR,NEON,NEON_FLAG_W,NEONER,DOC,DOC_FLAG_W,TRITER,HELIER,DELHER,THETA,SBE35,SBE35_FLAG_W,BTL_DATE,BTL_TIME
,,,,,,,,,,,METERS,DBAR,ITS-90,PSS-78,PSS-78,,UMOL/KG,,UMOL/KG,,UMOL/KG,,UMOL/KG,,UMOL/KG,,UMOL/KG,,PMOL/KG,,PMOL/KG,,PMOL/KG,,FMOL/KG,,UMOL/KG,,UMOL/KG,,,,DEG C,TU,,NMOL/KG,,PERCNT,,/MILLE,,/MILLE,,/MILLE,NMOL/KG,,NMOL/KG,UMOL/KG,,TU,NMOL/KG,PERCNT,DEG C,ITS-90,,,
318M20091121,        P06,      56,          1,         32,         32,2,20091206,       1602,   -30.0800,   174.0000,       3360,     7.0,  21.9491,  35.6747,  35.6746,2,    223.7,2,   222.0,2,    0.99,2,    0.00,2,    0.00,2,    0.08,2,   1.932,2,   1.219,2,-999.000,1,    1.069,2,  2031.7,6,  2335.8,2,   8.0275,2,    25.00,-999.000,9,-999.0000,9, -999.00,9, -999.00,9,  -999.0,9,  -999.0,-999.000,9,-999.000,    57.8,2,-999.000,-999.0000, -999.00,  21.9477,  21.9481,2,20091206,       1754
318M20091121,        P06,      56,          1,         31,         31,2,20091206,       1602,   -30.0800,   174.0000,       3360,    24.7,  20.5983,  35.6497,  35.6536,2,    231.1,2,   231.1,2,    1.06,2,    0.00,2,    0.00,2,    0.09,2,   2.037,2,   1.294,2,-999.000,1,    1.137,2,  2032.0,2,  2335.8,6,   8.0389,6,    25.00,-999.000,9,-999.0000,9, -999.00,9, -999.00,9,  -999.0,9,  -999.0,-999.000,9,-999.000,    57.3,2,-999.000,-999.0000, -999.00,  20.5936,  20.5407,3,20091206,       1752
318M20091121,        P06,      56,          1,         30,         30,2,20091206,       1602,   -30.0800,   174.0000,       3360,    50.0,  19.3201,  35.6166,  35.6174,2,    235.3,2,   232.2,2,    0.95,2,    0.00,2,    0.00,2,    0.11,2,   2.100,6,   1.318,6,-999.000,1,    1.087,6,  2033.9,2,  2347.7,4,   8.0425,2,    25.00,-999.000,9,-999.0000,9, -999.00,9, -999.00,9,  -999.0,9,  -999.0,-999.000,9,-999.000,    55.6,2,-999.000,-999.0000, -999.00,  19.3111,  19.3172,2,20091206,       1749
318M20091121,        P06,      56,          1,         29,         29,2,20091206,       1602,   -30.0800,   174.0000,       3360,    75.0,  18.6445,  35.6086,  35.6082,2,    223.3,2,   223.2,2,    1.23,2,    0.22,2,    0.16,2,    0.17,2,   2.119,2,   1.330,2,-999.000,1,    1.126,2,  2046.4,2,  2332.2,2,   8.0070,2,    25.00,-999.000,9,-999.0000,9, -999.00,9, -999.00,9,  -999.0,9,  -999.0,-999.000,9,-999.000,    51.8,2,-999.000,-999.0000, -999.00,  18.6313,  18.6447,2,20091206,       1747
318M20091121,        P06,      56,          1,         28,         28,2,20091206,       1602,   -30.0800,   174.0000,       3360,   101.1,  18.0161,  35.5932,  35.5916,2,    209.8,2,   209.0,2,    1.31,2,    2.41,2,    0.18,2,    0.30,2,   2.145,2,   1.358,2,-999.000,1,    1.078,2,  2062.0,2,  2329.5,2,   7.9760,2,    25.00,-999.000,9,-999.0000,9, -999.00,9, -999.00,9,  -999.0,9,  -999.0,-999.000,9,-999.000,    51.6,2,-999.000,-999.0000, -999.00,  17.9987,  18.0175,2,20091206,       1745
318M20091121,        P06,      56,          1,         27,         27,2,20091206,       1602,   -30.0800,   174.0000,       3360,   125.6,  17.5284,  35.5715,  35.5713,2,    211.9,2,   213.0,2,    1.59,2,    2.65,2,    0.05,2,    0.32,2,   2.195,2,   1.374,2,-999.000,1,    1.082,2,  2063.9,2,  2328.2,2,   7.9750,2,    25.00,-999.000,9,-999.0000,9, -999.00,9, -999.00,9,  -999.0,9,  -999.0,-999.000,9,-999.000,    50.8,2,-999.000,-999.0000, -999.00,  17.5072,  17.5220,2,20091206,       1742
318M20091121,        P06,      56,          1,         26,         26,2,20091206,       1602,   -30.0800,   174.0000,       3360,   151.5,  17.1710,  35.5514,  35.5517,2,    217.4,2,   217.5,2,    1.67,2,    2.65,2,    0.04,2,    0.32,2,   2.227,2,   1.398,2,-999.000,1,    1.063,2,  2064.0,2,  2328.0,2,   7.9635,2,    25.00,-999.000,9,-999.0000,9, -999.00,9, -999.00,9,  -999.0,9,  -999.0,-999.000,9,-999.000,    50.6,2,-999.000,-999.0000, -999.00,  17.1458,  17.1783,2,20091206,       1740
318M20091121,        P06,      56,          1,         25,         25,2,20091206,       1602,   -30.0800,   174.0000,       3360,   202.0,  16.6327,  35.5195,  35.5189,2,    213.4,2,   212.1,2,    2.15,2,    4.26,2,    0.02,2,    0.41,2,   2.253,2,   1.406,2,-999.000,1,    1.015,2,  2074.4,2,  2327.5,2,   7.9429,2,    25.00,-999.000,9,-999.0000,9, -999.00,9, -999.00,9,  -999.0,9,  -999.0,-999.000,9,-999.000,    48.2,2,-999.000,-999.0000, -999.00,  16.5997,  16.6253,2,20091206,       1738
318M20091121,        P06,      56,          1,         24,         24,2,20091206,       1602,   -30.0800,   174.0000,       3360,   252.8,  15.4302,  35.4122,  35.4119,2,    199.1,2,   199.0,2,    3.01,2,    7.48,2,    0.01,2,    0.61,2,   2.295,2,   1.399,2,-999.000,1,    1.012,2,  2094.7,2,  2323.8,2,   7.9031,2,    25.00,-999.000,9,-999.0000,9, -999.00,9, -999.00,9,  -999.0,9,  -999.0,-999.000,9,-999.000,    47.8,2,-999.000,-999.0000, -999.00,  15.3910,  15.4287,2,20091206,       1735
318M20091121,        P06,      56,          1,         23,         23,2,20091206,       1602,   -30.0800,   174.0000,       3360,   299.2,  14.3575,  35.2987,  35.3026,2,    197.6,2,   197.3,2,    3.87,2,    9.50,2,    0.01,2,    0.73,2,   2.335,2,   1.399,2,-999.000,1,    0.978,2,  2105.3,2,  2319.0,2,   7.8856,2,    25.00,-999.000,9,-999.0000,9, -999.00,9, -999.00,9,  -999.0,9,  -999.0,-999.000,9,-999.000,    46.0,2,-999.000,-999.0000, -999.00,  14.3132,  14.3765,2,20091206,       1733
318M20091121,        P06,      56,          1,         22,         22,2,20091206,       1602,   -30.0800,   174.0000,       3360,   350.1,  13.5349,  35.1870,  35.1870,2,    195.1,2,   195.1,2,    4.34,2,   11.01,2,    0.01,2,    0.83,2,   2.364,2,   1.406,2,-999.000,1,    0.945,2,  2112.3,2,  2310.6,2,   7.8501,2,    25.00,-999.000,9,-999.0000,9, -999.00,9, -999.00,9,  -999.0,9,  -999.0,-999.000,9,-999.000,    44.4,2,-999.000,-999.0000, -999.00,  13.4851,  13.5363,2,20091206,       1730
318M20091121,        P06,      56,          1,         21,         21,2,20091206,       1602,   -30.0800,   174.0000,       3360,   401.4,  12.1753,  35.0324,  35.0347,2,    197.5,2,   196.9,2,    5.40,2,   13.50,2,    0.00,2,    0.99,2,   2.402,2,   1.398,2,-999.000,1,    0.832,2,  2125.4,2,  2304.5,2,   7.8183,2,    25.00,-999.000,9,-999.0000,9, -999.00,9, -999.00,9,  -999.0,9,  -999.0,-999.000,9,-999.000,    44.5,2,-999.000,-999.0000, -999.00,  12.1220,  12.1807,2,20091206,       1727
318M20091121,        P06,      56,          1,         20,         20,2,20091206,       1602,   -30.0800,   174.0000,       3360,   451.8,  11.2867,  34.9151,  34.9142,2,    198.4,2,   198.3,2,    6.07,2,   15.25,2,    0.00,2,    1.09,2,   2.393,2,   1.381,2,-999.000,1,    0.772,2,  2131.4,2,  2301.8,2,   7.8040,2,    25.00,-999.000,9,-999.0000,9, -999.00,9, -999.00,9,  -999.0,9,  -999.0,-999.000,9,-999.000,    43.6,2,-999.000,-999.0000, -999.00,  11.2295,  11.2963,2,20091206,       1724
318M20091121,        P06,      56,          1,         19,         19,2,20091206,       1602,   -30.0800,   174.0000,       3360,   503.1,  10.5507,  34.8127,  34.8122,2,    200.2,2,   200.8,2,    6.54,2,   16.66,2,    0.00,2,    1.18,2,   2.394,2,   1.357,2,-999.000,1,     0.62,2,  2133.8,2,  2298.3,2,   7.7674,2,    25.00,-999.000,9,-999.0000,9, -999.00,9, -999.00,9,  -999.0,9,  -999.0,-999.000,9,-999.000,    44.3,2,-999.000,-999.0000, -999.00,  10.4895,  10.5392,2,20091206,       1722
318M20091121,        P06,      56,          1,         18,         18,2,20091206,       1602,   -30.0800,   174.0000,       3360,   604.6,   8.4022,  34.5508,  34.5479,2,    213.6,2,   215.1,2,    8.00,2,   20.45,2,    0.00,2,    1.43,2,   2.393,2,   1.308,2,-999.000,1,    0.478,2,  2141.4,2,  2287.8,2,   7.7256,2,    25.00,-999.000,9,-999.0000,9, -999.00,9, -999.00,9,  -999.0,9,  -999.0,-999.000,9,-999.000,  -999.0,9,-999.000,-999.0000, -999.00,   8.3380,   8.3898,2,20091206,       1719
318M20091121,        P06,      56,          1,         17,         17,2,20091206,       1602,   -30.0800,   174.0000,       3360,   702.4,   7.3630,  34.4579,  34.4575,2,    219.7,2,   218.4,2,   10.63,2,   22.82,2,    0.00,2,    1.58,2,   2.047,2,   1.082,2,-999.000,1,     0.39,2,  2144.1,2,  2285.6,2,   7.7212,2,    25.00,-999.000,9,-999.0000,9, -999.00,9, -999.00,9,  -999.0,9,  -999.0,-999.000,9,-999.000,    39.7,2,-999.000,-999.0000, -999.00,   7.2935,   7.3617,2,20091206,       1715
318M20091121,        P06,      56,          1,         16,         16,2,20091206,       1602,   -30.0800,   174.0000,       3360,   802.6,   6.6454,  34.4050,  34.4042,2,    217.4,2,   217.8,2,   13.85,2,   24.66,2,    0.00,2,    1.71,2,   1.645,2,   0.863,2,-999.000,1,    0.169,2,  2155.6,2,  2285.6,2,   7.7035,2,    25.00,-999.000,9,-999.0000,9, -999.00,9, -999.00,9,  -999.0,9,  -999.0,-999.000,9,-999.000,  -999.0,9,-999.000,-999.0000, -999.00,   6.5698,   6.6456,2,20091206,       1712
318M20091121,        P06,      56,          1,         15,         15,2,20091206,       1602,   -30.0800,   174.0000,       3360,   904.9,   5.9254,  34.3732,  34.3720,2,    211.3,2,   211.3,2,   19.65,2,   26.90,2,    0.00,2,    1.86,2,   1.095,2,   0.585,2,-999.000,1,    0.152,2,  2167.2,2,  2289.9,6,   7.6756,2,    25.00,-999.000,9,-999.0000,9, -999.00,9, -999.00,9,  -999.0,9,  -999.0,-999.000,9,-999.000,    37.1,2,-999.000,-999.0000, -999.00,   5.8445,   5.9267,2,20091206,       1708
318M20091121,        P06,      56,          1,         14,         14,2,20091206,       1602,   -30.0800,   174.0000,       3360,  1006.9,   5.3067,  34.3695,  34.3691,2,    200.6,2,   202.2,2,   27.24,2,   28.88,2,    0.00,2,    1.99,2,   0.702,2,   0.382,2,-999.000,1,        0,2,  2180.9,6,  2296.1,2,   7.6552,2,    25.00,-999.000,9,-999.0000,9, -999.00,9, -999.00,9,  -999.0,9,  -999.0,-999.000,9,-999.000,  -999.0,9,-999.000,-999.0000, -999.00,   5.2206,   5.3072,2,20091206,       1705
318M20091121,        P06,      56,          1,         13,         13,2,20091206,       1602,   -30.0800,   174.0000,       3360,  1109.7,   4.6618,  34.3921,  34.3913,2,    189.0,2,   189.5,2,   38.63,2,   30.79,2,    0.00,2,    2.13,2,   0.400,2,   0.221,2,-999.000,1,        0,2,  2199.6,2,  2306.9,2,   7.6310,2,    25.00,-999.000,9,-999.0000,9, -999.00,9, -999.00,9,  -999.0,9,  -999.0,-999.000,9,-999.000,    38.0,2,-999.000,-999.0000, -999.00,   4.5715,   4.6601,2,20091206,       1702
318M20091121,        P06,      56,          1,         12,         12,2,20091206,       1602,   -30.0800,   174.0000,       3360,  1211.1,   4.0741,  34.4260,  34.4249,2,    179.3,2,   179.6,2,   51.30,2,   32.29,2,    0.00,2,    2.25,2,   0.226,2,   0.132,2,-999.000,1,        0,2,  2219.2,2,  2322.7,2,   7.6059,2,    25.00,-999.000,9,-999.0000,9, -999.00,9, -999.00,9,  -999.0,9,  -999.0,-999.000,9,-999.000,  -999.0,9,-999.000,-999.0000, -999.00,   3.9800,   4.0725,2,20091206,       1658
318M20091121,        P06,      56,          1,         11,         11,2,20091206,       1602,   -30.0800,   174.0000,       3360,  1312.9,   3.6979,  34.4637,  34.4621,2,    171.4,2,   172.6,2,   62.01,2,   33.06,2,    0.00,2,    2.31,2,   0.149,2,   0.087,2,-999.000,1,        0,2,  2235.6,2,  2331.2,2,   7.5976,2,    25.00,-999.000,9,-999.0000,9, -999.00,9, -999.00,9,  -999.0,9,  -999.0,-999.000,9,-999.000,  -999.0,9,-999.000,-999.0000, -999.00,   3.5986,   3.6990,2,20091206,       1655
318M20091121,        P06,      56,          1,         10,         10,2,20091206,       1602,   -30.0800,   174.0000,       3360,  1410.5,   3.3527,  34.5110,  34.5097,2,    166.8,2,   166.2,2,   75.00,2,   33.69,2,    0.00,2,    2.35,2,   0.096,2,   0.058,2,-999.000,1,        0,2,  2252.1,2,  2346.2,2,   7.5860,2,    25.00,-999.000,9,-999.0000,9, -999.00,9, -999.00,9,  -999.0,9,  -999.0,-999.000,9,-999.000,    36.3,2,-999.000,-999.0000, -999.00,   3.2486,   3.3520,2,20091206,       1651
318M20091121,        P06,      56,          1,          9,          9,2,20091206,       1602,   -30.0800,   174.0000,       3360,  1507.1,   3.1251,  34.5509,  34.5484,2,    162.1,2,   161.9,2,   84.99,2,   33.86,2,    0.00,2,    2.37,2,   0.098,2,   0.062,2,-999.000,1,        0,2,  2264.1,2,  2357.1,2,   7.5856,2,    25.00,-999.000,9,-999.0000,9, -999.00,9, -999.00,9,  -999.0,9,  -999.0,-999.000,9,-999.000,  -999.0,9,-999.000,-999.0000, -999.00,   3.0153,   3.1256,2,20091206,       1648
318M20091121,        P06,      56,          1,          8,          8,2,20091206,       1602,   -30.0800,   174.0000,       3360,  1609.4,   2.9125,  34.5811,  34.5805,2,    159.3,2,   159.4,2,   93.78,2,   34.08,2,    0.00,2,    2.39,2,   0.076,2,   0.045,2,-999.000,1,        0,2,  2273.3,2,  2368.6,2,   7.6068,4,    25.00,-999.000,9,-999.0000,9, -999.00,9, -999.00,9,  -999.0,9,  -999.0,-999.000,9,-999.000,  -999.0,9,-999.000,-999.0000, -999.00,   2.7965,   2.9130,2,20091206,       1645
318M20091121,        P06,      56,          1,          7,          7,2,20091206,       1602,   -30.0800,   174.0000,       3360,  1813.5,   2.5386,  34.6133,  34.6124,2,    155.3,2,   155.0,2,  105.47,2,   34.66,2,    0.00,2,    2.44,2,   0.049,2,   0.031,2,-999.000,1,        0,2,  2287.0,2,  2380.0,2,   7.5851,2,    25.00,-999.000,9,-999.0000,9, -999.00,9, -999.00,9,  -999.0,9,  -999.0,-999.000,9,-999.000,    35.5,2,-999.000,-999.0000, -999.00,   2.4101,   2.5399,2,20091206,       1639
318M20091121,        P06,      56,          1,          6,          6,2,20091206,       1602,   -30.0800,   174.0000,       3360,  2018.7,   2.2985,  34.6345,  34.6339,2,    153.2,2,   152.9,2,  113.09,2,   34.95,2,    0.00,2,    2.46,2,   0.032,2,   0.019,2,-999.000,1,        0,2,  2295.6,2,  2389.9,2,   7.5773,2,    25.00,-999.000,9,-999.0000,9, -999.00,9, -999.00,9,  -999.0,9,  -999.0,-999.000,9,-999.000,  -999.0,9,-999.000,-999.0000, -999.00,   2.1559,   2.2992,2,20091206,       1634
318M20091121,        P06,      56,          1,          5,          5,2,20091206,       1602,   -30.0800,   174.0000,       3360,  2274.4,   2.0993,  34.6526,  34.6534,2,    153.3,2,   153.6,2,  118.69,2,   35.07,2,    0.00,2,    2.47,2,   0.021,2,   0.014,2,-999.000,1,        0,2,  2301.4,2,  2395.9,2,   7.5884,2,    25.00,-999.000,9,-999.0000,9, -999.00,9, -999.00,9,  -999.0,9,  -999.0,-999.000,9,-999.000,    35.5,2,-999.000,-999.0000, -999.00,   1.9375,   2.1002,2,20091206,       1628
318M20091121,        P06,      56,          1,          4,          4,2,20091206,       1602,   -30.0800,   174.0000,       3360,  2526.8,   1.9521,  34.6659,  34.6658,2,    154.4,2,   154.4,2,  122.45,2,   35.05,2,    0.00,2,    2.47,2,   0.028,2,   0.018,2,-999.000,1,        0,2,  2306.1,2,  2398.9,2,   7.5879,2,    25.00,-999.000,9,-999.0000,9, -999.00,9, -999.00,9,  -999.0,9,  -999.0,-999.000,9,-999.000,  -999.0,9,-999.000,-999.0000, -999.00,   1.7702,   1.9519,2,20091206,       1622
318M20091121,        P06,      56,          1,          3,          3,2,20091206,       1602,   -30.0800,   174.0000,       3360,  2783.8,   1.8552,  34.6752,  34.6756,2,    154.8,2,   154.6,2,  125.61,2,   35.08,2,    0.00,2,    2.47,2,   0.022,2,   0.014,2,-999.000,1,        0,2,  2309.0,2,  2403.9,6,   7.5776,2,    25.00,-999.000,9,-999.0000,9, -999.00,9, -999.00,9,  -999.0,9,  -999.0,-999.000,9,-999.000,    36.1,2,-999.000,-999.0000, -999.00,   1.6513,   1.8550,2,20091206,       1616
318M20091121,        P06,      56,          1,          2,          2,2,20091206,       1602,   -30.0800,   174.0000,       3360,  3040.9,   1.8326,  34.6787,  34.6784,2,    154.4,2,   154.6,2,  126.72,2,   35.11,2,    0.00,2,    2.46,2,   0.028,2,   0.018,2,-999.000,1,        0,2,  2311.4,2,  2407.0,2,   7.5844,6,    25.00,-999.000,9,-999.0000,9, -999.00,9, -999.00,9,  -999.0,9,  -999.0,-999.000,9,-999.000,  -999.0,9,-999.000,-999.0000, -999.00,   1.6044,   1.8326,2,20091206,       1610
318M20091121,        P06,      56,          1,          1,          1,2,20091206,       1602,   -30.0800,   174.0000,       3360,  3394.5,   1.8340,  34.6811,  34.6808,2,    154.7,2,   154.5,2,  127.82,2,   35.14,2,    0.00,2,    2.47,2,   0.010,2,   0.005,2,-999.000,1,        0,2,  2312.6,6,  2410.6,2,   7.5985,2,    25.00,-999.000,9,-999.0000,9, -999.00,9, -999.00,9,  -999.0,9,  -999.0,-999.000,9,-999.000,  -999.0,5,-999.000,-999.0000, -999.00,   1.5703,   1.8337,2,20091206,       1602