BOTTLE,20220818CCHSIOAMB
EXPOCODE,SECT_ID,STNNBR,CASTNO,SAMPNO,BTLNBR,BTLNBR_FLAG_W,DATE,TIME,LATITUDE,LONGITUDE,DEPTH,CTDPRS,CTDTMP,CTDSAL,SALNTY,SALNTY_FLAG_W,CTDOXY,CTDOXY_FLAG_W,OXYGEN,OXYGEN_FLAG_W,SILCAT,SILCAT_FLAG_W,NITRAT,NITRAT_FLAG_W,NITRIT,NITRIT_FLAG_W,PHSPHT,PHSPHT_FLAG_W,CFC-11,CFC-11_FLAG_W,CFC-12,CFC-12_FLAG_W,CFC113,CFC113_FLAG_W,SF6,SF6_FLAG_W,TCARBN,TCARBN_FLAG_W,ALKALI,ALKALI_FLAG_W,PH_SWS,PH_SWS_FLAG_W,PH_TMP,TRITUM,TRITUM_FLAG_W,HELIUM,HELIUM_FLAG_W,DELHE3,DELHE3_FLAG_W,DELC13,DELC13_FLAG_W,DELC14,DELC14_FLAG_W,C14ERR,NEON,NEON_FLAG_W,NEONER,DOC,DOC_FLAG_W,TRITER,HELIER,DELHER,THETA,SBE35,SBE35_FLAG_W,BTL_DATE,BTL_TIME
,,,,,,,,,,,METERS,DBAR,ITS-90,PSS-78,PSS-78,,UMOL/KG,,UMOL/KG,,UMOL/KG,,UMOL/KG,,UMOL/KG,,UMOL/KG,,PMOL/KG,,PMOL/KG,,PMOL/KG,,FMOL/KG,,UMOL/KG,,UMOL/KG,,,,DEG C,TU,,NMOL/KG,,PERCNT,,/MILLE,,/MILLE,,/MILLE,NMOL/KG,,NMOL/KG,UMOL/KG,,TU,NMOL/KG,PERCNT,DEG C,ITS-90,,,
318M20091121,        P06,      62,          1,         36,         36,2,20091208,       1003,   -30.3300,   176.7500,       4331,     3.6,  20.6356,  35.5566,  35.5569,2,    228.5,2,   228.2,2,    0.55,2,    0.00,2,    0.00,2,    0.12,2,   2.057,2,   1.287,2,-999.000,1,    1.185,2,  2043.2,6,  2330.7,2,-999.0000,9,  -999.00,-999.000,9,-999.0000,9, -999.00,9, -999.00,9,  -999.0,9,  -999.0,-999.000,9,-999.000,  -999.0,9,-999.000,-999.0000, -999.00,  20.6349,  20.5964,3,20091208,       1216
318M20091121,        P06,      62,          1,         35,         35,2,20091208,       1003,   -30.3300,   176.7500,       4331,    26.6,  18.8578,  35.6422,  35.6419,2,    238.1,2,   238.2,2,    0.33,2,    0.00,2,    0.00,2,    0.11,2,   2.199,6,   1.367,6,-999.000,1,   1.2035,6,  2045.6,2,  2331.0,6,-999.0000,9,  -999.00,-999.000,9,-999.0000,9, -999.00,9, -999.00,9,  -999.0,9,  -999.0,-999.000,9,-999.000,  -999.0,5,-999.000,-999.0000, -999.00,  18.8531,  18.8484,2,20091208,       1214
318M20091121,        P06,      62,          1,         34,         34,2,20091208,       1003,   -30.3300,   176.7500,       4331,    50.9,  18.1489,  35.6237,  35.6233,2,    239.0,2,   239.5,2,    0.31,2,    0.00,2,    0.00,2,    0.11,2,   2.219,2,   1.387,2,-999.000,1,    1.384,4,  2046.6,2,  2333.2,2,-999.0000,9,  -999.00,-999.000,9,-999.0000,9, -999.00,9, -999.00,9,  -999.0,9,  -999.0,-999.000,9,-999.000,    56.6,2,-999.000,-999.0000, -999.00,  18.1401,  18.1494,2,20091208,       1212
318M20091121,        P06,      62,          1,         33,         33,2,20091208,       1003,   -30.3300,   176.7500,       4331,    76.3,  17.7536,  35.6103,  35.6101,2,    236.9,2,   236.2,2,    0.49,2,   -0.02,2,    0.02,2,    0.12,2,   2.244,2,   1.401,2,-999.000,1,    1.174,2,  2051.9,2,  2333.2,2,-999.0000,9,  -999.00,-999.000,9,-999.0000,9, -999.00,9, -999.00,9,  -999.0,9,  -999.0,-999.000,9,-999.000,    59.8,3,-999.000,-999.0000, -999.00,  17.7406,  17.7541,2,20091208,       1209
318M20091121,        P06,      62,          1,         32,         32,2,20091208,       1003,   -30.3300,   176.7500,       4331,   100.3,  17.2176,  35.5856,  35.5868,2,    223.8,2,   223.9,2,    0.66,2,    1.85,2,    0.20,2,    0.25,2,   2.236,2,   1.396,2,-999.000,1,    1.149,2,  2065.6,2,  2331.4,2,-999.0000,9,  -999.00,-999.000,9,-999.0000,9, -999.00,9, -999.00,9,  -999.0,9,  -999.0,-999.000,9,-999.000,    58.5,2,-999.000,-999.0000, -999.00,  17.2009,  17.2157,2,20091208,       1207
318M20091121,        P06,      62,          1,         31,         31,2,20091208,       1003,   -30.3300,   176.7500,       4331,   125.6,  16.8432,  35.5613,  35.5609,2,    218.5,2,   218.7,2,    1.03,2,    3.27,2,    0.04,2,    0.33,2,   2.267,2,   1.412,2,-999.000,1,    1.157,2,  2071.1,2,  2330.8,2,-999.0000,9,  -999.00,-999.000,9,-999.0000,9, -999.00,9, -999.00,9,  -999.0,9,  -999.0,-999.000,9,-999.000,    57.8,3,-999.000,-999.0000, -999.00,  16.8226,  16.8433,2,20091208,       1204
318M20091121,        P06,      62,          1,         30,         30,2,20091208,       1003,   -30.3300,   176.7500,       4331,   150.5,  16.4328,  35.5256,  35.5255,2,    216.8,2,   216.6,2,    1.41,2,    4.17,2,    0.02,2,    0.39,2,   2.289,2,   1.421,2,-999.000,1,    1.133,2,  2077.2,2,  2336.4,2,-999.0000,9,  -999.00,-999.000,9,-999.0000,9, -999.00,9, -999.00,9,  -999.0,9,  -999.0,-999.000,9,-999.000,    56.5,3,-999.000,-999.0000, -999.00,  16.4085,  16.4323,2,20091208,       1202
318M20091121,        P06,      62,          1,         29,         29,2,20091208,       1003,   -30.3300,   176.7500,       4331,   199.6,  15.6628,  35.4520,  35.4519,2,    209.3,2,   205.5,2,    1.97,2,    6.64,2,    0.01,2,    0.55,2,   2.287,2,   1.397,2,-999.000,1,    1.098,2,  2091.8,2,  2327.3,2,-999.0000,9,  -999.00,-999.000,9,-999.0000,9, -999.00,9, -999.00,9,  -999.0,9,  -999.0,-999.000,9,-999.000,    55.1,3,-999.000,-999.0000, -999.00,  15.6316,  15.6685,2,20091208,       1200
318M20091121,        P06,      62,          1,         28,         28,2,20091208,       1003,   -30.3300,   176.7500,       4331,   250.7,  14.7773,  35.3476,  35.3425,2,    199.3,2,   198.8,2,    2.54,2,    8.61,2,    0.01,2,    0.67,2,   2.323,2,   1.401,2,-999.000,1,    0.971,2,  2103.9,2,  2318.3,2,-999.0000,9,  -999.00,-999.000,9,-999.0000,9, -999.00,9, -999.00,9,  -999.0,9,  -999.0,-999.000,9,-999.000,    56.4,3,-999.000,-999.0000, -999.00,  14.7395,  14.7796,2,20091208,       1157
318M20091121,        P06,      62,          1,         27,         27,2,20091208,       1003,   -30.3300,   176.7500,       4331,   300.8,  13.7105,  35.2449,  35.2440,2,    203.6,2,   202.0,2,    3.70,2,   10.38,2,    0.00,2,    0.78,2,   2.349,2,   1.404,2,-999.000,1,    0.942,2,  2110.9,2,  2315.1,2,-999.0000,9,  -999.00,-999.000,9,-999.0000,9, -999.00,9, -999.00,9,  -999.0,9,  -999.0,-999.000,9,-999.000,    50.8,3,-999.000,-999.0000, -999.00,  13.6674,  13.7148,2,20091208,       1155
318M20091121,        P06,      62,          1,         26,         26,2,20091208,       1003,   -30.3300,   176.7500,       4331,   351.9,  12.7605,  35.1111,  35.1014,2,    203.9,2,   201.6,2,    3.68,2,   11.72,2,    0.00,2,    0.87,2,   2.483,2,   1.447,2,-999.000,1,    0.896,2,  2118.3,2,  2312.4,2,-999.0000,9,  -999.00,-999.000,9,-999.0000,9, -999.00,9, -999.00,9,  -999.0,9,  -999.0,-999.000,9,-999.000,    51.9,3,-999.000,-999.0000, -999.00,  12.7124,  12.7655,2,20091208,       1152
318M20091121,        P06,      62,          1,         25,         25,2,20091208,       1003,   -30.3300,   176.7500,       4331,   402.0,  11.9903,  35.0149,  35.0172,2,    203.3,2,   203.2,2,    4.05,2,   13.05,2,    0.00,2,    0.96,2,   2.524,2,   1.458,2,-999.000,1,    0.841,2,  2123.7,2,  2305.6,2,-999.0000,9,  -999.00,-999.000,9,-999.0000,9, -999.00,9, -999.00,9,  -999.0,9,  -999.0,-999.000,9,-999.000,    54.3,3,-999.000,-999.0000, -999.00,  11.9374,  11.9789,2,20091208,       1150
318M20091121,        P06,      62,          1,         24,         24,2,20091208,       1003,   -30.3300,   176.7500,       4331,   453.8,  10.7801,  34.8470,  34.8486,2,    201.0,2,   201.2,2,    5.21,2,   15.96,2,    0.00,2,    1.14,2,   2.475,2,   1.383,2,-999.000,1,    0.684,2,  2132.6,2,  2298.9,2,-999.0000,9,  -999.00,-999.000,9,-999.0000,9, -999.00,9, -999.00,9,  -999.0,9,  -999.0,-999.000,9,-999.000,    53.3,3,-999.000,-999.0000, -999.00,  10.7243,  10.7795,2,20091208,       1147
318M20091121,        P06,      62,          1,         23,         23,2,20091208,       1003,   -30.3300,   176.7500,       4331,   501.5,   9.8442,  34.7279,  34.7299,2,    202.9,2,   204.9,2,    5.78,2,   17.62,2,    0.00,2,    1.25,2,   2.493,2,   1.361,2,-999.000,1,    0.589,2,  2135.1,2,  2295.7,2,-999.0000,9,  -999.00,-999.000,9,-999.0000,9, -999.00,9, -999.00,9,  -999.0,9,  -999.0,-999.000,9,-999.000,    49.7,3,-999.000,-999.0000, -999.00,   9.7859,   9.8465,2,20091208,       1145
318M20091121,        P06,      62,          1,         22,         22,2,20091208,       1003,   -30.3300,   176.7500,       4331,   603.5,   8.1719,  34.5275,  34.5261,2,    215.2,2,   216.4,2,    7.14,2,   20.62,2,    0.00,2,    1.45,2,   2.466,2,   1.318,2,-999.000,1,    0.371,2,  2142.9,2,  2288.4,2,-999.0000,9,  -999.00,-999.000,9,-999.0000,9, -999.00,9, -999.00,9,  -999.0,9,  -999.0,-999.000,9,-999.000,  -999.0,9,-999.000,-999.0000, -999.00,   8.1089,   8.1628,2,20091208,       1142
318M20091121,        P06,      62,          1,         21,         21,2,20091208,       1003,   -30.3300,   176.7500,       4331,   704.4,   7.1899,  34.4369,  34.4433,3,    221.5,2,   221.0,2,    9.50,2,   22.76,2,    0.00,2,    1.58,2,   2.098,2,   1.101,2,-999.000,1,    0.176,2,  2147.6,2,  2287.1,2,-999.0000,9,  -999.00,-999.000,9,-999.0000,9, -999.00,9, -999.00,9,  -999.0,9,  -999.0,-999.000,9,-999.000,    45.8,2,-999.000,-999.0000, -999.00,   7.1211,   7.1875,2,20091208,       1138
318M20091121,        P06,      62,          1,         20,         20,2,20091208,       1003,   -30.3300,   176.7500,       4331,   805.5,   6.4947,  34.3864,  34.3873,2,    220.9,2,   219.5,2,   12.63,2,   24.57,2,    0.00,2,    1.71,2,   1.632,2,   0.850,2,-999.000,1,    0.094,2,  2154.2,2,  2286.9,2,-999.0000,9,  -999.00,-999.000,9,-999.0000,9, -999.00,9, -999.00,9,  -999.0,9,  -999.0,-999.000,9,-999.000,  -999.0,9,-999.000,-999.0000, -999.00,   6.4197,   6.4971,2,20091208,       1135
318M20091121,        P06,      62,          1,         19,         19,2,20091208,       1003,   -30.3300,   176.7500,       4331,   906.0,   5.8465,  34.3670,  34.3671,2,    206.8,2,   211.2,2,   18.56,2,   26.67,2,    0.00,2,    1.86,2,   1.108,2,   0.565,2,-999.000,1,    0.093,2,  2167.5,2,  2289.8,2,-999.0000,9,  -999.00,-999.000,9,-999.0000,9, -999.00,9, -999.00,9,  -999.0,9,  -999.0,-999.000,9,-999.000,  -999.0,9,-999.000,-999.0000, -999.00,   5.7660,   5.8459,2,20091208,       1131
318M20091121,        P06,      62,          1,         18,         18,2,20091208,       1003,   -30.3300,   176.7500,       4331,  1008.0,   5.3625,  34.3892,  34.3893,2,    198.7,2,   199.3,2,   27.50,2,   28.45,2,    0.00,2,    1.98,2,   0.714,2,   0.376,2,-999.000,1,        0,2,  2184.5,6,  2298.0,2,-999.0000,9,  -999.00,-999.000,9,-999.0000,9, -999.00,9, -999.00,9,  -999.0,9,  -999.0,-999.000,9,-999.000,  -999.0,9,-999.000,-999.0000, -999.00,   5.2759,   5.3600,2,20091208,       1128
318M20091121,        P06,      62,          1,         17,         17,2,20091208,       1003,   -30.3300,   176.7500,       4331,  1107.9,   4.5888,  34.3976,  34.3966,2,    188.8,2,   188.7,2,   38.67,2,   30.41,2,    0.00,2,    2.13,2,   0.415,2,   0.224,2,-999.000,1,        0,2,  2203.0,2,  2309.4,6,-999.0000,9,  -999.00,-999.000,9,-999.0000,9, -999.00,9, -999.00,9,  -999.0,9,  -999.0,-999.000,9,-999.000,    40.2,2,-999.000,-999.0000, -999.00,   4.4993,   4.5912,2,20091208,       1125
318M20091121,        P06,      62,          1,         16,         16,2,20091208,       1003,   -30.3300,   176.7500,       4331,  1209.6,   4.0963,  34.4316,  34.4322,2,    178.1,2,   179.7,2,   50.32,2,   31.71,2,    0.00,2,    2.23,2,   0.250,2,   0.139,2,-999.000,1,        0,2,  2220.2,2,  2317.9,2,-999.0000,9,  -999.00,-999.000,9,-999.0000,9, -999.00,9, -999.00,9,  -999.0,9,  -999.0,-999.000,9,-999.000,  -999.0,9,-999.000,-999.0000, -999.00,   4.0021,   4.0945,2,20091208,       1121
318M20091121,        P06,      62,          1,         15,         15,2,20091208,       1003,   -30.3300,   176.7500,       4331,  1311.8,   3.6221,  34.4864,  34.4872,2,    170.3,2,   170.6,2,   65.47,2,   32.63,2,    0.00,2,    2.31,2,   0.163,2,   0.096,2,-999.000,1,        0,2,  2238.9,2,  2338.9,2,-999.0000,9,  -999.00,-999.000,9,-999.0000,9, -999.00,9, -999.00,9,  -999.0,9,  -999.0,-999.000,9,-999.000,  -999.0,9,-999.000,-999.0000, -999.00,   3.5236,   3.6152,2,20091208,       1118
318M20091121,        P06,      62,          1,         14,         14,2,20091208,       1003,   -30.3300,   176.7500,       4331,  1411.2,   3.2952,  34.5288,  34.5295,2,    165.1,2,   165.3,2,   77.03,2,   33.11,2,    0.00,2,    2.34,2,   0.117,2,   0.069,2,-999.000,1,        0,2,  2255.2,2,  2348.0,2,-999.0000,9,  -999.00,-999.000,9,-999.0000,9, -999.00,9, -999.00,9,  -999.0,9,  -999.0,-999.000,9,-999.000,  -999.0,9,-999.000,-999.0000, -999.00,   3.1916,   3.2948,2,20091208,       1115
318M20091121,        P06,      62,          1,         13,         13,2,20091208,       1003,   -30.3300,   176.7500,       4331,  1512.3,   3.0256,  34.5605,  34.5604,2,    161.0,2,   160.5,2,   86.59,2,   33.54,2,    0.00,2,    2.37,2,   0.087,2,   0.053,2,-999.000,1,        0,2,  2266.5,2,  2361.3,2,-999.0000,9,  -999.00,-999.000,9,-999.0000,9, -999.00,9, -999.00,9,  -999.0,9,  -999.0,-999.000,9,-999.000,    36.2,2,-999.000,-999.0000, -999.00,   2.9165,   3.0271,2,20091208,       1111
318M20091121,        P06,      62,          1,         12,         12,2,20091208,       1003,   -30.3300,   176.7500,       4331,  1616.1,   2.8128,  34.5918,  34.5919,2,    158.0,2,   158.2,2,   95.36,2,   33.74,2,    0.00,2,    2.39,2,   0.072,2,   0.044,2,-999.000,1,        0,2,  2276.0,2,  2376.1,2,-999.0000,9,  -999.00,-999.000,9,-999.0000,9, -999.00,9, -999.00,9,  -999.0,9,  -999.0,-999.000,9,-999.000,  -999.0,9,-999.000,-999.0000, -999.00,   2.6974,   2.8132,2,20091208,       1107
318M20091121,        P06,      62,          1,         11,         11,2,20091208,       1003,   -30.3300,   176.7500,       4331,  1716.2,   2.6244,  34.6075,  34.6072,2,    155.9,2,   155.8,2,  100.88,2,   34.02,2,    0.00,2,    2.41,2,   0.043,2,   0.027,2,-999.000,1,        0,2,  2282.5,2,  2377.7,2,-999.0000,9,  -999.00,-999.000,9,-999.0000,9, -999.00,9, -999.00,9,  -999.0,9,  -999.0,-999.000,9,-999.000,    38.2,2,-999.000,-999.0000, -999.00,   2.5030,   2.6262,2,20091208,       1104
318M20091121,        P06,      62,          1,         10,         10,2,20091208,       1003,   -30.3300,   176.7500,       4331,  1816.8,   2.4802,  34.6194,  34.6195,2,    154.7,2,   154.4,2,  105.57,2,   34.17,2,    0.00,2,    2.43,2,   0.031,2,   0.017,2,-999.000,1,        0,2,  2289.2,2,  2383.5,2,-999.0000,9,  -999.00,-999.000,9,-999.0000,9, -999.00,9, -999.00,9,  -999.0,9,  -999.0,-999.000,9,-999.000,  -999.0,9,-999.000,-999.0000, -999.00,   2.3522,   2.4803,2,20091208,       1101
318M20091121,        P06,      62,          1,          9,          9,2,20091208,       1003,   -30.3300,   176.7500,       4331,  2020.8,   2.2683,  34.6376,  34.6376,2,    153.0,2,   152.7,2,  111.92,2,   34.45,2,    0.00,2,    2.45,2,   0.017,2,   0.010,2,-999.000,1,        0,2,  2295.8,2,  2389.5,2,-999.0000,9,  -999.00,-999.000,9,-999.0000,9, -999.00,9, -999.00,9,  -999.0,9,  -999.0,-999.000,9,-999.000,    36.8,2,-999.000,-999.0000, -999.00,   2.1260,   2.2687,2,20091208,       1056
318M20091121,        P06,      62,          1,          8,          8,2,20091208,       1003,   -30.3300,   176.7500,       4331,  2274.4,   2.1022,  34.6529,  34.6535,2,    152.9,2,   152.4,2,  117.04,2,   34.50,2,    0.00,2,    2.46,2,   0.033,2,   0.022,2,-999.000,1,        0,2,  2300.3,2,  2396.0,2,-999.0000,9,  -999.00,-999.000,9,-999.0000,9, -999.00,9, -999.00,9,  -999.0,9,  -999.0,-999.000,9,-999.000,  -999.0,9,-999.000,-999.0000, -999.00,   1.9403,   2.1021,2,20091208,       1050
318M20091121,        P06,      62,          1,          7,          7,2,20091208,       1003,   -30.3300,   176.7500,       4331,  2528.0,   1.9823,  34.6645,  34.6647,2,    153.5,2,   153.6,2,  120.10,2,   34.59,2,    0.00,2,    2.46,2,   0.008,2,   0.006,2,-999.000,1,        0,2,  2304.2,2,  2398.9,2,-999.0000,9,  -999.00,-999.000,9,-999.0000,9, -999.00,9, -999.00,9,  -999.0,9,  -999.0,-999.000,9,-999.000,    35.4,2,-999.000,-999.0000, -999.00,   1.7997,   1.9826,2,20091208,       1044
318M20091121,        P06,      62,          1,          6,          6,2,20091208,       1003,   -30.3300,   176.7500,       4331,  2783.2,   1.9044,  34.6722,  34.6732,2,    154.3,2,   154.1,2,  122.35,2,   34.59,2,    0.00,2,    2.46,2,   0.009,2,   0.007,2,-999.000,1,        0,2,  2306.3,2,  2402.5,2,-999.0000,9,  -999.00,-999.000,9,-999.0000,9, -999.00,9, -999.00,9,  -999.0,9,  -999.0,-999.000,9,-999.000,  -999.0,9,-999.000,-999.0000, -999.00,   1.6995,   1.9046,2,20091208,       1038
318M20091121,        P06,      62,          1,          5,          5,2,20091208,       1003,   -30.3300,   176.7500,       4331,  3037.6,   1.8594,  34.6774,  34.6779,2,    154.7,2,   154.8,2,  124.19,2,   34.63,2,    0.00,2,    2.46,2,   0.023,2,   0.015,2,-999.000,1,        0,2,  2307.7,2,  2406.0,2,-999.0000,9,  -999.00,-999.000,9,-999.0000,9, -999.00,9, -999.00,9,  -999.0,9,  -999.0,-999.000,9,-999.000,    33.2,2,-999.000,-999.0000, -999.00,   1.6310,   1.8593,2,20091208,       1033
318M20091121,        P06,      62,          1,          4,          4,2,20091208,       1003,   -30.3300,   176.7500,       4331,  3340.8,   1.8533,  34.6800,  34.6805,2,    155.1,2,   154.7,2,  124.99,2,   34.58,2,    0.00,2,    2.45,2,   0.007,2,   0.004,2,-999.000,1,        0,2,  2309.6,2,  2409.7,2,-999.0000,9,  -999.00,-999.000,9,-999.0000,9, -999.00,9, -999.00,9,  -999.0,9,  -999.0,-999.000,9,-999.000,  -999.0,9,-999.000,-999.0000, -999.00,   1.5947,   1.8532,2,20091208,       1026
318M20091121,        P06,      62,          1,          3,          3,2,20091208,       1003,   -30.3300,   176.7500,       4331,  3681.5,   1.8655,  34.6817,  34.6817,2,    154.5,2,   154.9,2,  125.80,2,   34.62,2,    0.00,2,    2.46,2,   0.024,2,   0.017,2,-999.000,1,        0,2,  2310.6,2,  2408.6,6,-999.0000,9,  -999.00,-999.000,9,-999.0000,9, -999.00,9, -999.00,9,  -999.0,9,  -999.0,-999.000,9,-999.000,    37.5,2,-999.000,-999.0000, -999.00,   1.5710,   1.8659,2,20091208,       1019
318M20091121,        P06,      62,          1,          2,          2,2,20091208,       1003,   -30.3300,   176.7500,       4331,  4018.5,   1.8897,  34.6823,  34.6829,2,    154.6,2,   154.7,2,  126.20,2,   34.62,2,    0.00,2,    2.45,2,   0.009,2,   0.007,2,-999.000,1,        0,2,  2310.6,2,  2410.6,2,-999.0000,9,  -999.00,-999.000,9,-999.0000,9, -999.00,9, -999.00,9,  -999.0,9,  -999.0,-999.000,9,-999.000,  -999.0,9,-999.000,-999.0000, -999.00,   1.5577,   1.8897,2,20091208,       1011
318M20091121,        P06,      62,          1,          1,          1,2,20091208,       1003,   -30.3300,   176.7500,       4331,  4395.3,   1.9290,  34.6825,  34.6831,2,    154.9,2,   154.7,2,  126.18,2,   34.61,2,    0.00,2,    2.45,2,   0.011,2,   0.008,2,-999.000,1,        0,2,  2311.3,6,  2412.1,2,-999.0000,9,  -999.00,-999.000,9,-999.0000,9, -999.00,9, -999.00,9,  -999.0,9,  -999.0,-999.000,9,-999.000,    38.5,2,-999.000,-999.0000, -999.00,   1.5529,   1.9294,2,20091208,       1003