BOTTLE,20220818CCHSIOAMB
EXPOCODE,SECT_ID,STNNBR,CASTNO,SAMPNO,BTLNBR,BTLNBR_FLAG_W,DATE,TIME,LATITUDE,LONGITUDE,DEPTH,CTDPRS,CTDTMP,CTDSAL,SALNTY,SALNTY_FLAG_W,CTDOXY,CTDOXY_FLAG_W,OXYGEN,OXYGEN_FLAG_W,SILCAT,SILCAT_FLAG_W,NITRAT,NITRAT_FLAG_W,NITRIT,NITRIT_FLAG_W,PHSPHT,PHSPHT_FLAG_W,CFC-11,CFC-11_FLAG_W,CFC-12,CFC-12_FLAG_W,CFC113,CFC113_FLAG_W,SF6,SF6_FLAG_W,TCARBN,TCARBN_FLAG_W,ALKALI,ALKALI_FLAG_W,PH_SWS,PH_SWS_FLAG_W,PH_TMP,TRITUM,TRITUM_FLAG_W,HELIUM,HELIUM_FLAG_W,DELHE3,DELHE3_FLAG_W,DELC13,DELC13_FLAG_W,DELC14,DELC14_FLAG_W,C14ERR,NEON,NEON_FLAG_W,NEONER,DOC,DOC_FLAG_W,TRITER,HELIER,DELHER,THETA,SBE35,SBE35_FLAG_W,BTL_DATE,BTL_TIME
,,,,,,,,,,,METERS,DBAR,ITS-90,PSS-78,PSS-78,,UMOL/KG,,UMOL/KG,,UMOL/KG,,UMOL/KG,,UMOL/KG,,UMOL/KG,,PMOL/KG,,PMOL/KG,,PMOL/KG,,FMOL/KG,,UMOL/KG,,UMOL/KG,,,,DEG C,TU,,NMOL/KG,,PERCNT,,/MILLE,,/MILLE,,/MILLE,NMOL/KG,,NMOL/KG,UMOL/KG,,TU,NMOL/KG,PERCNT,DEG C,ITS-90,,,
318M20091121,        P06,     124,          1,         36,         36,2,20091229,       0411,   -32.5002,  -147.9171,       4925,     3.8,  22.2162,  35.3215,  35.3227,2,    219.6,2,   219.7,2,    0.91,2,   -0.01,2,    0.01,2,    0.09,2,   1.867,2,   1.254,2,-999.000,1,     1.22,2,  2035.4,6,  2319.0,2,   8.0138,2,    25.00,-999.000,9,-999.0000,9, -999.00,9, -999.00,9,  -999.0,9,  -999.0,-999.000,9,-999.000,    62.1,2,-999.000,-999.0000, -999.00,  22.2154,  22.2153,2,20091229,       0629
318M20091121,        P06,     124,          1,         35,         35,2,20091229,       0411,   -32.5002,  -147.9171,       4925,    21.7,  21.0045,  35.3055,  35.3069,2,    226.4,2,   226.8,2,    0.62,2,    0.00,2,    0.00,2,    0.08,2,   1.988,2,   1.330,2,-999.000,1,    1.167,2,  2035.1,2,  2315.7,6,   8.0118,6,    25.00,-999.000,9,-999.0000,9, -999.00,9, -999.00,9,  -999.0,9,  -999.0,-999.000,9,-999.000,    61.4,2,-999.000,-999.0000, -999.00,  21.0004,  21.0000,2,20091229,       0627
318M20091121,        P06,     124,          1,         34,         34,2,20091229,       0411,   -32.5002,  -147.9171,       4925,    42.4,  18.7882,  35.3445,  35.3444,2,    240.7,2,   240.7,2,    0.71,2,    0.00,2,    0.00,2,    0.09,2,   2.233,2,   1.471,2,-999.000,1,    1.265,2,  2042.9,2,  2316.8,2,   8.0044,2,    25.00,-999.000,9,-999.0000,9, -999.00,9, -999.00,9,  -999.0,9,  -999.0,-999.000,9,-999.000,    59.7,2,-999.000,-999.0000, -999.00,  18.7807,  18.7892,2,20091229,       0626
318M20091121,        P06,     124,          1,         33,         33,2,20091229,       0411,   -32.5002,  -147.9171,       4925,    64.6,  17.8188,  35.3467,  35.3458,2,    246.2,2,   245.5,2,    0.62,2,    0.00,2,    0.00,2,    0.09,2,   2.299,2,   1.509,2,-999.000,1,      1.4,2,  2042.8,2,  2322.0,2,   7.9994,2,    25.00,-999.000,9,-999.0000,9, -999.00,9, -999.00,9,  -999.0,9,  -999.0,-999.000,9,-999.000,    57.8,2,-999.000,-999.0000, -999.00,  17.8078,  17.8268,2,20091229,       0624
318M20091121,        P06,     124,          1,         32,         32,2,20091229,       0411,   -32.5002,  -147.9171,       4925,    90.0,  17.0995,  35.3393,  35.3397,2,    232.4,2,   244.5,2,    0.72,2,    0.00,2,    0.00,2,    0.11,2,   2.325,2,   1.512,2,-999.000,1,     1.41,2,  2046.3,2,  2319.9,2,   7.9947,2,    25.00,-999.000,9,-999.0000,9, -999.00,9, -999.00,9,  -999.0,9,  -999.0,-999.000,9,-999.000,    59.4,2,-999.000,-999.0000, -999.00,  17.0846,  17.0879,2,20091229,       0622
318M20091121,        P06,     124,          1,         31,         31,2,20091229,       0411,   -32.5002,  -147.9171,       4925,   135.2,  16.1209,  35.3109,  35.3093,2,    212.9,2,   212.1,2,    1.23,2,    2.77,2,    0.06,2,    0.33,2,   2.364,2,   1.519,2,-999.000,1,     1.02,2,  2075.2,2,  2320.9,2,   7.9386,2,    25.00,-999.000,9,-999.0000,9, -999.00,9, -999.00,9,  -999.0,9,  -999.0,-999.000,9,-999.000,    47.4,2,-999.000,-999.0000, -999.00,  16.0994,  16.1207,2,20091229,       0620
318M20091121,        P06,     124,          1,         30,         30,2,20091229,       0411,   -32.5002,  -147.9171,       4925,   185.6,  15.0603,  35.2056,  35.2121,2,    207.1,2,   208.0,2,    1.53,2,    4.63,2,    0.02,2,    0.46,2,   2.431,2,   1.558,2,-999.000,1,     1.06,2,  2085.9,2,  2289.8,4,   7.9093,2,    25.00,-999.000,9,-999.0000,9, -999.00,9, -999.00,9,  -999.0,9,  -999.0,-999.000,9,-999.000,    46.0,2,-999.000,-999.0000, -999.00,  15.0321,  15.0509,2,20091229,       0618
318M20091121,        P06,     124,          1,         29,         29,2,20091229,       0411,   -32.5002,  -147.9171,       4925,   236.8,  13.7816,  35.0724,  35.0681,2,    201.4,2,   201.2,2,    2.24,2,    8.19,2,    0.01,2,    0.68,2,   2.508,2,   1.566,2,-999.000,1,     0.96,2,  2102.2,2,  2308.9,2,   7.8643,2,    25.00,-999.000,9,-999.0000,9, -999.00,9, -999.00,9,  -999.0,9,  -999.0,-999.000,9,-999.000,    43.8,2,-999.000,-999.0000, -999.00,  13.7477,  13.7805,2,20091229,       0616
318M20091121,        P06,     124,          1,         28,         28,2,20091229,       0411,   -32.5002,  -147.9171,       4925,   286.9,  11.9755,  34.8708,  34.8689,2,    201.9,2,   201.9,2,    3.14,2,   11.87,2,    0.01,2,    0.92,2,   2.603,2,   1.548,2,-999.000,1,    0.808,2,  2115.0,2,  2292.2,2,   7.8207,2,    25.00,-999.000,9,-999.0000,9, -999.00,9, -999.00,9,  -999.0,9,  -999.0,-999.000,9,-999.000,    43.1,2,-999.000,-999.0000, -999.00,  11.9380,  11.9779,2,20091229,       0614
318M20091121,        P06,     124,          1,         27,         27,2,20091229,       0411,   -32.5002,  -147.9171,       4925,   337.2,  10.3584,  34.6860,  34.6880,2,    209.7,2,   210.6,2,    3.65,2,   14.58,2,    0.00,2,    1.09,2,   2.804,2,   1.641,2,-999.000,1,    0.787,2,  2122.8,2,  2289.6,2,   7.7856,2,    25.00,-999.000,9,-999.0000,9, -999.00,9, -999.00,9,  -999.0,9,  -999.0,-999.000,9,-999.000,    44.5,2,-999.000,-999.0000, -999.00,  10.3183,  10.3949,3,20091229,       0612
318M20091121,        P06,     124,          1,         26,         26,2,20091229,       0411,   -32.5002,  -147.9171,       4925,   387.7,   9.2783,  34.5753,  34.5770,2,    215.6,2,   218.0,2,    4.35,2,   16.61,2,    0.00,2,    1.22,2,   2.922,6,   1.703,6,-999.000,1,   0.7965,6,  2128.2,2,  2283.5,2,   7.7647,2,    25.00,-999.000,9,-999.0000,9, -999.00,9, -999.00,9,  -999.0,9,  -999.0,-999.000,9,-999.000,    43.9,2,-999.000,-999.0000, -999.00,   9.2351,   9.2759,2,20091229,       0609
318M20091121,        P06,     124,          1,         25,         25,2,20091229,       0411,   -32.5002,  -147.9171,       4925,   468.9,   7.8802,  34.4469,  34.4478,2,    231.1,2,   235.0,2,    5.26,2,   19.21,2,    0.00,2,    1.38,2,   3.232,2,   1.844,2,-999.000,1,    0.762,2,  2133.4,2,  2283.7,2,   7.7471,2,    25.00,-999.000,9,-999.0000,9, -999.00,9, -999.00,9,  -999.0,9,  -999.0,-999.000,9,-999.000,    41.8,2,-999.000,-999.0000, -999.00,   7.8327,   7.8705,2,20091229,       0606
318M20091121,        P06,     124,          1,         24,         24,2,20091229,       0411,   -32.5002,  -147.9171,       4925,   569.4,   7.1287,  34.3889,  34.3887,2,    241.9,2,   242.3,2,    6.56,2,   21.02,2,    0.00,2,    1.49,2,   3.190,2,   1.777,2,-999.000,1,    0.743,2,  2135.3,2,  2285.4,2,   7.7386,2,    25.00,-999.000,9,-999.0000,9, -999.00,9, -999.00,9,  -999.0,9,  -999.0,-999.000,9,-999.000,  -999.0,9,-999.000,-999.0000, -999.00,   7.0739,   7.1275,2,20091229,       0603
318M20091121,        P06,     124,          1,         23,         23,2,20091229,       0411,   -32.5002,  -147.9171,       4925,   671.7,   6.5544,  34.3455,  34.3447,2,    241.4,2,   242.1,2,    8.28,2,   22.66,2,    0.00,2,    1.59,2,   2.708,2,   1.504,2,-999.000,1,    0.331,2,  2139.8,2,  2264.7,4,   7.7272,2,    25.00,-999.000,9,-999.0000,9, -999.00,9, -999.00,9,  -999.0,9,  -999.0,-999.000,9,-999.000,    41.1,2,-999.000,-999.0000, -999.00,   6.4923,   6.5550,2,20091229,       0600
318M20091121,        P06,     124,          1,         22,         22,2,20091229,       0411,   -32.5002,  -147.9171,       4925,   774.1,   6.0262,  34.3183,  34.3176,2,    235.4,2,   235.2,2,   11.19,2,   24.49,2,    0.00,2,    1.71,2,   2.008,2,   1.100,2,-999.000,1,    0.325,2,  2146.2,2,  2283.9,2,   7.7126,2,    25.00,-999.000,9,-999.0000,9, -999.00,9, -999.00,9,  -999.0,9,  -999.0,-999.000,9,-999.000,  -999.0,9,-999.000,-999.0000, -999.00,   5.9571,   6.0269,2,20091229,       0556
318M20091121,        P06,     124,          1,         21,         21,2,20091229,       0411,   -32.5002,  -147.9171,       4925,   880.9,   5.4945,  34.3060,  34.3054,2,    225.6,2,   224.2,2,   16.12,2,   26.67,2,    0.00,2,    1.86,2,   1.510,2,   0.809,2,-999.000,1,        0,2,  2162.0,2,  2287.0,2,   7.6886,2,    25.00,-999.000,9,-999.0000,9, -999.00,9, -999.00,9,  -999.0,9,  -999.0,-999.000,9,-999.000,    38.6,2,-999.000,-999.0000, -999.00,   5.4188,   5.4948,2,20091229,       0553
318M20091121,        P06,     124,          1,         20,         20,2,20091229,       0411,   -32.5002,  -147.9171,       4925,   983.6,   4.8764,  34.3116,  34.3117,2,    213.1,2,   210.4,2,   23.87,2,   28.96,2,    0.00,2,    2.03,2,   1.015,2,   0.541,2,-999.000,1,        0,2,  2179.6,6,  2291.0,6,   7.6578,2,    25.00,-999.000,9,-999.0000,9, -999.00,9, -999.00,9,  -999.0,9,  -999.0,-999.000,9,-999.000,  -999.0,9,-999.000,-999.0000, -999.00,   4.7958,   4.8774,2,20091229,       0549
318M20091121,        P06,     124,          1,         19,         19,2,20091229,       0411,   -32.5002,  -147.9171,       4925,  1083.9,   4.2063,  34.3373,  34.3372,2,    198.7,2,   197.2,2,   34.47,2,   31.12,2,    0.00,2,    2.17,2,   0.600,2,   0.322,2,-999.000,1,        0,2,  2198.5,2,  2300.5,2,   7.6263,2,    25.00,-999.000,9,-999.0000,9, -999.00,9, -999.00,9,  -999.0,9,  -999.0,-999.000,9,-999.000,    39.5,2,-999.000,-999.0000, -999.00,   4.1222,   4.2052,2,20091229,       0546
318M20091121,        P06,     124,          1,         18,         18,2,20091229,       0411,   -32.5002,  -147.9171,       4925,  1184.6,   3.7667,  34.3693,  34.3691,2,    189.1,2,   188.4,2,   43.26,2,   32.36,2,    0.00,2,    2.26,2,   0.340,2,   0.189,2,-999.000,1,        0,2,  2213.6,2,  2311.1,2,   7.6087,2,    25.00,-999.000,9,-999.0000,9, -999.00,9, -999.00,9,  -999.0,9,  -999.0,-999.000,9,-999.000,  -999.0,9,-999.000,-999.0000, -999.00,   3.6778,   3.7681,2,20091229,       0543
318M20091121,        P06,     124,          1,         17,         17,2,20091229,       0411,   -32.5002,  -147.9171,       4925,  1286.7,   3.3313,  34.4175,  34.4176,2,    180.3,2,   179.4,2,   54.10,2,   33.35,2,    0.00,2,    2.33,2,   0.186,2,   0.107,2,-999.000,1,        0,2,  2229.0,2,  2321.8,2,   7.5931,2,    25.00,-999.000,9,-999.0000,9, -999.00,9, -999.00,9,  -999.0,9,  -999.0,-999.000,9,-999.000,    39.4,2,-999.000,-999.0000, -999.00,   3.2380,   3.3299,2,20091229,       0540
318M20091121,        P06,     124,          1,         16,         16,2,20091229,       0411,   -32.5002,  -147.9171,       4925,  1387.6,   3.0344,  34.4677,  34.4680,2,    172.8,2,   172.4,2,   64.15,2,   33.95,2,    0.00,2,    2.38,2,   0.102,2,   0.063,2,-999.000,1,        0,2,  2240.7,2,  2333.7,2,   7.5840,2,    25.00,-999.000,9,-999.0000,9, -999.00,9, -999.00,9,  -999.0,9,  -999.0,-999.000,9,-999.000,  -999.0,9,-999.000,-999.0000, -999.00,   2.9357,   3.0343,2,20091229,       0537
318M20091121,        P06,     124,          1,         15,         15,2,20091229,       0411,   -32.5002,  -147.9171,       4925,  1488.9,   2.8100,  34.5177,  34.5164,2,    165.4,2,   165.1,2,   75.04,2,   34.25,2,    0.00,2,    2.41,2,   0.049,2,   0.035,2,-999.000,1,        0,2,  2255.0,2,  2347.5,2,   7.5797,2,    25.00,-999.000,9,-999.0000,9, -999.00,9, -999.00,9,  -999.0,9,  -999.0,-999.000,9,-999.000,    39.5,2,-999.000,-999.0000, -999.00,   2.7054,   2.8105,2,20091229,       0533
318M20091121,        P06,     124,          1,         14,         14,2,20091229,       0411,   -32.5002,  -147.9171,       4925,  1590.7,   2.6364,  34.5535,  34.5531,2,    161.1,2,   161.2,2,   84.53,2,   34.50,2,    0.00,2,    2.43,2,   0.027,2,   0.018,2,-999.000,1,        0,2,  2265.1,2,  2357.1,2,   7.5781,2,    25.00,-999.000,9,-999.0000,9, -999.00,9, -999.00,9,  -999.0,9,  -999.0,-999.000,9,-999.000,  -999.0,9,-999.000,-999.0000, -999.00,   2.5254,   2.6362,2,20091229,       0530
318M20091121,        P06,     124,          1,         13,         13,2,20091229,       0411,   -32.5002,  -147.9171,       4925,  1751.0,   2.4372,  34.5913,  34.5909,2,    156.3,2,   156.6,2,   95.68,2,   34.70,2,    0.00,2,    2.45,2,   0.025,2,   0.019,2,-999.000,1,        0,2,  2278.2,2,  2372.7,2,   7.5783,2,    25.00,-999.000,9,-999.0000,9, -999.00,9, -999.00,9,  -999.0,9,  -999.0,-999.000,9,-999.000,    35.3,2,-999.000,-999.0000, -999.00,   2.3154,   2.4379,2,20091229,       0526
318M20091121,        P06,     124,          1,         12,         12,2,20091229,       0411,   -32.5002,  -147.9171,       4925,  1956.1,   2.2415,  34.6226,  34.6220,2,    152.6,2,   153.0,2,  106.45,2,   35.00,2,    0.00,2,    2.46,2,   0.026,2,   0.018,2,-999.000,1,        0,2,  2290.5,2,  2380.7,2,   7.5785,2,    25.00,-999.000,9,-999.0000,9, -999.00,9, -999.00,9,  -999.0,9,  -999.0,-999.000,9,-999.000,  -999.0,9,-999.000,-999.0000, -999.00,   2.1051,   2.2418,2,20091229,       0521
318M20091121,        P06,     124,          1,         11,         11,2,20091229,       0411,   -32.5002,  -147.9171,       4925,  2189.1,   2.0566,  34.6428,  34.6423,2,    151.0,2,   151.3,2,  115.00,2,   35.20,2,    0.00,2,    2.48,2,   0.018,2,   0.013,2,-999.000,1,        0,2,  2299.6,2,  2394.0,2,   7.5779,2,    25.00,-999.000,9,-999.0000,9, -999.00,9, -999.00,9,  -999.0,9,  -999.0,-999.000,9,-999.000,    36.1,2,-999.000,-999.0000, -999.00,   1.9030,   2.0563,2,20091229,       0515
318M20091121,        P06,     124,          1,         10,         10,2,20091229,       0411,   -32.5002,  -147.9171,       4925,  2443.4,   1.9278,  34.6546,  34.6541,2,    150.7,2,   150.9,2,  121.30,2,   35.20,2,    0.00,2,    2.49,2,   0.018,2,   0.014,2,-999.000,1,        0,2,  2304.5,2,  2399.6,2,   7.5773,2,    25.00,-999.000,9,-999.0000,9, -999.00,9, -999.00,9,  -999.0,9,  -999.0,-999.000,9,-999.000,  -999.0,9,-999.000,-999.0000, -999.00,   1.7539,   1.9276,2,20091229,       0509
318M20091121,        P06,     124,          1,          9,          9,2,20091229,       0411,   -32.5002,  -147.9171,       4925,  2698.4,   1.8239,  34.6638,  34.6639,2,    151.9,2,   152.3,2,  124.94,2,   35.21,2,    0.00,2,    2.48,2,   0.017,2,   0.013,2,-999.000,1,        0,2,  2306.2,2,  2404.3,2,   7.5796,2,    25.00,-999.000,9,-999.0000,9, -999.00,9, -999.00,9,  -999.0,9,  -999.0,-999.000,9,-999.000,    36.2,2,-999.000,-999.0000, -999.00,   1.6287,   1.8240,2,20091229,       0504
318M20091121,        P06,     124,          1,          8,          8,2,20091229,       0411,   -32.5002,  -147.9171,       4925,  2951.9,   1.7316,  34.6718,  34.6708,2,    156.5,2,   156.4,2,  126.09,2,   35.01,2,    0.00,2,    2.46,2,   0.024,2,   0.017,2,-999.000,1,        0,2,  2306.0,2,  2398.8,2,   7.5854,2,    25.00,-999.000,9,-999.0000,9, -999.00,9, -999.00,9,  -999.0,9,  -999.0,-999.000,9,-999.000,  -999.0,9,-999.000,-999.0000, -999.00,   1.5143,   1.7316,2,20091229,       0457
318M20091121,        P06,     124,          1,          7,          7,2,20091229,       0411,   -32.5002,  -147.9171,       4925,  3244.8,   1.6305,  34.6809,  34.6805,2,    164.1,2,   164.1,2,  124.98,2,   34.51,2,    0.00,2,    2.43,2,   0.018,2,   0.013,2,-999.000,1,        0,2,  2299.7,2,  2394.7,2,   7.5898,2,    25.00,-999.000,9,-999.0000,9, -999.00,9, -999.00,9,  -999.0,9,  -999.0,-999.000,9,-999.000,    36.9,2,-999.000,-999.0000, -999.00,   1.3868,   1.6307,2,20091229,       0451
318M20091121,        P06,     124,          1,          6,          6,2,20091229,       0411,   -32.5002,  -147.9171,       4925,  3550.0,   1.5080,  34.6906,  34.6907,2,    173.4,2,   174.2,2,  122.64,2,   33.71,2,    0.00,2,    2.38,2,   0.020,2,   0.017,2,-999.000,1,        0,2,  2290.1,2,  2389.8,2,   7.5992,2,    25.00,-999.000,9,-999.0000,9, -999.00,9, -999.00,9,  -999.0,9,  -999.0,-999.000,9,-999.000,  -999.0,9,-999.000,-999.0000, -999.00,   1.2364,   1.5074,2,20091229,       0444
318M20091121,        P06,     124,          1,          5,         37,2,20091229,       0411,   -32.5002,  -147.9171,       4925,  3857.2,   1.3944,  34.6987,  34.6980,2,    183.1,2,   183.4,2,  120.29,2,   33.07,2,    0.00,2,    2.32,2,   0.011,2,   0.008,2,-999.000,1,        0,2,  2277.6,3,  -999.0,9,-999.0000,9,  -999.00,-999.000,9,-999.0000,9, -999.00,9, -999.00,9,  -999.0,9,  -999.0,-999.000,9,-999.000,    37.2,2,-999.000,-999.0000, -999.00,   1.0936,   1.3948,2,20091229,       0437
318M20091121,        P06,     124,          1,          4,          4,2,20091229,       0411,   -32.5002,  -147.9171,       4925,  4166.1,   1.2950,  34.7039,  34.7035,2,    190.9,2,   191.6,2,  119.40,2,   32.58,2,    0.00,2,    2.28,2,   0.022,2,   0.015,2,-999.000,1,        0,2,  2273.8,2,  2382.5,2,   7.6110,2,    25.00,-999.000,9,-999.0000,9, -999.00,9, -999.00,9,  -999.0,9,  -999.0,-999.000,9,-999.000,  -999.0,9,-999.000,-999.0000, -999.00,   0.9636,   1.2953,2,20091229,       0430
318M20091121,        P06,     124,          1,          3,          3,2,20091229,       0411,   -32.5002,  -147.9171,       4925,  4474.9,   1.2543,  34.7065,  34.7069,2,    195.1,2,   195.2,2,  118.50,2,   32.34,2,    0.00,2,    2.26,2,   0.014,2,   0.010,2,-999.000,1,        0,2,  2270.2,2,  2380.9,2,   7.6143,2,    25.00,-999.000,9,-999.0000,9, -999.00,9, -999.00,9,  -999.0,9,  -999.0,-999.000,9,-999.000,    35.9,2,-999.000,-999.0000, -999.00,   0.8896,   1.2547,2,20091229,       0424
318M20091121,        P06,     124,          1,          2,          2,2,20091229,       0411,   -32.5002,  -147.9171,       4925,  4782.7,   1.2639,  34.7072,  34.7065,2,    197.1,2,   197.1,2,  118.42,2,   32.24,2,    0.00,2,    2.26,2,   0.015,2,   0.011,2,-999.000,1,        0,2,  2267.1,2,  2372.9,6,   7.6204,6,    25.00,-999.000,9,-999.0000,9, -999.00,9, -999.00,9,  -999.0,9,  -999.0,-999.000,9,-999.000,  -999.0,9,-999.000,-999.0000, -999.00,   0.8633,   1.2641,2,20091229,       0417
318M20091121,        P06,     124,          1,          1,          1,2,20091229,       0411,   -32.5002,  -147.9171,       4925,  4996.5,   1.2763,  34.7074,  34.7073,2,    197.4,2,   197.4,2,  118.34,2,   32.19,2,    0.00,2,    2.25,2,   0.015,2,   0.008,2,-999.000,1,        0,2,  2269.3,6,  2373.7,2,   7.6163,2,    25.00,-999.000,9,-999.0000,9, -999.00,9, -999.00,9,  -999.0,9,  -999.0,-999.000,9,-999.000,    38.9,2,-999.000,-999.0000, -999.00,   0.8498,   1.2765,2,20091229,       0411