BOTTLE,20220818CCHSIOAMB
EXPOCODE,SECT_ID,STNNBR,CASTNO,SAMPNO,BTLNBR,BTLNBR_FLAG_W,DATE,TIME,LATITUDE,LONGITUDE,DEPTH,CTDPRS,CTDTMP,CTDSAL,SALNTY,SALNTY_FLAG_W,CTDOXY,CTDOXY_FLAG_W,OXYGEN,OXYGEN_FLAG_W,SILCAT,SILCAT_FLAG_W,NITRAT,NITRAT_FLAG_W,NITRIT,NITRIT_FLAG_W,PHSPHT,PHSPHT_FLAG_W,CFC-11,CFC-11_FLAG_W,CFC-12,CFC-12_FLAG_W,CFC113,CFC113_FLAG_W,SF6,SF6_FLAG_W,TCARBN,TCARBN_FLAG_W,ALKALI,ALKALI_FLAG_W,PH_SWS,PH_SWS_FLAG_W,PH_TMP,TRITUM,TRITUM_FLAG_W,HELIUM,HELIUM_FLAG_W,DELHE3,DELHE3_FLAG_W,DELC13,DELC13_FLAG_W,DELC14,DELC14_FLAG_W,C14ERR,NEON,NEON_FLAG_W,NEONER,DOC,DOC_FLAG_W,TRITER,HELIER,DELHER,THETA,SBE35,SBE35_FLAG_W,BTL_DATE,BTL_TIME
,,,,,,,,,,,METERS,DBAR,ITS-90,PSS-78,PSS-78,,UMOL/KG,,UMOL/KG,,UMOL/KG,,UMOL/KG,,UMOL/KG,,UMOL/KG,,PMOL/KG,,PMOL/KG,,PMOL/KG,,FMOL/KG,,UMOL/KG,,UMOL/KG,,,,DEG C,TU,,NMOL/KG,,PERCNT,,/MILLE,,/MILLE,,/MILLE,NMOL/KG,,NMOL/KG,UMOL/KG,,TU,NMOL/KG,PERCNT,DEG C,ITS-90,,,
318M20091121,        P06,     113,          2,         36,         36,2,20091225,       0922,   -32.5000,  -155.6767,       5287,     5.3,  21.0601,  35.3537,  35.3535,2,    224.9,2,   224.6,2,    0.34,2,   -0.01,2,    0.01,2,    0.11,2,   2.010,2,   1.334,2,-999.000,1,    1.273,2,  2046.5,6,  2320.6,6,   7.9936,6,    25.00,-999.000,9,-999.0000,9, -999.00,9, -999.00,9,  -999.0,9,  -999.0,-999.000,9,-999.000,  -999.0,9,-999.000,-999.0000, -999.00,  21.0591,  21.0561,2,20091225,       1143
318M20091121,        P06,     113,          2,         35,         35,2,20091225,       0922,   -32.5000,  -155.6767,       5287,    24.7,  21.0461,  35.3524,  35.3527,2,    224.9,2,   225.3,2,    0.30,2,    0.00,2,    0.00,2,    0.11,2,   2.020,2,   1.300,2,-999.000,1,    1.168,2,  -999.0,9,  -999.0,9,-999.0000,9,  -999.00,-999.000,9,-999.0000,9, -999.00,9, -999.00,9,  -999.0,9,  -999.0,-999.000,9,-999.000,  -999.0,9,-999.000,-999.0000, -999.00,  21.0414,  21.0525,2,20091225,       1141
318M20091121,        P06,     113,          2,         34,         34,2,20091225,       0922,   -32.5000,  -155.6767,       5287,    50.4,  18.1806,  35.3257,  35.3245,2,    246.4,2,   246.7,2,    0.06,2,    0.00,2,    0.00,2,    0.10,2,   2.366,2,   1.504,2,-999.000,1,    1.311,2,  2045.6,2,  2316.4,2,   7.9947,2,    25.00,-999.000,9,-999.0000,9, -999.00,9, -999.00,9,  -999.0,9,  -999.0,-999.000,9,-999.000,  -999.0,9,-999.000,-999.0000, -999.00,  18.1719,  18.0686,3,20091225,       1140
318M20091121,        P06,     113,          2,         33,         33,2,20091225,       0922,   -32.5000,  -155.6767,       5287,    76.3,  16.6481,  35.3242,  35.3231,2,    250.5,2,   250.4,2,    0.21,2,    0.00,2,    0.00,2,    0.12,2,   2.446,2,   1.533,2,-999.000,1,    1.369,2,  -999.0,9,  -999.0,9,-999.0000,9,  -999.00,-999.000,9,-999.0000,9, -999.00,9, -999.00,9,  -999.0,9,  -999.0,-999.000,9,-999.000,  -999.0,9,-999.000,-999.0000, -999.00,  16.6357,  16.6824,3,20091225,       1138
318M20091121,        P06,     113,          2,         32,         32,2,20091225,       0922,   -32.5000,  -155.6767,       5287,   102.4,  16.0935,  35.3282,  35.3277,2,    243.1,2,   242.7,2,    0.18,2,   -0.02,2,    0.02,2,    0.14,2,   2.459,2,   1.560,2,-999.000,1,    1.327,2,  2056.5,2,  2317.8,2,   7.9768,2,    25.00,-999.000,9,-999.0000,9, -999.00,9, -999.00,9,  -999.0,9,  -999.0,-999.000,9,-999.000,  -999.0,9,-999.000,-999.0000, -999.00,  16.0772,  16.1015,2,20091225,       1136
318M20091121,        P06,     113,          2,         31,         31,2,20091225,       0922,   -32.5000,  -155.6767,       5287,   150.6,  15.2785,  35.2530,  35.2523,2,    232.6,2,   233.5,2,    0.54,2,    1.28,2,    0.29,2,    0.25,2,   2.521,2,   1.584,2,-999.000,1,    1.428,2,  -999.0,9,  -999.0,9,-999.0000,9,  -999.00,-999.000,9,-999.0000,9, -999.00,9, -999.00,9,  -999.0,9,  -999.0,-999.000,9,-999.000,  -999.0,9,-999.000,-999.0000, -999.00,  15.2554,  15.2765,2,20091225,       1134
318M20091121,        P06,     113,          2,         30,         30,2,20091225,       0922,   -32.5000,  -155.6767,       5287,   200.9,  14.4426,  35.1970,  35.2066,2,    206.0,2,   210.0,2,    1.31,2,    5.93,2,    0.02,2,    0.54,2,   2.543,2,   1.538,2,-999.000,1,    1.164,2,  2095.4,2,  2315.3,2,   7.8896,2,    25.00,-999.000,9,-999.0000,9, -999.00,9, -999.00,9,  -999.0,9,  -999.0,-999.000,9,-999.000,  -999.0,9,-999.000,-999.0000, -999.00,  14.4129,  14.4794,3,20091225,       1132
318M20091121,        P06,     113,          2,         29,         29,2,20091225,       0922,   -32.5000,  -155.6767,       5287,   250.7,  13.0336,  35.0639,  35.0658,2,    202.2,2,   202.1,2,    2.07,2,    9.49,2,    0.01,2,    0.76,2,   2.687,6,   1.613,6,-999.000,1,   0.9455,6,  -999.0,9,  -999.0,9,-999.0000,9,  -999.00,-999.000,9,-999.0000,9, -999.00,9, -999.00,9,  -999.0,9,  -999.0,-999.000,9,-999.000,  -999.0,9,-999.000,-999.0000, -999.00,  12.9990,  13.0327,2,20091225,       1130
318M20091121,        P06,     113,          2,         28,         28,2,20091225,       0922,   -32.5000,  -155.6767,       5287,   301.0,  11.6892,  34.8841,  34.8764,2,    204.4,2,   204.6,2,    2.64,2,   12.26,2,    0.00,2,    0.94,2,   2.790,2,   1.634,2,-999.000,1,    0.882,2,  2120.4,2,  2299.6,2,   7.8138,2,    25.00,-999.000,9,-999.0000,9, -999.00,9, -999.00,9,  -999.0,9,  -999.0,-999.000,9,-999.000,  -999.0,9,-999.000,-999.0000, -999.00,  11.6505,  11.6895,2,20091225,       1127
318M20091121,        P06,     113,          2,         27,         27,2,20091225,       0922,   -32.5000,  -155.6767,       5287,   350.4,  10.2020,  34.6928,  34.6941,2,    212.6,2,   210.9,2,    3.21,2,   14.98,2,    0.00,2,    1.12,2,   2.908,2,   1.659,2,-999.000,1,    0.734,2,  -999.0,9,  -999.0,9,-999.0000,9,  -999.00,-999.000,9,-999.0000,9, -999.00,9, -999.00,9,  -999.0,9,  -999.0,-999.000,9,-999.000,  -999.0,9,-999.000,-999.0000, -999.00,  10.1607,  10.2004,2,20091225,       1125
318M20091121,        P06,     113,          2,         26,         26,2,20091225,       0922,   -32.5000,  -155.6767,       5287,   402.1,   8.9873,  34.5637,  34.5662,2,    221.1,2,   220.6,2,    3.98,2,   17.24,2,    0.00,2,    1.25,2,   3.059,2,   1.726,2,-999.000,1,    0.736,2,  2131.9,2,  2287.9,2,   7.7614,2,    25.00,-999.000,9,-999.0000,9, -999.00,9, -999.00,9,  -999.0,9,  -999.0,-999.000,9,-999.000,  -999.0,9,-999.000,-999.0000, -999.00,   8.9434,   8.9822,2,20091225,       1123
318M20091121,        P06,     113,          2,         25,         25,2,20091225,       0922,   -32.5000,  -155.6767,       5287,   502.0,   7.5921,  34.4294,  34.4276,2,    236.7,2,   236.8,2,    5.37,2,   20.11,2,    0.00,2,    1.44,2,   3.316,2,   1.821,2,-999.000,1,     0.58,2,  2136.9,2,  2284.0,2,   7.7425,2,    25.00,-999.000,9,-999.0000,9, -999.00,9, -999.00,9,  -999.0,9,  -999.0,-999.000,9,-999.000,  -999.0,9,-999.000,-999.0000, -999.00,   7.5422,   7.5924,2,20091225,       1119
318M20091121,        P06,     113,          2,         24,         24,2,20091225,       0922,   -32.5000,  -155.6767,       5287,   604.9,   6.9852,  34.3828,  34.3830,2,    240.5,2,   241.0,2,    6.54,2,   21.66,2,    0.00,2,    1.53,2,   3.037,2,   1.656,2,-999.000,1,    0.467,2,  2139.7,2,  2283.1,2,   7.7348,2,    25.00,-999.000,9,-999.0000,9, -999.00,9, -999.00,9,  -999.0,9,  -999.0,-999.000,9,-999.000,  -999.0,9,-999.000,-999.0000, -999.00,   6.9275,   6.9853,2,20091225,       1116
318M20091121,        P06,     113,          2,         23,         23,2,20091225,       0922,   -32.5000,  -155.6767,       5287,   704.4,   6.5369,  34.3547,  34.3549,2,    237.7,2,   238.4,2,    8.33,2,   23.08,2,    0.00,2,    1.62,2,   2.498,2,   1.339,2,-999.000,1,    0.249,2,  2143.0,2,  2284.4,2,   7.7267,2,    25.00,-999.000,9,-999.0000,9, -999.00,9, -999.00,9,  -999.0,9,  -999.0,-999.000,9,-999.000,  -999.0,9,-999.000,-999.0000, -999.00,   6.4716,   6.5386,2,20091225,       1113
318M20091121,        P06,     113,          2,         22,         22,2,20091225,       0922,   -32.5000,  -155.6767,       5287,   805.6,   5.9714,  34.3205,  34.3207,2,    232.6,2,   233.0,2,   11.35,2,   24.90,2,    0.00,2,    1.74,2,   1.922,2,   0.973,2,-999.000,1,    0.086,2,  2150.3,2,  2281.2,2,   7.7100,2,    25.00,-999.000,9,-999.0000,9, -999.00,9, -999.00,9,  -999.0,9,  -999.0,-999.000,9,-999.000,  -999.0,9,-999.000,-999.0000, -999.00,   5.8997,   5.9720,2,20091225,       1110
318M20091121,        P06,     113,          2,         21,         21,2,20091225,       0922,   -32.5000,  -155.6767,       5287,   905.0,   5.5017,  34.3169,  34.3125,3,    219.2,2,   220.8,2,   16.61,2,   27.02,2,    0.00,2,    1.89,2,   1.269,2,   0.627,2,-999.000,1,     0.07,2,  2166.4,2,  2285.4,2,   7.6851,2,    25.00,-999.000,9,-999.0000,9, -999.00,9, -999.00,9,  -999.0,9,  -999.0,-999.000,9,-999.000,  -999.0,9,-999.000,-999.0000, -999.00,   5.4237,   5.5044,2,20091225,       1107
318M20091121,        P06,     113,          2,         20,         20,2,20091225,       0922,   -32.5000,  -155.6767,       5287,  1007.4,   4.8806,  34.3142,  34.3139,2,    209.2,2,   209.5,2,   23.72,2,   29.16,2,    0.00,2,    2.03,2,   0.890,2,   0.435,2,-999.000,1,        0,2,  2181.3,2,  2290.4,2,   7.6581,2,    25.00,-999.000,9,-999.0000,9, -999.00,9, -999.00,9,  -999.0,9,  -999.0,-999.000,9,-999.000,  -999.0,9,-999.000,-999.0000, -999.00,   4.7978,   4.8827,2,20091225,       1103
318M20091121,        P06,     113,          2,         19,         19,2,20091225,       0922,   -32.5000,  -155.6767,       5287,  1109.0,   4.2614,  34.3370,  34.3363,2,    197.7,2,   197.3,2,   33.29,2,   31.11,2,    0.00,2,    2.17,2,   0.564,2,   0.260,2,-999.000,1,        0,2,  2199.7,6,  2302.3,6,   7.6301,2,    25.00,-999.000,9,-999.0000,9, -999.00,9, -999.00,9,  -999.0,9,  -999.0,-999.000,9,-999.000,  -999.0,9,-999.000,-999.0000, -999.00,   4.1747,   4.2609,2,20091225,       1100
318M20091121,        P06,     113,          2,         18,         18,2,20091225,       0922,   -32.5000,  -155.6767,       5287,  1212.5,   3.7138,  34.3772,  34.3766,2,    187.9,2,   187.9,2,   44.31,2,   32.61,2,    0.00,2,    2.28,2,-999.000,5,-999.000,5,-999.000,1,-999.0000,5,  -999.0,9,  -999.0,9,-999.0000,9,  -999.00,-999.000,9,-999.0000,9, -999.00,9, -999.00,9,  -999.0,9,  -999.0,-999.000,9,-999.000,  -999.0,9,-999.000,-999.0000, -999.00,   3.6230,   3.7165,2,20091225,       1056
318M20091121,        P06,     113,          2,         17,         17,2,20091225,       0922,   -32.5000,  -155.6767,       5287,  1312.9,   3.2515,  34.4342,  34.4340,2,    178.4,2,   176.4,2,   56.79,2,   33.68,2,    0.00,2,    2.36,2,   0.129,2,   0.068,2,-999.000,1,        0,2,  2235.0,2,  2326.2,2,   7.5921,2,    25.00,-999.000,9,-999.0000,9, -999.00,9, -999.00,9,  -999.0,9,  -999.0,-999.000,9,-999.000,  -999.0,9,-999.000,-999.0000, -999.00,   3.1568,   3.2513,2,20091225,       1053
318M20091121,        P06,     113,          2,         16,         16,2,20091225,       0922,   -32.5000,  -155.6767,       5287,  1411.5,   3.0213,  34.4755,  34.4753,2,    171.7,2,   171.4,2,   65.60,2,   34.13,2,    0.00,2,    2.39,2,   0.064,2,   0.035,2,-999.000,1,        0,2,  -999.0,9,  -999.0,9,-999.0000,9,  -999.00,-999.000,9,-999.0000,9, -999.00,9, -999.00,9,  -999.0,9,  -999.0,-999.000,9,-999.000,  -999.0,9,-999.000,-999.0000, -999.00,   2.9208,   3.0208,2,20091225,       1050
318M20091121,        P06,     113,          2,         15,         15,2,20091225,       0922,   -32.5000,  -155.6767,       5287,  1513.0,   2.7946,  34.5222,  34.5223,2,    165.2,2,   165.2,2,   75.87,2,   34.32,2,    0.00,2,    2.41,2,   0.047,2,   0.026,2,-999.000,1,        0,2,  2259.7,2,  2348.5,2,   7.5789,2,    25.00,-999.000,9,-999.0000,9, -999.00,9, -999.00,9,  -999.0,9,  -999.0,-999.000,9,-999.000,  -999.0,9,-999.000,-999.0000, -999.00,   2.6882,   2.7942,2,20091225,       1046
318M20091121,        P06,     113,          2,         14,         14,2,20091225,       0922,   -32.5000,  -155.6767,       5287,  1599.8,   2.6627,  34.5524,  34.5526,2,    161.3,2,   162.9,2,   83.26,2,   34.47,2,    0.00,2,    2.42,2,   0.022,2,   0.015,2,-999.000,1,        0,2,  -999.0,9,  -999.0,9,-999.0000,9,  -999.00,-999.000,9,-999.0000,9, -999.00,9, -999.00,9,  -999.0,9,  -999.0,-999.000,9,-999.000,  -999.0,9,-999.000,-999.0000, -999.00,   2.5506,   2.6624,2,20091225,       1043
318M20091121,        P06,     113,          2,         13,         13,2,20091225,       0922,   -32.5000,  -155.6767,       5287,  1815.0,   2.4163,  34.6030,  34.6029,2,    155.2,2,   155.6,2,   98.12,2,   34.81,2,    0.00,2,    2.46,2,   0.018,2,   0.008,2,-999.000,1,        0,2,  2284.8,2,  2376.1,2,   7.5776,2,    25.00,-999.000,9,-999.0000,9, -999.00,9, -999.00,9,  -999.0,9,  -999.0,-999.000,9,-999.000,  -999.0,9,-999.000,-999.0000, -999.00,   2.2894,   2.4158,2,20091225,       1038
318M20091121,        P06,     113,          2,         12,         12,2,20091225,       0922,   -32.5000,  -155.6767,       5287,  2018.1,   2.2392,  34.6284,  34.6279,2,    151.7,2,   151.8,2,  108.68,2,   35.16,2,    0.00,2,    2.49,2,   0.021,2,   0.010,2,-999.000,1,        0,2,  -999.0,9,  -999.0,9,-999.0000,9,  -999.00,-999.000,9,-999.0000,9, -999.00,9, -999.00,9,  -999.0,9,  -999.0,-999.000,9,-999.000,  -999.0,9,-999.000,-999.0000, -999.00,   2.0976,   2.2395,2,20091225,       1032
318M20091121,        P06,     113,          2,         11,         11,2,20091225,       0922,   -32.5000,  -155.6767,       5287,  2273.9,   2.0674,  34.6447,  34.6448,2,    149.2,2,   149.2,2,  117.79,2,   35.51,2,    0.00,2,    2.51,2,   0.017,2,   0.008,2,-999.000,1,        0,2,  2306.7,2,  2399.5,2,   7.5767,2,    25.00,-999.000,9,-999.0000,9, -999.00,9, -999.00,9,  -999.0,9,  -999.0,-999.000,9,-999.000,  -999.0,9,-999.000,-999.0000, -999.00,   1.9062,   2.0673,2,20091225,       1027
318M20091121,        P06,     113,          2,         10,         10,2,20091225,       0922,   -32.5000,  -155.6767,       5287,  2526.5,   1.9261,  34.6564,  34.6563,2,    149.3,2,   149.2,2,  124.00,2,   35.55,2,    0.00,2,    2.52,2,   0.022,2,   0.011,2,-999.000,1,        0,2,  -999.0,9,  -999.0,9,-999.0000,9,  -999.00,-999.000,9,-999.0000,9, -999.00,9, -999.00,9,  -999.0,9,  -999.0,-999.000,9,-999.000,  -999.0,9,-999.000,-999.0000, -999.00,   1.7447,   1.9258,2,20091225,       1021
318M20091121,        P06,     113,          2,          9,          9,2,20091225,       0922,   -32.5000,  -155.6767,       5287,  2785.2,   1.8312,  34.6647,  34.6645,2,    150.3,2,   150.4,2,  127.51,2,   35.55,2,    0.00,2,    2.51,2,   0.025,2,   0.011,2,-999.000,1,        0,2,  2314.9,2,  2404.4,2,   7.5783,2,    25.00,-999.000,9,-999.0000,9, -999.00,9, -999.00,9,  -999.0,9,  -999.0,-999.000,9,-999.000,  -999.0,9,-999.000,-999.0000, -999.00,   1.6277,   1.8310,2,20091225,       1015
318M20091121,        P06,     113,          2,          8,          8,2,20091225,       0922,   -32.5000,  -155.6767,       5287,  3039.6,   1.7508,  34.6728,  34.6724,2,    154.0,2,   154.4,2,  128.31,2,   35.24,2,    0.00,2,    2.48,2,   0.007,2,   0.003,2,-999.000,1,        0,2,  -999.0,9,  -999.0,9,-999.0000,9,  -999.00,-999.000,9,-999.0000,9, -999.00,9, -999.00,9,  -999.0,9,  -999.0,-999.000,9,-999.000,  -999.0,9,-999.000,-999.0000, -999.00,   1.5246,   1.7506,2,20091225,       1009
318M20091121,        P06,     113,          2,          7,          7,2,20091225,       0922,   -32.5000,  -155.6767,       5287,  3344.1,   1.6480,  34.6848,  34.6842,2,    163.5,2,   163.4,2,  125.75,2,   34.51,2,    0.00,2,    2.43,2,   0.018,2,   0.009,2,-999.000,1,        0,2,  2304.7,2,  2398.3,2,   7.5896,2,    25.00,-999.000,9,-999.0000,9, -999.00,9, -999.00,9,  -999.0,9,  -999.0,-999.000,9,-999.000,  -999.0,9,-999.000,-999.0000, -999.00,   1.3940,   1.6480,2,20091225,       1001
318M20091121,        P06,     113,          2,          6,          6,2,20091225,       0922,   -32.5000,  -155.6767,       5287,  3650.3,   1.5379,  34.6983,  34.6982,2,    176.8,2,   177.0,2,  120.08,2,   33.39,2,    0.00,2,    2.35,2,   0.016,2,   0.007,2,-999.000,1,        0,2,  -999.0,9,  -999.0,9,-999.0000,9,  -999.00,-999.000,9,-999.0000,9, -999.00,9, -999.00,9,  -999.0,9,  -999.0,-999.000,9,-999.000,  -999.0,9,-999.000,-999.0000, -999.00,   1.2551,   1.5377,2,20091225,       0955
318M20091121,        P06,     113,          2,          5,         37,2,20091225,       0922,   -32.5000,  -155.6767,       5287,  3959.3,   1.4047,  34.7079,  34.7081,2,    189.6,2,   189.3,2,  116.08,2,   32.53,2,    0.00,2,    2.28,2,   0.014,2,   0.006,2,-999.000,1,        0,2,  2276.1,2,  -999.0,9,-999.0000,9,  -999.00,-999.000,9,-999.0000,9, -999.00,9, -999.00,9,  -999.0,9,  -999.0,-999.000,9,-999.000,  -999.0,9,-999.000,-999.0000, -999.00,   1.0927,   1.4047,2,20091225,       0949
318M20091121,        P06,     113,          2,          4,          4,2,20091225,       0922,   -32.5000,  -155.6767,       5287,  4268.3,   1.2711,  34.7117,  34.7112,2,    197.3,2,   197.9,2,  115.62,2,   32.07,2,    0.00,2,    2.24,2,   0.022,2,   0.010,2,-999.000,1,        0,2,  -999.0,9,  -999.0,9,-999.0000,9,  -999.00,-999.000,9,-999.0000,9, -999.00,9, -999.00,9,  -999.0,9,  -999.0,-999.000,9,-999.000,  -999.0,9,-999.000,-999.0000, -999.00,   0.9291,   1.2737,3,20091225,       0942
318M20091121,        P06,     113,          2,          3,          3,2,20091225,       0922,   -32.5000,  -155.6767,       5287,  4573.7,   1.1659,  34.7112,  34.7106,2,    202.5,2,   202.1,2,  117.24,2,   31.85,2,    0.00,2,    2.24,2,   0.037,2,   0.019,2,-999.000,1,        0,2,  2267.5,2,  2366.7,2,   7.6166,2,    25.00,-999.000,9,-999.0000,9, -999.00,9, -999.00,9,  -999.0,9,  -999.0,-999.000,9,-999.000,  -999.0,9,-999.000,-999.0000, -999.00,   0.7927,   1.1664,2,20091225,       0936
318M20091121,        P06,     113,          2,          2,          2,2,20091225,       0922,   -32.5000,  -155.6767,       5287,  4829.0,   1.1212,  34.7104,  34.7101,2,    203.8,2,   204.7,2,  118.24,2,   31.85,2,    0.00,2,    2.23,2,   0.043,2,   0.022,2,-999.000,1,        0,2,  -999.0,9,  -999.0,9,-999.0000,9,  -999.00,-999.000,9,-999.0000,9, -999.00,9, -999.00,9,  -999.0,9,  -999.0,-999.000,9,-999.000,  -999.0,9,-999.000,-999.0000, -999.00,   0.7198,   1.1212,2,20091225,       0930
318M20091121,        P06,     113,          2,          1,          1,2,20091225,       0922,   -32.5000,  -155.6767,       5287,  5240.4,   1.1415,  34.7096,  34.7097,2,    205.1,2,   205.0,2,  119.04,2,   31.89,2,    0.00,2,    2.23,2,   0.059,2,   0.033,2,-999.000,1,        0,2,  2267.0,6,  2367.4,6,   7.6197,6,    25.00,-999.000,9,-999.0000,9, -999.00,9, -999.00,9,  -999.0,9,  -999.0,-999.000,9,-999.000,  -999.0,9,-999.000,-999.0000, -999.00,   0.6900,   1.1412,2,20091225,       0922