BOTTLE,20220818CCHSIOAMB
EXPOCODE,SECT_ID,STNNBR,CASTNO,SAMPNO,BTLNBR,BTLNBR_FLAG_W,DATE,TIME,LATITUDE,LONGITUDE,DEPTH,CTDPRS,CTDTMP,CTDSAL,SALNTY,SALNTY_FLAG_W,CTDOXY,CTDOXY_FLAG_W,OXYGEN,OXYGEN_FLAG_W,SILCAT,SILCAT_FLAG_W,NITRAT,NITRAT_FLAG_W,NITRIT,NITRIT_FLAG_W,PHSPHT,PHSPHT_FLAG_W,CFC-11,CFC-11_FLAG_W,CFC-12,CFC-12_FLAG_W,CFC113,CFC113_FLAG_W,SF6,SF6_FLAG_W,TCARBN,TCARBN_FLAG_W,ALKALI,ALKALI_FLAG_W,PH_SWS,PH_SWS_FLAG_W,PH_TMP,TRITUM,TRITUM_FLAG_W,HELIUM,HELIUM_FLAG_W,DELHE3,DELHE3_FLAG_W,DELC13,DELC13_FLAG_W,DELC14,DELC14_FLAG_W,C14ERR,NEON,NEON_FLAG_W,NEONER,DOC,DOC_FLAG_W,TRITER,HELIER,DELHER,THETA,SBE35,SBE35_FLAG_W,BTL_DATE,BTL_TIME
,,,,,,,,,,,METERS,DBAR,ITS-90,PSS-78,PSS-78,,UMOL/KG,,UMOL/KG,,UMOL/KG,,UMOL/KG,,UMOL/KG,,UMOL/KG,,PMOL/KG,,PMOL/KG,,PMOL/KG,,FMOL/KG,,UMOL/KG,,UMOL/KG,,,,DEG C,TU,,NMOL/KG,,PERCNT,,/MILLE,,/MILLE,,/MILLE,NMOL/KG,,NMOL/KG,UMOL/KG,,TU,NMOL/KG,PERCNT,DEG C,ITS-90,,,
318M20091121,        P06,      88,          1,         36,         36,2,20091215,       1457,   -32.5000,  -173.1699,       5850,     6.3,  21.6815,  35.6518,  35.6510,2,    226.0,2,   225.5,2,    0.69,2,    0.00,2,    0.00,2,    0.11,2,   2.039,2,   1.232,2,-999.000,1,    1.133,2,  2051.4,6,  2342.7,2,   8.0124,3,    25.00,-999.000,9,-999.0000,9, -999.00,9, -999.00,9,  -999.0,9,  -999.0,-999.000,9,-999.000,    57.7,2,-999.000,-999.0000, -999.00,  21.6803,  21.6809,2,20091215,       1746
318M20091121,        P06,      88,          1,         35,         35,2,20091215,       1457,   -32.5000,  -173.1699,       5850,    20.7,  20.0624,  35.5735,  35.5829,2,    235.2,2,   235.3,2,    0.46,2,    0.00,2,    0.00,2,    0.11,2,   2.168,2,   1.299,2,-999.000,1,    1.239,2,  2046.7,2,  2334.1,6,   8.0208,3,    25.00,-999.000,9,-999.0000,9, -999.00,9, -999.00,9,  -999.0,9,  -999.0,-999.000,9,-999.000,    52.2,3,-999.000,-999.0000, -999.00,  20.0586,  20.0799,3,20091215,       1744
318M20091121,        P06,      88,          1,         34,         34,2,20091215,       1457,   -32.5000,  -173.1699,       5850,    39.7,  18.1959,  35.5426,  35.5429,2,    248.6,2,   248.3,2,    0.43,2,    0.00,2,    0.00,2,    0.10,2,   2.317,2,   1.387,2,-999.000,1,    1.268,2,  2041.5,2,  2329.2,2,   8.0191,3,    25.00,-999.000,9,-999.0000,9, -999.00,9, -999.00,9,  -999.0,9,  -999.0,-999.000,9,-999.000,    56.3,2,-999.000,-999.0000, -999.00,  18.1890,  18.1943,2,20091215,       1742
318M20091121,        P06,      88,          1,         33,         33,2,20091215,       1457,   -32.5000,  -173.1699,       5850,    65.3,  16.7656,  35.5312,  35.5287,2,    225.6,2,   217.8,2,    0.80,2,    2.23,2,    0.08,2,    0.29,2,   2.337,2,   1.383,2,-999.000,1,    1.187,2,  2071.9,2,  2330.6,2,   7.9772,3,    25.00,-999.000,9,-999.0000,9, -999.00,9, -999.00,9,  -999.0,9,  -999.0,-999.000,9,-999.000,    50.3,2,-999.000,-999.0000, -999.00,  16.7549,  16.7659,2,20091215,       1740
318M20091121,        P06,      88,          1,         32,         32,2,20091215,       1457,   -32.5000,  -173.1699,       5850,    90.7,  16.1336,  35.4982,  35.4981,2,    218.5,2,   219.3,2,    0.98,2,    3.05,2,    0.08,2,    0.34,2,   2.392,6,   1.420,6,-999.000,1,   1.2115,6,  2077.2,2,  2328.4,2,   7.9670,3,    25.00,-999.000,9,-999.0000,9, -999.00,9, -999.00,9,  -999.0,9,  -999.0,-999.000,9,-999.000,  -999.0,5,-999.000,-999.0000, -999.00,  16.1191,  16.1307,2,20091215,       1738
318M20091121,        P06,      88,          1,         31,         31,2,20091215,       1457,   -32.5000,  -173.1699,       5850,   134.8,  15.1682,  35.3920,  35.3895,2,    222.7,2,   220.1,2,    1.14,2,    4.26,2,    0.01,2,    0.42,2,   2.481,2,   1.468,2,-999.000,1,    1.242,2,  2085.9,2,  2323.8,2,   7.9775,3,    25.00,-999.000,9,-999.0000,9, -999.00,9, -999.00,9,  -999.0,9,  -999.0,-999.000,9,-999.000,  -999.0,5,-999.000,-999.0000, -999.00,  15.1476,  15.1708,2,20091215,       1735
318M20091121,        P06,      88,          1,         30,         30,2,20091215,       1457,   -32.5000,  -173.1699,       5850,   183.0,  14.2288,  35.2716,  35.2701,2,    217.0,2,   217.4,2,    1.72,2,    6.16,2,    0.01,2,    0.55,2,   2.571,2,   1.493,2,-999.000,1,     1.21,2,  2095.2,2,  2318.2,2,   7.9304,3,    25.00,-999.000,9,-999.0000,9, -999.00,9, -999.00,9,  -999.0,9,  -999.0,-999.000,9,-999.000,    50.1,2,-999.000,-999.0000, -999.00,  14.2020,  14.2281,2,20091215,       1732
318M20091121,        P06,      88,          1,         29,         29,3,20091215,       1457,   -32.5000,  -173.1699,       5850,   233.7,  13.8455,  35.2682,  35.2660,2,    224.2,2,   232.5,2,    1.69,3,    5.45,3,    0.01,2,    0.51,3,   2.653,2,   1.543,2,-999.000,1,    1.168,2,  2092.9,3,  2319.2,3,   8.0197,3,    25.00,-999.000,9,-999.0000,9, -999.00,9, -999.00,9,  -999.0,9,  -999.0,-999.000,9,-999.000,    52.4,2,-999.000,-999.0000, -999.00,  13.8118,  13.8511,2,20091215,       1730
318M20091121,        P06,      88,          1,         28,         28,2,20091215,       1457,   -32.5000,  -173.1699,       5850,   284.0,  12.6928,  35.0966,  35.0962,2,    208.3,2,   206.5,2,    2.86,2,   10.79,2,    0.01,2,    0.82,2,   2.646,2,   1.494,2,-999.000,1,     0.84,2,  2116.3,2,  2306.8,2,   7.8373,3,    25.00,-999.000,9,-999.0000,9, -999.00,9, -999.00,9,  -999.0,9,  -999.0,-999.000,9,-999.000,    48.1,2,-999.000,-999.0000, -999.00,  12.6542,  12.6885,2,20091215,       1727
318M20091121,        P06,      88,          1,         27,         27,2,20091215,       1457,   -32.5000,  -173.1699,       5850,   334.8,  11.6805,  34.9609,  34.9620,2,    206.3,2,   206.6,2,    3.44,2,   12.95,2,    0.01,2,    0.96,2,   2.733,2,   1.511,2,-999.000,1,    0.746,2,  2122.2,2,  2301.8,2,-999.0000,5,  -999.00,-999.000,9,-999.0000,9, -999.00,9, -999.00,9,  -999.0,9,  -999.0,-999.000,9,-999.000,    42.2,2,-999.000,-999.0000, -999.00,  11.6373,  11.6859,2,20091215,       1725
318M20091121,        P06,      88,          1,         26,         26,2,20091215,       1457,   -32.5000,  -173.1699,       5850,   385.6,  10.6318,  34.8196,  34.8186,2,    207.2,2,   207.5,2,    4.02,2,   15.29,2,    0.00,2,    1.10,2,   2.777,2,   1.500,2,-999.000,1,    0.716,2,  2128.4,2,  2295.1,2,   7.7889,3,    25.00,-999.000,9,-999.0000,9, -999.00,9, -999.00,9,  -999.0,9,  -999.0,-999.000,9,-999.000,    40.4,2,-999.000,-999.0000, -999.00,  10.5850,  10.6445,2,20091215,       1722
318M20091121,        P06,      88,          1,         25,         25,2,20091215,       1457,   -32.5000,  -173.1699,       5850,   467.4,   9.1779,  34.6345,  34.6360,2,    212.8,2,   213.7,2,    5.20,2,   18.28,2,    0.00,2,    1.30,2,   2.866,2,   1.515,2,-999.000,1,    0.717,2,  2136.2,2,  2289.3,2,   7.6833,3,    25.00,-999.000,9,-999.0000,9, -999.00,9, -999.00,9,  -999.0,9,  -999.0,-999.000,9,-999.000,    43.3,2,-999.000,-999.0000, -999.00,   9.1260,   9.1819,2,20091215,       1719
318M20091121,        P06,      88,          1,         24,         24,2,20091215,       1457,   -32.5000,  -173.1699,       5850,   568.9,   7.8953,  34.4809,  34.4804,2,    224.6,2,   224.9,2,    5.77,2,   20.62,2,    0.00,2,    1.45,2,   2.924,2,   1.507,2,-999.000,1,    0.535,2,  2139.1,2,  2282.1,2,   7.7373,3,    25.00,-999.000,9,-999.0000,9, -999.00,9, -999.00,9,  -999.0,9,  -999.0,-999.000,9,-999.000,  -999.0,9,-999.000,-999.0000, -999.00,   7.8372,   7.8957,2,20091215,       1716
318M20091121,        P06,      88,          1,         23,         23,2,20091215,       1457,   -32.5000,  -173.1699,       5850,   671.0,   7.2803,  34.4341,  34.4311,2,    227.2,2,   227.4,2,    7.76,2,   22.40,2,    0.00,2,    1.56,2,   2.726,2,   1.382,2,-999.000,1,    0.493,2,  2143.4,2,  2282.9,2,   7.6575,3,    25.00,-999.000,9,-999.0000,9, -999.00,9, -999.00,9,  -999.0,9,  -999.0,-999.000,9,-999.000,    44.8,3,-999.000,-999.0000, -999.00,   7.2145,   7.2797,2,20091215,       1713
318M20091121,        P06,      88,          1,         22,         22,2,20091215,       1457,   -32.5000,  -173.1699,       5850,   767.4,   6.7196,  34.3987,  34.3982,2,    222.8,2,   222.5,2,   10.76,2,   23.99,2,    0.00,2,    1.68,2,   2.022,2,   1.010,2,-999.000,1,    0.273,2,  2149.2,2,  2284.8,2,   7.7993,3,    25.00,-999.000,9,-999.0000,9, -999.00,9, -999.00,9,  -999.0,9,  -999.0,-999.000,9,-999.000,  -999.0,9,-999.000,-999.0000, -999.00,   6.6471,   6.7206,2,20091215,       1710
318M20091121,        P06,      88,          1,         21,         21,2,20091215,       1457,   -32.5000,  -173.1699,       5850,   869.4,   6.0526,  34.3656,  34.3654,2,    216.2,2,   216.3,2,   15.20,2,   26.01,2,    0.00,2,    1.82,2,   1.299,2,   0.647,2,-999.000,1,        0,2,  2159.1,6,  2289.0,2,   7.6943,3,    25.00,-999.000,9,-999.0000,9, -999.00,9, -999.00,9,  -999.0,9,  -999.0,-999.000,9,-999.000,    40.3,2,-999.000,-999.0000, -999.00,   5.9742,   6.0536,2,20091215,       1706
318M20091121,        P06,      88,          1,         20,         20,2,20091215,       1457,   -32.5000,  -173.1699,       5850,   971.4,   5.4114,  34.3561,  34.3550,2,    206.0,2,   205.8,2,   22.29,2,   28.18,2,    0.00,2,    1.98,2,   0.868,2,   0.433,2,-999.000,1,        0,2,  2174.1,2,  2292.9,2,   7.6758,3,    25.00,-999.000,9,-999.0000,9, -999.00,9, -999.00,9,  -999.0,9,  -999.0,-999.000,9,-999.000,  -999.0,9,-999.000,-999.0000, -999.00,   5.3279,   5.4112,2,20091215,       1703
318M20091121,        P06,      88,          1,         19,         19,2,20091215,       1457,   -32.5000,  -173.1699,       5850,  1072.9,   4.7622,  34.3623,  34.3603,2,    197.4,2,   196.1,2,   30.63,2,   30.08,2,    0.00,2,    2.11,2,   0.529,2,   0.283,2,-999.000,1,    0.568,4,  2189.5,2,  2298.8,2,   7.7246,3,    25.00,-999.000,9,-999.0000,9, -999.00,9, -999.00,9,  -999.0,9,  -999.0,-999.000,9,-999.000,    38.0,2,-999.000,-999.0000, -999.00,   4.6744,   4.7651,2,20091215,       1700
318M20091121,        P06,      88,          1,         18,         18,2,20091215,       1457,   -32.5000,  -173.1699,       5850,  1175.3,   4.2038,  34.3972,  34.3967,2,    186.3,2,   186.7,2,   42.30,2,   31.54,2,    0.00,2,    2.22,2,  -0.009,4,   0.024,4,-999.000,1,        0,4,  2206.8,2,  2310.2,2,   7.6204,3,    25.00,-999.000,9,-999.0000,9, -999.00,9, -999.00,9,  -999.0,9,  -999.0,-999.000,9,-999.000,  -999.0,9,-999.000,-999.0000, -999.00,   4.1117,   4.2040,2,20091215,       1656
318M20091121,        P06,      88,          1,         17,         17,2,20091215,       1457,   -32.5000,  -173.1699,       5850,  1277.3,   3.6836,  34.4348,  34.4345,2,    178.0,2,   177.3,2,   54.02,2,   32.68,2,    0.00,2,    2.32,2,   0.176,2,   0.094,2,-999.000,1,        0,2,  2225.2,2,  2324.8,6,   7.6044,3,    25.00,-999.000,9,-999.0000,9, -999.00,9, -999.00,9,  -999.0,9,  -999.0,-999.000,9,-999.000,    39.4,3,-999.000,-999.0000, -999.00,   3.5875,   3.6840,2,20091215,       1653
318M20091121,        P06,      88,          1,         16,         16,2,20091215,       1457,   -32.5000,  -173.1699,       5850,  1374.5,   3.3154,  34.4708,  34.4701,2,    171.5,2,   172.5,2,   63.30,2,   33.36,2,    0.00,2,    2.37,2,   0.103,2,   0.055,2,-999.000,1,        0,2,  2247.6,2,  2334.2,2,   7.5367,3,    25.00,-999.000,9,-999.0000,9, -999.00,9, -999.00,9,  -999.0,9,  -999.0,-999.000,9,-999.000,  -999.0,9,-999.000,-999.0000, -999.00,   3.2148,   3.3155,2,20091215,       1649
318M20091121,        P06,      88,          1,         15,         15,2,20091215,       1457,   -32.5000,  -173.1699,       5850,  1546.1,   2.9007,  34.5337,  34.5320,2,    162.6,2,   163.3,2,   78.86,2,   34.02,2,    0.00,2,    2.42,2,   0.074,2,   0.042,2,-999.000,1,        0,2,  2270.1,2,  2351.8,2,   7.5811,3,    25.00,-999.000,9,-999.0000,9, -999.00,9, -999.00,9,  -999.0,9,  -999.0,-999.000,9,-999.000,    41.4,3,-999.000,-999.0000, -999.00,   2.7903,   2.9010,2,20091215,       1644
318M20091121,        P06,      88,          1,         14,         14,2,20091215,       1457,   -32.5000,  -173.1699,       5850,  1753.4,   2.5615,  34.5899,  34.5893,2,    155.5,2,   156.1,2,   96.17,2,   34.55,2,    0.00,2,    2.46,2,   0.024,2,   0.010,2,-999.000,1,        0,2,  2277.0,2,  2371.5,2,   7.5800,3,    25.00,-999.000,9,-999.0000,9, -999.00,9, -999.00,9,  -999.0,9,  -999.0,-999.000,9,-999.000,  -999.0,9,-999.000,-999.0000, -999.00,   2.4378,   2.5619,2,20091215,       1639
318M20091121,        P06,      88,          1,         13,         13,2,20091215,       1457,   -32.5000,  -173.1699,       5850,  1952.1,   2.3795,  34.6144,  34.6142,2,    152.0,2,   151.0,2,  105.79,2,   34.89,2,    0.00,2,    2.49,2,   0.019,2,   0.007,2,-999.000,1,        0,2,  2290.8,2,  2383.1,2,   7.6542,3,    25.00,-999.000,9,-999.0000,9, -999.00,9, -999.00,9,  -999.0,9,  -999.0,-999.000,9,-999.000,    37.9,2,-999.000,-999.0000, -999.00,   2.2415,   2.3795,2,20091215,       1633
318M20091121,        P06,      88,          1,         12,         12,2,20091215,       1457,   -32.5000,  -173.1699,       5850,  2187.4,   2.2297,  34.6322,  34.6322,2,    149.3,2,   149.2,2,  114.15,2,   35.17,2,    0.00,2,    2.51,2,   0.022,2,   0.008,2,-999.000,1,        0,2,  2300.4,2,  2392.4,2,   7.5764,3,    25.00,-999.000,9,-999.0000,9, -999.00,9, -999.00,9,  -999.0,9,  -999.0,-999.000,9,-999.000,  -999.0,9,-999.000,-999.0000, -999.00,   2.0735,   2.2301,2,20091215,       1628
318M20091121,        P06,      88,          1,         11,         11,2,20091215,       1457,   -32.5000,  -173.1699,       5850,  2439.6,   2.0766,  34.6453,  34.6463,2,    147.9,2,   148.4,2,  121.06,2,   35.37,2,    0.00,2,    2.53,2,   0.021,2,   0.007,2,-999.000,1,        0,2,  2306.4,2,  2397.4,2,   7.5017,3,    25.00,-999.000,9,-999.0000,9, -999.00,9, -999.00,9,  -999.0,9,  -999.0,-999.000,9,-999.000,    36.0,2,-999.000,-999.0000, -999.00,   1.9004,   2.0764,2,20091215,       1622
318M20091121,        P06,      88,          1,         10,         10,2,20091215,       1457,   -32.5000,  -173.1699,       5850,  2695.5,   1.9430,  34.6578,  34.6572,2,    149.0,2,   148.8,2,  125.45,2,   35.32,2,    0.00,2,    2.53,2,   0.033,2,   0.016,2,-999.000,1,        0,2,  2311.0,2,  2403.6,2,   7.5772,3,    25.00,-999.000,9,-999.0000,9, -999.00,9, -999.00,9,  -999.0,9,  -999.0,-999.000,9,-999.000,  -999.0,9,-999.000,-999.0000, -999.00,   1.7457,   1.9430,2,20091215,       1616
318M20091121,        P06,      88,          1,          9,          9,2,20091215,       1457,   -32.5000,  -173.1699,       5850,  2949.3,   1.8311,  34.6707,  34.6710,2,    154.9,2,   154.1,2,  126.27,2,   34.94,2,    0.00,2,    2.49,2,   0.032,2,   0.013,2,-999.000,1,        0,2,  2307.5,2,  2402.6,2,   7.5802,3,    25.00,-999.000,9,-999.0000,9, -999.00,9, -999.00,9,  -999.0,9,  -999.0,-999.000,9,-999.000,    39.1,2,-999.000,-999.0000, -999.00,   1.6119,   1.8299,2,20091215,       1609
318M20091121,        P06,      88,          1,          8,          8,2,20091215,       1457,   -32.5000,  -173.1699,       5850,  3241.6,   1.7123,  34.6967,  34.6954,2,    173.0,2,   171.4,2,  116.75,2,   33.31,2,    0.00,2,    2.38,2,   0.035,2,   0.016,2,-999.000,1,        0,2,  2286.7,2,  2386.8,2,   7.5958,3,    25.00,-999.000,9,-999.0000,9, -999.00,9, -999.00,9,  -999.0,9,  -999.0,-999.000,9,-999.000,  -999.0,9,-999.000,-999.0000, -999.00,   1.4670,   1.7124,2,20091215,       1603
318M20091121,        P06,      88,          1,          7,          7,2,20091215,       1457,   -32.5000,  -173.1699,       5850,  3545.8,   1.5550,  34.7188,  34.7186,2,    191.3,2,   191.1,2,  108.10,2,   31.74,2,    0.00,2,    2.24,2,   0.045,2,   0.021,2,-999.000,1,        0,2,  2263.1,2,  2370.4,2,   7.6097,3,    25.00,-999.000,9,-999.0000,9, -999.00,9, -999.00,9,  -999.0,9,  -999.0,-999.000,9,-999.000,    39.4,2,-999.000,-999.0000, -999.00,   1.2825,   1.5557,2,20091215,       1556
318M20091121,        P06,      88,          1,          6,          6,2,20091215,       1457,   -32.5000,  -173.1699,       5850,  3799.4,   1.3554,  34.7201,  34.7200,2,    198.7,2,   198.4,2,  110.58,2,   31.46,2,    0.00,2,    2.22,2,   0.053,2,   0.026,2,-999.000,1,        0,2,  2260.8,2,  2368.3,2,   7.6130,3,    25.00,-999.000,9,-999.0000,9, -999.00,9, -999.00,9,  -999.0,9,  -999.0,-999.000,9,-999.000,  -999.0,9,-999.000,-999.0000, -999.00,   1.0617,   1.3552,2,20091215,       1550
318M20091121,        P06,      88,          1,          5,          5,2,20091215,       1457,   -32.5000,  -173.1699,       5850,  4316.4,   1.1242,  34.7145,  34.7137,2,    204.7,2,   205.0,2,  116.65,2,   31.51,2,    0.00,2,    2.22,2,   0.073,2,   0.037,2,-999.000,1,        0,2,  2261.2,2,  2364.7,2,   7.5532,3,    25.00,-999.000,9,-999.0000,9, -999.00,9, -999.00,9,  -999.0,9,  -999.0,-999.000,9,-999.000,    38.2,2,-999.000,-999.0000, -999.00,   0.7812,   1.1243,2,20091215,       1540
318M20091121,        P06,      88,          1,          4,          4,2,20091215,       1457,   -32.5000,  -173.1699,       5850,  4777.3,   1.0549,  34.7104,  34.7090,2,    206.6,2,   206.6,2,  119.98,2,   31.70,2,    0.00,2,    2.23,2,   0.092,2,   0.048,2,-999.000,1,        0,2,  2260.8,2,  2366.1,2,   7.6167,3,    25.00,-999.000,9,-999.0000,9, -999.00,9, -999.00,9,  -999.0,9,  -999.0,-999.000,9,-999.000,  -999.0,9,-999.000,-999.0000, -999.00,   0.6618,   1.0551,2,20091215,       1530
318M20091121,        P06,      88,          1,          3,          3,2,20091215,       1457,   -32.5000,  -173.1699,       5850,  5188.2,   1.0577,  34.7088,  34.7079,2,    207.3,2,   206.8,2,  121.21,2,   31.80,2,    0.00,2,    2.23,2,   0.086,2,   0.047,2,-999.000,1,        0,2,  2261.5,2,  2365.3,2,   7.6154,3,    25.00,-999.000,9,-999.0000,9, -999.00,9, -999.00,9,  -999.0,9,  -999.0,-999.000,9,-999.000,    38.7,2,-999.000,-999.0000, -999.00,   0.6156,   1.0581,2,20091215,       1522
318M20091121,        P06,      88,          1,          2,          2,2,20091215,       1457,   -32.5000,  -173.1699,       5850,  5641.2,   1.1062,  34.7082,  34.7075,2,    206.5,2,   206.7,2,  121.81,2,   31.80,2,    0.00,2,    2.25,2,   0.080,2,   0.046,2,-999.000,1,        0,2,  2262.7,2,  2366.2,6,   7.5286,3,    25.00,-999.000,9,-999.0000,9, -999.00,9, -999.00,9,  -999.0,9,  -999.0,-999.000,9,-999.000,  -999.0,9,-999.000,-999.0000, -999.00,   0.6059,   1.1065,2,20091215,       1509
318M20091121,        P06,      88,          1,          1,          1,2,20091215,       1457,   -32.5000,  -173.1699,       5850,  5953.7,   1.1475,  34.7081,  34.7079,2,    207.0,2,   206.7,2,  121.99,2,   31.80,2,    0.00,2,    2.24,2,   0.086,2,   0.049,2,-999.000,1,        0,2,  2262.8,6,  2366.5,2,   7.6186,3,    25.00,-999.000,9,-999.0000,9, -999.00,9, -999.00,9,  -999.0,9,  -999.0,-999.000,9,-999.000,    40.5,2,-999.000,-999.0000, -999.00,   0.6052,   1.1478,2,20091215,       1457