BOTTLE,20220818CCHSIOAMB
EXPOCODE,SECT_ID,STNNBR,CASTNO,SAMPNO,BTLNBR,BTLNBR_FLAG_W,DATE,TIME,LATITUDE,LONGITUDE,DEPTH,CTDPRS,CTDTMP,CTDSAL,SALNTY,SALNTY_FLAG_W,CTDOXY,CTDOXY_FLAG_W,OXYGEN,OXYGEN_FLAG_W,SILCAT,SILCAT_FLAG_W,NITRAT,NITRAT_FLAG_W,NITRIT,NITRIT_FLAG_W,PHSPHT,PHSPHT_FLAG_W,CFC-11,CFC-11_FLAG_W,CFC-12,CFC-12_FLAG_W,CFC113,CFC113_FLAG_W,SF6,SF6_FLAG_W,TCARBN,TCARBN_FLAG_W,ALKALI,ALKALI_FLAG_W,PH_SWS,PH_SWS_FLAG_W,PH_TMP,TRITUM,TRITUM_FLAG_W,HELIUM,HELIUM_FLAG_W,DELHE3,DELHE3_FLAG_W,DELC13,DELC13_FLAG_W,DELC14,DELC14_FLAG_W,C14ERR,NEON,NEON_FLAG_W,NEONER,DOC,DOC_FLAG_W,TRITER,HELIER,DELHER,THETA,SBE35,SBE35_FLAG_W,BTL_DATE,BTL_TIME
,,,,,,,,,,,METERS,DBAR,ITS-90,PSS-78,PSS-78,,UMOL/KG,,UMOL/KG,,UMOL/KG,,UMOL/KG,,UMOL/KG,,UMOL/KG,,PMOL/KG,,PMOL/KG,,PMOL/KG,,FMOL/KG,,UMOL/KG,,UMOL/KG,,,,DEG C,TU,,NMOL/KG,,PERCNT,,/MILLE,,/MILLE,,/MILLE,NMOL/KG,,NMOL/KG,UMOL/KG,,TU,NMOL/KG,PERCNT,DEG C,ITS-90,,,
318M20091121,        P06,      69,          2,         22,         22,2,20091210,       0743,   -32.4994,   178.9101,       1502,     2.9,  20.2798,  35.5571,  35.5585,2,    232.2,2,   232.4,2,    2.13,2,    0.00,2,    0.00,2,    0.13,2,   2.190,2,   1.355,2,-999.000,1,    1.108,2,  2054.2,6,  2332.8,6,   8.0020,6,    25.00,-999.000,9,-999.0000,9, -999.00,9, -999.00,9,  -999.0,9,  -999.0,-999.000,9,-999.000,  -999.0,9,-999.000,-999.0000, -999.00,  20.2793,  20.2973,2,20091210,       0843
318M20091121,        P06,      69,          2,         21,         21,2,20091210,       0743,   -32.4994,   178.9101,       1502,    35.1,  19.0951,  35.5331,  35.5336,2,    235.6,2,   236.3,2,    2.01,2,    0.00,2,    0.00,2,    0.12,2,   2.236,2,   1.389,2,-999.000,1,    1.123,2,  -999.0,9,  2334.8,2,   7.8587,3,    25.00,-999.000,9,-999.0000,9, -999.00,9, -999.00,9,  -999.0,9,  -999.0,-999.000,9,-999.000,  -999.0,9,-999.000,-999.0000, -999.00,  19.0888,  19.0870,2,20091210,       0841
318M20091121,        P06,      69,          2,         20,         20,2,20091210,       0743,   -32.4994,   178.9101,       1502,    60.9,  18.2070,  35.5280,  35.5277,2,    241.5,2,   243.7,2,    1.70,2,    0.00,2,    0.00,2,    0.13,2,   2.312,2,   1.433,2,-999.000,1,    1.244,2,  -999.0,9,  -999.0,9,-999.0000,9,  -999.00,-999.000,9,-999.0000,9, -999.00,9, -999.00,9,  -999.0,9,  -999.0,-999.000,9,-999.000,  -999.0,9,-999.000,-999.0000, -999.00,  18.1965,  18.2051,2,20091210,       0839
318M20091121,        P06,      69,          2,         19,         19,2,20091210,       0743,   -32.4994,   178.9101,       1502,    86.0,  17.1103,  35.5180,  35.5180,2,    246.6,2,   247.9,2,    1.39,2,    0.00,2,    0.00,2,    0.14,2,   2.398,2,   1.472,2,-999.000,1,    1.251,2,  -999.0,9,  2330.3,2,-999.0000,9,  -999.00,-999.000,9,-999.0000,9, -999.00,9, -999.00,9,  -999.0,9,  -999.0,-999.000,9,-999.000,  -999.0,9,-999.000,-999.0000, -999.00,  17.0960,  17.1137,2,20091210,       0837
318M20091121,        P06,      69,          2,         18,         18,2,20091210,       0743,   -32.4994,   178.9101,       1502,   115.5,  15.9491,  35.4659,  35.4678,2,    239.3,2,   240.2,2,    1.87,2,    0.74,2,    0.19,2,    0.23,2,   2.468,2,   1.517,2,-999.000,1,    1.246,2,  -999.0,9,  -999.0,9,-999.0000,9,  -999.00,-999.000,9,-999.0000,9, -999.00,9, -999.00,9,  -999.0,9,  -999.0,-999.000,9,-999.000,  -999.0,9,-999.000,-999.0000, -999.00,  15.9308,  15.9498,2,20091210,       0834
318M20091121,        P06,      69,          2,         17,         17,2,20091210,       0743,   -32.4994,   178.9101,       1502,   166.1,  14.8391,  35.3858,  35.3864,2,    226.7,2,   225.7,2,    2.34,2,    4.69,2,    0.02,2,    0.45,2,   2.520,6,   1.538,6,-999.000,1,    1.157,6,  -999.0,9,  2321.4,2,-999.0000,9,  -999.00,-999.000,9,-999.0000,9, -999.00,9, -999.00,9,  -999.0,9,  -999.0,-999.000,9,-999.000,  -999.0,9,-999.000,-999.0000, -999.00,  14.8141,  14.8379,2,20091210,       0832
318M20091121,        P06,      69,          2,         16,         16,2,20091210,       0743,   -32.4994,   178.9101,       1502,   216.6,  14.3258,  35.3355,  35.3363,2,    223.6,2,   225.9,2,    2.41,2,    5.67,2,    0.01,2,    0.52,2,   2.536,2,   1.549,2,-999.000,1,    1.127,2,  -999.0,9,  -999.0,9,-999.0000,9,  -999.00,-999.000,9,-999.0000,9, -999.00,9, -999.00,9,  -999.0,9,  -999.0,-999.000,9,-999.000,  -999.0,9,-999.000,-999.0000, -999.00,  14.2939,  14.3238,2,20091210,       0830
318M20091121,        P06,      69,          2,         15,         15,2,20091210,       0743,   -32.4994,   178.9101,       1502,   267.3,  13.5201,  35.2344,  35.2380,2,    223.7,2,   222.8,2,    2.70,2,    7.43,2,    0.01,2,    0.63,2,   2.579,2,   1.544,2,-999.000,1,    1.151,2,  -999.0,9,  2316.8,2,-999.0000,9,  -999.00,-999.000,9,-999.0000,9, -999.00,9, -999.00,9,  -999.0,9,  -999.0,-999.000,9,-999.000,  -999.0,9,-999.000,-999.0000, -999.00,  13.4822,  13.5204,2,20091210,       0827
318M20091121,        P06,      69,          2,         14,         14,2,20091210,       0743,   -32.4994,   178.9101,       1502,   317.3,  12.9730,  35.1595,  35.1627,2,    217.5,2,   216.4,2,    3.97,2,    9.32,2,    0.01,2,    0.74,2,   2.600,2,   1.553,2,-999.000,1,    1.159,2,  -999.0,9,  -999.0,9,-999.0000,9,  -999.00,-999.000,9,-999.0000,9, -999.00,9, -999.00,9,  -999.0,9,  -999.0,-999.000,9,-999.000,  -999.0,9,-999.000,-999.0000, -999.00,  12.9292,  12.9785,2,20091210,       0825
318M20091121,        P06,      69,          2,         13,         13,2,20091210,       0743,   -32.4994,   178.9101,       1502,   368.1,  12.0089,  35.0338,  35.0308,2,    211.3,2,   210.3,2,    4.84,2,   12.30,2,    0.01,2,    0.92,2,   2.635,2,   1.553,2,-999.000,1,    0.863,2,  -999.0,9,  2310.9,2,-999.0000,9,  -999.00,-999.000,9,-999.0000,9, -999.00,9, -999.00,9,  -999.0,9,  -999.0,-999.000,9,-999.000,  -999.0,9,-999.000,-999.0000, -999.00,  11.9605,  12.0090,2,20091210,       0823
318M20091121,        P06,      69,          2,         12,         12,2,20091210,       0743,   -32.4994,   178.9101,       1502,   437.2,  10.9375,  34.8796,  34.8722,2,    207.5,2,   205.4,2,    5.32,2,   15.19,2,    0.00,2,    1.11,2,   2.706,2,   1.553,2,-999.000,1,    0.784,2,  -999.0,9,  -999.0,9,-999.0000,9,  -999.00,-999.000,9,-999.0000,9, -999.00,9, -999.00,9,  -999.0,9,  -999.0,-999.000,9,-999.000,  -999.0,9,-999.000,-999.0000, -999.00,  10.8833,  10.9375,2,20091210,       0820
318M20091121,        P06,      69,          2,         11,         11,2,20091210,       0743,   -32.4994,   178.9101,       1502,   537.8,   9.0463,  34.6261,  34.6271,2,    211.1,2,   212.6,2,    6.39,2,   18.90,2,    0.00,2,    1.34,2,   2.824,2,   1.575,2,-999.000,1,    0.571,2,  -999.0,9,  2290.8,6,-999.0000,9,  -999.00,-999.000,9,-999.0000,9, -999.00,9, -999.00,9,  -999.0,9,  -999.0,-999.000,9,-999.000,  -999.0,9,-999.000,-999.0000, -999.00,   8.9868,   9.0554,2,20091210,       0817
318M20091121,        P06,      69,          2,         10,         10,2,20091210,       0743,   -32.4994,   178.9101,       1502,   639.5,   8.0998,  34.5363,  34.5354,2,    213.4,2,   214.9,2,    8.45,2,   21.19,2,    0.00,2,    1.50,2,   2.445,2,   1.335,2,-999.000,1,    0.492,2,  -999.0,9,  -999.0,9,-999.0000,9,  -999.00,-999.000,9,-999.0000,9, -999.00,9, -999.00,9,  -999.0,9,  -999.0,-999.000,9,-999.000,  -999.0,9,-999.000,-999.0000, -999.00,   8.0332,   8.1009,2,20091210,       0814
318M20091121,        P06,      69,          2,          9,          9,2,20091210,       0743,   -32.4994,   178.9101,       1502,   740.6,   7.3982,  34.4839,  34.4818,2,    211.9,2,   213.9,2,   12.32,2,   22.98,2,    0.00,2,    1.62,2,   2.031,2,   1.073,2,-999.000,1,    0.427,2,  -999.0,9,  2287.7,2,-999.0000,9,  -999.00,-999.000,9,-999.0000,9, -999.00,9, -999.00,9,  -999.0,9,  -999.0,-999.000,9,-999.000,  -999.0,9,-999.000,-999.0000, -999.00,   7.3245,   7.3949,2,20091210,       0810
318M20091121,        P06,      69,          2,          8,          8,2,20091210,       0743,   -32.4994,   178.9101,       1502,   841.5,   6.4942,  34.4137,  34.4226,3,    212.4,2,   211.2,2,   16.98,2,   25.28,2,    0.00,2,    1.77,2,   1.449,2,   0.755,2,-999.000,1,    0.229,2,  -999.0,9,  -999.0,9,-999.0000,9,  -999.00,-999.000,9,-999.0000,9, -999.00,9, -999.00,9,  -999.0,9,  -999.0,-999.000,9,-999.000,  -999.0,9,-999.000,-999.0000, -999.00,   6.4157,   6.5020,2,20091210,       0807
318M20091121,        P06,      69,          2,          7,          7,2,20091210,       0743,   -32.4994,   178.9101,       1502,   941.9,   6.0933,  34.4312,  34.4325,2,    202.0,2,   201.3,2,   23.86,2,   26.85,2,    0.00,2,    1.89,2,   1.078,2,   0.575,2,-999.000,1,    0.089,2,  -999.0,9,  2297.5,2,-999.0000,9,  -999.00,-999.000,9,-999.0000,9, -999.00,9, -999.00,9,  -999.0,9,  -999.0,-999.000,9,-999.000,  -999.0,9,-999.000,-999.0000, -999.00,   6.0075,   6.0890,2,20091210,       0803
318M20091121,        P06,      69,          2,          6,          6,2,20091210,       0743,   -32.4994,   178.9101,       1502,  1043.6,   5.3592,  34.4143,  34.4146,2,    193.8,2,   193.8,2,   31.78,2,   28.85,2,    0.00,2,    2.03,2,   0.712,2,   0.385,2,-999.000,1,        0,2,  -999.0,9,  -999.0,9,-999.0000,9,  -999.00,-999.000,9,-999.0000,9, -999.00,9, -999.00,9,  -999.0,9,  -999.0,-999.000,9,-999.000,  -999.0,9,-999.000,-999.0000, -999.00,   5.2692,   5.3634,2,20091210,       0800
318M20091121,        P06,      69,          2,          5,          5,2,20091210,       0743,   -32.4994,   178.9101,       1502,  1144.3,   4.6912,  34.4132,  34.4144,2,    187.9,2,   188.7,2,   41.53,2,   30.57,2,    0.00,2,    2.15,2,   0.464,2,   0.254,2,-999.000,1,    0.073,2,  -999.0,9,  2311.8,2,-999.0000,9,  -999.00,-999.000,9,-999.0000,9, -999.00,9, -999.00,9,  -999.0,9,  -999.0,-999.000,9,-999.000,  -999.0,9,-999.000,-999.0000, -999.00,   4.5975,   4.6909,2,20091210,       0757
318M20091121,        P06,      69,          2,          4,          4,2,20091210,       0743,   -32.4994,   178.9101,       1502,  1245.6,   4.0789,  34.4547,  34.4551,2,    178.5,2,   178.7,2,   56.01,2,   31.93,2,    0.00,2,    2.25,2,   0.300,2,   0.176,2,-999.000,1,        0,2,  -999.0,9,  -999.0,9,-999.0000,9,  -999.00,-999.000,9,-999.0000,9, -999.00,9, -999.00,9,  -999.0,9,  -999.0,-999.000,9,-999.000,  -999.0,9,-999.000,-999.0000, -999.00,   3.9817,   4.0770,2,20091210,       0753
318M20091121,        P06,      69,          2,          3,          3,2,20091210,       0743,   -32.4994,   178.9101,       1502,  1347.2,   3.6641,  34.4786,  34.4801,2,    173.0,2,   172.9,2,   65.47,2,   32.87,2,    0.00,2,    2.33,2,   0.188,2,   0.113,2,-999.000,1,        0,2,  -999.0,9,  2335.8,2,-999.0000,9,  -999.00,-999.000,9,-999.0000,9, -999.00,9, -999.00,9,  -999.0,9,  -999.0,-999.000,9,-999.000,  -999.0,9,-999.000,-999.0000, -999.00,   3.5622,   3.6652,2,20091210,       0750
318M20091121,        P06,      69,          2,          2,          2,2,20091210,       0743,   -32.4994,   178.9101,       1502,  1428.7,   3.2909,  34.5167,  34.5184,2,    167.6,2,   168.0,2,   77.82,2,   33.53,2,    0.00,2,    2.38,2,   0.135,2,   0.086,2,-999.000,1,        0,2,  -999.0,9,  -999.0,9,-999.0000,9,  -999.00,-999.000,9,-999.0000,9, -999.00,9, -999.00,9,  -999.0,9,  -999.0,-999.000,9,-999.000,  -999.0,9,-999.000,-999.0000, -999.00,   3.1859,   3.2903,2,20091210,       0746
318M20091121,        P06,      69,          2,          1,          1,2,20091210,       0743,   -32.4994,   178.9101,       1502,  1499.8,   3.1222,  34.5349,  34.5346,2,    164.8,2,   164.7,2,   83.04,2,   33.82,2,    0.00,2,    2.40,2,   0.115,2,   0.076,2,-999.000,1,        0,2,  -999.0,9,  2356.1,6,-999.0000,9,  -999.00,-999.000,9,-999.0000,9, -999.00,9, -999.00,9,  -999.0,9,  -999.0,-999.000,9,-999.000,  -999.0,9,-999.000,-999.0000, -999.00,   3.0131,   3.1219,2,20091210,       0743