BOTTLE,20220818CCHSIOAMB
EXPOCODE,SECT_ID,STNNBR,CASTNO,SAMPNO,BTLNBR,BTLNBR_FLAG_W,DATE,TIME,LATITUDE,LONGITUDE,DEPTH,CTDPRS,CTDTMP,CTDSAL,SALNTY,SALNTY_FLAG_W,CTDOXY,CTDOXY_FLAG_W,OXYGEN,OXYGEN_FLAG_W,SILCAT,SILCAT_FLAG_W,NITRAT,NITRAT_FLAG_W,NITRIT,NITRIT_FLAG_W,PHSPHT,PHSPHT_FLAG_W,CFC-11,CFC-11_FLAG_W,CFC-12,CFC-12_FLAG_W,CFC113,CFC113_FLAG_W,SF6,SF6_FLAG_W,TCARBN,TCARBN_FLAG_W,ALKALI,ALKALI_FLAG_W,PH_SWS,PH_SWS_FLAG_W,PH_TMP,TRITUM,TRITUM_FLAG_W,HELIUM,HELIUM_FLAG_W,DELHE3,DELHE3_FLAG_W,DELC13,DELC13_FLAG_W,DELC14,DELC14_FLAG_W,C14ERR,NEON,NEON_FLAG_W,NEONER,DOC,DOC_FLAG_W,TRITER,HELIER,DELHER,THETA,SBE35,SBE35_FLAG_W,BTL_DATE,BTL_TIME
,,,,,,,,,,,METERS,DBAR,ITS-90,PSS-78,PSS-78,,UMOL/KG,,UMOL/KG,,UMOL/KG,,UMOL/KG,,UMOL/KG,,UMOL/KG,,PMOL/KG,,PMOL/KG,,PMOL/KG,,FMOL/KG,,UMOL/KG,,UMOL/KG,,,,DEG C,TU,,NMOL/KG,,PERCNT,,/MILLE,,/MILLE,,/MILLE,NMOL/KG,,NMOL/KG,UMOL/KG,,TU,NMOL/KG,PERCNT,DEG C,ITS-90,,,
318M20091121,        P06,      27,          2,         24,         24,2,20091129,       0756,   -30.0801,   160.5053,       1522,     6.2,  24.0962,  35.4925,  35.5023,3,    213.2,2,   213.3,2,    0.55,2,    0.00,2,    0.00,2,    0.11,2,   1.841,2,   1.168,2,-999.000,1,    1.132,2,  1995.1,3,  2314.8,2,   8.0786,2,    25.00,-999.000,9,-999.0000,9, -999.00,9, -999.00,9,  -999.0,9,  -999.0,-999.000,9,-999.000,  -999.0,9,-999.000,-999.0000, -999.00,  24.0949,  24.0959,2,20091129,       0859
318M20091121,        P06,      27,          2,         23,         23,2,20091129,       0756,   -30.0801,   160.5053,       1522,    34.3,  23.6844,  35.5241,  35.5227,2,    216.4,2,   215.5,2,    0.30,2,    0.00,2,    0.00,2,    0.10,2,   1.870,2,   1.182,2,-999.000,1,    1.198,2,  -999.0,9,  -999.0,9,-999.0000,9,  -999.00,-999.000,9,-999.0000,9, -999.00,9, -999.00,9,  -999.0,9,  -999.0,-999.000,9,-999.000,  -999.0,9,-999.000,-999.0000, -999.00,  23.6772,  23.6929,2,20091129,       0856
318M20091121,        P06,      27,          2,         22,         22,2,20091129,       0756,   -30.0801,   160.5053,       1522,    60.3,  21.4081,  35.5685,  35.5666,2,    229.0,2,   229.4,2,    0.06,2,    0.00,2,    0.00,2,    0.09,2,   2.086,2,   1.304,2,-999.000,5,    1.149,2,  -999.0,9,  2324.9,6,   8.0526,2,    25.00,-999.000,9,-999.0000,9, -999.00,9, -999.00,9,  -999.0,9,  -999.0,-999.000,9,-999.000,  -999.0,9,-999.000,-999.0000, -999.00,  21.3964,  21.4790,3,20091129,       0854
318M20091121,        P06,      27,          2,         21,         21,2,20091129,       0756,   -30.0801,   160.5053,       1522,    85.2,  18.8594,  35.5873,  35.5883,2,    232.3,2,   233.8,2,    0.04,2,    0.00,2,    0.00,2,    0.12,2,   2.268,2,   1.385,2,-999.000,5,    1.159,2,  -999.0,9,  -999.0,9,-999.0000,9,  -999.00,-999.000,9,-999.0000,9, -999.00,9, -999.00,9,  -999.0,9,  -999.0,-999.000,9,-999.000,  -999.0,9,-999.000,-999.0000, -999.00,  18.8443,  18.8599,2,20091129,       0852
318M20091121,        P06,      27,          2,         20,         20,2,20091129,       0756,   -30.0801,   160.5053,       1522,   110.3,  18.0049,  35.5751,  35.5764,2,    217.6,2,   217.9,2,    0.25,2,    1.10,2,    0.05,2,    0.24,2,   2.322,2,   1.414,2,-999.000,5,     1.18,2,  -999.0,9,  2327.3,2,   7.9953,2,    25.00,-999.000,9,-999.0000,9, -999.00,9, -999.00,9,  -999.0,9,  -999.0,-999.000,9,-999.000,  -999.0,9,-999.000,-999.0000, -999.00,  17.9859,  18.0109,2,20091129,       0850
318M20091121,        P06,      27,          2,         19,         19,2,20091129,       0756,   -30.0801,   160.5053,       1522,   135.8,  17.6505,  35.5629,  35.5648,2,    209.7,2,   209.1,2,    0.70,2,    2.71,2,    0.01,2,    0.33,2,   2.328,2,   1.405,2,-999.000,5,    1.175,2,  -999.0,9,  -999.0,9,-999.0000,9,  -999.00,-999.000,9,-999.0000,9, -999.00,9, -999.00,9,  -999.0,9,  -999.0,-999.000,9,-999.000,  -999.0,9,-999.000,-999.0000, -999.00,  17.6274,  17.6480,2,20091129,       0848
318M20091121,        P06,      27,          2,         18,         18,2,20091129,       0756,   -30.0801,   160.5053,       1522,   165.4,  17.3082,  35.5530,  35.5537,2,    208.2,2,   208.9,2,    0.92,2,    3.42,2,    0.01,2,    0.38,2,   2.359,2,   1.436,2,-999.000,5,    1.064,2,  -999.0,9,  2326.1,2,   7.9643,2,    25.00,-999.000,9,-999.0000,9, -999.00,9, -999.00,9,  -999.0,9,  -999.0,-999.000,9,-999.000,  -999.0,9,-999.000,-999.0000, -999.00,  17.2805,  17.3062,2,20091129,       0846
318M20091121,        P06,      27,          2,         17,         17,2,20091129,       0756,   -30.0801,   160.5053,       1522,   217.2,  16.5941,  35.5095,  35.5152,2,    201.0,2,   201.5,2,    1.60,2,    5.19,2,    0.01,2,    0.50,2,   2.385,2,   1.438,2,-999.000,5,    1.076,2,  -999.0,9,  -999.0,9,-999.0000,9,  -999.00,-999.000,9,-999.0000,9, -999.00,9, -999.00,9,  -999.0,9,  -999.0,-999.000,9,-999.000,  -999.0,9,-999.000,-999.0000, -999.00,  16.5587,  16.6000,2,20091129,       0844
318M20091121,        P06,      27,          2,         16,         16,4,20091129,       0756,   -30.0801,   160.5053,       1522,   266.0,  15.6471,  35.4114,  35.5065,4,    187.1,2,   215.0,4,    0.20,4,    0.07,4,    0.00,4,    0.14,4,   1.915,4,   1.200,2,-999.000,5,    1.034,2,  -999.0,9,  2332.2,2,   8.0633,4,    25.00,-999.000,9,-999.0000,9, -999.00,9, -999.00,9,  -999.0,9,  -999.0,-999.000,9,-999.000,  -999.0,9,-999.000,-999.0000, -999.00,  15.6054,  15.6475,2,20091129,       0841
318M20091121,        P06,      27,          2,         15,         15,2,20091129,       0756,   -30.0801,   160.5053,       1522,   314.8,  14.4913,  35.3242,  35.3246,2,    193.4,2,   192.3,2,    2.74,2,    9.49,2,    0.00,2,    0.75,2,   2.463,2,   1.436,2,-999.000,5,    0.934,2,  -999.0,9,  -999.0,9,-999.0000,9,  -999.00,-999.000,9,-999.0000,9, -999.00,9, -999.00,9,  -999.0,9,  -999.0,-999.000,9,-999.000,  -999.0,9,-999.000,-999.0000, -999.00,  14.4444,  14.4937,2,20091129,       0839
318M20091121,        P06,      27,          2,         14,         14,2,20091129,       0756,   -30.0801,   160.5053,       1522,   367.3,  13.4646,  35.2105,  35.2139,2,    191.5,2,   191.6,2,    3.42,2,   11.51,2,    0.00,2,    0.89,2,   2.459,2,   1.400,2,-999.000,5,    0.828,2,  -999.0,9,  2312.0,2,   7.8437,2,    25.00,-999.000,9,-999.0000,9, -999.00,9, -999.00,9,  -999.0,9,  -999.0,-999.000,9,-999.000,  -999.0,9,-999.000,-999.0000, -999.00,  13.4125,  13.4739,2,20091129,       0837
318M20091121,        P06,      27,          2,         13,         13,2,20091129,       0756,   -30.0801,   160.5053,       1522,   416.6,  12.6250,  35.1498,  35.1502,2,    196.5,2,   198.6,2,    3.87,2,   12.48,2,    0.00,2,    0.95,2,   2.534,2,   1.451,2,-999.000,5,    0.899,2,  -999.0,9,  -999.0,9,-999.0000,9,  -999.00,-999.000,9,-999.0000,9, -999.00,9, -999.00,9,  -999.0,9,  -999.0,-999.000,9,-999.000,  -999.0,9,-999.000,-999.0000, -999.00,  12.5682,  12.6250,2,20091129,       0834
318M20091121,        P06,      27,          2,         12,         12,2,20091129,       0756,   -30.0801,   160.5053,       1522,   468.1,  11.5087,  34.9970,  34.9978,2,    197.0,2,   197.7,2,    5.02,2,   14.81,2,    0.00,2,    1.09,2,   2.480,2,   1.398,2,-999.000,5,     0.85,2,  -999.0,9,  2297.3,6,   7.8000,2,    25.00,-999.000,9,-999.0000,9, -999.00,9, -999.00,9,  -999.0,9,  -999.0,-999.000,9,-999.000,  -999.0,9,-999.000,-999.0000, -999.00,  11.4486,  11.5078,2,20091129,       0832
318M20091121,        P06,      27,          2,         11,         11,2,20091129,       0756,   -30.0801,   160.5053,       1522,   536.5,  10.1542,  34.8130,  34.8158,2,    197.1,2,   198.0,2,    6.65,2,   17.98,2,    0.00,2,    1.29,2,   2.415,2,   1.318,2,-999.000,5,    0.787,2,  -999.0,9,  -999.0,9,-999.0000,9,  -999.00,-999.000,9,-999.0000,9, -999.00,9, -999.00,9,  -999.0,9,  -999.0,-999.000,9,-999.000,  -999.0,9,-999.000,-999.0000, -999.00,  10.0904,  10.1625,2,20091129,       0829
318M20091121,        P06,      27,          2,         10,         10,2,20091129,       0756,   -30.0801,   160.5053,       1522,   637.9,   8.7421,  34.6416,  34.6424,2,    198.9,2,   199.0,2,    9.90,2,   21.09,2,    0.00,2,    1.50,2,   2.090,2,   1.119,2,-999.000,5,    0.501,2,  -999.0,9,  2285.6,2,   7.7306,2,    25.00,-999.000,9,-999.0000,9, -999.00,9, -999.00,9,  -999.0,9,  -999.0,-999.000,9,-999.000,  -999.0,9,-999.000,-999.0000, -999.00,   8.6726,   8.7450,2,20091129,       0826
318M20091121,        P06,      27,          2,          9,          9,2,20091129,       0756,   -30.0801,   160.5053,       1522,   738.4,   7.5691,  34.5302,  34.5314,2,    196.8,2,   196.6,2,   14.34,2,   24.20,2,    0.00,2,    1.68,2,   1.522,2,   0.793,2,-999.000,5,    0.437,2,  -999.0,9,  -999.0,9,-999.0000,9,  -999.00,-999.000,9,-999.0000,9, -999.00,9, -999.00,9,  -999.0,9,  -999.0,-999.000,9,-999.000,  -999.0,9,-999.000,-999.0000, -999.00,   7.4946,   7.5721,2,20091129,       0823
318M20091121,        P06,      27,          2,          8,          8,2,20091129,       0756,   -30.0801,   160.5053,       1522,   841.3,   6.6529,  34.4742,  34.4738,2,    194.4,2,   194.0,2,   20.89,2,   26.58,2,    0.00,2,    1.85,2,   1.045,2,   0.535,2,-999.000,5,    0.116,2,  -999.0,9,  2323.4,4,   7.6818,2,    25.00,-999.000,9,-999.0000,9, -999.00,9, -999.00,9,  -999.0,9,  -999.0,-999.000,9,-999.000,  -999.0,9,-999.000,-999.0000, -999.00,   6.5733,   6.6505,2,20091129,       0820
318M20091121,        P06,      27,          2,          7,          7,2,20091129,       0756,   -30.0801,   160.5053,       1522,   941.5,   5.8694,  34.4516,  34.4528,2,    188.4,2,   189.0,2,   29.10,2,   28.59,2,    0.00,2,    1.99,2,   0.694,2,   0.358,2,-999.000,5,    0.076,2,  -999.0,9,  -999.0,9,-999.0000,9,  -999.00,-999.000,9,-999.0000,9, -999.00,9, -999.00,9,  -999.0,9,  -999.0,-999.000,9,-999.000,  -999.0,9,-999.000,-999.0000, -999.00,   5.7852,   5.8688,2,20091129,       0817
318M20091121,        P06,      27,          2,          6,          6,2,20091129,       0756,   -30.0801,   160.5053,       1522,  1042.6,   5.1687,  34.4522,  34.4538,2,    182.0,2,   182.2,2,   39.93,2,   30.34,2,    0.00,2,    2.10,2,   0.435,2,   0.236,2,-999.000,5,        0,2,  -999.0,9,  2303.7,2,   7.6432,2,    25.00,-999.000,9,-999.0000,9, -999.00,9, -999.00,9,  -999.0,9,  -999.0,-999.000,9,-999.000,  -999.0,9,-999.000,-999.0000, -999.00,   5.0803,   5.1682,2,20091129,       0814
318M20091121,        P06,      27,          2,          5,          5,2,20091129,       0756,   -30.0801,   160.5053,       1522,  1143.9,   4.6310,  34.4723,  34.4734,2,    174.1,2,   174.7,2,   50.56,2,   31.67,2,    0.00,2,    2.20,2,   0.279,2,   0.158,2,-999.000,5,        0,2,  -999.0,9,  -999.0,9,-999.0000,9,  -999.00,-999.000,9,-999.0000,9, -999.00,9, -999.00,9,  -999.0,9,  -999.0,-999.000,9,-999.000,  -999.0,9,-999.000,-999.0000, -999.00,   4.5378,   4.6306,2,20091129,       0810
318M20091121,        P06,      27,          2,          4,          4,2,20091129,       0756,   -30.0801,   160.5053,       1522,  1244.3,   4.1176,  34.5007,  34.5045,2,    167.3,2,   167.3,2,   62.64,2,   32.83,2,    0.00,2,    2.29,2,   0.155,2,   0.090,2,-999.000,5,        0,2,  -999.0,9,  2334.2,2,   7.6125,2,    25.00,-999.000,9,-999.0000,9, -999.00,9, -999.00,9,  -999.0,9,  -999.0,-999.000,9,-999.000,  -999.0,9,-999.000,-999.0000, -999.00,   4.0201,   4.1187,2,20091129,       0806
318M20091121,        P06,      27,          2,          3,          3,2,20091129,       0756,   -30.0801,   160.5053,       1522,  1348.4,   3.6778,  34.5302,  34.5314,2,    159.9,2,   159.6,2,   73.81,2,   33.99,2,    0.00,2,    2.37,2,   0.084,2,   0.050,2,-999.000,5,        0,2,  -999.0,9,  -999.0,9,-999.0000,9,  -999.00,-999.000,9,-999.0000,9, -999.00,9, -999.00,9,  -999.0,9,  -999.0,-999.000,9,-999.000,  -999.0,9,-999.000,-999.0000, -999.00,   3.5755,   3.6766,2,20091129,       0803
318M20091121,        P06,      27,          2,          2,          2,2,20091129,       0756,   -30.0801,   160.5053,       1522,  1447.6,   3.3841,  34.5575,  34.5619,3,    156.1,2,   156.5,2,   81.43,2,   34.46,2,    0.00,2,    2.42,2,   0.067,2,   0.041,2,-999.000,5,        0,2,  -999.0,9,  -999.0,9,-999.0000,9,  -999.00,-999.000,9,-999.0000,9, -999.00,9, -999.00,9,  -999.0,9,  -999.0,-999.000,9,-999.000,  -999.0,9,-999.000,-999.0000, -999.00,   3.2764,   3.3839,2,20091129,       0759
318M20091121,        P06,      27,          2,          1,          1,2,20091129,       0756,   -30.0801,   160.5053,       1522,  1520.9,   2.9336,  34.5959,  34.5964,2,    152.6,2,   152.6,2,   91.93,2,   35.00,2,    0.00,2,    2.45,2,   0.039,2,   0.027,2,-999.000,5,        0,2,  -999.0,9,  2368.6,6,   7.5916,6,    25.00,-999.000,9,-999.0000,9, -999.00,9, -999.00,9,  -999.0,9,  -999.0,-999.000,9,-999.000,  -999.0,9,-999.000,-999.0000, -999.00,   2.8247,   2.9407,2,20091129,       0756