BOTTLE,20220818CCHSIOAMB
EXPOCODE,SECT_ID,STNNBR,CASTNO,SAMPNO,BTLNBR,BTLNBR_FLAG_W,DATE,TIME,LATITUDE,LONGITUDE,DEPTH,CTDPRS,CTDTMP,CTDSAL,SALNTY,SALNTY_FLAG_W,CTDOXY,CTDOXY_FLAG_W,OXYGEN,OXYGEN_FLAG_W,SILCAT,SILCAT_FLAG_W,NITRAT,NITRAT_FLAG_W,NITRIT,NITRIT_FLAG_W,PHSPHT,PHSPHT_FLAG_W,CFC-11,CFC-11_FLAG_W,CFC-12,CFC-12_FLAG_W,CFC113,CFC113_FLAG_W,SF6,SF6_FLAG_W,TCARBN,TCARBN_FLAG_W,ALKALI,ALKALI_FLAG_W,PH_SWS,PH_SWS_FLAG_W,PH_TMP,TRITUM,TRITUM_FLAG_W,HELIUM,HELIUM_FLAG_W,DELHE3,DELHE3_FLAG_W,DELC13,DELC13_FLAG_W,DELC14,DELC14_FLAG_W,C14ERR,NEON,NEON_FLAG_W,NEONER,DOC,DOC_FLAG_W,TRITER,HELIER,DELHER,THETA,SBE35,SBE35_FLAG_W,BTL_DATE,BTL_TIME
,,,,,,,,,,,METERS,DBAR,ITS-90,PSS-78,PSS-78,,UMOL/KG,,UMOL/KG,,UMOL/KG,,UMOL/KG,,UMOL/KG,,UMOL/KG,,PMOL/KG,,PMOL/KG,,PMOL/KG,,FMOL/KG,,UMOL/KG,,UMOL/KG,,,,DEG C,TU,,NMOL/KG,,PERCNT,,/MILLE,,/MILLE,,/MILLE,NMOL/KG,,NMOL/KG,UMOL/KG,,TU,NMOL/KG,PERCNT,DEG C,ITS-90,,,
318M20091121,        P06,      20,          1,         27,         27,2,20091127,       1517,   -30.0900,   157.6701,       1853,     5.8,  24.2313,  35.4683,  35.4678,2,    212.6,2,   212.7,2,    0.45,2,    0.16,2,    0.00,2,    0.10,2,   1.818,2,   1.108,2,-999.000,1,     1.17,2,  1998.5,6,  2320.6,2,   8.0793,2,    25.00,-999.000,9,-999.0000,9, -999.00,9, -999.00,9,  -999.0,9,  -999.0,-999.000,9,-999.000,    60.1,2,-999.000,-999.0000, -999.00,  24.2301,  24.2304,2,20091127,       1707
318M20091121,        P06,      20,          1,         26,         26,2,20091127,       1517,   -30.0900,   157.6701,       1853,    26.2,  24.2395,  35.4682,  35.4682,2,    213.1,2,   212.8,2,    0.23,2,    0.18,2,    0.00,2,    0.09,2,   1.815,6,   1.110,6,-999.000,1,    1.143,6,  1996.9,2,  2321.6,2,   8.0810,2,    25.00,-999.000,9,-999.0000,9, -999.00,9, -999.00,9,  -999.0,9,  -999.0,-999.000,9,-999.000,    59.7,2,-999.000,-999.0000, -999.00,  24.2339,  24.2405,2,20091127,       1704
318M20091121,        P06,      20,          1,         25,         25,2,20091127,       1517,   -30.0900,   157.6701,       1853,    50.8,  22.1111,  35.4492,  35.4475,2,    222.6,2,   221.5,2,    0.21,2,    0.20,2,    0.00,2,    0.10,2,   1.968,2,   1.197,2,-999.000,1,    1.119,2,  2004.9,2,  2322.4,6,   8.0700,2,    25.00,-999.000,9,-999.0000,9, -999.00,9, -999.00,9,  -999.0,9,  -999.0,-999.000,9,-999.000,    60.1,2,-999.000,-999.0000, -999.00,  22.1010,  22.1160,2,20091127,       1701
318M20091121,        P06,      20,          1,         24,         24,2,20091127,       1517,   -30.0900,   157.6701,       1853,    75.0,  21.1525,  35.4973,  35.4989,2,    215.4,2,   214.9,2,    0.40,2,    0.40,2,    0.01,2,    0.13,2,   2.019,2,   1.228,2,-999.000,1,    1.174,2,  2019.0,2,  -999.0,5,-999.0000,5,  -999.00,-999.000,9,-999.0000,9, -999.00,9, -999.00,9,  -999.0,9,  -999.0,-999.000,9,-999.000,    55.1,2,-999.000,-999.0000, -999.00,  21.1381,  21.1444,2,20091127,       1659
318M20091121,        P06,      20,          1,         23,         23,2,20091127,       1517,   -30.0900,   157.6701,       1853,   101.2,  20.4363,  35.5356,  35.5346,2,    198.7,2,   200.0,2,    0.59,2,    2.34,2,    0.05,2,    0.24,2,   2.058,2,   1.247,2,-999.000,1,    1.122,2,  2036.8,2,  2327.1,2,   8.0119,6,    25.00,-999.000,9,-999.0000,9, -999.00,9, -999.00,9,  -999.0,9,  -999.0,-999.000,9,-999.000,    51.5,2,-999.000,-999.0000, -999.00,  20.4173,  20.4352,2,20091127,       1656
318M20091121,        P06,      20,          1,         22,         22,2,20091127,       1517,   -30.0900,   157.6701,       1853,   124.3,  19.8274,  35.5677,  35.5663,2,    198.3,2,   207.7,2,    0.36,2,    2.02,2,    0.09,2,    0.23,2,   2.149,2,   1.294,2,-999.000,1,     1.08,2,  2041.6,2,  2325.8,2,   8.0147,2,    25.00,-999.000,9,-999.0000,9, -999.00,9, -999.00,9,  -999.0,9,  -999.0,-999.000,9,-999.000,    51.1,2,-999.000,-999.0000, -999.00,  19.8045,  19.8307,2,20091127,       1654
318M20091121,        P06,      20,          1,         21,         21,2,20091127,       1517,   -30.0900,   157.6701,       1853,   150.9,  19.5053,  35.5792,  35.5778,2,    204.7,2,   199.0,2,    0.55,2,    3.29,2,    0.02,2,    0.30,2,   2.159,2,   1.303,2,-999.000,1,    1.081,2,  2049.5,2,  2326.8,2,   7.9964,2,    25.00,-999.000,9,-999.0000,9, -999.00,9, -999.00,9,  -999.0,9,  -999.0,-999.000,9,-999.000,    50.0,2,-999.000,-999.0000, -999.00,  19.4778,  19.5089,2,20091127,       1651
318M20091121,        P06,      20,          1,         20,         20,2,20091127,       1517,   -30.0900,   157.6701,       1853,   201.5,  18.7053,  35.5961,  35.5964,2,    193.9,2,   193.6,2,    0.73,2,    4.40,2,    0.01,2,    0.38,2,   2.207,2,   1.329,2,-999.000,1,    1.035,2,  2080.2,2,  2333.1,2,   7.9734,2,    25.00,-999.000,9,-999.0000,9, -999.00,9, -999.00,9,  -999.0,9,  -999.0,-999.000,9,-999.000,    53.1,2,-999.000,-999.0000, -999.00,  18.6696,  18.6941,2,20091127,       1647
318M20091121,        P06,      20,          1,         19,         19,2,20091127,       1517,   -30.0900,   157.6701,       1853,   251.1,  17.5175,  35.5551,  35.5547,2,    188.9,2,   186.2,2,    1.33,2,    6.42,2,    0.00,2,    0.52,2,   2.269,2,   1.338,2,-999.000,1,    0.886,2,  2084.6,2,  2325.9,2,   7.9388,2,    25.00,-999.000,9,-999.0000,9, -999.00,9, -999.00,9,  -999.0,9,  -999.0,-999.000,9,-999.000,    46.4,2,-999.000,-999.0000, -999.00,  17.4750,  17.5164,2,20091127,       1644
318M20091121,        P06,      20,          1,         18,         18,2,20091127,       1517,   -30.0900,   157.6701,       1853,   305.4,  16.2294,  35.4537,  35.4539,2,    184.3,2,   184.0,2,    2.12,2,    8.35,2,    0.00,2,    0.64,2,   2.322,2,   1.346,2,-999.000,1,    0.899,2,  2098.9,2,  2322.0,2,   7.9069,2,    25.00,-999.000,9,-999.0000,9, -999.00,9, -999.00,9,  -999.0,9,  -999.0,-999.000,9,-999.000,    44.0,2,-999.000,-999.0000, -999.00,  16.1803,  16.2291,2,20091127,       1640
318M20091121,        P06,      20,          1,         17,         17,2,20091127,       1517,   -30.0900,   157.6701,       1853,   350.2,  14.9433,  35.3456,  35.3515,2,    192.3,2,   189.2,2,    2.72,2,    9.65,2,    0.00,2,    0.73,2,   2.382,2,   1.354,2,-999.000,1,    0.953,2,  2105.3,2,  2317.4,2,   7.8828,2,    25.00,-999.000,9,-999.0000,9, -999.00,9, -999.00,9,  -999.0,9,  -999.0,-999.000,9,-999.000,    44.5,2,-999.000,-999.0000, -999.00,  14.8900,  14.9310,2,20091127,       1636
318M20091121,        P06,      20,          1,         16,         16,2,20091127,       1517,   -30.0900,   157.6701,       1853,   400.9,  13.6374,  35.2576,  35.2578,2,    194.5,2,   196.0,2,    3.31,2,   11.13,2,    0.00,2,    0.83,2,   2.492,2,   1.440,2,-999.000,1,    1.018,2,  2115.7,2,  2317.0,2,   7.8508,2,    25.00,-999.000,9,-999.0000,9, -999.00,9, -999.00,9,  -999.0,9,  -999.0,-999.000,9,-999.000,    44.0,2,-999.000,-999.0000, -999.00,  13.5799,  13.6509,2,20091127,       1633
318M20091121,        P06,      20,          1,         15,         15,2,20091127,       1517,   -30.0900,   157.6701,       1853,   452.0,  12.4646,  35.1302,  35.1289,2,    198.8,2,   198.8,2,    4.12,2,   13.11,2,    0.00,2,    0.97,2,   2.503,2,   1.436,2,-999.000,1,    0.881,2,  2125.8,2,  2312.1,6,   7.8258,2,    25.00,-999.000,9,-999.0000,9, -999.00,9, -999.00,9,  -999.0,9,  -999.0,-999.000,9,-999.000,    44.3,2,-999.000,-999.0000, -999.00,  12.4035,  12.4616,2,20091127,       1629
318M20091121,        P06,      20,          1,         14,         14,2,20091127,       1517,   -30.0900,   157.6701,       1853,   501.3,  11.8223,  35.0605,  35.0650,3,    201.1,2,   204.6,2,    4.30,2,   13.77,2,    0.00,2,    1.01,2,   2.590,2,   1.479,2,-999.000,1,    0.947,2,  2128.9,2,  2309.1,2,   7.8138,2,    25.00,-999.000,9,-999.0000,9, -999.00,9, -999.00,9,  -999.0,9,  -999.0,-999.000,9,-999.000,  -999.0,5,-999.000,-999.0000, -999.00,  11.7567,  11.8077,2,20091127,       1625
318M20091121,        P06,      20,          1,         13,         13,2,20091127,       1517,   -30.0900,   157.6701,       1853,   599.8,   9.3689,  34.7152,  34.7148,2,    202.8,2,   209.6,3,    7.55,2,   19.63,2,    0.00,2,    1.38,2,   2.460,2,   1.334,2,-999.000,1,    0.668,2,  2146.1,2,  2293.4,2,   7.7484,2,    25.00,-999.000,9,-999.0000,9, -999.00,9, -999.00,9,  -999.0,9,  -999.0,-999.000,9,-999.000,  -999.0,9,-999.000,-999.0000, -999.00,   9.3009,   9.3659,2,20091127,       1620
318M20091121,        P06,      20,          1,         12,         12,2,20091127,       1517,   -30.0900,   157.6701,       1853,   704.5,   8.2043,  34.5827,  34.5816,2,    198.5,2,   198.0,2,   11.41,2,   22.74,2,    0.00,2,    1.58,2,   1.809,2,   0.953,2,-999.000,1,    0.417,2,  2155.3,2,  2290.3,2,   7.7189,2,    25.00,-999.000,9,-999.0000,9, -999.00,9, -999.00,9,  -999.0,9,  -999.0,-999.000,9,-999.000,    41.1,2,-999.000,-999.0000, -999.00,   8.1301,   8.2049,2,20091127,       1615
318M20091121,        P06,      20,          1,         11,         11,2,20091127,       1517,   -30.0900,   157.6701,       1853,   801.2,   7.2216,  34.4958,  34.4961,2,    198.7,2,   198.7,2,   15.50,2,   24.99,2,    0.00,2,    1.73,2,   1.344,2,   0.712,2,-999.000,1,    0.256,2,  2158.7,2,  2293.8,2,   7.7017,2,    25.00,-999.000,9,-999.0000,9, -999.00,9, -999.00,9,  -999.0,9,  -999.0,-999.000,9,-999.000,  -999.0,9,-999.000,-999.0000, -999.00,   7.1426,   7.2150,2,20091127,       1610
318M20091121,        P06,      20,          1,         10,         10,2,20091127,       1517,   -30.0900,   157.6701,       1853,   904.0,   6.3425,  34.4597,  34.4583,2,    192.1,2,   191.9,2,   23.49,2,   27.57,2,    0.00,2,    1.90,2,   0.888,2,   0.471,2,-999.000,1,        0,2,  2187.1,2,  2296.9,2,   7.6754,2,    25.00,-999.000,9,-999.0000,9, -999.00,9, -999.00,9,  -999.0,9,  -999.0,-999.000,9,-999.000,    37.2,2,-999.000,-999.0000, -999.00,   6.2587,   6.3453,2,20091127,       1605
318M20091121,        P06,      20,          1,          9,          9,2,20091127,       1517,   -30.0900,   157.6701,       1853,  1005.5,   5.5647,  34.4490,  34.4485,2,    185.6,2,   186.8,2,   33.16,2,   29.61,2,    0.00,2,    2.04,2,   0.552,2,   0.303,2,-999.000,1,        0,2,  2198.3,2,  2305.9,2,   7.6523,2,    25.00,-999.000,9,-999.0000,9, -999.00,9, -999.00,9,  -999.0,9,  -999.0,-999.000,9,-999.000,  -999.0,9,-999.000,-999.0000, -999.00,   5.4767,   5.5656,2,20091127,       1559
318M20091121,        P06,      20,          1,          8,          8,2,20091127,       1517,   -30.0900,   157.6701,       1853,  1108.9,   4.8907,  34.4605,  34.4596,2,    178.6,2,   178.5,2,   44.54,2,   31.17,2,    0.00,2,    2.15,2,   0.331,2,   0.192,2,-999.000,1,        0,2,  2210.9,2,  2316.7,2,   7.6346,2,    25.00,-999.000,9,-999.0000,9, -999.00,9, -999.00,9,  -999.0,9,  -999.0,-999.000,9,-999.000,  -999.0,9,-999.000,-999.0000, -999.00,   4.7984,   4.8910,2,20091127,       1554
318M20091121,        P06,      20,          1,          7,          7,2,20091127,       1517,   -30.0900,   157.6701,       1853,  1215.2,   4.3476,  34.4863,  34.4853,2,    169.4,2,   170.5,2,   56.78,2,   32.43,2,    0.00,2,    2.26,2,   0.190,2,   0.118,2,-999.000,1,        0,2,  2228.1,2,  2330.1,2,   7.6183,2,    25.00,-999.000,9,-999.0000,9, -999.00,9, -999.00,9,  -999.0,9,  -999.0,-999.000,9,-999.000,  -999.0,9,-999.000,-999.0000, -999.00,   4.2505,   4.3492,2,20091127,       1549
318M20091121,        P06,      20,          1,          6,          6,2,20091127,       1517,   -30.0900,   157.6701,       1853,  1307.4,   3.8121,  34.5214,  34.5211,2,    163.5,2,   162.1,2,   69.71,2,   33.58,2,    0.00,2,    2.35,2,   0.097,2,   0.069,2,-999.000,1,        0,2,  2247.9,2,  2345.4,2,   7.5998,2,    25.00,-999.000,9,-999.0000,9, -999.00,9, -999.00,9,  -999.0,9,  -999.0,-999.000,9,-999.000,    36.4,2,-999.000,-999.0000, -999.00,   3.7120,   3.8140,2,20091127,       1544
318M20091121,        P06,      20,          1,          5,          5,2,20091127,       1517,   -30.0900,   157.6701,       1853,  1408.7,   3.4330,  34.5497,  34.5496,2,    157.1,2,   157.4,2,   79.97,2,   34.30,2,    0.00,2,    2.41,2,   0.047,2,   0.032,2,-999.000,1,        0,2,  2261.6,2,  2353.0,2,   7.5901,6,    25.00,-999.000,9,-999.0000,9, -999.00,9, -999.00,9,  -999.0,9,  -999.0,-999.000,9,-999.000,  -999.0,9,-999.000,-999.0000, -999.00,   3.3281,   3.4347,2,20091127,       1539
318M20091121,        P06,      20,          1,          4,          4,2,20091127,       1517,   -30.0900,   157.6701,       1853,  1511.1,   3.0750,  34.5807,  34.5835,2,    151.6,2,   151.4,2,   90.04,2,   34.81,2,    0.00,2,    2.45,2,   0.016,2,   0.014,2,-999.000,1,        0,2,  2273.7,2,  2316.6,4,   7.5823,2,    25.00,-999.000,9,-999.0000,9, -999.00,9, -999.00,9,  -999.0,9,  -999.0,-999.000,9,-999.000,  -999.0,9,-999.000,-999.0000, -999.00,   2.9653,   3.0746,2,20091127,       1534
318M20091121,        P06,      20,          1,          3,          3,2,20091127,       1517,   -30.0900,   157.6701,       1853,  1615.7,   2.8730,  34.5994,  34.5991,2,    150.4,2,   150.6,2,   94.88,2,   34.93,2,    0.00,2,    2.46,2,   0.009,2,   0.010,2,-999.000,1,        0,2,  2279.9,2,  2368.1,6,   7.5778,2,    25.00,-999.000,9,-999.0000,9, -999.00,9, -999.00,9,  -999.0,9,  -999.0,-999.000,9,-999.000,    37.7,2,-999.000,-999.0000, -999.00,   2.7569,   2.8728,2,20091127,       1528
318M20091121,        P06,      20,          1,          2,          2,2,20091127,       1517,   -30.0900,   157.6701,       1853,  1711.6,   2.6878,  34.6178,  34.6247,3,    151.6,2,   152.1,2,   96.99,2,   34.89,2,    0.00,2,    2.46,2,   0.006,2,   0.007,2,-999.000,1,        0,2,  2281.4,3,  2370.7,2,   7.5790,2,    25.00,-999.000,9,-999.0000,9, -999.00,9, -999.00,9,  -999.0,9,  -999.0,-999.000,9,-999.000,  -999.0,9,-999.000,-999.0000, -999.00,   2.5659,   2.6879,2,20091127,       1524
318M20091121,        P06,      20,          1,          1,          1,2,20091127,       1517,   -30.0900,   157.6701,       1853,  1877.3,   2.4918,  34.6416,  34.6416,2,    156.8,2,   157.2,2,   97.41,2,   34.41,2,    0.00,2,    2.42,2,   0.010,2,   0.007,2,-999.000,1,        0,2,  2278.3,6,  2370.5,2,   7.5833,2,    25.00,-999.000,9,-999.0000,9, -999.00,9, -999.00,9,  -999.0,9,  -999.0,-999.000,9,-999.000,    34.9,2,-999.000,-999.0000, -999.00,   2.3584,   2.4912,2,20091127,       1517