BOTTLE,20220818CCHSIOAMB
EXPOCODE,SECT_ID,STNNBR,CASTNO,SAMPNO,BTLNBR,BTLNBR_FLAG_W,DATE,TIME,LATITUDE,LONGITUDE,DEPTH,CTDPRS,CTDTMP,CTDSAL,SALNTY,SALNTY_FLAG_W,CTDOXY,CTDOXY_FLAG_W,OXYGEN,OXYGEN_FLAG_W,SILCAT,SILCAT_FLAG_W,NITRAT,NITRAT_FLAG_W,NITRIT,NITRIT_FLAG_W,PHSPHT,PHSPHT_FLAG_W,CFC-11,CFC-11_FLAG_W,CFC-12,CFC-12_FLAG_W,CFC113,CFC113_FLAG_W,SF6,SF6_FLAG_W,TCARBN,TCARBN_FLAG_W,ALKALI,ALKALI_FLAG_W,PH_SWS,PH_SWS_FLAG_W,PH_TMP,TRITUM,TRITUM_FLAG_W,HELIUM,HELIUM_FLAG_W,DELHE3,DELHE3_FLAG_W,DELC13,DELC13_FLAG_W,DELC14,DELC14_FLAG_W,C14ERR,NEON,NEON_FLAG_W,NEONER,DOC,DOC_FLAG_W,TRITER,HELIER,DELHER,THETA,SBE35,SBE35_FLAG_W,BTL_DATE,BTL_TIME
,,,,,,,,,,,METERS,DBAR,ITS-90,PSS-78,PSS-78,,UMOL/KG,,UMOL/KG,,UMOL/KG,,UMOL/KG,,UMOL/KG,,UMOL/KG,,PMOL/KG,,PMOL/KG,,PMOL/KG,,FMOL/KG,,UMOL/KG,,UMOL/KG,,,,DEG C,TU,,NMOL/KG,,PERCNT,,/MILLE,,/MILLE,,/MILLE,NMOL/KG,,NMOL/KG,UMOL/KG,,TU,NMOL/KG,PERCNT,DEG C,ITS-90,,,
318M20091121,        P06,      55,          2,         30,         30,2,20091206,       1044,   -30.0851,   173.5000,       2501,     4.3,  22.3361,  35.7047,  35.7052,2,    222.7,2,   222.4,2,    1.16,2,    0.00,2,    0.00,2,    0.08,2,   1.920,2,   1.240,2,-999.000,1,    1.142,2,  2035.3,2,  2338.4,2,   8.0543,2,    25.00,-999.000,9,-999.0000,9, -999.00,9, -999.00,9,  -999.0,9,  -999.0,-999.000,9,-999.000,  -999.0,9,-999.000,-999.0000, -999.00,  22.3352,  22.3336,2,20091206,       1221
318M20091121,        P06,      55,          2,         29,         29,2,20091206,       1044,   -30.0851,   173.5000,       2501,    19.5,  21.8808,  35.6885,  35.6890,2,    225.4,2,   224.8,2,    1.07,2,    0.00,2,    0.00,2,    0.08,2,   1.900,6,   1.230,6,-999.000,1,    1.183,6,  -999.0,9,  -999.0,9,-999.0000,9,  -999.00,-999.000,9,-999.0000,9, -999.00,9, -999.00,9,  -999.0,9,  -999.0,-999.000,9,-999.000,  -999.0,9,-999.000,-999.0000, -999.00,  21.8770,  21.8689,2,20091206,       1219
318M20091121,        P06,      55,          2,         28,         28,2,20091206,       1044,   -30.0851,   173.5000,       2501,    40.2,  19.5053,  35.6265,  35.6266,2,    239.7,2,   239.4,2,    1.38,2,    0.00,2,    0.00,2,    0.09,2,   2.102,2,   1.359,2,-999.000,1,    1.221,2,  -999.0,9,  2332.7,6,   8.0384,6,    25.00,-999.000,9,-999.0000,9, -999.00,9, -999.00,9,  -999.0,9,  -999.0,-999.000,9,-999.000,  -999.0,9,-999.000,-999.0000, -999.00,  19.4980,  19.4994,2,20091206,       1217
318M20091121,        P06,      55,          2,         27,         27,2,20091206,       1044,   -30.0851,   173.5000,       2501,    65.5,  18.6868,  35.6020,  35.6025,2,    229.4,2,   230.1,2,    1.67,2,   -0.01,2,    0.01,2,    0.13,2,   2.134,2,   1.365,2,-999.000,1,    1.199,2,  2044.5,2,  -999.0,9,-999.0000,9,  -999.00,-999.000,9,-999.0000,9, -999.00,9, -999.00,9,  -999.0,9,  -999.0,-999.000,9,-999.000,  -999.0,9,-999.000,-999.0000, -999.00,  18.6752,  18.6947,2,20091206,       1216
318M20091121,        P06,      55,          2,         26,         26,2,20091206,       1044,   -30.0851,   173.5000,       2501,    90.3,  18.0568,  35.5915,  35.5914,2,    216.7,2,   216.4,2,    1.97,2,    1.35,2,    0.14,2,    0.24,2,   2.136,2,   1.370,2,-999.000,1,    1.222,2,  -999.0,9,  2331.2,2,   7.9853,2,    25.00,-999.000,9,-999.0000,9, -999.00,9, -999.00,9,  -999.0,9,  -999.0,-999.000,9,-999.000,  -999.0,9,-999.000,-999.0000, -999.00,  18.0412,  18.0563,2,20091206,       1213
318M20091121,        P06,      55,          2,         25,         25,2,20091206,       1044,   -30.0851,   173.5000,       2501,   135.9,  17.4303,  35.5748,  35.5746,2,    212.4,2,   211.7,2,    2.08,2,    2.96,2,    0.03,2,    0.32,2,   2.181,2,   1.391,2,-999.000,1,    1.193,2,  2067.3,2,  -999.0,9,-999.0000,9,  -999.00,-999.000,9,-999.0000,9, -999.00,9, -999.00,9,  -999.0,9,  -999.0,-999.000,9,-999.000,  -999.0,9,-999.000,-999.0000, -999.00,  17.4074,  17.4106,2,20091206,       1210
318M20091121,        P06,      55,          2,         24,         24,2,20091206,       1044,   -30.0851,   173.5000,       2501,   184.3,  16.7638,  35.5384,  35.5385,2,    201.8,2,   206.8,2,    2.58,2,    4.51,2,    0.02,2,    0.42,2,   2.217,2,   1.405,2,-999.000,1,    1.131,2,  -999.0,9,  2325.3,2,   7.9473,2,    25.00,-999.000,9,-999.0000,9, -999.00,9, -999.00,9,  -999.0,9,  -999.0,-999.000,9,-999.000,  -999.0,9,-999.000,-999.0000, -999.00,  16.7336,  16.7625,2,20091206,       1208
318M20091121,        P06,      55,          2,         23,         23,2,20091206,       1044,   -30.0851,   173.5000,       2501,   235.3,  15.8034,  35.4523,  35.4522,2,    202.2,2,   202.2,2,    3.27,2,    6.61,2,    0.01,2,    0.55,2,   2.259,2,   1.416,2,-999.000,1,    1.076,2,  2091.7,2,  -999.0,9,-999.0000,9,  -999.00,-999.000,9,-999.0000,9, -999.00,9, -999.00,9,  -999.0,9,  -999.0,-999.000,9,-999.000,  -999.0,9,-999.000,-999.0000, -999.00,  15.7663,  15.8065,2,20091206,       1206
318M20091121,        P06,      55,          2,         22,         22,2,20091206,       1044,   -30.0851,   173.5000,       2501,   283.9,  15.0106,  35.3647,  35.3643,2,    199.0,2,   197.5,2,    3.57,2,    8.34,2,    0.01,2,    0.66,2,   2.275,2,   1.403,2,-999.000,1,    0.981,2,  -999.0,9,  2328.3,4,   7.8772,2,    25.00,-999.000,9,-999.0000,9, -999.00,9, -999.00,9,  -999.0,9,  -999.0,-999.000,9,-999.000,  -999.0,9,-999.000,-999.0000, -999.00,  14.9673,  15.0173,2,20091206,       1203
318M20091121,        P06,      55,          2,         21,         21,2,20091206,       1044,   -30.0851,   173.5000,       2501,   336.5,  13.9452,  35.2491,  35.2483,2,    196.6,2,   195.7,2,    4.66,2,   10.50,2,    0.01,2,    0.79,2,   2.302,2,   1.411,2,-999.000,1,    0.958,2,  2111.9,2,  -999.0,9,-999.0000,9,  -999.00,-999.000,9,-999.0000,9, -999.00,9, -999.00,9,  -999.0,9,  -999.0,-999.000,9,-999.000,  -999.0,9,-999.000,-999.0000, -999.00,  13.8964,  13.9428,2,20091206,       1200
318M20091121,        P06,      55,          2,         20,         20,2,20091206,       1044,   -30.0851,   173.5000,       2501,   387.0,  12.5930,  35.0856,  35.0866,2,    196.9,2,   196.4,2,    5.94,2,   12.81,2,    0.01,2,    0.94,2,   2.378,2,   1.412,2,-999.000,1,    0.795,2,  -999.0,9,  2305.2,2,   7.8191,2,    25.00,-999.000,9,-999.0000,9, -999.00,9, -999.00,9,  -999.0,9,  -999.0,-999.000,9,-999.000,  -999.0,9,-999.000,-999.0000, -999.00,  12.5404,  12.5929,2,20091206,       1157
318M20091121,        P06,      55,          2,         19,         19,2,20091206,       1044,   -30.0851,   173.5000,       2501,   437.3,  11.4695,  34.9357,  34.9354,2,    197.5,2,   197.8,2,    6.63,2,   15.00,2,    0.00,2,    1.07,2,   2.367,2,   1.389,2,-999.000,1,     0.74,2,  2129.1,2,  2299.4,6,   7.7926,2,    25.00,-999.000,9,-999.0000,9, -999.00,9, -999.00,9,  -999.0,9,  -999.0,-999.000,9,-999.000,  -999.0,9,-999.000,-999.0000, -999.00,  11.4136,  11.4558,2,20091206,       1155
318M20091121,        P06,      55,          2,         18,         18,2,20091206,       1044,   -30.0851,   173.5000,       2501,   487.0,  10.4004,  34.8017,  34.8031,2,    200.1,2,   201.1,2,    7.72,2,   17.01,2,    0.00,2,    1.20,2,   2.369,2,   1.350,2,-999.000,1,    0.559,2,  -999.0,9,  2294.3,2,   7.7771,2,    25.00,-999.000,9,-999.0000,9, -999.00,9, -999.00,9,  -999.0,9,  -999.0,-999.000,9,-999.000,  -999.0,9,-999.000,-999.0000, -999.00,  10.3418,  10.4095,2,20091206,       1152
318M20091121,        P06,      55,          2,         17,         17,2,20091206,       1044,   -30.0851,   173.5000,       2501,   569.3,   8.8273,  34.6129,  34.6157,2,    207.7,2,   208.2,2,    9.20,2,   20.03,2,    0.00,2,    1.40,2,   2.288,2,   1.290,2,-999.000,1,    0.499,2,  2145.0,2,  -999.0,9,-999.0000,9,  -999.00,-999.000,9,-999.0000,9, -999.00,9, -999.00,9,  -999.0,9,  -999.0,-999.000,9,-999.000,  -999.0,9,-999.000,-999.0000, -999.00,   8.7652,   8.8335,2,20091206,       1148
318M20091121,        P06,      55,          2,         16,         16,2,20091206,       1044,   -30.0851,   173.5000,       2501,   648.5,   8.0522,  34.5287,  34.5288,2,    214.0,2,   213.4,2,   10.49,2,   21.58,2,    0.00,2,    1.50,2,   2.236,2,   1.220,2,-999.000,1,    0.411,2,  2148.5,2,  2286.7,2,   7.7363,2,    25.00,-999.000,9,-999.0000,9, -999.00,9, -999.00,9,  -999.0,9,  -999.0,-999.000,9,-999.000,  -999.0,9,-999.000,-999.0000, -999.00,   7.9849,   8.0527,2,20091206,       1145
318M20091121,        P06,      55,          2,         15,         15,2,20091206,       1044,   -30.0851,   173.5000,       2501,   749.6,   7.0624,  34.4273,  34.4268,2,    218.6,2,   219.0,2,   12.19,2,   23.62,2,    0.00,2,    1.63,2,   1.884,2,   1.013,2,-999.000,1,     0.25,2,  2152.8,2,  -999.0,9,-999.0000,9,  -999.00,-999.000,9,-999.0000,9, -999.00,9, -999.00,9,  -999.0,9,  -999.0,-999.000,9,-999.000,  -999.0,9,-999.000,-999.0000, -999.00,   6.9897,   7.0622,2,20091206,       1142
318M20091121,        P06,      55,          2,         14,         14,2,20091206,       1044,   -30.0851,   173.5000,       2501,   871.1,   6.2146,  34.3769,  34.3765,2,    215.5,2,   215.6,2,   16.83,2,   25.96,2,    0.00,2,    1.79,2,   1.308,2,   0.698,2,-999.000,1,    0.184,2,  2163.0,2,  2286.6,2,   7.6906,2,    25.00,-999.000,9,-999.0000,9, -999.00,9, -999.00,9,  -999.0,9,  -999.0,-999.000,9,-999.000,  -999.0,9,-999.000,-999.0000, -999.00,   6.1350,   6.2153,2,20091206,       1137
318M20091121,        P06,      55,          2,         13,         13,2,20091206,       1044,   -30.0851,   173.5000,       2501,   972.5,   5.6916,  34.3942,  34.3916,2,    203.2,2,   203.0,2,   25.66,2,   28.00,2,    0.00,2,    1.93,2,   0.861,2,   0.472,2,-999.000,1,    0.091,2,  2178.8,2,  -999.0,9,-999.0000,9,  -999.00,-999.000,9,-999.0000,9, -999.00,9, -999.00,9,  -999.0,9,  -999.0,-999.000,9,-999.000,  -999.0,9,-999.000,-999.0000, -999.00,   5.6058,   5.6938,2,20091206,       1134
318M20091121,        P06,      55,          2,         12,         12,2,20091206,       1044,   -30.0851,   173.5000,       2501,  1072.7,   5.0567,  34.3993,  34.3989,2,    196.4,2,   193.3,2,   34.94,2,   29.86,2,    0.00,2,    2.06,2,   0.566,2,   0.324,2,-999.000,1,    0.025,2,  2195.6,2,  2303.5,2,   7.6484,2,    25.00,-999.000,9,-999.0000,9, -999.00,9, -999.00,9,  -999.0,9,  -999.0,-999.000,9,-999.000,  -999.0,9,-999.000,-999.0000, -999.00,   4.9665,   5.0557,2,20091206,       1131
318M20091121,        P06,      55,          2,         11,         11,2,20091206,       1044,   -30.0851,   173.5000,       2501,  1172.2,   4.4130,  34.4154,  34.4143,2,    184.8,2,   183.9,2,   45.46,2,   31.51,2,    0.00,2,    2.18,2,   0.317,2,   0.183,2,-999.000,1,        0,2,  -999.0,9,  -999.0,9,-999.0000,9,  -999.00,-999.000,9,-999.0000,9, -999.00,9, -999.00,9,  -999.0,9,  -999.0,-999.000,9,-999.000,  -999.0,9,-999.000,-999.0000, -999.00,   4.3193,   4.4139,2,20091206,       1126
318M20091121,        P06,      55,          2,         10,         10,2,20091206,       1044,   -30.0851,   173.5000,       2501,  1274.9,   4.0681,  34.4632,  34.4623,2,    177.1,2,   176.2,2,   57.25,2,   32.28,2,    0.00,2,    2.25,2,   0.233,2,   0.138,2,-999.000,1,        0,2,  -999.0,9,  2328.5,2,   7.6153,2,    25.00,-999.000,9,-999.0000,9, -999.00,9, -999.00,9,  -999.0,9,  -999.0,-999.000,9,-999.000,  -999.0,9,-999.000,-999.0000, -999.00,   3.9684,   4.0679,2,20091206,       1123
318M20091121,        P06,      55,          2,          9,          9,2,20091206,       1044,   -30.0851,   173.5000,       2501,  1378.1,   3.7145,  34.5054,  34.5065,2,    169.9,2,   169.3,2,   69.31,2,   32.95,2,    0.00,2,    2.30,2,   0.179,2,   0.115,2,-999.000,1,        0,2,  -999.0,9,  -999.0,9,-999.0000,9,  -999.00,-999.000,9,-999.0000,9, -999.00,9, -999.00,9,  -999.0,9,  -999.0,-999.000,9,-999.000,  -999.0,9,-999.000,-999.0000, -999.00,   3.6093,   3.7084,2,20091206,       1119
318M20091121,        P06,      55,          2,          8,          8,2,20091206,       1044,   -30.0851,   173.5000,       2501,  1477.6,   3.3640,  34.5409,  34.5408,2,    164.5,2,   164.2,2,   80.40,2,   33.51,2,    0.00,2,    2.34,2,   0.128,2,   0.084,2,-999.000,1,        0,2,  -999.0,9,  -999.0,9,-999.0000,9,  -999.00,-999.000,9,-999.0000,9, -999.00,9, -999.00,9,  -999.0,9,  -999.0,-999.000,9,-999.000,  -999.0,9,-999.000,-999.0000, -999.00,   3.2540,   3.3633,2,20091206,       1116
318M20091121,        P06,      55,          2,          7,          7,2,20091206,       1044,   -30.0851,   173.5000,       2501,  1579.9,   3.1273,  34.5688,  34.5685,2,    161.5,2,   161.5,2,   88.69,2,   33.79,2,    0.00,2,    2.36,2,   0.111,2,   0.074,2,-999.000,1,        0,2,  2267.2,2,  2359.3,2,   7.5930,2,    25.00,-999.000,9,-999.0000,9, -999.00,9, -999.00,9,  -999.0,9,  -999.0,-999.000,9,-999.000,  -999.0,9,-999.000,-999.0000, -999.00,   3.0112,   3.1270,2,20091206,       1112
318M20091121,        P06,      55,          2,          6,          6,2,20091206,       1044,   -30.0851,   173.5000,       2501,  1680.4,   2.8988,  34.5817,  34.5813,2,    158.5,2,   158.3,2,   94.55,2,   34.32,2,    0.00,2,    2.40,2,   0.081,2,   0.066,2,-999.000,1,        0,2,  -999.0,9,  -999.0,9,-999.0000,9,  -999.00,-999.000,9,-999.0000,9, -999.00,9, -999.00,9,  -999.0,9,  -999.0,-999.000,9,-999.000,  -999.0,9,-999.000,-999.0000, -999.00,   2.7769,   2.8981,2,20091206,       1108
318M20091121,        P06,      55,          2,          5,          5,2,20091206,       1044,   -30.0851,   173.5000,       2501,  1832.7,   2.6348,  34.6046,  34.6045,2,    155.7,2,   155.4,2,  103.29,2,   34.69,2,    0.00,2,    2.43,2,-999.000,5,-999.000,5,-999.000,1,-999.0000,5,  -999.0,9,  -999.0,9,-999.0000,9,  -999.00,-999.000,9,-999.0000,9, -999.00,9, -999.00,9,  -999.0,9,  -999.0,-999.000,9,-999.000,  -999.0,9,-999.000,-999.0000, -999.00,   2.5034,   2.6339,2,20091206,       1104
318M20091121,        P06,      55,          2,          4,          4,2,20091206,       1044,   -30.0851,   173.5000,       2501,  1985.0,   2.4272,  34.6235,  34.6240,2,    153.8,2,   154.1,2,  109.58,2,   34.96,2,    0.00,2,    2.44,2,-999.000,5,-999.000,5,-999.000,1,-999.0000,5,  2293.5,2,  2386.6,2,   7.6096,2,    25.00,-999.000,9,-999.0000,9, -999.00,9, -999.00,9,  -999.0,9,  -999.0,-999.000,9,-999.000,  -999.0,9,-999.000,-999.0000, -999.00,   2.2856,   2.4281,2,20091206,       1100
318M20091121,        P06,      55,          2,          3,          3,2,20091206,       1044,   -30.0851,   173.5000,       2501,  2138.7,   2.2227,  34.6415,  34.6415,2,    152.7,2,   153.6,2,  115.67,2,   35.08,2,    0.00,2,    2.46,2,   0.017,2,   0.018,2,-999.000,1,        0,2,  -999.0,9,  -999.0,9,-999.0000,9,  -999.00,-999.000,9,-999.0000,9, -999.00,9, -999.00,9,  -999.0,9,  -999.0,-999.000,9,-999.000,  -999.0,9,-999.000,-999.0000, -999.00,   2.0708,   2.2228,2,20091206,       1055
318M20091121,        P06,      55,          2,          2,          2,2,20091206,       1044,   -30.0851,   173.5000,       2501,  2323.8,   2.0528,  34.6565,  34.6563,2,    153.6,2,   152.9,2,  120.16,2,   35.11,2,    0.00,2,    2.47,2,   0.011,2,   0.011,2,-999.000,1,        0,2,  -999.0,9,  -999.0,9,-999.0000,9,  -999.00,-999.000,9,-999.0000,9, -999.00,9, -999.00,9,  -999.0,9,  -999.0,-999.000,9,-999.000,  -999.0,9,-999.000,-999.0000, -999.00,   1.8874,   2.0526,2,20091206,       1050
318M20091121,        P06,      55,          2,          1,          1,2,20091206,       1044,   -30.0851,   173.5000,       2501,  2535.1,   1.9333,  34.6675,  34.6677,2,    153.7,2,   153.4,2,  123.19,2,   35.09,2,    0.00,2,    2.47,2,   0.004,2,   0.009,2,-999.000,1,        0,2,  2307.3,6,  2401.8,6,   7.5878,6,    25.00,-999.000,9,-999.0000,9, -999.00,9, -999.00,9,  -999.0,9,  -999.0,-999.000,9,-999.000,  -999.0,9,-999.000,-999.0000, -999.00,   1.7510,   1.9338,2,20091206,       1044