BOTTLE,20220818CCHSIOAMB
EXPOCODE,SECT_ID,STNNBR,CASTNO,SAMPNO,BTLNBR,BTLNBR_FLAG_W,DATE,TIME,LATITUDE,LONGITUDE,DEPTH,CTDPRS,CTDTMP,CTDSAL,SALNTY,SALNTY_FLAG_W,CTDOXY,CTDOXY_FLAG_W,OXYGEN,OXYGEN_FLAG_W,SILCAT,SILCAT_FLAG_W,NITRAT,NITRAT_FLAG_W,NITRIT,NITRIT_FLAG_W,PHSPHT,PHSPHT_FLAG_W,CFC-11,CFC-11_FLAG_W,CFC-12,CFC-12_FLAG_W,CFC113,CFC113_FLAG_W,SF6,SF6_FLAG_W,TCARBN,TCARBN_FLAG_W,ALKALI,ALKALI_FLAG_W,PH_SWS,PH_SWS_FLAG_W,PH_TMP,TRITUM,TRITUM_FLAG_W,HELIUM,HELIUM_FLAG_W,DELHE3,DELHE3_FLAG_W,DELC13,DELC13_FLAG_W,DELC14,DELC14_FLAG_W,C14ERR,NEON,NEON_FLAG_W,NEONER,DOC,DOC_FLAG_W,TRITER,HELIER,DELHER,THETA,SBE35,SBE35_FLAG_W,BTL_DATE,BTL_TIME
,,,,,,,,,,,METERS,DBAR,ITS-90,PSS-78,PSS-78,,UMOL/KG,,UMOL/KG,,UMOL/KG,,UMOL/KG,,UMOL/KG,,UMOL/KG,,PMOL/KG,,PMOL/KG,,PMOL/KG,,FMOL/KG,,UMOL/KG,,UMOL/KG,,,,DEG C,TU,,NMOL/KG,,PERCNT,,/MILLE,,/MILLE,,/MILLE,NMOL/KG,,NMOL/KG,UMOL/KG,,TU,NMOL/KG,PERCNT,DEG C,ITS-90,,,
318M20091121,        P06,      98,          1,         36,         36,2,20091219,       1757,   -32.5000,  -168.5001,       5448,     7.8,  19.1853,  35.4544,  35.4549,2,    233.0,2,   232.8,2,    0.55,2,    0.00,2,    0.00,2,    0.11,2,   2.093,2,   1.333,2,-999.000,1,    1.151,2,  2044.7,2,  2326.2,6,   8.0106,6,    25.00,-999.000,9,-999.0000,9, -999.00,9, -999.00,9,  -999.0,9,  -999.0,-999.000,9,-999.000,    55.5,2,-999.000,-999.0000, -999.00,  19.1839,  19.1834,2,20091219,       2032
318M20091121,        P06,      98,          1,         35,         35,2,20091219,       1757,   -32.5000,  -168.5001,       5448,    25.9,  19.1883,  35.4542,  35.4543,2,    234.0,2,   233.2,2,    0.52,2,    0.00,2,    0.00,2,    0.10,2,   2.087,2,   1.333,2,-999.000,1,    1.221,2,  2043.1,6,  2329.4,2,   8.0108,2,    25.00,-999.000,9,-999.0000,9, -999.00,9, -999.00,9,  -999.0,9,  -999.0,-999.000,9,-999.000,    56.7,2,-999.000,-999.0000, -999.00,  19.1837,  19.1871,2,20091219,       2030
318M20091121,        P06,      98,          1,         34,         34,2,20091219,       1757,   -32.5000,  -168.5001,       5448,    50.3,  18.9600,  35.4539,  35.4545,2,    234.8,2,   233.9,2,    0.50,2,    0.00,2,    0.00,2,    0.10,2,   2.105,2,   1.337,2,-999.000,1,    1.228,2,  2044.9,2,  2328.9,2,   8.0085,2,    25.00,-999.000,9,-999.0000,9, -999.00,9, -999.00,9,  -999.0,9,  -999.0,-999.000,9,-999.000,    58.3,2,-999.000,-999.0000, -999.00,  18.9510,  18.9491,2,20091219,       2028
318M20091121,        P06,      98,          1,         33,         33,2,20091219,       1757,   -32.5000,  -168.5001,       5448,    76.0,  16.6814,  35.4741,  35.4742,2,    249.2,2,   249.1,2,    0.67,2,    0.00,2,    0.00,2,    0.13,2,   2.341,2,   1.466,2,-999.000,1,    1.228,2,  2053.3,2,  2332.3,2,   7.9987,2,    25.00,-999.000,9,-999.0000,9, -999.00,9, -999.00,9,  -999.0,9,  -999.0,-999.000,9,-999.000,    59.4,2,-999.000,-999.0000, -999.00,  16.6690,  16.6812,2,20091219,       2026
318M20091121,        P06,      98,          1,         32,         32,2,20091219,       1757,   -32.5000,  -168.5001,       5448,   101.4,  15.8871,  35.4424,  35.4409,2,    233.8,2,   231.1,2,    0.85,2,    0.62,2,    0.13,2,    0.22,2,   2.339,2,   1.489,2,-999.000,1,     1.22,2,  2073.9,2,  2327.0,2,   7.9558,2,    25.00,-999.000,9,-999.0000,9, -999.00,9, -999.00,9,  -999.0,9,  -999.0,-999.000,9,-999.000,    54.5,2,-999.000,-999.0000, -999.00,  15.8711,  15.8869,2,20091219,       2024
318M20091121,        P06,      98,          1,         31,         31,2,20091219,       1757,   -32.5000,  -168.5001,       5448,   148.9,  15.0512,  35.3599,  35.3595,2,    217.9,2,   221.9,2,    1.24,2,    3.97,2,    0.02,2,    0.40,2,   2.402,2,   1.489,2,-999.000,1,     1.19,2,  2087.1,2,  2321.0,2,   7.9212,2,    25.00,-999.000,9,-999.0000,9, -999.00,9, -999.00,9,  -999.0,9,  -999.0,-999.000,9,-999.000,    52.4,2,-999.000,-999.0000, -999.00,  15.0286,  15.0525,2,20091219,       2021
318M20091121,        P06,      98,          1,         30,         30,2,20091219,       1757,   -32.5000,  -168.5001,       5448,   196.2,  13.7914,  35.1959,  35.2044,2,    200.6,2,   200.2,2,    2.24,2,    8.76,2,    0.02,2,    0.68,2,   2.463,2,   1.488,2,-999.000,1,    0.973,2,  2108.8,2,  2310.6,2,   7.8554,2,    25.00,-999.000,9,-999.0000,9, -999.00,9, -999.00,9,  -999.0,9,  -999.0,-999.000,9,-999.000,    49.1,2,-999.000,-999.0000, -999.00,  13.7633,  13.7909,2,20091219,       2019
318M20091121,        P06,      98,          1,         29,         29,2,20091219,       1757,   -32.5000,  -168.5001,       5448,   248.1,  12.5372,  35.0625,  35.0573,2,    204.5,2,   204.8,2,    3.04,2,   11.31,2,    0.01,2,    0.84,2,   2.573,6,   1.544,6,-999.000,1,   0.9415,6,  2117.6,2,  2305.3,2,   7.8309,2,    25.00,-999.000,9,-999.0000,9, -999.00,9, -999.00,9,  -999.0,9,  -999.0,-999.000,9,-999.000,    43.4,2,-999.000,-999.0000, -999.00,  12.5038,  12.5424,2,20091219,       2016
318M20091121,        P06,      98,          1,         28,         28,2,20091219,       1757,   -32.5000,  -168.5001,       5448,   300.3,  11.6259,  34.9494,  34.9518,2,    208.6,2,   208.5,2,    3.42,2,   12.89,2,    0.01,2,    0.94,2,   2.621,2,   1.571,2,-999.000,1,    0.912,2,  2123.4,2,  2304.7,2,   7.8132,2,    25.00,-999.000,9,-999.0000,9, -999.00,9, -999.00,9,  -999.0,9,  -999.0,-999.000,9,-999.000,    47.1,2,-999.000,-999.0000, -999.00,  11.5874,  11.6333,2,20091219,       2014
318M20091121,        P06,      98,          1,         27,         27,2,20091219,       1757,   -32.5000,  -168.5001,       5448,   350.3,  10.4628,  34.7878,  34.7925,2,    208.5,2,   207.9,2,    4.22,2,   15.33,2,    0.00,2,    1.09,2,   2.677,2,   1.573,2,-999.000,1,    0.721,2,  2129.4,2,  2299.5,2,   7.7836,2,    25.00,-999.000,9,-999.0000,9, -999.00,9, -999.00,9,  -999.0,9,  -999.0,-999.000,9,-999.000,    44.1,2,-999.000,-999.0000, -999.00,  10.4208,  10.4624,2,20091219,       2011
318M20091121,        P06,      98,          1,         26,         26,2,20091219,       1757,   -32.5000,  -168.5001,       5448,   400.8,   9.5274,  34.6638,  34.6635,2,    214.6,2,   214.8,2,    4.60,2,   17.03,2,    0.00,2,    1.21,2,   2.788,2,   1.615,2,-999.000,1,    0.677,2,  2133.7,2,  2293.4,2,   7.7628,2,    25.00,-999.000,9,-999.0000,9, -999.00,9, -999.00,9,  -999.0,9,  -999.0,-999.000,9,-999.000,    43.6,2,-999.000,-999.0000, -999.00,   9.4820,   9.5293,2,20091219,       2009
318M20091121,        P06,      98,          1,         25,         25,2,20091219,       1757,   -32.5000,  -168.5001,       5448,   501.7,   8.1702,  34.5026,  34.5018,2,    227.6,2,   225.9,2,    5.41,2,   19.69,2,    0.00,2,    1.38,2,   2.873,2,   1.602,2,-999.000,1,    0.589,2,  2137.5,2,  2284.3,2,   7.7405,2,    25.00,-999.000,9,-999.0000,9, -999.00,9, -999.00,9,  -999.0,9,  -999.0,-999.000,9,-999.000,    42.9,2,-999.000,-999.0000, -999.00,   8.1182,   8.1704,2,20091219,       2006
318M20091121,        P06,      98,          1,         24,         24,2,20091219,       1757,   -32.5000,  -168.5001,       5448,   602.6,   7.3582,  34.4265,  34.4269,2,    232.5,2,   231.9,2,    6.81,2,   21.63,2,    0.00,2,    1.50,2,   2.773,2,   1.529,2,-999.000,1,    0.431,2,  2140.8,2,  2280.7,2,   7.7371,2,    25.00,-999.000,9,-999.0000,9, -999.00,9, -999.00,9,  -999.0,9,  -999.0,-999.000,9,-999.000,  -999.0,9,-999.000,-999.0000, -999.00,   7.2990,   7.3590,2,20091219,       2003
318M20091121,        P06,      98,          1,         23,         23,2,20091219,       1757,   -32.5000,  -168.5001,       5448,   702.4,   6.7713,  34.3825,  34.3817,2,    231.2,2,   231.1,2,    8.86,2,   23.19,2,    0.00,2,    1.60,2,   2.236,2,   1.217,2,-999.000,1,    0.269,2,  2143.0,2,  2281.8,2,   7.7264,2,    25.00,-999.000,9,-999.0000,9, -999.00,9, -999.00,9,  -999.0,9,  -999.0,-999.000,9,-999.000,    41.4,2,-999.000,-999.0000, -999.00,   6.7050,   6.7737,2,20091219,       2000
318M20091121,        P06,      98,          1,         22,         22,2,20091219,       1757,   -32.5000,  -168.5001,       5448,   801.3,   6.3447,  34.3590,  34.3583,2,    225.8,2,   226.0,2,   11.51,2,   24.72,2,    0.00,2,    1.70,2,   1.683,2,   0.931,2,-999.000,1,    0.165,2,  2148.9,2,  2287.1,2,   7.7148,2,    25.00,-999.000,9,-999.0000,9, -999.00,9, -999.00,9,  -999.0,9,  -999.0,-999.000,9,-999.000,  -999.0,9,-999.000,-999.0000, -999.00,   6.2711,   6.3456,2,20091219,       1957
318M20091121,        P06,      98,          1,         21,         21,2,20091219,       1757,   -32.5000,  -168.5001,       5448,   905.0,   5.7846,  34.3412,  34.3410,2,    215.7,2,   217.1,2,   16.25,2,   26.62,2,    0.00,2,    1.85,2,   1.154,2,   0.619,2,-999.000,1,        0,2,  2160.3,2,  2290.5,2,   7.6928,2,    25.00,-999.000,9,-999.0000,9, -999.00,9, -999.00,9,  -999.0,9,  -999.0,-999.000,9,-999.000,    38.8,2,-999.000,-999.0000, -999.00,   5.7047,   5.7851,2,20091219,       1954
318M20091121,        P06,      98,          1,         20,         20,2,20091219,       1757,   -32.5000,  -168.5001,       5448,  1005.5,   5.0407,  34.3329,  34.3324,2,    204.9,2,   205.9,2,   24.10,2,   28.89,2,    0.00,2,    2.01,2,   0.682,2,   0.359,2,-999.000,1,        0,2,  2177.5,6,  2295.6,2,   7.6675,2,    25.00,-999.000,9,-999.0000,9, -999.00,9, -999.00,9,  -999.0,9,  -999.0,-999.000,9,-999.000,  -999.0,9,-999.000,-999.0000, -999.00,   4.9569,   5.0428,2,20091219,       1950
318M20091121,        P06,      98,          1,         19,         19,2,20091219,       1757,   -32.5000,  -168.5001,       5448,  1108.3,   4.3813,  34.3514,  34.3508,2,    194.8,2,   194.3,2,   34.07,2,   30.91,2,    0.00,2,    2.16,2,   0.363,2,   0.200,2,-999.000,1,        0,2,  2196.7,2,  2304.8,6,   7.5654,4,    25.00,-999.000,9,-999.0000,9, -999.00,9, -999.00,9,  -999.0,9,  -999.0,-999.000,9,-999.000,    40.9,2,-999.000,-999.0000, -999.00,   4.2936,   4.3829,2,20091219,       1947
318M20091121,        P06,      98,          1,         18,         18,2,20091219,       1757,   -32.5000,  -168.5001,       5448,  1211.5,   3.8404,  34.3836,  34.3832,2,    186.3,2,   185.6,2,   44.10,2,   32.22,2,    0.00,2,    2.25,2,   0.203,2,   0.116,2,-999.000,1,        0,2,  2214.2,2,  2314.3,2,   7.6215,2,    25.00,-999.000,9,-999.0000,9, -999.00,9, -999.00,9,  -999.0,9,  -999.0,-999.000,9,-999.000,  -999.0,9,-999.000,-999.0000, -999.00,   3.7485,   3.8416,2,20091219,       1944
318M20091121,        P06,      98,          1,         17,         17,2,20091219,       1757,   -32.5000,  -168.5001,       5448,  1312.9,   3.4671,  34.4169,  34.4159,2,    179.7,2,   179.7,2,   52.69,2,   32.97,2,    0.00,2,    2.32,2,   0.120,2,   0.069,2,-999.000,1,        0,2,  2226.3,2,  2317.9,2,   7.6014,2,    25.00,-999.000,9,-999.0000,9, -999.00,9, -999.00,9,  -999.0,9,  -999.0,-999.000,9,-999.000,    42.7,2,-999.000,-999.0000, -999.00,   3.3702,   3.4665,2,20091219,       1941
318M20091121,        P06,      98,          1,         16,         16,2,20091219,       1757,   -32.5000,  -168.5001,       5448,  1410.0,   3.1680,  34.4618,  34.4607,2,    173.0,2,   173.3,2,   62.37,2,   33.63,2,    0.00,2,    2.36,2,   0.057,2,   0.034,2,-999.000,1,        0,2,  2239.3,2,  2329.3,2,   7.5911,2,    25.00,-999.000,9,-999.0000,9, -999.00,9, -999.00,9,  -999.0,9,  -999.0,-999.000,9,-999.000,  -999.0,9,-999.000,-999.0000, -999.00,   3.0660,   3.1684,2,20091219,       1937
318M20091121,        P06,      98,          1,         15,         15,2,20091219,       1757,   -32.5000,  -168.5001,       5448,  1512.2,   2.8884,  34.5130,  34.5122,2,    166.3,2,   166.6,2,   73.13,2,   33.95,2,    0.00,2,    2.39,2,   0.034,2,   0.023,2,-999.000,1,        0,2,  2253.2,2,  2341.5,2,   7.5870,2,    25.00,-999.000,9,-999.0000,9, -999.00,9, -999.00,9,  -999.0,9,  -999.0,-999.000,9,-999.000,    40.2,2,-999.000,-999.0000, -999.00,   2.7810,   2.8900,2,20091219,       1934
318M20091121,        P06,      98,          1,         14,         14,2,20091219,       1757,   -32.5000,  -168.5001,       5448,  1613.7,   2.7088,  34.5516,  34.5509,2,    161.0,2,   161.7,2,   83.09,2,   34.18,2,    0.00,2,    2.41,2,   0.017,2,   0.011,2,-999.000,1,        0,2,  2264.7,2,  2352.2,2,   7.5852,2,    25.00,-999.000,9,-999.0000,9, -999.00,9, -999.00,9,  -999.0,9,  -999.0,-999.000,9,-999.000,  -999.0,9,-999.000,-999.0000, -999.00,   2.5950,   2.7088,2,20091219,       1930
318M20091121,        P06,      98,          1,         13,         13,2,20091219,       1757,   -32.5000,  -168.5001,       5448,  1812.4,   2.4664,  34.6007,  34.6005,2,    154.1,2,   154.7,2,   98.84,2,   34.57,2,    0.00,2,    2.45,2,   0.011,2,   0.007,2,-999.000,1,        0,2,  2283.5,2,  2372.8,2,   7.5837,2,    25.00,-999.000,9,-999.0000,9, -999.00,9, -999.00,9,  -999.0,9,  -999.0,-999.000,9,-999.000,    38.3,2,-999.000,-999.0000, -999.00,   2.3390,   2.4661,2,20091219,       1925
318M20091121,        P06,      98,          1,         12,         12,2,20091219,       1757,   -32.5000,  -168.5001,       5448,  2018.9,   2.2846,  34.6242,  34.6240,2,    150.8,2,   150.4,2,  109.51,2,   34.90,2,    0.00,2,    2.48,2,   0.008,2,   0.006,2,-999.000,1,        0,2,  2295.6,2,  2384.6,2,   7.5833,2,    25.00,-999.000,9,-999.0000,9, -999.00,9, -999.00,9,  -999.0,9,  -999.0,-999.000,9,-999.000,  -999.0,9,-999.000,-999.0000, -999.00,   2.1422,   2.2847,2,20091219,       1920
318M20091121,        P06,      98,          1,         11,         11,2,20091219,       1757,   -32.5000,  -168.5001,       5448,  2276.5,   2.1171,  34.6405,  34.6408,2,    148.5,2,   148.1,2,  118.28,2,   34.99,2,    0.00,2,    2.50,2,   0.014,2,   0.010,2,-999.000,1,        0,2,  2302.0,2,  2397.0,2,   7.5810,2,    25.00,-999.000,9,-999.0000,9, -999.00,9, -999.00,9,  -999.0,9,  -999.0,-999.000,9,-999.000,    37.0,2,-999.000,-999.0000, -999.00,   1.9548,   2.1167,2,20091219,       1914
318M20091121,        P06,      98,          1,         10,         10,2,20091219,       1757,   -32.5000,  -168.5001,       5448,  2531.9,   2.0018,  34.6508,  34.6506,2,    147.7,2,   147.5,2,  124.06,2,   35.38,2,    0.00,2,    2.51,2,   0.014,2,   0.009,2,-999.000,1,        0,2,  2307.3,2,  2404.6,2,   7.5822,2,    25.00,-999.000,9,-999.0000,9, -999.00,9, -999.00,9,  -999.0,9,  -999.0,-999.000,9,-999.000,  -999.0,9,-999.000,-999.0000, -999.00,   1.8185,   2.0023,2,20091219,       1908
318M20091121,        P06,      98,          1,          9,          9,2,20091219,       1757,   -32.5000,  -168.5001,       5448,  2782.6,   1.8987,  34.6602,  34.6594,2,    148.2,2,   148.1,2,  127.91,2,   35.33,2,    0.00,2,    2.51,2,   0.016,2,   0.012,2,-999.000,1,        0,2,  2311.1,2,  2406.7,2,   7.5817,2,    25.00,-999.000,9,-999.0000,9, -999.00,9, -999.00,9,  -999.0,9,  -999.0,-999.000,9,-999.000,    39.6,3,-999.000,-999.0000, -999.00,   1.6941,   1.8992,2,20091219,       1902
318M20091121,        P06,      98,          1,          8,          8,2,20091219,       1757,   -32.5000,  -168.5001,       5448,  3033.9,   1.8097,  34.6699,  34.6687,2,    151.9,2,   152.3,2,  128.96,2,   35.04,2,    0.00,2,    2.48,2,   0.013,2,   0.011,2,-999.000,1,        0,2,  2308.2,2,  2407.2,2,   7.5878,2,    25.00,-999.000,9,-999.0000,9, -999.00,9, -999.00,9,  -999.0,9,  -999.0,-999.000,9,-999.000,  -999.0,9,-999.000,-999.0000, -999.00,   1.5828,   1.8097,2,20091219,       1856
318M20091121,        P06,      98,          1,          7,          7,2,20091219,       1757,   -32.5000,  -168.5001,       5448,  3346.1,   1.7055,  34.6873,  34.6866,2,    162.8,2,   165.0,2,  123.58,2,   34.01,2,    0.00,2,    2.40,2,   0.018,2,   0.013,2,-999.000,1,        0,2,  2294.0,2,  2396.5,2,   7.5970,2,    25.00,-999.000,9,-999.0000,9, -999.00,9, -999.00,9,  -999.0,9,  -999.0,-999.000,9,-999.000,    36.8,2,-999.000,-999.0000, -999.00,   1.4499,   1.7056,2,20091219,       1849
318M20091121,        P06,      98,          1,          6,          6,2,20091219,       1757,   -32.5000,  -168.5001,       5448,  3654.3,   1.5797,  34.7100,  34.7100,2,    183.7,2,   184.3,2,  112.84,2,   32.27,2,    0.00,2,    2.28,2,   0.019,2,   0.013,2,-999.000,1,        0,2,  2269.8,2,  2381.0,2,   7.6122,2,    25.00,-999.000,9,-999.0000,9, -999.00,9, -999.00,9,  -999.0,9,  -999.0,-999.000,9,-999.000,  -999.0,9,-999.000,-999.0000, -999.00,   1.2953,   1.5797,2,20091219,       1842
318M20091121,        P06,      98,          1,          5,          5,2,20091219,       1757,   -32.5000,  -168.5001,       5448,  3958.2,   1.3857,  34.7186,  34.7178,2,    197.0,2,   196.8,2,  110.90,2,   31.52,2,    0.00,2,    2.21,2,   0.032,2,   0.022,2,-999.000,1,        0,2,  2259.0,2,  2365.0,2,   7.6181,2,    25.00,-999.000,9,-999.0000,9, -999.00,9, -999.00,9,  -999.0,9,  -999.0,-999.000,9,-999.000,    38.3,2,-999.000,-999.0000, -999.00,   1.0743,   1.3858,2,20091219,       1835
318M20091121,        P06,      98,          1,          4,          4,2,20091219,       1757,   -32.5000,  -168.5001,       5448,  4263.7,   1.1821,  34.7154,  34.7155,2,    203.3,2,   203.0,2,  114.96,2,   31.47,2,    0.00,2,    2.21,2,   0.048,2,   0.031,2,-999.000,1,        0,2,  2257.3,2,  2364.4,2,   7.6219,2,    25.00,-999.000,9,-999.0000,9, -999.00,9, -999.00,9,  -999.0,9,  -999.0,-999.000,9,-999.000,  -999.0,9,-999.000,-999.0000, -999.00,   0.8432,   1.1823,2,20091219,       1828
318M20091121,        P06,      98,          1,          3,          3,2,20091219,       1757,   -32.5000,  -168.5001,       5448,  4624.9,   1.0505,  34.7105,  34.7101,2,    205.6,2,   205.7,2,  119.24,2,   31.65,2,    0.00,2,    2.21,2,   0.062,2,   0.038,2,-999.000,1,        0,2,  2257.4,2,  2365.4,6,   7.6241,6,    25.00,-999.000,9,-999.0000,9, -999.00,9, -999.00,9,  -999.0,9,  -999.0,-999.000,9,-999.000,    40.5,2,-999.000,-999.0000, -999.00,   0.6751,   1.0509,2,20091219,       1820
318M20091121,        P06,      98,          1,          2,          2,2,20091219,       1757,   -32.5000,  -168.5001,       5448,  5139.9,   1.0533,  34.7084,  34.7062,3,    206.8,2,   207.1,2,  121.37,2,   31.75,2,    0.00,2,    2.22,2,   0.081,2,   0.051,2,-999.000,1,        0,2,  2260.5,6,  2367.9,2,   7.6212,2,    25.00,-999.000,9,-999.0000,9, -999.00,9, -999.00,9,  -999.0,9,  -999.0,-999.000,9,-999.000,  -999.0,9,-999.000,-999.0000, -999.00,   0.6172,   1.0532,2,20091219,       1809
318M20091121,        P06,      98,          1,          1,          1,2,20091219,       1757,   -32.5000,  -168.5001,       5448,  5575.6,   1.1052,  34.7080,  34.7082,2,    207.1,2,   206.9,2,  121.35,2,   31.80,2,    0.00,2,    2.22,2,   0.075,2,   0.042,2,-999.000,1,        0,2,  -999.0,9,  2366.2,2,   7.6477,2,    25.00,-999.000,9,-999.0000,9, -999.00,9, -999.00,9,  -999.0,9,  -999.0,-999.000,9,-999.000,  -999.0,5,-999.000,-999.0000, -999.00,   0.6133,   1.1050,2,20091219,       1757