BOTTLE,20220818CCHSIOAMB
EXPOCODE,SECT_ID,STNNBR,CASTNO,SAMPNO,BTLNBR,BTLNBR_FLAG_W,DATE,TIME,LATITUDE,LONGITUDE,DEPTH,CTDPRS,CTDTMP,CTDSAL,SALNTY,SALNTY_FLAG_W,CTDOXY,CTDOXY_FLAG_W,OXYGEN,OXYGEN_FLAG_W,SILCAT,SILCAT_FLAG_W,NITRAT,NITRAT_FLAG_W,NITRIT,NITRIT_FLAG_W,PHSPHT,PHSPHT_FLAG_W,CFC-11,CFC-11_FLAG_W,CFC-12,CFC-12_FLAG_W,CFC113,CFC113_FLAG_W,SF6,SF6_FLAG_W,TCARBN,TCARBN_FLAG_W,ALKALI,ALKALI_FLAG_W,PH_SWS,PH_SWS_FLAG_W,PH_TMP,TRITUM,TRITUM_FLAG_W,HELIUM,HELIUM_FLAG_W,DELHE3,DELHE3_FLAG_W,DELC13,DELC13_FLAG_W,DELC14,DELC14_FLAG_W,C14ERR,NEON,NEON_FLAG_W,NEONER,DOC,DOC_FLAG_W,TRITER,HELIER,DELHER,THETA,SBE35,SBE35_FLAG_W,BTL_DATE,BTL_TIME
,,,,,,,,,,,METERS,DBAR,ITS-90,PSS-78,PSS-78,,UMOL/KG,,UMOL/KG,,UMOL/KG,,UMOL/KG,,UMOL/KG,,UMOL/KG,,PMOL/KG,,PMOL/KG,,PMOL/KG,,FMOL/KG,,UMOL/KG,,UMOL/KG,,,,DEG C,TU,,NMOL/KG,,PERCNT,,/MILLE,,/MILLE,,/MILLE,NMOL/KG,,NMOL/KG,UMOL/KG,,TU,NMOL/KG,PERCNT,DEG C,ITS-90,,,
318M20091121,        P06,      10,          1,         36,         36,2,20091124,       1918,   -30.0900,   154.5000,       4580,     7.9,  24.2293,  35.5352,  35.5350,2,    145.2,4,   214.5,2,    0.70,2,    0.01,2,    0.00,2,    0.10,2,   1.807,2,   1.132,2,   0.171,2,      0.9,2,  2006.0,6,  2325.3,2,   8.0756,2,    25.00,-999.000,9,-999.0000,9, -999.00,9, -999.00,9,  -999.0,9,  -999.0,-999.000,9,-999.000,    63.6,2,-999.000,-999.0000, -999.00,  24.2276,  24.2295,2,20091124,       2220
318M20091121,        P06,      10,          1,         35,         35,2,20091124,       1918,   -30.0900,   154.5000,       4580,    21.5,  24.2061,  35.5273,  35.5296,2,    135.1,4,   214.0,2,    0.69,2,    0.00,2,    0.00,2,    0.09,2,   1.808,2,   1.123,2,   0.168,2,    1.136,2,  2005.6,2,  2328.4,2,   8.0747,2,    25.00,-999.000,9,-999.0000,9, -999.00,9, -999.00,9,  -999.0,9,  -999.0,-999.000,9,-999.000,    63.4,2,-999.000,-999.0000, -999.00,  24.2015,  24.2195,2,20091124,       2218
318M20091121,        P06,      10,          1,         34,         34,2,20091124,       1918,   -30.0900,   154.5000,       4580,    39.1,  22.7835,  35.5144,  35.5158,2,    226.2,2,   224.3,2,    0.68,2,    0.00,2,    0.00,2,    0.08,2,   1.921,2,   1.191,2,   0.188,2,    1.093,2,  2005.6,2,  2328.6,2,   8.0698,2,    25.00,-999.000,9,-999.0000,9, -999.00,9, -999.00,9,  -999.0,9,  -999.0,-999.000,9,-999.000,    64.4,2,-999.000,-999.0000, -999.00,  22.7756,  22.7611,3,20091124,       2215
318M20091121,        P06,      10,          1,         33,         33,2,20091124,       1918,   -30.0900,   154.5000,       4580,    68.7,  21.1658,  35.5034,  35.5023,2,    212.7,2,   222.8,2,    1.08,2,    0.00,2,    0.00,2,    0.11,2,   2.010,2,   1.234,2,   0.153,2,    1.007,2,  2015.1,2,  2329.3,6,   8.0544,2,    25.00,-999.000,9,-999.0000,9, -999.00,9, -999.00,9,  -999.0,9,  -999.0,-999.000,9,-999.000,    59.9,2,-999.000,-999.0000, -999.00,  21.1526,  21.1594,2,20091124,       2211
318M20091121,        P06,      10,          1,         32,         32,2,20091124,       1918,   -30.0900,   154.5000,       4580,    93.5,  20.3756,  35.5593,  35.5575,2,    194.1,2,   179.9,2,    1.89,2,    3.53,2,    0.03,2,    0.40,2,   2.055,2,   1.228,2,   0.120,2,    0.873,2,  2058.4,2,  2344.2,2,   7.9814,6,    25.00,-999.000,9,-999.0000,9, -999.00,9, -999.00,9,  -999.0,9,  -999.0,-999.000,9,-999.000,    56.1,2,-999.000,-999.0000, -999.00,  20.3581,  20.3743,2,20091124,       2207
318M20091121,        P06,      10,          1,         31,         31,2,20091124,       1918,   -30.0900,   154.5000,       4580,   137.0,  19.5452,  35.6128,  35.6138,2,    169.7,2,   168.1,2,    2.08,2,    5.40,2,    0.01,2,    0.53,2,   2.127,2,   1.256,2,   0.046,2,    0.913,2,  2081.6,3,  2352.6,2,   7.9502,2,    25.00,-999.000,9,-999.0000,9, -999.00,9, -999.00,9,  -999.0,9,  -999.0,-999.000,9,-999.000,    52.6,2,-999.000,-999.0000, -999.00,  19.5202,  19.5397,2,20091124,       2204
318M20091121,        P06,      10,          1,         30,         30,2,20091124,       1918,   -30.0900,   154.5000,       4580,   185.6,  18.4695,  35.6074,  35.6061,2,    187.2,2,   186.6,2,    1.87,2,    4.63,2,    0.00,2,    0.45,2,   2.275,2,   1.353,2,   0.056,2,    0.876,2,  2076.0,2,  2347.8,2,   7.9585,2,    25.00,-999.000,9,-999.0000,9, -999.00,9, -999.00,9,  -999.0,9,  -999.0,-999.000,9,-999.000,    53.8,2,-999.000,-999.0000, -999.00,  18.4369,  18.4683,2,20091124,       2200
318M20091121,        P06,      10,          1,         29,         29,2,20091124,       1918,   -30.0900,   154.5000,       4580,   236.2,  17.3444,  35.5471,  35.5472,2,    180.9,2,   184.0,2,    2.46,2,    6.09,2,    0.00,2,    0.56,2,   3.972,4,   2.248,4,   0.082,4,    0.738,2,  2088.7,2,  2336.0,2,   7.9289,2,    25.00,-999.000,9,-999.0000,9, -999.00,9, -999.00,9,  -999.0,9,  -999.0,-999.000,9,-999.000,    46.3,2,-999.000,-999.0000, -999.00,  17.3047,  17.3441,2,20091124,       2156
318M20091121,        P06,      10,          1,         28,         28,2,20091124,       1918,   -30.0900,   154.5000,       4580,   285.9,  15.7672,  35.4120,  35.4109,2,    184.7,2,   184.1,2,    3.26,2,    8.35,2,    0.00,2,    0.70,2,  -0.008,4,  -0.002,4,   0.000,4,    0.353,4,  2101.7,2,  2320.2,2,   7.8939,2,    25.00,-999.000,9,-999.0000,9, -999.00,9, -999.00,9,  -999.0,9,  -999.0,-999.000,9,-999.000,    50.5,2,-999.000,-999.0000, -999.00,  15.7221,  15.7657,2,20091124,       2152
318M20091121,        P06,      10,          1,         27,         27,2,20091124,       1918,   -30.0900,   154.5000,       4580,   337.1,  13.9125,  35.2250,  35.2230,2,    186.7,2,   185.8,2,    4.49,2,   11.29,2,    0.00,2,    0.89,2,   2.321,2,   1.324,2,   0.050,2,    0.793,2,  2116.4,2,  2311.7,2,   7.8437,2,    25.00,-999.000,9,-999.0000,9, -999.00,9, -999.00,9,  -999.0,9,  -999.0,-999.000,9,-999.000,    47.9,2,-999.000,-999.0000, -999.00,  13.8637,  13.9100,2,20091124,       2148
318M20091121,        P06,      10,          1,         26,         26,2,20091124,       1918,   -30.0900,   154.5000,       4580,   387.9,  13.1416,  35.1694,  35.1719,2,    192.7,2,   192.5,2,    4.88,2,   11.97,2,    0.00,2,    0.95,2,   2.334,6,   1.321,6,   0.073,2,    0.619,2,  2120.2,2,  2309.8,2,   7.8379,2,    25.00,-999.000,9,-999.0000,9, -999.00,9, -999.00,9,  -999.0,9,  -999.0,-999.000,9,-999.000,  -999.0,5,-999.000,-999.0000, -999.00,  13.0874,  13.1427,2,20091124,       2143
318M20091121,        P06,      10,          1,         25,         25,2,20091124,       1918,   -30.0900,   154.5000,       4580,   438.2,  11.9188,  35.0207,  35.0233,2,    193.4,2,   194.5,2,    6.10,2,   14.29,2,    0.00,2,    1.09,2,   2.303,2,   1.266,2,   0.079,2,    0.639,2,  2127.8,2,  2303.2,2,   7.8081,2,    25.00,-999.000,9,-999.0000,9, -999.00,9, -999.00,9,  -999.0,9,  -999.0,-999.000,9,-999.000,    47.4,2,-999.000,-999.0000, -999.00,  11.8613,  11.9222,2,20091124,       2139
318M20091121,        P06,      10,          1,         24,         24,2,20091124,       1918,   -30.0900,   154.5000,       4580,   486.4,  10.6532,  34.8693,  34.8696,2,    195.6,2,   196.6,2,    7.31,2,   16.81,2,    0.00,2,    1.25,2,   2.274,2,   1.229,2,   0.086,2,    0.493,2,  2136.7,2,  2297.4,2,   7.7741,2,    25.00,-999.000,9,-999.0000,9, -999.00,9, -999.00,9,  -999.0,9,  -999.0,-999.000,9,-999.000,  -999.0,9,-999.000,-999.0000, -999.00,  10.5937,  10.6504,2,20091124,       2135
318M20091121,        P06,      10,          1,         23,         23,2,20091124,       1918,   -30.0900,   154.5000,       4580,   556.5,   9.6874,  34.7445,  34.7441,2,    198.2,2,   197.7,2,    8.94,2,   18.94,2,    0.00,2,    1.39,2,   2.177,2,   1.167,2,   0.089,2,    0.492,2,  2141.0,2,  2292.9,2,   7.7515,2,    25.00,-999.000,9,-999.0000,9, -999.00,9, -999.00,9,  -999.0,9,  -999.0,-999.000,9,-999.000,    41.1,2,-999.000,-999.0000, -999.00,   9.6231,   9.6850,2,20091124,       2131
318M20091121,        P06,      10,          1,         22,         22,2,20091124,       1918,   -30.0900,   154.5000,       4580,   661.6,   8.0951,  34.5748,  34.5743,2,    198.5,2,   197.8,2,   13.24,2,   22.73,2,    0.00,2,    1.61,2,   1.769,2,   0.924,2,   0.076,2,    0.306,2,  2155.2,2,  2322.1,4,   7.7121,2,    25.00,-999.000,9,-999.0000,9, -999.00,9, -999.00,9,  -999.0,9,  -999.0,-999.000,9,-999.000,  -999.0,9,-999.000,-999.0000, -999.00,   8.0261,   8.0937,2,20091124,       2126
318M20091121,        P06,      10,          1,         21,         21,2,20091124,       1918,   -30.0900,   154.5000,       4580,   764.5,   7.1564,  34.5010,  34.5002,2,    195.9,2,   198.2,2,   18.16,2,   25.16,2,    0.00,2,    1.78,2,   1.277,2,   0.658,2,   0.052,2,    0.109,2,  2165.1,2,  2294.7,2,   7.6956,2,    25.00,-999.000,9,-999.0000,9, -999.00,9, -999.00,9,  -999.0,9,  -999.0,-999.000,9,-999.000,    40.7,2,-999.000,-999.0000, -999.00,   7.0816,   7.1569,2,20091124,       2122
318M20091121,        P06,      10,          1,         20,         20,2,20091124,       1918,   -30.0900,   154.5000,       4580,   866.0,   6.2970,  34.4563,  34.4565,2,    193.2,2,   192.6,2,   24.94,2,   27.39,2,    0.00,2,    1.93,2,   0.871,2,   0.460,2,   0.032,2,        0,2,  2177.0,2,  2297.9,2,   7.6713,2,    25.00,-999.000,9,-999.0000,9, -999.00,9, -999.00,9,  -999.0,9,  -999.0,-999.000,9,-999.000,  -999.0,9,-999.000,-999.0000, -999.00,   6.2172,   6.3003,2,20091124,       2117
318M20091121,        P06,      10,          1,         19,         19,2,20091124,       1918,   -30.0900,   154.5000,       4580,   968.6,   5.5434,  34.4484,  34.4481,2,    185.5,2,   185.4,2,   34.85,2,   29.42,2,    0.00,2,    2.06,2,   0.538,2,   0.279,2,   0.016,2,        0,2,  2192.3,2,  2310.6,2,   7.6490,2,    25.00,-999.000,9,-999.0000,9, -999.00,9, -999.00,9,  -999.0,9,  -999.0,-999.000,9,-999.000,    40.8,2,-999.000,-999.0000, -999.00,   5.4590,   5.5430,2,20091124,       2112
318M20091121,        P06,      10,          1,         18,         18,2,20091124,       1918,   -30.0900,   154.5000,       4580,  1073.0,   4.8203,  34.4589,  34.4589,2,    177.2,2,   178.3,2,   47.29,2,   31.18,2,    0.00,2,    2.20,2,   0.293,2,   0.165,2,   0.021,2,        0,2,  2212.4,6,  2318.8,2,   7.6301,2,    25.00,-999.000,9,-999.0000,9, -999.00,9, -999.00,9,  -999.0,9,  -999.0,-999.000,9,-999.000,  -999.0,9,-999.000,-999.0000, -999.00,   4.7319,   4.8199,2,20091124,       2108
318M20091121,        P06,      10,          1,         17,         17,2,20091124,       1918,   -30.0900,   154.5000,       4580,  1172.2,   4.3110,  34.4873,  34.4866,2,    170.2,2,   171.5,2,   58.32,2,   32.48,2,    0.00,2,    2.29,2,   0.201,2,   0.110,2,   0.006,2,        0,2,  2228.2,2,  2327.2,2,   7.6124,2,    25.00,-999.000,9,-999.0000,9, -999.00,9, -999.00,9,  -999.0,9,  -999.0,-999.000,9,-999.000,    39.3,2,-999.000,-999.0000, -999.00,   4.2180,   4.3126,2,20091124,       2101
318M20091121,        P06,      10,          1,         16,         16,2,20091124,       1918,   -30.0900,   154.5000,       4580,  1274.9,   3.8692,  34.5127,  34.5128,2,    164.2,2,   163.5,2,   68.76,2,   33.49,2,    0.00,2,    2.38,2,   0.127,2,   0.070,2,   0.027,2,        0,2,  2242.9,2,  2338.4,2,   7.5990,2,    25.00,-999.000,9,-999.0000,9, -999.00,9, -999.00,9,  -999.0,9,  -999.0,-999.000,9,-999.000,  -999.0,9,-999.000,-999.0000, -999.00,   3.7714,   3.8724,2,20091124,       2057
318M20091121,        P06,      10,          1,         15,         15,2,20091124,       1918,   -30.0900,   154.5000,       4580,  1375.3,   3.4438,  34.5446,  34.5438,2,    158.2,2,   157.9,2,   79.24,2,   34.33,2,    0.00,2,    2.43,2,   0.076,2,   0.042,2,   0.007,2,        0,2,  2256.7,2,  2349.4,2,   7.5905,2,    25.00,-999.000,9,-999.0000,9, -999.00,9, -999.00,9,  -999.0,9,  -999.0,-999.000,9,-999.000,    37.8,2,-999.000,-999.0000, -999.00,   3.3416,   3.4438,2,20091124,       2052
318M20091121,        P06,      10,          1,         14,         14,2,20091124,       1918,   -30.0900,   154.5000,       4580,  1477.9,   3.1396,  34.5711,  34.5706,2,    154.9,2,   154.4,2,   86.16,2,   34.77,2,    0.00,2,    2.47,2,   0.046,2,   0.029,2,   0.006,2,        0,2,  2267.1,2,  2356.6,2,   7.5860,2,    25.00,-999.000,9,-999.0000,9, -999.00,9, -999.00,9,  -999.0,9,  -999.0,-999.000,9,-999.000,  -999.0,9,-999.000,-999.0000, -999.00,   3.0320,   3.1406,2,20091124,       2048
318M20091121,        P06,      10,          1,         13,         13,2,20091124,       1918,   -30.0900,   154.5000,       4580,  1574.0,   2.8728,  34.5964,  34.5960,2,    154.6,2,   154.6,2,   91.42,2,   34.90,2,    0.00,2,    2.48,2,   0.034,2,   0.018,2,   0.001,2,        0,2,  2272.6,2,  2361.7,6,   7.5812,6,    25.00,-999.000,9,-999.0000,9, -999.00,9, -999.00,9,  -999.0,9,  -999.0,-999.000,9,-999.000,    38.3,2,-999.000,-999.0000, -999.00,   2.7602,   2.8721,2,20091124,       2045
318M20091121,        P06,      10,          1,         12,         12,2,20091124,       1918,   -30.0900,   154.5000,       4580,  1739.5,   2.5745,  34.6312,  34.6322,2,    158.3,2,   158.6,2,   94.37,2,   34.52,2,    0.00,2,    2.46,2,   0.027,2,   0.015,2,   0.002,2,        0,2,  2271.8,2,  2366.9,2,   7.5842,2,    25.00,-999.000,9,-999.0000,9, -999.00,9, -999.00,9,  -999.0,9,  -999.0,-999.000,9,-999.000,  -999.0,9,-999.000,-999.0000, -999.00,   2.4517,   2.5757,2,20091124,       2040
318M20091121,        P06,      10,          1,         11,         11,2,20091124,       1918,   -30.0900,   154.5000,       4580,  1946.2,   2.3293,  34.6633,  34.6636,2,    163.6,2,   166.3,2,   97.52,2,   33.97,2,    0.00,2,    2.41,2,   0.012,2,   0.007,2,   0.001,2,        0,2,  2273.0,2,  2367.5,2,   7.5904,2,    25.00,-999.000,9,-999.0000,9, -999.00,9, -999.00,9,  -999.0,9,  -999.0,-999.000,9,-999.000,    37.5,2,-999.000,-999.0000, -999.00,   2.1923,   2.3290,2,20091124,       2035
318M20091121,        P06,      10,          1,         10,         10,2,20091124,       1918,   -30.0900,   154.5000,       4580,  2182.2,   2.1351,  34.6964,  34.6971,2,    175.3,2,   174.6,2,   94.57,2,   32.88,2,    0.00,2,    2.34,2,   0.020,2,   0.011,2,   0.004,2,        0,2,  2264.3,2,  2379.1,4,   7.5995,2,    25.00,-999.000,9,-999.0000,9, -999.00,9, -999.00,9,  -999.0,9,  -999.0,-999.000,9,-999.000,  -999.0,9,-999.000,-999.0000, -999.00,   1.9807,   2.1351,2,20091124,       2028
318M20091121,        P06,      10,          1,          9,          9,2,20091124,       1918,   -30.0900,   154.5000,       4580,  2439.3,   1.9057,  34.7157,  34.7168,2,    181.5,2,   184.8,3,   99.20,2,   32.34,2,    0.00,2,    2.31,2,   0.026,2,   0.015,2,   0.003,2,        0,2,  2263.5,2,  2364.7,2,   7.6095,2,    25.00,-999.000,9,-999.0000,9, -999.00,9, -999.00,9,  -999.0,9,  -999.0,-999.000,9,-999.000,    36.7,2,-999.000,-999.0000, -999.00,   1.7324,   1.9059,2,20091124,       2022
318M20091121,        P06,      10,          1,          8,          8,2,20091124,       1918,   -30.0900,   154.5000,       4580,  2692.5,   1.7238,  34.7238,  34.7243,2,    186.1,2,   186.4,2,  103.22,2,   32.21,2,    0.00,2,    2.31,2,   0.013,2,   0.006,2,   0.004,2,        0,2,  2263.5,2,  2368.5,2,   7.6165,2,    25.00,-999.000,9,-999.0000,9, -999.00,9, -999.00,9,  -999.0,9,  -999.0,-999.000,9,-999.000,  -999.0,9,-999.000,-999.0000, -999.00,   1.5308,   1.7240,2,20091124,       2015
318M20091121,        P06,      10,          1,          7,          7,2,20091124,       1918,   -30.0900,   154.5000,       4580,  2949.8,   1.5053,  34.7240,  34.7251,2,    190.0,2,   190.4,2,  109.14,2,   32.34,2,    0.00,2,    2.31,2,   0.012,2,   0.005,2,   0.003,2,        0,2,  2269.1,2,  2391.3,4,   7.6184,2,    25.00,-999.000,9,-999.0000,9, -999.00,9, -999.00,9,  -999.0,9,  -999.0,-999.000,9,-999.000,    39.8,2,-999.000,-999.0000, -999.00,   1.2929,   1.5049,2,20091124,       2009
318M20091121,        P06,      10,          1,          6,          6,2,20091124,       1918,   -30.0900,   154.5000,       4580,  3238.2,   1.3155,  34.7205,  34.7213,2,    193.3,2,   193.5,2,  113.58,2,   32.52,2,    0.00,2,    2.32,2,   0.023,2,   0.013,2,   0.003,2,        0,2,  2267.8,2,  2373.6,2,   7.6221,2,    25.00,-999.000,9,-999.0000,9, -999.00,9, -999.00,9,  -999.0,9,  -999.0,-999.000,9,-999.000,  -999.0,9,-999.000,-999.0000, -999.00,   1.0797,   1.3153,2,20091124,       2002
318M20091121,        P06,      10,          1,          5,          5,2,20091124,       1918,   -30.0900,   154.5000,       4580,  3542.8,   1.1905,  34.7173,  34.7172,2,    195.1,2,   195.3,2,  117.61,2,   32.70,2,    0.00,2,    2.33,2,   0.017,2,   0.008,2,   0.002,2,        0,2,  2280.2,3,  2376.2,2,   7.6228,2,    25.00,-999.000,9,-999.0000,9, -999.00,9, -999.00,9,  -999.0,9,  -999.0,-999.000,9,-999.000,    38.8,2,-999.000,-999.0000, -999.00,   0.9276,   1.1904,2,20091124,       1955
318M20091121,        P06,      10,          1,          4,          4,2,20091124,       1918,   -30.0900,   154.5000,       4580,  3852.6,   1.1530,  34.7157,  34.7156,2,    196.4,2,   196.3,2,  119.09,2,   32.83,2,    0.00,2,    2.34,2,   0.018,2,   0.010,2,   0.006,2,        0,2,  2275.3,2,  2379.2,2,   7.6245,2,    25.00,-999.000,9,-999.0000,9, -999.00,9, -999.00,9,  -999.0,9,  -999.0,-999.000,9,-999.000,  -999.0,9,-999.000,-999.0000, -999.00,   0.8592,   1.1529,2,20091124,       1944
318M20091121,        P06,      10,          1,          3,          3,2,20091124,       1918,   -30.0900,   154.5000,       4580,  4163.5,   1.1547,  34.7150,  34.7148,2,    196.3,2,   196.8,2,  120.36,2,   32.96,2,    0.00,2,    2.34,2,   0.020,2,   0.011,2,   0.005,2,        0,2,  2275.7,2,  2381.6,2,   7.6257,2,    25.00,-999.000,9,-999.0000,9, -999.00,9, -999.00,9,  -999.0,9,  -999.0,-999.000,9,-999.000,    39.1,2,-999.000,-999.0000, -999.00,   0.8276,   1.1550,2,20091124,       1936
318M20091121,        P06,      10,          1,          2,          2,2,20091124,       1918,   -30.0900,   154.5000,       4580,  4421.5,   1.1703,  34.7145,  34.7174,3,    196.8,2,   197.3,2,  120.58,2,   32.94,2,    0.00,2,    2.35,2,   0.024,2,   0.015,2,   0.003,2,        0,2,  2274.5,2,  2381.6,2,   7.6261,2,    25.00,-999.000,9,-999.0000,9, -999.00,9, -999.00,9,  -999.0,9,  -999.0,-999.000,9,-999.000,  -999.0,9,-999.000,-999.0000, -999.00,   0.8142,   1.1703,2,20091124,       1926
318M20091121,        P06,      10,          1,          1,          1,2,20091124,       1918,   -30.0900,   154.5000,       4580,  4658.2,   1.1929,  34.7142,  34.7142,2,    196.6,2,   196.6,2,  120.58,2,   32.96,2,    0.00,2,    2.35,2,   0.024,2,   0.017,2,   0.004,2,        0,2,  2278.7,6,  2381.4,2,   7.6215,2,    25.00,-999.000,9,-999.0000,9, -999.00,9, -999.00,9,  -999.0,9,  -999.0,-999.000,9,-999.000,    38.6,2,-999.000,-999.0000, -999.00,   0.8091,   1.1926,2,20091124,       1918