BOTTLE,20220818CCHSIOAMB
EXPOCODE,SECT_ID,STNNBR,CASTNO,SAMPNO,BTLNBR,BTLNBR_FLAG_W,DATE,TIME,LATITUDE,LONGITUDE,DEPTH,CTDPRS,CTDTMP,CTDSAL,SALNTY,SALNTY_FLAG_W,CTDOXY,CTDOXY_FLAG_W,OXYGEN,OXYGEN_FLAG_W,SILCAT,SILCAT_FLAG_W,NITRAT,NITRAT_FLAG_W,NITRIT,NITRIT_FLAG_W,PHSPHT,PHSPHT_FLAG_W,CFC-11,CFC-11_FLAG_W,CFC-12,CFC-12_FLAG_W,CFC113,CFC113_FLAG_W,SF6,SF6_FLAG_W,TCARBN,TCARBN_FLAG_W,ALKALI,ALKALI_FLAG_W,PH_SWS,PH_SWS_FLAG_W,PH_TMP,TRITUM,TRITUM_FLAG_W,HELIUM,HELIUM_FLAG_W,DELHE3,DELHE3_FLAG_W,DELC13,DELC13_FLAG_W,DELC14,DELC14_FLAG_W,C14ERR,NEON,NEON_FLAG_W,NEONER,DOC,DOC_FLAG_W,TRITER,HELIER,DELHER,THETA,SBE35,SBE35_FLAG_W,BTL_DATE,BTL_TIME
,,,,,,,,,,,METERS,DBAR,ITS-90,PSS-78,PSS-78,,UMOL/KG,,UMOL/KG,,UMOL/KG,,UMOL/KG,,UMOL/KG,,UMOL/KG,,PMOL/KG,,PMOL/KG,,PMOL/KG,,FMOL/KG,,UMOL/KG,,UMOL/KG,,,,DEG C,TU,,NMOL/KG,,PERCNT,,/MILLE,,/MILLE,,/MILLE,NMOL/KG,,NMOL/KG,UMOL/KG,,TU,NMOL/KG,PERCNT,DEG C,ITS-90,,,
318M20091121,        P06,      12,          1,         36,         36,2,20091125,       1126,   -30.0791,   155.4898,       4819,     4.2,  24.4895,  35.4351,  35.4359,2,    212.2,2,   211.8,2,    1.01,2,    0.07,2,    0.00,2,    0.09,2,   1.798,2,   1.099,2,   0.168,2,    1.147,2,  1994.7,6,  2318.7,2,   8.0805,2,    25.00,   0.414,2,   1.7954,2,   -1.11,2, -999.00,9,  -999.0,9,  -999.0,   7.008,2,   0.032,    65.9,2,   0.008,   0.0075,    0.15,  24.4886,-999.0000,9,20091125,       1406
318M20091121,        P06,      12,          1,         35,         35,2,20091125,       1126,   -30.0791,   155.4898,       4819,    34.2,  23.9334,  35.4610,  35.4618,2,    215.0,2,   215.1,2,    0.98,2,    0.06,2,    0.00,2,    0.09,2,   1.834,2,   1.132,2,   0.168,2,    1.026,2,  1998.9,2,  2323.4,2,   8.0789,2,    25.00,-999.000,9,-999.0000,9, -999.00,9, -999.00,9,  -999.0,9,  -999.0,-999.000,9,-999.000,    59.9,2,-999.000,-999.0000, -999.00,  23.9262,-999.0000,9,20091125,       1404
318M20091121,        P06,      12,          1,         34,         34,2,20091125,       1126,   -30.0791,   155.4898,       4819,    60.0,  22.3524,  35.4909,  35.4932,2,    225.0,2,   224.9,2,    0.75,2,    0.05,2,    0.00,2,    0.09,2,   1.957,2,   1.191,2,   0.171,2,     1.05,2,  2005.2,2,  2324.6,2,   8.0743,2,    25.00,   0.415,2,   1.7860,2,   -1.22,2, -999.00,9,  -999.0,9,  -999.0,   7.066,2,   0.033,    60.2,2,   0.008,   0.0075,    0.15,  22.3404,-999.0000,9,20091125,       1401
318M20091121,        P06,      12,          1,         33,         33,2,20091125,       1126,   -30.0791,   155.4898,       4819,    85.0,  21.5438,  35.5036,  35.5015,2,    227.6,2,   215.5,2,    0.72,2,    0.03,2,    0.00,2,    0.12,2,   1.996,2,   1.203,2,   0.162,2,    1.084,2,  2018.5,2,  2329.5,6,   8.0533,2,    25.00,-999.000,9,-999.0000,9, -999.00,9, -999.00,9,  -999.0,9,  -999.0,-999.000,9,-999.000,    57.4,2,-999.000,-999.0000, -999.00,  21.5272,-999.0000,9,20091125,       1359
318M20091121,        P06,      12,          1,         32,         32,2,20091125,       1126,   -30.0791,   155.4898,       4819,   115.7,  20.7611,  35.5716,  35.5556,3,    212.1,2,   188.1,2,    1.11,2,    2.99,2,    0.09,2,    0.32,2,   2.036,2,   1.216,2,   0.132,2,    1.044,2,  2049.4,2,  2331.0,2,   8.0015,2,    25.00,   0.404,2,   1.9097,2,   -0.92,2, -999.00,9,  -999.0,9,  -999.0,   7.488,2,   0.034,    53.4,2,   0.009,   0.0080,    0.15,  20.7391,-999.0000,9,20091125,       1356
318M20091121,        P06,      12,          1,         31,         31,2,20091125,       1126,   -30.0791,   155.4898,       4819,   165.2,  19.5873,  35.5690,  35.5686,2,    182.8,2,   209.0,2,    0.67,2,    2.01,2,    0.04,2,    0.24,2,   2.138,6,   1.290,6,   0.154,2,    1.146,6,  2042.3,2,  2326.9,2,   7.9967,2,    25.00,   0.398,2,   1.8135,2,   -1.08,2, -999.00,9,  -999.0,9,  -999.0,   7.208,2,   0.033,    54.8,2,   0.009,   0.0076,    0.15,  19.5571,-999.0000,9,20091125,       1354
318M20091121,        P06,      12,          1,         30,         30,2,20091125,       1126,   -30.0791,   155.4898,       4819,   216.0,  18.9416,  35.5997,  35.5956,2,    193.8,2,   193.9,2,    1.47,2,    3.97,2,    0.00,2,    0.37,2,   2.171,2,   1.282,2,   0.101,2,    1.036,2,  2062.5,2,  2329.5,2,   7.9785,2,    25.00,   0.384,2,   1.8959,2,   -0.92,2, -999.00,9,  -999.0,9,  -999.0,   7.486,2,   0.034,    53.0,2,   0.009,   0.0080,    0.15,  18.9030,-999.0000,9,20091125,       1350
318M20091121,        P06,      12,          1,         29,         29,2,20091125,       1126,   -30.0791,   155.4898,       4819,   260.8,  18.0609,  35.5879,  35.5887,2,    193.0,2,   186.2,2,    1.65,2,    5.76,2,    0.00,2,    0.49,2,   2.232,2,   1.317,2,   0.064,2,    1.002,2,  2080.1,2,  2331.4,2,   7.9474,2,    25.00,   0.347,2,   1.8120,2,   -0.60,2, -999.00,9,  -999.0,9,  -999.0,   7.205,2,   0.033,    48.5,2,   0.010,   0.0076,    0.15,  18.0158,-999.0000,9,20091125,       1347
318M20091121,        P06,      12,          1,         28,         28,2,20091125,       1126,   -30.0791,   155.4898,       4819,   314.7,  16.8892,  35.5092,  35.5095,2,    193.5,2,   186.0,2,    2.03,2,    7.09,2,    0.00,2,    0.59,2,   2.294,2,   1.346,2,   0.062,2,    0.916,2,  2091.1,2,  2329.5,2,   7.9215,2,    25.00,   0.336,2,   1.8349,2,   -0.35,2, -999.00,9,  -999.0,9,  -999.0,   7.327,2,   0.034,    47.8,2,   0.008,   0.0077,    0.15,  16.8371,-999.0000,9,20091125,       1344
318M20091121,        P06,      12,          1,         27,         27,2,20091125,       1126,   -30.0791,   155.4898,       4819,   364.3,  15.5660,  35.3985,  35.3971,2,    185.7,2,   186.9,2,    3.04,2,    8.98,2,    0.00,2,    0.70,2,   2.355,2,   1.338,2,   0.066,2,    0.944,2,  2108.3,2,  2320.8,2,   7.8923,2,    25.00,   0.317,2,   1.8524,2,   -0.20,2, -999.00,9,  -999.0,9,  -999.0,   7.488,2,   0.034,    46.6,2,   0.008,   0.0078,    0.15,  15.5090,-999.0000,9,20091125,       1341
318M20091121,        P06,      12,          1,         26,         26,2,20091125,       1126,   -30.0791,   155.4898,       4819,   415.5,  14.0957,  35.2664,  35.2672,2,    190.0,2,   189.0,2,    3.84,2,   11.05,2,    0.00,2,    0.85,2,   2.406,2,   1.356,2,   0.074,2,    0.954,2,  2114.8,2,  2314.2,2,   7.8584,2,    25.00,   0.289,2,   1.9364,2,    0.08,2, -999.00,9,  -999.0,9,  -999.0,   7.779,2,   0.036,    47.4,2,   0.008,   0.0081,    0.15,  14.0348,-999.0000,9,20091125,       1338
318M20091121,        P06,      12,          1,         25,         25,2,20091125,       1126,   -30.0791,   155.4898,       4819,   466.3,  13.1468,  35.1861,  35.1861,2,    191.1,2,   195.3,2,    4.43,2,   12.16,2,    0.00,2,    0.92,2,   2.449,2,   1.372,2,   0.085,2,    0.914,2,  2120.1,2,  -999.0,5,   7.8399,2,    25.00,   0.260,2,   1.7855,2,    0.08,2, -999.00,9,  -999.0,9,  -999.0,   7.270,2,   0.033,    48.6,2,   0.008,   0.0075,    0.15,  13.0814,-999.0000,9,20091125,       1335
318M20091121,        P06,      12,          1,         24,         24,2,20091125,       1126,   -30.0791,   155.4898,       4819,   536.4,  11.4918,  34.9660,  34.9651,2,    194.5,2,   194.2,2,    6.05,2,   15.49,2,    0.00,2,    1.13,2,   2.356,2,   1.290,2,   0.081,2,    0.747,2,  2132.6,2,  -999.0,5,   7.7956,2,    25.00,   0.215,2,   1.8275,2,    0.63,2, -999.00,9,  -999.0,9,  -999.0,   7.498,2,   0.034,  -999.0,9,   0.008,   0.0077,    0.15,  11.4228,-999.0000,9,20091125,       1331
318M20091121,        P06,      12,          1,         23,         23,2,20091125,       1126,   -30.0791,   155.4898,       4819,   637.3,   9.9293,  34.7860,  34.7858,2,    198.9,2,   200.1,2,    7.88,2,   18.40,2,    0.00,2,    1.33,2,   2.378,2,   1.278,2,   0.103,2,    0.738,2,  2143.1,2,  2298.8,2,   7.7652,2,    25.00,   0.139,2,-999.0000,9, -999.00,9, -999.00,9,  -999.0,9,  -999.0,-999.000,9,-999.000,    44.5,2,   0.017,-999.0000, -999.00,   9.8542,-999.0000,9,20091125,       1326
318M20091121,        P06,      12,          1,         22,         22,2,20091125,       1126,   -30.0791,   155.4898,       4819,   739.3,   8.4907,  34.6110,  34.6111,2,    199.5,2,   199.0,2,   11.16,2,   21.70,2,    0.00,2,    1.54,2,   1.935,2,   1.022,2,   0.075,2,    0.515,2,  2150.2,2,  2290.2,2,   7.7250,2,    25.00,   0.144,2,   1.9541,2,    1.27,2, -999.00,9,  -999.0,9,  -999.0,   8.094,2,   0.037,  -999.0,9,   0.017,   0.0082,    0.15,   8.4110,-999.0000,9,20091125,       1322
318M20091121,        P06,      12,          1,         21,         21,2,20091125,       1126,   -30.0791,   155.4898,       4819,   840.9,   7.3330,  34.5110,  34.5117,2,    196.5,2,   196.5,2,   16.30,2,   24.57,2,    0.00,2,    1.77,2,   1.386,2,   0.710,2,   0.059,2,    0.203,2,  2162.8,2,  2290.3,2,   7.6961,6,    25.00,   0.105,2,   1.9627,2,    2.49,2, -999.00,9,  -999.0,9,  -999.0,   8.147,2,   0.037,    40.7,2,   0.017,   0.0082,    0.15,   7.2491,-999.0000,9,20091125,       1318
318M20091121,        P06,      12,          1,         20,         20,2,20091125,       1126,   -30.0791,   155.4898,       4819,   939.3,   6.3166,  34.4510,  34.4504,2,    195.0,2,   195.1,2,   23.54,2,   26.85,2,    0.00,2,    1.90,2,   0.919,2,   0.477,2,   0.033,2,    0.073,2,  2175.9,2,  2294.9,2,   7.6777,2,    25.00,   0.066,2,   1.8498,2,    4.01,2, -999.00,9,  -999.0,9,  -999.0,   7.770,2,   0.036,  -999.0,9,   0.017,   0.0078,    0.15,   6.2295,-999.0000,9,20091125,       1314
318M20091121,        P06,      12,          1,         19,         19,2,20091125,       1126,   -30.0791,   155.4898,       4819,  1042.4,   5.5284,  34.4481,  34.4478,2,    186.3,2,   185.2,2,   34.32,2,   29.09,2,    0.00,2,    2.05,2,   0.560,2,   0.286,2,   0.014,2,        0,2,  2195.0,2,  2315.4,6,   7.6520,2,    25.00,   0.045,2,   1.8699,2,    6.06,2, -999.00,9,  -999.0,9,  -999.0,   7.825,2,   0.036,    38.0,2,   0.017,   0.0079,    0.15,   5.4372,-999.0000,9,20091125,       1310
318M20091121,        P06,      12,          1,         18,         18,2,20091125,       1126,   -30.0791,   155.4898,       4819,  1145.5,   4.7879,  34.4620,  34.4616,2,    177.2,2,   178.1,2,   47.47,2,   30.85,2,    0.00,2,    2.18,2,   0.303,2,   0.162,2,   0.027,2,    0.059,2,  2215.0,2,  2318.7,2,   7.6322,2,    25.00,  -0.016,2,   1.8656,2,    8.84,2, -999.00,9,  -999.0,9,  -999.0,   7.811,2,   0.036,  -999.0,9,   0.017,   0.0078,    0.15,   4.6932,-999.0000,9,20091125,       1306
318M20091121,        P06,      12,          1,         17,         17,2,20091125,       1126,   -30.0791,   155.4898,       4819,  1241.7,   4.3983,  34.4811,  34.4797,2,    170.7,2,   171.6,2,   56.03,2,   31.72,2,    0.00,2,    2.26,2,   0.199,2,   0.110,2,   0.004,2,        0,2,  2227.7,2,  2330.6,2,   7.6184,2,    25.00,   0.024,2,   1.8842,2,   10.88,2, -999.00,9,  -999.0,9,  -999.0,   7.939,2,   0.037,    38.4,2,   0.017,   0.0079,    0.15,   4.2984,-999.0000,9,20091125,       1303
318M20091121,        P06,      12,          1,         16,         16,2,20091125,       1126,   -30.0791,   155.4898,       4819,  1344.4,   3.8702,  34.5133,  34.5125,2,    162.4,2,   162.7,2,   68.42,2,   33.03,2,    0.00,2,    2.35,2,   0.127,2,   0.072,2,   0.012,2,        0,2,  2245.6,2,  2342.1,2,   7.6039,2,    25.00,-999.000,9,-999.0000,9, -999.00,9, -999.00,9,  -999.0,9,  -999.0,-999.000,9,-999.000,  -999.0,9,-999.000,-999.0000, -999.00,   3.7663,-999.0000,9,20091125,       1259
318M20091121,        P06,      12,          1,         15,         15,2,20091125,       1126,   -30.0791,   155.4898,       4819,  1448.8,   3.4361,  34.5458,  34.5461,2,    157.3,2,   156.8,2,   79.37,2,   33.91,2,    0.00,2,    2.42,2,   0.071,2,   0.042,2,   0.002,2,        0,2,  2262.6,2,  2355.1,2,   7.5906,2,    25.00,   0.018,2,   1.8998,2,   15.33,2, -999.00,9,  -999.0,9,  -999.0,   7.956,2,   0.037,    37.3,2,   0.017,   0.0080,    0.15,   3.3277,-999.0000,9,20091125,       1255
318M20091121,        P06,      12,          1,         14,         14,2,20091125,       1126,   -30.0791,   155.4898,       4819,  1545.7,   3.1290,  34.5739,  34.5740,2,    153.2,2,   153.0,2,   87.17,2,   34.34,2,    0.00,2,    2.45,2,   0.035,2,   0.021,2,   0.000,2,        0,2,  2269.3,2,  2362.1,2,   7.5824,2,    25.00,-999.000,9,-999.0000,9, -999.00,9, -999.00,9,  -999.0,9,  -999.0,-999.000,9,-999.000,  -999.0,9,-999.000,-999.0000, -999.00,   3.0158,-999.0000,9,20091125,       1250
318M20091121,        P06,      12,          1,         13,         13,2,20091125,       1126,   -30.0791,   155.4898,       4819,  1680.4,   2.7924,  34.6071,  34.6073,2,    153.2,2,   153.6,2,   93.29,2,   34.43,2,    0.00,2,    2.45,2,   0.019,2,   0.012,2,   0.002,2,        0,2,  2276.2,2,  2371.0,2,   7.5812,2,    25.00,   0.015,2,   1.9346,2,   16.76,2, -999.00,9,  -999.0,9,  -999.0,   8.028,2,   0.037,    35.5,2,   0.017,   0.0081,    0.15,   2.6718,-999.0000,9,20091125,       1245
318M20091121,        P06,      12,          1,         12,         12,2,20091125,       1126,   -30.0791,   155.4898,       4819,  1880.2,   2.4749,  34.6447,  34.6448,2,    158.5,2,   159.3,2,   96.01,2,   34.02,2,    0.00,2,    2.42,2,   0.012,2,   0.009,2,   0.000,2,        0,2,  2270.5,2,  2368.3,2,   7.5833,2,    25.00,   0.016,2,   1.8914,2,   15.51,2, -999.00,9,  -999.0,9,  -999.0,   7.919,2,   0.036,  -999.0,9,   0.017,   0.0079,    0.15,   2.3415,-999.0000,9,20091125,       1240
318M20091121,        P06,      12,          1,         11,         11,2,20091125,       1126,   -30.0791,   155.4898,       4819,  2105.4,   2.2540,  34.6790,  34.6793,2,    169.3,2,   169.6,2,   93.44,2,   33.08,2,    0.00,2,    2.35,2,   0.015,2,   0.009,2,   0.000,2,        0,2,  2278.8,3,  2367.2,2,   7.5938,2,    25.00,   0.016,2,   1.9529,2,   12.85,2, -999.00,9,  -999.0,9,  -999.0,   8.179,2,   0.038,    38.0,2,   0.017,   0.0082,    0.15,   2.1044,-999.0000,9,20091125,       1234
318M20091121,        P06,      12,          1,         10,         10,2,20091125,       1126,   -30.0791,   155.4898,       4819,  2356.9,   2.0125,  34.7061,  34.7064,2,    177.6,2,   178.0,2,   96.39,2,   32.38,2,    0.00,2,    2.29,2,   0.007,2,   0.007,2,   0.000,2,        0,2,  2264.9,2,  2377.0,3,   7.6025,2,    25.00,   0.026,2,   1.9275,2,   11.58,2, -999.00,9,  -999.0,9,  -999.0,   8.060,2,   0.037,  -999.0,9,   0.017,   0.0081,    0.15,   1.8447,-999.0000,9,20091125,       1228
318M20091121,        P06,      12,          1,          9,          9,2,20091125,       1126,   -30.0791,   155.4898,       4819,  2614.4,   1.8210,  34.7198,  34.7196,2,    183.9,2,   183.8,2,   99.96,2,   32.03,2,    0.00,2,    2.27,2,   0.009,2,   0.008,2,   0.000,2,        0,2,  2266.2,2,  2367.2,2,   7.6123,2,    25.00,   0.005,2,   1.9384,2,   10.83,2, -999.00,9,  -999.0,9,  -999.0,   8.142,2,   0.037,    37.2,2,   0.008,   0.0081,    0.15,   1.6333,-999.0000,9,20091125,       1222
318M20091121,        P06,      12,          1,          8,          8,2,20091125,       1126,   -30.0791,   155.4898,       4819,  2869.7,   1.6128,  34.7236,  34.7239,2,    188.4,2,   188.3,2,  105.26,2,   32.02,2,    0.00,2,    2.26,2,   0.004,2,   0.006,2,   0.000,2,        0,2,  2266.9,2,  2370.2,2,   7.6122,2,    25.00,-999.000,9,-999.0000,9, -999.00,9, -999.00,9,  -999.0,9,  -999.0,-999.000,9,-999.000,  -999.0,9,-999.000,-999.0000, -999.00,   1.4056,-999.0000,9,20091125,       1215
318M20091121,        P06,      12,          1,          7,          7,2,20091125,       1126,   -30.0791,   155.4898,       4819,  3138.0,   1.4401,  34.7227,  34.7231,2,    191.6,2,   192.2,2,  109.27,2,   32.11,2,    0.00,2,    2.26,2,   0.005,2,   0.004,2,   0.004,2,        0,2,  2270.0,2,  2372.7,2,   7.6166,2,    25.00,   0.005,2,   1.9353,2,   10.10,2, -999.00,9,  -999.0,9,  -999.0,   8.190,2,   0.038,    36.8,2,   0.008,   0.0081,    0.15,   1.2111,-999.0000,9,20091125,       1209
318M20091121,        P06,      12,          1,          6,          6,2,20091125,       1126,   -30.0791,   155.4898,       4819,  3443.6,   1.2685,  34.7190,  34.7196,2,    194.0,2,   194.0,2,  113.94,2,   32.25,2,    0.00,2,    2.27,2,   0.007,2,   0.008,2,   0.000,2,        0,2,  2272.5,2,  2378.4,2,   7.6199,2,    25.00,   0.008,2,   1.9045,2,    9.85,2, -999.00,9,  -999.0,9,  -999.0,   8.033,2,   0.037,  -999.0,9,   0.008,   0.0080,    0.15,   1.0136,-999.0000,9,20091125,       1202
318M20091121,        P06,      12,          1,          5,          5,2,20091125,       1126,   -30.0791,   155.4898,       4819,  3753.0,   1.1907,  34.7169,  34.7168,2,    195.4,2,   196.0,2,  116.46,2,   32.38,2,    0.00,2,    2.28,2,   0.010,2,   0.010,2,   0.000,2,        0,2,  2274.9,2,  2382.0,2,   7.6229,2,    25.00,  -0.011,2,   1.9489,2,    9.40,2, -999.00,9,  -999.0,9,  -999.0,   8.252,2,   0.038,    38.9,2,   0.008,   0.0082,    0.15,   0.9063,-999.0000,9,20091125,       1154
318M20091121,        P06,      12,          1,          4,          4,2,20091125,       1126,   -30.0791,   155.4898,       4819,  4062.1,   1.1729,  34.7157,  34.7154,2,    195.9,2,   196.0,2,  117.50,2,   32.42,2,    0.00,2,    2.28,2,   0.012,2,   0.010,2,   0.000,2,        0,2,  2273.3,2,  2384.9,2,   7.6236,2,    25.00,   0.003,2,   1.9883,2,    9.35,2, -999.00,9,  -999.0,9,  -999.0,   8.394,2,   0.039,  -999.0,9,   0.008,   0.0084,    0.15,   0.8563,-999.0000,9,20091125,       1147
318M20091121,        P06,      12,          1,          3,          3,2,20091125,       1126,   -30.0791,   155.4898,       4819,  4368.8,   1.1845,  34.7150,  34.7148,2,    195.9,2,   196.2,2,  118.11,2,   32.56,2,    0.00,2,    2.28,2,   0.020,2,   0.015,2,   0.000,2,        0,2,  2276.3,2,  2387.4,2,   7.6251,2,    25.00,   0.008,6,   1.9362,2,    9.55,2, -999.00,9,  -999.0,9,  -999.0,   8.068,2,   0.037,    38.2,2,   0.008,   0.0081,    0.15,   0.8339,-999.0000,9,20091125,       1140
318M20091121,        P06,      12,          1,          2,          2,2,20091125,       1126,   -30.0791,   155.4898,       4819,  4631.9,   1.2053,  34.7147,  34.7146,2,    195.7,2,   195.9,2,  118.51,2,   32.50,2,    0.00,2,    2.29,2,   0.019,2,   0.013,2,   0.000,2,        0,2,  2274.9,2,  2383.2,6,   7.6249,2,    25.00,   0.010,2,   1.9097,2,    9.22,2, -999.00,9,  -999.0,9,  -999.0,   8.080,2,   0.037,  -999.0,9,   0.008,   0.0080,    0.15,   0.8241,-999.0000,9,20091125,       1134
318M20091121,        P06,      12,          1,          1,          1,2,20091125,       1126,   -30.0791,   155.4898,       4819,  4901.0,   1.2341,  34.7145,  34.7146,2,    196.0,2,   196.3,2,  118.91,2,   32.59,2,    0.00,2,    2.29,2,   0.020,2,   0.019,2,   0.000,2,        0,2,  2277.7,6,  2386.1,2,   7.6169,6,    25.00,   0.007,2,   1.9841,2,    9.28,2, -999.00,9,  -999.0,9,  -999.0,   8.256,2,   0.038,    38.7,2,   0.008,   0.0083,    0.15,   0.8204,-999.0000,9,20091125,       1126