BOTTLE,20220818CCHSIOAMB
EXPOCODE,SECT_ID,STNNBR,CASTNO,SAMPNO,BTLNBR,BTLNBR_FLAG_W,DATE,TIME,LATITUDE,LONGITUDE,DEPTH,CTDPRS,CTDTMP,CTDSAL,SALNTY,SALNTY_FLAG_W,CTDOXY,CTDOXY_FLAG_W,OXYGEN,OXYGEN_FLAG_W,SILCAT,SILCAT_FLAG_W,NITRAT,NITRAT_FLAG_W,NITRIT,NITRIT_FLAG_W,PHSPHT,PHSPHT_FLAG_W,CFC-11,CFC-11_FLAG_W,CFC-12,CFC-12_FLAG_W,CFC113,CFC113_FLAG_W,SF6,SF6_FLAG_W,TCARBN,TCARBN_FLAG_W,ALKALI,ALKALI_FLAG_W,PH_SWS,PH_SWS_FLAG_W,PH_TMP,TRITUM,TRITUM_FLAG_W,HELIUM,HELIUM_FLAG_W,DELHE3,DELHE3_FLAG_W,DELC13,DELC13_FLAG_W,DELC14,DELC14_FLAG_W,C14ERR,NEON,NEON_FLAG_W,NEONER,DOC,DOC_FLAG_W,TRITER,HELIER,DELHER,THETA,SBE35,SBE35_FLAG_W,BTL_DATE,BTL_TIME
,,,,,,,,,,,METERS,DBAR,ITS-90,PSS-78,PSS-78,,UMOL/KG,,UMOL/KG,,UMOL/KG,,UMOL/KG,,UMOL/KG,,UMOL/KG,,PMOL/KG,,PMOL/KG,,PMOL/KG,,FMOL/KG,,UMOL/KG,,UMOL/KG,,,,DEG C,TU,,NMOL/KG,,PERCNT,,/MILLE,,/MILLE,,/MILLE,NMOL/KG,,NMOL/KG,UMOL/KG,,TU,NMOL/KG,PERCNT,DEG C,ITS-90,,,
318M20091121,        P06,      44,          2,         33,         33,2,20091203,       0315,   -30.0800,   168.5000,       3352,     4.8,  22.2650,  35.6562,-999.0000,9,   -999.0,9,  -999.0,9, -999.00,9, -999.00,9, -999.00,9, -999.00,9,-999.000,9,-999.000,9,-999.000,9,-999.0000,9,  -999.0,9,  -999.0,9,-999.0000,9,  -999.00,-999.000,9,-999.0000,9, -999.00,9, -999.00,9,  -999.0,9,  -999.0,-999.000,9,-999.000,  -999.0,9,-999.000,-999.0000, -999.00,  22.2640,  22.1402,3,20091203,       0512
318M20091121,        P06,      44,          2,         32,         32,2,20091203,       0315,   -30.0800,   168.5000,       3352,     5.3,  22.1632,  35.6538,  35.6480,2,    224.7,2,   224.8,2,    0.57,2,    0.00,2,    0.00,2,    0.06,2,   2.090,2,   1.269,2,-999.000,1,    1.236,2,  2027.7,6,  2336.2,6,   8.0795,6,    25.00,   0.404,2,   1.7194,2,   -1.32,2, -999.00,9,  -999.0,9,  -999.0,   6.708,2,   0.031,    60.1,2,   0.017,   0.0072,    0.15,  22.1621,  22.1914,3,20091203,       0512
318M20091121,        P06,      44,          2,         31,         31,2,20091203,       0315,   -30.0800,   168.5000,       3352,    32.8,  20.0024,  35.6283,  35.6287,2,    235.1,2,   234.3,2,    0.35,2,    0.06,2,    0.00,2,    0.07,2,   2.232,2,   1.348,2,-999.000,1,    1.338,2,  2030.0,2,  2333.0,2,   8.0241,2,    25.00,-999.000,9,-999.0000,9, -999.00,9, -999.00,9,  -999.0,9,  -999.0,-999.000,9,-999.000,    57.1,2,-999.000,-999.0000, -999.00,  19.9963,  20.0003,2,20091203,       0509
318M20091121,        P06,      44,          2,         30,         30,2,20091203,       0315,   -30.0800,   168.5000,       3352,    58.6,  19.3745,  35.6199,  35.6178,2,    230.8,2,   232.9,2,    0.33,2,    0.06,2,    0.00,2,    0.09,2,   2.265,2,   1.361,2,-999.000,1,    1.282,2,  2034.3,2,  2335.2,2,   8.0325,2,    25.00,   0.350,2,   1.7250,2,   -1.44,2, -999.00,9,  -999.0,9,  -999.0,   6.789,2,   0.031,    52.5,2,   0.016,   0.0072,    0.15,  19.3639,  19.3734,2,20091203,       0506
318M20091121,        P06,      44,          2,         29,         29,2,20091203,       0315,   -30.0800,   168.5000,       3352,    83.9,  18.6721,  35.6121,  35.6121,2,    231.9,2,   230.3,2,    0.31,2,    0.13,2,    0.04,2,    0.12,2,   2.303,2,   1.384,2,-999.000,1,    1.332,2,  2041.1,2,  2336.0,2,   8.0205,2,    25.00,-999.000,9,-999.0000,9, -999.00,9, -999.00,9,  -999.0,9,  -999.0,-999.000,9,-999.000,    50.7,2,-999.000,-999.0000, -999.00,  18.6573,  18.6560,2,20091203,       0504
318M20091121,        P06,      44,          2,         28,         28,2,20091203,       0315,   -30.0800,   168.5000,       3352,   114.7,  18.4918,  35.6059,  35.6054,2,    221.1,2,   222.0,2,    0.49,2,    0.98,2,    0.07,2,    0.18,2,   2.303,2,   1.392,2,-999.000,1,    1.312,2,  2048.4,2,  -999.0,5,   8.0144,2,    25.00,   0.405,2,   1.7366,2,   -1.36,2, -999.00,9,  -999.0,9,  -999.0,   6.833,2,   0.031,    52.2,2,   0.017,   0.0073,    0.15,  18.4717,  18.4912,2,20091203,       0502
318M20091121,        P06,      44,          2,         27,         27,2,20091203,       0315,   -30.0800,   168.5000,       3352,   164.8,  17.9115,  35.5889,  35.5877,2,    211.3,2,   209.2,2,    0.87,2,    3.19,2,    0.02,2,    0.30,2,   2.335,2,   1.407,2,-999.000,1,     1.19,2,  2063.8,2,  2329.1,2,   7.9982,2,    25.00,   0.382,2,   1.7494,2,   -1.15,2, -999.00,9,  -999.0,9,  -999.0,   6.922,2,   0.032,    51.0,2,   0.017,   0.0073,    0.15,  17.8832,  17.9077,2,20091203,       0500
318M20091121,        P06,      44,          2,         26,         26,2,20091203,       0315,   -30.0800,   168.5000,       3352,   216.1,  17.1272,  35.5474,  35.5484,2,    203.4,2,   203.4,2,    1.24,2,    4.94,2,    0.01,2,    0.41,2,   2.390,2,   1.417,2,-999.000,1,     1.16,2,  2077.1,2,  2328.1,2,   7.9399,2,    25.00,   0.356,2,   1.7380,2,   -0.93,2, -999.00,9,  -999.0,9,  -999.0,   6.907,2,   0.032,    45.3,2,   0.017,   0.0073,    0.15,  17.0912,  17.1403,2,20091203,       0457
318M20091121,        P06,      44,          2,         25,         25,2,20091203,       0315,   -30.0800,   168.5000,       3352,   266.9,  16.2118,  35.4732,  35.4696,2,    198.5,2,   198.7,2,    1.82,2,    6.89,2,    0.01,2,    0.54,2,   2.417,2,   1.426,2,-999.000,1,    0.996,2,  2088.2,2,  2328.8,2,   7.9243,2,    25.00,   0.323,2,   1.7668,2,   -0.73,2, -999.00,9,  -999.0,9,  -999.0,   7.023,2,   0.032,    47.5,2,   0.017,   0.0074,    0.15,  16.1689,  16.2071,2,20091203,       0454
318M20091121,        P06,      44,          2,         24,         24,2,20091203,       0315,   -30.0800,   168.5000,       3352,   316.2,  15.5055,  35.4118,  35.4115,2,    195.6,2,   196.0,2,    2.19,2,    8.22,2,    0.01,2,    0.63,2,   2.476,2,   1.439,2,-999.000,1,    0.887,2,  2097.0,2,  2325.0,2,   7.9023,2,    25.00,-999.000,9,-999.0000,9, -999.00,9, -999.00,9,  -999.0,9,  -999.0,-999.000,9,-999.000,    45.5,2,-999.000,-999.0000, -999.00,  15.4562,  15.5058,2,20091203,       0445
318M20091121,        P06,      44,          2,         23,         23,2,20091203,       0315,   -30.0800,   168.5000,       3352,   366.2,  14.2821,  35.2951,  35.2970,2,    195.3,2,   195.0,2,    2.96,2,   10.24,2,    0.01,2,    0.76,2,   2.497,2,   1.431,2,-999.000,1,    0.824,2,  2107.5,2,  2320.4,2,   7.8695,2,    25.00,   0.300,2,   1.7890,2,   -0.11,2, -999.00,9,  -999.0,9,  -999.0,   7.118,2,   0.033,    44.1,2,   0.017,   0.0075,    0.15,  14.2280,  14.3166,3,20091203,       0443
318M20091121,        P06,      44,          2,         22,         22,2,20091203,       0315,   -30.0800,   168.5000,       3352,   416.9,  13.0047,  35.1536,  35.1526,2,    195.4,2,   196.0,2,    4.12,2,   12.57,2,    0.01,2,    0.91,2,   2.528,2,   1.422,2,-999.000,1,     0.78,2,  2117.7,2,  2312.1,2,   7.8376,2,    25.00,   0.270,6,   1.7440,2,   -0.10,2, -999.00,9,  -999.0,9,  -999.0,   7.012,2,   0.032,    48.5,3,   0.012,   0.0073,    0.15,  12.9468,  13.0076,2,20091203,       0441
318M20091121,        P06,      44,          2,         21,         21,2,20091203,       0315,   -30.0800,   168.5000,       3352,   467.5,  12.2457,  35.0573,  35.0580,2,    195.7,2,   196.5,2,    4.90,2,   14.02,2,    0.00,2,    1.01,2,   2.508,2,   1.395,2,-999.000,1,     0.74,2,  2122.9,2,  2307.8,2,   7.8200,2,    25.00,-999.000,9,   1.7751,2,    0.40,2, -999.00,9,  -999.0,9,  -999.0,   7.398,2,   0.034,    48.0,3,-999.000,   0.0075,    0.15,  12.1832,  12.2324,2,20091203,       0438
318M20091121,        P06,      44,          2,         20,         20,2,20091203,       0315,   -30.0800,   168.5000,       3352,   537.6,  11.0715,  34.9184,  34.9177,2,    197.1,2,   197.3,2,    6.25,2,   16.34,2,    0.00,2,    1.15,2,   2.472,2,   1.353,2,-999.000,1,    0.674,2,  2132.6,2,  2303.2,2,   7.7486,4,    25.00,   0.187,2,-999.0000,9, -999.00,9, -999.00,9,  -999.0,9,  -999.0,-999.000,9,-999.000,    42.2,2,   0.016,-999.0000, -999.00,  11.0040,  11.0743,2,20091203,       0435
318M20091121,        P06,      44,          2,         19,         19,2,20091203,       0315,   -30.0800,   168.5000,       3352,   637.9,   9.6153,  34.7533,  34.7535,2,    198.0,2,   199.2,2,    9.00,2,   19.45,2,    0.00,2,    1.36,2,   2.301,2,   1.226,2,-999.000,1,    0.553,2,  2141.9,2,  2301.0,2,   7.7649,2,    25.00,   0.148,2,   1.7686,2,    1.23,2, -999.00,9,  -999.0,9,  -999.0,   7.411,2,   0.034,    41.7,2,   0.016,   0.0074,    0.15,   9.5416,   9.6180,2,20091203,       0432
318M20091121,        P06,      44,          2,         18,         18,2,20091203,       0315,   -30.0800,   168.5000,       3352,   738.1,   8.4945,  34.6470,  34.6444,2,    198.0,2,   199.0,2,   13.14,2,   22.07,2,    0.00,2,    1.52,2,   1.968,2,   1.040,2,-999.000,1,    0.429,2,  2153.7,2,  2300.9,2,   7.7304,2,    25.00,-999.000,9,-999.0000,9, -999.00,9, -999.00,9,  -999.0,9,  -999.0,-999.000,9,-999.000,  -999.0,9,-999.000,-999.0000, -999.00,   8.4149,   8.4914,2,20091203,       0429
318M20091121,        P06,      44,          2,         17,         17,2,20091203,       0315,   -30.0800,   168.5000,       3352,   839.9,   7.2354,  34.5287,  34.5290,2,    198.2,2,   199.5,2,   31.05,3,   29.27,3,    0.00,2,    2.01,3,   1.551,2,   0.806,2,-999.000,1,    0.271,2,  2164.9,2,  2299.7,2,   7.7028,2,    25.00,   0.095,2,   1.8178,2,    3.09,2, -999.00,9,  -999.0,9,  -999.0,   7.597,2,   0.035,    38.3,2,   0.016,   0.0076,    0.15,   7.1522,   7.2369,2,20091203,       0426
318M20091121,        P06,      44,          2,         16,         16,2,20091203,       0315,   -30.0800,   168.5000,       3352,   941.1,   6.1260,  34.4489,  34.4492,2,    197.8,2,   198.6,2,   24.83,2,   27.25,2,    0.00,2,    1.89,2,   1.079,2,   0.551,2,-999.000,1,    0.088,2,  2175.2,2,  2298.4,2,   7.6799,2,    25.00,-999.000,9,-999.0000,9, -999.00,9, -999.00,9,  -999.0,9,  -999.0,-999.000,9,-999.000,  -999.0,9,-999.000,-999.0000, -999.00,   6.0401,   6.1412,2,20091203,       0422
318M20091121,        P06,      44,          2,         15,         15,2,20091203,       0315,   -30.0800,   168.5000,       3352,  1044.2,   5.2875,  34.4072,  34.4071,2,    194.7,2,   194.9,2,   31.01,2,   29.22,2,    0.00,2,    2.02,2,   0.698,2,   0.361,2,-999.000,1,        0,2,  2186.7,2,  2302.3,2,   7.6581,2,    25.00,   0.044,2,   1.8242,2,    5.45,2, -999.00,9,  -999.0,9,  -999.0,   7.701,2,   0.035,    37.2,2,   0.016,   0.0077,    0.15,   5.1981,   5.2898,2,20091203,       0419
318M20091121,        P06,      44,          2,         14,         14,2,20091203,       0315,   -30.0800,   168.5000,       3352,  1142.9,   4.8862,  34.4236,  34.4230,2,    187.6,2,   188.1,2,   39.01,2,   30.38,2,    0.00,2,    2.10,2,   0.521,2,   0.273,2,-999.000,1,        0,2,  2200.3,6,  2313.2,6,   7.6437,2,    25.00,   0.055,2,   1.8359,2,    6.58,2, -999.00,9,  -999.0,9,  -999.0,   7.762,2,   0.036,  -999.0,9,   0.016,   0.0077,    0.15,   4.7909,   4.8912,2,20091203,       0416
318M20091121,        P06,      44,          2,         13,         13,2,20091203,       0315,   -30.0800,   168.5000,       3352,  1243.8,   4.2852,  34.4444,  34.4437,2,    180.4,2,   179.8,2,   50.25,2,   31.85,2,    0.00,2,    2.21,2,   0.305,2,   0.170,2,-999.000,1,        0,2,  2216.8,2,  2325.6,2,   7.6241,2,    25.00,   0.016,2,   1.8185,2,    9.19,2, -999.00,9,  -999.0,9,  -999.0,   7.601,2,   0.035,    34.2,2,   0.016,   0.0076,    0.15,   4.1862,   4.2844,2,20091203,       0412
318M20091121,        P06,      44,          2,         12,         12,2,20091203,       0315,   -30.0800,   168.5000,       3352,  1346.1,   3.8255,  34.4860,  34.4893,2,    172.1,2,   172.2,2,   63.38,2,   32.86,2,    0.00,2,    2.29,2,   0.208,2,   0.117,2,-999.000,1,        0,2,  2234.3,2,  2340.1,2,   7.6156,2,    25.00,-999.000,9,-999.0000,9, -999.00,9, -999.00,9,  -999.0,9,  -999.0,-999.000,9,-999.000,  -999.0,9,-999.000,-999.0000, -999.00,   3.7220,   3.8250,2,20091203,       0409
318M20091121,        P06,      44,          2,         11,         11,2,20091203,       0315,   -30.0800,   168.5000,       3352,  1447.5,   3.4258,  34.5300,  34.5300,2,    165.4,2,   165.3,2,   76.16,2,   33.57,2,    0.00,2,    2.35,2,   0.147,2,   0.084,2,-999.000,1,        0,2,  2251.8,2,  2350.8,2,   7.6050,2,    25.00,   0.018,2,-999.0000,9, -999.00,9, -999.00,9,  -999.0,9,  -999.0,-999.000,9,-999.000,  -999.0,9,   0.016,-999.0000, -999.00,   3.3177,   3.4259,2,20091203,       0406
318M20091121,        P06,      44,          2,         10,         10,2,20091203,       0315,   -30.0800,   168.5000,       3352,  1547.2,   3.2009,  34.5554,  34.5550,2,    161.9,2,   162.1,2,   83.88,2,   33.87,2,    0.00,2,    2.37,2,   0.128,2,   0.076,2,-999.000,1,        0,2,  2261.6,2,  2360.9,2,   7.5993,2,    25.00,-999.000,9,-999.0000,9, -999.00,9, -999.00,9,  -999.0,9,  -999.0,-999.000,9,-999.000,    38.2,2,-999.000,-999.0000, -999.00,   3.0868,   3.2010,2,20091203,       0402
318M20091121,        P06,      44,          2,          9,          9,2,20091203,       0315,   -30.0800,   168.5000,       3352,  1647.0,   2.9880,  34.5750,  34.5745,2,    159.1,2,   159.3,2,   90.59,2,   34.18,2,    0.00,2,    2.40,2,   0.093,2,   0.053,2,-999.000,1,        0,2,  2270.3,2,  2367.5,2,   7.5934,2,    25.00,   0.001,2,-999.0000,9, -999.00,9, -999.00,9,  -999.0,9,  -999.0,-999.000,9,-999.000,  -999.0,9,   0.016,-999.0000, -999.00,   2.8679,   2.9878,2,20091203,       0359
318M20091121,        P06,      44,          2,          8,          8,2,20091203,       0315,   -30.0800,   168.5000,       3352,  1879.7,   2.5884,  34.6114,  34.6105,2,    155.4,2,   156.1,2,  102.65,2,   34.67,2,    0.00,2,    2.43,2,   0.058,2,   0.038,2,-999.000,1,        0,2,  2285.1,2,  2382.8,2,   7.5890,2,    25.00,   0.014,2,-999.0000,9, -999.00,9, -999.00,9,  -999.0,9,  -999.0,-999.000,9,-999.000,  -999.0,9,   0.016,-999.0000, -999.00,   2.4536,   2.5885,2,20091203,       0353
318M20091121,        P06,      44,          2,          7,          7,2,20091203,       0315,   -30.0800,   168.5000,       3352,  2101.7,   2.2874,  34.6368,  34.6367,2,    154.2,2,   154.6,2,  111.44,2,   34.88,2,    0.00,2,    2.44,2,   0.041,2,   0.028,2,-999.000,1,        0,2,  2278.3,3,  2395.1,2,   7.5861,2,    25.00,   0.008,2,-999.0000,9, -999.00,9, -999.00,9,  -999.0,9,  -999.0,-999.000,9,-999.000,    34.8,2,   0.016,-999.0000, -999.00,   2.1378,   2.2871,2,20091203,       0347
318M20091121,        P06,      44,          2,          6,          6,2,20091203,       0315,   -30.0800,   168.5000,       3352,  2308.4,   2.1003,  34.6531,  34.6532,2,    153.7,2,   154.2,2,  116.96,2,   35.13,2,    0.00,2,    2.47,2,   0.026,2,   0.016,2,-999.000,1,        0,2,  2282.7,3,  2399.3,2,   7.5864,2,    25.00,   0.003,2,-999.0000,9, -999.00,9, -999.00,9,  -999.0,9,  -999.0,-999.000,9,-999.000,  -999.0,9,   0.016,-999.0000, -999.00,   1.9355,   2.0993,2,20091203,       0342
318M20091121,        P06,      44,          2,          5,          5,2,20091203,       0315,   -30.0800,   168.5000,       3352,  2425.9,   2.0107,  34.6610,  34.6605,2,    153.6,2,   154.2,2,  119.39,2,   35.23,2,    0.00,2,    2.47,2,   0.029,2,   0.019,2,-999.000,1,        0,2,  2278.7,3,  2400.1,2,   7.5838,2,    25.00,   0.003,2,-999.0000,9, -999.00,9, -999.00,9,  -999.0,9,  -999.0,-999.000,9,-999.000,    35.5,2,   0.016,-999.0000, -999.00,   1.8369,   2.0104,2,20091203,       0339
318M20091121,        P06,      44,          2,          4,          4,2,20091203,       0315,   -30.0800,   168.5000,       3352,  2614.6,   1.9521,  34.6669,  34.6666,2,    153.3,2,   153.7,2,  121.21,2,   35.28,2,    0.00,2,    2.47,2,   0.022,2,   0.016,2,-999.000,1,        0,2,  2290.9,3,  2402.7,2,   7.5867,2,    25.00,   0.006,2,-999.0000,9, -999.00,9, -999.00,9,  -999.0,9,  -999.0,-999.000,9,-999.000,  -999.0,9,   0.016,-999.0000, -999.00,   1.7621,   1.9521,2,20091203,       0334
318M20091121,        P06,      44,          2,          3,          3,2,20091203,       0315,   -30.0800,   168.5000,       3352,  2870.2,   1.9260,  34.6706,  34.6702,2,    153.3,2,   153.8,2,  122.82,2,   35.27,2,    0.00,2,    2.47,2,   0.028,2,   0.020,2,-999.000,1,        0,2,  2291.7,3,  2408.2,2,   7.5868,2,    25.00,-999.000,9,-999.0000,9, -999.00,9, -999.00,9,  -999.0,9,  -999.0,-999.000,9,-999.000,    37.8,2,-999.000,-999.0000, -999.00,   1.7124,   1.9258,2,20091203,       0328
318M20091121,        P06,      44,          2,          2,          2,2,20091203,       0315,   -30.0800,   168.5000,       3352,  3122.1,   1.9212,  34.6729,  34.6731,2,    153.3,2,   153.5,2,  123.41,2,   35.32,2,    0.00,2,    2.48,2,   0.024,2,   0.015,2,-999.000,1,        0,2,  2291.1,3,  2407.1,2,   7.5878,2,    25.00,   0.013,2,   1.8989,2,   17.60,2, -999.00,9,  -999.0,9,  -999.0,   8.092,2,   0.037,  -999.0,9,   0.016,   0.0080,    0.15,   1.6831,   1.9214,2,20091203,       0322
318M20091121,        P06,      44,          2,          1,          1,2,20091203,       0315,   -30.0800,   168.5000,       3352,  3378.7,   1.9316,  34.6740,  34.6743,2,    153.4,2,   153.9,2,  123.99,2,   35.31,2,    0.00,2,    2.48,2,   0.022,2,   0.013,2,-999.000,1,        0,2,  2292.0,4,  2410.6,6,   7.5941,6,    25.00,  -0.008,2,   2.0009,2,   18.39,2, -999.00,9,  -999.0,9,  -999.0,   8.374,2,   0.039,    39.5,2,   0.016,   0.0084,    0.15,   1.6672,   1.9313,2,20091203,       0315