BOTTLE,20220818CCHSIOAMB
EXPOCODE,SECT_ID,STNNBR,CASTNO,SAMPNO,BTLNBR,BTLNBR_FLAG_W,DATE,TIME,LATITUDE,LONGITUDE,DEPTH,CTDPRS,CTDTMP,CTDSAL,SALNTY,SALNTY_FLAG_W,CTDOXY,CTDOXY_FLAG_W,OXYGEN,OXYGEN_FLAG_W,SILCAT,SILCAT_FLAG_W,NITRAT,NITRAT_FLAG_W,NITRIT,NITRIT_FLAG_W,PHSPHT,PHSPHT_FLAG_W,CFC-11,CFC-11_FLAG_W,CFC-12,CFC-12_FLAG_W,CFC113,CFC113_FLAG_W,SF6,SF6_FLAG_W,TCARBN,TCARBN_FLAG_W,ALKALI,ALKALI_FLAG_W,PH_SWS,PH_SWS_FLAG_W,PH_TMP,TRITUM,TRITUM_FLAG_W,HELIUM,HELIUM_FLAG_W,DELHE3,DELHE3_FLAG_W,DELC13,DELC13_FLAG_W,DELC14,DELC14_FLAG_W,C14ERR,NEON,NEON_FLAG_W,NEONER,DOC,DOC_FLAG_W,TRITER,HELIER,DELHER,THETA,SBE35,SBE35_FLAG_W,BTL_DATE,BTL_TIME
,,,,,,,,,,,METERS,DBAR,ITS-90,PSS-78,PSS-78,,UMOL/KG,,UMOL/KG,,UMOL/KG,,UMOL/KG,,UMOL/KG,,UMOL/KG,,PMOL/KG,,PMOL/KG,,PMOL/KG,,FMOL/KG,,UMOL/KG,,UMOL/KG,,,,DEG C,TU,,NMOL/KG,,PERCNT,,/MILLE,,/MILLE,,/MILLE,NMOL/KG,,NMOL/KG,UMOL/KG,,TU,NMOL/KG,PERCNT,DEG C,ITS-90,,,
318M20091121,        P06,      24,          1,         28,         28,2,20091128,       1402,   -30.3299,   159.0798,       2347,     4.5,  23.3848,  35.5347,  35.5344,2,    216.7,2,   216.7,2,    0.63,2,    0.28,2,    0.00,2,    0.12,2,   1.894,2,   1.202,2,-999.000,1,      1.3,2,  2002.6,6,  2327.8,3,   8.0686,2,    25.00,-999.000,9,-999.0000,9, -999.00,9, -999.00,9,  -999.0,9,  -999.0,-999.000,9,-999.000,  -999.0,9,-999.000,-999.0000, -999.00,  23.3839,  23.3846,2,20091128,       1550
318M20091121,        P06,      24,          1,         27,         27,2,20091128,       1402,   -30.3299,   159.0798,       2347,    34.7,  22.7781,  35.5012,  35.5020,2,    220.8,2,   221.3,2,    0.41,2,    0.37,2,    0.00,2,    0.10,2,   1.946,2,   1.234,2,-999.000,1,    1.253,2,  2000.4,2,  2323.6,3,   8.0710,2,    25.00,-999.000,9,-999.0000,9, -999.00,9, -999.00,9,  -999.0,9,  -999.0,-999.000,9,-999.000,  -999.0,5,-999.000,-999.0000, -999.00,  22.7711,  22.7762,2,20091128,       1548
318M20091121,        P06,      24,          1,         26,         26,2,20091128,       1402,   -30.3299,   159.0798,       2347,    59.4,  21.8938,  35.5030,  35.5012,2,    221.5,2,   222.2,2,    0.39,2,    0.47,2,    0.00,2,    0.10,2,   1.988,2,   1.253,2,-999.000,1,    1.237,2,  -999.0,9,  2326.2,3,   8.0674,2,    25.00,-999.000,9,-999.0000,9, -999.00,9, -999.00,9,  -999.0,9,  -999.0,-999.000,9,-999.000,    60.7,2,-999.000,-999.0000, -999.00,  21.8821,  21.8719,2,20091128,       1546
318M20091121,        P06,      24,          1,         25,         25,2,20091128,       1402,   -30.3299,   159.0798,       2347,    85.4,  21.0651,  35.5680,  35.5692,2,    211.5,2,   204.1,2,    0.77,2,    1.90,2,    0.09,2,    0.21,2,   2.047,6,   1.277,6,-999.000,1,    1.202,6,  2030.1,2,  2329.2,3,   8.0285,6,    25.00,-999.000,9,-999.0000,9, -999.00,9, -999.00,9,  -999.0,9,  -999.0,-999.000,9,-999.000,    60.6,2,-999.000,-999.0000, -999.00,  21.0487,  21.0668,2,20091128,       1543
318M20091121,        P06,      24,          1,         24,         24,2,20091128,       1402,   -30.3299,   159.0798,       2347,   110.5,  20.5727,  35.5500,  35.5491,2,    218.3,2,   200.3,2,    0.75,2,    2.66,2,    0.04,2,    0.24,2,   2.051,2,   1.291,2,-999.000,1,    1.203,2,  -999.0,9,  2327.0,3,   8.0187,2,    25.00,-999.000,9,-999.0000,9, -999.00,9, -999.00,9,  -999.0,9,  -999.0,-999.000,9,-999.000,  -999.0,9,-999.000,-999.0000, -999.00,  20.5518,  20.5723,2,20091128,       1541
318M20091121,        P06,      24,          1,         23,         23,2,20091128,       1402,   -30.3299,   159.0798,       2347,   134.9,  20.0735,  35.5702,  35.5686,2,    192.3,2,   195.8,2,    0.73,2,    3.54,2,    0.02,2,    0.29,2,   2.089,2,   1.290,2,-999.000,1,    1.222,2,  2042.7,2,  2319.2,6,   8.0028,2,    25.00,-999.000,9,-999.0000,9, -999.00,9, -999.00,9,  -999.0,9,  -999.0,-999.000,9,-999.000,    61.2,3,-999.000,-999.0000, -999.00,  20.0484,  20.0709,2,20091128,       1539
318M20091121,        P06,      24,          1,         22,         22,2,20091128,       1402,   -30.3299,   159.0798,       2347,   166.4,  19.5100,  35.5585,  35.5603,2,    219.2,2,   218.4,2,    0.31,2,    1.66,2,    0.28,2,    0.19,2,   2.161,2,   1.344,2,-999.000,1,    1.276,2,  -999.0,9,  2317.7,3,   8.0276,2,    25.00,-999.000,9,-999.0000,9, -999.00,9, -999.00,9,  -999.0,9,  -999.0,-999.000,9,-999.000,    55.9,3,-999.000,-999.0000, -999.00,  19.4797,  19.5059,2,20091128,       1536
318M20091121,        P06,      24,          1,         21,         21,2,20091128,       1402,   -30.3299,   159.0798,       2347,   215.5,  19.1649,  35.6000,  35.5989,2,    195.7,2,   197.1,2,    0.69,2,    4.54,2,    0.01,2,    0.33,2,   2.159,2,   1.326,2,-999.000,1,    1.278,2,  2053.6,2,  2322.4,3,   7.9848,2,    25.00,-999.000,9,-999.0000,9, -999.00,9, -999.00,9,  -999.0,9,  -999.0,-999.000,9,-999.000,    56.3,3,-999.000,-999.0000, -999.00,  19.1261,  19.1637,2,20091128,       1534
318M20091121,        P06,      24,          1,         20,         20,2,20091128,       1402,   -30.3299,   159.0798,       2347,   267.4,  18.1433,  35.5953,  35.5938,2,    194.7,2,   194.4,2,    1.07,2,    5.73,2,    0.00,2,    0.41,2,   2.256,2,   1.374,2,-999.000,1,    1.337,2,  -999.0,9,  2321.8,3,   7.9516,2,    25.00,-999.000,9,-999.0000,9, -999.00,9, -999.00,9,  -999.0,9,  -999.0,-999.000,9,-999.000,  -999.0,5,-999.000,-999.0000, -999.00,  18.0969,  18.1398,2,20091128,       1531
318M20091121,        P06,      24,          1,         19,         19,2,20091128,       1402,   -30.3299,   159.0798,       2347,   319.2,  16.7419,  35.4972,  35.4981,2,    187.7,2,   186.1,2,    1.87,2,    8.28,2,    0.00,2,    0.59,2,   2.305,2,   1.360,2,-999.000,5,    1.251,2,  2088.6,2,  -999.0,5,   7.9211,2,    25.00,-999.000,9,-999.0000,9, -999.00,9, -999.00,9,  -999.0,9,  -999.0,-999.000,9,-999.000,    49.2,2,-999.000,-999.0000, -999.00,  16.6894,  16.7386,2,20091128,       1528
318M20091121,        P06,      24,          1,         18,         18,2,20091128,       1402,   -30.3299,   159.0798,       2347,   365.1,  15.3598,  35.3692,  35.3769,2,    186.4,2,   186.0,2,    2.66,2,   10.28,2,    0.00,2,    0.71,2,   2.368,2,   1.376,2,-999.000,5,    0.984,2,  -999.0,9,  -999.0,5,   7.8877,2,    25.00,-999.000,9,-999.0000,9, -999.00,9, -999.00,9,  -999.0,9,  -999.0,-999.000,9,-999.000,    45.3,2,-999.000,-999.0000, -999.00,  15.3032,  15.3606,2,20091128,       1525
318M20091121,        P06,      24,          1,         17,         17,2,20091128,       1402,   -30.3299,   159.0798,       2347,   416.8,  13.7414,  35.2474,  35.2463,2,    193.2,2,   192.7,2,    3.64,2,   12.36,2,    0.00,2,    0.86,2,   2.447,2,   1.398,2,-999.000,5,    0.989,2,  2112.7,2,  2311.7,3,   7.8543,2,    25.00,-999.000,9,-999.0000,9, -999.00,9, -999.00,9,  -999.0,9,  -999.0,-999.000,9,-999.000,    44.9,2,-999.000,-999.0000, -999.00,  13.6813,  13.7409,2,20091128,       1522
318M20091121,        P06,      24,          1,         16,         16,2,20091128,       1402,   -30.3299,   159.0798,       2347,   467.0,  13.0871,  35.1942,  35.1924,2,    196.7,2,   197.0,2,    3.83,2,   13.12,2,    0.00,2,    0.91,2,   2.197,4,   1.255,4,-999.000,5,    1.043,2,  -999.0,9,  2313.0,3,   7.8413,2,    25.00,-999.000,9,-999.0000,9, -999.00,9, -999.00,9,  -999.0,9,  -999.0,-999.000,9,-999.000,    46.1,2,-999.000,-999.0000, -999.00,  13.0218,  13.0890,2,20091128,       1519
318M20091121,        P06,      24,          1,         15,         15,2,20091128,       1402,   -30.3299,   159.0798,       2347,   538.6,  12.4587,  35.1298,  35.1293,2,    199.7,2,   200.2,2,    4.22,2,   13.93,2,    0.00,2,    0.97,2,   2.535,2,   1.435,2,-999.000,5,    1.017,2,  2121.3,2,  2311.1,3,   7.8267,2,    25.00,-999.000,9,-999.0000,9, -999.00,9, -999.00,9,  -999.0,9,  -999.0,-999.000,9,-999.000,    42.4,2,-999.000,-999.0000, -999.00,  12.3856,  12.4577,2,20091128,       1516
318M20091121,        P06,      24,          1,         14,         14,2,20091128,       1402,   -30.3299,   159.0798,       2347,   632.6,  11.4020,  34.9867,  34.9870,2,    199.5,2,   199.4,2,    5.21,2,   15.97,2,    0.00,2,    1.10,2,   2.519,2,   1.411,2,-999.000,5,    0.992,2,  2129.8,2,  2307.4,3,   7.7987,2,    25.00,-999.000,9,-999.0000,9, -999.00,9, -999.00,9,  -999.0,9,  -999.0,-999.000,9,-999.000,  -999.0,9,-999.000,-999.0000, -999.00,  11.3207,  11.4066,2,20091128,       1512
318M20091121,        P06,      24,          1,         13,         13,2,20091128,       1402,   -30.3299,   159.0798,       2347,   738.2,   9.5777,  34.7361,  34.7363,2,    199.2,2,   199.6,2,    8.04,2,   20.01,2,    0.00,2,    1.38,2,   2.339,2,   1.267,2,-999.000,5,    0.554,2,  2141.0,2,  2296.2,3,   7.7503,2,    25.00,-999.000,9,-999.0000,9, -999.00,9, -999.00,9,  -999.0,9,  -999.0,-999.000,9,-999.000,    37.8,2,-999.000,-999.0000, -999.00,   9.4922,   9.5774,2,20091128,       1508
318M20091121,        P06,      24,          1,         12,         12,2,20091128,       1402,   -30.3299,   159.0798,       2347,   839.3,   7.7741,  34.5412,  34.5413,2,    197.4,2,   198.2,2,   13.31,2,   24.06,2,    0.00,2,    1.65,2,   1.639,2,   0.855,2,-999.000,5,    0.218,2,  2156.1,2,  2291.1,3,   7.7100,2,    25.00,-999.000,9,-999.0000,9, -999.00,9, -999.00,9,  -999.0,9,  -999.0,-999.000,9,-999.000,  -999.0,9,-999.000,-999.0000, -999.00,   7.6876,   7.7752,2,20091128,       1504
318M20091121,        P06,      24,          1,         11,         11,2,20091128,       1402,   -30.3299,   159.0798,       2347,   941.9,   6.7108,  34.4664,  34.4670,2,    196.5,2,   196.9,2,   19.60,2,   26.45,2,    0.00,2,    1.83,2,   1.124,2,   0.577,2,-999.000,5,    0.153,2,  2167.2,2,  2283.7,3,   7.6887,2,    25.00,-999.000,9,-999.0000,9, -999.00,9, -999.00,9,  -999.0,9,  -999.0,-999.000,9,-999.000,    38.4,2,-999.000,-999.0000, -999.00,   6.6206,   6.7116,2,20091128,       1459
318M20091121,        P06,      24,          1,         10,         10,2,20091128,       1402,   -30.3299,   159.0798,       2347,  1044.0,   5.9901,  34.4460,  34.4450,2,    191.1,2,   191.0,2,   27.36,2,   28.27,2,    0.00,2,    1.97,2,   0.764,2,   0.391,2,-999.000,5,    0.197,2,  -999.0,9,  2310.4,3,   7.6636,2,    25.00,-999.000,9,-999.0000,9, -999.00,9, -999.00,9,  -999.0,9,  -999.0,-999.000,9,-999.000,  -999.0,9,-999.000,-999.0000, -999.00,   5.8951,   5.9902,2,20091128,       1455
318M20091121,        P06,      24,          1,          9,          9,2,20091128,       1402,   -30.3299,   159.0798,       2347,  1143.8,   5.3063,  34.4487,  34.4470,2,    184.7,2,   183.9,2,   37.40,2,   30.04,2,    0.00,2,    2.08,2,   0.482,2,   0.261,2,-999.000,5,        0,2,  -999.0,9,  -999.0,5,   7.6470,6,    25.00,-999.000,9,-999.0000,9, -999.00,9, -999.00,9,  -999.0,9,  -999.0,-999.000,9,-999.000,  -999.0,9,-999.000,-999.0000, -999.00,   5.2073,   5.3061,2,20091128,       1450
318M20091121,        P06,      24,          1,          8,          8,2,20091128,       1402,   -30.3299,   159.0798,       2347,  1249.2,   4.5564,  34.4751,  34.4737,2,    175.7,2,   173.6,2,   52.23,2,   31.81,2,    0.00,2,    2.23,2,   0.259,2,   0.146,2,-999.000,5,        0,2,  -999.0,9,  -999.0,5,-999.0000,5,  -999.00,-999.000,9,-999.0000,9, -999.00,9, -999.00,9,  -999.0,9,  -999.0,-999.000,9,-999.000,  -999.0,9,-999.000,-999.0000, -999.00,   4.4543,   4.5538,2,20091128,       1444
318M20091121,        P06,      24,          1,          7,          7,2,20091128,       1402,   -30.3299,   159.0798,       2347,  1349.6,   4.1423,  34.4989,  34.4975,2,    167.1,2,   166.7,2,   62.36,2,   32.72,2,    0.00,2,    2.31,2,   0.161,2,   0.089,2,-999.000,5,        0,2,  -999.0,9,  -999.0,5,   7.6106,2,    25.00,-999.000,9,-999.0000,9, -999.00,9, -999.00,9,  -999.0,9,  -999.0,-999.000,9,-999.000,    35.3,2,-999.000,-999.0000, -999.00,   4.0352,   4.1402,2,20091128,       1440
318M20091121,        P06,      24,          1,          6,          6,2,20091128,       1402,   -30.3299,   159.0798,       2347,  1444.9,   3.7966,  34.5220,  34.5229,2,    161.1,2,   160.9,2,   71.70,2,   33.58,2,    0.00,2,    2.37,2,   0.095,2,   0.052,2,-999.000,5,        0,2,  -999.0,9,  -999.0,5,   7.5913,2,    25.00,-999.000,9,-999.0000,9, -999.00,9, -999.00,9,  -999.0,9,  -999.0,-999.000,9,-999.000,  -999.0,9,-999.000,-999.0000, -999.00,   3.6847,   3.7937,2,20091128,       1435
318M20091121,        P06,      24,          1,          5,          5,2,20091128,       1402,   -30.3299,   159.0798,       2347,  1548.0,   3.4274,  34.5500,  34.5493,2,    155.5,2,   156.3,2,   80.84,2,   34.24,2,    0.00,2,    2.42,2,   0.055,2,   0.031,2,-999.000,5,        0,2,  2259.9,2,  2357.2,3,   7.5915,2,    25.00,-999.000,9,-999.0000,9, -999.00,9, -999.00,9,  -999.0,9,  -999.0,-999.000,9,-999.000,  -999.0,9,-999.000,-999.0000, -999.00,   3.3106,   3.4280,2,20091128,       1431
318M20091121,        P06,      24,          1,          4,          4,2,20091128,       1402,   -30.3299,   159.0798,       2347,  1680.1,   3.0391,  34.5836,  34.5831,2,    152.2,2,   151.8,2,   90.02,2,   34.81,2,    0.00,2,    2.46,2,   0.032,2,   0.016,2,-999.000,5,        0,2,  -999.0,9,  2369.1,3,   7.5815,2,    25.00,-999.000,9,-999.0000,9, -999.00,9, -999.00,9,  -999.0,9,  -999.0,-999.000,9,-999.000,  -999.0,9,-999.000,-999.0000, -999.00,   2.9155,   3.0389,2,20091128,       1425
318M20091121,        P06,      24,          1,          3,          3,2,20091128,       1402,   -30.3299,   159.0798,       2347,  1882.5,   2.6572,  34.6231,  34.6227,2,    153.7,2,   155.0,2,   96.29,2,   34.76,2,    0.00,2,    2.46,2,   0.015,2,   0.007,2,-999.000,1,        0,2,  -999.0,9,  2373.3,6,   7.5781,2,    25.00,-999.000,9,-999.0000,9, -999.00,9, -999.00,9,  -999.0,9,  -999.0,-999.000,9,-999.000,    37.2,2,-999.000,-999.0000, -999.00,   2.5211,   2.6579,2,20091128,       1419
318M20091121,        P06,      24,          1,          2,          2,2,20091128,       1402,   -30.3299,   159.0798,       2347,  2118.8,   2.3774,  34.6576,  34.6571,2,    161.1,2,   162.9,2,   97.74,2,   34.13,2,    0.00,2,    2.41,2,   0.011,2,   0.005,2,-999.000,1,        0,2,  -999.0,9,  2371.1,2,   7.5809,2,    25.00,-999.000,9,-999.0000,9, -999.00,9, -999.00,9,  -999.0,9,  -999.0,-999.000,9,-999.000,  -999.0,9,-999.000,-999.0000, -999.00,   2.2247,   2.3779,2,20091128,       1411
318M20091121,        P06,      24,          1,          1,          1,2,20091128,       1402,   -30.3299,   159.0798,       2347,  2367.3,   2.1907,  34.6836,  34.6829,2,    169.7,2,   169.7,2,   96.69,2,   33.36,2,    0.00,2,    2.36,2,   0.014,2,   0.007,2,-999.000,1,        0,2,  2269.1,6,  2371.9,2,   7.5960,2,    25.00,-999.000,9,-999.0000,9, -999.00,9, -999.00,9,  -999.0,9,  -999.0,-999.000,9,-999.000,    35.9,2,-999.000,-999.0000, -999.00,   2.0189,   2.1912,2,20091128,       1402