BOTTLE,20220818CCHSIOAMB
EXPOCODE,SECT_ID,STNNBR,CASTNO,SAMPNO,BTLNBR,BTLNBR_FLAG_W,DATE,TIME,LATITUDE,LONGITUDE,DEPTH,CTDPRS,CTDTMP,CTDSAL,SALNTY,SALNTY_FLAG_W,CTDOXY,CTDOXY_FLAG_W,OXYGEN,OXYGEN_FLAG_W,SILCAT,SILCAT_FLAG_W,NITRAT,NITRAT_FLAG_W,NITRIT,NITRIT_FLAG_W,PHSPHT,PHSPHT_FLAG_W,CFC-11,CFC-11_FLAG_W,CFC-12,CFC-12_FLAG_W,CFC113,CFC113_FLAG_W,SF6,SF6_FLAG_W,TCARBN,TCARBN_FLAG_W,ALKALI,ALKALI_FLAG_W,PH_SWS,PH_SWS_FLAG_W,PH_TMP,TRITUM,TRITUM_FLAG_W,HELIUM,HELIUM_FLAG_W,DELHE3,DELHE3_FLAG_W,DELC13,DELC13_FLAG_W,DELC14,DELC14_FLAG_W,C14ERR,NEON,NEON_FLAG_W,NEONER,DOC,DOC_FLAG_W,TRITER,HELIER,DELHER,THETA,SBE35,SBE35_FLAG_W,BTL_DATE,BTL_TIME
,,,,,,,,,,,METERS,DBAR,ITS-90,PSS-78,PSS-78,,UMOL/KG,,UMOL/KG,,UMOL/KG,,UMOL/KG,,UMOL/KG,,UMOL/KG,,PMOL/KG,,PMOL/KG,,PMOL/KG,,FMOL/KG,,UMOL/KG,,UMOL/KG,,,,DEG C,TU,,NMOL/KG,,PERCNT,,/MILLE,,/MILLE,,/MILLE,NMOL/KG,,NMOL/KG,UMOL/KG,,TU,NMOL/KG,PERCNT,DEG C,ITS-90,,,
318M20091121,        P06,      28,          1,         22,         22,2,20091129,       1214,   -30.0803,   161.0001,       1270,     5.8,  23.0486,  35.5819,  35.5836,2,    217.9,2,   217.7,2,    0.26,2,    0.00,2,    0.00,2,    0.11,2,   1.959,2,   1.214,2,-999.000,1,    1.233,2,  2018.2,2,  -999.0,9,-999.0000,9,  -999.00,-999.000,9,-999.0000,9, -999.00,9, -999.00,9,  -999.0,9,  -999.0,-999.000,9,-999.000,    61.6,2,-999.000,-999.0000, -999.00,  23.0474,  23.0465,2,20091129,       1311
318M20091121,        P06,      28,          1,         21,         21,2,20091129,       1214,   -30.0803,   161.0001,       1270,    19.6,  22.1465,  35.5565,  35.5595,2,    226.7,2,   227.0,2,    0.01,2,    0.00,2,    0.00,2,    0.10,2,   2.047,6,   1.258,6,-999.000,1,    1.156,6,  -999.0,9,  2328.3,2,   8.0569,2,    25.00,-999.000,9,-999.0000,9, -999.00,9, -999.00,9,  -999.0,9,  -999.0,-999.000,9,-999.000,    57.9,2,-999.000,-999.0000, -999.00,  22.1426,  22.1227,2,20091129,       1309
318M20091121,        P06,      28,          1,         20,         20,2,20091129,       1214,   -30.0803,   161.0001,       1270,    40.5,  19.7391,  35.5973,  35.5973,2,    241.0,2,   236.6,2,   -0.01,2,    0.00,2,    0.00,2,    0.11,2,   2.238,2,   1.370,2,-999.000,1,    1.165,2,  -999.0,9,  -999.0,9,-999.0000,9,  -999.00,-999.000,9,-999.0000,9, -999.00,9, -999.00,9,  -999.0,9,  -999.0,-999.000,9,-999.000,    56.3,2,-999.000,-999.0000, -999.00,  19.7317,  19.7387,2,20091129,       1307
318M20091121,        P06,      28,          1,         19,         19,2,20091129,       1214,   -30.0803,   161.0001,       1270,    65.5,  18.3298,  35.5800,  35.5799,2,    211.5,2,   210.9,2,    0.44,2,    2.15,2,    0.03,2,    0.28,2,   2.283,2,   1.386,2,-999.000,1,    1.079,2,  1983.8,3,  2327.7,2,   7.9952,2,    25.00,-999.000,9,-999.0000,9, -999.00,9, -999.00,9,  -999.0,9,  -999.0,-999.000,9,-999.000,    49.4,2,-999.000,-999.0000, -999.00,  18.3184,  18.3305,2,20091129,       1305
318M20091121,        P06,      28,          1,         18,         18,2,20091129,       1214,   -30.0803,   161.0001,       1270,    90.8,  17.9364,  35.5733,  35.5728,2,    203.7,2,   205.7,2,    0.88,2,    3.13,2,    0.01,2,    0.35,2,   2.302,2,   1.396,2,-999.000,1,    1.163,2,  -999.0,9,  -999.0,9,-999.0000,9,  -999.00,-999.000,9,-999.0000,9, -999.00,9, -999.00,9,  -999.0,9,  -999.0,-999.000,9,-999.000,    48.8,2,-999.000,-999.0000, -999.00,  17.9208,  17.9341,2,20091129,       1303
318M20091121,        P06,      28,          1,         17,         17,2,20091129,       1214,   -30.0803,   161.0001,       1270,   116.0,  17.3320,  35.5415,  35.5453,2,    194.3,2,   193.8,2,    1.32,2,    5.12,2,    0.01,2,    0.49,2,   2.305,2,   1.367,2,-999.000,1,     0.97,2,  2088.6,2,  2329.0,6,   7.9462,2,    25.00,-999.000,9,-999.0000,9, -999.00,9, -999.00,9,  -999.0,9,  -999.0,-999.000,9,-999.000,    46.9,2,-999.000,-999.0000, -999.00,  17.3126,  17.3690,3,20091129,       1301
318M20091121,        P06,      28,          1,         16,         16,2,20091129,       1214,   -30.0803,   161.0001,       1270,   140.8,  17.0493,  35.5211,  35.5216,2,    189.0,2,   189.2,2,    1.53,2,    6.14,2,    0.01,2,    0.55,2,   2.307,2,   1.365,2,-999.000,1,    0.942,2,  -999.0,9,  -999.0,9,-999.0000,9,  -999.00,-999.000,9,-999.0000,9, -999.00,9, -999.00,9,  -999.0,9,  -999.0,-999.000,9,-999.000,    45.5,2,-999.000,-999.0000, -999.00,  17.0260,  17.0496,2,20091129,       1259
318M20091121,        P06,      28,          1,         15,         15,2,20091129,       1214,   -30.0803,   161.0001,       1270,   185.9,  16.5228,  35.5021,  35.5021,2,    197.4,2,   197.3,2,    1.75,2,    5.82,2,    0.01,2,    0.54,2,   2.363,2,   1.396,2,-999.000,1,    1.039,2,  2087.2,2,  2321.3,2,   7.9417,3,    25.00,-999.000,9,-999.0000,9, -999.00,9, -999.00,9,  -999.0,9,  -999.0,-999.000,9,-999.000,    48.5,2,-999.000,-999.0000, -999.00,  16.4926,  16.5237,2,20091129,       1257
318M20091121,        P06,      28,          1,         14,         14,2,20091129,       1214,   -30.0803,   161.0001,       1270,   236.5,  15.4650,  35.3949,  35.3950,2,    187.2,2,   186.9,2,    2.42,2,    8.47,2,    0.00,2,    0.70,2,   2.372,2,   1.382,2,-999.000,1,    0.896,2,  -999.0,9,  -999.0,9,-999.0000,9,  -999.00,-999.000,9,-999.0000,9, -999.00,9, -999.00,9,  -999.0,9,  -999.0,-999.000,9,-999.000,    48.8,2,-999.000,-999.0000, -999.00,  15.4283,  15.4735,2,20091129,       1254
318M20091121,        P06,      28,          1,         13,         13,2,20091129,       1214,   -30.0803,   161.0001,       1270,   286.5,  14.2516,  35.2923,  35.2928,2,    189.4,2,   189.2,2,    3.10,2,   10.20,2,    0.00,2,    0.82,2,   2.429,2,   1.390,2,-999.000,1,    0.893,2,  2102.0,3,  2320.6,2,   7.8629,2,    25.00,-999.000,9,-999.0000,9, -999.00,9, -999.00,9,  -999.0,9,  -999.0,-999.000,9,-999.000,    52.2,2,-999.000,-999.0000, -999.00,  14.2095,  14.2522,2,20091129,       1252
318M20091121,        P06,      28,          1,         12,         12,2,20091129,       1214,   -30.0803,   161.0001,       1270,   336.1,  13.2330,  35.1926,  35.1951,2,    193.1,2,   192.5,2,    3.78,2,   11.68,2,    0.00,2,    0.92,2,   2.476,2,   1.385,2,-999.000,1,     0.91,2,  -999.0,9,  -999.0,9,-999.0000,9,  -999.00,-999.000,9,-999.0000,9, -999.00,9, -999.00,9,  -999.0,9,  -999.0,-999.000,9,-999.000,    46.8,2,-999.000,-999.0000, -999.00,  13.1859,  13.2162,2,20091129,       1249
318M20091121,        P06,      28,          1,         11,         11,2,20091129,       1214,   -30.0803,   161.0001,       1270,   387.2,  12.0437,  35.0620,  35.0632,2,    198.5,2,   197.2,2,    4.69,2,   13.47,2,    0.00,2,    1.04,2,   2.478,2,   1.389,2,-999.000,1,    0.914,2,  2114.5,2,  2314.4,2,   7.8185,6,    25.00,-999.000,9,-999.0000,9, -999.00,9, -999.00,9,  -999.0,9,  -999.0,-999.000,9,-999.000,    45.1,2,-999.000,-999.0000, -999.00,  11.9926,  12.0446,2,20091129,       1247
318M20091121,        P06,      28,          1,         10,         10,2,20091129,       1214,   -30.0803,   161.0001,       1270,   437.0,  11.4189,  34.9862,  34.9895,2,    198.5,2,   198.0,2,    5.13,2,   14.74,2,    0.00,2,    1.11,2,   2.484,2,   1.389,2,-999.000,1,    0.694,2,  -999.0,9,  -999.0,9,-999.0000,9,  -999.00,-999.000,9,-999.0000,9, -999.00,9, -999.00,9,  -999.0,9,  -999.0,-999.000,9,-999.000,    39.5,2,-999.000,-999.0000, -999.00,  11.3631,  11.4205,2,20091129,       1244
318M20091121,        P06,      28,          1,          9,          9,2,20091129,       1214,   -30.0803,   161.0001,       1270,   486.4,  10.6191,  34.8772,  34.8821,2,    198.1,2,   198.1,2,    6.05,2,   16.41,2,    0.00,2,    1.22,2,   2.459,2,   1.340,2,-999.000,1,    0.696,2,  2123.9,2,  2300.4,2,   7.7764,2,    25.00,-999.000,9,-999.0000,9, -999.00,9, -999.00,9,  -999.0,9,  -999.0,-999.000,9,-999.000,    45.7,2,-999.000,-999.0000, -999.00,  10.5597,  10.6325,2,20091129,       1242
318M20091121,        P06,      28,          1,          8,          8,2,20091129,       1214,   -30.0803,   161.0001,       1270,   567.7,   9.0877,  34.6804,  34.6815,2,    203.9,2,   200.1,2,    8.84,2,   19.94,2,    0.00,2,    1.45,2,   2.252,2,   1.197,2,-999.000,1,    0.717,2,  2132.1,3,  -999.0,9,-999.0000,9,  -999.00,-999.000,9,-999.0000,9, -999.00,9, -999.00,9,  -999.0,9,  -999.0,-999.000,9,-999.000,    40.5,2,-999.000,-999.0000, -999.00,   9.0246,   9.0927,2,20091129,       1239
318M20091121,        P06,      28,          1,          7,          7,2,20091129,       1214,   -30.0803,   161.0001,       1270,   668.6,   7.7539,  34.5444,  34.5479,2,    197.0,2,   197.7,2,   13.27,2,   23.06,2,    0.00,2,    1.65,2,   1.643,2,   0.850,2,-999.000,1,    0.415,2,  2145.8,3,  2289.9,2,   7.7083,2,    25.00,-999.000,9,-999.0000,9, -999.00,9, -999.00,9,  -999.0,9,  -999.0,-999.000,9,-999.000,  -999.0,9,-999.000,-999.0000, -999.00,   7.6858,   7.7555,2,20091129,       1235
318M20091121,        P06,      28,          1,          6,          6,2,20091129,       1214,   -30.0803,   161.0001,       1270,   770.0,   6.9537,  34.4969,  34.4984,2,    195.0,2,   193.8,2,   19.11,2,   25.26,2,    0.00,2,    1.80,2,   1.208,2,   0.616,2,-999.000,1,    0.172,2,  2157.0,2,  -999.0,9,-999.0000,9,  -999.00,-999.000,9,-999.0000,9, -999.00,9, -999.00,9,  -999.0,9,  -999.0,-999.000,9,-999.000,    41.1,2,-999.000,-999.0000, -999.00,   6.8795,   6.9550,2,20091129,       1232
318M20091121,        P06,      28,          1,          5,          5,2,20091129,       1214,   -30.0803,   161.0001,       1270,   869.3,   6.2682,  34.4651,  34.4656,2,    189.9,2,   191.2,2,   25.44,2,   26.99,2,    0.00,2,    1.92,2,   0.870,2,   0.444,2,-999.000,1,    0.063,2,  2168.8,2,  2301.2,2,   7.6713,2,    25.00,-999.000,9,-999.0000,9, -999.00,9, -999.00,9,  -999.0,9,  -999.0,-999.000,9,-999.000,  -999.0,9,-999.000,-999.0000, -999.00,   6.1883,   6.2687,2,20091129,       1228
318M20091121,        P06,      28,          1,          4,          4,2,20091129,       1214,   -30.0803,   161.0001,       1270,   971.1,   5.5119,  34.4542,  34.4543,2,    184.0,2,   184.4,2,   34.61,2,   28.84,2,    0.00,2,    2.04,2,   0.569,2,   0.295,2,-999.000,1,        0,2,  -999.0,9,  -999.0,9,-999.0000,9,  -999.00,-999.000,9,-999.0000,9, -999.00,9, -999.00,9,  -999.0,9,  -999.0,-999.000,9,-999.000,    38.2,2,-999.000,-999.0000, -999.00,   5.4275,   5.5106,2,20091129,       1225
318M20091121,        P06,      28,          1,          3,          3,2,20091129,       1214,   -30.0803,   161.0001,       1270,  1070.9,   4.8714,  34.4657,  34.4665,2,    178.3,2,   178.2,2,   45.94,2,   30.27,2,    0.00,2,    2.16,2,   0.372,2,   0.198,2,-999.000,1,        0,2,  2202.6,2,  2317.0,6,   7.6354,2,    25.00,-999.000,9,-999.0000,9, -999.00,9, -999.00,9,  -999.0,9,  -999.0,-999.000,9,-999.000,  -999.0,9,-999.000,-999.0000, -999.00,   4.7827,   4.8731,2,20091129,       1222
318M20091121,        P06,      28,          1,          2,          2,2,20091129,       1214,   -30.0803,   161.0001,       1270,  1173.2,   4.1899,  34.4991,  34.5018,2,    169.3,2,   168.7,2,   61.34,2,   31.80,2,    0.00,2,    2.27,2,   0.207,2,   0.120,2,-999.000,1,        0,2,  -999.0,9,  -999.0,9,-999.0000,9,  -999.00,-999.000,9,-999.0000,9, -999.00,9, -999.00,9,  -999.0,9,  -999.0,-999.000,9,-999.000,  -999.0,9,-999.000,-999.0000, -999.00,   4.0979,   4.1922,2,20091129,       1218
318M20091121,        P06,      28,          1,          1,          1,2,20091129,       1214,   -30.0803,   161.0001,       1270,  1270.3,   3.7218,  34.5324,  34.5318,2,    161.1,2,   161.8,2,   72.28,2,   32.71,2,    0.00,2,    2.35,2,   0.124,2,   0.071,2,-999.000,1,        0,2,  2240.1,2,  2347.7,2,   7.6146,2,    25.00,-999.000,9,-999.0000,9, -999.00,9, -999.00,9,  -999.0,9,  -999.0,-999.000,9,-999.000,    37.1,2,-999.000,-999.0000, -999.00,   3.6258,   3.7171,2,20091129,       1214