BOTTLE,20220818CCHSIOAMB
EXPOCODE,SECT_ID,STNNBR,CASTNO,SAMPNO,BTLNBR,BTLNBR_FLAG_W,DATE,TIME,LATITUDE,LONGITUDE,DEPTH,CTDPRS,CTDTMP,CTDSAL,SALNTY,SALNTY_FLAG_W,CTDOXY,CTDOXY_FLAG_W,OXYGEN,OXYGEN_FLAG_W,SILCAT,SILCAT_FLAG_W,NITRAT,NITRAT_FLAG_W,NITRIT,NITRIT_FLAG_W,PHSPHT,PHSPHT_FLAG_W,CFC-11,CFC-11_FLAG_W,CFC-12,CFC-12_FLAG_W,CFC113,CFC113_FLAG_W,SF6,SF6_FLAG_W,TCARBN,TCARBN_FLAG_W,ALKALI,ALKALI_FLAG_W,PH_SWS,PH_SWS_FLAG_W,PH_TMP,TRITUM,TRITUM_FLAG_W,HELIUM,HELIUM_FLAG_W,DELHE3,DELHE3_FLAG_W,DELC13,DELC13_FLAG_W,DELC14,DELC14_FLAG_W,C14ERR,NEON,NEON_FLAG_W,NEONER,DOC,DOC_FLAG_W,TRITER,HELIER,DELHER,THETA,SBE35,SBE35_FLAG_W,BTL_DATE,BTL_TIME
,,,,,,,,,,,METERS,DBAR,ITS-90,PSS-78,PSS-78,,UMOL/KG,,UMOL/KG,,UMOL/KG,,UMOL/KG,,UMOL/KG,,UMOL/KG,,PMOL/KG,,PMOL/KG,,PMOL/KG,,FMOL/KG,,UMOL/KG,,UMOL/KG,,,,DEG C,TU,,NMOL/KG,,PERCNT,,/MILLE,,/MILLE,,/MILLE,NMOL/KG,,NMOL/KG,UMOL/KG,,TU,NMOL/KG,PERCNT,DEG C,ITS-90,,,
318M20091121,        P06,      29,          1,         20,         20,2,20091129,       1636,   -30.0800,   161.5000,       1176,     4.9,  23.7659,  35.4740,  35.4741,2,    213.9,2,   213.7,2,    0.43,2,    0.00,2,    0.00,2,    0.12,2,   1.955,2,   1.199,2,-999.000,1,    1.132,2,  2008.8,6,  2322.2,6,   8.0795,2,    25.00,-999.000,9,-999.0000,9, -999.00,9, -999.00,9,  -999.0,9,  -999.0,-999.000,9,-999.000,  -999.0,9,-999.000,-999.0000, -999.00,  23.7649,  23.7648,2,20091129,       1746
318M20091121,        P06,      29,          1,         19,         19,2,20091129,       1636,   -30.0800,   161.5000,       1176,    24.4,  23.1634,  35.4847,  35.4852,2,    217.2,2,   217.6,2,    0.40,2,    0.00,2,    0.00,2,    0.10,2,   2.017,6,   1.235,6,-999.000,1,   1.1325,6,  2011.2,2,  2320.6,2,   8.0750,2,    25.00,-999.000,9,-999.0000,9, -999.00,9, -999.00,9,  -999.0,9,  -999.0,-999.000,9,-999.000,  -999.0,9,-999.000,-999.0000, -999.00,  23.1584,  23.1613,2,20091129,       1744
318M20091121,        P06,      29,          1,         18,         18,2,20091129,       1636,   -30.0800,   161.5000,       1176,    52.0,  20.8305,  35.5460,  35.5468,2,    228.4,2,   229.0,2,    0.36,2,    0.00,2,    0.00,2,    0.11,2,   2.195,2,   1.337,2,-999.000,1,    1.211,2,  -999.0,9,  -999.0,9,-999.0000,9,  -999.00,-999.000,9,-999.0000,9, -999.00,9, -999.00,9,  -999.0,9,  -999.0,-999.000,9,-999.000,  -999.0,9,-999.000,-999.0000, -999.00,  20.8206,  20.8078,2,20091129,       1741
318M20091121,        P06,      29,          1,         17,         17,2,20091129,       1636,   -30.0800,   161.5000,       1176,    77.9,  19.6715,  35.5670,  35.5664,2,    223.8,2,   222.6,2,    0.57,2,    0.00,2,    0.02,2,    0.15,2,   2.266,2,   1.374,2,-999.000,1,    1.241,2,  2040.1,2,  2325.3,2,   8.0306,6,    25.00,-999.000,9,-999.0000,9, -999.00,9, -999.00,9,  -999.0,9,  -999.0,-999.000,9,-999.000,  -999.0,9,-999.000,-999.0000, -999.00,  19.6572,  19.6718,2,20091129,       1738
318M20091121,        P06,      29,          1,         16,         16,2,20091129,       1636,   -30.0800,   161.5000,       1176,    98.2,  19.0683,  35.5792,  35.5773,2,    214.6,2,   215.1,2,    0.54,2,    1.06,2,    0.22,2,    0.23,2,   2.314,2,   1.390,2,-999.000,1,    1.216,2,  -999.0,9,  -999.0,9,-999.0000,9,  -999.00,-999.000,9,-999.0000,9, -999.00,9, -999.00,9,  -999.0,9,  -999.0,-999.000,9,-999.000,  -999.0,9,-999.000,-999.0000, -999.00,  19.0507,  19.0694,2,20091129,       1735
318M20091121,        P06,      29,          1,         15,         15,2,20091129,       1636,   -30.0800,   161.5000,       1176,   148.8,  17.7737,  35.5608,  35.5599,2,    209.4,2,   206.9,2,    0.97,2,    3.43,2,    0.01,2,    0.35,2,   2.394,2,   1.412,2,-999.000,1,    1.071,2,  2070.2,2,  2279.2,4,-999.0000,5,  -999.00,-999.000,9,-999.0000,9, -999.00,9, -999.00,9,  -999.0,9,  -999.0,-999.000,9,-999.000,  -999.0,9,-999.000,-999.0000, -999.00,  17.7483,  17.7727,2,20091129,       1732
318M20091121,        P06,      29,          1,         14,         14,2,20091129,       1636,   -30.0800,   161.5000,       1176,   199.2,  16.7514,  35.5162,  35.5148,2,    201.8,2,   199.2,2,    1.63,2,    5.65,2,    0.01,2,    0.49,2,   2.442,2,   1.423,2,-999.000,1,    0.987,2,  -999.0,9,  -999.0,9,-999.0000,9,  -999.00,-999.000,9,-999.0000,9, -999.00,9, -999.00,9,  -999.0,9,  -999.0,-999.000,9,-999.000,  -999.0,9,-999.000,-999.0000, -999.00,  16.7187,  16.7563,2,20091129,       1728
318M20091121,        P06,      29,          1,         13,         13,2,20091129,       1636,   -30.0800,   161.5000,       1176,   249.9,  15.8961,  35.4380,  35.4384,2,    188.6,2,   188.9,2,    2.31,2,    8.02,2,    0.00,2,    0.64,2,   2.478,2,   1.412,2,-999.000,1,    0.901,2,  2104.2,2,  2319.9,2,   7.9077,2,    25.00,-999.000,9,-999.0000,9, -999.00,9, -999.00,9,  -999.0,9,  -999.0,-999.000,9,-999.000,  -999.0,9,-999.000,-999.0000, -999.00,  15.8565,  15.8967,2,20091129,       1724
318M20091121,        P06,      29,          1,         12,         12,2,20091129,       1636,   -30.0800,   161.5000,       1176,   300.6,  14.6893,  35.3289,  35.3304,2,    189.6,2,   189.8,2,    3.21,2,   10.59,2,    0.00,2,    0.76,2,   2.483,2,   1.417,2,-999.000,1,    0.918,2,  -999.0,9,  -999.0,9,-999.0000,9,  -999.00,-999.000,9,-999.0000,9, -999.00,9, -999.00,9,  -999.0,9,  -999.0,-999.000,9,-999.000,  -999.0,9,-999.000,-999.0000, -999.00,  14.6441,  14.6884,2,20091129,       1721
318M20091121,        P06,      29,          1,         11,         11,2,20091129,       1636,   -30.0800,   161.5000,       1176,   351.7,  13.4234,  35.2076,  35.2083,2,    192.3,2,   192.0,2,    3.87,2,   12.56,2,    0.00,2,    0.89,2,   2.557,2,   1.439,2,-999.000,1,    0.815,2,  2131.4,3,  2311.2,2,   7.8452,2,    25.00,-999.000,9,-999.0000,9, -999.00,9, -999.00,9,  -999.0,9,  -999.0,-999.000,9,-999.000,  -999.0,9,-999.000,-999.0000, -999.00,  13.3736,  13.4281,2,20091129,       1718
318M20091121,        P06,      29,          1,         10,         10,2,20091129,       1636,   -30.0800,   161.5000,       1176,   401.0,  12.4679,  35.1112,  35.1103,2,    195.7,2,   195.7,2,    4.54,2,   13.97,2,    0.00,2,    0.98,2,   2.567,2,   1.432,2,-999.000,1,    0.785,2,  -999.0,9,  -999.0,9,-999.0000,9,  -999.00,-999.000,9,-999.0000,9, -999.00,9, -999.00,9,  -999.0,9,  -999.0,-999.000,9,-999.000,  -999.0,9,-999.000,-999.0000, -999.00,  12.4138,  12.4656,2,20091129,       1715
318M20091121,        P06,      29,          1,          9,          9,2,20091129,       1636,   -30.0800,   161.5000,       1176,   452.9,  11.5205,  34.9917,  34.9904,2,    196.0,2,   196.2,2,    5.44,2,   15.88,2,    0.00,2,    1.09,2,   2.538,2,   1.391,2,-999.000,1,    0.766,2,  2136.9,3,  2303.3,2,   7.8027,2,    25.00,-999.000,9,-999.0000,9, -999.00,9, -999.00,9,  -999.0,9,  -999.0,-999.000,9,-999.000,  -999.0,9,-999.000,-999.0000, -999.00,  11.4623,  11.5220,2,20091129,       1712
318M20091121,        P06,      29,          1,          8,          8,2,20091129,       1636,   -30.0800,   161.5000,       1176,   499.0,  10.7890,  34.8983,  34.8937,2,    196.9,2,   196.9,2,    6.34,2,   17.45,2,    0.00,2,    1.19,2,   2.536,2,   1.368,2,-999.000,1,    0.722,2,  -999.0,9,  -999.0,9,-999.0000,9,  -999.00,-999.000,9,-999.0000,9, -999.00,9, -999.00,9,  -999.0,9,  -999.0,-999.000,9,-999.000,  -999.0,9,-999.000,-999.0000, -999.00,  10.7274,  10.7934,2,20091129,       1709
318M20091121,        P06,      29,          1,          7,          7,2,20091129,       1636,   -30.0800,   161.5000,       1176,   600.6,   9.0355,  34.6806,  34.6793,2,    198.4,2,   198.1,2,    9.58,2,   21.34,2,    0.00,2,    1.44,2,   2.267,2,   1.197,2,-999.000,1,    0.503,2,  2153.1,3,  2292.8,2,   7.7372,2,    25.00,-999.000,9,-999.0000,9, -999.00,9, -999.00,9,  -999.0,9,  -999.0,-999.000,9,-999.000,  -999.0,9,-999.000,-999.0000, -999.00,   8.9688,   9.0349,2,20091129,       1706
318M20091121,        P06,      29,          1,          6,          6,2,20091129,       1636,   -30.0800,   161.5000,       1176,   702.5,   7.6047,  34.5332,  34.5327,2,    197.9,2,   198.1,2,   14.47,2,   24.58,2,    0.00,2,    1.66,2,   1.611,2,   0.826,2,-999.000,1,    0.155,2,  -999.0,9,  -999.0,9,-999.0000,9,  -999.00,-999.000,9,-999.0000,9, -999.00,9, -999.00,9,  -999.0,9,  -999.0,-999.000,9,-999.000,  -999.0,9,-999.000,-999.0000, -999.00,   7.5338,   7.6077,2,20091129,       1702
318M20091121,        P06,      29,          1,          5,          5,2,20091129,       1636,   -30.0800,   161.5000,       1176,   806.0,   6.6288,  34.4721,  34.4696,2,    194.8,2,   195.2,2,   21.00,2,   27.02,2,    0.00,2,    1.80,2,   1.089,2,   0.550,2,-999.000,1,    0.125,2,  2175.7,2,  2292.1,2,   7.6847,2,    25.00,-999.000,9,-999.0000,9, -999.00,9, -999.00,9,  -999.0,9,  -999.0,-999.000,9,-999.000,  -999.0,9,-999.000,-999.0000, -999.00,   6.5529,   6.6349,2,20091129,       1657
318M20091121,        P06,      29,          1,          4,          4,2,20091129,       1636,   -30.0800,   161.5000,       1176,   907.8,   5.7986,  34.4496,  34.4486,2,    188.7,2,   188.7,2,   30.14,2,   29.20,2,    0.00,2,    1.97,2,   0.685,2,   0.350,2,-999.000,1,    0.065,2,  -999.0,9,  -999.0,9,-999.0000,9,  -999.00,-999.000,9,-999.0000,9, -999.00,9, -999.00,9,  -999.0,9,  -999.0,-999.000,9,-999.000,  -999.0,9,-999.000,-999.0000, -999.00,   5.7181,   5.8007,2,20091129,       1652
318M20091121,        P06,      29,          1,          3,          3,2,20091129,       1636,   -30.0800,   161.5000,       1176,  1010.1,   5.1446,  34.4591,  34.4588,2,    182.1,2,   181.5,2,   40.71,2,   30.77,2,    0.00,2,    2.07,2,   0.480,2,   0.246,2,-999.000,1,    0.058,2,  2207.4,2,  2318.4,2,   7.6444,2,    25.00,-999.000,9,-999.0000,9, -999.00,9, -999.00,9,  -999.0,9,  -999.0,-999.000,9,-999.000,  -999.0,9,-999.000,-999.0000, -999.00,   5.0593,   5.1453,2,20091129,       1646
318M20091121,        P06,      29,          1,          2,          2,2,20091129,       1636,   -30.0800,   161.5000,       1176,  1106.0,   4.5357,  34.4843,  34.4850,2,    173.1,2,   173.3,2,   53.93,2,   32.30,2,    0.00,2,    2.20,2,   0.301,2,   0.161,2,-999.000,1,        0,2,  -999.0,9,  -999.0,9,-999.0000,9,  -999.00,-999.000,9,-999.0000,9, -999.00,9, -999.00,9,  -999.0,9,  -999.0,-999.000,9,-999.000,  -999.0,9,-999.000,-999.0000, -999.00,   4.4466,   4.5357,2,20091129,       1641
318M20091121,        P06,      29,          1,          1,          1,2,20091129,       1636,   -30.0800,   161.5000,       1176,  1178.2,   4.2235,  34.5020,  34.5007,2,    168.6,2,   169.0,2,   60.53,2,   32.95,2,    0.00,2,    2.24,2,   0.247,2,   0.130,2,-999.000,1,        0,2,  2237.3,2,  2332.5,2,   7.6038,2,    25.00,-999.000,9,-999.0000,9, -999.00,9, -999.00,9,  -999.0,9,  -999.0,-999.000,9,-999.000,  -999.0,9,-999.000,-999.0000, -999.00,   4.1308,   4.2228,2,20091129,       1636