BOTTLE,20220818CCHSIOAMB
EXPOCODE,SECT_ID,STNNBR,CASTNO,SAMPNO,BTLNBR,BTLNBR_FLAG_W,DATE,TIME,LATITUDE,LONGITUDE,DEPTH,CTDPRS,CTDTMP,CTDSAL,SALNTY,SALNTY_FLAG_W,CTDOXY,CTDOXY_FLAG_W,OXYGEN,OXYGEN_FLAG_W,SILCAT,SILCAT_FLAG_W,NITRAT,NITRAT_FLAG_W,NITRIT,NITRIT_FLAG_W,PHSPHT,PHSPHT_FLAG_W,CFC-11,CFC-11_FLAG_W,CFC-12,CFC-12_FLAG_W,CFC113,CFC113_FLAG_W,SF6,SF6_FLAG_W,TCARBN,TCARBN_FLAG_W,ALKALI,ALKALI_FLAG_W,PH_SWS,PH_SWS_FLAG_W,PH_TMP,TRITUM,TRITUM_FLAG_W,HELIUM,HELIUM_FLAG_W,DELHE3,DELHE3_FLAG_W,DELC13,DELC13_FLAG_W,DELC14,DELC14_FLAG_W,C14ERR,NEON,NEON_FLAG_W,NEONER,DOC,DOC_FLAG_W,TRITER,HELIER,DELHER,THETA,SBE35,SBE35_FLAG_W,BTL_DATE,BTL_TIME
,,,,,,,,,,,METERS,DBAR,ITS-90,PSS-78,PSS-78,,UMOL/KG,,UMOL/KG,,UMOL/KG,,UMOL/KG,,UMOL/KG,,UMOL/KG,,PMOL/KG,,PMOL/KG,,PMOL/KG,,FMOL/KG,,UMOL/KG,,UMOL/KG,,,,DEG C,TU,,NMOL/KG,,PERCNT,,/MILLE,,/MILLE,,/MILLE,NMOL/KG,,NMOL/KG,UMOL/KG,,TU,NMOL/KG,PERCNT,DEG C,ITS-90,,,
318M20091121,        P06,      52,          1,         34,         34,2,20091205,       1740,   -30.0801,   172.0000,       2762,     4.7,  21.8506,  35.6803,  35.6929,4,    222.8,2,   223.2,2,    0.57,2,    0.00,2,    0.00,2,    0.09,2,   1.938,2,   1.248,2,-999.000,1,    1.176,2,  2036.0,6,  2336.0,2,   8.0319,2,    25.00,   0.407,2,   1.7236,2,   -1.36,2, -999.00,9,  -999.0,9,  -999.0,   6.898,2,   0.032,    51.1,2,   0.016,   0.0072,    0.15,  21.8497,  21.8479,2,20091205,       1926
318M20091121,        P06,      52,          1,         33,         33,2,20091205,       1740,   -30.0801,   172.0000,       2762,    19.9,  20.8459,  35.7011,  35.7045,2,    227.0,2,   229.4,2,    0.55,2,    0.00,2,    0.00,2,    0.08,2,   2.004,2,   1.296,2,-999.000,1,    1.142,2,  2037.4,2,  2337.1,6,   8.0271,2,    25.00,-999.000,9,-999.0000,9, -999.00,9, -999.00,9,  -999.0,9,  -999.0,-999.000,9,-999.000,    50.3,2,-999.000,-999.0000, -999.00,  20.8421,  20.8830,3,20091205,       1923
318M20091121,        P06,      52,          1,         32,         32,2,20091205,       1740,   -30.0801,   172.0000,       2762,    39.6,  19.1939,  35.6322,  35.6344,2,    237.0,2,   238.8,2,    0.53,2,    0.00,2,    0.00,2,    0.10,2,   2.110,2,   1.358,2,-999.000,1,    1.152,2,  2037.0,2,  2333.9,2,   8.0431,2,    25.00,-999.000,9,   1.7199,2,   -1.45,2, -999.00,9,  -999.0,9,  -999.0,   6.961,2,   0.032,    50.9,2,-999.000,   0.0072,    0.15,  19.1868,  19.1779,2,20091205,       1921
318M20091121,        P06,      52,          1,         31,         31,2,20091205,       1740,   -30.0801,   172.0000,       2762,    65.9,  17.8448,  35.5814,  35.5806,2,    234.9,2,   221.8,2,    0.90,2,    1.24,2,    0.06,2,    0.23,2,   2.146,6,   1.375,6,-999.000,1,   1.1495,6,  2056.7,2,  2329.3,2,   7.9926,2,    25.00,-999.000,9,-999.0000,9, -999.00,9, -999.00,9,  -999.0,9,  -999.0,-999.000,9,-999.000,    47.8,2,-999.000,-999.0000, -999.00,  17.8335,  17.9002,3,20091205,       1918
318M20091121,        P06,      52,          1,         30,         30,2,20091205,       1740,   -30.0801,   172.0000,       2762,    90.6,  17.1878,  35.5672,  35.5672,2,    218.2,2,   217.7,2,    0.88,2,    2.70,2,    0.08,2,    0.30,2,   2.160,2,   1.386,2,-999.000,1,    1.161,2,  2068.9,2,  2328.2,2,   7.9728,2,    25.00,   0.378,2,   1.7375,2,   -1.25,2, -999.00,9,  -999.0,9,  -999.0,   7.078,2,   0.033,    45.5,2,   0.015,   0.0073,    0.15,  17.1727,  17.1896,2,20091205,       1916
318M20091121,        P06,      52,          1,         29,         29,2,20091205,       1740,   -30.0801,   172.0000,       2762,   137.2,  16.6730,  35.5358,  35.5380,2,    211.4,2,   210.7,2,    1.26,2,    4.37,2,    0.03,2,    0.40,2,   2.182,2,   1.401,2,-999.000,1,    1.081,2,  2077.3,2,  2326.9,2,   7.9421,2,    25.00,-999.000,9,-999.0000,9, -999.00,9, -999.00,9,  -999.0,9,  -999.0,-999.000,9,-999.000,    44.1,2,-999.000,-999.0000, -999.00,  16.6506,  16.6801,2,20091205,       1914
318M20091121,        P06,      52,          1,         28,         28,2,20091205,       1740,   -30.0801,   172.0000,       2762,   186.8,  15.7880,  35.4392,  35.4355,2,    199.5,2,   197.7,2,    2.22,2,    7.19,2,    0.01,2,    0.59,2,   2.190,2,   1.386,2,-999.000,1,    1.041,2,  2093.3,2,  2325.7,2,   7.9052,2,    25.00,   0.354,2,   1.7695,2,   -0.71,2, -999.00,9,  -999.0,9,  -999.0,   7.208,2,   0.033,    45.9,2,   0.016,   0.0074,    0.15,  15.7586,  15.7872,2,20091205,       1911
318M20091121,        P06,      52,          1,         27,         27,2,20091205,       1740,   -30.0801,   172.0000,       2762,   238.1,  14.9498,  35.3706,  35.3703,2,    197.8,2,   202.3,2,    2.59,2,    8.14,2,    0.01,2,    0.64,2,   2.226,2,   1.410,2,-999.000,1,    1.007,2,  2100.0,2,  2321.8,2,   7.8935,6,    25.00,-999.000,9,-999.0000,9, -999.00,9, -999.00,9,  -999.0,9,  -999.0,-999.000,9,-999.000,    41.8,3,-999.000,-999.0000, -999.00,  14.9137,  14.9494,2,20091205,       1909
318M20091121,        P06,      52,          1,         26,         26,2,20091205,       1740,   -30.0801,   172.0000,       2762,   288.1,  13.9385,  35.2613,  35.2612,2,    197.5,2,   197.4,2,    3.35,2,   10.39,2,    0.01,2,    0.79,2,   2.217,2,   1.400,2,-999.000,1,    0.808,2,  2110.6,2,  2313.1,2,   7.8558,2,    25.00,   0.288,2,-999.0000,9, -999.00,9, -999.00,9,  -999.0,9,  -999.0,-999.000,9,-999.000,    47.0,2,   0.016,-999.0000, -999.00,  13.8968,  13.9357,2,20091205,       1907
318M20091121,        P06,      52,          1,         25,         25,2,20091205,       1740,   -30.0801,   172.0000,       2762,   334.3,  12.6955,  35.1192,  35.1233,2,    195.1,2,   195.3,2,    4.51,2,   12.81,2,    0.01,2,    0.95,2,   2.222,2,   1.370,2,-999.000,1,    0.677,2,  2122.1,2,  2262.8,4,   7.8158,2,    25.00,-999.000,9,-999.0000,9, -999.00,9, -999.00,9,  -999.0,9,  -999.0,-999.000,9,-999.000,    45.1,2,-999.000,-999.0000, -999.00,  12.6499,  12.6979,2,20091205,       1904
318M20091121,        P06,      52,          1,         24,         24,2,20091205,       1740,   -30.0801,   172.0000,       2762,   385.4,  12.0818,  35.0533,  35.0511,2,    197.1,2,   196.6,2,    5.47,2,   14.11,2,    0.01,2,    1.03,2,   2.200,2,   1.350,2,-999.000,1,    0.636,2,  2116.1,2,  2262.6,4,   7.8016,2,    25.00,   0.250,2,   1.7875,2,    0.39,2, -999.00,9,  -999.0,9,  -999.0,   7.405,2,   0.034,    44.0,2,   0.016,   0.0075,    0.15,  12.0309,  12.0815,2,20091205,       1902
318M20091121,        P06,      52,          1,         23,         23,2,20091205,       1740,   -30.0801,   172.0000,       2762,   466.6,  10.3846,  34.8428,  34.8423,2,    198.5,2,   198.4,2,    7.62,2,   17.47,2,    0.00,2,    1.24,2,   2.107,2,   1.276,2,-999.000,1,    0.481,2,  2127.8,2,  2302.2,2,   7.7688,2,    25.00,   0.201,2,   1.7749,2,    0.88,2, -999.00,9,  -999.0,9,  -999.0,   7.423,2,   0.034,    41.0,2,   0.016,   0.0075,    0.15,  10.3285,  10.3837,2,20091205,       1859
318M20091121,        P06,      52,          1,         22,         22,2,20091205,       1740,   -30.0801,   172.0000,       2762,   568.5,   8.7166,  34.6218,  34.6230,2,    205.0,2,   205.2,2,    8.98,2,   20.47,2,    0.00,2,    1.44,2,   1.999,2,   1.160,2,-999.000,1,    0.279,2,  2134.4,2,  2296.2,2,   7.7351,2,    25.00,   0.156,2,   1.7776,2,    1.05,2, -999.00,9,  -999.0,9,  -999.0,   7.544,2,   0.035,    40.7,2,   0.015,   0.0075,    0.15,   8.6550,   8.7158,2,20091205,       1855
318M20091121,        P06,      52,          1,         21,         21,2,20091205,       1740,   -30.0801,   172.0000,       2762,   669.8,   7.6568,  34.5248,  34.5249,2,    206.9,2,   207.5,2,   12.30,2,   22.82,2,    0.00,2,    1.59,2,   1.681,2,   0.960,2,-999.000,1,    0.214,2,  2142.0,2,  2299.7,2,   7.7086,2,    25.00,   0.113,2,   1.7862,2,    2.01,2, -999.00,9,  -999.0,9,  -999.0,   7.549,2,   0.035,  -999.0,9,   0.015,   0.0075,    0.15,   7.5891,   7.6574,2,20091205,       1852
318M20091121,        P06,      52,          1,         20,         20,2,20091205,       1740,   -30.0801,   172.0000,       2762,   771.0,   6.6524,  34.4453,  34.4482,2,    207.8,2,   207.9,2, -999.00,9, -999.00,9, -999.00,9, -999.00,9,   1.325,2,   0.759,2,-999.000,1,    0.096,2,  2150.2,2,  2154.2,4,   7.7044,2,    25.00,   0.106,2,   1.7928,2,    2.87,2, -999.00,9,  -999.0,9,  -999.0,   7.537,2,   0.035,    38.7,2,   0.015,   0.0075,    0.15,   6.5798,   6.6524,2,20091205,       1849
318M20091121,        P06,      52,          1,         19,         19,2,20091205,       1740,   -30.0801,   172.0000,       2762,   868.0,   5.9336,  34.4219,  34.4215,2,    201.9,2,   202.1,2,   23.95,2,   26.93,2,    0.00,2,    1.88,2,   0.949,2,   0.539,2,-999.000,1,    0.093,2,  2164.9,2,  -999.0,5,   7.6790,2,    25.00,   0.075,6,   1.7934,2,    4.30,2, -999.00,9,  -999.0,9,  -999.0,   7.533,2,   0.035,  -999.0,9,   0.011,   0.0075,    0.15,   5.8561,   5.9409,2,20091205,       1845
318M20091121,        P06,      52,          1,         18,         18,2,20091205,       1740,   -30.0801,   172.0000,       2762,   969.7,   5.2741,  34.4338,  34.4341,2,    192.7,2,   193.2,2,   34.88,2,   28.76,2,    0.00,2,    2.01,2,   0.656,2,   0.381,2,-999.000,1,    0.034,2,  2182.3,2,  2307.6,2,   7.6407,4,    25.00,   0.040,2,   1.8213,2,    6.27,2, -999.00,9,  -999.0,9,  -999.0,   7.575,2,   0.035,  -999.0,9,   0.017,   0.0076,    0.15,   5.1916,   5.2763,2,20091205,       1842
318M20091121,        P06,      52,          1,         17,         17,2,20091205,       1740,   -30.0801,   172.0000,       2762,  1072.0,   4.7375,  34.4509,  34.4492,2,    184.4,2,   185.2,2,   44.26,2,   30.11,2,    0.00,2,    2.11,2,   0.448,2,   0.279,2,-999.000,1,        0,2,  2196.2,2,  2318.1,2,   7.6515,2,    25.00,   0.024,2,   1.8340,2,    8.14,2, -999.00,9,  -999.0,9,  -999.0,   7.690,2,   0.035,    39.5,2,   0.017,   0.0077,    0.15,   4.6499,   4.7449,2,20091205,       1838
318M20091121,        P06,      52,          1,         16,         16,2,20091205,       1740,   -30.0801,   172.0000,       2762,  1173.7,   4.3572,  34.4719,  34.4716,2,    179.2,2,   179.2,2,   53.27,2,   31.06,2,    0.00,2,    2.18,2,-999.000,5,-999.000,5,-999.000,1,-999.0000,5,  2209.5,2,  2325.3,2,   7.6223,2,    25.00,-999.000,9,-999.0000,9, -999.00,9, -999.00,9,  -999.0,9,  -999.0,-999.000,9,-999.000,  -999.0,9,-999.000,-999.0000, -999.00,   4.2637,   4.3597,2,20091205,       1834
318M20091121,        P06,      52,          1,         15,         15,2,20091205,       1740,   -30.0801,   172.0000,       2762,  1275.8,   3.7611,  34.5096,  34.5096,2,    170.1,2,   171.1,2,   67.57,2,   32.29,2,    0.00,2,    2.28,2,-999.000,5,-999.000,5,-999.000,1,-999.0000,5,  2229.7,2,  2339.8,6,   7.6142,2,    25.00,  -0.001,2,   1.8819,2,   12.52,2, -999.00,9,  -999.0,9,  -999.0,   7.859,2,   0.036,  -999.0,9,   0.017,   0.0079,    0.15,   3.6642,   3.7612,2,20091205,       1831
318M20091121,        P06,      52,          1,         14,         14,2,20091205,       1740,   -30.0801,   172.0000,       2762,  1377.8,   3.4576,  34.5346,  34.5346,2,    165.8,2,   166.1,2,   76.67,2,   32.65,2,    0.00,2,    2.33,2,   0.150,2,   0.090,2,-999.000,1,        0,2,  2238.8,2,  2350.0,2,   7.5909,2,    25.00,-999.000,9,-999.0000,9, -999.00,9, -999.00,9,  -999.0,9,  -999.0,-999.000,9,-999.000,  -999.0,9,-999.000,-999.0000, -999.00,   3.3551,   3.4567,2,20091205,       1828
318M20091121,        P06,      52,          1,         13,         13,2,20091205,       1740,   -30.0801,   172.0000,       2762,  1475.0,   3.3078,  34.5485,  34.5482,2,    163.5,2,   163.8,2,   81.12,2,   33.12,2,    0.00,2,    2.34,2,   0.153,4,   0.100,4,-999.000,1,        0,2,  2247.1,2,  2354.0,2,   7.5906,2,    25.00,   0.018,2,   1.8971,2,   14.83,2, -999.00,9,  -999.0,9,  -999.0,   7.921,2,   0.036,    36.2,2,   0.017,   0.0080,    0.15,   3.1986,   3.3078,2,20091205,       1824
318M20091121,        P06,      52,          1,         12,         12,2,20091205,       1740,   -30.0801,   172.0000,       2762,  1577.7,   3.0615,  34.5687,  34.5737,3,    159.9,2,   160.5,2,   88.02,2,   33.53,2,    0.00,2,    2.37,2,   0.161,4,   0.108,4,-999.000,1,        0,2,  2256.3,2,  2363.7,2,-999.0000,5,  -999.00,   0.022,2,   1.8984,2,   16.24,2, -999.00,9,  -999.0,9,  -999.0,   7.908,2,   0.036,  -999.0,9,   0.017,   0.0080,    0.15,   2.9464,   3.0621,2,20091205,       1821
318M20091121,        P06,      52,          1,         11,         11,2,20091205,       1740,   -30.0801,   172.0000,       2762,  1680.7,   2.8039,  34.5939,  34.5928,2,    157.9,2,   157.8,2,   95.54,2,   33.89,2,    0.00,2,    2.39,2,   0.077,2,   0.047,2,-999.000,1,        0,2,  2265.2,2,  2371.7,2,   7.5875,2,    25.00,-999.000,9,-999.0000,9, -999.00,9, -999.00,9,  -999.0,9,  -999.0,-999.000,9,-999.000,  -999.0,9,-999.000,-999.0000, -999.00,   2.6832,   2.8069,2,20091205,       1817
318M20091121,        P06,      52,          1,         10,         10,2,20091205,       1740,   -30.0801,   172.0000,       2762,  1782.7,   2.6986,  34.6031,  34.6029,2,    157.2,2,   157.4,2,   99.21,2,   34.00,2,    0.00,2,    2.40,2,   0.071,2,   0.045,2,-999.000,1,        0,2,  2269.1,2,  2374.8,2,   7.5912,2,    25.00,   0.012,2,   1.9230,2,   17.09,2, -999.00,9,  -999.0,9,  -999.0,   8.008,2,   0.037,  -999.0,9,   0.017,   0.0081,    0.15,   2.5706,   2.6984,2,20091205,       1813
318M20091121,        P06,      52,          1,          9,          9,2,20091205,       1740,   -30.0801,   172.0000,       2762,  1884.3,   2.5878,  34.6136,  34.6127,2,    155.9,2,   156.6,2,  102.46,2,   34.12,2,    0.00,2,    2.41,2,   0.078,2,   0.049,2,-999.000,1,        0,2,  2273.3,2,  2376.9,2,   7.5828,2,    25.00,-999.000,9,-999.0000,9, -999.00,9, -999.00,9,  -999.0,9,  -999.0,-999.000,9,-999.000,    35.6,2,-999.000,-999.0000, -999.00,   2.4526,   2.5884,2,20091205,       1810
318M20091121,        P06,      52,          1,          8,          8,2,20091205,       1740,   -30.0801,   172.0000,       2762,  2033.2,   2.4488,  34.6260,  34.6257,2,    155.3,2,   155.7,2,  106.96,2,   34.36,2,    0.00,2,    2.43,2,   0.054,2,   0.041,2,-999.000,1,        0,2,  2278.9,2,  2384.1,2,   7.5739,2,    25.00,   0.018,2,-999.0000,9, -999.00,9, -999.00,9,  -999.0,9,  -999.0,-999.000,9,-999.000,  -999.0,9,   0.017,-999.0000, -999.00,   2.3027,   2.4487,2,20091205,       1805
318M20091121,        P06,      52,          1,          7,          7,2,20091205,       1740,   -30.0801,   172.0000,       2762,  2188.0,   2.1930,  34.6463,  34.6462,2,    154.5,2,   154.4,2,  113.90,2,   34.59,2,    0.00,2,    2.45,2,   0.044,2,   0.029,2,-999.000,1,        0,2,  2287.2,2,  2391.5,2,   7.5875,2,    25.00,-999.000,9,   1.9826,2,   18.37,2, -999.00,9,  -999.0,9,  -999.0,   8.078,2,   0.037,  -999.0,9,-999.000,   0.0083,    0.15,   2.0373,   2.1938,2,20091205,       1801
318M20091121,        P06,      52,          1,          6,          6,2,20091205,       1740,   -30.0801,   172.0000,       2762,  2289.5,   2.1050,  34.6537,  34.6545,2,    154.2,2,   154.0,2,  116.75,2,   34.59,2,    0.00,2,    2.45,2,   0.031,2,   0.023,2,-999.000,1,        0,2,  2290.2,2,  2396.3,2,   7.5812,2,    25.00,   0.013,2,   1.9736,2,   19.07,2, -999.00,9,  -999.0,9,  -999.0,   7.988,2,   0.037,  -999.0,9,   0.017,   0.0083,    0.15,   1.9418,   2.1034,3,20091205,       1757
318M20091121,        P06,      52,          1,          5,          5,2,20091205,       1740,   -30.0801,   172.0000,       2762,  2391.3,   2.0140,  34.6609,  34.6604,2,    153.5,2,   153.9,2,  119.41,2,   34.72,2,    0.00,2,    2.46,2,   0.038,2,   0.028,2,-999.000,1,        0,2,  2292.7,2,  2398.4,2,   7.5861,2,    25.00,-999.000,9,-999.0000,9, -999.00,9, -999.00,9,  -999.0,9,  -999.0,-999.000,9,-999.000,    36.1,2,-999.000,-999.0000, -999.00,   1.8432,   2.0155,2,20091205,       1754
318M20091121,        P06,      52,          1,          4,          4,2,20091205,       1740,   -30.0801,   172.0000,       2762,  2494.3,   1.9650,  34.6650,  34.6653,2,    153.7,2,   154.4,2,  120.63,2,   34.78,2,    0.00,2,    2.46,2,   0.032,2,   0.029,2,-999.000,1,        0,2,  2293.6,2,  2400.1,2,   7.5821,2,    25.00,   0.016,2,   1.9699,2,   18.92,2, -999.00,9,  -999.0,9,  -999.0,   8.049,2,   0.037,  -999.0,9,   0.017,   0.0083,    0.15,   1.7858,   1.9648,2,20091205,       1750
318M20091121,        P06,      52,          1,          3,          3,2,20091205,       1740,   -30.0801,   172.0000,       2762,  2597.3,   1.9056,  34.6701,  34.6703,2,    154.3,2,   154.7,2,  122.47,2,   34.83,2,    0.00,2,    2.47,2,   0.030,2,   0.022,2,-999.000,1,        0,2,  2295.7,2,  2402.0,2,   7.5841,2,    25.00,   0.017,2,   1.9208,2,   19.32,2, -999.00,9,  -999.0,9,  -999.0,   7.951,2,   0.037,  -999.0,9,   0.017,   0.0081,    0.15,   1.7181,   1.9058,2,20091205,       1747
318M20091121,        P06,      52,          1,          2,          2,2,20091205,       1740,   -30.0801,   172.0000,       2762,  2699.8,   1.8794,  34.6725,  34.6732,2,    154.5,2,   154.6,2,  123.08,2,   34.83,2,    0.00,2,    2.46,2,   0.021,2,   0.018,2,-999.000,1,        0,2,  2296.9,2,  2403.4,6,   7.5871,2,    25.00,-999.000,9,-999.0000,9, -999.00,9, -999.00,9,  -999.0,9,  -999.0,-999.000,9,-999.000,  -999.0,9,-999.000,-999.0000, -999.00,   1.6829,   1.8805,2,20091205,       1743
318M20091121,        P06,      52,          1,          1,          1,2,20091205,       1740,   -30.0801,   172.0000,       2762,  2784.6,   1.8641,  34.6743,  34.6754,2,    154.5,2,   154.8,2,  123.89,2,   34.89,2,    0.00,2,    2.46,2,   0.035,2,   0.030,2,-999.000,1,        0,2,  2298.2,6,  2403.5,2,   7.5791,6,    25.00,  -0.042,2,   1.9138,2,   19.02,2, -999.00,9,  -999.0,9,  -999.0,   7.969,2,   0.037,    38.9,2,   0.017,   0.0080,    0.15,   1.6599,   1.8639,2,20091205,       1740