BOTTLE,20220818CCHSIOAMB
EXPOCODE,SECT_ID,STNNBR,CASTNO,SAMPNO,BTLNBR,BTLNBR_FLAG_W,DATE,TIME,LATITUDE,LONGITUDE,DEPTH,CTDPRS,CTDTMP,CTDSAL,SALNTY,SALNTY_FLAG_W,CTDOXY,CTDOXY_FLAG_W,OXYGEN,OXYGEN_FLAG_W,SILCAT,SILCAT_FLAG_W,NITRAT,NITRAT_FLAG_W,NITRIT,NITRIT_FLAG_W,PHSPHT,PHSPHT_FLAG_W,CFC-11,CFC-11_FLAG_W,CFC-12,CFC-12_FLAG_W,CFC113,CFC113_FLAG_W,SF6,SF6_FLAG_W,TCARBN,TCARBN_FLAG_W,ALKALI,ALKALI_FLAG_W,PH_SWS,PH_SWS_FLAG_W,PH_TMP,TRITUM,TRITUM_FLAG_W,HELIUM,HELIUM_FLAG_W,DELHE3,DELHE3_FLAG_W,DELC13,DELC13_FLAG_W,DELC14,DELC14_FLAG_W,C14ERR,NEON,NEON_FLAG_W,NEONER,DOC,DOC_FLAG_W,TRITER,HELIER,DELHER,THETA,SBE35,SBE35_FLAG_W,BTL_DATE,BTL_TIME
,,,,,,,,,,,METERS,DBAR,ITS-90,PSS-78,PSS-78,,UMOL/KG,,UMOL/KG,,UMOL/KG,,UMOL/KG,,UMOL/KG,,UMOL/KG,,PMOL/KG,,PMOL/KG,,PMOL/KG,,FMOL/KG,,UMOL/KG,,UMOL/KG,,,,DEG C,TU,,NMOL/KG,,PERCNT,,/MILLE,,/MILLE,,/MILLE,NMOL/KG,,NMOL/KG,UMOL/KG,,TU,NMOL/KG,PERCNT,DEG C,ITS-90,,,
318M20091121,        P06,      59,          2,         36,         36,2,20091207,       1349,   -30.0797,   175.4999,       4232,     4.8,  21.6657,  35.6118,  35.6142,2,    225.2,2,   224.3,2,    0.41,2,    0.00,2,    0.00,2,    0.09,2,   1.895,2,   1.253,2,-999.000,1,     1.17,2,  2037.8,6,  2334.1,6,   7.9834,4,    25.00,-999.000,9,-999.0000,9, -999.00,9, -999.00,9,  -999.0,9,  -999.0,-999.000,9,-999.000,  -999.0,9,-999.000,-999.0000, -999.00,  21.6648,  21.6545,2,20091207,       1627
318M20091121,        P06,      59,          2,         35,         35,2,20091207,       1349,   -30.0797,   175.4999,       4232,    25.5,  19.9203,  35.6549,  35.6564,2,    234.4,2,   234.5,2,    0.40,2,    0.00,2,    0.00,2,    0.10,2,   2.060,2,   1.333,2,-999.000,1,    1.204,2,  -999.0,9,  -999.0,9,-999.0000,9,  -999.00,-999.000,9,-999.0000,9, -999.00,9, -999.00,9,  -999.0,9,  -999.0,-999.000,9,-999.000,  -999.0,9,-999.000,-999.0000, -999.00,  19.9156,  19.8945,2,20091207,       1623
318M20091121,        P06,      59,          2,         34,         34,2,20091207,       1349,   -30.0797,   175.4999,       4232,    50.8,  18.6329,  35.6346,  35.6337,2,    239.6,2,   240.1,2,    0.38,2,    0.00,2,    0.00,2,    0.10,2,   2.136,2,   1.390,2,-999.000,1,    1.947,4,  2041.6,2,  2332.2,2,   8.0219,6,    25.00,-999.000,9,-999.0000,9, -999.00,9, -999.00,9,  -999.0,9,  -999.0,-999.000,9,-999.000,  -999.0,9,-999.000,-999.0000, -999.00,  18.6240,  18.6337,2,20091207,       1621
318M20091121,        P06,      59,          2,         33,         33,2,20091207,       1349,   -30.0797,   175.4999,       4232,    75.6,  17.6393,  35.5925,  35.5902,2,    240.2,2,   237.4,2,    0.37,2,    0.05,2,    0.01,2,    0.13,2,   2.159,2,   1.391,2,-999.000,1,    2.024,4,  -999.0,9,  -999.0,9,-999.0000,9,  -999.00,-999.000,9,-999.0000,9, -999.00,9, -999.00,9,  -999.0,9,  -999.0,-999.000,9,-999.000,  -999.0,9,-999.000,-999.0000, -999.00,  17.6265,  17.6519,2,20091207,       1618
318M20091121,        P06,      59,          2,         32,         32,2,20091207,       1349,   -30.0797,   175.4999,       4232,   101.5,  16.9505,  35.5615,  35.5618,2,    216.9,2,   216.0,2,    0.95,2,    3.22,2,    0.02,2,    0.33,2,   2.201,2,   1.415,2,-999.000,1,    1.673,4,  2071.2,2,  2330.3,2,   7.9577,2,    25.00,-999.000,9,-999.0000,9, -999.00,9, -999.00,9,  -999.0,9,  -999.0,-999.000,9,-999.000,  -999.0,9,-999.000,-999.0000, -999.00,  16.9338,  16.9601,2,20091207,       1615
318M20091121,        P06,      59,          2,         31,         31,2,20091207,       1349,   -30.0797,   175.4999,       4232,   126.7,  16.7000,  35.5512,  35.5477,2,    216.1,2,   216.1,2,    1.13,2,    3.82,2,    0.02,2,    0.37,2,   2.211,2,   1.433,2,-999.000,1,    1.769,4,  -999.0,9,  -999.0,9,-999.0000,9,  -999.00,-999.000,9,-999.0000,9, -999.00,9, -999.00,9,  -999.0,9,  -999.0,-999.000,9,-999.000,  -999.0,9,-999.000,-999.0000, -999.00,  16.6793,  16.6970,2,20091207,       1613
318M20091121,        P06,      59,          2,         30,         30,2,20091207,       1349,   -30.0797,   175.4999,       4232,   152.5,  16.3287,  35.5266,  35.5248,2,    214.9,2,   214.3,2,    1.32,2,    4.41,2,    0.02,2,    0.42,2,   2.243,2,   1.432,2,-999.000,1,    1.704,4,  2079.7,2,  2325.5,2,   7.9448,2,    25.00,-999.000,9,-999.0000,9, -999.00,9, -999.00,9,  -999.0,9,  -999.0,-999.000,9,-999.000,  -999.0,9,-999.000,-999.0000, -999.00,  16.3042,  16.3282,2,20091207,       1611
318M20091121,        P06,      59,          2,         29,         29,2,20091207,       1349,   -30.0797,   175.4999,       4232,   202.8,  15.4826,  35.4319,  35.4320,2,    206.8,2,   208.3,2,    1.89,2,    6.23,2,    0.02,2,    0.53,2,   2.292,2,   1.442,2,-999.000,1,    1.411,4,  2091.0,2,  2320.8,2,   7.9273,2,    25.00,-999.000,9,-999.0000,9, -999.00,9, -999.00,9,  -999.0,9,  -999.0,-999.000,9,-999.000,  -999.0,9,-999.000,-999.0000, -999.00,  15.4511,  15.4832,2,20091207,       1608
318M20091121,        P06,      59,          2,         28,         28,2,20091207,       1349,   -30.0797,   175.4999,       4232,   248.8,  14.5687,  35.3443,  35.3438,2,    210.6,2,   211.6,2,    2.27,2,    7.12,2,    0.01,2,    0.60,2,   2.384,2,   1.483,2,-999.000,1,    1.607,4,  -999.0,9,  -999.0,9,-999.0000,9,  -999.00,-999.000,9,-999.0000,9, -999.00,9, -999.00,9,  -999.0,9,  -999.0,-999.000,9,-999.000,  -999.0,9,-999.000,-999.0000, -999.00,  14.5316,  14.5823,2,20091207,       1605
318M20091121,        P06,      59,          2,         27,         27,2,20091207,       1349,   -30.0797,   175.4999,       4232,   299.6,  13.7239,  35.2432,  35.2371,2,    209.8,2,   208.6,2,    2.85,2,    9.07,2,    0.01,2,    0.71,2,   2.431,2,   1.498,2,-999.000,1,    1.481,4,  2107.1,2,  2314.6,2,   7.8703,2,    25.00,-999.000,9,-999.0000,9, -999.00,9, -999.00,9,  -999.0,9,  -999.0,-999.000,9,-999.000,  -999.0,9,-999.000,-999.0000, -999.00,  13.6809,  13.7238,2,20091207,       1603
318M20091121,        P06,      59,          2,         26,         26,2,20091207,       1349,   -30.0797,   175.4999,       4232,   349.7,  12.5965,  35.0907,  35.0854,2,    201.8,2,   202.0,2,    3.63,2,   11.90,2,    0.01,2,    0.89,2,   2.461,2,   1.482,2,-999.000,1,    0.755,4,  -999.0,9,  -999.0,9,-999.0000,9,  -999.00,-999.000,9,-999.0000,9, -999.00,9, -999.00,9,  -999.0,9,  -999.0,-999.000,9,-999.000,  -999.0,9,-999.000,-999.0000, -999.00,  12.5491,  12.6435,3,20091207,       1600
318M20091121,        P06,      59,          2,         25,         25,2,20091207,       1349,   -30.0797,   175.4999,       4232,   400.3,  11.5085,  34.9610,  34.9607,2,    201.7,2,   200.5,2,    5.00,2,   14.62,2,    0.01,2,    1.05,2,   2.420,2,   1.424,2,-999.000,1,    0.713,4,  2127.8,2,  2301.8,2,   7.7944,2,    25.00,-999.000,9,-999.0000,9, -999.00,9, -999.00,9,  -999.0,9,  -999.0,-999.000,9,-999.000,  -999.0,9,-999.000,-999.0000, -999.00,  11.4573,  11.5182,2,20091207,       1556
318M20091121,        P06,      59,          2,         24,         24,2,20091207,       1349,   -30.0797,   175.4999,       4232,   452.2,  10.6687,  34.8418,  34.8417,2,    203.0,2,   203.5,2,    5.38,2,   16.03,2,    0.01,2,    1.15,2,   2.475,2,   1.432,2,-999.000,1,    0.765,4,  -999.0,9,  -999.0,9,-999.0000,9,  -999.00,-999.000,9,-999.0000,9, -999.00,9, -999.00,9,  -999.0,9,  -999.0,-999.000,9,-999.000,  -999.0,9,-999.000,-999.0000, -999.00,  10.6135,  10.6709,2,20091207,       1553
318M20091121,        P06,      59,          2,         23,         23,2,20091207,       1349,   -30.0797,   175.4999,       4232,   502.5,   9.7072,  34.7086,  34.7106,2,    206.3,2,   206.5,2,    5.76,2,   17.86,2,    0.01,2,    1.26,2,   2.477,2,   1.386,2,-999.000,1,    0.513,4,  2134.9,2,  2293.2,2,   7.7642,2,    25.00,-999.000,9,-999.0000,9, -999.00,9, -999.00,9,  -999.0,9,  -999.0,-999.000,9,-999.000,  -999.0,9,-999.000,-999.0000, -999.00,   9.6493,   9.7060,2,20091207,       1550
318M20091121,        P06,      59,          2,         22,         22,2,20091207,       1349,   -30.0797,   175.4999,       4232,   604.2,   8.0531,  34.5050,  34.5003,2,    216.5,2,   218.3,2,    6.95,2,   20.92,2,    0.00,2,    1.47,2,   2.419,2,   1.314,2,-999.000,1,    0.357,4,  2140.2,2,  2284.2,2,   7.7326,2,    25.00,-999.000,9,-999.0000,9, -999.00,9, -999.00,9,  -999.0,9,  -999.0,-999.000,9,-999.000,  -999.0,9,-999.000,-999.0000, -999.00,   7.9906,   8.0425,2,20091207,       1546
318M20091121,        P06,      59,          2,         21,         21,2,20091207,       1349,   -30.0797,   175.4999,       4232,   706.7,   7.1605,  34.4262,  34.4313,2,    221.4,2,   221.7,2,    9.31,2,   22.95,2,    0.00,2,    1.60,2,   2.069,2,   1.102,2,-999.000,1,    0.205,4,  2145.5,2,  2282.7,2,   7.7249,2,    25.00,-999.000,9,-999.0000,9, -999.00,9, -999.00,9,  -999.0,9,  -999.0,-999.000,9,-999.000,  -999.0,9,-999.000,-999.0000, -999.00,   7.0916,   7.1603,2,20091207,       1542
318M20091121,        P06,      59,          2,         20,         20,2,20091207,       1349,   -30.0797,   175.4999,       4232,   797.6,   6.6826,  34.4080,  34.4078,2,    219.4,2,   217.9,2,   12.48,2,   24.49,2,    0.00,2,    1.70,2,   1.673,2,   0.891,2,-999.000,1,    0.175,4,  2153.9,2,  2285.7,2,   7.7062,2,    25.00,-999.000,9,-999.0000,9, -999.00,9, -999.00,9,  -999.0,9,  -999.0,-999.000,9,-999.000,  -999.0,9,-999.000,-999.0000, -999.00,   6.6073,   6.6807,2,20091207,       1539
318M20091121,        P06,      59,          2,         19,         19,2,20091207,       1349,   -30.0797,   175.4999,       4232,   894.5,   5.9911,  34.3752,  34.3744,2,    211.6,2,   212.1,2,   17.64,2,   26.54,2,    0.00,2,    1.84,2,   1.158,2,   0.598,2,-999.000,1,     0.12,4,  2163.5,2,  2288.2,6,   7.6891,2,    25.00,-999.000,9,-999.0000,9, -999.00,9, -999.00,9,  -999.0,9,  -999.0,-999.000,9,-999.000,  -999.0,9,-999.000,-999.0000, -999.00,   5.9107,   5.9920,2,20091207,       1535
318M20091121,        P06,      59,          2,         18,         18,2,20091207,       1349,   -30.0797,   175.4999,       4232,   990.8,   5.4629,  34.3829,  34.3821,2,    201.1,2,   201.9,2,   25.43,2,   28.33,2,    0.00,2,    1.96,2,   0.793,2,   0.420,2,-999.000,1,   -0.666,4,  2178.8,6,  2295.0,2,   7.6615,2,    25.00,-999.000,9,-999.0000,9, -999.00,9, -999.00,9,  -999.0,9,  -999.0,-999.000,9,-999.000,  -999.0,9,-999.000,-999.0000, -999.00,   5.3771,   5.4634,2,20091207,       1530
318M20091121,        P06,      59,          2,         17,         17,2,20091207,       1349,   -30.0797,   175.4999,       4232,  1104.7,   4.7338,  34.3981,  34.3957,2,    190.4,2,   189.8,2,   36.67,2,   30.42,2,    0.00,2,    2.12,2,   0.460,2,   0.256,2,-999.000,1,    1.554,4,  -999.0,9,  -999.0,9,-999.0000,9,  -999.00,-999.000,9,-999.0000,9, -999.00,9, -999.00,9,  -999.0,9,  -999.0,-999.000,9,-999.000,  -999.0,9,-999.000,-999.0000, -999.00,   4.6433,   4.7422,2,20091207,       1525
318M20091121,        P06,      59,          2,         16,         16,2,20091207,       1349,   -30.0797,   175.4999,       4232,  1207.2,   4.0984,  34.4224,  34.4214,2,    179.4,2,   179.8,2,   49.18,2,   32.13,2,    0.00,2,    2.25,2,   0.227,2,   0.131,2,-999.000,1,   -0.125,4,  -999.0,9,  -999.0,9,-999.0000,9,  -999.00,-999.000,9,-999.0000,9, -999.00,9, -999.00,9,  -999.0,9,  -999.0,-999.000,9,-999.000,  -999.0,9,-999.000,-999.0000, -999.00,   4.0044,   4.0992,2,20091207,       1520
318M20091121,        P06,      59,          2,         15,         15,2,20091207,       1349,   -30.0797,   175.4999,       4232,  1309.1,   3.6300,  34.4669,  34.4653,2,    171.3,2,   171.4,2,   62.16,2,   33.11,2,    0.00,2,    2.32,2,   0.140,2,   0.083,2,-999.000,1,    0.355,4,  -999.0,9,  -999.0,9,-999.0000,9,  -999.00,-999.000,9,-999.0000,9, -999.00,9, -999.00,9,  -999.0,9,  -999.0,-999.000,9,-999.000,  -999.0,9,-999.000,-999.0000, -999.00,   3.5317,   3.6323,2,20091207,       1516
318M20091121,        P06,      59,          2,         14,         14,2,20091207,       1349,   -30.0797,   175.4999,       4232,  1411.1,   3.2654,  34.5175,  34.5158,2,    165.5,2,   165.4,2,   75.82,2,   33.64,2,    0.00,2,    2.36,2,   0.088,2,   0.049,2,-999.000,1,    1.123,4,  -999.0,9,  -999.0,9,-999.0000,9,  -999.00,-999.000,9,-999.0000,9, -999.00,9, -999.00,9,  -999.0,9,  -999.0,-999.000,9,-999.000,  -999.0,9,-999.000,-999.0000, -999.00,   3.1622,   3.2668,2,20091207,       1511
318M20091121,        P06,      59,          2,         13,         13,2,20091207,       1349,   -30.0797,   175.4999,       4232,  1513.5,   3.0335,  34.5555,  34.5528,2,    160.7,2,   160.7,2,   85.64,2,   33.93,2,    0.00,2,    2.38,2,   0.062,2,   0.033,2,-999.000,1,    0.819,4,  2265.3,2,  2360.8,2,   7.5890,2,    25.00,-999.000,9,-999.0000,9, -999.00,9, -999.00,9,  -999.0,9,  -999.0,-999.000,9,-999.000,  -999.0,9,-999.000,-999.0000, -999.00,   2.9242,   3.0279,2,20091207,       1507
318M20091121,        P06,      59,          2,         12,         12,2,20091207,       1349,   -30.0797,   175.4999,       4232,  1606.0,   2.8206,  34.5821,  34.5816,2,    157.1,2,   157.1,2,   94.46,2,   34.22,2,    0.00,2,    2.41,2,   0.035,2,   0.022,2,-999.000,1,    0.869,4,  -999.0,9,  -999.0,9,-999.0000,9,  -999.00,-999.000,9,-999.0000,9, -999.00,9, -999.00,9,  -999.0,9,  -999.0,-999.000,9,-999.000,  -999.0,9,-999.000,-999.0000, -999.00,   2.7060,   2.8207,2,20091207,       1503
318M20091121,        P06,      59,          2,         11,         11,2,20091207,       1349,   -30.0797,   175.4999,       4232,  1713.3,   2.6929,  34.5969,  34.5959,2,    155.5,2,   155.2,2,   99.18,2,   34.45,2,    0.00,2,    2.42,2,   0.029,2,   0.014,2,-999.000,1,    0.708,4,  -999.0,9,  -999.0,9,-999.0000,9,  -999.00,-999.000,9,-999.0000,9, -999.00,9, -999.00,9,  -999.0,9,  -999.0,-999.000,9,-999.000,  -999.0,9,-999.000,-999.0000, -999.00,   2.5709,   2.6940,2,20091207,       1458
318M20091121,        P06,      59,          2,         10,         10,2,20091207,       1349,   -30.0797,   175.4999,       4232,  1817.0,   2.5356,  34.6123,  34.6103,2,    153.8,2,   153.7,2,  104.32,2,   34.65,2,    0.00,2,    2.44,2,   0.020,2,   0.010,2,-999.000,1,    0.411,4,  -999.0,9,  -999.0,9,-999.0000,9,  -999.00,-999.000,9,-999.0000,9, -999.00,9, -999.00,9,  -999.0,9,  -999.0,-999.000,9,-999.000,  -999.0,9,-999.000,-999.0000, -999.00,   2.4069,   2.5359,2,20091207,       1454
318M20091121,        P06,      59,          2,          9,          9,2,20091207,       1349,   -30.0797,   175.4999,       4232,  2021.5,   2.3097,  34.6335,  34.6332,2,    153.1,2,   152.7,2,  111.11,2,   34.83,2,    0.00,2,    2.46,2,   0.028,2,   0.020,2,-999.000,1,    0.556,4,  2292.5,2,  2387.7,2,   7.5797,2,    25.00,-999.000,9,-999.0000,9, -999.00,9, -999.00,9,  -999.0,9,  -999.0,-999.000,9,-999.000,  -999.0,9,-999.000,-999.0000, -999.00,   2.1667,   2.3094,2,20091207,       1448
318M20091121,        P06,      59,          2,          8,          8,2,20091207,       1349,   -30.0797,   175.4999,       4232,  2272.7,   2.1320,  34.6502,  34.6493,2,    152.8,2,   152.9,2,  116.67,2,   34.92,2,    0.00,2,    2.46,2,   0.009,2,   0.004,2,-999.000,1,    0.495,4,  -999.0,9,  -999.0,9,-999.0000,9,  -999.00,-999.000,9,-999.0000,9, -999.00,9, -999.00,9,  -999.0,9,  -999.0,-999.000,9,-999.000,  -999.0,9,-999.000,-999.0000, -999.00,   1.9698,   2.1320,2,20091207,       1441
318M20091121,        P06,      59,          2,          7,          7,2,20091207,       1349,   -30.0797,   175.4999,       4232,  2523.5,   2.0024,  34.6624,  34.6619,2,    153.4,2,   153.4,2,  119.97,2,   34.96,2,    0.00,2,    2.47,2,   0.008,2,   0.003,2,-999.000,1,    0.316,4,  2304.2,2,  2399.9,2,   7.5834,2,    25.00,-999.000,9,-999.0000,9, -999.00,9, -999.00,9,  -999.0,9,  -999.0,-999.000,9,-999.000,  -999.0,9,-999.000,-999.0000, -999.00,   1.8199,   2.0024,2,20091207,       1434
318M20091121,        P06,      59,          2,          6,          6,2,20091207,       1349,   -30.0797,   175.4999,       4232,  2780.8,   1.9166,  34.6710,  34.6706,2,    154.1,2,   153.7,2,  122.66,2,   35.01,2,    0.00,2,    2.46,2,   0.010,2,   0.011,2,-999.000,1,    0.523,4,  -999.0,9,  -999.0,9,-999.0000,9,  -999.00,-999.000,9,-999.0000,9, -999.00,9, -999.00,9,  -999.0,9,  -999.0,-999.000,9,-999.000,  -999.0,9,-999.000,-999.0000, -999.00,   1.7117,   1.9166,2,20091207,       1427
318M20091121,        P06,      59,          2,          5,          5,2,20091207,       1349,   -30.0797,   175.4999,       4232,  3027.6,   1.8660,  34.6767,  34.6763,2,    154.5,2,   154.7,2,  124.29,2,   35.00,2,    0.00,2,    2.47,2,   2.146,4,   3.303,4,-999.000,1, -174.171,4,  2309.6,2,  2407.9,2,   7.5826,2,    25.00,-999.000,9,-999.0000,9, -999.00,9, -999.00,9,  -999.0,9,  -999.0,-999.000,9,-999.000,  -999.0,9,-999.000,-999.0000, -999.00,   1.6384,   1.8659,2,20091207,       1421
318M20091121,        P06,      59,          2,          4,          4,2,20091207,       1349,   -30.0797,   175.4999,       4232,  3341.7,   1.8484,  34.6801,  34.6801,2,    154.9,2,   154.7,2,  125.73,2,   34.99,2,    0.00,2,    2.47,2,   0.014,2,   0.010,2,-999.000,1,    0.222,4,  -999.0,9,  -999.0,9,-999.0000,9,  -999.00,-999.000,9,-999.0000,9, -999.00,9, -999.00,9,  -999.0,9,  -999.0,-999.000,9,-999.000,  -999.0,9,-999.000,-999.0000, -999.00,   1.5898,   1.8485,2,20091207,       1413
318M20091121,        P06,      59,          2,          3,          3,2,20091207,       1349,   -30.0797,   175.4999,       4232,  3650.8,   1.8597,  34.6815,  34.6809,2,    155.2,2,   155.1,2,  126.33,2,   34.98,2,    0.00,2,    2.47,2,   0.008,2,   0.005,2,-999.000,1,    0.019,4,  2311.4,2,  2407.6,2,   7.5877,6,    25.00,-999.000,9,-999.0000,9, -999.00,9, -999.00,9,  -999.0,9,  -999.0,-999.000,9,-999.000,  -999.0,9,-999.000,-999.0000, -999.00,   1.5686,   1.8596,2,20091207,       1405
318M20091121,        P06,      59,          2,          2,          2,2,20091207,       1349,   -30.0797,   175.4999,       4232,  3872.9,   1.8760,  34.6819,  34.6815,2,    155.1,2,   155.2,2,  126.53,2,   34.97,2,    0.00,2,    2.46,2,   0.011,2,   0.008,2,-999.000,1,    0.007,4,  -999.0,9,  -999.0,9,-999.0000,9,  -999.00,-999.000,9,-999.0000,9, -999.00,9, -999.00,9,  -999.0,9,  -999.0,-999.000,9,-999.000,  -999.0,9,-999.000,-999.0000, -999.00,   1.5605,   1.8763,2,20091207,       1359
318M20091121,        P06,      59,          2,          1,          1,2,20091207,       1349,   -30.0797,   175.4999,       4232,  4297.8,   1.9158,  34.6821,  34.6825,2,    155.5,2,   155.3,2,  126.73,2,   34.96,2,    0.00,2,    2.46,2,   0.009,2,   0.005,2,-999.000,1,    0.027,4,  2311.1,6,  2407.3,6,   7.5937,2,    25.00,-999.000,9,-999.0000,9, -999.00,9, -999.00,9,  -999.0,9,  -999.0,-999.000,9,-999.000,  -999.0,9,-999.000,-999.0000, -999.00,   1.5514,   1.9161,2,20091207,       1349