BOTTLE,20220818CCHSIOAMB
EXPOCODE,SECT_ID,STNNBR,CASTNO,SAMPNO,BTLNBR,BTLNBR_FLAG_W,DATE,TIME,LATITUDE,LONGITUDE,DEPTH,CTDPRS,CTDTMP,CTDSAL,SALNTY,SALNTY_FLAG_W,CTDOXY,CTDOXY_FLAG_W,OXYGEN,OXYGEN_FLAG_W,SILCAT,SILCAT_FLAG_W,NITRAT,NITRAT_FLAG_W,NITRIT,NITRIT_FLAG_W,PHSPHT,PHSPHT_FLAG_W,CFC-11,CFC-11_FLAG_W,CFC-12,CFC-12_FLAG_W,CFC113,CFC113_FLAG_W,SF6,SF6_FLAG_W,TCARBN,TCARBN_FLAG_W,ALKALI,ALKALI_FLAG_W,PH_SWS,PH_SWS_FLAG_W,PH_TMP,TRITUM,TRITUM_FLAG_W,HELIUM,HELIUM_FLAG_W,DELHE3,DELHE3_FLAG_W,DELC13,DELC13_FLAG_W,DELC14,DELC14_FLAG_W,C14ERR,NEON,NEON_FLAG_W,NEONER,DOC,DOC_FLAG_W,TRITER,HELIER,DELHER,THETA,SBE35,SBE35_FLAG_W,BTL_DATE,BTL_TIME
,,,,,,,,,,,METERS,DBAR,ITS-90,PSS-78,PSS-78,,UMOL/KG,,UMOL/KG,,UMOL/KG,,UMOL/KG,,UMOL/KG,,UMOL/KG,,PMOL/KG,,PMOL/KG,,PMOL/KG,,FMOL/KG,,UMOL/KG,,UMOL/KG,,,,DEG C,TU,,NMOL/KG,,PERCNT,,/MILLE,,/MILLE,,/MILLE,NMOL/KG,,NMOL/KG,UMOL/KG,,TU,NMOL/KG,PERCNT,DEG C,ITS-90,,,
318M20091121,        P06,      71,          1,         31,         31,2,20091210,       1730,   -32.5003,   179.9204,       2730,     5.9,  20.0398,  35.5277,  35.5284,2,    237.1,2,   233.3,2,    2.37,2,    0.00,2,    0.00,2,    0.15,2,   2.181,2,   1.360,2,-999.000,1,    1.198,2,  2058.4,6,  2331.9,6,   7.9946,6,    25.00,-999.000,9,-999.0000,9, -999.00,9, -999.00,9,  -999.0,9,  -999.0,-999.000,9,-999.000,  -999.0,9,-999.000,-999.0000, -999.00,  20.0387,  20.0411,2,20091210,       1916
318M20091121,        P06,      71,          1,         30,         30,2,20091210,       1730,   -32.5003,   179.9204,       2730,    24.6,  19.4287,  35.5062,  35.5063,2,    239.7,2,   238.0,2,    2.31,2,    0.00,2,    0.00,2,    0.14,2,   2.212,2,   1.370,2,-999.000,1,    1.144,2,  -999.0,9,  -999.0,9,-999.0000,9,  -999.00,-999.000,9,-999.0000,9, -999.00,9, -999.00,9,  -999.0,9,  -999.0,-999.000,9,-999.000,  -999.0,9,-999.000,-999.0000, -999.00,  19.4242,  19.4252,2,20091210,       1914
318M20091121,        P06,      71,          1,         29,         29,2,20091210,       1730,   -32.5003,   179.9204,       2730,    50.0,  17.1475,  35.4552,  35.4557,2,    250.0,2,   249.3,2,    3.02,2,    0.00,2,    0.00,2,    0.14,2,   2.397,6,   1.481,6,-999.000,1,   1.1825,6,  2058.0,2,  2327.2,2,   7.9860,2,    25.00,-999.000,9,-999.0000,9, -999.00,9, -999.00,9,  -999.0,9,  -999.0,-999.000,9,-999.000,  -999.0,9,-999.000,-999.0000, -999.00,  17.1392,  17.1490,2,20091210,       1911
318M20091121,        P06,      71,          1,         28,         28,2,20091210,       1730,   -32.5003,   179.9204,       2730,    75.0,  15.7164,  35.3986,  35.3959,2,    244.6,2,   242.6,2,    2.97,2,    1.48,2,    0.07,2,    0.25,2,   2.490,2,   1.527,2,-999.000,1,    1.192,2,  -999.0,9,  -999.0,9,-999.0000,9,  -999.00,-999.000,9,-999.0000,9, -999.00,9, -999.00,9,  -999.0,9,  -999.0,-999.000,9,-999.000,  -999.0,9,-999.000,-999.0000, -999.00,  15.7047,  15.7146,2,20091210,       1909
318M20091121,        P06,      71,          1,         27,         27,2,20091210,       1730,   -32.5003,   179.9204,       2730,   100.5,  14.3851,  35.3030,  35.3009,2,    231.6,2,   239.2,4,    3.50,2,    5.00,2,    0.07,2,    0.46,2,   2.549,2,   1.552,2,-999.000,1,    1.223,2,  2090.2,2,  2320.1,2,   7.9076,2,    25.00,-999.000,9,-999.0000,9, -999.00,9, -999.00,9,  -999.0,9,  -999.0,-999.000,9,-999.000,  -999.0,9,-999.000,-999.0000, -999.00,  14.3703,  14.3814,2,20091210,       1907
318M20091121,        P06,      71,          1,         26,         26,2,20091210,       1730,   -32.5003,   179.9204,       2730,   125.9,  13.9327,  35.2663,  35.2634,2,   -999.0,9,  -999.0,5,    3.44,2,    6.31,2,    0.04,2,    0.55,2,   2.586,2,   1.557,2,-999.000,1,    1.162,2,  -999.0,9,  -999.0,9,-999.0000,9,  -999.00,-999.000,9,-999.0000,9, -999.00,9, -999.00,9,  -999.0,9,  -999.0,-999.000,9,-999.000,  -999.0,9,-999.000,-999.0000, -999.00,  13.9146,  13.9350,2,20091210,       1904
318M20091121,        P06,      71,          1,         25,         25,2,20091210,       1730,   -32.5003,   179.9204,       2730,   151.3,  13.5607,  35.2250,  35.2204,2,    223.7,2,   223.9,2,    3.58,2,    7.45,2,    0.03,2,    0.61,2,   2.586,2,   1.540,2,-999.000,1,    1.105,2,  2102.5,2,  2314.8,2,   7.8800,2,    25.00,-999.000,9,-999.0000,9, -999.00,9, -999.00,9,  -999.0,9,  -999.0,-999.000,9,-999.000,  -999.0,9,-999.000,-999.0000, -999.00,  13.5393,  13.5605,2,20091210,       1902
318M20091121,        P06,      71,          1,         24,         24,2,20091210,       1730,   -32.5003,   179.9204,       2730,   202.0,  12.9393,  35.1563,  35.1553,2,    217.9,2,   217.7,2,    3.91,2,    9.28,2,    0.01,2,    0.71,2,   2.623,2,   1.556,2,-999.000,1,    0.947,2,  -999.0,9,  -999.0,9,-999.0000,9,  -999.00,-999.000,9,-999.0000,9, -999.00,9, -999.00,9,  -999.0,9,  -999.0,-999.000,9,-999.000,  -999.0,9,-999.000,-999.0000, -999.00,  12.9116,  12.9390,2,20091210,       1900
318M20091121,        P06,      71,          1,         23,         23,2,20091210,       1730,   -32.5003,   179.9204,       2730,   252.8,  12.0840,  35.0417,  35.0384,2,    211.9,2,   211.5,2,    4.63,2,   11.94,2,    0.01,2,    0.88,2,   2.659,2,   1.550,2,-999.000,1,    0.963,2,  2119.6,2,  2306.7,2,   7.8229,2,    25.00,-999.000,9,-999.0000,9, -999.00,9, -999.00,9,  -999.0,9,  -999.0,-999.000,9,-999.000,  -999.0,9,-999.000,-999.0000, -999.00,  12.0508,  12.0827,2,20091210,       1857
318M20091121,        P06,      71,          1,         22,         22,2,20091210,       1730,   -32.5003,   179.9204,       2730,   298.0,  11.1942,  34.9243,  34.9211,2,    207.2,2,   208.9,2,    5.75,2,   14.36,2,    0.01,2,    1.03,2,   2.624,2,   1.500,2,-999.000,1,     0.77,2,  -999.0,9,  -999.0,9,-999.0000,9,  -999.00,-999.000,9,-999.0000,9, -999.00,9, -999.00,9,  -999.0,9,  -999.0,-999.000,9,-999.000,  -999.0,9,-999.000,-999.0000, -999.00,  11.1569,  11.1930,2,20091210,       1854
318M20091121,        P06,      71,          1,         21,         21,2,20091210,       1730,   -32.5003,   179.9204,       2730,   349.5,  10.1701,  34.7892,  34.7921,2,    208.9,2,   208.5,2,    6.47,2,   16.70,2,    0.01,2,    1.18,2,   2.645,2,   1.484,2,-999.000,1,      0.7,2,  2136.5,2,  2295.8,6,   7.7692,2,    25.00,-999.000,9,-999.0000,9, -999.00,9, -999.00,9,  -999.0,9,  -999.0,-999.000,9,-999.000,  -999.0,9,-999.000,-999.0000, -999.00,  10.1289,  10.1708,2,20091210,       1851
318M20091121,        P06,      71,          1,         20,         20,2,20091210,       1730,   -32.5003,   179.9204,       2730,   400.3,   9.6077,  34.7182,  34.7159,2,    209.8,2,   209.1,2,    7.01,2,   17.99,2,    0.01,2,    1.27,2,   2.619,2,   1.496,2,-999.000,1,    0.893,4,  -999.0,9,  -999.0,9,-999.0000,9,  -999.00,-999.000,9,-999.0000,9, -999.00,9, -999.00,9,  -999.0,9,  -999.0,-999.000,9,-999.000,  -999.0,9,-999.000,-999.0000, -999.00,   9.5621,   9.6080,2,20091210,       1848
318M20091121,        P06,      71,          1,         19,         19,2,20091210,       1730,   -32.5003,   179.9204,       2730,   450.8,   9.2185,  34.6682,  34.6673,2,    210.4,2,   210.6,2,    7.34,2,   18.81,2,    0.01,2,    1.32,2,   2.731,4,   1.710,4,-999.000,1,    4.119,4,  2205.3,3,  2293.5,2,   7.7405,2,    25.00,-999.000,9,-999.0000,9, -999.00,9, -999.00,9,  -999.0,9,  -999.0,-999.000,9,-999.000,  -999.0,9,-999.000,-999.0000, -999.00,   9.1683,   9.2185,2,20091210,       1845
318M20091121,        P06,      71,          1,         18,         18,2,20091210,       1730,   -32.5003,   179.9204,       2730,   501.6,   8.7907,  34.6234,  34.6228,2,    211.8,2,   212.2,2,    7.88,2,   19.80,2,    0.00,2,    1.38,2,   2.552,2,   1.404,2,-999.000,1,    0.438,2,  -999.0,9,  -999.0,9,-999.0000,9,  -999.00,-999.000,9,-999.0000,9, -999.00,9, -999.00,9,  -999.0,9,  -999.0,-999.000,9,-999.000,  -999.0,9,-999.000,-999.0000, -999.00,   8.7363,   8.7903,2,20091210,       1843
318M20091121,        P06,      71,          1,         17,         17,2,20091210,       1730,   -32.5003,   179.9204,       2730,   603.2,   8.1499,  34.5552,  34.5540,2,    214.2,2,   213.3,2,    9.00,2,   21.19,2,    0.00,2,    1.48,2,   2.424,2,   1.295,2,-999.000,1,    0.402,2,  2147.7,2,  2289.7,2,   7.7265,2,    25.00,-999.000,9,-999.0000,9, -999.00,9, -999.00,9,  -999.0,9,  -999.0,-999.000,9,-999.000,  -999.0,9,-999.000,-999.0000, -999.00,   8.0870,   8.1493,2,20091210,       1839
318M20091121,        P06,      71,          1,         16,         16,2,20091210,       1730,   -32.5003,   179.9204,       2730,   703.0,   7.4341,  34.4856,  34.4845,2,    215.5,2,   214.8,2,   10.91,2,   22.85,2,    0.00,2,    1.58,2,   2.165,2,   1.158,2,-999.000,1,    0.256,2,  2151.0,2,  2289.8,2,   7.7154,2,    25.00,-999.000,9,-999.0000,9, -999.00,9, -999.00,9,  -999.0,9,  -999.0,-999.000,9,-999.000,  -999.0,9,-999.000,-999.0000, -999.00,   7.3641,   7.4326,2,20091210,       1836
318M20091121,        P06,      71,          1,         15,         15,2,20091210,       1730,   -32.5003,   179.9204,       2730,   804.6,   6.5520,  34.4223,  34.4214,2,    213.4,2,   212.2,2,   15.18,2,   25.05,2,    0.00,2,    1.74,2,   1.588,2,   0.826,2,-999.000,1,    0.201,2,  2161.6,2,  2291.2,2,   7.6943,2,    25.00,-999.000,9,-999.0000,9, -999.00,9, -999.00,9,  -999.0,9,  -999.0,-999.000,9,-999.000,  -999.0,9,-999.000,-999.0000, -999.00,   6.4767,   6.5510,2,20091210,       1833
318M20091121,        P06,      71,          1,         14,         14,2,20091210,       1730,   -32.5003,   179.9204,       2730,   906.9,   5.8124,  34.3863,  34.3853,2,    207.9,2,   208.9,2,   20.45,2,   27.04,2,    0.00,2,    1.88,2,   1.096,2,   0.574,2,-999.000,1,    0.029,2,  2171.0,2,  2295.0,2,   7.6757,2,    25.00,-999.000,9,-999.0000,9, -999.00,9, -999.00,9,  -999.0,9,  -999.0,-999.000,9,-999.000,  -999.0,9,-999.000,-999.0000, -999.00,   5.7320,   5.8148,2,20091210,       1829
318M20091121,        P06,      71,          1,         13,         13,2,20091210,       1730,   -32.5003,   179.9204,       2730,  1004.1,   5.3046,  34.3837,  34.3831,2,    201.7,2,   200.6,2,   27.33,2,   28.50,2,    0.00,2,    1.99,2,   0.812,2,   0.424,2,-999.000,1,        0,2,  -999.0,9,  2300.1,2,   7.6568,2,    25.00,-999.000,9,-999.0000,9, -999.00,9, -999.00,9,  -999.0,9,  -999.0,-999.000,9,-999.000,  -999.0,9,-999.000,-999.0000, -999.00,   5.2188,   5.3058,2,20091210,       1826
318M20091121,        P06,      71,          1,         12,         12,2,20091210,       1730,   -32.5003,   179.9204,       2730,  1107.5,   4.6805,  34.4006,  34.3988,2,    191.3,2,   190.9,2,   37.63,2,   30.18,2,    0.00,2,    2.11,2,   0.519,2,   0.280,2,-999.000,1,        0,2,  -999.0,9,  -999.0,9,-999.0000,9,  -999.00,-999.000,9,-999.0000,9, -999.00,9, -999.00,9,  -999.0,9,  -999.0,-999.000,9,-999.000,  -999.0,9,-999.000,-999.0000, -999.00,   4.5902,   4.6835,2,20091210,       1823
318M20091121,        P06,      71,          1,         11,         11,2,20091210,       1730,   -32.5003,   179.9204,       2730,  1209.5,   4.0530,  34.4226,  34.4216,2,    180.4,2,   180.9,2,   49.01,2,   31.87,2,    0.00,2,    2.23,2,   0.262,2,   0.148,2,-999.000,1,        0,2,  -999.0,9,  -999.0,9,-999.0000,9,  -999.00,-999.000,9,-999.0000,9, -999.00,9, -999.00,9,  -999.0,9,  -999.0,-999.000,9,-999.000,  -999.0,9,-999.000,-999.0000, -999.00,   3.9593,   4.0536,2,20091210,       1819
318M20091121,        P06,      71,          1,         10,         10,2,20091210,       1730,   -32.5003,   179.9204,       2730,  1311.7,   3.5315,  34.4690,  34.4682,2,    172.6,2,   172.1,2,   63.27,2,   32.96,2,    0.00,2,    2.32,2,   0.142,2,   0.082,2,-999.000,1,        0,2,  -999.0,9,  -999.0,9,-999.0000,9,  -999.00,-999.000,9,-999.0000,9, -999.00,9, -999.00,9,  -999.0,9,  -999.0,-999.000,9,-999.000,  -999.0,9,-999.000,-999.0000, -999.00,   3.4340,   3.5316,2,20091210,       1816
318M20091121,        P06,      71,          1,          9,          9,2,20091210,       1730,   -32.5003,   179.9204,       2730,  1414.1,   3.2033,  34.5086,  34.5079,2,    167.6,2,   166.4,2,   74.58,2,   33.47,2,    0.00,2,    2.36,2,   0.095,2,   0.057,2,-999.000,1,        0,2,  -999.0,9,  -999.0,9,-999.0000,9,  -999.00,-999.000,9,-999.0000,9, -999.00,9, -999.00,9,  -999.0,9,  -999.0,-999.000,9,-999.000,  -999.0,9,-999.000,-999.0000, -999.00,   3.1005,   3.2035,2,20091210,       1813
318M20091121,        P06,      71,          1,          8,          8,2,20091210,       1730,   -32.5003,   179.9204,       2730,  1515.4,   2.9584,  34.5420,  34.5421,2,    162.7,2,   162.7,2,   84.53,2,   33.69,2,    0.00,2,    2.39,2,   0.066,2,   0.040,2,-999.000,1,        0,2,  2264.0,2,  2360.8,2,   7.5876,2,    25.00,-999.000,9,-999.0000,9, -999.00,9, -999.00,9,  -999.0,9,  -999.0,-999.000,9,-999.000,  -999.0,9,-999.000,-999.0000, -999.00,   2.8498,   2.9579,2,20091210,       1809
318M20091121,        P06,      71,          1,          7,          7,2,20091210,       1730,   -32.5003,   179.9204,       2730,  1612.2,   2.7695,  34.5699,  34.5691,2,    160.3,2,   159.2,2,   91.88,2,   33.97,2,    0.00,2,    2.41,2,   0.047,2,   0.029,2,-999.000,1,        0,2,  -999.0,9,  -999.0,9,-999.0000,9,  -999.00,-999.000,9,-999.0000,9, -999.00,9, -999.00,9,  -999.0,9,  -999.0,-999.000,9,-999.000,  -999.0,9,-999.000,-999.0000, -999.00,   2.6551,   2.7692,2,20091210,       1806
318M20091121,        P06,      71,          1,          6,          6,2,20091210,       1730,   -32.5003,   179.9204,       2730,  1714.2,   2.5973,  34.5920,  34.5913,2,    157.6,2,   157.1,2,   98.43,2,   34.15,2,    0.00,2,    2.43,2,   0.039,2,   0.026,2,-999.000,1,        0,2,  -999.0,9,  -999.0,9,-999.0000,9,  -999.00,-999.000,9,-999.0000,9, -999.00,9, -999.00,9,  -999.0,9,  -999.0,-999.000,9,-999.000,  -999.0,9,-999.000,-999.0000, -999.00,   2.4765,   2.5974,2,20091210,       1802
318M20091121,        P06,      71,          1,          5,          5,2,20091210,       1730,   -32.5003,   179.9204,       2730,  1816.8,   2.5394,  34.6014,  34.6033,2,    157.1,2,   156.6,2,  101.11,2,   34.19,2,    0.00,2,    2.44,2,   0.035,2,   0.021,2,-999.000,1,        0,2,  -999.0,9,  -999.0,9,-999.0000,9,  -999.00,-999.000,9,-999.0000,9, -999.00,9, -999.00,9,  -999.0,9,  -999.0,-999.000,9,-999.000,  -999.0,9,-999.000,-999.0000, -999.00,   2.4107,   2.5394,2,20091210,       1758
318M20091121,        P06,      71,          1,          4,          4,2,20091210,       1730,   -32.5003,   179.9204,       2730,  2023.2,   2.4011,  34.6191,  34.6196,2,    155.3,2,   155.6,2,  106.46,2,   34.33,2,    0.00,2,    2.44,2,   0.032,2,   0.019,2,-999.000,1,        0,2,  2290.4,2,  2384.1,2,   7.5861,6,    25.00,-999.000,9,-999.0000,9, -999.00,9, -999.00,9,  -999.0,9,  -999.0,-999.000,9,-999.000,  -999.0,9,-999.000,-999.0000, -999.00,   2.2566,   2.4012,2,20091210,       1750
318M20091121,        P06,      71,          1,          3,          3,2,20091210,       1730,   -32.5003,   179.9204,       2730,  2274.0,   2.2722,  34.6349,  34.6341,2,    154.8,2,   154.8,2,  111.21,2,   34.47,2,    0.00,2,    2.45,2,   0.023,2,   0.014,2,-999.000,1,        0,2,  -999.0,9,  -999.0,9,-999.0000,9,  -999.00,-999.000,9,-999.0000,9, -999.00,9, -999.00,9,  -999.0,9,  -999.0,-999.000,9,-999.000,  -999.0,9,-999.000,-999.0000, -999.00,   2.1076,   2.2726,2,20091210,       1744
318M20091121,        P06,      71,          1,          2,          2,2,20091210,       1730,   -32.5003,   179.9204,       2730,  2603.5,   2.1962,  34.6456,  34.6450,2,    154.6,2,   154.2,2,  114.53,2,   34.55,2,    0.00,2,    2.45,2,   0.023,2,   0.017,2,-999.000,1,        0,2,  -999.0,9,  -999.0,9,-999.0000,9,  -999.00,-999.000,9,-999.0000,9, -999.00,9, -999.00,9,  -999.0,9,  -999.0,-999.000,9,-999.000,  -999.0,9,-999.000,-999.0000, -999.00,   2.0026,   2.1957,2,20091210,       1735
318M20091121,        P06,      71,          1,          1,          1,2,20091210,       1730,   -32.5003,   179.9204,       2730,  2778.1,   2.1904,  34.6477,  34.6479,2,    154.1,2,   153.7,2,  115.37,2,   34.60,2,    0.00,2,    2.45,2,   0.019,2,   0.011,2,-999.000,1,        0,2,  2299.5,6,  2396.2,6,   7.5865,2,    25.00,-999.000,9,-999.0000,9, -999.00,9, -999.00,9,  -999.0,9,  -999.0,-999.000,9,-999.000,  -999.0,9,-999.000,-999.0000, -999.00,   1.9803,   2.1899,2,20091210,       1730