BOTTLE,20220818CCHSIOAMB
EXPOCODE,SECT_ID,STNNBR,CASTNO,SAMPNO,BTLNBR,BTLNBR_FLAG_W,DATE,TIME,LATITUDE,LONGITUDE,DEPTH,CTDPRS,CTDTMP,CTDSAL,SALNTY,SALNTY_FLAG_W,CTDOXY,CTDOXY_FLAG_W,OXYGEN,OXYGEN_FLAG_W,SILCAT,SILCAT_FLAG_W,NITRAT,NITRAT_FLAG_W,NITRIT,NITRIT_FLAG_W,PHSPHT,PHSPHT_FLAG_W,CFC-11,CFC-11_FLAG_W,CFC-12,CFC-12_FLAG_W,CFC113,CFC113_FLAG_W,SF6,SF6_FLAG_W,TCARBN,TCARBN_FLAG_W,ALKALI,ALKALI_FLAG_W,PH_SWS,PH_SWS_FLAG_W,PH_TMP,TRITUM,TRITUM_FLAG_W,HELIUM,HELIUM_FLAG_W,DELHE3,DELHE3_FLAG_W,DELC13,DELC13_FLAG_W,DELC14,DELC14_FLAG_W,C14ERR,NEON,NEON_FLAG_W,NEONER,DOC,DOC_FLAG_W,TRITER,HELIER,DELHER,THETA,SBE35,SBE35_FLAG_W,BTL_DATE,BTL_TIME
,,,,,,,,,,,METERS,DBAR,ITS-90,PSS-78,PSS-78,,UMOL/KG,,UMOL/KG,,UMOL/KG,,UMOL/KG,,UMOL/KG,,UMOL/KG,,PMOL/KG,,PMOL/KG,,PMOL/KG,,FMOL/KG,,UMOL/KG,,UMOL/KG,,,,DEG C,TU,,NMOL/KG,,PERCNT,,/MILLE,,/MILLE,,/MILLE,NMOL/KG,,NMOL/KG,UMOL/KG,,TU,NMOL/KG,PERCNT,DEG C,ITS-90,,,
318M20091121,        P06,      22,          1,         30,         30,2,20091128,       0123,   -30.0799,   158.3399,       2660,    13.3,  23.2964,  35.6299,  35.6288,2,    217.5,2,   217.5,2,    0.72,2,    0.00,2,    0.00,2,    0.09,2,   1.901,2,   1.210,2,-999.000,1,    1.233,2,  2017.8,6,  2336.9,6,   8.0622,6,    25.00,-999.000,9,-999.0000,9, -999.00,9, -999.00,9,  -999.0,9,  -999.0,-999.000,9,-999.000,    61.2,2,-999.000,-999.0000, -999.00,  23.2937,  23.2948,2,20091128,       0346
318M20091121,        P06,      22,          1,         29,         29,2,20091128,       0123,   -30.0799,   158.3399,       2660,    20.3,  23.1150,  35.6164,  35.6178,2,    217.7,2,   219.5,2,    0.49,2,    0.00,2,    0.00,2,    0.09,2,   1.916,2,   1.209,2,-999.000,1,      1.2,2,  2016.1,2,  2336.1,2,   8.0607,2,    25.00,-999.000,9,-999.0000,9, -999.00,9, -999.00,9,  -999.0,9,  -999.0,-999.000,9,-999.000,    61.9,2,-999.000,-999.0000, -999.00,  23.1108,  23.1182,2,20091128,       0329
318M20091121,        P06,      22,          1,         28,         28,2,20091128,       0123,   -30.0799,   158.3399,       2660,    40.0,  21.6745,  35.6028,  35.6026,2,    230.3,2,   230.2,2,    0.45,2,    0.00,2,    0.00,2,    0.08,2,   2.044,2,   1.286,2,-999.000,1,    1.194,2,  2014.1,2,  2333.1,2,   8.0609,2,    25.00,-999.000,9,-999.0000,9, -999.00,9, -999.00,9,  -999.0,9,  -999.0,-999.000,9,-999.000,    58.6,2,-999.000,-999.0000, -999.00,  21.6667,  21.6741,2,20091128,       0327
318M20091121,        P06,      22,          1,         27,         27,2,20091128,       0123,   -30.0799,   158.3399,       2660,    65.4,  20.8030,  35.5826,  35.5816,2,    231.4,2,   231.7,2,    0.41,2,    0.00,2,    0.00,2,    0.08,2,   2.094,2,   1.314,2,-999.000,1,    1.223,2,  2015.0,2,  2333.3,2,   8.0576,2,    25.00,-999.000,9,-999.0000,9, -999.00,9, -999.00,9,  -999.0,9,  -999.0,-999.000,9,-999.000,    57.6,2,-999.000,-999.0000, -999.00,  20.7906,  20.8007,2,20091128,       0325
318M20091121,        P06,      22,          1,         26,         26,2,20091128,       0123,   -30.0799,   158.3399,       2660,    90.3,  20.1221,  35.5673,  35.5654,2,    223.1,2,   220.6,2,    0.38,2,   -0.07,2,    0.12,2,    0.13,2,   2.118,2,   1.327,2,-999.000,1,    1.221,2,  2023.0,2,  2333.5,2,   8.0381,2,    25.00,-999.000,9,-999.0000,9, -999.00,9, -999.00,9,  -999.0,9,  -999.0,-999.000,9,-999.000,    56.5,2,-999.000,-999.0000, -999.00,  20.1053,  20.1173,2,20091128,       0322
318M20091121,        P06,      22,          1,         25,         25,2,20091128,       0123,   -30.0799,   158.3399,       2660,   116.0,  19.8359,  35.5674,  35.5660,2,    218.1,2,   215.5,2,    0.34,2,    0.32,2,    0.26,2,    0.16,2,   2.137,2,   1.333,2,-999.000,1,    1.227,2,  2040.2,2,  2330.7,2,   8.0279,2,    25.00,-999.000,9,-999.0000,9, -999.00,9, -999.00,9,  -999.0,9,  -999.0,-999.000,9,-999.000,    52.7,2,-999.000,-999.0000, -999.00,  19.8145,  19.8352,2,20091128,       0320
318M20091121,        P06,      22,          1,         24,         24,2,20091128,       0123,   -30.0799,   158.3399,       2660,   141.1,  19.5251,  35.5789,  35.5765,2,    205.5,2,   205.0,2,    0.72,2,    2.21,2,    0.02,2,    0.24,2,   2.136,2,   1.323,2,-999.000,1,    1.247,2,  2041.6,2,  2329.4,2,   8.0072,2,    25.00,-999.000,9,-999.0000,9, -999.00,9, -999.00,9,  -999.0,9,  -999.0,-999.000,9,-999.000,    50.0,2,-999.000,-999.0000, -999.00,  19.4994,  19.5265,2,20091128,       0318
318M20091121,        P06,      22,          1,         23,         23,2,20091128,       0123,   -30.0799,   158.3399,       2660,   187.7,  19.1888,  35.6112,  35.6101,2,    206.0,2,   194.7,2,    0.89,2,    3.53,2,    0.01,2,    0.33,2,   2.159,2,   1.357,2,-999.000,1,    1.186,2,  2053.8,2,  2330.4,2,   7.9845,2,    25.00,-999.000,9,-999.0000,9, -999.00,9, -999.00,9,  -999.0,9,  -999.0,-999.000,9,-999.000,    48.7,2,-999.000,-999.0000, -999.00,  19.1550,  19.1900,2,20091128,       0315
318M20091121,        P06,      22,          1,         22,         22,2,20091128,       0123,   -30.0799,   158.3399,       2660,   237.8,  18.4523,  35.5952,  35.5943,2,    202.2,2,   202.9,2,    0.85,2,    3.34,2,    0.01,2,    0.33,2,   2.227,2,   1.367,2,-999.000,1,    1.079,2,  2055.8,2,  2331.0,2,   7.9833,2,    25.00,-999.000,9,-999.0000,9, -999.00,9, -999.00,9,  -999.0,9,  -999.0,-999.000,9,-999.000,    49.3,2,-999.000,-999.0000, -999.00,  18.4105,  18.4524,2,20091128,       0310
318M20091121,        P06,      22,          1,         21,         21,2,20091128,       0123,   -30.0799,   158.3399,       2660,   283.2,  17.7231,  35.5803,  35.5793,2,    187.7,2,   188.2,2,    1.44,2,    5.61,2,    0.00,2,    0.48,2,   2.264,2,   1.391,2,-999.000,1,    0.855,2,  2075.2,2,  2330.4,2,   7.9419,2,    25.00,-999.000,9,-999.0000,9, -999.00,9, -999.00,9,  -999.0,9,  -999.0,-999.000,9,-999.000,    45.5,2,-999.000,-999.0000, -999.00,  17.6747,  17.7225,2,20091128,       0307
318M20091121,        P06,      22,          1,         20,         20,2,20091128,       0123,   -30.0799,   158.3399,       2660,   336.3,  16.4512,  35.4831,  35.4847,2,    188.2,2,   187.2,2,    2.01,2,    7.35,2,    0.00,2,    0.60,2,   2.310,2,   1.392,2,-999.000,1,    0.882,2,  2108.7,3,  2326.7,2,   7.9155,2,    25.00,-999.000,9,-999.0000,9, -999.00,9, -999.00,9,  -999.0,9,  -999.0,-999.000,9,-999.000,    47.1,2,-999.000,-999.0000, -999.00,  16.3965,  16.4725,2,20091128,       0304
318M20091121,        P06,      22,          1,         19,         19,2,20091128,       0123,   -30.0799,   158.3399,       2660,   386.8,  15.2853,  35.3790,  35.3789,2,    188.0,2,   187.9,2,    2.59,2,    9.04,2,    0.00,2,    0.71,2,   2.364,2,   1.393,2,-999.000,1,    0.818,2,  2105.6,2,  2322.2,2,   7.8876,2,    25.00,-999.000,9,-999.0000,9, -999.00,9, -999.00,9,  -999.0,9,  -999.0,-999.000,9,-999.000,    45.8,2,-999.000,-999.0000, -999.00,  15.2254,  15.2854,2,20091128,       0300
318M20091121,        P06,      22,          1,         18,         18,2,20091128,       0123,   -30.0799,   158.3399,       2660,   436.1,  14.0878,  35.2691,  35.2695,2,    190.0,2,   190.3,2,    3.17,2,   10.74,2,    0.00,2,    0.83,2,   2.404,2,   1.396,2,-999.000,1,    0.892,2,  2113.9,2,  2317.2,2,   7.8587,2,    25.00,-999.000,9,-999.0000,9, -999.00,9, -999.00,9,  -999.0,9,  -999.0,-999.000,9,-999.000,    43.0,2,-999.000,-999.0000, -999.00,  14.0238,  14.0949,2,20091128,       0257
318M20091121,        P06,      22,          1,         17,         17,2,20091128,       0123,   -30.0799,   158.3399,       2660,   486.2,  13.0240,  35.1590,  35.1587,2,    193.2,2,   193.5,2,    3.95,2,   12.38,2,    0.00,2,    0.94,2,   2.426,2,   1.408,2,-999.000,1,    0.859,2,  2122.2,2,  2312.1,2,   7.8343,2,    25.00,-999.000,9,-999.0000,9, -999.00,9, -999.00,9,  -999.0,9,  -999.0,-999.000,9,-999.000,    42.6,2,-999.000,-999.0000, -999.00,  12.9562,  13.0231,2,20091128,       0253
318M20091121,        P06,      22,          1,         16,         16,2,20091128,       0123,   -30.0799,   158.3399,       2660,   566.5,  11.5641,  34.9915,  34.9907,2,    195.8,2,   195.9,2,    5.36,2,   15.09,2,    0.00,2,    1.10,2,   2.411,2,   1.387,2,-999.000,1,    0.689,2,  2130.2,6,  2306.8,2,   7.7987,2,    25.00,-999.000,9,-999.0000,9, -999.00,9, -999.00,9,  -999.0,9,  -999.0,-999.000,9,-999.000,    42.2,2,-999.000,-999.0000, -999.00,  11.4908,  11.5629,2,20091128,       0249
318M20091121,        P06,      22,          1,         15,         15,2,20091128,       0123,   -30.0799,   158.3399,       2660,   664.7,   9.7545,  34.7545,  34.7551,2,    197.5,2,   197.7,2,    7.78,2,   18.83,2,    0.00,2,    1.35,2,   2.250,2,   1.243,2,-999.000,1,    0.528,2,  2142.9,2,  2299.3,6,   7.7548,2,    25.00,-999.000,9,-999.0000,9, -999.00,9, -999.00,9,  -999.0,9,  -999.0,-999.000,9,-999.000,  -999.0,9,-999.000,-999.0000, -999.00,   9.6769,   9.7571,2,20091128,       0245
318M20091121,        P06,      22,          1,         14,         14,2,20091128,       0123,   -30.0799,   158.3399,       2660,   765.8,   8.2083,  34.5853,  34.5857,2,    198.6,2,   199.0,2,   11.85,2,   22.24,2,    0.00,2,    1.58,2,   1.820,2,   0.957,2,-999.000,1,    0.381,2,  2153.2,2,  2295.2,2,   7.7201,2,    25.00,-999.000,9,-999.0000,9, -999.00,9, -999.00,9,  -999.0,9,  -999.0,-999.000,9,-999.000,  -999.0,9,-999.000,-999.0000, -999.00,   8.1273,   8.2068,2,20091128,       0240
318M20091121,        P06,      22,          1,         13,         13,2,20091128,       0123,   -30.0799,   158.3399,       2660,   868.5,   7.0052,  34.4854,  34.4862,2,    197.1,2,   197.8,2,   17.38,2,   25.01,2,    0.00,2,    1.77,2,   1.269,2,   0.663,2,-999.000,1,    0.064,2,  2164.8,2,  2295.9,2,   7.6952,2,    25.00,-999.000,9,-999.0000,9, -999.00,9, -999.00,9,  -999.0,9,  -999.0,-999.000,9,-999.000,    38.9,2,-999.000,-999.0000, -999.00,   6.9206,   7.0097,2,20091128,       0236
318M20091121,        P06,      22,          1,         12,         12,2,20091128,       0123,   -30.0799,   158.3399,       2660,   968.1,   6.2086,  34.4531,  34.4526,2,    192.7,2,   192.3,2,   24.78,2,   27.11,2,    0.00,2,    1.93,2,   0.842,2,   0.435,2,-999.000,1,        0,2,  2179.1,2,  2302.1,2,   7.6727,2,    25.00,-999.000,9,-999.0000,9, -999.00,9, -999.00,9,  -999.0,9,  -999.0,-999.000,9,-999.000,  -999.0,9,-999.000,-999.0000, -999.00,   6.1194,   6.2071,2,20091128,       0231
318M20091121,        P06,      22,          1,         11,         11,2,20091128,       0123,   -30.0799,   158.3399,       2660,  1071.7,   5.5702,  34.4481,  34.4479,2,    185.3,2,   186.0,2,   33.02,2,   28.82,2,    0.00,2,    2.04,2,   0.587,2,   0.311,2,-999.000,1,        0,2,  2194.7,2,  2308.3,2,   7.6544,2,    25.00,-999.000,9,-999.0000,9, -999.00,9, -999.00,9,  -999.0,9,  -999.0,-999.000,9,-999.000,    37.4,2,-999.000,-999.0000, -999.00,   5.4758,   5.5745,2,20091128,       0227
318M20091121,        P06,      22,          1,         10,         10,2,20091128,       0123,   -30.0799,   158.3399,       2660,  1173.3,   4.8092,  34.4636,  34.4632,2,    175.7,2,   176.9,2,   46.72,2,   30.73,2,    0.00,2,    2.18,2,   0.319,2,   0.182,2,-999.000,1,        0,2,  2214.3,2,  2322.7,2,   7.6312,2,    25.00,-999.000,9,-999.0000,9, -999.00,9, -999.00,9,  -999.0,9,  -999.0,-999.000,9,-999.000,  -999.0,9,-999.000,-999.0000, -999.00,   4.7117,   4.8095,2,20091128,       0223
318M20091121,        P06,      22,          1,          9,          9,2,20091128,       0123,   -30.0799,   158.3399,       2660,  1275.2,   4.2275,  34.4924,  34.4915,2,    168.0,2,   168.1,2,   59.63,2,   32.06,2,    0.00,2,    2.29,2,   0.187,2,   0.110,2,-999.000,1,        0,2,  2232.7,2,  2334.9,2,   7.6131,2,    25.00,-999.000,9,-999.0000,9, -999.00,9, -999.00,9,  -999.0,9,  -999.0,-999.000,9,-999.000,  -999.0,9,-999.000,-999.0000, -999.00,   4.1262,   4.2286,2,20091128,       0217
318M20091121,        P06,      22,          1,          8,          8,2,20091128,       0123,   -30.0799,   158.3399,       2660,  1373.3,   3.8365,  34.5179,  34.5169,2,    161.3,2,   162.0,2,   69.66,2,   32.98,2,    0.00,2,    2.36,2,   0.110,2,   0.068,2,-999.000,1,        0,2,  2244.9,2,  2345.7,2,   7.6095,2,    25.00,-999.000,9,-999.0000,9, -999.00,9, -999.00,9,  -999.0,9,  -999.0,-999.000,9,-999.000,  -999.0,9,-999.000,-999.0000, -999.00,   3.7304,   3.8377,2,20091128,       0212
318M20091121,        P06,      22,          1,          7,          7,2,20091128,       0123,   -30.0799,   158.3399,       2660,  1475.4,   3.4580,  34.5478,  34.5474,2,    155.9,2,   156.5,2,   80.14,2,   33.77,2,    0.00,2,    2.42,2,   0.055,2,   0.141,3,-999.000,1,        0,2,  2259.1,2,  2359.3,2,   7.5884,2,    25.00,-999.000,9,-999.0000,9, -999.00,9, -999.00,9,  -999.0,9,  -999.0,-999.000,9,-999.000,    35.5,2,-999.000,-999.0000, -999.00,   3.3471,   3.4578,2,20091128,       0209
318M20091121,        P06,      22,          1,          6,          6,2,20091128,       0123,   -30.0799,   158.3399,       2660,  1577.5,   3.1794,  34.5709,  34.5704,2,    153.4,2,   152.7,2,   87.28,2,   34.26,2,    0.00,2,    2.45,2,   0.035,2,   0.149,3,-999.000,1,        0,2,  2270.0,2,  2400.5,4,   7.5823,6,    25.00,-999.000,9,-999.0000,9, -999.00,9, -999.00,9,  -999.0,9,  -999.0,-999.000,9,-999.000,  -999.0,9,-999.000,-999.0000, -999.00,   3.0629,   3.1798,2,20091128,       0204
318M20091121,        P06,      22,          1,          5,          5,2,20091128,       0123,   -30.0799,   158.3399,       2660,  1746.8,   2.7899,  34.6083,  34.6080,2,    152.5,2,   153.0,2,   95.06,2,   34.46,2,    0.00,2,    2.47,2,   0.024,2,-999.000,5,-999.000,1,        0,2,  2277.4,2,  2369.9,2,   7.5791,2,    25.00,-999.000,9,-999.0000,9, -999.00,9, -999.00,9,  -999.0,9,  -999.0,-999.000,9,-999.000,  -999.0,9,-999.000,-999.0000, -999.00,   2.6637,   2.7903,2,20091128,       0157
318M20091121,        P06,      22,          1,          4,          4,2,20091128,       0123,   -30.0799,   158.3399,       2660,  1951.2,   2.4993,  34.6417,  34.6420,2,    156.9,2,   158.0,2,   97.57,2,   34.06,2,    0.00,2,    2.43,2,   0.014,2,-999.000,5,-999.000,1,        0,2,  2277.1,2,  2371.7,6,   7.5814,2,    25.00,-999.000,9,-999.0000,9, -999.00,9, -999.00,9,  -999.0,9,  -999.0,-999.000,9,-999.000,  -999.0,9,-999.000,-999.0000, -999.00,   2.3595,   2.5000,2,20091128,       0151
318M20091121,        P06,      22,          1,          3,          3,2,20091128,       0123,   -30.0799,   158.3399,       2660,  2187.2,   2.2698,  34.6736,  34.6735,2,    166.5,2,   167.1,2,   96.48,2,   33.28,2,    0.00,2,    2.37,2,   0.013,2,-999.000,5,-999.000,1,        0,2,  2271.7,2,  2368.1,2,   7.5903,2,    25.00,-999.000,9,-999.0000,9, -999.00,9, -999.00,9,  -999.0,9,  -999.0,-999.000,9,-999.000,    36.1,2,-999.000,-999.0000, -999.00,   2.1128,   2.2702,2,20091128,       0142
318M20091121,        P06,      22,          1,          2,          2,2,20091128,       0123,   -30.0799,   158.3399,       2660,  2443.1,   2.0792,  34.6993,  34.6997,2,    175.8,2,   175.8,2,   96.46,2,   32.50,2,    0.00,2,    2.32,2,   0.016,2,-999.000,5,-999.000,1,        0,2,  2275.2,3,  2365.8,2,   7.5993,2,    25.00,-999.000,9,-999.0000,9, -999.00,9, -999.00,9,  -999.0,9,  -999.0,-999.000,9,-999.000,  -999.0,9,-999.000,-999.0000, -999.00,   1.9024,   2.0798,2,20091128,       0133
318M20091121,        P06,      22,          1,          1,          1,2,20091128,       0123,   -30.0799,   158.3399,       2660,  2708.8,   1.9114,  34.7138,  34.7148,2,    180.9,2,   181.3,2,   98.76,2,   32.16,2,    0.00,2,    2.29,2,   0.014,2,-999.000,5,-999.000,1,        0,2,  2266.2,2,  2442.7,4,   7.6055,2,    25.00,-999.000,9,-999.0000,9, -999.00,9, -999.00,9,  -999.0,9,  -999.0,-999.000,9,-999.000,    38.3,2,-999.000,-999.0000, -999.00,   1.7132,   1.9110,2,20091128,       0123