BOTTLE,20220818CCHSIOAMB
EXPOCODE,SECT_ID,STNNBR,CASTNO,SAMPNO,BTLNBR,BTLNBR_FLAG_W,DATE,TIME,LATITUDE,LONGITUDE,DEPTH,CTDPRS,CTDTMP,CTDSAL,SALNTY,SALNTY_FLAG_W,CTDOXY,CTDOXY_FLAG_W,OXYGEN,OXYGEN_FLAG_W,SILCAT,SILCAT_FLAG_W,NITRAT,NITRAT_FLAG_W,NITRIT,NITRIT_FLAG_W,PHSPHT,PHSPHT_FLAG_W,CFC-11,CFC-11_FLAG_W,CFC-12,CFC-12_FLAG_W,CFC113,CFC113_FLAG_W,SF6,SF6_FLAG_W,TCARBN,TCARBN_FLAG_W,ALKALI,ALKALI_FLAG_W,PH_SWS,PH_SWS_FLAG_W,PH_TMP,TRITUM,TRITUM_FLAG_W,HELIUM,HELIUM_FLAG_W,DELHE3,DELHE3_FLAG_W,DELC13,DELC13_FLAG_W,DELC14,DELC14_FLAG_W,C14ERR,NEON,NEON_FLAG_W,NEONER,DOC,DOC_FLAG_W,TRITER,HELIER,DELHER,THETA,SBE35,SBE35_FLAG_W,BTL_DATE,BTL_TIME
,,,,,,,,,,,METERS,DBAR,ITS-90,PSS-78,PSS-78,,UMOL/KG,,UMOL/KG,,UMOL/KG,,UMOL/KG,,UMOL/KG,,UMOL/KG,,PMOL/KG,,PMOL/KG,,PMOL/KG,,FMOL/KG,,UMOL/KG,,UMOL/KG,,,,DEG C,TU,,NMOL/KG,,PERCNT,,/MILLE,,/MILLE,,/MILLE,NMOL/KG,,NMOL/KG,UMOL/KG,,TU,NMOL/KG,PERCNT,DEG C,ITS-90,,,
318M20091121,        P06,      79,          1,         36,         36,2,20091212,       1804,   -32.4998,  -177.2497,       7426,     6.7,  21.1325,  35.6277,  35.6284,2,    228.1,2,   228.1,2,    0.70,2,    0.00,2,    0.00,2,    0.14,2,   2.094,2,   1.265,2,-999.000,1,    1.222,2,  2058.2,2,  2339.9,2,-999.0000,9,  -999.00,-999.000,9,-999.0000,9, -999.00,9, -999.00,9,  -999.0,9,  -999.0,-999.000,9,-999.000,  -999.0,9,-999.000,-999.0000, -999.00,  21.1312,  21.1305,2,20091212,       2056
318M20091121,        P06,      79,          1,         35,         35,2,20091212,       1804,   -32.4998,  -177.2497,       7426,    20.1,  20.3936,  35.5909,  35.5920,2,    233.4,2,   233.2,2,    0.50,2,   -0.01,2,    0.01,2,    0.13,2,   2.186,2,   1.317,2,-999.000,1,    1.153,2,  -999.0,9,  2335.4,6,-999.0000,9,  -999.00,-999.000,9,-999.0000,9, -999.00,9, -999.00,9,  -999.0,9,  -999.0,-999.000,9,-999.000,  -999.0,9,-999.000,-999.0000, -999.00,  20.3898,  20.2742,3,20091212,       2053
318M20091121,        P06,      79,          1,         34,         34,2,20091212,       1804,   -32.4998,  -177.2497,       7426,    41.6,  17.6800,  35.5415,  35.5373,2,    247.4,2,   248.0,2,    0.66,2,   -0.01,2,    0.01,2,    0.13,2,   2.370,2,   1.398,2,-999.000,1,    1.249,2,  -999.0,9,  -999.0,9,-999.0000,9,  -999.00,-999.000,9,-999.0000,9, -999.00,9, -999.00,9,  -999.0,9,  -999.0,-999.000,9,-999.000,  -999.0,9,-999.000,-999.0000, -999.00,  17.6729,  17.6831,2,20091212,       2051
318M20091121,        P06,      79,          1,         33,         33,2,20091212,       1804,   -32.4998,  -177.2497,       7426,    66.4,  16.9085,  35.5622,  35.5630,2,    238.0,2,   223.9,2,    0.84,2,    1.81,2,    0.09,2,    0.27,2,   2.356,6,   1.389,6,-999.000,1,    1.249,6,  -999.0,9,  2330.0,2,-999.0000,9,  -999.00,-999.000,9,-999.0000,9, -999.00,9, -999.00,9,  -999.0,9,  -999.0,-999.000,9,-999.000,  -999.0,9,-999.000,-999.0000, -999.00,  16.8976,  16.9129,2,20091212,       2049
318M20091121,        P06,      79,          1,         32,         32,2,20091212,       1804,   -32.4998,  -177.2497,       7426,    92.0,  16.3766,  35.5382,  35.5355,2,    232.8,2,   218.6,2,    1.19,2,    3.48,2,    0.03,2,    0.37,2,   2.409,2,   1.410,2,-999.000,1,    1.159,2,  -999.0,9,  -999.0,9,-999.0000,9,  -999.00,-999.000,9,-999.0000,9, -999.00,9, -999.00,9,  -999.0,9,  -999.0,-999.000,9,-999.000,  -999.0,9,-999.000,-999.0000, -999.00,  16.3618,  16.3755,2,20091212,       2047
318M20091121,        P06,      79,          1,         31,         31,2,20091212,       1804,   -32.4998,  -177.2497,       7426,   134.0,  15.4563,  35.4227,  35.4231,2,    207.7,2,   208.4,2,    1.73,2,    5.81,2,    0.02,2,    0.52,2,   2.453,2,   1.402,2,-999.000,1,    1.002,2,  -999.0,9,  2320.9,2,-999.0000,9,  -999.00,-999.000,9,-999.0000,9, -999.00,9, -999.00,9,  -999.0,9,  -999.0,-999.000,9,-999.000,  -999.0,9,-999.000,-999.0000, -999.00,  15.4356,  15.4561,2,20091212,       2045
318M20091121,        P06,      79,          1,         30,         30,2,20091212,       1804,   -32.4998,  -177.2497,       7426,   184.2,  14.6226,  35.3385,  35.3403,2,    215.7,2,   209.8,2,    2.09,2,    7.08,2,    0.02,2,    0.61,2,   2.530,2,   1.453,2,-999.000,1,    1.067,2,  -999.0,9,  -999.0,9,-999.0000,9,  -999.00,-999.000,9,-999.0000,9, -999.00,9, -999.00,9,  -999.0,9,  -999.0,-999.000,9,-999.000,  -999.0,9,-999.000,-999.0000, -999.00,  14.5951,  14.6176,2,20091212,       2042
318M20091121,        P06,      79,          1,         29,         29,2,20091212,       1804,   -32.4998,  -177.2497,       7426,   235.4,  13.8800,  35.2653,  35.2669,2,    217.8,2,   216.9,2,    2.26,2,    7.47,2,    0.02,2,    0.64,2,   2.642,2,   1.506,2,-999.000,1,    0.985,2,  -999.0,9,  2316.2,2,-999.0000,9,  -999.00,-999.000,9,-999.0000,9, -999.00,9, -999.00,9,  -999.0,9,  -999.0,-999.000,9,-999.000,  -999.0,9,-999.000,-999.0000, -999.00,  13.8460,  13.8682,2,20091212,       2039
318M20091121,        P06,      79,          1,         28,         28,2,20091212,       1804,   -32.4998,  -177.2497,       7426,   286.7,  12.9382,  35.1370,  35.1397,2,    201.9,2,   207.8,2,    3.18,2,   10.23,2,    0.02,2,    0.80,2,   2.621,2,   1.475,2,-999.000,1,    0.892,2,  -999.0,9,  -999.0,9,-999.0000,9,  -999.00,-999.000,9,-999.0000,9, -999.00,9, -999.00,9,  -999.0,9,  -999.0,-999.000,9,-999.000,  -999.0,9,-999.000,-999.0000, -999.00,  12.8987,  12.9473,2,20091212,       2036
318M20091121,        P06,      79,          1,         27,         27,2,20091212,       1804,   -32.4998,  -177.2497,       7426,   336.3,  11.9273,  35.0066,  35.0074,2,    202.6,2,   201.6,2,    4.10,2,   13.18,2,    0.01,2,    0.97,2,   2.634,2,   1.449,2,-999.000,1,    0.865,2,  -999.0,9,  2303.2,2,-999.0000,9,  -999.00,-999.000,9,-999.0000,9, -999.00,9, -999.00,9,  -999.0,9,  -999.0,-999.000,9,-999.000,  -999.0,9,-999.000,-999.0000, -999.00,  11.8833,  11.9353,2,20091212,       2033
318M20091121,        P06,      79,          1,         26,         26,2,20091212,       1804,   -32.4998,  -177.2497,       7426,   388.0,  11.0624,  34.8978,  34.8986,2,    203.5,2,   206.6,2,    4.64,2,   14.57,2,    0.01,2,    1.06,2,   2.751,2,   1.515,2,-999.000,1,    0.792,2,  -999.0,9,  -999.0,9,-999.0000,9,  -999.00,-999.000,9,-999.0000,9, -999.00,9, -999.00,9,  -999.0,9,  -999.0,-999.000,9,-999.000,  -999.0,9,-999.000,-999.0000, -999.00,  11.0140,  11.0655,2,20091212,       2030
318M20091121,        P06,      79,          1,         25,         25,2,20091212,       1804,   -32.4998,  -177.2497,       7426,   468.3,   9.6688,  34.7176,  34.7184,2,    206.3,2,   208.3,2,    6.13,2,   17.86,2,    0.01,2,    1.26,2,   2.642,2,   1.394,2,-999.000,1,    0.643,2,  -999.0,9,  2294.0,2,-999.0000,9,  -999.00,-999.000,9,-999.0000,9, -999.00,9, -999.00,9,  -999.0,9,  -999.0,-999.000,9,-999.000,  -999.0,9,-999.000,-999.0000, -999.00,   9.6150,   9.6665,2,20091212,       2028
318M20091121,        P06,      79,          1,         24,         24,2,20091212,       1804,   -32.4998,  -177.2497,       7426,   566.1,   8.2286,  34.5447,  34.5439,2,    215.5,2,   215.6,2,    7.62,2,   20.70,2,    0.01,2,    1.45,2,   2.543,2,   1.296,2,-999.000,1,    0.361,2,  -999.0,9,  -999.0,9,-999.0000,9,  -999.00,-999.000,9,-999.0000,9, -999.00,9, -999.00,9,  -999.0,9,  -999.0,-999.000,9,-999.000,  -999.0,9,-999.000,-999.0000, -999.00,   8.1694,   8.2287,2,20091212,       2024
318M20091121,        P06,      79,          1,         23,         23,2,20091212,       1804,   -32.4998,  -177.2497,       7426,   667.0,   7.4907,  34.4779,  34.4766,2,    217.3,2,   218.6,2,    9.67,2,   22.41,2,    0.01,2,    1.55,2,   2.310,2,   1.166,2,-999.000,1,    0.293,2,  -999.0,9,  2287.2,2,-999.0000,9,  -999.00,-999.000,9,-999.0000,9, -999.00,9, -999.00,9,  -999.0,9,  -999.0,-999.000,9,-999.000,  -999.0,9,-999.000,-999.0000, -999.00,   7.4242,   7.4896,2,20091212,       2021
318M20091121,        P06,      79,          1,         22,         22,2,20091212,       1804,   -32.4998,  -177.2497,       7426,   760.0,   6.8313,  34.4286,  34.4273,2,    218.9,2,   217.0,2,   12.68,2,   24.08,2,    0.01,2,    1.66,2,   1.918,2,   0.951,2,-999.000,1,    0.239,2,  -999.0,9,  -999.0,9,-999.0000,9,  -999.00,-999.000,9,-999.0000,9, -999.00,9, -999.00,9,  -999.0,9,  -999.0,-999.000,9,-999.000,  -999.0,9,-999.000,-999.0000, -999.00,   6.7588,   6.8330,2,20091212,       2017
318M20091121,        P06,      79,          1,         21,         21,2,20091212,       1804,   -32.4998,  -177.2497,       7426,   871.8,   6.0897,  34.3875,  34.3870,2,    214.0,2,   212.9,2,   17.59,2,   26.13,2,    0.01,2,    1.81,2,   1.409,2,   0.702,2,-999.000,1,    0.119,2,  -999.0,9,  2290.4,2,-999.0000,9,  -999.00,-999.000,9,-999.0000,9, -999.00,9, -999.00,9,  -999.0,9,  -999.0,-999.000,9,-999.000,  -999.0,9,-999.000,-999.0000, -999.00,   6.0108,   6.0891,2,20091212,       2012
318M20091121,        P06,      79,          1,         20,         20,2,20091212,       1804,   -32.4998,  -177.2497,       7426,   973.2,   5.2669,  34.3517,  34.3510,2,    202.7,2,   203.8,2,   23.47,2,   28.79,2,    0.01,2,    1.99,2,   0.757,2,   0.377,2,-999.000,1,        0,2,  -999.0,9,  -999.0,9,-999.0000,9,  -999.00,-999.000,9,-999.0000,9, -999.00,9, -999.00,9,  -999.0,9,  -999.0,-999.000,9,-999.000,  -999.0,9,-999.000,-999.0000, -999.00,   5.1843,   5.2681,2,20091212,       2009
318M20091121,        P06,      79,          1,         19,         19,2,20091212,       1804,   -32.4998,  -177.2497,       7426,  1177.5,   4.1398,  34.3983,  34.3974,2,    183.3,2,   184.6,2,   43.18,2,   32.03,2,    0.01,2,    2.21,2,   0.290,2,   0.159,2,-999.000,1,        0,2,  -999.0,9,  2312.4,6,-999.0000,9,  -999.00,-999.000,9,-999.0000,9, -999.00,9, -999.00,9,  -999.0,9,  -999.0,-999.000,9,-999.000,  -999.0,9,-999.000,-999.0000, -999.00,   4.0481,   4.1381,2,20091212,       2004
318M20091121,        P06,      79,          1,         18,         18,2,20091212,       1804,   -32.4998,  -177.2497,       7426,  1376.2,   3.2629,  34.4799,  34.4813,2,    168.6,2,   169.8,2,   65.01,2,   33.86,2,    0.00,2,    2.36,2,   0.082,2,   0.050,2,-999.000,1,        0,2,  -999.0,9,  -999.0,9,-999.0000,9,  -999.00,-999.000,9,-999.0000,9, -999.00,9, -999.00,9,  -999.0,9,  -999.0,-999.000,9,-999.000,  -999.0,9,-999.000,-999.0000, -999.00,   3.1627,   3.2627,2,20091212,       1959
318M20091121,        P06,      79,          1,         17,         17,2,20091212,       1804,   -32.4998,  -177.2497,       7426,  1580.6,   2.8266,  34.5470,  34.5456,2,    158.6,2,   158.6,2,   84.49,2,   34.75,2,    0.00,2,    2.43,2,   0.020,2,   0.016,2,-999.000,1,        0,2,  -999.0,9,  2357.1,2,-999.0000,9,  -999.00,-999.000,9,-999.0000,9, -999.00,9, -999.00,9,  -999.0,9,  -999.0,-999.000,9,-999.000,  -999.0,9,-999.000,-999.0000, -999.00,   2.7142,   2.8264,2,20091212,       1954
318M20091121,        P06,      79,          1,         16,         16,2,20091212,       1804,   -32.4998,  -177.2497,       7426,  1778.4,   2.5883,  34.5882,  34.5883,2,    153.4,2,   153.5,2,   97.21,2,   35.17,2,    0.00,2,    2.46,2,   0.012,2,   0.013,2,-999.000,1,        0,2,  -999.0,9,  -999.0,9,-999.0000,9,  -999.00,-999.000,9,-999.0000,9, -999.00,9, -999.00,9,  -999.0,9,  -999.0,-999.000,9,-999.000,  -999.0,9,-999.000,-999.0000, -999.00,   2.4622,   2.5864,2,20091212,       1949
318M20091121,        P06,      79,          1,         15,         15,2,20091212,       1804,   -32.4998,  -177.2497,       7426,  1984.0,   2.4298,  34.6108,  34.6101,2,    150.0,2,   149.5,2,  106.25,2,   35.44,2,    0.00,2,    2.48,2,   0.008,2,   0.009,2,-999.000,1,        0,2,  -999.0,9,  2382.8,2,-999.0000,9,  -999.00,-999.000,9,-999.0000,9, -999.00,9, -999.00,9,  -999.0,9,  -999.0,-999.000,9,-999.000,  -999.0,9,-999.000,-999.0000, -999.00,   2.2883,   2.4296,2,20091212,       1944
318M20091121,        P06,      79,          1,         14,         14,2,20091212,       1804,   -32.4998,  -177.2497,       7426,  2224.3,   2.2903,  34.6269,  34.6264,2,    148.6,2,   148.7,2,  112.53,2,   35.53,2,    0.00,2,    2.49,2,   0.042,4,   0.031,4,-999.000,1,        0,2,  -999.0,9,  -999.0,9,-999.0000,9,  -999.00,-999.000,9,-999.0000,9, -999.00,9, -999.00,9,  -999.0,9,  -999.0,-999.000,9,-999.000,  -999.0,9,-999.000,-999.0000, -999.00,   2.1298,   2.2898,2,20091212,       1938
318M20091121,        P06,      79,          1,         13,         13,2,20091212,       1804,   -32.4998,  -177.2497,       7426,  2526.5,   2.1398,  34.6413,  34.6412,2,    147.8,2,   147.2,2,  119.04,2,   35.71,2,    0.00,2,    2.50,2,   0.008,2,   0.008,2,-999.000,1,        0,2,  -999.0,9,  2397.2,2,-999.0000,9,  -999.00,-999.000,9,-999.0000,9, -999.00,9, -999.00,9,  -999.0,9,  -999.0,-999.000,9,-999.000,  -999.0,9,-999.000,-999.0000, -999.00,   1.9545,   2.1397,2,20091212,       1931
318M20091121,        P06,      79,          1,         12,         12,2,20091212,       1804,   -32.4998,  -177.2497,       7426,  2833.0,   1.9798,  34.6561,  34.6559,2,    148.3,2,   148.3,2,  124.35,2,   35.70,2,    0.00,2,    2.50,2,   0.005,2,   0.008,2,-999.000,1,        0,2,  -999.0,9,  -999.0,9,-999.0000,9,  -999.00,-999.000,9,-999.0000,9, -999.00,9, -999.00,9,  -999.0,9,  -999.0,-999.000,9,-999.000,  -999.0,9,-999.000,-999.0000, -999.00,   1.7687,   1.9794,2,20091212,       1925
318M20091121,        P06,      79,          1,         11,         11,2,20091212,       1804,   -32.4998,  -177.2497,       7426,  3136.6,   1.8292,  34.6808,  34.6797,2,    160.5,2,   161.1,2,  120.97,2,   34.59,2,    0.00,2,    2.42,2,   0.016,2,   0.013,2,-999.000,1,        0,2,  -999.0,9,  2396.6,2,-999.0000,9,  -999.00,-999.000,9,-999.0000,9, -999.00,9, -999.00,9,  -999.0,9,  -999.0,-999.000,9,-999.000,  -999.0,9,-999.000,-999.0000, -999.00,   1.5917,   1.8291,2,20091212,       1918
318M20091121,        P06,      79,          1,         10,         10,2,20091212,       1804,   -32.4998,  -177.2497,       7426,  3441.6,   1.6868,  34.7151,  34.7139,2,    184.4,2,   185.2,2,  106.76,2,   32.08,2,    0.00,2,    2.25,2,   0.037,2,   0.025,2,-999.000,1,        0,2,  -999.0,9,  -999.0,9,-999.0000,9,  -999.00,-999.000,9,-999.0000,9, -999.00,9, -999.00,9,  -999.0,9,  -999.0,-999.000,9,-999.000,  -999.0,9,-999.000,-999.0000, -999.00,   1.4217,   1.6874,2,20091212,       1911
318M20091121,        P06,      79,          1,          9,          9,2,20091212,       1804,   -32.4998,  -177.2497,       7426,  3732.6,   1.4581,  34.7228,  34.7212,2,    197.2,2,   196.7,2,  107.54,2,   31.69,2,    0.01,2,    2.20,2,   0.050,2,   0.033,2,-999.000,1,        0,2,  -999.0,9,  2364.3,2,-999.0000,9,  -999.00,-999.000,9,-999.0000,9, -999.00,9, -999.00,9,  -999.0,9,  -999.0,-999.000,9,-999.000,  -999.0,9,-999.000,-999.0000, -999.00,   1.1687,   1.4581,2,20091212,       1905
318M20091121,        P06,      79,          1,          8,          8,2,20091212,       1804,   -32.4998,  -177.2497,       7426,  4063.7,   1.2358,  34.7183,  34.7179,2,    202.4,2,   202.3,2,  113.05,2,   31.73,2,    0.01,2,    2.21,2,   0.065,2,   0.038,2,-999.000,1,        0,2,  -999.0,9,  -999.0,9,-999.0000,9,  -999.00,-999.000,9,-999.0000,9, -999.00,9, -999.00,9,  -999.0,9,  -999.0,-999.000,9,-999.000,  -999.0,9,-999.000,-999.0000, -999.00,   0.9172,   1.2353,2,20091212,       1857
318M20091121,        P06,      79,          1,          7,          7,2,20091212,       1804,   -32.4998,  -177.2497,       7426,  4368.6,   1.1133,  34.7138,  34.7133,2,    204.8,2,   204.9,2,  116.98,2,   31.81,2,    0.01,2,    2.20,2,   0.081,2,   0.049,2,-999.000,1,        0,2,  -999.0,9,  2363.7,2,-999.0000,9,  -999.00,-999.000,9,-999.0000,9, -999.00,9, -999.00,9,  -999.0,9,  -999.0,-999.000,9,-999.000,  -999.0,9,-999.000,-999.0000, -999.00,   0.7649,   1.1131,2,20091212,       1850
318M20091121,        P06,      79,          1,          6,          6,2,20091212,       1804,   -32.4998,  -177.2497,       7426,  4674.1,   1.0731,  34.7110,  34.7107,2,    206.2,2,   205.5,4,  118.95,2,   31.85,2,    0.01,2,    2.21,2,   0.093,2,   0.055,2,-999.000,1,        0,2,  -999.0,9,  -999.0,9,-999.0000,9,  -999.00,-999.000,9,-999.0000,9, -999.00,9, -999.00,9,  -999.0,9,  -999.0,-999.000,9,-999.000,  -999.0,9,-999.000,-999.0000, -999.00,   0.6913,   1.0728,2,20091212,       1843
318M20091121,        P06,      79,          1,          5,          5,2,20091212,       1804,   -32.4998,  -177.2497,       7426,  4985.8,   1.0670,  34.7098,  34.7092,2,    206.7,2,   206.8,2,  120.34,2,   31.98,2,    0.01,2,    2.21,2,   0.096,2,   0.055,2,-999.000,1,        0,2,  -999.0,9,  2367.1,2,-999.0000,9,  -999.00,-999.000,9,-999.0000,9, -999.00,9, -999.00,9,  -999.0,9,  -999.0,-999.000,9,-999.000,  -999.0,9,-999.000,-999.0000, -999.00,   0.6489,   1.0672,2,20091212,       1835
318M20091121,        P06,      79,          1,          4,          4,2,20091212,       1804,   -32.4998,  -177.2497,       7426,  5292.2,   1.0824,  34.7088,  34.7080,2,    207.2,2,   207.0,2,  120.32,2,   32.01,2,    0.01,2,    2.22,2,   0.102,2,   0.059,2,-999.000,1,        0,2,  -999.0,9,  -999.0,9,-999.0000,9,  -999.00,-999.000,9,-999.0000,9, -999.00,9, -999.00,9,  -999.0,9,  -999.0,-999.000,9,-999.000,  -999.0,9,-999.000,-999.0000, -999.00,   0.6267,   1.0824,2,20091212,       1828
318M20091121,        P06,      79,          1,          3,          3,2,20091212,       1804,   -32.4998,  -177.2497,       7426,  5604.0,   1.1100,  34.7084,  34.7074,2,    207.1,2,   207.0,2,  121.09,2,   32.10,2,    0.00,2,    2.22,2,   0.090,2,   0.054,2,-999.000,1,        0,2,  -999.0,9,  2365.5,2,-999.0000,9,  -999.00,-999.000,9,-999.0000,9, -999.00,9, -999.00,9,  -999.0,9,  -999.0,-999.000,9,-999.000,  -999.0,9,-999.000,-999.0000, -999.00,   0.6143,   1.1103,2,20091212,       1820
318M20091121,        P06,      79,          1,          2,          2,2,20091212,       1804,   -32.4998,  -177.2497,       7426,  5910.7,   1.1445,  34.7080,  34.7072,2,    207.3,2,   207.2,2,  121.48,2,   32.04,2,    0.00,2,    2.22,2,   0.086,2,   0.046,2,-999.000,1,        0,2,  -999.0,9,  -999.0,9,-999.0000,9,  -999.00,-999.000,9,-999.0000,9, -999.00,9, -999.00,9,  -999.0,9,  -999.0,-999.000,9,-999.000,  -999.0,9,-999.000,-999.0000, -999.00,   0.6080,   1.1444,2,20091212,       1812
318M20091121,        P06,      79,          1,          1,          1,2,20091212,       1804,   -32.4998,  -177.2497,       7426,  6128.9,   1.1717,  34.7079,  34.7072,2,    207.2,2,   207.1,2,  121.48,2,   32.08,2,    0.00,2,    2.22,2,   0.091,2,   0.051,2,-999.000,1,        0,2,  -999.0,9,  2366.7,6,-999.0000,9,  -999.00,-999.000,9,-999.0000,9, -999.00,9, -999.00,9,  -999.0,9,  -999.0,-999.000,9,-999.000,  -999.0,9,-999.000,-999.0000, -999.00,   0.6053,   1.1718,2,20091212,       1804