BOTTLE,20220818CCHSIOAMB
EXPOCODE,SECT_ID,STNNBR,CASTNO,SAMPNO,BTLNBR,BTLNBR_FLAG_W,DATE,TIME,LATITUDE,LONGITUDE,DEPTH,CTDPRS,CTDTMP,CTDSAL,SALNTY,SALNTY_FLAG_W,CTDOXY,CTDOXY_FLAG_W,OXYGEN,OXYGEN_FLAG_W,SILCAT,SILCAT_FLAG_W,NITRAT,NITRAT_FLAG_W,NITRIT,NITRIT_FLAG_W,PHSPHT,PHSPHT_FLAG_W,CFC-11,CFC-11_FLAG_W,CFC-12,CFC-12_FLAG_W,CFC113,CFC113_FLAG_W,SF6,SF6_FLAG_W,TCARBN,TCARBN_FLAG_W,ALKALI,ALKALI_FLAG_W,PH_SWS,PH_SWS_FLAG_W,PH_TMP,TRITUM,TRITUM_FLAG_W,HELIUM,HELIUM_FLAG_W,DELHE3,DELHE3_FLAG_W,DELC13,DELC13_FLAG_W,DELC14,DELC14_FLAG_W,C14ERR,NEON,NEON_FLAG_W,NEONER,DOC,DOC_FLAG_W,TRITER,HELIER,DELHER,THETA,SBE35,SBE35_FLAG_W,BTL_DATE,BTL_TIME
,,,,,,,,,,,METERS,DBAR,ITS-90,PSS-78,PSS-78,,UMOL/KG,,UMOL/KG,,UMOL/KG,,UMOL/KG,,UMOL/KG,,UMOL/KG,,PMOL/KG,,PMOL/KG,,PMOL/KG,,FMOL/KG,,UMOL/KG,,UMOL/KG,,,,DEG C,TU,,NMOL/KG,,PERCNT,,/MILLE,,/MILLE,,/MILLE,NMOL/KG,,NMOL/KG,UMOL/KG,,TU,NMOL/KG,PERCNT,DEG C,ITS-90,,,
318M20091121,        P06,      80,          2,         36,         36,2,20091213,       0257,   -32.4999,  -176.7497,       5996,     3.6,  21.3811,  35.6805,  35.6820,2,    232.0,2,   231.7,2,    0.45,2,    0.00,2,    0.00,2,    0.09,2,   2.129,2,   1.264,2,-999.000,1,    1.215,2,  2044.3,6,  2339.5,2,   8.0031,3,    25.00,-999.000,9,-999.0000,9, -999.00,9,    1.22,2,    66.1,2,     3.3,-999.000,9,-999.000,    62.0,2,-999.000,-999.0000, -999.00,  21.3804,  21.3804,2,20091213,       0553
318M20091121,        P06,      80,          2,         35,         35,2,20091213,       0257,   -32.4999,  -176.7497,       5996,    25.2,  20.5585,  35.6447,  35.6510,2,    234.7,2,   233.4,2,    0.41,2,    0.00,2,    0.00,2,    0.08,2,   2.166,2,   1.277,2,-999.000,1,    1.239,2,  2041.0,2,  2339.2,6,   8.0112,3,    25.00,-999.000,9,-999.0000,9, -999.00,9, -999.00,9,  -999.0,9,  -999.0,-999.000,9,-999.000,    60.2,2,-999.000,-999.0000, -999.00,  20.5537,  20.5478,2,20091213,       0549
318M20091121,        P06,      80,          2,         34,         34,2,20091213,       0257,   -32.4999,  -176.7497,       5996,    50.5,  18.2358,  35.5688,  35.5714,2,    239.1,2,   239.8,2,    0.38,2,    0.00,2,    0.00,2,    0.09,2,   2.312,2,   1.334,2,-999.000,1,    1.163,2,  2041.8,2,  2333.4,2,-999.0000,9,  -999.00,-999.000,9,-999.0000,9, -999.00,9, -999.00,9,  -999.0,9,  -999.0,-999.000,9,-999.000,    66.3,3,-999.000,-999.0000, -999.00,  18.2270,  18.2314,2,20091213,       0547
318M20091121,        P06,      80,          2,         33,         33,2,20091213,       0257,   -32.4999,  -176.7497,       5996,    75.6,  17.6531,  35.5549,  35.5612,2,    238.4,2,   233.5,2,    0.55,2,   -0.01,2,    0.01,2,    0.13,2,   2.313,2,   1.338,2,-999.000,1,      1.2,2,  2052.0,2,  2333.0,2,   7.9668,3,    25.00,-999.000,9,-999.0000,9, -999.00,9, -999.00,9,  -999.0,9,  -999.0,-999.000,9,-999.000,    59.9,2,-999.000,-999.0000, -999.00,  17.6403,  17.6573,2,20091213,       0545
318M20091121,        P06,      80,          2,         32,         32,2,20091213,       0257,   -32.4999,  -176.7497,       5996,   101.5,  16.8566,  35.5310,  35.5385,2,    220.0,2,   214.5,2,    1.08,2,    2.77,2,    0.09,2,    0.32,2,   2.387,2,   1.370,2,-999.000,1,    1.128,2,  2073.1,2,  2330.0,2,-999.0000,9,  -999.00,-999.000,9,-999.0000,9, -999.00,9,    0.98,2,    83.7,2,     3.6,-999.000,9,-999.000,    63.3,2,-999.000,-999.0000, -999.00,  16.8399,  16.8404,2,20091213,       0542
318M20091121,        P06,      80,          2,         31,         31,2,20091213,       0257,   -32.4999,  -176.7497,       5996,   151.5,  15.9386,  35.5007,  35.5004,2,    223.3,2,   222.8,2,    1.05,2,    3.21,2,    0.02,2,    0.34,2,   2.525,2,   1.447,2,-999.000,1,    1.297,2,  2082.2,2,  2328.2,2,   7.9554,3,    25.00,-999.000,9,-999.0000,9, -999.00,9, -999.00,9,  -999.0,9,  -999.0,-999.000,9,-999.000,    54.0,2,-999.000,-999.0000, -999.00,  15.9146,  15.9371,2,20091213,       0540
318M20091121,        P06,      80,          2,         30,         30,2,20091213,       0257,   -32.4999,  -176.7497,       5996,   200.2,  15.0984,  35.3974,  35.3971,2,    222.7,2,   221.6,2,    1.58,2,    4.62,2,    0.01,2,    0.45,2,   2.560,2,   1.456,2,-999.000,1,    1.269,2,  2088.2,2,  2323.8,2,-999.0000,9,  -999.00,-999.000,9,-999.0000,9, -999.00,9,    0.98,2,    68.4,2,     3.1,-999.000,9,-999.000,    53.2,2,-999.000,-999.0000, -999.00,  15.0678,  15.0969,2,20091213,       0536
318M20091121,        P06,      80,          2,         29,         29,2,20091213,       0257,   -32.4999,  -176.7497,       5996,   251.5,  13.8263,  35.2300,  35.2231,2,    204.6,2,   204.6,2,    2.69,2,    9.00,2,    0.01,2,    0.71,2,   2.616,6,   1.448,6,-999.000,1,   1.1815,6,  2108.0,2,  2316.0,2,   7.8499,3,    25.00,-999.000,9,-999.0000,9, -999.00,9,    0.97,2,    62.6,2,     3.4,-999.000,9,-999.000,    51.7,2,-999.000,-999.0000, -999.00,  13.7901,  13.8290,2,20091213,       0533
318M20091121,        P06,      80,          2,         28,         28,2,20091213,       0257,   -32.4999,  -176.7497,       5996,   301.9,  13.0770,  35.1522,  35.1509,2,    206.7,2,   205.9,2,    3.04,2,   10.09,2,    0.01,2,    0.77,2,   2.679,2,   1.489,2,-999.000,1,    1.132,2,  2113.7,2,  2313.0,2,-999.0000,9,  -999.00,-999.000,9,-999.0000,9, -999.00,9,    0.98,2,    61.1,2,     4.3,-999.000,9,-999.000,  -999.0,5,-999.000,-999.0000, -999.00,  13.0351,  13.0764,2,20091213,       0530
318M20091121,        P06,      80,          2,         27,         27,2,20091213,       0257,   -32.4999,  -176.7497,       5996,   353.6,  12.2437,  35.0503,  35.0537,2,    207.0,2,   207.8,2,    3.58,2,   11.71,2,    0.01,2,    0.88,2,   2.728,2,   1.514,2,-999.000,1,     1.07,2,  2120.0,2,  2307.9,2,   7.8269,3,    25.00,-999.000,9,-999.0000,9, -999.00,9,    0.98,2,    56.0,2,     2.9,-999.000,9,-999.000,  -999.0,5,-999.000,-999.0000, -999.00,  12.1966,  12.2582,2,20091213,       0527
318M20091121,        P06,      80,          2,         26,         26,2,20091213,       0257,   -32.4999,  -176.7497,       5996,   404.0,  11.2409,  34.8989,  34.9008,2,    203.5,2,   204.6,2,    4.31,2,   14.19,2,    0.00,2,    1.03,2,   2.746,2,   1.466,2,-999.000,1,    0.847,2,  2126.5,2,  2302.0,2,-999.0000,9,  -999.00,-999.000,9,-999.0000,9, -999.00,9,    1.02,2,    46.1,2,     3.4,-999.000,9,-999.000,    45.2,2,-999.000,-999.0000, -999.00,  11.1900,  11.2440,2,20091213,       0524
318M20091121,        P06,      80,          2,         25,         25,2,20091213,       0257,   -32.4999,  -176.7497,       5996,   503.9,   9.0293,  34.6174,  34.6162,2,    210.6,2,   211.8,2,    5.99,2,   18.82,2,    0.00,2,    1.32,2,   2.741,2,   1.382,2,-999.000,1,    0.592,2,  2136.5,2,  2289.7,2,   7.7410,4,    25.00,-999.000,9,-999.0000,9, -999.00,9,    1.14,2,    24.4,2,     2.9,-999.000,9,-999.000,    38.9,2,-999.000,-999.0000, -999.00,   8.9737,   9.0281,2,20091213,       0521
318M20091121,        P06,      80,          2,         24,         24,2,20091213,       0257,   -32.4999,  -176.7497,       5996,   605.1,   7.8215,  34.4775,  34.4760,2,    221.5,2,   221.7,2,    6.91,2,   21.03,2,    0.00,2,    1.47,2,   2.709,2,   1.358,2,-999.000,1,    0.484,2,  2141.4,2,  2285.2,2,-999.0000,9,  -999.00,-999.000,9,-999.0000,9, -999.00,9,    1.20,2,    23.4,2,     3.2,-999.000,9,-999.000,  -999.0,9,-999.000,-999.0000, -999.00,   7.7599,   7.8194,2,20091213,       0517
318M20091121,        P06,      80,          2,         23,         23,2,20091213,       0257,   -32.4999,  -176.7497,       5996,   705.0,   7.2421,  34.4584,  34.4569,2,    216.8,2,   217.6,2,   10.88,2,   23.02,2,    0.00,2,    1.59,2,   2.178,2,   1.083,2,-999.000,1,    0.364,2,  2149.9,2,  2288.3,2,   7.7489,3,    25.00,-999.000,9,-999.0000,9, -999.00,9,    1.19,2,     0.7,2,     3.1,-999.000,9,-999.000,    40.9,2,-999.000,-999.0000, -999.00,   7.1730,   7.2401,2,20091213,       0514
318M20091121,        P06,      80,          2,         22,         22,2,20091213,       0257,   -32.4999,  -176.7497,       5996,   806.0,   6.4283,  34.3907,  34.3901,2,    215.3,2,   218.0,2,   13.71,2,   24.90,2,    0.00,2,    1.73,2,   1.663,2,   0.808,2,-999.000,1,    0.233,2,  2155.8,2,  2288.5,2,   7.7103,3,    25.00,-999.000,9,-999.0000,9, -999.00,9,    1.23,2,   -12.7,2,     3.1,-999.000,9,-999.000,  -999.0,9,-999.000,-999.0000, -999.00,   6.3537,   6.4332,2,20091213,       0511
318M20091121,        P06,      80,          2,         21,         21,2,20091213,       0257,   -32.4999,  -176.7497,       5996,   907.9,   5.7511,  34.3572,  34.3566,2,    212.3,2,   211.4,2,   18.47,2,   26.99,2,    0.00,2,    1.87,2,   1.087,2,   0.536,2,-999.000,1,    0.093,2,  2163.9,2,  2291.9,6,   7.6646,3,    25.00,-999.000,9,-999.0000,9, -999.00,9,    1.18,2,   -53.2,2,     2.6,-999.000,9,-999.000,    39.8,2,-999.000,-999.0000, -999.00,   5.6711,   5.7500,2,20091213,       0508
318M20091121,        P06,      80,          2,         20,         20,2,20091213,       0257,   -32.4999,  -176.7497,       5996,  1008.6,   5.0949,  34.3611,  34.3605,2,    200.6,2,   199.2,2,   27.47,2,   29.18,2,    0.00,2,    2.02,2,   0.661,2,   0.331,2,-999.000,1,        0,2,  2185.1,6,  2297.1,2,   7.6624,3,    25.00,-999.000,9,-999.0000,9, -999.00,9,    1.03,2,   -77.1,2,     2.6,-999.000,9,-999.000,  -999.0,9,-999.000,-999.0000, -999.00,   5.0103,   5.0975,2,20091213,       0504
318M20091121,        P06,      80,          2,         19,         19,2,20091213,       0257,   -32.4999,  -176.7497,       5996,  1109.3,   4.5339,  34.3836,  34.3835,2,    189.9,2,   188.9,2,   37.28,2,   30.82,2,    0.00,2,    2.14,2,   0.398,2,   0.210,2,-999.000,1,        0,2,  2203.1,2,  2309.9,2,   7.7355,4,    25.00,-999.000,9,-999.0000,9, -999.00,9,    0.92,2,  -101.0,2,     2.4,-999.000,9,-999.000,    37.3,2,-999.000,-999.0000, -999.00,   4.4447,   4.5329,2,20091213,       0500
318M20091121,        P06,      80,          2,         18,         18,2,20091213,       0257,   -32.4999,  -176.7497,       5996,  1312.3,   3.5249,  34.4520,  34.4520,2,    173.0,2,   173.4,2,   59.04,2,   33.17,2,    0.00,2,    2.32,2,   0.112,2,   0.066,2,-999.000,1,        0,2,  2234.3,2,  2331.3,2,-999.0000,9,  -999.00,-999.000,9,-999.0000,9, -999.00,9,    0.73,2,  -142.1,2,     2.5,-999.000,9,-999.000,  -999.0,9,-999.000,-999.0000, -999.00,   3.4274,   3.5247,2,20091213,       0455
318M20091121,        P06,      80,          2,         17,         17,2,20091213,       0257,   -32.4999,  -176.7497,       5996,  1565.3,   2.8818,  34.5383,  34.5373,2,    159.9,2,   160.9,2,   81.39,2,   34.22,2,    0.00,2,    2.41,2,   0.029,2,   0.019,2,-999.000,1,        0,2,  2263.5,2,  2355.1,2,-999.0000,9,  -999.00,-999.000,9,-999.0000,9, -999.00,9,    0.50,2,  -170.5,2,     3.0,-999.000,9,-999.000,    38.7,2,-999.000,-999.0000, -999.00,   2.7700,   2.8832,2,20091213,       0449
318M20091121,        P06,      80,          2,         16,         16,2,20091213,       0257,   -32.4999,  -176.7497,       5996,  1818.7,   2.5513,  34.5946,  34.5948,2,    153.3,2,   153.3,2,   99.15,2,   34.68,2,    0.00,2,    2.45,2,   0.016,2,   0.014,2,-999.000,1,        0,2,  2284.7,2,  2374.8,2,   7.5702,2,    25.00,-999.000,9,-999.0000,9, -999.00,9,    0.41,2,  -195.3,2,     3.1,-999.000,9,-999.000,  -999.0,9,-999.000,-999.0000, -999.00,   2.4223,   2.5505,2,20091213,       0444
318M20091121,        P06,      80,          2,         15,         15,2,20091213,       0257,   -32.4999,  -176.7497,       5996,  1919.1,   2.4745,  34.6052,  34.6054,2,    150.4,2,   150.1,2,  104.68,2,   35.00,2,    0.00,2,    2.47,2,   0.019,2,   0.015,2,-999.000,1,        0,2,  2292.0,2,  2381.2,2,-999.0000,9,  -999.00,-999.000,9,-999.0000,9, -999.00,9,    0.38,2,  -199.5,2,     2.3,-999.000,9,-999.000,    37.7,2,-999.000,-999.0000, -999.00,   2.3379,   2.4737,2,20091213,       0440
318M20091121,        P06,      80,          2,         14,         14,2,20091213,       0257,   -32.4999,  -176.7497,       5996,  2122.4,   2.3485,  34.6204,  34.6204,2,    148.8,2,   148.7,2,  110.61,2,   35.14,2,    0.00,2,    2.49,2,   0.014,2,   0.011,2,-999.000,1,        0,2,  2297.0,2,  2389.8,2,-999.0000,9,  -999.00,-999.000,9,-999.0000,9, -999.00,9,    0.35,2,  -208.0,2,     2.3,-999.000,9,-999.000,  -999.0,9,-999.000,-999.0000, -999.00,   2.1961,   2.3485,2,20091213,       0435
318M20091121,        P06,      80,          2,         13,         13,2,20091213,       0257,   -32.4999,  -176.7497,       5996,  2427.3,   2.1835,  34.6378,  34.6380,2,    147.8,2,   147.8,2,  117.35,2,   35.28,2,    0.00,2,    2.49,2,   0.010,2,   0.010,2,-999.000,1,        0,2,  2302.9,2,  2396.6,2,   7.5414,3,    25.00,-999.000,9,-999.0000,9, -999.00,9,    0.31,2,  -214.8,2,     2.3,-999.000,9,-999.000,    37.7,2,-999.000,-999.0000, -999.00,   2.0065,   2.1827,2,20091213,       0428
318M20091121,        P06,      80,          2,         12,         12,2,20091213,       0257,   -32.4999,  -176.7497,       5996,  2730.5,   2.0151,  34.6527,  34.6528,2,    148.2,2,   147.8,2,  123.90,2,   35.41,2,    0.00,2,    2.50,2,   0.010,2,   0.009,2,-999.000,1,        0,2,  2310.5,2,  2406.2,2,-999.0000,9,  -999.00,-999.000,9,-999.0000,9, -999.00,9,    0.29,2,  -218.4,2,     2.6,-999.000,9,-999.000,  -999.0,9,-999.000,-999.0000, -999.00,   1.8131,   2.0146,2,20091213,       0421
318M20091121,        P06,      80,          2,         11,         11,2,20091213,       0257,   -32.4999,  -176.7497,       5996,  3037.8,   1.8401,  34.6750,  34.6754,2,    156.6,2,   157.4,2,  123.49,2,   34.67,2,    0.00,2,    2.44,2,   0.012,2,   0.011,2,-999.000,1,        0,2,  2303.8,2,  2399.0,2,-999.0000,9,  -999.00,-999.000,9,-999.0000,9, -999.00,9,    0.30,2,  -211.9,2,     2.3,-999.000,9,-999.000,    38.0,2,-999.000,-999.0000, -999.00,   1.6121,   1.8397,2,20091213,       0414
318M20091121,        P06,      80,          2,         10,         10,2,20091213,       0257,   -32.4999,  -176.7497,       5996,  3345.8,   1.6973,  34.7165,  34.7166,2,    186.2,2,   186.5,2,  105.57,2,   31.84,2,    0.00,2,    2.24,2,   0.042,2,   0.027,2,-999.000,1,        0,2,  2265.4,2,  2369.0,2,   7.6135,2,    25.00,-999.000,9,-999.0000,9, -999.00,9,    0.47,2,  -172.4,2,     2.9,-999.000,9,-999.000,  -999.0,9,-999.000,-999.0000, -999.00,   1.4417,   1.6972,2,20091213,       0407
318M20091121,        P06,      80,          2,          9,          9,2,20091213,       0257,   -32.4999,  -176.7497,       5996,  3653.9,   1.4656,  34.7225,  34.7229,2,    195.9,2,   196.1,2,  107.73,2,   31.42,2,    0.00,2,    2.20,2,   0.045,2,   0.027,2,-999.000,1,        0,2,  2262.0,2,  2365.0,2,-999.0000,9,  -999.00,-999.000,9,-999.0000,9, -999.00,9,    0.56,2,  -164.6,2,     2.3,-999.000,9,-999.000,    38.5,2,-999.000,-999.0000, -999.00,   1.1842,   1.4662,2,20091213,       0401
318M20091121,        P06,      80,          2,          8,          8,2,20091213,       0257,   -32.4999,  -176.7497,       5996,  3959.0,   1.2552,  34.7190,  34.7190,2,    201.6,2,   201.8,2,  112.70,2,   31.47,2,    0.00,2,    2.20,2,   0.079,2,   0.049,2,-999.000,1,        0,2,  2260.6,2,  2364.9,2,-999.0000,9,  -999.00,-999.000,9,-999.0000,9, -999.00,9,    0.55,2,  -160.4,2,     2.7,-999.000,9,-999.000,  -999.0,9,-999.000,-999.0000, -999.00,   0.9473,   1.2548,2,20091213,       0354
318M20091121,        P06,      80,          2,          7,          7,2,20091213,       0257,   -32.4999,  -176.7497,       5996,  4268.3,   1.1148,  34.7141,  34.7141,2,    204.6,2,   204.7,2,  117.05,2,   31.51,2,    0.00,2,    2.20,2,   0.073,2,   0.039,2,-999.000,1,        0,2,  2261.4,2,  2366.9,2,   7.6180,2,    25.00,-999.000,9,-999.0000,9, -999.00,9,    0.48,2,  -161.7,2,     2.5,-999.000,9,-999.000,    40.7,2,-999.000,-999.0000, -999.00,   0.7774,   1.1150,2,20091213,       0346
318M20091121,        P06,      80,          2,          6,          6,2,20091213,       0257,   -32.4999,  -176.7497,       5996,  4574.2,   1.0652,  34.7112,  34.7116,2,    205.8,2,   205.8,2,  119.23,2,   31.69,2,    0.00,2,    2.21,2,   0.081,2,   0.049,2,-999.000,1,        0,2,  2263.3,2,  2367.2,2,-999.0000,9,  -999.00,-999.000,9,-999.0000,9, -999.00,9,    0.51,2,  -166.5,2,     2.4,-999.000,9,-999.000,  -999.0,9,-999.000,-999.0000, -999.00,   0.6951,   1.0651,2,20091213,       0340
318M20091121,        P06,      80,          2,          5,          5,2,20091213,       0257,   -32.4999,  -176.7497,       5996,  4884.4,   1.0530,  34.7095,  34.7097,2,    206.8,2,   206.2,2,  120.60,2,   31.74,2,    0.00,2,    2.21,2,   0.082,2,   0.049,2,-999.000,1,        0,2,  2263.7,2,  2368.2,2,-999.0000,9,  -999.00,-999.000,9,-999.0000,9, -999.00,9,    0.53,2,  -163.9,2,     2.6,-999.000,9,-999.000,  -999.0,5,-999.000,-999.0000, -999.00,   0.6474,   1.0530,2,20091213,       0332
318M20091121,        P06,      80,          2,          4,          4,2,20091213,       0257,   -32.4999,  -176.7497,       5996,  5195.1,   1.0677,  34.7087,  34.7083,2,    206.6,2,   206.6,2,  121.19,2,   31.82,2,    0.00,2,    2.22,2,   0.084,2,   0.047,2,-999.000,1,        0,2,  2263.9,2,  2370.2,2,   7.6240,2,    25.00,-999.000,9,-999.0000,9, -999.00,9,    0.49,2,  -158.0,2,     2.4,-999.000,9,-999.000,  -999.0,9,-999.000,-999.0000, -999.00,   0.6244,   1.0679,2,20091213,       0325
318M20091121,        P06,      80,          2,          3,          3,2,20091213,       0257,   -32.4999,  -176.7497,       5996,  5502.6,   1.0933,  34.7081,  34.7080,2,    206.7,2,   206.8,2,  121.76,2,   31.86,2,    0.00,2,    2.22,2,   0.087,2,   0.050,2,-999.000,1,        0,2,  2263.3,2,  2370.6,2,-999.0000,9,  -999.00,-999.000,9,-999.0000,9, -999.00,9,    0.50,2,  -161.7,2,     2.6,-999.000,9,-999.000,    39.4,2,-999.000,-999.0000, -999.00,   0.6110,   1.0935,2,20091213,       0318
318M20091121,        P06,      80,          2,          2,          2,2,20091213,       0257,   -32.4999,  -176.7497,       5996,  5706.8,   1.1173,  34.7080,  34.7100,3,    206.7,2,   206.8,2,  121.95,2,   31.82,2,    0.00,2,    2.22,2,   0.124,4,   0.077,4,-999.000,1,        0,2,  2264.2,2,  2368.8,6,-999.0000,9,  -999.00,-999.000,9,-999.0000,9, -999.00,9,    0.52,2,  -157.6,2,     2.3,-999.000,9,-999.000,  -999.0,9,-999.000,-999.0000, -999.00,   0.6082,   1.1175,2,20091213,       0311
318M20091121,        P06,      80,          2,          1,          1,2,20091213,       0257,   -32.4999,  -176.7497,       5996,  6119.2,   1.1707,  34.7075,  34.7078,2,    206.8,2,   207.0,2,  122.14,2,   31.90,2,    0.00,2,    2.22,2,   0.079,2,   0.048,2,-999.000,1,        0,2,  2264.6,6,  2369.2,2,   7.6007,6,    25.00,-999.000,9,-999.0000,9, -999.00,9,    0.54,2,  -160.2,2,     2.4,-999.000,9,-999.000,    40.4,2,-999.000,-999.0000, -999.00,   0.6056,   1.1705,2,20091213,       0257