BOTTLE,20220818CCHSIOAMB
EXPOCODE,SECT_ID,STNNBR,CASTNO,SAMPNO,BTLNBR,BTLNBR_FLAG_W,DATE,TIME,LATITUDE,LONGITUDE,DEPTH,CTDPRS,CTDTMP,CTDSAL,SALNTY,SALNTY_FLAG_W,CTDOXY,CTDOXY_FLAG_W,OXYGEN,OXYGEN_FLAG_W,SILCAT,SILCAT_FLAG_W,NITRAT,NITRAT_FLAG_W,NITRIT,NITRIT_FLAG_W,PHSPHT,PHSPHT_FLAG_W,CFC-11,CFC-11_FLAG_W,CFC-12,CFC-12_FLAG_W,CFC113,CFC113_FLAG_W,SF6,SF6_FLAG_W,TCARBN,TCARBN_FLAG_W,ALKALI,ALKALI_FLAG_W,PH_SWS,PH_SWS_FLAG_W,PH_TMP,TRITUM,TRITUM_FLAG_W,HELIUM,HELIUM_FLAG_W,DELHE3,DELHE3_FLAG_W,DELC13,DELC13_FLAG_W,DELC14,DELC14_FLAG_W,C14ERR,NEON,NEON_FLAG_W,NEONER,DOC,DOC_FLAG_W,TRITER,HELIER,DELHER,THETA,SBE35,SBE35_FLAG_W,BTL_DATE,BTL_TIME
,,,,,,,,,,,METERS,DBAR,ITS-90,PSS-78,PSS-78,,UMOL/KG,,UMOL/KG,,UMOL/KG,,UMOL/KG,,UMOL/KG,,UMOL/KG,,PMOL/KG,,PMOL/KG,,PMOL/KG,,FMOL/KG,,UMOL/KG,,UMOL/KG,,,,DEG C,TU,,NMOL/KG,,PERCNT,,/MILLE,,/MILLE,,/MILLE,NMOL/KG,,NMOL/KG,UMOL/KG,,TU,NMOL/KG,PERCNT,DEG C,ITS-90,,,
318M20091121,        P06,      54,          1,         26,         26,2,20091206,       0435,   -30.0805,   173.0021,       1408,     4.2,  21.5288,  35.6693,  35.6699,2,    226.0,2,   226.0,2,    0.56,2,    0.14,2,    0.00,2,    0.10,2,   1.954,2,   1.279,2,-999.000,1,    1.182,2,  2040.5,6,  2341.1,2,   8.0263,2,    25.00,-999.000,9,-999.0000,9, -999.00,9, -999.00,9,  -999.0,9,  -999.0,-999.000,9,-999.000,    60.7,2,-999.000,-999.0000, -999.00,  21.5280,  21.5195,2,20091206,       0547
318M20091121,        P06,      54,          1,         25,         25,2,20091206,       0435,   -30.0805,   173.0021,       1408,    35.1,  19.3849,  35.6332,  35.6389,2,    237.3,2,   237.8,2,    0.50,2,    0.08,2,    0.00,2,    0.11,2,   2.112,2,   1.360,2,-999.000,1,    1.144,2,  2038.8,2,  2337.4,6,   8.0260,6,    25.00,-999.000,9,-999.0000,9, -999.00,9, -999.00,9,  -999.0,9,  -999.0,-999.000,9,-999.000,    61.8,2,-999.000,-999.0000, -999.00,  19.3785,  19.4343,3,20091206,       0544
318M20091121,        P06,      54,          1,         24,         24,2,20091206,       0435,   -30.0805,   173.0021,       1408,    60.5,  17.9367,  35.5867,  35.5867,2,    214.4,2,   214.7,2,    1.01,2,    1.84,2,    0.19,2,    0.26,2,   2.137,2,   1.365,2,-999.000,1,    1.118,2,  2062.3,2,  2329.9,2,   7.9880,2,    25.00,-999.000,9,-999.0000,9, -999.00,9, -999.00,9,  -999.0,9,  -999.0,-999.000,9,-999.000,    49.2,2,-999.000,-999.0000, -999.00,  17.9263,  17.9375,2,20091206,       0541
318M20091121,        P06,      54,          1,         23,         23,2,20091206,       0435,   -30.0805,   173.0021,       1408,    85.5,  17.6922,  35.5795,  35.5796,2,    209.0,2,   210.8,2,    0.95,2,    2.54,2,    0.27,2,    0.31,2,   2.182,2,   1.396,2,-999.000,1,    1.105,2,  2067.3,2,  2327.3,2,   7.9724,2,    25.00,-999.000,9,-999.0000,9, -999.00,9, -999.00,9,  -999.0,9,  -999.0,-999.000,9,-999.000,    49.9,2,-999.000,-999.0000, -999.00,  17.6777,  17.6959,2,20091206,       0539
318M20091121,        P06,      54,          1,         22,         22,2,20091206,       0435,   -30.0805,   173.0021,       1408,   111.0,  17.1878,  35.5503,  35.5458,2,    199.5,2,   199.7,2,    1.27,2,    4.73,2,    0.07,2,    0.44,2,   2.161,6,   1.389,6,-999.000,1,    1.109,6,  2080.1,2,  2326.8,2,   7.9359,2,    25.00,-999.000,9,-999.0000,9, -999.00,9, -999.00,9,  -999.0,9,  -999.0,-999.000,9,-999.000,    48.7,2,-999.000,-999.0000, -999.00,  17.1693,  17.1704,2,20091206,       0536
318M20091121,        P06,      54,          1,         21,         21,2,20091206,       0435,   -30.0805,   173.0021,       1408,   136.0,  16.4747,  35.4889,  35.4915,2,    190.1,2,   190.7,2,    1.79,2,    6.84,2,    0.03,2,    0.56,2,-999.000,9,-999.000,9,-999.000,9,-999.0000,9,  2092.6,2,  2327.0,2,   7.9268,2,    25.00,-999.000,9,-999.0000,9, -999.00,9, -999.00,9,  -999.0,9,  -999.0,-999.000,9,-999.000,    47.7,2,-999.000,-999.0000, -999.00,  16.4527,  16.4785,2,20091206,       0534
318M20091121,        P06,      54,          1,         20,         20,2,20091206,       0435,   -30.0805,   173.0021,       1408,   160.8,  15.8492,  35.4318,  35.4312,2,    191.7,2,   191.9,2,    2.29,2,    7.63,2,    0.02,2,    0.62,2,   2.220,2,   1.378,2,-999.000,1,    1.041,2,  2098.5,2,  2323.9,2,   7.8947,2,    25.00,-999.000,9,-999.0000,9, -999.00,9, -999.00,9,  -999.0,9,  -999.0,-999.000,9,-999.000,    48.4,2,-999.000,-999.0000, -999.00,  15.8239,  15.8475,2,20091206,       0531
318M20091121,        P06,      54,          1,         19,         19,2,20091206,       0435,   -30.0805,   173.0021,       1408,   185.2,  15.3490,  35.3857,  35.3864,2,    196.2,2,   191.9,2,    2.81,2,    8.47,2,    0.01,2,    0.66,2,-999.000,9,-999.000,9,-999.000,9,-999.0000,9,  2102.2,2,  2322.8,2,   7.9184,4,    25.00,-999.000,9,-999.0000,9, -999.00,9, -999.00,9,  -999.0,9,  -999.0,-999.000,9,-999.000,  -999.0,5,-999.000,-999.0000, -999.00,  15.3204,  15.3673,2,20091206,       0529
318M20091121,        P06,      54,          1,         18,         18,2,20091206,       0435,   -30.0805,   173.0021,       1408,   211.1,  14.6829,  35.3280,  35.3292,2,    196.5,2,   197.8,2,    3.14,2,    8.96,2,    0.01,2,    0.70,2,   2.252,2,   1.400,2,-999.000,1,     0.94,2,  2106.2,2,  2316.4,2,   7.8832,2,    25.00,-999.000,9,-999.0000,9, -999.00,9, -999.00,9,  -999.0,9,  -999.0,-999.000,9,-999.000,    45.7,2,-999.000,-999.0000, -999.00,  14.6513,  14.6766,2,20091206,       0527
318M20091121,        P06,      54,          1,         17,         17,2,20091206,       0435,   -30.0805,   173.0021,       1408,   237.0,  14.3434,  35.2870,  35.2877,2,    195.5,2,   195.8,2,    3.27,2,    9.59,2,    0.01,2,    0.74,2,-999.000,9,-999.000,9,-999.000,9,-999.0000,9,  2110.7,2,  2315.8,2,   7.8727,2,    25.00,-999.000,9,-999.0000,9, -999.00,9, -999.00,9,  -999.0,9,  -999.0,-999.000,9,-999.000,    48.2,2,-999.000,-999.0000, -999.00,  14.3084,  14.3463,2,20091206,       0525
318M20091121,        P06,      54,          1,         16,         16,2,20091206,       0435,   -30.0805,   173.0021,       1408,   267.6,  13.4934,  35.1863,  35.1869,2,    193.1,2,   193.4,2,    3.99,2,   11.46,2,    0.01,2,    0.86,2,   2.278,2,   1.390,2,-999.000,1,    0.901,2,  2118.0,2,  2310.8,2,   7.8490,2,    25.00,-999.000,9,-999.0000,9, -999.00,9, -999.00,9,  -999.0,9,  -999.0,-999.000,9,-999.000,    50.7,2,-999.000,-999.0000, -999.00,  13.4555,  13.4968,2,20091206,       0523
318M20091121,        P06,      54,          1,         15,         15,2,20091206,       0435,   -30.0805,   173.0021,       1408,   317.2,  12.2445,  35.0345,  35.0241,2,    195.2,2,   196.2,2,    4.50,2,   13.61,2,    0.00,2,    0.99,2,   2.311,2,   1.377,2,-999.000,1,    0.742,2,  2126.7,2,  2305.2,2,   7.8218,2,    25.00,-999.000,9,-999.0000,9, -999.00,9, -999.00,9,  -999.0,9,  -999.0,-999.000,9,-999.000,    49.4,2,-999.000,-999.0000, -999.00,  12.2023,  12.2329,2,20091206,       0520
318M20091121,        P06,      54,          1,         14,         14,2,20091206,       0435,   -30.0805,   173.0021,       1408,   368.1,  11.6908,  34.9719,  34.9716,2,    196.0,2,   196.5,2,    5.22,2,   14.78,2,    0.00,2,    1.06,2,   2.300,2,   1.353,2,-999.000,1,    0.771,2,  2130.9,2,  2303.5,2,   7.8137,2,    25.00,-999.000,9,-999.0000,9, -999.00,9, -999.00,9,  -999.0,9,  -999.0,-999.000,9,-999.000,    47.7,2,-999.000,-999.0000, -999.00,  11.6433,  11.6896,2,20091206,       0518
318M20091121,        P06,      54,          1,         13,         13,2,20091206,       0435,   -30.0805,   173.0021,       1408,   417.9,  10.5752,  34.8184,  34.8194,2,    198.0,2,   200.0,2,    5.54,2,   16.49,2,    0.00,2,    1.17,2,   2.325,2,   1.335,2,-999.000,1,    0.555,2,  2134.6,2,  2295.5,2,   7.7832,2,    25.00,-999.000,9,-999.0000,9, -999.00,9, -999.00,9,  -999.0,9,  -999.0,-999.000,9,-999.000,  -999.0,9,-999.000,-999.0000, -999.00,  10.5245,  10.5708,2,20091206,       0514
318M20091121,        P06,      54,          1,         12,         12,2,20091206,       0435,   -30.0805,   173.0021,       1408,   468.2,  10.0929,  34.7618,  34.7648,2,    201.2,2,   202.0,2,    6.25,2,   17.37,2,    0.00,2,    1.23,2,-999.000,9,-999.000,9,-999.000,9,-999.0000,9,  2137.4,2,  2295.0,6,   7.8015,4,    25.00,-999.000,9,-999.0000,9, -999.00,9, -999.00,9,  -999.0,9,  -999.0,-999.000,9,-999.000,    47.2,2,-999.000,-999.0000, -999.00,  10.0377,  10.1268,3,20091206,       0512
318M20091121,        P06,      54,          1,         11,         11,2,20091206,       0435,   -30.0805,   173.0021,       1408,   519.0,   9.1619,  34.6556,  34.6554,2,    205.6,2,   205.8,2,    7.55,2,   19.37,2,    0.00,2,    1.35,2,   2.256,2,   1.265,2,-999.000,1,    0.402,2,  2142.9,2,  2291.1,2,   7.7507,2,    25.00,-999.000,9,-999.0000,9, -999.00,9, -999.00,9,  -999.0,9,  -999.0,-999.000,9,-999.000,  -999.0,9,-999.000,-999.0000, -999.00,   9.1041,   9.1598,2,20091206,       0509
318M20091121,        P06,      54,          1,         10,         10,2,20091206,       0435,   -30.0805,   173.0021,       1408,   569.0,   8.8421,  34.6163,  34.6160,2,    208.2,2,   207.8,2,    7.88,2,   20.10,2,    0.00,2,    1.39,2,-999.000,9,-999.000,9,-999.000,9,-999.0000,9,  2144.1,2,  2290.4,2,   7.7374,2,    25.00,-999.000,9,-999.0000,9, -999.00,9, -999.00,9,  -999.0,9,  -999.0,-999.000,9,-999.000,  -999.0,9,-999.000,-999.0000, -999.00,   8.7799,   8.8437,2,20091206,       0506
318M20091121,        P06,      54,          1,          9,          9,2,20091206,       0435,   -30.0805,   173.0021,       1408,   639.4,   7.8656,  34.5186,  34.5198,2,    213.1,2,   212.5,2,    9.77,2,   22.10,2,    0.00,2,    1.52,2,   2.054,2,   1.123,2,-999.000,1,    0.294,2,  2148.3,2,  2290.3,2,   7.7113,2,    25.00,-999.000,9,-999.0000,9, -999.00,9, -999.00,9,  -999.0,9,  -999.0,-999.000,9,-999.000,  -999.0,9,-999.000,-999.0000, -999.00,   7.8001,   7.8663,2,20091206,       0503
318M20091121,        P06,      54,          1,          8,          8,2,20091206,       0435,   -30.0805,   173.0021,       1408,   740.0,   6.8433,  34.4101,  34.4100,2,    219.6,2,   220.2,2,   11.07,2,   24.06,2,    0.00,2,    1.64,2,   1.774,2,   0.954,2,-999.000,1,    0.166,2,  2151.9,2,  2286.1,2,   7.7007,2,    25.00,-999.000,9,-999.0000,9, -999.00,9, -999.00,9,  -999.0,9,  -999.0,-999.000,9,-999.000,    37.1,2,-999.000,-999.0000, -999.00,   6.7728,   6.8477,2,20091206,       0500
318M20091121,        P06,      54,          1,          7,          7,2,20091206,       0435,   -30.0805,   173.0021,       1408,   841.6,   6.1778,  34.3860,  34.3862,2,    213.0,2,   213.0,2,   16.91,2,   26.12,2,    0.00,2,    1.79,2,   1.219,2,   0.656,2,-999.000,1,    0.159,2,  2163.9,2,  2290.1,2,   7.6917,2,    25.00,-999.000,9,-999.0000,9, -999.00,9, -999.00,9,  -999.0,9,  -999.0,-999.000,9,-999.000,    36.0,2,-999.000,-999.0000, -999.00,   6.1013,   6.1791,2,20091206,       0457
318M20091121,        P06,      54,          1,          6,          6,2,20091206,       0435,   -30.0805,   173.0021,       1408,   941.8,   5.6543,  34.3914,  34.3917,2,    202.9,2,   202.7,2,   24.13,2,   28.05,2,    0.00,2,    1.92,2,   0.824,2,   0.460,2,-999.000,1,    0.106,2,  2177.6,2,  2299.4,2,   7.6657,2,    25.00,-999.000,9,-999.0000,9, -999.00,9, -999.00,9,  -999.0,9,  -999.0,-999.000,9,-999.000,    36.1,2,-999.000,-999.0000, -999.00,   5.5717,   5.6545,2,20091206,       0454
318M20091121,        P06,      54,          1,          5,          5,2,20091206,       0435,   -30.0805,   173.0021,       1408,  1046.5,   5.1438,  34.3991,  34.3987,2,    195.2,2,   194.3,2,   31.99,2,   29.67,2,    0.00,2,    2.02,2,   0.571,2,   0.323,2,-999.000,1,        0,2,  2191.4,2,  2306.3,2,   7.6413,2,    25.00,-999.000,9,-999.0000,9, -999.00,9, -999.00,9,  -999.0,9,  -999.0,-999.000,9,-999.000,  -999.0,9,-999.000,-999.0000, -999.00,   5.0553,   5.1448,2,20091206,       0450
318M20091121,        P06,      54,          1,          4,          4,2,20091206,       0435,   -30.0805,   173.0021,       1408,  1147.0,   4.8406,  34.4241,  34.4247,2,    187.9,2,   187.9,2,   39.86,2,   30.41,2,    0.00,2,    2.08,2,   0.453,2,   0.261,2,-999.000,1,        0,2,  2203.7,2,  2312.7,2,   7.6359,2,    25.00,-999.000,9,-999.0000,9, -999.00,9, -999.00,9,  -999.0,9,  -999.0,-999.000,9,-999.000,    34.2,2,-999.000,-999.0000, -999.00,   4.7454,   4.8409,2,20091206,       0447
318M20091121,        P06,      54,          1,          3,          3,2,20091206,       0435,   -30.0805,   173.0021,       1408,  1243.1,   4.5171,  34.4562,  34.4563,2,    181.6,2,   181.4,2,   49.78,2,   31.17,2,    0.00,2,    2.14,2,   0.368,2,   0.217,2,-999.000,1,        0,2,  2217.1,2,  2324.1,2,   7.6281,2,    25.00,-999.000,9,-999.0000,9, -999.00,9, -999.00,9,  -999.0,9,  -999.0,-999.000,9,-999.000,  -999.0,9,-999.000,-999.0000, -999.00,   4.4160,   4.5155,2,20091206,       0443
318M20091121,        P06,      54,          1,          2,          2,2,20091206,       0435,   -30.0805,   173.0021,       1408,  1338.8,   4.2236,  34.4801,  34.4807,2,    177.5,2,   177.5,2,   57.53,2,   31.91,2,    0.00,2,    2.19,2,   0.290,2,   0.177,2,-999.000,1,        0,2,  2227.1,2,  2329.5,6,   7.6224,6,    25.00,-999.000,9,-999.0000,9, -999.00,9, -999.00,9,  -999.0,9,  -999.0,-999.000,9,-999.000,  -999.0,9,-999.000,-999.0000, -999.00,   4.1167,   4.2193,2,20091206,       0439
318M20091121,        P06,      54,          1,          1,          1,2,20091206,       0435,   -30.0805,   173.0021,       1408,  1421.1,   3.8404,  34.5140,  34.5151,2,    171.2,2,   171.3,2,   68.13,2,   32.56,2,    0.00,2,    2.24,2,   0.222,2,   0.138,2,-999.000,1,        0,2,  2240.9,6,  2340.4,2,   7.6032,2,    25.00,-999.000,9,-999.0000,9, -999.00,9, -999.00,9,  -999.0,9,  -999.0,-999.000,9,-999.000,    36.9,2,-999.000,-999.0000, -999.00,   3.7301,   3.8350,2,20091206,       0435