BOTTLE,20220818CCHSIOAMB
EXPOCODE,SECT_ID,STNNBR,CASTNO,SAMPNO,BTLNBR,BTLNBR_FLAG_W,DATE,TIME,LATITUDE,LONGITUDE,DEPTH,CTDPRS,CTDTMP,CTDSAL,SALNTY,SALNTY_FLAG_W,CTDOXY,CTDOXY_FLAG_W,OXYGEN,OXYGEN_FLAG_W,SILCAT,SILCAT_FLAG_W,NITRAT,NITRAT_FLAG_W,NITRIT,NITRIT_FLAG_W,PHSPHT,PHSPHT_FLAG_W,CFC-11,CFC-11_FLAG_W,CFC-12,CFC-12_FLAG_W,CFC113,CFC113_FLAG_W,SF6,SF6_FLAG_W,TCARBN,TCARBN_FLAG_W,ALKALI,ALKALI_FLAG_W,PH_SWS,PH_SWS_FLAG_W,PH_TMP,TRITUM,TRITUM_FLAG_W,HELIUM,HELIUM_FLAG_W,DELHE3,DELHE3_FLAG_W,DELC13,DELC13_FLAG_W,DELC14,DELC14_FLAG_W,C14ERR,NEON,NEON_FLAG_W,NEONER,DOC,DOC_FLAG_W,TRITER,HELIER,DELHER,THETA,SBE35,SBE35_FLAG_W,BTL_DATE,BTL_TIME
,,,,,,,,,,,METERS,DBAR,ITS-90,PSS-78,PSS-78,,UMOL/KG,,UMOL/KG,,UMOL/KG,,UMOL/KG,,UMOL/KG,,UMOL/KG,,PMOL/KG,,PMOL/KG,,PMOL/KG,,FMOL/KG,,UMOL/KG,,UMOL/KG,,,,DEG C,TU,,NMOL/KG,,PERCNT,,/MILLE,,/MILLE,,/MILLE,NMOL/KG,,NMOL/KG,UMOL/KG,,TU,NMOL/KG,PERCNT,DEG C,ITS-90,,,
318M20091121,        P06,      35,          1,         31,         31,2,20091201,       2242,   -30.0801,   164.3404,       3315,     5.1,  22.0104,  35.7473,  35.7472,2,    223.2,2,   223.2,2,    0.64,2,   -0.01,2,    0.00,2,    0.06,2,   2.088,2,   1.298,2,-999.000,1,    1.195,2,  2031.9,6,  2339.8,6,   8.0391,6,    25.00,   0.408,2,   1.7326,2,   -1.39,2, -999.00,9,  -999.0,9,  -999.0,   6.926,2,   0.032,  -999.0,9,   0.009,   0.0073,    0.15,  22.0094,  22.0227,2,20091201,       0052
318M20091121,        P06,      35,          1,         30,         30,2,20091201,       2242,   -30.0801,   164.3404,       3315,    23.4,  20.5468,  35.6793,  35.6745,2,    237.6,2,   240.0,2,    0.43,2,    0.00,2,    0.00,2,    0.06,2,   2.249,2,   1.391,2,-999.000,1,    1.175,2,  -999.0,9,  -999.0,9,-999.0000,9,  -999.00,-999.000,9,-999.0000,9, -999.00,9, -999.00,9,  -999.0,9,  -999.0,-999.000,9,-999.000,  -999.0,9,-999.000,-999.0000, -999.00,  20.5424,  20.6300,3,20091201,       0050
318M20091121,        P06,      35,          1,         29,         29,2,20091201,       2242,   -30.0801,   164.3404,       3315,    49.6,  18.6840,  35.5993,  35.5996,2,    237.9,2,   237.0,2,    0.62,2,    0.13,2,    0.00,2,    0.11,2,   2.333,6,   1.424,6,-999.000,1,   1.2235,6,  -999.0,9,  2330.8,2,   8.0321,2,    25.00,   0.392,2,   1.7405,2,   -1.13,2, -999.00,9,  -999.0,9,  -999.0,   7.034,2,   0.032,  -999.0,9,   0.009,   0.0073,    0.15,  18.6753,  18.6915,2,20091201,       0048
318M20091121,        P06,      35,          1,         28,         28,2,20091201,       2242,   -30.0801,   164.3404,       3315,    74.9,  18.0439,  35.5867,  35.5859,2,    220.2,2,   215.0,2,    1.01,2,    2.06,2,    0.07,2,    0.25,2,   2.360,2,   1.431,2,-999.000,1,    1.207,2,  -999.0,9,  -999.0,9,-999.0000,9,  -999.00,-999.000,9,-999.0000,9, -999.00,9, -999.00,9,  -999.0,9,  -999.0,-999.000,9,-999.000,  -999.0,9,-999.000,-999.0000, -999.00,  18.0310,  18.0450,2,20091201,       0045
318M20091121,        P06,      35,          1,         27,         27,2,20091201,       2242,   -30.0801,   164.3404,       3315,    99.4,  17.6534,  35.5697,  35.5693,2,    207.1,2,   209.2,2,    1.19,2,    3.43,2,    0.04,2,    0.33,2,   2.375,2,   1.443,2,-999.000,1,    1.224,2,  -999.0,9,  2333.0,2,   7.9727,2,    25.00,   0.371,2,   1.7625,2,   -0.95,2, -999.00,9,  -999.0,9,  -999.0,   7.043,2,   0.032,  -999.0,9,   0.009,   0.0074,    0.15,  17.6365,  17.6534,2,20091201,       0043
318M20091121,        P06,      35,          1,         26,         26,2,20091201,       2242,   -30.0801,   164.3404,       3315,   150.5,  16.7161,  35.5228,  35.5219,2,    215.5,2,   212.4,2,    1.58,2,    4.67,2,    0.02,2,    0.40,2,   2.474,2,   1.475,2,-999.000,1,    1.217,2,  -999.0,9,  -999.0,9,-999.0000,9,  -999.00,   0.366,2,   1.7716,2,   -0.97,2, -999.00,9,  -999.0,9,  -999.0,   7.172,2,   0.033,  -999.0,9,   0.009,   0.0074,    0.15,  16.6915,  16.7155,2,20091201,       0040
318M20091121,        P06,      35,          1,         25,         25,2,20091201,       2242,   -30.0801,   164.3404,       3315,   201.4,  15.6871,  35.4324,  35.4326,2,    194.9,2,   194.0,2,    2.58,2,    8.12,2,    0.01,2,    0.62,2,   2.482,2,   1.483,2,-999.000,1,    1.237,2,  -999.0,9,  2323.4,2,   7.9054,2,    25.00,   0.328,2,   1.7750,2,   -0.51,2, -999.00,9,  -999.0,9,  -999.0,   7.230,2,   0.033,  -999.0,9,   0.009,   0.0075,    0.15,  15.6555,  15.6897,2,20091201,       0038
318M20091121,        P06,      35,          1,         24,         24,2,20091201,       2242,   -30.0801,   164.3404,       3315,   251.4,  14.7048,  35.3522,  35.3518,2,    195.7,2,   198.1,2,    2.96,2,    9.33,2,    0.01,2,    0.70,2,   2.702,4,   2.039,4,-999.000,1,    7.469,4,  -999.0,9,  -999.0,9,-999.0000,9,  -999.00,   0.315,2,   1.7552,2,   -0.53,2, -999.00,9,  -999.0,9,  -999.0,   7.228,2,   0.033,  -999.0,9,   0.009,   0.0074,    0.15,  14.6671,  14.7002,2,20091201,       0035
318M20091121,        P06,      35,          1,         23,         23,2,20091201,       2242,   -30.0801,   164.3404,       3315,   298.3,  13.5461,  35.1855,  35.1871,2,    190.0,2,   190.5,2,    3.75,2,   12.00,2,    0.01,2,    0.87,2,   2.516,2,   1.416,2,-999.000,1,    0.839,2,  -999.0,9,  2311.9,2,   7.8465,2,    25.00,   0.277,2,   1.7430,2,    0.11,2, -999.00,9,  -999.0,9,  -999.0,   7.215,2,   0.033,  -999.0,9,   0.009,   0.0073,    0.15,  13.5037,  13.5518,2,20091201,       0033
318M20091121,        P06,      35,          1,         22,         22,2,20091201,       2242,   -30.0801,   164.3404,       3315,   347.9,  12.7020,  35.1322,  35.1301,2,    194.2,2,   194.8,2,    4.56,2,   13.26,2,    0.01,2,    0.96,2,   2.525,2,   1.437,2,-999.000,1,    0.884,2,  -999.0,9,  -999.0,9,-999.0000,9,  -999.00,   0.268,2,   1.7684,2,   -0.02,2, -999.00,9,  -999.0,9,  -999.0,   7.352,2,   0.034,  -999.0,9,   0.008,   0.0074,    0.15,  12.6545,  12.7124,3,20091201,       0030
318M20091121,        P06,      35,          1,         21,         21,2,20091201,       2242,   -30.0801,   164.3404,       3315,   399.6,  11.8974,  35.0393,  35.0399,2,    195.8,2,   195.9,2,    5.54,2,   14.76,2,    0.01,2,    1.05,2,   2.514,2,   1.413,2,-999.000,1,    0.981,2,  -999.0,9,  2305.2,2,   7.8083,2,    25.00,   0.246,2,   1.7773,2,    0.29,2, -999.00,9,  -999.0,9,  -999.0,   7.445,2,   0.034,  -999.0,9,   0.008,   0.0075,    0.15,  11.8451,  11.9092,2,20091201,       0028
318M20091121,        P06,      35,          1,         20,         20,2,20091201,       2242,   -30.0801,   164.3404,       3315,   449.8,  11.0695,  34.9299,  34.9278,2,    195.3,2,   195.7,2,    6.54,2,   16.52,2,    0.01,2,    1.16,2,   2.537,4,   1.586,4,-999.000,1,    3.509,4,  -999.0,9,  -999.0,9,-999.0000,9,  -999.00,-999.000,9,-999.0000,9, -999.00,9, -999.00,9,  -999.0,9,  -999.0,-999.000,9,-999.000,  -999.0,9,-999.000,-999.0000, -999.00,  11.0132,  11.0692,2,20091201,       0025
318M20091121,        P06,      35,          1,         19,         19,2,20091201,       2242,   -30.0801,   164.3404,       3315,   500.1,  10.3168,  34.8447,  34.8453,2,    196.4,2,   196.6,2,    7.94,2,   18.12,2,    0.01,2,    1.26,2,   2.423,2,   1.331,2,-999.000,1,    0.725,2,  -999.0,9,  2297.2,6,   7.7677,2,    25.00,   0.204,2,-999.0000,9, -999.00,9, -999.00,9,  -999.0,9,  -999.0,-999.000,9,-999.000,  -999.0,9,   0.008,-999.0000, -999.00,  10.2568,  10.3768,3,20091201,       0022
318M20091121,        P06,      35,          1,         18,         18,2,20091201,       2242,   -30.0801,   164.3404,       3315,   603.2,   8.8568,  34.6685,  34.6677,2,    198.7,2,   199.1,2,   11.16,2,   21.26,2,    0.01,2,    1.48,2,   2.105,2,   1.124,2,-999.000,1,    0.598,2,  -999.0,9,  -999.0,9,-999.0000,9,  -999.00,   0.146,2,   1.7711,2,    1.53,2, -999.00,9,  -999.0,9,  -999.0,   7.561,2,   0.035,  -999.0,9,   0.008,   0.0074,    0.15,   8.7906,   8.8561,2,20091201,       0018
318M20091121,        P06,      35,          1,         17,         17,2,20091201,       2242,   -30.0801,   164.3404,       3315,   699.5,   7.7834,  34.5659,  34.5662,2,    200.0,2,   199.6,2,   15.19,2,   23.46,2,    0.00,2,    1.62,2,   1.761,2,   0.913,2,-999.000,1,    0.413,2,  -999.0,9,  2292.2,2,   7.7124,2,    25.00,-999.000,9,-999.0000,9, -999.00,9, -999.00,9,  -999.0,9,  -999.0,-999.000,9,-999.000,  -999.0,9,-999.000,-999.0000, -999.00,   7.7119,   7.7867,2,20091201,       0013
318M20091121,        P06,      35,          1,         16,         16,2,20091201,       2242,   -30.0801,   164.3404,       3315,   801.0,   6.9432,  34.4998,  34.4981,2,    199.9,2,   200.5,2,   19.44,2,   25.07,2,    0.00,2,    1.75,2,   1.429,2,   0.742,2,-999.000,1,    0.339,2,  -999.0,9,  -999.0,9,-999.0000,9,  -999.00,   0.095,2,   1.7877,2,    3.27,2, -999.00,9,  -999.0,9,  -999.0,   7.650,2,   0.035,  -999.0,9,   0.008,   0.0075,    0.15,   6.8659,   6.9450,2,20091201,       0009
318M20091121,        P06,      35,          1,         15,         15,2,20091201,       2242,   -30.0801,   164.3404,       3315,   903.6,   6.0281,  34.4583,  34.4572,2,    194.9,2,   195.4,2,   27.77,2,   27.57,2,    0.00,2,    1.91,2,   1.005,2,   0.521,2,-999.000,1,     0.25,2,  -999.0,9,  2298.9,2,   7.6717,2,    25.00,   0.039,2,-999.0000,9, -999.00,9, -999.00,9,  -999.0,9,  -999.0,-999.000,9,-999.000,  -999.0,9,   0.016,-999.0000, -999.00,   5.9465,   6.0279,2,20091201,       0005
318M20091121,        P06,      35,          1,         14,         14,2,20091201,       2242,   -30.0801,   164.3404,       3315,  1004.9,   5.5546,  34.4733,  34.4718,2,    188.0,2,   187.4,2,   36.54,2,   28.88,2,    0.00,2,    2.01,2,   0.755,2,   0.391,2,-999.000,1,        0,2,  -999.0,9,  -999.0,9,-999.0000,9,  -999.00,   0.048,6,   1.8089,2,    6.67,2, -999.00,9,  -999.0,9,  -999.0,   7.773,2,   0.036,  -999.0,9,   0.012,   0.0076,    0.15,   5.4667,   5.5554,2,20091201,       0000
318M20091121,        P06,      35,          1,         13,         13,2,20091201,       2242,   -30.0801,   164.3404,       3315,  1106.5,   4.9432,  34.4863,  34.4853,2,    178.1,2,   178.9,2,   39.61,4,   30.44,2,    0.00,2,    2.11,2,   0.513,2,   0.266,2,-999.000,1,        0,2,  -999.0,9,  2319.0,2,   7.6372,2,    25.00,   0.037,2,   1.8474,2,    8.63,2, -999.00,9,  -999.0,9,  -999.0,   7.852,2,   0.036,  -999.0,9,   0.016,   0.0078,    0.15,   4.8507,   4.9433,2,20091201,       2356
318M20091121,        P06,      35,          1,         12,         12,2,20091201,       2242,   -30.0801,   164.3404,       3315,  1208.5,   4.3854,  34.4918,  34.4920,2,    173.7,2,   174.4,2,   56.68,2,   31.60,2,    0.00,2,    2.21,2,   0.360,2,   0.195,2,-999.000,1,        0,2,  -999.0,9,  -999.0,9,-999.0000,9,  -999.00,   0.033,2,   1.8341,2,   10.30,2, -999.00,9,  -999.0,9,  -999.0,   7.880,2,   0.036,  -999.0,9,   0.016,   0.0077,    0.15,   4.2885,   4.3847,2,20091201,       2352
318M20091121,        P06,      35,          1,         11,         11,2,20091201,       2242,   -30.0801,   164.3404,       3315,  1309.2,   3.9847,  34.5227,  34.5219,2,    167.3,2,   166.8,2,   67.01,2,   32.51,2,    0.00,2,    2.28,2,   0.247,2,   0.135,2,-999.000,1,        0,2,  -999.0,9,  2342.3,2,   7.6120,2,    25.00,-999.000,9,-999.0000,9, -999.00,9, -999.00,9,  -999.0,9,  -999.0,-999.000,9,-999.000,  -999.0,9,-999.000,-999.0000, -999.00,   3.8827,   3.9843,2,20091201,       2348
318M20091121,        P06,      35,          1,         10,         10,2,20091201,       2242,   -30.0801,   164.3404,       3315,  1411.3,   3.5630,  34.5483,  34.5472,2,    161.1,2,   161.3,2,   77.18,2,   33.43,2,    0.00,2,    2.35,2,   0.147,2,   0.085,2,-999.000,1,        0,2,  -999.0,9,  -999.0,9,-999.0000,9,  -999.00,   0.016,2,   1.8628,2,   14.27,2, -999.00,9,  -999.0,9,  -999.0,   7.941,2,   0.037,  -999.0,9,   0.016,   0.0078,    0.15,   3.4565,   3.5644,2,20091201,       2343
318M20091121,        P06,      35,          1,          9,          9,2,20091201,       2242,   -30.0801,   164.3404,       3315,  1514.3,   3.2588,  34.5714,  34.5701,2,    156.7,2,   157.1,2,   85.30,2,   33.94,2,    0.00,2,    2.38,2,   0.090,2,   0.051,2,-999.000,1,        0,2,  -999.0,9,  2361.9,2,   7.5925,2,    25.00,-999.000,9,-999.0000,9, -999.00,9, -999.00,9,  -999.0,9,  -999.0,-999.000,9,-999.000,  -999.0,9,-999.000,-999.0000, -999.00,   3.1468,   3.2577,2,20091201,       2339
318M20091121,        P06,      35,          1,          8,          8,2,20091201,       2242,   -30.0801,   164.3404,       3315,  1607.4,   2.9755,  34.5920,  34.5913,2,    154.0,2,   154.2,2,   93.04,2,   34.38,2,    0.00,2,    2.44,2,   0.048,2,   0.027,2,-999.000,1,        0,2,  -999.0,9,  -999.0,9,-999.0000,9,  -999.00,   0.014,2,   1.8737,2,   17.17,2, -999.00,9,  -999.0,9,  -999.0,   7.967,2,   0.037,  -999.0,9,   0.016,   0.0079,    0.15,   2.8589,   2.9763,2,20091201,       2335
318M20091121,        P06,      35,          1,          7,          7,2,20091201,       2242,   -30.0801,   164.3404,       3315,  1812.1,   2.6085,  34.6214,  34.6202,2,    151.7,2,   152.0,2,  101.39,2,   34.80,2,    0.00,2,    2.48,2,   0.027,2,   0.017,2,-999.000,1,        0,2,  -999.0,9,  -999.0,9,-999.0000,9,  -999.00,-999.000,9,-999.0000,9, -999.00,9, -999.00,9,  -999.0,9,  -999.0,-999.000,9,-999.000,  -999.0,9,-999.000,-999.0000, -999.00,   2.4791,   2.6088,2,20091201,       2327
318M20091121,        P06,      35,          1,          6,          6,2,20091201,       2242,   -30.0801,   164.3404,       3315,  2017.0,   2.3268,  34.6456,  34.6454,2,    152.4,2,   152.5,2,  107.67,2,   35.01,2,    0.00,2,    2.47,2,   0.015,2,   0.008,2,-999.000,1,        0,2,  -999.0,9,  2389.4,2,   7.5840,6,    25.00,  -0.012,2,   1.9509,2,   17.61,2, -999.00,9,  -999.0,9,  -999.0,   8.237,2,   0.038,  -999.0,9,   0.017,   0.0082,    0.15,   2.1839,   2.3277,2,20091201,       2320
318M20091121,        P06,      35,          1,          5,          5,2,20091201,       2242,   -30.0801,   164.3404,       3315,  2272.0,   2.1109,  34.6651,  34.6643,2,    153.3,2,   152.9,2,  112.72,2,   35.02,2,    0.00,2,    2.47,2,   0.019,2,   0.013,2,-999.000,1,        0,2,  -999.0,9,  -999.0,9,-999.0000,9,  -999.00,  -0.004,2,   1.9328,2,   17.32,2, -999.00,9,  -999.0,9,  -999.0,   8.087,2,   0.037,  -999.0,9,   0.016,   0.0081,    0.15,   1.9491,   2.1103,2,20091201,       2312
318M20091121,        P06,      35,          1,          4,          4,2,20091201,       2242,   -30.0801,   164.3404,       3315,  2528.3,   2.0197,  34.6739,  34.6733,2,    154.4,2,   154.0,2,  115.04,2,   34.97,2,    0.00,2,    2.46,2,   0.012,2,   0.007,2,-999.000,1,        0,2,  -999.0,9,  -999.0,9,-999.0000,9,  -999.00,-999.000,9,   1.9058,2,   17.12,2, -999.00,9,  -999.0,9,  -999.0,   7.946,2,   0.037,  -999.0,9,-999.000,   0.0080,    0.15,   1.8363,   2.0198,2,20091201,       2305
318M20091121,        P06,      35,          1,          3,          3,2,20091201,       2242,   -30.0801,   164.3404,       3315,  2779.6,   1.9650,  34.6796,  34.6796,2,    155.7,2,   155.9,2,  116.30,2,   34.97,2,    0.00,2,    2.46,2,   0.019,2,   0.016,2,-999.000,1,        0,2,  -999.0,9,  2401.9,6,   7.5897,2,    25.00,  -0.008,2,-999.0000,9, -999.00,9, -999.00,9,  -999.0,9,  -999.0,-999.000,9,-999.000,  -999.0,9,   0.016,-999.0000, -999.00,   1.7592,   1.9650,2,20091201,       2257
318M20091121,        P06,      35,          1,          2,          2,2,20091201,       2242,   -30.0801,   164.3404,       3315,  3033.9,   1.9431,  34.6825,  34.6818,2,    157.2,2,   157.4,2,  116.94,2,   34.82,2,    0.00,2,    2.45,2,   0.012,2,   0.008,2,-999.000,1,        0,2,  -999.0,9,  -999.0,9,-999.0000,9,  -999.00,  -0.008,2,   1.8971,2,   16.70,2, -999.00,9,  -999.0,9,  -999.0,   7.958,2,   0.037,  -999.0,9,   0.016,   0.0080,    0.15,   1.7132,   1.9427,2,20091201,       2250
318M20091121,        P06,      35,          1,          1,          1,2,20091201,       2242,   -30.0801,   164.3404,       3315,  3340.3,   1.9163,  34.6860,  34.6857,2,    159.4,2,   159.3,2,  118.00,2,   34.72,2,    0.00,2,    2.44,2,   0.016,2,   0.013,2,-999.000,1,        0,2,  -999.0,9,  2403.1,2,   7.6106,2,    25.00,   0.009,2,   1.9734,2,   16.08,2, -999.00,9,  -999.0,9,  -999.0,   8.251,2,   0.038,  -999.0,9,   0.016,   0.0083,    0.15,   1.6562,   1.9163,2,20091201,       2242