BOTTLE,20220818CCHSIOAMB
EXPOCODE,SECT_ID,STNNBR,CASTNO,SAMPNO,BTLNBR,BTLNBR_FLAG_W,DATE,TIME,LATITUDE,LONGITUDE,DEPTH,CTDPRS,CTDTMP,CTDSAL,SALNTY,SALNTY_FLAG_W,CTDOXY,CTDOXY_FLAG_W,OXYGEN,OXYGEN_FLAG_W,SILCAT,SILCAT_FLAG_W,NITRAT,NITRAT_FLAG_W,NITRIT,NITRIT_FLAG_W,PHSPHT,PHSPHT_FLAG_W,CFC-11,CFC-11_FLAG_W,CFC-12,CFC-12_FLAG_W,CFC113,CFC113_FLAG_W,SF6,SF6_FLAG_W,TCARBN,TCARBN_FLAG_W,ALKALI,ALKALI_FLAG_W,PH_SWS,PH_SWS_FLAG_W,PH_TMP,TRITUM,TRITUM_FLAG_W,HELIUM,HELIUM_FLAG_W,DELHE3,DELHE3_FLAG_W,DELC13,DELC13_FLAG_W,DELC14,DELC14_FLAG_W,C14ERR,NEON,NEON_FLAG_W,NEONER,DOC,DOC_FLAG_W,TRITER,HELIER,DELHER,THETA,SBE35,SBE35_FLAG_W,BTL_DATE,BTL_TIME
,,,,,,,,,,,METERS,DBAR,ITS-90,PSS-78,PSS-78,,UMOL/KG,,UMOL/KG,,UMOL/KG,,UMOL/KG,,UMOL/KG,,UMOL/KG,,PMOL/KG,,PMOL/KG,,PMOL/KG,,FMOL/KG,,UMOL/KG,,UMOL/KG,,,,DEG C,TU,,NMOL/KG,,PERCNT,,/MILLE,,/MILLE,,/MILLE,NMOL/KG,,NMOL/KG,UMOL/KG,,TU,NMOL/KG,PERCNT,DEG C,ITS-90,,,
318M20091121,        P06,      49,          2,         27,         27,2,20091205,       0522,   -30.0799,   171.0000,       2135,     4.0,  21.9016,  35.6772,  35.6781,2,    225.5,2,   225.6,2,    0.25,2,    0.09,2,    0.00,2,    0.10,2,   1.950,2,   1.299,2,-999.000,1,    1.239,2,  2037.5,6,  2336.2,2,   8.0132,2,    25.00,-999.000,9,-999.0000,9, -999.00,9, -999.00,9,  -999.0,9,  -999.0,-999.000,9,-999.000,  -999.0,9,-999.000,-999.0000, -999.00,  21.9008,  21.8971,2,20091205,       0650
318M20091121,        P06,      49,          2,         26,         26,2,20091205,       0522,   -30.0799,   171.0000,       2135,    19.9,  20.7302,  35.6847,  35.6850,2,    230.8,2,   231.3,2,    0.24,2,    0.14,2,    0.00,2,    0.10,2,   2.016,2,   1.333,2,-999.000,1,    1.228,2,  -999.0,9,  2338.2,6,   8.0272,6,    25.00,-999.000,9,-999.0000,9, -999.00,9, -999.00,9,  -999.0,9,  -999.0,-999.000,9,-999.000,  -999.0,9,-999.000,-999.0000, -999.00,  20.7264,  20.7304,2,20091205,       0647
318M20091121,        P06,      49,          2,         25,         25,2,20091205,       0522,   -30.0799,   171.0000,       2135,    40.4,  19.4185,  35.6449,  35.6473,2,    240.8,2,   240.1,2,    0.22,2,    0.07,2,    0.00,2,    0.10,2,   2.117,2,   1.376,2,-999.000,1,    1.187,2,  -999.0,9,  -999.0,9,-999.0000,9,  -999.00,-999.000,9,-999.0000,9, -999.00,9, -999.00,9,  -999.0,9,  -999.0,-999.000,9,-999.000,  -999.0,9,-999.000,-999.0000, -999.00,  19.4112,  19.3818,3,20091205,       0643
318M20091121,        P06,      49,          2,         24,         24,2,20091205,       0522,   -30.0799,   171.0000,       2135,    66.7,  18.0375,  35.5951,  35.5956,2,    242.5,2,   243.6,2,    0.21,2,    0.17,2,    0.00,2,    0.12,2,   2.207,2,   1.430,2,-999.000,1,    1.207,2,  -999.0,9,  2334.6,2,   8.0205,2,    25.00,-999.000,9,-999.0000,9, -999.00,9, -999.00,9,  -999.0,9,  -999.0,-999.000,9,-999.000,  -999.0,9,-999.000,-999.0000, -999.00,  18.0260,  18.0361,2,20091205,       0640
318M20091121,        P06,      49,          2,         23,         23,2,20091205,       0522,   -30.0799,   171.0000,       2135,    91.0,  17.1876,  35.5602,  35.5631,2,    225.9,2,   225.3,2,    0.79,2,    0.66,2,    0.16,2,    0.23,2,   2.244,2,   1.454,2,-999.000,1,    1.151,2,  -999.0,9,  -999.0,9,-999.0000,9,  -999.00,-999.000,9,-999.0000,9, -999.00,9, -999.00,9,  -999.0,9,  -999.0,-999.000,9,-999.000,  -999.0,9,-999.000,-999.0000, -999.00,  17.1724,  17.2257,3,20091205,       0638
318M20091121,        P06,      49,          2,         22,         22,2,20091205,       0522,   -30.0799,   171.0000,       2135,   136.2,  16.5238,  35.5213,  35.5224,2,    216.1,2,   216.8,2,    1.37,2,    2.93,2,    0.02,2,    0.38,2,   2.272,2,   1.434,2,-999.000,1,    1.134,2,  -999.0,9,  2328.8,2,   7.9520,2,    25.00,-999.000,9,-999.0000,9, -999.00,9, -999.00,9,  -999.0,9,  -999.0,-999.000,9,-999.000,  -999.0,9,-999.000,-999.0000, -999.00,  16.5017,  16.5164,2,20091205,       0634
318M20091121,        P06,      49,          2,         21,         21,2,20091205,       0522,   -30.0799,   171.0000,       2135,   186.6,  15.6595,  35.4372,  35.4384,2,    206.4,2,   201.1,2,    2.14,2,    5.94,2,    0.01,2,    0.57,2,   2.306,6,   1.431,6,-999.000,1,    0.933,6,  -999.0,9,  -999.0,9,-999.0000,9,  -999.00,-999.000,9,-999.0000,9, -999.00,9, -999.00,9,  -999.0,9,  -999.0,-999.000,9,-999.000,  -999.0,9,-999.000,-999.0000, -999.00,  15.6303,  15.6640,2,20091205,       0631
318M20091121,        P06,      49,          2,         20,         20,2,20091205,       0522,   -30.0799,   171.0000,       2135,   237.1,  14.7028,  35.3454,  35.3472,2,    202.6,2,   200.3,2,    2.72,2,    7.71,2,    0.01,2,    0.68,2,   2.349,2,   1.433,2,-999.000,1,     0.95,2,  -999.0,9,  2321.1,2,   7.8935,2,    25.00,-999.000,9,-999.0000,9, -999.00,9, -999.00,9,  -999.0,9,  -999.0,-999.000,9,-999.000,  -999.0,9,-999.000,-999.0000, -999.00,  14.6672,  14.7077,2,20091205,       0628
318M20091121,        P06,      49,          2,         19,         19,2,20091205,       0522,   -30.0799,   171.0000,       2135,   286.6,  14.1548,  35.2812,  35.2814,2,    197.2,2,   197.0,2,    3.10,2,    8.97,2,    0.01,2,    0.76,2,   2.354,2,   1.425,2,-999.000,1,    0.921,2,  -999.0,9,  -999.0,9,-999.0000,9,  -999.00,-999.000,9,-999.0000,9, -999.00,9, -999.00,9,  -999.0,9,  -999.0,-999.000,9,-999.000,  -999.0,9,-999.000,-999.0000, -999.00,  14.1128,  14.1614,2,20091205,       0625
318M20091121,        P06,      49,          2,         18,         18,2,20091205,       0522,   -30.0799,   171.0000,       2135,   336.6,  13.5487,  35.2260,  35.2270,2,    199.5,2,   199.8,2,    3.87,2,    9.89,2,    0.01,2,    0.83,2,   2.356,2,   1.415,2,-999.000,1,    0.774,2,  -999.0,9,  2316.7,2,   7.8651,2,    25.00,-999.000,9,-999.0000,9, -999.00,9, -999.00,9,  -999.0,9,  -999.0,-999.000,9,-999.000,  -999.0,9,-999.000,-999.0000, -999.00,  13.5008,  13.5476,2,20091205,       0622
318M20091121,        P06,      49,          2,         17,         17,2,20091205,       0522,   -30.0799,   171.0000,       2135,   387.9,  12.2611,  35.0739,  35.0736,2,    197.5,2,   197.5,2,    5.03,2,   12.64,2,    0.01,2,    0.99,2,   2.345,2,   1.395,2,-999.000,1,    0.784,2,  -999.0,9,  -999.0,9,-999.0000,9,  -999.00,-999.000,9,-999.0000,9, -999.00,9, -999.00,9,  -999.0,9,  -999.0,-999.000,9,-999.000,  -999.0,9,-999.000,-999.0000, -999.00,  12.2093,  12.2619,2,20091205,       0620
318M20091121,        P06,      49,          2,         16,         16,2,20091205,       0522,   -30.0799,   171.0000,       2135,   437.0,  11.3424,  34.9615,  34.9651,2,    197.3,2,   197.7,2,    6.20,2,   14.61,2,    0.00,2,    1.11,2,-999.000,9,-999.000,9,-999.000,9,-999.0000,9,  -999.0,9,  2304.0,2,   7.7966,2,    25.00,-999.000,9,-999.0000,9, -999.00,9, -999.00,9,  -999.0,9,  -999.0,-999.000,9,-999.000,  -999.0,9,-999.000,-999.0000, -999.00,  11.2869,  11.3405,2,20091205,       0617
318M20091121,        P06,      49,          2,         15,         15,2,20091205,       0522,   -30.0799,   171.0000,       2135,   487.9,  10.7251,  34.8840,  34.8833,2,    198.4,2,   198.3,2,    6.98,2,   15.97,2,    0.00,2,    1.20,2,   2.318,2,   1.320,2,-999.000,1,     0.65,2,  -999.0,9,  -999.0,9,-999.0000,9,  -999.00,-999.000,9,-999.0000,9, -999.00,9, -999.00,9,  -999.0,9,  -999.0,-999.000,9,-999.000,  -999.0,9,-999.000,-999.0000, -999.00,  10.6652,  10.7253,2,20091205,       0614
318M20091121,        P06,      49,          2,         14,         14,2,20091205,       0522,   -30.0799,   171.0000,       2135,   568.3,   9.3823,  34.7205,  34.7229,2,    200.5,2,   201.2,2,    8.94,2,   18.75,2,    0.00,2,    1.38,2,   2.194,2,   1.210,2,-999.000,1,    0.504,2,  -999.0,9,  2296.0,6,   7.7471,2,    25.00,-999.000,9,-999.0000,9, -999.00,9, -999.00,9,  -999.0,9,  -999.0,-999.000,9,-999.000,  -999.0,9,-999.000,-999.0000, -999.00,   9.3179,   9.3703,2,20091205,       0611
318M20091121,        P06,      49,          2,         13,         13,2,20091205,       0522,   -30.0799,   171.0000,       2135,   670.4,   8.3336,  34.6054,  34.6052,2,    202.1,2,   203.0,2,   11.69,2,   21.09,2,    0.00,2,    1.52,2,   1.958,2,   1.059,2,-999.000,1,    0.478,2,  -999.0,9,  -999.0,9,-999.0000,9,  -999.00,-999.000,9,-999.0000,9, -999.00,9, -999.00,9,  -999.0,9,  -999.0,-999.000,9,-999.000,  -999.0,9,-999.000,-999.0000, -999.00,   8.2624,   8.3196,2,20091205,       0608
318M20091121,        P06,      49,          2,         12,         12,2,20091205,       0522,   -30.0799,   171.0000,       2135,   770.5,   7.3534,  34.5150,  34.5166,2,    204.1,2,   204.4,2,   15.25,2,   23.27,2,    0.00,2,    1.68,2,   1.639,2,   0.882,2,-999.000,1,    0.234,2,  -999.0,9,  2293.2,2,   7.7034,2,    25.00,-999.000,9,-999.0000,9, -999.00,9, -999.00,9,  -999.0,9,  -999.0,-999.000,9,-999.000,  -999.0,9,-999.000,-999.0000, -999.00,   7.2768,   7.3530,2,20091205,       0605
318M20091121,        P06,      49,          2,         11,         11,2,20091205,       0522,   -30.0799,   171.0000,       2135,   871.8,   6.3629,  34.4856,  34.4848,2,    194.5,2,   195.2,2,   25.56,2,   26.21,2,    0.00,2,    1.87,2,   1.106,2,   0.586,2,-999.000,1,    0.185,2,  -999.0,9,  -999.0,9,-999.0000,9,  -999.00,-999.000,9,-999.0000,9, -999.00,9, -999.00,9,  -999.0,9,  -999.0,-999.000,9,-999.000,  -999.0,9,-999.000,-999.0000, -999.00,   6.2821,   6.3660,2,20091205,       0601
318M20091121,        P06,      49,          2,         10,         10,2,20091205,       0522,   -30.0799,   171.0000,       2135,   973.0,   5.5812,  34.4578,  34.4638,3,    188.7,2,   190.1,2,   34.13,2,   28.18,2,    0.00,2,    1.99,2,   0.837,2,   0.425,2,-999.000,1,    0.048,2,  -999.0,9,  2308.7,2,   7.6699,2,    25.00,-999.000,9,-999.0000,9, -999.00,9, -999.00,9,  -999.0,9,  -999.0,-999.000,9,-999.000,  -999.0,9,-999.000,-999.0000, -999.00,   5.4961,   5.5902,2,20091205,       0558
318M20091121,        P06,      49,          2,          9,          9,2,20091205,       0522,   -30.0799,   171.0000,       2135,  1074.3,   5.0512,  34.4844,  34.4841,2,    182.6,2,   181.4,2,   45.15,2,   29.64,2,    0.00,2,    2.10,2,   0.578,2,   0.308,2,-999.000,1,        0,2,  -999.0,9,  -999.0,9,-999.0000,9,  -999.00,-999.000,9,-999.0000,9, -999.00,9, -999.00,9,  -999.0,9,  -999.0,-999.000,9,-999.000,  -999.0,9,-999.000,-999.0000, -999.00,   4.9607,   5.0515,2,20091205,       0555
318M20091121,        P06,      49,          2,          8,          8,2,20091205,       0522,   -30.0799,   171.0000,       2135,  1173.7,   4.3268,  34.4996,  34.4996,2,    174.2,2,   174.3,2,   58.24,2,   31.27,2,    0.00,2,    2.22,2,   0.366,2,   0.209,2,-999.000,1,        0,2,  -999.0,9,  -999.0,9,-999.0000,9,  -999.00,-999.000,9,-999.0000,9, -999.00,9, -999.00,9,  -999.0,9,  -999.0,-999.000,9,-999.000,  -999.0,9,-999.000,-999.0000, -999.00,   4.2335,   4.3301,2,20091205,       0552
318M20091121,        P06,      49,          2,          7,          7,2,20091205,       0522,   -30.0799,   171.0000,       2135,  1275.4,   3.8066,  34.5208,  34.5206,2,    168.8,2,   169.0,2,   69.37,2,   32.36,2,    0.00,2,    2.29,2,   0.236,2,   0.139,2,-999.000,1,        0,2,  -999.0,9,  2347.4,2,   7.5982,2,    25.00,-999.000,9,-999.0000,9, -999.00,9, -999.00,9,  -999.0,9,  -999.0,-999.000,9,-999.000,  -999.0,9,-999.000,-999.0000, -999.00,   3.7093,   3.8068,2,20091205,       0548
318M20091121,        P06,      49,          2,          6,          6,2,20091205,       0522,   -30.0799,   171.0000,       2135,  1376.6,   3.5000,  34.5336,  34.5338,2,    165.9,2,   165.8,2,   76.06,2,   32.94,2,    0.00,2,    2.34,2,   0.165,2,   0.095,2,-999.000,1,        0,2,  -999.0,9,  -999.0,9,-999.0000,9,  -999.00,-999.000,9,-999.0000,9, -999.00,9, -999.00,9,  -999.0,9,  -999.0,-999.000,9,-999.000,  -999.0,9,-999.000,-999.0000, -999.00,   3.3971,   3.5000,2,20091205,       0545
318M20091121,        P06,      49,          2,          5,          5,2,20091205,       0522,   -30.0799,   171.0000,       2135,  1478.8,   3.2677,  34.5531,  34.5536,2,    162.7,2,   162.6,2,   82.97,2,   33.42,2,    0.00,2,    2.37,2,-999.000,9,-999.000,9,-999.000,9,-999.0000,9,  -999.0,9,  -999.0,9,-999.0000,9,  -999.00,-999.000,9,-999.0000,9, -999.00,9, -999.00,9,  -999.0,9,  -999.0,-999.000,9,-999.000,  -999.0,9,-999.000,-999.0000, -999.00,   3.1586,   3.2673,2,20091205,       0540
318M20091121,        P06,      49,          2,          4,          4,2,20091205,       0522,   -30.0799,   171.0000,       2135,  1580.0,   3.0244,  34.5725,  34.5727,2,    159.4,2,   160.1,2,   89.90,2,   33.78,2,    0.00,2,    2.40,2,   0.091,2,   0.064,2,-999.000,1,        0,2,  -999.0,9,  2368.7,6,   7.5908,6,    25.00,-999.000,9,-999.0000,9, -999.00,9, -999.00,9,  -999.0,9,  -999.0,-999.000,9,-999.000,  -999.0,9,-999.000,-999.0000, -999.00,   2.9095,   3.0233,2,20091205,       0537
318M20091121,        P06,      49,          2,          3,          3,2,20091205,       0522,   -30.0799,   171.0000,       2135,  1750.5,   2.6546,  34.6055,  34.6057,2,    156.2,2,   157.2,2,  100.93,2,   34.32,2,    0.00,2,    2.43,2,   0.046,2,   0.034,2,-999.000,1,        0,2,  -999.0,9,  -999.0,9,-999.0000,9,  -999.00,-999.000,9,-999.0000,9, -999.00,9, -999.00,9,  -999.0,9,  -999.0,-999.000,9,-999.000,  -999.0,9,-999.000,-999.0000, -999.00,   2.5299,   2.6578,2,20091205,       0532
318M20091121,        P06,      49,          2,          2,          2,2,20091205,       0522,   -30.0799,   171.0000,       2135,  1965.6,   2.4224,  34.6264,  34.6264,2,    155.2,2,   155.4,2,  107.69,2,   34.63,2,    0.00,2,    2.45,2,   0.035,2,   0.025,2,-999.000,1,        0,2,  -999.0,9,  -999.0,9,-999.0000,9,  -999.00,-999.000,9,-999.0000,9, -999.00,9, -999.00,9,  -999.0,9,  -999.0,-999.000,9,-999.000,  -999.0,9,-999.000,-999.0000, -999.00,   2.2825,   2.4227,2,20091205,       0527
318M20091121,        P06,      49,          2,          1,          1,2,20091205,       0522,   -30.0799,   171.0000,       2135,  2157.9,   2.2803,  34.6391,  34.6391,2,    153.8,2,   153.9,2,  112.39,2,   34.83,2,    0.00,2,    2.46,2,   0.021,2,   0.017,2,-999.000,1,        0,2,  -999.0,9,  2394.1,2,   7.5832,2,    25.00,-999.000,9,-999.0000,9, -999.00,9, -999.00,9,  -999.0,9,  -999.0,-999.000,9,-999.000,  -999.0,9,-999.000,-999.0000, -999.00,   2.1258,   2.2802,2,20091205,       0522