BOTTLE,20220818CCHSIOAMB
EXPOCODE,SECT_ID,STNNBR,CASTNO,SAMPNO,BTLNBR,BTLNBR_FLAG_W,DATE,TIME,LATITUDE,LONGITUDE,DEPTH,CTDPRS,CTDTMP,CTDSAL,SALNTY,SALNTY_FLAG_W,CTDOXY,CTDOXY_FLAG_W,OXYGEN,OXYGEN_FLAG_W,SILCAT,SILCAT_FLAG_W,NITRAT,NITRAT_FLAG_W,NITRIT,NITRIT_FLAG_W,PHSPHT,PHSPHT_FLAG_W,CFC-11,CFC-11_FLAG_W,CFC-12,CFC-12_FLAG_W,CFC113,CFC113_FLAG_W,SF6,SF6_FLAG_W,TCARBN,TCARBN_FLAG_W,ALKALI,ALKALI_FLAG_W,PH_SWS,PH_SWS_FLAG_W,PH_TMP,TRITUM,TRITUM_FLAG_W,HELIUM,HELIUM_FLAG_W,DELHE3,DELHE3_FLAG_W,DELC13,DELC13_FLAG_W,DELC14,DELC14_FLAG_W,C14ERR,NEON,NEON_FLAG_W,NEONER,DOC,DOC_FLAG_W,TRITER,HELIER,DELHER,THETA,SBE35,SBE35_FLAG_W,BTL_DATE,BTL_TIME
,,,,,,,,,,,METERS,DBAR,ITS-90,PSS-78,PSS-78,,UMOL/KG,,UMOL/KG,,UMOL/KG,,UMOL/KG,,UMOL/KG,,UMOL/KG,,PMOL/KG,,PMOL/KG,,PMOL/KG,,FMOL/KG,,UMOL/KG,,UMOL/KG,,,,DEG C,TU,,NMOL/KG,,PERCNT,,/MILLE,,/MILLE,,/MILLE,NMOL/KG,,NMOL/KG,UMOL/KG,,TU,NMOL/KG,PERCNT,DEG C,ITS-90,,,
318M20091121,        P06,     116,          1,         36,         36,2,20091226,       1047,   -32.5001,  -153.5434,       4850,     4.0,  21.4387,  35.4566,  35.4556,2,    222.1,2,   221.8,2,    0.35,2,    0.00,2,    0.00,2,    0.08,2,   1.885,2,   1.303,2,-999.000,1,    1.128,2,  2041.4,2,  2327.2,6,   8.0123,6,    25.00,   0.452,2,-999.0000,9, -999.00,9,    1.06,2,    90.2,2,     3.2,-999.000,9,-999.000,    60.4,2,   0.009,-999.0000, -999.00,  21.4379,  21.4446,2,20091226,       1309
318M20091121,        P06,     116,          1,         35,         35,2,20091226,       1047,   -32.5001,  -153.5434,       4850,    25.5,  21.4450,  35.4553,  35.4552,2,    222.3,2,   222.5,2,    0.30,2,    0.00,2,    0.00,2,    0.08,2,   1.878,6,   1.301,6,-999.000,1,   1.2125,6,  2040.4,6,  2328.8,2,   8.0114,2,    25.00,-999.000,9,-999.0000,9, -999.00,9, -999.00,9,  -999.0,9,  -999.0,-999.000,9,-999.000,    64.8,3,-999.000,-999.0000, -999.00,  21.4400,  21.4482,2,20091226,       1307
318M20091121,        P06,     116,          1,         34,         34,2,20091226,       1047,   -32.5001,  -153.5434,       4850,    50.8,  19.0708,  35.4237,  35.4231,2,    238.8,2,   238.8,2,    0.26,2,    0.00,2,    0.00,2,    0.08,2,   2.144,2,   1.458,2,-999.000,1,    1.354,2,  2039.0,2,  2325.2,2,   8.0117,2,    25.00,   0.438,2,-999.0000,9, -999.00,9, -999.00,9,  -999.0,9,  -999.0,-999.000,9,-999.000,    59.1,2,   0.009,-999.0000, -999.00,  19.0617,  19.0729,2,20091226,       1304
318M20091121,        P06,     116,          1,         33,         33,2,20091226,       1047,   -32.5001,  -153.5434,       4850,    75.9,  18.1629,  35.4272,  35.4269,2,    243.3,2,   240.9,2,    0.21,2,    0.00,2,    0.00,2,    0.09,2,   2.171,2,   1.461,2,-999.000,1,    1.329,2,  2040.3,2,  2327.1,2,   8.0116,2,    25.00,-999.000,9,-999.0000,9, -999.00,9, -999.00,9,  -999.0,9,  -999.0,-999.000,9,-999.000,    60.0,2,-999.000,-999.0000, -999.00,  18.1498,  18.2029,3,20091226,       1302
318M20091121,        P06,     116,          1,         32,         32,2,20091226,       1047,   -32.5001,  -153.5434,       4850,   101.2,  17.6609,  35.3918,  35.4014,3,    239.7,2,   240.4,2,    0.18,2,   -0.01,2,    0.01,2,    0.10,2,   2.243,2,   1.513,2,-999.000,1,     1.28,2,  2046.3,2,  2321.4,2,   8.0017,2,    25.00,   0.410,6,-999.0000,9, -999.00,9,    1.12,2,    81.3,2,     2.9,-999.000,9,-999.000,    57.2,2,   0.006,-999.0000, -999.00,  17.6437,  17.6622,2,20091226,       1300
318M20091121,        P06,     116,          1,         31,         31,2,20091226,       1047,   -32.5001,  -153.5434,       4850,   152.4,  16.4525,  35.3483,  35.3473,2,    227.5,2,   229.3,2,    0.33,2,    0.56,2,    0.17,2,    0.19,2,   2.289,2,   1.535,2,-999.000,1,    1.291,2,  2060.7,2,  2322.0,2,   7.9693,2,    25.00,   0.367,2,-999.0000,9, -999.00,9, -999.00,9,  -999.0,9,  -999.0,-999.000,9,-999.000,    53.9,2,   0.009,-999.0000, -999.00,  16.4279,  16.4557,2,20091226,       1257
318M20091121,        P06,     116,          1,         30,         30,2,20091226,       1047,   -32.5001,  -153.5434,       4850,   203.1,  15.8549,  35.3091,  35.3073,2,    226.1,2,   228.7,2,    0.29,2,    1.30,2,    0.23,2,    0.24,2,   2.366,2,   1.566,2,-999.000,1,    1.243,2,  2066.5,2,  2319.0,2,   7.9465,2,    25.00,   0.392,2,-999.0000,9, -999.00,9,    1.05,2,    81.4,2,     4.3,-999.000,9,-999.000,    52.3,2,   0.009,-999.0000, -999.00,  15.8229,  15.8562,2,20091226,       1255
318M20091121,        P06,     116,          1,         29,         29,2,20091226,       1047,   -32.5001,  -153.5434,       4850,   248.3,  14.6949,  35.2105,  35.2093,2,    205.2,2,   205.5,2,    1.06,2,    5.75,2,    0.02,2,    0.54,2,   2.445,2,   1.573,2,-999.000,1,    1.078,2,  2093.5,2,  2316.2,2,   7.8923,2,    25.00,   0.324,2,-999.0000,9, -999.00,9,    0.99,2,    80.7,2,     2.9,-999.000,9,-999.000,    49.3,2,   0.009,-999.0000, -999.00,  14.6577,  14.7015,2,20091226,       1252
318M20091121,        P06,     116,          1,         28,         28,2,20091226,       1047,   -32.5001,  -153.5434,       4850,   298.9,  13.5684,  35.1021,  35.0994,2,    200.8,2,   201.1,2,    1.62,2,    8.43,2,    0.01,2,    0.70,2,   2.529,2,   1.610,2,-999.000,1,    1.046,2,  2106.5,2,  2316.1,2,   7.8552,2,    25.00,   0.290,2,-999.0000,9, -999.00,9,    1.08,2,    82.3,2,     3.0,-999.000,9,-999.000,    46.1,2,   0.008,-999.0000, -999.00,  13.5259,  13.5746,2,20091226,       1249
318M20091121,        P06,     116,          1,         27,         27,2,20091226,       1047,   -32.5001,  -153.5434,       4850,   350.2,  11.9820,  34.9118,  34.9144,2,    204.2,2,   204.0,2,    2.39,2,   11.42,2,    0.01,2,    0.90,2,   2.655,2,   1.618,2,-999.000,1,    1.018,2,  2116.3,2,  2305.9,2,   7.8181,2,    25.00,   0.224,2,-999.0000,9, -999.00,9,    1.09,2,    69.9,2,     3.0,-999.000,9,-999.000,    42.2,2,   0.008,-999.0000, -999.00,  11.9361,  11.9822,2,20091226,       1247
318M20091121,        P06,     116,          1,         26,         26,2,20091226,       1047,   -32.5001,  -153.5434,       4850,   401.8,  10.5814,  34.7590,  34.7591,2,    211.8,2,   211.1,2,    2.96,2,   14.09,2,    0.01,2,    1.07,2,   2.808,2,   1.686,2,-999.000,1,     1.02,2,  2124.0,2,  2300.3,2,   7.7877,2,    25.00,   0.214,2,-999.0000,9, -999.00,9,    1.21,2,    54.9,2,     3.0,-999.000,9,-999.000,    43.5,2,   0.008,-999.0000, -999.00,  10.5327,  10.5884,2,20091226,       1245
318M20091121,        P06,     116,          1,         25,         25,2,20091226,       1047,   -32.5001,  -153.5434,       4850,   451.6,   9.2431,  34.6000,  34.6058,2,    220.3,2,   219.6,2,    3.73,2,   16.42,2,    0.01,2,    1.21,2,   3.003,2,   1.770,2,-999.000,1,    0.971,2,  2129.6,2,  2280.4,4,   7.7633,2,    25.00,   0.192,2,-999.0000,9, -999.00,9,    1.20,2,    49.9,2,     3.0,-999.000,9,-999.000,    44.4,2,   0.008,-999.0000, -999.00,   9.1928,   9.2563,2,20091226,       1243
318M20091121,        P06,     116,          1,         24,         24,2,20091226,       1047,   -32.5001,  -153.5434,       4850,   502.7,   8.1008,  34.4736,  34.4701,2,    231.7,2,   231.9,2,    4.51,2,   18.83,2,    0.01,2,    1.36,2,   3.188,2,   1.829,2,-999.000,1,    0.848,2,  2133.5,2,  2285.5,2,   7.7465,2,    25.00,   0.149,2,-999.0000,9, -999.00,9,    1.23,2,    43.2,2,     3.0,-999.000,9,-999.000,  -999.0,9,   0.008,-999.0000, -999.00,   8.0489,   8.1104,2,20091226,       1240
318M20091121,        P06,     116,          1,         23,         23,2,20091226,       1047,   -32.5001,  -153.5434,       4850,   604.7,   7.2156,  34.3969,  34.3964,2,    240.8,2,   241.9,2,    5.69,2,   20.80,2,    0.01,2,    1.48,2,   3.248,2,   1.835,2,-999.000,1,    0.766,2,  2136.3,2,  2285.5,2,   7.7374,2,    25.00,   0.143,2,-999.0000,9, -999.00,9,    1.22,2,    36.5,2,     3.0,-999.000,9,-999.000,  -999.0,5,   0.008,-999.0000, -999.00,   7.1569,   7.2151,2,20091226,       1237
318M20091121,        P06,     116,          1,         22,         22,2,20091226,       1047,   -32.5001,  -153.5434,       4850,   705.8,   6.6401,  34.3542,  34.3538,2,    241.6,2,   241.8,2,    7.48,2,   22.39,2,    0.00,2,    1.58,2,   2.786,2,   1.523,2,-999.000,1,     0.51,2,  2138.9,2,  2281.3,2,   7.7198,2,    25.00,   0.115,2,-999.0000,9, -999.00,9,    1.29,2,    21.1,2,     2.8,-999.000,9,-999.000,  -999.0,9,   0.008,-999.0000, -999.00,   6.5742,   6.6417,2,20091226,       1234
318M20091121,        P06,     116,          1,         21,         21,2,20091226,       1047,   -32.5001,  -153.5434,       4850,   808.1,   6.1454,  34.3220,  34.3220,2,    237.1,2,   237.1,2,    9.68,2,   24.03,2,    0.00,2,    1.69,2,   2.189,2,   1.189,2,-999.000,1,    0.316,2,  2143.6,2,  2280.8,2,   7.7200,2,    25.00,   0.078,2,-999.0000,9, -999.00,9,    1.27,2,     9.3,2,     2.7,-999.000,9,-999.000,    41.6,2,   0.008,-999.0000, -999.00,   6.0724,   6.1484,2,20091226,       1230
318M20091121,        P06,     116,          1,         20,         20,2,20091226,       1047,   -32.5001,  -153.5434,       4850,   904.7,   5.6812,  34.3049,  34.3044,2,    229.0,2,   228.9,2,   13.10,2,   25.88,2,    0.00,2,    1.81,2,   1.566,2,   0.823,2,-999.000,1,    0.116,2,  2153.4,2,  2282.4,2,   7.6958,2,    25.00,   0.068,2,-999.0000,9, -999.00,9,    1.26,2,   -18.4,2,     3.4,-999.000,9,-999.000,  -999.0,9,   0.008,-999.0000, -999.00,   5.6021,   5.6805,2,20091226,       1227
318M20091121,        P06,     116,          1,         19,         19,2,20091226,       1047,   -32.5001,  -153.5434,       4850,  1006.1,   5.1574,  34.3073,  34.3068,2,    216.4,2,   216.1,2,   19.60,2,   28.09,2,    0.00,2,    1.96,2,   1.041,2,   0.537,2,-999.000,1,    0.172,2,  2176.0,2,  2291.3,6,   7.6733,2,    25.00,   0.030,2,-999.0000,9, -999.00,9,    1.14,2,   -43.3,2,     3.3,-999.000,9,-999.000,    42.2,2,   0.008,-999.0000, -999.00,   5.0726,   5.1622,2,20091226,       1224
318M20091121,        P06,     116,          1,         18,         18,2,20091226,       1047,   -32.5001,  -153.5434,       4850,  1108.6,   4.4766,  34.3284,  34.3290,2,    202.7,2,   201.1,2,   29.99,2,   30.53,2,    0.00,2,    2.13,2,   0.619,2,   0.312,2,-999.000,1,        0,2,  2190.7,2,  2300.5,2,   7.6373,2,    25.00,   0.023,2,-999.0000,9, -999.00,9,    1.00,2,   -78.0,2,     2.6,-999.000,9,-999.000,  -999.0,9,   0.008,-999.0000, -999.00,   4.3881,   4.4758,2,20091226,       1220
318M20091121,        P06,     116,          1,         17,         17,2,20091226,       1047,   -32.5001,  -153.5434,       4850,  1210.9,   3.9281,  34.3617,  34.3616,2,    189.8,2,   189.2,2,   40.40,2,   32.27,2,    0.00,2,    2.24,2,   0.337,2,   0.175,2,-999.000,1,        0,2,  2202.4,2,  2307.1,2,   7.6150,2,    25.00,-999.000,9,-999.0000,9, -999.00,9,    0.99,2,  -107.1,2,     2.6,-999.000,9,-999.000,    37.1,2,-999.000,-999.0000, -999.00,   3.8355,   3.9299,2,20091226,       1217
318M20091121,        P06,     116,          1,         16,         16,2,20091226,       1047,   -32.5001,  -153.5434,       4850,  1312.0,   3.4438,  34.4062,  34.4061,2,    182.6,2,   181.7,2,   51.03,2,   33.29,2,    0.00,2,    2.32,2,   0.191,2,   0.103,2,-999.000,1,        0,2,  2225.1,2,  2316.7,2,   7.5971,2,    25.00,   0.005,2,-999.0000,9, -999.00,9,    0.74,2,  -130.9,2,     2.4,-999.000,9,-999.000,  -999.0,9,   0.008,-999.0000, -999.00,   3.3473,   3.4465,2,20091226,       1214
318M20091121,        P06,     116,          1,         15,         15,2,20091226,       1047,   -32.5001,  -153.5434,       4850,  1414.5,   3.1409,  34.4526,  34.4521,2,    174.4,2,   174.8,2,   60.45,2,   33.97,2,    0.00,2,    2.37,2,   0.099,2,   0.057,2,-999.000,1,        0,2,  2234.8,2,  2325.7,2,   7.5888,2,    25.00,   0.000,2,-999.0000,9, -999.00,9,    0.65,2,  -142.6,2,     2.5,-999.000,9,-999.000,    37.8,2,   0.008,-999.0000, -999.00,   3.0389,   3.1410,2,20091226,       1210
318M20091121,        P06,     116,          1,         14,         14,2,20091226,       1047,   -32.5001,  -153.5434,       4850,  1511.4,   2.9282,  34.4947,  34.4958,2,    168.0,2,   169.4,2,   69.69,2,   34.28,2,    0.00,2,    2.40,2,   0.058,2,   0.036,2,-999.000,1,        0,2,  2247.9,2,  2341.6,2,   7.5924,4,    25.00,  -0.003,2,-999.0000,9, -999.00,9,    0.58,2,  -159.4,2,     2.8,-999.000,9,-999.000,  -999.0,9,   0.008,-999.0000, -999.00,   2.8204,   2.9279,2,20091226,       1207
318M20091121,        P06,     116,          1,         13,         13,2,20091226,       1047,   -32.5001,  -153.5434,       4850,  1613.0,   2.7318,  34.5361,  34.5367,2,    162.9,2,   163.6,2,   79.14,2,   34.59,2,    0.00,2,    2.42,2,   0.035,2,   0.021,2,-999.000,1,        0,2,  2258.8,2,  2353.4,2,   7.5800,4,    25.00,  -0.011,2,-999.0000,9, -999.00,9,    0.49,2,  -169.3,2,     2.3,-999.000,9,-999.000,    37.6,2,   0.008,-999.0000, -999.00,   2.6178,   2.7314,2,20091226,       1203
318M20091121,        P06,     116,          1,         12,         12,2,20091226,       1047,   -32.5001,  -153.5434,       4850,  1817.4,   2.4353,  34.5931,  34.5941,2,    156.6,2,   157.0,2,   95.66,2,   34.95,2,    0.00,2,    2.45,2,   0.030,2,   0.020,2,-999.000,1,        0,2,  2277.9,2,  2371.9,2,   7.5857,4,    25.00,  -0.005,2,-999.0000,9, -999.00,9,    0.38,2,  -193.6,2,     2.3,-999.000,9,-999.000,  -999.0,9,   0.008,-999.0000, -999.00,   2.3080,   2.4343,2,20091226,       1158
318M20091121,        P06,     116,          1,         11,         11,2,20091226,       1047,   -32.5001,  -153.5434,       4850,  2020.7,   2.2306,  34.6241,  34.6251,2,    153.3,2,   153.6,2,  107.05,2,   35.21,2,    0.00,2,    2.47,2,   0.019,2,   0.013,2,-999.000,1,        0,2,  2290.4,2,  2389.2,2,   7.5795,4,    25.00,  -0.005,2,-999.0000,9, -999.00,9,    0.32,2,  -204.9,2,     2.3,-999.000,9,-999.000,    38.1,2,   0.008,-999.0000, -999.00,   2.0889,   2.2299,2,20091226,       1153
318M20091121,        P06,     116,          1,         10,         10,2,20091226,       1047,   -32.5001,  -153.5434,       4850,  2256.1,   2.0770,  34.6434,  34.6444,2,    150.9,2,   151.0,2,  115.95,2,   35.53,2,    0.00,2,    2.49,2,   0.021,2,   0.015,2,-999.000,1,        0,2,  2302.4,2,  2399.7,2,   7.5791,2,    25.00,  -0.005,2,-999.0000,9, -999.00,9,    0.28,2,  -212.7,2,     2.2,-999.000,9,-999.000,  -999.0,9,   0.008,-999.0000, -999.00,   1.9172,   2.0766,2,20091226,       1148
318M20091121,        P06,     116,          1,          9,          9,2,20091226,       1047,   -32.5001,  -153.5434,       4850,  2529.5,   1.9272,  34.6561,  34.6570,2,    150.5,2,   150.2,2,  123.21,2,   35.68,2,    0.00,2,    2.51,2,   0.015,2,   0.011,2,-999.000,1,        0,2,  2308.1,2,  2403.6,2,   7.5834,2,    25.00,  -0.006,2,-999.0000,9, -999.00,9,    0.25,2,  -230.2,2,     2.9,-999.000,9,-999.000,    35.2,2,   0.008,-999.0000, -999.00,   1.7455,   1.9269,2,20091226,       1141
318M20091121,        P06,     116,          1,          8,          8,2,20091226,       1047,   -32.5001,  -153.5434,       4850,  2775.5,   1.8374,  34.6642,  34.6661,2,    151.0,2,   150.9,2,  126.93,2,   35.69,2,    0.00,2,    2.50,2,   0.013,2,   0.009,2,-999.000,1,        0,2,  2310.0,2,  2408.1,2,   7.5765,2,    25.00,-999.000,9,-999.0000,9, -999.00,9,    0.20,2,  -221.1,2,     2.5,-999.000,9,-999.000,  -999.0,9,-999.000,-999.0000, -999.00,   1.6347,   1.8373,2,20091226,       1135
318M20091121,        P06,     116,          1,          7,          7,2,20091226,       1047,   -32.5001,  -153.5434,       4850,  3038.2,   1.7503,  34.6728,  34.6742,2,    154.5,2,   154.9,2,  128.36,2,   35.49,2,    0.00,2,    2.48,2,   0.016,2,   0.011,2,-999.000,1,        0,2,  2308.9,2,  2408.2,2,   7.5803,2,    25.00,  -0.005,2,-999.0000,9, -999.00,9,    0.28,2,  -221.1,2,     2.7,-999.000,9,-999.000,  -999.0,5,   0.008,-999.0000, -999.00,   1.5243,   1.7501,2,20091226,       1128
318M20091121,        P06,     116,          1,          6,          6,2,20091226,       1047,   -32.5001,  -153.5434,       4850,  3346.2,   1.6526,  34.6857,  34.6864,2,    163.5,2,   164.5,2,  125.38,2,   34.61,2,    0.00,2,    2.42,2,   0.017,2,   0.013,2,-999.000,1,        0,2,  2299.9,2,  2394.3,2,   7.5877,2,    25.00,  -0.011,2,-999.0000,9, -999.00,9,    0.26,2,  -197.3,2,     2.2,-999.000,9,-999.000,  -999.0,9,   0.008,-999.0000, -999.00,   1.3982,   1.6528,2,20091226,       1122
318M20091121,        P06,     116,          1,          5,         37,2,20091226,       1047,   -32.5001,  -153.5434,       4850,  3652.7,   1.5502,  34.6999,  34.7018,2,    178.0,2,   178.2,2,  119.09,2,   33.48,2,    0.00,2,    2.34,2,   0.015,2,   0.011,2,-999.000,1,        0,2,  2284.2,2,  -999.0,9,-999.0000,9,  -999.00,-999.000,9,-999.0000,9, -999.00,9,    0.34,2,  -181.5,2,     2.5,-999.000,9,-999.000,    34.8,2,-999.000,-999.0000, -999.00,   1.2668,   1.5498,2,20091226,       1116
318M20091121,        P06,     116,          1,          4,          4,2,20091226,       1047,   -32.5001,  -153.5434,       4850,  3958.9,   1.4033,  34.7109,  34.7120,2,    191.0,2,   192.1,2,  114.45,2,   32.47,2,    0.00,2,    2.27,2,   0.019,2,   0.012,2,-999.000,1,        0,2,  2275.7,2,  2372.7,2,   7.6089,2,    25.00,  -0.002,2,-999.0000,9, -999.00,9,    0.39,2,  -168.2,2,     2.2,-999.000,9,-999.000,  -999.0,9,   0.008,-999.0000, -999.00,   1.0913,   1.4032,2,20091226,       1109
318M20091121,        P06,     116,          1,          3,          3,2,20091226,       1047,   -32.5001,  -153.5434,       4850,  4267.7,   1.2518,  34.7112,  34.7127,2,    198.3,2,   197.6,2,  115.87,2,   32.21,2,    0.00,2,    2.24,2,   0.050,2,   0.033,2,-999.000,1,        0,2,  2271.5,2,  2375.8,2,   7.6136,2,    25.00,  -0.004,2,-999.0000,9, -999.00,9,    0.40,2,  -171.7,2,     2.4,-999.000,9,-999.000,    38.8,2,   0.008,-999.0000, -999.00,   0.9104,   1.2523,2,20091226,       1102
318M20091121,        P06,     116,          1,          2,          2,2,20091226,       1047,   -32.5001,  -153.5434,       4850,  4627.7,   1.1507,  34.7103,  34.7117,2,    201.9,2,   203.0,2,  117.91,2,   32.16,2,    0.00,2,    2.23,2,   0.058,2,   0.039,2,-999.000,1,        0,2,  2270.2,2,  2366.2,2,   7.6170,2,    25.00,  -0.005,2,-999.0000,9, -999.00,9,    0.43,2,  -167.3,2,     2.2,-999.000,9,-999.000,  -999.0,9,   0.008,-999.0000, -999.00,   0.7718,   1.1506,2,20091226,       1054
318M20091121,        P06,     116,          1,          1,          1,2,20091226,       1047,   -32.5001,  -153.5434,       4850,  4988.4,   1.1250,  34.7098,  34.7127,3,    204.3,2,   204.2,2,  118.72,2,   32.11,2,    0.00,2,    2.23,2,   0.036,2,   0.022,2,-999.000,1,        0,2,  2269.8,6,  2366.5,6,   7.6203,6,    25.00,  -0.003,2,-999.0000,9, -999.00,9,    0.50,2,  -165.5,2,     2.4,-999.000,9,-999.000,    39.3,2,   0.008,-999.0000, -999.00,   0.7046,   1.1247,2,20091226,       1047