BOTTLE,20220818CCHSIOAMB
EXPOCODE,SECT_ID,STNNBR,CASTNO,SAMPNO,BTLNBR,BTLNBR_FLAG_W,DATE,TIME,LATITUDE,LONGITUDE,DEPTH,CTDPRS,CTDTMP,CTDSAL,SALNTY,SALNTY_FLAG_W,CTDOXY,CTDOXY_FLAG_W,OXYGEN,OXYGEN_FLAG_W,SILCAT,SILCAT_FLAG_W,NITRAT,NITRAT_FLAG_W,NITRIT,NITRIT_FLAG_W,PHSPHT,PHSPHT_FLAG_W,CFC-11,CFC-11_FLAG_W,CFC-12,CFC-12_FLAG_W,CFC113,CFC113_FLAG_W,SF6,SF6_FLAG_W,TCARBN,TCARBN_FLAG_W,ALKALI,ALKALI_FLAG_W,PH_SWS,PH_SWS_FLAG_W,PH_TMP,TRITUM,TRITUM_FLAG_W,HELIUM,HELIUM_FLAG_W,DELHE3,DELHE3_FLAG_W,DELC13,DELC13_FLAG_W,DELC14,DELC14_FLAG_W,C14ERR,NEON,NEON_FLAG_W,NEONER,DOC,DOC_FLAG_W,TRITER,HELIER,DELHER,THETA,SBE35,SBE35_FLAG_W,BTL_DATE,BTL_TIME
,,,,,,,,,,,METERS,DBAR,ITS-90,PSS-78,PSS-78,,UMOL/KG,,UMOL/KG,,UMOL/KG,,UMOL/KG,,UMOL/KG,,UMOL/KG,,PMOL/KG,,PMOL/KG,,PMOL/KG,,FMOL/KG,,UMOL/KG,,UMOL/KG,,,,DEG C,TU,,NMOL/KG,,PERCNT,,/MILLE,,/MILLE,,/MILLE,NMOL/KG,,NMOL/KG,UMOL/KG,,TU,NMOL/KG,PERCNT,DEG C,ITS-90,,,
318M20091121,        P06,      90,          1,         36,         36,2,20091216,       0530,   -32.4999,  -172.4205,       5751,     3.0,  21.2322,  35.4053,  35.4054,2,    228.2,2,   227.8,2,    1.14,2,    0.00,2,    0.00,2,    0.16,2,   2.090,2,   1.248,2,-999.000,1,    1.138,2,  2156.7,4,  2328.1,2,   7.9863,2,    25.00,-999.000,9,-999.0000,9, -999.00,9, -999.00,9,  -999.0,9,  -999.0,-999.000,9,-999.000,    58.3,2,-999.000,-999.0000, -999.00,  21.2316,  21.2443,2,20091216,       0811
318M20091121,        P06,      90,          1,         35,         35,2,20091216,       0530,   -32.4999,  -172.4205,       5751,    35.4,  18.3777,  35.3694,  35.3809,3,    244.0,2,   246.5,2,    0.92,2,    0.00,2,    0.00,2,    0.13,2,   2.363,2,   1.406,2,-999.000,1,    1.082,2,  2152.0,4,  2327.0,6,   7.9787,6,    25.00,-999.000,9,-999.0000,9, -999.00,9, -999.00,9,  -999.0,9,  -999.0,-999.000,9,-999.000,    57.9,2,-999.000,-999.0000, -999.00,  18.3715,  18.3775,2,20091216,       0808
318M20091121,        P06,      90,          1,         34,         34,2,20091216,       0530,   -32.4999,  -172.4205,       5751,    61.5,  16.8247,  35.4391,  35.4489,3,    254.8,2,   253.8,2,    1.09,2,    0.00,2,    0.00,2,    0.12,2,   2.433,2,   1.434,2,-999.000,1,    1.118,2,  2151.3,4,  2328.9,2,   7.9923,2,    25.00,-999.000,9,-999.0000,9, -999.00,9, -999.00,9,  -999.0,9,  -999.0,-999.000,9,-999.000,    60.1,2,-999.000,-999.0000, -999.00,  16.8146,  16.8165,2,20091216,       0806
318M20091121,        P06,      90,          1,         33,         33,2,20091216,       0530,   -32.4999,  -172.4205,       5751,    85.3,  15.7912,  35.4457,  35.4436,2,    246.3,2,   246.0,2,    1.27,2,    0.53,2,    0.02,2,    0.20,2,   2.451,2,   1.427,2,-999.000,1,    1.122,2,  2065.8,2,  2328.3,2,   7.9696,2,    25.00,-999.000,9,-999.0000,9, -999.00,9, -999.00,9,  -999.0,9,  -999.0,-999.000,9,-999.000,    57.1,2,-999.000,-999.0000, -999.00,  15.7778,  15.7826,2,20091216,       0804
318M20091121,        P06,      90,          1,         32,         32,2,20091216,       0530,   -32.4999,  -172.4205,       5751,   115.5,  15.1824,  35.4113,  35.4049,2,    225.0,2,   228.2,2,    1.65,2,    3.81,2,    0.09,2,    0.38,2,   2.510,2,   1.454,2,-999.000,1,    1.127,2,  2084.6,2,  2321.5,2,   7.9295,2,    25.00,-999.000,9,-999.0000,9, -999.00,9, -999.00,9,  -999.0,9,  -999.0,-999.000,9,-999.000,    51.7,2,-999.000,-999.0000, -999.00,  15.1647,  15.1923,2,20091216,       0802
318M20091121,        P06,      90,          1,         31,         31,2,20091216,       0530,   -32.4999,  -172.4205,       5751,   166.0,  14.1104,  35.2990,  35.2973,2,    229.0,2,   219.0,3,    2.23,2,    6.94,2,    0.01,2,    0.57,2,   2.538,2,   1.458,2,-999.000,1,    1.064,2,  2099.6,2,  2320.9,2,   7.8913,2,    25.00,-999.000,9,-999.0000,9, -999.00,9, -999.00,9,  -999.0,9,  -999.0,-999.000,9,-999.000,    51.6,2,-999.000,-999.0000, -999.00,  14.0862,  14.1109,2,20091216,       0800
318M20091121,        P06,      90,          1,         30,         30,2,20091216,       0530,   -32.4999,  -172.4205,       5751,   216.3,  13.4022,  35.2149,  35.2153,2,    223.8,2,   221.9,2,    2.41,3,    7.51,3,    0.01,2,    0.61,3,   2.640,2,   1.508,2,-999.000,1,    1.083,2,  2103.1,2,  2315.4,2,   7.8753,2,    25.00,-999.000,9,-999.0000,9, -999.00,9, -999.00,9,  -999.0,9,  -999.0,-999.000,9,-999.000,    52.6,2,-999.000,-999.0000, -999.00,  13.3718,  13.4069,2,20091216,       0757
318M20091121,        P06,      90,          1,         29,         29,2,20091216,       0530,   -32.4999,  -172.4205,       5751,   267.8,  12.5260,  35.0973,  35.0950,2,    209.5,2,   208.6,2,    3.60,2,   11.24,2,    0.00,2,    0.83,2,   2.654,6,   1.493,6,-999.000,1,    1.003,6,  2118.0,2,  2308.3,2,   7.8329,2,    25.00,-999.000,9,-999.0000,9, -999.00,9, -999.00,9,  -999.0,9,  -999.0,-999.000,9,-999.000,    48.3,2,-999.000,-999.0000, -999.00,  12.4899,  12.5254,2,20091216,       0755
318M20091121,        P06,      90,          1,         28,         28,2,20091216,       0530,   -32.4999,  -172.4205,       5751,   316.4,  11.7403,  34.9896,  34.9893,2,    208.9,2,   210.1,2,    3.78,2,   12.76,2,    0.00,2,    0.93,2,   2.773,2,   1.556,2,-999.000,1,    1.019,2,  2124.7,2,  2304.1,2,   7.8106,2,    25.00,-999.000,9,-999.0000,9, -999.00,9, -999.00,9,  -999.0,9,  -999.0,-999.000,9,-999.000,    45.6,3,-999.000,-999.0000, -999.00,  11.6994,  11.7324,2,20091216,       0752
318M20091121,        P06,      90,          1,         27,         27,2,20091216,       0530,   -32.4999,  -172.4205,       5751,   367.2,  10.6626,  34.8231,  34.8223,2,    209.0,2,   207.6,2,    4.36,2,   15.14,2,    0.00,2,    1.09,2,   2.780,2,   1.505,2,-999.000,1,    0.884,2,  2129.2,2,  2297.0,2,   7.7822,2,    25.00,-999.000,9,-999.0000,9, -999.00,9, -999.00,9,  -999.0,9,  -999.0,-999.000,9,-999.000,    48.2,2,-999.000,-999.0000, -999.00,  10.6179,  10.6620,2,20091216,       0750
318M20091121,        P06,      90,          1,         26,         26,2,20091216,       0530,   -32.4999,  -172.4205,       5751,   437.7,   9.2487,  34.6400,  34.6402,2,    213.4,2,   212.6,2,    5.55,2,   18.19,2,    0.00,2,    1.29,2,   2.852,2,   1.494,2,-999.000,1,    0.762,2,  2135.9,2,  2292.6,2,   7.7512,2,    25.00,-999.000,9,-999.0000,9, -999.00,9, -999.00,9,  -999.0,9,  -999.0,-999.000,9,-999.000,    48.4,2,-999.000,-999.0000, -999.00,   9.1999,   9.2298,2,20091216,       0747
318M20091121,        P06,      90,          1,         25,         25,2,20091216,       0530,   -32.4999,  -172.4205,       5751,   539.1,   8.0447,  34.5026,  34.5018,2,    223.8,2,   222.4,2,    6.55,2,   20.55,2,    0.00,2, -999.00,5,   2.917,2,   1.490,2,-999.000,1,    0.445,2,  2141.2,2,  2284.8,2,   7.7325,2,    25.00,-999.000,9,-999.0000,9, -999.00,9, -999.00,9,  -999.0,9,  -999.0,-999.000,9,-999.000,    45.1,2,-999.000,-999.0000, -999.00,   7.9892,   8.0447,2,20091216,       0744
318M20091121,        P06,      90,          1,         24,         24,2,20091216,       0530,   -32.4999,  -172.4205,       5751,   638.7,   7.3611,  34.4475,  34.4464,2,    223.3,2,   223.7,2,    8.56,2,   22.43,2,    0.00,2,    1.55,2,   2.638,2,   1.324,2,-999.000,1,    0.403,2,  2145.6,2,  2285.8,2,   7.7226,2,    25.00,-999.000,9,-999.0000,9, -999.00,9, -999.00,9,  -999.0,9,  -999.0,-999.000,9,-999.000,  -999.0,9,-999.000,-999.0000, -999.00,   7.2982,   7.3606,2,20091216,       0741
318M20091121,        P06,      90,          1,         23,         23,2,20091216,       0530,   -32.4999,  -172.4205,       5751,   740.4,   6.6977,  34.3915,  34.3905,2,    224.1,2,   224.4,2,   10.57,2,   23.98,2,    0.00,2,    1.65,2,   2.029,2,   1.001,2,-999.000,1,    0.193,2,  2148.2,2,  2284.3,2,   7.7134,2,    25.00,-999.000,9,-999.0000,9, -999.00,9, -999.00,9,  -999.0,9,  -999.0,-999.000,9,-999.000,    40.6,2,-999.000,-999.0000, -999.00,   6.6280,   6.6959,2,20091216,       0738
318M20091121,        P06,      90,          1,         22,         22,2,20091216,       0530,   -32.4999,  -172.4205,       5751,   841.6,   6.2085,  34.3658,  34.3650,2,    218.8,2,   219.1,2,   13.82,2,   25.58,2,    0.00,2,    1.77,2,   1.540,2,   0.754,2,-999.000,1,    0.076,2,  2156.4,2,  2286.9,2,   7.6972,2,    25.00,-999.000,9,-999.0000,9, -999.00,9, -999.00,9,  -999.0,9,  -999.0,-999.000,9,-999.000,  -999.0,9,-999.000,-999.0000, -999.00,   6.1318,   6.2093,2,20091216,       0735
318M20091121,        P06,      90,          1,         21,         21,2,20091216,       0530,   -32.4999,  -172.4205,       5751,   942.9,   5.6924,  34.3610,  34.3603,2,    208.1,2,   208.9,2,   19.72,2,   27.43,2,    0.00,2,    1.90,2,   1.061,2,   0.518,2,-999.000,1,    0.062,2,  2169.0,2,  2291.6,6,   7.6758,2,    25.00,-999.000,9,-999.0000,9, -999.00,9, -999.00,9,  -999.0,9,  -999.0,-999.000,9,-999.000,    40.4,2,-999.000,-999.0000, -999.00,   5.6095,   5.6944,2,20091216,       0732
318M20091121,        P06,      90,          1,         20,         20,2,20091216,       0530,   -32.4999,  -172.4205,       5751,  1042.9,   5.0168,  34.3751,  34.3745,2,    195.3,2,   196.3,2,   29.77,2,   29.70,2,    0.00,2,    2.05,2,   0.685,2,   0.342,2,-999.000,1,        0,2,  2188.6,6,  2297.7,2,   7.6471,2,    25.00,-999.000,9,-999.0000,9, -999.00,9, -999.00,9,  -999.0,9,  -999.0,-999.000,9,-999.000,  -999.0,9,-999.000,-999.0000, -999.00,   4.9297,   5.0165,2,20091216,       0729
318M20091121,        P06,      90,          1,         19,         19,2,20091216,       0530,   -32.4999,  -172.4205,       5751,  1144.1,   4.2768,  34.3918,  34.3908,2,    187.7,2,   186.8,2,   41.11,2,   31.55,2,    0.00,2,    2.19,2,   0.352,2,   0.184,2,-999.000,1,        0,2,  2208.2,2,  2310.3,2,   7.6215,2,    25.00,-999.000,9,-999.0000,9, -999.00,9, -999.00,9,  -999.0,9,  -999.0,-999.000,9,-999.000,    38.0,2,-999.000,-999.0000, -999.00,   4.1868,   4.2765,2,20091216,       0726
318M20091121,        P06,      90,          1,         18,         18,2,20091216,       0530,   -32.4999,  -172.4205,       5751,  1245.8,   3.7449,  34.4275,  34.4272,2,    179.2,2,   178.7,2,   52.29,2,   32.71,2,    0.00,2,    2.29,2,   0.189,2,   0.105,2,-999.000,1,        0,2,  2227.9,2,  2323.8,2,   7.6037,2,    25.00,-999.000,9,-999.0000,9, -999.00,9, -999.00,9,  -999.0,9,  -999.0,-999.000,9,-999.000,  -999.0,9,-999.000,-999.0000, -999.00,   3.6509,   3.7457,2,20091216,       0723
318M20091121,        P06,      90,          1,         17,         17,2,20091216,       0530,   -32.4999,  -172.4205,       5751,  1347.4,   3.3094,  34.4610,  34.4604,2,    173.2,2,   172.7,2,   61.66,2,   33.62,2,    0.00,2,    2.35,2,   0.118,2,   0.070,2,-999.000,1,        0,2,  2240.2,2,  2331.1,2,   7.5919,2,    25.00,-999.000,9,-999.0000,9, -999.00,9, -999.00,9,  -999.0,9,  -999.0,-999.000,9,-999.000,    37.9,2,-999.000,-999.0000, -999.00,   3.2112,   3.3095,2,20091216,       0719
318M20091121,        P06,      90,          1,         16,         16,2,20091216,       0530,   -32.4999,  -172.4205,       5751,  1477.3,   2.9630,  34.5134,  34.5117,2,    166.2,2,   165.7,2,   74.00,2,   34.14,2,    0.00,2,    2.41,2,   0.060,2,   0.038,2,-999.000,1,        0,2,  2263.8,2,  2346.1,2,-999.0000,9,  -999.00,-999.000,9,-999.0000,9, -999.00,9, -999.00,9,  -999.0,9,  -999.0,-999.000,9,-999.000,  -999.0,9,-999.000,-999.0000, -999.00,   2.8576,   2.9628,2,20091216,       0716
318M20091121,        P06,      90,          1,         15,         15,2,20091216,       0530,   -32.4999,  -172.4205,       5751,  1681.5,   2.6475,  34.5741,  34.5725,2,    156.7,2,   157.7,2,   90.80,2,   34.62,2,    0.00,2,    2.44,2,   0.029,2,   0.020,2,-999.000,1,        0,2,  2274.0,2,  2365.5,2,   7.5774,2,    25.00,-999.000,9,-999.0000,9, -999.00,9, -999.00,9,  -999.0,9,  -999.0,-999.000,9,-999.000,    38.3,2,-999.000,-999.0000, -999.00,   2.5288,   2.6471,2,20091216,       0711
318M20091121,        P06,      90,          1,         14,         14,2,20091216,       0530,   -32.4999,  -172.4205,       5751,  1883.5,   2.4288,  34.6071,  34.6064,2,    152.2,2,   152.7,2,  103.04,2,   34.96,2,    0.00,2,    2.47,2,   0.019,2,   0.014,2,-999.000,1,        0,2,  2290.9,2,  2379.0,2,-999.0000,9,  -999.00,-999.000,9,-999.0000,9, -999.00,9, -999.00,9,  -999.0,9,  -999.0,-999.000,9,-999.000,  -999.0,9,-999.000,-999.0000, -999.00,   2.2959,   2.4285,2,20091216,       0705
318M20091121,        P06,      90,          1,         13,         13,2,20091216,       0530,   -32.4999,  -172.4205,       5751,  2108.2,   2.2487,  34.6285,  34.6278,2,    149.0,2,   149.0,2,  112.99,2,   35.30,2,    0.00,2,    2.50,2,   0.018,2,   0.013,2,-999.000,1,        0,2,  2302.0,2,  2392.9,2,   7.5746,2,    25.00,-999.000,9,-999.0000,9, -999.00,9, -999.00,9,  -999.0,9,  -999.0,-999.000,9,-999.000,    35.7,2,-999.000,-999.0000, -999.00,   2.0991,   2.2475,2,20091216,       0659
318M20091121,        P06,      90,          1,         12,         12,2,20091216,       0530,   -32.4999,  -172.4205,       5751,  2361.7,   2.1056,  34.6423,  34.6424,2,    147.4,2,   147.0,2,  120.21,2,   35.54,2,    0.00,2,    2.52,2,   0.023,2,   0.017,2,-999.000,1,        0,2,  2311.9,2,  2395.5,4,   7.5748,2,    25.00,-999.000,9,-999.0000,9, -999.00,9, -999.00,9,  -999.0,9,  -999.0,-999.000,9,-999.000,  -999.0,9,-999.000,-999.0000, -999.00,   1.9359,   2.1042,2,20091216,       0653
318M20091121,        P06,      90,          1,         11,         11,2,20091216,       0530,   -32.4999,  -172.4205,       5751,  2617.4,   1.9843,  34.6537,  34.6530,2,    148.2,2,   147.3,2,  124.88,2,   35.49,2,    0.00,2,    2.52,2,   0.011,2,   0.008,2,-999.000,1,        0,2,  2332.7,4,  2403.6,2,-999.0000,9,  -999.00,-999.000,9,-999.0000,9, -999.00,9, -999.00,9,  -999.0,9,  -999.0,-999.000,9,-999.000,    35.9,2,-999.000,-999.0000, -999.00,   1.7935,   1.9837,2,20091216,       0647
318M20091121,        P06,      90,          1,         10,         10,2,20091216,       0530,   -32.4999,  -172.4205,       5751,  2871.5,   1.8545,  34.6670,  34.6662,2,    151.7,2,   152.6,2,  127.43,2,   35.24,2,    0.00,2,    2.49,2,   0.014,2,   0.010,2,-999.000,1,        0,2,  2311.8,2,  2402.8,2,   7.5775,2,    25.00,-999.000,9,-999.0000,9, -999.00,9, -999.00,9,  -999.0,9,  -999.0,-999.000,9,-999.000,  -999.0,9,-999.000,-999.0000, -999.00,   1.6423,   1.8542,2,20091216,       0642
318M20091121,        P06,      90,          1,          9,          9,2,20091216,       0530,   -32.4999,  -172.4205,       5751,  3140.2,   1.7336,  34.6848,  34.6792,3,    161.1,2,   161.9,2,  123.82,2,   34.29,2,    0.00,2,    2.42,2,   0.033,2,   0.022,2,-999.000,1,        0,2,  2297.9,2,  2396.7,2,   7.5860,2,    25.00,-999.000,9,-999.0000,9, -999.00,9, -999.00,9,  -999.0,9,  -999.0,-999.000,9,-999.000,    38.5,2,-999.000,-999.0000, -999.00,   1.4979,   1.7335,2,20091216,       0635
318M20091121,        P06,      90,          1,          8,          8,2,20091216,       0530,   -32.4999,  -172.4205,       5751,  3325.7,   1.6709,  34.7016,  34.7007,2,    174.7,2,   175.4,2,  115.74,2,   33.08,2,    0.00,2,    2.34,2,   0.023,2,   0.016,2,-999.000,1,        0,2,  2284.1,2,  2382.4,2,-999.0000,9,  -999.00,-999.000,9,-999.0000,9, -999.00,9, -999.00,9,  -999.0,9,  -999.0,-999.000,9,-999.000,  -999.0,9,-999.000,-999.0000, -999.00,   1.4181,   1.6707,2,20091216,       0630
318M20091121,        P06,      90,          1,          7,          7,2,20091216,       0530,   -32.4999,  -172.4205,       5751,  3585.7,   1.5179,  34.7169,  34.7171,2,    190.7,2,   190.8,2,  110.01,2,   31.98,2,    0.00,2,    2.25,2,   0.026,2,   0.017,2,-999.000,1,        0,2,  2264.7,2,  2370.3,2,   7.5815,2,    25.00,-999.000,9,-999.0000,9, -999.00,9, -999.00,9,  -999.0,9,  -999.0,-999.000,9,-999.000,    40.0,2,-999.000,-999.0000, -999.00,   1.2422,   1.5175,2,20091216,       0624
318M20091121,        P06,      90,          1,          6,          6,2,20091216,       0530,   -32.4999,  -172.4205,       5751,  3893.3,   1.3097,  34.7191,  34.7190,2,    200.0,2,   199.5,2,  112.13,2,   31.60,2,    0.00,2,    2.21,2,   0.048,2,   0.029,2,-999.000,1,        0,2,  2260.1,2,  2366.9,2,   7.5771,2,    25.00,-999.000,9,-999.0000,9, -999.00,9, -999.00,9,  -999.0,9,  -999.0,-999.000,9,-999.000,  -999.0,9,-999.000,-999.0000, -999.00,   1.0073,   1.3106,2,20091216,       0617
318M20091121,        P06,      90,          1,          5,          5,2,20091216,       0530,   -32.4999,  -172.4205,       5751,  4201.2,   1.1634,  34.7155,  34.7157,2,    203.6,2,   203.2,2,  115.74,2,   31.69,2,    0.00,2,    2.22,2,   0.054,2,   0.033,2,-999.000,1,        0,2,  2260.7,2,  2366.0,2,   7.5744,2,    25.00,-999.000,9,-999.0000,9, -999.00,9, -999.00,9,  -999.0,9,  -999.0,-999.000,9,-999.000,    39.8,2,-999.000,-999.0000, -999.00,   0.8320,   1.1640,2,20091216,       0610
318M20091121,        P06,      90,          1,          4,          4,2,20091216,       0530,   -32.4999,  -172.4205,       5751,  4611.1,   1.0693,  34.7113,  34.7106,2,    205.5,2,   205.7,2,  119.36,2,   31.79,2,    0.00,2,    2.22,2,   0.079,2,   0.049,2,-999.000,1,        0,2,  2264.7,2,  2367.4,2,-999.0000,9,  -999.00,-999.000,9,-999.0000,9, -999.00,9, -999.00,9,  -999.0,9,  -999.0,-999.000,9,-999.000,  -999.0,9,-999.000,-999.0000, -999.00,   0.6949,   1.0694,2,20091216,       0602
318M20091121,        P06,      90,          1,          3,          3,2,20091216,       0530,   -32.4999,  -172.4205,       5751,  5023.5,   1.0517,  34.7090,  34.7088,2,    207.1,2,   206.5,2,  121.28,2,   31.84,2,    0.00,2,    2.23,2,   0.077,2,   0.046,2,-999.000,1,        0,2,  2261.8,2,  2369.3,2,   7.6010,2,    25.00,-999.000,9,-999.0000,9, -999.00,9, -999.00,9,  -999.0,9,  -999.0,-999.000,9,-999.000,    40.1,2,-999.000,-999.0000, -999.00,   0.6296,   1.0518,2,20091216,       0553
318M20091121,        P06,      90,          1,          2,          2,2,20091216,       0530,   -32.4999,  -172.4205,       5751,  5435.5,   1.0848,  34.7084,  34.7043,3,    206.3,2,   206.8,2,  121.92,2,   31.93,2,    0.00,2,    2.23,2,   0.070,2,   0.041,2,-999.000,1,        0,2,  2264.0,2,  2370.5,6,   7.6242,2,    25.00,-999.000,9,-999.0000,9, -999.00,9, -999.00,9,  -999.0,9,  -999.0,-999.000,9,-999.000,  -999.0,9,-999.000,-999.0000, -999.00,   0.6112,   1.0848,2,20091216,       0542
318M20091121,        P06,      90,          1,          1,          1,2,20091216,       0530,   -32.4999,  -172.4205,       5751,  5849.6,   1.1364,  34.7081,  34.7081,2,    206.8,2,   206.5,2,  122.14,2,   31.93,2,    0.00,2,    2.23,2,   0.076,2,   0.044,2,-999.000,1,        0,2,  2266.7,6,  2371.2,2,   7.6146,6,    25.00,-999.000,9,-999.0000,9, -999.00,9, -999.00,9,  -999.0,9,  -999.0,-999.000,9,-999.000,    40.5,2,-999.000,-999.0000, -999.00,   0.6082,   1.1364,2,20091216,       0530