BOTTLE,20220818CCHSIOAMB
EXPOCODE,SECT_ID,STNNBR,CASTNO,SAMPNO,BTLNBR,BTLNBR_FLAG_W,DATE,TIME,LATITUDE,LONGITUDE,DEPTH,CTDPRS,CTDTMP,CTDSAL,SALNTY,SALNTY_FLAG_W,CTDOXY,CTDOXY_FLAG_W,OXYGEN,OXYGEN_FLAG_W,SILCAT,SILCAT_FLAG_W,NITRAT,NITRAT_FLAG_W,NITRIT,NITRIT_FLAG_W,PHSPHT,PHSPHT_FLAG_W,CFC-11,CFC-11_FLAG_W,CFC-12,CFC-12_FLAG_W,CFC113,CFC113_FLAG_W,SF6,SF6_FLAG_W,TCARBN,TCARBN_FLAG_W,ALKALI,ALKALI_FLAG_W,PH_SWS,PH_SWS_FLAG_W,PH_TMP,TRITUM,TRITUM_FLAG_W,HELIUM,HELIUM_FLAG_W,DELHE3,DELHE3_FLAG_W,DELC13,DELC13_FLAG_W,DELC14,DELC14_FLAG_W,C14ERR,NEON,NEON_FLAG_W,NEONER,DOC,DOC_FLAG_W,TRITER,HELIER,DELHER,THETA,SBE35,SBE35_FLAG_W,BTL_DATE,BTL_TIME
,,,,,,,,,,,METERS,DBAR,ITS-90,PSS-78,PSS-78,,UMOL/KG,,UMOL/KG,,UMOL/KG,,UMOL/KG,,UMOL/KG,,UMOL/KG,,PMOL/KG,,PMOL/KG,,PMOL/KG,,FMOL/KG,,UMOL/KG,,UMOL/KG,,,,DEG C,TU,,NMOL/KG,,PERCNT,,/MILLE,,/MILLE,,/MILLE,NMOL/KG,,NMOL/KG,UMOL/KG,,TU,NMOL/KG,PERCNT,DEG C,ITS-90,,,
318M20091121,        P06,      31,          2,         18,         18,2,20091130,       0312,   -30.0800,   162.5000,       1126,     5.1,  23.2848,  35.5286,  35.5299,2,    216.6,2,   216.5,2,    0.41,2,    0.00,2,    0.00,2,    0.11,2,   1.912,6,   1.210,6,-999.000,1,    1.161,6,  2011.6,6,  2327.5,6,   8.0671,2,    25.00,-999.000,9,-999.0000,9, -999.00,9,    1.19,2,    73.1,2,     3.1,-999.000,9,-999.000,  -999.0,9,-999.000,-999.0000, -999.00,  23.2837,  23.2850,2,20091130,       0408
318M20091121,        P06,      31,          2,         17,         17,2,20091130,       0312,   -30.0800,   162.5000,       1126,    20.3,  22.6122,  35.5316,  35.5315,2,    222.1,2,   222.6,2,    0.07,2,    0.00,2,    0.00,2,    0.10,2,   2.005,2,   1.257,2,-999.000,1,    1.154,2,  -999.0,9,  2298.7,4,   8.0705,6,    25.00,-999.000,9,-999.0000,9, -999.00,9, -999.00,9,  -999.0,9,  -999.0,-999.000,9,-999.000,  -999.0,9,-999.000,-999.0000, -999.00,  22.6081,  22.6247,2,20091130,       0406
318M20091121,        P06,      31,          2,         16,         16,2,20091130,       0312,   -30.0800,   162.5000,       1126,    40.5,  21.1683,  35.5386,  35.5390,2,    231.4,2,   231.9,2,    0.14,2,    0.00,2,    0.00,2,    0.10,2,   2.118,2,   1.325,2,-999.000,1,    1.184,2,  -999.0,9,  -999.0,9,-999.0000,9,  -999.00,-999.000,9,-999.0000,9, -999.00,9, -999.00,9,  -999.0,9,  -999.0,-999.000,9,-999.000,  -999.0,9,-999.000,-999.0000, -999.00,  21.1605,  21.1730,2,20091130,       0404
318M20091121,        P06,      31,          2,         15,         15,2,20091130,       0312,   -30.0800,   162.5000,       1126,    66.0,  19.1636,  35.5771,  35.5740,2,    218.4,2,   225.6,3,    0.39,2,    0.14,2,    0.03,2,    0.16,2,   2.231,2,   1.372,2,-999.000,1,     1.09,2,  -999.0,9,  2329.5,2,   8.0253,2,    25.00,-999.000,9,-999.0000,9, -999.00,9, -999.00,9,  -999.0,9,  -999.0,-999.000,9,-999.000,  -999.0,9,-999.000,-999.0000, -999.00,  19.1517,  19.1705,2,20091130,       0401
318M20091121,        P06,      31,          2,         14,         14,2,20091130,       0312,   -30.0800,   162.5000,       1126,    91.1,  18.5125,  35.5864,  35.5866,2,    204.4,2,   202.2,2,    0.65,2,    3.21,2,    0.07,2,    0.32,2,   2.263,2,   1.392,2,-999.000,1,    1.065,2,  -999.0,9,  -999.0,9,-999.0000,9,  -999.00,-999.000,9,-999.0000,9, -999.00,9,    0.93,2,    75.7,2,     3.9,-999.000,9,-999.000,  -999.0,9,-999.000,-999.0000, -999.00,  18.4965,  18.5151,2,20091130,       0359
318M20091121,        P06,      31,          2,         13,         13,2,20091130,       0312,   -30.0800,   162.5000,       1126,   136.2,  17.6712,  35.5690,  35.5710,2,    194.4,2,   197.6,2,    0.92,2,    4.65,2,    0.02,2,    0.41,2,   2.329,2,   1.428,2,-999.000,1,    1.176,2,  -999.0,9,  2328.1,2,   7.9489,2,    25.00,-999.000,9,-999.0000,9, -999.00,9,    0.86,2,    81.8,2,     3.1,-999.000,9,-999.000,  -999.0,9,-999.000,-999.0000, -999.00,  17.6481,  17.6819,2,20091130,       0356
318M20091121,        P06,      31,          2,         12,         12,2,20091130,       0312,   -30.0800,   162.5000,       1126,   186.2,  16.5819,  35.5017,  35.5030,2,    198.5,2,   198.1,2,    1.38,2,    6.05,2,    0.01,2,    0.51,2,   2.429,4,   1.580,4,-999.000,1,    2.882,4,  -999.0,9,  -999.0,9,-999.0000,9,  -999.00,-999.000,9,-999.0000,9, -999.00,9,    0.91,2,    70.7,2,     4.2,-999.000,9,-999.000,  -999.0,9,-999.000,-999.0000, -999.00,  16.5516,  16.5853,2,20091130,       0353
318M20091121,        P06,      31,          2,         11,         11,2,20091130,       0312,   -30.0800,   162.5000,       1126,   236.8,  15.5448,  35.4175,  35.4197,2,    192.9,2,   193.4,2,    2.04,2,    8.13,2,    0.01,2,    0.64,2,   2.411,2,   1.440,2,-999.000,1,    1.095,2,  -999.0,9,  2323.8,6,   7.9059,2,    25.00,-999.000,9,-999.0000,9, -999.00,9,    0.89,2,    68.4,2,     3.1,-999.000,9,-999.000,  -999.0,9,-999.000,-999.0000, -999.00,  15.5079,  15.5492,2,20091130,       0351
318M20091121,        P06,      31,          2,         10,         10,2,20091130,       0312,   -30.0800,   162.5000,       1126,   287.3,  14.7393,  35.3535,  35.3541,2,    194.1,2,   193.6,2,    2.50,2,    9.36,2,    0.01,2,    0.71,2,   2.471,2,   1.465,2,-999.000,1,    0.869,2,  -999.0,9,  -999.0,9,-999.0000,9,  -999.00,-999.000,9,-999.0000,9, -999.00,9,    0.91,2,    58.5,2,     3.0,-999.000,9,-999.000,  -999.0,9,-999.000,-999.0000, -999.00,  14.6961,  14.7383,2,20091130,       0348
318M20091121,        P06,      31,          2,          9,          9,2,20091130,       0312,   -30.0800,   162.5000,       1126,   336.3,  13.2935,  35.2090,  35.2087,2,    193.7,2,   194.1,2,    3.58,2,   11.93,2,    0.01,2,    0.88,2,   2.499,2,   1.460,2,-999.000,1,    0.909,2,  -999.0,9,  2313.4,2,   7.8422,2,    25.00,-999.000,9,-999.0000,9, -999.00,9,    0.93,2,    58.6,2,     3.1,-999.000,9,-999.000,  -999.0,9,-999.000,-999.0000, -999.00,  13.2462,  13.2937,2,20091130,       0345
318M20091121,        P06,      31,          2,          8,          8,2,20091130,       0312,   -30.0800,   162.5000,       1126,   386.8,  12.4813,  35.1193,  35.1203,2,    196.7,2,   196.3,2,    4.04,2,   13.25,2,    0.01,2,    0.96,2,   2.536,4,   1.524,4,-999.000,1,    1.642,4,  -999.0,9,  -999.0,9,-999.0000,9,  -999.00,-999.000,9,-999.0000,9, -999.00,9,    0.99,2,    52.0,2,     3.6,-999.000,9,-999.000,  -999.0,9,-999.000,-999.0000, -999.00,  12.4291,  12.4862,2,20091130,       0342
318M20091121,        P06,      31,          2,          7,          7,2,20091130,       0312,   -30.0800,   162.5000,       1126,   467.4,  10.5274,  34.8602,  34.8643,2,    196.1,2,   196.1,2,    6.33,2,   17.31,2,    0.00,2,    1.22,2,   2.391,2,   1.336,2,-999.000,1,    0.691,2,  -999.0,9,  2300.1,2,   7.7751,2,    25.00,-999.000,9,-999.0000,9, -999.00,9,    1.03,2,    25.5,2,     2.8,-999.000,9,-999.000,  -999.0,9,-999.000,-999.0000, -999.00,  10.4707,  10.5379,2,20091130,       0338
318M20091121,        P06,      31,          2,          6,          6,2,20091130,       0312,   -30.0800,   162.5000,       1126,   568.5,   9.0526,  34.6799,  34.6806,2,    198.4,2,   198.6,2,    8.81,2,   20.54,2,    0.00,2,    1.44,2,   2.191,2,   1.193,2,-999.000,1,    0.562,2,  -999.0,9,  -999.0,9,-999.0000,9,  -999.00,-999.000,9,-999.0000,9, -999.00,9,    1.08,2,     7.6,2,     2.9,-999.000,9,-999.000,  -999.0,9,-999.000,-999.0000, -999.00,   8.9896,   9.0532,2,20091130,       0334
318M20091121,        P06,      31,          2,          5,          5,2,20091130,       0312,   -30.0800,   162.5000,       1126,   668.4,   7.8193,  34.5566,  34.5573,2,    196.7,2,   197.5,2,   13.34,2,   23.38,2,    0.00,2,    1.63,2,   1.657,2,   0.870,2,-999.000,1,    0.404,2,  -999.0,9,  2292.6,2,   7.7090,2,    25.00,-999.000,9,-999.0000,9, -999.00,9,    1.09,2,    -7.7,2,     2.7,-999.000,9,-999.000,  -999.0,9,-999.000,-999.0000, -999.00,   7.7509,   7.8229,2,20091130,       0330
318M20091121,        P06,      31,          2,          4,          4,2,20091130,       0312,   -30.0800,   162.5000,       1126,   768.8,   6.7262,  34.4846,  34.4847,2,    193.9,2,   194.2,2,   20.53,2,   25.97,2,    0.00,2,    1.81,2,   1.121,2,   0.577,2,-999.000,1,    0.244,2,  -999.0,9,  -999.0,9,-999.0000,9,  -999.00,-999.000,9,-999.0000,9, -999.00,9,    1.08,2,   -39.5,2,     3.2,-999.000,9,-999.000,  -999.0,9,-999.000,-999.0000, -999.00,   6.6534,   6.7266,2,20091130,       0326
318M20091121,        P06,      31,          2,          3,          3,2,20091130,       0312,   -30.0800,   162.5000,       1126,   871.8,   5.9724,  34.4581,  34.4577,2,    189.8,2,   190.0,2,   27.95,2,   27.84,2,    0.00,2,    1.95,2,   0.800,2,   0.429,2,-999.000,1,    0.211,2,  -999.0,9,  2302.3,6,   7.6656,2,    25.00,-999.000,9,-999.0000,9, -999.00,9,    1.02,2,   -66.7,2,     2.7,-999.000,9,-999.000,  -999.0,9,-999.000,-999.0000, -999.00,   5.8942,   5.9722,2,20091130,       0322
318M20091121,        P06,      31,          2,          2,          2,2,20091130,       0312,   -30.0800,   162.5000,       1126,   972.2,   5.2372,  34.4598,  34.4599,2,    182.3,2,   182.2,2,   38.69,2,   29.70,2,    0.00,2,    2.07,2,   0.604,2,   0.500,2,-999.000,1,    2.678,4,  -999.0,9,  -999.0,9,-999.0000,9,  -999.00,-999.000,9,-999.0000,9, -999.00,9,    0.92,2,   -93.5,2,     3.2,-999.000,9,-999.000,  -999.0,9,-999.000,-999.0000, -999.00,   5.1547,   5.2375,2,20091130,       0318
318M20091121,        P06,      31,          2,          1,          1,2,20091130,       0312,   -30.0800,   162.5000,       1126,  1127.4,   4.3694,  34.4908,  34.4904,2,    169.6,2,   169.9,2,   56.33,2,   31.78,2,    0.00,2,    2.24,2,   0.251,2,   0.140,2,-999.000,1,        0,2,  -999.0,9,  2330.7,2,   7.6195,6,    25.00,-999.000,9,-999.0000,9, -999.00,9,    0.70,2,  -129.4,2,     2.5,-999.000,9,-999.000,  -999.0,9,-999.000,-999.0000, -999.00,   4.2799,   4.3701,2,20091130,       0312
318M20091121,        P06,      32,          1,         20,         20,2,20091130,       0827,   -30.0789,   163.0003,       1223,     4.9,  22.9881,  35.5413,  35.5418,2,    218.5,2,   218.5,2,    0.00,2,    0.12,2,    0.00,2,    0.11,2,   1.973,2,   1.222,2,-999.000,1,    1.164,2,  2015.2,6,  2329.9,6,   8.0628,2,    25.00,-999.000,9,-999.0000,9, -999.00,9, -999.00,9,  -999.0,9,  -999.0,-999.000,9,-999.000,    60.3,2,-999.000,-999.0000, -999.00,  22.9871,  22.9878,2,20091130,       0919
318M20091121,        P06,      32,          1,         19,         19,2,20091130,       0827,   -30.0789,   163.0003,       1223,    25.1,  22.9045,  35.5532,  35.5555,2,    219.3,2,   218.8,2,    0.00,2,    0.07,2,    0.00,2,    0.10,2,   1.997,2,   1.239,2,-999.000,1,    1.136,2,  -999.0,9,  2325.2,2,   8.0653,2,    25.00,-999.000,9,-999.0000,9, -999.00,9, -999.00,9,  -999.0,9,  -999.0,-999.000,9,-999.000,    62.6,3,-999.000,-999.0000, -999.00,  22.8994,  22.8952,2,20091130,       0917
318M20091121,        P06,      32,          1,         18,         18,2,20091130,       0827,   -30.0789,   163.0003,       1223,    50.5,  20.0162,  35.6280,  35.6282,2,    240.5,2,   241.0,2,    0.00,2,    0.08,2,    0.00,2,    0.08,2,   2.250,2,   1.381,2,-999.000,1,    1.242,2,  -999.0,9,  -999.0,5,   8.0522,2,    25.00,-999.000,9,-999.0000,9, -999.00,9, -999.00,9,  -999.0,9,  -999.0,-999.000,9,-999.000,    55.8,2,-999.000,-999.0000, -999.00,  20.0068,  20.0075,2,20091130,       0915
318M20091121,        P06,      32,          1,         17,         17,2,20091130,       0827,   -30.0789,   163.0003,       1223,    75.0,  19.3154,  35.6015,  35.6017,2,    238.6,2,   235.3,2,    0.00,2,    0.08,2,    0.01,2,    0.10,2,   2.293,2,   1.384,2,-999.000,1,    1.119,2,  -999.0,9,  2330.7,2,   8.0402,2,    25.00,-999.000,9,-999.0000,9, -999.00,9, -999.00,9,  -999.0,9,  -999.0,-999.000,9,-999.000,    53.8,2,-999.000,-999.0000, -999.00,  19.3018,  19.3163,2,20091130,       0913
318M20091121,        P06,      32,          1,         16,         16,2,20091130,       0827,   -30.0789,   163.0003,       1223,   100.4,  18.1498,  35.5804,  35.5800,2,    197.5,2,   197.6,2,   -0.02,2,    4.40,2,    0.02,2,    0.37,2,   2.314,2,   1.393,2,-999.000,1,     1.11,2,  -999.0,9,  2329.0,2,   7.9714,2,    25.00,-999.000,9,-999.0000,9, -999.00,9, -999.00,9,  -999.0,9,  -999.0,-999.000,9,-999.000,    47.8,2,-999.000,-999.0000, -999.00,  18.1324,  18.1460,2,20091130,       0911
318M20091121,        P06,      32,          1,         15,         15,2,20091130,       0827,   -30.0789,   163.0003,       1223,   126.3,  17.5755,  35.5586,  35.5600,2,    200.7,2,   200.4,2,    0.11,2,    4.70,2,    0.02,2,    0.41,2,   2.357,2,   1.413,2,-999.000,1,    1.157,2,  -999.0,9,  2331.5,2,   7.9513,2,    25.00,-999.000,9,-999.0000,9, -999.00,9, -999.00,9,  -999.0,9,  -999.0,-999.000,9,-999.000,  -999.0,9,-999.000,-999.0000, -999.00,  17.5541,  17.5719,2,20091130,       0908
318M20091121,        P06,      32,          1,         14,         14,2,20091130,       0827,   -30.0789,   163.0003,       1223,   151.3,  17.2618,  35.5424,  35.5430,2,    199.2,2,   197.9,2,    0.22,2,    5.40,2,    0.01,2,    0.45,2,   2.358,2,   1.421,2,-999.000,1,    1.158,2,  -999.0,9,  2323.8,2,   7.9503,2,    25.00,-999.000,9,-999.0000,9, -999.00,9, -999.00,9,  -999.0,9,  -999.0,-999.000,9,-999.000,    48.2,2,-999.000,-999.0000, -999.00,  17.2365,  17.2605,2,20091130,       0906
318M20091121,        P06,      32,          1,         13,         13,2,20091130,       0827,   -30.0789,   163.0003,       1223,   201.8,  16.3492,  35.4834,  35.4853,2,    197.2,2,   195.6,2,    0.55,2,    6.84,2,    0.01,2,    0.55,2,   2.382,2,   1.414,2,-999.000,1,     1.17,2,  -999.0,9,  2324.3,2,   7.9269,2,    25.00,-999.000,9,-999.0000,9, -999.00,9, -999.00,9,  -999.0,9,  -999.0,-999.000,9,-999.000,  -999.0,5,-999.000,-999.0000, -999.00,  16.3167,  16.3373,2,20091130,       0904
318M20091121,        P06,      32,          1,         12,         12,2,20091130,       0827,   -30.0789,   163.0003,       1223,   251.2,  14.9730,  35.3647,  35.3674,2,    191.2,2,   190.8,2,    1.28,2,    9.40,2,    0.01,2,    0.71,2,   2.462,2,   1.444,2,-999.000,1,    1.049,2,  -999.0,9,  2318.7,2,   7.8826,2,    25.00,-999.000,9,-999.0000,9, -999.00,9, -999.00,9,  -999.0,9,  -999.0,-999.000,9,-999.000,    45.9,2,-999.000,-999.0000, -999.00,  14.9348,  14.9813,2,20091130,       0901
318M20091121,        P06,      32,          1,         11,         11,2,20091130,       0827,   -30.0789,   163.0003,       1223,   302.7,  13.8098,  35.2527,  35.2559,2,    190.0,2,   191.3,2,    2.21,2,   11.41,2,    0.01,2,    0.84,2,   2.485,2,   1.424,2,-999.000,1,    0.819,2,  -999.0,9,  2323.7,3,   7.8541,2,    25.00,-999.000,9,-999.0000,9, -999.00,9, -999.00,9,  -999.0,9,  -999.0,-999.000,9,-999.000,    45.1,2,-999.000,-999.0000, -999.00,  13.7662,  13.8156,2,20091130,       0859
318M20091121,        P06,      32,          1,         10,         10,2,20091130,       0827,   -30.0789,   163.0003,       1223,   351.4,  12.7683,  35.1458,  35.1480,2,    193.6,2,   194.2,2,    2.93,2,   12.92,2,    0.00,2,    0.94,2,   2.518,2,   1.443,2,-999.000,1,    0.849,2,  -999.0,9,  2312.1,6,   7.8290,6,    25.00,-999.000,9,-999.0000,9, -999.00,9, -999.00,9,  -999.0,9,  -999.0,-999.000,9,-999.000,  -999.0,9,-999.000,-999.0000, -999.00,  12.7202,  12.7863,2,20091130,       0856
318M20091121,        P06,      32,          1,          9,          9,2,20091130,       0827,   -30.0789,   163.0003,       1223,   402.0,  11.7645,  35.0240,  35.0261,2,    196.5,2,   196.0,2,    3.86,2,   14.78,2,    0.00,2,    1.06,2,   2.506,2,   1.414,2,-999.000,1,    0.835,2,  -999.0,9,  2305.0,2,   7.8046,2,    25.00,-999.000,9,-999.0000,9, -999.00,9, -999.00,9,  -999.0,9,  -999.0,-999.000,9,-999.000,    47.3,2,-999.000,-999.0000, -999.00,  11.7123,  11.7669,2,20091130,       0854
318M20091121,        P06,      32,          1,          8,          8,2,20091130,       0827,   -30.0789,   163.0003,       1223,   453.0,  10.8279,  34.9005,  34.9006,2,    196.6,2,   196.5,2,    5.00,2,   16.78,2,    0.00,2,    1.18,2,   2.443,2,   1.370,2,-999.000,1,    0.792,2,  -999.0,9,  2306.7,2,   7.7786,2,    25.00,-999.000,9,-999.0000,9, -999.00,9, -999.00,9,  -999.0,9,  -999.0,-999.000,9,-999.000,  -999.0,9,-999.000,-999.0000, -999.00,  10.7720,  10.8261,2,20091130,       0851
318M20091121,        P06,      32,          1,          7,          7,2,20091130,       0827,   -30.0789,   163.0003,       1223,   501.7,   9.9006,  34.7848,  34.7876,2,    198.0,2,   197.6,2,    6.33,2,   18.73,2,    0.00,2,    1.31,2,   2.403,2,   1.323,2,-999.000,1,    0.668,2,  -999.0,9,  2302.7,2,   7.7567,2,    25.00,-999.000,9,-999.0000,9, -999.00,9, -999.00,9,  -999.0,9,  -999.0,-999.000,9,-999.000,    41.6,2,-999.000,-999.0000, -999.00,   9.8420,   9.9078,2,20091130,       0849
318M20091121,        P06,      32,          1,          6,          6,2,20091130,       0827,   -30.0789,   163.0003,       1223,   603.1,   8.6932,  34.6416,  34.6409,2,    198.0,2,   197.7,2,    9.28,2,   21.56,2,    0.00,2,    1.51,2,   2.085,2,   1.115,2,-999.000,1,    0.471,2,  -999.0,9,  2292.9,2,   7.7235,2,    25.00,-999.000,9,-999.0000,9, -999.00,9, -999.00,9,  -999.0,9,  -999.0,-999.000,9,-999.000,  -999.0,9,-999.000,-999.0000, -999.00,   8.6278,   8.6915,2,20091130,       0846
318M20091121,        P06,      32,          1,          5,          5,2,20091130,       0827,   -30.0789,   163.0003,       1223,   705.0,   7.5887,  34.5367,  34.5369,2,    196.7,2,   196.3,2,   13.86,2,   24.09,2,    0.00,2,    1.67,2,   1.557,2,   0.814,2,-999.000,1,    0.297,2,  -999.0,9,  2293.2,2,   7.7007,2,    25.00,-999.000,9,-999.0000,9, -999.00,9, -999.00,9,  -999.0,9,  -999.0,-999.000,9,-999.000,    40.2,2,-999.000,-999.0000, -999.00,   7.5177,   7.5886,2,20091130,       0843
318M20091121,        P06,      32,          1,          4,          4,2,20091130,       0827,   -30.0789,   163.0003,       1223,   805.8,   6.7090,  34.4812,  34.4802,2,    193.1,2,   193.4,2,   20.08,2,   26.23,2,    0.00,2,    1.83,2,   1.116,2,   0.579,2,-999.000,1,    0.202,2,  -999.0,9,  2296.9,2,   7.6817,2,    25.00,-999.000,9,-999.0000,9, -999.00,9, -999.00,9,  -999.0,9,  -999.0,-999.000,9,-999.000,  -999.0,9,-999.000,-999.0000, -999.00,   6.6326,   6.7054,2,20091130,       0839
318M20091121,        P06,      32,          1,          3,          3,2,20091130,       0827,   -30.0789,   163.0003,       1223,   905.3,   5.9944,  34.4617,  34.4608,2,    189.6,2,   189.8,2,   27.35,2,   27.86,2,    0.00,2,    1.94,2,   0.826,2,   0.432,2,-999.000,1,    0.077,2,  -999.0,9,  2300.5,2,   7.6650,2,    25.00,-999.000,9,-999.0000,9, -999.00,9, -999.00,9,  -999.0,9,  -999.0,-999.000,9,-999.000,    39.6,2,-999.000,-999.0000, -999.00,   5.9128,   5.9976,2,20091130,       0836
318M20091121,        P06,      32,          1,          2,          2,2,20091130,       0827,   -30.0789,   163.0003,       1223,  1108.1,   4.7521,  34.4766,  34.4767,2,    176.3,2,   176.3,2,   48.20,2,   30.95,2,    0.00,2,    2.17,2,   0.388,2,   0.209,2,-999.000,1,        0,2,  -999.0,9,  2323.5,2,   7.6275,2,    25.00,-999.000,9,-999.0000,9, -999.00,9, -999.00,9,  -999.0,9,  -999.0,-999.000,9,-999.000,  -999.0,9,-999.000,-999.0000, -999.00,   4.6610,   4.7536,2,20091130,       0831
318M20091121,        P06,      32,          1,          1,          1,2,20091130,       0827,   -30.0789,   163.0003,       1223,  1219.0,   4.2495,  34.4984,  34.4977,2,    167.6,2,   167.8,2,   59.27,2,   32.13,2,    0.00,2,    2.26,2,   0.245,2,   0.136,2,-999.000,1,        0,2,  -999.0,9,  2336.8,6,   7.6140,6,    25.00,-999.000,9,-999.0000,9, -999.00,9, -999.00,9,  -999.0,9,  -999.0,-999.000,9,-999.000,    38.8,2,-999.000,-999.0000, -999.00,   4.1530,   4.2480,2,20091130,       0827