BOTTLE,20220818CCHSIOAMB
EXPOCODE,SECT_ID,STNNBR,CASTNO,SAMPNO,BTLNBR,BTLNBR_FLAG_W,DATE,TIME,LATITUDE,LONGITUDE,DEPTH,CTDPRS,CTDTMP,CTDSAL,SALNTY,SALNTY_FLAG_W,CTDOXY,CTDOXY_FLAG_W,OXYGEN,OXYGEN_FLAG_W,SILCAT,SILCAT_FLAG_W,NITRAT,NITRAT_FLAG_W,NITRIT,NITRIT_FLAG_W,PHSPHT,PHSPHT_FLAG_W,CFC-11,CFC-11_FLAG_W,CFC-12,CFC-12_FLAG_W,CFC113,CFC113_FLAG_W,SF6,SF6_FLAG_W,TCARBN,TCARBN_FLAG_W,ALKALI,ALKALI_FLAG_W,PH_SWS,PH_SWS_FLAG_W,PH_TMP,TRITUM,TRITUM_FLAG_W,HELIUM,HELIUM_FLAG_W,DELHE3,DELHE3_FLAG_W,DELC13,DELC13_FLAG_W,DELC14,DELC14_FLAG_W,C14ERR,NEON,NEON_FLAG_W,NEONER,DOC,DOC_FLAG_W,TRITER,HELIER,DELHER,THETA,SBE35,SBE35_FLAG_W,BTL_DATE,BTL_TIME
,,,,,,,,,,,METERS,DBAR,ITS-90,PSS-78,PSS-78,,UMOL/KG,,UMOL/KG,,UMOL/KG,,UMOL/KG,,UMOL/KG,,UMOL/KG,,PMOL/KG,,PMOL/KG,,PMOL/KG,,FMOL/KG,,UMOL/KG,,UMOL/KG,,,,DEG C,TU,,NMOL/KG,,PERCNT,,/MILLE,,/MILLE,,/MILLE,NMOL/KG,,NMOL/KG,UMOL/KG,,TU,NMOL/KG,PERCNT,DEG C,ITS-90,,,
318M20091121,        P06,     111,          1,         36,         36,2,20091224,       1520,   -32.5000,  -157.0984,       5519,     7.8,  20.6979,  35.3443,  35.3456,2,    225.7,2,   225.1,2,    0.62,2,    0.00,2,    0.00,2,    0.10,2,   1.946,2,   1.331,2,-999.000,1,     1.16,2,  1949.9,4,  2321.2,6,   8.0085,6,    25.00,   0.407,2,-999.0000,9, -999.00,9, -999.00,9,  -999.0,9,  -999.0,-999.000,9,-999.000,  -999.0,9,   0.017,-999.0000, -999.00,  20.6964,  20.6978,2,20091224,       1754
318M20091121,        P06,     111,          1,         35,         35,2,20091224,       1520,   -32.5000,  -157.0984,       5519,    35.4,  20.6639,  35.3441,  35.3472,2,    226.2,2,   226.2,2,    0.37,2,    0.00,2,    0.00,2,    0.10,2,   1.974,2,   1.345,2,-999.000,1,    1.147,2,  -999.0,9,  -999.0,9,-999.0000,9,  -999.00,-999.000,9,-999.0000,9, -999.00,9, -999.00,9,  -999.0,9,  -999.0,-999.000,9,-999.000,  -999.0,9,-999.000,-999.0000, -999.00,  20.6572,  20.6645,2,20091224,       1751
318M20091121,        P06,     111,          1,         34,         34,2,20091224,       1520,   -32.5000,  -157.0984,       5519,    59.2,  17.8786,  35.4164,  35.4159,2,    247.7,2,   247.4,2,    0.34,2,    0.00,2,    0.00,2,    0.10,2,   2.226,2,   1.510,2,-999.000,1,    1.295,2,  -999.0,9,  -999.0,9,-999.0000,9,  -999.00,   0.392,2,-999.0000,9, -999.00,9, -999.00,9,  -999.0,9,  -999.0,-999.000,9,-999.000,  -999.0,9,   0.017,-999.0000, -999.00,  17.8685,  17.8672,2,20091224,       1749
318M20091121,        P06,     111,          1,         33,         33,2,20091224,       1520,   -32.5000,  -157.0984,       5519,    85.0,  17.0646,  35.4338,  35.4325,2,    247.7,2,   248.0,2,    0.51,2,    0.00,2,    0.00,2,    0.11,2,   2.248,2,   1.526,2,-999.000,1,    1.189,2,  1960.6,4,  2326.2,2,   8.0007,2,    25.00,-999.000,9,-999.0000,9, -999.00,9, -999.00,9,  -999.0,9,  -999.0,-999.000,9,-999.000,  -999.0,9,-999.000,-999.0000, -999.00,  17.0505,  17.0647,2,20091224,       1747
318M20091121,        P06,     111,          1,         32,         32,2,20091224,       1520,   -32.5000,  -157.0984,       5519,   116.4,  16.0332,  35.4048,  35.4098,2,    228.1,2,   230.9,2,    0.67,2,    0.62,2,    0.16,2,    0.22,2,   2.312,2,   1.555,2,-999.000,1,    1.241,2,  -999.0,9,  -999.0,9,-999.0000,9,  -999.00,   0.354,2,-999.0000,9, -999.00,9, -999.00,9,  -999.0,9,  -999.0,-999.000,9,-999.000,  -999.0,9,   0.016,-999.0000, -999.00,  16.0147,  16.0514,2,20091224,       1744
318M20091121,        P06,     111,          1,         31,         31,2,20091224,       1520,   -32.5000,  -157.0984,       5519,   166.1,  15.0657,  35.2655,  35.2716,2,    227.0,2,   225.1,2,    1.06,2,    2.57,2,    0.06,2,    0.34,2,   2.406,6,   1.602,6,-999.000,1,   1.1915,6,  2078.0,2,  2318.6,2,   7.9313,2,    25.00,   0.329,2,-999.0000,9, -999.00,9, -999.00,9,  -999.0,9,  -999.0,-999.000,9,-999.000,  -999.0,9,   0.016,-999.0000, -999.00,  15.0404,  15.0778,2,20091224,       1742
318M20091121,        P06,     111,          1,         30,         30,2,20091224,       1520,   -32.5000,  -157.0984,       5519,   213.7,  14.0814,  35.1905,  35.1879,2,    200.9,2,   201.3,2,    1.84,2,    7.50,2,    0.01,2,    0.65,2,   2.460,2,   1.581,2,-999.000,1,    1.018,2,  -999.0,9,  -999.0,9,-999.0000,9,  -999.00,   0.287,2,-999.0000,9, -999.00,9, -999.00,9,  -999.0,9,  -999.0,-999.000,9,-999.000,  -999.0,9,   0.016,-999.0000, -999.00,  14.0503,  14.1141,3,20091224,       1739
318M20091121,        P06,     111,          1,         29,         29,2,20091224,       1520,   -32.5000,  -157.0984,       5519,   264.6,  12.7149,  35.0363,  35.0401,2,    203.8,2,   203.3,2,    2.42,2,   10.01,2,    0.00,2,    0.80,2,   2.592,2,   1.643,2,-999.000,1,    1.006,2,  2115.3,2,  2296.4,3,   7.8358,2,    25.00,   0.238,2,-999.0000,9, -999.00,9, -999.00,9,  -999.0,9,  -999.0,-999.000,9,-999.000,  -999.0,9,   0.016,-999.0000, -999.00,  12.6789,  12.7164,2,20091224,       1737
318M20091121,        P06,     111,          1,         28,         28,2,20091224,       1520,   -32.5000,  -157.0984,       5519,   316.9,  11.4628,  34.8813,  34.8826,2,    208.8,2,   208.7,2,    3.00,2,   12.33,2,    0.00,2,    0.95,2,   2.728,2,   1.697,2,-999.000,1,    0.848,2,  -999.0,9,  -999.0,9,-999.0000,9,  -999.00,   0.242,2,-999.0000,9, -999.00,9, -999.00,9,  -999.0,9,  -999.0,-999.000,9,-999.000,  -999.0,9,   0.017,-999.0000, -999.00,  11.4225,  11.4718,2,20091224,       1735
318M20091121,        P06,     111,          1,         27,         27,2,20091224,       1520,   -32.5000,  -157.0984,       5519,   365.8,  10.1762,  34.7251,  34.7263,2,    213.0,2,   213.3,2,    3.58,2,   14.84,2,    0.00,2,    1.10,2,   2.830,2,   1.718,2,-999.000,1,    0.874,2,  2128.3,2,  2294.2,3,   7.7813,2,    25.00,   0.191,2,-999.0000,9, -999.00,9, -999.00,9,  -999.0,9,  -999.0,-999.000,9,-999.000,  -999.0,9,   0.017,-999.0000, -999.00,  10.1331,  10.1735,2,20091224,       1732
318M20091121,        P06,     111,          1,         26,         26,2,20091224,       1520,   -32.5000,  -157.0984,       5519,   436.3,   8.4958,  34.5228,  34.5230,2,    225.0,2,   225.3,2,    4.58,2,   18.27,2,    0.00,2,    1.32,2,   3.008,2,   1.704,2,-999.000,1,     0.67,2,  -999.0,9,  -999.0,9,-999.0000,9,  -999.00,   0.178,2,-999.0000,9, -999.00,9, -999.00,9,  -999.0,9,  -999.0,-999.000,9,-999.000,  -999.0,9,   0.016,-999.0000, -999.00,   8.4497,   8.5213,2,20091224,       1729
318M20091121,        P06,     111,          1,         25,         25,2,20091224,       1520,   -32.5000,  -157.0984,       5519,   539.5,   7.4158,  34.4179,  34.4177,2,    232.9,2,   235.6,2,    5.98,2,   20.77,2,    0.00,2,    1.47,2,   3.036,2,   1.641,2,-999.000,1,    0.547,2,  2138.3,2,  2280.6,2,   7.7392,2,    25.00,   0.156,2,-999.0000,9, -999.00,9, -999.00,9,  -999.0,9,  -999.0,-999.000,9,-999.000,  -999.0,9,   0.016,-999.0000, -999.00,   7.3628,   7.4145,2,20091224,       1726
318M20091121,        P06,     111,          1,         24,         24,2,20091224,       1520,   -32.5000,  -157.0984,       5519,   641.6,   6.8426,  34.3749,  34.3748,2,    236.6,2,   236.6,3,    7.60,2,   22.39,2,    0.00,2,    1.57,2,   2.460,2,   1.432,2,-999.000,1,    0.329,2,  2141.0,2,  2281.7,2,   7.7304,2,    25.00,   0.113,2,-999.0000,9, -999.00,9, -999.00,9,  -999.0,9,  -999.0,-999.000,9,-999.000,  -999.0,9,   0.016,-999.0000, -999.00,   6.7819,   6.8435,2,20091224,       1723
318M20091121,        P06,     111,          1,         23,         23,2,20091224,       1520,   -32.5000,  -157.0984,       5519,   741.2,   6.3509,  34.3403,  34.3404,2,    237.2,2,   237.9,2,    9.42,2,   23.68,2,    0.00,2,    1.65,2,   2.192,2,   1.250,2,-999.000,1,    0.316,2,  2145.0,2,  2280.3,2,   7.7234,2,    25.00,   0.096,2,-999.0000,9, -999.00,9, -999.00,9,  -999.0,9,  -999.0,-999.000,9,-999.000,  -999.0,9,   0.016,-999.0000, -999.00,   6.2831,   6.3505,2,20091224,       1720
318M20091121,        P06,     111,          1,         22,         22,2,20091224,       1520,   -32.5000,  -157.0984,       5519,   839.4,   5.8538,  34.3184,  34.3183,2,    230.0,2,   229.4,2,   12.89,2,   25.51,2,    0.00,2,    1.78,2,   1.582,2,   0.887,2,-999.000,1,    0.111,2,  2153.2,2,  2284.3,2,   7.7042,2,    25.00,   0.091,2,-999.0000,9, -999.00,9, -999.00,9,  -999.0,9,  -999.0,-999.000,9,-999.000,  -999.0,9,   0.016,-999.0000, -999.00,   5.7796,   5.8543,2,20091224,       1716
318M20091121,        P06,     111,          1,         21,         21,2,20091224,       1520,   -32.5000,  -157.0984,       5519,   941.5,   5.2346,  34.3100,  34.3104,2,    216.7,2,   216.6,2,   19.25,2,   27.95,2,    0.00,2,    1.95,2,   1.021,2,   0.559,2,-999.000,1,        0,2,  2171.7,2,  2287.9,2,   7.6707,2,    25.00,   0.068,2,-999.0000,9, -999.00,9, -999.00,9,  -999.0,9,  -999.0,-999.000,9,-999.000,  -999.0,9,   0.016,-999.0000, -999.00,   5.1552,   5.2387,2,20091224,       1713
318M20091121,        P06,     111,          1,         20,         20,2,20091224,       1520,   -32.5000,  -157.0984,       5519,  1042.5,   4.6196,  34.3230,  34.3234,2,    204.2,2,   203.7,2,   27.90,2,   30.27,2,    0.00,2,    2.09,2,   0.649,2,   0.341,2,-999.000,1,        0,2,  2189.1,2,  2297.3,2,   7.6460,2,    25.00,   0.036,2,-999.0000,9, -999.00,9, -999.00,9,  -999.0,9,  -999.0,-999.000,9,-999.000,  -999.0,9,   0.016,-999.0000, -999.00,   4.5357,   4.6199,2,20091224,       1710
318M20091121,        P06,     111,          1,         19,         19,2,20091224,       1520,   -32.5000,  -157.0984,       5519,  1145.8,   4.0267,  34.3538,  34.3539,2,    193.0,2,   192.6,2,   38.22,2,   32.08,2,    0.00,2,    2.22,2,   0.347,2,   0.197,2,-999.000,1,        0,2,  2205.2,6,  2306.2,6,   7.6189,2,    25.00,   0.039,2,-999.0000,9, -999.00,9, -999.00,9,  -999.0,9,  -999.0,-999.000,9,-999.000,  -999.0,9,   0.016,-999.0000, -999.00,   3.9388,   4.0397,2,20091224,       1706
318M20091121,        P06,     111,          1,         18,         18,2,20091224,       1520,   -32.5000,  -157.0984,       5519,  1241.2,   3.5593,  34.3953,  34.3953,2,    183.6,2,   182.6,2,   48.76,2,   33.29,2,    0.00,2,    2.31,2,   0.199,2,   0.120,2,-999.000,1,        0,2,  -999.0,9,  -999.0,9,-999.0000,9,  -999.00,   0.001,2,-999.0000,9, -999.00,9, -999.00,9,  -999.0,9,  -999.0,-999.000,9,-999.000,  -999.0,9,   0.016,-999.0000, -999.00,   3.4676,   3.5606,2,20091224,       1704
318M20091121,        P06,     111,          1,         17,         17,2,20091224,       1520,   -32.5000,  -157.0984,       5519,  1344.9,   3.1737,  34.4475,  34.4484,2,    175.6,2,   175.3,2,   59.95,2,   34.04,2,    0.00,2,    2.37,2,   0.100,2,   0.063,2,-999.000,1,        0,2,  2238.0,2,  2326.5,2,   7.5894,2,    25.00,-999.000,9,-999.0000,9, -999.00,9, -999.00,9,  -999.0,9,  -999.0,-999.000,9,-999.000,  -999.0,9,-999.000,-999.0000, -999.00,   3.0771,   3.1735,2,20091224,       1700
318M20091121,        P06,     111,          1,         16,         16,2,20091224,       1520,   -32.5000,  -157.0984,       5519,  1475.5,   2.8648,  34.5071,  34.5072,2,    167.7,2,   167.8,2,   72.20,2,   34.54,2,    0.00,2,    2.41,2,   0.047,2,   0.030,2,-999.000,1,        0,2,  -999.0,9,  -999.0,9,-999.0000,9,  -999.00,   0.005,2,-999.0000,9, -999.00,9, -999.00,9,  -999.0,9,  -999.0,-999.000,9,-999.000,  -999.0,9,   0.016,-999.0000, -999.00,   2.7607,   2.8637,2,20091224,       1657
318M20091121,        P06,     111,          1,         15,         15,2,20091224,       1520,   -32.5000,  -157.0984,       5519,  1679.9,   2.5591,  34.5795,  34.5792,2,    157.9,2,   159.0,2,   89.71,2,   34.94,2,    0.00,2,    2.44,2,   0.029,2,   0.020,2,-999.000,1,        0,2,  2275.3,2,  2363.1,2,   7.5764,2,    25.00,   0.007,2,-999.0000,9, -999.00,9, -999.00,9,  -999.0,9,  -999.0,-999.000,9,-999.000,  -999.0,9,   0.017,-999.0000, -999.00,   2.4416,   2.5590,2,20091224,       1652
318M20091121,        P06,     111,          1,         14,         14,2,20091224,       1520,   -32.5000,  -157.0984,       5519,  1879.5,   2.3415,  34.6158,  34.6154,2,    152.7,2,   154.1,2,  102.88,2,   35.28,2,    0.00,2,    2.47,2,   0.025,2,   0.018,2,-999.000,1,        0,2,  -999.0,9,  -999.0,9,-999.0000,9,  -999.00,   0.008,2,-999.0000,9, -999.00,9, -999.00,9,  -999.0,9,  -999.0,-999.000,9,-999.000,  -999.0,9,   0.016,-999.0000, -999.00,   2.2102,   2.3420,2,20091224,       1647
318M20091121,        P06,     111,          1,         13,         13,2,20091224,       1520,   -32.5000,  -157.0984,       5519,  2106.8,   2.1723,  34.6354,  34.6350,2,    149.3,2,   150.6,2,  112.50,2,   35.57,2,    0.00,2,    2.49,2,   0.016,2,   0.012,2,-999.000,1,        0,2,  2301.4,2,  2381.5,4,   7.5761,2,    25.00,   0.000,2,-999.0000,9, -999.00,9, -999.00,9,  -999.0,9,  -999.0,-999.000,9,-999.000,  -999.0,9,   0.017,-999.0000, -999.00,   2.0240,   2.1721,2,20091224,       1642
318M20091121,        P06,     111,          1,         12,         12,2,20091224,       1520,   -32.5000,  -157.0984,       5519,  2408.2,   1.9854,  34.6511,  34.6510,2,    147.7,2,   147.6,2,  122.15,2,   35.91,2,    0.00,2,    2.52,2,   0.015,2,   0.012,2,-999.000,1,        0,2,  -999.0,9,  -999.0,9,-999.0000,9,  -999.00,  -0.006,2,-999.0000,9, -999.00,9, -999.00,9,  -999.0,9,  -999.0,-999.000,9,-999.000,  -999.0,9,   0.017,-999.0000, -999.00,   1.8137,   1.9852,2,20091224,       1635
318M20091121,        P06,     111,          1,         11,         11,2,20091224,       1520,   -32.5000,  -157.0984,       5519,  2614.2,   1.9019,  34.6584,  34.6583,2,    148.5,2,   148.7,3,  125.90,2,   35.91,2,    0.00,2,    2.51,2,   0.022,2,   0.015,2,-999.000,1,        0,2,  2314.9,2,  2408.9,2,   7.5775,2,    25.00,  -0.006,2,-999.0000,9, -999.00,9, -999.00,9,  -999.0,9,  -999.0,-999.000,9,-999.000,  -999.0,9,   0.017,-999.0000, -999.00,   1.7130,   1.9026,2,20091224,       1629
318M20091121,        P06,     111,          1,         10,         10,2,20091224,       1520,   -32.5000,  -157.0984,       5519,  2868.6,   1.8180,  34.6659,  34.6650,2,    150.4,2,   150.1,2,  128.40,2,   35.78,2,    0.00,2,    2.51,2,   0.013,2,   0.008,2,-999.000,1,        0,2,  -999.0,9,  -999.0,9,-999.0000,9,  -999.00,   0.013,2,-999.0000,9, -999.00,9, -999.00,9,  -999.0,9,  -999.0,-999.000,9,-999.000,  -999.0,9,   0.017,-999.0000, -999.00,   1.6069,   1.8180,2,20091224,       1624
318M20091121,        P06,     111,          1,          9,          9,2,20091224,       1520,   -32.5000,  -157.0984,       5519,  3139.9,   1.7228,  34.6750,  34.6746,2,    156.0,2,   155.1,2,  128.56,2,   35.41,2,    0.00,2,    2.47,2,   0.014,2,   0.008,2,-999.000,1,        0,2,  2312.2,2,  2407.6,2,   7.5839,2,    25.00,-999.000,9,-999.0000,9, -999.00,9, -999.00,9,  -999.0,9,  -999.0,-999.000,9,-999.000,  -999.0,9,-999.000,-999.0000, -999.00,   1.4874,   1.7227,2,20091224,       1617
318M20091121,        P06,     111,          1,          8,          8,2,20091224,       1520,   -32.5000,  -157.0984,       5519,  3449.4,   1.6201,  34.6882,  34.6880,2,    166.5,2,   166.5,2,  124.29,2,   34.47,2,    0.00,2,    2.42,2,   0.025,2,   0.017,2,-999.000,1,        0,2,  -999.0,9,  -999.0,9,-999.0000,9,  -999.00,   0.013,2,-999.0000,9, -999.00,9, -999.00,9,  -999.0,9,  -999.0,-999.000,9,-999.000,  -999.0,9,   0.017,-999.0000, -999.00,   1.3560,   1.6198,2,20091224,       1610
318M20091121,        P06,     111,          1,          7,          7,2,20091224,       1520,   -32.5000,  -157.0984,       5519,  3751.9,   1.5103,  34.7018,  34.7012,2,    179.3,2,   181.0,2,  118.36,2,   33.28,2,    0.00,2,    2.33,2,   0.021,2,   0.015,2,-999.000,1,        0,2,  2286.4,2,  2386.0,2,   7.6022,2,    25.00,-999.000,9,-999.0000,9, -999.00,9, -999.00,9,  -999.0,9,  -999.0,-999.000,9,-999.000,  -999.0,9,-999.000,-999.0000, -999.00,   1.2176,   1.5100,2,20091224,       1602
318M20091121,        P06,     111,          1,          6,          6,2,20091224,       1520,   -32.5000,  -157.0984,       5519,  4059.1,   1.3846,  34.7135,  34.7130,2,    193.2,2,   193.9,2,  113.06,2,   32.15,2,    0.00,2,    2.25,2,   0.017,2,   0.013,2,-999.000,1,        0,2,  -999.0,9,  -999.0,9,-999.0000,9,  -999.00,  -0.021,2,-999.0000,9, -999.00,9, -999.00,9,  -999.0,9,  -999.0,-999.000,9,-999.000,  -999.0,9,   0.017,-999.0000, -999.00,   1.0623,   1.3845,2,20091224,       1555
318M20091121,        P06,     111,          1,          5,         37,2,20091224,       1520,   -32.5000,  -157.0984,       5519,  4367.9,   1.2201,  34.7136,  34.7134,2,    200.6,2,   200.7,2,  114.70,2,   31.98,2,    0.00,2,    2.23,2,   0.019,2,   0.013,2,-999.000,1,        0,2,  2267.5,2,  -999.0,9,-999.0000,9,  -999.00,  -0.005,2,-999.0000,9, -999.00,9, -999.00,9,  -999.0,9,  -999.0,-999.000,9,-999.000,  -999.0,9,   0.017,-999.0000, -999.00,   0.8685,   1.2200,2,20091224,       1549
318M20091121,        P06,     111,          1,          4,          4,2,20091224,       1520,   -32.5000,  -157.0984,       5519,  4711.7,   1.1173,  34.7112,  34.7114,2,    204.2,2,   204.0,2,  117.61,2,   32.02,2,    0.00,2,    2.23,2,   0.040,2,   0.025,2,-999.000,1,        0,2,  -999.0,9,  -999.0,9,-999.0000,9,  -999.00,  -0.006,2,-999.0000,9, -999.00,9, -999.00,9,  -999.0,9,  -999.0,-999.000,9,-999.000,  -999.0,9,   0.017,-999.0000, -999.00,   0.7297,   1.1174,2,20091224,       1541
318M20091121,        P06,     111,          1,          3,          3,2,20091224,       1520,   -32.5000,  -157.0984,       5519,  5038.8,   1.1002,  34.7097,  34.7097,2,    204.9,2,   205.3,2,  119.05,2,   32.00,2,    0.00,2,    2.23,2,   0.052,2,   0.031,2,-999.000,1,        0,2,  2267.7,6,  2371.4,2,   7.6211,4,    25.00,   0.006,2,-999.0000,9, -999.00,9, -999.00,9,  -999.0,9,  -999.0,-999.000,9,-999.000,  -999.0,9,   0.017,-999.0000, -999.00,   0.6746,   1.1007,2,20091224,       1534
318M20091121,        P06,     111,          1,          2,          2,2,20091224,       1520,   -32.5000,  -157.0984,       5519,  5298.1,   1.1196,  34.7090,  34.7087,2,    206.2,2,   205.9,2,  119.00,2,   32.04,2,    0.00,2,    2.23,2,   0.055,2,   0.034,2,-999.000,1,        0,2,  -999.0,9,  -999.0,9,-999.0000,9,  -999.00,   0.004,2,-999.0000,9, -999.00,9, -999.00,9,  -999.0,9,  -999.0,-999.000,9,-999.000,  -999.0,9,   0.017,-999.0000, -999.00,   0.6618,   1.1193,2,20091224,       1526
318M20091121,        P06,     111,          1,          1,          1,2,20091224,       1520,   -32.5000,  -157.0984,       5519,  5489.4,   1.1350,  34.7087,  34.7093,2,    206.0,2,   206.3,2,  119.59,2,   32.02,2,    0.00,2,    2.23,2,   0.063,2,   0.037,2,-999.000,1,        0,2,  2269.0,2,  2375.3,6,   7.6178,6,    25.00,   0.017,6,-999.0000,9, -999.00,9, -999.00,9,  -999.0,9,  -999.0,-999.000,9,-999.000,  -999.0,9,   0.013,-999.0000, -999.00,   0.6528,   1.1354,2,20091224,       1520