BOTTLE,20220818CCHSIOAMB
EXPOCODE,SECT_ID,STNNBR,CASTNO,SAMPNO,BTLNBR,BTLNBR_FLAG_W,DATE,TIME,LATITUDE,LONGITUDE,DEPTH,CTDPRS,CTDTMP,CTDSAL,SALNTY,SALNTY_FLAG_W,CTDOXY,CTDOXY_FLAG_W,OXYGEN,OXYGEN_FLAG_W,SILCAT,SILCAT_FLAG_W,NITRAT,NITRAT_FLAG_W,NITRIT,NITRIT_FLAG_W,PHSPHT,PHSPHT_FLAG_W,CFC-11,CFC-11_FLAG_W,CFC-12,CFC-12_FLAG_W,CFC113,CFC113_FLAG_W,SF6,SF6_FLAG_W,TCARBN,TCARBN_FLAG_W,ALKALI,ALKALI_FLAG_W,PH_SWS,PH_SWS_FLAG_W,PH_TMP,TRITUM,TRITUM_FLAG_W,HELIUM,HELIUM_FLAG_W,DELHE3,DELHE3_FLAG_W,DELC13,DELC13_FLAG_W,DELC14,DELC14_FLAG_W,C14ERR,NEON,NEON_FLAG_W,NEONER,DOC,DOC_FLAG_W,TRITER,HELIER,DELHER,THETA,SBE35,SBE35_FLAG_W,BTL_DATE,BTL_TIME
,,,,,,,,,,,METERS,DBAR,ITS-90,PSS-78,PSS-78,,UMOL/KG,,UMOL/KG,,UMOL/KG,,UMOL/KG,,UMOL/KG,,UMOL/KG,,PMOL/KG,,PMOL/KG,,PMOL/KG,,FMOL/KG,,UMOL/KG,,UMOL/KG,,,,DEG C,TU,,NMOL/KG,,PERCNT,,/MILLE,,/MILLE,,/MILLE,NMOL/KG,,NMOL/KG,UMOL/KG,,TU,NMOL/KG,PERCNT,DEG C,ITS-90,,,
318M20091121,        P06,      70,          1,         32,         32,2,20091210,       1218,   -32.4999,   179.4203,       3081,     4.9,  20.2873,  35.5331,  35.5357,2,    232.3,2,   230.9,2,    0.60,2,    0.00,2,    0.00,2,    0.14,2,   2.140,2,   1.366,2,-999.000,1,    1.157,2,  2053.9,6,  2333.6,6,   7.9970,2,    25.00,   0.383,2,   1.7168,2,   -1.50,2, -999.00,9,  -999.0,9,  -999.0,   6.895,2,   0.032,    57.3,2,   0.009,   0.0072,    0.15,  20.2864,  20.2290,3,20091210,       1407
318M20091121,        P06,      70,          1,         31,         31,2,20091210,       1218,   -32.4999,   179.4203,       3081,    19.3,  19.5290,  35.5162,  35.5229,2,    235.2,2,   233.8,2,    0.43,2,    0.00,2,    0.00,2,    0.13,2,   2.172,6,   1.392,6,-999.000,1,   1.1805,6,  2052.1,2,  2329.6,2,   7.8640,4,    25.00,-999.000,9,-999.0000,9, -999.00,9, -999.00,9,  -999.0,9,  -999.0,-999.000,9,-999.000,    58.0,2,-999.000,-999.0000, -999.00,  19.5255,  19.5281,2,20091210,       1405
318M20091121,        P06,      70,          1,         30,         30,2,20091210,       1218,   -32.4999,   179.4203,       3081,    40.9,  18.0999,  35.4797,  35.4830,2,    243.7,2,   243.4,2,    0.47,2,    0.00,2,    0.00,2,    0.14,2,   2.313,2,   1.455,2,-999.000,1,    1.195,2,  2055.9,2,  2331.0,2,   7.5103,4,    25.00,-999.000,9,-999.0000,9, -999.00,9, -999.00,9,  -999.0,9,  -999.0,-999.000,9,-999.000,    57.4,2,-999.000,-999.0000, -999.00,  18.0929,  18.1266,3,20091210,       1403
318M20091121,        P06,      70,          1,         29,         29,2,20091210,       1218,   -32.4999,   179.4203,       3081,    66.3,  16.8879,  35.4489,  35.4468,2,    250.6,2,   250.3,2,    0.69,2,   -0.01,2,    0.01,2,    0.15,2,   2.422,2,   1.524,2,-999.000,1,    1.184,2,  2057.6,2,  2328.9,2,   7.9832,2,    25.00,   0.358,2,   1.7277,2,   -1.58,2, -999.00,9,  -999.0,9,  -999.0,   7.007,2,   0.032,    54.5,2,   0.009,   0.0073,    0.15,  16.8770,  16.8824,2,20091210,       1400
318M20091121,        P06,      70,          1,         28,         28,2,20091210,       1218,   -32.4999,   179.4203,       3081,    90.3,  15.4064,  35.4042,  35.4034,2,    242.8,2,   243.2,2,    1.11,2,    1.25,2,    0.08,2,    0.25,2,   2.488,2,   1.561,2,-999.000,1,    1.166,2,  2074.6,2,  2327.7,2,   7.9543,2,    25.00,   0.342,2,   1.7490,2,   -1.43,2, -999.00,9,  -999.0,9,  -999.0,   7.107,2,   0.033,    50.6,2,   0.008,   0.0073,    0.15,  15.3925,  15.4067,2,20091210,       1358
318M20091121,        P06,      70,          1,         27,         27,2,20091210,       1218,   -32.4999,   179.4203,       3081,   116.0,  14.6656,  35.3617,  35.3603,2,    233.0,2,   232.8,2,    1.35,2,    3.82,2,    0.07,2,    0.40,2,   2.519,2,   1.578,2,-999.000,1,    1.332,4,  2088.8,2,  2322.9,2,   7.9206,2,    25.00,-999.000,9,-999.0000,9, -999.00,9, -999.00,9,  -999.0,9,  -999.0,-999.000,9,-999.000,    54.2,2,-999.000,-999.0000, -999.00,  14.6483,  14.6681,2,20091210,       1356
318M20091121,        P06,      70,          1,         26,         26,2,20091210,       1218,   -32.4999,   179.4203,       3081,   141.5,  14.0744,  35.3031,  35.3027,2,    227.9,2,   228.0,2,    1.96,2,    5.72,2,    0.02,2,    0.51,2,   2.556,2,   1.602,2,-999.000,1,    1.252,4,  2097.2,2,  2318.1,2,   7.8986,2,    25.00,   0.330,2,   1.7534,2,   -1.39,2, -999.00,9,  -999.0,9,  -999.0,   7.242,2,   0.033,    49.7,2,   0.009,   0.0074,    0.15,  14.0539,  14.0761,2,20091210,       1354
318M20091121,        P06,      70,          1,         25,         25,2,20091210,       1218,   -32.4999,   179.4203,       3081,   186.7,  13.3696,  35.2156,  35.2180,2,    224.5,2,   222.1,2,    2.59,2,    7.74,2,    0.01,2,    0.64,2,   2.585,2,   1.590,2,-999.000,1,    1.101,2,  2106.8,2,  2317.7,2,   7.8736,2,    25.00,   0.306,2,   1.7712,2,   -1.01,2, -999.00,9,  -999.0,9,  -999.0,   7.275,2,   0.033,    50.7,2,   0.008,   0.0074,    0.15,  13.3434,  13.3710,2,20091210,       1352
318M20091121,        P06,      70,          1,         24,         24,2,20091210,       1218,   -32.4999,   179.4203,       3081,   236.4,  12.6692,  35.1213,  35.1206,2,    216.6,2,   214.5,2,    3.60,2,   10.26,2,    0.01,2,    0.78,2,   2.581,2,   1.570,2,-999.000,1,    0.961,2,  2116.4,2,  2310.8,2,   7.8443,2,    25.00,   0.280,2,-999.0000,9, -999.00,9, -999.00,9,  -999.0,9,  -999.0,-999.000,9,-999.000,    49.8,2,   0.008,-999.0000, -999.00,  12.6371,  12.6710,2,20091210,       1348
318M20091121,        P06,      70,          1,         23,         23,2,20091210,       1218,   -32.4999,   179.4203,       3081,   286.1,  11.9033,  35.0171,  35.0134,2,    208.9,2,   210.9,2,    4.61,2,   12.54,2,    0.01,2,    0.92,2,   2.583,2,   1.553,2,-999.000,1,    0.977,2,  2124.7,2,  2304.4,2,   7.8156,2,    25.00,-999.000,9,-999.0000,9, -999.00,9, -999.00,9,  -999.0,9,  -999.0,-999.000,9,-999.000,    51.3,2,-999.000,-999.0000, -999.00,  11.8660,  11.9047,2,20091210,       1346
318M20091121,        P06,      70,          1,         22,         22,2,20091210,       1218,   -32.4999,   179.4203,       3081,   337.2,  10.9201,  34.8793,  34.8786,2,    207.8,2,   206.5,2,    5.24,2,   15.04,2,    0.00,2,    1.08,2,   2.650,2,   1.552,2,-999.000,1,    0.841,2,  2131.8,2,  2299.6,2,   7.7862,2,    25.00,   0.216,2,-999.0000,9, -999.00,9, -999.00,9,  -999.0,9,  -999.0,-999.000,9,-999.000,    47.3,2,   0.008,-999.0000, -999.00,  10.8785,  10.9187,2,20091210,       1343
318M20091121,        P06,      70,          1,         21,         21,2,20091210,       1218,   -32.4999,   179.4203,       3081,   387.6,  10.2869,  34.7946,  34.7935,2,    207.0,2,   206.9,2,    5.66,2,   16.54,2,    0.00,2,    1.17,2,   2.661,2,   1.531,2,-999.000,1,    0.747,2,  2136.0,2,  2296.4,2,   7.7676,2,    25.00,-999.000,9,-999.0000,9, -999.00,9, -999.00,9,  -999.0,9,  -999.0,-999.000,9,-999.000,    49.2,2,-999.000,-999.0000, -999.00,  10.2408,  10.2787,2,20091210,       1340
318M20091121,        P06,      70,          1,         20,         20,2,20091210,       1218,   -32.4999,   179.4203,       3081,   437.4,   9.5334,  34.7057,  34.7051,2,    207.4,2,   208.1,2,    7.26,2,   18.36,2,    0.01,2,    1.29,2,   2.579,2,   1.458,2,-999.000,1,    0.637,2,  2140.9,2,  2294.7,2,   7.7533,2,    25.00,   0.179,2,   1.7725,2,    0.49,2, -999.00,9,  -999.0,9,  -999.0,   7.492,2,   0.034,    47.8,2,   0.008,   0.0074,    0.15,   9.4837,   9.5326,2,20091210,       1338
318M20091121,        P06,      70,          1,         19,         19,2,20091210,       1218,   -32.4999,   179.4203,       3081,   487.8,   8.9056,  34.6314,  34.6304,2,    211.4,2,   210.9,2,    8.08,2,   19.62,2,    0.00,2,    1.37,2,   2.563,2,   1.425,2,-999.000,1,    0.534,2,  2143.7,2,  2293.8,2,   7.7403,2,    25.00,   0.166,2,-999.0000,9, -999.00,9, -999.00,9,  -999.0,9,  -999.0,-999.000,9,-999.000,    45.4,2,   0.008,-999.0000, -999.00,   8.8523,   8.9042,2,20091210,       1335
318M20091121,        P06,      70,          1,         18,         18,2,20091210,       1218,   -32.4999,   179.4203,       3081,   569.1,   8.0430,  34.5422,  34.5420,2,    214.1,2,   214.9,2,    9.70,2,   21.44,2,    0.00,2,    1.50,2,   2.414,2,   1.306,2,-999.000,1,    0.462,2,  2147.9,2,  2294.5,2,   7.7244,2,    25.00,   0.136,2,   1.8125,2,    1.14,2, -999.00,9,  -999.0,9,  -999.0,   7.688,2,   0.035,    40.3,2,   0.008,   0.0076,    0.15,   7.9842,   8.0424,2,20091210,       1332
318M20091121,        P06,      70,          1,         17,         17,2,20091210,       1218,   -32.4999,   179.4203,       3081,   672.1,   7.4416,  34.4810,  34.4811,2,    216.9,2,   216.2,2,   11.11,2,   22.81,2,    0.00,2,    1.58,2,   2.219,2,   1.179,2,-999.000,1,    0.252,2,  2150.5,2,  2287.8,6,   7.7140,2,    25.00,-999.000,9,-999.0000,9, -999.00,9, -999.00,9,  -999.0,9,  -999.0,-999.000,9,-999.000,  -999.0,9,-999.000,-999.0000, -999.00,   7.3748,   7.4413,2,20091210,       1329
318M20091121,        P06,      70,          1,         16,         16,2,20091210,       1218,   -32.4999,   179.4203,       3081,   771.4,   6.8569,  34.4364,  34.4404,2,    215.0,2,   215.2,2,   13.51,2,   24.22,2,    0.00,2,    1.68,2,   1.851,2,   0.970,2,-999.000,1,    0.721,4,  2156.6,2,  2290.7,2,   7.7050,2,    25.00,   0.091,2,   1.8042,2,    2.24,2, -999.00,9,  -999.0,9,  -999.0,   7.647,2,   0.035,    41.2,2,   0.008,   0.0076,    0.15,   6.7831,   6.8562,2,20091210,       1326
318M20091121,        P06,      70,          1,         15,         15,2,20091210,       1218,   -32.4999,   179.4203,       3081,   871.0,   6.0649,  34.3921,  34.3916,2,    210.7,2,   210.7,2,   18.49,2,   26.31,2,    0.00,2,    1.83,2,   1.270,2,   0.657,2,-999.000,1,    0.127,2,  2167.6,2,  2291.4,2,   7.6831,2,    25.00,   0.073,2,   1.8207,2,    4.71,2, -999.00,9,  -999.0,9,  -999.0,   7.649,2,   0.035,  -999.0,9,   0.008,   0.0076,    0.15,   5.9863,   6.0648,2,20091210,       1323
318M20091121,        P06,      70,          1,         14,         14,2,20091210,       1218,   -32.4999,   179.4203,       3081,   972.8,   5.4573,  34.3754,  34.3749,2,    204.3,2,   204.9,2,   24.27,2,   28.05,2,    0.00,2,    1.95,2,   0.879,2,   0.460,2,-999.000,1,        0,2,  2177.8,2,  2295.9,2,   7.6634,2,    25.00,   0.046,2,   1.8300,2,    4.93,2, -999.00,9,  -999.0,9,  -999.0,   7.758,2,   0.036,    38.6,2,   0.008,   0.0077,    0.15,   5.3733,   5.4604,2,20091210,       1319
318M20091121,        P06,      70,          1,         13,         13,2,20091210,       1218,   -32.4999,   179.4203,       3081,  1074.0,   4.9414,  34.3942,  34.3936,2,    195.0,2,   194.3,2,   33.66,2,   29.61,2,    0.00,2,    2.06,2,   0.619,2,   0.332,2,-999.000,1,        0,2,  2194.2,6,  2303.9,2,   7.6443,2,    25.00,   0.033,2,   1.8137,2,    6.79,2, -999.00,9,  -999.0,9,  -999.0,   7.633,2,   0.035,  -999.0,9,   0.008,   0.0076,    0.15,   4.8520,   4.9400,2,20091210,       1316
318M20091121,        P06,      70,          1,         12,         12,2,20091210,       1218,   -32.4999,   179.4203,       3081,  1174.6,   4.4312,  34.4065,  34.4067,2,    188.8,2,   187.2,2,   42.89,2,   30.95,2,    0.00,2,    2.16,2,   0.414,2,   0.228,2,-999.000,1,        0,2,  2207.8,2,  2313.9,2,   7.6285,2,    25.00,   0.027,2,   1.8694,2,    8.39,2, -999.00,9,  -999.0,9,  -999.0,   7.841,2,   0.036,    38.9,2,   0.008,   0.0079,    0.15,   4.3371,   4.4304,2,20091210,       1312
318M20091121,        P06,      70,          1,         11,         11,2,20091210,       1218,   -32.4999,   179.4203,       3081,  1276.5,   3.9490,  34.4381,  34.4378,2,    181.1,2,   178.9,2,   53.78,2,   32.06,2,    0.00,2,    2.25,2,   0.255,2,   0.145,2,-999.000,1,        0,2,  2224.3,2,  2325.8,2,   7.6139,2,    25.00,-999.000,9,-999.0000,9, -999.00,9, -999.00,9,  -999.0,9,  -999.0,-999.000,9,-999.000,  -999.0,9,-999.000,-999.0000, -999.00,   3.8504,   3.9487,2,20091210,       1309
318M20091121,        P06,      70,          1,         10,         10,2,20091210,       1218,   -32.4999,   179.4203,       3081,  1379.1,   3.4731,  34.4797,  34.4792,2,    173.4,2,   170.9,2,   66.74,2,   33.07,2,    0.00,2,    2.32,2,   0.149,2,   0.087,2,-999.000,1,        0,2,  2242.0,2,  2337.7,2,   7.5996,2,    25.00,   0.002,2,   1.8733,2,   13.22,2, -999.00,9,  -999.0,9,  -999.0,   7.939,2,   0.037,  -999.0,9,   0.008,   0.0079,    0.15,   3.3704,   3.4728,2,20091210,       1305
318M20091121,        P06,      70,          1,          9,          9,2,20091210,       1218,   -32.4999,   179.4203,       3081,  1478.1,   3.1621,  34.5148,  34.5146,2,    166.9,2,   165.9,2,   76.72,2,   33.53,2,    0.00,2,    2.37,2,-999.000,5,-999.000,5,-999.000,1,-999.0000,5,  2255.2,2,  2350.3,2,   7.5915,2,    25.00,-999.000,9,-999.0000,9, -999.00,9, -999.00,9,  -999.0,9,  -999.0,-999.000,9,-999.000,  -999.0,9,-999.000,-999.0000, -999.00,   3.0544,   3.1609,2,20091210,       1302
318M20091121,        P06,      70,          1,          8,          8,2,20091210,       1218,   -32.4999,   179.4203,       3081,  1575.0,   2.8890,  34.5529,  34.5538,2,    162.3,2,   161.0,2,   87.34,2,   33.90,2,    0.00,2,    2.39,2,   0.061,2,   0.037,2,-999.000,1,        0,2,  2267.1,2,  2360.9,2,   7.5875,2,    25.00,   0.002,2,   1.8814,2,   17.08,2, -999.00,9,  -999.0,9,  -999.0,   7.879,2,   0.036,    36.2,2,   0.008,   0.0079,    0.15,   2.7762,   2.8887,2,20091210,       1258
318M20091121,        P06,      70,          1,          7,          7,2,20091210,       1218,   -32.4999,   179.4203,       3081,  1751.4,   2.6763,  34.5861,  34.5858,2,    158.2,2,   158.1,2,   95.96,2,   34.13,2,    0.00,2,    2.41,2,   0.039,2,   0.024,2,-999.000,1,        0,2,  2278.5,2,  2374.7,2,   7.5858,2,    25.00,-999.000,9,-999.0000,9, -999.00,9, -999.00,9,  -999.0,9,  -999.0,-999.000,9,-999.000,  -999.0,9,-999.000,-999.0000, -999.00,   2.5513,   2.6766,2,20091210,       1254
318M20091121,        P06,      70,          1,          6,          6,2,20091210,       1218,   -32.4999,   179.4203,       3081,  1956.0,   2.4405,  34.6178,  34.6183,2,    155.5,2,   155.4,2,  104.82,2,   34.31,2,    0.00,2,    2.43,2,   0.028,2,   0.018,2,-999.000,1,        0,2,  2288.1,2,  2384.7,2,   7.5857,2,    25.00,   0.000,2,   1.8967,2,   19.40,2, -999.00,9,  -999.0,9,  -999.0,   7.987,2,   0.037,  -999.0,9,   0.008,   0.0080,    0.15,   2.3012,   2.4417,2,20091210,       1249
318M20091121,        P06,      70,          1,          5,          5,2,20091210,       1218,   -32.4999,   179.4203,       3081,  2187.5,   2.2631,  34.6378,  34.6379,2,    154.1,2,   154.0,2,  111.03,2,   34.50,2,    0.00,2,    2.44,2,   0.020,2,   0.014,2,-999.000,1,        0,2,  2295.5,2,  2392.0,2,   7.5846,2,    25.00,   0.001,2,   1.9214,2,   19.99,2, -999.00,9,  -999.0,9,  -999.0,   8.055,2,   0.037,    35.3,2,   0.008,   0.0081,    0.15,   2.1063,   2.2627,2,20091210,       1243
318M20091121,        P06,      70,          1,          4,          4,2,20091210,       1218,   -32.4999,   179.4203,       3081,  2440.1,   2.1668,  34.6482,  34.6483,2,    153.8,2,   153.6,2,  114.78,2,   34.63,2,    0.00,2,    2.44,2,   0.019,2,   0.011,2,-999.000,1,        0,2,  2299.6,2,  2392.2,2,   7.5835,2,    25.00,  -0.003,2,   1.9179,2,   19.87,2, -999.00,9,  -999.0,9,  -999.0,   8.021,2,   0.037,  -999.0,9,   0.008,   0.0081,    0.15,   1.9889,   2.1668,2,20091210,       1237
318M20091121,        P06,      70,          1,          3,          3,2,20091210,       1218,   -32.4999,   179.4203,       3081,  2697.7,   2.1316,  34.6531,  34.6495,3,    153.5,2,   153.7,2,  116.07,2,   34.68,2,    0.00,2,    2.45,2,   0.018,2,   0.013,2,-999.000,1,        0,2,  2302.0,2,  2394.9,6,   7.5854,6,    25.00,  -0.010,2,   1.9117,2,   19.90,2, -999.00,9,  -999.0,9,  -999.0,   8.002,2,   0.037,    35.7,2,   0.008,   0.0080,    0.15,   1.9303,   2.1317,2,20091210,       1231
318M20091121,        P06,      70,          1,          2,          2,2,20091210,       1218,   -32.4999,   179.4203,       3081,  2896.3,   2.1105,  34.6564,  34.6564,2,    154.6,2,   153.9,2,  116.74,2,   34.67,2,    0.00,2,    2.45,2,   0.017,2,   0.012,2,-999.000,1,        0,2,  2307.8,2,  2398.4,2,   7.5829,2,    25.00,  -0.001,2,   1.8995,2,   19.93,2, -999.00,9,  -999.0,9,  -999.0,   7.866,2,   0.036,  -999.0,9,   0.008,   0.0080,    0.15,   1.8906,   2.1103,2,20091210,       1225
318M20091121,        P06,      70,          1,          1,          1,2,20091210,       1218,   -32.4999,   179.4203,       3081,  3096.3,   2.1036,  34.6584,  34.6583,2,    154.2,2,   153.5,2,  118.24,2,   34.57,2,    0.00,2,    2.45,2,   0.022,2,   0.016,2,-999.000,1,        0,2,  2307.1,6,  2401.0,2,   7.5871,2,    25.00,  -0.001,2,   1.9619,2,   19.23,2, -999.00,9,  -999.0,9,  -999.0,   8.159,2,   0.038,    36.5,2,   0.008,   0.0082,    0.15,   1.8640,   2.1036,2,20091210,       1218