BOTTLE,20220818CCHSIOAMB
EXPOCODE,SECT_ID,STNNBR,CASTNO,SAMPNO,BTLNBR,BTLNBR_FLAG_W,DATE,TIME,LATITUDE,LONGITUDE,DEPTH,CTDPRS,CTDTMP,CTDSAL,SALNTY,SALNTY_FLAG_W,CTDOXY,CTDOXY_FLAG_W,OXYGEN,OXYGEN_FLAG_W,SILCAT,SILCAT_FLAG_W,NITRAT,NITRAT_FLAG_W,NITRIT,NITRIT_FLAG_W,PHSPHT,PHSPHT_FLAG_W,CFC-11,CFC-11_FLAG_W,CFC-12,CFC-12_FLAG_W,CFC113,CFC113_FLAG_W,SF6,SF6_FLAG_W,TCARBN,TCARBN_FLAG_W,ALKALI,ALKALI_FLAG_W,PH_SWS,PH_SWS_FLAG_W,PH_TMP,TRITUM,TRITUM_FLAG_W,HELIUM,HELIUM_FLAG_W,DELHE3,DELHE3_FLAG_W,DELC13,DELC13_FLAG_W,DELC14,DELC14_FLAG_W,C14ERR,NEON,NEON_FLAG_W,NEONER,DOC,DOC_FLAG_W,TRITER,HELIER,DELHER,THETA,SBE35,SBE35_FLAG_W,BTL_DATE,BTL_TIME
,,,,,,,,,,,METERS,DBAR,ITS-90,PSS-78,PSS-78,,UMOL/KG,,UMOL/KG,,UMOL/KG,,UMOL/KG,,UMOL/KG,,UMOL/KG,,PMOL/KG,,PMOL/KG,,PMOL/KG,,FMOL/KG,,UMOL/KG,,UMOL/KG,,,,DEG C,TU,,NMOL/KG,,PERCNT,,/MILLE,,/MILLE,,/MILLE,NMOL/KG,,NMOL/KG,UMOL/KG,,TU,NMOL/KG,PERCNT,DEG C,ITS-90,,,
318M20091121,        P06,      65,          2,         36,         36,2,20091209,       0655,   -31.2218,   177.6370,       4014,     3.2,  21.2838,  35.5754,  35.5747,2,    227.7,2,   227.1,2,    0.27,2,    0.00,2,    0.00,2,    0.09,2,   2.009,2,   1.266,2,-999.000,1,    1.111,2,  2035.4,6,  2332.7,2,   8.0302,2,    25.00,-999.000,9,-999.0000,9, -999.00,9, -999.00,9,  -999.0,9,  -999.0,-999.000,9,-999.000,  -999.0,9,-999.000,-999.0000, -999.00,  21.2832,  21.2879,2,20091209,       0911
318M20091121,        P06,      65,          2,         35,         35,2,20091209,       0655,   -31.2218,   177.6370,       4014,    25.9,  20.4899,  35.6067,  35.6160,2,    236.6,2,   235.0,2,    0.21,2,    0.00,2,    0.00,2,    0.07,2,   2.067,2,   1.307,2,-999.000,1,    1.116,2,  -999.0,9,  2334.1,6,   8.0395,6,    25.00,-999.000,9,-999.0000,9, -999.00,9, -999.00,9,  -999.0,9,  -999.0,-999.000,9,-999.000,  -999.0,9,-999.000,-999.0000, -999.00,  20.4850,  20.5197,3,20091209,       0909
318M20091121,        P06,      65,          2,         34,         34,2,20091209,       0655,   -31.2218,   177.6370,       4014,    50.7,  19.0451,  35.6090,  35.6095,2,    239.3,2,   239.0,2,    0.16,2,    0.00,2,    0.00,2,    0.08,2,   2.157,2,   1.350,2,-999.000,1,    1.081,2,  -999.0,9,  -999.0,9,-999.0000,9,  -999.00,-999.000,9,-999.0000,9, -999.00,9, -999.00,9,  -999.0,9,  -999.0,-999.000,9,-999.000,  -999.0,9,-999.000,-999.0000, -999.00,  19.0360,  19.0454,2,20091209,       0906
318M20091121,        P06,      65,          2,         33,         33,2,20091209,       0655,   -31.2218,   177.6370,       4014,    76.2,  17.9989,  35.5889,  35.5883,2,    231.8,2,   229.0,2,    0.10,2,    0.08,2,    0.05,2,    0.15,2,   2.210,2,   1.369,2,-999.000,1,    1.115,2,  -999.0,9,  2329.4,2,   8.0041,2,    25.00,-999.000,9,-999.0000,9, -999.00,9, -999.00,9,  -999.0,9,  -999.0,-999.000,9,-999.000,  -999.0,9,-999.000,-999.0000, -999.00,  17.9858,  18.0056,2,20091209,       0904
318M20091121,        P06,      65,          2,         32,         32,2,20091209,       0655,   -31.2218,   177.6370,       4014,   102.9,  17.3566,  35.5862,  35.5857,2,    224.0,2,   223.2,2,    0.24,2,    1.88,2,    0.02,2,    0.24,2,   2.238,2,   1.388,2,-999.000,1,    1.101,2,  -999.0,9,  -999.0,9,-999.0000,9,  -999.00,-999.000,9,-999.0000,9, -999.00,9, -999.00,9,  -999.0,9,  -999.0,-999.000,9,-999.000,  -999.0,9,-999.000,-999.0000, -999.00,  17.3393,  17.3669,2,20091209,       0902
318M20091121,        P06,      65,          2,         31,         31,2,20091209,       0655,   -31.2218,   177.6370,       4014,   125.6,  17.0719,  35.5766,  35.5759,2,    224.1,2,   221.1,2,    0.78,2,    2.66,2,    0.01,2,    0.29,2,   2.260,2,   1.402,2,-999.000,1,    1.124,2,  -999.0,9,  2330.0,2,   7.9754,2,    25.00,-999.000,9,-999.0000,9, -999.00,9, -999.00,9,  -999.0,9,  -999.0,-999.000,9,-999.000,  -999.0,9,-999.000,-999.0000, -999.00,  17.0511,  17.0684,2,20091209,       0859
318M20091121,        P06,      65,          2,         30,         30,2,20091209,       0655,   -31.2218,   177.6370,       4014,   150.9,  16.7641,  35.5775,  35.5782,2,    224.8,2,   223.2,2,    0.92,2,    3.10,2,    0.01,2,    0.32,2,   2.302,6,   1.438,6,-999.000,1,    1.105,6,  -999.0,9,  -999.0,9,-999.0000,9,  -999.00,-999.000,9,-999.0000,9, -999.00,9, -999.00,9,  -999.0,9,  -999.0,-999.000,9,-999.000,  -999.0,9,-999.000,-999.0000, -999.00,  16.7394,  16.7674,2,20091209,       0857
318M20091121,        P06,      65,          2,         29,         29,2,20091209,       0655,   -31.2218,   177.6370,       4014,   201.4,  16.2756,  35.5261,  35.5213,2,    216.2,2,   215.2,2,    1.26,2,    4.60,2,    0.01,2,    0.42,2,   2.317,2,   1.431,2,-999.000,1,    1.073,2,  -999.0,9,  2328.1,2,   7.9328,2,    25.00,-999.000,9,-999.0000,9, -999.00,9, -999.00,9,  -999.0,9,  -999.0,-999.000,9,-999.000,  -999.0,9,-999.000,-999.0000, -999.00,  16.2432,  16.2763,2,20091209,       0855
318M20091121,        P06,      65,          2,         28,         28,2,20091209,       0655,   -31.2218,   177.6370,       4014,   251.8,  15.3062,  35.4027,  35.4034,2,    207.6,2,   205.4,2,    1.80,2,    6.82,2,    0.00,2,    0.57,2,   2.375,2,   1.444,2,-999.000,1,    0.923,2,  -999.0,9,  -999.0,9,-999.0000,9,  -999.00,-999.000,9,-999.0000,9, -999.00,9, -999.00,9,  -999.0,9,  -999.0,-999.000,9,-999.000,  -999.0,9,-999.000,-999.0000, -999.00,  15.2673,  15.3065,2,20091209,       0852
318M20091121,        P06,      65,          2,         27,         27,2,20091209,       0655,   -31.2218,   177.6370,       4014,   301.9,  14.3939,  35.2942,  35.2942,2,    201.0,2,   204.3,2,    2.34,2,    8.41,2,    0.00,2,    0.67,2,   2.429,2,   1.461,2,-999.000,1,    0.813,2,  -999.0,9,  2318.9,2,   7.8859,2,    25.00,-999.000,9,-999.0000,9, -999.00,9, -999.00,9,  -999.0,9,  -999.0,-999.000,9,-999.000,  -999.0,9,-999.000,-999.0000, -999.00,  14.3492,  14.3927,2,20091209,       0850
318M20091121,        P06,      65,          2,         26,         26,4,20091209,       0655,   -31.2218,   177.6370,       4014,   352.0,  13.4978,  35.2006,  34.9115,4,    199.6,2,   202.5,3,    7.03,4,   15.56,4,    0.00,4,    1.11,4,   2.311,4,   1.324,4,-999.000,1,    0.648,4,  -999.0,9,  -999.0,9,-999.0000,9,  -999.00,-999.000,9,-999.0000,9, -999.00,9, -999.00,9,  -999.0,9,  -999.0,-999.000,9,-999.000,  -999.0,9,-999.000,-999.0000, -999.00,  13.4478,  13.5068,2,20091209,       0847
318M20091121,        P06,      65,          2,         25,         25,2,20091209,       0655,   -31.2218,   177.6370,       4014,   402.6,  12.2532,  35.0567,  35.0613,2,    202.1,2,   202.7,2,    4.19,2,   12.71,2,    0.00,2,    0.93,2,   2.462,2,   1.459,2,-999.000,1,     0.81,2,  -999.0,9,  2306.8,2,   7.8246,2,    25.00,-999.000,9,-999.0000,9, -999.00,9, -999.00,9,  -999.0,9,  -999.0,-999.000,9,-999.000,  -999.0,9,-999.000,-999.0000, -999.00,  12.1995,  12.2662,2,20091209,       0844
318M20091121,        P06,      65,          2,         24,         24,2,20091209,       0655,   -31.2218,   177.6370,       4014,   453.8,  11.4139,  34.9468,  34.9468,2,    199.8,2,   199.1,2,    4.94,2,   15.04,2,    0.00,2,    1.08,2,   2.420,2,   1.414,2,-999.000,1,     0.66,2,  -999.0,9,  -999.0,9,-999.0000,9,  -999.00,-999.000,9,-999.0000,9, -999.00,9, -999.00,9,  -999.0,9,  -999.0,-999.000,9,-999.000,  -999.0,9,-999.000,-999.0000, -999.00,  11.3560,  11.4134,2,20091209,       0841
318M20091121,        P06,      65,          2,         23,         23,2,20091209,       0655,   -31.2218,   177.6370,       4014,   503.5,  10.4388,  34.8215,  34.8170,2,    201.3,2,   200.9,2,    5.87,2,   17.08,2,    0.00,2,    1.21,2,   2.426,2,   1.375,2,-999.000,1,    0.598,2,  -999.0,9,  2298.9,2,   7.7783,2,    25.00,-999.000,9,-999.0000,9, -999.00,9, -999.00,9,  -999.0,9,  -999.0,-999.000,9,-999.000,  -999.0,9,-999.000,-999.0000, -999.00,  10.3780,  10.4489,2,20091209,       0839
318M20091121,        P06,      65,          2,         22,         22,2,20091209,       0655,   -31.2218,   177.6370,       4014,   604.0,   8.7872,  34.6193,  34.6190,2,    209.3,2,   207.7,2,    7.40,2,   20.11,2,    0.00,2,    1.41,2,   2.432,2,   1.358,2,-999.000,1,    0.529,2,  -999.0,9,  -999.0,9,-999.0000,9,  -999.00,-999.000,9,-999.0000,9, -999.00,9, -999.00,9,  -999.0,9,  -999.0,-999.000,9,-999.000,  -999.0,9,-999.000,-999.0000, -999.00,   8.7213,   8.7957,2,20091209,       0835
318M20091121,        P06,      65,          2,         21,         21,2,20091209,       0655,   -31.2218,   177.6370,       4014,   705.6,   7.6813,  34.5023,  34.5025,2,    212.9,2,   213.7,2,    9.52,2,   22.31,2,    0.00,2,    1.55,2,   2.137,2,   1.157,2,-999.000,1,    0.473,2,  -999.0,9,  2287.8,2,   7.7239,2,    25.00,-999.000,9,-999.0000,9, -999.00,9, -999.00,9,  -999.0,9,  -999.0,-999.000,9,-999.000,  -999.0,9,-999.000,-999.0000, -999.00,   7.6097,   7.6826,2,20091209,       0832
318M20091121,        P06,      65,          2,         20,         20,2,20091209,       0655,   -31.2218,   177.6370,       4014,   805.7,   6.7822,  34.4172,  34.4158,2,    217.0,2,   218.3,2,   12.05,2,   24.16,2,    0.00,2,    1.68,2,   1.770,2,   0.935,2,-999.000,1,    0.308,2,  -999.0,9,  -999.0,9,-999.0000,9,  -999.00,-999.000,9,-999.0000,9, -999.00,9, -999.00,9,  -999.0,9,  -999.0,-999.000,9,-999.000,  -999.0,9,-999.000,-999.0000, -999.00,   6.7055,   6.7648,2,20091209,       0828
318M20091121,        P06,      65,          2,         19,         19,2,20091209,       0655,   -31.2218,   177.6370,       4014,   906.2,   6.0259,  34.3804,  34.3805,2,    212.4,2,   212.6,2,   17.18,2,   26.26,2,    0.00,2,    1.83,2,   1.271,2,   0.668,2,-999.000,1,    0.137,2,  -999.0,9,  2326.0,4,   7.6913,2,    25.00,-999.000,9,-999.0000,9, -999.00,9, -999.00,9,  -999.0,9,  -999.0,-999.000,9,-999.000,  -999.0,9,-999.000,-999.0000, -999.00,   5.9441,   6.0291,2,20091209,       0825
318M20091121,        P06,      65,          2,         18,         18,2,20091209,       0655,   -31.2218,   177.6370,       4014,  1007.9,   5.3016,  34.3702,  34.3706,2,    204.3,2,   203.1,2,   25.52,2,   28.45,2,    0.00,2,    1.99,2,   0.788,2,   0.423,2,-999.000,1,        0,2,  -999.0,9,  2297.8,6,   7.6640,2,    25.00,-999.000,9,-999.0000,9, -999.00,9, -999.00,9,  -999.0,9,  -999.0,-999.000,9,-999.000,  -999.0,9,-999.000,-999.0000, -999.00,   5.2155,   5.2978,2,20091209,       0821
318M20091121,        P06,      65,          2,         17,         17,2,20091209,       0655,   -31.2218,   177.6370,       4014,  1108.7,   4.6445,  34.3863,  34.3862,2,    194.5,2,   190.5,2,   36.11,2,   30.43,2,    0.00,2,    2.13,2,   0.442,2,   0.246,2,-999.000,1,        0,2,  -999.0,9,  2306.1,2,   7.6371,2,    25.00,-999.000,9,-999.0000,9, -999.00,9, -999.00,9,  -999.0,9,  -999.0,-999.000,9,-999.000,  -999.0,9,-999.000,-999.0000, -999.00,   4.5545,   4.6449,2,20091209,       0818
318M20091121,        P06,      65,          2,         16,         16,2,20091209,       0655,   -31.2218,   177.6370,       4014,  1210.3,   4.0519,  34.4223,  34.4219,2,    184.0,2,   180.8,2,   48.57,2,   31.91,2,    0.00,2,    2.24,2,   0.244,2,   0.141,2,-999.000,1,        0,2,  -999.0,9,  2317.5,2,   7.6156,2,    25.00,-999.000,9,-999.0000,9, -999.00,9, -999.00,9,  -999.0,9,  -999.0,-999.000,9,-999.000,  -999.0,9,-999.000,-999.0000, -999.00,   3.9581,   4.0507,2,20091209,       0815
318M20091121,        P06,      65,          2,         15,         15,2,20091209,       0655,   -31.2218,   177.6370,       4014,  1311.9,   3.6228,  34.4685,  34.4689,2,    175.4,2,   172.6,2,   61.50,2,   32.78,2,    0.00,2,    2.31,2,   0.164,2,   0.104,2,-999.000,1,        0,2,  -999.0,9,  -999.0,9,-999.0000,9,  -999.00,-999.000,9,-999.0000,9, -999.00,9, -999.00,9,  -999.0,9,  -999.0,-999.000,9,-999.000,  -999.0,9,-999.000,-999.0000, -999.00,   3.5243,   3.6269,2,20091209,       0811
318M20091121,        P06,      65,          2,         14,         14,2,20091209,       0655,   -31.2218,   177.6370,       4014,  1414.1,   3.2617,  34.5220,  34.5204,2,    166.9,2,   165.6,2,   75.32,2,   33.31,2,    0.00,2,    2.36,2,   0.095,2,   0.062,2,-999.000,1,        0,2,  -999.0,9,  -999.0,9,-999.0000,9,  -999.00,-999.000,9,-999.0000,9, -999.00,9, -999.00,9,  -999.0,9,  -999.0,-999.000,9,-999.000,  -999.0,9,-999.000,-999.0000, -999.00,   3.1582,   3.2617,2,20091209,       0807
318M20091121,        P06,      65,          2,         13,         13,2,20091209,       0655,   -31.2218,   177.6370,       4014,  1513.9,   3.0205,  34.5635,  34.5625,2,    161.9,2,   161.2,2,   85.90,2,   33.60,2,    0.00,2,    2.39,2,   0.085,2,   0.054,2,-999.000,1,        0,2,  -999.0,9,  2362.6,2,   7.5933,2,    25.00,-999.000,9,-999.0000,9, -999.00,9, -999.00,9,  -999.0,9,  -999.0,-999.000,9,-999.000,  -999.0,9,-999.000,-999.0000, -999.00,   2.9113,   3.0262,2,20091209,       0803
318M20091121,        P06,      65,          2,         12,         12,2,20091209,       0655,   -31.2218,   177.6370,       4014,  1615.8,   2.8181,  34.5915,  34.5912,2,    158.3,2,   158.1,2,   94.47,2,   33.83,2,    0.00,2,    2.41,2,   0.142,4,   0.111,4,-999.000,1,        0,2,  -999.0,9,  -999.0,9,-999.0000,9,  -999.00,-999.000,9,-999.0000,9, -999.00,9, -999.00,9,  -999.0,9,  -999.0,-999.000,9,-999.000,  -999.0,9,-999.000,-999.0000, -999.00,   2.7027,   2.8181,2,20091209,       0759
318M20091121,        P06,      65,          2,         11,         11,2,20091209,       0655,   -31.2218,   177.6370,       4014,  1717.1,   2.5956,  34.6099,  34.6099,2,    156.2,2,   156.0,2,  101.21,2,   34.13,2,    0.00,2,    2.43,2,   0.059,2,   0.046,2,-999.000,1,        0,2,  -999.0,9,  -999.0,9,-999.0000,9,  -999.00,-999.000,9,-999.0000,9, -999.00,9, -999.00,9,  -999.0,9,  -999.0,-999.000,9,-999.000,  -999.0,9,-999.000,-999.0000, -999.00,   2.4745,   2.5965,2,20091209,       0756
318M20091121,        P06,      65,          2,         10,         10,2,20091209,       0655,   -31.2218,   177.6370,       4014,  1817.2,   2.4254,  34.6243,  34.6235,2,    154.6,2,   154.6,2,  106.51,2,   34.36,2,    0.00,2,    2.44,2,   0.028,2,   0.023,2,-999.000,1,        0,2,  -999.0,9,  2386.9,2,   7.5876,2,    25.00,-999.000,9,-999.0000,9, -999.00,9, -999.00,9,  -999.0,9,  -999.0,-999.000,9,-999.000,  -999.0,9,-999.000,-999.0000, -999.00,   2.2981,   2.4251,2,20091209,       0753
318M20091121,        P06,      65,          2,          9,          9,2,20091209,       0655,   -31.2218,   177.6370,       4014,  2020.1,   2.2445,  34.6395,  34.6400,2,    152.7,2,   153.0,2,  112.01,2,   34.56,2,    0.00,2,    2.46,2,   0.018,2,   0.042,3,-999.000,1,        0,2,  -999.0,9,  -999.0,9,-999.0000,9,  -999.00,-999.000,9,-999.0000,9, -999.00,9, -999.00,9,  -999.0,9,  -999.0,-999.000,9,-999.000,  -999.0,9,-999.000,-999.0000, -999.00,   2.1026,   2.2438,2,20091209,       0747
318M20091121,        P06,      65,          2,          8,          8,2,20091209,       0655,   -31.2218,   177.6370,       4014,  2276.0,   2.0522,  34.6567,  34.6570,2,    152.7,2,   152.8,2,  120.01,2,   34.69,2,    0.00,2,    2.47,2,   0.010,2,   0.011,2,-999.000,1,        0,2,  -999.0,9,  -999.0,9,-999.0000,9,  -999.00,-999.000,9,-999.0000,9, -999.00,9, -999.00,9,  -999.0,9,  -999.0,-999.000,9,-999.000,  -999.0,9,-999.000,-999.0000, -999.00,   1.8910,   2.0524,2,20091209,       0741
318M20091121,        P06,      65,          2,          7,          7,2,20091209,       0655,   -31.2218,   177.6370,       4014,  2530.4,   1.9316,  34.6682,  34.6684,2,    153.7,2,   153.9,2,  122.01,2,   34.74,2,    0.00,2,    2.47,2,   0.008,2,   0.010,2,-999.000,1,        0,2,  -999.0,9,  2403.1,2,   7.5861,2,    25.00,-999.000,9,-999.0000,9, -999.00,9, -999.00,9,  -999.0,9,  -999.0,-999.000,9,-999.000,  -999.0,9,-999.000,-999.0000, -999.00,   1.7497,   1.9315,2,20091209,       0735
318M20091121,        P06,      65,          2,          6,          6,2,20091209,       0655,   -31.2218,   177.6370,       4014,  2783.3,   1.8717,  34.6745,  34.6751,2,    154.3,2,   154.3,2,  123.39,2,   34.69,2,    0.00,2,    2.47,2,   0.012,2,   0.010,2,-999.000,1,        0,2,  -999.0,9,  -999.0,9,-999.0000,9,  -999.00,-999.000,9,-999.0000,9, -999.00,9, -999.00,9,  -999.0,9,  -999.0,-999.000,9,-999.000,  -999.0,9,-999.000,-999.0000, -999.00,   1.6675,   1.8715,2,20091209,       0728
318M20091121,        P06,      65,          2,          5,          5,2,20091209,       0655,   -31.2218,   177.6370,       4014,  3039.7,   1.8400,  34.6785,  34.6792,2,    154.9,2,   154.3,2,  124.36,2,   34.73,2,    0.00,2,    2.47,2,   0.011,2,   0.010,2,-999.000,1,        0,2,  -999.0,9,  -999.0,9,-999.0000,9,  -999.00,-999.000,9,-999.0000,9, -999.00,9, -999.00,9,  -999.0,9,  -999.0,-999.000,9,-999.000,  -999.0,9,-999.000,-999.0000, -999.00,   1.6118,   1.8399,2,20091209,       0722
318M20091121,        P06,      65,          2,          4,          4,2,20091209,       0655,   -31.2218,   177.6370,       4014,  3292.0,   1.8396,  34.6802,  34.6806,2,    155.2,2,   155.0,2,  124.93,2,   34.73,2,    0.00,2,    2.47,2,   0.011,2,   0.012,2,-999.000,1,        0,2,  -999.0,9,  2405.9,6,   7.5890,6,    25.00,-999.000,9,-999.0000,9, -999.00,9, -999.00,9,  -999.0,9,  -999.0,-999.000,9,-999.000,  -999.0,9,-999.000,-999.0000, -999.00,   1.5863,   1.8392,2,20091209,       0716
318M20091121,        P06,      65,          2,          3,          3,2,20091209,       0655,   -31.2218,   177.6370,       4014,  3548.8,   1.8495,  34.6814,  34.6818,2,    155.3,2,   155.1,2,  125.49,2,   34.73,2,    0.00,2,    2.46,2,   0.015,2,   0.011,2,-999.000,1,        0,2,  -999.0,9,  -999.0,9,-999.0000,9,  -999.00,-999.000,9,-999.0000,9, -999.00,9, -999.00,9,  -999.0,9,  -999.0,-999.000,9,-999.000,  -999.0,9,-999.000,-999.0000, -999.00,   1.5694,   1.8493,2,20091209,       0709
318M20091121,        P06,      65,          2,          2,          2,2,20091209,       0655,   -31.2218,   177.6370,       4014,  3785.2,   1.8649,  34.6819,  34.6825,2,    155.3,2,   155.6,2,  125.84,2,   34.78,2,    0.00,2,    2.46,2,   0.013,2,   0.012,2,-999.000,1,        0,2,  -999.0,9,  -999.0,9,-999.0000,9,  -999.00,-999.000,9,-999.0000,9, -999.00,9, -999.00,9,  -999.0,9,  -999.0,-999.000,9,-999.000,  -999.0,9,-999.000,-999.0000, -999.00,   1.5592,   1.8647,2,20091209,       0702
318M20091121,        P06,      65,          2,          1,          1,2,20091209,       0655,   -31.2218,   177.6370,       4014,  4056.6,   1.8918,  34.6820,  34.6825,2,    155.6,2,   155.5,2,  125.77,2,   34.72,2,    0.00,2,    2.47,2,   0.009,2,   0.007,2,-999.000,1,        0,2,  -999.0,9,  2406.9,2,   7.5943,2,    25.00,-999.000,9,-999.0000,9, -999.00,9, -999.00,9,  -999.0,9,  -999.0,-999.000,9,-999.000,  -999.0,9,-999.000,-999.0000, -999.00,   1.5555,   1.8915,2,20091209,       0655