BOTTLE,20220818CCHSIOAMB
EXPOCODE,SECT_ID,STNNBR,CASTNO,SAMPNO,BTLNBR,BTLNBR_FLAG_W,DATE,TIME,LATITUDE,LONGITUDE,DEPTH,CTDPRS,CTDTMP,CTDSAL,SALNTY,SALNTY_FLAG_W,CTDOXY,CTDOXY_FLAG_W,OXYGEN,OXYGEN_FLAG_W,SILCAT,SILCAT_FLAG_W,NITRAT,NITRAT_FLAG_W,NITRIT,NITRIT_FLAG_W,PHSPHT,PHSPHT_FLAG_W,CFC-11,CFC-11_FLAG_W,CFC-12,CFC-12_FLAG_W,CFC113,CFC113_FLAG_W,SF6,SF6_FLAG_W,TCARBN,TCARBN_FLAG_W,ALKALI,ALKALI_FLAG_W,PH_SWS,PH_SWS_FLAG_W,PH_TMP,TRITUM,TRITUM_FLAG_W,HELIUM,HELIUM_FLAG_W,DELHE3,DELHE3_FLAG_W,DELC13,DELC13_FLAG_W,DELC14,DELC14_FLAG_W,C14ERR,NEON,NEON_FLAG_W,NEONER,DOC,DOC_FLAG_W,TRITER,HELIER,DELHER,THETA,SBE35,SBE35_FLAG_W,BTL_DATE,BTL_TIME
,,,,,,,,,,,METERS,DBAR,ITS-90,PSS-78,PSS-78,,UMOL/KG,,UMOL/KG,,UMOL/KG,,UMOL/KG,,UMOL/KG,,UMOL/KG,,PMOL/KG,,PMOL/KG,,PMOL/KG,,FMOL/KG,,UMOL/KG,,UMOL/KG,,,,DEG C,TU,,NMOL/KG,,PERCNT,,/MILLE,,/MILLE,,/MILLE,NMOL/KG,,NMOL/KG,UMOL/KG,,TU,NMOL/KG,PERCNT,DEG C,ITS-90,,,
318M20091121,        P06,      37,          2,         30,         30,2,20091201,       1205,   -30.0800,   165.1200,       3372,     5.2,  22.3257,  35.7651,  35.7652,2,    222.2,2,   221.3,2,    0.44,2,    0.00,2,    0.00,2,    0.09,2,   2.028,2,   1.272,2,-999.000,1,    1.045,2,  2037.7,2,  2337.0,2,   8.0419,6,    25.00,-999.000,9,-999.0000,9, -999.00,9, -999.00,9,  -999.0,9,  -999.0,-999.000,9,-999.000,  -999.0,9,-999.000,-999.0000, -999.00,  22.3247,  22.3271,2,20091201,       1400
318M20091121,        P06,      37,          2,         29,         29,2,20091201,       1205,   -30.0800,   165.1200,       3372,    19.8,  21.8231,  35.7367,  35.7367,2,    225.7,2,   365.6,4,    0.43,2,    0.00,2,    0.00,2,    0.08,2,   2.066,6,   1.287,6,-999.000,1,    1.156,6,  -999.0,9,  -999.0,9,-999.0000,9,  -999.00,-999.000,9,-999.0000,9, -999.00,9, -999.00,9,  -999.0,9,  -999.0,-999.000,9,-999.000,  -999.0,9,-999.000,-999.0000, -999.00,  21.8192,  21.7904,3,20091201,       1358
318M20091121,        P06,      37,          2,         28,         28,2,20091201,       1205,   -30.0800,   165.1200,       3372,    40.1,  19.8299,  35.6573,  35.6588,2,    241.1,2,   240.4,2,    0.21,2,    0.00,2,    0.00,2,    0.07,2,   2.228,2,   1.375,2,-999.000,1,    1.109,2,  -999.0,9,  -999.0,9,-999.0000,9,  -999.00,-999.000,9,-999.0000,9, -999.00,9, -999.00,9,  -999.0,9,  -999.0,-999.000,9,-999.000,  -999.0,9,-999.000,-999.0000, -999.00,  19.8225,  19.8294,2,20091201,       1356
318M20091121,        P06,      37,          2,         27,         27,2,20091201,       1205,   -30.0800,   165.1200,       3372,    65.3,  19.0229,  35.6117,  35.6106,2,    226.4,2,   228.5,2,    0.41,2,    0.06,2,    0.01,2,    0.13,2,   2.221,2,   1.367,2,-999.000,1,    1.123,2,  2062.3,2,  2328.9,6,   8.0286,2,    25.00,-999.000,9,-999.0000,9, -999.00,9, -999.00,9,  -999.0,9,  -999.0,-999.000,9,-999.000,  -999.0,9,-999.000,-999.0000, -999.00,  19.0112,  19.0217,2,20091201,       1353
318M20091121,        P06,      37,          2,         26,         26,2,20091201,       1205,   -30.0800,   165.1200,       3372,    91.0,  18.4830,  35.6023,  35.6031,2,    212.3,2,   204.6,2,    0.79,2,    2.92,2,    0.11,2,    0.30,2,   2.234,2,   1.373,2,-999.000,1,    1.107,2,  -999.0,9,  -999.0,9,-999.0000,9,  -999.00,-999.000,9,-999.0000,9, -999.00,9, -999.00,9,  -999.0,9,  -999.0,-999.000,9,-999.000,  -999.0,9,-999.000,-999.0000, -999.00,  18.4671,  18.4856,2,20091201,       1351
318M20091121,        P06,      37,          2,         25,         25,2,20091201,       1205,   -30.0800,   165.1200,       3372,   135.4,  17.9124,  35.5848,  35.5849,2,    205.2,2,   200.9,2,    1.18,2,    4.28,2,    0.03,2,    0.38,2,   2.273,2,   1.380,2,-999.000,1,    1.054,2,  2091.4,3,  2329.0,2,   7.9692,2,    25.00,-999.000,9,-999.0000,9, -999.00,9, -999.00,9,  -999.0,9,  -999.0,-999.000,9,-999.000,  -999.0,9,-999.000,-999.0000, -999.00,  17.8892,  17.9105,2,20091201,       1348
318M20091121,        P06,      37,          2,         24,         24,2,20091201,       1205,   -30.0800,   165.1200,       3372,   186.0,  17.2388,  35.5491,  35.5483,2,    205.9,2,   202.7,2,    1.37,2,    4.85,2,    0.02,2,    0.42,2,   2.333,2,   1.410,2,-999.000,1,    1.043,2,  -999.0,9,  -999.0,9,-999.0000,9,  -999.00,-999.000,9,-999.0000,9, -999.00,9, -999.00,9,  -999.0,9,  -999.0,-999.000,9,-999.000,  -999.0,9,-999.000,-999.0000, -999.00,  17.2077,  17.2370,2,20091201,       1345
318M20091121,        P06,      37,          2,         23,         23,2,20091201,       1205,   -30.0800,   165.1200,       3372,   236.2,  16.2205,  35.4851,  35.4847,2,    196.9,2,   200.0,2,    1.96,2,    6.67,2,    0.02,2,    0.54,2,   2.387,2,   1.426,2,-999.000,1,    0.983,2,  2110.6,3,  2322.2,2,-999.0000,5,  -999.00,-999.000,9,-999.0000,9, -999.00,9, -999.00,9,  -999.0,9,  -999.0,-999.000,9,-999.000,  -999.0,9,-999.000,-999.0000, -999.00,  16.1826,  16.2203,2,20091201,       1342
318M20091121,        P06,      37,          2,         22,         22,2,20091201,       1205,   -30.0800,   165.1200,       3372,   286.1,  15.1003,  35.3666,  35.3763,2,    197.9,2,   191.9,2,    2.55,2,    9.00,2,    0.01,2,    0.68,2,   2.418,2,   1.418,2,-999.000,1,    0.816,2,  -999.0,9,  -999.0,9,-999.0000,9,  -999.00,-999.000,9,-999.0000,9, -999.00,9, -999.00,9,  -999.0,9,  -999.0,-999.000,9,-999.000,  -999.0,9,-999.000,-999.0000, -999.00,  15.0565,  15.1369,3,20091201,       1340
318M20091121,        P06,      37,          2,         21,         21,2,20091201,       1205,   -30.0800,   165.1200,       3372,   336.9,  14.2099,  35.3060,  35.3054,2,    199.3,2,   198.2,2,    3.14,2,   10.01,2,    0.01,2,    0.76,2,   2.477,2,   1.441,2,-999.000,1,    0.845,2,  2129.6,3,  2313.1,2,   7.8718,2,    25.00,-999.000,9,-999.0000,9, -999.00,9, -999.00,9,  -999.0,9,  -999.0,-999.000,9,-999.000,  -999.0,9,-999.000,-999.0000, -999.00,  14.1604,  14.1863,3,20091201,       1337
318M20091121,        P06,      37,          2,         20,         20,2,20091201,       1205,   -30.0800,   165.1200,       3372,   387.1,  13.3547,  35.2017,  35.1991,2,    196.4,2,   195.1,2,    3.93,2,   11.91,2,    0.01,2,    0.88,2,   2.488,2,   1.415,2,-999.000,1,    0.811,2,  -999.0,9,  -999.0,9,-999.0000,9,  -999.00,-999.000,9,-999.0000,9, -999.00,9, -999.00,9,  -999.0,9,  -999.0,-999.000,9,-999.000,  -999.0,9,-999.000,-999.0000, -999.00,  13.3000,  13.3519,2,20091201,       1334
318M20091121,        P06,      37,          2,         19,         19,2,20091201,       1205,   -30.0800,   165.1200,       3372,   467.4,  11.1606,  34.9146,  34.9093,2,    194.7,2,   194.7,2,    6.11,2,   16.28,2,    0.01,2,    1.16,2,   2.398,2,   1.294,2,-999.000,1,    0.603,2,  2151.1,3,  2296.4,2,   7.7879,2,    25.00,-999.000,9,-999.0000,9, -999.00,9, -999.00,9,  -999.0,9,  -999.0,-999.000,9,-999.000,  -999.0,9,-999.000,-999.0000, -999.00,  11.1018,  11.1577,2,20091201,       1331
318M20091121,        P06,      37,          2,         18,         18,4,20091201,       1205,   -30.0800,   165.1200,       3372,   567.9,   9.6295,  34.7576,  34.6268,4,    197.1,2,   201.3,4,   11.55,4,   21.65,4,    0.00,4,    1.51,4,   2.017,2,   1.049,2,-999.000,1,    0.253,2,  2168.1,3,  2291.4,2,   7.7281,2,    25.00,-999.000,9,-999.0000,9, -999.00,9, -999.00,9,  -999.0,9,  -999.0,-999.000,9,-999.000,  -999.0,9,-999.000,-999.0000, -999.00,   9.5641,   9.6346,2,20091201,       1327
318M20091121,        P06,      37,          2,         17,         17,2,20091201,       1205,   -30.0800,   165.1200,       3372,   668.8,   8.1616,  34.5906,  34.5909,2,    200.5,2,   201.3,2,   12.54,2,   22.36,2,    0.00,2,    1.56,2,   1.951,2,   1.002,2,-999.000,1,    0.275,2,  2168.6,3,  2292.5,6,   7.7214,2,    25.00,-999.000,9,-999.0000,9, -999.00,9, -999.00,9,  -999.0,9,  -999.0,-999.000,9,-999.000,  -999.0,9,-999.000,-999.0000, -999.00,   8.0915,   8.1583,2,20091201,       1322
318M20091121,        P06,      37,          2,         16,         16,2,20091201,       1205,   -30.0800,   165.1200,       3372,   768.0,   7.1736,  34.5067,  34.5079,2,    198.8,2,   202.6,2,   16.76,2,   24.47,2,    0.00,2,    1.70,2,   1.566,2,   0.789,2,-999.000,1,     0.23,2,  2181.3,3,  2295.8,2,   7.7024,6,    25.00,-999.000,9,-999.0000,9, -999.00,9, -999.00,9,  -999.0,9,  -999.0,-999.000,9,-999.000,  -999.0,9,-999.000,-999.0000, -999.00,   7.0983,   7.1684,2,20091201,       1318
318M20091121,        P06,      37,          2,         15,         15,2,20091201,       1205,   -30.0800,   165.1200,       3372,   870.9,   6.4907,  34.4699,  34.4710,2,    198.9,2,   200.3,2,   22.41,2,   26.23,2,    0.00,2,    1.83,2,   1.238,2,   0.620,2,-999.000,1,    0.155,2,  2183.8,2,  2292.2,2,   7.6871,2,    25.00,-999.000,9,-999.0000,9, -999.00,9, -999.00,9,  -999.0,9,  -999.0,-999.000,9,-999.000,  -999.0,9,-999.000,-999.0000, -999.00,   6.4092,   6.4914,2,20091201,       1314
318M20091121,        P06,      37,          2,         14,         14,2,20091201,       1205,   -30.0800,   165.1200,       3372,   970.9,   5.6778,  34.4535,  34.4539,2,    192.9,2,   192.7,2,   31.95,2,   28.33,2,    0.00,2,    1.98,2,   0.825,2,   0.418,2,-999.000,1,        0,2,  2199.5,2,  2299.9,2,   7.6646,2,    25.00,-999.000,9,-999.0000,9, -999.00,9, -999.00,9,  -999.0,9,  -999.0,-999.000,9,-999.000,  -999.0,9,-999.000,-999.0000, -999.00,   5.5922,   5.6785,2,20091201,       1311
318M20091121,        P06,      37,          2,         13,         13,2,20091201,       1205,   -30.0800,   165.1200,       3372,  1072.2,   5.0857,  34.4593,  34.4588,2,    185.9,2,   185.3,2,   41.12,2,   29.79,2,    0.00,2,    2.08,2,   0.585,2,   0.304,2,-999.000,1,        0,2,  2210.6,2,  2310.1,2,   7.6452,2,    25.00,-999.000,9,-999.0000,9, -999.00,9, -999.00,9,  -999.0,9,  -999.0,-999.000,9,-999.000,  -999.0,9,-999.000,-999.0000, -999.00,   4.9952,   5.0910,2,20091201,       1307
318M20091121,        P06,      37,          2,         12,         12,2,20091201,       1205,   -30.0800,   165.1200,       3372,  1174.6,   4.6259,  34.4792,  34.4792,2,    177.6,2,   178.1,2,   51.15,2,   30.95,2,    0.00,2,    2.17,2,   0.423,2,   0.223,2,-999.000,1,        0,2,  -999.0,9,  -999.0,9,-999.0000,9,  -999.00,-999.000,9,-999.0000,9, -999.00,9, -999.00,9,  -999.0,9,  -999.0,-999.000,9,-999.000,  -999.0,9,-999.000,-999.0000, -999.00,   4.5299,   4.6264,2,20091201,       1303
318M20091121,        P06,      37,          2,         11,         11,2,20091201,       1205,   -30.0800,   165.1200,       3372,  1275.8,   4.2102,  34.5050,  34.5050,2,    171.4,2,   171.8,2,   61.01,2,   31.91,2,    0.00,2,    2.24,2,   0.310,2,   0.169,2,-999.000,1,        0,2,  2247.3,2,  2334.3,2,   7.6186,2,    25.00,-999.000,9,-999.0000,9, -999.00,9, -999.00,9,  -999.0,9,  -999.0,-999.000,9,-999.000,  -999.0,9,-999.000,-999.0000, -999.00,   4.1090,   4.2081,2,20091201,       1300
318M20091121,        P06,      37,          2,         10,         10,2,20091201,       1205,   -30.0800,   165.1200,       3372,  1375.3,   3.8558,  34.5295,  34.5282,2,    165.9,2,   166.1,2,   69.68,2,   32.67,2,    0.00,2,    2.30,2,   0.218,2,   0.118,2,-999.000,1,        0,2,  -999.0,9,  -999.0,9,-999.0000,9,  -999.00,-999.000,9,-999.0000,9, -999.00,9, -999.00,9,  -999.0,9,  -999.0,-999.000,9,-999.000,  -999.0,9,-999.000,-999.0000, -999.00,   3.7493,   3.8617,2,20091201,       1256
318M20091121,        P06,      37,          2,          9,          9,2,20091201,       1205,   -30.0800,   165.1200,       3372,  1476.7,   3.4373,  34.5638,  34.5636,2,    160.4,2,   160.8,2,   80.65,2,   33.43,2,    0.00,2,    2.37,2,   0.154,2,   0.084,2,-999.000,1,        0,2,  2267.0,2,  2357.4,2,   7.5972,2,    25.00,-999.000,9,-999.0000,9, -999.00,9, -999.00,9,  -999.0,9,  -999.0,-999.000,9,-999.000,  -999.0,9,-999.000,-999.0000, -999.00,   3.3265,   3.4369,2,20091201,       1253
318M20091121,        P06,      37,          2,          8,          8,2,20091201,       1205,   -30.0800,   165.1200,       3372,  1578.6,   3.0895,  34.5858,  34.5864,2,    155.8,2,   155.7,2,   89.57,2,   34.09,2,    0.00,2,    2.42,2,   0.073,2,   0.041,2,-999.000,1,        0,2,  -999.0,9,  -999.0,9,-999.0000,9,  -999.00,-999.000,9,-999.0000,9, -999.00,9, -999.00,9,  -999.0,9,  -999.0,-999.000,9,-999.000,  -999.0,9,-999.000,-999.0000, -999.00,   2.9739,   3.0902,2,20091201,       1249
318M20091121,        P06,      37,          2,          7,          7,2,20091201,       1205,   -30.0800,   165.1200,       3372,  1750.6,   2.7178,  34.6131,  34.6137,2,    153.0,2,   152.9,2,   98.95,2,   34.65,2,    0.00,2,    2.45,2,   0.031,2,   0.020,2,-999.000,1,        0,2,  -999.0,9,  -999.0,9,-999.0000,9,  -999.00,-999.000,9,-999.0000,9, -999.00,9, -999.00,9,  -999.0,9,  -999.0,-999.000,9,-999.000,  -999.0,9,-999.000,-999.0000, -999.00,   2.5922,   2.7173,2,20091201,       1244
318M20091121,        P06,      37,          2,          6,          6,2,20091201,       1205,   -30.0800,   165.1200,       3372,  1951.9,   2.4171,  34.6378,  34.6383,2,    152.6,2,   152.3,2,  106.04,2,   34.86,2,    0.00,2,    2.47,2,   0.016,2,   0.012,2,-999.000,1,        0,2,  -999.0,9,  -999.0,9,-999.0000,9,  -999.00,-999.000,9,-999.0000,9, -999.00,9, -999.00,9,  -999.0,9,  -999.0,-999.000,9,-999.000,  -999.0,9,-999.000,-999.0000, -999.00,   2.2784,   2.4180,2,20091201,       1239
318M20091121,        P06,      37,          2,          5,          5,2,20091201,       1205,   -30.0800,   165.1200,       3372,  2188.7,   2.1904,  34.6578,  34.6599,3,    153.5,2,   153.6,2,  111.06,2,   34.96,2,    0.00,2,    2.46,2,   0.017,2,   0.011,2,-999.000,1,        0,2,  2302.9,2,  2391.9,2,   7.5861,2,    25.00,-999.000,9,-999.0000,9, -999.00,9, -999.00,9,  -999.0,9,  -999.0,-999.000,9,-999.000,  -999.0,9,-999.000,-999.0000, -999.00,   2.0346,   2.1920,2,20091201,       1233
318M20091121,        P06,      37,          2,          4,          4,2,20091201,       1205,   -30.0800,   165.1200,       3372,  2443.1,   2.0588,  34.6700,  34.6709,2,    154.9,2,   155.3,2,  113.99,2,   34.81,2,    0.00,2,    2.46,2,   0.022,2,   0.016,2,-999.000,1,        0,2,  -999.0,9,  -999.0,9,-999.0000,9,  -999.00,-999.000,9,-999.0000,9, -999.00,9, -999.00,9,  -999.0,9,  -999.0,-999.000,9,-999.000,  -999.0,9,-999.000,-999.0000, -999.00,   1.8825,   2.0583,2,20091201,       1227
318M20091121,        P06,      37,          2,          3,          3,2,20091201,       1205,   -30.0800,   165.1200,       3372,  2703.8,   1.9862,  34.6776,  34.6780,2,    156.0,2,   156.5,2,  115.87,2,   34.82,2,    0.00,2,    2.46,2,   0.020,2,   0.014,2,-999.000,1,        0,2,  2304.0,2,  2394.9,2,   7.5903,2,    25.00,-999.000,9,-999.0000,9, -999.00,9, -999.00,9,  -999.0,9,  -999.0,-999.000,9,-999.000,  -999.0,9,-999.000,-999.0000, -999.00,   1.7872,   1.9862,2,20091201,       1221
318M20091121,        P06,      37,          2,          2,          2,2,20091201,       1205,   -30.0800,   165.1200,       3372,  3051.2,   1.9315,  34.6833,  34.6837,2,    158.1,2,   158.0,2,  117.34,2,   34.51,2,    0.00,2,    2.45,2,   0.015,2,   0.009,2,-999.000,1,        0,2,  -999.0,9,  -999.0,9,-999.0000,9,  -999.00,-999.000,9,-999.0000,9, -999.00,9, -999.00,9,  -999.0,9,  -999.0,-999.000,9,-999.000,  -999.0,9,-999.000,-999.0000, -999.00,   1.7001,   1.9311,2,20091201,       1213
318M20091121,        P06,      37,          2,          1,          1,2,20091201,       1205,   -30.0800,   165.1200,       3372,  3405.4,   1.9216,  34.6861,  34.6871,2,    159.2,2,   159.3,2,  118.18,2,   34.56,2,    0.00,2,    2.45,2,   0.015,2,   0.011,2,-999.000,1,        0,2,  2304.0,2,  2396.9,6,   7.5985,2,    25.00,-999.000,9,-999.0000,9, -999.00,9, -999.00,9,  -999.0,9,  -999.0,-999.000,9,-999.000,  -999.0,9,-999.000,-999.0000, -999.00,   1.6546,   1.9213,2,20091201,       1205