BOTTLE,20220818CCHSIOAMB
EXPOCODE,SECT_ID,STNNBR,CASTNO,SAMPNO,BTLNBR,BTLNBR_FLAG_W,DATE,TIME,LATITUDE,LONGITUDE,DEPTH,CTDPRS,CTDTMP,CTDSAL,SALNTY,SALNTY_FLAG_W,CTDOXY,CTDOXY_FLAG_W,OXYGEN,OXYGEN_FLAG_W,SILCAT,SILCAT_FLAG_W,NITRAT,NITRAT_FLAG_W,NITRIT,NITRIT_FLAG_W,PHSPHT,PHSPHT_FLAG_W,CFC-11,CFC-11_FLAG_W,CFC-12,CFC-12_FLAG_W,CFC113,CFC113_FLAG_W,SF6,SF6_FLAG_W,TCARBN,TCARBN_FLAG_W,ALKALI,ALKALI_FLAG_W,PH_SWS,PH_SWS_FLAG_W,PH_TMP,TRITUM,TRITUM_FLAG_W,HELIUM,HELIUM_FLAG_W,DELHE3,DELHE3_FLAG_W,DELC13,DELC13_FLAG_W,DELC14,DELC14_FLAG_W,C14ERR,NEON,NEON_FLAG_W,NEONER,DOC,DOC_FLAG_W,TRITER,HELIER,DELHER,THETA,SBE35,SBE35_FLAG_W,BTL_DATE,BTL_TIME
,,,,,,,,,,,METERS,DBAR,ITS-90,PSS-78,PSS-78,,UMOL/KG,,UMOL/KG,,UMOL/KG,,UMOL/KG,,UMOL/KG,,UMOL/KG,,PMOL/KG,,PMOL/KG,,PMOL/KG,,FMOL/KG,,UMOL/KG,,UMOL/KG,,,,DEG C,TU,,NMOL/KG,,PERCNT,,/MILLE,,/MILLE,,/MILLE,NMOL/KG,,NMOL/KG,UMOL/KG,,TU,NMOL/KG,PERCNT,DEG C,ITS-90,,,
318M20091121,        P06,       5,          2,         35,         35,2,20091123,       1144,   -30.0800,   153.7500,       1879,     4.8,  21.4126,  35.4398,  35.4397,2,    225.4,2,   224.5,2,    0.73,2,    0.28,2,    0.00,2,    0.17,2,   1.963,2,   1.208,2,   0.042,2,    1.045,2,  2019.8,6,  2323.4,2,   7.9001,3,    25.00,-999.000,9,-999.0000,9, -999.00,9, -999.00,9,  -999.0,9,  -999.0,-999.000,9,-999.000,  -999.0,9,-999.000,-999.0000, -999.00,  21.4117,  21.4126,2,20091123,       1351
318M20091121,        P06,       5,          2,         34,         34,2,20091123,       1144,   -30.0800,   153.7500,       1879,    23.5,  21.4129,  35.4391,  35.4401,2,    224.2,2,   224.0,2,    0.11,2,    0.24,2,    0.00,2,    0.13,2,-999.000,9,-999.000,9,-999.000,9,-999.0000,9,  -999.0,9,  -999.0,9,-999.0000,9,  -999.00,-999.000,9,-999.0000,9, -999.00,9, -999.00,9,  -999.0,9,  -999.0,-999.000,9,-999.000,  -999.0,9,-999.000,-999.0000, -999.00,  21.4083,  21.4098,2,20091123,       1348
318M20091121,        P06,       5,          2,         33,         33,2,20091123,       1144,   -30.0800,   153.7500,       1879,    48.5,  18.4914,  35.5865,  35.5843,2,    193.6,2,   198.8,2,    0.11,2,    0.28,2,    0.01,2,    0.12,2,   2.145,6,   1.302,6,   0.035,2,   1.2775,6,  2065.8,2,  2329.5,6,   7.9729,2,    25.00,-999.000,9,-999.0000,9, -999.00,9, -999.00,9,  -999.0,9,  -999.0,-999.000,9,-999.000,  -999.0,9,-999.000,-999.0000, -999.00,  18.4829,  18.4947,2,20091123,       1346
318M20091121,        P06,       5,          2,         32,         32,2,20091123,       1144,   -30.0800,   153.7500,       1879,    74.8,  18.1063,  35.5851,  35.5841,2,    186.9,2,   187.9,2,    1.11,2,    4.10,2,    0.03,2,    0.40,2,-999.000,9,-999.000,9,-999.000,9,-999.0000,9,  -999.0,9,  -999.0,9,-999.0000,9,  -999.00,-999.000,9,-999.0000,9, -999.00,9, -999.00,9,  -999.0,9,  -999.0,-999.000,9,-999.000,  -999.0,9,-999.000,-999.0000, -999.00,  18.0934,  18.1041,2,20091123,       1343
318M20091121,        P06,       5,          2,         31,         31,2,20091123,       1144,   -30.0800,   153.7500,       1879,   100.1,  17.6696,  35.5613,  35.5630,2,    216.0,2,   212.6,2,    1.51,2,    5.55,2,    0.03,2,    0.47,2,   2.200,2,   1.346,2,   0.049,2,    1.162,2,  2062.0,2,  2305.6,3,   7.9826,2,    25.00,-999.000,9,-999.0000,9, -999.00,9, -999.00,9,  -999.0,9,  -999.0,-999.000,9,-999.000,  -999.0,9,-999.000,-999.0000, -999.00,  17.6526,  17.6650,2,20091123,       1340
318M20091121,        P06,       5,          2,         30,         30,2,20091123,       1144,   -30.0800,   153.7500,       1879,   125.3,  17.1173,  35.5558,  35.5537,2,    216.6,2,   218.0,2,    0.90,2,    3.23,2,    0.01,2,    0.33,2,-999.000,9,-999.000,9,-999.000,9,-999.0000,9,  -999.0,9,  -999.0,9,-999.0000,9,  -999.00,-999.000,9,-999.0000,9, -999.00,9, -999.00,9,  -999.0,9,  -999.0,-999.000,9,-999.000,  -999.0,9,-999.000,-999.0000, -999.00,  17.0965,  17.1224,2,20091123,       1338
318M20091121,        P06,       5,          2,         29,         29,2,20091123,       1144,   -30.0800,   153.7500,       1879,   150.2,  16.4427,  35.4903,  35.4855,2,    196.3,2,   196.2,2,    0.89,2,    3.61,2,    0.01,2,    0.34,2,   2.225,2,   1.344,2,   0.037,2,    1.047,2,  2088.6,2,  2321.3,2,   7.9292,2,    25.00,-999.000,9,-999.0000,9, -999.00,9, -999.00,9,  -999.0,9,  -999.0,-999.000,9,-999.000,  -999.0,9,-999.000,-999.0000, -999.00,  16.4184,  16.4388,2,20091123,       1336
318M20091121,        P06,       5,          2,         28,         28,2,20091123,       1144,   -30.0800,   153.7500,       1879,   176.5,  15.9369,  35.4581,  35.4576,2,    201.3,2,   200.6,2,    1.69,2,    6.84,2,    0.01,2,    0.55,2,-999.000,9,-999.000,9,-999.000,9,-999.0000,9,  -999.0,9,  -999.0,9,-999.0000,9,  -999.00,-999.000,9,-999.0000,9, -999.00,9, -999.00,9,  -999.0,9,  -999.0,-999.000,9,-999.000,  -999.0,9,-999.000,-999.0000, -999.00,  15.9090,  15.9336,2,20091123,       1333
318M20091121,        P06,       5,          2,         27,         27,2,20091123,       1144,   -30.0800,   153.7500,       1879,   201.7,  15.3228,  35.4168,  35.4153,2,    198.4,2,   199.0,2,    1.68,2,    6.98,2,    0.01,2,    0.57,2,   2.281,2,   1.378,2,   0.038,2,    1.112,2,  2097.0,2,  2320.7,2,   7.9098,2,    25.00,-999.000,9,-999.0000,9, -999.00,9, -999.00,9,  -999.0,9,  -999.0,-999.000,9,-999.000,  -999.0,9,-999.000,-999.0000, -999.00,  15.2917,  15.3235,2,20091123,       1331
318M20091121,        P06,       5,          2,         26,         26,2,20091123,       1144,   -30.0800,   153.7500,       1879,   226.6,  14.6259,  35.3187,  35.3176,2,    189.4,2,   189.2,2,    2.08,2,    7.88,2,    0.00,2,    0.63,2,-999.000,9,-999.000,9,-999.000,9,-999.0000,9,  -999.0,9,  -999.0,9,-999.0000,9,  -999.00,-999.000,9,-999.0000,9, -999.00,9, -999.00,9,  -999.0,9,  -999.0,-999.000,9,-999.000,  -999.0,9,-999.000,-999.0000, -999.00,  14.5920,  14.6238,2,20091123,       1329
318M20091121,        P06,       5,          2,         25,         25,2,20091123,       1144,   -30.0800,   153.7500,       1879,   255.3,  14.1968,  35.3110,  35.3145,2,    198.7,2,   197.9,2,    2.89,2,   10.18,2,    0.00,2,    0.78,2,   2.313,2,   1.382,2,   0.038,2,    1.039,2,  2109.1,2,  2315.8,2,   7.8719,2,    25.00,-999.000,9,-999.0000,9, -999.00,9, -999.00,9,  -999.0,9,  -999.0,-999.000,9,-999.000,  -999.0,9,-999.000,-999.0000, -999.00,  14.1594,  14.2024,2,20091123,       1326
318M20091121,        P06,       5,          2,         24,         24,2,20091123,       1144,   -30.0800,   153.7500,       1879,   300.4,  13.2196,  35.2017,  35.2016,2,    194.8,2,   193.8,2,    2.88,2,    9.85,2,    0.00,2,    0.77,2,-999.000,9,-999.000,9,-999.000,9,-999.0000,9,  -999.0,9,  -999.0,9,-999.0000,9,  -999.00,-999.000,9,-999.0000,9, -999.00,9, -999.00,9,  -999.0,9,  -999.0,-999.000,9,-999.000,  -999.0,9,-999.000,-999.0000, -999.00,  13.1776,  13.2210,2,20091123,       1322
318M20091121,        P06,       5,          2,         23,         23,2,20091123,       1144,   -30.0800,   153.7500,       1879,   350.9,  11.9062,  35.0450,  35.0444,2,    195.3,2,   196.7,2,    3.69,2,   12.06,2,    0.00,2,    0.92,2,   2.299,2,   1.324,2,   0.035,2,    0.737,2,  -999.0,9,  -999.0,9,-999.0000,9,  -999.00,-999.000,9,-999.0000,9, -999.00,9, -999.00,9,  -999.0,9,  -999.0,-999.000,9,-999.000,  -999.0,9,-999.000,-999.0000, -999.00,  11.8603,  11.9072,2,20091123,       1319
318M20091121,        P06,       5,          2,         22,         22,2,20091123,       1144,   -30.0800,   153.7500,       1879,   402.4,  11.1815,  34.9488,  34.9498,2,    196.2,2,   196.4,2,    4.90,2,   14.31,2,    0.00,2,    1.06,2,-999.000,9,-999.000,9,-999.000,9,-999.0000,9,  2134.0,2,  2312.5,2,   7.7836,2,    25.00,-999.000,9,-999.0000,9, -999.00,9, -999.00,9,  -999.0,9,  -999.0,-999.000,9,-999.000,  -999.0,9,-999.000,-999.0000, -999.00,  11.1309,  11.1819,2,20091123,       1316
318M20091121,        P06,       5,          2,         21,         21,2,20091123,       1144,   -30.0800,   153.7500,       1879,   452.5,  10.2692,  34.8262,  34.8249,2,    196.8,2,   197.0,2,    5.51,2,   15.81,2,    0.00,2,    1.16,2,   2.202,2,   1.253,2,   0.040,2,    0.603,2,  -999.0,9,  -999.0,9,-999.0000,9,  -999.00,-999.000,9,-999.0000,9, -999.00,9, -999.00,9,  -999.0,9,  -999.0,-999.000,9,-999.000,  -999.0,9,-999.000,-999.0000, -999.00,  10.2152,  10.2705,2,20091123,       1312
318M20091121,        P06,       5,          2,         20,         20,2,20091123,       1144,   -30.0800,   153.7500,       1879,   503.2,   9.5484,  34.7312,  34.7310,2,    197.0,2,   197.1,2,    6.73,2,   17.88,2,    0.00,2,    1.29,2,-999.000,9,-999.000,9,-999.000,9,-999.0000,9,  -999.0,9,  -999.0,9,-999.0000,9,  -999.00,-999.000,9,-999.0000,9, -999.00,9, -999.00,9,  -999.0,9,  -999.0,-999.000,9,-999.000,  -999.0,9,-999.000,-999.0000, -999.00,   9.4909,   9.5497,2,20091123,       1309
318M20091121,        P06,       5,          2,         19,         19,2,20091123,       1144,   -30.0800,   153.7500,       1879,   552.9,   8.8747,  34.6552,  34.6574,2,    199.7,2,   199.8,2,    7.95,2,   19.49,2,    0.00,2,    1.40,2,   2.083,2,   1.132,2,   0.047,2,    0.256,2,  2147.6,2,  2286.9,2,-999.0000,5,  -999.00,-999.000,9,-999.0000,9, -999.00,9, -999.00,9,  -999.0,9,  -999.0,-999.000,9,-999.000,  -999.0,9,-999.000,-999.0000, -999.00,   8.8142,   8.8628,2,20091123,       1306
318M20091121,        P06,       5,          2,         18,         18,2,20091123,       1144,   -30.0800,   153.7500,       1879,   604.0,   8.2812,  34.5920,  34.5920,2,    197.9,2,   198.7,2,    9.18,2,   20.81,2,    0.00,2,    1.49,2,-999.000,9,-999.000,9,-999.000,9,-999.0000,9,  -999.0,9,  -999.0,9,-999.0000,9,  -999.00,-999.000,9,-999.0000,9, -999.00,9, -999.00,9,  -999.0,9,  -999.0,-999.000,9,-999.000,  -999.0,9,-999.000,-999.0000, -999.00,   8.2176,   8.2811,2,20091123,       1302
318M20091121,        P06,       5,          2,         17,         17,2,20091123,       1144,   -30.0800,   153.7500,       1879,   653.5,   7.7129,  34.5400,  34.5407,2,    196.8,2,   197.3,2,   11.21,2,   22.31,2,    0.00,2,    1.58,2,   1.538,2,   0.804,2,   0.033,2,        0,2,  -999.0,9,  -999.0,9,-999.0000,9,  -999.00,-999.000,9,-999.0000,9, -999.00,9, -999.00,9,  -999.0,9,  -999.0,-999.000,9,-999.000,  -999.0,9,-999.000,-999.0000, -999.00,   7.6467,   7.7147,2,20091123,       1259
318M20091121,        P06,       5,          2,         16,         16,2,20091123,       1144,   -30.0800,   153.7500,       1879,   714.2,   7.0709,  34.4922,  34.4935,2,    196.9,2,   196.0,2,   13.66,2,   23.59,2,    0.00,2,    1.68,2,-999.000,9,-999.000,9,-999.000,9,-999.0000,9,  2164.8,2,  2288.8,6,   7.6942,2,    25.00,-999.000,9,-999.0000,9, -999.00,9, -999.00,9,  -999.0,9,  -999.0,-999.000,9,-999.000,  -999.0,9,-999.000,-999.0000, -999.00,   7.0017,   7.0715,2,20091123,       1255
318M20091121,        P06,       5,          2,         15,         15,2,20091123,       1144,   -30.0800,   153.7500,       1879,   806.4,   6.1647,  34.4484,  34.4461,2,    192.8,2,   193.0,2,   17.14,2,   25.11,2,    0.00,2,    1.79,2,   0.790,2,   0.418,2,   0.017,2,        0,2,  -999.0,9,  -999.0,9,-999.0000,9,  -999.00,-999.000,9,-999.0000,9, -999.00,9, -999.00,9,  -999.0,9,  -999.0,-999.000,9,-999.000,  -999.0,9,-999.000,-999.0000, -999.00,   6.0916,   6.1650,2,20091123,       1250
318M20091121,        P06,       5,          2,         14,         14,2,20091123,       1144,   -30.0800,   153.7500,       1879,   881.8,   5.6561,  34.4422,  34.4416,2,    186.7,2,   188.0,2,   31.35,2,   28.56,2,    0.00,2,    2.02,2,-999.000,9,-999.000,9,-999.000,9,-999.0000,9,  -999.0,9,  -999.0,9,-999.0000,9,  -999.00,-999.000,9,-999.0000,9, -999.00,9, -999.00,9,  -999.0,9,  -999.0,-999.000,9,-999.000,  -999.0,9,-999.000,-999.0000, -999.00,   5.5791,   5.6561,2,20091123,       1246
318M20091121,        P06,       5,          2,         13,         13,2,20091123,       1144,   -30.0800,   153.7500,       1879,   955.5,   5.2008,  34.4532,  34.4531,2,    180.8,2,   181.2,2,   39.21,2,   29.85,2,    0.00,2,    2.12,2,   0.429,2,   0.237,2,   0.012,2,        0,2,  2202.2,6,  2305.8,2,   7.6422,2,    25.00,-999.000,9,-999.0000,9, -999.00,9, -999.00,9,  -999.0,9,  -999.0,-999.000,9,-999.000,  -999.0,9,-999.000,-999.0000, -999.00,   5.1201,   5.2004,2,20091123,       1241
318M20091121,        P06,       5,          2,         12,         12,2,20091123,       1144,   -30.0800,   153.7500,       1879,  1032.7,   4.7066,  34.4674,  34.4671,2,    175.1,2,   175.5,2,   48.54,2,   31.03,2,    0.00,2,    2.21,2,-999.000,9,-999.000,9,-999.000,9,-999.0000,9,  -999.0,9,  -999.0,9,-999.0000,9,  -999.00,-999.000,9,-999.0000,9, -999.00,9, -999.00,9,  -999.0,9,  -999.0,-999.000,9,-999.000,  -999.0,9,-999.000,-999.0000, -999.00,   4.6227,   4.7086,2,20091123,       1237
318M20091121,        P06,       5,          2,         11,         11,2,20091123,       1144,   -30.0800,   153.7500,       1879,  1121.6,   4.2080,  34.4922,  34.4920,2,    166.9,2,   167.9,2,   59.77,2,   32.14,2,    0.00,2,    2.30,2,   0.179,2,   0.104,2,   0.008,2,        0,2,  -999.0,9,  -999.0,9,-999.0000,9,  -999.00,-999.000,9,-999.0000,9, -999.00,9, -999.00,9,  -999.0,9,  -999.0,-999.000,9,-999.000,  -999.0,9,-999.000,-999.0000, -999.00,   4.1203,   4.2086,2,20091123,       1233
318M20091121,        P06,       5,          2,         10,         10,2,20091123,       1144,   -30.0800,   153.7500,       1879,  1191.0,   3.9119,  34.5112,  34.5105,2,    163.4,2,   163.0,2,   67.51,2,   32.85,2,    0.00,2,    2.36,2,-999.000,9,-999.000,9,-999.000,9,-999.0000,9,  2243.0,2,  2341.3,2,   7.6022,2,    25.00,-999.000,9,-999.0000,9, -999.00,9, -999.00,9,  -999.0,9,  -999.0,-999.000,9,-999.000,  -999.0,9,-999.000,-999.0000, -999.00,   3.8209,   3.9127,2,20091123,       1227
318M20091121,        P06,       5,          2,          9,          9,2,20091123,       1144,   -30.0800,   153.7500,       1879,  1248.0,   3.7002,  34.5268,  34.5243,2,    159.9,2,   159.3,2,   73.57,2,   33.33,2,    0.00,2,    2.39,2,   0.076,2,   0.049,2,   0.006,2,        0,2,  -999.0,9,  -999.0,9,-999.0000,9,  -999.00,-999.000,9,-999.0000,9, -999.00,9, -999.00,9,  -999.0,9,  -999.0,-999.000,9,-999.000,  -999.0,9,-999.000,-999.0000, -999.00,   3.6063,   3.6979,2,20091123,       1222
318M20091121,        P06,       5,          2,          8,          8,2,20091123,       1144,   -30.0800,   153.7500,       1879,  1335.3,   3.3803,  34.5521,  34.5819,3,    155.0,2,   155.0,2,   87.20,3,   33.99,2,    0.00,2,    2.44,2,-999.000,9,-999.000,9,-999.000,9,-999.0000,9,  -999.0,9,  -999.0,9,-999.0000,9,  -999.00,-999.000,9,-999.0000,9, -999.00,9, -999.00,9,  -999.0,9,  -999.0,-999.000,9,-999.000,  -999.0,9,-999.000,-999.0000, -999.00,   3.2821,   3.3812,2,20091123,       1217
318M20091121,        P06,       5,          2,          7,          7,2,20091123,       1144,   -30.0800,   153.7500,       1879,  1386.7,   3.2635,  34.5622,  34.5616,2,    152.9,2,   153.1,2,   85.32,2,   34.14,2,    0.00,2,    2.46,2,   0.038,2,   0.023,2,   0.001,2,        0,2,  2267.6,2,  2359.7,2,   7.5855,2,    25.00,-999.000,9,-999.0000,9, -999.00,9, -999.00,9,  -999.0,9,  -999.0,-999.000,9,-999.000,  -999.0,9,-999.000,-999.0000, -999.00,   3.1622,   3.2638,2,20091123,       1213
318M20091121,        P06,       5,          2,          6,          6,2,20091123,       1144,   -30.0800,   153.7500,       1879,  1486.9,   2.9750,  34.5884,  34.5882,2,    151.2,2,   151.2,2,   92.04,2,   34.43,2,    0.00,2,    2.48,2,-999.000,9,-999.000,9,-999.000,9,-999.0000,9,  -999.0,9,  -999.0,9,-999.0000,9,  -999.00,-999.000,9,-999.0000,9, -999.00,9, -999.00,9,  -999.0,9,  -999.0,-999.000,9,-999.000,  -999.0,9,-999.000,-999.0000, -999.00,   2.8685,   2.9745,2,20091123,       1209
318M20091121,        P06,       5,          2,          5,          5,2,20091123,       1144,   -30.0800,   153.7500,       1879,  1589.5,   2.8091,  34.6049,  34.6037,2,    151.4,2,   152.5,2,   94.36,2,   34.38,2,    0.00,2,    2.48,2,   0.019,2,   0.012,2,   0.003,2,        0,2,  -999.0,9,  -999.0,9,-999.0000,9,  -999.00,-999.000,9,-999.0000,9, -999.00,9, -999.00,9,  -999.0,9,  -999.0,-999.000,9,-999.000,  -999.0,9,-999.000,-999.0000, -999.00,   2.6960,   2.8154,2,20091123,       1205
318M20091121,        P06,       5,          2,          4,          4,2,20091123,       1144,   -30.0800,   153.7500,       1879,  1690.5,   2.6811,  34.6190,  34.6190,2,    153.6,2,   153.8,2,   95.62,2,   34.29,2,    0.00,2,    2.47,2,-999.000,9,-999.000,9,-999.000,9,-999.0000,9,  2278.6,2,  2366.5,6,   7.5812,2,    25.00,-999.000,9,-999.0000,9, -999.00,9, -999.00,9,  -999.0,9,  -999.0,-999.000,9,-999.000,  -999.0,9,-999.000,-999.0000, -999.00,   2.5611,   2.6828,2,20091123,       1201
318M20091121,        P06,       5,          2,          3,          3,2,20091123,       1144,   -30.0800,   153.7500,       1879,  1793.9,   2.4772,  34.6428,  34.6424,2,    158.2,2,   158.2,2,   96.68,2,   33.96,2,    0.00,2,    2.44,2,   0.015,2,   0.009,2,   0.007,2,        0,2,  -999.0,9,  -999.0,9,-999.0000,9,  -999.00,-999.000,9,-999.0000,9, -999.00,9, -999.00,9,  -999.0,9,  -999.0,-999.000,9,-999.000,  -999.0,9,-999.000,-999.0000, -999.00,   2.3511,   2.4766,2,20091123,       1155
318M20091121,        P06,       5,          2,          2,          2,2,20091123,       1144,   -30.0800,   153.7500,       1879,  1830.8,   2.4605,  34.6457,  34.6456,2,    159.2,2,   159.7,2,   96.46,2,   33.87,2,    0.00,2,    2.43,2,-999.000,9,-999.000,9,-999.000,9,-999.0000,9,  -999.0,9,  -999.0,9,-999.0000,9,  -999.00,-999.000,9,-999.0000,9, -999.00,9, -999.00,9,  -999.0,9,  -999.0,-999.000,9,-999.000,  -999.0,9,-999.000,-999.0000, -999.00,   2.3315,   2.4605,2,20091123,       1148
318M20091121,        P06,       5,          2,          1,          1,2,20091123,       1144,   -30.0800,   153.7500,       1879,  1888.7,   2.3981,  34.6541,  34.6534,2,    161.6,2,   161.5,2,   96.04,2,   33.68,2,    0.00,2,    2.42,2,   0.017,2,   0.010,2,   0.007,2,        0,2,  2274.8,6,  2365.6,2,   7.5840,6,    25.00,-999.000,9,-999.0000,9, -999.00,9, -999.00,9,  -999.0,9,  -999.0,-999.000,9,-999.000,  -999.0,9,-999.000,-999.0000, -999.00,   2.2651,   2.3970,2,20091123,       1144