BOTTLE,20220818CCHSIOAMB
EXPOCODE,SECT_ID,STNNBR,CASTNO,SAMPNO,BTLNBR,BTLNBR_FLAG_W,DATE,TIME,LATITUDE,LONGITUDE,DEPTH,CTDPRS,CTDTMP,CTDSAL,SALNTY,SALNTY_FLAG_W,CTDOXY,CTDOXY_FLAG_W,OXYGEN,OXYGEN_FLAG_W,SILCAT,SILCAT_FLAG_W,NITRAT,NITRAT_FLAG_W,NITRIT,NITRIT_FLAG_W,PHSPHT,PHSPHT_FLAG_W,CFC-11,CFC-11_FLAG_W,CFC-12,CFC-12_FLAG_W,CFC113,CFC113_FLAG_W,SF6,SF6_FLAG_W,TCARBN,TCARBN_FLAG_W,ALKALI,ALKALI_FLAG_W,PH_SWS,PH_SWS_FLAG_W,PH_TMP,TRITUM,TRITUM_FLAG_W,HELIUM,HELIUM_FLAG_W,DELHE3,DELHE3_FLAG_W,DELC13,DELC13_FLAG_W,DELC14,DELC14_FLAG_W,C14ERR,NEON,NEON_FLAG_W,NEONER,DOC,DOC_FLAG_W,TRITER,HELIER,DELHER,THETA,SBE35,SBE35_FLAG_W,BTL_DATE,BTL_TIME
,,,,,,,,,,,METERS,DBAR,ITS-90,PSS-78,PSS-78,,UMOL/KG,,UMOL/KG,,UMOL/KG,,UMOL/KG,,UMOL/KG,,UMOL/KG,,PMOL/KG,,PMOL/KG,,PMOL/KG,,FMOL/KG,,UMOL/KG,,UMOL/KG,,,,DEG C,TU,,NMOL/KG,,PERCNT,,/MILLE,,/MILLE,,/MILLE,NMOL/KG,,NMOL/KG,UMOL/KG,,TU,NMOL/KG,PERCNT,DEG C,ITS-90,,,
318M20091121,        P06,      57,          1,         36,         36,2,20091206,       2139,   -30.0798,   174.5000,       3624,     6.6,  21.2263,  35.5842,  35.5826,2,    226.4,2,   226.4,2,    0.42,2,   -0.01,2,    0.01,2,    0.10,2,   1.987,2,   1.258,2,-999.000,1,    1.229,2,  2033.3,6,  2329.6,2,   8.0192,2,    25.00,-999.000,9,-999.0000,9, -999.00,9, -999.00,9,  -999.0,9,  -999.0,-999.000,9,-999.000,  -999.0,9,-999.000,-999.0000, -999.00,  21.2250,  21.2289,2,20091206,       2337
318M20091121,        P06,      57,          1,         35,         35,2,20091206,       2139,   -30.0798,   174.5000,       3624,    35.1,  19.0211,  35.5853,  35.5854,2,    234.1,2,   232.4,2,    0.41,2,   -0.01,2,    0.01,2,    0.11,2,   2.112,2,   1.323,2,-999.000,1,     1.23,2,  -999.0,9,  2330.7,6,   8.0170,6,    25.00,-999.000,9,-999.0000,9, -999.00,9, -999.00,9,  -999.0,9,  -999.0,-999.000,9,-999.000,  -999.0,9,-999.000,-999.0000, -999.00,  19.0148,  19.0224,2,20091206,       2334
318M20091121,        P06,      57,          1,         34,         34,2,20091206,       2139,   -30.0798,   174.5000,       3624,    60.4,  18.4004,  35.6244,  35.6242,2,    238.4,2,   239.0,2,    0.39,2,   -0.01,2,    0.01,2,    0.11,2,   2.191,2,   1.374,2,-999.000,1,    1.178,2,  -999.0,9,  -999.0,9,-999.0000,9,  -999.00,-999.000,9,-999.0000,9, -999.00,9, -999.00,9,  -999.0,9,  -999.0,-999.000,9,-999.000,  -999.0,9,-999.000,-999.0000, -999.00,  18.3899,  18.4048,2,20091206,       2332
318M20091121,        P06,      57,          1,         33,         33,2,20091206,       2139,   -30.0798,   174.5000,       3624,    85.5,  17.6941,  35.5959,  35.5973,2,    233.0,2,   233.8,2,    0.38,2,    0.00,2,    0.11,2,    0.15,2,   2.219,2,   1.378,2,-999.000,1,     1.21,2,  -999.0,9,  2333.2,2,   8.0011,2,    25.00,-999.000,9,-999.0000,9, -999.00,9, -999.00,9,  -999.0,9,  -999.0,-999.000,9,-999.000,  -999.0,9,-999.000,-999.0000, -999.00,  17.6796,  17.6938,2,20091206,       2330
318M20091121,        P06,      57,          1,         32,         32,2,20091206,       2139,   -30.0798,   174.5000,       3624,   110.0,  17.3452,  35.5953,  35.5953,2,    227.4,2,   229.5,2,    0.57,2,    0.82,2,    0.20,2,    0.21,2,   2.229,2,   1.395,2,-999.000,1,    1.191,2,  -999.0,9,  -999.0,9,-999.0000,9,  -999.00,-999.000,9,-999.0000,9, -999.00,9, -999.00,9,  -999.0,9,  -999.0,-999.000,9,-999.000,  -999.0,9,-999.000,-999.0000, -999.00,  17.3268,  17.3428,2,20091206,       2327
318M20091121,        P06,      57,          1,         31,         31,2,20091206,       2139,   -30.0798,   174.5000,       3624,   131.9,  17.0867,  35.5753,  35.5870,4,    220.5,2,   220.9,2,    0.75,2,    2.53,2,    0.04,2,    0.29,2,   2.251,2,   1.419,2,-999.000,1,    1.421,4,  -999.0,9,  2331.6,2,   7.9682,2,    25.00,-999.000,9,-999.0000,9, -999.00,9, -999.00,9,  -999.0,9,  -999.0,-999.000,9,-999.000,  -999.0,9,-999.000,-999.0000, -999.00,  17.0648,  17.0862,2,20091206,       2325
318M20091121,        P06,      57,          1,         30,         30,2,20091206,       2139,   -30.0798,   174.5000,       3624,   162.8,  16.9060,  35.5666,  35.5663,2,    219.5,2,   218.9,2,    0.94,2,    3.12,2,    0.03,2,    0.33,2,   2.267,2,   1.428,2,-999.000,1,    1.142,2,  -999.0,9,  -999.0,9,-999.0000,9,  -999.00,-999.000,9,-999.0000,9, -999.00,9, -999.00,9,  -999.0,9,  -999.0,-999.000,9,-999.000,  -999.0,9,-999.000,-999.0000, -999.00,  16.8791,  16.9096,2,20091206,       2323
318M20091121,        P06,      57,          1,         29,         29,2,20091206,       2139,   -30.0798,   174.5000,       3624,   213.8,  16.1779,  35.5011,  35.4903,2,    204.8,2,   204.2,2,    1.52,2,    5.96,2,    0.01,2,    0.51,2,   2.281,2,   1.414,2,-999.000,1,    1.104,2,  -999.0,9,  2326.5,2,   7.9355,2,    25.00,-999.000,9,-999.0000,9, -999.00,9, -999.00,9,  -999.0,9,  -999.0,-999.000,9,-999.000,  -999.0,9,-999.000,-999.0000, -999.00,  16.1437,  16.1783,2,20091206,       2321
318M20091121,        P06,      57,          1,         28,         28,2,20091206,       2139,   -30.0798,   174.5000,       3624,   263.8,  15.0249,  35.3774,  35.3795,2,    199.9,2,   202.8,2,    2.31,2,    7.91,2,    0.01,2,    0.63,2,   2.351,2,   1.435,2,-999.000,1,    1.012,2,  -999.0,9,  -999.0,9,-999.0000,9,  -999.00,-999.000,9,-999.0000,9, -999.00,9, -999.00,9,  -999.0,9,  -999.0,-999.000,9,-999.000,  -999.0,9,-999.000,-999.0000, -999.00,  14.9847,  15.0128,2,20091206,       2318
318M20091121,        P06,      57,          1,         27,         27,2,20091206,       2139,   -30.0798,   174.5000,       3624,   314.9,  13.9148,  35.2622,  35.2473,3,    201.8,2,   198.2,2,    3.31,2,   10.43,2,    0.01,2,    0.79,2,   2.368,6,   1.412,6,-999.000,1,   0.9145,6,  -999.0,9,  2315.2,2,   7.8607,2,    25.00,-999.000,9,-999.0000,9, -999.00,9, -999.00,9,  -999.0,9,  -999.0,-999.000,9,-999.000,  -999.0,9,-999.000,-999.0000, -999.00,  13.8692,  13.8989,2,20091206,       2316
318M20091121,        P06,      57,          1,         26,         26,2,20091206,       2139,   -30.0798,   174.5000,       3624,   365.8,  12.9827,  35.1301,  35.1313,2,    200.8,2,   200.6,2,    3.50,2,   11.33,2,    0.01,2,    0.86,2,   2.441,2,   1.451,2,-999.000,1,    0.887,2,  -999.0,9,  -999.0,9,-999.0000,9,  -999.00,-999.000,9,-999.0000,9, -999.00,9, -999.00,9,  -999.0,9,  -999.0,-999.000,9,-999.000,  -999.0,9,-999.000,-999.0000, -999.00,  12.9320,  12.9845,2,20091206,       2313
318M20091121,        P06,      57,          1,         25,         25,2,20091206,       2139,   -30.0798,   174.5000,       3624,   416.5,  11.6853,  34.9307,  34.9297,2,    199.8,2,   199.9,2,    3.89,2,   13.93,2,    0.01,2,    1.03,2,   2.482,2,   1.409,2,-999.000,1,    0.799,2,  -999.0,9,  2300.9,2,   7.7946,2,    25.00,-999.000,9,-999.0000,9, -999.00,9, -999.00,9,  -999.0,9,  -999.0,-999.000,9,-999.000,  -999.0,9,-999.000,-999.0000, -999.00,  11.6314,  11.6850,2,20091206,       2310
318M20091121,        P06,      57,          1,         24,         24,2,20091206,       2139,   -30.0798,   174.5000,       3624,   467.3,  10.6009,  34.8240,  34.8239,2,    202.3,2,   201.0,2,    5.48,2,   16.43,2,    0.01,2,    1.18,2,   2.414,2,   1.372,2,-999.000,1,    0.712,2,  -999.0,9,  -999.0,9,-999.0000,9,  -999.00,-999.000,9,-999.0000,9, -999.00,9, -999.00,9,  -999.0,9,  -999.0,-999.000,9,-999.000,  -999.0,9,-999.000,-999.0000, -999.00,  10.5440,  10.6035,2,20091206,       2308
318M20091121,        P06,      57,          1,         23,         23,2,20091206,       2139,   -30.0798,   174.5000,       3624,   538.2,   9.4622,  34.6848,  34.6906,2,    205.5,2,   205.7,2,    6.27,2,   18.52,2,    0.01,2,    1.32,2,   2.418,2,   1.337,2,-999.000,1,    0.593,2,  -999.0,9,  2293.7,2,   7.7571,2,    25.00,-999.000,9,-999.0000,9, -999.00,9, -999.00,9,  -999.0,9,  -999.0,-999.000,9,-999.000,  -999.0,9,-999.000,-999.0000, -999.00,   9.4010,   9.5133,3,20091206,       2305
318M20091121,        P06,      57,          1,         22,         22,2,20091206,       2139,   -30.0798,   174.5000,       3624,   639.9,   8.0831,  34.5241,  34.5231,2,    214.9,2,   215.0,2,    7.67,2,   21.11,2,    0.00,2,    1.49,2,   2.329,2,   1.254,2,-999.000,1,    0.394,2,  -999.0,9,  -999.0,9,-999.0000,9,  -999.00,-999.000,9,-999.0000,9, -999.00,9, -999.00,9,  -999.0,9,  -999.0,-999.000,9,-999.000,  -999.0,9,-999.000,-999.0000, -999.00,   8.0166,   8.0839,2,20091206,       2302
318M20091121,        P06,      57,          1,         21,         21,2,20091206,       2139,   -30.0798,   174.5000,       3624,   736.8,   7.2547,  34.4504,  34.4490,2,    216.9,2,   217.2,2,   10.09,2,   23.04,2,    0.00,2,    1.62,2,   1.959,2,   1.046,2,-999.000,1,    0.282,2,  -999.0,9,  2287.4,6,   7.7193,2,    25.00,-999.000,9,-999.0000,9, -999.00,9, -999.00,9,  -999.0,9,  -999.0,-999.000,9,-999.000,  -999.0,9,-999.000,-999.0000, -999.00,   7.1822,   7.2546,2,20091206,       2259
318M20091121,        P06,      57,          1,         20,         20,2,20091206,       2139,   -30.0798,   174.5000,       3624,   838.0,   6.3770,  34.3881,  34.3878,2,    214.2,2,   216.0,2,   14.32,2,   25.26,2,    0.00,2,    1.77,2,   1.443,2,   0.757,2,-999.000,1,    0.211,2,  -999.0,9,  -999.0,9,-999.0000,9,  -999.00,-999.000,9,-999.0000,9, -999.00,9, -999.00,9,  -999.0,9,  -999.0,-999.000,9,-999.000,  -999.0,9,-999.000,-999.0000, -999.00,   6.2996,   6.3757,2,20091206,       2256
318M20091121,        P06,      57,          1,         19,         19,2,20091206,       2139,   -30.0798,   174.5000,       3624,   940.7,   5.7405,  34.3792,  34.3785,2,    206.5,2,   206.2,2,   21.40,2,   27.36,2,    0.00,2,    1.93,2,   0.944,2,   0.497,2,-999.000,1,    0.098,2,  -999.0,9,  2293.1,2,   7.6692,2,    25.00,-999.000,9,-999.0000,9, -999.00,9, -999.00,9,  -999.0,9,  -999.0,-999.000,9,-999.000,  -999.0,9,-999.000,-999.0000, -999.00,   5.6574,   5.7397,2,20091206,       2253
318M20091121,        P06,      57,          1,         18,         18,2,20091206,       2139,   -30.0798,   174.5000,       3624,  1042.5,   4.9797,  34.3783,  34.3780,2,    195.7,2,   195.5,2,   31.58,2,   29.64,2,    0.00,2,    2.08,2,   0.537,2,   0.295,2,-999.000,1,        0,2,  -999.0,9,  -999.0,9,-999.0000,9,  -999.00,-999.000,9,-999.0000,9, -999.00,9, -999.00,9,  -999.0,9,  -999.0,-999.000,9,-999.000,  -999.0,9,-999.000,-999.0000, -999.00,   4.8929,   4.9779,2,20091206,       2249
318M20091121,        P06,      57,          1,         17,         17,2,20091206,       2139,   -30.0798,   174.5000,       3624,  1143.8,   4.3117,  34.4111,  34.4102,2,    182.8,2,   183.4,2,   44.88,2,   31.45,2,    0.00,2,    2.21,2,   0.282,2,   0.158,2,-999.000,1,        0,2,  -999.0,9,  2314.8,2,   7.6102,2,    25.00,-999.000,9,-999.0000,9, -999.00,9, -999.00,9,  -999.0,9,  -999.0,-999.000,9,-999.000,  -999.0,9,-999.000,-999.0000, -999.00,   4.2214,   4.3163,2,20091206,       2246
318M20091121,        P06,      57,          1,         16,         16,2,20091206,       2139,   -30.0798,   174.5000,       3624,  1241.0,   3.7031,  34.4603,  34.4671,3,    172.8,2,   172.6,2,   60.73,2,   32.75,2,    0.00,2,    2.33,2,   0.167,2,   0.101,2,-999.000,1,        0,2,  -999.0,9,  -999.0,9,-999.0000,9,  -999.00,-999.000,9,-999.0000,9, -999.00,9, -999.00,9,  -999.0,9,  -999.0,-999.000,9,-999.000,  -999.0,9,-999.000,-999.0000, -999.00,   3.6099,   3.7035,2,20091206,       2243
318M20091121,        P06,      57,          1,         15,         15,2,20091206,       2139,   -30.0798,   174.5000,       3624,  1343.6,   3.4054,  34.5039,  34.5033,2,    167.4,2,   166.8,2,   72.10,2,   33.32,2,    0.00,2, -999.00,5,   0.095,2,   0.056,2,-999.000,1,        0,2,  -999.0,9,  2346.9,2,   7.5981,2,    25.00,-999.000,9,-999.0000,9, -999.00,9, -999.00,9,  -999.0,9,  -999.0,-999.000,9,-999.000,  -999.0,9,-999.000,-999.0000, -999.00,   3.3064,   3.4057,2,20091206,       2240
318M20091121,        P06,      57,          1,         14,         14,2,20091206,       2139,   -30.0798,   174.5000,       3624,  1445.4,   3.1444,  34.5431,  34.5420,2,    162.3,2,   161.9,2,   82.67,2,   33.60,2,    0.00,2,    2.40,2,   0.070,2,   0.042,2,-999.000,1,        0,2,  -999.0,9,  -999.0,9,-999.0000,9,  -999.00,-999.000,9,-999.0000,9, -999.00,9, -999.00,9,  -999.0,9,  -999.0,-999.000,9,-999.000,  -999.0,9,-999.000,-999.0000, -999.00,   3.0396,   3.1406,2,20091206,       2236
318M20091121,        P06,      57,          1,         13,         13,2,20091206,       2139,   -30.0798,   174.5000,       3624,  1547.9,   2.9315,  34.5708,  34.5697,2,    158.4,2,   159.0,2,   90.77,2,   33.93,2,    0.00,2,    2.41,2,   0.054,2,   0.032,2,-999.000,1,        0,2,  -999.0,9,  -999.0,9,-999.0000,9,  -999.00,-999.000,9,-999.0000,9, -999.00,9, -999.00,9,  -999.0,9,  -999.0,-999.000,9,-999.000,  -999.0,9,-999.000,-999.0000, -999.00,   2.8205,   2.9334,2,20091206,       2233
318M20091121,        P06,      57,          1,         12,         12,2,20091206,       2139,   -30.0798,   174.5000,       3624,  1649.7,   2.7151,  34.5953,  34.5947,2,    155.9,2,   156.3,2,   98.67,2,   34.25,2,    0.00,2,    2.45,2,   0.039,2,   0.026,2,-999.000,1,        0,2,  -999.0,9,  2375.0,2,   7.5870,2,    25.00,-999.000,9,-999.0000,9, -999.00,9, -999.00,9,  -999.0,9,  -999.0,-999.000,9,-999.000,  -999.0,9,-999.000,-999.0000, -999.00,   2.5981,   2.7154,2,20091206,       2230
318M20091121,        P06,      57,          1,         11,         11,2,20091206,       2139,   -30.0798,   174.5000,       3624,  1752.9,   2.5860,  34.6082,  34.6081,2,    154.6,2,   155.0,2,  103.03,2,   34.39,2,    0.00,2,    2.46,2,   0.034,2,   0.020,2,-999.000,1,        0,2,  -999.0,9,  -999.0,9,-999.0000,9,  -999.00,-999.000,9,-999.0000,9, -999.00,9, -999.00,9,  -999.0,9,  -999.0,-999.000,9,-999.000,  -999.0,9,-999.000,-999.0000, -999.00,   2.4620,   2.5850,2,20091206,       2227
318M20091121,        P06,      57,          1,         10,         10,2,20091206,       2139,   -30.0798,   174.5000,       3624,  1880.3,   2.4194,  34.6237,  34.6237,2,    153.5,2,   153.2,2,  108.43,2,   34.57,2,    0.00,2,    2.49,2,   0.024,2,   0.013,2,-999.000,1,        0,2,  -999.0,9,  -999.0,9,-999.0000,9,  -999.00,-999.000,9,-999.0000,9, -999.00,9, -999.00,9,  -999.0,9,  -999.0,-999.000,9,-999.000,  -999.0,9,-999.000,-999.0000, -999.00,   2.2869,   2.4212,2,20091206,       2223
318M20091121,        P06,      57,          1,          9,          9,2,20091206,       2139,   -30.0798,   174.5000,       3624,  2086.1,   2.2323,  34.6406,  34.6402,2,    152.8,2,   152.8,2,  114.05,2,   34.71,2,    0.00,2,    2.49,2,   0.021,2,   0.011,2,-999.000,1,        0,2,  -999.0,9,  2390.8,2,   7.5758,2,    25.00,-999.000,9,-999.0000,9, -999.00,9, -999.00,9,  -999.0,9,  -999.0,-999.000,9,-999.000,  -999.0,9,-999.000,-999.0000, -999.00,   2.0849,   2.2327,2,20091206,       2218
318M20091121,        P06,      57,          1,          8,          8,2,20091206,       2139,   -30.0798,   174.5000,       3624,  2285.6,   2.1126,  34.6516,  34.6552,3,    152.8,2,   152.1,2,  117.80,2,   34.76,2,    0.00,2,    2.49,2,   0.021,2,   0.016,2,-999.000,1,        0,2,  -999.0,9,  -999.0,9,-999.0000,9,  -999.00,-999.000,9,-999.0000,9, -999.00,9, -999.00,9,  -999.0,9,  -999.0,-999.000,9,-999.000,  -999.0,9,-999.000,-999.0000, -999.00,   1.9496,   2.1123,2,20091206,       2214
318M20091121,        P06,      57,          1,          7,          7,2,20091206,       2139,   -30.0798,   174.5000,       3624,  2490.4,   2.0032,  34.6620,  34.6619,2,    153.3,2,   153.2,2,  120.49,2,   34.85,2,    0.00,2,    2.50,2,   0.011,2,   0.006,2,-999.000,1,        0,2,  -999.0,9,  2399.2,2,   7.5713,2,    25.00,-999.000,9,-999.0000,9, -999.00,9, -999.00,9,  -999.0,9,  -999.0,-999.000,9,-999.000,  -999.0,9,-999.000,-999.0000, -999.00,   1.8237,   2.0038,2,20091206,       2209
318M20091121,        P06,      57,          1,          6,          6,2,20091206,       2139,   -30.0798,   174.5000,       3624,  2696.1,   1.9066,  34.6711,  34.6712,2,    153.9,2,   153.7,2,  123.17,2,   34.79,2,    0.00,2,    2.50,2,   0.042,4,   0.027,4,-999.000,1,        0,2,  -999.0,9,  -999.0,9,-999.0000,9,  -999.00,-999.000,9,-999.0000,9, -999.00,9, -999.00,9,  -999.0,9,  -999.0,-999.000,9,-999.000,  -999.0,9,-999.000,-999.0000, -999.00,   1.7099,   1.9066,2,20091206,       2204
318M20091121,        P06,      57,          1,          5,          5,2,20091206,       2139,   -30.0798,   174.5000,       3624,  2897.3,   1.8631,  34.6756,  34.6754,2,    154.3,2,   154.7,2,  124.81,2,   34.87,2,    0.00,2,    2.49,2,   0.009,2,   0.006,2,-999.000,1,        0,2,  -999.0,9,  2405.3,2,   7.5853,2,    25.00,-999.000,9,-999.0000,9, -999.00,9, -999.00,9,  -999.0,9,  -999.0,-999.000,9,-999.000,  -999.0,9,-999.000,-999.0000, -999.00,   1.6482,   1.8632,2,20091206,       2159
318M20091121,        P06,      57,          1,          4,          4,2,20091206,       2139,   -30.0798,   174.5000,       3624,  3101.8,   1.8448,  34.6785,  34.6785,2,    154.1,2,   154.2,2,  125.83,2,   34.86,2,    0.00,2,    2.50,2,   0.008,2,   0.005,2,-999.000,1,        0,2,  -999.0,9,  -999.0,9,-999.0000,9,  -999.00,-999.000,9,-999.0000,9, -999.00,9, -999.00,9,  -999.0,9,  -999.0,-999.000,9,-999.000,  -999.0,9,-999.000,-999.0000, -999.00,   1.6104,   1.8448,2,20091206,       2154
318M20091121,        P06,      57,          1,          3,          3,2,20091206,       2139,   -30.0798,   174.5000,       3624,  3308.0,   1.8421,  34.6803,  34.6803,2,    154.1,2,   154.8,2,  126.43,2,   34.86,2,    0.00,2,    2.49,2,   0.006,2,   0.005,2,-999.000,1,        0,2,  -999.0,9,  2407.3,2,   7.5893,2,    25.00,-999.000,9,-999.0000,9, -999.00,9, -999.00,9,  -999.0,9,  -999.0,-999.000,9,-999.000,  -999.0,9,-999.000,-999.0000, -999.00,   1.5871,   1.8420,2,20091206,       2149
318M20091121,        P06,      57,          1,          2,          2,2,20091206,       2139,   -30.0798,   174.5000,       3624,  3515.2,   1.8509,  34.6810,  34.6807,2,    155.0,2,   154.7,2,  126.80,2,   34.84,2,    0.00,2,    2.50,2,   0.007,2,   0.007,2,-999.000,1,        0,2,  -999.0,9,  -999.0,9,-999.0000,9,  -999.00,-999.000,9,-999.0000,9, -999.00,9, -999.00,9,  -999.0,9,  -999.0,-999.000,9,-999.000,  -999.0,9,-999.000,-999.0000, -999.00,   1.5743,   1.8510,2,20091206,       2144
318M20091121,        P06,      57,          1,          1,          1,2,20091206,       2139,   -30.0798,   174.5000,       3624,  3673.9,   1.8543,  34.6815,  34.6815,2,    154.7,2,   154.5,2,  127.18,2,   34.88,2,    0.00,2,    2.49,2,   0.005,2,   0.005,2,-999.000,1,        0,2,  -999.0,9,  2409.8,6,   7.5946,6,    25.00,-999.000,9,-999.0000,9, -999.00,9, -999.00,9,  -999.0,9,  -999.0,-999.000,9,-999.000,  -999.0,9,-999.000,-999.0000, -999.00,   1.5609,   1.8551,2,20091206,       2139